BOTTLE,20200204PRINUNIVRMK
EXPOCODE,SECT_ID,STNNBR,CASTNO,SAMPNO,BTLNBR,BTLNBR_FLAG_W,DATE,TIME,LATITUDE,LONGITUDE,DEPTH,CTDPRS,CTDTMP,CTDSAL,CTDSAL_FLAG_W,SALNTY,SALNTY_FLAG_W,OXYGEN,OXYGEN_FLAG_W,SILCAT,SILCAT_FLAG_W,NITRAT,NITRAT_FLAG_W,NITRIT,NITRIT_FLAG_W,PHSPHT,PHSPHT_FLAG_W,TCARBN,TCARBN_FLAG_W,ALKALI,ALKALI_FLAG_W,PH_TOT,PH_TOT_FLAG_W,PH_TMP,BTL_TIME
,,,,,,,,,,,METERS,DBAR,ITS-90,PSS-78,,PSS-78,,UMOL/KG,,UMOL/KG,,UMOL/KG,,UMOL/KG,,UMOL/KG,,UMOL/KG,,UMOL/KG,,,,DEG C,
  49UP20100417,RF1002,  3606,  1,     99,     99,2,20100430,0142, 23.7297, 132.0382, 3706,      0.0,  25.4532,  34.8519,2,-999.0000,9,    210.4,2,     1.03,2,     0.14,2,     0.00,2,     0.00,2,   -999.0,9,   -999.0,9,-999.0000,9,  -999.00,      318
  49UP20100417,RF1002,  3606,  1,     25,  22098,2,20100430,0142, 23.7297, 132.0382, 3706,     10.6,  25.4464,  34.8509,2,  34.8510,2,    209.1,2,     1.13,2,     0.06,2,     0.00,2,     0.00,2,   -999.0,9,   -999.0,9,-999.0000,9,  -999.00,      343
  49UP20100417,RF1002,  3606,  1,     24,  22097,2,20100430,0142, 23.7297, 132.0382, 3706,     27.4,  25.4514,  34.8511,2,-999.0000,9,    210.8,2,     1.01,2,     0.11,2,     0.00,2,     0.00,2,   -999.0,9,   -999.0,9,-999.0000,9,  -999.00,      341
  49UP20100417,RF1002,  3606,  1,     23,  22096,2,20100430,0142, 23.7297, 132.0382, 3706,     51.7,  23.9987,  34.8043,2,-999.0000,9,    216.4,2,     1.24,2,     0.00,2,     0.00,2,     0.00,2,   -999.0,9,   -999.0,9,-999.0000,9,  -999.00,      335
  49UP20100417,RF1002,  3606,  1,     22,  22095,2,20100430,0142, 23.7297, 132.0382, 3706,     77.9,  22.3885,  34.7689,2,-999.0000,9,    219.5,2,     1.34,2,     0.00,2,     0.00,2,     0.00,2,   -999.0,9,   -999.0,9,-999.0000,9,  -999.00,      334
  49UP20100417,RF1002,  3606,  1,     21,  22094,2,20100430,0142, 23.7297, 132.0382, 3706,    102.2,  21.7762,  34.7625,2,  34.7642,2,    221.3,2,     1.36,2,     0.04,2,     0.00,2,     0.00,2,   -999.0,9,   -999.0,9,-999.0000,9,  -999.00,      332
  49UP20100417,RF1002,  3606,  1,     20,  22093,2,20100430,0142, 23.7297, 132.0382, 3706,    152.7,  20.5442,  34.7214,2,-999.0000,9,    207.0,2,     2.00,2,     1.40,2,     0.02,2,     0.08,2,   -999.0,9,   -999.0,9,-999.0000,9,  -999.00,      330
  49UP20100417,RF1002,  3606,  1,     19,  22092,2,20100430,0142, 23.7297, 132.0382, 3706,    202.6,  19.3921,  34.7154,2,  34.7066,4,    210.5,2,     2.28,2,     1.94,2,     0.00,2,     0.10,2,   -999.0,9,   -999.0,9,-999.0000,9,  -999.00,      327
  49UP20100417,RF1002,  3606,  1,     18,  22091,2,20100430,0142, 23.7297, 132.0382, 3706,    252.4,  18.2307,  34.7591,2,-999.0000,9,    191.3,6,     4.31,6,     5.14,6,     0.00,6,     0.30,6,   -999.0,9,   -999.0,9,-999.0000,9,  -999.00,      325
  49UP20100417,RF1002,  3606,  1,     17,  22090,3,20100430,0142, 23.7297, 132.0382, 3706,    305.3,  16.8251,  34.7130,2,-999.0000,9,    188.9,2,     6.37,2,     7.15,2,     0.00,2,     0.44,2,   -999.0,9,   -999.0,9,-999.0000,9,  -999.00,      323
  49UP20100417,RF1002,  3606,  1,     16,  22089,3,20100430,0142, 23.7297, 132.0382, 3706,    407.5,  14.2690,  34.5342,2,  34.5349,2,    179.6,2,    14.19,2,    12.14,2,     0.00,2,     0.80,2,   -999.0,9,   -999.0,9,-999.0000,9,  -999.00,      318
  49UP20100417,RF1002,  3606,  1,     15,  22088,2,20100430,0142, 23.7297, 132.0382, 3706,    503.9,  10.9632,  34.3268,2,-999.0000,9,    160.7,2,    30.21,2,    19.42,2,     0.00,2,     1.33,2,   -999.0,9,   -999.0,9,-999.0000,9,  -999.00,      314
  49UP20100417,RF1002,  3606,  1,     14,  22087,2,20100430,0142, 23.7297, 132.0382, 3706,    609.3,   8.1838,  34.1981,2,  34.1992,2,    129.8,2,    50.01,2,    26.97,2,     0.00,2,     1.90,2,   -999.0,9,   -999.0,9,-999.0000,9,  -999.00,      310
  49UP20100417,RF1002,  3606,  1,     13,  22086,3,20100430,0142, 23.7297, 132.0382, 3706,    709.7,   5.8800,  34.1826,2,-999.0000,9,     89.9,2,    76.72,2,    34.41,2,     0.00,2,     2.44,2,   -999.0,9,   -999.0,9,-999.0000,9,  -999.00,      305
  49UP20100417,RF1002,  3606,  1,     12,  22085,2,20100430,0142, 23.7297, 132.0382, 3706,    813.5,   4.8080,  34.2641,2,  34.2623,2,     64.2,2,    96.92,2,    38.39,2,     0.00,2,     2.74,2,   -999.0,9,   -999.0,9,-999.0000,9,  -999.00,      302
  49UP20100417,RF1002,  3606,  1,     11,  22110,3,20100430,0142, 23.7297, 132.0382, 3706,    912.6,   4.1504,  34.3347,2,-999.0000,9,     56.9,2,   110.96,2,    39.82,2,     0.00,2,     2.82,2,   -999.0,9,   -999.0,9,-999.0000,9,  -999.00,      258
  49UP20100417,RF1002,  3606,  1,     10,  22083,2,20100430,0142, 23.7297, 132.0382, 3706,   1013.5,   3.7306,  34.3919,2,  34.3904,6,     57.6,6,   120.27,6,    40.61,6,     0.00,6,     2.87,6,   -999.0,9,   -999.0,9,-999.0000,9,  -999.00,      254
  49UP20100417,RF1002,  3606,  1,      8,  22081,2,20100430,0142, 23.7297, 132.0382, 3706,   1213.7,   3.2013,  34.4672,2,  34.4656,2,     65.3,2,   130.52,2,    40.51,2,     0.00,2,     2.85,2,   -999.0,9,   -999.0,9,-999.0000,9,  -999.00,      248
  49UP20100417,RF1002,  3606,  1,      7,  22080,2,20100430,0142, 23.7297, 132.0382, 3706,   1415.7,   2.7069,  34.5255,2,-999.0000,9,     80.6,2,   138.34,2,    39.92,2,     0.00,2,     2.80,2,   -999.0,9,   -999.0,9,-999.0000,9,  -999.00,      241
  49UP20100417,RF1002,  3606,  1,      6,  22079,2,20100430,0142, 23.7297, 132.0382, 3706,   1621.7,   2.3575,  34.5713,2,  34.5690,2,     96.2,2,   141.70,2,    39.12,2,     0.00,2,     2.73,2,   -999.0,9,   -999.0,9,-999.0000,9,  -999.00,      235
  49UP20100417,RF1002,  3606,  1,      5,  22078,2,20100430,0142, 23.7297, 132.0382, 3706,   1820.2,   2.1284,  34.5936,2,-999.0000,9,    105.5,2,   143.51,2,    38.78,2,     0.00,2,     2.69,2,   -999.0,9,   -999.0,9,-999.0000,9,  -999.00,      228
  49UP20100417,RF1002,  3606,  1,      4,  22077,2,20100430,0142, 23.7297, 132.0382, 3706,   2024.0,   1.9624,  34.6174,2,  34.6170,2,    116.5,2,   143.84,2,    38.21,2,     0.00,2,     2.64,2,   -999.0,9,   -999.0,9,-999.0000,9,  -999.00,      221
  49UP20100417,RF1002,  3606,  1,      3,  22076,2,20100430,0142, 23.7297, 132.0382, 3706,   2531.0,   1.7237,  34.6481,2,  34.6482,2,    132.1,2,   144.13,2,    37.33,2,     0.00,2,     2.57,2,   -999.0,9,   -999.0,9,-999.0000,9,  -999.00,      208
  49UP20100417,RF1002,  3606,  1,      2,  22075,2,20100430,0142, 23.7297, 132.0382, 3706,   3041.0,   1.6178,  34.6636,2,  34.6630,2,    141.8,2,   143.48,2,    36.64,2,     0.00,2,     2.52,2,   -999.0,9,   -999.0,9,-999.0000,9,  -999.00,      156
  49UP20100417,RF1002,  3606,  1,      1,  22074,2,20100430,0142, 23.7297, 132.0382, 3706,   3645.4,   1.5640,  34.6747,2,  34.6752,2,    150.2,2,   143.06,2,    36.37,2,     0.00,2,     2.51,2,   -999.0,9,   -999.0,9,-999.0000,9,  -999.00,      142
  49UP20100417,RF1002,  3608,  1,     99,     99,2,20100430,1248, 23.7157, 132.9698, 4372,      0.0,  25.9900,  34.8635,2,-999.0000,9,    206.7,2,     1.15,2,     0.01,2,     0.00,2,     0.00,2,   -999.0,9,   -999.0,9,-999.0000,9,  -999.00,     1348
  49UP20100417,RF1002,  3608,  1,     24,  22097,3,20100430,1248, 23.7157, 132.9698, 4372,     12.2,  25.9921,  34.8636,2,-999.0000,9,    207.1,2,     1.18,2,     0.14,2,     0.00,2,     0.00,2,   -999.0,9,   -999.0,9,-999.0000,9,  -999.00,     1409
  49UP20100417,RF1002,  3608,  1,     23,  22096,3,20100430,1248, 23.7157, 132.9698, 4372,     26.7,  26.0005,  34.8630,2,-999.0000,9,    207.3,2,     1.01,2,     0.05,2,     0.00,2,     0.00,2,   -999.0,9,   -999.0,9,-999.0000,9,  -999.00,     1408
  49UP20100417,RF1002,  3608,  1,     22,  22095,2,20100430,1248, 23.7157, 132.9698, 4372,     50.3,  25.4555,  34.8464,2,-999.0000,9,    209.9,2,     1.06,2,     0.00,2,     0.00,2,     0.00,2,   -999.0,9,   -999.0,9,-999.0000,9,  -999.00,     1405
  49UP20100417,RF1002,  3608,  1,     21,  22094,2,20100430,1248, 23.7157, 132.9698, 4372,     77.7,  23.2359,  34.7920,2,-999.0000,9,    215.2,2,     1.29,2,     0.01,2,     0.00,2,     0.00,2,   -999.0,9,   -999.0,9,-999.0000,9,  -999.00,     1403
  49UP20100417,RF1002,  3608,  1,     20,  22093,2,20100430,1248, 23.7157, 132.9698, 4372,    100.2,  21.8798,  34.7614,2,-999.0000,9,    221.4,2,     1.42,2,     0.01,2,     0.00,2,     0.00,2,   -999.0,9,   -999.0,9,-999.0000,9,  -999.00,     1401
  49UP20100417,RF1002,  3608,  1,     19,  22092,2,20100430,1248, 23.7157, 132.9698, 4372,    128.0,  21.5186,  34.7473,2,-999.0000,9,    220.4,2,     1.42,2,     0.10,2,     0.01,2,     0.00,2,   -999.0,9,   -999.0,9,-999.0000,9,  -999.00,     1400
  49UP20100417,RF1002,  3608,  1,     18,  22091,2,20100430,1248, 23.7157, 132.9698, 4372,    151.6,  21.1529,  34.7126,2,-999.0000,9,    213.6,2,     1.56,2,     0.31,2,     0.14,2,     0.00,2,   -999.0,9,   -999.0,9,-999.0000,9,  -999.00,     1357
  49UP20100417,RF1002,  3608,  1,     17,  22090,2,20100430,1248, 23.7157, 132.9698, 4372,    202.3,  19.9275,  34.7183,2,-999.0000,9,    204.8,2,     2.27,2,     1.95,2,     0.00,2,     0.10,2,   -999.0,9,   -999.0,9,-999.0000,9,  -999.00,     1355
  49UP20100417,RF1002,  3608,  1,     16,  22089,2,20100430,1248, 23.7157, 132.9698, 4372,    255.3,  18.6240,  34.7481,2,-999.0000,9,    194.8,2,     3.67,2,     4.12,2,     0.00,2,     0.23,2,   -999.0,9,   -999.0,9,-999.0000,9,  -999.00,     1351
  49UP20100417,RF1002,  3608,  1,     14,  22087,2,20100430,1248, 23.7157, 132.9698, 4372,    308.2,  17.6612,  34.7478,2,-999.0000,9,    190.9,6,     5.08,6,     5.84,6,     0.00,6,     0.35,6,   -999.0,9,   -999.0,9,-999.0000,9,  -999.00,     1347
  49UP20100417,RF1002,  3608,  1,     15,  22088,2,20100430,1248, 23.7157, 132.9698, 4372,    312.4,  17.4751,  34.7420,2,-999.0000,9,    190.9,2,     5.27,2,     5.99,2,     0.00,2,     0.36,2,   -999.0,9,   -999.0,9,-999.0000,9,  -999.00,     1347
  49UP20100417,RF1002,  3608,  1,     13,  22086,2,20100430,1248, 23.7157, 132.9698, 4372,    405.1,  14.5095,  34.5531,2,-999.0000,9,    179.6,2,    13.21,2,    11.59,2,     0.00,2,     0.76,2,   -999.0,9,   -999.0,9,-999.0000,9,  -999.00,     1342
  49UP20100417,RF1002,  3608,  1,     12,  22085,2,20100430,1248, 23.7157, 132.9698, 4372,    508.2,  11.2598,  34.3410,2,-999.0000,9,    164.0,2,    27.85,2,    18.40,2,     0.00,2,     1.25,2,   -999.0,9,   -999.0,9,-999.0000,9,  -999.00,     1338
  49UP20100417,RF1002,  3608,  1,     11,  22110,2,20100430,1248, 23.7157, 132.9698, 4372,    606.2,   8.1238,  34.1681,2,-999.0000,9,    137.4,2,    48.20,2,    26.17,2,     0.00,2,     1.83,2,   -999.0,9,   -999.0,9,-999.0000,9,  -999.00,     1333
  49UP20100417,RF1002,  3608,  1,     10,  22083,2,20100430,1248, 23.7157, 132.9698, 4372,    708.6,   5.9328,  34.1612,2,-999.0000,9,     94.4,2,    75.61,2,    33.76,2,     0.00,2,     2.41,2,   -999.0,9,   -999.0,9,-999.0000,9,  -999.00,     1329
  49UP20100417,RF1002,  3608,  1,      9,  22082,2,20100430,1248, 23.7157, 132.9698, 4372,    813.4,   4.9559,  34.2349,2,-999.0000,9,     69.9,2,    94.17,2,    37.54,2,     0.00,2,     2.68,2,   -999.0,9,   -999.0,9,-999.0000,9,  -999.00,     1325
  49UP20100417,RF1002,  3608,  1,      8,  22081,2,20100430,1248, 23.7157, 132.9698, 4372,    910.4,   4.4339,  34.2932,2,-999.0000,9,     61.0,2,   104.63,2,    39.11,2,     0.00,2,     2.80,2,   -999.0,9,   -999.0,9,-999.0000,9,  -999.00,     1321
  49UP20100417,RF1002,  3608,  1,      7,  22080,2,20100430,1248, 23.7157, 132.9698, 4372,   1013.1,   3.8854,  34.3667,2,-999.0000,9,     56.7,2,   116.65,2,    40.25,2,     0.00,2,     2.87,2,   -999.0,9,   -999.0,9,-999.0000,9,  -999.00,     1317
  49UP20100417,RF1002,  3608,  1,      6,  22079,2,20100430,1248, 23.7157, 132.9698, 4372,   1211.5,   3.1677,  34.4622,2,-999.0000,9,     65.0,2,   131.07,2,    40.65,2,     0.00,2,     2.87,2,   -999.0,9,   -999.0,9,-999.0000,9,  -999.00,     1310
  49UP20100417,RF1002,  3608,  1,      5,  22078,2,20100430,1248, 23.7157, 132.9698, 4372,   1211.7,   3.1732,  34.4612,2,-999.0000,9,     64.5,6,   131.17,6,    40.65,6,     0.00,6,     2.88,6,   -999.0,9,   -999.0,9,-999.0000,9,  -999.00,     1310
  49UP20100417,RF1002,  3608,  1,      4,  22077,2,20100430,1248, 23.7157, 132.9698, 4372,   1413.7,   2.7739,  34.5071,2,-999.0000,9,     75.3,2,   137.68,2,    40.14,2,     0.00,2,     2.83,2,   -999.0,9,   -999.0,9,-999.0000,9,  -999.00,     1304
  49UP20100417,RF1002,  3608,  1,      3,  22076,2,20100430,1248, 23.7157, 132.9698, 4372,   1617.2,   2.3550,  34.5609,2,-999.0000,9,     92.7,2,   141.73,2,    39.33,2,     0.00,2,     2.75,2,   -999.0,9,   -999.0,9,-999.0000,9,  -999.00,     1258
  49UP20100417,RF1002,  3608,  1,      2,  22075,2,20100430,1248, 23.7157, 132.9698, 4372,   1820.2,   2.1159,  34.5955,2,-999.0000,9,    107.1,2,   143.08,2,    38.56,2,     0.00,2,     2.70,2,   -999.0,9,   -999.0,9,-999.0000,9,  -999.00,     1253
  49UP20100417,RF1002,  3608,  1,      1,  22074,2,20100430,1248, 23.7157, 132.9698, 4372,   2023.8,   1.9377,  34.6195,2,-999.0000,9,    117.4,2,   143.48,2,    38.17,2,     0.00,2,     2.65,2,   -999.0,9,   -999.0,9,-999.0000,9,  -999.00,     1248
  49UP20100417,RF1002,  3611,  1,     99,     99,2,20100501,0249, 24.2348, 134.0062, 4916,      0.0,  25.3271,  34.8796,2,-999.0000,9,    209.2,2,     1.12,2,     0.00,2,     0.00,2,     0.00,2,   -999.0,9,   -999.0,9,-999.0000,9,  -999.00,      430
  49UP20100417,RF1002,  3611,  1,     24,  22097,2,20100501,0249, 24.2348, 134.0062, 4916,     11.4,  25.3318,  34.8797,2,  34.8793,2,    208.9,2,     1.02,2,     0.00,2,     0.00,2,     0.00,2,   -999.0,9,   -999.0,9,-999.0000,9,  -999.00,      504
  49UP20100417,RF1002,  3611,  1,     23,  22096,2,20100501,0249, 24.2348, 134.0062, 4916,     26.3,  25.3373,  34.8798,2,-999.0000,9,    210.2,2,     1.04,2,     0.00,2,     0.00,2,     0.00,2,   -999.0,9,   -999.0,9,-999.0000,9,  -999.00,      502
  49UP20100417,RF1002,  3611,  1,     22,  22095,3,20100501,0249, 24.2348, 134.0062, 4916,     52.2,  24.5976,  34.8425,2,-999.0000,9,    214.1,2,     1.19,2,     0.00,2,     0.00,2,     0.00,2,   -999.0,9,   -999.0,9,-999.0000,9,  -999.00,      456
  49UP20100417,RF1002,  3611,  1,     21,  22094,2,20100501,0249, 24.2348, 134.0062, 4916,     76.9,  22.4964,  34.7799,2,-999.0000,9,    222.1,2,     1.39,2,     0.00,2,     0.00,2,     0.00,2,   -999.0,9,   -999.0,9,-999.0000,9,  -999.00,      454
  49UP20100417,RF1002,  3611,  1,     20,  22093,2,20100501,0249, 24.2348, 134.0062, 4916,    100.9,  21.8390,  34.7648,2,  34.7648,2,    222.4,2,     1.41,2,     0.00,2,     0.00,2,     0.00,2,   -999.0,9,   -999.0,9,-999.0000,9,  -999.00,      452
  49UP20100417,RF1002,  3611,  1,     19,  22092,2,20100501,0249, 24.2348, 134.0062, 4916,    152.1,  20.4610,  34.7304,2,-999.0000,9,    201.8,2,     2.24,2,     1.57,2,     0.03,2,     0.10,2,   -999.0,9,   -999.0,9,-999.0000,9,  -999.00,      450
  49UP20100417,RF1002,  3611,  1,     18,  22091,2,20100501,0249, 24.2348, 134.0062, 4916,    202.0,  19.1218,  34.7689,2,  34.7674,2,    192.6,2,     3.09,2,     3.56,2,     0.00,2,     0.23,2,   -999.0,9,   -999.0,9,-999.0000,9,  -999.00,      447
  49UP20100417,RF1002,  3611,  1,     17,  22090,2,20100501,0249, 24.2348, 134.0062, 4916,    252.9,  18.1392,  34.7700,2,-999.0000,9,    192.5,2,     4.08,2,     4.96,2,     0.00,2,     0.31,2,   -999.0,9,   -999.0,9,-999.0000,9,  -999.00,      445
  49UP20100417,RF1002,  3611,  1,     16,  22089,2,20100501,0249, 24.2348, 134.0062, 4916,    303.2,  17.1784,  34.7346,2,-999.0000,9,    191.3,2,     5.60,2,     6.23,2,     0.00,2,     0.39,2,   -999.0,9,   -999.0,9,-999.0000,9,  -999.00,      442
  49UP20100417,RF1002,  3611,  1,     15,  22088,2,20100501,0249, 24.2348, 134.0062, 4916,    403.9,  14.6459,  34.5547,2,  34.5555,2,    184.1,6,    11.88,6,    10.94,6,     0.00,6,     0.73,6,   -999.0,9,   -999.0,9,-999.0000,9,  -999.00,      438
  49UP20100417,RF1002,  3611,  1,     14,  22087,2,20100501,0249, 24.2348, 134.0062, 4916,    504.4,  12.2930,  34.3732,2,-999.0000,9,    181.3,2,    18.60,2,    15.04,2,     0.00,2,     1.02,2,   -999.0,9,   -999.0,9,-999.0000,9,  -999.00,      434
  49UP20100417,RF1002,  3611,  1,     13,  22086,2,20100501,0249, 24.2348, 134.0062, 4916,    605.5,   8.9407,  34.1769,2,  34.1777,2,    150.4,2,    38.89,2,    23.68,2,     0.00,2,     1.67,2,   -999.0,9,   -999.0,9,-999.0000,9,  -999.00,      431
  49UP20100417,RF1002,  3611,  1,     12,  22085,2,20100501,0249, 24.2348, 134.0062, 4916,    706.6,   6.8024,  34.1352,2,-999.0000,9,    108.5,2,    62.04,2,    31.33,2,     0.00,2,     2.25,2,   -999.0,9,   -999.0,9,-999.0000,9,  -999.00,      427
  49UP20100417,RF1002,  3611,  1,     11,  22110,2,20100501,0249, 24.2348, 134.0062, 4916,    807.6,   5.2931,  34.1856,2,  34.1850,2,     79.0,2,    87.46,2,    36.47,2,     0.00,2,     2.59,2,   -999.0,9,   -999.0,9,-999.0000,9,  -999.00,      424
  49UP20100417,RF1002,  3611,  1,     10,  22083,2,20100501,0249, 24.2348, 134.0062, 4916,    908.5,   4.5780,  34.2636,2,-999.0000,9,     62.7,2,   102.23,2,    38.94,2,     0.00,2,     2.78,2,   -999.0,9,   -999.0,9,-999.0000,9,  -999.00,      420
  49UP20100417,RF1002,  3611,  1,      9,  22082,2,20100501,0249, 24.2348, 134.0062, 4916,   1010.5,   4.0616,  34.3343,2,  34.3340,2,     56.3,2,   113.64,2,    39.99,2,     0.00,2,     2.87,2,   -999.0,9,   -999.0,9,-999.0000,9,  -999.00,      417
  49UP20100417,RF1002,  3611,  1,      8,  22081,2,20100501,0249, 24.2348, 134.0062, 4916,   1210.3,   3.2553,  34.4306,2,  34.4308,2,     58.1,2,   131.40,2,    41.11,2,     0.00,2,     2.91,2,   -999.0,9,   -999.0,9,-999.0000,9,  -999.00,      411
  49UP20100417,RF1002,  3611,  1,      7,  22080,2,20100501,0249, 24.2348, 134.0062, 4916,   1417.1,   2.8066,  34.5003,2,-999.0000,9,     71.4,2,   138.41,2,    40.54,2,     0.00,2,     2.87,2,   -999.0,9,   -999.0,9,-999.0000,9,  -999.00,      405
  49UP20100417,RF1002,  3611,  1,      6,  22079,2,20100501,0249, 24.2348, 134.0062, 4916,   1618.7,   2.4984,  34.5566,2,  34.5562,2,     90.0,2,   140.73,2,    39.58,2,     0.00,2,     2.79,2,   -999.0,9,   -999.0,9,-999.0000,9,  -999.00,      359
  49UP20100417,RF1002,  3611,  1,      5,  22078,2,20100501,0249, 24.2348, 134.0062, 4916,   1820.2,   2.2397,  34.5866,2,-999.0000,9,    102.3,2,   142.73,2,    38.89,2,     0.00,2,     2.74,2,   -999.0,9,   -999.0,9,-999.0000,9,  -999.00,      354
  49UP20100417,RF1002,  3611,  1,      4,  22077,2,20100501,0249, 24.2348, 134.0062, 4916,   2022.5,   1.9905,  34.6135,2,  34.6137,2,    114.0,2,   144.06,2,    38.30,2,     0.00,2,     2.67,2,   -999.0,9,   -999.0,9,-999.0000,9,  -999.00,      349
  49UP20100417,RF1002,  3611,  1,      3,  22076,2,20100501,0249, 24.2348, 134.0062, 4916,   3042.8,   1.6136,  34.6634,2,  34.6638,2,    141.9,2,   143.82,2,    36.68,2,     0.00,2,     2.54,2,   -999.0,9,   -999.0,9,-999.0000,9,  -999.00,      328
  49UP20100417,RF1002,  3611,  1,      2,  22075,2,20100501,0249, 24.2348, 134.0062, 4916,   4065.4,   1.5691,  34.6785,2,  34.6775,2,    152.6,2,   142.94,2,    36.08,2,     0.00,2,     2.49,2,   -999.0,9,   -999.0,9,-999.0000,9,  -999.00,      308
  49UP20100417,RF1002,  3611,  1,      1,  22074,2,20100501,0249, 24.2348, 134.0062, 4916,   4939.8,   1.6375,  34.6814,2,  34.6803,2,    155.5,6,   142.27,6,    35.91,6,     0.00,6,     2.48,6,   -999.0,9,   -999.0,9,-999.0000,9,  -999.00,      249