BOTTLE,20200204PRINUNIVRMK
# Processed by CCHDO on 2021-06-02, no changes
# 08/30/2019 Initialized README file  
# Data source:  Masao Ishii 2018/11/30 
# SHIP: R/V Ryofu Maru III 
# Cruise: RF10-02 
# Region: North Pacific Ocean 
# EXPOCODE: 49UP20100417 
# DATES: 20100414 - 20100507 
# Chief Scientist: Tatsushi Shiga 
# 21 stations with 24 place Rosette 
# CTD: Who - Hitomi Kamiya; Status - final 
# 	Includes: CTDSAL 
# SALNTY: Who - Hitomi Kamiya; Status - final 
# 	Notes: 	 
# Nutrients: Who - Hitomi Kamiya; Status - final 
# 	Includes: nitrate, nitrite, silicate, phosphate 
# 	Nitrite and NO3+NO2 reported. Separated by subtraction 
# OXYGEN: Who - Hitomi Kamiya; Status - final 
# 	Notes: 
# TCARBN: Who - Hitomi Kamiya; Status - final 
# 	Notes:  
# ALKALI: Who - Hitomi Kamiya; Status - final 
# 	Notes:  
# PH: Who - Hitomi Kamiya; Status - final 
# 	Notes: total H+ scale at 25C 
# These data should be cited as: Shiga, Tatsushi; Kamiya, Hitomi; Ishii, Masao (2019). Dissolved inorganic carbon (DIC), total alkalinity, pH on total scale, temperature, salinity, oxygen, nutrients and other measurements collected from profile and discrete sample observations during the R/V Ryofu Maru III cruise RF10-02 (EXPOCODE 49UP20100417) in the North Pacific Ocean and East China Sea from 2010-04-14 to 2010-05-07 (NCEI Accession 0186556). [indicate subset used]. NOAA National Centers for Environmental Information. Dataset. https://doi.org/10.25921/x96t-ps49. Accessed [date].            
# References that have used data from this cruise: 
EXPOCODE,SECT_ID,STNNBR,CASTNO,SAMPNO,BTLNBR,BTLNBR_FLAG_W,DATE,TIME,LATITUDE,LONGITUDE,DEPTH,CTDPRS,CTDTMP,CTDSAL,CTDSAL_FLAG_W,SALNTY,SALNTY_FLAG_W,OXYGEN,OXYGEN_FLAG_W,SILCAT,SILCAT_FLAG_W,NITRAT,NITRAT_FLAG_W,NITRIT,NITRIT_FLAG_W,PHSPHT,PHSPHT_FLAG_W,TCARBN,TCARBN_FLAG_W,ALKALI,ALKALI_FLAG_W,PH_TOT,PH_TOT_FLAG_W,PH_TMP,BTL_TIME
,,,,,,,,,,,METERS,DBAR,ITS-90,PSS-78,,PSS-78,,UMOL/KG,,UMOL/KG,,UMOL/KG,,UMOL/KG,,UMOL/KG,,UMOL/KG,,UMOL/KG,,,,DEG C,
  49UP20100417,RF1002,  3574,  1,     23,  22096,3,20100417,1024, 28.3657, 130.5883, 2193,     11.5,  21.8253,  34.7330,2,  34.7317,2,   -999.0,9,  -999.00,9,  -999.00,9,  -999.00,9,  -999.00,9,   -999.0,9,   -999.0,9,-999.0000,9,  -999.00,     1149
  49UP20100417,RF1002,  3574,  1,     18,  22091,2,20100417,1024, 28.3657, 130.5883, 2193,    100.5,  20.9896,  34.7216,2,  34.7206,2,   -999.0,9,  -999.00,9,  -999.00,9,  -999.00,9,  -999.00,9,   -999.0,9,   -999.0,9,-999.0000,9,  -999.00,     1133
  49UP20100417,RF1002,  3574,  1,     15,  22088,2,20100417,1024, 28.3657, 130.5883, 2193,    202.7,  19.5072,  34.7108,2,  34.7087,2,   -999.0,9,  -999.00,9,  -999.00,9,  -999.00,9,  -999.00,9,   -999.0,9,   -999.0,9,-999.0000,9,  -999.00,     1124
  49UP20100417,RF1002,  3574,  1,     10,  22083,2,20100417,1024, 28.3657, 130.5883, 2193,    505.6,  11.4453,  34.3537,2,  34.3550,6,   -999.0,9,  -999.00,9,  -999.00,9,  -999.00,9,  -999.00,9,   -999.0,9,   -999.0,9,-999.0000,9,  -999.00,     1109
  49UP20100417,RF1002,  3574,  1,     11,  22084,3,20100417,1024, 28.3657, 130.5883, 2193,    506.6,  11.4173,  34.3526,2,  34.3497,2,   -999.0,9,  -999.00,9,  -999.00,9,  -999.00,9,  -999.00,9,   -999.0,9,   -999.0,9,-999.0000,9,  -999.00,     1110
  49UP20100417,RF1002,  3574,  1,      7,  22080,2,20100417,1024, 28.3657, 130.5883, 2193,    808.9,   5.1348,  34.2359,2,  34.2350,2,   -999.0,9,  -999.00,9,  -999.00,9,  -999.00,9,  -999.00,9,   -999.0,9,   -999.0,9,-999.0000,9,  -999.00,     1058
  49UP20100417,RF1002,  3574,  1,      5,  22078,2,20100417,1024, 28.3657, 130.5883, 2193,   1007.2,   3.7189,  34.3918,2,  34.3908,2,   -999.0,9,  -999.00,9,  -999.00,9,  -999.00,9,  -999.00,9,   -999.0,9,   -999.0,9,-999.0000,9,  -999.00,     1050
  49UP20100417,RF1002,  3574,  1,      4,  22077,2,20100417,1024, 28.3657, 130.5883, 2193,   1260.6,   2.9597,  34.4698,2,  34.4677,2,   -999.0,9,  -999.00,9,  -999.00,9,  -999.00,9,  -999.00,9,   -999.0,9,   -999.0,9,-999.0000,9,  -999.00,     1044
  49UP20100417,RF1002,  3574,  1,      3,  22076,2,20100417,1024, 28.3657, 130.5883, 2193,   1515.8,   2.5360,  34.5266,2,  34.5258,2,   -999.0,9,  -999.00,9,  -999.00,9,  -999.00,9,  -999.00,9,   -999.0,9,   -999.0,9,-999.0000,9,  -999.00,     1038
  49UP20100417,RF1002,  3574,  1,      2,  22075,2,20100417,1024, 28.3657, 130.5883, 2193,   1773.4,   2.2399,  34.5688,2,  34.5682,2,   -999.0,9,  -999.00,9,  -999.00,9,  -999.00,9,  -999.00,9,   -999.0,9,   -999.0,9,-999.0000,9,  -999.00,     1031
  49UP20100417,RF1002,  3574,  1,      1,  22074,2,20100417,1024, 28.3657, 130.5883, 2193,   2023.0,   2.0625,  34.5952,2,  34.5945,2,   -999.0,9,  -999.00,9,  -999.00,9,  -999.00,9,  -999.00,9,   -999.0,9,   -999.0,9,-999.0000,9,  -999.00,     1024
  49UP20100417,RF1002,  3575,  1,     99,     99,2,20100418,0013, 27.5003, 128.2343, 1004,      0.0,  21.3581,  34.7231,2,-999.0000,9,    222.1,2,     1.57,2,     0.01,2,     0.00,2,     0.00,2,   -999.0,9,   -999.0,9,-999.0000,9,  -999.00,       43
  49UP20100417,RF1002,  3575,  1,     20,  22093,2,20100418,0013, 27.5003, 128.2343, 1004,     10.6,  21.3552,  34.7228,2,  34.7225,2,    222.5,2,     1.26,2,     0.05,2,     0.00,2,     0.00,2,   -999.0,9,   -999.0,9,-999.0000,9,  -999.00,      106
  49UP20100417,RF1002,  3575,  1,     19,  22092,2,20100418,0013, 27.5003, 128.2343, 1004,     21.6,  21.3362,  34.7213,2,-999.0000,9,    222.2,2,     1.34,2,     0.11,2,     0.00,2,     0.00,2,   -999.0,9,   -999.0,9,-999.0000,9,  -999.00,      104
  49UP20100417,RF1002,  3575,  1,     18,  22091,2,20100418,0013, 27.5003, 128.2343, 1004,     31.4,  21.3395,  34.7213,2,-999.0000,9,    222.2,2,     1.30,2,     0.03,2,     0.00,2,     0.00,2,   -999.0,9,   -999.0,9,-999.0000,9,  -999.00,      102
  49UP20100417,RF1002,  3575,  1,     17,  22090,2,20100418,0013, 27.5003, 128.2343, 1004,     50.2,  21.1115,  34.6938,2,-999.0000,9,    223.4,2,     1.32,2,     0.04,2,     0.00,2,     0.00,2,   -999.0,9,   -999.0,9,-999.0000,9,  -999.00,       56
  49UP20100417,RF1002,  3575,  1,     16,  22089,2,20100418,0013, 27.5003, 128.2343, 1004,     75.8,  21.0793,  34.7050,2,-999.0000,9,    220.9,2,     1.21,2,     0.05,2,     0.07,2,     0.00,2,   -999.0,9,   -999.0,9,-999.0000,9,  -999.00,       54
  49UP20100417,RF1002,  3575,  1,     15,  22088,2,20100418,0013, 27.5003, 128.2343, 1004,     99.6,  20.9762,  34.7218,2,  34.7209,2,    217.9,2,     1.46,2,     0.24,2,     0.26,2,     0.01,2,   -999.0,9,   -999.0,9,-999.0000,9,  -999.00,       52
  49UP20100417,RF1002,  3575,  1,     14,  22087,2,20100418,0013, 27.5003, 128.2343, 1004,    125.1,  20.7610,  34.7203,2,-999.0000,9,    210.0,2,     2.01,2,     1.37,2,     0.05,2,     0.08,2,   -999.0,9,   -999.0,9,-999.0000,9,  -999.00,       50
  49UP20100417,RF1002,  3575,  1,     13,  22086,2,20100418,0013, 27.5003, 128.2343, 1004,    125.2,  20.7607,  34.7201,2,-999.0000,9,    209.1,6,     1.94,6,     1.43,6,     0.04,6,     0.08,6,   -999.0,9,   -999.0,9,-999.0000,9,  -999.00,       50
  49UP20100417,RF1002,  3575,  1,     12,  22085,2,20100418,0013, 27.5003, 128.2343, 1004,    151.2,  20.4224,  34.7286,2,-999.0000,9,    202.3,2,     2.49,2,     2.27,2,     0.02,2,     0.12,2,   -999.0,9,   -999.0,9,-999.0000,9,  -999.00,       48
  49UP20100417,RF1002,  3575,  1,     11,  22084,3,20100418,0013, 27.5003, 128.2343, 1004,    203.0,  18.8227,  34.7407,2,  34.7387,2,    188.9,2,     4.89,2,     5.02,2,     0.00,2,     0.31,2,   -999.0,9,   -999.0,9,-999.0000,9,  -999.00,       45
  49UP20100417,RF1002,  3575,  1,     10,  22083,2,20100418,0013, 27.5003, 128.2343, 1004,    253.0,  17.9912,  34.7380,2,-999.0000,9,    188.4,2,     5.69,2,     5.92,2,     0.00,2,     0.36,2,   -999.0,9,   -999.0,9,-999.0000,9,  -999.00,       42
  49UP20100417,RF1002,  3575,  1,      9,  22082,2,20100418,0013, 27.5003, 128.2343, 1004,    303.8,  16.3749,  34.6665,2,  34.6658,2,    182.4,2,    10.01,2,     8.87,2,     0.00,2,     0.58,2,   -999.0,9,   -999.0,9,-999.0000,9,  -999.00,       39
  49UP20100417,RF1002,  3575,  1,      8,  22081,2,20100418,0013, 27.5003, 128.2343, 1004,    408.4,  14.4333,  34.5531,2,  34.5529,2,    173.1,2,    16.90,2,    12.60,2,     0.00,2,     0.85,2,   -999.0,9,   -999.0,9,-999.0000,9,  -999.00,       35
  49UP20100417,RF1002,  3575,  1,      7,  22080,2,20100418,0013, 27.5003, 128.2343, 1004,    508.0,  11.0849,  34.3724,2,-999.0000,9,    153.0,2,    32.96,2,    19.77,2,     0.00,2,     1.38,2,   -999.0,9,   -999.0,9,-999.0000,9,  -999.00,       31
  49UP20100417,RF1002,  3575,  1,      5,  22078,2,20100418,0013, 27.5003, 128.2343, 1004,    606.2,   8.9678,  34.3611,2,  34.3611,6,    123.7,6,    56.66,6,    26.18,6,     0.00,6,     1.85,6,   -999.0,9,   -999.0,9,-999.0000,9,  -999.00,       26
  49UP20100417,RF1002,  3575,  1,      6,  22079,2,20100418,0013, 27.5003, 128.2343, 1004,    607.5,   8.9555,  34.3620,2,  34.3615,2,    123.8,2,    56.78,2,    26.32,2,     0.00,2,     1.85,2,   -999.0,9,   -999.0,9,-999.0000,9,  -999.00,       26
  49UP20100417,RF1002,  3575,  1,      4,  22077,2,20100418,0013, 27.5003, 128.2343, 1004,    705.6,   7.7292,  34.3520,2,-999.0000,9,    109.7,2,    69.56,2,    29.43,2,     0.00,2,     2.10,2,   -999.0,9,   -999.0,9,-999.0000,9,  -999.00,       22
  49UP20100417,RF1002,  3575,  1,      3,  22076,2,20100418,0013, 27.5003, 128.2343, 1004,    808.0,   6.7681,  34.3558,2,  34.3551,2,     99.0,2,    80.79,2,    32.09,2,     0.00,2,     2.29,2,   -999.0,9,   -999.0,9,-999.0000,9,  -999.00,       19
  49UP20100417,RF1002,  3575,  1,      2,  22075,2,20100418,0013, 27.5003, 128.2343, 1004,    908.5,   6.1050,  34.3597,2,-999.0000,9,     92.2,2,    88.36,2,    33.77,2,     0.00,2,     2.41,2,   -999.0,9,   -999.0,9,-999.0000,9,  -999.00,       15
  49UP20100417,RF1002,  3575,  1,      1,  22074,2,20100418,0013, 27.5003, 128.2343, 1004,    959.7,   5.8718,  34.3626,2,  34.3610,2,     89.4,2,    91.57,2,    34.33,2,     0.00,2,     2.45,2,   -999.0,9,   -999.0,9,-999.0000,9,  -999.00,       13
  49UP20100417,RF1002,  3577,  1,     99,     99,2,20100418,0552, 27.7792, 127.7950,  785,      0.0,  23.8058,  34.7599,2,-999.0000,9,    212.9,2,     1.69,2,     0.00,2,     0.00,2,     0.02,2,   -999.0,9,   -999.0,9,-999.0000,9,  -999.00,      609
  49UP20100417,RF1002,  3577,  1,     20,  22093,2,20100418,0552, 27.7792, 127.7950,  785,     11.7,  23.8044,  34.7588,2,-999.0000,9,    212.3,2,     1.60,2,    -0.01,2,     0.01,2,     0.01,2,   1954.9,2,   2282.4,2,   8.0877,2,    25.00,      631
  49UP20100417,RF1002,  3577,  1,     19,  22092,2,20100418,0552, 27.7792, 127.7950,  785,     22.2,  23.8117,  34.7597,2,-999.0000,9,    212.5,2,     1.46,2,    -0.01,2,     0.01,2,     0.02,2,   1958.9,2,   2278.8,2,   8.0876,2,    25.00,      629
  49UP20100417,RF1002,  3577,  1,     18,  22091,2,20100418,0552, 27.7792, 127.7950,  785,     31.8,  23.8034,  34.7610,2,-999.0000,9,    212.2,2,     1.56,2,    -0.01,2,     0.01,2,     0.01,2,   1959.9,2,   2287.4,2,   8.0890,2,    25.00,      628
  49UP20100417,RF1002,  3577,  1,     17,  22090,2,20100418,0552, 27.7792, 127.7950,  785,     50.4,  23.4602,  34.7656,2,-999.0000,9,    211.0,2,     1.57,2,     0.00,2,     0.03,2,     0.02,2,   1964.2,2,   2274.8,2,   8.0798,2,    25.00,      622
  49UP20100417,RF1002,  3577,  1,     16,  22089,2,20100418,0552, 27.7792, 127.7950,  785,     75.7,  22.9201,  34.7699,2,-999.0000,9,    212.7,2,     1.45,2,    -0.02,2,     0.02,2,     0.03,2,   1966.1,2,   2283.5,2,   8.0744,2,    25.00,      620
  49UP20100417,RF1002,  3577,  1,     15,  22088,2,20100418,0552, 27.7792, 127.7950,  785,    100.8,  21.6927,  34.7300,2,-999.0000,9,    216.6,2,     1.46,2,     0.00,2,     0.05,2,     0.03,2,   1978.1,6,   2279.2,6,   8.0638,6,    25.00,      619
  49UP20100417,RF1002,  3577,  1,     14,  22087,2,20100418,0552, 27.7792, 127.7950,  785,    127.7,  21.0274,  34.7167,2,-999.0000,9,    219.2,2,     1.59,2,     0.01,2,     0.10,2,     0.02,2,   1975.6,2,   2280.0,2,   8.0577,2,    25.00,      617
  49UP20100417,RF1002,  3577,  1,     12,  22085,2,20100418,0552, 27.7792, 127.7950,  785,    153.3,  20.9139,  34.7212,2,-999.0000,9,    215.9,6,     1.73,6,     0.42,6,     0.09,6,     0.04,6,   1973.2,6,   2277.9,6,   8.0511,6,    25.00,      614
  49UP20100417,RF1002,  3577,  1,     13,  22086,2,20100418,0552, 27.7792, 127.7950,  785,    156.7,  20.8150,  34.7286,2,-999.0000,9,    209.3,2,     2.11,2,     1.22,2,     0.06,2,     0.09,2,   1986.3,2,   2274.8,2,   8.0377,3,    25.00,      615
  49UP20100417,RF1002,  3577,  1,     11,  22084,3,20100418,0552, 27.7792, 127.7950,  785,    201.7,  19.5045,  34.7979,2,-999.0000,9,    187.3,2,     3.51,2,     3.71,2,     0.00,2,     0.25,2,   2025.1,2,   2281.3,2,   7.9748,2,    25.00,      612
  49UP20100417,RF1002,  3577,  1,     10,  22083,2,20100418,0552, 27.7792, 127.7950,  785,    257.2,  18.2120,  34.7709,2,-999.0000,9,    186.7,2,     5.03,2,     5.34,2,     0.00,2,     0.36,2,   2036.9,2,   2280.6,2,   7.9437,2,    25.00,      609
  49UP20100417,RF1002,  3577,  1,      9,  22082,2,20100418,0552, 27.7792, 127.7950,  785,    307.8,  16.7291,  34.6998,2,-999.0000,9,    186.4,2,     7.06,2,     7.41,2,     0.00,2,     0.50,2,   2051.4,2,   2282.9,2,   7.9106,2,    25.00,      606
  49UP20100417,RF1002,  3577,  1,      8,  22081,2,20100418,0552, 27.7792, 127.7950,  785,    404.5,  14.6512,  34.5546,2,-999.0000,9,    175.7,2,    14.47,2,    11.69,2,     0.00,2,     0.81,2,   2079.7,2,   2278.2,2,   7.8446,2,    25.00,      603
  49UP20100417,RF1002,  3577,  1,      7,  22080,2,20100418,0552, 27.7792, 127.7950,  785,    504.2,  11.8762,  34.3831,2,-999.0000,9,    163.4,2,    25.69,2,    17.43,2,     0.00,2,     1.24,2,   2118.6,2,   2274.5,2,   7.7482,2,    25.00,      600
  49UP20100417,RF1002,  3577,  1,      6,  22079,2,20100418,0552, 27.7792, 127.7950,  785,    601.9,   9.0988,  34.3015,2,-999.0000,9,    131.8,2,    48.88,2,    25.13,2,     0.00,2,     1.80,2,   2182.0,2,   2295.0,2,   7.6352,2,    25.00,      557
  49UP20100417,RF1002,  3577,  1,      5,  22078,2,20100418,0552, 27.7792, 127.7950,  785,    698.9,   7.1109,  34.3263,2,-999.0000,9,    103.8,2,    73.18,2,    31.03,2,     0.00,2,     2.22,2,   2239.0,2,   2311.8,2,   7.5424,2,    25.00,      555
  49UP20100417,RF1002,  3577,  1,      4,  22077,2,20100418,0552, 27.7792, 127.7950,  785,    702.9,   6.8794,  34.3258,2,-999.0000,9,    101.4,2,    75.39,6,    31.58,6,     0.00,6,     2.27,6,   2242.2,6,   2315.9,6,   7.5347,6,    25.00,      554
  49UP20100417,RF1002,  3577,  1,      3,  22076,2,20100418,0552, 27.7792, 127.7950,  785,    749.6,   6.3806,  34.3417,2,-999.0000,9,     94.4,2,    82.69,2,    32.92,2,     0.00,2,     2.37,2,   2255.7,6,   2321.0,6,   7.5136,6,    25.00,      552
  49UP20100417,RF1002,  3577,  1,      1,  22074,2,20100418,0552, 27.7792, 127.7950,  785,    749.7,   6.4288,  34.3403,2,-999.0000,9,     95.5,2,    81.43,2,    32.72,2,     0.00,2,     2.36,2,   -999.0,9,   -999.0,9,-999.0000,9,  -999.00,      551
  49UP20100417,RF1002,  3577,  1,      2,  22075,2,20100418,0552, 27.7792, 127.7950,  785,    749.9,   6.3594,  34.3438,2,-999.0000,9,     93.9,2,    82.67,2,    32.91,2,     0.00,2,     2.37,2,   -999.0,9,   -999.0,9,-999.0000,9,  -999.00,      552