BOTTLE,20200204PRINUNIVRMK
EXPOCODE,SECT_ID,STNNBR,CASTNO,SAMPNO,BTLNBR,BTLNBR_FLAG_W,DATE,TIME,LATITUDE,LONGITUDE,DEPTH,CTDPRS,CTDTMP,CTDSAL,CTDSAL_FLAG_W,SALNTY,SALNTY_FLAG_W,OXYGEN,OXYGEN_FLAG_W,SILCAT,SILCAT_FLAG_W,NITRAT,NITRAT_FLAG_W,NITRIT,NITRIT_FLAG_W,PHSPHT,PHSPHT_FLAG_W,TCARBN,TCARBN_FLAG_W,ALKALI,ALKALI_FLAG_W,PH_TOT,PH_TOT_FLAG_W,PH_TMP,BTL_TIME
,,,,,,,,,,,METERS,DBAR,ITS-90,PSS-78,,PSS-78,,UMOL/KG,,UMOL/KG,,UMOL/KG,,UMOL/KG,,UMOL/KG,,UMOL/KG,,UMOL/KG,,,,DEG C,
  49UP20100417,RF1002,  3580,  1,     99,     99,2,20100418,1408, 28.1202, 127.3568,  980,      0.0,  23.9385,  34.7790,2,-999.0000,9,    211.1,2,     1.29,2,     0.08,2,     0.00,2,     0.03,2,   -999.0,9,   -999.0,9,-999.0000,9,  -999.00,     1440
  49UP20100417,RF1002,  3580,  1,     21,  22094,2,20100418,1408, 28.1202, 127.3568,  980,     10.7,  23.9477,  34.7787,2,  34.7794,2,    211.0,2,     1.21,2,     0.07,2,     0.00,2,     0.02,2,   1967.8,2,   2293.1,2,   8.0900,2,    25.00,     1456
  49UP20100417,RF1002,  3580,  1,     20,  22093,2,20100418,1408, 28.1202, 127.3568,  980,     21.8,  23.9447,  34.7788,2,-999.0000,9,    210.9,2,     1.39,2,     0.03,2,     0.00,2,     0.03,2,   1968.4,2,   2289.4,2,   8.0869,2,    25.00,     1454
  49UP20100417,RF1002,  3580,  1,     19,  22092,2,20100418,1408, 28.1202, 127.3568,  980,     31.7,  23.9588,  34.7791,2,-999.0000,9,    210.9,2,     1.35,2,     0.09,2,     0.00,2,     0.03,2,   1967.5,2,   2287.9,2,   8.0918,2,    25.00,     1452
  49UP20100417,RF1002,  3580,  1,     18,  22091,2,20100418,1408, 28.1202, 127.3568,  980,     49.5,  23.9645,  34.7792,2,-999.0000,9,    211.0,2,     1.32,2,     0.01,2,     0.00,2,     0.02,2,   1966.4,2,   2292.2,2,   8.0851,2,    25.00,     1447
  49UP20100417,RF1002,  3580,  1,     17,  22090,2,20100418,1408, 28.1202, 127.3568,  980,     76.2,  23.9738,  34.7796,2,-999.0000,9,    210.8,2,     1.42,2,     0.00,2,     0.00,2,     0.03,2,   1965.3,2,   2296.5,2,   8.0835,2,    25.00,     1445
  49UP20100417,RF1002,  3580,  1,     16,  22089,2,20100418,1408, 28.1202, 127.3568,  980,     99.2,  23.9748,  34.7789,2,  34.7792,2,    211.0,2,     1.36,2,     0.01,2,     0.00,2,     0.02,2,   1964.2,6,   2342.2,4,   8.0831,6,    25.00,     1443
  49UP20100417,RF1002,  3580,  1,     15,  22088,2,20100418,1408, 28.1202, 127.3568,  980,    124.8,  23.3798,  34.7566,2,-999.0000,9,    202.0,2,     1.69,2,     0.77,2,     0.06,2,     0.07,2,   1977.3,2,   2336.8,4,   8.0538,3,    25.00,     1441
  49UP20100417,RF1002,  3580,  1,     14,  22087,2,20100418,1408, 28.1202, 127.3568,  980,    150.3,  23.2155,  34.7565,2,-999.0000,9,    202.4,2,     1.63,2,     0.78,2,     0.05,2,     0.06,2,   1977.7,2,   2339.4,4,   8.0579,2,    25.00,     1439
  49UP20100417,RF1002,  3580,  1,     12,  22085,2,20100418,1408, 28.1202, 127.3568,  980,    200.5,  20.8722,  34.7608,2,  34.7621,6,    188.8,6,     3.64,6,     3.33,6,     0.02,6,     0.22,6,   2014.7,6,   2286.8,6,   7.9969,6,    25.00,     1436
  49UP20100417,RF1002,  3580,  1,     13,  22086,2,20100418,1408, 28.1202, 127.3568,  980,    202.0,  20.7255,  34.7627,2,  34.7619,2,    188.9,2,     3.75,2,     3.41,2,     0.01,2,     0.22,2,   2012.9,2,   2285.3,2,   7.9947,2,    25.00,     1437
  49UP20100417,RF1002,  3580,  1,     11,  22084,3,20100418,1408, 28.1202, 127.3568,  980,    250.7,  18.2541,  34.7329,2,-999.0000,9,    181.1,2,     6.80,2,     6.49,2,     0.00,2,     0.44,2,   2045.6,2,   2289.6,2,   7.9339,2,    25.00,     1434
  49UP20100417,RF1002,  3580,  1,     10,  22083,2,20100418,1408, 28.1202, 127.3568,  980,    303.9,  15.9842,  34.6371,2,  34.6385,2,    177.5,2,    11.59,2,     9.76,2,     0.00,2,     0.67,2,   2071.8,2,   2288.0,2,   7.8836,2,    25.00,     1431
  49UP20100417,RF1002,  3580,  1,      9,  22082,2,20100418,1408, 28.1202, 127.3568,  980,    404.2,  12.4251,  34.4192,2,  34.4211,2,    166.4,2,    23.07,2,    16.18,2,     0.00,2,     1.13,2,   2121.4,2,   2283.1,2,   7.7884,2,    25.00,     1428
  49UP20100417,RF1002,  3580,  1,      8,  22081,2,20100418,1408, 28.1202, 127.3568,  980,    505.0,  10.1900,  34.3191,2,-999.0000,9,    146.1,2,    37.84,2,    21.92,2,     0.00,2,     1.54,2,   2159.1,2,   2295.1,2,   7.6998,2,    25.00,     1424
  49UP20100417,RF1002,  3580,  1,      7,  22080,2,20100418,1408, 28.1202, 127.3568,  980,    606.3,   7.8378,  34.3145,2,  34.3158,2,    114.0,2,    64.10,2,    28.82,2,     0.00,2,     2.04,2,   2219.8,2,   2316.5,2,   7.6142,2,    25.00,     1420
  49UP20100417,RF1002,  3580,  1,      6,  22079,2,20100418,1408, 28.1202, 127.3568,  980,    705.1,   6.2392,  34.3405,2,-999.0000,9,     93.2,2,    83.89,2,    33.36,2,     0.00,2,     2.37,2,   2266.7,2,   2338.6,2,   7.5555,2,    25.00,     1417
  49UP20100417,RF1002,  3580,  1,      5,  22078,2,20100418,1408, 28.1202, 127.3568,  980,    804.0,   5.6284,  34.3594,2,  34.3604,2,     86.8,2,    92.54,2,    34.89,2,     0.00,2,     2.49,2,   2280.0,2,   2349.6,2,   7.5318,2,    25.00,     1413
  49UP20100417,RF1002,  3580,  1,      4,  22077,2,20100418,1408, 28.1202, 127.3568,  980,    805.0,   5.6211,  34.3594,2,  34.3604,6,     86.0,6,    92.68,6,    34.92,6,     0.00,6,     2.49,6,   2285.0,6,   2350.5,6,   7.5309,6,    25.00,     1413
  49UP20100417,RF1002,  3580,  1,      3,  22076,2,20100418,1408, 28.1202, 127.3568,  980,    903.4,   4.9230,  34.3934,2,-999.0000,9,     78.9,2,   104.21,2,    36.30,2,     0.00,2,     2.60,2,   2305.4,6,   2364.1,6,   7.5233,6,    25.00,     1410
  49UP20100417,RF1002,  3580,  1,      2,  22075,2,20100418,1408, 28.1202, 127.3568,  980,    905.8,   4.9157,  34.3935,2,  34.3937,2,     79.0,2,   104.36,2,    36.50,2,     0.00,2,     2.61,2,   -999.0,9,   -999.0,9,-999.0000,9,  -999.00,     1409
  49UP20100417,RF1002,  3580,  1,      1,  22074,2,20100418,1408, 28.1202, 127.3568,  980,    908.3,   4.9032,  34.3937,2,  34.3941,2,     78.7,2,   104.54,2,    36.62,2,     0.00,2,     2.61,2,   -999.0,9,   -999.0,9,-999.0000,9,  -999.00,     1408
  49UP20100417,RF1002,  3582,  1,     99,     99,2,20100418,1911, 28.2718, 127.1440,  975,      0.0,  23.9717,  34.6322,2,-999.0000,9,    209.4,2,     1.60,2,    -0.01,2,     0.09,2,     0.04,2,   -999.0,9,   -999.0,9,-999.0000,9,  -999.00,     1930
  49UP20100417,RF1002,  3582,  1,     20,  22093,2,20100418,1911, 28.2718, 127.1440,  975,     13.6,  23.9726,  34.6315,2,-999.0000,9,    210.1,2,     1.64,2,    -0.02,2,     0.07,2,     0.03,2,   -999.0,9,   -999.0,9,-999.0000,9,  -999.00,     1959
  49UP20100417,RF1002,  3582,  1,     19,  22092,2,20100418,1911, 28.2718, 127.1440,  975,     22.2,  23.9693,  34.6306,2,-999.0000,9,    209.7,2,     1.60,2,    -0.08,2,     0.08,2,     0.03,2,   -999.0,9,   -999.0,9,-999.0000,9,  -999.00,     1957
  49UP20100417,RF1002,  3582,  1,     18,  22091,2,20100418,1911, 28.2718, 127.1440,  975,     30.5,  23.9761,  34.6312,2,-999.0000,9,    209.4,2,     1.54,2,    -0.05,2,     0.07,2,     0.03,2,   -999.0,9,   -999.0,9,-999.0000,9,  -999.00,     1955
  49UP20100417,RF1002,  3582,  1,     17,  22090,2,20100418,1911, 28.2718, 127.1440,  975,     54.2,  23.9898,  34.6343,2,-999.0000,9,    209.5,2,     1.53,2,    -0.04,2,     0.08,2,     0.03,2,   -999.0,9,   -999.0,9,-999.0000,9,  -999.00,     1948
  49UP20100417,RF1002,  3582,  1,     16,  22089,2,20100418,1911, 28.2718, 127.1440,  975,     76.1,  23.9929,  34.6340,2,-999.0000,9,    209.7,2,     1.53,2,     0.03,2,     0.08,2,     0.03,2,   -999.0,9,   -999.0,9,-999.0000,9,  -999.00,     1947
  49UP20100417,RF1002,  3582,  1,     15,  22088,2,20100418,1911, 28.2718, 127.1440,  975,    100.8,  23.4604,  34.6721,2,-999.0000,9,    193.7,2,     2.75,2,     1.60,2,     0.16,2,     0.13,2,   -999.0,9,   -999.0,9,-999.0000,9,  -999.00,     1945
  49UP20100417,RF1002,  3582,  1,     14,  22087,2,20100418,1911, 28.2718, 127.1440,  975,    126.7,  21.5781,  34.7249,2,-999.0000,9,    191.8,2,     4.49,2,     2.85,2,     0.31,2,     0.23,2,   -999.0,9,   -999.0,9,-999.0000,9,  -999.00,     1943
  49UP20100417,RF1002,  3582,  1,     13,  22086,2,20100418,1911, 28.2718, 127.1440,  975,    153.3,  20.5365,  34.7972,2,-999.0000,9,    187.9,2,     2.77,2,     2.73,2,     0.01,2,     0.19,2,   -999.0,9,   -999.0,9,-999.0000,9,  -999.00,     1942
  49UP20100417,RF1002,  3582,  1,     12,  22085,2,20100418,1911, 28.2718, 127.1440,  975,    200.6,  17.5255,  34.6651,2,-999.0000,9,    175.0,2,    10.24,2,     8.24,2,     0.02,2,     0.56,2,   -999.0,9,   -999.0,9,-999.0000,9,  -999.00,     1939
  49UP20100417,RF1002,  3582,  1,     10,  22083,2,20100418,1911, 28.2718, 127.1440,  975,    251.2,  16.1084,  34.6495,2,-999.0000,9,    181.3,6,     9.73,6,     8.92,6,     0.01,6,     0.61,6,   -999.0,9,   -999.0,9,-999.0000,9,  -999.00,     1937
  49UP20100417,RF1002,  3582,  1,     11,  22084,3,20100418,1911, 28.2718, 127.1440,  975,    253.2,  16.0166,  34.6442,2,-999.0000,9,    181.6,2,     9.79,2,     9.07,2,     0.00,2,     0.61,2,   -999.0,9,   -999.0,9,-999.0000,9,  -999.00,     1937
  49UP20100417,RF1002,  3582,  1,      9,  22082,2,20100418,1911, 28.2718, 127.1440,  975,    303.5,  13.6537,  34.4968,2,-999.0000,9,    170.0,2,    18.88,2,    13.88,2,     0.01,2,     0.97,2,   -999.0,9,   -999.0,9,-999.0000,9,  -999.00,     1935
  49UP20100417,RF1002,  3582,  1,      8,  22081,3,20100418,1911, 28.2718, 127.1440,  975,    407.8,  11.0410,  34.3164,2,-999.0000,9,    162.4,2,    27.05,2,    18.82,2,     0.01,2,     1.31,2,   -999.0,9,   -999.0,9,-999.0000,9,  -999.00,     1931
  49UP20100417,RF1002,  3582,  1,      7,  22080,2,20100418,1911, 28.2718, 127.1440,  975,    506.2,   8.5376,  34.2565,2,-999.0000,9,    128.5,2,    50.38,2,    26.36,2,     0.01,2,     1.88,2,   -999.0,9,   -999.0,9,-999.0000,9,  -999.00,     1927
  49UP20100417,RF1002,  3582,  1,      6,  22079,2,20100418,1911, 28.2718, 127.1440,  975,    609.0,   7.0179,  34.3269,2,-999.0000,9,    101.2,2,    74.36,2,    31.20,2,     0.00,2,     2.23,2,   -999.0,9,   -999.0,9,-999.0000,9,  -999.00,     1923
  49UP20100417,RF1002,  3582,  1,      5,  22078,2,20100418,1911, 28.2718, 127.1440,  975,    711.8,   5.9770,  34.3585,2,-999.0000,9,     89.3,2,    89.14,2,    34.02,2,     0.01,2,     2.43,2,   -999.0,9,   -999.0,9,-999.0000,9,  -999.00,     1917
  49UP20100417,RF1002,  3582,  1,      4,  22077,2,20100418,1911, 28.2718, 127.1440,  975,    793.2,   5.5272,  34.3739,2,-999.0000,9,     85.1,2,    96.14,2,    35.02,2,     0.00,2,     2.51,2,   -999.0,9,   -999.0,9,-999.0000,9,  -999.00,     1915
  49UP20100417,RF1002,  3582,  1,      3,  22076,2,20100418,1911, 28.2718, 127.1440,  975,    876.9,   5.1740,  34.3867,2,-999.0000,9,     80.8,2,   101.61,2,    36.07,2,     0.00,2,     2.58,2,   -999.0,9,   -999.0,9,-999.0000,9,  -999.00,     1913
  49UP20100417,RF1002,  3582,  1,      2,  22075,2,20100418,1911, 28.2718, 127.1440,  975,    900.7,   5.0806,  34.3905,2,-999.0000,9,     79.9,6,   102.97,6,    36.19,6,     0.01,6,     2.59,6,   -999.0,9,   -999.0,9,-999.0000,9,  -999.00,     1913
  49UP20100417,RF1002,  3582,  1,      1,  22074,2,20100418,1911, 28.2718, 127.1440,  975,    932.8,   5.0252,  34.3928,2,-999.0000,9,     79.4,2,   103.72,2,    36.28,2,     0.01,2,     2.60,2,   -999.0,9,   -999.0,9,-999.0000,9,  -999.00,     1911
  49UP20100417,RF1002,  3584,  1,     99,     99,2,20100419,0017, 28.4205, 126.8758,  253,      0.0,  21.7430,  34.6864,2,-999.0000,9,    220.6,2,     2.18,2,     0.52,2,     0.07,2,     0.04,2,   -999.0,9,   -999.0,9,-999.0000,9,  -999.00,       25
  49UP20100417,RF1002,  3584,  1,     12,  22085,2,20100419,0017, 28.4205, 126.8758,  253,     10.6,  21.7288,  34.6845,2,  34.6850,2,    220.6,2,     2.32,2,     0.37,2,     0.08,2,     0.04,2,   -999.0,9,   -999.0,9,-999.0000,9,  -999.00,       42
  49UP20100417,RF1002,  3584,  1,     11,  22084,3,20100419,0017, 28.4205, 126.8758,  253,     22.2,  21.7343,  34.6860,2,-999.0000,9,    220.9,2,     2.25,2,     0.31,2,     0.07,2,     0.04,2,   -999.0,9,   -999.0,9,-999.0000,9,  -999.00,       40
  49UP20100417,RF1002,  3584,  1,     10,  22083,2,20100419,0017, 28.4205, 126.8758,  253,     31.6,  21.7259,  34.6850,2,-999.0000,9,    220.9,2,     2.29,2,     0.33,2,     0.07,2,     0.04,2,   -999.0,9,   -999.0,9,-999.0000,9,  -999.00,       37
  49UP20100417,RF1002,  3584,  1,      9,  22082,2,20100419,0017, 28.4205, 126.8758,  253,     50.0,  19.4223,  34.3445,2,-999.0000,9,    224.0,2,     3.80,2,     1.76,2,     0.56,2,     0.14,2,   -999.0,9,   -999.0,9,-999.0000,9,  -999.00,       30
  49UP20100417,RF1002,  3584,  1,      8,  22081,2,20100419,0017, 28.4205, 126.8758,  253,     75.4,  18.3111,  34.1790,2,-999.0000,9,    223.8,2,     5.34,2,     3.37,2,     0.63,2,     0.22,2,   -999.0,9,   -999.0,9,-999.0000,9,  -999.00,       29
  49UP20100417,RF1002,  3584,  1,      7,  22080,2,20100419,0017, 28.4205, 126.8758,  253,    102.0,  18.4185,  34.2960,2,  34.3077,4,    209.2,2,     7.18,2,     4.91,2,     0.28,2,     0.30,2,   -999.0,9,   -999.0,9,-999.0000,9,  -999.00,       27
  49UP20100417,RF1002,  3584,  1,      6,  22079,2,20100419,0017, 28.4205, 126.8758,  253,    125.2,  18.3245,  34.4730,2,-999.0000,9,    192.2,2,    10.05,2,     6.78,2,     0.03,2,     0.43,2,   -999.0,9,   -999.0,9,-999.0000,9,  -999.00,       25
  49UP20100417,RF1002,  3584,  1,      5,  22078,2,20100419,0017, 28.4205, 126.8758,  253,    154.4,  17.7952,  34.5414,2,-999.0000,9,    179.5,2,    12.74,2,     8.34,2,     0.02,2,     0.55,2,   -999.0,9,   -999.0,9,-999.0000,9,  -999.00,       23
  49UP20100417,RF1002,  3584,  1,      3,  22076,2,20100419,0017, 28.4205, 126.8758,  253,    205.0,  14.9942,  34.5191,2,  34.5196,6,    163.0,6,    20.86,6,    13.26,6,     0.16,6,     0.92,6,   -999.0,9,   -999.0,9,-999.0000,9,  -999.00,       19
  49UP20100417,RF1002,  3584,  1,      4,  22077,2,20100419,0017, 28.4205, 126.8758,  253,    205.3,  14.9657,  34.5193,2,  34.5195,2,    162.6,2,    20.87,2,    13.25,2,     0.16,2,     0.92,2,   -999.0,9,   -999.0,9,-999.0000,9,  -999.00,       20
  49UP20100417,RF1002,  3584,  1,      2,  22075,2,20100419,0017, 28.4205, 126.8758,  253,    207.1,  14.5969,  34.5067,2,-999.0000,9,    162.1,2,    21.91,2,    13.71,2,     0.16,2,     0.96,2,   -999.0,9,   -999.0,9,-999.0000,9,  -999.00,       18
  49UP20100417,RF1002,  3584,  1,      1,  22074,2,20100419,0017, 28.4205, 126.8758,  253,    209.0,  14.2547,  34.5002,2,  34.5027,2,    160.8,2,    22.93,2,    14.41,2,     0.15,2,     1.00,2,   -999.0,9,   -999.0,9,-999.0000,9,  -999.00,       17
  49UP20100417,RF1002,  3586,  1,     99,     99,2,20100419,0337, 28.5588, 126.6793,  152,      0.0,  22.1637,  34.6902,2,-999.0000,9,    225.7,2,     1.99,2,     0.19,2,  -999.00,5,     0.03,2,   -999.0,9,   -999.0,9,-999.0000,9,  -999.00,      407
  49UP20100417,RF1002,  3586,  1,      9,  22082,2,20100419,0337, 28.5588, 126.6793,  152,     10.8,  22.1602,  34.6902,2,-999.0000,9,    226.4,2,     1.89,2,     0.21,2,  -999.00,5,     0.11,2,   -999.0,9,   -999.0,9,-999.0000,9,  -999.00,      353
  49UP20100417,RF1002,  3586,  1,      8,  22081,2,20100419,0337, 28.5588, 126.6793,  152,     21.1,  22.1618,  34.6900,2,-999.0000,9,    226.6,2,     1.87,2,     0.15,2,  -999.00,5,     0.04,2,   -999.0,9,   -999.0,9,-999.0000,9,  -999.00,      351
  49UP20100417,RF1002,  3586,  1,      7,  22080,2,20100419,0337, 28.5588, 126.6793,  152,     30.5,  21.8402,  34.6667,2,-999.0000,9,    224.8,2,     2.32,2,     0.45,2,  -999.00,5,     0.06,2,   -999.0,9,   -999.0,9,-999.0000,9,  -999.00,      349
  49UP20100417,RF1002,  3586,  1,      6,  22079,2,20100419,0337, 28.5588, 126.6793,  152,     52.8,  19.7060,  34.4017,2,-999.0000,9,    231.0,2,     3.66,2,     1.65,2,  -999.00,5,     0.13,2,   -999.0,9,   -999.0,9,-999.0000,9,  -999.00,      346
  49UP20100417,RF1002,  3586,  1,      5,  22078,2,20100419,0337, 28.5588, 126.6793,  152,     77.9,  19.0027,  34.3976,2,-999.0000,9,    230.9,4,     6.76,4,     5.19,4,  -999.00,5,     0.32,4,   -999.0,9,   -999.0,9,-999.0000,9,  -999.00,      344
  49UP20100417,RF1002,  3586,  1,      4,  22077,2,20100419,0337, 28.5588, 126.6793,  152,    101.3,  18.7032,  34.4810,2,-999.0000,9,    209.7,4,     6.80,4,     5.09,4,  -999.00,5,     0.31,4,   -999.0,9,   -999.0,9,-999.0000,9,  -999.00,      341
  49UP20100417,RF1002,  3586,  1,      1,  22074,2,20100419,0337, 28.5588, 126.6793,  152,    125.7,  15.1581,  34.5069,2,-999.0000,9,    171.9,6,    19.95,6,    12.71,6,  -999.00,5,     0.87,6,   -999.0,9,   -999.0,9,-999.0000,9,  -999.00,      337
  49UP20100417,RF1002,  3586,  1,      3,  22076,2,20100419,0337, 28.5588, 126.6793,  152,    126.2,  15.0870,  34.5076,2,-999.0000,9,    172.0,2,    19.91,2,    12.66,2,  -999.00,5,     0.87,2,   -999.0,9,   -999.0,9,-999.0000,9,  -999.00,      338
  49UP20100417,RF1002,  3586,  1,      2,  22075,2,20100419,0337, 28.5588, 126.6793,  152,    126.9,  15.0837,  34.5096,2,-999.0000,9,    171.9,2,    19.96,2,    12.72,2,  -999.00,5,     0.87,2,   -999.0,9,   -999.0,9,-999.0000,9,  -999.00,      337
  49UP20100417,RF1002,  3588,  1,     99,     99,2,20100419,0657, 28.7090, 126.4508,  127,      0.0,  20.1203,  34.5978,2,-999.0000,9,    229.9,2,     3.64,2,     0.85,2,     0.08,2,     0.09,2,   -999.0,9,   -999.0,9,-999.0000,9,  -999.00,      658
  49UP20100417,RF1002,  3588,  1,      8,  22081,2,20100419,0657, 28.7090, 126.4508,  127,     11.3,  20.1234,  34.5928,2,-999.0000,9,    231.1,2,     3.60,2,     0.63,2,     0.07,2,     0.07,2,   -999.0,9,   -999.0,9,-999.0000,9,  -999.00,      709
  49UP20100417,RF1002,  3588,  1,      7,  22080,2,20100419,0657, 28.7090, 126.4508,  127,     21.9,  20.1073,  34.6147,2,-999.0000,9,    229.8,2,     3.66,2,     0.72,2,     0.08,2,     0.07,2,   -999.0,9,   -999.0,9,-999.0000,9,  -999.00,      707
  49UP20100417,RF1002,  3588,  1,      6,  22079,2,20100419,0657, 28.7090, 126.4508,  127,     32.3,  20.0457,  34.6216,2,-999.0000,9,    226.5,2,     3.91,2,     1.07,2,     0.12,2,     0.09,2,   -999.0,9,   -999.0,9,-999.0000,9,  -999.00,      706
  49UP20100417,RF1002,  3588,  1,      5,  22078,2,20100419,0657, 28.7090, 126.4508,  127,     51.4,  19.0210,  34.5244,2,-999.0000,9,    198.1,2,     7.72,2,     5.23,2,     0.12,2,     0.36,2,   -999.0,9,   -999.0,9,-999.0000,9,  -999.00,      704
  49UP20100417,RF1002,  3588,  1,      4,  22077,2,20100419,0657, 28.7090, 126.4508,  127,     76.4,  17.9206,  34.4708,2,-999.0000,9,    195.8,2,    11.29,2,     6.79,2,     0.08,2,     0.46,2,   -999.0,9,   -999.0,9,-999.0000,9,  -999.00,      701
  49UP20100417,RF1002,  3588,  1,      3,  22076,3,20100419,0657, 28.7090, 126.4508,  127,    103.0,  17.2894,  34.4157,2,-999.0000,9,    199.8,2,    13.05,2,     7.02,2,     0.36,2,     0.50,2,   -999.0,9,   -999.0,9,-999.0000,9,  -999.00,      659
  49UP20100417,RF1002,  3588,  1,      1,  22074,2,20100419,0657, 28.7090, 126.4508,  127,    111.1,  17.1214,  34.4276,2,-999.0000,9,    191.2,6,    15.02,6,     8.09,6,     0.24,6,     0.58,6,   -999.0,9,   -999.0,9,-999.0000,9,  -999.00,      657
  49UP20100417,RF1002,  3588,  1,      2,  22075,2,20100419,0657, 28.7090, 126.4508,  127,    111.2,  17.1155,  34.4283,2,-999.0000,9,    190.9,2,    14.94,2,     8.07,2,     0.24,2,     0.57,2,   -999.0,9,   -999.0,9,-999.0000,9,  -999.00,      657