BOTTLE,20200204PRINUNIVRMK
EXPOCODE,SECT_ID,STNNBR,CASTNO,SAMPNO,BTLNBR,BTLNBR_FLAG_W,DATE,TIME,LATITUDE,LONGITUDE,DEPTH,CTDPRS,CTDTMP,CTDSAL,CTDSAL_FLAG_W,SALNTY,SALNTY_FLAG_W,OXYGEN,OXYGEN_FLAG_W,SILCAT,SILCAT_FLAG_W,NITRAT,NITRAT_FLAG_W,NITRIT,NITRIT_FLAG_W,PHSPHT,PHSPHT_FLAG_W,TCARBN,TCARBN_FLAG_W,ALKALI,ALKALI_FLAG_W,PH_TOT,PH_TOT_FLAG_W,PH_TMP,BTL_TIME
,,,,,,,,,,,METERS,DBAR,ITS-90,PSS-78,,PSS-78,,UMOL/KG,,UMOL/KG,,UMOL/KG,,UMOL/KG,,UMOL/KG,,UMOL/KG,,UMOL/KG,,,,DEG C,
  49UP20100417,RF1002,  3601,  1,     99,     99,2,20100429,0206, 24.6413, 129.9657, 4225,      0.0,  24.0253,  34.7683,2,-999.0000,9,    212.5,2,     1.35,2,     0.05,2,     0.00,2,     0.00,2,   -999.0,9,   -999.0,9,-999.0000,9,  -999.00,      400
  49UP20100417,RF1002,  3601,  1,     33,  22106,2,20100429,0206, 24.6413, 129.9657, 4225,     11.9,  23.9214,  34.7618,2,  34.7640,2,    212.7,2,     1.25,2,     0.00,2,     0.00,2,     0.00,2,   1956.6,2,   2290.4,2,   8.0841,2,    25.00,      424
  49UP20100417,RF1002,  3601,  1,     32,  22105,2,20100429,0206, 24.6413, 129.9657, 4225,     27.0,  23.8987,  34.7703,2,-999.0000,9,    214.1,2,     1.23,2,     0.03,2,     0.00,2,     0.00,2,   1964.0,2,   2293.3,2,   8.0841,2,    25.00,      422
  49UP20100417,RF1002,  3601,  1,     31,  22104,2,20100429,0206, 24.6413, 129.9657, 4225,     51.3,  23.9427,  34.7915,2,-999.0000,9,    212.4,2,     1.22,2,     0.07,2,     0.00,2,     0.00,2,   1965.8,2,   2297.1,2,   8.0845,2,    25.00,      416
  49UP20100417,RF1002,  3601,  1,     30,  22103,2,20100429,0206, 24.6413, 129.9657, 4225,     77.3,  23.9513,  34.8047,2,-999.0000,9,    213.2,2,     1.22,2,     0.03,2,     0.00,2,     0.00,2,   1955.0,2,   2291.7,2,   8.0817,2,    25.00,      415
  49UP20100417,RF1002,  3601,  1,     29,  22102,2,20100429,0206, 24.6413, 129.9657, 4225,    101.7,  23.3089,  34.7663,2,  34.7678,2,    210.2,2,     1.35,2,     0.09,2,     0.01,2,     0.00,2,   1964.6,6,   2290.2,6,   8.0694,6,    25.00,      412
  49UP20100417,RF1002,  3601,  1,     28,  22101,2,20100429,0206, 24.6413, 129.9657, 4225,    127.7,  21.9277,  34.7515,2,-999.0000,9,    213.0,2,     1.51,2,     0.30,2,     0.05,2,     0.00,2,   1978.4,2,   2293.0,2,   8.0523,2,    25.00,      411
  49UP20100417,RF1002,  3601,  1,     27,  22100,2,20100429,0206, 24.6413, 129.9657, 4225,    151.3,  21.3944,  34.7681,2,-999.0000,9,    198.0,2,     1.94,2,     1.47,2,     0.03,2,     0.07,2,   2003.0,2,   2290.3,2,   8.0194,2,    25.00,      409
  49UP20100417,RF1002,  3601,  1,     26,  22099,2,20100429,0206, 24.6413, 129.9657, 4225,    202.2,  20.2128,  34.7450,2,  34.7438,2,    201.9,2,     2.46,2,     2.20,2,     0.00,2,     0.10,2,   2000.7,2,   2288.9,2,   8.0046,2,    25.00,      406
  49UP20100417,RF1002,  3601,  1,     24,  22097,2,20100429,0206, 24.6413, 129.9657, 4225,    253.1,  18.6749,  34.7749,2,-999.0000,9,    190.1,6,     3.91,6,     4.66,6,     0.00,6,     0.27,6,   2033.6,2,   2294.2,2,   7.9606,2,    25.00,      403
  49UP20100417,RF1002,  3601,  1,     25,  22098,2,20100429,0206, 24.6413, 129.9657, 4225,    254.5,  18.6418,  34.7748,2,-999.0000,9,    190.1,2,     3.86,2,     4.67,2,     0.00,2,     0.26,2,   -999.0,9,   -999.0,9,-999.0000,9,  -999.00,      403
  49UP20100417,RF1002,  3601,  1,     23,  22096,3,20100429,0206, 24.6413, 129.9657, 4225,    302.4,  17.4837,  34.7466,2,-999.0000,9,    190.0,2,     5.43,2,     6.26,2,     0.00,2,     0.36,2,   2041.1,2,   2292.1,2,   7.9305,2,    25.00,      401
  49UP20100417,RF1002,  3601,  1,     22,  22095,2,20100429,0206, 24.6413, 129.9657, 4225,    404.9,  15.0679,  34.5905,2,  34.5934,2,    183.3,2,    11.04,2,    10.40,2,     0.00,2,     0.66,2,   2071.4,2,   2288.1,2,   7.8651,2,    25.00,      357
  49UP20100417,RF1002,  3601,  1,     21,  22094,2,20100429,0206, 24.6413, 129.9657, 4225,    505.1,  12.3797,  34.3992,2,-999.0000,9,    173.5,2,    20.56,2,    15.57,2,     0.00,2,     1.05,2,   2113.2,2,   2290.2,2,   7.7777,2,    25.00,      353
  49UP20100417,RF1002,  3601,  1,     20,  22093,2,20100429,0206, 24.6413, 129.9657, 4225,    604.4,   9.2431,  34.2429,2,  34.2435,2,    142.0,2,    41.88,2,    24.22,2,     0.00,2,     1.68,2,   2176.8,2,   2298.0,2,   7.6424,2,    25.00,      350
  49UP20100417,RF1002,  3601,  1,     19,  22092,2,20100429,0206, 24.6413, 129.9657, 4225,    706.8,   6.7089,  34.1670,2,-999.0000,9,    107.5,2,    66.09,2,    31.64,2,     0.00,2,     2.25,2,   2239.0,2,   2304.5,2,   7.5150,2,    25.00,      346
  49UP20100417,RF1002,  3601,  1,     18,  22091,2,20100429,0206, 24.6413, 129.9657, 4225,    808.1,   5.8177,  34.2544,2,  34.2522,2,     85.1,2,    83.98,2,    35.08,2,     0.00,2,     2.51,2,   2274.3,2,   2334.4,2,   7.4708,2,    25.00,      342
  49UP20100417,RF1002,  3601,  1,     17,  22090,2,20100429,0206, 24.6413, 129.9657, 4225,    909.4,   4.8077,  34.3068,2,-999.0000,9,     70.2,2,   100.91,2,    38.08,2,     0.00,2,     2.71,2,   2306.7,2,   2349.9,2,   7.4271,2,    25.00,      339
  49UP20100417,RF1002,  3601,  1,     15,  22088,2,20100429,0206, 24.6413, 129.9657, 4225,   1010.9,   3.9150,  34.3899,2,  34.3901,6,     64.9,6,   118.25,6,    39.55,6,     0.00,6,     2.83,6,   2334.5,6,   2367.5,6,   7.4184,6,    25.00,      335
  49UP20100417,RF1002,  3601,  1,     16,  22089,2,20100429,0206, 24.6413, 129.9657, 4225,   1012.9,   3.8998,  34.3915,2,-999.0000,9,     64.3,2,   118.30,2,    39.67,2,     0.00,2,     2.83,2,   -999.0,9,   -999.0,9,-999.0000,9,  -999.00,      335
  49UP20100417,RF1002,  3601,  1,     14,  22087,2,20100429,0206, 24.6413, 129.9657, 4225,   1213.8,   3.1199,  34.4617,2,  34.4610,2,     67.5,2,   133.15,2,    40.53,2,     0.00,2,     2.88,2,   2350.6,2,   2389.9,2,   7.4181,2,    25.00,      329
  49UP20100417,RF1002,  3601,  1,     13,  22086,2,20100429,0206, 24.6413, 129.9657, 4225,   1416.6,   2.6224,  34.5233,2,-999.0000,9,     80.8,2,   139.81,2,    40.13,2,     0.00,2,     2.84,2,   2348.3,2,   2403.7,2,   7.4448,2,    25.00,      323
  49UP20100417,RF1002,  3601,  1,     12,  22085,2,20100429,0206, 24.6413, 129.9657, 4225,   1618.9,   2.3310,  34.5617,2,  34.5603,2,     92.5,2,   143.65,2,    39.64,2,     0.00,2,     2.79,2,   2349.2,2,   2413.9,2,   7.4698,2,    25.00,      317
  49UP20100417,RF1002,  3601,  1,     11,  22110,2,20100429,0206, 24.6413, 129.9657, 4225,   1823.9,   2.0906,  34.5965,2,-999.0000,9,    106.8,2,   144.32,2,    38.79,2,     0.00,2,     2.73,2,   2346.3,2,   2407.5,2,   7.4986,2,    25.00,      311
  49UP20100417,RF1002,  3601,  1,     10,  22083,2,20100429,0206, 24.6413, 129.9657, 4225,   2026.2,   1.9603,  34.6173,2,  34.6188,2,    116.0,2,   144.06,2,    38.32,2,     0.00,2,     2.69,2,   2344.8,2,   2408.2,2,   7.5217,2,    25.00,      305
  49UP20100417,RF1002,  3601,  1,      9,  22082,3,20100429,0206, 24.6413, 129.9657, 4225,   2280.0,   1.8304,  34.6363,2,-999.0000,9,    125.2,2,   143.89,2,    37.72,2,     0.00,2,     2.64,2,   -999.0,9,   -999.0,9,-999.0000,9,  -999.00,      258
  49UP20100417,RF1002,  3601,  1,      8,  22081,2,20100429,0206, 24.6413, 129.9657, 4225,   2532.9,   1.7087,  34.6513,2,  34.6502,2,    133.3,2,   144.21,2,    37.22,2,     0.00,2,     2.60,2,   -999.0,9,   -999.0,9,-999.0000,9,  -999.00,      252
  49UP20100417,RF1002,  3601,  1,      7,  22080,2,20100429,0206, 24.6413, 129.9657, 4225,   2787.8,   1.6305,  34.6610,2,-999.0000,9,    139.4,2,   144.20,2,    37.04,2,     0.00,2,     2.57,2,   -999.0,9,   -999.0,9,-999.0000,9,  -999.00,      245
  49UP20100417,RF1002,  3601,  1,      6,  22079,2,20100429,0206, 24.6413, 129.9657, 4225,   3042.3,   1.5914,  34.6669,2,  34.6656,2,    143.3,2,   143.89,2,    36.76,2,     0.00,2,     2.56,2,   -999.0,9,   -999.0,9,-999.0000,9,  -999.00,      238
  49UP20100417,RF1002,  3601,  1,      5,  22078,2,20100429,0206, 24.6413, 129.9657, 4225,   3297.5,   1.5627,  34.6720,2,-999.0000,9,    146.9,2,   143.70,2,    36.46,2,     0.00,2,     2.53,2,   -999.0,9,   -999.0,9,-999.0000,9,  -999.00,      231
  49UP20100417,RF1002,  3601,  1,      4,  22077,2,20100429,0206, 24.6413, 129.9657, 4225,   3553.0,   1.5525,  34.6755,2,  34.6753,2,    149.8,2,   143.28,2,    36.34,2,     0.00,2,     2.52,2,   -999.0,9,   -999.0,9,-999.0000,9,  -999.00,      224
  49UP20100417,RF1002,  3601,  1,      3,  22076,3,20100429,0206, 24.6413, 129.9657, 4225,   3811.1,   1.5560,  34.6778,2,-999.0000,9,    151.6,2,   143.11,2,    36.22,2,     0.00,2,     2.51,2,   -999.0,9,   -999.0,9,-999.0000,9,  -999.00,      218
  49UP20100417,RF1002,  3601,  1,      2,  22075,2,20100429,0206, 24.6413, 129.9657, 4225,   4065.6,   1.5687,  34.6791,2,  34.6788,2,    152.9,2,   142.92,2,    36.14,2,     0.00,2,     2.51,2,   -999.0,9,   -999.0,9,-999.0000,9,  -999.00,      211
  49UP20100417,RF1002,  3601,  1,      1,  22074,2,20100429,0206, 24.6413, 129.9657, 4225,   4221.5,   1.5767,  34.6800,2,  34.6793,2,    153.6,2,   142.71,2,    36.16,2,     0.00,2,     2.49,2,   -999.0,9,   -999.0,9,-999.0000,9,  -999.00,      206
  49UP20100417,RF1002,  3604,  1,     99,     99,2,20100429,1543, 23.9832, 130.9938, 3432,      0.0,  23.2134,  34.7190,2,-999.0000,9,    217.4,2,     1.66,2,     0.12,2,     0.00,2,     0.00,2,   -999.0,9,   -999.0,9,-999.0000,9,  -999.00,     1630
  49UP20100417,RF1002,  3604,  1,     24,  22097,2,20100429,1543, 23.9832, 130.9938, 3432,     10.8,  23.2262,  34.7191,2,-999.0000,9,    218.0,2,     1.87,2,     0.04,2,     0.00,2,     0.00,2,   -999.0,9,   -999.0,9,-999.0000,9,  -999.00,     1654
  49UP20100417,RF1002,  3604,  1,     23,  22096,2,20100429,1543, 23.9832, 130.9938, 3432,     27.4,  23.1903,  34.7340,2,-999.0000,9,    218.6,2,     1.64,2,     0.12,2,     0.00,2,     0.00,2,   -999.0,9,   -999.0,9,-999.0000,9,  -999.00,     1652
  49UP20100417,RF1002,  3604,  1,     22,  22095,2,20100429,1543, 23.9832, 130.9938, 3432,     52.0,  21.3041,  34.7497,2,-999.0000,9,    229.6,2,     1.82,2,     0.00,2,     0.00,2,     0.00,2,   -999.0,9,   -999.0,9,-999.0000,9,  -999.00,     1646
  49UP20100417,RF1002,  3604,  1,     21,  22094,2,20100429,1543, 23.9832, 130.9938, 3432,     75.6,  20.2393,  34.7127,2,-999.0000,9,    221.9,2,     2.07,2,     0.02,2,     0.00,2,     0.01,2,   -999.0,9,   -999.0,9,-999.0000,9,  -999.00,     1644
  49UP20100417,RF1002,  3604,  1,     20,  22093,2,20100429,1543, 23.9832, 130.9938, 3432,    100.3,  19.6555,  34.7160,2,-999.0000,9,    205.6,2,     2.85,2,     2.06,2,     0.12,2,     0.13,2,   -999.0,9,   -999.0,9,-999.0000,9,  -999.00,     1643
  49UP20100417,RF1002,  3604,  1,     19,  22092,2,20100429,1543, 23.9832, 130.9938, 3432,    125.8,  19.2412,  34.7354,2,-999.0000,9,    196.2,2,     3.49,2,     3.76,2,     0.01,2,     0.21,2,   -999.0,9,   -999.0,9,-999.0000,9,  -999.00,     1641
  49UP20100417,RF1002,  3604,  1,     18,  22091,2,20100429,1543, 23.9832, 130.9938, 3432,    151.4,  19.0124,  34.7437,2,-999.0000,9,    192.1,2,     3.86,2,     4.28,2,     0.00,2,     0.25,2,   -999.0,9,   -999.0,9,-999.0000,9,  -999.00,     1639
  49UP20100417,RF1002,  3604,  1,     16,  22089,2,20100429,1543, 23.9832, 130.9938, 3432,    201.4,  17.9531,  34.7432,2,-999.0000,9,    187.5,6,     5.47,6,     6.02,6,     0.00,6,     0.37,6,   -999.0,9,   -999.0,9,-999.0000,9,  -999.00,     1637
  49UP20100417,RF1002,  3604,  1,     17,  22090,2,20100429,1543, 23.9832, 130.9938, 3432,    203.8,  17.8353,  34.7408,2,-999.0000,9,    187.5,2,     5.67,2,     6.11,2,     0.00,2,     0.38,2,   -999.0,9,   -999.0,9,-999.0000,9,  -999.00,     1637
  49UP20100417,RF1002,  3604,  1,     15,  22088,2,20100429,1543, 23.9832, 130.9938, 3432,    254.3,  16.9053,  34.7033,2,-999.0000,9,    184.9,2,     7.65,2,     7.61,2,     0.00,2,     0.49,2,   -999.0,9,   -999.0,9,-999.0000,9,  -999.00,     1634
  49UP20100417,RF1002,  3604,  1,     14,  22087,2,20100429,1543, 23.9832, 130.9938, 3432,    306.9,  15.2145,  34.6010,2,-999.0000,9,    177.3,2,    12.79,2,    10.86,2,     0.00,2,     0.71,2,   -999.0,9,   -999.0,9,-999.0000,9,  -999.00,     1632
  49UP20100417,RF1002,  3604,  1,     13,  22086,2,20100429,1543, 23.9832, 130.9938, 3432,    406.5,  12.2786,  34.4172,2,-999.0000,9,    163.5,2,    24.71,2,    16.95,2,     0.00,2,     1.16,2,   -999.0,9,   -999.0,9,-999.0000,9,  -999.00,     1628
  49UP20100417,RF1002,  3604,  1,     12,  22085,2,20100429,1543, 23.9832, 130.9938, 3432,    506.8,   9.2486,  34.2684,2,-999.0000,9,    137.4,2,    44.21,2,    24.36,2,     0.00,2,     1.72,2,   -999.0,9,   -999.0,9,-999.0000,9,  -999.00,     1625
  49UP20100417,RF1002,  3604,  1,     11,  22110,2,20100429,1543, 23.9832, 130.9938, 3432,    607.5,   6.6405,  34.1808,2,-999.0000,9,    107.3,2,    68.58,2,    31.82,2,     0.00,2,     2.28,2,   -999.0,9,   -999.0,9,-999.0000,9,  -999.00,     1622
  49UP20100417,RF1002,  3604,  1,     10,  22083,2,20100429,1543, 23.9832, 130.9938, 3432,    708.2,   5.4836,  34.2041,2,-999.0000,9,     80.5,2,    84.51,2,    36.01,2,     0.00,2,     2.58,2,   -999.0,9,   -999.0,9,-999.0000,9,  -999.00,     1618
  49UP20100417,RF1002,  3604,  1,      9,  22082,2,20100429,1543, 23.9832, 130.9938, 3432,    808.9,   4.5641,  34.2881,2,-999.0000,9,     61.6,2,   102.03,2,    39.12,2,     0.00,2,     2.80,2,   -999.0,9,   -999.0,9,-999.0000,9,  -999.00,     1615
  49UP20100417,RF1002,  3604,  1,      8,  22081,2,20100429,1543, 23.9832, 130.9938, 3432,    910.1,   4.0254,  34.3565,2,-999.0000,9,     57.6,2,   114.35,2,    40.27,2,     0.00,2,     2.88,2,   -999.0,9,   -999.0,9,-999.0000,9,  -999.00,     1612
  49UP20100417,RF1002,  3604,  1,      7,  22080,2,20100429,1543, 23.9832, 130.9938, 3432,    910.1,   4.0254,  34.3564,2,-999.0000,9,     57.6,6,   114.46,6,    40.22,6,     0.00,6,     2.87,6,   -999.0,9,   -999.0,9,-999.0000,9,  -999.00,     1611
  49UP20100417,RF1002,  3604,  1,      6,  22079,2,20100429,1543, 23.9832, 130.9938, 3432,   1009.2,   3.6486,  34.4010,2,-999.0000,9,     59.3,2,   122.59,2,    40.64,2,     0.00,2,     2.88,2,   -999.0,9,   -999.0,9,-999.0000,9,  -999.00,     1608
  49UP20100417,RF1002,  3604,  1,      5,  22078,2,20100429,1543, 23.9832, 130.9938, 3432,   1211.1,   3.0780,  34.4776,2,-999.0000,9,     69.8,2,   133.30,2,    40.43,2,     0.00,2,     2.86,2,   -999.0,9,   -999.0,9,-999.0000,9,  -999.00,     1603
  49UP20100417,RF1002,  3604,  1,      4,  22077,2,20100429,1543, 23.9832, 130.9938, 3432,   1413.3,   2.6091,  34.5276,2,-999.0000,9,     82.1,2,   139.86,2,    40.09,2,     0.00,2,     2.82,2,   -999.0,9,   -999.0,9,-999.0000,9,  -999.00,     1558
  49UP20100417,RF1002,  3604,  1,      3,  22076,2,20100429,1543, 23.9832, 130.9938, 3432,   1617.3,   2.2657,  34.5735,2,-999.0000,9,     97.7,2,   143.28,2,    39.24,2,     0.00,2,     2.74,2,   -999.0,9,   -999.0,9,-999.0000,9,  -999.00,     1553
  49UP20100417,RF1002,  3604,  1,      2,  22075,2,20100429,1543, 23.9832, 130.9938, 3432,   1821.5,   2.0866,  34.5973,2,-999.0000,9,    107.8,2,   143.93,2,    38.96,2,     0.00,2,     2.69,2,   -999.0,9,   -999.0,9,-999.0000,9,  -999.00,     1548
  49UP20100417,RF1002,  3604,  1,      1,  22074,2,20100429,1543, 23.9832, 130.9938, 3432,   2023.5,   1.9160,  34.6199,2,-999.0000,9,    118.0,2,   144.25,2,    38.18,2,     0.00,2,     2.66,2,   -999.0,9,   -999.0,9,-999.0000,9,  -999.00,     1543