BOTTLE,20200204PRINUNIVRMK
EXPOCODE,SECT_ID,STNNBR,CASTNO,SAMPNO,BTLNBR,BTLNBR_FLAG_W,DATE,TIME,LATITUDE,LONGITUDE,DEPTH,CTDPRS,CTDTMP,CTDSAL,CTDSAL_FLAG_W,SALNTY,SALNTY_FLAG_W,OXYGEN,OXYGEN_FLAG_W,SILCAT,SILCAT_FLAG_W,NITRAT,NITRAT_FLAG_W,NITRIT,NITRIT_FLAG_W,PHSPHT,PHSPHT_FLAG_W,TCARBN,TCARBN_FLAG_W,ALKALI,ALKALI_FLAG_W,PH_TOT,PH_TOT_FLAG_W,PH_TMP,BTL_TIME
,,,,,,,,,,,METERS,DBAR,ITS-90,PSS-78,,PSS-78,,UMOL/KG,,UMOL/KG,,UMOL/KG,,UMOL/KG,,UMOL/KG,,UMOL/KG,,UMOL/KG,,,,DEG C,
  49UP20100417,RF1002,  3590,  1,     99,     99,2,20100419,1325, 28.9405, 126.0163,  120,      0.0,  17.2832,  33.9024,2,-999.0000,9,    262.9,2,     5.13,2,     0.32,2,     0.08,2,     0.02,2,   -999.0,9,   -999.0,9,-999.0000,9,  -999.00,     1330
  49UP20100417,RF1002,  3590,  1,      8,  22081,2,20100419,1325, 28.9405, 126.0163,  120,     11.5,  17.3813,  33.9312,2,  33.9308,2,    264.8,2,     5.41,2,     0.54,2,     0.11,2,     0.02,2,   -999.0,9,   -999.0,9,-999.0000,9,  -999.00,     1337
  49UP20100417,RF1002,  3590,  1,      7,  22080,2,20100419,1325, 28.9405, 126.0163,  120,     22.4,  18.0501,  34.1626,2,-999.0000,9,    253.9,4,     4.95,2,     1.05,2,     0.21,2,     0.08,2,   -999.0,9,   -999.0,9,-999.0000,9,  -999.00,     1335
  49UP20100417,RF1002,  3590,  1,      6,  22079,2,20100419,1325, 28.9405, 126.0163,  120,     31.5,  18.0321,  34.2606,2,-999.0000,9,    234.6,2,     5.23,2,     2.12,2,     0.41,2,     0.14,2,   -999.0,9,   -999.0,9,-999.0000,9,  -999.00,     1334
  49UP20100417,RF1002,  3590,  1,      5,  22078,2,20100419,1325, 28.9405, 126.0163,  120,     53.6,  17.4271,  34.2706,2,-999.0000,9,    227.5,2,     7.32,2,     5.06,2,  -999.00,5,     0.29,2,   -999.0,9,   -999.0,9,-999.0000,9,  -999.00,     1331
  49UP20100417,RF1002,  3590,  1,      4,  22077,2,20100419,1325, 28.9405, 126.0163,  120,     78.0,  17.1792,  34.2618,2,-999.0000,9,    223.3,2,     8.98,2,     4.66,2,     1.11,2,     0.35,2,   -999.0,9,   -999.0,9,-999.0000,9,  -999.00,     1328
  49UP20100417,RF1002,  3590,  1,      3,  22076,3,20100419,1325, 28.9405, 126.0163,  120,    101.4,  17.1771,  34.2867,2,  34.2874,2,    219.4,2,    10.70,2,     6.18,2,  -999.00,5,     0.39,2,   -999.0,9,   -999.0,9,-999.0000,9,  -999.00,     1326
  49UP20100417,RF1002,  3590,  1,      1,  22074,2,20100419,1325, 28.9405, 126.0163,  120,    102.3,  17.1756,  34.2862,2,-999.0000,9,    219.8,2,    10.84,2,     6.17,2,  -999.00,5,     0.41,2,   -999.0,9,   -999.0,9,-999.0000,9,  -999.00,     1325
  49UP20100417,RF1002,  3590,  1,      2,  22075,2,20100419,1325, 28.9405, 126.0163,  120,    103.2,  17.1751,  34.2861,2,  34.2868,6,    220.2,6,    10.69,6,     6.13,6,  -999.00,5,     0.39,6,   2036.0,6,   2283.4,6,   7.9505,6,    25.00,     1325
  49UP20100417,RF1002,  3591,  1,     99,     99,2,20100427,0455, 26.0587, 127.9017,  487,      0.0,  23.3047,  34.7552,2,-999.0000,9,    214.7,2,     1.42,2,     0.03,2,     0.00,2,     0.02,2,   -999.0,9,   -999.0,9,-999.0000,9,  -999.00,      510
  49UP20100417,RF1002,  3591,  1,     13,  22086,2,20100427,0455, 26.0587, 127.9017,  487,     11.1,  23.3187,  34.7627,2,  34.7621,2,    213.9,2,     1.33,2,     0.00,2,     0.00,2,     0.01,2,   -999.0,9,   -999.0,9,-999.0000,9,  -999.00,      526
  49UP20100417,RF1002,  3591,  1,     12,  22085,2,20100427,0455, 26.0587, 127.9017,  487,     25.9,  23.3045,  34.7678,2,-999.0000,9,    214.3,2,     1.35,2,     0.00,2,     0.00,2,     0.01,2,   -999.0,9,   -999.0,9,-999.0000,9,  -999.00,      524
  49UP20100417,RF1002,  3591,  1,     11,  22084,3,20100427,0455, 26.0587, 127.9017,  487,     49.1,  23.3184,  34.7707,2,-999.0000,9,    214.0,2,     1.39,2,     0.00,2,     0.00,2,     0.00,2,   -999.0,9,   -999.0,9,-999.0000,9,  -999.00,      520
  49UP20100417,RF1002,  3591,  1,     10,  22083,2,20100427,0455, 26.0587, 127.9017,  487,     75.7,  22.9216,  34.7585,2,-999.0000,9,    206.8,2,     1.64,2,     0.24,2,     0.07,2,     0.04,2,   -999.0,9,   -999.0,9,-999.0000,9,  -999.00,      518
  49UP20100417,RF1002,  3591,  1,      9,  22082,2,20100427,0455, 26.0587, 127.9017,  487,    104.4,  22.3154,  34.7595,2,  34.7585,2,    197.6,2,     2.02,2,     1.30,2,     0.06,2,     0.10,2,   -999.0,9,   -999.0,9,-999.0000,9,  -999.00,      516
  49UP20100417,RF1002,  3591,  1,      8,  22081,2,20100427,0455, 26.0587, 127.9017,  487,    128.5,  21.6539,  34.7641,2,-999.0000,9,    192.0,2,     2.50,2,     2.07,2,     0.01,2,     0.15,2,   -999.0,9,   -999.0,9,-999.0000,9,  -999.00,      514
  49UP20100417,RF1002,  3591,  1,      7,  22080,2,20100427,0455, 26.0587, 127.9017,  487,    153.9,  20.9484,  34.7687,2,-999.0000,9,    189.6,2,     3.09,2,     2.79,2,     0.00,2,     0.19,2,   -999.0,9,   -999.0,9,-999.0000,9,  -999.00,      511
  49UP20100417,RF1002,  3591,  1,      6,  22079,2,20100427,0455, 26.0587, 127.9017,  487,    203.4,  19.4521,  34.7846,2,  34.7841,2,    186.4,2,     3.82,2,     4.12,2,     0.00,2,     0.28,2,   -999.0,9,   -999.0,9,-999.0000,9,  -999.00,      509
  49UP20100417,RF1002,  3591,  1,      5,  22078,2,20100427,0455, 26.0587, 127.9017,  487,    255.6,  17.7438,  34.7642,2,-999.0000,9,    198.0,3,     4.66,2,     5.51,2,     0.00,2,     0.35,2,   -999.0,9,   -999.0,9,-999.0000,9,  -999.00,      505
  49UP20100417,RF1002,  3591,  1,      4,  22077,3,20100427,0455, 26.0587, 127.9017,  487,    303.5,  16.7469,  34.6977,2,  34.6981,2,    187.0,2,     7.23,2,     7.52,2,     0.00,2,     0.51,2,   -999.0,9,   -999.0,9,-999.0000,9,  -999.00,      502
  49UP20100417,RF1002,  3591,  1,      3,  22076,2,20100427,0455, 26.0587, 127.9017,  487,    402.8,  14.0725,  34.5151,2,-999.0000,9,    175.4,2,    15.19,2,    12.64,2,     0.00,2,     0.87,2,   -999.0,9,   -999.0,9,-999.0000,9,  -999.00,      459
  49UP20100417,RF1002,  3591,  1,      2,  22075,2,20100427,0455, 26.0587, 127.9017,  487,    402.8,  14.0848,  34.5159,2,-999.0000,9,    175.6,2,    15.08,2,    12.62,2,     0.00,2,     0.87,2,   -999.0,9,   -999.0,9,-999.0000,9,  -999.00,      458
  49UP20100417,RF1002,  3591,  1,      1,  22074,2,20100427,0455, 26.0587, 127.9017,  487,    436.3,  13.5473,  34.4801,2,  34.4819,2,    173.0,6,    17.11,6,    13.71,6,     0.00,6,     0.95,6,   -999.0,9,   -999.0,9,-999.0000,9,  -999.00,      455
  49UP20100417,RF1002,  3593,  1,     99,     99,2,20100427,1041, 25.8983, 128.1547, 2109,      0.0,  23.8950,  34.7766,2,-999.0000,9,    211.9,2,  -999.00,9,  -999.00,9,  -999.00,9,  -999.00,9,   -999.0,9,   -999.0,9,-999.0000,9,  -999.00,     1140
  49UP20100417,RF1002,  3593,  1,     24,  22097,2,20100427,1041, 25.8983, 128.1547, 2109,     10.8,  23.9004,  34.7770,2,-999.0000,9,    211.3,2,  -999.00,9,  -999.00,9,  -999.00,9,  -999.00,9,   -999.0,9,   -999.0,9,-999.0000,9,  -999.00,     1204
  49UP20100417,RF1002,  3593,  1,     23,  22096,2,20100427,1041, 25.8983, 128.1547, 2109,     26.8,  23.9112,  34.7769,2,-999.0000,9,    212.0,2,  -999.00,9,  -999.00,9,  -999.00,9,  -999.00,9,   -999.0,9,   -999.0,9,-999.0000,9,  -999.00,     1202
  49UP20100417,RF1002,  3593,  1,     22,  22095,2,20100427,1041, 25.8983, 128.1547, 2109,     51.7,  23.9141,  34.7767,2,-999.0000,9,    211.7,2,  -999.00,9,  -999.00,9,  -999.00,9,  -999.00,9,   -999.0,9,   -999.0,9,-999.0000,9,  -999.00,     1158
  49UP20100417,RF1002,  3593,  1,     21,  22094,2,20100427,1041, 25.8983, 128.1547, 2109,     77.6,  23.8991,  34.7751,2,-999.0000,9,    212.1,2,  -999.00,9,  -999.00,9,  -999.00,9,  -999.00,9,   -999.0,9,   -999.0,9,-999.0000,9,  -999.00,     1156
  49UP20100417,RF1002,  3593,  1,     19,  22092,2,20100427,1041, 25.8983, 128.1547, 2109,    102.8,  22.9927,  34.7458,2,-999.0000,9,    202.6,6,  -999.00,9,  -999.00,9,  -999.00,9,  -999.00,9,   -999.0,9,   -999.0,9,-999.0000,9,  -999.00,     1153
  49UP20100417,RF1002,  3593,  1,     20,  22093,2,20100427,1041, 25.8983, 128.1547, 2109,    102.9,  23.2015,  34.7514,2,-999.0000,9,    202.6,2,  -999.00,9,  -999.00,9,  -999.00,9,  -999.00,9,   -999.0,9,   -999.0,9,-999.0000,9,  -999.00,     1154
  49UP20100417,RF1002,  3593,  1,     18,  22091,2,20100427,1041, 25.8983, 128.1547, 2109,    127.7,  22.1092,  34.7595,2,-999.0000,9,    196.3,2,  -999.00,9,  -999.00,9,  -999.00,9,  -999.00,9,   -999.0,9,   -999.0,9,-999.0000,9,  -999.00,     1151
  49UP20100417,RF1002,  3593,  1,     17,  22090,2,20100427,1041, 25.8983, 128.1547, 2109,    154.3,  21.1572,  34.7718,2,-999.0000,9,    191.6,2,  -999.00,9,  -999.00,9,  -999.00,9,  -999.00,9,   -999.0,9,   -999.0,9,-999.0000,9,  -999.00,     1149
  49UP20100417,RF1002,  3593,  1,     16,  22089,2,20100427,1041, 25.8983, 128.1547, 2109,    202.9,  19.8639,  34.7986,2,-999.0000,9,    185.9,2,  -999.00,9,  -999.00,9,  -999.00,9,  -999.00,9,   -999.0,9,   -999.0,9,-999.0000,9,  -999.00,     1145
  49UP20100417,RF1002,  3593,  1,     15,  22088,2,20100427,1041, 25.8983, 128.1547, 2109,    253.9,  18.8799,  34.7921,2,-999.0000,9,    189.9,2,  -999.00,9,  -999.00,9,  -999.00,9,  -999.00,9,   -999.0,9,   -999.0,9,-999.0000,9,  -999.00,     1142
  49UP20100417,RF1002,  3593,  1,     14,  22087,2,20100427,1041, 25.8983, 128.1547, 2109,    303.4,  18.0193,  34.7555,2,-999.0000,9,    185.8,2,  -999.00,9,  -999.00,9,  -999.00,9,  -999.00,9,   -999.0,9,   -999.0,9,-999.0000,9,  -999.00,     1140
  49UP20100417,RF1002,  3593,  1,     13,  22086,2,20100427,1041, 25.8983, 128.1547, 2109,    406.0,  14.4716,  34.5417,2,-999.0000,9,    177.6,2,  -999.00,9,  -999.00,9,  -999.00,9,  -999.00,9,   -999.0,9,   -999.0,9,-999.0000,9,  -999.00,     1135
  49UP20100417,RF1002,  3593,  1,     11,  22084,2,20100427,1041, 25.8983, 128.1547, 2109,    504.7,  11.4044,  34.3546,2,-999.0000,9,    159.6,6,  -999.00,9,  -999.00,9,  -999.00,9,  -999.00,9,   -999.0,9,   -999.0,9,-999.0000,9,  -999.00,     1131
  49UP20100417,RF1002,  3593,  1,     12,  22085,2,20100427,1041, 25.8983, 128.1547, 2109,    505.9,  11.4502,  34.3542,2,-999.0000,9,    159.7,2,  -999.00,9,  -999.00,9,  -999.00,9,  -999.00,9,   -999.0,9,   -999.0,9,-999.0000,9,  -999.00,     1131
  49UP20100417,RF1002,  3593,  1,     10,  22083,2,20100427,1041, 25.8983, 128.1547, 2109,    606.4,   8.4986,  34.2178,2,-999.0000,9,    130.5,2,  -999.00,9,  -999.00,9,  -999.00,9,  -999.00,9,   -999.0,9,   -999.0,9,-999.0000,9,  -999.00,     1126
  49UP20100417,RF1002,  3593,  1,      9,  22082,2,20100427,1041, 25.8983, 128.1547, 2109,    708.7,   6.6090,  34.2559,2,-999.0000,9,     96.9,2,  -999.00,9,  -999.00,9,  -999.00,9,  -999.00,9,   -999.0,9,   -999.0,9,-999.0000,9,  -999.00,     1122
  49UP20100417,RF1002,  3593,  1,      8,  22081,2,20100427,1041, 25.8983, 128.1547, 2109,    810.6,   5.4057,  34.3001,2,-999.0000,9,     77.5,2,  -999.00,9,  -999.00,9,  -999.00,9,  -999.00,9,   -999.0,9,   -999.0,9,-999.0000,9,  -999.00,     1118
  49UP20100417,RF1002,  3593,  1,      7,  22080,2,20100427,1041, 25.8983, 128.1547, 2109,    906.5,   4.5961,  34.3503,2,-999.0000,9,     66.8,2,  -999.00,9,  -999.00,9,  -999.00,9,  -999.00,9,   -999.0,9,   -999.0,9,-999.0000,9,  -999.00,     1114
  49UP20100417,RF1002,  3593,  1,      6,  22079,2,20100427,1041, 25.8983, 128.1547, 2109,   1008.1,   4.0658,  34.4340,2,-999.0000,9,     74.6,2,  -999.00,9,  -999.00,9,  -999.00,9,  -999.00,9,   -999.0,9,   -999.0,9,-999.0000,9,  -999.00,     1110
  49UP20100417,RF1002,  3593,  1,      5,  22078,2,20100427,1041, 25.8983, 128.1547, 2109,   1210.0,   3.1364,  34.4780,2,-999.0000,9,     71.4,2,  -999.00,9,  -999.00,9,  -999.00,9,  -999.00,9,   -999.0,9,   -999.0,9,-999.0000,9,  -999.00,     1104
  49UP20100417,RF1002,  3593,  1,      4,  22077,2,20100427,1041, 25.8983, 128.1547, 2109,   1417.0,   2.7209,  34.5119,2,-999.0000,9,     77.0,2,  -999.00,9,  -999.00,9,  -999.00,9,  -999.00,9,   -999.0,9,   -999.0,9,-999.0000,9,  -999.00,     1058
  49UP20100417,RF1002,  3593,  1,      3,  22076,2,20100427,1041, 25.8983, 128.1547, 2109,   1617.6,   2.4073,  34.5517,2,-999.0000,9,     89.5,2,  -999.00,9,  -999.00,9,  -999.00,9,  -999.00,9,   -999.0,9,   -999.0,9,-999.0000,9,  -999.00,     1053
  49UP20100417,RF1002,  3593,  1,      2,  22075,2,20100427,1041, 25.8983, 128.1547, 2109,   1821.4,   2.1577,  34.5855,2,-999.0000,9,    101.5,2,  -999.00,9,  -999.00,9,  -999.00,9,  -999.00,9,   -999.0,9,   -999.0,9,-999.0000,9,  -999.00,     1047
  49UP20100417,RF1002,  3593,  1,      1,  22074,2,20100427,1041, 25.8983, 128.1547, 2109,   2025.9,   1.9428,  34.6141,2,-999.0000,9,    114.3,2,  -999.00,9,  -999.00,9,  -999.00,9,  -999.00,9,   -999.0,9,   -999.0,9,-999.0000,9,  -999.00,     1041
  49UP20100417,RF1002,  3595,  1,     99,     99,2,20100427,1746, 25.6395, 128.5470, 4810,      0.0,  24.7688,  34.8340,2,-999.0000,9,    209.7,2,  -999.00,9,  -999.00,9,  -999.00,9,  -999.00,9,   -999.0,9,   -999.0,9,-999.0000,9,  -999.00,     1830
  49UP20100417,RF1002,  3595,  1,     24,  22097,2,20100427,1746, 25.6395, 128.5470, 4810,     11.6,  24.7794,  34.8339,2,-999.0000,9,    208.9,2,  -999.00,9,  -999.00,9,  -999.00,9,  -999.00,9,   -999.0,9,   -999.0,9,-999.0000,9,  -999.00,     1857
  49UP20100417,RF1002,  3595,  1,     23,  22096,2,20100427,1746, 25.6395, 128.5470, 4810,     26.2,  24.7795,  34.8345,2,-999.0000,9,    209.2,2,  -999.00,9,  -999.00,9,  -999.00,9,  -999.00,9,   -999.0,9,   -999.0,9,-999.0000,9,  -999.00,     1855
  49UP20100417,RF1002,  3595,  1,     22,  22095,2,20100427,1746, 25.6395, 128.5470, 4810,     51.4,  24.3646,  34.8198,2,-999.0000,9,    210.8,2,  -999.00,9,  -999.00,9,  -999.00,9,  -999.00,9,   -999.0,9,   -999.0,9,-999.0000,9,  -999.00,     1850
  49UP20100417,RF1002,  3595,  1,     21,  22094,2,20100427,1746, 25.6395, 128.5470, 4810,     76.7,  23.2640,  34.7405,2,-999.0000,9,    212.7,2,  -999.00,9,  -999.00,9,  -999.00,9,  -999.00,9,   -999.0,9,   -999.0,9,-999.0000,9,  -999.00,     1848
  49UP20100417,RF1002,  3595,  1,     20,  22093,2,20100427,1746, 25.6395, 128.5470, 4810,    101.9,  22.6468,  34.7319,2,-999.0000,9,    201.1,2,  -999.00,9,  -999.00,9,  -999.00,9,  -999.00,9,   -999.0,9,   -999.0,9,-999.0000,9,  -999.00,     1846
  49UP20100417,RF1002,  3595,  1,     19,  22092,2,20100427,1746, 25.6395, 128.5470, 4810,    125.4,  22.0126,  34.7389,2,-999.0000,9,    203.8,2,  -999.00,9,  -999.00,9,  -999.00,9,  -999.00,9,   -999.0,9,   -999.0,9,-999.0000,9,  -999.00,     1845
  49UP20100417,RF1002,  3595,  1,     18,  22091,2,20100427,1746, 25.6395, 128.5470, 4810,    125.9,  22.0141,  34.7387,2,-999.0000,9,    204.0,6,  -999.00,9,  -999.00,9,  -999.00,9,  -999.00,9,   -999.0,9,   -999.0,9,-999.0000,9,  -999.00,     1844
  49UP20100417,RF1002,  3595,  1,     17,  22090,2,20100427,1746, 25.6395, 128.5470, 4810,    152.1,  21.4501,  34.7220,2,-999.0000,9,    212.8,2,  -999.00,9,  -999.00,9,  -999.00,9,  -999.00,9,   -999.0,9,   -999.0,9,-999.0000,9,  -999.00,     1842
  49UP20100417,RF1002,  3595,  1,     16,  22089,2,20100427,1746, 25.6395, 128.5470, 4810,    201.8,  20.1231,  34.7457,2,-999.0000,9,    199.2,2,  -999.00,9,  -999.00,9,  -999.00,9,  -999.00,9,   -999.0,9,   -999.0,9,-999.0000,9,  -999.00,     1840
  49UP20100417,RF1002,  3595,  1,     15,  22088,2,20100427,1746, 25.6395, 128.5470, 4810,    251.9,  18.6974,  34.7918,2,-999.0000,9,    188.6,2,  -999.00,9,  -999.00,9,  -999.00,9,  -999.00,9,   -999.0,9,   -999.0,9,-999.0000,9,  -999.00,     1838
  49UP20100417,RF1002,  3595,  1,     14,  22087,2,20100427,1746, 25.6395, 128.5470, 4810,    302.9,  17.5961,  34.7557,2,-999.0000,9,    190.5,2,  -999.00,9,  -999.00,9,  -999.00,9,  -999.00,9,   -999.0,9,   -999.0,9,-999.0000,9,  -999.00,     1835
  49UP20100417,RF1002,  3595,  1,     13,  22086,2,20100427,1746, 25.6395, 128.5470, 4810,    402.9,  15.0046,  34.5749,2,-999.0000,9,    187.4,2,  -999.00,9,  -999.00,9,  -999.00,9,  -999.00,9,   -999.0,9,   -999.0,9,-999.0000,9,  -999.00,     1832
  49UP20100417,RF1002,  3595,  1,     12,  22085,2,20100427,1746, 25.6395, 128.5470, 4810,    506.8,  11.5573,  34.3275,2,-999.0000,9,    173.0,2,  -999.00,9,  -999.00,9,  -999.00,9,  -999.00,9,   -999.0,9,   -999.0,9,-999.0000,9,  -999.00,     1829
  49UP20100417,RF1002,  3595,  1,     10,  22083,2,20100427,1746, 25.6395, 128.5470, 4810,    604.4,   9.2437,  34.2062,2,-999.0000,9,    146.5,6,  -999.00,9,  -999.00,9,  -999.00,9,  -999.00,9,   -999.0,9,   -999.0,9,-999.0000,9,  -999.00,     1825
  49UP20100417,RF1002,  3595,  1,     11,  22084,3,20100427,1746, 25.6395, 128.5470, 4810,    604.8,   9.2389,  34.2065,2,-999.0000,9,    146.5,4,  -999.00,9,  -999.00,9,  -999.00,9,  -999.00,9,   -999.0,9,   -999.0,9,-999.0000,9,  -999.00,     1825
  49UP20100417,RF1002,  3595,  1,      9,  22082,2,20100427,1746, 25.6395, 128.5470, 4810,    707.4,   7.1677,  34.1520,2,-999.0000,9,    110.2,2,  -999.00,9,  -999.00,9,  -999.00,9,  -999.00,9,   -999.0,9,   -999.0,9,-999.0000,9,  -999.00,     1822
  49UP20100417,RF1002,  3595,  1,      8,  22081,2,20100427,1746, 25.6395, 128.5470, 4810,    806.4,   5.8336,  34.2130,2,-999.0000,9,     82.2,2,  -999.00,9,  -999.00,9,  -999.00,9,  -999.00,9,   -999.0,9,   -999.0,9,-999.0000,9,  -999.00,     1819
  49UP20100417,RF1002,  3595,  1,      7,  22080,2,20100427,1746, 25.6395, 128.5470, 4810,    908.7,   4.8933,  34.3216,2,-999.0000,9,     69.1,2,  -999.00,9,  -999.00,9,  -999.00,9,  -999.00,9,   -999.0,9,   -999.0,9,-999.0000,9,  -999.00,     1815
  49UP20100417,RF1002,  3595,  1,      6,  22079,2,20100427,1746, 25.6395, 128.5470, 4810,   1011.7,   4.3470,  34.3871,2,-999.0000,9,     68.4,2,  -999.00,9,  -999.00,9,  -999.00,9,  -999.00,9,   -999.0,9,   -999.0,9,-999.0000,9,  -999.00,     1812
  49UP20100417,RF1002,  3595,  1,      5,  22078,2,20100427,1746, 25.6395, 128.5470, 4810,   1212.3,   3.2859,  34.4605,2,-999.0000,9,     68.3,2,  -999.00,9,  -999.00,9,  -999.00,9,  -999.00,9,   -999.0,9,   -999.0,9,-999.0000,9,  -999.00,     1807
  49UP20100417,RF1002,  3595,  1,      4,  22077,2,20100427,1746, 25.6395, 128.5470, 4810,   1414.7,   2.6982,  34.5212,2,-999.0000,9,     79.9,2,  -999.00,9,  -999.00,9,  -999.00,9,  -999.00,9,   -999.0,9,   -999.0,9,-999.0000,9,  -999.00,     1802
  49UP20100417,RF1002,  3595,  1,      3,  22076,2,20100427,1746, 25.6395, 128.5470, 4810,   1618.4,   2.3610,  34.5592,2,-999.0000,9,     91.5,2,  -999.00,9,  -999.00,9,  -999.00,9,  -999.00,9,   -999.0,9,   -999.0,9,-999.0000,9,  -999.00,     1757
  49UP20100417,RF1002,  3595,  1,      2,  22075,2,20100427,1746, 25.6395, 128.5470, 4810,   1819.3,   2.1669,  34.5910,2,-999.0000,9,    104.5,2,  -999.00,9,  -999.00,9,  -999.00,9,  -999.00,9,   -999.0,9,   -999.0,9,-999.0000,9,  -999.00,     1751
  49UP20100417,RF1002,  3595,  1,      1,  22074,2,20100427,1746, 25.6395, 128.5470, 4810,   2023.6,   1.9611,  34.6140,2,-999.0000,9,    114.9,2,  -999.00,9,  -999.00,9,  -999.00,9,  -999.00,9,   -999.0,9,   -999.0,9,-999.0000,9,  -999.00,     1746