BOTTLE,20200204PRINUNIVRMK
EXPOCODE,SECT_ID,STNNBR,CASTNO,SAMPNO,BTLNBR,BTLNBR_FLAG_W,DATE,TIME,LATITUDE,LONGITUDE,DEPTH,CTDPRS,CTDTMP,CTDSAL,CTDSAL_FLAG_W,SALNTY,SALNTY_FLAG_W,OXYGEN,OXYGEN_FLAG_W,SILCAT,SILCAT_FLAG_W,NITRAT,NITRAT_FLAG_W,NITRIT,NITRIT_FLAG_W,PHSPHT,PHSPHT_FLAG_W,TCARBN,TCARBN_FLAG_W,ALKALI,ALKALI_FLAG_W,PH_TOT,PH_TOT_FLAG_W,PH_TMP,BTL_TIME
,,,,,,,,,,,METERS,DBAR,ITS-90,PSS-78,,PSS-78,,UMOL/KG,,UMOL/KG,,UMOL/KG,,UMOL/KG,,UMOL/KG,,UMOL/KG,,UMOL/KG,,,,DEG C,
  49UP20100417,RF1002,  3613,  1,     99,     99,2,20100501,1300, 24.2123, 134.9888, 5141,      0.0,  23.0306,  34.8287,2,-999.0000,9,    215.2,2,     1.22,2,     0.09,2,     0.00,2,     0.00,2,   -999.0,9,   -999.0,9,-999.0000,9,  -999.00,     1405
  49UP20100417,RF1002,  3613,  1,     24,  22097,2,20100501,1300, 24.2123, 134.9888, 5141,     11.5,  23.0357,  34.8287,2,-999.0000,9,    215.8,2,     1.22,2,     0.00,2,     0.00,2,     0.00,2,   1821.6,4,   1763.4,4,   8.0724,2,    25.00,     1420
  49UP20100417,RF1002,  3613,  1,     23,  22096,2,20100501,1300, 24.2123, 134.9888, 5141,     26.1,  23.0386,  34.8284,2,-999.0000,9,    216.0,2,     1.30,2,     0.00,2,     0.00,2,     0.00,2,   1988.9,2,   2281.9,2,   8.0719,2,    25.00,     1419
  49UP20100417,RF1002,  3613,  1,     22,  22095,2,20100501,1300, 24.2123, 134.9888, 5141,     50.6,  22.6762,  34.8140,2,-999.0000,9,    217.2,2,     1.28,2,     0.00,2,     0.00,2,     0.00,2,   1969.6,2,   2131.1,4,   8.0670,2,    25.00,     1415
  49UP20100417,RF1002,  3613,  1,     21,  22094,2,20100501,1300, 24.2123, 134.9888, 5141,     74.9,  21.5329,  34.7483,2,-999.0000,9,    223.3,2,     1.54,2,     0.00,2,     0.00,2,     0.00,2,   1973.3,2,   2279.9,2,   8.0501,2,    25.00,     1413
  49UP20100417,RF1002,  3613,  1,     20,  22093,2,20100501,1300, 24.2123, 134.9888, 5141,    101.3,  20.8205,  34.7872,2,-999.0000,9,    216.0,2,     1.60,2,     0.32,2,     0.07,2,     0.03,2,   1985.4,6,   2281.3,6,   8.0395,6,    25.00,     1412
  49UP20100417,RF1002,  3613,  1,     19,  22092,2,20100501,1300, 24.2123, 134.9888, 5141,    126.5,  20.0678,  34.7504,2,-999.0000,9,    216.4,2,     1.87,2,     0.69,2,     0.03,2,     0.04,2,   1107.8,4,   1252.5,4,   8.0232,2,    25.00,     1410
  49UP20100417,RF1002,  3613,  1,     18,  22091,2,20100501,1300, 24.2123, 134.9888, 5141,    151.8,  19.4956,  34.7301,2,-999.0000,9,    213.7,2,     2.21,2,     1.28,2,     0.00,2,     0.09,2,   2006.4,2,   2278.0,2,   8.0103,2,    25.00,     1409
  49UP20100417,RF1002,  3613,  1,     17,  22090,2,20100501,1300, 24.2123, 134.9888, 5141,    203.6,  19.1089,  34.7285,2,-999.0000,9,    218.0,2,     2.33,2,     1.47,2,     0.00,2,     0.10,2,   2005.8,2,   2276.1,2,   8.0139,3,    25.00,     1405
  49UP20100417,RF1002,  3613,  1,     16,  22089,2,20100501,1300, 24.2123, 134.9888, 5141,    254.7,  17.8661,  34.7384,2,-999.0000,9,    197.0,2,     4.26,2,     4.81,2,     0.00,2,     0.30,2,   2036.6,2,   2119.4,4,   7.9534,2,    25.00,     1403
  49UP20100417,RF1002,  3613,  1,     15,  22088,2,20100501,1300, 24.2123, 134.9888, 5141,    304.2,  16.9671,  34.7165,2,-999.0000,9,    193.1,2,     5.86,2,     6.57,2,     0.00,2,     0.42,2,   2053.4,2,   2280.3,2,   7.9284,2,    25.00,     1400
  49UP20100417,RF1002,  3613,  1,     14,  22087,2,20100501,1300, 24.2123, 134.9888, 5141,    405.1,  14.6137,  34.5565,2,-999.0000,9,    186.4,2,    12.23,2,    10.91,2,     0.00,2,     0.72,2,   2079.3,2,   2275.6,2,   7.8590,2,    25.00,     1356
  49UP20100417,RF1002,  3613,  1,     12,  22085,2,20100501,1300, 24.2123, 134.9888, 5141,    506.6,  10.2239,  34.2912,2,-999.0000,9,    157.4,6,    35.64,6,    21.01,6,     0.00,6,     1.47,6,   2175.3,2,   2284.5,2,   7.7020,2,    25.00,     1351
  49UP20100417,RF1002,  3613,  1,     13,  22086,2,20100501,1300, 24.2123, 134.9888, 5141,    508.1,  10.1992,  34.2901,2,-999.0000,9,    157.6,2,    35.84,2,    20.99,2,     0.00,2,     1.47,2,   -999.0,9,   -999.0,9,-999.0000,9,  -999.00,     1351
  49UP20100417,RF1002,  3613,  1,     11,  22110,2,20100501,1300, 24.2123, 134.9888, 5141,    607.9,   7.8700,  34.1431,2,-999.0000,9,    143.9,2,    49.47,2,    26.02,2,     0.00,2,     1.85,2,   2207.4,2,   2285.9,2,   7.6104,2,    25.00,     1346
  49UP20100417,RF1002,  3613,  1,     10,  22083,2,20100501,1300, 24.2123, 134.9888, 5141,    709.4,   6.0811,  34.1386,2,-999.0000,9,    107.0,2,    73.19,2,    32.68,2,     0.00,2,     2.34,2,   2240.3,2,   2304.8,2,   7.5026,2,    25.00,     1342
  49UP20100417,RF1002,  3613,  1,      9,  22082,2,20100501,1300, 24.2123, 134.9888, 5141,    811.0,   5.0131,  34.2134,2,-999.0000,9,     78.5,2,    94.01,2,    36.85,2,     0.00,2,     2.64,2,   2287.8,2,   2324.7,2,   7.4374,2,    25.00,     1337
  49UP20100417,RF1002,  3613,  1,      8,  22081,2,20100501,1300, 24.2123, 134.9888, 5141,    910.2,   4.3966,  34.2808,2,-999.0000,9,     62.7,2,   106.65,2,    39.18,2,     0.00,2,     2.80,2,   2307.1,2,   2342.4,2,   7.4052,2,    25.00,     1333
  49UP20100417,RF1002,  3613,  1,      7,  22080,2,20100501,1300, 24.2123, 134.9888, 5141,   1012.0,   3.9044,  34.3531,2,-999.0000,9,     57.4,2,   117.24,2,    40.20,2,     0.00,2,     2.88,2,   2326.6,6,   2355.9,2,   7.3964,6,    25.00,     1329
  49UP20100417,RF1002,  3613,  1,      6,  22079,2,20100501,1300, 24.2123, 134.9888, 5141,   1216.0,   3.1368,  34.4534,2,-999.0000,9,     63.3,2,   133.02,2,    40.89,2,     0.00,2,     2.90,2,   2345.4,2,   1732.1,4,   7.4108,2,    25.00,     1322
  49UP20100417,RF1002,  3613,  1,      4,  22077,2,20100501,1300, 24.2123, 134.9888, 5141,   1419.7,   2.6766,  34.5216,2,-999.0000,9,     79.0,6,   139.28,6,    40.07,6,     0.00,6,     2.84,6,   2344.4,2,   2426.8,2,   7.4441,2,    25.00,     1316
  49UP20100417,RF1002,  3613,  1,      5,  22078,2,20100501,1300, 24.2123, 134.9888, 5141,   1420.4,   2.6747,  34.5218,2,-999.0000,9,     79.0,2,   139.67,2,    40.21,2,     0.00,2,     2.82,2,   -999.0,9,   -999.0,9,-999.0000,9,  -999.00,     1316
  49UP20100417,RF1002,  3613,  1,      3,  22076,2,20100501,1300, 24.2123, 134.9888, 5141,   1619.7,   2.3535,  34.5576,2,-999.0000,9,     90.6,2,   143.02,2,    39.75,2,     0.00,2,     2.78,2,   2348.9,2,   2438.1,2,   7.4642,2,    25.00,     1310
  49UP20100417,RF1002,  3613,  1,      2,  22075,2,20100501,1300, 24.2123, 134.9888, 5141,   1821.5,   2.1192,  34.5931,2,-999.0000,9,    105.7,2,   143.62,2,    38.91,2,     0.00,2,     2.72,2,   2341.5,2,   2445.4,2,   7.4946,2,    25.00,     1305
  49UP20100417,RF1002,  3613,  1,      1,  22074,2,20100501,1300, 24.2123, 134.9888, 5141,   2023.7,   1.9175,  34.6188,2,-999.0000,9,    117.3,2,   144.24,2,    38.16,2,     0.00,2,     2.67,2,   2340.7,2,   2408.7,4,   7.5123,2,    25.00,     1300
  49UP20100417,RF1002,  3616,  1,     99,     99,2,20100502,0555, 24.2518, 136.9713, 4820,      0.0,  26.1396,  34.9747,2,-999.0000,9,    205.6,2,     1.08,2,     0.02,2,     0.00,2,     0.00,2,   -999.0,9,   -999.0,9,-999.0000,9,  -999.00,      753
  49UP20100417,RF1002,  3616,  1,     32,  22105,2,20100502,0555, 24.2518, 136.9713, 4820,     12.7,  26.1407,  34.9743,2,  34.9742,2,    206.9,2,     1.07,2,     0.00,2,     0.00,2,     0.00,2,   1969.3,2,   2294.6,2,   8.1041,2,    25.00,      817
  49UP20100417,RF1002,  3616,  1,     31,  22104,2,20100502,0555, 24.2518, 136.9713, 4820,     28.6,  26.1471,  34.9753,2,-999.0000,9,    207.0,2,     1.19,2,     0.00,2,     0.00,2,     0.00,2,   1968.0,2,   2291.3,2,   8.1023,2,    25.00,      816
  49UP20100417,RF1002,  3616,  1,     30,  22103,2,20100502,0555, 24.2518, 136.9713, 4820,     52.4,  26.0237,  34.9608,2,-999.0000,9,    207.1,2,     1.07,2,     0.00,2,     0.00,2,     0.00,2,   1967.6,2,   2295.6,2,   8.0969,2,    25.00,      814
  49UP20100417,RF1002,  3616,  1,     29,  22102,2,20100502,0555, 24.2518, 136.9713, 4820,     76.0,  24.5791,  34.8543,2,-999.0000,9,    213.8,2,     1.21,2,     0.16,2,     0.00,2,     0.00,2,   1965.9,2,   2290.3,2,   8.0931,2,    25.00,      811
  49UP20100417,RF1002,  3616,  1,     28,  22101,2,20100502,0555, 24.2518, 136.9713, 4820,    102.0,  23.7402,  34.8520,2,  34.8510,2,    211.2,2,     1.37,2,     0.00,2,     0.00,2,     0.00,2,   2005.7,2,   2290.4,2,   8.0758,2,    25.00,      807
  49UP20100417,RF1002,  3616,  1,     27,  22100,2,20100502,0555, 24.2518, 136.9713, 4820,    127.3,  22.2590,  34.8289,2,-999.0000,9,    205.9,2,     1.55,2,     0.04,2,     0.00,2,     0.00,2,   2016.8,2,   2968.3,4,   8.0426,2,    25.00,      806
  49UP20100417,RF1002,  3616,  1,     26,  22099,2,20100502,0555, 24.2518, 136.9713, 4820,    152.6,  21.0749,  34.8212,2,-999.0000,9,    194.7,2,     2.00,2,     0.98,2,     0.04,2,     0.06,2,   2009.8,2,   2965.0,4,   8.0068,2,    25.00,      804
  49UP20100417,RF1002,  3616,  1,     25,  22098,2,20100502,0555, 24.2518, 136.9713, 4820,    203.1,  18.7284,  34.7797,2,  34.7821,2,    194.5,2,     3.14,2,     3.21,2,     0.00,2,     0.19,2,   2032.3,2,   2961.2,4,   7.9641,2,    25.00,      801
  49UP20100417,RF1002,  3616,  1,     24,  22097,2,20100502,0555, 24.2518, 136.9713, 4820,    253.4,  17.4797,  34.7353,2,-999.0000,9,    195.9,6,     4.81,6,     5.43,6,     0.00,6,     0.33,6,   2038.1,2,   2961.3,4,   7.9476,2,    25.00,      759
  49UP20100417,RF1002,  3616,  1,     23,  22096,2,20100502,0555, 24.2518, 136.9713, 4820,    303.8,  16.4783,  34.6855,2,-999.0000,9,    194.5,2,     6.64,2,     7.14,2,     0.00,2,     0.44,2,   2052.1,2,   2953.3,4,   7.9124,2,    25.00,      757
  49UP20100417,RF1002,  3616,  1,     22,  22095,2,20100502,0555, 24.2518, 136.9713, 4820,    404.4,  13.8746,  34.4957,2,  34.4970,2,    186.3,2,    13.57,2,    11.96,2,     0.00,2,     0.79,2,   2087.1,2,   2274.3,2,   7.8360,2,    25.00,      754
  49UP20100417,RF1002,  3616,  1,     21,  22094,2,20100502,0555, 24.2518, 136.9713, 4820,    508.2,  10.4867,  34.2689,2,-999.0000,9,    171.2,2,    29.14,2,    19.03,2,     0.00,2,     1.32,2,   2138.1,2,   2282.0,2,   7.7185,2,    25.00,      750
  49UP20100417,RF1002,  3616,  1,     20,  22093,2,20100502,0555, 24.2518, 136.9713, 4820,    607.8,   7.6456,  34.1415,2,  34.1427,2,    135.3,2,    52.74,2,    27.40,2,     0.00,2,     1.94,2,   2196.0,2,   2289.1,2,   7.5900,2,    25.00,      747
  49UP20100417,RF1002,  3616,  1,     19,  22092,2,20100502,0555, 24.2518, 136.9713, 4820,    708.1,   6.1201,  34.1405,2,-999.0000,9,    103.6,2,    72.90,2,    33.01,2,     0.00,2,     2.35,2,   2247.6,2,   2354.3,4,   7.4879,2,    25.00,      743
  49UP20100417,RF1002,  3616,  1,     18,  22091,2,20100502,0555, 24.2518, 136.9713, 4820,    809.0,   5.0566,  34.2016,2,  34.2017,2,     75.5,2,    91.77,2,    37.00,2,     0.00,2,     2.67,2,   2285.2,2,   2377.0,4,   7.4236,2,    25.00,      740
  49UP20100417,RF1002,  3616,  1,     17,  22090,2,20100502,0555, 24.2518, 136.9713, 4820,    911.0,   4.3149,  34.2881,2,-999.0000,9,     59.6,2,   107.86,2,    39.61,2,     0.00,2,     2.83,2,   2316.3,2,   2394.0,4,   7.3958,2,    25.00,      737
  49UP20100417,RF1002,  3616,  1,     16,  22089,2,20100502,0555, 24.2518, 136.9713, 4820,   1011.2,   3.8955,  34.3537,2,  34.3533,6,     55.6,6,   116.79,6,    40.50,6,     0.00,6,     2.88,6,   2330.1,2,   2363.5,2,   7.3974,2,    25.00,      733
  49UP20100417,RF1002,  3616,  1,     15,  22088,2,20100502,0555, 24.2518, 136.9713, 4820,   1213.5,   3.1267,  34.4554,2,  34.4547,2,     62.6,2,   133.24,2,    40.79,2,     0.00,2,     2.91,2,   2346.0,2,   2383.7,2,   7.4078,2,    25.00,      728
  49UP20100417,RF1002,  3616,  1,     14,  22087,2,20100502,0555, 24.2518, 136.9713, 4820,   1417.0,   2.6787,  34.5173,2,-999.0000,9,     75.8,2,   139.91,2,    40.43,2,     0.00,2,     2.86,2,   2352.8,2,   2397.6,2,   7.4348,2,    25.00,      722
  49UP20100417,RF1002,  3616,  1,     13,  22086,2,20100502,0555, 24.2518, 136.9713, 4820,   1618.2,   2.3540,  34.5618,2,  34.5621,2,     92.0,2,   142.49,2,    39.53,2,     0.00,2,     2.78,2,   2348.3,2,   2401.7,2,   7.4687,2,    25.00,      717
  49UP20100417,RF1002,  3616,  1,     12,  22085,2,20100502,0555, 24.2518, 136.9713, 4820,   1821.5,   2.1365,  34.5962,2,-999.0000,9,    105.9,2,   143.38,2,    38.67,2,     0.00,2,     2.72,2,   2340.3,2,   2408.4,2,   7.4983,2,    25.00,      711
  49UP20100417,RF1002,  3616,  1,     11,  22110,2,20100502,0555, 24.2518, 136.9713, 4820,   2025.3,   1.9788,  34.6179,2,  34.6165,2,    116.3,2,   143.88,2,    38.16,2,     0.00,2,     2.68,2,   2344.3,2,   2411.9,2,   7.5134,2,    25.00,      706
  49UP20100417,RF1002,  3616,  1,     10,  22083,2,20100502,0555, 24.2518, 136.9713, 4820,   2279.0,   1.8388,  34.6333,2,-999.0000,9,    123.7,2,   144.01,2,    38.02,2,     0.00,2,     2.65,2,   2338.2,2,   2400.7,3,   7.5291,2,    25.00,      700
  49UP20100417,RF1002,  3616,  1,      9,  22082,2,20100502,0555, 24.2518, 136.9713, 4820,   2534.7,   1.7422,  34.6455,2,  34.6460,2,    130.5,2,   143.94,2,    37.50,2,     0.00,2,     2.62,2,   2337.9,2,   2408.9,2,   7.5374,2,    25.00,      653
  49UP20100417,RF1002,  3616,  1,      8,  22081,2,20100502,0555, 24.2518, 136.9713, 4820,   2786.7,   1.6787,  34.6547,2,-999.0000,9,    135.9,2,   144.17,2,    37.08,2,     0.00,2,     2.59,2,   2335.5,2,   2415.5,2,   7.5480,2,    25.00,      646
  49UP20100417,RF1002,  3616,  1,      7,  22080,2,20100502,0555, 24.2518, 136.9713, 4820,   3041.7,   1.6358,  34.6614,2,  34.6614,2,    140.3,2,   143.77,2,    36.85,2,     0.00,2,     2.56,2,   2335.0,2,   2416.2,2,   7.5583,2,    25.00,      640
  49UP20100417,RF1002,  3616,  1,      6,  22079,2,20100502,0555, 24.2518, 136.9713, 4820,   3298.1,   1.5940,  34.6681,2,  34.6690,2,    144.9,2,   143.91,2,    36.69,2,     0.00,2,     2.55,2,   2329.1,2,   2409.7,2,   7.5602,2,    25.00,      633
  49UP20100417,RF1002,  3616,  1,      5,  22078,2,20100502,0555, 24.2518, 136.9713, 4820,   3552.9,   1.5521,  34.6745,2,  34.6755,2,    149.9,2,   143.20,2,    36.27,2,     0.00,2,     2.51,2,   2330.7,2,   2419.1,2,   7.5692,2,    25.00,      626
  49UP20100417,RF1002,  3616,  1,      4,  22077,2,20100502,0555, 24.2518, 136.9713, 4820,   3809.4,   1.5290,  34.6794,2,  34.6790,2,    153.6,2,   142.45,2,    36.12,2,     0.00,2,     2.51,2,   2328.4,2,   2412.8,2,   7.5757,2,    25.00,      620
  49UP20100417,RF1002,  3616,  1,      3,  22076,2,20100502,0555, 24.2518, 136.9713, 4820,   4066.0,   1.5369,  34.6810,2,  34.6824,2,    155.2,2,   141.97,2,    35.95,2,     0.00,2,     2.49,2,   2328.3,2,   2417.0,2,   7.5766,2,    25.00,      613
  49UP20100417,RF1002,  3616,  1,      2,  22075,2,20100502,0555, 24.2518, 136.9713, 4820,   4320.8,   1.5546,  34.6820,2,  34.6829,2,    156.1,2,   142.11,2,    35.99,2,     0.00,2,     2.48,2,   2320.5,2,   2414.9,2,   7.5794,2,    25.00,      607
  49UP20100417,RF1002,  3616,  1,      1,  22074,2,20100502,0555, 24.2518, 136.9713, 4820,   4787.6,   1.6060,  34.6820,2,  34.6830,2,    156.6,2,   141.97,2,    35.96,2,     0.00,2,     2.47,2,   2325.7,2,   2422.2,2,   7.5853,2,    25.00,      555