BOTTLE,20200204PRINUNIVRMK
EXPOCODE,SECT_ID,STNNBR,CASTNO,SAMPNO,BTLNBR,BTLNBR_FLAG_W,DATE,TIME,LATITUDE,LONGITUDE,DEPTH,CTDPRS,CTDTMP,CTDSAL,CTDSAL_FLAG_W,SALNTY,SALNTY_FLAG_W,OXYGEN,OXYGEN_FLAG_W,SILCAT,SILCAT_FLAG_W,NITRAT,NITRAT_FLAG_W,NITRIT,NITRIT_FLAG_W,PHSPHT,PHSPHT_FLAG_W,TCARBN,TCARBN_FLAG_W,ALKALI,ALKALI_FLAG_W,PH_TOT,PH_TOT_FLAG_W,PH_TMP,BTL_TIME
,,,,,,,,,,,METERS,DBAR,ITS-90,PSS-78,,PSS-78,,UMOL/KG,,UMOL/KG,,UMOL/KG,,UMOL/KG,,UMOL/KG,,UMOL/KG,,UMOL/KG,,,,DEG C,
  49UP20100417,RF1002,  3597,  1,     99,     99,2,20100428,0215, 25.3440, 128.9918, 5505,      0.0,  24.2552,  34.8295,2,-999.0000,9,    216.5,2,     1.13,2,     0.18,2,     0.00,2,     0.00,2,   -999.0,9,   -999.0,9,-999.0000,9,  -999.00,      435
  49UP20100417,RF1002,  3597,  1,     36,  22109,2,20100428,0215, 25.3440, 128.9918, 5505,     11.1,  24.2591,  34.8299,2,  34.8301,2,    211.5,2,     1.34,2,     0.06,2,     0.00,2,     0.00,2,   -999.0,9,   -999.0,9,-999.0000,9,  -999.00,      452
  49UP20100417,RF1002,  3597,  1,     35,  22108,2,20100428,0215, 25.3440, 128.9918, 5505,     27.1,  24.2648,  34.8297,2,-999.0000,9,    211.3,2,     1.24,2,     0.09,2,     0.00,2,     0.00,2,   -999.0,9,   -999.0,9,-999.0000,9,  -999.00,      451
  49UP20100417,RF1002,  3597,  1,     34,  22107,2,20100428,0215, 25.3440, 128.9918, 5505,     51.0,  24.2560,  34.8273,2,-999.0000,9,    211.4,2,     1.26,2,     0.07,2,     0.00,2,     0.00,2,   -999.0,9,   -999.0,9,-999.0000,9,  -999.00,      446
  49UP20100417,RF1002,  3597,  1,     33,  22106,2,20100428,0215, 25.3440, 128.9918, 5505,     70.7,  23.4706,  34.7702,2,-999.0000,9,    205.4,2,     1.50,2,     0.07,2,     0.00,2,     0.00,2,   -999.0,9,   -999.0,9,-999.0000,9,  -999.00,      444
  49UP20100417,RF1002,  3597,  1,     32,  22105,2,20100428,0215, 25.3440, 128.9918, 5505,     99.6,  22.1527,  34.7748,2,  34.7699,2,    216.8,2,     1.46,2,     0.11,2,     0.00,2,     0.00,2,   -999.0,9,   -999.0,9,-999.0000,9,  -999.00,      442
  49UP20100417,RF1002,  3597,  1,     31,  22104,2,20100428,0215, 25.3440, 128.9918, 5505,    125.8,  21.7523,  34.7644,2,-999.0000,9,    218.2,2,     1.50,2,     0.04,2,     0.06,2,     0.00,2,   -999.0,9,   -999.0,9,-999.0000,9,  -999.00,      440
  49UP20100417,RF1002,  3597,  1,     30,  22103,2,20100428,0215, 25.3440, 128.9918, 5505,    149.2,  21.2632,  34.7147,2,-999.0000,9,    211.6,6,     1.69,6,     0.74,6,     0.01,6,     0.04,6,   -999.0,9,   -999.0,9,-999.0000,9,  -999.00,      439
  49UP20100417,RF1002,  3597,  1,     29,  22102,2,20100428,0215, 25.3440, 128.9918, 5505,    200.7,  20.6400,  34.7189,2,  34.7197,2,    205.8,2,     2.16,2,     1.67,2,     0.00,2,     0.09,2,   -999.0,9,   -999.0,9,-999.0000,9,  -999.00,      436
  49UP20100417,RF1002,  3597,  1,     28,  22101,2,20100428,0215, 25.3440, 128.9918, 5505,    253.3,  19.2639,  34.7577,2,-999.0000,9,    193.8,2,     3.35,2,     3.74,2,     0.00,2,     0.22,2,   -999.0,9,   -999.0,9,-999.0000,9,  -999.00,      434
  49UP20100417,RF1002,  3597,  1,     27,  22100,2,20100428,0215, 25.3440, 128.9918, 5505,    303.8,  17.9968,  34.7729,2,-999.0000,9,    193.6,2,     4.18,2,     5.01,2,     0.00,2,     0.31,2,   -999.0,9,   -999.0,9,-999.0000,9,  -999.00,      431
  49UP20100417,RF1002,  3597,  1,     26,  22099,3,20100428,0215, 25.3440, 128.9918, 5505,    403.0,  15.6903,  34.6288,2,  34.6265,2,    184.1,2,     9.18,2,     9.38,2,     0.00,2,     0.61,2,   -999.0,9,   -999.0,9,-999.0000,9,  -999.00,      428
  49UP20100417,RF1002,  3597,  1,     25,  22098,2,20100428,0215, 25.3440, 128.9918, 5505,    503.8,  12.8993,  34.4356,2,-999.0000,9,    164.7,2,    20.29,2,    15.62,2,     0.00,2,     1.08,2,   -999.0,9,   -999.0,9,-999.0000,9,  -999.00,      424
  49UP20100417,RF1002,  3597,  1,     24,  22097,2,20100428,0215, 25.3440, 128.9918, 5505,    603.6,  10.1683,  34.2383,2,  34.2350,2,    161.6,2,    30.03,2,    20.67,2,     0.00,2,     1.45,2,   -999.0,9,   -999.0,9,-999.0000,9,  -999.00,      421
  49UP20100417,RF1002,  3597,  1,     23,  22096,2,20100428,0215, 25.3440, 128.9918, 5505,    706.3,   7.4580,  34.1686,2,-999.0000,9,    122.9,2,    58.13,2,    28.90,2,     0.00,2,     2.06,2,   -999.0,9,   -999.0,9,-999.0000,9,  -999.00,      418
  49UP20100417,RF1002,  3597,  1,     22,  22095,2,20100428,0215, 25.3440, 128.9918, 5505,    808.3,   5.7596,  34.1905,2,  34.1905,6,     88.6,6,    80.87,6,    34.70,6,     0.00,6,     2.50,6,   -999.0,9,   -999.0,9,-999.0000,9,  -999.00,      414
  49UP20100417,RF1002,  3597,  1,     21,  22094,2,20100428,0215, 25.3440, 128.9918, 5505,    908.8,   4.8128,  34.2664,2,-999.0000,9,     68.4,2,    98.58,2,    38.00,2,     0.00,2,     2.72,2,   -999.0,9,   -999.0,9,-999.0000,9,  -999.00,      411
  49UP20100417,RF1002,  3597,  1,     20,  22093,2,20100428,0215, 25.3440, 128.9918, 5505,   1011.5,   4.2504,  34.3407,2,  34.3405,2,     62.0,2,   110.73,2,    39.50,2,     0.00,2,     2.82,2,   -999.0,9,   -999.0,9,-999.0000,9,  -999.00,      407
  49UP20100417,RF1002,  3597,  1,     19,  22092,2,20100428,0215, 25.3440, 128.9918, 5505,   1211.9,   3.3607,  34.4435,2,  34.4443,2,     65.3,2,   128.42,2,    40.04,2,     0.00,2,     2.86,2,   -999.0,9,   -999.0,9,-999.0000,9,  -999.00,      401
  49UP20100417,RF1002,  3597,  1,     18,  22091,2,20100428,0215, 25.3440, 128.9918, 5505,   1416.1,   2.8170,  34.5019,2,-999.0000,9,     75.6,2,   137.53,2,    40.18,2,     0.00,2,     2.84,2,   -999.0,9,   -999.0,9,-999.0000,9,  -999.00,      356
  49UP20100417,RF1002,  3597,  1,     17,  22090,2,20100428,0215, 25.3440, 128.9918, 5505,   1617.1,   2.4226,  34.5515,2,  34.5534,2,     89.5,2,   142.11,2,    39.51,2,     0.00,2,     2.79,2,   -999.0,9,   -999.0,9,-999.0000,9,  -999.00,      351
  49UP20100417,RF1002,  3597,  1,     16,  22089,2,20100428,0215, 25.3440, 128.9918, 5505,   1819.6,   2.1937,  34.5846,2,-999.0000,9,    101.9,2,   143.46,2,    39.07,2,     0.00,2,     2.73,2,   -999.0,9,   -999.0,9,-999.0000,9,  -999.00,      346
  49UP20100417,RF1002,  3597,  1,     15,  22088,2,20100428,0215, 25.3440, 128.9918, 5505,   2024.9,   2.0131,  34.6093,2,  34.6099,2,    112.8,2,   143.90,2,    38.41,2,     0.00,2,     2.68,2,   -999.0,9,   -999.0,9,-999.0000,9,  -999.00,      341
  49UP20100417,RF1002,  3597,  1,     14,  22087,2,20100428,0215, 25.3440, 128.9918, 5505,   2279.1,   1.8636,  34.6316,2,-999.0000,9,    122.4,2,   144.29,2,    37.98,2,     0.00,2,     2.65,2,   -999.0,9,   -999.0,9,-999.0000,9,  -999.00,      335
  49UP20100417,RF1002,  3597,  1,     13,  22086,2,20100428,0215, 25.3440, 128.9918, 5505,   2532.1,   1.7419,  34.6477,2,  34.6479,2,    131.3,2,   144.32,2,    37.41,2,     0.00,2,     2.60,2,   -999.0,9,   -999.0,9,-999.0000,9,  -999.00,      329
  49UP20100417,RF1002,  3597,  1,     12,  22085,2,20100428,0215, 25.3440, 128.9918, 5505,   2786.6,   1.6647,  34.6586,2,-999.0000,9,    137.0,2,   144.15,2,    37.14,2,     0.00,2,     2.57,2,   -999.0,9,   -999.0,9,-999.0000,9,  -999.00,      323
  49UP20100417,RF1002,  3597,  1,     11,  22110,2,20100428,0215, 25.3440, 128.9918, 5505,   3040.8,   1.6118,  34.6651,2,  34.6931,4,    141.9,2,   143.63,2,    36.89,2,     0.00,2,     2.56,2,   -999.0,9,   -999.0,9,-999.0000,9,  -999.00,      317
  49UP20100417,RF1002,  3597,  1,     10,  22083,2,20100428,0215, 25.3440, 128.9918, 5505,   3296.7,   1.5797,  34.6707,2,-999.0000,9,    145.8,2,   143.65,2,    36.59,2,     0.00,2,     2.53,2,   -999.0,9,   -999.0,9,-999.0000,9,  -999.00,      311
  49UP20100417,RF1002,  3597,  1,      9,  22082,3,20100428,0215, 25.3440, 128.9918, 5505,   3553.3,   1.5639,  34.6747,2,  34.6737,2,    149.2,2,   142.72,2,    36.45,2,     0.00,2,     2.51,2,   -999.0,9,   -999.0,9,-999.0000,9,  -999.00,      305
  49UP20100417,RF1002,  3597,  1,      8,  22081,2,20100428,0215, 25.3440, 128.9918, 5505,   3809.6,   1.5654,  34.6771,2,-999.0000,9,    150.7,2,   143.01,2,    36.25,2,     0.00,2,     2.51,2,   -999.0,9,   -999.0,9,-999.0000,9,  -999.00,      259
  49UP20100417,RF1002,  3597,  1,      7,  22080,2,20100428,0215, 25.3440, 128.9918, 5505,   4065.3,   1.5752,  34.6788,2,  34.6797,2,    152.1,2,   142.71,2,    36.02,2,     0.00,2,     2.50,2,   -999.0,9,   -999.0,9,-999.0000,9,  -999.00,      252
  49UP20100417,RF1002,  3597,  1,      6,  22079,2,20100428,0215, 25.3440, 128.9918, 5505,   4320.5,   1.5897,  34.6802,2,  34.6802,2,    153.2,2,   142.53,2,    36.15,2,     0.00,2,     2.49,2,   -999.0,9,   -999.0,9,-999.0000,9,  -999.00,      246
  49UP20100417,RF1002,  3597,  1,      5,  22078,2,20100428,0215, 25.3440, 128.9918, 5505,   4578.5,   1.6101,  34.6812,2,-999.0000,5,    154.1,2,   142.50,2,    36.10,2,     0.00,2,     2.49,2,   -999.0,9,   -999.0,9,-999.0000,9,  -999.00,      239
  49UP20100417,RF1002,  3597,  1,      4,  22077,2,20100428,0215, 25.3440, 128.9918, 5505,   4835.9,   1.6335,  34.6818,2,  34.6810,2,    154.6,2,   141.84,2,    35.92,2,     0.00,2,     2.49,2,   -999.0,9,   -999.0,9,-999.0000,9,  -999.00,      233
  49UP20100417,RF1002,  3597,  1,      3,  22076,3,20100428,0215, 25.3440, 128.9918, 5505,   5093.2,   1.6643,  34.6820,2,  34.6829,2,    154.8,2,   142.27,2,    36.00,2,     0.00,2,     2.49,2,   -999.0,9,   -999.0,9,-999.0000,9,  -999.00,      226
  49UP20100417,RF1002,  3597,  1,      2,  22075,2,20100428,0215, 25.3440, 128.9918, 5505,   5349.1,   1.6971,  34.6819,2,  34.6833,2,    154.8,2,   142.25,2,    36.01,2,     0.00,2,     2.47,2,   -999.0,9,   -999.0,9,-999.0000,9,  -999.00,      220
  49UP20100417,RF1002,  3597,  1,      1,  22074,2,20100428,0215, 25.3440, 128.9918, 5505,   5549.9,   1.7240,  34.6815,2,  34.6822,2,    155.0,2,   142.06,2,    35.84,2,     0.00,2,     2.47,2,   -999.0,9,   -999.0,9,-999.0000,9,  -999.00,      215
  49UP20100417,RF1002,  3599,  1,     99,     99,2,20100428,1649, 24.9927, 129.4833, 3968,      0.0,  23.9060,  34.7916,2,-999.0000,9,    211.0,2,  -999.00,9,  -999.00,9,  -999.00,9,  -999.00,9,   -999.0,9,   -999.0,9,-999.0000,9,  -999.00,     1730
  49UP20100417,RF1002,  3599,  1,     24,  22097,2,20100428,1649, 24.9927, 129.4833, 3968,     11.6,  23.9121,  34.7922,2,-999.0000,9,    212.3,2,  -999.00,9,  -999.00,9,  -999.00,9,  -999.00,9,   -999.0,9,   -999.0,9,-999.0000,9,  -999.00,     1805
  49UP20100417,RF1002,  3599,  1,     23,  22096,2,20100428,1649, 24.9927, 129.4833, 3968,     26.4,  23.9152,  34.7923,2,-999.0000,9,    212.2,2,  -999.00,9,  -999.00,9,  -999.00,9,  -999.00,9,   -999.0,9,   -999.0,9,-999.0000,9,  -999.00,     1803
  49UP20100417,RF1002,  3599,  1,     22,  22095,2,20100428,1649, 24.9927, 129.4833, 3968,     50.9,  23.9181,  34.7922,2,-999.0000,9,    212.4,2,  -999.00,9,  -999.00,9,  -999.00,9,  -999.00,9,   -999.0,9,   -999.0,9,-999.0000,9,  -999.00,     1757
  49UP20100417,RF1002,  3599,  1,     21,  22094,2,20100428,1649, 24.9927, 129.4833, 3968,     74.9,  23.7220,  34.7762,2,-999.0000,9,    212.0,2,  -999.00,9,  -999.00,9,  -999.00,9,  -999.00,9,   -999.0,9,   -999.0,9,-999.0000,9,  -999.00,     1755
  49UP20100417,RF1002,  3599,  1,     20,  22093,2,20100428,1649, 24.9927, 129.4833, 3968,    101.9,  22.8451,  34.7643,2,-999.0000,9,    208.4,2,  -999.00,9,  -999.00,9,  -999.00,9,  -999.00,9,   -999.0,9,   -999.0,9,-999.0000,9,  -999.00,     1754
  49UP20100417,RF1002,  3599,  1,     19,  22092,2,20100428,1649, 24.9927, 129.4833, 3968,    126.5,  22.2337,  34.7581,2,-999.0000,9,    196.5,2,  -999.00,9,  -999.00,9,  -999.00,9,  -999.00,9,   -999.0,9,   -999.0,9,-999.0000,9,  -999.00,     1752
  49UP20100417,RF1002,  3599,  1,     18,  22091,2,20100428,1649, 24.9927, 129.4833, 3968,    151.8,  21.8483,  34.7612,2,-999.0000,9,    210.3,2,  -999.00,9,  -999.00,9,  -999.00,9,  -999.00,9,   -999.0,9,   -999.0,9,-999.0000,9,  -999.00,     1750
  49UP20100417,RF1002,  3599,  1,     16,  22089,2,20100428,1649, 24.9927, 129.4833, 3968,    204.2,  20.5856,  34.7831,2,-999.0000,9,    189.4,6,  -999.00,9,  -999.00,9,  -999.00,9,  -999.00,9,   -999.0,9,   -999.0,9,-999.0000,9,  -999.00,     1747
  49UP20100417,RF1002,  3599,  1,     17,  22090,2,20100428,1649, 24.9927, 129.4833, 3968,    204.7,  20.5607,  34.7913,2,-999.0000,9,    189.2,2,  -999.00,9,  -999.00,9,  -999.00,9,  -999.00,9,   -999.0,9,   -999.0,9,-999.0000,9,  -999.00,     1747
  49UP20100417,RF1002,  3599,  1,     15,  22088,2,20100428,1649, 24.9927, 129.4833, 3968,    252.0,  18.9804,  34.7852,2,-999.0000,9,    189.4,2,  -999.00,9,  -999.00,9,  -999.00,9,  -999.00,9,   -999.0,9,   -999.0,9,-999.0000,9,  -999.00,     1744
  49UP20100417,RF1002,  3599,  1,     14,  22087,2,20100428,1649, 24.9927, 129.4833, 3968,    302.6,  17.6485,  34.7565,2,-999.0000,9,    189.2,2,  -999.00,9,  -999.00,9,  -999.00,9,  -999.00,9,   -999.0,9,   -999.0,9,-999.0000,9,  -999.00,     1742
  49UP20100417,RF1002,  3599,  1,     13,  22086,2,20100428,1649, 24.9927, 129.4833, 3968,    404.8,  15.0782,  34.5853,2,-999.0000,9,    182.7,2,  -999.00,9,  -999.00,9,  -999.00,9,  -999.00,9,   -999.0,9,   -999.0,9,-999.0000,9,  -999.00,     1738
  49UP20100417,RF1002,  3599,  1,     12,  22085,2,20100428,1649, 24.9927, 129.4833, 3968,    505.5,  12.1086,  34.3849,2,-999.0000,9,    170.3,2,  -999.00,9,  -999.00,9,  -999.00,9,  -999.00,9,   -999.0,9,   -999.0,9,-999.0000,9,  -999.00,     1734
  49UP20100417,RF1002,  3599,  1,     11,  22110,2,20100428,1649, 24.9927, 129.4833, 3968,    604.7,   8.9808,  34.2071,2,-999.0000,9,    146.0,2,  -999.00,9,  -999.00,9,  -999.00,9,  -999.00,9,   -999.0,9,   -999.0,9,-999.0000,9,  -999.00,     1730
  49UP20100417,RF1002,  3599,  1,     10,  22083,2,20100428,1649, 24.9927, 129.4833, 3968,    706.7,   6.9369,  34.1624,2,-999.0000,9,    113.2,2,  -999.00,9,  -999.00,9,  -999.00,9,  -999.00,9,   -999.0,9,   -999.0,9,-999.0000,9,  -999.00,     1727
  49UP20100417,RF1002,  3599,  1,      9,  22082,2,20100428,1649, 24.9927, 129.4833, 3968,    806.2,   5.5495,  34.2026,2,-999.0000,9,     83.2,2,  -999.00,9,  -999.00,9,  -999.00,9,  -999.00,9,   -999.0,9,   -999.0,9,-999.0000,9,  -999.00,     1723
  49UP20100417,RF1002,  3599,  1,      7,  22080,2,20100428,1649, 24.9927, 129.4833, 3968,    907.8,   4.7554,  34.2720,2,-999.0000,9,     67.0,6,  -999.00,9,  -999.00,9,  -999.00,9,  -999.00,9,   -999.0,9,   -999.0,9,-999.0000,9,  -999.00,     1719
  49UP20100417,RF1002,  3599,  1,      8,  22081,2,20100428,1649, 24.9927, 129.4833, 3968,    909.2,   4.7290,  34.2739,2,-999.0000,9,     67.1,2,  -999.00,9,  -999.00,9,  -999.00,9,  -999.00,9,   -999.0,9,   -999.0,9,-999.0000,9,  -999.00,     1720
  49UP20100417,RF1002,  3599,  1,      6,  22079,2,20100428,1649, 24.9927, 129.4833, 3968,   1011.1,   4.0180,  34.3604,2,-999.0000,9,     61.9,2,  -999.00,9,  -999.00,9,  -999.00,9,  -999.00,9,   -999.0,9,   -999.0,9,-999.0000,9,  -999.00,     1716
  49UP20100417,RF1002,  3599,  1,      5,  22078,2,20100428,1649, 24.9927, 129.4833, 3968,   1214.9,   3.2213,  34.4507,2,-999.0000,9,     65.2,2,  -999.00,9,  -999.00,9,  -999.00,9,  -999.00,9,   -999.0,9,   -999.0,9,-999.0000,9,  -999.00,     1710
  49UP20100417,RF1002,  3599,  1,      4,  22077,2,20100428,1649, 24.9927, 129.4833, 3968,   1415.4,   2.7485,  34.5144,2,-999.0000,9,     78.4,2,  -999.00,9,  -999.00,9,  -999.00,9,  -999.00,9,   -999.0,9,   -999.0,9,-999.0000,9,  -999.00,     1705
  49UP20100417,RF1002,  3599,  1,      3,  22076,2,20100428,1649, 24.9927, 129.4833, 3968,   1619.2,   2.4105,  34.5545,2,-999.0000,9,     91.2,2,  -999.00,9,  -999.00,9,  -999.00,9,  -999.00,9,   -999.0,9,   -999.0,9,-999.0000,9,  -999.00,     1659
  49UP20100417,RF1002,  3599,  1,      2,  22075,2,20100428,1649, 24.9927, 129.4833, 3968,   1819.7,   2.1764,  34.5855,2,-999.0000,9,    102.2,2,  -999.00,9,  -999.00,9,  -999.00,9,  -999.00,9,   -999.0,9,   -999.0,9,-999.0000,9,  -999.00,     1654
  49UP20100417,RF1002,  3599,  1,      1,  22074,2,20100428,1649, 24.9927, 129.4833, 3968,   2023.2,   1.9996,  34.6106,2,-999.0000,9,    113.4,2,  -999.00,9,  -999.00,9,  -999.00,9,  -999.00,9,   -999.0,9,   -999.0,9,-999.0000,9,  -999.00,     1649