BOTTLE,20191018PRINUNIVRMK
EXPOCODE,SECT_ID,STNNBR,CASTNO,SAMPNO,BTLNBR,BTLNBR_FLAG_W,DATE,TIME,LATITUDE,LONGITUDE,DEPTH,CTDPRS,CTDTMP,CTDSAL,CTDSAL_FLAG_W,SALNTY,SALNTY_FLAG_W,OXYGEN,OXYGEN_FLAG_W,SILCAT,SILCAT_FLAG_W,NITRAT,NITRAT_FLAG_W,NITRIT,NITRIT_FLAG_W,PHSPHT,PHSPHT_FLAG_W,TCARBN,TCARBN_FLAG_W,ALKALI,ALKALI_FLAG_W,PH_TOT,PH_TOT_FLAG_W,PH_TMP,BTL_TIME
,,,,,,,,,,,METERS,DBAR,ITS-90,PSS-78,,PSS-78,,UMOL/KG,,UMOL/KG,,UMOL/KG,,UMOL/KG,,UMOL/KG,,UMOL/KG,,UMOL/KG,,,,DEG C,
  49UF20130107,KS1301,  3724,  1,     99,     99,2,20130110,0516, 24.2280, 134.9880, 5141,      0.0,  23.6604,  34.6456,2,  34.6485,2,    213.0,2,     0.14,2,     0.06,2,     0.00,2,     0.00,2,   1954.7,2,   2270.7,2,   8.0808,2,    25.00,      550
  49UF20130107,KS1301,  3724,  1,     33,  21992,2,20130110,0516, 24.2280, 134.9880, 5141,     10.3,  23.6590,  34.6457,2,  34.6462,2,    213.1,2,     0.14,2,     0.05,2,     0.00,2,     0.00,2,   1957.2,2,   2271.9,2,   8.0875,2,    25.00,      611
  49UF20130107,KS1301,  3724,  1,     32,  21991,2,20130110,0516, 24.2280, 134.9880, 5141,     24.9,  23.2141,  34.6907,2,-999.0000,9,    214.3,2,     0.18,2,     0.05,2,     0.00,2,     0.00,2,   1958.5,2,   2269.6,2,   8.0913,2,    25.00,      610
  49UF20130107,KS1301,  3724,  1,     31,  21990,2,20130110,0516, 24.2280, 134.9880, 5141,     50.4,  22.8108,  34.7220,2,-999.0000,9,    215.2,2,     0.23,2,     0.07,2,     0.00,2,     0.00,2,   1963.0,2,   2273.9,2,   8.0795,2,    25.00,      609
  49UF20130107,KS1301,  3724,  1,     30,  21989,2,20130110,0516, 24.2280, 134.9880, 5141,     75.0,  22.4393,  34.7208,2,-999.0000,9,    216.8,2,     0.28,2,     0.04,2,     0.00,2,     0.00,2,   1968.2,2,   2270.2,2,   8.0732,2,    25.00,      608
  49UF20130107,KS1301,  3724,  1,     29,  21988,2,20130110,0516, 24.2280, 134.9880, 5141,     99.4,  21.5467,  34.8294,2,  34.8296,2,    209.8,2,     0.65,2,     0.47,2,     0.07,2,     0.03,2,   1998.3,2,   2287.0,2,   8.0275,2,    25.00,      605
  49UF20130107,KS1301,  3724,  1,     28,  21987,2,20130110,0516, 24.2280, 134.9880, 5141,    126.8,  19.7424,  34.8333,2,-999.0000,9,    203.2,2,     1.17,2,     1.62,2,     0.02,2,     0.10,2,   2016.8,2,   2282.1,2,   7.9918,2,    25.00,      603
  49UF20130107,KS1301,  3724,  1,     24,  21983,2,20130110,0516, 24.2280, 134.9880, 5141,    151.2,  19.0532,  34.8065,2,-999.0000,9,    203.0,6,     1.55,6,     2.57,6,     0.01,6,     0.16,6,   2022.4,2,   2283.3,2,   7.9847,2,    25.00,      602
  49UF20130107,KS1301,  3724,  1,     23,  22095,2,20130110,0516, 24.2280, 134.9880, 5141,    201.4,  18.1112,  34.7578,2,  34.7584,2,    200.3,2,     2.39,2,     4.01,2,     0.01,2,     0.25,2,   2032.4,2,   2276.6,2,   7.9602,2,    25.00,      600
  49UF20130107,KS1301,  3724,  1,     22,  21981,2,20130110,0516, 24.2280, 134.9880, 5141,    251.1,  17.3589,  34.7135,2,-999.0000,9,    203.2,2,     3.28,2,     4.97,2,     0.00,2,     0.31,2,   2036.6,2,   2276.7,2,   7.9516,2,    25.00,      559
  49UF20130107,KS1301,  3724,  1,     21,  21980,2,20130110,0516, 24.2280, 134.9880, 5141,    303.1,  16.5903,  34.6652,2,-999.0000,9,    198.3,2,     4.96,2,     6.47,2,     0.00,2,     0.42,2,   2048.6,2,   2274.3,2,   7.9232,2,    25.00,      557
  49UF20130107,KS1301,  3724,  1,     20,  21979,2,20130110,0516, 24.2280, 134.9880, 5141,    402.9,  13.9684,  34.4915,2,  34.4950,2,    184.6,2,    12.36,2,    11.66,2,     0.00,2,     0.79,2,   2087.2,2,   2272.0,2,   7.8365,2,    25.00,      554
  49UF20130107,KS1301,  3724,  1,     19,  21978,2,20130110,0516, 24.2280, 134.9880, 5141,    506.3,  11.2601,  34.2985,2,-999.0000,9,    178.1,2,    20.24,2,    16.56,2,     0.00,2,     1.15,2,   2121.8,2,   2267.1,2,   7.7435,2,    25.00,      551
  49UF20130107,KS1301,  3724,  1,     18,  21977,2,20130110,0516, 24.2280, 134.9880, 5141,    605.2,   8.8147,  34.1875,2,  34.1871,2,    152.5,2,    40.05,2,    23.50,2,     0.00,2,     1.66,2,   2174.4,2,   2281.9,2,   7.6425,2,    25.00,      548
  49UF20130107,KS1301,  3724,  1,     17,  21976,2,20130110,0516, 24.2280, 134.9880, 5141,    707.0,   6.4693,  34.1266,2,-999.0000,9,    115.2,2,    63.29,2,    30.84,2,     0.00,2,     2.21,2,   2233.3,2,   2301.1,2,   7.5206,2,    25.00,      545
  49UF20130107,KS1301,  3724,  1,     16,  21975,2,20130110,0516, 24.2280, 134.9880, 5141,    807.4,   5.2851,  34.1897,2,  34.1891,2,     81.8,2,    84.14,2,    35.71,2,     0.00,2,     2.56,2,   2281.8,6,   2322.3,6,   7.4419,2,    25.00,      542
  49UF20130107,KS1301,  3724,  1,     12,  21962,2,20130110,0516, 24.2280, 134.9880, 5141,    908.5,   4.2997,  34.2840,2,  34.2833,2,     62.2,2,   104.24,2,    39.20,2,     0.00,2,     2.79,2,   2317.0,2,   2341.8,2,   7.3994,2,    25.00,      539
  49UF20130107,KS1301,  3724,  1,     11,  21970,2,20130110,0516, 24.2280, 134.9880, 5141,    908.5,   4.2997,  34.2840,2,  34.2838,2,     61.5,2,   104.36,2,    39.17,2,     0.00,2,     2.79,2,   2317.7,2,   2343.5,2,   7.3975,2,    25.00,      539
  49UF20130107,KS1301,  3724,  1,     10,  21969,2,20130110,0516, 24.2280, 134.9880, 5141,   1009.1,   3.7924,  34.3601,2,  34.3586,2,     56.6,2,   115.32,2,    40.11,2,     0.00,2,     2.87,2,   2332.1,2,   2354.5,2,   7.3946,6,    25.00,      536
  49UF20130107,KS1301,  3724,  1,      9,  21968,2,20130110,0516, 24.2280, 134.9880, 5141,   1212.5,   3.1630,  34.4546,2,  34.4532,2,     62.6,6,   128.43,6,    40.41,6,     0.00,6,     2.88,6,   2351.1,2,   2379.1,2,   7.4074,2,    25.00,      531
  49UF20130107,KS1301,  3724,  1,      8,  21982,2,20130110,0516, 24.2280, 134.9880, 5141,   1415.7,   2.7084,  34.5153,2,  34.5163,2,     76.6,2,   136.04,2,    40.08,2,     0.00,2,     2.83,2,   2354.6,2,   2391.1,2,   7.4376,2,    25.00,      527
  49UF20130107,KS1301,  3724,  1,      7,  21966,2,20130110,0516, 24.2280, 134.9880, 5141,   1415.7,   2.7084,  34.5153,2,  34.5155,2,     76.7,2,   135.96,2,    40.03,2,     0.00,2,     2.83,2,   2352.1,2,   2391.3,2,   7.4372,2,    25.00,      527
  49UF20130107,KS1301,  3724,  1,      3,  22079,2,20130110,0516, 24.2280, 134.9880, 5141,   1617.9,   2.4083,  34.5573,2,  34.5575,2,     90.9,6,   139.08,6,    39.29,6,     0.00,6,     2.77,6,   2349.3,2,   2399.7,2,   7.4639,2,    25.00,      523
  49UF20130107,KS1301,  3724,  1,      2,  21961,2,20130110,0516, 24.2280, 134.9880, 5141,   1820.3,   2.1209,  34.5922,2,  34.5922,6,    105.6,2,   140.85,2,    38.59,2,     0.00,2,     2.71,2,   2346.7,6,   2403.1,6,   7.4895,2,    25.00,      519
  49UF20130107,KS1301,  3724,  1,      1,  21960,2,20130110,0516, 24.2280, 134.9880, 5141,   2021.3,   1.9816,  34.6130,2,  34.6137,6,    113.4,2,   141.26,2,    38.00,2,     0.00,2,     2.66,2,   2343.6,2,   2405.6,2,   7.5071,6,    25.00,      516
  49UF20130107,KS1301,  3726,  1,     99,     99,2,20130110,1421, 24.2380, 133.9967, 4920,      0.0,  23.2366,  34.7220,2,-999.0000,9,    214.9,2,     0.43,2,     0.00,2,     0.00,2,     0.00,2,   -999.0,9,   -999.0,9,-999.0000,9,  -999.00,     1558
  49UF20130107,KS1301,  3726,  1,     36,  21995,2,20130110,1421, 24.2380, 133.9967, 4920,     10.9,  23.2448,  34.7218,2,-999.0000,9,    214.4,2,     0.43,2,     0.00,2,     0.00,2,     0.00,2,   -999.0,9,   -999.0,9,-999.0000,9,  -999.00,     1612
  49UF20130107,KS1301,  3726,  1,     35,  22087,2,20130110,1421, 24.2380, 133.9967, 4920,     25.5,  23.2504,  34.7220,2,-999.0000,9,    214.5,2,     0.43,2,     0.00,2,     0.00,2,     0.00,2,   -999.0,9,   -999.0,9,-999.0000,9,  -999.00,     1611
  49UF20130107,KS1301,  3726,  1,     34,  22668,2,20130110,1421, 24.2380, 133.9967, 4920,     50.6,  23.2000,  34.7478,2,  34.7465,6,    214.3,2,     0.48,2,     0.00,2,     0.00,2,     0.00,2,   -999.0,9,   -999.0,9,-999.0000,9,  -999.00,     1610
  49UF20130107,KS1301,  3726,  1,     33,  21992,2,20130110,1421, 24.2380, 133.9967, 4920,     75.1,  23.1117,  34.7317,2,-999.0000,9,    215.0,2,     0.49,2,     0.00,2,     0.00,2,     0.01,2,   -999.0,9,   -999.0,9,-999.0000,9,  -999.00,     1609
  49UF20130107,KS1301,  3726,  1,     32,  21991,2,20130110,1421, 24.2380, 133.9967, 4920,    101.1,  22.6722,  34.7090,2,-999.0000,9,    214.5,2,     0.58,2,     0.00,2,     0.00,2,     0.00,2,   -999.0,9,   -999.0,9,-999.0000,9,  -999.00,     1608
  49UF20130107,KS1301,  3726,  1,     31,  21990,2,20130110,1421, 24.2380, 133.9967, 4920,    126.6,  21.5259,  34.8599,2,  34.8557,2,    208.2,2,     0.91,2,     0.31,2,     0.07,2,     0.04,2,   -999.0,9,   -999.0,9,-999.0000,9,  -999.00,     1607
  49UF20130107,KS1301,  3726,  1,     30,  21989,2,20130110,1421, 24.2380, 133.9967, 4920,    152.1,  19.9346,  34.8195,2,-999.0000,9,    205.2,2,     1.28,2,     1.31,2,     0.02,2,     0.09,2,   -999.0,9,   -999.0,9,-999.0000,9,  -999.00,     1604
  49UF20130107,KS1301,  3726,  1,     29,  21988,2,20130110,1421, 24.2380, 133.9967, 4920,    203.1,  18.8451,  34.7957,2,-999.0000,9,    203.6,6,     1.88,6,     2.87,6,     0.01,6,     0.18,6,   -999.0,9,   -999.0,9,-999.0000,9,  -999.00,     1602
  49UF20130107,KS1301,  3726,  1,     28,  21987,2,20130110,1421, 24.2380, 133.9967, 4920,    252.3,  18.0894,  34.7601,2,  34.7632,2,    197.8,2,     2.67,2,     4.07,2,     0.00,2,     0.27,2,   -999.0,9,   -999.0,9,-999.0000,9,  -999.00,     1600
  49UF20130107,KS1301,  3726,  1,     27,  21986,2,20130110,1421, 24.2380, 133.9967, 4920,    300.6,  17.1061,  34.6950,2,-999.0000,9,    199.5,2,     4.03,2,     5.60,2,     0.00,2,     0.37,2,   -999.0,9,   -999.0,9,-999.0000,9,  -999.00,     1559
  49UF20130107,KS1301,  3726,  1,     26,  21985,2,20130110,1421, 24.2380, 133.9967, 4920,    402.9,  13.9037,  34.4741,2,-999.0000,9,    181.9,2,    11.51,2,    11.96,2,     0.00,2,     0.82,2,   -999.0,9,   -999.0,9,-999.0000,9,  -999.00,     1557
  49UF20130107,KS1301,  3726,  1,     25,  21984,2,20130110,1421, 24.2380, 133.9967, 4920,    506.2,  10.7919,  34.2841,2,  34.2848,2,    168.8,2,    24.50,2,    18.37,2,     0.00,2,     1.29,2,   -999.0,9,   -999.0,9,-999.0000,9,  -999.00,     1554
  49UF20130107,KS1301,  3726,  1,     24,  21983,2,20130110,1421, 24.2380, 133.9967, 4920,    603.3,   8.3746,  34.1730,2,-999.0000,9,    144.8,2,    44.05,2,    25.03,2,     0.00,2,     1.77,2,   -999.0,9,   -999.0,9,-999.0000,9,  -999.00,     1552
  49UF20130107,KS1301,  3726,  1,     23,  22095,2,20130110,1421, 24.2380, 133.9967, 4920,    708.2,   6.7731,  34.1270,2,-999.0000,9,    117.4,2,    59.00,2,    30.27,2,     0.00,2,     2.16,2,   -999.0,9,   -999.0,9,-999.0000,9,  -999.00,     1549
  49UF20130107,KS1301,  3726,  1,     22,  21981,2,20130110,1421, 24.2380, 133.9967, 4920,    808.4,   5.3586,  34.1795,2,  34.1780,2,     83.1,2,    82.02,2,    35.49,2,     0.00,2,     2.55,2,   -999.0,9,   -999.0,9,-999.0000,9,  -999.00,     1547
  49UF20130107,KS1301,  3726,  1,     21,  21980,2,20130110,1421, 24.2380, 133.9967, 4920,    808.4,   5.3586,  34.1795,2,  34.1793,2,     83.0,2,    82.13,2,    35.62,2,     0.00,2,     2.55,2,   -999.0,9,   -999.0,9,-999.0000,9,  -999.00,     1547
  49UF20130107,KS1301,  3726,  1,     20,  21979,2,20130110,1421, 24.2380, 133.9967, 4920,    908.5,   4.4542,  34.2688,2,-999.0000,9,     65.2,2,   101.34,2,    38.56,2,     0.00,2,     2.75,2,   -999.0,9,   -999.0,9,-999.0000,9,  -999.00,     1544
  49UF20130107,KS1301,  3726,  1,     19,  21978,2,20130110,1421, 24.2380, 133.9967, 4920,   1007.8,   3.9981,  34.3292,2,  34.3317,2,     57.6,2,   111.28,2,    39.91,2,     0.00,2,     2.84,2,   -999.0,9,   -999.0,9,-999.0000,9,  -999.00,     1542
  49UF20130107,KS1301,  3726,  1,     18,  21977,2,20130110,1421, 24.2380, 133.9967, 4920,   1213.9,   3.2044,  34.4463,2,  34.4454,2,     61.4,2,   128.17,2,    40.69,2,     0.00,2,     2.89,2,   -999.0,9,   -999.0,9,-999.0000,9,  -999.00,     1537
  49UF20130107,KS1301,  3726,  1,     17,  21976,2,20130110,1421, 24.2380, 133.9967, 4920,   1415.0,   2.7581,  34.5064,2,  34.5062,2,     74.1,6,   136.04,6,    40.22,6,     0.00,6,     2.85,6,   -999.0,9,   -999.0,9,-999.0000,9,  -999.00,     1533
  49UF20130107,KS1301,  3726,  1,     16,  21975,2,20130110,1421, 24.2380, 133.9967, 4920,   1617.1,   2.4152,  34.5563,2,  34.5563,2,     90.5,2,   139.25,2,    39.31,2,     0.00,2,     2.77,2,   -999.0,9,   -999.0,9,-999.0000,9,  -999.00,     1529
  49UF20130107,KS1301,  3726,  1,     15,  21974,2,20130110,1421, 24.2380, 133.9967, 4920,   1820.3,   2.1287,  34.5900,2,  34.5901,2,    103.9,2,   141.35,2,    38.74,2,     0.00,2,     2.72,2,   -999.0,9,   -999.0,9,-999.0000,9,  -999.00,     1525
  49UF20130107,KS1301,  3726,  1,     14,  21973,2,20130110,1421, 24.2380, 133.9967, 4920,   2023.0,   1.9683,  34.6131,2,-999.0000,9,    114.3,2,   142.12,2,    37.98,2,     0.00,2,     2.67,2,   -999.0,9,   -999.0,9,-999.0000,9,  -999.00,     1521
  49UF20130107,KS1301,  3726,  1,     13,  21972,2,20130110,1421, 24.2380, 133.9967, 4920,   2275.2,   1.8268,  34.6324,2,  34.6318,2,    124.1,2,   141.95,2,    37.46,2,     0.00,2,     2.62,2,   -999.0,9,   -999.0,9,-999.0000,9,  -999.00,     1516
  49UF20130107,KS1301,  3726,  1,     12,  21962,2,20130110,1421, 24.2380, 133.9967, 4920,   2530.1,   1.7181,  34.6477,2,  34.6482,2,    132.4,2,   141.88,2,    36.96,2,     0.00,2,     2.58,2,   -999.0,9,   -999.0,9,-999.0000,9,  -999.00,     1511
  49UF20130107,KS1301,  3726,  1,     11,  21970,2,20130110,1421, 24.2380, 133.9967, 4920,   2784.0,   1.6448,  34.6580,2,  34.6571,2,    138.4,2,   141.27,2,    36.60,2,     0.00,2,     2.55,2,   -999.0,9,   -999.0,9,-999.0000,9,  -999.00,     1506
  49UF20130107,KS1301,  3726,  1,     10,  21969,3,20130110,1421, 24.2380, 133.9967, 4920,   3040.5,   1.6019,  34.6650,2,  34.6655,2,    142.9,2,   141.12,2,    36.48,2,     0.00,2,     2.53,2,   -999.0,9,   -999.0,9,-999.0000,9,  -999.00,     1501
  49UF20130107,KS1301,  3726,  1,      9,  21968,2,20130110,1421, 24.2380, 133.9967, 4920,   3295.6,   1.5653,  34.6714,2,  34.6709,2,    147.2,2,   140.88,2,    36.17,2,     0.00,2,     2.53,2,   -999.0,9,   -999.0,9,-999.0000,9,  -999.00,     1456
  49UF20130107,KS1301,  3726,  1,      8,  21982,2,20130110,1421, 24.2380, 133.9967, 4920,   3549.6,   1.5593,  34.6747,2,  34.6768,4,    149.6,3,   140.78,2,    36.07,2,     0.00,2,     2.50,2,   -999.0,9,   -999.0,9,-999.0000,9,  -999.00,     1451
  49UF20130107,KS1301,  3726,  1,      7,  21966,2,20130110,1421, 24.2380, 133.9967, 4920,   3808.5,   1.5555,  34.6779,2,  34.6766,2,    151.2,2,   140.15,2,    35.89,2,     0.00,2,     2.49,2,   -999.0,9,   -999.0,9,-999.0000,9,  -999.00,     1446
  49UF20130107,KS1301,  3726,  1,      6,  21965,2,20130110,1421, 24.2380, 133.9967, 4920,   4062.8,   1.5620,  34.6798,2,  34.6790,6,    153.2,2,   139.88,2,    35.77,2,     0.00,2,     2.48,2,   -999.0,9,   -999.0,9,-999.0000,9,  -999.00,     1441
  49UF20130107,KS1301,  3726,  1,      5,  21964,2,20130110,1421, 24.2380, 133.9967, 4920,   4318.5,   1.5739,  34.6814,2,  34.6809,2,    154.7,2,   139.35,2,    35.56,2,     0.00,2,     2.46,2,   -999.0,9,   -999.0,9,-999.0000,9,  -999.00,     1436
  49UF20130107,KS1301,  3726,  1,      4,  21963,3,20130110,1421, 24.2380, 133.9967, 4920,   4575.1,   1.5955,  34.6821,2,  34.6825,2,    155.5,6,   139.17,6,    35.55,6,     0.00,6,     2.46,6,   -999.0,9,   -999.0,9,-999.0000,9,  -999.00,     1430
  49UF20130107,KS1301,  3726,  1,      3,  22079,2,20130110,1421, 24.2380, 133.9967, 4920,   4834.3,   1.6218,  34.6824,2,  34.6821,2,    155.7,2,   139.29,2,    35.61,2,     0.00,2,     2.46,2,   -999.0,9,   -999.0,9,-999.0000,9,  -999.00,     1425
  49UF20130107,KS1301,  3726,  1,      2,  21961,2,20130110,1421, 24.2380, 133.9967, 4920,   5000.0,   1.6411,  34.6824,2,  34.6849,4,    156.3,2,   139.27,2,    35.46,2,     0.00,2,     2.46,2,   -999.0,9,   -999.0,9,-999.0000,9,  -999.00,     1422
  49UF20130107,KS1301,  3726,  1,      1,  21960,2,20130110,1421, 24.2380, 133.9967, 4920,   5000.0,   1.6411,  34.6824,2,  34.6818,2,    155.8,2,   139.30,2,    35.50,2,     0.00,2,     2.46,2,   -999.0,9,   -999.0,9,-999.0000,9,  -999.00,     1421