BOTTLE,20191018PRINUNIVRMK
EXPOCODE,SECT_ID,STNNBR,CASTNO,SAMPNO,BTLNBR,BTLNBR_FLAG_W,DATE,TIME,LATITUDE,LONGITUDE,DEPTH,CTDPRS,CTDTMP,CTDSAL,CTDSAL_FLAG_W,SALNTY,SALNTY_FLAG_W,OXYGEN,OXYGEN_FLAG_W,SILCAT,SILCAT_FLAG_W,NITRAT,NITRAT_FLAG_W,NITRIT,NITRIT_FLAG_W,PHSPHT,PHSPHT_FLAG_W,TCARBN,TCARBN_FLAG_W,ALKALI,ALKALI_FLAG_W,PH_TOT,PH_TOT_FLAG_W,PH_TMP,BTL_TIME
,,,,,,,,,,,METERS,DBAR,ITS-90,PSS-78,,PSS-78,,UMOL/KG,,UMOL/KG,,UMOL/KG,,UMOL/KG,,UMOL/KG,,UMOL/KG,,UMOL/KG,,,,DEG C,
  49UF20130107,KS1301,  3743,  1,     99,     99,2,20130116,0826, 28.2593, 127.1458,  984,      0.0,  22.1269,  34.6447,2,-999.0000,9,    216.3,2,     1.01,2,     0.53,2,     0.13,2,     0.06,2,   -999.0,9,   -999.0,9,-999.0000,9,  -999.00,      840
  49UF20130107,KS1301,  3743,  1,     33,  21992,2,20130116,0826, 28.2593, 127.1458,  984,     10.5,  22.1391,  34.6430,2,-999.0000,9,    215.4,2,     1.01,2,     0.50,2,     0.13,2,     0.05,2,   -999.0,9,   -999.0,9,-999.0000,9,  -999.00,      900
  49UF20130107,KS1301,  3743,  1,     32,  21991,2,20130116,0826, 28.2593, 127.1458,  984,     20.4,  22.1409,  34.6433,2,-999.0000,9,    215.4,2,     1.01,2,     0.51,2,     0.13,2,     0.05,2,   -999.0,9,   -999.0,9,-999.0000,9,  -999.00,      859
  49UF20130107,KS1301,  3743,  1,     31,  21990,2,20130116,0826, 28.2593, 127.1458,  984,     30.7,  22.1242,  34.6439,2,-999.0000,9,    215.3,6,     0.99,6,     0.49,6,     0.13,6,     0.05,6,   -999.0,9,   -999.0,9,-999.0000,9,  -999.00,      858
  49UF20130107,KS1301,  3743,  1,     27,  21986,2,20130116,0826, 28.2593, 127.1458,  984,     50.7,  22.1479,  34.6428,2,-999.0000,9,    215.1,2,     0.99,2,     0.51,2,     0.13,2,     0.05,2,   -999.0,9,   -999.0,9,-999.0000,9,  -999.00,      855
  49UF20130107,KS1301,  3743,  1,     26,  21985,2,20130116,0826, 28.2593, 127.1458,  984,     75.9,  22.1540,  34.6429,2,-999.0000,9,    214.8,2,     1.02,2,     0.52,2,     0.13,2,     0.05,2,   -999.0,9,   -999.0,9,-999.0000,9,  -999.00,      854
  49UF20130107,KS1301,  3743,  1,     25,  21984,2,20130116,0826, 28.2593, 127.1458,  984,    101.5,  22.1463,  34.6428,2,-999.0000,9,    214.0,2,     1.02,2,     0.56,2,     0.15,2,     0.06,2,   -999.0,9,   -999.0,9,-999.0000,9,  -999.00,      852
  49UF20130107,KS1301,  3743,  1,     24,  21983,2,20130116,0826, 28.2593, 127.1458,  984,    126.6,  21.2203,  34.7903,2,-999.0000,9,    193.6,2,     1.79,2,     2.26,2,     0.05,2,     0.16,2,   -999.0,9,   -999.0,9,-999.0000,9,  -999.00,      851
  49UF20130107,KS1301,  3743,  1,     23,  22095,2,20130116,0826, 28.2593, 127.1458,  984,    126.6,  21.2203,  34.7903,2,-999.0000,9,    193.5,2,     1.84,2,     2.26,2,     0.05,2,     0.16,2,   -999.0,9,   -999.0,9,-999.0000,9,  -999.00,      851
  49UF20130107,KS1301,  3743,  1,     22,  21981,2,20130116,0826, 28.2593, 127.1458,  984,    151.9,  19.8568,  34.7911,2,-999.0000,9,    191.5,2,     2.70,2,     3.47,2,     0.02,2,     0.23,2,   -999.0,9,   -999.0,9,-999.0000,9,  -999.00,      850
  49UF20130107,KS1301,  3743,  1,     18,  21977,2,20130116,0826, 28.2593, 127.1458,  984,    201.5,  18.5752,  34.7694,2,-999.0000,9,    199.7,6,     2.57,6,     3.72,6,     0.01,6,     0.23,6,   -999.0,9,   -999.0,9,-999.0000,9,  -999.00,      848
  49UF20130107,KS1301,  3743,  1,     17,  21976,2,20130116,0826, 28.2593, 127.1458,  984,    251.3,  17.0367,  34.6851,2,-999.0000,9,    193.1,2,     5.03,2,     6.32,2,     0.00,2,     0.41,2,   -999.0,9,   -999.0,9,-999.0000,9,  -999.00,      846
  49UF20130107,KS1301,  3743,  1,     16,  21975,2,20130116,0826, 28.2593, 127.1458,  984,    302.8,  15.3374,  34.5832,2,-999.0000,9,    181.3,2,    11.37,2,    10.17,2,     0.00,2,     0.69,2,   -999.0,9,   -999.0,9,-999.0000,9,  -999.00,      844
  49UF20130107,KS1301,  3743,  1,     15,  21974,2,20130116,0826, 28.2593, 127.1458,  984,    402.6,  10.8157,  34.3529,2,-999.0000,9,    149.2,2,    33.70,2,    20.32,2,     0.00,2,     1.44,2,   -999.0,9,   -999.0,9,-999.0000,9,  -999.00,      842
  49UF20130107,KS1301,  3743,  1,     14,  21973,2,20130116,0826, 28.2593, 127.1458,  984,    505.0,   7.8552,  34.2494,2,-999.0000,9,    120.9,2,    55.89,2,    27.90,2,     0.00,2,     1.99,2,   -999.0,9,   -999.0,9,-999.0000,9,  -999.00,      839
  49UF20130107,KS1301,  3743,  1,     13,  21972,2,20130116,0826, 28.2593, 127.1458,  984,    605.9,   6.0958,  34.1972,2,-999.0000,9,     96.0,2,    72.75,2,    33.30,2,     0.00,2,     2.38,2,   -999.0,9,   -999.0,9,-999.0000,9,  -999.00,      836
  49UF20130107,KS1301,  3743,  1,      6,  21965,2,20130116,0826, 28.2593, 127.1458,  984,    705.4,   5.6121,  34.3265,2,-999.0000,9,     85.4,2,    87.10,2,    34.77,2,     0.00,2,     2.48,2,   -999.0,9,   -999.0,9,-999.0000,9,  -999.00,      834
  49UF20130107,KS1301,  3743,  1,      5,  21964,2,20130116,0826, 28.2593, 127.1458,  984,    808.8,   4.9993,  34.3766,2,-999.0000,9,     78.4,2,    98.94,2,    36.28,2,     0.00,2,     2.59,2,   -999.0,9,   -999.0,9,-999.0000,9,  -999.00,      831
  49UF20130107,KS1301,  3743,  1,      4,  21963,2,20130116,0826, 28.2593, 127.1458,  984,    808.8,   4.9993,  34.3766,2,-999.0000,9,     78.2,2,    99.12,2,    36.36,2,     0.00,2,     2.60,2,   -999.0,9,   -999.0,9,-999.0000,9,  -999.00,      831
  49UF20130107,KS1301,  3743,  1,      2,  21961,2,20130116,0826, 28.2593, 127.1458,  984,    908.6,   4.7114,  34.3968,2,-999.0000,9,     75.1,2,   105.18,2,    36.86,2,     0.00,2,     2.65,2,   -999.0,9,   -999.0,9,-999.0000,9,  -999.00,      828
  49UF20130107,KS1301,  3743,  1,      1,  21960,2,20130116,0826, 28.2593, 127.1458,  984,    975.6,   4.5546,  34.4046,2,-999.0000,9,     74.5,2,   107.68,2,    37.19,2,     0.00,2,     2.67,2,   -999.0,9,   -999.0,9,-999.0000,9,  -999.00,      826
  49UF20130107,KS1301,  3745,  1,     99,     99,2,20130116,1204, 28.0947, 127.3535, 1042,      0.0,  21.8847,  34.6426,2,-999.0000,9,    217.5,2,     1.21,2,     0.51,2,     0.11,2,     0.06,2,   -999.0,9,   -999.0,9,-999.0000,9,  -999.00,     1230
  49UF20130107,KS1301,  3745,  1,     36,  21995,2,20130116,1204, 28.0947, 127.3535, 1042,     11.0,  21.8873,  34.6425,2,-999.0000,9,    216.6,2,     1.19,2,     0.52,2,     0.11,2,     0.06,2,   -999.0,9,   -999.0,9,-999.0000,9,  -999.00,     1245
  49UF20130107,KS1301,  3745,  1,     35,  22087,2,20130116,1204, 28.0947, 127.3535, 1042,     21.7,  21.8910,  34.6428,2,-999.0000,9,    216.8,2,     1.15,2,     0.48,2,     0.11,2,     0.07,2,   -999.0,9,   -999.0,9,-999.0000,9,  -999.00,     1244
  49UF20130107,KS1301,  3745,  1,     34,  22668,2,20130116,1204, 28.0947, 127.3535, 1042,     30.8,  21.8929,  34.6428,2,  34.6423,2,    216.5,2,     1.15,2,     0.51,2,     0.11,2,     0.06,2,   -999.0,9,   -999.0,9,-999.0000,9,  -999.00,     1243
  49UF20130107,KS1301,  3745,  1,     27,  21986,2,20130116,1204, 28.0947, 127.3535, 1042,     52.0,  21.8190,  34.6543,2,-999.0000,9,    214.2,6,     1.06,6,     0.58,6,     0.13,6,     0.06,6,   -999.0,9,   -999.0,9,-999.0000,9,  -999.00,     1240
  49UF20130107,KS1301,  3745,  1,     26,  21985,2,20130116,1204, 28.0947, 127.3535, 1042,     75.3,  21.6239,  34.6615,2,-999.0000,9,    215.4,2,     0.80,2,     0.33,2,     0.11,2,     0.03,2,   -999.0,9,   -999.0,9,-999.0000,9,  -999.00,     1238
  49UF20130107,KS1301,  3745,  1,     25,  21984,2,20130116,1204, 28.0947, 127.3535, 1042,    100.6,  21.4481,  34.6832,2,  34.6841,2,    202.6,2,     2.16,2,     1.84,2,     0.11,2,     0.14,2,   -999.0,9,   -999.0,9,-999.0000,9,  -999.00,     1237
  49UF20130107,KS1301,  3745,  1,     24,  21983,2,20130116,1204, 28.0947, 127.3535, 1042,    100.6,  21.4481,  34.6832,2,  34.6838,2,    202.5,2,     2.16,2,     1.86,2,     0.11,2,     0.14,2,   -999.0,9,   -999.0,9,-999.0000,9,  -999.00,     1237
  49UF20130107,KS1301,  3745,  1,     23,  22095,2,20130116,1204, 28.0947, 127.3535, 1042,    125.1,  20.7801,  34.7882,2,-999.0000,9,    195.4,2,     1.75,2,     2.26,2,     0.03,2,     0.15,2,   -999.0,9,   -999.0,9,-999.0000,9,  -999.00,     1235
  49UF20130107,KS1301,  3745,  1,     22,  21981,2,20130116,1204, 28.0947, 127.3535, 1042,    152.7,  19.3638,  34.7871,2,-999.0000,9,    188.3,2,     3.48,2,     4.20,2,     0.01,2,     0.28,2,   -999.0,9,   -999.0,9,-999.0000,9,  -999.00,     1233
  49UF20130107,KS1301,  3745,  1,     18,  21977,2,20130116,1204, 28.0947, 127.3535, 1042,    203.4,  18.3565,  34.7581,2,  34.7569,2,    197.3,2,     2.98,2,     4.18,2,     0.01,2,     0.27,2,   -999.0,9,   -999.0,9,-999.0000,9,  -999.00,     1231
  49UF20130107,KS1301,  3745,  1,     17,  21976,2,20130116,1204, 28.0947, 127.3535, 1042,    254.7,  17.4907,  34.7096,2,-999.0000,9,    191.3,2,     4.83,2,     5.90,2,     0.01,2,     0.39,2,   -999.0,9,   -999.0,9,-999.0000,9,  -999.00,     1229
  49UF20130107,KS1301,  3745,  1,     16,  21975,2,20130116,1204, 28.0947, 127.3535, 1042,    304.0,  16.6052,  34.6608,2,-999.0000,9,    193.0,2,     5.67,2,     6.98,2,     0.00,2,     0.45,2,   -999.0,9,   -999.0,9,-999.0000,9,  -999.00,     1226
  49UF20130107,KS1301,  3745,  1,     15,  21974,2,20130116,1204, 28.0947, 127.3535, 1042,    405.6,  13.3880,  34.4665,2,  34.4662,2,    173.5,2,    17.71,2,    13.84,2,     0.00,2,     0.95,2,   -999.0,9,   -999.0,9,-999.0000,9,  -999.00,     1223
  49UF20130107,KS1301,  3745,  1,     14,  21973,2,20130116,1204, 28.0947, 127.3535, 1042,    507.3,  10.0933,  34.3006,2,-999.0000,9,    148.8,2,    35.34,2,    21.52,2,     0.00,2,     1.52,2,   -999.0,9,   -999.0,9,-999.0000,9,  -999.00,     1220
  49UF20130107,KS1301,  3745,  1,     13,  21972,2,20130116,1204, 28.0947, 127.3535, 1042,    605.4,   7.1125,  34.2058,2,-999.0000,9,    113.2,2,    61.11,2,    30.00,2,     0.00,2,     2.14,2,   -999.0,9,   -999.0,9,-999.0000,9,  -999.00,     1217
  49UF20130107,KS1301,  3745,  1,      6,  21965,2,20130116,1204, 28.0947, 127.3535, 1042,    706.1,   5.6451,  34.2109,2,  34.2102,2,     86.9,2,    79.73,2,    34.82,2,     0.00,2,     2.49,2,   -999.0,9,   -999.0,9,-999.0000,9,  -999.00,     1214
  49UF20130107,KS1301,  3745,  1,      5,  21964,2,20130116,1204, 28.0947, 127.3535, 1042,    706.1,   5.6451,  34.2109,2,  34.2100,2,     87.2,2,    79.68,2,    34.76,2,     0.00,2,     2.49,2,   -999.0,9,   -999.0,9,-999.0000,9,  -999.00,     1214
  49UF20130107,KS1301,  3745,  1,      4,  21963,3,20130116,1204, 28.0947, 127.3535, 1042,    806.6,   4.9171,  34.3691,2,-999.0000,9,     77.6,2,    99.03,2,    36.58,2,     0.00,2,     2.61,2,   -999.0,9,   -999.0,9,-999.0000,9,  -999.00,     1210
  49UF20130107,KS1301,  3745,  1,      3,  22079,2,20130116,1204, 28.0947, 127.3535, 1042,    908.2,   4.5900,  34.3928,2,  34.3924,2,     75.5,2,   104.81,6,    37.30,6,     0.00,6,     2.66,6,   -999.0,9,   -999.0,9,-999.0000,9,  -999.00,     1208
  49UF20130107,KS1301,  3745,  1,      2,  21961,2,20130116,1204, 28.0947, 127.3535, 1042,   1006.5,   4.2557,  34.4164,2,-999.0000,9,     74.1,2,   111.15,2,    38.06,2,     0.00,2,     2.71,2,   -999.0,9,   -999.0,9,-999.0000,9,  -999.00,     1205
  49UF20130107,KS1301,  3745,  1,      1,  21960,2,20130116,1204, 28.0947, 127.3535, 1042,   1018.7,   4.2033,  34.4194,2,  34.4191,2,     74.0,2,   112.10,2,    38.23,2,     0.00,2,     2.71,2,   -999.0,9,   -999.0,9,-999.0000,9,  -999.00,     1204
  49UF20130107,KS1301,  3748,  1,     99,     99,2,20130116,1758, 27.7977, 127.8050,  862,      0.0,  21.5048,  34.6446,2,  34.6512,2,    218.4,2,     0.57,2,    -0.02,2,     0.07,2,     0.01,2,   1974.4,2,   2268.3,2,   8.0633,2,    25.00,     1815
  49UF20130107,KS1301,  3748,  1,     33,  21992,3,20130116,1758, 27.7977, 127.8050,  862,     10.4,  21.5263,  34.6451,2,-999.0000,9,    218.1,2,     0.57,2,     0.00,2,     0.07,2,     0.00,2,   -999.0,9,   -999.0,9,-999.0000,9,  -999.00,     1824
  49UF20130107,KS1301,  3748,  1,     32,  21991,3,20130116,1758, 27.7977, 127.8050,  862,     20.5,  21.5256,  34.6454,2,  34.6447,2,    218.0,2,     0.57,2,     0.04,2,     0.07,2,     0.00,2,   -999.0,9,   -999.0,9,-999.0000,9,  -999.00,     1824
  49UF20130107,KS1301,  3748,  1,     31,  21990,2,20130116,1758, 27.7977, 127.8050,  862,     30.6,  21.5204,  34.6453,2,-999.0000,9,    217.9,2,     0.57,2,     0.03,2,     0.07,2,     0.00,2,   -999.0,9,   -999.0,9,-999.0000,9,  -999.00,     1823
  49UF20130107,KS1301,  3748,  1,     27,  21986,2,20130116,1758, 27.7977, 127.8050,  862,     49.7,  21.3835,  34.6548,2,-999.0000,9,    217.4,2,     0.61,2,     0.11,2,     0.08,2,     0.01,2,   -999.0,9,   -999.0,9,-999.0000,9,  -999.00,     1820
  49UF20130107,KS1301,  3748,  1,     26,  21985,2,20130116,1758, 27.7977, 127.8050,  862,     75.2,  21.3673,  34.6558,2,  34.6564,2,    217.0,2,     0.66,2,     0.15,2,     0.12,2,     0.01,2,   -999.0,9,   -999.0,9,-999.0000,9,  -999.00,     1819
  49UF20130107,KS1301,  3748,  1,     25,  21984,2,20130116,1758, 27.7977, 127.8050,  862,     75.2,  21.3673,  34.6558,2,  34.6552,2,    216.8,2,     0.63,2,     0.12,2,     0.11,2,     0.02,2,   -999.0,9,   -999.0,9,-999.0000,9,  -999.00,     1819
  49UF20130107,KS1301,  3748,  1,     24,  21983,2,20130116,1758, 27.7977, 127.8050,  862,    100.8,  21.3549,  34.6553,2,-999.0000,9,    217.1,6,     0.65,6,     0.14,6,     0.13,6,     0.02,6,   -999.0,9,   -999.0,9,-999.0000,9,  -999.00,     1818
  49UF20130107,KS1301,  3748,  1,     23,  22095,2,20130116,1758, 27.7977, 127.8050,  862,    125.2,  20.5626,  34.8115,2,-999.0000,9,    195.1,2,     1.56,2,     2.10,2,     0.04,2,     0.14,2,   -999.0,9,   -999.0,9,-999.0000,9,  -999.00,     1817
  49UF20130107,KS1301,  3748,  1,     22,  21981,2,20130116,1758, 27.7977, 127.8050,  862,    151.1,  19.8958,  34.8245,2,  34.8273,2,    193.3,2,     1.78,2,     2.66,2,     0.02,2,     0.18,2,   -999.0,9,   -999.0,9,-999.0000,9,  -999.00,     1816
  49UF20130107,KS1301,  3748,  1,     18,  21977,2,20130116,1758, 27.7977, 127.8050,  862,    201.9,  18.4595,  34.7671,2,-999.0000,9,    194.3,2,     2.76,2,     4.18,2,     0.01,2,     0.27,2,   -999.0,9,   -999.0,9,-999.0000,9,  -999.00,     1815
  49UF20130107,KS1301,  3748,  1,     17,  21976,2,20130116,1758, 27.7977, 127.8050,  862,    251.0,  17.5609,  34.7176,2,  34.7222,2,    194.5,2,     3.73,2,     5.18,2,     0.00,2,     0.34,2,   -999.0,9,   -999.0,9,-999.0000,9,  -999.00,     1813
  49UF20130107,KS1301,  3748,  1,     16,  21975,2,20130116,1758, 27.7977, 127.8050,  862,    302.0,  16.7594,  34.6693,2,-999.0000,9,    192.5,2,     5.26,2,     6.75,2,     0.00,2,     0.44,2,   -999.0,9,   -999.0,9,-999.0000,9,  -999.00,     1812
  49UF20130107,KS1301,  3748,  1,     15,  21974,2,20130116,1758, 27.7977, 127.8050,  862,    403.0,  14.2360,  34.5074,2,-999.0000,9,    179.8,2,    12.36,2,    11.70,2,     0.00,2,     0.80,2,   -999.0,9,   -999.0,9,-999.0000,9,  -999.00,     1809
  49UF20130107,KS1301,  3748,  1,     14,  21973,2,20130116,1758, 27.7977, 127.8050,  862,    503.4,  11.9243,  34.3836,2,  34.3835,2,    165.7,2,    24.28,2,    16.81,2,     0.00,2,     1.18,2,   -999.0,9,   -999.0,9,-999.0000,9,  -999.00,     1807
  49UF20130107,KS1301,  3748,  1,     13,  21972,2,20130116,1758, 27.7977, 127.8050,  862,    503.4,  11.9243,  34.3836,2,  34.3841,2,    165.6,2,    24.22,2,    16.77,2,     0.00,2,     1.18,2,   -999.0,9,   -999.0,9,-999.0000,9,  -999.00,     1807
  49UF20130107,KS1301,  3748,  1,      6,  21965,2,20130116,1758, 27.7977, 127.8050,  862,    605.2,   8.7117,  34.2238,2,-999.0000,9,    145.0,6,    38.67,6,    22.63,6,     0.00,6,     1.61,6,   -999.0,9,   -999.0,9,-999.0000,9,  -999.00,     1805
  49UF20130107,KS1301,  3748,  1,      5,  21964,2,20130116,1758, 27.7977, 127.8050,  862,    705.1,   6.5088,  34.2375,2,-999.0000,9,    100.3,2,    70.75,2,    31.88,2,     0.00,2,     2.29,2,   -999.0,9,   -999.0,9,-999.0000,9,  -999.00,     1802
  49UF20130107,KS1301,  3748,  1,      4,  21963,2,20130116,1758, 27.7977, 127.8050,  862,    806.2,   5.6759,  34.3340,2,  34.3349,2,     86.3,2,    87.88,2,    34.65,2,     0.00,2,     2.47,2,   -999.0,9,   -999.0,9,-999.0000,9,  -999.00,     1800
  49UF20130107,KS1301,  3748,  1,      1,  21960,2,20130116,1758, 27.7977, 127.8050,  862,    856.0,   5.2499,  34.3597,2,  34.3552,4,     82.5,6,    93.81,6,    35.45,6,     0.00,6,     2.54,6,   -999.0,9,   -999.0,9,-999.0000,9,  -999.00,     1758