BOTTLE,20191018PRINUNIVRMK
EXPOCODE,SECT_ID,STNNBR,CASTNO,SAMPNO,BTLNBR,BTLNBR_FLAG_W,DATE,TIME,LATITUDE,LONGITUDE,DEPTH,CTDPRS,CTDTMP,CTDSAL,CTDSAL_FLAG_W,SALNTY,SALNTY_FLAG_W,OXYGEN,OXYGEN_FLAG_W,SILCAT,SILCAT_FLAG_W,NITRAT,NITRAT_FLAG_W,NITRIT,NITRIT_FLAG_W,PHSPHT,PHSPHT_FLAG_W,TCARBN,TCARBN_FLAG_W,ALKALI,ALKALI_FLAG_W,PH_TOT,PH_TOT_FLAG_W,PH_TMP,BTL_TIME
,,,,,,,,,,,METERS,DBAR,ITS-90,PSS-78,,PSS-78,,UMOL/KG,,UMOL/KG,,UMOL/KG,,UMOL/KG,,UMOL/KG,,UMOL/KG,,UMOL/KG,,,,DEG C,
  49UF20130107,KS1301,  3729,  1,     99,     99,2,20130111,0240, 23.7525, 133.0380, 2787,      0.0,  24.1672,  34.6487,2,-999.0000,9,    212.1,2,     0.31,2,     0.02,2,     0.00,2,     0.00,2,   -999.0,9,   -999.0,9,-999.0000,9,  -999.00,      323
  49UF20130107,KS1301,  3729,  1,     33,  21992,2,20130111,0240, 23.7525, 133.0380, 2787,      9.4,  24.1688,  34.6483,2,-999.0000,9,    211.8,2,     0.31,2,     0.01,2,     0.00,2,     0.00,2,   -999.0,9,   -999.0,9,-999.0000,9,  -999.00,      331
  49UF20130107,KS1301,  3729,  1,     32,  21991,2,20130111,0240, 23.7525, 133.0380, 2787,     25.9,  24.1573,  34.6473,2,-999.0000,9,    212.0,2,     0.27,2,     0.02,2,     0.00,2,     0.00,2,   -999.0,9,   -999.0,9,-999.0000,9,  -999.00,      330
  49UF20130107,KS1301,  3729,  1,     31,  21990,2,20130111,0240, 23.7525, 133.0380, 2787,     50.3,  24.1449,  34.6487,2,  34.6496,2,    211.6,2,     0.29,2,     0.04,2,     0.00,2,     0.00,2,   -999.0,9,   -999.0,9,-999.0000,9,  -999.00,      329
  49UF20130107,KS1301,  3729,  1,     30,  21989,2,20130111,0240, 23.7525, 133.0380, 2787,     73.8,  23.5942,  34.7763,2,-999.0000,9,    213.1,2,     0.46,2,     0.00,2,     0.00,2,     0.00,2,   -999.0,9,   -999.0,9,-999.0000,9,  -999.00,      328
  49UF20130107,KS1301,  3729,  1,     29,  21988,2,20130111,0240, 23.7525, 133.0380, 2787,    101.0,  22.2784,  34.8475,2,  34.8452,2,    211.6,2,     0.73,2,     0.08,2,     0.02,2,     0.01,2,   -999.0,9,   -999.0,9,-999.0000,9,  -999.00,      325
  49UF20130107,KS1301,  3729,  1,     28,  21987,2,20130111,0240, 23.7525, 133.0380, 2787,    126.4,  19.6015,  34.8312,2,-999.0000,9,    207.3,2,     1.52,2,     1.38,2,     0.02,2,     0.10,2,   -999.0,9,   -999.0,9,-999.0000,9,  -999.00,      324
  49UF20130107,KS1301,  3729,  1,     24,  21983,2,20130111,0240, 23.7525, 133.0380, 2787,    151.1,  19.0404,  34.8079,2,  34.8066,2,    203.7,2,     1.84,2,     2.34,2,     0.02,2,     0.16,2,   -999.0,9,   -999.0,9,-999.0000,9,  -999.00,      323
  49UF20130107,KS1301,  3729,  1,     23,  22095,2,20130111,0240, 23.7525, 133.0380, 2787,    202.7,  17.8143,  34.7440,2,-999.0000,9,    206.9,6,     2.62,6,     3.80,6,     0.01,6,     0.24,6,   -999.0,9,   -999.0,9,-999.0000,9,  -999.00,      322
  49UF20130107,KS1301,  3729,  1,     22,  21981,2,20130111,0240, 23.7525, 133.0380, 2787,    252.7,  17.1298,  34.7123,2,  34.7103,2,    211.2,2,     3.32,2,     4.55,2,     0.01,2,     0.29,2,   -999.0,9,   -999.0,9,-999.0000,9,  -999.00,      320
  49UF20130107,KS1301,  3729,  1,     21,  21980,2,20130111,0240, 23.7525, 133.0380, 2787,    301.4,  16.6557,  34.6710,2,  34.6707,2,    202.0,2,     4.68,2,     6.10,2,     0.00,2,     0.40,2,   -999.0,9,   -999.0,9,-999.0000,9,  -999.00,      319
  49UF20130107,KS1301,  3729,  1,     20,  21979,2,20130111,0240, 23.7525, 133.0380, 2787,    401.6,  13.6760,  34.4602,2,-999.0000,9,    185.4,2,    12.38,2,    12.07,2,     0.00,2,     0.82,2,   -999.0,9,   -999.0,9,-999.0000,9,  -999.00,      317
  49UF20130107,KS1301,  3729,  1,     19,  21978,2,20130111,0240, 23.7525, 133.0380, 2787,    503.2,   9.7381,  34.2129,2,  34.2175,2,    156.9,2,    29.37,2,    21.24,2,     0.00,2,     1.50,2,   -999.0,9,   -999.0,9,-999.0000,9,  -999.00,      314
  49UF20130107,KS1301,  3729,  1,     18,  21977,2,20130111,0240, 23.7525, 133.0380, 2787,    604.3,   7.5345,  34.1392,2,  34.1381,6,    120.2,6,    48.38,6,    28.56,6,     0.00,6,     2.04,6,   -999.0,9,   -999.0,9,-999.0000,9,  -999.00,      312
  49UF20130107,KS1301,  3729,  1,     17,  21976,2,20130111,0240, 23.7525, 133.0380, 2787,    704.6,   6.3566,  34.1450,2,-999.0000,9,     99.0,2,    64.48,2,    32.61,2,     0.00,2,     2.34,2,   -999.0,9,   -999.0,9,-999.0000,9,  -999.00,      310
  49UF20130107,KS1301,  3729,  1,     16,  21975,2,20130111,0240, 23.7525, 133.0380, 2787,    704.6,   6.3566,  34.1450,2,  34.1593,4,     98.7,2,    64.47,2,    32.60,2,     0.00,2,     2.34,2,   -999.0,9,   -999.0,9,-999.0000,9,  -999.00,      309
  49UF20130107,KS1301,  3729,  1,     12,  21962,2,20130111,0240, 23.7525, 133.0380, 2787,    806.4,   5.0549,  34.2164,2,  34.2155,2,     69.2,2,    87.10,2,    37.43,2,     0.00,2,     2.68,2,   -999.0,9,   -999.0,9,-999.0000,9,  -999.00,      307
  49UF20130107,KS1301,  3729,  1,     11,  21970,2,20130111,0240, 23.7525, 133.0380, 2787,    907.0,   4.2989,  34.2893,2,  34.2878,2,     58.6,2,   103.93,2,    39.31,2,     0.00,2,     2.81,2,   -999.0,9,   -999.0,9,-999.0000,9,  -999.00,      305
  49UF20130107,KS1301,  3729,  1,     10,  21969,2,20130111,0240, 23.7525, 133.0380, 2787,   1010.6,   3.8302,  34.3664,2,  34.3660,2,     56.3,6,   114.58,6,    40.20,6,     0.00,6,     2.87,6,   -999.0,9,   -999.0,9,-999.0000,9,  -999.00,      303
  49UF20130107,KS1301,  3729,  1,      9,  21968,2,20130111,0240, 23.7525, 133.0380, 2787,   1213.9,   3.1137,  34.4592,2,  34.4599,2,     63.9,2,   129.87,2,    40.38,2,     0.00,2,     2.87,2,   -999.0,9,   -999.0,9,-999.0000,9,  -999.00,      258
  49UF20130107,KS1301,  3729,  1,      8,  21982,2,20130111,0240, 23.7525, 133.0380, 2787,   1413.8,   2.6905,  34.5197,2,  34.5200,2,     78.6,2,   136.49,2,    39.87,2,     0.00,2,     2.81,2,   -999.0,9,   -999.0,9,-999.0000,9,  -999.00,      254
  49UF20130107,KS1301,  3729,  1,      7,  21966,3,20130111,0240, 23.7525, 133.0380, 2787,   1616.1,   2.3010,  34.5707,2,  34.5699,2,     96.1,2,   139.65,2,    38.89,2,     0.00,2,     2.74,2,   -999.0,9,   -999.0,9,-999.0000,9,  -999.00,      250
  49UF20130107,KS1301,  3729,  1,      3,  22079,2,20130111,0240, 23.7525, 133.0380, 2787,   1819.2,   2.1136,  34.5948,2,  34.5946,2,    105.9,2,   140.99,2,    38.40,2,     0.00,2,     2.69,2,   -999.0,9,   -999.0,9,-999.0000,9,  -999.00,      245
  49UF20130107,KS1301,  3729,  1,      2,  21961,2,20130111,0240, 23.7525, 133.0380, 2787,   1819.2,   2.1136,  34.5948,2,  34.5948,2,    106.2,2,   140.95,2,    38.32,2,     0.00,2,     2.69,2,   -999.0,9,   -999.0,9,-999.0000,9,  -999.00,      245
  49UF20130107,KS1301,  3729,  1,      1,  21960,2,20130111,0240, 23.7525, 133.0380, 2787,   2035.3,   2.0014,  34.6114,2,  34.6127,2,    114.0,2,   141.43,2,    37.99,2,     0.00,2,     2.66,2,   -999.0,9,   -999.0,9,-999.0000,9,  -999.00,      240
  49UF20130107,KS1301,  3731,  1,     99,     99,2,20130111,1054, 23.7340, 131.9875, 3693,      0.0,  23.4073,  34.6805,2,-999.0000,9,    213.9,2,     0.32,2,     0.06,2,     0.00,2,     0.00,2,   -999.0,9,   -999.0,9,-999.0000,9,  -999.00,     1133
  49UF20130107,KS1301,  3731,  1,     33,  21992,2,20130111,1054, 23.7340, 131.9875, 3693,     10.6,  23.4056,  34.6806,2,-999.0000,9,    213.7,2,     0.30,2,     0.02,2,     0.00,2,     0.00,2,   -999.0,9,   -999.0,9,-999.0000,9,  -999.00,     1157
  49UF20130107,KS1301,  3731,  1,     32,  21991,2,20130111,1054, 23.7340, 131.9875, 3693,     26.3,  23.3917,  34.6784,2,  34.6777,2,    214.2,2,     0.29,2,     0.04,2,     0.00,2,     0.00,2,   -999.0,9,   -999.0,9,-999.0000,9,  -999.00,     1155
  49UF20130107,KS1301,  3731,  1,     31,  21990,2,20130111,1054, 23.7340, 131.9875, 3693,     50.8,  21.8115,  34.6717,2,-999.0000,9,    218.5,2,     0.54,2,     0.01,2,     0.01,2,     0.00,2,   -999.0,9,   -999.0,9,-999.0000,9,  -999.00,     1154
  49UF20130107,KS1301,  3731,  1,     30,  21989,2,20130111,1054, 23.7340, 131.9875, 3693,     76.9,  21.7401,  34.6826,2,-999.0000,9,    215.8,2,     0.54,2,     0.06,2,     0.17,2,     0.01,2,   -999.0,9,   -999.0,9,-999.0000,9,  -999.00,     1152
  49UF20130107,KS1301,  3731,  1,     29,  21988,2,20130111,1054, 23.7340, 131.9875, 3693,    100.4,  21.5961,  34.6901,2,-999.0000,9,    214.6,2,     0.58,2,     0.15,2,     0.19,2,     0.02,2,   -999.0,9,   -999.0,9,-999.0000,9,  -999.00,     1149
  49UF20130107,KS1301,  3731,  1,     28,  21987,2,20130111,1054, 23.7340, 131.9875, 3693,    125.6,  20.9374,  34.7731,2,  34.7736,2,    205.4,2,     0.99,2,     1.21,2,     0.07,2,     0.08,3,   -999.0,9,   -999.0,9,-999.0000,9,  -999.00,     1147
  49UF20130107,KS1301,  3731,  1,     24,  21983,2,20130111,1054, 23.7340, 131.9875, 3693,    151.5,  19.5319,  34.8158,2,-999.0000,9,    202.5,6,     1.41,6,     2.20,6,     0.02,6,     0.14,6,   -999.0,9,   -999.0,9,-999.0000,9,  -999.00,     1145
  49UF20130107,KS1301,  3731,  1,     23,  22095,2,20130111,1054, 23.7340, 131.9875, 3693,    201.9,  18.6178,  34.7828,2,  34.7811,2,    206.6,2,     1.90,2,     3.06,2,     0.01,2,     0.19,2,   -999.0,9,   -999.0,9,-999.0000,9,  -999.00,     1143
  49UF20130107,KS1301,  3731,  1,     22,  21981,2,20130111,1054, 23.7340, 131.9875, 3693,    253.8,  17.6736,  34.7287,2,-999.0000,9,    202.6,2,     3.18,2,     4.54,2,     0.01,2,     0.29,2,   -999.0,9,   -999.0,9,-999.0000,9,  -999.00,     1141
  49UF20130107,KS1301,  3731,  1,     21,  21980,2,20130111,1054, 23.7340, 131.9875, 3693,    303.3,  16.6340,  34.6660,2,-999.0000,9,    194.0,2,     5.53,2,     6.90,2,     0.00,2,     0.46,2,   -999.0,9,   -999.0,9,-999.0000,9,  -999.00,     1139
  49UF20130107,KS1301,  3731,  1,     20,  21979,2,20130111,1054, 23.7340, 131.9875, 3693,    407.3,  13.4804,  34.4562,2,  34.4664,4,    186.1,2,    13.05,2,    12.16,2,     0.00,2,     0.83,2,   -999.0,9,   -999.0,9,-999.0000,9,  -999.00,     1136
  49UF20130107,KS1301,  3731,  1,     19,  21978,2,20130111,1054, 23.7340, 131.9875, 3693,    506.9,  10.5054,  34.2934,2,-999.0000,9,    160.9,2,    30.19,2,    19.73,2,     0.00,2,     1.39,2,   -999.0,9,   -999.0,9,-999.0000,9,  -999.00,     1133
  49UF20130107,KS1301,  3731,  1,     18,  21977,2,20130111,1054, 23.7340, 131.9875, 3693,    606.5,   7.5106,  34.1539,2,  34.1544,2,    130.7,2,    52.44,2,    27.70,2,     0.00,2,     1.97,2,   -999.0,9,   -999.0,9,-999.0000,9,  -999.00,     1129
  49UF20130107,KS1301,  3731,  1,     17,  21976,2,20130111,1054, 23.7340, 131.9875, 3693,    606.5,   7.5106,  34.1539,2,  34.1538,2,    131.0,2,    52.52,2,    27.63,2,     0.00,2,     1.97,2,   -999.0,9,   -999.0,9,-999.0000,9,  -999.00,     1129
  49UF20130107,KS1301,  3731,  1,     16,  21975,2,20130111,1054, 23.7340, 131.9875, 3693,    709.0,   5.7425,  34.1684,2,-999.0000,9,     93.7,2,    76.16,2,    33.85,2,     0.00,2,     2.43,2,   -999.0,9,   -999.0,9,-999.0000,9,  -999.00,     1126
  49UF20130107,KS1301,  3731,  1,     12,  21962,2,20130111,1054, 23.7340, 131.9875, 3693,    809.0,   4.7294,  34.2380,2,  34.2390,2,     69.5,6,    94.72,6,    37.61,6,     0.00,6,     2.70,6,   -999.0,9,   -999.0,9,-999.0000,9,  -999.00,     1123
  49UF20130107,KS1301,  3731,  1,     11,  21970,3,20130111,1054, 23.7340, 131.9875, 3693,    910.3,   4.0704,  34.3192,2,-999.0000,9,     60.1,2,   109.76,2,    39.40,2,     0.00,2,     2.82,2,   -999.0,9,   -999.0,9,-999.0000,9,  -999.00,     1120
  49UF20130107,KS1301,  3731,  1,     10,  21969,3,20130111,1054, 23.7340, 131.9875, 3693,   1009.0,   3.6191,  34.3778,2,  34.3793,6,     58.6,2,   120.01,2,    40.17,2,     0.00,2,     2.86,2,   -999.0,9,   -999.0,9,-999.0000,9,  -999.00,     1117
  49UF20130107,KS1301,  3731,  1,      9,  21968,3,20130111,1054, 23.7340, 131.9875, 3693,   1212.3,   2.9540,  34.4689,2,  34.4705,2,     65.9,2,   133.01,2,    40.51,2,     0.00,2,     2.87,2,   -999.0,9,   -999.0,9,-999.0000,9,  -999.00,     1112
  49UF20130107,KS1301,  3731,  1,      8,  21982,2,20130111,1054, 23.7340, 131.9875, 3693,   1412.2,   2.5391,  34.5288,2,  34.5291,2,     81.6,2,   138.35,2,    39.56,2,     0.00,2,     2.81,2,   -999.0,9,   -999.0,9,-999.0000,9,  -999.00,     1107
  49UF20130107,KS1301,  3731,  1,      7,  21966,2,20130111,1054, 23.7340, 131.9875, 3693,   1412.2,   2.5391,  34.5288,2,  34.5284,2,     81.5,2,   138.35,2,    39.72,2,     0.00,2,     2.81,2,   -999.0,9,   -999.0,9,-999.0000,9,  -999.00,     1107
  49UF20130107,KS1301,  3731,  1,      3,  22079,2,20130111,1054, 23.7340, 131.9875, 3693,   1615.9,   2.3083,  34.5772,2,  34.5768,2,     99.0,2,   138.72,2,    38.61,2,     0.00,2,     2.74,2,   -999.0,9,   -999.0,9,-999.0000,9,  -999.00,     1103
  49UF20130107,KS1301,  3731,  1,      2,  21961,2,20130111,1054, 23.7340, 131.9875, 3693,   1818.5,   2.1137,  34.6035,2,  34.6039,2,    109.8,6,   139.81,6,    38.26,6,     0.00,6,     2.69,6,   -999.0,9,   -999.0,9,-999.0000,9,  -999.00,     1058
  49UF20130107,KS1301,  3731,  1,      1,  21960,2,20130111,1054, 23.7340, 131.9875, 3693,   2021.3,   1.9352,  34.6239,2,  34.6251,2,    119.1,2,   140.46,2,    37.53,2,     0.00,2,     2.64,2,   -999.0,9,   -999.0,9,-999.0000,9,  -999.00,     1054
  49UF20130107,KS1301,  3732,  1,     99,     99,2,20130111,1709, 23.9885, 130.9738, 3329,      0.0,  23.4546,  34.5727,2,-999.0000,9,    211.4,2,     0.22,2,     0.06,2,     0.00,2,     0.00,2,   -999.0,9,   -999.0,9,-999.0000,9,  -999.00,     1751
  49UF20130107,KS1301,  3732,  1,     33,  21992,2,20130111,1709, 23.9885, 130.9738, 3329,     10.2,  23.4606,  34.5725,2,-999.0000,9,    211.5,2,     0.18,2,     0.03,2,     0.00,2,     0.00,2,   -999.0,9,   -999.0,9,-999.0000,9,  -999.00,     1808
  49UF20130107,KS1301,  3732,  1,     32,  21991,2,20130111,1709, 23.9885, 130.9738, 3329,     24.4,  23.4662,  34.5723,2,-999.0000,9,    211.4,2,     0.19,2,     0.07,2,     0.00,2,     0.00,2,   -999.0,9,   -999.0,9,-999.0000,9,  -999.00,     1807
  49UF20130107,KS1301,  3732,  1,     31,  21990,2,20130111,1709, 23.9885, 130.9738, 3329,     50.6,  23.4676,  34.5726,2,-999.0000,9,    211.2,2,     0.19,2,     0.07,2,     0.00,2,     0.00,2,   -999.0,9,   -999.0,9,-999.0000,9,  -999.00,     1806
  49UF20130107,KS1301,  3732,  1,     30,  21989,2,20130111,1709, 23.9885, 130.9738, 3329,     75.4,  23.4766,  34.5723,2,-999.0000,9,    211.4,2,     0.18,2,     0.00,2,     0.00,2,     0.00,2,   -999.0,9,   -999.0,9,-999.0000,9,  -999.00,     1805
  49UF20130107,KS1301,  3732,  1,     29,  21988,2,20130111,1709, 23.9885, 130.9738, 3329,     98.9,  23.4772,  34.5715,2,-999.0000,9,    211.0,2,     0.20,2,     0.06,2,     0.00,2,     0.00,2,   -999.0,9,   -999.0,9,-999.0000,9,  -999.00,     1801
  49UF20130107,KS1301,  3732,  1,     28,  21987,2,20130111,1709, 23.9885, 130.9738, 3329,    126.5,  22.4629,  34.6697,2,-999.0000,9,    208.6,6,     0.56,6,     0.32,6,     0.17,6,     0.02,6,   -999.0,9,   -999.0,9,-999.0000,9,  -999.00,     1800
  49UF20130107,KS1301,  3732,  1,     24,  21983,2,20130111,1709, 23.9885, 130.9738, 3329,    150.3,  21.7347,  34.6587,2,-999.0000,9,    212.4,2,     0.70,2,     0.38,2,     0.23,2,     0.03,2,   -999.0,9,   -999.0,9,-999.0000,9,  -999.00,     1759
  49UF20130107,KS1301,  3732,  1,     23,  22095,2,20130111,1709, 23.9885, 130.9738, 3329,    201.3,  20.1806,  34.8662,2,-999.0000,9,    192.2,2,     1.35,2,     2.39,2,     0.01,2,     0.15,2,   -999.0,9,   -999.0,9,-999.0000,9,  -999.00,     1757
  49UF20130107,KS1301,  3732,  1,     22,  21981,2,20130111,1709, 23.9885, 130.9738, 3329,    252.6,  18.7661,  34.8093,2,-999.0000,9,    207.5,2,     1.65,2,     2.69,2,     0.01,2,     0.15,2,   -999.0,9,   -999.0,9,-999.0000,9,  -999.00,     1755
  49UF20130107,KS1301,  3732,  1,     21,  21980,2,20130111,1709, 23.9885, 130.9738, 3329,    302.2,  18.0775,  34.7572,2,-999.0000,9,    206.4,2,     2.34,2,     3.64,2,     0.01,2,     0.22,2,   -999.0,9,   -999.0,9,-999.0000,9,  -999.00,     1753
  49UF20130107,KS1301,  3732,  1,     20,  21979,2,20130111,1709, 23.9885, 130.9738, 3329,    404.5,  16.6151,  34.6719,2,-999.0000,9,    202.6,2,     4.76,2,     6.09,2,     0.00,2,     0.38,2,   -999.0,9,   -999.0,9,-999.0000,9,  -999.00,     1750
  49UF20130107,KS1301,  3732,  1,     19,  21978,2,20130111,1709, 23.9885, 130.9738, 3329,    502.9,  12.5940,  34.4043,2,-999.0000,9,    177.2,2,    18.03,2,    14.82,2,     0.00,2,     1.01,2,   -999.0,9,   -999.0,9,-999.0000,9,  -999.00,     1746
  49UF20130107,KS1301,  3732,  1,     18,  21977,2,20130111,1709, 23.9885, 130.9738, 3329,    502.9,  12.5940,  34.4043,2,-999.0000,9,    177.4,2,    18.02,2,    14.89,2,     0.00,2,     1.01,2,   -999.0,9,   -999.0,9,-999.0000,9,  -999.00,     1746
  49UF20130107,KS1301,  3732,  1,     17,  21976,2,20130111,1709, 23.9885, 130.9738, 3329,    604.2,   9.5817,  34.2330,2,-999.0000,9,    156.9,6,    34.56,6,    21.68,6,     0.00,6,     1.52,6,   -999.0,9,   -999.0,9,-999.0000,9,  -999.00,     1743
  49UF20130107,KS1301,  3732,  1,     16,  21975,2,20130111,1709, 23.9885, 130.9738, 3329,    707.0,   6.7582,  34.1662,2,-999.0000,9,    114.2,2,    62.86,2,    30.34,2,     0.00,2,     2.17,2,   -999.0,9,   -999.0,9,-999.0000,9,  -999.00,     1739
  49UF20130107,KS1301,  3732,  1,     12,  21962,2,20130111,1709, 23.9885, 130.9738, 3329,    807.8,   5.6009,  34.1920,2,-999.0000,9,     90.1,2,    80.06,2,    34.58,2,     0.00,2,     2.47,2,   -999.0,9,   -999.0,9,-999.0000,9,  -999.00,     1736
  49UF20130107,KS1301,  3732,  1,     11,  21970,2,20130111,1709, 23.9885, 130.9738, 3329,    906.5,   4.4907,  34.2660,2,-999.0000,9,     66.2,2,   101.11,2,    38.47,2,     0.00,2,     2.74,2,   -999.0,9,   -999.0,9,-999.0000,9,  -999.00,     1734
  49UF20130107,KS1301,  3732,  1,     10,  21969,2,20130111,1709, 23.9885, 130.9738, 3329,   1009.0,   3.8174,  34.3561,2,-999.0000,9,     60.3,2,   115.97,2,    39.73,2,     0.00,2,     2.83,2,   -999.0,9,   -999.0,9,-999.0000,9,  -999.00,     1731
  49UF20130107,KS1301,  3732,  1,      9,  21968,2,20130111,1709, 23.9885, 130.9738, 3329,   1210.0,   3.1131,  34.4470,2,-999.0000,9,     62.9,2,   130.34,2,    40.51,2,     0.00,2,     2.87,2,   -999.0,9,   -999.0,9,-999.0000,9,  -999.00,     1726
  49UF20130107,KS1301,  3732,  1,      8,  21982,2,20130111,1709, 23.9885, 130.9738, 3329,   1210.0,   3.1131,  34.4470,2,-999.0000,9,     62.8,2,   130.32,2,    40.49,2,     0.00,2,     2.87,2,   -999.0,9,   -999.0,9,-999.0000,9,  -999.00,     1726
  49UF20130107,KS1301,  3732,  1,      7,  21966,2,20130111,1709, 23.9885, 130.9738, 3329,   1413.0,   2.6469,  34.5093,2,-999.0000,9,     74.6,6,   138.31,6,    40.19,6,     0.00,6,     2.84,6,   -999.0,9,   -999.0,9,-999.0000,9,  -999.00,     1721
  49UF20130107,KS1301,  3732,  1,      3,  22079,2,20130111,1709, 23.9885, 130.9738, 3329,   1617.2,   2.3036,  34.5619,2,-999.0000,9,     92.4,2,   140.96,2,    39.29,2,     0.00,2,     2.76,2,   -999.0,9,   -999.0,9,-999.0000,9,  -999.00,     1717
  49UF20130107,KS1301,  3732,  1,      2,  21961,2,20130111,1709, 23.9885, 130.9738, 3329,   1819.9,   2.0985,  34.5938,2,-999.0000,9,    107.3,2,   141.06,2,    38.43,2,     0.00,2,     2.70,2,   -999.0,9,   -999.0,9,-999.0000,9,  -999.00,     1713
  49UF20130107,KS1301,  3732,  1,      1,  21960,2,20130111,1709, 23.9885, 130.9738, 3329,   2022.1,   1.9298,  34.6181,2,-999.0000,9,    117.8,2,   141.60,2,    37.91,2,     0.00,2,     2.65,2,   -999.0,9,   -999.0,9,-999.0000,9,  -999.00,     1709