BOTTLE,20191018PRINUNIVRMK
EXPOCODE,SECT_ID,STNNBR,CASTNO,SAMPNO,BTLNBR,BTLNBR_FLAG_W,DATE,TIME,LATITUDE,LONGITUDE,DEPTH,CTDPRS,CTDTMP,CTDSAL,CTDSAL_FLAG_W,SALNTY,SALNTY_FLAG_W,OXYGEN,OXYGEN_FLAG_W,SILCAT,SILCAT_FLAG_W,NITRAT,NITRAT_FLAG_W,NITRIT,NITRIT_FLAG_W,PHSPHT,PHSPHT_FLAG_W,TCARBN,TCARBN_FLAG_W,ALKALI,ALKALI_FLAG_W,PH_TOT,PH_TOT_FLAG_W,PH_TMP,BTL_TIME
,,,,,,,,,,,METERS,DBAR,ITS-90,PSS-78,,PSS-78,,UMOL/KG,,UMOL/KG,,UMOL/KG,,UMOL/KG,,UMOL/KG,,UMOL/KG,,UMOL/KG,,,,DEG C,
  49UF20130107,KS1301,  3735,  1,     99,     99,2,20130112,1508, 25.9120, 128.1567, 2095,      0.0,  23.7954,  34.5634,2,-999.0000,9,    210.9,2,  -999.00,9,  -999.00,9,  -999.00,9,  -999.00,9,   -999.0,9,   -999.0,9,-999.0000,9,  -999.00,     1543
  49UF20130107,KS1301,  3735,  1,     33,  21992,2,20130112,1508, 25.9120, 128.1567, 2095,     10.0,  23.7937,  34.5633,2,-999.0000,9,    210.7,2,  -999.00,9,  -999.00,9,  -999.00,9,  -999.00,9,   -999.0,9,   -999.0,9,-999.0000,9,  -999.00,     1558
  49UF20130107,KS1301,  3735,  1,     32,  21991,2,20130112,1508, 25.9120, 128.1567, 2095,     24.2,  23.7980,  34.5635,2,-999.0000,9,    210.8,2,  -999.00,9,  -999.00,9,  -999.00,9,  -999.00,9,   -999.0,9,   -999.0,9,-999.0000,9,  -999.00,     1557
  49UF20130107,KS1301,  3735,  1,     31,  21990,2,20130112,1508, 25.9120, 128.1567, 2095,     51.0,  23.8047,  34.5635,2,-999.0000,9,    210.7,6,  -999.00,9,  -999.00,9,  -999.00,9,  -999.00,9,   -999.0,9,   -999.0,9,-999.0000,9,  -999.00,     1556
  49UF20130107,KS1301,  3735,  1,     30,  21989,2,20130112,1508, 25.9120, 128.1567, 2095,     75.1,  23.7720,  34.5605,2,-999.0000,9,    211.0,2,  -999.00,9,  -999.00,9,  -999.00,9,  -999.00,9,   -999.0,9,   -999.0,9,-999.0000,9,  -999.00,     1555
  49UF20130107,KS1301,  3735,  1,     29,  21988,2,20130112,1508, 25.9120, 128.1567, 2095,    100.8,  23.0719,  34.7014,2,-999.0000,9,    205.6,2,  -999.00,9,  -999.00,9,  -999.00,9,  -999.00,9,   -999.0,9,   -999.0,9,-999.0000,9,  -999.00,     1554
  49UF20130107,KS1301,  3735,  1,     28,  21987,2,20130112,1508, 25.9120, 128.1567, 2095,    125.6,  22.4604,  34.6630,2,-999.0000,9,    212.7,2,  -999.00,9,  -999.00,9,  -999.00,9,  -999.00,9,   -999.0,9,   -999.0,9,-999.0000,9,  -999.00,     1553
  49UF20130107,KS1301,  3735,  1,     24,  21983,2,20130112,1508, 25.9120, 128.1567, 2095,    151.3,  22.3217,  34.7480,2,-999.0000,9,    206.9,3,  -999.00,9,  -999.00,9,  -999.00,9,  -999.00,9,   -999.0,9,   -999.0,9,-999.0000,9,  -999.00,     1550
  49UF20130107,KS1301,  3735,  1,     23,  22095,2,20130112,1508, 25.9120, 128.1567, 2095,    202.2,  19.9134,  34.8593,2,-999.0000,9,    190.1,2,  -999.00,9,  -999.00,9,  -999.00,9,  -999.00,9,   -999.0,9,   -999.0,9,-999.0000,9,  -999.00,     1548
  49UF20130107,KS1301,  3735,  1,     22,  21981,2,20130112,1508, 25.9120, 128.1567, 2095,    251.3,  18.9160,  34.7929,2,-999.0000,9,    201.2,2,  -999.00,9,  -999.00,9,  -999.00,9,  -999.00,9,   -999.0,9,   -999.0,9,-999.0000,9,  -999.00,     1547
  49UF20130107,KS1301,  3735,  1,     21,  21980,2,20130112,1508, 25.9120, 128.1567, 2095,    251.3,  18.9160,  34.7929,2,-999.0000,9,    201.3,2,  -999.00,9,  -999.00,9,  -999.00,9,  -999.00,9,   -999.0,9,   -999.0,9,-999.0000,9,  -999.00,     1547
  49UF20130107,KS1301,  3735,  1,     20,  21979,2,20130112,1508, 25.9120, 128.1567, 2095,    301.5,  17.4596,  34.7124,2,-999.0000,9,    192.8,6,  -999.00,9,  -999.00,9,  -999.00,9,  -999.00,9,   -999.0,9,   -999.0,9,-999.0000,9,  -999.00,     1545
  49UF20130107,KS1301,  3735,  1,     19,  21978,2,20130112,1508, 25.9120, 128.1567, 2095,    401.3,  15.5974,  34.5943,2,-999.0000,9,    186.1,2,  -999.00,9,  -999.00,9,  -999.00,9,  -999.00,9,   -999.0,9,   -999.0,9,-999.0000,9,  -999.00,     1543
  49UF20130107,KS1301,  3735,  1,     18,  21977,2,20130112,1508, 25.9120, 128.1567, 2095,    505.1,  11.1668,  34.3081,2,-999.0000,9,    171.6,2,  -999.00,9,  -999.00,9,  -999.00,9,  -999.00,9,   -999.0,9,   -999.0,9,-999.0000,9,  -999.00,     1541
  49UF20130107,KS1301,  3735,  1,     17,  21976,2,20130112,1508, 25.9120, 128.1567, 2095,    604.0,   8.8724,  34.1992,2,-999.0000,9,    147.2,2,  -999.00,9,  -999.00,9,  -999.00,9,  -999.00,9,   -999.0,9,   -999.0,9,-999.0000,9,  -999.00,     1538
  49UF20130107,KS1301,  3735,  1,     16,  21975,2,20130112,1508, 25.9120, 128.1567, 2095,    705.0,   6.6857,  34.1559,2,-999.0000,9,    112.9,2,  -999.00,9,  -999.00,9,  -999.00,9,  -999.00,9,   -999.0,9,   -999.0,9,-999.0000,9,  -999.00,     1536
  49UF20130107,KS1301,  3735,  1,     12,  21962,2,20130112,1508, 25.9120, 128.1567, 2095,    806.8,   5.3907,  34.1946,2,-999.0000,9,     85.4,2,  -999.00,9,  -999.00,9,  -999.00,9,  -999.00,9,   -999.0,9,   -999.0,9,-999.0000,9,  -999.00,     1534
  49UF20130107,KS1301,  3735,  1,     11,  21970,2,20130112,1508, 25.9120, 128.1567, 2095,    806.8,   5.3907,  34.1946,2,-999.0000,9,     85.7,2,  -999.00,9,  -999.00,9,  -999.00,9,  -999.00,9,   -999.0,9,   -999.0,9,-999.0000,9,  -999.00,     1534
  49UF20130107,KS1301,  3735,  1,     10,  21969,2,20130112,1508, 25.9120, 128.1567, 2095,    910.6,   4.3669,  34.2869,2,-999.0000,9,     61.4,2,  -999.00,9,  -999.00,9,  -999.00,9,  -999.00,9,   -999.0,9,   -999.0,9,-999.0000,9,  -999.00,     1531
  49UF20130107,KS1301,  3735,  1,      9,  21968,2,20130112,1508, 25.9120, 128.1567, 2095,   1009.5,   3.9029,  34.3447,2,-999.0000,9,     57.9,6,  -999.00,9,  -999.00,9,  -999.00,9,  -999.00,9,   -999.0,9,   -999.0,9,-999.0000,9,  -999.00,     1529
  49UF20130107,KS1301,  3735,  1,      8,  21982,2,20130112,1508, 25.9120, 128.1567, 2095,   1211.7,   3.2015,  34.4611,2,-999.0000,9,     68.1,2,  -999.00,9,  -999.00,9,  -999.00,9,  -999.00,9,   -999.0,9,   -999.0,9,-999.0000,9,  -999.00,     1524
  49UF20130107,KS1301,  3735,  1,      7,  21966,2,20130112,1508, 25.9120, 128.1567, 2095,   1415.2,   2.7069,  34.5139,2,-999.0000,9,     77.8,2,  -999.00,9,  -999.00,9,  -999.00,9,  -999.00,9,   -999.0,9,   -999.0,9,-999.0000,9,  -999.00,     1520
  49UF20130107,KS1301,  3735,  1,      3,  22079,2,20130112,1508, 25.9120, 128.1567, 2095,   1617.7,   2.3798,  34.5515,2,-999.0000,9,     89.0,2,  -999.00,9,  -999.00,9,  -999.00,9,  -999.00,9,   -999.0,9,   -999.0,9,-999.0000,9,  -999.00,     1516
  49UF20130107,KS1301,  3735,  1,      2,  21961,2,20130112,1508, 25.9120, 128.1567, 2095,   1821.3,   2.1580,  34.5815,2,-999.0000,9,    100.1,2,  -999.00,9,  -999.00,9,  -999.00,9,  -999.00,9,   -999.0,9,   -999.0,9,-999.0000,9,  -999.00,     1512
  49UF20130107,KS1301,  3735,  1,      1,  21960,2,20130112,1508, 25.9120, 128.1567, 2095,   2022.3,   1.9893,  34.6079,2,-999.0000,9,    112.2,2,  -999.00,9,  -999.00,9,  -999.00,9,  -999.00,9,   -999.0,9,   -999.0,9,-999.0000,9,  -999.00,     1508
  49UF20130107,KS1301,  3736,  1,     99,     99,2,20130112,1756, 26.0673, 127.8995,  434,      0.0,  23.9155,  34.5615,2,-999.0000,9,    211.2,2,     0.27,2,     0.20,2,     0.00,2,     0.01,2,   -999.0,9,   -999.0,9,-999.0000,9,  -999.00,     1758
  49UF20130107,KS1301,  3736,  1,     33,  21992,2,20130112,1756, 26.0673, 127.8995,  434,      9.5,  23.9250,  34.5692,2,  34.5692,2,    210.8,2,     0.31,2,     0.16,2,     0.00,2,     0.00,2,   -999.0,9,   -999.0,9,-999.0000,9,  -999.00,     1812
  49UF20130107,KS1301,  3736,  1,     32,  21991,2,20130112,1756, 26.0673, 127.8995,  434,     26.7,  23.7029,  34.5770,2,-999.0000,9,    211.0,2,     0.32,2,     0.17,2,     0.00,2,     0.00,2,   -999.0,9,   -999.0,9,-999.0000,9,  -999.00,     1811
  49UF20130107,KS1301,  3736,  1,     31,  21990,2,20130112,1756, 26.0673, 127.8995,  434,     51.2,  23.5950,  34.5711,2,  34.5841,2,    211.1,6,     0.23,6,     0.17,6,     0.02,6,     0.00,6,   -999.0,9,   -999.0,9,-999.0000,9,  -999.00,     1810
  49UF20130107,KS1301,  3736,  1,     27,  21986,2,20130112,1756, 26.0673, 127.8995,  434,     75.8,  22.2795,  34.6330,2,-999.0000,9,    215.4,2,     0.28,2,     0.17,2,     0.13,2,     0.01,2,   -999.0,9,   -999.0,9,-999.0000,9,  -999.00,     1809
  49UF20130107,KS1301,  3736,  1,     26,  21985,2,20130112,1756, 26.0673, 127.8995,  434,    102.0,  22.2215,  34.6400,2,  34.6422,2,    213.4,2,     0.32,2,     0.31,2,     0.23,2,     0.02,2,   -999.0,9,   -999.0,9,-999.0000,9,  -999.00,     1808
  49UF20130107,KS1301,  3736,  1,     25,  21984,2,20130112,1756, 26.0673, 127.8995,  434,    125.3,  22.0793,  34.6514,2,-999.0000,9,    213.2,2,     0.52,2,     0.32,2,     0.24,2,     0.03,2,   -999.0,9,   -999.0,9,-999.0000,9,  -999.00,     1807
  49UF20130107,KS1301,  3736,  1,     15,  21974,2,20130112,1756, 26.0673, 127.8995,  434,    151.2,  21.3707,  34.7429,2,-999.0000,9,    202.0,2,     1.13,2,     1.47,2,     0.09,2,     0.11,2,   -999.0,9,   -999.0,9,-999.0000,9,  -999.00,     1805
  49UF20130107,KS1301,  3736,  1,     14,  21973,2,20130112,1756, 26.0673, 127.8995,  434,    202.5,  19.4458,  34.7967,2,-999.0000,9,    198.8,2,     1.98,2,     2.93,2,     0.01,2,     0.18,2,   -999.0,9,   -999.0,9,-999.0000,9,  -999.00,     1803
  49UF20130107,KS1301,  3736,  1,     13,  21972,2,20130112,1756, 26.0673, 127.8995,  434,    252.1,  18.2525,  34.7568,2,  34.7597,2,    194.1,2,     2.90,2,     4.58,2,     0.01,2,     0.29,2,   -999.0,9,   -999.0,9,-999.0000,9,  -999.00,     1801
  49UF20130107,KS1301,  3736,  1,      6,  21965,2,20130112,1756, 26.0673, 127.8995,  434,    301.9,  16.9402,  34.6839,2,-999.0000,9,    191.1,2,     4.82,2,     6.65,2,     0.00,2,     0.43,2,   -999.0,9,   -999.0,9,-999.0000,9,  -999.00,     1800
  49UF20130107,KS1301,  3736,  1,      5,  21964,2,20130112,1756, 26.0673, 127.8995,  434,    403.1,  13.4728,  34.4629,2,  34.4653,6,    179.1,2,    14.55,2,    12.95,2,     0.01,2,     0.89,2,   -999.0,9,   -999.0,9,-999.0000,9,  -999.00,     1757
  49UF20130107,KS1301,  3736,  1,      3,  22079,2,20130112,1756, 26.0673, 127.8995,  434,    436.4,  13.0124,  34.4322,2,  34.4299,6,    176.9,6,    16.55,6,    14.05,6,     0.01,6,     0.98,6,   -999.0,9,   -999.0,9,-999.0000,9,  -999.00,     1756
  49UF20130107,KS1301,  3737,  1,     99,     99,2,20130116,0108, 28.6978, 126.4483,  142,      0.0,  20.5942,  34.5600,2,  34.5668,2,    222.6,2,     2.14,2,     1.26,2,     0.27,2,     0.11,2,   1982.4,2,   2267.6,2,   8.0350,2,    25.00,      105
  49UF20130107,KS1301,  3737,  1,     27,  21986,2,20130116,0108, 28.6978, 126.4483,  142,     10.9,  20.6047,  34.5581,2,  34.5430,4,    219.6,2,     3.23,2,     2.17,2,     0.23,2,     0.17,2,   -999.0,9,   -999.0,9,-999.0000,9,  -999.00,      117
  49UF20130107,KS1301,  3737,  1,     26,  21985,2,20130116,0108, 28.6978, 126.4483,  142,     21.8,  20.6018,  34.5582,2,-999.0000,9,    222.3,2,     2.09,2,     1.24,2,     0.27,2,     0.12,2,   -999.0,9,   -999.0,9,-999.0000,9,  -999.00,      116
  49UF20130107,KS1301,  3737,  1,     25,  21984,3,20130116,0108, 28.6978, 126.4483,  142,     31.4,  20.6009,  34.5577,2,-999.0000,9,    221.8,2,     2.09,2,     1.27,2,     0.27,2,     0.11,2,   -999.0,9,   -999.0,9,-999.0000,9,  -999.00,      115
  49UF20130107,KS1301,  3737,  1,     15,  21974,2,20130116,0108, 28.6978, 126.4483,  142,     50.9,  20.5919,  34.5560,2,-999.0000,9,    221.3,6,     2.13,6,     1.30,6,     0.28,6,     0.11,6,   -999.0,9,   -999.0,9,-999.0000,9,  -999.00,      113
  49UF20130107,KS1301,  3737,  1,     14,  21973,2,20130116,0108, 28.6978, 126.4483,  142,     75.6,  20.1813,  34.5317,2,  34.5306,2,    218.4,2,     2.41,2,     1.73,2,     0.32,2,     0.14,2,   -999.0,9,   -999.0,9,-999.0000,9,  -999.00,      112
  49UF20130107,KS1301,  3737,  1,     13,  21972,2,20130116,0108, 28.6978, 126.4483,  142,     75.6,  20.1813,  34.5317,2,  34.5309,2,    218.5,2,     2.41,2,     1.74,2,     0.32,2,     0.14,2,   -999.0,9,   -999.0,9,-999.0000,9,  -999.00,      112
  49UF20130107,KS1301,  3737,  1,      6,  21965,2,20130116,0108, 28.6978, 126.4483,  142,    101.6,  19.0170,  34.5056,2,-999.0000,9,    197.7,2,     6.74,2,     5.17,2,     0.06,2,     0.36,2,   -999.0,9,   -999.0,9,-999.0000,9,  -999.00,      110
  49UF20130107,KS1301,  3737,  1,      4,  21963,2,20130116,0108, 28.6978, 126.4483,  142,    116.3,  17.9323,  34.5266,2,  34.5214,2,    187.0,2,     9.80,2,     7.08,2,     0.04,2,     0.49,2,   -999.0,9,   -999.0,9,-999.0000,9,  -999.00,      108
  49UF20130107,KS1301,  3739,  1,     99,     99,2,20130116,0316, 28.5492, 126.6852,  157,      0.0,  20.3075,  34.5541,2,-999.0000,9,    222.0,2,     2.32,2,     1.46,2,     0.26,2,     0.12,2,   -999.0,9,   -999.0,9,-999.0000,9,  -999.00,      317
  49UF20130107,KS1301,  3739,  1,     27,  21986,2,20130116,0316, 28.5492, 126.6852,  157,      9.7,  20.3092,  34.5549,2,-999.0000,9,    221.5,2,     2.32,2,     1.44,2,     0.26,2,     0.12,2,   -999.0,9,   -999.0,9,-999.0000,9,  -999.00,      324
  49UF20130107,KS1301,  3739,  1,     26,  21985,2,20130116,0316, 28.5492, 126.6852,  157,     20.1,  20.3111,  34.5550,2,-999.0000,9,    221.6,2,     2.32,2,     1.44,2,     0.26,2,     0.12,2,   -999.0,9,   -999.0,9,-999.0000,9,  -999.00,      323
  49UF20130107,KS1301,  3739,  1,     25,  21984,2,20130116,0316, 28.5492, 126.6852,  157,     29.7,  20.3139,  34.5557,2,-999.0000,9,    221.4,2,     2.37,2,     1.43,2,     0.26,2,     0.12,2,   -999.0,9,   -999.0,9,-999.0000,9,  -999.00,      322
  49UF20130107,KS1301,  3739,  1,     15,  21974,2,20130116,0316, 28.5492, 126.6852,  157,     50.5,  20.3073,  34.5533,2,-999.0000,9,    221.4,2,     2.37,2,     1.48,2,     0.26,2,     0.12,2,   -999.0,9,   -999.0,9,-999.0000,9,  -999.00,      321
  49UF20130107,KS1301,  3739,  1,     14,  21973,2,20130116,0316, 28.5492, 126.6852,  157,     74.6,  19.9490,  34.5672,2,-999.0000,9,    208.6,6,     3.86,6,     2.98,6,     0.24,6,     0.22,6,   -999.0,9,   -999.0,9,-999.0000,9,  -999.00,      320
  49UF20130107,KS1301,  3739,  1,     13,  21972,2,20130116,0316, 28.5492, 126.6852,  157,    100.3,  17.6843,  34.5975,2,-999.0000,9,    176.0,2,    10.49,2,     8.31,2,     0.02,2,     0.57,2,   -999.0,9,   -999.0,9,-999.0000,9,  -999.00,      319
  49UF20130107,KS1301,  3739,  1,     12,  21962,2,20130116,0316, 28.5492, 126.6852,  157,    126.7,  14.1758,  34.5059,2,-999.0000,9,    162.2,2,    20.32,2,    13.95,2,     0.05,2,     0.99,2,   -999.0,9,   -999.0,9,-999.0000,9,  -999.00,      318
  49UF20130107,KS1301,  3739,  1,     11,  21970,2,20130116,0316, 28.5492, 126.6852,  157,    126.7,  14.1758,  34.5059,2,-999.0000,9,    162.4,2,    20.46,2,    14.02,2,     0.05,2,     0.98,2,   -999.0,9,   -999.0,9,-999.0000,9,  -999.00,      318
  49UF20130107,KS1301,  3739,  1,      5,  21964,2,20130116,0316, 28.5492, 126.6852,  157,    152.9,  13.6407,  34.4890,2,-999.0000,9,    160.9,2,    21.74,2,    14.79,2,     0.04,2,     1.05,2,   -999.0,9,   -999.0,9,-999.0000,9,  -999.00,      316
  49UF20130107,KS1301,  3741,  1,     99,     99,2,20130116,0523, 28.4048, 126.9055,  280,      0.0,  22.0413,  34.6317,2,-999.0000,9,    216.1,2,     1.24,2,     0.61,2,     0.18,2,     0.06,2,   -999.0,9,   -999.0,9,-999.0000,9,  -999.00,      528
  49UF20130107,KS1301,  3741,  1,     33,  21992,2,20130116,0523, 28.4048, 126.9055,  280,     10.0,  22.0435,  34.6321,2,  34.6308,6,    215.5,2,     1.24,2,     0.63,2,     0.18,2,     0.06,3,   -999.0,9,   -999.0,9,-999.0000,9,  -999.00,      538
  49UF20130107,KS1301,  3741,  1,     32,  21991,2,20130116,0523, 28.4048, 126.9055,  280,     20.3,  22.0439,  34.6300,2,-999.0000,9,    215.4,2,     1.20,2,     0.58,2,     0.18,2,     0.06,2,   -999.0,9,   -999.0,9,-999.0000,9,  -999.00,      537
  49UF20130107,KS1301,  3741,  1,     31,  21990,2,20130116,0523, 28.4048, 126.9055,  280,     30.7,  22.0425,  34.6296,2,-999.0000,9,    215.8,6,     1.21,6,     0.59,6,     0.18,6,     0.06,2,   -999.0,9,   -999.0,9,-999.0000,9,  -999.00,      536
  49UF20130107,KS1301,  3741,  1,     27,  21986,2,20130116,0523, 28.4048, 126.9055,  280,     50.6,  22.0088,  34.6256,2,-999.0000,9,    215.5,2,     1.15,2,     0.58,2,     0.18,2,     0.06,2,   -999.0,9,   -999.0,9,-999.0000,9,  -999.00,      535
  49UF20130107,KS1301,  3741,  1,     26,  21985,2,20130116,0523, 28.4048, 126.9055,  280,     76.3,  21.3002,  34.5714,2,  34.5684,2,    219.6,2,     1.29,2,     0.60,2,     0.23,2,     0.06,2,   -999.0,9,   -999.0,9,-999.0000,9,  -999.00,      534
  49UF20130107,KS1301,  3741,  1,     25,  21984,2,20130116,0523, 28.4048, 126.9055,  280,    100.9,  20.6607,  34.5314,2,-999.0000,9,    221.2,2,     1.75,2,     0.92,2,     0.40,2,     0.09,2,   -999.0,9,   -999.0,9,-999.0000,9,  -999.00,      533
  49UF20130107,KS1301,  3741,  1,     15,  21974,2,20130116,0523, 28.4048, 126.9055,  280,    126.0,  19.9390,  34.5357,2,-999.0000,9,    217.4,2,     2.84,2,     1.92,2,     0.47,2,     0.17,3,   -999.0,9,   -999.0,9,-999.0000,9,  -999.00,      532
  49UF20130107,KS1301,  3741,  1,     14,  21973,2,20130116,0523, 28.4048, 126.9055,  280,    150.9,  17.6605,  34.5448,2,  34.5527,2,    177.7,2,    11.14,2,     8.46,2,     0.04,2,     0.58,2,   -999.0,9,   -999.0,9,-999.0000,9,  -999.00,      531
  49UF20130107,KS1301,  3741,  1,     13,  21972,2,20130116,0523, 28.4048, 126.9055,  280,    150.9,  17.6605,  34.5448,2,  34.5541,2,    177.4,2,    11.15,2,     8.43,2,     0.04,2,     0.59,2,   -999.0,9,   -999.0,9,-999.0000,9,  -999.00,      531
  49UF20130107,KS1301,  3741,  1,      6,  21965,2,20130116,0523, 28.4048, 126.9055,  280,    201.8,  14.0341,  34.5031,2,-999.0000,9,    173.8,2,    15.97,2,    12.74,2,     0.01,2,     0.87,2,   -999.0,9,   -999.0,9,-999.0000,9,  -999.00,      529
  49UF20130107,KS1301,  3741,  1,      5,  21964,2,20130116,0523, 28.4048, 126.9055,  280,    252.2,  11.5509,  34.3946,2,-999.0000,9,    150.2,6,    30.70,6,    18.94,6,     0.02,6,     1.35,6,   -999.0,9,   -999.0,9,-999.0000,9,  -999.00,      525
  49UF20130107,KS1301,  3741,  1,      4,  21963,2,20130116,0523, 28.4048, 126.9055,  280,    274.3,  11.2300,  34.3815,2,  34.5032,4,    147.2,2,    33.03,2,    19.81,2,     0.02,2,     1.41,2,   -999.0,9,   -999.0,9,-999.0000,9,  -999.00,      523