BOTTLE,20191018PRINUNIVRMK
EXPOCODE,SECT_ID,STNNBR,CASTNO,SAMPNO,BTLNBR,BTLNBR_FLAG_W,DATE,TIME,LATITUDE,LONGITUDE,DEPTH,CTDPRS,CTDTMP,CTDSAL,CTDSAL_FLAG_W,SALNTY,SALNTY_FLAG_W,OXYGEN,OXYGEN_FLAG_W,SILCAT,SILCAT_FLAG_W,NITRAT,NITRAT_FLAG_W,NITRIT,NITRIT_FLAG_W,PHSPHT,PHSPHT_FLAG_W,TCARBN,TCARBN_FLAG_W,ALKALI,ALKALI_FLAG_W,PH_TOT,PH_TOT_FLAG_W,PH_TMP,BTL_TIME
,,,,,,,,,,,METERS,DBAR,ITS-90,PSS-78,,PSS-78,,UMOL/KG,,UMOL/KG,,UMOL/KG,,UMOL/KG,,UMOL/KG,,UMOL/KG,,UMOL/KG,,,,DEG C,
  49UF20130107,KS1301,  3750,  1,     99,     99,2,20130116,2318, 27.4898, 128.2480, 1039,      0.0,  21.9012,  34.6364,2,-999.0000,9,    215.4,2,     0.47,2,     0.32,2,     0.06,2,     0.04,2,   -999.0,9,   -999.0,9,-999.0000,9,  -999.00,     2335
  49UF20130107,KS1301,  3750,  1,     33,  21992,2,20130116,2318, 27.4898, 128.2480, 1039,     10.7,  21.9031,  34.6372,2,  34.6370,2,    215.1,2,     0.48,2,     0.29,2,     0.06,2,     0.01,2,   -999.0,9,   -999.0,9,-999.0000,9,  -999.00,     2358
  49UF20130107,KS1301,  3750,  1,     32,  21991,2,20130116,2318, 27.4898, 128.2480, 1039,     21.1,  21.8984,  34.6375,2,-999.0000,9,    215.1,2,     0.46,2,     0.28,2,     0.06,2,     0.01,2,   -999.0,9,   -999.0,9,-999.0000,9,  -999.00,     2357
  49UF20130107,KS1301,  3750,  1,     31,  21990,2,20130116,2318, 27.4898, 128.2480, 1039,     31.5,  21.8920,  34.6375,2,-999.0000,9,    215.1,2,     0.49,2,     0.29,2,     0.07,2,     0.01,2,   -999.0,9,   -999.0,9,-999.0000,9,  -999.00,     2356
  49UF20130107,KS1301,  3750,  1,     27,  21986,2,20130116,2318, 27.4898, 128.2480, 1039,     50.5,  21.7455,  34.6386,2,  34.6397,2,    215.4,2,     0.49,2,     0.31,2,     0.09,2,     0.02,2,   -999.0,9,   -999.0,9,-999.0000,9,  -999.00,     2353
  49UF20130107,KS1301,  3750,  1,     26,  21985,2,20130116,2318, 27.4898, 128.2480, 1039,     50.5,  21.7455,  34.6386,2,  34.6388,2,    215.2,2,     0.49,2,     0.28,2,     0.09,2,     0.01,2,   -999.0,9,   -999.0,9,-999.0000,9,  -999.00,     2353
  49UF20130107,KS1301,  3750,  1,     25,  21984,2,20130116,2318, 27.4898, 128.2480, 1039,     75.7,  21.6928,  34.6543,2,-999.0000,9,    213.0,2,     0.59,2,     0.38,2,     0.12,2,     0.03,2,   -999.0,9,   -999.0,9,-999.0000,9,  -999.00,     2352
  49UF20130107,KS1301,  3750,  1,     24,  21983,2,20130116,2318, 27.4898, 128.2480, 1039,    100.2,  21.6648,  34.7046,2,-999.0000,9,    205.7,6,     0.94,6,     1.02,6,     0.09,6,     0.07,2,   -999.0,9,   -999.0,9,-999.0000,9,  -999.00,     2350
  49UF20130107,KS1301,  3750,  1,     23,  22095,2,20130116,2318, 27.4898, 128.2480, 1039,    125.9,  21.0818,  34.7677,2,  34.7650,2,    198.7,2,     1.42,2,     1.87,2,     0.04,2,     0.12,2,   -999.0,9,   -999.0,9,-999.0000,9,  -999.00,     2349
  49UF20130107,KS1301,  3750,  1,     22,  21981,2,20130116,2318, 27.4898, 128.2480, 1039,    151.8,  20.1705,  34.7931,2,-999.0000,9,    194.5,2,     1.93,2,     2.74,2,     0.02,2,     0.17,2,   -999.0,9,   -999.0,9,-999.0000,9,  -999.00,     2347
  49UF20130107,KS1301,  3750,  1,     18,  21977,2,20130116,2318, 27.4898, 128.2480, 1039,    205.2,  18.3076,  34.7434,2,  34.7426,2,    191.7,2,     3.71,2,     4.99,2,     0.01,2,     0.31,2,   -999.0,9,   -999.0,9,-999.0000,9,  -999.00,     2344
  49UF20130107,KS1301,  3750,  1,     17,  21976,2,20130116,2318, 27.4898, 128.2480, 1039,    250.0,  17.4929,  34.7030,2,-999.0000,9,    189.6,2,     5.14,2,     6.18,2,     0.01,2,     0.40,2,   -999.0,9,   -999.0,9,-999.0000,9,  -999.00,     2342
  49UF20130107,KS1301,  3750,  1,     16,  21975,2,20130116,2318, 27.4898, 128.2480, 1039,    301.3,  16.1977,  34.6308,2,-999.0000,9,    184.6,2,     8.71,2,     8.60,2,     0.00,2,     0.57,2,   -999.0,9,   -999.0,9,-999.0000,9,  -999.00,     2341
  49UF20130107,KS1301,  3750,  1,     15,  21974,2,20130116,2318, 27.4898, 128.2480, 1039,    405.2,  13.4651,  34.4775,2,  34.4769,2,    172.2,3,    18.09,2,    13.88,2,     0.00,2,     0.96,2,   -999.0,9,   -999.0,9,-999.0000,9,  -999.00,     2338
  49UF20130107,KS1301,  3750,  1,     14,  21973,2,20130116,2318, 27.4898, 128.2480, 1039,    405.2,  13.4651,  34.4775,2,  34.4782,2,    172.2,2,    18.14,2,    13.84,2,     0.00,2,     0.97,2,   -999.0,9,   -999.0,9,-999.0000,9,  -999.00,     2338
  49UF20130107,KS1301,  3750,  1,     13,  21972,2,20130116,2318, 27.4898, 128.2480, 1039,    508.3,  10.3677,  34.3465,2,-999.0000,9,    148.5,6,    35.72,6,    20.85,6,     0.00,6,     1.48,6,   -999.0,9,   -999.0,9,-999.0000,9,  -999.00,     2334
  49UF20130107,KS1301,  3750,  1,      6,  21965,2,20130116,2318, 27.4898, 128.2480, 1039,    605.4,   8.7562,  34.3166,2,  34.3161,6,    126.7,2,    52.26,2,    25.83,2,     0.00,2,     1.83,2,   -999.0,9,   -999.0,9,-999.0000,9,  -999.00,     2331
  49UF20130107,KS1301,  3750,  1,      5,  21964,2,20130116,2318, 27.4898, 128.2480, 1039,    705.2,   7.4210,  34.3208,2,-999.0000,9,    109.7,2,    67.53,2,    29.53,2,     0.00,2,     2.11,2,   -999.0,9,   -999.0,9,-999.0000,9,  -999.00,     2328
  49UF20130107,KS1301,  3750,  1,      4,  21963,2,20130116,2318, 27.4898, 128.2480, 1039,    804.8,   6.4402,  34.3315,2,  34.3311,2,     96.3,2,    79.56,2,    32.47,2,     0.00,2,     2.31,2,   -999.0,9,   -999.0,9,-999.0000,9,  -999.00,     2326
  49UF20130107,KS1301,  3750,  1,      3,  22079,2,20130116,2318, 27.4898, 128.2480, 1039,    907.4,   5.9908,  34.3384,2,-999.0000,9,     91.0,2,    85.33,2,    33.63,2,     0.00,2,     2.40,2,   -999.0,9,   -999.0,9,-999.0000,9,  -999.00,     2323
  49UF20130107,KS1301,  3750,  1,      2,  21961,2,20130116,2318, 27.4898, 128.2480, 1039,   1008.2,   5.7363,  34.3405,2,  34.3455,4,     88.4,2,    88.19,2,    34.40,2,     0.00,2,     2.45,2,   -999.0,9,   -999.0,9,-999.0000,9,  -999.00,     2320
  49UF20130107,KS1301,  3750,  1,      1,  21960,2,20130116,2318, 27.4898, 128.2480, 1039,   1029.9,   5.6973,  34.3409,2,  34.3401,6,     87.3,6,    88.69,6,    34.51,6,     0.00,6,     2.47,6,   -999.0,9,   -999.0,9,-999.0000,9,  -999.00,     2318