BOTTLE,20191018PRINUNIVRMK
# Processed by CCHDO on 2021-06-01, no changes
# 08/29/2019 Initialized README file  
# Data source:  Masao Ishii 2018/11/30 
# SHIP: R/V Keifu Maru II 
# Cruise: KS13-01 
# Region: North Pacific Ocean, east China Sea 
# EXPOCODE: 49UF20130107 
# DATES: 20130107 - 20130126	 
# Chief Scientist: Takashi Miyao 
# 18 stations with 24 place Rosette 
# CTD: Who - Kazuhiro Nemoto; Status - final 
# 	Includes: CTDSAL 
# SALNTY: Who - Kazuhiro Nemoto; Status - final 
# 	Notes: 	 
# Nutrients: Who - Kazuhiro Nemoto; Status - final 
# 	Includes: nitrate, nitrite, silicate, phosphate 
# 	Nitrite and NO3+NO2 reported. Separated by subtraction 
# OXYGEN: Who - Kazuhiro Nemoto; Status - final 
# 	Notes: 
# TCARBN: Who - Kazuhiro Nemoto; Status - final 
# 	Notes:  
# ALKALI: Who - Kazuhiro Nemoto; Status - final 
# 	Notes:  
# PH_TOT: Who - Kazuhiro Nemoto; Status - final 
# 	Notes:  
# Miyao, Takashi; Nemoto, Kazuhiro; Ishii, Masao (2019). Dissolved inorganic carbon (DIC), total alkalinity, pH on total scale, temperature, salinity, oxygen, nutrients and other measurements collected from profile and discrete sample observations during the R/V Keifu Maru II cruise KS13-01 (EXPOCODE 49UF20130107) in the North Pacific Ocean and East China Sea from 2013-01-07 to 2013-01-26 (NCEI Accession 0186249). [indicate subset used]. NOAA National Centers for Environmental Information. Dataset. https://doi.org/10.25921/e5n4-e398.   
# References that have used data from this cruise: 
EXPOCODE,SECT_ID,STNNBR,CASTNO,SAMPNO,BTLNBR,BTLNBR_FLAG_W,DATE,TIME,LATITUDE,LONGITUDE,DEPTH,CTDPRS,CTDTMP,CTDSAL,CTDSAL_FLAG_W,SALNTY,SALNTY_FLAG_W,OXYGEN,OXYGEN_FLAG_W,SILCAT,SILCAT_FLAG_W,NITRAT,NITRAT_FLAG_W,NITRIT,NITRIT_FLAG_W,PHSPHT,PHSPHT_FLAG_W,TCARBN,TCARBN_FLAG_W,ALKALI,ALKALI_FLAG_W,PH_TOT,PH_TOT_FLAG_W,PH_TMP,BTL_TIME
,,,,,,,,,,,METERS,DBAR,ITS-90,PSS-78,,PSS-78,,UMOL/KG,,UMOL/KG,,UMOL/KG,,UMOL/KG,,UMOL/KG,,UMOL/KG,,UMOL/KG,,,,DEG C,
  49UF20130107,KS1301,  3721,  1,     99,     99,2,20130109,1259, 24.0092, 136.9838, 4060,      0.0,  23.3081,  34.8311,2,  34.8312,2,    215.8,2,     0.48,2,     0.03,2,     0.00,2,     0.00,2,   1973.2,2,   2284.3,2,   8.0733,2,    25.00,     1430
  49UF20130107,KS1301,  3721,  1,     36,  21995,2,20130109,1259, 24.0092, 136.9838, 4060,     11.3,  23.2715,  34.8297,2,  34.8299,2,    215.1,2,     0.43,2,     0.02,2,     0.00,2,     0.00,2,   1973.2,2,   2281.3,2,   8.0725,2,    25.00,     1443
  49UF20130107,KS1301,  3721,  1,     35,  22087,2,20130109,1259, 24.0092, 136.9838, 4060,     25.7,  22.8445,  34.7875,2,-999.0000,9,    217.4,2,     0.48,2,     0.06,2,     0.00,2,     0.00,2,   1972.6,2,   2280.4,2,   8.0663,2,    25.00,     1442
  49UF20130107,KS1301,  3721,  1,     34,  22668,2,20130109,1259, 24.0092, 136.9838, 4060,     50.0,  22.7418,  34.7908,2,-999.0000,9,    217.6,2,     0.53,2,     0.07,2,     0.00,2,     0.00,2,   1974.3,2,   2278.9,2,   8.0643,2,    25.00,     1438
  49UF20130107,KS1301,  3721,  1,     33,  21992,2,20130109,1259, 24.0092, 136.9838, 4060,     75.2,  22.3585,  34.7849,2,-999.0000,9,    217.7,2,     0.72,2,     0.05,2,     0.00,2,     0.00,2,   1981.4,2,   2281.6,2,   8.0501,2,    25.00,     1437
  49UF20130107,KS1301,  3721,  1,     32,  21991,2,20130109,1259, 24.0092, 136.9838, 4060,    100.4,  20.3466,  34.8181,2,  34.8180,2,    214.4,6,     1.27,6,     0.56,6,     0.09,6,     0.05,6,   2007.3,2,   2280.4,2,   8.0061,2,    25.00,     1435
  49UF20130107,KS1301,  3721,  1,     31,  21990,2,20130109,1259, 24.0092, 136.9838, 4060,    125.5,  18.8863,  34.8023,2,-999.0000,9,    204.7,2,     1.88,2,     2.53,2,     0.02,2,     0.16,2,   2027.6,2,   2279.5,2,   7.9771,2,    25.00,     1434
  49UF20130107,KS1301,  3721,  1,     30,  21989,2,20130109,1259, 24.0092, 136.9838, 4060,    151.0,  18.1730,  34.7673,2,-999.0000,9,    203.7,2,     2.35,2,     3.62,2,     0.01,2,     0.23,2,   2030.7,2,   2278.5,2,   7.9657,2,    25.00,     1432
  49UF20130107,KS1301,  3721,  1,     29,  21988,2,20130109,1259, 24.0092, 136.9838, 4060,    202.0,  17.3798,  34.7229,2,  34.7214,2,    209.9,2,     3.00,2,     4.40,2,     0.01,2,     0.28,2,   2029.6,2,   2277.4,2,   7.9442,2,    25.00,     1430
  49UF20130107,KS1301,  3721,  1,     28,  21987,2,20130109,1259, 24.0092, 136.9838, 4060,    252.7,  16.9087,  34.6991,2,-999.0000,9,    211.4,2,     3.65,2,     4.99,2,     0.00,2,     0.31,2,   2033.9,2,   2278.4,2,   7.9583,3,    25.00,     1428
  49UF20130107,KS1301,  3721,  1,     24,  21983,2,20130109,1259, 24.0092, 136.9838, 4060,    302.6,  16.1447,  34.6370,2,-999.0000,9,    199.4,2,     6.01,2,     7.29,2,     0.00,2,     0.47,2,   2052.7,2,   2278.1,2,   7.9108,2,    25.00,     1426
  49UF20130107,KS1301,  3721,  1,     23,  22095,2,20130109,1259, 24.0092, 136.9838, 4060,    404.1,  13.5405,  34.4590,2,  34.4558,2,    186.6,2,    13.86,2,    12.56,2,     0.00,2,     0.86,2,   2092.5,2,   2273.4,2,   7.8252,2,    25.00,     1423
  49UF20130107,KS1301,  3721,  1,     22,  21981,2,20130109,1259, 24.0092, 136.9838, 4060,    504.9,  10.2012,  34.2411,2,-999.0000,9,    169.6,2,    27.61,2,    19.51,2,     0.00,2,     1.35,2,   2139.8,2,   2274.5,2,   7.7086,2,    25.00,     1420
  49UF20130107,KS1301,  3721,  1,     21,  21980,2,20130109,1259, 24.0092, 136.9838, 4060,    604.9,   7.5414,  34.1401,2,  34.1393,2,    134.2,2,    51.58,2,    27.56,2,     0.00,2,     1.95,2,   2205.7,2,   2287.7,2,   7.5794,2,    25.00,     1417
  49UF20130107,KS1301,  3721,  1,     20,  21979,2,20130109,1259, 24.0092, 136.9838, 4060,    706.8,   5.6778,  34.1443,2,-999.0000,9,     93.5,2,    75.31,2,    34.34,2,     0.00,2,     2.45,2,   2264.2,6,   2307.4,6,   7.4673,2,    25.00,     1414
  49UF20130107,KS1301,  3721,  1,     19,  21978,2,20130109,1259, 24.0092, 136.9838, 4060,    807.2,   4.8953,  34.2147,2,  34.2131,2,     73.8,2,    91.53,2,    37.35,2,     0.00,2,     2.65,2,   2295.4,2,   2327.3,2,   7.4225,6,    25.00,     1411
  49UF20130107,KS1301,  3721,  1,     18,  21977,2,20130109,1259, 24.0092, 136.9838, 4060,    908.5,   4.2247,  34.2872,2,-999.0000,9,     59.7,2,   106.04,2,    39.53,2,     0.00,2,     2.81,2,   2320.6,2,   2348.5,2,   7.3941,2,    25.00,     1409
  49UF20130107,KS1301,  3721,  1,     17,  21976,2,20130109,1259, 24.0092, 136.9838, 4060,   1010.3,   3.7170,  34.3571,2,  34.3559,2,     54.6,2,   117.58,2,    40.59,2,     0.00,2,     2.89,2,   2338.8,2,   2358.4,2,   7.3869,2,    25.00,     1405
  49UF20130107,KS1301,  3721,  1,     16,  21975,2,20130109,1259, 24.0092, 136.9838, 4060,   1212.4,   3.0442,  34.4572,2,-999.0000,9,     62.7,2,   131.83,2,    40.92,2,     0.00,2,     2.89,2,   2353.4,6,   2379.1,6,   7.4052,2,    25.00,     1401
  49UF20130107,KS1301,  3721,  1,     15,  21974,2,20130109,1259, 24.0092, 136.9838, 4060,   1414.4,   2.6393,  34.5238,2,  34.5239,2,     77.8,2,   137.34,2,    40.13,2,     0.00,2,     2.84,2,   2355.1,2,   2391.3,2,   7.4392,6,    25.00,     1356
  49UF20130107,KS1301,  3721,  1,     14,  21973,2,20130109,1259, 24.0092, 136.9838, 4060,   1616.0,   2.3364,  34.5685,2,-999.0000,9,     93.9,2,   139.88,2,    39.27,2,     0.00,2,     2.76,2,   2346.7,2,   2396.5,2,   7.4727,2,    25.00,     1352
  49UF20130107,KS1301,  3721,  1,     13,  21972,2,20130109,1259, 24.0092, 136.9838, 4060,   1819.3,   2.1350,  34.5970,2,  34.5975,2,    105.8,6,   140.95,6,    38.61,6,     0.00,6,     2.72,6,   2345.4,2,   2400.7,2,   7.4939,2,    25.00,     1347
  49UF20130107,KS1301,  3721,  1,     11,  21970,2,20130109,1259, 24.0092, 136.9838, 4060,   2021.3,   1.9720,  34.6186,2,  34.6185,2,    115.2,2,   141.92,2,    38.02,2,     0.00,2,     2.66,2,   2340.0,2,   2407.1,2,   7.5109,2,    25.00,     1343
  49UF20130107,KS1301,  3721,  1,     10,  21969,2,20130109,1259, 24.0092, 136.9838, 4060,   2276.7,   1.8567,  34.6348,2,  34.6359,2,    123.2,2,   141.89,2,    37.63,2,     0.00,2,     2.62,2,   2339.3,2,   2406.2,2,   7.5243,2,    25.00,     1338
  49UF20130107,KS1301,  3721,  1,      9,  21968,2,20130109,1259, 24.0092, 136.9838, 4060,   2531.5,   1.7621,  34.6476,2,  34.6512,4,    130.1,2,   141.97,2,    37.28,2,     0.00,2,     2.61,2,   2335.3,2,   2408.0,2,   7.5369,2,    25.00,     1332
  49UF20130107,KS1301,  3721,  1,      8,  21982,2,20130109,1259, 24.0092, 136.9838, 4060,   2531.5,   1.7621,  34.6476,2,  34.6473,2,    130.3,2,   141.59,2,    37.19,2,     0.00,2,     2.61,2,   2335.3,2,   2410.5,2,   7.5381,2,    25.00,     1332
  49UF20130107,KS1301,  3721,  1,      7,  21966,2,20130109,1259, 24.0092, 136.9838, 4060,   2786.9,   1.6854,  34.6570,2,  34.6563,2,    135.7,2,   141.89,2,    36.82,2,     0.00,2,     2.56,2,   2332.7,6,   2410.2,6,   7.5469,2,    25.00,     1327
  49UF20130107,KS1301,  3721,  1,      6,  21965,2,20130109,1259, 24.0092, 136.9838, 4060,   3041.1,   1.6455,  34.6632,2,  34.6623,2,    139.9,2,   141.82,2,    36.70,2,     0.00,2,     2.54,2,   2332.0,2,   2411.4,2,   7.5541,6,    25.00,     1322
  49UF20130107,KS1301,  3721,  1,      5,  21964,2,20130109,1259, 24.0092, 136.9838, 4060,   3298.3,   1.6017,  34.6692,2,  34.6690,2,    144.2,2,   141.54,2,    36.35,2,     0.00,2,     2.52,2,   2328.6,2,   2413.0,2,   7.5605,2,    25.00,     1316
  49UF20130107,KS1301,  3721,  1,      4,  21963,2,20130109,1259, 24.0092, 136.9838, 4060,   3553.2,   1.5710,  34.6738,2,  34.6737,6,    148.6,2,   140.74,2,    35.99,2,     0.00,2,     2.50,2,   2331.3,2,   2414.1,2,   7.5667,2,    25.00,     1311
  49UF20130107,KS1301,  3721,  1,      3,  22079,4,20130109,1259, 24.0092, 136.9838, 4060,   3809.6,   1.5278,  34.6802,2,  34.6730,4,    148.0,4,   140.90,4,    36.12,4,     0.00,4,     2.51,4,   2329.5,4,   2416.8,4,   7.5645,4,    25.00,     1305
  49UF20130107,KS1301,  3721,  1,      2,  21961,2,20130109,1259, 24.0092, 136.9838, 4060,   4022.4,   1.5116,  34.6835,2,  34.6836,6,    157.2,2,   139.34,2,    35.57,2,     0.00,2,     2.47,2,   2322.7,2,   2406.2,2,   7.5785,2,    25.00,     1259
  49UF20130107,KS1301,  3721,  1,      1,  21960,2,20130109,1259, 24.0092, 136.9838, 4060,   4022.4,   1.5116,  34.6835,2,  34.6842,2,    157.5,2,   138.85,2,    35.61,2,     0.00,2,     2.47,2,   2319.9,2,   2410.9,2,   7.5786,2,    25.00,     1259
  49UF20130107,KS1301,  3722,  1,     99,     99,2,20130109,2012, 24.2278, 136.1922, 4338,      0.0,  22.2642,  34.7330,2,-999.0000,9,    218.7,2,     0.75,2,    -0.01,2,     0.01,2,     0.01,2,   -999.0,9,   -999.0,9,-999.0000,9,  -999.00,     2100
  49UF20130107,KS1301,  3722,  1,     33,  21992,2,20130109,2012, 24.2278, 136.1922, 4338,     11.0,  22.2676,  34.7327,2,-999.0000,9,    218.4,2,     0.75,2,     0.00,2,     0.00,2,     0.00,2,   -999.0,9,   -999.0,9,-999.0000,9,  -999.00,     2119
  49UF20130107,KS1301,  3722,  1,     32,  21991,2,20130109,2012, 24.2278, 136.1922, 4338,     24.8,  22.2684,  34.7327,2,-999.0000,9,    218.5,2,     0.69,2,     0.00,2,     0.00,2,     0.00,2,   -999.0,9,   -999.0,9,-999.0000,9,  -999.00,     2117
  49UF20130107,KS1301,  3722,  1,     31,  21990,2,20130109,2012, 24.2278, 136.1922, 4338,     51.8,  22.2721,  34.7319,2,-999.0000,9,    218.1,2,     0.78,2,     0.00,2,     0.00,2,     0.00,2,   -999.0,9,   -999.0,9,-999.0000,9,  -999.00,     2115
  49UF20130107,KS1301,  3722,  1,     30,  21989,2,20130109,2012, 24.2278, 136.1922, 4338,     77.3,  22.2335,  34.7270,2,-999.0000,9,    218.4,2,     0.73,2,     0.00,2,     0.00,2,     0.00,2,   -999.0,9,   -999.0,9,-999.0000,9,  -999.00,     2112
  49UF20130107,KS1301,  3722,  1,     29,  21988,2,20130109,2012, 24.2278, 136.1922, 4338,    101.6,  21.1142,  34.8406,2,-999.0000,9,    213.3,2,     1.04,2,    -0.05,2,     0.08,2,     0.04,2,   -999.0,9,   -999.0,9,-999.0000,9,  -999.00,     2107
  49UF20130107,KS1301,  3722,  1,     28,  21987,2,20130109,2012, 24.2278, 136.1922, 4338,    126.7,  19.6573,  34.8368,2,-999.0000,9,    204.6,6,     1.34,6,     1.28,6,     0.03,6,     0.11,6,   -999.0,9,   -999.0,9,-999.0000,9,  -999.00,     2106
  49UF20130107,KS1301,  3722,  1,     24,  21983,2,20130109,2012, 24.2278, 136.1922, 4338,    152.1,  18.8301,  34.8003,2,-999.0000,9,    201.9,2,     1.87,2,     2.48,2,     0.01,2,     0.18,2,   -999.0,9,   -999.0,9,-999.0000,9,  -999.00,     2104
  49UF20130107,KS1301,  3722,  1,     23,  22095,2,20130109,2012, 24.2278, 136.1922, 4338,    203.1,  18.2630,  34.7658,2,-999.0000,9,    202.8,2,     2.43,2,     3.41,2,     0.01,2,     0.23,2,   -999.0,9,   -999.0,9,-999.0000,9,  -999.00,     2102
  49UF20130107,KS1301,  3722,  1,     22,  21981,2,20130109,2012, 24.2278, 136.1922, 4338,    252.6,  17.1928,  34.7075,2,-999.0000,9,    203.7,2,     3.93,2,     4.94,2,     0.01,2,     0.34,2,   -999.0,9,   -999.0,9,-999.0000,9,  -999.00,     2100
  49UF20130107,KS1301,  3722,  1,     21,  21980,2,20130109,2012, 24.2278, 136.1922, 4338,    302.9,  16.4348,  34.6601,2,-999.0000,9,    196.9,2,     5.92,2,     6.82,2,     0.00,2,     0.46,2,   -999.0,9,   -999.0,9,-999.0000,9,  -999.00,     2059
  49UF20130107,KS1301,  3722,  1,     20,  21979,2,20130109,2012, 24.2278, 136.1922, 4338,    405.5,  13.5511,  34.4644,2,-999.0000,9,    182.4,2,    13.97,2,    12.55,2,     0.00,2,     0.86,2,   -999.0,9,   -999.0,9,-999.0000,9,  -999.00,     2055
  49UF20130107,KS1301,  3722,  1,     19,  21978,2,20130109,2012, 24.2278, 136.1922, 4338,    506.1,  10.6921,  34.2626,2,-999.0000,9,    173.0,2,    23.33,2,    17.90,2,     0.00,2,     1.27,2,   -999.0,9,   -999.0,9,-999.0000,9,  -999.00,     2052
  49UF20130107,KS1301,  3722,  1,     18,  21977,2,20130109,2012, 24.2278, 136.1922, 4338,    608.9,   8.0212,  34.1332,2,-999.0000,9,    138.8,2,    42.25,2,    25.99,2,     0.00,2,     1.86,2,   -999.0,9,   -999.0,9,-999.0000,9,  -999.00,     2049
  49UF20130107,KS1301,  3722,  1,     17,  21976,2,20130109,2012, 24.2278, 136.1922, 4338,    708.2,   6.3643,  34.1185,2,-999.0000,9,    107.1,2,    62.48,2,    31.70,2,     0.00,2,     2.28,2,   -999.0,9,   -999.0,9,-999.0000,9,  -999.00,     2046
  49UF20130107,KS1301,  3722,  1,     16,  21975,2,20130109,2012, 24.2278, 136.1922, 4338,    811.4,   4.9156,  34.2133,2,-999.0000,9,     72.3,6,    89.63,6,    37.24,6,     0.00,6,     2.68,6,   -999.0,9,   -999.0,9,-999.0000,9,  -999.00,     2042
  49UF20130107,KS1301,  3722,  1,     12,  21962,2,20130109,2012, 24.2278, 136.1922, 4338,    911.6,   4.2184,  34.2942,2,-999.0000,9,     59.6,2,   105.46,2,    39.23,2,     0.00,2,     2.81,2,   -999.0,9,   -999.0,9,-999.0000,9,  -999.00,     2039
  49UF20130107,KS1301,  3722,  1,     11,  21970,2,20130109,2012, 24.2278, 136.1922, 4338,   1010.5,   3.8512,  34.3496,2,-999.0000,9,     56.2,2,   113.60,2,    40.17,2,     0.00,2,     2.87,2,   -999.0,9,   -999.0,9,-999.0000,9,  -999.00,     2036
  49UF20130107,KS1301,  3722,  1,     10,  21969,2,20130109,2012, 24.2278, 136.1922, 4338,   1211.2,   3.1939,  34.4550,2,-999.0000,9,     63.2,2,   127.45,2,    40.44,2,     0.00,2,     2.88,2,   -999.0,9,   -999.0,9,-999.0000,9,  -999.00,     2031
  49UF20130107,KS1301,  3722,  1,      9,  21968,2,20130109,2012, 24.2278, 136.1922, 4338,   1414.7,   2.7623,  34.5076,2,-999.0000,9,     74.0,2,   135.01,2,    40.12,2,     0.00,2,     2.85,2,   -999.0,9,   -999.0,9,-999.0000,9,  -999.00,     2027
  49UF20130107,KS1301,  3722,  1,      8,  21982,2,20130109,2012, 24.2278, 136.1922, 4338,   1612.3,   2.4389,  34.5518,2,-999.0000,9,     88.3,2,   139.12,2,    39.26,2,     0.00,2,     2.79,2,   -999.0,9,   -999.0,9,-999.0000,9,  -999.00,     2023
  49UF20130107,KS1301,  3722,  1,      7,  21966,2,20130109,2012, 24.2278, 136.1922, 4338,   1612.3,   2.4389,  34.5518,2,-999.0000,9,     87.8,2,   138.68,2,    39.46,2,     0.00,2,     2.79,2,   -999.0,9,   -999.0,9,-999.0000,9,  -999.00,     2022
  49UF20130107,KS1301,  3722,  1,      3,  22079,2,20130109,2012, 24.2278, 136.1922, 4338,   1817.1,   2.1741,  34.5911,2,-999.0000,9,    104.8,2,   140.00,2,    38.36,2,     0.00,2,     2.71,2,   -999.0,9,   -999.0,9,-999.0000,9,  -999.00,     2016
  49UF20130107,KS1301,  3722,  1,      2,  21961,2,20130109,2012, 24.2278, 136.1922, 4338,   1817.1,   2.1741,  34.5911,2,-999.0000,9,    104.4,2,   139.82,2,    38.51,2,     0.00,2,     2.71,2,   -999.0,9,   -999.0,9,-999.0000,9,  -999.00,     2016
  49UF20130107,KS1301,  3722,  1,      1,  21960,2,20130109,2012, 24.2278, 136.1922, 4338,   2025.4,   2.0040,  34.6118,2,-999.0000,9,    113.6,6,   141.01,6,    38.17,6,     0.00,6,     2.67,6,   -999.0,9,   -999.0,9,-999.0000,9,  -999.00,     2012