BOTTLE,20191018PRINUNIVRMK
EXPOCODE,SECT_ID,STNNBR,CASTNO,SAMPNO,BTLNBR,BTLNBR_FLAG_W,DATE,TIME,LATITUDE,LONGITUDE,DEPTH,CTDPRS,CTDTMP,CTDSAL,CTDSAL_FLAG_W,SALNTY,SALNTY_FLAG_W,OXYGEN,OXYGEN_FLAG_W,SILCAT,SILCAT_FLAG_W,NITRAT,NITRAT_FLAG_W,NITRIT,NITRIT_FLAG_W,PHSPHT,PHSPHT_FLAG_W,TCARBN,TCARBN_FLAG_W,ALKALI,ALKALI_FLAG_W,PH_TOT,PH_TOT_FLAG_W,PH_TMP,BTL_TIME
,,,,,,,,,,,METERS,DBAR,ITS-90,PSS-78,,PSS-78,,UMOL/KG,,UMOL/KG,,UMOL/KG,,UMOL/KG,,UMOL/KG,,UMOL/KG,,UMOL/KG,,,,DEG C,
  49UF20130107,KS1301,  3733,  1,     99,     99,2,20130112,0004, 24.6593, 129.9892, 4202,      0.0,  21.6956,  34.6984,2,  34.7014,4,    218.8,2,     0.58,2,    -0.02,2,     0.02,2,     0.01,2,   1976.5,2,   2273.8,2,   8.0526,2,    25.00,       45
  49UF20130107,KS1301,  3733,  1,     33,  21992,2,20130112,0004, 24.6593, 129.9892, 4202,     10.5,  21.6891,  34.6972,2,-999.0000,9,    218.7,2,     0.58,2,    -0.02,2,     0.02,2,     0.00,2,   1976.7,2,   2274.7,2,   8.0522,2,    25.00,      101
  49UF20130107,KS1301,  3733,  1,     32,  21991,2,20130112,0004, 24.6593, 129.9892, 4202,     25.5,  21.6785,  34.6970,2,-999.0000,9,    218.6,2,     0.58,2,    -0.01,2,     0.01,2,     0.00,2,   1977.5,2,   2274.6,2,   8.0514,2,    25.00,      100
  49UF20130107,KS1301,  3733,  1,     31,  21990,2,20130112,0004, 24.6593, 129.9892, 4202,     51.1,  21.6821,  34.6970,2,  34.6957,2,    218.5,2,     0.58,2,    -0.02,2,     0.02,2,     0.00,2,   1977.5,2,   2274.9,2,   8.0534,2,    25.00,       57
  49UF20130107,KS1301,  3733,  1,     30,  21989,2,20130112,0004, 24.6593, 129.9892, 4202,     75.2,  21.6858,  34.6969,2,-999.0000,9,    218.6,2,     0.58,2,    -0.02,2,     0.02,2,     0.00,2,   1976.3,2,   2272.9,2,   8.0545,2,    25.00,       56
  49UF20130107,KS1301,  3733,  1,     29,  21988,2,20130112,0004, 24.6593, 129.9892, 4202,    101.4,  21.6424,  34.6985,2,-999.0000,9,    216.9,6,     0.63,6,    -0.04,6,     0.06,6,     0.01,6,   1979.3,2,   2270.0,2,   8.0485,2,    25.00,       54
  49UF20130107,KS1301,  3733,  1,     28,  21987,2,20130112,0004, 24.6593, 129.9892, 4202,    126.4,  20.5364,  34.8561,2,  34.8453,2,    194.3,2,     1.37,2,     1.95,2,     0.03,2,     0.14,2,   2015.9,2,   2280.5,2,   7.9911,2,    25.00,       53
  49UF20130107,KS1301,  3733,  1,     24,  21983,2,20130112,0004, 24.6593, 129.9892, 4202,    151.9,  19.4262,  34.8088,2,-999.0000,9,    203.3,2,     1.55,2,     2.21,2,     0.02,2,     0.14,2,   2014.2,2,   2276.3,2,   7.9858,2,    25.00,       51
  49UF20130107,KS1301,  3733,  1,     23,  22095,2,20130112,0004, 24.6593, 129.9892, 4202,    203.6,  18.8665,  34.7958,2,-999.0000,9,    212.9,2,     1.46,2,     2.05,2,     0.01,2,     0.13,2,   2008.5,2,   2276.6,2,   7.9933,2,    25.00,       50
  49UF20130107,KS1301,  3733,  1,     22,  21981,2,20130112,0004, 24.6593, 129.9892, 4202,    254.2,  18.5433,  34.7770,2,  34.7762,2,    209.9,2,     1.88,2,     2.66,2,     0.01,2,     0.17,2,   2015.4,2,   2274.5,2,   7.9828,2,    25.00,       47
  49UF20130107,KS1301,  3733,  1,     21,  21980,2,20130112,0004, 24.6593, 129.9892, 4202,    302.0,  17.6943,  34.7349,2,-999.0000,9,    206.8,2,     2.85,2,     4.05,2,     0.01,2,     0.26,2,   2027.5,2,   2269.3,2,   7.9547,2,    25.00,       45
  49UF20130107,KS1301,  3733,  1,     20,  21979,2,20130112,0004, 24.6593, 129.9892, 4202,    403.9,  16.7483,  34.6746,2,  34.6738,2,    196.5,2,     5.11,2,     6.36,2,     0.00,2,     0.42,2,   2046.2,2,   2273.8,2,   7.9179,2,    25.00,       43
  49UF20130107,KS1301,  3733,  1,     19,  21978,2,20130112,0004, 24.6593, 129.9892, 4202,    403.9,  16.7483,  34.6746,2,  34.6738,2,    196.4,2,     5.11,2,     6.36,2,     0.00,2,     0.42,2,   2046.2,2,   2272.9,2,   7.9144,2,    25.00,       43
  49UF20130107,KS1301,  3733,  1,     18,  21977,2,20130112,0004, 24.6593, 129.9892, 4202,    504.2,  13.7787,  34.4781,2,  34.4787,2,    182.6,2,    13.45,2,    12.16,2,     0.00,2,     0.83,2,   2090.5,2,   2271.7,2,   7.8196,2,    25.00,       40
  49UF20130107,KS1301,  3733,  1,     17,  21976,2,20130112,0004, 24.6593, 129.9892, 4202,    604.1,  10.4656,  34.2743,2,  34.2754,2,    166.2,2,    28.78,2,    19.35,2,     0.00,2,     1.36,2,   2142.7,6,   2274.5,6,   7.7040,2,    25.00,       37
  49UF20130107,KS1301,  3733,  1,     16,  21975,2,20130112,0004, 24.6593, 129.9892, 4202,    706.5,   7.4763,  34.1473,2,  34.1478,6,    129.5,2,    52.14,2,    27.80,2,     0.00,2,     1.99,2,   2209.3,2,   2287.0,2,   7.5618,6,    25.00,       35
  49UF20130107,KS1301,  3733,  1,     12,  21962,2,20130112,0004, 24.6593, 129.9892, 4202,    806.2,   5.6606,  34.1939,2,  34.1928,2,     90.3,2,    79.02,2,    34.27,2,     0.00,2,     2.46,2,   2267.3,2,   2311.9,2,   7.4586,2,    25.00,       32
  49UF20130107,KS1301,  3733,  1,     11,  21970,2,20130112,0004, 24.6593, 129.9892, 4202,    908.4,   4.8120,  34.2497,2,  34.2500,2,     72.0,6,    94.77,6,    37.31,6,     0.00,6,     2.67,6,   2299.3,2,   2328.8,2,   7.4160,2,    25.00,       29
  49UF20130107,KS1301,  3733,  1,     10,  21969,3,20130112,0004, 24.6593, 129.9892, 4202,   1010.6,   4.1639,  34.3096,2,  34.3084,2,     61.6,2,   107.40,2,    39.18,2,     0.00,2,     2.80,2,   2322.6,2,   2342.3,2,   7.3924,2,    25.00,       27
  49UF20130107,KS1301,  3733,  1,      9,  21968,2,20130112,0004, 24.6593, 129.9892, 4202,   1010.6,   4.1639,  34.3096,2,  34.3083,2,     61.1,2,   107.56,2,    39.26,2,     0.00,2,     2.80,2,   2322.8,2,   2343.1,2,   7.3885,2,    25.00,       27
  49UF20130107,KS1301,  3733,  1,      8,  21982,2,20130112,0004, 24.6593, 129.9892, 4202,   1210.6,   3.2315,  34.4310,2,  34.4313,2,     61.3,2,   127.19,2,    40.53,2,     0.00,2,     2.87,2,   2345.4,2,   2377.7,3,   7.3934,2,    25.00,       22
  49UF20130107,KS1301,  3733,  1,      7,  21966,2,20130112,0004, 24.6593, 129.9892, 4202,   1415.9,   2.7784,  34.4989,2,  34.4989,6,     73.3,2,   134.98,2,    40.20,2,     0.00,2,     2.85,2,   2352.0,6,   2380.7,6,   7.4200,2,    25.00,       17
  49UF20130107,KS1301,  3733,  1,      3,  22079,2,20130112,0004, 24.6593, 129.9892, 4202,   1618.5,   2.4061,  34.5546,2,  34.5547,2,     90.2,2,   138.34,2,    39.27,2,     0.00,2,     2.76,2,   2349.4,2,   2391.9,2,   7.4535,6,    25.00,       13
  49UF20130107,KS1301,  3733,  1,      2,  21961,2,20130112,0004, 24.6593, 129.9892, 4202,   1820.2,   2.1525,  34.5888,2,  34.5915,4,    103.8,2,   140.12,2,    38.44,2,     0.00,2,     2.70,2,   2345.7,2,   2397.7,2,   7.4783,2,    25.00,        8
  49UF20130107,KS1301,  3733,  1,      1,  21960,2,20130112,0004, 24.6593, 129.9892, 4202,   2021.5,   1.9715,  34.6149,2,  34.6163,2,    115.5,6,   140.61,6,    37.95,6,     0.00,6,     2.66,6,   2340.3,2,   2402.5,2,   7.5003,2,    25.00,        4
  49UF20130107,KS1301,  3734,  1,     99,     99,2,20130112,0851, 25.4967, 128.7138, 6231,      0.0,  23.0014,  34.6309,2,-999.0000,9,    214.4,2,     0.48,2,    -0.01,2,     0.01,2,     0.03,2,   -999.0,9,   -999.0,9,-999.0000,9,  -999.00,     1055
  49UF20130107,KS1301,  3734,  1,     36,  21995,2,20130112,0851, 25.4967, 128.7138, 6231,     11.5,  23.0011,  34.6307,2,-999.0000,9,    213.8,2,     0.44,2,     0.00,2,     0.00,2,     0.00,2,   -999.0,9,   -999.0,9,-999.0000,9,  -999.00,     1118
  49UF20130107,KS1301,  3734,  1,     35,  22087,2,20130112,0851, 25.4967, 128.7138, 6231,     26.6,  22.9900,  34.6311,2,  34.6300,2,    213.7,2,     0.46,2,     0.00,2,     0.00,2,     0.00,2,   -999.0,9,   -999.0,9,-999.0000,9,  -999.00,     1117
  49UF20130107,KS1301,  3734,  1,     34,  22668,2,20130112,0851, 25.4967, 128.7138, 6231,     50.7,  22.8078,  34.6698,2,-999.0000,9,    208.7,2,     0.58,2,    -0.08,2,     0.13,2,     0.02,2,   -999.0,9,   -999.0,9,-999.0000,9,  -999.00,     1113
  49UF20130107,KS1301,  3734,  1,     33,  21992,2,20130112,0851, 25.4967, 128.7138, 6231,     75.2,  22.4456,  34.6742,2,-999.0000,9,    211.8,2,     0.58,2,    -0.08,2,     0.08,2,     0.01,2,   -999.0,9,   -999.0,9,-999.0000,9,  -999.00,     1112
  49UF20130107,KS1301,  3734,  1,     32,  21991,2,20130112,0851, 25.4967, 128.7138, 6231,    101.3,  22.2524,  34.7440,2,-999.0000,9,    205.8,2,     0.72,2,     0.16,2,     0.13,2,     0.04,2,   -999.0,9,   -999.0,9,-999.0000,9,  -999.00,     1110
  49UF20130107,KS1301,  3734,  1,     31,  21990,2,20130112,0851, 25.4967, 128.7138, 6231,    126.4,  21.8069,  34.7230,2,-999.0000,9,    210.9,6,     0.77,6,     0.07,6,     0.09,6,     0.03,6,   -999.0,9,   -999.0,9,-999.0000,9,  -999.00,     1109
  49UF20130107,KS1301,  3734,  1,     30,  21989,2,20130112,0851, 25.4967, 128.7138, 6231,    151.1,  21.5884,  34.6948,2,  34.6991,2,    216.0,2,     0.68,2,    -0.07,2,     0.07,2,     0.01,2,   -999.0,9,   -999.0,9,-999.0000,9,  -999.00,     1107
  49UF20130107,KS1301,  3734,  1,     29,  21988,4,20130112,0851, 25.4967, 128.7138, 6231,    201.8,  19.9152,  34.8342,2,-999.0000,9,   -999.0,9,  -999.00,9,  -999.00,9,  -999.00,9,  -999.00,9,   -999.0,9,   -999.0,9,-999.0000,9,  -999.00,     1105
  49UF20130107,KS1301,  3734,  1,     28,  21987,2,20130112,0851, 25.4967, 128.7138, 6231,    254.6,  18.9147,  34.8049,2,  34.7997,2,    210.0,2,     1.79,2,     2.30,2,     0.01,2,     0.16,2,   -999.0,9,   -999.0,9,-999.0000,9,  -999.00,     1103
  49UF20130107,KS1301,  3734,  1,     27,  21986,2,20130112,0851, 25.4967, 128.7138, 6231,    304.7,  17.8954,  34.7476,2,  34.7471,2,    205.9,2,     2.75,2,     3.57,2,     0.01,2,     0.25,2,   -999.0,9,   -999.0,9,-999.0000,9,  -999.00,     1101
  49UF20130107,KS1301,  3734,  1,     26,  21985,2,20130112,0851, 25.4967, 128.7138, 6231,    405.7,  16.1442,  34.6308,2,-999.0000,9,    184.9,2,     6.48,2,     7.84,2,     0.00,2,     0.55,2,   -999.0,9,   -999.0,9,-999.0000,9,  -999.00,     1058
  49UF20130107,KS1301,  3734,  1,     25,  21984,2,20130112,0851, 25.4967, 128.7138, 6231,    508.4,  12.8643,  34.4072,2,  34.4498,4,    177.7,2,    13.34,2,    12.64,2,     0.00,2,     0.90,2,   -999.0,9,   -999.0,9,-999.0000,9,  -999.00,     1054
  49UF20130107,KS1301,  3734,  1,     24,  21983,2,20130112,0851, 25.4967, 128.7138, 6231,    608.6,  10.0008,  34.2439,2,-999.0000,9,    157.8,2,    29.26,2,    20.40,2,     0.00,2,     1.46,2,   -999.0,9,   -999.0,9,-999.0000,9,  -999.00,     1051
  49UF20130107,KS1301,  3734,  1,     23,  22095,2,20130112,0851, 25.4967, 128.7138, 6231,    709.8,   7.3934,  34.1437,2,  34.1489,4,    121.3,2,    51.09,2,    28.41,2,     0.00,2,     2.06,2,   -999.0,9,   -999.0,9,-999.0000,9,  -999.00,     1047
  49UF20130107,KS1301,  3734,  1,     22,  21981,2,20130112,0851, 25.4967, 128.7138, 6231,    809.6,   5.8444,  34.1746,2,-999.0000,9,     95.0,2,    74.90,2,    33.45,2,     0.00,2,     2.42,2,   -999.0,9,   -999.0,9,-999.0000,9,  -999.00,     1044
  49UF20130107,KS1301,  3734,  1,     21,  21980,2,20130112,0851, 25.4967, 128.7138, 6231,    908.3,   4.9400,  34.2219,2,  34.2220,2,     74.8,2,    91.08,2,    36.58,2,     0.00,2,     2.65,2,   -999.0,9,   -999.0,9,-999.0000,9,  -999.00,     1041
  49UF20130107,KS1301,  3734,  1,     20,  21979,2,20130112,0851, 25.4967, 128.7138, 6231,   1011.5,   4.1523,  34.3076,2,-999.0000,9,     60.5,2,   107.58,2,    39.13,2,     0.00,2,     2.83,2,   -999.0,9,   -999.0,9,-999.0000,9,  -999.00,     1038
  49UF20130107,KS1301,  3734,  1,     19,  21978,2,20130112,0851, 25.4967, 128.7138, 6231,   1215.0,   3.2848,  34.4285,2,  34.4303,2,     61.4,6,   126.53,6,    40.34,6,     0.00,6,     2.88,6,   -999.0,9,   -999.0,9,-999.0000,9,  -999.00,     1033
  49UF20130107,KS1301,  3734,  1,     18,  21977,2,20130112,0851, 25.4967, 128.7138, 6231,   1417.3,   2.8034,  34.4971,2,-999.0000,9,     72.6,2,   134.69,2,    40.06,2,     0.00,2,     2.84,2,   -999.0,9,   -999.0,9,-999.0000,9,  -999.00,     1028
  49UF20130107,KS1301,  3734,  1,     17,  21976,2,20130112,0851, 25.4967, 128.7138, 6231,   1619.6,   2.4446,  34.5477,2,  34.5485,2,     87.5,2,   139.26,2,    39.25,2,     0.00,2,     2.78,2,   -999.0,9,   -999.0,9,-999.0000,9,  -999.00,     1023
  49UF20130107,KS1301,  3734,  1,     16,  21975,2,20130112,0851, 25.4967, 128.7138, 6231,   1821.3,   2.2034,  34.5819,2,-999.0000,9,    100.9,2,   140.66,2,    38.58,2,     0.00,2,     2.73,2,   -999.0,9,   -999.0,9,-999.0000,9,  -999.00,     1018
  49UF20130107,KS1301,  3734,  1,     15,  21974,2,20130112,0851, 25.4967, 128.7138, 6231,   2025.7,   2.0147,  34.6086,2,  34.6115,4,    112.5,2,   141.06,2,    38.04,2,     0.00,2,     2.67,2,   -999.0,9,   -999.0,9,-999.0000,9,  -999.00,     1012
  49UF20130107,KS1301,  3734,  1,     14,  21973,2,20130112,0851, 25.4967, 128.7138, 6231,   2277.6,   1.8725,  34.6297,2,  34.6342,4,    122.5,2,   141.00,2,    37.36,2,     0.00,2,     2.62,2,   -999.0,9,   -999.0,9,-999.0000,9,  -999.00,     1006
  49UF20130107,KS1301,  3734,  1,     13,  21972,2,20130112,0851, 25.4967, 128.7138, 6231,   2532.8,   1.7676,  34.6464,2,  34.6505,4,    130.6,2,   141.37,2,    36.97,2,     0.00,2,     2.59,2,   -999.0,9,   -999.0,9,-999.0000,9,  -999.00,     1000
  49UF20130107,KS1301,  3734,  1,     12,  21962,2,20130112,0851, 25.4967, 128.7138, 6231,   2788.3,   1.6915,  34.6555,2,  34.6563,2,    136.0,2,   141.54,2,    36.66,2,     0.00,2,     2.56,2,   -999.0,9,   -999.0,9,-999.0000,9,  -999.00,      954
  49UF20130107,KS1301,  3734,  1,     11,  21970,2,20130112,0851, 25.4967, 128.7138, 6231,   3041.4,   1.6191,  34.6647,2,  34.6641,2,    141.9,2,   141.18,2,    36.24,2,     0.08,4,     2.53,2,   -999.0,9,   -999.0,9,-999.0000,9,  -999.00,      949
  49UF20130107,KS1301,  3734,  1,     10,  21969,2,20130112,0851, 25.4967, 128.7138, 6231,   3296.6,   1.5835,  34.6702,2,  34.6723,4,    145.9,2,   140.77,2,    36.11,2,     0.00,2,     2.52,2,   -999.0,9,   -999.0,9,-999.0000,9,  -999.00,      943
  49UF20130107,KS1301,  3734,  1,      9,  21968,2,20130112,0851, 25.4967, 128.7138, 6231,   3551.1,   1.5760,  34.6733,2,  34.6731,2,    148.5,2,   141.04,2,    35.95,2,     0.00,2,     2.50,2,   -999.0,9,   -999.0,9,-999.0000,9,  -999.00,      938
  49UF20130107,KS1301,  3734,  1,      8,  21982,2,20130112,0851, 25.4967, 128.7138, 6231,   3807.3,   1.5714,  34.6763,2,  34.6761,2,    150.8,2,   140.55,2,    35.90,2,     0.00,2,     2.49,2,   -999.0,9,   -999.0,9,-999.0000,9,  -999.00,      933
  49UF20130107,KS1301,  3734,  1,      7,  21966,2,20130112,0851, 25.4967, 128.7138, 6231,   4063.8,   1.5782,  34.6783,2,  34.6782,2,    152.0,2,   140.36,2,    35.67,2,     0.00,2,     2.48,2,   -999.0,9,   -999.0,9,-999.0000,9,  -999.00,      928
  49UF20130107,KS1301,  3734,  1,      6,  21965,2,20130112,0851, 25.4967, 128.7138, 6231,   4321.1,   1.5973,  34.6794,2,  34.6803,6,    153.2,2,   140.21,2,    35.77,2,     0.00,2,     2.48,2,   -999.0,9,   -999.0,9,-999.0000,9,  -999.00,      923
  49UF20130107,KS1301,  3734,  1,      5,  21964,2,20130112,0851, 25.4967, 128.7138, 6231,   4577.8,   1.6142,  34.6804,2,  34.6805,2,    153.9,2,   139.72,2,    35.64,2,     0.00,2,     2.47,2,   -999.0,9,   -999.0,9,-999.0000,9,  -999.00,      918
  49UF20130107,KS1301,  3734,  1,      4,  21963,2,20130112,0851, 25.4967, 128.7138, 6231,   4833.3,   1.6367,  34.6814,2,  34.6819,2,    155.0,2,   139.43,2,    35.57,2,     0.00,2,     2.47,2,   -999.0,9,   -999.0,9,-999.0000,9,  -999.00,      913
  49UF20130107,KS1301,  3734,  1,      3,  22079,2,20130112,0851, 25.4967, 128.7138, 6231,   5090.5,   1.6644,  34.6816,2,  34.6810,2,    154.8,2,   140.03,2,    35.62,2,     0.00,2,     2.47,2,   -999.0,9,   -999.0,9,-999.0000,9,  -999.00,      909
  49UF20130107,KS1301,  3734,  1,      2,  21961,2,20130112,0851, 25.4967, 128.7138, 6231,   5604.7,   1.7291,  34.6819,2,  34.6817,2,    155.0,2,   139.54,2,    35.52,2,     0.00,2,     2.47,2,   -999.0,9,   -999.0,9,-999.0000,9,  -999.00,      900
  49UF20130107,KS1301,  3734,  1,      1,  21960,2,20130112,0851, 25.4967, 128.7138, 6231,   6121.7,   1.8001,  34.6818,2,  34.6823,6,    155.3,6,   139.78,6,    35.50,6,     0.00,6,     2.47,6,   -999.0,9,   -999.0,9,-999.0000,9,  -999.00,      851