BOTTLE,20191015PRINUNIVRMK
# Processed by CCHDO on 2021-05-26, no changes
# 08/29/2019 Initialized README file  
# Data source:  Masao Ishii 2018/11/30 
# SHIP: R/V Keifu Maru II 
# Cruise: KS11-07, P09 
# Region: Pacific Ocean, East China Sea 
# 	Sta 3007-3046 on 137E between 4N and 34N; PR02 
# EXPOCODE: 49UF20110617 
# DATES: 20110617 - 20110803	 
# Chief Scientist: Takahiro Segawa 
# 49 stations with 24 place Rosette 
# CTD: Who - Hitomi Kamiya; Status - final 
# 	Includes: CTDSAL 
# SALNTY: Who - Hitomi Kamiya; Status - final 
# 	Notes: 	 
# Nutrients: Who - Hitomi Kamiya; Status - final 
# 	Includes: nitrate, nitrite, silicate, phosphate 
# 	Nitrite and NO3+NO2 reported. Separated by subtraction 
# OXYGEN: Who - Tatsushi Shiga; Status - final 
# 	Notes: 
# TCARBN: Who - Hitomi Kamiya; Status - final 
# 	Notes:  
# ALKALI: Who - Hitomi Kamiya; Status - final 
# 	Notes:  
# PH-TOT: Who - Hitomi Kamiya; Status - final 
# 	Notes: many flagged 4 
# Segawa, Takahiro; Kamiya, Hitomi; Ishii, Masao (2019). Dissolved inorganic carbon (DIC), total alkalinity, pH on total scale, temperature, salinity, oxygen, nutrients and other measurements collected from profile and discrete sample observations during the R/V Keifu Maru II cruise KS11-07, Repeat Section P09 (EXPOCODE 49UF20110617) in the Pacific Ocean from 2011-06-17 to 2011-08-03 (NCEI Accession 0186233). [indicate subset used]. NOAA National Centers for Environmental Information. Dataset. https://doi.org/10.25921/r478-sq81.   
# References that have used data from this cruise: 
EXPOCODE,SECT_ID,STNNBR,CASTNO,SAMPNO,BTLNBR,BTLNBR_FLAG_W,DATE,TIME,LATITUDE,LONGITUDE,DEPTH,CTDPRS,CTDTMP,CTDSAL,CTDSAL_FLAG_W,SALNTY,SALNTY_FLAG_W,OXYGEN,OXYGEN_FLAG_W,SILCAT,SILCAT_FLAG_W,NITRAT,NITRAT_FLAG_W,NITRIT,NITRIT_FLAG_W,PHSPHT,PHSPHT_FLAG_W,TCARBN,TCARBN_FLAG_W,ALKALI,ALKALI_FLAG_W,PH_TOT,PH_TOT_FLAG_W,PH_TMP,BTL_TIME
,,,,,,,,,,,METERS,DBAR,ITS-90,PSS-78,,PSS-78,,UMOL/KG,,UMOL/KG,,UMOL/KG,,UMOL/KG,,UMOL/KG,,UMOL/KG,,UMOL/KG,,,,DEG C,
  49UF20110617,  PR02,  3007,  1,     99,     99,2,20110618,1143, 33.9708, 137.0007, 1236,      0.0,  21.1027,  33.3882,2,-999.0000,9,    230.1,2,     5.43,2,     0.24,2,     0.00,2,     0.07,2,   -999.0,9,   -999.0,9,-999.0000,9,  -999.00,     1205
  49UF20110617,  PR02,  3007,  1,     33,  21992,2,20110618,1143, 33.9708, 137.0007, 1236,     11.1,  21.0719,  33.6308,2,  33.8483,4,    229.3,2,     3.70,2,    -0.01,2,     0.01,2,     0.05,2,   1945.0,2,   2221.3,2,   8.0071,4,    25.00,     1226
  49UF20110617,  PR02,  3007,  1,     32,  21991,2,20110618,1143, 33.9708, 137.0007, 1236,     25.8,  18.8863,  34.5301,2,-999.0000,9,    208.2,2,     5.12,2,     2.55,2,     0.57,2,     0.30,2,   2013.1,2,   2258.5,2,   7.9445,4,    25.00,     1225
  49UF20110617,  PR02,  3007,  1,     31,  21990,2,20110618,1143, 33.9708, 137.0007, 1236,     50.9,  16.5112,  34.5768,2,-999.0000,9,    185.6,2,    11.78,2,     8.62,2,     0.05,2,     0.62,2,   2058.8,2,   2266.9,2,   7.8353,4,    25.00,     1221
  49UF20110617,  PR02,  3007,  1,     27,  21986,2,20110618,1143, 33.9708, 137.0007, 1236,     76.4,  15.0697,  34.5558,2,-999.0000,9,    175.8,2,    16.14,2,    11.36,2,     0.01,2,     0.81,2,   2081.3,2,   2264.5,2,   7.8083,4,    25.00,     1219
  49UF20110617,  PR02,  3007,  1,     26,  21985,2,20110618,1143, 33.9708, 137.0007, 1236,    101.9,  14.0200,  34.5171,2,  34.5155,6,    167.8,2,    19.61,2,    13.55,2,     0.01,2,     1.00,2,   2097.3,2,   2268.9,2,   7.7679,4,    25.00,     1218
  49UF20110617,  PR02,  3007,  1,     25,  21984,2,20110618,1143, 33.9708, 137.0007, 1236,    126.9,  13.5190,  34.4932,2,-999.0000,9,    167.3,2,    22.49,2,    14.72,2,     0.01,2,     1.05,2,   2104.3,2,   2267.1,2,   7.7476,4,    25.00,     1216
  49UF20110617,  PR02,  3007,  1,     24,  21983,2,20110618,1143, 33.9708, 137.0007, 1236,    151.6,  12.5330,  34.4466,2,-999.0000,9,    158.9,2,    26.89,2,    16.85,2,     0.01,2,     1.22,2,   2124.0,2,   2272.2,2,   7.7088,4,    25.00,     1215
  49UF20110617,  PR02,  3007,  1,     23,  21982,2,20110618,1143, 33.9708, 137.0007, 1236,    203.1,  10.2094,  34.3241,2,  34.3231,2,    146.8,2,    37.63,6,    21.61,6,     0.00,6,     1.56,6,   2158.9,2,   2271.6,2,   7.6341,4,    25.00,     1213
  49UF20110617,  PR02,  3007,  1,     22,  21981,2,20110618,1143, 33.9708, 137.0007, 1236,    252.7,   9.3868,  34.2900,2,-999.0000,9,    139.0,2,    43.75,2,    23.70,2,     0.01,2,     1.72,2,   2177.0,2,   2273.5,2,   7.5980,4,    25.00,     1211
  49UF20110617,  PR02,  3007,  1,     18,  21977,2,20110618,1143, 33.9708, 137.0007, 1236,    303.8,   7.8218,  34.2445,2,-999.0000,9,    121.0,2,    57.13,2,    28.03,2,     0.00,2,     2.04,2,   2211.0,2,   2289.0,2,   7.5200,4,    25.00,     1209
  49UF20110617,  PR02,  3007,  1,     17,  21976,2,20110618,1143, 33.9708, 137.0007, 1236,    403.8,   6.3083,  34.2498,2,  34.2492,2,     97.0,2,    75.87,2,    32.66,2,     0.00,2,     2.38,2,   2255.6,2,   2301.8,2,   7.4521,4,    25.00,     1206
  49UF20110617,  PR02,  3007,  1,     16,  21975,2,20110618,1143, 33.9708, 137.0007, 1236,    403.8,   6.3083,  34.2498,2,-999.0000,9,     97.0,6,    75.94,6,    32.72,6,     0.00,6,     2.39,6,   2254.9,2,   2302.5,2,   7.4449,4,    25.00,     1206
  49UF20110617,  PR02,  3007,  1,     12,  21971,2,20110618,1143, 33.9708, 137.0007, 1236,    505.0,   5.4807,  34.2776,2,-999.0000,9,     83.2,2,    88.43,2,    35.24,2,     0.00,2,     2.56,2,   2280.0,6,   2318.4,6,   7.3991,4,    25.00,     1203
  49UF20110617,  PR02,  3007,  1,     11,  21970,2,20110618,1143, 33.9708, 137.0007, 1236,    606.6,   4.6967,  34.3153,2,  34.3148,2,     71.9,2,   101.18,2,    37.55,2,     0.00,2,     2.75,2,   2299.6,2,   2328.2,2,   7.4158,4,    25.00,     1201
  49UF20110617,  PR02,  3007,  1,     10,  21969,2,20110618,1143, 33.9708, 137.0007, 1236,    708.2,   4.2662,  34.3440,2,-999.0000,9,     67.0,2,   109.31,2,    38.60,2,     0.00,2,     2.79,2,   2316.5,2,   2341.3,2,   7.3584,4,    25.00,     1158
  49UF20110617,  PR02,  3007,  1,      9,  21968,2,20110618,1143, 33.9708, 137.0007, 1236,    808.2,   3.9152,  34.3722,2,  34.3719,2,     63.8,2,   115.84,2,    39.25,2,     0.00,2,     2.89,2,   2325.7,2,   2346.4,2,   7.3596,4,    25.00,     1155
  49UF20110617,  PR02,  3007,  1,      8,  21967,2,20110618,1143, 33.9708, 137.0007, 1236,    908.6,   3.4730,  34.4120,2,-999.0000,9,     62.5,2,   124.76,2,    40.07,2,     0.00,2,     2.88,2,   2336.2,2,   2355.6,2,   7.3527,4,    25.00,     1152
  49UF20110617,  PR02,  3007,  1,      7,  21966,2,20110618,1143, 33.9708, 137.0007, 1236,   1011.3,   3.2219,  34.4374,2,  34.4368,2,     63.0,2,   129.96,2,    40.27,2,     0.00,2,     2.91,2,   2344.5,6,   2361.4,6,   7.3576,4,    25.00,     1149
  49UF20110617,  PR02,  3007,  1,      6,  21965,2,20110618,1143, 33.9708, 137.0007, 1236,   1213.5,   2.8765,  34.4810,2,-999.0000,9,     69.3,2,   136.13,2,    40.28,2,     0.00,2,     2.89,2,   2348.7,2,   2372.8,2,   7.3715,4,    25.00,     1144
  49UF20110617,  PR02,  3007,  1,      5,  21964,2,20110618,1143, 33.9708, 137.0007, 1236,   1256.4,   2.8749,  34.4817,2,-999.0000,9,     70.3,2,   136.11,2,    40.22,2,     0.00,2,     2.88,2,   2349.4,2,   2374.3,2,   7.3670,4,    25.00,     1143
  49UF20110617,  PR02,  3007,  1,      4,  21963,2,20110618,1143, 33.9708, 137.0007, 1236,   1256.4,   2.8749,  34.4817,2,  34.4812,2,     70.1,6,   136.18,6,    40.18,6,     0.00,6,     2.90,6,   2350.8,2,   2370.5,3,   7.3619,4,    25.00,     1143
  49UF20110617,  PR02,  3010,  1,     99,     99,2,20110618,2136, 33.0055, 137.0190, 4284,      0.0,  24.3104,  34.0477,2,-999.0000,9,    211.2,2,     1.51,2,     0.00,2,     0.00,2,     0.01,2,   -999.0,9,   -999.0,9,-999.0000,9,  -999.00,     2221
  49UF20110617,  PR02,  3010,  1,     36,  21995,2,20110618,2136, 33.0055, 137.0190, 4284,     11.0,  24.2523,  34.1606,2,-999.0000,9,    212.1,2,     1.64,2,     0.00,2,     0.00,2,     0.01,2,   -999.0,9,   -999.0,9,-999.0000,9,  -999.00,     2236
  49UF20110617,  PR02,  3010,  1,     35,  21994,2,20110618,2136, 33.0055, 137.0190, 4284,     25.7,  24.2337,  34.3758,2,-999.0000,9,    211.7,2,     1.57,2,     0.00,2,     0.00,2,     0.04,2,   -999.0,9,   -999.0,9,-999.0000,9,  -999.00,     2235
  49UF20110617,  PR02,  3010,  1,     34,  21993,2,20110618,2136, 33.0055, 137.0190, 4284,     51.4,  22.9470,  34.5861,2,-999.0000,9,    203.9,2,     2.12,2,     0.57,2,     0.30,2,     0.08,2,   -999.0,9,   -999.0,9,-999.0000,9,  -999.00,     2230
  49UF20110617,  PR02,  3010,  1,     33,  21992,2,20110618,2136, 33.0055, 137.0190, 4284,     75.6,  22.5077,  34.7170,2,-999.0000,9,    201.0,2,     2.17,2,     1.02,2,     0.16,2,     0.10,2,   -999.0,9,   -999.0,9,-999.0000,9,  -999.00,     2229
  49UF20110617,  PR02,  3010,  1,     32,  21991,2,20110618,2136, 33.0055, 137.0190, 4284,    102.4,  21.7220,  34.7710,2,-999.0000,9,    197.9,2,     2.56,6,     1.78,6,     0.05,6,     0.14,6,   -999.0,9,   -999.0,9,-999.0000,9,  -999.00,     2228
  49UF20110617,  PR02,  3010,  1,     31,  21990,2,20110618,2136, 33.0055, 137.0190, 4284,    126.7,  20.3625,  34.7324,2,-999.0000,9,    189.1,2,     4.25,2,     3.56,2,     0.02,2,     0.25,2,   -999.0,9,   -999.0,9,-999.0000,9,  -999.00,     2226
  49UF20110617,  PR02,  3010,  1,     27,  21986,2,20110618,2136, 33.0055, 137.0190, 4284,    153.0,  19.6132,  34.7671,2,-999.0000,9,    193.6,2,     3.57,2,     3.40,2,     0.02,2,     0.24,2,   -999.0,9,   -999.0,9,-999.0000,9,  -999.00,     2224
  49UF20110617,  PR02,  3010,  1,     26,  21985,2,20110618,2136, 33.0055, 137.0190, 4284,    203.3,  18.6383,  34.7473,2,-999.0000,9,    198.2,2,     3.31,2,     3.60,2,     0.01,2,     0.25,2,   -999.0,9,   -999.0,9,-999.0000,9,  -999.00,     2222
  49UF20110617,  PR02,  3010,  1,     25,  21984,2,20110618,2136, 33.0055, 137.0190, 4284,    252.7,  17.8238,  34.7279,2,-999.0000,9,    197.2,2,     4.47,2,     4.87,2,     0.01,2,     0.33,2,   -999.0,9,   -999.0,9,-999.0000,9,  -999.00,     2220
  49UF20110617,  PR02,  3010,  1,     24,  21983,2,20110618,2136, 33.0055, 137.0190, 4284,    252.7,  17.8238,  34.7279,2,-999.0000,9,    197.0,6,     4.49,6,     4.93,6,     0.01,6,     0.34,6,   -999.0,9,   -999.0,9,-999.0000,9,  -999.00,     2220
  49UF20110617,  PR02,  3010,  1,     23,  21982,2,20110618,2136, 33.0055, 137.0190, 4284,    303.8,  16.5329,  34.6620,2,-999.0000,9,    184.2,2,     8.15,2,     8.01,2,     0.01,2,     0.55,2,   -999.0,9,   -999.0,9,-999.0000,9,  -999.00,     2219
  49UF20110617,  PR02,  3010,  1,     22,  21981,2,20110618,2136, 33.0055, 137.0190, 4284,    404.6,  13.7061,  34.4924,2,-999.0000,9,    178.3,2,    15.38,2,    12.83,2,     0.00,2,     0.90,2,   -999.0,9,   -999.0,9,-999.0000,9,  -999.00,     2216
  49UF20110617,  PR02,  3010,  1,     18,  21977,2,20110618,2136, 33.0055, 137.0190, 4284,    504.7,  10.5427,  34.3464,2,-999.0000,9,    150.5,2,    34.92,2,    20.63,2,     0.00,2,     1.49,2,   -999.0,9,   -999.0,9,-999.0000,9,  -999.00,     2213
  49UF20110617,  PR02,  3010,  1,     17,  21976,2,20110618,2136, 33.0055, 137.0190, 4284,    607.3,   7.2578,  34.2140,2,-999.0000,9,    116.2,2,    61.53,2,    29.40,2,     0.00,2,     2.14,2,   -999.0,9,   -999.0,9,-999.0000,9,  -999.00,     2210
  49UF20110617,  PR02,  3010,  1,     16,  21975,2,20110618,2136, 33.0055, 137.0190, 4284,    706.7,   5.7977,  34.2471,2,-999.0000,9,     89.4,2,    81.98,2,    34.35,2,     0.00,2,     2.49,2,   -999.0,9,   -999.0,9,-999.0000,9,  -999.00,     2208
  49UF20110617,  PR02,  3010,  1,     12,  21971,2,20110618,2136, 33.0055, 137.0190, 4284,    810.4,   4.7082,  34.3227,2,-999.0000,9,     70.9,2,   100.70,2,    37.60,2,     0.00,2,     2.72,2,   -999.0,9,   -999.0,9,-999.0000,9,  -999.00,     2205
  49UF20110617,  PR02,  3010,  1,     11,  21970,2,20110618,2136, 33.0055, 137.0190, 4284,    910.8,   3.9971,  34.3482,2,-999.0000,9,     61.8,2,   114.36,2,    39.28,2,     0.00,2,     2.83,2,   -999.0,9,   -999.0,9,-999.0000,9,  -999.00,     2202
  49UF20110617,  PR02,  3010,  1,     10,  21969,2,20110618,2136, 33.0055, 137.0190, 4284,   1011.5,   3.5904,  34.3898,2,-999.0000,9,     58.8,2,   123.38,2,    40.20,2,     0.00,2,     2.90,2,   -999.0,9,   -999.0,9,-999.0000,9,  -999.00,     2159
  49UF20110617,  PR02,  3010,  1,      9,  21968,2,20110618,2136, 33.0055, 137.0190, 4284,   1213.9,   2.9974,  34.4602,2,-999.0000,9,     63.4,2,   134.86,2,    40.56,2,     0.00,2,     2.91,2,   -999.0,9,   -999.0,9,-999.0000,9,  -999.00,     2155
  49UF20110617,  PR02,  3010,  1,      8,  21967,2,20110618,2136, 33.0055, 137.0190, 4284,   1415.6,   2.5898,  34.5165,2,-999.0000,9,     74.8,2,   141.43,2,    40.25,2,     0.00,2,     2.88,2,   -999.0,9,   -999.0,9,-999.0000,9,  -999.00,     2150
  49UF20110617,  PR02,  3010,  1,      7,  21966,2,20110618,2136, 33.0055, 137.0190, 4284,   1618.6,   2.3173,  34.5549,2,-999.0000,9,     86.3,2,   144.55,2,    39.70,2,     0.00,2,     2.84,2,   -999.0,9,   -999.0,9,-999.0000,9,  -999.00,     2145
  49UF20110617,  PR02,  3010,  1,      6,  21965,2,20110618,2136, 33.0055, 137.0190, 4284,   1822.4,   2.1163,  34.5848,2,-999.0000,9,     98.1,2,   145.37,2,    38.94,2,     0.00,2,     2.78,2,   -999.0,9,   -999.0,9,-999.0000,9,  -999.00,     2140
  49UF20110617,  PR02,  3010,  1,      5,  21964,2,20110618,2136, 33.0055, 137.0190, 4284,   1822.4,   2.1163,  34.5848,2,-999.0000,9,     98.3,6,   145.34,6,    39.03,6,     0.00,6,     2.77,6,   -999.0,9,   -999.0,9,-999.0000,9,  -999.00,     2140
  49UF20110617,  PR02,  3010,  1,      4,  21963,2,20110618,2136, 33.0055, 137.0190, 4284,   2025.1,   1.9402,  34.6108,2,-999.0000,9,    110.7,2,   145.24,2,    38.35,2,     0.00,2,     2.71,2,   -999.0,9,   -999.0,9,-999.0000,9,  -999.00,     2136