BOTTLE,20191015PRINUNIVRMK
EXPOCODE,SECT_ID,STNNBR,CASTNO,SAMPNO,BTLNBR,BTLNBR_FLAG_W,DATE,TIME,LATITUDE,LONGITUDE,DEPTH,CTDPRS,CTDTMP,CTDSAL,CTDSAL_FLAG_W,SALNTY,SALNTY_FLAG_W,OXYGEN,OXYGEN_FLAG_W,SILCAT,SILCAT_FLAG_W,NITRAT,NITRAT_FLAG_W,NITRIT,NITRIT_FLAG_W,PHSPHT,PHSPHT_FLAG_W,TCARBN,TCARBN_FLAG_W,ALKALI,ALKALI_FLAG_W,PH_TOT,PH_TOT_FLAG_W,PH_TMP,BTL_TIME
,,,,,,,,,,,METERS,DBAR,ITS-90,PSS-78,,PSS-78,,UMOL/KG,,UMOL/KG,,UMOL/KG,,UMOL/KG,,UMOL/KG,,UMOL/KG,,UMOL/KG,,,,DEG C,
  49UF20110617,  PR02,  3055,  1,     99,     99,2,20110711,0057, -1.9975, 141.9763, 3612,      0.0,  28.7458,  34.1953,2,-999.0000,9,    196.0,2,     2.69,2,     0.01,2,     0.02,2,     0.10,2,   -999.0,9,   -999.0,9,-999.0000,9,  -999.00,      135
  49UF20110617,  PR02,  3055,  1,     33,  21992,2,20110711,0057, -1.9975, 141.9763, 3612,     11.2,  28.7564,  34.2100,2,  34.2272,4,    195.7,2,     2.65,2,     0.00,2,     0.02,2,     0.08,2,   -999.0,9,   -999.0,9,-999.0000,9,  -999.00,      148
  49UF20110617,  PR02,  3055,  1,     32,  21991,2,20110711,0057, -1.9975, 141.9763, 3612,     26.7,  28.8816,  34.3532,2,-999.0000,9,    194.2,2,     2.53,2,     0.02,2,     0.06,2,     0.09,2,   -999.0,9,   -999.0,9,-999.0000,9,  -999.00,      146
  49UF20110617,  PR02,  3055,  1,     31,  21990,2,20110711,0057, -1.9975, 141.9763, 3612,     51.4,  29.0181,  34.5431,2,-999.0000,9,    189.4,2,     2.15,2,     0.41,2,     0.19,2,     0.14,2,   -999.0,9,   -999.0,9,-999.0000,9,  -999.00,      143
  49UF20110617,  PR02,  3055,  1,     30,  21989,2,20110711,0057, -1.9975, 141.9763, 3612,     75.6,  29.4738,  35.3305,2,-999.0000,9,    179.0,2,     1.39,2,     1.55,2,     0.24,2,     0.32,2,   -999.0,9,   -999.0,9,-999.0000,9,  -999.00,      142
  49UF20110617,  PR02,  3055,  1,     29,  21988,2,20110711,0057, -1.9975, 141.9763, 3612,    101.2,  28.1692,  35.5328,2,  35.5328,2,    160.6,6,     1.74,6,     5.51,6,     0.04,6,     0.56,6,   -999.0,9,   -999.0,9,-999.0000,9,  -999.00,      141
  49UF20110617,  PR02,  3055,  1,     28,  21987,2,20110711,0057, -1.9975, 141.9763, 3612,    125.9,  27.4919,  35.5537,2,-999.0000,9,    154.0,2,     1.92,2,     6.48,2,     0.03,2,     0.62,2,   -999.0,9,   -999.0,9,-999.0000,9,  -999.00,      140
  49UF20110617,  PR02,  3055,  1,     24,  21983,2,20110711,0057, -1.9975, 141.9763, 3612,    150.5,  25.4116,  35.5531,2,-999.0000,9,    148.4,2,     2.10,2,     6.68,2,     0.02,2,     0.61,2,   -999.0,9,   -999.0,9,-999.0000,9,  -999.00,      139
  49UF20110617,  PR02,  3055,  1,     23,  21982,2,20110711,0057, -1.9975, 141.9763, 3612,    201.2,  19.0001,  35.5106,2,  35.5066,2,    132.1,2,     4.81,2,    12.16,2,     0.01,2,     1.01,2,   -999.0,9,   -999.0,9,-999.0000,9,  -999.00,      137
  49UF20110617,  PR02,  3055,  1,     22,  21981,2,20110711,0057, -1.9975, 141.9763, 3612,    250.6,  15.2404,  35.1993,2,-999.0000,9,    148.4,2,     7.40,2,    14.73,2,     0.00,2,     1.13,2,   -999.0,9,   -999.0,9,-999.0000,9,  -999.00,      136
  49UF20110617,  PR02,  3055,  1,     18,  21977,2,20110711,0057, -1.9975, 141.9763, 3612,    301.6,  12.1123,  34.9239,2,-999.0000,9,    150.2,2,    12.20,2,    19.33,2,     0.00,2,     1.41,2,   -999.0,9,   -999.0,9,-999.0000,9,  -999.00,      134
  49UF20110617,  PR02,  3055,  1,     17,  21976,2,20110711,0057, -1.9975, 141.9763, 3612,    301.6,  12.1123,  34.9239,2,-999.0000,9,    150.0,6,    12.22,6,    19.38,6,     0.00,6,     1.42,6,   -999.0,9,   -999.0,9,-999.0000,9,  -999.00,      134
  49UF20110617,  PR02,  3055,  1,     16,  21975,2,20110711,0057, -1.9975, 141.9763, 3612,    403.7,   8.7455,  34.6424,2,  34.6421,2,    154.0,2,    21.36,2,    25.51,2,     0.00,2,     1.80,2,   -999.0,9,   -999.0,9,-999.0000,9,  -999.00,      132
  49UF20110617,  PR02,  3055,  1,     15,  21974,2,20110711,0057, -1.9975, 141.9763, 3612,    503.5,   7.5902,  34.5665,2,-999.0000,9,    156.3,2,    26.52,2,    27.69,2,     0.00,2,     1.94,2,   -999.0,9,   -999.0,9,-999.0000,9,  -999.00,      130
  49UF20110617,  PR02,  3055,  1,     14,  21973,2,20110711,0057, -1.9975, 141.9763, 3612,    604.4,   6.6245,  34.5354,2,  34.5339,2,    136.2,2,    38.38,2,    31.57,2,     0.00,2,     2.22,2,   -999.0,9,   -999.0,9,-999.0000,9,  -999.00,      127
  49UF20110617,  PR02,  3055,  1,     13,  21972,3,20110711,0057, -1.9975, 141.9763, 3612,    706.0,   5.9422,  34.5131,2,-999.0000,9,    139.8,2,    45.57,2,    32.42,2,     0.00,2,     2.28,2,   -999.0,9,   -999.0,9,-999.0000,9,  -999.00,      125
  49UF20110617,  PR02,  3055,  1,     12,  21971,2,20110711,0057, -1.9975, 141.9763, 3612,    807.2,   5.3632,  34.5161,2,  34.5149,6,    130.1,2,    56.06,2,    34.24,2,     0.00,2,     2.42,2,   -999.0,9,   -999.0,9,-999.0000,9,  -999.00,      122
  49UF20110617,  PR02,  3055,  1,     11,  21970,2,20110711,0057, -1.9975, 141.9763, 3612,    908.5,   4.6933,  34.5166,2,-999.0000,9,    137.8,2,    64.74,2,    34.39,2,     0.00,2,     2.43,2,   -999.0,9,   -999.0,9,-999.0000,9,  -999.00,      120
  49UF20110617,  PR02,  3055,  1,     10,  21969,2,20110711,0057, -1.9975, 141.9763, 3612,   1009.8,   4.3180,  34.5478,2,  34.5462,2,    114.0,2,    82.02,2,    36.67,2,     0.00,2,     2.62,2,   -999.0,9,   -999.0,9,-999.0000,9,  -999.00,      118
  49UF20110617,  PR02,  3055,  1,      6,  21965,2,20110711,0057, -1.9975, 141.9763, 3612,   1210.3,   3.5874,  34.5797,2,  34.5783,2,    103.7,2,   102.98,2,    38.37,2,     0.00,2,     2.75,2,   -999.0,9,   -999.0,9,-999.0000,9,  -999.00,      114
  49UF20110617,  PR02,  3055,  1,      5,  21964,2,20110711,0057, -1.9975, 141.9763, 3612,   1413.8,   3.0944,  34.5983,2,  34.5962,2,    108.2,2,   113.59,2,    38.36,2,     0.00,2,     2.74,2,   -999.0,9,   -999.0,9,-999.0000,9,  -999.00,      109
  49UF20110617,  PR02,  3055,  1,      4,  21963,2,20110711,0057, -1.9975, 141.9763, 3612,   1616.1,   2.8318,  34.6098,2,  34.6076,2,    110.3,2,   119.93,2,    38.48,2,     0.00,2,     2.73,2,   -999.0,9,   -999.0,9,-999.0000,9,  -999.00,      105
  49UF20110617,  PR02,  3055,  1,      3,  21962,2,20110711,0057, -1.9975, 141.9763, 3612,   1822.2,   2.4731,  34.6265,2,  34.6245,2,    115.7,2,   128.21,2,    38.29,2,     0.00,2,     2.71,2,   -999.0,9,   -999.0,9,-999.0000,9,  -999.00,      101
  49UF20110617,  PR02,  3055,  1,      2,  21961,3,20110711,0057, -1.9975, 141.9763, 3612,   1822.2,   2.4731,  34.6265,2,  34.6257,2,    116.0,6,   127.76,6,    38.17,6,     0.00,6,     2.70,6,   -999.0,9,   -999.0,9,-999.0000,9,  -999.00,      101
  49UF20110617,  PR02,  3055,  1,      1,  21960,2,20110711,0057, -1.9975, 141.9763, 3612,   2018.7,   2.2698,  34.6366,2,  34.6356,2,    119.3,2,   132.38,2,    37.94,2,     0.00,2,     2.69,2,   -999.0,9,   -999.0,9,-999.0000,9,  -999.00,       57
  49UF20110617,  PR02,  3056,  1,     99,     99,2,20110726,0108, 28.7027, 126.4600,  128,      0.0,  29.5345,  33.9872,2,-999.0000,9,    196.5,2,     1.93,2,     0.00,2,     0.00,2,     0.05,2,   -999.0,9,   -999.0,9,-999.0000,9,  -999.00,      108
  49UF20110617,  PR02,  3056,  1,     10,  21969,2,20110726,0108, 28.7027, 126.4600,  128,     11.2,  29.4936,  33.9831,2,  33.9832,6,    197.1,2,     1.90,2,     0.00,2,     0.00,2,     0.02,2,   -999.0,9,   -999.0,9,-999.0000,9,  -999.00,      117
  49UF20110617,  PR02,  3056,  1,      9,  21968,2,20110726,0108, 28.7027, 126.4600,  128,     21.6,  28.6874,  34.0058,2,-999.0000,9,    202.5,2,     1.85,2,     0.00,2,     0.00,2,     0.02,2,   -999.0,9,   -999.0,9,-999.0000,9,  -999.00,      116
  49UF20110617,  PR02,  3056,  1,      8,  21967,2,20110726,0108, 28.7027, 126.4600,  128,     32.2,  27.1038,  33.9941,2,-999.0000,9,    211.2,2,     2.03,2,     0.00,2,     0.00,2,     0.03,2,   -999.0,9,   -999.0,9,-999.0000,9,  -999.00,      115
  49UF20110617,  PR02,  3056,  1,      7,  21966,2,20110726,0108, 28.7027, 126.4600,  128,     51.9,  24.7067,  34.1146,2,  34.1087,4,    203.2,2,     2.56,2,     0.00,2,     0.00,2,     0.05,2,   -999.0,9,   -999.0,9,-999.0000,9,  -999.00,      113
  49UF20110617,  PR02,  3056,  1,      6,  21965,2,20110726,0108, 28.7027, 126.4600,  128,     78.4,  19.3416,  34.5055,2,-999.0000,9,    163.9,2,    11.09,2,     7.57,2,     0.11,2,     0.56,2,   -999.0,9,   -999.0,9,-999.0000,9,  -999.00,      111
  49UF20110617,  PR02,  3056,  1,      5,  21964,2,20110726,0108, 28.7027, 126.4600,  128,    102.2,  18.2622,  34.5671,2,  34.4801,4,    157.3,2,    14.45,2,     9.56,2,     0.02,2,     0.71,2,   2065.1,2,   2277.5,2,   7.8823,2,    25.00,      110
  49UF20110617,  PR02,  3056,  1,      4,  21963,2,20110726,0108, 28.7027, 126.4600,  128,    116.3,  17.2723,  34.5695,2,  34.5692,2,    155.7,2,    15.91,2,    10.37,2,     0.03,2,     0.77,2,   -999.0,9,   -999.0,9,-999.0000,9,  -999.00,      108
  49UF20110617,  PR02,  3056,  1,      3,  21962,2,20110726,0108, 28.7027, 126.4600,  128,    116.3,  17.2723,  34.5695,2,  34.5693,6,    155.8,6,    16.06,6,    10.45,6,     0.03,6,     0.78,6,   -999.0,9,   -999.0,9,-999.0000,9,  -999.00,      108
  49UF20110617,  PR02,  3056,  1,      1,  21960,2,20110726,0108, 28.7027, 126.4600,  128,    116.4,  16.7061,  34.5651,2,  34.5651,2,    153.4,2,    18.41,2,    11.63,2,     0.04,2,     0.87,2,   -999.0,9,   -999.0,9,-999.0000,9,  -999.00,      108
  49UF20110617,  PR02,  3058,  1,     99,     99,2,20110726,0312, 28.5507, 126.6870,  156,      0.0,  29.6049,  34.0854,2,-999.0000,9,    196.3,2,     1.70,2,     0.00,2,     0.00,2,     0.04,2,   -999.0,9,   -999.0,9,-999.0000,9,  -999.00,      310
  49UF20110617,  PR02,  3058,  1,     11,  21970,2,20110726,0312, 28.5507, 126.6870,  156,     10.2,  29.5819,  34.0840,2,  34.0808,4,    197.0,2,     1.70,2,     0.00,2,     0.00,2,     0.01,2,   -999.0,9,   -999.0,9,-999.0000,9,  -999.00,      322
  49UF20110617,  PR02,  3058,  1,     10,  21969,2,20110726,0312, 28.5507, 126.6870,  156,     21.4,  28.0873,  34.0732,2,-999.0000,9,    205.2,2,     1.83,2,     0.00,2,     0.00,2,     0.01,2,   -999.0,9,   -999.0,9,-999.0000,9,  -999.00,      321
  49UF20110617,  PR02,  3058,  1,      9,  21968,2,20110726,0312, 28.5507, 126.6870,  156,     30.3,  26.7575,  34.0760,2,-999.0000,9,    212.4,2,     2.10,2,     0.00,2,     0.00,2,     0.01,2,   -999.0,9,   -999.0,9,-999.0000,9,  -999.00,      320
  49UF20110617,  PR02,  3058,  1,      8,  21967,2,20110726,0312, 28.5507, 126.6870,  156,     50.2,  24.7934,  34.2426,2,  34.2537,4,    209.4,2,     2.64,2,    -0.01,2,     0.01,2,     0.04,2,   -999.0,9,   -999.0,9,-999.0000,9,  -999.00,      318
  49UF20110617,  PR02,  3058,  1,      7,  21966,2,20110726,0312, 28.5507, 126.6870,  156,     76.3,  22.9158,  34.3515,2,-999.0000,9,    181.5,2,     4.93,2,     2.87,2,     0.17,2,     0.25,2,   -999.0,9,   -999.0,9,-999.0000,9,  -999.00,      316
  49UF20110617,  PR02,  3058,  1,      6,  21965,2,20110726,0312, 28.5507, 126.6870,  156,    101.8,  18.1453,  34.5826,2,  34.5817,2,    158.6,2,    13.75,2,     9.47,2,     0.02,2,     0.67,2,   -999.0,9,   -999.0,9,-999.0000,9,  -999.00,      315
  49UF20110617,  PR02,  3058,  1,      5,  21964,2,20110726,0312, 28.5507, 126.6870,  156,    101.8,  18.1453,  34.5826,2,  34.5818,6,    158.6,6,    13.77,6,     9.51,6,     0.02,6,     0.68,6,   -999.0,9,   -999.0,9,-999.0000,9,  -999.00,      315
  49UF20110617,  PR02,  3058,  1,      4,  21963,2,20110726,0312, 28.5507, 126.6870,  156,    127.3,  18.0088,  34.5849,2,  34.5868,2,    159.7,2,    13.74,2,     9.66,2,     0.03,2,     0.68,2,   -999.0,9,   -999.0,9,-999.0000,9,  -999.00,      313
  49UF20110617,  PR02,  3058,  1,      1,  21960,2,20110726,0312, 28.5507, 126.6870,  156,    150.0,  13.3837,  34.4790,2,  34.4799,2,    155.5,2,    24.44,2,    15.78,2,     0.03,2,     1.13,2,   -999.0,9,   -999.0,9,-999.0000,9,  -999.00,      311
  49UF20110617,  PR02,  3058,  1,      3,  21962,2,20110726,0312, 28.5507, 126.6870,  156,    150.4,  13.3789,  34.4792,2,  34.4798,2,    155.5,2,    24.46,2,    15.81,2,     0.03,2,     1.12,2,   -999.0,9,   -999.0,9,-999.0000,9,  -999.00,      312
  49UF20110617,  PR02,  3060,  1,     99,     99,2,20110726,0526, 28.4105, 126.9037,  277,      0.0,  29.0468,  34.0203,2,-999.0000,9,    201.5,2,     1.73,2,     0.01,2,     0.00,2,     0.02,2,   -999.0,9,   -999.0,9,-999.0000,9,  -999.00,      530
  49UF20110617,  PR02,  3060,  1,     13,  21972,2,20110726,0526, 28.4105, 126.9037,  277,     10.4,  29.0367,  34.0217,2,  34.0236,2,    201.6,2,     1.73,2,     0.00,2,     0.00,2,     0.01,2,   -999.0,9,   -999.0,9,-999.0000,9,  -999.00,      541
  49UF20110617,  PR02,  3060,  1,     12,  21971,2,20110726,0526, 28.4105, 126.9037,  277,     21.1,  28.2273,  34.0681,2,-999.0000,9,    206.8,2,     2.01,2,     0.00,2,     0.00,2,     0.01,2,   -999.0,9,   -999.0,9,-999.0000,9,  -999.00,      540
  49UF20110617,  PR02,  3060,  1,     11,  21970,2,20110726,0526, 28.4105, 126.9037,  277,     31.0,  26.8339,  34.1730,2,-999.0000,9,    211.5,2,     2.27,2,     0.01,2,     0.00,2,     0.02,2,   -999.0,9,   -999.0,9,-999.0000,9,  -999.00,      539
  49UF20110617,  PR02,  3060,  1,     10,  21969,2,20110726,0526, 28.4105, 126.9037,  277,     50.4,  24.7497,  34.4134,2,-999.0000,9,    209.2,2,     2.07,2,     0.04,2,     0.02,2,     0.05,2,   -999.0,9,   -999.0,9,-999.0000,9,  -999.00,      538
  49UF20110617,  PR02,  3060,  1,      9,  21968,2,20110726,0526, 28.4105, 126.9037,  277,     75.1,  22.7332,  34.5980,2,-999.0000,9,    188.6,2,     4.02,2,     2.47,2,     0.28,2,     0.21,2,   -999.0,9,   -999.0,9,-999.0000,9,  -999.00,      537
  49UF20110617,  PR02,  3060,  1,      8,  21967,2,20110726,0526, 28.4105, 126.9037,  277,    101.5,  21.8327,  34.6872,2,  34.6819,4,    185.6,2,     4.59,2,     3.35,2,     0.17,2,     0.26,2,   -999.0,9,   -999.0,9,-999.0000,9,  -999.00,      535
  49UF20110617,  PR02,  3060,  1,      7,  21966,2,20110726,0526, 28.4105, 126.9037,  277,    101.5,  21.8327,  34.6872,2,  34.6791,4,    185.6,6,     4.66,6,     3.38,6,     0.18,6,     0.27,6,   -999.0,9,   -999.0,9,-999.0000,9,  -999.00,      535
  49UF20110617,  PR02,  3060,  1,      6,  21965,2,20110726,0526, 28.4105, 126.9037,  277,    127.0,  20.7132,  34.7029,2,-999.0000,9,    184.7,2,     5.24,2,     4.17,2,     0.09,2,     0.31,2,   -999.0,9,   -999.0,9,-999.0000,9,  -999.00,      534
  49UF20110617,  PR02,  3060,  1,      5,  21964,2,20110726,0526, 28.4105, 126.9037,  277,    154.2,  18.7884,  34.6832,2,-999.0000,9,    178.1,2,     8.03,2,     6.50,2,     0.07,2,     0.47,2,   -999.0,9,   -999.0,9,-999.0000,9,  -999.00,      532
  49UF20110617,  PR02,  3060,  1,      4,  21963,2,20110726,0526, 28.4105, 126.9037,  277,    203.2,  13.0213,  34.4655,2,  34.4697,4,    156.7,2,    24.64,2,    16.13,2,     0.01,2,     1.15,2,   -999.0,9,   -999.0,9,-999.0000,9,  -999.00,      530
  49UF20110617,  PR02,  3060,  1,      3,  21962,2,20110726,0526, 28.4105, 126.9037,  277,    252.7,  12.4110,  34.4405,2,-999.0000,9,    152.2,2,    27.84,2,    17.44,2,     0.04,2,     1.26,2,   -999.0,9,   -999.0,9,-999.0000,9,  -999.00,      527
  49UF20110617,  PR02,  3060,  1,      1,  21960,2,20110726,0526, 28.4105, 126.9037,  277,    268.2,  12.3461,  34.4376,2,  34.4374,6,    151.1,2,    28.29,2,    17.62,2,     0.05,2,     1.27,2,   -999.0,9,   -999.0,9,-999.0000,9,  -999.00,      526