BOTTLE,20191015PRINUNIVRMK
EXPOCODE,SECT_ID,STNNBR,CASTNO,SAMPNO,BTLNBR,BTLNBR_FLAG_W,DATE,TIME,LATITUDE,LONGITUDE,DEPTH,CTDPRS,CTDTMP,CTDSAL,CTDSAL_FLAG_W,SALNTY,SALNTY_FLAG_W,OXYGEN,OXYGEN_FLAG_W,SILCAT,SILCAT_FLAG_W,NITRAT,NITRAT_FLAG_W,NITRIT,NITRIT_FLAG_W,PHSPHT,PHSPHT_FLAG_W,TCARBN,TCARBN_FLAG_W,ALKALI,ALKALI_FLAG_W,PH_TOT,PH_TOT_FLAG_W,PH_TMP,BTL_TIME
,,,,,,,,,,,METERS,DBAR,ITS-90,PSS-78,,PSS-78,,UMOL/KG,,UMOL/KG,,UMOL/KG,,UMOL/KG,,UMOL/KG,,UMOL/KG,,UMOL/KG,,,,DEG C,
  49UF20110617,  PR02,  3036,  1,     99,     99,2,20110626,1150, 11.9948, 136.9828, 4880,      0.0,  29.4737,  33.5541,2,-999.0000,9,    196.0,2,     1.30,4,     0.03,2,     0.00,2,     0.01,2,   -999.0,9,   -999.0,9,-999.0000,9,  -999.00,     1337
  49UF20110617,  PR02,  3036,  1,     36,  21995,2,20110626,1150, 11.9948, 136.9828, 4880,     11.9,  29.4796,  33.5543,2,  33.5559,2,    195.9,2,     1.26,4,     0.00,2,     0.00,2,     0.00,2,   -999.0,9,   -999.0,9,-999.0000,9,  -999.00,     1356
  49UF20110617,  PR02,  3036,  1,     35,  21994,2,20110626,1150, 11.9948, 136.9828, 4880,     25.5,  29.4800,  33.5555,2,-999.0000,9,    196.2,2,     1.27,4,     0.03,2,     0.00,2,     0.00,2,   -999.0,9,   -999.0,9,-999.0000,9,  -999.00,     1355
  49UF20110617,  PR02,  3036,  1,     34,  21993,2,20110626,1150, 11.9948, 136.9828, 4880,     50.6,  29.4652,  34.2571,2,-999.0000,9,    200.3,2,     1.04,4,     0.03,2,     0.00,2,     0.04,2,   -999.0,9,   -999.0,9,-999.0000,9,  -999.00,     1351
  49UF20110617,  PR02,  3036,  1,     33,  21992,2,20110626,1150, 11.9948, 136.9828, 4880,     76.8,  28.6448,  34.7624,2,-999.0000,9,    204.0,2,     0.86,4,     0.04,2,     0.00,2,     0.07,2,   -999.0,9,   -999.0,9,-999.0000,9,  -999.00,     1350
  49UF20110617,  PR02,  3036,  1,     32,  21991,2,20110626,1150, 11.9948, 136.9828, 4880,    101.1,  27.7426,  34.8374,2,  34.8311,4,    197.4,2,     1.17,4,     0.02,2,     0.00,2,     0.08,2,   -999.0,9,   -999.0,9,-999.0000,9,  -999.00,     1348
  49UF20110617,  PR02,  3036,  1,     31,  21990,2,20110626,1150, 11.9948, 136.9828, 4880,    126.5,  25.9667,  34.8242,2,-999.0000,9,    175.4,2,     2.15,4,     0.69,2,     0.27,2,     0.21,2,   -999.0,9,   -999.0,9,-999.0000,9,  -999.00,     1347
  49UF20110617,  PR02,  3036,  1,     30,  21989,2,20110626,1150, 11.9948, 136.9828, 4880,    151.5,  23.4368,  34.8747,2,-999.0000,9,    160.9,6,     3.61,4,     4.03,6,     0.02,6,     0.41,6,   -999.0,9,   -999.0,9,-999.0000,9,  -999.00,     1345
  49UF20110617,  PR02,  3036,  1,     29,  21988,2,20110626,1150, 11.9948, 136.9828, 4880,    203.1,  18.7501,  34.8156,2,  34.8096,4,    169.0,2,     4.76,4,     5.96,2,     0.01,2,     0.49,2,   -999.0,9,   -999.0,9,-999.0000,9,  -999.00,     1343
  49UF20110617,  PR02,  3036,  1,     28,  21987,2,20110626,1150, 11.9948, 136.9828, 4880,    254.0,  15.3525,  34.5628,2,-999.0000,9,    158.6,2,    10.08,4,    11.31,2,     0.00,2,     0.85,2,   -999.0,9,   -999.0,9,-999.0000,9,  -999.00,     1341
  49UF20110617,  PR02,  3036,  1,     27,  21986,2,20110626,1150, 11.9948, 136.9828, 4880,    305.4,  11.9702,  34.3612,2,-999.0000,9,    148.0,2,    20.16,4,    18.27,2,     0.00,2,     1.33,2,   -999.0,9,   -999.0,9,-999.0000,9,  -999.00,     1339
  49UF20110617,  PR02,  3036,  1,     26,  21985,2,20110626,1150, 11.9948, 136.9828, 4880,    406.3,   8.5453,  34.3926,2,  34.3922,2,     81.3,2,    43.67,4,    31.28,2,     0.00,2,     2.25,2,   -999.0,9,   -999.0,9,-999.0000,9,  -999.00,     1336
  49UF20110617,  PR02,  3036,  1,     25,  21984,2,20110626,1150, 11.9948, 136.9828, 4880,    505.8,   7.2486,  34.4539,2,-999.0000,9,     72.3,2,    55.08,4,    35.00,2,     0.00,2,     2.51,2,   -999.0,9,   -999.0,9,-999.0000,9,  -999.00,     1333
  49UF20110617,  PR02,  3036,  1,     24,  21983,2,20110626,1150, 11.9948, 136.9828, 4880,    605.8,   6.1846,  34.4467,2,  34.4488,2,     83.0,2,    67.02,4,    35.96,2,     0.00,2,     2.56,2,   -999.0,9,   -999.0,9,-999.0000,9,  -999.00,     1330
  49UF20110617,  PR02,  3036,  1,     23,  21982,2,20110626,1150, 11.9948, 136.9828, 4880,    706.6,   5.5255,  34.4865,2,-999.0000,9,     86.4,2,    75.27,4,    36.86,2,     0.00,2,     2.62,2,   -999.0,9,   -999.0,9,-999.0000,9,  -999.00,     1327
  49UF20110617,  PR02,  3036,  1,     22,  21981,2,20110626,1150, 11.9948, 136.9828, 4880,    806.0,   5.1360,  34.5128,2,  34.5122,2,     85.1,2,    81.78,4,    37.75,2,     0.00,2,     2.68,2,   -999.0,9,   -999.0,9,-999.0000,9,  -999.00,     1325
  49UF20110617,  PR02,  3036,  1,     21,  21980,2,20110626,1150, 11.9948, 136.9828, 4880,    907.2,   4.6151,  34.5349,2,-999.0000,9,     87.5,2,    91.51,4,    38.30,2,     0.00,2,     2.72,2,   -999.0,9,   -999.0,9,-999.0000,9,  -999.00,     1322
  49UF20110617,  PR02,  3036,  1,     20,  21979,2,20110626,1150, 11.9948, 136.9828, 4880,   1009.7,   4.2101,  34.5476,2,  34.5470,2,     86.6,2,    99.93,4,    38.85,2,     0.00,2,     2.76,2,   -999.0,9,   -999.0,9,-999.0000,9,  -999.00,     1319
  49UF20110617,  PR02,  3036,  1,     19,  21978,2,20110626,1150, 11.9948, 136.9828, 4880,   1210.6,   3.4704,  34.5711,2,  34.5708,2,     93.4,2,   114.21,4,    39.01,2,     0.00,2,     2.76,3,   -999.0,9,   -999.0,9,-999.0000,9,  -999.00,     1315
  49UF20110617,  PR02,  3036,  1,     18,  21977,2,20110626,1150, 11.9948, 136.9828, 4880,   1414.1,   3.0340,  34.5843,2,  34.5837,2,     97.6,2,   124.05,4,    38.97,2,     0.00,2,     2.75,2,   -999.0,9,   -999.0,9,-999.0000,9,  -999.00,     1310
  49UF20110617,  PR02,  3036,  1,     17,  21976,2,20110626,1150, 11.9948, 136.9828, 4880,   1615.4,   2.6801,  34.6020,2,  34.6018,2,    101.1,2,   131.17,4,    39.15,2,     0.00,2,     2.76,2,   -999.0,9,   -999.0,9,-999.0000,9,  -999.00,     1306
  49UF20110617,  PR02,  3036,  1,     16,  21975,2,20110626,1150, 11.9948, 136.9828, 4880,   1615.4,   2.6801,  34.6020,2,  34.6020,6,    101.2,6,   131.12,4,    39.15,6,     0.00,6,     2.76,6,   -999.0,9,   -999.0,9,-999.0000,9,  -999.00,     1306
  49UF20110617,  PR02,  3036,  1,     15,  21974,2,20110626,1150, 11.9948, 136.9828, 4880,   1818.2,   2.3398,  34.6202,2,  34.6212,2,    108.8,2,   136.72,4,    38.78,2,     0.00,2,     2.72,2,   -999.0,9,   -999.0,9,-999.0000,9,  -999.00,     1302
  49UF20110617,  PR02,  3036,  1,     14,  21973,2,20110626,1150, 11.9948, 136.9828, 4880,   2022.1,   2.1414,  34.6321,2,  34.6315,2,    114.4,2,   140.11,4,    38.49,2,     0.00,2,     2.70,2,   -999.0,9,   -999.0,9,-999.0000,9,  -999.00,     1257
  49UF20110617,  PR02,  3036,  1,     13,  21972,2,20110626,1150, 11.9948, 136.9828, 4880,   2275.2,   1.9092,  34.6467,2,-999.0000,9,    123.2,2,   143.26,4,    38.10,2,     0.00,2,     2.66,2,   -999.0,9,   -999.0,9,-999.0000,9,  -999.00,     1252
  49UF20110617,  PR02,  3036,  1,     12,  21971,2,20110626,1150, 11.9948, 136.9828, 4880,   2530.2,   1.7552,  34.6567,2,  34.6571,2,    130.0,2,   145.40,4,    37.77,2,     0.00,2,     2.63,2,   -999.0,9,   -999.0,9,-999.0000,9,  -999.00,     1246
  49UF20110617,  PR02,  3036,  1,     11,  21970,2,20110626,1150, 11.9948, 136.9828, 4880,   2784.1,   1.6833,  34.6629,2,-999.0000,9,    135.3,2,   145.36,4,    37.41,2,     0.00,2,     2.60,2,   -999.0,9,   -999.0,9,-999.0000,9,  -999.00,     1241
  49UF20110617,  PR02,  3036,  1,     10,  21969,2,20110626,1150, 11.9948, 136.9828, 4880,   3040.1,   1.6100,  34.6693,2,  34.6692,2,    141.7,2,   144.75,4,    36.99,2,     0.00,2,     2.57,2,   -999.0,9,   -999.0,9,-999.0000,9,  -999.00,     1235
  49UF20110617,  PR02,  3036,  1,      9,  21968,2,20110626,1150, 11.9948, 136.9828, 4880,   3293.6,   1.5705,  34.6738,2,-999.0000,9,    146.0,2,   143.81,4,    36.68,2,     0.00,2,     2.54,2,   -999.0,9,   -999.0,9,-999.0000,9,  -999.00,     1230
  49UF20110617,  PR02,  3036,  1,      8,  21967,2,20110626,1150, 11.9948, 136.9828, 4880,   3549.8,   1.5434,  34.6774,2,  34.6779,2,    150.3,2,   142.60,4,    36.37,2,     0.00,2,     2.52,2,   -999.0,9,   -999.0,9,-999.0000,9,  -999.00,     1224
  49UF20110617,  PR02,  3036,  1,      7,  21966,2,20110626,1150, 11.9948, 136.9828, 4880,   3805.3,   1.5085,  34.6818,2,-999.0000,9,    154.9,2,   141.46,4,    36.03,2,     0.00,2,     2.49,2,   -999.0,9,   -999.0,9,-999.0000,9,  -999.00,     1218
  49UF20110617,  PR02,  3036,  1,      6,  21965,2,20110626,1150, 11.9948, 136.9828, 4880,   4062.3,   1.4893,  34.6851,2,  34.6856,2,    159.1,2,   139.98,4,    35.71,2,     0.00,2,     2.47,2,   -999.0,9,   -999.0,9,-999.0000,9,  -999.00,     1213
  49UF20110617,  PR02,  3036,  1,      5,  21964,2,20110626,1150, 11.9948, 136.9828, 4880,   4317.5,   1.4997,  34.6863,2,-999.0000,9,    160.9,2,   139.25,4,    35.68,2,     0.00,2,     2.47,2,   -999.0,9,   -999.0,9,-999.0000,9,  -999.00,     1207
  49UF20110617,  PR02,  3036,  1,      4,  21963,2,20110626,1150, 11.9948, 136.9828, 4880,   4575.3,   1.5089,  34.6880,2,  34.6886,2,    163.2,2,   138.55,4,    35.45,2,     0.00,2,     2.45,2,   -999.0,9,   -999.0,9,-999.0000,9,  -999.00,     1202
  49UF20110617,  PR02,  3036,  1,      3,  21962,2,20110626,1150, 11.9948, 136.9828, 4880,   4832.1,   1.5230,  34.6892,2,  34.6895,2,    164.6,2,   138.07,4,    35.34,2,     0.00,2,     2.44,2,   -999.0,9,   -999.0,9,-999.0000,9,  -999.00,     1156
  49UF20110617,  PR02,  3036,  1,      2,  21961,2,20110626,1150, 11.9948, 136.9828, 4880,   4832.1,   1.5230,  34.6892,2,  34.6897,6,    165.2,6,   138.02,4,    35.37,6,     0.00,6,     2.45,6,   -999.0,9,   -999.0,9,-999.0000,9,  -999.00,     1156
  49UF20110617,  PR02,  3036,  1,      1,  21960,2,20110626,1150, 11.9948, 136.9828, 4880,   5096.0,   1.5513,  34.6896,2,  34.6902,2,    165.6,2,   137.69,4,    35.28,2,     0.00,2,     2.44,2,   -999.0,9,   -999.0,9,-999.0000,9,  -999.00,     1150
  49UF20110617,  PR02,  3037,  1,     99,     99,2,20110626,2023, 11.0012, 136.9733, 5135,      0.0,  29.3651,  33.6400,2,-999.0000,9,    196.4,2,     1.28,2,     0.05,2,     0.00,2,     0.01,2,   -999.0,9,   -999.0,9,-999.0000,9,  -999.00,     2214
  49UF20110617,  PR02,  3037,  1,     36,  21995,2,20110626,2023, 11.0012, 136.9733, 5135,     10.9,  29.3568,  33.6400,2,-999.0000,9,    196.4,2,     1.28,2,     0.03,2,     0.00,2,     0.01,2,   -999.0,9,   -999.0,9,-999.0000,9,  -999.00,     2228
  49UF20110617,  PR02,  3037,  1,     35,  21994,2,20110626,2023, 11.0012, 136.9733, 5135,     26.4,  29.3701,  33.6403,2,-999.0000,9,    196.1,2,     1.28,2,     0.02,2,     0.00,2,     0.01,2,   -999.0,9,   -999.0,9,-999.0000,9,  -999.00,     2226
  49UF20110617,  PR02,  3037,  1,     34,  21993,2,20110626,2023, 11.0012, 136.9733, 5135,     53.0,  29.3185,  33.6602,2,-999.0000,9,    196.9,2,     1.28,2,     0.05,2,     0.00,2,     0.01,2,   -999.0,9,   -999.0,9,-999.0000,9,  -999.00,     2221
  49UF20110617,  PR02,  3037,  1,     33,  21992,2,20110626,2023, 11.0012, 136.9733, 5135,     76.5,  28.6719,  34.2126,2,-999.0000,9,    197.3,2,     1.40,2,     0.05,2,     0.00,2,     0.04,2,   -999.0,9,   -999.0,9,-999.0000,9,  -999.00,     2220
  49UF20110617,  PR02,  3037,  1,     32,  21991,2,20110626,2023, 11.0012, 136.9733, 5135,    102.4,  26.4045,  34.7569,2,-999.0000,9,    185.0,2,     2.02,2,     0.15,2,     0.02,2,     0.15,2,   -999.0,9,   -999.0,9,-999.0000,9,  -999.00,     2218
  49UF20110617,  PR02,  3037,  1,     31,  21990,4,20110626,2023, 11.0012, 136.9733, 5135,    127.0,  23.7935,  34.8261,2,-999.0000,9,   -999.0,9,  -999.00,9,  -999.00,9,  -999.00,9,  -999.00,9,   -999.0,9,   -999.0,9,-999.0000,9,  -999.00,     2217
  49UF20110617,  PR02,  3037,  1,     30,  21989,4,20110626,2023, 11.0012, 136.9733, 5135,    154.0,  21.0970,  34.8320,2,-999.0000,9,   -999.0,9,  -999.00,9,  -999.00,9,  -999.00,9,  -999.00,9,   -999.0,9,   -999.0,9,-999.0000,9,  -999.00,     2216
  49UF20110617,  PR02,  3037,  1,     29,  21988,2,20110626,2023, 11.0012, 136.9733, 5135,    202.8,  16.8918,  34.6512,2,-999.0000,9,    141.8,2,    10.83,2,    12.18,2,     0.01,2,     0.92,2,   -999.0,9,   -999.0,9,-999.0000,9,  -999.00,     2214
  49UF20110617,  PR02,  3037,  1,     28,  21987,2,20110626,2023, 11.0012, 136.9733, 5135,    252.7,  13.6144,  34.4725,2,-999.0000,9,    138.4,2,    16.34,2,    16.56,2,     0.00,2,     1.23,2,   -999.0,9,   -999.0,9,-999.0000,9,  -999.00,     2213
  49UF20110617,  PR02,  3037,  1,     27,  21986,2,20110626,2023, 11.0012, 136.9733, 5135,    303.2,  10.3582,  34.2959,2,-999.0000,9,    132.0,2,    28.07,2,    22.53,2,     0.00,2,     1.63,2,   -999.0,9,   -999.0,9,-999.0000,9,  -999.00,     2211
  49UF20110617,  PR02,  3037,  1,     26,  21985,2,20110626,2023, 11.0012, 136.9733, 5135,    404.8,   8.4760,  34.4572,2,-999.0000,9,     73.4,2,    43.97,2,    32.38,2,     0.00,2,     2.33,2,   -999.0,9,   -999.0,9,-999.0000,9,  -999.00,     2208
  49UF20110617,  PR02,  3037,  1,     25,  21984,2,20110626,2023, 11.0012, 136.9733, 5135,    504.3,   7.3530,  34.4733,2,-999.0000,9,     72.5,2,    53.10,2,    34.67,2,     0.00,2,     2.49,2,   -999.0,9,   -999.0,9,-999.0000,9,  -999.00,     2206
  49UF20110617,  PR02,  3037,  1,     24,  21983,2,20110626,2023, 11.0012, 136.9733, 5135,    606.0,   6.6071,  34.5013,2,-999.0000,9,     79.7,2,    58.92,2,    35.74,2,     0.00,2,     2.56,2,   -999.0,9,   -999.0,9,-999.0000,9,  -999.00,     2203
  49UF20110617,  PR02,  3037,  1,     23,  21982,2,20110626,2023, 11.0012, 136.9733, 5135,    706.8,   5.9607,  34.5113,2,-999.0000,9,     80.8,2,    67.35,2,    36.88,2,     0.00,2,     2.63,2,   -999.0,9,   -999.0,9,-999.0000,9,  -999.00,     2201
  49UF20110617,  PR02,  3037,  1,     22,  21981,2,20110626,2023, 11.0012, 136.9733, 5135,    807.8,   5.4058,  34.5149,2,-999.0000,9,     78.2,2,    77.44,2,    37.96,2,     0.00,2,     2.71,2,   -999.0,9,   -999.0,9,-999.0000,9,  -999.00,     2158
  49UF20110617,  PR02,  3037,  1,     21,  21980,4,20110626,2023, 11.0012, 136.9733, 5135,    908.9,   4.8588,  34.5307,2,-999.0000,9,    154.2,4,    12.05,4,     8.85,4,     0.07,4,     0.74,4,   -999.0,9,   -999.0,9,-999.0000,9,  -999.00,     2155
  49UF20110617,  PR02,  3037,  1,     20,  21979,2,20110626,2023, 11.0012, 136.9733, 5135,   1009.9,   4.3607,  34.5453,2,-999.0000,9,     80.9,2,    96.58,2,    38.88,2,     0.00,2,     2.78,2,   -999.0,9,   -999.0,9,-999.0000,9,  -999.00,     2153
  49UF20110617,  PR02,  3037,  1,     19,  21978,2,20110626,2023, 11.0012, 136.9733, 5135,   1212.3,   3.6567,  34.5636,2,-999.0000,9,     85.3,6,   108.48,6,    39.22,6,     0.00,6,     2.79,2,   -999.0,9,   -999.0,9,-999.0000,9,  -999.00,     2148
  49UF20110617,  PR02,  3037,  1,     18,  21977,2,20110626,2023, 11.0012, 136.9733, 5135,   1413.5,   3.0382,  34.5860,2,-999.0000,9,     94.6,2,   124.10,2,    39.21,2,     0.00,2,     2.78,2,   -999.0,9,   -999.0,9,-999.0000,9,  -999.00,     2143
  49UF20110617,  PR02,  3037,  1,     17,  21976,2,20110626,2023, 11.0012, 136.9733, 5135,   1617.2,   2.6320,  34.6058,2,-999.0000,9,    102.8,2,   131.28,2,    38.90,2,     0.00,2,     2.75,2,   -999.0,9,   -999.0,9,-999.0000,9,  -999.00,     2139
  49UF20110617,  PR02,  3037,  1,     16,  21975,2,20110626,2023, 11.0012, 136.9733, 5135,   1819.9,   2.3562,  34.6234,2,-999.0000,9,    110.0,2,   135.22,2,    38.71,2,     0.00,2,     2.72,2,   -999.0,9,   -999.0,9,-999.0000,9,  -999.00,     2134
  49UF20110617,  PR02,  3037,  1,     15,  21974,2,20110626,2023, 11.0012, 136.9733, 5135,   2022.8,   2.1599,  34.6345,2,-999.0000,9,    115.9,2,   138.37,2,    38.28,2,     0.00,2,     2.69,2,   -999.0,9,   -999.0,9,-999.0000,9,  -999.00,     2130
  49UF20110617,  PR02,  3037,  1,     14,  21973,2,20110626,2023, 11.0012, 136.9733, 5135,   2276.4,   1.9650,  34.6453,2,-999.0000,9,    122.2,2,   142.07,2,    38.06,2,     0.00,2,     2.66,2,   -999.0,9,   -999.0,9,-999.0000,9,  -999.00,     2125
  49UF20110617,  PR02,  3037,  1,     13,  21972,2,20110626,2023, 11.0012, 136.9733, 5135,   2529.3,   1.8375,  34.6531,2,-999.0000,9,    127.9,2,   144.48,2,    37.72,2,     0.00,2,     2.63,2,   -999.0,9,   -999.0,9,-999.0000,9,  -999.00,     2119
  49UF20110617,  PR02,  3037,  1,     12,  21971,2,20110626,2023, 11.0012, 136.9733, 5135,   2784.0,   1.6882,  34.6624,2,-999.0000,9,    134.9,2,   144.82,2,    37.20,2,     0.00,2,     2.59,2,   -999.0,9,   -999.0,9,-999.0000,9,  -999.00,     2114
  49UF20110617,  PR02,  3037,  1,     11,  21970,2,20110626,2023, 11.0012, 136.9733, 5135,   3038.9,   1.6205,  34.6684,2,-999.0000,9,    140.5,2,   143.95,2,    36.79,2,     0.00,2,     2.57,2,   -999.0,9,   -999.0,9,-999.0000,9,  -999.00,     2109
  49UF20110617,  PR02,  3037,  1,     10,  21969,2,20110626,2023, 11.0012, 136.9733, 5135,   3293.6,   1.5742,  34.6733,2,-999.0000,9,    145.8,2,   142.91,2,    36.48,2,     0.00,2,     2.54,2,   -999.0,9,   -999.0,9,-999.0000,9,  -999.00,     2104
  49UF20110617,  PR02,  3037,  1,      9,  21968,2,20110626,2023, 11.0012, 136.9733, 5135,   3550.1,   1.5419,  34.6774,2,-999.0000,9,    153.3,3,   141.16,2,    35.97,2,     0.00,2,     2.50,2,   -999.0,9,   -999.0,9,-999.0000,9,  -999.00,     2058
  49UF20110617,  PR02,  3037,  1,      8,  21967,2,20110626,2023, 11.0012, 136.9733, 5135,   3806.3,   1.5355,  34.6799,2,-999.0000,9,    156.6,3,   140.35,2,    35.76,2,     0.00,2,     2.47,2,   -999.0,9,   -999.0,9,-999.0000,9,  -999.00,     2053
  49UF20110617,  PR02,  3037,  1,      7,  21966,2,20110626,2023, 11.0012, 136.9733, 5135,   4062.9,   1.5194,  34.6833,2,-999.0000,9,    160.2,3,   138.90,2,    35.51,2,     0.00,2,     2.46,2,   -999.0,9,   -999.0,9,-999.0000,9,  -999.00,     2047
  49UF20110617,  PR02,  3037,  1,      6,  21965,2,20110626,2023, 11.0012, 136.9733, 5135,   4319.0,   1.5120,  34.6858,2,-999.0000,9,    162.5,3,   138.91,2,    35.41,2,     0.00,2,     2.46,2,   -999.0,9,   -999.0,9,-999.0000,9,  -999.00,     2041
  49UF20110617,  PR02,  3037,  1,      5,  21964,2,20110626,2023, 11.0012, 136.9733, 5135,   4576.1,   1.5270,  34.6868,2,-999.0000,9,    162.2,2,   138.84,2,    35.47,2,     0.00,2,     2.46,2,   -999.0,9,   -999.0,9,-999.0000,9,  -999.00,     2036
  49UF20110617,  PR02,  3037,  1,      4,  21963,2,20110626,2023, 11.0012, 136.9733, 5135,   4576.1,   1.5270,  34.6868,2,-999.0000,9,    162.3,2,   138.57,6,    35.46,6,     0.00,6,     2.45,6,   -999.0,9,   -999.0,9,-999.0000,9,  -999.00,     2036
  49UF20110617,  PR02,  3037,  1,      3,  21962,2,20110626,2023, 11.0012, 136.9733, 5135,   4830.2,   1.5437,  34.6880,2,-999.0000,9,    163.5,2,   138.28,2,    35.40,2,     0.00,2,     2.44,2,   -999.0,9,   -999.0,9,-999.0000,9,  -999.00,     2030
  49UF20110617,  PR02,  3037,  1,      2,  21961,2,20110626,2023, 11.0012, 136.9733, 5135,   5090.8,   1.5696,  34.6883,2,-999.0000,9,    164.2,2,   138.61,2,    35.34,2,     0.00,2,     2.44,2,   -999.0,9,   -999.0,9,-999.0000,9,  -999.00,     2025
  49UF20110617,  PR02,  3037,  1,      1,  21960,2,20110626,2023, 11.0012, 136.9733, 5135,   5137.1,   1.5755,  34.6882,2,-999.0000,9,    164.8,2,   137.68,2,    35.25,2,     0.00,2,     2.43,2,   -999.0,9,   -999.0,9,-999.0000,9,  -999.00,     2023