BOTTLE,20191015PRINUNIVRMK
EXPOCODE,SECT_ID,STNNBR,CASTNO,SAMPNO,BTLNBR,BTLNBR_FLAG_W,DATE,TIME,LATITUDE,LONGITUDE,DEPTH,CTDPRS,CTDTMP,CTDSAL,CTDSAL_FLAG_W,SALNTY,SALNTY_FLAG_W,OXYGEN,OXYGEN_FLAG_W,SILCAT,SILCAT_FLAG_W,NITRAT,NITRAT_FLAG_W,NITRIT,NITRIT_FLAG_W,PHSPHT,PHSPHT_FLAG_W,TCARBN,TCARBN_FLAG_W,ALKALI,ALKALI_FLAG_W,PH_TOT,PH_TOT_FLAG_W,PH_TMP,BTL_TIME
,,,,,,,,,,,METERS,DBAR,ITS-90,PSS-78,,PSS-78,,UMOL/KG,,UMOL/KG,,UMOL/KG,,UMOL/KG,,UMOL/KG,,UMOL/KG,,UMOL/KG,,,,DEG C,
  49UF20110617,  PR02,  3022,  1,     99,     99,2,20110621,1415, 26.0175, 136.9813, 5552,      0.0,  29.5553,  35.0246,2,-999.0000,9,    196.2,2,     1.41,2,     0.02,2,     0.00,2,     0.01,2,   -999.0,9,   -999.0,9,-999.0000,9,  -999.00,     1500
  49UF20110617,  PR02,  3022,  1,     36,  21995,2,20110621,1415, 26.0175, 136.9813, 5552,     11.2,  29.5614,  35.0217,2,-999.0000,9,    196.4,2,     1.37,2,     0.00,2,     0.00,2,     0.00,2,   1974.8,2,   2294.1,2,   8.0443,4,    25.00,     1525
  49UF20110617,  PR02,  3022,  1,     35,  21994,2,20110621,1415, 26.0175, 136.9813, 5552,     11.2,  29.5614,  35.0217,2,-999.0000,9,    196.4,6,     1.37,6,     0.00,6,     0.00,6,     0.00,6,   1974.4,2,   2295.3,2,   8.0156,4,    25.00,     1525
  49UF20110617,  PR02,  3022,  1,     34,  21993,2,20110621,1415, 26.0175, 136.9813, 5552,     26.4,  23.6940,  34.9454,2,-999.0000,9,    226.5,2,     1.51,2,     0.00,2,     0.00,2,     0.00,2,   1979.8,2,   2290.2,2,-999.0000,5,  -999.00,     1523
  49UF20110617,  PR02,  3022,  1,     30,  21989,2,20110621,1415, 26.0175, 136.9813, 5552,     49.6,  21.4236,  34.9017,2,-999.0000,9,    228.4,2,     1.63,2,     0.00,2,     0.00,2,     0.01,2,   1984.3,2,   2288.2,2,   8.0139,4,    25.00,     1518
  49UF20110617,  PR02,  3022,  1,     29,  21988,2,20110621,1415, 26.0175, 136.9813, 5552,     76.2,  20.1604,  34.8421,2,-999.0000,9,    223.1,2,     1.87,2,     0.02,2,     0.00,2,     0.02,2,   1994.7,2,   2285.7,2,   7.9952,4,    25.00,     1517
  49UF20110617,  PR02,  3022,  1,     28,  21987,2,20110621,1415, 26.0175, 136.9813, 5552,    101.7,  19.7431,  34.8238,2,-999.0000,9,    214.7,2,     2.04,2,     0.19,2,     0.05,2,     0.04,2,   2004.6,2,   2284.1,2,   7.9794,4,    25.00,     1515
  49UF20110617,  PR02,  3022,  1,     27,  21986,2,20110621,1415, 26.0175, 136.9813, 5552,    125.0,  19.4272,  34.8002,2,-999.0000,9,    208.0,2,     2.31,2,     1.27,2,     0.10,2,     0.11,2,   2010.9,2,   2277.9,2,   7.9695,4,    25.00,     1514
  49UF20110617,  PR02,  3022,  1,     26,  21985,2,20110621,1415, 26.0175, 136.9813, 5552,    150.6,  18.8854,  34.7604,2,-999.0000,9,    203.4,2,     2.80,2,     2.49,2,     0.04,2,     0.18,2,   2017.6,2,   2276.7,2,   7.9542,4,    25.00,     1512
  49UF20110617,  PR02,  3022,  1,     25,  21984,2,20110621,1415, 26.0175, 136.9813, 5552,    202.7,  17.8990,  34.7141,2,-999.0000,9,    201.0,2,     3.76,2,     4.25,2,     0.01,2,     0.28,2,   2028.5,2,   2277.9,2,   7.9171,4,    25.00,     1510
  49UF20110617,  PR02,  3022,  1,     21,  21980,2,20110621,1415, 26.0175, 136.9813, 5552,    249.6,  17.1928,  34.6930,2,-999.0000,9,    194.4,2,     5.32,2,     5.98,2,     0.01,2,     0.41,2,   2042.1,2,   2276.1,2,   7.9046,4,    25.00,     1508
  49UF20110617,  PR02,  3022,  1,     20,  21979,2,20110621,1415, 26.0175, 136.9813, 5552,    302.9,  16.1671,  34.6491,2,-999.0000,9,    188.9,2,     7.54,2,     7.93,2,     0.01,2,     0.54,2,   2056.6,2,   2277.4,2,   7.8716,4,    25.00,     1506
  49UF20110617,  PR02,  3022,  1,     19,  21978,2,20110621,1415, 26.0175, 136.9813, 5552,    404.4,  13.8975,  34.4989,2,-999.0000,9,    184.9,6,    13.75,6,    11.91,6,     0.00,6,     0.83,6,   2085.9,2,   2274.3,2,   7.7967,4,    25.00,     1502
  49UF20110617,  PR02,  3022,  1,     15,  21974,2,20110621,1415, 26.0175, 136.9813, 5552,    504.9,  11.1821,  34.3026,2,-999.0000,9,    181.1,2,    22.29,2,    16.65,2,     0.00,2,     1.18,2,   2119.7,2,   2272.2,2,   7.7202,4,    25.00,     1459
  49UF20110617,  PR02,  3022,  1,     14,  21973,2,20110621,1415, 26.0175, 136.9813, 5552,    606.2,   8.1092,  34.1690,2,-999.0000,9,    143.9,2,    47.17,2,    25.60,2,     0.00,2,     1.84,2,   2189.3,2,   2287.1,2,   7.5893,4,    25.00,     1455
  49UF20110617,  PR02,  3022,  1,     13,  21972,2,20110621,1415, 26.0175, 136.9813, 5552,    606.2,   8.1092,  34.1690,2,-999.0000,9,    144.0,6,    47.06,6,    25.55,6,     0.00,6,     1.83,6,   2187.1,2,   2286.7,2,   7.5886,4,    25.00,     1455
  49UF20110617,  PR02,  3022,  1,     12,  21971,2,20110621,1415, 26.0175, 136.9813, 5552,    709.8,   6.2640,  34.1429,2,-999.0000,9,    110.2,2,    68.86,2,    31.92,2,     0.00,2,     2.31,2,   2245.5,2,   2300.3,2,   7.4778,4,    25.00,     1452
  49UF20110617,  PR02,  3022,  1,     11,  21970,2,20110621,1415, 26.0175, 136.9813, 5552,    808.0,   5.1389,  34.1860,2,-999.0000,9,     81.2,2,    87.83,2,    36.29,2,     0.00,2,     2.62,2,   2283.0,2,   2318.9,2,   7.4165,4,    25.00,     1448
  49UF20110617,  PR02,  3022,  1,     10,  21969,2,20110621,1415, 26.0175, 136.9813, 5552,    911.7,   4.4733,  34.2536,2,-999.0000,9,     64.4,2,   101.74,2,    38.77,2,     0.00,2,     2.80,2,   2309.7,6,   2335.0,6,   7.3794,4,    25.00,     1445
  49UF20110617,  PR02,  3022,  1,      9,  21968,2,20110621,1415, 26.0175, 136.9813, 5552,   1012.0,   3.9208,  34.3221,2,-999.0000,9,     61.2,3,   114.82,2,    40.21,2,     0.00,2,     2.90,2,   2329.3,2,   2350.5,2,   7.3777,4,    25.00,     1441
  49UF20110617,  PR02,  3022,  1,      8,  21967,2,20110621,1415, 26.0175, 136.9813, 5552,   1214.3,   3.1372,  34.4292,2,-999.0000,9,     55.4,2,   133.00,2,    41.18,2,     0.00,2,     2.95,2,   2350.2,2,   2374.5,2,   7.3747,4,    25.00,     1435
  49UF20110617,  PR02,  3022,  1,      7,  21966,2,20110621,1415, 26.0175, 136.9813, 5552,   1416.7,   2.6911,  34.4959,2,-999.0000,9,     65.2,2,   141.82,2,    40.97,2,     0.00,2,     2.92,2,   2359.4,2,   2390.0,2,   7.3956,4,    25.00,     1430
  49UF20110617,  PR02,  3022,  1,      3,  21962,4,20110621,1415, 26.0175, 136.9813, 5552,   1616.4,   2.3624,  34.5442,2,-999.0000,9,     64.8,4,   142.16,4,    41.09,4,     0.00,4,     2.94,4,   2356.3,4,   2388.1,4,   7.4008,4,    25.00,     1425
  49UF20110617,  PR02,  3022,  1,      2,  21961,2,20110621,1415, 26.0175, 136.9813, 5552,   1815.3,   2.1474,  34.5807,2,-999.0000,9,     94.0,2,   146.72,2,    39.62,2,     0.00,2,     2.81,2,   2351.3,6,   2403.2,2,   7.4464,4,    25.00,     1420
  49UF20110617,  PR02,  3022,  1,      1,  21960,2,20110621,1415, 26.0175, 136.9813, 5552,   2021.3,   1.9773,  34.6089,2,-999.0000,9,    109.0,2,   146.27,2,    38.72,2,     0.00,2,     2.74,2,   2343.5,2,   2406.9,2,   7.4752,4,    25.00,     1415
  49UF20110617,  PR02,  3023,  1,     99,     99,2,20110621,2126, 25.0063, 136.9823, 5365,      0.0,  29.5772,  34.9731,2,-999.0000,9,    195.7,2,     1.10,2,     0.01,2,     0.00,2,     0.01,2,   -999.0,9,   -999.0,9,-999.0000,9,  -999.00,     2214
  49UF20110617,  PR02,  3023,  1,     36,  21995,2,20110621,2126, 25.0063, 136.9823, 5365,     11.2,  29.5775,  34.9734,2,  34.9716,2,    195.6,2,     1.03,2,     0.01,2,     0.00,2,     0.00,2,   1961.7,2,   2291.9,2,   8.0622,4,    25.00,     2226
  49UF20110617,  PR02,  3023,  1,     35,  21994,2,20110621,2126, 25.0063, 136.9823, 5365,     26.8,  29.5108,  34.9664,2,-999.0000,9,    196.2,2,     1.08,2,     0.04,2,     0.00,2,     0.01,2,   1961.0,2,   2288.1,2,   8.0515,4,    25.00,     2224
  49UF20110617,  PR02,  3023,  1,     34,  21993,2,20110621,2126, 25.0063, 136.9823, 5365,     50.2,  24.8279,  35.0745,2,-999.0000,9,    216.1,2,     1.17,2,     0.00,2,     0.00,2,     0.01,2,   1971.4,2,   2299.2,2,   8.0598,4,    25.00,     2220
  49UF20110617,  PR02,  3023,  1,     30,  21989,2,20110621,2126, 25.0063, 136.9823, 5365,     76.0,  23.1462,  34.9701,2,-999.0000,9,    218.2,2,     1.40,2,     0.00,2,     0.00,2,     0.00,2,   1978.6,2,   2291.2,2,   8.0379,4,    25.00,     2219
  49UF20110617,  PR02,  3023,  1,     29,  21988,2,20110621,2126, 25.0063, 136.9823, 5365,    101.8,  21.7093,  34.9278,2,  34.9255,2,    224.0,2,     1.58,2,     0.03,2,     0.00,2,     0.00,2,   1984.4,2,   2289.0,2,   8.0192,4,    25.00,     2217
  49UF20110617,  PR02,  3023,  1,     28,  21987,4,20110621,2126, 25.0063, 136.9823, 5365,    126.8,  20.7013,  34.8692,2,-999.0000,9,   -999.0,9,  -999.00,9,  -999.00,9,  -999.00,9,  -999.00,9,   -999.0,9,   -999.0,9,-999.0000,9,  -999.00,     2216
  49UF20110617,  PR02,  3023,  1,     27,  21986,2,20110621,2126, 25.0063, 136.9823, 5365,    152.2,  20.0368,  34.8202,2,-999.0000,9,    212.0,2,     1.98,2,     0.49,2,     0.11,2,     0.06,2,   2002.3,2,   2284.0,2,   7.9796,4,    25.00,     2215
  49UF20110617,  PR02,  3023,  1,     26,  21985,2,20110621,2126, 25.0063, 136.9823, 5365,    205.3,  18.5695,  34.7424,2,  34.7418,2,    196.0,2,     3.25,2,     3.56,2,     0.01,2,     0.24,2,   2030.2,2,   2278.0,2,   7.9338,4,    25.00,     2213
  49UF20110617,  PR02,  3023,  1,     25,  21984,2,20110621,2126, 25.0063, 136.9823, 5365,    253.4,  17.5669,  34.7130,2,-999.0000,9,    194.9,2,     4.32,2,     5.14,2,     0.01,2,     0.34,2,   2039.4,2,   2277.1,2,   7.9065,4,    25.00,     2211
  49UF20110617,  PR02,  3023,  1,     21,  21980,2,20110621,2126, 25.0063, 136.9823, 5365,    303.6,  16.3636,  34.6596,2,-999.0000,9,    191.9,2,     6.79,2,     7.48,2,     0.00,2,     0.50,2,   2055.0,2,   2275.4,2,   7.8653,4,    25.00,     2209
  49UF20110617,  PR02,  3023,  1,     20,  21979,2,20110621,2126, 25.0063, 136.9823, 5365,    403.8,  13.8018,  34.4915,2,  34.4927,2,    185.1,2,    14.21,2,    12.10,2,     0.00,2,     0.84,2,   2087.1,2,   2272.1,2,   7.8067,4,    25.00,     2206
  49UF20110617,  PR02,  3023,  1,     19,  21978,2,20110621,2126, 25.0063, 136.9823, 5365,    403.8,  13.8018,  34.4915,2,  34.4926,6,    185.6,6,    14.22,6,    12.12,6,     0.00,6,     0.84,6,   2089.6,2,   2273.6,2,   7.7869,4,    25.00,     2206
  49UF20110617,  PR02,  3023,  1,     15,  21974,2,20110621,2126, 25.0063, 136.9823, 5365,    504.8,  11.0905,  34.3039,2,-999.0000,9,    175.9,2,    24.19,2,    17.29,2,     0.00,2,     1.23,2,   2128.1,2,   2272.2,6,   7.7135,4,    25.00,     2203
  49UF20110617,  PR02,  3023,  1,     14,  21973,2,20110621,2126, 25.0063, 136.9823, 5365,    606.9,   8.6823,  34.1804,2,  34.1824,2,    150.2,2,    41.37,2,    24.04,2,     0.00,2,     1.74,2,   2177.3,2,   2278.3,2,   7.6005,4,    25.00,     2201
  49UF20110617,  PR02,  3023,  1,     13,  21972,2,20110621,2126, 25.0063, 136.9823, 5365,    707.3,   6.5534,  34.1334,2,-999.0000,9,    112.9,2,    64.18,2,    31.12,2,     0.00,2,     2.25,2,   2236.3,2,   2298.4,2,   7.4886,4,    25.00,     2158
  49UF20110617,  PR02,  3023,  1,     12,  21971,2,20110621,2126, 25.0063, 136.9823, 5365,    811.2,   5.1982,  34.1806,2,  34.1800,2,     82.3,2,    86.26,2,    36.03,2,     0.00,2,     2.61,2,   2284.4,2,   2320.9,2,-999.0000,5,  -999.00,     2155
  49UF20110617,  PR02,  3023,  1,     11,  21970,2,20110621,2126, 25.0063, 136.9823, 5365,    910.9,   4.3062,  34.2659,2,-999.0000,9,     61.6,2,   106.22,2,    39.19,2,     0.00,2,     2.83,2,   2319.6,2,   2339.9,2,   7.4019,4,    25.00,     2152
  49UF20110617,  PR02,  3023,  1,     10,  21969,2,20110621,2126, 25.0063, 136.9823, 5365,   1012.0,   3.7511,  34.3453,2,  34.3438,2,     54.4,6,   118.96,6,    40.64,6,     0.00,6,     2.92,6,   2337.4,2,   2358.5,2,   7.3609,4,    25.00,     2149
  49UF20110617,  PR02,  3023,  1,      9,  21968,2,20110621,2126, 25.0063, 136.9823, 5365,   1212.9,   3.0514,  34.4450,2,  34.4457,2,     57.2,2,   135.14,2,    41.36,2,     0.00,2,     2.96,2,   2351.7,2,   2378.6,2,   7.3749,4,    25.00,     2144
  49UF20110617,  PR02,  3023,  1,      8,  21967,2,20110621,2126, 25.0063, 136.9823, 5365,   1416.8,   2.6257,  34.5101,2,  34.5104,2,     71.7,2,   141.95,2,    40.67,2,     0.00,2,     2.90,2,   2351.7,2,   2390.0,2,   7.4040,4,    25.00,     2140
  49UF20110617,  PR02,  3023,  1,      7,  21966,2,20110621,2126, 25.0063, 136.9823, 5365,   1619.4,   2.3161,  34.5575,2,  34.5573,2,     88.3,2,   143.94,2,    39.71,2,     0.00,2,     2.83,2,   2347.4,2,   2397.6,2,   7.4352,4,    25.00,     2135
  49UF20110617,  PR02,  3023,  1,      3,  21962,2,20110621,2126, 25.0063, 136.9823, 5365,   1820.0,   2.1373,  34.5883,2,  34.5890,2,    101.9,2,   144.47,2,    38.91,2,     0.00,2,     2.77,2,   2346.2,2,   2401.4,2,   7.4615,4,    25.00,     2131
  49UF20110617,  PR02,  3023,  1,      2,  21961,2,20110621,2126, 25.0063, 136.9823, 5365,   2022.5,   1.9859,  34.6128,2,  34.6134,2,    112.9,2,   144.24,2,    38.35,2,     0.00,2,     2.71,2,   2340.9,2,   2406.8,2,   7.4722,4,    25.00,     2126
  49UF20110617,  PR02,  3023,  1,      1,  21960,2,20110621,2126, 25.0063, 136.9823, 5365,   2022.5,   1.9859,  34.6128,2,  34.6136,2,    113.0,6,   144.27,6,    38.35,6,     0.00,6,     2.71,6,   2342.7,6,   2406.1,6,   7.4795,4,    25.00,     2126
  49UF20110617,  PR02,  3024,  1,     99,     99,2,20110622,0423, 23.9943, 137.0025, 3881,      0.0,  29.8808,  34.9393,2,-999.0000,9,    194.8,2,     0.94,2,     0.04,2,     0.00,2,     0.02,2,   -999.0,9,   -999.0,9,-999.0000,9,  -999.00,      505
  49UF20110617,  PR02,  3024,  1,     33,  21992,2,20110622,0423, 23.9943, 137.0025, 3881,     12.8,  29.8761,  34.9395,2,-999.0000,9,    195.3,2,     0.87,2,     0.02,2,     0.00,2,     0.01,2,   1953.4,2,   2291.5,2,   8.0744,4,    25.00,      526
  49UF20110617,  PR02,  3024,  1,     32,  21991,2,20110622,0423, 23.9943, 137.0025, 3881,     26.4,  28.1703,  34.9352,2,-999.0000,9,    203.0,2,     1.03,2,     0.03,2,     0.00,2,     0.01,2,   1958.8,2,   2288.1,2,   8.0653,4,    25.00,      524
  49UF20110617,  PR02,  3024,  1,     31,  21990,2,20110622,0423, 23.9943, 137.0025, 3881,     51.2,  24.8052,  35.0875,2,-999.0000,9,    215.4,2,     0.94,2,     0.04,2,     0.00,2,     0.01,2,   1968.1,2,   2304.2,2,   8.0680,4,    25.00,      522
  49UF20110617,  PR02,  3024,  1,     30,  21989,2,20110622,0423, 23.9943, 137.0025, 3881,     76.1,  23.2436,  34.9521,2,-999.0000,9,    216.7,2,     1.17,2,     0.05,2,     0.00,2,     0.01,2,   1976.6,2,   2295.0,2,   8.0398,4,    25.00,      520
  49UF20110617,  PR02,  3024,  1,     29,  21988,2,20110622,0423, 23.9943, 137.0025, 3881,    101.9,  21.7941,  34.8790,2,-999.0000,9,    220.4,2,     1.41,2,     0.00,2,     0.00,2,     0.01,2,   1984.7,2,   2287.3,2,   7.9990,4,    25.00,      518
  49UF20110617,  PR02,  3024,  1,     28,  21987,2,20110622,0423, 23.9943, 137.0025, 3881,    126.2,  20.9323,  34.8419,2,-999.0000,9,    214.9,2,     1.55,2,     0.04,2,     0.00,2,     0.02,2,   1994.5,2,   2284.1,2,   8.0047,4,    25.00,      513
  49UF20110617,  PR02,  3024,  1,     24,  21983,2,20110622,0423, 23.9943, 137.0025, 3881,    150.6,  20.3897,  34.8188,2,-999.0000,9,    206.0,2,     1.83,2,     0.94,2,     0.11,2,     0.08,2,   2002.9,2,   2283.7,2,   7.9916,4,    25.00,      511
  49UF20110617,  PR02,  3024,  1,     23,  21982,2,20110622,0423, 23.9943, 137.0025, 3881,    204.0,  19.0249,  34.7591,2,-999.0000,9,    200.0,2,     2.70,2,     2.90,2,     0.01,2,     0.20,2,   2019.6,2,   2278.2,2,   7.9419,4,    25.00,      509
  49UF20110617,  PR02,  3024,  1,     22,  21981,2,20110622,0423, 23.9943, 137.0025, 3881,    251.3,  18.0478,  34.7252,2,-999.0000,9,    194.8,2,     3.77,2,     4.67,2,     0.01,2,     0.31,2,   2033.6,2,   2274.8,2,   7.9264,4,    25.00,      507
  49UF20110617,  PR02,  3024,  1,     18,  21977,2,20110622,0423, 23.9943, 137.0025, 3881,    303.5,  17.1483,  34.6904,2,-999.0000,9,    195.4,2,     5.06,2,     5.98,2,     0.01,2,     0.40,2,   2042.4,2,   2277.9,2,   7.9048,4,    25.00,      505
  49UF20110617,  PR02,  3024,  1,     17,  21976,2,20110622,0423, 23.9943, 137.0025, 3881,    303.5,  17.1483,  34.6904,2,-999.0000,9,    195.2,6,     5.12,6,     6.02,6,     0.01,6,     0.41,6,   2042.8,2,   2275.8,2,   7.8965,4,    25.00,      505
  49UF20110617,  PR02,  3024,  1,     16,  21975,2,20110622,0423, 23.9943, 137.0025, 3881,    407.1,  14.8832,  34.5669,2,-999.0000,9,    185.0,2,    10.83,2,    10.35,2,     0.00,2,     0.71,2,   2073.8,2,   2274.2,2,   7.8213,4,    25.00,      502
  49UF20110617,  PR02,  3024,  1,     15,  21974,2,20110622,0423, 23.9943, 137.0025, 3881,    505.1,  12.1159,  34.3871,2,-999.0000,9,    173.4,2,    22.53,2,    16.12,2,     0.00,2,     1.14,2,   2116.9,2,   2271.5,2,   7.7323,4,    25.00,      459
  49UF20110617,  PR02,  3024,  1,     14,  21973,2,20110622,0423, 23.9943, 137.0025, 3881,    604.3,   8.8379,  34.2003,2,-999.0000,9,    149.0,2,    42.10,2,    23.99,2,     0.00,2,     1.73,2,   2174.5,6,   2281.6,6,   7.6254,4,    25.00,      456
  49UF20110617,  PR02,  3024,  1,     13,  21972,2,20110622,0423, 23.9943, 137.0025, 3881,    704.5,   7.1283,  34.1531,2,-999.0000,9,    125.6,2,    59.56,2,    29.16,2,     0.00,2,     2.12,2,   2222.3,2,   2296.3,2,   7.5229,4,    25.00,      453
  49UF20110617,  PR02,  3024,  1,     12,  21971,2,20110622,0423, 23.9943, 137.0025, 3881,    804.1,   5.4600,  34.1713,2,-999.0000,9,     86.6,2,    82.43,2,    35.56,2,     0.00,2,     2.59,2,   2273.1,2,   2315.7,2,   7.4099,4,    25.00,      451
  49UF20110617,  PR02,  3024,  1,     11,  21970,2,20110622,0423, 23.9943, 137.0025, 3881,    906.7,   4.6547,  34.2574,2,-999.0000,9,     64.1,6,    98.59,6,    38.83,6,     0.00,6,     2.82,6,   2308.1,2,   2334.9,2,   7.3838,4,    25.00,      448
  49UF20110617,  PR02,  3024,  1,     10,  21969,2,20110622,0423, 23.9943, 137.0025, 3881,   1011.7,   4.0637,  34.3346,2,-999.0000,9,     57.5,2,   111.50,2,    40.27,2,     0.00,2,     2.92,2,   2328.2,6,   2351.6,2,   7.3823,4,    25.00,      445
  49UF20110617,  PR02,  3024,  1,      6,  21965,2,20110622,0423, 23.9943, 137.0025, 3881,   1211.8,   3.3569,  34.4220,2,-999.0000,9,     57.8,2,   127.48,2,    41.12,2,     0.00,2,     2.96,2,   2346.4,2,   2371.7,2,   7.3753,4,    25.00,      441
  49UF20110617,  PR02,  3024,  1,      5,  21964,2,20110622,0423, 23.9943, 137.0025, 3881,   1412.5,   2.7254,  34.5117,2,-999.0000,9,     74.6,2,   138.53,2,    40.47,2,     0.00,2,     2.90,2,   2351.1,2,   2387.6,2,   7.4161,4,    25.00,      436
  49UF20110617,  PR02,  3024,  1,      4,  21963,2,20110622,0423, 23.9943, 137.0025, 3881,   1617.7,   2.4365,  34.5597,2,-999.0000,9,     91.1,2,   141.21,2,    39.58,2,     0.00,2,     2.83,2,   2349.3,2,   2395.5,2,   7.3523,4,    25.00,      432
  49UF20110617,  PR02,  3024,  1,      3,  21962,2,20110622,0423, 23.9943, 137.0025, 3881,   1820.4,   2.2352,  34.5890,2,-999.0000,9,    103.0,2,   142.31,2,    39.05,2,     0.00,2,     2.78,2,   2345.1,2,   2402.1,2,   7.4550,4,    25.00,      427
  49UF20110617,  PR02,  3024,  1,      2,  21961,2,20110622,0423, 23.9943, 137.0025, 3881,   1820.4,   2.2352,  34.5890,2,-999.0000,9,    102.8,6,   142.31,6,    38.93,6,     0.00,6,     2.78,6,   2343.0,2,   2400.1,2,   7.4669,4,    25.00,      427
  49UF20110617,  PR02,  3024,  1,      1,  21960,2,20110622,0423, 23.9943, 137.0025, 3881,   2033.8,   2.0195,  34.6149,2,-999.0000,9,    113.9,2,   143.47,2,    38.47,2,     0.00,2,     2.73,2,   2341.6,2,   2404.9,2,   7.4906,4,    25.00,      423