BOTTLE,20191015PRINUNIVRMK
EXPOCODE,SECT_ID,STNNBR,CASTNO,SAMPNO,BTLNBR,BTLNBR_FLAG_W,DATE,TIME,LATITUDE,LONGITUDE,DEPTH,CTDPRS,CTDTMP,CTDSAL,CTDSAL_FLAG_W,SALNTY,SALNTY_FLAG_W,OXYGEN,OXYGEN_FLAG_W,SILCAT,SILCAT_FLAG_W,NITRAT,NITRAT_FLAG_W,NITRIT,NITRIT_FLAG_W,PHSPHT,PHSPHT_FLAG_W,TCARBN,TCARBN_FLAG_W,ALKALI,ALKALI_FLAG_W,PH_TOT,PH_TOT_FLAG_W,PH_TMP,BTL_TIME
,,,,,,,,,,,METERS,DBAR,ITS-90,PSS-78,,PSS-78,,UMOL/KG,,UMOL/KG,,UMOL/KG,,UMOL/KG,,UMOL/KG,,UMOL/KG,,UMOL/KG,,,,DEG C,
  49UF20110617,  PR02,  3062,  1,     99,     99,2,20110726,0825, 28.2680, 127.1427,  978,      0.0,  29.3415,  34.2526,2,-999.0000,9,    197.5,2,     1.42,2,     0.03,2,     0.00,2,     0.03,2,   -999.0,9,   -999.0,9,-999.0000,9,  -999.00,      843
  49UF20110617,  PR02,  3062,  1,     32,  21991,2,20110726,0825, 28.2680, 127.1427,  978,     11.5,  29.3371,  34.2534,2,  34.2535,2,    197.6,2,     1.31,2,     0.00,2,     0.00,2,     0.01,2,   -999.0,9,   -999.0,9,-999.0000,9,  -999.00,      858
  49UF20110617,  PR02,  3062,  1,     31,  21990,2,20110726,0825, 28.2680, 127.1427,  978,     21.3,  28.8594,  34.2787,2,-999.0000,9,    202.1,2,     1.22,2,     0.00,2,     0.00,2,     0.00,2,   -999.0,9,   -999.0,9,-999.0000,9,  -999.00,      857
  49UF20110617,  PR02,  3062,  1,     30,  21989,2,20110726,0825, 28.2680, 127.1427,  978,     31.9,  28.2244,  34.4044,2,-999.0000,9,    204.8,2,     1.17,2,     0.00,2,     0.00,2,     0.00,2,   -999.0,9,   -999.0,9,-999.0000,9,  -999.00,      856
  49UF20110617,  PR02,  3062,  1,     29,  21988,2,20110726,0825, 28.2680, 127.1427,  978,     51.0,  26.7474,  34.4863,2,-999.0000,9,    206.1,2,     1.32,2,     0.00,2,     0.00,2,     0.01,2,   -999.0,9,   -999.0,9,-999.0000,9,  -999.00,      854
  49UF20110617,  PR02,  3062,  1,     28,  21987,2,20110726,0825, 28.2680, 127.1427,  978,     75.3,  25.4723,  34.7530,2,-999.0000,9,    207.3,2,     1.17,2,     0.00,2,     0.00,2,     0.02,2,   -999.0,9,   -999.0,9,-999.0000,9,  -999.00,      852
  49UF20110617,  PR02,  3062,  1,     27,  21986,2,20110726,0825, 28.2680, 127.1427,  978,    100.8,  24.2808,  34.8236,2,  34.8260,2,    204.4,2,     1.25,2,     0.03,2,     0.03,2,     0.03,2,   -999.0,9,   -999.0,9,-999.0000,9,  -999.00,      851
  49UF20110617,  PR02,  3062,  1,     26,  21985,2,20110726,0825, 28.2680, 127.1427,  978,    127.8,  22.4611,  34.8413,2,-999.0000,9,    199.2,2,     1.63,2,     0.84,2,     0.10,2,     0.09,2,   -999.0,9,   -999.0,9,-999.0000,9,  -999.00,      850
  49UF20110617,  PR02,  3062,  1,     25,  21984,2,20110726,0825, 28.2680, 127.1427,  978,    152.5,  21.5561,  34.7990,2,-999.0000,9,    189.5,2,     2.85,2,     2.54,2,     0.04,2,     0.20,2,   -999.0,9,   -999.0,9,-999.0000,9,  -999.00,      849
  49UF20110617,  PR02,  3062,  1,     18,  21977,2,20110726,0825, 28.2680, 127.1427,  978,    202.7,  19.8448,  34.7116,2,  34.7115,2,    182.4,2,     6.18,2,     5.16,2,     0.04,2,     0.38,2,   -999.0,9,   -999.0,9,-999.0000,9,  -999.00,      847
  49UF20110617,  PR02,  3062,  1,     17,  21976,2,20110726,0825, 28.2680, 127.1427,  978,    252.4,  17.8552,  34.6720,2,-999.0000,9,    178.7,2,     9.21,2,     7.48,2,     0.02,2,     0.53,2,   -999.0,9,   -999.0,9,-999.0000,9,  -999.00,      845
  49UF20110617,  PR02,  3062,  1,     16,  21975,2,20110726,0825, 28.2680, 127.1427,  978,    305.0,  14.6771,  34.5476,2,-999.0000,9,    163.6,2,    18.92,2,    13.24,2,     0.01,2,     0.94,2,   -999.0,9,   -999.0,9,-999.0000,9,  -999.00,      843
  49UF20110617,  PR02,  3062,  1,     12,  21971,2,20110726,0825, 28.2680, 127.1427,  978,    406.8,  10.7757,  34.4054,2,  34.4073,2,    139.2,2,    39.03,2,    21.42,2,     0.00,2,     1.53,2,   -999.0,9,   -999.0,9,-999.0000,9,  -999.00,      840
  49UF20110617,  PR02,  3062,  1,     11,  21970,2,20110726,0825, 28.2680, 127.1427,  978,    506.3,   8.1774,  34.3374,2,-999.0000,9,    115.0,2,    60.19,2,    28.25,2,     0.00,2,     2.01,2,   -999.0,9,   -999.0,9,-999.0000,9,  -999.00,      837
  49UF20110617,  PR02,  3062,  1,     10,  21969,2,20110726,0825, 28.2680, 127.1427,  978,    506.3,   8.1774,  34.3374,2,-999.0000,9,    114.5,6,    60.19,6,    28.27,6,     0.00,6,     2.02,6,   -999.0,9,   -999.0,9,-999.0000,9,  -999.00,      837
  49UF20110617,  PR02,  3062,  1,      9,  21968,2,20110726,0825, 28.2680, 127.1427,  978,    606.0,   6.9700,  34.3461,2,  34.3454,6,    102.0,2,    74.49,2,    31.47,2,     0.00,2,     2.25,2,   -999.0,9,   -999.0,9,-999.0000,9,  -999.00,      834
  49UF20110617,  PR02,  3062,  1,      8,  21967,2,20110726,0825, 28.2680, 127.1427,  978,    704.2,   6.0122,  34.3561,2,-999.0000,9,     91.2,2,    86.37,2,    33.97,2,     0.00,2,     2.42,2,   -999.0,9,   -999.0,9,-999.0000,9,  -999.00,      832
  49UF20110617,  PR02,  3062,  1,      7,  21966,2,20110726,0825, 28.2680, 127.1427,  978,    806.0,   5.3163,  34.3674,2,  34.3697,4,   -999.0,5,    95.67,2,    35.89,2,     0.00,2,     2.56,2,   -999.0,9,   -999.0,9,-999.0000,9,  -999.00,      829
  49UF20110617,  PR02,  3062,  1,      6,  21965,2,20110726,0825, 28.2680, 127.1427,  978,    906.6,   4.8505,  34.3908,2,-999.0000,9,     77.6,2,   103.76,2,    36.96,2,     0.00,2,     2.64,2,   -999.0,9,   -999.0,9,-999.0000,9,  -999.00,      827
  49UF20110617,  PR02,  3062,  1,      5,  21964,2,20110726,0825, 28.2680, 127.1427,  978,    973.2,   4.7228,  34.3970,2,  34.3972,2,     75.4,2,   106.62,2,    37.25,2,     0.01,2,     2.66,2,   -999.0,9,   -999.0,9,-999.0000,9,  -999.00,      825
  49UF20110617,  PR02,  3062,  1,      4,  21963,2,20110726,0825, 28.2680, 127.1427,  978,    973.2,   4.7228,  34.3970,2,  34.3969,6,     75.7,6,   106.62,6,    37.22,6,     0.01,6,     2.67,6,   -999.0,9,   -999.0,9,-999.0000,9,  -999.00,      825
  49UF20110617,  PR02,  3064,  1,     99,     99,2,20110726,1156, 28.1103, 127.3505,  997,      0.0,  29.3215,  34.3142,2,-999.0000,9,    197.4,2,     1.42,2,     0.00,2,     0.00,2,     0.02,2,   -999.0,9,   -999.0,9,-999.0000,9,  -999.00,     1211
  49UF20110617,  PR02,  3064,  1,     33,  21992,2,20110726,1156, 28.1103, 127.3505,  997,     11.2,  29.3220,  34.3142,2,  34.3135,2,    196.0,2,     1.37,2,     0.00,2,     0.00,2,     0.01,2,   -999.0,9,   -999.0,9,-999.0000,9,  -999.00,     1230
  49UF20110617,  PR02,  3064,  1,     32,  21991,2,20110726,1156, 28.1103, 127.3505,  997,     21.4,  29.2314,  34.3127,2,-999.0000,9,    198.0,2,     1.38,2,     0.00,2,     0.00,2,     0.01,2,   -999.0,9,   -999.0,9,-999.0000,9,  -999.00,     1229
  49UF20110617,  PR02,  3064,  1,     31,  21990,2,20110726,1156, 28.1103, 127.3505,  997,     31.8,  28.3527,  34.4319,2,-999.0000,9,    201.5,2,     1.29,2,     0.00,2,     0.00,2,     0.01,2,   -999.0,9,   -999.0,9,-999.0000,9,  -999.00,     1228
  49UF20110617,  PR02,  3064,  1,     30,  21989,2,20110726,1156, 28.1103, 127.3505,  997,     50.9,  26.8386,  34.5830,2,-999.0000,9,    206.5,2,     1.20,2,     0.00,2,     0.00,2,     0.01,2,   -999.0,9,   -999.0,9,-999.0000,9,  -999.00,     1224
  49UF20110617,  PR02,  3064,  1,     29,  21988,2,20110726,1156, 28.1103, 127.3505,  997,     77.1,  25.6139,  34.7103,2,-999.0000,9,    206.2,2,     1.21,2,     0.00,2,     0.00,2,     0.01,2,   -999.0,9,   -999.0,9,-999.0000,9,  -999.00,     1223
  49UF20110617,  PR02,  3064,  1,     28,  21987,2,20110726,1156, 28.1103, 127.3505,  997,    101.9,  23.7524,  34.8097,2,  34.8107,2,    198.5,2,     1.50,2,     0.39,2,     0.17,2,     0.06,2,   -999.0,9,   -999.0,9,-999.0000,9,  -999.00,     1222
  49UF20110617,  PR02,  3064,  1,     27,  21986,2,20110726,1156, 28.1103, 127.3505,  997,    127.0,  22.1475,  34.8179,2,-999.0000,9,    194.1,2,     2.04,2,     1.56,2,     0.04,2,     0.13,2,   -999.0,9,   -999.0,9,-999.0000,9,  -999.00,     1221
  49UF20110617,  PR02,  3064,  1,     26,  21985,2,20110726,1156, 28.1103, 127.3505,  997,    153.1,  21.4750,  34.8057,2,-999.0000,9,    193.3,2,     2.24,2,     1.97,2,     0.02,2,     0.16,2,   -999.0,9,   -999.0,9,-999.0000,9,  -999.00,     1219
  49UF20110617,  PR02,  3064,  1,     25,  21984,2,20110726,1156, 28.1103, 127.3505,  997,    202.8,  19.2318,  34.7567,2,  34.7555,2,    187.8,2,     4.02,2,     4.26,2,     0.01,2,     0.30,2,   -999.0,9,   -999.0,9,-999.0000,9,  -999.00,     1218
  49UF20110617,  PR02,  3064,  1,     18,  21977,2,20110726,1156, 28.1103, 127.3505,  997,    253.3,  18.4859,  34.7365,2,-999.0000,9,    186.5,2,     4.74,2,     5.12,2,     0.01,2,     0.36,2,   -999.0,9,   -999.0,9,-999.0000,9,  -999.00,     1216
  49UF20110617,  PR02,  3064,  1,     17,  21976,2,20110726,1156, 28.1103, 127.3505,  997,    305.3,  17.2909,  34.6813,2,-999.0000,9,    182.5,2,     7.53,2,     7.15,2,     0.01,2,     0.51,2,   -999.0,9,   -999.0,9,-999.0000,9,  -999.00,     1213
  49UF20110617,  PR02,  3064,  1,     16,  21975,2,20110726,1156, 28.1103, 127.3505,  997,    305.3,  17.2909,  34.6813,2,-999.0000,9,    182.4,6,     7.55,6,     7.19,6,     0.01,6,     0.51,6,   -999.0,9,   -999.0,9,-999.0000,9,  -999.00,     1213
  49UF20110617,  PR02,  3064,  1,     12,  21971,2,20110726,1156, 28.1103, 127.3505,  997,    405.1,  13.8408,  34.4915,2,  34.4950,4,    172.9,2,    15.62,2,    13.00,2,     0.00,2,     0.93,2,   -999.0,9,   -999.0,9,-999.0000,9,  -999.00,     1211
  49UF20110617,  PR02,  3064,  1,     11,  21970,2,20110726,1156, 28.1103, 127.3505,  997,    507.1,  11.0858,  34.3680,2,-999.0000,9,    147.7,2,    31.54,2,    19.91,2,     0.00,2,     1.44,2,   -999.0,9,   -999.0,9,-999.0000,9,  -999.00,     1208
  49UF20110617,  PR02,  3064,  1,     10,  21969,2,20110726,1156, 28.1103, 127.3505,  997,    606.5,   8.5003,  34.3274,2,  34.3286,2,    118.7,2,    55.87,2,    27.15,2,     0.00,2,     1.96,2,   -999.0,9,   -999.0,9,-999.0000,9,  -999.00,     1206
  49UF20110617,  PR02,  3064,  1,      9,  21968,2,20110726,1156, 28.1103, 127.3505,  997,    706.9,   6.4289,  34.2971,2,-999.0000,9,     96.5,2,    76.46,2,    32.77,2,     0.00,2,     2.36,2,   -999.0,9,   -999.0,9,-999.0000,9,  -999.00,     1203
  49UF20110617,  PR02,  3064,  1,      8,  21967,2,20110726,1156, 28.1103, 127.3505,  997,    807.2,   5.4470,  34.3617,2,  34.3613,2,     84.0,2,    93.70,2,    35.27,2,     0.00,2,     2.54,2,   -999.0,9,   -999.0,9,-999.0000,9,  -999.00,     1201
  49UF20110617,  PR02,  3064,  1,      7,  21966,2,20110726,1156, 28.1103, 127.3505,  997,    908.9,   4.9307,  34.3899,2,-999.0000,9,     79.6,2,   101.71,2,    36.52,2,     0.00,2,     2.63,2,   -999.0,9,   -999.0,9,-999.0000,9,  -999.00,     1159
  49UF20110617,  PR02,  3064,  1,      6,  21965,2,20110726,1156, 28.1103, 127.3505,  997,    908.9,   4.9307,  34.3899,2,-999.0000,9,     79.6,6,   101.98,6,    36.51,6,     0.00,6,     2.63,6,   -999.0,9,   -999.0,9,-999.0000,9,  -999.00,     1159
  49UF20110617,  PR02,  3064,  1,      4,  21963,2,20110726,1156, 28.1103, 127.3505,  997,   1003.1,   4.3906,  34.4085,2,  34.4076,6,     74.6,2,   109.48,2,    37.82,2,     0.00,2,     2.71,2,   -999.0,9,   -999.0,9,-999.0000,9,  -999.00,     1156
  49UF20110617,  PR02,  3064,  1,      5,  21964,2,20110726,1156, 28.1103, 127.3505,  997,   1004.7,   4.3750,  34.4089,2,  34.4093,6,     74.5,2,   109.69,2,    37.82,2,     0.00,2,     2.72,2,   -999.0,9,   -999.0,9,-999.0000,9,  -999.00,     1156
  49UF20110617,  PR02,  3067,  1,     99,     99,2,20110726,1832, 27.8058, 127.7738, 1036,      0.0,  29.2454,  34.2088,2,-999.0000,9,    196.0,2,     1.49,2,     0.00,2,     0.00,2,     0.02,2,   -999.0,9,   -999.0,9,-999.0000,9,  -999.00,     1845
  49UF20110617,  PR02,  3067,  1,     31,  21990,2,20110726,1832, 27.8058, 127.7738, 1036,     11.3,  29.2446,  34.2091,2,  34.2079,2,    274.4,4,     1.44,2,     0.00,2,     0.00,2,     0.01,2,   1913.7,2,   2245.6,2,   8.1083,2,    25.00,     1912
  49UF20110617,  PR02,  3067,  1,     30,  21989,2,20110726,1832, 27.8058, 127.7738, 1036,     21.6,  29.0618,  34.1913,2,-999.0000,9,    197.3,2,     1.44,2,     0.00,2,     0.00,2,     0.01,2,   1910.7,2,   2245.4,2,   8.1102,2,    25.00,     1911
  49UF20110617,  PR02,  3067,  1,     29,  21988,2,20110726,1832, 27.8058, 127.7738, 1036,     31.0,  27.8812,  34.4108,2,-999.0000,9,    205.0,2,     1.30,2,     0.00,2,     0.00,2,     0.01,2,   1927.5,2,   2260.9,2,   8.1049,2,    25.00,     1910
  49UF20110617,  PR02,  3067,  1,     28,  21987,2,20110726,1832, 27.8058, 127.7738, 1036,     52.3,  26.1820,  34.6026,2,-999.0000,9,    204.4,2,     1.36,2,     0.00,2,     0.00,2,     0.02,2,   1947.1,2,   2270.7,2,   8.0906,2,    25.00,     1909
  49UF20110617,  PR02,  3067,  1,     27,  21986,2,20110726,1832, 27.8058, 127.7738, 1036,     77.1,  25.0437,  34.7212,2,-999.0000,9,    199.0,2,     1.49,2,    -0.06,2,     0.12,2,     0.05,2,   1971.2,2,   2282.7,2,   8.0743,2,    25.00,     1907
  49UF20110617,  PR02,  3067,  1,     26,  21985,2,20110726,1832, 27.8058, 127.7738, 1036,    100.5,  24.0906,  34.7761,2,  34.7744,2,    194.2,2,     1.76,2,     0.64,2,     0.22,2,     0.09,2,   1983.3,2,   2284.0,2,   8.0494,2,    25.00,     1904
  49UF20110617,  PR02,  3067,  1,     25,  21984,2,20110726,1832, 27.8058, 127.7738, 1036,    126.2,  22.6063,  34.8051,2,-999.0000,9,    194.0,2,     2.07,2,     1.39,2,     0.04,2,     0.13,2,   1995.2,2,   2280.9,2,   8.0318,2,    25.00,     1902
  49UF20110617,  PR02,  3067,  1,     18,  21977,2,20110726,1832, 27.8058, 127.7738, 1036,    152.3,  21.2602,  34.7972,2,-999.0000,9,    197.4,2,     2.34,2,     1.65,2,     0.05,2,     0.15,2,   2005.7,2,   2282.3,2,   8.0153,2,    25.00,     1901
  49UF20110617,  PR02,  3067,  1,     17,  21976,2,20110726,1832, 27.8058, 127.7738, 1036,    202.6,  19.8981,  34.7907,2,  34.7894,2,    200.7,2,     2.52,2,     2.14,2,     0.03,2,     0.17,2,   2016.7,2,   2283.8,2,   7.9953,2,    25.00,     1858
  49UF20110617,  PR02,  3067,  1,     16,  21975,2,20110726,1832, 27.8058, 127.7738, 1036,    202.6,  19.8981,  34.7907,2,  34.7901,6,    200.4,6,     2.51,6,     2.15,6,     0.03,6,     0.17,6,   2018.1,2,   2280.8,2,   7.9974,2,    25.00,     1858
  49UF20110617,  PR02,  3067,  1,     12,  21971,2,20110726,1832, 27.8058, 127.7738, 1036,    252.9,  19.0022,  34.7614,2,-999.0000,9,    195.6,2,     3.23,2,     3.44,2,     0.01,2,     0.25,2,   2034.7,2,   2283.3,2,   7.9725,2,    25.00,     1856
  49UF20110617,  PR02,  3067,  1,     11,  21970,2,20110726,1832, 27.8058, 127.7738, 1036,    306.5,  18.0563,  34.7319,2,-999.0000,9,    192.4,2,     4.59,2,     4.97,2,     0.01,2,     0.35,2,   2040.9,2,   2281.1,2,   7.9443,2,    25.00,     1854
  49UF20110617,  PR02,  3067,  1,     10,  21969,2,20110726,1832, 27.8058, 127.7738, 1036,    406.0,  15.3378,  34.5923,2,  34.5909,4,    178.6,2,    11.52,2,    10.18,2,     0.01,2,     0.73,2,   2078.1,2,   2280.2,2,   7.8631,2,    25.00,     1851
  49UF20110617,  PR02,  3067,  1,      9,  21968,2,20110726,1832, 27.8058, 127.7738, 1036,    509.7,  12.0240,  34.4125,2,-999.0000,9,    155.9,2,    26.49,2,    17.44,2,     0.01,2,     1.27,2,   2136.7,6,   2281.6,6,   7.7401,2,    25.00,     1847
  49UF20110617,  PR02,  3067,  1,      8,  21967,2,20110726,1832, 27.8058, 127.7738, 1036,    609.4,   8.9171,  34.2787,2,  34.2892,4,    129.9,2,    45.97,2,    25.09,2,     0.01,2,     1.82,2,   2193.7,2,   2289.6,2,   7.6322,2,    25.00,     1843
  49UF20110617,  PR02,  3067,  1,      7,  21966,2,20110726,1832, 27.8058, 127.7738, 1036,    708.8,   7.4172,  34.3047,2,-999.0000,9,    108.9,2,    65.62,2,    29.67,2,     0.00,2,     2.15,2,   2234.3,2,   2317.3,2,   7.5492,2,    25.00,     1840
  49UF20110617,  PR02,  3067,  1,      6,  21965,2,20110726,1832, 27.8058, 127.7738, 1036,    708.8,   7.4172,  34.3047,2,-999.0000,9,    109.0,2,    65.58,6,    29.62,6,     0.00,6,     2.14,6,   2237.1,2,   2316.7,2,   7.5470,2,    25.00,     1840
  49UF20110617,  PR02,  3067,  1,      5,  21964,2,20110726,1832, 27.8058, 127.7738, 1036,    806.8,   5.9161,  34.3467,2,  34.3469,6,     89.2,2,    86.66,2,    33.93,2,     0.00,2,     2.45,2,   2284.8,2,   2332.0,2,   7.4898,2,    25.00,     1837
  49UF20110617,  PR02,  3067,  1,      4,  21963,2,20110726,1832, 27.8058, 127.7738, 1036,   1012.2,   4.3963,  34.4080,2,  34.4087,2,     75.0,2,   109.76,2,    37.70,2,     0.00,2,     2.70,2,   2327.7,2,   2364.5,2,   7.4418,2,    25.00,     1832