BOTTLE,20191015PRINUNIVRMK
EXPOCODE,SECT_ID,STNNBR,CASTNO,SAMPNO,BTLNBR,BTLNBR_FLAG_W,DATE,TIME,LATITUDE,LONGITUDE,DEPTH,CTDPRS,CTDTMP,CTDSAL,CTDSAL_FLAG_W,SALNTY,SALNTY_FLAG_W,OXYGEN,OXYGEN_FLAG_W,SILCAT,SILCAT_FLAG_W,NITRAT,NITRAT_FLAG_W,NITRIT,NITRIT_FLAG_W,PHSPHT,PHSPHT_FLAG_W,TCARBN,TCARBN_FLAG_W,ALKALI,ALKALI_FLAG_W,PH_TOT,PH_TOT_FLAG_W,PH_TMP,BTL_TIME
,,,,,,,,,,,METERS,DBAR,ITS-90,PSS-78,,PSS-78,,UMOL/KG,,UMOL/KG,,UMOL/KG,,UMOL/KG,,UMOL/KG,,UMOL/KG,,UMOL/KG,,,,DEG C,
  49UF20110617,  PR02,  3025,  1,     99,     99,2,20110622,1128, 22.9948, 136.9810, 2822,      0.0,  29.8050,  34.9731,2,-999.0000,9,    195.4,2,     0.98,2,     0.08,2,     0.00,2,     0.02,2,   -999.0,9,   -999.0,9,-999.0000,9,  -999.00,     1215
  49UF20110617,  PR02,  3025,  1,     36,  21995,2,20110622,1128, 22.9948, 136.9810, 2822,     11.6,  29.8151,  34.9721,2,  34.9728,2,    195.5,2,     0.96,2,     0.07,2,     0.00,2,     0.01,2,   -999.0,9,   -999.0,9,-999.0000,9,  -999.00,     1235
  49UF20110617,  PR02,  3025,  1,     35,  21994,2,20110622,1128, 22.9948, 136.9810, 2822,     27.0,  28.0237,  34.9426,2,-999.0000,9,    209.2,2,     0.98,2,     0.03,2,     0.00,2,     0.01,2,   -999.0,9,   -999.0,9,-999.0000,9,  -999.00,     1234
  49UF20110617,  PR02,  3025,  1,     34,  21993,2,20110622,1128, 22.9948, 136.9810, 2822,     52.0,  26.0699,  35.0436,2,-999.0000,9,    211.7,2,     1.03,2,     0.03,2,     0.00,2,     0.00,2,   -999.0,9,   -999.0,9,-999.0000,9,  -999.00,     1232
  49UF20110617,  PR02,  3025,  1,     30,  21989,2,20110622,1128, 22.9948, 136.9810, 2822,     77.4,  25.1155,  35.1693,2,-999.0000,9,    214.2,2,     1.03,2,     0.02,2,     0.00,2,     0.00,2,   -999.0,9,   -999.0,9,-999.0000,9,  -999.00,     1230
  49UF20110617,  PR02,  3025,  1,     29,  21988,2,20110622,1128, 22.9948, 136.9810, 2822,     99.3,  24.8427,  35.2158,2,  35.2149,2,    211.6,2,     1.05,2,     0.05,2,     0.00,2,     0.00,2,   -999.0,9,   -999.0,9,-999.0000,9,  -999.00,     1226
  49UF20110617,  PR02,  3025,  1,     28,  21987,2,20110622,1128, 22.9948, 136.9810, 2822,    126.6,  24.1611,  35.1410,2,-999.0000,9,    203.7,2,     1.15,2,     0.02,2,     0.01,2,     0.02,2,   -999.0,9,   -999.0,9,-999.0000,9,  -999.00,     1224
  49UF20110617,  PR02,  3025,  1,     24,  21983,2,20110622,1128, 22.9948, 136.9810, 2822,    153.0,  23.0544,  34.9967,2,-999.0000,9,    201.7,2,     1.38,2,     0.13,2,     0.15,2,     0.03,2,   -999.0,9,   -999.0,9,-999.0000,9,  -999.00,     1223
  49UF20110617,  PR02,  3025,  1,     23,  21982,2,20110622,1128, 22.9948, 136.9810, 2822,    203.8,  20.7292,  34.8226,2,  34.8267,2,    201.0,2,     1.99,2,     1.15,2,     0.04,2,     0.09,2,   -999.0,9,   -999.0,9,-999.0000,9,  -999.00,     1220
  49UF20110617,  PR02,  3025,  1,     22,  21981,2,20110622,1128, 22.9948, 136.9810, 2822,    203.8,  20.7292,  34.8226,2,  34.8261,6,    201.0,6,     1.99,6,     1.18,6,     0.04,6,     0.09,6,   -999.0,9,   -999.0,9,-999.0000,9,  -999.00,     1220
  49UF20110617,  PR02,  3025,  1,     18,  21977,2,20110622,1128, 22.9948, 136.9810, 2822,    253.2,  19.5032,  34.8300,2,-999.0000,9,    220.3,2,     2.08,2,     0.69,2,     0.10,2,     0.07,2,   -999.0,9,   -999.0,9,-999.0000,9,  -999.00,     1218
  49UF20110617,  PR02,  3025,  1,     17,  21976,2,20110622,1128, 22.9948, 136.9810, 2822,    302.8,  18.4030,  34.7596,2,-999.0000,9,    210.5,2,     2.96,2,     2.85,2,     0.01,2,     0.19,2,   -999.0,9,   -999.0,9,-999.0000,9,  -999.00,     1216
  49UF20110617,  PR02,  3025,  1,     16,  21975,2,20110622,1128, 22.9948, 136.9810, 2822,    404.3,  16.4049,  34.6630,2,  34.6666,2,    190.3,2,     6.84,2,     7.64,2,     0.01,2,     0.51,2,   -999.0,9,   -999.0,9,-999.0000,9,  -999.00,     1212
  49UF20110617,  PR02,  3025,  1,     15,  21974,2,20110622,1128, 22.9948, 136.9810, 2822,    505.1,  12.7757,  34.4155,2,-999.0000,9,    184.1,2,    16.55,2,    13.71,2,     0.00,2,     0.95,2,   -999.0,9,   -999.0,9,-999.0000,9,  -999.00,     1208
  49UF20110617,  PR02,  3025,  1,     14,  21973,2,20110622,1128, 22.9948, 136.9810, 2822,    607.1,   9.5072,  34.2159,2,  34.2158,2,    156.4,2,    33.81,2,    22.03,2,     0.00,2,     1.58,2,   -999.0,9,   -999.0,9,-999.0000,9,  -999.00,     1205
  49UF20110617,  PR02,  3025,  1,     13,  21972,2,20110622,1128, 22.9948, 136.9810, 2822,    704.9,   7.2793,  34.1409,2,-999.0000,9,    125.9,2,    54.96,2,    28.87,2,     0.00,2,     2.09,2,   -999.0,9,   -999.0,9,-999.0000,9,  -999.00,     1202
  49UF20110617,  PR02,  3025,  1,     12,  21971,2,20110622,1128, 22.9948, 136.9810, 2822,    813.4,   5.6104,  34.1895,2,  34.1843,4,     82.4,6,    77.73,6,    35.57,6,     0.00,6,     2.59,6,   -999.0,9,   -999.0,9,-999.0000,9,  -999.00,     1158
  49UF20110617,  PR02,  3025,  1,     11,  21970,2,20110622,1128, 22.9948, 136.9810, 2822,    913.2,   4.8124,  34.2797,2,-999.0000,9,     62.3,2,    94.26,2,    38.90,2,     0.00,2,     2.81,2,   -999.0,9,   -999.0,9,-999.0000,9,  -999.00,     1154
  49UF20110617,  PR02,  3025,  1,     10,  21969,2,20110622,1128, 22.9948, 136.9810, 2822,   1012.0,   4.1579,  34.3614,2,  34.3588,2,     58.4,2,   108.37,2,    40.19,2,     0.00,2,     2.89,2,   -999.0,9,   -999.0,9,-999.0000,9,  -999.00,     1151
  49UF20110617,  PR02,  3025,  1,      6,  21965,2,20110622,1128, 22.9948, 136.9810, 2822,   1211.8,   3.4064,  34.4557,2,  34.4564,2,     64.0,2,   124.75,2,    40.70,2,     0.00,2,     2.92,2,   -999.0,9,   -999.0,9,-999.0000,9,  -999.00,     1146
  49UF20110617,  PR02,  3025,  1,      5,  21964,2,20110622,1128, 22.9948, 136.9810, 2822,   1414.3,   2.9172,  34.5214,2,  34.5216,2,     80.5,2,   133.11,2,    39.91,2,     0.00,2,     2.84,2,   -999.0,9,   -999.0,9,-999.0000,9,  -999.00,     1142
  49UF20110617,  PR02,  3025,  1,      4,  21963,2,20110622,1128, 22.9948, 136.9810, 2822,   1613.2,   2.5667,  34.5661,2,  34.5670,2,     95.6,2,   137.71,2,    39.18,2,     0.00,2,     2.78,2,   -999.0,9,   -999.0,9,-999.0000,9,  -999.00,     1137
  49UF20110617,  PR02,  3025,  1,      3,  21962,2,20110622,1128, 22.9948, 136.9810, 2822,   1613.2,   2.5667,  34.5661,2,  34.5680,6,     96.5,6,   137.80,6,    39.14,6,     0.00,6,     2.79,6,   -999.0,9,   -999.0,9,-999.0000,9,  -999.00,     1137
  49UF20110617,  PR02,  3025,  1,      2,  21961,2,20110622,1128, 22.9948, 136.9810, 2822,   1819.5,   2.2781,  34.5954,2,  34.5957,2,    107.0,2,   139.92,2,    38.70,2,     0.00,2,     2.74,2,   -999.0,9,   -999.0,9,-999.0000,9,  -999.00,     1133
  49UF20110617,  PR02,  3025,  1,      1,  21960,2,20110622,1128, 22.9948, 136.9810, 2822,   2023.5,   2.1042,  34.6146,2,  34.6161,2,    114.1,2,   141.16,2,    38.32,2,     0.00,2,     2.71,2,   -999.0,9,   -999.0,9,-999.0000,9,  -999.00,     1128
  49UF20110617,  PR02,  3026,  1,     99,     99,2,20110622,1831, 22.0023, 136.9963, 4480,      0.0,  29.7949,  34.9980,2,-999.0000,9,    194.5,2,     0.92,2,     0.04,2,     0.00,2,     0.01,2,   -999.0,9,   -999.0,9,-999.0000,9,  -999.00,     1912
  49UF20110617,  PR02,  3026,  1,     33,  21992,2,20110622,1831, 22.0023, 136.9963, 4480,     11.5,  29.7994,  34.9984,2,  34.9971,2,    198.1,2,     0.90,2,     0.02,2,     0.00,2,     0.00,2,   1952.6,2,   2295.2,2,   8.0963,4,    25.00,     1929
  49UF20110617,  PR02,  3026,  1,     32,  21991,2,20110622,1831, 22.0023, 136.9963, 4480,     25.4,  29.8028,  34.9970,2,-999.0000,9,    198.2,2,     0.88,2,     0.04,2,     0.00,2,     0.00,2,   1958.4,2,   2295.9,2,   8.0887,4,    25.00,     1928
  49UF20110617,  PR02,  3026,  1,     31,  21990,2,20110622,1831, 22.0023, 136.9963, 4480,     51.0,  26.7123,  35.0062,2,-999.0000,9,    212.1,2,     0.92,2,     0.04,2,     0.00,2,     0.00,2,   1957.7,2,   2298.0,2,   8.0921,4,    25.00,     1926
  49UF20110617,  PR02,  3026,  1,     30,  21989,2,20110622,1831, 22.0023, 136.9963, 4480,     76.0,  25.4508,  35.0799,2,-999.0000,9,    212.6,2,     0.97,2,     0.06,2,     0.00,2,     0.00,2,   1965.6,2,   2301.9,2,   8.0803,4,    25.00,     1924
  49UF20110617,  PR02,  3026,  1,     29,  21988,2,20110622,1831, 22.0023, 136.9963, 4480,    102.2,  24.2536,  35.0634,2,  35.0617,2,    214.0,2,     1.10,2,     0.05,2,     0.00,2,     0.00,2,   1980.7,2,   2299.9,2,   8.0619,4,    25.00,     1922
  49UF20110617,  PR02,  3026,  1,     28,  21987,2,20110622,1831, 22.0023, 136.9963, 4480,    127.5,  23.0061,  34.9934,2,-999.0000,9,    211.0,2,     1.26,2,     0.06,2,     0.00,2,     0.01,2,   1984.1,2,   2297.6,2,   8.0371,4,    25.00,     1921
  49UF20110617,  PR02,  3026,  1,     24,  21983,2,20110622,1831, 22.0023, 136.9963, 4480,    151.8,  22.2122,  34.9301,2,-999.0000,9,    199.8,2,     1.45,2,     0.54,2,     0.08,2,     0.05,2,   2000.3,2,   2292.3,2,   8.0107,4,    25.00,     1916
  49UF20110617,  PR02,  3026,  1,     23,  21982,2,20110622,1831, 22.0023, 136.9963, 4480,    151.8,  22.2122,  34.9301,2,-999.0000,9,    199.9,6,     1.48,6,     0.52,6,     0.08,6,     0.05,6,   1999.3,2,   2289.4,2,   8.0083,4,    25.00,     1916
  49UF20110617,  PR02,  3026,  1,     22,  21981,2,20110622,1831, 22.0023, 136.9963, 4480,    202.2,  20.4707,  34.8226,2,  34.8218,2,    202.2,2,     1.94,2,     1.30,2,     0.03,2,     0.09,2,   2006.7,2,   2283.3,2,   7.9868,4,    25.00,     1915
  49UF20110617,  PR02,  3026,  1,     18,  21977,2,20110622,1831, 22.0023, 136.9963, 4480,    252.7,  18.8614,  34.7639,2,-999.0000,9,    191.4,2,     3.09,2,     3.71,2,     0.01,2,     0.24,2,   2031.8,2,   2280.7,2,   7.9348,4,    25.00,     1913
  49UF20110617,  PR02,  3026,  1,     17,  21976,2,20110622,1831, 22.0023, 136.9963, 4480,    304.3,  17.5317,  34.7060,2,-999.0000,9,    196.7,2,     4.18,2,     5.22,2,     0.00,2,     0.34,2,   2037.0,2,   2280.0,2,   7.9247,4,    25.00,     1911
  49UF20110617,  PR02,  3026,  1,     16,  21975,2,20110622,1831, 22.0023, 136.9963, 4480,    404.0,  14.6239,  34.5290,2,  34.5356,4,    190.1,2,     9.55,2,     9.93,2,     0.00,2,     0.69,2,   2072.7,2,   2274.9,2,   7.8419,4,    25.00,     1909
  49UF20110617,  PR02,  3026,  1,     15,  21974,2,20110622,1831, 22.0023, 136.9963, 4480,    502.8,  11.4531,  34.3124,2,-999.0000,9,    183.6,2,    20.09,2,    16.05,2,     0.00,2,     1.12,2,   2113.2,2,   2269.2,2,   7.7374,4,    25.00,     1906
  49UF20110617,  PR02,  3026,  1,     14,  21973,2,20110622,1831, 22.0023, 136.9963, 4480,    605.8,   8.0780,  34.1276,2,  34.1289,2,    146.2,2,    42.33,2,    25.52,2,     0.00,2,     1.82,2,   2184.7,2,   2281.6,2,   7.5858,4,    25.00,     1904
  49UF20110617,  PR02,  3026,  1,     13,  21972,2,20110622,1831, 22.0023, 136.9963, 4480,    706.2,   6.3396,  34.1369,2,-999.0000,9,    104.0,6,    66.05,6,    32.45,6,     0.00,6,     2.34,6,   2241.6,6,   2301.3,6,   7.4774,4,    25.00,     1901
  49UF20110617,  PR02,  3026,  1,     12,  21971,2,20110622,1831, 22.0023, 136.9963, 4480,    807.4,   5.2355,  34.1943,2,  34.1940,6,     77.0,2,    85.26,2,    36.63,2,     0.00,2,     2.64,2,   2282.9,2,   2320.0,2,   7.4180,4,    25.00,     1858
  49UF20110617,  PR02,  3026,  1,     11,  21970,2,20110622,1831, 22.0023, 136.9963, 4480,    911.4,   4.6635,  34.3094,2,-999.0000,9,     58.8,2,    97.21,2,    39.38,2,     0.00,2,     2.84,2,   2309.2,2,   2337.5,2,   7.3923,4,    25.00,     1856
  49UF20110617,  PR02,  3026,  1,     10,  21969,2,20110622,1831, 22.0023, 136.9963, 4480,   1010.9,   4.0311,  34.3825,2,  34.3820,2,     58.7,2,   111.04,2,    40.18,2,     0.00,2,     2.90,2,   2325.4,2,   2356.9,2,   7.4011,4,    25.00,     1853
  49UF20110617,  PR02,  3026,  1,      6,  21965,2,20110622,1831, 22.0023, 136.9963, 4480,   1213.8,   3.2297,  34.4679,2,  34.4703,2,     65.6,2,   128.14,2,    40.57,2,     0.00,2,     2.90,2,   2344.7,2,   2376.5,2,   7.4022,4,    25.00,     1849
  49UF20110617,  PR02,  3026,  1,      5,  21964,2,20110622,1831, 22.0023, 136.9963, 4480,   1213.8,   3.2297,  34.4679,2,  34.4672,6,     65.2,6,   128.50,6,    40.61,6,     0.00,6,     2.90,6,   2344.0,6,   2378.7,6,   7.4086,4,    25.00,     1849
  49UF20110617,  PR02,  3026,  1,      4,  21963,2,20110622,1831, 22.0023, 136.9963, 4480,   1413.7,   2.8642,  34.5258,2,  34.5278,2,     81.6,2,   134.13,2,    39.73,2,     0.00,2,     2.84,2,   2343.4,2,   2387.8,2,   7.4395,4,    25.00,     1845
  49UF20110617,  PR02,  3026,  1,      3,  21962,2,20110622,1831, 22.0023, 136.9963, 4480,   1617.0,   2.5671,  34.5660,2,  34.5655,2,     94.5,2,   137.65,2,    39.10,2,     0.00,2,     2.78,2,   2342.9,2,   2397.3,2,   7.4656,4,    25.00,     1840
  49UF20110617,  PR02,  3026,  1,      2,  21961,3,20110622,1831, 22.0023, 136.9963, 4480,   1817.6,   2.3103,  34.5970,2,  34.5970,2,    106.8,2,   138.79,2,    38.59,2,     0.00,2,     2.73,2,   2340.3,2,   2402.5,2,   7.4978,4,    25.00,     1836
  49UF20110617,  PR02,  3026,  1,      1,  21960,2,20110622,1831, 22.0023, 136.9963, 4480,   2022.2,   2.0895,  34.6160,2,  34.6158,2,    114.4,2,   141.07,2,    38.32,2,     0.00,2,     2.70,2,   2338.8,2,   2405.0,2,   7.4997,4,    25.00,     1831
  49UF20110617,  PR02,  3027,  1,     99,     99,2,20110623,0130, 21.0032, 136.9773, 4794,      0.0,  29.4761,  34.8206,2,-999.0000,9,    194.5,2,     0.92,2,     0.05,2,     0.00,4,     0.02,4,   -999.0,9,   -999.0,9,-999.0000,9,  -999.00,      205
  49UF20110617,  PR02,  3027,  1,     33,  21992,2,20110623,0130, 21.0032, 136.9773, 4794,     11.8,  29.4436,  34.8198,2,-999.0000,9,    194.9,2,     0.90,2,     0.00,2,     0.00,4,     0.01,4,   -999.0,9,   -999.0,9,-999.0000,9,  -999.00,      235
  49UF20110617,  PR02,  3027,  1,     32,  21991,2,20110623,0130, 21.0032, 136.9773, 4794,     25.9,  29.3350,  34.8383,2,-999.0000,9,    196.7,2,     0.88,2,     0.00,2,     0.00,4,     0.01,4,   -999.0,9,   -999.0,9,-999.0000,9,  -999.00,      233
  49UF20110617,  PR02,  3027,  1,     31,  21990,2,20110623,0130, 21.0032, 136.9773, 4794,     50.3,  25.1809,  35.0376,2,-999.0000,9,    216.5,2,     0.98,2,     0.01,2,     0.00,4,     0.01,4,   -999.0,9,   -999.0,9,-999.0000,9,  -999.00,      230
  49UF20110617,  PR02,  3027,  1,     30,  21989,2,20110623,0130, 21.0032, 136.9773, 4794,     78.0,  23.2739,  34.9301,2,-999.0000,9,    222.2,2,     1.15,2,     0.00,2,     0.00,4,     0.01,4,   -999.0,9,   -999.0,9,-999.0000,9,  -999.00,      228
  49UF20110617,  PR02,  3027,  1,     29,  21988,2,20110623,0130, 21.0032, 136.9773, 4794,    101.9,  22.1448,  34.8897,2,-999.0000,9,    213.2,2,     1.33,2,     0.05,2,     0.00,4,     0.02,4,   -999.0,9,   -999.0,9,-999.0000,9,  -999.00,      226
  49UF20110617,  PR02,  3027,  1,     28,  21987,2,20110623,0130, 21.0032, 136.9773, 4794,    101.9,  22.1448,  34.8897,2,-999.0000,9,    213.1,6,     1.31,6,     0.00,6,     0.00,4,     0.01,4,   -999.0,9,   -999.0,9,-999.0000,9,  -999.00,      226
  49UF20110617,  PR02,  3027,  1,     24,  21983,2,20110623,0130, 21.0032, 136.9773, 4794,    127.0,  21.3239,  34.8866,2,-999.0000,9,    209.2,2,     1.62,2,     0.10,2,     0.10,4,     0.04,4,   -999.0,9,   -999.0,9,-999.0000,9,  -999.00,      225
  49UF20110617,  PR02,  3027,  1,     23,  21982,2,20110623,0130, 21.0032, 136.9773, 4794,    151.9,  20.2615,  34.8134,2,-999.0000,9,    206.9,2,     1.87,2,     1.00,2,     0.05,4,     0.08,4,   -999.0,9,   -999.0,9,-999.0000,9,  -999.00,      223
  49UF20110617,  PR02,  3027,  1,     22,  21981,2,20110623,0130, 21.0032, 136.9773, 4794,    204.9,  18.3897,  34.7318,2,-999.0000,9,    198.5,2,     3.16,2,     3.66,2,     0.01,4,     0.24,4,   -999.0,9,   -999.0,9,-999.0000,9,  -999.00,      221
  49UF20110617,  PR02,  3027,  1,     18,  21977,2,20110623,0130, 21.0032, 136.9773, 4794,    254.3,  17.2951,  34.7018,2,-999.0000,9,    194.0,2,     4.67,2,     5.64,2,     0.01,4,     0.39,4,   -999.0,9,   -999.0,9,-999.0000,9,  -999.00,      218
  49UF20110617,  PR02,  3027,  1,     17,  21976,2,20110623,0130, 21.0032, 136.9773, 4794,    304.7,  16.0008,  34.6326,2,-999.0000,9,    191.4,2,     7.26,2,     7.87,2,     0.00,4,     0.55,4,   -999.0,9,   -999.0,9,-999.0000,9,  -999.00,      214
  49UF20110617,  PR02,  3027,  1,     16,  21975,2,20110623,0130, 21.0032, 136.9773, 4794,    407.4,  13.5043,  34.4524,2,-999.0000,9,    190.3,2,    12.38,2,    11.57,2,     0.00,4,     0.82,4,   -999.0,9,   -999.0,9,-999.0000,9,  -999.00,      209
  49UF20110617,  PR02,  3027,  1,     15,  21974,2,20110623,0130, 21.0032, 136.9773, 4794,    504.2,   9.9881,  34.2139,2,-999.0000,9,    164.1,2,    27.58,2,    20.07,2,     0.00,4,     1.46,4,   -999.0,9,   -999.0,9,-999.0000,9,  -999.00,      204
  49UF20110617,  PR02,  3027,  1,     14,  21973,2,20110623,0130, 21.0032, 136.9773, 4794,    603.6,   7.3196,  34.1299,2,-999.0000,9,    127.0,6,    53.49,6,    28.52,6,     0.00,4,     2.07,4,   -999.0,9,   -999.0,9,-999.0000,9,  -999.00,      200
  49UF20110617,  PR02,  3027,  1,     13,  21972,2,20110623,0130, 21.0032, 136.9773, 4794,    707.5,   5.9743,  34.1864,2,-999.0000,9,     81.7,2,    72.23,2,    35.00,2,     0.00,4,     2.55,4,   -999.0,9,   -999.0,9,-999.0000,9,  -999.00,      156
  49UF20110617,  PR02,  3027,  1,     12,  21971,2,20110623,0130, 21.0032, 136.9773, 4794,    807.6,   4.8915,  34.2580,2,-999.0000,9,     64.6,2,    92.64,2,    38.31,2,     0.00,4,     2.78,4,   -999.0,9,   -999.0,9,-999.0000,9,  -999.00,      153
  49UF20110617,  PR02,  3027,  1,     11,  21970,2,20110623,0130, 21.0032, 136.9773, 4794,    907.4,   4.2040,  34.3660,2,-999.0000,9,     57.8,2,   107.76,2,    40.00,2,     0.00,4,     2.89,4,   -999.0,9,   -999.0,9,-999.0000,9,  -999.00,      151
  49UF20110617,  PR02,  3027,  1,     10,  21969,2,20110623,0130, 21.0032, 136.9773, 4794,    907.4,   4.2040,  34.3660,2,-999.0000,9,     57.9,6,   107.79,6,    40.08,6,     0.00,4,     2.90,4,   -999.0,9,   -999.0,9,-999.0000,9,  -999.00,      151
  49UF20110617,  PR02,  3027,  1,      6,  21965,2,20110623,0130, 21.0032, 136.9773, 4794,   1009.1,   3.7501,  34.4184,2,-999.0000,9,     61.6,2,   117.46,2,    40.46,2,     0.00,4,     2.91,4,   -999.0,9,   -999.0,9,-999.0000,9,  -999.00,      148
  49UF20110617,  PR02,  3027,  1,      5,  21964,2,20110623,0130, 21.0032, 136.9773, 4794,   1209.9,   3.1267,  34.5023,2,-999.0000,9,     74.2,2,   129.26,2,    39.98,2,     0.00,4,     2.87,4,   -999.0,9,   -999.0,9,-999.0000,9,  -999.00,      145
  49UF20110617,  PR02,  3027,  1,      4,  21963,2,20110623,0130, 21.0032, 136.9773, 4794,   1412.2,   2.7135,  34.5549,2,-999.0000,9,     92.9,3,   135.02,2,    39.31,2,     0.00,4,     2.80,4,   -999.0,9,   -999.0,9,-999.0000,9,  -999.00,      141
  49UF20110617,  PR02,  3027,  1,      3,  21962,2,20110623,0130, 21.0032, 136.9773, 4794,   1612.2,   2.4883,  34.5863,2,-999.0000,9,    101.0,2,   137.26,2,    38.73,2,     0.00,4,     2.77,4,   -999.0,9,   -999.0,9,-999.0000,9,  -999.00,      138
  49UF20110617,  PR02,  3027,  1,      2,  21961,2,20110623,0130, 21.0032, 136.9773, 4794,   1814.8,   2.2910,  34.6049,2,-999.0000,9,    107.8,2,   139.67,2,    38.53,2,     0.00,4,     2.74,4,   -999.0,9,   -999.0,9,-999.0000,9,  -999.00,      134
  49UF20110617,  PR02,  3027,  1,      1,  21960,2,20110623,0130, 21.0032, 136.9773, 4794,   2023.5,   2.0812,  34.6220,2,-999.0000,9,    114.0,2,   142.47,2,    38.32,2,     0.00,4,     2.71,4,   -999.0,9,   -999.0,9,-999.0000,9,  -999.00,      130