BOTTLE,20191015PRINUNIVRMK
EXPOCODE,SECT_ID,STNNBR,CASTNO,SAMPNO,BTLNBR,BTLNBR_FLAG_W,DATE,TIME,LATITUDE,LONGITUDE,DEPTH,CTDPRS,CTDTMP,CTDSAL,CTDSAL_FLAG_W,SALNTY,SALNTY_FLAG_W,OXYGEN,OXYGEN_FLAG_W,SILCAT,SILCAT_FLAG_W,NITRAT,NITRAT_FLAG_W,NITRIT,NITRIT_FLAG_W,PHSPHT,PHSPHT_FLAG_W,TCARBN,TCARBN_FLAG_W,ALKALI,ALKALI_FLAG_W,PH_TOT,PH_TOT_FLAG_W,PH_TMP,BTL_TIME
,,,,,,,,,,,METERS,DBAR,ITS-90,PSS-78,,PSS-78,,UMOL/KG,,UMOL/KG,,UMOL/KG,,UMOL/KG,,UMOL/KG,,UMOL/KG,,UMOL/KG,,,,DEG C,
  49UF20110617,  PR02,  3013,  1,     99,     99,2,20110619,0805, 32.0117, 137.0252, 4148,      0.0,  24.2986,  34.2376,2,-999.0000,9,    212.3,2,     1.54,2,     0.00,2,     0.00,2,     0.02,2,   -999.0,9,   -999.0,9,-999.0000,9,  -999.00,      854
  49UF20110617,  PR02,  3013,  1,     36,  21995,2,20110619,0805, 32.0117, 137.0252, 4148,     11.9,  24.2396,  34.2500,2,  34.2455,2,    212.3,2,     1.49,2,     0.00,2,     0.00,2,     0.01,2,   1940.0,2,   2236.4,2,   8.0155,4,    25.00,      910
  49UF20110617,  PR02,  3013,  1,     35,  21994,2,20110619,0805, 32.0117, 137.0252, 4148,     26.7,  23.9194,  34.4865,2,-999.0000,9,    213.0,2,     1.58,2,     0.00,2,     0.00,2,     0.01,2,   1955.1,2,   2252.8,2,   8.0174,4,    25.00,      908
  49UF20110617,  PR02,  3013,  1,     34,  21993,2,20110619,0805, 32.0117, 137.0252, 4148,     50.8,  21.7131,  34.6873,2,-999.0000,9,    215.5,2,     1.87,2,     0.42,2,     0.04,2,     0.05,2,   1983.2,2,   2265.9,2,   7.9945,4,    25.00,      903
  49UF20110617,  PR02,  3013,  1,     33,  21992,2,20110619,0805, 32.0117, 137.0252, 4148,     75.4,  20.7033,  34.7853,2,-999.0000,9,    216.9,2,     2.12,2,     0.51,2,     0.08,2,     0.06,2,   1993.3,2,   2268.6,2,   7.9836,4,    25.00,      902
  49UF20110617,  PR02,  3013,  1,     32,  21991,2,20110619,0805, 32.0117, 137.0252, 4148,    101.7,  19.8187,  34.7661,2,  34.7650,2,    200.2,2,     3.06,2,     2.54,2,     0.09,2,     0.18,2,   2011.2,2,   2270.0,2,   7.9338,4,    25.00,      901
  49UF20110617,  PR02,  3013,  1,     31,  21990,2,20110619,0805, 32.0117, 137.0252, 4148,    126.8,  19.1467,  34.7950,2,-999.0000,9,    219.5,2,     1.95,2,     0.81,2,     0.26,2,     0.08,2,   2003.0,2,   2270.9,2,   7.9533,4,    25.00,      859
  49UF20110617,  PR02,  3013,  1,     27,  21986,2,20110619,0805, 32.0117, 137.0252, 4148,    152.6,  18.9333,  34.7820,2,-999.0000,9,    216.6,2,     2.16,2,     1.70,2,     0.04,2,     0.12,2,   2004.8,2,   2263.0,2,   7.9559,4,    25.00,      858
  49UF20110617,  PR02,  3013,  1,     26,  21985,2,20110619,0805, 32.0117, 137.0252, 4148,    203.2,  18.6150,  34.7680,2,  34.7670,2,    217.9,2,     2.43,2,     2.08,2,     0.02,2,     0.15,2,   2007.3,2,   2268.1,2,   7.9399,4,    25.00,      855
  49UF20110617,  PR02,  3013,  1,     25,  21984,2,20110619,0805, 32.0117, 137.0252, 4148,    203.2,  18.6150,  34.7680,2,  34.7670,6,    217.6,6,     2.43,6,     2.08,6,     0.02,6,     0.14,6,   2007.0,2,   2267.6,2,   7.9440,4,    25.00,      855
  49UF20110617,  PR02,  3013,  1,     24,  21983,2,20110619,0805, 32.0117, 137.0252, 4148,    253.6,  18.4457,  34.7757,2,-999.0000,9,    220.0,2,     2.61,2,     2.09,2,     0.01,2,     0.15,2,   2009.5,2,   2265.0,2,   7.9416,4,    25.00,      853
  49UF20110617,  PR02,  3013,  1,     23,  21982,2,20110619,0805, 32.0117, 137.0252, 4148,    304.4,  18.2587,  34.7666,2,-999.0000,9,    218.8,2,     2.86,2,     2.45,2,     0.01,2,     0.19,2,   2010.7,2,   2269.1,2,   7.9433,4,    25.00,      851
  49UF20110617,  PR02,  3013,  1,     22,  21981,2,20110619,0805, 32.0117, 137.0252, 4148,    405.2,  16.5089,  34.6686,2,  34.6686,2,    186.7,2,     7.32,2,     7.83,2,     0.01,2,     0.52,2,   2055.8,2,   2260.4,2,   7.8549,4,    25.00,      848
  49UF20110617,  PR02,  3013,  1,     18,  21977,2,20110619,0805, 32.0117, 137.0252, 4148,    507.3,  14.2731,  34.5294,2,-999.0000,9,    179.0,2,    14.01,2,    11.99,2,     0.01,2,     0.83,2,   2086.3,2,   2265.1,2,   7.7789,4,    25.00,      845
  49UF20110617,  PR02,  3013,  1,     17,  21976,2,20110619,0805, 32.0117, 137.0252, 4148,    608.3,  11.3662,  34.3554,2,  34.3571,2,    162.1,2,    27.94,2,    18.36,2,     0.01,2,     1.30,2,   2136.2,6,   2269.8,2,   7.6812,4,    25.00,      841
  49UF20110617,  PR02,  3013,  1,     16,  21975,2,20110619,0805, 32.0117, 137.0252, 4148,    708.0,   8.8323,  34.2410,2,-999.0000,9,    139.1,2,    45.83,2,    24.93,2,     0.00,2,     1.78,2,   2186.9,2,   2279.3,2,   7.5709,4,    25.00,      838
  49UF20110617,  PR02,  3013,  1,     12,  21971,2,20110619,0805, 32.0117, 137.0252, 4148,    810.7,   7.0067,  34.2185,2,  34.2201,2,    112.7,2,    65.60,2,    30.43,2,     0.00,2,     2.20,2,   2234.7,2,   2292.5,2,   7.4778,4,    25.00,      835
  49UF20110617,  PR02,  3013,  1,     11,  21970,2,20110619,0805, 32.0117, 137.0252, 4148,    909.9,   5.5532,  34.2535,2,-999.0000,9,     86.1,2,    86.77,6,    35.25,6,     0.00,6,     2.55,6,   2280.0,2,   2314.4,2,   7.4055,4,    25.00,      832
  49UF20110617,  PR02,  3013,  1,     10,  21969,2,20110619,0805, 32.0117, 137.0252, 4148,   1013.3,   4.4460,  34.2993,2,  34.2976,2,     66.4,2,   105.51,2,    38.55,2,     0.00,2,     2.78,2,   2313.9,2,   2332.1,2,   7.3697,4,    25.00,      828
  49UF20110617,  PR02,  3013,  1,      9,  21968,2,20110619,0805, 32.0117, 137.0252, 4148,   1215.0,   3.5808,  34.4028,2,  34.4018,2,     60.9,2,   123.55,2,    40.14,2,     0.00,2,     2.89,2,   2340.1,6,   2354.8,6,   7.3486,4,    25.00,      823
  49UF20110617,  PR02,  3013,  1,      8,  21967,2,20110619,0805, 32.0117, 137.0252, 4148,   1417.8,   3.0181,  34.4625,2,  34.4624,2,     65.0,2,   135.12,2,    40.72,2,     0.00,2,     2.92,2,   2353.1,2,   2368.2,2,   7.3564,4,    25.00,      819
  49UF20110617,  PR02,  3013,  1,      7,  21966,3,20110619,0805, 32.0117, 137.0252, 4148,   1620.6,   2.6141,  34.5143,2,  34.5107,4,     74.0,2,   140.95,2,    40.39,2,     0.00,2,     2.88,2,   2355.6,2,   2376.7,2,   7.4214,4,    25.00,      814
  49UF20110617,  PR02,  3013,  1,      6,  21965,2,20110619,0805, 32.0117, 137.0252, 4148,   1620.6,   2.6141,  34.5143,2,  34.5136,6,     74.0,6,   141.81,6,    40.48,6,     0.00,6,     2.89,6,   2354.7,2,   2380.4,3,   7.3774,4,    25.00,      814
  49UF20110617,  PR02,  3013,  1,      5,  21964,2,20110619,0805, 32.0117, 137.0252, 4148,   1820.8,   2.3440,  34.5548,2,  34.5547,2,     89.3,4,   143.90,2,    39.62,2,     0.00,2,     2.83,2,   2354.2,2,   2382.2,2,   7.4030,4,    25.00,      809
  49UF20110617,  PR02,  3013,  1,      4,  21963,2,20110619,0805, 32.0117, 137.0252, 4148,   2022.0,   2.1354,  34.5844,2,  34.5839,2,     98.6,4,   145.70,2,    39.23,2,     0.00,2,     2.78,2,   2350.7,2,   2391.6,2,   7.4163,4,    25.00,      805
  49UF20110617,  PR02,  3016,  1,     99,     99,2,20110619,1838, 31.0122, 137.0022, 4132,      0.0,  23.2422,  34.4306,2,-999.0000,9,    216.1,2,     1.62,2,     0.06,2,     0.00,2,     0.02,2,   -999.0,9,   -999.0,9,-999.0000,9,  -999.00,     1927
  49UF20110617,  PR02,  3016,  1,     36,  21995,2,20110619,1838, 31.0122, 137.0022, 4132,     11.8,  23.1199,  34.4301,2,-999.0000,9,    216.9,2,     1.63,2,     0.00,2,     0.00,2,     0.01,2,   -999.0,9,   -999.0,9,-999.0000,9,  -999.00,     1939
  49UF20110617,  PR02,  3016,  1,     35,  21994,2,20110619,1838, 31.0122, 137.0022, 4132,     26.5,  22.3626,  34.5409,2,-999.0000,9,    221.4,2,     1.67,2,     0.03,2,     0.00,2,     0.01,2,   -999.0,9,   -999.0,9,-999.0000,9,  -999.00,     1938
  49UF20110617,  PR02,  3016,  1,     34,  21993,2,20110619,1838, 31.0122, 137.0022, 4132,     51.5,  20.8908,  34.7161,2,-999.0000,9,    225.0,2,     1.78,2,     0.00,2,     0.00,2,     0.04,2,   -999.0,9,   -999.0,9,-999.0000,9,  -999.00,     1933
  49UF20110617,  PR02,  3016,  1,     33,  21992,2,20110619,1838, 31.0122, 137.0022, 4132,     77.1,  19.8670,  34.7908,2,-999.0000,9,    217.1,2,     2.10,2,     0.82,2,     0.17,2,     0.08,2,   -999.0,9,   -999.0,9,-999.0000,9,  -999.00,     1931
  49UF20110617,  PR02,  3016,  1,     32,  21991,3,20110619,1838, 31.0122, 137.0022, 4132,    100.9,  19.2196,  34.7724,2,-999.0000,9,    217.9,2,     2.28,2,     1.30,2,     0.10,2,     0.11,2,   -999.0,9,   -999.0,9,-999.0000,9,  -999.00,     1930
  49UF20110617,  PR02,  3016,  1,     31,  21990,2,20110619,1838, 31.0122, 137.0022, 4132,    125.9,  18.9788,  34.7664,2,-999.0000,9,    217.9,2,     2.39,2,     1.52,2,     0.09,2,     0.12,2,   -999.0,9,   -999.0,9,-999.0000,9,  -999.00,     1929
  49UF20110617,  PR02,  3016,  1,     27,  21986,2,20110619,1838, 31.0122, 137.0022, 4132,    151.0,  18.8296,  34.7685,2,-999.0000,9,    217.8,2,     2.48,2,     1.74,2,     0.07,2,     0.14,2,   -999.0,9,   -999.0,9,-999.0000,9,  -999.00,     1928
  49UF20110617,  PR02,  3016,  1,     26,  21985,2,20110619,1838, 31.0122, 137.0022, 4132,    151.0,  18.8296,  34.7685,2,-999.0000,9,    217.4,6,     2.52,6,     1.77,6,     0.07,6,     0.14,6,   -999.0,9,   -999.0,9,-999.0000,9,  -999.00,     1928
  49UF20110617,  PR02,  3016,  1,     25,  21984,2,20110619,1838, 31.0122, 137.0022, 4132,    202.6,  18.4852,  34.7662,2,-999.0000,9,    216.5,2,     2.75,2,     2.34,2,     0.01,2,     0.16,2,   -999.0,9,   -999.0,9,-999.0000,9,  -999.00,     1926
  49UF20110617,  PR02,  3016,  1,     24,  21983,2,20110619,1838, 31.0122, 137.0022, 4132,    251.5,  18.3652,  34.7668,2,-999.0000,9,    218.8,2,     2.80,2,     2.34,2,     0.01,2,     0.17,2,   -999.0,9,   -999.0,9,-999.0000,9,  -999.00,     1924
  49UF20110617,  PR02,  3016,  1,     23,  21982,2,20110619,1838, 31.0122, 137.0022, 4132,    303.4,  18.2355,  34.7595,2,-999.0000,9,    217.1,2,     3.02,2,     2.63,2,     0.01,2,     0.18,2,   -999.0,9,   -999.0,9,-999.0000,9,  -999.00,     1922
  49UF20110617,  PR02,  3016,  1,     22,  21981,2,20110619,1838, 31.0122, 137.0022, 4132,    404.7,  17.5430,  34.7217,2,-999.0000,9,    207.9,2,     4.52,2,     4.41,2,     0.01,2,     0.30,2,   -999.0,9,   -999.0,9,-999.0000,9,  -999.00,     1919
  49UF20110617,  PR02,  3016,  1,     18,  21977,2,20110619,1838, 31.0122, 137.0022, 4132,    505.4,  16.0067,  34.6379,2,-999.0000,9,    183.2,2,     9.13,2,     9.00,2,     0.00,2,     0.61,2,   -999.0,9,   -999.0,9,-999.0000,9,  -999.00,     1916
  49UF20110617,  PR02,  3016,  1,     17,  21976,2,20110619,1838, 31.0122, 137.0022, 4132,    606.7,  13.2237,  34.4646,2,-999.0000,9,    172.5,2,    18.41,2,    14.33,2,     0.00,2,     1.00,2,   -999.0,9,   -999.0,9,-999.0000,9,  -999.00,     1913
  49UF20110617,  PR02,  3016,  1,     16,  21975,2,20110619,1838, 31.0122, 137.0022, 4132,    707.8,  10.4488,  34.3176,2,-999.0000,9,    152.1,2,    34.46,6,    20.85,6,     0.00,6,     1.49,6,   -999.0,9,   -999.0,9,-999.0000,9,  -999.00,     1910
  49UF20110617,  PR02,  3016,  1,     12,  21971,2,20110619,1838, 31.0122, 137.0022, 4132,    808.4,   7.7851,  34.2191,2,-999.0000,9,    124.3,2,    56.45,2,    28.12,2,     0.00,2,     2.02,2,   -999.0,9,   -999.0,9,-999.0000,9,  -999.00,     1907
  49UF20110617,  PR02,  3016,  1,     11,  21970,2,20110619,1838, 31.0122, 137.0022, 4132,    909.8,   5.9477,  34.2129,2,-999.0000,9,     96.1,2,    78.06,2,    33.65,2,     0.00,2,     2.43,2,   -999.0,9,   -999.0,9,-999.0000,9,  -999.00,     1905
  49UF20110617,  PR02,  3016,  1,     10,  21969,2,20110619,1838, 31.0122, 137.0022, 4132,   1011.4,   4.7400,  34.2755,2,-999.0000,9,     72.1,2,    99.19,2,    37.74,2,     0.00,2,     2.71,2,   -999.0,9,   -999.0,9,-999.0000,9,  -999.00,     1902
  49UF20110617,  PR02,  3016,  1,      9,  21968,2,20110619,1838, 31.0122, 137.0022, 4132,   1213.5,   3.5559,  34.3838,2,-999.0000,9,     56.4,2,   124.32,2,    40.53,2,     0.00,2,     2.92,2,   -999.0,9,   -999.0,9,-999.0000,9,  -999.00,     1857
  49UF20110617,  PR02,  3016,  1,      8,  21967,2,20110619,1838, 31.0122, 137.0022, 4132,   1213.5,   3.5559,  34.3838,2,-999.0000,9,     57.0,6,   124.34,6,    40.68,6,     0.00,6,     2.93,6,   -999.0,9,   -999.0,9,-999.0000,9,  -999.00,     1857
  49UF20110617,  PR02,  3016,  1,      7,  21966,2,20110619,1838, 31.0122, 137.0022, 4132,   1415.4,   2.9678,  34.4569,2,-999.0000,9,     58.9,2,   136.80,2,    41.09,2,     0.00,2,     2.95,2,   -999.0,9,   -999.0,9,-999.0000,9,  -999.00,     1852
  49UF20110617,  PR02,  3016,  1,      6,  21965,2,20110619,1838, 31.0122, 137.0022, 4132,   1617.9,   2.5860,  34.5078,2,-999.0000,9,     64.5,2,   145.30,2,    41.19,2,     0.00,2,     2.96,2,   -999.0,9,   -999.0,9,-999.0000,9,  -999.00,     1848
  49UF20110617,  PR02,  3016,  1,      5,  21964,2,20110619,1838, 31.0122, 137.0022, 4132,   1820.3,   2.2947,  34.5504,2,-999.0000,9,     75.0,2,   149.88,2,    40.71,2,     0.00,2,     2.89,2,   -999.0,9,   -999.0,9,-999.0000,9,  -999.00,     1843
  49UF20110617,  PR02,  3016,  1,      4,  21963,2,20110619,1838, 31.0122, 137.0022, 4132,   2032.9,   2.0808,  34.5893,2,-999.0000,9,     97.4,2,   147.52,2,    39.36,2,     0.00,2,     2.79,2,   -999.0,9,   -999.0,9,-999.0000,9,  -999.00,     1838
  49UF20110617,  PR02,  3018,  1,     99,     99,2,20110620,0300, 30.0065, 136.9902, 4526,      0.0,  24.2928,  34.4510,2,-999.0000,9,    214.2,2,     1.52,2,     0.07,2,     0.00,2,     0.04,2,   -999.0,9,   -999.0,9,-999.0000,9,  -999.00,      345
  49UF20110617,  PR02,  3018,  1,     36,  21995,3,20110620,0300, 30.0065, 136.9902, 4526,     11.3,  23.7579,  34.4367,2,-999.0000,9,    215.0,2,     1.48,2,     0.04,2,     0.00,2,     0.02,2,   1951.9,2,   2256.4,2,   8.0247,4,    25.00,      401
  49UF20110617,  PR02,  3018,  1,     35,  21994,3,20110620,0300, 30.0065, 136.9902, 4526,     26.0,  23.1543,  34.4714,2,-999.0000,9,    216.7,2,     1.44,2,     0.02,2,     0.00,2,     0.02,2,   1958.4,2,   2251.7,2,   8.0190,4,    25.00,      400
  49UF20110617,  PR02,  3018,  1,     34,  21993,2,20110620,0300, 30.0065, 136.9902, 4526,     51.8,  20.4504,  34.7599,2,-999.0000,9,    221.9,2,     1.97,2,     0.30,2,     0.08,2,     0.06,2,   1988.3,2,   2269.9,2,   8.0048,4,    25.00,      357
  49UF20110617,  PR02,  3018,  1,     33,  21992,2,20110620,0300, 30.0065, 136.9902, 4526,     76.7,  19.3990,  34.7802,2,-999.0000,9,    215.2,2,     2.29,2,     1.57,2,     0.06,2,     0.14,2,   2001.5,2,   2274.0,2,   7.9637,4,    25.00,      355
  49UF20110617,  PR02,  3018,  1,     32,  21991,3,20110620,0300, 30.0065, 136.9902, 4526,    101.6,  19.0637,  34.7791,2,-999.0000,9,    214.6,2,     2.43,2,     1.89,2,     0.03,2,     0.15,2,   2004.3,2,   2272.4,3,   7.9625,4,    25.00,      354
  49UF20110617,  PR02,  3018,  1,     31,  21990,2,20110620,0300, 30.0065, 136.9902, 4526,    101.6,  19.0637,  34.7791,2,-999.0000,9,    214.7,6,     2.43,6,     1.91,6,     0.03,6,     0.15,6,   2004.4,2,   2275.2,2,   7.9689,4,    25.00,      354
  49UF20110617,  PR02,  3018,  1,     27,  21986,2,20110620,0300, 30.0065, 136.9902, 4526,    126.6,  18.6299,  34.7758,2,-999.0000,9,    217.0,2,     2.48,2,     2.09,2,     0.02,2,     0.15,2,   2009.3,2,   2284.3,2,   7.9524,4,    25.00,      352
  49UF20110617,  PR02,  3018,  1,     26,  21985,2,20110620,0300, 30.0065, 136.9902, 4526,    153.5,  18.4738,  34.7706,2,-999.0000,9,    217.7,2,     2.62,2,     2.28,2,     0.02,2,     0.17,2,   2006.3,2,   2274.2,2,   7.9587,4,    25.00,      350
  49UF20110617,  PR02,  3018,  1,     25,  21984,2,20110620,0300, 30.0065, 136.9902, 4526,    202.9,  18.0333,  34.7476,2,-999.0000,9,    214.8,2,     3.20,2,     3.03,2,     0.01,2,     0.21,2,   2017.9,2,   2274.2,2,   7.9416,4,    25.00,      349
  49UF20110617,  PR02,  3018,  1,     24,  21983,2,20110620,0300, 30.0065, 136.9902, 4526,    253.6,  17.4030,  34.7286,2,-999.0000,9,    222.1,2,     3.34,2,     3.09,2,     0.01,2,     0.21,2,   2018.6,2,   2267.4,2,   7.9330,4,    25.00,      347
  49UF20110617,  PR02,  3018,  1,     23,  21982,3,20110620,0300, 30.0065, 136.9902, 4526,    303.1,  17.3218,  34.7257,2,-999.0000,9,    223.4,2,     3.39,2,     3.11,2,     0.01,2,     0.23,2,   2018.2,2,   2264.5,2,   7.9377,4,    25.00,      345
  49UF20110617,  PR02,  3018,  1,     22,  21981,3,20110620,0300, 30.0065, 136.9902, 4526,    402.0,  17.0833,  34.7163,2,-999.0000,9,    222.3,2,     3.95,2,     3.65,2,     0.01,2,     0.26,2,   2021.5,2,   2271.5,2,   7.9231,4,    25.00,      342
  49UF20110617,  PR02,  3018,  1,     18,  21977,2,20110620,0300, 30.0065, 136.9902, 4526,    505.5,  14.6192,  34.5514,2,-999.0000,9,    177.9,2,    13.38,2,    11.60,2,     0.00,2,     0.81,2,   2082.9,2,   2269.8,2,   7.7973,4,    25.00,      339
  49UF20110617,  PR02,  3018,  1,     17,  21976,2,20110620,0300, 30.0065, 136.9902, 4526,    605.4,  10.8452,  34.3316,2,-999.0000,9,    157.5,6,    30.99,6,    19.64,6,     0.00,6,     1.40,6,   2141.4,2,   2273.5,2,   7.6790,4,    25.00,      336
  49UF20110617,  PR02,  3018,  1,     16,  21975,2,20110620,0300, 30.0065, 136.9902, 4526,    707.0,   8.1980,  34.2636,2,-999.0000,9,    123.1,2,    55.17,2,    27.33,2,     0.00,2,     1.99,2,   2206.2,6,   2287.8,2,   7.5507,4,    25.00,      333
  49UF20110617,  PR02,  3018,  1,     12,  21971,2,20110620,0300, 30.0065, 136.9902, 4526,    807.5,   6.1212,  34.2090,2,-999.0000,9,     99.4,2,    75.49,2,    32.86,2,     0.00,2,     2.38,2,   2252.4,2,   2298.9,2,   7.4553,4,    25.00,      330
  49UF20110617,  PR02,  3018,  1,     11,  21970,2,20110620,0300, 30.0065, 136.9902, 4526,    908.8,   4.9689,  34.2636,2,-999.0000,9,     75.9,2,    95.13,2,    36.66,2,     0.00,2,     2.67,2,   2289.9,2,   2325.3,2,   7.3969,4,    25.00,      327
  49UF20110617,  PR02,  3018,  1,     10,  21969,2,20110620,0300, 30.0065, 136.9902, 4526,   1010.3,   4.1273,  34.3243,2,-999.0000,9,     61.7,2,   111.59,2,    39.32,2,     0.00,2,     2.83,2,   2321.8,2,   2341.0,2,   7.3864,4,    25.00,      324
  49UF20110617,  PR02,  3018,  1,      9,  21968,2,20110620,0300, 30.0065, 136.9902, 4526,   1010.3,   4.1273,  34.3243,2,-999.0000,9,     62.0,6,   111.97,6,    39.30,6,     0.00,6,     2.85,6,   2320.1,2,   2344.8,3,   7.3683,4,    25.00,      324
  49UF20110617,  PR02,  3018,  1,      8,  21967,2,20110620,0300, 30.0065, 136.9902, 4526,   1213.0,   3.2235,  34.4169,2,-999.0000,9,     55.2,2,   131.48,2,    40.99,2,     0.00,2,     2.95,2,   2349.0,2,   2360.5,2,   7.3543,4,    25.00,      320
  49UF20110617,  PR02,  3018,  1,      7,  21966,2,20110620,0300, 30.0065, 136.9902, 4526,   1414.6,   2.8008,  34.4802,2,-999.0000,9,     62.9,2,   140.01,2,    40.91,2,     0.00,2,     2.93,2,   2358.4,6,   2374.8,2,   7.4016,4,    25.00,      315
  49UF20110617,  PR02,  3018,  1,      6,  21965,2,20110620,0300, 30.0065, 136.9902, 4526,   1619.0,   2.4368,  34.5272,2,-999.0000,9,     68.1,2,   147.80,2,    41.09,2,     0.00,2,     2.93,2,   2362.4,2,   2388.4,2,   7.3790,4,    25.00,      310
  49UF20110617,  PR02,  3018,  1,      5,  21964,2,20110620,0300, 30.0065, 136.9902, 4526,   1820.9,   2.2079,  34.5673,2,-999.0000,9,     84.8,2,   148.13,2,    40.01,2,     0.00,2,     2.86,2,   2354.8,2,   2394.8,2,   7.4517,4,    25.00,      305
  49UF20110617,  PR02,  3018,  1,      4,  21963,3,20110620,0300, 30.0065, 136.9902, 4526,   2037.7,   2.0054,  34.5990,2,-999.0000,9,    101.8,4,   147.99,2,    39.13,2,     0.00,2,     2.79,2,   2349.0,2,   2394.7,2,   7.4456,4,    25.00,      300