BOTTLE,20191015PRINUNIVRMK
EXPOCODE,SECT_ID,STNNBR,CASTNO,SAMPNO,BTLNBR,BTLNBR_FLAG_W,DATE,TIME,LATITUDE,LONGITUDE,DEPTH,CTDPRS,CTDTMP,CTDSAL,CTDSAL_FLAG_W,SALNTY,SALNTY_FLAG_W,OXYGEN,OXYGEN_FLAG_W,SILCAT,SILCAT_FLAG_W,NITRAT,NITRAT_FLAG_W,NITRIT,NITRIT_FLAG_W,PHSPHT,PHSPHT_FLAG_W,TCARBN,TCARBN_FLAG_W,ALKALI,ALKALI_FLAG_W,PH_TOT,PH_TOT_FLAG_W,PH_TMP,BTL_TIME
,,,,,,,,,,,METERS,DBAR,ITS-90,PSS-78,,PSS-78,,UMOL/KG,,UMOL/KG,,UMOL/KG,,UMOL/KG,,UMOL/KG,,UMOL/KG,,UMOL/KG,,,,DEG C,
  49UF20110617,  PR02,  3034,  1,     99,     99,2,20110625,1810, 14.0098, 136.9772, 5041,      0.0,  29.4549,  33.8379,2,-999.0000,9,    194.6,2,     1.08,2,     0.01,2,     0.00,2,     0.02,2,   -999.0,9,   -999.0,9,-999.0000,9,  -999.00,     1958
  49UF20110617,  PR02,  3034,  1,     36,  21995,2,20110625,1810, 14.0098, 136.9772, 5041,     10.2,  29.4550,  33.8370,2,  33.8370,2,    195.1,2,     1.10,2,     0.00,2,     0.00,2,     0.02,2,   -999.0,9,   -999.0,9,-999.0000,9,  -999.00,     2017
  49UF20110617,  PR02,  3034,  1,     35,  21994,2,20110625,1810, 14.0098, 136.9772, 5041,     25.9,  29.4219,  33.8850,2,-999.0000,9,    195.1,2,     1.08,2,     0.00,2,     0.00,2,     0.03,2,   -999.0,9,   -999.0,9,-999.0000,9,  -999.00,     2015
  49UF20110617,  PR02,  3034,  1,     34,  21993,2,20110625,1810, 14.0098, 136.9772, 5041,     52.9,  29.5155,  34.0757,2,-999.0000,9,    195.6,2,     1.01,2,     0.01,2,     0.00,2,     0.03,2,   -999.0,9,   -999.0,9,-999.0000,9,  -999.00,     2013
  49UF20110617,  PR02,  3034,  1,     33,  21992,2,20110625,1810, 14.0098, 136.9772, 5041,     77.0,  28.4221,  34.8544,2,-999.0000,9,    205.5,2,     0.88,2,     0.01,2,     0.00,2,     0.08,2,   -999.0,9,   -999.0,9,-999.0000,9,  -999.00,     2011
  49UF20110617,  PR02,  3034,  1,     32,  21991,2,20110625,1810, 14.0098, 136.9772, 5041,    102.5,  27.3052,  35.0169,2,  35.0154,2,    205.1,2,     0.96,2,     0.00,2,     0.00,2,     0.07,2,   -999.0,9,   -999.0,9,-999.0000,9,  -999.00,     2009
  49UF20110617,  PR02,  3034,  1,     31,  21990,2,20110625,1810, 14.0098, 136.9772, 5041,    126.2,  25.9885,  35.1707,2,-999.0000,9,    201.9,2,     1.03,2,     0.02,2,     0.00,2,     0.09,2,   -999.0,9,   -999.0,9,-999.0000,9,  -999.00,     2006
  49UF20110617,  PR02,  3034,  1,     30,  21989,4,20110625,1810, 14.0098, 136.9772, 5041,    151.6,  24.1515,  35.2432,2,-999.0000,9,    190.2,4,     1.26,4,     0.09,4,     0.08,4,     0.14,4,   -999.0,9,   -999.0,9,-999.0000,9,  -999.00,     2002
  49UF20110617,  PR02,  3034,  1,     29,  21988,2,20110625,1810, 14.0098, 136.9772, 5041,    204.7,  19.3479,  34.8961,2,  34.9004,2,    167.3,2,     3.89,2,     5.00,2,     0.01,2,     0.46,2,   -999.0,9,   -999.0,9,-999.0000,9,  -999.00,     2000
  49UF20110617,  PR02,  3034,  1,     28,  21987,2,20110625,1810, 14.0098, 136.9772, 5041,    252.7,  16.7327,  34.6524,2,-999.0000,9,    159.8,6,     7.43,6,     9.04,6,     0.01,6,     0.73,6,   -999.0,9,   -999.0,9,-999.0000,9,  -999.00,     1959
  49UF20110617,  PR02,  3034,  1,     27,  21986,4,20110625,1810, 14.0098, 136.9772, 5041,    303.7,  14.0650,  34.4721,2,-999.0000,9,   -999.0,9,  -999.00,9,  -999.00,9,  -999.00,9,  -999.00,9,   -999.0,9,   -999.0,9,-999.0000,9,  -999.00,     1957
  49UF20110617,  PR02,  3034,  1,     26,  21985,2,20110625,1810, 14.0098, 136.9772, 5041,    403.3,   8.7751,  34.2283,2,  34.2268,2,    118.4,2,    38.80,2,    26.67,2,     0.00,2,     1.94,2,   -999.0,9,   -999.0,9,-999.0000,9,  -999.00,     1954
  49UF20110617,  PR02,  3034,  1,     25,  21984,2,20110625,1810, 14.0098, 136.9772, 5041,    504.7,   7.2435,  34.3431,2,-999.0000,9,     73.6,2,    57.06,2,    34.05,2,     0.00,2,     2.47,2,   -999.0,9,   -999.0,9,-999.0000,9,  -999.00,     1952
  49UF20110617,  PR02,  3034,  1,     24,  21983,2,20110625,1810, 14.0098, 136.9772, 5041,    605.6,   6.0608,  34.4221,2,  34.4213,2,     70.6,2,    71.73,2,    36.82,2,     0.00,2,     2.66,2,   -999.0,9,   -999.0,9,-999.0000,9,  -999.00,     1949
  49UF20110617,  PR02,  3034,  1,     23,  21982,2,20110625,1810, 14.0098, 136.9772, 5041,    706.3,   5.5163,  34.4689,2,-999.0000,9,     74.7,2,    78.55,2,    37.65,2,     0.00,2,     2.71,2,   -999.0,9,   -999.0,9,-999.0000,9,  -999.00,     1947
  49UF20110617,  PR02,  3034,  1,     22,  21981,2,20110625,1810, 14.0098, 136.9772, 5041,    807.9,   5.0450,  34.5040,2,  34.5033,2,     79.2,2,    85.58,2,    38.16,2,     0.00,2,     2.74,2,   -999.0,9,   -999.0,9,-999.0000,9,  -999.00,     1944
  49UF20110617,  PR02,  3034,  1,     21,  21980,2,20110625,1810, 14.0098, 136.9772, 5041,    909.4,   4.5269,  34.5291,2,-999.0000,9,     83.0,2,    94.50,2,    38.43,2,     0.00,2,     2.75,2,   -999.0,9,   -999.0,9,-999.0000,9,  -999.00,     1941
  49UF20110617,  PR02,  3034,  1,     20,  21979,2,20110625,1810, 14.0098, 136.9772, 5041,   1010.3,   4.1213,  34.5455,2,  34.5453,2,     85.8,6,   102.20,6,    38.77,6,     0.00,6,     2.77,6,   -999.0,9,   -999.0,9,-999.0000,9,  -999.00,     1939
  49UF20110617,  PR02,  3034,  1,     19,  21978,2,20110625,1810, 14.0098, 136.9772, 5041,   1210.6,   3.4802,  34.5669,2,  34.5670,2,     91.2,2,   115.58,2,    39.02,2,     0.00,2,     2.78,2,   -999.0,9,   -999.0,9,-999.0000,9,  -999.00,     1934
  49UF20110617,  PR02,  3034,  1,     18,  21977,2,20110625,1810, 14.0098, 136.9772, 5041,   1414.5,   2.9917,  34.5850,2,  34.5847,2,     97.5,2,   125.24,2,    39.02,2,     0.00,2,     2.77,2,   -999.0,9,   -999.0,9,-999.0000,9,  -999.00,     1930
  49UF20110617,  PR02,  3034,  1,     17,  21976,2,20110625,1810, 14.0098, 136.9772, 5041,   1616.7,   2.5395,  34.6038,2,-999.0000,9,    103.7,2,   133.89,2,    38.80,2,     0.00,2,     2.75,2,   -999.0,9,   -999.0,9,-999.0000,9,  -999.00,     1926
  49UF20110617,  PR02,  3034,  1,     16,  21975,2,20110625,1810, 14.0098, 136.9772, 5041,   1819.5,   2.3467,  34.6147,2,  34.6140,2,    108.2,2,   137.71,2,    38.69,2,     0.00,2,     2.74,2,   -999.0,9,   -999.0,9,-999.0000,9,  -999.00,     1921
  49UF20110617,  PR02,  3034,  1,     15,  21974,2,20110625,1810, 14.0098, 136.9772, 5041,   2021.8,   2.1200,  34.6301,2,  34.6306,2,    115.0,2,   141.02,2,    38.40,2,     0.00,2,     2.71,2,   -999.0,9,   -999.0,9,-999.0000,9,  -999.00,     1917
  49UF20110617,  PR02,  3034,  1,     14,  21973,2,20110625,1810, 14.0098, 136.9772, 5041,   2275.6,   1.9390,  34.6422,2,  34.6418,6,    120.7,2,   144.17,2,    38.14,2,     0.00,2,     2.67,2,   -999.0,9,   -999.0,9,-999.0000,9,  -999.00,     1911
  49UF20110617,  PR02,  3034,  1,     13,  21972,2,20110625,1810, 14.0098, 136.9772, 5041,   2531.5,   1.7911,  34.6537,2,-999.0000,9,    127.9,2,   145.00,2,    37.73,2,     0.00,2,     2.64,2,   -999.0,9,   -999.0,9,-999.0000,9,  -999.00,     1906
  49UF20110617,  PR02,  3034,  1,     12,  21971,2,20110625,1810, 14.0098, 136.9772, 5041,   2788.5,   1.7193,  34.6604,2,  34.6608,2,    132.6,2,   144.83,2,    37.39,2,     0.00,2,     2.62,2,   -999.0,9,   -999.0,9,-999.0000,9,  -999.00,     1900
  49UF20110617,  PR02,  3034,  1,     11,  21970,2,20110625,1810, 14.0098, 136.9772, 5041,   3040.7,   1.6523,  34.6665,2,-999.0000,9,    138.2,2,   144.99,2,    37.01,2,     0.00,2,     2.58,2,   -999.0,9,   -999.0,9,-999.0000,9,  -999.00,     1854
  49UF20110617,  PR02,  3034,  1,     10,  21969,2,20110625,1810, 14.0098, 136.9772, 5041,   3295.1,   1.6148,  34.6708,2,  34.6712,2,    142.6,2,   144.10,2,    36.77,2,     0.00,2,     2.56,2,   -999.0,9,   -999.0,9,-999.0000,9,  -999.00,     1849
  49UF20110617,  PR02,  3034,  1,      9,  21968,2,20110625,1810, 14.0098, 136.9772, 5041,   3550.0,   1.5829,  34.6748,2,-999.0000,9,    147.0,2,   143.26,2,    36.45,2,     0.00,2,     2.54,2,   -999.0,9,   -999.0,9,-999.0000,9,  -999.00,     1844
  49UF20110617,  PR02,  3034,  1,      8,  21967,2,20110625,1810, 14.0098, 136.9772, 5041,   3807.1,   1.5499,  34.6789,2,  34.6793,2,    151.6,2,   142.32,2,    36.20,2,     0.00,2,     2.52,2,   -999.0,9,   -999.0,9,-999.0000,9,  -999.00,     1838
  49UF20110617,  PR02,  3034,  1,      7,  21966,2,20110625,1810, 14.0098, 136.9772, 5041,   4062.0,   1.5276,  34.6827,2,-999.0000,9,    156.0,2,   141.26,2,    35.87,2,     0.00,2,     2.50,2,   -999.0,9,   -999.0,9,-999.0000,9,  -999.00,     1833
  49UF20110617,  PR02,  3034,  1,      6,  21965,2,20110625,1810, 14.0098, 136.9772, 5041,   4318.3,   1.5198,  34.6852,2,  34.6855,6,    158.8,2,   140.15,2,    35.66,2,     0.00,2,     2.48,2,   -999.0,9,   -999.0,9,-999.0000,9,  -999.00,     1828
  49UF20110617,  PR02,  3034,  1,      5,  21964,2,20110625,1810, 14.0098, 136.9772, 5041,   4575.0,   1.5211,  34.6874,2,-999.0000,9,    161.5,2,   139.29,2,    35.41,2,     0.00,2,     2.46,2,   -999.0,9,   -999.0,9,-999.0000,9,  -999.00,     1822
  49UF20110617,  PR02,  3034,  1,      4,  21963,2,20110625,1810, 14.0098, 136.9772, 5041,   4831.6,   1.5465,  34.6878,2,  34.6871,2,    162.2,2,   138.83,2,    35.46,2,     0.00,2,     2.46,2,   -999.0,9,   -999.0,9,-999.0000,9,  -999.00,     1817
  49UF20110617,  PR02,  3034,  1,      3,  21962,2,20110625,1810, 14.0098, 136.9772, 5041,   5088.2,   1.5757,  34.6879,2,  34.6880,6,    162.0,6,   139.32,6,    35.39,6,     0.00,6,     2.46,6,   -999.0,9,   -999.0,9,-999.0000,9,  -999.00,     1812
  49UF20110617,  PR02,  3034,  1,      1,  21960,2,20110625,1810, 14.0098, 136.9772, 5041,   5116.0,   1.5777,  34.6883,2,  34.6883,2,    162.4,2,   139.19,2,    35.36,2,     0.00,2,     2.46,2,   -999.0,9,   -999.0,9,-999.0000,9,  -999.00,     1810
  49UF20110617,  PR02,  3034,  1,      2,  21961,2,20110625,1810, 14.0098, 136.9772, 5041,   5116.8,   1.5779,  34.6880,2,  34.6885,2,    162.3,2,   138.89,2,    35.44,2,     0.00,2,     2.45,2,   -999.0,9,   -999.0,9,-999.0000,9,  -999.00,     1810
  49UF20110617,  PR02,  3035,  1,     99,     99,2,20110626,0301, 12.9993, 136.9698, 4798,      0.0,  29.5390,  33.5811,2,-999.0000,9,    195.2,2,     1.18,2,     0.00,2,     0.00,2,     0.01,2,   -999.0,9,   -999.0,9,-999.0000,9,  -999.00,      450
  49UF20110617,  PR02,  3035,  1,     36,  21995,2,20110626,0301, 12.9993, 136.9698, 4798,     11.3,  29.4875,  33.5812,2,-999.0000,9,    195.8,2,     1.14,2,     0.00,2,     0.00,2,     0.00,2,   1872.6,2,   2201.2,2,   8.1211,4,    25.00,      510
  49UF20110617,  PR02,  3035,  1,     35,  21994,2,20110626,0301, 12.9993, 136.9698, 4798,     26.8,  29.4420,  33.5861,2,-999.0000,9,    195.9,2,     1.18,2,     0.00,2,     0.00,2,     0.00,2,   1873.5,2,   2202.8,2,   8.1137,4,    25.00,      509
  49UF20110617,  PR02,  3035,  1,     34,  21993,2,20110626,0301, 12.9993, 136.9698, 4798,     51.0,  29.4118,  33.6742,2,-999.0000,9,    196.2,2,     1.11,2,     0.01,2,     0.00,2,     0.00,2,   1878.1,2,   2206.7,2,   8.1106,4,    25.00,      505
  49UF20110617,  PR02,  3035,  1,     33,  21992,2,20110626,0301, 12.9993, 136.9698, 4798,     76.0,  29.0075,  34.6481,2,-999.0000,9,    203.5,2,     0.79,2,     0.00,2,     0.00,2,     0.06,2,   1935.3,2,   2272.4,2,   8.1100,4,    25.00,      503
  49UF20110617,  PR02,  3035,  1,     32,  21991,2,20110626,0301, 12.9993, 136.9698, 4798,    101.6,  28.3748,  34.8234,2,-999.0000,9,    203.1,2,     0.79,2,     0.00,2,     0.00,2,     0.07,2,   1947.8,2,   2284.2,2,   8.0927,4,    25.00,      502
  49UF20110617,  PR02,  3035,  1,     31,  21990,2,20110626,0301, 12.9993, 136.9698, 4798,    126.0,  27.4623,  35.0027,2,-999.0000,9,    202.1,2,     0.83,2,     0.00,2,     0.00,2,     0.07,2,   1966.1,2,   2297.0,2,   8.0767,4,    25.00,      500
  49UF20110617,  PR02,  3035,  1,     30,  21989,2,20110626,0301, 12.9993, 136.9698, 4798,    152.6,  25.5458,  35.1988,2,-999.0000,9,    196.6,2,     0.97,2,     0.00,2,     0.00,2,     0.09,2,   2002.1,2,   2311.1,2,   8.0374,4,    25.00,      459
  49UF20110617,  PR02,  3035,  1,     29,  21988,2,20110626,0301, 12.9993, 136.9698, 4798,    202.0,  20.4961,  34.9779,2,-999.0000,9,    167.8,6,     3.18,6,     3.88,6,     0.03,6,     0.39,6,   2060.9,2,   2298.4,2,   7.9252,4,    25.00,      457
  49UF20110617,  PR02,  3035,  1,     28,  21987,2,20110626,0301, 12.9993, 136.9698, 4798,    252.8,  15.3761,  34.5660,2,-999.0000,9,    164.8,2,     9.45,2,    10.64,2,     0.00,2,     0.80,2,   2089.2,2,   2274.7,2,   7.8081,4,    25.00,      455
  49UF20110617,  PR02,  3035,  1,     27,  21986,2,20110626,0301, 12.9993, 136.9698, 4798,    302.3,  12.9185,  34.4046,2,-999.0000,9,    159.6,2,    16.04,2,    15.33,2,     0.00,2,     1.13,2,   2118.7,2,   2268.1,2,   7.7432,4,    25.00,      449
  49UF20110617,  PR02,  3035,  1,     26,  21985,2,20110626,0301, 12.9993, 136.9698, 4798,    404.9,   8.5850,  34.2364,2,-999.0000,9,    107.8,2,    41.14,2,    28.04,2,     0.00,2,     2.04,2,   2206.8,2,   2281.3,2,   7.5543,4,    25.00,      446
  49UF20110617,  PR02,  3035,  1,     25,  21984,2,20110626,0301, 12.9993, 136.9698, 4798,    504.8,   6.9354,  34.3286,2,-999.0000,9,     70.7,2,    60.66,2,    34.70,2,     0.00,2,     2.51,2,   2265.8,2,   2306.9,2,   7.4559,4,    25.00,      443
  49UF20110617,  PR02,  3035,  1,     24,  21983,2,20110626,0301, 12.9993, 136.9698, 4798,    607.1,   6.0979,  34.4134,2,-999.0000,9,     69.4,2,    71.46,2,    36.72,2,     0.00,2,     2.66,2,   2281.6,2,   2322.5,6,   7.4575,4,    25.00,      440
  49UF20110617,  PR02,  3035,  1,     23,  21982,2,20110626,0301, 12.9993, 136.9698, 4798,    706.8,   5.3497,  34.4780,2,-999.0000,9,     75.4,2,    81.32,2,    37.84,2,     0.00,2,     2.71,2,   2295.8,2,   2338.8,2,   7.4604,4,    25.00,      438
  49UF20110617,  PR02,  3035,  1,     22,  21981,2,20110626,0301, 12.9993, 136.9698, 4798,    807.0,   4.8518,  34.5132,2,-999.0000,9,     80.6,2,    88.75,2,    38.34,2,     0.00,2,     2.74,2,   2300.0,2,   2349.8,2,   7.4657,4,    25.00,      435
  49UF20110617,  PR02,  3035,  1,     21,  21980,2,20110626,0301, 12.9993, 136.9698, 4798,    908.6,   4.4341,  34.5310,2,-999.0000,9,     82.4,2,    96.57,2,    38.72,2,     0.00,2,     2.76,2,   2308.5,2,   2357.5,2,   7.4659,4,    25.00,      432
  49UF20110617,  PR02,  3035,  1,     20,  21979,2,20110626,0301, 12.9993, 136.9698, 4798,   1008.6,   4.1127,  34.5455,2,-999.0000,9,     86.0,2,   102.82,2,    38.81,2,     0.00,2,     2.77,2,   2315.5,2,   2366.0,2,   7.4709,4,    25.00,      429
  49UF20110617,  PR02,  3035,  1,     19,  21978,2,20110626,0301, 12.9993, 136.9698, 4798,   1214.9,   3.4303,  34.5683,2,-999.0000,9,     92.4,2,   116.39,2,    38.95,2,     0.00,2,     2.76,3,   2327.5,2,   2378.6,2,   7.4796,4,    25.00,      424
  49UF20110617,  PR02,  3035,  1,     18,  21977,2,20110626,0301, 12.9993, 136.9698, 4798,   1414.5,   2.9423,  34.5853,2,-999.0000,9,     98.0,2,   126.90,2,    38.91,2,     0.00,2,     2.75,2,   2333.7,2,   2391.2,2,   7.4817,4,    25.00,      419
  49UF20110617,  PR02,  3035,  1,     17,  21976,2,20110626,0301, 12.9993, 136.9698, 4798,   1617.4,   2.6064,  34.6009,2,-999.0000,9,    102.4,2,   132.91,2,    38.75,2,     0.00,2,     2.75,2,   2338.8,2,   2397.6,2,   7.4892,4,    25.00,      414
  49UF20110617,  PR02,  3035,  1,     16,  21975,2,20110626,0301, 12.9993, 136.9698, 4798,   1817.8,   2.3098,  34.6191,2,-999.0000,9,    109.1,2,   137.59,2,    38.65,2,     0.00,2,     2.72,2,   2340.9,2,   2403.0,2,   7.4992,4,    25.00,      409
  49UF20110617,  PR02,  3035,  1,     15,  21974,2,20110626,0301, 12.9993, 136.9698, 4798,   2021.5,   2.0923,  34.6337,2,-999.0000,9,    115.4,2,   140.97,2,    38.45,2,     0.00,2,     2.69,2,   2341.7,2,   2404.6,2,   7.5045,4,    25.00,      405
  49UF20110617,  PR02,  3035,  1,     14,  21973,2,20110626,0301, 12.9993, 136.9698, 4798,   2021.5,   2.0923,  34.6337,2,-999.0000,9,    115.6,6,   141.38,6,    38.47,6,     0.00,6,     2.70,6,   2341.0,6,   2406.2,6,   7.5054,4,    25.00,      405
  49UF20110617,  PR02,  3035,  1,     13,  21972,2,20110626,0301, 12.9993, 136.9698, 4798,   2276.1,   1.9049,  34.6457,2,-999.0000,9,    121.6,2,   144.23,2,    38.12,2,     0.00,2,     2.67,2,   -999.0,9,   -999.0,9,-999.0000,9,  -999.00,      359
  49UF20110617,  PR02,  3035,  1,     12,  21971,2,20110626,0301, 12.9993, 136.9698, 4798,   2530.4,   1.7634,  34.6557,2,-999.0000,9,    128.7,2,   145.90,2,    37.72,2,     0.00,2,     2.63,2,   -999.0,9,   -999.0,9,-999.0000,9,  -999.00,      354
  49UF20110617,  PR02,  3035,  1,     11,  21970,2,20110626,0301, 12.9993, 136.9698, 4798,   2786.6,   1.6801,  34.6634,2,-999.0000,9,    135.5,2,   145.25,2,    37.15,2,     0.00,2,     2.60,2,   -999.0,9,   -999.0,9,-999.0000,9,  -999.00,      348
  49UF20110617,  PR02,  3035,  1,     10,  21969,2,20110626,0301, 12.9993, 136.9698, 4798,   3041.5,   1.6265,  34.6684,2,-999.0000,9,    140.4,2,   144.87,2,    37.02,2,     0.00,2,     2.57,2,   -999.0,9,   -999.0,9,-999.0000,9,  -999.00,      343
  49UF20110617,  PR02,  3035,  1,      9,  21968,2,20110626,0301, 12.9993, 136.9698, 4798,   3295.3,   1.5838,  34.6729,2,-999.0000,9,    144.9,2,   143.55,2,    36.68,2,     0.00,2,     2.55,2,   -999.0,9,   -999.0,9,-999.0000,9,  -999.00,      337
  49UF20110617,  PR02,  3035,  1,      8,  21967,2,20110626,0301, 12.9993, 136.9698, 4798,   3550.5,   1.5465,  34.6775,2,-999.0000,9,    149.8,2,   143.07,2,    36.40,2,     0.00,2,     2.52,2,   -999.0,9,   -999.0,9,-999.0000,9,  -999.00,      332
  49UF20110617,  PR02,  3035,  1,      7,  21966,2,20110626,0301, 12.9993, 136.9698, 4798,   3806.9,   1.5288,  34.6806,2,-999.0000,9,    153.3,2,   141.73,2,    36.07,2,     0.00,2,     2.50,2,   -999.0,9,   -999.0,9,-999.0000,9,  -999.00,      326
  49UF20110617,  PR02,  3035,  1,      6,  21965,2,20110626,0301, 12.9993, 136.9698, 4798,   4062.1,   1.5241,  34.6829,2,-999.0000,9,    156.1,2,   141.30,2,    36.04,2,     0.00,2,     2.50,2,   -999.0,9,   -999.0,9,-999.0000,9,  -999.00,      321
  49UF20110617,  PR02,  3035,  1,      5,  21964,2,20110626,0301, 12.9993, 136.9698, 4798,   4317.8,   1.5132,  34.6857,2,-999.0000,9,    159.7,2,   139.73,2,    35.67,2,     0.00,2,     2.47,2,   -999.0,9,   -999.0,9,-999.0000,9,  -999.00,      315
  49UF20110617,  PR02,  3035,  1,      4,  21963,2,20110626,0301, 12.9993, 136.9698, 4798,   4574.6,   1.5225,  34.6873,2,-999.0000,9,    161.3,2,   138.98,2,    35.49,2,     0.00,2,     2.46,2,   -999.0,9,   -999.0,9,-999.0000,9,  -999.00,      310
  49UF20110617,  PR02,  3035,  1,      3,  21962,2,20110626,0301, 12.9993, 136.9698, 4798,   4829.8,   1.5419,  34.6881,2,-999.0000,9,    162.8,2,   139.53,2,    35.62,2,     0.00,2,     2.46,2,   -999.0,9,   -999.0,9,-999.0000,9,  -999.00,      305
  49UF20110617,  PR02,  3035,  1,      2,  21961,2,20110626,0301, 12.9993, 136.9698, 4798,   4945.5,   1.5554,  34.6881,2,-999.0000,9,    162.9,2,   138.96,2,    35.48,2,     0.00,2,     2.46,2,   -999.0,9,   -999.0,9,-999.0000,9,  -999.00,      301
  49UF20110617,  PR02,  3035,  1,      1,  21960,2,20110626,0301, 12.9993, 136.9698, 4798,   4946.0,   1.5558,  34.6880,2,-999.0000,9,    162.9,6,   138.95,6,    35.47,6,     0.00,6,     2.46,6,   -999.0,9,   -999.0,9,-999.0000,9,  -999.00,      301