BOTTLE,20191015PRINUNIVRMK
EXPOCODE,SECT_ID,STNNBR,CASTNO,SAMPNO,BTLNBR,BTLNBR_FLAG_W,DATE,TIME,LATITUDE,LONGITUDE,DEPTH,CTDPRS,CTDTMP,CTDSAL,CTDSAL_FLAG_W,SALNTY,SALNTY_FLAG_W,OXYGEN,OXYGEN_FLAG_W,SILCAT,SILCAT_FLAG_W,NITRAT,NITRAT_FLAG_W,NITRIT,NITRIT_FLAG_W,PHSPHT,PHSPHT_FLAG_W,TCARBN,TCARBN_FLAG_W,ALKALI,ALKALI_FLAG_W,PH_TOT,PH_TOT_FLAG_W,PH_TMP,BTL_TIME
,,,,,,,,,,,METERS,DBAR,ITS-90,PSS-78,,PSS-78,,UMOL/KG,,UMOL/KG,,UMOL/KG,,UMOL/KG,,UMOL/KG,,UMOL/KG,,UMOL/KG,,,,DEG C,
  49UF20110617,  PR02,  3046,  1,     99,     99,2,20110708,1318,  3.0145, 137.0175, 4541,      0.0,  28.7508,  33.8500,2,-999.0000,9,    195.8,2,     1.65,2,     0.00,2,     0.00,2,     0.06,2,   -999.0,9,   -999.0,9,-999.0000,9,  -999.00,     1402
  49UF20110617,  PR02,  3046,  1,     36,  21995,2,20110708,1318,  3.0145, 137.0175, 4541,     11.3,  28.7485,  33.8478,2,  33.8475,2,    196.4,2,     1.65,2,     0.00,2,     0.00,2,     0.05,2,   -999.0,9,   -999.0,9,-999.0000,9,  -999.00,     1421
  49UF20110617,  PR02,  3046,  1,     35,  21994,2,20110708,1318,  3.0145, 137.0175, 4541,     26.1,  28.7690,  33.8547,2,-999.0000,9,    196.2,2,     1.65,2,     0.00,2,     0.00,2,     0.05,2,   -999.0,9,   -999.0,9,-999.0000,9,  -999.00,     1419
  49UF20110617,  PR02,  3046,  1,     34,  21993,2,20110708,1318,  3.0145, 137.0175, 4541,     50.6,  29.3637,  34.2789,2,-999.0000,9,    191.8,2,     1.47,2,     0.00,2,     0.00,2,     0.12,2,   -999.0,9,   -999.0,9,-999.0000,9,  -999.00,     1415
  49UF20110617,  PR02,  3046,  1,     33,  21992,2,20110708,1318,  3.0145, 137.0175, 4541,     75.4,  28.7077,  35.3845,2,-999.0000,9,    170.3,2,     1.65,2,     3.41,2,     0.31,2,     0.45,2,   -999.0,9,   -999.0,9,-999.0000,9,  -999.00,     1414
  49UF20110617,  PR02,  3046,  1,     32,  21991,2,20110708,1318,  3.0145, 137.0175, 4541,    101.1,  27.6415,  35.5504,2,  35.5477,6,    160.9,2,     1.77,2,     5.76,2,     0.05,2,     0.58,2,   -999.0,9,   -999.0,9,-999.0000,9,  -999.00,     1413
  49UF20110617,  PR02,  3046,  1,     31,  21990,2,20110708,1318,  3.0145, 137.0175, 4541,    126.6,  27.0113,  35.4143,2,-999.0000,9,    154.6,2,     2.49,2,     6.33,2,     0.03,2,     0.59,2,   -999.0,9,   -999.0,9,-999.0000,9,  -999.00,     1412
  49UF20110617,  PR02,  3046,  1,     27,  21986,2,20110708,1318,  3.0145, 137.0175, 4541,    150.9,  24.8624,  35.4056,2,-999.0000,9,    141.2,2,     3.28,2,     8.02,2,     0.02,2,     0.69,2,   -999.0,9,   -999.0,9,-999.0000,9,  -999.00,     1410
  49UF20110617,  PR02,  3046,  1,     26,  21985,2,20110708,1318,  3.0145, 137.0175, 4541,    150.9,  24.8624,  35.4056,2,-999.0000,9,    141.5,6,     3.28,6,     8.05,6,     0.02,6,     0.69,6,   -999.0,9,   -999.0,9,-999.0000,9,  -999.00,     1410
  49UF20110617,  PR02,  3046,  1,     25,  21984,2,20110708,1318,  3.0145, 137.0175, 4541,    202.1,  19.9717,  35.4998,2,  35.4887,4,    143.4,2,     3.82,2,     9.80,2,     0.01,2,     0.81,2,   -999.0,9,   -999.0,9,-999.0000,9,  -999.00,     1409
  49UF20110617,  PR02,  3046,  1,     24,  21983,2,20110708,1318,  3.0145, 137.0175, 4541,    253.0,  14.0603,  34.9384,2,-999.0000,9,    140.8,2,    14.99,2,    16.99,2,     0.00,2,     1.26,2,   -999.0,9,   -999.0,9,-999.0000,9,  -999.00,     1407
  49UF20110617,  PR02,  3046,  1,     23,  21982,2,20110708,1318,  3.0145, 137.0175, 4541,    303.9,  12.3166,  34.8248,2,-999.0000,9,    138.3,2,    19.59,2,    20.36,2,     0.00,2,     1.49,2,   -999.0,9,   -999.0,9,-999.0000,9,  -999.00,     1405
  49UF20110617,  PR02,  3046,  1,     22,  21981,2,20110708,1318,  3.0145, 137.0175, 4541,    405.6,   8.3822,  34.5886,2,  34.5871,2,     79.1,2,    38.71,2,    32.69,2,     0.00,2,     2.32,2,   -999.0,9,   -999.0,9,-999.0000,9,  -999.00,     1401
  49UF20110617,  PR02,  3046,  1,     18,  21977,2,20110708,1318,  3.0145, 137.0175, 4541,    505.6,   7.5090,  34.5606,2,-999.0000,9,    103.1,2,    41.70,2,    32.35,2,     0.00,2,     2.29,2,   -999.0,9,   -999.0,9,-999.0000,9,  -999.00,     1358
  49UF20110617,  PR02,  3046,  1,     17,  21976,2,20110708,1318,  3.0145, 137.0175, 4541,    605.5,   6.7210,  34.5505,2,  34.5499,2,     77.7,2,    51.83,2,    36.22,2,     0.00,2,     2.59,2,   -999.0,9,   -999.0,9,-999.0000,9,  -999.00,     1354
  49UF20110617,  PR02,  3046,  1,     16,  21975,2,20110708,1318,  3.0145, 137.0175, 4541,    706.3,   5.9339,  34.5344,2,-999.0000,9,     93.5,2,    62.14,2,    36.10,2,     0.00,2,     2.58,2,   -999.0,9,   -999.0,9,-999.0000,9,  -999.00,     1351
  49UF20110617,  PR02,  3046,  1,     12,  21971,2,20110708,1318,  3.0145, 137.0175, 4541,    807.4,   5.2723,  34.5427,2,  34.5409,2,     86.8,6,    72.29,6,    37.72,6,     0.00,6,     2.71,6,   -999.0,9,   -999.0,9,-999.0000,9,  -999.00,     1348
  49UF20110617,  PR02,  3046,  1,     11,  21970,2,20110708,1318,  3.0145, 137.0175, 4541,    908.0,   4.7804,  34.5505,2,-999.0000,9,     89.6,2,    81.75,2,    38.10,2,     0.00,2,     2.73,2,   -999.0,9,   -999.0,9,-999.0000,9,  -999.00,     1345
  49UF20110617,  PR02,  3046,  1,     10,  21969,2,20110708,1318,  3.0145, 137.0175, 4541,   1010.4,   4.3138,  34.5620,2,  34.5598,2,     92.5,2,    91.75,2,    38.24,2,     0.00,2,     2.74,2,   -999.0,9,   -999.0,9,-999.0000,9,  -999.00,     1342
  49UF20110617,  PR02,  3046,  1,      9,  21968,2,20110708,1318,  3.0145, 137.0175, 4541,   1212.7,   3.6957,  34.5777,2,  34.5755,2,     93.3,2,   106.21,2,    38.72,2,     0.00,2,     2.77,2,   -999.0,9,   -999.0,9,-999.0000,9,  -999.00,     1336
  49UF20110617,  PR02,  3046,  1,      8,  21967,2,20110708,1318,  3.0145, 137.0175, 4541,   1416.4,   3.1289,  34.5975,2,  34.5956,2,     98.6,2,   116.29,2,    38.91,2,     0.00,2,     2.78,2,   -999.0,9,   -999.0,9,-999.0000,9,  -999.00,     1331
  49UF20110617,  PR02,  3046,  1,      7,  21966,2,20110708,1318,  3.0145, 137.0175, 4541,   1618.9,   2.7479,  34.6122,2,  34.6113,2,    106.2,2,   124.29,2,    38.51,2,     0.00,2,     2.74,2,   -999.0,9,   -999.0,9,-999.0000,9,  -999.00,     1327
  49UF20110617,  PR02,  3046,  1,      6,  21965,2,20110708,1318,  3.0145, 137.0175, 4541,   1821.2,   2.3472,  34.6312,2,  34.6289,2,    111.9,2,   132.94,2,    38.38,2,     0.00,2,     2.72,2,   -999.0,9,   -999.0,9,-999.0000,9,  -999.00,     1322
  49UF20110617,  PR02,  3046,  1,      5,  21964,2,20110708,1318,  3.0145, 137.0175, 4541,   2018.3,   2.1196,  34.6427,2,  34.6407,2,    118.9,2,   137.28,2,    38.00,2,     0.00,2,     2.68,2,   -999.0,9,   -999.0,9,-999.0000,9,  -999.00,     1318
  49UF20110617,  PR02,  3046,  1,      4,  21963,2,20110708,1318,  3.0145, 137.0175, 4541,   2018.3,   2.1196,  34.6427,2,  34.6402,6,    118.9,6,   137.26,6,    38.02,6,     0.00,6,     2.69,6,   -999.0,9,   -999.0,9,-999.0000,9,  -999.00,     1318
  49UF20110617,  PR02,  3047,  1,     99,     99,2,20110708,1940,  2.8023, 138.0135, 4503,      0.0,  28.6500,  33.7373,2,-999.0000,9,    196.8,2,     1.66,2,    -0.01,2,     0.01,2,     0.07,2,   -999.0,9,   -999.0,9,-999.0000,9,  -999.00,     2020
  49UF20110617,  PR02,  3047,  1,     36,  21995,2,20110708,1940,  2.8023, 138.0135, 4503,     11.1,  28.6450,  33.7354,2,-999.0000,9,    196.6,2,     1.61,2,    -0.01,2,     0.01,2,     0.05,2,   -999.0,9,   -999.0,9,-999.0000,9,  -999.00,     2042
  49UF20110617,  PR02,  3047,  1,     35,  21994,2,20110708,1940,  2.8023, 138.0135, 4503,     26.6,  28.6989,  33.7670,2,-999.0000,9,    196.4,2,     1.62,2,    -0.01,2,     0.01,2,     0.06,2,   -999.0,9,   -999.0,9,-999.0000,9,  -999.00,     2041
  49UF20110617,  PR02,  3047,  1,     34,  21993,2,20110708,1940,  2.8023, 138.0135, 4503,     51.8,  28.9867,  34.2458,2,-999.0000,9,    190.1,2,     1.48,2,     0.12,2,     0.06,2,     0.15,2,   -999.0,9,   -999.0,9,-999.0000,9,  -999.00,     2037
  49UF20110617,  PR02,  3047,  1,     30,  21989,2,20110708,1940,  2.8023, 138.0135, 4503,     76.4,  28.5425,  35.2932,2,-999.0000,9,    162.8,2,     1.68,2,     4.06,2,     0.25,2,     0.47,2,   -999.0,9,   -999.0,9,-999.0000,9,  -999.00,     2036
  49UF20110617,  PR02,  3047,  1,     29,  21988,2,20110708,1940,  2.8023, 138.0135, 4503,    102.0,  27.1690,  35.1376,2,-999.0000,9,    155.3,2,     2.35,2,     5.68,2,     0.05,2,     0.55,2,   -999.0,9,   -999.0,9,-999.0000,9,  -999.00,     2034
  49UF20110617,  PR02,  3047,  1,     28,  21987,2,20110708,1940,  2.8023, 138.0135, 4503,    102.0,  27.1690,  35.1376,2,-999.0000,9,    154.8,6,     2.40,6,     5.68,6,     0.05,6,     0.54,6,   -999.0,9,   -999.0,9,-999.0000,9,  -999.00,     2034
  49UF20110617,  PR02,  3047,  1,     27,  21986,2,20110708,1940,  2.8023, 138.0135, 4503,    126.5,  27.5156,  35.4681,2,-999.0000,9,    155.9,2,     2.31,2,     6.03,2,     0.04,2,     0.57,2,   -999.0,9,   -999.0,9,-999.0000,9,  -999.00,     2033
  49UF20110617,  PR02,  3047,  1,     26,  21985,2,20110708,1940,  2.8023, 138.0135, 4503,    152.5,  24.6880,  34.9932,2,-999.0000,9,    144.1,2,     4.64,2,     7.17,2,     0.03,2,     0.60,2,   -999.0,9,   -999.0,9,-999.0000,9,  -999.00,     2031
  49UF20110617,  PR02,  3047,  1,     25,  21984,2,20110708,1940,  2.8023, 138.0135, 4503,    200.9,  19.4289,  35.3533,2,-999.0000,9,    144.8,2,     4.96,2,    10.18,2,     0.02,2,     0.82,2,   -999.0,9,   -999.0,9,-999.0000,9,  -999.00,     2030
  49UF20110617,  PR02,  3047,  1,     21,  21980,2,20110708,1940,  2.8023, 138.0135, 4503,    252.9,  14.9823,  35.1612,2,-999.0000,9,    152.8,2,     8.03,2,    14.56,2,     0.01,2,     1.10,2,   -999.0,9,   -999.0,9,-999.0000,9,  -999.00,     2027
  49UF20110617,  PR02,  3047,  1,     20,  21979,2,20110708,1940,  2.8023, 138.0135, 4503,    302.9,  11.7181,  34.6826,2,-999.0000,9,    122.4,2,    25.32,2,    22.67,2,     0.01,2,     1.65,2,   -999.0,9,   -999.0,9,-999.0000,9,  -999.00,     2025
  49UF20110617,  PR02,  3047,  1,     19,  21978,2,20110708,1940,  2.8023, 138.0135, 4503,    404.8,   8.0765,  34.5945,2,-999.0000,9,    119.6,2,    33.18,2,    29.90,2,     0.01,2,     2.11,2,   -999.0,9,   -999.0,9,-999.0000,9,  -999.00,     2022
  49UF20110617,  PR02,  3047,  1,     15,  21974,2,20110708,1940,  2.8023, 138.0135, 4503,    506.0,   7.7383,  34.5770,2,-999.0000,9,    132.8,2,    32.71,2,    29.42,2,     0.01,2,     2.07,2,   -999.0,9,   -999.0,9,-999.0000,9,  -999.00,     2019
  49UF20110617,  PR02,  3047,  1,     14,  21973,2,20110708,1940,  2.8023, 138.0135, 4503,    607.3,   7.2233,  34.5577,2,-999.0000,9,    104.2,2,    42.07,2,    32.99,2,     0.01,2,     2.33,2,   -999.0,9,   -999.0,9,-999.0000,9,  -999.00,     2016
  49UF20110617,  PR02,  3047,  1,     13,  21972,2,20110708,1940,  2.8023, 138.0135, 4503,    706.5,   6.2098,  34.5437,2,-999.0000,9,     80.3,6,    57.82,6,    37.22,6,     0.00,6,     2.66,6,   -999.0,9,   -999.0,9,-999.0000,9,  -999.00,     2013
  49UF20110617,  PR02,  3047,  1,     12,  21971,2,20110708,1940,  2.8023, 138.0135, 4503,    811.0,   5.2975,  34.5427,2,-999.0000,9,     85.8,2,    72.33,2,    37.92,2,     0.00,2,     2.71,2,   -999.0,9,   -999.0,9,-999.0000,9,  -999.00,     2010
  49UF20110617,  PR02,  3047,  1,     11,  21970,2,20110708,1940,  2.8023, 138.0135, 4503,    908.6,   4.8011,  34.5499,2,-999.0000,9,     89.9,2,    81.07,2,    38.11,2,     0.00,2,     2.72,2,   -999.0,9,   -999.0,9,-999.0000,9,  -999.00,     2007
  49UF20110617,  PR02,  3047,  1,     10,  21969,2,20110708,1940,  2.8023, 138.0135, 4503,   1009.5,   4.3772,  34.5604,2,-999.0000,9,     98.9,2,    89.81,2,    37.53,2,     0.00,2,     2.68,2,   -999.0,9,   -999.0,9,-999.0000,9,  -999.00,     2004
  49UF20110617,  PR02,  3047,  1,      9,  21968,2,20110708,1940,  2.8023, 138.0135, 4503,   1211.9,   3.7736,  34.5760,2,-999.0000,9,     92.2,2,   104.97,2,    38.74,2,     0.00,2,     2.77,2,   -999.0,9,   -999.0,9,-999.0000,9,  -999.00,     1959
  49UF20110617,  PR02,  3047,  1,      8,  21967,2,20110708,1940,  2.8023, 138.0135, 4503,   1414.3,   3.2081,  34.5945,2,-999.0000,9,     99.5,2,   115.80,2,    38.78,2,     0.00,2,     2.77,2,   -999.0,9,   -999.0,9,-999.0000,9,  -999.00,     1954
  49UF20110617,  PR02,  3047,  1,      7,  21966,2,20110708,1940,  2.8023, 138.0135, 4503,   1617.1,   2.7757,  34.6113,2,-999.0000,9,    105.4,2,   124.42,2,    38.51,2,     0.00,2,     2.74,2,   -999.0,9,   -999.0,9,-999.0000,9,  -999.00,     1950
  49UF20110617,  PR02,  3047,  1,      3,  21962,2,20110708,1940,  2.8023, 138.0135, 4503,   1819.2,   2.5014,  34.6239,2,-999.0000,9,    108.9,2,   130.54,2,    38.49,2,     0.00,2,     2.73,2,   -999.0,9,   -999.0,9,-999.0000,9,  -999.00,     1945
  49UF20110617,  PR02,  3047,  1,      2,  21961,2,20110708,1940,  2.8023, 138.0135, 4503,   1819.2,   2.5014,  34.6239,2,-999.0000,9,    109.4,6,   130.88,6,    38.44,6,     0.00,6,     2.73,6,   -999.0,9,   -999.0,9,-999.0000,9,  -999.00,     1945
  49UF20110617,  PR02,  3047,  1,      1,  21960,2,20110708,1940,  2.8023, 138.0135, 4503,   2022.8,   2.2564,  34.6360,2,-999.0000,9,    116.6,2,   134.45,2,    38.00,2,     0.00,2,     2.69,2,   -999.0,9,   -999.0,9,-999.0000,9,  -999.00,     1940
  49UF20110617,  PR02,  3048,  1,     99,     99,2,20110709,0151,  2.6053, 139.0055, 4332,      0.0,  28.6095,  33.7962,2,-999.0000,9,    197.3,2,     1.65,2,     0.00,2,     0.00,2,     0.06,2,   -999.0,9,   -999.0,9,-999.0000,9,  -999.00,      232
  49UF20110617,  PR02,  3048,  1,     36,  21995,2,20110709,0151,  2.6053, 139.0055, 4332,     11.0,  28.5924,  33.7961,2,  33.7954,2,    197.1,2,     1.65,2,     0.00,2,     0.00,2,     0.04,2,   -999.0,9,   -999.0,9,-999.0000,9,  -999.00,      246
  49UF20110617,  PR02,  3048,  1,     35,  21994,2,20110709,0151,  2.6053, 139.0055, 4332,     26.4,  28.5351,  33.7955,2,-999.0000,9,    197.0,2,     1.65,2,     0.00,2,     0.00,2,     0.05,2,   -999.0,9,   -999.0,9,-999.0000,9,  -999.00,      245
  49UF20110617,  PR02,  3048,  1,     34,  21993,2,20110709,0151,  2.6053, 139.0055, 4332,     50.6,  29.1043,  34.4883,2,-999.0000,9,    190.8,2,     1.44,2,     0.16,2,     0.08,2,     0.17,2,   -999.0,9,   -999.0,9,-999.0000,9,  -999.00,      241
  49UF20110617,  PR02,  3048,  1,     30,  21989,2,20110709,0151,  2.6053, 139.0055, 4332,     75.3,  28.8035,  35.3974,2,-999.0000,9,    171.5,2,     1.65,2,     3.00,2,     0.54,2,     0.44,2,   -999.0,9,   -999.0,9,-999.0000,9,  -999.00,      240
  49UF20110617,  PR02,  3048,  1,     29,  21988,2,20110709,0151,  2.6053, 139.0055, 4332,    100.6,  28.1710,  35.2630,2,  35.1916,4,    157.5,2,     2.33,2,     4.71,2,     0.14,2,     0.48,2,   -999.0,9,   -999.0,9,-999.0000,9,  -999.00,      239
  49UF20110617,  PR02,  3048,  1,     28,  21987,2,20110709,0151,  2.6053, 139.0055, 4332,    126.7,  25.8676,  34.9313,2,-999.0000,9,    148.6,2,     4.11,2,     5.85,2,     0.02,2,     0.50,2,   -999.0,9,   -999.0,9,-999.0000,9,  -999.00,      238
  49UF20110617,  PR02,  3048,  1,     27,  21986,2,20110709,0151,  2.6053, 139.0055, 4332,    152.7,  24.1694,  34.9243,2,-999.0000,9,    144.8,2,     5.38,2,     7.01,2,     0.02,2,     0.57,2,   -999.0,9,   -999.0,9,-999.0000,9,  -999.00,      237
  49UF20110617,  PR02,  3048,  1,     26,  21985,2,20110709,0151,  2.6053, 139.0055, 4332,    202.2,  19.1641,  34.8978,2,  34.8563,4,    143.8,2,     9.81,2,    10.73,2,     0.01,2,     0.83,2,   -999.0,9,   -999.0,9,-999.0000,9,  -999.00,      235
  49UF20110617,  PR02,  3048,  1,     25,  21984,2,20110709,0151,  2.6053, 139.0055, 4332,    252.6,  11.2425,  34.5279,2,-999.0000,9,     81.1,2,    28.90,2,    27.03,2,     0.00,2,     1.96,2,   -999.0,9,   -999.0,9,-999.0000,9,  -999.00,      234
  49UF20110617,  PR02,  3048,  1,     21,  21980,2,20110709,0151,  2.6053, 139.0055, 4332,    302.8,   8.9836,  34.5868,2,-999.0000,9,     84.6,6,    36.16,6,    31.04,6,     0.00,6,     2.21,6,   -999.0,9,   -999.0,9,-999.0000,9,  -999.00,      232
  49UF20110617,  PR02,  3048,  1,     20,  21979,2,20110709,0151,  2.6053, 139.0055, 4332,    403.3,   8.2447,  34.6047,2,  34.6031,2,    116.2,2,    32.66,2,    29.96,2,     0.00,2,     2.11,2,   -999.0,9,   -999.0,9,-999.0000,9,  -999.00,      229
  49UF20110617,  PR02,  3048,  1,     19,  21978,2,20110709,0151,  2.6053, 139.0055, 4332,    403.3,   8.2447,  34.6047,2,  34.6037,6,    116.3,6,    32.66,6,    29.98,6,     0.00,6,     2.11,6,   -999.0,9,   -999.0,9,-999.0000,9,  -999.00,      229
  49UF20110617,  PR02,  3048,  1,     15,  21974,2,20110709,0151,  2.6053, 139.0055, 4332,    504.9,   7.7234,  34.5754,2,-999.0000,9,    120.1,2,    36.13,2,    30.50,2,     0.00,2,     2.15,2,   -999.0,9,   -999.0,9,-999.0000,9,  -999.00,      227
  49UF20110617,  PR02,  3048,  1,     14,  21973,2,20110709,0151,  2.6053, 139.0055, 4332,    604.8,   7.0318,  34.5514,2,  34.5500,2,     98.6,2,    45.21,2,    33.81,2,     0.00,2,     2.40,2,   -999.0,9,   -999.0,9,-999.0000,9,  -999.00,      224
  49UF20110617,  PR02,  3048,  1,     13,  21972,2,20110709,0151,  2.6053, 139.0055, 4332,    705.7,   6.2374,  34.5410,2,-999.0000,9,     84.8,2,    57.45,2,    36.58,2,     0.00,2,     2.61,2,   -999.0,9,   -999.0,9,-999.0000,9,  -999.00,      221
  49UF20110617,  PR02,  3048,  1,     12,  21971,2,20110709,0151,  2.6053, 139.0055, 4332,    806.2,   5.3518,  34.5404,2,  34.5385,2,     90.5,2,    70.94,2,    37.28,2,     0.00,2,     2.66,2,   -999.0,9,   -999.0,9,-999.0000,9,  -999.00,      219
  49UF20110617,  PR02,  3048,  1,     11,  21970,2,20110709,0151,  2.6053, 139.0055, 4332,    907.4,   4.8491,  34.5491,2,-999.0000,9,     91.4,2,    80.47,2,    37.72,2,     0.00,2,     2.70,2,   -999.0,9,   -999.0,9,-999.0000,9,  -999.00,      216
  49UF20110617,  PR02,  3048,  1,     10,  21969,2,20110709,0151,  2.6053, 139.0055, 4332,   1008.3,   4.4340,  34.5586,2,  34.5580,2,     98.7,2,    88.34,2,    37.48,2,     0.00,2,     2.68,2,   -999.0,9,   -999.0,9,-999.0000,9,  -999.00,      213
  49UF20110617,  PR02,  3048,  1,      9,  21968,2,20110709,0151,  2.6053, 139.0055, 4332,   1211.1,   3.7689,  34.5767,2,  34.5763,2,     95.2,2,   103.92,2,    38.51,2,     0.00,2,     2.75,2,   -999.0,9,   -999.0,9,-999.0000,9,  -999.00,      208
  49UF20110617,  PR02,  3048,  1,      8,  21967,2,20110709,0151,  2.6053, 139.0055, 4332,   1211.1,   3.7689,  34.5767,2,  34.5750,6,     95.1,6,   103.94,6,    38.49,6,     0.00,6,     2.76,6,   -999.0,9,   -999.0,9,-999.0000,9,  -999.00,      208
  49UF20110617,  PR02,  3048,  1,      7,  21966,2,20110709,0151,  2.6053, 139.0055, 4332,   1413.5,   3.2294,  34.5949,2,  34.5948,2,    102.1,2,   114.11,2,    38.36,2,     0.00,2,     2.74,2,   -999.0,9,   -999.0,9,-999.0000,9,  -999.00,      204
  49UF20110617,  PR02,  3048,  1,      3,  21962,2,20110709,0151,  2.6053, 139.0055, 4332,   1615.6,   2.7449,  34.6128,2,  34.6103,2,    104.8,2,   125.17,2,    38.63,2,     0.00,2,     2.75,2,   -999.0,9,   -999.0,9,-999.0000,9,  -999.00,      159
  49UF20110617,  PR02,  3048,  1,      2,  21961,2,20110709,0151,  2.6053, 139.0055, 4332,   1817.8,   2.3706,  34.6302,2,  34.6277,2,    114.2,2,   131.45,2,    38.18,2,     0.00,2,     2.71,2,   -999.0,9,   -999.0,9,-999.0000,9,  -999.00,      155
  49UF20110617,  PR02,  3048,  1,      1,  21960,2,20110709,0151,  2.6053, 139.0055, 4332,   2021.3,   2.1139,  34.6427,2,  34.6415,2,    120.3,2,   136.30,2,    37.82,2,     0.00,2,     2.67,2,   -999.0,9,   -999.0,9,-999.0000,9,  -999.00,      151