BOTTLE,20191015PRINUNIVRMK
EXPOCODE,SECT_ID,STNNBR,CASTNO,SAMPNO,BTLNBR,BTLNBR_FLAG_W,DATE,TIME,LATITUDE,LONGITUDE,DEPTH,CTDPRS,CTDTMP,CTDSAL,CTDSAL_FLAG_W,SALNTY,SALNTY_FLAG_W,OXYGEN,OXYGEN_FLAG_W,SILCAT,SILCAT_FLAG_W,NITRAT,NITRAT_FLAG_W,NITRIT,NITRIT_FLAG_W,PHSPHT,PHSPHT_FLAG_W,TCARBN,TCARBN_FLAG_W,ALKALI,ALKALI_FLAG_W,PH_TOT,PH_TOT_FLAG_W,PH_TMP,BTL_TIME
,,,,,,,,,,,METERS,DBAR,ITS-90,PSS-78,,PSS-78,,UMOL/KG,,UMOL/KG,,UMOL/KG,,UMOL/KG,,UMOL/KG,,UMOL/KG,,UMOL/KG,,,,DEG C,
  49UF20110617,  PR02,  3043,  1,     99,     99,2,20110629,0147,  5.0160, 137.0040, 4814,      0.0,  29.0577,  33.5125,2,-999.0000,9,    198.9,2,     1.67,2,     0.00,2,     0.00,2,     0.02,2,   -999.0,9,   -999.0,9,-999.0000,9,  -999.00,      225
  49UF20110617,  PR02,  3043,  1,     36,  21995,2,20110629,0147,  5.0160, 137.0040, 4814,     11.2,  28.9861,  33.5194,2,-999.0000,9,    199.8,2,     1.67,2,     0.01,2,     0.00,2,     0.02,2,   1876.8,2,   2201.9,2,   8.1126,2,    25.00,      249
  49UF20110617,  PR02,  3043,  1,     35,  21994,2,20110629,0147,  5.0160, 137.0040, 4814,     26.5,  28.7061,  33.5591,2,-999.0000,9,    200.2,2,     1.63,2,     0.00,2,     0.00,2,     0.02,2,   1879.1,2,   2203.3,2,   8.1095,2,    25.00,      248
  49UF20110617,  PR02,  3043,  1,     34,  21993,2,20110629,0147,  5.0160, 137.0040, 4814,     52.2,  28.5921,  33.7650,2,-999.0000,9,    197.7,2,     1.30,2,     0.03,2,     0.00,2,     0.03,2,   1889.5,2,   2217.0,2,   8.1091,2,    25.00,      244
  49UF20110617,  PR02,  3043,  1,     33,  21992,2,20110629,0147,  5.0160, 137.0040, 4814,     76.6,  26.5588,  34.7867,2,-999.0000,9,    187.1,2,     1.93,2,     0.72,2,     0.25,2,     0.16,2,   1977.6,2,   2281.6,2,   8.0521,2,    25.00,      243
  49UF20110617,  PR02,  3043,  1,     32,  21991,2,20110629,0147,  5.0160, 137.0040, 4814,    102.8,  25.0745,  34.8609,2,-999.0000,9,    176.9,2,     3.10,2,     2.31,2,     0.16,2,     0.26,2,   2000.5,2,   2286.1,2,   8.0172,2,    25.00,      241
  49UF20110617,  PR02,  3043,  1,     31,  21990,2,20110629,0147,  5.0160, 137.0040, 4814,    127.7,  23.3385,  34.9401,2,-999.0000,9,    157.2,2,     5.05,2,     5.81,2,     0.04,2,     0.51,2,   2039.3,2,   2295.3,2,   7.9550,2,    25.00,      240
  49UF20110617,  PR02,  3043,  1,     27,  21986,2,20110629,0147,  5.0160, 137.0040, 4814,    154.8,  18.2525,  34.7284,2,-999.0000,9,    154.9,2,     7.91,2,     8.70,2,     0.01,2,     0.68,2,   2075.5,2,   2286.0,2,   7.8636,2,    25.00,      239
  49UF20110617,  PR02,  3043,  1,     26,  21985,2,20110629,0147,  5.0160, 137.0040, 4814,    204.7,  14.0809,  34.5452,2,-999.0000,9,    141.8,6,    19.27,6,    16.37,6,     0.01,6,     1.20,6,   2128.5,2,   2281.6,2,   7.7569,2,    25.00,      236
  49UF20110617,  PR02,  3043,  1,     25,  21984,2,20110629,0147,  5.0160, 137.0040, 4814,    254.1,  11.7944,  34.4934,2,-999.0000,9,    125.7,2,    25.03,2,    21.00,2,     0.01,2,     1.53,2,   2156.7,2,   2282.1,2,   7.6755,2,    25.00,      233
  49UF20110617,  PR02,  3043,  1,     24,  21983,2,20110629,0147,  5.0160, 137.0040, 4814,    254.1,  11.7944,  34.4934,2,-999.0000,9,    126.8,6,    24.83,6,    20.82,6,     0.00,6,     1.51,6,   2156.3,2,   2282.5,2,   7.6742,2,    25.00,      233
  49UF20110617,  PR02,  3043,  1,     23,  21982,2,20110629,0147,  5.0160, 137.0040, 4814,    305.1,   9.1758,  34.5075,2,-999.0000,9,     79.7,2,    38.22,2,    30.79,2,     0.00,2,     2.21,2,   2226.4,2,   2296.3,2,   7.5300,2,    25.00,      231
  49UF20110617,  PR02,  3043,  1,     22,  21981,2,20110629,0147,  5.0160, 137.0040, 4814,    406.3,   8.1408,  34.5677,2,-999.0000,9,     84.2,2,    40.69,2,    32.91,2,     0.00,2,     2.33,2,   2236.1,2,   2305.5,2,   7.5300,2,    25.00,      226
  49UF20110617,  PR02,  3043,  1,     18,  21977,2,20110629,0147,  5.0160, 137.0040, 4814,    505.5,   7.4977,  34.5591,2,-999.0000,9,    103.8,2,    41.26,2,    32.50,2,     0.00,2,     2.30,2,   2229.8,2,   2306.1,2,   7.5447,2,    25.00,      222
  49UF20110617,  PR02,  3043,  1,     17,  21976,2,20110629,0147,  5.0160, 137.0040, 4814,    606.7,   6.7296,  34.5268,2,-999.0000,9,     96.0,3,    52.62,2,    34.55,2,     0.00,2,     2.46,2,   2249.5,2,   2318.0,2,   7.5175,2,    25.00,      218
  49UF20110617,  PR02,  3043,  1,     16,  21975,2,20110629,0147,  5.0160, 137.0040, 4814,    606.7,   6.7296,  34.5268,2,-999.0000,9,     94.5,6,    52.55,6,    34.53,6,     0.00,6,     2.46,6,   2249.7,2,   2319.3,2,   7.5185,2,    25.00,      218
  49UF20110617,  PR02,  3043,  1,     12,  21971,2,20110629,0147,  5.0160, 137.0040, 4814,    706.4,   6.1219,  34.5314,2,-999.0000,9,     95.8,2,    58.30,2,    35.78,2,     0.00,2,     2.54,2,   2258.2,2,   2323.2,2,   7.5101,2,    25.00,      215
  49UF20110617,  PR02,  3043,  1,     11,  21970,2,20110629,0147,  5.0160, 137.0040, 4814,    807.8,   5.4879,  34.5345,2,-999.0000,9,     94.0,2,    69.12,2,    36.91,2,     0.00,2,     2.63,2,   2272.6,6,   2335.6,6,   7.5027,2,    25.00,      212
  49UF20110617,  PR02,  3043,  1,     10,  21969,2,20110629,0147,  5.0160, 137.0040, 4814,    907.4,   4.8448,  34.5455,2,-999.0000,9,     95.2,2,    83.34,2,    37.33,2,     0.00,2,     2.66,2,   2287.0,2,   2351.0,2,   7.4958,6,    25.00,      209
  49UF20110617,  PR02,  3043,  1,      9,  21968,2,20110629,0147,  5.0160, 137.0040, 4814,   1007.8,   4.3140,  34.5580,2,-999.0000,9,     93.4,2,    95.07,2,    38.02,2,     0.00,2,     2.72,2,   2307.5,2,   2363.2,2,   7.4937,2,    25.00,      207
  49UF20110617,  PR02,  3043,  1,      8,  21967,2,20110629,0147,  5.0160, 137.0040, 4814,   1210.7,   3.6109,  34.5737,2,-999.0000,9,     94.2,2,   109.68,2,    38.71,2,     0.00,2,     2.76,2,   2318.0,2,   2377.2,2,   7.4889,2,    25.00,      202
  49UF20110617,  PR02,  3043,  1,      7,  21966,2,20110629,0147,  5.0160, 137.0040, 4814,   1413.2,   3.0833,  34.5940,2,-999.0000,9,     99.0,2,   120.08,2,    38.95,2,     0.00,2,     2.77,2,   2329.2,6,   2387.8,6,   7.4920,2,    25.00,      158
  49UF20110617,  PR02,  3043,  1,      6,  21965,2,20110629,0147,  5.0160, 137.0040, 4814,   1615.3,   2.6281,  34.6137,2,-999.0000,9,    106.3,2,   129.15,2,    38.80,2,     0.00,2,     2.75,2,   2334.7,2,   2398.0,2,   7.4969,2,    25.00,      155
  49UF20110617,  PR02,  3043,  1,      5,  21964,2,20110629,0147,  5.0160, 137.0040, 4814,   1818.1,   2.3110,  34.6293,2,-999.0000,9,    112.0,2,   135.33,2,    38.62,2,     0.00,2,     2.72,2,   2342.0,2,   2405.5,2,   7.5079,2,    25.00,      151
  49UF20110617,  PR02,  3043,  1,      4,  21963,2,20110629,0147,  5.0160, 137.0040, 4814,   2021.8,   2.1233,  34.6396,2,-999.0000,9,    117.5,2,   138.68,2,    38.36,2,     0.00,2,     2.70,2,   2338.4,2,   2410.1,2,   7.5367,2,    25.00,      147
  49UF20110617,  PR02,  3044,  1,     99,     99,2,20110707,2356,  5.0182, 137.0163, 4873,      0.0,  28.6551,  33.9785,2,-999.0000,9,    196.9,2,     1.06,2,     0.00,2,     0.00,2,     0.06,2,   -999.0,9,   -999.0,9,-999.0000,9,  -999.00,       37
  49UF20110617,  PR02,  3044,  1,     36,  21995,2,20110707,2356,  5.0182, 137.0163, 4873,     10.9,  28.6426,  33.9780,2,  33.9775,2,    196.6,2,     1.02,2,     0.00,2,     0.00,2,     0.05,2,   -999.0,9,   -999.0,9,-999.0000,9,  -999.00,       53
  49UF20110617,  PR02,  3044,  1,     35,  21994,2,20110707,2356,  5.0182, 137.0163, 4873,     25.4,  28.6355,  33.9780,2,-999.0000,9,    196.8,2,     1.04,2,     0.00,2,     0.00,2,     0.05,2,   -999.0,9,   -999.0,9,-999.0000,9,  -999.00,       52
  49UF20110617,  PR02,  3044,  1,     34,  21993,2,20110707,2356,  5.0182, 137.0163, 4873,     51.4,  28.1716,  34.8806,2,-999.0000,9,    182.9,2,     1.73,2,     1.96,2,     0.08,2,     0.28,2,   -999.0,9,   -999.0,9,-999.0000,9,  -999.00,       48
  49UF20110617,  PR02,  3044,  1,     33,  21992,2,20110707,2356,  5.0182, 137.0163, 4873,     76.2,  27.8771,  35.3774,2,-999.0000,9,    158.9,2,     2.03,2,     5.39,2,     0.06,2,     0.55,2,   -999.0,9,   -999.0,9,-999.0000,9,  -999.00,       47
  49UF20110617,  PR02,  3044,  1,     32,  21991,2,20110707,2356,  5.0182, 137.0163, 4873,    100.7,  26.5544,  35.4152,2,  35.4160,2,    149.9,6,     2.58,6,     6.90,6,     0.05,6,     0.66,6,   -999.0,9,   -999.0,9,-999.0000,9,  -999.00,       46
  49UF20110617,  PR02,  3044,  1,     31,  21990,2,20110707,2356,  5.0182, 137.0163, 4873,    125.9,  23.4526,  35.1024,2,-999.0000,9,    153.7,2,     4.68,2,     6.36,2,     0.05,2,     0.57,2,   -999.0,9,   -999.0,9,-999.0000,9,  -999.00,       45
  49UF20110617,  PR02,  3044,  1,     27,  21986,2,20110707,2356,  5.0182, 137.0163, 4873,    151.2,  21.1989,  34.9038,2,-999.0000,9,    156.4,2,     5.96,2,     6.58,2,     0.03,2,     0.58,2,   -999.0,9,   -999.0,9,-999.0000,9,  -999.00,       43
  49UF20110617,  PR02,  3044,  1,     26,  21985,2,20110707,2356,  5.0182, 137.0163, 4873,    202.3,  13.5022,  34.5096,2,  34.5074,2,    140.8,2,    20.96,2,    17.30,2,     0.00,2,     1.27,2,   -999.0,9,   -999.0,9,-999.0000,9,  -999.00,       41
  49UF20110617,  PR02,  3044,  1,     25,  21984,2,20110707,2356,  5.0182, 137.0163, 4873,    252.5,  11.4909,  34.4652,2,-999.0000,9,    119.4,2,    29.22,2,    22.82,2,     0.00,2,     1.67,2,   -999.0,9,   -999.0,9,-999.0000,9,  -999.00,       40
  49UF20110617,  PR02,  3044,  1,     24,  21983,2,20110707,2356,  5.0182, 137.0163, 4873,    304.3,   9.5794,  34.5748,2,-999.0000,9,     67.9,2,    35.29,2,    31.31,2,     0.00,2,     2.25,2,   -999.0,9,   -999.0,9,-999.0000,9,  -999.00,       38
  49UF20110617,  PR02,  3044,  1,     23,  21982,2,20110707,2356,  5.0182, 137.0163, 4873,    405.1,   8.3238,  34.5709,2,  34.5686,2,     81.9,2,    40.10,2,    32.65,2,     0.00,2,     2.33,2,   -999.0,9,   -999.0,9,-999.0000,9,  -999.00,       35
  49UF20110617,  PR02,  3044,  1,     22,  21981,2,20110707,2356,  5.0182, 137.0163, 4873,    405.1,   8.3238,  34.5709,2,  34.5690,6,     81.4,6,    40.05,6,    32.67,6,     0.00,6,     2.34,6,   -999.0,9,   -999.0,9,-999.0000,9,  -999.00,       35
  49UF20110617,  PR02,  3044,  1,     18,  21977,2,20110707,2356,  5.0182, 137.0163, 4873,    503.5,   7.5074,  34.5536,2,-999.0000,9,     90.1,2,    44.45,2,    33.37,2,     0.00,2,     2.39,2,   -999.0,9,   -999.0,9,-999.0000,9,  -999.00,       32
  49UF20110617,  PR02,  3044,  1,     17,  21976,2,20110707,2356,  5.0182, 137.0163, 4873,    605.2,   6.6292,  34.5333,2,  34.5310,2,    101.6,2,    51.11,2,    34.08,2,     0.00,2,     2.44,2,   -999.0,9,   -999.0,9,-999.0000,9,  -999.00,       30
  49UF20110617,  PR02,  3044,  1,     16,  21975,2,20110707,2356,  5.0182, 137.0163, 4873,    704.8,   6.0747,  34.5339,2,-999.0000,9,     97.0,2,    58.24,2,    35.58,2,     0.00,2,     2.54,2,   -999.0,9,   -999.0,9,-999.0000,9,  -999.00,       27
  49UF20110617,  PR02,  3044,  1,     12,  21971,2,20110707,2356,  5.0182, 137.0163, 4873,    806.0,   5.3935,  34.5355,2,  34.5330,2,     93.0,2,    72.80,2,    36.69,2,     0.00,2,     2.64,2,   -999.0,9,   -999.0,9,-999.0000,9,  -999.00,       25
  49UF20110617,  PR02,  3044,  1,     11,  21970,2,20110707,2356,  5.0182, 137.0163, 4873,    907.4,   4.9465,  34.5421,2,-999.0000,9,     88.9,2,    82.80,2,    37.50,2,     0.00,2,     2.70,2,   -999.0,9,   -999.0,9,-999.0000,9,  -999.00,       22
  49UF20110617,  PR02,  3044,  1,     10,  21969,2,20110707,2356,  5.0182, 137.0163, 4873,   1009.2,   4.4611,  34.5540,2,  34.5518,2,     89.5,2,    92.48,2,    37.98,2,     0.00,2,     2.74,2,   -999.0,9,   -999.0,9,-999.0000,9,  -999.00,       19
  49UF20110617,  PR02,  3044,  1,      9,  21968,2,20110707,2356,  5.0182, 137.0163, 4873,   1009.2,   4.4611,  34.5540,2,  34.5517,6,     89.4,6,    92.58,6,    38.05,6,     0.00,6,     2.74,6,   -999.0,9,   -999.0,9,-999.0000,9,  -999.00,       19
  49UF20110617,  PR02,  3044,  1,      8,  21967,2,20110707,2356,  5.0182, 137.0163, 4873,   1211.9,   3.5919,  34.5809,2,  34.5788,2,     94.8,2,   108.72,2,    38.67,2,     0.00,2,     2.78,2,   -999.0,9,   -999.0,9,-999.0000,9,  -999.00,       14
  49UF20110617,  PR02,  3044,  1,      7,  21966,2,20110707,2356,  5.0182, 137.0163, 4873,   1414.7,   3.0996,  34.5975,2,  34.5956,2,     96.7,2,   119.26,2,    38.99,2,     0.00,2,     2.80,2,   -999.0,9,   -999.0,9,-999.0000,9,  -999.00,       10
  49UF20110617,  PR02,  3044,  1,      6,  21965,2,20110707,2356,  5.0182, 137.0163, 4873,   1615.8,   2.7125,  34.6132,2,  34.6114,2,    102.9,2,   126.68,2,    38.73,2,     0.00,2,     2.77,2,   -999.0,9,   -999.0,9,-999.0000,9,  -999.00,        5
  49UF20110617,  PR02,  3044,  1,      5,  21964,2,20110707,2356,  5.0182, 137.0163, 4873,   1818.2,   2.3566,  34.6302,2,  34.6288,2,    110.2,2,   134.65,2,    38.36,2,     0.00,2,     2.74,2,   -999.0,9,   -999.0,9,-999.0000,9,  -999.00,        0
  49UF20110617,  PR02,  3044,  1,      4,  21963,2,20110707,2356,  5.0182, 137.0163, 4873,   2021.5,   2.1299,  34.6424,2,  34.6400,2,    116.9,3,   138.68,2,    38.29,2,     0.00,2,     2.72,2,   -999.0,9,   -999.0,9,-999.0000,9,  -999.00,     2356
  49UF20110617,  PR02,  3045,  1,     99,     99,2,20110708,0634,  4.0185, 137.0053, 4664,      0.0,  28.7191,  33.9003,2,-999.0000,9,    197.8,2,     1.52,2,     0.00,2,     0.00,2,     0.04,2,   -999.0,9,   -999.0,9,-999.0000,9,  -999.00,      710
  49UF20110617,  PR02,  3045,  1,     36,  21995,2,20110708,0634,  4.0185, 137.0053, 4664,     11.1,  28.5926,  33.8945,2,-999.0000,9,    198.4,2,     1.49,2,     0.00,2,     0.00,2,     0.03,2,   -999.0,9,   -999.0,9,-999.0000,9,  -999.00,      734
  49UF20110617,  PR02,  3045,  1,     35,  21994,2,20110708,0634,  4.0185, 137.0053, 4664,     26.3,  28.5705,  33.9013,2,-999.0000,9,    198.6,2,     1.47,2,     0.00,2,     0.00,2,     0.04,2,   -999.0,9,   -999.0,9,-999.0000,9,  -999.00,      733
  49UF20110617,  PR02,  3045,  1,     34,  21993,2,20110708,0634,  4.0185, 137.0053, 4664,     50.7,  29.2608,  34.8407,2,-999.0000,9,    187.3,2,     1.38,2,     0.55,2,     0.14,2,     0.21,2,   -999.0,9,   -999.0,9,-999.0000,9,  -999.00,      729
  49UF20110617,  PR02,  3045,  1,     33,  21992,2,20110708,0634,  4.0185, 137.0053, 4664,     75.0,  28.5539,  35.5040,2,-999.0000,9,    166.0,2,     1.65,2,     4.54,2,     0.11,2,     0.50,2,   -999.0,9,   -999.0,9,-999.0000,9,  -999.00,      728
  49UF20110617,  PR02,  3045,  1,     32,  21991,2,20110708,0634,  4.0185, 137.0053, 4664,    101.1,  27.9174,  35.4192,2,-999.0000,9,    161.2,2,     2.01,2,     5.40,2,     0.07,2,     0.54,2,   -999.0,9,   -999.0,9,-999.0000,9,  -999.00,      726
  49UF20110617,  PR02,  3045,  1,     31,  21990,2,20110708,0634,  4.0185, 137.0053, 4664,    126.8,  25.0805,  35.1965,2,-999.0000,9,    139.4,2,     4.06,2,     7.91,2,     0.02,2,     0.66,2,   -999.0,9,   -999.0,9,-999.0000,9,  -999.00,      725
  49UF20110617,  PR02,  3045,  1,     27,  21986,2,20110708,0634,  4.0185, 137.0053, 4664,    153.0,  20.9099,  35.1399,2,-999.0000,9,    146.7,6,     6.40,6,     8.51,6,     0.02,6,     0.69,6,   -999.0,9,   -999.0,9,-999.0000,9,  -999.00,      724
  49UF20110617,  PR02,  3045,  1,     26,  21985,2,20110708,0634,  4.0185, 137.0053, 4664,    204.8,  16.0214,  34.6680,2,-999.0000,9,    141.7,2,    15.51,2,    13.96,2,     0.01,2,     1.03,2,   -999.0,9,   -999.0,9,-999.0000,9,  -999.00,      721
  49UF20110617,  PR02,  3045,  1,     25,  21984,2,20110708,0634,  4.0185, 137.0053, 4664,    204.8,  16.0214,  34.6680,2,-999.0000,9,    141.9,6,    15.19,6,    13.82,6,     0.01,6,     1.03,6,   -999.0,9,   -999.0,9,-999.0000,9,  -999.00,      721
  49UF20110617,  PR02,  3045,  1,     24,  21983,2,20110708,0634,  4.0185, 137.0053, 4664,    254.9,  14.0335,  34.7643,2,-999.0000,9,    139.8,2,    16.24,2,    16.61,2,     0.00,2,     1.23,2,   -999.0,9,   -999.0,9,-999.0000,9,  -999.00,      719
  49UF20110617,  PR02,  3045,  1,     23,  21982,2,20110708,0634,  4.0185, 137.0053, 4664,    304.6,   9.4023,  34.5463,2,-999.0000,9,     72.1,2,    35.41,2,    30.81,2,     0.00,2,     2.21,2,   -999.0,9,   -999.0,9,-999.0000,9,  -999.00,      716
  49UF20110617,  PR02,  3045,  1,     22,  21981,2,20110708,0634,  4.0185, 137.0053, 4664,    398.2,   8.2548,  34.5895,2,-999.0000,9,     91.4,2,    37.35,2,    31.96,2,     0.00,2,     2.27,2,   -999.0,9,   -999.0,9,-999.0000,9,  -999.00,      713
  49UF20110617,  PR02,  3045,  1,     18,  21977,2,20110708,0634,  4.0185, 137.0053, 4664,    506.2,   7.4345,  34.5654,2,-999.0000,9,    105.6,2,    39.48,2,    32.37,2,     0.00,2,     2.29,2,   -999.0,9,   -999.0,9,-999.0000,9,  -999.00,      709
  49UF20110617,  PR02,  3045,  1,     17,  21976,2,20110708,0634,  4.0185, 137.0053, 4664,    506.2,   7.4345,  34.5654,2,-999.0000,9,    105.0,6,    39.69,6,    32.33,6,     0.00,6,     2.29,6,   -999.0,9,   -999.0,9,-999.0000,9,  -999.00,      709
  49UF20110617,  PR02,  3045,  1,     16,  21975,2,20110708,0634,  4.0185, 137.0053, 4664,    607.7,   6.7424,  34.5460,2,-999.0000,9,     91.2,2,    49.57,2,    34.98,2,     0.00,2,     2.49,2,   -999.0,9,   -999.0,9,-999.0000,9,  -999.00,      705
  49UF20110617,  PR02,  3045,  1,     12,  21971,2,20110708,0634,  4.0185, 137.0053, 4664,    706.6,   6.0373,  34.5366,2,-999.0000,9,     87.8,2,    60.54,2,    36.43,2,     0.00,2,     2.61,2,   -999.0,9,   -999.0,9,-999.0000,9,  -999.00,      702
  49UF20110617,  PR02,  3045,  1,     11,  21970,2,20110708,0634,  4.0185, 137.0053, 4664,    807.8,   5.4216,  34.5400,2,-999.0000,9,     88.5,2,    70.08,2,    37.30,2,     0.00,2,     2.67,2,   -999.0,9,   -999.0,9,-999.0000,9,  -999.00,      659
  49UF20110617,  PR02,  3045,  1,     10,  21969,2,20110708,0634,  4.0185, 137.0053, 4664,    909.3,   4.8793,  34.5479,2,-999.0000,9,     90.2,2,    79.76,2,    37.89,2,     0.00,2,     2.71,2,   -999.0,9,   -999.0,9,-999.0000,9,  -999.00,      656
  49UF20110617,  PR02,  3045,  1,      9,  21968,2,20110708,0634,  4.0185, 137.0053, 4664,   1010.6,   4.4730,  34.5570,2,-999.0000,9,     92.0,2,    88.60,2,    38.08,2,     0.00,2,     2.73,2,   -999.0,9,   -999.0,9,-999.0000,9,  -999.00,      654
  49UF20110617,  PR02,  3045,  1,      8,  21967,2,20110708,0634,  4.0185, 137.0053, 4664,   1210.5,   3.7064,  34.5786,2,-999.0000,9,     96.1,2,   104.47,2,    38.42,2,     0.00,2,     2.75,2,   -999.0,9,   -999.0,9,-999.0000,9,  -999.00,      649
  49UF20110617,  PR02,  3045,  1,      7,  21966,2,20110708,0634,  4.0185, 137.0053, 4664,   1414.5,   3.1667,  34.5958,2,-999.0000,9,    100.6,2,   115.78,2,    38.58,2,     0.00,2,     2.75,2,   -999.0,9,   -999.0,9,-999.0000,9,  -999.00,      646
  49UF20110617,  PR02,  3045,  1,      6,  21965,2,20110708,0634,  4.0185, 137.0053, 4664,   1616.1,   2.7886,  34.6109,2,-999.0000,9,    104.4,2,   123.86,2,    38.55,2,     0.00,2,     2.75,2,   -999.0,9,   -999.0,9,-999.0000,9,  -999.00,      642
  49UF20110617,  PR02,  3045,  1,      5,  21964,2,20110708,0634,  4.0185, 137.0053, 4664,   1818.8,   2.4654,  34.6257,2,-999.0000,9,    111.9,2,   129.45,2,    38.22,2,     0.00,2,     2.71,2,   -999.0,9,   -999.0,9,-999.0000,9,  -999.00,      638
  49UF20110617,  PR02,  3045,  1,      4,  21963,2,20110708,0634,  4.0185, 137.0053, 4664,   2017.4,   2.1767,  34.6403,2,-999.0000,9,    115.4,2,   136.62,2,    38.16,2,     0.00,2,     2.70,2,   -999.0,9,   -999.0,9,-999.0000,9,  -999.00,      634