BOTTLE,20191015PRINUNIVRMK
EXPOCODE,SECT_ID,STNNBR,CASTNO,SAMPNO,BTLNBR,BTLNBR_FLAG_W,DATE,TIME,LATITUDE,LONGITUDE,DEPTH,CTDPRS,CTDTMP,CTDSAL,CTDSAL_FLAG_W,SALNTY,SALNTY_FLAG_W,OXYGEN,OXYGEN_FLAG_W,SILCAT,SILCAT_FLAG_W,NITRAT,NITRAT_FLAG_W,NITRIT,NITRIT_FLAG_W,PHSPHT,PHSPHT_FLAG_W,TCARBN,TCARBN_FLAG_W,ALKALI,ALKALI_FLAG_W,PH_TOT,PH_TOT_FLAG_W,PH_TMP,BTL_TIME
,,,,,,,,,,,METERS,DBAR,ITS-90,PSS-78,,PSS-78,,UMOL/KG,,UMOL/KG,,UMOL/KG,,UMOL/KG,,UMOL/KG,,UMOL/KG,,UMOL/KG,,,,DEG C,
  49UF20110617,  PR02,  3049,  1,     99,     99,2,20110709,0852,  2.4060, 140.0063, 4136,      0.0,  28.6600,  33.7597,2,-999.0000,9,    197.3,2,     1.35,2,     0.00,2,     0.00,2,     0.06,2,   -999.0,9,   -999.0,9,-999.0000,9,  -999.00,      930
  49UF20110617,  PR02,  3049,  1,     36,  21995,2,20110709,0852,  2.4060, 140.0063, 4136,     11.2,  28.5888,  33.7482,2,-999.0000,9,    197.6,2,     1.31,2,     0.00,2,     0.00,2,     0.05,2,   -999.0,9,   -999.0,9,-999.0000,9,  -999.00,      951
  49UF20110617,  PR02,  3049,  1,     35,  21994,2,20110709,0852,  2.4060, 140.0063, 4136,     26.5,  29.2797,  34.5745,2,-999.0000,9,    193.8,2,     1.31,2,     0.03,2,     0.01,2,     0.16,2,   -999.0,9,   -999.0,9,-999.0000,9,  -999.00,      950
  49UF20110617,  PR02,  3049,  1,     34,  21993,2,20110709,0852,  2.4060, 140.0063, 4136,     50.9,  29.2437,  35.3730,2,-999.0000,9,    177.9,2,     1.28,2,     1.22,2,     0.75,2,     0.35,2,   -999.0,9,   -999.0,9,-999.0000,9,  -999.00,      946
  49UF20110617,  PR02,  3049,  1,     30,  21989,2,20110709,0852,  2.4060, 140.0063, 4136,     76.4,  28.8349,  35.4005,2,-999.0000,9,    170.4,2,     1.44,2,     3.62,2,     0.30,2,     0.46,2,   -999.0,9,   -999.0,9,-999.0000,9,  -999.00,      944
  49UF20110617,  PR02,  3049,  1,     29,  21988,2,20110709,0852,  2.4060, 140.0063, 4136,    102.2,  28.1649,  35.4339,2,-999.0000,9,    165.8,2,     1.72,2,     5.07,2,     0.05,2,     0.52,2,   -999.0,9,   -999.0,9,-999.0000,9,  -999.00,      943
  49UF20110617,  PR02,  3049,  1,     28,  21987,2,20110709,0852,  2.4060, 140.0063, 4136,    126.4,  26.9679,  35.4378,2,-999.0000,9,    155.6,2,     2.40,2,     6.35,2,     0.02,2,     0.59,2,   -999.0,9,   -999.0,9,-999.0000,9,  -999.00,      942
  49UF20110617,  PR02,  3049,  1,     27,  21986,2,20110709,0852,  2.4060, 140.0063, 4136,    152.4,  24.4733,  34.9969,2,-999.0000,9,    144.4,2,     5.08,2,     7.11,2,     0.01,2,     0.59,2,   -999.0,9,   -999.0,9,-999.0000,9,  -999.00,      940
  49UF20110617,  PR02,  3049,  1,     26,  21985,2,20110709,0852,  2.4060, 140.0063, 4136,    202.5,  20.1480,  34.8833,2,-999.0000,9,    145.4,2,     8.22,2,     9.39,2,     0.01,2,     0.74,2,   -999.0,9,   -999.0,9,-999.0000,9,  -999.00,      938
  49UF20110617,  PR02,  3049,  1,     25,  21984,2,20110709,0852,  2.4060, 140.0063, 4136,    251.9,  10.9268,  34.5196,2,-999.0000,9,     80.2,6,    30.63,6,    27.93,6,     0.00,6,     2.02,6,   -999.0,9,   -999.0,9,-999.0000,9,  -999.00,      937
  49UF20110617,  PR02,  3049,  1,     21,  21980,2,20110709,0852,  2.4060, 140.0063, 4136,    304.3,   8.8734,  34.6209,2,-999.0000,9,    111.0,2,    32.14,2,    29.05,2,     0.00,2,     2.06,2,   -999.0,9,   -999.0,9,-999.0000,9,  -999.00,      934
  49UF20110617,  PR02,  3049,  1,     20,  21979,2,20110709,0852,  2.4060, 140.0063, 4136,    304.3,   8.8734,  34.6209,2,-999.0000,9,    111.2,6,    32.17,6,    29.03,6,     0.00,6,     2.06,6,   -999.0,9,   -999.0,9,-999.0000,9,  -999.00,      934
  49UF20110617,  PR02,  3049,  1,     19,  21978,2,20110709,0852,  2.4060, 140.0063, 4136,    403.8,   8.4809,  34.6202,2,-999.0000,9,    129.1,2,    28.98,2,    28.25,2,     0.00,2,     1.99,2,   -999.0,9,   -999.0,9,-999.0000,9,  -999.00,      931
  49UF20110617,  PR02,  3049,  1,     15,  21974,2,20110709,0852,  2.4060, 140.0063, 4136,    504.5,   7.8610,  34.5815,2,-999.0000,9,    124.2,2,    34.20,2,    29.86,2,     0.00,2,     2.10,2,   -999.0,9,   -999.0,9,-999.0000,9,  -999.00,      929
  49UF20110617,  PR02,  3049,  1,     14,  21973,2,20110709,0852,  2.4060, 140.0063, 4136,    605.3,   7.2306,  34.5555,2,-999.0000,9,    108.0,2,    41.93,2,    32.67,2,     0.00,2,     2.31,2,   -999.0,9,   -999.0,9,-999.0000,9,  -999.00,      926
  49UF20110617,  PR02,  3049,  1,     13,  21972,2,20110709,0852,  2.4060, 140.0063, 4136,    706.1,   6.1389,  34.5355,2,-999.0000,9,    100.2,2,    56.37,2,    35.24,2,     0.00,2,     2.51,2,   -999.0,9,   -999.0,9,-999.0000,9,  -999.00,      923
  49UF20110617,  PR02,  3049,  1,     12,  21971,2,20110709,0852,  2.4060, 140.0063, 4136,    807.6,   5.4445,  34.5399,2,-999.0000,9,     90.1,2,    69.06,2,    37.21,2,     0.00,2,     2.66,2,   -999.0,9,   -999.0,9,-999.0000,9,  -999.00,      921
  49UF20110617,  PR02,  3049,  1,     11,  21970,2,20110709,0852,  2.4060, 140.0063, 4136,    908.4,   4.8988,  34.5476,2,-999.0000,9,    102.1,2,    78.41,2,    36.64,2,     0.00,2,     2.61,2,   -999.0,9,   -999.0,9,-999.0000,9,  -999.00,      918
  49UF20110617,  PR02,  3049,  1,     10,  21969,2,20110709,0852,  2.4060, 140.0063, 4136,   1009.4,   4.4895,  34.5560,2,-999.0000,9,    101.7,2,    86.60,2,    37.29,2,     0.00,2,     2.66,2,   -999.0,9,   -999.0,9,-999.0000,9,  -999.00,      915
  49UF20110617,  PR02,  3049,  1,      9,  21968,2,20110709,0852,  2.4060, 140.0063, 4136,   1009.4,   4.4895,  34.5560,2,-999.0000,9,    101.0,6,    86.36,6,    37.31,6,     0.00,6,     2.66,6,   -999.0,9,   -999.0,9,-999.0000,9,  -999.00,      915
  49UF20110617,  PR02,  3049,  1,      8,  21967,2,20110709,0852,  2.4060, 140.0063, 4136,   1212.5,   3.7654,  34.5776,2,-999.0000,9,     98.1,2,   102.92,2,    38.18,2,     0.00,2,     2.74,2,   -999.0,9,   -999.0,9,-999.0000,9,  -999.00,      910
  49UF20110617,  PR02,  3049,  1,      7,  21966,2,20110709,0852,  2.4060, 140.0063, 4136,   1414.1,   3.2715,  34.5926,2,-999.0000,9,    102.2,2,   113.23,2,    38.39,2,     0.00,2,     2.73,2,   -999.0,9,   -999.0,9,-999.0000,9,  -999.00,      905
  49UF20110617,  PR02,  3049,  1,      3,  21962,2,20110709,0852,  2.4060, 140.0063, 4136,   1616.4,   2.8084,  34.6098,2,-999.0000,9,    105.9,2,   123.08,2,    38.58,2,     0.00,2,     2.74,2,   -999.0,9,   -999.0,9,-999.0000,9,  -999.00,      901
  49UF20110617,  PR02,  3049,  1,      2,  21961,2,20110709,0852,  2.4060, 140.0063, 4136,   1818.4,   2.4471,  34.6263,2,-999.0000,9,    111.7,2,   131.35,2,    38.35,2,     0.00,2,     2.71,2,   -999.0,9,   -999.0,9,-999.0000,9,  -999.00,      856
  49UF20110617,  PR02,  3049,  1,      1,  21960,2,20110709,0852,  2.4060, 140.0063, 4136,   2022.2,   2.1755,  34.6402,2,-999.0000,9,    118.1,2,   135.78,2,    38.02,2,     0.00,2,     2.68,2,   -999.0,9,   -999.0,9,-999.0000,9,  -999.00,      852
  49UF20110617,  PR02,  3050,  1,     99,     99,2,20110709,1504,  2.2107, 141.0013, 3443,      0.0,  28.6881,  33.6063,2,-999.0000,9,    197.2,2,     1.75,2,     0.00,2,     0.00,2,     0.06,2,   -999.0,9,   -999.0,9,-999.0000,9,  -999.00,     1549
  49UF20110617,  PR02,  3050,  1,     36,  21995,2,20110709,1504,  2.2107, 141.0013, 3443,     11.6,  28.7093,  33.6120,2,-999.0000,9,    197.4,2,     1.73,2,     0.00,2,     0.00,2,     0.05,2,   -999.0,9,   -999.0,9,-999.0000,9,  -999.00,     1600
  49UF20110617,  PR02,  3050,  1,     35,  21994,2,20110709,1504,  2.2107, 141.0013, 3443,     26.3,  29.5949,  35.1437,2,-999.0000,9,    192.5,2,     1.32,2,    -0.01,2,     0.01,2,     0.21,2,   -999.0,9,   -999.0,9,-999.0000,9,  -999.00,     1559
  49UF20110617,  PR02,  3050,  1,     34,  21993,2,20110709,1504,  2.2107, 141.0013, 3443,     51.2,  29.1772,  35.3365,2,-999.0000,9,    178.9,2,     1.45,2,     1.20,2,     0.58,2,     0.34,2,   -999.0,9,   -999.0,9,-999.0000,9,  -999.00,     1555
  49UF20110617,  PR02,  3050,  1,     30,  21989,2,20110709,1504,  2.2107, 141.0013, 3443,     76.6,  28.8714,  35.4338,2,-999.0000,9,    169.4,2,     1.59,2,     3.54,2,     0.33,2,     0.46,2,   -999.0,9,   -999.0,9,-999.0000,9,  -999.00,     1553
  49UF20110617,  PR02,  3050,  1,     29,  21988,2,20110709,1504,  2.2107, 141.0013, 3443,    101.9,  28.5083,  35.4605,2,-999.0000,9,    166.0,2,     1.75,2,     4.61,2,     0.07,2,     0.51,2,   -999.0,9,   -999.0,9,-999.0000,9,  -999.00,     1552
  49UF20110617,  PR02,  3050,  1,     28,  21987,2,20110709,1504,  2.2107, 141.0013, 3443,    127.0,  27.4244,  35.3130,2,-999.0000,9,    152.8,2,     2.57,2,     6.00,2,     0.04,2,     0.57,2,   -999.0,9,   -999.0,9,-999.0000,9,  -999.00,     1551
  49UF20110617,  PR02,  3050,  1,     27,  21986,2,20110709,1504,  2.2107, 141.0013, 3443,    152.1,  25.0824,  34.9870,2,-999.0000,9,    142.9,6,     5.06,6,     7.09,6,     0.02,6,     0.59,6,   -999.0,9,   -999.0,9,-999.0000,9,  -999.00,     1550
  49UF20110617,  PR02,  3050,  1,     26,  21985,2,20110709,1504,  2.2107, 141.0013, 3443,    201.3,  18.9032,  34.8322,2,-999.0000,9,    146.1,2,     9.19,2,     9.94,2,     0.01,2,     0.77,2,   -999.0,9,   -999.0,9,-999.0000,9,  -999.00,     1548
  49UF20110617,  PR02,  3050,  1,     25,  21984,2,20110709,1504,  2.2107, 141.0013, 3443,    201.3,  18.9032,  34.8322,2,-999.0000,9,    146.1,6,     9.21,6,     9.93,6,     0.01,6,     0.78,6,   -999.0,9,   -999.0,9,-999.0000,9,  -999.00,     1548
  49UF20110617,  PR02,  3050,  1,     21,  21980,2,20110709,1504,  2.2107, 141.0013, 3443,    252.8,  11.1569,  34.5285,2,-999.0000,9,     84.6,2,    29.51,2,    26.86,2,     0.00,2,     1.95,2,   -999.0,9,   -999.0,9,-999.0000,9,  -999.00,     1546
  49UF20110617,  PR02,  3050,  1,     20,  21979,2,20110709,1504,  2.2107, 141.0013, 3443,    304.8,   9.1073,  34.6638,2,-999.0000,9,    134.2,2,    24.93,2,    26.54,2,     0.00,2,     1.87,2,   -999.0,9,   -999.0,9,-999.0000,9,  -999.00,     1545
  49UF20110617,  PR02,  3050,  1,     19,  21978,2,20110709,1504,  2.2107, 141.0013, 3443,    403.6,   8.6953,  34.6341,2,-999.0000,9,    116.7,2,    29.74,2,    29.02,2,     0.00,2,     2.04,2,   -999.0,9,   -999.0,9,-999.0000,9,  -999.00,     1542
  49UF20110617,  PR02,  3050,  1,     15,  21974,2,20110709,1504,  2.2107, 141.0013, 3443,    505.1,   8.1293,  34.5984,2,-999.0000,9,    122.0,2,    32.28,2,    29.62,2,     0.00,2,     2.08,2,   -999.0,9,   -999.0,9,-999.0000,9,  -999.00,     1540
  49UF20110617,  PR02,  3050,  1,     14,  21973,2,20110709,1504,  2.2107, 141.0013, 3443,    606.6,   7.1437,  34.5522,2,-999.0000,9,    115.4,2,    41.12,2,    32.04,2,     0.00,2,     2.27,2,   -999.0,9,   -999.0,9,-999.0000,9,  -999.00,     1537
  49UF20110617,  PR02,  3050,  1,     13,  21972,2,20110709,1504,  2.2107, 141.0013, 3443,    705.7,   6.0738,  34.5361,2,-999.0000,9,     99.5,2,    57.58,2,    35.24,2,     0.00,2,     2.51,2,   -999.0,9,   -999.0,9,-999.0000,9,  -999.00,     1534
  49UF20110617,  PR02,  3050,  1,     12,  21971,2,20110709,1504,  2.2107, 141.0013, 3443,    705.7,   6.0738,  34.5361,2,-999.0000,9,     99.1,6,    57.68,6,    35.27,6,     0.00,6,     2.51,6,   -999.0,9,   -999.0,9,-999.0000,9,  -999.00,     1534
  49UF20110617,  PR02,  3050,  1,     11,  21970,2,20110709,1504,  2.2107, 141.0013, 3443,    808.6,   5.3216,  34.5421,2,-999.0000,9,     86.2,2,    71.48,2,    37.76,2,     0.00,2,     2.70,2,   -999.0,9,   -999.0,9,-999.0000,9,  -999.00,     1532
  49UF20110617,  PR02,  3050,  1,     10,  21969,2,20110709,1504,  2.2107, 141.0013, 3443,    907.8,   4.7413,  34.5512,2,-999.0000,9,     91.3,2,    83.13,2,    37.91,2,     0.00,2,     2.71,2,   -999.0,9,   -999.0,9,-999.0000,9,  -999.00,     1529
  49UF20110617,  PR02,  3050,  1,      9,  21968,2,20110709,1504,  2.2107, 141.0013, 3443,   1008.7,   4.3335,  34.5610,2,-999.0000,9,     92.6,2,    91.89,2,    38.29,2,     0.00,2,     2.74,2,   -999.0,9,   -999.0,9,-999.0000,9,  -999.00,     1526
  49UF20110617,  PR02,  3050,  1,      8,  21967,2,20110709,1504,  2.2107, 141.0013, 3443,   1212.5,   3.6292,  34.5812,2,-999.0000,9,     99.1,2,   105.88,2,    38.42,2,     0.00,2,     2.74,2,   -999.0,9,   -999.0,9,-999.0000,9,  -999.00,     1522
  49UF20110617,  PR02,  3050,  1,      7,  21966,2,20110709,1504,  2.2107, 141.0013, 3443,   1414.4,   3.1688,  34.5965,2,-999.0000,9,    101.2,2,   116.28,2,    38.54,2,     0.00,2,     2.75,2,   -999.0,9,   -999.0,9,-999.0000,9,  -999.00,     1517
  49UF20110617,  PR02,  3050,  1,      3,  21962,2,20110709,1504,  2.2107, 141.0013, 3443,   1616.2,   2.7786,  34.6110,2,-999.0000,9,    105.3,2,   124.36,2,    38.48,2,     0.00,2,     2.74,2,   -999.0,9,   -999.0,9,-999.0000,9,  -999.00,     1513
  49UF20110617,  PR02,  3050,  1,      2,  21961,3,20110709,1504,  2.2107, 141.0013, 3443,   1818.9,   2.3835,  34.6290,2,-999.0000,9,    112.7,2,   132.37,2,    38.25,2,     0.00,2,     2.71,2,   -999.0,9,   -999.0,9,-999.0000,9,  -999.00,     1508
  49UF20110617,  PR02,  3050,  1,      1,  21960,2,20110709,1504,  2.2107, 141.0013, 3443,   2022.8,   2.1949,  34.6389,2,-999.0000,9,    118.0,2,   135.67,2,    37.97,2,     0.00,2,     2.68,2,   -999.0,9,   -999.0,9,-999.0000,9,  -999.00,     1504
  49UF20110617,  PR02,  3051,  1,     99,     99,2,20110709,2122,  2.0077, 142.0052, 2579,      0.0,  28.8296,  33.3169,2,-999.0000,9,    197.3,2,     1.56,2,     0.05,2,     0.00,2,     0.05,2,   -999.0,9,   -999.0,9,-999.0000,9,  -999.00,     2225
  49UF20110617,  PR02,  3051,  1,     36,  21995,2,20110709,2122,  2.0077, 142.0052, 2579,     11.4,  28.9089,  33.5690,2,  33.6169,4,    196.1,2,     1.60,2,     0.09,2,     0.00,2,     0.06,2,   -999.0,9,   -999.0,9,-999.0000,9,  -999.00,     2251
  49UF20110617,  PR02,  3051,  1,     35,  21994,2,20110709,2122,  2.0077, 142.0052, 2579,     26.5,  29.4999,  35.1856,2,-999.0000,9,    190.1,2,     1.13,2,     0.15,2,     0.10,2,     0.21,2,   -999.0,9,   -999.0,9,-999.0000,9,  -999.00,     2250
  49UF20110617,  PR02,  3051,  1,     34,  21993,2,20110709,2122,  2.0077, 142.0052, 2579,     50.8,  29.2028,  35.3716,2,-999.0000,9,    181.6,2,     1.29,2,     1.35,2,     0.27,2,     0.33,2,   -999.0,9,   -999.0,9,-999.0000,9,  -999.00,     2246
  49UF20110617,  PR02,  3051,  1,     30,  21989,2,20110709,2122,  2.0077, 142.0052, 2579,     76.2,  28.5370,  35.3801,2,-999.0000,9,    168.1,2,     1.65,2,     3.73,2,     0.43,2,     0.46,2,   -999.0,9,   -999.0,9,-999.0000,9,  -999.00,     2245
  49UF20110617,  PR02,  3051,  1,     29,  21988,2,20110709,2122,  2.0077, 142.0052, 2579,    101.1,  27.9759,  35.4282,2,  35.4110,4,    161.8,2,     1.92,2,     5.30,2,     0.07,2,     0.53,2,   -999.0,9,   -999.0,9,-999.0000,9,  -999.00,     2243
  49UF20110617,  PR02,  3051,  1,     28,  21987,2,20110709,2122,  2.0077, 142.0052, 2579,    125.6,  25.1499,  35.0295,2,-999.0000,9,    145.1,6,     4.54,6,     7.14,6,     0.02,6,     0.59,6,   -999.0,9,   -999.0,9,-999.0000,9,  -999.00,     2242
  49UF20110617,  PR02,  3051,  1,     27,  21986,2,20110709,2122,  2.0077, 142.0052, 2579,    153.2,  22.7687,  34.9543,2,-999.0000,9,    145.8,2,     5.75,2,     7.49,2,     0.02,2,     0.61,2,   -999.0,9,   -999.0,9,-999.0000,9,  -999.00,     2241
  49UF20110617,  PR02,  3051,  1,     26,  21985,2,20110709,2122,  2.0077, 142.0052, 2579,    153.2,  22.7687,  34.9543,2,-999.0000,9,    145.6,6,     5.79,6,     7.49,6,     0.02,6,     0.61,6,   -999.0,9,   -999.0,9,-999.0000,9,  -999.00,     2241
  49UF20110617,  PR02,  3051,  1,     25,  21984,2,20110709,2122,  2.0077, 142.0052, 2579,    201.7,  18.8598,  35.1432,2,  35.1950,4,    141.1,2,     8.09,2,    11.30,2,     0.01,2,     0.88,2,   -999.0,9,   -999.0,9,-999.0000,9,  -999.00,     2239
  49UF20110617,  PR02,  3051,  1,     21,  21980,2,20110709,2122,  2.0077, 142.0052, 2579,    253.2,  13.0954,  34.5086,2,-999.0000,9,    135.9,2,    22.37,2,    18.40,2,     0.00,2,     1.34,2,   -999.0,9,   -999.0,9,-999.0000,9,  -999.00,     2237
  49UF20110617,  PR02,  3051,  1,     20,  21979,2,20110709,2122,  2.0077, 142.0052, 2579,    303.5,   9.3727,  34.6707,2,-999.0000,9,    128.3,2,    25.82,2,    26.55,2,     0.00,2,     1.87,2,   -999.0,9,   -999.0,9,-999.0000,9,  -999.00,     2235
  49UF20110617,  PR02,  3051,  1,     19,  21978,2,20110709,2122,  2.0077, 142.0052, 2579,    404.4,   8.8046,  34.6423,2,  34.6403,2,    124.5,2,    27.37,2,    28.17,2,     0.00,2,     1.97,2,   -999.0,9,   -999.0,9,-999.0000,9,  -999.00,     2232
  49UF20110617,  PR02,  3051,  1,     15,  21974,2,20110709,2122,  2.0077, 142.0052, 2579,    505.3,   8.4224,  34.6167,2,-999.0000,9,    131.7,2,    28.36,2,    28.27,2,     0.00,2,     1.98,2,   -999.0,9,   -999.0,9,-999.0000,9,  -999.00,     2229
  49UF20110617,  PR02,  3051,  1,     14,  21973,2,20110709,2122,  2.0077, 142.0052, 2579,    606.2,   7.3257,  34.5604,2,  34.5607,2,    107.4,2,    40.70,2,    32.40,2,     0.00,2,     2.29,2,   -999.0,9,   -999.0,9,-999.0000,9,  -999.00,     2226
  49UF20110617,  PR02,  3051,  1,     13,  21972,2,20110709,2122,  2.0077, 142.0052, 2579,    606.2,   7.3257,  34.5604,2,  34.5593,6,    107.6,6,    40.67,6,    32.45,6,     0.00,6,     2.29,6,   -999.0,9,   -999.0,9,-999.0000,9,  -999.00,     2226
  49UF20110617,  PR02,  3051,  1,     12,  21971,2,20110709,2122,  2.0077, 142.0052, 2579,    707.6,   6.1041,  34.5354,2,-999.0000,9,    105.8,2,    56.34,2,    34.76,2,     0.00,2,     2.47,2,   -999.0,9,   -999.0,9,-999.0000,9,  -999.00,     2223
  49UF20110617,  PR02,  3051,  1,     11,  21970,2,20110709,2122,  2.0077, 142.0052, 2579,    807.4,   5.2701,  34.5426,2,  34.5411,2,     87.7,2,    72.11,2,    37.73,2,     0.00,2,     2.69,2,   -999.0,9,   -999.0,9,-999.0000,9,  -999.00,     2220
  49UF20110617,  PR02,  3051,  1,     10,  21969,2,20110709,2122,  2.0077, 142.0052, 2579,    908.6,   4.8307,  34.5496,2,-999.0000,9,     89.9,2,    80.28,2,    37.93,2,     0.00,2,     2.71,2,   -999.0,9,   -999.0,9,-999.0000,9,  -999.00,     2217
  49UF20110617,  PR02,  3051,  1,      9,  21968,2,20110709,2122,  2.0077, 142.0052, 2579,   1009.3,   4.3878,  34.5597,2,  34.5579,2,     91.5,2,    90.63,2,    38.30,2,     0.00,2,     2.74,2,   -999.0,9,   -999.0,9,-999.0000,9,  -999.00,     2215
  49UF20110617,  PR02,  3051,  1,      8,  21967,2,20110709,2122,  2.0077, 142.0052, 2579,   1213.0,   3.5856,  34.5823,2,  34.5822,2,    101.3,2,   104.97,2,    38.35,2,     0.00,2,     2.73,2,   -999.0,9,   -999.0,9,-999.0000,9,  -999.00,     2210
  49UF20110617,  PR02,  3051,  1,      7,  21966,2,20110709,2122,  2.0077, 142.0052, 2579,   1413.7,   3.1696,  34.5965,2,  34.5922,2,    105.4,2,   113.77,2,    38.39,2,     0.00,2,     2.73,2,   -999.0,9,   -999.0,9,-999.0000,9,  -999.00,     2135
  49UF20110617,  PR02,  3051,  1,      3,  21962,2,20110709,2122,  2.0077, 142.0052, 2579,   1616.0,   2.7193,  34.6141,2,  34.6128,6,    109.3,2,   123.96,2,    38.35,2,     0.00,2,     2.72,2,   -999.0,9,   -999.0,9,-999.0000,9,  -999.00,     2130
  49UF20110617,  PR02,  3051,  1,      2,  21961,2,20110709,2122,  2.0077, 142.0052, 2579,   1818.8,   2.3724,  34.6300,2,  34.6286,2,    115.3,2,   131.38,2,    38.17,2,     0.00,2,     2.69,2,   -999.0,9,   -999.0,9,-999.0000,9,  -999.00,     2126
  49UF20110617,  PR02,  3051,  1,      1,  21960,2,20110709,2122,  2.0077, 142.0052, 2579,   2021.3,   2.1629,  34.6409,2,  34.6390,2,    119.4,2,   135.96,2,    37.96,2,     0.00,2,     2.68,2,   -999.0,9,   -999.0,9,-999.0000,9,  -999.00,     2122