BOTTLE,20191015PRINUNIVRMK
EXPOCODE,SECT_ID,STNNBR,CASTNO,SAMPNO,BTLNBR,BTLNBR_FLAG_W,DATE,TIME,LATITUDE,LONGITUDE,DEPTH,CTDPRS,CTDTMP,CTDSAL,CTDSAL_FLAG_W,SALNTY,SALNTY_FLAG_W,OXYGEN,OXYGEN_FLAG_W,SILCAT,SILCAT_FLAG_W,NITRAT,NITRAT_FLAG_W,NITRIT,NITRIT_FLAG_W,PHSPHT,PHSPHT_FLAG_W,TCARBN,TCARBN_FLAG_W,ALKALI,ALKALI_FLAG_W,PH_TOT,PH_TOT_FLAG_W,PH_TMP,BTL_TIME
,,,,,,,,,,,METERS,DBAR,ITS-90,PSS-78,,PSS-78,,UMOL/KG,,UMOL/KG,,UMOL/KG,,UMOL/KG,,UMOL/KG,,UMOL/KG,,UMOL/KG,,,,DEG C,
  49UF20110617,  PR02,  3028,  1,     99,     99,2,20110623,0958, 20.0403, 136.9965, 4638,      0.0,  29.5804,  34.7471,2,-999.0000,9,    194.2,2,     0.87,2,     0.00,2,     0.00,2,     0.02,2,   -999.0,9,   -999.0,9,-999.0000,9,  -999.00,     1150
  49UF20110617,  PR02,  3028,  1,     36,  21995,2,20110623,0958, 20.0403, 136.9965, 4638,     10.7,  29.5823,  34.7620,2,  34.7533,4,    193.9,2,     0.83,2,     0.00,2,     0.00,2,     0.01,2,   1940.6,2,   2274.3,2,   8.0805,4,    25.00,     1210
  49UF20110617,  PR02,  3028,  1,     35,  21994,2,20110623,0958, 20.0403, 136.9965, 4638,     26.5,  29.5105,  34.8274,2,-999.0000,9,    194.9,2,     0.83,2,     0.00,2,     0.00,2,     0.02,2,   1944.9,2,   2282.8,2,   8.0750,4,    25.00,     1209
  49UF20110617,  PR02,  3028,  1,     34,  21993,2,20110623,0958, 20.0403, 136.9965, 4638,     51.5,  24.7217,  34.7614,2,-999.0000,9,    219.0,2,     1.10,2,     0.00,2,     0.00,2,     0.02,2,   1961.4,2,   2276.8,2,   8.0472,4,    25.00,     1207
  49UF20110617,  PR02,  3028,  1,     33,  21992,2,20110623,0958, 20.0403, 136.9965, 4638,     76.8,  22.9063,  34.8265,2,-999.0000,9,    223.6,2,     1.13,2,     0.00,2,     0.00,2,     0.00,2,   1969.5,2,   2284.3,2,   8.0524,4,    25.00,     1206
  49UF20110617,  PR02,  3028,  1,     32,  21991,2,20110623,0958, 20.0403, 136.9965, 4638,    102.3,  21.4451,  34.8575,2,  34.8581,2,    213.0,2,     1.46,2,     0.02,2,     0.01,2,     0.03,2,   1992.0,2,   2287.2,2,   8.0070,4,    25.00,     1204
  49UF20110617,  PR02,  3028,  1,     31,  21990,2,20110623,0958, 20.0403, 136.9965, 4638,    127.4,  20.6237,  34.8352,2,-999.0000,9,    206.3,2,     1.77,2,     0.90,2,     0.09,2,     0.09,2,   2001.1,2,   2285.9,2,   7.9756,4,    25.00,     1202
  49UF20110617,  PR02,  3028,  1,     30,  21989,2,20110623,0958, 20.0403, 136.9965, 4638,    152.7,  19.9585,  34.8068,2,-999.0000,9,    200.3,2,     2.13,2,     1.84,2,     0.04,2,     0.14,2,   2017.7,2,   2285.2,2,   7.9498,4,    25.00,     1159
  49UF20110617,  PR02,  3028,  1,     29,  21988,2,20110623,0958, 20.0403, 136.9965, 4638,    203.2,  18.3836,  34.7352,2,  34.7359,2,    203.9,2,     3.07,2,     3.49,2,     0.01,2,     0.24,2,   2022.1,2,   2278.4,2,   7.9881,4,    25.00,     1157
  49UF20110617,  PR02,  3028,  1,     28,  21987,2,20110623,0958, 20.0403, 136.9965, 4638,    252.0,  17.3544,  34.6980,2,-999.0000,9,    195.0,2,     5.03,2,     5.86,2,     0.01,2,     0.40,2,   2039.9,2,   2275.9,2,   7.9079,4,    25.00,     1155
  49UF20110617,  PR02,  3028,  1,     27,  21986,2,20110623,0958, 20.0403, 136.9965, 4638,    304.5,  16.0996,  34.6439,2,-999.0000,9,    190.8,2,     6.63,2,     7.28,2,     0.00,2,     0.50,2,   2052.0,2,   2277.4,2,   7.8820,4,    25.00,     1152
  49UF20110617,  PR02,  3028,  1,     26,  21985,2,20110623,0958, 20.0403, 136.9965, 4638,    407.4,  12.8604,  34.4251,2,  34.4281,2,    181.6,2,    16.60,2,    13.86,2,     0.00,2,     0.98,2,   2100.9,2,   2271.4,2,   7.7846,4,    25.00,     1149
  49UF20110617,  PR02,  3028,  1,     25,  21984,2,20110623,0958, 20.0403, 136.9965, 4638,    505.4,   9.2043,  34.1983,2,-999.0000,9,    155.9,2,    34.95,2,    22.51,2,     0.00,2,     1.63,2,   2163.8,2,   2276.3,2,   7.6358,4,    25.00,     1145
  49UF20110617,  PR02,  3028,  1,     24,  21983,2,20110623,0958, 20.0403, 136.9965, 4638,    505.4,   9.2043,  34.1983,2,-999.0000,9,    155.4,6,    34.91,6,    22.58,6,     0.00,6,     1.63,6,   2163.5,2,   2276.8,2,   7.6305,4,    25.00,     1145
  49UF20110617,  PR02,  3028,  1,     23,  21982,2,20110623,0958, 20.0403, 136.9965, 4638,    605.9,   7.0808,  34.1407,2,  34.1415,2,    115.4,2,    56.06,2,    30.17,2,     0.00,2,     2.18,3,   2222.7,2,   2291.9,2,   7.5222,4,    25.00,     1142
  49UF20110617,  PR02,  3028,  1,     22,  21981,2,20110623,0958, 20.0403, 136.9965, 4638,    706.6,   5.4914,  34.1972,2,-999.0000,9,     77.0,2,    80.50,2,    36.44,2,     0.00,2,     2.65,2,   2279.8,2,   2315.1,2,   7.4157,4,    25.00,     1139
  49UF20110617,  PR02,  3028,  1,     21,  21980,2,20110623,0958, 20.0403, 136.9965, 4638,    807.1,   4.5784,  34.3016,2,  34.3002,2,     60.4,6,    99.03,6,    39.33,6,     0.00,6,     2.85,6,   2317.8,2,   2339.3,2,   7.3839,4,    25.00,     1135
  49UF20110617,  PR02,  3028,  1,     20,  21979,2,20110623,0958, 20.0403, 136.9965, 4638,    910.5,   3.9433,  34.3871,2,-999.0000,9,     58.0,2,   113.34,2,    40.36,2,     0.00,2,     2.92,2,   2333.8,2,   2358.8,2,   7.3807,4,    25.00,     1132
  49UF20110617,  PR02,  3028,  1,     19,  21978,3,20110623,0958, 20.0403, 136.9965, 4638,   1009.8,   3.5195,  34.4349,2,  34.3425,4,    156.7,4,    33.30,4,    20.09,4,     0.00,4,     1.45,4,   2146.2,4,   2276.2,4,   7.6872,4,    25.00,     1129
  49UF20110617,  PR02,  3028,  1,     18,  21977,2,20110623,0958, 20.0403, 136.9965, 4638,   1009.8,   3.5195,  34.4349,2,  34.4337,6,     61.5,6,   122.26,6,    40.76,6,     0.00,6,     2.94,6,   2340.3,2,   2365.8,2,   7.3946,4,    25.00,     1129
  49UF20110617,  PR02,  3028,  1,     17,  21976,2,20110623,0958, 20.0403, 136.9965, 4638,   1212.8,   3.0606,  34.5073,2,  34.5052,2,     74.9,2,   130.97,2,    40.16,2,     0.00,2,     2.89,2,   2341.7,2,   2384.4,2,   7.4378,4,    25.00,     1124
  49UF20110617,  PR02,  3028,  1,     16,  21975,2,20110623,0958, 20.0403, 136.9965, 4638,   1412.4,   2.7099,  34.5616,2,  34.5608,2,     92.8,2,   134.83,2,    39.28,2,     0.00,2,     2.81,2,   2340.1,6,   2395.0,6,   7.4629,4,    25.00,     1118
  49UF20110617,  PR02,  3028,  1,     15,  21974,2,20110623,0958, 20.0403, 136.9965, 4638,   1617.5,   2.4530,  34.5909,2,  34.5901,2,    102.1,2,   137.91,2,    38.82,2,     0.00,2,     2.77,2,   2341.5,2,   2398.0,2,   7.4774,4,    25.00,     1112
  49UF20110617,  PR02,  3028,  1,     14,  21973,2,20110623,0958, 20.0403, 136.9965, 4638,   1820.0,   2.2186,  34.6089,2,  34.6084,2,    109.3,2,   140.80,2,    38.55,2,     0.00,2,     2.76,2,   2342.1,2,   2404.1,2,   7.4901,4,    25.00,     1106
  49UF20110617,  PR02,  3028,  1,     13,  21972,2,20110623,0958, 20.0403, 136.9965, 4638,   2024.1,   2.0102,  34.6268,2,  34.6294,4,    116.9,2,   142.62,2,    38.27,2,     0.00,2,     2.72,2,   2340.7,2,   2406.0,2,   7.4922,4,    25.00,     1101
  49UF20110617,  PR02,  3028,  1,     12,  21971,2,20110623,0958, 20.0403, 136.9965, 4638,   2278.5,   1.8546,  34.6413,2,  34.6412,2,    124.2,2,   144.15,2,    37.95,2,     0.00,2,     2.68,2,   -999.0,9,   -999.0,9,-999.0000,9,  -999.00,     1053
  49UF20110617,  PR02,  3028,  1,     11,  21970,2,20110623,0958, 20.0403, 136.9965, 4638,   2535.2,   1.7530,  34.6508,2,-999.0000,9,    130.6,2,   144.50,2,    37.63,2,     0.00,2,     2.66,2,   -999.0,9,   -999.0,9,-999.0000,9,  -999.00,     1045
  49UF20110617,  PR02,  3028,  1,     10,  21969,2,20110623,0958, 20.0403, 136.9965, 4638,   2790.2,   1.6801,  34.6596,2,  34.6590,2,    135.9,2,   143.84,2,    37.18,2,     0.00,2,     2.63,2,   -999.0,9,   -999.0,9,-999.0000,9,  -999.00,     1038
  49UF20110617,  PR02,  3028,  1,      9,  21968,2,20110623,0958, 20.0403, 136.9965, 4638,   3043.8,   1.6303,  34.6656,2,-999.0000,9,    140.6,2,   143.95,2,    36.87,2,     0.00,2,     2.60,2,   -999.0,9,   -999.0,9,-999.0000,9,  -999.00,     1032
  49UF20110617,  PR02,  3028,  1,      8,  21967,3,20110623,0958, 20.0403, 136.9965, 4638,   3298.5,   1.5951,  34.6707,2,  34.6711,2,    144.6,2,   143.17,2,    36.57,2,     0.00,2,     2.58,2,   -999.0,9,   -999.0,9,-999.0000,9,  -999.00,     1027
  49UF20110617,  PR02,  3028,  1,      7,  21966,2,20110623,0958, 20.0403, 136.9965, 4638,   3553.3,   1.5647,  34.6757,2,-999.0000,9,    148.6,2,   142.80,2,    36.43,2,     0.00,2,     2.56,2,   -999.0,9,   -999.0,9,-999.0000,9,  -999.00,     1022
  49UF20110617,  PR02,  3028,  1,      6,  21965,2,20110623,0958, 20.0403, 136.9965, 4638,   3809.0,   1.5428,  34.6795,2,  34.6788,2,    152.4,2,   142.19,2,    36.10,2,     0.00,2,     2.54,2,   -999.0,9,   -999.0,9,-999.0000,9,  -999.00,     1017
  49UF20110617,  PR02,  3028,  1,      5,  21964,2,20110623,0958, 20.0403, 136.9965, 4638,   4061.9,   1.5095,  34.6840,2,-999.0000,9,    157.8,2,   140.81,2,    35.68,2,     0.00,2,     2.51,2,   -999.0,9,   -999.0,9,-999.0000,9,  -999.00,     1012
  49UF20110617,  PR02,  3028,  1,      4,  21963,2,20110623,0958, 20.0403, 136.9965, 4638,   4321.2,   1.5195,  34.6854,2,  34.6855,2,    159.4,2,   140.42,2,    35.76,2,     0.00,2,     2.50,2,   -999.0,9,   -999.0,9,-999.0000,9,  -999.00,     1008
  49UF20110617,  PR02,  3028,  1,      3,  21962,2,20110623,0958, 20.0403, 136.9965, 4638,   4576.9,   1.5408,  34.6861,2,  34.6867,2,    159.9,2,   139.85,2,    35.64,2,     0.00,2,     2.50,2,   -999.0,9,   -999.0,9,-999.0000,9,  -999.00,     1002
  49UF20110617,  PR02,  3028,  1,      2,  21961,2,20110623,0958, 20.0403, 136.9965, 4638,   4576.9,   1.5408,  34.6861,2,  34.6861,6,    160.1,6,   140.15,6,    35.69,6,     0.00,6,     2.50,6,   -999.0,9,   -999.0,9,-999.0000,9,  -999.00,     1002
  49UF20110617,  PR02,  3028,  1,      1,  21960,2,20110623,0958, 20.0403, 136.9965, 4638,   4729.9,   1.5567,  34.6865,2,  34.6857,2,    160.9,2,   140.28,2,    35.60,2,     0.00,2,     2.50,2,   -999.0,9,   -999.0,9,-999.0000,9,  -999.00,      958
  49UF20110617,  PR02,  3029,  1,     99,     99,2,20110623,2002, 19.0073, 136.9937, 4869,      0.0,  29.5593,  34.4678,2,-999.0000,9,    194.9,2,     0.89,2,     0.06,2,     0.00,2,     0.02,2,   -999.0,9,   -999.0,9,-999.0000,9,  -999.00,     2142
  49UF20110617,  PR02,  3029,  1,     36,  21995,2,20110623,2002, 19.0073, 136.9937, 4869,     11.8,  29.5657,  34.4755,2,-999.0000,9,    195.5,2,     0.91,2,     0.02,2,     0.00,2,     0.02,2,   -999.0,9,   -999.0,9,-999.0000,9,  -999.00,     2200
  49UF20110617,  PR02,  3029,  1,     35,  21994,4,20110623,2002, 19.0073, 136.9937, 4869,     27.2,  29.5735,  34.4764,2,-999.0000,9,   -999.0,9,     0.91,4,     0.10,4,     0.00,4,     0.00,4,   -999.0,9,   -999.0,9,-999.0000,9,  -999.00,     2159
  49UF20110617,  PR02,  3029,  1,     34,  21993,2,20110623,2002, 19.0073, 136.9937, 4869,     53.4,  28.4459,  34.7132,2,-999.0000,9,    207.2,2,     0.86,2,     0.01,2,     0.00,2,     0.01,2,   -999.0,9,   -999.0,9,-999.0000,9,  -999.00,     2157
  49UF20110617,  PR02,  3029,  1,     33,  21992,2,20110623,2002, 19.0073, 136.9937, 4869,     77.0,  26.8978,  34.9873,2,-999.0000,9,    205.7,2,     0.86,2,     0.00,2,     0.00,2,     0.02,2,   -999.0,9,   -999.0,9,-999.0000,9,  -999.00,     2155
  49UF20110617,  PR02,  3029,  1,     32,  21991,2,20110623,2002, 19.0073, 136.9937, 4869,    104.5,  25.2152,  35.1831,2,-999.0000,9,    187.6,2,     1.09,2,     0.08,2,     0.07,2,     0.06,2,   -999.0,9,   -999.0,9,-999.0000,9,  -999.00,     2153
  49UF20110617,  PR02,  3029,  1,     31,  21990,2,20110623,2002, 19.0073, 136.9937, 4869,    125.3,  24.2490,  35.1572,2,-999.0000,9,    179.4,2,     1.33,2,     0.78,2,     0.04,2,     0.12,2,   -999.0,9,   -999.0,9,-999.0000,9,  -999.00,     2151
  49UF20110617,  PR02,  3029,  1,     30,  21989,2,20110623,2002, 19.0073, 136.9937, 4869,    150.2,  22.7934,  35.0964,2,-999.0000,9,    176.9,2,     1.77,2,     1.71,2,     0.02,2,     0.17,2,   -999.0,9,   -999.0,9,-999.0000,9,  -999.00,     2148
  49UF20110617,  PR02,  3029,  1,     29,  21988,2,20110623,2002, 19.0073, 136.9937, 4869,    202.7,  19.8255,  34.8921,2,-999.0000,9,    178.2,2,     3.08,2,     3.79,2,     0.01,2,     0.30,2,   -999.0,9,   -999.0,9,-999.0000,9,  -999.00,     2146
  49UF20110617,  PR02,  3029,  1,     28,  21987,2,20110623,2002, 19.0073, 136.9937, 4869,    253.1,  17.7549,  34.7385,2,-999.0000,9,    185.0,2,     4.46,2,     5.61,2,     0.01,2,     0.40,2,   -999.0,9,   -999.0,9,-999.0000,9,  -999.00,     2144
  49UF20110617,  PR02,  3029,  1,     27,  21986,2,20110623,2002, 19.0073, 136.9937, 4869,    301.5,  15.8287,  34.6012,2,-999.0000,9,    185.4,2,     7.27,2,     8.43,2,     0.01,2,     0.59,2,   -999.0,9,   -999.0,9,-999.0000,9,  -999.00,     2143
  49UF20110617,  PR02,  3029,  1,     26,  21985,2,20110623,2002, 19.0073, 136.9937, 4869,    301.5,  15.8287,  34.6012,2,-999.0000,9,    185.5,6,     7.29,6,     8.44,6,     0.01,6,     0.60,6,   -999.0,9,   -999.0,9,-999.0000,9,  -999.00,     2143
  49UF20110617,  PR02,  3029,  1,     25,  21984,2,20110623,2002, 19.0073, 136.9937, 4869,    404.9,  11.7311,  34.3212,2,-999.0000,9,    175.4,2,    18.77,2,    16.13,2,     0.00,2,     1.16,2,   -999.0,9,   -999.0,9,-999.0000,9,  -999.00,     2140
  49UF20110617,  PR02,  3029,  1,     24,  21983,2,20110623,2002, 19.0073, 136.9937, 4869,    506.5,   8.5571,  34.1648,2,-999.0000,9,    138.0,2,    38.68,2,    25.32,2,     0.00,2,     1.83,2,   -999.0,9,   -999.0,9,-999.0000,9,  -999.00,     2137
  49UF20110617,  PR02,  3029,  1,     23,  21982,2,20110623,2002, 19.0073, 136.9937, 4869,    608.4,   6.7074,  34.2388,2,-999.0000,9,     79.1,2,    62.48,2,    34.24,2,     0.00,2,     2.49,2,   -999.0,9,   -999.0,9,-999.0000,9,  -999.00,     2134
  49UF20110617,  PR02,  3029,  1,     22,  21981,2,20110623,2002, 19.0073, 136.9937, 4869,    709.1,   5.4307,  34.2507,2,-999.0000,9,     65.9,6,    82.15,6,    37.75,6,     0.00,6,     2.73,6,   -999.0,9,   -999.0,9,-999.0000,9,  -999.00,     2131
  49UF20110617,  PR02,  3029,  1,     21,  21980,2,20110623,2002, 19.0073, 136.9937, 4869,    809.2,   4.9518,  34.3476,2,-999.0000,9,     58.9,2,    92.22,2,    39.09,2,     0.00,2,     2.84,2,   -999.0,9,   -999.0,9,-999.0000,9,  -999.00,     2128
  49UF20110617,  PR02,  3029,  1,     20,  21979,2,20110623,2002, 19.0073, 136.9937, 4869,    910.1,   4.5451,  34.4264,2,-999.0000,9,     63.7,2,    99.98,2,    39.52,2,     0.00,2,     2.86,2,   -999.0,9,   -999.0,9,-999.0000,9,  -999.00,     2125
  49UF20110617,  PR02,  3029,  1,     19,  21978,2,20110623,2002, 19.0073, 136.9937, 4869,   1009.8,   4.1708,  34.4725,2,-999.0000,9,     69.7,2,   107.39,2,    39.47,2,     0.00,2,     2.84,3,   -999.0,9,   -999.0,9,-999.0000,9,  -999.00,     2123
  49UF20110617,  PR02,  3029,  1,     18,  21977,2,20110623,2002, 19.0073, 136.9937, 4869,   1212.9,   3.4628,  34.5256,2,-999.0000,9,     80.1,2,   120.65,2,    39.44,2,     0.00,2,     2.81,2,   -999.0,9,   -999.0,9,-999.0000,9,  -999.00,     2118
  49UF20110617,  PR02,  3029,  1,     17,  21976,2,20110623,2002, 19.0073, 136.9937, 4869,   1415.4,   2.9336,  34.5581,2,-999.0000,9,     86.9,2,   130.49,2,    39.57,2,     0.00,2,     2.81,2,   -999.0,9,   -999.0,9,-999.0000,9,  -999.00,     2113
  49UF20110617,  PR02,  3029,  1,     16,  21975,2,20110623,2002, 19.0073, 136.9937, 4869,   1619.3,   2.5358,  34.5841,2,-999.0000,9,     96.9,2,   137.22,2,    39.32,2,     0.00,2,     2.78,2,   -999.0,9,   -999.0,9,-999.0000,9,  -999.00,     2109
  49UF20110617,  PR02,  3029,  1,     15,  21974,2,20110623,2002, 19.0073, 136.9937, 4869,   1619.3,   2.5358,  34.5841,2,-999.0000,9,     97.1,6,   137.41,6,    39.24,6,     0.00,6,     2.78,6,   -999.0,9,   -999.0,9,-999.0000,9,  -999.00,     2109
  49UF20110617,  PR02,  3029,  1,     14,  21973,2,20110623,2002, 19.0073, 136.9937, 4869,   1821.5,   2.2646,  34.6060,2,-999.0000,9,    105.9,2,   140.75,2,    38.87,2,     0.00,2,     2.74,2,   -999.0,9,   -999.0,9,-999.0000,9,  -999.00,     2104
  49UF20110617,  PR02,  3029,  1,     13,  21972,2,20110623,2002, 19.0073, 136.9937, 4869,   2022.4,   2.0452,  34.6245,2,-999.0000,9,    114.0,2,   143.19,2,    38.31,2,     0.00,2,     2.70,2,   -999.0,9,   -999.0,9,-999.0000,9,  -999.00,     2100
  49UF20110617,  PR02,  3029,  1,     12,  21971,2,20110623,2002, 19.0073, 136.9937, 4869,   2276.8,   1.8964,  34.6378,2,-999.0000,9,    121.0,2,   145.01,2,    38.16,2,     0.00,2,     2.67,2,   -999.0,9,   -999.0,9,-999.0000,9,  -999.00,     2055
  49UF20110617,  PR02,  3029,  1,     11,  21970,2,20110623,2002, 19.0073, 136.9937, 4869,   2532.2,   1.7825,  34.6493,2,-999.0000,9,    128.0,2,   145.30,2,    37.62,2,     0.00,2,     2.66,2,   -999.0,9,   -999.0,9,-999.0000,9,  -999.00,     2049
  49UF20110617,  PR02,  3029,  1,     10,  21969,2,20110623,2002, 19.0073, 136.9937, 4869,   2785.9,   1.6905,  34.6589,2,-999.0000,9,    134.8,2,   145.02,2,    37.34,2,     0.00,2,     2.62,2,   -999.0,9,   -999.0,9,-999.0000,9,  -999.00,     2044
  49UF20110617,  PR02,  3029,  1,      9,  21968,2,20110623,2002, 19.0073, 136.9937, 4869,   3039.3,   1.6391,  34.6652,2,-999.0000,9,    139.5,2,   144.64,2,    36.99,2,     0.00,2,     2.59,2,   -999.0,9,   -999.0,9,-999.0000,9,  -999.00,     2039
  49UF20110617,  PR02,  3029,  1,      8,  21967,2,20110623,2002, 19.0073, 136.9937, 4869,   3295.7,   1.5916,  34.6711,2,-999.0000,9,    144.7,2,   143.88,2,    36.74,2,     0.00,2,     2.56,2,   -999.0,9,   -999.0,9,-999.0000,9,  -999.00,     2034
  49UF20110617,  PR02,  3029,  1,      7,  21966,2,20110623,2002, 19.0073, 136.9937, 4869,   3551.7,   1.5546,  34.6762,2,-999.0000,9,    149.2,2,   142.97,2,    36.38,2,     0.00,2,     2.53,2,   -999.0,9,   -999.0,9,-999.0000,9,  -999.00,     2029
  49UF20110617,  PR02,  3029,  1,      6,  21965,2,20110623,2002, 19.0073, 136.9937, 4869,   3807.9,   1.5294,  34.6805,2,-999.0000,9,    153.8,2,   142.33,2,    36.15,2,     0.00,2,     2.51,2,   -999.0,9,   -999.0,9,-999.0000,9,  -999.00,     2024
  49UF20110617,  PR02,  3029,  1,      5,  21964,2,20110623,2002, 19.0073, 136.9937, 4869,   3807.9,   1.5294,  34.6805,2,-999.0000,9,    153.3,6,   142.48,6,    36.15,6,     0.00,6,     2.52,6,   -999.0,9,   -999.0,9,-999.0000,9,  -999.00,     2024
  49UF20110617,  PR02,  3029,  1,      4,  21963,2,20110623,2002, 19.0073, 136.9937, 4869,   4061.7,   1.5142,  34.6837,2,-999.0000,9,    157.4,2,   141.37,2,    35.97,2,     0.00,2,     2.49,2,   -999.0,9,   -999.0,9,-999.0000,9,  -999.00,     2019
  49UF20110617,  PR02,  3029,  1,      3,  21962,2,20110623,2002, 19.0073, 136.9937, 4869,   4318.5,   1.5175,  34.6857,2,-999.0000,9,    159.5,2,   140.60,2,    35.78,2,     0.00,2,     2.48,2,   -999.0,9,   -999.0,9,-999.0000,9,  -999.00,     2014
  49UF20110617,  PR02,  3029,  1,      2,  21961,2,20110623,2002, 19.0073, 136.9937, 4869,   4578.4,   1.5406,  34.6864,2,-999.0000,9,    159.7,2,   140.36,2,    35.76,2,     0.00,2,     2.48,2,   -999.0,9,   -999.0,9,-999.0000,9,  -999.00,     2008
  49UF20110617,  PR02,  3029,  1,      1,  21960,2,20110623,2002, 19.0073, 136.9937, 4869,   4858.3,   1.5651,  34.6870,2,-999.0000,9,    160.7,2,   140.07,2,    35.69,2,     0.00,2,     2.47,2,   -999.0,9,   -999.0,9,-999.0000,9,  -999.00,     2002