BOTTLE,20191015PRINUNIVRMK
EXPOCODE,SECT_ID,STNNBR,CASTNO,SAMPNO,BTLNBR,BTLNBR_FLAG_W,DATE,TIME,LATITUDE,LONGITUDE,DEPTH,CTDPRS,CTDTMP,CTDSAL,CTDSAL_FLAG_W,SALNTY,SALNTY_FLAG_W,OXYGEN,OXYGEN_FLAG_W,SILCAT,SILCAT_FLAG_W,NITRAT,NITRAT_FLAG_W,NITRIT,NITRIT_FLAG_W,PHSPHT,PHSPHT_FLAG_W,TCARBN,TCARBN_FLAG_W,ALKALI,ALKALI_FLAG_W,PH_TOT,PH_TOT_FLAG_W,PH_TMP,BTL_TIME
,,,,,,,,,,,METERS,DBAR,ITS-90,PSS-78,,PSS-78,,UMOL/KG,,UMOL/KG,,UMOL/KG,,UMOL/KG,,UMOL/KG,,UMOL/KG,,UMOL/KG,,,,DEG C,
  49UF20110617,  PR02,  3032,  1,     99,     99,2,20110624,2336, 16.0010, 136.9742, 5065,      0.0,  29.6493,  34.6460,2,-999.0000,9,    195.1,2,     0.76,2,     0.01,2,     0.00,2,     0.02,2,   -999.0,9,   -999.0,9,-999.0000,9,  -999.00,      130
  49UF20110617,  PR02,  3032,  1,     36,  21995,2,20110624,2336, 16.0010, 136.9742, 5065,     11.6,  29.5457,  34.6430,2,  34.6427,2,    195.6,2,     0.72,2,     0.00,2,     0.00,2,     0.01,2,   -999.0,9,   -999.0,9,-999.0000,9,  -999.00,      150
  49UF20110617,  PR02,  3032,  1,     35,  21994,2,20110624,2336, 16.0010, 136.9742, 5065,     26.4,  29.5277,  34.6433,2,-999.0000,9,    195.6,2,     0.70,2,     0.00,2,     0.00,2,     0.01,2,   -999.0,9,   -999.0,9,-999.0000,9,  -999.00,      149
  49UF20110617,  PR02,  3032,  1,     34,  21993,2,20110624,2336, 16.0010, 136.9742, 5065,     51.7,  29.4592,  34.6405,2,-999.0000,9,    196.3,2,     0.68,2,     0.00,2,     0.00,2,     0.01,2,   -999.0,9,   -999.0,9,-999.0000,9,  -999.00,      147
  49UF20110617,  PR02,  3032,  1,     33,  21992,2,20110624,2336, 16.0010, 136.9742, 5065,     77.3,  27.8021,  34.6080,2,-999.0000,9,    206.6,2,     0.86,2,     0.00,2,     0.00,2,     0.01,2,   -999.0,9,   -999.0,9,-999.0000,9,  -999.00,      145
  49UF20110617,  PR02,  3032,  1,     32,  21991,2,20110624,2336, 16.0010, 136.9742, 5065,    101.3,  27.1571,  34.9905,2,  34.9813,4,    200.0,2,     0.89,2,     0.00,2,     0.00,2,     0.04,2,   -999.0,9,   -999.0,9,-999.0000,9,  -999.00,      141
  49UF20110617,  PR02,  3032,  1,     31,  21990,2,20110624,2336, 16.0010, 136.9742, 5065,    125.9,  25.8705,  35.1354,2,-999.0000,9,    188.4,2,     1.08,2,     0.04,2,     0.10,2,     0.07,2,   -999.0,9,   -999.0,9,-999.0000,9,  -999.00,      140
  49UF20110617,  PR02,  3032,  1,     30,  21989,2,20110624,2336, 16.0010, 136.9742, 5065,    150.1,  24.7209,  35.1367,2,-999.0000,9,    180.3,2,     1.28,2,     0.53,2,     0.06,2,     0.11,2,   -999.0,9,   -999.0,9,-999.0000,9,  -999.00,      138
  49UF20110617,  PR02,  3032,  1,     29,  21988,2,20110624,2336, 16.0010, 136.9742, 5065,    201.8,  22.2443,  35.0353,2,  35.0373,2,    176.3,2,     1.92,2,     1.96,2,     0.02,2,     0.19,2,   -999.0,9,   -999.0,9,-999.0000,9,  -999.00,      136
  49UF20110617,  PR02,  3032,  1,     28,  21987,2,20110624,2336, 16.0010, 136.9742, 5065,    251.5,  17.6772,  34.7343,2,-999.0000,9,    178.1,2,     5.09,2,     6.26,2,     0.01,2,     0.46,2,   -999.0,9,   -999.0,9,-999.0000,9,  -999.00,      135
  49UF20110617,  PR02,  3032,  1,     27,  21986,4,20110624,2336, 16.0010, 136.9742, 5065,    304.8,  14.7615,  34.5207,2,-999.0000,9,   -999.0,9,  -999.00,9,  -999.00,9,  -999.00,9,  -999.00,9,   -999.0,9,   -999.0,9,-999.0000,9,  -999.00,      133
  49UF20110617,  PR02,  3032,  1,     26,  21985,2,20110624,2336, 16.0010, 136.9742, 5065,    404.5,  10.1818,  34.2727,2,  34.2652,4,    136.8,6,    28.53,6,    22.26,6,     0.00,6,     1.64,6,   -999.0,9,   -999.0,9,-999.0000,9,  -999.00,      130
  49UF20110617,  PR02,  3032,  1,     25,  21984,2,20110624,2336, 16.0010, 136.9742, 5065,    505.0,   7.7226,  34.2594,2,-999.0000,9,     88.3,2,    49.89,2,    31.46,2,     0.00,2,     2.28,2,   -999.0,9,   -999.0,9,-999.0000,9,  -999.00,      127
  49UF20110617,  PR02,  3032,  1,     24,  21983,2,20110624,2336, 16.0010, 136.9742, 5065,    604.8,   6.3837,  34.3662,2,  34.3649,2,     66.4,2,    67.56,2,    36.27,2,     0.00,2,     2.62,2,   -999.0,9,   -999.0,9,-999.0000,9,  -999.00,      125
  49UF20110617,  PR02,  3032,  1,     23,  21982,2,20110624,2336, 16.0010, 136.9742, 5065,    706.4,   5.6707,  34.4162,2,-999.0000,9,     66.4,2,    78.16,2,    37.72,2,     0.00,2,     2.72,2,   -999.0,9,   -999.0,9,-999.0000,9,  -999.00,      122
  49UF20110617,  PR02,  3032,  1,     22,  21981,2,20110624,2336, 16.0010, 136.9742, 5065,    808.0,   5.1082,  34.4702,2,  34.4706,2,     70.9,2,    86.39,2,    38.24,2,     0.00,2,     2.75,2,   -999.0,9,   -999.0,9,-999.0000,9,  -999.00,      119
  49UF20110617,  PR02,  3032,  1,     21,  21980,2,20110624,2336, 16.0010, 136.9742, 5065,    908.0,   4.6905,  34.4987,2,-999.0000,9,     75.6,2,    93.47,2,    38.72,2,     0.00,2,     2.77,2,   -999.0,9,   -999.0,9,-999.0000,9,  -999.00,      116
  49UF20110617,  PR02,  3032,  1,     20,  21979,2,20110624,2336, 16.0010, 136.9742, 5065,   1010.9,   4.2937,  34.5200,2,  34.5058,4,     77.4,3,    96.19,3,    38.66,3,     0.00,3,     2.76,3,   -999.0,9,   -999.0,9,-999.0000,9,  -999.00,      113
  49UF20110617,  PR02,  3032,  1,     19,  21978,2,20110624,2336, 16.0010, 136.9742, 5065,   1212.7,   3.5507,  34.5499,2,  34.5496,2,     86.0,2,   115.93,2,    39.17,2,     0.01,2,     2.78,3,   -999.0,9,   -999.0,9,-999.0000,9,  -999.00,      108
  49UF20110617,  PR02,  3032,  1,     18,  21977,2,20110624,2336, 16.0010, 136.9742, 5065,   1416.2,   3.0358,  34.5704,2,  34.5699,2,     92.9,2,   126.14,2,    39.06,2,     0.00,2,     2.78,2,   -999.0,9,   -999.0,9,-999.0000,9,  -999.00,      103
  49UF20110617,  PR02,  3032,  1,     17,  21976,2,20110624,2336, 16.0010, 136.9742, 5065,   1618.5,   2.5737,  34.5935,2,  34.5933,2,    100.6,2,   134.50,2,    38.81,2,     0.00,2,     2.75,2,   -999.0,9,   -999.0,9,-999.0000,9,  -999.00,       58
  49UF20110617,  PR02,  3032,  1,     16,  21975,2,20110624,2336, 16.0010, 136.9742, 5065,   1820.5,   2.2502,  34.6127,2,  34.6125,2,    107.6,2,   139.25,2,    38.64,2,     0.00,2,     2.72,2,   -999.0,9,   -999.0,9,-999.0000,9,  -999.00,       53
  49UF20110617,  PR02,  3032,  1,     15,  21974,2,20110624,2336, 16.0010, 136.9742, 5065,   2024.4,   2.0338,  34.6289,2,  34.6290,2,    114.9,2,   142.59,2,    38.20,2,     0.00,2,     2.69,2,   -999.0,9,   -999.0,9,-999.0000,9,  -999.00,       49
  49UF20110617,  PR02,  3032,  1,     14,  21973,2,20110624,2336, 16.0010, 136.9742, 5065,   2024.4,   2.0338,  34.6289,2,  34.6295,6,    115.0,6,   142.86,6,    38.39,6,     0.00,6,     2.69,6,   -999.0,9,   -999.0,9,-999.0000,9,  -999.00,       49
  49UF20110617,  PR02,  3032,  1,     13,  21972,2,20110624,2336, 16.0010, 136.9742, 5065,   2277.4,   1.8640,  34.6441,2,  34.6432,2,    122.9,2,   144.35,2,    37.85,2,     0.01,2,     2.66,2,   -999.0,9,   -999.0,9,-999.0000,9,  -999.00,       43
  49UF20110617,  PR02,  3032,  1,     12,  21971,2,20110624,2336, 16.0010, 136.9742, 5065,   2533.4,   1.7606,  34.6538,2,-999.0000,9,    129.0,2,   144.89,2,    37.56,2,     0.00,2,     2.62,2,   -999.0,9,   -999.0,9,-999.0000,9,  -999.00,       37
  49UF20110617,  PR02,  3032,  1,     11,  21970,2,20110624,2336, 16.0010, 136.9742, 5065,   2786.3,   1.6782,  34.6621,2,  34.6621,2,    134.2,2,   145.43,2,    37.39,2,     0.01,2,     2.61,2,   -999.0,9,   -999.0,9,-999.0000,9,  -999.00,       30
  49UF20110617,  PR02,  3032,  1,     10,  21969,2,20110624,2336, 16.0010, 136.9742, 5065,   3041.3,   1.6442,  34.6667,2,-999.0000,9,    138.2,2,   144.45,2,    36.93,2,     0.00,2,     2.58,2,   -999.0,9,   -999.0,9,-999.0000,9,  -999.00,       24
  49UF20110617,  PR02,  3032,  1,      9,  21968,2,20110624,2336, 16.0010, 136.9742, 5065,   3297.2,   1.6176,  34.6704,2,  34.6705,2,    142.3,2,   144.61,2,    36.81,2,     0.00,2,     2.55,2,   -999.0,9,   -999.0,9,-999.0000,9,  -999.00,       18
  49UF20110617,  PR02,  3032,  1,      8,  21967,3,20110624,2336, 16.0010, 136.9742, 5065,   3552.0,   1.5824,  34.6747,2,-999.0000,9,    147.0,2,   142.67,2,    36.37,2,     0.00,2,     2.53,2,   -999.0,9,   -999.0,9,-999.0000,9,  -999.00,       12
  49UF20110617,  PR02,  3032,  1,      7,  21966,2,20110624,2336, 16.0010, 136.9742, 5065,   3806.9,   1.5508,  34.6789,2,  34.6778,2,    151.9,2,   141.87,2,    36.00,2,     0.00,2,     2.50,2,   -999.0,9,   -999.0,9,-999.0000,9,  -999.00,        7
  49UF20110617,  PR02,  3032,  1,      6,  21965,2,20110624,2336, 16.0010, 136.9742, 5065,   4063.8,   1.5233,  34.6828,2,-999.0000,9,    155.8,2,   141.04,2,    35.79,2,     0.00,2,     2.48,2,   -999.0,9,   -999.0,9,-999.0000,9,  -999.00,        1
  49UF20110617,  PR02,  3032,  1,      5,  21964,2,20110624,2336, 16.0010, 136.9742, 5065,   4321.1,   1.5121,  34.6857,2,  34.6857,2,    159.4,2,   139.48,2,    35.52,2,     0.00,2,     2.48,2,   -999.0,9,   -999.0,9,-999.0000,9,  -999.00,     2355
  49UF20110617,  PR02,  3032,  1,      4,  21963,2,20110624,2336, 16.0010, 136.9742, 5065,   4576.8,   1.5294,  34.6866,2,-999.0000,9,    160.8,6,   139.24,6,    35.35,6,     0.00,6,     2.46,6,   -999.0,9,   -999.0,9,-999.0000,9,  -999.00,     2350
  49UF20110617,  PR02,  3032,  1,      3,  21962,2,20110624,2336, 16.0010, 136.9742, 5065,   4832.5,   1.5485,  34.6875,2,  34.6875,2,    161.8,2,   139.17,2,    35.40,2,     0.00,2,     2.46,2,   -999.0,9,   -999.0,9,-999.0000,9,  -999.00,     2344
  49UF20110617,  PR02,  3032,  1,      2,  21961,2,20110624,2336, 16.0010, 136.9742, 5065,   5090.6,   1.5778,  34.6878,2,  34.6878,6,    162.4,2,   138.92,2,    35.29,2,     0.00,2,     2.46,2,   -999.0,9,   -999.0,9,-999.0000,9,  -999.00,     2338
  49UF20110617,  PR02,  3032,  1,      1,  21960,2,20110624,2336, 16.0010, 136.9742, 5065,   5151.7,   1.5851,  34.6879,2,  34.6883,2,    162.8,2,   138.10,2,    35.43,2,     0.00,2,     2.45,2,   -999.0,9,   -999.0,9,-999.0000,9,  -999.00,     2336
  49UF20110617,  PR02,  3033,  1,     99,     99,2,20110625,0851, 15.0090, 136.9657, 5476,      0.0,  29.5606,  34.0947,2,-999.0000,9,    194.8,2,     0.89,2,     0.00,2,     0.00,2,     0.03,2,   -999.0,9,   -999.0,9,-999.0000,9,  -999.00,     1052
  49UF20110617,  PR02,  3033,  1,     36,  21995,2,20110625,0851, 15.0090, 136.9657, 5476,     11.2,  29.5676,  34.0952,2,  34.0934,2,    194.2,2,     0.93,2,     0.00,2,     0.00,2,     0.03,2,   1897.0,2,   2233.2,2,   8.0933,4,    25.00,     1112
  49UF20110617,  PR02,  3033,  1,     35,  21994,2,20110625,0851, 15.0090, 136.9657, 5476,     27.2,  29.4417,  34.0739,2,-999.0000,9,    195.4,2,     0.90,2,     0.03,2,     0.00,2,     0.03,2,   1898.1,2,   2232.6,2,   8.1263,4,    25.00,     1111
  49UF20110617,  PR02,  3033,  1,     34,  21993,2,20110625,0851, 15.0090, 136.9657, 5476,     51.5,  29.4350,  34.1431,2,-999.0000,9,    195.2,2,     0.86,2,     0.00,2,     0.00,2,     0.03,2,   1903.1,2,   2237.7,2,   8.1069,4,    25.00,     1109
  49UF20110617,  PR02,  3033,  1,     33,  21992,2,20110625,0851, 15.0090, 136.9657, 5476,     76.5,  28.6039,  34.8776,2,-999.0000,9,    207.8,2,     0.81,2,     0.00,2,     0.00,2,     0.02,2,   1941.8,2,   2287.2,2,   8.1086,4,    25.00,     1107
  49UF20110617,  PR02,  3033,  1,     32,  21991,2,20110625,0851, 15.0090, 136.9657, 5476,    101.6,  27.7112,  34.9611,2,  34.9525,4,    209.1,2,     0.81,2,     0.00,2,     0.00,2,     0.02,2,   1948.8,2,   2288.2,2,   8.1004,4,    25.00,     1103
  49UF20110617,  PR02,  3033,  1,     31,  21990,2,20110625,0851, 15.0090, 136.9657, 5476,    126.7,  26.4265,  35.1079,2,-999.0000,9,    197.5,2,     0.83,2,     0.00,2,     0.00,2,     0.02,2,   1971.8,2,   2302.7,2,   8.0700,4,    25.00,     1102
  49UF20110617,  PR02,  3033,  1,     30,  21989,2,20110625,0851, 15.0090, 136.9657, 5476,    150.9,  25.0667,  35.1875,2,-999.0000,9,    187.4,2,     1.10,2,     0.34,2,     0.06,2,     0.08,2,   2001.7,2,   2309.1,2,   8.0273,4,    25.00,     1100
  49UF20110617,  PR02,  3033,  1,     29,  21988,2,20110625,0851, 15.0090, 136.9657, 5476,    202.6,  20.9474,  35.0013,2,  35.0032,2,    175.4,2,     2.51,2,     2.99,2,     0.01,2,     0.27,2,   2042.5,2,   2296.7,2,   7.9476,4,    25.00,     1058
  49UF20110617,  PR02,  3033,  1,     28,  21987,2,20110625,0851, 15.0090, 136.9657, 5476,    253.0,  16.7623,  34.6657,2,-999.0000,9,    180.8,2,     6.07,2,     7.39,2,     0.00,2,     0.54,2,   2064.4,2,   2275.1,2,   7.8674,4,    25.00,     1057
  49UF20110617,  PR02,  3033,  1,     27,  21986,4,20110625,0851, 15.0090, 136.9657, 5476,    303.8,  13.5221,  34.4287,2,-999.0000,9,   -999.0,9,  -999.00,9,  -999.00,9,  -999.00,9,  -999.00,9,   -999.0,9,   -999.0,9,-999.0000,9,  -999.00,     1055
  49UF20110617,  PR02,  3033,  1,     26,  21985,2,20110625,0851, 15.0090, 136.9657, 5476,    404.1,   9.7983,  34.2565,2,  34.2591,2,    133.2,2,    30.87,2,    23.33,2,     0.00,2,     1.70,2,   2167.8,2,   2271.6,2,   7.6264,4,    25.00,     1052
  49UF20110617,  PR02,  3033,  1,     25,  21984,2,20110625,0851, 15.0090, 136.9657, 5476,    506.4,   7.3895,  34.3073,2,-999.0000,9,     78.3,2,    54.97,2,    33.22,2,     0.00,2,     2.43,2,   2245.1,6,   2299.7,2,   7.4738,4,    25.00,     1049
  49UF20110617,  PR02,  3033,  1,     24,  21983,2,20110625,0851, 15.0090, 136.9657, 5476,    605.9,   6.3635,  34.4052,2,  34.4018,4,     71.5,2,    67.65,2,    36.23,2,     0.00,2,     2.62,2,   2271.4,2,   2319.8,2,   7.4587,4,    25.00,     1046
  49UF20110617,  PR02,  3033,  1,     23,  21982,2,20110625,0851, 15.0090, 136.9657, 5476,    707.2,   5.6225,  34.4662,2,-999.0000,9,     74.9,2,    76.88,2,    37.51,2,     0.00,2,     2.69,2,   2285.4,2,   2333.1,2,   7.4614,4,    25.00,     1043
  49UF20110617,  PR02,  3033,  1,     22,  21981,2,20110625,0851, 15.0090, 136.9657, 5476,    808.2,   5.1524,  34.5003,2,  34.4993,2,     79.4,2,    83.91,2,    38.02,2,     0.00,2,     2.73,2,   2294.1,2,   2343.8,2,   7.4665,4,    25.00,     1040
  49UF20110617,  PR02,  3033,  1,     21,  21980,2,20110625,0851, 15.0090, 136.9657, 5476,    908.8,   4.6208,  34.5223,2,-999.0000,9,     82.2,2,    93.33,2,    38.50,2,     0.00,2,     2.77,2,   -999.0,5,   -999.0,5,   7.4739,4,    25.00,     1037
  49UF20110617,  PR02,  3033,  1,     20,  21979,2,20110625,0851, 15.0090, 136.9657, 5476,   1010.9,   4.2692,  34.5379,2,  34.5383,2,     83.9,2,    99.81,2,    38.84,2,     0.00,2,     2.78,2,   2310.4,2,   2362.4,2,   7.4697,4,    25.00,     1034
  49UF20110617,  PR02,  3033,  1,     19,  21978,4,20110625,0851, 15.0090, 136.9657, 5476,   1215.1,   3.6576,  34.5584,2,  34.8943,4,    169.8,4,     9.35,4,     6.88,4,     0.03,4,     0.55,4,   2060.6,4,   2297.2,4,   7.9077,4,    25.00,     1028
  49UF20110617,  PR02,  3033,  1,     18,  21977,2,20110625,0851, 15.0090, 136.9657, 5476,   1415.4,   3.0743,  34.5762,2,  34.5763,2,     95.5,6,   124.88,6,    38.94,6,     0.00,6,     2.78,6,   2330.5,2,   2388.4,2,   7.4769,4,    25.00,     1023
  49UF20110617,  PR02,  3033,  1,     17,  21976,2,20110625,0851, 15.0090, 136.9657, 5476,   1617.6,   2.6581,  34.5948,2,  34.5940,2,    101.0,2,   133.16,2,    39.01,2,     0.00,2,     2.77,2,   2333.9,2,   2392.1,2,   7.4829,4,    25.00,     1018
  49UF20110617,  PR02,  3033,  1,     16,  21975,2,20110625,0851, 15.0090, 136.9657, 5476,   1819.8,   2.3558,  34.6102,2,  34.6100,2,    106.5,2,   137.98,2,    38.78,2,     0.00,2,     2.75,2,   2338.8,6,   2401.1,2,   7.4910,4,    25.00,     1013
  49UF20110617,  PR02,  3033,  1,     15,  21974,2,20110625,0851, 15.0090, 136.9657, 5476,   2025.6,   2.1099,  34.6276,2,  34.6272,2,    113.9,2,   141.98,2,    38.48,2,     0.00,2,     2.72,2,   2338.9,2,   2405.3,2,   7.5034,4,    25.00,     1008
  49UF20110617,  PR02,  3033,  1,     14,  21973,2,20110625,0851, 15.0090, 136.9657, 5476,   2278.7,   1.9157,  34.6423,2,-999.0000,9,    121.7,2,   144.92,2,    38.10,2,     0.00,2,     2.68,2,   -999.0,9,   -999.0,9,-999.0000,9,  -999.00,     1002
  49UF20110617,  PR02,  3033,  1,     13,  21972,2,20110625,0851, 15.0090, 136.9657, 5476,   2530.8,   1.7848,  34.6530,2,  34.6524,6,    128.4,2,   146.38,2,    37.78,2,     0.00,2,     2.66,2,   -999.0,9,   -999.0,9,-999.0000,9,  -999.00,      957
  49UF20110617,  PR02,  3033,  1,     12,  21971,2,20110625,0851, 15.0090, 136.9657, 5476,   2785.7,   1.7230,  34.6597,2,-999.0000,9,    132.0,2,   146.38,2,    37.42,2,     0.00,2,     2.63,2,   -999.0,9,   -999.0,9,-999.0000,9,  -999.00,      951
  49UF20110617,  PR02,  3033,  1,     11,  21970,2,20110625,0851, 15.0090, 136.9657, 5476,   3040.7,   1.6570,  34.6661,2,  34.6668,2,    138.0,2,   146.27,2,    37.14,2,     0.00,2,     2.60,2,   -999.0,9,   -999.0,9,-999.0000,9,  -999.00,      945
  49UF20110617,  PR02,  3033,  1,     10,  21969,2,20110625,0851, 15.0090, 136.9657, 5476,   3296.1,   1.6154,  34.6707,2,-999.0000,9,    142.5,2,   144.73,2,    36.81,2,     0.00,2,     2.58,2,   -999.0,9,   -999.0,9,-999.0000,9,  -999.00,      939
  49UF20110617,  PR02,  3033,  1,      9,  21968,2,20110625,0851, 15.0090, 136.9657, 5476,   3551.8,   1.5842,  34.6746,2,  34.6740,2,    147.2,2,   143.60,2,    36.54,2,     0.00,2,     2.56,2,   -999.0,9,   -999.0,9,-999.0000,9,  -999.00,      934
  49UF20110617,  PR02,  3033,  1,      8,  21967,2,20110625,0851, 15.0090, 136.9657, 5476,   3806.8,   1.5732,  34.6771,2,-999.0000,9,    149.7,2,   143.67,2,    36.33,2,     0.00,2,     2.55,2,   -999.0,9,   -999.0,9,-999.0000,9,  -999.00,      928
  49UF20110617,  PR02,  3033,  1,      7,  21966,2,20110625,0851, 15.0090, 136.9657, 5476,   4063.6,   1.5324,  34.6823,2,  34.6822,6,    156.2,2,   141.60,2,    35.88,2,     0.00,2,     2.51,2,   -999.0,9,   -999.0,9,-999.0000,9,  -999.00,      923
  49UF20110617,  PR02,  3033,  1,      6,  21965,2,20110625,0851, 15.0090, 136.9657, 5476,   4318.5,   1.5172,  34.6853,2,-999.0000,9,    159.5,2,   140.70,2,    35.77,2,     0.00,2,     2.49,2,   -999.0,9,   -999.0,9,-999.0000,9,  -999.00,      917
  49UF20110617,  PR02,  3033,  1,      5,  21964,2,20110625,0851, 15.0090, 136.9657, 5476,   4576.0,   1.5266,  34.6868,2,  34.6877,2,    161.5,2,   140.30,2,    35.67,2,     0.00,2,     2.48,2,   -999.0,9,   -999.0,9,-999.0000,9,  -999.00,      912
  49UF20110617,  PR02,  3033,  1,      4,  21963,2,20110625,0851, 15.0090, 136.9657, 5476,   4833.1,   1.5489,  34.6878,2,-999.0000,9,    162.3,2,   139.31,2,    35.65,2,     0.00,2,     2.48,2,   -999.0,9,   -999.0,9,-999.0000,9,  -999.00,      906
  49UF20110617,  PR02,  3033,  1,      3,  21962,2,20110625,0851, 15.0090, 136.9657, 5476,   5090.7,   1.5787,  34.6878,2,  34.6881,2,    162.8,2,   139.86,2,    35.63,2,     0.00,2,     2.48,2,   -999.0,9,   -999.0,9,-999.0000,9,  -999.00,      901
  49UF20110617,  PR02,  3033,  1,      2,  21961,2,20110625,0851, 15.0090, 136.9657, 5476,   5345.9,   1.6087,  34.6880,2,  34.6875,2,    163.2,2,   139.52,2,    35.52,2,     0.00,2,     2.48,2,   -999.0,9,   -999.0,9,-999.0000,9,  -999.00,      856
  49UF20110617,  PR02,  3033,  1,      1,  21960,2,20110625,0851, 15.0090, 136.9657, 5476,   5561.6,   1.6369,  34.6881,2,  34.6884,2,    163.0,6,   139.31,6,    35.49,6,     0.00,6,     2.48,6,   -999.0,9,   -999.0,9,-999.0000,9,  -999.00,      851