BOTTLE,20191015PRINUNIVRMK
EXPOCODE,SECT_ID,STNNBR,CASTNO,SAMPNO,BTLNBR,BTLNBR_FLAG_W,DATE,TIME,LATITUDE,LONGITUDE,DEPTH,CTDPRS,CTDTMP,CTDSAL,CTDSAL_FLAG_W,SALNTY,SALNTY_FLAG_W,OXYGEN,OXYGEN_FLAG_W,SILCAT,SILCAT_FLAG_W,NITRAT,NITRAT_FLAG_W,NITRIT,NITRIT_FLAG_W,PHSPHT,PHSPHT_FLAG_W,TCARBN,TCARBN_FLAG_W,ALKALI,ALKALI_FLAG_W,PH_TOT,PH_TOT_FLAG_W,PH_TMP,BTL_TIME
,,,,,,,,,,,METERS,DBAR,ITS-90,PSS-78,,PSS-78,,UMOL/KG,,UMOL/KG,,UMOL/KG,,UMOL/KG,,UMOL/KG,,UMOL/KG,,UMOL/KG,,,,DEG C,
  49UF20110617,  PR02,  3030,  1,     99,     99,2,20110624,0528, 18.0203, 137.0047, 4894,      0.0,  29.7706,  34.4918,2,-999.0000,9,    195.1,2,     0.87,2,     0.00,2,     0.00,2,     0.03,2,   -999.0,9,   -999.0,9,-999.0000,9,  -999.00,      715
  49UF20110617,  PR02,  3030,  1,     36,  21995,2,20110624,0528, 18.0203, 137.0047, 4894,     11.3,  29.5757,  34.4853,2,  34.4861,2,    195.2,2,     0.87,2,     0.00,2,     0.00,2,     0.01,2,   1921.2,2,   2261.5,2,   8.1085,4,    25.00,      735
  49UF20110617,  PR02,  3030,  1,     35,  21994,2,20110624,0528, 18.0203, 137.0047, 4894,     26.2,  29.4683,  34.4848,2,-999.0000,9,    195.8,2,     0.87,2,     0.00,2,     0.00,2,     0.02,2,   1919.7,2,   2262.2,2,   8.1040,4,    25.00,      733
  49UF20110617,  PR02,  3030,  1,     34,  21993,2,20110624,0528, 18.0203, 137.0047, 4894,     52.5,  29.4621,  34.4946,2,-999.0000,9,    195.9,2,     0.82,2,     0.00,2,     0.00,2,     0.01,2,   1919.5,2,   2265.4,2,   8.1000,4,    25.00,      731
  49UF20110617,  PR02,  3030,  1,     33,  21992,2,20110624,0528, 18.0203, 137.0047, 4894,     76.7,  27.9325,  34.7417,2,-999.0000,9,    210.0,2,     0.87,2,     0.00,2,     0.00,2,     0.01,2,   1933.4,2,   2278.1,2,   8.1027,4,    25.00,      729
  49UF20110617,  PR02,  3030,  1,     32,  21991,2,20110624,0528, 18.0203, 137.0047, 4894,    103.2,  26.4463,  34.9945,2,  34.9884,4,    208.8,2,     0.92,2,     0.00,2,     0.00,2,     0.01,2,   1961.9,2,   2292.2,2,   8.0751,4,    25.00,      727
  49UF20110617,  PR02,  3030,  1,     31,  21990,2,20110624,0528, 18.0203, 137.0047, 4894,    127.4,  25.5750,  35.0328,2,-999.0000,9,    208.2,2,     0.96,2,     0.00,2,     0.00,2,     0.01,2,   1968.1,2,   2296.3,2,   8.0832,4,    25.00,      725
  49UF20110617,  PR02,  3030,  1,     30,  21989,2,20110624,0528, 18.0203, 137.0047, 4894,    151.7,  24.1054,  35.0273,2,-999.0000,9,    214.0,2,     1.05,2,     0.00,2,     0.00,2,     0.01,2,   1973.3,2,   2297.2,2,   8.0520,4,    25.00,      720
  49UF20110617,  PR02,  3030,  1,     29,  21988,2,20110624,0528, 18.0203, 137.0047, 4894,    201.9,  21.5387,  34.9789,2,  34.9801,2,    177.1,2,     2.12,2,     2.29,2,     0.01,2,     0.20,2,   2034.8,2,   2296.5,2,   7.9514,4,    25.00,      719
  49UF20110617,  PR02,  3030,  1,     28,  21987,2,20110624,0528, 18.0203, 137.0047, 4894,    252.6,  18.3645,  34.7795,2,-999.0000,9,    183.3,2,     4.00,2,     4.91,2,     0.01,2,     0.36,2,   2051.5,2,   2281.5,2,   7.9046,4,    25.00,      717
  49UF20110617,  PR02,  3030,  1,     27,  21986,2,20110624,0528, 18.0203, 137.0047, 4894,    302.9,  15.9627,  34.6230,2,-999.0000,9,    188.2,2,     7.09,2,     8.05,2,     0.01,2,     0.57,2,   2061.9,2,   2272.7,2,   7.8708,4,    25.00,      716
  49UF20110617,  PR02,  3030,  1,     26,  21985,2,20110624,0528, 18.0203, 137.0047, 4894,    404.2,  12.3658,  34.3679,2,  34.3695,2,    174.4,2,    16.84,2,    15.00,2,     0.00,2,     1.10,2,   2109.8,2,   2263.2,2,   7.7543,4,    25.00,      713
  49UF20110617,  PR02,  3030,  1,     25,  21984,2,20110624,0528, 18.0203, 137.0047, 4894,    504.2,   9.3075,  34.2027,2,-999.0000,9,    144.3,2,    32.88,2,    23.22,2,     0.00,2,     1.69,2,   2167.0,2,   2274.2,2,   7.6150,4,    25.00,      710
  49UF20110617,  PR02,  3030,  1,     24,  21983,2,20110624,0528, 18.0203, 137.0047, 4894,    604.9,   6.8434,  34.2062,2,  34.2080,2,     85.7,6,    59.76,6,    33.33,6,     0.00,6,     2.43,6,   2246.2,2,   2296.1,2,   7.4677,4,    25.00,      708
  49UF20110617,  PR02,  3030,  1,     23,  21982,2,20110624,0528, 18.0203, 137.0047, 4894,    706.6,   5.6984,  34.3176,2,-999.0000,9,     67.1,2,    79.32,2,    37.31,2,     0.00,2,     2.70,2,   2288.5,2,   2321.5,2,   7.4221,4,    25.00,      705
  49UF20110617,  PR02,  3030,  1,     22,  21981,2,20110624,0528, 18.0203, 137.0047, 4894,    806.7,   4.9780,  34.3824,2,  34.3811,2,     65.2,2,    91.57,2,    38.56,2,     0.00,2,     2.78,2,   2301.5,2,   2339.8,2,   7.4507,4,    25.00,      702
  49UF20110617,  PR02,  3030,  1,     21,  21980,4,20110624,0528, 18.0203, 137.0047, 4894,    909.8,   4.4024,  34.4377,2,-999.0000,9,   -999.0,9,  -999.00,9,  -999.00,9,  -999.00,9,  -999.00,9,   -999.0,9,   -999.0,9,-999.0000,9,  -999.00,      700
  49UF20110617,  PR02,  3030,  1,     20,  21979,2,20110624,0528, 18.0203, 137.0047, 4894,   1010.6,   3.8869,  34.4891,2,  34.4887,2,     74.8,2,   112.91,2,    39.56,2,     0.00,2,     2.84,2,   2325.7,2,   2371.1,2,   7.4368,4,    25.00,      657
  49UF20110617,  PR02,  3030,  1,     19,  21978,2,20110624,0528, 18.0203, 137.0047, 4894,   1211.8,   3.2147,  34.5404,2,  34.5400,2,     84.2,2,   124.55,2,    39.39,2,     0.00,2,     2.81,3,   2333.9,2,   2382.4,2,   7.4506,4,    25.00,      653
  49UF20110617,  PR02,  3030,  1,     18,  21977,2,20110624,0528, 18.0203, 137.0047, 4894,   1412.5,   2.7954,  34.5738,2,  34.5738,2,     96.0,2,   131.84,2,    38.88,2,     0.00,2,     2.77,2,   2337.4,2,   2394.0,2,   7.4785,4,    25.00,      648
  49UF20110617,  PR02,  3030,  1,     17,  21976,2,20110624,0528, 18.0203, 137.0047, 4894,   1412.5,   2.7954,  34.5738,2,  34.5739,6,     96.9,6,   131.99,6,    38.93,6,     0.00,6,     2.78,6,   2335.8,2,   2393.8,2,   7.4600,4,    25.00,      648
  49UF20110617,  PR02,  3030,  1,     16,  21975,2,20110624,0528, 18.0203, 137.0047, 4894,   1616.8,   2.4997,  34.5941,2,  34.5942,2,    101.7,2,   136.18,2,    38.87,2,     0.00,2,     2.76,2,   2339.9,6,   2399.4,2,   7.4773,4,    25.00,      644
  49UF20110617,  PR02,  3030,  1,     15,  21974,2,20110624,0528, 18.0203, 137.0047, 4894,   1820.4,   2.2516,  34.6111,2,  34.6110,2,    109.1,2,   140.15,2,    38.69,2,     0.00,2,     2.75,2,   2341.3,2,   2401.6,2,   7.4775,4,    25.00,      639
  49UF20110617,  PR02,  3030,  1,     14,  21973,2,20110624,0528, 18.0203, 137.0047, 4894,   2022.2,   2.0813,  34.6239,2,  34.6229,2,    113.1,2,   142.55,2,    38.45,2,     0.00,2,     2.72,2,   2339.3,2,   2408.1,2,   7.4918,4,    25.00,      635
  49UF20110617,  PR02,  3030,  1,     13,  21972,2,20110624,0528, 18.0203, 137.0047, 4894,   2275.9,   1.9062,  34.6388,2,-999.0000,9,    120.7,2,   143.91,2,    37.93,2,     0.00,2,     2.68,2,   -999.0,9,   -999.0,9,-999.0000,9,  -999.00,      630
  49UF20110617,  PR02,  3030,  1,     12,  21971,2,20110624,0528, 18.0203, 137.0047, 4894,   2531.5,   1.7800,  34.6511,2,  34.6503,2,    127.9,2,   145.22,2,    37.56,2,     0.00,2,     2.64,2,   -999.0,9,   -999.0,9,-999.0000,9,  -999.00,      624
  49UF20110617,  PR02,  3030,  1,     11,  21970,2,20110624,0528, 18.0203, 137.0047, 4894,   2785.8,   1.7038,  34.6589,2,-999.0000,9,    133.2,2,   145.75,2,    37.33,2,     0.00,2,     2.63,2,   -999.0,9,   -999.0,9,-999.0000,9,  -999.00,      619
  49UF20110617,  PR02,  3030,  1,     10,  21969,2,20110624,0528, 18.0203, 137.0047, 4894,   3040.6,   1.6417,  34.6656,2,  34.6661,2,    139.4,2,   144.70,2,    36.89,2,     0.00,2,     2.59,2,   -999.0,9,   -999.0,9,-999.0000,9,  -999.00,      613
  49UF20110617,  PR02,  3030,  1,      9,  21968,2,20110624,0528, 18.0203, 137.0047, 4894,   3296.2,   1.5917,  34.6716,2,-999.0000,9,    144.5,2,   143.84,2,    36.46,2,     0.00,2,     2.57,2,   -999.0,9,   -999.0,9,-999.0000,9,  -999.00,      607
  49UF20110617,  PR02,  3030,  1,      8,  21967,2,20110624,0528, 18.0203, 137.0047, 4894,   3551.5,   1.5563,  34.6764,2,  34.6769,2,    148.6,2,   143.38,2,    36.33,2,     0.00,2,     2.54,2,   -999.0,9,   -999.0,9,-999.0000,9,  -999.00,      601
  49UF20110617,  PR02,  3030,  1,      7,  21966,2,20110624,0528, 18.0203, 137.0047, 4894,   3551.5,   1.5563,  34.6764,2,  34.6760,6,    148.5,6,   143.36,6,    36.34,6,     0.00,6,     2.55,6,   -999.0,9,   -999.0,9,-999.0000,9,  -999.00,      601
  49UF20110617,  PR02,  3030,  1,      6,  21965,2,20110624,0528, 18.0203, 137.0047, 4894,   3809.9,   1.5399,  34.6797,2,-999.0000,9,    152.5,2,   142.25,2,    36.16,2,     0.00,2,     2.53,2,   -999.0,9,   -999.0,9,-999.0000,9,  -999.00,      556
  49UF20110617,  PR02,  3030,  1,      5,  21964,2,20110624,0528, 18.0203, 137.0047, 4894,   4063.8,   1.5226,  34.6829,2,  34.6831,2,    157.9,4,   141.49,2,    35.84,2,     0.00,2,     2.50,2,   -999.0,9,   -999.0,9,-999.0000,9,  -999.00,      550
  49UF20110617,  PR02,  3030,  1,      4,  21963,2,20110624,0528, 18.0203, 137.0047, 4894,   4320.3,   1.5161,  34.6856,2,-999.0000,9,    159.3,2,   141.09,2,    35.61,2,     0.00,2,     2.49,2,   -999.0,9,   -999.0,9,-999.0000,9,  -999.00,      544
  49UF20110617,  PR02,  3030,  1,      3,  21962,2,20110624,0528, 18.0203, 137.0047, 4894,   4575.0,   1.5343,  34.6865,2,  34.6862,2,    160.5,2,   140.35,2,    35.59,2,     0.00,2,     2.49,2,   -999.0,9,   -999.0,9,-999.0000,9,  -999.00,      538
  49UF20110617,  PR02,  3030,  1,      2,  21961,2,20110624,0528, 18.0203, 137.0047, 4894,   4833.1,   1.5576,  34.6871,2,  34.6866,2,    160.8,2,   140.21,2,    35.52,2,     0.00,2,     2.48,2,   -999.0,9,   -999.0,9,-999.0000,9,  -999.00,      532
  49UF20110617,  PR02,  3030,  1,      1,  21960,2,20110624,0528, 18.0203, 137.0047, 4894,   4991.0,   1.5762,  34.6873,2,  34.6868,2,    161.3,2,   139.71,2,    35.50,2,     0.00,2,     2.48,2,   -999.0,9,   -999.0,9,-999.0000,9,  -999.00,      528
  49UF20110617,  PR02,  3031,  1,     99,     99,2,20110624,1435, 17.0105, 136.9837, 4774,      0.0,  29.5325,  34.4658,2,-999.0000,9,    195.2,2,     0.94,2,     0.03,2,     0.00,2,     0.02,2,   -999.0,9,   -999.0,9,-999.0000,9,  -999.00,     1620
  49UF20110617,  PR02,  3031,  1,     36,  21995,2,20110624,1435, 17.0105, 136.9837, 4774,     10.0,  29.5427,  34.4657,2,-999.0000,9,    195.2,2,     0.89,2,     0.02,2,     0.00,2,     0.02,2,   -999.0,9,   -999.0,9,-999.0000,9,  -999.00,     1638
  49UF20110617,  PR02,  3031,  1,     35,  21994,2,20110624,1435, 17.0105, 136.9837, 4774,     26.4,  29.5432,  34.4660,2,-999.0000,9,    195.6,2,     0.92,2,     0.00,2,     0.00,2,     0.01,2,   -999.0,9,   -999.0,9,-999.0000,9,  -999.00,     1637
  49UF20110617,  PR02,  3031,  1,     34,  21993,2,20110624,1435, 17.0105, 136.9837, 4774,     51.0,  29.4585,  34.4684,2,-999.0000,9,    195.7,2,     0.90,2,     0.00,2,     0.00,2,     0.01,2,   -999.0,9,   -999.0,9,-999.0000,9,  -999.00,     1635
  49UF20110617,  PR02,  3031,  1,     33,  21992,2,20110624,1435, 17.0105, 136.9837, 4774,     77.2,  28.3491,  34.7813,2,-999.0000,9,    208.5,2,     0.94,2,     0.00,2,     0.00,2,     0.01,2,   -999.0,9,   -999.0,9,-999.0000,9,  -999.00,     1633
  49UF20110617,  PR02,  3031,  1,     32,  21991,2,20110624,1435, 17.0105, 136.9837, 4774,    100.8,  27.3659,  35.0250,2,-999.0000,9,    204.1,2,     0.94,2,     0.00,2,     0.00,2,     0.02,2,   -999.0,9,   -999.0,9,-999.0000,9,  -999.00,     1629
  49UF20110617,  PR02,  3031,  1,     31,  21990,2,20110624,1435, 17.0105, 136.9837, 4774,    125.7,  25.7536,  35.1342,2,-999.0000,9,    191.9,2,     1.05,2,     0.00,2,     0.04,2,     0.05,2,   -999.0,9,   -999.0,9,-999.0000,9,  -999.00,     1628
  49UF20110617,  PR02,  3031,  1,     30,  21989,2,20110624,1435, 17.0105, 136.9837, 4774,    150.3,  24.4222,  35.1218,2,-999.0000,9,    181.0,2,     1.30,2,     0.38,2,     0.10,2,     0.09,2,   -999.0,9,   -999.0,9,-999.0000,9,  -999.00,     1626
  49UF20110617,  PR02,  3031,  1,     29,  21988,2,20110624,1435, 17.0105, 136.9837, 4774,    201.6,  21.1448,  34.9699,2,-999.0000,9,    174.8,2,     2.47,2,     2.87,2,     0.01,2,     0.24,2,   -999.0,9,   -999.0,9,-999.0000,9,  -999.00,     1625
  49UF20110617,  PR02,  3031,  1,     28,  21987,2,20110624,1435, 17.0105, 136.9837, 4774,    251.7,  18.0791,  34.7583,2,-999.0000,9,    184.3,2,     4.35,2,     5.35,2,     0.01,2,     0.38,2,   -999.0,9,   -999.0,9,-999.0000,9,  -999.00,     1623
  49UF20110617,  PR02,  3031,  1,     27,  21986,2,20110624,1435, 17.0105, 136.9837, 4774,    251.7,  18.0791,  34.7583,2,-999.0000,9,    184.5,6,     4.27,6,     5.29,6,     0.01,6,     0.39,6,   -999.0,9,   -999.0,9,-999.0000,9,  -999.00,     1623
  49UF20110617,  PR02,  3031,  1,     26,  21985,2,20110624,1435, 17.0105, 136.9837, 4774,    303.6,  15.4415,  34.5845,2,-999.0000,9,    184.7,2,     7.99,2,     8.93,2,     0.00,2,     0.63,2,   -999.0,9,   -999.0,9,-999.0000,9,  -999.00,     1621
  49UF20110617,  PR02,  3031,  1,     25,  21984,2,20110624,1435, 17.0105, 136.9837, 4774,    403.2,   9.8638,  34.2454,2,-999.0000,9,    137.7,2,    30.16,2,    22.72,2,     0.00,2,     1.65,2,   -999.0,9,   -999.0,9,-999.0000,9,  -999.00,     1618
  49UF20110617,  PR02,  3031,  1,     24,  21983,2,20110624,1435, 17.0105, 136.9837, 4774,    503.6,   7.7982,  34.2472,2,-999.0000,9,     92.0,6,    49.52,6,    30.91,6,     0.00,6,     2.26,6,   -999.0,9,   -999.0,9,-999.0000,9,  -999.00,     1616
  49UF20110617,  PR02,  3031,  1,     23,  21982,2,20110624,1435, 17.0105, 136.9837, 4774,    604.8,   6.4544,  34.3338,2,-999.0000,9,     69.5,2,    67.38,2,    35.70,2,     0.00,2,     2.58,2,   -999.0,9,   -999.0,9,-999.0000,9,  -999.00,     1613
  49UF20110617,  PR02,  3031,  1,     22,  21981,2,20110624,1435, 17.0105, 136.9837, 4774,    706.0,   5.6894,  34.4176,2,-999.0000,9,     67.6,2,    78.40,2,    37.49,2,     0.00,2,     2.70,2,   -999.0,9,   -999.0,9,-999.0000,9,  -999.00,     1610
  49UF20110617,  PR02,  3031,  1,     21,  21980,2,20110624,1435, 17.0105, 136.9837, 4774,    806.9,   5.2015,  34.4638,2,-999.0000,9,     70.7,2,    84.22,2,    37.92,2,     0.00,2,     2.73,2,   -999.0,9,   -999.0,9,-999.0000,9,  -999.00,     1607
  49UF20110617,  PR02,  3031,  1,     20,  21979,2,20110624,1435, 17.0105, 136.9837, 4774,    909.9,   4.7183,  34.4993,2,-999.0000,9,     76.6,2,    93.33,2,    38.39,2,     0.00,2,     2.75,2,   -999.0,9,   -999.0,9,-999.0000,9,  -999.00,     1604
  49UF20110617,  PR02,  3031,  1,     19,  21978,2,20110624,1435, 17.0105, 136.9837, 4774,    909.9,   4.7183,  34.4993,2,-999.0000,9,     74.2,6,    89.46,6,    38.23,6,     0.00,6,     2.73,2,   -999.0,9,   -999.0,9,-999.0000,9,  -999.00,     1604
  49UF20110617,  PR02,  3031,  1,     18,  21977,2,20110624,1435, 17.0105, 136.9837, 4774,   1008.5,   4.3350,  34.5161,2,-999.0000,9,     80.2,2,   100.70,2,    38.58,2,     0.00,2,     2.76,2,   -999.0,9,   -999.0,9,-999.0000,9,  -999.00,     1602
  49UF20110617,  PR02,  3031,  1,     17,  21976,2,20110624,1435, 17.0105, 136.9837, 4774,   1213.6,   3.5364,  34.5499,2,-999.0000,9,     87.5,2,   116.79,2,    38.94,2,     0.00,2,     2.77,2,   -999.0,9,   -999.0,9,-999.0000,9,  -999.00,     1557
  49UF20110617,  PR02,  3031,  1,     16,  21975,2,20110624,1435, 17.0105, 136.9837, 4774,   1413.7,   2.9979,  34.5725,2,-999.0000,9,     94.7,2,   126.92,2,    38.80,2,     0.00,2,     2.75,2,   -999.0,9,   -999.0,9,-999.0000,9,  -999.00,     1553
  49UF20110617,  PR02,  3031,  1,     15,  21974,2,20110624,1435, 17.0105, 136.9837, 4774,   1616.5,   2.5892,  34.5920,2,-999.0000,9,    100.3,2,   134.85,2,    38.76,2,     0.00,2,     2.74,2,   -999.0,9,   -999.0,9,-999.0000,9,  -999.00,     1548
  49UF20110617,  PR02,  3031,  1,     14,  21973,2,20110624,1435, 17.0105, 136.9837, 4774,   1819.6,   2.3075,  34.6084,2,-999.0000,9,    105.8,2,   139.08,2,    38.71,2,     0.00,2,     2.72,2,   -999.0,9,   -999.0,9,-999.0000,9,  -999.00,     1543
  49UF20110617,  PR02,  3031,  1,     13,  21972,2,20110624,1435, 17.0105, 136.9837, 4774,   2026.4,   2.0823,  34.6244,2,-999.0000,9,    112.6,2,   142.62,2,    38.41,2,     0.00,2,     2.70,2,   -999.0,9,   -999.0,9,-999.0000,9,  -999.00,     1539
  49UF20110617,  PR02,  3031,  1,     12,  21971,2,20110624,1435, 17.0105, 136.9837, 4774,   2277.0,   1.8768,  34.6412,2,-999.0000,9,    121.7,2,   145.45,2,    37.93,2,     0.00,2,     2.66,2,   -999.0,9,   -999.0,9,-999.0000,9,  -999.00,     1533
  49UF20110617,  PR02,  3031,  1,     11,  21970,2,20110624,1435, 17.0105, 136.9837, 4774,   2532.8,   1.7758,  34.6520,2,-999.0000,9,    127.2,2,   145.99,2,    37.61,2,     0.00,2,     2.63,2,   -999.0,9,   -999.0,9,-999.0000,9,  -999.00,     1527
  49UF20110617,  PR02,  3031,  1,     10,  21969,2,20110624,1435, 17.0105, 136.9837, 4774,   2785.1,   1.7096,  34.6593,2,-999.0000,9,    132.4,2,   145.88,2,    37.32,2,     0.00,2,     2.61,2,   -999.0,9,   -999.0,9,-999.0000,9,  -999.00,     1521
  49UF20110617,  PR02,  3031,  1,      9,  21968,2,20110624,1435, 17.0105, 136.9837, 4774,   2785.1,   1.7096,  34.6593,2,-999.0000,9,    132.2,6,   145.67,6,    37.31,6,     0.00,6,     2.61,6,   -999.0,9,   -999.0,9,-999.0000,9,  -999.00,     1521
  49UF20110617,  PR02,  3031,  1,      8,  21967,2,20110624,1435, 17.0105, 136.9837, 4774,   3040.3,   1.6559,  34.6652,2,-999.0000,9,    137.4,2,   144.99,2,    36.88,2,     0.00,2,     2.58,2,   -999.0,9,   -999.0,9,-999.0000,9,  -999.00,     1515
  49UF20110617,  PR02,  3031,  1,      7,  21966,2,20110624,1435, 17.0105, 136.9837, 4774,   3297.0,   1.6051,  34.6710,2,-999.0000,9,    143.1,2,   143.77,2,    36.67,2,     0.00,2,     2.54,2,   -999.0,9,   -999.0,9,-999.0000,9,  -999.00,     1510
  49UF20110617,  PR02,  3031,  1,      6,  21965,2,20110624,1435, 17.0105, 136.9837, 4774,   3552.1,   1.5551,  34.6765,2,-999.0000,9,    148.6,2,   143.26,2,    36.20,2,     0.00,2,     2.52,2,   -999.0,9,   -999.0,9,-999.0000,9,  -999.00,     1504
  49UF20110617,  PR02,  3031,  1,      5,  21964,2,20110624,1435, 17.0105, 136.9837, 4774,   3806.6,   1.5294,  34.6803,2,-999.0000,9,    152.5,2,   142.23,2,    35.98,2,     0.00,2,     2.50,2,   -999.0,9,   -999.0,9,-999.0000,9,  -999.00,     1459
  49UF20110617,  PR02,  3031,  1,      4,  21963,2,20110624,1435, 17.0105, 136.9837, 4774,   4061.9,   1.5077,  34.6839,2,-999.0000,9,    156.1,2,   141.23,2,    35.75,2,     0.00,2,     2.48,2,   -999.0,9,   -999.0,9,-999.0000,9,  -999.00,     1453
  49UF20110617,  PR02,  3031,  1,      3,  21962,4,20110624,1435, 17.0105, 136.9837, 4774,   4319.5,   1.5127,  34.6856,2,-999.0000,9,    180.6,4,     1.35,4,     0.41,4,     0.09,4,     0.09,4,   -999.0,9,   -999.0,9,-999.0000,9,  -999.00,     1448
  49UF20110617,  PR02,  3031,  1,      2,  21961,2,20110624,1435, 17.0105, 136.9837, 4774,   4576.8,   1.5260,  34.6869,2,-999.0000,9,    160.6,2,   139.84,2,    35.36,2,     0.00,2,     2.46,2,   -999.0,9,   -999.0,9,-999.0000,9,  -999.00,     1442
  49UF20110617,  PR02,  3031,  1,      1,  21960,2,20110624,1435, 17.0105, 136.9837, 4774,   4859.1,   1.5567,  34.6873,2,-999.0000,9,    161.4,2,   139.75,2,    35.34,2,     0.00,2,     2.45,2,   -999.0,9,   -999.0,9,-999.0000,9,  -999.00,     1435