BOTTLE,20191015PRINUNIVRMK
EXPOCODE,SECT_ID,STNNBR,CASTNO,SAMPNO,BTLNBR,BTLNBR_FLAG_W,DATE,TIME,LATITUDE,LONGITUDE,DEPTH,CTDPRS,CTDTMP,CTDSAL,CTDSAL_FLAG_W,SALNTY,SALNTY_FLAG_W,OXYGEN,OXYGEN_FLAG_W,SILCAT,SILCAT_FLAG_W,NITRAT,NITRAT_FLAG_W,NITRIT,NITRIT_FLAG_W,PHSPHT,PHSPHT_FLAG_W,TCARBN,TCARBN_FLAG_W,ALKALI,ALKALI_FLAG_W,PH_TOT,PH_TOT_FLAG_W,PH_TMP,BTL_TIME
,,,,,,,,,,,METERS,DBAR,ITS-90,PSS-78,,PSS-78,,UMOL/KG,,UMOL/KG,,UMOL/KG,,UMOL/KG,,UMOL/KG,,UMOL/KG,,UMOL/KG,,,,DEG C,
  49UF20110617,  PR02,  3069,  1,     99,     99,2,20110726,2324, 27.5107, 128.2368, 1013,      0.0,  28.6947,  34.6953,2,-999.0000,9,    196.4,2,     1.03,2,     0.00,2,     0.00,2,     0.01,2,   -999.0,9,   -999.0,9,-999.0000,9,  -999.00,     2345
  49UF20110617,  PR02,  3069,  1,     32,  21991,2,20110726,2324, 27.5107, 128.2368, 1013,     11.2,  28.7213,  34.6956,2,  34.6958,2,    196.4,2,     0.98,2,     0.00,2,     0.00,2,     0.00,2,   -999.0,9,   -999.0,9,-999.0000,9,  -999.00,        0
  49UF20110617,  PR02,  3069,  1,     31,  21990,2,20110726,2324, 27.5107, 128.2368, 1013,     21.8,  28.6253,  34.6963,2,-999.0000,9,    197.5,2,     1.02,2,     0.00,2,     0.00,2,     0.00,2,   -999.0,9,   -999.0,9,-999.0000,9,  -999.00,     2359
  49UF20110617,  PR02,  3069,  1,     30,  21989,2,20110726,2324, 27.5107, 128.2368, 1013,     31.2,  27.5839,  34.7601,2,-999.0000,9,    205.8,2,     1.02,2,     0.00,2,     0.00,2,     0.00,2,   -999.0,9,   -999.0,9,-999.0000,9,  -999.00,     2358
  49UF20110617,  PR02,  3069,  1,     29,  21988,2,20110726,2324, 27.5107, 128.2368, 1013,     52.4,  24.9846,  34.8017,2,-999.0000,9,    215.9,2,     1.11,2,     0.00,2,     0.00,2,     0.01,2,   -999.0,9,   -999.0,9,-999.0000,9,  -999.00,     2354
  49UF20110617,  PR02,  3069,  1,     28,  21987,2,20110726,2324, 27.5107, 128.2368, 1013,     77.6,  22.9461,  34.8702,2,-999.0000,9,    218.4,2,     1.22,2,     0.00,2,     0.00,2,     0.01,2,   -999.0,9,   -999.0,9,-999.0000,9,  -999.00,     2353
  49UF20110617,  PR02,  3069,  1,     27,  21986,2,20110726,2324, 27.5107, 128.2368, 1013,    103.6,  21.7534,  34.8806,2,  34.8871,4,    217.8,2,     1.38,2,     0.04,2,     0.02,2,     0.02,2,   -999.0,9,   -999.0,9,-999.0000,9,  -999.00,     2351
  49UF20110617,  PR02,  3069,  1,     26,  21985,2,20110726,2324, 27.5107, 128.2368, 1013,    127.3,  21.1087,  34.8414,2,-999.0000,9,    211.4,2,     1.52,2,     0.39,2,     0.13,2,     0.05,2,   -999.0,9,   -999.0,9,-999.0000,9,  -999.00,     2350
  49UF20110617,  PR02,  3069,  1,     25,  21984,2,20110726,2324, 27.5107, 128.2368, 1013,    127.3,  21.1087,  34.8414,2,-999.0000,9,    211.5,6,     1.54,6,     0.39,6,     0.13,6,     0.05,6,   -999.0,9,   -999.0,9,-999.0000,9,  -999.00,     2350
  49UF20110617,  PR02,  3069,  1,     18,  21977,2,20110726,2324, 27.5107, 128.2368, 1013,    152.7,  20.2928,  34.8204,2,-999.0000,9,    207.2,2,     1.87,2,     1.10,2,     0.07,2,     0.09,2,   -999.0,9,   -999.0,9,-999.0000,9,  -999.00,     2349
  49UF20110617,  PR02,  3069,  1,     17,  21976,2,20110726,2324, 27.5107, 128.2368, 1013,    204.7,  18.9672,  34.7625,2,  34.7623,6,    199.8,2,     2.68,2,     2.98,2,     0.01,2,     0.20,2,   -999.0,9,   -999.0,9,-999.0000,9,  -999.00,     2347
  49UF20110617,  PR02,  3069,  1,     16,  21975,2,20110726,2324, 27.5107, 128.2368, 1013,    254.2,  18.2110,  34.7381,2,-999.0000,9,    199.4,2,     3.62,2,     4.14,2,     0.01,2,     0.28,2,   -999.0,9,   -999.0,9,-999.0000,9,  -999.00,     2345
  49UF20110617,  PR02,  3069,  1,     12,  21971,2,20110726,2324, 27.5107, 128.2368, 1013,    303.7,  17.4364,  34.7085,2,-999.0000,9,    191.5,2,     5.00,2,     5.88,2,     0.00,2,     0.39,2,   -999.0,9,   -999.0,9,-999.0000,9,  -999.00,     2343
  49UF20110617,  PR02,  3069,  1,     11,  21970,2,20110726,2324, 27.5107, 128.2368, 1013,    406.3,  15.3058,  34.5980,2,  34.5991,2,    180.6,2,    11.11,2,    10.16,2,     0.00,2,     0.70,2,   -999.0,9,   -999.0,9,-999.0000,9,  -999.00,     2340
  49UF20110617,  PR02,  3069,  1,     10,  21969,2,20110726,2324, 27.5107, 128.2368, 1013,    506.3,  12.3463,  34.4278,2,-999.0000,9,    165.2,2,    24.74,2,    16.37,2,     0.00,2,     1.15,2,   -999.0,9,   -999.0,9,-999.0000,9,  -999.00,     2337
  49UF20110617,  PR02,  3069,  1,      9,  21968,2,20110726,2324, 27.5107, 128.2368, 1013,    607.3,   9.2565,  34.3215,2,  34.3214,2,    134.5,2,    47.88,2,    24.34,2,     0.00,2,     1.74,2,   -999.0,9,   -999.0,9,-999.0000,9,  -999.00,     2334
  49UF20110617,  PR02,  3069,  1,      8,  21967,2,20110726,2324, 27.5107, 128.2368, 1013,    607.3,   9.2565,  34.3215,2,  34.3214,6,    134.9,6,    47.76,6,    24.37,6,     0.00,6,     1.74,6,   -999.0,9,   -999.0,9,-999.0000,9,  -999.00,     2334
  49UF20110617,  PR02,  3069,  1,      7,  21966,2,20110726,2324, 27.5107, 128.2368, 1013,    707.5,   7.6066,  34.3330,2,-999.0000,9,    110.3,2,    67.66,2,    29.44,2,     0.00,2,     2.11,2,   -999.0,9,   -999.0,9,-999.0000,9,  -999.00,     2332
  49UF20110617,  PR02,  3069,  1,      6,  21965,2,20110726,2324, 27.5107, 128.2368, 1013,    807.7,   6.9182,  34.3348,2,  34.3346,2,    101.7,2,    75.58,2,    31.37,2,     0.00,2,     2.25,2,   -999.0,9,   -999.0,9,-999.0000,9,  -999.00,     2329
  49UF20110617,  PR02,  3069,  1,      5,  21964,2,20110726,2324, 27.5107, 128.2368, 1013,    907.5,   6.1983,  34.3349,2,-999.0000,9,     92.7,2,    84.18,2,    33.35,2,     0.00,2,     2.41,2,   -999.0,9,   -999.0,9,-999.0000,9,  -999.00,     2327
  49UF20110617,  PR02,  3069,  1,      4,  21963,2,20110726,2324, 27.5107, 128.2368, 1013,   1017.2,   5.8834,  34.3336,2,  34.3340,2,     88.5,2,    88.14,2,    34.32,2,     0.00,2,     2.47,2,   -999.0,9,   -999.0,9,-999.0000,9,  -999.00,     2324