BOTTLE,20191015PRINUNIVRMK
EXPOCODE,SECT_ID,STNNBR,CASTNO,SAMPNO,BTLNBR,BTLNBR_FLAG_W,DATE,TIME,LATITUDE,LONGITUDE,DEPTH,CTDPRS,CTDTMP,CTDSAL,CTDSAL_FLAG_W,SALNTY,SALNTY_FLAG_W,OXYGEN,OXYGEN_FLAG_W,SILCAT,SILCAT_FLAG_W,NITRAT,NITRAT_FLAG_W,NITRIT,NITRIT_FLAG_W,PHSPHT,PHSPHT_FLAG_W,TCARBN,TCARBN_FLAG_W,ALKALI,ALKALI_FLAG_W,PH_TOT,PH_TOT_FLAG_W,PH_TMP,BTL_TIME
,,,,,,,,,,,METERS,DBAR,ITS-90,PSS-78,,PSS-78,,UMOL/KG,,UMOL/KG,,UMOL/KG,,UMOL/KG,,UMOL/KG,,UMOL/KG,,UMOL/KG,,,,DEG C,
  49UF20110617,  PR02,  3038,  1,     99,     99,2,20110627,0512, 10.0228, 137.0010, 4723,      0.0,  29.3942,  33.5874,2,-999.0000,9,    195.0,2,     1.36,2,     0.01,2,     0.00,2,     0.02,2,   -999.0,9,   -999.0,9,-999.0000,9,  -999.00,      651
  49UF20110617,  PR02,  3038,  1,     36,  21995,3,20110627,0512, 10.0228, 137.0010, 4723,     11.3,  29.3925,  33.6254,2,  33.6346,4,    196.3,2,     1.34,2,     0.00,2,     0.00,2,     0.01,2,   1875.1,2,   2206.2,2,   8.1250,2,    25.00,      712
  49UF20110617,  PR02,  3038,  1,     35,  21994,3,20110627,0512, 10.0228, 137.0010, 4723,     26.0,  29.3859,  33.6641,2,-999.0000,9,    196.6,2,     1.32,2,     0.02,2,     0.00,2,     0.00,2,   1880.0,2,   2208.5,2,   8.1234,2,    25.00,      710
  49UF20110617,  PR02,  3038,  1,     34,  21993,3,20110627,0512, 10.0228, 137.0010, 4723,     50.1,  29.2459,  33.9002,2,-999.0000,9,    198.7,2,     1.21,2,     0.01,2,     0.00,2,     0.01,2,   1890.9,2,   2220.5,2,   8.1171,2,    25.00,      705
  49UF20110617,  PR02,  3038,  1,     33,  21992,2,20110627,0512, 10.0228, 137.0010, 4723,     76.0,  27.2515,  34.7423,2,-999.0000,9,    192.6,2,     1.74,2,     0.02,2,     0.00,2,     0.10,2,   1975.0,2,   2281.5,2,   8.0556,2,    25.00,      704
  49UF20110617,  PR02,  3038,  1,     32,  21991,2,20110627,0512, 10.0228, 137.0010, 4723,    100.3,  23.4641,  34.9125,2,  34.9219,4,    168.2,2,     3.19,2,     2.71,2,     0.32,2,     0.33,2,   2031.7,2,   2296.1,2,   7.9585,4,    25.00,      703
  49UF20110617,  PR02,  3038,  1,     31,  21990,3,20110627,0512, 10.0228, 137.0010, 4723,    127.0,  20.8165,  34.8595,2,-999.0000,9,    157.8,2,     5.09,2,     5.93,2,     0.02,2,     0.53,2,   2064.3,2,   2298.1,2,   7.9084,2,    25.00,      701
  49UF20110617,  PR02,  3038,  1,     30,  21989,2,20110627,0512, 10.0228, 137.0010, 4723,    151.7,  17.1120,  34.6917,2,-999.0000,9,    149.2,2,     9.19,2,    10.43,2,     0.01,2,     0.82,2,   2095.4,2,   2281.2,2,   7.8217,2,    25.00,      700
  49UF20110617,  PR02,  3038,  1,     29,  21988,2,20110627,0512, 10.0228, 137.0010, 4723,    202.3,  13.1397,  34.4832,2,  34.4841,2,    124.1,2,    19.69,2,    19.00,2,     0.00,2,     1.41,2,   2145.3,2,   2277.6,2,   7.6924,4,    25.00,      659
  49UF20110617,  PR02,  3038,  1,     28,  21987,2,20110627,0512, 10.0228, 137.0010, 4723,    252.4,  10.5842,  34.4731,2,-999.0000,9,     90.1,6,    30.96,6,    27.02,6,     0.00,6,     1.95,6,   2197.6,2,   2288.6,2,   7.5830,2,    25.00,      657
  49UF20110617,  PR02,  3038,  1,     27,  21986,2,20110627,0512, 10.0228, 137.0010, 4723,    302.9,   9.4960,  34.4494,2,-999.0000,9,     87.9,2,    38.27,2,    29.29,2,     0.00,2,     2.11,2,   2214.6,2,   2293.2,2,   7.5440,2,    25.00,      656
  49UF20110617,  PR02,  3038,  1,     26,  21985,2,20110627,0512, 10.0228, 137.0010, 4723,    404.1,   8.0770,  34.4535,2,  34.4533,2,     81.5,2,    47.15,2,    32.50,2,     0.00,2,     2.33,2,   2235.5,2,   2303.9,2,   7.5110,4,    25.00,      653
  49UF20110617,  PR02,  3038,  1,     25,  21984,2,20110627,0512, 10.0228, 137.0010, 4723,    504.4,   7.2384,  34.4816,2,-999.0000,9,     89.8,2,    51.55,2,    33.52,2,     0.00,2,     2.38,2,   2246.5,2,   2315.8,2,   7.5193,2,    25.00,      651
  49UF20110617,  PR02,  3038,  1,     24,  21983,2,20110627,0512, 10.0228, 137.0010, 4723,    605.2,   6.6139,  34.5108,2,  34.5108,2,     96.7,2,    55.09,2,    34.44,2,     0.00,2,     2.45,2,   2247.7,2,   2319.6,2,   7.5163,4,    25.00,      648
  49UF20110617,  PR02,  3038,  1,     23,  21982,2,20110627,0512, 10.0228, 137.0010, 4723,    706.4,   6.0790,  34.5150,2,-999.0000,9,     95.5,2,    62.44,2,    35.49,2,     0.00,2,     2.53,2,   2258.0,6,   2324.0,6,   7.5098,2,    25.00,      645
  49UF20110617,  PR02,  3038,  1,     22,  21981,2,20110627,0512, 10.0228, 137.0010, 4723,    807.7,   5.5530,  34.5151,2,  34.5145,2,     90.2,2,    72.50,2,    36.66,2,     0.00,2,     2.62,2,   2274.6,2,   2334.6,2,   7.4961,6,    25.00,      643
  49UF20110617,  PR02,  3038,  1,     21,  21980,2,20110627,0512, 10.0228, 137.0010, 4723,    908.0,   5.1387,  34.5352,2,-999.0000,9,     92.5,2,    78.93,2,    37.25,2,     0.00,2,     2.65,2,   2282.2,2,   2344.1,2,   7.4940,2,    25.00,      640
  49UF20110617,  PR02,  3038,  1,     20,  21979,2,20110627,0512, 10.0228, 137.0010, 4723,   1009.4,   4.7110,  34.5418,2,  34.5416,2,     87.8,2,    88.58,2,    38.09,2,     0.00,2,     2.72,2,   2292.7,2,   2350.3,2,   7.4835,4,    25.00,      637
  49UF20110617,  PR02,  3038,  1,     19,  21978,2,20110627,0512, 10.0228, 137.0010, 4723,   1009.4,   4.7110,  34.5418,2,  34.5416,6,     87.9,6,    88.55,6,    38.09,6,     0.00,6,     2.71,6,   2297.3,3,   2359.8,3,   7.4826,4,    25.00,      637
  49UF20110617,  PR02,  3038,  1,     18,  21977,2,20110627,0512, 10.0228, 137.0010, 4723,   1210.8,   3.9232,  34.5604,2,  34.5613,2,     88.0,2,   105.34,2,    38.91,2,     0.00,2,     2.77,2,   2313.3,6,   2371.5,6,   7.4747,4,    25.00,      633
  49UF20110617,  PR02,  3038,  1,     17,  21976,2,20110627,0512, 10.0228, 137.0010, 4723,   1413.8,   3.2539,  34.5817,2,  34.5815,2,     95.1,2,   118.69,2,    38.99,2,     0.00,2,     2.76,2,   2330.1,2,   2382.9,2,   7.4839,4,    25.00,      628
  49UF20110617,  PR02,  3038,  1,     16,  21975,2,20110627,0512, 10.0228, 137.0010, 4723,   1616.2,   2.8069,  34.6003,2,  34.5998,2,    101.1,2,   127.47,2,    38.94,2,     0.00,2,     2.76,2,   2331.5,2,   2392.4,2,   7.4860,4,    25.00,      624
  49UF20110617,  PR02,  3038,  1,     15,  21974,2,20110627,0512, 10.0228, 137.0010, 4723,   1818.1,   2.4964,  34.6172,2,  34.6173,2,    107.5,2,   133.02,2,    38.74,2,     0.00,2,     2.73,2,   2336.6,2,   2400.3,2,   7.4973,4,    25.00,      619
  49UF20110617,  PR02,  3038,  1,     14,  21973,2,20110627,0512, 10.0228, 137.0010, 4723,   2021.4,   2.2631,  34.6293,2,  34.6292,2,    113.3,2,   137.32,2,    38.48,2,     0.00,2,     2.71,2,   2338.8,2,   2409.3,2,   7.4989,4,    25.00,      615
  49UF20110617,  PR02,  3038,  1,     13,  21972,2,20110627,0512, 10.0228, 137.0010, 4723,   2275.6,   1.9889,  34.6441,2,-999.0000,9,    121.6,2,   141.96,2,    38.09,2,     0.00,2,     2.67,2,   -999.0,9,   -999.0,9,-999.0000,9,  -999.00,      609
  49UF20110617,  PR02,  3038,  1,     12,  21971,2,20110627,0512, 10.0228, 137.0010, 4723,   2530.2,   1.7981,  34.6553,2,  34.6552,2,    129.4,2,   144.43,2,    37.60,2,     0.00,2,     2.63,2,   -999.0,9,   -999.0,9,-999.0000,9,  -999.00,      604
  49UF20110617,  PR02,  3038,  1,     11,  21970,2,20110627,0512, 10.0228, 137.0010, 4723,   2784.1,   1.6615,  34.6649,2,-999.0000,9,    137.0,2,   144.37,2,    37.06,2,     0.00,2,     2.59,2,   -999.0,9,   -999.0,9,-999.0000,9,  -999.00,      558
  49UF20110617,  PR02,  3038,  1,     10,  21969,2,20110627,0512, 10.0228, 137.0010, 4723,   3039.5,   1.5960,  34.6706,2,  34.6701,2,    142.9,2,   143.51,2,    36.65,2,     0.00,2,     2.55,2,   -999.0,9,   -999.0,9,-999.0000,9,  -999.00,      553
  49UF20110617,  PR02,  3038,  1,      9,  21968,2,20110627,0512, 10.0228, 137.0010, 4723,   3294.7,   1.5620,  34.6744,2,-999.0000,9,    147.3,2,   142.94,2,    36.42,2,     0.00,2,     2.53,2,   -999.0,9,   -999.0,9,-999.0000,9,  -999.00,      547
  49UF20110617,  PR02,  3038,  1,      8,  21967,2,20110627,0512, 10.0228, 137.0010, 4723,   3550.7,   1.5521,  34.6769,2,  34.6765,2,    149.8,2,   142.78,2,    36.28,2,     0.00,2,     2.52,2,   -999.0,9,   -999.0,9,-999.0000,9,  -999.00,      541
  49UF20110617,  PR02,  3038,  1,      7,  21966,2,20110627,0512, 10.0228, 137.0010, 4723,   3550.7,   1.5521,  34.6769,2,  34.6764,6,    150.1,6,   142.32,6,    36.14,6,     0.00,6,     2.52,6,   -999.0,9,   -999.0,9,-999.0000,9,  -999.00,      541
  49UF20110617,  PR02,  3038,  1,      6,  21965,2,20110627,0512, 10.0228, 137.0010, 4723,   3805.3,   1.5404,  34.6798,2,-999.0000,9,    153.5,2,   141.30,2,    36.05,2,     0.00,2,     2.51,2,   -999.0,9,   -999.0,9,-999.0000,9,  -999.00,      536
  49UF20110617,  PR02,  3038,  1,      5,  21964,2,20110627,0512, 10.0228, 137.0010, 4723,   4061.9,   1.5313,  34.6826,2,  34.6823,2,    156.8,2,   140.49,2,    35.77,2,     0.00,2,     2.49,2,   -999.0,9,   -999.0,9,-999.0000,9,  -999.00,      530
  49UF20110617,  PR02,  3038,  1,      4,  21963,2,20110627,0512, 10.0228, 137.0010, 4723,   4317.9,   1.5378,  34.6842,2,-999.0000,9,    158.8,2,   139.92,2,    35.63,2,     0.00,2,     2.47,2,   -999.0,9,   -999.0,9,-999.0000,9,  -999.00,      525
  49UF20110617,  PR02,  3038,  1,      3,  21962,2,20110627,0512, 10.0228, 137.0010, 4723,   4574.3,   1.5436,  34.6859,2,  34.6852,2,    161.1,2,   139.04,2,    35.53,2,     0.00,2,     2.46,2,   -999.0,9,   -999.0,9,-999.0000,9,  -999.00,      519
  49UF20110617,  PR02,  3038,  1,      2,  21961,2,20110627,0512, 10.0228, 137.0010, 4723,   4831.4,   1.5635,  34.6867,2,  34.6866,2,    161.8,2,   138.85,2,    35.47,2,     0.00,2,     2.46,2,   -999.0,9,   -999.0,9,-999.0000,9,  -999.00,      514
  49UF20110617,  PR02,  3038,  1,      1,  21960,2,20110627,0512, 10.0228, 137.0010, 4723,   4851.4,   1.5648,  34.6868,2,  34.6865,2,    162.3,2,   138.68,2,    35.43,2,     0.00,2,     2.46,2,   -999.0,9,   -999.0,9,-999.0000,9,  -999.00,      512
  49UF20110617,  PR02,  3039,  1,     99,     99,2,20110627,1337,  9.0013, 136.9900, 3569,      0.0,  29.5101,  33.4972,2,-999.0000,9,    196.8,2,     1.58,2,     0.02,2,     0.00,2,     0.04,2,   -999.0,9,   -999.0,9,-999.0000,9,  -999.00,     1455
  49UF20110617,  PR02,  3039,  1,     36,  21995,2,20110627,1337,  9.0013, 136.9900, 3569,     10.7,  29.3258,  33.4699,2,-999.0000,9,    197.4,2,     1.54,2,     0.00,2,     0.00,2,     0.01,2,   -999.0,9,   -999.0,9,-999.0000,9,  -999.00,     1514
  49UF20110617,  PR02,  3039,  1,     35,  21994,2,20110627,1337,  9.0013, 136.9900, 3569,     25.9,  29.0560,  33.5139,2,-999.0000,9,    198.6,2,     1.45,2,     0.00,2,     0.00,2,     0.01,2,   -999.0,9,   -999.0,9,-999.0000,9,  -999.00,     1512
  49UF20110617,  PR02,  3039,  1,     34,  21993,2,20110627,1337,  9.0013, 136.9900, 3569,     50.6,  28.8615,  34.2079,2,-999.0000,9,    202.5,2,     1.26,2,     0.00,2,     0.00,2,     0.04,2,   -999.0,9,   -999.0,9,-999.0000,9,  -999.00,     1508
  49UF20110617,  PR02,  3039,  1,     33,  21992,2,20110627,1337,  9.0013, 136.9900, 3569,     75.8,  26.6889,  34.8375,2,-999.0000,9,    191.8,2,     1.76,2,     0.01,2,     0.01,2,     0.11,2,   -999.0,9,   -999.0,9,-999.0000,9,  -999.00,     1506
  49UF20110617,  PR02,  3039,  1,     32,  21991,2,20110627,1337,  9.0013, 136.9900, 3569,    100.8,  25.2322,  34.9847,2,-999.0000,9,    177.6,2,     1.98,2,     0.72,2,     0.17,2,     0.20,2,   -999.0,9,   -999.0,9,-999.0000,9,  -999.00,     1505
  49UF20110617,  PR02,  3039,  1,     31,  21990,2,20110627,1337,  9.0013, 136.9900, 3569,    127.0,  20.9091,  34.9267,2,-999.0000,9,    148.8,2,     6.72,2,     8.01,2,     0.05,2,     0.65,2,   -999.0,9,   -999.0,9,-999.0000,9,  -999.00,     1504
  49UF20110617,  PR02,  3039,  1,     30,  21989,2,20110627,1337,  9.0013, 136.9900, 3569,    151.4,  18.5349,  34.7648,2,-999.0000,9,    147.8,2,     9.95,2,    10.24,2,     0.02,2,     0.78,2,   -999.0,9,   -999.0,9,-999.0000,9,  -999.00,     1502
  49UF20110617,  PR02,  3039,  1,     29,  21988,2,20110627,1337,  9.0013, 136.9900, 3569,    202.6,  13.8488,  34.5450,2,-999.0000,9,    130.2,6,    18.47,6,    17.57,6,     0.01,6,     1.29,6,   -999.0,9,   -999.0,9,-999.0000,9,  -999.00,     1501
  49UF20110617,  PR02,  3039,  1,     28,  21987,2,20110627,1337,  9.0013, 136.9900, 3569,    252.7,  10.9117,  34.4883,2,-999.0000,9,     91.6,2,    29.51,2,    26.32,2,     0.00,2,     1.90,2,   -999.0,9,   -999.0,9,-999.0000,9,  -999.00,     1459
  49UF20110617,  PR02,  3039,  1,     27,  21986,2,20110627,1337,  9.0013, 136.9900, 3569,    303.0,   9.4505,  34.5145,2,-999.0000,9,     78.0,3,    36.72,2,    30.53,2,     0.00,2,     2.19,2,   -999.0,9,   -999.0,9,-999.0000,9,  -999.00,     1457
  49UF20110617,  PR02,  3039,  1,     26,  21985,2,20110627,1337,  9.0013, 136.9900, 3569,    303.0,   9.4505,  34.5145,2,-999.0000,9,     76.8,6,    36.67,6,    30.57,6,     0.00,6,     2.19,6,   -999.0,9,   -999.0,9,-999.0000,9,  -999.00,     1457
  49UF20110617,  PR02,  3039,  1,     25,  21984,2,20110627,1337,  9.0013, 136.9900, 3569,    403.8,   8.2782,  34.5383,2,-999.0000,9,     74.2,2,    42.91,2,    33.27,2,     0.00,2,     2.37,2,   -999.0,9,   -999.0,9,-999.0000,9,  -999.00,     1454
  49UF20110617,  PR02,  3039,  1,     24,  21983,2,20110627,1337,  9.0013, 136.9900, 3569,    505.7,   7.6514,  34.5321,2,-999.0000,9,     80.1,2,    46.90,2,    33.96,2,     0.00,2,     2.42,2,   -999.0,9,   -999.0,9,-999.0000,9,  -999.00,     1452
  49UF20110617,  PR02,  3039,  1,     23,  21982,2,20110627,1337,  9.0013, 136.9900, 3569,    606.4,   7.0298,  34.5133,2,-999.0000,9,     91.5,2,    51.43,2,    34.02,2,     0.00,2,     2.42,2,   -999.0,9,   -999.0,9,-999.0000,9,  -999.00,     1449
  49UF20110617,  PR02,  3039,  1,     22,  21981,3,20110627,1337,  9.0013, 136.9900, 3569,    707.6,   6.4638,  34.5199,2,-999.0000,9,     92.2,2,    57.60,2,    35.06,2,     0.00,2,     2.49,2,   -999.0,9,   -999.0,9,-999.0000,9,  -999.00,     1446
  49UF20110617,  PR02,  3039,  1,     21,  21980,2,20110627,1337,  9.0013, 136.9900, 3569,    707.6,   6.4638,  34.5199,2,-999.0000,9,     92.2,6,    57.63,6,    35.09,6,     0.00,6,     2.49,2,   -999.0,9,   -999.0,9,-999.0000,9,  -999.00,     1446
  49UF20110617,  PR02,  3039,  1,     20,  21979,2,20110627,1337,  9.0013, 136.9900, 3569,    808.0,   5.9324,  34.5235,2,-999.0000,9,     90.2,2,    65.57,2,    36.09,2,     0.00,2,     2.58,2,   -999.0,9,   -999.0,9,-999.0000,9,  -999.00,     1443
  49UF20110617,  PR02,  3039,  1,     19,  21978,2,20110627,1337,  9.0013, 136.9900, 3569,    908.8,   5.2198,  34.5342,2,-999.0000,9,     86.8,2,    78.29,2,    37.52,2,     0.00,2,     2.67,2,   -999.0,9,   -999.0,9,-999.0000,9,  -999.00,     1440
  49UF20110617,  PR02,  3039,  1,     18,  21977,2,20110627,1337,  9.0013, 136.9900, 3569,   1009.6,   4.7026,  34.5453,2,-999.0000,9,     87.6,2,    88.02,2,    38.03,2,     0.00,2,     2.71,2,   -999.0,9,   -999.0,9,-999.0000,9,  -999.00,     1438
  49UF20110617,  PR02,  3039,  1,     17,  21976,2,20110627,1337,  9.0013, 136.9900, 3569,   1212.2,   3.9825,  34.5619,2,-999.0000,9,     90.7,2,   102.71,2,    38.59,2,     0.00,2,     2.75,2,   -999.0,9,   -999.0,9,-999.0000,9,  -999.00,     1433
  49UF20110617,  PR02,  3039,  1,     16,  21975,2,20110627,1337,  9.0013, 136.9900, 3569,   1414.7,   3.3708,  34.5791,2,-999.0000,9,     94.6,2,   115.85,2,    38.82,2,     0.00,2,     2.77,2,   -999.0,9,   -999.0,9,-999.0000,9,  -999.00,     1428
  49UF20110617,  PR02,  3039,  1,     15,  21974,2,20110627,1337,  9.0013, 136.9900, 3569,   1617.2,   2.7785,  34.6021,2,-999.0000,9,    102.7,2,   127.46,2,    38.71,2,     0.00,2,     2.74,2,   -999.0,9,   -999.0,9,-999.0000,9,  -999.00,     1423
  49UF20110617,  PR02,  3039,  1,     14,  21973,2,20110627,1337,  9.0013, 136.9900, 3569,   1820.5,   2.4220,  34.6222,2,-999.0000,9,    110.8,4,   133.07,2,    38.46,2,     0.00,2,     2.71,2,   -999.0,9,   -999.0,9,-999.0000,9,  -999.00,     1418
  49UF20110617,  PR02,  3039,  1,     13,  21972,2,20110627,1337,  9.0013, 136.9900, 3569,   1820.5,   2.4220,  34.6222,2,-999.0000,9,    111.2,4,   133.36,6,    38.45,6,     0.00,6,     2.71,6,   -999.0,9,   -999.0,9,-999.0000,9,  -999.00,     1418
  49UF20110617,  PR02,  3039,  1,     12,  21971,2,20110627,1337,  9.0013, 136.9900, 3569,   2022.2,   2.1790,  34.6345,2,-999.0000,9,    117.5,3,   137.94,2,    38.24,2,     0.00,2,     2.70,2,   -999.0,9,   -999.0,9,-999.0000,9,  -999.00,     1414
  49UF20110617,  PR02,  3039,  1,     11,  21970,2,20110627,1337,  9.0013, 136.9900, 3569,   2277.1,   1.9438,  34.6476,2,-999.0000,9,    125.7,3,   140.58,2,    37.68,2,     0.00,2,     2.64,2,   -999.0,9,   -999.0,9,-999.0000,9,  -999.00,     1407
  49UF20110617,  PR02,  3039,  1,     10,  21969,2,20110627,1337,  9.0013, 136.9900, 3569,   2531.0,   1.7932,  34.6568,2,-999.0000,9,    132.8,3,   142.50,2,    37.29,2,     0.00,2,     2.61,2,   -999.0,9,   -999.0,9,-999.0000,9,  -999.00,     1402
  49UF20110617,  PR02,  3039,  1,      9,  21968,2,20110627,1337,  9.0013, 136.9900, 3569,   2784.3,   1.7018,  34.6631,2,-999.0000,9,    138.2,3,   143.17,2,    36.94,2,     0.00,2,     2.58,2,   -999.0,9,   -999.0,9,-999.0000,9,  -999.00,     1357
  49UF20110617,  PR02,  3039,  1,      6,  21965,2,20110627,1337,  9.0013, 136.9900, 3569,   3038.3,   1.6018,  34.6702,2,-999.0000,9,    144.7,3,   142.91,2,    36.56,2,     0.00,2,     2.55,2,   -999.0,9,   -999.0,9,-999.0000,9,  -999.00,     1351
  49UF20110617,  PR02,  3039,  1,      5,  21964,2,20110627,1337,  9.0013, 136.9900, 3569,   3294.2,   1.5416,  34.6760,2,-999.0000,9,    150.7,3,   142.13,2,    36.23,2,     0.00,2,     2.52,2,   -999.0,9,   -999.0,9,-999.0000,9,  -999.00,     1346
  49UF20110617,  PR02,  3039,  1,      4,  21963,2,20110627,1337,  9.0013, 136.9900, 3569,   3550.2,   1.5157,  34.6795,2,-999.0000,9,    154.3,4,   141.17,2,    35.85,2,     0.00,2,     2.50,2,   -999.0,9,   -999.0,9,-999.0000,9,  -999.00,     1340
  49UF20110617,  PR02,  3039,  1,      1,  21960,2,20110627,1337,  9.0013, 136.9900, 3569,   3656.1,   1.5185,  34.6800,2,-999.0000,9,    155.2,3,   140.65,2,    35.78,2,     0.00,2,     2.49,2,   -999.0,9,   -999.0,9,-999.0000,9,  -999.00,     1337