BOTTLE,20191015PRINUNIVRMK
EXPOCODE,SECT_ID,STNNBR,CASTNO,SAMPNO,BTLNBR,BTLNBR_FLAG_W,DATE,TIME,LATITUDE,LONGITUDE,DEPTH,CTDPRS,CTDTMP,CTDSAL,CTDSAL_FLAG_W,SALNTY,SALNTY_FLAG_W,OXYGEN,OXYGEN_FLAG_W,SILCAT,SILCAT_FLAG_W,NITRAT,NITRAT_FLAG_W,NITRIT,NITRIT_FLAG_W,PHSPHT,PHSPHT_FLAG_W,TCARBN,TCARBN_FLAG_W,ALKALI,ALKALI_FLAG_W,PH_TOT,PH_TOT_FLAG_W,PH_TMP,BTL_TIME
,,,,,,,,,,,METERS,DBAR,ITS-90,PSS-78,,PSS-78,,UMOL/KG,,UMOL/KG,,UMOL/KG,,UMOL/KG,,UMOL/KG,,UMOL/KG,,UMOL/KG,,,,DEG C,
  49UF20110617,  PR02,  3040,  1,     99,     99,2,20110627,2101,  8.0022, 136.9913, 3066,      0.0,  28.8747,  33.6962,2,-999.0000,9,    198.2,2,     1.13,2,     0.00,2,     0.00,2,     0.02,2,   -999.0,9,   -999.0,9,-999.0000,9,  -999.00,     2148
  49UF20110617,  PR02,  3040,  1,     33,  21992,2,20110627,2101,  8.0022, 136.9913, 3066,     11.3,  28.8800,  33.6966,2,  33.7037,4,    198.3,2,     1.13,2,     0.00,2,     0.00,2,     0.02,2,   -999.0,9,   -999.0,9,-999.0000,9,  -999.00,     2158
  49UF20110617,  PR02,  3040,  1,     32,  21991,2,20110627,2101,  8.0022, 136.9913, 3066,     26.7,  28.9284,  33.7681,2,-999.0000,9,    198.9,2,     1.13,2,     0.00,2,     0.00,2,     0.02,2,   -999.0,9,   -999.0,9,-999.0000,9,  -999.00,     2156
  49UF20110617,  PR02,  3040,  1,     31,  21990,3,20110627,2101,  8.0022, 136.9913, 3066,     51.7,  26.6183,  34.3652,2,-999.0000,9,    176.0,2,     3.77,2,     2.49,2,     0.15,2,     0.25,2,   -999.0,9,   -999.0,9,-999.0000,9,  -999.00,     2152
  49UF20110617,  PR02,  3040,  1,     30,  21989,3,20110627,2101,  8.0022, 136.9913, 3066,     74.9,  25.9017,  35.0242,2,-999.0000,9,    189.9,2,     1.52,2,     0.07,2,     0.08,2,     0.13,2,   -999.0,9,   -999.0,9,-999.0000,9,  -999.00,     2151
  49UF20110617,  PR02,  3040,  1,     29,  21988,2,20110627,2101,  8.0022, 136.9913, 3066,     74.9,  25.9017,  35.0242,2,-999.0000,9,    189.5,6,     1.54,6,     0.10,6,     0.08,6,     0.13,6,   -999.0,9,   -999.0,9,-999.0000,9,  -999.00,     2150
  49UF20110617,  PR02,  3040,  1,     28,  21987,2,20110627,2101,  8.0022, 136.9913, 3066,    100.2,  22.9149,  34.9597,2,  34.9478,4,    152.4,2,     5.40,2,     6.63,2,     0.04,2,     0.56,2,   -999.0,9,   -999.0,9,-999.0000,9,  -999.00,     2149
  49UF20110617,  PR02,  3040,  1,     24,  21983,2,20110627,2101,  8.0022, 136.9913, 3066,    126.8,  20.4920,  34.9348,2,-999.0000,9,    148.8,2,     6.76,2,     8.42,2,     0.02,2,     0.68,2,   -999.0,9,   -999.0,9,-999.0000,9,  -999.00,     2148
  49UF20110617,  PR02,  3040,  1,     23,  21982,2,20110627,2101,  8.0022, 136.9913, 3066,    153.8,  17.8569,  34.7339,2,-999.0000,9,    146.1,6,    10.75,6,    11.24,6,     0.01,6,     0.85,6,   -999.0,9,   -999.0,9,-999.0000,9,  -999.00,     2147
  49UF20110617,  PR02,  3040,  1,     22,  21981,2,20110627,2101,  8.0022, 136.9913, 3066,    202.7,  15.3332,  34.6079,2,  34.6098,2,    133.0,2,    15.27,2,    15.32,2,     0.01,2,     1.14,2,   -999.0,9,   -999.0,9,-999.0000,9,  -999.00,     2145
  49UF20110617,  PR02,  3040,  1,     18,  21977,2,20110627,2101,  8.0022, 136.9913, 3066,    254.4,  11.0684,  34.5294,2,-999.0000,9,     80.5,2,    29.09,2,    27.23,2,     0.01,2,     1.96,2,   -999.0,9,   -999.0,9,-999.0000,9,  -999.00,     2144
  49UF20110617,  PR02,  3040,  1,     17,  21976,2,20110627,2101,  8.0022, 136.9913, 3066,    303.3,   9.8133,  34.5713,2,-999.0000,9,     63.5,2,    34.69,2,    31.48,2,     0.00,2,     2.25,2,   -999.0,9,   -999.0,9,-999.0000,9,  -999.00,     2142
  49UF20110617,  PR02,  3040,  1,     16,  21975,2,20110627,2101,  8.0022, 136.9913, 3066,    403.8,   8.5514,  34.5676,2,  34.5675,2,     67.5,2,    40.73,2,    33.54,2,     0.00,2,     2.39,2,   -999.0,9,   -999.0,9,-999.0000,9,  -999.00,     2140
  49UF20110617,  PR02,  3040,  1,     15,  21974,2,20110627,2101,  8.0022, 136.9913, 3066,    505.5,   7.7352,  34.5432,2,-999.0000,9,     78.9,2,    45.85,2,    33.95,2,     0.00,2,     2.42,2,   -999.0,9,   -999.0,9,-999.0000,9,  -999.00,     2137
  49UF20110617,  PR02,  3040,  1,     14,  21973,2,20110627,2101,  8.0022, 136.9913, 3066,    605.2,   7.1883,  34.5377,2,  34.5377,2,     81.1,2,    50.66,2,    34.82,2,     0.00,2,     2.48,2,   -999.0,9,   -999.0,9,-999.0000,9,  -999.00,     2134
  49UF20110617,  PR02,  3040,  1,     13,  21972,3,20110627,2101,  8.0022, 136.9913, 3066,    706.4,   6.5821,  34.5279,2,-999.0000,9,     83.1,2,    57.55,2,    35.67,2,     0.00,2,     2.53,2,   -999.0,9,   -999.0,9,-999.0000,9,  -999.00,     2132
  49UF20110617,  PR02,  3040,  1,     12,  21971,2,20110627,2101,  8.0022, 136.9913, 3066,    807.1,   5.7030,  34.5262,2,  34.5263,2,     85.9,2,    70.33,2,    36.84,2,     0.00,2,     2.63,2,   -999.0,9,   -999.0,9,-999.0000,9,  -999.00,     2129
  49UF20110617,  PR02,  3040,  1,     11,  21970,2,20110627,2101,  8.0022, 136.9913, 3066,    807.1,   5.7030,  34.5262,2,  34.5266,6,     85.7,6,    70.31,6,    36.83,6,     0.00,6,     2.63,6,   -999.0,9,   -999.0,9,-999.0000,9,  -999.00,     2129
  49UF20110617,  PR02,  3040,  1,     10,  21969,3,20110627,2101,  8.0022, 136.9913, 3066,    907.9,   5.0798,  34.5374,2,-999.0000,9,     86.3,2,    80.82,2,    37.67,2,     0.00,2,     2.69,2,   -999.0,9,   -999.0,9,-999.0000,9,  -999.00,     2127
  49UF20110617,  PR02,  3040,  1,      6,  21965,2,20110627,2101,  8.0022, 136.9913, 3066,   1011.0,   4.5889,  34.5472,2,  34.5470,2,     87.1,2,    91.01,2,    38.31,2,     0.00,2,     2.73,2,   -999.0,9,   -999.0,9,-999.0000,9,  -999.00,     2124
  49UF20110617,  PR02,  3040,  1,      5,  21964,2,20110627,2101,  8.0022, 136.9913, 3066,   1211.4,   3.8582,  34.5659,2,  34.5665,2,     90.8,2,   105.68,2,    38.74,2,     0.00,2,     2.76,2,   -999.0,9,   -999.0,9,-999.0000,9,  -999.00,     2119
  49UF20110617,  PR02,  3040,  1,      4,  21963,2,20110627,2101,  8.0022, 136.9913, 3066,   1413.7,   3.3111,  34.5846,2,  34.5848,2,     96.5,2,   116.36,2,    38.75,2,     0.00,2,     2.77,2,   -999.0,9,   -999.0,9,-999.0000,9,  -999.00,     2115
  49UF20110617,  PR02,  3040,  1,      3,  21962,2,20110627,2101,  8.0022, 136.9913, 3066,   1617.0,   2.8998,  34.6008,2,  34.6013,2,    101.1,2,   124.54,2,    38.75,2,     0.00,2,     2.75,2,   -999.0,9,   -999.0,9,-999.0000,9,  -999.00,     2111
  49UF20110617,  PR02,  3040,  1,      2,  21961,2,20110627,2101,  8.0022, 136.9913, 3066,   1819.5,   2.4866,  34.6190,2,  34.6193,6,    108.9,2,   132.52,2,    38.53,2,     0.00,2,     2.72,2,   -999.0,9,   -999.0,9,-999.0000,9,  -999.00,     2106
  49UF20110617,  PR02,  3040,  1,      1,  21960,2,20110627,2101,  8.0022, 136.9913, 3066,   2024.5,   2.1795,  34.6344,2,  34.6347,2,    117.2,2,   137.49,2,    38.12,2,     0.00,2,     2.68,2,   -999.0,9,   -999.0,9,-999.0000,9,  -999.00,     2101
  49UF20110617,  PR02,  3041,  1,     99,     99,2,20110628,1108,  7.0125, 136.9855, 4230,      0.0,  28.9303,  33.4285,2,-999.0000,9,    198.4,2,     1.96,2,     0.04,2,     0.00,2,     0.03,2,   -999.0,9,   -999.0,9,-999.0000,9,  -999.00,     1145
  49UF20110617,  PR02,  3041,  1,     33,  21992,2,20110628,1108,  7.0125, 136.9855, 4230,     11.4,  28.7046,  33.5176,2,-999.0000,9,    198.7,2,     1.48,2,     0.01,2,     0.00,2,     0.02,2,   -999.0,9,   -999.0,9,-999.0000,9,  -999.00,     1206
  49UF20110617,  PR02,  3041,  1,     32,  21991,2,20110628,1108,  7.0125, 136.9855, 4230,     26.4,  28.8122,  33.7097,2,-999.0000,9,    197.8,2,     1.18,2,     0.02,2,     0.00,2,     0.02,2,   -999.0,9,   -999.0,9,-999.0000,9,  -999.00,     1205
  49UF20110617,  PR02,  3041,  1,     31,  21990,2,20110628,1108,  7.0125, 136.9855, 4230,     26.4,  28.8122,  33.7097,2,-999.0000,9,    198.2,6,     1.18,6,     0.01,6,     0.00,6,     0.02,6,   -999.0,9,   -999.0,9,-999.0000,9,  -999.00,     1205
  49UF20110617,  PR02,  3041,  1,     30,  21989,2,20110628,1108,  7.0125, 136.9855, 4230,     51.0,  28.3379,  34.0416,2,-999.0000,9,    194.1,2,     2.27,2,     0.23,2,     0.03,2,     0.09,2,   -999.0,9,   -999.0,9,-999.0000,9,  -999.00,     1200
  49UF20110617,  PR02,  3041,  1,     29,  21988,2,20110628,1108,  7.0125, 136.9855, 4230,     75.6,  27.0836,  34.7304,2,-999.0000,9,    186.0,2,     1.84,2,     0.51,2,     0.26,2,     0.16,2,   -999.0,9,   -999.0,9,-999.0000,9,  -999.00,     1159
  49UF20110617,  PR02,  3041,  1,     28,  21987,2,20110628,1108,  7.0125, 136.9855, 4230,    100.7,  23.2403,  34.9133,2,-999.0000,9,    161.1,2,     4.15,2,     4.60,2,     0.03,2,     0.42,2,   -999.0,9,   -999.0,9,-999.0000,9,  -999.00,     1158
  49UF20110617,  PR02,  3041,  1,     24,  21983,2,20110628,1108,  7.0125, 136.9855, 4230,    126.0,  20.7933,  34.8986,2,-999.0000,9,    151.7,6,     6.61,6,     7.88,6,     0.02,6,     0.64,6,   -999.0,9,   -999.0,9,-999.0000,9,  -999.00,     1156
  49UF20110617,  PR02,  3041,  1,     23,  21982,2,20110628,1108,  7.0125, 136.9855, 4230,    151.6,  18.1906,  34.8831,2,-999.0000,9,    147.8,2,     9.81,2,    10.97,2,     0.01,2,     0.83,2,   -999.0,9,   -999.0,9,-999.0000,9,  -999.00,     1155
  49UF20110617,  PR02,  3041,  1,     22,  21981,2,20110628,1108,  7.0125, 136.9855, 4230,    203.7,  13.6756,  34.5434,2,-999.0000,9,    112.2,2,    19.42,2,    19.76,2,     0.01,2,     1.46,2,   -999.0,9,   -999.0,9,-999.0000,9,  -999.00,     1153
  49UF20110617,  PR02,  3041,  1,     18,  21977,2,20110628,1108,  7.0125, 136.9855, 4230,    252.7,  11.0841,  34.5363,2,-999.0000,9,     79.2,2,    28.88,2,    27.45,2,     0.00,2,     1.99,2,   -999.0,9,   -999.0,9,-999.0000,9,  -999.00,     1152
  49UF20110617,  PR02,  3041,  1,     17,  21976,2,20110628,1108,  7.0125, 136.9855, 4230,    302.5,   9.6390,  34.5851,2,-999.0000,9,     64.0,2,    34.89,2,    31.82,2,     0.00,2,     2.28,2,   -999.0,9,   -999.0,9,-999.0000,9,  -999.00,     1150
  49UF20110617,  PR02,  3041,  1,     16,  21975,2,20110628,1108,  7.0125, 136.9855, 4230,    404.4,   8.5296,  34.5793,2,-999.0000,9,     67.7,2,    39.80,2,    33.70,2,     0.00,2,     2.39,2,   -999.0,9,   -999.0,9,-999.0000,9,  -999.00,     1147
  49UF20110617,  PR02,  3041,  1,     15,  21974,2,20110628,1108,  7.0125, 136.9855, 4230,    504.2,   7.6821,  34.5496,2,-999.0000,9,     78.8,2,    45.58,2,    34.23,2,     0.00,2,     2.43,2,   -999.0,9,   -999.0,9,-999.0000,9,  -999.00,     1145
  49UF20110617,  PR02,  3041,  1,     14,  21973,2,20110628,1108,  7.0125, 136.9855, 4230,    605.2,   6.8672,  34.5297,2,-999.0000,9,     85.6,2,    53.17,2,    35.02,2,     0.00,2,     2.50,2,   -999.0,9,   -999.0,9,-999.0000,9,  -999.00,     1142
  49UF20110617,  PR02,  3041,  1,     13,  21972,2,20110628,1108,  7.0125, 136.9855, 4230,    706.6,   6.0828,  34.5285,2,-999.0000,9,     81.7,2,    64.45,2,    36.83,2,     0.00,2,     2.63,2,   -999.0,9,   -999.0,9,-999.0000,9,  -999.00,     1139
  49UF20110617,  PR02,  3041,  1,     12,  21971,2,20110628,1108,  7.0125, 136.9855, 4230,    706.6,   6.0828,  34.5285,2,-999.0000,9,     81.8,6,    64.40,6,    36.77,6,     0.00,6,     2.63,6,   -999.0,9,   -999.0,9,-999.0000,9,  -999.00,     1139
  49UF20110617,  PR02,  3041,  1,     11,  21970,2,20110628,1108,  7.0125, 136.9855, 4230,    806.9,   5.4808,  34.5341,2,-999.0000,9,     85.0,2,    73.43,2,    37.50,2,     0.00,2,     2.68,2,   -999.0,9,   -999.0,9,-999.0000,9,  -999.00,     1137
  49UF20110617,  PR02,  3041,  1,     10,  21969,2,20110628,1108,  7.0125, 136.9855, 4230,    906.9,   4.9901,  34.5419,2,-999.0000,9,     86.3,2,    82.06,2,    38.00,2,     0.00,2,     2.71,2,   -999.0,9,   -999.0,9,-999.0000,9,  -999.00,     1134
  49UF20110617,  PR02,  3041,  1,      6,  21965,2,20110628,1108,  7.0125, 136.9855, 4230,   1009.7,   4.5178,  34.5519,2,-999.0000,9,     87.2,2,    91.18,2,    38.43,2,     0.00,2,     2.74,2,   -999.0,9,   -999.0,9,-999.0000,9,  -999.00,     1132
  49UF20110617,  PR02,  3041,  1,      5,  21964,2,20110628,1108,  7.0125, 136.9855, 4230,   1212.5,   3.7463,  34.5724,2,-999.0000,9,     91.4,2,   106.37,2,    38.86,2,     0.00,2,     2.77,2,   -999.0,9,   -999.0,9,-999.0000,9,  -999.00,     1127
  49UF20110617,  PR02,  3041,  1,      4,  21963,2,20110628,1108,  7.0125, 136.9855, 4230,   1415.1,   3.2158,  34.5890,2,-999.0000,9,     96.6,2,   117.72,2,    39.00,2,     0.00,2,     2.78,2,   -999.0,9,   -999.0,9,-999.0000,9,  -999.00,     1122
  49UF20110617,  PR02,  3041,  1,      3,  21962,2,20110628,1108,  7.0125, 136.9855, 4230,   1618.1,   2.8261,  34.6056,2,-999.0000,9,    100.9,2,   125.65,2,    38.98,2,     0.00,2,     2.77,2,   -999.0,9,   -999.0,9,-999.0000,9,  -999.00,     1118
  49UF20110617,  PR02,  3041,  1,      2,  21961,2,20110628,1108,  7.0125, 136.9855, 4230,   1820.1,   2.5169,  34.6189,2,-999.0000,9,    108.0,2,   131.49,2,    38.65,2,     0.00,2,     2.74,2,   -999.0,9,   -999.0,9,-999.0000,9,  -999.00,     1113
  49UF20110617,  PR02,  3041,  1,      1,  21960,2,20110628,1108,  7.0125, 136.9855, 4230,   2022.8,   2.2958,  34.6301,2,-999.0000,9,    113.7,2,   135.26,2,    38.37,2,     0.00,2,     2.71,2,   -999.0,9,   -999.0,9,-999.0000,9,  -999.00,     1108
  49UF20110617,  PR02,  3042,  1,     99,     99,2,20110628,1824,  6.0102, 136.9938, 4246,      0.0,  28.9594,  33.5152,2,-999.0000,9,    196.7,2,     1.19,2,     0.00,2,     0.00,2,     0.02,2,   -999.0,9,   -999.0,9,-999.0000,9,  -999.00,     1906
  49UF20110617,  PR02,  3042,  1,     36,  21995,2,20110628,1824,  6.0102, 136.9938, 4246,     11.0,  28.6760,  33.5437,2,  33.5410,2,    197.3,2,     1.28,2,     0.00,2,     0.00,2,     0.01,2,   -999.0,9,   -999.0,9,-999.0000,9,  -999.00,     1927
  49UF20110617,  PR02,  3042,  1,     35,  21994,2,20110628,1824,  6.0102, 136.9938, 4246,     26.7,  28.5874,  33.5665,2,-999.0000,9,    197.3,2,     1.55,2,     0.00,2,     0.00,2,     0.01,2,   -999.0,9,   -999.0,9,-999.0000,9,  -999.00,     1925
  49UF20110617,  PR02,  3042,  1,     34,  21993,2,20110628,1824,  6.0102, 136.9938, 4246,     51.6,  28.6016,  34.1082,2,-999.0000,9,    185.6,2,     2.52,2,     0.80,2,     0.34,2,     0.13,2,   -999.0,9,   -999.0,9,-999.0000,9,  -999.00,     1921
  49UF20110617,  PR02,  3042,  1,     33,  21992,2,20110628,1824,  6.0102, 136.9938, 4246,     75.9,  26.6878,  34.6237,2,-999.0000,9,    179.1,2,     2.56,2,     1.53,2,     0.26,2,     0.20,2,   -999.0,9,   -999.0,9,-999.0000,9,  -999.00,     1920
  49UF20110617,  PR02,  3042,  1,     32,  21991,2,20110628,1824,  6.0102, 136.9938, 4246,    101.8,  24.2748,  34.8779,2,  34.8774,2,    165.8,2,     3.59,2,     3.54,2,     0.04,2,     0.35,2,   -999.0,9,   -999.0,9,-999.0000,9,  -999.00,     1918
  49UF20110617,  PR02,  3042,  1,     31,  21990,2,20110628,1824,  6.0102, 136.9938, 4246,    126.5,  21.4561,  34.8456,2,-999.0000,9,    156.9,2,     5.30,2,     6.01,2,     0.03,2,     0.51,2,   -999.0,9,   -999.0,9,-999.0000,9,  -999.00,     1917
  49UF20110617,  PR02,  3042,  1,     27,  21986,2,20110628,1824,  6.0102, 136.9938, 4246,    151.3,  16.5967,  34.6402,2,-999.0000,9,    152.6,2,    12.34,2,    11.96,2,     0.01,2,     0.88,2,   -999.0,9,   -999.0,9,-999.0000,9,  -999.00,     1916
  49UF20110617,  PR02,  3042,  1,     26,  21985,2,20110628,1824,  6.0102, 136.9938, 4246,    201.5,  13.2258,  34.5255,2,  34.5233,2,    120.8,2,    21.05,2,    19.82,2,     0.00,2,     1.44,2,   -999.0,9,   -999.0,9,-999.0000,9,  -999.00,     1914
  49UF20110617,  PR02,  3042,  1,     25,  21984,2,20110628,1824,  6.0102, 136.9938, 4246,    252.1,  10.6560,  34.5412,2,-999.0000,9,     72.2,6,    31.34,6,    29.05,6,     0.00,6,     2.09,6,   -999.0,9,   -999.0,9,-999.0000,9,  -999.00,     1912
  49UF20110617,  PR02,  3042,  1,     24,  21983,2,20110628,1824,  6.0102, 136.9938, 4246,    303.3,   9.6677,  34.5727,2,-999.0000,9,     63.2,2,    35.51,2,    31.91,2,     0.00,2,     2.27,2,   -999.0,9,   -999.0,9,-999.0000,9,  -999.00,     1910
  49UF20110617,  PR02,  3042,  1,     23,  21982,2,20110628,1824,  6.0102, 136.9938, 4246,    303.3,   9.6677,  34.5727,2,  34.5724,2,     64.0,6,    35.49,6,    31.93,6,     0.00,6,     2.27,6,   -999.0,9,   -999.0,9,-999.0000,9,  -999.00,     1910
  49UF20110617,  PR02,  3042,  1,     22,  21981,2,20110628,1824,  6.0102, 136.9938, 4246,    404.2,   8.1897,  34.5554,2,  34.5548,6,     77.4,2,    42.70,2,    33.58,2,     0.00,2,     2.37,2,   -999.0,9,   -999.0,9,-999.0000,9,  -999.00,     1908
  49UF20110617,  PR02,  3042,  1,     18,  21977,2,20110628,1824,  6.0102, 136.9938, 4246,    504.2,   7.4741,  34.5337,2,-999.0000,9,     87.0,2,    47.29,2,    33.91,2,     0.00,2,     2.40,2,   -999.0,9,   -999.0,9,-999.0000,9,  -999.00,     1905
  49UF20110617,  PR02,  3042,  1,     17,  21976,2,20110628,1824,  6.0102, 136.9938, 4246,    606.2,   6.8758,  34.5254,2,  34.5255,2,     90.3,2,    53.05,2,    34.77,2,     0.00,2,     2.46,2,   -999.0,9,   -999.0,9,-999.0000,9,  -999.00,     1902
  49UF20110617,  PR02,  3042,  1,     16,  21975,2,20110628,1824,  6.0102, 136.9938, 4246,    707.6,   6.2701,  34.5236,2,-999.0000,9,     87.2,2,    61.52,2,    36.14,2,     0.00,2,     2.57,2,   -999.0,9,   -999.0,9,-999.0000,9,  -999.00,     1859
  49UF20110617,  PR02,  3042,  1,     12,  21971,2,20110628,1824,  6.0102, 136.9938, 4246,    806.5,   5.7233,  34.5305,2,  34.5298,2,     86.8,2,    69.40,2,    37.09,2,     0.00,2,     2.64,2,   -999.0,9,   -999.0,9,-999.0000,9,  -999.00,     1856
  49UF20110617,  PR02,  3042,  1,     11,  21970,2,20110628,1824,  6.0102, 136.9938, 4246,    907.4,   5.0515,  34.5397,2,-999.0000,9,     84.4,2,    82.06,2,    38.08,2,     0.00,2,     2.72,2,   -999.0,9,   -999.0,9,-999.0000,9,  -999.00,     1853
  49UF20110617,  PR02,  3042,  1,     10,  21969,2,20110628,1824,  6.0102, 136.9938, 4246,    907.4,   5.0515,  34.5397,2,-999.0000,9,     84.4,6,    82.09,6,    38.21,6,     0.00,6,     2.73,6,   -999.0,9,   -999.0,9,-999.0000,9,  -999.00,     1853
  49UF20110617,  PR02,  3042,  1,      9,  21968,2,20110628,1824,  6.0102, 136.9938, 4246,   1011.9,   4.4835,  34.5528,2,  34.5524,2,     88.0,2,    92.51,2,    38.56,2,     0.00,2,     2.75,2,   -999.0,9,   -999.0,9,-999.0000,9,  -999.00,     1851
  49UF20110617,  PR02,  3042,  1,      8,  21967,2,20110628,1824,  6.0102, 136.9938, 4246,   1212.7,   3.5923,  34.5767,2,  34.5773,6,     92.6,2,   110.60,2,    39.13,2,     0.00,2,     2.78,2,   -999.0,9,   -999.0,9,-999.0000,9,  -999.00,     1846
  49UF20110617,  PR02,  3042,  1,      7,  21966,2,20110628,1824,  6.0102, 136.9938, 4246,   1413.9,   3.0875,  34.5953,2,  34.5958,2,     97.9,2,   120.64,2,    39.15,2,     0.00,2,     2.77,2,   -999.0,9,   -999.0,9,-999.0000,9,  -999.00,     1842
  49UF20110617,  PR02,  3042,  1,      6,  21965,2,20110628,1824,  6.0102, 136.9938, 4246,   1614.2,   2.7599,  34.6089,2,  34.6092,2,    102.8,2,   127.69,2,    39.11,2,     0.00,2,     2.77,2,   -999.0,9,   -999.0,9,-999.0000,9,  -999.00,     1838
  49UF20110617,  PR02,  3042,  1,      5,  21964,2,20110628,1824,  6.0102, 136.9938, 4246,   1819.0,   2.4212,  34.6237,2,  34.6241,2,    110.0,2,   134.30,2,    38.87,2,     0.00,2,     2.74,2,   -999.0,9,   -999.0,9,-999.0000,9,  -999.00,     1829
  49UF20110617,  PR02,  3042,  1,      4,  21963,2,20110628,1824,  6.0102, 136.9938, 4246,   2021.7,   2.1922,  34.6360,2,  34.6359,2,    115.8,2,   138.46,2,    38.52,2,     0.00,2,     2.71,2,   -999.0,9,   -999.0,9,-999.0000,9,  -999.00,     1824