BOTTLE,20191015PRINUNIVRMK
EXPOCODE,SECT_ID,STNNBR,CASTNO,SAMPNO,BTLNBR,BTLNBR_FLAG_W,DATE,TIME,LATITUDE,LONGITUDE,DEPTH,CTDPRS,CTDTMP,CTDSAL,CTDSAL_FLAG_W,SALNTY,SALNTY_FLAG_W,OXYGEN,OXYGEN_FLAG_W,SILCAT,SILCAT_FLAG_W,NITRAT,NITRAT_FLAG_W,NITRIT,NITRIT_FLAG_W,PHSPHT,PHSPHT_FLAG_W,TCARBN,TCARBN_FLAG_W,ALKALI,ALKALI_FLAG_W,PH_TOT,PH_TOT_FLAG_W,PH_TMP,BTL_TIME
,,,,,,,,,,,METERS,DBAR,ITS-90,PSS-78,,PSS-78,,UMOL/KG,,UMOL/KG,,UMOL/KG,,UMOL/KG,,UMOL/KG,,UMOL/KG,,UMOL/KG,,,,DEG C,
  49UF20110617,  PR02,  3019,  1,     99,     99,2,20110620,0911, 29.0042, 137.0150, 4444,      0.0,  24.3478,  34.5061,2,-999.0000,9,    214.7,2,     1.58,2,     0.04,2,     0.00,2,     0.03,2,   -999.0,9,   -999.0,9,-999.0000,9,  -999.00,      958
  49UF20110617,  PR02,  3019,  1,     36,  21995,2,20110620,0911, 29.0042, 137.0150, 4444,     11.3,  22.8176,  34.5295,2,  34.5414,4,    221.3,2,     1.54,2,     0.03,2,     0.00,2,     0.02,2,   -999.0,9,   -999.0,9,-999.0000,9,  -999.00,     1011
  49UF20110617,  PR02,  3019,  1,     35,  21994,2,20110620,0911, 29.0042, 137.0150, 4444,     26.1,  21.8988,  34.5959,2,-999.0000,9,    224.2,2,     1.56,2,     0.06,2,     0.00,2,     0.01,2,   -999.0,9,   -999.0,9,-999.0000,9,  -999.00,     1009
  49UF20110617,  PR02,  3019,  1,     34,  21993,2,20110620,0911, 29.0042, 137.0150, 4444,     51.6,  21.1992,  34.6837,2,-999.0000,9,    226.5,2,     1.65,2,     0.02,2,     0.00,2,     0.01,2,   -999.0,9,   -999.0,9,-999.0000,9,  -999.00,     1004
  49UF20110617,  PR02,  3019,  1,     30,  21989,2,20110620,0911, 29.0042, 137.0150, 4444,     76.4,  20.0069,  34.7428,2,-999.0000,9,    227.9,2,     1.97,2,     0.08,2,     0.02,2,     0.03,2,   -999.0,9,   -999.0,9,-999.0000,9,  -999.00,     1003
  49UF20110617,  PR02,  3019,  1,     29,  21988,2,20110620,0911, 29.0042, 137.0150, 4444,    100.9,  18.8761,  34.7403,2,  34.7401,2,    225.2,2,     2.35,2,     0.80,2,     0.25,2,     0.09,2,   -999.0,9,   -999.0,9,-999.0000,9,  -999.00,     1002
  49UF20110617,  PR02,  3019,  1,     28,  21987,2,20110620,0911, 29.0042, 137.0150, 4444,    126.6,  18.4288,  34.7505,2,-999.0000,9,    219.6,2,     2.73,2,     2.10,2,     0.07,2,     0.15,2,   -999.0,9,   -999.0,9,-999.0000,9,  -999.00,     1000
  49UF20110617,  PR02,  3019,  1,     27,  21986,2,20110620,0911, 29.0042, 137.0150, 4444,    152.1,  18.0830,  34.7415,2,-999.0000,9,    219.8,2,     2.80,2,     2.29,2,     0.03,2,     0.16,2,   -999.0,9,   -999.0,9,-999.0000,9,  -999.00,      959
  49UF20110617,  PR02,  3019,  1,     26,  21985,2,20110620,0911, 29.0042, 137.0150, 4444,    202.4,  17.5023,  34.7226,2,  34.7214,2,    208.8,2,     4.26,2,     4.30,2,     0.01,2,     0.29,2,   -999.0,9,   -999.0,9,-999.0000,9,  -999.00,      958
  49UF20110617,  PR02,  3019,  1,     25,  21984,2,20110620,0911, 29.0042, 137.0150, 4444,    252.4,  17.2992,  34.7229,2,-999.0000,9,    220.6,2,     3.68,2,     3.43,2,     0.01,2,     0.23,2,   -999.0,9,   -999.0,9,-999.0000,9,  -999.00,      956
  49UF20110617,  PR02,  3019,  1,     21,  21980,2,20110620,0911, 29.0042, 137.0150, 4444,    302.5,  16.7323,  34.6785,2,-999.0000,9,    187.2,6,     7.07,6,     7.51,6,     0.01,6,     0.51,6,   -999.0,9,   -999.0,9,-999.0000,9,  -999.00,      955
  49UF20110617,  PR02,  3019,  1,     20,  21979,3,20110620,0911, 29.0042, 137.0150, 4444,    403.7,  14.6850,  34.5517,2,  34.5549,2,    182.2,2,    12.55,2,    11.04,2,     0.00,2,     0.76,2,   -999.0,9,   -999.0,9,-999.0000,9,  -999.00,      952
  49UF20110617,  PR02,  3019,  1,     19,  21978,2,20110620,0911, 29.0042, 137.0150, 4444,    504.8,  12.2037,  34.4042,2,-999.0000,9,    168.0,2,    23.39,2,    16.45,2,     0.01,2,     1.16,2,   -999.0,9,   -999.0,9,-999.0000,9,  -999.00,      949
  49UF20110617,  PR02,  3019,  1,     15,  21974,2,20110620,0911, 29.0042, 137.0150, 4444,    605.9,   9.0808,  34.2190,2,  34.2201,2,    151.3,2,    41.29,2,    23.25,2,     0.00,2,     1.69,2,   -999.0,9,   -999.0,9,-999.0000,9,  -999.00,      946
  49UF20110617,  PR02,  3019,  1,     14,  21973,2,20110620,0911, 29.0042, 137.0150, 4444,    605.9,   9.0808,  34.2190,2,  34.2204,6,    151.9,6,    41.25,6,    23.24,6,     0.00,6,     1.68,6,   -999.0,9,   -999.0,9,-999.0000,9,  -999.00,      946
  49UF20110617,  PR02,  3019,  1,     13,  21972,2,20110620,0911, 29.0042, 137.0150, 4444,    707.2,   7.1244,  34.2239,2,-999.0000,9,    113.3,2,    64.59,2,    30.18,2,     0.00,2,     2.18,2,   -999.0,9,   -999.0,9,-999.0000,9,  -999.00,      943
  49UF20110617,  PR02,  3019,  1,     12,  21971,2,20110620,0911, 29.0042, 137.0150, 4444,    809.9,   5.3071,  34.2011,2,  34.2006,2,     86.7,2,    86.72,2,    35.54,2,     0.00,2,     2.57,2,   -999.0,9,   -999.0,9,-999.0000,9,  -999.00,      940
  49UF20110617,  PR02,  3019,  1,     11,  21970,2,20110620,0911, 29.0042, 137.0150, 4444,    910.9,   4.7680,  34.2576,2,-999.0000,9,     72.4,2,    98.76,2,    37.59,2,     0.00,2,     2.72,2,   -999.0,9,   -999.0,9,-999.0000,9,  -999.00,      937
  49UF20110617,  PR02,  3019,  1,     10,  21969,2,20110620,0911, 29.0042, 137.0150, 4444,   1012.0,   4.1296,  34.3099,2,  34.3098,2,     61.4,2,   111.41,2,    39.43,2,     0.00,2,     2.83,2,   -999.0,9,   -999.0,9,-999.0000,9,  -999.00,      934
  49UF20110617,  PR02,  3019,  1,      9,  21968,2,20110620,0911, 29.0042, 137.0150, 4444,   1012.0,   4.1296,  34.3099,2,  34.3089,6,     61.2,6,   111.80,6,    39.40,6,     0.00,6,     2.84,6,   -999.0,9,   -999.0,9,-999.0000,9,  -999.00,      934
  49UF20110617,  PR02,  3019,  1,      8,  21967,2,20110620,0911, 29.0042, 137.0150, 4444,   1213.6,   3.1713,  34.4167,2,  34.4167,2,     52.6,2,   133.44,2,    41.48,2,     0.00,2,     2.96,2,   -999.0,9,   -999.0,9,-999.0000,9,  -999.00,      929
  49UF20110617,  PR02,  3019,  1,      7,  21966,2,20110620,0911, 29.0042, 137.0150, 4444,   1417.1,   2.6610,  34.4941,2,  34.4941,2,     62.6,2,   143.83,2,    41.26,2,     0.00,2,     2.94,2,   -999.0,9,   -999.0,9,-999.0000,9,  -999.00,      924
  49UF20110617,  PR02,  3019,  1,      3,  21962,2,20110620,0911, 29.0042, 137.0150, 4444,   1618.3,   2.3119,  34.5471,2,  34.5473,2,     75.7,2,   149.22,2,    40.66,2,     0.00,2,     2.89,2,   -999.0,9,   -999.0,9,-999.0000,9,  -999.00,      920
  49UF20110617,  PR02,  3019,  1,      2,  21961,2,20110620,0911, 29.0042, 137.0150, 4444,   1821.0,   2.1207,  34.5783,2,  34.5781,2,     88.6,2,   149.61,2,    39.88,2,     0.00,2,     2.82,2,   -999.0,9,   -999.0,9,-999.0000,9,  -999.00,      916
  49UF20110617,  PR02,  3019,  1,      1,  21960,2,20110620,0911, 29.0042, 137.0150, 4444,   2024.2,   1.9622,  34.6019,2,  34.6021,2,     98.5,2,   150.98,2,    39.33,2,     0.00,2,     2.78,2,   -999.0,9,   -999.0,9,-999.0000,9,  -999.00,      911
  49UF20110617,  PR02,  3020,  1,     99,     99,2,20110621,0108, 28.0063, 136.9832, 4174,      0.0,  26.9107,  34.5112,2,-999.0000,9,    208.7,2,     1.65,2,     0.02,2,     0.00,2,     0.02,2,   -999.0,9,   -999.0,9,-999.0000,9,  -999.00,      150
  49UF20110617,  PR02,  3020,  1,     36,  21995,2,20110621,0108, 28.0063, 136.9832, 4174,     11.1,  24.4607,  34.4915,2,-999.0000,9,    218.8,2,     1.61,2,     0.00,2,     0.00,2,     0.00,2,   1968.2,2,   2251.5,2,   8.0141,4,    25.00,      209
  49UF20110617,  PR02,  3020,  1,     35,  21994,2,20110621,0108, 28.0063, 136.9832, 4174,     26.6,  23.0203,  34.6457,2,-999.0000,9,    223.6,2,     1.61,2,     0.00,2,     0.00,2,     0.00,2,   1973.9,2,   2262.8,2,   7.9958,4,    25.00,      207
  49UF20110617,  PR02,  3020,  1,     34,  21993,2,20110621,0108, 28.0063, 136.9832, 4174,     51.1,  20.6103,  34.8342,2,-999.0000,9,    231.2,2,     1.72,2,     0.03,2,     0.00,2,     0.00,2,   1984.3,2,   2278.0,2,   8.0024,4,    25.00,      203
  49UF20110617,  PR02,  3020,  1,     30,  21989,2,20110621,0108, 28.0063, 136.9832, 4174,     75.3,  19.8139,  34.8145,2,-999.0000,9,    226.0,2,     1.86,2,     0.02,2,     0.00,2,     0.02,2,   1994.6,2,   2274.5,2,   7.9882,4,    25.00,      201
  49UF20110617,  PR02,  3020,  1,     29,  21988,2,20110621,0108, 28.0063, 136.9832, 4174,     75.3,  19.8139,  34.8145,2,-999.0000,9,    226.0,6,     1.88,6,     0.03,6,     0.00,6,     0.03,6,   1993.0,2,   2270.1,3,   7.9493,4,    25.00,      201
  49UF20110617,  PR02,  3020,  1,     28,  21987,2,20110621,0108, 28.0063, 136.9832, 4174,    101.1,  19.1369,  34.7838,2,-999.0000,9,    215.6,2,     2.25,2,     1.43,2,     0.14,2,     0.11,2,   2004.1,2,   2272.8,2,   7.9656,4,    25.00,      200
  49UF20110617,  PR02,  3020,  1,     27,  21986,2,20110621,0108, 28.0063, 136.9832, 4174,    125.6,  18.6126,  34.7635,2,-999.0000,9,    213.2,2,     2.69,2,     2.44,2,     0.03,2,     0.17,2,   2011.1,2,   2271.4,2,   7.9424,4,    25.00,      158
  49UF20110617,  PR02,  3020,  1,     26,  21985,2,20110621,0108, 28.0063, 136.9832, 4174,    150.0,  18.3982,  34.7568,2,-999.0000,9,    213.1,2,     2.94,2,     2.75,2,     0.02,2,     0.18,2,   -999.0,5,   -999.0,5,   7.9417,4,    25.00,      157
  49UF20110617,  PR02,  3020,  1,     25,  21984,2,20110621,0108, 28.0063, 136.9832, 4174,    201.3,  18.0676,  34.7428,2,-999.0000,9,    209.1,2,     3.58,2,     3.58,2,     0.01,2,     0.25,2,   -999.0,5,   -999.0,5,   7.9350,4,    25.00,      155
  49UF20110617,  PR02,  3020,  1,     21,  21980,2,20110621,0108, 28.0063, 136.9832, 4174,    251.9,  17.5060,  34.7145,2,-999.0000,9,    203.4,2,     4.64,2,     4.80,2,     0.01,2,     0.33,2,   2027.6,2,   2265.6,2,   7.8934,4,    25.00,      153
  49UF20110617,  PR02,  3020,  1,     20,  21979,2,20110621,0108, 28.0063, 136.9832, 4174,    302.5,  16.8727,  34.6902,2,-999.0000,9,    201.0,2,     5.71,2,     5.93,2,     0.01,2,     0.40,2,   2044.2,2,   2269.5,2,   7.8880,4,    25.00,      152
  49UF20110617,  PR02,  3020,  1,     19,  21978,2,20110621,0108, 28.0063, 136.9832, 4174,    403.0,  14.6945,  34.5516,2,-999.0000,9,    182.4,2,    12.66,2,    11.11,2,     0.00,2,     0.75,2,   2078.9,2,   2263.0,2,   7.8151,4,    25.00,      149
  49UF20110617,  PR02,  3020,  1,     15,  21974,2,20110621,0108, 28.0063, 136.9832, 4174,    503.7,  11.7478,  34.3587,2,-999.0000,9,    174.1,2,    23.23,2,    16.52,2,     0.01,2,     1.17,2,   2119.8,2,   2256.6,2,   7.6960,4,    25.00,      146
  49UF20110617,  PR02,  3020,  1,     14,  21973,2,20110621,0108, 28.0063, 136.9832, 4174,    606.7,   9.4720,  34.2307,2,-999.0000,9,    155.9,2,    37.35,2,    22.26,2,     0.01,2,     1.59,2,   2161.7,2,   2270.0,2,   7.6335,4,    25.00,      143
  49UF20110617,  PR02,  3020,  1,     13,  21972,2,20110621,0108, 28.0063, 136.9832, 4174,    707.0,   7.3028,  34.1641,2,-999.0000,9,    126.3,6,    57.94,6,    28.73,6,     0.00,6,     2.07,6,   2213.6,2,   2286.0,2,   7.5026,4,    25.00,      141
  49UF20110617,  PR02,  3020,  1,     12,  21971,2,20110621,0108, 28.0063, 136.9832, 4174,    807.6,   5.7162,  34.1735,2,-999.0000,9,     95.0,2,    79.20,2,    34.24,2,     0.00,2,     2.46,2,   2261.9,6,   2302.1,6,-999.0000,9,  -999.00,      138
  49UF20110617,  PR02,  3020,  1,     11,  21970,2,20110621,0108, 28.0063, 136.9832, 4174,    908.3,   4.6785,  34.2646,2,-999.0000,9,     70.8,2,    99.73,2,    37.84,2,     0.00,2,     2.73,2,   2300.9,2,   2317.1,2,   7.3861,4,    25.00,      135
  49UF20110617,  PR02,  3020,  1,     10,  21969,2,20110621,0108, 28.0063, 136.9832, 4174,    908.3,   4.6785,  34.2646,2,-999.0000,9,     70.5,6,    99.94,6,    37.93,6,     0.00,6,     2.73,6,   2304.4,2,   2327.8,3,   7.3843,4,    25.00,      135
  49UF20110617,  PR02,  3020,  1,      9,  21968,2,20110621,0108, 28.0063, 136.9832, 4174,   1009.4,   4.0625,  34.3119,2,-999.0000,9,     60.2,2,   112.59,2,    39.61,2,     0.00,2,     2.85,2,   2318.9,2,   2313.2,3,   7.3845,4,    25.00,      132
  49UF20110617,  PR02,  3020,  1,      8,  21967,2,20110621,0108, 28.0063, 136.9832, 4174,   1213.2,   3.2510,  34.4234,2,-999.0000,9,     59.9,2,   130.65,2,    40.81,2,     0.00,2,     2.92,2,   2347.3,2,   2363.4,2,   7.3648,4,    25.00,      128
  49UF20110617,  PR02,  3020,  1,      7,  21966,3,20110621,0108, 28.0063, 136.9832, 4174,   1413.7,   2.7390,  34.4961,2,-999.0000,9,     70.3,2,   140.40,2,    40.72,2,     0.00,2,     2.91,2,   2357.1,2,   2375.5,2,   7.3916,4,    25.00,      123
  49UF20110617,  PR02,  3020,  1,      3,  21962,2,20110621,0108, 28.0063, 136.9832, 4174,   1617.5,   2.3702,  34.5486,2,-999.0000,9,     84.4,2,   144.68,2,    40.00,2,     0.00,2,     2.84,2,   2353.6,6,   2388.5,6,   7.4187,4,    25.00,      118
  49UF20110617,  PR02,  3020,  1,      2,  21961,2,20110621,0108, 28.0063, 136.9832, 4174,   1821.6,   2.1318,  34.5814,2,-999.0000,9,     95.4,2,   147.02,2,    39.51,2,     0.00,2,     2.80,2,   2350.4,2,   2391.2,2,   7.4366,4,    25.00,      113
  49UF20110617,  PR02,  3020,  1,      1,  21960,2,20110621,0108, 28.0063, 136.9832, 4174,   2027.4,   1.9508,  34.6111,2,-999.0000,9,    112.1,2,   145.59,2,    38.50,2,     0.00,2,     2.72,2,   2348.1,2,   2395.2,2,   7.4611,4,    25.00,      108
  49UF20110617,  PR02,  3021,  1,     99,     99,2,20110621,0738, 27.0123, 137.0120, 4810,      0.0,  29.7230,  34.9461,2,-999.0000,9,    195.7,2,     1.01,2,     0.00,2,     0.00,2,     0.02,2,   -999.0,9,   -999.0,9,-999.0000,9,  -999.00,      822
  49UF20110617,  PR02,  3021,  1,     36,  21995,2,20110621,0738, 27.0123, 137.0120, 4810,     11.5,  29.4835,  34.9452,2,-999.0000,9,    197.0,2,     1.03,2,     0.04,2,     0.00,2,     0.01,2,   -999.0,9,   -999.0,9,-999.0000,9,  -999.00,      834
  49UF20110617,  PR02,  3021,  1,     35,  21994,2,20110621,0738, 27.0123, 137.0120, 4810,     26.6,  26.5939,  34.9853,2,-999.0000,9,    212.6,2,     1.05,2,     0.02,2,     0.00,2,     0.01,2,   -999.0,9,   -999.0,9,-999.0000,9,  -999.00,      833
  49UF20110617,  PR02,  3021,  1,     34,  21993,2,20110621,0738, 27.0123, 137.0120, 4810,     51.1,  23.1320,  34.9236,2,-999.0000,9,    224.3,2,     1.36,2,     0.05,2,     0.00,2,     0.01,2,   -999.0,9,   -999.0,9,-999.0000,9,  -999.00,      829
  49UF20110617,  PR02,  3021,  1,     30,  21989,2,20110621,0738, 27.0123, 137.0120, 4810,     75.7,  21.8105,  34.9051,2,-999.0000,9,    226.3,2,     1.48,2,     0.03,2,     0.00,2,     0.00,2,   -999.0,9,   -999.0,9,-999.0000,9,  -999.00,      828
  49UF20110617,  PR02,  3021,  1,     29,  21988,2,20110621,0738, 27.0123, 137.0120, 4810,     99.6,  20.8402,  34.8488,2,-999.0000,9,    225.1,2,     1.63,2,     0.01,2,     0.00,2,     0.01,2,   -999.0,9,   -999.0,9,-999.0000,9,  -999.00,      827
  49UF20110617,  PR02,  3021,  1,     28,  21987,2,20110621,0738, 27.0123, 137.0120, 4810,    126.7,  20.0779,  34.8266,2,-999.0000,9,    226.8,2,     1.81,2,     0.01,2,     0.00,2,     0.02,2,   -999.0,9,   -999.0,9,-999.0000,9,  -999.00,      825
  49UF20110617,  PR02,  3021,  1,     27,  21986,2,20110621,0738, 27.0123, 137.0120, 4810,    150.6,  19.5525,  34.8129,2,-999.0000,9,    221.3,2,     1.92,2,     0.37,2,     0.14,2,     0.06,2,   -999.0,9,   -999.0,9,-999.0000,9,  -999.00,      824
  49UF20110617,  PR02,  3021,  1,     26,  21985,2,20110621,0738, 27.0123, 137.0120, 4810,    202.1,  18.8497,  34.7668,2,-999.0000,9,    211.7,2,     2.60,2,     2.32,2,     0.03,2,     0.16,2,   -999.0,9,   -999.0,9,-999.0000,9,  -999.00,      822
  49UF20110617,  PR02,  3021,  1,     25,  21984,2,20110621,0738, 27.0123, 137.0120, 4810,    253.0,  18.1758,  34.7302,2,-999.0000,9,    200.3,2,     3.72,2,     4.20,2,     0.01,2,     0.28,2,   -999.0,9,   -999.0,9,-999.0000,9,  -999.00,      821
  49UF20110617,  PR02,  3021,  1,     21,  21980,2,20110621,0738, 27.0123, 137.0120, 4810,    304.7,  17.3556,  34.7003,2,-999.0000,9,    194.0,2,     5.07,2,     5.92,2,     0.00,2,     0.39,2,   -999.0,9,   -999.0,9,-999.0000,9,  -999.00,      819
  49UF20110617,  PR02,  3021,  1,     20,  21979,2,20110621,0738, 27.0123, 137.0120, 4810,    407.6,  14.9400,  34.5741,2,-999.0000,9,    182.1,2,    11.37,2,    10.65,2,     0.00,2,     0.73,2,   -999.0,9,   -999.0,9,-999.0000,9,  -999.00,      816
  49UF20110617,  PR02,  3021,  1,     19,  21978,2,20110621,0738, 27.0123, 137.0120, 4810,    503.5,  12.3891,  34.4021,2,-999.0000,9,    175.2,2,    20.42,2,    15.42,2,     0.00,2,     1.09,2,   -999.0,9,   -999.0,9,-999.0000,9,  -999.00,      813
  49UF20110617,  PR02,  3021,  1,     15,  21974,2,20110621,0738, 27.0123, 137.0120, 4810,    605.7,   9.5703,  34.2346,2,-999.0000,9,    156.7,6,    36.16,6,    21.97,6,     0.00,6,     1.57,6,   -999.0,9,   -999.0,9,-999.0000,9,  -999.00,      811
  49UF20110617,  PR02,  3021,  1,     14,  21973,2,20110621,0738, 27.0123, 137.0120, 4810,    706.8,   6.9501,  34.1467,2,-999.0000,9,    121.7,2,    60.10,2,    29.70,2,     0.00,2,     2.14,2,   -999.0,9,   -999.0,9,-999.0000,9,  -999.00,      808
  49UF20110617,  PR02,  3021,  1,     13,  21972,2,20110621,0738, 27.0123, 137.0120, 4810,    808.6,   5.7723,  34.1636,2,-999.0000,9,     95.9,2,    77.24,2,    33.94,2,     0.00,2,     2.45,2,   -999.0,9,   -999.0,9,-999.0000,9,  -999.00,      805
  49UF20110617,  PR02,  3021,  1,     12,  21971,2,20110621,0738, 27.0123, 137.0120, 4810,    808.6,   5.7723,  34.1636,2,-999.0000,9,     96.2,6,    77.02,6,    33.94,6,     0.00,6,     2.46,6,   -999.0,9,   -999.0,9,-999.0000,9,  -999.00,      805
  49UF20110617,  PR02,  3021,  1,     11,  21970,2,20110621,0738, 27.0123, 137.0120, 4810,    913.4,   4.6368,  34.2543,2,-999.0000,9,     70.2,2,    99.80,2,    37.98,2,     0.00,2,     2.74,2,   -999.0,9,   -999.0,9,-999.0000,9,  -999.00,      802
  49UF20110617,  PR02,  3021,  1,     10,  21969,2,20110621,0738, 27.0123, 137.0120, 4810,   1012.8,   3.8540,  34.3326,2,-999.0000,9,     58.0,2,   116.90,2,    40.23,2,     0.00,2,     2.88,2,   -999.0,9,   -999.0,9,-999.0000,9,  -999.00,      759
  49UF20110617,  PR02,  3021,  1,      9,  21968,2,20110621,0738, 27.0123, 137.0120, 4810,   1210.2,   3.1794,  34.4265,2,-999.0000,9,     57.0,2,   132.26,2,    40.94,2,     0.00,2,     2.94,2,   -999.0,9,   -999.0,9,-999.0000,9,  -999.00,      755
  49UF20110617,  PR02,  3021,  1,      8,  21967,2,20110621,0738, 27.0123, 137.0120, 4810,   1210.2,   3.1794,  34.4265,2,-999.0000,9,     57.5,6,   132.67,6,    40.95,6,     0.00,6,     2.94,6,   -999.0,9,   -999.0,9,-999.0000,9,  -999.00,      755
  49UF20110617,  PR02,  3021,  1,      7,  21966,2,20110621,0738, 27.0123, 137.0120, 4810,   1415.4,   2.6554,  34.5078,2,-999.0000,9,     72.3,2,   140.46,2,    40.45,2,     0.00,2,     2.88,2,   -999.0,9,   -999.0,9,-999.0000,9,  -999.00,      751
  49UF20110617,  PR02,  3021,  1,      3,  21962,2,20110621,0738, 27.0123, 137.0120, 4810,   1619.2,   2.2919,  34.5590,2,-999.0000,9,     88.4,2,   145.07,2,    39.70,2,     0.00,2,     2.82,2,   -999.0,9,   -999.0,9,-999.0000,9,  -999.00,      747
  49UF20110617,  PR02,  3021,  1,      2,  21961,2,20110621,0738, 27.0123, 137.0120, 4810,   1818.4,   2.1270,  34.5848,2,-999.0000,9,     99.5,2,   145.39,2,    39.10,2,     0.00,2,     2.77,2,   -999.0,9,   -999.0,9,-999.0000,9,  -999.00,      743
  49UF20110617,  PR02,  3021,  1,      1,  21960,2,20110621,0738, 27.0123, 137.0120, 4810,   2020.5,   1.9663,  34.6101,2,-999.0000,9,    111.9,2,   144.73,2,    38.33,2,     0.00,2,     2.72,2,   -999.0,9,   -999.0,9,-999.0000,9,  -999.00,      738