BOTTLE,20190925PRINUNIVRMK
EXPOCODE,SECT_ID,STNNBR,CASTNO,SAMPNO,BTLNBR,BTLNBR_FLAG_W,DATE,TIME,LATITUDE,LONGITUDE,DEPTH,CTDPRS,CTDTMP,CTDSAL,CTDSAL_FLAG_W,SALNTY,SALNTY_FLAG_W,OXYGEN,OXYGEN_FLAG_W,SILCAT,SILCAT_FLAG_W,NITRAT,NITRAT_FLAG_W,NITRIT,NITRIT_FLAG_W,PHSPHT,PHSPHT_FLAG_W,TCARBN,TCARBN_FLAG_W,ALKALI,ALKALI_FLAG_W,PH_TOT,PH_TOT_FLAG_W,PH_TMP,BTL_TIME
,,,,,,,,,,,METERS,DBAR,ITS-90,PSS-78,,PSS-78,,UMOL/KG,,UMOL/KG,,UMOL/KG,,UMOL/KG,,UMOL/KG,,UMOL/KG,,UMOL/KG,,,,DEG C,
  49UF20100108,KS1001,  2584,  1,     99,     99,2,20100205,1225, -4.9963, 165.0272, 2436,      0.0,  29.0212,  34.6970,2,-999.0000,9,    199.0,2,     0.93,2,     0.00,2,     0.00,2,     0.13,2,   -999.0,9,   -999.0,9,-999.0000,9,  -999.00,     1245
  49UF20100108,KS1001,  2584,  1,     23,  16029,2,20100205,1225, -4.9963, 165.0272, 2436,     10.5,  29.0320,  34.6950,2,  34.6957,2,    198.0,2,     0.88,2,     0.00,2,     0.00,2,     0.14,2,   -999.0,9,   -999.0,9,-999.0000,9,  -999.00,     1328
  49UF20100108,KS1001,  2584,  1,     22,  16028,2,20100205,1225, -4.9963, 165.0272, 2436,     25.6,  29.0354,  34.6926,2,-999.0000,9,    199.0,2,     0.99,2,     0.00,2,     0.00,2,     0.14,2,   -999.0,9,   -999.0,9,-999.0000,9,  -999.00,     1319
  49UF20100108,KS1001,  2584,  1,     21,  16027,2,20100205,1225, -4.9963, 165.0272, 2436,     49.7,  29.0592,  34.7092,2,-999.0000,9,    200.0,2,     0.94,2,     0.00,2,     0.00,2,     0.16,2,   -999.0,9,   -999.0,9,-999.0000,9,  -999.00,     1316
  49UF20100108,KS1001,  2584,  1,     20,  16026,2,20100205,1225, -4.9963, 165.0272, 2436,     74.8,  28.8944,  35.5692,2,-999.0000,9,    176.0,2,     1.78,2,     3.22,2,     1.58,2,     0.51,2,   -999.0,9,   -999.0,9,-999.0000,9,  -999.00,     1315
  49UF20100108,KS1001,  2584,  1,     19,  19378,2,20100205,1225, -4.9963, 165.0272, 2436,    102.6,  27.4701,  35.6682,2,  35.6640,2,    157.0,2,     2.07,2,     7.16,2,     0.74,2,     0.69,2,   -999.0,9,   -999.0,9,-999.0000,9,  -999.00,     1314
  49UF20100108,KS1001,  2584,  1,     18,  19377,2,20100205,1225, -4.9963, 165.0272, 2436,    127.7,  26.0736,  35.8967,2,-999.0000,9,    141.0,2,     1.83,2,     7.96,2,     0.04,2,     0.71,2,   -999.0,9,   -999.0,9,-999.0000,9,  -999.00,     1313
  49UF20100108,KS1001,  2584,  1,     17,  16023,2,20100205,1225, -4.9963, 165.0272, 2436,    153.5,  23.5710,  36.0150,2,-999.0000,9,    136.0,2,     1.98,2,     8.48,2,     0.02,2,     0.78,2,   -999.0,9,   -999.0,9,-999.0000,9,  -999.00,     1312
  49UF20100108,KS1001,  2584,  1,     15,  16021,2,20100205,1225, -4.9963, 165.0272, 2436,    204.5,  14.0599,  35.1056,2,  35.1605,4,    105.0,2,    10.46,2,    19.70,2,     0.00,2,     1.51,2,   -999.0,9,   -999.0,9,-999.0000,9,  -999.00,     1310
  49UF20100108,KS1001,  2584,  1,     16,  16022,2,20100205,1225, -4.9963, 165.0272, 2436,    206.4,  13.8491,  35.0830,2,  35.1410,2,    104.0,2,    10.90,2,    20.20,2,     0.00,2,     1.53,2,   -999.0,9,   -999.0,9,-999.0000,9,  -999.00,     1310
  49UF20100108,KS1001,  2584,  1,     14,  16020,4,20100205,1225, -4.9963, 165.0272, 2436,    251.1,  10.8536,  34.8176,2,-999.0000,9,    141.0,4,     3.21,4,     4.69,4,     0.11,4,     0.48,4,   -999.0,9,   -999.0,9,-999.0000,9,  -999.00,     1308
  49UF20100108,KS1001,  2584,  1,     13,  16019,2,20100205,1225, -4.9963, 165.0272, 2436,    303.8,   9.7536,  34.7188,2,  34.7221,2,    141.0,2,    19.29,2,    24.80,2,     0.00,2,     1.73,2,   -999.0,9,   -999.0,9,-999.0000,9,  -999.00,     1307
  49UF20100108,KS1001,  2584,  1,     12,  16018,2,20100205,1225, -4.9963, 165.0272, 2436,    405.7,   8.9271,  34.6604,2,  34.6606,2,    126.0,2,    23.58,2,    28.20,2,     0.00,2,     1.95,2,   -999.0,9,   -999.0,9,-999.0000,9,  -999.00,     1304
  49UF20100108,KS1001,  2584,  1,     11,  16017,2,20100205,1225, -4.9963, 165.0272, 2436,    506.5,   8.2408,  34.6100,2,  34.6114,2,    142.0,2,    24.11,2,    28.00,2,     0.00,2,     1.95,2,   -999.0,9,   -999.0,9,-999.0000,9,  -999.00,     1302
  49UF20100108,KS1001,  2584,  1,     10,  19375,2,20100205,1225, -4.9963, 165.0272, 2436,    604.8,   7.1387,  34.5595,2,  34.5603,2,    114.0,2,    35.34,2,    33.00,2,     0.00,2,     2.30,2,   -999.0,9,   -999.0,9,-999.0000,9,  -999.00,     1259
  49UF20100108,KS1001,  2584,  1,      9,  16015,2,20100205,1225, -4.9963, 165.0272, 2436,    706.0,   6.3578,  34.5357,2,  34.5360,2,    113.0,2,    43.28,2,    34.70,2,     0.00,2,     2.42,2,   -999.0,9,   -999.0,9,-999.0000,9,  -999.00,     1257
  49UF20100108,KS1001,  2584,  1,      8,  16014,2,20100205,1225, -4.9963, 165.0272, 2436,    807.6,   5.6300,  34.5148,2,  34.5144,2,    129.0,2,    49.43,2,    34.10,2,     0.00,2,     2.40,2,   -999.0,9,   -999.0,9,-999.0000,9,  -999.00,     1254
  49UF20100108,KS1001,  2584,  1,      6,  16012,2,20100205,1225, -4.9963, 165.0272, 2436,    909.5,   5.2246,  34.5248,2,  34.5265,2,    115.0,2,    59.54,2,    36.30,2,     0.00,2,     2.54,2,   -999.0,9,   -999.0,9,-999.0000,9,  -999.00,     1251
  49UF20100108,KS1001,  2584,  1,      7,  19374,2,20100205,1225, -4.9963, 165.0272, 2436,    911.2,   5.2206,  34.5248,2,  34.5146,4,    115.0,2,    49.42,3,    34.30,2,     0.00,2,     2.39,2,   -999.0,9,   -999.0,9,-999.0000,9,  -999.00,     1252
  49UF20100108,KS1001,  2584,  1,      5,  16011,2,20100205,1225, -4.9963, 165.0272, 2436,   1008.3,   4.7190,  34.5286,2,  34.5278,2,    120.0,2,    67.17,2,    36.30,2,     0.00,2,     2.56,2,   -999.0,9,   -999.0,9,-999.0000,9,  -999.00,     1249
  49UF20100108,KS1001,  2584,  1,      4,  16010,2,20100205,1225, -4.9963, 165.0272, 2436,   1260.9,   3.5214,  34.5711,2,  34.5698,2,    115.0,2,    94.75,2,    37.60,2,     0.00,2,     2.68,2,   -999.0,9,   -999.0,9,-999.0000,9,  -999.00,     1243
  49UF20100108,KS1001,  2584,  1,      3,  16009,2,20100205,1225, -4.9963, 165.0272, 2436,   1512.1,   2.9017,  34.5999,2,  34.5995,2,    118.0,2,   109.44,2,    38.10,2,     0.00,2,     2.68,2,   -999.0,9,   -999.0,9,-999.0000,9,  -999.00,     1238
  49UF20100108,KS1001,  2584,  1,      2,  16008,2,20100205,1225, -4.9963, 165.0272, 2436,   1764.6,   2.4554,  34.6240,2,  34.6234,2,    124.0,2,   119.80,2,    37.40,2,     0.00,2,     2.65,2,   -999.0,9,   -999.0,9,-999.0000,9,  -999.00,     1233
  49UF20100108,KS1001,  2584,  1,      1,  16007,2,20100205,1225, -4.9963, 165.0272, 2436,   2027.9,   2.1324,  34.6425,2,  34.6415,2,    132.0,2,   126.55,2,    37.10,2,     0.00,2,     2.61,2,   -999.0,9,   -999.0,9,-999.0000,9,  -999.00,     1225
  49UF20100108,KS1001,  2585,  1,     99,     99,2,20100208,0604, -0.0235, 163.0087, 4452,      0.0,  29.3522,  34.1749,2,-999.0000,9,    198.0,2,     0.92,2,     0.00,2,     0.00,2,     0.04,2,   -999.0,9,   -999.0,9,-999.0000,9,  -999.00,      646
  49UF20100108,KS1001,  2585,  1,     24,  16030,2,20100208,0604, -0.0235, 163.0087, 4452,     11.3,  29.3576,  34.1736,2,-999.0000,9,    193.0,2,     0.89,2,     0.00,2,     0.00,2,     0.06,2,   1888.6,2,   2251.2,2,   8.1268,2,    25.00,      709
  49UF20100108,KS1001,  2585,  1,     23,  16029,2,20100208,0604, -0.0235, 163.0087, 4452,     22.0,  29.3547,  34.1730,2,-999.0000,9,    199.0,2,     0.91,2,     0.00,2,     0.00,2,     0.04,2,   1893.0,2,   2251.7,2,   8.1226,2,    25.00,      706
  49UF20100108,KS1001,  2585,  1,     22,  16028,2,20100208,0604, -0.0235, 163.0087, 4452,     31.5,  29.3590,  34.1736,2,-999.0000,9,    199.0,2,     0.93,2,     0.00,2,     0.00,2,     0.04,2,   1897.3,2,   2253.0,2,   8.1261,2,    25.00,      704
  49UF20100108,KS1001,  2585,  1,     21,  16027,2,20100208,0604, -0.0235, 163.0087, 4452,     40.3,  29.3531,  34.1760,2,-999.0000,9,    199.0,2,     0.86,2,     0.00,2,     0.00,2,     0.04,2,   1897.4,2,   2251.7,2,   8.1225,2,    25.00,      703
  49UF20100108,KS1001,  2585,  1,     20,  16026,2,20100208,0604, -0.0235, 163.0087, 4452,     50.7,  29.3333,  34.1803,2,-999.0000,9,    199.0,2,     0.83,2,     0.00,2,     0.00,2,     0.06,2,   1898.5,2,   2253.8,2,   8.1255,2,    25.00,      702
  49UF20100108,KS1001,  2585,  1,     19,  19378,2,20100208,0604, -0.0235, 163.0087, 4452,     62.1,  29.3348,  34.1816,2,-999.0000,9,    198.0,2,     0.85,2,     0.10,2,     0.00,2,     0.06,2,   1891.2,2,   2255.3,2,   8.1224,2,    25.00,      658
  49UF20100108,KS1001,  2585,  1,     18,  19377,2,20100208,0604, -0.0235, 163.0087, 4452,     81.9,  29.3405,  34.2419,2,-999.0000,9,    197.0,2,     0.82,2,     0.10,2,     0.00,2,     0.06,2,   1895.7,2,   2257.9,2,   8.1202,2,    25.00,      657
  49UF20100108,KS1001,  2585,  1,     17,  16023,2,20100208,0604, -0.0235, 163.0087, 4452,    101.3,  24.9250,  35.3030,2,-999.0000,9,    148.0,2,     3.34,2,     7.61,2,     0.09,2,     0.64,2,   2045.0,2,   2322.0,2,   7.9590,2,    25.00,      656
  49UF20100108,KS1001,  2585,  1,     16,  16022,2,20100208,0604, -0.0235, 163.0087, 4452,    121.9,  21.9806,  35.3246,2,-999.0000,9,    137.0,2,     4.93,2,    10.09,2,     0.01,2,     0.79,2,   2079.4,2,   2327.3,2,   7.9015,2,    25.00,      655
  49UF20100108,KS1001,  2585,  1,     15,  16021,2,20100208,0604, -0.0235, 163.0087, 4452,    142.0,  19.8391,  35.2849,2,-999.0000,9,    137.0,2,     6.47,2,    11.49,2,     0.01,2,     0.87,2,   2092.3,2,   2325.5,2,   7.8702,2,    25.00,      653
  49UF20100108,KS1001,  2585,  1,     14,  16020,2,20100208,0604, -0.0235, 163.0087, 4452,    164.0,  18.7260,  35.1482,2,-999.0000,9,    139.0,2,     8.35,2,    12.29,2,     0.01,2,     0.92,2,   2093.3,2,   2320.6,2,   7.8530,2,    25.00,      652
  49UF20100108,KS1001,  2585,  1,     13,  16019,2,20100208,0604, -0.0235, 163.0087, 4452,    184.0,  17.0504,  35.1565,2,-999.0000,9,    138.0,2,     9.84,2,    13.99,2,     0.01,2,     1.04,2,   2106.3,2,   2322.0,2,   7.8282,2,    25.00,      651
  49UF20100108,KS1001,  2585,  1,     12,  16018,2,20100208,0604, -0.0235, 163.0087, 4452,    203.1,  15.0370,  35.0419,2,-999.0000,9,    142.0,2,    12.02,2,    15.99,2,     0.01,2,     1.17,2,   2122.3,2,   2315.1,2,   7.7893,2,    25.00,      649
  49UF20100108,KS1001,  2585,  1,     11,  16017,2,20100208,0604, -0.0235, 163.0087, 4452,    228.7,  13.4219,  34.9558,2,-999.0000,9,    143.0,2,    13.81,2,    18.30,2,     0.00,2,     1.31,2,   2138.2,2,   2316.0,2,   7.7575,2,    25.00,      648
  49UF20100108,KS1001,  2585,  1,     10,  19375,2,20100208,0604, -0.0235, 163.0087, 4452,    254.0,  12.6168,  34.8929,2,-999.0000,9,    139.0,2,    16.52,2,    19.80,2,     0.00,2,     1.44,2,   2147.2,2,   2316.6,2,   7.7294,2,    25.00,      646
  49UF20100108,KS1001,  2585,  1,      9,  16015,2,20100208,0604, -0.0235, 163.0087, 4452,    305.8,  11.5487,  34.8111,2,-999.0000,9,    112.0,2,    20.66,2,    24.10,2,     0.00,2,     1.69,2,   2174.5,2,   2307.9,2,   7.6628,2,    25.00,      644
  49UF20100108,KS1001,  2585,  1,      8,  16014,2,20100208,0604, -0.0235, 163.0087, 4452,    406.3,   9.6116,  34.6937,2,-999.0000,9,     69.0,2,    29.84,2,    32.40,2,     0.00,2,     2.24,2,   2228.1,2,   2306.7,2,   7.5306,6,    25.00,      641
  49UF20100108,KS1001,  2585,  1,      7,  19374,2,20100208,0604, -0.0235, 163.0087, 4452,    507.8,   7.8647,  34.6040,2,-999.0000,9,     76.0,2,    38.40,2,    35.50,2,     0.00,2,     2.44,2,   -999.0,9,   -999.0,9,-999.0000,9,  -999.00,      638
  49UF20100108,KS1001,  2585,  1,      6,  16012,2,20100208,0604, -0.0235, 163.0087, 4452,    606.9,   6.8868,  34.5660,2,-999.0000,9,     80.0,2,    46.16,2,    36.90,2,     0.00,2,     2.58,2,   -999.0,9,   -999.0,9,-999.0000,9,  -999.00,      635
  49UF20100108,KS1001,  2585,  1,      5,  16011,2,20100208,0604, -0.0235, 163.0087, 4452,    808.4,   5.7486,  34.5391,2,-999.0000,9,     95.0,2,    58.23,2,    37.10,2,     0.00,2,     2.63,2,   -999.0,9,   -999.0,9,-999.0000,9,  -999.00,      630
  49UF20100108,KS1001,  2585,  1,      4,  16010,2,20100208,0604, -0.0235, 163.0087, 4452,   1010.5,   4.5248,  34.5517,2,-999.0000,9,     98.0,2,    81.05,2,    38.70,2,     0.00,2,     2.74,2,   -999.0,9,   -999.0,9,-999.0000,9,  -999.00,      625
  49UF20100108,KS1001,  2585,  1,      3,  16009,2,20100208,0604, -0.0235, 163.0087, 4452,   1262.7,   3.7177,  34.5752,2,-999.0000,9,     97.0,2,    99.25,2,    39.10,2,     0.00,2,     2.79,2,   -999.0,9,   -999.0,9,-999.0000,9,  -999.00,      619
  49UF20100108,KS1001,  2585,  1,      2,  16008,2,20100208,0604, -0.0235, 163.0087, 4452,   1513.0,   2.9814,  34.6028,2,-999.0000,9,    104.0,2,   115.15,2,    39.00,2,     0.00,2,     2.77,2,   -999.0,9,   -999.0,9,-999.0000,9,  -999.00,      614
  49UF20100108,KS1001,  2585,  1,      1,  16007,2,20100208,0604, -0.0235, 163.0087, 4452,   2025.9,   2.2855,  34.6353,2,-999.0000,9,    121.0,2,   128.79,2,    38.10,2,     0.00,2,     2.69,2,   -999.0,9,   -999.0,9,-999.0000,9,  -999.00,      604
  49UF20100108,KS1001,  2586,  1,     99,     99,2,20100208,1757, -0.0127, 161.0045, 3399,      0.0,  29.2934,  34.2399,2,-999.0000,9,    190.0,2,     0.88,2,     0.00,2,     0.00,2,     0.03,2,   -999.0,9,   -999.0,9,-999.0000,9,  -999.00,     1837
  49UF20100108,KS1001,  2586,  1,     24,  16030,2,20100208,1757, -0.0127, 161.0045, 3399,     11.4,  29.3013,  34.2397,2,-999.0000,9,    199.0,2,     0.89,2,     0.00,2,     0.00,2,     0.03,2,   1901.8,2,   2256.0,2,   8.1244,2,    25.00,     1858
  49UF20100108,KS1001,  2586,  1,     23,  16029,2,20100208,1757, -0.0127, 161.0045, 3399,     20.7,  29.2999,  34.2358,2,-999.0000,9,    198.0,2,     0.94,2,     0.00,2,     0.00,2,     0.02,2,   1902.9,2,   2256.3,2,   8.1287,2,    25.00,     1857
  49UF20100108,KS1001,  2586,  1,     22,  16028,2,20100208,1757, -0.0127, 161.0045, 3399,     30.8,  29.2981,  34.2346,2,-999.0000,9,    207.0,4,     0.95,2,     0.00,2,     0.00,2,     0.03,2,   1902.1,2,   2258.0,2,   8.1267,2,    25.00,     1856
  49UF20100108,KS1001,  2586,  1,     21,  16027,2,20100208,1757, -0.0127, 161.0045, 3399,     40.9,  29.3039,  34.2365,2,-999.0000,9,    199.0,2,     1.00,2,     0.00,2,     0.00,2,     0.03,2,   1900.6,2,   2256.7,2,   8.1262,2,    25.00,     1854
  49UF20100108,KS1001,  2586,  1,     20,  16026,2,20100208,1757, -0.0127, 161.0045, 3399,     51.9,  29.3100,  34.2361,2,-999.0000,9,    199.0,2,     0.95,2,     0.00,2,     0.00,2,     0.06,2,   1900.3,2,   2257.8,2,   8.1256,2,    25.00,     1853
  49UF20100108,KS1001,  2586,  1,     19,  19378,2,20100208,1757, -0.0127, 161.0045, 3399,     61.6,  29.3169,  34.2403,2,-999.0000,9,    198.0,2,     0.96,2,     0.00,2,     0.00,2,     0.03,2,   1902.4,2,   2260.4,2,   8.1271,2,    25.00,     1850
  49UF20100108,KS1001,  2586,  1,     18,  19377,2,20100208,1757, -0.0127, 161.0045, 3399,     82.2,  29.3364,  34.2645,2,-999.0000,9,    198.0,2,     0.91,2,     0.00,2,     0.00,2,     0.04,2,   1901.7,2,   2258.8,2,   8.1227,2,    25.00,     1848
  49UF20100108,KS1001,  2586,  1,     17,  16023,2,20100208,1757, -0.0127, 161.0045, 3399,    100.8,  28.0151,  35.2612,2,-999.0000,9,    169.0,2,     1.98,2,     3.93,2,     0.47,2,     0.46,2,   2010.2,2,   2325.0,2,   8.0300,2,    25.00,     1847
  49UF20100108,KS1001,  2586,  1,     16,  16022,2,20100208,1757, -0.0127, 161.0045, 3399,    121.3,  23.0497,  35.3706,2,-999.0000,9,    136.0,2,     4.38,2,     9.57,2,     0.03,2,     0.76,2,   2077.6,2,   2331.8,2,   7.9152,2,    25.00,     1846
  49UF20100108,KS1001,  2586,  1,     15,  16021,2,20100208,1757, -0.0127, 161.0045, 3399,    141.8,  21.5518,  35.4132,2,-999.0000,9,    135.0,2,     4.96,2,    10.18,2,     0.02,2,     0.81,2,   2094.1,2,   2334.3,2,   7.9003,2,    25.00,     1845
  49UF20100108,KS1001,  2586,  1,     14,  16020,2,20100208,1757, -0.0127, 161.0045, 3399,    162.2,  19.7475,  35.3501,2,-999.0000,9,    136.0,2,     5.89,2,    11.49,2,     0.01,2,     0.89,2,   2107.2,2,   2328.8,2,   7.8692,2,    25.00,     1844
  49UF20100108,KS1001,  2586,  1,     13,  16019,2,20100208,1757, -0.0127, 161.0045, 3399,    181.9,  17.7011,  35.1449,2,-999.0000,9,    139.0,2,     9.31,2,    13.28,2,     0.02,2,     1.00,2,   2109.8,2,   2319.9,2,   7.8371,2,    25.00,     1842
  49UF20100108,KS1001,  2586,  1,     12,  16018,2,20100208,1757, -0.0127, 161.0045, 3399,    202.3,  15.3408,  35.0871,2,-999.0000,9,    143.0,2,    10.92,2,    15.19,2,     0.01,2,     1.14,2,   2126.3,2,   2321.7,2,   7.7978,2,    25.00,     1841
  49UF20100108,KS1001,  2586,  1,     11,  16017,2,20100208,1757, -0.0127, 161.0045, 3399,    227.6,  12.8623,  34.9193,2,-999.0000,9,    142.0,2,    15.13,2,    19.29,2,     0.01,2,     1.38,2,   2146.1,2,   2314.6,2,   7.7452,2,    25.00,     1840
  49UF20100108,KS1001,  2586,  1,     10,  19375,2,20100208,1757, -0.0127, 161.0045, 3399,    253.0,  12.2710,  34.8809,2,-999.0000,9,    140.0,2,    16.74,2,    20.50,2,     0.00,2,     1.47,2,   2152.6,2,   2313.6,2,   7.7236,2,    25.00,     1838
  49UF20100108,KS1001,  2586,  1,      9,  16015,3,20100208,1757, -0.0127, 161.0045, 3399,    303.6,  11.3374,  34.7910,2,-999.0000,9,     98.0,2,    22.51,2,    26.20,2,     0.00,2,     1.84,2,   2189.6,2,   2306.5,2,   7.6260,2,    25.00,     1837
  49UF20100108,KS1001,  2586,  1,      8,  16014,3,20100208,1757, -0.0127, 161.0045, 3399,    404.4,   9.7393,  34.7051,2,-999.0000,9,     59.0,2,    30.32,2,    33.00,2,     0.00,2,     2.28,2,   2229.5,2,   2310.7,2,   7.5119,3,    25.00,     1834
  49UF20100108,KS1001,  2586,  1,      7,  19374,2,20100208,1757, -0.0127, 161.0045, 3399,    503.9,   7.9329,  34.6050,2,-999.0000,9,     84.0,2,    36.82,2,    34.40,2,     0.00,2,     2.39,2,   -999.0,9,   -999.0,9,-999.0000,9,  -999.00,     1831
  49UF20100108,KS1001,  2586,  1,      6,  16012,2,20100208,1757, -0.0127, 161.0045, 3399,    606.1,   6.9293,  34.5622,2,-999.0000,9,     87.0,2,    44.74,2,    35.70,2,     0.00,2,     2.52,2,   -999.0,9,   -999.0,9,-999.0000,9,  -999.00,     1828
  49UF20100108,KS1001,  2586,  1,      5,  16011,2,20100208,1757, -0.0127, 161.0045, 3399,    807.3,   5.3094,  34.5386,2,-999.0000,9,     98.0,2,    64.49,2,    37.50,2,     0.00,2,     2.65,2,   -999.0,9,   -999.0,9,-999.0000,9,  -999.00,     1823
  49UF20100108,KS1001,  2586,  1,      4,  16010,2,20100208,1757, -0.0127, 161.0045, 3399,   1009.7,   4.5132,  34.5517,2,-999.0000,9,     97.0,2,    81.20,2,    38.40,2,     0.00,2,     2.75,2,   -999.0,9,   -999.0,9,-999.0000,9,  -999.00,     1819
  49UF20100108,KS1001,  2586,  1,      3,  16009,2,20100208,1757, -0.0127, 161.0045, 3399,   1261.3,   3.5177,  34.5793,2,-999.0000,9,    103.0,2,   101.48,2,    38.70,2,     0.00,2,     2.76,2,   -999.0,9,   -999.0,9,-999.0000,9,  -999.00,     1813
  49UF20100108,KS1001,  2586,  1,      2,  16008,2,20100208,1757, -0.0127, 161.0045, 3399,   1514.8,   2.9513,  34.6033,2,-999.0000,9,    103.0,2,   115.08,2,    39.00,2,     0.00,2,     2.76,2,   -999.0,9,   -999.0,9,-999.0000,9,  -999.00,     1808
  49UF20100108,KS1001,  2586,  1,      1,  16007,2,20100208,1757, -0.0127, 161.0045, 3399,   2028.6,   2.2431,  34.6380,2,-999.0000,9,    120.0,2,   130.64,2,    38.50,2,     0.00,2,     2.70,2,   -999.0,9,   -999.0,9,-999.0000,9,  -999.00,     1757