BOTTLE,20190925PRINUNIVRMK
EXPOCODE,SECT_ID,STNNBR,CASTNO,SAMPNO,BTLNBR,BTLNBR_FLAG_W,DATE,TIME,LATITUDE,LONGITUDE,DEPTH,CTDPRS,CTDTMP,CTDSAL,CTDSAL_FLAG_W,SALNTY,SALNTY_FLAG_W,OXYGEN,OXYGEN_FLAG_W,SILCAT,SILCAT_FLAG_W,NITRAT,NITRAT_FLAG_W,NITRIT,NITRIT_FLAG_W,PHSPHT,PHSPHT_FLAG_W,TCARBN,TCARBN_FLAG_W,ALKALI,ALKALI_FLAG_W,PH_TOT,PH_TOT_FLAG_W,PH_TMP,BTL_TIME
,,,,,,,,,,,METERS,DBAR,ITS-90,PSS-78,,PSS-78,,UMOL/KG,,UMOL/KG,,UMOL/KG,,UMOL/KG,,UMOL/KG,,UMOL/KG,,UMOL/KG,,,,DEG C,
  49UF20100108,KS1001,  2548,  1,     99,     99,2,20100112,0134, 31.0067, 143.9960, 5782,      0.0,  19.5303,  34.6339,2,-999.0000,9,    227.0,2,     1.82,2,     0.41,2,     0.19,2,     0.05,2,   -999.0,9,   -999.0,9,-999.0000,9,  -999.00,      219
  49UF20100108,KS1001,  2548,  1,     23,  19380,2,20100112,0134, 31.0067, 143.9960, 5782,     10.7,  19.5188,  34.6339,2,  34.6315,2,    228.0,2,     1.77,2,     0.41,2,     0.19,2,     0.04,2,   -999.0,9,   -999.0,9,-999.0000,9,  -999.00,      236
  49UF20100108,KS1001,  2548,  1,     22,  16028,2,20100112,0134, 31.0067, 143.9960, 5782,     25.9,  19.5010,  34.6333,2,-999.0000,9,    227.0,2,     1.76,2,     0.31,2,     0.19,2,     0.04,2,   -999.0,9,   -999.0,9,-999.0000,9,  -999.00,      233
  49UF20100108,KS1001,  2548,  1,     21,  16027,2,20100112,0134, 31.0067, 143.9960, 5782,     51.2,  19.4910,  34.6315,2,-999.0000,9,    226.0,2,     1.91,2,     0.39,2,     0.21,2,     0.04,2,   -999.0,9,   -999.0,9,-999.0000,9,  -999.00,      229
  49UF20100108,KS1001,  2548,  1,     20,  16026,2,20100112,0134, 31.0067, 143.9960, 5782,     76.2,  19.4830,  34.6317,2,-999.0000,9,    227.0,2,     1.91,2,     0.40,2,     0.20,2,     0.05,2,   -999.0,9,   -999.0,9,-999.0000,9,  -999.00,      227
  49UF20100108,KS1001,  2548,  1,     19,  19378,2,20100112,0134, 31.0067, 143.9960, 5782,    101.5,  19.4647,  34.6292,2,  34.6276,2,    226.0,2,     1.91,2,     0.40,2,     0.20,2,     0.05,2,   -999.0,9,   -999.0,9,-999.0000,9,  -999.00,      226
  49UF20100108,KS1001,  2548,  1,     18,  19377,2,20100112,0134, 31.0067, 143.9960, 5782,    126.9,  19.4491,  34.6271,2,-999.0000,9,    226.0,2,     1.91,2,     0.38,2,     0.22,2,     0.05,2,   -999.0,9,   -999.0,9,-999.0000,9,  -999.00,      225
  49UF20100108,KS1001,  2548,  1,     17,  16023,2,20100112,0134, 31.0067, 143.9960, 5782,    152.5,  19.4587,  34.6297,2,-999.0000,9,    226.0,2,     1.95,2,     0.29,2,     0.21,2,     0.06,2,   -999.0,9,   -999.0,9,-999.0000,9,  -999.00,      223
  49UF20100108,KS1001,  2548,  1,     15,  16021,2,20100112,0134, 31.0067, 143.9960, 5782,    202.5,  18.1394,  34.7152,2,  34.7150,2,    207.0,2,     3.33,2,     3.39,2,     0.01,2,     0.22,2,   -999.0,9,   -999.0,9,-999.0000,9,  -999.00,      221
  49UF20100108,KS1001,  2548,  1,     16,  16022,2,20100112,0134, 31.0067, 143.9960, 5782,    202.5,  18.1390,  34.7153,2,  34.7148,2,    208.0,2,     3.35,2,     3.59,2,     0.01,2,     0.23,2,   -999.0,9,   -999.0,9,-999.0000,9,  -999.00,      222
  49UF20100108,KS1001,  2548,  1,     14,  16020,2,20100112,0134, 31.0067, 143.9960, 5782,    252.9,  17.7081,  34.7337,2,-999.0000,9,    204.0,2,     4.07,2,     4.59,2,     0.01,2,     0.30,2,   -999.0,9,   -999.0,9,-999.0000,9,  -999.00,      219
  49UF20100108,KS1001,  2548,  1,     13,  16019,2,20100112,0134, 31.0067, 143.9960, 5782,    303.3,  16.8810,  34.7106,2,  34.7114,2,    197.0,2,     5.85,2,     6.49,2,     0.01,2,     0.42,2,   -999.0,9,   -999.0,9,-999.0000,9,  -999.00,      217
  49UF20100108,KS1001,  2548,  1,     12,  16018,2,20100112,0134, 31.0067, 143.9960, 5782,    404.1,  14.8441,  34.5663,2,  34.5669,2,    193.0,2,     9.96,2,     9.50,2,     0.00,2,     0.65,2,   -999.0,9,   -999.0,9,-999.0000,9,  -999.00,      214
  49UF20100108,KS1001,  2548,  1,     11,  16017,2,20100112,0134, 31.0067, 143.9960, 5782,    505.4,  12.2894,  34.3864,2,  34.3896,2,    198.0,2,    16.74,2,    13.50,2,     0.00,2,     0.93,2,   -999.0,9,   -999.0,9,-999.0000,9,  -999.00,      212
  49UF20100108,KS1001,  2548,  1,     10,  19375,2,20100112,0134, 31.0067, 143.9960, 5782,    606.4,   9.9591,  34.2558,2,  34.2571,2,    168.0,2,    33.33,2,    20.40,2,     0.00,2,     1.45,2,   -999.0,9,   -999.0,9,-999.0000,9,  -999.00,      209
  49UF20100108,KS1001,  2548,  1,      9,  16015,2,20100112,0134, 31.0067, 143.9960, 5782,    706.6,   7.7174,  34.1072,2,  34.1077,2,    156.0,2,    46.80,2,    25.40,2,     0.00,2,     1.82,2,   -999.0,9,   -999.0,9,-999.0000,9,  -999.00,      206
  49UF20100108,KS1001,  2548,  1,      8,  16014,2,20100112,0134, 31.0067, 143.9960, 5782,    807.3,   5.9687,  34.0705,2,  34.0712,2,    125.0,2,    67.11,2,    31.30,2,     0.00,2,     2.27,2,   -999.0,9,   -999.0,9,-999.0000,9,  -999.00,      203
  49UF20100108,KS1001,  2548,  1,      6,  16012,2,20100112,0134, 31.0067, 143.9960, 5782,    908.7,   4.9029,  34.1334,2,  34.1326,2,     86.0,2,    87.77,2,    36.40,2,     0.00,2,     2.63,2,   -999.0,9,   -999.0,9,-999.0000,9,  -999.00,      200
  49UF20100108,KS1001,  2548,  1,      7,  19374,2,20100112,0134, 31.0067, 143.9960, 5782,    909.2,   4.9013,  34.1339,2,  34.1329,2,     86.0,2,    87.26,2,    36.40,2,     0.00,2,     2.62,2,   -999.0,9,   -999.0,9,-999.0000,9,  -999.00,      200
  49UF20100108,KS1001,  2548,  1,      5,  16011,2,20100112,0134, 31.0067, 143.9960, 5782,   1010.3,   4.3503,  34.2057,2,  34.2053,2,     66.0,2,   102.07,2,    38.70,2,     0.00,2,     2.79,2,   -999.0,9,   -999.0,9,-999.0000,9,  -999.00,      157
  49UF20100108,KS1001,  2548,  1,      4,  16010,2,20100112,0134, 31.0067, 143.9960, 5782,   1264.2,   3.2143,  34.3841,2,  34.3828,2,     47.0,2,   132.33,2,    41.80,2,     0.00,2,     2.98,2,   -999.0,9,   -999.0,9,-999.0000,9,  -999.00,      151
  49UF20100108,KS1001,  2548,  1,      3,  16009,2,20100112,0134, 31.0067, 143.9960, 5782,   1517.1,   2.6226,  34.4803,2,  34.4796,2,     41.0,2,   149.46,2,    42.90,2,     0.00,2,     3.04,2,   -999.0,9,   -999.0,9,-999.0000,9,  -999.00,      145
  49UF20100108,KS1001,  2548,  1,      2,  16008,2,20100112,0134, 31.0067, 143.9960, 5782,   1770.5,   2.2771,  34.5469,2,  34.5462,2,     59.0,2,   154.80,2,    42.00,2,     0.00,2,     2.96,2,   -999.0,9,   -999.0,9,-999.0000,9,  -999.00,      140
  49UF20100108,KS1001,  2548,  1,      1,  16007,2,20100112,0134, 31.0067, 143.9960, 5782,   2032.1,   2.0122,  34.5883,2,  34.5876,2,     76.0,2,   158.51,2,    41.10,2,     0.00,2,     2.89,2,   -999.0,9,   -999.0,9,-999.0000,9,  -999.00,      134
  49UF20100108,KS1001,  2554,  1,     99,     99,2,20100117,0510, 24.9940, 165.0045, 5896,      0.0,  23.6451,  35.2356,2,-999.0000,9,    216.0,2,     1.46,2,     0.10,2,     0.00,2,     0.00,2,   -999.0,9,   -999.0,9,-999.0000,9,  -999.00,      548
  49UF20100108,KS1001,  2554,  1,     23,  16029,2,20100117,0510, 24.9940, 165.0045, 5896,     10.8,  23.6148,  35.2373,2,  35.2345,2,    217.0,2,     1.45,2,     0.00,2,     0.00,2,     0.00,2,   1982.6,2,   2312.4,2,-999.0000,9,  -999.00,      603
  49UF20100108,KS1001,  2554,  1,     22,  16028,2,20100117,0510, 24.9940, 165.0045, 5896,     24.5,  23.5797,  35.2380,2,-999.0000,9,    216.0,2,     1.44,2,     0.00,2,     0.00,2,     0.00,2,   1981.9,2,   2313.1,2,-999.0000,9,  -999.00,      602
  49UF20100108,KS1001,  2554,  1,     21,  16027,2,20100117,0510, 24.9940, 165.0045, 5896,     50.8,  23.4014,  35.1961,2,-999.0000,9,    217.0,2,     1.44,2,     0.00,2,     0.00,2,     0.00,2,   1982.8,2,   2312.3,2,-999.0000,9,  -999.00,      559
  49UF20100108,KS1001,  2554,  1,     20,  16026,2,20100117,0510, 24.9940, 165.0045, 5896,     73.8,  23.2994,  35.1708,2,-999.0000,9,    217.0,2,     1.38,2,     0.00,2,     0.00,2,     0.00,2,   1981.2,2,   2314.4,2,-999.0000,9,  -999.00,      558
  49UF20100108,KS1001,  2554,  1,     18,  19377,2,20100117,0510, 24.9940, 165.0045, 5896,    100.4,  20.1858,  34.8480,2,  34.8578,2,    231.0,2,     1.96,2,    -0.01,2,     0.01,2,     0.01,2,   1998.8,2,   2287.9,2,-999.0000,9,  -999.00,      556
  49UF20100108,KS1001,  2554,  1,     19,  19378,2,20100117,0510, 24.9940, 165.0045, 5896,    101.1,  20.1869,  34.8435,2,  34.8530,4,    232.0,2,     1.87,2,     0.09,2,     0.01,2,     0.02,2,   -999.0,9,   -999.0,9,-999.0000,9,  -999.00,      557
  49UF20100108,KS1001,  2554,  1,     17,  16023,2,20100117,0510, 24.9940, 165.0045, 5896,    126.4,  19.0626,  34.8039,2,-999.0000,9,    222.0,2,     2.15,2,     0.08,2,     0.12,2,     0.04,2,   2009.9,2,   2292.3,2,-999.0000,9,  -999.00,      555
  49UF20100108,KS1001,  2554,  1,     16,  16022,2,20100117,0510, 24.9940, 165.0045, 5896,    150.4,  18.4832,  34.8279,2,-999.0000,9,    215.0,2,     2.59,2,     1.39,2,     0.01,2,     0.10,2,   2020.1,2,   2298.2,2,-999.0000,9,  -999.00,      554
  49UF20100108,KS1001,  2554,  1,     15,  16021,2,20100117,0510, 24.9940, 165.0045, 5896,    201.7,  17.0546,  34.6809,2,  34.6817,2,    208.0,2,     4.21,2,     4.80,2,     0.00,2,     0.29,2,   2037.6,2,   2281.1,2,-999.0000,9,  -999.00,      553
  49UF20100108,KS1001,  2554,  1,     14,  16020,2,20100117,0510, 24.9940, 165.0045, 5896,    251.0,  16.1851,  34.6292,2,-999.0000,9,    207.0,2,     5.84,2,     6.50,2,     0.00,2,     0.40,2,   2046.7,2,   2275.3,2,-999.0000,9,  -999.00,      551
  49UF20100108,KS1001,  2554,  1,     13,  16019,2,20100117,0510, 24.9940, 165.0045, 5896,    301.9,  14.9404,  34.5476,2,  34.5484,2,    205.0,2,     7.90,2,     8.20,2,     0.00,2,     0.56,2,   2062.1,2,   2273.6,2,-999.0000,9,  -999.00,      550
  49UF20100108,KS1001,  2554,  1,     12,  16018,2,20100117,0510, 24.9940, 165.0045, 5896,    403.9,  12.4601,  34.3715,2,  34.3751,2,    207.0,2,    13.28,2,    12.10,2,     0.00,2,     0.80,2,   2089.8,2,   2275.8,2,-999.0000,9,  -999.00,      547
  49UF20100108,KS1001,  2554,  1,     11,  16017,2,20100117,0510, 24.9940, 165.0045, 5896,    503.7,   9.6503,  34.1680,2,  34.1680,2,    185.0,2,    26.00,2,    19.20,2,     0.00,2,     1.31,2,   2134.5,2,   2280.5,2,-999.0000,9,  -999.00,      544
  49UF20100108,KS1001,  2554,  1,     10,  19375,2,20100117,0510, 24.9940, 165.0045, 5896,    606.3,   6.8924,  34.0632,2,  34.0642,2,    130.0,2,    52.14,2,    29.00,2,     0.00,2,     2.07,2,   -999.0,9,   -999.0,9,-999.0000,9,  -999.00,      542
  49UF20100108,KS1001,  2554,  1,      9,  16015,2,20100117,0510, 24.9940, 165.0045, 5896,    607.2,   6.8480,  34.0631,2,  34.0636,2,    129.0,2,    52.36,2,    29.30,2,     0.00,2,     2.07,2,   2214.4,2,   2294.2,2,-999.0000,9,  -999.00,      542
  49UF20100108,KS1001,  2554,  1,      8,  16014,2,20100117,0510, 24.9940, 165.0045, 5896,    704.0,   5.4640,  34.1014,2,  34.1020,2,     85.0,2,    74.85,2,    35.50,2,     0.00,2,     2.55,2,   2267.7,2,   2311.8,2,-999.0000,9,  -999.00,      539
  49UF20100108,KS1001,  2554,  1,      7,  19374,2,20100117,0510, 24.9940, 165.0045, 5896,    806.0,   4.6238,  34.2044,2,  34.2070,2,     53.0,4,    94.69,2,    39.50,2,     0.00,2,     2.85,2,   2304.0,2,   2335.6,2,-999.0000,9,  -999.00,      537
  49UF20100108,KS1001,  2554,  1,      6,  16012,2,20100117,0510, 24.9940, 165.0045, 5896,    912.3,   4.0403,  34.3181,2,  34.3174,2,     42.0,2,   109.08,2,    41.50,2,     0.00,2,     2.96,2,   2336.8,2,   2351.4,2,-999.0000,9,  -999.00,      534
  49UF20100108,KS1001,  2554,  1,      5,  16011,2,20100117,0510, 24.9940, 165.0045, 5896,   1011.0,   3.7388,  34.3800,2,  34.3785,2,     42.0,2,   116.77,2,    41.80,2,     0.00,2,     2.99,2,   2349.2,2,   2367.6,2,-999.0000,9,  -999.00,      532
  49UF20100108,KS1001,  2554,  1,      4,  16010,2,20100117,0510, 24.9940, 165.0045, 5896,   1260.9,   3.0338,  34.4980,2,  34.4984,2,     61.0,2,   130.94,2,    41.10,2,     0.00,2,     2.92,2,   2351.3,2,   2386.5,2,-999.0000,9,  -999.00,      526
  49UF20100108,KS1001,  2554,  1,      3,  16009,2,20100117,0510, 24.9940, 165.0045, 5896,   1513.2,   2.4995,  34.5589,2,  34.5587,2,     79.0,2,   140.46,2,    40.50,2,     0.00,2,     2.84,2,   2356.7,2,   2400.8,2,-999.0000,9,  -999.00,      521
  49UF20100108,KS1001,  2554,  1,      2,  16008,2,20100117,0510, 24.9940, 165.0045, 5896,   1771.4,   2.1861,  34.6005,2,  34.6070,4,     96.0,2,   143.87,2,    39.50,2,     0.00,2,     2.78,2,   2350.0,6,   2408.2,6,-999.0000,9,  -999.00,      515
  49UF20100108,KS1001,  2554,  1,      1,  16007,2,20100117,0510, 24.9940, 165.0045, 5896,   2032.9,   1.9617,  34.6241,2,  34.6236,2,    108.0,4,   146.69,2,    38.60,2,     0.00,2,     2.73,2,   2351.3,2,   2412.3,2,-999.0000,9,  -999.00,      510
  49UF20100108,KS1001,  2556,  1,     99,     99,2,20100117,1835, 22.9992, 165.0065, 5806,      0.0,  26.3366,  35.1165,2,-999.0000,9,    207.0,2,     0.46,2,     0.00,2,     0.00,2,     0.01,2,   -999.0,9,   -999.0,9,-999.0000,9,  -999.00,     1903
  49UF20100108,KS1001,  2556,  1,     23,  16029,2,20100117,1835, 22.9992, 165.0065, 5806,     10.1,  26.3397,  35.1161,2,-999.0000,9,    206.0,2,     0.51,2,     0.00,2,     0.00,2,     0.00,2,   -999.0,9,   -999.0,9,-999.0000,9,  -999.00,     1926
  49UF20100108,KS1001,  2556,  1,     22,  16028,2,20100117,1835, 22.9992, 165.0065, 5806,     27.0,  26.3462,  35.1151,2,-999.0000,9,    206.0,2,     0.50,2,     0.00,2,     0.00,2,     0.01,2,   -999.0,9,   -999.0,9,-999.0000,9,  -999.00,     1925
  49UF20100108,KS1001,  2556,  1,     21,  16027,2,20100117,1835, 22.9992, 165.0065, 5806,     47.9,  26.3508,  35.1131,2,-999.0000,9,    206.0,2,     0.75,2,     0.00,2,     0.00,2,     0.02,2,   -999.0,9,   -999.0,9,-999.0000,9,  -999.00,     1922
  49UF20100108,KS1001,  2556,  1,     20,  16026,2,20100117,1835, 22.9992, 165.0065, 5806,     50.7,  26.3514,  35.1131,2,-999.0000,9,    206.0,2,     0.50,2,     0.10,2,     0.00,2,     0.01,2,   -999.0,9,   -999.0,9,-999.0000,9,  -999.00,     1922
  49UF20100108,KS1001,  2556,  1,     19,  19378,2,20100117,1835, 22.9992, 165.0065, 5806,     73.8,  26.2661,  35.1095,2,-999.0000,9,    207.0,2,     0.49,2,     0.00,2,     0.00,2,     0.01,2,   -999.0,9,   -999.0,9,-999.0000,9,  -999.00,     1921
  49UF20100108,KS1001,  2556,  1,     18,  19377,2,20100117,1835, 22.9992, 165.0065, 5806,     98.9,  24.0757,  35.0964,2,-999.0000,9,    216.0,2,     0.93,2,     0.00,2,     0.00,2,     0.00,2,   -999.0,9,   -999.0,9,-999.0000,9,  -999.00,     1920
  49UF20100108,KS1001,  2556,  1,     17,  16023,2,20100117,1835, 22.9992, 165.0065, 5806,    123.7,  22.5627,  35.0329,2,-999.0000,9,    206.0,2,     1.21,2,     0.13,2,     0.07,2,     0.04,2,   -999.0,9,   -999.0,9,-999.0000,9,  -999.00,     1919
  49UF20100108,KS1001,  2556,  1,     16,  16022,2,20100117,1835, 22.9992, 165.0065, 5806,    147.5,  20.6165,  34.8957,2,-999.0000,9,    212.0,2,     1.60,2,     0.33,2,     0.07,2,     0.04,2,   -999.0,9,   -999.0,9,-999.0000,9,  -999.00,     1918
  49UF20100108,KS1001,  2556,  1,     15,  16021,2,20100117,1835, 22.9992, 165.0065, 5806,    200.9,  18.0008,  34.7700,2,-999.0000,9,    196.0,2,     3.32,2,     4.19,2,     0.01,2,     0.27,2,   -999.0,9,   -999.0,9,-999.0000,9,  -999.00,     1916
  49UF20100108,KS1001,  2556,  1,     14,  16020,2,20100117,1835, 22.9992, 165.0065, 5806,    252.1,  16.6998,  34.6887,2,-999.0000,9,    200.0,2,     4.94,2,     6.29,2,     0.01,2,     0.39,2,   -999.0,9,   -999.0,9,-999.0000,9,  -999.00,     1915
  49UF20100108,KS1001,  2556,  1,     13,  16019,2,20100117,1835, 22.9992, 165.0065, 5806,    301.2,  15.5140,  34.5975,2,-999.0000,9,    198.0,2,     6.79,2,     7.90,2,     0.00,2,     0.52,2,   -999.0,9,   -999.0,9,-999.0000,9,  -999.00,     1913
  49UF20100108,KS1001,  2556,  1,     12,  16018,2,20100117,1835, 22.9992, 165.0065, 5806,    403.8,  11.8174,  34.3222,2,-999.0000,9,    196.0,2,    16.09,2,    14.20,2,     0.00,2,     0.98,2,   -999.0,9,   -999.0,9,-999.0000,9,  -999.00,     1911
  49UF20100108,KS1001,  2556,  1,     10,  19375,2,20100117,1835, 22.9992, 165.0065, 5806,    501.8,   9.3064,  34.1519,2,-999.0000,9,    173.0,2,    28.79,2,    20.80,2,     0.00,2,     1.46,2,   -999.0,9,   -999.0,9,-999.0000,9,  -999.00,     1908
  49UF20100108,KS1001,  2556,  1,     11,  16017,2,20100117,1835, 22.9992, 165.0065, 5806,    503.2,   9.3093,  34.1538,2,-999.0000,9,    174.0,2,    28.60,2,    20.60,2,     0.00,2,     1.45,2,   -999.0,9,   -999.0,9,-999.0000,9,  -999.00,     1909
  49UF20100108,KS1001,  2556,  1,      9,  16015,2,20100117,1835, 22.9992, 165.0065, 5806,    600.7,   6.8700,  34.0829,2,-999.0000,9,    119.0,2,    53.20,2,    30.20,2,     0.00,2,     2.15,2,   -999.0,9,   -999.0,9,-999.0000,9,  -999.00,     1906
  49UF20100108,KS1001,  2556,  1,      8,  16014,2,20100117,1835, 22.9992, 165.0065, 5806,    706.3,   5.5115,  34.1513,2,-999.0000,9,     74.0,2,    76.22,2,    36.50,2,     0.00,2,     2.66,2,   -999.0,9,   -999.0,9,-999.0000,9,  -999.00,     1903
  49UF20100108,KS1001,  2556,  1,      7,  19374,2,20100117,1835, 22.9992, 165.0065, 5806,    806.7,   4.7314,  34.2467,2,-999.0000,9,     52.0,2,    93.33,2,    39.60,2,     0.00,2,     2.87,2,   -999.0,9,   -999.0,9,-999.0000,9,  -999.00,     1901
  49UF20100108,KS1001,  2556,  1,      6,  16012,2,20100117,1835, 22.9992, 165.0065, 5806,    904.4,   4.3666,  34.3454,2,-999.0000,9,     48.0,2,   102.04,2,    40.80,2,     0.00,2,     2.94,2,   -999.0,9,   -999.0,9,-999.0000,9,  -999.00,     1858
  49UF20100108,KS1001,  2556,  1,      5,  16011,2,20100117,1835, 22.9992, 165.0065, 5806,   1006.5,   4.0055,  34.4220,2,-999.0000,9,     54.0,2,   109.86,2,    41.00,2,     0.00,2,     2.94,2,   -999.0,9,   -999.0,9,-999.0000,9,  -999.00,     1856
  49UF20100108,KS1001,  2556,  1,      4,  16010,2,20100117,1835, 22.9992, 165.0065, 5806,   1260.9,   3.1845,  34.5152,2,-999.0000,9,     74.0,2,   125.78,2,    40.60,2,     0.00,2,     2.90,2,   -999.0,9,   -999.0,9,-999.0000,9,  -999.00,     1851
  49UF20100108,KS1001,  2556,  1,      3,  16009,2,20100117,1835, 22.9992, 165.0065, 5806,   1515.9,   2.6070,  34.5580,2,-999.0000,9,     82.0,2,   137.51,2,    40.40,2,     0.00,2,     2.85,2,   -999.0,9,   -999.0,9,-999.0000,9,  -999.00,     1846
  49UF20100108,KS1001,  2556,  1,      2,  16008,2,20100117,1835, 22.9992, 165.0065, 5806,   1769.8,   2.2460,  34.5921,2,-999.0000,9,     92.0,2,   143.12,2,    39.70,2,     0.00,2,     2.81,2,   -999.0,9,   -999.0,9,-999.0000,9,  -999.00,     1840
  49UF20100108,KS1001,  2556,  1,      1,  16007,2,20100117,1835, 22.9992, 165.0065, 5806,   2037.4,   1.9873,  34.6210,2,-999.0000,9,    107.0,2,   147.23,2,    39.20,2,     0.00,2,     2.75,2,   -999.0,9,   -999.0,9,-999.0000,9,  -999.00,     1835