BOTTLE,20190925PRINUNIVRMK
# Processed by CCHDO on 2021-05-25, no changes
# 08/29/2019 Initialized README file  
# Data source:  Masao Ishii 2018/11/30 
# SHIP: R/V Keifu Maru II 
# Cruise: KS10-01 
# Region:NW Pacific Ocean  
# 	ta 2538:2548 along line 140-145E and 35-30N 
# 	Sta 2554:2584 on 165E 5S-25N 
# 	Sta 2585:2605 on Equator 135-165E 
# EXPOCODE: 49UF20100108 
# DATES: 20100108 - 20100301	 
# Chief Scientist: Takahiro Segawa 
# 40 stations with 24 place Rosette 
# CTD: Who - Tatsushi Shiga; Status - final 
# 	Includes: CTDSAL 
# SALNTY: Who - Tatsushi Shiga; Status - final 
# 	Notes: 	 
# Nutrients: Who - Tatsushi Shiga; Status - final 
# 	Includes: nitrate, nitrite, silicate, phosphate 
# 	Nitrite and NO3+NO2 reported. Separated by subtraction 
# OXYGEN: Who - Tatsushi Shiga; Status - final 
# 	Notes: 
# TCARBN: Who - Shiya Minato; Status - final 
# 	Notes:  
# ALKALI: Who - Shiya Minato; Status - final 
# 	Notes:  
# PH-TOT: Who - Shiya Minato; Status - final 
# 	Notes:  
# Segawa, Takahiro; Shiga, Tatsushi; Minato, Shinya (2019). Dissolved inorganic carbon (DIC), total alkalinity, pH on total scale, temperature, salinity, oxygen, nutrients and other measurements collected from profile and discrete sample observations during the R/V Keifu Maru II cruise KS10-01 (EXPOCODE 49UF20100108) in the Pacific Ocean from 2010-01-08 to 2010-03-01 (NCEI Accession 0186220). [indicate subset used]. NOAA National Centers for Environmental Information. Dataset. https://doi.org/10.25921/pvmm-7792.  
# References that have used data from this cruise: 
EXPOCODE,SECT_ID,STNNBR,CASTNO,SAMPNO,BTLNBR,BTLNBR_FLAG_W,DATE,TIME,LATITUDE,LONGITUDE,DEPTH,CTDPRS,CTDTMP,CTDSAL,CTDSAL_FLAG_W,SALNTY,SALNTY_FLAG_W,OXYGEN,OXYGEN_FLAG_W,SILCAT,SILCAT_FLAG_W,NITRAT,NITRAT_FLAG_W,NITRIT,NITRIT_FLAG_W,PHSPHT,PHSPHT_FLAG_W,TCARBN,TCARBN_FLAG_W,ALKALI,ALKALI_FLAG_W,PH_TOT,PH_TOT_FLAG_W,PH_TMP,BTL_TIME
,,,,,,,,,,,METERS,DBAR,ITS-90,PSS-78,,PSS-78,,UMOL/KG,,UMOL/KG,,UMOL/KG,,UMOL/KG,,UMOL/KG,,UMOL/KG,,UMOL/KG,,,,DEG C,
  49UF20100108,KS1001,  2538,  1,     99,     99,2,20100109,0930, 34.9352, 140.2362, 2167,      0.0,  17.9500,  34.6369,2,-999.0000,9,    237.0,2,     4.14,2,     1.84,2,     0.16,2,     0.15,2,   -999.0,9,   -999.0,9,-999.0000,9,  -999.00,      949
  49UF20100108,KS1001,  2538,  1,     23,  19380,2,20100109,0930, 34.9352, 140.2362, 2167,     10.4,  17.9397,  34.6324,2,  34.6330,2,    233.0,2,     4.74,2,     2.33,2,     0.17,2,     0.19,2,   -999.0,9,   -999.0,9,-999.0000,9,  -999.00,     1021
  49UF20100108,KS1001,  2538,  1,     22,  16028,2,20100109,0930, 34.9352, 140.2362, 2167,     25.3,  17.9070,  34.6216,2,-999.0000,9,    232.0,2,     5.04,2,     2.52,2,     0.18,2,     0.20,2,   -999.0,9,   -999.0,9,-999.0000,9,  -999.00,     1019
  49UF20100108,KS1001,  2538,  1,     21,  16027,2,20100109,0930, 34.9352, 140.2362, 2167,     49.7,  17.7036,  34.5981,2,-999.0000,9,    226.0,2,     6.15,2,     3.57,2,     0.23,2,     0.27,2,   -999.0,9,   -999.0,9,-999.0000,9,  -999.00,     1015
  49UF20100108,KS1001,  2538,  1,     20,  16026,2,20100109,0930, 34.9352, 140.2362, 2167,     74.2,  17.0177,  34.5642,2,-999.0000,9,    220.0,2,     8.65,2,     5.29,2,     0.31,2,     0.39,2,   -999.0,9,   -999.0,9,-999.0000,9,  -999.00,     1014
  49UF20100108,KS1001,  2538,  1,     19,  19378,2,20100109,0930, 34.9352, 140.2362, 2167,     99.8,  16.3839,  34.5472,2,  34.5498,2,    188.0,2,    13.70,2,     9.36,2,     0.04,2,     0.65,2,   -999.0,9,   -999.0,9,-999.0000,9,  -999.00,     1013
  49UF20100108,KS1001,  2538,  1,     18,  19377,2,20100109,0930, 34.9352, 140.2362, 2167,    125.2,  15.5597,  34.5311,2,-999.0000,9,    180.0,2,    16.34,2,    10.97,2,     0.03,2,     0.76,2,   -999.0,9,   -999.0,9,-999.0000,9,  -999.00,     1012
  49UF20100108,KS1001,  2538,  1,     17,  16023,2,20100109,0930, 34.9352, 140.2362, 2167,    149.3,  14.9549,  34.5148,2,-999.0000,9,    176.0,2,    18.74,2,    12.38,2,     0.02,2,     0.86,2,   -999.0,9,   -999.0,9,-999.0000,9,  -999.00,     1011
  49UF20100108,KS1001,  2538,  1,     16,  16022,2,20100109,0930, 34.9352, 140.2362, 2167,    199.9,  12.8863,  34.4556,2,  34.4559,2,    163.0,2,    25.75,2,    16.30,2,     0.00,2,     1.14,2,   -999.0,9,   -999.0,9,-999.0000,9,  -999.00,     1009
  49UF20100108,KS1001,  2538,  1,     15,  16021,2,20100109,0930, 34.9352, 140.2362, 2167,    249.4,  11.1914,  34.3817,2,-999.0000,9,    151.0,2,    34.79,2,    20.20,2,     0.00,2,     1.42,2,   -999.0,9,   -999.0,9,-999.0000,9,  -999.00,     1008
  49UF20100108,KS1001,  2538,  1,     14,  16020,2,20100109,0930, 34.9352, 140.2362, 2167,    300.7,   9.7072,  34.3406,2,  34.3410,2,    135.0,2,    46.25,2,    24.20,2,     0.00,2,     1.71,2,   -999.0,9,   -999.0,9,-999.0000,9,  -999.00,     1007
  49UF20100108,KS1001,  2538,  1,     13,  16019,2,20100109,0930, 34.9352, 140.2362, 2167,    401.6,   8.6304,  34.3054,2,  34.3056,2,    125.0,2,    55.25,2,    26.90,2,     0.00,2,     1.91,2,   -999.0,9,   -999.0,9,-999.0000,9,  -999.00,     1004
  49UF20100108,KS1001,  2538,  1,     12,  16018,2,20100109,0930, 34.9352, 140.2362, 2167,    502.2,   7.8623,  34.2752,2,  34.2764,2,    118.0,2,    61.14,2,    28.70,2,     0.00,2,     2.05,2,   -999.0,9,   -999.0,9,-999.0000,9,  -999.00,     1002
  49UF20100108,KS1001,  2538,  1,     11,  16017,2,20100109,0930, 34.9352, 140.2362, 2167,    503.5,   7.8717,  34.2736,2,  34.2762,2,    119.0,2,    61.00,2,    28.80,2,     0.00,2,     2.05,2,   -999.0,9,   -999.0,9,-999.0000,9,  -999.00,     1002
  49UF20100108,KS1001,  2538,  1,     10,  19375,2,20100109,0930, 34.9352, 140.2362, 2167,    604.4,   5.6188,  34.2432,2,  34.2443,2,     91.0,2,    86.07,2,    34.80,2,     0.00,2,     2.49,2,   -999.0,9,   -999.0,9,-999.0000,9,  -999.00,      959
  49UF20100108,KS1001,  2538,  1,      9,  16015,2,20100109,0930, 34.9352, 140.2362, 2167,    703.7,   4.2718,  34.2936,2,  34.2935,2,     66.0,2,   108.21,2,    38.80,2,     0.00,2,     2.78,2,   -999.0,9,   -999.0,9,-999.0000,9,  -999.00,      957
  49UF20100108,KS1001,  2538,  1,      8,  16014,2,20100109,0930, 34.9352, 140.2362, 2167,    804.8,   3.6640,  34.3499,2,  34.3496,2,     57.0,2,   120.81,2,    40.50,2,     0.00,2,     2.89,2,   -999.0,9,   -999.0,9,-999.0000,9,  -999.00,      955
  49UF20100108,KS1001,  2538,  1,      7,  19374,2,20100109,0930, 34.9352, 140.2362, 2167,    906.6,   3.4645,  34.3720,2,  34.3717,2,     54.0,2,   125.40,2,    41.10,2,     0.00,2,     2.92,2,   -999.0,9,   -999.0,9,-999.0000,9,  -999.00,      952
  49UF20100108,KS1001,  2538,  1,      6,  16012,2,20100109,0930, 34.9352, 140.2362, 2167,   1008.0,   3.3138,  34.3877,2,  34.3877,2,     53.0,2,   129.41,2,    41.50,2,     0.00,2,     2.95,2,   -999.0,9,   -999.0,9,-999.0000,9,  -999.00,      950
  49UF20100108,KS1001,  2538,  1,      5,  16011,2,20100109,0930, 34.9352, 140.2362, 2167,   1262.9,   2.9713,  34.4316,2,  34.4319,2,     50.0,2,   138.13,2,    42.00,2,     0.00,2,     2.99,2,   -999.0,9,   -999.0,9,-999.0000,9,  -999.00,      945
  49UF20100108,KS1001,  2538,  1,      4,  16010,2,20100109,0930, 34.9352, 140.2362, 2167,   1515.7,   2.6202,  34.4803,2,  34.4798,2,     48.0,2,   147.68,2,    42.60,2,     0.00,2,     3.01,2,   -999.0,9,   -999.0,9,-999.0000,9,  -999.00,      940
  49UF20100108,KS1001,  2538,  1,      3,  16009,2,20100109,0930, 34.9352, 140.2362, 2167,   1768.6,   2.4058,  34.5171,2,  34.5171,2,     54.0,2,   154.59,2,    42.40,2,     0.00,2,     2.99,2,   -999.0,9,   -999.0,9,-999.0000,9,  -999.00,      936
  49UF20100108,KS1001,  2538,  1,      2,  16008,2,20100109,0930, 34.9352, 140.2362, 2167,   2027.9,   2.1244,  34.5664,2,  34.5665,2,     71.0,2,   157.49,2,    41.30,2,     0.00,2,     2.92,2,   -999.0,9,   -999.0,9,-999.0000,9,  -999.00,      930
  49UF20100108,KS1001,  2538,  1,      1,  16007,2,20100109,0930, 34.9352, 140.2362, 2167,   2029.6,   2.1250,  34.5663,2,  34.5666,2,     74.0,2,   157.08,2,    41.30,2,     0.00,2,     2.91,2,   -999.0,9,   -999.0,9,-999.0000,9,  -999.00,      930
  49UF20100108,KS1001,  2541,  1,     99,     99,2,20100110,0803, 34.3065, 141.0392, 5758,      0.0,  16.0257,  34.5489,2,-999.0000,9,    235.0,2,     9.87,2,     5.89,2,     0.41,2,     0.43,2,   -999.0,9,   -999.0,9,-999.0000,9,  -999.00,      815
  49UF20100108,KS1001,  2541,  1,     23,  19380,2,20100110,0803, 34.3065, 141.0392, 5758,      9.7,  16.0298,  34.5488,2,-999.0000,9,    233.0,2,     9.72,2,     5.87,2,     0.43,2,     0.43,2,   -999.0,9,   -999.0,9,-999.0000,9,  -999.00,      857
  49UF20100108,KS1001,  2541,  1,     22,  16028,2,20100110,0803, 34.3065, 141.0392, 5758,     25.3,  16.0313,  34.5487,2,-999.0000,9,    233.0,2,     9.73,2,     5.87,2,     0.43,2,     0.43,2,   -999.0,9,   -999.0,9,-999.0000,9,  -999.00,      856
  49UF20100108,KS1001,  2541,  1,     21,  16027,2,20100110,0803, 34.3065, 141.0392, 5758,     50.7,  16.0368,  34.5468,2,-999.0000,9,    233.0,2,     9.82,2,     5.79,2,     0.41,2,     0.43,2,   -999.0,9,   -999.0,9,-999.0000,9,  -999.00,      855
  49UF20100108,KS1001,  2541,  1,     20,  16026,2,20100110,0803, 34.3065, 141.0392, 5758,     74.9,  16.0377,  34.5462,2,-999.0000,9,    233.0,2,     9.78,2,     5.89,2,     0.41,2,     0.43,2,   -999.0,9,   -999.0,9,-999.0000,9,  -999.00,      853
  49UF20100108,KS1001,  2541,  1,     19,  19378,2,20100110,0803, 34.3065, 141.0392, 5758,     98.9,  16.0345,  34.5454,2,-999.0000,9,    232.0,2,     9.87,2,     5.89,2,     0.41,2,     0.44,2,   -999.0,9,   -999.0,9,-999.0000,9,  -999.00,      849
  49UF20100108,KS1001,  2541,  1,     18,  19377,2,20100110,0803, 34.3065, 141.0392, 5758,    123.2,  16.0238,  34.5461,2,-999.0000,9,    231.0,2,     9.93,2,     5.90,2,     0.40,2,     0.44,2,   -999.0,9,   -999.0,9,-999.0000,9,  -999.00,      848
  49UF20100108,KS1001,  2541,  1,     17,  16023,2,20100110,0803, 34.3065, 141.0392, 5758,    148.2,  14.6712,  34.5337,2,-999.0000,9,    168.0,2,    20.00,2,    13.27,2,     0.03,2,     0.93,2,   -999.0,9,   -999.0,9,-999.0000,9,  -999.00,      847
  49UF20100108,KS1001,  2541,  1,     16,  16022,2,20100110,0803, 34.3065, 141.0392, 5758,    200.9,  12.7623,  34.4631,2,-999.0000,9,    157.0,2,    28.22,2,    17.19,2,     0.01,2,     1.20,2,   -999.0,9,   -999.0,9,-999.0000,9,  -999.00,      845
  49UF20100108,KS1001,  2541,  1,     15,  16021,2,20100110,0803, 34.3065, 141.0392, 5758,    250.3,  10.0709,  34.3545,2,-999.0000,9,    137.0,2,    43.98,2,    23.19,2,     0.01,2,     1.63,2,   -999.0,9,   -999.0,9,-999.0000,9,  -999.00,      843
  49UF20100108,KS1001,  2541,  1,     14,  16020,2,20100110,0803, 34.3065, 141.0392, 5758,    301.7,   8.3852,  34.2940,2,-999.0000,9,    125.0,2,    56.19,2,    26.90,2,     0.00,2,     1.92,2,   -999.0,9,   -999.0,9,-999.0000,9,  -999.00,      842
  49UF20100108,KS1001,  2541,  1,     12,  16018,2,20100110,0803, 34.3065, 141.0392, 5758,    403.2,   6.0335,  34.2429,2,-999.0000,9,     98.0,2,    79.42,2,    33.40,2,     0.00,2,     2.38,2,   -999.0,9,   -999.0,9,-999.0000,9,  -999.00,      839
  49UF20100108,KS1001,  2541,  1,     13,  16019,2,20100110,0803, 34.3065, 141.0392, 5758,    403.8,   6.0246,  34.2437,2,-999.0000,9,     97.0,2,    79.13,2,    33.60,2,     0.00,2,     2.37,2,   -999.0,9,   -999.0,9,-999.0000,9,  -999.00,      839
  49UF20100108,KS1001,  2541,  1,     11,  16017,2,20100110,0803, 34.3065, 141.0392, 5758,    504.3,   4.9301,  34.2798,2,-999.0000,9,     78.0,2,    96.71,2,    36.90,2,     0.00,2,     2.62,2,   -999.0,9,   -999.0,9,-999.0000,9,  -999.00,      836
  49UF20100108,KS1001,  2541,  1,     10,  19375,2,20100110,0803, 34.3065, 141.0392, 5758,    604.6,   4.2457,  34.3072,2,-999.0000,9,     66.0,2,   108.21,2,    39.00,2,     0.00,2,     2.77,2,   -999.0,9,   -999.0,9,-999.0000,9,  -999.00,      834
  49UF20100108,KS1001,  2541,  1,      9,  16015,2,20100110,0803, 34.3065, 141.0392, 5758,    706.8,   3.8221,  34.3426,2,-999.0000,9,     59.0,2,   116.72,2,    39.90,2,     0.00,2,     2.84,2,   -999.0,9,   -999.0,9,-999.0000,9,  -999.00,      831
  49UF20100108,KS1001,  2541,  1,      8,  16014,2,20100110,0803, 34.3065, 141.0392, 5758,    805.4,   3.4662,  34.3800,2,-999.0000,9,     56.0,2,   124.98,2,    40.90,2,     0.00,2,     2.89,2,   -999.0,9,   -999.0,9,-999.0000,9,  -999.00,      829
  49UF20100108,KS1001,  2541,  1,      7,  19374,2,20100110,0803, 34.3065, 141.0392, 5758,    906.9,   3.2128,  34.4123,2,-999.0000,9,     55.0,2,   130.26,2,    41.40,2,     0.00,2,     2.91,2,   -999.0,9,   -999.0,9,-999.0000,9,  -999.00,      826
  49UF20100108,KS1001,  2541,  1,      6,  16012,2,20100110,0803, 34.3065, 141.0392, 5758,   1009.2,   2.9754,  34.4431,2,-999.0000,9,     55.0,2,   136.08,2,    41.50,2,     0.00,2,     2.93,2,   -999.0,9,   -999.0,9,-999.0000,9,  -999.00,      823
  49UF20100108,KS1001,  2541,  1,      5,  16011,2,20100110,0803, 34.3065, 141.0392, 5758,   1262.6,   2.4245,  34.5114,2,-999.0000,9,     53.0,2,   151.22,2,    42.20,2,     0.00,2,     2.97,2,   -999.0,9,   -999.0,9,-999.0000,9,  -999.00,      818
  49UF20100108,KS1001,  2541,  1,      4,  16010,2,20100110,0803, 34.3065, 141.0392, 5758,   1516.6,   2.0596,  34.5730,2,-999.0000,9,     71.0,2,   156.93,2,    41.40,2,     0.00,2,     2.89,2,   -999.0,9,   -999.0,9,-999.0000,9,  -999.00,      813
  49UF20100108,KS1001,  2541,  1,      2,  16008,2,20100110,0803, 34.3065, 141.0392, 5758,   1768.0,   1.9442,  34.5942,2,-999.0000,9,     82.0,2,   157.67,2,    40.80,2,     0.00,2,     2.84,2,   -999.0,9,   -999.0,9,-999.0000,9,  -999.00,      808
  49UF20100108,KS1001,  2541,  1,      3,  16009,2,20100110,0803, 34.3065, 141.0392, 5758,   1768.3,   1.9439,  34.5943,2,-999.0000,9,     81.0,2,   158.12,2,    40.70,2,     0.00,2,     2.83,2,   -999.0,9,   -999.0,9,-999.0000,9,  -999.00,      808
  49UF20100108,KS1001,  2541,  1,      1,  16007,2,20100110,0803, 34.3065, 141.0392, 5758,   2031.4,   1.8759,  34.6075,2,-999.0000,9,     91.0,2,   157.56,2,    40.30,2,     0.00,2,     2.81,2,   -999.0,9,   -999.0,9,-999.0000,9,  -999.00,      803