BOTTLE,20190925PRINUNIVRMK
EXPOCODE,SECT_ID,STNNBR,CASTNO,SAMPNO,BTLNBR,BTLNBR_FLAG_W,DATE,TIME,LATITUDE,LONGITUDE,DEPTH,CTDPRS,CTDTMP,CTDSAL,CTDSAL_FLAG_W,SALNTY,SALNTY_FLAG_W,OXYGEN,OXYGEN_FLAG_W,SILCAT,SILCAT_FLAG_W,NITRAT,NITRAT_FLAG_W,NITRIT,NITRIT_FLAG_W,PHSPHT,PHSPHT_FLAG_W,TCARBN,TCARBN_FLAG_W,ALKALI,ALKALI_FLAG_W,PH_TOT,PH_TOT_FLAG_W,PH_TMP,BTL_TIME
,,,,,,,,,,,METERS,DBAR,ITS-90,PSS-78,,PSS-78,,UMOL/KG,,UMOL/KG,,UMOL/KG,,UMOL/KG,,UMOL/KG,,UMOL/KG,,UMOL/KG,,,,DEG C,
  49UF20100108,KS1001,  2590,  1,     99,     99,2,20100210,1404, -0.0165, 152.9850, 4187,      0.0,  29.3638,  34.4348,2,-999.0000,9,    199.0,2,  -999.00,9,  -999.00,9,  -999.00,9,  -999.00,9,   -999.0,9,   -999.0,9,-999.0000,9,  -999.00,     1405
  49UF20100108,KS1001,  2590,  1,     23,  16029,2,20100210,1404, -0.0165, 152.9850, 4187,     10.6,  29.3658,  34.4344,2,  34.4348,2,    199.0,2,  -999.00,9,  -999.00,9,  -999.00,9,  -999.00,9,   -999.0,9,   -999.0,9,-999.0000,9,  -999.00,     1501
  49UF20100108,KS1001,  2590,  1,     22,  16028,2,20100210,1404, -0.0165, 152.9850, 4187,     26.7,  29.3631,  34.4351,2,-999.0000,9,    199.0,2,  -999.00,9,  -999.00,9,  -999.00,9,  -999.00,9,   -999.0,9,   -999.0,9,-999.0000,9,  -999.00,     1500
  49UF20100108,KS1001,  2590,  1,     21,  16027,2,20100210,1404, -0.0165, 152.9850, 4187,     50.1,  29.3594,  34.4354,2,-999.0000,9,    199.0,2,  -999.00,9,  -999.00,9,  -999.00,9,  -999.00,9,   -999.0,9,   -999.0,9,-999.0000,9,  -999.00,     1457
  49UF20100108,KS1001,  2590,  1,     20,  16026,2,20100210,1404, -0.0165, 152.9850, 4187,     76.6,  29.2567,  34.4844,2,-999.0000,9,    197.0,2,  -999.00,9,  -999.00,9,  -999.00,9,  -999.00,9,   -999.0,9,   -999.0,9,-999.0000,9,  -999.00,     1455
  49UF20100108,KS1001,  2590,  1,     19,  19378,2,20100210,1404, -0.0165, 152.9850, 4187,    104.9,  26.7697,  35.3256,2,  35.3233,2,    149.0,2,  -999.00,9,  -999.00,9,  -999.00,9,  -999.00,9,   -999.0,9,   -999.0,9,-999.0000,9,  -999.00,     1454
  49UF20100108,KS1001,  2590,  1,     18,  19377,2,20100210,1404, -0.0165, 152.9850, 4187,    130.5,  22.4002,  35.4005,2,-999.0000,9,    138.0,2,  -999.00,9,  -999.00,9,  -999.00,9,  -999.00,9,   -999.0,9,   -999.0,9,-999.0000,9,  -999.00,     1453
  49UF20100108,KS1001,  2590,  1,     17,  16023,2,20100210,1404, -0.0165, 152.9850, 4187,    155.2,  20.0030,  35.3168,2,-999.0000,9,    135.0,2,  -999.00,9,  -999.00,9,  -999.00,9,  -999.00,9,   -999.0,9,   -999.0,9,-999.0000,9,  -999.00,     1451
  49UF20100108,KS1001,  2590,  1,     16,  16022,2,20100210,1404, -0.0165, 152.9850, 4187,    202.0,  17.6988,  35.4392,2,  35.4424,2,    138.0,2,  -999.00,9,  -999.00,9,  -999.00,9,  -999.00,9,   -999.0,9,   -999.0,9,-999.0000,9,  -999.00,     1449
  49UF20100108,KS1001,  2590,  1,     15,  16021,2,20100210,1404, -0.0165, 152.9850, 4187,    253.1,  12.1117,  34.8599,2,-999.0000,9,    140.0,2,  -999.00,9,  -999.00,9,  -999.00,9,  -999.00,9,   -999.0,9,   -999.0,9,-999.0000,9,  -999.00,     1447
  49UF20100108,KS1001,  2590,  1,     14,  16020,2,20100210,1404, -0.0165, 152.9850, 4187,    303.6,  10.9302,  34.7860,2,  34.7867,2,    101.0,2,  -999.00,9,  -999.00,9,  -999.00,9,  -999.00,9,   -999.0,9,   -999.0,9,-999.0000,9,  -999.00,     1445
  49UF20100108,KS1001,  2590,  1,     12,  16018,2,20100210,1404, -0.0165, 152.9850, 4187,    406.0,   9.2960,  34.6660,2,  34.6681,2,    104.0,2,  -999.00,9,  -999.00,9,  -999.00,9,  -999.00,9,   -999.0,9,   -999.0,9,-999.0000,9,  -999.00,     1442
  49UF20100108,KS1001,  2590,  1,     13,  16019,2,20100210,1404, -0.0165, 152.9850, 4187,    408.6,   9.2669,  34.6636,2,  34.6665,2,    105.0,2,  -999.00,9,  -999.00,9,  -999.00,9,  -999.00,9,   -999.0,9,   -999.0,9,-999.0000,9,  -999.00,     1442
  49UF20100108,KS1001,  2590,  1,     11,  16017,2,20100210,1404, -0.0165, 152.9850, 4187,    506.1,   8.0038,  34.6090,2,  34.6095,2,     87.0,2,  -999.00,9,  -999.00,9,  -999.00,9,  -999.00,9,   -999.0,9,   -999.0,9,-999.0000,9,  -999.00,     1439
  49UF20100108,KS1001,  2590,  1,     10,  19375,2,20100210,1404, -0.0165, 152.9850, 4187,    607.7,   7.1942,  34.5723,2,  34.5721,2,     90.0,2,  -999.00,9,  -999.00,9,  -999.00,9,  -999.00,9,   -999.0,9,   -999.0,9,-999.0000,9,  -999.00,     1436
  49UF20100108,KS1001,  2590,  1,      9,  16015,2,20100210,1404, -0.0165, 152.9850, 4187,    707.1,   6.3099,  34.5432,2,  34.5425,2,     98.0,2,  -999.00,9,  -999.00,9,  -999.00,9,  -999.00,9,   -999.0,9,   -999.0,9,-999.0000,9,  -999.00,     1433
  49UF20100108,KS1001,  2590,  1,      8,  16014,2,20100210,1404, -0.0165, 152.9850, 4187,    808.0,   5.4937,  34.5329,2,  34.5422,4,    105.0,2,  -999.00,9,  -999.00,9,  -999.00,9,  -999.00,9,   -999.0,9,   -999.0,9,-999.0000,9,  -999.00,     1430
  49UF20100108,KS1001,  2590,  1,      7,  19374,2,20100210,1404, -0.0165, 152.9850, 4187,    908.0,   4.8978,  34.5438,2,  34.5425,2,     97.0,2,  -999.00,9,  -999.00,9,  -999.00,9,  -999.00,9,   -999.0,9,   -999.0,9,-999.0000,9,  -999.00,     1428
  49UF20100108,KS1001,  2590,  1,      6,  16012,2,20100210,1404, -0.0165, 152.9850, 4187,   1008.7,   4.5084,  34.5457,2,  34.5450,2,    107.0,2,  -999.00,9,  -999.00,9,  -999.00,9,  -999.00,9,   -999.0,9,   -999.0,9,-999.0000,9,  -999.00,     1425
  49UF20100108,KS1001,  2590,  1,      5,  16011,2,20100210,1404, -0.0165, 152.9850, 4187,   1262.4,   3.6427,  34.5766,2,  34.5748,2,    100.0,2,  -999.00,9,  -999.00,9,  -999.00,9,  -999.00,9,   -999.0,9,   -999.0,9,-999.0000,9,  -999.00,     1420
  49UF20100108,KS1001,  2590,  1,      4,  16010,2,20100210,1404, -0.0165, 152.9850, 4187,   1514.2,   3.0296,  34.6009,2,  34.6000,2,    103.0,2,  -999.00,9,  -999.00,9,  -999.00,9,  -999.00,9,   -999.0,9,   -999.0,9,-999.0000,9,  -999.00,     1414
  49UF20100108,KS1001,  2590,  1,      3,  16009,2,20100210,1404, -0.0165, 152.9850, 4187,   1764.6,   2.4805,  34.6245,2,  34.6234,2,    116.0,2,  -999.00,9,  -999.00,9,  -999.00,9,  -999.00,9,   -999.0,9,   -999.0,9,-999.0000,9,  -999.00,     1409
  49UF20100108,KS1001,  2590,  1,      2,  16008,2,20100210,1404, -0.0165, 152.9850, 4187,   1765.3,   2.4802,  34.6244,2,  34.6210,4,    116.0,2,  -999.00,9,  -999.00,9,  -999.00,9,  -999.00,9,   -999.0,9,   -999.0,9,-999.0000,9,  -999.00,     1409
  49UF20100108,KS1001,  2590,  1,      1,  16007,2,20100210,1404, -0.0165, 152.9850, 4187,   2023.6,   2.1787,  34.6398,2,  34.6374,4,    121.0,2,  -999.00,9,  -999.00,9,  -999.00,9,  -999.00,9,   -999.0,9,   -999.0,9,-999.0000,9,  -999.00,     1404
  49UF20100108,KS1001,  2591,  1,     99,     99,2,20100211,0020, -0.0137, 150.9847, 4925,      0.0,  29.3446,  34.4910,2,-999.0000,9,    200.0,2,  -999.00,9,  -999.00,9,  -999.00,9,  -999.00,9,   -999.0,9,   -999.0,9,-999.0000,9,  -999.00,       30
  49UF20100108,KS1001,  2591,  1,     23,  16029,2,20100211,0020, -0.0137, 150.9847, 4925,     11.1,  29.2530,  34.4890,2,-999.0000,9,    200.0,2,  -999.00,9,  -999.00,9,  -999.00,9,  -999.00,9,   -999.0,9,   -999.0,9,-999.0000,9,  -999.00,      111
  49UF20100108,KS1001,  2591,  1,     22,  16028,2,20100211,0020, -0.0137, 150.9847, 4925,     27.0,  29.2088,  34.4882,2,-999.0000,9,    200.0,2,  -999.00,9,  -999.00,9,  -999.00,9,  -999.00,9,   -999.0,9,   -999.0,9,-999.0000,9,  -999.00,      109
  49UF20100108,KS1001,  2591,  1,     21,  16027,2,20100211,0020, -0.0137, 150.9847, 4925,     51.9,  29.1845,  34.4913,2,-999.0000,9,    199.0,2,  -999.00,9,  -999.00,9,  -999.00,9,  -999.00,9,   -999.0,9,   -999.0,9,-999.0000,9,  -999.00,      107
  49UF20100108,KS1001,  2591,  1,     20,  16026,2,20100211,0020, -0.0137, 150.9847, 4925,     75.4,  28.7462,  34.6648,2,-999.0000,9,    195.0,2,  -999.00,9,  -999.00,9,  -999.00,9,  -999.00,9,   -999.0,9,   -999.0,9,-999.0000,9,  -999.00,      106
  49UF20100108,KS1001,  2591,  1,     19,  19378,2,20100211,0020, -0.0137, 150.9847, 4925,    104.3,  25.7097,  35.3366,2,-999.0000,9,    141.0,2,  -999.00,9,  -999.00,9,  -999.00,9,  -999.00,9,   -999.0,9,   -999.0,9,-999.0000,9,  -999.00,      105
  49UF20100108,KS1001,  2591,  1,     18,  19377,2,20100211,0020, -0.0137, 150.9847, 4925,    127.3,  22.2122,  35.5172,2,-999.0000,9,    134.0,2,  -999.00,9,  -999.00,9,  -999.00,9,  -999.00,9,   -999.0,9,   -999.0,9,-999.0000,9,  -999.00,      103
  49UF20100108,KS1001,  2591,  1,     17,  16023,2,20100211,0020, -0.0137, 150.9847, 4925,    152.3,  20.2155,  35.2671,2,-999.0000,9,    136.0,2,  -999.00,9,  -999.00,9,  -999.00,9,  -999.00,9,   -999.0,9,   -999.0,9,-999.0000,9,  -999.00,      102
  49UF20100108,KS1001,  2591,  1,     16,  16022,2,20100211,0020, -0.0137, 150.9847, 4925,    202.1,  16.3837,  35.1697,2,-999.0000,9,    143.0,2,  -999.00,9,  -999.00,9,  -999.00,9,  -999.00,9,   -999.0,9,   -999.0,9,-999.0000,9,  -999.00,      101
  49UF20100108,KS1001,  2591,  1,     15,  16021,2,20100211,0020, -0.0137, 150.9847, 4925,    252.0,  11.9741,  34.8674,2,-999.0000,9,    139.0,2,  -999.00,9,  -999.00,9,  -999.00,9,  -999.00,9,   -999.0,9,   -999.0,9,-999.0000,9,  -999.00,      100
  49UF20100108,KS1001,  2591,  1,     13,  16019,2,20100211,0020, -0.0137, 150.9847, 4925,    303.7,  11.1364,  34.8029,2,-999.0000,9,    113.0,2,  -999.00,9,  -999.00,9,  -999.00,9,  -999.00,9,   -999.0,9,   -999.0,9,-999.0000,9,  -999.00,       58
  49UF20100108,KS1001,  2591,  1,     14,  16020,2,20100211,0020, -0.0137, 150.9847, 4925,    304.7,  11.1217,  34.8023,2,-999.0000,9,    112.0,2,  -999.00,9,  -999.00,9,  -999.00,9,  -999.00,9,   -999.0,9,   -999.0,9,-999.0000,9,  -999.00,       58
  49UF20100108,KS1001,  2591,  1,     12,  16018,2,20100211,0020, -0.0137, 150.9847, 4925,    403.5,   9.5919,  34.6936,2,-999.0000,9,     85.0,2,  -999.00,9,  -999.00,9,  -999.00,9,  -999.00,9,   -999.0,9,   -999.0,9,-999.0000,9,  -999.00,       55
  49UF20100108,KS1001,  2591,  1,     11,  16017,2,20100211,0020, -0.0137, 150.9847, 4925,    505.2,   8.4360,  34.6329,2,-999.0000,9,     71.0,2,  -999.00,9,  -999.00,9,  -999.00,9,  -999.00,9,   -999.0,9,   -999.0,9,-999.0000,9,  -999.00,       53
  49UF20100108,KS1001,  2591,  1,     10,  19375,2,20100211,0020, -0.0137, 150.9847, 4925,    604.9,   7.1549,  34.5707,2,-999.0000,9,     90.0,2,  -999.00,9,  -999.00,9,  -999.00,9,  -999.00,9,   -999.0,9,   -999.0,9,-999.0000,9,  -999.00,       50
  49UF20100108,KS1001,  2591,  1,      9,  16015,2,20100211,0020, -0.0137, 150.9847, 4925,    707.4,   6.2008,  34.5391,2,-999.0000,9,    100.0,2,  -999.00,9,  -999.00,9,  -999.00,9,  -999.00,9,   -999.0,9,   -999.0,9,-999.0000,9,  -999.00,       48
  49UF20100108,KS1001,  2591,  1,      8,  16014,2,20100211,0020, -0.0137, 150.9847, 4925,    806.4,   5.4746,  34.5375,2,-999.0000,9,     98.0,2,  -999.00,9,  -999.00,9,  -999.00,9,  -999.00,9,   -999.0,9,   -999.0,9,-999.0000,9,  -999.00,       45
  49UF20100108,KS1001,  2591,  1,      7,  19374,2,20100211,0020, -0.0137, 150.9847, 4925,    907.3,   4.9603,  34.5412,2,-999.0000,9,     98.0,2,  -999.00,9,  -999.00,9,  -999.00,9,  -999.00,9,   -999.0,9,   -999.0,9,-999.0000,9,  -999.00,       43
  49UF20100108,KS1001,  2591,  1,      6,  16012,2,20100211,0020, -0.0137, 150.9847, 4925,   1009.7,   4.5698,  34.5489,2,-999.0000,9,    101.0,2,  -999.00,9,  -999.00,9,  -999.00,9,  -999.00,9,   -999.0,9,   -999.0,9,-999.0000,9,  -999.00,       41
  49UF20100108,KS1001,  2591,  1,      5,  16011,2,20100211,0020, -0.0137, 150.9847, 4925,   1260.5,   3.6074,  34.5775,2,-999.0000,9,    100.0,2,  -999.00,9,  -999.00,9,  -999.00,9,  -999.00,9,   -999.0,9,   -999.0,9,-999.0000,9,  -999.00,       35
  49UF20100108,KS1001,  2591,  1,      3,  16009,2,20100211,0020, -0.0137, 150.9847, 4925,   1512.8,   2.9364,  34.6050,2,-999.0000,9,    103.0,2,  -999.00,9,  -999.00,9,  -999.00,9,  -999.00,9,   -999.0,9,   -999.0,9,-999.0000,9,  -999.00,       30
  49UF20100108,KS1001,  2591,  1,      4,  16010,2,20100211,0020, -0.0137, 150.9847, 4925,   1513.7,   2.9363,  34.6050,2,-999.0000,9,    104.0,2,  -999.00,9,  -999.00,9,  -999.00,9,  -999.00,9,   -999.0,9,   -999.0,9,-999.0000,9,  -999.00,       30
  49UF20100108,KS1001,  2591,  1,      2,  16008,2,20100211,0020, -0.0137, 150.9847, 4925,   1769.1,   2.4191,  34.6275,2,-999.0000,9,    115.0,2,  -999.00,9,  -999.00,9,  -999.00,9,  -999.00,9,   -999.0,9,   -999.0,9,-999.0000,9,  -999.00,       25
  49UF20100108,KS1001,  2591,  1,      1,  16007,2,20100211,0020, -0.0137, 150.9847, 4925,   2027.8,   2.1643,  34.6407,2,-999.0000,9,    122.0,2,  -999.00,9,  -999.00,9,  -999.00,9,  -999.00,9,   -999.0,9,   -999.0,9,-999.0000,9,  -999.00,       20
  49UF20100108,KS1001,  2592,  1,     99,     99,2,20100211,1039, -0.0068, 148.9960, 5687,      0.0,  29.1315,  34.6338,2,-999.0000,9,    200.0,2,     0.62,2,     0.00,2,     0.00,2,     0.00,2,   -999.0,9,   -999.0,9,-999.0000,9,  -999.00,     1052
  49UF20100108,KS1001,  2592,  1,     23,  16029,2,20100211,1039, -0.0068, 148.9960, 5687,      9.5,  29.1278,  34.6338,2,-999.0000,9,    200.0,2,     0.61,2,     0.00,2,     0.00,2,     0.00,2,   1937.0,2,   2280.7,2,-999.0000,9,  -999.00,     1130
  49UF20100108,KS1001,  2592,  1,     22,  16028,2,20100211,1039, -0.0068, 148.9960, 5687,     26.7,  28.9771,  34.6283,2,-999.0000,9,    201.0,2,     0.61,2,     0.00,2,     0.00,2,     0.00,2,   1935.7,2,   2281.6,2,-999.0000,9,  -999.00,     1129
  49UF20100108,KS1001,  2592,  1,     21,  16027,2,20100211,1039, -0.0068, 148.9960, 5687,     51.1,  28.9578,  34.6303,2,-999.0000,9,    201.0,2,     0.56,2,     0.00,2,     0.00,2,     0.00,2,   1937.9,2,   2278.5,2,-999.0000,9,  -999.00,     1127
  49UF20100108,KS1001,  2592,  1,     20,  16026,2,20100211,1039, -0.0068, 148.9960, 5687,     74.8,  25.4784,  35.4892,2,-999.0000,9,    143.0,2,     2.61,2,     7.35,2,     0.05,2,     0.41,2,   2063.9,2,   2335.1,2,-999.0000,9,  -999.00,     1126
  49UF20100108,KS1001,  2592,  1,     19,  19378,2,20100211,1039, -0.0068, 148.9960, 5687,    100.3,  23.8314,  35.2906,2,-999.0000,9,    140.0,2,     3.77,2,     8.77,2,     0.03,2,     0.55,2,   2069.7,2,   2321.9,2,-999.0000,9,  -999.00,     1125
  49UF20100108,KS1001,  2592,  1,     18,  19377,2,20100211,1039, -0.0068, 148.9960, 5687,    126.3,  22.1971,  35.4332,2,-999.0000,9,    134.0,2,     4.31,2,    10.09,2,     0.01,2,     0.69,2,   2091.0,2,   2330.5,2,-999.0000,9,  -999.00,     1124
  49UF20100108,KS1001,  2592,  1,     17,  16023,2,20100211,1039, -0.0068, 148.9960, 5687,    152.5,  20.4733,  35.2327,2,-999.0000,9,    138.0,2,     6.55,2,    10.99,2,     0.01,2,     0.74,2,   2094.4,2,   2320.3,2,-999.0000,9,  -999.00,     1122
  49UF20100108,KS1001,  2592,  1,     16,  16022,2,20100211,1039, -0.0068, 148.9960, 5687,    203.5,  16.8104,  35.2701,2,-999.0000,9,    145.0,2,     7.03,2,    13.49,2,     0.01,2,     0.93,2,   2139.8,2,   2324.5,2,-999.0000,9,  -999.00,     1121
  49UF20100108,KS1001,  2592,  1,     14,  16020,2,20100211,1039, -0.0068, 148.9960, 5687,    252.5,  12.6126,  34.9098,2,-999.0000,9,    143.0,2,    15.59,2,    19.70,2,     0.00,2,     1.34,2,   2154.4,2,   2309.2,2,-999.0000,9,  -999.00,     1119
  49UF20100108,KS1001,  2592,  1,     15,  16021,2,20100211,1039, -0.0068, 148.9960, 5687,    252.5,  12.6090,  34.9097,2,-999.0000,9,    144.0,2,    15.37,2,    19.60,2,     0.00,2,     1.41,2,   -999.0,9,   -999.0,9,-999.0000,9,  -999.00,     1120
  49UF20100108,KS1001,  2592,  1,     13,  16019,2,20100211,1039, -0.0068, 148.9960, 5687,    303.8,  11.0285,  34.7963,2,-999.0000,9,    115.0,2,    21.09,2,    25.30,2,     0.00,2,     1.75,2,   2189.3,2,   2308.1,2,-999.0000,9,  -999.00,     1118
  49UF20100108,KS1001,  2592,  1,     12,  16018,2,20100211,1039, -0.0068, 148.9960, 5687,    405.3,   9.7704,  34.7012,2,-999.0000,9,    104.0,2,    26.36,2,    28.70,2,     0.00,2,     2.01,2,   2209.2,2,   2311.1,2,-999.0000,9,  -999.00,     1115
  49UF20100108,KS1001,  2592,  1,     11,  16017,2,20100211,1039, -0.0068, 148.9960, 5687,    505.6,   8.4047,  34.6291,2,-999.0000,9,     76.0,2,    34.87,2,    34.40,2,     0.00,2,     2.42,2,   2248.8,2,   2308.6,2,-999.0000,9,  -999.00,     1113
  49UF20100108,KS1001,  2592,  1,     10,  19375,2,20100211,1039, -0.0068, 148.9960, 5687,    603.6,   7.2604,  34.5698,2,-999.0000,9,    103.0,2,    39.15,2,    34.10,2,     0.00,2,     2.43,2,   2241.3,2,   2314.4,2,-999.0000,9,  -999.00,     1110
  49UF20100108,KS1001,  2592,  1,      9,  16015,2,20100211,1039, -0.0068, 148.9960, 5687,    708.3,   6.3806,  34.5460,2,-999.0000,9,     94.0,2,    49.12,2,    36.60,2,     0.00,2,     2.63,2,   2251.5,2,   2363.2,2,-999.0000,9,  -999.00,     1108
  49UF20100108,KS1001,  2592,  1,      8,  16014,2,20100211,1039, -0.0068, 148.9960, 5687,    806.3,   5.5648,  34.5351,2,-999.0000,9,    102.0,2,    60.40,2,    37.00,2,     0.00,2,     2.68,2,   2262.3,2,   2367.6,2,-999.0000,9,  -999.00,     1106
  49UF20100108,KS1001,  2592,  1,      7,  19374,2,20100211,1039, -0.0068, 148.9960, 5687,    907.4,   4.8574,  34.5444,2,-999.0000,9,     98.0,2,    74.13,2,    38.10,2,     0.00,2,     2.80,2,   -999.0,9,   -999.0,9,-999.0000,9,  -999.00,     1103
  49UF20100108,KS1001,  2592,  1,      6,  16012,2,20100211,1039, -0.0068, 148.9960, 5687,   1007.7,   4.4662,  34.5517,2,-999.0000,9,    104.0,2,    82.71,2,    37.80,2,     0.00,2,     2.78,2,   -999.0,9,   -999.0,9,-999.0000,9,  -999.00,     1101
  49UF20100108,KS1001,  2592,  1,      5,  16011,2,20100211,1039, -0.0068, 148.9960, 5687,   1261.4,   3.5562,  34.5802,2,-999.0000,9,     99.0,2,   102.40,2,    39.10,2,     0.00,2,     2.82,2,   -999.0,9,   -999.0,9,-999.0000,9,  -999.00,     1055
  49UF20100108,KS1001,  2592,  1,      4,  16010,2,20100211,1039, -0.0068, 148.9960, 5687,   1262.2,   3.5544,  34.5801,2,-999.0000,9,     99.0,2,   102.88,2,    39.10,2,     0.00,2,     2.87,2,   -999.0,9,   -999.0,9,-999.0000,9,  -999.00,     1055
  49UF20100108,KS1001,  2592,  1,      3,  16009,2,20100211,1039, -0.0068, 148.9960, 5687,   1513.3,   2.9404,  34.6033,2,-999.0000,9,    107.0,2,   116.69,2,    38.90,2,     0.00,2,     2.84,2,   -999.0,9,   -999.0,9,-999.0000,9,  -999.00,     1050
  49UF20100108,KS1001,  2592,  1,      2,  16008,2,20100211,1039, -0.0068, 148.9960, 5687,   1767.2,   2.4772,  34.6245,2,-999.0000,9,    116.0,2,   125.61,2,    38.40,2,     0.00,2,     2.81,2,   -999.0,9,   -999.0,9,-999.0000,9,  -999.00,     1045
  49UF20100108,KS1001,  2592,  1,      1,  16007,2,20100211,1039, -0.0068, 148.9960, 5687,   2034.0,   2.2130,  34.6377,2,-999.0000,9,    121.0,2,   131.51,2,    38.30,2,     0.00,2,     2.77,2,   -999.0,9,   -999.0,9,-999.0000,9,  -999.00,     1039