BOTTLE,20190925PRINUNIVRMK
EXPOCODE,SECT_ID,STNNBR,CASTNO,SAMPNO,BTLNBR,BTLNBR_FLAG_W,DATE,TIME,LATITUDE,LONGITUDE,DEPTH,CTDPRS,CTDTMP,CTDSAL,CTDSAL_FLAG_W,SALNTY,SALNTY_FLAG_W,OXYGEN,OXYGEN_FLAG_W,SILCAT,SILCAT_FLAG_W,NITRAT,NITRAT_FLAG_W,NITRIT,NITRIT_FLAG_W,PHSPHT,PHSPHT_FLAG_W,TCARBN,TCARBN_FLAG_W,ALKALI,ALKALI_FLAG_W,PH_TOT,PH_TOT_FLAG_W,PH_TMP,BTL_TIME
,,,,,,,,,,,METERS,DBAR,ITS-90,PSS-78,,PSS-78,,UMOL/KG,,UMOL/KG,,UMOL/KG,,UMOL/KG,,UMOL/KG,,UMOL/KG,,UMOL/KG,,,,DEG C,
  49UF20100108,KS1001,  2593,  1,     99,     99,2,20100211,2123, -0.0053, 146.9552, 4368,      0.0,  28.8938,  34.6668,2,-999.0000,9,    199.0,2,  -999.00,9,  -999.00,9,  -999.00,9,  -999.00,9,   -999.0,9,   -999.0,9,-999.0000,9,  -999.00,     2200
  49UF20100108,KS1001,  2593,  1,     23,  16029,4,20100211,2123, -0.0053, 146.9552, 4368,     10.5,  28.8805,  34.6671,2,-999.0000,9,    200.0,2,  -999.00,9,  -999.00,9,  -999.00,9,  -999.00,9,   -999.0,9,   -999.0,9,-999.0000,9,  -999.00,     2225
  49UF20100108,KS1001,  2593,  1,     22,  16028,2,20100211,2123, -0.0053, 146.9552, 4368,     26.3,  28.8771,  34.6647,2,-999.0000,9,    200.0,2,  -999.00,9,  -999.00,9,  -999.00,9,  -999.00,9,   -999.0,9,   -999.0,9,-999.0000,9,  -999.00,     2224
  49UF20100108,KS1001,  2593,  1,     21,  16027,2,20100211,2123, -0.0053, 146.9552, 4368,     49.9,  28.8106,  34.6626,2,-999.0000,9,    200.0,2,  -999.00,9,  -999.00,9,  -999.00,9,  -999.00,9,   -999.0,9,   -999.0,9,-999.0000,9,  -999.00,     2219
  49UF20100108,KS1001,  2593,  1,     20,  16026,2,20100211,2123, -0.0053, 146.9552, 4368,     74.9,  25.8937,  35.4727,2,-999.0000,9,    141.0,2,  -999.00,9,  -999.00,9,  -999.00,9,  -999.00,9,   -999.0,9,   -999.0,9,-999.0000,9,  -999.00,     2218
  49UF20100108,KS1001,  2593,  1,     19,  19378,2,20100211,2123, -0.0053, 146.9552, 4368,    101.1,  23.0466,  35.4095,2,-999.0000,9,    136.0,2,  -999.00,9,  -999.00,9,  -999.00,9,  -999.00,9,   -999.0,9,   -999.0,9,-999.0000,9,  -999.00,     2217
  49UF20100108,KS1001,  2593,  1,     18,  19377,2,20100211,2123, -0.0053, 146.9552, 4368,    126.2,  21.9125,  35.3958,2,-999.0000,9,    134.0,2,  -999.00,9,  -999.00,9,  -999.00,9,  -999.00,9,   -999.0,9,   -999.0,9,-999.0000,9,  -999.00,     2216
  49UF20100108,KS1001,  2593,  1,     17,  16023,2,20100211,2123, -0.0053, 146.9552, 4368,    150.3,  20.2010,  35.3059,2,-999.0000,9,    141.0,2,  -999.00,9,  -999.00,9,  -999.00,9,  -999.00,9,   -999.0,9,   -999.0,9,-999.0000,9,  -999.00,     2215
  49UF20100108,KS1001,  2593,  1,     16,  16022,2,20100211,2123, -0.0053, 146.9552, 4368,    199.7,  16.6158,  35.2933,2,-999.0000,9,    145.0,2,  -999.00,9,  -999.00,9,  -999.00,9,  -999.00,9,   -999.0,9,   -999.0,9,-999.0000,9,  -999.00,     2213
  49UF20100108,KS1001,  2593,  1,     15,  16021,2,20100211,2123, -0.0053, 146.9552, 4368,    200.4,  16.3229,  35.2740,2,-999.0000,9,    145.0,2,  -999.00,9,  -999.00,9,  -999.00,9,  -999.00,9,   -999.0,9,   -999.0,9,-999.0000,9,  -999.00,     2213
  49UF20100108,KS1001,  2593,  1,     14,  16020,2,20100211,2123, -0.0053, 146.9552, 4368,    246.5,  12.6201,  34.7447,2,-999.0000,9,    133.0,2,  -999.00,9,  -999.00,9,  -999.00,9,  -999.00,9,   -999.0,9,   -999.0,9,-999.0000,9,  -999.00,     2211
  49UF20100108,KS1001,  2593,  1,     13,  16019,7,20100211,2123, -0.0053, 146.9552, 4368,    248.3,  12.5401,  34.7734,2,-999.0000,9,    134.0,4,  -999.00,9,  -999.00,9,  -999.00,9,  -999.00,9,   -999.0,9,   -999.0,9,-999.0000,9,  -999.00,     2211
  49UF20100108,KS1001,  2593,  1,     12,  16018,2,20100211,2123, -0.0053, 146.9552, 4368,    400.3,   9.6813,  34.7006,2,-999.0000,9,     76.0,2,  -999.00,9,  -999.00,9,  -999.00,9,  -999.00,9,   -999.0,9,   -999.0,9,-999.0000,9,  -999.00,     2207
  49UF20100108,KS1001,  2593,  1,     11,  16017,2,20100211,2123, -0.0053, 146.9552, 4368,    504.3,   8.3501,  34.6254,2,-999.0000,9,     82.0,2,  -999.00,9,  -999.00,9,  -999.00,9,  -999.00,9,   -999.0,9,   -999.0,9,-999.0000,9,  -999.00,     2204
  49UF20100108,KS1001,  2593,  1,     10,  19375,2,20100211,2123, -0.0053, 146.9552, 4368,    603.3,   7.6403,  34.5800,2,-999.0000,9,    121.0,2,  -999.00,9,  -999.00,9,  -999.00,9,  -999.00,9,   -999.0,9,   -999.0,9,-999.0000,9,  -999.00,     2201
  49UF20100108,KS1001,  2593,  1,      9,  16015,2,20100211,2123, -0.0053, 146.9552, 4368,    703.7,   6.1996,  34.5342,2,-999.0000,9,    112.0,2,  -999.00,9,  -999.00,9,  -999.00,9,  -999.00,9,   -999.0,9,   -999.0,9,-999.0000,9,  -999.00,     2158
  49UF20100108,KS1001,  2593,  1,      8,  16014,2,20100211,2123, -0.0053, 146.9552, 4368,    808.9,   5.6323,  34.5343,2,-999.0000,9,    104.0,2,  -999.00,9,  -999.00,9,  -999.00,9,  -999.00,9,   -999.0,9,   -999.0,9,-999.0000,9,  -999.00,     2155
  49UF20100108,KS1001,  2593,  1,      7,  19374,2,20100211,2123, -0.0053, 146.9552, 4368,    905.7,   5.0248,  34.5414,2,-999.0000,9,     98.0,2,  -999.00,9,  -999.00,9,  -999.00,9,  -999.00,9,   -999.0,9,   -999.0,9,-999.0000,9,  -999.00,     2152
  49UF20100108,KS1001,  2593,  1,      6,  16012,2,20100211,2123, -0.0053, 146.9552, 4368,   1009.2,   4.4650,  34.5486,2,-999.0000,9,    106.0,2,  -999.00,9,  -999.00,9,  -999.00,9,  -999.00,9,   -999.0,9,   -999.0,9,-999.0000,9,  -999.00,     2149
  49UF20100108,KS1001,  2593,  1,      5,  16011,2,20100211,2123, -0.0053, 146.9552, 4368,   1009.8,   4.4647,  34.5484,2,-999.0000,9,    106.0,2,  -999.00,9,  -999.00,9,  -999.00,9,  -999.00,9,   -999.0,9,   -999.0,9,-999.0000,9,  -999.00,     2149
  49UF20100108,KS1001,  2593,  1,      4,  16010,2,20100211,2123, -0.0053, 146.9552, 4368,   1263.1,   3.5907,  34.5791,2,-999.0000,9,     99.0,2,  -999.00,9,  -999.00,9,  -999.00,9,  -999.00,9,   -999.0,9,   -999.0,9,-999.0000,9,  -999.00,     2142
  49UF20100108,KS1001,  2593,  1,      3,  16009,2,20100211,2123, -0.0053, 146.9552, 4368,   1514.6,   2.9456,  34.6034,2,-999.0000,9,    106.0,2,  -999.00,9,  -999.00,9,  -999.00,9,  -999.00,9,   -999.0,9,   -999.0,9,-999.0000,9,  -999.00,     2136
  49UF20100108,KS1001,  2593,  1,      2,  16008,2,20100211,2123, -0.0053, 146.9552, 4368,   1768.7,   2.5111,  34.6228,2,-999.0000,9,    117.0,2,  -999.00,9,  -999.00,9,  -999.00,9,  -999.00,9,   -999.0,9,   -999.0,9,-999.0000,9,  -999.00,     2130
  49UF20100108,KS1001,  2593,  1,      1,  16007,2,20100211,2123, -0.0053, 146.9552, 4368,   2031.4,   2.2101,  34.6382,2,-999.0000,9,    122.0,2,  -999.00,9,  -999.00,9,  -999.00,9,  -999.00,9,   -999.0,9,   -999.0,9,-999.0000,9,  -999.00,     2123
  49UF20100108,KS1001,  2594,  1,     99,     99,2,20100212,0910, -0.0117, 144.9837, 3701,      0.0,  29.0926,  34.6830,2,-999.0000,9,    201.0,2,  -999.00,9,  -999.00,9,  -999.00,9,  -999.00,9,   -999.0,9,   -999.0,9,-999.0000,9,  -999.00,      945
  49UF20100108,KS1001,  2594,  1,     23,  16029,2,20100212,0910, -0.0117, 144.9837, 3701,     11.1,  28.9902,  34.6763,2,  34.6766,2,    201.0,2,  -999.00,9,  -999.00,9,  -999.00,9,  -999.00,9,   -999.0,9,   -999.0,9,-999.0000,9,  -999.00,     1020
  49UF20100108,KS1001,  2594,  1,     22,  16028,2,20100212,0910, -0.0117, 144.9837, 3701,     25.8,  28.7625,  34.6616,2,-999.0000,9,    202.0,2,  -999.00,9,  -999.00,9,  -999.00,9,  -999.00,9,   -999.0,9,   -999.0,9,-999.0000,9,  -999.00,     1018
  49UF20100108,KS1001,  2594,  1,     21,  16027,3,20100212,0910, -0.0117, 144.9837, 3701,     51.9,  28.6954,  34.6674,2,-999.0000,9,    201.0,2,  -999.00,9,  -999.00,9,  -999.00,9,  -999.00,9,   -999.0,9,   -999.0,9,-999.0000,9,  -999.00,     1014
  49UF20100108,KS1001,  2594,  1,     20,  16026,2,20100212,0910, -0.0117, 144.9837, 3701,     75.8,  24.9337,  35.2746,2,-999.0000,9,    141.0,2,  -999.00,9,  -999.00,9,  -999.00,9,  -999.00,9,   -999.0,9,   -999.0,9,-999.0000,9,  -999.00,     1013
  49UF20100108,KS1001,  2594,  1,     19,  19378,2,20100212,0910, -0.0117, 144.9837, 3701,    101.0,  23.0728,  35.4186,2,  35.4219,2,    135.0,2,  -999.00,9,  -999.00,9,  -999.00,9,  -999.00,9,   -999.0,9,   -999.0,9,-999.0000,9,  -999.00,     1011
  49UF20100108,KS1001,  2594,  1,     18,  19377,2,20100212,0910, -0.0117, 144.9837, 3701,    125.9,  21.9360,  35.3623,2,-999.0000,9,    137.0,2,  -999.00,9,  -999.00,9,  -999.00,9,  -999.00,9,   -999.0,9,   -999.0,9,-999.0000,9,  -999.00,     1010
  49UF20100108,KS1001,  2594,  1,     17,  16023,2,20100212,0910, -0.0117, 144.9837, 3701,    152.0,  19.8174,  35.1272,2,-999.0000,9,    141.0,2,  -999.00,9,  -999.00,9,  -999.00,9,  -999.00,9,   -999.0,9,   -999.0,9,-999.0000,9,  -999.00,     1008
  49UF20100108,KS1001,  2594,  1,     15,  16021,2,20100212,0910, -0.0117, 144.9837, 3701,    202.5,  16.3785,  35.2864,2,  35.2732,4,    149.0,2,  -999.00,9,  -999.00,9,  -999.00,9,  -999.00,9,   -999.0,9,   -999.0,9,-999.0000,9,  -999.00,     1006
  49UF20100108,KS1001,  2594,  1,     16,  16022,2,20100212,0910, -0.0117, 144.9837, 3701,    202.7,  16.0870,  35.2723,2,  35.2821,4,    148.0,2,  -999.00,9,  -999.00,9,  -999.00,9,  -999.00,9,   -999.0,9,   -999.0,9,-999.0000,9,  -999.00,     1006
  49UF20100108,KS1001,  2594,  1,     14,  16020,2,20100212,0910, -0.0117, 144.9837, 3701,    251.6,  11.9052,  34.7975,2,-999.0000,9,    137.0,2,  -999.00,9,  -999.00,9,  -999.00,9,  -999.00,9,   -999.0,9,   -999.0,9,-999.0000,9,  -999.00,     1004
  49UF20100108,KS1001,  2594,  1,     13,  16019,2,20100212,0910, -0.0117, 144.9837, 3701,    301.2,  10.7303,  34.7845,2,  34.7860,2,    129.0,2,  -999.00,9,  -999.00,9,  -999.00,9,  -999.00,9,   -999.0,9,   -999.0,9,-999.0000,9,  -999.00,     1002
  49UF20100108,KS1001,  2594,  1,     12,  16018,2,20100212,0910, -0.0117, 144.9837, 3701,    403.3,   9.3527,  34.6713,2,  34.6721,2,    108.0,2,  -999.00,9,  -999.00,9,  -999.00,9,  -999.00,9,   -999.0,9,   -999.0,9,-999.0000,9,  -999.00,      958
  49UF20100108,KS1001,  2594,  1,     11,  16017,2,20100212,0910, -0.0117, 144.9837, 3701,    505.0,   8.1151,  34.6121,2,  34.6127,2,     84.0,2,  -999.00,9,  -999.00,9,  -999.00,9,  -999.00,9,   -999.0,9,   -999.0,9,-999.0000,9,  -999.00,      955
  49UF20100108,KS1001,  2594,  1,     10,  19375,2,20100212,0910, -0.0117, 144.9837, 3701,    606.2,   7.1005,  34.5610,2,  34.5609,2,    109.0,2,  -999.00,9,  -999.00,9,  -999.00,9,  -999.00,9,   -999.0,9,   -999.0,9,-999.0000,9,  -999.00,      952
  49UF20100108,KS1001,  2594,  1,      9,  16015,2,20100212,0910, -0.0117, 144.9837, 3701,    703.5,   6.0980,  34.5330,2,  34.5319,2,   -999.0,9,  -999.00,9,  -999.00,9,  -999.00,9,  -999.00,9,   -999.0,9,   -999.0,9,-999.0000,9,  -999.00,      948
  49UF20100108,KS1001,  2594,  1,      8,  16014,2,20100212,0910, -0.0117, 144.9837, 3701,    808.2,   5.6497,  34.5320,2,  34.5312,2,    108.0,2,  -999.00,9,  -999.00,9,  -999.00,9,  -999.00,9,   -999.0,9,   -999.0,9,-999.0000,9,  -999.00,      945
  49UF20100108,KS1001,  2594,  1,      6,  16012,2,20100212,0910, -0.0117, 144.9837, 3701,    907.4,   4.9430,  34.5416,2,  34.5407,2,    102.0,2,  -999.00,9,  -999.00,9,  -999.00,9,  -999.00,9,   -999.0,9,   -999.0,9,-999.0000,9,  -999.00,      941
  49UF20100108,KS1001,  2594,  1,      7,  19374,2,20100212,0910, -0.0117, 144.9837, 3701,    908.0,   4.9424,  34.5415,2,  34.5406,2,    102.0,2,  -999.00,9,  -999.00,9,  -999.00,9,  -999.00,9,   -999.0,9,   -999.0,9,-999.0000,9,  -999.00,      941
  49UF20100108,KS1001,  2594,  1,      5,  16011,2,20100212,0910, -0.0117, 144.9837, 3701,   1006.3,   4.5986,  34.5504,2,  34.5497,2,   -999.0,9,  -999.00,9,  -999.00,9,  -999.00,9,  -999.00,9,   -999.0,9,   -999.0,9,-999.0000,9,  -999.00,      938
  49UF20100108,KS1001,  2594,  1,      4,  16010,2,20100212,0910, -0.0117, 144.9837, 3701,   1259.8,   3.6129,  34.5780,2,  34.5771,2,    101.0,2,  -999.00,9,  -999.00,9,  -999.00,9,  -999.00,9,   -999.0,9,   -999.0,9,-999.0000,9,  -999.00,      931
  49UF20100108,KS1001,  2594,  1,      3,  16009,2,20100212,0910, -0.0117, 144.9837, 3701,   1514.8,   2.9031,  34.6054,2,  34.6040,2,    106.0,2,  -999.00,9,  -999.00,9,  -999.00,9,  -999.00,9,   -999.0,9,   -999.0,9,-999.0000,9,  -999.00,      925
  49UF20100108,KS1001,  2594,  1,      2,  16008,2,20100212,0910, -0.0117, 144.9837, 3701,   1767.7,   2.5518,  34.6208,2,  34.6196,2,    116.0,2,  -999.00,9,  -999.00,9,  -999.00,9,  -999.00,9,   -999.0,9,   -999.0,9,-999.0000,9,  -999.00,      918
  49UF20100108,KS1001,  2594,  1,      1,  16007,2,20100212,0910, -0.0117, 144.9837, 3701,   2029.8,   2.2115,  34.6381,2,  34.6364,2,    122.0,2,  -999.00,9,  -999.00,9,  -999.00,9,  -999.00,9,   -999.0,9,   -999.0,9,-999.0000,9,  -999.00,      910
  49UF20100108,KS1001,  2595,  1,     99,     99,2,20100212,1916, -0.0032, 143.0635, 3028,      0.0,  28.5274,  34.4913,2,-999.0000,9,    201.0,2,  -999.00,9,  -999.00,9,  -999.00,9,  -999.00,9,   -999.0,9,   -999.0,9,-999.0000,9,  -999.00,     1958
  49UF20100108,KS1001,  2595,  1,     23,  16029,2,20100212,1916, -0.0032, 143.0635, 3028,     10.0,  28.5448,  34.4896,2,-999.0000,9,    200.0,2,  -999.00,9,  -999.00,9,  -999.00,9,  -999.00,9,   -999.0,9,   -999.0,9,-999.0000,9,  -999.00,     2021
  49UF20100108,KS1001,  2595,  1,     22,  16028,2,20100212,1916, -0.0032, 143.0635, 3028,     25.6,  28.4697,  34.4815,2,-999.0000,9,    202.0,2,  -999.00,9,  -999.00,9,  -999.00,9,  -999.00,9,   -999.0,9,   -999.0,9,-999.0000,9,  -999.00,     2019
  49UF20100108,KS1001,  2595,  1,     21,  16027,2,20100212,1916, -0.0032, 143.0635, 3028,     49.0,  28.3583,  34.4770,2,-999.0000,9,    202.0,2,  -999.00,9,  -999.00,9,  -999.00,9,  -999.00,9,   -999.0,9,   -999.0,9,-999.0000,9,  -999.00,     2016
  49UF20100108,KS1001,  2595,  1,     20,  16026,2,20100212,1916, -0.0032, 143.0635, 3028,     74.5,  26.8226,  35.0778,2,-999.0000,9,    159.0,2,  -999.00,9,  -999.00,9,  -999.00,9,  -999.00,9,   -999.0,9,   -999.0,9,-999.0000,9,  -999.00,     2014
  49UF20100108,KS1001,  2595,  1,     19,  19378,2,20100212,1916, -0.0032, 143.0635, 3028,    100.8,  23.9647,  35.4237,2,-999.0000,9,    137.0,2,  -999.00,9,  -999.00,9,  -999.00,9,  -999.00,9,   -999.0,9,   -999.0,9,-999.0000,9,  -999.00,     2013
  49UF20100108,KS1001,  2595,  1,     17,  16023,2,20100212,1916, -0.0032, 143.0635, 3028,    125.7,  22.5183,  35.4417,2,-999.0000,9,    137.0,2,  -999.00,9,  -999.00,9,  -999.00,9,  -999.00,9,   -999.0,9,   -999.0,9,-999.0000,9,  -999.00,     2011
  49UF20100108,KS1001,  2595,  1,     18,  19377,2,20100212,1916, -0.0032, 143.0635, 3028,    125.9,  22.5143,  35.4415,2,-999.0000,9,    136.0,2,  -999.00,9,  -999.00,9,  -999.00,9,  -999.00,9,   -999.0,9,   -999.0,9,-999.0000,9,  -999.00,     2011
  49UF20100108,KS1001,  2595,  1,     16,  16022,2,20100212,1916, -0.0032, 143.0635, 3028,    151.8,  21.2156,  35.1742,2,-999.0000,9,    142.0,2,  -999.00,9,  -999.00,9,  -999.00,9,  -999.00,9,   -999.0,9,   -999.0,9,-999.0000,9,  -999.00,     2010
  49UF20100108,KS1001,  2595,  1,     15,  16021,2,20100212,1916, -0.0032, 143.0635, 3028,    201.0,  17.5515,  35.2659,2,-999.0000,9,    144.0,2,  -999.00,9,  -999.00,9,  -999.00,9,  -999.00,9,   -999.0,9,   -999.0,9,-999.0000,9,  -999.00,     2008
  49UF20100108,KS1001,  2595,  1,     14,  16020,2,20100212,1916, -0.0032, 143.0635, 3028,    248.7,  14.0124,  35.0420,2,-999.0000,9,    149.0,2,  -999.00,9,  -999.00,9,  -999.00,9,  -999.00,9,   -999.0,9,   -999.0,9,-999.0000,9,  -999.00,     2006
  49UF20100108,KS1001,  2595,  1,     13,  16019,2,20100212,1916, -0.0032, 143.0635, 3028,    300.0,  11.4135,  34.7869,2,-999.0000,9,    134.0,2,  -999.00,9,  -999.00,9,  -999.00,9,  -999.00,9,   -999.0,9,   -999.0,9,-999.0000,9,  -999.00,     2004
  49UF20100108,KS1001,  2595,  1,     12,  16018,2,20100212,1916, -0.0032, 143.0635, 3028,    401.7,   9.9486,  34.7227,2,-999.0000,9,    101.0,2,  -999.00,9,  -999.00,9,  -999.00,9,  -999.00,9,   -999.0,9,   -999.0,9,-999.0000,9,  -999.00,     2000
  49UF20100108,KS1001,  2595,  1,     11,  16017,2,20100212,1916, -0.0032, 143.0635, 3028,    501.9,   8.4122,  34.6282,2,-999.0000,9,     79.0,2,  -999.00,9,  -999.00,9,  -999.00,9,  -999.00,9,   -999.0,9,   -999.0,9,-999.0000,9,  -999.00,     1957
  49UF20100108,KS1001,  2595,  1,     10,  19375,2,20100212,1916, -0.0032, 143.0635, 3028,    602.3,   7.1212,  34.5597,2,-999.0000,9,    113.0,2,  -999.00,9,  -999.00,9,  -999.00,9,  -999.00,9,   -999.0,9,   -999.0,9,-999.0000,9,  -999.00,     1954
  49UF20100108,KS1001,  2595,  1,      9,  16015,2,20100212,1916, -0.0032, 143.0635, 3028,    702.7,   6.4795,  34.5419,2,-999.0000,9,    109.0,2,  -999.00,9,  -999.00,9,  -999.00,9,  -999.00,9,   -999.0,9,   -999.0,9,-999.0000,9,  -999.00,     1951
  49UF20100108,KS1001,  2595,  1,      7,  19374,2,20100212,1916, -0.0032, 143.0635, 3028,    804.6,   5.5469,  34.5324,2,-999.0000,9,    103.0,2,  -999.00,9,  -999.00,9,  -999.00,9,  -999.00,9,   -999.0,9,   -999.0,9,-999.0000,9,  -999.00,     1947
  49UF20100108,KS1001,  2595,  1,      8,  16014,2,20100212,1916, -0.0032, 143.0635, 3028,    805.4,   5.5349,  34.5327,2,-999.0000,9,    107.0,2,  -999.00,9,  -999.00,9,  -999.00,9,  -999.00,9,   -999.0,9,   -999.0,9,-999.0000,9,  -999.00,     1948
  49UF20100108,KS1001,  2595,  1,      6,  16012,2,20100212,1916, -0.0032, 143.0635, 3028,    906.0,   5.0168,  34.5393,2,-999.0000,9,    101.0,2,  -999.00,9,  -999.00,9,  -999.00,9,  -999.00,9,   -999.0,9,   -999.0,9,-999.0000,9,  -999.00,     1944
  49UF20100108,KS1001,  2595,  1,      5,  16011,2,20100212,1916, -0.0032, 143.0635, 3028,   1007.5,   4.4796,  34.5531,2,-999.0000,9,    104.0,2,  -999.00,9,  -999.00,9,  -999.00,9,  -999.00,9,   -999.0,9,   -999.0,9,-999.0000,9,  -999.00,     1941
  49UF20100108,KS1001,  2595,  1,      4,  16010,2,20100212,1916, -0.0032, 143.0635, 3028,   1260.4,   3.5362,  34.5770,2,-999.0000,9,    109.0,2,  -999.00,9,  -999.00,9,  -999.00,9,  -999.00,9,   -999.0,9,   -999.0,9,-999.0000,9,  -999.00,     1935
  49UF20100108,KS1001,  2595,  1,      3,  16009,2,20100212,1916, -0.0032, 143.0635, 3028,   1513.2,   2.9303,  34.6036,2,-999.0000,9,    109.0,2,  -999.00,9,  -999.00,9,  -999.00,9,  -999.00,9,   -999.0,9,   -999.0,9,-999.0000,9,  -999.00,     1928
  49UF20100108,KS1001,  2595,  1,      2,  16008,2,20100212,1916, -0.0032, 143.0635, 3028,   1768.4,   2.5606,  34.6200,2,-999.0000,9,    118.0,2,  -999.00,9,  -999.00,9,  -999.00,9,  -999.00,9,   -999.0,9,   -999.0,9,-999.0000,9,  -999.00,     1922
  49UF20100108,KS1001,  2595,  1,      1,  16007,2,20100212,1916, -0.0032, 143.0635, 3028,   2031.7,   2.2834,  34.6349,2,-999.0000,9,    121.0,2,  -999.00,9,  -999.00,9,  -999.00,9,  -999.00,9,   -999.0,9,   -999.0,9,-999.0000,9,  -999.00,     1916