BOTTLE,20190925PRINUNIVRMK
EXPOCODE,SECT_ID,STNNBR,CASTNO,SAMPNO,BTLNBR,BTLNBR_FLAG_W,DATE,TIME,LATITUDE,LONGITUDE,DEPTH,CTDPRS,CTDTMP,CTDSAL,CTDSAL_FLAG_W,SALNTY,SALNTY_FLAG_W,OXYGEN,OXYGEN_FLAG_W,SILCAT,SILCAT_FLAG_W,NITRAT,NITRAT_FLAG_W,NITRIT,NITRIT_FLAG_W,PHSPHT,PHSPHT_FLAG_W,TCARBN,TCARBN_FLAG_W,ALKALI,ALKALI_FLAG_W,PH_TOT,PH_TOT_FLAG_W,PH_TMP,BTL_TIME
,,,,,,,,,,,METERS,DBAR,ITS-90,PSS-78,,PSS-78,,UMOL/KG,,UMOL/KG,,UMOL/KG,,UMOL/KG,,UMOL/KG,,UMOL/KG,,UMOL/KG,,,,DEG C,
  49UF20100108,KS1001,  2587,  1,     99,     99,2,20100209,0512, -0.0102, 158.9993, 2325,      0.0,  29.4318,  34.2846,2,-999.0000,9,    198.0,2,  -999.00,9,  -999.00,9,  -999.00,9,  -999.00,9,   -999.0,9,   -999.0,9,-999.0000,9,  -999.00,      550
  49UF20100108,KS1001,  2587,  1,     23,  16029,2,20100209,0512, -0.0102, 158.9993, 2325,     10.6,  29.4266,  34.2834,2,  34.2832,2,    198.0,2,  -999.00,9,  -999.00,9,  -999.00,9,  -999.00,9,   -999.0,9,   -999.0,9,-999.0000,9,  -999.00,      608
  49UF20100108,KS1001,  2587,  1,     22,  16028,2,20100209,0512, -0.0102, 158.9993, 2325,     25.3,  29.3748,  34.2790,2,-999.0000,9,    198.0,2,  -999.00,9,  -999.00,9,  -999.00,9,  -999.00,9,   -999.0,9,   -999.0,9,-999.0000,9,  -999.00,      606
  49UF20100108,KS1001,  2587,  1,     21,  16027,2,20100209,0512, -0.0102, 158.9993, 2325,     52.1,  29.3258,  34.2753,2,-999.0000,9,    198.0,2,  -999.00,9,  -999.00,9,  -999.00,9,  -999.00,9,   -999.0,9,   -999.0,9,-999.0000,9,  -999.00,      602
  49UF20100108,KS1001,  2587,  1,     20,  16026,2,20100209,0512, -0.0102, 158.9993, 2325,     75.8,  29.3236,  34.2754,2,-999.0000,9,    197.0,2,  -999.00,9,  -999.00,9,  -999.00,9,  -999.00,9,   -999.0,9,   -999.0,9,-999.0000,9,  -999.00,      601
  49UF20100108,KS1001,  2587,  1,     19,  19378,2,20100209,0512, -0.0102, 158.9993, 2325,    100.3,  27.2797,  35.0344,2,  34.8750,2,    171.0,2,  -999.00,9,  -999.00,9,  -999.00,9,  -999.00,9,   -999.0,9,   -999.0,9,-999.0000,9,  -999.00,      600
  49UF20100108,KS1001,  2587,  1,     18,  19377,2,20100209,0512, -0.0102, 158.9993, 2325,    100.6,  27.1064,  35.0846,2,  34.9451,4,    166.0,2,  -999.00,9,  -999.00,9,  -999.00,9,  -999.00,9,   -999.0,9,   -999.0,9,-999.0000,9,  -999.00,      600
  49UF20100108,KS1001,  2587,  1,     17,  16023,2,20100209,0512, -0.0102, 158.9993, 2325,    126.5,  22.4608,  35.3898,2,-999.0000,9,    136.0,2,  -999.00,9,  -999.00,9,  -999.00,9,  -999.00,9,   -999.0,9,   -999.0,9,-999.0000,9,  -999.00,      558
  49UF20100108,KS1001,  2587,  1,     16,  16022,2,20100209,0512, -0.0102, 158.9993, 2325,    151.6,  20.3070,  35.3243,2,-999.0000,9,    135.0,2,  -999.00,9,  -999.00,9,  -999.00,9,  -999.00,9,   -999.0,9,   -999.0,9,-999.0000,9,  -999.00,      557
  49UF20100108,KS1001,  2587,  1,     15,  16021,2,20100209,0512, -0.0102, 158.9993, 2325,    200.2,  14.3946,  34.8900,2,  34.9006,4,    137.0,2,  -999.00,9,  -999.00,9,  -999.00,9,  -999.00,9,   -999.0,9,   -999.0,9,-999.0000,9,  -999.00,      556
  49UF20100108,KS1001,  2587,  1,     14,  16020,2,20100209,0512, -0.0102, 158.9993, 2325,    252.3,  12.1036,  34.8634,2,-999.0000,9,    138.0,2,  -999.00,9,  -999.00,9,  -999.00,9,  -999.00,9,   -999.0,9,   -999.0,9,-999.0000,9,  -999.00,      554
  49UF20100108,KS1001,  2587,  1,     13,  16019,2,20100209,0512, -0.0102, 158.9993, 2325,    302.6,  11.8679,  34.8489,2,  34.8508,2,    120.0,2,  -999.00,9,  -999.00,9,  -999.00,9,  -999.00,9,   -999.0,9,   -999.0,9,-999.0000,9,  -999.00,      552
  49UF20100108,KS1001,  2587,  1,     12,  16018,2,20100209,0512, -0.0102, 158.9993, 2325,    403.4,   9.6748,  34.7054,2,  34.7056,2,     60.0,2,  -999.00,9,  -999.00,9,  -999.00,9,  -999.00,9,   -999.0,9,   -999.0,9,-999.0000,9,  -999.00,      550
  49UF20100108,KS1001,  2587,  1,     11,  16017,2,20100209,0512, -0.0102, 158.9993, 2325,    504.8,   8.0342,  34.6095,2,  34.6087,2,     84.0,2,  -999.00,9,  -999.00,9,  -999.00,9,  -999.00,9,   -999.0,9,   -999.0,9,-999.0000,9,  -999.00,      547
  49UF20100108,KS1001,  2587,  1,      9,  16015,3,20100209,0512, -0.0102, 158.9993, 2325,    604.3,   6.8976,  34.5643,2,  34.5648,2,     86.0,2,  -999.00,9,  -999.00,9,  -999.00,9,  -999.00,9,   -999.0,9,   -999.0,9,-999.0000,9,  -999.00,      544
  49UF20100108,KS1001,  2587,  1,     10,  19375,2,20100209,0512, -0.0102, 158.9993, 2325,    604.7,   6.8979,  34.5646,2,  34.5640,2,     86.0,2,  -999.00,9,  -999.00,9,  -999.00,9,  -999.00,9,   -999.0,9,   -999.0,9,-999.0000,9,  -999.00,      544
  49UF20100108,KS1001,  2587,  1,      8,  16014,2,20100209,0512, -0.0102, 158.9993, 2325,    705.3,   6.1902,  34.5417,2,  34.5423,2,     98.0,2,  -999.00,9,  -999.00,9,  -999.00,9,  -999.00,9,   -999.0,9,   -999.0,9,-999.0000,9,  -999.00,      542
  49UF20100108,KS1001,  2587,  1,      7,  19374,2,20100209,0512, -0.0102, 158.9993, 2325,    806.0,   5.5839,  34.5365,2,  34.5362,2,    100.0,2,  -999.00,9,  -999.00,9,  -999.00,9,  -999.00,9,   -999.0,9,   -999.0,9,-999.0000,9,  -999.00,      539
  49UF20100108,KS1001,  2587,  1,      6,  16012,2,20100209,0512, -0.0102, 158.9993, 2325,    907.7,   4.9501,  34.5418,2,  34.5446,2,    101.0,2,  -999.00,9,  -999.00,9,  -999.00,9,  -999.00,9,   -999.0,9,   -999.0,9,-999.0000,9,  -999.00,      537
  49UF20100108,KS1001,  2587,  1,      5,  16011,2,20100209,0512, -0.0102, 158.9993, 2325,   1007.8,   4.5505,  34.5508,2,  34.5495,2,    103.0,2,  -999.00,9,  -999.00,9,  -999.00,9,  -999.00,9,   -999.0,9,   -999.0,9,-999.0000,9,  -999.00,      534
  49UF20100108,KS1001,  2587,  1,      4,  16010,2,20100209,0512, -0.0102, 158.9993, 2325,   1262.4,   3.6170,  34.5782,2,  34.5780,2,     98.0,2,  -999.00,9,  -999.00,9,  -999.00,9,  -999.00,9,   -999.0,9,   -999.0,9,-999.0000,9,  -999.00,      529
  49UF20100108,KS1001,  2587,  1,      3,  16009,2,20100209,0512, -0.0102, 158.9993, 2325,   1514.5,   3.0221,  34.6011,2,  34.6005,2,    103.0,2,  -999.00,9,  -999.00,9,  -999.00,9,  -999.00,9,   -999.0,9,   -999.0,9,-999.0000,9,  -999.00,      523
  49UF20100108,KS1001,  2587,  1,      2,  16008,2,20100209,0512, -0.0102, 158.9993, 2325,   1768.4,   2.5592,  34.6207,2,  34.6206,2,    114.0,2,  -999.00,9,  -999.00,9,  -999.00,9,  -999.00,9,   -999.0,9,   -999.0,9,-999.0000,9,  -999.00,      518
  49UF20100108,KS1001,  2587,  1,      1,  16007,2,20100209,0512, -0.0102, 158.9993, 2325,   2028.3,   2.1750,  34.6409,2,  34.6399,2,    122.0,2,  -999.00,9,  -999.00,9,  -999.00,9,  -999.00,9,   -999.0,9,   -999.0,9,-999.0000,9,  -999.00,      512
  49UF20100108,KS1001,  2588,  1,     99,     99,2,20100209,1617, -0.0137, 156.9932, 2112,      0.0,  29.2989,  34.3268,2,-999.0000,9,    198.0,2,  -999.00,9,  -999.00,9,  -999.00,9,  -999.00,9,   -999.0,9,   -999.0,9,-999.0000,9,  -999.00,     1656
  49UF20100108,KS1001,  2588,  1,     23,  16029,2,20100209,1617, -0.0137, 156.9932, 2112,     11.4,  29.3013,  34.3255,2,-999.0000,9,    198.0,2,  -999.00,9,  -999.00,9,  -999.00,9,  -999.00,9,   -999.0,9,   -999.0,9,-999.0000,9,  -999.00,     1714
  49UF20100108,KS1001,  2588,  1,     22,  16028,2,20100209,1617, -0.0137, 156.9932, 2112,     25.4,  29.2997,  34.3256,2,-999.0000,9,   -999.0,9,  -999.00,9,  -999.00,9,  -999.00,9,  -999.00,9,   -999.0,9,   -999.0,9,-999.0000,9,  -999.00,     1712
  49UF20100108,KS1001,  2588,  1,     20,  16026,2,20100209,1617, -0.0137, 156.9932, 2112,     52.3,  29.3184,  34.3216,2,-999.0000,9,    197.0,2,  -999.00,9,  -999.00,9,  -999.00,9,  -999.00,9,   -999.0,9,   -999.0,9,-999.0000,9,  -999.00,     1708
  49UF20100108,KS1001,  2588,  1,     21,  16027,2,20100209,1617, -0.0137, 156.9932, 2112,     52.4,  29.3180,  34.3217,2,-999.0000,9,    198.0,2,  -999.00,9,  -999.00,9,  -999.00,9,  -999.00,9,   -999.0,9,   -999.0,9,-999.0000,9,  -999.00,     1708
  49UF20100108,KS1001,  2588,  1,     19,  19378,2,20100209,1617, -0.0137, 156.9932, 2112,     77.4,  29.2480,  34.3744,2,-999.0000,9,    195.0,2,  -999.00,9,  -999.00,9,  -999.00,9,  -999.00,9,   -999.0,9,   -999.0,9,-999.0000,9,  -999.00,     1707
  49UF20100108,KS1001,  2588,  1,     18,  19377,2,20100209,1617, -0.0137, 156.9932, 2112,    103.5,  25.0205,  35.3350,2,-999.0000,9,    142.0,2,  -999.00,9,  -999.00,9,  -999.00,9,  -999.00,9,   -999.0,9,   -999.0,9,-999.0000,9,  -999.00,     1706
  49UF20100108,KS1001,  2588,  1,     17,  16023,2,20100209,1617, -0.0137, 156.9932, 2112,    126.1,  22.7185,  35.2850,2,-999.0000,9,    140.0,2,  -999.00,9,  -999.00,9,  -999.00,9,  -999.00,9,   -999.0,9,   -999.0,9,-999.0000,9,  -999.00,     1704
  49UF20100108,KS1001,  2588,  1,     16,  16022,2,20100209,1617, -0.0137, 156.9932, 2112,    152.5,  20.1811,  35.1844,2,-999.0000,9,    139.0,2,  -999.00,9,  -999.00,9,  -999.00,9,  -999.00,9,   -999.0,9,   -999.0,9,-999.0000,9,  -999.00,     1703
  49UF20100108,KS1001,  2588,  1,     15,  16021,2,20100209,1617, -0.0137, 156.9932, 2112,    201.7,  13.3220,  34.6882,2,-999.0000,9,    132.0,2,  -999.00,9,  -999.00,9,  -999.00,9,  -999.00,9,   -999.0,9,   -999.0,9,-999.0000,9,  -999.00,     1702
  49UF20100108,KS1001,  2588,  1,     14,  16020,2,20100209,1617, -0.0137, 156.9932, 2112,    253.3,  11.8310,  34.8485,2,-999.0000,9,    134.0,2,  -999.00,9,  -999.00,9,  -999.00,9,  -999.00,9,   -999.0,9,   -999.0,9,-999.0000,9,  -999.00,     1700
  49UF20100108,KS1001,  2588,  1,     13,  16019,3,20100209,1617, -0.0137, 156.9932, 2112,    303.2,  11.3186,  34.8040,2,-999.0000,9,    111.0,2,  -999.00,9,  -999.00,9,  -999.00,9,  -999.00,9,   -999.0,9,   -999.0,9,-999.0000,9,  -999.00,     1658
  49UF20100108,KS1001,  2588,  1,     12,  16018,2,20100209,1617, -0.0137, 156.9932, 2112,    403.7,   8.9778,  34.6630,2,-999.0000,9,     59.0,2,  -999.00,9,  -999.00,9,  -999.00,9,  -999.00,9,   -999.0,9,   -999.0,9,-999.0000,9,  -999.00,     1656
  49UF20100108,KS1001,  2588,  1,     10,  19375,2,20100209,1617, -0.0137, 156.9932, 2112,    504.8,   7.8140,  34.5934,2,-999.0000,9,    102.0,2,  -999.00,9,  -999.00,9,  -999.00,9,  -999.00,9,   -999.0,9,   -999.0,9,-999.0000,9,  -999.00,     1653
  49UF20100108,KS1001,  2588,  1,     11,  16017,2,20100209,1617, -0.0137, 156.9932, 2112,    506.2,   7.8142,  34.5936,2,-999.0000,9,    102.0,2,  -999.00,9,  -999.00,9,  -999.00,9,  -999.00,9,   -999.0,9,   -999.0,9,-999.0000,9,  -999.00,     1653
  49UF20100108,KS1001,  2588,  1,      9,  16015,2,20100209,1617, -0.0137, 156.9932, 2112,    606.0,   7.0622,  34.5691,2,-999.0000,9,     86.0,2,  -999.00,9,  -999.00,9,  -999.00,9,  -999.00,9,   -999.0,9,   -999.0,9,-999.0000,9,  -999.00,     1650
  49UF20100108,KS1001,  2588,  1,      8,  16014,2,20100209,1617, -0.0137, 156.9932, 2112,    706.7,   6.2599,  34.5438,2,-999.0000,9,     95.0,2,  -999.00,9,  -999.00,9,  -999.00,9,  -999.00,9,   -999.0,9,   -999.0,9,-999.0000,9,  -999.00,     1647
  49UF20100108,KS1001,  2588,  1,      7,  19374,2,20100209,1617, -0.0137, 156.9932, 2112,    807.6,   5.5984,  34.5383,2,-999.0000,9,     95.0,2,  -999.00,9,  -999.00,9,  -999.00,9,  -999.00,9,   -999.0,9,   -999.0,9,-999.0000,9,  -999.00,     1645
  49UF20100108,KS1001,  2588,  1,      6,  16012,2,20100209,1617, -0.0137, 156.9932, 2112,    910.1,   4.9495,  34.5446,2,-999.0000,9,     95.0,2,  -999.00,9,  -999.00,9,  -999.00,9,  -999.00,9,   -999.0,9,   -999.0,9,-999.0000,9,  -999.00,     1642
  49UF20100108,KS1001,  2588,  1,      5,  16011,2,20100209,1617, -0.0137, 156.9932, 2112,   1008.9,   4.7104,  34.5480,2,-999.0000,9,     96.0,2,  -999.00,9,  -999.00,9,  -999.00,9,  -999.00,9,   -999.0,9,   -999.0,9,-999.0000,9,  -999.00,     1639
  49UF20100108,KS1001,  2588,  1,      4,  16010,2,20100209,1617, -0.0137, 156.9932, 2112,   1264.0,   3.8092,  34.5720,2,-999.0000,9,     97.0,2,  -999.00,9,  -999.00,9,  -999.00,9,  -999.00,9,   -999.0,9,   -999.0,9,-999.0000,9,  -999.00,     1634
  49UF20100108,KS1001,  2588,  1,      3,  16009,2,20100209,1617, -0.0137, 156.9932, 2112,   1515.6,   3.1178,  34.5970,2,-999.0000,9,    103.0,2,  -999.00,9,  -999.00,9,  -999.00,9,  -999.00,9,   -999.0,9,   -999.0,9,-999.0000,9,  -999.00,     1628
  49UF20100108,KS1001,  2588,  1,      2,  16008,2,20100209,1617, -0.0137, 156.9932, 2112,   1766.8,   2.4757,  34.6248,2,-999.0000,9,    117.0,2,  -999.00,9,  -999.00,9,  -999.00,9,  -999.00,9,   -999.0,9,   -999.0,9,-999.0000,9,  -999.00,     1623
  49UF20100108,KS1001,  2588,  1,      1,  16007,2,20100209,1617, -0.0137, 156.9932, 2112,   2028.6,   2.2231,  34.6384,2,-999.0000,9,    123.0,2,  -999.00,9,  -999.00,9,  -999.00,9,  -999.00,9,   -999.0,9,   -999.0,9,-999.0000,9,  -999.00,     1617
  49UF20100108,KS1001,  2589,  1,     99,     99,2,20100210,0353, -0.0128, 154.9892, 2478,      0.0,  29.4839,  34.3402,2,-999.0000,9,    199.0,2,     0.01,2,     0.10,2,     0.00,2,     0.01,2,   -999.0,9,   -999.0,9,-999.0000,9,  -999.00,      429
  49UF20100108,KS1001,  2589,  1,     23,  16029,2,20100210,0353, -0.0128, 154.9892, 2478,     11.8,  29.4197,  34.3371,2,-999.0000,9,    199.0,2,     0.05,2,     0.10,2,     0.00,2,     0.00,2,   1910.2,2,   2258.9,2,-999.0000,9,  -999.00,      450
  49UF20100108,KS1001,  2589,  1,     22,  16028,2,20100210,0353, -0.0128, 154.9892, 2478,     24.3,  29.3234,  34.3325,2,-999.0000,9,    199.0,2,     0.00,2,     0.00,2,     0.00,2,     0.00,2,   1904.9,2,   2261.1,2,-999.0000,9,  -999.00,      449
  49UF20100108,KS1001,  2589,  1,     21,  16027,2,20100210,0353, -0.0128, 154.9892, 2478,     51.1,  29.3115,  34.3366,2,-999.0000,9,    198.0,2,     0.00,2,     0.09,2,     0.01,2,     0.00,2,   1913.2,2,   2259.6,2,-999.0000,9,  -999.00,      445
  49UF20100108,KS1001,  2589,  1,     20,  16026,2,20100210,0353, -0.0128, 154.9892, 2478,     75.8,  29.0193,  34.4828,2,-999.0000,9,    188.0,2,     0.03,2,     0.66,2,     0.34,2,     0.06,2,   1925.6,2,   2270.9,2,-999.0000,9,  -999.00,      443
  49UF20100108,KS1001,  2589,  1,     19,  19378,2,20100210,0353, -0.0128, 154.9892, 2478,    101.8,  25.8296,  35.5741,2,-999.0000,9,    141.0,2,     1.74,2,     8.25,2,     0.05,2,     0.62,2,   2067.7,2,   2337.7,2,-999.0000,9,  -999.00,      442
  49UF20100108,KS1001,  2589,  1,     18,  19377,2,20100210,0353, -0.0128, 154.9892, 2478,    128.8,  22.0984,  35.1137,2,-999.0000,9,    142.0,2,     4.27,2,     8.96,2,     0.04,2,     0.64,2,   2069.1,2,   2314.6,2,-999.0000,9,  -999.00,      441
  49UF20100108,KS1001,  2589,  1,     17,  16023,2,20100210,0353, -0.0128, 154.9892, 2478,    152.8,  19.4080,  35.2539,2,-999.0000,9,    137.0,2,     6.42,2,    11.88,2,     0.02,2,     0.85,2,   2103.1,2,   2323.0,2,-999.0000,9,  -999.00,      439
  49UF20100108,KS1001,  2589,  1,     16,  16022,2,20100210,0353, -0.0128, 154.9892, 2478,    202.1,  14.3118,  34.9075,2,-999.0000,9,    138.0,2,    15.32,2,    17.38,2,     0.02,2,     1.23,2,   2141.3,2,   2310.4,2,-999.0000,9,  -999.00,      438
  49UF20100108,KS1001,  2589,  1,     15,  16021,2,20100210,0353, -0.0128, 154.9892, 2478,    252.7,  12.0291,  34.8053,2,-999.0000,9,    135.0,2,    18.93,2,    21.19,2,     0.01,2,     1.49,2,   2160.1,2,   2309.4,2,-999.0000,9,  -999.00,      436
  49UF20100108,KS1001,  2589,  1,     14,  16020,2,20100210,0353, -0.0128, 154.9892, 2478,    304.4,  11.3222,  34.8159,2,-999.0000,9,    118.0,2,    19.21,2,    24.19,2,     0.01,4,     1.69,2,   2183.2,2,   2313.1,2,-999.0000,9,  -999.00,      434
  49UF20100108,KS1001,  2589,  1,     13,  16019,2,20100210,0353, -0.0128, 154.9892, 2478,    403.5,  10.0303,  34.7203,2,-999.0000,9,     71.0,2,    27.35,2,    31.29,2,     0.01,4,     2.18,2,   2222.9,2,   2309.3,2,-999.0000,9,  -999.00,      431
  49UF20100108,KS1001,  2589,  1,     11,  16017,2,20100210,0353, -0.0128, 154.9892, 2478,    504.7,   8.5839,  34.6242,2,-999.0000,9,     93.0,2,    32.24,2,    31.89,2,     0.01,4,     2.24,2,   2232.2,2,   2304.0,2,-999.0000,9,  -999.00,      428
  49UF20100108,KS1001,  2589,  1,     12,  16018,2,20100210,0353, -0.0128, 154.9892, 2478,    506.3,   8.5232,  34.6199,2,-999.0000,9,     93.0,2,    32.67,2,    31.89,2,     0.01,4,     2.30,2,   -999.0,9,   -999.0,9,-999.0000,9,  -999.00,      429
  49UF20100108,KS1001,  2589,  1,     10,  19375,2,20100210,0353, -0.0128, 154.9892, 2478,    604.8,   7.2107,  34.5730,2,-999.0000,9,     88.0,2,    41.20,2,    35.29,2,     0.01,4,     2.51,2,   2243.6,2,   2321.2,2,-999.0000,9,  -999.00,      426
  49UF20100108,KS1001,  2589,  1,      9,  16015,2,20100210,0353, -0.0128, 154.9892, 2478,    706.0,   6.3948,  34.5481,2,-999.0000,9,     92.0,2,    48.49,2,    36.39,2,     0.01,4,     2.61,2,   2252.7,2,   2326.6,2,-999.0000,9,  -999.00,      423
  49UF20100108,KS1001,  2589,  1,      8,  16014,2,20100210,0353, -0.0128, 154.9892, 2478,    808.1,   5.4676,  34.5385,2,-999.0000,9,     98.0,2,    61.63,2,    37.19,2,     0.01,4,     2.69,2,   2273.4,2,   2347.8,2,-999.0000,9,  -999.00,      420
  49UF20100108,KS1001,  2589,  1,      7,  19374,2,20100210,0353, -0.0128, 154.9892, 2478,    908.4,   4.9043,  34.5457,2,-999.0000,9,     93.0,2,    73.24,2,    38.39,2,     0.01,4,     2.80,2,   2287.0,2,   2359.8,2,-999.0000,9,  -999.00,      418
  49UF20100108,KS1001,  2589,  1,      6,  16012,2,20100210,0353, -0.0128, 154.9892, 2478,   1008.8,   4.5305,  34.5515,2,-999.0000,9,    103.0,2,    80.29,2,    38.19,2,     0.01,4,     2.83,2,   2293.4,2,   2356.8,2,-999.0000,9,  -999.00,      415
  49UF20100108,KS1001,  2589,  1,      5,  16011,2,20100210,0353, -0.0128, 154.9892, 2478,   1260.9,   3.6596,  34.5769,2,-999.0000,9,     97.0,2,    98.94,2,    38.69,2,     0.01,4,     2.90,2,   -999.0,9,   -999.0,9,-999.0000,9,  -999.00,      409
  49UF20100108,KS1001,  2589,  1,      4,  16010,3,20100210,0353, -0.0128, 154.9892, 2478,   1517.3,   3.0516,  34.6002,2,-999.0000,9,    103.0,2,   113.14,2,    39.09,2,     0.01,4,     2.87,2,   -999.0,9,   -999.0,9,-999.0000,9,  -999.00,      404
  49UF20100108,KS1001,  2589,  1,      3,  16009,2,20100210,0353, -0.0128, 154.9892, 2478,   1768.3,   2.5578,  34.6209,2,-999.0000,9,    114.0,2,   122.60,2,    38.59,2,     0.01,4,     2.81,2,   -999.0,9,   -999.0,9,-999.0000,9,  -999.00,      358
  49UF20100108,KS1001,  2589,  1,      1,  16007,2,20100210,0353, -0.0128, 154.9892, 2478,   2028.6,   2.2084,  34.6391,2,-999.0000,9,    122.0,2,   129.91,2,    38.09,2,     0.01,4,     2.77,2,   -999.0,9,   -999.0,9,-999.0000,9,  -999.00,      352
  49UF20100108,KS1001,  2589,  1,      2,  16008,2,20100210,0353, -0.0128, 154.9892, 2478,   2029.0,   2.2085,  34.6391,2,-999.0000,9,    122.0,2,   130.26,2,    38.09,2,     0.01,4,     2.76,2,   -999.0,9,   -999.0,9,-999.0000,9,  -999.00,      353