BOTTLE,20190925PRINUNIVRMK
EXPOCODE,SECT_ID,STNNBR,CASTNO,SAMPNO,BTLNBR,BTLNBR_FLAG_W,DATE,TIME,LATITUDE,LONGITUDE,DEPTH,CTDPRS,CTDTMP,CTDSAL,CTDSAL_FLAG_W,SALNTY,SALNTY_FLAG_W,OXYGEN,OXYGEN_FLAG_W,SILCAT,SILCAT_FLAG_W,NITRAT,NITRAT_FLAG_W,NITRIT,NITRIT_FLAG_W,PHSPHT,PHSPHT_FLAG_W,TCARBN,TCARBN_FLAG_W,ALKALI,ALKALI_FLAG_W,PH_TOT,PH_TOT_FLAG_W,PH_TMP,BTL_TIME
,,,,,,,,,,,METERS,DBAR,ITS-90,PSS-78,,PSS-78,,UMOL/KG,,UMOL/KG,,UMOL/KG,,UMOL/KG,,UMOL/KG,,UMOL/KG,,UMOL/KG,,,,DEG C,
  49UF20100108,KS1001,  2559,  1,     99,     99,2,20100119,0247, 19.9758, 164.9912, 5346,      0.0,  26.9346,  35.2408,2,-999.0000,9,    205.0,2,     0.00,2,     0.00,2,     0.00,2,     0.00,2,   -999.0,9,   -999.0,9,-999.0000,9,  -999.00,      315
  49UF20100108,KS1001,  2559,  1,     23,  16029,2,20100119,0247, 19.9758, 164.9912, 5346,     10.4,  26.8281,  35.2430,2,  35.2394,2,    205.0,2,     0.00,2,     0.00,2,     0.00,2,     0.00,2,   1737.9,4,   2201.4,4,   8.1051,2,    25.00,      341
  49UF20100108,KS1001,  2559,  1,     22,  16028,2,20100119,0247, 19.9758, 164.9912, 5346,     25.0,  26.7987,  35.2431,2,-999.0000,9,    205.0,2,     0.00,2,     0.00,2,     0.00,2,     0.00,2,   1717.7,4,   2200.1,4,   8.1121,2,    25.00,      339
  49UF20100108,KS1001,  2559,  1,     21,  16027,2,20100119,0247, 19.9758, 164.9912, 5346,     49.0,  26.7951,  35.2687,2,-999.0000,9,    205.0,2,     0.00,2,     0.00,2,     0.00,2,     0.00,2,   1735.2,4,   2205.5,4,   8.1126,2,    25.00,      336
  49UF20100108,KS1001,  2559,  1,     20,  16026,2,20100119,0247, 19.9758, 164.9912, 5346,     73.7,  26.5723,  35.2922,2,-999.0000,9,    206.0,2,     0.00,2,     0.00,2,     0.00,2,     0.00,2,   1765.9,4,   2079.0,4,   8.1081,2,    25.00,      335
  49UF20100108,KS1001,  2559,  1,     19,  19378,2,20100119,0247, 19.9758, 164.9912, 5346,    102.0,  24.7111,  35.1795,2,  35.1616,4,    213.0,2,     0.03,2,     0.00,2,     0.00,2,     0.00,2,   1775.5,4,   2203.4,4,   8.0746,2,    25.00,      334
  49UF20100108,KS1001,  2559,  1,     18,  19377,2,20100119,0247, 19.9758, 164.9912, 5346,    127.0,  23.2271,  35.1920,2,-999.0000,9,    202.0,2,     0.20,2,     0.00,2,     0.10,2,     0.01,2,   1986.0,4,   2197.8,4,   8.0397,2,    25.00,      333
  49UF20100108,KS1001,  2559,  1,     17,  16023,2,20100119,0247, 19.9758, 164.9912, 5346,    149.8,  21.5838,  35.0844,2,-999.0000,9,    193.0,2,     0.56,2,     0.66,2,     0.04,2,     0.06,2,   1816.5,4,   2201.2,4,   7.9971,2,    25.00,      332
  49UF20100108,KS1001,  2559,  1,     16,  16022,2,20100119,0247, 19.9758, 164.9912, 5346,    202.6,  19.0741,  34.8647,2,  34.8663,2,    194.0,2,     1.61,2,     2.59,2,     0.01,2,     0.18,2,   1913.9,4,   2175.0,4,   7.9530,2,    25.00,      331
  49UF20100108,KS1001,  2559,  1,     15,  16021,2,20100119,0247, 19.9758, 164.9912, 5346,    252.7,  17.1726,  34.7181,2,-999.0000,9,    196.0,2,     3.30,2,     5.49,2,     0.01,2,     0.35,2,   1897.5,4,   2170.4,4,   7.9237,2,    25.00,      329
  49UF20100108,KS1001,  2559,  1,     14,  16020,2,20100119,0247, 19.9758, 164.9912, 5346,    302.4,  15.4760,  34.5894,2,  34.5924,2,    199.0,2,     5.78,2,     7.79,2,     0.01,4,     0.51,2,   1924.5,4,   2168.0,4,   7.8920,2,    25.00,      328
  49UF20100108,KS1001,  2559,  1,     13,  16019,2,20100119,0247, 19.9758, 164.9912, 5346,    404.9,  11.9877,  34.3150,2,  34.3173,2,    198.0,2,    13.60,2,    13.49,2,     0.01,4,     0.92,2,   1957.1,4,   2156.7,4,   7.7901,2,    25.00,      325
  49UF20100108,KS1001,  2559,  1,     12,  16018,2,20100119,0247, 19.9758, 164.9912, 5346,    502.5,   8.5578,  34.1266,2,  34.1280,2,    148.0,2,    34.99,2,    24.39,2,     0.01,4,     1.74,2,   -999.0,9,   -999.0,9,-999.0000,9,  -999.00,      322
  49UF20100108,KS1001,  2559,  1,     11,  16017,2,20100119,0247, 19.9758, 164.9912, 5346,    503.8,   8.5484,  34.1260,2,  34.1276,2,    148.0,2,    34.98,2,    24.49,2,     0.01,4,     1.74,2,   2083.0,4,   2142.3,4,   7.6189,2,    25.00,      322
  49UF20100108,KS1001,  2559,  1,     10,  19375,2,20100119,0247, 19.9758, 164.9912, 5346,    605.0,   6.4478,  34.1504,2,  34.1512,2,     88.0,2,    60.92,2,    33.99,2,     0.01,4,     2.45,2,   2125.1,4,   2172.2,4,   7.4588,2,    25.00,      319
  49UF20100108,KS1001,  2559,  1,      9,  16015,2,20100119,0247, 19.9758, 164.9912, 5346,    706.4,   5.1542,  34.2693,2,  34.2677,2,     52.0,2,    84.49,2,    39.19,2,     0.01,4,     2.85,2,   2189.9,4,   2194.9,4,   7.3944,2,    25.00,      317
  49UF20100108,KS1001,  2559,  1,      8,  16014,2,20100119,0247, 19.9758, 164.9912, 5346,    807.0,   4.5822,  34.3558,2,  34.3524,2,     48.0,2,    96.19,2,    40.49,2,     0.01,4,     2.93,2,   2221.9,4,   2209.7,4,   7.3905,2,    25.00,      314
  49UF20100108,KS1001,  2559,  1,      7,  19374,2,20100119,0247, 19.9758, 164.9912, 5346,    908.6,   4.2148,  34.4307,2,  34.4298,2,     55.0,2,   103.63,2,    40.69,2,     0.01,4,     2.93,2,   2226.6,4,   2222.1,4,   7.4025,2,    25.00,      311
  49UF20100108,KS1001,  2559,  1,      6,  16012,2,20100119,0247, 19.9758, 164.9912, 5346,   1006.6,   3.9192,  34.4731,2,  34.4722,2,     59.0,2,   109.12,2,    40.59,2,     0.01,4,     2.91,2,   2225.6,4,   2232.4,4,   7.4175,2,    25.00,      309
  49UF20100108,KS1001,  2559,  1,      5,  16011,2,20100119,0247, 19.9758, 164.9912, 5346,   1260.4,   3.1386,  34.5492,2,  34.5484,2,     78.0,2,   123.49,2,    40.09,2,     0.01,4,     2.84,2,   2261.8,4,   2254.2,4,   7.4484,2,    25.00,      303
  49UF20100108,KS1001,  2559,  1,      4,  16010,2,20100119,0247, 19.9758, 164.9912, 5346,   1515.4,   2.6557,  34.5789,2,  34.5792,2,     88.0,2,   133.45,2,    39.89,2,     0.01,4,     2.82,2,   2265.7,4,   2258.8,4,   7.4626,2,    25.00,      258
  49UF20100108,KS1001,  2559,  1,      3,  16009,2,20100119,0247, 19.9758, 164.9912, 5346,   1770.7,   2.3153,  34.6024,2,  34.6033,2,     96.0,2,   139.73,2,    39.59,2,     0.01,4,     2.78,2,   2282.5,4,   2270.8,4,   7.4786,2,    25.00,      252
  49UF20100108,KS1001,  2559,  1,      2,  16008,2,20100119,0247, 19.9758, 164.9912, 5346,   2028.3,   2.0165,  34.6257,2,  34.6248,2,    107.0,2,   145.18,2,    39.09,2,     0.01,4,     2.73,2,   -999.0,9,   -999.0,9,-999.0000,9,  -999.00,      247
  49UF20100108,KS1001,  2559,  1,      1,  16007,2,20100119,0247, 19.9758, 164.9912, 5346,   2028.9,   2.0153,  34.6259,2,  34.6266,2,    107.0,2,   144.54,2,    38.79,2,     0.01,4,     2.74,2,   2282.4,4,   2273.8,4,   7.4948,6,    25.00,      247
  49UF20100108,KS1001,  2561,  1,     99,     99,2,20100119,1504, 18.0002, 164.9895, 5425,      0.0,  27.3494,  35.1713,2,-999.0000,9,    202.0,2,  -999.00,9,  -999.00,9,  -999.00,9,  -999.00,9,   -999.0,9,   -999.0,9,-999.0000,9,  -999.00,     1539
  49UF20100108,KS1001,  2561,  1,     23,  16029,2,20100119,1504, 18.0002, 164.9895, 5425,      8.7,  27.3539,  35.1710,2,-999.0000,9,    202.0,2,  -999.00,9,  -999.00,9,  -999.00,9,  -999.00,9,   -999.0,9,   -999.0,9,-999.0000,9,  -999.00,     1558
  49UF20100108,KS1001,  2561,  1,     22,  16028,2,20100119,1504, 18.0002, 164.9895, 5425,     25.8,  27.3520,  35.1712,2,-999.0000,9,    202.0,2,  -999.00,9,  -999.00,9,  -999.00,9,  -999.00,9,   -999.0,9,   -999.0,9,-999.0000,9,  -999.00,     1557
  49UF20100108,KS1001,  2561,  1,     21,  16027,2,20100119,1504, 18.0002, 164.9895, 5425,     51.1,  27.3630,  35.1700,2,-999.0000,9,    202.0,2,  -999.00,9,  -999.00,9,  -999.00,9,  -999.00,9,   -999.0,9,   -999.0,9,-999.0000,9,  -999.00,     1554
  49UF20100108,KS1001,  2561,  1,     20,  16026,2,20100119,1504, 18.0002, 164.9895, 5425,     75.7,  27.3701,  35.1695,2,-999.0000,9,    202.0,2,  -999.00,9,  -999.00,9,  -999.00,9,  -999.00,9,   -999.0,9,   -999.0,9,-999.0000,9,  -999.00,     1553
  49UF20100108,KS1001,  2561,  1,     19,  19378,2,20100119,1504, 18.0002, 164.9895, 5425,    102.0,  27.3709,  35.1665,2,-999.0000,9,    202.0,2,  -999.00,9,  -999.00,9,  -999.00,9,  -999.00,9,   -999.0,9,   -999.0,9,-999.0000,9,  -999.00,     1552
  49UF20100108,KS1001,  2561,  1,     18,  19377,2,20100119,1504, 18.0002, 164.9895, 5425,    127.4,  25.2209,  35.2385,2,-999.0000,9,    210.0,2,  -999.00,9,  -999.00,9,  -999.00,9,  -999.00,9,   -999.0,9,   -999.0,9,-999.0000,9,  -999.00,     1551
  49UF20100108,KS1001,  2561,  1,     17,  16023,2,20100119,1504, 18.0002, 164.9895, 5425,    150.9,  23.5584,  35.1788,2,-999.0000,9,    195.0,2,  -999.00,9,  -999.00,9,  -999.00,9,  -999.00,9,   -999.0,9,   -999.0,9,-999.0000,9,  -999.00,     1550
  49UF20100108,KS1001,  2561,  1,     16,  16022,3,20100119,1504, 18.0002, 164.9895, 5425,    200.8,  19.7106,  34.9230,2,-999.0000,9,    182.0,2,  -999.00,9,  -999.00,9,  -999.00,9,  -999.00,9,   -999.0,9,   -999.0,9,-999.0000,9,  -999.00,     1548
  49UF20100108,KS1001,  2561,  1,     15,  16021,7,20100119,1504, 18.0002, 164.9895, 5425,    202.7,  19.6631,  34.9167,2,-999.0000,9,    175.0,4,  -999.00,9,  -999.00,9,  -999.00,9,  -999.00,9,   -999.0,9,   -999.0,9,-999.0000,9,  -999.00,     1548
  49UF20100108,KS1001,  2561,  1,     14,  16020,2,20100119,1504, 18.0002, 164.9895, 5425,    304.0,  12.6642,  34.3333,2,-999.0000,9,    185.0,2,  -999.00,9,  -999.00,9,  -999.00,9,  -999.00,9,   -999.0,9,   -999.0,9,-999.0000,9,  -999.00,     1544
  49UF20100108,KS1001,  2561,  1,     13,  16019,2,20100119,1504, 18.0002, 164.9895, 5425,    403.2,   9.2294,  34.1875,2,-999.0000,9,    129.0,2,  -999.00,9,  -999.00,9,  -999.00,9,  -999.00,9,   -999.0,9,   -999.0,9,-999.0000,9,  -999.00,     1542
  49UF20100108,KS1001,  2561,  1,     12,  16018,2,20100119,1504, 18.0002, 164.9895, 5425,    403.5,   9.2352,  34.1874,2,-999.0000,9,    128.0,2,  -999.00,9,  -999.00,9,  -999.00,9,  -999.00,9,   -999.0,9,   -999.0,9,-999.0000,9,  -999.00,     1542
  49UF20100108,KS1001,  2561,  1,     11,  16017,2,20100119,1504, 18.0002, 164.9895, 5425,    504.4,   7.4377,  34.2168,2,-999.0000,9,     77.0,2,  -999.00,9,  -999.00,9,  -999.00,9,  -999.00,9,   -999.0,9,   -999.0,9,-999.0000,9,  -999.00,     1539
  49UF20100108,KS1001,  2561,  1,     10,  19375,2,20100119,1504, 18.0002, 164.9895, 5425,    605.9,   6.1798,  34.3201,2,-999.0000,9,     47.0,2,  -999.00,9,  -999.00,9,  -999.00,9,  -999.00,9,   -999.0,9,   -999.0,9,-999.0000,9,  -999.00,     1537
  49UF20100108,KS1001,  2561,  1,      9,  16015,2,20100119,1504, 18.0002, 164.9895, 5425,    706.6,   5.5938,  34.4356,2,-999.0000,9,     49.0,2,  -999.00,9,  -999.00,9,  -999.00,9,  -999.00,9,   -999.0,9,   -999.0,9,-999.0000,9,  -999.00,     1534
  49UF20100108,KS1001,  2561,  1,      8,  16014,2,20100119,1504, 18.0002, 164.9895, 5425,    807.7,   5.1407,  34.4726,2,-999.0000,9,     54.0,2,  -999.00,9,  -999.00,9,  -999.00,9,  -999.00,9,   -999.0,9,   -999.0,9,-999.0000,9,  -999.00,     1532
  49UF20100108,KS1001,  2561,  1,      7,  19374,2,20100119,1504, 18.0002, 164.9895, 5425,    907.8,   4.7664,  34.5000,2,-999.0000,9,     57.0,2,  -999.00,9,  -999.00,9,  -999.00,9,  -999.00,9,   -999.0,9,   -999.0,9,-999.0000,9,  -999.00,     1529
  49UF20100108,KS1001,  2561,  1,      6,  16012,2,20100119,1504, 18.0002, 164.9895, 5425,   1008.9,   4.3714,  34.5176,2,-999.0000,9,     63.0,2,  -999.00,9,  -999.00,9,  -999.00,9,  -999.00,9,   -999.0,9,   -999.0,9,-999.0000,9,  -999.00,     1526
  49UF20100108,KS1001,  2561,  1,      5,  16011,2,20100119,1504, 18.0002, 164.9895, 5425,   1261.3,   3.6422,  34.5459,2,-999.0000,9,     74.0,2,  -999.00,9,  -999.00,9,  -999.00,9,  -999.00,9,   -999.0,9,   -999.0,9,-999.0000,9,  -999.00,     1521
  49UF20100108,KS1001,  2561,  1,      4,  16010,2,20100119,1504, 18.0002, 164.9895, 5425,   1515.8,   2.9366,  34.5760,2,-999.0000,9,     85.0,2,  -999.00,9,  -999.00,9,  -999.00,9,  -999.00,9,   -999.0,9,   -999.0,9,-999.0000,9,  -999.00,     1516
  49UF20100108,KS1001,  2561,  1,      3,  16009,2,20100119,1504, 18.0002, 164.9895, 5425,   1767.9,   2.4720,  34.6013,2,-999.0000,9,     91.0,2,  -999.00,9,  -999.00,9,  -999.00,9,  -999.00,9,   -999.0,9,   -999.0,9,-999.0000,9,  -999.00,     1510
  49UF20100108,KS1001,  2561,  1,      2,  16008,2,20100119,1504, 18.0002, 164.9895, 5425,   1770.5,   2.4720,  34.6013,2,-999.0000,9,     92.0,2,  -999.00,9,  -999.00,9,  -999.00,9,  -999.00,9,   -999.0,9,   -999.0,9,-999.0000,9,  -999.00,     1510
  49UF20100108,KS1001,  2561,  1,      1,  16007,7,20100119,1504, 18.0002, 164.9895, 5425,   2034.5,   2.1145,  34.6247,2,-999.0000,9,    105.0,2,  -999.00,9,  -999.00,9,  -999.00,9,  -999.00,9,   -999.0,9,   -999.0,9,-999.0000,9,  -999.00,     1504
  49UF20100108,KS1001,  2564,  1,     99,     99,2,20100120,0951, 14.9962, 164.9937, 5215,      0.0,  27.0078,  35.0052,2,-999.0000,9,    203.0,2,     0.09,2,     0.10,2,     0.00,2,     0.07,2,   -999.0,9,   -999.0,9,-999.0000,9,  -999.00,     1006
  49UF20100108,KS1001,  2564,  1,     23,  16029,2,20100120,0951, 14.9962, 164.9937, 5215,     11.1,  27.0153,  35.0065,2,  35.0061,2,    203.0,2,     0.01,2,     0.00,2,     0.00,2,     0.07,2,   1965.6,2,   2189.0,4,-999.0000,9,  -999.00,     1040
  49UF20100108,KS1001,  2564,  1,     22,  16028,2,20100120,0951, 14.9962, 164.9937, 5215,     24.7,  27.0320,  35.0580,2,-999.0000,9,    203.0,2,     0.00,2,     0.10,2,     0.00,2,     0.07,2,   1968.5,2,   2193.2,4,-999.0000,9,  -999.00,     1039
  49UF20100108,KS1001,  2564,  1,     21,  16027,2,20100120,0951, 14.9962, 164.9937, 5215,     49.5,  27.0492,  35.0786,2,-999.0000,9,    202.0,2,     0.00,2,     0.00,2,     0.00,2,     0.07,2,   1975.1,2,   2193.3,4,-999.0000,9,  -999.00,     1037
  49UF20100108,KS1001,  2564,  1,     20,  16026,2,20100120,0951, 14.9962, 164.9937, 5215,     74.7,  27.1003,  35.1160,2,-999.0000,9,    202.0,2,     0.00,2,     0.00,2,     0.00,2,     0.07,2,   1973.4,2,   2198.7,4,-999.0000,9,  -999.00,     1036
  49UF20100108,KS1001,  2564,  1,     19,  19378,2,20100120,0951, 14.9962, 164.9937, 5215,    100.8,  26.3952,  35.1050,2,  35.1088,4,    209.0,2,     0.00,2,     0.00,2,     0.00,2,     0.06,2,   1981.7,2,   2199.1,4,-999.0000,9,  -999.00,     1035
  49UF20100108,KS1001,  2564,  1,     18,  19377,2,20100120,0951, 14.9962, 164.9937, 5215,    123.9,  24.7001,  35.0679,2,-999.0000,9,    210.0,2,     0.04,2,     0.10,2,     0.00,2,     0.08,2,   2007.2,2,   2203.1,4,-999.0000,9,  -999.00,     1034
  49UF20100108,KS1001,  2564,  1,     17,  16023,2,20100120,0951, 14.9962, 164.9937, 5215,    152.0,  23.4732,  35.1915,2,-999.0000,9,    189.0,2,     0.16,2,     0.75,2,     0.05,2,     0.12,2,   2024.4,2,   2201.9,4,-999.0000,9,  -999.00,     1033
  49UF20100108,KS1001,  2564,  1,     16,  16022,2,20100120,0951, 14.9962, 164.9937, 5215,    202.0,  19.9703,  34.9385,2,  34.9360,2,    177.0,2,     1.91,2,     3.78,2,     0.02,2,     0.30,2,   2057.1,2,   2188.1,4,-999.0000,9,  -999.00,     1031
  49UF20100108,KS1001,  2564,  1,     15,  16021,2,20100120,0951, 14.9962, 164.9937, 5215,    252.6,  15.9845,  34.5845,2,-999.0000,9,    174.0,2,     5.96,2,     8.68,2,     0.02,2,     0.65,2,   2078.2,2,   2141.7,4,-999.0000,9,  -999.00,     1029
  49UF20100108,KS1001,  2564,  1,     14,  16020,2,20100120,0951, 14.9962, 164.9937, 5215,    301.3,  12.5687,  34.3210,2,  34.3240,2,    154.0,2,    14.37,2,    15.88,2,     0.02,4,     1.19,2,   -999.0,9,   -999.0,9,-999.0000,9,  -999.00,     1028
  49UF20100108,KS1001,  2564,  1,     13,  16019,2,20100120,0951, 14.9962, 164.9937, 5215,    301.6,  12.5856,  34.3201,2,  34.3208,2,    155.0,2,    14.42,2,    16.09,2,     0.01,4,     1.18,2,   2127.4,2,   2130.1,4,-999.0000,9,  -999.00,     1028
  49UF20100108,KS1001,  2564,  1,     12,  16018,2,20100120,0951, 14.9962, 164.9937, 5215,    401.4,   8.6304,  34.1930,2,  34.1943,2,    113.0,2,    36.96,2,    27.19,2,     0.01,4,     1.98,2,   2208.2,2,   2144.5,4,-999.0000,9,  -999.00,     1026
  49UF20100108,KS1001,  2564,  1,     11,  16017,2,20100120,0951, 14.9962, 164.9937, 5215,    502.8,   6.7420,  34.2384,2,  34.2378,2,     66.0,2,    59.47,2,    35.09,2,     0.01,4,     2.55,2,   2270.7,2,   2161.9,4,-999.0000,9,  -999.00,     1023
  49UF20100108,KS1001,  2564,  1,     10,  19375,2,20100120,0951, 14.9962, 164.9937, 5215,    606.1,   5.8578,  34.3769,2,  34.3759,2,     54.0,2,    72.79,2,    37.89,2,     0.01,4,     2.77,2,   2284.2,2,   2191.9,4,-999.0000,9,  -999.00,     1021
  49UF20100108,KS1001,  2564,  1,      9,  16015,2,20100120,0951, 14.9962, 164.9937, 5215,    706.7,   5.2550,  34.4692,2,  34.4668,2,     60.0,2,    82.08,2,    39.08,2,     0.02,4,     2.82,2,   2297.0,2,   2209.0,4,-999.0000,9,  -999.00,     1019
  49UF20100108,KS1001,  2564,  1,      8,  16014,2,20100120,0951, 14.9962, 164.9937, 5215,    808.3,   4.9112,  34.4997,2,  34.4988,2,     64.0,2,    86.93,2,    39.28,2,     0.02,4,     2.83,2,   2302.7,2,   2226.5,4,-999.0000,9,  -999.00,     1016
  49UF20100108,KS1001,  2564,  1,      7,  19374,2,20100120,0951, 14.9962, 164.9937, 5215,    907.9,   4.4834,  34.5211,2,  34.5213,2,     69.0,2,    95.01,2,    39.48,2,     0.02,4,     2.84,2,   2316.4,2,   2225.9,4,-999.0000,9,  -999.00,     1014
  49UF20100108,KS1001,  2564,  1,      6,  16012,2,20100120,0951, 14.9962, 164.9937, 5215,   1007.6,   4.1165,  34.5353,2,  34.5352,2,     73.0,2,   101.94,2,    39.58,2,     0.02,4,     2.84,2,   2325.6,2,   2233.7,4,-999.0000,9,  -999.00,     1011
  49UF20100108,KS1001,  2564,  1,      5,  16011,2,20100120,0951, 14.9962, 164.9937, 5215,   1262.0,   3.3495,  34.5666,2,  34.5659,2,     80.0,2,   117.38,2,    39.78,2,     0.02,4,     2.84,2,   2339.8,2,   2269.8,4,-999.0000,9,  -999.00,     1006
  49UF20100108,KS1001,  2564,  1,      4,  16010,2,20100120,0951, 14.9962, 164.9937, 5215,   1512.9,   2.7348,  34.5949,2,  34.5936,2,     91.0,2,   129.69,2,    39.68,2,     0.02,4,     2.82,2,   -999.0,9,   -999.0,9,-999.0000,9,  -999.00,     1001
  49UF20100108,KS1001,  2564,  1,      3,  16009,2,20100120,0951, 14.9962, 164.9937, 5215,   1514.4,   2.7346,  34.5947,2,  34.5948,2,     90.0,2,   129.69,2,    39.68,2,     0.02,4,     2.82,2,   2349.9,2,   2285.1,4,-999.0000,9,  -999.00,     1001
  49UF20100108,KS1001,  2564,  1,      2,  16008,2,20100120,0951, 14.9962, 164.9937, 5215,   1764.7,   2.3190,  34.6154,2,  34.6145,2,     99.0,2,   138.11,2,    39.08,2,     0.02,4,     2.78,2,   2350.5,6,   2284.5,4,-999.0000,9,  -999.00,      956
  49UF20100108,KS1001,  2564,  1,      1,  16007,2,20100120,0951, 14.9962, 164.9937, 5215,   2031.9,   2.0413,  34.6345,2,  34.6337,2,    109.0,2,   143.23,2,    38.78,2,     0.02,4,     2.73,2,   2362.0,2,   2296.8,4,-999.0000,9,  -999.00,      951