BOTTLE,20190925PRINUNIVRMK
EXPOCODE,SECT_ID,STNNBR,CASTNO,SAMPNO,BTLNBR,BTLNBR_FLAG_W,DATE,TIME,LATITUDE,LONGITUDE,DEPTH,CTDPRS,CTDTMP,CTDSAL,CTDSAL_FLAG_W,SALNTY,SALNTY_FLAG_W,OXYGEN,OXYGEN_FLAG_W,SILCAT,SILCAT_FLAG_W,NITRAT,NITRAT_FLAG_W,NITRIT,NITRIT_FLAG_W,PHSPHT,PHSPHT_FLAG_W,TCARBN,TCARBN_FLAG_W,ALKALI,ALKALI_FLAG_W,PH_TOT,PH_TOT_FLAG_W,PH_TMP,BTL_TIME
,,,,,,,,,,,METERS,DBAR,ITS-90,PSS-78,,PSS-78,,UMOL/KG,,UMOL/KG,,UMOL/KG,,UMOL/KG,,UMOL/KG,,UMOL/KG,,UMOL/KG,,,,DEG C,
  49UF20100108,KS1001,  2596,  1,     99,     99,2,20100213,0724, -1.9968, 142.0083, 3595,      0.0,  28.6001,  34.2421,2,-999.0000,9,    206.0,2,     0.77,2,     0.00,2,     0.00,2,     0.02,2,   -999.0,9,   -999.0,9,-999.0000,9,  -999.00,      804
  49UF20100108,KS1001,  2596,  1,     23,  16029,2,20100213,0724, -1.9968, 142.0083, 3595,      9.8,  28.4608,  34.2374,2,  34.2352,2,    208.0,2,     0.72,2,     0.00,2,     0.00,2,     0.02,2,   -999.0,9,   -999.0,9,-999.0000,9,  -999.00,      824
  49UF20100108,KS1001,  2596,  1,     22,  16028,2,20100213,0724, -1.9968, 142.0083, 3595,     24.8,  27.9066,  34.6172,2,-999.0000,9,    208.0,2,     0.53,2,     0.10,2,     0.00,2,     0.05,2,   -999.0,9,   -999.0,9,-999.0000,9,  -999.00,      822
  49UF20100108,KS1001,  2596,  1,     21,  16027,2,20100213,0724, -1.9968, 142.0083, 3595,     50.2,  27.5068,  34.7677,2,-999.0000,9,    208.0,2,     0.19,2,     0.00,2,     0.00,2,     0.07,2,   -999.0,9,   -999.0,9,-999.0000,9,  -999.00,      820
  49UF20100108,KS1001,  2596,  1,     20,  16026,2,20100213,0724, -1.9968, 142.0083, 3595,     75.5,  26.7325,  35.1448,2,-999.0000,9,    153.0,2,     2.14,2,     6.01,2,     0.09,2,     0.39,2,   -999.0,9,   -999.0,9,-999.0000,9,  -999.00,      818
  49UF20100108,KS1001,  2596,  1,     18,  19377,2,20100213,0724, -1.9968, 142.0083, 3595,    100.4,  25.1605,  35.4931,2,  35.4972,2,    145.0,2,     2.29,2,     6.85,2,     0.05,2,     0.52,2,   -999.0,9,   -999.0,9,-999.0000,9,  -999.00,      816
  49UF20100108,KS1001,  2596,  1,     19,  19378,2,20100213,0724, -1.9968, 142.0083, 3595,    100.9,  25.1584,  35.4932,2,  35.4968,2,    144.0,2,     2.37,2,     6.76,2,     0.04,2,     0.60,2,   -999.0,9,   -999.0,9,-999.0000,9,  -999.00,      816
  49UF20100108,KS1001,  2596,  1,     17,  16023,2,20100213,0724, -1.9968, 142.0083, 3595,    125.4,  22.5821,  35.6301,2,-999.0000,9,    141.0,2,     2.63,2,     7.98,2,     0.02,2,     0.63,2,   -999.0,9,   -999.0,9,-999.0000,9,  -999.00,      815
  49UF20100108,KS1001,  2596,  1,     16,  16022,2,20100213,0724, -1.9968, 142.0083, 3595,    149.9,  22.0214,  35.6366,2,-999.0000,9,    141.0,2,     2.77,2,     8.49,2,     0.01,2,     0.67,2,   -999.0,9,   -999.0,9,-999.0000,9,  -999.00,      814
  49UF20100108,KS1001,  2596,  1,     15,  16021,2,20100213,0724, -1.9968, 142.0083, 3595,    200.5,  17.1343,  35.3678,2,  35.3652,2,    149.0,2,     5.07,2,    12.30,2,     0.00,2,     0.91,2,   -999.0,9,   -999.0,9,-999.0000,9,  -999.00,      812
  49UF20100108,KS1001,  2596,  1,     14,  16020,2,20100213,0724, -1.9968, 142.0083, 3595,    251.1,  13.9019,  35.0895,2,-999.0000,9,    156.0,2,     8.20,2,    16.00,2,     0.00,2,     1.14,2,   -999.0,9,   -999.0,9,-999.0000,9,  -999.00,      810
  49UF20100108,KS1001,  2596,  1,     13,  16019,2,20100213,0724, -1.9968, 142.0083, 3595,    300.9,  11.4491,  34.8693,2,  34.8713,2,    160.0,2,    12.56,2,    19.90,2,     0.00,2,     1.40,2,   -999.0,9,   -999.0,9,-999.0000,9,  -999.00,      809
  49UF20100108,KS1001,  2596,  1,     12,  16018,2,20100213,0724, -1.9968, 142.0083, 3595,    401.7,   9.4072,  34.6869,2,  34.6880,2,     93.0,2,    27.59,2,    30.40,2,     0.00,2,     2.13,2,   -999.0,9,   -999.0,9,-999.0000,9,  -999.00,      806
  49UF20100108,KS1001,  2596,  1,     11,  16017,2,20100213,0724, -1.9968, 142.0083, 3595,    503.5,   8.1087,  34.6013,2,  34.6019,2,    142.0,2,    26.75,2,    28.10,2,     0.00,2,     1.98,2,   -999.0,9,   -999.0,9,-999.0000,9,  -999.00,      803
  49UF20100108,KS1001,  2596,  1,     10,  19375,2,20100213,0724, -1.9968, 142.0083, 3595,    603.3,   7.0669,  34.5464,2,  34.5472,2,    145.0,2,    33.03,2,    30.10,2,     0.00,2,     2.12,2,   -999.0,9,   -999.0,9,-999.0000,9,  -999.00,      800
  49UF20100108,KS1001,  2596,  1,      9,  16015,2,20100213,0724, -1.9968, 142.0083, 3595,    704.4,   6.3477,  34.5346,2,  34.5353,2,    121.0,2,    44.98,2,    33.90,2,     0.00,2,     2.39,2,   -999.0,9,   -999.0,9,-999.0000,9,  -999.00,      757
  49UF20100108,KS1001,  2596,  1,      8,  16014,2,20100213,0724, -1.9968, 142.0083, 3595,    704.7,   6.3467,  34.5346,2,  34.5350,2,    120.0,2,    44.90,2,    33.70,2,     0.00,2,     2.42,2,   -999.0,9,   -999.0,9,-999.0000,9,  -999.00,      757
  49UF20100108,KS1001,  2596,  1,      7,  19374,2,20100213,0724, -1.9968, 142.0083, 3595,    805.3,   5.3976,  34.5121,2,  34.5121,2,    137.0,2,    53.72,2,    33.80,2,     0.00,2,     2.41,2,   -999.0,9,   -999.0,9,-999.0000,9,  -999.00,      754
  49UF20100108,KS1001,  2596,  1,      6,  16012,2,20100213,0724, -1.9968, 142.0083, 3595,    906.8,   4.8130,  34.5421,2,  34.5415,2,    107.0,2,    73.63,2,    37.00,2,     0.00,2,     2.69,2,   -999.0,9,   -999.0,9,-999.0000,9,  -999.00,      751
  49UF20100108,KS1001,  2596,  1,      5,  16011,2,20100213,0724, -1.9968, 142.0083, 3595,   1006.8,   4.5912,  34.5459,2,  34.5469,2,    108.0,2,    77.79,2,    37.10,2,     0.00,2,     2.68,2,   -999.0,9,   -999.0,9,-999.0000,9,  -999.00,      748
  49UF20100108,KS1001,  2596,  1,      4,  16010,2,20100213,0724, -1.9968, 142.0083, 3595,   1259.7,   3.6573,  34.5758,2,  34.5758,2,    105.0,2,    99.64,2,    38.30,2,     0.00,2,     2.78,2,   -999.0,9,   -999.0,9,-999.0000,9,  -999.00,      742
  49UF20100108,KS1001,  2596,  1,      3,  16009,2,20100213,0724, -1.9968, 142.0083, 3595,   1513.4,   2.9653,  34.6022,2,  34.6018,2,    113.0,2,   113.32,2,    38.20,2,     0.00,2,     2.78,2,   -999.0,9,   -999.0,9,-999.0000,9,  -999.00,      736
  49UF20100108,KS1001,  2596,  1,      2,  16008,2,20100213,0724, -1.9968, 142.0083, 3595,   1765.5,   2.4518,  34.6257,2,  34.6251,2,    119.0,2,   124.67,2,    38.00,2,     0.00,2,     2.75,2,   -999.0,9,   -999.0,9,-999.0000,9,  -999.00,      730
  49UF20100108,KS1001,  2596,  1,      1,  16007,2,20100213,0724, -1.9968, 142.0083, 3595,   2032.2,   2.2573,  34.6358,2,  34.6358,2,    123.0,2,   129.34,2,    37.80,2,     0.00,2,     2.73,2,   -999.0,9,   -999.0,9,-999.0000,9,  -999.00,      724
  49UF20100108,KS1001,  2598,  1,     99,     99,2,20100213,2016, -0.0078, 141.9692, 3392,      0.0,  28.8401,  34.4942,2,-999.0000,9,    202.0,2,     0.93,2,     0.00,2,     0.00,2,     0.03,2,   -999.0,9,   -999.0,9,-999.0000,9,  -999.00,     2110
  49UF20100108,KS1001,  2598,  1,     23,  16029,2,20100213,2016, -0.0078, 141.9692, 3392,     10.6,  28.7577,  34.4881,2,-999.0000,9,    203.0,2,     0.92,2,     0.00,2,     0.00,2,     0.04,2,   -999.0,9,   -999.0,9,-999.0000,9,  -999.00,     2128
  49UF20100108,KS1001,  2598,  1,     22,  16028,2,20100213,2016, -0.0078, 141.9692, 3392,     25.2,  28.3721,  34.4907,2,-999.0000,9,    204.0,2,     0.87,2,     0.00,2,     0.00,2,     0.04,2,   -999.0,9,   -999.0,9,-999.0000,9,  -999.00,     2126
  49UF20100108,KS1001,  2598,  1,     21,  16027,2,20100213,2016, -0.0078, 141.9692, 3392,     50.4,  26.9905,  35.0348,2,-999.0000,9,    157.0,2,     2.21,2,     4.81,2,     0.29,2,     0.35,2,   -999.0,9,   -999.0,9,-999.0000,9,  -999.00,     2122
  49UF20100108,KS1001,  2598,  1,     19,  19378,2,20100213,2016, -0.0078, 141.9692, 3392,     75.7,  24.5574,  35.3368,2,-999.0000,9,    139.0,2,     3.46,2,     8.45,2,     0.05,2,     0.63,2,   -999.0,9,   -999.0,9,-999.0000,9,  -999.00,     2121
  49UF20100108,KS1001,  2598,  1,     20,  16026,2,20100213,2016, -0.0078, 141.9692, 3392,     76.7,  24.5595,  35.3436,2,-999.0000,9,    139.0,2,     3.39,2,     8.54,2,     0.06,2,     0.67,2,   -999.0,9,   -999.0,9,-999.0000,9,  -999.00,     2121
  49UF20100108,KS1001,  2598,  1,     18,  19377,2,20100213,2016, -0.0078, 141.9692, 3392,    102.0,  22.2728,  35.3292,2,-999.0000,9,    140.0,2,     4.56,2,     9.39,2,     0.01,2,     0.67,2,   -999.0,9,   -999.0,9,-999.0000,9,  -999.00,     2120
  49UF20100108,KS1001,  2598,  1,     17,  16023,2,20100213,2016, -0.0078, 141.9692, 3392,    126.3,  21.5829,  35.1949,2,-999.0000,9,    143.0,2,     5.68,2,     9.69,2,     0.01,2,     0.69,2,   -999.0,9,   -999.0,9,-999.0000,9,  -999.00,     2118
  49UF20100108,KS1001,  2598,  1,     16,  16022,2,20100213,2016, -0.0078, 141.9692, 3392,    153.4,  18.0082,  35.0014,2,-999.0000,9,    146.0,2,    10.66,2,    11.99,2,     0.01,2,     0.84,2,   -999.0,9,   -999.0,9,-999.0000,9,  -999.00,     2117
  49UF20100108,KS1001,  2598,  1,     15,  16021,2,20100213,2016, -0.0078, 141.9692, 3392,    202.3,  15.9599,  35.1963,2,-999.0000,9,    146.0,2,     8.36,2,    14.50,2,     0.00,2,     1.03,2,   -999.0,9,   -999.0,9,-999.0000,9,  -999.00,     2115
  49UF20100108,KS1001,  2598,  1,     14,  16020,2,20100213,2016, -0.0078, 141.9692, 3392,    253.3,  11.4787,  34.7737,2,-999.0000,9,    136.0,2,    20.85,2,    21.80,2,     0.00,2,     1.53,2,   -999.0,9,   -999.0,9,-999.0000,9,  -999.00,     2113
  49UF20100108,KS1001,  2598,  1,     13,  16019,2,20100213,2016, -0.0078, 141.9692, 3392,    304.2,  10.9245,  34.7835,2,-999.0000,9,    139.0,2,    19.32,4,    22.60,4,     0.00,4,     1.60,4,   -999.0,9,   -999.0,9,-999.0000,9,  -999.00,     2111
  49UF20100108,KS1001,  2598,  1,     12,  16018,2,20100213,2016, -0.0078, 141.9692, 3392,    403.9,   9.1777,  34.6753,2,-999.0000,9,     93.0,2,    27.49,4,    30.30,4,     0.00,4,     2.14,4,   -999.0,9,   -999.0,9,-999.0000,9,  -999.00,     2109
  49UF20100108,KS1001,  2598,  1,     11,  16017,2,20100213,2016, -0.0078, 141.9692, 3392,    505.1,   8.5013,  34.6315,2,-999.0000,9,     80.0,2,    32.53,4,    32.60,4,     0.00,4,     2.34,4,   -999.0,9,   -999.0,9,-999.0000,9,  -999.00,     2105
  49UF20100108,KS1001,  2598,  1,      9,  16015,2,20100213,2016, -0.0078, 141.9692, 3392,    604.4,   7.1845,  34.5577,2,-999.0000,9,    126.0,2,    36.07,2,    32.20,2,     0.00,2,     2.26,2,   -999.0,9,   -999.0,9,-999.0000,9,  -999.00,     2102
  49UF20100108,KS1001,  2598,  1,     10,  19375,2,20100213,2016, -0.0078, 141.9692, 3392,    605.3,   7.1816,  34.5577,2,-999.0000,9,    125.0,2,    36.11,2,    32.10,2,     0.00,2,     2.23,2,   -999.0,9,   -999.0,9,-999.0000,9,  -999.00,     2102
  49UF20100108,KS1001,  2598,  1,      8,  16014,2,20100213,2016, -0.0078, 141.9692, 3392,    706.2,   6.1478,  34.5290,2,-999.0000,9,    123.0,2,    47.89,2,    33.90,2,     0.00,2,     2.42,2,   -999.0,9,   -999.0,9,-999.0000,9,  -999.00,     2059
  49UF20100108,KS1001,  2598,  1,      7,  19374,2,20100213,2016, -0.0078, 141.9692, 3392,    807.8,   5.4963,  34.5341,2,-999.0000,9,    105.0,2,    60.09,2,    36.70,2,     0.00,2,     2.66,2,   -999.0,9,   -999.0,9,-999.0000,9,  -999.00,     2056
  49UF20100108,KS1001,  2598,  1,      6,  16012,2,20100213,2016, -0.0078, 141.9692, 3392,    908.7,   5.0081,  34.5402,2,-999.0000,9,    102.0,2,    70.33,2,    37.70,2,     0.00,2,     2.73,2,   -999.0,9,   -999.0,9,-999.0000,9,  -999.00,     2053
  49UF20100108,KS1001,  2598,  1,      5,  16011,2,20100213,2016, -0.0078, 141.9692, 3392,   1009.2,   4.4399,  34.5541,2,-999.0000,9,    104.0,2,    83.63,2,    38.00,2,     0.00,2,     2.74,2,   -999.0,9,   -999.0,9,-999.0000,9,  -999.00,     2050
  49UF20100108,KS1001,  2598,  1,      4,  16010,2,20100213,2016, -0.0078, 141.9692, 3392,   1262.3,   3.4769,  34.5823,2,-999.0000,9,    105.0,2,   103.56,2,    38.90,2,     0.00,2,     2.82,2,   -999.0,9,   -999.0,9,-999.0000,9,  -999.00,     2044
  49UF20100108,KS1001,  2598,  1,      3,  16009,2,20100213,2016, -0.0078, 141.9692, 3392,   1514.0,   2.8692,  34.6051,2,-999.0000,9,    113.0,2,   115.48,2,    38.60,2,     0.00,2,     2.81,2,   -999.0,9,   -999.0,9,-999.0000,9,  -999.00,     2037
  49UF20100108,KS1001,  2598,  1,      2,  16008,2,20100213,2016, -0.0078, 141.9692, 3392,   1765.2,   2.5125,  34.6224,2,-999.0000,9,    120.0,2,   122.66,2,    38.50,2,     0.00,2,     2.76,2,   -999.0,9,   -999.0,9,-999.0000,9,  -999.00,     2030
  49UF20100108,KS1001,  2598,  1,      1,  16007,2,20100213,2016, -0.0078, 141.9692, 3392,   2029.9,   2.1795,  34.6393,2,-999.0000,9,    124.0,2,   130.71,2,    38.30,2,     0.00,2,     2.74,2,   -999.0,9,   -999.0,9,-999.0000,9,  -999.00,     2016
  49UF20100108,KS1001,  2600,  1,     99,     99,2,20100214,0929,  2.0067, 141.9630, 2552,      0.0,  29.1013,  34.5874,2,-999.0000,9,    202.0,2,     0.79,2,     0.00,2,     0.00,2,     0.03,2,   -999.0,9,   -999.0,9,-999.0000,9,  -999.00,     1017
  49UF20100108,KS1001,  2600,  1,     23,  16029,2,20100214,0929,  2.0067, 141.9630, 2552,     10.7,  29.0423,  34.6007,2,  34.5978,2,    204.0,2,     0.82,2,     0.00,2,     0.00,2,     0.03,2,   -999.0,9,   -999.0,9,-999.0000,9,  -999.00,     1040
  49UF20100108,KS1001,  2600,  1,     22,  16028,2,20100214,0929,  2.0067, 141.9630, 2552,     25.3,  28.0418,  34.7210,2,-999.0000,9,    200.0,2,     1.34,2,     0.77,2,     0.03,2,     0.09,2,   -999.0,9,   -999.0,9,-999.0000,9,  -999.00,     1038
  49UF20100108,KS1001,  2600,  1,     21,  16027,2,20100214,0929,  2.0067, 141.9630, 2552,     50.2,  27.2882,  34.9312,2,-999.0000,9,    177.0,2,     1.71,2,     2.71,2,     0.49,2,     0.24,2,   -999.0,9,   -999.0,9,-999.0000,9,  -999.00,     1034
  49UF20100108,KS1001,  2600,  1,     20,  16026,2,20100214,0929,  2.0067, 141.9630, 2552,     75.6,  25.2450,  35.1096,2,-999.0000,9,    150.0,2,     5.05,2,     7.22,2,     0.38,2,     0.53,2,   -999.0,9,   -999.0,9,-999.0000,9,  -999.00,     1033
  49UF20100108,KS1001,  2600,  1,     19,  19378,2,20100214,0929,  2.0067, 141.9630, 2552,    101.0,  23.7613,  35.1650,2,  35.1634,2,    143.0,2,     4.93,2,     8.47,2,     0.13,2,     0.62,2,   -999.0,9,   -999.0,9,-999.0000,9,  -999.00,     1032
  49UF20100108,KS1001,  2600,  1,     18,  19377,2,20100214,0929,  2.0067, 141.9630, 2552,    126.3,  22.1148,  34.8801,2,-999.0000,9,    151.0,2,     7.85,2,     8.45,2,     0.05,2,     0.61,2,   -999.0,9,   -999.0,9,-999.0000,9,  -999.00,     1031
  49UF20100108,KS1001,  2600,  1,     17,  16023,2,20100214,0929,  2.0067, 141.9630, 2552,    151.7,  21.1100,  34.8553,2,-999.0000,9,    149.0,2,     8.76,2,     9.27,2,     0.03,2,     0.65,2,   -999.0,9,   -999.0,9,-999.0000,9,  -999.00,     1029
  49UF20100108,KS1001,  2600,  1,     16,  16022,2,20100214,0929,  2.0067, 141.9630, 2552,    203.2,  18.1439,  34.8387,2,  34.9715,4,    152.0,2,     8.30,2,    10.59,2,     0.01,2,     0.76,2,   -999.0,9,   -999.0,9,-999.0000,9,  -999.00,     1028
  49UF20100108,KS1001,  2600,  1,     15,  16021,2,20100214,0929,  2.0067, 141.9630, 2552,    252.9,  11.9363,  34.5359,2,-999.0000,9,    133.0,2,    25.64,2,    21.10,2,     0.00,2,     1.50,2,   -999.0,9,   -999.0,9,-999.0000,9,  -999.00,     1026
  49UF20100108,KS1001,  2600,  1,     14,  16020,2,20100214,0929,  2.0067, 141.9630, 2552,    303.3,   9.7912,  34.5862,2,  34.5891,2,    116.0,2,    34.64,2,    27.30,2,     0.00,2,     1.95,2,   -999.0,9,   -999.0,9,-999.0000,9,  -999.00,     1024
  49UF20100108,KS1001,  2600,  1,     13,  16019,2,20100214,0929,  2.0067, 141.9630, 2552,    404.1,   9.2031,  34.6638,2,  34.6638,2,    108.0,2,    28.21,2,    29.50,2,     0.00,2,     2.09,2,   -999.0,9,   -999.0,9,-999.0000,9,  -999.00,     1020
  49UF20100108,KS1001,  2600,  1,     11,  16017,2,20100214,0929,  2.0067, 141.9630, 2552,    504.7,   8.1599,  34.5971,2,  34.5964,2,    136.0,2,    29.82,2,    28.80,2,     0.00,2,     2.04,2,   -999.0,9,   -999.0,9,-999.0000,9,  -999.00,     1017
  49UF20100108,KS1001,  2600,  1,     12,  16018,2,20100214,0929,  2.0067, 141.9630, 2552,    505.4,   8.1567,  34.5970,2,  34.5966,2,    136.0,2,    29.74,2,    28.80,2,     0.00,2,     2.04,2,   -999.0,9,   -999.0,9,-999.0000,9,  -999.00,     1017
  49UF20100108,KS1001,  2600,  1,     10,  19375,2,20100214,0929,  2.0067, 141.9630, 2552,    606.8,   7.6262,  34.5683,2,  34.5708,2,    126.0,2,    35.39,2,    30.70,2,     0.00,2,     2.19,2,   -999.0,9,   -999.0,9,-999.0000,9,  -999.00,     1014
  49UF20100108,KS1001,  2600,  1,      9,  16015,2,20100214,0929,  2.0067, 141.9630, 2552,    707.2,   6.4705,  34.5411,2,  34.5404,2,     92.0,2,    52.25,2,    36.10,2,     0.00,2,     2.62,2,   -999.0,9,   -999.0,9,-999.0000,9,  -999.00,     1011
  49UF20100108,KS1001,  2600,  1,      8,  16014,2,20100214,0929,  2.0067, 141.9630, 2552,    807.5,   5.5549,  34.5359,2,  34.5347,2,     96.0,2,    64.99,2,    37.10,2,     0.00,2,     2.70,2,   -999.0,9,   -999.0,9,-999.0000,9,  -999.00,     1008
  49UF20100108,KS1001,  2600,  1,      7,  19374,2,20100214,0929,  2.0067, 141.9630, 2552,    908.4,   4.9475,  34.5449,2,  34.5442,2,     94.0,2,    76.62,2,    38.00,2,     0.00,2,     2.77,2,   -999.0,9,   -999.0,9,-999.0000,9,  -999.00,     1005
  49UF20100108,KS1001,  2600,  1,      6,  16012,2,20100214,0929,  2.0067, 141.9630, 2552,   1010.5,   4.4162,  34.5569,2,  34.5557,2,     95.0,2,    88.64,2,    38.30,2,     0.00,2,     2.81,2,   -999.0,9,   -999.0,9,-999.0000,9,  -999.00,     1002
  49UF20100108,KS1001,  2600,  1,      5,  16011,2,20100214,0929,  2.0067, 141.9630, 2552,   1260.9,   3.5469,  34.5782,2,  34.5779,2,    107.0,2,   100.97,2,    38.40,2,     0.00,2,     2.81,2,   -999.0,9,   -999.0,9,-999.0000,9,  -999.00,      955
  49UF20100108,KS1001,  2600,  1,      4,  16010,2,20100214,0929,  2.0067, 141.9630, 2552,   1515.3,   3.0161,  34.5998,2,  34.5983,2,    108.0,2,   114.95,2,    38.50,2,     0.00,2,     2.82,2,   -999.0,9,   -999.0,9,-999.0000,9,  -999.00,      947
  49UF20100108,KS1001,  2600,  1,      3,  16009,2,20100214,0929,  2.0067, 141.9630, 2552,   1768.3,   2.4340,  34.6250,2,  34.6240,2,    114.0,2,   129.01,2,    38.50,2,     0.00,2,     2.81,2,   -999.0,9,   -999.0,9,-999.0000,9,  -999.00,      936
  49UF20100108,KS1001,  2600,  1,      2,  16008,2,20100214,0929,  2.0067, 141.9630, 2552,   2029.6,   2.1779,  34.6390,2,  34.6382,2,    122.0,2,   133.05,2,    38.30,2,     0.00,2,     2.75,2,   -999.0,9,   -999.0,9,-999.0000,9,  -999.00,      929
  49UF20100108,KS1001,  2600,  1,      1,  16007,2,20100214,0929,  2.0067, 141.9630, 2552,   2030.1,   2.1781,  34.6390,2,  34.6384,2,    122.0,2,   132.32,2,    37.90,2,     0.00,2,     2.76,2,   -999.0,9,   -999.0,9,-999.0000,9,  -999.00,      929