BOTTLE,20190925PRINUNIVRMK
EXPOCODE,SECT_ID,STNNBR,CASTNO,SAMPNO,BTLNBR,BTLNBR_FLAG_W,DATE,TIME,LATITUDE,LONGITUDE,DEPTH,CTDPRS,CTDTMP,CTDSAL,CTDSAL_FLAG_W,SALNTY,SALNTY_FLAG_W,OXYGEN,OXYGEN_FLAG_W,SILCAT,SILCAT_FLAG_W,NITRAT,NITRAT_FLAG_W,NITRIT,NITRIT_FLAG_W,PHSPHT,PHSPHT_FLAG_W,TCARBN,TCARBN_FLAG_W,ALKALI,ALKALI_FLAG_W,PH_TOT,PH_TOT_FLAG_W,PH_TMP,BTL_TIME
,,,,,,,,,,,METERS,DBAR,ITS-90,PSS-78,,PSS-78,,UMOL/KG,,UMOL/KG,,UMOL/KG,,UMOL/KG,,UMOL/KG,,UMOL/KG,,UMOL/KG,,,,DEG C,
  49UF20100108,KS1001,  2543,  1,     99,     99,2,20100110,2231, 33.5602, 141.5288, 6690,      0.0,  19.5788,  34.6879,2,-999.0000,9,    224.0,2,     2.80,2,     1.59,2,     0.21,2,     0.12,2,   -999.0,9,   -999.0,9,-999.0000,9,  -999.00,     2243
  49UF20100108,KS1001,  2543,  1,     23,  19380,2,20100110,2231, 33.5602, 141.5288, 6690,     11.2,  19.5947,  34.6873,2,  34.6849,2,    221.0,2,     2.70,2,     1.48,2,     0.22,2,     0.12,2,   -999.0,9,   -999.0,9,-999.0000,9,  -999.00,        7
  49UF20100108,KS1001,  2543,  1,     22,  16028,2,20100110,2231, 33.5602, 141.5288, 6690,     25.2,  19.5983,  34.6866,2,-999.0000,9,    221.0,2,     2.75,2,     1.58,2,     0.22,2,     0.12,2,   -999.0,9,   -999.0,9,-999.0000,9,  -999.00,        5
  49UF20100108,KS1001,  2543,  1,     21,  16027,2,20100110,2231, 33.5602, 141.5288, 6690,     50.2,  19.6007,  34.6868,2,-999.0000,9,    220.0,2,     2.71,2,     1.49,2,     0.21,2,     0.12,2,   -999.0,9,   -999.0,9,-999.0000,9,  -999.00,        0
  49UF20100108,KS1001,  2543,  1,     20,  16026,2,20100110,2231, 33.5602, 141.5288, 6690,     75.4,  19.3669,  34.6696,2,-999.0000,9,    218.0,2,     3.30,2,     1.97,2,     0.23,2,     0.16,2,   -999.0,9,   -999.0,9,-999.0000,9,  -999.00,     2358
  49UF20100108,KS1001,  2543,  1,     19,  19378,2,20100110,2231, 33.5602, 141.5288, 6690,    101.3,  18.4156,  34.6298,2,  34.6315,2,    221.0,2,     5.08,2,     2.99,2,     0.31,2,     0.24,2,   -999.0,9,   -999.0,9,-999.0000,9,  -999.00,     2357
  49UF20100108,KS1001,  2543,  1,     18,  19377,2,20100110,2231, 33.5602, 141.5288, 6690,    127.2,  17.2660,  34.5861,2,-999.0000,9,    225.0,2,     7.07,2,     4.21,2,     0.39,2,     0.32,2,   -999.0,9,   -999.0,9,-999.0000,9,  -999.00,     2355
  49UF20100108,KS1001,  2543,  1,     17,  16023,2,20100110,2231, 33.5602, 141.5288, 6690,    154.0,  16.6810,  34.5636,2,-999.0000,9,    220.0,2,     9.30,2,     5.81,2,     0.39,2,     0.43,2,   -999.0,9,   -999.0,9,-999.0000,9,  -999.00,     2353
  49UF20100108,KS1001,  2543,  1,     16,  16022,2,20100110,2231, 33.5602, 141.5288, 6690,    204.3,  15.8296,  34.5350,2,  34.5354,2,    197.0,2,    13.95,2,     9.35,2,     0.15,2,     0.65,2,   -999.0,9,   -999.0,9,-999.0000,9,  -999.00,     2350
  49UF20100108,KS1001,  2543,  1,     15,  16021,2,20100110,2231, 33.5602, 141.5288, 6690,    256.2,  13.8559,  34.5057,2,-999.0000,9,    168.0,2,    22.06,2,    14.49,2,     0.01,2,     1.01,2,   -999.0,9,   -999.0,9,-999.0000,9,  -999.00,     2347
  49UF20100108,KS1001,  2543,  1,     13,  16019,3,20100110,2231, 33.5602, 141.5288, 6690,    306.7,  12.6931,  34.4617,2,  34.4654,2,    161.0,2,    26.02,2,    16.50,2,     0.00,2,     1.16,2,   -999.0,9,   -999.0,9,-999.0000,9,  -999.00,     2344
  49UF20100108,KS1001,  2543,  1,     14,  16020,2,20100110,2231, 33.5602, 141.5288, 6690,    309.5,  12.6624,  34.4583,2,  34.4625,2,    161.0,2,    26.34,2,    16.60,2,     0.00,2,     1.16,2,   -999.0,9,   -999.0,9,-999.0000,9,  -999.00,     2344
  49UF20100108,KS1001,  2543,  1,     12,  16018,2,20100110,2231, 33.5602, 141.5288, 6690,    410.4,   9.1742,  34.3279,2,  34.3299,2,    131.0,2,    50.39,2,    25.00,2,     0.00,2,     1.78,2,   -999.0,9,   -999.0,9,-999.0000,9,  -999.00,     2338
  49UF20100108,KS1001,  2543,  1,     11,  16017,2,20100110,2231, 33.5602, 141.5288, 6690,    511.1,   6.7629,  34.2306,2,  34.2311,2,    111.0,2,    68.34,2,    31.00,2,     0.00,2,     2.21,2,   -999.0,9,   -999.0,9,-999.0000,9,  -999.00,     2332
  49UF20100108,KS1001,  2543,  1,     10,  19375,2,20100110,2231, 33.5602, 141.5288, 6690,    613.1,   5.8624,  34.2589,2,  34.2591,2,     93.0,2,    82.38,2,    34.00,2,     0.00,2,     2.43,2,   -999.0,9,   -999.0,9,-999.0000,9,  -999.00,     2325
  49UF20100108,KS1001,  2543,  1,      9,  16015,2,20100110,2231, 33.5602, 141.5288, 6690,    713.2,   5.0620,  34.2992,2,  34.2983,2,     80.0,2,    95.44,2,    36.40,2,     0.00,2,     2.59,2,   -999.0,9,   -999.0,9,-999.0000,9,  -999.00,     2318
  49UF20100108,KS1001,  2543,  1,      8,  16014,2,20100110,2231, 33.5602, 141.5288, 6690,    809.6,   4.2848,  34.3187,2,  34.3189,2,     67.0,2,   107.55,2,    38.50,2,     0.00,2,     2.76,2,   -999.0,9,   -999.0,9,-999.0000,9,  -999.00,     2313
  49UF20100108,KS1001,  2543,  1,      7,  19374,2,20100110,2231, 33.5602, 141.5288, 6690,    909.1,   3.7473,  34.3687,2,  34.3685,2,     62.0,2,   118.58,2,    39.80,2,     0.00,2,     2.84,2,   -999.0,9,   -999.0,9,-999.0000,9,  -999.00,     2309
  49UF20100108,KS1001,  2543,  1,      6,  16012,2,20100110,2231, 33.5602, 141.5288, 6690,   1014.9,   3.2125,  34.3804,2,  34.3792,2,     56.0,2,   130.64,2,    41.90,2,     0.00,2,     2.99,2,   -999.0,9,   -999.0,9,-999.0000,9,  -999.00,     2256
  49UF20100108,KS1001,  2543,  1,      5,  16011,2,20100110,2231, 33.5602, 141.5288, 6690,   1267.3,   2.7959,  34.4590,2,  34.4587,2,     49.0,2,   140.92,2,    41.90,2,     0.00,2,     2.99,2,   -999.0,9,   -999.0,9,-999.0000,9,  -999.00,     2247
  49UF20100108,KS1001,  2543,  1,      4,  16010,2,20100110,2231, 33.5602, 141.5288, 6690,   1517.7,   2.4336,  34.5141,2,  34.5142,2,     54.0,2,   151.41,2,    42.00,2,     0.00,2,     2.98,2,   -999.0,9,   -999.0,9,-999.0000,9,  -999.00,     2241
  49UF20100108,KS1001,  2543,  1,      3,  16009,2,20100110,2231, 33.5602, 141.5288, 6690,   1522.2,   2.4260,  34.5153,2,  34.5154,2,     54.0,2,   149.91,2,    41.90,2,     0.00,2,     2.97,2,   -999.0,9,   -999.0,9,-999.0000,9,  -999.00,     2241
  49UF20100108,KS1001,  2543,  1,      2,  16008,2,20100110,2231, 33.5602, 141.5288, 6690,   1762.6,   2.2008,  34.5538,2,  34.5554,2,     65.0,4,   155.00,2,    41.30,2,     0.00,2,     2.93,2,   -999.0,9,   -999.0,9,-999.0000,9,  -999.00,     2237
  49UF20100108,KS1001,  2543,  1,      1,  16007,2,20100110,2231, 33.5602, 141.5288, 6690,   2055.6,   1.9813,  34.5932,2,  34.5929,2,     83.0,2,   156.43,2,    40.50,2,     0.00,2,     2.84,2,   -999.0,9,   -999.0,9,-999.0000,9,  -999.00,     2231
  49UF20100108,KS1001,  2544,  1,     99,     99,2,20100111,0516, 33.0202, 142.0223, 8771,      0.0,  19.7835,  34.6757,2,-999.0000,9,    226.0,2,     2.09,2,     0.75,2,     0.15,2,     0.07,2,   -999.0,9,   -999.0,9,-999.0000,9,  -999.00,      604
  49UF20100108,KS1001,  2544,  1,     23,  19380,2,20100111,0516, 33.0202, 142.0223, 8771,     10.1,  19.7951,  34.6751,2,-999.0000,9,    224.0,2,     2.19,2,     0.83,2,     0.17,2,     0.07,2,   -999.0,9,   -999.0,9,-999.0000,9,  -999.00,      625
  49UF20100108,KS1001,  2544,  1,     22,  16028,2,20100111,0516, 33.0202, 142.0223, 8771,     25.8,  19.7963,  34.6757,2,-999.0000,9,    224.0,2,     2.19,2,     0.74,2,     0.16,2,     0.07,2,   -999.0,9,   -999.0,9,-999.0000,9,  -999.00,      624
  49UF20100108,KS1001,  2544,  1,     21,  16027,3,20100111,0516, 33.0202, 142.0223, 8771,     49.8,  19.8060,  34.6740,2,-999.0000,9,    223.0,2,     2.24,2,     0.93,2,     0.17,2,     0.08,2,   -999.0,9,   -999.0,9,-999.0000,9,  -999.00,      620
  49UF20100108,KS1001,  2544,  1,     20,  16026,2,20100111,0516, 33.0202, 142.0223, 8771,     76.0,  19.8030,  34.6734,2,-999.0000,9,    223.0,2,     2.34,2,     1.09,2,     0.21,2,     0.09,2,   -999.0,9,   -999.0,9,-999.0000,9,  -999.00,      619
  49UF20100108,KS1001,  2544,  1,     19,  19378,2,20100111,0516, 33.0202, 142.0223, 8771,    100.8,  19.7785,  34.6744,2,-999.0000,9,    223.0,2,     2.48,2,     1.16,2,     0.24,2,     0.10,2,   -999.0,9,   -999.0,9,-999.0000,9,  -999.00,      618
  49UF20100108,KS1001,  2544,  1,     18,  19377,2,20100111,0516, 33.0202, 142.0223, 8771,    126.5,  19.7577,  34.6738,2,-999.0000,9,    221.0,2,     2.63,2,     1.33,2,     0.27,2,     0.11,2,   -999.0,9,   -999.0,9,-999.0000,9,  -999.00,      617
  49UF20100108,KS1001,  2544,  1,     17,  16023,2,20100111,0516, 33.0202, 142.0223, 8771,    150.9,  18.9439,  34.7170,2,-999.0000,9,    205.0,2,     3.27,2,     3.08,2,     0.02,2,     0.21,2,   -999.0,9,   -999.0,9,-999.0000,9,  -999.00,      615
  49UF20100108,KS1001,  2544,  1,     16,  16022,2,20100111,0516, 33.0202, 142.0223, 8771,    201.1,  18.0794,  34.7262,2,-999.0000,9,    201.0,2,     4.21,2,     4.69,2,     0.01,2,     0.30,2,   -999.0,9,   -999.0,9,-999.0000,9,  -999.00,      614
  49UF20100108,KS1001,  2544,  1,     14,  16020,2,20100111,0516, 33.0202, 142.0223, 8771,    251.6,  17.0811,  34.7181,2,-999.0000,9,    194.0,2,     7.62,2,     7.80,2,     0.00,2,     0.51,2,   -999.0,9,   -999.0,9,-999.0000,9,  -999.00,      612
  49UF20100108,KS1001,  2544,  1,     15,  16021,2,20100111,0516, 33.0202, 142.0223, 8771,    252.2,  17.0778,  34.7184,2,-999.0000,9,    195.0,2,     6.04,2,     6.60,2,     0.00,2,     0.44,2,   -999.0,9,   -999.0,9,-999.0000,9,  -999.00,      612
  49UF20100108,KS1001,  2544,  1,     13,  16019,2,20100111,0516, 33.0202, 142.0223, 8771,    303.4,  16.0383,  34.6560,2,-999.0000,9,    189.0,2,    10.19,2,     9.60,2,     0.00,2,     0.64,2,   -999.0,9,   -999.0,9,-999.0000,9,  -999.00,      610
  49UF20100108,KS1001,  2544,  1,     12,  16018,2,20100111,0516, 33.0202, 142.0223, 8771,    403.2,  13.1658,  34.4537,2,-999.0000,9,    191.0,2,    15.68,2,    12.90,2,     0.00,2,     0.88,2,   -999.0,9,   -999.0,9,-999.0000,9,  -999.00,      607
  49UF20100108,KS1001,  2544,  1,     11,  16017,2,20100111,0516, 33.0202, 142.0223, 8771,    505.7,  10.0055,  34.2209,2,-999.0000,9,    187.0,2,    27.16,2,    18.60,2,     0.00,2,     1.29,2,   -999.0,9,   -999.0,9,-999.0000,9,  -999.00,      604
  49UF20100108,KS1001,  2544,  1,     10,  19375,2,20100111,0516, 33.0202, 142.0223, 8771,    606.5,   7.4456,  34.1341,2,-999.0000,9,    142.0,2,    52.59,2,    27.10,2,     0.00,2,     1.94,2,   -999.0,9,   -999.0,9,-999.0000,9,  -999.00,      601
  49UF20100108,KS1001,  2544,  1,      9,  16015,2,20100111,0516, 33.0202, 142.0223, 8771,    709.3,   5.9392,  34.1406,2,-999.0000,9,    109.0,2,    73.05,2,    32.60,2,     0.00,2,     2.34,2,   -999.0,9,   -999.0,9,-999.0000,9,  -999.00,      558
  49UF20100108,KS1001,  2544,  1,      8,  16014,2,20100111,0516, 33.0202, 142.0223, 8771,    811.3,   4.9494,  34.2015,2,-999.0000,9,     82.0,2,    90.90,2,    36.60,2,     0.00,2,     2.62,2,   -999.0,9,   -999.0,9,-999.0000,9,  -999.00,      553
  49UF20100108,KS1001,  2544,  1,      7,  19374,2,20100111,0516, 33.0202, 142.0223, 8771,    909.4,   4.3030,  34.2556,2,-999.0000,9,     64.0,2,   105.23,2,    38.80,2,     0.00,2,     2.79,2,   -999.0,9,   -999.0,9,-999.0000,9,  -999.00,      549
  49UF20100108,KS1001,  2544,  1,      6,  16012,2,20100111,0516, 33.0202, 142.0223, 8771,   1010.9,   3.8745,  34.3387,2,-999.0000,9,     63.0,2,   115.61,2,    39.50,2,     0.00,2,     2.84,2,   -999.0,9,   -999.0,9,-999.0000,9,  -999.00,      546
  49UF20100108,KS1001,  2544,  1,      4,  16010,2,20100111,0516, 33.0202, 142.0223, 8771,   1264.4,   2.9535,  34.4463,2,-999.0000,9,     55.0,2,   136.53,2,    41.40,2,     0.00,2,     2.95,2,   -999.0,9,   -999.0,9,-999.0000,9,  -999.00,      540
  49UF20100108,KS1001,  2544,  1,      5,  16011,2,20100111,0516, 33.0202, 142.0223, 8771,   1265.4,   2.9300,  34.4447,2,-999.0000,9,     55.0,2,   136.41,2,    41.30,2,     0.00,2,     2.94,2,   -999.0,9,   -999.0,9,-999.0000,9,  -999.00,      540
  49UF20100108,KS1001,  2544,  1,      3,  16009,2,20100111,0516, 33.0202, 142.0223, 8771,   1516.3,   2.4733,  34.5046,2,-999.0000,9,     50.0,2,   151.11,2,    42.30,2,     0.00,2,     3.00,2,   -999.0,9,   -999.0,9,-999.0000,9,  -999.00,      533
  49UF20100108,KS1001,  2544,  1,      2,  16008,2,20100111,0516, 33.0202, 142.0223, 8771,   1769.2,   2.1576,  34.5587,2,-999.0000,9,     62.0,2,   156.64,2,    41.70,2,     0.00,2,     2.93,2,   -999.0,9,   -999.0,9,-999.0000,9,  -999.00,      528
  49UF20100108,KS1001,  2544,  1,      1,  16007,2,20100111,0516, 33.0202, 142.0223, 8771,   2033.8,   1.9409,  34.5971,2,-999.0000,9,     81.0,2,   158.32,2,    40.80,2,     0.00,2,     2.85,2,   -999.0,9,   -999.0,9,-999.0000,9,  -999.00,      516
  49UF20100108,KS1001,  2546,  1,     99,     99,2,20100111,1541, 32.0158, 143.0010, 5650,      0.0,  19.5519,  34.6880,2,-999.0000,9,    226.0,2,     1.79,2,     0.30,2,     0.10,2,     0.03,2,   -999.0,9,   -999.0,9,-999.0000,9,  -999.00,     1618
  49UF20100108,KS1001,  2546,  1,     23,  19380,2,20100111,1541, 32.0158, 143.0010, 5650,     10.0,  19.5527,  34.6879,2,-999.0000,9,    225.0,2,     1.79,2,     0.30,2,     0.10,2,     0.03,2,   -999.0,9,   -999.0,9,-999.0000,9,  -999.00,     1636
  49UF20100108,KS1001,  2546,  1,     22,  16028,2,20100111,1541, 32.0158, 143.0010, 5650,     25.4,  19.5643,  34.6873,2,-999.0000,9,    225.0,2,     1.79,2,     0.30,2,     0.10,2,     0.03,2,   -999.0,9,   -999.0,9,-999.0000,9,  -999.00,     1635
  49UF20100108,KS1001,  2546,  1,     21,  16027,2,20100111,1541, 32.0158, 143.0010, 5650,     49.5,  19.5726,  34.6871,2,-999.0000,9,    225.0,2,     1.79,2,     0.30,2,     0.10,2,     0.04,2,   -999.0,9,   -999.0,9,-999.0000,9,  -999.00,     1631
  49UF20100108,KS1001,  2546,  1,     20,  16026,2,20100111,1541, 32.0158, 143.0010, 5650,     74.3,  19.5764,  34.6871,2,-999.0000,9,    224.0,2,     1.79,2,     0.30,2,     0.10,2,     0.03,2,   -999.0,9,   -999.0,9,-999.0000,9,  -999.00,     1630
  49UF20100108,KS1001,  2546,  1,     19,  19378,2,20100111,1541, 32.0158, 143.0010, 5650,     99.4,  19.5583,  34.6844,2,-999.0000,9,    225.0,2,     1.84,2,     0.39,2,     0.11,2,     0.04,2,   -999.0,9,   -999.0,9,-999.0000,9,  -999.00,     1629
  49UF20100108,KS1001,  2546,  1,     18,  19377,2,20100111,1541, 32.0158, 143.0010, 5650,    126.3,  19.5240,  34.6797,2,-999.0000,9,    224.0,2,     1.88,2,     0.47,2,     0.13,2,     0.04,2,   -999.0,9,   -999.0,9,-999.0000,9,  -999.00,     1628
  49UF20100108,KS1001,  2546,  1,     17,  16023,2,20100111,1541, 32.0158, 143.0010, 5650,    152.3,  19.4064,  34.6816,2,-999.0000,9,    223.0,2,     2.03,2,     0.79,2,     0.11,2,     0.07,2,   -999.0,9,   -999.0,9,-999.0000,9,  -999.00,     1627
  49UF20100108,KS1001,  2546,  1,     15,  16021,3,20100111,1541, 32.0158, 143.0010, 5650,    203.5,  18.0936,  34.7084,2,-999.0000,9,    210.0,2,     3.11,2,     3.29,2,     0.01,2,     0.21,2,   -999.0,9,   -999.0,9,-999.0000,9,  -999.00,     1625
  49UF20100108,KS1001,  2546,  1,     16,  16022,2,20100111,1541, 32.0158, 143.0010, 5650,    204.7,  18.0884,  34.7087,2,-999.0000,9,    210.0,2,     3.11,2,     3.29,2,     0.01,2,     0.22,2,   -999.0,9,   -999.0,9,-999.0000,9,  -999.00,     1625
  49UF20100108,KS1001,  2546,  1,     14,  16020,2,20100111,1541, 32.0158, 143.0010, 5650,    253.9,  17.6807,  34.7182,2,-999.0000,9,    209.0,2,     3.70,2,     4.29,2,     0.01,2,     0.27,2,   -999.0,9,   -999.0,9,-999.0000,9,  -999.00,     1623
  49UF20100108,KS1001,  2546,  1,     13,  16019,2,20100111,1541, 32.0158, 143.0010, 5650,    304.5,  17.3112,  34.7274,2,-999.0000,9,    203.0,2,     4.59,2,     5.50,2,     0.00,2,     0.35,2,   -999.0,9,   -999.0,9,-999.0000,9,  -999.00,     1622
  49UF20100108,KS1001,  2546,  1,     12,  16018,2,20100111,1541, 32.0158, 143.0010, 5650,    404.7,  15.7554,  34.6363,2,-999.0000,9,    196.0,2,     8.00,2,     8.50,2,     0.00,2,     0.56,2,   -999.0,9,   -999.0,9,-999.0000,9,  -999.00,     1619
  49UF20100108,KS1001,  2546,  1,     11,  16017,2,20100111,1541, 32.0158, 143.0010, 5650,    505.0,  13.6375,  34.4828,2,-999.0000,9,    195.0,2,    13.52,2,    11.90,2,     0.00,2,     0.79,2,   -999.0,9,   -999.0,9,-999.0000,9,  -999.00,     1616
  49UF20100108,KS1001,  2546,  1,     10,  19375,2,20100111,1541, 32.0158, 143.0010, 5650,    606.4,  10.6573,  34.2762,2,-999.0000,9,    184.0,2,    25.82,2,    17.90,2,     0.00,2,     1.24,2,   -999.0,9,   -999.0,9,-999.0000,9,  -999.00,     1613
  49UF20100108,KS1001,  2546,  1,      9,  16015,2,20100111,1541, 32.0158, 143.0010, 5650,    707.3,   7.8152,  34.0830,2,-999.0000,9,    165.0,2,    42.76,2,    24.50,2,     0.00,2,     1.74,2,   -999.0,9,   -999.0,9,-999.0000,9,  -999.00,     1610
  49UF20100108,KS1001,  2546,  1,      8,  16014,2,20100111,1541, 32.0158, 143.0010, 5650,    807.4,   5.6443,  34.0631,2,-999.0000,9,    118.0,2,    70.18,2,    32.60,2,     0.00,2,     2.36,2,   -999.0,9,   -999.0,9,-999.0000,9,  -999.00,     1608
  49UF20100108,KS1001,  2546,  1,      7,  19374,2,20100111,1541, 32.0158, 143.0010, 5650,    908.9,   4.6968,  34.1417,2,-999.0000,9,     80.0,2,    91.45,2,    37.30,2,     0.00,2,     2.68,2,   -999.0,9,   -999.0,9,-999.0000,9,  -999.00,     1605
  49UF20100108,KS1001,  2546,  1,      6,  16012,2,20100111,1541, 32.0158, 143.0010, 5650,   1010.5,   4.2327,  34.2176,2,-999.0000,9,     59.0,2,   104.12,2,    39.50,2,     0.00,2,     2.84,2,   -999.0,9,   -999.0,9,-999.0000,9,  -999.00,     1602
  49UF20100108,KS1001,  2546,  1,      5,  16011,2,20100111,1541, 32.0158, 143.0010, 5650,   1010.6,   4.2331,  34.2176,2,-999.0000,9,     60.0,2,   103.84,2,    39.40,2,     0.00,2,     2.83,2,   -999.0,9,   -999.0,9,-999.0000,9,  -999.00,     1602
  49UF20100108,KS1001,  2546,  1,      4,  16010,2,20100111,1541, 32.0158, 143.0010, 5650,   1262.8,   3.2924,  34.3756,2,-999.0000,9,     43.0,2,   129.82,2,    41.90,2,     0.00,2,     3.00,2,   -999.0,9,   -999.0,9,-999.0000,9,  -999.00,     1557
  49UF20100108,KS1001,  2546,  1,      3,  16009,2,20100111,1541, 32.0158, 143.0010, 5650,   1514.9,   2.7247,  34.4746,2,-999.0000,9,     46.0,2,   144.62,2,    42.40,2,     0.00,2,     3.01,2,   -999.0,9,   -999.0,9,-999.0000,9,  -999.00,     1552
  49UF20100108,KS1001,  2546,  1,      2,  16008,2,20100111,1541, 32.0158, 143.0010, 5650,   1769.9,   2.3799,  34.5360,2,-999.0000,9,     60.0,2,   150.10,2,    41.60,2,     0.00,2,     2.95,2,   -999.0,9,   -999.0,9,-999.0000,9,  -999.00,     1547
  49UF20100108,KS1001,  2546,  1,      1,  16007,2,20100111,1541, 32.0158, 143.0010, 5650,   2034.4,   2.0757,  34.5831,2,-999.0000,9,     78.0,2,   153.71,2,    40.80,2,     0.00,2,     2.86,2,   -999.0,9,   -999.0,9,-999.0000,9,  -999.00,     1541