BOTTLE,20190925PRINUNIVRMK
EXPOCODE,SECT_ID,STNNBR,CASTNO,SAMPNO,BTLNBR,BTLNBR_FLAG_W,DATE,TIME,LATITUDE,LONGITUDE,DEPTH,CTDPRS,CTDTMP,CTDSAL,CTDSAL_FLAG_W,SALNTY,SALNTY_FLAG_W,OXYGEN,OXYGEN_FLAG_W,SILCAT,SILCAT_FLAG_W,NITRAT,NITRAT_FLAG_W,NITRIT,NITRIT_FLAG_W,PHSPHT,PHSPHT_FLAG_W,TCARBN,TCARBN_FLAG_W,ALKALI,ALKALI_FLAG_W,PH_TOT,PH_TOT_FLAG_W,PH_TMP,BTL_TIME
,,,,,,,,,,,METERS,DBAR,ITS-90,PSS-78,,PSS-78,,UMOL/KG,,UMOL/KG,,UMOL/KG,,UMOL/KG,,UMOL/KG,,UMOL/KG,,UMOL/KG,,,,DEG C,
  49UF20100108,KS1001,  2602,  1,     99,     99,2,20100214,2215,  2.4080, 139.9825, 4154,      0.0,  28.3662,  34.4069,2,-999.0000,9,    205.0,2,  -999.00,9,  -999.00,9,  -999.00,9,  -999.00,9,   -999.0,9,   -999.0,9,-999.0000,9,  -999.00,     2253
  49UF20100108,KS1001,  2602,  1,     23,  16029,2,20100214,2215,  2.4080, 139.9825, 4154,     10.4,  28.3768,  34.5929,2,-999.0000,9,    203.0,2,  -999.00,9,  -999.00,9,  -999.00,9,  -999.00,9,   -999.0,9,   -999.0,9,-999.0000,9,  -999.00,     2317
  49UF20100108,KS1001,  2602,  1,     22,  16028,2,20100214,2215,  2.4080, 139.9825, 4154,     25.8,  27.9043,  34.6029,2,-999.0000,9,    204.0,2,  -999.00,9,  -999.00,9,  -999.00,9,  -999.00,9,   -999.0,9,   -999.0,9,-999.0000,9,  -999.00,     2316
  49UF20100108,KS1001,  2602,  1,     21,  16027,2,20100214,2215,  2.4080, 139.9825, 4154,     51.7,  24.0199,  34.9828,2,-999.0000,9,    150.0,2,  -999.00,9,  -999.00,9,  -999.00,9,  -999.00,9,   -999.0,9,   -999.0,9,-999.0000,9,  -999.00,     2313
  49UF20100108,KS1001,  2602,  1,     20,  16026,2,20100214,2215,  2.4080, 139.9825, 4154,     76.5,  24.0132,  35.3109,2,-999.0000,9,    137.0,2,  -999.00,9,  -999.00,9,  -999.00,9,  -999.00,9,   -999.0,9,   -999.0,9,-999.0000,9,  -999.00,     2312
  49UF20100108,KS1001,  2602,  1,     19,  19378,2,20100214,2215,  2.4080, 139.9825, 4154,    100.0,  23.3225,  35.3481,2,-999.0000,9,    135.0,2,  -999.00,9,  -999.00,9,  -999.00,9,  -999.00,9,   -999.0,9,   -999.0,9,-999.0000,9,  -999.00,     2311
  49UF20100108,KS1001,  2602,  1,     18,  19377,2,20100214,2215,  2.4080, 139.9825, 4154,    126.2,  22.3942,  35.2730,2,-999.0000,9,    137.0,2,  -999.00,9,  -999.00,9,  -999.00,9,  -999.00,9,   -999.0,9,   -999.0,9,-999.0000,9,  -999.00,     2310
  49UF20100108,KS1001,  2602,  1,     17,  16023,2,20100214,2215,  2.4080, 139.9825, 4154,    152.2,  20.8995,  35.1615,2,-999.0000,9,    139.0,2,  -999.00,9,  -999.00,9,  -999.00,9,  -999.00,9,   -999.0,9,   -999.0,9,-999.0000,9,  -999.00,     2309
  49UF20100108,KS1001,  2602,  1,     16,  16022,2,20100214,2215,  2.4080, 139.9825, 4154,    201.8,  17.5604,  35.1875,2,-999.0000,9,    141.0,2,  -999.00,9,  -999.00,9,  -999.00,9,  -999.00,9,   -999.0,9,   -999.0,9,-999.0000,9,  -999.00,     2307
  49UF20100108,KS1001,  2602,  1,     15,  16021,2,20100214,2215,  2.4080, 139.9825, 4154,    253.8,  12.4621,  34.5312,2,-999.0000,9,    136.0,2,  -999.00,9,  -999.00,9,  -999.00,9,  -999.00,9,   -999.0,9,   -999.0,9,-999.0000,9,  -999.00,     2306
  49UF20100108,KS1001,  2602,  1,     14,  16020,2,20100214,2215,  2.4080, 139.9825, 4154,    304.8,  10.2220,  34.6212,2,-999.0000,9,    120.0,2,  -999.00,9,  -999.00,9,  -999.00,9,  -999.00,9,   -999.0,9,   -999.0,9,-999.0000,9,  -999.00,     2304
  49UF20100108,KS1001,  2602,  1,     12,  16018,2,20100214,2215,  2.4080, 139.9825, 4154,    406.9,   9.2604,  34.6649,2,-999.0000,9,    109.0,2,  -999.00,9,  -999.00,9,  -999.00,9,  -999.00,9,   -999.0,9,   -999.0,9,-999.0000,9,  -999.00,     2300
  49UF20100108,KS1001,  2602,  1,     13,  16019,2,20100214,2215,  2.4080, 139.9825, 4154,    407.5,   9.2494,  34.6641,2,-999.0000,9,    110.0,2,  -999.00,9,  -999.00,9,  -999.00,9,  -999.00,9,   -999.0,9,   -999.0,9,-999.0000,9,  -999.00,     2300
  49UF20100108,KS1001,  2602,  1,     11,  16017,2,20100214,2215,  2.4080, 139.9825, 4154,    505.8,   8.4575,  34.6153,2,-999.0000,9,    124.0,2,  -999.00,9,  -999.00,9,  -999.00,9,  -999.00,9,   -999.0,9,   -999.0,9,-999.0000,9,  -999.00,     2257
  49UF20100108,KS1001,  2602,  1,     10,  19375,2,20100214,2215,  2.4080, 139.9825, 4154,    606.2,   7.5163,  34.5691,2,-999.0000,9,    107.0,2,  -999.00,9,  -999.00,9,  -999.00,9,  -999.00,9,   -999.0,9,   -999.0,9,-999.0000,9,  -999.00,     2253
  49UF20100108,KS1001,  2602,  1,      9,  16015,2,20100214,2215,  2.4080, 139.9825, 4154,    704.2,   6.5303,  34.5409,2,-999.0000,9,     95.0,2,  -999.00,9,  -999.00,9,  -999.00,9,  -999.00,9,   -999.0,9,   -999.0,9,-999.0000,9,  -999.00,     2251
  49UF20100108,KS1001,  2602,  1,      8,  16014,2,20100214,2215,  2.4080, 139.9825, 4154,    807.0,   5.7182,  34.5379,2,-999.0000,9,     87.0,2,  -999.00,9,  -999.00,9,  -999.00,9,  -999.00,9,   -999.0,9,   -999.0,9,-999.0000,9,  -999.00,     2248
  49UF20100108,KS1001,  2602,  1,      7,  19374,2,20100214,2215,  2.4080, 139.9825, 4154,    907.7,   5.1513,  34.5408,2,-999.0000,9,     92.0,2,  -999.00,9,  -999.00,9,  -999.00,9,  -999.00,9,   -999.0,9,   -999.0,9,-999.0000,9,  -999.00,     2245
  49UF20100108,KS1001,  2602,  1,      6,  16012,2,20100214,2215,  2.4080, 139.9825, 4154,   1008.1,   4.6068,  34.5518,2,-999.0000,9,     96.0,2,  -999.00,9,  -999.00,9,  -999.00,9,  -999.00,9,   -999.0,9,   -999.0,9,-999.0000,9,  -999.00,     2243
  49UF20100108,KS1001,  2602,  1,      5,  16011,2,20100214,2215,  2.4080, 139.9825, 4154,   1258.9,   3.6483,  34.5783,2,-999.0000,9,     98.0,2,  -999.00,9,  -999.00,9,  -999.00,9,  -999.00,9,   -999.0,9,   -999.0,9,-999.0000,9,  -999.00,     2238
  49UF20100108,KS1001,  2602,  1,      4,  16010,2,20100214,2215,  2.4080, 139.9825, 4154,   1512.8,   2.9647,  34.6021,2,-999.0000,9,    101.0,2,  -999.00,9,  -999.00,9,  -999.00,9,  -999.00,9,   -999.0,9,   -999.0,9,-999.0000,9,  -999.00,     2233
  49UF20100108,KS1001,  2602,  1,      3,  16009,2,20100214,2215,  2.4080, 139.9825, 4154,   1766.0,   2.5132,  34.6217,2,-999.0000,9,    111.0,2,  -999.00,9,  -999.00,9,  -999.00,9,  -999.00,9,   -999.0,9,   -999.0,9,-999.0000,9,  -999.00,     2228
  49UF20100108,KS1001,  2602,  1,      2,  16008,2,20100214,2215,  2.4080, 139.9825, 4154,   1766.3,   2.5134,  34.6214,2,-999.0000,9,    111.0,2,  -999.00,9,  -999.00,9,  -999.00,9,  -999.00,9,   -999.0,9,   -999.0,9,-999.0000,9,  -999.00,     2228
  49UF20100108,KS1001,  2602,  1,      1,  16007,2,20100214,2215,  2.4080, 139.9825, 4154,   2032.6,   2.1180,  34.6414,2,-999.0000,9,    122.0,2,  -999.00,9,  -999.00,9,  -999.00,9,  -999.00,9,   -999.0,9,   -999.0,9,-999.0000,9,  -999.00,     2215
  49UF20100108,KS1001,  2605,  1,     99,     99,2,20100215,1648,  2.9962, 136.9900, 4494,      0.0,  27.9068,  34.6003,2,-999.0000,9,    205.0,2,  -999.00,9,  -999.00,9,  -999.00,9,  -999.00,9,   -999.0,9,   -999.0,9,-999.0000,9,  -999.00,     1726
  49UF20100108,KS1001,  2605,  1,     23,  16029,2,20100215,1648,  2.9962, 136.9900, 4494,     10.1,  27.9107,  34.5984,2,  34.5989,2,    205.0,2,  -999.00,9,  -999.00,9,  -999.00,9,  -999.00,9,   -999.0,9,   -999.0,9,-999.0000,9,  -999.00,     1743
  49UF20100108,KS1001,  2605,  1,     22,  16028,2,20100215,1648,  2.9962, 136.9900, 4494,     25.5,  27.8952,  34.6077,2,-999.0000,9,    204.0,2,  -999.00,9,  -999.00,9,  -999.00,9,  -999.00,9,   -999.0,9,   -999.0,9,-999.0000,9,  -999.00,     1741
  49UF20100108,KS1001,  2605,  1,     21,  16027,2,20100215,1648,  2.9962, 136.9900, 4494,     52.0,  27.2318,  34.5200,2,-999.0000,9,    198.0,2,  -999.00,9,  -999.00,9,  -999.00,9,  -999.00,9,   -999.0,9,   -999.0,9,-999.0000,9,  -999.00,     1737
  49UF20100108,KS1001,  2605,  1,     20,  16026,2,20100215,1648,  2.9962, 136.9900, 4494,     75.0,  21.9246,  34.8383,2,-999.0000,9,    157.0,2,  -999.00,9,  -999.00,9,  -999.00,9,  -999.00,9,   -999.0,9,   -999.0,9,-999.0000,9,  -999.00,     1736
  49UF20100108,KS1001,  2605,  1,     19,  19378,2,20100215,1648,  2.9962, 136.9900, 4494,    100.4,  22.9825,  35.3965,2,  35.3890,2,    137.0,2,  -999.00,9,  -999.00,9,  -999.00,9,  -999.00,9,   -999.0,9,   -999.0,9,-999.0000,9,  -999.00,     1735
  49UF20100108,KS1001,  2605,  1,     18,  19377,2,20100215,1648,  2.9962, 136.9900, 4494,    126.3,  22.9441,  35.4194,2,-999.0000,9,    137.0,2,  -999.00,9,  -999.00,9,  -999.00,9,  -999.00,9,   -999.0,9,   -999.0,9,-999.0000,9,  -999.00,     1734
  49UF20100108,KS1001,  2605,  1,     17,  16023,2,20100215,1648,  2.9962, 136.9900, 4494,    150.9,  21.1084,  35.2795,2,-999.0000,9,    140.0,2,  -999.00,9,  -999.00,9,  -999.00,9,  -999.00,9,   -999.0,9,   -999.0,9,-999.0000,9,  -999.00,     1733
  49UF20100108,KS1001,  2605,  1,     16,  16022,2,20100215,1648,  2.9962, 136.9900, 4494,    203.4,  18.2682,  35.2494,2,  35.1764,4,    145.0,2,  -999.00,9,  -999.00,9,  -999.00,9,  -999.00,9,   -999.0,9,   -999.0,9,-999.0000,9,  -999.00,     1731
  49UF20100108,KS1001,  2605,  1,     15,  16021,2,20100215,1648,  2.9962, 136.9900, 4494,    253.1,  12.9047,  34.5069,2,-999.0000,9,    141.0,2,  -999.00,9,  -999.00,9,  -999.00,9,  -999.00,9,   -999.0,9,   -999.0,9,-999.0000,9,  -999.00,     1729
  49UF20100108,KS1001,  2605,  1,     13,  16019,2,20100215,1648,  2.9962, 136.9900, 4494,    302.6,  11.1098,  34.5642,2,  34.5651,2,    134.0,2,  -999.00,9,  -999.00,9,  -999.00,9,  -999.00,9,   -999.0,9,   -999.0,9,-999.0000,9,  -999.00,     1727
  49UF20100108,KS1001,  2605,  1,     14,  16020,2,20100215,1648,  2.9962, 136.9900, 4494,    302.7,  11.1110,  34.5651,2,  34.5657,2,    134.0,2,  -999.00,9,  -999.00,9,  -999.00,9,  -999.00,9,   -999.0,9,   -999.0,9,-999.0000,9,  -999.00,     1728
  49UF20100108,KS1001,  2605,  1,     12,  16018,2,20100215,1648,  2.9962, 136.9900, 4494,    403.5,   8.6375,  34.6272,2,  34.6273,2,    127.0,2,  -999.00,9,  -999.00,9,  -999.00,9,  -999.00,9,   -999.0,9,   -999.0,9,-999.0000,9,  -999.00,     1725
  49UF20100108,KS1001,  2605,  1,     11,  16017,2,20100215,1648,  2.9962, 136.9900, 4494,    505.1,   7.9404,  34.5844,2,  34.5840,2,    133.0,2,  -999.00,9,  -999.00,9,  -999.00,9,  -999.00,9,   -999.0,9,   -999.0,9,-999.0000,9,  -999.00,     1722
  49UF20100108,KS1001,  2605,  1,     10,  19375,2,20100215,1648,  2.9962, 136.9900, 4494,    604.3,   7.0185,  34.5422,2,  34.5427,2,    121.0,2,  -999.00,9,  -999.00,9,  -999.00,9,  -999.00,9,   -999.0,9,   -999.0,9,-999.0000,9,  -999.00,     1720
  49UF20100108,KS1001,  2605,  1,      9,  16015,2,20100215,1648,  2.9962, 136.9900, 4494,    705.5,   6.3507,  34.5315,2,  34.5324,2,    108.0,2,  -999.00,9,  -999.00,9,  -999.00,9,  -999.00,9,   -999.0,9,   -999.0,9,-999.0000,9,  -999.00,     1717
  49UF20100108,KS1001,  2605,  1,      8,  16014,2,20100215,1648,  2.9962, 136.9900, 4494,    806.8,   5.5830,  34.5388,2,  34.5386,2,     87.0,2,  -999.00,9,  -999.00,9,  -999.00,9,  -999.00,9,   -999.0,9,   -999.0,9,-999.0000,9,  -999.00,     1715
  49UF20100108,KS1001,  2605,  1,      7,  19374,2,20100215,1648,  2.9962, 136.9900, 4494,    908.0,   4.9677,  34.5445,2,  34.5435,2,     91.0,2,  -999.00,9,  -999.00,9,  -999.00,9,  -999.00,9,   -999.0,9,   -999.0,9,-999.0000,9,  -999.00,     1712
  49UF20100108,KS1001,  2605,  1,      6,  16012,2,20100215,1648,  2.9962, 136.9900, 4494,   1008.9,   4.5648,  34.5532,2,  34.5522,2,     94.0,2,  -999.00,9,  -999.00,9,  -999.00,9,  -999.00,9,   -999.0,9,   -999.0,9,-999.0000,9,  -999.00,     1709
  49UF20100108,KS1001,  2605,  1,      5,  16011,2,20100215,1648,  2.9962, 136.9900, 4494,   1261.7,   3.6161,  34.5791,2,  34.5776,2,     99.0,2,  -999.00,9,  -999.00,9,  -999.00,9,  -999.00,9,   -999.0,9,   -999.0,9,-999.0000,9,  -999.00,     1704
  49UF20100108,KS1001,  2605,  1,      3,  16009,2,20100215,1648,  2.9962, 136.9900, 4494,   1513.8,   2.9136,  34.6043,2,  34.6032,2,    102.0,2,  -999.00,9,  -999.00,9,  -999.00,9,  -999.00,9,   -999.0,9,   -999.0,9,-999.0000,9,  -999.00,     1658
  49UF20100108,KS1001,  2605,  1,      4,  16010,2,20100215,1648,  2.9962, 136.9900, 4494,   1516.0,   2.9138,  34.6044,2,  34.6031,2,    103.0,2,  -999.00,9,  -999.00,9,  -999.00,9,  -999.00,9,   -999.0,9,   -999.0,9,-999.0000,9,  -999.00,     1658
  49UF20100108,KS1001,  2605,  1,      2,  16008,2,20100215,1648,  2.9962, 136.9900, 4494,   1768.3,   2.5020,  34.6220,2,  34.6210,2,    112.0,2,  -999.00,9,  -999.00,9,  -999.00,9,  -999.00,9,   -999.0,9,   -999.0,9,-999.0000,9,  -999.00,     1653
  49UF20100108,KS1001,  2605,  1,      1,  16007,2,20100215,1648,  2.9962, 136.9900, 4494,   2028.1,   2.1075,  34.6419,2,  34.6406,2,    122.0,2,  -999.00,9,  -999.00,9,  -999.00,9,  -999.00,9,   -999.0,9,   -999.0,9,-999.0000,9,  -999.00,     1648