BOTTLE,20190925PRINUNIVRMK
EXPOCODE,SECT_ID,STNNBR,CASTNO,SAMPNO,BTLNBR,BTLNBR_FLAG_W,DATE,TIME,LATITUDE,LONGITUDE,DEPTH,CTDPRS,CTDTMP,CTDSAL,CTDSAL_FLAG_W,SALNTY,SALNTY_FLAG_W,OXYGEN,OXYGEN_FLAG_W,SILCAT,SILCAT_FLAG_W,NITRAT,NITRAT_FLAG_W,NITRIT,NITRIT_FLAG_W,PHSPHT,PHSPHT_FLAG_W,TCARBN,TCARBN_FLAG_W,ALKALI,ALKALI_FLAG_W,PH_TOT,PH_TOT_FLAG_W,PH_TMP,BTL_TIME
,,,,,,,,,,,METERS,DBAR,ITS-90,PSS-78,,PSS-78,,UMOL/KG,,UMOL/KG,,UMOL/KG,,UMOL/KG,,UMOL/KG,,UMOL/KG,,UMOL/KG,,,,DEG C,
  49UF20100108,KS1001,  2566,  1,     99,     99,2,20100120,2215, 12.9877, 164.9892, 5198,      0.0,  27.1434,  34.7308,2,-999.0000,9,    202.0,2,  -999.00,9,  -999.00,9,  -999.00,9,  -999.00,9,   -999.0,9,   -999.0,9,-999.0000,9,  -999.00,     2222
  49UF20100108,KS1001,  2566,  1,     23,  16029,2,20100120,2215, 12.9877, 164.9892, 5198,     10.5,  27.1409,  34.7321,2,-999.0000,9,    203.0,2,  -999.00,9,  -999.00,9,  -999.00,9,  -999.00,9,   -999.0,9,   -999.0,9,-999.0000,9,  -999.00,     2313
  49UF20100108,KS1001,  2566,  1,     22,  16028,2,20100120,2215, 12.9877, 164.9892, 5198,     25.9,  27.1424,  34.7320,2,-999.0000,9,    202.0,2,  -999.00,9,  -999.00,9,  -999.00,9,  -999.00,9,   -999.0,9,   -999.0,9,-999.0000,9,  -999.00,     2311
  49UF20100108,KS1001,  2566,  1,     21,  16027,2,20100120,2215, 12.9877, 164.9892, 5198,     52.4,  27.1643,  34.7510,2,-999.0000,9,    202.0,2,  -999.00,9,  -999.00,9,  -999.00,9,  -999.00,9,   -999.0,9,   -999.0,9,-999.0000,9,  -999.00,     2307
  49UF20100108,KS1001,  2566,  1,     20,  16026,2,20100120,2215, 12.9877, 164.9892, 5198,     75.6,  27.1943,  34.8245,2,-999.0000,9,    202.0,2,  -999.00,9,  -999.00,9,  -999.00,9,  -999.00,9,   -999.0,9,   -999.0,9,-999.0000,9,  -999.00,     2306
  49UF20100108,KS1001,  2566,  1,     19,  19378,2,20100120,2215, 12.9877, 164.9892, 5198,    101.8,  27.0299,  34.8907,2,-999.0000,9,    204.0,2,  -999.00,9,  -999.00,9,  -999.00,9,  -999.00,9,   -999.0,9,   -999.0,9,-999.0000,9,  -999.00,     2304
  49UF20100108,KS1001,  2566,  1,     18,  19377,2,20100120,2215, 12.9877, 164.9892, 5198,    127.5,  24.8504,  35.1556,2,-999.0000,9,    208.0,2,  -999.00,9,  -999.00,9,  -999.00,9,  -999.00,9,   -999.0,9,   -999.0,9,-999.0000,9,  -999.00,     2303
  49UF20100108,KS1001,  2566,  1,     17,  16023,2,20100120,2215, 12.9877, 164.9892, 5198,    153.8,  23.3032,  35.1170,2,-999.0000,9,    200.0,2,  -999.00,9,  -999.00,9,  -999.00,9,  -999.00,9,   -999.0,9,   -999.0,9,-999.0000,9,  -999.00,     2301
  49UF20100108,KS1001,  2566,  1,     16,  16022,2,20100120,2215, 12.9877, 164.9892, 5198,    201.0,  17.0720,  34.6690,2,-999.0000,9,    172.0,2,  -999.00,9,  -999.00,9,  -999.00,9,  -999.00,9,   -999.0,9,   -999.0,9,-999.0000,9,  -999.00,     2259
  49UF20100108,KS1001,  2566,  1,     15,  16021,2,20100120,2215, 12.9877, 164.9892, 5198,    251.7,  12.2005,  34.3172,2,-999.0000,9,    145.0,2,  -999.00,9,  -999.00,9,  -999.00,9,  -999.00,9,   -999.0,9,   -999.0,9,-999.0000,9,  -999.00,     2257
  49UF20100108,KS1001,  2566,  1,     14,  16020,2,20100120,2215, 12.9877, 164.9892, 5198,    251.8,  12.2080,  34.3177,2,-999.0000,9,    144.0,2,  -999.00,9,  -999.00,9,  -999.00,9,  -999.00,9,   -999.0,9,   -999.0,9,-999.0000,9,  -999.00,     2257
  49UF20100108,KS1001,  2566,  1,     13,  16019,2,20100120,2215, 12.9877, 164.9892, 5198,    300.1,   9.8291,  34.3712,2,-999.0000,9,     76.0,2,  -999.00,9,  -999.00,9,  -999.00,9,  -999.00,9,   -999.0,9,   -999.0,9,-999.0000,9,  -999.00,     2255
  49UF20100108,KS1001,  2566,  1,     12,  16018,2,20100120,2215, 12.9877, 164.9892, 5198,    401.5,   8.6611,  34.5186,2,-999.0000,9,     50.0,2,  -999.00,9,  -999.00,9,  -999.00,9,  -999.00,9,   -999.0,9,   -999.0,9,-999.0000,9,  -999.00,     2252
  49UF20100108,KS1001,  2566,  1,     11,  16017,2,20100120,2215, 12.9877, 164.9892, 5198,    504.7,   7.6347,  34.5297,2,-999.0000,9,     56.0,2,  -999.00,9,  -999.00,9,  -999.00,9,  -999.00,9,   -999.0,9,   -999.0,9,-999.0000,9,  -999.00,     2248
  49UF20100108,KS1001,  2566,  1,     10,  19375,2,20100120,2215, 12.9877, 164.9892, 5198,    605.1,   6.6298,  34.5095,2,-999.0000,9,     55.0,2,  -999.00,9,  -999.00,9,  -999.00,9,  -999.00,9,   -999.0,9,   -999.0,9,-999.0000,9,  -999.00,     2246
  49UF20100108,KS1001,  2566,  1,      9,  16015,2,20100120,2215, 12.9877, 164.9892, 5198,    705.3,   5.9713,  34.5169,2,-999.0000,9,     51.0,2,  -999.00,9,  -999.00,9,  -999.00,9,  -999.00,9,   -999.0,9,   -999.0,9,-999.0000,9,  -999.00,     2243
  49UF20100108,KS1001,  2566,  1,      8,  16014,2,20100120,2215, 12.9877, 164.9892, 5198,    804.3,   5.4655,  34.5239,2,-999.0000,9,     52.0,2,  -999.00,9,  -999.00,9,  -999.00,9,  -999.00,9,   -999.0,9,   -999.0,9,-999.0000,9,  -999.00,     2241
  49UF20100108,KS1001,  2566,  1,      7,  19374,2,20100120,2215, 12.9877, 164.9892, 5198,    906.2,   5.0118,  34.5322,2,-999.0000,9,     55.0,2,  -999.00,9,  -999.00,9,  -999.00,9,  -999.00,9,   -999.0,9,   -999.0,9,-999.0000,9,  -999.00,     2238
  49UF20100108,KS1001,  2566,  1,      6,  16012,2,20100120,2215, 12.9877, 164.9892, 5198,   1008.5,   4.4958,  34.5450,2,-999.0000,9,     58.0,2,  -999.00,9,  -999.00,9,  -999.00,9,  -999.00,9,   -999.0,9,   -999.0,9,-999.0000,9,  -999.00,     2236
  49UF20100108,KS1001,  2566,  1,      4,  16010,2,20100120,2215, 12.9877, 164.9892, 5198,   1260.1,   3.6330,  34.5681,2,-999.0000,9,     74.0,2,  -999.00,9,  -999.00,9,  -999.00,9,  -999.00,9,   -999.0,9,   -999.0,9,-999.0000,9,  -999.00,     2230
  49UF20100108,KS1001,  2566,  1,      5,  16011,2,20100120,2215, 12.9877, 164.9892, 5198,   1261.6,   3.6207,  34.5690,2,-999.0000,9,     73.0,2,  -999.00,9,  -999.00,9,  -999.00,9,  -999.00,9,   -999.0,9,   -999.0,9,-999.0000,9,  -999.00,     2231
  49UF20100108,KS1001,  2566,  1,      3,  16009,2,20100120,2215, 12.9877, 164.9892, 5198,   1514.5,   2.9720,  34.5878,2,-999.0000,9,     87.0,2,  -999.00,9,  -999.00,9,  -999.00,9,  -999.00,9,   -999.0,9,   -999.0,9,-999.0000,9,  -999.00,     2225
  49UF20100108,KS1001,  2566,  1,      2,  16008,2,20100120,2215, 12.9877, 164.9892, 5198,   1767.0,   2.5502,  34.6089,2,-999.0000,9,     95.0,2,  -999.00,9,  -999.00,9,  -999.00,9,  -999.00,9,   -999.0,9,   -999.0,9,-999.0000,9,  -999.00,     2220
  49UF20100108,KS1001,  2566,  1,      1,  16007,2,20100120,2215, 12.9877, 164.9892, 5198,   2027.9,   2.1855,  34.6288,2,-999.0000,9,    106.0,2,  -999.00,9,  -999.00,9,  -999.00,9,  -999.00,9,   -999.0,9,   -999.0,9,-999.0000,9,  -999.00,     2215
  49UF20100108,KS1001,  2569,  1,     99,     99,2,20100121,2155,  9.9888, 163.9570, 4993,      0.0,  27.5427,  34.2770,2,-999.0000,9,    203.0,2,     0.93,2,     0.00,2,     0.00,2,     0.09,2,   -999.0,9,   -999.0,9,-999.0000,9,  -999.00,     2216
  49UF20100108,KS1001,  2569,  1,     23,  16029,2,20100121,2155,  9.9888, 163.9570, 4993,      9.8,  27.5462,  34.2771,2,  34.2743,2,    202.0,2,     0.87,2,     0.00,2,     0.00,2,     0.07,2,   1923.2,2,   2249.5,2,   8.0971,2,    25.00,     2329
  49UF20100108,KS1001,  2569,  1,     22,  16028,2,20100121,2155,  9.9888, 163.9570, 4993,     25.7,  27.5517,  34.2745,2,-999.0000,9,    202.0,2,     0.91,2,     0.00,2,     0.00,2,     0.08,2,   1920.9,2,   2249.9,2,   8.0850,2,    25.00,     2319
  49UF20100108,KS1001,  2569,  1,     21,  16027,2,20100121,2155,  9.9888, 163.9570, 4993,     51.1,  27.5568,  34.2739,2,-999.0000,9,    202.0,2,     0.85,2,     0.00,2,     0.00,2,     0.08,2,   1921.9,2,   2251.0,2,   8.1048,2,    25.00,     2315
  49UF20100108,KS1001,  2569,  1,     20,  16026,2,20100121,2155,  9.9888, 163.9570, 4993,     75.0,  24.8655,  35.0389,2,-999.0000,9,    217.0,2,     1.03,2,     0.00,2,     0.00,2,     0.08,2,   1993.1,2,   2312.4,2,   8.0549,2,    25.00,     2313
  49UF20100108,KS1001,  2569,  1,     19,  19378,2,20100121,2155,  9.9888, 163.9570, 4993,    101.9,  22.4948,  34.9465,2,  34.9518,4,    198.0,2,     1.80,2,     0.20,2,     0.00,2,     0.17,2,   2028.8,2,   2304.0,2,   7.9980,2,    25.00,     2312
  49UF20100108,KS1001,  2569,  1,     18,  19377,2,20100121,2155,  9.9888, 163.9570, 4993,    126.7,  18.8609,  34.7467,2,-999.0000,9,    161.0,2,     5.21,2,     6.65,2,     0.25,2,     0.61,2,   2087.3,2,   2298.0,2,   7.8756,2,    25.00,     2310
  49UF20100108,KS1001,  2569,  1,     17,  16023,2,20100121,2155,  9.9888, 163.9570, 4993,    153.8,  16.1770,  34.5804,2,-999.0000,9,    139.0,2,     9.68,2,    12.47,2,     0.03,2,     0.97,2,   2114.4,2,   2283.6,2,   7.7836,2,    25.00,     2308
  49UF20100108,KS1001,  2569,  1,     15,  16021,2,20100121,2155,  9.9888, 163.9570, 4993,    206.0,  11.7619,  34.4369,2,  34.4208,4,     96.0,2,    22.08,2,    23.20,2,     0.00,2,     1.71,2,   2183.3,2,   2284.0,2,   7.6122,2,    25.00,     2305
  49UF20100108,KS1001,  2569,  1,     16,  16022,2,20100121,2155,  9.9888, 163.9570, 4993,    209.2,  11.6013,  34.4506,2,  34.4346,4,     92.0,2,    23.16,2,    24.10,2,     0.00,2,     1.80,2,   -999.0,9,   -999.0,9,-999.0000,9,  -999.00,     2305
  49UF20100108,KS1001,  2569,  1,     14,  16020,2,20100121,2155,  9.9888, 163.9570, 4993,    249.5,  10.2435,  34.5536,2,-999.0000,9,     53.0,2,    32.07,2,    31.50,2,     0.00,2,     2.25,2,   2237.9,2,   2300.2,2,   7.5020,2,    25.00,     2302
  49UF20100108,KS1001,  2569,  1,     13,  16019,2,20100121,2155,  9.9888, 163.9570, 4993,    303.5,   9.4892,  34.5979,2,  34.5965,2,     48.0,2,    35.69,2,    33.40,2,     0.00,2,     2.37,2,   2257.1,2,   2307.5,2,   7.4816,2,    25.00,     2258
  49UF20100108,KS1001,  2569,  1,     12,  16018,2,20100121,2155,  9.9888, 163.9570, 4993,    404.4,   8.2968,  34.5773,2,  34.5762,2,     56.0,2,    41.81,2,    35.10,2,     0.00,2,     2.47,2,   2253.2,2,   2313.1,2,   7.4813,2,    25.00,     2253
  49UF20100108,KS1001,  2569,  1,     11,  16017,2,20100121,2155,  9.9888, 163.9570, 4993,    505.2,   7.4487,  34.5560,2,  34.5525,2,     55.0,2,    49.35,2,    36.60,2,     0.00,2,     2.62,2,   2268.2,2,   2334.0,3,   7.4579,2,    25.00,     2247
  49UF20100108,KS1001,  2569,  1,     10,  19375,2,20100121,2155,  9.9888, 163.9570, 4993,    606.6,   6.9894,  34.5459,2,  34.5463,2,     55.0,2,    54.35,2,    37.70,2,     0.00,2,     2.70,2,   2279.9,2,   2327.8,2,   7.4476,2,    25.00,     2242
  49UF20100108,KS1001,  2569,  1,      9,  16015,2,20100121,2155,  9.9888, 163.9570, 4993,    708.4,   6.3332,  34.5257,2,  34.5245,2,     63.0,2,    62.44,2,    37.90,2,     0.00,2,     2.71,2,   2282.1,2,   2338.5,2,   7.4616,2,    25.00,     2236
  49UF20100108,KS1001,  2569,  1,      8,  16014,2,20100121,2155,  9.9888, 163.9570, 4993,    812.0,   5.6366,  34.5327,2,  34.5327,2,     60.0,2,    72.31,2,    39.50,2,     0.00,2,     2.83,2,   2295.3,2,   2346.3,2,   7.4426,2,    25.00,     2232
  49UF20100108,KS1001,  2569,  1,      7,  19374,2,20100121,2155,  9.9888, 163.9570, 4993,    910.1,   5.1707,  34.5368,2,  34.5358,2,     65.0,2,    80.65,2,    39.80,2,     0.00,2,     2.85,2,   2311.5,2,   2363.1,2,   7.4415,2,    25.00,     2228
  49UF20100108,KS1001,  2569,  1,      5,  16011,2,20100121,2155,  9.9888, 163.9570, 4993,   1010.4,   4.7222,  34.5459,2,  34.5450,2,     66.0,2,    88.45,2,    40.20,2,     0.00,2,     2.88,2,   2319.8,2,   2364.0,2,   7.4468,2,    25.00,     2225
  49UF20100108,KS1001,  2569,  1,      6,  16012,2,20100121,2155,  9.9888, 163.9570, 4993,   1012.1,   4.7139,  34.5460,2,  34.5008,4,     68.0,2,    88.96,2,    40.10,2,     0.00,2,     2.88,2,   -999.0,9,   -999.0,9,-999.0000,9,  -999.00,     2225
  49UF20100108,KS1001,  2569,  1,      4,  16010,2,20100121,2155,  9.9888, 163.9570, 4993,   1264.8,   3.7275,  34.5709,2,  34.5696,2,     79.0,2,   108.33,2,    40.50,2,     0.00,2,     2.87,2,   2335.6,2,   2392.7,2,   7.4587,2,    25.00,     2211
  49UF20100108,KS1001,  2569,  1,      3,  16009,2,20100121,2155,  9.9888, 163.9570, 4993,   1512.7,   2.9232,  34.5989,2,  34.5985,2,     90.0,2,   125.01,2,    39.90,2,     0.00,2,     2.82,2,   2340.9,2,   2416.4,2,   7.4738,2,    25.00,     2205
  49UF20100108,KS1001,  2569,  1,      2,  16008,2,20100121,2155,  9.9888, 163.9570, 4993,   1764.2,   2.5266,  34.6173,2,  34.6169,2,     98.0,2,   133.25,2,    39.30,2,     0.00,2,     2.79,2,   2353.5,2,   2431.3,2,   7.4879,2,    25.00,     2200
  49UF20100108,KS1001,  2569,  1,      1,  16007,2,20100121,2155,  9.9888, 163.9570, 4993,   2024.4,   2.2014,  34.6355,2,  34.6342,2,    108.0,2,   140.26,2,    39.00,2,     0.00,2,     2.74,2,   2355.4,2,   2419.7,2,   7.5156,3,    25.00,     2155
  49UF20100108,KS1001,  2571,  1,     99,     99,2,20100122,2103,  7.9900, 163.9732, 5136,      0.0,  27.9789,  34.1930,2,-999.0000,9,    201.0,2,     1.10,2,     0.00,2,     0.00,2,     0.05,2,   -999.0,9,   -999.0,9,-999.0000,9,  -999.00,     2105
  49UF20100108,KS1001,  2571,  1,     23,  16029,2,20100122,2103,  7.9900, 163.9732, 5136,      9.8,  27.9793,  34.1941,2,  34.1943,2,    200.0,2,     1.03,2,     0.00,2,     0.00,2,     0.06,2,   -999.0,9,   -999.0,9,-999.0000,9,  -999.00,     2156
  49UF20100108,KS1001,  2571,  1,     22,  16028,2,20100122,2103,  7.9900, 163.9732, 5136,     24.9,  27.9838,  34.1940,2,-999.0000,9,    200.0,2,     1.07,2,     0.00,2,     0.00,2,     0.06,2,   -999.0,9,   -999.0,9,-999.0000,9,  -999.00,     2155
  49UF20100108,KS1001,  2571,  1,     21,  16027,2,20100122,2103,  7.9900, 163.9732, 5136,     49.8,  27.9906,  34.1938,2,-999.0000,9,    200.0,2,     1.01,2,     0.00,2,     0.00,2,     0.06,2,   -999.0,9,   -999.0,9,-999.0000,9,  -999.00,     2152
  49UF20100108,KS1001,  2571,  1,     20,  16026,2,20100122,2103,  7.9900, 163.9732, 5136,     74.2,  25.8581,  34.8929,2,-999.0000,9,    199.0,2,     1.44,2,     0.00,2,     0.00,2,     0.15,2,   -999.0,9,   -999.0,9,-999.0000,9,  -999.00,     2151
  49UF20100108,KS1001,  2571,  1,     19,  19378,2,20100122,2103,  7.9900, 163.9732, 5136,     99.8,  20.4722,  34.8067,2,  34.8166,4,    171.0,2,     3.88,2,     4.15,2,     0.45,2,     0.47,2,   -999.0,9,   -999.0,9,-999.0000,9,  -999.00,     2150
  49UF20100108,KS1001,  2571,  1,     18,  19377,2,20100122,2103,  7.9900, 163.9732, 5136,    125.8,  16.9288,  34.6118,2,-999.0000,9,    144.0,2,     8.52,2,    11.15,2,     0.05,2,     0.89,2,   -999.0,9,   -999.0,9,-999.0000,9,  -999.00,     2149
  49UF20100108,KS1001,  2571,  1,     17,  16023,2,20100122,2103,  7.9900, 163.9732, 5136,    151.7,  14.0145,  34.4749,2,-999.0000,9,    120.0,2,    14.70,2,    17.29,2,     0.01,2,     1.31,2,   -999.0,9,   -999.0,9,-999.0000,9,  -999.00,     2148
  49UF20100108,KS1001,  2571,  1,     15,  16021,2,20100122,2103,  7.9900, 163.9732, 5136,    199.9,  11.0685,  34.4984,2,  34.4977,2,     65.0,2,    27.41,2,    28.20,2,     0.00,2,     2.06,2,   -999.0,9,   -999.0,9,-999.0000,9,  -999.00,     2146
  49UF20100108,KS1001,  2571,  1,     16,  16022,2,20100122,2103,  7.9900, 163.9732, 5136,    202.4,  11.0586,  34.5026,2,  34.4978,2,     66.0,2,    27.54,2,    28.30,2,     0.00,2,     2.07,2,   -999.0,9,   -999.0,9,-999.0000,9,  -999.00,     2146
  49UF20100108,KS1001,  2571,  1,     14,  16020,2,20100122,2103,  7.9900, 163.9732, 5136,    252.1,  10.1009,  34.6028,2,-999.0000,9,     41.0,2,    32.84,2,    32.70,2,     0.00,2,     2.35,2,   -999.0,9,   -999.0,9,-999.0000,9,  -999.00,     2144
  49UF20100108,KS1001,  2571,  1,     13,  16019,3,20100122,2103,  7.9900, 163.9732, 5136,    301.6,   9.3623,  34.6166,2,  34.6140,2,     51.0,2,    35.29,2,    33.60,2,     0.00,2,     2.38,2,   -999.0,9,   -999.0,9,-999.0000,9,  -999.00,     2143
  49UF20100108,KS1001,  2571,  1,     12,  16018,2,20100122,2103,  7.9900, 163.9732, 5136,    405.0,   8.3683,  34.5910,2,  34.5902,2,     53.0,2,    41.18,2,    35.50,2,     0.00,2,     2.51,2,   -999.0,9,   -999.0,9,-999.0000,9,  -999.00,     2140
  49UF20100108,KS1001,  2571,  1,     11,  16017,2,20100122,2103,  7.9900, 163.9732, 5136,    503.9,   7.4308,  34.5477,2,  34.5470,2,     60.0,2,    49.63,2,    36.50,2,     0.00,2,     2.59,2,   -999.0,9,   -999.0,9,-999.0000,9,  -999.00,     2137
  49UF20100108,KS1001,  2571,  1,     10,  19375,2,20100122,2103,  7.9900, 163.9732, 5136,    606.9,   6.6809,  34.5420,2,  34.5413,2,     54.0,2,    57.83,2,    38.20,2,     0.00,2,     2.77,2,   -999.0,9,   -999.0,9,-999.0000,9,  -999.00,     2134
  49UF20100108,KS1001,  2571,  1,      9,  16015,2,20100122,2103,  7.9900, 163.9732, 5136,    705.8,   5.9234,  34.5383,2,  34.5376,2,     54.0,2,    67.56,2,    39.90,2,     0.00,2,     2.85,2,   -999.0,9,   -999.0,9,-999.0000,9,  -999.00,     2132
  49UF20100108,KS1001,  2571,  1,      8,  16014,2,20100122,2103,  7.9900, 163.9732, 5136,    805.4,   5.3668,  34.5408,2,  34.5398,2,     62.0,2,    75.47,2,    39.90,2,     0.00,2,     2.85,2,   -999.0,9,   -999.0,9,-999.0000,9,  -999.00,     2129
  49UF20100108,KS1001,  2571,  1,      6,  16012,2,20100122,2103,  7.9900, 163.9732, 5136,    907.1,   4.9055,  34.5473,2,  34.5467,2,     66.0,2,    83.69,2,    40.20,2,     0.00,2,     2.87,2,   -999.0,9,   -999.0,9,-999.0000,9,  -999.00,     2126
  49UF20100108,KS1001,  2571,  1,      7,  19374,2,20100122,2103,  7.9900, 163.9732, 5136,    907.3,   4.9028,  34.5474,2,  34.5470,2,     67.0,2,    83.43,2,    40.30,2,     0.00,2,     2.87,2,   -999.0,9,   -999.0,9,-999.0000,9,  -999.00,     2126
  49UF20100108,KS1001,  2571,  1,      5,  16011,2,20100122,2103,  7.9900, 163.9732, 5136,   1008.7,   4.4412,  34.5555,2,  34.5547,2,     77.0,2,    91.85,2,    39.60,2,     0.00,2,     2.83,2,   -999.0,9,   -999.0,9,-999.0000,9,  -999.00,     2124
  49UF20100108,KS1001,  2571,  1,      4,  16010,2,20100122,2103,  7.9900, 163.9732, 5136,   1259.0,   3.6436,  34.5767,2,  34.5762,2,     87.0,2,   108.14,2,    39.50,2,     0.00,2,     2.82,2,   -999.0,9,   -999.0,9,-999.0000,9,  -999.00,     2118
  49UF20100108,KS1001,  2571,  1,      3,  16009,2,20100122,2103,  7.9900, 163.9732, 5136,   1512.1,   3.0988,  34.5956,2,  34.5955,2,     91.0,2,   119.85,2,    39.70,2,     0.00,2,     2.82,2,   -999.0,9,   -999.0,9,-999.0000,9,  -999.00,     2113
  49UF20100108,KS1001,  2571,  1,      2,  16008,2,20100122,2103,  7.9900, 163.9732, 5136,   1763.1,   2.6755,  34.6127,2,  34.6126,2,     95.0,2,   129.90,2,    39.80,2,     0.00,2,     2.81,2,   -999.0,9,   -999.0,9,-999.0000,9,  -999.00,     2108
  49UF20100108,KS1001,  2571,  1,      1,  16007,2,20100122,2103,  7.9900, 163.9732, 5136,   2025.1,   2.2856,  34.6318,2,  34.6312,2,    105.0,2,   138.17,2,    39.30,2,     0.00,2,     2.76,2,   -999.0,9,   -999.0,9,-999.0000,9,  -999.00,     2103