BOTTLE,20190925PRINUNIVRMK
EXPOCODE,SECT_ID,STNNBR,CASTNO,SAMPNO,BTLNBR,BTLNBR_FLAG_W,DATE,TIME,LATITUDE,LONGITUDE,DEPTH,CTDPRS,CTDTMP,CTDSAL,CTDSAL_FLAG_W,SALNTY,SALNTY_FLAG_W,OXYGEN,OXYGEN_FLAG_W,SILCAT,SILCAT_FLAG_W,NITRAT,NITRAT_FLAG_W,NITRIT,NITRIT_FLAG_W,PHSPHT,PHSPHT_FLAG_W,TCARBN,TCARBN_FLAG_W,ALKALI,ALKALI_FLAG_W,PH_TOT,PH_TOT_FLAG_W,PH_TMP,BTL_TIME
,,,,,,,,,,,METERS,DBAR,ITS-90,PSS-78,,PSS-78,,UMOL/KG,,UMOL/KG,,UMOL/KG,,UMOL/KG,,UMOL/KG,,UMOL/KG,,UMOL/KG,,,,DEG C,
  49UF20100108,KS1001,  2577,  1,     99,     99,2,20100203,0958,  2.0772, 164.9692, 4157,      0.0,  29.1259,  33.9212,2,-999.0000,9,    200.0,2,  -999.00,9,  -999.00,9,  -999.00,9,  -999.00,9,   -999.0,9,   -999.0,9,-999.0000,9,  -999.00,     1026
  49UF20100108,KS1001,  2577,  1,     23,  16029,2,20100203,0958,  2.0772, 164.9692, 4157,      9.8,  29.1288,  33.9206,2,-999.0000,9,    200.0,2,  -999.00,9,  -999.00,9,  -999.00,9,  -999.00,9,   -999.0,9,   -999.0,9,-999.0000,9,  -999.00,     1055
  49UF20100108,KS1001,  2577,  1,     22,  16028,2,20100203,0958,  2.0772, 164.9692, 4157,     25.4,  29.1309,  33.9204,2,-999.0000,9,    201.0,2,  -999.00,9,  -999.00,9,  -999.00,9,  -999.00,9,   -999.0,9,   -999.0,9,-999.0000,9,  -999.00,     1054
  49UF20100108,KS1001,  2577,  1,     20,  16026,2,20100203,0958,  2.0772, 164.9692, 4157,     48.0,  28.8145,  34.6143,2,-999.0000,9,    191.0,2,  -999.00,9,  -999.00,9,  -999.00,9,  -999.00,9,   -999.0,9,   -999.0,9,-999.0000,9,  -999.00,     1050
  49UF20100108,KS1001,  2577,  1,     21,  16027,2,20100203,0958,  2.0772, 164.9692, 4157,     48.2,  28.7252,  34.6506,2,-999.0000,9,    192.0,2,  -999.00,9,  -999.00,9,  -999.00,9,  -999.00,9,   -999.0,9,   -999.0,9,-999.0000,9,  -999.00,     1050
  49UF20100108,KS1001,  2577,  1,     19,  19378,2,20100203,0958,  2.0772, 164.9692, 4157,     74.8,  28.3223,  35.0074,2,-999.0000,9,    171.0,2,  -999.00,9,  -999.00,9,  -999.00,9,  -999.00,9,   -999.0,9,   -999.0,9,-999.0000,9,  -999.00,     1049
  49UF20100108,KS1001,  2577,  1,     18,  19377,2,20100203,0958,  2.0772, 164.9692, 4157,    100.1,  26.1738,  35.2321,2,-999.0000,9,    144.0,2,  -999.00,9,  -999.00,9,  -999.00,9,  -999.00,9,   -999.0,9,   -999.0,9,-999.0000,9,  -999.00,     1047
  49UF20100108,KS1001,  2577,  1,     17,  16023,2,20100203,0958,  2.0772, 164.9692, 4157,    127.9,  23.3055,  35.1169,2,-999.0000,9,    138.0,2,  -999.00,9,  -999.00,9,  -999.00,9,  -999.00,9,   -999.0,9,   -999.0,9,-999.0000,9,  -999.00,     1046
  49UF20100108,KS1001,  2577,  1,     16,  16022,2,20100203,0958,  2.0772, 164.9692, 4157,    150.4,  19.9332,  34.9338,2,-999.0000,9,    141.0,2,  -999.00,9,  -999.00,9,  -999.00,9,  -999.00,9,   -999.0,9,   -999.0,9,-999.0000,9,  -999.00,     1045
  49UF20100108,KS1001,  2577,  1,     15,  16021,2,20100203,0958,  2.0772, 164.9692, 4157,    203.3,  13.6298,  34.5873,2,-999.0000,9,    133.0,2,  -999.00,9,  -999.00,9,  -999.00,9,  -999.00,9,   -999.0,9,   -999.0,9,-999.0000,9,  -999.00,     1043
  49UF20100108,KS1001,  2577,  1,     14,  16020,2,20100203,0958,  2.0772, 164.9692, 4157,    252.9,  11.8247,  34.8318,2,-999.0000,9,    120.0,2,  -999.00,9,  -999.00,9,  -999.00,9,  -999.00,9,   -999.0,9,   -999.0,9,-999.0000,9,  -999.00,     1042
  49UF20100108,KS1001,  2577,  1,     13,  16019,2,20100203,0958,  2.0772, 164.9692, 4157,    302.5,  11.1758,  34.7896,2,-999.0000,9,     99.0,2,  -999.00,9,  -999.00,9,  -999.00,9,  -999.00,9,   -999.0,9,   -999.0,9,-999.0000,9,  -999.00,     1040
  49UF20100108,KS1001,  2577,  1,     12,  16018,2,20100203,0958,  2.0772, 164.9692, 4157,    402.6,   9.9140,  34.7064,2,-999.0000,9,     76.0,2,  -999.00,9,  -999.00,9,  -999.00,9,  -999.00,9,   -999.0,9,   -999.0,9,-999.0000,9,  -999.00,     1037
  49UF20100108,KS1001,  2577,  1,     10,  19375,2,20100203,0958,  2.0772, 164.9692, 4157,    504.5,   8.3724,  34.6042,2,-999.0000,9,    107.0,2,  -999.00,9,  -999.00,9,  -999.00,9,  -999.00,9,   -999.0,9,   -999.0,9,-999.0000,9,  -999.00,     1034
  49UF20100108,KS1001,  2577,  1,     11,  16017,2,20100203,0958,  2.0772, 164.9692, 4157,    504.8,   8.3720,  34.6045,2,-999.0000,9,    106.0,2,  -999.00,9,  -999.00,9,  -999.00,9,  -999.00,9,   -999.0,9,   -999.0,9,-999.0000,9,  -999.00,     1035
  49UF20100108,KS1001,  2577,  1,      9,  16015,2,20100203,0958,  2.0772, 164.9692, 4157,    605.7,   7.3089,  34.5699,2,-999.0000,9,     65.0,2,  -999.00,9,  -999.00,9,  -999.00,9,  -999.00,9,   -999.0,9,   -999.0,9,-999.0000,9,  -999.00,     1031
  49UF20100108,KS1001,  2577,  1,      8,  16014,2,20100203,0958,  2.0772, 164.9692, 4157,    705.7,   6.4007,  34.5492,2,-999.0000,9,     73.0,2,  -999.00,9,  -999.00,9,  -999.00,9,  -999.00,9,   -999.0,9,   -999.0,9,-999.0000,9,  -999.00,     1029
  49UF20100108,KS1001,  2577,  1,      7,  19374,2,20100203,0958,  2.0772, 164.9692, 4157,    808.7,   5.6104,  34.5311,2,-999.0000,9,    107.0,2,  -999.00,9,  -999.00,9,  -999.00,9,  -999.00,9,   -999.0,9,   -999.0,9,-999.0000,9,  -999.00,     1026
  49UF20100108,KS1001,  2577,  1,      6,  16012,2,20100203,0958,  2.0772, 164.9692, 4157,    907.3,   5.1632,  34.5402,2,-999.0000,9,     94.0,2,  -999.00,9,  -999.00,9,  -999.00,9,  -999.00,9,   -999.0,9,   -999.0,9,-999.0000,9,  -999.00,     1023
  49UF20100108,KS1001,  2577,  1,      5,  16011,2,20100203,0958,  2.0772, 164.9692, 4157,   1009.4,   4.5133,  34.5548,2,-999.0000,9,     87.0,2,  -999.00,9,  -999.00,9,  -999.00,9,  -999.00,9,   -999.0,9,   -999.0,9,-999.0000,9,  -999.00,     1020
  49UF20100108,KS1001,  2577,  1,      4,  16010,2,20100203,0958,  2.0772, 164.9692, 4157,   1260.3,   3.5859,  34.5809,2,-999.0000,9,     92.0,2,  -999.00,9,  -999.00,9,  -999.00,9,  -999.00,9,   -999.0,9,   -999.0,9,-999.0000,9,  -999.00,     1015
  49UF20100108,KS1001,  2577,  1,      3,  16009,2,20100203,0958,  2.0772, 164.9692, 4157,   1513.7,   2.9498,  34.6032,2,-999.0000,9,    106.0,2,  -999.00,9,  -999.00,9,  -999.00,9,  -999.00,9,   -999.0,9,   -999.0,9,-999.0000,9,  -999.00,     1009
  49UF20100108,KS1001,  2577,  1,      2,  16008,2,20100203,0958,  2.0772, 164.9692, 4157,   1766.8,   2.6308,  34.6167,2,-999.0000,9,    110.0,2,  -999.00,9,  -999.00,9,  -999.00,9,  -999.00,9,   -999.0,9,   -999.0,9,-999.0000,9,  -999.00,     1004
  49UF20100108,KS1001,  2577,  1,      1,  16007,2,20100203,0958,  2.0772, 164.9692, 4157,   2032.6,   2.3092,  34.6339,2,-999.0000,9,    115.0,2,  -999.00,9,  -999.00,9,  -999.00,9,  -999.00,9,   -999.0,9,   -999.0,9,-999.0000,9,  -999.00,      958
  49UF20100108,KS1001,  2578,  1,     99,     99,2,20100203,1707,  1.0003, 164.9945, 4329,      0.0,  29.0649,  33.8363,2,-999.0000,9,    199.0,2,  -999.00,9,  -999.00,9,  -999.00,9,  -999.00,9,   -999.0,9,   -999.0,9,-999.0000,9,  -999.00,     1748
  49UF20100108,KS1001,  2578,  1,     23,  16029,2,20100203,1707,  1.0003, 164.9945, 4329,     11.1,  29.1739,  33.9462,2,-999.0000,9,    199.0,2,  -999.00,9,  -999.00,9,  -999.00,9,  -999.00,9,   -999.0,9,   -999.0,9,-999.0000,9,  -999.00,     1803
  49UF20100108,KS1001,  2578,  1,     22,  16028,2,20100203,1707,  1.0003, 164.9945, 4329,     25.1,  29.2599,  34.0198,2,-999.0000,9,    199.0,2,  -999.00,9,  -999.00,9,  -999.00,9,  -999.00,9,   -999.0,9,   -999.0,9,-999.0000,9,  -999.00,     1801
  49UF20100108,KS1001,  2578,  1,     21,  16027,2,20100203,1707,  1.0003, 164.9945, 4329,     51.5,  29.3566,  34.1815,2,-999.0000,9,    197.0,2,  -999.00,9,  -999.00,9,  -999.00,9,  -999.00,9,   -999.0,9,   -999.0,9,-999.0000,9,  -999.00,     1758
  49UF20100108,KS1001,  2578,  1,     20,  16026,2,20100203,1707,  1.0003, 164.9945, 4329,     75.5,  29.3853,  34.4802,2,-999.0000,9,    195.0,2,  -999.00,9,  -999.00,9,  -999.00,9,  -999.00,9,   -999.0,9,   -999.0,9,-999.0000,9,  -999.00,     1756
  49UF20100108,KS1001,  2578,  1,     19,  19378,2,20100203,1707,  1.0003, 164.9945, 4329,    102.4,  26.3951,  35.2365,2,-999.0000,9,    154.0,2,  -999.00,9,  -999.00,9,  -999.00,9,  -999.00,9,   -999.0,9,   -999.0,9,-999.0000,9,  -999.00,     1755
  49UF20100108,KS1001,  2578,  1,     18,  19377,2,20100203,1707,  1.0003, 164.9945, 4329,    127.2,  22.1190,  35.2646,2,-999.0000,9,    137.0,2,  -999.00,9,  -999.00,9,  -999.00,9,  -999.00,9,   -999.0,9,   -999.0,9,-999.0000,9,  -999.00,     1754
  49UF20100108,KS1001,  2578,  1,     17,  16023,2,20100203,1707,  1.0003, 164.9945, 4329,    151.8,  19.2531,  35.0109,2,-999.0000,9,    140.0,2,  -999.00,9,  -999.00,9,  -999.00,9,  -999.00,9,   -999.0,9,   -999.0,9,-999.0000,9,  -999.00,     1753
  49UF20100108,KS1001,  2578,  1,     16,  16022,2,20100203,1707,  1.0003, 164.9945, 4329,    202.3,  13.4913,  34.5870,2,-999.0000,9,    132.0,2,  -999.00,9,  -999.00,9,  -999.00,9,  -999.00,9,   -999.0,9,   -999.0,9,-999.0000,9,  -999.00,     1751
  49UF20100108,KS1001,  2578,  1,     15,  16021,2,20100203,1707,  1.0003, 164.9945, 4329,    252.8,  12.2107,  34.8596,2,-999.0000,9,    128.0,2,  -999.00,9,  -999.00,9,  -999.00,9,  -999.00,9,   -999.0,9,   -999.0,9,-999.0000,9,  -999.00,     1749
  49UF20100108,KS1001,  2578,  1,     14,  16020,2,20100203,1707,  1.0003, 164.9945, 4329,    302.5,  11.2338,  34.7830,2,-999.0000,9,    110.0,2,  -999.00,9,  -999.00,9,  -999.00,9,  -999.00,9,   -999.0,9,   -999.0,9,-999.0000,9,  -999.00,     1748
  49UF20100108,KS1001,  2578,  1,     13,  16019,2,20100203,1707,  1.0003, 164.9945, 4329,    404.0,   9.5417,  34.6844,2,-999.0000,9,     74.0,2,  -999.00,9,  -999.00,9,  -999.00,9,  -999.00,9,   -999.0,9,   -999.0,9,-999.0000,9,  -999.00,     1745
  49UF20100108,KS1001,  2578,  1,     12,  16018,2,20100203,1707,  1.0003, 164.9945, 4329,    504.7,   7.9951,  34.5908,2,-999.0000,9,     97.0,2,  -999.00,9,  -999.00,9,  -999.00,9,  -999.00,9,   -999.0,9,   -999.0,9,-999.0000,9,  -999.00,     1742
  49UF20100108,KS1001,  2578,  1,     11,  16017,2,20100203,1707,  1.0003, 164.9945, 4329,    505.0,   7.9996,  34.5910,2,-999.0000,9,     96.0,2,  -999.00,9,  -999.00,9,  -999.00,9,  -999.00,9,   -999.0,9,   -999.0,9,-999.0000,9,  -999.00,     1742
  49UF20100108,KS1001,  2578,  1,     10,  19375,2,20100203,1707,  1.0003, 164.9945, 4329,    605.4,   7.1372,  34.5734,2,-999.0000,9,     79.0,2,  -999.00,9,  -999.00,9,  -999.00,9,  -999.00,9,   -999.0,9,   -999.0,9,-999.0000,9,  -999.00,     1740
  49UF20100108,KS1001,  2578,  1,      9,  16015,2,20100203,1707,  1.0003, 164.9945, 4329,    706.2,   6.3124,  34.5451,2,-999.0000,9,     94.0,2,  -999.00,9,  -999.00,9,  -999.00,9,  -999.00,9,   -999.0,9,   -999.0,9,-999.0000,9,  -999.00,     1737
  49UF20100108,KS1001,  2578,  1,      8,  16014,2,20100203,1707,  1.0003, 164.9945, 4329,    806.7,   5.5443,  34.5372,2,-999.0000,9,     97.0,2,  -999.00,9,  -999.00,9,  -999.00,9,  -999.00,9,   -999.0,9,   -999.0,9,-999.0000,9,  -999.00,     1735
  49UF20100108,KS1001,  2578,  1,      7,  19374,2,20100203,1707,  1.0003, 164.9945, 4329,    908.8,   5.1829,  34.5385,2,-999.0000,9,     97.0,2,  -999.00,9,  -999.00,9,  -999.00,9,  -999.00,9,   -999.0,9,   -999.0,9,-999.0000,9,  -999.00,     1732
  49UF20100108,KS1001,  2578,  1,      6,  16012,2,20100203,1707,  1.0003, 164.9945, 4329,   1009.2,   4.5740,  34.5502,2,-999.0000,9,     97.0,2,  -999.00,9,  -999.00,9,  -999.00,9,  -999.00,9,   -999.0,9,   -999.0,9,-999.0000,9,  -999.00,     1729
  49UF20100108,KS1001,  2578,  1,      5,  16011,2,20100203,1707,  1.0003, 164.9945, 4329,   1261.7,   3.6780,  34.5761,2,-999.0000,9,     97.0,2,  -999.00,9,  -999.00,9,  -999.00,9,  -999.00,9,   -999.0,9,   -999.0,9,-999.0000,9,  -999.00,     1724
  49UF20100108,KS1001,  2578,  1,      4,  16010,2,20100203,1707,  1.0003, 164.9945, 4329,   1515.5,   2.9576,  34.6038,2,-999.0000,9,    103.0,2,  -999.00,9,  -999.00,9,  -999.00,9,  -999.00,9,   -999.0,9,   -999.0,9,-999.0000,9,  -999.00,     1718
  49UF20100108,KS1001,  2578,  1,      3,  16009,2,20100203,1707,  1.0003, 164.9945, 4329,   1768.4,   2.5646,  34.6206,2,-999.0000,9,    113.0,2,  -999.00,9,  -999.00,9,  -999.00,9,  -999.00,9,   -999.0,9,   -999.0,9,-999.0000,9,  -999.00,     1713
  49UF20100108,KS1001,  2578,  1,      1,  16007,2,20100203,1707,  1.0003, 164.9945, 4329,   2027.7,   2.2003,  34.6393,2,-999.0000,9,    119.0,2,  -999.00,9,  -999.00,9,  -999.00,9,  -999.00,9,   -999.0,9,   -999.0,9,-999.0000,9,  -999.00,     1707
  49UF20100108,KS1001,  2578,  1,      2,  16008,2,20100203,1707,  1.0003, 164.9945, 4329,   2028.2,   2.1999,  34.6392,2,-999.0000,9,    119.0,2,  -999.00,9,  -999.00,9,  -999.00,9,  -999.00,9,   -999.0,9,   -999.0,9,-999.0000,9,  -999.00,     1707
  49UF20100108,KS1001,  2579,  1,     99,     99,2,20100203,2339, -0.0183, 165.0065, 4371,      0.0,  29.4930,  34.1628,2,-999.0000,9,    200.0,2,     0.99,2,     0.00,2,     0.00,2,     0.01,2,   -999.0,9,   -999.0,9,-999.0000,9,  -999.00,        3
  49UF20100108,KS1001,  2579,  1,     23,  16029,2,20100203,2339, -0.0183, 165.0065, 4371,     11.7,  29.4916,  34.1627,2,  34.1634,2,    198.0,2,     0.99,2,     0.00,2,     0.00,2,     0.02,2,   1905.7,2,   2251.4,2,-999.0000,9,  -999.00,       28
  49UF20100108,KS1001,  2579,  1,     22,  16028,2,20100203,2339, -0.0183, 165.0065, 4371,     26.3,  29.4886,  34.1619,2,-999.0000,9,    198.0,2,     1.00,2,     0.00,2,     0.00,2,     0.02,2,   1901.7,2,   2250.0,2,-999.0000,9,  -999.00,       27
  49UF20100108,KS1001,  2579,  1,     21,  16027,2,20100203,2339, -0.0183, 165.0065, 4371,     52.0,  29.4867,  34.1954,2,-999.0000,9,    199.0,2,     0.95,2,     0.00,2,     0.00,2,     0.03,2,   1912.1,2,   2251.4,2,-999.0000,9,  -999.00,       24
  49UF20100108,KS1001,  2579,  1,     20,  16026,2,20100203,2339, -0.0183, 165.0065, 4371,     77.2,  29.4326,  34.3304,2,-999.0000,9,    198.0,2,     1.00,2,     0.00,2,     0.00,2,     0.07,2,   1916.1,2,   2261.0,2,-999.0000,9,  -999.00,       23
  49UF20100108,KS1001,  2579,  1,     19,  19378,2,20100203,2339, -0.0183, 165.0065, 4371,    100.3,  29.0771,  34.6578,2,  34.7298,4,    186.0,2,     1.49,2,     1.35,2,     0.15,2,     0.21,2,   1959.4,2,   2287.0,2,-999.0000,9,  -999.00,       23
  49UF20100108,KS1001,  2579,  1,     18,  19377,2,20100203,2339, -0.0183, 165.0065, 4371,    126.9,  22.2052,  35.3110,2,-999.0000,9,    136.0,2,     4.75,2,     9.78,2,     0.02,2,     0.76,2,   2086.8,2,   2329.9,2,-999.0000,9,  -999.00,       22
  49UF20100108,KS1001,  2579,  1,     17,  16023,2,20100203,2339, -0.0183, 165.0065, 4371,    151.0,  18.8858,  35.2649,2,-999.0000,9,    138.0,2,     7.33,2,    12.20,2,     0.00,2,     0.91,2,   2111.2,2,   2326.5,2,-999.0000,9,  -999.00,       21
  49UF20100108,KS1001,  2579,  1,     16,  16022,2,20100203,2339, -0.0183, 165.0065, 4371,    202.9,  14.0501,  34.9524,2,  34.9498,2,    140.0,2,    14.54,2,    17.40,2,     0.00,2,     1.24,2,   2139.7,2,   2312.1,2,-999.0000,9,  -999.00,       19
  49UF20100108,KS1001,  2579,  1,     15,  16021,2,20100203,2339, -0.0183, 165.0065, 4371,    252.6,  12.8827,  34.9322,2,-999.0000,9,    142.0,2,    14.93,2,    19.30,2,     0.00,2,     1.37,2,   2152.0,2,   2309.1,2,-999.0000,9,  -999.00,       18
  49UF20100108,KS1001,  2579,  1,     14,  16020,2,20100203,2339, -0.0183, 165.0065, 4371,    303.8,  12.0140,  34.8479,2,  34.8485,2,    120.0,2,    19.03,2,    22.70,2,     0.00,2,     1.59,2,   2172.4,2,   2307.9,2,-999.0000,9,  -999.00,       16
  49UF20100108,KS1001,  2579,  1,     12,  16018,2,20100203,2339, -0.0183, 165.0065, 4371,    403.7,   9.6229,  34.7049,2,  34.7062,2,     56.0,2,    30.18,2,    33.60,2,     0.00,2,     2.31,2,   -999.0,9,   -999.0,9,-999.0000,9,  -999.00,       13
  49UF20100108,KS1001,  2579,  1,     13,  16019,2,20100203,2339, -0.0183, 165.0065, 4371,    404.3,   9.6139,  34.7047,2,  34.7041,2,     56.0,2,    30.44,2,    33.40,2,     0.00,2,     2.31,2,   2232.1,2,   2312.2,2,-999.0000,9,  -999.00,       14
  49UF20100108,KS1001,  2579,  1,     11,  16017,2,20100203,2339, -0.0183, 165.0065, 4371,    502.6,   8.1687,  34.6180,2,  34.6178,2,     71.0,2,    37.01,2,    34.80,2,     0.00,2,     2.41,2,   2217.9,2,   2312.6,2,-999.0000,9,  -999.00,       11
  49UF20100108,KS1001,  2579,  1,     10,  19375,2,20100203,2339, -0.0183, 165.0065, 4371,    606.2,   7.3896,  34.5842,2,  34.5845,2,     72.0,2,    42.81,2,    36.30,2,     0.00,2,     2.53,2,   2239.0,2,   2324.1,2,-999.0000,9,  -999.00,        8
  49UF20100108,KS1001,  2579,  1,      9,  16015,2,20100203,2339, -0.0183, 165.0065, 4371,    705.2,   6.3445,  34.5501,2,  34.5504,2,     86.0,2,    51.60,2,    37.00,2,     0.00,2,     2.59,2,   2251.2,2,   2325.3,2,-999.0000,9,  -999.00,        6
  49UF20100108,KS1001,  2579,  1,      8,  16014,2,20100203,2339, -0.0183, 165.0065, 4371,    805.9,   5.8959,  34.5389,2,  34.5387,2,     95.0,2,    55.75,2,    36.90,2,     0.00,2,     2.59,2,   2256.3,2,   2328.7,2,-999.0000,9,  -999.00,        4
  49UF20100108,KS1001,  2579,  1,      7,  19374,2,20100203,2339, -0.0183, 165.0065, 4371,    906.9,   5.2495,  34.5397,2,  34.5398,2,     94.0,2,    67.27,2,    37.60,2,     0.00,2,     2.66,2,   2274.6,2,   2345.4,2,-999.0000,9,  -999.00,        1
  49UF20100108,KS1001,  2579,  1,      6,  16012,2,20100203,2339, -0.0183, 165.0065, 4371,   1007.9,   4.5251,  34.5522,2,  34.5513,2,     95.0,2,    81.72,2,    38.30,2,     0.00,2,     2.72,2,   2283.0,2,   2364.7,2,-999.0000,9,  -999.00,     2359
  49UF20100108,KS1001,  2579,  1,      5,  16011,2,20100203,2339, -0.0183, 165.0065, 4371,   1258.6,   3.7019,  34.5751,2,  34.5739,2,     97.0,2,    99.20,2,    39.00,2,     0.00,2,     2.77,2,   2310.4,2,   2376.0,2,-999.0000,9,  -999.00,     2354
  49UF20100108,KS1001,  2579,  1,      4,  16010,2,20100203,2339, -0.0183, 165.0065, 4371,   1512.1,   2.8685,  34.6082,2,  34.6076,2,    104.0,2,   118.58,2,    39.10,2,     0.00,2,     2.77,2,   2326.6,2,   2411.7,2,-999.0000,9,  -999.00,     2349
  49UF20100108,KS1001,  2579,  1,      3,  16009,2,20100203,2339, -0.0183, 165.0065, 4371,   1766.1,   2.5046,  34.6235,2,  34.6204,4,    114.0,2,   125.08,2,    38.20,2,     0.00,2,     2.69,2,   2334.1,2,   2408.6,2,-999.0000,9,  -999.00,     2345
  49UF20100108,KS1001,  2579,  1,      2,  16008,2,20100203,2339, -0.0183, 165.0065, 4371,   1766.3,   2.5047,  34.6234,2,  34.6202,4,    113.0,2,   124.93,2,    38.30,2,     0.00,2,     2.70,2,   -999.0,9,   -999.0,9,-999.0000,9,  -999.00,     2344
  49UF20100108,KS1001,  2579,  1,      1,  16007,2,20100203,2339, -0.0183, 165.0065, 4371,   2027.7,   2.2223,  34.6398,2,  34.6387,2,    117.0,2,   131.99,2,    38.30,2,     0.00,2,     2.70,2,   2335.7,2,   2415.7,2,-999.0000,9,  -999.00,     2339