BOTTLE,20190925PRINUNIVRMK
EXPOCODE,SECT_ID,STNNBR,CASTNO,SAMPNO,BTLNBR,BTLNBR_FLAG_W,DATE,TIME,LATITUDE,LONGITUDE,DEPTH,CTDPRS,CTDTMP,CTDSAL,CTDSAL_FLAG_W,SALNTY,SALNTY_FLAG_W,OXYGEN,OXYGEN_FLAG_W,SILCAT,SILCAT_FLAG_W,NITRAT,NITRAT_FLAG_W,NITRIT,NITRIT_FLAG_W,PHSPHT,PHSPHT_FLAG_W,TCARBN,TCARBN_FLAG_W,ALKALI,ALKALI_FLAG_W,PH_TOT,PH_TOT_FLAG_W,PH_TMP,BTL_TIME
,,,,,,,,,,,METERS,DBAR,ITS-90,PSS-78,,PSS-78,,UMOL/KG,,UMOL/KG,,UMOL/KG,,UMOL/KG,,UMOL/KG,,UMOL/KG,,UMOL/KG,,,,DEG C,
  49UF20100108,KS1001,  2573,  1,     99,     99,2,20100201,1459,  5.9887, 164.9923, 4986,      0.0,  28.6203,  34.2425,2,-999.0000,9,    200.0,2,  -999.00,9,  -999.00,9,  -999.00,9,  -999.00,9,   -999.0,9,   -999.0,9,-999.0000,9,  -999.00,     1538
  49UF20100108,KS1001,  2573,  1,     23,  16029,2,20100201,1459,  5.9887, 164.9923, 4986,     11.5,  28.6268,  34.2416,2,-999.0000,9,    212.0,4,  -999.00,9,  -999.00,9,  -999.00,9,  -999.00,9,   -999.0,9,   -999.0,9,-999.0000,9,  -999.00,     1556
  49UF20100108,KS1001,  2573,  1,     22,  16028,2,20100201,1459,  5.9887, 164.9923, 4986,     25.9,  28.6216,  34.2406,2,-999.0000,9,    199.0,2,  -999.00,9,  -999.00,9,  -999.00,9,  -999.00,9,   -999.0,9,   -999.0,9,-999.0000,9,  -999.00,     1554
  49UF20100108,KS1001,  2573,  1,     21,  16027,2,20100201,1459,  5.9887, 164.9923, 4986,     49.7,  28.6351,  34.2397,2,-999.0000,9,    199.0,2,  -999.00,9,  -999.00,9,  -999.00,9,  -999.00,9,   -999.0,9,   -999.0,9,-999.0000,9,  -999.00,     1550
  49UF20100108,KS1001,  2573,  1,     20,  16026,2,20100201,1459,  5.9887, 164.9923, 4986,     76.5,  28.6258,  34.3622,2,-999.0000,9,    198.0,2,  -999.00,9,  -999.00,9,  -999.00,9,  -999.00,9,   -999.0,9,   -999.0,9,-999.0000,9,  -999.00,     1549
  49UF20100108,KS1001,  2573,  1,     19,  19378,2,20100201,1459,  5.9887, 164.9923, 4986,    100.9,  27.4746,  34.9486,2,-999.0000,9,    180.0,2,  -999.00,9,  -999.00,9,  -999.00,9,  -999.00,9,   -999.0,9,   -999.0,9,-999.0000,9,  -999.00,     1547
  49UF20100108,KS1001,  2573,  1,     17,  16023,2,20100201,1459,  5.9887, 164.9923, 4986,    126.3,  24.3058,  34.8561,2,-999.0000,9,    176.0,2,  -999.00,9,  -999.00,9,  -999.00,9,  -999.00,9,   -999.0,9,   -999.0,9,-999.0000,9,  -999.00,     1546
  49UF20100108,KS1001,  2573,  1,     18,  19377,2,20100201,1459,  5.9887, 164.9923, 4986,    127.0,  24.2262,  34.8618,2,-999.0000,9,    174.0,2,  -999.00,9,  -999.00,9,  -999.00,9,  -999.00,9,   -999.0,9,   -999.0,9,-999.0000,9,  -999.00,     1546
  49UF20100108,KS1001,  2573,  1,     16,  16022,2,20100201,1459,  5.9887, 164.9923, 4986,    152.1,  19.8064,  34.7826,2,-999.0000,9,    142.0,2,  -999.00,9,  -999.00,9,  -999.00,9,  -999.00,9,   -999.0,9,   -999.0,9,-999.0000,9,  -999.00,     1544
  49UF20100108,KS1001,  2573,  1,     15,  16021,2,20100201,1459,  5.9887, 164.9923, 4986,    203.1,  12.8573,  34.5424,2,-999.0000,9,     95.0,2,  -999.00,9,  -999.00,9,  -999.00,9,  -999.00,9,   -999.0,9,   -999.0,9,-999.0000,9,  -999.00,     1543
  49UF20100108,KS1001,  2573,  1,     14,  16020,2,20100201,1459,  5.9887, 164.9923, 4986,    253.1,  10.5187,  34.5794,2,-999.0000,9,     57.0,2,  -999.00,9,  -999.00,9,  -999.00,9,  -999.00,9,   -999.0,9,   -999.0,9,-999.0000,9,  -999.00,     1541
  49UF20100108,KS1001,  2573,  1,     13,  16019,2,20100201,1459,  5.9887, 164.9923, 4986,    305.1,   9.5514,  34.6151,2,-999.0000,9,     53.0,2,  -999.00,9,  -999.00,9,  -999.00,9,  -999.00,9,   -999.0,9,   -999.0,9,-999.0000,9,  -999.00,     1539
  49UF20100108,KS1001,  2573,  1,     12,  16018,2,20100201,1459,  5.9887, 164.9923, 4986,    405.5,   8.5070,  34.6008,2,-999.0000,9,     64.0,2,  -999.00,9,  -999.00,9,  -999.00,9,  -999.00,9,   -999.0,9,   -999.0,9,-999.0000,9,  -999.00,     1537
  49UF20100108,KS1001,  2573,  1,     11,  16017,2,20100201,1459,  5.9887, 164.9923, 4986,    505.5,   7.6921,  34.5692,2,-999.0000,9,     60.0,2,  -999.00,9,  -999.00,9,  -999.00,9,  -999.00,9,   -999.0,9,   -999.0,9,-999.0000,9,  -999.00,     1534
  49UF20100108,KS1001,  2573,  1,     10,  19375,2,20100201,1459,  5.9887, 164.9923, 4986,    604.0,   6.9230,  34.5493,2,-999.0000,9,     75.0,2,  -999.00,9,  -999.00,9,  -999.00,9,  -999.00,9,   -999.0,9,   -999.0,9,-999.0000,9,  -999.00,     1531
  49UF20100108,KS1001,  2573,  1,      9,  16015,3,20100201,1459,  5.9887, 164.9923, 4986,    705.1,   6.2009,  34.5386,2,-999.0000,9,     71.0,2,  -999.00,9,  -999.00,9,  -999.00,9,  -999.00,9,   -999.0,9,   -999.0,9,-999.0000,9,  -999.00,     1529
  49UF20100108,KS1001,  2573,  1,      7,  19374,2,20100201,1459,  5.9887, 164.9923, 4986,    807.4,   5.6049,  34.5388,2,-999.0000,9,     63.0,2,  -999.00,9,  -999.00,9,  -999.00,9,  -999.00,9,   -999.0,9,   -999.0,9,-999.0000,9,  -999.00,     1526
  49UF20100108,KS1001,  2573,  1,      8,  16014,2,20100201,1459,  5.9887, 164.9923, 4986,    807.6,   5.6054,  34.5390,2,-999.0000,9,     62.0,2,  -999.00,9,  -999.00,9,  -999.00,9,  -999.00,9,   -999.0,9,   -999.0,9,-999.0000,9,  -999.00,     1526
  49UF20100108,KS1001,  2573,  1,      6,  16012,2,20100201,1459,  5.9887, 164.9923, 4986,    907.3,   5.0639,  34.5435,2,-999.0000,9,     77.0,2,  -999.00,9,  -999.00,9,  -999.00,9,  -999.00,9,   -999.0,9,   -999.0,9,-999.0000,9,  -999.00,     1523
  49UF20100108,KS1001,  2573,  1,      5,  16011,2,20100201,1459,  5.9887, 164.9923, 4986,   1009.0,   4.5831,  34.5532,2,-999.0000,9,     73.0,2,  -999.00,9,  -999.00,9,  -999.00,9,  -999.00,9,   -999.0,9,   -999.0,9,-999.0000,9,  -999.00,     1520
  49UF20100108,KS1001,  2573,  1,      4,  16010,2,20100201,1459,  5.9887, 164.9923, 4986,   1263.4,   3.6105,  34.5799,2,-999.0000,9,     82.0,2,  -999.00,9,  -999.00,9,  -999.00,9,  -999.00,9,   -999.0,9,   -999.0,9,-999.0000,9,  -999.00,     1515
  49UF20100108,KS1001,  2573,  1,      3,  16009,2,20100201,1459,  5.9887, 164.9923, 4986,   1515.1,   2.9271,  34.6042,2,-999.0000,9,     93.0,2,  -999.00,9,  -999.00,9,  -999.00,9,  -999.00,9,   -999.0,9,   -999.0,9,-999.0000,9,  -999.00,     1510
  49UF20100108,KS1001,  2573,  1,      2,  16008,2,20100201,1459,  5.9887, 164.9923, 4986,   1768.0,   2.5531,  34.6211,2,-999.0000,9,    102.0,2,  -999.00,9,  -999.00,9,  -999.00,9,  -999.00,9,   -999.0,9,   -999.0,9,-999.0000,9,  -999.00,     1504
  49UF20100108,KS1001,  2573,  1,      1,  16007,2,20100201,1459,  5.9887, 164.9923, 4986,   2030.9,   2.2826,  34.6358,2,-999.0000,9,    110.0,2,  -999.00,9,  -999.00,9,  -999.00,9,  -999.00,9,   -999.0,9,   -999.0,9,-999.0000,9,  -999.00,     1459
  49UF20100108,KS1001,  2574,  1,     99,     99,2,20100201,2232,  4.9200, 164.9877, 4748,      0.0,  28.8860,  34.0767,2,-999.0000,9,    199.0,2,     1.00,2,     0.00,2,     0.00,2,     0.03,2,   -999.0,9,   -999.0,9,-999.0000,9,  -999.00,     2300
  49UF20100108,KS1001,  2574,  1,     23,  16029,2,20100201,2232,  4.9200, 164.9877, 4748,     10.5,  28.8877,  34.0770,2,  34.0801,2,    199.0,2,     0.90,2,     0.00,2,     0.00,2,     0.02,2,   -999.0,9,   -999.0,9,-999.0000,9,  -999.00,     2336
  49UF20100108,KS1001,  2574,  1,     22,  16028,2,20100201,2232,  4.9200, 164.9877, 4748,     26.9,  28.8894,  34.0737,2,-999.0000,9,    199.0,2,     0.96,2,     0.00,2,     0.00,2,     0.03,2,   -999.0,9,   -999.0,9,-999.0000,9,  -999.00,     2326
  49UF20100108,KS1001,  2574,  1,     21,  16027,2,20100201,2232,  4.9200, 164.9877, 4748,     50.5,  28.8879,  34.0723,2,-999.0000,9,    199.0,2,     0.91,2,     0.00,2,     0.00,2,     0.03,2,   -999.0,9,   -999.0,9,-999.0000,9,  -999.00,     2323
  49UF20100108,KS1001,  2574,  1,     20,  16026,2,20100201,2232,  4.9200, 164.9877, 4748,     73.9,  27.8067,  35.0592,2,-999.0000,9,    172.0,2,     1.89,2,     2.72,2,     0.28,2,     0.36,2,   -999.0,9,   -999.0,9,-999.0000,9,  -999.00,     2322
  49UF20100108,KS1001,  2574,  1,     18,  19377,2,20100201,2232,  4.9200, 164.9877, 4748,    100.7,  26.6620,  35.2296,2,  35.2303,2,    145.0,2,     2.51,2,     6.86,2,     0.24,2,     0.58,2,   -999.0,9,   -999.0,9,-999.0000,9,  -999.00,     2321
  49UF20100108,KS1001,  2574,  1,     19,  19378,2,20100201,2232,  4.9200, 164.9877, 4748,    102.1,  26.6169,  35.2259,2,  35.2347,4,    144.0,2,     2.77,2,     6.85,2,     0.25,2,     0.60,2,   -999.0,9,   -999.0,9,-999.0000,9,  -999.00,     2321
  49UF20100108,KS1001,  2574,  1,     17,  16023,2,20100201,2232,  4.9200, 164.9877, 4748,    127.0,  25.4935,  35.2178,2,-999.0000,9,    147.0,2,     3.10,2,     7.25,2,     0.05,2,     0.62,2,   -999.0,9,   -999.0,9,-999.0000,9,  -999.00,     2320
  49UF20100108,KS1001,  2574,  1,     16,  16022,2,20100201,2232,  4.9200, 164.9877, 4748,    150.7,  21.0173,  34.8934,2,-999.0000,9,    146.0,2,     6.50,2,     8.69,2,     0.01,2,     0.67,2,   -999.0,9,   -999.0,9,-999.0000,9,  -999.00,     2319
  49UF20100108,KS1001,  2574,  1,     15,  16021,2,20100201,2232,  4.9200, 164.9877, 4748,    201.8,  14.1390,  34.5702,2,  34.5725,2,    106.0,2,    18.25,2,    19.70,2,     0.00,2,     1.45,2,   -999.0,9,   -999.0,9,-999.0000,9,  -999.00,     2317
  49UF20100108,KS1001,  2574,  1,     14,  16020,2,20100201,2232,  4.9200, 164.9877, 4748,    250.9,  10.6911,  34.5750,2,-999.0000,9,     64.0,2,    30.29,2,    29.60,2,     0.00,2,     2.13,2,   -999.0,9,   -999.0,9,-999.0000,9,  -999.00,     2316
  49UF20100108,KS1001,  2574,  1,     13,  16019,2,20100201,2232,  4.9200, 164.9877, 4748,    304.6,   9.7292,  34.6564,2,  34.6555,2,    105.0,2,    29.30,2,    28.10,2,     0.00,2,     1.98,2,   -999.0,9,   -999.0,9,-999.0000,9,  -999.00,     2314
  49UF20100108,KS1001,  2574,  1,     12,  16018,2,20100201,2232,  4.9200, 164.9877, 4748,    402.5,   8.7395,  34.6249,2,  34.6237,2,     69.0,2,    35.00,2,    33.40,2,     0.00,2,     2.35,2,   -999.0,9,   -999.0,9,-999.0000,9,  -999.00,     2311
  49UF20100108,KS1001,  2574,  1,     11,  16017,2,20100201,2232,  4.9200, 164.9877, 4748,    504.7,   7.9969,  34.5917,2,  34.5912,2,     68.0,2,    40.21,2,    35.10,2,     0.00,2,     2.48,2,   -999.0,9,   -999.0,9,-999.0000,9,  -999.00,     2308
  49UF20100108,KS1001,  2574,  1,     10,  19375,2,20100201,2232,  4.9200, 164.9877, 4748,    603.4,   7.2114,  34.5669,2,  34.5671,2,     66.0,2,    46.78,2,    36.70,2,     0.00,2,     2.63,2,   -999.0,9,   -999.0,9,-999.0000,9,  -999.00,     2305
  49UF20100108,KS1001,  2574,  1,      8,  16014,2,20100201,2232,  4.9200, 164.9877, 4748,    704.8,   6.5314,  34.5488,2,  34.5483,2,     65.0,2,    55.00,2,    38.10,2,     0.00,2,     2.72,2,   -999.0,9,   -999.0,9,-999.0000,9,  -999.00,     2302
  49UF20100108,KS1001,  2574,  1,      9,  16015,2,20100201,2232,  4.9200, 164.9877, 4748,    705.7,   6.5281,  34.5490,2,  34.5491,2,     65.0,2,    55.28,2,    38.20,2,     0.00,2,     2.73,2,   -999.0,9,   -999.0,9,-999.0000,9,  -999.00,     2303
  49UF20100108,KS1001,  2574,  1,      7,  19374,2,20100201,2232,  4.9200, 164.9877, 4748,    806.8,   5.8689,  34.5393,2,  34.5388,2,     73.0,2,    64.45,2,    38.30,2,     0.00,2,     2.74,2,   -999.0,9,   -999.0,9,-999.0000,9,  -999.00,     2300
  49UF20100108,KS1001,  2574,  1,      6,  16012,2,20100201,2232,  4.9200, 164.9877, 4748,    909.0,   5.0921,  34.5430,2,  34.5430,2,     80.0,2,    77.59,2,    38.30,2,     0.00,2,     2.77,2,   -999.0,9,   -999.0,9,-999.0000,9,  -999.00,     2257
  49UF20100108,KS1001,  2574,  1,      5,  16011,2,20100201,2232,  4.9200, 164.9877, 4748,   1007.8,   4.6327,  34.5518,2,  34.5518,2,     82.0,2,    85.08,2,    39.20,2,     0.00,2,     2.83,2,   -999.0,9,   -999.0,9,-999.0000,9,  -999.00,     2254
  49UF20100108,KS1001,  2574,  1,      4,  16010,2,20100201,2232,  4.9200, 164.9877, 4748,   1260.8,   3.6347,  34.5798,2,  34.5793,2,     84.0,2,   106.32,2,    40.30,2,     0.00,2,     2.87,2,   -999.0,9,   -999.0,9,-999.0000,9,  -999.00,     2249
  49UF20100108,KS1001,  2574,  1,      3,  16009,2,20100201,2232,  4.9200, 164.9877, 4748,   1512.3,   2.9260,  34.6050,2,  34.6044,2,     94.0,2,   120.83,2,    39.70,2,     0.00,2,     2.82,2,   -999.0,9,   -999.0,9,-999.0000,9,  -999.00,     2243
  49UF20100108,KS1001,  2574,  1,      2,  16008,2,20100201,2232,  4.9200, 164.9877, 4748,   1766.8,   2.5355,  34.6223,2,  34.6214,2,    104.0,2,   128.78,2,    39.00,2,     0.00,2,     2.78,2,   -999.0,9,   -999.0,9,-999.0000,9,  -999.00,     2238
  49UF20100108,KS1001,  2574,  1,      1,  16007,2,20100201,2232,  4.9200, 164.9877, 4748,   2030.4,   2.2349,  34.6384,2,  34.6375,2,    111.0,2,   134.94,2,    38.70,2,     0.00,2,     2.74,2,   -999.0,9,   -999.0,9,-999.0000,9,  -999.00,     2232
  49UF20100108,KS1001,  2576,  1,     99,     99,2,20100202,1219,  2.9782, 164.9717, 4237,      0.0,  29.0822,  34.0990,2,-999.0000,9,    200.0,2,  -999.00,9,  -999.00,9,  -999.00,9,  -999.00,9,   -999.0,9,   -999.0,9,-999.0000,9,  -999.00,     1235
  49UF20100108,KS1001,  2576,  1,     23,  16029,2,20100202,1219,  2.9782, 164.9717, 4237,      9.5,  29.0775,  34.0986,2,-999.0000,9,    199.0,2,  -999.00,9,  -999.00,9,  -999.00,9,  -999.00,9,   -999.0,9,   -999.0,9,-999.0000,9,  -999.00,     1324
  49UF20100108,KS1001,  2576,  1,     22,  16028,2,20100202,1219,  2.9782, 164.9717, 4237,     24.6,  29.0618,  34.0577,2,-999.0000,9,    199.0,2,  -999.00,9,  -999.00,9,  -999.00,9,  -999.00,9,   -999.0,9,   -999.0,9,-999.0000,9,  -999.00,     1315
  49UF20100108,KS1001,  2576,  1,     21,  16027,2,20100202,1219,  2.9782, 164.9717, 4237,     48.2,  29.1054,  34.0968,2,-999.0000,9,    199.0,2,  -999.00,9,  -999.00,9,  -999.00,9,  -999.00,9,   -999.0,9,   -999.0,9,-999.0000,9,  -999.00,     1312
  49UF20100108,KS1001,  2576,  1,     19,  19378,2,20100202,1219,  2.9782, 164.9717, 4237,     76.5,  28.3108,  35.3595,2,-999.0000,9,    166.0,2,  -999.00,9,  -999.00,9,  -999.00,9,  -999.00,9,   -999.0,9,   -999.0,9,-999.0000,9,  -999.00,     1311
  49UF20100108,KS1001,  2576,  1,     20,  16026,2,20100202,1219,  2.9782, 164.9717, 4237,     76.8,  28.2822,  35.3601,2,-999.0000,9,    169.0,2,  -999.00,9,  -999.00,9,  -999.00,9,  -999.00,9,   -999.0,9,   -999.0,9,-999.0000,9,  -999.00,     1311
  49UF20100108,KS1001,  2576,  1,     18,  19377,2,20100202,1219,  2.9782, 164.9717, 4237,    100.7,  26.1303,  35.2751,2,-999.0000,9,    141.0,2,  -999.00,9,  -999.00,9,  -999.00,9,  -999.00,9,   -999.0,9,   -999.0,9,-999.0000,9,  -999.00,     1310
  49UF20100108,KS1001,  2576,  1,     17,  16023,2,20100202,1219,  2.9782, 164.9717, 4237,    126.6,  24.7572,  35.2007,2,-999.0000,9,    140.0,2,  -999.00,9,  -999.00,9,  -999.00,9,  -999.00,9,   -999.0,9,   -999.0,9,-999.0000,9,  -999.00,     1309
  49UF20100108,KS1001,  2576,  1,     16,  16022,2,20100202,1219,  2.9782, 164.9717, 4237,    153.6,  21.4769,  35.0716,2,-999.0000,9,    137.0,2,  -999.00,9,  -999.00,9,  -999.00,9,  -999.00,9,   -999.0,9,   -999.0,9,-999.0000,9,  -999.00,     1308
  49UF20100108,KS1001,  2576,  1,     15,  16021,2,20100202,1219,  2.9782, 164.9717, 4237,    203.8,  12.5593,  34.5396,2,-999.0000,9,    126.0,2,  -999.00,9,  -999.00,9,  -999.00,9,  -999.00,9,   -999.0,9,   -999.0,9,-999.0000,9,  -999.00,     1306
  49UF20100108,KS1001,  2576,  1,     14,  16020,2,20100202,1219,  2.9782, 164.9717, 4237,    255.3,  10.3573,  34.6258,2,-999.0000,9,    111.0,2,  -999.00,9,  -999.00,9,  -999.00,9,  -999.00,9,   -999.0,9,   -999.0,9,-999.0000,9,  -999.00,     1304
  49UF20100108,KS1001,  2576,  1,     13,  16019,2,20100202,1219,  2.9782, 164.9717, 4237,    303.8,   9.6323,  34.6143,2,-999.0000,9,    113.0,2,  -999.00,9,  -999.00,9,  -999.00,9,  -999.00,9,   -999.0,9,   -999.0,9,-999.0000,9,  -999.00,     1302
  49UF20100108,KS1001,  2576,  1,     12,  16018,2,20100202,1219,  2.9782, 164.9717, 4237,    402.1,   9.2240,  34.6616,2,-999.0000,9,    109.0,2,  -999.00,9,  -999.00,9,  -999.00,9,  -999.00,9,   -999.0,9,   -999.0,9,-999.0000,9,  -999.00,     1258
  49UF20100108,KS1001,  2576,  1,     11,  16017,2,20100202,1219,  2.9782, 164.9717, 4237,    505.1,   8.2482,  34.5996,2,-999.0000,9,    116.0,2,  -999.00,9,  -999.00,9,  -999.00,9,  -999.00,9,   -999.0,9,   -999.0,9,-999.0000,9,  -999.00,     1255
  49UF20100108,KS1001,  2576,  1,      9,  16015,2,20100202,1219,  2.9782, 164.9717, 4237,    606.2,   7.2535,  34.5646,2,-999.0000,9,     75.0,2,  -999.00,9,  -999.00,9,  -999.00,9,  -999.00,9,   -999.0,9,   -999.0,9,-999.0000,9,  -999.00,     1252
  49UF20100108,KS1001,  2576,  1,     10,  19375,2,20100202,1219,  2.9782, 164.9717, 4237,    607.7,   7.2397,  34.5643,2,-999.0000,9,     76.0,2,  -999.00,9,  -999.00,9,  -999.00,9,  -999.00,9,   -999.0,9,   -999.0,9,-999.0000,9,  -999.00,     1252
  49UF20100108,KS1001,  2576,  1,      8,  16014,2,20100202,1219,  2.9782, 164.9717, 4237,    706.4,   6.4223,  34.5475,2,-999.0000,9,     71.0,2,  -999.00,9,  -999.00,9,  -999.00,9,  -999.00,9,   -999.0,9,   -999.0,9,-999.0000,9,  -999.00,     1249
  49UF20100108,KS1001,  2576,  1,      7,  19374,2,20100202,1219,  2.9782, 164.9717, 4237,    807.0,   5.6705,  34.5405,2,-999.0000,9,     80.0,2,  -999.00,9,  -999.00,9,  -999.00,9,  -999.00,9,   -999.0,9,   -999.0,9,-999.0000,9,  -999.00,     1246
  49UF20100108,KS1001,  2576,  1,      6,  16012,2,20100202,1219,  2.9782, 164.9717, 4237,    908.1,   5.0592,  34.5449,2,-999.0000,9,     86.0,2,  -999.00,9,  -999.00,9,  -999.00,9,  -999.00,9,   -999.0,9,   -999.0,9,-999.0000,9,  -999.00,     1243
  49UF20100108,KS1001,  2576,  1,      5,  16011,2,20100202,1219,  2.9782, 164.9717, 4237,   1008.3,   4.5536,  34.5541,2,-999.0000,9,     88.0,2,  -999.00,9,  -999.00,9,  -999.00,9,  -999.00,9,   -999.0,9,   -999.0,9,-999.0000,9,  -999.00,     1241
  49UF20100108,KS1001,  2576,  1,      4,  16010,2,20100202,1219,  2.9782, 164.9717, 4237,   1260.3,   3.6552,  34.5785,2,-999.0000,9,     93.0,2,  -999.00,9,  -999.00,9,  -999.00,9,  -999.00,9,   -999.0,9,   -999.0,9,-999.0000,9,  -999.00,     1235
  49UF20100108,KS1001,  2576,  1,      3,  16009,2,20100202,1219,  2.9782, 164.9717, 4237,   1513.6,   2.9993,  34.6019,2,-999.0000,9,    100.0,2,  -999.00,9,  -999.00,9,  -999.00,9,  -999.00,9,   -999.0,9,   -999.0,9,-999.0000,9,  -999.00,     1230
  49UF20100108,KS1001,  2576,  1,      2,  16008,2,20100202,1219,  2.9782, 164.9717, 4237,   1765.1,   2.5990,  34.6190,2,-999.0000,9,    107.0,2,  -999.00,9,  -999.00,9,  -999.00,9,  -999.00,9,   -999.0,9,   -999.0,9,-999.0000,9,  -999.00,     1225
  49UF20100108,KS1001,  2576,  1,      1,  16007,2,20100202,1219,  2.9782, 164.9717, 4237,   2026.3,   2.2707,  34.6358,2,-999.0000,9,    113.0,2,  -999.00,9,  -999.00,9,  -999.00,9,  -999.00,9,   -999.0,9,   -999.0,9,-999.0000,9,  -999.00,     1219