BOTTLE,20190925PRINUNIVRMK
EXPOCODE,SECT_ID,STNNBR,CASTNO,SAMPNO,BTLNBR,BTLNBR_FLAG_W,DATE,TIME,LATITUDE,LONGITUDE,DEPTH,CTDPRS,CTDTMP,CTDSAL,CTDSAL_FLAG_W,SALNTY,SALNTY_FLAG_W,OXYGEN,OXYGEN_FLAG_W,SILCAT,SILCAT_FLAG_W,NITRAT,NITRAT_FLAG_W,NITRIT,NITRIT_FLAG_W,PHSPHT,PHSPHT_FLAG_W,TCARBN,TCARBN_FLAG_W,ALKALI,ALKALI_FLAG_W,PH_TOT,PH_TOT_FLAG_W,PH_TMP,BTL_TIME
,,,,,,,,,,,METERS,DBAR,ITS-90,PSS-78,,PSS-78,,UMOL/KG,,UMOL/KG,,UMOL/KG,,UMOL/KG,,UMOL/KG,,UMOL/KG,,UMOL/KG,,,,DEG C,
  49UF20100615,  P13N,  2712,  1,     99,     99,2,20100714,0014, -7.1032, 162.2150, 1968,      0.0,  29.7184,  34.6110,2,-999.0000,9,    194.8,2,     0.95,2,     0.00,2,     0.00,2,     0.10,2,   -999.0,9,   -999.0,9,-999.0000,9,  -999.00,      111
  49UF20100615,  P13N,  2712,  1,     33,  21993,2,20100714,0014, -7.1032, 162.2150, 1968,     11.3,  29.7288,  34.6099,2,-999.0000,9,    195.0,2,     0.87,2,     0.00,2,     0.00,2,     0.10,2,   -999.0,9,   -999.0,9,-999.0000,9,  -999.00,      123
  49UF20100615,  P13N,  2712,  1,     32,  21992,2,20100714,0014, -7.1032, 162.2150, 1968,     26.3,  29.7238,  34.6116,2,-999.0000,9,    194.6,2,     0.92,2,     0.00,2,     0.00,2,     0.11,2,   -999.0,9,   -999.0,9,-999.0000,9,  -999.00,      121
  49UF20100615,  P13N,  2712,  1,     31,  21991,2,20100714,0014, -7.1032, 162.2150, 1968,     52.1,  29.7600,  34.6328,2,-999.0000,9,    194.8,6,     1.04,6,     0.02,6,     0.00,6,     0.11,6,   -999.0,9,   -999.0,9,-999.0000,9,  -999.00,      117
  49UF20100615,  P13N,  2712,  1,     30,  21990,2,20100714,0014, -7.1032, 162.2150, 1968,     76.8,  29.7146,  35.0106,2,-999.0000,9,    191.3,2,     0.91,2,     0.00,2,     0.00,2,     0.18,2,   -999.0,9,   -999.0,9,-999.0000,9,  -999.00,      116
  49UF20100615,  P13N,  2712,  1,     29,  21989,2,20100714,0014, -7.1032, 162.2150, 1968,    103.4,  29.1533,  35.2319,2,-999.0000,9,    174.9,2,     1.35,2,     1.85,2,     0.67,2,     0.33,2,   -999.0,9,   -999.0,9,-999.0000,9,  -999.00,      115
  49UF20100615,  P13N,  2712,  1,     28,  21988,2,20100714,0014, -7.1032, 162.2150, 1968,    127.6,  27.9039,  35.5292,2,-999.0000,9,    155.6,2,     2.04,2,     6.63,2,     0.01,2,     0.61,2,   -999.0,9,   -999.0,9,-999.0000,9,  -999.00,      114
  49UF20100615,  P13N,  2712,  1,     24,  21984,2,20100714,0014, -7.1032, 162.2150, 1968,    152.1,  26.1697,  35.5420,2,-999.0000,9,    146.3,2,     2.25,2,     6.57,2,     0.01,2,     0.59,2,   -999.0,9,   -999.0,9,-999.0000,9,  -999.00,      112
  49UF20100615,  P13N,  2712,  1,     23,  21983,2,20100714,0014, -7.1032, 162.2150, 1968,    201.9,  22.1293,  35.7930,2,-999.0000,9,    132.4,2,     2.98,2,     9.12,2,     0.00,2,     0.79,2,   -999.0,9,   -999.0,9,-999.0000,9,  -999.00,      111
  49UF20100615,  P13N,  2712,  1,     22,  21982,2,20100714,0014, -7.1032, 162.2150, 1968,    253.6,  16.7900,  35.3620,2,-999.0000,9,    110.6,2,     7.63,2,    16.16,2,     0.00,2,     1.29,2,   -999.0,9,   -999.0,9,-999.0000,9,  -999.00,      109
  49UF20100615,  P13N,  2712,  1,     21,  21981,2,20100714,0014, -7.1032, 162.2150, 1968,    303.4,  13.3334,  35.0278,2,-999.0000,9,    110.0,2,    12.63,2,    20.95,2,     0.00,2,     1.57,2,   -999.0,9,   -999.0,9,-999.0000,9,  -999.00,      107
  49UF20100615,  P13N,  2712,  1,     20,  21980,2,20100714,0014, -7.1032, 162.2150, 1968,    404.4,   9.2783,  34.6923,2,-999.0000,9,    118.6,2,    23.29,2,    28.11,2,     0.00,2,     1.95,2,   -999.0,9,   -999.0,9,-999.0000,9,  -999.00,      105
  49UF20100615,  P13N,  2712,  1,     19,  21978,2,20100714,0014, -7.1032, 162.2150, 1968,    505.4,   7.6114,  34.5861,2,-999.0000,9,    118.1,2,    32.00,2,    32.00,2,     0.00,2,     2.20,2,   -999.0,9,   -999.0,9,-999.0000,9,  -999.00,      102
  49UF20100615,  P13N,  2712,  1,     15,  21974,2,20100714,0014, -7.1032, 162.2150, 1968,    607.3,   6.5694,  34.5377,2,-999.0000,9,    119.6,2,    41.03,2,    33.83,2,     0.00,2,     2.34,2,   -999.0,9,   -999.0,9,-999.0000,9,  -999.00,       44
  49UF20100615,  P13N,  2712,  1,     14,  21973,2,20100714,0014, -7.1032, 162.2150, 1968,    707.0,   5.7930,  34.5259,2,-999.0000,9,    112.6,6,    52.01,6,    35.86,6,     0.00,6,     2.49,6,   -999.0,9,   -999.0,9,-999.0000,9,  -999.00,       42
  49UF20100615,  P13N,  2712,  1,     13,  21972,2,20100714,0014, -7.1032, 162.2150, 1968,    806.2,   5.2892,  34.5255,2,-999.0000,9,    111.0,2,    60.02,2,    36.75,2,     0.00,2,     2.56,2,   -999.0,9,   -999.0,9,-999.0000,9,  -999.00,       39
  49UF20100615,  P13N,  2712,  1,     12,  21971,2,20100714,0014, -7.1032, 162.2150, 1968,    908.3,   4.7718,  34.5280,2,-999.0000,9,    117.4,2,    69.05,2,    36.71,2,     0.00,2,     2.57,2,   -999.0,9,   -999.0,9,-999.0000,9,  -999.00,       37
  49UF20100615,  P13N,  2712,  1,     11,  21970,2,20100714,0014, -7.1032, 162.2150, 1968,   1009.9,   4.3737,  34.5413,2,-999.0000,9,    111.2,2,    78.48,2,    37.63,2,     0.00,2,     2.65,2,   -999.0,9,   -999.0,9,-999.0000,9,  -999.00,       34
  49UF20100615,  P13N,  2712,  1,     10,  21969,2,20100714,0014, -7.1032, 162.2150, 1968,   1211.4,   3.7192,  34.5628,2,-999.0000,9,    112.1,2,    93.16,2,    38.07,2,     0.00,2,     2.68,2,   -999.0,9,   -999.0,9,-999.0000,9,  -999.00,       30
  49UF20100615,  P13N,  2712,  1,      6,  21965,2,20100714,0014, -7.1032, 162.2150, 1968,   1415.3,   3.1820,  34.5852,2,-999.0000,9,    117.7,2,   105.34,2,    38.00,2,     0.00,2,     2.67,2,   -999.0,9,   -999.0,9,-999.0000,9,  -999.00,       25
  49UF20100615,  P13N,  2712,  1,      5,  21964,2,20100714,0014, -7.1032, 162.2150, 1968,   1415.3,   3.1820,  34.5852,2,-999.0000,9,    117.6,2,   105.34,2,    37.85,2,     0.00,2,     2.68,2,   -999.0,9,   -999.0,9,-999.0000,9,  -999.00,       25
  49UF20100615,  P13N,  2712,  1,      4,  21963,2,20100714,0014, -7.1032, 162.2150, 1968,   1617.7,   2.8757,  34.6006,2,-999.0000,9,    120.4,2,   112.87,2,    37.95,2,     0.00,2,     2.66,2,   -999.0,9,   -999.0,9,-999.0000,9,  -999.00,       21
  49UF20100615,  P13N,  2712,  1,      3,  21962,2,20100714,0014, -7.1032, 162.2150, 1968,   1617.7,   2.8757,  34.6006,2,-999.0000,9,    120.8,2,   112.54,2,    38.01,2,     0.00,2,     2.67,2,   -999.0,9,   -999.0,9,-999.0000,9,  -999.00,       21
  49UF20100615,  P13N,  2712,  1,      2,  21961,2,20100714,0014, -7.1032, 162.2150, 1968,   1820.1,   2.6050,  34.6147,2,-999.0000,9,    126.4,2,   118.38,2,    37.60,2,     0.00,2,     2.62,2,   -999.0,9,   -999.0,9,-999.0000,9,  -999.00,       17
  49UF20100615,  P13N,  2712,  1,      1,  21960,2,20100714,0014, -7.1032, 162.2150, 1968,   1967.6,   2.4240,  34.6265,2,-999.0000,9,    126.3,2,   123.32,2,    37.76,2,     0.00,2,     2.64,2,   -999.0,9,   -999.0,9,-999.0000,9,  -999.00,       14
  49UF20100615,  P13N,  2714,  1,     99,     99,2,20100715,0017, -7.7738, 161.2547, 2331,      0.0,  29.5193,  34.7655,2,-999.0000,9,    193.1,2,     1.14,2,     0.08,2,     0.00,2,     0.15,2,   -999.0,9,   -999.0,9,-999.0000,9,  -999.00,       46
  49UF20100615,  P13N,  2714,  1,     33,  21993,2,20100715,0017, -7.7738, 161.2547, 2331,     11.5,  29.5142,  34.7653,2,-999.0000,9,    192.7,2,     1.14,2,     0.00,2,     0.00,2,     0.15,2,   -999.0,9,   -999.0,9,-999.0000,9,  -999.00,      127
  49UF20100615,  P13N,  2714,  1,     32,  21992,2,20100715,0017, -7.7738, 161.2547, 2331,     26.7,  29.5031,  34.7659,2,-999.0000,9,    192.8,2,     1.12,2,     0.02,2,     0.01,2,     0.15,2,   -999.0,9,   -999.0,9,-999.0000,9,  -999.00,      121
  49UF20100615,  P13N,  2714,  1,     31,  21991,2,20100715,0017, -7.7738, 161.2547, 2331,     51.3,  29.4959,  34.7645,2,-999.0000,9,    192.7,2,     1.09,2,     0.02,2,     0.00,2,     0.13,2,   -999.0,9,   -999.0,9,-999.0000,9,  -999.00,      120
  49UF20100615,  P13N,  2714,  1,     30,  21990,2,20100715,0017, -7.7738, 161.2547, 2331,     76.3,  28.7636,  35.2659,2,-999.0000,9,    168.9,2,     1.75,6,     3.25,6,     0.43,6,     0.42,6,   -999.0,9,   -999.0,9,-999.0000,9,  -999.00,      118
  49UF20100615,  P13N,  2714,  1,     29,  21989,2,20100715,0017, -7.7738, 161.2547, 2331,    102.6,  27.9764,  35.3096,2,-999.0000,9,    160.5,2,     1.66,2,     4.80,2,     0.08,2,     0.48,2,   -999.0,9,   -999.0,9,-999.0000,9,  -999.00,      113
  49UF20100615,  P13N,  2714,  1,     28,  21988,2,20100715,0017, -7.7738, 161.2547, 2331,    126.5,  26.7535,  35.5371,2,-999.0000,9,    147.2,2,     2.24,2,     6.85,2,     0.03,2,     0.63,2,   -999.0,9,   -999.0,9,-999.0000,9,  -999.00,      112
  49UF20100615,  P13N,  2714,  1,     24,  21984,2,20100715,0017, -7.7738, 161.2547, 2331,    151.9,  23.8170,  35.6645,2,-999.0000,9,    126.4,2,     3.17,2,     9.97,2,     0.00,2,     0.82,2,   -999.0,9,   -999.0,9,-999.0000,9,  -999.00,      111
  49UF20100615,  P13N,  2714,  1,     23,  21983,2,20100715,0017, -7.7738, 161.2547, 2331,    203.2,  19.5777,  35.6490,2,-999.0000,9,    126.1,2,     4.23,2,    11.56,2,     0.00,2,     0.97,2,   -999.0,9,   -999.0,9,-999.0000,9,  -999.00,      109
  49UF20100615,  P13N,  2714,  1,     22,  21982,2,20100715,0017, -7.7738, 161.2547, 2331,    253.0,  14.2138,  35.1049,2,-999.0000,9,    111.4,2,    10.99,2,    19.19,2,     0.00,2,     1.49,2,   -999.0,9,   -999.0,9,-999.0000,9,  -999.00,      107
  49UF20100615,  P13N,  2714,  1,     21,  21981,2,20100715,0017, -7.7738, 161.2547, 2331,    305.0,  11.9964,  34.9098,2,-999.0000,9,    127.9,2,    14.32,2,    21.61,2,     0.00,2,     1.59,2,   -999.0,9,   -999.0,9,-999.0000,9,  -999.00,      105
  49UF20100615,  P13N,  2714,  1,     20,  21980,2,20100715,0017, -7.7738, 161.2547, 2331,    403.3,   9.2825,  34.6831,2,-999.0000,9,    131.2,2,    22.75,2,    26.55,2,     0.00,2,     1.85,2,   -999.0,9,   -999.0,9,-999.0000,9,  -999.00,      102
  49UF20100615,  P13N,  2714,  1,     19,  21978,2,20100715,0017, -7.7738, 161.2547, 2331,    505.1,   7.8099,  34.5834,2,-999.0000,9,    143.2,2,    27.40,2,    28.73,2,     0.00,2,     1.99,2,   -999.0,9,   -999.0,9,-999.0000,9,  -999.00,       59
  49UF20100615,  P13N,  2714,  1,     15,  21974,2,20100715,0017, -7.7738, 161.2547, 2331,    607.3,   6.7988,  34.5456,2,-999.0000,9,    122.8,2,    37.85,2,    32.80,2,     0.00,2,     2.28,2,   -999.0,9,   -999.0,9,-999.0000,9,  -999.00,       51
  49UF20100615,  P13N,  2714,  1,     14,  21973,2,20100715,0017, -7.7738, 161.2547, 2331,    708.4,   6.0479,  34.5044,2,-999.0000,9,    150.8,2,    40.91,2,    31.43,2,     0.00,2,     2.18,2,   -999.0,9,   -999.0,9,-999.0000,9,  -999.00,       48
  49UF20100615,  P13N,  2714,  1,     13,  21972,2,20100715,0017, -7.7738, 161.2547, 2331,    807.2,   5.4846,  34.5049,2,-999.0000,9,    139.6,6,    50.57,6,    33.53,6,     0.00,6,     2.30,6,   -999.0,9,   -999.0,9,-999.0000,9,  -999.00,       45
  49UF20100615,  P13N,  2714,  1,     12,  21971,2,20100715,0017, -7.7738, 161.2547, 2331,    908.9,   4.8416,  34.5180,2,-999.0000,9,    129.3,2,    64.56,2,    35.24,2,     0.00,2,     2.46,2,   -999.0,9,   -999.0,9,-999.0000,9,  -999.00,       42
  49UF20100615,  P13N,  2714,  1,     11,  21970,2,20100715,0017, -7.7738, 161.2547, 2331,   1009.7,   4.4632,  34.5289,2,-999.0000,9,    129.6,3,    72.87,2,    35.65,2,     0.00,2,     2.52,2,   -999.0,9,   -999.0,9,-999.0000,9,  -999.00,       40
  49UF20100615,  P13N,  2714,  1,      7,  21966,2,20100715,0017, -7.7738, 161.2547, 2331,   1212.9,   3.6706,  34.5499,2,-999.0000,9,    137.4,2,    85.49,2,    35.86,2,     0.00,2,     2.52,2,   -999.0,9,   -999.0,9,-999.0000,9,  -999.00,       35
  49UF20100615,  P13N,  2714,  1,      6,  21965,2,20100715,0017, -7.7738, 161.2547, 2331,   1414.1,   3.2869,  34.5731,2,-999.0000,9,    130.3,2,    97.47,2,    36.64,2,     0.00,2,     2.58,2,   -999.0,9,   -999.0,9,-999.0000,9,  -999.00,       30
  49UF20100615,  P13N,  2714,  1,      5,  21964,2,20100715,0017, -7.7738, 161.2547, 2331,   1617.7,   2.8878,  34.5993,2,-999.0000,9,    121.8,2,   112.03,2,    37.46,2,     0.00,2,     2.67,2,   -999.0,9,   -999.0,9,-999.0000,9,  -999.00,       26
  49UF20100615,  P13N,  2714,  1,      4,  21963,3,20100715,0017, -7.7738, 161.2547, 2331,   1820.0,   2.6351,  34.6142,2,-999.0000,9,    123.0,2,   119.03,2,    37.76,2,     0.00,2,     2.62,2,   -999.0,9,   -999.0,9,-999.0000,9,  -999.00,       21
  49UF20100615,  P13N,  2714,  1,      3,  21962,2,20100715,0017, -7.7738, 161.2547, 2331,   1820.0,   2.6351,  34.6142,2,-999.0000,9,    122.8,2,   119.39,2,    37.82,2,     0.00,2,     2.65,2,   -999.0,9,   -999.0,9,-999.0000,9,  -999.00,       21
  49UF20100615,  P13N,  2714,  1,      2,  21961,2,20100715,0017, -7.7738, 161.2547, 2331,   2022.2,   2.3056,  34.6327,2,-999.0000,9,    129.8,2,   125.89,2,    37.41,2,     0.00,2,     2.59,2,   -999.0,9,   -999.0,9,-999.0000,9,  -999.00,       17
  49UF20100615,  P13N,  2714,  1,      1,  21960,2,20100715,0017, -7.7738, 161.2547, 2331,   2022.2,   2.3056,  34.6327,2,-999.0000,9,    130.1,2,   126.03,2,    37.37,2,     0.00,2,     2.62,2,   -999.0,9,   -999.0,9,-999.0000,9,  -999.00,       17
  49UF20100615,  P13N,  2715,  1,     99,     99,2,20100715,0444, -7.9785, 160.9925, 2977,      0.0,  29.4792,  34.7419,2,-999.0000,9,    194.8,2,     0.89,2,     0.02,2,     0.01,2,     0.15,2,   -999.0,9,   -999.0,9,-999.0000,9,  -999.00,      536
  49UF20100615,  P13N,  2715,  1,     33,  21993,2,20100715,0444, -7.9785, 160.9925, 2977,     10.2,  29.4918,  34.7430,2,  34.7425,2,    195.2,2,     0.89,2,     0.02,2,     0.01,2,     0.14,2,   -999.0,9,   -999.0,9,-999.0000,9,  -999.00,      559
  49UF20100615,  P13N,  2715,  1,     32,  21992,2,20100715,0444, -7.9785, 160.9925, 2977,     25.8,  29.4888,  34.7428,2,-999.0000,9,    195.4,2,     0.89,2,     0.00,2,     0.00,2,     0.14,2,   -999.0,9,   -999.0,9,-999.0000,9,  -999.00,      552
  49UF20100615,  P13N,  2715,  1,     31,  21991,2,20100715,0444, -7.9785, 160.9925, 2977,     51.3,  29.5124,  34.7725,2,-999.0000,9,    194.0,2,     0.93,2,     0.10,2,     0.02,2,     0.15,2,   -999.0,9,   -999.0,9,-999.0000,9,  -999.00,      549
  49UF20100615,  P13N,  2715,  1,     30,  21990,2,20100715,0444, -7.9785, 160.9925, 2977,     74.9,  29.4642,  34.8139,2,-999.0000,9,    190.6,2,     0.87,2,     0.36,2,     0.09,2,     0.17,2,   -999.0,9,   -999.0,9,-999.0000,9,  -999.00,      547
  49UF20100615,  P13N,  2715,  1,     29,  21989,2,20100715,0444, -7.9785, 160.9925, 2977,    101.3,  27.8580,  35.3741,2,  35.3692,4,    160.8,2,     2.03,6,     5.14,6,     0.14,6,     0.52,6,   -999.0,9,   -999.0,9,-999.0000,9,  -999.00,      546
  49UF20100615,  P13N,  2715,  1,     28,  21988,2,20100715,0444, -7.9785, 160.9925, 2977,    126.0,  26.6698,  35.5305,2,-999.0000,9,    169.0,4,     2.24,2,     7.11,2,     0.05,2,     0.65,2,   -999.0,9,   -999.0,9,-999.0000,9,  -999.00,      545
  49UF20100615,  P13N,  2715,  1,     24,  21984,2,20100715,0444, -7.9785, 160.9925, 2977,    150.2,  24.4663,  35.6564,2,-999.0000,9,    130.8,2,     2.88,2,     9.26,2,     0.01,2,     0.77,2,   -999.0,9,   -999.0,9,-999.0000,9,  -999.00,      543
  49UF20100615,  P13N,  2715,  1,     23,  21983,2,20100715,0444, -7.9785, 160.9925, 2977,    199.9,  20.2148,  35.6676,2,  35.6712,4,    117.5,2,     4.65,2,    12.83,2,     0.00,2,     1.06,2,   -999.0,9,   -999.0,9,-999.0000,9,  -999.00,      542
  49UF20100615,  P13N,  2715,  1,     22,  21982,2,20100715,0444, -7.9785, 160.9925, 2977,    252.4,  15.7970,  35.2577,2,-999.0000,9,    117.4,2,     8.41,2,    16.58,2,     0.00,2,     1.32,2,   -999.0,9,   -999.0,9,-999.0000,9,  -999.00,      539
  49UF20100615,  P13N,  2715,  1,     21,  21981,2,20100715,0444, -7.9785, 160.9925, 2977,    301.1,  12.3163,  34.9384,2,-999.0000,9,    129.4,2,    13.87,2,    21.49,2,     0.00,2,     1.56,2,   -999.0,9,   -999.0,9,-999.0000,9,  -999.00,      537
  49UF20100615,  P13N,  2715,  1,     20,  21980,3,20100715,0444, -7.9785, 160.9925, 2977,    403.1,   9.1375,  34.6782,2,  34.6801,2,    142.9,2,    22.04,2,    26.34,2,     0.00,2,     1.83,2,   -999.0,9,   -999.0,9,-999.0000,9,  -999.00,      534
  49UF20100615,  P13N,  2715,  1,     19,  21978,2,20100715,0444, -7.9785, 160.9925, 2977,    503.2,   7.3618,  34.5645,2,-999.0000,9,    136.6,2,    32.10,2,    30.76,2,     0.00,2,     2.13,2,   -999.0,9,   -999.0,9,-999.0000,9,  -999.00,      530
  49UF20100615,  P13N,  2715,  1,     15,  21974,4,20100715,0444, -7.9785, 160.9925, 2977,    602.8,   6.6833,  34.5497,2,-999.0000,9,    114.5,4,    65.80,4,    36.76,4,     0.00,4,     2.58,4,   -999.0,9,   -999.0,9,-999.0000,9,  -999.00,      523
  49UF20100615,  P13N,  2715,  1,     14,  21973,4,20100715,0444, -7.9785, 160.9925, 2977,    602.8,   6.6833,  34.5497,2,  34.5275,4,    114.8,4,    66.15,4,    36.89,4,     0.00,4,     2.60,4,   -999.0,9,   -999.0,9,-999.0000,9,  -999.00,      523
  49UF20100615,  P13N,  2715,  1,     13,  21972,2,20100715,0444, -7.9785, 160.9925, 2977,    704.9,   5.9112,  34.5062,2,-999.0000,9,    143.3,2,    44.22,2,    32.76,2,     0.00,2,     2.28,2,   -999.0,9,   -999.0,9,-999.0000,9,  -999.00,      520
  49UF20100615,  P13N,  2715,  1,     12,  21971,2,20100715,0444, -7.9785, 160.9925, 2977,    704.9,   5.9112,  34.5062,2,-999.0000,9,    143.4,2,    44.12,2,    32.74,2,     0.00,2,     2.29,2,   -999.0,9,   -999.0,9,-999.0000,9,  -999.00,      520
  49UF20100615,  P13N,  2715,  1,     11,  21970,2,20100715,0444, -7.9785, 160.9925, 2977,    805.9,   5.5028,  34.5128,2,  34.5151,2,    126.5,2,    53.84,2,    35.12,2,     0.00,2,     2.46,2,   -999.0,9,   -999.0,9,-999.0000,9,  -999.00,      516
  49UF20100615,  P13N,  2715,  1,     10,  21969,2,20100715,0444, -7.9785, 160.9925, 2977,    907.6,   5.0067,  34.5277,2,-999.0000,9,    114.5,6,    65.85,6,    36.80,6,     0.00,2,     2.60,6,   -999.0,9,   -999.0,9,-999.0000,9,  -999.00,      512
  49UF20100615,  P13N,  2715,  1,      6,  21965,2,20100715,0444, -7.9785, 160.9925, 2977,   1008.2,   4.5176,  34.5287,2,  34.5284,2,    124.2,2,    72.16,2,    36.53,2,     0.00,2,     2.56,2,   -999.0,9,   -999.0,9,-999.0000,9,  -999.00,      509
  49UF20100615,  P13N,  2715,  1,      5,  21964,2,20100715,0444, -7.9785, 160.9925, 2977,   1211.1,   3.7853,  34.5577,2,  34.5598,2,    117.7,2,    89.75,2,    37.62,2,     0.00,2,     2.67,2,   -999.0,9,   -999.0,9,-999.0000,9,  -999.00,      503
  49UF20100615,  P13N,  2715,  1,      4,  21963,2,20100715,0444, -7.9785, 160.9925, 2977,   1412.3,   3.2731,  34.5806,2,  34.5811,2,    119.8,2,   101.90,2,    37.89,2,     0.00,2,     2.69,2,   -999.0,9,   -999.0,9,-999.0000,9,  -999.00,      458
  49UF20100615,  P13N,  2715,  1,      3,  21962,2,20100715,0444, -7.9785, 160.9925, 2977,   1615.4,   2.7381,  34.6077,2,  34.6070,2,    123.3,2,   114.59,2,    37.74,2,     0.00,2,     2.68,2,   -999.0,9,   -999.0,9,-999.0000,9,  -999.00,      454
  49UF20100615,  P13N,  2715,  1,      2,  21961,2,20100715,0444, -7.9785, 160.9925, 2977,   1816.5,   2.4518,  34.6228,2,  34.6224,6,    131.6,2,   118.76,2,    37.25,2,     0.00,2,     2.62,2,   -999.0,9,   -999.0,9,-999.0000,9,  -999.00,      449
  49UF20100615,  P13N,  2715,  1,      1,  21960,2,20100715,0444, -7.9785, 160.9925, 2977,   2022.0,   2.2526,  34.6361,2,  34.6362,6,    131.7,2,   125.99,2,    37.19,2,     0.00,2,     2.63,2,   -999.0,9,   -999.0,9,-999.0000,9,  -999.00,      444