BOTTLE,20190925PRINUNIVRMK
EXPOCODE,SECT_ID,STNNBR,CASTNO,SAMPNO,BTLNBR,BTLNBR_FLAG_W,DATE,TIME,LATITUDE,LONGITUDE,DEPTH,CTDPRS,CTDTMP,CTDSAL,CTDSAL_FLAG_W,SALNTY,SALNTY_FLAG_W,OXYGEN,OXYGEN_FLAG_W,SILCAT,SILCAT_FLAG_W,NITRAT,NITRAT_FLAG_W,NITRIT,NITRIT_FLAG_W,PHSPHT,PHSPHT_FLAG_W,TCARBN,TCARBN_FLAG_W,ALKALI,ALKALI_FLAG_W,PH_TOT,PH_TOT_FLAG_W,PH_TMP,BTL_TIME
,,,,,,,,,,,METERS,DBAR,ITS-90,PSS-78,,PSS-78,,UMOL/KG,,UMOL/KG,,UMOL/KG,,UMOL/KG,,UMOL/KG,,UMOL/KG,,UMOL/KG,,,,DEG C,
  49UF20100615,  P13N,  2670,  1,     99,     99,2,20100619,0448, 33.0032, 165.0227, 6202,      0.0,  22.0941,  34.6533,2,-999.0000,9,    228.8,2,     2.01,2,     0.00,2,     0.00,2,     0.02,2,   -999.0,9,   -999.0,9,-999.0000,9,  -999.00,      543
  49UF20100615,  P13N,  2670,  1,     33,  21993,2,20100619,0448, 33.0032, 165.0227, 6202,     11.4,  20.1706,  34.6847,2,-999.0000,9,    236.1,2,     2.17,2,     0.00,2,     0.00,2,     0.01,2,   -999.0,9,   -999.0,9,-999.0000,9,  -999.00,      553
  49UF20100615,  P13N,  2670,  1,     32,  21992,2,20100619,0448, 33.0032, 165.0227, 6202,     27.2,  19.3661,  34.6900,2,-999.0000,9,    238.6,2,     1.85,2,     0.00,2,     0.00,2,     0.02,2,   -999.0,9,   -999.0,9,-999.0000,9,  -999.00,      552
  49UF20100615,  P13N,  2670,  1,     31,  21991,2,20100619,0448, 33.0032, 165.0227, 6202,     51.9,  18.8538,  34.6966,2,-999.0000,9,    236.4,6,     1.99,6,     0.03,6,     0.00,6,     0.03,6,   -999.0,9,   -999.0,9,-999.0000,9,  -999.00,      547
  49UF20100615,  P13N,  2670,  1,     30,  21990,2,20100619,0448, 33.0032, 165.0227, 6202,     76.5,  18.4670,  34.6959,2,-999.0000,9,    227.8,2,  -999.00,9,  -999.00,9,  -999.00,9,  -999.00,9,   -999.0,9,   -999.0,9,-999.0000,9,  -999.00,      546
  49UF20100615,  P13N,  2670,  1,     29,  21989,2,20100619,0448, 33.0032, 165.0227, 6202,    103.4,  17.9625,  34.6836,2,-999.0000,9,    222.6,2,     3.13,2,     2.50,2,     0.03,2,     0.17,2,   -999.0,9,   -999.0,9,-999.0000,9,  -999.00,      545
  49UF20100615,  P13N,  2670,  1,     28,  21988,2,20100619,0448, 33.0032, 165.0227, 6202,    128.0,  17.7262,  34.6797,2,-999.0000,9,    221.0,2,     3.38,2,     2.99,2,     0.02,2,     0.20,2,   -999.0,9,   -999.0,9,-999.0000,9,  -999.00,      543
  49UF20100615,  P13N,  2670,  1,     24,  21984,2,20100619,0448, 33.0032, 165.0227, 6202,    154.1,  17.5515,  34.6793,2,-999.0000,9,    217.9,2,     4.00,2,     3.63,2,     0.01,2,     0.24,2,   -999.0,9,   -999.0,9,-999.0000,9,  -999.00,      542
  49UF20100615,  P13N,  2670,  1,     23,  21983,2,20100619,0448, 33.0032, 165.0227, 6202,    204.7,  17.2777,  34.6685,2,-999.0000,9,    220.7,2,     4.18,2,     3.89,2,     0.01,2,     0.25,2,   -999.0,9,   -999.0,9,-999.0000,9,  -999.00,      540
  49UF20100615,  P13N,  2670,  1,     22,  21982,2,20100619,0448, 33.0032, 165.0227, 6202,    255.5,  16.8676,  34.6727,2,-999.0000,9,    208.0,2,     5.56,2,     5.50,2,     0.01,2,     0.36,2,   -999.0,9,   -999.0,9,-999.0000,9,  -999.00,      538
  49UF20100615,  P13N,  2670,  1,     21,  21981,2,20100619,0448, 33.0032, 165.0227, 6202,    305.8,  15.9516,  34.6242,2,-999.0000,9,    188.3,2,    10.27,2,     9.04,2,     0.00,2,     0.59,2,   -999.0,9,   -999.0,9,-999.0000,9,  -999.00,      536
  49UF20100615,  P13N,  2670,  1,     20,  21980,2,20100619,0448, 33.0032, 165.0227, 6202,    407.8,  13.2308,  34.4429,2,-999.0000,9,    195.6,2,    15.62,2,    12.41,2,     0.00,2,     0.85,2,   -999.0,9,   -999.0,9,-999.0000,9,  -999.00,      533
  49UF20100615,  P13N,  2670,  1,     19,  21978,2,20100619,0448, 33.0032, 165.0227, 6202,    508.0,  10.4962,  34.2157,2,-999.0000,9,    213.6,2,    23.24,2,    15.26,2,     0.00,2,     1.08,2,   -999.0,9,   -999.0,9,-999.0000,9,  -999.00,      530
  49UF20100615,  P13N,  2670,  1,     15,  21974,2,20100619,0448, 33.0032, 165.0227, 6202,    609.2,   7.9128,  34.0868,2,-999.0000,9,    169.1,2,    43.67,2,    24.06,2,     0.00,2,     1.74,2,   -999.0,9,   -999.0,9,-999.0000,9,  -999.00,      527
  49UF20100615,  P13N,  2670,  1,     14,  21973,4,20100619,0448, 33.0032, 165.0227, 6202,    711.0,   5.7621,  34.0085,2,-999.0000,9,     44.9,4,   159.67,4,    43.21,4,     0.00,4,     3.09,4,   -999.0,9,   -999.0,9,-999.0000,9,  -999.00,      524
  49UF20100615,  P13N,  2670,  1,     13,  21972,2,20100619,0448, 33.0032, 165.0227, 6202,    812.5,   4.7786,  34.0859,2,-999.0000,9,     89.0,2,    87.28,2,    36.82,2,     0.00,2,     2.66,2,   -999.0,9,   -999.0,9,-999.0000,9,  -999.00,      520
  49UF20100615,  P13N,  2670,  1,     12,  21971,2,20100619,0448, 33.0032, 165.0227, 6202,    913.3,   4.2670,  34.1776,2,-999.0000,9,     63.0,2,   102.61,2,    39.46,2,     0.00,2,     2.85,2,   -999.0,9,   -999.0,9,-999.0000,9,  -999.00,      517
  49UF20100615,  P13N,  2670,  1,     11,  21970,2,20100619,0448, 33.0032, 165.0227, 6202,   1014.9,   3.8266,  34.2673,2,-999.0000,9,     48.1,2,   117.29,2,    41.27,2,     0.00,2,     2.98,2,   -999.0,9,   -999.0,9,-999.0000,9,  -999.00,      513
  49UF20100615,  P13N,  2670,  1,     10,  21969,2,20100619,0448, 33.0032, 165.0227, 6202,   1014.9,   3.8266,  34.2673,2,-999.0000,9,     48.5,2,   116.95,2,    41.18,2,     0.00,2,     2.97,2,   -999.0,9,   -999.0,9,-999.0000,9,  -999.00,      513
  49UF20100615,  P13N,  2670,  1,      6,  21965,2,20100619,0448, 33.0032, 165.0227, 6202,   1217.4,   3.1885,  34.3716,2,-999.0000,9,     36.4,2,   135.96,2,    43.02,2,     0.00,2,     3.07,2,   -999.0,9,   -999.0,9,-999.0000,9,  -999.00,      507
  49UF20100615,  P13N,  2670,  1,      5,  21964,2,20100619,0448, 33.0032, 165.0227, 6202,   1217.4,   3.1885,  34.3716,2,-999.0000,9,     36.1,2,   135.72,2,    43.02,2,     0.00,2,     3.09,2,   -999.0,9,   -999.0,9,-999.0000,9,  -999.00,      507
  49UF20100615,  P13N,  2670,  1,      4,  21963,2,20100619,0448, 33.0032, 165.0227, 6202,   1417.3,   2.7508,  34.4480,2,-999.0000,9,     34.5,2,   148.71,2,    43.48,2,     0.00,2,     3.12,2,   -999.0,9,   -999.0,9,-999.0000,9,  -999.00,      502
  49UF20100615,  P13N,  2670,  1,      3,  21962,2,20100619,0448, 33.0032, 165.0227, 6202,   1620.9,   2.4310,  34.5117,2,-999.0000,9,     41.5,2,   156.88,2,    43.48,2,     0.00,2,     3.10,2,   -999.0,9,   -999.0,9,-999.0000,9,  -999.00,      457
  49UF20100615,  P13N,  2670,  1,      2,  21961,2,20100619,0448, 33.0032, 165.0227, 6202,   1823.6,   2.1937,  34.5490,2,-999.0000,9,     52.4,2,   161.41,2,    42.75,2,     0.00,2,     3.04,2,   -999.0,9,   -999.0,9,-999.0000,9,  -999.00,      452
  49UF20100615,  P13N,  2670,  1,      1,  21960,2,20100619,0448, 33.0032, 165.0227, 6202,   2025.1,   2.0183,  34.5845,2,-999.0000,9,     67.0,2,   164.31,2,    42.00,2,     0.00,2,     2.99,2,   -999.0,9,   -999.0,9,-999.0000,9,  -999.00,      448
  49UF20100615,  P13N,  2671,  1,     99,     99,2,20100619,1131, 31.9930, 164.9935, 5990,      0.0,  23.0397,  34.4191,2,-999.0000,9,    224.6,2,     2.26,2,     0.00,2,     0.00,2,     0.02,2,   -999.0,9,   -999.0,9,-999.0000,9,  -999.00,     1210
  49UF20100615,  P13N,  2671,  1,     33,  21993,2,20100619,1131, 31.9930, 164.9935, 5990,     10.1,  21.7898,  34.4785,2,-999.0000,9,    231.4,2,     1.99,2,     0.00,2,     0.00,2,     0.00,2,   -999.0,9,   -999.0,9,-999.0000,9,  -999.00,     1231
  49UF20100615,  P13N,  2671,  1,     32,  21992,2,20100619,1131, 31.9930, 164.9935, 5990,     25.0,  20.3246,  34.5109,2,-999.0000,9,    235.1,2,     2.05,2,     0.00,2,     0.00,2,     0.00,2,   -999.0,9,   -999.0,9,-999.0000,9,  -999.00,     1230
  49UF20100615,  P13N,  2671,  1,     31,  21991,2,20100619,1131, 31.9930, 164.9935, 5990,     51.0,  19.1596,  34.7217,2,-999.0000,9,    240.7,2,     2.26,2,     0.00,2,     0.00,2,     0.01,2,   -999.0,9,   -999.0,9,-999.0000,9,  -999.00,     1225
  49UF20100615,  P13N,  2671,  1,     30,  21990,2,20100619,1131, 31.9930, 164.9935, 5990,     76.3,  18.3163,  34.6854,2,-999.0000,9,    236.7,6,     2.36,6,     0.00,6,     0.01,6,     0.04,6,   -999.0,9,   -999.0,9,-999.0000,9,  -999.00,     1224
  49UF20100615,  P13N,  2671,  1,     29,  21989,2,20100619,1131, 31.9930, 164.9935, 5990,    101.2,  17.9596,  34.6942,2,-999.0000,9,    223.0,2,     3.24,2,     2.22,2,     0.07,2,     0.16,2,   -999.0,9,   -999.0,9,-999.0000,9,  -999.00,     1223
  49UF20100615,  P13N,  2671,  1,     28,  21988,2,20100619,1131, 31.9930, 164.9935, 5990,    126.8,  17.6997,  34.6879,2,-999.0000,9,    224.4,2,     3.33,2,     2.57,2,     0.02,2,     0.16,2,   -999.0,9,   -999.0,9,-999.0000,9,  -999.00,     1221
  49UF20100615,  P13N,  2671,  1,     24,  21984,2,20100619,1131, 31.9930, 164.9935, 5990,    151.5,  17.5442,  34.6718,2,-999.0000,9,    220.1,2,     3.81,2,     3.32,2,     0.02,2,     0.21,2,   -999.0,9,   -999.0,9,-999.0000,9,  -999.00,     1220
  49UF20100615,  P13N,  2671,  1,     23,  21983,2,20100619,1131, 31.9930, 164.9935, 5990,    202.3,  17.1960,  34.6692,2,-999.0000,9,    216.0,2,     4.81,2,     4.52,2,     0.01,2,     0.28,2,   -999.0,9,   -999.0,9,-999.0000,9,  -999.00,     1218
  49UF20100615,  P13N,  2671,  1,     22,  21982,2,20100619,1131, 31.9930, 164.9935, 5990,    252.4,  16.6742,  34.6526,2,-999.0000,9,    207.4,2,     6.40,2,     6.07,2,     0.01,2,     0.39,2,   -999.0,9,   -999.0,9,-999.0000,9,  -999.00,     1216
  49UF20100615,  P13N,  2671,  1,     21,  21981,2,20100619,1131, 31.9930, 164.9935, 5990,    303.9,  16.0357,  34.6156,2,-999.0000,9,    202.4,2,     8.49,2,     7.60,2,     0.01,2,     0.50,2,   -999.0,9,   -999.0,9,-999.0000,9,  -999.00,     1214
  49UF20100615,  P13N,  2671,  1,     20,  21980,2,20100619,1131, 31.9930, 164.9935, 5990,    404.9,  13.0138,  34.4336,2,-999.0000,9,    191.1,2,    18.09,2,    13.40,2,     0.01,2,     0.91,2,   -999.0,9,   -999.0,9,-999.0000,9,  -999.00,     1211
  49UF20100615,  P13N,  2671,  1,     19,  21978,2,20100619,1131, 31.9930, 164.9935, 5990,    504.4,  10.3526,  34.2435,2,-999.0000,9,    186.6,2,    27.39,2,    18.07,2,     0.00,2,     1.27,2,   -999.0,9,   -999.0,9,-999.0000,9,  -999.00,     1208
  49UF20100615,  P13N,  2671,  1,     15,  21974,2,20100619,1131, 31.9930, 164.9935, 5990,    605.7,   7.5360,  34.0442,2,-999.0000,9,    173.9,2,    44.13,2,    24.36,2,     0.00,2,     1.75,2,   -999.0,9,   -999.0,9,-999.0000,9,  -999.00,     1204
  49UF20100615,  P13N,  2671,  1,     14,  21973,3,20100619,1131, 31.9930, 164.9935, 5990,    706.5,   5.7236,  34.0131,2,-999.0000,9,    126.6,2,    66.25,2,    31.84,2,     0.00,2,     2.30,2,   -999.0,9,   -999.0,9,-999.0000,9,  -999.00,     1202
  49UF20100615,  P13N,  2671,  1,     13,  21972,2,20100619,1131, 31.9930, 164.9935, 5990,    807.2,   4.8621,  34.0919,2,-999.0000,9,     85.2,6,    86.27,6,    36.95,6,     0.00,6,     2.65,6,   -999.0,9,   -999.0,9,-999.0000,9,  -999.00,     1159
  49UF20100615,  P13N,  2671,  1,     12,  21971,3,20100619,1131, 31.9930, 164.9935, 5990,    907.6,   4.2671,  34.1840,2,-999.0000,9,     57.7,2,   103.50,2,    39.92,2,     0.00,2,     2.86,2,   -999.0,9,   -999.0,9,-999.0000,9,  -999.00,     1156
  49UF20100615,  P13N,  2671,  1,     11,  21970,2,20100619,1131, 31.9930, 164.9935, 5990,   1009.7,   3.8112,  34.2640,2,-999.0000,9,     43.9,2,   116.78,2,    41.58,2,     0.00,2,     2.97,2,   -999.0,9,   -999.0,9,-999.0000,9,  -999.00,     1153
  49UF20100615,  P13N,  2671,  1,     10,  21969,2,20100619,1131, 31.9930, 164.9935, 5990,   1211.8,   3.1638,  34.3784,2,-999.0000,9,     34.8,2,   136.44,2,    43.05,2,     0.00,2,     3.08,2,   -999.0,9,   -999.0,9,-999.0000,9,  -999.00,     1149
  49UF20100615,  P13N,  2671,  1,      6,  21965,2,20100619,1131, 31.9930, 164.9935, 5990,   1414.3,   2.7398,  34.4613,2,-999.0000,9,     37.7,3,   148.60,2,    43.34,2,     0.00,2,     3.10,2,   -999.0,9,   -999.0,9,-999.0000,9,  -999.00,     1145
  49UF20100615,  P13N,  2671,  1,      5,  21964,2,20100619,1131, 31.9930, 164.9935, 5990,   1414.3,   2.7398,  34.4613,2,-999.0000,9,     35.7,2,   147.34,2,    43.06,2,     0.00,2,     3.08,2,   -999.0,9,   -999.0,9,-999.0000,9,  -999.00,     1145
  49UF20100615,  P13N,  2671,  1,      4,  21963,2,20100619,1131, 31.9930, 164.9935, 5990,   1617.0,   2.4218,  34.5196,2,-999.0000,9,     47.5,3,   155.91,2,    43.06,2,     0.00,2,     3.04,2,   -999.0,9,   -999.0,9,-999.0000,9,  -999.00,     1140
  49UF20100615,  P13N,  2671,  1,      3,  21962,2,20100619,1131, 31.9930, 164.9935, 5990,   1617.0,   2.4218,  34.5196,2,-999.0000,9,     45.3,2,   155.78,2,    42.83,2,     0.00,2,     3.05,2,   -999.0,9,   -999.0,9,-999.0000,9,  -999.00,     1140
  49UF20100615,  P13N,  2671,  1,      2,  21961,2,20100619,1131, 31.9930, 164.9935, 5990,   1820.3,   2.1897,  34.5592,2,-999.0000,9,     56.2,2,   160.83,2,    42.36,2,     0.00,2,     3.00,2,   -999.0,9,   -999.0,9,-999.0000,9,  -999.00,     1136
  49UF20100615,  P13N,  2671,  1,      1,  21960,3,20100619,1131, 31.9930, 164.9935, 5990,   2023.0,   1.9762,  34.5900,2,-999.0000,9,     70.3,2,   164.10,2,    41.57,2,     0.00,2,     2.93,2,   -999.0,9,   -999.0,9,-999.0000,9,  -999.00,     1131
  49UF20100615,  P13N,  2672,  1,     99,     99,2,20100619,1820, 31.0130, 165.0078, 6049,      0.0,  24.6749,  34.9501,2,-999.0000,9,    214.2,2,     1.87,2,     0.00,2,     0.00,2,     0.02,2,   -999.0,9,   -999.0,9,-999.0000,9,  -999.00,     1917
  49UF20100615,  P13N,  2672,  1,     33,  21993,2,20100619,1820, 31.0130, 165.0078, 6049,     11.8,  22.9169,  35.0222,2,  35.0234,2,    221.8,2,     1.75,2,     0.00,2,     0.00,2,     0.02,2,   -999.0,9,   -999.0,9,-999.0000,9,  -999.00,     1927
  49UF20100615,  P13N,  2672,  1,     32,  21992,2,20100619,1820, 31.0130, 165.0078, 6049,     26.8,  22.2335,  35.0142,2,-999.0000,9,    225.7,2,     1.80,2,     0.01,2,     0.01,2,     0.02,2,   -999.0,9,   -999.0,9,-999.0000,9,  -999.00,     1925
  49UF20100615,  P13N,  2672,  1,     31,  21991,2,20100619,1820, 31.0130, 165.0078, 6049,     51.8,  20.5818,  34.9597,2,-999.0000,9,    233.7,2,     1.94,2,     0.00,2,     0.00,2,     0.02,2,   -999.0,9,   -999.0,9,-999.0000,9,  -999.00,     1920
  49UF20100615,  P13N,  2672,  1,     30,  21990,2,20100619,1820, 31.0130, 165.0078, 6049,     76.9,  19.4546,  34.8282,2,-999.0000,9,    232.4,2,     2.12,2,     0.00,2,     0.00,2,     0.04,2,   -999.0,9,   -999.0,9,-999.0000,9,  -999.00,     1919
  49UF20100615,  P13N,  2672,  1,     29,  21989,2,20100619,1820, 31.0130, 165.0078, 6049,    102.2,  18.7977,  34.7496,2,  34.7420,4,    229.1,6,     2.30,2,     0.26,6,     0.03,6,     0.06,6,   -999.0,9,   -999.0,9,-999.0000,9,  -999.00,     1917
  49UF20100615,  P13N,  2672,  1,     28,  21988,2,20100619,1820, 31.0130, 165.0078, 6049,    127.4,  18.0918,  34.6948,2,-999.0000,9,    214.9,2,     3.17,2,     2.76,2,     0.03,2,     0.20,2,   -999.0,9,   -999.0,9,-999.0000,9,  -999.00,     1916
  49UF20100615,  P13N,  2672,  1,     24,  21984,2,20100619,1820, 31.0130, 165.0078, 6049,    153.1,  17.7004,  34.6810,2,-999.0000,9,    209.8,2,     3.53,2,     3.74,2,     0.01,2,     0.25,2,   -999.0,9,   -999.0,9,-999.0000,9,  -999.00,     1914
  49UF20100615,  P13N,  2672,  1,     23,  21983,2,20100619,1820, 31.0130, 165.0078, 6049,    203.6,  17.1977,  34.6711,2,  34.6703,6,    205.6,2,     4.40,2,     4.88,2,     0.00,2,     0.32,2,   -999.0,9,   -999.0,9,-999.0000,9,  -999.00,     1912
  49UF20100615,  P13N,  2672,  1,     22,  21982,2,20100619,1820, 31.0130, 165.0078, 6049,    253.1,  16.4577,  34.6329,2,-999.0000,9,    205.7,2,     5.90,2,     6.19,2,     0.01,2,     0.41,2,   -999.0,9,   -999.0,9,-999.0000,9,  -999.00,     1910
  49UF20100615,  P13N,  2672,  1,     21,  21981,2,20100619,1820, 31.0130, 165.0078, 6049,    303.1,  15.6368,  34.5906,2,-999.0000,9,    199.8,2,     8.34,2,     8.16,2,     0.00,2,     0.55,2,   -999.0,9,   -999.0,9,-999.0000,9,  -999.00,     1908
  49UF20100615,  P13N,  2672,  1,     20,  21980,2,20100619,1820, 31.0130, 165.0078, 6049,    403.9,  13.3351,  34.4535,2,  34.4534,6,    192.4,2,    15.62,2,    12.62,2,     0.00,2,     0.86,2,   -999.0,9,   -999.0,9,-999.0000,9,  -999.00,     1905
  49UF20100615,  P13N,  2672,  1,     19,  21978,2,20100619,1820, 31.0130, 165.0078, 6049,    507.2,  10.6612,  34.2662,2,-999.0000,9,    189.7,2,    24.85,2,    17.30,2,     0.00,2,     1.20,2,   -999.0,9,   -999.0,9,-999.0000,9,  -999.00,     1901
  49UF20100615,  P13N,  2672,  1,     15,  21974,2,20100619,1820, 31.0130, 165.0078, 6049,    609.0,   7.5725,  34.0488,2,  34.0487,2,    169.8,2,    43.38,2,    24.70,2,     0.00,2,     1.77,2,   -999.0,9,   -999.0,9,-999.0000,9,  -999.00,     1857
  49UF20100615,  P13N,  2672,  1,     14,  21973,2,20100619,1820, 31.0130, 165.0078, 6049,    708.5,   5.5726,  34.0108,2,-999.0000,9,    127.1,2,    68.20,2,    32.20,2,     0.00,2,     2.33,2,   -999.0,9,   -999.0,9,-999.0000,9,  -999.00,     1854
  49UF20100615,  P13N,  2672,  1,     13,  21972,2,20100619,1820, 31.0130, 165.0078, 6049,    809.8,   4.6232,  34.1068,2,  34.1052,2,     81.8,2,    91.29,2,    37.51,2,     0.00,2,     2.70,2,   -999.0,9,   -999.0,9,-999.0000,9,  -999.00,     1851
  49UF20100615,  P13N,  2672,  1,     12,  21971,2,20100619,1820, 31.0130, 165.0078, 6049,    911.8,   4.1029,  34.2027,2,-999.0000,9,     55.3,6,   107.97,6,    40.25,6,     0.00,6,     2.90,6,   -999.0,9,   -999.0,9,-999.0000,9,  -999.00,     1848
  49UF20100615,  P13N,  2672,  1,     11,  21970,2,20100619,1820, 31.0130, 165.0078, 6049,   1014.0,   3.7293,  34.2809,2,  34.2792,2,     40.7,2,   119.36,2,    41.93,2,     0.00,2,     3.01,2,   -999.0,9,   -999.0,9,-999.0000,9,  -999.00,     1845
  49UF20100615,  P13N,  2672,  1,     10,  21969,2,20100619,1820, 31.0130, 165.0078, 6049,   1215.2,   3.1409,  34.3906,2,  34.3890,2,     32.8,2,   136.37,2,    43.13,2,     0.00,2,     3.10,2,   -999.0,9,   -999.0,9,-999.0000,9,  -999.00,     1839
  49UF20100615,  P13N,  2672,  1,      6,  21965,2,20100619,1820, 31.0130, 165.0078, 6049,   1418.8,   2.6898,  34.4717,2,  34.4705,2,     35.3,2,   149.04,2,    43.30,2,     0.00,2,     3.11,2,   -999.0,9,   -999.0,9,-999.0000,9,  -999.00,     1835
  49UF20100615,  P13N,  2672,  1,      5,  21964,2,20100619,1820, 31.0130, 165.0078, 6049,   1620.0,   2.3601,  34.5283,2,  34.5277,2,     45.5,2,   156.46,2,    43.03,2,     0.00,2,     3.06,2,   -999.0,9,   -999.0,9,-999.0000,9,  -999.00,     1830
  49UF20100615,  P13N,  2672,  1,      4,  21963,2,20100619,1820, 31.0130, 165.0078, 6049,   1823.7,   2.1258,  34.5632,2,-999.0000,9,     57.3,2,   162.27,2,    42.28,2,     0.00,2,     3.02,2,   -999.0,9,   -999.0,9,-999.0000,9,  -999.00,     1825
  49UF20100615,  P13N,  2672,  1,      3,  21962,2,20100619,1820, 31.0130, 165.0078, 6049,   1823.7,   2.1258,  34.5632,2,  34.5633,2,     57.2,2,   162.69,2,    42.32,2,     0.00,2,     2.98,2,   -999.0,9,   -999.0,9,-999.0000,9,  -999.00,     1825
  49UF20100615,  P13N,  2672,  1,      2,  21961,2,20100619,1820, 31.0130, 165.0078, 6049,   2027.1,   1.9656,  34.5979,2,-999.0000,9,     76.6,2,   161.08,2,    41.17,2,     0.00,2,     2.92,2,   -999.0,9,   -999.0,9,-999.0000,9,  -999.00,     1820
  49UF20100615,  P13N,  2672,  1,      1,  21960,2,20100619,1820, 31.0130, 165.0078, 6049,   2027.1,   1.9656,  34.5979,2,  34.5969,2,     76.4,2,   161.72,2,    41.32,2,     0.00,2,     2.91,2,   -999.0,9,   -999.0,9,-999.0000,9,  -999.00,     1820