BOTTLE,20190925PRINUNIVRMK
EXPOCODE,SECT_ID,STNNBR,CASTNO,SAMPNO,BTLNBR,BTLNBR_FLAG_W,DATE,TIME,LATITUDE,LONGITUDE,DEPTH,CTDPRS,CTDTMP,CTDSAL,CTDSAL_FLAG_W,SALNTY,SALNTY_FLAG_W,OXYGEN,OXYGEN_FLAG_W,SILCAT,SILCAT_FLAG_W,NITRAT,NITRAT_FLAG_W,NITRIT,NITRIT_FLAG_W,PHSPHT,PHSPHT_FLAG_W,TCARBN,TCARBN_FLAG_W,ALKALI,ALKALI_FLAG_W,PH_TOT,PH_TOT_FLAG_W,PH_TMP,BTL_TIME
,,,,,,,,,,,METERS,DBAR,ITS-90,PSS-78,,PSS-78,,UMOL/KG,,UMOL/KG,,UMOL/KG,,UMOL/KG,,UMOL/KG,,UMOL/KG,,UMOL/KG,,,,DEG C,
  49UF20100615,  P13N,  2679,  1,     99,     99,2,20100621,2012, 24.0028, 164.9815, 6046,      0.0,  27.9772,  35.4231,2,-999.0000,9,    194.5,4,     0.81,2,     0.00,2,     0.00,2,     0.00,2,   -999.0,9,   -999.0,9,-999.0000,9,  -999.00,     2100
  49UF20100615,  P13N,  2679,  1,     33,  21993,2,20100621,2012, 24.0028, 164.9815, 6046,     12.1,  27.9752,  35.4221,2,-999.0000,9,    201.8,2,     1.07,6,     0.03,6,     0.00,6,     0.00,6,   -999.0,9,   -999.0,9,-999.0000,9,  -999.00,     2120
  49UF20100615,  P13N,  2679,  1,     32,  21992,2,20100621,2012, 24.0028, 164.9815, 6046,     26.5,  27.9617,  35.4177,2,-999.0000,9,    203.0,2,     0.95,2,     0.00,2,     0.00,2,     0.00,2,   -999.0,9,   -999.0,9,-999.0000,9,  -999.00,     2119
  49UF20100615,  P13N,  2679,  1,     31,  21991,2,20100621,2012, 24.0028, 164.9815, 6046,     52.7,  25.4222,  35.1834,2,-999.0000,9,    217.1,2,     1.11,2,     0.01,2,     0.00,2,     0.00,2,   -999.0,9,   -999.0,9,-999.0000,9,  -999.00,     2117
  49UF20100615,  P13N,  2679,  1,     30,  21990,2,20100621,2012, 24.0028, 164.9815, 6046,     76.2,  24.6351,  35.1606,2,-999.0000,9,    216.8,2,     1.17,2,     0.00,2,     0.00,2,     0.00,2,   -999.0,9,   -999.0,9,-999.0000,9,  -999.00,     2115
  49UF20100615,  P13N,  2679,  1,     29,  21989,2,20100621,2012, 24.0028, 164.9815, 6046,    102.5,  23.9180,  35.2308,2,-999.0000,9,    212.1,2,     1.14,2,     0.00,2,     0.00,2,     0.00,2,   -999.0,9,   -999.0,9,-999.0000,9,  -999.00,     2111
  49UF20100615,  P13N,  2679,  1,     28,  21988,2,20100621,2012, 24.0028, 164.9815, 6046,    127.3,  22.5165,  35.1204,2,-999.0000,9,    205.3,2,     1.48,2,     0.00,2,     0.00,2,     0.01,2,   -999.0,9,   -999.0,9,-999.0000,9,  -999.00,     2109
  49UF20100615,  P13N,  2679,  1,     24,  21984,2,20100621,2012, 24.0028, 164.9815, 6046,    153.1,  21.5350,  35.1229,2,-999.0000,9,    209.5,2,     1.65,2,     0.08,2,     0.14,2,     0.01,2,   -999.0,9,   -999.0,9,-999.0000,9,  -999.00,     2108
  49UF20100615,  P13N,  2679,  1,     23,  21983,2,20100621,2012, 24.0028, 164.9815, 6046,    204.3,  18.0921,  34.7649,2,-999.0000,9,    195.0,2,     3.58,2,     3.86,2,     0.00,2,     0.26,2,   -999.0,9,   -999.0,9,-999.0000,9,  -999.00,     2106
  49UF20100615,  P13N,  2679,  1,     22,  21982,2,20100621,2012, 24.0028, 164.9815, 6046,    253.0,  16.3790,  34.6516,2,-999.0000,9,    198.6,2,     5.67,2,     6.55,2,     0.00,2,     0.42,2,   -999.0,9,   -999.0,9,-999.0000,9,  -999.00,     2104
  49UF20100615,  P13N,  2679,  1,     21,  21981,2,20100621,2012, 24.0028, 164.9815, 6046,    302.3,  15.0580,  34.5604,2,-999.0000,9,    199.8,2,     8.04,2,     8.49,2,     0.00,2,     0.55,2,   -999.0,9,   -999.0,9,-999.0000,9,  -999.00,     2102
  49UF20100615,  P13N,  2679,  1,     20,  21980,2,20100621,2012, 24.0028, 164.9815, 6046,    403.9,  12.3873,  34.3670,2,-999.0000,9,    199.0,2,    14.61,2,    12.96,2,     0.00,2,     0.88,2,   -999.0,9,   -999.0,9,-999.0000,9,  -999.00,     2058
  49UF20100615,  P13N,  2679,  1,     19,  21978,2,20100621,2012, 24.0028, 164.9815, 6046,    505.0,   9.3565,  34.1569,2,-999.0000,9,    179.8,6,    28.92,6,    20.36,6,     0.00,6,     1.41,6,   -999.0,9,   -999.0,9,-999.0000,9,  -999.00,     2055
  49UF20100615,  P13N,  2679,  1,     15,  21974,2,20100621,2012, 24.0028, 164.9815, 6046,    606.9,   7.0392,  34.0632,2,-999.0000,9,    135.8,2,    51.15,2,    28.74,2,     0.00,2,     2.03,2,   -999.0,9,   -999.0,9,-999.0000,9,  -999.00,     2052
  49UF20100615,  P13N,  2679,  1,     14,  21973,2,20100621,2012, 24.0028, 164.9815, 6046,    706.9,   5.4478,  34.1238,2,-999.0000,9,     79.1,2,    77.76,2,    36.47,2,     0.00,2,     2.61,2,   -999.0,9,   -999.0,9,-999.0000,9,  -999.00,     2048
  49UF20100615,  P13N,  2679,  1,     13,  21972,2,20100621,2012, 24.0028, 164.9815, 6046,    808.3,   4.6686,  34.2392,2,-999.0000,9,     53.0,2,    95.72,2,    40.04,2,     0.00,2,     2.88,2,   -999.0,9,   -999.0,9,-999.0000,9,  -999.00,     2045
  49UF20100615,  P13N,  2679,  1,     12,  21971,2,20100621,2012, 24.0028, 164.9815, 6046,    808.3,   4.6686,  34.2392,2,-999.0000,9,     52.3,2,    96.07,2,    39.94,2,     0.00,2,     2.86,2,   -999.0,9,   -999.0,9,-999.0000,9,  -999.00,     2045
  49UF20100615,  P13N,  2679,  1,     11,  21970,2,20100621,2012, 24.0028, 164.9815, 6046,    909.6,   4.2162,  34.3394,2,-999.0000,9,     46.5,2,   107.45,2,    41.21,2,     0.00,2,     2.95,2,   -999.0,9,   -999.0,9,-999.0000,9,  -999.00,     2042
  49UF20100615,  P13N,  2679,  1,     10,  21969,2,20100621,2012, 24.0028, 164.9815, 6046,    909.6,   4.2162,  34.3394,2,-999.0000,9,     47.2,2,   107.31,2,    41.18,2,     0.00,2,     2.95,2,   -999.0,9,   -999.0,9,-999.0000,9,  -999.00,     2042
  49UF20100615,  P13N,  2679,  1,      6,  21965,2,20100621,2012, 24.0028, 164.9815, 6046,   1011.3,   3.8408,  34.4049,2,-999.0000,9,     49.0,2,   116.15,2,    41.56,2,     0.00,2,     2.97,2,   -999.0,9,   -999.0,9,-999.0000,9,  -999.00,     2038
  49UF20100615,  P13N,  2679,  1,      5,  21964,2,20100621,2012, 24.0028, 164.9815, 6046,   1212.6,   3.3023,  34.4932,2,-999.0000,9,     63.5,2,   126.62,2,    41.00,2,     0.00,2,     2.91,2,   -999.0,9,   -999.0,9,-999.0000,9,  -999.00,     2033
  49UF20100615,  P13N,  2679,  1,      4,  21963,2,20100621,2012, 24.0028, 164.9815, 6046,   1417.7,   2.8401,  34.5389,2,-999.0000,9,     74.7,2,   135.39,2,    40.73,2,     0.00,2,     2.86,2,   -999.0,9,   -999.0,9,-999.0000,9,  -999.00,     2028
  49UF20100615,  P13N,  2679,  1,      3,  21962,2,20100621,2012, 24.0028, 164.9815, 6046,   1619.1,   2.5089,  34.5688,2,-999.0000,9,     84.1,2,   141.17,2,    40.13,2,     0.00,2,     2.84,2,   -999.0,9,   -999.0,9,-999.0000,9,  -999.00,     2022
  49UF20100615,  P13N,  2679,  1,      2,  21961,2,20100621,2012, 24.0028, 164.9815, 6046,   1822.8,   2.2457,  34.5924,2,-999.0000,9,     91.8,2,   147.02,2,    39.89,2,     0.00,2,     2.81,2,   -999.0,9,   -999.0,9,-999.0000,9,  -999.00,     2017
  49UF20100615,  P13N,  2679,  1,      1,  21960,2,20100621,2012, 24.0028, 164.9815, 6046,   2024.4,   2.0349,  34.6140,2,-999.0000,9,    101.4,2,   149.68,2,    39.40,2,     0.00,2,     2.77,2,   -999.0,9,   -999.0,9,-999.0000,9,  -999.00,     2012
  49UF20100615,  P13N,  2680,  1,     99,     99,2,20100622,0300, 22.9990, 164.9860, 6042,      0.0,  28.2985,  35.4219,2,-999.0000,9,    201.2,2,     0.92,2,     0.00,2,     0.00,2,     0.03,2,   -999.0,9,   -999.0,9,-999.0000,9,  -999.00,      345
  49UF20100615,  P13N,  2680,  1,     33,  21993,2,20100622,0300, 22.9990, 164.9860, 6042,     11.8,  28.2065,  35.4186,2,-999.0000,9,    201.8,2,     0.99,2,     0.01,2,     0.00,2,     0.04,2,   -999.0,9,   -999.0,9,-999.0000,9,  -999.00,      401
  49UF20100615,  P13N,  2680,  1,     32,  21992,2,20100622,0300, 22.9990, 164.9860, 6042,     26.3,  28.1009,  35.4142,2,-999.0000,9,    202.3,6,     0.79,6,     0.04,6,     0.00,2,     0.03,6,   -999.0,9,   -999.0,9,-999.0000,9,  -999.00,      359
  49UF20100615,  P13N,  2680,  1,     31,  21991,2,20100622,0300, 22.9990, 164.9860, 6042,     52.3,  26.0654,  35.2322,2,-999.0000,9,    214.3,2,     1.10,2,     0.00,2,     0.00,2,     0.02,2,   -999.0,9,   -999.0,9,-999.0000,9,  -999.00,      355
  49UF20100615,  P13N,  2680,  1,     30,  21990,2,20100622,0300, 22.9990, 164.9860, 6042,     75.5,  25.1972,  35.1685,2,-999.0000,9,    217.0,2,     1.19,2,     0.01,2,     0.00,2,     0.02,2,   -999.0,9,   -999.0,9,-999.0000,9,  -999.00,      354
  49UF20100615,  P13N,  2680,  1,     29,  21989,2,20100622,0300, 22.9990, 164.9860, 6042,     99.7,  23.8323,  35.0575,2,-999.0000,9,    220.3,2,     1.32,2,     0.00,2,     0.00,2,     0.02,2,   -999.0,9,   -999.0,9,-999.0000,9,  -999.00,      353
  49UF20100615,  P13N,  2680,  1,     28,  21988,2,20100622,0300, 22.9990, 164.9860, 6042,    124.9,  22.4839,  35.0427,2,-999.0000,9,    211.7,2,     1.50,2,     0.02,2,     0.00,2,     0.02,2,   -999.0,9,   -999.0,9,-999.0000,9,  -999.00,      351
  49UF20100615,  P13N,  2680,  1,     24,  21984,2,20100622,0300, 22.9990, 164.9860, 6042,    151.9,  21.0103,  34.9775,2,-999.0000,9,    202.1,2,     2.02,2,     0.39,2,     0.08,2,     0.07,2,   -999.0,9,   -999.0,9,-999.0000,9,  -999.00,      350
  49UF20100615,  P13N,  2680,  1,     23,  21983,2,20100622,0300, 22.9990, 164.9860, 6042,    201.3,  19.0297,  34.8646,2,-999.0000,9,    196.9,2,     2.90,2,     2.38,2,     0.01,2,     0.20,2,   -999.0,9,   -999.0,9,-999.0000,9,  -999.00,      348
  49UF20100615,  P13N,  2680,  1,     22,  21982,2,20100622,0300, 22.9990, 164.9860, 6042,    253.0,  17.1229,  34.7000,2,-999.0000,9,    198.7,2,     4.52,2,     5.17,2,     0.00,2,     0.35,2,   -999.0,9,   -999.0,9,-999.0000,9,  -999.00,      347
  49UF20100615,  P13N,  2680,  1,     21,  21981,2,20100622,0300, 22.9990, 164.9860, 6042,    302.1,  15.8729,  34.6087,2,-999.0000,9,    200.4,2,     6.48,2,     7.16,2,     0.00,2,     0.49,2,   -999.0,9,   -999.0,9,-999.0000,9,  -999.00,      345
  49UF20100615,  P13N,  2680,  1,     20,  21980,2,20100622,0300, 22.9990, 164.9860, 6042,    404.1,  12.7447,  34.3880,2,-999.0000,9,    200.7,2,    13.30,2,    12.12,2,     0.00,2,     0.85,2,   -999.0,9,   -999.0,9,-999.0000,9,  -999.00,      342
  49UF20100615,  P13N,  2680,  1,     19,  21978,2,20100622,0300, 22.9990, 164.9860, 6042,    504.5,   9.5615,  34.1663,2,-999.0000,9,    169.0,2,    28.35,2,    20.80,2,     0.00,2,     1.47,2,   -999.0,9,   -999.0,9,-999.0000,9,  -999.00,      339
  49UF20100615,  P13N,  2680,  1,     15,  21974,2,20100622,0300, 22.9990, 164.9860, 6042,    606.5,   7.4604,  34.1028,2,-999.0000,9,    121.9,6,    48.35,6,    29.13,6,     0.00,6,     2.09,6,   -999.0,9,   -999.0,9,-999.0000,9,  -999.00,      336
  49UF20100615,  P13N,  2680,  1,     14,  21973,2,20100622,0300, 22.9990, 164.9860, 6042,    707.6,   5.8994,  34.1189,2,-999.0000,9,     84.3,2,    70.67,2,    35.28,2,     0.00,2,     2.56,2,   -999.0,9,   -999.0,9,-999.0000,9,  -999.00,      333
  49UF20100615,  P13N,  2680,  1,     13,  21972,2,20100622,0300, 22.9990, 164.9860, 6042,    808.3,   4.9449,  34.2152,2,-999.0000,9,     55.9,2,    90.24,2,    39.37,2,     0.00,2,     2.85,2,   -999.0,9,   -999.0,9,-999.0000,9,  -999.00,      330
  49UF20100615,  P13N,  2680,  1,     12,  21971,2,20100622,0300, 22.9990, 164.9860, 6042,    909.0,   4.4339,  34.3314,2,-999.0000,9,     47.2,2,   102.74,2,    41.01,2,     0.00,2,     2.97,2,   -999.0,9,   -999.0,9,-999.0000,9,  -999.00,      327
  49UF20100615,  P13N,  2680,  1,     11,  21970,2,20100622,0300, 22.9990, 164.9860, 6042,   1008.8,   3.9697,  34.4207,2,-999.0000,9,     51.8,2,   112.57,2,    41.29,2,     0.00,2,     2.97,2,   -999.0,9,   -999.0,9,-999.0000,9,  -999.00,      324
  49UF20100615,  P13N,  2680,  1,     10,  21969,2,20100622,0300, 22.9990, 164.9860, 6042,   1008.8,   3.9697,  34.4207,2,-999.0000,9,     52.4,2,   112.91,2,    41.18,2,     0.00,2,     2.98,2,   -999.0,9,   -999.0,9,-999.0000,9,  -999.00,      324
  49UF20100615,  P13N,  2680,  1,      6,  21965,2,20100622,0300, 22.9990, 164.9860, 6042,   1212.4,   3.3513,  34.4974,2,-999.0000,9,     64.4,2,   125.56,2,    41.01,2,     0.00,2,     2.94,2,   -999.0,9,   -999.0,9,-999.0000,9,  -999.00,      319
  49UF20100615,  P13N,  2680,  1,      5,  21964,2,20100622,0300, 22.9990, 164.9860, 6042,   1212.4,   3.3513,  34.4974,2,-999.0000,9,     63.8,2,   126.28,2,    40.98,2,     0.00,2,     2.90,2,   -999.0,9,   -999.0,9,-999.0000,9,  -999.00,      319
  49UF20100615,  P13N,  2680,  1,      4,  21963,2,20100622,0300, 22.9990, 164.9860, 6042,   1415.8,   2.8745,  34.5387,2,-999.0000,9,     74.1,2,   134.54,2,    40.67,2,     0.00,2,     2.91,2,   -999.0,9,   -999.0,9,-999.0000,9,  -999.00,      314
  49UF20100615,  P13N,  2680,  1,      3,  21962,2,20100622,0300, 22.9990, 164.9860, 6042,   1617.7,   2.4914,  34.5710,2,-999.0000,9,     84.3,2,   141.05,2,    40.38,2,     0.00,2,     2.86,2,   -999.0,9,   -999.0,9,-999.0000,9,  -999.00,      309
  49UF20100615,  P13N,  2680,  1,      2,  21961,2,20100622,0300, 22.9990, 164.9860, 6042,   1821.2,   2.2106,  34.5977,2,-999.0000,9,     93.8,2,   146.34,2,    39.78,2,     0.00,2,     2.75,2,   -999.0,9,   -999.0,9,-999.0000,9,  -999.00,      304
  49UF20100615,  P13N,  2680,  1,      1,  21960,2,20100622,0300, 22.9990, 164.9860, 6042,   2021.2,   2.0185,  34.6170,2,-999.0000,9,    102.3,2,   148.83,2,    39.48,2,     0.00,2,     2.78,2,   -999.0,9,   -999.0,9,-999.0000,9,  -999.00,      300
  49UF20100615,  P13N,  2681,  1,     99,     99,2,20100622,0953, 21.9953, 164.9827, 5442,      0.0,  27.9834,  35.4333,2,-999.0000,9,    202.3,2,     0.99,2,     0.00,2,     0.00,2,     0.00,2,   -999.0,9,   -999.0,9,-999.0000,9,  -999.00,     1040
  49UF20100615,  P13N,  2681,  1,     33,  21993,2,20100622,0953, 21.9953, 164.9827, 5442,     11.8,  27.9856,  35.4327,2,  35.4308,2,    203.2,2,     0.95,2,     0.00,2,     0.00,2,     0.00,2,   -999.0,9,   -999.0,9,-999.0000,9,  -999.00,     1056
  49UF20100615,  P13N,  2681,  1,     32,  21992,2,20100622,0953, 21.9953, 164.9827, 5442,     26.8,  27.9681,  35.4328,2,-999.0000,9,    202.6,2,     0.85,2,     0.00,2,     0.00,2,     0.00,2,   -999.0,9,   -999.0,9,-999.0000,9,  -999.00,     1055
  49UF20100615,  P13N,  2681,  1,     31,  21991,2,20100622,0953, 21.9953, 164.9827, 5442,     51.5,  26.4061,  35.4126,2,-999.0000,9,    214.6,6,     0.81,6,     0.00,6,     0.00,6,     0.00,6,   -999.0,9,   -999.0,9,-999.0000,9,  -999.00,     1053
  49UF20100615,  P13N,  2681,  1,     30,  21990,2,20100622,0953, 21.9953, 164.9827, 5442,     76.8,  25.4585,  35.3631,2,-999.0000,9,    216.9,2,     1.03,2,     0.00,2,     0.00,2,     0.00,2,   -999.0,9,   -999.0,9,-999.0000,9,  -999.00,     1051
  49UF20100615,  P13N,  2681,  1,     29,  21989,2,20100622,0953, 21.9953, 164.9827, 5442,    103.0,  24.4522,  35.3727,2,  35.3686,2,    214.1,2,     1.09,2,     0.00,2,     0.00,2,     0.00,2,   -999.0,9,   -999.0,9,-999.0000,9,  -999.00,     1047
  49UF20100615,  P13N,  2681,  1,     28,  21988,2,20100622,0953, 21.9953, 164.9827, 5442,    127.3,  23.4589,  35.3018,2,-999.0000,9,    208.7,2,     1.29,2,     0.00,2,     0.00,2,     0.00,2,   -999.0,9,   -999.0,9,-999.0000,9,  -999.00,     1046
  49UF20100615,  P13N,  2681,  1,     24,  21984,2,20100622,0953, 21.9953, 164.9827, 5442,    152.8,  22.4979,  35.2314,2,-999.0000,9,    208.7,2,     1.51,2,    -0.06,2,     0.11,2,     0.00,2,   -999.0,9,   -999.0,9,-999.0000,9,  -999.00,     1044
  49UF20100615,  P13N,  2681,  1,     23,  21983,2,20100622,0953, 21.9953, 164.9827, 5442,    203.3,  20.1144,  34.9850,2,  34.9793,4,    202.4,2,     2.01,2,     0.94,2,     0.02,2,     0.07,2,   -999.0,9,   -999.0,9,-999.0000,9,  -999.00,     1043
  49UF20100615,  P13N,  2681,  1,     22,  21982,2,20100622,0953, 21.9953, 164.9827, 5442,    253.4,  17.5442,  34.7279,2,-999.0000,9,    200.3,2,     4.00,2,     4.35,2,     0.00,2,     0.28,2,   -999.0,9,   -999.0,9,-999.0000,9,  -999.00,     1041
  49UF20100615,  P13N,  2681,  1,     21,  21981,2,20100622,0953, 21.9953, 164.9827, 5442,    303.9,  15.7065,  34.6019,2,-999.0000,9,    198.7,2,     6.91,2,     7.50,2,     0.00,2,     0.49,2,   -999.0,9,   -999.0,9,-999.0000,9,  -999.00,     1039
  49UF20100615,  P13N,  2681,  1,     20,  21980,2,20100622,0953, 21.9953, 164.9827, 5442,    403.9,  12.3844,  34.3627,2,  34.3645,2,    201.6,2,    14.53,2,    12.89,2,     0.00,2,     0.88,2,   -999.0,9,   -999.0,9,-999.0000,9,  -999.00,     1036
  49UF20100615,  P13N,  2681,  1,     19,  21978,2,20100622,0953, 21.9953, 164.9827, 5442,    506.0,   9.4731,  34.1646,2,-999.0000,9,    175.9,2,    28.38,2,    20.41,2,     0.00,2,     1.41,2,   -999.0,9,   -999.0,9,-999.0000,9,  -999.00,     1033
  49UF20100615,  P13N,  2681,  1,     15,  21974,2,20100622,0953, 21.9953, 164.9827, 5442,    606.6,   7.0939,  34.0921,2,  34.0928,2,    117.9,2,    52.07,2,    30.09,2,     0.00,2,     2.14,2,   -999.0,9,   -999.0,9,-999.0000,9,  -999.00,     1030
  49UF20100615,  P13N,  2681,  1,     14,  21973,2,20100622,0953, 21.9953, 164.9827, 5442,    707.2,   5.7479,  34.1633,2,-999.0000,9,     67.5,6,    74.85,6,    36.87,6,     0.00,6,     2.67,6,   -999.0,9,   -999.0,9,-999.0000,9,  -999.00,     1027
  49UF20100615,  P13N,  2681,  1,     13,  21972,2,20100622,0953, 21.9953, 164.9827, 5442,    808.8,   4.8198,  34.2626,2,  34.2611,2,     47.6,2,    93.51,2,    39.93,2,     0.00,2,     2.92,2,   -999.0,9,   -999.0,9,-999.0000,9,  -999.00,     1024
  49UF20100615,  P13N,  2681,  1,     12,  21971,2,20100622,0953, 21.9953, 164.9827, 5442,    909.4,   4.3586,  34.3689,2,-999.0000,9,     45.8,2,   103.66,2,    40.96,2,     0.00,2,     2.97,2,   -999.0,9,   -999.0,9,-999.0000,9,  -999.00,     1021
  49UF20100615,  P13N,  2681,  1,     11,  21970,2,20100622,0953, 21.9953, 164.9827, 5442,   1009.7,   4.0403,  34.4408,2,  34.4399,2,     52.6,2,   110.09,2,    40.78,2,     0.00,2,     2.97,2,   -999.0,9,   -999.0,9,-999.0000,9,  -999.00,     1018
  49UF20100615,  P13N,  2681,  1,     10,  21969,2,20100622,0953, 21.9953, 164.9827, 5442,   1213.3,   3.4308,  34.5121,2,  34.5133,6,   -999.0,5,   123.15,2,    40.38,2,     0.00,2,     2.92,2,   -999.0,9,   -999.0,9,-999.0000,9,  -999.00,     1013
  49UF20100615,  P13N,  2681,  1,      6,  21965,2,20100622,0953, 21.9953, 164.9827, 5442,   1413.7,   2.9641,  34.5505,2,-999.0000,9,     78.0,2,   130.90,2,    40.17,2,     0.00,2,     2.86,2,   -999.0,9,   -999.0,9,-999.0000,9,  -999.00,     1008
  49UF20100615,  P13N,  2681,  1,      5,  21964,2,20100622,0953, 21.9953, 164.9827, 5442,   1413.7,   2.9641,  34.5505,2,  34.5501,2,     77.5,2,   130.79,2,    40.38,2,     0.00,2,     2.88,2,   -999.0,9,   -999.0,9,-999.0000,9,  -999.00,     1008
  49UF20100615,  P13N,  2681,  1,      4,  21963,2,20100622,0953, 21.9953, 164.9827, 5442,   1618.5,   2.5148,  34.5752,2,-999.0000,9,     86.4,2,   139.65,2,    39.95,2,     0.00,2,     2.85,2,   -999.0,9,   -999.0,9,-999.0000,9,  -999.00,     1003
  49UF20100615,  P13N,  2681,  1,      3,  21962,2,20100622,0953, 21.9953, 164.9827, 5442,   1618.5,   2.5148,  34.5752,2,  34.5747,2,     84.7,2,   139.94,2,    40.10,2,     0.00,2,     2.85,2,   -999.0,9,   -999.0,9,-999.0000,9,  -999.00,     1003
  49UF20100615,  P13N,  2681,  1,      2,  21961,2,20100622,0953, 21.9953, 164.9827, 5442,   1819.8,   2.2582,  34.6030,2,  34.6032,2,     96.9,2,   143.98,2,    39.54,2,     0.00,2,     2.82,2,   -999.0,9,   -999.0,9,-999.0000,9,  -999.00,      958
  49UF20100615,  P13N,  2681,  1,      1,  21960,2,20100622,0953, 21.9953, 164.9827, 5442,   2023.4,   2.0430,  34.6203,2,  34.6207,2,    104.1,2,   148.57,2,    39.20,2,     0.00,2,     2.78,2,   -999.0,9,   -999.0,9,-999.0000,9,  -999.00,      953