BOTTLE,20190925PRINUNIVRMK
EXPOCODE,SECT_ID,STNNBR,CASTNO,SAMPNO,BTLNBR,BTLNBR_FLAG_W,DATE,TIME,LATITUDE,LONGITUDE,DEPTH,CTDPRS,CTDTMP,CTDSAL,CTDSAL_FLAG_W,SALNTY,SALNTY_FLAG_W,OXYGEN,OXYGEN_FLAG_W,SILCAT,SILCAT_FLAG_W,NITRAT,NITRAT_FLAG_W,NITRIT,NITRIT_FLAG_W,PHSPHT,PHSPHT_FLAG_W,TCARBN,TCARBN_FLAG_W,ALKALI,ALKALI_FLAG_W,PH_TOT,PH_TOT_FLAG_W,PH_TMP,BTL_TIME
,,,,,,,,,,,METERS,DBAR,ITS-90,PSS-78,,PSS-78,,UMOL/KG,,UMOL/KG,,UMOL/KG,,UMOL/KG,,UMOL/KG,,UMOL/KG,,UMOL/KG,,,,DEG C,
  49UF20100615,  P13N,  2676,  1,     99,     99,2,20100620,2310, 26.9975, 164.9803, 5788,      0.0,  26.4999,  35.1605,2,-999.0000,9,    208.5,2,     1.69,2,     0.00,2,     0.00,2,     0.01,2,   -999.0,9,   -999.0,9,-999.0000,9,  -999.00,     2350
  49UF20100615,  P13N,  2676,  1,     33,  21993,2,20100620,2310, 26.9975, 164.9803, 5788,     10.1,  26.2311,  35.2059,2,  35.1813,4,    210.8,2,     1.77,2,     0.00,2,     0.00,2,     0.01,2,   -999.0,9,   -999.0,9,-999.0000,9,  -999.00,        9
  49UF20100615,  P13N,  2676,  1,     32,  21992,2,20100620,2310, 26.9975, 164.9803, 5788,     24.9,  22.5540,  34.9421,2,-999.0000,9,    228.3,2,     1.92,2,     0.00,2,     0.00,2,     0.01,2,   -999.0,9,   -999.0,9,-999.0000,9,  -999.00,        8
  49UF20100615,  P13N,  2676,  1,     31,  21991,2,20100620,2310, 26.9975, 164.9803, 5788,     51.1,  20.8427,  34.8761,2,-999.0000,9,    235.0,2,     2.03,2,     0.00,2,     0.00,2,     0.00,2,   -999.0,9,   -999.0,9,-999.0000,9,  -999.00,        3
  49UF20100615,  P13N,  2676,  1,     30,  21990,3,20100620,2310, 26.9975, 164.9803, 5788,     76.2,  19.7877,  34.8409,2,-999.0000,9,    232.2,2,     2.14,2,     0.00,2,     0.00,2,     0.01,2,   -999.0,9,   -999.0,9,-999.0000,9,  -999.00,        2
  49UF20100615,  P13N,  2676,  1,     29,  21989,2,20100620,2310, 26.9975, 164.9803, 5788,     99.9,  19.0134,  34.7786,2,  34.7808,2,    228.9,2,     2.27,2,     0.00,2,     0.00,2,     0.03,2,   -999.0,9,   -999.0,9,-999.0000,9,  -999.00,        0
  49UF20100615,  P13N,  2676,  1,     28,  21988,2,20100620,2310, 26.9975, 164.9803, 5788,    125.4,  18.3043,  34.7343,2,-999.0000,9,    216.5,2,     2.90,2,     1.92,2,     0.05,2,     0.15,2,   -999.0,9,   -999.0,9,-999.0000,9,  -999.00,     2359
  49UF20100615,  P13N,  2676,  1,     24,  21984,2,20100620,2310, 26.9975, 164.9803, 5788,    149.7,  17.8089,  34.6837,2,-999.0000,9,    218.0,2,     3.40,2,     2.85,2,     0.02,2,     0.20,2,   -999.0,9,   -999.0,9,-999.0000,9,  -999.00,     2358
  49UF20100615,  P13N,  2676,  1,     23,  21983,2,20100620,2310, 26.9975, 164.9803, 5788,    201.1,  17.2254,  34.6852,2,  34.6846,2,    204.0,2,     4.46,2,     4.83,2,     0.01,2,     0.31,2,   -999.0,9,   -999.0,9,-999.0000,9,  -999.00,     2356
  49UF20100615,  P13N,  2676,  1,     22,  21982,2,20100620,2310, 26.9975, 164.9803, 5788,    251.4,  16.4442,  34.6413,2,-999.0000,9,    203.0,2,     5.80,6,     6.32,6,     0.00,6,     0.42,6,   -999.0,9,   -999.0,9,-999.0000,9,  -999.00,     2354
  49UF20100615,  P13N,  2676,  1,     21,  21981,2,20100620,2310, 26.9975, 164.9803, 5788,    301.7,  15.3316,  34.5686,2,-999.0000,9,    202.4,2,     7.91,2,     7.96,2,     0.00,2,     0.54,2,   -999.0,9,   -999.0,9,-999.0000,9,  -999.00,     2353
  49UF20100615,  P13N,  2676,  1,     20,  21980,2,20100620,2310, 26.9975, 164.9803, 5788,    403.9,  12.6048,  34.3777,2,  34.3782,2,    205.8,2,    13.35,2,    12.05,2,     0.00,2,     0.83,2,   -999.0,9,   -999.0,9,-999.0000,9,  -999.00,     2350
  49UF20100615,  P13N,  2676,  1,     19,  21978,2,20100620,2310, 26.9975, 164.9803, 5788,    504.3,  10.6739,  34.2341,2,-999.0000,9,    197.7,2,    20.47,2,    16.27,2,     0.00,2,     1.12,2,   -999.0,9,   -999.0,9,-999.0000,9,  -999.00,     2347
  49UF20100615,  P13N,  2676,  1,     15,  21974,2,20100620,2310, 26.9975, 164.9803, 5788,    605.0,   8.1593,  34.0921,2,  34.0928,6,    160.4,2,    38.85,2,    24.41,2,     0.00,2,     1.71,2,   -999.0,9,   -999.0,9,-999.0000,9,  -999.00,     2345
  49UF20100615,  P13N,  2676,  1,     14,  21973,2,20100620,2310, 26.9975, 164.9803, 5788,    706.3,   6.2473,  34.0646,2,-999.0000,9,    111.7,2,    62.49,2,    32.36,2,     0.00,2,     2.31,2,   -999.0,9,   -999.0,9,-999.0000,9,  -999.00,     2342
  49UF20100615,  P13N,  2676,  1,     13,  21972,2,20100620,2310, 26.9975, 164.9803, 5788,    806.6,   5.2134,  34.1081,2,  34.1081,2,     79.5,2,    81.13,2,    36.93,2,     0.00,2,     2.65,2,   -999.0,9,   -999.0,9,-999.0000,9,  -999.00,     2339
  49UF20100615,  P13N,  2676,  1,     12,  21971,2,20100620,2310, 26.9975, 164.9803, 5788,    907.7,   4.2711,  34.2275,2,-999.0000,9,     46.4,2,   104.85,2,    41.12,2,     0.00,2,     2.94,2,   -999.0,9,   -999.0,9,-999.0000,9,  -999.00,     2336
  49UF20100615,  P13N,  2676,  1,     11,  21970,2,20100620,2310, 26.9975, 164.9803, 5788,   1009.6,   3.8722,  34.2926,2,  34.2915,2,     38.0,2,   116.27,2,    42.01,2,     0.00,2,     3.05,2,   -999.0,9,   -999.0,9,-999.0000,9,  -999.00,     2333
  49UF20100615,  P13N,  2676,  1,     10,  21969,2,20100620,2310, 26.9975, 164.9803, 5788,   1211.9,   3.2397,  34.4108,2,  34.4105,2,     37.9,3,   132.82,2,    43.10,2,     0.00,2,     3.10,2,   -999.0,9,   -999.0,9,-999.0000,9,  -999.00,     2329
  49UF20100615,  P13N,  2676,  1,      6,  21965,2,20100620,2310, 26.9975, 164.9803, 5788,   1414.9,   2.8069,  34.4907,2,-999.0000,9,     45.1,2,   144.00,2,    42.82,2,     0.00,2,     3.06,2,   -999.0,9,   -999.0,9,-999.0000,9,  -999.00,     2324
  49UF20100615,  P13N,  2676,  1,      5,  21964,2,20100620,2310, 26.9975, 164.9803, 5788,   1414.9,   2.8069,  34.4907,2,  34.4902,2,     45.3,2,   143.50,2,    42.87,2,     0.00,2,     3.05,2,   -999.0,9,   -999.0,9,-999.0000,9,  -999.00,     2324
  49UF20100615,  P13N,  2676,  1,      4,  21963,2,20100620,2310, 26.9975, 164.9803, 5788,   1618.1,   2.4121,  34.5475,2,-999.0000,9,     60.4,2,   151.92,2,    42.25,2,     0.00,2,     3.00,2,   -999.0,9,   -999.0,9,-999.0000,9,  -999.00,     2319
  49UF20100615,  P13N,  2676,  1,      3,  21962,2,20100620,2310, 26.9975, 164.9803, 5788,   1618.1,   2.4121,  34.5475,2,  34.5481,2,     60.1,6,   151.45,6,    41.94,6,     0.00,6,     3.00,6,   -999.0,9,   -999.0,9,-999.0000,9,  -999.00,     2319
  49UF20100615,  P13N,  2676,  1,      2,  21961,2,20100620,2310, 26.9975, 164.9803, 5788,   1819.5,   2.1736,  34.5811,2,  34.5808,2,     75.7,2,   154.81,2,    41.00,2,     0.00,2,     2.91,2,   -999.0,9,   -999.0,9,-999.0000,9,  -999.00,     2315
  49UF20100615,  P13N,  2676,  1,      1,  21960,2,20100620,2310, 26.9975, 164.9803, 5788,   2022.9,   1.9812,  34.6069,2,  34.6066,2,     89.7,2,   155.99,2,    40.45,2,     0.00,2,     2.84,2,   -999.0,9,   -999.0,9,-999.0000,9,  -999.00,     2310
  49UF20100615,  P13N,  2677,  1,     99,     99,2,20100621,0555, 25.9923, 164.9895, 5725,      0.0,  27.1498,  35.3325,2,-999.0000,9,    205.0,2,     1.75,2,     0.01,2,     0.00,2,     0.01,2,   -999.0,9,   -999.0,9,-999.0000,9,  -999.00,      640
  49UF20100615,  P13N,  2677,  1,     33,  21993,2,20100621,0555, 25.9923, 164.9895, 5725,     12.1,  26.4951,  35.2723,2,-999.0000,9,    208.4,2,     1.72,2,     0.01,2,     0.00,2,     0.00,2,   -999.0,9,   -999.0,9,-999.0000,9,  -999.00,      657
  49UF20100615,  P13N,  2677,  1,     32,  21992,2,20100621,0555, 25.9923, 164.9895, 5725,     26.8,  23.4733,  35.1533,2,-999.0000,9,    227.8,2,     1.82,2,     0.00,2,     0.00,2,     0.00,2,   -999.0,9,   -999.0,9,-999.0000,9,  -999.00,      655
  49UF20100615,  P13N,  2677,  1,     31,  21991,2,20100621,0555, 25.9923, 164.9895, 5725,     50.9,  21.2416,  35.0066,2,-999.0000,9,    239.3,2,     2.11,2,     0.00,2,     0.00,2,     0.01,2,   -999.0,9,   -999.0,9,-999.0000,9,  -999.00,      651
  49UF20100615,  P13N,  2677,  1,     30,  21990,2,20100621,0555, 25.9923, 164.9895, 5725,     75.6,  19.4601,  34.8377,2,-999.0000,9,    240.8,2,     2.25,2,     0.00,2,     0.00,2,     0.02,2,   -999.0,9,   -999.0,9,-999.0000,9,  -999.00,      649
  49UF20100615,  P13N,  2677,  1,     29,  21989,2,20100621,0555, 25.9923, 164.9895, 5725,    101.7,  18.1197,  34.7151,2,-999.0000,9,    226.9,2,     2.75,2,     0.36,2,     0.04,2,     0.08,2,   -999.0,9,   -999.0,9,-999.0000,9,  -999.00,      648
  49UF20100615,  P13N,  2677,  1,     28,  21988,2,20100621,0555, 25.9923, 164.9895, 5725,    127.2,  17.3161,  34.6710,2,-999.0000,9,    208.9,2,     4.14,2,     4.19,2,     0.03,2,     0.28,2,   -999.0,9,   -999.0,9,-999.0000,9,  -999.00,      646
  49UF20100615,  P13N,  2677,  1,     24,  21984,2,20100621,0555, 25.9923, 164.9895, 5725,    153.0,  17.1559,  34.6659,2,-999.0000,9,    207.6,2,     4.41,2,     4.59,2,     0.01,2,     0.29,2,   -999.0,9,   -999.0,9,-999.0000,9,  -999.00,      645
  49UF20100615,  P13N,  2677,  1,     23,  21983,2,20100621,0555, 25.9923, 164.9895, 5725,    202.7,  16.2692,  34.6203,2,-999.0000,9,    204.7,2,     6.09,2,     6.40,2,     0.00,2,     0.43,2,   -999.0,9,   -999.0,9,-999.0000,9,  -999.00,      643
  49UF20100615,  P13N,  2677,  1,     22,  21982,2,20100621,0555, 25.9923, 164.9895, 5725,    252.6,  15.2713,  34.5612,2,-999.0000,9,    204.7,2,     8.07,2,     8.00,2,     0.00,2,     0.54,2,   -999.0,9,   -999.0,9,-999.0000,9,  -999.00,      641
  49UF20100615,  P13N,  2677,  1,     21,  21981,2,20100621,0555, 25.9923, 164.9895, 5725,    304.9,  14.1419,  34.4873,2,-999.0000,9,    203.8,6,     9.56,6,     9.55,6,     0.00,6,     0.65,6,   -999.0,9,   -999.0,9,-999.0000,9,  -999.00,      639
  49UF20100615,  P13N,  2677,  1,     20,  21980,2,20100621,0555, 25.9923, 164.9895, 5725,    405.9,  11.9212,  34.3507,2,-999.0000,9,    198.9,2,    18.02,2,    14.12,2,     0.00,2,     0.96,2,   -999.0,9,   -999.0,9,-999.0000,9,  -999.00,      636
  49UF20100615,  P13N,  2677,  1,     19,  21978,2,20100621,0555, 25.9923, 164.9895, 5725,    505.4,   8.9973,  34.1326,2,-999.0000,9,    179.1,2,    31.51,2,    21.14,2,     0.00,2,     1.48,2,   -999.0,9,   -999.0,9,-999.0000,9,  -999.00,      633
  49UF20100615,  P13N,  2677,  1,     15,  21974,2,20100621,0555, 25.9923, 164.9895, 5725,    605.6,   6.6861,  34.0622,2,-999.0000,9,    123.7,2,    55.89,2,    30.44,2,     0.00,2,     2.17,2,   -999.0,9,   -999.0,9,-999.0000,9,  -999.00,      630
  49UF20100615,  P13N,  2677,  1,     14,  21973,2,20100621,0555, 25.9923, 164.9895, 5725,    707.2,   5.4992,  34.0803,2,-999.0000,9,     92.6,2,    74.94,2,    35.08,2,     0.00,2,     2.54,2,   -999.0,9,   -999.0,9,-999.0000,9,  -999.00,      627
  49UF20100615,  P13N,  2677,  1,     13,  21972,2,20100621,0555, 25.9923, 164.9895, 5725,    808.4,   4.7150,  34.1589,2,-999.0000,9,     60.0,2,    93.13,2,    39.28,2,     0.00,2,     2.82,2,   -999.0,9,   -999.0,9,-999.0000,9,  -999.00,      624
  49UF20100615,  P13N,  2677,  1,     12,  21971,2,20100621,0555, 25.9923, 164.9895, 5725,    909.8,   4.1864,  34.2538,2,-999.0000,9,     44.5,4,   107.22,2,    41.60,2,     0.00,2,     3.01,2,   -999.0,9,   -999.0,9,-999.0000,9,  -999.00,      621
  49UF20100615,  P13N,  2677,  1,     11,  21970,2,20100621,0555, 25.9923, 164.9895, 5725,   1011.5,   3.7555,  34.3378,2,-999.0000,9,     35.6,2,   118.82,2,    42.46,2,     0.00,2,     3.05,2,   -999.0,9,   -999.0,9,-999.0000,9,  -999.00,      618
  49UF20100615,  P13N,  2677,  1,     10,  21969,2,20100621,0555, 25.9923, 164.9895, 5725,   1213.2,   3.1678,  34.4431,2,-999.0000,9,     40.6,2,   133.82,2,    42.84,2,     0.00,2,     3.08,2,   -999.0,9,   -999.0,9,-999.0000,9,  -999.00,      614
  49UF20100615,  P13N,  2677,  1,      6,  21965,2,20100621,0555, 25.9923, 164.9895, 5725,   1417.0,   2.7304,  34.5119,2,-999.0000,9,     51.3,2,   144.18,2,    42.41,2,     0.00,2,     3.03,2,   -999.0,9,   -999.0,9,-999.0000,9,  -999.00,      609
  49UF20100615,  P13N,  2677,  1,      5,  21964,2,20100621,0555, 25.9923, 164.9895, 5725,   1617.0,   2.3877,  34.5572,2,-999.0000,9,     66.7,2,   149.62,2,    41.60,2,     0.00,2,     2.97,2,   -999.0,9,   -999.0,9,-999.0000,9,  -999.00,      604
  49UF20100615,  P13N,  2677,  1,      4,  21963,2,20100621,0555, 25.9923, 164.9895, 5725,   1822.3,   2.1119,  34.5920,2,-999.0000,9,     80.4,2,   152.49,2,    40.74,2,     0.00,2,     2.90,2,   -999.0,9,   -999.0,9,-999.0000,9,  -999.00,      559
  49UF20100615,  P13N,  2677,  1,      3,  21962,2,20100621,0555, 25.9923, 164.9895, 5725,   1822.3,   2.1119,  34.5920,2,-999.0000,9,     81.5,6,   153.37,2,    40.81,6,     0.00,6,     2.89,6,   -999.0,9,   -999.0,9,-999.0000,9,  -999.00,      559
  49UF20100615,  P13N,  2677,  1,      2,  21961,2,20100621,0555, 25.9923, 164.9895, 5725,   2026.2,   1.9211,  34.6160,2,-999.0000,9,     95.0,2,   154.96,2,    40.01,2,     0.00,2,     2.82,2,   -999.0,9,   -999.0,9,-999.0000,9,  -999.00,      555
  49UF20100615,  P13N,  2677,  1,      1,  21960,2,20100621,0555, 25.9923, 164.9895, 5725,   2026.2,   1.9211,  34.6160,2,-999.0000,9,     94.3,2,   154.82,2,    40.08,2,     0.00,2,     2.83,2,   -999.0,9,   -999.0,9,-999.0000,9,  -999.00,      555
  49UF20100615,  P13N,  2678,  1,     99,     99,2,20100621,1228, 24.9980, 165.0145, 5892,      0.0,  27.8278,  35.3809,2,-999.0000,9,    201.5,2,     0.97,2,     0.05,2,     0.00,2,     0.00,2,   -999.0,9,   -999.0,9,-999.0000,9,  -999.00,     1308
  49UF20100615,  P13N,  2678,  1,     33,  21993,2,20100621,1228, 24.9980, 165.0145, 5892,     10.1,  27.8405,  35.3795,2,-999.0000,9,    202.0,2,     0.00,2,     0.02,2,     0.00,2,     0.00,2,   1984.5,2,   2323.6,2,   8.1105,2,    25.00,     1327
  49UF20100615,  P13N,  2678,  1,     32,  21992,2,20100621,1228, 24.9980, 165.0145, 5892,     25.4,  26.7974,  35.3549,2,-999.0000,9,    210.5,2,     1.06,2,     0.04,2,     0.00,2,     0.00,2,   1985.8,2,   2320.7,2,   8.1053,2,    25.00,     1325
  49UF20100615,  P13N,  2678,  1,     31,  21991,2,20100621,1228, 24.9980, 165.0145, 5892,     50.5,  24.7577,  35.3101,2,-999.0000,9,    218.2,2,     0.94,2,     0.10,2,     0.00,2,     0.00,2,   1994.0,2,   2322.2,2,   8.0987,2,    25.00,     1321
  49UF20100615,  P13N,  2678,  1,     30,  21990,2,20100621,1228, 24.9980, 165.0145, 5892,     75.5,  23.6882,  35.3461,2,-999.0000,9,    222.7,2,     1.33,2,     0.05,2,     0.00,2,     0.00,2,   1980.8,2,   2317.6,2,   8.0843,2,    25.00,     1320
  49UF20100615,  P13N,  2678,  1,     29,  21989,2,20100621,1228, 24.9980, 165.0145, 5892,    100.2,  22.1128,  35.1643,2,-999.0000,9,    220.9,2,     1.61,2,     0.09,2,     0.00,2,     0.00,2,   2004.7,2,   2305.8,2,   8.0616,2,    25.00,     1318
  49UF20100615,  P13N,  2678,  1,     28,  21988,2,20100621,1228, 24.9980, 165.0145, 5892,    126.0,  21.0243,  35.0659,2,-999.0000,9,    222.1,2,     1.86,2,     0.05,2,     0.00,2,     0.00,2,   2007.3,2,   2302.9,2,   8.0464,2,    25.00,     1316
  49UF20100615,  P13N,  2678,  1,     24,  21984,2,20100621,1228, 24.9980, 165.0145, 5892,    150.4,  19.5596,  34.8685,2,-999.0000,9,    217.0,2,     2.20,2,     0.36,2,     0.03,2,     0.04,2,   2012.4,2,   2293.0,2,   8.0216,2,    25.00,     1315
  49UF20100615,  P13N,  2678,  1,     23,  21983,2,20100621,1228, 24.9980, 165.0145, 5892,    200.4,  17.5932,  34.6657,2,-999.0000,9,    214.0,2,     3.51,2,     3.43,2,     0.01,2,     0.22,2,   2032.4,2,   2276.9,2,   7.9746,2,    25.00,     1313
  49UF20100615,  P13N,  2678,  1,     22,  21982,2,20100621,1228, 24.9980, 165.0145, 5892,    252.9,  16.4512,  34.6459,2,-999.0000,9,    203.1,2,     5.74,2,     6.51,2,     0.00,2,     0.42,2,   2057.2,2,   2274.2,2,   7.9251,2,    25.00,     1311
  49UF20100615,  P13N,  2678,  1,     21,  21981,2,20100621,1228, 24.9980, 165.0145, 5892,    301.9,  15.1380,  34.5674,2,-999.0000,9,    199.6,2,     8.05,2,     8.57,2,     0.00,2,     0.57,2,   2067.9,2,   2274.7,2,   7.8865,2,    25.00,     1309
  49UF20100615,  P13N,  2678,  1,     20,  21980,3,20100621,1228, 24.9980, 165.0145, 5892,    402.6,  12.6732,  34.3858,2,-999.0000,9,    203.9,6,    13.49,6,    12.16,6,     0.00,6,     0.83,6,   2095.0,6,   2271.5,6,   7.8271,6,    25.00,     1306
  49UF20100615,  P13N,  2678,  1,     19,  21978,2,20100621,1228, 24.9980, 165.0145, 5892,    504.1,   9.7708,  34.1801,2,-999.0000,9,    184.1,2,    26.27,2,    19.33,2,     0.00,2,     1.34,2,   2139.4,2,   2269.6,2,   7.7129,2,    25.00,     1304
  49UF20100615,  P13N,  2678,  1,     15,  21974,2,20100621,1228, 24.9980, 165.0145, 5892,    604.5,   7.2807,  34.0636,2,-999.0000,9,    142.7,2,    47.99,2,    27.59,2,     0.00,2,     1.98,2,   2203.4,2,   2279.8,2,   7.5726,2,    25.00,     1301
  49UF20100615,  P13N,  2678,  1,     14,  21973,2,20100621,1228, 24.9980, 165.0145, 5892,    604.5,   7.2807,  34.0636,2,-999.0000,9,    142.4,2,    47.98,2,    27.77,2,     0.00,2,     1.96,2,   2210.2,2,   2282.2,2,   7.5800,2,    25.00,     1301
  49UF20100615,  P13N,  2678,  1,     13,  21972,2,20100621,1228, 24.9980, 165.0145, 5892,    705.7,   5.6462,  34.0923,2,-999.0000,9,     90.1,2,    73.26,2,    35.08,2,     0.00,2,     2.55,2,   2266.3,2,   2306.4,2,   7.4507,2,    25.00,     1259
  49UF20100615,  P13N,  2678,  1,     12,  21971,2,20100621,1228, 24.9980, 165.0145, 5892,    705.7,   5.6462,  34.0923,2,-999.0000,9,     89.5,2,    73.13,2,    35.18,2,     0.00,2,     2.54,2,   2256.8,2,   2305.9,2,   7.4448,2,    25.00,     1259
  49UF20100615,  P13N,  2678,  1,     11,  21970,2,20100621,1228, 24.9980, 165.0145, 5892,    806.4,   4.8046,  34.1886,2,-999.0000,9,     57.1,2,    92.46,2,    39.32,2,     0.00,2,     2.85,2,   2301.5,2,   2326.6,2,   7.4106,2,    25.00,     1256
  49UF20100615,  P13N,  2678,  1,     10,  21969,2,20100621,1228, 24.9980, 165.0145, 5892,    907.5,   4.2084,  34.2846,2,-999.0000,9,     42.4,2,   107.27,2,    41.35,2,     0.00,2,     3.00,2,   2332.6,2,   2346.4,2,   7.3654,2,    25.00,     1253
  49UF20100615,  P13N,  2678,  1,      6,  21965,2,20100621,1228, 24.9980, 165.0145, 5892,   1008.8,   3.8643,  34.3572,2,-999.0000,9,     40.4,2,   116.48,2,    41.98,2,     0.00,2,     3.04,2,   2344.0,2,   2360.7,2,   7.3569,2,    25.00,     1251
  49UF20100615,  P13N,  2678,  1,      5,  21964,3,20100621,1228, 24.9980, 165.0145, 5892,   1210.2,   3.2313,  34.4728,2,-999.0000,9,     55.0,2,   130.41,2,    41.67,2,     0.00,2,     3.00,2,   2353.2,6,   2379.3,6,   7.3992,6,    25.00,     1246
  49UF20100615,  P13N,  2678,  1,      4,  21963,3,20100621,1228, 24.9980, 165.0145, 5892,   1414.4,   2.7392,  34.5304,2,-999.0000,9,     68.3,2,   138.83,2,    41.18,2,     0.00,2,     2.95,2,   2356.3,2,   2392.6,2,   7.4243,2,    25.00,     1242
  49UF20100615,  P13N,  2678,  1,      3,  21962,2,20100621,1228, 24.9980, 165.0145, 5892,   1614.4,   2.4354,  34.5647,2,-999.0000,9,     79.6,2,   145.21,2,    40.66,2,     0.00,2,     2.90,2,   2356.3,2,   2402.0,2,   7.4515,2,    25.00,     1237
  49UF20100615,  P13N,  2678,  1,      2,  21961,3,20100621,1228, 24.9980, 165.0145, 5892,   1819.7,   2.1711,  34.5946,2,-999.0000,9,     92.8,2,   147.90,2,    39.86,2,     0.00,2,     2.82,2,   2355.6,2,   2406.4,2,   7.4691,2,    25.00,     1232
  49UF20100615,  P13N,  2678,  1,      1,  21960,2,20100621,1228, 24.9980, 165.0145, 5892,   2022.7,   1.9721,  34.6171,2,-999.0000,9,    101.6,6,   151.18,6,    39.35,6,     0.00,6,     2.79,6,   2352.4,2,   2413.4,2,   7.4851,2,    25.00,     1228