BOTTLE,20190925PRINUNIVRMK
EXPOCODE,SECT_ID,STNNBR,CASTNO,SAMPNO,BTLNBR,BTLNBR_FLAG_W,DATE,TIME,LATITUDE,LONGITUDE,DEPTH,CTDPRS,CTDTMP,CTDSAL,CTDSAL_FLAG_W,SALNTY,SALNTY_FLAG_W,OXYGEN,OXYGEN_FLAG_W,SILCAT,SILCAT_FLAG_W,NITRAT,NITRAT_FLAG_W,NITRIT,NITRIT_FLAG_W,PHSPHT,PHSPHT_FLAG_W,TCARBN,TCARBN_FLAG_W,ALKALI,ALKALI_FLAG_W,PH_TOT,PH_TOT_FLAG_W,PH_TMP,BTL_TIME
,,,,,,,,,,,METERS,DBAR,ITS-90,PSS-78,,PSS-78,,UMOL/KG,,UMOL/KG,,UMOL/KG,,UMOL/KG,,UMOL/KG,,UMOL/KG,,UMOL/KG,,,,DEG C,
  49UF20100615,  P13N,  2700,  1,     99,     99,2,20100709,2004,  3.9967, 165.0120, 4490,      0.0,  29.3038,  34.4483,2,-999.0000,9,    195.6,2,     1.26,2,     0.06,2,     0.00,2,     0.17,2,   -999.0,9,   -999.0,9,-999.0000,9,  -999.00,     2040
  49UF20100615,  P13N,  2700,  1,     33,  21993,2,20100709,2004,  3.9967, 165.0120, 4490,     12.1,  29.3433,  34.4690,2,-999.0000,9,    195.5,2,     1.28,2,     0.03,2,     0.00,2,     0.16,2,   -999.0,9,   -999.0,9,-999.0000,9,  -999.00,     2103
  49UF20100615,  P13N,  2700,  1,     32,  21992,2,20100709,2004,  3.9967, 165.0120, 4490,     26.6,  29.4519,  34.5827,2,-999.0000,9,    195.7,6,     1.31,6,     0.06,6,     0.00,6,     0.15,6,   -999.0,9,   -999.0,9,-999.0000,9,  -999.00,     2102
  49UF20100615,  P13N,  2700,  1,     31,  21991,2,20100709,2004,  3.9967, 165.0120, 4490,     50.2,  29.3630,  34.6758,2,-999.0000,9,    195.7,2,     1.26,2,     0.03,2,     0.00,2,     0.17,2,   -999.0,9,   -999.0,9,-999.0000,9,  -999.00,     2057
  49UF20100615,  P13N,  2700,  1,     30,  21990,2,20100709,2004,  3.9967, 165.0120, 4490,     76.4,  28.9447,  34.8084,2,-999.0000,9,    188.2,2,     1.31,2,     0.13,2,     0.18,2,     0.21,2,   -999.0,9,   -999.0,9,-999.0000,9,  -999.00,     2056
  49UF20100615,  P13N,  2700,  1,     29,  21989,2,20100709,2004,  3.9967, 165.0120, 4490,    102.3,  25.9885,  34.8959,2,-999.0000,9,    160.5,2,     2.52,2,     3.26,2,     0.48,2,     0.38,2,   -999.0,9,   -999.0,9,-999.0000,9,  -999.00,     2054
  49UF20100615,  P13N,  2700,  1,     28,  21988,2,20100709,2004,  3.9967, 165.0120, 4490,    125.5,  22.8393,  34.9339,2,-999.0000,9,    147.3,2,     4.91,2,     6.69,2,     0.01,2,     0.57,2,   -999.0,9,   -999.0,9,-999.0000,9,  -999.00,     2053
  49UF20100615,  P13N,  2700,  1,     24,  21984,2,20100709,2004,  3.9967, 165.0120, 4490,    152.1,  19.9547,  34.7811,2,-999.0000,9,    137.9,2,     7.92,2,     9.99,2,     0.01,2,     0.78,2,   -999.0,9,   -999.0,9,-999.0000,9,  -999.00,     2052
  49UF20100615,  P13N,  2700,  1,     23,  21983,2,20100709,2004,  3.9967, 165.0120, 4490,    202.2,  12.5131,  34.5380,2,-999.0000,9,     89.8,2,    24.79,2,    24.40,2,     0.00,2,     1.78,2,   -999.0,9,   -999.0,9,-999.0000,9,  -999.00,     2050
  49UF20100615,  P13N,  2700,  1,     22,  21982,2,20100709,2004,  3.9967, 165.0120, 4490,    252.4,  10.2354,  34.6001,2,-999.0000,9,     76.2,2,    32.89,2,    30.14,2,     0.00,2,     2.13,2,   -999.0,9,   -999.0,9,-999.0000,9,  -999.00,     2048
  49UF20100615,  P13N,  2700,  1,     21,  21981,2,20100709,2004,  3.9967, 165.0120, 4490,    302.8,   9.1433,  34.6285,2,-999.0000,9,     70.4,2,    35.69,2,    32.89,2,     0.00,2,     2.31,2,   -999.0,9,   -999.0,9,-999.0000,9,  -999.00,     2047
  49UF20100615,  P13N,  2700,  1,     20,  21980,2,20100709,2004,  3.9967, 165.0120, 4490,    402.9,   8.2723,  34.6036,2,-999.0000,9,     62.6,2,    40.72,2,    35.37,2,     0.00,2,     2.48,2,   -999.0,9,   -999.0,9,-999.0000,9,  -999.00,     2044
  49UF20100615,  P13N,  2700,  1,     19,  21978,2,20100709,2004,  3.9967, 165.0120, 4490,    504.0,   7.6659,  34.5844,2,-999.0000,9,     62.8,2,    45.21,2,    36.71,2,     0.00,2,     2.59,2,   -999.0,9,   -999.0,9,-999.0000,9,  -999.00,     2041
  49UF20100615,  P13N,  2700,  1,     15,  21974,2,20100709,2004,  3.9967, 165.0120, 4490,    604.2,   7.0336,  34.5641,2,-999.0000,9,     66.0,6,    50.69,6,    37.30,6,     0.00,6,     2.67,6,   -999.0,9,   -999.0,9,-999.0000,9,  -999.00,     2038
  49UF20100615,  P13N,  2700,  1,     14,  21973,2,20100709,2004,  3.9967, 165.0120, 4490,    705.7,   6.1022,  34.5432,2,-999.0000,9,     55.3,2,    65.77,2,    39.93,2,     0.00,2,     2.86,2,   -999.0,9,   -999.0,9,-999.0000,9,  -999.00,     2036
  49UF20100615,  P13N,  2700,  1,     13,  21972,2,20100709,2004,  3.9967, 165.0120, 4490,    805.7,   5.5020,  34.5441,2,-999.0000,9,     58.0,2,    74.56,2,    40.55,2,     0.00,2,     2.91,2,   -999.0,9,   -999.0,9,-999.0000,9,  -999.00,     2033
  49UF20100615,  P13N,  2700,  1,     12,  21971,2,20100709,2004,  3.9967, 165.0120, 4490,    805.7,   5.5020,  34.5441,2,-999.0000,9,     58.3,2,    74.83,2,    40.77,2,     0.00,2,     2.90,2,   -999.0,9,   -999.0,9,-999.0000,9,  -999.00,     2033
  49UF20100615,  P13N,  2700,  1,     11,  21970,2,20100709,2004,  3.9967, 165.0120, 4490,    909.0,   4.7875,  34.5515,2,-999.0000,9,     72.4,2,    85.76,2,    40.19,2,     0.00,2,     2.86,2,   -999.0,9,   -999.0,9,-999.0000,9,  -999.00,     2030
  49UF20100615,  P13N,  2700,  1,     10,  21969,2,20100709,2004,  3.9967, 165.0120, 4490,    909.0,   4.7875,  34.5515,2,-999.0000,9,     72.3,2,    85.99,2,    40.18,2,     0.00,2,     2.88,2,   -999.0,9,   -999.0,9,-999.0000,9,  -999.00,     2030
  49UF20100615,  P13N,  2700,  1,      6,  21965,2,20100709,2004,  3.9967, 165.0120, 4490,   1008.3,   4.4355,  34.5579,2,-999.0000,9,     80.8,2,    93.00,2,    39.69,2,     0.00,2,     2.84,2,   -999.0,9,   -999.0,9,-999.0000,9,  -999.00,     2027
  49UF20100615,  P13N,  2700,  1,      5,  21964,2,20100709,2004,  3.9967, 165.0120, 4490,   1210.7,   3.7269,  34.5771,2,-999.0000,9,     89.8,2,   107.07,2,    39.58,2,     0.00,2,     2.82,2,   -999.0,9,   -999.0,9,-999.0000,9,  -999.00,     2023
  49UF20100615,  P13N,  2700,  1,      4,  21963,2,20100709,2004,  3.9967, 165.0120, 4490,   1412.9,   3.1395,  34.5977,2,-999.0000,9,     95.4,2,   118.78,2,    39.70,2,     0.00,2,     2.81,2,   -999.0,9,   -999.0,9,-999.0000,9,  -999.00,     2018
  49UF20100615,  P13N,  2700,  1,      3,  21962,2,20100709,2004,  3.9967, 165.0120, 4490,   1614.6,   2.7632,  34.6125,2,-999.0000,9,    103.6,2,   127.07,2,    39.34,2,     0.00,2,     2.78,2,   -999.0,9,   -999.0,9,-999.0000,9,  -999.00,     2013
  49UF20100615,  P13N,  2700,  1,      2,  21961,2,20100709,2004,  3.9967, 165.0120, 4490,   1818.5,   2.4295,  34.6283,2,-999.0000,9,    109.6,2,   133.35,2,    39.01,2,     0.00,2,     2.75,2,   -999.0,9,   -999.0,9,-999.0000,9,  -999.00,     2008
  49UF20100615,  P13N,  2700,  1,      1,  21960,2,20100709,2004,  3.9967, 165.0120, 4490,   2022.7,   2.1851,  34.6415,2,-999.0000,9,    112.5,2,   140.48,2,    39.04,2,     0.00,2,     2.73,2,   -999.0,9,   -999.0,9,-999.0000,9,  -999.00,     2004
  49UF20100615,  P13N,  2701,  1,     99,     99,2,20100710,0225,  3.0060, 165.0112, 4263,      0.0,  29.7812,  34.7610,2,-999.0000,9,    195.6,2,     1.36,2,     0.00,2,     0.00,2,     0.18,2,   -999.0,9,   -999.0,9,-999.0000,9,  -999.00,      306
  49UF20100615,  P13N,  2701,  1,     33,  21993,2,20100710,0225,  3.0060, 165.0112, 4263,     10.0,  29.8118,  34.8652,2,-999.0000,9,    195.8,2,     1.38,2,     0.00,2,     0.00,2,     0.17,2,   -999.0,9,   -999.0,9,-999.0000,9,  -999.00,      322
  49UF20100615,  P13N,  2701,  1,     32,  21992,2,20100710,0225,  3.0060, 165.0112, 4263,     25.1,  29.5530,  34.8205,2,-999.0000,9,    197.2,2,     1.36,2,     0.00,2,     0.00,2,     0.17,2,   -999.0,9,   -999.0,9,-999.0000,9,  -999.00,      321
  49UF20100615,  P13N,  2701,  1,     31,  21991,2,20100710,0225,  3.0060, 165.0112, 4263,     50.1,  29.5502,  34.9514,2,-999.0000,9,    198.1,6,     1.31,6,     0.05,6,     0.00,6,     0.19,6,   -999.0,9,   -999.0,9,-999.0000,9,  -999.00,      317
  49UF20100615,  P13N,  2701,  1,     30,  21990,2,20100710,0225,  3.0060, 165.0112, 4263,     75.9,  29.3187,  34.9406,2,-999.0000,9,    189.7,2,     1.37,2,     0.32,2,     0.07,2,     0.20,2,   -999.0,9,   -999.0,9,-999.0000,9,  -999.00,      315
  49UF20100615,  P13N,  2701,  1,     29,  21989,2,20100710,0225,  3.0060, 165.0112, 4263,    101.3,  25.4455,  35.1717,2,-999.0000,9,    132.5,2,     3.95,2,     8.64,2,     0.05,2,     0.67,2,   -999.0,9,   -999.0,9,-999.0000,9,  -999.00,      314
  49UF20100615,  P13N,  2701,  1,     28,  21988,2,20100710,0225,  3.0060, 165.0112, 4263,    124.5,  21.9744,  34.8834,2,-999.0000,9,    151.3,2,     6.05,2,     6.82,2,     0.02,2,     0.55,2,   -999.0,9,   -999.0,9,-999.0000,9,  -999.00,      312
  49UF20100615,  P13N,  2701,  1,     24,  21984,2,20100710,0225,  3.0060, 165.0112, 4263,    151.9,  18.6698,  34.7414,2,-999.0000,9,    151.2,2,     8.42,2,     9.59,2,     0.00,2,     0.74,2,   -999.0,9,   -999.0,9,-999.0000,9,  -999.00,      311
  49UF20100615,  P13N,  2701,  1,     23,  21983,2,20100710,0225,  3.0060, 165.0112, 4263,    202.5,  11.6025,  34.5795,2,-999.0000,9,    121.0,2,    25.75,2,    22.87,2,     0.00,2,     1.64,2,   -999.0,9,   -999.0,9,-999.0000,9,  -999.00,      309
  49UF20100615,  P13N,  2701,  1,     22,  21982,2,20100710,0225,  3.0060, 165.0112, 4263,    252.7,  11.2673,  34.7924,2,-999.0000,9,    126.1,2,    21.82,2,    23.66,2,     0.00,2,     1.67,2,   -999.0,9,   -999.0,9,-999.0000,9,  -999.00,      308
  49UF20100615,  P13N,  2701,  1,     21,  21981,2,20100710,0225,  3.0060, 165.0112, 4263,    302.5,  10.6594,  34.7598,2,-999.0000,9,    102.8,2,    24.57,2,    27.20,2,     0.00,2,     1.90,2,   -999.0,9,   -999.0,9,-999.0000,9,  -999.00,      306
  49UF20100615,  P13N,  2701,  1,     20,  21980,2,20100710,0225,  3.0060, 165.0112, 4263,    403.1,   9.6438,  34.6783,2,-999.0000,9,    121.4,2,    27.42,2,    27.12,2,     0.00,2,     1.89,2,   -999.0,9,   -999.0,9,-999.0000,9,  -999.00,      303
  49UF20100615,  P13N,  2701,  1,     19,  21978,2,20100710,0225,  3.0060, 165.0112, 4263,    503.7,   8.0674,  34.5876,2,-999.0000,9,    103.0,2,    37.39,2,    31.89,2,     0.00,2,     2.24,2,   -999.0,9,   -999.0,9,-999.0000,9,  -999.00,      301
  49UF20100615,  P13N,  2701,  1,     15,  21974,2,20100710,0225,  3.0060, 165.0112, 4263,    606.8,   7.0901,  34.5668,2,-999.0000,9,     68.2,2,    49.66,2,    37.54,2,     0.00,2,     2.67,2,   -999.0,9,   -999.0,9,-999.0000,9,  -999.00,      258
  49UF20100615,  P13N,  2701,  1,     14,  21973,2,20100710,0225,  3.0060, 165.0112, 4263,    707.1,   6.1435,  34.5461,2,-999.0000,9,     74.2,6,    59.77,6,    38.44,6,     0.00,6,     2.76,6,   -999.0,9,   -999.0,9,-999.0000,9,  -999.00,      255
  49UF20100615,  P13N,  2701,  1,     13,  21972,2,20100710,0225,  3.0060, 165.0112, 4263,    807.6,   5.3201,  34.5402,2,-999.0000,9,     93.0,2,    71.60,2,    37.45,2,     0.00,2,     2.69,2,   -999.0,9,   -999.0,9,-999.0000,9,  -999.00,      253
  49UF20100615,  P13N,  2701,  1,     12,  21971,2,20100710,0225,  3.0060, 165.0112, 4263,    909.3,   4.8848,  34.5475,2,-999.0000,9,     91.1,2,    78.67,2,    38.64,2,     0.00,2,     2.77,2,   -999.0,9,   -999.0,9,-999.0000,9,  -999.00,      250
  49UF20100615,  P13N,  2701,  1,     11,  21970,2,20100710,0225,  3.0060, 165.0112, 4263,   1009.1,   4.4907,  34.5566,2,-999.0000,9,     89.4,2,    89.06,2,    38.89,2,     0.00,2,     2.80,2,   -999.0,9,   -999.0,9,-999.0000,9,  -999.00,      247
  49UF20100615,  P13N,  2701,  1,     10,  21969,2,20100710,0225,  3.0060, 165.0112, 4263,   1009.1,   4.4907,  34.5566,2,-999.0000,9,     89.4,2,    89.00,2,    39.09,2,     0.00,2,     2.80,2,   -999.0,9,   -999.0,9,-999.0000,9,  -999.00,      247
  49UF20100615,  P13N,  2701,  1,      6,  21965,2,20100710,0225,  3.0060, 165.0112, 4263,   1211.5,   3.7423,  34.5771,2,-999.0000,9,     95.0,3,   105.38,2,    39.73,2,     0.00,2,     2.86,2,   -999.0,9,   -999.0,9,-999.0000,9,  -999.00,      243
  49UF20100615,  P13N,  2701,  1,      5,  21964,3,20100710,0225,  3.0060, 165.0112, 4263,   1211.5,   3.7423,  34.5771,2,-999.0000,9,     90.2,4,    81.60,4,    37.07,4,     0.00,4,     2.66,4,   -999.0,9,   -999.0,9,-999.0000,9,  -999.00,      243
  49UF20100615,  P13N,  2701,  1,      4,  21963,2,20100710,0225,  3.0060, 165.0112, 4263,   1413.8,   3.2364,  34.5944,2,-999.0000,9,     94.0,2,   116.07,2,    40.02,2,     0.00,2,     2.84,2,   -999.0,9,   -999.0,9,-999.0000,9,  -999.00,      238
  49UF20100615,  P13N,  2701,  1,      3,  21962,2,20100710,0225,  3.0060, 165.0112, 4263,   1615.9,   2.7798,  34.6126,2,-999.0000,9,    102.4,2,   125.76,2,    39.58,2,     0.00,2,     2.81,2,   -999.0,9,   -999.0,9,-999.0000,9,  -999.00,      234
  49UF20100615,  P13N,  2701,  1,      2,  21961,2,20100710,0225,  3.0060, 165.0112, 4263,   1819.2,   2.4720,  34.6264,2,-999.0000,9,    109.0,2,   132.85,2,    39.21,2,     0.00,2,     2.77,2,   -999.0,9,   -999.0,9,-999.0000,9,  -999.00,      229
  49UF20100615,  P13N,  2701,  1,      1,  21960,2,20100710,0225,  3.0060, 165.0112, 4263,   2022.4,   2.2140,  34.6400,2,-999.0000,9,    114.1,2,   138.21,2,    38.79,2,     0.00,2,     2.75,2,   -999.0,9,   -999.0,9,-999.0000,9,  -999.00,      225
  49UF20100615,  P13N,  2702,  1,     99,     99,2,20100710,0928,  2.0773, 164.9985, 4154,      0.0,  29.4307,  34.9216,2,-999.0000,9,    197.8,2,     1.44,2,     0.03,2,     0.01,2,     0.19,2,   -999.0,9,   -999.0,9,-999.0000,9,  -999.00,     1010
  49UF20100615,  P13N,  2702,  1,     33,  21993,2,20100710,0928,  2.0773, 164.9985, 4154,     11.4,  29.4187,  34.9278,2,  34.9345,4,    197.8,2,     1.50,2,     0.08,2,     0.00,2,     0.20,2,   -999.0,9,   -999.0,9,-999.0000,9,  -999.00,     1026
  49UF20100615,  P13N,  2702,  1,     32,  21992,2,20100710,0928,  2.0773, 164.9985, 4154,     27.2,  29.3522,  35.0144,2,-999.0000,9,    198.0,2,     1.55,2,     0.07,2,     0.01,2,     0.20,2,   -999.0,9,   -999.0,9,-999.0000,9,  -999.00,     1025
  49UF20100615,  P13N,  2702,  1,     31,  21991,2,20100710,0928,  2.0773, 164.9985, 4154,     51.8,  29.3122,  35.0795,2,-999.0000,9,    195.8,2,     1.55,2,     0.51,2,     0.10,2,     0.24,2,   -999.0,9,   -999.0,9,-999.0000,9,  -999.00,     1021
  49UF20100615,  P13N,  2702,  1,     30,  21990,2,20100710,0928,  2.0773, 164.9985, 4154,     75.9,  29.1688,  35.1565,2,-999.0000,9,    191.8,6,     1.47,6,     0.91,6,     0.23,6,     0.28,6,   -999.0,9,   -999.0,9,-999.0000,9,  -999.00,     1019
  49UF20100615,  P13N,  2702,  1,     29,  21989,2,20100710,0928,  2.0773, 164.9985, 4154,    102.3,  26.3808,  35.0871,2,  35.1096,4,    138.9,2,     3.06,2,     6.87,2,     0.49,2,     0.58,2,   -999.0,9,   -999.0,9,-999.0000,9,  -999.00,     1018
  49UF20100615,  P13N,  2702,  1,     28,  21988,2,20100710,0928,  2.0773, 164.9985, 4154,    124.8,  23.9743,  35.1647,2,-999.0000,9,    132.0,2,     4.71,2,     9.15,2,     0.03,2,     0.69,2,   -999.0,9,   -999.0,9,-999.0000,9,  -999.00,     1017
  49UF20100615,  P13N,  2702,  1,     24,  21984,2,20100710,0928,  2.0773, 164.9985, 4154,    150.5,  20.0873,  34.8315,2,-999.0000,9,    146.4,2,     8.16,2,     8.98,2,     0.01,2,     0.67,2,   -999.0,9,   -999.0,9,-999.0000,9,  -999.00,     1016
  49UF20100615,  P13N,  2702,  1,     23,  21983,2,20100710,0928,  2.0773, 164.9985, 4154,    202.0,  12.7297,  34.6361,2,  34.6358,6,    134.8,2,    22.38,2,    19.72,2,     0.00,2,     1.40,2,   -999.0,9,   -999.0,9,-999.0000,9,  -999.00,     1014
  49UF20100615,  P13N,  2702,  1,     22,  21982,2,20100710,0928,  2.0773, 164.9985, 4154,    251.9,  11.8412,  34.8292,2,-999.0000,9,    116.7,2,    20.67,2,    23.41,2,     0.00,2,     1.65,2,   -999.0,9,   -999.0,9,-999.0000,9,  -999.00,     1012
  49UF20100615,  P13N,  2702,  1,     21,  21981,2,20100710,0928,  2.0773, 164.9985, 4154,    302.2,  10.7554,  34.7615,2,-999.0000,9,     87.0,2,    25.99,2,    28.51,2,     0.00,2,     1.98,2,   -999.0,9,   -999.0,9,-999.0000,9,  -999.00,     1010
  49UF20100615,  P13N,  2702,  1,     20,  21980,2,20100710,0928,  2.0773, 164.9985, 4154,    403.6,   9.7377,  34.6991,2,  34.6977,6,    103.4,2,    27.64,2,    28.77,2,     0.00,2,     1.98,2,   -999.0,9,   -999.0,9,-999.0000,9,  -999.00,     1008
  49UF20100615,  P13N,  2702,  1,     19,  21978,2,20100710,0928,  2.0773, 164.9985, 4154,    504.3,   8.5465,  34.6253,2,-999.0000,9,     88.6,2,    35.54,2,    32.68,2,     0.00,2,     2.26,2,   -999.0,9,   -999.0,9,-999.0000,9,  -999.00,     1005
  49UF20100615,  P13N,  2702,  1,     15,  21974,2,20100710,0928,  2.0773, 164.9985, 4154,    605.7,   7.1744,  34.5612,2,  34.5608,2,     90.4,2,    45.47,2,    34.90,2,     0.00,2,     2.43,2,   -999.0,9,   -999.0,9,-999.0000,9,  -999.00,     1003
  49UF20100615,  P13N,  2702,  1,     14,  21973,2,20100710,0928,  2.0773, 164.9985, 4154,    706.8,   5.9946,  34.5383,2,-999.0000,9,     88.9,2,    60.56,2,    37.04,2,     0.00,2,     2.62,2,   -999.0,9,   -999.0,9,-999.0000,9,  -999.00,     1000
  49UF20100615,  P13N,  2702,  1,     13,  21972,2,20100710,0928,  2.0773, 164.9985, 4154,    807.9,   5.3332,  34.5407,2,  34.5410,2,     90.0,6,    71.50,6,    37.93,6,     0.00,6,     2.67,6,   -999.0,9,   -999.0,9,-999.0000,9,  -999.00,      957
  49UF20100615,  P13N,  2702,  1,     12,  21971,2,20100710,0928,  2.0773, 164.9985, 4154,    908.4,   4.8084,  34.5492,2,-999.0000,9,     93.2,2,    82.13,2,    38.06,2,     0.00,2,     2.69,2,   -999.0,9,   -999.0,9,-999.0000,9,  -999.00,      955
  49UF20100615,  P13N,  2702,  1,     11,  21970,2,20100710,0928,  2.0773, 164.9985, 4154,   1007.4,   4.3934,  34.5590,2,  34.5576,2,     95.7,2,    90.35,2,    38.38,2,     0.00,2,     2.70,2,   -999.0,9,   -999.0,9,-999.0000,9,  -999.00,      952
  49UF20100615,  P13N,  2702,  1,     10,  21969,2,20100710,0928,  2.0773, 164.9985, 4154,   1211.8,   3.7343,  34.5774,2,  34.5765,2,     91.9,2,   104.19,2,    39.50,2,     0.00,2,     2.80,2,   -999.0,9,   -999.0,9,-999.0000,9,  -999.00,      948
  49UF20100615,  P13N,  2702,  1,      6,  21965,2,20100710,0928,  2.0773, 164.9985, 4154,   1413.7,   3.1688,  34.5971,2,-999.0000,9,     93.5,2,   117.99,4,    39.82,2,     0.00,2,     2.82,2,   -999.0,9,   -999.0,9,-999.0000,9,  -999.00,      943
  49UF20100615,  P13N,  2702,  1,      5,  21964,3,20100710,0928,  2.0773, 164.9985, 4154,   1413.7,   3.1688,  34.5971,2,  34.5957,2,     93.9,2,   115.55,2,    39.67,2,     0.00,2,     2.80,2,   -999.0,9,   -999.0,9,-999.0000,9,  -999.00,      943
  49UF20100615,  P13N,  2702,  1,      4,  21963,2,20100710,0928,  2.0773, 164.9985, 4154,   1617.3,   2.7769,  34.6126,2,-999.0000,9,    102.6,2,   125.50,2,    39.44,2,     0.00,2,     2.79,2,   -999.0,9,   -999.0,9,-999.0000,9,  -999.00,      938
  49UF20100615,  P13N,  2702,  1,      3,  21962,2,20100710,0928,  2.0773, 164.9985, 4154,   1617.3,   2.7769,  34.6126,2,  34.6121,2,    102.6,2,   125.46,2,    39.39,2,     0.00,2,     2.77,2,   -999.0,9,   -999.0,9,-999.0000,9,  -999.00,      938
  49UF20100615,  P13N,  2702,  1,      2,  21961,2,20100710,0928,  2.0773, 164.9985, 4154,   1818.0,   2.4448,  34.6271,2,  34.6258,2,    110.0,2,   132.12,2,    38.87,2,     0.00,2,     2.71,2,   -999.0,9,   -999.0,9,-999.0000,9,  -999.00,      933
  49UF20100615,  P13N,  2702,  1,      1,  21960,2,20100710,0928,  2.0773, 164.9985, 4154,   2023.7,   2.1641,  34.6426,2,  34.6412,2,    117.9,2,   136.78,2,    38.60,2,     0.00,2,     2.68,2,   -999.0,9,   -999.0,9,-999.0000,9,  -999.00,      928