BOTTLE,20190925PRINUNIVRMK
EXPOCODE,SECT_ID,STNNBR,CASTNO,SAMPNO,BTLNBR,BTLNBR_FLAG_W,DATE,TIME,LATITUDE,LONGITUDE,DEPTH,CTDPRS,CTDTMP,CTDSAL,CTDSAL_FLAG_W,SALNTY,SALNTY_FLAG_W,OXYGEN,OXYGEN_FLAG_W,SILCAT,SILCAT_FLAG_W,NITRAT,NITRAT_FLAG_W,NITRIT,NITRIT_FLAG_W,PHSPHT,PHSPHT_FLAG_W,TCARBN,TCARBN_FLAG_W,ALKALI,ALKALI_FLAG_W,PH_TOT,PH_TOT_FLAG_W,PH_TMP,BTL_TIME
,,,,,,,,,,,METERS,DBAR,ITS-90,PSS-78,,PSS-78,,UMOL/KG,,UMOL/KG,,UMOL/KG,,UMOL/KG,,UMOL/KG,,UMOL/KG,,UMOL/KG,,,,DEG C,
  49UF20100615,  P13N,  2706,  1,     99,     99,2,20100711,1401, -1.9123, 164.9808, 4461,      0.0,  29.8818,  34.9414,2,-999.0000,9,    194.8,2,     0.86,2,     0.00,2,     0.00,2,     0.12,2,   -999.0,9,   -999.0,9,-999.0000,9,  -999.00,     1450
  49UF20100615,  P13N,  2706,  1,     33,  21993,2,20100711,1401, -1.9123, 164.9808, 4461,     10.4,  29.9036,  34.9565,2,-999.0000,9,    196.2,2,     0.91,2,     0.01,2,     0.00,2,     0.13,2,   -999.0,9,   -999.0,9,-999.0000,9,  -999.00,     1505
  49UF20100615,  P13N,  2706,  1,     32,  21992,2,20100711,1401, -1.9123, 164.9808, 4461,     24.9,  29.7985,  35.2694,2,-999.0000,9,    196.3,2,     1.00,2,     0.51,2,     0.07,2,     0.21,2,   -999.0,9,   -999.0,9,-999.0000,9,  -999.00,     1504
  49UF20100615,  P13N,  2706,  1,     31,  21991,2,20100711,1401, -1.9123, 164.9808, 4461,     51.6,  29.1923,  35.5526,2,-999.0000,9,    190.6,2,     1.64,2,     2.24,2,     0.50,2,     0.37,2,   -999.0,9,   -999.0,9,-999.0000,9,  -999.00,     1458
  49UF20100615,  P13N,  2706,  1,     30,  21990,2,20100711,1401, -1.9123, 164.9808, 4461,     77.1,  28.9869,  35.5449,2,-999.0000,9,    188.2,2,     1.64,2,     2.44,2,     0.59,2,     0.40,2,   -999.0,9,   -999.0,9,-999.0000,9,  -999.00,     1457
  49UF20100615,  P13N,  2706,  1,     29,  21989,2,20100711,1401, -1.9123, 164.9808, 4461,    103.6,  28.5734,  35.5520,2,-999.0000,9,    176.9,2,     1.78,2,     3.69,2,     0.98,2,     0.50,2,   -999.0,9,   -999.0,9,-999.0000,9,  -999.00,     1456
  49UF20100615,  P13N,  2706,  1,     28,  21988,2,20100711,1401, -1.9123, 164.9808, 4461,    128.7,  25.0990,  35.7508,2,-999.0000,9,    133.8,2,     2.80,2,    10.26,2,     0.03,2,     0.86,2,   -999.0,9,   -999.0,9,-999.0000,9,  -999.00,     1455
  49UF20100615,  P13N,  2706,  1,     24,  21984,2,20100711,1401, -1.9123, 164.9808, 4461,    151.8,  21.9699,  35.7556,2,-999.0000,9,    120.0,2,     3.67,2,    11.80,2,     0.02,2,     0.98,2,   -999.0,9,   -999.0,9,-999.0000,9,  -999.00,     1453
  49UF20100615,  P13N,  2706,  1,     23,  21983,2,20100711,1401, -1.9123, 164.9808, 4461,    202.9,  12.4625,  34.9200,2,-999.0000,9,    135.2,6,    16.29,6,    20.60,6,     0.00,6,     1.48,6,   -999.0,9,   -999.0,9,-999.0000,9,  -999.00,     1451
  49UF20100615,  P13N,  2706,  1,     22,  21982,2,20100711,1401, -1.9123, 164.9808, 4461,    253.0,  11.7490,  34.8496,2,-999.0000,9,    123.9,2,    19.39,2,    23.00,2,     0.00,2,     1.61,2,   -999.0,9,   -999.0,9,-999.0000,9,  -999.00,     1450
  49UF20100615,  P13N,  2706,  1,     21,  21981,2,20100711,1401, -1.9123, 164.9808, 4461,    303.0,  10.9632,  34.7924,2,-999.0000,9,    103.7,2,    22.95,2,    26.67,2,     0.00,2,     1.85,2,   -999.0,9,   -999.0,9,-999.0000,9,  -999.00,     1448
  49UF20100615,  P13N,  2706,  1,     20,  21980,2,20100711,1401, -1.9123, 164.9808, 4461,    404.5,   9.9009,  34.7286,2,-999.0000,9,    125.0,2,    21.76,2,    26.57,2,     0.00,2,     1.84,2,   -999.0,9,   -999.0,9,-999.0000,9,  -999.00,     1445
  49UF20100615,  P13N,  2706,  1,     19,  21978,2,20100711,1401, -1.9123, 164.9808, 4461,    504.3,   8.4101,  34.6388,2,-999.0000,9,     77.2,2,    33.56,2,    34.60,2,     0.00,2,     2.38,2,   -999.0,9,   -999.0,9,-999.0000,9,  -999.00,     1442
  49UF20100615,  P13N,  2706,  1,     15,  21974,2,20100711,1401, -1.9123, 164.9808, 4461,    605.5,   7.1168,  34.5702,2,-999.0000,9,     90.1,2,    41.24,2,    35.66,2,     0.00,2,     2.49,2,   -999.0,9,   -999.0,9,-999.0000,9,  -999.00,     1439
  49UF20100615,  P13N,  2706,  1,     14,  21973,2,20100711,1401, -1.9123, 164.9808, 4461,    707.4,   5.9362,  34.5292,2,-999.0000,9,    113.0,2,    51.41,2,    35.75,2,     0.00,2,     2.49,2,   -999.0,9,   -999.0,9,-999.0000,9,  -999.00,     1436
  49UF20100615,  P13N,  2706,  1,     13,  21972,2,20100711,1401, -1.9123, 164.9808, 4461,    806.4,   5.3226,  34.5362,2,-999.0000,9,    101.0,2,    65.73,2,    37.62,2,     0.00,2,     2.65,2,   -999.0,9,   -999.0,9,-999.0000,9,  -999.00,     1433
  49UF20100615,  P13N,  2706,  1,     12,  21971,2,20100711,1401, -1.9123, 164.9808, 4461,    908.6,   5.0676,  34.5376,2,-999.0000,9,    103.2,2,    70.37,2,    37.68,2,     0.00,2,     2.65,2,   -999.0,9,   -999.0,9,-999.0000,9,  -999.00,     1430
  49UF20100615,  P13N,  2706,  1,     11,  21970,2,20100711,1401, -1.9123, 164.9808, 4461,   1010.0,   4.4060,  34.5485,2,-999.0000,9,    102.1,2,    83.27,2,    38.58,2,     0.00,2,     2.72,2,   -999.0,9,   -999.0,9,-999.0000,9,  -999.00,     1427
  49UF20100615,  P13N,  2706,  1,     10,  21969,2,20100711,1401, -1.9123, 164.9808, 4461,   1010.0,   4.4060,  34.5485,2,-999.0000,9,    103.0,2,    82.55,2,    38.11,2,     0.00,2,     2.72,2,   -999.0,9,   -999.0,9,-999.0000,9,  -999.00,     1427
  49UF20100615,  P13N,  2706,  1,      6,  21965,2,20100711,1401, -1.9123, 164.9808, 4461,   1211.9,   3.6910,  34.5737,2,-999.0000,9,     98.8,2,   101.22,2,    39.34,2,     0.00,2,     2.80,2,   -999.0,9,   -999.0,9,-999.0000,9,  -999.00,     1421
  49UF20100615,  P13N,  2706,  1,      5,  21964,2,20100711,1401, -1.9123, 164.9808, 4461,   1211.9,   3.6910,  34.5737,2,-999.0000,9,     99.5,2,   100.36,2,    39.16,2,     0.00,2,     2.79,2,   -999.0,9,   -999.0,9,-999.0000,9,  -999.00,     1421
  49UF20100615,  P13N,  2706,  1,      4,  21963,2,20100711,1401, -1.9123, 164.9808, 4461,   1414.5,   3.1741,  34.5913,2,-999.0000,9,    109.6,6,   110.91,6,    38.72,6,     0.00,6,     2.74,6,   -999.0,9,   -999.0,9,-999.0000,9,  -999.00,     1416
  49UF20100615,  P13N,  2706,  1,      3,  21962,2,20100711,1401, -1.9123, 164.9808, 4461,   1618.3,   2.7899,  34.6112,2,-999.0000,9,    109.4,2,   123.04,2,    38.90,2,     0.00,2,     2.75,2,   -999.0,9,   -999.0,9,-999.0000,9,  -999.00,     1411
  49UF20100615,  P13N,  2706,  1,      2,  21961,2,20100711,1401, -1.9123, 164.9808, 4461,   1819.2,   2.4866,  34.6255,2,-999.0000,9,    117.1,2,   128.61,2,    38.80,2,     0.00,2,     2.72,2,   -999.0,9,   -999.0,9,-999.0000,9,  -999.00,     1405
  49UF20100615,  P13N,  2706,  1,      1,  21960,2,20100711,1401, -1.9123, 164.9808, 4461,   2022.1,   2.1756,  34.6428,2,-999.0000,9,    119.2,2,   138.04,2,    38.80,2,     0.00,2,     2.71,2,   -999.0,9,   -999.0,9,-999.0000,9,  -999.00,     1401
  49UF20100615,  P13N,  2707,  1,     99,     99,2,20100712,0348, -3.0000, 164.9932, 4123,      0.0,  29.7794,  35.0770,2,-999.0000,9,    197.1,2,     1.02,2,     0.40,2,     0.02,2,     0.18,2,   -999.0,9,   -999.0,9,-999.0000,9,  -999.00,      430
  49UF20100615,  P13N,  2707,  1,     33,  21993,2,20100712,0348, -3.0000, 164.9932, 4123,     10.4,  29.7430,  35.0657,2,-999.0000,9,    198.2,2,     1.02,2,     0.44,2,     0.02,2,     0.18,2,   -999.0,9,   -999.0,9,-999.0000,9,  -999.00,      457
  49UF20100615,  P13N,  2707,  1,     32,  21992,2,20100712,0348, -3.0000, 164.9932, 4123,     25.1,  29.6494,  35.2713,2,-999.0000,9,    199.9,2,     1.15,2,     0.62,2,     0.04,2,     0.22,2,   -999.0,9,   -999.0,9,-999.0000,9,  -999.00,      456
  49UF20100615,  P13N,  2707,  1,     31,  21991,2,20100712,0348, -3.0000, 164.9932, 4123,     50.8,  29.1992,  35.5904,2,-999.0000,9,    197.0,2,     1.27,2,     2.04,2,     0.18,2,     0.39,2,   -999.0,9,   -999.0,9,-999.0000,9,  -999.00,      451
  49UF20100615,  P13N,  2707,  1,     30,  21990,2,20100712,0348, -3.0000, 164.9932, 4123,     75.9,  29.0050,  35.5775,2,-999.0000,9,    183.1,2,     1.80,2,     2.89,2,     1.06,2,     0.48,2,   -999.0,9,   -999.0,9,-999.0000,9,  -999.00,      450
  49UF20100615,  P13N,  2707,  1,     29,  21989,2,20100712,0348, -3.0000, 164.9932, 4123,    101.0,  28.4922,  35.5429,2,-999.0000,9,    174.6,2,     1.91,2,     3.66,2,     1.56,2,     0.54,2,   -999.0,9,   -999.0,9,-999.0000,9,  -999.00,      448
  49UF20100615,  P13N,  2707,  1,     28,  21988,2,20100712,0348, -3.0000, 164.9932, 4123,    128.0,  26.8438,  35.8087,2,-999.0000,9,    150.6,2,     2.17,2,     7.59,2,     0.62,2,     0.74,2,   -999.0,9,   -999.0,9,-999.0000,9,  -999.00,      447
  49UF20100615,  P13N,  2707,  1,     24,  21984,2,20100712,0348, -3.0000, 164.9932, 4123,    152.8,  22.7361,  35.8200,2,-999.0000,9,    128.0,2,     3.45,2,    11.18,2,     0.02,2,     0.96,2,   -999.0,9,   -999.0,9,-999.0000,9,  -999.00,      446
  49UF20100615,  P13N,  2707,  1,     23,  21983,2,20100712,0348, -3.0000, 164.9932, 4123,    202.0,  14.1223,  35.1139,2,-999.0000,9,    117.5,2,    10.84,2,    19.65,2,     0.00,2,     1.48,2,   -999.0,9,   -999.0,9,-999.0000,9,  -999.00,      444
  49UF20100615,  P13N,  2707,  1,     22,  21982,2,20100712,0348, -3.0000, 164.9932, 4123,    251.5,  11.4477,  34.8657,2,-999.0000,9,    138.5,6,    14.97,6,    22.05,6,     0.00,6,     1.58,6,   -999.0,9,   -999.0,9,-999.0000,9,  -999.00,      432
  49UF20100615,  P13N,  2707,  1,     21,  21981,2,20100712,0348, -3.0000, 164.9932, 4123,    301.5,  10.6829,  34.7945,2,-999.0000,9,    136.4,2,    17.59,2,    23.67,2,     0.00,2,     1.66,2,   -999.0,9,   -999.0,9,-999.0000,9,  -999.00,      431
  49UF20100615,  P13N,  2707,  1,     20,  21980,2,20100712,0348, -3.0000, 164.9932, 4123,    402.9,   9.4715,  34.6992,2,-999.0000,9,     87.8,2,    27.76,2,    31.03,2,     0.00,2,     2.15,2,   -999.0,9,   -999.0,9,-999.0000,9,  -999.00,      428
  49UF20100615,  P13N,  2707,  1,     19,  21978,2,20100712,0348, -3.0000, 164.9932, 4123,    503.1,   8.5040,  34.6432,2,-999.0000,9,     74.2,2,    33.95,2,    34.60,2,     0.00,2,     2.38,2,   -999.0,9,   -999.0,9,-999.0000,9,  -999.00,      426
  49UF20100615,  P13N,  2707,  1,     15,  21974,2,20100712,0348, -3.0000, 164.9932, 4123,    604.3,   7.3146,  34.5863,2,-999.0000,9,     69.7,2,    43.59,2,    37.45,2,     0.00,2,     2.62,2,   -999.0,9,   -999.0,9,-999.0000,9,  -999.00,      423
  49UF20100615,  P13N,  2707,  1,     14,  21973,2,20100712,0348, -3.0000, 164.9932, 4123,    705.1,   6.4000,  34.5552,2,-999.0000,9,     77.5,2,    51.20,2,    38.70,2,     0.00,2,     2.70,2,   -999.0,9,   -999.0,9,-999.0000,9,  -999.00,      420
  49UF20100615,  P13N,  2707,  1,     13,  21972,2,20100712,0348, -3.0000, 164.9932, 4123,    807.3,   5.5138,  34.5390,2,-999.0000,9,     90.5,2,    61.99,2,    38.47,2,     0.00,2,     2.71,2,   -999.0,9,   -999.0,9,-999.0000,9,  -999.00,      417
  49UF20100615,  P13N,  2707,  1,     12,  21971,2,20100712,0348, -3.0000, 164.9932, 4123,    907.3,   4.9257,  34.5417,2,-999.0000,9,     95.1,2,    73.12,2,    38.68,2,     0.00,2,     2.74,2,   -999.0,9,   -999.0,9,-999.0000,9,  -999.00,      415
  49UF20100615,  P13N,  2707,  1,     11,  21970,2,20100712,0348, -3.0000, 164.9932, 4123,   1007.8,   4.4619,  34.5461,2,-999.0000,9,    102.9,2,    80.09,2,    38.20,2,     0.00,2,     2.71,2,   -999.0,9,   -999.0,9,-999.0000,9,  -999.00,      412
  49UF20100615,  P13N,  2707,  1,     10,  21969,2,20100712,0348, -3.0000, 164.9932, 4123,   1210.7,   3.7358,  34.5721,2,-999.0000,9,     99.2,2,    99.11,2,    39.17,2,     0.00,2,     2.78,2,   -999.0,9,   -999.0,9,-999.0000,9,  -999.00,      408
  49UF20100615,  P13N,  2707,  1,      6,  21965,2,20100712,0348, -3.0000, 164.9932, 4123,   1412.1,   3.2180,  34.5902,2,-999.0000,9,    109.0,2,   109.85,2,    38.78,2,     0.00,2,     2.75,2,   -999.0,9,   -999.0,9,-999.0000,9,  -999.00,      403
  49UF20100615,  P13N,  2707,  1,      5,  21964,2,20100712,0348, -3.0000, 164.9932, 4123,   1412.1,   3.2180,  34.5902,2,-999.0000,9,    109.7,2,   109.97,2,    38.82,2,     0.00,2,     2.74,2,   -999.0,9,   -999.0,9,-999.0000,9,  -999.00,      403
  49UF20100615,  P13N,  2707,  1,      4,  21963,2,20100712,0348, -3.0000, 164.9932, 4123,   1615.1,   2.7706,  34.6113,2,-999.0000,9,    112.6,2,   120.77,2,    38.73,2,     0.00,2,     2.74,2,   -999.0,9,   -999.0,9,-999.0000,9,  -999.00,      358
  49UF20100615,  P13N,  2707,  1,      3,  21962,2,20100712,0348, -3.0000, 164.9932, 4123,   1615.1,   2.7706,  34.6113,2,-999.0000,9,    111.2,2,   120.77,6,    38.81,6,     0.00,6,     2.75,6,   -999.0,9,   -999.0,9,-999.0000,9,  -999.00,      358
  49UF20100615,  P13N,  2707,  1,      2,  21961,2,20100712,0348, -3.0000, 164.9932, 4123,   1816.7,   2.4387,  34.6284,2,-999.0000,9,    116.0,2,   128.36,2,    38.62,2,     0.00,2,     2.72,2,   -999.0,9,   -999.0,9,-999.0000,9,  -999.00,      353
  49UF20100615,  P13N,  2707,  1,      1,  21960,2,20100712,0348, -3.0000, 164.9932, 4123,   2020.9,   2.2007,  34.6415,2,-999.0000,9,    121.8,2,   134.19,2,    38.39,2,     0.00,2,     2.69,2,   -999.0,9,   -999.0,9,-999.0000,9,  -999.00,      348
  49UF20100615,  P13N,  2708,  1,     99,     99,2,20100712,1045, -3.9965, 164.9602, 3275,      0.0,  29.7778,  35.1045,2,-999.0000,9,    196.4,2,     0.93,2,     0.45,2,     0.02,2,     0.17,2,   -999.0,9,   -999.0,9,-999.0000,9,  -999.00,     1128
  49UF20100615,  P13N,  2708,  1,     33,  21993,2,20100712,1045, -3.9965, 164.9602, 3275,     12.1,  29.7509,  35.3136,2,  35.3938,4,    197.8,2,     1.07,2,     1.31,2,     0.05,2,     0.25,2,   -999.0,9,   -999.0,9,-999.0000,9,  -999.00,     1148
  49UF20100615,  P13N,  2708,  1,     32,  21992,2,20100712,1045, -3.9965, 164.9602, 3275,     27.2,  29.6413,  35.5534,2,-999.0000,9,    199.0,2,     1.17,2,     1.91,2,     0.08,2,     0.32,2,   -999.0,9,   -999.0,9,-999.0000,9,  -999.00,     1146
  49UF20100615,  P13N,  2708,  1,     31,  21991,2,20100712,1045, -3.9965, 164.9602, 3275,     52.1,  29.5256,  35.5761,2,-999.0000,9,    195.5,2,     1.26,2,     2.24,2,     0.11,2,     0.35,2,   -999.0,9,   -999.0,9,-999.0000,9,  -999.00,     1142
  49UF20100615,  P13N,  2708,  1,     30,  21990,2,20100712,1045, -3.9965, 164.9602, 3275,     77.9,  29.2996,  35.5893,2,-999.0000,9,    187.8,2,     1.72,2,     2.68,2,     0.30,2,     0.42,2,   -999.0,9,   -999.0,9,-999.0000,9,  -999.00,     1141
  49UF20100615,  P13N,  2708,  1,     29,  21989,2,20100712,1045, -3.9965, 164.9602, 3275,    102.6,  29.0473,  35.5917,2,  35.5913,2,    179.5,2,     1.97,2,     3.03,2,     1.09,2,     0.49,2,   -999.0,9,   -999.0,9,-999.0000,9,  -999.00,     1139
  49UF20100615,  P13N,  2708,  1,     28,  21988,2,20100712,1045, -3.9965, 164.9602, 3275,    128.5,  28.4565,  35.6066,2,-999.0000,9,    172.4,2,     2.04,2,     3.95,2,     1.65,2,     0.55,2,   -999.0,9,   -999.0,9,-999.0000,9,  -999.00,     1138
  49UF20100615,  P13N,  2708,  1,     24,  21984,2,20100712,1045, -3.9965, 164.9602, 3275,    152.6,  26.5458,  35.8721,2,-999.0000,9,    145.4,2,     2.45,2,     8.09,2,     0.26,2,     0.73,2,   -999.0,9,   -999.0,9,-999.0000,9,  -999.00,     1136
  49UF20100615,  P13N,  2708,  1,     23,  21983,2,20100712,1045, -3.9965, 164.9602, 3275,    204.0,  18.0952,  35.4651,2,  35.4931,4,    104.7,2,     6.84,2,    15.94,2,     0.01,2,     1.28,2,   -999.0,9,   -999.0,9,-999.0000,9,  -999.00,     1134
  49UF20100615,  P13N,  2708,  1,     22,  21982,2,20100712,1045, -3.9965, 164.9602, 3275,    254.5,  12.7770,  34.9809,2,-999.0000,9,     95.0,2,    14.81,2,    23.53,2,     0.00,2,     1.73,2,   -999.0,9,   -999.0,9,-999.0000,9,  -999.00,     1133
  49UF20100615,  P13N,  2708,  1,     21,  21981,2,20100712,1045, -3.9965, 164.9602, 3275,    304.7,  10.2076,  34.7650,2,-999.0000,9,     96.2,6,    22.66,6,    28.52,6,     0.00,6,     1.98,6,   -999.0,9,   -999.0,9,-999.0000,9,  -999.00,     1131
  49UF20100615,  P13N,  2708,  1,     20,  21980,2,20100712,1045, -3.9965, 164.9602, 3275,    404.8,   9.1217,  34.6808,2,  34.6811,2,     76.3,2,    30.14,2,    32.88,2,     0.00,2,     2.27,2,   -999.0,9,   -999.0,9,-999.0000,9,  -999.00,     1128
  49UF20100615,  P13N,  2708,  1,     19,  21978,2,20100712,1045, -3.9965, 164.9602, 3275,    506.0,   8.1696,  34.6273,2,-999.0000,9,     70.4,2,    36.21,2,    35.64,2,     0.00,2,     2.46,2,   -999.0,9,   -999.0,9,-999.0000,9,  -999.00,     1125
  49UF20100615,  P13N,  2708,  1,     15,  21974,2,20100712,1045, -3.9965, 164.9602, 3275,    606.6,   7.1832,  34.5801,2,  34.5793,2,     74.0,2,    43.07,2,    37.39,2,     0.00,2,     2.59,2,   -999.0,9,   -999.0,9,-999.0000,9,  -999.00,     1122
  49UF20100615,  P13N,  2708,  1,     14,  21973,2,20100712,1045, -3.9965, 164.9602, 3275,    706.6,   6.2958,  34.5569,2,-999.0000,9,     67.9,2,    54.69,2,    39.70,2,     0.00,2,     2.77,2,   -999.0,9,   -999.0,9,-999.0000,9,  -999.00,     1119
  49UF20100615,  P13N,  2708,  1,     13,  21972,2,20100712,1045, -3.9965, 164.9602, 3275,    807.9,   5.4765,  34.5352,2,  34.5350,2,     95.4,2,    61.76,2,    38.00,2,     0.00,2,     2.67,2,   -999.0,9,   -999.0,9,-999.0000,9,  -999.00,     1116
  49UF20100615,  P13N,  2708,  1,     12,  21971,2,20100712,1045, -3.9965, 164.9602, 3275,    907.9,   4.9644,  34.5394,2,-999.0000,9,     96.3,2,    71.61,2,    38.69,2,     0.00,2,     2.71,2,   -999.0,9,   -999.0,9,-999.0000,9,  -999.00,     1114
  49UF20100615,  P13N,  2708,  1,     11,  21970,2,20100712,1045, -3.9965, 164.9602, 3275,   1007.7,   4.5989,  34.5455,2,  34.5468,6,     97.7,2,    79.27,2,    38.74,2,     0.00,2,     2.74,2,   -999.0,9,   -999.0,9,-999.0000,9,  -999.00,     1111
  49UF20100615,  P13N,  2708,  1,     10,  21969,2,20100712,1045, -3.9965, 164.9602, 3275,   1213.7,   3.7148,  34.5698,2,  34.5697,6,    103.8,2,    98.18,2,    38.92,2,     0.00,2,     2.75,2,   -999.0,9,   -999.0,9,-999.0000,9,  -999.00,     1107
  49UF20100615,  P13N,  2708,  1,      6,  21965,2,20100712,1045, -3.9965, 164.9602, 3275,   1416.6,   3.0644,  34.5962,2,  34.5957,2,    110.9,2,   112.19,2,    38.55,2,     0.00,2,     2.72,2,   -999.0,9,   -999.0,9,-999.0000,9,  -999.00,     1102
  49UF20100615,  P13N,  2708,  1,      5,  21964,2,20100712,1045, -3.9965, 164.9602, 3275,   1619.0,   2.7438,  34.6129,2,  34.6123,2,    110.3,2,   123.35,2,    38.89,2,     0.00,2,     2.74,2,   -999.0,9,   -999.0,9,-999.0000,9,  -999.00,     1056
  49UF20100615,  P13N,  2708,  1,      4,  21963,2,20100712,1045, -3.9965, 164.9602, 3275,   1820.1,   2.4435,  34.6277,2,-999.0000,9,    116.9,2,   129.16,2,    38.79,2,     0.00,2,     2.71,2,   -999.0,9,   -999.0,9,-999.0000,9,  -999.00,     1050
  49UF20100615,  P13N,  2708,  1,      3,  21962,2,20100712,1045, -3.9965, 164.9602, 3275,   1820.1,   2.4435,  34.6277,2,  34.6274,2,    115.9,6,   129.43,6,    38.64,6,     0.00,6,     2.71,6,   -999.0,9,   -999.0,9,-999.0000,9,  -999.00,     1050
  49UF20100615,  P13N,  2708,  1,      2,  21961,2,20100712,1045, -3.9965, 164.9602, 3275,   2023.5,   2.2211,  34.6395,2,-999.0000,9,    124.6,2,   131.37,2,    38.23,2,     0.00,2,     2.66,2,   -999.0,9,   -999.0,9,-999.0000,9,  -999.00,     1045
  49UF20100615,  P13N,  2708,  1,      1,  21960,2,20100712,1045, -3.9965, 164.9602, 3275,   2023.5,   2.2211,  34.6395,2,  34.6388,2,    124.6,2,   131.62,2,    38.16,2,     0.00,2,     2.66,2,   -999.0,9,   -999.0,9,-999.0000,9,  -999.00,     1045