BOTTLE,20190925PRINUNIVRMK
# Processed by CCHDO on 2021-05-25, no changes
# 08/29/2019 Initialized README file  
# Data source:  Masao Ishii 2018/11/30 
# SHIP: R/V Keifu Maru II 
# Cruise: KS10-05, P13 
# Region:NW Pacific Ocean 
# EXPOCODE: 49UF20100615 
# DATES: 20100614 - 20100804	 
# Chief Scientist: Tatsushi Shiga	 
# 47 stations with 24 place Rosette 
# NOTE: 
# 	Preceeding "KS-" removed from original station numbers 
# 	Preceeding "02-" removed from original bottle numbers 
# 	BUCKET samples coded as bottle/sample 99 
# CTD: Who - Hitomi Kamiya; Status - final 
# 	Includes: CTDSAL 
# SALNTY: Who - Hitomi Kamiya; Status - final 
# 	Notes: 	 
# Nutrients: Who - Hitomi Kamiya; Status - final 
# 	Includes: nitrate, nitrite, silicate, phosphate 
# 	Nitrite and NO3+NO2 reported. Separated by subtraction 
# OXYGEN: Who - Tatsushi Shiga; Status - final 
# 	Notes: 
# TCARBN: Who - Hitomi Kamiya; Status - final 
# 	Notes:  
# ALKALI: Who - Hitomi Kamiya; Status - final 
# 	Notes:  
# PH-TOT: Who - Hitomi Kamiya; Status - final 
# 	Notes:  
# Shiga, Tatsushi; Kamiya, Hitomi; Ishii, Masao (2019). Dissolved inorganic carbon (DIC), total alkalinity, pH on total scale, temperature, salinity, oxygen, nutrients and other measurements collected from profile and discrete sample observations during the R/V Keifu Maru II cruise KS10-05 GO-SHIP Section P13 (EXPOCODE 49UF20100615) in the Pacific Ocean from 2010-06-14 - 2010-08-04 (NCEI Accession 0186229). [indicate subset used]. NOAA National Centers for Environmental Information. Dataset. https://doi.org/10.25921/xpgg-mh57   
# References that have used data from this cruise: 
EXPOCODE,SECT_ID,STNNBR,CASTNO,SAMPNO,BTLNBR,BTLNBR_FLAG_W,DATE,TIME,LATITUDE,LONGITUDE,DEPTH,CTDPRS,CTDTMP,CTDSAL,CTDSAL_FLAG_W,SALNTY,SALNTY_FLAG_W,OXYGEN,OXYGEN_FLAG_W,SILCAT,SILCAT_FLAG_W,NITRAT,NITRAT_FLAG_W,NITRIT,NITRIT_FLAG_W,PHSPHT,PHSPHT_FLAG_W,TCARBN,TCARBN_FLAG_W,ALKALI,ALKALI_FLAG_W,PH_TOT,PH_TOT_FLAG_W,PH_TMP,BTL_TIME
,,,,,,,,,,,METERS,DBAR,ITS-90,PSS-78,,PSS-78,,UMOL/KG,,UMOL/KG,,UMOL/KG,,UMOL/KG,,UMOL/KG,,UMOL/KG,,UMOL/KG,,,,DEG C,
  49UF20100615,  P13N,  2668,  1,     99,     99,2,20100618,1329, 35.0173, 165.0128, 5877,      0.0,  19.6879,  34.5746,2,-999.0000,9,    237.1,2,     2.73,2,     0.03,2,     0.00,2,     0.05,2,   -999.0,9,   -999.0,9,-999.0000,9,  -999.00,     1501
  49UF20100615,  P13N,  2668,  1,     33,  21993,2,20100618,1329, 35.0173, 165.0128, 5877,     11.1,  19.4642,  34.5765,2,  34.5750,6,    240.8,6,     2.74,6,     0.00,6,     0.00,6,     0.04,6,   2002.5,2,   2277.7,2,   8.0216,2,    25.00,     1524
  49UF20100615,  P13N,  2668,  1,     32,  21992,2,20100618,1329, 35.0173, 165.0128, 5877,     27.2,  17.6997,  34.5628,2,-999.0000,9,    255.5,2,     3.43,2,     0.12,2,     0.01,2,     0.06,2,   1997.9,2,   2279.1,2,   8.0191,2,    25.00,     1522
  49UF20100615,  P13N,  2668,  1,     31,  21991,2,20100618,1329, 35.0173, 165.0128, 5877,     52.4,  14.3643,  34.4366,2,-999.0000,9,    253.7,2,     8.44,2,     4.37,2,     0.31,2,     0.37,2,   2041.4,2,   2276.5,2,   7.9403,2,    25.00,     1518
  49UF20100615,  P13N,  2668,  1,     30,  21990,2,20100618,1329, 35.0173, 165.0128, 5877,     76.8,  12.9431,  34.3437,2,-999.0000,9,    243.5,2,    12.79,2,     8.78,2,     0.05,2,     0.62,2,   2065.6,2,   2268.2,2,   7.8823,2,    25.00,     1517
  49UF20100615,  P13N,  2668,  1,     29,  21989,2,20100618,1329, 35.0173, 165.0128, 5877,    103.0,  12.3390,  34.3061,2,  34.3058,2,    236.8,2,    14.68,2,    10.43,2,     0.03,2,     0.73,2,   2077.1,2,   2271.5,2,   7.8581,2,    25.00,     1515
  49UF20100615,  P13N,  2668,  1,     28,  21988,2,20100618,1329, 35.0173, 165.0128, 5877,    127.4,  11.6451,  34.2745,2,-999.0000,9,    225.9,2,    17.66,2,    12.34,2,     0.03,2,     0.86,2,   2085.9,2,   2270.5,2,   7.8306,2,    25.00,     1514
  49UF20100615,  P13N,  2668,  1,     24,  21984,2,20100618,1329, 35.0173, 165.0128, 5877,    153.2,  10.9708,  34.2264,2,-999.0000,9,    219.0,2,    20.72,2,    14.07,2,     0.03,2,     0.98,2,   2102.4,2,   2272.8,2,   7.7975,2,    25.00,     1512
  49UF20100615,  P13N,  2668,  1,     23,  21983,2,20100618,1329, 35.0173, 165.0128, 5877,    205.2,   9.6607,  34.1317,2,  34.1355,2,    215.9,2,    25.96,2,    16.48,2,     0.01,2,     1.19,2,   2119.5,6,   2274.9,6,   7.7569,6,    25.00,     1510
  49UF20100615,  P13N,  2668,  1,     22,  21982,2,20100618,1329, 35.0173, 165.0128, 5877,    255.9,   8.4732,  34.0593,2,-999.0000,9,    198.0,2,    34.18,2,    20.15,2,     0.01,2,     1.43,2,   2147.0,2,   2272.7,2,   7.6995,2,    25.00,     1507
  49UF20100615,  P13N,  2668,  1,     21,  21981,2,20100618,1329, 35.0173, 165.0128, 5877,    309.9,   7.5017,  34.0823,2,-999.0000,9,    159.1,2,    48.64,2,    25.43,2,     0.01,2,     1.82,2,   2186.2,2,   2285.7,2,   7.6084,2,    25.00,     1504
  49UF20100615,  P13N,  2668,  1,     20,  21980,2,20100618,1329, 35.0173, 165.0128, 5877,    404.4,   5.2562,  33.9627,2,  33.9712,4,    135.6,2,    68.23,2,    31.66,2,     0.01,2,     2.29,2,   2237.0,2,   2295.5,2,   7.5005,2,    25.00,     1500
  49UF20100615,  P13N,  2668,  1,     19,  21978,2,20100618,1329, 35.0173, 165.0128, 5877,    505.9,   4.8087,  34.0619,2,-999.0000,9,     96.8,6,    84.24,6,    35.81,6,     0.00,6,     2.58,6,   2276.3,2,   2328.5,2,   7.4300,2,    25.00,     1457
  49UF20100615,  P13N,  2668,  1,     15,  21974,2,20100618,1329, 35.0173, 165.0128, 5877,    605.5,   4.3797,  34.1558,2,-999.0000,9,     70.6,2,    98.43,4,    38.59,4,     0.00,4,     2.80,4,   2311.0,2,   2329.5,2,   7.3905,2,    25.00,     1405
  49UF20100615,  P13N,  2668,  1,     14,  21973,2,20100618,1329, 35.0173, 165.0128, 5877,    605.5,   4.3797,  34.1558,2,  34.1548,2,     70.5,2,    98.57,2,    38.54,2,     0.00,2,     2.78,2,   2317.3,2,   2330.5,2,   7.3831,2,    25.00,     1405
  49UF20100615,  P13N,  2668,  1,     13,  21972,2,20100618,1329, 35.0173, 165.0128, 5877,    706.7,   3.9397,  34.2071,2,-999.0000,9,     55.6,2,   110.51,2,    40.17,2,     0.00,2,     2.90,2,   2334.9,2,   2340.4,2,   7.3533,2,    25.00,     1402
  49UF20100615,  P13N,  2668,  1,     12,  21971,2,20100618,1329, 35.0173, 165.0128, 5877,    706.7,   3.9397,  34.2071,2,-999.0000,9,     55.2,2,   110.46,2,    40.37,2,     0.00,2,     2.93,2,   2335.5,2,   2337.8,2,   7.3528,2,    25.00,     1402
  49UF20100615,  P13N,  2668,  1,     11,  21970,2,20100618,1329, 35.0173, 165.0128, 5877,    810.1,   3.5551,  34.3082,2,  34.3046,2,     41.1,2,   123.47,2,    41.75,2,     0.00,2,     3.00,2,   2356.8,2,   2357.1,2,   7.3463,2,    25.00,     1358
  49UF20100615,  P13N,  2668,  1,     10,  21969,2,20100618,1329, 35.0173, 165.0128, 5877,    911.1,   3.2641,  34.3573,2,-999.0000,9,     36.7,2,   132.58,2,    42.56,2,     0.00,2,     3.07,2,   2370.7,6,   2369.9,6,   7.3407,6,    25.00,     1355
  49UF20100615,  P13N,  2668,  1,      6,  21965,2,20100618,1329, 35.0173, 165.0128, 5877,   1012.1,   3.0563,  34.3935,2,  34.3927,2,     33.8,2,   138.73,2,    42.79,2,     0.00,2,     3.09,2,   2376.2,2,   2378.0,2,   7.3409,2,    25.00,     1352
  49UF20100615,  P13N,  2668,  1,      5,  21964,2,20100618,1329, 35.0173, 165.0128, 5877,   1213.3,   2.6947,  34.4642,2,  34.4631,2,     34.7,2,   149.34,2,    43.14,2,     0.00,2,     3.09,2,   2390.1,2,   2390.6,2,   7.3464,2,    25.00,     1346
  49UF20100615,  P13N,  2668,  1,      4,  21963,2,20100618,1329, 35.0173, 165.0128, 5877,   1415.0,   2.3773,  34.5166,2,  34.5173,2,     43.9,2,   157.25,2,    43.01,2,     0.00,2,     3.08,2,   2392.8,2,   2376.9,2,   7.3651,2,    25.00,     1342
  49UF20100615,  P13N,  2668,  1,      3,  21962,4,20100618,1329, 35.0173, 165.0128, 5877,   1617.0,   2.1384,  34.5590,2,  34.2705,4,     44.4,4,   117.89,4,    41.23,4,     0.00,4,     2.98,4,   2347.2,4,   2346.2,4,   7.3505,4,    25.00,     1337
  49UF20100615,  P13N,  2668,  1,      2,  21961,2,20100618,1329, 35.0173, 165.0128, 5877,   1818.9,   1.9820,  34.5877,2,  34.5874,2,     68.4,2,   163.98,2,    41.43,2,     0.00,2,     2.96,2,   2386.6,2,   2413.3,2,   7.4173,2,    25.00,     1333
  49UF20100615,  P13N,  2668,  1,      1,  21960,2,20100618,1329, 35.0173, 165.0128, 5877,   2023.0,   1.8590,  34.6100,2,  34.6096,2,     81.7,2,   163.42,2,    40.62,2,     0.00,2,     2.89,2,   2383.1,2,   2414.7,2,   7.4413,2,    25.00,     1329
  49UF20100615,  P13N,  2669,  1,     99,     99,2,20100618,2129, 34.0268, 165.0485, 6056,      0.0,  21.0372,  34.6411,2,-999.0000,9,    240.2,2,     2.13,2,     0.20,2,     0.00,2,     0.02,2,   -999.0,9,   -999.0,9,-999.0000,9,  -999.00,     2225
  49UF20100615,  P13N,  2669,  1,     18,  21977,2,20100618,2129, 34.0268, 165.0485, 6056,     11.8,  21.0006,  34.6412,2,-999.0000,9,    231.4,2,     2.13,2,     0.00,2,     0.00,2,     0.00,2,   -999.0,9,   -999.0,9,-999.0000,9,  -999.00,     2238
  49UF20100615,  P13N,  2669,  1,     17,  21976,2,20100618,2129, 34.0268, 165.0485, 6056,     27.8,  20.5297,  34.6425,2,-999.0000,9,    233.6,6,     2.37,6,     0.00,6,     0.00,6,     0.00,6,   -999.0,9,   -999.0,9,-999.0000,9,  -999.00,     2236
  49UF20100615,  P13N,  2669,  1,     16,  21975,2,20100618,2129, 34.0268, 165.0485, 6056,     51.9,  18.8353,  34.6188,2,-999.0000,9,    216.0,2,     4.37,2,     1.89,2,     0.40,2,     0.15,2,   -999.0,9,   -999.0,9,-999.0000,9,  -999.00,     2231
  49UF20100615,  P13N,  2669,  1,      9,  21968,2,20100618,2129, 34.0268, 165.0485, 6056,     76.3,  17.7423,  34.6312,2,-999.0000,9,    196.0,2,     7.25,2,     6.12,2,     0.04,2,     0.40,2,   -999.0,9,   -999.0,9,-999.0000,9,  -999.00,     2230
  49UF20100615,  P13N,  2669,  1,      8,  21967,2,20100618,2129, 34.0268, 165.0485, 6056,    101.5,  16.1958,  34.5663,2,-999.0000,9,    196.4,2,     9.89,6,     8.01,6,     0.03,6,     0.53,6,   -999.0,9,   -999.0,9,-999.0000,9,  -999.00,     2229
  49UF20100615,  P13N,  2669,  1,      7,  21966,4,20100618,2129, 34.0268, 165.0485, 6056,    128.6,  15.2155,  34.5196,2,-999.0000,9,   -999.0,9,  -999.00,9,  -999.00,9,  -999.00,9,  -999.00,9,   -999.0,9,   -999.0,9,-999.0000,9,  -999.00,     2227
  49UF20100615,  P13N,  2669,  1,     24,  21984,2,20100618,2129, 34.0268, 165.0485, 6056,    151.7,  13.9619,  34.4437,2,-999.0000,9,    232.1,2,    10.91,2,     7.83,2,     0.10,2,     0.54,2,   -999.0,9,   -999.0,9,-999.0000,9,  -999.00,     2224
  49UF20100615,  P13N,  2669,  1,     23,  21983,2,20100618,2129, 34.0268, 165.0485, 6056,    202.8,  12.1419,  34.2995,2,-999.0000,9,    243.2,2,    13.79,2,     9.92,2,     0.02,2,     0.68,2,   -999.0,9,   -999.0,9,-999.0000,9,  -999.00,     2222
  49UF20100615,  P13N,  2669,  1,     22,  21982,2,20100618,2129, 34.0268, 165.0485, 6056,    252.0,  11.7751,  34.2675,2,-999.0000,9,    258.1,2,    12.24,2,     9.08,2,     0.01,2,     0.62,2,   -999.0,9,   -999.0,9,-999.0000,9,  -999.00,     2221
  49UF20100615,  P13N,  2669,  1,     21,  21981,2,20100618,2129, 34.0268, 165.0485, 6056,    304.1,  11.3551,  34.2457,2,-999.0000,9,    248.7,2,    14.88,2,    10.86,2,     0.01,2,     0.73,2,   -999.0,9,   -999.0,9,-999.0000,9,  -999.00,     2219
  49UF20100615,  P13N,  2669,  1,     20,  21980,2,20100618,2129, 34.0268, 165.0485, 6056,    404.1,   8.7200,  34.0554,2,-999.0000,9,    219.8,2,    29.76,2,    18.17,2,     0.00,2,     1.30,2,   -999.0,9,   -999.0,9,-999.0000,9,  -999.00,     2216
  49UF20100615,  P13N,  2669,  1,     19,  21978,2,20100618,2129, 34.0268, 165.0485, 6056,    505.8,   6.5228,  33.9864,2,-999.0000,9,    164.1,2,    53.41,2,    26.95,2,     0.00,2,     1.94,2,   -999.0,9,   -999.0,9,-999.0000,9,  -999.00,     2212
  49UF20100615,  P13N,  2669,  1,     15,  21974,4,20100618,2129, 34.0268, 165.0485, 6056,    606.2,   5.2707,  34.0320,2,-999.0000,9,     83.2,4,    91.37,4,    37.41,4,     0.00,4,     2.69,4,   -999.0,9,   -999.0,9,-999.0000,9,  -999.00,     2209
  49UF20100615,  P13N,  2669,  1,     14,  21973,2,20100618,2129, 34.0268, 165.0485, 6056,    708.4,   4.5586,  34.1014,2,-999.0000,9,     84.2,2,    91.87,2,    37.44,2,     0.00,2,     2.68,2,   -999.0,9,   -999.0,9,-999.0000,9,  -999.00,     2206
  49UF20100615,  P13N,  2669,  1,     12,  21971,2,20100618,2129, 34.0268, 165.0485, 6056,    811.2,   4.1190,  34.2045,2,-999.0000,9,     58.2,2,   107.23,2,    39.75,2,     0.00,2,     2.86,2,   -999.0,9,   -999.0,9,-999.0000,9,  -999.00,     2201
  49UF20100615,  P13N,  2669,  1,     13,  21972,2,20100618,2129, 34.0268, 165.0485, 6056,    811.2,   4.1190,  34.2045,2,-999.0000,9,     58.1,2,   107.72,2,    39.60,2,     0.00,2,     2.85,2,   -999.0,9,   -999.0,9,-999.0000,9,  -999.00,     2201
  49UF20100615,  P13N,  2669,  1,     10,  21969,2,20100618,2129, 34.0268, 165.0485, 6056,    909.6,   3.8199,  34.2679,2,-999.0000,9,     50.1,2,   116.10,2,    40.92,2,     0.00,2,     2.93,2,   -999.0,9,   -999.0,9,-999.0000,9,  -999.00,     2158
  49UF20100615,  P13N,  2669,  1,     11,  21970,2,20100618,2129, 34.0268, 165.0485, 6056,    909.6,   3.8199,  34.2679,2,-999.0000,9,     49.7,2,   117.32,2,    40.89,2,     0.00,2,     2.92,2,   -999.0,9,   -999.0,9,-999.0000,9,  -999.00,     2158
  49UF20100615,  P13N,  2669,  1,      6,  21965,2,20100618,2129, 34.0268, 165.0485, 6056,   1010.4,   3.4436,  34.3315,2,-999.0000,9,     40.8,2,   127.43,2,    41.87,2,     0.00,2,     3.00,2,   -999.0,9,   -999.0,9,-999.0000,9,  -999.00,     2155
  49UF20100615,  P13N,  2669,  1,      5,  21964,2,20100618,2129, 34.0268, 165.0485, 6056,   1212.8,   2.8956,  34.4260,2,-999.0000,9,     33.7,2,   144.09,2,    42.91,2,     0.00,2,     3.05,2,   -999.0,9,   -999.0,9,-999.0000,9,  -999.00,     2149
  49UF20100615,  P13N,  2669,  1,      4,  21963,2,20100618,2129, 34.0268, 165.0485, 6056,   1415.3,   2.6120,  34.4833,2,-999.0000,9,     38.6,2,   151.96,2,    43.23,2,     0.00,2,     3.08,2,   -999.0,9,   -999.0,9,-999.0000,9,  -999.00,     2143
  49UF20100615,  P13N,  2669,  1,      3,  21962,2,20100618,2129, 34.0268, 165.0485, 6056,   1618.4,   2.3176,  34.5309,2,-999.0000,9,     46.1,2,   158.93,2,    42.83,2,     0.00,2,     3.01,2,   -999.0,9,   -999.0,9,-999.0000,9,  -999.00,     2138
  49UF20100615,  P13N,  2669,  1,      2,  21961,2,20100618,2129, 34.0268, 165.0485, 6056,   1821.3,   2.0957,  34.5704,2,-999.0000,9,     60.2,2,   162.96,2,    41.87,2,     0.00,2,     2.96,2,   -999.0,9,   -999.0,9,-999.0000,9,  -999.00,     2133
  49UF20100615,  P13N,  2669,  1,      1,  21960,2,20100618,2129, 34.0268, 165.0485, 6056,   2028.0,   1.9358,  34.5982,2,-999.0000,9,     74.8,2,   164.58,2,    41.00,2,     0.00,2,     2.90,2,   -999.0,9,   -999.0,9,-999.0000,9,  -999.00,     2129