BOTTLE,20190925PRINUNIVRMK
EXPOCODE,SECT_ID,STNNBR,CASTNO,SAMPNO,BTLNBR,BTLNBR_FLAG_W,DATE,TIME,LATITUDE,LONGITUDE,DEPTH,CTDPRS,CTDTMP,CTDSAL,CTDSAL_FLAG_W,SALNTY,SALNTY_FLAG_W,OXYGEN,OXYGEN_FLAG_W,SILCAT,SILCAT_FLAG_W,NITRAT,NITRAT_FLAG_W,NITRIT,NITRIT_FLAG_W,PHSPHT,PHSPHT_FLAG_W,TCARBN,TCARBN_FLAG_W,ALKALI,ALKALI_FLAG_W,PH_TOT,PH_TOT_FLAG_W,PH_TMP,BTL_TIME
,,,,,,,,,,,METERS,DBAR,ITS-90,PSS-78,,PSS-78,,UMOL/KG,,UMOL/KG,,UMOL/KG,,UMOL/KG,,UMOL/KG,,UMOL/KG,,UMOL/KG,,,,DEG C,
  49UF20100615,  P13N,  2703,  1,     99,     99,2,20100710,1634,  0.9853, 164.9885, 4331,      0.0,  29.1677,  35.2630,2,-999.0000,9,    197.6,2,     1.64,2,     0.97,2,     0.10,2,     0.26,2,   -999.0,9,   -999.0,9,-999.0000,9,  -999.00,     1715
  49UF20100615,  P13N,  2703,  1,     33,  21993,3,20100710,1634,  0.9853, 164.9885, 4331,      9.9,  29.1920,  35.2623,2,-999.0000,9,    197.2,2,     1.72,2,     0.96,2,     0.10,2,     0.26,2,   -999.0,9,   -999.0,9,-999.0000,9,  -999.00,     1737
  49UF20100615,  P13N,  2703,  1,     32,  21992,2,20100710,1634,  0.9853, 164.9885, 4331,     24.3,  29.0965,  35.2674,2,-999.0000,9,    197.7,2,     1.74,2,     1.10,2,     0.11,2,     0.28,2,   -999.0,9,   -999.0,9,-999.0000,9,  -999.00,     1735
  49UF20100615,  P13N,  2703,  1,     31,  21991,2,20100710,1634,  0.9853, 164.9885, 4331,     50.1,  28.4810,  35.3829,2,-999.0000,9,    191.1,2,     1.86,2,     2.40,2,     0.18,2,     0.36,2,   -999.0,9,   -999.0,9,-999.0000,9,  -999.00,     1730
  49UF20100615,  P13N,  2703,  1,     30,  21990,2,20100710,1634,  0.9853, 164.9885, 4331,     77.7,  28.2357,  35.3899,2,-999.0000,9,    183.7,2,     2.02,2,     3.07,2,     0.38,2,     0.42,2,   -999.0,9,   -999.0,9,-999.0000,9,  -999.00,     1729
  49UF20100615,  P13N,  2703,  1,     29,  21989,2,20100710,1634,  0.9853, 164.9885, 4331,    101.6,  25.7794,  35.2084,2,-999.0000,9,    133.7,4,     3.43,6,     8.15,6,     0.29,6,     0.66,6,   -999.0,9,   -999.0,9,-999.0000,9,  -999.00,     1727
  49UF20100615,  P13N,  2703,  1,     28,  21988,3,20100710,1634,  0.9853, 164.9885, 4331,    126.5,  23.4845,  35.1379,2,-999.0000,9,    133.6,2,     4.62,2,     8.75,2,     0.03,2,     0.69,2,   -999.0,9,   -999.0,9,-999.0000,9,  -999.00,     1725
  49UF20100615,  P13N,  2703,  1,     24,  21984,3,20100710,1634,  0.9853, 164.9885, 4331,    149.4,  20.3810,  35.2142,2,-999.0000,9,    143.0,2,     6.16,2,     9.46,2,     0.01,2,     0.76,2,   -999.0,9,   -999.0,9,-999.0000,9,  -999.00,     1724
  49UF20100615,  P13N,  2703,  1,     23,  21983,2,20100710,1634,  0.9853, 164.9885, 4331,    201.0,  15.0691,  34.7280,2,-999.0000,9,    142.1,2,    15.32,2,    15.27,2,     0.00,2,     1.11,2,   -999.0,9,   -999.0,9,-999.0000,9,  -999.00,     1722
  49UF20100615,  P13N,  2703,  1,     22,  21982,2,20100710,1634,  0.9853, 164.9885, 4331,    251.1,  12.3495,  34.8770,2,-999.0000,9,    131.2,2,    18.21,2,    21.28,2,     0.00,2,     1.51,2,   -999.0,9,   -999.0,9,-999.0000,9,  -999.00,     1720
  49UF20100615,  P13N,  2703,  1,     21,  21981,2,20100710,1634,  0.9853, 164.9885, 4331,    301.8,  10.9622,  34.7784,2,-999.0000,9,     95.0,2,    24.33,2,    27.25,2,     0.00,2,     1.91,2,   -999.0,9,   -999.0,9,-999.0000,9,  -999.00,     1718
  49UF20100615,  P13N,  2703,  1,     20,  21980,2,20100710,1634,  0.9853, 164.9885, 4331,    402.6,   9.6555,  34.6942,2,-999.0000,9,     85.6,2,    29.41,2,    30.68,2,     0.00,2,     2.14,2,   -999.0,9,   -999.0,9,-999.0000,9,  -999.00,     1715
  49UF20100615,  P13N,  2703,  1,     19,  21978,2,20100710,1634,  0.9853, 164.9885, 4331,    503.3,   8.2633,  34.6115,2,-999.0000,9,     86.2,2,    37.09,2,    33.26,2,     0.00,2,     2.33,2,   -999.0,9,   -999.0,9,-999.0000,9,  -999.00,     1712
  49UF20100615,  P13N,  2703,  1,     15,  21974,2,20100710,1634,  0.9853, 164.9885, 4331,    603.9,   7.2011,  34.5709,2,-999.0000,9,     87.8,2,    44.43,2,    35.38,2,     0.00,2,     2.49,2,   -999.0,9,   -999.0,9,-999.0000,9,  -999.00,     1709
  49UF20100615,  P13N,  2703,  1,     14,  21973,2,20100710,1634,  0.9853, 164.9885, 4331,    705.5,   6.2457,  34.5477,2,-999.0000,9,     89.0,2,    54.02,2,    36.99,2,     0.00,2,     2.62,2,   -999.0,9,   -999.0,9,-999.0000,9,  -999.00,     1706
  49UF20100615,  P13N,  2703,  1,     13,  21972,2,20100710,1634,  0.9853, 164.9885, 4331,    806.4,   5.5502,  34.5361,2,-999.0000,9,    101.7,2,    63.48,2,    36.72,2,     0.00,2,     2.61,2,   -999.0,9,   -999.0,9,-999.0000,9,  -999.00,     1703
  49UF20100615,  P13N,  2703,  1,     12,  21971,2,20100710,1634,  0.9853, 164.9885, 4331,    907.2,   5.0701,  34.5407,2,-999.0000,9,    102.4,6,    72.46,6,    37.21,6,     0.00,6,     2.64,6,   -999.0,9,   -999.0,9,-999.0000,9,  -999.00,     1700
  49UF20100615,  P13N,  2703,  1,     11,  21970,2,20100710,1634,  0.9853, 164.9885, 4331,   1007.6,   4.6839,  34.5508,2,-999.0000,9,     99.0,2,    83.17,2,    37.86,2,     0.00,2,     2.69,2,   -999.0,9,   -999.0,9,-999.0000,9,  -999.00,     1657
  49UF20100615,  P13N,  2703,  1,     10,  21969,2,20100710,1634,  0.9853, 164.9885, 4331,   1209.8,   3.9069,  34.5710,2,-999.0000,9,     96.3,2,    99.31,2,    38.87,2,     0.00,2,     2.77,2,   -999.0,9,   -999.0,9,-999.0000,9,  -999.00,     1652
  49UF20100615,  P13N,  2703,  1,      6,  21965,2,20100710,1634,  0.9853, 164.9885, 4331,   1413.5,   3.2871,  34.5918,2,-999.0000,9,    100.2,2,   112.29,2,    39.33,2,     0.00,2,     2.80,2,   -999.0,9,   -999.0,9,-999.0000,9,  -999.00,     1648
  49UF20100615,  P13N,  2703,  1,      5,  21964,2,20100710,1634,  0.9853, 164.9885, 4331,   1614.7,   2.9029,  34.6082,2,-999.0000,9,    102.9,2,   122.44,2,    39.43,2,     0.00,2,     2.81,2,   -999.0,9,   -999.0,9,-999.0000,9,  -999.00,     1643
  49UF20100615,  P13N,  2703,  1,      4,  21963,2,20100710,1634,  0.9853, 164.9885, 4331,   1816.1,   2.4859,  34.6256,2,-999.0000,9,    113.8,2,   129.69,2,    38.49,2,     0.00,2,     2.73,2,   -999.0,9,   -999.0,9,-999.0000,9,  -999.00,     1638
  49UF20100615,  P13N,  2703,  1,      3,  21962,2,20100710,1634,  0.9853, 164.9885, 4331,   1816.1,   2.4859,  34.6256,2,-999.0000,9,    113.4,2,   129.39,2,    38.58,2,     0.00,2,     2.73,2,   -999.0,9,   -999.0,9,-999.0000,9,  -999.00,     1638
  49UF20100615,  P13N,  2703,  1,      2,  21961,2,20100710,1634,  0.9853, 164.9885, 4331,   2020.4,   2.2509,  34.6389,2,-999.0000,9,    116.7,2,   135.81,2,    38.63,2,     0.00,2,     2.73,2,   -999.0,9,   -999.0,9,-999.0000,9,  -999.00,     1634
  49UF20100615,  P13N,  2703,  1,      1,  21960,2,20100710,1634,  0.9853, 164.9885, 4331,   2020.4,   2.2509,  34.6389,2,-999.0000,9,    116.4,2,   135.29,2,    38.56,2,     0.00,2,     2.72,2,   -999.0,9,   -999.0,9,-999.0000,9,  -999.00,     1634
  49UF20100615,  P13N,  2704,  1,     99,     99,2,20100711,0047, -0.0563, 165.0022, 4372,      0.0,  28.7364,  35.4325,2,-999.0000,9,    191.3,2,     1.75,2,     2.60,2,     0.34,2,     0.35,2,   -999.0,9,   -999.0,9,-999.0000,9,  -999.00,      128
  49UF20100615,  P13N,  2704,  1,     33,  21993,2,20100711,0047, -0.0563, 165.0022, 4372,     12.4,  28.4924,  35.4273,2,-999.0000,9,    192.8,2,     1.70,2,     2.58,2,     0.36,2,     0.36,2,   2013.7,2,   2326.0,2,   8.0621,2,    25.00,      143
  49UF20100615,  P13N,  2704,  1,     32,  21992,2,20100711,0047, -0.0563, 165.0022, 4372,     27.7,  28.3317,  35.4147,2,-999.0000,9,    179.0,4,     1.86,2,     2.93,2,     0.53,2,     0.41,2,   2015.7,2,   2323.9,2,   8.0535,2,    25.00,      142
  49UF20100615,  P13N,  2704,  1,     31,  21991,2,20100711,0047, -0.0563, 165.0022, 4372,     51.8,  27.9097,  35.3357,2,-999.0000,9,    166.8,2,     1.89,2,     3.86,2,     0.87,2,     0.47,2,   2020.3,2,   2318.4,2,   8.0331,2,    25.00,      136
  49UF20100615,  P13N,  2704,  1,     30,  21990,2,20100711,0047, -0.0563, 165.0022, 4372,     77.0,  27.6263,  35.3041,2,-999.0000,9,    163.3,2,     2.13,2,     4.40,2,     0.81,2,     0.48,2,   2025.7,2,   2315.5,2,   8.0225,2,    25.00,      135
  49UF20100615,  P13N,  2704,  1,     29,  21989,2,20100711,0047, -0.0563, 165.0022, 4372,    103.8,  26.2141,  35.5649,2,-999.0000,9,    146.3,2,     2.37,2,     7.23,2,     0.08,2,     0.63,2,   2058.9,2,   2324.9,2,   7.9834,2,    25.00,      134
  49UF20100615,  P13N,  2704,  1,     28,  21988,2,20100711,0047, -0.0563, 165.0022, 4372,    126.9,  23.7514,  35.2642,2,-999.0000,9,    134.0,6,     4.24,6,     8.74,6,     0.03,6,     0.68,6,   2074.4,2,   2311.2,2,   7.9385,2,    25.00,      133
  49UF20100615,  P13N,  2704,  1,     24,  21984,2,20100711,0047, -0.0563, 165.0022, 4372,    152.6,  22.1747,  35.5851,2,-999.0000,9,    138.7,2,     3.23,2,     8.20,2,     0.01,2,     0.69,2,   2093.9,2,   2332.1,2,   7.9333,2,    25.00,      132
  49UF20100615,  P13N,  2704,  1,     23,  21983,2,20100711,0047, -0.0563, 165.0022, 4372,    202.6,  16.4162,  35.1575,2,-999.0000,9,    141.5,2,     9.64,2,    14.10,2,     0.00,2,     1.05,2,   2127.0,2,   2313.9,2,   7.8219,2,    25.00,      130
  49UF20100615,  P13N,  2704,  1,     22,  21982,2,20100711,0047, -0.0563, 165.0022, 4372,    252.4,  13.2169,  34.9841,2,-999.0000,9,    144.6,2,    13.19,2,    18.39,2,     0.00,2,     1.31,2,   2152.7,2,   2302.3,2,   7.7569,2,    25.00,      129
  49UF20100615,  P13N,  2704,  1,     21,  21981,2,20100711,0047, -0.0563, 165.0022, 4372,    305.1,  11.6649,  34.8369,2,-999.0000,9,    108.2,2,    21.13,2,    24.85,2,     0.00,2,     1.73,2,   2187.3,2,   2303.2,2,   7.6546,2,    25.00,      127
  49UF20100615,  P13N,  2704,  1,     20,  21980,2,20100711,0047, -0.0563, 165.0022, 4372,    404.2,   9.7804,  34.7157,2,-999.0000,9,     60.6,2,    30.25,2,    33.20,2,     0.00,2,     2.28,2,   2233.3,2,   2301.0,2,   7.5190,2,    25.00,      124
  49UF20100615,  P13N,  2704,  1,     19,  21978,2,20100711,0047, -0.0563, 165.0022, 4372,    503.5,   8.3544,  34.6286,2,-999.0000,9,     73.8,2,    36.80,2,    34.81,2,     0.00,2,     2.40,2,   2244.0,2,   2302.9,2,   7.5085,2,    25.00,      122
  49UF20100615,  P13N,  2704,  1,     15,  21974,2,20100711,0047, -0.0563, 165.0022, 4372,    607.4,   7.2456,  34.5763,2,-999.0000,9,     86.6,2,    43.30,2,    35.64,2,     0.00,2,     2.49,2,   2247.7,2,   2309.3,2,   7.5105,2,    25.00,      119
  49UF20100615,  P13N,  2704,  1,     14,  21973,2,20100711,0047, -0.0563, 165.0022, 4372,    607.4,   7.2456,  34.5763,2,-999.0000,9,     86.4,2,    43.57,2,    35.78,2,     0.00,2,     2.48,2,   2246.2,6,   2308.1,6,   7.5126,6,    25.00,      119
  49UF20100615,  P13N,  2704,  1,     13,  21972,2,20100711,0047, -0.0563, 165.0022, 4372,    707.8,   6.0296,  34.5414,2,-999.0000,9,     94.8,2,    55.69,2,    37.09,2,     0.00,2,     2.60,2,   2262.8,2,   2317.2,2,   7.5059,2,    25.00,      117
  49UF20100615,  P13N,  2704,  1,     12,  21971,2,20100711,0047, -0.0563, 165.0022, 4372,    707.8,   6.0296,  34.5414,2,-999.0000,9,     95.1,2,    55.62,2,    37.07,2,     0.00,2,     2.60,2,   2258.9,2,   2321.6,2,   7.5056,2,    25.00,      117
  49UF20100615,  P13N,  2704,  1,     11,  21970,2,20100711,0047, -0.0563, 165.0022, 4372,    808.5,   5.6697,  34.5400,2,-999.0000,9,     93.6,2,    61.91,2,    37.70,2,     0.00,2,     2.64,2,   2267.1,2,   2327.6,2,   7.5062,2,    25.00,      114
  49UF20100615,  P13N,  2704,  1,     10,  21969,2,20100711,0047, -0.0563, 165.0022, 4372,    910.3,   5.0816,  34.5414,2,-999.0000,9,     95.9,2,    72.69,2,    38.02,2,     0.00,2,     2.69,2,   2279.1,2,   2339.6,2,   7.5062,2,    25.00,      112
  49UF20100615,  P13N,  2704,  1,      6,  21965,2,20100711,0047, -0.0563, 165.0022, 4372,   1010.5,   4.5326,  34.5526,2,-999.0000,9,     98.2,6,    84.08,6,    38.36,6,     0.00,6,     2.72,6,   2290.8,6,   2349.0,6,   7.4970,6,    25.00,      109
  49UF20100615,  P13N,  2704,  1,      5,  21964,2,20100711,0047, -0.0563, 165.0022, 4372,   1212.3,   3.8686,  34.5710,2,-999.0000,9,     95.5,2,    99.23,2,    39.39,2,     0.00,2,     2.79,2,   2312.3,2,   2368.1,2,   7.4929,2,    25.00,      105
  49UF20100615,  P13N,  2704,  1,      4,  21963,2,20100711,0047, -0.0563, 165.0022, 4372,   1414.5,   3.3070,  34.5909,2,-999.0000,9,    100.6,2,   112.16,2,    39.23,2,     0.00,2,     2.79,2,   2320.6,2,   2381.8,2,   7.4950,2,    25.00,      100
  49UF20100615,  P13N,  2704,  1,      3,  21962,2,20100711,0047, -0.0563, 165.0022, 4372,   1617.1,   2.8224,  34.6115,2,-999.0000,9,    104.5,2,   119.94,2,    39.24,2,     0.00,2,     2.77,2,   2329.4,2,   2386.0,2,   7.5011,2,    25.00,       56
  49UF20100615,  P13N,  2704,  1,      2,  21961,2,20100711,0047, -0.0563, 165.0022, 4372,   1820.1,   2.4983,  34.6249,2,-999.0000,9,    114.4,2,   128.56,2,    38.80,2,     0.00,2,     2.71,2,   2333.9,2,   2399.4,2,   7.5171,2,    25.00,       52
  49UF20100615,  P13N,  2704,  1,      1,  21960,2,20100711,0047, -0.0563, 165.0022, 4372,   2022.8,   2.2770,  34.6374,2,-999.0000,9,    116.3,2,   134.16,2,    38.47,2,     0.00,2,     2.71,2,   2337.2,2,   2404.6,2,   7.5213,2,    25.00,       47
  49UF20100615,  P13N,  2705,  1,     99,     99,2,20100711,0722, -0.9983, 164.9755, 4427,      0.0,  29.8006,  35.2686,2,-999.0000,9,    196.0,2,     1.08,2,     0.48,2,     0.05,2,     0.21,2,   -999.0,9,   -999.0,9,-999.0000,9,  -999.00,      810
  49UF20100615,  P13N,  2705,  1,     33,  21993,2,20100711,0722, -0.9983, 164.9755, 4427,     12.8,  29.4880,  35.3973,2,  35.3725,4,    198.0,2,     1.26,2,     0.89,2,     0.12,2,     0.24,2,   -999.0,9,   -999.0,9,-999.0000,9,  -999.00,      826
  49UF20100615,  P13N,  2705,  1,     32,  21992,2,20100711,0722, -0.9983, 164.9755, 4427,     26.2,  28.9170,  35.5181,2,-999.0000,9,    194.7,2,     1.62,2,     2.10,2,     0.35,2,     0.35,2,   -999.0,9,   -999.0,9,-999.0000,9,  -999.00,      824
  49UF20100615,  P13N,  2705,  1,     31,  21991,2,20100711,0722, -0.9983, 164.9755, 4427,     53.1,  28.5527,  35.4495,2,-999.0000,9,    188.9,2,     1.83,2,     2.35,2,     0.23,2,     0.36,2,   -999.0,9,   -999.0,9,-999.0000,9,  -999.00,      820
  49UF20100615,  P13N,  2705,  1,     30,  21990,2,20100711,0722, -0.9983, 164.9755, 4427,     82.2,  28.4809,  35.5023,2,-999.0000,9,    181.0,2,     1.70,2,     3.02,2,     0.56,2,     0.43,2,   -999.0,9,   -999.0,9,-999.0000,9,  -999.00,      819
  49UF20100615,  P13N,  2705,  1,     29,  21989,2,20100711,0722, -0.9983, 164.9755, 4427,    105.1,  27.5370,  35.4199,2,  35.4495,4,    158.4,2,     2.08,2,     5.04,2,     0.88,2,     0.56,2,   -999.0,9,   -999.0,9,-999.0000,9,  -999.00,      817
  49UF20100615,  P13N,  2705,  1,     28,  21988,2,20100711,0722, -0.9983, 164.9755, 4427,    127.7,  24.0536,  35.7020,2,-999.0000,9,    142.5,2,     2.06,2,     6.90,2,     0.03,2,     0.62,2,   -999.0,9,   -999.0,9,-999.0000,9,  -999.00,      815
  49UF20100615,  P13N,  2705,  1,     24,  21984,2,20100711,0722, -0.9983, 164.9755, 4427,    150.8,  22.8730,  35.6864,2,-999.0000,9,    142.2,6,     2.37,6,     7.26,6,     0.03,6,     0.66,6,   -999.0,9,   -999.0,9,-999.0000,9,  -999.00,      814
  49UF20100615,  P13N,  2705,  1,     23,  21983,2,20100711,0722, -0.9983, 164.9755, 4427,    201.2,  16.0350,  35.2797,2,  35.2808,2,    140.3,2,     6.92,2,    14.17,2,     0.01,2,     1.09,2,   -999.0,9,   -999.0,9,-999.0000,9,  -999.00,      812
  49UF20100615,  P13N,  2705,  1,     22,  21982,2,20100711,0722, -0.9983, 164.9755, 4427,    251.7,  12.2986,  34.8839,2,-999.0000,9,    133.5,2,    17.90,2,    20.97,2,     0.00,2,     1.50,2,   -999.0,9,   -999.0,9,-999.0000,9,  -999.00,      810
  49UF20100615,  P13N,  2705,  1,     21,  21981,3,20100711,0722, -0.9983, 164.9755, 4427,    303.1,  11.7161,  34.8427,2,-999.0000,9,    111.2,2,    20.35,2,    24.21,2,     0.00,2,     1.71,2,   -999.0,9,   -999.0,9,-999.0000,9,  -999.00,      808
  49UF20100615,  P13N,  2705,  1,     20,  21980,3,20100711,0722, -0.9983, 164.9755, 4427,    404.5,  10.1616,  34.7437,2,  34.7466,2,     98.3,4,    24.61,2,    28.37,2,     0.00,2,     1.98,2,   -999.0,9,   -999.0,9,-999.0000,9,  -999.00,      805
  49UF20100615,  P13N,  2705,  1,     19,  21978,2,20100711,0722, -0.9983, 164.9755, 4427,    505.0,   8.3682,  34.6293,2,-999.0000,9,     95.6,2,    31.74,2,    32.62,2,     0.00,2,     2.25,2,   -999.0,9,   -999.0,9,-999.0000,9,  -999.00,      802
  49UF20100615,  P13N,  2705,  1,     15,  21974,2,20100711,0722, -0.9983, 164.9755, 4427,    605.7,   6.8724,  34.5623,2,  34.5613,6,     89.5,2,    46.07,2,    36.00,2,     0.00,2,     2.53,2,   -999.0,9,   -999.0,9,-999.0000,9,  -999.00,      759
  49UF20100615,  P13N,  2705,  1,     14,  21973,2,20100711,0722, -0.9983, 164.9755, 4427,    706.6,   6.0840,  34.5410,2,-999.0000,9,     97.4,2,    53.80,2,    36.65,2,     0.00,2,     2.58,2,   -999.0,9,   -999.0,9,-999.0000,9,  -999.00,      756
  49UF20100615,  P13N,  2705,  1,     13,  21972,2,20100711,0722, -0.9983, 164.9755, 4427,    807.5,   5.5245,  34.5382,2,-999.0000,9,     97.0,2,    62.87,2,    37.59,2,     0.00,2,     2.66,2,   -999.0,9,   -999.0,9,-999.0000,9,  -999.00,      753
  49UF20100615,  P13N,  2705,  1,     12,  21971,2,20100711,0722, -0.9983, 164.9755, 4427,    807.5,   5.5245,  34.5382,2,  34.5392,6,     96.5,2,    63.19,2,    37.50,2,     0.00,2,     2.64,2,   -999.0,9,   -999.0,9,-999.0000,9,  -999.00,      753
  49UF20100615,  P13N,  2705,  1,     11,  21970,2,20100711,0722, -0.9983, 164.9755, 4427,    908.5,   4.9356,  34.5443,2,-999.0000,9,     94.6,2,    75.20,2,    38.36,2,     0.00,2,     2.72,2,   -999.0,9,   -999.0,9,-999.0000,9,  -999.00,      750
  49UF20100615,  P13N,  2705,  1,     10,  21969,2,20100711,0722, -0.9983, 164.9755, 4427,    908.5,   4.9356,  34.5443,2,-999.0000,9,     94.4,2,    75.17,2,    38.30,2,     0.00,2,     2.71,2,   -999.0,9,   -999.0,9,-999.0000,9,  -999.00,      750
  49UF20100615,  P13N,  2705,  1,      6,  21965,2,20100711,0722, -0.9983, 164.9755, 4427,   1009.4,   4.4728,  34.5503,2,  34.5513,2,    100.4,2,    83.46,2,    38.33,2,     0.00,2,     2.72,2,   -999.0,9,   -999.0,9,-999.0000,9,  -999.00,      747
  49UF20100615,  P13N,  2705,  1,      5,  21964,2,20100711,0722, -0.9983, 164.9755, 4427,   1211.8,   3.7835,  34.5742,2,  34.5750,2,     95.1,6,   101.04,6,    39.46,6,     0.00,6,     2.82,6,   -999.0,9,   -999.0,9,-999.0000,9,  -999.00,      742
  49UF20100615,  P13N,  2705,  1,      4,  21963,2,20100711,0722, -0.9983, 164.9755, 4427,   1414.0,   3.1809,  34.5960,2,  34.5962,2,     99.9,2,   114.39,2,    39.14,2,     0.00,2,     2.81,2,   -999.0,9,   -999.0,9,-999.0000,9,  -999.00,      737
  49UF20100615,  P13N,  2705,  1,      3,  21962,4,20100711,0722, -0.9983, 164.9755, 4427,   1616.3,   2.7997,  34.6130,2,  34.5955,4,    101.0,4,   115.18,4,    39.36,4,     0.00,4,     2.80,4,   -999.0,9,   -999.0,9,-999.0000,9,  -999.00,      732
  49UF20100615,  P13N,  2705,  1,      2,  21961,2,20100711,0722, -0.9983, 164.9755, 4427,   1820.1,   2.4664,  34.6267,2,  34.6261,2,    115.0,2,   129.05,2,    38.63,2,     0.00,2,     2.73,2,   -999.0,9,   -999.0,9,-999.0000,9,  -999.00,      726
  49UF20100615,  P13N,  2705,  1,      1,  21960,2,20100711,0722, -0.9983, 164.9755, 4427,   2023.6,   2.2261,  34.6402,2,  34.6406,2,    118.3,2,   135.37,2,    38.63,2,     0.00,2,     2.72,2,   -999.0,9,   -999.0,9,-999.0000,9,  -999.00,      722