BOTTLE,20190925PRINUNIVRMK
EXPOCODE,SECT_ID,STNNBR,CASTNO,SAMPNO,BTLNBR,BTLNBR_FLAG_W,DATE,TIME,LATITUDE,LONGITUDE,DEPTH,CTDPRS,CTDTMP,CTDSAL,CTDSAL_FLAG_W,SALNTY,SALNTY_FLAG_W,OXYGEN,OXYGEN_FLAG_W,SILCAT,SILCAT_FLAG_W,NITRAT,NITRAT_FLAG_W,NITRIT,NITRIT_FLAG_W,PHSPHT,PHSPHT_FLAG_W,TCARBN,TCARBN_FLAG_W,ALKALI,ALKALI_FLAG_W,PH_TOT,PH_TOT_FLAG_W,PH_TMP,BTL_TIME
,,,,,,,,,,,METERS,DBAR,ITS-90,PSS-78,,PSS-78,,UMOL/KG,,UMOL/KG,,UMOL/KG,,UMOL/KG,,UMOL/KG,,UMOL/KG,,UMOL/KG,,,,DEG C,
  49UF20100615,  P13N,  2691,  1,     99,     99,2,20100625,1133, 12.0028, 164.4758, 4700,      0.0,  28.5884,  34.4074,2,-999.0000,9,    174.9,4,     1.12,2,     0.00,2,     0.00,2,     0.09,2,   -999.0,9,   -999.0,9,-999.0000,9,  -999.00,     1215
  49UF20100615,  P13N,  2691,  1,     33,  21993,2,20100625,1133, 12.0028, 164.4758, 4700,     10.0,  28.5939,  34.4072,2,  34.4073,2,    198.4,2,     0.97,2,     0.02,2,     0.00,2,     0.08,2,   -999.0,9,   -999.0,9,-999.0000,9,  -999.00,     1234
  49UF20100615,  P13N,  2691,  1,     32,  21992,2,20100625,1133, 12.0028, 164.4758, 4700,     24.9,  28.5968,  34.4088,2,-999.0000,9,    199.1,2,     1.13,6,     0.06,6,     0.00,6,     0.09,6,   -999.0,9,   -999.0,9,-999.0000,9,  -999.00,     1232
  49UF20100615,  P13N,  2691,  1,     31,  21991,2,20100625,1133, 12.0028, 164.4758, 4700,     49.2,  28.5876,  34.4146,2,-999.0000,9,    198.8,2,     1.08,2,     0.02,2,     0.00,2,     0.09,2,   -999.0,9,   -999.0,9,-999.0000,9,  -999.00,     1228
  49UF20100615,  P13N,  2691,  1,     30,  21990,2,20100625,1133, 12.0028, 164.4758, 4700,     75.4,  28.1887,  34.6091,2,-999.0000,9,    203.1,2,     1.10,2,     0.00,2,     0.00,2,     0.08,2,   -999.0,9,   -999.0,9,-999.0000,9,  -999.00,     1226
  49UF20100615,  P13N,  2691,  1,     29,  21989,2,20100625,1133, 12.0028, 164.4758, 4700,    100.3,  27.3593,  34.6966,2,  34.7093,4,    206.8,2,     0.94,2,     0.00,2,     0.00,2,     0.10,2,   -999.0,9,   -999.0,9,-999.0000,9,  -999.00,     1225
  49UF20100615,  P13N,  2691,  1,     28,  21988,2,20100625,1133, 12.0028, 164.4758, 4700,    124.3,  25.9270,  34.9680,2,-999.0000,9,    205.2,2,     1.02,2,     0.00,2,     0.00,2,     0.12,2,   -999.0,9,   -999.0,9,-999.0000,9,  -999.00,     1224
  49UF20100615,  P13N,  2691,  1,     24,  21984,2,20100625,1133, 12.0028, 164.4758, 4700,    151.4,  23.1089,  35.0834,2,-999.0000,9,    191.0,2,     1.61,2,     0.24,2,     0.20,2,     0.17,2,   -999.0,9,   -999.0,9,-999.0000,9,  -999.00,     1223
  49UF20100615,  P13N,  2691,  1,     23,  21983,2,20100625,1133, 12.0028, 164.4758, 4700,    201.2,  18.4777,  34.7812,2,  34.7907,4,    169.8,2,     4.73,2,     5.97,2,     0.02,2,     0.53,2,   -999.0,9,   -999.0,9,-999.0000,9,  -999.00,     1221
  49UF20100615,  P13N,  2691,  1,     22,  21982,2,20100625,1133, 12.0028, 164.4758, 4700,    251.9,  11.9858,  34.3290,2,-999.0000,9,    139.0,2,    19.30,2,    18.78,2,     0.00,2,     1.42,2,   -999.0,9,   -999.0,9,-999.0000,9,  -999.00,     1219
  49UF20100615,  P13N,  2691,  1,     21,  21981,2,20100625,1133, 12.0028, 164.4758, 4700,    302.5,  10.5096,  34.3332,2,-999.0000,9,    105.7,2,    28.10,2,    24.97,2,     0.00,2,     1.86,2,   -999.0,9,   -999.0,9,-999.0000,9,  -999.00,     1217
  49UF20100615,  P13N,  2691,  1,     20,  21980,2,20100625,1133, 12.0028, 164.4758, 4700,    403.3,   8.8979,  34.4876,2,  34.4878,2,     51.4,2,    41.14,2,    33.73,2,     0.00,2,     2.47,2,   -999.0,9,   -999.0,9,-999.0000,9,  -999.00,     1214
  49UF20100615,  P13N,  2691,  1,     19,  21978,2,20100625,1133, 12.0028, 164.4758, 4700,    503.1,   7.7763,  34.5188,2,-999.0000,9,     53.2,2,    49.74,2,    36.05,2,     0.00,2,     2.61,2,   -999.0,9,   -999.0,9,-999.0000,9,  -999.00,     1211
  49UF20100615,  P13N,  2691,  1,     15,  21974,2,20100625,1133, 12.0028, 164.4758, 4700,    604.0,   6.8814,  34.5155,2,  34.5158,2,     54.9,6,    59.13,6,    37.70,6,     0.00,6,     2.75,6,   -999.0,9,   -999.0,9,-999.0000,9,  -999.00,     1207
  49UF20100615,  P13N,  2691,  1,     14,  21973,4,20100625,1133, 12.0028, 164.4758, 4700,    705.2,   6.1398,  34.5154,2,-999.0000,9,     63.6,4,    58.46,4,    37.67,4,     0.00,4,     2.74,4,   -999.0,9,   -999.0,9,-999.0000,9,  -999.00,     1204
  49UF20100615,  P13N,  2691,  1,     13,  21972,2,20100625,1133, 12.0028, 164.4758, 4700,    805.8,   5.6760,  34.5214,2,  34.5216,2,     54.6,2,    75.74,2,    40.22,2,     0.00,2,     2.92,2,   -999.0,9,   -999.0,9,-999.0000,9,  -999.00,     1201
  49UF20100615,  P13N,  2691,  1,     12,  21971,2,20100625,1133, 12.0028, 164.4758, 4700,    907.4,   5.1624,  34.5303,2,-999.0000,9,     55.4,2,    84.42,2,    41.02,2,     0.00,2,     2.98,2,   -999.0,9,   -999.0,9,-999.0000,9,  -999.00,     1158
  49UF20100615,  P13N,  2691,  1,     11,  21970,2,20100625,1133, 12.0028, 164.4758, 4700,   1008.8,   4.6630,  34.5410,2,  34.5409,2,     62.4,3,    93.57,2,    41.25,2,     0.00,2,     2.99,2,   -999.0,9,   -999.0,9,-999.0000,9,  -999.00,     1155
  49UF20100615,  P13N,  2691,  1,     10,  21969,2,20100625,1133, 12.0028, 164.4758, 4700,   1210.5,   3.7586,  34.5671,2,  34.5685,2,     76.0,3,   111.09,2,    40.97,2,     0.00,2,     2.97,2,   -999.0,9,   -999.0,9,-999.0000,9,  -999.00,     1150
  49UF20100615,  P13N,  2691,  1,      6,  21965,2,20100625,1133, 12.0028, 164.4758, 4700,   1412.8,   3.1260,  34.5884,2,-999.0000,9,     82.6,2,   125.25,2,    40.62,2,     0.00,2,     2.92,2,   -999.0,9,   -999.0,9,-999.0000,9,  -999.00,     1145
  49UF20100615,  P13N,  2691,  1,      5,  21964,2,20100625,1133, 12.0028, 164.4758, 4700,   1412.8,   3.1260,  34.5884,2,  34.5891,2,     82.5,2,   124.82,2,    40.62,2,     0.00,2,     2.92,2,   -999.0,9,   -999.0,9,-999.0000,9,  -999.00,     1145
  49UF20100615,  P13N,  2691,  1,      4,  21963,2,20100625,1133, 12.0028, 164.4758, 4700,   1614.9,   2.7312,  34.6057,2,-999.0000,9,     91.0,2,   132.71,2,    40.29,2,     0.00,2,     2.88,2,   -999.0,9,   -999.0,9,-999.0000,9,  -999.00,     1141
  49UF20100615,  P13N,  2691,  1,      3,  21962,2,20100625,1133, 12.0028, 164.4758, 4700,   1614.9,   2.7312,  34.6057,2,  34.6060,2,     90.6,2,   133.30,2,    40.22,2,     0.00,2,     2.89,2,   -999.0,9,   -999.0,9,-999.0000,9,  -999.00,     1141
  49UF20100615,  P13N,  2691,  1,      2,  21961,2,20100625,1133, 12.0028, 164.4758, 4700,   1816.7,   2.3734,  34.6243,2,  34.6243,6,     99.4,2,   140.60,2,    39.86,2,     0.00,2,     2.84,2,   -999.0,9,   -999.0,9,-999.0000,9,  -999.00,     1137
  49UF20100615,  P13N,  2691,  1,      1,  21960,2,20100625,1133, 12.0028, 164.4758, 4700,   2020.6,   2.1603,  34.6359,2,  34.6358,6,    106.5,2,   144.14,2,    39.28,2,     0.00,2,     2.81,2,   -999.0,9,   -999.0,9,-999.0000,9,  -999.00,     1133
  49UF20100615,  P13N,  2692,  1,     99,     99,2,20100625,1850, 10.9923, 163.9752, 4799,      0.0,  28.6255,  34.4004,2,-999.0000,9,    197.0,2,     0.99,2,     0.01,2,     0.00,2,     0.05,2,   -999.0,9,   -999.0,9,-999.0000,9,  -999.00,     1940
  49UF20100615,  P13N,  2692,  1,     33,  21993,2,20100625,1850, 10.9923, 163.9752, 4799,     11.5,  28.6264,  34.4000,2,-999.0000,9,    196.9,2,     0.90,2,     0.01,2,     0.00,2,     0.05,2,   -999.0,9,   -999.0,9,-999.0000,9,  -999.00,     1957
  49UF20100615,  P13N,  2692,  1,     32,  21992,2,20100625,1850, 10.9923, 163.9752, 4799,     27.3,  28.6316,  34.3997,2,-999.0000,9,    197.1,2,     1.08,2,     0.01,2,     0.00,2,     0.06,2,   -999.0,9,   -999.0,9,-999.0000,9,  -999.00,     1956
  49UF20100615,  P13N,  2692,  1,     31,  21991,2,20100625,1850, 10.9923, 163.9752, 4799,     52.5,  28.6388,  34.4006,2,-999.0000,9,    197.4,6,     1.24,6,     0.05,6,     0.00,6,     0.06,6,   -999.0,9,   -999.0,9,-999.0000,9,  -999.00,     1954
  49UF20100615,  P13N,  2692,  1,     30,  21990,2,20100625,1850, 10.9923, 163.9752, 4799,     76.6,  28.2968,  34.5342,2,-999.0000,9,    201.3,2,     0.98,2,     0.02,2,     0.00,2,     0.06,2,   -999.0,9,   -999.0,9,-999.0000,9,  -999.00,     1952
  49UF20100615,  P13N,  2692,  1,     29,  21989,2,20100625,1850, 10.9923, 163.9752, 4799,    102.8,  27.1177,  34.7962,2,-999.0000,9,    206.0,3,     1.04,2,     0.00,2,     0.00,2,     0.09,2,   -999.0,9,   -999.0,9,-999.0000,9,  -999.00,     1946
  49UF20100615,  P13N,  2692,  1,     28,  21988,2,20100625,1850, 10.9923, 163.9752, 4799,    127.5,  25.6535,  35.0328,2,-999.0000,9,    204.5,2,     1.14,2,     0.00,2,     0.00,2,     0.08,2,   -999.0,9,   -999.0,9,-999.0000,9,  -999.00,     1945
  49UF20100615,  P13N,  2692,  1,     24,  21984,2,20100625,1850, 10.9923, 163.9752, 4799,    151.7,  23.5886,  35.0941,2,-999.0000,9,    197.3,2,     1.28,2,     0.07,2,     0.12,2,     0.12,2,   -999.0,9,   -999.0,9,-999.0000,9,  -999.00,     1944
  49UF20100615,  P13N,  2692,  1,     23,  21983,2,20100625,1850, 10.9923, 163.9752, 4799,    203.2,  16.5352,  34.6108,2,-999.0000,9,    161.3,2,     7.25,2,     9.31,2,     0.00,2,     0.73,2,   -999.0,9,   -999.0,9,-999.0000,9,  -999.00,     1941
  49UF20100615,  P13N,  2692,  1,     22,  21982,2,20100625,1850, 10.9923, 163.9752, 4799,    254.3,  12.5506,  34.3535,2,-999.0000,9,    140.8,2,    17.23,2,    17.47,2,     0.00,2,     1.30,2,   -999.0,9,   -999.0,9,-999.0000,9,  -999.00,     1939
  49UF20100615,  P13N,  2692,  1,     21,  21981,2,20100625,1850, 10.9923, 163.9752, 4799,    302.4,  10.2702,  34.4131,2,-999.0000,9,     77.3,2,    31.42,2,    28.18,2,     0.00,2,     2.08,2,   -999.0,9,   -999.0,9,-999.0000,9,  -999.00,     1937
  49UF20100615,  P13N,  2692,  1,     20,  21980,2,20100625,1850, 10.9923, 163.9752, 4799,    404.2,   8.5528,  34.5076,2,-999.0000,9,     56.9,2,    43.59,2,    34.12,2,     0.00,2,     2.44,2,   -999.0,9,   -999.0,9,-999.0000,9,  -999.00,     1934
  49UF20100615,  P13N,  2692,  1,     19,  21978,2,20100625,1850, 10.9923, 163.9752, 4799,    505.2,   7.4204,  34.5222,2,-999.0000,9,     65.6,2,    51.90,2,    35.79,2,     0.00,2,     2.54,2,   -999.0,9,   -999.0,9,-999.0000,9,  -999.00,     1930
  49UF20100615,  P13N,  2692,  1,     15,  21974,2,20100625,1850, 10.9923, 163.9752, 4799,    606.7,   6.8952,  34.5241,2,-999.0000,9,     68.9,2,    56.83,2,    36.55,2,     0.00,2,     2.60,2,   -999.0,9,   -999.0,9,-999.0000,9,  -999.00,     1927
  49UF20100615,  P13N,  2692,  1,     14,  21973,4,20100625,1850, 10.9923, 163.9752, 4799,    707.3,   6.1350,  34.5253,2,-999.0000,9,   -999.0,9,  -999.00,9,  -999.00,9,  -999.00,9,  -999.00,9,   -999.0,9,   -999.0,9,-999.0000,9,  -999.00,     1924
  49UF20100615,  P13N,  2692,  1,     13,  21972,2,20100625,1850, 10.9923, 163.9752, 4799,    807.4,   5.5736,  34.5268,2,-999.0000,9,     65.8,6,    76.34,6,    39.23,6,     0.00,6,     2.80,6,   -999.0,9,   -999.0,9,-999.0000,9,  -999.00,     1920
  49UF20100615,  P13N,  2692,  1,     12,  21971,2,20100625,1850, 10.9923, 163.9752, 4799,    908.6,   5.1475,  34.5352,2,-999.0000,9,     64.6,2,    83.80,2,    40.05,2,     0.00,2,     2.86,2,   -999.0,9,   -999.0,9,-999.0000,9,  -999.00,     1917
  49UF20100615,  P13N,  2692,  1,     11,  21970,2,20100625,1850, 10.9923, 163.9752, 4799,   1009.9,   4.6707,  34.5449,2,-999.0000,9,     66.9,2,    93.03,2,    40.49,2,     0.00,2,     2.90,2,   -999.0,9,   -999.0,9,-999.0000,9,  -999.00,     1914
  49UF20100615,  P13N,  2692,  1,     10,  21969,2,20100625,1850, 10.9923, 163.9752, 4799,   1212.3,   3.7839,  34.5680,2,-999.0000,9,     74.3,2,   110.40,2,    40.61,2,     0.00,2,     2.90,2,   -999.0,9,   -999.0,9,-999.0000,9,  -999.00,     1909
  49UF20100615,  P13N,  2692,  1,      6,  21965,2,20100625,1850, 10.9923, 163.9752, 4799,   1412.3,   3.1393,  34.5896,2,-999.0000,9,     86.4,2,   124.04,2,    40.34,2,     0.00,2,     2.86,2,   -999.0,9,   -999.0,9,-999.0000,9,  -999.00,     1904
  49UF20100615,  P13N,  2692,  1,      5,  21964,2,20100625,1850, 10.9923, 163.9752, 4799,   1615.7,   2.7286,  34.6068,2,-999.0000,9,     92.6,2,   132.46,2,    40.06,2,     0.00,2,     2.84,2,   -999.0,9,   -999.0,9,-999.0000,9,  -999.00,     1859
  49UF20100615,  P13N,  2692,  1,      4,  21963,2,20100625,1850, 10.9923, 163.9752, 4799,   1815.6,   2.4294,  34.6201,2,-999.0000,9,     99.0,2,   139.61,2,    39.80,2,     0.00,2,     2.81,2,   -999.0,9,   -999.0,9,-999.0000,9,  -999.00,     1854
  49UF20100615,  P13N,  2692,  1,      3,  21962,2,20100625,1850, 10.9923, 163.9752, 4799,   1815.6,   2.4294,  34.6201,2,-999.0000,9,     98.4,2,   138.93,2,    39.59,2,     0.00,2,     2.79,2,   -999.0,9,   -999.0,9,-999.0000,9,  -999.00,     1854
  49UF20100615,  P13N,  2692,  1,      2,  21961,2,20100625,1850, 10.9923, 163.9752, 4799,   2017.9,   2.2103,  34.6332,2,-999.0000,9,    105.5,2,   143.62,2,    39.30,2,     0.00,2,     2.78,2,   -999.0,9,   -999.0,9,-999.0000,9,  -999.00,     1850
  49UF20100615,  P13N,  2692,  1,      1,  21960,2,20100625,1850, 10.9923, 163.9752, 4799,   2017.9,   2.2103,  34.6332,2,-999.0000,9,    105.0,2,   143.94,2,    39.38,2,     0.00,2,     2.75,2,   -999.0,9,   -999.0,9,-999.0000,9,  -999.00,     1850
  49UF20100615,  P13N,  2693,  1,     99,     99,2,20100626,0145, 10.0082, 163.9737, 4970,      0.0,  28.7196,  34.4434,2,-999.0000,9,    198.0,2,     1.08,2,     0.03,2,     0.00,2,     0.08,2,   -999.0,9,   -999.0,9,-999.0000,9,  -999.00,      226
  49UF20100615,  P13N,  2693,  1,     33,  21993,2,20100626,0145, 10.0082, 163.9737, 4970,      8.5,  28.7190,  34.4429,2,-999.0000,9,    197.8,2,     1.11,2,     0.04,2,     0.00,2,     0.08,2,   1932.9,2,   2263.7,2,   8.1194,2,    25.00,      248
  49UF20100615,  P13N,  2693,  1,     32,  21992,3,20100626,0145, 10.0082, 163.9737, 4970,     23.5,  28.7130,  34.4433,2,-999.0000,9,    197.7,2,     1.01,2,     0.04,2,     0.00,2,     0.08,2,   1931.3,2,   2263.5,2,   8.1189,2,    25.00,      246
  49UF20100615,  P13N,  2693,  1,     31,  21991,2,20100626,0145, 10.0082, 163.9737, 4970,     46.7,  28.6828,  34.4449,2,-999.0000,9,    198.2,2,     1.01,2,     0.01,2,     0.00,2,     0.08,2,   1926.9,2,   2261.7,2,   8.1198,2,    25.00,      241
  49UF20100615,  P13N,  2693,  1,     30,  21990,2,20100626,0145, 10.0082, 163.9737, 4970,     74.3,  28.2110,  34.5157,2,-999.0000,9,    200.0,6,     1.18,6,     0.05,6,     0.00,6,     0.09,6,   1934.6,2,   2268.9,2,   8.1148,2,    25.00,      240
  49UF20100615,  P13N,  2693,  1,     29,  21989,2,20100626,0145, 10.0082, 163.9737, 4970,     98.9,  26.6177,  34.7728,2,-999.0000,9,    203.8,2,     1.15,2,     0.02,2,     0.00,2,     0.09,2,   1965.3,2,   2284.9,2,   8.0917,2,    25.00,      239
  49UF20100615,  P13N,  2693,  1,     28,  21988,2,20100626,0145, 10.0082, 163.9737, 4970,    123.3,  23.6733,  35.0529,2,-999.0000,9,    197.2,2,     1.47,2,     0.04,2,     0.05,2,     0.15,2,   2019.0,2,   2308.6,2,   8.0254,2,    25.00,      238
  49UF20100615,  P13N,  2693,  1,     24,  21984,2,20100626,0145, 10.0082, 163.9737, 4970,    150.7,  20.9115,  34.9281,2,-999.0000,9,    176.3,2,     2.96,2,     2.68,2,     0.15,2,     0.36,2,   2058.6,2,   2302.7,2,   7.9446,2,    25.00,      237
  49UF20100615,  P13N,  2693,  1,     23,  21983,2,20100626,0145, 10.0082, 163.9737, 4970,    201.1,  15.4725,  34.5456,2,-999.0000,9,    152.3,2,     9.78,2,    11.73,2,     0.00,2,     0.90,2,   2109.6,2,   2278.3,2,   7.8016,2,    25.00,      235
  49UF20100615,  P13N,  2693,  1,     22,  21982,2,20100626,0145, 10.0082, 163.9737, 4970,    252.0,  11.3647,  34.4653,2,-999.0000,9,     85.6,2,    26.02,2,    25.86,2,     0.00,2,     1.92,2,   2200.3,2,   2285.7,2,   7.5794,2,    25.00,      232
  49UF20100615,  P13N,  2693,  1,     21,  21981,2,20100626,0145, 10.0082, 163.9737, 4970,    301.2,   9.9827,  34.5397,2,-999.0000,9,     55.5,2,    34.28,2,    31.71,2,     0.00,2,     2.30,2,   2241.6,2,   2295.1,2,   7.4998,2,    25.00,      230
  49UF20100615,  P13N,  2693,  1,     20,  21980,2,20100626,0145, 10.0082, 163.9737, 4970,    402.2,   8.6867,  34.5823,2,-999.0000,9,     52.7,2,    40.38,2,    34.79,2,     0.00,2,     2.49,2,   2258.8,2,   2303.5,2,   7.4832,2,    25.00,      227
  49UF20100615,  P13N,  2693,  1,     19,  21978,2,20100626,0145, 10.0082, 163.9737, 4970,    502.6,   7.8083,  34.5555,2,-999.0000,9,     60.4,2,    47.33,2,    35.78,2,     0.00,2,     2.59,2,   2267.5,2,   2313.8,2,   7.4738,2,    25.00,      223
  49UF20100615,  P13N,  2693,  1,     15,  21974,2,20100626,0145, 10.0082, 163.9737, 4970,    604.4,   7.0495,  34.5363,2,-999.0000,9,     62.5,2,    54.56,2,    36.81,2,     0.00,2,     2.67,2,   2275.9,2,   2317.0,2,   7.4662,2,    25.00,      220
  49UF20100615,  P13N,  2693,  1,     14,  21973,2,20100626,0145, 10.0082, 163.9737, 4970,    604.4,   7.0495,  34.5363,2,-999.0000,9,     62.8,2,    54.32,2,    36.95,2,     0.00,2,     2.68,2,   2273.2,2,   2319.2,2,   7.4686,2,    25.00,      220
  49UF20100615,  P13N,  2693,  1,     13,  21972,2,20100626,0145, 10.0082, 163.9737, 4970,    703.4,   6.2657,  34.5290,2,-999.0000,9,     63.6,2,    64.91,2,    38.28,2,     0.00,2,     2.77,2,   2290.6,2,   2329.5,2,   7.4576,2,    25.00,      217
  49UF20100615,  P13N,  2693,  1,     12,  21971,3,20100626,0145, 10.0082, 163.9737, 4970,    703.4,   6.2657,  34.5290,2,-999.0000,9,     64.2,2,    64.84,2,    38.21,2,     0.00,2,     2.78,2,   2290.6,6,   2330.9,6,   7.4549,6,    25.00,      217
  49UF20100615,  P13N,  2693,  1,     11,  21970,2,20100626,0145, 10.0082, 163.9737, 4970,    804.2,   5.7197,  34.5310,2,-999.0000,9,     63.0,6,    73.48,6,    39.37,6,     0.00,6,     2.85,6,   2298.9,2,   2338.6,2,   7.4468,2,    25.00,      214
  49UF20100615,  P13N,  2693,  1,     10,  21969,3,20100626,0145, 10.0082, 163.9737, 4970,    905.6,   5.1370,  34.5385,2,-999.0000,9,     69.2,2,    82.88,2,    39.42,2,     0.00,2,     2.87,2,   2311.9,2,   2349.2,2,   7.4527,2,    25.00,      211
  49UF20100615,  P13N,  2693,  1,      6,  21965,2,20100626,0145, 10.0082, 163.9737, 4970,   1006.9,   4.7031,  34.5472,2,-999.0000,9,     73.1,2,    90.73,2,    39.89,2,     0.00,2,     2.89,2,   2317.5,2,   2362.1,2,   7.4534,2,    25.00,      208
  49UF20100615,  P13N,  2693,  1,      5,  21964,2,20100626,0145, 10.0082, 163.9737, 4970,   1208.4,   3.8652,  34.5672,2,-999.0000,9,     76.8,2,   108.31,2,    40.48,2,     0.00,2,     2.92,2,   2332.9,2,   2377.5,2,   7.4497,2,    25.00,      203
  49UF20100615,  P13N,  2693,  1,      4,  21963,2,20100626,0145, 10.0082, 163.9737, 4970,   1410.4,   3.2584,  34.5866,2,-999.0000,9,     84.9,2,   120.87,2,    40.21,2,     0.00,2,     2.92,2,   2343.4,2,   2391.3,2,   7.4619,2,    25.00,      158
  49UF20100615,  P13N,  2693,  1,      3,  21962,2,20100626,0145, 10.0082, 163.9737, 4970,   1614.0,   2.7234,  34.6083,2,-999.0000,9,     93.2,2,   132.34,2,    39.80,2,     0.00,2,     2.87,2,   2352.4,2,   2404.2,2,   7.4799,2,    25.00,      153
  49UF20100615,  P13N,  2693,  1,      2,  21961,2,20100626,0145, 10.0082, 163.9737, 4970,   1816.4,   2.3786,  34.6265,2,-999.0000,9,    101.7,2,   139.86,2,    39.51,2,     0.00,2,     2.80,2,   2356.6,6,   2411.4,6,   7.4902,6,    25.00,      149
  49UF20100615,  P13N,  2693,  1,      1,  21960,2,20100626,0145, 10.0082, 163.9737, 4970,   2018.5,   2.1609,  34.6380,2,-999.0000,9,    107.0,2,   143.98,2,    39.31,2,     0.00,2,     2.79,2,   2361.4,2,   2417.0,2,   7.4991,2,    25.00,      145