BOTTLE,20190925PRINUNIVRMK
EXPOCODE,SECT_ID,STNNBR,CASTNO,SAMPNO,BTLNBR,BTLNBR_FLAG_W,DATE,TIME,LATITUDE,LONGITUDE,DEPTH,CTDPRS,CTDTMP,CTDSAL,CTDSAL_FLAG_W,SALNTY,SALNTY_FLAG_W,OXYGEN,OXYGEN_FLAG_W,SILCAT,SILCAT_FLAG_W,NITRAT,NITRAT_FLAG_W,NITRIT,NITRIT_FLAG_W,PHSPHT,PHSPHT_FLAG_W,TCARBN,TCARBN_FLAG_W,ALKALI,ALKALI_FLAG_W,PH_TOT,PH_TOT_FLAG_W,PH_TMP,BTL_TIME
,,,,,,,,,,,METERS,DBAR,ITS-90,PSS-78,,PSS-78,,UMOL/KG,,UMOL/KG,,UMOL/KG,,UMOL/KG,,UMOL/KG,,UMOL/KG,,UMOL/KG,,,,DEG C,
  49UF20100615,  P13N,  2685,  1,     99,     99,2,20100623,1450, 17.9947, 164.9725, 5427,      0.0,  27.9471,  34.9756,2,-999.0000,9,    201.4,2,  -999.00,5,  -999.00,5,  -999.00,5,  -999.00,5,   -999.0,9,   -999.0,9,-999.0000,9,  -999.00,     1605
  49UF20100615,  P13N,  2685,  1,     33,  21993,2,20100623,1450, 17.9947, 164.9725, 5427,     12.2,  27.9517,  34.9750,2,-999.0000,9,    201.3,2,  -999.00,5,  -999.00,5,  -999.00,5,  -999.00,5,   -999.0,9,   -999.0,9,-999.0000,9,  -999.00,     1628
  49UF20100615,  P13N,  2685,  1,     32,  21992,2,20100623,1450, 17.9947, 164.9725, 5427,     27.1,  27.9530,  34.9748,2,-999.0000,9,    201.2,2,  -999.00,5,  -999.00,5,  -999.00,5,  -999.00,5,   -999.0,9,   -999.0,9,-999.0000,9,  -999.00,     1627
  49UF20100615,  P13N,  2685,  1,     31,  21991,2,20100623,1450, 17.9947, 164.9725, 5427,     52.5,  27.0264,  35.1932,2,-999.0000,9,    211.3,2,  -999.00,5,  -999.00,5,  -999.00,5,  -999.00,5,   -999.0,9,   -999.0,9,-999.0000,9,  -999.00,     1622
  49UF20100615,  P13N,  2685,  1,     30,  21990,2,20100623,1450, 17.9947, 164.9725, 5427,     76.2,  26.2220,  35.3329,2,-999.0000,9,    211.6,2,  -999.00,5,  -999.00,5,  -999.00,5,  -999.00,5,   -999.0,9,   -999.0,9,-999.0000,9,  -999.00,     1620
  49UF20100615,  P13N,  2685,  1,     29,  21989,2,20100623,1450, 17.9947, 164.9725, 5427,    102.1,  25.4783,  35.3366,2,-999.0000,9,    209.9,2,  -999.00,5,  -999.00,5,  -999.00,5,  -999.00,5,   -999.0,9,   -999.0,9,-999.0000,9,  -999.00,     1619
  49UF20100615,  P13N,  2685,  1,     28,  21988,2,20100623,1450, 17.9947, 164.9725, 5427,    128.3,  24.4218,  35.3666,2,-999.0000,9,    203.3,2,  -999.00,5,  -999.00,5,  -999.00,5,  -999.00,5,   -999.0,9,   -999.0,9,-999.0000,9,  -999.00,     1617
  49UF20100615,  P13N,  2685,  1,     24,  21984,2,20100623,1450, 17.9947, 164.9725, 5427,    151.5,  22.7799,  35.1991,2,-999.0000,9,    192.4,6,  -999.00,5,  -999.00,5,  -999.00,5,  -999.00,5,   -999.0,9,   -999.0,9,-999.0000,9,  -999.00,     1616
  49UF20100615,  P13N,  2685,  1,     23,  21983,2,20100623,1450, 17.9947, 164.9725, 5427,    206.4,  19.0517,  34.8782,2,-999.0000,9,    182.1,2,  -999.00,5,  -999.00,5,  -999.00,5,  -999.00,5,   -999.0,9,   -999.0,9,-999.0000,9,  -999.00,     1614
  49UF20100615,  P13N,  2685,  1,     22,  21982,2,20100623,1450, 17.9947, 164.9725, 5427,    256.0,  16.6433,  34.6679,2,-999.0000,9,    196.2,2,  -999.00,5,  -999.00,5,  -999.00,5,  -999.00,5,   -999.0,9,   -999.0,9,-999.0000,9,  -999.00,     1612
  49UF20100615,  P13N,  2685,  1,     21,  21981,2,20100623,1450, 17.9947, 164.9725, 5427,    307.1,  14.5057,  34.4858,2,-999.0000,9,    186.6,2,  -999.00,5,  -999.00,5,  -999.00,5,  -999.00,5,   -999.0,9,   -999.0,9,-999.0000,9,  -999.00,     1610
  49UF20100615,  P13N,  2685,  1,     20,  21980,3,20100623,1450, 17.9947, 164.9725, 5427,    407.8,  10.1757,  34.2083,2,-999.0000,9,    156.2,2,  -999.00,5,  -999.00,5,  -999.00,5,  -999.00,5,   -999.0,9,   -999.0,9,-999.0000,9,  -999.00,     1607
  49UF20100615,  P13N,  2685,  1,     19,  21978,2,20100623,1450, 17.9947, 164.9725, 5427,    508.0,   7.2506,  34.1767,2,-999.0000,9,     88.7,2,  -999.00,5,  -999.00,5,  -999.00,5,  -999.00,5,   -999.0,9,   -999.0,9,-999.0000,9,  -999.00,     1603
  49UF20100615,  P13N,  2685,  1,     15,  21974,2,20100623,1450, 17.9947, 164.9725, 5427,    610.2,   5.9576,  34.2393,2,-999.0000,9,     62.9,2,  -999.00,5,  -999.00,5,  -999.00,5,  -999.00,5,   -999.0,9,   -999.0,9,-999.0000,9,  -999.00,     1559
  49UF20100615,  P13N,  2685,  1,     14,  21973,2,20100623,1450, 17.9947, 164.9725, 5427,    710.2,   5.6049,  34.3818,2,-999.0000,9,     61.9,2,  -999.00,5,  -999.00,5,  -999.00,5,  -999.00,5,   -999.0,9,   -999.0,9,-999.0000,9,  -999.00,     1556
  49UF20100615,  P13N,  2685,  1,     13,  21972,2,20100623,1450, 17.9947, 164.9725, 5427,    810.1,   5.0129,  34.4331,2,-999.0000,9,     64.8,2,  -999.00,5,  -999.00,5,  -999.00,5,  -999.00,5,   -999.0,9,   -999.0,9,-999.0000,9,  -999.00,     1552
  49UF20100615,  P13N,  2685,  1,     12,  21971,2,20100623,1450, 17.9947, 164.9725, 5427,    910.0,   4.6050,  34.4863,2,-999.0000,9,     72.6,2,  -999.00,5,  -999.00,5,  -999.00,5,  -999.00,5,   -999.0,9,   -999.0,9,-999.0000,9,  -999.00,     1549
  49UF20100615,  P13N,  2685,  1,     11,  21970,2,20100623,1450, 17.9947, 164.9725, 5427,   1010.1,   4.1841,  34.5144,2,-999.0000,9,     76.4,2,  -999.00,5,  -999.00,5,  -999.00,5,  -999.00,5,   -999.0,9,   -999.0,9,-999.0000,9,  -999.00,     1546
  49UF20100615,  P13N,  2685,  1,     10,  21969,2,20100623,1450, 17.9947, 164.9725, 5427,   1010.1,   4.1841,  34.5144,2,-999.0000,9,     76.9,2,  -999.00,5,  -999.00,5,  -999.00,5,  -999.00,5,   -999.0,9,   -999.0,9,-999.0000,9,  -999.00,     1546
  49UF20100615,  P13N,  2685,  1,      6,  21965,2,20100623,1450, 17.9947, 164.9725, 5427,   1212.4,   3.4972,  34.5468,2,-999.0000,9,     82.5,2,  -999.00,5,  -999.00,5,  -999.00,5,  -999.00,5,   -999.0,9,   -999.0,9,-999.0000,9,  -999.00,     1508
  49UF20100615,  P13N,  2685,  1,      5,  21964,2,20100623,1450, 17.9947, 164.9725, 5427,   1212.4,   3.4972,  34.5468,2,-999.0000,9,     81.6,6,  -999.00,5,  -999.00,5,  -999.00,5,  -999.00,5,   -999.0,9,   -999.0,9,-999.0000,9,  -999.00,     1508
  49UF20100615,  P13N,  2685,  1,      4,  21963,2,20100623,1450, 17.9947, 164.9725, 5427,   1415.6,   3.0145,  34.5677,2,-999.0000,9,     84.4,2,  -999.00,5,  -999.00,5,  -999.00,5,  -999.00,5,   -999.0,9,   -999.0,9,-999.0000,9,  -999.00,     1503
  49UF20100615,  P13N,  2685,  1,      3,  21962,2,20100623,1450, 17.9947, 164.9725, 5427,   1618.2,   2.5867,  34.5944,2,-999.0000,9,     88.5,2,  -999.00,5,  -999.00,5,  -999.00,5,  -999.00,5,   -999.0,9,   -999.0,9,-999.0000,9,  -999.00,     1458
  49UF20100615,  P13N,  2685,  1,      2,  21961,2,20100623,1450, 17.9947, 164.9725, 5427,   1820.0,   2.3644,  34.6078,2,-999.0000,9,     94.8,2,  -999.00,5,  -999.00,5,  -999.00,5,  -999.00,5,   -999.0,9,   -999.0,9,-999.0000,9,  -999.00,     1454
  49UF20100615,  P13N,  2685,  1,      1,  21960,2,20100623,1450, 17.9947, 164.9725, 5427,   2022.0,   2.0969,  34.6228,2,-999.0000,9,    106.2,3,  -999.00,9,  -999.00,9,  -999.00,9,  -999.00,9,   -999.0,9,   -999.0,9,-999.0000,9,  -999.00,     1450
  49UF20100615,  P13N,  2686,  1,     99,     99,2,20100623,2219, 17.0073, 164.9847, 5417,      0.0,  28.1848,  34.9819,2,-999.0000,9,    198.9,2,     0.82,2,     0.00,2,     0.00,2,     0.07,2,   -999.0,9,   -999.0,9,-999.0000,9,  -999.00,     2300
  49UF20100615,  P13N,  2686,  1,     33,  21993,2,20100623,2219, 17.0073, 164.9847, 5417,     10.6,  28.1820,  34.9824,2,  34.9819,2,    199.8,2,     0.78,2,     0.00,2,     0.00,2,     0.07,2,   -999.0,9,   -999.0,9,-999.0000,9,  -999.00,     2317
  49UF20100615,  P13N,  2686,  1,     32,  21992,2,20100623,2219, 17.0073, 164.9847, 5417,     24.9,  28.1470,  34.9824,2,-999.0000,9,    201.0,2,     0.87,2,     0.00,2,     0.00,2,     0.07,2,   -999.0,9,   -999.0,9,-999.0000,9,  -999.00,     2315
  49UF20100615,  P13N,  2686,  1,     31,  21991,2,20100623,2219, 17.0073, 164.9847, 5417,     50.0,  27.6824,  35.1773,2,-999.0000,9,    211.6,2,     0.67,2,     0.00,2,     0.00,2,     0.04,2,   -999.0,9,   -999.0,9,-999.0000,9,  -999.00,     2311
  49UF20100615,  P13N,  2686,  1,     30,  21990,2,20100623,2219, 17.0073, 164.9847, 5417,     73.7,  26.4617,  35.2171,2,-999.0000,9,    211.8,2,     0.99,2,     0.00,2,     0.00,2,     0.05,2,   -999.0,9,   -999.0,9,-999.0000,9,  -999.00,     2310
  49UF20100615,  P13N,  2686,  1,     29,  21989,2,20100623,2219, 17.0073, 164.9847, 5417,     99.7,  25.5544,  35.3262,2,  35.3304,2,    207.2,2,     0.81,2,     0.00,2,     0.00,2,     0.01,2,   -999.0,9,   -999.0,9,-999.0000,9,  -999.00,     2309
  49UF20100615,  P13N,  2686,  1,     28,  21988,2,20100623,2219, 17.0073, 164.9847, 5417,    126.6,  24.6452,  35.3125,2,-999.0000,9,    198.6,2,     1.03,2,    -0.05,2,     0.06,2,     0.04,2,   -999.0,9,   -999.0,9,-999.0000,9,  -999.00,     2307
  49UF20100615,  P13N,  2686,  1,     24,  21984,2,20100623,2219, 17.0073, 164.9847, 5417,    150.7,  23.3353,  35.2549,2,-999.0000,9,    201.9,2,     1.06,2,    -0.04,2,     0.10,2,     0.03,2,   -999.0,9,   -999.0,9,-999.0000,9,  -999.00,     2306
  49UF20100615,  P13N,  2686,  1,     23,  21983,2,20100623,2219, 17.0073, 164.9847, 5417,    201.2,  19.6390,  34.9102,2,  34.9191,4,    186.8,6,     2.74,6,     2.79,6,     0.00,6,     0.23,6,   -999.0,9,   -999.0,9,-999.0000,9,  -999.00,     2305
  49UF20100615,  P13N,  2686,  1,     22,  21982,2,20100623,2219, 17.0073, 164.9847, 5417,    250.8,  16.0387,  34.5597,2,-999.0000,9,    165.6,2,     7.39,2,     9.43,2,     0.00,2,     0.73,2,   -999.0,9,   -999.0,9,-999.0000,9,  -999.00,     2303
  49UF20100615,  P13N,  2686,  1,     21,  21981,2,20100623,2219, 17.0073, 164.9847, 5417,    301.0,  12.8899,  34.3306,2,-999.0000,9,    161.6,2,    13.94,2,    14.79,2,     0.00,2,     1.10,2,   -999.0,9,   -999.0,9,-999.0000,9,  -999.00,     2301
  49UF20100615,  P13N,  2686,  1,     20,  21980,2,20100623,2219, 17.0073, 164.9847, 5417,    402.2,   9.0862,  34.2107,2,  34.2125,2,    114.1,2,    35.49,2,    26.63,2,     0.00,2,     1.97,2,   -999.0,9,   -999.0,9,-999.0000,9,  -999.00,     2259
  49UF20100615,  P13N,  2686,  1,     19,  21978,2,20100623,2219, 17.0073, 164.9847, 5417,    503.9,   7.4372,  34.2822,2,-999.0000,9,     67.8,2,    53.50,2,    34.00,2,     0.00,2,     2.51,2,   -999.0,9,   -999.0,9,-999.0000,9,  -999.00,     2256
  49UF20100615,  P13N,  2686,  1,     15,  21974,2,20100623,2219, 17.0073, 164.9847, 5417,    605.5,   6.3203,  34.3468,2,  34.3455,2,     49.0,2,    69.05,2,    37.94,2,     0.00,2,     2.79,2,   -999.0,9,   -999.0,9,-999.0000,9,  -999.00,     2253
  49UF20100615,  P13N,  2686,  1,     14,  21973,2,20100623,2219, 17.0073, 164.9847, 5417,    705.8,   5.6913,  34.4151,2,-999.0000,9,     48.5,2,    78.74,2,    39.27,2,     0.00,2,     2.89,2,   -999.0,9,   -999.0,9,-999.0000,9,  -999.00,     2251
  49UF20100615,  P13N,  2686,  1,     13,  21972,2,20100623,2219, 17.0073, 164.9847, 5417,    810.1,   5.1943,  34.4717,2,  34.4713,2,     55.5,2,    86.39,2,    39.95,2,     0.00,2,     2.91,2,   -999.0,9,   -999.0,9,-999.0000,9,  -999.00,     2248
  49UF20100615,  P13N,  2686,  1,     12,  21971,2,20100623,2219, 17.0073, 164.9847, 5417,    908.4,   4.7564,  34.5023,2,-999.0000,9,     60.7,2,    93.55,2,    40.23,2,     0.00,2,     2.92,2,   -999.0,9,   -999.0,9,-999.0000,9,  -999.00,     2245
  49UF20100615,  P13N,  2686,  1,     11,  21970,2,20100623,2219, 17.0073, 164.9847, 5417,   1009.1,   4.3702,  34.5221,2,  34.5228,2,     62.2,2,   101.39,2,    40.76,2,     0.00,2,     2.94,2,   -999.0,9,   -999.0,9,-999.0000,9,  -999.00,     2243
  49UF20100615,  P13N,  2686,  1,     10,  21969,2,20100623,2219, 17.0073, 164.9847, 5417,   1212.1,   3.6833,  34.5476,2,  34.5475,2,     70.5,2,   115.09,2,    40.75,2,     0.00,2,     2.95,2,   -999.0,9,   -999.0,9,-999.0000,9,  -999.00,     2238
  49UF20100615,  P13N,  2686,  1,      6,  21965,2,20100623,2219, 17.0073, 164.9847, 5417,   1414.2,   3.1653,  34.5670,2,-999.0000,9,     77.7,2,   125.59,2,    40.49,2,     0.00,2,     2.92,2,   -999.0,9,   -999.0,9,-999.0000,9,  -999.00,     2233
  49UF20100615,  P13N,  2686,  1,      5,  21964,2,20100623,2219, 17.0073, 164.9847, 5417,   1414.2,   3.1653,  34.5670,2,  34.5675,6,     78.6,6,   125.85,6,    40.57,6,     0.00,6,     2.91,6,   -999.0,9,   -999.0,9,-999.0000,9,  -999.00,     2233
  49UF20100615,  P13N,  2686,  1,      4,  21963,2,20100623,2219, 17.0073, 164.9847, 5417,   1617.4,   2.6760,  34.5915,2,-999.0000,9,     87.2,2,   135.76,2,    40.24,2,     0.00,2,     2.87,2,   -999.0,9,   -999.0,9,-999.0000,9,  -999.00,     2229
  49UF20100615,  P13N,  2686,  1,      3,  21962,2,20100623,2219, 17.0073, 164.9847, 5417,   1617.4,   2.6760,  34.5915,2,  34.5921,6,     91.4,4,   136.01,2,    40.18,2,     0.00,2,     2.87,2,   -999.0,9,   -999.0,9,-999.0000,9,  -999.00,     2229
  49UF20100615,  P13N,  2686,  1,      2,  21961,2,20100623,2219, 17.0073, 164.9847, 5417,   1820.4,   2.3599,  34.6087,2,  34.6095,2,     94.9,2,   143.12,2,    39.83,2,     0.00,2,     2.84,2,   -999.0,9,   -999.0,9,-999.0000,9,  -999.00,     2224
  49UF20100615,  P13N,  2686,  1,      1,  21960,2,20100623,2219, 17.0073, 164.9847, 5417,   2020.5,   2.0925,  34.6265,2,  34.6270,2,    104.0,2,   146.53,2,    39.28,2,     0.00,2,     2.79,2,   -999.0,9,   -999.0,9,-999.0000,9,  -999.00,     2219
  49UF20100615,  P13N,  2687,  1,     99,     99,2,20100624,0454, 15.9898, 164.9873, 5366,      0.0,  28.4238,  34.7580,2,-999.0000,9,    199.2,2,     1.03,2,     0.00,2,     0.00,2,     0.07,2,   -999.0,9,   -999.0,9,-999.0000,9,  -999.00,      540
  49UF20100615,  P13N,  2687,  1,     33,  21993,2,20100624,0454, 15.9898, 164.9873, 5366,     11.9,  28.4169,  34.7574,2,-999.0000,9,    199.1,2,     0.99,2,     0.00,2,     0.00,2,     0.07,2,   -999.0,9,   -999.0,9,-999.0000,9,  -999.00,      554
  49UF20100615,  P13N,  2687,  1,     32,  21992,2,20100624,0454, 15.9898, 164.9873, 5366,     26.1,  28.3524,  34.7529,2,-999.0000,9,    199.7,2,     0.98,2,     0.00,2,     0.00,2,     0.07,2,   -999.0,9,   -999.0,9,-999.0000,9,  -999.00,      553
  49UF20100615,  P13N,  2687,  1,     31,  21991,2,20100624,0454, 15.9898, 164.9873, 5366,     51.5,  27.8188,  35.0064,2,-999.0000,9,    208.2,2,     1.05,2,     0.00,2,     0.00,2,     0.06,2,   -999.0,9,   -999.0,9,-999.0000,9,  -999.00,      549
  49UF20100615,  P13N,  2687,  1,     30,  21990,2,20100624,0454, 15.9898, 164.9873, 5366,     76.0,  26.7244,  34.9579,2,-999.0000,9,    206.3,2,     0.91,2,     0.00,2,     0.00,2,     0.09,2,   -999.0,9,   -999.0,9,-999.0000,9,  -999.00,      548
  49UF20100615,  P13N,  2687,  1,     29,  21989,2,20100624,0454, 15.9898, 164.9873, 5366,    102.0,  26.1026,  35.1924,2,-999.0000,9,    204.9,2,     1.03,2,     0.00,2,     0.00,2,     0.08,2,   -999.0,9,   -999.0,9,-999.0000,9,  -999.00,      546
  49UF20100615,  P13N,  2687,  1,     28,  21988,2,20100624,0454, 15.9898, 164.9873, 5366,    124.9,  25.2536,  35.1420,2,-999.0000,9,    204.2,2,     0.98,2,     0.00,2,     0.00,2,     0.08,2,   -999.0,9,   -999.0,9,-999.0000,9,  -999.00,      545
  49UF20100615,  P13N,  2687,  1,     24,  21984,2,20100624,0454, 15.9898, 164.9873, 5366,    150.8,  24.5425,  35.2289,2,-999.0000,9,    200.1,2,     0.97,2,    -0.01,2,     0.09,2,     0.09,2,   -999.0,9,   -999.0,9,-999.0000,9,  -999.00,      544
  49UF20100615,  P13N,  2687,  1,     23,  21983,2,20100624,0454, 15.9898, 164.9873, 5366,    203.2,  20.8229,  35.0125,2,-999.0000,9,    179.5,2,     2.25,2,     2.36,2,     0.01,2,     0.24,2,   -999.0,9,   -999.0,9,-999.0000,9,  -999.00,      542
  49UF20100615,  P13N,  2687,  1,     22,  21982,2,20100624,0454, 15.9898, 164.9873, 5366,    253.6,  16.4269,  34.6111,2,-999.0000,9,    173.0,6,     6.77,6,     8.25,6,     0.01,6,     0.64,6,   -999.0,9,   -999.0,9,-999.0000,9,  -999.00,      540
  49UF20100615,  P13N,  2687,  1,     21,  21981,2,20100624,0454, 15.9898, 164.9873, 5366,    303.3,  12.6616,  34.3129,2,-999.0000,9,    163.5,2,    14.50,2,    14.99,2,     0.00,2,     1.13,2,   -999.0,9,   -999.0,9,-999.0000,9,  -999.00,      538
  49UF20100615,  P13N,  2687,  1,     20,  21980,2,20100624,0454, 15.9898, 164.9873, 5366,    404.3,   8.8388,  34.2394,2,-999.0000,9,    100.6,2,    38.16,2,    28.13,2,     0.00,2,     2.09,2,   -999.0,9,   -999.0,9,-999.0000,9,  -999.00,      535
  49UF20100615,  P13N,  2687,  1,     19,  21978,2,20100624,0454, 15.9898, 164.9873, 5366,    505.2,   6.9176,  34.2596,2,-999.0000,9,     63.6,2,    60.30,2,    35.24,2,     0.00,2,     2.60,2,   -999.0,9,   -999.0,9,-999.0000,9,  -999.00,      532
  49UF20100615,  P13N,  2687,  1,     15,  21974,2,20100624,0454, 15.9898, 164.9873, 5366,    606.3,   6.0615,  34.3815,2,-999.0000,9,     50.6,2,    72.90,2,    38.34,2,     0.00,2,     2.81,2,   -999.0,9,   -999.0,9,-999.0000,9,  -999.00,      529
  49UF20100615,  P13N,  2687,  1,     14,  21973,2,20100624,0454, 15.9898, 164.9873, 5366,    705.9,   5.4892,  34.4468,2,-999.0000,9,     50.0,2,    81.68,2,    39.65,2,     0.00,2,     2.91,2,   -999.0,9,   -999.0,9,-999.0000,9,  -999.00,      526
  49UF20100615,  P13N,  2687,  1,     13,  21972,2,20100624,0454, 15.9898, 164.9873, 5366,    806.8,   5.0706,  34.4869,2,-999.0000,9,     55.9,2,    88.41,2,    40.19,2,     0.00,2,     2.92,2,   -999.0,9,   -999.0,9,-999.0000,9,  -999.00,      523
  49UF20100615,  P13N,  2687,  1,     12,  21971,2,20100624,0454, 15.9898, 164.9873, 5366,    906.6,   4.7010,  34.5076,2,-999.0000,9,     61.1,2,    95.63,2,    40.31,2,     0.00,2,     2.93,2,   -999.0,9,   -999.0,9,-999.0000,9,  -999.00,      520
  49UF20100615,  P13N,  2687,  1,     11,  21970,2,20100624,0454, 15.9898, 164.9873, 5366,   1009.9,   4.2873,  34.5234,2,-999.0000,9,     63.5,2,   103.36,2,    40.65,2,     0.00,2,     2.94,2,   -999.0,9,   -999.0,9,-999.0000,9,  -999.00,      517
  49UF20100615,  P13N,  2687,  1,     10,  21969,2,20100624,0454, 15.9898, 164.9873, 5366,   1211.5,   3.6192,  34.5548,2,-999.0000,9,     73.2,2,   116.24,2,    40.58,2,     0.00,2,     2.92,2,   -999.0,9,   -999.0,9,-999.0000,9,  -999.00,      513
  49UF20100615,  P13N,  2687,  1,      6,  21965,2,20100624,0454, 15.9898, 164.9873, 5366,   1413.4,   3.1366,  34.5695,2,-999.0000,9,     78.3,2,   126.38,2,    40.56,2,     0.00,2,     2.92,2,   -999.0,9,   -999.0,9,-999.0000,9,  -999.00,      508
  49UF20100615,  P13N,  2687,  1,      5,  21964,2,20100624,0454, 15.9898, 164.9873, 5366,   1615.7,   2.6684,  34.5925,2,-999.0000,9,     87.3,2,   136.67,6,    40.25,6,     0.01,6,     2.88,6,   -999.0,9,   -999.0,9,-999.0000,9,  -999.00,      503
  49UF20100615,  P13N,  2687,  1,      4,  21963,2,20100624,0454, 15.9898, 164.9873, 5366,   1820.4,   2.3247,  34.6125,2,-999.0000,9,     96.6,2,   143.53,2,    39.73,2,     0.00,2,     2.83,2,   -999.0,9,   -999.0,9,-999.0000,9,  -999.00,      458
  49UF20100615,  P13N,  2687,  1,      3,  21962,2,20100624,0454, 15.9898, 164.9873, 5366,   1820.4,   2.3247,  34.6125,2,-999.0000,9,     96.0,2,   143.97,2,    39.62,2,     0.00,2,     2.83,2,   -999.0,9,   -999.0,9,-999.0000,9,  -999.00,      458
  49UF20100615,  P13N,  2687,  1,      2,  21961,2,20100624,0454, 15.9898, 164.9873, 5366,   2023.5,   2.1017,  34.6266,2,-999.0000,9,    104.1,2,   147.41,2,    39.43,2,     0.00,2,     2.79,2,   -999.0,9,   -999.0,9,-999.0000,9,  -999.00,      454
  49UF20100615,  P13N,  2687,  1,      1,  21960,2,20100624,0454, 15.9898, 164.9873, 5366,   2023.5,   2.1017,  34.6266,2,-999.0000,9,    104.1,2,   148.47,2,    39.40,2,     0.00,2,     2.80,2,   -999.0,9,   -999.0,9,-999.0000,9,  -999.00,      454