BOTTLE,20190925PRINUNIVRMK
EXPOCODE,SECT_ID,STNNBR,CASTNO,SAMPNO,BTLNBR,BTLNBR_FLAG_W,DATE,TIME,LATITUDE,LONGITUDE,DEPTH,CTDPRS,CTDTMP,CTDSAL,CTDSAL_FLAG_W,SALNTY,SALNTY_FLAG_W,OXYGEN,OXYGEN_FLAG_W,SILCAT,SILCAT_FLAG_W,NITRAT,NITRAT_FLAG_W,NITRIT,NITRIT_FLAG_W,PHSPHT,PHSPHT_FLAG_W,TCARBN,TCARBN_FLAG_W,ALKALI,ALKALI_FLAG_W,PH_TOT,PH_TOT_FLAG_W,PH_TMP,BTL_TIME
,,,,,,,,,,,METERS,DBAR,ITS-90,PSS-78,,PSS-78,,UMOL/KG,,UMOL/KG,,UMOL/KG,,UMOL/KG,,UMOL/KG,,UMOL/KG,,UMOL/KG,,,,DEG C,
  49UF20100615,  P13N,  2694,  1,     99,     99,2,20100626,1102,  9.0027, 163.9850, 5201,      0.0,  28.7828,  34.3671,2,-999.0000,9,    196.9,2,     1.16,2,     0.00,2,     0.00,2,     0.05,2,   -999.0,9,   -999.0,9,-999.0000,9,  -999.00,     1142
  49UF20100615,  P13N,  2694,  1,     33,  21993,2,20100626,1102,  9.0027, 163.9850, 5201,     10.4,  28.7834,  34.3670,2,-999.0000,9,    198.1,2,     1.16,2,     0.00,2,     0.00,2,     0.05,2,   -999.0,9,   -999.0,9,-999.0000,9,  -999.00,     1158
  49UF20100615,  P13N,  2694,  1,     32,  21992,2,20100626,1102,  9.0027, 163.9850, 5201,     25.4,  28.7878,  34.3682,2,-999.0000,9,    197.6,2,     1.04,2,     0.00,2,     0.00,2,     0.05,2,   -999.0,9,   -999.0,9,-999.0000,9,  -999.00,     1156
  49UF20100615,  P13N,  2694,  1,     31,  21991,2,20100626,1102,  9.0027, 163.9850, 5201,     49.8,  28.7940,  34.3690,2,-999.0000,9,    198.2,2,     1.12,2,     0.00,2,     0.00,2,     0.05,2,   -999.0,9,   -999.0,9,-999.0000,9,  -999.00,     1152
  49UF20100615,  P13N,  2694,  1,     30,  21990,2,20100626,1102,  9.0027, 163.9850, 5201,     75.2,  28.6355,  34.4237,2,-999.0000,9,    200.7,2,     1.14,2,     0.00,2,     0.00,2,     0.06,2,   -999.0,9,   -999.0,9,-999.0000,9,  -999.00,     1150
  49UF20100615,  P13N,  2694,  1,     29,  21989,2,20100626,1102,  9.0027, 163.9850, 5201,     99.6,  27.3443,  34.5771,2,-999.0000,9,    205.6,6,     1.16,6,     0.04,6,     0.00,6,     0.07,6,   -999.0,9,   -999.0,9,-999.0000,9,  -999.00,     1149
  49UF20100615,  P13N,  2694,  1,     28,  21988,2,20100626,1102,  9.0027, 163.9850, 5201,    125.9,  23.3134,  35.0627,2,-999.0000,9,    194.5,2,     1.80,2,     0.11,2,     0.06,2,     0.15,2,   -999.0,9,   -999.0,9,-999.0000,9,  -999.00,     1148
  49UF20100615,  P13N,  2694,  1,     24,  21984,2,20100626,1102,  9.0027, 163.9850, 5201,    151.0,  18.2546,  34.7083,2,-999.0000,9,    155.8,2,     6.75,2,     8.09,2,     0.03,2,     0.69,2,   -999.0,9,   -999.0,9,-999.0000,9,  -999.00,     1147
  49UF20100615,  P13N,  2694,  1,     23,  21983,2,20100626,1102,  9.0027, 163.9850, 5201,    200.5,  12.8519,  34.4583,2,-999.0000,9,    102.1,2,    20.19,2,    21.63,2,     0.00,2,     1.60,2,   -999.0,9,   -999.0,9,-999.0000,9,  -999.00,     1145
  49UF20100615,  P13N,  2694,  1,     22,  21982,2,20100626,1102,  9.0027, 163.9850, 5201,    251.6,  10.6889,  34.5478,2,-999.0000,9,     51.6,2,    31.00,2,    30.72,2,     0.00,2,     2.23,2,   -999.0,9,   -999.0,9,-999.0000,9,  -999.00,     1144
  49UF20100615,  P13N,  2694,  1,     21,  21981,2,20100626,1102,  9.0027, 163.9850, 5201,    302.7,   9.9082,  34.5771,2,-999.0000,9,     47.3,2,    34.83,2,    32.92,2,     0.00,2,     2.35,2,   -999.0,9,   -999.0,9,-999.0000,9,  -999.00,     1142
  49UF20100615,  P13N,  2694,  1,     20,  21980,2,20100626,1102,  9.0027, 163.9850, 5201,    401.8,   8.7796,  34.5956,2,-999.0000,9,     47.0,2,    40.60,2,    35.39,2,     0.00,2,     2.50,2,   -999.0,9,   -999.0,9,-999.0000,9,  -999.00,     1140
  49UF20100615,  P13N,  2694,  1,     19,  21978,2,20100626,1102,  9.0027, 163.9850, 5201,    503.3,   7.8788,  34.5663,2,-999.0000,9,     52.3,2,    47.28,2,    36.64,2,     0.00,2,     2.59,2,   -999.0,9,   -999.0,9,-999.0000,9,  -999.00,     1137
  49UF20100615,  P13N,  2694,  1,     15,  21974,2,20100626,1102,  9.0027, 163.9850, 5201,    603.9,   7.0553,  34.5397,2,-999.0000,9,     56.5,2,    55.56,2,    37.68,2,     0.00,2,     2.65,2,   -999.0,9,   -999.0,9,-999.0000,9,  -999.00,     1135
  49UF20100615,  P13N,  2694,  1,     14,  21973,2,20100626,1102,  9.0027, 163.9850, 5201,    704.6,   6.1951,  34.5321,2,-999.0000,9,     56.6,2,    66.53,2,    39.12,2,     0.00,2,     2.79,2,   -999.0,9,   -999.0,9,-999.0000,9,  -999.00,     1132
  49UF20100615,  P13N,  2694,  1,     13,  21972,2,20100626,1102,  9.0027, 163.9850, 5201,    806.5,   5.5505,  34.5316,2,-999.0000,9,     59.8,2,    76.77,2,    39.96,2,     0.00,2,     2.85,2,   -999.0,9,   -999.0,9,-999.0000,9,  -999.00,     1130
  49UF20100615,  P13N,  2694,  1,     12,  21971,2,20100626,1102,  9.0027, 163.9850, 5201,    806.5,   5.5505,  34.5316,2,-999.0000,9,     59.9,2,    76.77,2,    39.97,2,     0.00,2,     2.85,2,   -999.0,9,   -999.0,9,-999.0000,9,  -999.00,     1130
  49UF20100615,  P13N,  2694,  1,     11,  21970,2,20100626,1102,  9.0027, 163.9850, 5201,    905.6,   4.9247,  34.5439,2,-999.0000,9,     73.3,2,    86.09,2,    39.75,2,     0.00,2,     2.81,2,   -999.0,9,   -999.0,9,-999.0000,9,  -999.00,     1127
  49UF20100615,  P13N,  2694,  1,     10,  21969,2,20100626,1102,  9.0027, 163.9850, 5201,    905.6,   4.9247,  34.5439,2,-999.0000,9,     73.1,6,    86.46,6,    39.68,6,     0.00,6,     2.82,6,   -999.0,9,   -999.0,9,-999.0000,9,  -999.00,     1127
  49UF20100615,  P13N,  2694,  1,      6,  21965,2,20100626,1102,  9.0027, 163.9850, 5201,   1008.5,   4.4620,  34.5539,2,-999.0000,9,     81.6,2,    94.49,2,    39.41,2,     0.00,2,     2.81,2,   -999.0,9,   -999.0,9,-999.0000,9,  -999.00,     1124
  49UF20100615,  P13N,  2694,  1,      5,  21964,2,20100626,1102,  9.0027, 163.9850, 5201,   1209.4,   3.7176,  34.5741,2,-999.0000,9,     86.5,2,   109.81,2,    39.73,2,     0.00,2,     2.81,2,   -999.0,9,   -999.0,9,-999.0000,9,  -999.00,     1120
  49UF20100615,  P13N,  2694,  1,      4,  21963,2,20100626,1102,  9.0027, 163.9850, 5201,   1411.4,   3.2413,  34.5902,2,-999.0000,9,     89.0,2,   119.64,2,    40.07,2,     0.00,2,     2.84,2,   -999.0,9,   -999.0,9,-999.0000,9,  -999.00,     1115
  49UF20100615,  P13N,  2694,  1,      3,  21962,2,20100626,1102,  9.0027, 163.9850, 5201,   1614.6,   2.8467,  34.6039,2,-999.0000,9,     94.5,2,   128.00,2,    39.66,2,     0.00,2,     2.80,2,   -999.0,9,   -999.0,9,-999.0000,9,  -999.00,     1111
  49UF20100615,  P13N,  2694,  1,      2,  21961,2,20100626,1102,  9.0027, 163.9850, 5201,   1816.9,   2.4877,  34.6218,2,-999.0000,9,     99.9,2,   136.60,2,    39.67,2,     0.00,2,     2.78,2,   -999.0,9,   -999.0,9,-999.0000,9,  -999.00,     1106
  49UF20100615,  P13N,  2694,  1,      1,  21960,2,20100626,1102,  9.0027, 163.9850, 5201,   2022.2,   2.1929,  34.6372,2,-999.0000,9,    105.7,2,   142.85,2,    39.39,2,     0.00,2,     2.74,2,   -999.0,9,   -999.0,9,-999.0000,9,  -999.00,     1102
  49UF20100615,  P13N,  2695,  1,     99,     99,2,20100626,1750,  8.0067, 163.9858, 5138,      0.0,  28.7552,  34.3473,2,-999.0000,9,    197.1,2,     1.11,2,     0.00,2,     0.00,2,     0.11,2,   -999.0,9,   -999.0,9,-999.0000,9,  -999.00,     1835
  49UF20100615,  P13N,  2695,  1,     33,  21993,2,20100626,1750,  8.0067, 163.9858, 5138,     11.9,  28.7509,  34.3474,2,  34.3471,6,    197.7,2,     1.14,2,     0.00,2,     0.00,2,     0.10,2,   -999.0,9,   -999.0,9,-999.0000,9,  -999.00,     1852
  49UF20100615,  P13N,  2695,  1,     32,  21992,2,20100626,1750,  8.0067, 163.9858, 5138,     26.8,  28.7558,  34.3475,2,-999.0000,9,    197.0,2,     1.18,2,     0.00,2,     0.00,2,     0.11,2,   -999.0,9,   -999.0,9,-999.0000,9,  -999.00,     1850
  49UF20100615,  P13N,  2695,  1,     31,  21991,2,20100626,1750,  8.0067, 163.9858, 5138,     51.7,  28.6180,  34.4105,2,-999.0000,9,    198.0,2,     1.20,2,     0.00,2,     0.00,2,     0.08,2,   -999.0,9,   -999.0,9,-999.0000,9,  -999.00,     1846
  49UF20100615,  P13N,  2695,  1,     30,  21990,2,20100626,1750,  8.0067, 163.9858, 5138,     75.5,  28.5305,  34.4504,2,-999.0000,9,    197.8,2,     1.18,2,     0.00,2,     0.00,2,     0.07,2,   -999.0,9,   -999.0,9,-999.0000,9,  -999.00,     1845
  49UF20100615,  P13N,  2695,  1,     29,  21989,2,20100626,1750,  8.0067, 163.9858, 5138,    102.0,  26.8700,  34.6593,2,  34.5847,4,    200.4,2,     1.28,2,     0.00,2,     0.00,2,     0.08,2,   -999.0,9,   -999.0,9,-999.0000,9,  -999.00,     1843
  49UF20100615,  P13N,  2695,  1,     28,  21988,2,20100626,1750,  8.0067, 163.9858, 5138,    126.2,  22.1967,  34.9910,2,-999.0000,9,    183.1,6,     2.49,6,     1.18,6,     0.36,6,     0.27,6,   -999.0,9,   -999.0,9,-999.0000,9,  -999.00,     1842
  49UF20100615,  P13N,  2695,  1,     24,  21984,2,20100626,1750,  8.0067, 163.9858, 5138,    152.0,  18.7664,  34.7550,2,-999.0000,9,    160.9,2,     5.43,2,     6.66,2,     0.02,2,     0.59,2,   -999.0,9,   -999.0,9,-999.0000,9,  -999.00,     1840
  49UF20100615,  P13N,  2695,  1,     23,  21983,2,20100626,1750,  8.0067, 163.9858, 5138,    201.2,  12.1560,  34.4444,2,  34.4465,2,     89.0,2,    22.58,2,    24.01,2,     0.00,2,     1.78,2,   -999.0,9,   -999.0,9,-999.0000,9,  -999.00,     1839
  49UF20100615,  P13N,  2695,  1,     22,  21982,2,20100626,1750,  8.0067, 163.9858, 5138,    252.7,  10.2730,  34.6202,2,-999.0000,9,     35.8,2,    33.15,2,    33.12,2,     0.00,2,     2.38,2,   -999.0,9,   -999.0,9,-999.0000,9,  -999.00,     1837
  49UF20100615,  P13N,  2695,  1,     21,  21981,2,20100626,1750,  8.0067, 163.9858, 5138,    303.8,   9.8401,  34.6577,2,-999.0000,9,     39.7,2,    33.85,2,    34.26,2,     0.00,2,     2.39,2,   -999.0,9,   -999.0,9,-999.0000,9,  -999.00,     1835
  49UF20100615,  P13N,  2695,  1,     20,  21980,2,20100626,1750,  8.0067, 163.9858, 5138,    403.6,   8.8785,  34.6200,2,  34.6215,2,     54.0,2,    37.80,2,    34.72,2,     0.00,2,     2.44,2,   -999.0,9,   -999.0,9,-999.0000,9,  -999.00,     1832
  49UF20100615,  P13N,  2695,  1,     19,  21978,2,20100626,1750,  8.0067, 163.9858, 5138,    505.8,   8.3202,  34.5982,2,-999.0000,9,     54.8,2,    41.79,2,    35.60,2,     0.00,2,     2.52,2,   -999.0,9,   -999.0,9,-999.0000,9,  -999.00,     1829
  49UF20100615,  P13N,  2695,  1,     15,  21974,2,20100626,1750,  8.0067, 163.9858, 5138,    604.8,   7.2534,  34.5599,2,  34.5605,2,     45.7,2,    52.95,2,    38.36,2,     0.00,2,     2.73,2,   -999.0,9,   -999.0,9,-999.0000,9,  -999.00,     1826
  49UF20100615,  P13N,  2695,  1,     14,  21973,2,20100626,1750,  8.0067, 163.9858, 5138,    704.6,   6.4469,  34.5459,2,-999.0000,9,     52.7,2,    61.02,2,    39.50,2,     0.00,2,     2.82,2,   -999.0,9,   -999.0,9,-999.0000,9,  -999.00,     1823
  49UF20100615,  P13N,  2695,  1,     13,  21972,2,20100626,1750,  8.0067, 163.9858, 5138,    807.8,   5.6365,  34.5392,2,  34.5389,2,     62.7,2,    72.31,2,    39.85,2,     0.00,2,     2.81,2,   -999.0,9,   -999.0,9,-999.0000,9,  -999.00,     1820
  49UF20100615,  P13N,  2695,  1,     12,  21971,2,20100626,1750,  8.0067, 163.9858, 5138,    908.9,   5.0081,  34.5405,2,-999.0000,9,     65.2,2,    85.21,2,    40.24,2,     0.00,2,     2.85,2,   -999.0,9,   -999.0,9,-999.0000,9,  -999.00,     1817
  49UF20100615,  P13N,  2695,  1,     11,  21970,2,20100626,1750,  8.0067, 163.9858, 5138,   1008.7,   4.5453,  34.5538,2,-999.0000,9,     71.8,2,    92.56,2,    40.33,2,     0.00,2,     2.84,2,   -999.0,9,   -999.0,9,-999.0000,9,  -999.00,     1814
  49UF20100615,  P13N,  2695,  1,     10,  21969,2,20100626,1750,  8.0067, 163.9858, 5138,   1008.7,   4.5453,  34.5538,2,  34.5537,2,     71.5,6,    92.67,6,    40.38,6,     0.00,6,     2.83,6,   -999.0,9,   -999.0,9,-999.0000,9,  -999.00,     1814
  49UF20100615,  P13N,  2695,  1,      6,  21965,2,20100626,1750,  8.0067, 163.9858, 5138,   1213.1,   3.8576,  34.5699,2,-999.0000,9,     83.3,2,   106.16,2,    39.99,2,     0.00,2,     2.80,2,   -999.0,9,   -999.0,9,-999.0000,9,  -999.00,     1809
  49UF20100615,  P13N,  2695,  1,      5,  21964,2,20100626,1750,  8.0067, 163.9858, 5138,   1213.1,   3.8576,  34.5699,2,  34.5703,2,     83.0,2,   106.76,2,    40.03,2,     0.00,2,     2.82,2,   -999.0,9,   -999.0,9,-999.0000,9,  -999.00,     1809
  49UF20100615,  P13N,  2695,  1,      4,  21963,2,20100626,1750,  8.0067, 163.9858, 5138,   1413.8,   3.3073,  34.5869,2,  34.5870,2,     90.0,2,   118.73,2,    39.83,2,     0.00,2,     2.79,2,   -999.0,9,   -999.0,9,-999.0000,9,  -999.00,     1804
  49UF20100615,  P13N,  2695,  1,      3,  21962,2,20100626,1750,  8.0067, 163.9858, 5138,   1614.0,   2.8800,  34.6042,2,  34.6049,2,     93.6,2,   127.15,2,    39.81,2,     0.00,2,     2.78,2,   -999.0,9,   -999.0,9,-999.0000,9,  -999.00,     1759
  49UF20100615,  P13N,  2695,  1,      2,  21961,2,20100626,1750,  8.0067, 163.9858, 5138,   1818.6,   2.5329,  34.6198,2,  34.6208,2,     98.5,2,   134.82,2,    39.46,2,     0.00,2,     2.78,2,   -999.0,9,   -999.0,9,-999.0000,9,  -999.00,     1755
  49UF20100615,  P13N,  2695,  1,      1,  21960,2,20100626,1750,  8.0067, 163.9858, 5138,   2021.1,   2.2551,  34.6335,2,  34.6342,2,    103.8,2,   142.14,2,    39.58,2,     0.00,2,     2.75,2,   -999.0,9,   -999.0,9,-999.0000,9,  -999.00,     1750
  49UF20100615,  P13N,  2696,  1,     99,     99,2,20100627,0121,  6.9977, 164.4690, 5073,      0.0,  29.0404,  34.3352,2,-999.0000,9,    197.0,2,     1.19,2,     0.01,2,     0.00,2,     0.11,2,   -999.0,9,   -999.0,9,-999.0000,9,  -999.00,      203
  49UF20100615,  P13N,  2696,  1,     33,  21993,2,20100627,0121,  6.9977, 164.4690, 5073,      9.9,  28.8515,  34.3292,2,-999.0000,9,    198.8,2,     1.09,2,     0.00,2,     0.00,2,     0.11,2,   -999.0,9,   -999.0,9,-999.0000,9,  -999.00,      222
  49UF20100615,  P13N,  2696,  1,     32,  21992,2,20100627,0121,  6.9977, 164.4690, 5073,     25.4,  28.7930,  34.3290,2,-999.0000,9,    197.3,2,     1.21,2,     0.01,2,     0.00,2,     0.11,2,   -999.0,9,   -999.0,9,-999.0000,9,  -999.00,      221
  49UF20100615,  P13N,  2696,  1,     31,  21991,2,20100627,0121,  6.9977, 164.4690, 5073,     50.7,  28.7343,  34.4051,2,-999.0000,9,    198.2,2,     1.11,2,     0.00,2,     0.00,2,     0.11,2,   -999.0,9,   -999.0,9,-999.0000,9,  -999.00,      216
  49UF20100615,  P13N,  2696,  1,     30,  21990,2,20100627,0121,  6.9977, 164.4690, 5073,     73.9,  28.3638,  34.5140,2,-999.0000,9,    197.7,2,     1.13,2,     0.01,2,     0.00,2,     0.08,2,   -999.0,9,   -999.0,9,-999.0000,9,  -999.00,      215
  49UF20100615,  P13N,  2696,  1,     29,  21989,2,20100627,0121,  6.9977, 164.4690, 5073,    100.1,  24.3749,  34.9491,2,-999.0000,9,    199.0,2,     1.75,2,     0.06,2,     0.02,2,     0.13,2,   -999.0,9,   -999.0,9,-999.0000,9,  -999.00,      214
  49UF20100615,  P13N,  2696,  1,     28,  21988,2,20100627,0121,  6.9977, 164.4690, 5073,    126.6,  18.8030,  34.7658,2,-999.0000,9,    160.2,2,     5.74,2,     6.90,2,     0.05,4,     0.60,2,   -999.0,9,   -999.0,9,-999.0000,9,  -999.00,      213
  49UF20100615,  P13N,  2696,  1,     24,  21984,3,20100627,0121,  6.9977, 164.4690, 5073,    151.7,  15.8738,  34.5738,2,-999.0000,9,    137.9,6,    10.54,6,    13.05,6,     0.01,6,     1.00,6,   -999.0,9,   -999.0,9,-999.0000,9,  -999.00,      212
  49UF20100615,  P13N,  2696,  1,     23,  21983,2,20100627,0121,  6.9977, 164.4690, 5073,    202.4,  11.6830,  34.5156,2,-999.0000,9,     67.5,2,    25.96,2,    27.11,2,     0.00,2,     1.99,2,   -999.0,9,   -999.0,9,-999.0000,9,  -999.00,      210
  49UF20100615,  P13N,  2696,  1,     22,  21982,2,20100627,0121,  6.9977, 164.4690, 5073,    252.1,  10.1843,  34.6351,2,-999.0000,9,     37.3,2,    33.42,2,    33.42,2,     0.00,2,     2.39,2,   -999.0,9,   -999.0,9,-999.0000,9,  -999.00,      208
  49UF20100615,  P13N,  2696,  1,     21,  21981,2,20100627,0121,  6.9977, 164.4690, 5073,    301.5,   9.6085,  34.6407,2,-999.0000,9,     55.1,2,    34.47,2,    33.15,2,     0.00,2,     2.32,2,   -999.0,9,   -999.0,9,-999.0000,9,  -999.00,      206
  49UF20100615,  P13N,  2696,  1,     20,  21980,2,20100627,0121,  6.9977, 164.4690, 5073,    403.5,   8.7483,  34.5985,2,-999.0000,9,     52.6,2,    39.34,2,    34.91,2,     0.00,2,     2.45,2,   -999.0,9,   -999.0,9,-999.0000,9,  -999.00,      203
  49UF20100615,  P13N,  2696,  1,     19,  21978,2,20100627,0121,  6.9977, 164.4690, 5073,    503.5,   8.1696,  34.5872,2,-999.0000,9,     56.5,2,    43.24,2,    35.70,2,     0.01,2,     2.52,2,   -999.0,9,   -999.0,9,-999.0000,9,  -999.00,      159
  49UF20100615,  P13N,  2696,  1,     15,  21974,2,20100627,0121,  6.9977, 164.4690, 5073,    603.6,   7.4300,  34.5678,2,-999.0000,9,     51.0,2,    50.22,2,    37.57,2,     0.04,4,     2.70,2,   -999.0,9,   -999.0,9,-999.0000,9,  -999.00,      156
  49UF20100615,  P13N,  2696,  1,     14,  21973,2,20100627,0121,  6.9977, 164.4690, 5073,    705.0,   6.5230,  34.5484,2,-999.0000,9,     50.0,2,    60.20,2,    39.65,2,     0.00,2,     2.85,2,   -999.0,9,   -999.0,9,-999.0000,9,  -999.00,      153
  49UF20100615,  P13N,  2696,  1,     13,  21972,2,20100627,0121,  6.9977, 164.4690, 5073,    806.1,   5.8861,  34.5425,2,-999.0000,9,     55.2,2,    67.91,2,    40.18,2,     0.00,2,     2.87,2,   -999.0,9,   -999.0,9,-999.0000,9,  -999.00,      150
  49UF20100615,  P13N,  2696,  1,     12,  21971,2,20100627,0121,  6.9977, 164.4690, 5073,    908.5,   4.7753,  34.5528,2,-999.0000,9,     64.4,2,    86.65,2,    41.16,2,     0.00,2,     2.91,2,   -999.0,9,   -999.0,9,-999.0000,9,  -999.00,      147
  49UF20100615,  P13N,  2696,  1,     11,  21970,2,20100627,0121,  6.9977, 164.4690, 5073,   1008.9,   4.2088,  34.5637,2,-999.0000,9,     71.8,2,    97.76,2,    40.94,2,     0.00,2,     2.93,2,   -999.0,9,   -999.0,9,-999.0000,9,  -999.00,      144
  49UF20100615,  P13N,  2696,  1,     10,  21969,2,20100627,0121,  6.9977, 164.4690, 5073,   1210.2,   3.6459,  34.5777,2,-999.0000,9,     80.4,6,   111.37,6,    40.51,6,     0.00,6,     2.90,6,   -999.0,9,   -999.0,9,-999.0000,9,  -999.00,      138
  49UF20100615,  P13N,  2696,  1,      6,  21965,2,20100627,0121,  6.9977, 164.4690, 5073,   1412.4,   3.2911,  34.5893,2,-999.0000,9,     84.9,2,   118.96,2,    40.42,2,     0.00,2,     2.87,2,   -999.0,9,   -999.0,9,-999.0000,9,  -999.00,      133
  49UF20100615,  P13N,  2696,  1,      5,  21964,2,20100627,0121,  6.9977, 164.4690, 5073,   1412.4,   3.2911,  34.5893,2,-999.0000,9,     84.6,2,   119.22,2,    40.35,2,     0.00,2,     2.87,2,   -999.0,9,   -999.0,9,-999.0000,9,  -999.00,      133
  49UF20100615,  P13N,  2696,  1,      4,  21963,2,20100627,0121,  6.9977, 164.4690, 5073,   1615.8,   2.8462,  34.6059,2,-999.0000,9,     93.2,2,   129.21,2,    40.05,2,     0.00,2,     2.83,2,   -999.0,9,   -999.0,9,-999.0000,9,  -999.00,      129
  49UF20100615,  P13N,  2696,  1,      3,  21962,2,20100627,0121,  6.9977, 164.4690, 5073,   1615.8,   2.8462,  34.6059,2,-999.0000,9,     93.0,2,   128.81,2,    40.06,2,     0.00,2,     2.85,2,   -999.0,9,   -999.0,9,-999.0000,9,  -999.00,      129
  49UF20100615,  P13N,  2696,  1,      2,  21961,2,20100627,0121,  6.9977, 164.4690, 5073,   1817.1,   2.5084,  34.6228,2,-999.0000,9,    100.6,2,   135.28,2,    39.68,2,     0.00,2,     2.80,2,   -999.0,9,   -999.0,9,-999.0000,9,  -999.00,      125
  49UF20100615,  P13N,  2696,  1,      1,  21960,3,20100627,0121,  6.9977, 164.4690, 5073,   2020.1,   2.2068,  34.6383,2,-999.0000,9,    106.2,2,   141.27,2,    39.13,2,     0.00,2,     2.75,2,   -999.0,9,   -999.0,9,-999.0000,9,  -999.00,      121