BOTTLE,20190925PRINUNIVRMK
EXPOCODE,SECT_ID,STNNBR,CASTNO,SAMPNO,BTLNBR,BTLNBR_FLAG_W,DATE,TIME,LATITUDE,LONGITUDE,DEPTH,CTDPRS,CTDTMP,CTDSAL,CTDSAL_FLAG_W,SALNTY,SALNTY_FLAG_W,OXYGEN,OXYGEN_FLAG_W,SILCAT,SILCAT_FLAG_W,NITRAT,NITRAT_FLAG_W,NITRIT,NITRIT_FLAG_W,PHSPHT,PHSPHT_FLAG_W,TCARBN,TCARBN_FLAG_W,ALKALI,ALKALI_FLAG_W,PH_TOT,PH_TOT_FLAG_W,PH_TMP,BTL_TIME
,,,,,,,,,,,METERS,DBAR,ITS-90,PSS-78,,PSS-78,,UMOL/KG,,UMOL/KG,,UMOL/KG,,UMOL/KG,,UMOL/KG,,UMOL/KG,,UMOL/KG,,,,DEG C,
  49UF20100615,  P13N,  2709,  1,     99,     99,2,20100712,2319, -5.0073, 164.9702, 2297,      0.0,  29.9232,  34.4431,2,-999.0000,9,    194.5,2,     0.96,2,     0.01,2,     0.00,2,     0.07,2,   -999.0,9,   -999.0,9,-999.0000,9,  -999.00,       13
  49UF20100615,  P13N,  2709,  1,     33,  21993,2,20100712,2319, -5.0073, 164.9702, 2297,     11.2,  29.9051,  34.4434,2,-999.0000,9,    194.2,2,     0.87,2,     0.00,2,     0.00,2,     0.06,2,   1919.1,2,   2266.2,2,   8.1440,2,    25.00,       34
  49UF20100615,  P13N,  2709,  1,     32,  21992,2,20100712,2319, -5.0073, 164.9702, 2297,     26.0,  29.9082,  34.5642,2,-999.0000,9,    194.4,2,     0.94,2,     0.05,2,     0.00,2,     0.07,2,   1924.8,2,   2268.5,2,   8.1448,2,    25.00,       33
  49UF20100615,  P13N,  2709,  1,     31,  21991,2,20100712,2319, -5.0073, 164.9702, 2297,     51.7,  29.9562,  35.0676,2,-999.0000,9,    195.3,2,     0.91,2,     0.05,2,     0.00,2,     0.15,2,   1955.8,2,   2302.7,2,   8.1331,2,    25.00,       27
  49UF20100615,  P13N,  2709,  1,     30,  21990,2,20100712,2319, -5.0073, 164.9702, 2297,     77.1,  29.2195,  35.1503,2,-999.0000,9,    177.3,2,     1.36,2,     1.57,2,     0.32,2,     0.28,2,   1984.8,2,   2306.4,2,   8.0893,2,    25.00,       26
  49UF20100615,  P13N,  2709,  1,     29,  21989,2,20100712,2319, -5.0073, 164.9702, 2297,    102.8,  28.7715,  35.4205,2,-999.0000,9,    168.4,2,     1.81,2,     3.57,2,     0.97,2,     0.47,2,   2030.4,2,   2328.4,2,   8.0485,2,    25.00,       25
  49UF20100615,  P13N,  2709,  1,     28,  21988,2,20100712,2319, -5.0073, 164.9702, 2297,    127.5,  28.0750,  35.5798,2,-999.0000,9,    155.4,2,     2.21,2,     6.34,2,     0.56,2,     0.62,2,   2048.7,2,   2334.2,2,   8.0142,2,    25.00,       24
  49UF20100615,  P13N,  2709,  1,     24,  21984,2,20100712,2319, -5.0073, 164.9702, 2297,    152.1,  26.5780,  35.8143,2,-999.0000,9,    143.0,2,     2.46,2,     8.88,2,     0.03,2,     0.77,2,   2089.5,2,   2348.7,2,   7.9775,2,    25.00,       23
  49UF20100615,  P13N,  2709,  1,     23,  21983,2,20100712,2319, -5.0073, 164.9702, 2297,    204.1,  19.0726,  35.6142,2,-999.0000,9,    117.6,2,     4.66,2,    12.95,2,     0.00,2,     1.08,2,   2151.6,2,   2346.0,2,   7.8366,2,    25.00,       21
  49UF20100615,  P13N,  2709,  1,     22,  21982,2,20100712,2319, -5.0073, 164.9702, 2297,    252.5,  14.0740,  35.0959,2,-999.0000,9,    104.2,2,    11.75,2,    20.63,2,     0.00,2,     1.56,2,   2177.1,2,   2315.0,2,   7.7074,2,    25.00,       19
  49UF20100615,  P13N,  2709,  1,     21,  21981,2,20100712,2319, -5.0073, 164.9702, 2297,    303.5,  10.5629,  34.7925,2,-999.0000,9,    107.5,2,    20.07,2,    26.57,2,     0.00,2,     1.86,2,   2199.3,2,   2303.9,2,   7.6309,2,    25.00,       17
  49UF20100615,  P13N,  2709,  1,     20,  21980,2,20100712,2319, -5.0073, 164.9702, 2297,    405.1,   9.0581,  34.6761,2,-999.0000,9,     93.5,6,    27.93,6,    31.35,6,     0.00,6,     2.16,6,   2224.7,2,   2300.0,2,   7.5684,2,    25.00,        3
  49UF20100615,  P13N,  2709,  1,     19,  21978,2,20100712,2319, -5.0073, 164.9702, 2297,    507.1,   8.1194,  34.6073,2,-999.0000,9,    128.5,2,    28.28,2,    29.82,2,     0.00,2,     2.04,2,   2211.3,2,   2301.2,2,   7.6028,2,    25.00,     2359
  49UF20100615,  P13N,  2709,  1,     15,  21974,2,20100712,2319, -5.0073, 164.9702, 2297,    607.2,   7.1722,  34.5603,2,-999.0000,9,    118.4,2,    36.03,2,    32.88,2,     0.00,2,     2.26,2,   2232.0,2,   2302.4,2,   7.5660,2,    25.00,     2356
  49UF20100615,  P13N,  2709,  1,     14,  21973,2,20100712,2319, -5.0073, 164.9702, 2297,    607.2,   7.1722,  34.5603,2,-999.0000,9,    119.2,2,    35.92,2,    32.84,2,     0.00,2,     2.26,2,   2230.7,2,   2302.4,2,   7.5668,2,    25.00,     2356
  49UF20100615,  P13N,  2709,  1,     13,  21972,2,20100712,2319, -5.0073, 164.9702, 2297,    709.4,   6.3560,  34.5317,2,-999.0000,9,    115.5,2,    44.33,2,    34.45,2,     0.00,2,     2.39,2,   2243.8,2,   2309.4,2,   7.5457,2,    25.00,     2353
  49UF20100615,  P13N,  2709,  1,     12,  21971,2,20100712,2319, -5.0073, 164.9702, 2297,    709.4,   6.3560,  34.5317,2,-999.0000,9,    116.2,2,    44.01,2,    34.22,2,     0.00,2,     2.40,2,   2243.0,6,   2312.5,6,   7.5438,6,    25.00,     2353
  49UF20100615,  P13N,  2709,  1,     11,  21970,2,20100712,2319, -5.0073, 164.9702, 2297,    807.8,   5.6868,  34.5229,2,-999.0000,9,    115.8,2,    53.50,2,    35.69,2,     0.00,2,     2.49,2,   2250.9,2,   2318.1,2,   7.5380,2,    25.00,     2349
  49UF20100615,  P13N,  2709,  1,      7,  21966,4,20100712,2319, -5.0073, 164.9702, 2297,    909.1,   5.2860,  34.5230,2,-999.0000,9,   -999.0,9,  -999.00,9,  -999.00,9,  -999.00,9,  -999.00,9,   -999.0,9,   -999.0,9,-999.0000,9,  -999.00,     2346
  49UF20100615,  P13N,  2709,  1,      6,  21965,2,20100712,2319, -5.0073, 164.9702, 2297,   1011.1,   4.6000,  34.5330,2,-999.0000,9,    116.7,2,    72.28,2,    37.01,2,     0.00,2,     2.59,2,   2277.3,2,   2340.6,2,   7.5284,2,    25.00,     2342
  49UF20100615,  P13N,  2709,  1,      5,  21964,2,20100712,2319, -5.0073, 164.9702, 2297,   1212.9,   3.6506,  34.5667,2,-999.0000,9,    113.7,2,    95.21,2,    38.05,2,     0.00,2,     2.67,2,   2301.0,2,   2364.8,2,   7.5174,2,    25.00,     2337
  49UF20100615,  P13N,  2709,  1,      4,  21963,2,20100712,2319, -5.0073, 164.9702, 2297,   1415.2,   3.0903,  34.5912,2,-999.0000,9,    114.8,2,   107.85,2,    38.48,2,     0.00,2,     2.70,2,   2315.3,6,   2378.5,6,   7.5186,6,    25.00,     2331
  49UF20100615,  P13N,  2709,  1,      3,  21962,2,20100712,2319, -5.0073, 164.9702, 2297,   1617.6,   2.6932,  34.6107,2,-999.0000,9,    120.4,2,   117.47,2,    38.11,2,     0.00,2,     2.67,2,   2316.9,2,   2390.1,2,   7.5275,2,    25.00,     2326
  49UF20100615,  P13N,  2709,  1,      2,  21961,2,20100712,2319, -5.0073, 164.9702, 2297,   1819.2,   2.3870,  34.6283,2,-999.0000,9,    123.8,2,   123.92,2,    37.97,2,     0.00,2,     2.66,2,   2325.1,2,   2398.4,2,   7.5399,2,    25.00,     2322
  49UF20100615,  P13N,  2709,  1,      1,  21960,2,20100712,2319, -5.0073, 164.9702, 2297,   2021.3,   2.1376,  34.6427,2,-999.0000,9,    131.7,6,   129.87,6,    37.49,6,     0.00,6,     2.61,6,   2326.3,2,   2405.7,2,   7.5437,2,    25.00,     2319
  49UF20100615,  P13N,  2710,  1,     99,     99,2,20100713,0942, -5.7702, 163.9847, 3445,      0.0,  29.8951,  34.6731,2,-999.0000,9,    194.8,2,     0.76,2,     0.00,2,     0.00,2,     0.10,2,   -999.0,9,   -999.0,9,-999.0000,9,  -999.00,     1025
  49UF20100615,  P13N,  2710,  1,     33,  21993,2,20100713,0942, -5.7702, 163.9847, 3445,     11.0,  29.8906,  34.6687,2,-999.0000,9,    194.6,6,     0.69,6,     0.04,6,     0.00,6,     0.09,6,   -999.0,9,   -999.0,9,-999.0000,9,  -999.00,     1053
  49UF20100615,  P13N,  2710,  1,     32,  21992,2,20100713,0942, -5.7702, 163.9847, 3445,     26.2,  29.8746,  34.6671,2,-999.0000,9,    194.5,2,     0.73,2,     0.00,2,     0.00,2,     0.09,2,   -999.0,9,   -999.0,9,-999.0000,9,  -999.00,     1051
  49UF20100615,  P13N,  2710,  1,     31,  21991,2,20100713,0942, -5.7702, 163.9847, 3445,     51.3,  29.9059,  34.7678,2,-999.0000,9,    194.9,2,     0.85,2,     0.00,2,     0.00,2,     0.11,2,   -999.0,9,   -999.0,9,-999.0000,9,  -999.00,     1047
  49UF20100615,  P13N,  2710,  1,     30,  21990,2,20100713,0942, -5.7702, 163.9847, 3445,     75.7,  29.8041,  35.0278,2,-999.0000,9,    196.3,2,     0.90,2,     0.00,2,     0.00,2,     0.14,2,   -999.0,9,   -999.0,9,-999.0000,9,  -999.00,     1046
  49UF20100615,  P13N,  2710,  1,     29,  21989,2,20100713,0942, -5.7702, 163.9847, 3445,    101.5,  28.8385,  35.2312,2,-999.0000,9,    172.0,3,     1.49,2,     2.20,2,     0.62,2,     0.35,2,   -999.0,9,   -999.0,9,-999.0000,9,  -999.00,     1044
  49UF20100615,  P13N,  2710,  1,     28,  21988,2,20100713,0942, -5.7702, 163.9847, 3445,    126.3,  27.6100,  35.6910,2,-999.0000,9,    146.2,2,     2.24,2,     8.00,2,     0.34,2,     0.72,2,   -999.0,9,   -999.0,9,-999.0000,9,  -999.00,     1043
  49UF20100615,  P13N,  2710,  1,     24,  21984,2,20100713,0942, -5.7702, 163.9847, 3445,    151.5,  25.5123,  35.8732,2,-999.0000,9,    122.9,2,     2.35,2,     9.49,2,     0.01,2,     0.80,2,   -999.0,9,   -999.0,9,-999.0000,9,  -999.00,     1042
  49UF20100615,  P13N,  2710,  1,     23,  21983,2,20100713,0942, -5.7702, 163.9847, 3445,    203.7,  20.6614,  35.7777,2,-999.0000,9,    121.7,2,     3.60,2,    11.63,2,     0.00,2,     1.00,2,   -999.0,9,   -999.0,9,-999.0000,9,  -999.00,     1040
  49UF20100615,  P13N,  2710,  1,     22,  21982,2,20100713,0942, -5.7702, 163.9847, 3445,    254.5,  14.4380,  35.1359,2,-999.0000,9,    105.8,2,    10.66,2,    19.42,2,     0.00,2,     1.50,2,   -999.0,9,   -999.0,9,-999.0000,9,  -999.00,     1038
  49UF20100615,  P13N,  2710,  1,     21,  21981,2,20100713,0942, -5.7702, 163.9847, 3445,    304.2,  11.1439,  34.8405,2,-999.0000,9,    136.8,2,    15.58,2,    22.43,2,     0.00,2,     1.61,2,   -999.0,9,   -999.0,9,-999.0000,9,  -999.00,     1036
  49UF20100615,  P13N,  2710,  1,     20,  21980,2,20100713,0942, -5.7702, 163.9847, 3445,    404.4,   8.6282,  34.6366,2,-999.0000,9,    137.0,2,    24.47,2,    27.72,2,     0.00,2,     1.93,2,   -999.0,9,   -999.0,9,-999.0000,9,  -999.00,     1033
  49UF20100615,  P13N,  2710,  1,     19,  21978,2,20100713,0942, -5.7702, 163.9847, 3445,    505.6,   7.8513,  34.5940,2,-999.0000,9,    124.2,6,    30.29,6,    30.72,6,     0.00,6,     2.16,6,   -999.0,9,   -999.0,9,-999.0000,9,  -999.00,     1020
  49UF20100615,  P13N,  2710,  1,     15,  21974,2,20100713,0942, -5.7702, 163.9847, 3445,    609.1,   6.8438,  34.5477,2,-999.0000,9,    118.0,2,    37.77,2,    33.31,2,     0.00,2,     2.30,2,   -999.0,9,   -999.0,9,-999.0000,9,  -999.00,     1016
  49UF20100615,  P13N,  2710,  1,     14,  21973,2,20100713,0942, -5.7702, 163.9847, 3445,    707.5,   6.0826,  34.5212,2,-999.0000,9,    125.9,2,    45.43,2,    34.04,2,     0.00,2,     2.37,2,   -999.0,9,   -999.0,9,-999.0000,9,  -999.00,     1013
  49UF20100615,  P13N,  2710,  1,     13,  21972,2,20100713,0942, -5.7702, 163.9847, 3445,    807.3,   5.4109,  34.5187,2,-999.0000,9,    121.3,2,    56.81,2,    35.61,2,     0.00,2,     2.51,2,   -999.0,9,   -999.0,9,-999.0000,9,  -999.00,     1010
  49UF20100615,  P13N,  2710,  1,     12,  21971,2,20100713,0942, -5.7702, 163.9847, 3445,    807.3,   5.4109,  34.5187,2,-999.0000,9,    121.3,2,    56.58,2,    35.59,2,     0.00,2,     2.47,2,   -999.0,9,   -999.0,9,-999.0000,9,  -999.00,     1010
  49UF20100615,  P13N,  2710,  1,     11,  21970,2,20100713,0942, -5.7702, 163.9847, 3445,    908.6,   4.8970,  34.5240,2,-999.0000,9,    121.9,2,    65.33,2,    35.91,2,     0.00,2,     2.54,2,   -999.0,9,   -999.0,9,-999.0000,9,  -999.00,     1007
  49UF20100615,  P13N,  2710,  1,     10,  21969,2,20100713,0942, -5.7702, 163.9847, 3445,    908.6,   4.8970,  34.5240,2,-999.0000,9,    122.8,2,    65.19,2,    36.06,2,     0.00,2,     2.51,2,   -999.0,9,   -999.0,9,-999.0000,9,  -999.00,     1007
  49UF20100615,  P13N,  2710,  1,      6,  21965,2,20100713,0942, -5.7702, 163.9847, 3445,   1008.7,   4.4422,  34.5388,2,-999.0000,9,    111.9,2,    76.48,2,    37.42,2,     0.00,2,     2.66,2,   -999.0,9,   -999.0,9,-999.0000,9,  -999.00,     1004
  49UF20100615,  P13N,  2710,  1,      5,  21964,2,20100713,0942, -5.7702, 163.9847, 3445,   1210.2,   3.6938,  34.5656,2,-999.0000,9,    111.9,2,    94.87,2,    38.03,2,     0.00,2,     2.69,2,   -999.0,9,   -999.0,9,-999.0000,9,  -999.00,     1000
  49UF20100615,  P13N,  2710,  1,      4,  21963,2,20100713,0942, -5.7702, 163.9847, 3445,   1410.5,   3.1429,  34.5884,2,-999.0000,9,    114.0,2,   107.62,2,    38.31,2,     0.00,2,     2.72,2,   -999.0,9,   -999.0,9,-999.0000,9,  -999.00,      955
  49UF20100615,  P13N,  2710,  1,      3,  21962,2,20100713,0942, -5.7702, 163.9847, 3445,   1614.3,   2.7575,  34.6066,2,-999.0000,9,    121.4,2,   116.02,2,    37.98,2,     0.00,2,     2.67,2,   -999.0,9,   -999.0,9,-999.0000,9,  -999.00,      951
  49UF20100615,  P13N,  2710,  1,      2,  21961,2,20100713,0942, -5.7702, 163.9847, 3445,   1818.5,   2.4513,  34.6258,2,-999.0000,9,    121.9,2,   125.38,2,    38.18,2,     0.00,2,     2.68,2,   -999.0,9,   -999.0,9,-999.0000,9,  -999.00,      946
  49UF20100615,  P13N,  2710,  1,      1,  21960,2,20100713,0942, -5.7702, 163.9847, 3445,   2021.9,   2.1938,  34.6407,2,-999.0000,9,    126.1,2,   131.98,2,    37.95,2,     0.00,2,     2.66,2,   -999.0,9,   -999.0,9,-999.0000,9,  -999.00,      942
  49UF20100615,  P13N,  2711,  1,     99,     99,2,20100713,1708, -6.4930, 162.9832, 3507,      0.0,  29.5983,  34.5368,2,-999.0000,9,    194.6,2,     1.05,2,     0.00,2,     0.00,2,     0.11,2,   -999.0,9,   -999.0,9,-999.0000,9,  -999.00,     1824
  49UF20100615,  P13N,  2711,  1,     33,  21993,2,20100713,1708, -6.4930, 162.9832, 3507,      9.9,  29.6055,  34.5367,2,  34.5372,2,    193.9,2,     0.95,2,     0.00,2,     0.00,2,     0.12,2,   -999.0,9,   -999.0,9,-999.0000,9,  -999.00,     1844
  49UF20100615,  P13N,  2711,  1,     32,  21992,3,20100713,1708, -6.4930, 162.9832, 3507,     25.2,  29.6057,  34.5360,2,-999.0000,9,    194.3,6,     0.99,6,     0.04,6,     0.00,6,     0.11,6,   -999.0,9,   -999.0,9,-999.0000,9,  -999.00,     1843
  49UF20100615,  P13N,  2711,  1,     31,  21991,3,20100713,1708, -6.4930, 162.9832, 3507,     50.2,  29.7594,  34.6622,2,-999.0000,9,    194.4,2,     1.00,2,     0.00,2,     0.00,2,     0.12,2,   -999.0,9,   -999.0,9,-999.0000,9,  -999.00,     1839
  49UF20100615,  P13N,  2711,  1,     30,  21990,2,20100713,1708, -6.4930, 162.9832, 3507,     75.6,  29.8860,  34.8854,2,-999.0000,9,    191.5,2,     0.99,2,    -0.02,2,     0.02,2,     0.16,2,   -999.0,9,   -999.0,9,-999.0000,9,  -999.00,     1837
  49UF20100615,  P13N,  2711,  1,     29,  21989,2,20100713,1708, -6.4930, 162.9832, 3507,    100.5,  28.9052,  35.1698,2,  35.1699,2,    171.3,2,     1.53,2,     2.17,2,     0.64,2,     0.37,2,   -999.0,9,   -999.0,9,-999.0000,9,  -999.00,     1836
  49UF20100615,  P13N,  2711,  1,     28,  21988,2,20100713,1708, -6.4930, 162.9832, 3507,    125.5,  27.8058,  35.4209,2,-999.0000,9,    149.0,2,     2.21,2,     6.92,2,     0.03,2,     0.61,2,   -999.0,9,   -999.0,9,-999.0000,9,  -999.00,     1834
  49UF20100615,  P13N,  2711,  1,     24,  21984,2,20100713,1708, -6.4930, 162.9832, 3507,    151.6,  25.8370,  35.6195,2,-999.0000,9,    133.3,2,     2.62,2,     8.63,2,     0.01,2,     0.73,2,   -999.0,9,   -999.0,9,-999.0000,9,  -999.00,     1833
  49UF20100615,  P13N,  2711,  1,     23,  21983,2,20100713,1708, -6.4930, 162.9832, 3507,    201.2,  21.9104,  35.8387,2,  35.8357,4,    118.0,2,     3.37,2,    11.44,2,     0.00,2,     0.97,2,   -999.0,9,   -999.0,9,-999.0000,9,  -999.00,     1831
  49UF20100615,  P13N,  2711,  1,     22,  21982,2,20100713,1708, -6.4930, 162.9832, 3507,    251.7,  16.1695,  35.3087,2,-999.0000,9,    104.6,2,     9.12,2,    18.07,2,     0.00,2,     1.41,2,   -999.0,9,   -999.0,9,-999.0000,9,  -999.00,     1828
  49UF20100615,  P13N,  2711,  1,     21,  21981,2,20100713,1708, -6.4930, 162.9832, 3507,    302.1,  12.4571,  34.9540,2,-999.0000,9,    123.0,2,    13.79,2,    21.41,2,     0.00,2,     1.58,2,   -999.0,9,   -999.0,9,-999.0000,9,  -999.00,     1824
  49UF20100615,  P13N,  2711,  1,     20,  21980,2,20100713,1708, -6.4930, 162.9832, 3507,    402.7,   9.4271,  34.7013,2,  34.7019,2,    121.9,2,    22.33,2,    27.55,2,     0.00,2,     1.93,2,   -999.0,9,   -999.0,9,-999.0000,9,  -999.00,     1820
  49UF20100615,  P13N,  2711,  1,     19,  21978,3,20100713,1708, -6.4930, 162.9832, 3507,    503.6,   7.6475,  34.5872,2,-999.0000,9,    119.6,2,    31.72,2,    31.60,2,     0.00,2,     2.18,2,   -999.0,9,   -999.0,9,-999.0000,9,  -999.00,     1817
  49UF20100615,  P13N,  2711,  1,     15,  21974,2,20100713,1708, -6.4930, 162.9832, 3507,    604.3,   6.5830,  34.5391,2,  34.5389,2,    119.0,6,    40.84,6,    33.84,6,     0.00,6,     2.35,6,   -999.0,9,   -999.0,9,-999.0000,9,  -999.00,     1805
  49UF20100615,  P13N,  2711,  1,     14,  21973,2,20100713,1708, -6.4930, 162.9832, 3507,    705.4,   5.8942,  34.5243,2,-999.0000,9,    116.5,2,    49.93,2,    35.27,2,     0.00,2,     2.45,2,   -999.0,9,   -999.0,9,-999.0000,9,  -999.00,     1802
  49UF20100615,  P13N,  2711,  1,     13,  21972,2,20100713,1708, -6.4930, 162.9832, 3507,    806.8,   5.4022,  34.5209,2,  34.5201,2,    118.8,2,    57.01,2,    35.56,2,     0.00,2,     2.50,2,   -999.0,9,   -999.0,9,-999.0000,9,  -999.00,     1757
  49UF20100615,  P13N,  2711,  1,     12,  21971,2,20100713,1708, -6.4930, 162.9832, 3507,    907.9,   4.8263,  34.5309,2,-999.0000,9,    112.3,2,    68.45,2,    37.03,2,     0.00,2,     2.58,2,   -999.0,9,   -999.0,9,-999.0000,9,  -999.00,     1752
  49UF20100615,  P13N,  2711,  1,     11,  21970,2,20100713,1708, -6.4930, 162.9832, 3507,   1007.6,   4.3729,  34.5405,2,-999.0000,9,    112.3,2,    77.82,2,    37.68,2,     0.00,2,     2.66,2,   -999.0,9,   -999.0,9,-999.0000,9,  -999.00,     1749
  49UF20100615,  P13N,  2711,  1,     10,  21969,2,20100713,1708, -6.4930, 162.9832, 3507,   1007.6,   4.3729,  34.5405,2,  34.5410,2,    112.8,2,    77.51,2,    37.20,2,     0.00,2,     2.64,2,   -999.0,9,   -999.0,9,-999.0000,9,  -999.00,     1749
  49UF20100615,  P13N,  2711,  1,      6,  21965,2,20100713,1708, -6.4930, 162.9832, 3507,   1211.7,   3.6375,  34.5638,2,-999.0000,9,    117.6,2,    93.33,2,    37.62,2,     0.00,2,     2.67,2,   -999.0,9,   -999.0,9,-999.0000,9,  -999.00,     1728
  49UF20100615,  P13N,  2711,  1,      5,  21964,2,20100713,1708, -6.4930, 162.9832, 3507,   1211.7,   3.6375,  34.5638,2,  34.5633,2,    117.2,2,    92.94,2,    37.22,2,     0.00,2,     2.63,2,   -999.0,9,   -999.0,9,-999.0000,9,  -999.00,     1728
  49UF20100615,  P13N,  2711,  1,      4,  21963,3,20100713,1708, -6.4930, 162.9832, 3507,   1412.4,   3.1583,  34.5852,2,  34.5848,6,    120.2,2,   103.98,2,    37.41,2,     0.00,2,     2.64,2,   -999.0,9,   -999.0,9,-999.0000,9,  -999.00,     1722
  49UF20100615,  P13N,  2711,  1,      3,  21962,2,20100713,1708, -6.4930, 162.9832, 3507,   1614.9,   2.8047,  34.6028,2,  34.6024,6,    124.4,2,   112.05,2,    37.46,2,     0.00,2,     2.62,2,   -999.0,9,   -999.0,9,-999.0000,9,  -999.00,     1717
  49UF20100615,  P13N,  2711,  1,      2,  21961,2,20100713,1708, -6.4930, 162.9832, 3507,   1818.1,   2.5496,  34.6186,2,  34.6187,2,    124.3,2,   119.63,2,    37.49,2,     0.00,2,     2.62,2,   -999.0,9,   -999.0,9,-999.0000,9,  -999.00,     1712
  49UF20100615,  P13N,  2711,  1,      1,  21960,2,20100713,1708, -6.4930, 162.9832, 3507,   2020.6,   2.3200,  34.6329,2,  34.6328,2,    127.1,2,   126.02,2,    37.50,2,     0.00,2,     2.62,2,   -999.0,9,   -999.0,9,-999.0000,9,  -999.00,     1708