BOTTLE,20190925PRINUNIVRMK
EXPOCODE,SECT_ID,STNNBR,CASTNO,SAMPNO,BTLNBR,BTLNBR_FLAG_W,DATE,TIME,LATITUDE,LONGITUDE,DEPTH,CTDPRS,CTDTMP,CTDSAL,CTDSAL_FLAG_W,SALNTY,SALNTY_FLAG_W,OXYGEN,OXYGEN_FLAG_W,SILCAT,SILCAT_FLAG_W,NITRAT,NITRAT_FLAG_W,NITRIT,NITRIT_FLAG_W,PHSPHT,PHSPHT_FLAG_W,TCARBN,TCARBN_FLAG_W,ALKALI,ALKALI_FLAG_W,PH_TOT,PH_TOT_FLAG_W,PH_TMP,BTL_TIME
,,,,,,,,,,,METERS,DBAR,ITS-90,PSS-78,,PSS-78,,UMOL/KG,,UMOL/KG,,UMOL/KG,,UMOL/KG,,UMOL/KG,,UMOL/KG,,UMOL/KG,,,,DEG C,
  49UF20100615,  P13N,  2697,  1,     99,     99,2,20100627,0908,  6.0028, 164.9820, 4985,      0.0,  29.1817,  34.4036,2,-999.0000,9,    197.4,2,     0.99,2,     0.00,2,     0.00,2,     0.11,2,   -999.0,9,   -999.0,9,-999.0000,9,  -999.00,      952
  49UF20100615,  P13N,  2697,  1,     33,  21993,2,20100627,0908,  6.0028, 164.9820, 4985,     12.1,  29.1842,  34.4033,2,-999.0000,9,    197.2,2,     1.09,2,     0.00,2,     0.00,2,     0.10,2,   -999.0,9,   -999.0,9,-999.0000,9,  -999.00,     1008
  49UF20100615,  P13N,  2697,  1,     32,  21992,2,20100627,0908,  6.0028, 164.9820, 4985,     26.2,  29.1477,  34.4000,2,-999.0000,9,    197.9,2,     1.12,2,     0.00,2,     0.00,2,     0.10,2,   -999.0,9,   -999.0,9,-999.0000,9,  -999.00,     1007
  49UF20100615,  P13N,  2697,  1,     31,  21991,2,20100627,0908,  6.0028, 164.9820, 4985,     51.3,  29.1137,  34.4138,2,-999.0000,9,    197.0,2,     0.97,2,     0.00,2,     0.00,2,     0.11,2,   -999.0,9,   -999.0,9,-999.0000,9,  -999.00,     1002
  49UF20100615,  P13N,  2697,  1,     30,  21990,2,20100627,0908,  6.0028, 164.9820, 4985,     76.9,  29.0580,  34.4593,2,-999.0000,9,    197.6,2,     1.14,2,     0.00,2,     0.00,2,     0.11,2,   -999.0,9,   -999.0,9,-999.0000,9,  -999.00,     1001
  49UF20100615,  P13N,  2697,  1,     29,  21989,2,20100627,0908,  6.0028, 164.9820, 4985,    102.1,  27.8802,  34.9854,2,-999.0000,9,    167.7,2,     1.95,2,     2.78,2,     0.68,2,     0.37,2,   -999.0,9,   -999.0,9,-999.0000,9,  -999.00,     1000
  49UF20100615,  P13N,  2697,  1,     28,  21988,2,20100627,0908,  6.0028, 164.9820, 4985,    126.8,  23.5170,  34.8825,2,-999.0000,9,    147.9,2,     4.40,2,     6.10,2,     0.03,2,     0.51,2,   -999.0,9,   -999.0,9,-999.0000,9,  -999.00,      959
  49UF20100615,  P13N,  2697,  1,     24,  21984,2,20100627,0908,  6.0028, 164.9820, 4985,    153.0,  19.6096,  34.7607,2,-999.0000,9,    143.1,2,     6.81,2,     8.96,2,     0.02,2,     0.72,2,   -999.0,9,   -999.0,9,-999.0000,9,  -999.00,      958
  49UF20100615,  P13N,  2697,  1,     23,  21983,2,20100627,0908,  6.0028, 164.9820, 4985,    202.7,  11.6559,  34.5223,2,-999.0000,9,     63.1,6,    26.59,6,    27.93,6,     0.00,6,     2.05,6,   -999.0,9,   -999.0,9,-999.0000,9,  -999.00,      956
  49UF20100615,  P13N,  2697,  1,     22,  21982,2,20100627,0908,  6.0028, 164.9820, 4985,    253.7,  10.2590,  34.6418,2,-999.0000,9,     39.0,2,    32.84,2,    33.28,2,     0.00,2,     2.37,2,   -999.0,9,   -999.0,9,-999.0000,9,  -999.00,      954
  49UF20100615,  P13N,  2697,  1,     21,  21981,2,20100627,0908,  6.0028, 164.9820, 4985,    303.8,   9.7920,  34.6485,2,-999.0000,9,     44.8,2,    34.04,2,    33.79,2,     0.00,2,     2.38,2,   -999.0,9,   -999.0,9,-999.0000,9,  -999.00,      953
  49UF20100615,  P13N,  2697,  1,     20,  21980,2,20100627,0908,  6.0028, 164.9820, 4985,    404.4,   9.0801,  34.6342,2,-999.0000,9,     56.2,2,    36.28,2,    34.27,2,     0.00,2,     2.39,2,   -999.0,9,   -999.0,9,-999.0000,9,  -999.00,      950
  49UF20100615,  P13N,  2697,  1,     19,  21978,2,20100627,0908,  6.0028, 164.9820, 4985,    504.0,   8.2520,  34.6002,2,-999.0000,9,     56.6,2,    41.51,2,    35.72,2,     0.01,2,     2.52,2,   -999.0,9,   -999.0,9,-999.0000,9,  -999.00,      947
  49UF20100615,  P13N,  2697,  1,     15,  21974,2,20100627,0908,  6.0028, 164.9820, 4985,    605.9,   7.4517,  34.5720,2,-999.0000,9,     58.6,2,    48.20,2,    36.93,2,     0.00,2,     2.64,2,   -999.0,9,   -999.0,9,-999.0000,9,  -999.00,      944
  49UF20100615,  P13N,  2697,  1,     14,  21973,2,20100627,0908,  6.0028, 164.9820, 4985,    706.6,   6.6433,  34.5499,2,-999.0000,9,     58.4,2,    57.51,2,    38.40,2,     0.00,2,     2.76,2,   -999.0,9,   -999.0,9,-999.0000,9,  -999.00,      942
  49UF20100615,  P13N,  2697,  1,     13,  21972,2,20100627,0908,  6.0028, 164.9820, 4985,    807.8,   5.7971,  34.5399,2,-999.0000,9,     57.2,2,    70.31,2,    39.95,2,     0.00,2,     2.87,2,   -999.0,9,   -999.0,9,-999.0000,9,  -999.00,      939
  49UF20100615,  P13N,  2697,  1,     12,  21971,2,20100627,0908,  6.0028, 164.9820, 4985,    907.8,   5.1515,  34.5438,2,-999.0000,9,     62.2,2,    81.07,2,    40.49,2,     0.00,2,     2.90,2,   -999.0,9,   -999.0,9,-999.0000,9,  -999.00,      936
  49UF20100615,  P13N,  2697,  1,     11,  21970,2,20100627,0908,  6.0028, 164.9820, 4985,   1010.5,   4.6521,  34.5529,2,-999.0000,9,     67.7,2,    89.65,2,    40.82,2,     0.00,2,     2.90,2,   -999.0,9,   -999.0,9,-999.0000,9,  -999.00,      933
  49UF20100615,  P13N,  2697,  1,     10,  21969,2,20100627,0908,  6.0028, 164.9820, 4985,   1211.7,   3.8987,  34.5722,2,-999.0000,9,     80.0,2,   104.64,2,    40.41,2,     0.00,2,     2.89,2,   -999.0,9,   -999.0,9,-999.0000,9,  -999.00,      928
  49UF20100615,  P13N,  2697,  1,      6,  21965,2,20100627,0908,  6.0028, 164.9820, 4985,   1415.0,   3.3383,  34.5890,2,-999.0000,9,     85.1,6,   117.55,6,    40.52,6,     0.00,6,     2.88,6,   -999.0,9,   -999.0,9,-999.0000,9,  -999.00,      923
  49UF20100615,  P13N,  2697,  1,      5,  21964,2,20100627,0908,  6.0028, 164.9820, 4985,   1617.0,   2.9122,  34.6038,2,-999.0000,9,     92.7,2,   126.89,2,    39.90,2,     0.00,2,     2.84,2,   -999.0,9,   -999.0,9,-999.0000,9,  -999.00,      918
  49UF20100615,  P13N,  2697,  1,      4,  21963,3,20100627,0908,  6.0028, 164.9820, 4985,   1819.8,   2.4786,  34.6213,2,-999.0000,9,     99.9,4,   137.02,2,    39.72,2,     0.00,2,     2.79,2,   -999.0,9,   -999.0,9,-999.0000,9,  -999.00,      913
  49UF20100615,  P13N,  2697,  1,      3,  21962,2,20100627,0908,  6.0028, 164.9820, 4985,   1819.8,   2.4786,  34.6213,2,-999.0000,9,     98.8,2,   137.32,2,    39.71,2,     0.00,2,     2.81,2,   -999.0,9,   -999.0,9,-999.0000,9,  -999.00,      913
  49UF20100615,  P13N,  2697,  1,      2,  21961,3,20100627,0908,  6.0028, 164.9820, 4985,   2023.0,   2.2069,  34.6386,2,-999.0000,9,    107.2,2,   142.02,2,    39.26,2,     0.00,2,     2.76,2,   -999.0,9,   -999.0,9,-999.0000,9,  -999.00,      908
  49UF20100615,  P13N,  2697,  1,      1,  21960,2,20100627,0908,  6.0028, 164.9820, 4985,   2023.0,   2.2069,  34.6386,2,-999.0000,9,    106.5,2,   141.63,2,    39.44,2,     0.00,2,     2.77,2,   -999.0,9,   -999.0,9,-999.0000,9,  -999.00,      908
  49UF20100615,  P13N,  2698,  1,     99,     99,2,20100627,1618,  4.9203, 164.9985, 4749,      0.0,  29.0554,  34.4219,2,-999.0000,9,    195.6,2,     1.18,2,     0.00,2,     0.00,2,     0.12,2,   -999.0,9,   -999.0,9,-999.0000,9,  -999.00,     1700
  49UF20100615,  P13N,  2698,  1,     33,  21993,2,20100627,1618,  4.9203, 164.9985, 4749,     11.5,  29.0609,  34.4214,2,  34.4213,2,    196.0,2,     1.14,2,     0.00,2,     0.00,2,     0.12,2,   1920.7,2,   2260.2,2,   8.1293,2,    25.00,     1715
  49UF20100615,  P13N,  2698,  1,     32,  21992,2,20100627,1618,  4.9203, 164.9985, 4749,     26.8,  29.0589,  34.4233,2,-999.0000,9,    196.0,2,     0.98,2,     0.00,2,     0.00,2,     0.12,2,   1919.3,2,   2260.3,2,   8.1315,2,    25.00,     1714
  49UF20100615,  P13N,  2698,  1,     31,  21991,2,20100627,1618,  4.9203, 164.9985, 4749,     51.3,  29.0019,  34.4212,2,-999.0000,9,    196.5,2,     1.12,2,     0.00,2,     0.00,2,     0.12,2,   1924.0,2,   2258.8,2,   8.1242,2,    25.00,     1709
  49UF20100615,  P13N,  2698,  1,     30,  21990,2,20100627,1618,  4.9203, 164.9985, 4749,     75.5,  28.8192,  34.7197,2,-999.0000,9,    195.5,2,     1.28,2,     0.01,2,     0.00,2,     0.16,2,   1945.5,2,   2280.1,2,   8.1193,2,    25.00,     1708
  49UF20100615,  P13N,  2698,  1,     29,  21989,2,20100627,1618,  4.9203, 164.9985, 4749,    101.6,  24.5342,  34.7992,2,  34.8068,4,    167.1,2,     2.94,2,     2.11,2,     0.36,2,     0.31,2,   2022.2,2,   2285.3,2,   7.9958,2,    25.00,     1707
  49UF20100615,  P13N,  2698,  1,     28,  21988,2,20100627,1618,  4.9203, 164.9985, 4749,    125.2,  20.5260,  34.8099,2,-999.0000,9,    137.9,2,     7.27,2,     9.54,2,     0.01,2,     0.74,2,   2077.7,2,   2288.9,2,   7.8826,2,    25.00,     1706
  49UF20100615,  P13N,  2698,  1,     24,  21984,2,20100627,1618,  4.9203, 164.9985, 4749,    150.8,  17.5299,  34.6934,2,-999.0000,9,    128.7,2,    11.93,2,    13.80,2,     0.00,2,     1.02,2,   2111.5,2,   2283.3,2,   7.8088,2,    25.00,     1705
  49UF20100615,  P13N,  2698,  1,     23,  21983,2,20100627,1618,  4.9203, 164.9985, 4749,    200.4,  11.3728,  34.5027,2,  34.5159,4,     60.7,2,    27.88,2,    28.68,2,     0.00,2,     2.09,2,   2215.1,2,   2286.1,2,   7.5498,2,    25.00,     1703
  49UF20100615,  P13N,  2698,  1,     22,  21982,3,20100627,1618,  4.9203, 164.9985, 4749,    252.3,   9.9232,  34.6526,2,-999.0000,9,     46.6,6,    33.21,6,    33.51,6,     0.00,6,     2.35,6,   2243.8,2,   2298.9,2,   7.4955,2,    25.00,     1701
  49UF20100615,  P13N,  2698,  1,     21,  21981,2,20100627,1618,  4.9203, 164.9985, 4749,    303.6,   9.2995,  34.6390,2,-999.0000,9,     53.2,2,    35.38,2,    34.10,2,     0.00,2,     2.39,2,   2248.8,2,   2303.3,2,   7.4967,2,    25.00,     1700
  49UF20100615,  P13N,  2698,  1,     20,  21980,2,20100627,1618,  4.9203, 164.9985, 4749,    402.8,   8.5248,  34.6130,2,  34.6128,6,     63.2,2,    38.55,2,    34.85,2,     0.00,2,     2.43,2,   2247.0,2,   2306.1,2,   7.4998,2,    25.00,     1657
  49UF20100615,  P13N,  2698,  1,     19,  21978,2,20100627,1618,  4.9203, 164.9985, 4749,    504.6,   7.8509,  34.5889,2,-999.0000,9,     63.4,2,    43.22,2,    36.31,2,     0.00,2,     2.55,2,   2250.4,2,   2309.4,2,   7.4871,2,    25.00,     1654
  49UF20100615,  P13N,  2698,  1,     15,  21974,2,20100627,1618,  4.9203, 164.9985, 4749,    603.7,   7.0150,  34.5534,2,-999.0000,9,     55.6,2,    54.28,2,    38.29,2,     0.00,2,     2.72,2,   2270.3,2,   2319.3,2,   7.4560,2,    25.00,     1652
  49UF20100615,  P13N,  2698,  1,     14,  21973,2,20100627,1618,  4.9203, 164.9985, 4749,    603.7,   7.0150,  34.5534,2,  34.5541,2,     55.4,2,    54.40,2,    38.21,2,     0.00,2,     2.72,2,   2268.1,2,   2318.5,2,   7.4661,2,    25.00,     1652
  49UF20100615,  P13N,  2698,  1,     13,  21972,2,20100627,1618,  4.9203, 164.9985, 4749,    706.5,   6.1863,  34.5374,2,-999.0000,9,     55.3,2,    65.40,2,    39.81,2,     0.00,2,     2.83,2,   2288.1,2,   2327.7,2,   7.4439,2,    25.00,     1649
  49UF20100615,  P13N,  2698,  1,     12,  21971,2,20100627,1618,  4.9203, 164.9985, 4749,    706.5,   6.1863,  34.5374,2,-999.0000,9,     55.8,2,    65.18,2,    39.76,2,     0.00,2,     2.84,2,   2287.1,2,   2329.4,2,   7.4463,2,    25.00,     1649
  49UF20100615,  P13N,  2698,  1,     11,  21970,2,20100627,1618,  4.9203, 164.9985, 4749,    806.4,   5.5041,  34.5413,2,  34.5410,2,     58.5,2,    74.47,2,    40.51,2,     0.00,2,     2.87,2,   2298.2,6,   2340.1,6,   7.4425,6,    25.00,     1646
  49UF20100615,  P13N,  2698,  1,     10,  21969,2,20100627,1618,  4.9203, 164.9985, 4749,    907.2,   4.9488,  34.5472,2,-999.0000,9,     63.6,2,    84.84,2,    40.92,2,     0.00,2,     2.92,2,   2305.8,2,   2347.9,2,   7.4515,2,    25.00,     1644
  49UF20100615,  P13N,  2698,  1,      6,  21965,2,20100627,1618,  4.9203, 164.9985, 4749,   1008.7,   4.4456,  34.5571,2,  34.5576,2,     66.8,2,    95.04,2,    41.29,2,     0.00,2,     2.93,2,   2319.3,2,   2360.5,2,   7.4439,2,    25.00,     1641
  49UF20100615,  P13N,  2698,  1,      5,  21964,2,20100627,1618,  4.9203, 164.9985, 4749,   1210.1,   3.7534,  34.5768,2,  34.5764,2,     76.4,2,   108.26,2,    41.06,2,     0.00,2,     2.92,2,   2327.0,2,   2372.9,2,   7.4629,2,    25.00,     1636
  49UF20100615,  P13N,  2698,  1,      4,  21963,2,20100627,1618,  4.9203, 164.9985, 4749,   1413.5,   3.2025,  34.5943,2,  34.5952,2,     87.8,2,   119.78,2,    40.52,2,     0.00,2,     2.87,2,   2330.8,2,   2388.1,2,   7.4800,2,    25.00,     1632
  49UF20100615,  P13N,  2698,  1,      3,  21962,2,20100627,1618,  4.9203, 164.9985, 4749,   1616.6,   2.7618,  34.6119,2,  34.6123,2,     95.8,6,   129.05,6,    39.88,6,     0.00,6,     2.84,6,   2335.0,2,   2398.9,2,   7.4911,2,    25.00,     1627
  49UF20100615,  P13N,  2698,  1,      2,  21961,2,20100627,1618,  4.9203, 164.9985, 4749,   1821.0,   2.4666,  34.6255,2,  34.6256,2,    104.2,2,   134.11,2,    39.68,2,     0.00,2,     2.78,2,   2336.2,2,   2405.5,2,   7.5039,2,    25.00,     1623
  49UF20100615,  P13N,  2698,  1,      1,  21960,2,20100627,1618,  4.9203, 164.9985, 4749,   2024.9,   2.2241,  34.6386,2,  34.6383,2,    109.3,2,   139.92,2,    39.41,2,     0.00,2,     2.76,2,   2339.8,6,   2410.0,6,   7.5125,6,    25.00,     1618
  49UF20100615,  P13N,  2699,  1,     99,     99,2,20100709,1332,  4.9173, 165.0102, 4751,      0.0,  29.3137,  34.6005,2,-999.0000,9,    195.4,2,     1.22,2,     0.00,2,     0.00,2,     0.16,2,   -999.0,9,   -999.0,9,-999.0000,9,  -999.00,     1410
  49UF20100615,  P13N,  2699,  1,     33,  21993,3,20100709,1332,  4.9173, 165.0102, 4751,     11.3,  29.3245,  34.6038,2,  34.6033,6,    197.0,6,     1.33,6,     0.02,6,     0.00,6,     0.18,6,   -999.0,9,   -999.0,9,-999.0000,9,  -999.00,     1435
  49UF20100615,  P13N,  2699,  1,     32,  21992,2,20100709,1332,  4.9173, 165.0102, 4751,     27.0,  29.5449,  34.7534,2,-999.0000,9,    196.3,2,     1.29,2,     0.00,2,     0.00,2,     0.19,2,   -999.0,9,   -999.0,9,-999.0000,9,  -999.00,     1434
  49UF20100615,  P13N,  2699,  1,     31,  21991,2,20100709,1332,  4.9173, 165.0102, 4751,     52.0,  29.5574,  34.7819,2,-999.0000,9,    195.9,2,     1.32,2,     0.00,2,     0.00,2,     0.20,2,   -999.0,9,   -999.0,9,-999.0000,9,  -999.00,     1429
  49UF20100615,  P13N,  2699,  1,     30,  21990,2,20100709,1332,  4.9173, 165.0102, 4751,     76.6,  28.6854,  34.6462,2,-999.0000,9,    190.6,2,     1.23,2,     0.02,2,     0.09,2,     0.17,2,   -999.0,9,   -999.0,9,-999.0000,9,  -999.00,     1428
  49UF20100615,  P13N,  2699,  1,     29,  21989,3,20100709,1332,  4.9173, 165.0102, 4751,    101.6,  27.4935,  34.7201,2,  34.7401,4,    180.1,2,     1.68,2,     0.59,2,     0.46,2,     0.23,2,   -999.0,9,   -999.0,9,-999.0000,9,  -999.00,     1426
  49UF20100615,  P13N,  2699,  1,     28,  21988,4,20100709,1332,  4.9173, 165.0102, 4751,    127.0,  23.1184,  34.8737,2,-999.0000,9,   -999.0,9,  -999.00,9,  -999.00,9,  -999.00,9,  -999.00,9,   -999.0,9,   -999.0,9,-999.0000,9,  -999.00,     1425
  49UF20100615,  P13N,  2699,  1,     24,  21984,2,20100709,1332,  4.9173, 165.0102, 4751,    152.4,  18.7568,  34.7488,2,-999.0000,9,    131.7,2,    10.01,2,    12.06,2,     0.01,2,     0.92,2,   -999.0,9,   -999.0,9,-999.0000,9,  -999.00,     1423
  49UF20100615,  P13N,  2699,  1,     23,  21983,2,20100709,1332,  4.9173, 165.0102, 4751,    201.5,  11.8137,  34.5043,2,  34.5076,4,     70.0,2,    25.86,2,    26.86,2,     0.00,2,     2.00,2,   -999.0,9,   -999.0,9,-999.0000,9,  -999.00,     1421
  49UF20100615,  P13N,  2699,  1,     22,  21982,2,20100709,1332,  4.9173, 165.0102, 4751,    252.3,  10.2527,  34.6389,2,-999.0000,9,     40.5,2,    33.12,2,    33.04,2,     0.00,2,     2.38,2,   -999.0,9,   -999.0,9,-999.0000,9,  -999.00,     1419
  49UF20100615,  P13N,  2699,  1,     21,  21981,2,20100709,1332,  4.9173, 165.0102, 4751,    303.4,   9.3627,  34.6318,2,-999.0000,9,     55.2,2,    35.72,2,    33.52,2,     0.00,2,     2.40,2,   -999.0,9,   -999.0,9,-999.0000,9,  -999.00,     1417
  49UF20100615,  P13N,  2699,  1,     20,  21980,2,20100709,1332,  4.9173, 165.0102, 4751,    403.0,   8.4129,  34.6046,2,  34.6029,2,     57.6,2,    40.87,2,    35.24,2,     0.00,2,     2.52,2,   -999.0,9,   -999.0,9,-999.0000,9,  -999.00,     1414
  49UF20100615,  P13N,  2699,  1,     19,  21978,2,20100709,1332,  4.9173, 165.0102, 4751,    504.8,   7.7882,  34.5882,2,-999.0000,9,     62.9,6,    44.29,6,    36.16,6,     0.00,6,     2.60,6,   -999.0,9,   -999.0,9,-999.0000,9,  -999.00,     1411
  49UF20100615,  P13N,  2699,  1,     15,  21974,2,20100709,1332,  4.9173, 165.0102, 4751,    605.4,   6.9707,  34.5569,2,-999.0000,9,     55.1,2,    54.38,2,    38.06,2,     0.00,2,     2.77,2,   -999.0,9,   -999.0,9,-999.0000,9,  -999.00,     1408
  49UF20100615,  P13N,  2699,  1,     14,  21973,2,20100709,1332,  4.9173, 165.0102, 4751,    605.4,   6.9707,  34.5569,2,  34.5559,2,     56.6,2,    54.51,2,    38.24,2,     0.00,2,     2.78,2,   -999.0,9,   -999.0,9,-999.0000,9,  -999.00,     1408
  49UF20100615,  P13N,  2699,  1,     13,  21972,2,20100709,1332,  4.9173, 165.0102, 4751,    706.2,   6.2412,  34.5460,2,-999.0000,9,     67.6,2,    61.01,2,    38.33,2,     0.00,2,     2.79,2,   -999.0,9,   -999.0,9,-999.0000,9,  -999.00,     1405
  49UF20100615,  P13N,  2699,  1,     12,  21971,2,20100709,1332,  4.9173, 165.0102, 4751,    706.2,   6.2412,  34.5460,2,-999.0000,9,     66.7,2,    61.07,2,    38.71,2,     0.00,2,     2.79,2,   -999.0,9,   -999.0,9,-999.0000,9,  -999.00,     1405
  49UF20100615,  P13N,  2699,  1,     11,  21970,2,20100709,1332,  4.9173, 165.0102, 4751,    807.3,   5.5051,  34.5439,2,  34.5430,2,     54.5,2,    75.25,2,    40.85,2,     0.00,2,     2.97,2,   -999.0,9,   -999.0,9,-999.0000,9,  -999.00,     1402
  49UF20100615,  P13N,  2699,  1,     10,  21969,2,20100709,1332,  4.9173, 165.0102, 4751,    908.4,   4.8339,  34.5512,2,-999.0000,9,     64.7,2,    86.93,2,    40.64,2,     0.00,2,     2.96,2,   -999.0,9,   -999.0,9,-999.0000,9,  -999.00,     1359
  49UF20100615,  P13N,  2699,  1,      6,  21965,2,20100709,1332,  4.9173, 165.0102, 4751,   1010.2,   4.4515,  34.5589,2,  34.5573,2,     73.7,2,    93.09,2,    40.27,2,     0.00,2,     2.91,2,   -999.0,9,   -999.0,9,-999.0000,9,  -999.00,     1356
  49UF20100615,  P13N,  2699,  1,      5,  21964,2,20100709,1332,  4.9173, 165.0102, 4751,   1211.3,   3.7593,  34.5778,2,  34.5770,2,     78.0,2,   108.32,2,    40.53,2,     0.00,2,     2.92,2,   -999.0,9,   -999.0,9,-999.0000,9,  -999.00,     1351
  49UF20100615,  P13N,  2699,  1,      4,  21963,2,20100709,1332,  4.9173, 165.0102, 4751,   1414.9,   3.1136,  34.5992,2,  34.5981,2,     89.1,2,   121.82,2,    40.21,2,     0.00,2,     2.90,2,   -999.0,9,   -999.0,9,-999.0000,9,  -999.00,     1346
  49UF20100615,  P13N,  2699,  1,      3,  21962,2,20100709,1332,  4.9173, 165.0102, 4751,   1616.3,   2.6896,  34.6165,2,  34.6153,2,     98.8,2,   129.93,2,    39.42,2,     0.00,2,     2.85,2,   -999.0,9,   -999.0,9,-999.0000,9,  -999.00,     1342
  49UF20100615,  P13N,  2699,  1,      2,  21961,2,20100709,1332,  4.9173, 165.0102, 4751,   1819.5,   2.4096,  34.6298,2,  34.6288,2,    106.2,2,   136.34,2,    39.19,2,     0.00,2,     2.80,2,   -999.0,9,   -999.0,9,-999.0000,9,  -999.00,     1337
  49UF20100615,  P13N,  2699,  1,      1,  21960,2,20100709,1332,  4.9173, 165.0102, 4751,   2021.9,   2.1480,  34.6445,2,  34.6440,2,    110.0,2,   141.63,2,    39.06,2,     0.00,2,     2.76,2,   -999.0,9,   -999.0,9,-999.0000,9,  -999.00,     1332