BOTTLE,20191015PRINUNIVRMK
EXPOCODE,SECT_ID,STNNBR,CASTNO,SAMPNO,BTLNBR,BTLNBR_FLAG_W,DATE,TIME,LATITUDE,LONGITUDE,DEPTH,CTDPRS,CTDTMP,CTDSAL,CTDSAL_FLAG_W,SALNTY,SALNTY_FLAG_W,OXYGEN,OXYGEN_FLAG_W,SILCAT,SILCAT_FLAG_W,NITRAT,NITRAT_FLAG_W,NITRIT,NITRIT_FLAG_W,PHSPHT,PHSPHT_FLAG_W,TCARBN,TCARBN_FLAG_W,ALKALI,ALKALI_FLAG_W,PH_TOT,PH_TOT_FLAG_W,PH_TMP,BTL_TIME
,,,,,,,,,,,METERS,DBAR,ITS-90,PSS-78,,PSS-78,,UMOL/KG,,UMOL/KG,,UMOL/KG,,UMOL/KG,,UMOL/KG,,UMOL/KG,,UMOL/KG,,,,DEG C,
  49UF20110205,  P13N,  2986,  1,     99,     99,2,20110301,1648,  9.5015, 154.9977, 5391,      0.0,  28.9956,  34.2393,2,-999.0000,9,    195.4,2,     0.96,2,     0.03,2,     0.00,2,     0.09,2,   -999.0,9,   -999.0,9,-999.0000,9,  -999.00,     1727
  49UF20110205,  P13N,  2986,  1,     36,  21996,2,20110301,1648,  9.5015, 154.9977, 5391,     11.0,  29.0013,  34.2395,2,-999.0000,9,    195.2,2,     0.92,2,     0.03,2,     0.00,2,     0.09,2,   1918.1,2,   2252.3,2,   8.1173,2,    25.00,     1743
  49UF20110205,  P13N,  2986,  1,     35,  21995,2,20110301,1648,  9.5015, 154.9977, 5391,     26.3,  28.9450,  34.2333,2,-999.0000,9,    195.2,6,     0.95,6,     0.01,6,     0.00,6,     0.09,6,   1911.7,2,   2253.3,2,   8.1181,2,    25.00,     1741
  49UF20110205,  P13N,  2986,  1,     34,  21994,2,20110301,1648,  9.5015, 154.9977, 5391,     51.5,  28.9451,  34.2420,2,-999.0000,9,    195.2,2,     0.92,2,     0.03,2,     0.00,2,     0.09,2,   1917.3,2,   2255.8,2,   8.1161,2,    25.00,     1737
  49UF20110205,  P13N,  2986,  1,     33,  21993,2,20110301,1648,  9.5015, 154.9977, 5391,     74.3,  28.9246,  34.2679,2,-999.0000,9,    195.3,2,     0.89,2,     0.00,2,     0.00,2,     0.09,2,   1912.1,2,   2257.0,2,   8.1152,2,    25.00,     1735
  49UF20110205,  P13N,  2986,  1,     32,  21992,2,20110301,1648,  9.5015, 154.9977, 5391,    100.5,  26.9933,  34.7733,2,-999.0000,9,    199.8,2,     1.14,2,     0.00,2,     0.00,2,     0.14,2,   -999.0,5,   2284.4,2,   8.0654,2,    25.00,     1734
  49UF20110205,  P13N,  2986,  1,     31,  21991,2,20110301,1648,  9.5015, 154.9977, 5391,    127.4,  22.4694,  34.9157,2,-999.0000,9,    176.4,2,     2.75,2,     1.95,2,     0.28,2,     0.35,2,   2046.0,2,   2305.0,2,   7.9631,2,    25.00,     1733
  49UF20110205,  P13N,  2986,  1,     27,  21987,2,20110301,1648,  9.5015, 154.9977, 5391,    151.7,  19.4130,  34.8750,2,-999.0000,9,    167.0,2,     4.01,2,     5.02,2,     0.03,2,     0.50,2,   2068.8,2,   2296.6,2,   7.8924,2,    25.00,     1732
  49UF20110205,  P13N,  2986,  1,     26,  21986,2,20110301,1648,  9.5015, 154.9977, 5391,    202.2,  13.2823,  34.4646,2,-999.0000,9,    112.4,2,    17.76,2,    19.25,2,     0.00,2,     1.48,2,   2151.6,2,   2282.0,2,   7.6701,2,    25.00,     1731
  49UF20110205,  P13N,  2986,  1,     25,  21985,2,20110301,1648,  9.5015, 154.9977, 5391,    202.2,  13.2823,  34.4646,2,-999.0000,9,    112.6,2,    17.68,2,    19.14,2,     0.00,2,     1.47,2,   2151.0,2,   2279.3,3,   7.6648,2,    25.00,     1730
  49UF20110205,  P13N,  2986,  1,     24,  21984,2,20110301,1648,  9.5015, 154.9977, 5391,    252.1,   9.9352,  34.4829,2,-999.0000,9,     68.3,2,    33.52,2,    29.92,2,     0.00,2,     2.19,2,   2221.3,2,   2295.0,2,   7.5162,2,    25.00,     1729
  49UF20110205,  P13N,  2986,  1,     23,  21983,2,20110301,1648,  9.5015, 154.9977, 5391,    301.4,   9.2981,  34.5648,2,-999.0000,9,     55.0,2,    37.02,2,    32.94,2,     0.00,2,     2.37,2,   2238.8,2,   2302.5,2,   7.4858,2,    25.00,     1727
  49UF20110205,  P13N,  2986,  1,     22,  21982,2,20110301,1648,  9.5015, 154.9977, 5391,    403.2,   8.4144,  34.5724,2,-999.0000,9,     61.0,2,    41.57,2,    34.28,2,     0.00,2,     2.46,2,   2248.5,2,   2308.4,2,   7.4866,2,    25.00,     1725
  49UF20110205,  P13N,  2986,  1,     18,  21977,2,20110301,1648,  9.5015, 154.9977, 5391,    504.8,   7.6275,  34.5528,2,-999.0000,9,     64.7,2,    47.54,2,    35.43,2,     0.00,2,     2.54,2,   2254.0,2,   2310.5,2,   7.4762,2,    25.00,     1722
  49UF20110205,  P13N,  2986,  1,     17,  21976,2,20110301,1648,  9.5015, 154.9977, 5391,    605.0,   6.8980,  34.5337,2,-999.0000,9,     67.4,6,    55.20,6,    36.31,6,     0.00,6,     2.64,6,   2265.9,2,   2314.9,2,   7.4681,2,    25.00,     1720
  49UF20110205,  P13N,  2986,  1,     16,  21975,2,20110301,1648,  9.5015, 154.9977, 5391,    705.6,   6.1777,  34.5330,2,-999.0000,9,     66.4,2,    64.59,2,    37.77,2,     0.00,2,     2.73,2,   2278.7,2,   2327.5,2,   7.4636,2,    25.00,     1717
  49UF20110205,  P13N,  2986,  1,     15,  21974,2,20110301,1648,  9.5015, 154.9977, 5391,    805.9,   5.5731,  34.5354,2,-999.0000,9,     71.7,2,    73.33,2,    38.38,2,     0.00,2,     2.76,2,   2287.9,2,   2333.3,2,   7.4603,2,    25.00,     1715
  49UF20110205,  P13N,  2986,  1,     14,  21973,2,20110301,1648,  9.5015, 154.9977, 5391,    907.4,   5.0611,  34.5403,2,-999.0000,9,     72.7,2,    82.61,2,    38.90,2,     0.00,2,     2.81,2,   2301.6,2,   2346.0,2,   7.4488,2,    25.00,     1712
  49UF20110205,  P13N,  2986,  1,     13,  21972,3,20110301,1648,  9.5015, 154.9977, 5391,   1008.5,   4.5713,  34.5490,2,-999.0000,9,     76.9,2,    91.84,2,    39.24,2,     0.00,2,     2.82,2,   2309.0,2,   2356.8,2,   7.4591,6,    25.00,     1710
  49UF20110205,  P13N,  2986,  1,      9,  21968,2,20110301,1648,  9.5015, 154.9977, 5391,   1211.0,   3.7252,  34.5691,2,-999.0000,9,     80.9,2,   110.31,2,    39.68,2,     0.00,2,     2.86,2,   2326.7,2,   2375.9,2,   7.4609,2,    25.00,     1706
  49UF20110205,  P13N,  2986,  1,      8,  21967,2,20110301,1648,  9.5015, 154.9977, 5391,   1412.4,   3.0391,  34.5939,2,-999.0000,9,     90.7,2,   123.54,2,    39.38,2,     0.00,2,     2.83,2,   2337.6,3,   2389.0,2,   7.4713,3,    25.00,     1701
  49UF20110205,  P13N,  2986,  1,      7,  21966,2,20110301,1648,  9.5015, 154.9977, 5391,   1412.4,   3.0391,  34.5939,2,-999.0000,9,     91.5,2,   123.17,2,    39.42,2,     0.00,2,     2.83,2,   2334.5,2,   2387.7,2,   7.4764,2,    25.00,     1701
  49UF20110205,  P13N,  2986,  1,      6,  21965,2,20110301,1648,  9.5015, 154.9977, 5391,   1615.3,   2.6601,  34.6113,2,-999.0000,9,     99.7,2,   130.94,2,    39.04,2,     0.00,2,     2.79,2,   2337.9,2,   2398.7,2,   7.4874,2,    25.00,     1657
  49UF20110205,  P13N,  2986,  1,      5,  21964,2,20110301,1648,  9.5015, 154.9977, 5391,   1818.9,   2.3723,  34.6249,2,-999.0000,9,    102.7,2,   137.72,2,    39.14,2,     0.00,2,     2.80,2,   2343.2,2,   2409.3,2,   7.4874,2,    25.00,     1652
  49UF20110205,  P13N,  2986,  1,      4,  21963,2,20110301,1648,  9.5015, 154.9977, 5391,   2021.9,   2.1926,  34.6357,2,-999.0000,9,    107.9,2,   140.24,2,    38.82,2,     0.00,2,     2.75,2,   2345.9,6,   2409.5,6,   7.4953,6,    25.00,     1648
  49UF20110205,  P13N,  2987,  1,     99,     99,2,20110302,0241,  9.4990, 154.0028, 5473,      0.0,  28.9980,  34.1487,2,-999.0000,9,    194.8,2,     0.94,2,     0.03,2,     0.00,2,     0.09,2,   -999.0,9,   -999.0,9,-999.0000,9,  -999.00,      322
  49UF20110205,  P13N,  2987,  1,     36,  21996,2,20110302,0241,  9.4990, 154.0028, 5473,     10.4,  28.8506,  34.1524,2,-999.0000,9,    195.9,2,     0.94,2,     0.00,2,     0.00,2,     0.07,2,   -999.0,9,   -999.0,9,-999.0000,9,  -999.00,      339
  49UF20110205,  P13N,  2987,  1,     35,  21995,2,20110302,0241,  9.4990, 154.0028, 5473,     25.5,  28.8110,  34.1755,2,-999.0000,9,    195.4,2,     0.90,2,     0.02,2,     0.00,2,     0.07,2,   -999.0,9,   -999.0,9,-999.0000,9,  -999.00,      338
  49UF20110205,  P13N,  2987,  1,     34,  21994,2,20110302,0241,  9.4990, 154.0028, 5473,     51.5,  28.8070,  34.1914,2,-999.0000,9,    195.8,2,     0.94,2,     0.00,2,     0.00,2,     0.07,2,   -999.0,9,   -999.0,9,-999.0000,9,  -999.00,      333
  49UF20110205,  P13N,  2987,  1,     33,  21993,2,20110302,0241,  9.4990, 154.0028, 5473,     75.0,  28.7227,  34.3156,2,-999.0000,9,    196.3,2,     0.94,2,     0.00,2,     0.00,2,     0.08,2,   -999.0,9,   -999.0,9,-999.0000,9,  -999.00,      332
  49UF20110205,  P13N,  2987,  1,     32,  21992,2,20110302,0241,  9.4990, 154.0028, 5473,     99.8,  26.4219,  34.7674,2,-999.0000,9,    190.6,2,     1.51,2,     0.00,2,     0.01,2,     0.16,2,   -999.0,9,   -999.0,9,-999.0000,9,  -999.00,      331
  49UF20110205,  P13N,  2987,  1,     31,  21991,2,20110302,0241,  9.4990, 154.0028, 5473,    124.7,  23.7184,  35.0613,2,-999.0000,9,    187.0,2,     1.64,2,     0.55,2,     0.16,2,     0.22,2,   -999.0,9,   -999.0,9,-999.0000,9,  -999.00,      329
  49UF20110205,  P13N,  2987,  1,     27,  21987,2,20110302,0241,  9.4990, 154.0028, 5473,    151.0,  19.7834,  34.8744,2,-999.0000,9,    168.2,2,     4.02,2,     5.18,2,     0.06,2,     0.50,2,   -999.0,9,   -999.0,9,-999.0000,9,  -999.00,      328
  49UF20110205,  P13N,  2987,  1,     26,  21986,2,20110302,0241,  9.4990, 154.0028, 5473,    151.0,  19.7834,  34.8744,2,-999.0000,9,    166.9,2,     4.04,2,     5.11,2,     0.05,2,     0.50,2,   -999.0,9,   -999.0,9,-999.0000,9,  -999.00,      328
  49UF20110205,  P13N,  2987,  1,     25,  21985,2,20110302,0241,  9.4990, 154.0028, 5473,    201.3,  13.5233,  34.4162,2,-999.0000,9,    146.0,2,    13.99,2,    15.10,2,     0.01,2,     1.17,2,   -999.0,9,   -999.0,9,-999.0000,9,  -999.00,      326
  49UF20110205,  P13N,  2987,  1,     24,  21984,2,20110302,0241,  9.4990, 154.0028, 5473,    252.9,  10.7459,  34.4680,2,-999.0000,9,     76.1,6,    29.19,6,    27.77,6,     0.01,6,     2.06,6,   -999.0,9,   -999.0,9,-999.0000,9,  -999.00,      325
  49UF20110205,  P13N,  2987,  1,     23,  21983,2,20110302,0241,  9.4990, 154.0028, 5473,    301.7,   9.5128,  34.5723,2,-999.0000,9,     53.8,2,    35.70,2,    32.60,2,     0.01,2,     2.35,2,   -999.0,9,   -999.0,9,-999.0000,9,  -999.00,      323
  49UF20110205,  P13N,  2987,  1,     22,  21982,2,20110302,0241,  9.4990, 154.0028, 5473,    404.3,   8.5802,  34.5768,2,-999.0000,9,     58.5,2,    40.35,2,    34.20,2,     0.00,2,     2.45,2,   -999.0,9,   -999.0,9,-999.0000,9,  -999.00,      321
  49UF20110205,  P13N,  2987,  1,     18,  21977,2,20110302,0241,  9.4990, 154.0028, 5473,    504.5,   7.7435,  34.5535,2,-999.0000,9,     67.6,2,    46.22,2,    34.91,2,     0.00,2,     2.50,2,   -999.0,9,   -999.0,9,-999.0000,9,  -999.00,      318
  49UF20110205,  P13N,  2987,  1,     17,  21976,2,20110302,0241,  9.4990, 154.0028, 5473,    604.1,   6.9727,  34.5293,2,-999.0000,9,     71.8,2,    54.04,2,    35.88,2,     0.01,2,     2.58,2,   -999.0,9,   -999.0,9,-999.0000,9,  -999.00,      315
  49UF20110205,  P13N,  2987,  1,     16,  21975,2,20110302,0241,  9.4990, 154.0028, 5473,    705.7,   6.2162,  34.5321,2,-999.0000,9,     65.9,2,    64.01,2,    38.02,2,     0.01,2,     2.74,2,   -999.0,9,   -999.0,9,-999.0000,9,  -999.00,      313
  49UF20110205,  P13N,  2987,  1,     15,  21974,2,20110302,0241,  9.4990, 154.0028, 5473,    807.3,   5.6465,  34.5320,2,-999.0000,9,     71.3,2,    72.29,2,    38.28,2,     0.00,2,     2.76,2,   -999.0,9,   -999.0,9,-999.0000,9,  -999.00,      310
  49UF20110205,  P13N,  2987,  1,     14,  21973,2,20110302,0241,  9.4990, 154.0028, 5473,    908.2,   5.0852,  34.5391,2,-999.0000,9,     75.5,2,    81.91,2,    38.67,2,     0.00,2,     2.78,2,   -999.0,9,   -999.0,9,-999.0000,9,  -999.00,      308
  49UF20110205,  P13N,  2987,  1,     13,  21972,2,20110302,0241,  9.4990, 154.0028, 5473,   1009.0,   4.6499,  34.5470,2,-999.0000,9,     77.4,2,    89.53,2,    38.86,2,     0.00,2,     2.80,2,   -999.0,9,   -999.0,9,-999.0000,9,  -999.00,      305
  49UF20110205,  P13N,  2987,  1,      9,  21968,2,20110302,0241,  9.4990, 154.0028, 5473,   1210.2,   3.8202,  34.5674,2,-999.0000,9,     82.0,2,   107.05,2,    39.49,2,     0.00,2,     2.84,2,   -999.0,9,   -999.0,9,-999.0000,9,  -999.00,      301
  49UF20110205,  P13N,  2987,  1,      8,  21967,2,20110302,0241,  9.4990, 154.0028, 5473,   1210.2,   3.8202,  34.5674,2,-999.0000,9,     81.9,2,   107.32,2,    39.59,2,     0.00,2,     2.84,2,   -999.0,9,   -999.0,9,-999.0000,9,  -999.00,      300
  49UF20110205,  P13N,  2987,  1,      7,  21966,2,20110302,0241,  9.4990, 154.0028, 5473,   1414.9,   3.1693,  34.5887,2,-999.0000,9,     88.8,2,   120.87,2,    39.52,2,     0.00,2,     2.83,2,   -999.0,9,   -999.0,9,-999.0000,9,  -999.00,      256
  49UF20110205,  P13N,  2987,  1,      6,  21965,2,20110302,0241,  9.4990, 154.0028, 5473,   1617.8,   2.7756,  34.6067,2,-999.0000,9,     98.0,2,   127.83,6,    39.17,6,     0.01,6,     2.80,6,   -999.0,9,   -999.0,9,-999.0000,9,  -999.00,      251
  49UF20110205,  P13N,  2987,  1,      5,  21964,2,20110302,0241,  9.4990, 154.0028, 5473,   1822.6,   2.4281,  34.6234,2,-999.0000,9,    104.8,2,   135.08,2,    38.91,2,     0.01,2,     2.76,2,   -999.0,9,   -999.0,9,-999.0000,9,  -999.00,      246
  49UF20110205,  P13N,  2987,  1,      4,  21963,2,20110302,0241,  9.4990, 154.0028, 5473,   2024.0,   2.2090,  34.6346,2,-999.0000,9,    109.0,2,   139.68,2,    38.64,2,     0.00,2,     2.74,2,   -999.0,9,   -999.0,9,-999.0000,9,  -999.00,      241
  49UF20110205,  P13N,  2988,  1,     99,     99,2,20110302,0930,  9.4988, 152.9912, 5284,      0.0,  28.8719,  34.1505,2,-999.0000,9,    195.7,2,     1.00,2,     0.02,2,     0.01,2,     0.10,4,   -999.0,9,   -999.0,9,-999.0000,9,  -999.00,     1005
  49UF20110205,  P13N,  2988,  1,     36,  21996,2,20110302,0930,  9.4988, 152.9912, 5284,     10.9,  28.8694,  34.1836,2,  34.2012,4,    196.2,2,     0.91,2,     0.07,2,     0.00,2,     0.14,4,   -999.0,9,   -999.0,9,-999.0000,9,  -999.00,     1027
  49UF20110205,  P13N,  2988,  1,     35,  21995,2,20110302,0930,  9.4988, 152.9912, 5284,     25.7,  28.8309,  34.2495,2,-999.0000,9,    196.1,2,     0.97,2,     0.08,2,     0.00,2,     0.14,4,   -999.0,9,   -999.0,9,-999.0000,9,  -999.00,     1025
  49UF20110205,  P13N,  2988,  1,     34,  21994,2,20110302,0930,  9.4988, 152.9912, 5284,     50.7,  28.8276,  34.2586,2,-999.0000,9,    195.4,2,     0.97,2,     0.05,2,     0.00,2,     0.10,4,   -999.0,9,   -999.0,9,-999.0000,9,  -999.00,     1020
  49UF20110205,  P13N,  2988,  1,     33,  21993,2,20110302,0930,  9.4988, 152.9912, 5284,     75.4,  28.8497,  34.2782,2,-999.0000,9,    195.4,2,     0.97,2,     0.03,2,     0.00,2,     0.09,4,   -999.0,9,   -999.0,9,-999.0000,9,  -999.00,     1019
  49UF20110205,  P13N,  2988,  1,     32,  21992,2,20110302,0930,  9.4988, 152.9912, 5284,    101.1,  27.9753,  34.6516,2,  34.6640,4,    198.3,2,     1.12,2,     0.08,2,     0.01,2,     0.25,4,   -999.0,9,   -999.0,9,-999.0000,9,  -999.00,     1018
  49UF20110205,  P13N,  2988,  1,     31,  21991,2,20110302,0930,  9.4988, 152.9912, 5284,    101.1,  27.9753,  34.6516,2,  34.6521,2,    198.1,2,     1.14,2,     0.01,2,     0.01,2,     0.11,4,   -999.0,9,   -999.0,9,-999.0000,9,  -999.00,     1018
  49UF20110205,  P13N,  2988,  1,     27,  21987,2,20110302,0930,  9.4988, 152.9912, 5284,    125.7,  24.3432,  34.9692,2,-999.0000,9,    188.1,2,     1.80,2,     0.39,2,     0.12,2,     0.20,4,   -999.0,9,   -999.0,9,-999.0000,9,  -999.00,     1017
  49UF20110205,  P13N,  2988,  1,     26,  21986,2,20110302,0930,  9.4988, 152.9912, 5284,    152.1,  20.4078,  34.9009,2,-999.0000,9,    169.3,2,     3.65,2,     4.13,2,     0.16,2,     0.43,4,   -999.0,9,   -999.0,9,-999.0000,9,  -999.00,     1016
  49UF20110205,  P13N,  2988,  1,     25,  21985,2,20110302,0930,  9.4988, 152.9912, 5284,    202.0,  13.7881,  34.4457,2,  34.4320,4,    141.3,6,    14.53,6,    15.54,6,     0.01,6,     1.20,4,   -999.0,9,   -999.0,9,-999.0000,9,  -999.00,     1014
  49UF20110205,  P13N,  2988,  1,     24,  21984,2,20110302,0930,  9.4988, 152.9912, 5284,    252.3,  10.9207,  34.4877,2,-999.0000,9,     72.7,2,    28.72,2,    27.90,2,     0.01,2,     2.08,4,   -999.0,9,   -999.0,9,-999.0000,9,  -999.00,     1013
  49UF20110205,  P13N,  2988,  1,     23,  21983,2,20110302,0930,  9.4988, 152.9912, 5284,    302.7,   9.4928,  34.5507,2,-999.0000,9,     59.0,2,    35.96,2,    31.97,2,     0.00,2,     2.37,4,   -999.0,9,   -999.0,9,-999.0000,9,  -999.00,     1011
  49UF20110205,  P13N,  2988,  1,     22,  21982,2,20110302,0930,  9.4988, 152.9912, 5284,    402.5,   8.6853,  34.5873,2,  34.5869,2,     54.1,2,    39.58,2,    34.33,2,     0.01,2,     2.52,4,   -999.0,9,   -999.0,9,-999.0000,9,  -999.00,     1008
  49UF20110205,  P13N,  2988,  1,     18,  21977,2,20110302,0930,  9.4988, 152.9912, 5284,    503.9,   7.6452,  34.5570,2,-999.0000,9,     60.6,2,    47.60,2,    35.78,2,     0.01,2,     2.63,4,   -999.0,9,   -999.0,9,-999.0000,9,  -999.00,     1006
  49UF20110205,  P13N,  2988,  1,     17,  21976,2,20110302,0930,  9.4988, 152.9912, 5284,    605.9,   6.7835,  34.5379,2,  34.5375,2,     63.4,2,    56.49,2,    37.16,2,     0.00,2,     2.73,4,   -999.0,9,   -999.0,9,-999.0000,9,  -999.00,     1003
  49UF20110205,  P13N,  2988,  1,     16,  21975,2,20110302,0930,  9.4988, 152.9912, 5284,    705.5,   6.2166,  34.5328,2,-999.0000,9,     68.5,2,    63.88,2,    37.71,2,     0.01,2,     2.78,4,   -999.0,9,   -999.0,9,-999.0000,9,  -999.00,     1000
  49UF20110205,  P13N,  2988,  1,     15,  21974,2,20110302,0930,  9.4988, 152.9912, 5284,    807.1,   5.6045,  34.5350,2,  34.5343,2,     70.4,2,    72.39,2,    38.56,2,     0.01,2,     2.83,4,   -999.0,9,   -999.0,9,-999.0000,9,  -999.00,      958
  49UF20110205,  P13N,  2988,  1,     14,  21973,2,20110302,0930,  9.4988, 152.9912, 5284,    908.4,   5.0618,  34.5350,2,-999.0000,9,     79.2,2,    82.21,2,    38.33,2,     0.01,2,     2.80,4,   -999.0,9,   -999.0,9,-999.0000,9,  -999.00,      955
  49UF20110205,  P13N,  2988,  1,     13,  21972,2,20110302,0930,  9.4988, 152.9912, 5284,    908.4,   5.0618,  34.5350,2,-999.0000,9,     80.5,2,    82.07,2,    38.32,2,     0.00,2,     2.80,4,   -999.0,9,   -999.0,9,-999.0000,9,  -999.00,      955
  49UF20110205,  P13N,  2988,  1,      9,  21968,2,20110302,0930,  9.4988, 152.9912, 5284,   1009.0,   4.5946,  34.5475,2,  34.5468,2,     79.7,2,    90.97,2,    39.02,2,     0.00,2,     2.87,4,   -999.0,9,   -999.0,9,-999.0000,9,  -999.00,      953
  49UF20110205,  P13N,  2988,  1,      8,  21967,2,20110302,0930,  9.4988, 152.9912, 5284,   1210.1,   3.7497,  34.5673,2,  34.5666,2,     83.6,2,   108.57,2,    39.44,2,     0.00,2,     2.89,4,   -999.0,9,   -999.0,9,-999.0000,9,  -999.00,      948
  49UF20110205,  P13N,  2988,  1,      7,  21966,2,20110302,0930,  9.4988, 152.9912, 5284,   1412.9,   3.2157,  34.5850,2,  34.5842,6,     90.0,6,   119.90,6,    39.54,6,     0.00,6,     2.88,4,   -999.0,9,   -999.0,9,-999.0000,9,  -999.00,      944
  49UF20110205,  P13N,  2988,  1,      6,  21965,2,20110302,0930,  9.4988, 152.9912, 5284,   1615.4,   2.7382,  34.6094,2,  34.6091,2,    103.8,3,   128.46,2,    39.17,2,     0.00,2,     2.84,4,   -999.0,9,   -999.0,9,-999.0000,9,  -999.00,      939
  49UF20110205,  P13N,  2988,  1,      5,  21964,2,20110302,0930,  9.4988, 152.9912, 5284,   1818.5,   2.3957,  34.6242,2,  34.6250,2,    105.6,2,   135.68,2,    38.99,2,     0.00,2,     2.83,4,   -999.0,9,   -999.0,9,-999.0000,9,  -999.00,      935
  49UF20110205,  P13N,  2988,  1,      4,  21963,2,20110302,0930,  9.4988, 152.9912, 5284,   2022.0,   2.1926,  34.6355,2,  34.6350,2,    108.9,2,   140.32,2,    38.62,2,     0.00,2,     2.81,4,   -999.0,9,   -999.0,9,-999.0000,9,  -999.00,      930