BOTTLE,20191015PRINUNIVRMK
EXPOCODE,SECT_ID,STNNBR,CASTNO,SAMPNO,BTLNBR,BTLNBR_FLAG_W,DATE,TIME,LATITUDE,LONGITUDE,DEPTH,CTDPRS,CTDTMP,CTDSAL,CTDSAL_FLAG_W,SALNTY,SALNTY_FLAG_W,OXYGEN,OXYGEN_FLAG_W,SILCAT,SILCAT_FLAG_W,NITRAT,NITRAT_FLAG_W,NITRIT,NITRIT_FLAG_W,PHSPHT,PHSPHT_FLAG_W,TCARBN,TCARBN_FLAG_W,ALKALI,ALKALI_FLAG_W,PH_TOT,PH_TOT_FLAG_W,PH_TMP,BTL_TIME
,,,,,,,,,,,METERS,DBAR,ITS-90,PSS-78,,PSS-78,,UMOL/KG,,UMOL/KG,,UMOL/KG,,UMOL/KG,,UMOL/KG,,UMOL/KG,,UMOL/KG,,,,DEG C,
  49UF20110205,  P13N,  2977,  1,     99,     99,2,20110216,0855,  9.4872, 162.9852, 4631,      0.0,  28.5180,  34.2643,2,-999.0000,9,    198.7,2,     0.98,2,     0.08,2,     0.00,2,     0.09,2,   -999.0,9,   -999.0,9,-999.0000,9,  -999.00,      945
  49UF20110205,  P13N,  2977,  1,     33,  21993,2,20110216,0855,  9.4872, 162.9852, 4631,     11.6,  28.5347,  34.2630,2,  34.2607,2,    197.0,2,     0.94,2,     0.05,2,     0.00,2,     0.08,2,   -999.0,9,   -999.0,9,-999.0000,9,  -999.00,      956
  49UF20110205,  P13N,  2977,  1,     32,  21992,2,20110216,0855,  9.4872, 162.9852, 4631,     26.1,  28.5375,  34.2645,2,-999.0000,9,    197.2,2,     0.98,2,     0.03,2,     0.00,2,     0.09,2,   -999.0,9,   -999.0,9,-999.0000,9,  -999.00,      955
  49UF20110205,  P13N,  2977,  1,     31,  21991,2,20110216,0855,  9.4872, 162.9852, 4631,     50.9,  28.5365,  34.2679,2,-999.0000,9,    197.0,2,     0.99,2,     0.06,2,     0.00,2,     0.09,2,   -999.0,9,   -999.0,9,-999.0000,9,  -999.00,      950
  49UF20110205,  P13N,  2977,  1,     30,  21990,2,20110216,0855,  9.4872, 162.9852, 4631,     75.0,  28.5026,  34.4004,2,-999.0000,9,    197.2,2,     1.06,2,     0.06,2,     0.00,2,     0.11,2,   -999.0,9,   -999.0,9,-999.0000,9,  -999.00,      949
  49UF20110205,  P13N,  2977,  1,     29,  21989,2,20110216,0855,  9.4872, 162.9852, 4631,     75.0,  28.5026,  34.4004,2,-999.0000,9,    196.8,2,     1.02,2,     0.05,2,     0.00,2,     0.11,2,   -999.0,9,   -999.0,9,-999.0000,9,  -999.00,      948
  49UF20110205,  P13N,  2977,  1,     28,  21988,2,20110216,0855,  9.4872, 162.9852, 4631,    101.6,  25.7632,  34.8691,2,  34.8677,2,    191.0,2,     1.66,2,     0.07,2,     0.01,2,     0.18,2,   -999.0,9,   -999.0,9,-999.0000,9,  -999.00,      947
  49UF20110205,  P13N,  2977,  1,     24,  21984,2,20110216,0855,  9.4872, 162.9852, 4631,    125.9,  21.7665,  35.0152,2,-999.0000,9,    180.1,2,     2.52,2,     1.83,2,     0.27,2,     0.31,2,   -999.0,9,   -999.0,9,-999.0000,9,  -999.00,      946
  49UF20110205,  P13N,  2977,  1,     23,  21983,2,20110216,0855,  9.4872, 162.9852, 4631,    152.6,  18.8311,  34.8347,2,-999.0000,9,    167.4,2,     4.35,2,     5.31,2,     0.06,2,     0.53,2,   -999.0,9,   -999.0,9,-999.0000,9,  -999.00,      944
  49UF20110205,  P13N,  2977,  1,     22,  21982,2,20110216,0855,  9.4872, 162.9852, 4631,    201.4,  13.2092,  34.4183,2,  34.4281,4,    138.2,2,    14.99,2,    16.01,2,     0.00,2,     1.25,2,   -999.0,9,   -999.0,9,-999.0000,9,  -999.00,      942
  49UF20110205,  P13N,  2977,  1,     21,  21981,2,20110216,0855,  9.4872, 162.9852, 4631,    254.3,  10.7342,  34.4927,2,-999.0000,9,     69.8,6,    29.39,6,    28.13,6,     0.01,6,     2.10,6,   -999.0,9,   -999.0,9,-999.0000,9,  -999.00,      941
  49UF20110205,  P13N,  2977,  1,     20,  21980,2,20110216,0855,  9.4872, 162.9852, 4631,    305.0,   9.6583,  34.5235,2,-999.0000,9,     58.4,2,    35.38,2,    31.43,2,     0.00,2,     2.30,2,   -999.0,9,   -999.0,9,-999.0000,9,  -999.00,      939
  49UF20110205,  P13N,  2977,  1,     19,  21978,2,20110216,0855,  9.4872, 162.9852, 4631,    406.0,   8.6567,  34.5684,2,  34.5637,2,     58.9,2,    40.76,2,    33.76,2,     0.00,2,     2.44,2,   -999.0,9,   -999.0,9,-999.0000,9,  -999.00,      936
  49UF20110205,  P13N,  2977,  1,     15,  21974,2,20110216,0855,  9.4872, 162.9852, 4631,    504.3,   7.6580,  34.5460,2,-999.0000,9,     62.9,2,    47.84,2,    35.26,2,     0.00,2,     2.54,2,   -999.0,9,   -999.0,9,-999.0000,9,  -999.00,      933
  49UF20110205,  P13N,  2977,  1,     14,  21973,2,20110216,0855,  9.4872, 162.9852, 4631,    606.9,   6.9133,  34.5415,2,  34.5368,2,     59.0,2,    55.77,2,    37.04,2,     0.00,2,     2.68,2,   -999.0,9,   -999.0,9,-999.0000,9,  -999.00,      930
  49UF20110205,  P13N,  2977,  1,     13,  21972,2,20110216,0855,  9.4872, 162.9852, 4631,    708.2,   6.2324,  34.5354,2,-999.0000,9,     57.4,2,    63.93,2,    38.47,2,     0.00,2,     2.80,2,   -999.0,9,   -999.0,9,-999.0000,9,  -999.00,      927
  49UF20110205,  P13N,  2977,  1,     12,  21971,2,20110216,0855,  9.4872, 162.9852, 4631,    808.5,   5.7691,  34.5373,2,-999.0000,9,     58.9,2,    70.55,2,    39.50,2,     0.00,2,     2.85,2,   -999.0,9,   -999.0,9,-999.0000,9,  -999.00,      924
  49UF20110205,  P13N,  2977,  1,     11,  21970,2,20110216,0855,  9.4872, 162.9852, 4631,    808.5,   5.7691,  34.5373,2,  34.5365,2,     58.6,2,    70.60,2,    39.40,2,     0.00,2,     2.85,2,   -999.0,9,   -999.0,9,-999.0000,9,  -999.00,      924
  49UF20110205,  P13N,  2977,  1,     10,  21969,2,20110216,0855,  9.4872, 162.9852, 4631,    909.1,   5.2113,  34.5378,2,-999.0000,9,     69.1,2,    80.12,2,    39.00,2,     0.00,2,     2.82,2,   -999.0,9,   -999.0,9,-999.0000,9,  -999.00,      921
  49UF20110205,  P13N,  2977,  1,      6,  21965,2,20110216,0855,  9.4872, 162.9852, 4631,   1010.6,   4.6292,  34.5490,2,  34.5483,2,     75.8,2,    90.57,2,    39.04,2,     0.00,2,     2.82,2,   -999.0,9,   -999.0,9,-999.0000,9,  -999.00,      918
  49UF20110205,  P13N,  2977,  1,      5,  21964,2,20110216,0855,  9.4872, 162.9852, 4631,   1210.4,   3.8339,  34.5686,2,  34.5680,2,     82.1,2,   106.47,2,    39.58,2,     0.00,2,     2.84,2,   -999.0,9,   -999.0,9,-999.0000,9,  -999.00,      913
  49UF20110205,  P13N,  2977,  1,      4,  21963,2,20110216,0855,  9.4872, 162.9852, 4631,   1413.9,   3.2584,  34.5874,2,  34.5871,2,     88.2,2,   118.78,2,    39.54,2,     0.00,2,     2.84,2,   -999.0,9,   -999.0,9,-999.0000,9,  -999.00,      908
  49UF20110205,  P13N,  2977,  1,      3,  21962,2,20110216,0855,  9.4872, 162.9852, 4631,   1616.1,   2.8438,  34.6042,2,  34.6033,2,     94.2,6,   127.80,6,    39.38,6,     0.00,6,     2.82,6,   -999.0,9,   -999.0,9,-999.0000,9,  -999.00,      904
  49UF20110205,  P13N,  2977,  1,      2,  21961,2,20110216,0855,  9.4872, 162.9852, 4631,   1817.5,   2.4919,  34.6198,2,  34.6188,2,     99.9,2,   135.86,2,    39.29,2,     0.00,2,     2.81,2,   -999.0,9,   -999.0,9,-999.0000,9,  -999.00,      859
  49UF20110205,  P13N,  2977,  1,      1,  21960,2,20110216,0855,  9.4872, 162.9852, 4631,   2019.3,   2.2411,  34.6338,2,  34.6327,2,    105.4,2,   141.42,2,    39.08,2,     0.00,2,     2.78,2,   -999.0,9,   -999.0,9,-999.0000,9,  -999.00,      855
  49UF20110205,  P13N,  2978,  1,     99,     99,2,20110216,1510,  9.4900, 161.9913, 5021,      0.0,  28.4339,  34.2194,2,-999.0000,9,    197.4,2,     0.92,2,     0.05,2,     0.00,2,     0.07,2,   -999.0,9,   -999.0,9,-999.0000,9,  -999.00,     1550
  49UF20110205,  P13N,  2978,  1,     33,  21993,2,20110216,1510,  9.4900, 161.9913, 5021,     11.6,  28.4451,  34.2193,2,-999.0000,9,    196.8,2,     0.92,2,     0.07,2,     0.00,2,     0.07,2,   -999.0,9,   -999.0,9,-999.0000,9,  -999.00,     1608
  49UF20110205,  P13N,  2978,  1,     32,  21992,2,20110216,1510,  9.4900, 161.9913, 5021,     25.5,  28.4515,  34.2210,2,-999.0000,9,    197.2,2,     0.92,2,     0.02,2,     0.00,2,     0.07,2,   -999.0,9,   -999.0,9,-999.0000,9,  -999.00,     1607
  49UF20110205,  P13N,  2978,  1,     31,  21991,2,20110216,1510,  9.4900, 161.9913, 5021,     50.8,  28.4500,  34.2204,2,-999.0000,9,    197.4,2,     1.03,2,     0.08,2,     0.00,2,     0.08,2,   -999.0,9,   -999.0,9,-999.0000,9,  -999.00,     1602
  49UF20110205,  P13N,  2978,  1,     30,  21990,2,20110216,1510,  9.4900, 161.9913, 5021,     50.8,  28.4500,  34.2204,2,-999.0000,9,    197.4,2,     0.92,2,     0.01,2,     0.00,2,     0.07,2,   -999.0,9,   -999.0,9,-999.0000,9,  -999.00,     1602
  49UF20110205,  P13N,  2978,  1,     29,  21989,2,20110216,1510,  9.4900, 161.9913, 5021,     74.7,  28.1430,  34.5030,2,-999.0000,9,    198.6,2,     0.94,2,     0.04,2,     0.00,2,     0.10,2,   -999.0,9,   -999.0,9,-999.0000,9,  -999.00,     1601
  49UF20110205,  P13N,  2978,  1,     28,  21988,2,20110216,1510,  9.4900, 161.9913, 5021,    102.0,  27.7232,  34.7701,2,-999.0000,9,    203.0,2,     0.97,2,     0.02,2,     0.00,2,     0.10,2,   -999.0,9,   -999.0,9,-999.0000,9,  -999.00,     1600
  49UF20110205,  P13N,  2978,  1,     24,  21984,2,20110216,1510,  9.4900, 161.9913, 5021,    125.7,  23.5014,  35.1529,2,-999.0000,9,    198.2,2,     1.42,2,     0.12,2,     0.02,2,     0.14,2,   -999.0,9,   -999.0,9,-999.0000,9,  -999.00,     1558
  49UF20110205,  P13N,  2978,  1,     23,  21983,2,20110216,1510,  9.4900, 161.9913, 5021,    150.4,  18.0102,  34.7732,2,-999.0000,9,    167.0,2,     5.00,2,     6.30,2,     0.03,2,     0.55,2,   -999.0,9,   -999.0,9,-999.0000,9,  -999.00,     1557
  49UF20110205,  P13N,  2978,  1,     22,  21982,2,20110216,1510,  9.4900, 161.9913, 5021,    202.0,  12.4167,  34.3887,2,-999.0000,9,    130.9,6,    18.38,6,    18.36,6,     0.01,6,     1.40,6,   -999.0,9,   -999.0,9,-999.0000,9,  -999.00,     1555
  49UF20110205,  P13N,  2978,  1,     21,  21981,2,20110216,1510,  9.4900, 161.9913, 5021,    252.7,  10.7334,  34.4464,2,-999.0000,9,     81.0,2,    28.34,2,    26.70,2,     0.00,2,     1.98,2,   -999.0,9,   -999.0,9,-999.0000,9,  -999.00,     1554
  49UF20110205,  P13N,  2978,  1,     20,  21980,2,20110216,1510,  9.4900, 161.9913, 5021,    303.3,   9.6186,  34.5309,2,-999.0000,9,     57.1,2,    35.77,2,    31.78,2,     0.01,2,     2.31,2,   -999.0,9,   -999.0,9,-999.0000,9,  -999.00,     1552
  49UF20110205,  P13N,  2978,  1,     19,  21978,2,20110216,1510,  9.4900, 161.9913, 5021,    406.0,   8.5526,  34.5705,2,-999.0000,9,     56.0,2,    41.23,2,    34.38,2,     0.01,2,     2.45,2,   -999.0,9,   -999.0,9,-999.0000,9,  -999.00,     1549
  49UF20110205,  P13N,  2978,  1,     15,  21974,2,20110216,1510,  9.4900, 161.9913, 5021,    503.4,   7.7492,  34.5457,2,-999.0000,9,     63.4,2,    47.21,2,    35.08,2,     0.01,2,     2.51,2,   -999.0,9,   -999.0,9,-999.0000,9,  -999.00,     1546
  49UF20110205,  P13N,  2978,  1,     14,  21973,2,20110216,1510,  9.4900, 161.9913, 5021,    603.3,   7.0043,  34.5325,2,-999.0000,9,     66.0,2,    54.49,2,    36.21,2,     0.01,2,     2.61,2,   -999.0,9,   -999.0,9,-999.0000,9,  -999.00,     1544
  49UF20110205,  P13N,  2978,  1,     13,  21972,3,20110216,1510,  9.4900, 161.9913, 5021,    705.9,   6.4404,  34.5321,2,-999.0000,9,     59.1,2,    62.15,2,    37.98,2,     0.01,2,     2.76,2,   -999.0,9,   -999.0,9,-999.0000,9,  -999.00,     1541
  49UF20110205,  P13N,  2978,  1,     12,  21971,2,20110216,1510,  9.4900, 161.9913, 5021,    705.9,   6.4404,  34.5321,2,-999.0000,9,     58.7,2,    61.81,2,    37.93,2,     0.01,2,     2.75,2,   -999.0,9,   -999.0,9,-999.0000,9,  -999.00,     1541
  49UF20110205,  P13N,  2978,  1,     11,  21970,2,20110216,1510,  9.4900, 161.9913, 5021,    806.6,   5.9007,  34.5379,2,-999.0000,9,     56.3,2,    68.08,2,    39.40,2,     0.01,2,     2.85,2,   -999.0,9,   -999.0,9,-999.0000,9,  -999.00,     1538
  49UF20110205,  P13N,  2978,  1,     10,  21969,2,20110216,1510,  9.4900, 161.9913, 5021,    907.3,   5.1878,  34.5462,2,-999.0000,9,     60.9,2,    78.93,2,    40.33,2,     0.01,2,     2.91,2,   -999.0,9,   -999.0,9,-999.0000,9,  -999.00,     1536
  49UF20110205,  P13N,  2978,  1,      6,  21965,2,20110216,1510,  9.4900, 161.9913, 5021,   1008.7,   4.3168,  34.5585,2,-999.0000,9,     74.6,2,    96.08,2,    39.79,2,     0.01,2,     2.87,2,   -999.0,9,   -999.0,9,-999.0000,9,  -999.00,     1533
  49UF20110205,  P13N,  2978,  1,      5,  21964,2,20110216,1510,  9.4900, 161.9913, 5021,   1210.6,   3.5921,  34.5757,2,-999.0000,9,     85.2,2,   111.37,2,    39.42,2,     0.00,2,     2.83,2,   -999.0,9,   -999.0,9,-999.0000,9,  -999.00,     1528
  49UF20110205,  P13N,  2978,  1,      4,  21963,2,20110216,1510,  9.4900, 161.9913, 5021,   1413.6,   3.0666,  34.5939,2,-999.0000,9,     90.0,6,   123.28,6,    39.41,6,     0.00,6,     2.83,6,   -999.0,9,   -999.0,9,-999.0000,9,  -999.00,     1524
  49UF20110205,  P13N,  2978,  1,      3,  21962,2,20110216,1510,  9.4900, 161.9913, 5021,   1616.6,   2.6650,  34.6094,2,-999.0000,9,     94.7,2,   132.40,2,    39.32,2,     0.01,2,     2.81,2,   -999.0,9,   -999.0,9,-999.0000,9,  -999.00,     1519
  49UF20110205,  P13N,  2978,  1,      2,  21961,2,20110216,1510,  9.4900, 161.9913, 5021,   1819.7,   2.4111,  34.6243,2,-999.0000,9,    100.5,2,   137.40,2,    39.13,2,     0.01,2,     2.79,2,   -999.0,9,   -999.0,9,-999.0000,9,  -999.00,     1515
  49UF20110205,  P13N,  2978,  1,      1,  21960,2,20110216,1510,  9.4900, 161.9913, 5021,   2022.5,   2.1968,  34.6360,2,-999.0000,9,    106.8,2,   141.82,2,    38.81,2,     0.01,2,     2.76,2,   -999.0,9,   -999.0,9,-999.0000,9,  -999.00,     1510
  49UF20110205,  P13N,  2979,  1,     99,     99,2,20110216,2225,  9.3930, 160.8132, 4452,      0.0,  28.2220,  34.2919,2,-999.0000,9,    198.4,2,     1.77,2,     0.00,2,     0.00,2,     0.09,2,   -999.0,9,   -999.0,9,-999.0000,9,  -999.00,     2300
  49UF20110205,  P13N,  2979,  1,     33,  21993,2,20110216,2225,  9.3930, 160.8132, 4452,     11.0,  28.2134,  34.2918,2,-999.0000,9,    198.5,2,     1.80,2,     0.00,2,     0.00,2,     0.08,2,   -999.0,9,   -999.0,9,-999.0000,9,  -999.00,     2323
  49UF20110205,  P13N,  2979,  1,     32,  21992,2,20110216,2225,  9.3930, 160.8132, 4452,     26.7,  28.2141,  34.2924,2,-999.0000,9,    198.3,2,     1.90,2,     0.09,2,     0.00,2,     0.07,2,   -999.0,9,   -999.0,9,-999.0000,9,  -999.00,     2322
  49UF20110205,  P13N,  2979,  1,     31,  21991,2,20110216,2225,  9.3930, 160.8132, 4452,     26.7,  28.2141,  34.2924,2,-999.0000,9,    198.6,2,     1.75,2,     0.00,2,     0.00,2,     0.07,2,   -999.0,9,   -999.0,9,-999.0000,9,  -999.00,     2322
  49UF20110205,  P13N,  2979,  1,     30,  21990,2,20110216,2225,  9.3930, 160.8132, 4452,     51.6,  28.2324,  34.3174,2,-999.0000,9,    198.4,2,     1.74,2,     0.00,2,     0.00,2,     0.08,2,   -999.0,9,   -999.0,9,-999.0000,9,  -999.00,     2318
  49UF20110205,  P13N,  2979,  1,     29,  21989,2,20110216,2225,  9.3930, 160.8132, 4452,     75.3,  27.9383,  34.7099,2,-999.0000,9,    205.7,2,     1.81,2,     0.00,2,     0.00,2,     0.10,2,   -999.0,9,   -999.0,9,-999.0000,9,  -999.00,     2316
  49UF20110205,  P13N,  2979,  1,     28,  21988,2,20110216,2225,  9.3930, 160.8132, 4452,    102.4,  25.0675,  35.1385,2,-999.0000,9,    203.0,2,     2.01,2,     0.00,2,     0.00,2,     0.10,2,   -999.0,9,   -999.0,9,-999.0000,9,  -999.00,     2315
  49UF20110205,  P13N,  2979,  1,     24,  21984,2,20110216,2225,  9.3930, 160.8132, 4452,    126.6,  22.6404,  35.1020,2,-999.0000,9,    188.8,2,     2.74,2,     0.73,2,     0.09,2,     0.21,2,   -999.0,9,   -999.0,9,-999.0000,9,  -999.00,     2313
  49UF20110205,  P13N,  2979,  1,     23,  21983,2,20110216,2225,  9.3930, 160.8132, 4452,    151.1,  20.0345,  34.9209,2,-999.0000,9,    172.8,6,     4.68,6,     4.15,6,     0.09,6,     0.44,6,   -999.0,9,   -999.0,9,-999.0000,9,  -999.00,     2312
  49UF20110205,  P13N,  2979,  1,     22,  21982,2,20110216,2225,  9.3930, 160.8132, 4452,    203.1,  13.5185,  34.4134,2,-999.0000,9,    153.1,2,    14.50,2,    14.31,2,     0.00,2,     1.10,2,   -999.0,9,   -999.0,9,-999.0000,9,  -999.00,     2310
  49UF20110205,  P13N,  2979,  1,     21,  21981,2,20110216,2225,  9.3930, 160.8132, 4452,    252.3,  10.7794,  34.4227,2,-999.0000,9,     84.7,2,    29.47,2,    26.49,2,     0.00,2,     1.96,2,   -999.0,9,   -999.0,9,-999.0000,9,  -999.00,     2308
  49UF20110205,  P13N,  2979,  1,     20,  21980,2,20110216,2225,  9.3930, 160.8132, 4452,    303.2,   9.1543,  34.4887,2,-999.0000,9,     66.4,2,    39.42,2,    31.72,2,     0.00,2,     2.29,2,   -999.0,9,   -999.0,9,-999.0000,9,  -999.00,     2307
  49UF20110205,  P13N,  2979,  1,     19,  21978,2,20110216,2225,  9.3930, 160.8132, 4452,    404.2,   8.2115,  34.5326,2,-999.0000,9,     68.7,2,    44.82,2,    33.80,2,     0.00,2,     2.41,2,   -999.0,9,   -999.0,9,-999.0000,9,  -999.00,     2304
  49UF20110205,  P13N,  2979,  1,     15,  21974,2,20110216,2225,  9.3930, 160.8132, 4452,    504.3,   7.4607,  34.5321,2,-999.0000,9,     70.8,2,    50.57,2,    35.06,2,     0.00,2,     2.51,2,   -999.0,9,   -999.0,9,-999.0000,9,  -999.00,     2301
  49UF20110205,  P13N,  2979,  1,     14,  21973,2,20110216,2225,  9.3930, 160.8132, 4452,    606.4,   6.7320,  34.5286,2,-999.0000,9,     69.7,2,    58.31,2,    36.69,2,     0.00,2,     2.63,2,   -999.0,9,   -999.0,9,-999.0000,9,  -999.00,     2259
  49UF20110205,  P13N,  2979,  1,     13,  21972,2,20110216,2225,  9.3930, 160.8132, 4452,    606.4,   6.7320,  34.5286,2,-999.0000,9,     70.0,2,    58.20,2,    36.56,2,     0.00,2,     2.62,2,   -999.0,9,   -999.0,9,-999.0000,9,  -999.00,     2258
  49UF20110205,  P13N,  2979,  1,     12,  21971,2,20110216,2225,  9.3930, 160.8132, 4452,    707.2,   6.1073,  34.5311,2,-999.0000,9,     59.6,2,    67.24,2,    38.40,2,     0.00,2,     2.78,2,   -999.0,9,   -999.0,9,-999.0000,9,  -999.00,     2255
  49UF20110205,  P13N,  2979,  1,     11,  21970,2,20110216,2225,  9.3930, 160.8132, 4452,    807.5,   5.5152,  34.5337,2,-999.0000,9,     63.4,2,    76.31,2,    39.24,2,     0.00,2,     2.82,2,   -999.0,9,   -999.0,9,-999.0000,9,  -999.00,     2253
  49UF20110205,  P13N,  2979,  1,     10,  21969,2,20110216,2225,  9.3930, 160.8132, 4452,    908.9,   4.9123,  34.5417,2,-999.0000,9,     71.6,2,    85.91,2,    39.27,2,     0.00,2,     2.82,2,   -999.0,9,   -999.0,9,-999.0000,9,  -999.00,     2250
  49UF20110205,  P13N,  2979,  1,      6,  21965,2,20110216,2225,  9.3930, 160.8132, 4452,   1010.0,   4.4363,  34.5492,2,-999.0000,9,     72.0,2,    96.59,2,    39.83,2,     0.00,2,     2.86,2,   -999.0,9,   -999.0,9,-999.0000,9,  -999.00,     2247
  49UF20110205,  P13N,  2979,  1,      5,  21964,2,20110216,2225,  9.3930, 160.8132, 4452,   1211.8,   3.5336,  34.5760,2,-999.0000,9,     84.2,6,   114.48,6,    39.80,2,     0.00,6,     2.85,6,   -999.0,9,   -999.0,9,-999.0000,9,  -999.00,     2243
  49UF20110205,  P13N,  2979,  1,      4,  21963,2,20110216,2225,  9.3930, 160.8132, 4452,   1415.1,   3.0145,  34.5972,2,-999.0000,9,     93.8,2,   124.02,2,    39.19,2,     0.00,2,     2.80,2,   -999.0,9,   -999.0,9,-999.0000,9,  -999.00,     2238
  49UF20110205,  P13N,  2979,  1,      3,  21962,2,20110216,2225,  9.3930, 160.8132, 4452,   1617.8,   2.6795,  34.6111,2,-999.0000,9,     96.6,2,   132.00,2,    39.39,2,     0.00,2,     2.80,2,   -999.0,9,   -999.0,9,-999.0000,9,  -999.00,     2233
  49UF20110205,  P13N,  2979,  1,      2,  21961,2,20110216,2225,  9.3930, 160.8132, 4452,   1820.4,   2.3523,  34.6266,2,-999.0000,9,    102.1,2,   139.73,2,    39.17,2,     0.00,2,     2.78,2,   -999.0,9,   -999.0,9,-999.0000,9,  -999.00,     2229
  49UF20110205,  P13N,  2979,  1,      1,  21960,2,20110216,2225,  9.3930, 160.8132, 4452,   2021.3,   2.1477,  34.6394,2,-999.0000,9,    107.8,2,   143.37,2,    38.97,2,     0.00,2,     2.75,2,   -999.0,9,   -999.0,9,-999.0000,9,  -999.00,     2225