BOTTLE,20191015PRINUNIVRMK
EXPOCODE,SECT_ID,STNNBR,CASTNO,SAMPNO,BTLNBR,BTLNBR_FLAG_W,DATE,TIME,LATITUDE,LONGITUDE,DEPTH,CTDPRS,CTDTMP,CTDSAL,CTDSAL_FLAG_W,SALNTY,SALNTY_FLAG_W,OXYGEN,OXYGEN_FLAG_W,SILCAT,SILCAT_FLAG_W,NITRAT,NITRAT_FLAG_W,NITRIT,NITRIT_FLAG_W,PHSPHT,PHSPHT_FLAG_W,TCARBN,TCARBN_FLAG_W,ALKALI,ALKALI_FLAG_W,PH_TOT,PH_TOT_FLAG_W,PH_TMP,BTL_TIME
,,,,,,,,,,,METERS,DBAR,ITS-90,PSS-78,,PSS-78,,UMOL/KG,,UMOL/KG,,UMOL/KG,,UMOL/KG,,UMOL/KG,,UMOL/KG,,UMOL/KG,,,,DEG C,
  49UF20110205,  P13N,  2971,  1,     99,     99,2,20110214,1534, 13.9785, 164.9830, 5698,      0.0,  27.3625,  34.6949,2,-999.0000,9,    201.1,2,     0.96,2,     0.06,2,     0.00,2,     0.11,2,   -999.0,9,   -999.0,9,-999.0000,9,  -999.00,     1615
  49UF20110205,  P13N,  2971,  1,     33,  21993,2,20110214,1534, 13.9785, 164.9830, 5698,     11.7,  27.3628,  34.6942,2,-999.0000,9,    200.4,2,     0.95,2,     0.04,2,     0.00,2,     0.11,2,   -999.0,9,   -999.0,9,-999.0000,9,  -999.00,     1638
  49UF20110205,  P13N,  2971,  1,     32,  21992,3,20110214,1534, 13.9785, 164.9830, 5698,     24.9,  27.3730,  34.6975,2,-999.0000,9,    200.8,2,     1.00,2,     0.00,2,     0.00,2,     0.12,2,   -999.0,9,   -999.0,9,-999.0000,9,  -999.00,     1637
  49UF20110205,  P13N,  2971,  1,     31,  21991,3,20110214,1534, 13.9785, 164.9830, 5698,     24.9,  27.3730,  34.6975,2,-999.0000,9,    201.0,2,     0.96,2,     0.11,2,     0.00,2,     0.11,2,   -999.0,9,   -999.0,9,-999.0000,9,  -999.00,     1636
  49UF20110205,  P13N,  2971,  1,     30,  21990,2,20110214,1534, 13.9785, 164.9830, 5698,     49.5,  27.3546,  34.8766,2,-999.0000,9,    200.7,2,     0.92,2,     0.08,2,     0.00,2,     0.08,2,   -999.0,9,   -999.0,9,-999.0000,9,  -999.00,     1632
  49UF20110205,  P13N,  2971,  1,     29,  21989,2,20110214,1534, 13.9785, 164.9830, 5698,     75.9,  27.1822,  35.1487,2,-999.0000,9,    203.8,2,     0.88,2,     0.08,2,     0.00,2,     0.05,2,   -999.0,9,   -999.0,9,-999.0000,9,  -999.00,     1631
  49UF20110205,  P13N,  2971,  1,     28,  21988,2,20110214,1534, 13.9785, 164.9830, 5698,    100.1,  25.7745,  35.1286,2,-999.0000,9,    206.6,2,     1.09,2,     0.11,2,     0.00,2,     0.09,2,   -999.0,9,   -999.0,9,-999.0000,9,  -999.00,     1630
  49UF20110205,  P13N,  2971,  1,     24,  21984,2,20110214,1534, 13.9785, 164.9830, 5698,    126.2,  24.0915,  35.3155,2,-999.0000,9,    197.9,2,     1.18,2,     0.15,2,     0.05,2,     0.10,2,   -999.0,9,   -999.0,9,-999.0000,9,  -999.00,     1628
  49UF20110205,  P13N,  2971,  1,     23,  21983,3,20110214,1534, 13.9785, 164.9830, 5698,    151.4,  22.2980,  35.2643,2,-999.0000,9,    189.0,6,     1.61,6,     1.22,6,     0.03,6,     0.18,6,   -999.0,9,   -999.0,9,-999.0000,9,  -999.00,     1627
  49UF20110205,  P13N,  2971,  1,     22,  21982,3,20110214,1534, 13.9785, 164.9830, 5698,    204.8,  18.3558,  34.8577,2,-999.0000,9,    185.2,2,     3.59,2,     4.25,2,     0.01,2,     0.34,2,   -999.0,9,   -999.0,9,-999.0000,9,  -999.00,     1625
  49UF20110205,  P13N,  2971,  1,     21,  21981,2,20110214,1534, 13.9785, 164.9830, 5698,    252.2,  14.3722,  34.4371,2,-999.0000,9,    162.0,2,     9.60,2,    11.25,2,     0.01,2,     0.88,2,   -999.0,9,   -999.0,9,-999.0000,9,  -999.00,     1623
  49UF20110205,  P13N,  2971,  1,     20,  21980,2,20110214,1534, 13.9785, 164.9830, 5698,    303.4,  10.6804,  34.2616,2,-999.0000,9,    128.8,2,    24.41,2,    21.69,2,     0.00,2,     1.63,2,   -999.0,9,   -999.0,9,-999.0000,9,  -999.00,     1621
  49UF20110205,  P13N,  2971,  1,     19,  21978,3,20110214,1534, 13.9785, 164.9830, 5698,    405.1,   8.5115,  34.3546,2,-999.0000,9,     65.9,2,    42.72,2,    32.03,2,     0.00,2,     2.37,2,   -999.0,9,   -999.0,9,-999.0000,9,  -999.00,     1617
  49UF20110205,  P13N,  2971,  1,     15,  21974,2,20110214,1534, 13.9785, 164.9830, 5698,    505.3,   7.0412,  34.4357,2,-999.0000,9,     52.9,2,    58.11,2,    36.45,2,     0.00,2,     2.67,2,   -999.0,9,   -999.0,9,-999.0000,9,  -999.00,     1614
  49UF20110205,  P13N,  2971,  1,     14,  21973,2,20110214,1534, 13.9785, 164.9830, 5698,    608.6,   6.1280,  34.4740,2,-999.0000,9,     59.7,2,    68.57,2,    37.68,2,     0.01,2,     2.76,2,   -999.0,9,   -999.0,9,-999.0000,9,  -999.00,     1611
  49UF20110205,  P13N,  2971,  1,     13,  21972,3,20110214,1534, 13.9785, 164.9830, 5698,    608.6,   6.1280,  34.4740,2,-999.0000,9,     59.8,2,    68.57,2,    37.87,2,     0.00,2,     2.75,2,   -999.0,9,   -999.0,9,-999.0000,9,  -999.00,     1610
  49UF20110205,  P13N,  2971,  1,     12,  21971,2,20110214,1534, 13.9785, 164.9830, 5698,    707.0,   5.6371,  34.4929,2,-999.0000,9,     61.8,2,    75.80,2,    38.63,2,     0.00,2,     2.80,2,   -999.0,9,   -999.0,9,-999.0000,9,  -999.00,     1607
  49UF20110205,  P13N,  2971,  1,     11,  21970,2,20110214,1534, 13.9785, 164.9830, 5698,    809.7,   5.1987,  34.5087,2,-999.0000,9,     63.1,2,    83.10,2,    39.31,2,     0.00,2,     2.86,2,   -999.0,9,   -999.0,9,-999.0000,9,  -999.00,     1604
  49UF20110205,  P13N,  2971,  1,     10,  21969,2,20110214,1534, 13.9785, 164.9830, 5698,    909.5,   4.8133,  34.5239,2,-999.0000,9,     63.4,2,    89.78,2,    39.87,2,     0.01,2,     2.90,2,   -999.0,9,   -999.0,9,-999.0000,9,  -999.00,     1600
  49UF20110205,  P13N,  2971,  1,      6,  21965,2,20110214,1534, 13.9785, 164.9830, 5698,   1010.2,   4.4124,  34.5361,2,-999.0000,9,     65.5,2,    97.73,2,    40.31,2,     0.00,2,     2.92,2,   -999.0,9,   -999.0,9,-999.0000,9,  -999.00,     1557
  49UF20110205,  P13N,  2971,  1,      5,  21964,2,20110214,1534, 13.9785, 164.9830, 5698,   1209.7,   3.7414,  34.5590,2,-999.0000,9,     71.0,6,   111.47,6,    40.41,6,     0.00,6,     2.95,6,   -999.0,9,   -999.0,9,-999.0000,9,  -999.00,     1552
  49UF20110205,  P13N,  2971,  1,      4,  21963,2,20110214,1534, 13.9785, 164.9830, 5698,   1413.8,   3.1372,  34.5805,2,-999.0000,9,     80.1,2,   124.53,2,    40.32,2,     0.00,2,     2.90,2,   -999.0,9,   -999.0,9,-999.0000,9,  -999.00,     1547
  49UF20110205,  P13N,  2971,  1,      3,  21962,2,20110214,1534, 13.9785, 164.9830, 5698,   1617.0,   2.7199,  34.5978,2,-999.0000,9,     88.6,2,   132.87,2,    39.79,2,     0.00,2,     2.86,2,   -999.0,9,   -999.0,9,-999.0000,9,  -999.00,     1542
  49UF20110205,  P13N,  2971,  1,      2,  21961,2,20110214,1534, 13.9785, 164.9830, 5698,   1818.6,   2.4248,  34.6138,2,-999.0000,9,     96.3,2,   139.49,2,    39.43,2,     0.00,2,     2.83,2,   -999.0,9,   -999.0,9,-999.0000,9,  -999.00,     1538
  49UF20110205,  P13N,  2971,  1,      1,  21960,2,20110214,1534, 13.9785, 164.9830, 5698,   2022.7,   2.1596,  34.6309,2,-999.0000,9,    103.9,2,   144.17,2,    38.88,2,     0.00,2,     2.79,2,   -999.0,9,   -999.0,9,-999.0000,9,  -999.00,     1534
  49UF20110205,  P13N,  2972,  1,     99,     99,2,20110214,2201, 12.9847, 164.9878, 4962,      0.0,  27.5062,  34.6233,2,-999.0000,9,    200.6,2,     0.93,2,     0.05,2,     0.00,2,     0.12,2,   -999.0,9,   -999.0,9,-999.0000,9,  -999.00,     2240
  49UF20110205,  P13N,  2972,  1,     33,  21993,2,20110214,2201, 12.9847, 164.9878, 4962,     10.5,  27.5044,  34.6227,2,-999.0000,9,    200.5,2,     0.92,2,     0.06,2,     0.00,2,     0.12,2,   -999.0,9,   -999.0,9,-999.0000,9,  -999.00,     2303
  49UF20110205,  P13N,  2972,  1,     32,  21992,2,20110214,2201, 12.9847, 164.9878, 4962,     10.5,  27.5044,  34.6227,2,  34.6215,2,    200.4,2,     0.93,2,     0.04,2,     0.00,2,     0.12,2,   -999.0,9,   -999.0,9,-999.0000,9,  -999.00,     2302
  49UF20110205,  P13N,  2972,  1,     31,  21991,2,20110214,2201, 12.9847, 164.9878, 4962,     25.7,  27.5019,  34.6226,2,-999.0000,9,    200.3,2,     0.93,2,     0.07,2,     0.00,2,     0.12,2,   -999.0,9,   -999.0,9,-999.0000,9,  -999.00,     2301
  49UF20110205,  P13N,  2972,  1,     30,  21990,2,20110214,2201, 12.9847, 164.9878, 4962,     51.7,  27.5006,  34.6261,2,-999.0000,9,    200.2,2,     0.93,2,     0.07,2,     0.00,2,     0.12,2,   -999.0,9,   -999.0,9,-999.0000,9,  -999.00,     2255
  49UF20110205,  P13N,  2972,  1,     29,  21989,2,20110214,2201, 12.9847, 164.9878, 4962,     75.4,  27.1301,  35.0067,2,-999.0000,9,    204.3,2,     0.94,2,     0.07,2,     0.00,2,     0.10,2,   -999.0,9,   -999.0,9,-999.0000,9,  -999.00,     2253
  49UF20110205,  P13N,  2972,  1,     28,  21988,2,20110214,2201, 12.9847, 164.9878, 4962,    100.5,  24.8327,  35.1986,2,  35.2002,2,    202.2,2,     1.11,2,     0.08,2,     0.00,2,     0.10,2,   -999.0,9,   -999.0,9,-999.0000,9,  -999.00,     2252
  49UF20110205,  P13N,  2972,  1,     24,  21984,2,20110214,2201, 12.9847, 164.9878, 4962,    126.3,  22.8776,  35.2425,2,-999.0000,9,    192.2,6,     1.44,6,     0.78,6,     0.05,6,     0.17,6,   -999.0,9,   -999.0,9,-999.0000,9,  -999.00,     2250
  49UF20110205,  P13N,  2972,  1,     23,  21983,2,20110214,2201, 12.9847, 164.9878, 4962,    150.2,  21.1115,  35.1615,2,-999.0000,9,    186.7,2,     2.05,2,     1.99,2,     0.02,2,     0.21,2,   -999.0,9,   -999.0,9,-999.0000,9,  -999.00,     2249
  49UF20110205,  P13N,  2972,  1,     22,  21982,2,20110214,2201, 12.9847, 164.9878, 4962,    202.0,  17.3743,  34.7343,2,  34.7401,2,    173.5,2,     5.21,2,     6.57,2,     0.01,2,     0.55,2,   -999.0,9,   -999.0,9,-999.0000,9,  -999.00,     2247
  49UF20110205,  P13N,  2972,  1,     21,  21981,2,20110214,2201, 12.9847, 164.9878, 4962,    251.9,  13.4308,  34.3734,2,-999.0000,9,    155.6,2,    12.96,2,    14.01,2,     0.00,2,     1.10,2,   -999.0,9,   -999.0,9,-999.0000,9,  -999.00,     2246
  49UF20110205,  P13N,  2972,  1,     20,  21980,2,20110214,2201, 12.9847, 164.9878, 4962,    303.8,  10.3847,  34.2537,2,-999.0000,9,    127.8,2,    25.91,2,    22.28,2,     0.00,2,     1.70,2,   -999.0,9,   -999.0,9,-999.0000,9,  -999.00,     2244
  49UF20110205,  P13N,  2972,  1,     19,  21978,2,20110214,2201, 12.9847, 164.9878, 4962,    404.9,   8.0187,  34.3507,2,  34.3454,2,     62.8,2,    47.40,2,    33.12,2,     0.00,2,     2.46,2,   -999.0,9,   -999.0,9,-999.0000,9,  -999.00,     2241
  49UF20110205,  P13N,  2972,  1,     15,  21974,2,20110214,2201, 12.9847, 164.9878, 4962,    506.1,   7.1119,  34.4833,2,-999.0000,9,     49.1,2,    56.76,2,    36.86,2,     0.00,2,     2.69,2,   -999.0,9,   -999.0,9,-999.0000,9,  -999.00,     2238
  49UF20110205,  P13N,  2972,  1,     14,  21973,2,20110214,2201, 12.9847, 164.9878, 4962,    506.1,   7.1119,  34.4833,2,-999.0000,9,     49.2,2,    56.81,2,    36.97,2,     0.00,2,     2.70,2,   -999.0,9,   -999.0,9,-999.0000,9,  -999.00,     2238
  49UF20110205,  P13N,  2972,  1,     13,  21972,2,20110214,2201, 12.9847, 164.9878, 4962,    607.9,   6.3213,  34.4943,2,  34.4975,2,     51.8,2,    65.44,2,    38.33,2,     0.00,2,     2.79,2,   -999.0,9,   -999.0,9,-999.0000,9,  -999.00,     2235
  49UF20110205,  P13N,  2972,  1,     12,  21971,2,20110214,2201, 12.9847, 164.9878, 4962,    707.0,   5.6401,  34.4936,2,-999.0000,9,     66.2,2,    75.59,2,    38.28,2,     0.00,2,     2.77,2,   -999.0,9,   -999.0,9,-999.0000,9,  -999.00,     2232
  49UF20110205,  P13N,  2972,  1,     11,  21970,2,20110214,2201, 12.9847, 164.9878, 4962,    806.7,   5.1072,  34.5115,2,  34.5110,2,     66.3,2,    84.36,2,    39.24,2,     0.00,2,     2.83,2,   -999.0,9,   -999.0,9,-999.0000,9,  -999.00,     2229
  49UF20110205,  P13N,  2972,  1,     10,  21969,2,20110214,2201, 12.9847, 164.9878, 4962,    909.9,   4.7802,  34.5287,2,-999.0000,9,     61.6,2,    90.13,2,    40.05,2,     0.00,2,     2.90,2,   -999.0,9,   -999.0,9,-999.0000,9,  -999.00,     2227
  49UF20110205,  P13N,  2972,  1,      6,  21965,2,20110214,2201, 12.9847, 164.9878, 4962,   1010.2,   4.2959,  34.5433,2,  34.5434,6,     66.5,2,    99.70,6,    40.30,6,     0.00,6,     2.91,6,   -999.0,9,   -999.0,9,-999.0000,9,  -999.00,     2224
  49UF20110205,  P13N,  2972,  1,      5,  21964,2,20110214,2201, 12.9847, 164.9878, 4962,   1210.9,   3.5981,  34.5641,2,  34.5646,2,     73.4,2,   114.22,2,    40.16,2,     0.00,2,     2.91,2,   -999.0,9,   -999.0,9,-999.0000,9,  -999.00,     2219
  49UF20110205,  P13N,  2972,  1,      4,  21963,2,20110214,2201, 12.9847, 164.9878, 4962,   1413.7,   3.0362,  34.5835,2,  34.5834,2,     82.1,2,   126.20,2,    40.16,2,     0.00,2,     2.87,2,   -999.0,9,   -999.0,9,-999.0000,9,  -999.00,     2214
  49UF20110205,  P13N,  2972,  1,      3,  21962,2,20110214,2201, 12.9847, 164.9878, 4962,   1614.8,   2.5757,  34.6064,2,  34.6061,2,     93.4,2,   135.71,2,    39.54,2,     0.00,2,     2.82,2,   -999.0,9,   -999.0,9,-999.0000,9,  -999.00,     2210
  49UF20110205,  P13N,  2972,  1,      2,  21961,2,20110214,2201, 12.9847, 164.9878, 4962,   1816.1,   2.2866,  34.6217,2,  34.6224,2,    100.7,2,   141.25,2,    39.07,2,     0.00,2,     2.79,2,   -999.0,9,   -999.0,9,-999.0000,9,  -999.00,     2205
  49UF20110205,  P13N,  2972,  1,      1,  21960,2,20110214,2201, 12.9847, 164.9878, 4962,   2020.7,   2.0507,  34.6386,2,  34.6394,2,    108.9,2,   145.33,2,    38.75,2,     0.00,2,     2.74,2,   -999.0,9,   -999.0,9,-999.0000,9,  -999.00,     2201
  49UF20110205,  P13N,  2973,  1,     99,     99,2,20110215,0530, 11.9778, 164.4765, 4674,      0.0,  27.7366,  34.6711,2,-999.0000,9,    199.7,2,     0.93,2,     0.03,2,     0.00,2,     0.12,2,   -999.0,9,   -999.0,9,-999.0000,9,  -999.00,      610
  49UF20110205,  P13N,  2973,  1,     33,  21993,2,20110215,0530, 11.9778, 164.4765, 4674,     10.7,  27.7387,  34.6722,2,-999.0000,9,    200.1,2,     0.93,2,     0.01,2,     0.00,2,     0.11,2,   -999.0,9,   -999.0,9,-999.0000,9,  -999.00,      632
  49UF20110205,  P13N,  2973,  1,     32,  21992,2,20110215,0530, 11.9778, 164.4765, 4674,     26.3,  27.7077,  34.6943,2,-999.0000,9,    200.0,2,     0.92,2,     0.03,2,     0.00,2,     0.11,2,   -999.0,9,   -999.0,9,-999.0000,9,  -999.00,      630
  49UF20110205,  P13N,  2973,  1,     31,  21991,2,20110215,0530, 11.9778, 164.4765, 4674,     50.5,  27.6770,  34.7041,2,-999.0000,9,    199.8,2,     0.95,2,     0.01,2,     0.00,2,     0.11,2,   -999.0,9,   -999.0,9,-999.0000,9,  -999.00,      626
  49UF20110205,  P13N,  2973,  1,     30,  21990,2,20110215,0530, 11.9778, 164.4765, 4674,     75.2,  27.5659,  34.8886,2,-999.0000,9,    201.5,2,     0.93,2,     0.01,2,     0.00,2,     0.09,2,   -999.0,9,   -999.0,9,-999.0000,9,  -999.00,      624
  49UF20110205,  P13N,  2973,  1,     29,  21989,2,20110215,0530, 11.9778, 164.4765, 4674,     99.1,  26.7043,  35.1293,2,-999.0000,9,    206.0,6,     0.99,6,     0.02,6,     0.00,6,     0.08,6,   -999.0,9,   -999.0,9,-999.0000,9,  -999.00,      623
  49UF20110205,  P13N,  2973,  1,     28,  21988,2,20110215,0530, 11.9778, 164.4765, 4674,    125.6,  24.4839,  35.2386,2,-999.0000,9,    202.8,2,     1.14,2,     0.03,2,     0.00,2,     0.09,2,   -999.0,9,   -999.0,9,-999.0000,9,  -999.00,      622
  49UF20110205,  P13N,  2973,  1,     24,  21984,2,20110215,0530, 11.9778, 164.4765, 4674,    150.8,  22.2837,  35.2393,2,-999.0000,9,    190.5,2,     1.62,2,     1.08,2,     0.03,2,     0.18,2,   -999.0,9,   -999.0,9,-999.0000,9,  -999.00,      621
  49UF20110205,  P13N,  2973,  1,     23,  21983,2,20110215,0530, 11.9778, 164.4765, 4674,    203.1,  16.9215,  34.6880,2,-999.0000,9,    174.2,2,     5.47,2,     6.94,2,     0.01,2,     0.57,2,   -999.0,9,   -999.0,9,-999.0000,9,  -999.00,      619
  49UF20110205,  P13N,  2973,  1,     22,  21982,2,20110215,0530, 11.9778, 164.4765, 4674,    253.7,  12.2405,  34.3096,2,-999.0000,9,    143.9,2,    17.00,2,    17.29,2,     0.01,2,     1.32,2,   -999.0,9,   -999.0,9,-999.0000,9,  -999.00,      617
  49UF20110205,  P13N,  2973,  1,     21,  21981,2,20110215,0530, 11.9778, 164.4765, 4674,    303.1,   9.6939,  34.2902,2,-999.0000,9,     99.5,2,    31.31,2,    26.12,2,     0.01,2,     1.98,2,   -999.0,9,   -999.0,9,-999.0000,9,  -999.00,      615
  49UF20110205,  P13N,  2973,  1,     20,  21980,2,20110215,0530, 11.9778, 164.4765, 4674,    403.4,   8.1031,  34.4296,2,-999.0000,9,     52.6,2,    47.26,2,    34.62,2,     0.01,2,     2.53,2,   -999.0,9,   -999.0,9,-999.0000,9,  -999.00,      612
  49UF20110205,  P13N,  2973,  1,     19,  21978,2,20110215,0530, 11.9778, 164.4765, 4674,    403.4,   8.1031,  34.4296,2,-999.0000,9,     52.8,2,    47.17,2,    34.49,2,     0.01,2,     2.52,2,   -999.0,9,   -999.0,9,-999.0000,9,  -999.00,      612
  49UF20110205,  P13N,  2973,  1,     15,  21974,2,20110215,0530, 11.9778, 164.4765, 4674,    503.7,   7.2000,  34.4988,2,-999.0000,9,     53.5,2,    55.22,2,    36.87,2,     0.00,2,     2.65,2,   -999.0,9,   -999.0,9,-999.0000,9,  -999.00,      609
  49UF20110205,  P13N,  2973,  1,     14,  21973,2,20110215,0530, 11.9778, 164.4765, 4674,    609.1,   6.3797,  34.5054,2,-999.0000,9,     55.7,2,    64.79,2,    38.19,2,     0.00,2,     2.77,2,   -999.0,9,   -999.0,9,-999.0000,9,  -999.00,      605
  49UF20110205,  P13N,  2973,  1,     13,  21972,2,20110215,0530, 11.9778, 164.4765, 4674,    707.3,   5.7386,  34.5152,2,-999.0000,9,     53.0,2,    74.23,2,    39.86,2,     0.01,2,     2.86,2,   -999.0,9,   -999.0,9,-999.0000,9,  -999.00,      602
  49UF20110205,  P13N,  2973,  1,     12,  21971,2,20110215,0530, 11.9778, 164.4765, 4674,    808.6,   5.2283,  34.5284,2,-999.0000,9,     55.4,2,    82.12,2,    40.42,2,     0.01,2,     2.91,2,   -999.0,9,   -999.0,9,-999.0000,9,  -999.00,      559
  49UF20110205,  P13N,  2973,  1,     11,  21970,2,20110215,0530, 11.9778, 164.4765, 4674,    907.5,   4.6751,  34.5360,2,-999.0000,9,     58.6,6,    92.68,6,    40.94,6,     0.00,6,     2.94,6,   -999.0,9,   -999.0,9,-999.0000,9,  -999.00,      556
  49UF20110205,  P13N,  2973,  1,     10,  21969,2,20110215,0530, 11.9778, 164.4765, 4674,   1010.4,   4.2730,  34.5466,2,-999.0000,9,     63.8,2,   100.39,2,    40.94,2,     0.00,2,     2.94,2,   -999.0,9,   -999.0,9,-999.0000,9,  -999.00,      554
  49UF20110205,  P13N,  2973,  1,      6,  21965,2,20110215,0530, 11.9778, 164.4765, 4674,   1212.4,   3.6328,  34.5672,2,-999.0000,9,     73.6,2,   113.53,2,    40.64,2,     0.01,2,     2.91,2,   -999.0,9,   -999.0,9,-999.0000,9,  -999.00,      549
  49UF20110205,  P13N,  2973,  1,      5,  21964,2,20110215,0530, 11.9778, 164.4765, 4674,   1415.7,   3.0621,  34.5898,2,-999.0000,9,     84.6,2,   124.84,2,    40.13,2,     0.00,2,     2.86,2,   -999.0,9,   -999.0,9,-999.0000,9,  -999.00,      544
  49UF20110205,  P13N,  2973,  1,      4,  21963,2,20110215,0530, 11.9778, 164.4765, 4674,   1614.9,   2.6058,  34.6093,2,-999.0000,9,     93.9,2,   134.78,2,    39.80,2,     0.01,2,     2.83,2,   -999.0,9,   -999.0,9,-999.0000,9,  -999.00,      539
  49UF20110205,  P13N,  2973,  1,      3,  21962,2,20110215,0530, 11.9778, 164.4765, 4674,   1820.0,   2.2703,  34.6274,2,-999.0000,9,    102.5,2,   141.25,2,    39.37,2,     0.00,2,     2.77,2,   -999.0,9,   -999.0,9,-999.0000,9,  -999.00,      535
  49UF20110205,  P13N,  2973,  1,      2,  21961,2,20110215,0530, 11.9778, 164.4765, 4674,   2021.2,   2.0942,  34.6392,2,-999.0000,9,    108.6,2,   143.76,2,    38.99,2,     0.00,2,     2.74,2,   -999.0,9,   -999.0,9,-999.0000,9,  -999.00,      531
  49UF20110205,  P13N,  2973,  1,      1,  21960,2,20110215,0530, 11.9778, 164.4765, 4674,   2021.2,   2.0942,  34.6392,2,-999.0000,9,    108.8,2,   144.33,2,    39.06,2,     0.00,2,     2.74,2,   -999.0,9,   -999.0,9,-999.0000,9,  -999.00,      530