BOTTLE,20191015PRINUNIVRMK
EXPOCODE,SECT_ID,STNNBR,CASTNO,SAMPNO,BTLNBR,BTLNBR_FLAG_W,DATE,TIME,LATITUDE,LONGITUDE,DEPTH,CTDPRS,CTDTMP,CTDSAL,CTDSAL_FLAG_W,SALNTY,SALNTY_FLAG_W,OXYGEN,OXYGEN_FLAG_W,SILCAT,SILCAT_FLAG_W,NITRAT,NITRAT_FLAG_W,NITRIT,NITRIT_FLAG_W,PHSPHT,PHSPHT_FLAG_W,TCARBN,TCARBN_FLAG_W,ALKALI,ALKALI_FLAG_W,PH_TOT,PH_TOT_FLAG_W,PH_TMP,BTL_TIME
,,,,,,,,,,,METERS,DBAR,ITS-90,PSS-78,,PSS-78,,UMOL/KG,,UMOL/KG,,UMOL/KG,,UMOL/KG,,UMOL/KG,,UMOL/KG,,UMOL/KG,,,,DEG C,
  49UF20110205,  P13N,  2962,  1,     99,     99,2,20110211,1315, 22.9837, 165.0015, 5087,      0.0,  23.4244,  35.2978,2,-999.0000,9,    212.3,2,     1.25,2,     0.15,2,     0.00,2,     0.02,2,   -999.0,9,   -999.0,9,-999.0000,9,  -999.00,     1356
  49UF20110205,  P13N,  2962,  1,     33,  21993,2,20110211,1315, 22.9837, 165.0015, 5087,     10.8,  23.4249,  35.2987,2,  35.2976,2,    212.6,2,     1.23,2,     0.13,2,     0.00,2,     0.01,2,   -999.0,9,   -999.0,9,-999.0000,9,  -999.00,     1415
  49UF20110205,  P13N,  2962,  1,     32,  21992,2,20110211,1315, 22.9837, 165.0015, 5087,     26.4,  23.4352,  35.3018,2,-999.0000,9,    212.2,2,     1.23,2,     0.11,2,     0.00,2,     0.01,2,   -999.0,9,   -999.0,9,-999.0000,9,  -999.00,     1413
  49UF20110205,  P13N,  2962,  1,     31,  21991,2,20110211,1315, 22.9837, 165.0015, 5087,     50.2,  23.4394,  35.3027,2,-999.0000,9,    212.4,2,     1.28,2,     0.14,2,     0.00,2,     0.02,2,   -999.0,9,   -999.0,9,-999.0000,9,  -999.00,     1409
  49UF20110205,  P13N,  2962,  1,     30,  21990,2,20110211,1315, 22.9837, 165.0015, 5087,     50.2,  23.4394,  35.3027,2,-999.0000,9,    212.3,2,     1.23,2,     0.14,2,     0.00,2,     0.01,2,   -999.0,9,   -999.0,9,-999.0000,9,  -999.00,     1409
  49UF20110205,  P13N,  2962,  1,     29,  21989,2,20110211,1315, 22.9837, 165.0015, 5087,     74.6,  22.3092,  35.1345,2,-999.0000,9,    214.9,2,     1.57,2,     0.13,2,     0.00,2,     0.01,2,   -999.0,9,   -999.0,9,-999.0000,9,  -999.00,     1407
  49UF20110205,  P13N,  2962,  1,     28,  21988,4,20110211,1315, 22.9837, 165.0015, 5087,    101.4,  20.3816,  34.9520,2,-999.0000,9,   -999.0,9,  -999.00,9,  -999.00,9,  -999.00,9,  -999.00,9,   -999.0,9,   -999.0,9,-999.0000,9,  -999.00,     1406
  49UF20110205,  P13N,  2962,  1,     24,  21984,2,20110211,1315, 22.9837, 165.0015, 5087,    126.4,  19.1557,  34.8411,2,-999.0000,9,    204.1,2,     2.46,2,     1.32,2,     0.06,2,     0.13,2,   -999.0,9,   -999.0,9,-999.0000,9,  -999.00,     1405
  49UF20110205,  P13N,  2962,  1,     23,  21983,2,20110211,1315, 22.9837, 165.0015, 5087,    151.6,  18.2887,  34.7385,2,-999.0000,9,    206.8,2,     2.88,2,     2.26,2,     0.02,2,     0.18,2,   -999.0,9,   -999.0,9,-999.0000,9,  -999.00,     1403
  49UF20110205,  P13N,  2962,  1,     22,  21982,2,20110211,1315, 22.9837, 165.0015, 5087,    202.2,  17.2789,  34.6802,2,  34.6825,6,    206.5,6,     4.02,6,     4.50,6,     0.01,6,     0.32,6,   -999.0,9,   -999.0,9,-999.0000,9,  -999.00,     1402
  49UF20110205,  P13N,  2962,  1,     21,  21981,2,20110211,1315, 22.9837, 165.0015, 5087,    252.9,  16.3488,  34.6296,2,-999.0000,9,    201.3,2,     5.74,2,     6.47,2,     0.00,2,     0.44,2,   -999.0,9,   -999.0,9,-999.0000,9,  -999.00,     1400
  49UF20110205,  P13N,  2962,  1,     20,  21980,3,20110211,1315, 22.9837, 165.0015, 5087,    302.1,  15.0527,  34.5459,2,-999.0000,9,    200.3,2,     8.14,2,     8.38,2,     0.00,2,     0.58,2,   -999.0,9,   -999.0,9,-999.0000,9,  -999.00,     1358
  49UF20110205,  P13N,  2962,  1,     19,  21978,2,20110211,1315, 22.9837, 165.0015, 5087,    404.5,  11.8321,  34.3204,2,  34.3305,4,    199.2,2,    15.43,2,    13.49,2,     0.00,2,     0.96,2,   -999.0,9,   -999.0,9,-999.0000,9,  -999.00,     1355
  49UF20110205,  P13N,  2962,  1,     15,  21974,2,20110211,1315, 22.9837, 165.0015, 5087,    504.8,   9.6461,  34.1715,2,-999.0000,9,    171.4,2,    26.66,2,    20.00,2,     0.00,2,     1.43,2,   -999.0,9,   -999.0,9,-999.0000,9,  -999.00,     1352
  49UF20110205,  P13N,  2962,  1,     14,  21973,2,20110211,1315, 22.9837, 165.0015, 5087,    604.2,   7.0373,  34.0719,2,  34.0733,2,    128.3,2,    50.42,2,    28.95,2,     0.00,2,     2.10,2,   -999.0,9,   -999.0,9,-999.0000,9,  -999.00,     1349
  49UF20110205,  P13N,  2962,  1,     13,  21972,3,20110211,1315, 22.9837, 165.0015, 5087,    703.9,   5.5033,  34.1422,2,-999.0000,9,     72.5,2,    75.82,2,    36.58,2,     0.00,2,     2.66,2,   -999.0,9,   -999.0,9,-999.0000,9,  -999.00,     1347
  49UF20110205,  P13N,  2962,  1,     12,  21971,2,20110211,1315, 22.9837, 165.0015, 5087,    703.9,   5.5033,  34.1422,2,-999.0000,9,     72.2,2,    76.27,2,    36.61,2,     0.00,2,     2.66,2,   -999.0,9,   -999.0,9,-999.0000,9,  -999.00,     1346
  49UF20110205,  P13N,  2962,  1,     11,  21970,2,20110211,1315, 22.9837, 165.0015, 5087,    808.8,   4.6409,  34.2607,2,  34.2591,2,     49.9,2,    95.50,2,    39.92,2,     0.00,2,     2.90,2,   -999.0,9,   -999.0,9,-999.0000,9,  -999.00,     1344
  49UF20110205,  P13N,  2962,  1,     10,  21969,2,20110211,1315, 22.9837, 165.0015, 5087,    907.1,   4.1385,  34.3633,2,-999.0000,9,     47.4,2,   107.40,2,    41.10,2,     0.00,2,     2.96,2,   -999.0,9,   -999.0,9,-999.0000,9,  -999.00,     1341
  49UF20110205,  P13N,  2962,  1,      6,  21965,2,20110211,1315, 22.9837, 165.0015, 5087,   1008.8,   3.8076,  34.4307,2,  34.4296,2,     52.0,2,   114.93,2,    41.09,2,     0.00,2,     2.95,2,   -999.0,9,   -999.0,9,-999.0000,9,  -999.00,     1338
  49UF20110205,  P13N,  2962,  1,      5,  21964,2,20110211,1315, 22.9837, 165.0015, 5087,   1212.7,   3.2752,  34.4986,2,  34.4991,2,     64.1,2,   125.54,2,    40.89,2,     0.00,2,     2.92,2,   -999.0,9,   -999.0,9,-999.0000,9,  -999.00,     1334
  49UF20110205,  P13N,  2962,  1,      4,  21963,2,20110211,1315, 22.9837, 165.0015, 5087,   1413.8,   2.7905,  34.5465,2,  34.5467,6,     75.9,6,   134.43,6,    40.51,6,     0.00,6,     2.88,6,   -999.0,9,   -999.0,9,-999.0000,9,  -999.00,     1329
  49UF20110205,  P13N,  2962,  1,      3,  21962,2,20110211,1315, 22.9837, 165.0015, 5087,   1618.1,   2.4167,  34.5790,2,  34.5788,2,     87.1,2,   140.93,2,    39.83,2,     0.00,2,     2.83,2,   -999.0,9,   -999.0,9,-999.0000,9,  -999.00,     1325
  49UF20110205,  P13N,  2962,  1,      2,  21961,2,20110211,1315, 22.9837, 165.0015, 5087,   1818.5,   2.2223,  34.6018,2,  34.6023,2,     95.5,2,   143.65,2,    39.36,2,     0.00,2,     2.80,2,   -999.0,9,   -999.0,9,-999.0000,9,  -999.00,     1320
  49UF20110205,  P13N,  2962,  1,      1,  21960,2,20110211,1315, 22.9837, 165.0015, 5087,   2024.3,   2.0124,  34.6177,2,  34.6182,2,    102.3,2,   147.24,2,    39.04,2,     0.00,2,     2.76,2,   -999.0,9,   -999.0,9,-999.0000,9,  -999.00,     1315
  49UF20110205,  P13N,  2963,  1,     99,     99,2,20110211,1948, 21.9998, 164.9825, 5353,      0.0,  24.8230,  35.3759,2,-999.0000,9,    208.3,2,     0.95,2,     0.10,2,     0.00,2,     0.02,2,   -999.0,9,   -999.0,9,-999.0000,9,  -999.00,     2026
  49UF20110205,  P13N,  2963,  1,     33,  21993,2,20110211,1948, 21.9998, 164.9825, 5353,     11.5,  24.8324,  35.3756,2,-999.0000,9,    206.6,2,     0.91,2,     0.13,2,     0.00,2,     0.01,2,   -999.0,9,   -999.0,9,-999.0000,9,  -999.00,     2048
  49UF20110205,  P13N,  2963,  1,     32,  21992,2,20110211,1948, 21.9998, 164.9825, 5353,     27.0,  24.8308,  35.3759,2,-999.0000,9,    206.6,2,     0.97,2,     0.04,2,     0.01,2,     0.01,2,   -999.0,9,   -999.0,9,-999.0000,9,  -999.00,     2046
  49UF20110205,  P13N,  2963,  1,     31,  21991,2,20110211,1948, 21.9998, 164.9825, 5353,     27.0,  24.8308,  35.3759,2,-999.0000,9,    206.6,2,     0.87,2,     0.18,2,     0.00,2,     0.02,2,   -999.0,9,   -999.0,9,-999.0000,9,  -999.00,     2046
  49UF20110205,  P13N,  2963,  1,     30,  21990,2,20110211,1948, 21.9998, 164.9825, 5353,     51.1,  24.8066,  35.3792,2,-999.0000,9,    206.7,2,     0.94,2,     0.10,2,     0.00,2,     0.01,2,   -999.0,9,   -999.0,9,-999.0000,9,  -999.00,     2040
  49UF20110205,  P13N,  2963,  1,     29,  21989,2,20110211,1948, 21.9998, 164.9825, 5353,     76.4,  24.7462,  35.3793,2,-999.0000,9,    206.7,2,     0.97,2,     0.14,2,     0.00,2,     0.02,2,   -999.0,9,   -999.0,9,-999.0000,9,  -999.00,     2039
  49UF20110205,  P13N,  2963,  1,     28,  21988,2,20110211,1948, 21.9998, 164.9825, 5353,    101.3,  24.6982,  35.3805,2,-999.0000,9,    206.6,2,     0.98,2,     0.08,2,     0.00,2,     0.01,2,   -999.0,9,   -999.0,9,-999.0000,9,  -999.00,     2038
  49UF20110205,  P13N,  2963,  1,     24,  21984,2,20110211,1948, 21.9998, 164.9825, 5353,    126.2,  24.6888,  35.3771,2,-999.0000,9,    204.3,2,     1.00,2,     0.16,2,     0.01,2,     0.02,2,   -999.0,9,   -999.0,9,-999.0000,9,  -999.00,     2037
  49UF20110205,  P13N,  2963,  1,     23,  21983,2,20110211,1948, 21.9998, 164.9825, 5353,    150.9,  22.3054,  35.1458,2,-999.0000,9,    203.7,6,     1.59,6,     0.29,6,     0.11,6,     0.06,6,   -999.0,9,   -999.0,9,-999.0000,9,  -999.00,     2035
  49UF20110205,  P13N,  2963,  1,     22,  21982,2,20110211,1948, 21.9998, 164.9825, 5353,    201.1,  18.0822,  34.7109,2,-999.0000,9,    206.0,3,     2.87,2,     2.30,2,     0.02,2,     0.18,2,   -999.0,9,   -999.0,9,-999.0000,9,  -999.00,     2034
  49UF20110205,  P13N,  2963,  1,     21,  21981,2,20110211,1948, 21.9998, 164.9825, 5353,    252.9,  17.0677,  34.6622,2,-999.0000,9,    206.2,2,     4.24,2,     4.69,2,     0.01,2,     0.32,2,   -999.0,9,   -999.0,9,-999.0000,9,  -999.00,     2032
  49UF20110205,  P13N,  2963,  1,     20,  21980,2,20110211,1948, 21.9998, 164.9825, 5353,    304.9,  15.5702,  34.5773,2,-999.0000,9,    199.1,2,     7.39,2,     7.63,2,     0.01,2,     0.52,2,   -999.0,9,   -999.0,9,-999.0000,9,  -999.00,     2030
  49UF20110205,  P13N,  2963,  1,     19,  21978,2,20110211,1948, 21.9998, 164.9825, 5353,    403.7,  12.1196,  34.3277,2,-999.0000,9,    203.6,3,    14.54,2,    13.26,2,     0.00,2,     0.94,2,   -999.0,9,   -999.0,9,-999.0000,9,  -999.00,     2028
  49UF20110205,  P13N,  2963,  1,     15,  21974,2,20110211,1948, 21.9998, 164.9825, 5353,    507.9,   8.8682,  34.1331,2,-999.0000,9,    160.1,2,    32.35,2,    22.32,2,     0.00,2,     1.61,2,   -999.0,9,   -999.0,9,-999.0000,9,  -999.00,     2025
  49UF20110205,  P13N,  2963,  1,     14,  21973,2,20110211,1948, 21.9998, 164.9825, 5353,    606.0,   6.7457,  34.1000,2,-999.0000,9,    104.1,2,    56.69,2,    31.63,2,     0.01,2,     2.29,2,   -999.0,9,   -999.0,9,-999.0000,9,  -999.00,     2022
  49UF20110205,  P13N,  2963,  1,     13,  21972,3,20110211,1948, 21.9998, 164.9825, 5353,    606.0,   6.7457,  34.1000,2,-999.0000,9,    104.7,2,    56.59,2,    31.67,2,     0.00,2,     2.28,2,   -999.0,9,   -999.0,9,-999.0000,9,  -999.00,     2022
  49UF20110205,  P13N,  2963,  1,     12,  21971,2,20110211,1948, 21.9998, 164.9825, 5353,    705.5,   5.4911,  34.2003,2,-999.0000,9,     57.0,2,    79.32,2,    38.14,2,     0.01,2,     2.77,2,   -999.0,9,   -999.0,9,-999.0000,9,  -999.00,     2019
  49UF20110205,  P13N,  2963,  1,     11,  21970,2,20110211,1948, 21.9998, 164.9825, 5353,    805.8,   4.7724,  34.2990,2,-999.0000,9,     44.4,2,    94.39,2,    40.45,2,     0.01,2,     2.93,2,   -999.0,9,   -999.0,9,-999.0000,9,  -999.00,     2016
  49UF20110205,  P13N,  2963,  1,     10,  21969,2,20110211,1948, 21.9998, 164.9825, 5353,    908.2,   4.2989,  34.3762,2,-999.0000,9,     45.7,2,   104.73,2,    41.19,2,     0.01,2,     2.96,2,   -999.0,9,   -999.0,9,-999.0000,9,  -999.00,     2014
  49UF20110205,  P13N,  2963,  1,      6,  21965,2,20110211,1948, 21.9998, 164.9825, 5353,   1008.5,   3.9649,  34.4304,2,-999.0000,9,     51.3,2,   111.98,2,    40.94,2,     0.00,2,     2.95,2,   -999.0,9,   -999.0,9,-999.0000,9,  -999.00,     2011
  49UF20110205,  P13N,  2963,  1,      5,  21964,2,20110211,1948, 21.9998, 164.9825, 5353,   1211.5,   3.3497,  34.5164,2,-999.0000,9,     67.5,6,   123.86,6,    40.44,6,     0.00,6,     2.90,6,   -999.0,9,   -999.0,9,-999.0000,9,  -999.00,     2006
  49UF20110205,  P13N,  2963,  1,      4,  21963,2,20110211,1948, 21.9998, 164.9825, 5353,   1414.0,   2.8949,  34.5521,2,-999.0000,9,     77.5,2,   132.51,2,    40.10,2,     0.00,2,     2.86,2,   -999.0,9,   -999.0,9,-999.0000,9,  -999.00,     2002
  49UF20110205,  P13N,  2963,  1,      3,  21962,2,20110211,1948, 21.9998, 164.9825, 5353,   1615.6,   2.5344,  34.5777,2,-999.0000,9,     85.0,2,   139.91,2,    39.91,2,     0.01,2,     2.83,2,   -999.0,9,   -999.0,9,-999.0000,9,  -999.00,     1957
  49UF20110205,  P13N,  2963,  1,      2,  21961,2,20110211,1948, 21.9998, 164.9825, 5353,   1822.0,   2.2353,  34.6020,2,-999.0000,9,     94.6,2,   144.93,2,    39.52,2,     0.00,2,     2.81,2,   -999.0,9,   -999.0,9,-999.0000,9,  -999.00,     1952
  49UF20110205,  P13N,  2963,  1,      1,  21960,2,20110211,1948, 21.9998, 164.9825, 5353,   2021.3,   2.0199,  34.6196,2,-999.0000,9,    102.8,2,   148.57,2,    39.10,2,     0.01,2,     2.75,2,   -999.0,9,   -999.0,9,-999.0000,9,  -999.00,     1948
  49UF20110205,  P13N,  2964,  1,     99,     99,2,20110212,0225, 20.9788, 164.9858, 5159,      0.0,  25.2184,  35.4064,2,-999.0000,9,    207.1,2,     0.94,2,     0.07,2,     0.00,2,     0.02,2,   -999.0,9,   -999.0,9,-999.0000,9,  -999.00,      310
  49UF20110205,  P13N,  2964,  1,     33,  21993,2,20110212,0225, 20.9788, 164.9858, 5159,     11.3,  24.9534,  35.4030,2,-999.0000,9,    206.6,2,     0.93,2,    -0.01,2,     0.01,2,     0.01,2,   -999.0,9,   -999.0,9,-999.0000,9,  -999.00,      329
  49UF20110205,  P13N,  2964,  1,     32,  21992,2,20110212,0225, 20.9788, 164.9858, 5159,     11.3,  24.9534,  35.4030,2,-999.0000,9,    206.6,2,     0.90,2,     0.02,2,     0.01,2,     0.01,2,   -999.0,9,   -999.0,9,-999.0000,9,  -999.00,      329
  49UF20110205,  P13N,  2964,  1,     31,  21991,2,20110212,0225, 20.9788, 164.9858, 5159,     24.1,  24.9298,  35.4034,2,-999.0000,9,    207.1,2,     0.92,2,    -0.01,2,     0.01,2,     0.01,2,   -999.0,9,   -999.0,9,-999.0000,9,  -999.00,      327
  49UF20110205,  P13N,  2964,  1,     30,  21990,2,20110212,0225, 20.9788, 164.9858, 5159,     50.8,  24.9148,  35.4041,2,-999.0000,9,    206.9,2,     0.85,2,     0.00,2,     0.00,2,     0.01,2,   -999.0,9,   -999.0,9,-999.0000,9,  -999.00,      324
  49UF20110205,  P13N,  2964,  1,     29,  21989,2,20110212,0225, 20.9788, 164.9858, 5159,     75.0,  24.8815,  35.4095,2,-999.0000,9,    207.0,2,     0.96,2,     0.02,2,     0.01,2,     0.02,2,   -999.0,9,   -999.0,9,-999.0000,9,  -999.00,      322
  49UF20110205,  P13N,  2964,  1,     28,  21988,2,20110212,0225, 20.9788, 164.9858, 5159,    101.6,  24.7014,  35.4005,2,-999.0000,9,    206.9,2,     1.00,2,     0.01,2,     0.01,2,     0.01,2,   -999.0,9,   -999.0,9,-999.0000,9,  -999.00,      321
  49UF20110205,  P13N,  2964,  1,     24,  21984,2,20110212,0225, 20.9788, 164.9858, 5159,    125.2,  24.1139,  35.3478,2,-999.0000,9,    207.1,6,     1.14,6,     0.02,6,     0.01,6,     0.02,6,   -999.0,9,   -999.0,9,-999.0000,9,  -999.00,      320
  49UF20110205,  P13N,  2964,  1,     23,  21983,2,20110212,0225, 20.9788, 164.9858, 5159,    152.7,  22.6193,  35.2205,2,-999.0000,9,    207.4,2,     1.47,2,     0.06,2,     0.06,2,     0.04,2,   -999.0,9,   -999.0,9,-999.0000,9,  -999.00,      319
  49UF20110205,  P13N,  2964,  1,     22,  21982,2,20110212,0225, 20.9788, 164.9858, 5159,    201.8,  18.4552,  34.8047,2,-999.0000,9,    198.1,2,     3.01,2,     2.77,2,     0.02,2,     0.22,2,   -999.0,9,   -999.0,9,-999.0000,9,  -999.00,      317
  49UF20110205,  P13N,  2964,  1,     21,  21981,2,20110212,0225, 20.9788, 164.9858, 5159,    253.4,  16.4756,  34.6465,2,-999.0000,9,    197.5,2,     5.32,2,     6.12,2,     0.01,2,     0.43,2,   -999.0,9,   -999.0,9,-999.0000,9,  -999.00,      315
  49UF20110205,  P13N,  2964,  1,     20,  21980,2,20110212,0225, 20.9788, 164.9858, 5159,    302.9,  14.9758,  34.5432,2,-999.0000,9,    198.9,2,     8.05,2,     8.44,2,     0.01,2,     0.59,2,   -999.0,9,   -999.0,9,-999.0000,9,  -999.00,      313
  49UF20110205,  P13N,  2964,  1,     19,  21978,2,20110212,0225, 20.9788, 164.9858, 5159,    404.8,  11.6290,  34.2917,2,-999.0000,9,    193.3,2,    16.49,2,    14.35,2,     0.00,2,     1.02,2,   -999.0,9,   -999.0,9,-999.0000,9,  -999.00,      310
  49UF20110205,  P13N,  2964,  1,     15,  21974,2,20110212,0225, 20.9788, 164.9858, 5159,    504.8,   8.6504,  34.1234,2,-999.0000,9,    159.3,2,    34.56,2,    23.08,2,     0.00,2,     1.65,2,   -999.0,9,   -999.0,9,-999.0000,9,  -999.00,      307
  49UF20110205,  P13N,  2964,  1,     14,  21973,2,20110212,0225, 20.9788, 164.9858, 5159,    504.8,   8.6504,  34.1234,2,-999.0000,9,    159.2,2,    34.52,2,    23.04,2,     0.00,2,     1.65,2,   -999.0,9,   -999.0,9,-999.0000,9,  -999.00,      307
  49UF20110205,  P13N,  2964,  1,     13,  21972,2,20110212,0225, 20.9788, 164.9858, 5159,    608.2,   6.8046,  34.1175,2,-999.0000,9,    100.4,2,    56.21,2,    31.75,2,     0.00,2,     2.29,2,   -999.0,9,   -999.0,9,-999.0000,9,  -999.00,      303
  49UF20110205,  P13N,  2964,  1,     12,  21971,2,20110212,0225, 20.9788, 164.9858, 5159,    707.8,   5.5321,  34.2105,2,-999.0000,9,     57.1,2,    78.66,2,    37.95,2,     0.00,2,     2.76,2,   -999.0,9,   -999.0,9,-999.0000,9,  -999.00,      300
  49UF20110205,  P13N,  2964,  1,     11,  21970,2,20110212,0225, 20.9788, 164.9858, 5159,    806.7,   4.8360,  34.2923,2,-999.0000,9,     44.9,2,    93.01,2,    40.26,2,     0.00,2,     2.91,2,   -999.0,9,   -999.0,9,-999.0000,9,  -999.00,      257
  49UF20110205,  P13N,  2964,  1,     10,  21969,2,20110212,0225, 20.9788, 164.9858, 5159,    908.9,   4.4575,  34.3796,2,-999.0000,9,     46.1,2,   101.35,2,    40.98,2,     0.00,2,     2.95,2,   -999.0,9,   -999.0,9,-999.0000,9,  -999.00,      254
  49UF20110205,  P13N,  2964,  1,      6,  21965,2,20110212,0225, 20.9788, 164.9858, 5159,   1011.6,   4.1701,  34.4491,2,-999.0000,9,     54.4,6,   106.83,6,    40.69,6,     0.00,6,     2.94,6,   -999.0,9,   -999.0,9,-999.0000,9,  -999.00,      251
  49UF20110205,  P13N,  2964,  1,      5,  21964,2,20110212,0225, 20.9788, 164.9858, 5159,   1211.6,   3.4893,  34.5192,2,-999.0000,9,     69.0,2,   120.04,2,    40.37,2,     0.00,2,     2.90,2,   -999.0,9,   -999.0,9,-999.0000,9,  -999.00,      246
  49UF20110205,  P13N,  2964,  1,      4,  21963,2,20110212,0225, 20.9788, 164.9858, 5159,   1411.5,   2.9821,  34.5549,2,-999.0000,9,     81.2,3,   130.15,2,    39.85,2,     0.00,2,     2.85,2,   -999.0,9,   -999.0,9,-999.0000,9,  -999.00,      241
  49UF20110205,  P13N,  2964,  1,      3,  21962,2,20110212,0225, 20.9788, 164.9858, 5159,   1613.7,   2.5582,  34.5798,2,-999.0000,9,     87.2,2,   138.47,2,    39.70,2,     0.00,2,     2.82,2,   -999.0,9,   -999.0,9,-999.0000,9,  -999.00,      237
  49UF20110205,  P13N,  2964,  1,      2,  21961,2,20110212,0225, 20.9788, 164.9858, 5159,   1818.7,   2.2384,  34.6042,2,-999.0000,9,     96.9,2,   144.35,2,    39.44,2,     0.01,2,     2.79,2,   -999.0,9,   -999.0,9,-999.0000,9,  -999.00,      232
  49UF20110205,  P13N,  2964,  1,      1,  21960,3,20110212,0225, 20.9788, 164.9858, 5159,   2020.3,   2.0263,  34.6228,2,-999.0000,9,    105.6,2,   147.67,2,    38.80,2,     0.00,2,     2.74,2,   -999.0,9,   -999.0,9,-999.0000,9,  -999.00,      225