BOTTLE,20191015PRINUNIVRMK
EXPOCODE,SECT_ID,STNNBR,CASTNO,SAMPNO,BTLNBR,BTLNBR_FLAG_W,DATE,TIME,LATITUDE,LONGITUDE,DEPTH,CTDPRS,CTDTMP,CTDSAL,CTDSAL_FLAG_W,SALNTY,SALNTY_FLAG_W,OXYGEN,OXYGEN_FLAG_W,SILCAT,SILCAT_FLAG_W,NITRAT,NITRAT_FLAG_W,NITRIT,NITRIT_FLAG_W,PHSPHT,PHSPHT_FLAG_W,TCARBN,TCARBN_FLAG_W,ALKALI,ALKALI_FLAG_W,PH_TOT,PH_TOT_FLAG_W,PH_TMP,BTL_TIME
,,,,,,,,,,,METERS,DBAR,ITS-90,PSS-78,,PSS-78,,UMOL/KG,,UMOL/KG,,UMOL/KG,,UMOL/KG,,UMOL/KG,,UMOL/KG,,UMOL/KG,,,,DEG C,
  49UF20110205,  P13N,  2983,  1,     99,     99,2,20110228,2109,  9.5015, 157.9542, 5261,      0.0,  28.4060,  34.3271,2,-999.0000,9,    199.9,2,     0.98,2,     0.05,2,     0.01,2,     0.13,2,   -999.0,9,   -999.0,9,-999.0000,9,  -999.00,     2150
  49UF20110205,  P13N,  2983,  1,     36,  21996,2,20110228,2109,  9.5015, 157.9542, 5261,      8.6,  28.4064,  34.3289,2,  34.3292,2,    197.3,2,     0.94,2,     0.02,2,     0.00,2,     0.12,2,   -999.0,9,   -999.0,9,-999.0000,9,  -999.00,     2216
  49UF20110205,  P13N,  2983,  1,     35,  21995,2,20110228,2109,  9.5015, 157.9542, 5261,     25.1,  28.4117,  34.3299,2,-999.0000,9,    197.2,2,     0.93,2,     0.02,2,     0.01,2,     0.13,2,   -999.0,9,   -999.0,9,-999.0000,9,  -999.00,     2214
  49UF20110205,  P13N,  2983,  1,     34,  21994,2,20110228,2109,  9.5015, 157.9542, 5261,     50.3,  28.3289,  34.3548,2,-999.0000,9,    198.8,2,     0.94,2,     0.00,2,     0.01,2,     0.13,2,   -999.0,9,   -999.0,9,-999.0000,9,  -999.00,     2212
  49UF20110205,  P13N,  2983,  1,     33,  21993,2,20110228,2109,  9.5015, 157.9542, 5261,     75.9,  27.1971,  34.8454,2,-999.0000,9,    206.2,2,     1.01,2,     0.00,2,     0.01,2,     0.15,2,   -999.0,9,   -999.0,9,-999.0000,9,  -999.00,     2210
  49UF20110205,  P13N,  2983,  1,     32,  21992,2,20110228,2109,  9.5015, 157.9542, 5261,    103.1,  24.6623,  35.1121,2,  35.0828,4,    205.1,6,     1.22,6,     0.04,6,     0.01,6,     0.19,6,   -999.0,9,   -999.0,9,-999.0000,9,  -999.00,     2204
  49UF20110205,  P13N,  2983,  1,     31,  21991,2,20110228,2109,  9.5015, 157.9542, 5261,    127.8,  22.0930,  35.1347,2,-999.0000,9,    187.4,2,     1.77,2,     0.79,2,     0.14,2,     0.28,2,   -999.0,9,   -999.0,9,-999.0000,9,  -999.00,     2203
  49UF20110205,  P13N,  2983,  1,     27,  21987,2,20110228,2109,  9.5015, 157.9542, 5261,    153.9,  18.6932,  34.8391,2,-999.0000,9,    169.3,2,     3.90,2,     5.06,2,     0.03,2,     0.53,2,   -999.0,9,   -999.0,9,-999.0000,9,  -999.00,     2201
  49UF20110205,  P13N,  2983,  1,     26,  21986,2,20110228,2109,  9.5015, 157.9542, 5261,    202.6,  13.7070,  34.4576,2,  34.4660,4,    137.4,2,    13.83,2,    15.67,2,     0.01,2,     1.25,2,   -999.0,9,   -999.0,9,-999.0000,9,  -999.00,     2159
  49UF20110205,  P13N,  2983,  1,     25,  21985,2,20110228,2109,  9.5015, 157.9542, 5261,    254.0,   9.8488,  34.4710,2,-999.0000,9,     70.0,2,    32.24,2,    29.57,2,     0.01,2,     2.21,2,   -999.0,9,   -999.0,9,-999.0000,9,  -999.00,     2156
  49UF20110205,  P13N,  2983,  1,     24,  21984,2,20110228,2109,  9.5015, 157.9542, 5261,    303.9,   8.9730,  34.5230,2,-999.0000,9,     63.6,2,    38.39,2,    32.47,2,     0.00,2,     2.38,2,   -999.0,9,   -999.0,9,-999.0000,9,  -999.00,     2154
  49UF20110205,  P13N,  2983,  1,     23,  21983,2,20110228,2109,  9.5015, 157.9542, 5261,    403.6,   8.1719,  34.5407,2,  34.5407,2,     68.4,2,    43.18,2,    33.97,2,     0.01,2,     2.47,2,   -999.0,9,   -999.0,9,-999.0000,9,  -999.00,     2150
  49UF20110205,  P13N,  2983,  1,     22,  21982,2,20110228,2109,  9.5015, 157.9542, 5261,    403.6,   8.1719,  34.5407,2,  34.5399,2,     68.1,2,    43.23,2,    33.88,2,     0.00,2,     2.48,2,   -999.0,9,   -999.0,9,-999.0000,9,  -999.00,     2150
  49UF20110205,  P13N,  2983,  1,     18,  21977,2,20110228,2109,  9.5015, 157.9542, 5261,    503.3,   7.4951,  34.5355,2,-999.0000,9,     70.3,2,    48.26,2,    35.08,2,     0.01,2,     2.55,2,   -999.0,9,   -999.0,9,-999.0000,9,  -999.00,     2147
  49UF20110205,  P13N,  2983,  1,     17,  21976,2,20110228,2109,  9.5015, 157.9542, 5261,    605.1,   6.7842,  34.5284,2,  34.5288,2,     70.1,2,    55.92,2,    36.47,2,     0.01,2,     2.65,2,   -999.0,9,   -999.0,9,-999.0000,9,  -999.00,     2144
  49UF20110205,  P13N,  2983,  1,     16,  21975,2,20110228,2109,  9.5015, 157.9542, 5261,    707.3,   6.1049,  34.5313,2,-999.0000,9,     64.3,2,    64.92,2,    38.32,2,     0.00,2,     2.79,2,   -999.0,9,   -999.0,9,-999.0000,9,  -999.00,     2140
  49UF20110205,  P13N,  2983,  1,     15,  21974,2,20110228,2109,  9.5015, 157.9542, 5261,    809.1,   5.5107,  34.5319,2,  34.5307,2,     68.7,2,    74.10,2,    38.83,2,     0.01,2,     2.83,2,   -999.0,9,   -999.0,9,-999.0000,9,  -999.00,     2137
  49UF20110205,  P13N,  2983,  1,     14,  21973,2,20110228,2109,  9.5015, 157.9542, 5261,    909.2,   4.9277,  34.5395,2,-999.0000,9,     71.4,6,    84.47,6,    39.35,6,     0.01,6,     2.86,6,   -999.0,9,   -999.0,9,-999.0000,9,  -999.00,     2134
  49UF20110205,  P13N,  2983,  1,     13,  21972,2,20110228,2109,  9.5015, 157.9542, 5261,   1013.4,   4.4301,  34.5491,2,  34.5488,2,     72.2,2,    94.03,2,    39.91,2,     0.01,2,     2.90,2,   -999.0,9,   -999.0,9,-999.0000,9,  -999.00,     2131
  49UF20110205,  P13N,  2983,  1,      9,  21968,2,20110228,2109,  9.5015, 157.9542, 5261,   1209.9,   3.6462,  34.5710,2,  34.5716,2,     79.6,2,   110.99,2,    39.94,2,     0.01,2,     2.90,2,   -999.0,9,   -999.0,9,-999.0000,9,  -999.00,     2126
  49UF20110205,  P13N,  2983,  1,      8,  21967,2,20110228,2109,  9.5015, 157.9542, 5261,   1413.9,   3.0357,  34.5952,2,  34.5957,2,     98.8,4,   122.24,2,    39.31,2,     0.00,2,     2.85,2,   -999.0,9,   -999.0,9,-999.0000,9,  -999.00,     2121
  49UF20110205,  P13N,  2983,  1,      7,  21966,2,20110228,2109,  9.5015, 157.9542, 5261,   1615.7,   2.6657,  34.6117,2,  34.6121,2,     98.8,2,   129.31,2,    39.28,2,     0.01,2,     2.85,2,   -999.0,9,   -999.0,9,-999.0000,9,  -999.00,     2117
  49UF20110205,  P13N,  2983,  1,      6,  21965,2,20110228,2109,  9.5015, 157.9542, 5261,   1817.6,   2.4135,  34.6236,2,  34.6252,2,    103.3,2,   135.27,2,    39.02,2,     0.00,2,     2.80,2,   -999.0,9,   -999.0,9,-999.0000,9,  -999.00,     2113
  49UF20110205,  P13N,  2983,  1,      5,  21964,2,20110228,2109,  9.5015, 157.9542, 5261,   2021.1,   2.2154,  34.6341,2,  34.6344,2,    106.6,2,   139.94,2,    39.04,2,     0.01,2,     2.80,2,   -999.0,9,   -999.0,9,-999.0000,9,  -999.00,     2109
  49UF20110205,  P13N,  2983,  1,      4,  21963,2,20110228,2109,  9.5015, 157.9542, 5261,   2021.1,   2.2154,  34.6341,2,  34.6336,2,    106.9,2,   140.12,2,    38.97,2,     0.01,2,     2.81,2,   -999.0,9,   -999.0,9,-999.0000,9,  -999.00,     2109
  49UF20110205,  P13N,  2984,  1,     99,     99,2,20110301,0335,  9.4960, 156.9863, 5154,      0.0,  28.5268,  34.2783,2,-999.0000,9,    197.1,2,     0.81,2,     0.07,2,     0.00,2,     0.14,2,   -999.0,9,   -999.0,9,-999.0000,9,  -999.00,      416
  49UF20110205,  P13N,  2984,  1,     36,  21996,2,20110301,0335,  9.4960, 156.9863, 5154,     11.7,  28.5413,  34.2763,2,-999.0000,9,    197.4,2,     0.77,2,     0.07,2,     0.00,2,     0.16,2,   -999.0,9,   -999.0,9,-999.0000,9,  -999.00,      432
  49UF20110205,  P13N,  2984,  1,     35,  21995,2,20110301,0335,  9.4960, 156.9863, 5154,     24.6,  28.4126,  34.2892,2,-999.0000,9,    233.0,4,     0.74,2,     0.01,2,     0.00,2,     0.11,2,   -999.0,9,   -999.0,9,-999.0000,9,  -999.00,      431
  49UF20110205,  P13N,  2984,  1,     34,  21994,2,20110301,0335,  9.4960, 156.9863, 5154,     50.8,  28.3453,  34.3426,2,-999.0000,9,    197.4,2,     0.81,2,     0.05,2,     0.00,2,     0.12,2,   -999.0,9,   -999.0,9,-999.0000,9,  -999.00,      426
  49UF20110205,  P13N,  2984,  1,     33,  21993,2,20110301,0335,  9.4960, 156.9863, 5154,     74.6,  28.2174,  34.3992,2,-999.0000,9,    198.2,2,     0.77,6,     0.06,6,     0.00,6,     0.13,2,   -999.0,9,   -999.0,9,-999.0000,9,  -999.00,      425
  49UF20110205,  P13N,  2984,  1,     32,  21992,2,20110301,0335,  9.4960, 156.9863, 5154,    100.7,  26.9957,  34.9593,2,-999.0000,9,    203.1,2,     0.73,2,     0.06,2,     0.00,2,     0.14,2,   -999.0,9,   -999.0,9,-999.0000,9,  -999.00,      424
  49UF20110205,  P13N,  2984,  1,     31,  21991,2,20110301,0335,  9.4960, 156.9863, 5154,    127.9,  23.8112,  35.2500,2,-999.0000,9,    193.1,2,     1.10,2,     0.13,2,     0.02,2,     0.16,2,   -999.0,9,   -999.0,9,-999.0000,9,  -999.00,      423
  49UF20110205,  P13N,  2984,  1,     27,  21987,2,20110301,0335,  9.4960, 156.9863, 5154,    151.6,  19.9270,  34.9240,2,-999.0000,9,    169.9,2,     3.62,2,     4.50,2,     0.05,2,     0.50,2,   -999.0,9,   -999.0,9,-999.0000,9,  -999.00,      422
  49UF20110205,  P13N,  2984,  1,     26,  21986,2,20110301,0335,  9.4960, 156.9863, 5154,    201.0,  14.4928,  34.5013,2,-999.0000,9,    132.5,2,    12.92,2,    15.33,2,     0.00,2,     1.25,2,   -999.0,9,   -999.0,9,-999.0000,9,  -999.00,      420
  49UF20110205,  P13N,  2984,  1,     25,  21985,2,20110301,0335,  9.4960, 156.9863, 5154,    252.0,  10.4896,  34.3963,2,-999.0000,9,     91.1,2,    28.59,2,    26.23,2,     0.00,2,     1.99,2,   -999.0,9,   -999.0,9,-999.0000,9,  -999.00,      418
  49UF20110205,  P13N,  2984,  1,     24,  21984,2,20110301,0335,  9.4960, 156.9863, 5154,    301.3,   9.0078,  34.4873,2,-999.0000,9,     67.4,2,    38.85,2,    31.96,2,     0.00,2,     2.35,2,   -999.0,9,   -999.0,9,-999.0000,9,  -999.00,      417
  49UF20110205,  P13N,  2984,  1,     23,  21983,2,20110301,0335,  9.4960, 156.9863, 5154,    301.3,   9.0078,  34.4873,2,-999.0000,9,     67.5,2,    38.92,2,    31.82,2,     0.00,2,     2.34,2,   -999.0,9,   -999.0,9,-999.0000,9,  -999.00,      417
  49UF20110205,  P13N,  2984,  1,     22,  21982,2,20110301,0335,  9.4960, 156.9863, 5154,    403.0,   8.1971,  34.5586,2,-999.0000,9,     65.6,2,    42.17,2,    34.15,2,     0.00,2,     2.47,2,   -999.0,9,   -999.0,9,-999.0000,9,  -999.00,      414
  49UF20110205,  P13N,  2984,  1,     18,  21977,2,20110301,0335,  9.4960, 156.9863, 5154,    504.5,   7.3662,  34.5301,2,-999.0000,9,     72.8,2,    49.45,2,    34.97,2,     0.00,2,     2.53,2,   -999.0,9,   -999.0,9,-999.0000,9,  -999.00,      411
  49UF20110205,  P13N,  2984,  1,     17,  21976,2,20110301,0335,  9.4960, 156.9863, 5154,    602.4,   6.8284,  34.5293,2,-999.0000,9,     69.4,2,    55.41,2,    36.22,2,     0.00,2,     2.64,2,   -999.0,9,   -999.0,9,-999.0000,9,  -999.00,      409
  49UF20110205,  P13N,  2984,  1,     16,  21975,2,20110301,0335,  9.4960, 156.9863, 5154,    705.3,   6.0825,  34.5283,2,-999.0000,9,     70.6,2,    65.06,2,    37.70,2,     0.00,2,     2.72,2,   -999.0,9,   -999.0,9,-999.0000,9,  -999.00,      406
  49UF20110205,  P13N,  2984,  1,     15,  21974,2,20110301,0335,  9.4960, 156.9863, 5154,    807.3,   5.5179,  34.5330,2,-999.0000,9,     70.8,6,    73.78,6,    38.39,6,     0.00,6,     2.78,6,   -999.0,9,   -999.0,9,-999.0000,9,  -999.00,      403
  49UF20110205,  P13N,  2984,  1,     14,  21973,2,20110301,0335,  9.4960, 156.9863, 5154,    907.1,   5.0038,  34.5413,2,-999.0000,9,     72.7,2,    82.11,2,    38.92,2,     0.00,2,     2.81,2,   -999.0,9,   -999.0,9,-999.0000,9,  -999.00,      401
  49UF20110205,  P13N,  2984,  1,     13,  21972,2,20110301,0335,  9.4960, 156.9863, 5154,   1008.8,   4.6134,  34.5477,2,-999.0000,9,     76.3,2,    89.43,2,    38.93,2,     0.00,2,     2.83,2,   -999.0,9,   -999.0,9,-999.0000,9,  -999.00,      358
  49UF20110205,  P13N,  2984,  1,      9,  21968,2,20110301,0335,  9.4960, 156.9863, 5154,   1211.6,   3.6141,  34.5733,2,-999.0000,9,     83.3,2,   109.89,2,    39.46,2,     0.00,2,     2.84,2,   -999.0,9,   -999.0,9,-999.0000,9,  -999.00,      354
  49UF20110205,  P13N,  2984,  1,      8,  21967,2,20110301,0335,  9.4960, 156.9863, 5154,   1413.4,   2.9719,  34.5960,2,-999.0000,9,     92.0,2,   123.57,2,    39.29,2,     0.00,2,     2.82,2,   -999.0,9,   -999.0,9,-999.0000,9,  -999.00,      349
  49UF20110205,  P13N,  2984,  1,      7,  21966,2,20110301,0335,  9.4960, 156.9863, 5154,   1614.0,   2.5767,  34.6146,2,-999.0000,9,     99.2,2,   131.19,2,    38.91,2,     0.00,2,     2.80,2,   -999.0,9,   -999.0,9,-999.0000,9,  -999.00,      345
  49UF20110205,  P13N,  2984,  1,      6,  21965,2,20110301,0335,  9.4960, 156.9863, 5154,   1817.5,   2.3101,  34.6283,2,-999.0000,9,    104.5,2,   136.92,2,    38.81,2,     0.00,2,     2.78,2,   -999.0,9,   -999.0,9,-999.0000,9,  -999.00,      340
  49UF20110205,  P13N,  2984,  1,      5,  21964,2,20110301,0335,  9.4960, 156.9863, 5154,   1817.5,   2.3101,  34.6283,2,-999.0000,9,    104.7,2,   137.16,2,    38.81,2,     0.00,2,     2.77,2,   -999.0,9,   -999.0,9,-999.0000,9,  -999.00,      340
  49UF20110205,  P13N,  2984,  1,      4,  21963,2,20110301,0335,  9.4960, 156.9863, 5154,   2021.9,   2.1360,  34.6379,2,-999.0000,9,    108.4,2,   140.90,2,    38.61,2,     0.00,2,     2.75,2,   -999.0,9,   -999.0,9,-999.0000,9,  -999.00,      335
  49UF20110205,  P13N,  2985,  1,     99,     99,2,20110301,1008,  9.5027, 155.9852, 5314,      0.0,  28.9119,  34.1524,2,-999.0000,9,    197.2,2,     0.74,2,     0.02,2,     0.00,2,     0.09,2,   -999.0,9,   -999.0,9,-999.0000,9,  -999.00,     1045
  49UF20110205,  P13N,  2985,  1,     36,  21996,2,20110301,1008,  9.5027, 155.9852, 5314,     10.8,  28.9302,  34.1527,2,-999.0000,9,    195.6,2,     0.74,2,     0.00,2,     0.00,2,     0.08,2,   -999.0,9,   -999.0,9,-999.0000,9,  -999.00,     1106
  49UF20110205,  P13N,  2985,  1,     35,  21995,2,20110301,1008,  9.5027, 155.9852, 5314,     26.4,  28.7428,  34.1882,2,-999.0000,9,    196.5,2,     0.75,2,     0.00,2,     0.00,2,     0.08,2,   -999.0,9,   -999.0,9,-999.0000,9,  -999.00,     1105
  49UF20110205,  P13N,  2985,  1,     34,  21994,2,20110301,1008,  9.5027, 155.9852, 5314,     52.5,  28.7864,  34.2457,2,-999.0000,9,    196.7,6,     0.78,6,     0.02,6,     0.00,6,     0.09,6,   -999.0,9,   -999.0,9,-999.0000,9,  -999.00,     1100
  49UF20110205,  P13N,  2985,  1,     33,  21993,2,20110301,1008,  9.5027, 155.9852, 5314,     76.7,  28.6595,  34.3619,2,-999.0000,9,    197.4,2,     0.77,2,     0.00,2,     0.00,2,     0.10,2,   -999.0,9,   -999.0,9,-999.0000,9,  -999.00,     1059
  49UF20110205,  P13N,  2985,  1,     32,  21992,2,20110301,1008,  9.5027, 155.9852, 5314,    101.2,  26.1694,  34.8825,2,-999.0000,9,    197.6,2,     1.10,2,     0.02,2,     0.00,2,     0.15,2,   -999.0,9,   -999.0,9,-999.0000,9,  -999.00,     1058
  49UF20110205,  P13N,  2985,  1,     31,  21991,2,20110301,1008,  9.5027, 155.9852, 5314,    127.1,  23.9716,  34.8962,2,-999.0000,9,    183.4,2,     2.03,2,     0.75,2,     0.13,2,     0.27,2,   -999.0,9,   -999.0,9,-999.0000,9,  -999.00,     1057
  49UF20110205,  P13N,  2985,  1,     27,  21987,2,20110301,1008,  9.5027, 155.9852, 5314,    151.6,  20.3268,  34.8340,2,-999.0000,9,    161.6,2,     4.54,2,     5.27,2,     0.19,2,     0.56,2,   -999.0,9,   -999.0,9,-999.0000,9,  -999.00,     1055
  49UF20110205,  P13N,  2985,  1,     26,  21986,2,20110301,1008,  9.5027, 155.9852, 5314,    202.8,  14.1358,  34.4805,2,-999.0000,9,    140.7,2,    13.15,2,    14.61,2,     0.00,2,     1.14,2,   -999.0,9,   -999.0,9,-999.0000,9,  -999.00,     1053
  49UF20110205,  P13N,  2985,  1,     25,  21985,2,20110301,1008,  9.5027, 155.9852, 5314,    255.6,  10.4144,  34.3130,2,-999.0000,9,    115.6,2,    27.47,2,    23.65,2,     0.00,2,     1.77,2,   -999.0,9,   -999.0,9,-999.0000,9,  -999.00,     1052
  49UF20110205,  P13N,  2985,  1,     24,  21984,2,20110301,1008,  9.5027, 155.9852, 5314,    255.6,  10.4144,  34.3130,2,-999.0000,9,    115.0,2,    27.21,2,    23.42,2,     0.00,2,     1.77,2,   -999.0,9,   -999.0,9,-999.0000,9,  -999.00,     1052
  49UF20110205,  P13N,  2985,  1,     23,  21983,2,20110301,1008,  9.5027, 155.9852, 5314,    302.8,   9.1979,  34.4264,2,-999.0000,9,     72.0,2,    37.78,2,    30.63,2,     0.00,2,     2.25,2,   -999.0,9,   -999.0,9,-999.0000,9,  -999.00,     1050
  49UF20110205,  P13N,  2985,  1,     22,  21982,2,20110301,1008,  9.5027, 155.9852, 5314,    404.0,   8.1245,  34.4927,2,-999.0000,9,     64.7,2,    46.30,2,    33.97,2,     0.00,2,     2.46,2,   -999.0,9,   -999.0,9,-999.0000,9,  -999.00,     1047
  49UF20110205,  P13N,  2985,  1,     18,  21977,2,20110301,1008,  9.5027, 155.9852, 5314,    503.4,   7.2570,  34.5137,2,-999.0000,9,     70.3,2,    52.43,2,    35.21,2,     0.00,2,     2.55,2,   -999.0,9,   -999.0,9,-999.0000,9,  -999.00,     1044
  49UF20110205,  P13N,  2985,  1,     17,  21976,2,20110301,1008,  9.5027, 155.9852, 5314,    605.7,   6.6208,  34.5372,2,-999.0000,9,     60.8,2,    59.29,2,    37.52,2,     0.00,2,     2.73,2,   -999.0,9,   -999.0,9,-999.0000,9,  -999.00,     1042
  49UF20110205,  P13N,  2985,  1,     16,  21975,2,20110301,1008,  9.5027, 155.9852, 5314,    706.0,   6.0269,  34.5231,2,-999.0000,9,     75.6,6,    66.75,6,    37.20,6,     0.00,6,     2.68,6,   -999.0,9,   -999.0,9,-999.0000,9,  -999.00,     1039
  49UF20110205,  P13N,  2985,  1,     15,  21974,2,20110301,1008,  9.5027, 155.9852, 5314,    807.4,   5.4263,  34.5301,2,-999.0000,9,     75.1,2,    76.64,2,    38.02,2,     0.00,2,     2.75,2,   -999.0,9,   -999.0,9,-999.0000,9,  -999.00,     1036
  49UF20110205,  P13N,  2985,  1,     14,  21973,2,20110301,1008,  9.5027, 155.9852, 5314,    908.8,   4.9463,  34.5420,2,-999.0000,9,     75.9,2,    85.10,2,    38.76,2,     0.00,2,     2.79,2,   -999.0,9,   -999.0,9,-999.0000,9,  -999.00,     1033
  49UF20110205,  P13N,  2985,  1,     13,  21972,2,20110301,1008,  9.5027, 155.9852, 5314,   1009.9,   4.4736,  34.5509,2,-999.0000,9,     78.5,2,    94.19,2,    39.14,2,     0.00,2,     2.82,2,   -999.0,9,   -999.0,9,-999.0000,9,  -999.00,     1031
  49UF20110205,  P13N,  2985,  1,      9,  21968,2,20110301,1008,  9.5027, 155.9852, 5314,   1210.1,   3.6550,  34.5698,2,-999.0000,9,     81.6,2,   111.74,2,    39.62,2,     0.00,2,     2.86,2,   -999.0,9,   -999.0,9,-999.0000,9,  -999.00,     1026
  49UF20110205,  P13N,  2985,  1,      8,  21967,2,20110301,1008,  9.5027, 155.9852, 5314,   1414.5,   3.0600,  34.5919,2,-999.0000,9,     90.3,2,   123.42,2,    39.28,2,     0.00,2,     2.82,2,   -999.0,9,   -999.0,9,-999.0000,9,  -999.00,     1021
  49UF20110205,  P13N,  2985,  1,      7,  21966,2,20110301,1008,  9.5027, 155.9852, 5314,   1615.5,   2.6554,  34.6100,2,-999.0000,9,     97.6,2,   132.07,2,    39.05,2,     0.00,2,     2.80,2,   -999.0,9,   -999.0,9,-999.0000,9,  -999.00,     1017
  49UF20110205,  P13N,  2985,  1,      6,  21965,2,20110301,1008,  9.5027, 155.9852, 5314,   1615.5,   2.6554,  34.6100,2,-999.0000,9,     97.6,2,   131.62,2,    39.13,2,     0.00,2,     2.81,2,   -999.0,9,   -999.0,9,-999.0000,9,  -999.00,     1017
  49UF20110205,  P13N,  2985,  1,      5,  21964,2,20110301,1008,  9.5027, 155.9852, 5314,   1817.0,   2.3855,  34.6246,2,-999.0000,9,    102.0,2,   137.61,2,    38.96,2,     0.00,2,     2.79,2,   -999.0,9,   -999.0,9,-999.0000,9,  -999.00,     1012
  49UF20110205,  P13N,  2985,  1,      4,  21963,2,20110301,1008,  9.5027, 155.9852, 5314,   2021.9,   2.1764,  34.6360,2,-999.0000,9,    107.4,2,   141.56,2,    38.72,2,     0.00,2,     2.75,2,   -999.0,9,   -999.0,9,-999.0000,9,  -999.00,     1008