BOTTLE,20191015PRINUNIVRMK
EXPOCODE,SECT_ID,STNNBR,CASTNO,SAMPNO,BTLNBR,BTLNBR_FLAG_W,DATE,TIME,LATITUDE,LONGITUDE,DEPTH,CTDPRS,CTDTMP,CTDSAL,CTDSAL_FLAG_W,SALNTY,SALNTY_FLAG_W,OXYGEN,OXYGEN_FLAG_W,SILCAT,SILCAT_FLAG_W,NITRAT,NITRAT_FLAG_W,NITRIT,NITRIT_FLAG_W,PHSPHT,PHSPHT_FLAG_W,TCARBN,TCARBN_FLAG_W,ALKALI,ALKALI_FLAG_W,PH_TOT,PH_TOT_FLAG_W,PH_TMP,BTL_TIME
,,,,,,,,,,,METERS,DBAR,ITS-90,PSS-78,,PSS-78,,UMOL/KG,,UMOL/KG,,UMOL/KG,,UMOL/KG,,UMOL/KG,,UMOL/KG,,UMOL/KG,,,,DEG C,
  49UF20110205,  P13N,  2998,  1,     99,     99,2,20110305,1138,  9.2998, 142.9827, 3973,      0.0,  28.6384,  34.0855,2,-999.0000,9,    196.4,2,     0.73,2,     0.00,2,     0.00,2,     0.07,2,   -999.0,9,   -999.0,9,-999.0000,9,  -999.00,     1220
  49UF20110205,  P13N,  2998,  1,     36,  21996,2,20110305,1138,  9.2998, 142.9827, 3973,     11.7,  28.6407,  34.0837,2,  34.0824,2,    200.2,2,     0.68,2,     0.00,2,     0.00,2,     0.06,2,   -999.0,9,   -999.0,9,-999.0000,9,  -999.00,     1243
  49UF20110205,  P13N,  2998,  1,     35,  21995,2,20110305,1138,  9.2998, 142.9827, 3973,     26.4,  28.6598,  34.0910,2,-999.0000,9,    196.4,2,     0.63,2,     0.00,2,     0.00,2,     0.06,2,   -999.0,9,   -999.0,9,-999.0000,9,  -999.00,     1241
  49UF20110205,  P13N,  2998,  1,     34,  21994,2,20110305,1138,  9.2998, 142.9827, 3973,     50.8,  28.7667,  34.1805,2,-999.0000,9,    197.0,2,     0.73,2,     0.00,2,     0.00,2,     0.06,2,   -999.0,9,   -999.0,9,-999.0000,9,  -999.00,     1236
  49UF20110205,  P13N,  2998,  1,     33,  21993,2,20110305,1138,  9.2998, 142.9827, 3973,     75.5,  28.6620,  34.4683,2,-999.0000,9,    199.0,6,     0.68,6,     0.01,6,     0.00,6,     0.08,6,   -999.0,9,   -999.0,9,-999.0000,9,  -999.00,     1235
  49UF20110205,  P13N,  2998,  1,     32,  21992,2,20110305,1138,  9.2998, 142.9827, 3973,    101.6,  27.0581,  34.9350,2,  34.9401,4,    202.9,2,     0.85,2,     0.00,2,     0.00,2,     0.08,2,   -999.0,9,   -999.0,9,-999.0000,9,  -999.00,     1234
  49UF20110205,  P13N,  2998,  1,     31,  21991,2,20110305,1138,  9.2998, 142.9827, 3973,    101.6,  27.0581,  34.9350,2,  34.9426,4,    202.7,2,     0.81,2,     0.00,2,     0.00,2,     0.09,2,   -999.0,9,   -999.0,9,-999.0000,9,  -999.00,     1233
  49UF20110205,  P13N,  2998,  1,     27,  21987,2,20110305,1138,  9.2998, 142.9827, 3973,    125.7,  23.7634,  35.0636,2,-999.0000,9,    184.8,2,     1.40,2,     0.34,2,     0.12,2,     0.18,2,   -999.0,9,   -999.0,9,-999.0000,9,  -999.00,     1232
  49UF20110205,  P13N,  2998,  1,     26,  21986,2,20110305,1138,  9.2998, 142.9827, 3973,    152.1,  20.8779,  34.9480,2,-999.0000,9,    167.0,2,     3.19,2,     3.94,2,     0.06,2,     0.39,2,   -999.0,9,   -999.0,9,-999.0000,9,  -999.00,     1231
  49UF20110205,  P13N,  2998,  1,     25,  21985,2,20110305,1138,  9.2998, 142.9827, 3973,    205.2,  13.3988,  34.4563,2,  34.4576,2,    139.2,2,    16.01,2,    16.48,2,     0.00,2,     1.24,2,   -999.0,9,   -999.0,9,-999.0000,9,  -999.00,     1229
  49UF20110205,  P13N,  2998,  1,     24,  21984,2,20110305,1138,  9.2998, 142.9827, 3973,    253.9,  10.5713,  34.4603,2,-999.0000,9,     88.2,2,    30.06,2,    26.80,2,     0.00,2,     1.97,2,   -999.0,9,   -999.0,9,-999.0000,9,  -999.00,     1227
  49UF20110205,  P13N,  2998,  1,     23,  21983,2,20110305,1138,  9.2998, 142.9827, 3973,    307.8,   9.1591,  34.5005,2,-999.0000,9,     72.4,2,    38.08,2,    31.19,2,     0.00,2,     2.27,2,   -999.0,9,   -999.0,9,-999.0000,9,  -999.00,     1225
  49UF20110205,  P13N,  2998,  1,     22,  21982,2,20110305,1138,  9.2998, 142.9827, 3973,    406.9,   8.1654,  34.5363,2,  34.5348,2,     71.2,2,    43.84,2,    33.61,2,     0.00,2,     2.41,2,   -999.0,9,   -999.0,9,-999.0000,9,  -999.00,     1221
  49UF20110205,  P13N,  2998,  1,     18,  21977,2,20110305,1138,  9.2998, 142.9827, 3973,    507.7,   7.4987,  34.5298,2,-999.0000,9,     75.5,2,    48.23,2,    34.54,2,     0.00,2,     2.47,2,   -999.0,9,   -999.0,9,-999.0000,9,  -999.00,     1218
  49UF20110205,  P13N,  2998,  1,     17,  21976,2,20110305,1138,  9.2998, 142.9827, 3973,    607.8,   6.9697,  34.5344,2,  34.5346,2,     80.2,2,    52.13,2,    35.22,2,     0.00,2,     2.52,2,   -999.0,9,   -999.0,9,-999.0000,9,  -999.00,     1215
  49UF20110205,  P13N,  2998,  1,     16,  21975,2,20110305,1138,  9.2998, 142.9827, 3973,    708.2,   6.3556,  34.5281,2,-999.0000,9,     80.2,2,    60.87,2,    36.30,2,     0.00,2,     2.60,2,   -999.0,9,   -999.0,9,-999.0000,9,  -999.00,     1212
  49UF20110205,  P13N,  2998,  1,     15,  21974,2,20110305,1138,  9.2998, 142.9827, 3973,    808.0,   5.7137,  34.5343,2,  34.5328,6,     80.2,6,    70.37,6,    37.41,6,     0.00,6,     2.69,6,   -999.0,9,   -999.0,9,-999.0000,9,  -999.00,     1209
  49UF20110205,  P13N,  2998,  1,     14,  21973,2,20110305,1138,  9.2998, 142.9827, 3973,    908.3,   5.2600,  34.5401,2,-999.0000,9,     82.4,2,    77.82,2,    38.01,2,     0.00,2,     2.72,2,   -999.0,9,   -999.0,9,-999.0000,9,  -999.00,     1206
  49UF20110205,  P13N,  2998,  1,     13,  21972,2,20110305,1138,  9.2998, 142.9827, 3973,    908.3,   5.2600,  34.5401,2,-999.0000,9,     82.4,2,    77.56,2,    37.91,2,     0.00,2,     2.72,2,   -999.0,9,   -999.0,9,-999.0000,9,  -999.00,     1206
  49UF20110205,  P13N,  2998,  1,      9,  21968,2,20110305,1138,  9.2998, 142.9827, 3973,   1010.7,   4.7130,  34.5475,2,  34.5470,2,     84.2,2,    87.96,2,    38.50,2,     0.00,2,     2.76,2,   -999.0,9,   -999.0,9,-999.0000,9,  -999.00,     1202
  49UF20110205,  P13N,  2998,  1,      8,  21967,2,20110305,1138,  9.2998, 142.9827, 3973,   1211.6,   3.7834,  34.5665,2,  34.5657,2,     87.0,2,   107.50,2,    39.14,2,     0.00,2,     2.80,2,   -999.0,9,   -999.0,9,-999.0000,9,  -999.00,     1157
  49UF20110205,  P13N,  2998,  1,      7,  21966,2,20110305,1138,  9.2998, 142.9827, 3973,   1412.5,   3.1767,  34.5887,2,  34.5879,2,     94.7,2,   119.39,2,    39.02,2,     0.00,2,     2.79,2,   -999.0,9,   -999.0,9,-999.0000,9,  -999.00,     1153
  49UF20110205,  P13N,  2998,  1,      6,  21965,2,20110305,1138,  9.2998, 142.9827, 3973,   1616.4,   2.7992,  34.6064,2,  34.6057,2,    101.8,2,   126.15,2,    38.90,2,     0.00,2,     2.76,2,   -999.0,9,   -999.0,9,-999.0000,9,  -999.00,     1148
  49UF20110205,  P13N,  2998,  1,      5,  21964,2,20110305,1138,  9.2998, 142.9827, 3973,   1817.1,   2.4680,  34.6195,2,  34.6191,2,    106.7,2,   132.80,2,    38.63,2,     0.00,2,     2.74,2,   -999.0,9,   -999.0,9,-999.0000,9,  -999.00,     1143
  49UF20110205,  P13N,  2998,  1,      4,  21963,2,20110305,1138,  9.2998, 142.9827, 3973,   2021.7,   2.1894,  34.6339,2,  34.6330,2,    112.4,2,   138.76,2,    38.54,2,     0.00,2,     2.73,2,   -999.0,9,   -999.0,9,-999.0000,9,  -999.00,     1138
  49UF20110205,  P13N,  2999,  1,     99,     99,2,20110305,1814,  9.2175, 141.9853, 2760,      0.0,  28.6437,  34.0701,2,-999.0000,9,    195.8,2,     0.88,2,     0.04,2,     0.00,2,     0.08,2,   -999.0,9,   -999.0,9,-999.0000,9,  -999.00,     1852
  49UF20110205,  P13N,  2999,  1,     36,  21996,3,20110305,1814,  9.2175, 141.9853, 2760,     10.5,  28.6407,  34.0708,2,-999.0000,9,    196.5,2,     0.83,2,     0.03,2,     0.00,2,     0.07,2,   -999.0,9,   -999.0,9,-999.0000,9,  -999.00,     1921
  49UF20110205,  P13N,  2999,  1,     35,  21995,2,20110305,1814,  9.2175, 141.9853, 2760,     26.7,  28.6505,  34.0711,2,-999.0000,9,    196.3,2,     0.81,2,     0.01,2,     0.00,2,     0.07,2,   -999.0,9,   -999.0,9,-999.0000,9,  -999.00,     1919
  49UF20110205,  P13N,  2999,  1,     34,  21994,2,20110305,1814,  9.2175, 141.9853, 2760,     51.0,  28.6648,  34.0715,2,-999.0000,9,    196.8,6,     0.91,6,     0.02,6,     0.00,6,     0.07,6,   -999.0,9,   -999.0,9,-999.0000,9,  -999.00,     1915
  49UF20110205,  P13N,  2999,  1,     33,  21993,2,20110305,1814,  9.2175, 141.9853, 2760,     75.3,  28.6817,  34.0819,2,-999.0000,9,    196.5,2,     0.95,2,     0.03,2,     0.00,2,     0.08,2,   -999.0,9,   -999.0,9,-999.0000,9,  -999.00,     1913
  49UF20110205,  P13N,  2999,  1,     32,  21992,2,20110305,1814,  9.2175, 141.9853, 2760,     75.3,  28.6817,  34.0819,2,-999.0000,9,    196.3,2,     0.86,2,     0.02,2,     0.00,2,     0.07,2,   -999.0,9,   -999.0,9,-999.0000,9,  -999.00,     1913
  49UF20110205,  P13N,  2999,  1,     31,  21991,3,20110305,1814,  9.2175, 141.9853, 2760,    102.8,  27.1648,  34.8296,2,-999.0000,9,    195.8,2,     1.28,2,     0.03,2,     0.00,2,     0.13,2,   -999.0,9,   -999.0,9,-999.0000,9,  -999.00,     1912
  49UF20110205,  P13N,  2999,  1,     27,  21987,2,20110305,1814,  9.2175, 141.9853, 2760,    126.8,  25.4525,  35.0435,2,-999.0000,9,    188.0,2,     1.41,2,     0.51,2,     0.09,2,     0.17,2,   -999.0,9,   -999.0,9,-999.0000,9,  -999.00,     1910
  49UF20110205,  P13N,  2999,  1,     26,  21986,2,20110305,1814,  9.2175, 141.9853, 2760,    153.2,  22.2146,  34.8800,2,-999.0000,9,    163.1,2,     3.79,2,     4.38,2,     0.09,2,     0.47,2,   -999.0,9,   -999.0,9,-999.0000,9,  -999.00,     1908
  49UF20110205,  P13N,  2999,  1,     25,  21985,4,20110305,1814,  9.2175, 141.9853, 2760,    203.3,  15.8076,  34.5906,2,-999.0000,9,     84.4,4,    30.98,4,    27.67,4,     0.00,4,     2.02,4,   -999.0,9,   -999.0,9,-999.0000,9,  -999.00,     1906
  49UF20110205,  P13N,  2999,  1,     24,  21984,2,20110305,1814,  9.2175, 141.9853, 2760,    255.4,  11.6701,  34.4858,2,-999.0000,9,     98.1,2,    25.43,2,    23.96,2,     0.00,2,     1.78,2,   -999.0,9,   -999.0,9,-999.0000,9,  -999.00,     1904
  49UF20110205,  P13N,  2999,  1,     23,  21983,3,20110305,1814,  9.2175, 141.9853, 2760,    304.6,   9.7296,  34.5186,2,-999.0000,9,     69.4,2,    34.71,2,    30.43,2,     0.00,2,     2.21,2,   -999.0,9,   -999.0,9,-999.0000,9,  -999.00,     1901
  49UF20110205,  P13N,  2999,  1,     22,  21982,3,20110305,1814,  9.2175, 141.9853, 2760,    405.3,   8.6229,  34.5586,2,-999.0000,9,     64.3,2,    40.57,2,    33.40,2,     0.00,2,     2.40,2,   -999.0,9,   -999.0,9,-999.0000,9,  -999.00,     1858
  49UF20110205,  P13N,  2999,  1,     18,  21977,2,20110305,1814,  9.2175, 141.9853, 2760,    506.0,   7.9417,  34.5454,2,-999.0000,9,     71.6,2,    45.06,2,    34.17,2,     0.00,2,     2.44,2,   -999.0,9,   -999.0,9,-999.0000,9,  -999.00,     1853
  49UF20110205,  P13N,  2999,  1,     17,  21976,2,20110305,1814,  9.2175, 141.9853, 2760,    607.7,   6.9975,  34.5248,2,-999.0000,9,     79.0,2,    53.16,2,    35.19,2,     0.00,2,     2.52,2,   -999.0,9,   -999.0,9,-999.0000,9,  -999.00,     1850
  49UF20110205,  P13N,  2999,  1,     16,  21975,2,20110305,1814,  9.2175, 141.9853, 2760,    707.9,   6.1755,  34.5200,2,-999.0000,9,     80.8,6,    63.50,6,    36.43,6,     0.00,6,     2.62,6,   -999.0,9,   -999.0,9,-999.0000,9,  -999.00,     1846
  49UF20110205,  P13N,  2999,  1,     15,  21974,4,20110305,1814,  9.2175, 141.9853, 2760,    808.3,   5.5959,  34.5267,2,-999.0000,9,   -999.0,9,  -999.00,9,  -999.00,9,  -999.00,9,  -999.00,9,   -999.0,9,   -999.0,9,-999.0000,9,  -999.00,     1843
  49UF20110205,  P13N,  2999,  1,     14,  21973,4,20110305,1814,  9.2175, 141.9853, 2760,    808.3,   5.5959,  34.5267,2,-999.0000,9,   -999.0,9,  -999.00,9,  -999.00,9,  -999.00,9,  -999.00,9,   -999.0,9,   -999.0,9,-999.0000,9,  -999.00,     1843
  49UF20110205,  P13N,  2999,  1,     13,  21972,3,20110305,1814,  9.2175, 141.9853, 2760,    909.5,   5.2089,  34.5317,2,-999.0000,9,     82.3,2,    79.28,2,    37.87,2,     0.00,2,     2.73,2,   -999.0,9,   -999.0,9,-999.0000,9,  -999.00,     1840
  49UF20110205,  P13N,  2999,  1,      9,  21968,2,20110305,1814,  9.2175, 141.9853, 2760,   1009.3,   4.6953,  34.5423,2,-999.0000,9,     81.8,2,    88.99,2,    38.50,2,     0.00,2,     2.76,2,   -999.0,9,   -999.0,9,-999.0000,9,  -999.00,     1837
  49UF20110205,  P13N,  2999,  1,      8,  21967,2,20110305,1814,  9.2175, 141.9853, 2760,   1209.4,   3.9353,  34.5627,2,-999.0000,9,     86.9,2,   104.07,2,    39.01,2,     0.00,2,     2.79,2,   -999.0,9,   -999.0,9,-999.0000,9,  -999.00,     1832
  49UF20110205,  P13N,  2999,  1,      7,  21966,2,20110305,1814,  9.2175, 141.9853, 2760,   1412.7,   3.1946,  34.5848,2,-999.0000,9,     93.2,2,   119.47,2,    39.15,2,     0.00,2,     2.79,2,   -999.0,9,   -999.0,9,-999.0000,9,  -999.00,     1827
  49UF20110205,  P13N,  2999,  1,      6,  21965,2,20110305,1814,  9.2175, 141.9853, 2760,   1614.5,   2.6199,  34.6091,2,-999.0000,9,    102.8,2,   130.91,2,    38.97,2,     0.00,2,     2.77,2,   -999.0,9,   -999.0,9,-999.0000,9,  -999.00,     1823
  49UF20110205,  P13N,  2999,  1,      5,  21964,2,20110305,1814,  9.2175, 141.9853, 2760,   1817.3,   2.3414,  34.6241,2,-999.0000,9,    109.6,2,   134.83,2,    38.46,2,     0.00,2,     2.73,2,   -999.0,9,   -999.0,9,-999.0000,9,  -999.00,     1818
  49UF20110205,  P13N,  2999,  1,      4,  21963,2,20110305,1814,  9.2175, 141.9853, 2760,   2021.7,   2.1570,  34.6349,2,-999.0000,9,    114.6,2,   138.56,2,    38.36,2,     0.00,2,     2.71,2,   -999.0,9,   -999.0,9,-999.0000,9,  -999.00,     1814
  49UF20110205,  P13N,  3000,  1,     99,     99,2,20110306,0054,  9.1167, 140.9727, 3370,      0.0,  29.1342,  34.2044,2,-999.0000,9,    194.0,2,     0.81,2,     0.02,2,     0.00,2,     0.08,2,   -999.0,9,   -999.0,9,-999.0000,9,  -999.00,      135
  49UF20110205,  P13N,  3000,  1,     36,  21996,2,20110306,0054,  9.1167, 140.9727, 3370,     10.5,  29.1218,  34.2039,2,-999.0000,9,    194.9,2,     0.78,2,     0.00,2,     0.00,2,     0.06,2,   -999.0,9,   -999.0,9,-999.0000,9,  -999.00,      203
  49UF20110205,  P13N,  3000,  1,     35,  21995,2,20110306,0054,  9.1167, 140.9727, 3370,     25.3,  29.1183,  34.2037,2,-999.0000,9,    195.3,6,     0.93,6,     0.03,6,     0.00,6,     0.07,6,   -999.0,9,   -999.0,9,-999.0000,9,  -999.00,      202
  49UF20110205,  P13N,  3000,  1,     34,  21994,2,20110306,0054,  9.1167, 140.9727, 3370,     52.4,  29.1066,  34.2037,2,-999.0000,9,    195.1,2,     1.03,2,     0.03,2,     0.00,2,     0.07,2,   -999.0,9,   -999.0,9,-999.0000,9,  -999.00,      159
  49UF20110205,  P13N,  3000,  1,     33,  21993,2,20110306,0054,  9.1167, 140.9727, 3370,     52.4,  29.1066,  34.2037,2,-999.0000,9,    194.7,2,     0.79,2,     0.01,2,     0.00,2,     0.06,2,   -999.0,9,   -999.0,9,-999.0000,9,  -999.00,      159
  49UF20110205,  P13N,  3000,  1,     32,  21992,2,20110306,0054,  9.1167, 140.9727, 3370,     77.1,  28.8122,  34.4124,2,-999.0000,9,    199.0,2,     0.63,2,     0.01,2,     0.00,2,     0.08,2,   -999.0,9,   -999.0,9,-999.0000,9,  -999.00,      156
  49UF20110205,  P13N,  3000,  1,     31,  21991,2,20110306,0054,  9.1167, 140.9727, 3370,     99.3,  27.8196,  34.8544,2,-999.0000,9,    203.5,2,     0.58,2,     0.00,2,     0.00,2,     0.10,2,   -999.0,9,   -999.0,9,-999.0000,9,  -999.00,      151
  49UF20110205,  P13N,  3000,  1,     27,  21987,2,20110306,0054,  9.1167, 140.9727, 3370,    126.2,  24.2749,  35.1123,2,-999.0000,9,    186.1,2,     1.01,2,     0.30,2,     0.13,2,     0.17,2,   -999.0,9,   -999.0,9,-999.0000,9,  -999.00,      150
  49UF20110205,  P13N,  3000,  1,     26,  21986,2,20110306,0054,  9.1167, 140.9727, 3370,    152.1,  19.1296,  34.8366,2,-999.0000,9,    162.2,2,     4.35,2,     6.05,2,     0.02,2,     0.57,2,   -999.0,9,   -999.0,9,-999.0000,9,  -999.00,      149
  49UF20110205,  P13N,  3000,  1,     25,  21985,2,20110306,0054,  9.1167, 140.9727, 3370,    202.6,  13.6143,  34.4799,2,-999.0000,9,    134.7,2,    15.45,2,    16.40,2,     0.01,2,     1.31,2,   -999.0,9,   -999.0,9,-999.0000,9,  -999.00,      146
  49UF20110205,  P13N,  3000,  1,     24,  21984,2,20110306,0054,  9.1167, 140.9727, 3370,    253.5,  11.1804,  34.4953,2,-999.0000,9,     92.9,2,    26.69,2,    25.12,2,     0.00,2,     1.91,2,   -999.0,9,   -999.0,9,-999.0000,9,  -999.00,      145
  49UF20110205,  P13N,  3000,  1,     23,  21983,2,20110306,0054,  9.1167, 140.9727, 3370,    303.5,   9.5969,  34.5323,2,-999.0000,9,     68.9,2,    35.11,2,    30.87,2,     0.00,2,     2.28,2,   -999.0,9,   -999.0,9,-999.0000,9,  -999.00,      142
  49UF20110205,  P13N,  3000,  1,     22,  21982,2,20110306,0054,  9.1167, 140.9727, 3370,    405.4,   8.0772,  34.5442,2,-999.0000,9,     71.7,2,    43.72,2,    33.78,2,     0.00,2,     2.47,2,   -999.0,9,   -999.0,9,-999.0000,9,  -999.00,      139
  49UF20110205,  P13N,  3000,  1,     18,  21977,2,20110306,0054,  9.1167, 140.9727, 3370,    505.6,   7.3922,  34.5244,2,-999.0000,9,     77.9,2,    49.31,2,    34.51,2,     0.00,2,     2.52,2,   -999.0,9,   -999.0,9,-999.0000,9,  -999.00,      135
  49UF20110205,  P13N,  3000,  1,     17,  21976,2,20110306,0054,  9.1167, 140.9727, 3370,    606.9,   6.9881,  34.5226,2,-999.0000,9,     81.4,6,    53.28,6,    35.01,6,     0.00,6,     2.56,6,   -999.0,9,   -999.0,9,-999.0000,9,  -999.00,      131
  49UF20110205,  P13N,  3000,  1,     16,  21975,2,20110306,0054,  9.1167, 140.9727, 3370,    706.5,   6.2586,  34.5169,2,-999.0000,9,     84.6,2,    61.34,2,    36.00,2,     0.00,2,     2.62,2,   -999.0,9,   -999.0,9,-999.0000,9,  -999.00,      128
  49UF20110205,  P13N,  3000,  1,     12,  21971,2,20110306,0054,  9.1167, 140.9727, 3370,    807.7,   5.5566,  34.5261,2,-999.0000,9,     81.0,2,    73.00,2,    37.35,2,     0.00,2,     2.74,2,   -999.0,9,   -999.0,9,-999.0000,9,  -999.00,      124
  49UF20110205,  P13N,  3000,  1,     11,  21970,2,20110306,0054,  9.1167, 140.9727, 3370,    807.7,   5.5566,  34.5261,2,-999.0000,9,     81.3,2,    72.78,2,    37.48,2,     0.00,2,     2.72,2,   -999.0,9,   -999.0,9,-999.0000,9,  -999.00,      124
  49UF20110205,  P13N,  3000,  1,     10,  21969,2,20110306,0054,  9.1167, 140.9727, 3370,    910.0,   4.9557,  34.5384,2,-999.0000,9,     80.8,2,    83.53,2,    38.33,2,     0.00,2,     2.79,2,   -999.0,9,   -999.0,9,-999.0000,9,  -999.00,      120
  49UF20110205,  P13N,  3000,  1,      9,  21968,2,20110306,0054,  9.1167, 140.9727, 3370,   1010.2,   4.4793,  34.5503,2,-999.0000,9,     83.3,2,    92.67,2,    38.70,2,     0.00,2,     2.81,2,   -999.0,9,   -999.0,9,-999.0000,9,  -999.00,      117
  49UF20110205,  P13N,  3000,  1,      8,  21967,2,20110306,0054,  9.1167, 140.9727, 3370,   1213.6,   3.9985,  34.5613,2,-999.0000,9,     85.3,2,   102.73,2,    39.05,2,     0.00,2,     2.86,2,   -999.0,9,   -999.0,9,-999.0000,9,  -999.00,      112
  49UF20110205,  P13N,  3000,  1,      7,  21966,2,20110306,0054,  9.1167, 140.9727, 3370,   1413.9,   3.1214,  34.5863,2,-999.0000,9,     94.0,2,   121.02,2,    39.12,2,     0.00,2,     2.83,2,   -999.0,9,   -999.0,9,-999.0000,9,  -999.00,      107
  49UF20110205,  P13N,  3000,  1,      6,  21965,2,20110306,0054,  9.1167, 140.9727, 3370,   1618.1,   2.6626,  34.6077,2,-999.0000,9,    102.2,2,   129.68,2,    38.90,2,     0.00,2,     2.80,2,   -999.0,9,   -999.0,9,-999.0000,9,  -999.00,      103
  49UF20110205,  P13N,  3000,  1,      5,  21964,2,20110306,0054,  9.1167, 140.9727, 3370,   1817.6,   2.3858,  34.6228,2,-999.0000,9,    109.0,2,   134.21,2,    38.64,2,     0.00,2,     2.77,2,   -999.0,9,   -999.0,9,-999.0000,9,  -999.00,       58
  49UF20110205,  P13N,  3000,  1,      4,  21963,2,20110306,0054,  9.1167, 140.9727, 3370,   2018.9,   2.2212,  34.6334,2,-999.0000,9,    114.8,2,   136.72,2,    38.33,2,     0.00,2,     2.76,2,   -999.0,9,   -999.0,9,-999.0000,9,  -999.00,       54