BOTTLE,20191015PRINUNIVRMK
EXPOCODE,SECT_ID,STNNBR,CASTNO,SAMPNO,BTLNBR,BTLNBR_FLAG_W,DATE,TIME,LATITUDE,LONGITUDE,DEPTH,CTDPRS,CTDTMP,CTDSAL,CTDSAL_FLAG_W,SALNTY,SALNTY_FLAG_W,OXYGEN,OXYGEN_FLAG_W,SILCAT,SILCAT_FLAG_W,NITRAT,NITRAT_FLAG_W,NITRIT,NITRIT_FLAG_W,PHSPHT,PHSPHT_FLAG_W,TCARBN,TCARBN_FLAG_W,ALKALI,ALKALI_FLAG_W,PH_TOT,PH_TOT_FLAG_W,PH_TMP,BTL_TIME
,,,,,,,,,,,METERS,DBAR,ITS-90,PSS-78,,PSS-78,,UMOL/KG,,UMOL/KG,,UMOL/KG,,UMOL/KG,,UMOL/KG,,UMOL/KG,,UMOL/KG,,,,DEG C,
  49UF20110205,  P13N,  3004,  1,     99,     99,2,20110307,0619,  8.9898, 136.9868, 3606,      0.0,  29.1561,  34.0383,2,-999.0000,9,    195.4,2,     0.98,2,     0.05,2,     0.00,2,     0.05,2,   -999.0,9,   -999.0,9,-999.0000,9,  -999.00,      702
  49UF20110205,  P13N,  3004,  1,     36,  21996,2,20110307,0619,  8.9898, 136.9868, 3606,     11.6,  29.1560,  34.0386,2,  34.0378,2,    196.1,2,     0.94,2,     0.00,2,     0.00,2,     0.04,2,   -999.0,9,   -999.0,9,-999.0000,9,  -999.00,      718
  49UF20110205,  P13N,  3004,  1,     35,  21995,2,20110307,0619,  8.9898, 136.9868, 3606,     25.9,  29.1212,  34.0398,2,-999.0000,9,    195.7,2,     0.97,2,     0.06,2,     0.00,2,     0.05,2,   -999.0,9,   -999.0,9,-999.0000,9,  -999.00,      717
  49UF20110205,  P13N,  3004,  1,     34,  21994,2,20110307,0619,  8.9898, 136.9868, 3606,     50.1,  29.0759,  34.1768,2,-999.0000,9,    195.6,2,     0.91,2,     0.01,2,     0.00,2,     0.06,2,   -999.0,9,   -999.0,9,-999.0000,9,  -999.00,      713
  49UF20110205,  P13N,  3004,  1,     33,  21993,2,20110307,0619,  8.9898, 136.9868, 3606,     75.5,  28.7390,  34.3669,2,-999.0000,9,    198.3,2,     0.81,2,     0.08,2,     0.00,2,     0.08,2,   -999.0,9,   -999.0,9,-999.0000,9,  -999.00,      712
  49UF20110205,  P13N,  3004,  1,     32,  21992,2,20110307,0619,  8.9898, 136.9868, 3606,    101.8,  27.4495,  34.9187,2,  34.8848,4,    204.4,2,     0.76,2,     0.01,2,     0.00,2,     0.12,2,   -999.0,9,   -999.0,9,-999.0000,9,  -999.00,      710
  49UF20110205,  P13N,  3004,  1,     31,  21991,2,20110307,0619,  8.9898, 136.9868, 3606,    124.5,  24.5512,  35.0680,2,-999.0000,9,    182.3,6,     1.79,6,     1.11,6,     0.17,6,     0.24,6,   -999.0,9,   -999.0,9,-999.0000,9,  -999.00,      709
  49UF20110205,  P13N,  3004,  1,     27,  21987,2,20110307,0619,  8.9898, 136.9868, 3606,    152.9,  20.4262,  34.8096,2,-999.0000,9,    149.9,2,     6.05,2,     7.26,2,     0.02,2,     0.66,2,   -999.0,9,   -999.0,9,-999.0000,9,  -999.00,      708
  49UF20110205,  P13N,  3004,  1,     26,  21986,2,20110307,0619,  8.9898, 136.9868, 3606,    201.5,  13.2709,  34.4540,2,  34.4557,2,    141.4,2,    17.02,2,    16.77,2,     0.00,2,     1.28,2,   -999.0,9,   -999.0,9,-999.0000,9,  -999.00,      706
  49UF20110205,  P13N,  3004,  1,     25,  21985,2,20110307,0619,  8.9898, 136.9868, 3606,    254.0,  11.2775,  34.4724,2,-999.0000,9,     99.5,2,    26.97,2,    24.71,2,     0.00,2,     1.83,2,   -999.0,9,   -999.0,9,-999.0000,9,  -999.00,      704
  49UF20110205,  P13N,  3004,  1,     24,  21984,2,20110307,0619,  8.9898, 136.9868, 3606,    303.4,  10.1131,  34.4942,2,-999.0000,9,     80.2,2,    32.86,2,    28.73,2,     0.00,2,     2.11,2,   -999.0,9,   -999.0,9,-999.0000,9,  -999.00,      702
  49UF20110205,  P13N,  3004,  1,     23,  21983,2,20110307,0619,  8.9898, 136.9868, 3606,    303.4,  10.1131,  34.4942,2,-999.0000,9,     80.3,2,    32.90,2,    28.74,2,     0.00,2,     2.11,2,   -999.0,9,   -999.0,9,-999.0000,9,  -999.00,      702
  49UF20110205,  P13N,  3004,  1,     22,  21982,2,20110307,0619,  8.9898, 136.9868, 3606,    404.8,   8.4136,  34.5335,2,  34.5311,2,     73.7,2,    42.11,2,    32.98,2,     0.00,2,     2.39,2,   -999.0,9,   -999.0,9,-999.0000,9,  -999.00,      659
  49UF20110205,  P13N,  3004,  1,     18,  21977,2,20110307,0619,  8.9898, 136.9868, 3606,    503.4,   7.5674,  34.5326,2,-999.0000,9,     79.1,2,    47.54,2,    34.24,2,     0.00,2,     2.46,2,   -999.0,9,   -999.0,9,-999.0000,9,  -999.00,      656
  49UF20110205,  P13N,  3004,  1,     17,  21976,2,20110307,0619,  8.9898, 136.9868, 3606,    606.6,   6.9372,  34.5235,2,  34.5231,2,     82.3,2,    53.30,2,    35.09,2,     0.00,2,     2.53,2,   -999.0,9,   -999.0,9,-999.0000,9,  -999.00,      653
  49UF20110205,  P13N,  3004,  1,     16,  21975,2,20110307,0619,  8.9898, 136.9868, 3606,    704.3,   6.3709,  34.5215,2,-999.0000,9,     82.8,2,    60.50,2,    35.98,2,     0.00,2,     2.61,2,   -999.0,9,   -999.0,9,-999.0000,9,  -999.00,      650
  49UF20110205,  P13N,  3004,  1,     12,  21971,2,20110307,0619,  8.9898, 136.9868, 3606,    808.7,   5.5766,  34.5268,2,  34.5265,2,     95.1,4,    72.67,2,    37.34,2,     0.00,2,     2.70,2,   -999.0,9,   -999.0,9,-999.0000,9,  -999.00,      647
  49UF20110205,  P13N,  3004,  1,     11,  21970,2,20110307,0619,  8.9898, 136.9868, 3606,    909.3,   4.8472,  34.5409,2,-999.0000,9,     82.4,2,    85.45,2,    38.20,2,     0.00,2,     2.77,2,   -999.0,9,   -999.0,9,-999.0000,9,  -999.00,      644
  49UF20110205,  P13N,  3004,  1,     10,  21969,3,20110307,0619,  8.9898, 136.9868, 3606,   1009.4,   4.4294,  34.5505,2,  34.5510,6,     84.8,6,    93.86,6,    38.59,6,     0.00,6,     2.79,6,   -999.0,9,   -999.0,9,-999.0000,9,  -999.00,      641
  49UF20110205,  P13N,  3004,  1,      9,  21968,2,20110307,0619,  8.9898, 136.9868, 3606,   1211.1,   3.5855,  34.5701,2,  34.5688,2,     89.1,2,   111.79,2,    39.08,2,     0.00,2,     2.82,2,   -999.0,9,   -999.0,9,-999.0000,9,  -999.00,      637
  49UF20110205,  P13N,  3004,  1,      8,  21967,2,20110307,0619,  8.9898, 136.9868, 3606,   1412.4,   3.1428,  34.5893,2,  34.5884,2,     97.2,2,   119.48,2,    39.00,2,     0.00,2,     2.80,2,   -999.0,9,   -999.0,9,-999.0000,9,  -999.00,      632
  49UF20110205,  P13N,  3004,  1,      7,  21966,2,20110307,0619,  8.9898, 136.9868, 3606,   1616.0,   2.7353,  34.6067,2,  34.6061,2,    103.1,2,   127.93,2,    38.71,2,     0.00,2,     2.79,2,   -999.0,9,   -999.0,9,-999.0000,9,  -999.00,      627
  49UF20110205,  P13N,  3004,  1,      6,  21965,2,20110307,0619,  8.9898, 136.9868, 3606,   1817.2,   2.4146,  34.6224,2,  34.6224,2,    111.1,2,   133.30,2,    38.68,2,     0.00,2,     2.76,2,   -999.0,9,   -999.0,9,-999.0000,9,  -999.00,      623
  49UF20110205,  P13N,  3004,  1,      5,  21964,2,20110307,0619,  8.9898, 136.9868, 3606,   1817.2,   2.4146,  34.6224,2,  34.6214,2,    110.0,2,   132.89,2,    38.51,2,     0.00,2,     2.77,2,   -999.0,9,   -999.0,9,-999.0000,9,  -999.00,      623
  49UF20110205,  P13N,  3004,  1,      4,  21963,2,20110307,0619,  8.9898, 136.9868, 3606,   2019.2,   2.1670,  34.6347,2,  34.6339,2,    116.2,2,   137.96,2,    38.22,2,     0.00,2,     2.73,2,   -999.0,9,   -999.0,9,-999.0000,9,  -999.00,      619