BOTTLE,20191015PRINUNIVRMK
EXPOCODE,SECT_ID,STNNBR,CASTNO,SAMPNO,BTLNBR,BTLNBR_FLAG_W,DATE,TIME,LATITUDE,LONGITUDE,DEPTH,CTDPRS,CTDTMP,CTDSAL,CTDSAL_FLAG_W,SALNTY,SALNTY_FLAG_W,OXYGEN,OXYGEN_FLAG_W,SILCAT,SILCAT_FLAG_W,NITRAT,NITRAT_FLAG_W,NITRIT,NITRIT_FLAG_W,PHSPHT,PHSPHT_FLAG_W,TCARBN,TCARBN_FLAG_W,ALKALI,ALKALI_FLAG_W,PH_TOT,PH_TOT_FLAG_W,PH_TMP,BTL_TIME
,,,,,,,,,,,METERS,DBAR,ITS-90,PSS-78,,PSS-78,,UMOL/KG,,UMOL/KG,,UMOL/KG,,UMOL/KG,,UMOL/KG,,UMOL/KG,,UMOL/KG,,,,DEG C,
  49UF20110205,  P13N,  2992,  1,     99,     99,2,20110303,1711,  9.4843, 148.9948, 5092,      0.0,  28.3140,  34.3801,2,-999.0000,9,    197.5,2,     0.55,2,     0.00,2,     0.00,2,     0.13,4,   -999.0,9,   -999.0,9,-999.0000,9,  -999.00,     1750
  49UF20110205,  P13N,  2992,  1,     36,  21996,3,20110303,1711,  9.4843, 148.9948, 5092,     11.4,  28.3258,  34.3799,2,-999.0000,9,    200.9,4,     0.61,2,     0.04,2,     0.00,2,     0.28,4,   -999.0,9,   -999.0,9,-999.0000,9,  -999.00,     1810
  49UF20110205,  P13N,  2992,  1,     35,  21995,3,20110303,1711,  9.4843, 148.9948, 5092,     11.4,  28.3258,  34.3799,2,-999.0000,9,    197.8,2,     0.52,2,     0.00,2,     0.00,2,     0.12,4,   -999.0,9,   -999.0,9,-999.0000,9,  -999.00,     1810
  49UF20110205,  P13N,  2992,  1,     34,  21994,3,20110303,1711,  9.4843, 148.9948, 5092,     23.7,  28.3274,  34.3803,2,-999.0000,9,    198.4,6,     0.62,6,     0.00,6,     0.00,6,     0.11,4,   -999.0,9,   -999.0,9,-999.0000,9,  -999.00,     1809
  49UF20110205,  P13N,  2992,  1,     33,  21993,3,20110303,1711,  9.4843, 148.9948, 5092,     51.1,  28.3261,  34.3852,2,-999.0000,9,    199.2,2,     0.51,2,     0.00,2,     0.00,2,     0.11,4,   -999.0,9,   -999.0,9,-999.0000,9,  -999.00,     1805
  49UF20110205,  P13N,  2992,  1,     32,  21992,3,20110303,1711,  9.4843, 148.9948, 5092,     77.4,  28.3132,  34.4296,2,-999.0000,9,    199.2,2,     0.53,2,     0.02,2,     0.00,2,     0.21,4,   -999.0,9,   -999.0,9,-999.0000,9,  -999.00,     1804
  49UF20110205,  P13N,  2992,  1,     31,  21991,2,20110303,1711,  9.4843, 148.9948, 5092,    101.1,  26.9623,  34.9958,2,-999.0000,9,    206.1,2,     0.67,2,     0.00,2,     0.00,2,     0.19,4,   -999.0,9,   -999.0,9,-999.0000,9,  -999.00,     1803
  49UF20110205,  P13N,  2992,  1,     27,  21987,3,20110303,1711,  9.4843, 148.9948, 5092,    126.7,  24.3718,  35.0909,2,-999.0000,9,    195.8,2,     1.14,2,     0.07,2,     0.01,2,     0.21,4,   -999.0,9,   -999.0,9,-999.0000,9,  -999.00,     1801
  49UF20110205,  P13N,  2992,  1,     26,  21986,2,20110303,1711,  9.4843, 148.9948, 5092,    151.2,  21.0202,  34.9411,2,-999.0000,9,    175.8,2,     2.62,2,     2.75,2,     0.14,2,     0.47,4,   -999.0,9,   -999.0,9,-999.0000,9,  -999.00,     1800
  49UF20110205,  P13N,  2992,  1,     25,  21985,3,20110303,1711,  9.4843, 148.9948, 5092,    200.9,  14.1013,  34.4853,2,-999.0000,9,    136.6,2,    13.98,2,    15.58,2,     0.00,2,     1.28,4,   -999.0,9,   -999.0,9,-999.0000,9,  -999.00,     1758
  49UF20110205,  P13N,  2992,  1,     24,  21984,2,20110303,1711,  9.4843, 148.9948, 5092,    250.7,  11.3248,  34.5030,2,-999.0000,9,     83.5,2,    27.42,2,    26.20,2,     0.00,2,     2.00,4,   -999.0,9,   -999.0,9,-999.0000,9,  -999.00,     1756
  49UF20110205,  P13N,  2992,  1,     23,  21983,2,20110303,1711,  9.4843, 148.9948, 5092,    301.3,   9.6620,  34.5234,2,-999.0000,9,     68.4,2,    35.14,2,    30.67,2,     0.00,2,     2.31,4,   -999.0,9,   -999.0,9,-999.0000,9,  -999.00,     1755
  49UF20110205,  P13N,  2992,  1,     22,  21982,3,20110303,1711,  9.4843, 148.9948, 5092,    404.6,   8.4398,  34.5600,2,-999.0000,9,     65.4,2,    41.63,2,    33.49,2,     0.00,2,     2.49,4,   -999.0,9,   -999.0,9,-999.0000,9,  -999.00,     1752
  49UF20110205,  P13N,  2992,  1,     18,  21977,3,20110303,1711,  9.4843, 148.9948, 5092,    506.0,   7.9240,  34.5530,2,-999.0000,9,     70.9,2,    45.00,2,    34.07,2,     0.00,2,     2.49,4,   -999.0,9,   -999.0,9,-999.0000,9,  -999.00,     1749
  49UF20110205,  P13N,  2992,  1,     17,  21976,2,20110303,1711,  9.4843, 148.9948, 5092,    506.0,   7.9240,  34.5530,2,-999.0000,9,     70.4,2,    44.81,2,    34.08,2,     0.00,2,     2.53,4,   -999.0,9,   -999.0,9,-999.0000,9,  -999.00,     1749
  49UF20110205,  P13N,  2992,  1,     16,  21975,2,20110303,1711,  9.4843, 148.9948, 5092,    605.7,   7.0109,  34.5344,2,-999.0000,9,     72.8,6,    53.68,6,    35.51,6,     0.00,6,     2.65,4,   -999.0,9,   -999.0,9,-999.0000,9,  -999.00,     1746
  49UF20110205,  P13N,  2992,  1,     15,  21974,2,20110303,1711,  9.4843, 148.9948, 5092,    705.5,   6.5266,  34.5233,2,-999.0000,9,     78.8,2,    59.20,2,    35.76,2,     0.00,2,     2.67,4,   -999.0,9,   -999.0,9,-999.0000,9,  -999.00,     1743
  49UF20110205,  P13N,  2992,  1,     14,  21973,2,20110303,1711,  9.4843, 148.9948, 5092,    806.9,   5.8483,  34.5346,2,-999.0000,9,     70.4,2,    69.16,2,    37.77,2,     0.00,2,     2.80,4,   -999.0,9,   -999.0,9,-999.0000,9,  -999.00,     1740
  49UF20110205,  P13N,  2992,  1,     13,  21972,3,20110303,1711,  9.4843, 148.9948, 5092,    909.4,   5.1684,  34.5440,2,-999.0000,9,     80.2,3,    80.40,2,    38.05,2,     0.00,2,     2.82,4,   -999.0,9,   -999.0,9,-999.0000,9,  -999.00,     1737
  49UF20110205,  P13N,  2992,  1,      9,  21968,2,20110303,1711,  9.4843, 148.9948, 5092,   1007.8,   4.7479,  34.5478,2,-999.0000,9,     82.2,2,    87.78,2,    38.25,2,     0.00,2,     2.84,4,   -999.0,9,   -999.0,9,-999.0000,9,  -999.00,     1734
  49UF20110205,  P13N,  2992,  1,      8,  21967,2,20110303,1711,  9.4843, 148.9948, 5092,   1211.6,   3.9147,  34.5629,2,-999.0000,9,     85.2,2,   104.88,2,    38.82,2,     0.00,2,     2.88,4,   -999.0,9,   -999.0,9,-999.0000,9,  -999.00,     1729
  49UF20110205,  P13N,  2992,  1,      7,  21966,2,20110303,1711,  9.4843, 148.9948, 5092,   1414.1,   3.1733,  34.5887,2,-999.0000,9,     95.1,2,   119.21,2,    38.63,2,     0.00,2,     2.86,4,   -999.0,9,   -999.0,9,-999.0000,9,  -999.00,     1724
  49UF20110205,  P13N,  2992,  1,      6,  21965,2,20110303,1711,  9.4843, 148.9948, 5092,   1615.1,   2.8063,  34.6021,2,-999.0000,9,     98.0,2,   127.41,2,    38.71,2,     0.00,2,     2.87,4,   -999.0,9,   -999.0,9,-999.0000,9,  -999.00,     1720
  49UF20110205,  P13N,  2992,  1,      5,  21964,2,20110303,1711,  9.4843, 148.9948, 5092,   1818.2,   2.4516,  34.6191,2,-999.0000,9,    105.4,2,   134.51,2,    38.51,2,     0.00,2,     2.87,4,   -999.0,9,   -999.0,9,-999.0000,9,  -999.00,     1716
  49UF20110205,  P13N,  2992,  1,      4,  21963,2,20110303,1711,  9.4843, 148.9948, 5092,   2021.1,   2.1603,  34.6354,2,-999.0000,9,    113.3,2,   139.47,2,    38.18,2,     0.00,2,     2.81,4,   -999.0,9,   -999.0,9,-999.0000,9,  -999.00,     1711
  49UF20110205,  P13N,  2993,  1,     99,     99,2,20110303,2338,  9.4880, 147.9967, 2845,      0.0,  28.4537,  34.3086,2,-999.0000,9,    196.9,2,     0.77,2,     0.06,2,     0.00,2,     0.12,4,   -999.0,9,   -999.0,9,-999.0000,9,  -999.00,       20
  49UF20110205,  P13N,  2993,  1,     36,  21996,2,20110303,2338,  9.4880, 147.9967, 2845,     11.2,  28.4042,  34.3068,2,  34.3088,2,    197.8,2,     0.76,2,     0.02,2,     0.00,2,     0.10,4,   -999.0,9,   -999.0,9,-999.0000,9,  -999.00,       42
  49UF20110205,  P13N,  2993,  1,     35,  21995,2,20110303,2338,  9.4880, 147.9967, 2845,     26.6,  28.3919,  34.3065,2,-999.0000,9,    197.5,2,     0.75,2,     0.06,2,     0.00,2,     0.10,4,   -999.0,9,   -999.0,9,-999.0000,9,  -999.00,       40
  49UF20110205,  P13N,  2993,  1,     34,  21994,2,20110303,2338,  9.4880, 147.9967, 2845,     51.8,  28.3856,  34.3365,2,-999.0000,9,    197.2,2,     0.75,2,     0.01,2,     0.00,2,     0.17,4,   -999.0,9,   -999.0,9,-999.0000,9,  -999.00,       34
  49UF20110205,  P13N,  2993,  1,     33,  21993,2,20110303,2338,  9.4880, 147.9967, 2845,     76.5,  28.2515,  34.6533,2,-999.0000,9,    201.7,2,     0.78,2,     0.04,2,     0.00,2,     0.17,4,   -999.0,9,   -999.0,9,-999.0000,9,  -999.00,       33
  49UF20110205,  P13N,  2993,  1,     32,  21992,2,20110303,2338,  9.4880, 147.9967, 2845,    101.5,  26.9385,  34.9365,2,  34.9349,2,    204.1,2,     0.86,2,     0.07,2,     0.00,2,     0.14,4,   -999.0,9,   -999.0,9,-999.0000,9,  -999.00,       32
  49UF20110205,  P13N,  2993,  1,     31,  21991,2,20110303,2338,  9.4880, 147.9967, 2845,    126.4,  25.0109,  35.1053,2,-999.0000,9,    195.6,2,     1.12,2,     0.09,2,     0.01,2,     0.15,4,   -999.0,9,   -999.0,9,-999.0000,9,  -999.00,       30
  49UF20110205,  P13N,  2993,  1,     27,  21987,2,20110303,2338,  9.4880, 147.9967, 2845,    155.3,  20.8662,  34.9410,2,-999.0000,9,    171.0,2,     3.13,2,     3.43,2,     0.08,2,     0.39,4,   -999.0,9,   -999.0,9,-999.0000,9,  -999.00,       29
  49UF20110205,  P13N,  2993,  1,     26,  21986,2,20110303,2338,  9.4880, 147.9967, 2845,    203.6,  13.9685,  34.5578,2,  34.5632,4,    109.9,2,    18.65,2,    19.41,2,     0.00,2,     1.49,4,   -999.0,9,   -999.0,9,-999.0000,9,  -999.00,       27
  49UF20110205,  P13N,  2993,  1,     25,  21985,4,20110303,2338,  9.4880, 147.9967, 2845,    254.2,  11.0375,  34.5367,2,-999.0000,9,    124.8,4,    14.37,4,    15.66,4,     0.01,4,     1.24,4,   -999.0,9,   -999.0,9,-999.0000,9,  -999.00,       25
  49UF20110205,  P13N,  2993,  1,     24,  21984,2,20110303,2338,  9.4880, 147.9967, 2845,    304.2,   9.8287,  34.5584,2,-999.0000,9,     62.2,2,    34.41,2,    31.45,2,     0.00,2,     2.36,4,   -999.0,9,   -999.0,9,-999.0000,9,  -999.00,       23
  49UF20110205,  P13N,  2993,  1,     23,  21983,3,20110303,2338,  9.4880, 147.9967, 2845,    403.7,   8.4708,  34.5562,2,  34.5576,2,     65.0,2,    41.86,2,    34.04,2,     0.00,2,     2.52,4,   -999.0,9,   -999.0,9,-999.0000,9,  -999.00,       20
  49UF20110205,  P13N,  2993,  1,     22,  21982,2,20110303,2338,  9.4880, 147.9967, 2845,    403.7,   8.4708,  34.5562,2,  34.5595,2,     64.4,2,    41.72,2,    34.07,2,     0.01,2,     2.50,4,   -999.0,9,   -999.0,9,-999.0000,9,  -999.00,       20
  49UF20110205,  P13N,  2993,  1,     18,  21977,2,20110303,2338,  9.4880, 147.9967, 2845,    505.9,   7.3251,  34.5312,2,-999.0000,9,     74.3,2,    50.26,2,    35.18,2,     0.00,2,     2.60,4,   -999.0,9,   -999.0,9,-999.0000,9,  -999.00,       17
  49UF20110205,  P13N,  2993,  1,     17,  21976,2,20110303,2338,  9.4880, 147.9967, 2845,    605.6,   6.7519,  34.5248,2,  34.5245,2,     77.1,2,    56.56,2,    36.14,2,     0.00,2,     2.66,4,   -999.0,9,   -999.0,9,-999.0000,9,  -999.00,       14
  49UF20110205,  P13N,  2993,  1,     16,  21975,2,20110303,2338,  9.4880, 147.9967, 2845,    707.4,   6.1341,  34.5275,2,-999.0000,9,     77.8,2,    64.56,2,    37.15,2,     0.00,2,     2.75,4,   -999.0,9,   -999.0,9,-999.0000,9,  -999.00,       12
  49UF20110205,  P13N,  2993,  1,     15,  21974,2,20110303,2338,  9.4880, 147.9967, 2845,    806.7,   5.6851,  34.5265,2,  34.5271,2,     78.9,2,    71.66,2,    37.75,2,     0.00,2,     2.79,4,   -999.0,9,   -999.0,9,-999.0000,9,  -999.00,        9
  49UF20110205,  P13N,  2993,  1,     14,  21973,2,20110303,2338,  9.4880, 147.9967, 2845,    908.9,   5.2132,  34.5326,2,-999.0000,9,     78.9,2,    79.49,2,    38.44,2,     0.00,2,     2.82,4,   -999.0,9,   -999.0,9,-999.0000,9,  -999.00,        6
  49UF20110205,  P13N,  2993,  1,     13,  21972,2,20110303,2338,  9.4880, 147.9967, 2845,   1010.6,   4.7361,  34.5432,2,  34.5464,2,     81.1,2,    88.70,2,    38.86,2,     0.00,2,     2.86,4,   -999.0,9,   -999.0,9,-999.0000,9,  -999.00,        2
  49UF20110205,  P13N,  2993,  1,      9,  21968,2,20110303,2338,  9.4880, 147.9967, 2845,   1213.5,   3.7451,  34.5676,2,  34.5726,2,     84.8,2,   108.95,2,    39.44,2,     0.00,2,     2.89,4,   -999.0,9,   -999.0,9,-999.0000,9,  -999.00,     2357
  49UF20110205,  P13N,  2993,  1,      8,  21967,2,20110303,2338,  9.4880, 147.9967, 2845,   1415.4,   3.1768,  34.5865,2,  34.5868,2,     92.3,2,   120.94,2,    39.56,2,     0.00,2,     2.89,4,   -999.0,9,   -999.0,9,-999.0000,9,  -999.00,     2352
  49UF20110205,  P13N,  2993,  1,      7,  21966,2,20110303,2338,  9.4880, 147.9967, 2845,   1616.5,   2.7546,  34.6066,2,  34.6067,6,    100.8,6,   129.25,6,    39.15,6,     0.00,6,     2.89,4,   -999.0,9,   -999.0,9,-999.0000,9,  -999.00,     2347
  49UF20110205,  P13N,  2993,  1,      6,  21965,2,20110303,2338,  9.4880, 147.9967, 2845,   1818.7,   2.4016,  34.6232,2,  34.6230,2,    107.4,2,   136.03,2,    39.01,2,     0.00,2,     2.85,4,   -999.0,9,   -999.0,9,-999.0000,9,  -999.00,     2343
  49UF20110205,  P13N,  2993,  1,      5,  21964,2,20110303,2338,  9.4880, 147.9967, 2845,   2022.1,   2.1661,  34.6359,2,  34.6349,2,    113.0,2,   140.71,2,    38.64,2,     0.00,2,     2.83,4,   -999.0,9,   -999.0,9,-999.0000,9,  -999.00,     2338
  49UF20110205,  P13N,  2993,  1,      4,  21963,2,20110303,2338,  9.4880, 147.9967, 2845,   2022.1,   2.1661,  34.6359,2,  34.6356,2,    112.8,2,   140.72,2,    38.80,2,     0.00,2,     2.81,4,   -999.0,9,   -999.0,9,-999.0000,9,  -999.00,     2338
  49UF20110205,  P13N,  2994,  1,     99,     99,2,20110304,0632,  9.4840, 146.9988, 4765,      0.0,  28.8129,  34.0749,2,-999.0000,9,    196.5,2,     0.69,2,     0.01,2,     0.00,2,     0.08,4,   -999.0,9,   -999.0,9,-999.0000,9,  -999.00,      711
  49UF20110205,  P13N,  2994,  1,     36,  21996,2,20110304,0632,  9.4840, 146.9988, 4765,     10.2,  28.8128,  34.0743,2,-999.0000,9,    196.7,2,     0.65,2,     0.00,2,     0.00,2,     0.07,4,   -999.0,9,   -999.0,9,-999.0000,9,  -999.00,      737
  49UF20110205,  P13N,  2994,  1,     35,  21995,2,20110304,0632,  9.4840, 146.9988, 4765,     25.4,  28.7087,  34.0720,2,-999.0000,9,    197.9,2,     0.66,2,     0.00,2,     0.00,2,     0.07,4,   -999.0,9,   -999.0,9,-999.0000,9,  -999.00,      736
  49UF20110205,  P13N,  2994,  1,     34,  21994,2,20110304,0632,  9.4840, 146.9988, 4765,     50.6,  28.6756,  34.0874,2,-999.0000,9,    197.6,2,     0.67,2,     0.03,2,     0.00,2,     0.11,4,   -999.0,9,   -999.0,9,-999.0000,9,  -999.00,      731
  49UF20110205,  P13N,  2994,  1,     33,  21993,2,20110304,0632,  9.4840, 146.9988, 4765,     76.6,  28.6410,  34.3336,2,-999.0000,9,    198.8,2,     0.65,2,     0.00,2,     0.00,2,     0.12,4,   -999.0,9,   -999.0,9,-999.0000,9,  -999.00,      730
  49UF20110205,  P13N,  2994,  1,     32,  21992,2,20110304,0632,  9.4840, 146.9988, 4765,    100.6,  28.3284,  34.6911,2,-999.0000,9,    203.1,2,     0.65,2,     0.00,2,     0.00,2,     0.15,4,   -999.0,9,   -999.0,9,-999.0000,9,  -999.00,      729
  49UF20110205,  P13N,  2994,  1,     31,  21991,2,20110304,0632,  9.4840, 146.9988, 4765,    125.5,  26.4722,  35.1160,2,-999.0000,9,    205.0,2,     0.76,2,     0.00,2,     0.00,2,     0.13,4,   -999.0,9,   -999.0,9,-999.0000,9,  -999.00,      727
  49UF20110205,  P13N,  2994,  1,     27,  21987,2,20110304,0632,  9.4840, 146.9988, 4765,    150.4,  24.3600,  35.1424,2,-999.0000,9,    191.1,2,     1.11,2,     0.10,2,     0.04,2,     0.15,4,   -999.0,9,   -999.0,9,-999.0000,9,  -999.00,      725
  49UF20110205,  P13N,  2994,  1,     26,  21986,2,20110304,0632,  9.4840, 146.9988, 4765,    203.1,  15.0534,  34.5715,2,-999.0000,9,    129.9,6,    13.72,6,    15.27,6,     0.01,6,     1.14,4,   -999.0,9,   -999.0,9,-999.0000,9,  -999.00,      723
  49UF20110205,  P13N,  2994,  1,     25,  21985,2,20110304,0632,  9.4840, 146.9988, 4765,    253.9,  11.5714,  34.4103,2,-999.0000,9,    112.7,2,    23.84,2,    22.43,2,     0.00,2,     1.68,4,   -999.0,9,   -999.0,9,-999.0000,9,  -999.00,      721
  49UF20110205,  P13N,  2994,  1,     24,  21984,2,20110304,0632,  9.4840, 146.9988, 4765,    304.6,   9.2738,  34.4488,2,-999.0000,9,     80.4,2,    37.63,2,    29.90,2,     0.00,2,     2.27,4,   -999.0,9,   -999.0,9,-999.0000,9,  -999.00,      719
  49UF20110205,  P13N,  2994,  1,     23,  21983,2,20110304,0632,  9.4840, 146.9988, 4765,    304.6,   9.2738,  34.4488,2,-999.0000,9,     79.8,2,    37.60,2,    29.93,2,     0.00,2,     2.22,4,   -999.0,9,   -999.0,9,-999.0000,9,  -999.00,      718
  49UF20110205,  P13N,  2994,  1,     22,  21982,2,20110304,0632,  9.4840, 146.9988, 4765,    408.6,   7.9817,  34.5013,2,-999.0000,9,     74.4,2,    46.07,2,    33.22,2,     0.00,2,     2.45,4,   -999.0,9,   -999.0,9,-999.0000,9,  -999.00,      715
  49UF20110205,  P13N,  2994,  1,     18,  21977,2,20110304,0632,  9.4840, 146.9988, 4765,    505.3,   7.3165,  34.5098,2,-999.0000,9,     78.7,2,    50.95,2,    34.43,2,     0.00,2,     2.52,4,   -999.0,9,   -999.0,9,-999.0000,9,  -999.00,      711
  49UF20110205,  P13N,  2994,  1,     17,  21976,2,20110304,0632,  9.4840, 146.9988, 4765,    606.9,   6.5886,  34.5065,2,-999.0000,9,     80.3,2,    58.61,2,    35.46,2,     0.00,2,     2.62,4,   -999.0,9,   -999.0,9,-999.0000,9,  -999.00,      708
  49UF20110205,  P13N,  2994,  1,     16,  21975,2,20110304,0632,  9.4840, 146.9988, 4765,    705.7,   6.0170,  34.5100,2,-999.0000,9,     81.7,2,    66.13,2,    36.38,2,     0.00,2,     2.69,4,   -999.0,9,   -999.0,9,-999.0000,9,  -999.00,      705
  49UF20110205,  P13N,  2994,  1,     15,  21974,2,20110304,0632,  9.4840, 146.9988, 4765,    807.1,   5.4383,  34.5286,2,-999.0000,9,     79.0,2,    75.39,2,    37.60,2,     0.00,2,     2.77,4,   -999.0,9,   -999.0,9,-999.0000,9,  -999.00,      702
  49UF20110205,  P13N,  2994,  1,     14,  21973,2,20110304,0632,  9.4840, 146.9988, 4765,    909.2,   4.9061,  34.5378,2,-999.0000,9,     79.4,2,    84.77,2,    38.10,2,     0.00,2,     2.80,4,   -999.0,9,   -999.0,9,-999.0000,9,  -999.00,      659
  49UF20110205,  P13N,  2994,  1,     13,  21972,3,20110304,0632,  9.4840, 146.9988, 4765,   1009.3,   4.4568,  34.5485,2,-999.0000,9,     81.7,2,    93.17,2,    38.48,2,     0.00,2,     2.82,4,   -999.0,9,   -999.0,9,-999.0000,9,  -999.00,      656
  49UF20110205,  P13N,  2994,  1,      9,  21968,3,20110304,0632,  9.4840, 146.9988, 4765,   1211.1,   3.6596,  34.5698,2,-999.0000,9,     86.9,2,   109.25,2,    39.01,2,     0.00,2,     2.87,4,   -999.0,9,   -999.0,9,-999.0000,9,  -999.00,      651
  49UF20110205,  P13N,  2994,  1,      8,  21967,2,20110304,0632,  9.4840, 146.9988, 4765,   1412.3,   3.0649,  34.5900,2,-999.0000,9,     94.6,6,   121.35,6,    38.84,6,     0.00,6,     2.84,4,   -999.0,9,   -999.0,9,-999.0000,9,  -999.00,      647
  49UF20110205,  P13N,  2994,  1,      7,  21966,2,20110304,0632,  9.4840, 146.9988, 4765,   1615.7,   2.7295,  34.6047,2,-999.0000,9,    100.3,2,   128.25,2,    38.73,2,     0.00,2,     2.81,4,   -999.0,9,   -999.0,9,-999.0000,9,  -999.00,      643
  49UF20110205,  P13N,  2994,  1,      6,  21965,2,20110304,0632,  9.4840, 146.9988, 4765,   1816.8,   2.3430,  34.6255,2,-999.0000,9,    109.9,2,   134.47,2,    38.31,2,     0.00,2,     2.78,4,   -999.0,9,   -999.0,9,-999.0000,9,  -999.00,      638
  49UF20110205,  P13N,  2994,  1,      5,  21964,2,20110304,0632,  9.4840, 146.9988, 4765,   1816.8,   2.3430,  34.6255,2,-999.0000,9,    109.8,2,   134.22,2,    38.14,2,     0.00,2,     2.80,4,   -999.0,9,   -999.0,9,-999.0000,9,  -999.00,      638
  49UF20110205,  P13N,  2994,  1,      4,  21963,2,20110304,0632,  9.4840, 146.9988, 4765,   2018.3,   2.1751,  34.6351,2,-999.0000,9,    113.4,2,   138.00,2,    38.18,2,     0.00,2,     2.78,4,   -999.0,9,   -999.0,9,-999.0000,9,  -999.00,      632