BOTTLE,20191015PRINUNIVRMK
# Processed by CCHDO on 2021-05-15, no changes
# 08/29/2019 Initialized README file  
# Data source:  Masao Ishii 2018/11/30 
# SHIP: R/V Keifu Maru II 
# Cruise: KS11-02 partly on P13N 
# Region:North Pacific Ocean 
# 	Sta 2957-2976 on 165E between 28N and 10N; P13N 
# 	Sta 2976-3004 on 10N between 165E and 135E 
# EXPOCODE: 49UF20110205 
# DATES: 20110205 - 20110325	 
# Chief Scientist: Satoshi Kawae 
# 48 stations with 24 place Rosette 
# CTD: Who - Hitomi Kamiya; Status - final 
# 	Includes: CTDSAL 
# SALNTY: Who - Hitomi Kamiya; Status - final 
# 	Notes: 	 
# Nutrients: Who - Hitomi Kamiya; Status - final 
# 	Includes: nitrate, nitrite, silicate, phosphate 
# 	Nitrite and NO3+NO2 reported. Separated by subtraction 
# OXYGEN: Who - Tatsushi Shiga; Status - final 
# 	Notes: 
# TCARBN: Who - Hitomi Kamiya; Status - final 
# 	Notes:  
# ALKALI: Who - Hitomi Kamiya; Status - final 
# 	Notes:  
# PH-TOT: Who - Hitomi Kamiya; Status - final 
# 	Notes:  
# Kawae, Satoshi; Kamiya, Hitomi; Ishii, Masao (2019). Dissolved inorganic carbon (DIC), total alkalinity, pH on total scale, temperature, salinity, oxygen, nutrients and other measurements collected from profile and discrete sample observations during the R/V Keifu Maru II cruise KS11-02 (EXPOCODE 49UF20110205) in the North Pacific Ocean from 2011-02-04 to 2011-03-25 (NCEI Accession 0186232). [indicate subset used]. NOAA National Centers for Environmental Information. Dataset. https://doi.org/10.25921/bqee-2h32.   
# References that have used data from this cruise: 
EXPOCODE,SECT_ID,STNNBR,CASTNO,SAMPNO,BTLNBR,BTLNBR_FLAG_W,DATE,TIME,LATITUDE,LONGITUDE,DEPTH,CTDPRS,CTDTMP,CTDSAL,CTDSAL_FLAG_W,SALNTY,SALNTY_FLAG_W,OXYGEN,OXYGEN_FLAG_W,SILCAT,SILCAT_FLAG_W,NITRAT,NITRAT_FLAG_W,NITRIT,NITRIT_FLAG_W,PHSPHT,PHSPHT_FLAG_W,TCARBN,TCARBN_FLAG_W,ALKALI,ALKALI_FLAG_W,PH_TOT,PH_TOT_FLAG_W,PH_TMP,BTL_TIME
,,,,,,,,,,,METERS,DBAR,ITS-90,PSS-78,,PSS-78,,UMOL/KG,,UMOL/KG,,UMOL/KG,,UMOL/KG,,UMOL/KG,,UMOL/KG,,UMOL/KG,,,,DEG C,
  49UF20110205,  P13N,  2957,  1,     99,     99,2,20110210,0016, 27.9743, 164.9823, 4817,      0.0,  21.5498,  35.2080,2,-999.0000,9,    219.4,2,     2.54,2,     0.19,2,     0.01,2,     0.03,2,   -999.0,9,   -999.0,9,-999.0000,9,  -999.00,       59
  49UF20110205,  P13N,  2957,  1,     33,  21993,2,20110210,0016, 27.9743, 164.9823, 4817,     11.2,  21.5495,  35.2081,2,  35.2095,2,    218.0,2,     2.45,2,     0.08,2,     0.01,2,     0.02,2,   1999.7,2,   2308.5,2,   8.0513,2,    25.00,      125
  49UF20110205,  P13N,  2957,  1,     32,  21992,2,20110210,0016, 27.9743, 164.9823, 4817,     26.8,  21.5016,  35.2036,2,-999.0000,9,    218.5,2,     2.53,2,     0.13,2,     0.01,2,     0.02,2,   1999.0,2,   2306.6,2,   8.0508,2,    25.00,      124
  49UF20110205,  P13N,  2957,  1,     31,  21991,2,20110210,0016, 27.9743, 164.9823, 4817,     51.3,  21.1748,  35.1369,2,-999.0000,9,    219.2,2,     2.51,2,     0.06,2,     0.01,2,     0.03,2,   1999.1,2,   2301.5,2,   8.0471,2,    25.00,      119
  49UF20110205,  P13N,  2957,  1,     30,  21990,2,20110210,0016, 27.9743, 164.9823, 4817,     76.2,  21.0546,  35.1151,2,-999.0000,9,    219.2,2,     2.61,2,     0.05,2,     0.01,2,     0.02,2,   1998.3,2,   2301.2,2,   8.0452,2,    25.00,      117
  49UF20110205,  P13N,  2957,  1,     29,  21989,2,20110210,0016, 27.9743, 164.9823, 4817,    103.7,  20.2330,  34.9560,2,  34.9704,4,    219.4,6,     2.87,6,     0.17,6,     0.05,6,     0.04,6,   2004.6,2,   2294.1,2,   8.0246,2,    25.00,      115
  49UF20110205,  P13N,  2957,  1,     28,  21988,2,20110210,0016, 27.9743, 164.9823, 4817,    128.4,  19.1423,  34.8643,2,-999.0000,9,    204.4,2,     3.47,2,     0.89,2,     0.06,2,     0.11,2,   2030.1,2,   2288.4,2,   7.9716,2,    25.00,      113
  49UF20110205,  P13N,  2957,  1,     24,  21984,2,20110210,0016, 27.9743, 164.9823, 4817,    149.6,  18.3873,  34.7767,2,-999.0000,9,    204.8,2,     3.89,2,     2.21,2,     0.02,2,     0.19,2,   2032.2,2,   2282.7,2,   7.9581,2,    25.00,      112
  49UF20110205,  P13N,  2957,  1,     23,  21983,2,20110210,0016, 27.9743, 164.9823, 4817,    204.9,  17.1926,  34.6724,2,  34.6737,2,    208.6,2,     4.98,2,     4.36,2,     0.01,2,     0.31,2,   2033.8,2,   2273.6,2,   7.9470,2,    25.00,      109
  49UF20110205,  P13N,  2957,  1,     22,  21982,2,20110210,0016, 27.9743, 164.9823, 4817,    253.4,  16.7043,  34.6465,2,-999.0000,9,    204.9,2,     6.04,2,     5.53,2,     0.01,2,     0.39,2,   2043.7,2,   2267.2,2,   7.9261,2,    25.00,      107
  49UF20110205,  P13N,  2957,  1,     21,  21981,2,20110210,0016, 27.9743, 164.9823, 4817,    303.0,  15.9381,  34.6041,2,-999.0000,9,    202.3,2,     7.50,2,     6.93,2,     0.01,2,     0.48,2,   2055.2,2,   2274.0,2,   7.9036,2,    25.00,      105
  49UF20110205,  P13N,  2957,  1,     20,  21980,2,20110210,0016, 27.9743, 164.9823, 4817,    404.9,  13.7966,  34.4798,2,-999.0000,9,    196.3,2,    12.96,2,    10.91,2,     0.01,2,     0.77,2,   2083.9,2,   2271.6,2,   7.8408,2,    25.00,      101
  49UF20110205,  P13N,  2957,  1,     19,  21978,2,20110210,0016, 27.9743, 164.9823, 4817,    404.9,  13.7966,  34.4798,2,  34.4817,2,    196.2,2,    12.93,2,    10.92,2,     0.01,2,     0.77,2,   2085.7,2,   2271.1,2,   7.8362,3,    25.00,      101
  49UF20110205,  P13N,  2957,  1,     15,  21974,2,20110210,0016, 27.9743, 164.9823, 4817,    506.1,  11.1081,  34.2861,2,-999.0000,9,    193.2,2,    21.71,2,    15.78,2,     0.01,2,     1.12,2,   2118.8,6,   2273.3,2,   7.7554,6,    25.00,       57
  49UF20110205,  P13N,  2957,  1,     14,  21973,2,20110210,0016, 27.9743, 164.9823, 4817,    604.2,   7.7647,  34.0726,2,  34.0743,2,    159.1,2,    43.16,2,    24.96,2,     0.01,2,     1.81,2,   2186.1,2,   2281.2,2,   7.6149,2,    25.00,       54
  49UF20110205,  P13N,  2957,  1,     13,  21972,2,20110210,0016, 27.9743, 164.9823, 4817,    706.9,   5.7797,  34.0329,2,-999.0000,9,    119.2,2,    67.28,2,    32.04,2,     0.01,2,     2.33,2,   2243.9,2,   2290.5,2,   7.4818,2,    25.00,       51
  49UF20110205,  P13N,  2957,  1,     12,  21971,2,20110210,0016, 27.9743, 164.9823, 4817,    808.7,   4.7877,  34.1202,2,  34.1203,2,     74.1,2,    89.84,2,    37.65,2,     0.01,2,     2.73,2,   2298.3,2,   2318.3,2,   7.4013,2,    25.00,       48
  49UF20110205,  P13N,  2957,  1,     11,  21970,2,20110210,0016, 27.9743, 164.9823, 4817,    908.7,   4.1644,  34.2228,2,-999.0000,9,     46.8,6,   107.91,6,    40.92,6,     0.01,6,     2.95,6,   2333.7,2,   2342.5,2,   7.3491,2,    25.00,       45
  49UF20110205,  P13N,  2957,  1,     10,  21969,2,20110210,0016, 27.9743, 164.9823, 4817,   1009.5,   3.7488,  34.2999,2,  34.2997,2,     36.9,2,   120.21,2,    42.19,2,     0.01,2,     3.04,2,   2358.2,2,   2355.8,2,   7.3375,2,    25.00,       42
  49UF20110205,  P13N,  2957,  1,      6,  21965,2,20110210,0016, 27.9743, 164.9823, 4817,   1210.9,   3.2377,  34.4183,2,  34.4182,2,     35.7,2,   134.93,2,    42.78,2,     0.01,2,     3.08,2,   2373.3,6,   2376.9,6,   7.3477,6,    25.00,       37
  49UF20110205,  P13N,  2957,  1,      5,  21964,2,20110210,0016, 27.9743, 164.9823, 4817,   1414.5,   2.7686,  34.4892,2,  34.4889,2,     43.8,2,   146.66,2,    42.67,2,     0.01,2,     3.06,2,   2380.8,2,   2389.1,2,   7.3618,2,    25.00,       32
  49UF20110205,  P13N,  2957,  1,      4,  21963,2,20110210,0016, 27.9743, 164.9823, 4817,   1618.7,   2.4262,  34.5425,2,  34.5433,2,     58.8,2,   153.50,2,    42.00,2,     0.01,2,     2.99,2,   2381.6,2,   2401.1,2,   7.3957,2,    25.00,       27
  49UF20110205,  P13N,  2957,  1,      3,  21962,2,20110210,0016, 27.9743, 164.9823, 4817,   1819.4,   2.1457,  34.5811,2,  34.5816,2,     74.6,2,   157.29,2,    41.37,2,     0.01,2,     2.92,2,   2377.6,2,   2405.5,2,   7.4255,2,    25.00,       22
  49UF20110205,  P13N,  2957,  1,      2,  21961,2,20110210,0016, 27.9743, 164.9823, 4817,   2024.6,   1.9589,  34.6085,2,-999.0000,9,     89.1,2,   158.50,2,    40.34,2,     0.01,2,     2.85,2,   2371.8,2,   2413.4,2,   7.4483,2,    25.00,       17
  49UF20110205,  P13N,  2957,  1,      1,  21960,2,20110210,0016, 27.9743, 164.9823, 4817,   2024.6,   1.9589,  34.6085,2,  34.6137,2,     89.0,2,   157.90,2,    40.27,2,     0.01,2,     2.85,2,   2370.4,2,   2411.4,2,   7.4520,2,    25.00,       16
  49UF20110205,  P13N,  2958,  1,     99,     99,2,20110210,0702, 26.9782, 164.9960, 5869,      0.0,  22.5656,  35.4259,2,-999.0000,9,    214.2,2,     1.28,2,     0.13,2,     0.01,2,     0.06,2,   -999.0,9,   -999.0,9,-999.0000,9,  -999.00,      730
  49UF20110205,  P13N,  2958,  1,     33,  21993,2,20110210,0702, 26.9782, 164.9960, 5869,     11.5,  22.5621,  35.4245,2,-999.0000,9,    213.9,2,     1.24,2,     0.07,2,     0.01,2,     0.03,2,   -999.0,9,   -999.0,9,-999.0000,9,  -999.00,      802
  49UF20110205,  P13N,  2958,  1,     32,  21992,2,20110210,0702, 26.9782, 164.9960, 5869,     26.5,  22.5703,  35.4247,2,-999.0000,9,    213.8,2,     1.24,2,     0.00,2,     0.01,2,     0.03,2,   -999.0,9,   -999.0,9,-999.0000,9,  -999.00,      800
  49UF20110205,  P13N,  2958,  1,     31,  21991,2,20110210,0702, 26.9782, 164.9960, 5869,     51.7,  22.5721,  35.4244,2,-999.0000,9,    213.9,2,     1.24,2,     0.09,2,     0.01,2,     0.03,2,   -999.0,9,   -999.0,9,-999.0000,9,  -999.00,      756
  49UF20110205,  P13N,  2958,  1,     30,  21990,2,20110210,0702, 26.9782, 164.9960, 5869,     75.5,  22.5733,  35.4279,2,-999.0000,9,    213.2,6,     1.29,6,     0.06,6,     0.01,6,     0.03,6,   -999.0,9,   -999.0,9,-999.0000,9,  -999.00,      755
  49UF20110205,  P13N,  2958,  1,     29,  21989,2,20110210,0702, 26.9782, 164.9960, 5869,    100.5,  22.5696,  35.4261,2,-999.0000,9,    212.6,2,     1.21,2,     0.07,2,     0.01,2,     0.04,2,   -999.0,9,   -999.0,9,-999.0000,9,  -999.00,      753
  49UF20110205,  P13N,  2958,  1,     28,  21988,2,20110210,0702, 26.9782, 164.9960, 5869,    127.1,  22.5609,  35.4221,2,-999.0000,9,    213.2,2,     1.25,2,     0.02,2,     0.01,2,     0.04,2,   -999.0,9,   -999.0,9,-999.0000,9,  -999.00,      752
  49UF20110205,  P13N,  2958,  1,     24,  21984,2,20110210,0702, 26.9782, 164.9960, 5869,    152.3,  22.5641,  35.4212,2,-999.0000,9,    213.0,2,     1.24,2,     0.04,2,     0.01,2,     0.03,2,   -999.0,9,   -999.0,9,-999.0000,9,  -999.00,      751
  49UF20110205,  P13N,  2958,  1,     23,  21983,2,20110210,0702, 26.9782, 164.9960, 5869,    203.1,  19.2370,  34.9196,2,-999.0000,9,    205.5,2,     2.41,2,     1.35,2,     0.03,2,     0.15,2,   -999.0,9,   -999.0,9,-999.0000,9,  -999.00,      749
  49UF20110205,  P13N,  2958,  1,     22,  21982,2,20110210,0702, 26.9782, 164.9960, 5869,    252.6,  17.4513,  34.6921,2,-999.0000,9,   -999.0,5,     3.57,2,     3.75,2,     0.02,2,     0.29,2,   -999.0,9,   -999.0,9,-999.0000,9,  -999.00,      747
  49UF20110205,  P13N,  2958,  1,     21,  21981,2,20110210,0702, 26.9782, 164.9960, 5869,    252.6,  17.4513,  34.6921,2,-999.0000,9,    210.5,2,     3.56,2,     3.72,2,     0.02,2,     0.29,2,   -999.0,9,   -999.0,9,-999.0000,9,  -999.00,      747
  49UF20110205,  P13N,  2958,  1,     20,  21980,2,20110210,0702, 26.9782, 164.9960, 5869,    304.4,  16.0598,  34.5989,2,-999.0000,9,    207.8,2,     5.63,2,     6.02,2,     0.01,2,     0.45,2,   -999.0,9,   -999.0,9,-999.0000,9,  -999.00,      745
  49UF20110205,  P13N,  2958,  1,     19,  21978,2,20110210,0702, 26.9782, 164.9960, 5869,    405.1,  14.1023,  34.4759,2,-999.0000,9,    202.3,2,     9.67,2,     9.56,2,     0.01,2,     0.71,2,   -999.0,9,   -999.0,9,-999.0000,9,  -999.00,      742
  49UF20110205,  P13N,  2958,  1,     15,  21974,2,20110210,0702, 26.9782, 164.9960, 5869,    505.2,  11.0709,  34.2675,2,-999.0000,9,    195.8,2,    18.87,2,    15.50,2,     0.01,2,     1.13,2,   -999.0,9,   -999.0,9,-999.0000,9,  -999.00,      739
  49UF20110205,  P13N,  2958,  1,     14,  21973,2,20110210,0702, 26.9782, 164.9960, 5869,    607.9,   8.5309,  34.1097,2,-999.0000,9,    166.8,2,    34.23,2,    22.80,2,     0.01,2,     1.67,2,   -999.0,9,   -999.0,9,-999.0000,9,  -999.00,      737
  49UF20110205,  P13N,  2958,  1,     13,  21972,2,20110210,0702, 26.9782, 164.9960, 5869,    707.5,   6.6289,  34.0529,2,-999.0000,9,    124.7,2,    54.80,2,    30.07,2,     0.01,2,     2.20,2,   -999.0,9,   -999.0,9,-999.0000,9,  -999.00,      734
  49UF20110205,  P13N,  2958,  1,     12,  21971,2,20110210,0702, 26.9782, 164.9960, 5869,    809.0,   5.2996,  34.1068,2,-999.0000,9,     76.1,6,    78.44,6,    36.69,6,     0.01,6,     2.68,6,   -999.0,9,   -999.0,9,-999.0000,9,  -999.00,      731
  49UF20110205,  P13N,  2958,  1,     11,  21970,2,20110210,0702, 26.9782, 164.9960, 5869,    910.7,   4.4886,  34.2025,2,-999.0000,9,     48.2,2,    97.22,2,    40.44,2,     0.01,2,     2.92,2,   -999.0,9,   -999.0,9,-999.0000,9,  -999.00,      728
  49UF20110205,  P13N,  2958,  1,     10,  21969,2,20110210,0702, 26.9782, 164.9960, 5869,   1010.4,   3.9447,  34.2993,2,-999.0000,9,     37.4,2,   112.48,2,    41.65,2,     0.01,2,     3.03,2,   -999.0,9,   -999.0,9,-999.0000,9,  -999.00,      725
  49UF20110205,  P13N,  2958,  1,      6,  21965,2,20110210,0702, 26.9782, 164.9960, 5869,   1212.7,   3.3223,  34.4244,2,-999.0000,9,     40.0,2,   129.70,2,    42.47,2,     0.01,2,     3.05,2,   -999.0,9,   -999.0,9,-999.0000,9,  -999.00,      720
  49UF20110205,  P13N,  2958,  1,      5,  21964,2,20110210,0702, 26.9782, 164.9960, 5869,   1416.7,   2.8560,  34.5108,2,-999.0000,9,     59.7,2,   137.73,2,    41.43,2,     0.00,2,     2.97,2,   -999.0,9,   -999.0,9,-999.0000,9,  -999.00,      716
  49UF20110205,  P13N,  2958,  1,      4,  21963,2,20110210,0702, 26.9782, 164.9960, 5869,   1617.9,   2.4465,  34.5475,2,-999.0000,9,     63.5,2,   149.55,2,    41.56,2,     0.01,2,     2.97,2,   -999.0,9,   -999.0,9,-999.0000,9,  -999.00,      711
  49UF20110205,  P13N,  2958,  1,      3,  21962,2,20110210,0702, 26.9782, 164.9960, 5869,   1617.9,   2.4465,  34.5475,2,-999.0000,9,     63.2,2,   149.75,2,    41.53,2,     0.01,2,     2.97,2,   -999.0,9,   -999.0,9,-999.0000,9,  -999.00,      711
  49UF20110205,  P13N,  2958,  1,      2,  21961,2,20110210,0702, 26.9782, 164.9960, 5869,   1820.8,   2.1364,  34.5846,2,-999.0000,9,     77.4,2,   155.15,2,    40.91,2,     0.01,2,     2.90,2,   -999.0,9,   -999.0,9,-999.0000,9,  -999.00,      706
  49UF20110205,  P13N,  2958,  1,      1,  21960,2,20110210,0702, 26.9782, 164.9960, 5869,   2022.5,   1.9419,  34.6103,2,-999.0000,9,     91.8,2,   155.28,2,    40.08,2,     0.02,2,     2.85,2,   -999.0,9,   -999.0,9,-999.0000,9,  -999.00,      702