BOTTLE,20191015PRINUNIVRMK
EXPOCODE,SECT_ID,STNNBR,CASTNO,SAMPNO,BTLNBR,BTLNBR_FLAG_W,DATE,TIME,LATITUDE,LONGITUDE,DEPTH,CTDPRS,CTDTMP,CTDSAL,CTDSAL_FLAG_W,SALNTY,SALNTY_FLAG_W,OXYGEN,OXYGEN_FLAG_W,SILCAT,SILCAT_FLAG_W,NITRAT,NITRAT_FLAG_W,NITRIT,NITRIT_FLAG_W,PHSPHT,PHSPHT_FLAG_W,TCARBN,TCARBN_FLAG_W,ALKALI,ALKALI_FLAG_W,PH_TOT,PH_TOT_FLAG_W,PH_TMP,BTL_TIME
,,,,,,,,,,,METERS,DBAR,ITS-90,PSS-78,,PSS-78,,UMOL/KG,,UMOL/KG,,UMOL/KG,,UMOL/KG,,UMOL/KG,,UMOL/KG,,UMOL/KG,,,,DEG C,
  49UF20110205,  P13N,  2980,  1,     99,     99,2,20110217,0404,  9.4933, 159.9872, 5341,      0.0,  28.4272,  34.2963,2,-999.0000,9,    198.3,2,     0.95,2,     0.04,2,     0.00,2,     0.08,2,   -999.0,9,   -999.0,9,-999.0000,9,  -999.00,      445
  49UF20110205,  P13N,  2980,  1,     33,  21993,2,20110217,0404,  9.4933, 159.9872, 5341,     10.9,  28.4218,  34.2945,2,-999.0000,9,    198.2,2,     1.14,2,     0.04,2,     0.01,2,     0.08,2,   1917.4,2,   2248.5,2,   8.1146,2,    25.00,      504
  49UF20110205,  P13N,  2980,  1,     32,  21992,2,20110217,0404,  9.4933, 159.9872, 5341,     10.9,  28.4218,  34.2945,2,-999.0000,9,    198.1,2,     0.99,2,     0.03,2,     0.00,2,     0.08,2,   1917.7,2,   2245.5,2,   8.1112,2,    25.00,      503
  49UF20110205,  P13N,  2980,  1,     31,  21991,2,20110217,0404,  9.4933, 159.9872, 5341,     26.1,  28.3077,  34.2831,2,-999.0000,9,    198.2,2,     0.97,2,     0.02,2,     0.00,2,     0.09,2,   1917.9,2,   2244.2,2,   8.1137,2,    25.00,      502
  49UF20110205,  P13N,  2980,  1,     30,  21990,3,20110217,0404,  9.4933, 159.9872, 5341,     49.8,  28.2726,  34.2934,2,-999.0000,9,    198.5,2,     0.90,2,     0.01,2,     0.00,2,     0.08,2,   1919.1,2,   2246.0,2,   8.1110,2,    25.00,      458
  49UF20110205,  P13N,  2980,  1,     29,  21989,3,20110217,0404,  9.4933, 159.9872, 5341,     75.6,  28.0404,  34.5104,2,-999.0000,9,    200.9,2,     1.05,2,     0.03,2,     0.00,2,     0.09,2,   1932.3,2,   2263.0,2,   8.1063,2,    25.00,      457
  49UF20110205,  P13N,  2980,  1,     28,  21988,2,20110217,0404,  9.4933, 159.9872, 5341,    101.7,  25.8748,  35.0271,2,-999.0000,9,    207.9,2,     1.14,2,     0.01,2,     0.00,2,     0.11,2,   1985.8,2,   2299.3,2,   8.0732,2,    25.00,      455
  49UF20110205,  P13N,  2980,  1,     24,  21984,2,20110217,0404,  9.4933, 159.9872, 5341,    125.1,  23.4625,  35.1137,2,-999.0000,9,    198.2,6,     1.62,6,     0.16,6,     0.02,6,     0.16,6,   2022.8,2,   2308.2,2,   8.0143,2,    25.00,      454
  49UF20110205,  P13N,  2980,  1,     23,  21983,2,20110217,0404,  9.4933, 159.9872, 5341,    152.7,  19.8070,  34.8498,2,-999.0000,9,    165.6,2,     4.52,2,     5.29,2,     0.09,2,     0.52,2,   2072.3,2,   2295.5,2,   7.8957,2,    25.00,      453
  49UF20110205,  P13N,  2980,  1,     22,  21982,2,20110217,0404,  9.4933, 159.9872, 5341,    201.9,  15.4227,  34.5530,2,-999.0000,9,    138.0,2,    11.32,2,    13.35,2,     0.01,2,     1.06,2,   2117.7,2,   2279.4,2,   7.7711,2,    25.00,      451
  49UF20110205,  P13N,  2980,  1,     21,  21981,2,20110217,0404,  9.4933, 159.9872, 5341,    251.3,  11.2002,  34.4283,2,-999.0000,9,     89.9,2,    26.03,2,    25.19,2,     0.01,2,     1.87,2,   2192.8,2,   2277.5,2,   7.5765,2,    25.00,      449
  49UF20110205,  P13N,  2980,  1,     20,  21980,2,20110217,0404,  9.4933, 159.9872, 5341,    304.0,   9.6107,  34.5100,2,-999.0000,9,     60.3,2,    35.45,2,    31.41,2,     0.01,2,     2.28,2,   2235.0,2,   2293.6,2,   7.5002,2,    25.00,      448
  49UF20110205,  P13N,  2980,  1,     19,  21978,2,20110217,0404,  9.4933, 159.9872, 5341,    404.6,   8.3663,  34.5602,2,-999.0000,9,     60.0,2,    42.32,2,    34.34,2,     0.01,2,     2.45,2,   2252.7,2,   2309.7,2,   7.4913,2,    25.00,      445
  49UF20110205,  P13N,  2980,  1,     15,  21974,2,20110217,0404,  9.4933, 159.9872, 5341,    505.9,   7.3972,  34.5328,2,-999.0000,9,     70.0,2,    49.59,2,    35.10,2,     0.01,2,     2.51,2,   2258.6,2,   2316.8,2,   7.4844,2,    25.00,      442
  49UF20110205,  P13N,  2980,  1,     14,  21973,2,20110217,0404,  9.4933, 159.9872, 5341,    505.9,   7.3972,  34.5328,2,-999.0000,9,     70.1,2,    49.36,2,    35.17,2,     0.01,2,     2.51,2,   2256.1,2,   2313.2,3,   7.4828,2,    25.00,      442
  49UF20110205,  P13N,  2980,  1,     13,  21972,2,20110217,0404,  9.4933, 159.9872, 5341,    605.8,   6.6894,  34.5240,2,-999.0000,9,     72.9,2,    57.42,2,    36.22,2,     0.01,2,     2.59,2,   2267.8,2,   2324.0,2,   7.4809,2,    25.00,      439
  49UF20110205,  P13N,  2980,  1,     12,  21971,2,20110217,0404,  9.4933, 159.9872, 5341,    707.6,   6.1015,  34.5273,2,-999.0000,9,     68.7,2,    65.59,2,    37.75,2,     0.01,2,     2.71,2,   2281.9,2,   2332.4,2,   7.4624,2,    25.00,      436
  49UF20110205,  P13N,  2980,  1,     11,  21970,2,20110217,0404,  9.4933, 159.9872, 5341,    806.9,   5.5467,  34.5313,2,-999.0000,9,     68.6,2,    74.19,2,    38.54,2,     0.01,2,     2.76,2,   2293.4,2,   2342.1,2,   7.4590,2,    25.00,      433
  49UF20110205,  P13N,  2980,  1,     10,  21969,2,20110217,0404,  9.4933, 159.9872, 5341,    909.0,   5.0594,  34.5391,2,-999.0000,9,     71.3,2,    82.63,2,    39.13,2,     0.01,2,     2.80,2,   2303.0,6,   2354.0,6,   7.4600,6,    25.00,      430
  49UF20110205,  P13N,  2980,  1,      6,  21965,2,20110217,0404,  9.4933, 159.9872, 5341,   1007.7,   4.5259,  34.5472,2,-999.0000,9,     72.0,6,    93.30,6,    39.68,6,     0.01,6,     2.85,6,   2314.4,2,   2359.3,2,   7.4538,2,    25.00,      428
  49UF20110205,  P13N,  2980,  1,      5,  21964,2,20110217,0404,  9.4933, 159.9872, 5341,   1210.6,   3.5500,  34.5777,2,-999.0000,9,     87.3,2,   111.43,2,    39.25,2,     0.01,2,     2.80,2,   2327.3,2,   2377.8,2,   7.4748,2,    25.00,      423
  49UF20110205,  P13N,  2980,  1,      4,  21963,2,20110217,0404,  9.4933, 159.9872, 5341,   1413.6,   3.0893,  34.5922,2,-999.0000,9,     89.4,2,   122.78,2,    39.46,2,     0.01,2,     2.82,2,   2335.3,2,   2389.9,2,   7.4755,2,    25.00,      418
  49UF20110205,  P13N,  2980,  1,      3,  21962,3,20110217,0404,  9.4933, 159.9872, 5341,   1617.9,   2.6487,  34.6105,2,-999.0000,9,     97.1,2,   131.66,2,    39.41,2,     0.01,2,     2.79,2,   2344.9,2,   2400.0,2,   7.4837,2,    25.00,      413
  49UF20110205,  P13N,  2980,  1,      2,  21961,2,20110217,0404,  9.4933, 159.9872, 5341,   1821.2,   2.3756,  34.6248,2,-999.0000,9,    102.6,2,   137.36,2,    39.05,2,     0.01,2,     2.76,2,   2348.1,2,   2409.4,2,   7.4951,2,    25.00,      408
  49UF20110205,  P13N,  2980,  1,      1,  21960,2,20110217,0404,  9.4933, 159.9872, 5341,   2021.4,   2.1682,  34.6356,2,-999.0000,9,    108.4,2,   141.36,2,    38.63,2,     0.00,2,     2.73,2,   2348.8,6,   2412.7,2,   7.5013,6,    25.00,      404
  49UF20110205,  P13N,  2981,  1,     99,     99,2,20110217,1103,  9.4797, 158.9852, 4680,      0.0,  28.2298,  34.3869,2,-999.0000,9,    197.9,2,     0.85,2,     0.05,2,     0.00,2,     0.10,2,   -999.0,9,   -999.0,9,-999.0000,9,  -999.00,     1147
  49UF20110205,  P13N,  2981,  1,     33,  21993,2,20110217,1103,  9.4797, 158.9852, 4680,     11.5,  28.2201,  34.3874,2,-999.0000,9,    198.5,2,     0.80,2,     0.04,2,     0.00,2,     0.09,2,   -999.0,9,   -999.0,9,-999.0000,9,  -999.00,     1205
  49UF20110205,  P13N,  2981,  1,     32,  21992,2,20110217,1103,  9.4797, 158.9852, 4680,     26.3,  28.2403,  34.3866,2,-999.0000,9,    197.7,2,     0.87,2,     0.06,2,     0.00,2,     0.10,2,   -999.0,9,   -999.0,9,-999.0000,9,  -999.00,     1204
  49UF20110205,  P13N,  2981,  1,     31,  21991,2,20110217,1103,  9.4797, 158.9852, 4680,     51.0,  28.2399,  34.3891,2,-999.0000,9,    197.5,2,     0.82,2,     0.03,2,     0.00,2,     0.11,2,   -999.0,9,   -999.0,9,-999.0000,9,  -999.00,     1200
  49UF20110205,  P13N,  2981,  1,     30,  21990,2,20110217,1103,  9.4797, 158.9852, 4680,     75.2,  28.1384,  34.4739,2,-999.0000,9,    198.6,2,     0.83,2,     0.00,2,     0.00,2,     0.10,2,   -999.0,9,   -999.0,9,-999.0000,9,  -999.00,     1159
  49UF20110205,  P13N,  2981,  1,     29,  21989,2,20110217,1103,  9.4797, 158.9852, 4680,     99.3,  26.9175,  34.8709,2,-999.0000,9,    206.0,6,     1.04,6,     0.09,6,     0.00,6,     0.12,6,   -999.0,9,   -999.0,9,-999.0000,9,  -999.00,     1157
  49UF20110205,  P13N,  2981,  1,     28,  21988,2,20110217,1103,  9.4797, 158.9852, 4680,    126.7,  24.0212,  35.1281,2,-999.0000,9,    201.6,2,     1.30,2,     0.12,2,     0.01,2,     0.14,2,   -999.0,9,   -999.0,9,-999.0000,9,  -999.00,     1156
  49UF20110205,  P13N,  2981,  1,     24,  21984,2,20110217,1103,  9.4797, 158.9852, 4680,    151.3,  21.2533,  34.9199,2,-999.0000,9,    173.2,2,     3.57,2,     3.47,2,     0.13,2,     0.42,2,   -999.0,9,   -999.0,9,-999.0000,9,  -999.00,     1155
  49UF20110205,  P13N,  2981,  1,     23,  21983,2,20110217,1103,  9.4797, 158.9852, 4680,    202.2,  14.6381,  34.5178,2,-999.0000,9,    128.9,2,    13.53,2,    15.42,2,     0.01,2,     1.22,2,   -999.0,9,   -999.0,9,-999.0000,9,  -999.00,     1153
  49UF20110205,  P13N,  2981,  1,     22,  21982,2,20110217,1103,  9.4797, 158.9852, 4680,    252.8,  10.9244,  34.4405,2,-999.0000,9,     82.8,2,    27.69,2,    26.45,2,     0.00,2,     1.97,2,   -999.0,9,   -999.0,9,-999.0000,9,  -999.00,     1151
  49UF20110205,  P13N,  2981,  1,     21,  21981,2,20110217,1103,  9.4797, 158.9852, 4680,    303.0,   9.6701,  34.5135,2,-999.0000,9,     59.3,2,    35.41,2,    31.47,2,     0.00,2,     2.29,2,   -999.0,9,   -999.0,9,-999.0000,9,  -999.00,     1148
  49UF20110205,  P13N,  2981,  1,     20,  21980,2,20110217,1103,  9.4797, 158.9852, 4680,    403.5,   8.1491,  34.5379,2,-999.0000,9,     67.6,2,    44.19,2,    33.92,2,     0.00,2,     2.43,2,   -999.0,9,   -999.0,9,-999.0000,9,  -999.00,     1145
  49UF20110205,  P13N,  2981,  1,     19,  21978,2,20110217,1103,  9.4797, 158.9852, 4680,    403.5,   8.1491,  34.5379,2,-999.0000,9,     67.6,2,    44.16,2,    33.93,2,     0.00,2,     2.45,2,   -999.0,9,   -999.0,9,-999.0000,9,  -999.00,     1145
  49UF20110205,  P13N,  2981,  1,     15,  21974,2,20110217,1103,  9.4797, 158.9852, 4680,    506.1,   7.3418,  34.5320,2,-999.0000,9,     71.6,2,    50.55,2,    35.24,2,     0.00,2,     2.52,2,   -999.0,9,   -999.0,9,-999.0000,9,  -999.00,     1141
  49UF20110205,  P13N,  2981,  1,     14,  21973,2,20110217,1103,  9.4797, 158.9852, 4680,    606.1,   6.7417,  34.5354,2,-999.0000,9,     58.5,2,    58.02,2,    37.51,2,     0.00,2,     2.70,2,   -999.0,9,   -999.0,9,-999.0000,9,  -999.00,     1138
  49UF20110205,  P13N,  2981,  1,     13,  21972,2,20110217,1103,  9.4797, 158.9852, 4680,    706.5,   6.1582,  34.5311,2,-999.0000,9,     61.2,2,    65.55,2,    38.47,2,     0.00,2,     2.78,2,   -999.0,9,   -999.0,9,-999.0000,9,  -999.00,     1135
  49UF20110205,  P13N,  2981,  1,     12,  21971,2,20110217,1103,  9.4797, 158.9852, 4680,    807.3,   5.4909,  34.5316,2,-999.0000,9,     68.5,2,    75.47,2,    38.82,2,     0.00,2,     2.78,2,   -999.0,9,   -999.0,9,-999.0000,9,  -999.00,     1132
  49UF20110205,  P13N,  2981,  1,     11,  21970,2,20110217,1103,  9.4797, 158.9852, 4680,    908.1,   5.0481,  34.5374,2,-999.0000,9,     70.9,6,    83.35,6,    39.26,6,     0.00,6,     2.82,6,   -999.0,9,   -999.0,9,-999.0000,9,  -999.00,     1129
  49UF20110205,  P13N,  2981,  1,     10,  21969,2,20110217,1103,  9.4797, 158.9852, 4680,   1010.3,   4.5647,  34.5474,2,-999.0000,9,     72.5,2,    92.77,2,    39.85,2,     0.00,2,     2.85,2,   -999.0,9,   -999.0,9,-999.0000,9,  -999.00,     1127
  49UF20110205,  P13N,  2981,  1,      6,  21965,2,20110217,1103,  9.4797, 158.9852, 4680,   1211.5,   3.6121,  34.5738,2,-999.0000,9,     84.4,2,   111.53,2,    39.70,2,     0.00,2,     2.84,2,   -999.0,9,   -999.0,9,-999.0000,9,  -999.00,     1121
  49UF20110205,  P13N,  2981,  1,      5,  21964,2,20110217,1103,  9.4797, 158.9852, 4680,   1412.1,   3.0173,  34.5957,2,-999.0000,9,     93.1,2,   123.77,2,    39.61,2,     0.00,2,     2.82,2,   -999.0,9,   -999.0,9,-999.0000,9,  -999.00,     1117
  49UF20110205,  P13N,  2981,  1,      4,  21963,2,20110217,1103,  9.4797, 158.9852, 4680,   1615.1,   2.6244,  34.6120,2,-999.0000,9,     94.3,3,   132.60,2,    39.49,2,     0.00,2,     2.80,2,   -999.0,9,   -999.0,9,-999.0000,9,  -999.00,     1112
  49UF20110205,  P13N,  2981,  1,      3,  21962,2,20110217,1103,  9.4797, 158.9852, 4680,   1819.1,   2.4114,  34.6237,2,-999.0000,9,    103.4,3,   137.50,2,    39.18,2,     0.00,2,     2.78,2,   -999.0,9,   -999.0,9,-999.0000,9,  -999.00,     1108
  49UF20110205,  P13N,  2981,  1,      2,  21961,2,20110217,1103,  9.4797, 158.9852, 4680,   2020.6,   2.2001,  34.6360,2,-999.0000,9,    108.2,3,   141.93,2,    39.11,2,     0.00,2,     2.76,2,   -999.0,9,   -999.0,9,-999.0000,9,  -999.00,     1103
  49UF20110205,  P13N,  2981,  1,      1,  21960,2,20110217,1103,  9.4797, 158.9852, 4680,   2020.6,   2.2001,  34.6360,2,-999.0000,9,    106.4,2,   141.66,2,    39.08,2,     0.00,2,     2.76,2,   -999.0,9,   -999.0,9,-999.0000,9,  -999.00,     1103
  49UF20110205,  P13N,  2982,  1,     99,     99,2,20110217,1727,  9.4810, 157.9827, 4786,      0.0,  28.2325,  34.3882,2,-999.0000,9,    198.5,2,     0.84,2,     0.07,2,     0.00,2,     0.09,2,   -999.0,9,   -999.0,9,-999.0000,9,  -999.00,     1815
  49UF20110205,  P13N,  2982,  1,     33,  21993,2,20110217,1727,  9.4810, 157.9827, 4786,     10.5,  28.2322,  34.3883,2,  34.3858,2,    197.8,2,     0.75,2,     0.01,2,     0.00,2,     0.09,2,   -999.0,9,   -999.0,9,-999.0000,9,  -999.00,     1834
  49UF20110205,  P13N,  2982,  1,     32,  21992,2,20110217,1727,  9.4810, 157.9827, 4786,     25.2,  28.2360,  34.3892,2,-999.0000,9,    197.4,2,     0.79,2,     0.01,2,     0.00,2,     0.08,2,   -999.0,9,   -999.0,9,-999.0000,9,  -999.00,     1833
  49UF20110205,  P13N,  2982,  1,     31,  21991,2,20110217,1727,  9.4810, 157.9827, 4786,     49.6,  28.2407,  34.3990,2,-999.0000,9,    197.7,2,     0.75,2,     0.04,2,     0.00,2,     0.08,2,   -999.0,9,   -999.0,9,-999.0000,9,  -999.00,     1828
  49UF20110205,  P13N,  2982,  1,     30,  21990,2,20110217,1727,  9.4810, 157.9827, 4786,     76.2,  27.8812,  34.6894,2,-999.0000,9,    199.3,6,     0.81,6,     0.04,6,     0.00,6,     0.12,6,   -999.0,9,   -999.0,9,-999.0000,9,  -999.00,     1827
  49UF20110205,  P13N,  2982,  1,     29,  21989,2,20110217,1727,  9.4810, 157.9827, 4786,    101.5,  26.2048,  34.9979,2,  35.0063,4,    206.6,2,     0.96,2,     0.04,2,     0.00,2,     0.11,2,   -999.0,9,   -999.0,9,-999.0000,9,  -999.00,     1826
  49UF20110205,  P13N,  2982,  1,     28,  21988,2,20110217,1727,  9.4810, 157.9827, 4786,    125.8,  23.6090,  35.2377,2,-999.0000,9,    191.4,2,     1.22,2,     0.19,2,     0.06,2,     0.14,2,   -999.0,9,   -999.0,9,-999.0000,9,  -999.00,     1825
  49UF20110205,  P13N,  2982,  1,     24,  21984,2,20110217,1727,  9.4810, 157.9827, 4786,    151.8,  20.2440,  34.9760,2,-999.0000,9,    174.4,2,     2.85,2,     3.25,2,     0.04,2,     0.37,2,   -999.0,9,   -999.0,9,-999.0000,9,  -999.00,     1824
  49UF20110205,  P13N,  2982,  1,     23,  21983,2,20110217,1727,  9.4810, 157.9827, 4786,    202.2,  14.0905,  34.4855,2,  34.4932,4,    127.9,2,    14.09,2,    16.01,2,     0.01,2,     1.24,2,   -999.0,9,   -999.0,9,-999.0000,9,  -999.00,     1822
  49UF20110205,  P13N,  2982,  1,     22,  21982,2,20110217,1727,  9.4810, 157.9827, 4786,    253.6,  10.8690,  34.5006,2,-999.0000,9,     70.2,2,    28.30,2,    27.64,2,     0.00,2,     2.04,2,   -999.0,9,   -999.0,9,-999.0000,9,  -999.00,     1819
  49UF20110205,  P13N,  2982,  1,     21,  21981,2,20110217,1727,  9.4810, 157.9827, 4786,    253.6,  10.8690,  34.5006,2,-999.0000,9,     69.6,2,    28.31,2,    27.76,2,     0.00,2,     2.05,2,   -999.0,9,   -999.0,9,-999.0000,9,  -999.00,     1819
  49UF20110205,  P13N,  2982,  1,     20,  21980,2,20110217,1727,  9.4810, 157.9827, 4786,    303.6,   9.4263,  34.5324,2,-999.0000,9,     61.4,2,    36.48,2,    31.57,2,     0.00,2,     2.28,2,   -999.0,9,   -999.0,9,-999.0000,9,  -999.00,     1817
  49UF20110205,  P13N,  2982,  1,     19,  21978,2,20110217,1727,  9.4810, 157.9827, 4786,    404.8,   8.2538,  34.5600,2,  34.5573,2,     63.7,2,    42.73,2,    34.05,2,     0.00,2,     2.43,2,   -999.0,9,   -999.0,9,-999.0000,9,  -999.00,     1814
  49UF20110205,  P13N,  2982,  1,     15,  21974,2,20110217,1727,  9.4810, 157.9827, 4786,    506.7,   7.4709,  34.5376,2,-999.0000,9,     70.1,2,    49.15,2,    35.11,2,     0.00,2,     2.51,2,   -999.0,9,   -999.0,9,-999.0000,9,  -999.00,     1810
  49UF20110205,  P13N,  2982,  1,     14,  21973,2,20110217,1727,  9.4810, 157.9827, 4786,    607.7,   6.8444,  34.5256,2,  34.5246,2,     73.0,2,    55.93,2,    35.86,2,     0.00,2,     2.58,2,   -999.0,9,   -999.0,9,-999.0000,9,  -999.00,     1806
  49UF20110205,  P13N,  2982,  1,     13,  21972,2,20110217,1727,  9.4810, 157.9827, 4786,    710.6,   6.0944,  34.5324,2,-999.0000,9,     62.1,2,    66.20,2,    38.36,2,     0.00,2,     2.76,2,   -999.0,9,   -999.0,9,-999.0000,9,  -999.00,     1802
  49UF20110205,  P13N,  2982,  1,     12,  21971,2,20110217,1727,  9.4810, 157.9827, 4786,    809.0,   5.5641,  34.5329,2,  34.5315,6,     67.0,6,    74.00,6,    38.76,2,     0.00,6,     2.79,6,   -999.0,9,   -999.0,9,-999.0000,9,  -999.00,     1759
  49UF20110205,  P13N,  2982,  1,     11,  21970,2,20110217,1727,  9.4810, 157.9827, 4786,    907.7,   5.0602,  34.5407,2,-999.0000,9,     72.4,2,    82.34,2,    38.81,2,     0.00,2,     2.80,2,   -999.0,9,   -999.0,9,-999.0000,9,  -999.00,     1756
  49UF20110205,  P13N,  2982,  1,     10,  21969,2,20110217,1727,  9.4810, 157.9827, 4786,   1010.5,   4.4514,  34.5527,2,  34.5520,2,     78.4,2,    93.85,2,    39.07,2,     0.00,2,     2.82,2,   -999.0,9,   -999.0,9,-999.0000,9,  -999.00,     1751
  49UF20110205,  P13N,  2982,  1,      6,  21965,2,20110217,1727,  9.4810, 157.9827, 4786,   1213.6,   3.6432,  34.5728,2,  34.5723,2,     86.3,2,   110.46,3,    39.21,3,     0.00,3,     2.81,3,   -999.0,9,   -999.0,9,-999.0000,9,  -999.00,     1746
  49UF20110205,  P13N,  2982,  1,      5,  21964,2,20110217,1727,  9.4810, 157.9827, 4786,   1414.1,   2.9679,  34.5962,2,  34.5945,2,     94.4,2,   124.17,3,    39.06,3,     0.00,3,     2.79,3,   -999.0,9,   -999.0,9,-999.0000,9,  -999.00,     1741
  49UF20110205,  P13N,  2982,  1,      7,  21966,2,20110217,1727,  9.4810, 157.9827, 4786,   1616.9,   2.5789,  34.6155,2,-999.0000,9,    100.2,2,   131.98,3,    38.94,3,     0.00,3,     2.77,3,   -999.0,9,   -999.0,9,-999.0000,9,  -999.00,     1736
  49UF20110205,  P13N,  2982,  1,      4,  21963,2,20110217,1727,  9.4810, 157.9827, 4786,   1758.4,   2.4202,  34.6228,2,  34.6228,2,    102.8,2,   135.28,2,    38.86,2,     0.00,2,     2.76,2,   -999.0,9,   -999.0,9,-999.0000,9,  -999.00,     1734
  49UF20110205,  P13N,  2982,  1,      3,  21962,2,20110217,1727,  9.4810, 157.9827, 4786,   1758.4,   2.4202,  34.6228,2,  34.6229,2,    102.4,2,   135.56,2,    38.93,2,     0.00,2,     2.76,2,   -999.0,9,   -999.0,9,-999.0000,9,  -999.00,     1731
  49UF20110205,  P13N,  2982,  1,      2,  21961,3,20110217,1727,  9.4810, 157.9827, 4786,   1815.5,   2.3654,  34.6260,2,  34.6259,2,    103.4,2,   137.37,2,    38.81,2,     0.00,2,     2.76,2,   -999.0,9,   -999.0,9,-999.0000,9,  -999.00,     1730
  49UF20110205,  P13N,  2982,  1,      1,  21960,2,20110217,1727,  9.4810, 157.9827, 4786,   2021.9,   2.1634,  34.6381,2,  34.6374,2,    109.8,2,   140.80,2,    38.58,2,     0.00,2,     2.73,2,   -999.0,9,   -999.0,9,-999.0000,9,  -999.00,     1727