BOTTLE,20191015PRINUNIVRMK
EXPOCODE,SECT_ID,STNNBR,CASTNO,SAMPNO,BTLNBR,BTLNBR_FLAG_W,DATE,TIME,LATITUDE,LONGITUDE,DEPTH,CTDPRS,CTDTMP,CTDSAL,CTDSAL_FLAG_W,SALNTY,SALNTY_FLAG_W,OXYGEN,OXYGEN_FLAG_W,SILCAT,SILCAT_FLAG_W,NITRAT,NITRAT_FLAG_W,NITRIT,NITRIT_FLAG_W,PHSPHT,PHSPHT_FLAG_W,TCARBN,TCARBN_FLAG_W,ALKALI,ALKALI_FLAG_W,PH_TOT,PH_TOT_FLAG_W,PH_TMP,BTL_TIME
,,,,,,,,,,,METERS,DBAR,ITS-90,PSS-78,,PSS-78,,UMOL/KG,,UMOL/KG,,UMOL/KG,,UMOL/KG,,UMOL/KG,,UMOL/KG,,UMOL/KG,,,,DEG C,
  49UF20110205,  P13N,  2965,  1,     99,     99,2,20110212,0928, 19.9902, 165.0307, 4618,      0.0,  26.7316,  35.2127,2,-999.0000,9,    202.2,2,     0.81,2,     0.07,2,     0.00,2,     0.04,2,   -999.0,9,   -999.0,9,-999.0000,9,  -999.00,     1008
  49UF20110205,  P13N,  2965,  1,     33,  21993,2,20110212,0928, 19.9902, 165.0307, 4618,     11.6,  26.7416,  35.2127,2,-999.0000,9,    202.6,2,     0.77,2,     0.00,2,     0.00,2,     0.02,2,   1966.3,2,   2312.0,2,   8.1031,2,    25.00,     1030
  49UF20110205,  P13N,  2965,  1,     32,  21992,2,20110212,0928, 19.9902, 165.0307, 4618,     27.3,  26.6378,  35.2277,2,-999.0000,9,    202.0,2,     0.78,2,     0.00,2,     0.00,2,     0.02,2,   1968.2,2,   2312.5,2,   8.1044,2,    25.00,     1028
  49UF20110205,  P13N,  2965,  1,     31,  21991,2,20110212,0928, 19.9902, 165.0307, 4618,     51.7,  26.2552,  35.2798,2,-999.0000,9,    203.4,2,     0.76,2,     0.00,2,     0.00,2,     0.01,2,   1971.1,2,   2314.4,3,   8.1004,2,    25.00,     1022
  49UF20110205,  P13N,  2965,  1,     30,  21990,2,20110212,0928, 19.9902, 165.0307, 4618,     75.6,  25.5275,  35.3269,2,-999.0000,9,    202.4,2,     0.95,2,     0.00,2,     0.00,2,     0.02,2,   1996.4,2,   2319.5,2,   8.0710,2,    25.00,     1021
  49UF20110205,  P13N,  2965,  1,     29,  21989,2,20110212,0928, 19.9902, 165.0307, 4618,    101.9,  25.0244,  35.4621,2,-999.0000,9,    204.2,6,     0.92,6,     0.04,6,     0.00,6,     0.01,6,   1992.3,2,   2323.9,2,   8.0735,2,    25.00,     1020
  49UF20110205,  P13N,  2965,  1,     28,  21988,2,20110212,0928, 19.9902, 165.0307, 4618,    128.2,  23.6912,  35.3360,2,-999.0000,9,    200.0,2,     1.18,2,     0.10,2,     0.02,2,     0.03,2,   2012.7,2,   2316.3,2,   8.0430,2,    25.00,     1018
  49UF20110205,  P13N,  2965,  1,     24,  21984,2,20110212,0928, 19.9902, 165.0307, 4618,    153.9,  22.1341,  35.2208,2,-999.0000,9,    183.5,2,     1.61,2,     1.39,2,     0.02,2,     0.15,2,   2034.4,2,   2311.1,2,   7.9943,2,    25.00,     1017
  49UF20110205,  P13N,  2965,  1,     23,  21983,2,20110212,0928, 19.9902, 165.0307, 4618,    202.2,  19.4103,  34.9748,2,-999.0000,9,    193.5,2,     2.68,2,     2.60,2,     0.01,2,     0.21,2,   2038.6,2,   2293.6,2,   7.9554,2,    25.00,     1015
  49UF20110205,  P13N,  2965,  1,     22,  21982,2,20110212,0928, 19.9902, 165.0307, 4618,    256.3,  17.0264,  34.7085,2,-999.0000,9,    198.2,2,     4.51,2,     5.12,2,     0.01,2,     0.36,2,   2050.5,2,   2280.0,2,   7.9158,2,    25.00,     1013
  49UF20110205,  P13N,  2965,  1,     21,  21981,2,20110212,0928, 19.9902, 165.0307, 4618,    303.9,  15.2146,  34.5487,2,-999.0000,9,    192.5,2,     7.49,2,     8.41,2,     0.00,2,     0.60,2,   2067.9,2,   2270.2,2,   7.8596,2,    25.00,     1011
  49UF20110205,  P13N,  2965,  1,     20,  21980,2,20110212,0928, 19.9902, 165.0307, 4618,    403.8,  11.8131,  34.2978,2,-999.0000,9,    191.9,2,    15.64,2,    14.07,2,     0.00,2,     1.00,2,   2104.1,2,   2263.7,2,   7.7758,2,    25.00,     1009
  49UF20110205,  P13N,  2965,  1,     19,  21978,2,20110212,0928, 19.9902, 165.0307, 4618,    403.8,  11.8131,  34.2978,2,-999.0000,9,    192.1,2,    15.68,2,    14.10,2,     0.00,2,     1.00,2,   2103.8,2,   2263.9,2,   7.7702,3,    25.00,     1008
  49UF20110205,  P13N,  2965,  1,     15,  21974,2,20110212,0928, 19.9902, 165.0307, 4618,    504.8,   8.7519,  34.1349,2,-999.0000,9,    148.2,2,    34.44,2,    23.89,2,     0.00,2,     1.71,2,   2171.1,2,   2273.6,2,   7.6113,2,    25.00,     1006
  49UF20110205,  P13N,  2965,  1,     14,  21973,2,20110212,0928, 19.9902, 165.0307, 4618,    606.3,   6.6374,  34.1444,2,-999.0000,9,     86.2,2,    59.59,2,    33.30,2,     0.00,2,     2.42,2,   2200.1,2,   2292.1,2,   7.4669,2,    25.00,     1003
  49UF20110205,  P13N,  2965,  1,     13,  21972,2,20110212,0928, 19.9902, 165.0307, 4618,    707.7,   5.4708,  34.2227,2,-999.0000,9,     55.2,2,    80.19,2,    38.25,2,     0.00,2,     2.78,2,   2246.4,2,   2318.4,6,   7.3892,6,    25.00,     1000
  49UF20110205,  P13N,  2965,  1,     12,  21971,2,20110212,0928, 19.9902, 165.0307, 4618,    807.5,   4.7905,  34.3474,2,-999.0000,9,     47.4,2,    94.19,2,    40.42,2,     0.00,2,     2.91,2,   2317.9,6,   2339.5,6,   7.3909,2,    25.00,      957
  49UF20110205,  P13N,  2965,  1,     11,  21970,2,20110212,0928, 19.9902, 165.0307, 4618,    908.3,   4.4114,  34.4289,2,-999.0000,9,     54.1,6,   101.58,6,    40.45,6,     0.00,6,     2.91,6,   2322.0,2,   2354.2,2,   7.4059,2,    25.00,      954
  49UF20110205,  P13N,  2965,  1,      9,  21968,2,20110212,0928, 19.9902, 165.0307, 4618,   1012.0,   3.9620,  34.4893,2,-999.0000,9,   -999.0,9,  -999.00,9,  -999.00,9,  -999.00,9,  -999.00,9,   -999.0,9,   -999.0,9,-999.0000,9,  -999.00,      951
  49UF20110205,  P13N,  2965,  1,     10,  21969,2,20110212,0928, 19.9902, 165.0307, 4618,   1013.1,   3.9622,  34.4889,2,-999.0000,9,     63.8,2,   109.80,2,    40.21,2,     0.00,2,     2.89,2,   2326.9,2,   2365.7,2,   7.4292,2,    25.00,      951
  49UF20110205,  P13N,  2965,  1,      6,  21965,2,20110212,0928, 19.9902, 165.0307, 4618,   1211.8,   3.3245,  34.5323,2,-999.0000,9,     71.6,2,   122.78,2,    40.39,2,     0.00,2,     2.88,2,   2338.9,2,   2380.1,2,   7.4388,2,    25.00,      946
  49UF20110205,  P13N,  2965,  1,      5,  21964,2,20110212,0928, 19.9902, 165.0307, 4618,   1413.4,   2.8943,  34.5607,2,-999.0000,9,     80.1,2,   131.88,2,    40.21,2,     0.00,2,     2.86,2,   2341.9,2,   2391.4,2,   7.4555,2,    25.00,      941
  49UF20110205,  P13N,  2965,  1,      4,  21963,2,20110212,0928, 19.9902, 165.0307, 4618,   1618.8,   2.4699,  34.5888,2,-999.0000,9,     89.9,2,   140.05,2,    39.82,2,     0.00,2,     2.81,2,   2345.6,2,   2397.4,2,   7.4650,6,    25.00,      937
  49UF20110205,  P13N,  2965,  1,      3,  21962,2,20110212,0928, 19.9902, 165.0307, 4618,   1820.0,   2.2148,  34.6065,2,-999.0000,9,     96.8,2,   144.75,2,    39.48,2,     0.00,2,     2.79,2,   2351.2,6,   2405.9,6,   7.4767,2,    25.00,      932
  49UF20110205,  P13N,  2965,  1,      2,  21961,2,20110212,0928, 19.9902, 165.0307, 4618,   2022.1,   1.9884,  34.6255,2,-999.0000,9,    105.4,2,   148.33,2,    38.97,2,     0.00,2,     2.75,2,   2350.9,2,   2411.7,2,   7.4902,2,    25.00,      928
  49UF20110205,  P13N,  2965,  1,      1,  21960,2,20110212,0928, 19.9902, 165.0307, 4618,   2022.1,   1.9884,  34.6255,2,-999.0000,9,    105.6,2,   148.60,2,    38.97,2,     0.00,2,     2.75,2,   2349.2,2,   2408.6,2,   7.4876,2,    25.00,      928
  49UF20110205,  P13N,  2966,  1,     99,     99,2,20110213,0144, 18.9903, 164.9807,   -9,      0.0,  26.9670,  35.1990,2,-999.0000,9,    201.6,2,     0.86,2,     0.03,2,     0.01,2,     0.05,2,   -999.0,9,   -999.0,9,-999.0000,9,  -999.00,      226
  49UF20110205,  P13N,  2966,  1,     33,  21993,2,20110213,0144, 18.9903, 164.9807,   -9,     10.9,  26.8671,  35.1973,2,-999.0000,9,    202.1,2,     0.86,2,     0.04,2,     0.01,2,     0.03,2,   -999.0,9,   -999.0,9,-999.0000,9,  -999.00,      244
  49UF20110205,  P13N,  2966,  1,     32,  21992,2,20110213,0144, 18.9903, 164.9807,   -9,     25.1,  26.8048,  35.2064,2,-999.0000,9,    202.2,2,     0.90,2,     0.02,2,     0.00,2,     0.03,2,   -999.0,9,   -999.0,9,-999.0000,9,  -999.00,      243
  49UF20110205,  P13N,  2966,  1,     31,  21991,2,20110213,0144, 18.9903, 164.9807,   -9,     50.9,  26.7907,  35.2409,2,-999.0000,9,    202.6,2,     0.85,2,     0.02,2,     0.01,2,     0.04,2,   -999.0,9,   -999.0,9,-999.0000,9,  -999.00,      237
  49UF20110205,  P13N,  2966,  1,     30,  21990,2,20110213,0144, 18.9903, 164.9807,   -9,     76.7,  26.5971,  35.3029,2,-999.0000,9,    202.7,6,     0.88,6,     0.04,6,     0.01,6,     0.03,6,   -999.0,9,   -999.0,9,-999.0000,9,  -999.00,      236
  49UF20110205,  P13N,  2966,  1,     29,  21989,2,20110213,0144, 18.9903, 164.9807,   -9,    100.6,  25.8090,  35.3969,2,-999.0000,9,    204.6,2,     1.01,2,     0.01,2,     0.01,2,     0.03,2,   -999.0,9,   -999.0,9,-999.0000,9,  -999.00,      235
  49UF20110205,  P13N,  2966,  1,     28,  21988,2,20110213,0144, 18.9903, 164.9807,   -9,    124.7,  24.3964,  35.4222,2,-999.0000,9,    197.5,2,     1.18,2,     0.06,2,     0.06,2,     0.05,2,   -999.0,9,   -999.0,9,-999.0000,9,  -999.00,      234
  49UF20110205,  P13N,  2966,  1,     24,  21984,2,20110213,0144, 18.9903, 164.9807,   -9,    149.7,  23.5570,  35.3969,2,-999.0000,9,    190.0,2,     1.35,2,     0.45,2,     0.11,2,     0.09,2,   -999.0,9,   -999.0,9,-999.0000,9,  -999.00,      232
  49UF20110205,  P13N,  2966,  1,     23,  21983,2,20110213,0144, 18.9903, 164.9807,   -9,    201.9,  21.4773,  35.2089,2,-999.0000,9,    184.9,2,     1.97,2,     1.81,2,     0.03,2,     0.19,2,   -999.0,9,   -999.0,9,-999.0000,9,  -999.00,      230
  49UF20110205,  P13N,  2966,  1,     22,  21982,2,20110213,0144, 18.9903, 164.9807,   -9,    252.6,  18.5338,  34.8535,2,-999.0000,9,    186.6,2,     3.60,2,     4.09,2,     0.02,2,     0.32,2,   -999.0,9,   -999.0,9,-999.0000,9,  -999.00,      229
  49UF20110205,  P13N,  2966,  1,     21,  21981,2,20110213,0144, 18.9903, 164.9807,   -9,    252.6,  18.5338,  34.8535,2,-999.0000,9,    186.7,2,     3.56,2,     4.03,2,     0.02,2,     0.31,2,   -999.0,9,   -999.0,9,-999.0000,9,  -999.00,      229
  49UF20110205,  P13N,  2966,  1,     20,  21980,2,20110213,0144, 18.9903, 164.9807,   -9,    300.7,  15.4327,  34.5668,2,-999.0000,9,    190.8,2,     7.24,2,     8.10,2,     0.01,2,     0.58,2,   -999.0,9,   -999.0,9,-999.0000,9,  -999.00,      227
  49UF20110205,  P13N,  2966,  1,     19,  21978,2,20110213,0144, 18.9903, 164.9807,   -9,    403.2,  10.8747,  34.2377,2,-999.0000,9,    172.3,2,    20.71,2,    17.39,2,     0.01,2,     1.29,2,   -999.0,9,   -999.0,9,-999.0000,9,  -999.00,      224
  49UF20110205,  P13N,  2966,  1,     15,  21974,2,20110213,0144, 18.9903, 164.9807,   -9,    506.5,   8.1992,  34.1474,2,-999.0000,9,    122.7,2,    41.28,2,    27.10,2,     0.01,2,     1.98,2,   -999.0,9,   -999.0,9,-999.0000,9,  -999.00,      222
  49UF20110205,  P13N,  2966,  1,     14,  21973,2,20110213,0144, 18.9903, 164.9807,   -9,    604.1,   6.2500,  34.2031,2,-999.0000,9,     68.0,2,    67.20,2,    35.61,2,     0.01,2,     2.61,2,   -999.0,9,   -999.0,9,-999.0000,9,  -999.00,      219
  49UF20110205,  P13N,  2966,  1,     13,  21972,2,20110213,0144, 18.9903, 164.9807,   -9,    705.3,   5.3639,  34.3244,2,-999.0000,9,     54.6,2,    83.47,2,    38.47,2,     0.01,2,     2.81,2,   -999.0,9,   -999.0,9,-999.0000,9,  -999.00,      216
  49UF20110205,  P13N,  2966,  1,     12,  21971,2,20110213,0144, 18.9903, 164.9807,   -9,    806.4,   4.8961,  34.3936,2,-999.0000,9,     55.4,6,    92.03,6,    39.47,6,     0.01,6,     2.87,6,   -999.0,9,   -999.0,9,-999.0000,9,  -999.00,      214
  49UF20110205,  P13N,  2966,  1,     11,  21970,2,20110213,0144, 18.9903, 164.9807,   -9,    909.5,   4.4814,  34.4608,2,-999.0000,9,     64.0,2,    99.60,2,    39.28,2,     0.01,2,     2.85,2,   -999.0,9,   -999.0,9,-999.0000,9,  -999.00,      211
  49UF20110205,  P13N,  2966,  1,     10,  21969,2,20110213,0144, 18.9903, 164.9807,   -9,   1011.1,   4.1214,  34.4995,2,-999.0000,9,     71.2,2,   106.34,2,    39.34,2,     0.01,2,     2.84,2,   -999.0,9,   -999.0,9,-999.0000,9,  -999.00,      209
  49UF20110205,  P13N,  2966,  1,      6,  21965,2,20110213,0144, 18.9903, 164.9807,   -9,   1213.3,   3.4490,  34.5412,2,-999.0000,9,     76.3,2,   119.68,2,    39.84,2,     0.01,2,     2.86,2,   -999.0,9,   -999.0,9,-999.0000,9,  -999.00,      202
  49UF20110205,  P13N,  2966,  1,      5,  21964,3,20110213,0144, 18.9903, 164.9807,   -9,   1415.5,   2.9487,  34.5631,2,-999.0000,9,     83.7,4,   128.28,2,    39.55,2,     0.01,2,     2.82,2,   -999.0,9,   -999.0,9,-999.0000,9,  -999.00,      158
  49UF20110205,  P13N,  2966,  1,      4,  21963,2,20110213,0144, 18.9903, 164.9807,   -9,   1614.8,   2.6095,  34.5844,2,-999.0000,9,     88.3,2,   136.62,2,    39.76,2,     0.01,2,     2.83,2,   -999.0,9,   -999.0,9,-999.0000,9,  -999.00,      153
  49UF20110205,  P13N,  2966,  1,      3,  21962,2,20110213,0144, 18.9903, 164.9807,   -9,   1614.8,   2.6095,  34.5844,2,-999.0000,9,     88.3,2,   136.70,2,    39.71,2,     0.01,2,     2.82,2,   -999.0,9,   -999.0,9,-999.0000,9,  -999.00,      153
  49UF20110205,  P13N,  2966,  1,      2,  21961,2,20110213,0144, 18.9903, 164.9807,   -9,   1818.8,   2.3192,  34.6051,2,-999.0000,9,     95.8,2,   142.00,2,    39.49,2,     0.01,2,     2.80,2,   -999.0,9,   -999.0,9,-999.0000,9,  -999.00,      149
  49UF20110205,  P13N,  2966,  1,      1,  21960,2,20110213,0144, 18.9903, 164.9807,   -9,   2020.5,   2.1071,  34.6205,2,-999.0000,9,    102.9,2,   146.26,2,    39.10,2,     0.01,2,     2.76,2,   -999.0,9,   -999.0,9,-999.0000,9,  -999.00,      144
  49UF20110205,  P13N,  2967,  1,     99,     99,2,20110213,0844, 17.9868, 164.9883, 4588,      0.0,  26.9741,  35.1793,2,-999.0000,9,    203.1,2,     0.93,2,     0.03,2,     0.01,2,     0.05,2,   -999.0,9,   -999.0,9,-999.0000,9,  -999.00,      925
  49UF20110205,  P13N,  2967,  1,     33,  21993,2,20110213,0844, 17.9868, 164.9883, 4588,     11.4,  26.9771,  35.1776,2,  35.1746,2,    201.5,2,     0.89,2,    -0.01,2,     0.01,2,     0.04,2,   -999.0,9,   -999.0,9,-999.0000,9,  -999.00,      944
  49UF20110205,  P13N,  2967,  1,     32,  21992,2,20110213,0844, 17.9868, 164.9883, 4588,     25.3,  26.8913,  35.1723,2,-999.0000,9,    201.6,2,     0.89,2,    -0.01,2,     0.01,2,     0.03,2,   -999.0,9,   -999.0,9,-999.0000,9,  -999.00,      942
  49UF20110205,  P13N,  2967,  1,     31,  21991,2,20110213,0844, 17.9868, 164.9883, 4588,     51.1,  26.8778,  35.1836,2,-999.0000,9,    201.6,6,     0.91,6,     0.04,6,     0.01,6,     0.04,6,   -999.0,9,   -999.0,9,-999.0000,9,  -999.00,      937
  49UF20110205,  P13N,  2967,  1,     30,  21990,2,20110213,0844, 17.9868, 164.9883, 4588,     75.6,  26.7921,  35.2544,2,-999.0000,9,    202.6,2,     0.86,2,    -0.01,2,     0.01,2,     0.04,2,   -999.0,9,   -999.0,9,-999.0000,9,  -999.00,      936
  49UF20110205,  P13N,  2967,  1,     29,  21989,2,20110213,0844, 17.9868, 164.9883, 4588,    101.5,  26.6569,  35.3162,2,  35.3183,2,    203.0,2,     0.84,2,     0.02,2,     0.00,2,     0.03,2,   -999.0,9,   -999.0,9,-999.0000,9,  -999.00,      935
  49UF20110205,  P13N,  2967,  1,     28,  21988,2,20110213,0844, 17.9868, 164.9883, 4588,    126.4,  26.1227,  35.3679,2,-999.0000,9,    204.8,2,     1.02,2,     0.01,2,     0.01,2,     0.03,2,   -999.0,9,   -999.0,9,-999.0000,9,  -999.00,      934
  49UF20110205,  P13N,  2967,  1,     24,  21984,2,20110213,0844, 17.9868, 164.9883, 4588,    153.5,  23.9878,  35.4012,2,-999.0000,9,    191.8,2,     1.29,2,     0.20,2,     0.07,2,     0.07,2,   -999.0,9,   -999.0,9,-999.0000,9,  -999.00,      933
  49UF20110205,  P13N,  2967,  1,     23,  21983,2,20110213,0844, 17.9868, 164.9883, 4588,    153.5,  23.9878,  35.4012,2,-999.0000,9,    192.2,2,     1.29,2,     0.14,2,     0.07,2,     0.08,2,   -999.0,9,   -999.0,9,-999.0000,9,  -999.00,      933
  49UF20110205,  P13N,  2967,  1,     22,  21982,3,20110213,0844, 17.9868, 164.9883, 4588,    203.2,  20.6555,  35.0831,2,  35.0881,2,    181.4,2,     2.43,2,     2.47,2,     0.02,2,     0.23,2,   -999.0,9,   -999.0,9,-999.0000,9,  -999.00,      931
  49UF20110205,  P13N,  2967,  1,     21,  21981,2,20110213,0844, 17.9868, 164.9883, 4588,    252.1,  17.0985,  34.7096,2,-999.0000,9,    188.8,2,     4.99,2,     5.81,2,     0.01,2,     0.43,2,   -999.0,9,   -999.0,9,-999.0000,9,  -999.00,      929
  49UF20110205,  P13N,  2967,  1,     20,  21980,2,20110213,0844, 17.9868, 164.9883, 4588,    304.7,  14.3201,  34.4772,2,-999.0000,9,    187.3,2,     9.04,2,     9.78,2,     0.01,2,     0.71,2,   -999.0,9,   -999.0,9,-999.0000,9,  -999.00,      927
  49UF20110205,  P13N,  2967,  1,     19,  21978,2,20110213,0844, 17.9868, 164.9883, 4588,    402.8,  10.3146,  34.2186,2,  34.2187,2,    154.0,2,    24.70,2,    20.19,2,     0.02,2,     1.49,2,   -999.0,9,   -999.0,9,-999.0000,9,  -999.00,      924
  49UF20110205,  P13N,  2967,  1,     15,  21974,2,20110213,0844, 17.9868, 164.9883, 4588,    506.5,   7.6301,  34.1445,2,-999.0000,9,    107.7,2,    47.01,2,    29.46,2,     0.01,2,     2.15,2,   -999.0,9,   -999.0,9,-999.0000,9,  -999.00,      921
  49UF20110205,  P13N,  2967,  1,     14,  21973,2,20110213,0844, 17.9868, 164.9883, 4588,    605.2,   5.9623,  34.2005,2,  34.1997,2,     64.3,2,    71.23,2,    36.61,2,     0.01,2,     2.66,2,   -999.0,9,   -999.0,9,-999.0000,9,  -999.00,      919
  49UF20110205,  P13N,  2967,  1,     13,  21972,2,20110213,0844, 17.9868, 164.9883, 4588,    703.9,   5.1986,  34.3224,2,-999.0000,9,     52.0,6,    86.39,6,    39.37,6,     0.02,6,     2.86,6,   -999.0,9,   -999.0,9,-999.0000,9,  -999.00,      916
  49UF20110205,  P13N,  2967,  1,     12,  21971,2,20110213,0844, 17.9868, 164.9883, 4588,    809.1,   4.7798,  34.4136,2,  34.4146,2,     56.9,2,    94.44,2,    39.84,2,     0.01,2,     2.86,2,   -999.0,9,   -999.0,9,-999.0000,9,  -999.00,      913
  49UF20110205,  P13N,  2967,  1,     11,  21970,2,20110213,0844, 17.9868, 164.9883, 4588,    908.9,   4.3955,  34.4654,2,-999.0000,9,     65.3,2,   101.05,2,    39.64,2,     0.01,2,     2.84,2,   -999.0,9,   -999.0,9,-999.0000,9,  -999.00,      910
  49UF20110205,  P13N,  2967,  1,     10,  21969,2,20110213,0844, 17.9868, 164.9883, 4588,   1012.4,   3.9980,  34.5081,2,  34.5078,2,     74.0,2,   108.71,2,    39.52,2,     0.01,2,     2.82,2,   -999.0,9,   -999.0,9,-999.0000,9,  -999.00,      907
  49UF20110205,  P13N,  2967,  1,      6,  21965,2,20110213,0844, 17.9868, 164.9883, 4588,   1212.5,   3.4219,  34.5476,2,-999.0000,9,     79.5,2,   119.29,2,    39.69,2,     0.01,2,     2.84,2,   -999.0,9,   -999.0,9,-999.0000,9,  -999.00,      902
  49UF20110205,  P13N,  2967,  1,      5,  21964,2,20110213,0844, 17.9868, 164.9883, 4588,   1212.5,   3.4219,  34.5476,2,  34.5478,2,     79.1,2,   119.54,2,    39.71,2,     0.01,2,     2.83,2,   -999.0,9,   -999.0,9,-999.0000,9,  -999.00,      902
  49UF20110205,  P13N,  2967,  1,      4,  21963,2,20110213,0844, 17.9868, 164.9883, 4588,   1414.4,   2.9862,  34.5705,2,  34.5720,2,     85.1,2,   127.91,2,    39.71,2,     0.01,2,     2.83,2,   -999.0,9,   -999.0,9,-999.0000,9,  -999.00,      858
  49UF20110205,  P13N,  2967,  1,      3,  21962,2,20110213,0844, 17.9868, 164.9883, 4588,   1616.6,   2.5878,  34.5878,2,  34.5883,2,     89.8,2,   137.13,2,    39.83,2,     0.01,2,     2.83,2,   -999.0,9,   -999.0,9,-999.0000,9,  -999.00,      853
  49UF20110205,  P13N,  2967,  1,      2,  21961,2,20110213,0844, 17.9868, 164.9883, 4588,   1820.6,   2.3149,  34.6102,2,  34.6119,2,     97.6,2,   142.44,2,    39.61,2,     0.01,2,     2.79,2,   -999.0,9,   -999.0,9,-999.0000,9,  -999.00,      849
  49UF20110205,  P13N,  2967,  1,      1,  21960,2,20110213,0844, 17.9868, 164.9883, 4588,   2022.8,   2.0732,  34.6253,2,  34.6258,2,    104.5,2,   146.86,2,    39.26,2,     0.01,2,     2.76,2,   -999.0,9,   -999.0,9,-999.0000,9,  -999.00,      844