BOTTLE,20190917PRINUNIVRMK
# Processed by CCHDO on 2021-05-24, no changes
# 09/16/2019 Initialized README file  
# Data source:  Masao Ishii 2018/11/30 
# SHIP: R/V Keifu Maru II 
# Cruise: KS09-10 
# Region: North Pacific Ocean 
# EXPOCODE: 49UF20091022 
# DATES: 20091020 - 20091126 
# Chief Scientist: Tatsushi Shiga 
# 19 stations with 24 place Rosette 
# NOTE: 
# 	Preceeding "KS-" removed from original station numbers 
# 	Preceeding "02-" removed from original bottle numbers 
# 	BUCKET samples coded as bottle/sample 99 
# CTD: Who - Tatsushi Shiga; Status - final 
# 	Includes: CTDSAL 
# SALNTY: Who - Tatsushi Shiga; Status - final 
# 	Notes: 	 
# Nutrients: Who - Tatsushi Shiga; Status - final 
# 	Includes: nitrate, nitrite, silicate, phosphate 
# 	Nitrite and NO3+NO2 reported. Separated by subtraction 
# OXYGEN: Who - Tatsushi Shiga; Status - final 
# 	Notes: 
# TCARBN: Who - Shiya Minato; Status - final 
# 	Notes:  
# PH_TOT: Who - Shiya Minato; Status - final 
# 	Notes:  
# These data should be cited as: Segawa, Takahiro; Shiga, Tatsushi; Minato, Shinya; Matsueda, Hidekazu (2019). Shiga, Tatsushi; Minato, Shinya; Matsueda, Hidekazu (2019). Dissolved inorganic carbon (DIC), pH on total scale, temperature, salinity, oxygen, nutrients and other measurements collected from profile and discrete sample observations during the R/V Keifu Maru II cruise KS09-10 (EXPOCODE 49UF20091022) in the North Pacific Ocean from 2009-10-20 to 2009-11-26 (NCEI Accession 0186219). [indicate subset used]. NOAA National Centers for Environmental Information. Dataset. https://doi.org/10.25921/pe8f-qn74 
# References that have used data from this cruise: 
EXPOCODE,SECT_ID,STNNBR,CASTNO,SAMPNO,BTLNBR,BTLNBR_FLAG_W,DATE,TIME,LATITUDE,LONGITUDE,DEPTH,CTDPRS,CTDTMP,CTDSAL,CTDSAL_FLAG_W,SALNTY,SALNTY_FLAG_W,OXYGEN,OXYGEN_FLAG_W,SILCAT,SILCAT_FLAG_W,NITRAT,NITRAT_FLAG_W,NITRIT,NITRIT_FLAG_W,PHSPHT,PHSPHT_FLAG_W,TCARBN,TCARBN_FLAG_W,PH_TOT,PH_TOT_FLAG_W,PH_TMP,BTL_TIME
,,,,,,,,,,,METERS,DBAR,ITS-90,PSS-78,,PSS-78,,UMOL/KG,,UMOL/KG,,UMOL/KG,,UMOL/KG,,UMOL/KG,,UMOL/KG,,,,DEG C,
  49UF20091022,KS0910,  2478,  1,     17,  16023,2,20091031,0215, 32.9982, 135.2667, 1928,      9.7,  25.6213,  34.4217,2,  34.4205,2,   -999.0,9,  -999.00,9,  -999.00,9,  -999.00,9,  -999.00,9,   -999.0,9,-999.0000,9,  -999.00,      319
  49UF20091022,KS0910,  2478,  1,     16,  16022,2,20091031,0215, 32.9982, 135.2667, 1928,    100.6,  23.5008,  34.6361,2,  34.6367,2,   -999.0,9,  -999.00,9,  -999.00,9,  -999.00,9,  -999.00,9,   -999.0,9,-999.0000,9,  -999.00,      313
  49UF20091022,KS0910,  2478,  1,     15,  16021,2,20091031,0215, 32.9982, 135.2667, 1928,    201.3,  19.0216,  34.7730,2,  34.7743,2,   -999.0,9,  -999.00,9,  -999.00,9,  -999.00,9,  -999.00,9,   -999.0,9,-999.0000,9,  -999.00,      309
  49UF20091022,KS0910,  2478,  1,     14,  16020,2,20091031,0215, 32.9982, 135.2667, 1928,    300.7,  15.8972,  34.6242,2,  34.6195,4,   -999.0,9,  -999.00,9,  -999.00,9,  -999.00,9,  -999.00,9,   -999.0,9,-999.0000,9,  -999.00,      306
  49UF20091022,KS0910,  2478,  1,     13,  16019,2,20091031,0215, 32.9982, 135.2667, 1928,    402.3,  11.8486,  34.4349,2,  34.4378,2,   -999.0,9,  -999.00,9,  -999.00,9,  -999.00,9,  -999.00,9,   -999.0,9,-999.0000,9,  -999.00,      303
  49UF20091022,KS0910,  2478,  1,     11,  16017,2,20091031,0215, 32.9982, 135.2667, 1928,    506.0,   7.4687,  34.2700,2,  34.2711,2,   -999.0,9,  -999.00,9,  -999.00,9,  -999.00,9,  -999.00,9,   -999.0,9,-999.0000,9,  -999.00,      259
  49UF20091022,KS0910,  2478,  1,     12,  16018,2,20091031,0215, 32.9982, 135.2667, 1928,    507.6,   7.4344,  34.2684,2,  34.2699,2,   -999.0,9,  -999.00,9,  -999.00,9,  -999.00,9,  -999.00,9,   -999.0,9,-999.0000,9,  -999.00,      259
  49UF20091022,KS0910,  2478,  1,     10,  19375,2,20091031,0215, 32.9982, 135.2667, 1928,    606.8,   5.2786,  34.2911,2,  34.2897,2,   -999.0,9,  -999.00,9,  -999.00,9,  -999.00,9,  -999.00,9,   -999.0,9,-999.0000,9,  -999.00,      256
  49UF20091022,KS0910,  2478,  1,      9,  16015,2,20091031,0215, 32.9982, 135.2667, 1928,    708.2,   4.4192,  34.3129,2,  34.3107,2,   -999.0,9,  -999.00,9,  -999.00,9,  -999.00,9,  -999.00,9,   -999.0,9,-999.0000,9,  -999.00,      252
  49UF20091022,KS0910,  2478,  1,      8,  16014,2,20091031,0215, 32.9982, 135.2667, 1928,    810.5,   3.9544,  34.3507,2,  34.3498,2,   -999.0,9,  -999.00,9,  -999.00,9,  -999.00,9,  -999.00,9,   -999.0,9,-999.0000,9,  -999.00,      248
  49UF20091022,KS0910,  2478,  1,      7,  19374,2,20091031,0215, 32.9982, 135.2667, 1928,    911.5,   3.6245,  34.3842,2,  34.3835,2,   -999.0,9,  -999.00,9,  -999.00,9,  -999.00,9,  -999.00,9,   -999.0,9,-999.0000,9,  -999.00,      245
  49UF20091022,KS0910,  2478,  1,      6,  16012,2,20091031,0215, 32.9982, 135.2667, 1928,   1012.8,   3.3866,  34.4117,2,  34.4104,2,   -999.0,9,  -999.00,9,  -999.00,9,  -999.00,9,  -999.00,9,   -999.0,9,-999.0000,9,  -999.00,      241
  49UF20091022,KS0910,  2478,  1,      5,  16011,2,20091031,0215, 32.9982, 135.2667, 1928,   1264.0,   2.9155,  34.4744,2,  34.4737,2,   -999.0,9,  -999.00,9,  -999.00,9,  -999.00,9,  -999.00,9,   -999.0,9,-999.0000,9,  -999.00,      235
  49UF20091022,KS0910,  2478,  1,      4,  16010,2,20091031,0215, 32.9982, 135.2667, 1928,   1517.3,   2.5978,  34.5200,2,  34.5197,2,   -999.0,9,  -999.00,9,  -999.00,9,  -999.00,9,  -999.00,9,   -999.0,9,-999.0000,9,  -999.00,      224
  49UF20091022,KS0910,  2478,  1,      3,  16009,2,20091031,0215, 32.9982, 135.2667, 1928,   1764.6,   2.3652,  34.5531,2,  34.5548,2,   -999.0,9,  -999.00,9,  -999.00,9,  -999.00,9,  -999.00,9,   -999.0,9,-999.0000,9,  -999.00,      220
  49UF20091022,KS0910,  2478,  1,      2,  16008,2,20091031,0215, 32.9982, 135.2667, 1928,   1869.5,   2.1503,  34.5825,2,  34.5822,2,   -999.0,9,  -999.00,9,  -999.00,9,  -999.00,9,  -999.00,9,   -999.0,9,-999.0000,9,  -999.00,      215
  49UF20091022,KS0910,  2478,  1,      1,  16007,2,20091031,0215, 32.9982, 135.2667, 1928,   1871.1,   2.1503,  34.5825,2,  34.5838,2,   -999.0,9,  -999.00,9,  -999.00,9,  -999.00,9,  -999.00,9,   -999.0,9,-999.0000,9,  -999.00,      215
  49UF20091022,KS0910,  2482,  1,     17,  16023,2,20091031,1501, 32.0033, 135.2515, 4446,     10.6,  23.9924,  34.3238,2,  34.3225,2,   -999.0,9,  -999.00,9,  -999.00,9,  -999.00,9,  -999.00,9,   -999.0,9,-999.0000,9,  -999.00,     1555
  49UF20091022,KS0910,  2482,  1,     16,  16022,2,20091031,1501, 32.0033, 135.2515, 4446,    101.5,  20.8563,  34.6845,2,  34.6848,2,   -999.0,9,  -999.00,9,  -999.00,9,  -999.00,9,  -999.00,9,   -999.0,9,-999.0000,9,  -999.00,     1549
  49UF20091022,KS0910,  2482,  1,     15,  16021,2,20091031,1501, 32.0033, 135.2515, 4446,    202.2,  19.3340,  34.7049,2,  34.7041,2,   -999.0,9,  -999.00,9,  -999.00,9,  -999.00,9,  -999.00,9,   -999.0,9,-999.0000,9,  -999.00,     1546
  49UF20091022,KS0910,  2482,  1,     14,  16020,2,20091031,1501, 32.0033, 135.2515, 4446,    304.0,  18.5611,  34.7638,2,  34.7657,2,   -999.0,9,  -999.00,9,  -999.00,9,  -999.00,9,  -999.00,9,   -999.0,9,-999.0000,9,  -999.00,     1543
  49UF20091022,KS0910,  2482,  1,     13,  16019,2,20091031,1501, 32.0033, 135.2515, 4446,    403.5,  17.2615,  34.7436,2,  34.7425,2,   -999.0,9,  -999.00,9,  -999.00,9,  -999.00,9,  -999.00,9,   -999.0,9,-999.0000,9,  -999.00,     1540
  49UF20091022,KS0910,  2482,  1,     12,  16018,2,20091031,1501, 32.0033, 135.2515, 4446,    403.8,  17.2559,  34.7432,2,  34.7431,2,   -999.0,9,  -999.00,9,  -999.00,9,  -999.00,9,  -999.00,9,   -999.0,9,-999.0000,9,  -999.00,     1540
  49UF20091022,KS0910,  2482,  1,     11,  16017,2,20091031,1501, 32.0033, 135.2515, 4446,    503.9,  15.4325,  34.6193,2,  34.6209,2,   -999.0,9,  -999.00,9,  -999.00,9,  -999.00,9,  -999.00,9,   -999.0,9,-999.0000,9,  -999.00,     1537
  49UF20091022,KS0910,  2482,  1,     10,  19375,2,20091031,1501, 32.0033, 135.2515, 4446,    605.9,  12.7594,  34.4420,2,  34.4467,4,   -999.0,9,  -999.00,9,  -999.00,9,  -999.00,9,  -999.00,9,   -999.0,9,-999.0000,9,  -999.00,     1535
  49UF20091022,KS0910,  2482,  1,      9,  16015,2,20091031,1501, 32.0033, 135.2515, 4446,    704.9,   9.5512,  34.2598,2,  34.2628,2,   -999.0,9,  -999.00,9,  -999.00,9,  -999.00,9,  -999.00,9,   -999.0,9,-999.0000,9,  -999.00,     1532
  49UF20091022,KS0910,  2482,  1,      8,  16014,2,20091031,1501, 32.0033, 135.2515, 4446,    806.8,   7.4851,  34.2166,2,  34.2173,2,   -999.0,9,  -999.00,9,  -999.00,9,  -999.00,9,  -999.00,9,   -999.0,9,-999.0000,9,  -999.00,     1529
  49UF20091022,KS0910,  2482,  1,      7,  19374,2,20091031,1501, 32.0033, 135.2515, 4446,    906.8,   6.1364,  34.2177,2,  34.2178,2,   -999.0,9,  -999.00,9,  -999.00,9,  -999.00,9,  -999.00,9,   -999.0,9,-999.0000,9,  -999.00,     1526
  49UF20091022,KS0910,  2482,  1,      6,  16012,2,20091031,1501, 32.0033, 135.2515, 4446,   1010.2,   4.9409,  34.2784,2,  34.2787,2,   -999.0,9,  -999.00,9,  -999.00,9,  -999.00,9,  -999.00,9,   -999.0,9,-999.0000,9,  -999.00,     1523
  49UF20091022,KS0910,  2482,  1,      5,  16011,2,20091031,1501, 32.0033, 135.2515, 4446,   1262.2,   3.5230,  34.3971,2,  34.3965,2,   -999.0,9,  -999.00,9,  -999.00,9,  -999.00,9,  -999.00,9,   -999.0,9,-999.0000,9,  -999.00,     1518
  49UF20091022,KS0910,  2482,  1,      4,  16010,2,20091031,1501, 32.0033, 135.2515, 4446,   1516.6,   2.7819,  34.4915,2,  34.4899,2,   -999.0,9,  -999.00,9,  -999.00,9,  -999.00,9,  -999.00,9,   -999.0,9,-999.0000,9,  -999.00,     1512
  49UF20091022,KS0910,  2482,  1,      3,  16009,2,20091031,1501, 32.0033, 135.2515, 4446,   1768.6,   2.3905,  34.5436,2,  34.5432,2,   -999.0,9,  -999.00,9,  -999.00,9,  -999.00,9,  -999.00,9,   -999.0,9,-999.0000,9,  -999.00,     1507
  49UF20091022,KS0910,  2482,  1,      2,  16008,2,20091031,1501, 32.0033, 135.2515, 4446,   1769.7,   2.3895,  34.5436,2,  34.5436,2,   -999.0,9,  -999.00,9,  -999.00,9,  -999.00,9,  -999.00,9,   -999.0,9,-999.0000,9,  -999.00,     1507
  49UF20091022,KS0910,  2482,  1,      1,  16007,2,20091031,1501, 32.0033, 135.2515, 4446,   2030.9,   2.1274,  34.5861,2,  34.5857,2,   -999.0,9,  -999.00,9,  -999.00,9,  -999.00,9,  -999.00,9,   -999.0,9,-999.0000,9,  -999.00,     1501
  49UF20091022,KS0910,  2486,  1,     99,     99,2,20091101,0850, 30.0187, 135.2328, 4364,      0.0,  25.2529,  34.2987,2,-999.0000,9,    209.0,2,     1.50,2,     0.50,2,     0.00,2,     0.00,2,   -999.0,9,-999.0000,9,  -999.00,      934
  49UF20091022,KS0910,  2486,  1,     23,  19380,2,20091101,0850, 30.0187, 135.2328, 4364,     10.3,  25.2552,  34.2982,2,  34.2958,2,    207.0,2,     1.49,2,     0.00,2,     0.00,2,     0.00,2,   -999.0,9,-999.0000,9,  -999.00,      957
  49UF20091022,KS0910,  2486,  1,     22,  16028,2,20091101,0850, 30.0187, 135.2328, 4364,     26.0,  25.1774,  34.3134,2,-999.0000,9,    209.0,2,     1.49,2,     0.00,2,     0.00,2,     0.00,2,   -999.0,9,-999.0000,9,  -999.00,      955
  49UF20091022,KS0910,  2486,  1,     21,  16027,2,20091101,0850, 30.0187, 135.2328, 4364,     52.8,  24.8762,  34.3784,2,-999.0000,9,    209.0,2,     1.49,2,     0.00,2,     0.00,2,     0.00,2,   -999.0,9,-999.0000,9,  -999.00,      950
  49UF20091022,KS0910,  2486,  1,     20,  16026,2,20091101,0850, 30.0187, 135.2328, 4364,     75.3,  21.5677,  34.6635,2,-999.0000,9,    224.0,2,     1.73,2,    -0.01,2,     0.01,2,     0.01,2,   -999.0,9,-999.0000,9,  -999.00,      948
  49UF20091022,KS0910,  2486,  1,     19,  19378,2,20091101,0850, 30.0187, 135.2328, 4364,    101.5,  20.0584,  34.6914,2,  34.6907,2,    219.0,2,     2.07,2,     0.51,2,     0.09,2,     0.05,2,   -999.0,9,-999.0000,9,  -999.00,      947
  49UF20091022,KS0910,  2486,  1,     18,  19377,2,20091101,0850, 30.0187, 135.2328, 4364,    126.7,  19.2549,  34.7046,2,-999.0000,9,    215.0,2,     2.32,2,     1.29,2,     0.01,2,     0.09,2,   -999.0,9,-999.0000,9,  -999.00,      945
  49UF20091022,KS0910,  2486,  1,     17,  16023,2,20091101,0850, 30.0187, 135.2328, 4364,    153.1,  18.7853,  34.7313,2,-999.0000,9,    202.0,2,     3.06,2,     3.19,2,     0.01,2,     0.20,2,   -999.0,9,-999.0000,9,  -999.00,      944
  49UF20091022,KS0910,  2486,  1,     16,  16022,2,20091101,0850, 30.0187, 135.2328, 4364,    203.9,  18.1131,  34.7306,2,  34.7293,2,    203.0,2,     3.69,2,     4.00,2,     0.00,2,     0.25,2,   -999.0,9,-999.0000,9,  -999.00,      942
  49UF20091022,KS0910,  2486,  1,     15,  16021,2,20091101,0850, 30.0187, 135.2328, 4364,    253.4,  17.5715,  34.7341,2,-999.0000,9,    199.0,2,     4.57,2,     5.20,2,     0.00,2,     0.33,2,   -999.0,9,-999.0000,9,  -999.00,      939
  49UF20091022,KS0910,  2486,  1,     13,  16019,2,20091101,0850, 30.0187, 135.2328, 4364,    303.9,  16.7926,  34.7057,2,  34.7058,2,    193.0,2,     6.25,2,     6.80,2,     0.00,2,     0.44,2,   -999.0,9,-999.0000,9,  -999.00,      937
  49UF20091022,KS0910,  2486,  1,     14,  16020,2,20091101,0850, 30.0187, 135.2328, 4364,    304.9,  16.7903,  34.7058,2,  34.7045,2,    194.0,2,     6.42,2,     6.80,2,     0.00,2,     0.45,2,   -999.0,9,-999.0000,9,  -999.00,      937
  49UF20091022,KS0910,  2486,  1,     12,  16018,2,20091101,0850, 30.0187, 135.2328, 4364,    405.8,  14.3901,  34.5481,2,  34.5502,2,    179.0,2,    13.63,2,    11.70,2,     0.00,2,     0.79,2,   -999.0,9,-999.0000,9,  -999.00,      934
  49UF20091022,KS0910,  2486,  1,     11,  16017,2,20091101,0850, 30.0187, 135.2328, 4364,    507.6,  11.8885,  34.3904,2,  34.3915,2,    167.0,2,    24.58,2,    17.30,2,     0.00,2,     1.20,2,   -999.0,9,-999.0000,9,  -999.00,      930
  49UF20091022,KS0910,  2486,  1,     10,  19375,2,20091101,0850, 30.0187, 135.2328, 4364,    609.0,   8.9497,  34.2429,2,  34.2441,2,    144.0,2,    44.00,2,    24.20,2,     0.00,2,     1.72,2,   -999.0,9,-999.0000,9,  -999.00,      927
  49UF20091022,KS0910,  2486,  1,      9,  16015,2,20091101,0850, 30.0187, 135.2328, 4364,    708.1,   6.6490,  34.1749,2,  34.1748,2,    115.0,2,    65.86,2,    30.80,2,     0.00,2,     2.21,2,   -999.0,9,-999.0000,9,  -999.00,      924
  49UF20091022,KS0910,  2486,  1,      8,  16014,2,20091101,0850, 30.0187, 135.2328, 4364,    811.0,   5.3831,  34.2248,2,  34.2226,2,     88.0,2,    85.51,2,    35.10,2,     0.00,2,     2.52,2,   -999.0,9,-999.0000,9,  -999.00,      920
  49UF20091022,KS0910,  2486,  1,      7,  19374,2,20091101,0850, 30.0187, 135.2328, 4364,    911.3,   4.5584,  34.2693,2,  34.2690,2,     70.0,2,   100.50,2,    38.00,2,     0.00,2,     2.72,2,   -999.0,9,-999.0000,9,  -999.00,      917
  49UF20091022,KS0910,  2486,  1,      6,  16012,2,20091101,0850, 30.0187, 135.2328, 4364,   1013.4,   3.9374,  34.3464,2,  34.3447,2,     62.0,2,   113.96,2,    39.70,2,     0.00,2,     2.84,2,   -999.0,9,-999.0000,9,  -999.00,      914
  49UF20091022,KS0910,  2486,  1,      5,  16011,2,20091101,0850, 30.0187, 135.2328, 4364,   1264.7,   2.9868,  34.4620,2,  34.4615,2,     64.0,2,   133.12,2,    40.70,2,     0.00,2,     2.90,2,   -999.0,9,-999.0000,9,  -999.00,      908
  49UF20091022,KS0910,  2486,  1,      4,  16010,2,20091101,0850, 30.0187, 135.2328, 4364,   1517.5,   2.5056,  34.5216,2,  34.5202,2,     71.0,2,   142.92,2,    40.90,2,     0.00,2,     2.88,2,   -999.0,9,-999.0000,9,  -999.00,      902
  49UF20091022,KS0910,  2486,  1,      3,  16009,2,20091101,0850, 30.0187, 135.2328, 4364,   1517.8,   2.5045,  34.5218,2,  34.5209,2,     71.0,2,   142.29,2,    40.80,2,     0.00,2,     2.88,2,   -999.0,9,-999.0000,9,  -999.00,      901
  49UF20091022,KS0910,  2486,  1,      2,  16008,2,20091101,0850, 30.0187, 135.2328, 4364,   1770.2,   2.1521,  34.5770,2,  34.5763,2,     93.0,2,   144.20,2,    39.50,2,     0.00,2,     2.79,2,   -999.0,9,-999.0000,9,  -999.00,      856
  49UF20091022,KS0910,  2486,  1,      1,  16007,2,20091101,0850, 30.0187, 135.2328, 4364,   2030.7,   1.9590,  34.6062,2,  34.6059,2,    108.0,2,   144.29,2,    38.80,2,     0.00,2,     2.73,2,   -999.0,9,-999.0000,9,  -999.00,      850
  49UF20091022,KS0910,  2490,  1,     17,  16023,2,20091104,1714, 30.3015, 132.5480, 3943,      9.9,  24.8521,  34.3901,2,  34.3905,2,   -999.0,9,  -999.00,9,  -999.00,9,  -999.00,9,  -999.00,9,   -999.0,9,-999.0000,9,  -999.00,     1804
  49UF20091022,KS0910,  2490,  1,     16,  16022,2,20091104,1714, 30.3015, 132.5480, 3943,    101.9,  22.7094,  34.6863,2,  34.6870,2,   -999.0,9,  -999.00,9,  -999.00,9,  -999.00,9,  -999.00,9,   -999.0,9,-999.0000,9,  -999.00,     1758
  49UF20091022,KS0910,  2490,  1,     14,  16020,2,20091104,1714, 30.3015, 132.5480, 3943,    202.0,  19.7072,  34.7596,2,  34.7592,2,   -999.0,9,  -999.00,9,  -999.00,9,  -999.00,9,  -999.00,9,   -999.0,9,-999.0000,9,  -999.00,     1755
  49UF20091022,KS0910,  2490,  1,     15,  16021,2,20091104,1714, 30.3015, 132.5480, 3943,    202.1,  19.6943,  34.7598,2,  34.7592,2,   -999.0,9,  -999.00,9,  -999.00,9,  -999.00,9,  -999.00,9,   -999.0,9,-999.0000,9,  -999.00,     1755
  49UF20091022,KS0910,  2490,  1,     13,  16019,2,20091104,1714, 30.3015, 132.5480, 3943,    303.5,  17.4795,  34.7293,2,  34.7274,2,   -999.0,9,  -999.00,9,  -999.00,9,  -999.00,9,  -999.00,9,   -999.0,9,-999.0000,9,  -999.00,     1752
  49UF20091022,KS0910,  2490,  1,     12,  16018,2,20091104,1714, 30.3015, 132.5480, 3943,    403.8,  15.0277,  34.5900,2,  34.5906,2,   -999.0,9,  -999.00,9,  -999.00,9,  -999.00,9,  -999.00,9,   -999.0,9,-999.0000,9,  -999.00,     1750
  49UF20091022,KS0910,  2490,  1,     11,  16017,2,20091104,1714, 30.3015, 132.5480, 3943,    504.5,  12.0851,  34.3929,2,  34.3944,2,   -999.0,9,  -999.00,9,  -999.00,9,  -999.00,9,  -999.00,9,   -999.0,9,-999.0000,9,  -999.00,     1747
  49UF20091022,KS0910,  2490,  1,     10,  19375,2,20091104,1714, 30.3015, 132.5480, 3943,    604.5,   8.9332,  34.2717,2,  34.2728,2,   -999.0,9,  -999.00,9,  -999.00,9,  -999.00,9,  -999.00,9,   -999.0,9,-999.0000,9,  -999.00,     1744
  49UF20091022,KS0910,  2490,  1,      9,  16015,2,20091104,1714, 30.3015, 132.5480, 3943,    706.0,   7.0238,  34.3052,2,  34.3054,2,   -999.0,9,  -999.00,9,  -999.00,9,  -999.00,9,  -999.00,9,   -999.0,9,-999.0000,9,  -999.00,     1741
  49UF20091022,KS0910,  2490,  1,      8,  16014,3,20091104,1714, 30.3015, 132.5480, 3943,    807.1,   5.5256,  34.2636,2,  34.2649,2,   -999.0,9,  -999.00,9,  -999.00,9,  -999.00,9,  -999.00,9,   -999.0,9,-999.0000,9,  -999.00,     1739
  49UF20091022,KS0910,  2490,  1,      7,  19374,2,20091104,1714, 30.3015, 132.5480, 3943,    906.9,   4.4873,  34.3425,2,  34.3402,2,   -999.0,9,  -999.00,9,  -999.00,9,  -999.00,9,  -999.00,9,   -999.0,9,-999.0000,9,  -999.00,     1737
  49UF20091022,KS0910,  2490,  1,      6,  16012,2,20091104,1714, 30.3015, 132.5480, 3943,   1009.2,   3.9204,  34.3559,2,  34.3569,2,   -999.0,9,  -999.00,9,  -999.00,9,  -999.00,9,  -999.00,9,   -999.0,9,-999.0000,9,  -999.00,     1734
  49UF20091022,KS0910,  2490,  1,      5,  16011,2,20091104,1714, 30.3015, 132.5480, 3943,   1261.3,   3.0153,  34.4638,2,  34.4633,2,   -999.0,9,  -999.00,9,  -999.00,9,  -999.00,9,  -999.00,9,   -999.0,9,-999.0000,9,  -999.00,     1729
  49UF20091022,KS0910,  2490,  1,      4,  16010,2,20091104,1714, 30.3015, 132.5480, 3943,   1261.6,   3.0157,  34.4635,2,  34.4641,2,   -999.0,9,  -999.00,9,  -999.00,9,  -999.00,9,  -999.00,9,   -999.0,9,-999.0000,9,  -999.00,     1729
  49UF20091022,KS0910,  2490,  1,      3,  16009,2,20091104,1714, 30.3015, 132.5480, 3943,   1515.3,   2.5444,  34.5236,2,  34.5236,2,   -999.0,9,  -999.00,9,  -999.00,9,  -999.00,9,  -999.00,9,   -999.0,9,-999.0000,9,  -999.00,     1724
  49UF20091022,KS0910,  2490,  1,      2,  16008,2,20091104,1714, 30.3015, 132.5480, 3943,   1769.1,   2.1777,  34.5761,2,  34.5752,2,   -999.0,9,  -999.00,9,  -999.00,9,  -999.00,9,  -999.00,9,   -999.0,9,-999.0000,9,  -999.00,     1719
  49UF20091022,KS0910,  2490,  1,      1,  16007,2,20091104,1714, 30.3015, 132.5480, 3943,   2034.5,   1.9925,  34.6050,2,  34.6049,2,   -999.0,9,  -999.00,9,  -999.00,9,  -999.00,9,  -999.00,9,   -999.0,9,-999.0000,9,  -999.00,     1714