BOTTLE,20190917PRINUNIVRMK
EXPOCODE,SECT_ID,STNNBR,CASTNO,SAMPNO,BTLNBR,BTLNBR_FLAG_W,DATE,TIME,LATITUDE,LONGITUDE,DEPTH,CTDPRS,CTDTMP,CTDSAL,CTDSAL_FLAG_W,SALNTY,SALNTY_FLAG_W,OXYGEN,OXYGEN_FLAG_W,SILCAT,SILCAT_FLAG_W,NITRAT,NITRAT_FLAG_W,NITRIT,NITRIT_FLAG_W,PHSPHT,PHSPHT_FLAG_W,TCARBN,TCARBN_FLAG_W,PH_TOT,PH_TOT_FLAG_W,PH_TMP,BTL_TIME
,,,,,,,,,,,METERS,DBAR,ITS-90,PSS-78,,PSS-78,,UMOL/KG,,UMOL/KG,,UMOL/KG,,UMOL/KG,,UMOL/KG,,UMOL/KG,,,,DEG C,
  49UF20091022,KS0910,  2505,  1,     99,     99,2,20091115,2205, 30.7470, 134.1965, 4462,      0.0,  23.9879,  34.3800,2,-999.0000,9,    213.0,2,     1.39,2,     0.00,2,     0.00,2,     0.00,2,   -999.0,9,-999.0000,9,  -999.00,     2230
  49UF20091022,KS0910,  2505,  1,     23,  19380,2,20091115,2205, 30.7470, 134.1965, 4462,     11.0,  23.9869,  34.3790,2,  34.3780,2,    210.0,2,     1.39,2,     0.00,2,     0.00,2,     0.00,2,   1947.9,2,   8.0858,2,    25.00,     2304
  49UF20091022,KS0910,  2505,  1,     22,  16028,2,20091115,2205, 30.7470, 134.1965, 4462,     25.7,  24.0037,  34.3782,2,-999.0000,9,    212.0,2,     1.53,2,     0.00,2,     0.00,2,     0.00,2,   1946.7,6,   8.0812,2,    25.00,     2302
  49UF20091022,KS0910,  2505,  1,     21,  16027,2,20091115,2205, 30.7470, 134.1965, 4462,     50.3,  24.0003,  34.3774,2,-999.0000,9,    210.0,2,     1.53,2,     0.00,2,     0.00,2,     0.00,2,   1947.1,2,   8.0877,2,    25.00,     2258
  49UF20091022,KS0910,  2505,  1,     20,  16026,2,20091115,2205, 30.7470, 134.1965, 4462,     76.0,  22.9858,  34.5479,2,-999.0000,9,    210.0,2,     1.77,2,     0.09,2,     0.11,2,     0.01,2,   1971.8,2,   8.0529,2,    25.00,     2257
  49UF20091022,KS0910,  2505,  1,     19,  19378,2,20091115,2205, 30.7470, 134.1965, 4462,    100.9,  20.6365,  34.7099,2,  34.7097,2,    217.0,2,     1.87,2,    -0.02,2,     0.12,2,     0.01,2,   1991.8,2,   8.0347,2,    25.00,     2256
  49UF20091022,KS0910,  2505,  1,     18,  19377,2,20091115,2205, 30.7470, 134.1965, 4462,    126.4,  19.9713,  34.7275,2,-999.0000,9,    205.0,2,     2.20,2,     1.17,2,     0.03,2,     0.08,2,   2004.8,2,   8.0109,2,    25.00,     2255
  49UF20091022,KS0910,  2505,  1,     17,  16023,2,20091115,2205, 30.7470, 134.1965, 4462,    151.4,  19.4712,  34.7384,2,-999.0000,9,    201.0,2,     2.49,2,     2.19,2,     0.01,2,     0.14,2,   2012.1,2,   8.0023,2,    25.00,     2253
  49UF20091022,KS0910,  2505,  1,     15,  16021,2,20091115,2205, 30.7470, 134.1965, 4462,    202.1,  18.7470,  34.7506,2,  34.7500,2,    199.0,2,     3.07,2,     3.39,2,     0.01,2,     0.21,2,   2020.8,2,   7.9868,2,    25.00,     2251
  49UF20091022,KS0910,  2505,  1,     16,  16022,2,20091115,2205, 30.7470, 134.1965, 4462,    202.1,  18.7418,  34.7508,2,  34.7498,2,    199.0,2,     3.07,2,     3.39,2,     0.01,2,     0.27,2,   -999.0,9,-999.0000,9,  -999.00,     2252
  49UF20091022,KS0910,  2505,  1,     14,  16020,2,20091115,2205, 30.7470, 134.1965, 4462,    252.7,  18.1123,  34.7336,2,-999.0000,9,    201.0,2,     3.75,2,     4.10,2,     0.00,2,     0.25,2,   2020.3,2,   7.9748,2,    25.00,     2250
  49UF20091022,KS0910,  2505,  1,     13,  16019,2,20091115,2205, 30.7470, 134.1965, 4462,    303.3,  17.5020,  34.7530,2,  34.7528,2,    194.0,2,     4.82,2,     5.80,2,     0.00,2,     0.35,2,   2040.2,2,   7.9427,2,    25.00,     2248
  49UF20091022,KS0910,  2505,  1,     12,  16018,2,20091115,2205, 30.7470, 134.1965, 4462,    403.1,  15.8194,  34.6446,2,  34.6449,2,    184.0,2,     9.35,2,     9.10,2,     0.00,2,     0.59,2,   2066.5,2,   7.8925,2,    25.00,     2245
  49UF20091022,KS0910,  2505,  1,     11,  16017,2,20091115,2205, 30.7470, 134.1965, 4462,    504.8,  13.0823,  34.4643,2,  34.4656,2,    171.0,2,    19.48,2,    14.80,2,     0.00,2,     1.00,2,   2109.6,2,   7.7874,2,    25.00,     2243
  49UF20091022,KS0910,  2505,  1,     10,  19375,2,20091115,2205, 30.7470, 134.1965, 4462,    605.5,  10.1336,  34.2850,2,  34.2856,2,    158.0,2,    34.04,2,    20.90,2,     0.00,2,     1.46,2,   2154.7,2,   7.6955,2,    25.00,     2240
  49UF20091022,KS0910,  2505,  1,      9,  16015,2,20091115,2205, 30.7470, 134.1965, 4462,    705.5,   7.6035,  34.1857,2,  34.1862,2,    130.0,2,    54.76,2,    27.90,2,     0.00,2,     1.97,2,   2209.3,2,   7.5712,2,    25.00,     2237
  49UF20091022,KS0910,  2505,  1,      8,  16014,3,20091115,2205, 30.7470, 134.1965, 4462,    807.7,   6.1150,  34.2109,2,  34.2115,2,    100.0,2,    75.16,2,    33.00,2,     0.00,2,     2.34,2,   2251.6,3,   7.4921,2,    25.00,     2234
  49UF20091022,KS0910,  2505,  1,      7,  19374,2,20091115,2205, 30.7470, 134.1965, 4462,    908.5,   5.0976,  34.2614,2,  34.2607,2,     79.0,2,    91.81,2,    36.50,2,     0.00,2,     2.59,2,   2291.9,2,   7.4359,2,    25.00,     2231
  49UF20091022,KS0910,  2505,  1,      6,  16012,2,20091115,2205, 30.7470, 134.1965, 4462,   1008.8,   4.2302,  34.3296,2,  34.3288,2,     64.0,2,   108.02,2,    38.80,2,     0.00,2,     2.77,2,   2320.4,6,   7.4140,2,    25.00,     2228
  49UF20091022,KS0910,  2505,  1,      5,  16011,2,20091115,2205, 30.7470, 134.1965, 4462,   1263.3,   3.1920,  34.4337,2,  34.4326,2,     59.0,2,   128.94,2,    40.70,2,     0.00,2,     2.91,2,   -999.0,9,-999.0000,9,  -999.00,     2222
  49UF20091022,KS0910,  2505,  1,      4,  16010,2,20091115,2205, 30.7470, 134.1965, 4462,   1263.3,   3.1920,  34.4335,2,  34.4327,2,     61.0,2,   128.67,2,    40.60,2,     0.00,2,     2.88,2,   2350.0,2,   7.3928,2,    25.00,     2222
  49UF20091022,KS0910,  2505,  1,      3,  16009,2,20091115,2205, 30.7470, 134.1965, 4462,   1517.2,   2.6310,  34.5094,2,  34.5084,2,     70.0,2,   138.99,2,    40.60,2,     0.00,2,     2.85,2,   2358.6,2,   7.4168,2,    25.00,     2216
  49UF20091022,KS0910,  2505,  1,      2,  16008,2,20091115,2205, 30.7470, 134.1965, 4462,   1770.5,   2.2298,  34.5657,2,  34.5648,2,     87.0,2,   143.95,2,    39.80,2,     0.00,2,     2.80,2,   2350.1,3,   7.4482,2,    25.00,     2211
  49UF20091022,KS0910,  2505,  1,      1,  16007,2,20091115,2205, 30.7470, 134.1965, 4462,   2037.9,   2.0044,  34.6025,2,  34.6016,2,    106.0,2,   142.62,2,    38.70,2,     0.00,2,     2.70,2,   2334.0,2,   7.4842,2,    25.00,     2205
  49UF20091022,KS0910,  2511,  1,     99,     99,2,20091116,1828, 29.0128, 135.1000, 4837,      0.0,  23.9665,  34.4043,2,-999.0000,9,    212.0,2,     1.59,2,     0.00,2,     0.00,2,     0.00,2,   -999.0,9,-999.0000,9,  -999.00,     1905
  49UF20091022,KS0910,  2511,  1,     23,  19380,2,20091116,1828, 29.0128, 135.1000, 4837,     10.4,  23.9716,  34.4041,2,  34.4022,2,    211.0,2,     1.59,2,     0.00,2,     0.00,2,     0.00,2,   1949.0,2,   8.0810,2,    25.00,     1932
  49UF20091022,KS0910,  2511,  1,     22,  16028,2,20091116,1828, 29.0128, 135.1000, 4837,     25.9,  23.9731,  34.4038,2,-999.0000,9,    211.0,2,     1.59,2,     0.00,2,     0.00,2,     0.00,2,   1949.1,6,   8.0805,2,    25.00,     1931
  49UF20091022,KS0910,  2511,  1,     21,  16027,2,20091116,1828, 29.0128, 135.1000, 4837,     50.2,  23.9606,  34.4006,2,-999.0000,9,    211.0,2,     1.59,2,     0.00,2,     0.00,2,     0.00,2,   1944.3,2,   8.0738,2,    25.00,     1927
  49UF20091022,KS0910,  2511,  1,     20,  16026,2,20091116,1828, 29.0128, 135.1000, 4837,     75.6,  23.6338,  34.4520,2,-999.0000,9,    212.0,2,     1.65,2,    -0.01,2,     0.01,2,     0.00,2,   1956.4,2,   8.0705,2,    25.00,     1926
  49UF20091022,KS0910,  2511,  1,     19,  19378,2,20091116,1828, 29.0128, 135.1000, 4837,    100.7,  21.0270,  34.6771,2,  34.6784,2,    216.0,2,     2.04,2,     0.44,2,     0.16,2,     0.03,2,   1991.5,2,   8.0281,2,    25.00,     1924
  49UF20091022,KS0910,  2511,  1,     18,  19377,2,20091116,1828, 29.0128, 135.1000, 4837,    125.4,  19.6288,  34.7065,2,-999.0000,9,    209.0,2,     2.43,2,     1.78,2,     0.02,2,     0.10,2,   2005.1,2,   8.0040,2,    25.00,     1923
  49UF20091022,KS0910,  2511,  1,     17,  16023,2,20091116,1828, 29.0128, 135.1000, 4837,    151.4,  18.7194,  34.7201,2,-999.0000,9,    204.0,2,     3.07,2,     2.89,2,     0.01,2,     0.18,2,   2017.3,2,   7.9845,2,    25.00,     1921
  49UF20091022,KS0910,  2511,  1,     15,  16021,2,20091116,1828, 29.0128, 135.1000, 4837,    202.0,  18.1349,  34.7341,2,  34.7329,2,    200.0,2,     3.76,2,     4.20,2,     0.00,2,     0.25,2,   2026.2,2,   7.9664,2,    25.00,     1919
  49UF20091022,KS0910,  2511,  1,     16,  16022,2,20091116,1828, 29.0128, 135.1000, 4837,    202.6,  18.1330,  34.7342,2,  34.7326,2,    199.0,2,     3.86,2,     4.49,2,     0.01,2,     0.27,2,   -999.0,9,-999.0000,9,  -999.00,     1919
  49UF20091022,KS0910,  2511,  1,     14,  16020,2,20091116,1828, 29.0128, 135.1000, 4837,    252.6,  17.4613,  34.7456,2,-999.0000,9,    192.0,2,     5.08,2,     6.00,2,     0.00,2,     0.37,2,   2036.3,2,   7.9404,2,    25.00,     1916
  49UF20091022,KS0910,  2511,  1,     13,  16019,2,20091116,1828, 29.0128, 135.1000, 4837,    304.8,  16.7130,  34.7073,2,  34.7081,2,    189.0,2,     6.75,2,     7.30,2,     0.00,2,     0.46,2,   2054.0,2,   7.9145,2,    25.00,     1914
  49UF20091022,KS0910,  2511,  1,     12,  16018,2,20091116,1828, 29.0128, 135.1000, 4837,    404.4,  14.2605,  34.5406,2,  34.5420,2,    177.0,2,    14.50,2,    12.40,2,     0.00,2,     0.82,2,   2090.7,2,   7.8348,2,    25.00,     1911
  49UF20091022,KS0910,  2511,  1,     11,  16017,2,20091116,1828, 29.0128, 135.1000, 4837,    504.8,  11.6244,  34.3753,2,  34.3793,2,    164.0,2,    26.06,2,    18.00,2,     0.00,2,     1.23,2,   2131.6,3,   7.7409,2,    25.00,     1907
  49UF20091022,KS0910,  2511,  1,     10,  19375,2,20091116,1828, 29.0128, 135.1000, 4837,    605.4,   8.7908,  34.2437,2,  34.2448,2,    138.0,2,    45.57,2,    25.10,2,     0.00,2,     1.77,2,   2187.6,3,   7.6239,2,    25.00,     1904
  49UF20091022,KS0910,  2511,  1,      9,  16015,2,20091116,1828, 29.0128, 135.1000, 4837,    707.3,   6.4006,  34.2173,2,  34.2167,2,    103.0,2,    71.94,2,    32.30,2,     0.00,2,     2.31,2,   2249.4,3,   7.5009,2,    25.00,     1901
  49UF20091022,KS0910,  2511,  1,      8,  16014,3,20091116,1828, 29.0128, 135.1000, 4837,    807.8,   5.1737,  34.2426,2,  34.2419,2,     82.0,2,    89.53,2,    36.30,2,     0.00,2,     2.59,2,   2282.0,3,   7.4345,2,    25.00,     1858
  49UF20091022,KS0910,  2511,  1,      7,  19374,3,20091116,1828, 29.0128, 135.1000, 4837,    908.2,   4.3786,  34.2922,2,  34.2915,2,     65.0,2,   104.48,2,    39.00,2,     0.00,2,     2.78,2,   2315.9,3,   7.3977,2,    25.00,     1854
  49UF20091022,KS0910,  2511,  1,      5,  16011,2,20091116,1828, 29.0128, 135.1000, 4837,   1009.6,   3.6713,  34.3605,2,  34.3593,2,     56.0,2,   119.18,2,    41.00,2,     0.00,2,     2.90,2,   2338.6,3,   7.3858,2,    25.00,     1851
  49UF20091022,KS0910,  2511,  1,      6,  16012,2,20091116,1828, 29.0128, 135.1000, 4837,   1009.9,   3.6650,  34.3611,2,  34.3597,2,     55.0,2,   119.19,2,    40.90,2,     0.00,2,     2.90,2,   -999.0,9,-999.0000,9,  -999.00,     1851
  49UF20091022,KS0910,  2511,  1,      4,  16010,2,20091116,1828, 29.0128, 135.1000, 4837,   1261.5,   2.9637,  34.4624,2,  34.4616,2,     62.0,2,   133.59,2,    41.30,2,     0.00,2,     2.92,2,   2354.2,3,   7.3958,2,    25.00,     1845
  49UF20091022,KS0910,  2511,  1,      3,  16009,2,20091116,1828, 29.0128, 135.1000, 4837,   1515.3,   2.5110,  34.5275,2,  34.5269,2,     77.0,2,   139.86,2,    40.80,2,     0.00,2,     2.86,2,   2354.5,3,   7.4278,2,    25.00,     1839
  49UF20091022,KS0910,  2511,  1,      2,  16008,2,20091116,1828, 29.0128, 135.1000, 4837,   1769.0,   2.1623,  34.5792,2,  34.5782,2,     96.0,2,   142.26,2,    39.70,2,     0.00,2,     2.79,2,   2350.1,3,   7.4662,2,    25.00,     1833
  49UF20091022,KS0910,  2511,  1,      1,  16007,2,20091116,1828, 29.0128, 135.1000, 4837,   2032.3,   1.9547,  34.6111,2,  34.6106,2,    111.0,2,   141.78,2,    38.80,2,     0.00,2,     2.71,2,   2341.5,3,   7.4929,2,    25.00,     1828
  49UF20091022,KS0910,  2516,  1,     99,     99,2,20091117,1534, 26.9787, 136.1170, 4691,      0.0,  25.0160,  34.4123,2,-999.0000,9,    208.0,2,     1.48,2,     0.10,2,     0.00,2,     0.00,2,   -999.0,9,-999.0000,9,  -999.00,     1622
  49UF20091022,KS0910,  2516,  1,     23,  19380,2,20091117,1534, 26.9787, 136.1170, 4691,     10.2,  25.0252,  34.4120,2,  34.4101,2,    207.0,2,     1.43,2,     0.10,2,     0.00,2,     0.00,2,   1942.0,3,   8.0946,2,    25.00,     1639
  49UF20091022,KS0910,  2516,  1,     22,  16028,2,20091117,1534, 26.9787, 136.1170, 4691,     25.9,  25.0135,  34.4155,2,-999.0000,9,    207.0,2,     1.43,2,     0.00,2,     0.00,2,     0.00,2,   1941.3,3,   8.0924,2,    25.00,     1637
  49UF20091022,KS0910,  2516,  1,     21,  16027,2,20091117,1534, 26.9787, 136.1170, 4691,     50.0,  24.9842,  34.4212,2,-999.0000,9,    206.0,2,     1.48,2,     0.00,2,     0.00,2,     0.00,2,   1936.7,3,   8.0936,2,    25.00,     1633
  49UF20091022,KS0910,  2516,  1,     20,  16026,2,20091117,1534, 26.9787, 136.1170, 4691,     74.6,  24.9684,  34.4230,2,-999.0000,9,    206.0,2,     1.48,2,     0.10,2,     0.00,2,     0.00,2,   1938.9,3,   8.0912,2,    25.00,     1631
  49UF20091022,KS0910,  2516,  1,     18,  19377,2,20091117,1534, 26.9787, 136.1170, 4691,    100.9,  23.8187,  34.6400,2,  34.6404,2,    205.0,2,     1.57,2,     0.04,2,     0.16,2,     0.02,2,   1962.4,3,   8.0540,2,    25.00,     1630
  49UF20091022,KS0910,  2516,  1,     19,  19378,2,20091117,1534, 26.9787, 136.1170, 4691,    101.0,  23.7716,  34.6449,2,  34.6400,4,    206.0,2,     1.66,2,     0.14,2,     0.16,2,     0.04,2,   -999.0,9,-999.0000,9,  -999.00,     1630
  49UF20091022,KS0910,  2516,  1,     17,  16023,2,20091117,1534, 26.9787, 136.1170, 4691,    125.9,  21.5513,  34.7173,2,-999.0000,9,    204.0,2,     1.96,2,     0.94,2,     0.06,2,     0.07,2,   1985.6,3,   8.0302,2,    25.00,     1628
  49UF20091022,KS0910,  2516,  1,     16,  16022,2,20091117,1534, 26.9787, 136.1170, 4691,    151.5,  20.6774,  34.7378,2,-999.0000,9,    199.0,2,     2.21,2,     1.58,2,     0.02,2,     0.10,2,   2002.1,3,   8.0174,2,    25.00,     1627
  49UF20091022,KS0910,  2516,  1,     15,  16021,2,20091117,1534, 26.9787, 136.1170, 4691,    201.9,  19.0497,  34.7250,2,  34.7250,2,    200.0,2,     3.04,2,     2.79,2,     0.01,2,     0.19,2,   2015.4,3,   7.9899,2,    25.00,     1625
  49UF20091022,KS0910,  2516,  1,     14,  16020,2,20091117,1534, 26.9787, 136.1170, 4691,    253.2,  18.3497,  34.7752,2,-999.0000,9,    190.0,2,     4.16,2,     4.90,2,     0.00,2,     0.30,2,   2033.7,3,   7.9552,2,    25.00,     1623
  49UF20091022,KS0910,  2516,  1,     13,  16019,3,20091117,1534, 26.9787, 136.1170, 4691,    305.4,  17.2422,  34.7344,2,  34.7356,2,    188.0,2,     5.91,2,     6.50,2,     0.00,2,     0.42,2,   2042.2,3,   7.9331,2,    25.00,     1620
  49UF20091022,KS0910,  2516,  1,     12,  16018,2,20091117,1534, 26.9787, 136.1170, 4691,    405.3,  14.3182,  34.5425,2,  34.5493,4,    176.0,2,    13.58,2,    11.80,2,     0.00,2,     0.81,2,   2087.1,3,   7.8367,2,    25.00,     1616
  49UF20091022,KS0910,  2516,  1,     11,  16017,2,20091117,1534, 26.9787, 136.1170, 4691,    506.8,  11.3707,  34.3454,2,  34.3542,4,    164.0,2,    25.09,2,    17.80,2,     0.00,2,     1.24,2,   2130.5,3,   7.7439,2,    25.00,     1612
  49UF20091022,KS0910,  2516,  1,     10,  19375,2,20091117,1534, 26.9787, 136.1170, 4691,    606.5,   8.7678,  34.1990,2,  34.2024,2,    147.0,2,    41.18,2,    23.90,2,     0.00,2,     1.70,2,   2146.6,3,   7.6341,2,    25.00,     1607
  49UF20091022,KS0910,  2516,  1,      9,  16015,2,20091117,1534, 26.9787, 136.1170, 4691,    707.4,   7.0712,  34.1553,2,  34.1552,2,    122.0,2,    58.49,2,    29.20,2,     0.00,2,     2.11,2,   2208.9,3,   7.5402,2,    25.00,     1604
  49UF20091022,KS0910,  2516,  1,      8,  16014,2,20091117,1534, 26.9787, 136.1170, 4691,    808.9,   5.7379,  34.1759,2,  34.1771,2,     94.0,2,    77.41,2,    34.10,2,     0.00,2,     2.46,2,   2257.4,3,   7.4703,2,    25.00,     1601
  49UF20091022,KS0910,  2516,  1,      6,  16012,2,20091117,1534, 26.9787, 136.1170, 4691,    909.3,   4.8597,  34.2294,2,  34.2286,2,     75.0,2,    92.96,2,    37.10,2,     0.00,2,     2.69,2,   2290.9,3,   7.4161,2,    25.00,     1557
  49UF20091022,KS0910,  2516,  1,      7,  19374,2,20091117,1534, 26.9787, 136.1170, 4691,    911.1,   4.8270,  34.2315,2,  34.2319,2,     77.0,2,    93.43,2,    37.30,2,     0.00,2,     2.69,2,   -999.0,9,-999.0000,9,  -999.00,     1557
  49UF20091022,KS0910,  2516,  1,      5,  16011,2,20091117,1534, 26.9787, 136.1170, 4691,   1010.1,   4.1187,  34.3094,2,  34.3137,4,     61.0,2,   108.51,2,    39.20,2,     0.00,2,     2.85,2,   2324.9,6,   7.3896,2,    25.00,     1554
  49UF20091022,KS0910,  2516,  1,      4,  16010,2,20091117,1534, 26.9787, 136.1170, 4691,   1263.0,   3.1234,  34.4392,2,  34.4376,2,     60.0,2,   130.40,2,    40.90,2,     0.00,2,     2.92,2,   2351.0,2,   7.3910,2,    25.00,     1548
  49UF20091022,KS0910,  2516,  1,      3,  16009,2,20091117,1534, 26.9787, 136.1170, 4691,   1512.7,   2.5164,  34.5244,2,  34.5233,2,     74.0,2,   140.43,2,    40.40,2,     0.00,2,     2.88,2,   2356.7,2,   7.4209,2,    25.00,     1544
  49UF20091022,KS0910,  2516,  1,      2,  16008,2,20091117,1534, 26.9787, 136.1170, 4691,   1766.1,   2.1696,  34.5765,2,  34.5763,2,     91.0,2,   142.91,2,    39.70,2,     0.00,2,     2.81,2,   2352.0,2,   7.4577,2,    25.00,     1539
  49UF20091022,KS0910,  2516,  1,      1,  16007,2,20091117,1534, 26.9787, 136.1170, 4691,   2028.5,   1.9639,  34.6125,2,  34.6261,4,    114.0,2,   140.96,2,    38.50,2,     0.00,2,     2.70,2,   2341.8,2,   7.4950,2,    25.00,     1534