BOTTLE,20190917PRINUNIVRMK
EXPOCODE,SECT_ID,STNNBR,CASTNO,SAMPNO,BTLNBR,BTLNBR_FLAG_W,DATE,TIME,LATITUDE,LONGITUDE,DEPTH,CTDPRS,CTDTMP,CTDSAL,CTDSAL_FLAG_W,SALNTY,SALNTY_FLAG_W,OXYGEN,OXYGEN_FLAG_W,SILCAT,SILCAT_FLAG_W,NITRAT,NITRAT_FLAG_W,NITRIT,NITRIT_FLAG_W,PHSPHT,PHSPHT_FLAG_W,TCARBN,TCARBN_FLAG_W,PH_TOT,PH_TOT_FLAG_W,PH_TMP,BTL_TIME
,,,,,,,,,,,METERS,DBAR,ITS-90,PSS-78,,PSS-78,,UMOL/KG,,UMOL/KG,,UMOL/KG,,UMOL/KG,,UMOL/KG,,UMOL/KG,,,,DEG C,
  49UF20091022,KS0910,  2527,  1,     99,     99,2,20091120,2340, 30.9905, 136.9967, 4250,      0.0,  22.8093,  34.4184,2,-999.0000,9,    216.0,2,     1.51,2,     0.00,2,     0.00,2,     0.00,2,   -999.0,9,-999.0000,9,  -999.00,       10
  49UF20091022,KS0910,  2527,  1,     23,  19380,2,20091120,2340, 30.9905, 136.9967, 4250,     11.0,  22.8102,  34.4184,2,-999.0000,9,    215.0,2,     1.55,2,     0.00,2,     0.00,2,     0.00,2,   1952.8,2,   8.0691,2,    25.00,       34
  49UF20091022,KS0910,  2527,  1,     22,  16028,2,20091120,2340, 30.9905, 136.9967, 4250,     25.7,  22.8068,  34.4236,2,-999.0000,9,    214.0,2,     1.54,2,     0.00,2,     0.00,2,     0.00,2,   1953.1,6,   8.0661,2,    25.00,       33
  49UF20091022,KS0910,  2527,  1,     21,  16027,2,20091120,2340, 30.9905, 136.9967, 4250,     51.1,  22.8145,  34.4291,2,-999.0000,9,    214.0,2,     1.54,2,     0.00,2,     0.00,2,     0.00,2,   1952.7,2,   8.0692,2,    25.00,       29
  49UF20091022,KS0910,  2527,  1,     20,  16026,2,20091120,2340, 30.9905, 136.9967, 4250,     75.2,  22.7881,  34.4294,2,-999.0000,9,    213.0,2,     1.54,2,     0.00,2,     0.00,2,     0.00,2,   1954.5,2,   8.0632,2,    25.00,       28
  49UF20091022,KS0910,  2527,  1,     19,  19378,2,20091120,2340, 30.9905, 136.9967, 4250,    101.7,  21.5943,  34.6696,2,-999.0000,9,    205.0,2,     2.02,2,     1.01,2,     0.09,2,     0.07,2,   1990.5,2,   8.0283,2,    25.00,       27
  49UF20091022,KS0910,  2527,  1,     18,  19377,2,20091120,2340, 30.9905, 136.9967, 4250,    126.6,  20.5504,  34.7082,2,-999.0000,9,    203.0,2,     2.26,2,     1.77,2,     0.03,2,     0.11,2,   1998.5,3,   8.0115,2,    25.00,       25
  49UF20091022,KS0910,  2527,  1,     17,  16023,2,20091120,2340, 30.9905, 136.9967, 4250,    152.6,  19.9670,  34.7127,2,-999.0000,9,    204.0,2,     2.36,2,     2.08,2,     0.02,2,     0.13,2,   2002.7,2,   8.0057,2,    25.00,       24
  49UF20091022,KS0910,  2527,  1,     16,  16022,2,20091120,2340, 30.9905, 136.9967, 4250,    202.7,  19.2236,  34.7226,2,-999.0000,9,    204.0,2,     2.64,2,     2.59,2,     0.01,2,     0.16,2,   2007.0,2,   7.9987,2,    25.00,       23
  49UF20091022,KS0910,  2527,  1,     14,  16020,2,20091120,2340, 30.9905, 136.9967, 4250,    253.2,  18.5626,  34.7184,2,-999.0000,9,    204.0,2,     3.12,2,     3.19,2,     0.01,2,     0.20,2,   2014.6,2,   7.9807,2,    25.00,       21
  49UF20091022,KS0910,  2527,  1,     15,  16021,2,20091120,2340, 30.9905, 136.9967, 4250,    253.7,  18.5608,  34.7201,2,-999.0000,9,    205.0,2,     3.15,2,     3.19,2,     0.01,2,     0.21,2,   -999.0,9,-999.0000,9,  -999.00,       21
  49UF20091022,KS0910,  2527,  1,     13,  16019,2,20091120,2340, 30.9905, 136.9967, 4250,    303.6,  18.0657,  34.7556,2,-999.0000,9,    196.0,2,     4.13,2,     4.79,2,     0.01,2,     0.29,2,   2030.3,2,   7.9564,2,    25.00,       19
  49UF20091022,KS0910,  2527,  1,     12,  16018,2,20091120,2340, 30.9905, 136.9967, 4250,    405.0,  16.8861,  34.7146,2,-999.0000,9,    189.0,2,     6.36,2,     7.09,2,     0.01,2,     0.45,2,   2048.7,2,   7.9216,2,    25.00,       17
  49UF20091022,KS0910,  2527,  1,     11,  16017,2,20091120,2340, 30.9905, 136.9967, 4250,    504.2,  14.6825,  34.5662,2,-999.0000,9,    176.0,2,    12.67,2,    11.40,2,     0.00,2,     0.75,2,   2082.2,2,   7.8459,2,    25.00,       14
  49UF20091022,KS0910,  2527,  1,     10,  19375,2,20091120,2340, 30.9905, 136.9967, 4250,    606.0,  11.9013,  34.3787,2,-999.0000,9,    172.0,2,    22.80,2,    16.60,2,     0.00,2,     1.14,2,   2120.6,2,   7.7642,2,    25.00,       12
  49UF20091022,KS0910,  2527,  1,      9,  16015,2,20091120,2340, 30.9905, 136.9967, 4250,    706.4,   9.6319,  34.2896,2,-999.0000,9,    140.0,2,    39.43,2,    23.30,2,     0.00,2,     1.64,2,   2172.1,2,   7.6502,2,    25.00,        9
  49UF20091022,KS0910,  2527,  1,      8,  16014,2,20091120,2340, 30.9905, 136.9967, 4250,    807.8,   7.0803,  34.1934,2,-999.0000,9,    119.0,2,    61.69,2,    29.70,2,     0.00,2,     2.12,2,   2224.7,2,   7.5415,2,    25.00,        6
  49UF20091022,KS0910,  2527,  1,      7,  19374,2,20091120,2340, 30.9905, 136.9967, 4250,    909.1,   5.5253,  34.2379,2,-999.0000,9,     88.0,2,    84.08,2,    35.10,2,     0.00,2,     2.51,2,   2274.7,2,   7.4558,2,    25.00,        4
  49UF20091022,KS0910,  2527,  1,      6,  16012,2,20091120,2340, 30.9905, 136.9967, 4250,   1010.7,   4.6753,  34.2915,2,-999.0000,9,     71.0,2,    99.13,2,    37.80,2,     0.00,2,     2.71,2,   2303.3,6,   7.4281,2,    25.00,        1
  49UF20091022,KS0910,  2527,  1,      4,  16010,2,20091120,2340, 30.9905, 136.9967, 4250,   1262.8,   3.3846,  34.4191,2,-999.0000,9,     62.0,2,   124.42,2,    40.20,2,     0.00,2,     2.88,2,   2342.4,2,   7.3980,2,    25.00,     2356
  49UF20091022,KS0910,  2527,  1,      5,  16011,2,20091120,2340, 30.9905, 136.9967, 4250,   1263.3,   3.3847,  34.4190,2,-999.0000,9,     61.0,2,   124.66,2,    40.40,2,     0.00,2,     2.88,2,   -999.0,9,-999.0000,9,  -999.00,     2356
  49UF20091022,KS0910,  2527,  1,      3,  16009,2,20091120,2340, 30.9905, 136.9967, 4250,   1516.8,   2.7578,  34.4986,2,-999.0000,9,     72.0,2,   136.11,2,    40.50,2,     0.00,2,     2.87,2,   2351.4,2,   7.4210,2,    25.00,     2350
  49UF20091022,KS0910,  2527,  1,      2,  16008,2,20091120,2340, 30.9905, 136.9967, 4250,   1769.7,   2.3679,  34.5524,2,-999.0000,9,     87.0,2,   140.25,2,    39.70,2,     0.00,2,     2.81,2,   2348.5,2,   7.4525,2,    25.00,     2345
  49UF20091022,KS0910,  2527,  1,      1,  16007,2,20091120,2340, 30.9905, 136.9967, 4250,   2030.9,   2.1079,  34.5901,2,-999.0000,9,    102.0,2,   141.44,2,    38.90,2,     0.00,2,     2.74,2,   2344.9,2,   7.4806,2,    25.00,     2340
  49UF20091022,KS0910,  2530,  1,     99,     99,2,20091121,1042, 31.9827, 137.0160, 4205,      0.0,  21.6215,  34.3800,2,-999.0000,9,    222.0,2,     1.52,2,     0.10,2,     0.00,2,     0.00,2,   -999.0,9,-999.0000,9,  -999.00,     1110
  49UF20091022,KS0910,  2530,  1,     23,  19380,2,20091121,1042, 31.9827, 137.0160, 4205,     10.7,  21.6245,  34.3799,2,  34.3777,2,    220.0,2,     1.52,2,     0.00,2,     0.00,2,     0.00,2,   1950.9,3,   8.0695,2,    25.00,     1158
  49UF20091022,KS0910,  2530,  1,     22,  16028,2,20091121,1042, 31.9827, 137.0160, 4205,     25.8,  21.6186,  34.3783,2,-999.0000,9,    222.0,2,     1.51,2,     0.00,2,     0.00,2,     0.01,2,   1953.5,6,   8.0695,2,    25.00,     1157
  49UF20091022,KS0910,  2530,  1,     21,  16027,2,20091121,1042, 31.9827, 137.0160, 4205,     51.0,  21.5544,  34.3701,2,-999.0000,9,    221.0,2,     1.51,2,     0.00,2,     0.00,2,     0.00,2,   1953.0,2,   8.0676,2,    25.00,     1153
  49UF20091022,KS0910,  2530,  1,     20,  16026,2,20091121,1042, 31.9827, 137.0160, 4205,     75.9,  21.4112,  34.4275,2,-999.0000,9,    220.0,2,     1.54,2,     0.16,2,     0.04,2,     0.01,2,   1964.3,2,   8.0557,2,    25.00,     1152
  49UF20091022,KS0910,  2530,  1,     19,  19378,2,20091121,1042, 31.9827, 137.0160, 4205,    101.5,  19.8798,  34.6690,2,  34.6679,2,    214.0,2,     1.78,2,     1.17,2,     0.03,2,     0.07,2,   1990.6,2,   8.0292,2,    25.00,     1151
  49UF20091022,KS0910,  2530,  1,     18,  19377,2,20091121,1042, 31.9827, 137.0160, 4205,    126.9,  19.1757,  34.7008,2,-999.0000,9,    216.0,2,     1.88,2,     1.68,2,     0.02,2,     0.09,2,   1994.9,2,   8.0204,2,    25.00,     1150
  49UF20091022,KS0910,  2530,  1,     17,  16023,2,20091121,1042, 31.9827, 137.0160, 4205,    150.6,  18.9738,  34.7094,2,-999.0000,9,    213.0,2,     1.92,2,     1.89,2,     0.01,2,     0.11,2,   1997.3,2,   8.0180,2,    25.00,     1149
  49UF20091022,KS0910,  2530,  1,     16,  16022,2,20091121,1042, 31.9827, 137.0160, 4205,    202.1,  18.8998,  34.7177,2,  34.7153,2,    214.0,2,     2.00,2,     1.99,2,     0.01,2,     0.12,2,   -999.0,9,-999.0000,9,  -999.00,     1147
  49UF20091022,KS0910,  2530,  1,     15,  16021,2,20091121,1042, 31.9827, 137.0160, 4205,    202.7,  18.8999,  34.7177,2,  34.7162,2,    214.0,2,     1.95,2,     1.89,2,     0.01,2,     0.10,2,   1997.6,2,   8.0188,2,    25.00,     1147
  49UF20091022,KS0910,  2530,  1,     14,  16020,2,20091121,1042, 31.9827, 137.0160, 4205,    253.1,  18.8131,  34.7612,2,-999.0000,9,    211.0,2,     2.15,2,     2.29,2,     0.01,2,     0.13,2,   2004.4,2,   8.0091,2,    25.00,     1145
  49UF20091022,KS0910,  2530,  1,     13,  16019,2,20091121,1042, 31.9827, 137.0160, 4205,    303.0,  18.6326,  34.8252,2,  34.8236,2,    208.0,2,     2.29,2,     2.79,2,     0.01,2,     0.15,2,   2012.5,2,   8.0008,2,    25.00,     1143
  49UF20091022,KS0910,  2530,  1,     12,  16018,2,20091121,1042, 31.9827, 137.0160, 4205,    403.0,  18.5410,  34.8286,2,  34.8274,2,    208.0,2,     2.33,2,     2.80,2,     0.00,2,     0.16,2,   2008.0,2,   8.0019,2,    25.00,     1141
  49UF20091022,KS0910,  2530,  1,     11,  16017,2,20091121,1042, 31.9827, 137.0160, 4205,    507.3,  17.7588,  34.8002,2,  34.8010,2,    199.0,2,     3.97,2,     5.00,2,     0.00,2,     0.29,2,   2031.2,2,   7.9636,2,    25.00,     1135
  49UF20091022,KS0910,  2530,  1,     10,  19375,2,20091121,1042, 31.9827, 137.0160, 4205,    606.5,  15.3823,  34.6201,2,  34.6212,2,    183.0,2,    10.51,2,    10.10,2,     0.00,2,     0.65,2,   2070.7,2,   7.8793,2,    25.00,     1133
  49UF20091022,KS0910,  2530,  1,      9,  16015,2,20091121,1042, 31.9827, 137.0160, 4205,    709.9,  11.9501,  34.3946,2,  34.3992,4,    168.0,2,    24.25,2,    16.90,2,     0.00,2,     1.16,2,   2122.0,2,   7.7591,2,    25.00,     1130
  49UF20091022,KS0910,  2530,  1,      8,  16014,2,20091121,1042, 31.9827, 137.0160, 4205,    808.7,   8.3301,  34.2262,2,  34.2277,2,    133.0,2,    49.39,2,    26.50,2,     0.00,2,     1.86,2,   2195.6,2,   7.6014,2,    25.00,     1127
  49UF20091022,KS0910,  2530,  1,      7,  19374,2,20091121,1042, 31.9827, 137.0160, 4205,    910.2,   6.4923,  34.1908,2,  34.1905,2,    107.0,2,    68.31,2,    31.90,2,     0.00,2,     2.27,2,   2240.4,2,   7.5047,2,    25.00,     1124
  49UF20091022,KS0910,  2530,  1,      5,  16011,2,20091121,1042, 31.9827, 137.0160, 4205,   1014.2,   5.2718,  34.2673,2,  34.2677,2,     82.0,2,    89.35,2,    36.10,2,     0.00,2,     2.58,2,   2287.0,6,   7.4519,2,    25.00,     1114
  49UF20091022,KS0910,  2530,  1,      6,  16012,2,20091121,1042, 31.9827, 137.0160, 4205,   1017.0,   5.2176,  34.2628,2,  34.2656,4,     82.0,2,    89.76,2,    36.30,2,     0.00,2,     2.58,2,   -999.0,9,-999.0000,9,  -999.00,     1115
  49UF20091022,KS0910,  2530,  1,      4,  16010,2,20091121,1042, 31.9827, 137.0160, 4205,   1265.6,   3.5428,  34.3976,2,  34.3972,2,     60.0,2,   121.33,2,    40.60,2,     0.00,2,     2.88,2,   2341.3,2,   7.3894,2,    25.00,     1108
  49UF20091022,KS0910,  2530,  1,      3,  16009,2,20091121,1042, 31.9827, 137.0160, 4205,   1517.8,   2.9226,  34.4768,2,  34.4756,2,     69.0,2,   132.81,2,    40.80,2,     0.00,2,     2.88,2,   2352.0,2,   7.4077,2,    25.00,     1103
  49UF20091022,KS0910,  2530,  1,      2,  16008,2,20091121,1042, 31.9827, 137.0160, 4205,   1768.9,   2.4798,  34.5370,2,  34.5362,2,     82.0,2,   139.47,2,    40.10,2,     0.00,2,     2.83,2,   2354.6,2,   7.4370,2,    25.00,     1057
  49UF20091022,KS0910,  2530,  1,      1,  16007,2,20091121,1042, 31.9827, 137.0160, 4205,   2030.0,   2.1899,  34.5800,2,  34.5790,2,     99.0,2,   140.48,2,    39.00,2,     0.00,2,     2.75,2,   2347.0,2,   7.4724,2,    25.00,     1042
  49UF20091022,KS0910,  2532,  1,     99,     99,2,20091121,1904, 32.6830, 137.0327, 4182,      0.0,  23.6238,  34.4403,2,-999.0000,9,    216.0,2,     1.48,2,     0.08,2,     0.02,2,     0.00,2,   -999.0,9,-999.0000,9,  -999.00,     1940
  49UF20091022,KS0910,  2532,  1,     23,  19380,2,20091121,1904, 32.6830, 137.0327, 4182,     10.8,  23.6312,  34.4396,2,-999.0000,9,    210.0,2,     1.53,2,     0.08,2,     0.02,2,     0.00,2,   1946.7,2,   8.0858,2,    25.00,     2006
  49UF20091022,KS0910,  2532,  1,     22,  16028,2,20091121,1904, 32.6830, 137.0327, 4182,     25.9,  23.6194,  34.4402,2,-999.0000,9,    211.0,2,     1.53,2,     0.08,2,     0.02,2,     0.00,2,   1947.4,6,   8.0865,2,    25.00,     2005
  49UF20091022,KS0910,  2532,  1,     21,  16027,2,20091121,1904, 32.6830, 137.0327, 4182,     49.9,  23.2422,  34.4309,2,-999.0000,9,    211.0,2,     1.53,2,    -0.01,2,     0.01,2,     0.00,2,   1950.8,2,   8.0788,2,    25.00,     2000
  49UF20091022,KS0910,  2532,  1,     20,  16026,2,20091121,1904, 32.6830, 137.0327, 4182,     76.1,  22.9087,  34.4196,2,-999.0000,9,    212.0,2,     1.57,2,     0.00,2,     0.00,2,     0.00,2,   1953.0,2,   8.0740,2,    25.00,     1959
  49UF20091022,KS0910,  2532,  1,     19,  19378,2,20091121,1904, 32.6830, 137.0327, 4182,    101.3,  21.9879,  34.6184,2,-999.0000,9,    205.0,2,     1.96,2,     1.02,2,     0.08,2,     0.07,2,   1983.6,2,   8.0376,2,    25.00,     1958
  49UF20091022,KS0910,  2532,  1,     18,  19377,2,20091121,1904, 32.6830, 137.0327, 4182,    126.4,  20.5227,  34.7078,2,-999.0000,9,    203.0,2,     2.20,2,     1.78,2,     0.02,2,     0.11,2,   1999.3,2,   8.0169,2,    25.00,     1957
  49UF20091022,KS0910,  2532,  1,     16,  16022,2,20091121,1904, 32.6830, 137.0327, 4182,    152.0,  19.7181,  34.7093,2,-999.0000,9,    206.0,2,     2.20,2,     1.89,2,     0.01,2,     0.12,2,   2000.6,2,   8.0141,2,    25.00,     1955
  49UF20091022,KS0910,  2532,  1,     17,  16023,2,20091121,1904, 32.6830, 137.0327, 4182,    152.1,  19.7136,  34.7094,2,-999.0000,9,    206.0,2,     2.32,2,     1.89,2,     0.01,2,     0.13,2,   -999.0,9,-999.0000,9,  -999.00,     1956
  49UF20091022,KS0910,  2532,  1,     15,  16021,2,20091121,1904, 32.6830, 137.0327, 4182,    201.8,  19.2089,  34.7222,2,-999.0000,9,    205.0,2,     2.54,2,     2.49,2,     0.01,2,     0.15,2,   2006.6,2,   8.0061,2,    25.00,     1954
  49UF20091022,KS0910,  2532,  1,     14,  16020,2,20091121,1904, 32.6830, 137.0327, 4182,    251.9,  18.5619,  34.7524,2,-999.0000,9,    199.0,2,     3.27,2,     3.70,2,     0.00,2,     0.22,2,   2020.1,2,   7.9781,2,    25.00,     1952
  49UF20091022,KS0910,  2532,  1,     13,  16019,2,20091121,1904, 32.6830, 137.0327, 4182,    302.8,  17.6998,  34.7364,2,-999.0000,9,    196.0,2,     4.63,2,     5.20,2,     0.00,2,     0.32,2,   2033.2,2,   7.9482,2,    25.00,     1950
  49UF20091022,KS0910,  2532,  1,     12,  16018,2,20091121,1904, 32.6830, 137.0327, 4182,    403.6,  15.9429,  34.6547,2,-999.0000,9,    184.0,2,     8.91,2,     9.00,2,     0.00,2,     0.59,2,   2063.5,2,   7.8942,2,    25.00,     1948
  49UF20091022,KS0910,  2532,  1,     11,  16017,2,20091121,1904, 32.6830, 137.0327, 4182,    503.3,  13.2364,  34.4674,2,-999.0000,9,    176.0,2,    17.58,2,    14.00,2,     0.00,2,     0.95,2,   2100.7,2,   7.8047,2,    25.00,     1945
  49UF20091022,KS0910,  2532,  1,     10,  19375,2,20091121,1904, 32.6830, 137.0327, 4182,    605.7,   9.6485,  34.2685,2,-999.0000,9,    150.0,2,    38.35,2,    22.50,2,     0.00,2,     1.59,2,   2165.0,2,   7.6699,2,    25.00,     1943
  49UF20091022,KS0910,  2532,  1,      9,  16015,2,20091121,1904, 32.6830, 137.0327, 4182,    708.1,   7.0231,  34.2114,2,-999.0000,9,    115.0,2,    64.02,2,    30.20,2,     0.00,2,     2.16,2,   2228.5,2,   7.5320,2,    25.00,     1940
  49UF20091022,KS0910,  2532,  1,      8,  16014,2,20091121,1904, 32.6830, 137.0327, 4182,    807.5,   5.4597,  34.2393,2,-999.0000,9,     86.0,2,    85.54,2,    35.30,2,     0.00,2,     2.54,2,   2278.2,2,   7.4504,2,    25.00,     1937
  49UF20091022,KS0910,  2532,  1,      6,  16012,2,20091121,1904, 32.6830, 137.0327, 4182,    908.8,   4.6291,  34.2885,2,-999.0000,9,     70.0,2,   100.05,2,    37.90,2,     0.00,2,     2.73,2,   2307.3,2,   7.4118,2,    25.00,     1934
  49UF20091022,KS0910,  2532,  1,      7,  19374,2,20091121,1904, 32.6830, 137.0327, 4182,    909.5,   4.6274,  34.2905,2,-999.0000,9,     70.0,2,   100.03,2,    37.90,2,     0.00,2,     2.73,2,   -999.0,9,-999.0000,9,  -999.00,     1934
  49UF20091022,KS0910,  2532,  1,      5,  16011,2,20091121,1904, 32.6830, 137.0327, 4182,   1010.4,   3.9347,  34.3516,2,-999.0000,9,     61.0,2,   113.93,2,    39.70,2,     0.00,2,     2.85,2,   2329.6,6,   7.3987,2,    25.00,     1930
  49UF20091022,KS0910,  2532,  1,      4,  16010,2,20091121,1904, 32.6830, 137.0327, 4182,   1262.6,   3.0719,  34.4542,2,-999.0000,9,     64.0,2,   130.66,2,    40.60,2,     0.00,2,     2.91,2,   2349.5,2,   7.3993,2,    25.00,     1923
  49UF20091022,KS0910,  2532,  1,      3,  16009,2,20091121,1904, 32.6830, 137.0327, 4182,   1515.6,   2.5877,  34.5199,2,-999.0000,9,     77.0,2,   138.40,2,    40.30,2,     0.00,2,     2.86,2,   2352.2,2,   7.4271,2,    25.00,     1917
  49UF20091022,KS0910,  2532,  1,      2,  16008,2,20091121,1904, 32.6830, 137.0327, 4182,   1769.3,   2.2783,  34.5636,2,-999.0000,9,     91.0,2,   141.18,2,    39.60,2,     0.00,2,     2.81,2,   2350.8,2,   7.4557,2,    25.00,     1910
  49UF20091022,KS0910,  2532,  1,      1,  16007,2,20091121,1904, 32.6830, 137.0327, 4182,   2032.8,   1.9980,  34.6040,2,-999.0000,9,    109.0,2,   142.27,2,    38.50,2,     0.00,2,     2.73,2,   2346.5,2,   7.4873,2,    25.00,     1904