BOTTLE,20190917PRINUNIVRMK
EXPOCODE,SECT_ID,STNNBR,CASTNO,SAMPNO,BTLNBR,BTLNBR_FLAG_W,DATE,TIME,LATITUDE,LONGITUDE,DEPTH,CTDPRS,CTDTMP,CTDSAL,CTDSAL_FLAG_W,SALNTY,SALNTY_FLAG_W,OXYGEN,OXYGEN_FLAG_W,SILCAT,SILCAT_FLAG_W,NITRAT,NITRAT_FLAG_W,NITRIT,NITRIT_FLAG_W,PHSPHT,PHSPHT_FLAG_W,TCARBN,TCARBN_FLAG_W,PH_TOT,PH_TOT_FLAG_W,PH_TMP,BTL_TIME
,,,,,,,,,,,METERS,DBAR,ITS-90,PSS-78,,PSS-78,,UMOL/KG,,UMOL/KG,,UMOL/KG,,UMOL/KG,,UMOL/KG,,UMOL/KG,,,,DEG C,
  49UF20091022,KS0910,  2534,  1,     99,     99,2,20091122,0328, 33.3237, 137.0273, 2990,      0.0,  22.5665,  34.2912,2,-999.0000,9,    216.0,2,     2.45,2,     0.62,2,     0.18,2,     0.05,2,   -999.0,9,-999.0000,9,  -999.00,      407
  49UF20091022,KS0910,  2534,  1,     23,  19380,2,20091122,0328, 33.3237, 137.0273, 2990,     10.4,  22.5827,  34.2938,2,-999.0000,9,    212.0,2,     2.41,2,     0.51,2,     0.19,2,     0.06,2,   1948.7,2,   8.0717,2,    25.00,      424
  49UF20091022,KS0910,  2534,  1,     22,  16028,2,20091122,0328, 33.3237, 137.0273, 2990,     25.7,  22.5159,  34.2842,2,-999.0000,9,    213.0,2,     2.69,2,     0.70,2,     0.20,2,     0.07,2,   1952.0,6,   8.0670,2,    25.00,      422
  49UF20091022,KS0910,  2534,  1,     21,  16027,2,20091122,0328, 33.3237, 137.0273, 2990,     48.9,  20.8979,  34.2365,2,-999.0000,9,    202.0,2,     7.13,2,     3.69,2,     0.21,2,     0.28,2,   1984.6,2,   8.0110,2,    25.00,      417
  49UF20091022,KS0910,  2534,  1,     20,  16026,2,20091122,0328, 33.3237, 137.0273, 2990,     75.0,  18.6026,  34.3697,2,-999.0000,9,    182.0,2,    12.54,2,     7.66,2,     0.14,2,     0.56,2,   2030.2,2,   7.9290,2,    25.00,      416
  49UF20091022,KS0910,  2534,  1,     19,  19378,2,20091122,0328, 33.3237, 137.0273, 2990,    100.7,  15.3165,  34.5260,2,-999.0000,9,    166.0,2,    18.34,2,    12.69,2,     0.01,2,     0.89,2,   2090.7,2,   7.8385,2,    25.00,      414
  49UF20091022,KS0910,  2534,  1,     17,  16023,2,20091122,0328, 33.3237, 137.0273, 2990,    126.1,  13.8841,  34.5087,2,-999.0000,9,    158.0,2,    23.89,2,    15.19,2,     0.01,2,     1.08,2,   2111.6,2,   7.7935,2,    25.00,      413
  49UF20091022,KS0910,  2534,  1,     18,  19377,2,20091122,0328, 33.3237, 137.0273, 2990,    126.1,  13.8949,  34.5103,2,-999.0000,9,    158.0,2,    23.36,2,    15.19,2,     0.01,2,     1.06,2,   -999.0,9,-999.0000,9,  -999.00,      413
  49UF20091022,KS0910,  2534,  1,     16,  16022,2,20091122,0328, 33.3237, 137.0273, 2990,    150.1,  12.6781,  34.4472,2,-999.0000,9,    151.0,2,    29.64,2,    17.79,2,     0.01,2,     1.25,2,   2131.2,2,   7.7511,2,    25.00,      412
  49UF20091022,KS0910,  2534,  1,     15,  16021,2,20091122,0328, 33.3237, 137.0273, 2990,    201.3,  11.0236,  34.3834,2,-999.0000,9,    140.0,2,    37.98,2,    21.19,2,     0.01,2,     1.51,2,   2159.2,2,   7.6965,2,    25.00,      411
  49UF20091022,KS0910,  2534,  1,     14,  16020,2,20091122,0328, 33.3237, 137.0273, 2990,    251.4,  10.1643,  34.3482,2,-999.0000,9,    134.0,2,    43.34,2,    23.19,2,     0.01,2,     1.65,2,   2173.6,2,   7.6554,2,    25.00,      409
  49UF20091022,KS0910,  2534,  1,     13,  16019,2,20091122,0328, 33.3237, 137.0273, 2990,    301.9,   8.6752,  34.2853,2,-999.0000,9,    125.0,2,    53.00,2,    26.60,2,     0.00,2,     1.90,2,   2202.4,2,   7.5954,2,    25.00,      408
  49UF20091022,KS0910,  2534,  1,     12,  16018,2,20091122,0328, 33.3237, 137.0273, 2990,    403.5,   6.7019,  34.2350,2,-999.0000,9,    106.0,2,    70.82,2,    31.60,2,     0.00,2,     2.27,2,   2245.5,2,   7.5205,2,    25.00,      405
  49UF20091022,KS0910,  2534,  1,     11,  16017,2,20091122,0328, 33.3237, 137.0273, 2990,    504.8,   5.9690,  34.2378,2,-999.0000,9,     94.0,2,    79.87,2,    33.70,2,     0.00,2,     2.43,2,   2263.9,2,   7.4768,2,    25.00,      402
  49UF20091022,KS0910,  2534,  1,     10,  19375,2,20091122,0328, 33.3237, 137.0273, 2990,    605.8,   5.1470,  34.2663,2,-999.0000,9,     80.0,2,    91.87,2,    36.30,2,     0.00,2,     2.61,2,   2283.2,2,   7.4420,2,    25.00,      400
  49UF20091022,KS0910,  2534,  1,      9,  16015,2,20091122,0328, 33.3237, 137.0273, 2990,    706.9,   4.3421,  34.3177,2,-999.0000,9,     69.0,2,   106.06,2,    38.60,2,     0.00,2,     2.77,2,   2315.3,2,   7.4081,2,    25.00,      357
  49UF20091022,KS0910,  2534,  1,      7,  19374,2,20091122,0328, 33.3237, 137.0273, 2990,    807.3,   3.8705,  34.3560,2,-999.0000,9,     62.0,2,   115.66,2,    39.80,2,     0.00,2,     2.85,2,   2325.4,2,   7.3917,2,    25.00,      354
  49UF20091022,KS0910,  2534,  1,      8,  16014,2,20091122,0328, 33.3237, 137.0273, 2990,    807.4,   3.8699,  34.3563,2,-999.0000,9,     62.0,2,   115.36,2,    39.80,2,     0.00,2,     2.85,2,   -999.0,9,-999.0000,9,  -999.00,      354
  49UF20091022,KS0910,  2534,  1,      6,  16012,2,20091122,0328, 33.3237, 137.0273, 2990,    906.5,   3.6128,  34.3854,2,-999.0000,9,     60.0,2,   120.52,2,    40.30,2,     0.00,2,     2.88,2,   2337.7,2,   7.3907,2,    25.00,      352
  49UF20091022,KS0910,  2534,  1,      5,  16011,2,20091122,0328, 33.3237, 137.0273, 2990,   1010.1,   3.3653,  34.4135,2,-999.0000,9,     61.0,2,   125.79,2,    40.60,2,     0.00,2,     2.90,2,   2345.9,6,   7.3940,2,    25.00,      349
  49UF20091022,KS0910,  2534,  1,      4,  16010,2,20091122,0328, 33.3237, 137.0273, 2990,   1263.0,   2.8720,  34.4804,2,-999.0000,9,     72.0,2,   133.99,2,    40.60,2,     0.00,2,     2.89,2,   2353.2,2,   7.4112,2,    25.00,      344
  49UF20091022,KS0910,  2534,  1,      3,  16009,2,20091122,0328, 33.3237, 137.0273, 2990,   1517.0,   2.5104,  34.5317,2,-999.0000,9,     83.0,2,   139.54,2,    40.30,2,     0.00,2,     2.84,2,   2351.9,2,   7.4377,2,    25.00,      338
  49UF20091022,KS0910,  2534,  1,      2,  16008,2,20091122,0328, 33.3237, 137.0273, 2990,   1770.1,   2.2517,  34.5687,2,-999.0000,9,     95.0,2,   141.24,2,    39.70,2,     0.00,2,     2.79,2,   2349.2,2,   7.4617,2,    25.00,      333
  49UF20091022,KS0910,  2534,  1,      1,  16007,2,20091122,0328, 33.3237, 137.0273, 2990,   2025.4,   2.0292,  34.6002,2,-999.0000,9,    112.0,2,   142.36,2,    38.90,2,     0.00,2,     2.74,2,   2345.2,2,   7.4878,2,    25.00,      328
  49UF20091022,KS0910,  2536,  1,     99,     99,2,20091122,1101, 33.9783, 136.9975, 1160,      0.0,  18.8011,  34.0614,2,-999.0000,9,    224.0,2,     6.53,2,     2.59,2,     0.31,2,     0.21,2,   -999.0,9,-999.0000,9,  -999.00,     1105
  49UF20091022,KS0910,  2536,  1,     21,  16027,2,20091122,1101, 33.9783, 136.9975, 1160,     10.9,  18.8182,  34.0674,2,  34.0696,2,    224.0,2,     6.91,2,     2.63,2,     0.27,2,     0.22,2,   1978.5,2,   8.0126,2,    25.00,     1140
  49UF20091022,KS0910,  2536,  1,     20,  16026,2,20091122,1101, 33.9783, 136.9975, 1160,     25.8,  18.8916,  34.1293,2,-999.0000,9,    219.0,2,     7.64,2,     3.26,2,     0.24,2,     0.24,2,   1986.2,6,   8.0036,2,    25.00,     1139
  49UF20091022,KS0910,  2536,  1,     19,  19378,2,20091122,1101, 33.9783, 136.9975, 1160,     50.6,  18.8429,  34.2812,2,-999.0000,9,    189.0,2,    10.69,2,     6.40,2,     0.20,2,     0.47,2,   2020.0,2,   7.9486,2,    25.00,     1135
  49UF20091022,KS0910,  2536,  1,     18,  19377,2,20091122,1101, 33.9783, 136.9975, 1160,     76.5,  16.6045,  34.5402,2,-999.0000,9,    169.0,2,    15.03,2,    10.68,2,     0.02,2,     0.73,2,   2071.3,2,   7.8711,2,    25.00,     1134
  49UF20091022,KS0910,  2536,  1,     16,  16022,2,20091122,1101, 33.9783, 136.9975, 1160,    101.3,  15.0727,  34.5261,2,  34.5260,2,    164.0,2,    19.53,2,    13.09,2,     0.01,2,     0.91,2,   2094.3,2,   7.8340,2,    25.00,     1132
  49UF20091022,KS0910,  2536,  1,     17,  16023,2,20091122,1101, 33.9783, 136.9975, 1160,    101.9,  15.0317,  34.5261,2,  34.5267,2,    164.0,2,    19.42,2,    13.09,2,     0.01,2,     0.91,2,   -999.0,9,-999.0000,9,  -999.00,     1132
  49UF20091022,KS0910,  2536,  1,     15,  16021,2,20091122,1101, 33.9783, 136.9975, 1160,    127.1,  13.9894,  34.4984,2,-999.0000,9,    159.0,2,    23.30,2,    15.00,2,     0.00,2,     1.05,2,   2109.7,2,   7.7974,2,    25.00,     1131
  49UF20091022,KS0910,  2536,  1,     14,  16020,2,20091122,1101, 33.9783, 136.9975, 1160,    153.6,  13.3412,  34.4758,2,-999.0000,9,    156.0,2,    25.91,2,    16.20,2,     0.00,2,     1.13,2,   2119.9,2,   7.7750,2,    25.00,     1130
  49UF20091022,KS0910,  2536,  1,     13,  16019,2,20091122,1101, 33.9783, 136.9975, 1160,    202.8,  11.4197,  34.4117,2,  34.4131,2,    145.0,2,    35.01,2,    20.00,2,     0.00,2,     1.41,2,   2150.2,2,   7.7143,2,    25.00,     1128
  49UF20091022,KS0910,  2536,  1,     12,  16018,2,20091122,1101, 33.9783, 136.9975, 1160,    253.0,  10.1405,  34.3629,2,-999.0000,9,    134.0,2,    42.90,2,    23.00,2,     0.00,2,     1.63,2,   2173.8,2,   7.6617,2,    25.00,     1126
  49UF20091022,KS0910,  2536,  1,     11,  16017,2,20091122,1101, 33.9783, 136.9975, 1160,    304.9,   8.1420,  34.2806,2,  34.2801,2,    120.0,2,    56.93,2,    28.00,2,     0.00,2,     1.99,2,   2213.1,2,   7.5758,2,    25.00,     1124
  49UF20091022,KS0910,  2536,  1,     10,  19375,2,20091122,1101, 33.9783, 136.9975, 1160,    408.5,   7.0927,  34.2606,2,  34.2597,2,    109.0,2,    66.47,2,    30.60,2,     0.00,2,     2.19,2,   2235.7,2,   7.5394,2,    25.00,     1120
  49UF20091022,KS0910,  2536,  1,      9,  16015,2,20091122,1101, 33.9783, 136.9975, 1160,    506.9,   5.4936,  34.2552,2,  34.2529,2,     87.0,2,    86.57,2,    35.10,2,     0.00,2,     2.52,2,   2278.3,2,   7.4563,2,    25.00,     1116
  49UF20091022,KS0910,  2536,  1,      8,  16014,2,20091122,1101, 33.9783, 136.9975, 1160,    608.4,   4.8003,  34.2868,2,  34.2855,2,     76.0,2,    97.84,2,    37.30,2,     0.00,2,     2.68,2,   2299.5,2,   7.4288,2,    25.00,     1112
  49UF20091022,KS0910,  2536,  1,      6,  16012,2,20091122,1101, 33.9783, 136.9975, 1160,    710.4,   4.4854,  34.3069,2,  34.3063,2,     70.0,2,   103.74,2,    38.20,2,     0.00,2,     2.75,2,   2311.2,2,   7.4134,2,    25.00,     1109
  49UF20091022,KS0910,  2536,  1,      7,  19374,2,20091122,1101, 33.9783, 136.9975, 1160,    710.7,   4.4790,  34.3076,2,  34.3059,2,     70.0,2,   103.80,2,    38.20,2,     0.00,2,     2.75,2,   -999.0,9,-999.0000,9,  -999.00,     1109
  49UF20091022,KS0910,  2536,  1,      5,  16011,2,20091122,1101, 33.9783, 136.9975, 1160,    809.3,   3.8621,  34.3579,2,  34.3565,2,     62.0,2,   115.62,2,    39.80,2,     0.00,2,     2.85,2,   2331.2,2,   7.3892,2,    25.00,     1106
  49UF20091022,KS0910,  2536,  1,      4,  16010,2,20091122,1101, 33.9783, 136.9975, 1160,    908.5,   3.5635,  34.3918,2,  34.3911,2,     62.0,2,   121.86,2,    40.10,2,     0.00,2,     2.87,2,   2338.3,2,   7.3925,2,    25.00,     1104
  49UF20091022,KS0910,  2536,  1,      3,  16009,2,20091122,1101, 33.9783, 136.9975, 1160,   1007.6,   3.1779,  34.4383,2,  34.4374,2,     64.0,2,   128.94,2,    40.50,2,     0.00,2,     2.90,2,   2347.5,6,   7.4015,2,    25.00,     1102
  49UF20091022,KS0910,  2536,  1,      2,  16008,9,20091122,1101, 33.9783, 136.9975, 1160,   1047.3,   3.0864,  34.4503,2,-999.0000,9,   -999.0,9,  -999.00,9,  -999.00,9,  -999.00,9,  -999.00,9,   2348.8,2,-999.0000,9,  -999.00,     1101
  49UF20091022,KS0910,  2536,  1,      1,  16007,2,20091122,1101, 33.9783, 136.9975, 1160,   1050.7,   3.0829,  34.4509,2,  34.4497,2,     65.0,2,   131.21,2,    40.70,2,     0.00,2,     2.90,2,   -999.0,9,   7.4014,2,    25.00,     1101