BOTTLE,20190917PRINUNIVRMK
EXPOCODE,SECT_ID,STNNBR,CASTNO,SAMPNO,BTLNBR,BTLNBR_FLAG_W,DATE,TIME,LATITUDE,LONGITUDE,DEPTH,CTDPRS,CTDTMP,CTDSAL,CTDSAL_FLAG_W,SALNTY,SALNTY_FLAG_W,OXYGEN,OXYGEN_FLAG_W,SILCAT,SILCAT_FLAG_W,NITRAT,NITRAT_FLAG_W,NITRIT,NITRIT_FLAG_W,PHSPHT,PHSPHT_FLAG_W,TCARBN,TCARBN_FLAG_W,PH_TOT,PH_TOT_FLAG_W,PH_TMP,BTL_TIME
,,,,,,,,,,,METERS,DBAR,ITS-90,PSS-78,,PSS-78,,UMOL/KG,,UMOL/KG,,UMOL/KG,,UMOL/KG,,UMOL/KG,,UMOL/KG,,,,DEG C,
  49UF20091022,KS0910,  2520,  1,     99,     99,2,20091118,0917, 24.9828, 136.9908, 5212,      0.0,  26.4040,  34.7145,2,-999.0000,9,    204.0,2,     1.32,2,     0.00,2,     0.00,2,     0.00,2,   -999.0,9,-999.0000,9,  -999.00,     1045
  49UF20091022,KS0910,  2520,  1,     24,  16030,2,20091118,0917, 24.9828, 136.9908, 5212,      9.2,  26.4060,  34.7145,2,  34.7138,2,    204.0,2,     1.27,2,     0.00,2,     0.00,2,     0.00,2,   1952.4,2,   8.0934,2,    25.00,     1113
  49UF20091022,KS0910,  2520,  1,     23,  19380,2,20091118,0917, 24.9828, 136.9908, 5212,     25.1,  26.4113,  34.7142,2,-999.0000,9,    207.0,2,     1.27,2,     0.00,2,     0.00,2,     0.00,2,   1952.1,6,   8.0909,2,    25.00,     1111
  49UF20091022,KS0910,  2520,  1,     22,  16028,2,20091118,0917, 24.9828, 136.9908, 5212,     52.0,  26.4113,  34.7119,2,-999.0000,9,    204.0,2,     1.32,2,     0.00,2,     0.00,2,     0.00,2,   1952.1,2,   8.0903,2,    25.00,     1107
  49UF20091022,KS0910,  2520,  1,     21,  16027,2,20091118,0917, 24.9828, 136.9908, 5212,     76.1,  25.2210,  34.6785,2,-999.0000,9,    213.0,2,     1.42,2,     0.00,2,     0.00,2,     0.00,2,   1959.2,2,   8.0792,2,    25.00,     1105
  49UF20091022,KS0910,  2520,  1,     20,  16026,2,20091118,0917, 24.9828, 136.9908, 5212,    102.2,  23.7304,  34.6843,2,  34.6824,2,    213.0,2,     1.52,2,     0.00,2,     0.00,2,     0.00,2,   1970.6,2,   8.0623,2,    25.00,     1104
  49UF20091022,KS0910,  2520,  1,     19,  19378,2,20091118,0917, 24.9828, 136.9908, 5212,    128.2,  22.1066,  34.7482,2,-999.0000,9,    209.0,2,     1.72,2,     0.26,2,     0.14,2,     0.02,2,   1988.2,2,   8.0396,2,    25.00,     1102
  49UF20091022,KS0910,  2520,  1,     18,  19377,2,20091118,0917, 24.9828, 136.9908, 5212,    151.5,  20.1194,  34.7377,2,-999.0000,9,    207.0,2,     2.11,2,     1.08,2,     0.02,2,     0.07,2,   2002.6,2,   8.0052,2,    25.00,     1101
  49UF20091022,KS0910,  2520,  1,     17,  16023,2,20091118,0917, 24.9828, 136.9908, 5212,    201.2,  18.6966,  34.7221,2,  34.7219,2,    205.0,2,     2.75,2,     2.69,2,     0.01,2,     0.17,2,   2015.4,2,   7.9839,2,    25.00,     1059
  49UF20091022,KS0910,  2520,  1,     16,  16022,2,20091118,0917, 24.9828, 136.9908, 5212,    252.9,  17.7807,  34.7362,2,-999.0000,9,    202.0,2,     3.76,2,     4.39,2,     0.01,2,     0.27,2,   2027.0,2,   7.9640,2,    25.00,     1057
  49UF20091022,KS0910,  2520,  1,     15,  16021,2,20091118,0917, 24.9828, 136.9908, 5212,    302.8,  17.1090,  34.7280,2,  34.7286,2,    198.0,2,     4.98,2,     5.90,2,     0.00,2,     0.36,2,   2040.4,2,   7.9363,2,    25.00,     1055
  49UF20091022,KS0910,  2520,  1,     14,  16020,2,20091118,0917, 24.9828, 136.9908, 5212,    404.0,  14.9356,  34.5786,2,  34.5783,2,    189.0,2,    10.14,2,    10.00,2,     0.00,2,     0.65,2,   2071.7,2,   7.8713,2,    25.00,     1053
  49UF20091022,KS0910,  2520,  1,     13,  16019,2,20091118,0917, 24.9828, 136.9908, 5212,    504.2,  12.3278,  34.3863,2,  34.3879,2,    184.0,2,    17.93,2,    14.60,2,     0.00,2,     1.00,2,   2103.9,2,   7.7874,2,    25.00,     1050
  49UF20091022,KS0910,  2520,  1,     12,  16018,2,20091118,0917, 24.9828, 136.9908, 5212,    605.4,   9.4550,  34.2062,2,  34.2093,2,    161.0,2,    33.56,2,    21.80,2,     0.00,2,     1.53,2,   2156.7,2,   7.6644,2,    25.00,     1047
  49UF20091022,KS0910,  2520,  1,     11,  16017,2,20091118,0917, 24.9828, 136.9908, 5212,    707.5,   7.2955,  34.1180,2,  34.1189,2,    132.0,2,    52.10,2,    28.20,2,     0.00,2,     2.00,2,   2205.8,3,   7.5639,2,    25.00,     1045
  49UF20091022,KS0910,  2520,  1,     10,  19375,2,20091118,0917, 24.9828, 136.9908, 5212,    808.1,   5.8168,  34.1521,2,  34.1528,2,     92.0,2,    73.36,2,    34.30,2,     0.00,2,     2.46,2,   2261.6,2,   7.4554,2,    25.00,     1042
  49UF20091022,KS0910,  2520,  1,      9,  16015,3,20091118,0917, 24.9828, 136.9908, 5212,    908.7,   4.7601,  34.2392,2,  34.2391,2,     67.0,2,    93.23,2,    38.30,2,     0.00,2,     2.75,2,   2304.2,3,   7.3998,2,    25.00,     1039
  49UF20091022,KS0910,  2520,  1,      8,  16014,2,20091118,0917, 24.9828, 136.9908, 5212,   1011.4,   4.2590,  34.3251,2,  34.3247,2,     58.0,2,   104.37,2,    39.80,2,     0.00,2,     2.86,2,   2324.3,6,   7.3872,2,    25.00,     1036
  49UF20091022,KS0910,  2520,  1,      7,  19374,2,20091118,0917, 24.9828, 136.9908, 5212,   1261.4,   3.1448,  34.4439,2,  34.4434,2,     60.0,2,   128.78,2,    41.00,2,     0.00,2,     2.92,2,   2350.1,2,   7.3935,2,    25.00,     1030
  49UF20091022,KS0910,  2520,  1,      6,  16012,2,20091118,0917, 24.9828, 136.9908, 5212,   1515.0,   2.6634,  34.5215,2,  34.5227,2,     78.0,2,   135.49,2,    40.20,2,     0.00,2,     2.84,2,   2350.1,2,   7.4309,2,    25.00,     1025
  49UF20091022,KS0910,  2520,  1,      5,  16011,2,20091118,0917, 24.9828, 136.9908, 5212,   1768.1,   2.2522,  34.5804,2,  34.5834,4,     99.0,2,   139.06,2,    39.20,2,     0.00,2,     2.76,2,   2346.8,2,   7.4720,2,    25.00,     1019
  49UF20091022,KS0910,  2520,  1,      4,  16010,2,20091118,0917, 24.9828, 136.9908, 5212,   2021.4,   2.0731,  34.6020,2,  34.6012,2,    108.0,2,   139.91,2,    38.70,2,     0.00,2,     2.71,2,   2344.2,2,   7.4887,2,    25.00,     1013
  49UF20091022,KS0910,  2520,  1,      3,  16009,2,20091118,0917, 24.9828, 136.9908, 5212,   3039.8,   1.6426,  34.6625,2,  34.6619,2,    139.0,2,   139.73,2,    36.80,2,     0.00,2,     2.55,2,   2331.7,2,   7.5482,2,    25.00,      954
  49UF20091022,KS0910,  2520,  1,      2,  16008,2,20091118,0917, 24.9828, 136.9908, 5212,   4065.6,   1.5382,  34.6824,2,  34.6818,2,    155.0,2,   137.67,2,    35.90,2,     0.00,2,     2.47,2,   2321.4,2,   7.5715,2,    25.00,      935
  49UF20091022,KS0910,  2520,  1,      1,  16007,2,20091118,0917, 24.9828, 136.9908, 5212,   4991.0,   1.6275,  34.6839,2,  34.6844,2,    157.0,2,   138.09,2,    35.70,2,     0.00,2,     2.46,2,   2319.6,2,   7.5740,2,    25.00,      917
  49UF20091022,KS0910,  2523,  1,     99,     99,2,20091120,0114, 27.9840, 136.9965, 4108,      0.0,  25.1152,  34.6436,2,-999.0000,9,    209.0,2,     1.34,2,     0.00,2,     0.00,2,     0.00,2,   -999.0,9,-999.0000,9,  -999.00,      146
  49UF20091022,KS0910,  2523,  1,     23,  19380,2,20091120,0114, 27.9840, 136.9965, 4108,     10.7,  25.1095,  34.6429,2,-999.0000,9,    208.0,2,     1.29,2,     0.00,2,     0.00,2,     0.00,2,   1952.6,2,   8.0957,2,    25.00,      210
  49UF20091022,KS0910,  2523,  1,     22,  16028,2,20091120,0114, 27.9840, 136.9965, 4108,     27.0,  25.0893,  34.6425,2,-999.0000,9,    207.0,2,     1.34,2,     0.00,2,     0.00,2,     0.00,2,   1951.7,6,   8.0911,2,    25.00,      209
  49UF20091022,KS0910,  2523,  1,     21,  16027,2,20091120,0114, 27.9840, 136.9965, 4108,     49.8,  25.0283,  34.6379,2,-999.0000,9,    207.0,2,     1.29,2,     0.00,2,     0.00,2,     0.00,2,   1953.0,2,   8.0952,2,    25.00,      204
  49UF20091022,KS0910,  2523,  1,     20,  16026,2,20091120,0114, 27.9840, 136.9965, 4108,     78.1,  24.4417,  34.6472,2,-999.0000,9,    209.0,2,     1.34,2,     0.00,2,     0.00,2,     0.00,2,   1956.4,2,   8.0866,2,    25.00,      203
  49UF20091022,KS0910,  2523,  1,     19,  19378,2,20091120,0114, 27.9840, 136.9965, 4108,    102.9,  21.8823,  34.7235,2,-999.0000,9,    217.0,2,     1.63,2,     0.07,2,     0.03,2,     0.00,2,   1981.1,2,   8.0491,2,    25.00,      202
  49UF20091022,KS0910,  2523,  1,     18,  19377,2,20091120,0114, 27.9840, 136.9965, 4108,    128.3,  20.1861,  34.8070,2,-999.0000,9,    196.0,2,     2.12,2,     1.18,2,     0.02,2,     0.08,2,   2015.6,2,   7.9969,2,    25.00,      201
  49UF20091022,KS0910,  2523,  1,     17,  16023,2,20091120,0114, 27.9840, 136.9965, 4108,    153.2,  19.4117,  34.7516,2,-999.0000,9,    202.0,2,     2.37,2,     1.89,2,     0.01,2,     0.12,2,   2013.6,2,   7.9907,2,    25.00,      159
  49UF20091022,KS0910,  2523,  1,     16,  16022,2,20091120,0114, 27.9840, 136.9965, 4108,    202.7,  18.3674,  34.7658,2,-999.0000,9,    196.0,2,     3.44,2,     4.20,2,     0.00,2,     0.25,2,   2028.3,2,   7.9645,2,    25.00,      158
  49UF20091022,KS0910,  2523,  1,     15,  16021,2,20091120,0114, 27.9840, 136.9965, 4108,    252.8,  17.6200,  34.7552,2,-999.0000,9,    194.0,2,     4.46,2,     5.40,2,     0.00,2,     0.33,2,   2038.8,2,   7.9494,2,    25.00,      156
  49UF20091022,KS0910,  2523,  1,     14,  16020,2,20091120,0114, 27.9840, 136.9965, 4108,    304.0,  16.6099,  34.7031,2,-999.0000,9,    189.0,2,     6.70,2,     7.40,2,     0.00,2,     0.47,2,   2054.2,2,   7.9112,2,    25.00,      154
  49UF20091022,KS0910,  2523,  1,     12,  16018,2,20091120,0114, 27.9840, 136.9965, 4108,    403.4,  14.5484,  34.5574,2,-999.0000,9,    180.0,2,    12.68,2,    11.40,2,     0.00,2,     0.76,2,   2082.9,2,   7.8514,2,    25.00,      151
  49UF20091022,KS0910,  2523,  1,     13,  16019,3,20091120,0114, 27.9840, 136.9965, 4108,    404.8,  14.5219,  34.5563,2,-999.0000,9,    181.0,2,    12.70,2,    11.50,2,     0.00,2,     0.77,2,   -999.0,9,-999.0000,9,  -999.00,      152
  49UF20091022,KS0910,  2523,  1,     11,  16017,2,20091120,0114, 27.9840, 136.9965, 4108,    506.0,  11.8252,  34.3700,2,-999.0000,9,    172.0,2,    22.46,2,    16.70,2,     0.00,2,     1.14,2,   2122.2,2,   7.7568,2,    25.00,      149
  49UF20091022,KS0910,  2523,  1,     10,  19375,2,20091120,0114, 27.9840, 136.9965, 4108,    607.7,   8.4707,  34.2093,2,-999.0000,9,    142.0,2,    46.05,2,    25.30,2,     0.00,2,     1.79,2,   2187.9,2,   7.6179,2,    25.00,      146
  49UF20091022,KS0910,  2523,  1,      9,  16015,3,20091120,0114, 27.9840, 136.9965, 4108,    707.6,   6.8446,  34.1695,2,-999.0000,9,    118.0,2,    62.04,2,    30.10,2,     0.00,2,     2.15,2,   2226.6,3,   7.5323,2,    25.00,      143
  49UF20091022,KS0910,  2523,  1,      8,  16014,2,20091120,0114, 27.9840, 136.9965, 4108,    809.2,   5.4429,  34.1937,2,-999.0000,9,     90.0,2,    81.98,2,    35.00,2,     0.00,2,     2.51,2,   2274.1,2,   7.4476,2,    25.00,      140
  49UF20091022,KS0910,  2523,  1,      7,  19374,2,20091120,0114, 27.9840, 136.9965, 4108,    910.2,   4.6586,  34.2540,2,-999.0000,9,     72.0,2,    97.57,2,    38.00,2,     0.00,2,     2.72,2,   2304.4,2,   7.4074,2,    25.00,      138
  49UF20091022,KS0910,  2523,  1,      6,  16012,2,20091120,0114, 27.9840, 136.9965, 4108,   1009.6,   3.9249,  34.3318,2,-999.0000,9,     58.0,2,   112.83,2,    40.00,2,     0.00,2,     2.85,2,   2331.4,6,   7.3911,2,    25.00,      135
  49UF20091022,KS0910,  2523,  1,      5,  16011,2,20091120,0114, 27.9840, 136.9965, 4108,   1262.9,   3.0519,  34.4401,2,-999.0000,9,     56.0,2,   132.43,2,    41.40,2,     0.00,2,     2.94,2,   2356.0,2,   7.3801,2,    25.00,      130
  49UF20091022,KS0910,  2523,  1,      4,  16010,2,20091120,0114, 27.9840, 136.9965, 4108,   1516.3,   2.5221,  34.5209,2,-999.0000,9,     73.0,2,   141.60,2,    40.90,2,     0.00,2,     2.89,2,   2360.9,2,   7.4115,2,    25.00,      125
  49UF20091022,KS0910,  2523,  1,      2,  16008,2,20091120,0114, 27.9840, 136.9965, 4108,   1767.8,   2.1909,  34.5706,2,-999.0000,9,     89.0,2,   144.11,2,    40.00,2,     0.00,2,     2.82,2,   2355.7,2,   7.4495,2,    25.00,      119
  49UF20091022,KS0910,  2523,  1,      3,  16009,2,20091120,0114, 27.9840, 136.9965, 4108,   1768.0,   2.1909,  34.5705,2,-999.0000,9,     88.0,2,   144.58,2,    39.80,2,     0.00,2,     2.81,2,   -999.0,9,-999.0000,9,  -999.00,      119
  49UF20091022,KS0910,  2523,  1,      1,  16007,2,20091120,0114, 27.9840, 136.9965, 4108,   2032.2,   1.9655,  34.6085,2,-999.0000,9,    109.0,2,   142.95,2,    38.70,2,     0.00,2,     2.72,2,   2347.2,2,   7.4877,2,    25.00,      114
  49UF20091022,KS0910,  2525,  1,     99,     99,2,20091120,1508, 29.9882, 136.9995, 4511,      0.0,  23.2672,  34.4370,2,-999.0000,9,    214.0,2,     1.61,2,     0.00,2,     0.00,2,     0.00,2,   -999.0,9,-999.0000,9,  -999.00,     1550
  49UF20091022,KS0910,  2525,  1,     23,  19380,2,20091120,1508, 29.9882, 136.9995, 4511,      9.7,  23.2690,  34.4359,2,  34.4339,2,    213.0,2,     1.60,2,     0.00,2,     0.00,2,     0.00,2,   1951.7,2,   8.0760,2,    25.00,     1601
  49UF20091022,KS0910,  2525,  1,     22,  16028,2,20091120,1508, 29.9882, 136.9995, 4511,     25.4,  23.2690,  34.4357,2,-999.0000,9,    212.0,2,     1.60,2,     0.00,2,     0.00,2,     0.00,2,   1951.7,6,   8.0751,2,    25.00,     1600
  49UF20091022,KS0910,  2525,  1,     21,  16027,2,20091120,1508, 29.9882, 136.9995, 4511,     49.9,  23.2764,  34.4361,2,-999.0000,9,    212.0,2,     1.65,2,     0.00,2,     0.00,2,     0.00,2,   1953.5,2,   8.0771,2,    25.00,     1555
  49UF20091022,KS0910,  2525,  1,     20,  16026,2,20091120,1508, 29.9882, 136.9995, 4511,     75.1,  23.2286,  34.4466,2,-999.0000,9,    210.0,2,     1.69,2,     0.06,2,     0.04,2,     0.01,2,   1958.7,2,   8.0703,2,    25.00,     1554
  49UF20091022,KS0910,  2525,  1,     19,  19378,2,20091120,1508, 29.9882, 136.9995, 4511,    101.2,  21.2145,  34.7007,2,  34.7054,4,    197.0,2,     2.76,2,     2.37,2,     0.03,2,     0.15,2,   2003.6,2,   8.0116,2,    25.00,     1553
  49UF20091022,KS0910,  2525,  1,     18,  19377,2,20091120,1508, 29.9882, 136.9995, 4511,    126.3,  20.5255,  34.7071,2,-999.0000,9,    200.0,2,     2.46,2,     2.17,2,     0.03,2,     0.13,2,   2003.0,2,   8.0086,2,    25.00,     1552
  49UF20091022,KS0910,  2525,  1,     17,  16023,2,20091120,1508, 29.9882, 136.9995, 4511,    151.5,  19.9414,  34.7082,2,-999.0000,9,    203.0,2,     2.41,2,     2.17,2,     0.03,2,     0.13,2,   2003.3,2,   8.0085,2,    25.00,     1551
  49UF20091022,KS0910,  2525,  1,     16,  16022,2,20091120,1508, 29.9882, 136.9995, 4511,    200.6,  19.1728,  34.7230,2,  34.7235,2,    203.0,2,     2.66,2,     2.69,2,     0.01,2,     0.17,2,   2010.4,2,   7.9963,2,    25.00,     1549
  49UF20091022,KS0910,  2525,  1,     15,  16021,2,20091120,1508, 29.9882, 136.9995, 4511,    250.6,  18.5297,  34.7026,2,-999.0000,9,    208.0,2,     2.84,2,     2.69,2,     0.01,2,     0.18,2,   2011.2,2,   7.9928,2,    25.00,     1547
  49UF20091022,KS0910,  2525,  1,     13,  16019,2,20091120,1508, 29.9882, 136.9995, 4511,    301.4,  18.0469,  34.6970,2,  34.6968,2,    210.0,2,     3.24,2,     3.19,2,     0.01,2,     0.21,2,   2014.9,2,   7.9844,2,    25.00,     1546
  49UF20091022,KS0910,  2525,  1,     14,  16020,2,20091120,1508, 29.9882, 136.9995, 4511,    302.1,  18.0457,  34.6969,2,  34.6966,2,    210.0,2,     3.27,2,     3.19,2,     0.01,2,     0.21,2,   -999.0,9,-999.0000,9,  -999.00,     1546
  49UF20091022,KS0910,  2525,  1,     12,  16018,2,20091120,1508, 29.9882, 136.9995, 4511,    402.3,  16.7270,  34.6926,2,  34.6958,2,    191.0,2,     6.93,2,     7.09,2,     0.01,2,     0.46,2,   2049.6,2,   7.9233,2,    25.00,     1543
  49UF20091022,KS0910,  2525,  1,     11,  16017,2,20091120,1508, 29.9882, 136.9995, 4511,    505.0,  14.0521,  34.5220,2,  34.5248,2,    180.0,2,    15.03,2,    12.30,2,     0.00,2,     0.82,2,   2088.2,2,   7.8360,2,    25.00,     1541
  49UF20091022,KS0910,  2525,  1,     10,  19375,2,20091120,1508, 29.9882, 136.9995, 4511,    604.6,  10.2989,  34.2862,2,  34.2888,2,    163.0,2,    33.03,2,    20.10,2,     0.00,2,     1.41,2,   2148.2,2,   7.7069,2,    25.00,     1538
  49UF20091022,KS0910,  2525,  1,      9,  16015,2,20091120,1508, 29.9882, 136.9995, 4511,    705.9,   7.2780,  34.1103,2,  34.1134,2,    144.0,2,    52.57,2,    27.10,2,     0.00,2,     1.94,2,   2200.4,2,   7.5798,2,    25.00,     1536
  49UF20091022,KS0910,  2525,  1,      8,  16014,2,20091120,1508, 29.9882, 136.9995, 4511,    807.3,   5.8727,  34.1093,2,  34.1034,4,    113.0,2,    70.60,2,    32.60,2,     0.00,2,     2.33,2,   2246.7,2,   7.4855,2,    25.00,     1534
  49UF20091022,KS0910,  2525,  1,      7,  19374,2,20091120,1508, 29.9882, 136.9995, 4511,    907.2,   5.0907,  34.2034,2,  34.2035,2,     82.0,2,    88.54,2,    36.40,2,     0.00,2,     2.60,2,   2285.6,2,   7.4281,2,    25.00,     1531
  49UF20091022,KS0910,  2525,  1,      6,  16012,2,20091120,1508, 29.9882, 136.9995, 4511,   1009.7,   4.2589,  34.3065,2,  34.3054,2,     63.0,2,   106.37,2,    39.20,2,     0.00,2,     2.79,2,   2319.1,6,   7.4040,2,    25.00,     1529
  49UF20091022,KS0910,  2525,  1,      5,  16011,2,20091120,1508, 29.9882, 136.9995, 4511,   1263.0,   3.1167,  34.4278,2,  34.4262,2,     54.0,2,   131.36,2,    41.60,2,     0.00,2,     2.93,2,   2353.3,2,   7.3763,2,    25.00,     1523
  49UF20091022,KS0910,  2525,  1,      4,  16010,2,20091120,1508, 29.9882, 136.9995, 4511,   1516.2,   2.5210,  34.5116,2,  34.5102,2,     63.0,2,   144.51,2,    41.40,2,     0.00,2,     2.94,2,   -999.0,9,-999.0000,9,  -999.00,     1518
  49UF20091022,KS0910,  2525,  1,      3,  16009,2,20091120,1508, 29.9882, 136.9995, 4511,   1517.0,   2.5202,  34.5118,2,  34.5112,2,     62.0,2,   144.62,2,    41.40,2,     0.00,2,     2.93,2,   2365.8,2,   7.3939,2,    25.00,     1518
  49UF20091022,KS0910,  2525,  1,      2,  16008,2,20091120,1508, 29.9882, 136.9995, 4511,   1767.2,   2.2365,  34.5586,2,  34.5583,2,     80.0,2,   146.80,2,    40.50,2,     0.00,2,     2.85,2,   2360.2,2,   7.4298,2,    25.00,     1513
  49UF20091022,KS0910,  2525,  1,      1,  16007,2,20091120,1508, 29.9882, 136.9995, 4511,   2028.9,   1.9740,  34.5967,2,  34.5960,2,     90.0,2,   151.05,2,    39.90,2,     0.00,2,     2.81,2,   2359.8,2,   7.4511,2,    25.00,     1508