BOTTLE,20190917PRINUNIVRMK
EXPOCODE,SECT_ID,STNNBR,CASTNO,SAMPNO,BTLNBR,BTLNBR_FLAG_W,DATE,TIME,LATITUDE,LONGITUDE,DEPTH,CTDPRS,CTDTMP,CTDSAL,CTDSAL_FLAG_W,SALNTY,SALNTY_FLAG_W,OXYGEN,OXYGEN_FLAG_W,SILCAT,SILCAT_FLAG_W,NITRAT,NITRAT_FLAG_W,NITRIT,NITRIT_FLAG_W,PHSPHT,PHSPHT_FLAG_W,TCARBN,TCARBN_FLAG_W,PH_TOT,PH_TOT_FLAG_W,PH_TMP,BTL_TIME
,,,,,,,,,,,METERS,DBAR,ITS-90,PSS-78,,PSS-78,,UMOL/KG,,UMOL/KG,,UMOL/KG,,UMOL/KG,,UMOL/KG,,UMOL/KG,,,,DEG C,
  49UF20091022,KS0910,  2493,  1,     14,  16020,2,20091105,0344, 31.0270, 131.7055, 1392,     10.2,  24.6340,  34.2426,2,  34.2412,2,   -999.0,9,  -999.00,9,  -999.00,9,  -999.00,9,  -999.00,9,   -999.0,9,-999.0000,9,  -999.00,      422
  49UF20091022,KS0910,  2493,  1,     13,  16019,2,20091105,0344, 31.0270, 131.7055, 1392,    101.2,  21.4811,  34.5175,2,  34.5167,2,   -999.0,9,  -999.00,9,  -999.00,9,  -999.00,9,  -999.00,9,   -999.0,9,-999.0000,9,  -999.00,      416
  49UF20091022,KS0910,  2493,  1,     12,  16018,2,20091105,0344, 31.0270, 131.7055, 1392,    101.4,  21.2813,  34.5265,2,  34.5178,4,   -999.0,9,  -999.00,9,  -999.00,9,  -999.00,9,  -999.00,9,   -999.0,9,-999.0000,9,  -999.00,      416
  49UF20091022,KS0910,  2493,  1,     11,  16017,2,20091105,0344, 31.0270, 131.7055, 1392,    201.3,  16.6460,  34.6210,2,  34.6231,2,   -999.0,9,  -999.00,9,  -999.00,9,  -999.00,9,  -999.00,9,   -999.0,9,-999.0000,9,  -999.00,      413
  49UF20091022,KS0910,  2493,  1,     10,  19375,2,20091105,0344, 31.0270, 131.7055, 1392,    301.7,  12.2881,  34.4507,2,  34.4517,2,   -999.0,9,  -999.00,9,  -999.00,9,  -999.00,9,  -999.00,9,   -999.0,9,-999.0000,9,  -999.00,      410
  49UF20091022,KS0910,  2493,  1,      9,  16015,2,20091105,0344, 31.0270, 131.7055, 1392,    402.9,   8.0820,  34.2979,2,  34.2983,2,   -999.0,9,  -999.00,9,  -999.00,9,  -999.00,9,  -999.00,9,   -999.0,9,-999.0000,9,  -999.00,      407
  49UF20091022,KS0910,  2493,  1,      8,  16014,2,20091105,0344, 31.0270, 131.7055, 1392,    504.1,   6.8814,  34.3457,2,  34.3461,2,   -999.0,9,  -999.00,9,  -999.00,9,  -999.00,9,  -999.00,9,   -999.0,9,-999.0000,9,  -999.00,      405
  49UF20091022,KS0910,  2493,  1,      7,  19374,2,20091105,0344, 31.0270, 131.7055, 1392,    606.6,   4.7159,  34.2844,2,  34.2836,2,   -999.0,9,  -999.00,9,  -999.00,9,  -999.00,9,  -999.00,9,   -999.0,9,-999.0000,9,  -999.00,      402
  49UF20091022,KS0910,  2493,  1,      6,  16012,2,20091105,0344, 31.0270, 131.7055, 1392,    706.3,   4.1710,  34.3408,2,  34.3400,2,   -999.0,9,  -999.00,9,  -999.00,9,  -999.00,9,  -999.00,9,   -999.0,9,-999.0000,9,  -999.00,      359
  49UF20091022,KS0910,  2493,  1,      5,  16011,2,20091105,0344, 31.0270, 131.7055, 1392,    806.7,   3.7711,  34.3723,2,  34.3713,2,   -999.0,9,  -999.00,9,  -999.00,9,  -999.00,9,  -999.00,9,   -999.0,9,-999.0000,9,  -999.00,      356
  49UF20091022,KS0910,  2493,  1,      4,  16010,2,20091105,0344, 31.0270, 131.7055, 1392,    907.0,   3.4501,  34.4055,2,  34.4047,2,   -999.0,9,  -999.00,9,  -999.00,9,  -999.00,9,  -999.00,9,   -999.0,9,-999.0000,9,  -999.00,      353
  49UF20091022,KS0910,  2493,  1,      2,  16008,2,20091105,0344, 31.0270, 131.7055, 1392,   1009.8,   3.3566,  34.4176,2,  34.4167,2,   -999.0,9,  -999.00,9,  -999.00,9,  -999.00,9,  -999.00,9,   -999.0,9,-999.0000,9,  -999.00,      350
  49UF20091022,KS0910,  2493,  1,      3,  16009,2,20091105,0344, 31.0270, 131.7055, 1392,   1010.2,   3.3556,  34.4176,2,  34.4161,2,   -999.0,9,  -999.00,9,  -999.00,9,  -999.00,9,  -999.00,9,   -999.0,9,-999.0000,9,  -999.00,      350
  49UF20091022,KS0910,  2493,  1,      1,  16007,2,20091105,0344, 31.0270, 131.7055, 1392,   1262.8,   3.0758,  34.4539,2,  34.4534,2,   -999.0,9,  -999.00,9,  -999.00,9,  -999.00,9,  -999.00,9,   -999.0,9,-999.0000,9,  -999.00,      344
  49UF20091022,KS0910,  2495,  1,     99,     99,2,20091114,0923, 32.7483, 133.1072,  179,      0.0,  23.6645,  34.1612,2,-999.0000,9,    211.0,2,     2.14,2,     0.25,2,     0.15,2,     0.04,2,   -999.0,9,-999.0000,9,  -999.00,      925
  49UF20091022,KS0910,  2495,  1,      9,  16015,2,20091114,0923, 32.7483, 133.1072,  179,     10.5,  23.6885,  34.1606,2,-999.0000,9,    210.0,2,     2.14,2,     0.35,2,     0.15,2,     0.04,2,   1938.6,2,   8.0890,2,    25.00,      936
  49UF20091022,KS0910,  2495,  1,      8,  16014,2,20091114,0923, 32.7483, 133.1072,  179,     25.1,  23.6783,  34.1606,2,-999.0000,9,    210.0,2,     2.14,2,     0.25,2,     0.15,2,     0.05,2,   1938.3,6,   8.0896,2,    25.00,      935
  49UF20091022,KS0910,  2495,  1,      7,  19374,2,20091114,0923, 32.7483, 133.1072,  179,     50.5,  23.6760,  34.1599,2,-999.0000,9,    212.0,2,     2.14,2,     0.35,2,     0.15,2,     0.04,2,   1937.8,2,   8.0879,2,    25.00,      932
  49UF20091022,KS0910,  2495,  1,      6,  16012,2,20091114,0923, 32.7483, 133.1072,  179,     76.5,  22.7091,  34.3332,2,-999.0000,9,    193.0,2,     4.27,2,     2.62,2,     0.28,2,     0.20,2,   1977.5,2,   8.0340,2,    25.00,      930
  49UF20091022,KS0910,  2495,  1,      5,  16011,2,20091114,0923, 32.7483, 133.1072,  179,    101.3,  21.1314,  34.4354,2,-999.0000,9,    176.0,2,     7.43,2,     5.63,2,     0.07,2,     0.38,2,   2016.3,2,   7.9777,2,    25.00,      928
  49UF20091022,KS0910,  2495,  1,      4,  16010,2,20091114,0923, 32.7483, 133.1072,  179,    126.2,  18.4883,  34.5939,2,-999.0000,9,    169.0,2,    11.42,2,     8.36,2,     0.04,2,     0.59,2,   2053.7,2,   7.9188,2,    25.00,      926
  49UF20091022,KS0910,  2495,  1,      3,  16009,2,20091114,0923, 32.7483, 133.1072,  179,    151.2,  17.6586,  34.5880,2,-999.0000,9,    165.0,2,    14.04,2,     9.64,2,     0.06,2,     0.69,2,   2065.9,2,   7.8977,2,    25.00,      924
  49UF20091022,KS0910,  2495,  1,      1,  16007,2,20091114,0923, 32.7483, 133.1072,  179,    172.9,  17.3426,  34.5906,2,-999.0000,9,    166.0,2,    14.33,2,    10.04,2,     0.06,2,     0.71,2,   2069.3,2,   7.8898,2,    25.00,      923
  49UF20091022,KS0910,  2495,  1,      2,  16008,2,20091114,0923, 32.7483, 133.1072,  179,    172.9,  17.3345,  34.5906,2,-999.0000,9,    165.0,2,    14.34,2,    10.04,2,     0.06,2,     0.72,2,   -999.0,9,-999.0000,9,  -999.00,      923
  49UF20091022,KS0910,  2496,  1,     99,     99,2,20091114,1129, 32.5952, 133.2177,  602,      0.0,  24.6383,  34.3468,2,-999.0000,9,    208.0,2,     1.65,2,     0.15,2,     0.05,2,     0.01,2,   -999.0,9,-999.0000,9,  -999.00,     1137
  49UF20091022,KS0910,  2496,  1,     18,  19377,2,20091114,1129, 32.5952, 133.2177,  602,     11.2,  24.6918,  34.3479,2,  34.3472,2,    206.0,2,     1.61,2,     0.15,2,     0.05,2,     0.01,2,   1938.9,2,   8.0979,2,    25.00,     1157
  49UF20091022,KS0910,  2496,  1,     17,  16023,2,20091114,1129, 32.5952, 133.2177,  602,     25.8,  24.6884,  34.3472,2,-999.0000,9,    209.0,2,     1.61,2,     0.15,2,     0.05,2,     0.01,2,   1938.6,6,   8.0974,2,    25.00,     1156
  49UF20091022,KS0910,  2496,  1,     16,  16022,2,20091114,1129, 32.5952, 133.2177,  602,     51.2,  24.6817,  34.3411,2,-999.0000,9,    206.0,2,     1.67,2,     0.14,2,     0.06,2,     0.02,2,   1939.4,2,   8.0956,2,    25.00,     1151
  49UF20091022,KS0910,  2496,  1,     15,  16021,2,20091114,1129, 32.5952, 133.2177,  602,     75.7,  24.0439,  34.2137,2,-999.0000,9,    204.0,2,     2.18,2,     0.40,2,     0.20,2,     0.05,2,   1942.9,2,   8.0872,2,    25.00,     1149
  49UF20091022,KS0910,  2496,  1,     14,  16020,2,20091114,1129, 32.5952, 133.2177,  602,    101.0,  23.1272,  34.3832,2,  34.3981,4,    189.0,2,     4.33,2,     2.75,2,     0.15,2,     0.22,2,   -999.0,9,-999.0000,9,  -999.00,     1148
  49UF20091022,KS0910,  2496,  1,     13,  16019,2,20091114,1129, 32.5952, 133.2177,  602,    101.3,  23.1445,  34.3895,2,  34.4229,4,    186.0,2,     4.65,2,     3.18,2,     0.12,2,     0.23,2,   1986.8,2,   8.0236,2,    25.00,     1148
  49UF20091022,KS0910,  2496,  1,     12,  16018,2,20091114,1129, 32.5952, 133.2177,  602,    127.6,  20.7990,  34.5057,2,-999.0000,9,    176.0,2,     7.72,2,     5.86,2,     0.04,2,     0.40,2,   2021.4,2,   7.9680,2,    25.00,     1146
  49UF20091022,KS0910,  2496,  1,     11,  16017,2,20091114,1129, 32.5952, 133.2177,  602,    152.4,  18.6632,  34.6144,2,-999.0000,9,    172.0,2,    10.05,2,     7.78,2,     0.02,2,     0.53,2,   1964.6,3,   7.9249,2,    25.00,     1145
  49UF20091022,KS0910,  2496,  1,     10,  19375,2,20091114,1129, 32.5952, 133.2177,  602,    204.6,  16.3444,  34.5952,2,  34.5929,2,    167.0,2,    14.89,2,    10.88,2,     0.02,2,     0.75,2,   2080.6,2,   7.8699,2,    25.00,     1143
  49UF20091022,KS0910,  2496,  1,      9,  16015,2,20091114,1129, 32.5952, 133.2177,  602,    254.5,  13.2411,  34.4903,2,-999.0000,9,    157.0,2,    24.71,2,    16.08,2,     0.02,2,     1.11,2,   2120.0,2,   7.7830,2,    25.00,     1141
  49UF20091022,KS0910,  2496,  1,      8,  16014,2,20091114,1129, 32.5952, 133.2177,  602,    307.7,  11.6819,  34.4283,2,  34.4289,2,    145.0,2,    32.86,2,    19.48,2,     0.02,2,     1.37,2,   2147.3,2,   7.7307,2,    25.00,     1139
  49UF20091022,KS0910,  2496,  1,      7,  19374,2,20091114,1129, 32.5952, 133.2177,  602,    406.7,   8.6390,  34.3135,2,  34.3157,2,    120.0,2,    53.68,2,    26.88,2,     0.02,2,     1.92,2,   2206.7,2,   7.6072,2,    25.00,     1135
  49UF20091022,KS0910,  2496,  1,      6,  16012,2,20091114,1129, 32.5952, 133.2177,  602,    505.4,   6.6839,  34.2667,2,  34.2655,2,    101.0,2,    71.81,2,    31.99,2,     0.01,2,     2.30,2,   2250.4,2,   7.5166,2,    25.00,     1132
  49UF20091022,KS0910,  2496,  1,      5,  16011,9,20091114,1129, 32.5952, 133.2177,  602,    554.5,   5.9165,  34.2763,2,-999.0000,9,   -999.0,9,  -999.00,9,  -999.00,9,  -999.00,9,  -999.00,9,   -999.0,9,-999.0000,9,  -999.00,     1130
  49UF20091022,KS0910,  2496,  1,      4,  16010,9,20091114,1129, 32.5952, 133.2177,  602,    554.7,   5.9198,  34.2761,2,-999.0000,9,   -999.0,9,  -999.00,9,  -999.00,9,  -999.00,9,  -999.00,9,   -999.0,9,-999.0000,9,  -999.00,     1130
  49UF20091022,KS0910,  2496,  1,      2,  16008,9,20091114,1129, 32.5952, 133.2177,  602,    554.9,   5.9182,  34.2764,2,-999.0000,9,   -999.0,9,  -999.00,9,  -999.00,9,  -999.00,9,  -999.00,9,   -999.0,9,-999.0000,9,  -999.00,     1129
  49UF20091022,KS0910,  2496,  1,      3,  16009,9,20091114,1129, 32.5952, 133.2177,  602,    555.0,   5.9169,  34.2763,2,-999.0000,9,   -999.0,9,  -999.00,9,  -999.00,9,  -999.00,9,  -999.00,9,   -999.0,9,-999.0000,9,  -999.00,     1129
  49UF20091022,KS0910,  2496,  1,      1,  16007,2,20091114,1129, 32.5952, 133.2177,  602,    556.7,   5.9077,  34.2760,2,  34.2730,2,     90.0,2,    82.10,2,    34.19,2,     0.01,2,     2.46,2,   2270.9,2,   7.4822,2,    25.00,     1129
  49UF20091022,KS0910,  2500,  1,     99,     99,2,20091114,2154, 31.9215, 133.5948, 2851,      0.0,  24.0243,  34.4461,2,-999.0000,9,    211.0,2,     1.52,2,     0.19,2,     0.01,2,     0.05,2,   -999.0,9,-999.0000,9,  -999.00,     2215
  49UF20091022,KS0910,  2500,  1,     23,  19380,2,20091114,2154, 31.9215, 133.5948, 2851,     10.7,  24.0371,  34.4455,2,  34.4438,2,    209.0,2,     1.52,2,     0.09,2,     0.01,2,     0.06,2,   1949.2,2,   8.0899,2,    25.00,     2253
  49UF20091022,KS0910,  2500,  1,     22,  16028,2,20091114,2154, 31.9215, 133.5948, 2851,     25.8,  24.0340,  34.4451,2,-999.0000,9,    209.0,2,     1.52,2,    -0.01,2,     0.01,2,     0.04,2,   1948.3,6,   8.0906,2,    25.00,     2252
  49UF20091022,KS0910,  2500,  1,     21,  16027,2,20091114,2154, 31.9215, 133.5948, 2851,     49.8,  24.0298,  34.4401,2,-999.0000,9,    209.0,2,     1.52,2,     0.09,2,     0.01,2,     0.05,2,   1948.7,2,   8.0881,2,    25.00,     2248
  49UF20091022,KS0910,  2500,  1,     20,  16026,2,20091114,2154, 31.9215, 133.5948, 2851,     75.1,  23.6043,  34.3963,2,-999.0000,9,    211.0,2,     1.52,2,     0.09,2,     0.01,2,     0.03,2,   1949.3,2,   8.0838,2,    25.00,     2247
  49UF20091022,KS0910,  2500,  1,     19,  19378,2,20091114,2154, 31.9215, 133.5948, 2851,    100.9,  22.9045,  34.6734,2,  34.6768,4,    192.0,2,     2.15,2,     1.76,2,     0.04,2,     0.17,2,   1995.3,2,   8.0373,2,    25.00,     2245
  49UF20091022,KS0910,  2500,  1,     18,  19377,2,20091114,2154, 31.9215, 133.5948, 2851,    125.7,  21.9417,  34.7121,2,-999.0000,9,    188.0,2,     2.74,2,     2.58,2,     0.02,2,     0.22,2,   2003.5,2,   8.0139,2,    25.00,     2244
  49UF20091022,KS0910,  2500,  1,     17,  16023,2,20091114,2154, 31.9215, 133.5948, 2851,    151.5,  20.5238,  34.7438,2,-999.0000,9,    187.0,2,     3.52,2,     3.49,2,     0.01,2,     0.28,2,   2017.6,2,   7.9960,2,    25.00,     2243
  49UF20091022,KS0910,  2500,  1,     16,  16022,2,20091114,2154, 31.9215, 133.5948, 2851,    202.7,  19.2495,  34.7503,2,  34.7503,2,    186.0,2,     4.64,2,     4.79,2,     0.01,2,     0.37,2,   2033.9,2,   7.9688,2,    25.00,     2241
  49UF20091022,KS0910,  2500,  1,     15,  16021,2,20091114,2154, 31.9215, 133.5948, 2851,    252.1,  18.2302,  34.7625,2,-999.0000,9,    187.0,2,     4.74,2,     5.50,2,     0.00,2,     0.40,2,   2040.8,2,   7.9512,2,    25.00,     2240
  49UF20091022,KS0910,  2500,  1,     14,  16020,2,20091114,2154, 31.9215, 133.5948, 2851,    302.6,  17.2244,  34.7299,2,  34.7303,2,    186.0,2,     5.92,2,     6.80,2,     0.00,2,     0.45,2,   -999.0,9,-999.0000,9,  -999.00,     2238
  49UF20091022,KS0910,  2500,  1,     13,  16019,2,20091114,2154, 31.9215, 133.5948, 2851,    303.4,  17.2229,  34.7292,2,  34.7308,2,    186.0,2,     5.91,2,     6.80,2,     0.00,2,     0.49,2,   2051.7,2,   7.9260,2,    25.00,     2238
  49UF20091022,KS0910,  2500,  1,     12,  16018,2,20091114,2154, 31.9215, 133.5948, 2851,    404.3,  15.1172,  34.5905,2,  34.5923,2,    175.0,2,    13.16,2,    11.10,2,     0.00,2,     0.81,2,   2083.0,2,   7.8603,2,    25.00,     2235
  49UF20091022,KS0910,  2500,  1,     11,  16017,2,20091114,2154, 31.9215, 133.5948, 2851,    505.7,  11.6306,  34.4188,2,  34.4205,2,    149.0,2,    31.68,2,    19.30,2,     0.00,2,     1.41,2,   2145.5,2,   7.7257,2,    25.00,     2233
  49UF20091022,KS0910,  2500,  1,     10,  19375,2,20091114,2154, 31.9215, 133.5948, 2851,    605.5,   8.4078,  34.3073,2,  34.3081,2,    120.0,2,    55.35,2,    27.40,2,     0.00,2,     1.98,2,   2212.8,2,   7.6014,2,    25.00,     2230
  49UF20091022,KS0910,  2500,  1,      9,  16015,2,20091114,2154, 31.9215, 133.5948, 2851,    709.2,   6.2830,  34.2789,2,  34.2791,2,     93.0,2,    76.60,2,    33.10,2,     0.00,2,     2.42,2,   2262.7,2,   7.4939,2,    25.00,     2227
  49UF20091022,KS0910,  2500,  1,      8,  16014,2,20091114,2154, 31.9215, 133.5948, 2851,    809.2,   4.9720,  34.3088,2,  34.3089,2,     76.0,2,    95.80,2,    37.10,2,     0.00,2,     2.66,2,   2299.8,2,   7.4373,2,    25.00,     2224
  49UF20091022,KS0910,  2500,  1,      7,  19374,2,20091114,2154, 31.9215, 133.5948, 2851,    910.1,   4.0919,  34.3215,2,  34.3209,2,     64.0,2,   110.02,2,    39.50,2,     0.00,2,     2.84,2,   2325.6,2,   7.3948,2,    25.00,     2221
  49UF20091022,KS0910,  2500,  1,      6,  16012,2,20091114,2154, 31.9215, 133.5948, 2851,   1012.2,   3.6861,  34.3789,2,  34.3781,2,     61.0,2,   118.56,2,    40.00,2,     0.00,2,     2.87,2,   2337.2,6,   7.4008,2,    25.00,     2218
  49UF20091022,KS0910,  2500,  1,      5,  16011,2,20091114,2154, 31.9215, 133.5948, 2851,   1264.9,   3.0301,  34.4605,2,  34.4596,2,     65.0,2,   131.56,2,    40.60,2,     0.00,2,     2.90,2,   2352.0,2,   7.4051,2,    25.00,     2212
  49UF20091022,KS0910,  2500,  1,      3,  16009,2,20091114,2154, 31.9215, 133.5948, 2851,   1517.1,   2.5995,  34.5168,2,  34.5168,2,     75.0,2,   138.55,2,    40.40,2,     0.00,2,     2.87,2,   2356.7,2,   7.4276,2,    25.00,     2205
  49UF20091022,KS0910,  2500,  1,      4,  16010,2,20091114,2154, 31.9215, 133.5948, 2851,   1518.0,   2.5964,  34.5173,2,  34.5162,2,     76.0,2,   138.66,2,    40.30,2,     0.00,2,     2.86,2,   -999.0,9,-999.0000,9,  -999.00,     2206
  49UF20091022,KS0910,  2500,  1,      2,  16008,2,20091114,2154, 31.9215, 133.5948, 2851,   1769.4,   2.2716,  34.5654,2,  34.5652,2,     92.0,2,   141.13,2,    39.40,2,     0.00,2,     2.80,2,   2350.8,2,   7.4603,2,    25.00,     2200
  49UF20091022,KS0910,  2500,  1,      1,  16007,2,20091114,2154, 31.9215, 133.5948, 2851,   2033.1,   2.0455,  34.5983,2,  34.6052,4,    107.0,2,   142.25,2,    38.80,2,     0.00,2,     2.74,2,   2348.0,2,   7.4881,2,    25.00,     2154