BOTTLE,20190917PRINUNIVRMK
EXPOCODE,SECT_ID,STNNBR,CASTNO,SAMPNO,BTLNBR,BTLNBR_FLAG_W,DATE,TIME,LATITUDE,LONGITUDE,DEPTH,CTDPRS,CTDTMP,CTDSAL,CTDSAL_FLAG_W,SALNTY,SALNTY_FLAG_W,OXYGEN,OXYGEN_FLAG_W,SILCAT,SILCAT_FLAG_W,NITRAT,NITRAT_FLAG_W,NITRIT,NITRIT_FLAG_W,PHSPHT,PHSPHT_FLAG_W,TCARBN,TCARBN_FLAG_W,PH_TOT,PH_TOT_FLAG_W,PH_TMP,BTL_TIME
,,,,,,,,,,,METERS,DBAR,ITS-90,PSS-78,,PSS-78,,UMOL/KG,,UMOL/KG,,UMOL/KG,,UMOL/KG,,UMOL/KG,,UMOL/KG,,,,DEG C,
  49UF20090610,  P13N,  2457,  1,     99,     99,2,20090713,2220,  0.0065, 161.0105, 3402,      0.0,  29.9151,  34.2875,2,-999.0000,9,    196.0,2,     1.00,2,     0.00,2,     0.00,2,     0.03,2,   -999.0,9,-999.0000,9,  -999.00,     2250
  49UF20090610,  P13N,  2457,  1,     24,  16030,2,20090713,2220,  0.0065, 161.0105, 3402,     10.8,  29.8801,  34.2875,2,-999.0000,9,    196.0,2,     0.95,2,     0.00,2,     0.00,2,     0.03,2,   1906.0,2,   8.1432,2,    25.00,     2320
  49UF20090610,  P13N,  2457,  1,     23,  19380,2,20090713,2220,  0.0065, 161.0105, 3402,     20.6,  29.8875,  34.3112,2,-999.0000,9,    197.0,2,     0.94,2,     0.00,2,     0.00,2,     0.03,2,   1905.0,2,   8.1432,2,    25.00,     2318
  49UF20090610,  P13N,  2457,  1,     22,  16028,2,20090713,2220,  0.0065, 161.0105, 3402,     30.7,  29.8999,  34.4464,2,-999.0000,9,    197.0,2,     0.94,2,     0.00,2,     0.00,2,     0.05,2,   1916.8,2,   8.1374,2,    25.00,     2317
  49UF20090610,  P13N,  2457,  1,     21,  16027,2,20090713,2220,  0.0065, 161.0105, 3402,     40.7,  29.8304,  34.5007,2,-999.0000,9,    197.0,2,     0.94,2,     0.00,2,     0.00,2,     0.07,2,   1918.2,2,   8.1369,2,    25.00,     2316
  49UF20090610,  P13N,  2457,  1,     20,  16026,2,20090713,2220,  0.0065, 161.0105, 3402,     50.7,  29.9281,  34.9734,2,-999.0000,9,    197.0,2,     1.03,2,     0.00,2,     0.00,2,     0.14,2,   1945.7,2,   8.1202,2,    25.00,     2315
  49UF20090610,  P13N,  2457,  1,     19,  19378,2,20090713,2220,  0.0065, 161.0105, 3402,     60.9,  29.8653,  35.0599,2,-999.0000,9,    197.0,2,     1.07,2,     0.00,2,     0.00,2,     0.15,2,   1956.7,2,   8.1161,2,    25.00,     2314
  49UF20090610,  P13N,  2457,  1,     18,  19377,2,20090713,2220,  0.0065, 161.0105, 3402,     81.0,  29.1051,  35.5509,2,-999.0000,9,    181.0,2,     1.52,2,     2.47,2,     1.13,2,     0.43,2,   2017.7,2,   8.0547,2,    25.00,     2313
  49UF20090610,  P13N,  2457,  1,     17,  16023,2,20090713,2220,  0.0065, 161.0105, 3402,    101.8,  27.8918,  35.3857,2,-999.0000,9,    159.0,2,     2.32,2,     5.82,2,     0.08,2,     0.54,2,   2030.7,2,   8.0181,2,    25.00,     2312
  49UF20090610,  P13N,  2457,  1,     16,  16022,2,20090713,2220,  0.0065, 161.0105, 3402,    121.2,  27.3851,  35.5220,2,-999.0000,9,    161.0,2,     2.31,2,     6.65,2,     0.05,2,     0.61,2,   2047.2,2,   8.0043,2,    25.00,     2310
  49UF20090610,  P13N,  2457,  1,     15,  16021,2,20090713,2220,  0.0065, 161.0105, 3402,    141.6,  24.0873,  35.5191,2,-999.0000,9,    144.0,2,     2.77,2,     8.48,2,     0.02,2,     0.72,2,   2082.9,2,   7.9616,2,    25.00,     2309
  49UF20090610,  P13N,  2457,  1,     14,  16020,2,20090713,2220,  0.0065, 161.0105, 3402,    161.6,  21.6571,  35.2040,2,-999.0000,9,    139.0,2,     5.75,2,     9.69,2,     0.01,2,     0.76,2,   2082.5,2,   7.9135,2,    25.00,     2308
  49UF20090610,  P13N,  2457,  1,     13,  16019,2,20090713,2220,  0.0065, 161.0105, 3402,    181.4,  20.1199,  35.4079,2,-999.0000,9,    133.0,2,     5.28,2,    11.59,2,     0.01,2,     0.91,2,   2115.7,2,   7.8789,2,    25.00,     2307
  49UF20090610,  P13N,  2457,  1,     12,  16018,2,20090713,2220,  0.0065, 161.0105, 3402,    201.1,  17.8067,  35.3694,2,-999.0000,9,    138.0,2,     5.83,2,    12.99,2,     0.01,2,     1.00,2,   2123.7,2,   7.8532,2,    25.00,     2302
  49UF20090610,  P13N,  2457,  1,     11,  16017,2,20090713,2220,  0.0065, 161.0105, 3402,    226.2,  14.8769,  35.1690,2,-999.0000,9,    145.0,2,     7.56,2,    14.90,2,     0.00,2,     1.10,2,   2132.4,2,   7.8221,2,    25.00,     2301
  49UF20090610,  P13N,  2457,  1,     10,  19375,2,20090713,2220,  0.0065, 161.0105, 3402,    251.7,  13.4106,  35.0368,2,-999.0000,9,    146.0,2,    10.58,2,    17.70,2,     0.00,2,     1.27,2,   2144.2,2,   7.7745,2,    25.00,     2300
  49UF20090610,  P13N,  2457,  1,      9,  16015,2,20090713,2220,  0.0065, 161.0105, 3402,    302.8,  11.1634,  34.7980,2,-999.0000,9,    132.0,2,    20.39,2,    23.30,2,     0.00,2,     1.64,2,   2173.7,6,   7.6999,2,    25.00,     2258
  49UF20090610,  P13N,  2457,  1,      8,  16014,2,20090713,2220,  0.0065, 161.0105, 3402,    402.9,   8.9916,  34.6608,2,-999.0000,9,     81.0,2,    31.11,2,    32.50,2,     0.00,2,     2.26,2,   2230.1,2,   7.5578,2,    25.00,     2255
  49UF20090610,  P13N,  2457,  1,      7,  19374,2,20090713,2220,  0.0065, 161.0105, 3402,    504.2,   7.6301,  34.5765,2,-999.0000,9,    126.0,2,    33.11,2,    31.00,2,     0.00,2,     2.14,2,   -999.0,9,-999.0000,9,  -999.00,     2252
  49UF20090610,  P13N,  2457,  1,      6,  19373,2,20090713,2220,  0.0065, 161.0105, 3402,    605.4,   6.9996,  34.5661,2,-999.0000,9,     86.0,2,    44.54,2,    36.20,2,     0.00,2,     2.53,2,   -999.0,9,-999.0000,9,  -999.00,     2249
  49UF20090610,  P13N,  2457,  1,      5,  16011,2,20090713,2220,  0.0065, 161.0105, 3402,    806.8,   5.5101,  34.5384,2,-999.0000,9,     92.0,2,    62.71,2,    38.00,2,     0.00,2,     2.69,2,   -999.0,9,-999.0000,9,  -999.00,     2245
  49UF20090610,  P13N,  2457,  1,      4,  16010,2,20090713,2220,  0.0065, 161.0105, 3402,   1008.8,   4.6001,  34.5485,2,-999.0000,9,     97.0,2,    80.12,2,    38.40,2,     0.00,2,     2.74,2,   -999.0,9,-999.0000,9,  -999.00,     2241
  49UF20090610,  P13N,  2457,  1,      3,  16009,2,20090713,2220,  0.0065, 161.0105, 3402,   1261.0,   3.6438,  34.5761,2,-999.0000,9,     96.0,2,   101.12,2,    39.40,2,     0.00,2,     2.82,2,   -999.0,9,-999.0000,9,  -999.00,     2235
  49UF20090610,  P13N,  2457,  1,      2,  16008,2,20090713,2220,  0.0065, 161.0105, 3402,   1515.7,   2.9935,  34.5999,2,-999.0000,9,    105.0,2,   115.23,2,    39.10,2,     0.00,2,     2.77,2,   -999.0,9,-999.0000,9,  -999.00,     2230
  49UF20090610,  P13N,  2457,  1,      1,  16007,2,20090713,2220,  0.0065, 161.0105, 3402,   2021.2,   2.1069,  34.6437,2,-999.0000,9,    120.0,2,   134.99,2,    38.80,2,     0.00,2,     2.71,2,   -999.0,9,-999.0000,9,  -999.00,     2220
  49UF20090610,  P13N,  2458,  1,     99,     99,2,20090719,1244,  1.9952, 142.0257, 2591,      0.0,  29.1665,  33.7587,2,-999.0000,9,    198.0,2,     1.13,2,     0.00,2,     0.00,2,     0.02,2,   -999.0,9,-999.0000,9,  -999.00,     1325
  49UF20090610,  P13N,  2458,  1,     23,  19380,2,20090719,1244,  1.9952, 142.0257, 2591,     10.6,  29.1843,  33.7550,2,  33.7574,2,    198.0,2,     1.13,2,     0.00,2,     0.00,2,     0.02,2,   -999.0,9,-999.0000,9,  -999.00,     1348
  49UF20090610,  P13N,  2458,  1,     22,  16028,2,20090719,1244,  1.9952, 142.0257, 2591,     25.7,  29.2843,  34.0160,2,-999.0000,9,    198.0,2,     1.18,2,     0.00,2,     0.00,2,     0.03,2,   -999.0,9,-999.0000,9,  -999.00,     1347
  49UF20090610,  P13N,  2458,  1,     21,  16027,2,20090719,1244,  1.9952, 142.0257, 2591,     49.7,  29.3893,  35.0816,2,-999.0000,9,    189.0,2,     1.18,2,     0.67,2,     0.13,2,     0.21,2,   -999.0,9,-999.0000,9,  -999.00,     1344
  49UF20090610,  P13N,  2458,  1,     20,  16026,2,20090719,1244,  1.9952, 142.0257, 2591,     74.4,  28.6783,  35.3085,2,-999.0000,9,    168.0,2,     1.65,2,     3.48,2,     0.62,2,     0.42,2,   -999.0,9,-999.0000,9,  -999.00,     1342
  49UF20090610,  P13N,  2458,  1,     19,  19378,2,20090719,1244,  1.9952, 142.0257, 2591,    100.0,  28.0385,  35.4586,2,  35.4402,4,    155.0,2,     2.12,2,     6.19,2,     0.11,2,     0.56,2,   -999.0,9,-999.0000,9,  -999.00,     1341
  49UF20090610,  P13N,  2458,  1,     18,  19377,2,20090719,1244,  1.9952, 142.0257, 2591,    126.0,  26.5244,  35.3824,2,-999.0000,9,    147.0,2,     2.78,2,     7.17,2,     0.03,2,     0.62,2,   -999.0,9,-999.0000,9,  -999.00,     1340
  49UF20090610,  P13N,  2458,  1,     17,  16023,2,20090719,1244,  1.9952, 142.0257, 2591,    150.2,  23.5455,  35.0333,2,-999.0000,9,    146.0,2,     4.91,2,     7.58,2,     0.02,2,     0.60,2,   -999.0,9,-999.0000,9,  -999.00,     1339
  49UF20090610,  P13N,  2458,  1,     16,  16022,2,20090719,1244,  1.9952, 142.0257, 2591,    202.2,  18.4496,  34.8487,2,  34.8093,4,    142.0,2,    10.37,2,    11.79,2,     0.01,2,     0.88,2,   -999.0,9,-999.0000,9,  -999.00,     1337
  49UF20090610,  P13N,  2458,  1,     15,  16021,2,20090719,1244,  1.9952, 142.0257, 2591,    253.1,  10.2159,  34.5358,2,-999.0000,9,     91.0,2,    32.33,2,    27.90,2,     0.00,2,     1.98,2,   -999.0,9,-999.0000,9,  -999.00,     1335
  49UF20090610,  P13N,  2458,  1,     14,  16020,2,20090719,1244,  1.9952, 142.0257, 2591,    304.5,   8.8394,  34.6375,2,  34.6369,2,    131.0,2,    28.53,2,    27.50,2,     0.00,2,     1.93,2,   -999.0,9,-999.0000,9,  -999.00,     1332
  49UF20090610,  P13N,  2458,  1,     13,  16019,2,20090719,1244,  1.9952, 142.0257, 2591,    403.9,   8.3071,  34.6070,2,  34.6065,2,    132.0,2,    29.53,2,    28.60,2,     0.00,2,     2.00,2,   -999.0,9,-999.0000,9,  -999.00,     1329
  49UF20090610,  P13N,  2458,  1,     11,  16017,2,20090719,1244,  1.9952, 142.0257, 2591,    506.4,   7.9107,  34.5859,2,  34.5854,2,    127.0,2,    32.22,2,    29.90,2,     0.00,2,     2.09,2,   -999.0,9,-999.0000,9,  -999.00,     1325
  49UF20090610,  P13N,  2458,  1,     12,  16018,2,20090719,1244,  1.9952, 142.0257, 2591,    508.0,   7.8973,  34.5853,2,  34.5849,4,    127.0,2,    32.31,2,    30.00,2,     0.00,2,     2.09,2,   -999.0,9,-999.0000,9,  -999.00,     1325
  49UF20090610,  P13N,  2458,  1,     10,  19375,2,20090719,1244,  1.9952, 142.0257, 2591,    606.0,   6.7929,  34.5387,2,  34.5396,2,    109.0,2,    47.06,2,    33.50,2,     0.00,2,     2.37,2,   -999.0,9,-999.0000,9,  -999.00,     1321
  49UF20090610,  P13N,  2458,  1,      9,  16015,2,20090719,1244,  1.9952, 142.0257, 2591,    708.0,   6.0224,  34.5324,2,  34.5316,2,     94.0,2,    58.79,2,    36.30,2,     0.00,2,     2.57,2,   -999.0,9,-999.0000,9,  -999.00,     1318
  49UF20090610,  P13N,  2458,  1,      8,  16014,2,20090719,1244,  1.9952, 142.0257, 2591,    808.2,   5.3253,  34.5387,2,  34.5380,2,     92.0,2,    69.90,2,    37.60,2,     0.00,2,     2.68,2,   -999.0,9,-999.0000,9,  -999.00,     1314
  49UF20090610,  P13N,  2458,  1,      7,  19374,2,20090719,1244,  1.9952, 142.0257, 2591,    908.2,   4.9291,  34.5446,2,  34.5443,2,     92.0,2,    77.07,2,    38.10,2,     0.00,2,     2.72,2,   -999.0,9,-999.0000,9,  -999.00,     1311
  49UF20090610,  P13N,  2458,  1,      6,  19373,2,20090719,1244,  1.9952, 142.0257, 2591,   1010.3,   4.3525,  34.5593,2,  34.5591,2,     98.0,2,    88.80,2,    37.90,2,     0.00,2,     2.71,2,   -999.0,9,-999.0000,9,  -999.00,     1308
  49UF20090610,  P13N,  2458,  1,      5,  16011,2,20090719,1244,  1.9952, 142.0257, 2591,   1262.7,   3.7834,  34.5762,2,  34.5755,2,    101.0,2,   100.39,2,    38.40,2,     0.00,2,     2.74,2,   -999.0,9,-999.0000,9,  -999.00,     1301
  49UF20090610,  P13N,  2458,  1,      4,  16010,2,20090719,1244,  1.9952, 142.0257, 2591,   1515.6,   2.9403,  34.6016,2,  34.6013,2,    104.0,2,   118.26,2,    39.00,2,     0.00,2,     2.77,2,   -999.0,9,-999.0000,9,  -999.00,     1255
  49UF20090610,  P13N,  2458,  1,      3,  16009,2,20090719,1244,  1.9952, 142.0257, 2591,   1766.8,   2.4284,  34.6237,2,  34.6242,2,    112.0,2,   128.95,2,    38.70,2,     0.00,2,     2.74,2,   -999.0,9,-999.0000,9,  -999.00,     1250
  49UF20090610,  P13N,  2458,  1,      2,  16008,2,20090719,1244,  1.9952, 142.0257, 2591,   2030.5,   2.1169,  34.6397,2,  34.6397,4,    121.0,2,   133.71,2,    38.30,2,     0.00,2,     2.69,2,   -999.0,9,-999.0000,9,  -999.00,     1244
  49UF20090610,  P13N,  2458,  1,      1,  16007,2,20090719,1244,  1.9952, 142.0257, 2591,   2031.4,   2.1170,  34.6397,2,  34.6399,2,    121.0,2,   133.99,2,    38.20,2,     0.00,2,     2.69,2,   -999.0,9,-999.0000,9,  -999.00,     1244
  49UF20090610,  P13N,  2460,  1,     99,     99,2,20090720,0324,  2.4043, 140.0255, 4131,      0.0,  29.0434,  33.7788,2,-999.0000,9,    198.0,2,     1.20,2,     0.00,2,     0.00,2,     0.00,2,   -999.0,9,-999.0000,9,  -999.00,      355
  49UF20090610,  P13N,  2460,  1,     23,  19380,2,20090720,0324,  2.4043, 140.0255, 4131,     10.6,  29.3780,  34.2157,2,-999.0000,9,    198.0,2,     1.20,2,     0.00,2,     0.00,2,     0.02,2,   -999.0,9,-999.0000,9,  -999.00,      416
  49UF20090610,  P13N,  2460,  1,     21,  16027,2,20090720,0324,  2.4043, 140.0255, 4131,     25.9,  29.5898,  34.6896,2,-999.0000,9,    196.0,2,     1.20,2,     0.09,2,     0.01,2,     0.10,2,   -999.0,9,-999.0000,9,  -999.00,      415
  49UF20090610,  P13N,  2460,  1,     22,  16028,2,20090720,0324,  2.4043, 140.0255, 4131,     26.0,  29.6080,  34.6094,2,-999.0000,9,    197.0,2,     1.35,2,     0.10,2,     0.00,2,     0.10,2,   -999.0,9,-999.0000,9,  -999.00,      415
  49UF20090610,  P13N,  2460,  1,     20,  16026,2,20090720,0324,  2.4043, 140.0255, 4131,     49.9,  29.5108,  35.0122,2,-999.0000,9,    190.0,2,     1.10,2,     0.34,2,     0.06,2,     0.20,2,   -999.0,9,-999.0000,9,  -999.00,      411
  49UF20090610,  P13N,  2460,  1,     19,  19378,2,20090720,0324,  2.4043, 140.0255, 4131,     75.0,  28.4777,  35.3938,2,-999.0000,9,    163.0,2,     1.94,2,     5.46,2,     0.14,2,     0.53,2,   -999.0,9,-999.0000,9,  -999.00,      410
  49UF20090610,  P13N,  2460,  1,     18,  19377,2,20090720,0324,  2.4043, 140.0255, 4131,    100.2,  27.8683,  35.4593,2,-999.0000,9,    155.0,2,     2.28,2,     6.33,2,     0.07,2,     0.59,2,   -999.0,9,-999.0000,9,  -999.00,      409
  49UF20090610,  P13N,  2460,  1,     17,  16023,2,20090720,0324,  2.4043, 140.0255, 4131,    124.5,  26.7293,  35.4480,2,-999.0000,9,    147.0,2,     2.79,2,     7.45,2,     0.05,2,     0.63,2,   -999.0,9,-999.0000,9,  -999.00,      409
  49UF20090610,  P13N,  2460,  1,     16,  16022,2,20090720,0324,  2.4043, 140.0255, 4131,    150.9,  22.5538,  35.1632,2,-999.0000,9,    142.0,2,     5.56,2,     8.97,2,     0.03,2,     0.70,2,   -999.0,9,-999.0000,9,  -999.00,      408
  49UF20090610,  P13N,  2460,  1,     15,  16021,2,20090720,0324,  2.4043, 140.0255, 4131,    200.3,  15.9500,  34.7563,2,-999.0000,9,    137.0,2,    14.12,2,    14.89,2,     0.01,4,     1.08,2,   -999.0,9,-999.0000,9,  -999.00,      407
  49UF20090610,  P13N,  2460,  1,     14,  16020,2,20090720,0324,  2.4043, 140.0255, 4131,    251.3,  12.2134,  34.5315,2,-999.0000,9,     98.0,2,    24.56,2,    23.99,2,     0.01,4,     1.72,2,   -999.0,9,-999.0000,9,  -999.00,      405
  49UF20090610,  P13N,  2460,  1,     13,  16019,2,20090720,0324,  2.4043, 140.0255, 4131,    302.6,   9.7428,  34.5936,2,-999.0000,9,     56.0,2,    34.14,2,    32.59,2,     0.01,4,     2.33,2,   -999.0,9,-999.0000,9,  -999.00,      404
  49UF20090610,  P13N,  2460,  1,     11,  16017,2,20090720,0324,  2.4043, 140.0255, 4131,    404.0,   8.1556,  34.5710,2,-999.0000,9,     90.0,2,    39.83,2,    32.59,2,     0.01,4,     2.31,2,   -999.0,9,-999.0000,9,  -999.00,      401
  49UF20090610,  P13N,  2460,  1,     12,  16018,2,20090720,0324,  2.4043, 140.0255, 4131,    405.2,   8.1359,  34.5793,2,-999.0000,9,     89.0,2,    39.71,2,    32.89,2,     0.01,4,     2.31,2,   -999.0,9,-999.0000,9,  -999.00,      401
  49UF20090610,  P13N,  2460,  1,     10,  19375,2,20090720,0324,  2.4043, 140.0255, 4131,    505.3,   7.2883,  34.5533,2,-999.0000,9,    109.0,2,    41.30,2,    32.59,2,     0.01,4,     2.31,2,   -999.0,9,-999.0000,9,  -999.00,      358
  49UF20090610,  P13N,  2460,  1,      9,  16015,2,20090720,0324,  2.4043, 140.0255, 4131,    605.2,   6.8358,  34.5421,2,-999.0000,9,    126.0,2,    40.50,2,    32.19,2,     0.01,4,     2.27,2,   -999.0,9,-999.0000,9,  -999.00,      355
  49UF20090610,  P13N,  2460,  1,      8,  16014,2,20090720,0324,  2.4043, 140.0255, 4131,    706.0,   5.8777,  34.5321,2,-999.0000,9,     99.0,2,    59.39,2,    36.19,2,     0.01,4,     2.58,2,   -999.0,9,-999.0000,9,  -999.00,      352
  49UF20090610,  P13N,  2460,  1,      7,  19374,2,20090720,0324,  2.4043, 140.0255, 4131,    808.8,   5.3287,  34.5386,2,-999.0000,9,     92.0,2,    70.25,2,    37.59,2,     0.01,4,     2.69,2,   -999.0,9,-999.0000,9,  -999.00,      349
  49UF20090610,  P13N,  2460,  1,      6,  19373,2,20090720,0324,  2.4043, 140.0255, 4131,    907.8,   4.9645,  34.5439,2,-999.0000,9,     94.0,2,    77.56,2,    37.69,2,     0.01,4,     2.70,2,   -999.0,9,-999.0000,9,  -999.00,      347
  49UF20090610,  P13N,  2460,  1,      5,  16011,2,20090720,0324,  2.4043, 140.0255, 4131,   1007.6,   4.5091,  34.5516,2,-999.0000,9,    101.0,2,    84.15,2,    37.69,2,     0.01,4,     2.70,2,   -999.0,9,-999.0000,9,  -999.00,      344
  49UF20090610,  P13N,  2460,  1,      4,  16010,2,20090720,0324,  2.4043, 140.0255, 4131,   1259.9,   3.7128,  34.5753,2,-999.0000,9,     97.0,2,   102.86,2,    38.89,2,     0.01,4,     2.79,2,   -999.0,9,-999.0000,9,  -999.00,      339
  49UF20090610,  P13N,  2460,  1,      3,  16009,2,20090720,0324,  2.4043, 140.0255, 4131,   1512.5,   2.8591,  34.6048,2,-999.0000,9,    106.0,2,   119.97,2,    38.89,2,     0.01,4,     2.78,2,   -999.0,9,-999.0000,9,  -999.00,      334
  49UF20090610,  P13N,  2460,  1,      2,  16008,2,20090720,0324,  2.4043, 140.0255, 4131,   1766.0,   2.3628,  34.6270,2,-999.0000,9,    115.0,2,   129.77,2,    38.49,2,     0.01,4,     2.74,2,   -999.0,9,-999.0000,9,  -999.00,      329
  49UF20090610,  P13N,  2460,  1,      1,  16007,2,20090720,0324,  2.4043, 140.0255, 4131,   2027.9,   2.0924,  34.6408,2,-999.0000,9,    122.0,2,   134.12,2,    38.09,2,     0.01,4,     2.69,2,   -999.0,9,-999.0000,9,  -999.00,      324