BOTTLE,20190917PRINUNIVRMK
EXPOCODE,SECT_ID,STNNBR,CASTNO,SAMPNO,BTLNBR,BTLNBR_FLAG_W,DATE,TIME,LATITUDE,LONGITUDE,DEPTH,CTDPRS,CTDTMP,CTDSAL,CTDSAL_FLAG_W,SALNTY,SALNTY_FLAG_W,OXYGEN,OXYGEN_FLAG_W,SILCAT,SILCAT_FLAG_W,NITRAT,NITRAT_FLAG_W,NITRIT,NITRIT_FLAG_W,PHSPHT,PHSPHT_FLAG_W,TCARBN,TCARBN_FLAG_W,PH_TOT,PH_TOT_FLAG_W,PH_TMP,BTL_TIME
,,,,,,,,,,,METERS,DBAR,ITS-90,PSS-78,,PSS-78,,UMOL/KG,,UMOL/KG,,UMOL/KG,,UMOL/KG,,UMOL/KG,,UMOL/KG,,,,DEG C,
  49UF20090610,  P13N,  2450,  1,     99,     99,2,20090709,1916,  0.0047, 165.0032, 4405,      0.0,  29.6819,  34.2987,2,-999.0000,9,    200.0,2,     0.94,2,     0.00,2,     0.00,2,     0.07,2,   -999.0,9,-999.0000,9,  -999.00,     1949
  49UF20090610,  P13N,  2450,  1,     23,  19380,2,20090709,1916,  0.0047, 165.0032, 4405,     11.3,  29.8480,  34.4785,2,  34.3622,4,    197.0,2,     0.98,2,     0.00,2,     0.00,2,     0.08,2,   1938.1,3,   8.1295,2,    25.00,     2006
  49UF20090610,  P13N,  2450,  1,     22,  16028,2,20090709,1916,  0.0047, 165.0032, 4405,     25.7,  29.8823,  34.5432,2,-999.0000,9,    197.0,2,     0.98,2,     0.00,2,     0.00,2,     0.08,2,   1920.0,2,   8.1311,2,    25.00,     2004
  49UF20090610,  P13N,  2450,  1,     21,  16027,2,20090709,1916,  0.0047, 165.0032, 4405,     51.2,  29.9767,  34.8188,2,-999.0000,9,    198.0,2,     1.03,2,     0.00,2,     0.00,2,     0.12,2,   1941.7,2,   8.1306,2,    25.00,     2000
  49UF20090610,  P13N,  2450,  1,     20,  16026,2,20090709,1916,  0.0047, 165.0032, 4405,     75.2,  29.9127,  35.0728,2,-999.0000,9,    198.0,2,     1.02,2,     0.00,2,     0.00,2,     0.18,2,   1967.6,2,   8.1063,2,    25.00,     2000
  49UF20090610,  P13N,  2450,  1,     19,  19378,2,20090709,1916,  0.0047, 165.0032, 4405,    101.6,  28.4350,  35.5628,2,  35.5667,2,    174.0,2,     1.81,2,     5.36,2,     0.34,2,     0.55,2,   2037.7,2,   8.0278,2,    25.00,     1959
  49UF20090610,  P13N,  2450,  1,     18,  19377,2,20090709,1916,  0.0047, 165.0032, 4405,    124.9,  27.4966,  35.4473,2,-999.0000,9,    157.0,2,     2.70,2,     6.76,2,     0.04,2,     0.60,2,   2048.2,2,   7.9987,2,    25.00,     1958
  49UF20090610,  P13N,  2450,  1,     17,  16023,2,20090709,1916,  0.0047, 165.0032, 4405,    151.4,  24.6164,  35.4075,2,-999.0000,9,    140.0,2,     4.14,2,     9.09,2,     0.01,2,     0.73,2,   2082.5,2,   7.9397,2,    25.00,     1957
  49UF20090610,  P13N,  2450,  1,     16,  16022,2,20090709,1916,  0.0047, 165.0032, 4405,    202.3,  16.5367,  35.2291,2,  35.2361,4,    141.0,2,     7.83,2,    14.90,2,     0.00,2,     1.11,2,   2137.3,2,   7.8165,2,    25.00,     1956
  49UF20090610,  P13N,  2450,  1,     15,  16021,2,20090709,1916,  0.0047, 165.0032, 4405,    251.6,  12.1762,  34.8987,2,-999.0000,9,    146.0,2,    14.78,2,    19.80,2,     0.00,2,     1.42,2,   2158.6,2,   7.7457,2,    25.00,     1954
  49UF20090610,  P13N,  2450,  1,     13,  16019,2,20090709,1916,  0.0047, 165.0032, 4405,    303.0,  11.4928,  34.8275,2,  34.8244,2,    132.0,2,    19.35,2,    22.50,2,     0.00,2,     1.61,2,   2174.2,2,   7.7029,2,    25.00,     1953
  49UF20090610,  P13N,  2450,  1,     14,  16020,2,20090709,1916,  0.0047, 165.0032, 4405,    303.2,  11.4976,  34.8285,2,  34.8259,4,    132.0,2,    19.21,2,    22.70,2,     0.00,2,     1.60,2,   -999.0,9,-999.0000,9,  -999.00,     1953
  49UF20090610,  P13N,  2450,  1,     12,  16018,2,20090709,1916,  0.0047, 165.0032, 4405,    403.2,   9.6405,  34.6899,2,  34.6870,2,    107.0,2,    27.01,2,    28.80,2,     0.00,2,     2.00,2,   2205.4,2,   7.6181,2,    25.00,     1951
  49UF20090610,  P13N,  2450,  1,     11,  16017,2,20090709,1916,  0.0047, 165.0032, 4405,    503.5,   7.8384,  34.5888,2,  34.5894,2,    123.0,2,    32.23,2,    30.80,2,     0.00,2,     2.14,2,   2215.6,2,   7.6339,2,    25.00,     1948
  49UF20090610,  P13N,  2450,  1,     10,  19375,2,20090709,1916,  0.0047, 165.0032, 4405,    604.1,   7.0853,  34.5689,2,  34.5702,2,     86.0,2,    44.09,2,    36.20,2,     0.00,2,     2.53,2,   2252.7,2,   7.5281,2,    25.00,     1946
  49UF20090610,  P13N,  2450,  1,      9,  16015,2,20090709,1916,  0.0047, 165.0032, 4405,    705.6,   6.0266,  34.5412,2,  34.5414,2,     93.0,2,    54.77,2,    37.20,2,     0.00,2,     2.63,2,   2263.5,2,   7.5176,2,    25.00,     1944
  49UF20090610,  P13N,  2450,  1,      8,  16014,2,20090709,1916,  0.0047, 165.0032, 4405,    806.7,   5.4474,  34.5357,2,  34.5371,2,    100.0,2,    62.80,2,    37.30,2,     0.00,2,     2.64,2,   2268.6,2,   7.5206,2,    25.00,     1941
  49UF20090610,  P13N,  2450,  1,      7,  19374,2,20090709,1916,  0.0047, 165.0032, 4405,    907.2,   4.9557,  34.5433,2,  34.5433,2,     92.0,2,    73.35,2,    38.80,2,     0.00,2,     2.75,2,   2282.9,2,   7.5109,2,    25.00,     1939
  49UF20090610,  P13N,  2450,  1,      6,  19373,2,20090709,1916,  0.0047, 165.0032, 4405,   1008.3,   4.5662,  34.5509,2,  34.5515,2,     92.0,2,    81.80,2,    39.30,2,     0.00,2,     2.78,2,   2295.2,2,   7.5216,2,    25.00,     1937
  49UF20090610,  P13N,  2450,  1,      5,  16011,2,20090709,1916,  0.0047, 165.0032, 4405,   1260.8,   3.6890,  34.5731,2,  34.5753,2,     97.0,2,    99.87,2,    39.40,2,     0.00,2,     2.80,2,   2311.3,2,   7.5397,2,    25.00,     1932
  49UF20090610,  P13N,  2450,  1,      3,  16009,2,20090709,1916,  0.0047, 165.0032, 4405,   1513.6,   2.9631,  34.6015,2,  34.6057,4,    103.0,2,   116.57,2,    39.30,2,     0.00,2,     2.79,2,   2326.3,2,   7.5185,2,    25.00,     1926
  49UF20090610,  P13N,  2450,  1,      4,  16010,2,20090709,1916,  0.0047, 165.0032, 4405,   1514.9,   2.9737,  34.6013,2,  34.6020,4,    104.0,2,   116.61,2,    39.30,2,     0.00,2,     2.79,2,   -999.0,9,-999.0000,9,  -999.00,     1926
  49UF20090610,  P13N,  2450,  1,      2,  16008,2,20090709,1916,  0.0047, 165.0032, 4405,   1767.2,   2.5123,  34.6211,2,  34.6221,2,    115.0,2,   124.78,2,    38.70,2,     0.00,2,     2.73,2,   2331.5,6,   7.5440,2,    25.00,     1921
  49UF20090610,  P13N,  2450,  1,      1,  16007,2,20090709,1916,  0.0047, 165.0032, 4405,   2023.8,   2.1592,  34.6408,2,  34.6448,4,    120.0,2,   134.21,2,    38.60,2,     0.00,2,     2.71,2,   2337.2,2,   7.5439,6,    25.00,     1916
  49UF20090610,  P13N,  2451,  1,     99,     99,2,20090710,0337, -0.9955, 164.9970, 4426,      0.0,  30.2309,  34.6111,2,-999.0000,9,    195.0,2,     1.00,2,     0.10,2,     0.00,2,     0.09,2,   -999.0,9,-999.0000,9,  -999.00,      410
  49UF20090610,  P13N,  2451,  1,     23,  19380,2,20090710,0337, -0.9955, 164.9970, 4426,     10.8,  29.9429,  34.6001,2,-999.0000,9,    196.0,2,     1.00,2,     0.00,2,     0.00,2,     0.09,2,   -999.0,9,-999.0000,9,  -999.00,      423
  49UF20090610,  P13N,  2451,  1,     22,  16028,2,20090710,0337, -0.9955, 164.9970, 4426,     25.6,  29.9032,  34.6006,2,-999.0000,9,    197.0,2,     1.05,2,     0.00,2,     0.00,2,     0.09,2,   -999.0,9,-999.0000,9,  -999.00,      422
  49UF20090610,  P13N,  2451,  1,     21,  16027,2,20090710,0337, -0.9955, 164.9970, 4426,     50.2,  29.8658,  34.6295,2,-999.0000,9,    196.0,2,     1.05,2,     0.00,2,     0.00,2,     0.09,2,   -999.0,9,-999.0000,9,  -999.00,      418
  49UF20090610,  P13N,  2451,  1,     20,  16026,2,20090710,0337, -0.9955, 164.9970, 4426,     75.0,  29.5194,  35.3956,2,-999.0000,9,    201.0,2,     1.28,2,     0.20,2,     0.10,2,     0.24,2,   -999.0,9,-999.0000,9,  -999.00,      418
  49UF20090610,  P13N,  2451,  1,     19,  19378,2,20090710,0337, -0.9955, 164.9970, 4426,    100.7,  28.6827,  35.5691,2,-999.0000,9,    176.0,2,     1.85,2,     5.07,2,     0.43,2,     0.53,2,   -999.0,9,-999.0000,9,  -999.00,      417
  49UF20090610,  P13N,  2451,  1,     18,  19377,2,20090710,0337, -0.9955, 164.9970, 4426,    125.2,  27.3630,  35.4920,2,-999.0000,9,    162.0,2,     2.50,2,     6.66,2,     0.04,2,     0.61,2,   -999.0,9,-999.0000,9,  -999.00,      416
  49UF20090610,  P13N,  2451,  1,     17,  16023,2,20090710,0337, -0.9955, 164.9970, 4426,    149.9,  26.2619,  35.5292,2,-999.0000,9,    147.0,2,     3.02,2,     8.38,2,     0.02,2,     0.72,2,   -999.0,9,-999.0000,9,  -999.00,      415
  49UF20090610,  P13N,  2451,  1,     16,  16022,2,20090710,0337, -0.9955, 164.9970, 4426,    199.8,  16.3129,  35.2984,2,-999.0000,9,    135.0,2,     7.59,2,    15.50,2,     0.00,2,     1.17,2,   -999.0,9,-999.0000,9,  -999.00,      414
  49UF20090610,  P13N,  2451,  1,     14,  16020,2,20090710,0337, -0.9955, 164.9970, 4426,    250.2,  11.7154,  34.8608,2,-999.0000,9,    141.0,2,    16.56,2,    21.10,2,     0.00,2,     1.51,2,   -999.0,9,-999.0000,9,  -999.00,      413
  49UF20090610,  P13N,  2451,  1,     15,  16021,2,20090710,0337, -0.9955, 164.9970, 4426,    251.0,  11.8111,  34.8966,2,-999.0000,9,    140.0,2,    16.68,2,    21.20,2,     0.00,2,     1.51,2,   -999.0,9,-999.0000,9,  -999.00,      413
  49UF20090610,  P13N,  2451,  1,     13,  16019,2,20090710,0337, -0.9955, 164.9970, 4426,    300.5,  10.8743,  34.7827,2,-999.0000,9,    123.0,2,    21.22,2,    24.60,2,     0.00,2,     1.73,2,   -999.0,9,-999.0000,9,  -999.00,      412
  49UF20090610,  P13N,  2451,  1,     12,  16018,2,20090710,0337, -0.9955, 164.9970, 4426,    401.7,   9.1595,  34.6712,2,-999.0000,9,    104.0,2,    26.88,2,    30.00,2,     0.00,2,     2.07,2,   -999.0,9,-999.0000,9,  -999.00,      410
  49UF20090610,  P13N,  2451,  1,     11,  16017,2,20090710,0337, -0.9955, 164.9970, 4426,    502.0,   7.9662,  34.6003,2,-999.0000,9,    114.0,2,    31.78,2,    31.30,2,     0.00,2,     2.17,2,   -999.0,9,-999.0000,9,  -999.00,      408
  49UF20090610,  P13N,  2451,  1,     10,  19375,2,20090710,0337, -0.9955, 164.9970, 4426,    602.8,   6.8535,  34.5633,2,-999.0000,9,     83.0,2,    45.61,2,    36.60,2,     0.00,2,     2.57,2,   -999.0,9,-999.0000,9,  -999.00,      405
  49UF20090610,  P13N,  2451,  1,      9,  16015,2,20090710,0337, -0.9955, 164.9970, 4426,    703.3,   6.1861,  34.5440,2,-999.0000,9,     90.0,2,    52.76,2,    37.20,2,     0.00,2,     2.63,2,   -999.0,9,-999.0000,9,  -999.00,      403
  49UF20090610,  P13N,  2451,  1,      8,  16014,2,20090710,0337, -0.9955, 164.9970, 4426,    805.7,   5.3905,  34.5332,2,-999.0000,9,    101.0,2,    62.39,2,    37.00,2,     0.00,2,     2.63,2,   -999.0,9,-999.0000,9,  -999.00,      401
  49UF20090610,  P13N,  2451,  1,      7,  19374,2,20090710,0337, -0.9955, 164.9970, 4426,    906.2,   4.9582,  34.5394,2,-999.0000,9,     99.0,2,    70.80,2,    37.90,2,     0.00,2,     2.70,2,   -999.0,9,-999.0000,9,  -999.00,      359
  49UF20090610,  P13N,  2451,  1,      6,  19373,2,20090710,0337, -0.9955, 164.9970, 4426,   1007.4,   4.4441,  34.5508,2,-999.0000,9,     97.0,2,    82.77,2,    38.40,2,     0.00,2,     2.74,2,   -999.0,9,-999.0000,9,  -999.00,      357
  49UF20090610,  P13N,  2451,  1,     24,  16030,2,20090710,0337, -0.9955, 164.9970, 4426,   1260.6,   3.6407,  34.5761,2,-999.0000,9,     97.0,2,   101.19,2,    39.30,2,     0.00,2,     2.80,2,   -999.0,9,-999.0000,9,  -999.00,      352
  49UF20090610,  P13N,  2451,  1,      5,  16011,2,20090710,0337, -0.9955, 164.9970, 4426,   1261.9,   3.6422,  34.5760,2,-999.0000,9,     98.0,2,   101.11,2,    39.10,2,     0.00,2,     2.80,2,   -999.0,9,-999.0000,9,  -999.00,      352
  49UF20090610,  P13N,  2451,  1,      4,  16010,2,20090710,0337, -0.9955, 164.9970, 4426,   1514.0,   2.9325,  34.6029,2,-999.0000,9,    106.0,2,   116.61,2,    39.10,2,     0.00,2,     2.78,2,   -999.0,9,-999.0000,9,  -999.00,      347
  49UF20090610,  P13N,  2451,  1,      2,  16008,2,20090710,0337, -0.9955, 164.9970, 4426,   1766.7,   2.5073,  34.6213,2,-999.0000,9,    115.0,2,   124.05,2,    38.60,2,     0.00,2,     2.72,2,   -999.0,9,-999.0000,9,  -999.00,      342
  49UF20090610,  P13N,  2451,  1,      1,  16007,2,20090710,0337, -0.9955, 164.9970, 4426,   2029.9,   2.1621,  34.6401,2,-999.0000,9,    119.0,2,   132.99,2,    38.40,2,     0.00,2,     2.70,2,   -999.0,9,-999.0000,9,  -999.00,      337
  49UF20090610,  P13N,  2452,  1,     99,     99,2,20090710,0946, -1.9092, 164.9985, 4460,      0.0,  29.9702,  34.6445,2,-999.0000,9,    196.0,2,     0.99,2,     0.00,2,     0.00,2,     0.10,2,   -999.0,9,-999.0000,9,  -999.00,     1022
  49UF20090610,  P13N,  2452,  1,     23,  19380,2,20090710,0946, -1.9092, 164.9985, 4460,     10.9,  29.9175,  34.6407,2,-999.0000,9,    196.0,2,     0.89,2,     0.00,2,     0.00,2,     0.10,2,   -999.0,9,-999.0000,9,  -999.00,     1039
  49UF20090610,  P13N,  2452,  1,     22,  16028,2,20090710,0946, -1.9092, 164.9985, 4460,     26.4,  29.8644,  34.6589,2,-999.0000,9,    195.0,2,     0.89,2,     0.00,2,     0.00,2,     0.10,2,   -999.0,9,-999.0000,9,  -999.00,     1038
  49UF20090610,  P13N,  2452,  1,     21,  16027,2,20090710,0946, -1.9092, 164.9985, 4460,     50.7,  29.8404,  34.7229,2,-999.0000,9,    196.0,2,     0.98,2,     0.00,2,     0.00,2,     0.11,2,   -999.0,9,-999.0000,9,  -999.00,     1034
  49UF20090610,  P13N,  2452,  1,     20,  16026,2,20090710,0946, -1.9092, 164.9985, 4460,     76.1,  29.4701,  35.4881,2,-999.0000,9,    187.0,2,     1.36,2,     1.29,2,     0.21,2,     0.32,2,   -999.0,9,-999.0000,9,  -999.00,     1033
  49UF20090610,  P13N,  2452,  1,     19,  19378,2,20090710,0946, -1.9092, 164.9985, 4460,    101.6,  28.4000,  35.6032,2,-999.0000,9,    180.0,2,     1.91,2,     4.27,2,     1.63,2,     0.59,2,   -999.0,9,-999.0000,9,  -999.00,     1032
  49UF20090610,  P13N,  2452,  1,     18,  19377,2,20090710,0946, -1.9092, 164.9985, 4460,    126.5,  27.2754,  35.5755,2,-999.0000,9,    163.0,2,     2.24,2,     6.87,2,     0.03,2,     0.63,2,   -999.0,9,-999.0000,9,  -999.00,     1031
  49UF20090610,  P13N,  2452,  1,     17,  16023,2,20090710,0946, -1.9092, 164.9985, 4460,    152.2,  26.0407,  35.6658,2,-999.0000,9,    151.0,2,     2.42,2,     8.08,2,     0.02,2,     0.71,2,   -999.0,9,-999.0000,9,  -999.00,     1030
  49UF20090610,  P13N,  2452,  1,     16,  16022,2,20090710,0946, -1.9092, 164.9985, 4460,    201.0,  17.3950,  35.4239,2,-999.0000,9,    118.0,2,     6.78,2,    15.39,2,     0.01,2,     1.23,2,   -999.0,9,-999.0000,9,  -999.00,     1028
  49UF20090610,  P13N,  2452,  1,     15,  16021,2,20090710,0946, -1.9092, 164.9985, 4460,    201.2,  17.3331,  35.4148,2,-999.0000,9,    119.0,2,     6.78,2,    15.39,2,     0.01,2,     1.23,2,   -999.0,9,-999.0000,9,  -999.00,     1028
  49UF20090610,  P13N,  2452,  1,     14,  16020,2,20090710,0946, -1.9092, 164.9985, 4460,    252.5,  11.7570,  34.8815,2,-999.0000,9,    145.0,2,    15.03,2,    20.90,2,     0.00,2,     1.49,2,   -999.0,9,-999.0000,9,  -999.00,     1027
  49UF20090610,  P13N,  2452,  1,     13,  16019,2,20090710,0946, -1.9092, 164.9985, 4460,    302.6,  10.8235,  34.7727,2,-999.0000,9,    124.0,2,    21.78,2,    24.70,2,     0.00,2,     1.74,2,   -999.0,9,-999.0000,9,  -999.00,     1025
  49UF20090610,  P13N,  2452,  1,     12,  16018,2,20090710,0946, -1.9092, 164.9985, 4460,    404.2,   9.9249,  34.7291,2,-999.0000,9,    126.0,2,    21.58,2,    26.30,2,     0.00,2,     1.84,2,   -999.0,9,-999.0000,9,  -999.00,     1023
  49UF20090610,  P13N,  2452,  1,     11,  16017,2,20090710,0946, -1.9092, 164.9985, 4460,    503.8,   8.6390,  34.6462,2,-999.0000,9,     96.0,2,    28.62,2,    32.00,2,     0.00,2,     2.21,2,   -999.0,9,-999.0000,9,  -999.00,     1020
  49UF20090610,  P13N,  2452,  1,     10,  19375,2,20090710,0946, -1.9092, 164.9985, 4460,    604.8,   6.8172,  34.5421,2,-999.0000,9,    122.0,2,    38.24,2,    33.10,2,     0.00,2,     2.31,2,   -999.0,9,-999.0000,9,  -999.00,     1018
  49UF20090610,  P13N,  2452,  1,      9,  16015,2,20090710,0946, -1.9092, 164.9985, 4460,    706.3,   6.2303,  34.5294,2,-999.0000,9,    117.0,2,    46.26,2,    34.70,2,     0.00,2,     2.43,2,   -999.0,9,-999.0000,9,  -999.00,     1016
  49UF20090610,  P13N,  2452,  1,      8,  16014,2,20090710,0946, -1.9092, 164.9985, 4460,    807.4,   5.5281,  34.5361,2,-999.0000,9,     97.0,2,    61.65,2,    37.50,2,     0.00,2,     2.66,2,   -999.0,9,-999.0000,9,  -999.00,     1013
  49UF20090610,  P13N,  2452,  1,      7,  19374,2,20090710,0946, -1.9092, 164.9985, 4460,    907.8,   4.9121,  34.5350,2,-999.0000,9,    105.0,2,    69.72,2,    37.70,2,     0.00,2,     2.67,2,   -999.0,9,-999.0000,9,  -999.00,     1011
  49UF20090610,  P13N,  2452,  1,      5,  16011,2,20090710,0946, -1.9092, 164.9985, 4460,   1009.4,   4.4089,  34.5457,2,-999.0000,9,    104.0,2,    79.82,2,    38.10,2,     0.00,2,     2.72,2,   -999.0,9,-999.0000,9,  -999.00,     1008
  49UF20090610,  P13N,  2452,  1,      6,  19373,2,20090710,0946, -1.9092, 164.9985, 4460,   1009.4,   4.4098,  34.5459,2,-999.0000,9,    103.0,2,    79.57,2,    38.30,2,     0.00,2,     2.72,2,   -999.0,9,-999.0000,9,  -999.00,     1008
  49UF20090610,  P13N,  2452,  1,      4,  16010,2,20090710,0946, -1.9092, 164.9985, 4460,   1260.8,   3.5030,  34.5746,2,-999.0000,9,    108.0,2,    99.73,2,    38.50,2,     0.00,2,     2.74,2,   -999.0,9,-999.0000,9,  -999.00,     1003
  49UF20090610,  P13N,  2452,  1,      3,  16009,2,20090710,0946, -1.9092, 164.9985, 4460,   1514.4,   2.8538,  34.6056,2,-999.0000,9,    107.0,2,   117.91,2,    38.90,2,     0.00,2,     2.77,2,   -999.0,9,-999.0000,9,  -999.00,      958
  49UF20090610,  P13N,  2452,  1,      2,  16008,2,20090710,0946, -1.9092, 164.9985, 4460,   1768.5,   2.5126,  34.6209,2,-999.0000,9,    117.0,2,   123.59,2,    38.50,2,     0.00,2,     2.71,2,   -999.0,9,-999.0000,9,  -999.00,      952
  49UF20090610,  P13N,  2452,  1,      1,  16007,2,20090710,0946, -1.9092, 164.9985, 4460,   2022.4,   2.1579,  34.6409,2,-999.0000,9,    121.0,2,   132.96,2,    38.40,2,     0.00,2,     2.70,2,   -999.0,9,-999.0000,9,  -999.00,      946