BOTTLE,20190917PRINUNIVRMK
EXPOCODE,SECT_ID,STNNBR,CASTNO,SAMPNO,BTLNBR,BTLNBR_FLAG_W,DATE,TIME,LATITUDE,LONGITUDE,DEPTH,CTDPRS,CTDTMP,CTDSAL,CTDSAL_FLAG_W,SALNTY,SALNTY_FLAG_W,OXYGEN,OXYGEN_FLAG_W,SILCAT,SILCAT_FLAG_W,NITRAT,NITRAT_FLAG_W,NITRIT,NITRIT_FLAG_W,PHSPHT,PHSPHT_FLAG_W,TCARBN,TCARBN_FLAG_W,PH_TOT,PH_TOT_FLAG_W,PH_TMP,BTL_TIME
,,,,,,,,,,,METERS,DBAR,ITS-90,PSS-78,,PSS-78,,UMOL/KG,,UMOL/KG,,UMOL/KG,,UMOL/KG,,UMOL/KG,,UMOL/KG,,,,DEG C,
  49UF20090610,  P13N,  2412,  1,     99,     99,2,20090619,0803, 38.0047, 165.0055, 5451,      0.0,  18.7914,  34.5975,2,-999.0000,9,    236.0,2,     2.47,2,     0.00,2,     0.00,2,     0.02,2,   -999.0,9,-999.0000,9,  -999.00,      846
  49UF20090610,  P13N,  2412,  1,     23,  19380,2,20090619,0803, 38.0047, 165.0055, 5451,     11.5,  18.5322,  34.5894,2,-999.0000,9,    238.0,2,     2.47,2,     0.00,2,     0.00,2,     0.01,2,   -999.0,9,-999.0000,9,  -999.00,      902
  49UF20090610,  P13N,  2412,  1,     22,  16028,2,20090619,0803, 38.0047, 165.0055, 5451,     25.6,  17.9748,  34.5943,2,-999.0000,9,    246.0,2,     2.66,2,     0.09,2,     0.01,2,     0.03,2,   -999.0,9,-999.0000,9,  -999.00,      901
  49UF20090610,  P13N,  2412,  1,     21,  16027,2,20090619,0803, 38.0047, 165.0055, 5451,     49.6,  15.5685,  34.4808,2,-999.0000,9,    256.0,2,     3.75,2,     1.61,2,     0.19,2,     0.17,2,   -999.0,9,-999.0000,9,  -999.00,      857
  49UF20090610,  P13N,  2412,  1,     20,  16026,2,20090619,0803, 38.0047, 165.0055, 5451,     75.4,  14.8867,  34.4708,2,-999.0000,9,    242.0,2,     6.31,2,     4.37,2,     0.63,2,     0.33,2,   -999.0,9,-999.0000,9,  -999.00,      856
  49UF20090610,  P13N,  2412,  1,     19,  19378,2,20090619,0803, 38.0047, 165.0055, 5451,    100.9,  14.6787,  34.4751,2,-999.0000,9,    266.0,4,     7.20,2,     5.77,2,     0.03,2,     0.38,2,   -999.0,9,-999.0000,9,  -999.00,      854
  49UF20090610,  P13N,  2412,  1,     17,  16023,2,20090619,0803, 38.0047, 165.0055, 5451,    125.8,  14.4561,  34.4618,2,-999.0000,9,    240.0,2,     7.20,2,     6.08,2,     0.02,2,     0.40,2,   -999.0,9,-999.0000,9,  -999.00,      853
  49UF20090610,  P13N,  2412,  1,     18,  19377,2,20090619,0803, 38.0047, 165.0055, 5451,    126.7,  14.4512,  34.4613,2,-999.0000,9,    241.0,2,     7.22,2,     6.18,2,     0.02,2,     0.40,2,   -999.0,9,-999.0000,9,  -999.00,      853
  49UF20090610,  P13N,  2412,  1,     16,  16022,2,20090619,0803, 38.0047, 165.0055, 5451,    151.3,  14.3384,  34.4586,2,-999.0000,9,    239.0,2,     7.54,2,     6.39,2,     0.01,2,     0.42,2,   -999.0,9,-999.0000,9,  -999.00,      852
  49UF20090610,  P13N,  2412,  1,     15,  16021,2,20090619,0803, 38.0047, 165.0055, 5451,    202.3,  13.8819,  34.4412,2,-999.0000,9,    231.0,2,     9.91,2,     8.09,2,     0.01,2,     0.55,2,   -999.0,9,-999.0000,9,  -999.00,      850
  49UF20090610,  P13N,  2412,  1,     14,  16020,2,20090619,0803, 38.0047, 165.0055, 5451,    252.9,  13.1409,  34.4050,2,-999.0000,9,    222.0,2,    12.76,2,    10.19,2,     0.01,4,     0.68,2,   -999.0,9,-999.0000,9,  -999.00,      848
  49UF20090610,  P13N,  2412,  1,     13,  16019,2,20090619,0803, 38.0047, 165.0055, 5451,    303.0,  12.1509,  34.3445,2,-999.0000,9,    226.0,2,    15.46,2,    11.49,2,     0.01,4,     0.79,2,   -999.0,9,-999.0000,9,  -999.00,      846
  49UF20090610,  P13N,  2412,  1,     12,  16018,2,20090619,0803, 38.0047, 165.0055, 5451,    402.1,  10.3916,  34.2098,2,-999.0000,9,    233.0,2,    19.25,2,    13.79,2,     0.01,4,     0.96,2,   -999.0,9,-999.0000,9,  -999.00,      844
  49UF20090610,  P13N,  2412,  1,     11,  16017,2,20090619,0803, 38.0047, 165.0055, 5451,    504.4,   7.4372,  34.0163,2,-999.0000,9,    183.0,2,    41.28,2,    23.79,2,     0.01,4,     1.69,2,   -999.0,9,-999.0000,9,  -999.00,      841
  49UF20090610,  P13N,  2412,  1,     10,  19375,2,20090619,0803, 38.0047, 165.0055, 5451,    605.7,   5.6342,  33.9579,2,-999.0000,9,    145.0,2,    60.99,2,    30.60,2,     0.00,2,     2.21,2,   -999.0,9,-999.0000,9,  -999.00,      838
  49UF20090610,  P13N,  2412,  1,      9,  16015,2,20090619,0803, 38.0047, 165.0055, 5451,    706.4,   4.7739,  34.0499,2,-999.0000,9,     99.0,2,    82.09,2,    36.20,2,     0.00,2,     2.60,2,   -999.0,9,-999.0000,9,  -999.00,      835
  49UF20090610,  P13N,  2412,  1,      8,  16014,2,20090619,0803, 38.0047, 165.0055, 5451,    807.3,   4.4187,  34.1276,2,-999.0000,9,     73.0,2,    94.31,2,    38.80,2,     0.00,2,     2.78,2,   -999.0,9,-999.0000,9,  -999.00,      832
  49UF20090610,  P13N,  2412,  1,      7,  19374,2,20090619,0803, 38.0047, 165.0055, 5451,    807.6,   4.4183,  34.1279,2,-999.0000,9,     73.0,2,    94.46,2,    38.80,2,     0.00,2,     2.78,2,   -999.0,9,-999.0000,9,  -999.00,      832
  49UF20090610,  P13N,  2412,  1,      6,  19373,2,20090619,0803, 38.0047, 165.0055, 5451,    908.7,   3.9688,  34.2051,2,-999.0000,9,     52.0,2,   108.40,2,    41.10,2,     0.00,2,     2.92,2,   -999.0,9,-999.0000,9,  -999.00,      829
  49UF20090610,  P13N,  2412,  1,      5,  16011,2,20090619,0803, 38.0047, 165.0055, 5451,   1008.8,   3.6072,  34.2866,2,-999.0000,9,     42.0,2,   120.30,2,    42.10,2,     0.00,2,     3.01,2,   -999.0,9,-999.0000,9,  -999.00,      826
  49UF20090610,  P13N,  2412,  1,      4,  16010,2,20090619,0803, 38.0047, 165.0055, 5451,   1262.1,   2.9799,  34.4012,2,-999.0000,9,     34.0,2,   138.65,2,    43.60,2,     0.00,2,     3.10,2,   -999.0,9,-999.0000,9,  -999.00,      821
  49UF20090610,  P13N,  2412,  1,      3,  16009,2,20090619,0803, 38.0047, 165.0055, 5451,   1516.5,   2.5536,  34.4774,2,-999.0000,9,     39.0,2,   151.01,2,    43.60,2,     0.00,2,     3.09,2,   -999.0,9,-999.0000,9,  -999.00,      815
  49UF20090610,  P13N,  2412,  1,      2,  16008,2,20090619,0803, 38.0047, 165.0055, 5451,   1770.1,   2.2799,  34.5295,2,-999.0000,9,     47.0,2,   157.66,2,    43.30,2,     0.00,2,     3.05,2,   -999.0,9,-999.0000,9,  -999.00,      809
  49UF20090610,  P13N,  2412,  1,      1,  16007,2,20090619,0803, 38.0047, 165.0055, 5451,   2031.4,   2.0306,  34.5772,2,-999.0000,9,     64.0,2,   161.21,2,    42.20,2,     0.00,2,     2.96,2,   -999.0,9,-999.0000,9,  -999.00,      803
  49UF20090610,  P13N,  2415,  1,     99,     99,2,20090620,0505, 35.0055, 165.0228, 5870,      0.0,  20.0603,  34.6018,2,-999.0000,9,    232.0,2,     1.77,2,     0.10,2,     0.00,2,     0.00,2,   -999.0,9,-999.0000,9,  -999.00,      542
  49UF20090610,  P13N,  2415,  1,     23,  19380,2,20090620,0505, 35.0055, 165.0228, 5870,     11.2,  20.0332,  34.6028,2,  34.6044,2,    232.0,2,     1.78,2,     0.00,2,     0.00,2,     0.00,2,   -999.0,9,-999.0000,9,  -999.00,      607
  49UF20090610,  P13N,  2415,  1,     22,  16028,2,20090620,0505, 35.0055, 165.0228, 5870,     25.9,  19.9911,  34.6040,2,-999.0000,9,    232.0,2,     1.79,2,     0.10,2,     0.00,2,     0.00,2,   -999.0,9,-999.0000,9,  -999.00,      606
  49UF20090610,  P13N,  2415,  1,     21,  16027,2,20090620,0505, 35.0055, 165.0228, 5870,     50.2,  18.3054,  34.5977,2,-999.0000,9,    244.0,2,     1.85,2,     0.10,2,     0.00,2,     0.00,2,   -999.0,9,-999.0000,9,  -999.00,      602
  49UF20090610,  P13N,  2415,  1,     20,  16026,2,20090620,0505, 35.0055, 165.0228, 5870,     75.9,  17.9043,  34.6437,2,-999.0000,9,    230.0,2,     2.62,2,     1.87,2,     0.13,2,     0.11,2,   -999.0,9,-999.0000,9,  -999.00,      600
  49UF20090610,  P13N,  2415,  1,     19,  19378,2,20090620,0505, 35.0055, 165.0228, 5870,    101.8,  17.3191,  34.6285,2,  34.6183,4,    229.0,2,     2.72,2,     2.02,2,     0.08,2,     0.13,2,   -999.0,9,-999.0000,9,  -999.00,      559
  49UF20090610,  P13N,  2415,  1,     18,  19377,2,20090620,0505, 35.0055, 165.0228, 5870,    102.1,  17.3216,  34.6296,2,  34.6203,4,    229.0,2,     2.58,2,     2.01,2,     0.09,2,     0.12,2,   -999.0,9,-999.0000,9,  -999.00,      559
  49UF20090610,  P13N,  2415,  1,     17,  16023,2,20090620,0505, 35.0055, 165.0228, 5870,    125.3,  17.1255,  34.6264,2,-999.0000,9,    228.0,2,     3.17,2,     3.08,2,     0.02,2,     0.18,2,   -999.0,9,-999.0000,9,  -999.00,      558
  49UF20090610,  P13N,  2415,  1,     16,  16022,2,20090620,0505, 35.0055, 165.0228, 5870,    151.2,  16.8976,  34.5959,2,-999.0000,9,    229.0,2,     3.13,2,     3.09,2,     0.01,4,     0.18,2,   -999.0,9,-999.0000,9,  -999.00,      557
  49UF20090610,  P13N,  2415,  1,     15,  16021,2,20090620,0505, 35.0055, 165.0228, 5870,    202.3,  16.5503,  34.6261,2,  34.6277,2,    217.0,2,     4.70,2,     4.99,2,     0.01,4,     0.29,2,   -999.0,9,-999.0000,9,  -999.00,      555
  49UF20090610,  P13N,  2415,  1,     14,  16020,2,20090620,0505, 35.0055, 165.0228, 5870,    253.5,  16.0378,  34.5631,2,-999.0000,9,    225.0,2,     5.04,2,     5.09,2,     0.01,4,     0.30,2,   -999.0,9,-999.0000,9,  -999.00,      553
  49UF20090610,  P13N,  2415,  1,     13,  16019,2,20090620,0505, 35.0055, 165.0228, 5870,    305.7,  15.5346,  34.5398,2,  34.5434,2,    222.0,2,     6.29,2,     6.09,2,     0.01,4,     0.37,2,   -999.0,9,-999.0000,9,  -999.00,      551
  49UF20090610,  P13N,  2415,  1,     12,  16018,2,20090620,0505, 35.0055, 165.0228, 5870,    406.5,  13.9596,  34.4830,2,  34.4855,2,    203.0,2,    11.70,2,    10.49,2,     0.01,4,     0.66,2,   -999.0,9,-999.0000,9,  -999.00,      548
  49UF20090610,  P13N,  2415,  1,     11,  16017,2,20090620,0505, 35.0055, 165.0228, 5870,    508.4,  11.3088,  34.3173,2,  34.3190,2,    198.0,2,    20.77,2,    15.39,2,     0.01,4,     1.04,2,   -999.0,9,-999.0000,9,  -999.00,      545
  49UF20090610,  P13N,  2415,  1,     10,  19375,2,20090620,0505, 35.0055, 165.0228, 5870,    608.4,   8.1923,  34.0843,2,  34.0858,2,    181.0,2,    37.12,2,    22.69,2,     0.01,4,     1.56,2,   -999.0,9,-999.0000,9,  -999.00,      542
  49UF20090610,  P13N,  2415,  1,      8,  16014,2,20090620,0505, 35.0055, 165.0228, 5870,    711.7,   5.7516,  33.9999,2,  34.0008,2,    135.0,2,    62.67,2,    31.19,2,     0.01,4,     2.22,2,   -999.0,9,-999.0000,9,  -999.00,      538
  49UF20090610,  P13N,  2415,  1,      9,  16015,2,20090620,0505, 35.0055, 165.0228, 5870,    712.2,   5.7410,  33.9994,2,  33.9988,2,    137.0,2,    62.90,2,    31.09,2,     0.01,4,     2.23,2,   -999.0,9,-999.0000,9,  -999.00,      538
  49UF20090610,  P13N,  2415,  1,      7,  19374,2,20090620,0505, 35.0055, 165.0228, 5870,    812.3,   4.8438,  34.0466,2,  34.0451,2,    100.0,2,    79.96,2,    35.89,2,     0.01,4,     2.56,2,   -999.0,9,-999.0000,9,  -999.00,      535
  49UF20090610,  P13N,  2415,  1,      6,  19373,2,20090620,0505, 35.0055, 165.0228, 5870,    915.0,   4.3355,  34.1687,2,  34.1686,2,     64.0,2,    98.01,2,    39.50,2,     0.00,4,     2.80,2,   -999.0,9,-999.0000,9,  -999.00,      531
  49UF20090610,  P13N,  2415,  1,      5,  16011,2,20090620,0505, 35.0055, 165.0228, 5870,   1016.7,   3.9002,  34.2539,2,  34.2536,2,     50.0,2,   111.62,2,    41.09,2,     0.01,4,     2.92,2,   -999.0,9,-999.0000,9,  -999.00,      528
  49UF20090610,  P13N,  2415,  1,      4,  16010,2,20090620,0505, 35.0055, 165.0228, 5870,   1267.8,   3.1263,  34.3834,2,  34.3837,2,     34.0,2,   134.03,2,    43.49,2,     0.01,4,     3.07,2,   -999.0,9,-999.0000,9,  -999.00,      522
  49UF20090610,  P13N,  2415,  1,      3,  16009,2,20090620,0505, 35.0055, 165.0228, 5870,   1520.3,   2.6103,  34.4747,2,  34.4740,2,     36.0,2,   148.63,2,    43.69,2,     0.01,4,     3.08,2,   -999.0,9,-999.0000,9,  -999.00,      516
  49UF20090610,  P13N,  2415,  1,      2,  16008,2,20090620,0505, 35.0055, 165.0228, 5870,   1773.6,   2.2742,  34.5348,2,  34.5340,2,     48.0,2,   157.02,2,    43.09,2,     0.01,4,     3.03,2,   -999.0,9,-999.0000,9,  -999.00,      510
  49UF20090610,  P13N,  2415,  1,      1,  16007,2,20090620,0505, 35.0055, 165.0228, 5870,   2033.4,   2.0305,  34.5821,2,  34.5821,2,     66.0,2,   159.45,2,    42.19,2,     0.01,4,     2.94,2,   -999.0,9,-999.0000,9,  -999.00,      505
  49UF20090610,  P13N,  2417,  1,     99,     99,2,20090620,1849, 33.0055, 164.9942, 6209,      0.0,  20.7762,  34.5992,2,-999.0000,9,    229.0,2,     2.14,2,     0.00,2,     0.00,2,     0.01,2,   -999.0,9,-999.0000,9,  -999.00,     1931
  49UF20090610,  P13N,  2417,  1,     23,  19380,2,20090620,1849, 33.0055, 164.9942, 6209,     11.4,  20.7771,  34.5973,2,-999.0000,9,    229.0,2,     2.14,2,     0.00,2,     0.00,2,     0.00,2,   -999.0,9,-999.0000,9,  -999.00,     1949
  49UF20090610,  P13N,  2417,  1,     22,  16028,2,20090620,1849, 33.0055, 164.9942, 6209,     25.8,  20.1167,  34.6081,2,-999.0000,9,    238.0,2,     2.33,2,     0.00,2,     0.00,2,     0.02,2,   -999.0,9,-999.0000,9,  -999.00,     1948
  49UF20090610,  P13N,  2417,  1,     21,  16027,2,20090620,1849, 33.0055, 164.9942, 6209,     50.4,  18.2010,  34.6397,2,-999.0000,9,    237.0,2,     2.89,2,     0.35,2,     0.05,2,     0.07,2,   -999.0,9,-999.0000,9,  -999.00,     1943
  49UF20090610,  P13N,  2417,  1,     20,  16026,2,20090620,1849, 33.0055, 164.9942, 6209,     76.1,  17.4536,  34.6311,2,-999.0000,9,    221.0,2,     4.33,2,     2.99,2,     0.21,2,     0.23,2,   -999.0,9,-999.0000,9,  -999.00,     1942
  49UF20090610,  P13N,  2417,  1,     19,  19378,2,20090620,1849, 33.0055, 164.9942, 6209,     76.3,  17.4520,  34.6330,2,-999.0000,9,    220.0,2,     4.31,2,     3.09,2,     0.21,2,     0.22,2,   -999.0,9,-999.0000,9,  -999.00,     1942
  49UF20090610,  P13N,  2417,  1,     18,  19377,2,20090620,1849, 33.0055, 164.9942, 6209,    100.8,  17.1479,  34.6883,2,-999.0000,9,    212.0,2,     4.82,2,     4.73,2,     0.07,2,     0.30,2,   -999.0,9,-999.0000,9,  -999.00,     1941
  49UF20090610,  P13N,  2417,  1,     17,  16023,2,20090620,1849, 33.0055, 164.9942, 6209,    126.4,  16.6392,  34.6604,2,-999.0000,9,    206.0,2,     6.28,2,     6.28,2,     0.02,2,     0.40,2,   -999.0,9,-999.0000,9,  -999.00,     1939
  49UF20090610,  P13N,  2417,  1,     16,  16022,2,20090620,1849, 33.0055, 164.9942, 6209,    152.4,  15.9503,  34.5807,2,-999.0000,9,    223.0,2,     6.05,2,     5.59,2,     0.01,2,     0.36,2,   -999.0,9,-999.0000,9,  -999.00,     1938
  49UF20090610,  P13N,  2417,  1,     15,  16021,2,20090620,1849, 33.0055, 164.9942, 6209,    202.0,  14.9050,  34.5154,2,-999.0000,9,    218.0,2,     8.41,2,     7.49,2,     0.01,2,     0.50,2,   -999.0,9,-999.0000,9,  -999.00,     1936
  49UF20090610,  P13N,  2417,  1,     14,  16020,2,20090620,1849, 33.0055, 164.9942, 6209,    252.1,  13.9943,  34.4719,2,-999.0000,9,    212.0,2,    11.29,2,     9.59,2,     0.01,2,     0.65,2,   -999.0,9,-999.0000,9,  -999.00,     1934
  49UF20090610,  P13N,  2417,  1,     13,  16019,2,20090620,1849, 33.0055, 164.9942, 6209,    303.4,  12.7841,  34.4037,2,-999.0000,9,    208.0,2,    15.31,2,    11.90,2,     0.00,2,     0.81,2,   -999.0,9,-999.0000,9,  -999.00,     1932
  49UF20090610,  P13N,  2417,  1,     12,  16018,3,20090620,1849, 33.0055, 164.9942, 6209,    404.2,  10.5349,  34.2212,2,-999.0000,9,    232.0,2,    19.13,2,    13.50,2,     0.00,2,     0.94,2,   -999.0,9,-999.0000,9,  -999.00,     1929
  49UF20090610,  P13N,  2417,  1,     11,  16017,2,20090620,1849, 33.0055, 164.9942, 6209,    503.7,   7.8815,  34.0609,2,-999.0000,9,    178.0,2,    39.02,2,    23.30,2,     0.00,2,     1.64,2,   -999.0,9,-999.0000,9,  -999.00,     1927
  49UF20090610,  P13N,  2417,  1,      9,  16015,2,20090620,1849, 33.0055, 164.9942, 6209,    604.2,   5.8210,  33.9948,2,-999.0000,9,    141.0,2,    61.54,2,    30.50,2,     0.00,2,     2.20,2,   -999.0,9,-999.0000,9,  -999.00,     1924
  49UF20090610,  P13N,  2417,  1,     10,  19375,2,20090620,1849, 33.0055, 164.9942, 6209,    604.7,   5.8276,  33.9949,2,-999.0000,9,    141.0,2,    61.66,2,    30.50,2,     0.00,2,     2.20,2,   -999.0,9,-999.0000,9,  -999.00,     1924
  49UF20090610,  P13N,  2417,  1,      8,  16014,2,20090620,1849, 33.0055, 164.9942, 6209,    706.5,   4.8310,  34.0716,2,-999.0000,9,     91.0,2,    82.91,2,    36.50,2,     0.00,2,     2.62,2,   -999.0,9,-999.0000,9,  -999.00,     1921
  49UF20090610,  P13N,  2417,  1,      7,  19374,2,20090620,1849, 33.0055, 164.9942, 6209,    806.1,   4.3148,  34.1663,2,-999.0000,9,     61.0,2,    99.13,2,    39.80,2,     0.00,2,     2.84,2,   -999.0,9,-999.0000,9,  -999.00,     1918
  49UF20090610,  P13N,  2417,  1,      6,  19373,2,20090620,1849, 33.0055, 164.9942, 6209,    907.9,   3.8309,  34.2537,2,-999.0000,9,     44.0,2,   113.18,2,    41.70,2,     0.00,2,     2.97,2,   -999.0,9,-999.0000,9,  -999.00,     1915
  49UF20090610,  P13N,  2417,  1,      5,  16011,2,20090620,1849, 33.0055, 164.9942, 6209,   1010.1,   3.5020,  34.3127,2,-999.0000,9,     37.0,2,   123.54,2,    42.50,2,     0.00,2,     3.04,2,   -999.0,9,-999.0000,9,  -999.00,     1912
  49UF20090610,  P13N,  2417,  1,      4,  16010,2,20090620,1849, 33.0055, 164.9942, 6209,   1262.6,   2.8682,  34.4272,2,-999.0000,9,     33.0,2,   142.14,2,    43.50,2,     0.00,2,     3.10,2,   -999.0,9,-999.0000,9,  -999.00,     1907
  49UF20090610,  P13N,  2417,  1,      3,  16009,2,20090620,1849, 33.0055, 164.9942, 6209,   1518.4,   2.4350,  34.5066,2,-999.0000,9,     42.0,2,   153.84,2,    43.60,2,     0.00,2,     3.08,2,   -999.0,9,-999.0000,9,  -999.00,     1901
  49UF20090610,  P13N,  2417,  1,      2,  16008,2,20090620,1849, 33.0055, 164.9942, 6209,   1769.8,   2.1623,  34.5554,2,-999.0000,9,     56.0,2,   159.14,2,    42.70,2,     0.00,2,     3.01,2,   -999.0,9,-999.0000,9,  -999.00,     1855
  49UF20090610,  P13N,  2417,  1,      1,  16007,2,20090620,1849, 33.0055, 164.9942, 6209,   2035.4,   1.9052,  34.6002,2,-999.0000,9,     76.0,2,   161.32,2,    41.50,2,     0.00,2,     2.91,2,   -999.0,9,-999.0000,9,  -999.00,     1849