BOTTLE,20190917PRINUNIVRMK
EXPOCODE,SECT_ID,STNNBR,CASTNO,SAMPNO,BTLNBR,BTLNBR_FLAG_W,DATE,TIME,LATITUDE,LONGITUDE,DEPTH,CTDPRS,CTDTMP,CTDSAL,CTDSAL_FLAG_W,SALNTY,SALNTY_FLAG_W,OXYGEN,OXYGEN_FLAG_W,SILCAT,SILCAT_FLAG_W,NITRAT,NITRAT_FLAG_W,NITRIT,NITRIT_FLAG_W,PHSPHT,PHSPHT_FLAG_W,TCARBN,TCARBN_FLAG_W,PH_TOT,PH_TOT_FLAG_W,PH_TMP,BTL_TIME
,,,,,,,,,,,METERS,DBAR,ITS-90,PSS-78,,PSS-78,,UMOL/KG,,UMOL/KG,,UMOL/KG,,UMOL/KG,,UMOL/KG,,UMOL/KG,,,,DEG C,
  49UF20090610,  P13N,  2462,  1,     17,  16023,2,20090720,1759,  2.8017, 138.0202, 4520,     10.4,  28.8287,  33.9426,2,  33.9518,4,   -999.0,9,  -999.00,9,  -999.00,9,  -999.00,9,  -999.00,9,   -999.0,9,-999.0000,9,  -999.00,     1846
  49UF20090610,  P13N,  2462,  1,     16,  16022,2,20090720,1759,  2.8017, 138.0202, 4520,    100.8,  27.6433,  35.4706,2,  35.4726,2,   -999.0,9,  -999.00,9,  -999.00,9,  -999.00,9,  -999.00,9,   -999.0,9,-999.0000,9,  -999.00,     1840
  49UF20090610,  P13N,  2462,  1,     15,  16021,2,20090720,1759,  2.8017, 138.0202, 4520,    201.0,  15.0025,  34.5824,2,  34.5694,4,   -999.0,9,  -999.00,9,  -999.00,9,  -999.00,9,  -999.00,9,   -999.0,9,-999.0000,9,  -999.00,     1838
  49UF20090610,  P13N,  2462,  1,     14,  16020,2,20090720,1759,  2.8017, 138.0202, 4520,    303.1,   9.5117,  34.5814,2,  34.5765,2,   -999.0,9,  -999.00,9,  -999.00,9,  -999.00,9,  -999.00,9,   -999.0,9,-999.0000,9,  -999.00,     1836
  49UF20090610,  P13N,  2462,  1,     13,  16019,2,20090720,1759,  2.8017, 138.0202, 4520,    403.8,   7.8443,  34.5527,2,  34.5519,2,   -999.0,9,  -999.00,9,  -999.00,9,  -999.00,9,  -999.00,9,   -999.0,9,-999.0000,9,  -999.00,     1834
  49UF20090610,  P13N,  2462,  1,     11,  16017,2,20090720,1759,  2.8017, 138.0202, 4520,    504.3,   7.0891,  34.5405,2,  34.5401,2,   -999.0,9,  -999.00,9,  -999.00,9,  -999.00,9,  -999.00,9,   -999.0,9,-999.0000,9,  -999.00,     1831
  49UF20090610,  P13N,  2462,  1,     12,  16018,2,20090720,1759,  2.8017, 138.0202, 4520,    505.1,   7.0826,  34.5403,2,  34.5397,4,   -999.0,9,  -999.00,9,  -999.00,9,  -999.00,9,  -999.00,9,   -999.0,9,-999.0000,9,  -999.00,     1831
  49UF20090610,  P13N,  2462,  1,     10,  19375,2,20090720,1759,  2.8017, 138.0202, 4520,    604.9,   6.4249,  34.5281,2,  34.5286,2,   -999.0,9,  -999.00,9,  -999.00,9,  -999.00,9,  -999.00,9,   -999.0,9,-999.0000,9,  -999.00,     1829
  49UF20090610,  P13N,  2462,  1,      9,  16015,2,20090720,1759,  2.8017, 138.0202, 4520,    706.6,   5.7952,  34.5308,2,  34.5308,2,   -999.0,9,  -999.00,9,  -999.00,9,  -999.00,9,  -999.00,9,   -999.0,9,-999.0000,9,  -999.00,     1826
  49UF20090610,  P13N,  2462,  1,      8,  16014,2,20090720,1759,  2.8017, 138.0202, 4520,    807.2,   5.0743,  34.5419,2,  34.5424,2,   -999.0,9,  -999.00,9,  -999.00,9,  -999.00,9,  -999.00,9,   -999.0,9,-999.0000,9,  -999.00,     1824
  49UF20090610,  P13N,  2462,  1,      7,  19374,2,20090720,1759,  2.8017, 138.0202, 4520,    907.2,   4.6184,  34.5514,2,  34.5510,2,   -999.0,9,  -999.00,9,  -999.00,9,  -999.00,9,  -999.00,9,   -999.0,9,-999.0000,9,  -999.00,     1821
  49UF20090610,  P13N,  2462,  1,      6,  19373,2,20090720,1759,  2.8017, 138.0202, 4520,   1008.7,   4.3011,  34.5596,2,  34.5602,2,   -999.0,9,  -999.00,9,  -999.00,9,  -999.00,9,  -999.00,9,   -999.0,9,-999.0000,9,  -999.00,     1819
  49UF20090610,  P13N,  2462,  1,      5,  16011,2,20090720,1759,  2.8017, 138.0202, 4520,   1260.4,   3.4692,  34.5821,2,  34.5834,2,   -999.0,9,  -999.00,9,  -999.00,9,  -999.00,9,  -999.00,9,   -999.0,9,-999.0000,9,  -999.00,     1814
  49UF20090610,  P13N,  2462,  1,      4,  16010,2,20090720,1759,  2.8017, 138.0202, 4520,   1513.2,   2.9850,  34.5999,2,  34.6004,2,   -999.0,9,  -999.00,9,  -999.00,9,  -999.00,9,  -999.00,9,   -999.0,9,-999.0000,9,  -999.00,     1809
  49UF20090610,  P13N,  2462,  1,      3,  16009,2,20090720,1759,  2.8017, 138.0202, 4520,   1766.0,   2.5610,  34.6176,2,  34.6178,2,   -999.0,9,  -999.00,9,  -999.00,9,  -999.00,9,  -999.00,9,   -999.0,9,-999.0000,9,  -999.00,     1804
  49UF20090610,  P13N,  2462,  1,      2,  16008,2,20090720,1759,  2.8017, 138.0202, 4520,   2019.3,   2.1668,  34.6373,2,  34.6368,4,   -999.0,9,  -999.00,9,  -999.00,9,  -999.00,9,  -999.00,9,   -999.0,9,-999.0000,9,  -999.00,     1800
  49UF20090610,  P13N,  2462,  1,      1,  16007,2,20090720,1759,  2.8017, 138.0202, 4520,   2020.0,   2.1661,  34.6373,2,  34.6370,2,   -999.0,9,  -999.00,9,  -999.00,9,  -999.00,9,  -999.00,9,   -999.0,9,-999.0000,9,  -999.00,     1759
  49UF20090610,  P13N,  2463,  1,     99,     99,2,20090729,0424,  3.0098, 137.0693, 4515,      0.0,  28.7511,  33.8476,2,-999.0000,9,    197.0,2,     1.21,2,     0.00,2,     0.00,2,     0.01,2,   -999.0,9,-999.0000,9,  -999.00,      536
  49UF20090610,  P13N,  2463,  1,     23,  19380,2,20090729,0424,  3.0098, 137.0693, 4515,     10.1,  28.7458,  33.8476,2,  33.8476,2,    197.0,2,     1.21,2,     0.00,2,     0.00,2,     0.01,2,   1889.9,2,-999.0000,9,  -999.00,      604
  49UF20090610,  P13N,  2463,  1,     22,  16028,2,20090729,0424,  3.0098, 137.0693, 4515,     26.1,  28.7252,  33.8465,2,-999.0000,9,    198.0,2,     1.21,2,     0.00,2,     0.00,2,     0.01,2,   1889.9,2,-999.0000,9,  -999.00,      602
  49UF20090610,  P13N,  2463,  1,     21,  16027,2,20090729,0424,  3.0098, 137.0693, 4515,     49.9,  28.3581,  34.3028,2,-999.0000,9,    193.0,2,     1.53,2,     0.67,2,     0.03,2,     0.12,2,   1929.6,2,-999.0000,9,  -999.00,      601
  49UF20090610,  P13N,  2463,  1,     20,  16026,2,20090729,0424,  3.0098, 137.0693, 4515,     75.4,  28.2275,  35.0308,2,-999.0000,9,    167.0,2,     1.91,2,     4.06,2,     0.24,2,     0.40,2,   2002.8,2,-999.0000,9,  -999.00,      559
  49UF20090610,  P13N,  2463,  1,     19,  19378,2,20090729,0424,  3.0098, 137.0693, 4515,     99.4,  26.7052,  35.5285,2,  35.5331,4,    147.0,2,     2.51,2,     7.55,2,     0.05,2,     0.66,2,   2061.4,2,-999.0000,9,  -999.00,      555
  49UF20090610,  P13N,  2463,  1,     18,  19377,2,20090729,0424,  3.0098, 137.0693, 4515,    124.5,  21.9568,  34.8470,2,-999.0000,9,    154.0,2,     6.16,2,     6.98,2,     0.02,2,     0.57,2,   2054.7,2,-999.0000,9,  -999.00,      554
  49UF20090610,  P13N,  2463,  1,     17,  16023,2,20090729,0424,  3.0098, 137.0693, 4515,    151.5,  17.7976,  34.6724,2,-999.0000,9,    151.0,2,    12.76,2,    11.39,2,     0.01,2,     0.85,2,   2088.4,2,-999.0000,9,  -999.00,      553
  49UF20090610,  P13N,  2463,  1,     16,  16022,2,20090729,0424,  3.0098, 137.0693, 4515,    201.7,  14.4432,  34.5657,2,  34.5645,2,    137.0,2,    18.64,2,    16.70,2,     0.00,2,     1.21,2,   2131.5,2,-999.0000,9,  -999.00,      551
  49UF20090610,  P13N,  2463,  1,     15,  16021,2,20090729,0424,  3.0098, 137.0693, 4515,    252.7,  11.5261,  34.4930,2,-999.0000,9,    112.0,2,    26.86,2,    23.40,2,     0.00,2,     1.68,2,   2175.0,2,-999.0000,9,  -999.00,      549
  49UF20090610,  P13N,  2463,  1,     14,  16020,2,20090729,0424,  3.0098, 137.0693, 4515,    303.4,   9.4948,  34.5909,2,  34.5962,4,     58.0,2,    34.95,2,    32.60,2,     0.00,2,     2.31,2,   2239.4,2,-999.0000,9,  -999.00,      545
  49UF20090610,  P13N,  2463,  1,     12,  16018,2,20090729,0424,  3.0098, 137.0693, 4515,    405.4,   8.0547,  34.5788,2,  34.5788,2,     84.0,2,    39.75,2,    33.30,2,     0.00,2,     2.35,2,   2238.2,2,-999.0000,9,  -999.00,      539
  49UF20090610,  P13N,  2463,  1,     13,  16019,2,20090729,0424,  3.0098, 137.0693, 4515,    407.2,   8.0423,  34.5788,2,  34.5786,4,     84.0,2,    39.74,2,    33.20,2,     0.00,2,     2.35,2,   -999.0,9,-999.0000,9,  -999.00,      539
  49UF20090610,  P13N,  2463,  1,     11,  16017,2,20090729,0424,  3.0098, 137.0693, 4515,    505.3,   7.2613,  34.5573,2,  34.5572,2,    117.0,2,    38.71,2,    32.10,2,     0.00,2,     2.25,2,   2226.8,2,-999.0000,9,  -999.00,      533
  49UF20090610,  P13N,  2463,  1,     10,  19375,2,20090729,0424,  3.0098, 137.0693, 4515,    605.9,   6.6789,  34.5377,2,  34.5371,2,    101.0,2,    49.05,2,    34.40,2,     0.00,2,     2.42,2,   2245.8,2,-999.0000,9,  -999.00,      528
  49UF20090610,  P13N,  2463,  1,      9,  16015,2,20090729,0424,  3.0098, 137.0693, 4515,    707.8,   5.9507,  34.5364,2,  34.5362,2,     89.0,2,    60.18,2,    36.90,2,     0.00,2,     2.63,2,   2269.4,2,-999.0000,9,  -999.00,      520
  49UF20090610,  P13N,  2463,  1,      8,  16014,2,20090729,0424,  3.0098, 137.0693, 4515,    807.3,   5.3868,  34.5373,2,  34.5377,2,     90.0,2,    70.50,2,    37.70,2,     0.00,2,     2.69,2,   2279.9,2,-999.0000,9,  -999.00,      514
  49UF20090610,  P13N,  2463,  1,      7,  19374,2,20090729,0424,  3.0098, 137.0693, 4515,    906.9,   4.8574,  34.5458,2,  34.5462,2,     91.0,2,    78.49,2,    38.30,2,     0.00,2,     2.74,2,   2291.1,2,-999.0000,9,  -999.00,      508
  49UF20090610,  P13N,  2463,  1,      6,  19373,2,20090729,0424,  3.0098, 137.0693, 4515,   1008.2,   4.4211,  34.5557,2,  34.5562,2,     92.0,2,    87.98,2,    38.50,2,     0.00,2,     2.76,2,   2300.7,2,-999.0000,9,  -999.00,      503
  49UF20090610,  P13N,  2463,  1,      5,  16011,2,20090729,0424,  3.0098, 137.0693, 4515,   1262.3,   3.6136,  34.5778,2,  34.5764,2,     97.0,2,   102.42,2,    38.50,2,     0.00,2,     2.75,2,   2316.5,2,-999.0000,9,  -999.00,      444
  49UF20090610,  P13N,  2463,  1,      4,  16010,2,20090729,0424,  3.0098, 137.0693, 4515,   1513.6,   3.0137,  34.5991,2,  34.5998,2,    105.0,2,   116.91,2,    39.00,2,     0.00,2,     2.78,2,   2329.8,2,-999.0000,9,  -999.00,      435
  49UF20090610,  P13N,  2463,  1,      3,  16009,2,20090729,0424,  3.0098, 137.0693, 4515,   1762.8,   2.5567,  34.6184,2,  34.6194,4,    109.0,2,   127.53,2,    38.50,2,     0.00,2,     2.74,2,   -999.0,9,-999.0000,9,  -999.00,      427
  49UF20090610,  P13N,  2463,  1,      2,  16008,2,20090729,0424,  3.0098, 137.0693, 4515,   1764.2,   2.5555,  34.6183,2,  34.6196,2,    109.0,2,   127.28,2,    38.90,2,     0.00,2,     2.75,2,   2335.7,6,-999.0000,9,  -999.00,      427
  49UF20090610,  P13N,  2463,  1,      1,  16007,2,20090729,0424,  3.0098, 137.0693, 4515,   2013.7,   2.1928,  34.6363,2,  34.6372,2,    117.0,2,   134.47,2,    38.30,2,     0.00,2,     2.71,2,   2339.4,2,-999.0000,9,  -999.00,      424
  49UF20090610,  P13N,  2464,  1,     99,     99,2,20090729,1311,  4.0032, 137.0290, 4586,      0.0,  28.9946,  33.9193,2,-999.0000,9,    200.0,2,     1.16,2,     0.10,2,     0.00,2,     0.02,2,   -999.0,9,-999.0000,9,  -999.00,     1355
  49UF20090610,  P13N,  2464,  1,     23,  19380,2,20090729,1311,  4.0032, 137.0290, 4586,     10.8,  29.0009,  33.9189,2,-999.0000,9,    197.0,2,     1.15,2,     0.00,2,     0.00,2,     0.02,2,   -999.0,9,-999.0000,9,  -999.00,     1413
  49UF20090610,  P13N,  2464,  1,     22,  16028,2,20090729,1311,  4.0032, 137.0290, 4586,     26.0,  29.0015,  33.9189,2,-999.0000,9,    197.0,2,     1.20,2,     0.10,2,     0.00,2,     0.02,2,   -999.0,9,-999.0000,9,  -999.00,     1412
  49UF20090610,  P13N,  2464,  1,     21,  16027,2,20090729,1311,  4.0032, 137.0290, 4586,     49.5,  29.0156,  33.9216,2,-999.0000,9,    196.0,2,     1.15,2,     0.00,2,     0.00,2,     0.02,2,   -999.0,9,-999.0000,9,  -999.00,     1408
  49UF20090610,  P13N,  2464,  1,     20,  16026,2,20090729,1311,  4.0032, 137.0290, 4586,     73.3,  28.8379,  34.0365,2,-999.0000,9,    197.0,2,     1.24,2,     0.10,2,     0.00,2,     0.04,2,   -999.0,9,-999.0000,9,  -999.00,     1407
  49UF20090610,  P13N,  2464,  1,     19,  19378,2,20090729,1311,  4.0032, 137.0290, 4586,    100.3,  26.4255,  34.6958,2,-999.0000,9,    178.0,2,     2.22,2,     0.70,2,     0.20,2,     0.20,2,   -999.0,9,-999.0000,9,  -999.00,     1407
  49UF20090610,  P13N,  2464,  1,     18,  19377,2,20090729,1311,  4.0032, 137.0290, 4586,    124.3,  24.1203,  34.7936,2,-999.0000,9,    160.0,2,     3.52,2,     3.47,2,     0.13,2,     0.38,2,   -999.0,9,-999.0000,9,  -999.00,     1405
  49UF20090610,  P13N,  2464,  1,     17,  16023,2,20090729,1311,  4.0032, 137.0290, 4586,    150.2,  19.1183,  34.7247,2,-999.0000,9,    145.0,2,     7.81,2,     9.38,2,     0.02,2,     0.72,2,   -999.0,9,-999.0000,9,  -999.00,     1404
  49UF20090610,  P13N,  2464,  1,     16,  16022,2,20090729,1311,  4.0032, 137.0290, 4586,    203.6,  13.3988,  34.5551,2,-999.0000,9,    111.0,2,    19.72,2,    20.30,2,     0.00,2,     1.47,2,   -999.0,9,-999.0000,9,  -999.00,     1403
  49UF20090610,  P13N,  2464,  1,     15,  16021,2,20090729,1311,  4.0032, 137.0290, 4586,    254.4,  10.4073,  34.5572,2,-999.0000,9,     73.0,2,    32.03,2,    29.50,2,     0.00,2,     2.09,2,   -999.0,9,-999.0000,9,  -999.00,     1401
  49UF20090610,  P13N,  2464,  1,     13,  16019,2,20090729,1311,  4.0032, 137.0290, 4586,    303.4,   9.2789,  34.5764,2,-999.0000,9,     68.0,2,    37.03,2,    32.10,2,     0.00,2,     2.28,2,   -999.0,9,-999.0000,9,  -999.00,     1359
  49UF20090610,  P13N,  2464,  1,     14,  16020,2,20090729,1311,  4.0032, 137.0290, 4586,    305.2,   9.2777,  34.5769,2,-999.0000,9,     67.0,2,    36.96,2,    32.20,2,     0.00,2,     2.29,2,   -999.0,9,-999.0000,9,  -999.00,     1359
  49UF20090610,  P13N,  2464,  1,     12,  16018,2,20090729,1311,  4.0032, 137.0290, 4586,    405.8,   7.8835,  34.5724,2,-999.0000,9,    123.0,2,    36.79,2,    30.10,2,     0.00,2,     2.12,2,   -999.0,9,-999.0000,9,  -999.00,     1355
  49UF20090610,  P13N,  2464,  1,     11,  16017,2,20090729,1311,  4.0032, 137.0290, 4586,    508.9,   7.3129,  34.5569,2,-999.0000,9,    122.0,2,    38.90,2,    31.50,2,     0.00,2,     2.21,2,   -999.0,9,-999.0000,9,  -999.00,     1351
  49UF20090610,  P13N,  2464,  1,     10,  19375,2,20090729,1311,  4.0032, 137.0290, 4586,    608.4,   6.7560,  34.5398,2,-999.0000,9,    100.0,2,    48.59,2,    34.80,2,     0.00,2,     2.45,2,   -999.0,9,-999.0000,9,  -999.00,     1347
  49UF20090610,  P13N,  2464,  1,      9,  16015,2,20090729,1311,  4.0032, 137.0290, 4586,    708.2,   5.9493,  34.5322,2,-999.0000,9,     92.0,2,    61.27,2,    36.50,2,     0.00,2,     2.58,2,   -999.0,9,-999.0000,9,  -999.00,     1343
  49UF20090610,  P13N,  2464,  1,      8,  16014,2,20090729,1311,  4.0032, 137.0290, 4586,    809.5,   5.2413,  34.5401,2,-999.0000,9,     90.0,2,    72.04,2,    37.70,2,     0.00,2,     2.69,2,   -999.0,9,-999.0000,9,  -999.00,     1340
  49UF20090610,  P13N,  2464,  1,      7,  19374,2,20090729,1311,  4.0032, 137.0290, 4586,    912.3,   4.7447,  34.5498,2,-999.0000,9,     92.0,2,    82.72,2,    37.60,2,     0.00,2,     2.70,2,   -999.0,9,-999.0000,9,  -999.00,     1336
  49UF20090610,  P13N,  2464,  1,      6,  19373,2,20090729,1311,  4.0032, 137.0290, 4586,   1013.5,   4.3192,  34.5589,2,-999.0000,9,     97.0,2,    89.47,2,    37.90,2,     0.00,2,     2.71,2,   -999.0,9,-999.0000,9,  -999.00,     1332
  49UF20090610,  P13N,  2464,  1,      5,  16011,2,20090729,1311,  4.0032, 137.0290, 4586,   1262.2,   3.6210,  34.5790,2,-999.0000,9,     97.0,2,   104.86,2,    38.70,2,     0.00,2,     2.77,2,   -999.0,9,-999.0000,9,  -999.00,     1326
  49UF20090610,  P13N,  2464,  1,      4,  16010,2,20090729,1311,  4.0032, 137.0290, 4586,   1510.9,   3.0115,  34.5991,2,-999.0000,9,    103.0,2,   118.42,2,    39.00,2,     0.00,2,     2.76,2,   -999.0,9,-999.0000,9,  -999.00,     1320
  49UF20090610,  P13N,  2464,  1,      3,  16009,2,20090729,1311,  4.0032, 137.0290, 4586,   1512.1,   3.0115,  34.5987,2,-999.0000,9,    103.0,2,   118.03,2,    38.90,2,     0.00,2,     2.76,2,   -999.0,9,-999.0000,9,  -999.00,     1320
  49UF20090610,  P13N,  2464,  1,      2,  16008,2,20090729,1311,  4.0032, 137.0290, 4586,   1764.9,   2.5829,  34.6173,2,-999.0000,9,    109.0,2,   127.98,2,    38.80,2,     0.00,2,     2.75,2,   -999.0,9,-999.0000,9,  -999.00,     1315
  49UF20090610,  P13N,  2464,  1,      1,  16007,2,20090729,1311,  4.0032, 137.0290, 4586,   2017.9,   2.2337,  34.6345,2,-999.0000,9,    117.0,2,   133.54,2,    38.50,2,     0.00,2,     2.70,2,   -999.0,9,-999.0000,9,  -999.00,     1311