BOTTLE,20190917PRINUNIVRMK
EXPOCODE,SECT_ID,STNNBR,CASTNO,SAMPNO,BTLNBR,BTLNBR_FLAG_W,DATE,TIME,LATITUDE,LONGITUDE,DEPTH,CTDPRS,CTDTMP,CTDSAL,CTDSAL_FLAG_W,SALNTY,SALNTY_FLAG_W,OXYGEN,OXYGEN_FLAG_W,SILCAT,SILCAT_FLAG_W,NITRAT,NITRAT_FLAG_W,NITRIT,NITRIT_FLAG_W,PHSPHT,PHSPHT_FLAG_W,TCARBN,TCARBN_FLAG_W,PH_TOT,PH_TOT_FLAG_W,PH_TMP,BTL_TIME
,,,,,,,,,,,METERS,DBAR,ITS-90,PSS-78,,PSS-78,,UMOL/KG,,UMOL/KG,,UMOL/KG,,UMOL/KG,,UMOL/KG,,UMOL/KG,,,,DEG C,
  49UF20090610,  P13N,  2465,  1,     99,     99,2,20090730,0225,  4.9958, 137.0265, 5155,      0.0,  28.9185,  34.0589,2,-999.0000,9,    197.0,2,     1.18,2,     0.00,2,     0.00,2,     0.05,2,   -999.0,9,-999.0000,9,  -999.00,      303
  49UF20090610,  P13N,  2465,  1,     23,  19380,2,20090730,0225,  4.9958, 137.0265, 5155,     10.7,  28.9148,  34.0556,2,  34.0553,2,    196.0,2,     1.22,2,     0.00,2,     0.00,2,     0.04,2,   1902.8,2,-999.0000,9,  -999.00,      325
  49UF20090610,  P13N,  2465,  1,     22,  16028,2,20090730,0225,  4.9958, 137.0265, 5155,     24.2,  28.9303,  34.0616,2,-999.0000,9,    196.0,2,     1.17,2,     0.00,2,     0.00,2,     0.04,2,   1902.4,2,-999.0000,9,  -999.00,      319
  49UF20090610,  P13N,  2465,  1,     21,  16027,2,20090730,0225,  4.9958, 137.0265, 5155,     50.7,  28.9339,  34.0625,2,-999.0000,9,    196.0,2,     1.22,2,     0.00,2,     0.00,2,     0.05,2,   1904.5,2,-999.0000,9,  -999.00,      317
  49UF20090610,  P13N,  2465,  1,     20,  16026,2,20090730,0225,  4.9958, 137.0265, 5155,     76.7,  28.4133,  34.4300,2,-999.0000,9,    194.0,2,     1.41,2,     0.00,2,     0.00,2,     0.09,2,   1937.1,2,-999.0000,9,  -999.00,      316
  49UF20090610,  P13N,  2465,  1,     19,  19378,2,20090730,0225,  4.9958, 137.0265, 5155,     99.9,  24.8617,  34.9399,2,  34.9628,4,    158.0,2,     3.59,2,     4.62,2,     0.18,2,     0.45,2,   2030.7,2,-999.0000,9,  -999.00,      312
  49UF20090610,  P13N,  2465,  1,     18,  19377,2,20090730,0225,  4.9958, 137.0265, 5155,    122.9,  19.5930,  34.7623,2,-999.0000,9,    146.0,2,     7.77,2,     9.18,2,     0.02,2,     0.72,2,   2077.0,2,-999.0000,9,  -999.00,      311
  49UF20090610,  P13N,  2465,  1,     17,  16023,2,20090730,0225,  4.9958, 137.0265, 5155,    150.9,  16.4925,  34.6455,2,-999.0000,9,    133.0,2,    12.37,2,    13.99,2,     0.01,2,     1.04,2,   2113.1,2,-999.0000,9,  -999.00,      310
  49UF20090610,  P13N,  2465,  1,     16,  16022,2,20090730,0225,  4.9958, 137.0265, 5155,    201.2,  11.2868,  34.5298,2,  34.5301,2,     86.0,2,    28.21,2,    26.60,2,     0.00,2,     1.90,2,   2197.5,2,-999.0000,9,  -999.00,      308
  49UF20090610,  P13N,  2465,  1,     15,  16021,2,20090730,0225,  4.9958, 137.0265, 5155,    250.9,   9.4825,  34.5402,2,-999.0000,9,     94.0,2,    35.88,2,    29.30,2,     0.00,2,     2.09,2,   2217.5,2,-999.0000,9,  -999.00,      307
  49UF20090610,  P13N,  2465,  1,     13,  16019,2,20090730,0225,  4.9958, 137.0265, 5155,    304.1,   8.9783,  34.6072,2,  34.6072,2,     58.0,2,    36.90,2,    34.00,2,     0.00,2,     2.40,2,   2246.1,2,-999.0000,9,  -999.00,      305
  49UF20090610,  P13N,  2465,  1,     14,  16020,2,20090730,0225,  4.9958, 137.0265, 5155,    304.3,   8.9707,  34.6074,2,  34.6068,4,     57.0,2,    37.06,2,    34.00,2,     0.00,2,     2.40,2,   -999.0,9,-999.0000,9,  -999.00,      305
  49UF20090610,  P13N,  2465,  1,     12,  16018,2,20090730,0225,  4.9958, 137.0265, 5155,    403.8,   8.1486,  34.5812,2,  34.5810,2,     75.0,2,    40.50,2,    33.90,2,     0.00,2,     2.39,2,   2244.7,2,-999.0000,9,  -999.00,      302
  49UF20090610,  P13N,  2465,  1,     11,  16017,2,20090730,0225,  4.9958, 137.0265, 5155,    501.8,   7.1858,  34.5521,2,  34.5507,2,    110.0,2,    41.57,2,    32.60,2,     0.00,2,     2.30,2,   2231.0,2,-999.0000,9,  -999.00,      300
  49UF20090610,  P13N,  2465,  1,     10,  19375,2,20090730,0225,  4.9958, 137.0265, 5155,    605.2,   6.6026,  34.5383,2,  34.5382,2,    106.0,2,    48.01,2,    34.10,2,     0.00,2,     2.41,2,   2244.7,2,-999.0000,9,  -999.00,      257
  49UF20090610,  P13N,  2465,  1,      9,  16015,2,20090730,0225,  4.9958, 137.0265, 5155,    707.6,   5.9492,  34.5325,2,  34.5317,2,     93.0,2,    61.35,2,    36.40,2,     0.00,2,     2.59,2,   2267.8,2,-999.0000,9,  -999.00,      254
  49UF20090610,  P13N,  2465,  1,      8,  16014,2,20090730,0225,  4.9958, 137.0265, 5155,    807.5,   5.5498,  34.5378,2,  34.5374,2,     87.0,2,    67.13,2,    37.60,2,     0.00,2,     2.67,2,   2276.1,2,-999.0000,9,  -999.00,      251
  49UF20090610,  P13N,  2465,  1,      7,  19374,2,20090730,0225,  4.9958, 137.0265, 5155,    905.7,   4.9330,  34.5445,2,  34.5441,2,     92.0,2,    77.54,2,    37.90,2,     0.00,2,     2.70,2,   2287.1,2,-999.0000,9,  -999.00,      248
  49UF20090610,  P13N,  2465,  1,      6,  19373,2,20090730,0225,  4.9958, 137.0265, 5155,   1006.5,   4.4274,  34.5561,2,  34.5558,2,     96.0,2,    87.71,2,    37.80,2,     0.00,2,     2.70,2,   2296.1,2,-999.0000,9,  -999.00,      245
  49UF20090610,  P13N,  2465,  1,      4,  16010,2,20090730,0225,  4.9958, 137.0265, 5155,   1262.0,   3.7107,  34.5759,2,  34.5752,2,     99.0,2,   101.67,2,    38.70,2,     0.00,2,     2.76,2,   2312.4,2,-999.0000,9,  -999.00,      240
  49UF20090610,  P13N,  2465,  1,      5,  16011,2,20090730,0225,  4.9958, 137.0265, 5155,   1263.9,   3.7099,  34.5760,2,  34.5753,4,     98.0,2,   101.58,2,    38.70,2,     0.00,2,     2.75,2,   -999.0,9,-999.0000,9,  -999.00,      240
  49UF20090610,  P13N,  2465,  1,      3,  16009,2,20090730,0225,  4.9958, 137.0265, 5155,   1514.3,   3.0841,  34.5965,2,  34.5964,2,    100.0,2,   116.38,2,    38.70,2,     0.00,2,     2.76,2,   2326.4,2,-999.0000,9,  -999.00,      234
  49UF20090610,  P13N,  2465,  1,      2,  16008,2,20090730,0225,  4.9958, 137.0265, 5155,   1766.0,   2.6517,  34.6135,2,  34.6137,2,    107.0,2,   125.91,2,    38.80,2,     0.00,2,     2.74,2,   2334.1,6,-999.0000,9,  -999.00,      229
  49UF20090610,  P13N,  2465,  1,      1,  16007,2,20090730,0225,  4.9958, 137.0265, 5155,   2029.8,   2.2594,  34.6331,2,  34.6333,2,    114.0,2,   133.95,2,    38.40,2,     0.00,2,     2.71,2,   2339.6,2,-999.0000,9,  -999.00,      225
  49UF20090610,  P13N,  2466,  1,     99,     99,2,20090730,0956,  6.0073, 137.0227, 4198,      0.0,  28.8317,  34.1831,2,-999.0000,9,    200.0,2,     1.08,2,     0.00,2,     0.00,2,     0.04,2,   -999.0,9,-999.0000,9,  -999.00,     1030
  49UF20090610,  P13N,  2466,  1,     23,  19380,2,20090730,0956,  6.0073, 137.0227, 4198,     10.1,  28.8359,  34.1830,2,-999.0000,9,    198.0,2,     1.08,2,     0.00,2,     0.00,2,     0.04,2,   -999.0,9,-999.0000,9,  -999.00,     1102
  49UF20090610,  P13N,  2466,  1,     22,  16028,2,20090730,0956,  6.0073, 137.0227, 4198,     24.5,  28.8384,  34.1817,2,-999.0000,9,    199.0,2,     1.08,2,     0.00,2,     0.00,2,     0.04,2,   -999.0,9,-999.0000,9,  -999.00,     1054
  49UF20090610,  P13N,  2466,  1,     21,  16027,2,20090730,0956,  6.0073, 137.0227, 4198,     48.9,  28.8441,  34.1819,2,-999.0000,9,    197.0,2,     1.08,2,     0.00,2,     0.00,2,     0.04,2,   -999.0,9,-999.0000,9,  -999.00,     1053
  49UF20090610,  P13N,  2466,  1,     20,  16026,2,20090730,0956,  6.0073, 137.0227, 4198,     77.6,  27.3527,  35.0794,2,-999.0000,9,    171.0,2,     2.00,2,     2.39,2,     0.21,2,     0.33,2,   -999.0,9,-999.0000,9,  -999.00,     1051
  49UF20090610,  P13N,  2466,  1,     19,  19378,2,20090730,0956,  6.0073, 137.0227, 4198,    102.9,  24.1653,  34.9131,2,-999.0000,9,    157.0,2,     3.67,2,     4.79,2,     0.11,2,     0.45,2,   -999.0,9,-999.0000,9,  -999.00,     1047
  49UF20090610,  P13N,  2466,  1,     18,  19377,2,20090730,0956,  6.0073, 137.0227, 4198,    127.5,  18.3733,  34.7473,2,-999.0000,9,    145.0,2,     9.46,2,    10.69,2,     0.01,2,     0.80,2,   -999.0,9,-999.0000,9,  -999.00,     1046
  49UF20090610,  P13N,  2466,  1,     17,  16023,2,20090730,0956,  6.0073, 137.0227, 4198,    152.9,  15.3128,  34.6134,2,-999.0000,9,    125.0,2,    14.87,2,    16.10,2,     0.00,2,     1.18,2,   -999.0,9,-999.0000,9,  -999.00,     1044
  49UF20090610,  P13N,  2466,  1,     15,  16021,2,20090730,0956,  6.0073, 137.0227, 4198,    202.2,  10.7021,  34.5577,2,-999.0000,9,     70.0,2,    30.12,2,    28.90,2,     0.00,2,     2.08,2,   -999.0,9,-999.0000,9,  -999.00,     1042
  49UF20090610,  P13N,  2466,  1,     16,  16022,2,20090730,0956,  6.0073, 137.0227, 4198,    204.2,  10.6544,  34.5590,2,-999.0000,9,     70.0,2,    30.36,2,    29.10,2,     0.00,2,     2.09,2,   -999.0,9,-999.0000,9,  -999.00,     1042
  49UF20090610,  P13N,  2466,  1,     14,  16020,2,20090730,0956,  6.0073, 137.0227, 4198,    253.0,   9.7395,  34.5993,2,-999.0000,9,     54.0,2,    34.15,2,    32.70,2,     0.00,2,     2.33,2,   -999.0,9,-999.0000,9,  -999.00,     1040
  49UF20090610,  P13N,  2466,  1,     13,  16019,2,20090730,0956,  6.0073, 137.0227, 4198,    303.7,   8.9162,  34.5942,2,-999.0000,9,     64.0,2,    37.37,2,    33.40,2,     0.00,2,     2.37,2,   -999.0,9,-999.0000,9,  -999.00,     1039
  49UF20090610,  P13N,  2466,  1,     12,  16018,2,20090730,0956,  6.0073, 137.0227, 4198,    407.6,   8.0808,  34.5741,2,-999.0000,9,     72.0,2,    41.52,2,    34.10,2,     0.00,2,     2.42,2,   -999.0,9,-999.0000,9,  -999.00,     1035
  49UF20090610,  P13N,  2466,  1,     11,  16017,2,20090730,0956,  6.0073, 137.0227, 4198,    505.3,   7.5469,  34.5545,2,-999.0000,9,     87.0,2,    45.12,2,    34.00,2,     0.00,2,     2.41,2,   -999.0,9,-999.0000,9,  -999.00,     1032
  49UF20090610,  P13N,  2466,  1,     10,  19375,2,20090730,0956,  6.0073, 137.0227, 4198,    604.5,   7.0147,  34.5447,2,-999.0000,9,    105.0,2,    45.54,2,    33.60,2,     0.00,2,     2.36,2,   -999.0,9,-999.0000,9,  -999.00,     1029
  49UF20090610,  P13N,  2466,  1,      9,  16015,2,20090730,0956,  6.0073, 137.0227, 4198,    707.0,   6.3688,  34.5316,2,-999.0000,9,    109.0,2,    51.85,2,    34.30,2,     0.00,2,     2.42,2,   -999.0,9,-999.0000,9,  -999.00,     1026
  49UF20090610,  P13N,  2466,  1,      8,  16014,2,20090730,0956,  6.0073, 137.0227, 4198,    809.8,   5.5894,  34.5308,2,-999.0000,9,    100.0,2,    66.70,2,    36.30,2,     0.00,2,     2.57,2,   -999.0,9,-999.0000,9,  -999.00,     1023
  49UF20090610,  P13N,  2466,  1,      7,  19374,2,20090730,0956,  6.0073, 137.0227, 4198,    907.5,   5.1202,  34.5387,2,-999.0000,9,     99.0,2,    75.89,2,    37.00,2,     0.00,2,     2.63,2,   -999.0,9,-999.0000,9,  -999.00,     1020
  49UF20090610,  P13N,  2466,  1,      5,  16011,2,20090730,0956,  6.0073, 137.0227, 4198,   1006.2,   4.6966,  34.5462,2,-999.0000,9,     88.0,2,    87.00,2,    38.40,2,     0.00,2,     2.74,2,   -999.0,9,-999.0000,9,  -999.00,     1017
  49UF20090610,  P13N,  2466,  1,      6,  19373,2,20090730,0956,  6.0073, 137.0227, 4198,   1007.4,   4.6970,  34.5461,2,-999.0000,9,     89.0,2,    87.05,2,    38.30,2,     0.00,2,     2.73,2,   -999.0,9,-999.0000,9,  -999.00,     1018
  49UF20090610,  P13N,  2466,  1,      4,  16010,2,20090730,0956,  6.0073, 137.0227, 4198,   1262.3,   3.7067,  34.5741,2,-999.0000,9,     94.0,2,   105.64,2,    39.00,2,     0.00,2,     2.77,2,   -999.0,9,-999.0000,9,  -999.00,     1011
  49UF20090610,  P13N,  2466,  1,      3,  16009,2,20090730,0956,  6.0073, 137.0227, 4198,   1512.9,   2.9378,  34.6011,2,-999.0000,9,    103.0,2,   120.95,2,    38.80,2,     0.00,2,     2.76,2,   -999.0,9,-999.0000,9,  -999.00,     1006
  49UF20090610,  P13N,  2466,  1,      2,  16008,2,20090730,0956,  6.0073, 137.0227, 4198,   1764.8,   2.5004,  34.6204,2,-999.0000,9,    109.0,2,   129.78,2,    38.60,2,     0.00,2,     2.74,2,   -999.0,9,-999.0000,9,  -999.00,     1001
  49UF20090610,  P13N,  2466,  1,      1,  16007,2,20090730,0956,  6.0073, 137.0227, 4198,   2028.7,   2.1706,  34.6371,2,-999.0000,9,    123.0,2,   134.87,2,    38.40,2,     0.00,2,     2.69,2,   -999.0,9,-999.0000,9,  -999.00,      956
  49UF20090610,  P13N,  2467,  1,     99,     99,2,20090731,2207,  7.0075, 137.0312, 4220,      0.0,  28.9086,  34.1928,2,-999.0000,9,    199.0,2,     1.05,2,     0.00,2,     0.00,2,     0.03,2,   -999.0,9,-999.0000,9,  -999.00,     2242
  49UF20090610,  P13N,  2467,  1,     23,  19380,2,20090731,2207,  7.0075, 137.0312, 4220,     10.1,  28.9078,  34.1923,2,-999.0000,9,    199.0,2,     1.05,2,     0.00,2,     0.00,2,     0.03,2,   -999.0,9,-999.0000,9,  -999.00,     2310
  49UF20090610,  P13N,  2467,  1,     22,  16028,2,20090731,2207,  7.0075, 137.0312, 4220,     25.1,  28.9140,  34.1918,2,-999.0000,9,    197.0,2,     1.05,2,     0.00,2,     0.00,2,     0.03,2,   -999.0,9,-999.0000,9,  -999.00,     2301
  49UF20090610,  P13N,  2467,  1,     21,  16027,2,20090731,2207,  7.0075, 137.0312, 4220,     50.3,  27.7716,  35.0433,2,-999.0000,9,    197.0,2,     1.05,2,     0.00,2,     0.00,2,     0.03,2,   -999.0,9,-999.0000,9,  -999.00,     2300
  49UF20090610,  P13N,  2467,  1,     20,  16026,2,20090731,2207,  7.0075, 137.0312, 4220,     75.9,  26.0168,  35.0341,2,-999.0000,9,    192.0,2,     1.28,2,     0.08,2,     0.02,2,     0.12,2,   -999.0,9,-999.0000,9,  -999.00,     2259
  49UF20090610,  P13N,  2467,  1,     19,  19378,2,20090731,2207,  7.0075, 137.0312, 4220,     99.9,  23.8602,  35.0161,2,-999.0000,9,    182.0,2,     1.69,2,     0.98,2,     0.22,2,     0.20,2,   -999.0,9,-999.0000,9,  -999.00,     2255
  49UF20090610,  P13N,  2467,  1,     18,  19377,2,20090731,2207,  7.0075, 137.0312, 4220,    125.6,  20.6886,  34.8211,2,-999.0000,9,    155.0,2,     5.40,2,     6.47,2,     0.03,2,     0.54,2,   -999.0,9,-999.0000,9,  -999.00,     2254
  49UF20090610,  P13N,  2467,  1,     16,  16022,2,20090731,2207,  7.0075, 137.0312, 4220,    149.5,  16.8244,  34.6509,2,-999.0000,9,    130.0,2,    12.18,2,    13.99,2,     0.01,2,     1.03,2,   -999.0,9,-999.0000,9,  -999.00,     2253
  49UF20090610,  P13N,  2467,  1,     17,  16023,2,20090731,2207,  7.0075, 137.0312, 4220,    150.3,  16.7165,  34.6482,2,-999.0000,9,    130.0,2,    12.33,2,    13.99,2,     0.01,2,     1.05,2,   -999.0,9,-999.0000,9,  -999.00,     2253
  49UF20090610,  P13N,  2467,  1,     15,  16021,2,20090731,2207,  7.0075, 137.0312, 4220,    201.1,  12.0857,  34.5072,2,-999.0000,9,    100.0,2,    23.96,2,    23.60,2,     0.00,2,     1.69,2,   -999.0,9,-999.0000,9,  -999.00,     2251
  49UF20090610,  P13N,  2467,  1,     14,  16020,2,20090731,2207,  7.0075, 137.0312, 4220,    249.8,  10.2012,  34.5623,2,-999.0000,9,     65.0,2,    32.63,2,    30.60,2,     0.00,2,     2.18,2,   -999.0,9,-999.0000,9,  -999.00,     2250
  49UF20090610,  P13N,  2467,  1,     13,  16019,2,20090731,2207,  7.0075, 137.0312, 4220,    301.8,   9.1808,  34.5742,2,-999.0000,9,     62.0,2,    37.13,2,    33.00,2,     0.00,2,     2.34,2,   -999.0,9,-999.0000,9,  -999.00,     2248
  49UF20090610,  P13N,  2467,  1,     12,  16018,2,20090731,2207,  7.0075, 137.0312, 4220,    402.1,   8.3759,  34.5850,2,-999.0000,9,     72.0,2,    39.68,2,    33.90,2,     0.00,2,     2.39,2,   -999.0,9,-999.0000,9,  -999.00,     2245
  49UF20090610,  P13N,  2467,  1,     11,  16017,2,20090731,2207,  7.0075, 137.0312, 4220,    504.5,   7.4661,  34.5431,2,-999.0000,9,     74.0,2,    48.18,2,    35.20,2,     0.00,2,     2.49,2,   -999.0,9,-999.0000,9,  -999.00,     2243
  49UF20090610,  P13N,  2467,  1,     10,  19375,2,20090731,2207,  7.0075, 137.0312, 4220,    604.4,   6.6917,  34.5225,2,-999.0000,9,     83.0,2,    56.07,2,    36.00,2,     0.00,2,     2.55,2,   -999.0,9,-999.0000,9,  -999.00,     2240
  49UF20090610,  P13N,  2467,  1,      9,  16015,2,20090731,2207,  7.0075, 137.0312, 4220,    708.8,   5.8475,  34.5265,2,-999.0000,9,     83.0,2,    67.55,2,    37.10,2,     0.00,2,     2.65,2,   -999.0,9,-999.0000,9,  -999.00,     2237
  49UF20090610,  P13N,  2467,  1,      8,  16014,2,20090731,2207,  7.0075, 137.0312, 4220,    806.4,   5.2902,  34.5339,2,-999.0000,9,     86.0,2,    76.23,2,    37.60,2,     0.00,2,     2.69,2,   -999.0,9,-999.0000,9,  -999.00,     2234
  49UF20090610,  P13N,  2467,  1,      6,  19373,2,20090731,2207,  7.0075, 137.0312, 4220,    907.7,   4.7918,  34.5421,2,-999.0000,9,     87.0,2,    85.75,2,    38.30,2,     0.00,2,     2.73,2,   -999.0,9,-999.0000,9,  -999.00,     2232
  49UF20090610,  P13N,  2467,  1,      7,  19374,2,20090731,2207,  7.0075, 137.0312, 4220,    908.7,   4.7858,  34.5424,2,-999.0000,9,     87.0,2,    85.44,2,    38.20,2,     0.00,2,     2.73,2,   -999.0,9,-999.0000,9,  -999.00,     2232
  49UF20090610,  P13N,  2467,  1,      5,  16011,2,20090731,2207,  7.0075, 137.0312, 4220,   1009.5,   4.2743,  34.5561,2,-999.0000,9,     90.0,2,    95.18,2,    38.70,2,     0.00,2,     2.76,2,   -999.0,9,-999.0000,9,  -999.00,     2229
  49UF20090610,  P13N,  2467,  1,      4,  16010,2,20090731,2207,  7.0075, 137.0312, 4220,   1262.0,   3.4637,  34.5819,2,-999.0000,9,     94.0,2,   111.03,2,    39.10,2,     0.00,2,     2.78,2,   -999.0,9,-999.0000,9,  -999.00,     2223
  49UF20090610,  P13N,  2467,  1,      3,  16009,2,20090731,2207,  7.0075, 137.0312, 4220,   1515.0,   2.7760,  34.6075,2,-999.0000,9,    103.0,2,   124.82,2,    39.00,2,     0.00,2,     2.76,2,   -999.0,9,-999.0000,9,  -999.00,     2218
  49UF20090610,  P13N,  2467,  1,      2,  16008,2,20090731,2207,  7.0075, 137.0312, 4220,   1765.7,   2.4395,  34.6231,2,-999.0000,9,    110.0,2,   131.38,2,    38.80,2,     0.00,2,     2.73,2,   -999.0,9,-999.0000,9,  -999.00,     2212
  49UF20090610,  P13N,  2467,  1,      1,  16007,2,20090731,2207,  7.0075, 137.0312, 4220,   2030.1,   2.1632,  34.6373,2,-999.0000,9,    123.0,2,   135.94,2,    38.50,2,     0.00,2,     2.69,2,   -999.0,9,-999.0000,9,  -999.00,     2207