BOTTLE,20190917PRINUNIVRMK
EXPOCODE,SECT_ID,STNNBR,CASTNO,SAMPNO,BTLNBR,BTLNBR_FLAG_W,DATE,TIME,LATITUDE,LONGITUDE,DEPTH,CTDPRS,CTDTMP,CTDSAL,CTDSAL_FLAG_W,SALNTY,SALNTY_FLAG_W,OXYGEN,OXYGEN_FLAG_W,SILCAT,SILCAT_FLAG_W,NITRAT,NITRAT_FLAG_W,NITRIT,NITRIT_FLAG_W,PHSPHT,PHSPHT_FLAG_W,TCARBN,TCARBN_FLAG_W,PH_TOT,PH_TOT_FLAG_W,PH_TMP,BTL_TIME
,,,,,,,,,,,METERS,DBAR,ITS-90,PSS-78,,PSS-78,,UMOL/KG,,UMOL/KG,,UMOL/KG,,UMOL/KG,,UMOL/KG,,UMOL/KG,,,,DEG C,
  49UF20090610,  P13N,  2427,  1,     99,     99,2,20090623,1154, 23.0150, 164.9917, 5848,      0.0,  29.3184,  35.3955,2,-999.0000,9,    198.0,2,     1.09,2,     0.00,2,     0.00,2,     0.02,4,   -999.0,9,-999.0000,9,  -999.00,     1226
  49UF20090610,  P13N,  2427,  1,     23,  19380,2,20090623,1154, 23.0150, 164.9917, 5848,     10.4,  29.3022,  35.3872,2,-999.0000,9,    200.0,2,     1.09,2,     0.00,2,     0.00,2,     0.00,2,   1978.5,2,-999.0000,9,  -999.00,     1250
  49UF20090610,  P13N,  2427,  1,     22,  16028,2,20090623,1154, 23.0150, 164.9917, 5848,     25.4,  26.9048,  35.2103,2,-999.0000,9,    208.0,2,     1.13,2,     0.00,2,     0.00,2,     0.00,2,   1977.0,2,-999.0000,9,  -999.00,     1249
  49UF20090610,  P13N,  2427,  1,     21,  16027,2,20090623,1154, 23.0150, 164.9917, 5848,     50.3,  25.4297,  35.1241,2,-999.0000,9,    215.0,2,     1.18,2,     0.00,2,     0.00,2,     0.00,2,   1966.5,2,-999.0000,9,  -999.00,     1245
  49UF20090610,  P13N,  2427,  1,     20,  16026,2,20090623,1154, 23.0150, 164.9917, 5848,     75.5,  23.4684,  35.1168,2,-999.0000,9,    220.0,2,     1.32,2,     0.00,2,     0.00,2,     0.00,2,   1975.7,2,-999.0000,9,  -999.00,     1244
  49UF20090610,  P13N,  2427,  1,     19,  19378,2,20090623,1154, 23.0150, 164.9917, 5848,    100.9,  22.2935,  35.0710,2,-999.0000,9,    203.0,2,     1.59,2,     0.00,2,     0.00,2,     0.02,2,   2003.5,2,-999.0000,9,  -999.00,     1243
  49UF20090610,  P13N,  2427,  1,     18,  19377,2,20090623,1154, 23.0150, 164.9917, 5848,    126.3,  20.7659,  34.9701,2,-999.0000,9,    201.0,2,     1.92,2,     0.06,2,     0.04,2,     0.04,2,   2017.0,2,-999.0000,9,  -999.00,     1242
  49UF20090610,  P13N,  2427,  1,     17,  16023,2,20090623,1154, 23.0150, 164.9917, 5848,    151.1,  19.4862,  34.8958,2,-999.0000,9,    186.0,2,     2.76,2,     2.68,2,     0.02,2,     0.21,2,   2037.0,2,-999.0000,9,  -999.00,     1241
  49UF20090610,  P13N,  2427,  1,     16,  16022,2,20090623,1154, 23.0150, 164.9917, 5848,    202.1,  17.6123,  34.7409,2,-999.0000,9,    201.0,2,     3.69,2,     4.29,2,     0.01,2,     0.28,2,   2029.5,2,-999.0000,9,  -999.00,     1239
  49UF20090610,  P13N,  2427,  1,     15,  16021,2,20090623,1154, 23.0150, 164.9917, 5848,    252.8,  16.3367,  34.6644,2,-999.0000,9,    203.0,2,     5.71,2,     6.39,2,     0.01,2,     0.41,2,   2038.0,2,-999.0000,9,  -999.00,     1238
  49UF20090610,  P13N,  2427,  1,     14,  16020,2,20090623,1154, 23.0150, 164.9917, 5848,    302.2,  14.8588,  34.5511,2,-999.0000,9,    199.0,2,     8.39,2,     8.80,2,     0.00,2,     0.59,2,   2064.0,2,-999.0000,9,  -999.00,     1236
  49UF20090610,  P13N,  2427,  1,     12,  16018,2,20090623,1154, 23.0150, 164.9917, 5848,    403.0,  12.2194,  34.3632,2,-999.0000,9,    203.0,2,    14.96,2,    13.10,2,     0.00,2,     0.88,2,   2089.9,2,-999.0000,9,  -999.00,     1233
  49UF20090610,  P13N,  2427,  1,     13,  16019,2,20090623,1154, 23.0150, 164.9917, 5848,    403.6,  12.2027,  34.3634,2,-999.0000,9,    203.0,2,    15.04,2,    13.10,2,     0.00,2,     0.90,2,   -999.0,9,-999.0000,9,  -999.00,     1233
  49UF20090610,  P13N,  2427,  1,     11,  16017,2,20090623,1154, 23.0150, 164.9917, 5848,    504.5,   9.0421,  34.1404,2,-999.0000,9,    169.0,2,    30.99,2,    22.00,2,     0.00,2,     1.54,2,   2152.1,2,-999.0000,9,  -999.00,     1231
  49UF20090610,  P13N,  2427,  1,     10,  19375,2,20090623,1154, 23.0150, 164.9917, 5848,    606.1,   6.6345,  34.0886,2,-999.0000,9,    108.0,2,    56.82,2,    31.90,2,     0.00,2,     2.28,2,   2229.3,2,-999.0000,9,  -999.00,     1228
  49UF20090610,  P13N,  2427,  1,      9,  16015,2,20090623,1154, 23.0150, 164.9917, 5848,    706.6,   5.2962,  34.1746,2,-999.0000,9,     64.0,2,    80.87,2,    38.00,2,     0.00,2,     2.75,2,   2284.2,2,-999.0000,9,  -999.00,     1225
  49UF20090610,  P13N,  2427,  1,      8,  16014,2,20090623,1154, 23.0150, 164.9917, 5848,    808.7,   4.7689,  34.3068,2,-999.0000,9,     46.0,2,    93.27,2,    40.60,2,     0.00,2,     2.96,2,   2314.6,2,-999.0000,9,  -999.00,     1222
  49UF20090610,  P13N,  2427,  1,      7,  19374,2,20090623,1154, 23.0150, 164.9917, 5848,    908.5,   4.4050,  34.3897,2,-999.0000,9,     47.0,2,   101.21,2,    41.30,2,     0.00,2,     2.97,2,   2323.4,2,-999.0000,9,  -999.00,     1220
  49UF20090610,  P13N,  2427,  1,      6,  19373,2,20090623,1154, 23.0150, 164.9917, 5848,   1010.4,   4.0473,  34.4469,2,-999.0000,9,     55.0,2,   108.23,2,    41.30,2,     0.00,2,     2.95,2,   2330.7,2,-999.0000,9,  -999.00,     1217
  49UF20090610,  P13N,  2427,  1,      5,  16011,2,20090623,1154, 23.0150, 164.9917, 5848,   1263.4,   3.2221,  34.5170,2,-999.0000,9,     69.0,2,   124.90,2,    40.90,2,     0.00,2,     2.91,2,   2340.9,2,-999.0000,9,  -999.00,     1211
  49UF20090610,  P13N,  2427,  1,      4,  16010,2,20090623,1154, 23.0150, 164.9917, 5848,   1515.9,   2.6384,  34.5663,2,-999.0000,9,     84.0,2,   135.77,2,    40.50,2,     0.00,2,     2.86,2,   2445.6,4,-999.0000,9,  -999.00,     1205
  49UF20090610,  P13N,  2427,  1,      3,  16009,2,20090623,1154, 23.0150, 164.9917, 5848,   1767.9,   2.2584,  34.5989,2,-999.0000,9,     94.0,2,   142.33,2,    40.00,2,     0.00,2,     2.82,2,   -999.0,9,-999.0000,9,  -999.00,     1200
  49UF20090610,  P13N,  2427,  1,      2,  16008,2,20090623,1154, 23.0150, 164.9917, 5848,   1768.8,   2.2586,  34.5988,2,-999.0000,9,     95.0,2,   142.32,2,    40.10,2,     0.00,2,     2.82,2,   2351.7,6,-999.0000,9,  -999.00,     1159
  49UF20090610,  P13N,  2427,  1,      1,  16007,2,20090623,1154, 23.0150, 164.9917, 5848,   2024.4,   2.0115,  34.6196,2,-999.0000,9,    103.0,2,   146.85,2,    39.80,2,     0.00,2,     2.77,2,   2350.0,2,-999.0000,9,  -999.00,     1154
  49UF20090610,  P13N,  2430,  1,     99,     99,2,20090624,0723, 19.9925, 164.9887, 5336,      0.0,  29.9021,  35.3388,2,-999.0000,9,    199.0,2,     0.87,2,     0.00,2,     0.00,2,     0.01,2,   -999.0,9,-999.0000,9,  -999.00,      803
  49UF20090610,  P13N,  2430,  1,     23,  19380,2,20090624,0723, 19.9925, 164.9887, 5336,     10.9,  29.5501,  35.3312,2,  35.3312,2,    197.0,2,     0.91,2,     0.00,2,     0.00,2,     0.00,2,   1969.3,2,   8.1116,2,    25.00,      821
  49UF20090610,  P13N,  2430,  1,     22,  16028,2,20090624,0723, 19.9925, 164.9887, 5336,     26.2,  27.7977,  35.2928,2,-999.0000,9,    210.0,2,     0.91,2,     0.00,2,     0.00,2,     0.00,2,   1972.2,2,   8.1126,2,    25.00,      819
  49UF20090610,  P13N,  2430,  1,     21,  16027,2,20090624,0723, 19.9925, 164.9887, 5336,     50.7,  26.4799,  35.2886,2,-999.0000,9,    236.0,4,     0.96,2,     0.00,2,     0.00,2,     0.00,2,   1972.8,2,   8.1090,2,    25.00,      816
  49UF20090610,  P13N,  2430,  1,     20,  16026,2,20090624,0723, 19.9925, 164.9887, 5336,     76.9,  25.1382,  35.2666,2,-999.0000,9,    215.0,2,     1.00,2,     0.00,2,     0.00,2,     0.00,2,   1975.0,2,   8.0988,2,    25.00,      815
  49UF20090610,  P13N,  2430,  1,     19,  19378,2,20090624,0723, 19.9925, 164.9887, 5336,    102.1,  24.1629,  35.2367,2,  35.2408,2,    206.0,2,     1.09,2,     0.00,2,     0.00,2,     0.00,2,   1993.6,2,   8.0743,2,    25.00,      813
  49UF20090610,  P13N,  2430,  1,     18,  19377,2,20090624,0723, 19.9925, 164.9887, 5336,    125.6,  22.4004,  35.1092,2,-999.0000,9,    198.0,2,     1.51,2,    -0.01,2,     0.01,2,     0.03,2,   2027.0,2,   8.0305,2,    25.00,      812
  49UF20090610,  P13N,  2430,  1,     17,  16023,2,20090624,0723, 19.9925, 164.9887, 5336,    151.4,  20.5379,  34.9636,2,-999.0000,9,    186.0,2,     2.17,2,     1.12,2,     0.08,2,     0.13,2,   2033.5,2,   7.9779,2,    25.00,      811
  49UF20090610,  P13N,  2430,  1,     16,  16022,2,20090624,0723, 19.9925, 164.9887, 5336,    202.1,  17.9361,  34.7804,2,  34.7874,4,    186.0,2,     3.91,2,     4.79,2,     0.01,2,     0.33,2,   2047.8,2,   7.9347,2,    25.00,      809
  49UF20090610,  P13N,  2430,  1,     15,  16021,2,20090624,0723, 19.9925, 164.9887, 5336,    252.1,  15.4884,  34.5923,2,-999.0000,9,    191.0,2,     6.78,2,     8.00,2,     0.00,2,     0.55,2,   2061.2,2,   7.8878,2,    25.00,      807
  49UF20090610,  P13N,  2430,  1,     14,  16020,2,20090624,0723, 19.9925, 164.9887, 5336,    301.7,  13.8392,  34.4573,2,  34.4544,2,    196.0,2,    10.01,2,    10.50,2,     0.00,2,     0.72,2,   -999.0,9,-999.0000,9,  -999.00,      805
  49UF20090610,  P13N,  2430,  1,     13,  16019,2,20090624,0723, 19.9925, 164.9887, 5336,    301.9,  13.8510,  34.4560,2,  34.4530,2,    196.0,2,     9.99,2,    10.40,2,     0.00,2,     0.71,2,   2075.4,2,   7.8450,2,    25.00,      805
  49UF20090610,  P13N,  2430,  1,     12,  16018,2,20090624,0723, 19.9925, 164.9887, 5336,    401.6,  10.3587,  34.2113,2,  34.2148,2,    180.0,2,    22.13,2,    17.90,2,     0.00,2,     1.25,2,   2125.4,2,   7.7662,2,    25.00,      802
  49UF20090610,  P13N,  2430,  1,     11,  16017,2,20090624,0723, 19.9925, 164.9887, 5336,    504.1,   7.1408,  34.1060,2,  34.1058,2,    112.0,2,    50.87,2,    30.30,2,     0.00,2,     2.17,2,   2218.0,2,   7.5300,2,    25.00,      759
  49UF20090610,  P13N,  2430,  1,     10,  19375,2,20090624,0723, 19.9925, 164.9887, 5336,    605.1,   5.9497,  34.1779,2,  34.1780,2,     69.0,2,    70.24,2,    36.30,2,     0.00,2,     2.63,2,   2269.5,2,   7.4447,2,    25.00,      756
  49UF20090610,  P13N,  2430,  1,      9,  16015,3,20090624,0723, 19.9925, 164.9887, 5336,    705.4,   5.1159,  34.2985,2,  34.3007,2,     51.0,2,    86.70,2,    39.60,2,     0.00,2,     2.87,2,   2303.4,2,   7.4461,2,    25.00,      754
  49UF20090610,  P13N,  2430,  1,      8,  16014,2,20090624,0723, 19.9925, 164.9887, 5336,    806.6,   4.7585,  34.4117,2,  34.4099,2,     55.0,2,    93.21,2,    39.90,2,     0.00,2,     2.88,2,   2310.2,2,   7.4657,3,    25.00,      751
  49UF20090610,  P13N,  2430,  1,      7,  19374,2,20090624,0723, 19.9925, 164.9887, 5336,    909.7,   4.3724,  34.4707,2,  34.4691,2,     63.0,2,   100.33,2,    40.20,2,     0.00,2,     2.88,2,   2313.3,2,   7.4502,2,    25.00,      748
  49UF20090610,  P13N,  2430,  1,      6,  19373,2,20090624,0723, 19.9925, 164.9887, 5336,   1009.9,   4.0690,  34.4992,2,  34.4981,2,     69.0,2,   106.04,2,    40.20,2,     0.00,2,     2.87,2,   2323.0,2,   7.4600,2,    25.00,      745
  49UF20090610,  P13N,  2430,  1,      5,  16011,2,20090624,0723, 19.9925, 164.9887, 5336,   1261.6,   3.3613,  34.5499,2,  34.5492,2,     79.0,2,   119.51,2,    40.30,2,     0.00,2,     2.87,2,   2333.0,2,   7.4734,2,    25.00,      740
  49UF20090610,  P13N,  2430,  1,      4,  16010,2,20090624,0723, 19.9925, 164.9887, 5336,   1515.7,   2.7883,  34.5788,2,  34.5769,2,     89.0,2,   130.85,2,    40.10,2,     0.00,2,     2.84,2,   -999.0,9,-999.0000,9,  -999.00,      734
  49UF20090610,  P13N,  2430,  1,      3,  16009,2,20090624,0723, 19.9925, 164.9887, 5336,   1516.3,   2.7903,  34.5787,2,  34.5777,2,     87.0,2,   130.84,2,    40.20,2,     0.00,2,     2.84,2,   2343.5,2,   7.4869,2,    25.00,      734
  49UF20090610,  P13N,  2430,  1,      2,  16008,2,20090624,0723, 19.9925, 164.9887, 5336,   1769.1,   2.4121,  34.5979,2,  34.5973,2,     93.0,2,   138.35,2,    39.80,2,     0.00,2,     2.82,2,   2346.0,6,   7.5030,2,    25.00,      728
  49UF20090610,  P13N,  2430,  1,      1,  16007,2,20090624,0723, 19.9925, 164.9887, 5336,   2028.8,   2.1357,  34.6195,2,  34.6189,2,    102.0,2,   143.32,2,    39.40,2,     0.00,2,     2.78,2,   2348.9,2,   7.5096,6,    25.00,      723
  49UF20090610,  P13N,  2432,  1,     99,     99,2,20090624,1931, 18.0023, 165.0075, 5428,      0.0,  29.7332,  35.2926,2,-999.0000,9,    197.0,2,     0.93,2,     0.00,2,     0.00,2,     0.04,2,   -999.0,9,-999.0000,9,  -999.00,     2007
  49UF20090610,  P13N,  2432,  1,     23,  19380,2,20090624,1931, 18.0023, 165.0075, 5428,     10.9,  29.7349,  35.2928,2,-999.0000,9,    197.0,2,     0.93,2,     0.00,2,     0.00,2,     0.04,2,   -999.0,9,-999.0000,9,  -999.00,     2024
  49UF20090610,  P13N,  2432,  1,     22,  16028,2,20090624,1931, 18.0023, 165.0075, 5428,     26.0,  29.6591,  35.3017,2,-999.0000,9,    197.0,2,     0.88,2,     0.00,2,     0.00,2,     0.04,2,   -999.0,9,-999.0000,9,  -999.00,     2023
  49UF20090610,  P13N,  2432,  1,     21,  16027,2,20090624,1931, 18.0023, 165.0075, 5428,     51.1,  27.8117,  35.2515,2,-999.0000,9,    213.0,2,     0.60,2,     0.00,2,     0.00,2,     0.02,2,   -999.0,9,-999.0000,9,  -999.00,     2019
  49UF20090610,  P13N,  2432,  1,     20,  16026,2,20090624,1931, 18.0023, 165.0075, 5428,     76.1,  26.9972,  35.2490,2,-999.0000,9,    210.0,2,     0.78,2,     0.00,2,     0.00,2,     0.01,2,   -999.0,9,-999.0000,9,  -999.00,     2018
  49UF20090610,  P13N,  2432,  1,     19,  19378,2,20090624,1931, 18.0023, 165.0075, 5428,    101.6,  26.1090,  35.2844,2,-999.0000,9,    205.0,2,     0.92,2,     0.00,2,     0.00,2,     0.01,2,   -999.0,9,-999.0000,9,  -999.00,     2016
  49UF20090610,  P13N,  2432,  1,     18,  19377,2,20090624,1931, 18.0023, 165.0075, 5428,    126.2,  25.0394,  35.2614,2,-999.0000,9,    200.0,2,     1.14,2,    -0.01,2,     0.01,2,     0.02,2,   -999.0,9,-999.0000,9,  -999.00,     2015
  49UF20090610,  P13N,  2432,  1,     17,  16023,2,20090624,1931, 18.0023, 165.0075, 5428,    151.6,  23.1913,  35.1441,2,-999.0000,9,    192.0,2,     1.48,2,     0.21,2,     0.19,2,     0.05,2,   -999.0,9,-999.0000,9,  -999.00,     2014
  49UF20090610,  P13N,  2432,  1,     16,  16022,2,20090624,1931, 18.0023, 165.0075, 5428,    201.8,  18.9835,  34.8434,2,-999.0000,9,    191.0,2,     2.92,2,     2.69,2,     0.01,2,     0.21,2,   -999.0,9,-999.0000,9,  -999.00,     2011
  49UF20090610,  P13N,  2432,  1,     14,  16020,2,20090624,1931, 18.0023, 165.0075, 5428,    252.1,  16.8450,  34.7040,2,-999.0000,9,    193.0,2,     5.08,2,     6.30,2,     0.00,2,     0.41,2,   -999.0,9,-999.0000,9,  -999.00,     2009
  49UF20090610,  P13N,  2432,  1,     15,  16021,2,20090624,1931, 18.0023, 165.0075, 5428,    252.3,  16.8462,  34.7045,2,-999.0000,9,    193.0,2,     5.07,2,     6.30,2,     0.00,2,     0.42,2,   -999.0,9,-999.0000,9,  -999.00,     2010
  49UF20090610,  P13N,  2432,  1,     13,  16019,2,20090624,1931, 18.0023, 165.0075, 5428,    302.4,  15.0109,  34.5510,2,-999.0000,9,    193.0,2,     8.00,2,     8.90,2,     0.00,2,     0.61,2,   -999.0,9,-999.0000,9,  -999.00,     2008
  49UF20090610,  P13N,  2432,  1,     12,  16018,2,20090624,1931, 18.0023, 165.0075, 5428,    403.9,  10.4811,  34.2444,2,-999.0000,9,    130.0,2,    24.86,2,    22.30,2,     0.00,2,     1.65,2,   -999.0,9,-999.0000,9,  -999.00,     2005
  49UF20090610,  P13N,  2432,  1,     11,  16017,2,20090624,1931, 18.0023, 165.0075, 5428,    504.6,   7.9497,  34.2110,2,-999.0000,9,     89.0,2,    45.53,2,    31.00,2,     0.00,2,     2.27,2,   -999.0,9,-999.0000,9,  -999.00,     2002
  49UF20090610,  P13N,  2432,  1,     10,  19375,2,20090624,1931, 18.0023, 165.0075, 5428,    605.2,   6.2597,  34.2276,2,-999.0000,9,     66.0,2,    66.68,2,    36.30,2,     0.00,2,     2.64,2,   -999.0,9,-999.0000,9,  -999.00,     2000
  49UF20090610,  P13N,  2432,  1,      9,  16015,2,20090624,1931, 18.0023, 165.0075, 5428,    706.6,   5.7213,  34.3820,2,-999.0000,9,     58.0,2,    76.72,2,    38.10,2,     0.00,2,     2.78,2,   -999.0,9,-999.0000,9,  -999.00,     1958
  49UF20090610,  P13N,  2432,  1,      8,  16014,2,20090624,1931, 18.0023, 165.0075, 5428,    806.7,   5.3204,  34.4410,2,-999.0000,9,     63.0,2,    82.77,2,    39.00,2,     0.00,2,     2.81,2,   -999.0,9,-999.0000,9,  -999.00,     1955
  49UF20090610,  P13N,  2432,  1,      7,  19374,2,20090624,1931, 18.0023, 165.0075, 5428,    908.6,   4.8071,  34.4812,2,-999.0000,9,     67.0,2,    91.62,2,    39.10,2,     0.00,2,     2.83,2,   -999.0,9,-999.0000,9,  -999.00,     1953
  49UF20090610,  P13N,  2432,  1,      6,  19373,2,20090624,1931, 18.0023, 165.0075, 5428,   1008.6,   4.3283,  34.5153,2,-999.0000,9,     71.0,2,    99.94,2,    39.80,2,     0.00,2,     2.84,2,   -999.0,9,-999.0000,9,  -999.00,     1951
  49UF20090610,  P13N,  2432,  1,      4,  16010,2,20090624,1931, 18.0023, 165.0075, 5428,   1262.5,   3.4344,  34.5498,2,-999.0000,9,     82.0,2,   117.35,2,    39.90,2,     0.00,2,     2.84,2,   -999.0,9,-999.0000,9,  -999.00,     1946
  49UF20090610,  P13N,  2432,  1,      5,  16011,2,20090624,1931, 18.0023, 165.0075, 5428,   1263.6,   3.4321,  34.5502,2,-999.0000,9,     82.0,2,   117.34,2,    40.00,2,     0.00,2,     2.83,2,   -999.0,9,-999.0000,9,  -999.00,     1946
  49UF20090610,  P13N,  2432,  1,      3,  16009,2,20090624,1931, 18.0023, 165.0075, 5428,   1515.2,   2.8476,  34.5777,2,-999.0000,9,     90.0,2,   128.73,2,    39.70,2,     0.00,2,     2.82,2,   -999.0,9,-999.0000,9,  -999.00,     1940
  49UF20090610,  P13N,  2432,  1,      2,  16008,2,20090624,1931, 18.0023, 165.0075, 5428,   1768.2,   2.4153,  34.6039,2,-999.0000,9,     94.0,2,   137.67,2,    39.90,2,     0.00,2,     2.82,2,   -999.0,9,-999.0000,9,  -999.00,     1936
  49UF20090610,  P13N,  2432,  1,      1,  16007,2,20090624,1931, 18.0023, 165.0075, 5428,   2025.7,   2.0990,  34.6237,2,-999.0000,9,    105.0,2,   143.93,2,    39.40,2,     0.00,2,     2.77,2,   -999.0,9,-999.0000,9,  -999.00,     1931