BOTTLE,20190917PRINUNIVRMK
EXPOCODE,SECT_ID,STNNBR,CASTNO,SAMPNO,BTLNBR,BTLNBR_FLAG_W,DATE,TIME,LATITUDE,LONGITUDE,DEPTH,CTDPRS,CTDTMP,CTDSAL,CTDSAL_FLAG_W,SALNTY,SALNTY_FLAG_W,OXYGEN,OXYGEN_FLAG_W,SILCAT,SILCAT_FLAG_W,NITRAT,NITRAT_FLAG_W,NITRIT,NITRIT_FLAG_W,PHSPHT,PHSPHT_FLAG_W,TCARBN,TCARBN_FLAG_W,PH_TOT,PH_TOT_FLAG_W,PH_TMP,BTL_TIME
,,,,,,,,,,,METERS,DBAR,ITS-90,PSS-78,,PSS-78,,UMOL/KG,,UMOL/KG,,UMOL/KG,,UMOL/KG,,UMOL/KG,,UMOL/KG,,,,DEG C,
  49UF20090610,  P13N,  2468,  1,     99,     99,2,20090801,0453,  8.0227, 137.0177, 3174,      0.0,  28.7537,  34.4244,2,-999.0000,9,    197.0,2,     1.11,2,     0.00,2,     0.00,2,     0.06,2,   -999.0,9,-999.0000,9,  -999.00,      532
  49UF20090610,  P13N,  2468,  1,     23,  19380,2,20090801,0453,  8.0227, 137.0177, 3174,      9.7,  28.7474,  34.4242,2,-999.0000,9,    198.0,2,     1.11,2,     0.00,2,     0.00,2,     0.05,2,   -999.0,9,-999.0000,9,  -999.00,      550
  49UF20090610,  P13N,  2468,  1,     22,  16028,2,20090801,0453,  8.0227, 137.0177, 3174,     25.6,  28.6629,  34.4306,2,-999.0000,9,    197.0,2,     1.11,2,     0.00,2,     0.00,2,     0.05,2,   -999.0,9,-999.0000,9,  -999.00,      549
  49UF20090610,  P13N,  2468,  1,     21,  16027,2,20090801,0453,  8.0227, 137.0177, 3174,     51.3,  28.4118,  34.4664,2,-999.0000,9,    196.0,2,     1.15,2,     0.00,2,     0.00,2,     0.07,2,   -999.0,9,-999.0000,9,  -999.00,      547
  49UF20090610,  P13N,  2468,  1,     20,  16026,2,20090801,0453,  8.0227, 137.0177, 3174,     76.5,  27.7267,  34.8604,2,-999.0000,9,    200.0,2,     1.15,2,     0.00,2,     0.00,2,     0.10,2,   -999.0,9,-999.0000,9,  -999.00,      546
  49UF20090610,  P13N,  2468,  1,     19,  19378,2,20090801,0453,  8.0227, 137.0177, 3174,    101.3,  25.9574,  34.9090,2,-999.0000,9,    181.0,2,     2.13,2,     1.47,2,     0.13,2,     0.22,2,   -999.0,9,-999.0000,9,  -999.00,      542
  49UF20090610,  P13N,  2468,  1,     17,  16023,2,20090801,0453,  8.0227, 137.0177, 3174,    125.0,  22.1180,  34.8670,2,-999.0000,9,    166.0,2,     3.62,2,     4.25,2,     0.05,2,     0.41,2,   -999.0,9,-999.0000,9,  -999.00,      541
  49UF20090610,  P13N,  2468,  1,     18,  19377,2,20090801,0453,  8.0227, 137.0177, 3174,    125.5,  22.0300,  34.8766,2,-999.0000,9,    165.0,2,     3.72,2,     4.35,2,     0.05,2,     0.42,2,   -999.0,9,-999.0000,9,  -999.00,      541
  49UF20090610,  P13N,  2468,  1,     16,  16022,2,20090801,0453,  8.0227, 137.0177, 3174,    152.2,  18.7905,  34.7812,2,-999.0000,9,    164.0,2,     5.47,2,     6.88,2,     0.02,2,     0.57,2,   -999.0,9,-999.0000,9,  -999.00,      540
  49UF20090610,  P13N,  2468,  1,     15,  16021,2,20090801,0453,  8.0227, 137.0177, 3174,    200.6,  13.4332,  34.5320,2,-999.0000,9,    114.0,2,    19.76,2,    20.10,2,     0.00,2,     1.47,2,   -999.0,9,-999.0000,9,  -999.00,      538
  49UF20090610,  P13N,  2468,  1,     14,  16020,2,20090801,0453,  8.0227, 137.0177, 3174,    252.1,  10.3370,  34.4922,2,-999.0000,9,     83.0,2,    31.95,2,    28.40,2,     0.00,2,     2.03,2,   -999.0,9,-999.0000,9,  -999.00,      536
  49UF20090610,  P13N,  2468,  1,     13,  16019,2,20090801,0453,  8.0227, 137.0177, 3174,    303.1,   8.7613,  34.4610,2,-999.0000,9,     85.0,2,    41.38,2,    31.10,2,     0.00,2,     2.22,2,   -999.0,9,-999.0000,9,  -999.00,      534
  49UF20090610,  P13N,  2468,  1,     12,  16018,2,20090801,0453,  8.0227, 137.0177, 3174,    402.1,   7.6006,  34.4776,2,-999.0000,9,     87.0,2,    48.92,2,    33.30,2,     0.00,2,     2.38,2,   -999.0,9,-999.0000,9,  -999.00,      532
  49UF20090610,  P13N,  2468,  1,     11,  16017,2,20090801,0453,  8.0227, 137.0177, 3174,    501.7,   6.8676,  34.5120,2,-999.0000,9,     92.0,2,    52.78,2,    34.70,2,     0.00,2,     2.45,2,   -999.0,9,-999.0000,9,  -999.00,      529
  49UF20090610,  P13N,  2468,  1,     10,  19375,2,20090801,0453,  8.0227, 137.0177, 3174,    604.3,   6.3904,  34.5171,2,-999.0000,9,     88.0,2,    58.84,2,    36.00,2,     0.00,2,     2.54,2,   -999.0,9,-999.0000,9,  -999.00,      526
  49UF20090610,  P13N,  2468,  1,      9,  16015,2,20090801,0453,  8.0227, 137.0177, 3174,    705.0,   6.0193,  34.5178,2,-999.0000,9,     92.0,2,    63.50,2,    36.40,2,     0.00,2,     2.57,2,   -999.0,9,-999.0000,9,  -999.00,      523
  49UF20090610,  P13N,  2468,  1,      7,  19374,2,20090801,0453,  8.0227, 137.0177, 3174,    806.4,   5.5156,  34.5246,2,-999.0000,9,     89.0,2,    72.16,2,    37.40,2,     0.00,2,     2.66,2,   -999.0,9,-999.0000,9,  -999.00,      520
  49UF20090610,  P13N,  2468,  1,      8,  16014,2,20090801,0453,  8.0227, 137.0177, 3174,    807.5,   5.5124,  34.5246,2,-999.0000,9,     88.0,2,    71.99,2,    37.10,2,     0.00,2,     2.65,2,   -999.0,9,-999.0000,9,  -999.00,      520
  49UF20090610,  P13N,  2468,  1,      6,  19373,2,20090801,0453,  8.0227, 137.0177, 3174,    907.7,   4.8867,  34.5404,2,-999.0000,9,     86.0,2,    84.18,2,    38.20,2,     0.00,2,     2.73,2,   -999.0,9,-999.0000,9,  -999.00,      518
  49UF20090610,  P13N,  2468,  1,      5,  16011,2,20090801,0453,  8.0227, 137.0177, 3174,   1007.1,   4.3203,  34.5530,2,-999.0000,9,     89.0,2,    95.09,2,    38.50,2,     0.00,2,     2.76,2,   -999.0,9,-999.0000,9,  -999.00,      515
  49UF20090610,  P13N,  2468,  1,      4,  16010,2,20090801,0453,  8.0227, 137.0177, 3174,   1262.9,   3.4363,  34.5790,2,-999.0000,9,     95.0,2,   112.05,2,    39.00,2,     0.00,2,     2.78,2,   -999.0,9,-999.0000,9,  -999.00,      509
  49UF20090610,  P13N,  2468,  1,      3,  16009,2,20090801,0453,  8.0227, 137.0177, 3174,   1510.2,   2.7504,  34.6076,2,-999.0000,9,    104.0,2,   125.47,2,    38.80,2,     0.00,2,     2.76,2,   -999.0,9,-999.0000,9,  -999.00,      504
  49UF20090610,  P13N,  2468,  1,      2,  16008,2,20090801,0453,  8.0227, 137.0177, 3174,   1765.2,   2.4396,  34.6216,2,-999.0000,9,    111.0,2,   131.16,2,    38.50,2,     0.00,2,     2.72,2,   -999.0,9,-999.0000,9,  -999.00,      458
  49UF20090610,  P13N,  2468,  1,      1,  16007,2,20090801,0453,  8.0227, 137.0177, 3174,   2021.9,   2.1385,  34.6381,2,-999.0000,9,    119.0,2,   135.74,2,    38.20,2,     0.00,2,     2.69,2,   -999.0,9,-999.0000,9,  -999.00,      453
  49UF20090610,  P13N,  2469,  1,     99,     99,2,20090801,1128,  9.0032, 137.0103, 3383,      0.0,  28.8733,  34.4012,2,-999.0000,9,    201.0,2,     0.98,2,     0.00,2,     0.00,2,     0.04,2,   -999.0,9,-999.0000,9,  -999.00,     1202
  49UF20090610,  P13N,  2469,  1,     23,  19380,2,20090801,1128,  9.0032, 137.0103, 3383,     10.6,  28.8796,  34.4019,2,-999.0000,9,    199.0,2,     1.03,2,     0.10,2,     0.00,2,     0.04,2,   -999.0,9,-999.0000,9,  -999.00,     1229
  49UF20090610,  P13N,  2469,  1,     22,  16028,2,20090801,1128,  9.0032, 137.0103, 3383,     25.3,  28.8854,  34.4005,2,-999.0000,9,    198.0,2,     1.03,2,     0.10,2,     0.00,2,     0.04,2,   -999.0,9,-999.0000,9,  -999.00,     1222
  49UF20090610,  P13N,  2469,  1,     21,  16027,2,20090801,1128,  9.0032, 137.0103, 3383,     51.5,  28.8076,  34.4502,2,-999.0000,9,    199.0,2,     0.98,2,     0.10,2,     0.00,2,     0.04,2,   -999.0,9,-999.0000,9,  -999.00,     1220
  49UF20090610,  P13N,  2469,  1,     20,  16026,2,20090801,1128,  9.0032, 137.0103, 3383,     76.8,  27.4294,  35.0118,2,-999.0000,9,    202.0,2,     1.03,2,     0.10,2,     0.00,2,     0.08,2,   -999.0,9,-999.0000,9,  -999.00,     1219
  49UF20090610,  P13N,  2469,  1,     18,  19377,2,20090801,1128,  9.0032, 137.0103, 3383,    101.3,  26.8720,  35.0653,2,-999.0000,9,    197.0,2,     1.07,2,     0.10,2,     0.00,2,     0.09,2,   -999.0,9,-999.0000,9,  -999.00,     1215
  49UF20090610,  P13N,  2469,  1,     19,  19378,2,20090801,1128,  9.0032, 137.0103, 3383,    102.4,  26.7802,  35.0618,2,-999.0000,9,    202.0,2,     1.14,2,     0.10,2,     0.00,2,     0.10,2,   -999.0,9,-999.0000,9,  -999.00,     1215
  49UF20090610,  P13N,  2469,  1,     17,  16023,2,20090801,1128,  9.0032, 137.0103, 3383,    126.0,  25.2266,  34.9854,2,-999.0000,9,    185.0,2,     1.72,2,     0.86,2,     0.14,2,     0.18,2,   -999.0,9,-999.0000,9,  -999.00,     1214
  49UF20090610,  P13N,  2469,  1,     16,  16022,2,20090801,1128,  9.0032, 137.0103, 3383,    151.2,  22.8889,  34.9355,2,-999.0000,9,    171.0,2,     2.79,2,     2.82,2,     0.08,2,     0.31,2,   -999.0,9,-999.0000,9,  -999.00,     1213
  49UF20090610,  P13N,  2469,  1,     15,  16021,2,20090801,1128,  9.0032, 137.0103, 3383,    201.8,  15.4249,  34.5850,2,-999.0000,9,    149.0,2,    11.77,2,    12.80,2,     0.00,2,     0.95,2,   -999.0,9,-999.0000,9,  -999.00,     1211
  49UF20090610,  P13N,  2469,  1,     14,  16020,2,20090801,1128,  9.0032, 137.0103, 3383,    252.4,  12.2935,  34.4894,2,-999.0000,9,    109.0,2,    22.88,2,    22.10,2,     0.00,2,     1.61,2,   -999.0,9,-999.0000,9,  -999.00,     1209
  49UF20090610,  P13N,  2469,  1,     13,  16019,2,20090801,1128,  9.0032, 137.0103, 3383,    301.9,  10.3158,  34.4563,2,-999.0000,9,     91.0,2,    31.82,2,    27.60,2,     0.00,2,     1.97,2,   -999.0,9,-999.0000,9,  -999.00,     1208
  49UF20090610,  P13N,  2469,  1,     12,  16018,2,20090801,1128,  9.0032, 137.0103, 3383,    402.4,   8.1313,  34.4735,2,-999.0000,9,     65.0,2,    46.26,2,    33.90,2,     0.00,2,     2.44,2,   -999.0,9,-999.0000,9,  -999.00,     1205
  49UF20090610,  P13N,  2469,  1,     11,  16017,2,20090801,1128,  9.0032, 137.0103, 3383,    502.0,   6.8581,  34.4964,2,-999.0000,9,     67.0,2,    57.35,2,    36.40,2,     0.00,2,     2.61,2,   -999.0,9,-999.0000,9,  -999.00,     1203
  49UF20090610,  P13N,  2469,  1,     10,  19375,2,20090801,1128,  9.0032, 137.0103, 3383,    605.5,   6.1447,  34.5058,2,-999.0000,9,     91.0,2,    61.93,2,    35.70,2,     0.00,2,     2.55,2,   -999.0,9,-999.0000,9,  -999.00,     1200
  49UF20090610,  P13N,  2469,  1,      8,  16014,2,20090801,1128,  9.0032, 137.0103, 3383,    703.4,   5.6797,  34.5199,2,-999.0000,9,     94.0,2,    67.77,2,    36.40,2,     0.00,2,     2.59,2,   -999.0,9,-999.0000,9,  -999.00,     1157
  49UF20090610,  P13N,  2469,  1,      9,  16015,2,20090801,1128,  9.0032, 137.0103, 3383,    704.2,   5.6812,  34.5199,2,-999.0000,9,     93.0,2,    67.80,2,    36.50,2,     0.00,2,     2.58,2,   -999.0,9,-999.0000,9,  -999.00,     1158
  49UF20090610,  P13N,  2469,  1,      7,  19374,2,20090801,1128,  9.0032, 137.0103, 3383,    806.8,   5.2786,  34.5267,2,-999.0000,9,     88.0,2,    76.37,2,    37.40,2,     0.00,2,     2.67,2,   -999.0,9,-999.0000,9,  -999.00,     1155
  49UF20090610,  P13N,  2469,  1,      6,  19373,2,20090801,1128,  9.0032, 137.0103, 3383,    907.3,   4.8307,  34.5382,2,-999.0000,9,     87.0,2,    84.83,2,    38.10,2,     0.00,2,     2.72,2,   -999.0,9,-999.0000,9,  -999.00,     1152
  49UF20090610,  P13N,  2469,  1,      5,  16011,2,20090801,1128,  9.0032, 137.0103, 3383,   1009.1,   4.3698,  34.5523,2,-999.0000,9,     89.0,2,    93.86,2,    38.60,2,     0.00,2,     2.76,2,   -999.0,9,-999.0000,9,  -999.00,     1149
  49UF20090610,  P13N,  2469,  1,      4,  16010,2,20090801,1128,  9.0032, 137.0103, 3383,   1261.0,   3.5005,  34.5768,2,-999.0000,9,     95.0,2,   110.55,2,    38.90,2,     0.00,2,     2.77,2,   -999.0,9,-999.0000,9,  -999.00,     1144
  49UF20090610,  P13N,  2469,  1,      3,  16009,2,20090801,1128,  9.0032, 137.0103, 3383,   1513.4,   2.9475,  34.5984,2,-999.0000,9,    102.0,2,   121.60,2,    39.00,2,     0.00,2,     2.76,2,   -999.0,9,-999.0000,9,  -999.00,     1139
  49UF20090610,  P13N,  2469,  1,      2,  16008,2,20090801,1128,  9.0032, 137.0103, 3383,   1769.7,   2.3720,  34.6247,2,-999.0000,9,    113.0,2,   131.44,2,    38.40,2,     0.00,2,     2.72,2,   -999.0,9,-999.0000,9,  -999.00,     1133
  49UF20090610,  P13N,  2469,  1,      1,  16007,2,20090801,1128,  9.0032, 137.0103, 3383,   2027.9,   2.1139,  34.6383,2,-999.0000,9,    122.0,2,   136.00,2,    38.30,2,     0.00,2,     2.68,2,   -999.0,9,-999.0000,9,  -999.00,     1128
  49UF20090610,  P13N,  2470,  1,     99,     99,2,20090801,1836, 10.0247, 137.0048, 4704,      0.0,  28.8195,  34.5472,2,-999.0000,9,    200.0,2,     1.00,2,     0.00,2,     0.00,2,     0.05,2,   -999.0,9,-999.0000,9,  -999.00,     1914
  49UF20090610,  P13N,  2470,  1,     23,  19380,2,20090801,1836, 10.0247, 137.0048, 4704,      9.9,  28.8261,  34.5473,2,  34.5458,2,    198.0,2,     1.00,2,     0.00,2,     0.00,2,     0.05,2,   1932.1,2,   8.1204,2,    25.00,     1942
  49UF20090610,  P13N,  2470,  1,     22,  16028,2,20090801,1836, 10.0247, 137.0048, 4704,     26.6,  28.8299,  34.5480,2,-999.0000,9,    198.0,2,     1.00,2,     0.00,2,     0.00,2,     0.06,2,   1931.0,2,   8.1200,2,    25.00,     1934
  49UF20090610,  P13N,  2470,  1,     21,  16027,2,20090801,1836, 10.0247, 137.0048, 4704,     50.6,  28.6580,  34.6619,2,-999.0000,9,    200.0,2,     0.95,2,     0.00,2,     0.00,2,     0.06,2,   1939.7,2,   8.1174,2,    25.00,     1932
  49UF20090610,  P13N,  2470,  1,     20,  16026,2,20090801,1836, 10.0247, 137.0048, 4704,     77.1,  27.3368,  35.1187,2,-999.0000,9,    204.0,2,     0.95,2,     0.00,2,     0.00,2,     0.08,2,   1974.4,2,   8.0994,2,    25.00,     1930
  49UF20090610,  P13N,  2470,  1,     18,  19377,2,20090801,1836, 10.0247, 137.0048, 4704,     97.5,  26.6211,  35.0691,2,  35.0716,2,    195.0,2,     1.08,2,    -0.01,2,     0.01,2,     0.09,2,   1985.7,2,   8.0826,2,    25.00,     1926
  49UF20090610,  P13N,  2470,  1,     19,  19378,2,20090801,1836, 10.0247, 137.0048, 4704,     98.0,  26.5372,  35.0718,2,  35.0716,4,    195.0,2,     1.15,2,     0.09,2,     0.01,2,     0.10,2,   -999.0,9,-999.0000,9,  -999.00,     1926
  49UF20090610,  P13N,  2470,  1,     17,  16023,2,20090801,1836, 10.0247, 137.0048, 4704,    126.1,  25.1278,  35.0464,2,-999.0000,9,    184.0,2,     1.32,2,     0.45,2,     0.15,2,     0.15,2,   2009.0,2,   8.0411,2,    25.00,     1925
  49UF20090610,  P13N,  2470,  1,     16,  16022,2,20090801,1836, 10.0247, 137.0048, 4704,    151.1,  21.6630,  34.9265,2,-999.0000,9,    169.0,2,     3.31,2,     3.88,2,     0.02,2,     0.36,2,   2047.3,2,   7.9572,2,    25.00,     1923
  49UF20090610,  P13N,  2470,  1,     15,  16021,2,20090801,1836, 10.0247, 137.0048, 4704,    202.8,  15.6527,  34.5730,2,  34.5740,2,    168.0,2,     8.56,2,    10.10,2,     0.00,2,     0.74,2,   2088.8,2,   7.8468,2,    25.00,     1922
  49UF20090610,  P13N,  2470,  1,     14,  16020,2,20090801,1836, 10.0247, 137.0048, 4704,    253.5,  10.9306,  34.3261,2,-999.0000,9,    134.0,2,    24.36,2,    21.10,2,     0.00,2,     1.53,2,   2157.5,2,   7.6737,2,    25.00,     1920
  49UF20090610,  P13N,  2470,  1,     13,  16019,2,20090801,1836, 10.0247, 137.0048, 4704,    303.5,   9.4311,  34.4047,2,  34.4022,2,     83.0,2,    35.73,2,    29.40,2,     0.00,2,     2.12,2,   2218.3,2,   7.5508,2,    25.00,     1919
  49UF20090610,  P13N,  2470,  1,     12,  16018,2,20090801,1836, 10.0247, 137.0048, 4704,    403.6,   7.6869,  34.5116,2,  34.5101,2,     62.0,2,    48.68,2,    35.30,2,     0.00,2,     2.51,2,   2259.4,2,   7.5005,2,    25.00,     1916
  49UF20090610,  P13N,  2470,  1,     11,  16017,2,20090801,1836, 10.0247, 137.0048, 4704,    504.9,   6.7285,  34.5039,2,  34.5045,2,     69.0,2,    57.69,2,    36.40,2,     0.00,2,     2.60,2,   2271.5,2,   7.4932,2,    25.00,     1913
  49UF20090610,  P13N,  2470,  1,     10,  19375,2,20090801,1836, 10.0247, 137.0048, 4704,    604.2,   6.0662,  34.5106,2,  34.5104,4,     85.0,2,    64.69,2,    37.00,2,     0.00,2,     2.63,2,   -999.0,9,-999.0000,9,  -999.00,     1910
  49UF20090610,  P13N,  2470,  1,      9,  16015,2,20090801,1836, 10.0247, 137.0048, 4704,    605.1,   6.0663,  34.5098,2,  34.5089,2,     81.0,2,    64.75,2,    36.90,2,     0.00,2,     2.62,2,   2275.3,2,   7.5023,2,    25.00,     1910
  49UF20090610,  P13N,  2470,  1,      8,  16014,2,20090801,1836, 10.0247, 137.0048, 4704,    707.4,   5.4931,  34.5210,2,  34.5205,2,     81.0,2,    73.55,2,    37.70,2,     0.00,2,     2.69,2,   2285.2,2,   7.4977,2,    25.00,     1907
  49UF20090610,  P13N,  2470,  1,      7,  19374,2,20090801,1836, 10.0247, 137.0048, 4704,    808.0,   5.1485,  34.5295,2,  34.5289,2,     74.0,2,    80.75,2,    39.00,2,     0.00,2,     2.77,2,   2299.4,2,   7.4818,2,    25.00,     1904
  49UF20090610,  P13N,  2470,  1,      6,  19373,2,20090801,1836, 10.0247, 137.0048, 4704,    907.1,   4.6814,  34.5417,2,  34.5421,2,     80.0,2,    88.75,2,    39.10,2,     0.00,2,     2.78,2,   2306.4,2,   7.4882,2,    25.00,     1901
  49UF20090610,  P13N,  2470,  1,      5,  16011,2,20090801,1836, 10.0247, 137.0048, 4704,   1009.7,   4.3103,  34.5506,2,  34.5505,2,     87.0,2,    95.59,2,    38.80,2,     0.00,2,     2.77,2,   2311.3,2,   7.4976,2,    25.00,     1858
  49UF20090610,  P13N,  2470,  1,      4,  16010,2,20090801,1836, 10.0247, 137.0048, 4704,   1260.7,   3.4076,  34.5785,2,  34.5780,2,     93.0,2,   113.42,2,    39.10,2,     0.00,2,     2.78,2,   2328.9,2,   7.5076,2,    25.00,     1852
  49UF20090610,  P13N,  2470,  1,      3,  16009,2,20090801,1836, 10.0247, 137.0048, 4704,   1515.4,   2.8873,  34.5983,2,  34.5982,2,    101.0,2,   122.81,2,    39.10,2,     0.00,2,     2.75,2,   2333.4,2,   7.5168,2,    25.00,     1846
  49UF20090610,  P13N,  2470,  1,      2,  16008,2,20090801,1836, 10.0247, 137.0048, 4704,   1767.4,   2.4586,  34.6180,2,  34.6183,2,    108.0,2,   131.15,2,    38.90,2,     0.00,2,     2.73,2,   2337.6,6,   7.5260,2,    25.00,     1841
  49UF20090610,  P13N,  2470,  1,      1,  16007,2,20090801,1836, 10.0247, 137.0048, 4704,   2026.3,   2.1065,  34.6363,2,  34.6367,2,    119.0,2,   136.78,2,    38.40,2,     0.00,2,     2.68,2,   2339.3,2,   7.5427,6,    25.00,     1836