BOTTLE,20190917PRINUNIVRMK
EXPOCODE,SECT_ID,STNNBR,CASTNO,SAMPNO,BTLNBR,BTLNBR_FLAG_W,DATE,TIME,LATITUDE,LONGITUDE,DEPTH,CTDPRS,CTDTMP,CTDSAL,CTDSAL_FLAG_W,SALNTY,SALNTY_FLAG_W,OXYGEN,OXYGEN_FLAG_W,SILCAT,SILCAT_FLAG_W,NITRAT,NITRAT_FLAG_W,NITRIT,NITRIT_FLAG_W,PHSPHT,PHSPHT_FLAG_W,TCARBN,TCARBN_FLAG_W,PH_TOT,PH_TOT_FLAG_W,PH_TMP,BTL_TIME
,,,,,,,,,,,METERS,DBAR,ITS-90,PSS-78,,PSS-78,,UMOL/KG,,UMOL/KG,,UMOL/KG,,UMOL/KG,,UMOL/KG,,UMOL/KG,,,,DEG C,
  49UF20090610,  P13N,  2420,  1,     99,     99,2,20090621,1350, 29.9868, 164.9912, 5886,      0.0,  22.8362,  34.6762,2,-999.0000,9,    222.0,2,     1.80,2,     0.00,2,     0.00,2,     0.00,2,   -999.0,9,-999.0000,9,  -999.00,     1426
  49UF20090610,  P13N,  2420,  1,     23,  19380,2,20090621,1350, 29.9868, 164.9912, 5886,     11.0,  22.8474,  34.6781,2,  34.6796,2,    222.0,2,     1.84,2,     0.10,2,     0.00,2,     0.01,2,   1981.8,2,-999.0000,9,  -999.00,     1445
  49UF20090610,  P13N,  2420,  1,     22,  16028,2,20090621,1350, 29.9868, 164.9912, 5886,     26.0,  21.8188,  34.9728,2,-999.0000,9,    229.0,2,     1.78,2,     0.00,2,     0.00,2,     0.00,2,   1993.3,2,-999.0000,9,  -999.00,     1444
  49UF20090610,  P13N,  2420,  1,     21,  16027,2,20090621,1350, 29.9868, 164.9912, 5886,     50.7,  20.1379,  34.8551,2,-999.0000,9,    236.0,2,     1.92,2,     0.00,2,     0.00,2,     0.00,2,   1990.6,2,-999.0000,9,  -999.00,     1440
  49UF20090610,  P13N,  2420,  1,     20,  16026,2,20090621,1350, 29.9868, 164.9912, 5886,     75.2,  18.8704,  34.7440,2,-999.0000,9,    239.0,2,     2.00,2,     0.00,2,     0.00,2,     0.01,2,   2002.4,2,-999.0000,9,  -999.00,     1439
  49UF20090610,  P13N,  2420,  1,     19,  19378,2,20090621,1350, 29.9868, 164.9912, 5886,    101.4,  18.2499,  34.7267,2,  34.7253,2,    229.0,2,     2.28,2,     0.42,2,     0.18,2,     0.07,2,   2004.8,2,-999.0000,9,  -999.00,     1438
  49UF20090610,  P13N,  2420,  1,     18,  19377,2,20090621,1350, 29.9868, 164.9912, 5886,    126.9,  17.8606,  34.6855,2,-999.0000,9,    224.0,2,     2.87,2,     2.18,2,     0.02,2,     0.14,2,   2006.2,2,-999.0000,9,  -999.00,     1437
  49UF20090610,  P13N,  2420,  1,     17,  16023,2,20090621,1350, 29.9868, 164.9912, 5886,    151.4,  17.6010,  34.6684,2,-999.0000,9,    225.0,2,     3.20,2,     2.79,2,     0.01,2,     0.18,2,   2009.6,2,-999.0000,9,  -999.00,     1436
  49UF20090610,  P13N,  2420,  1,     16,  16022,2,20090621,1350, 29.9868, 164.9912, 5886,    203.0,  17.1404,  34.6373,2,  34.6373,2,    218.0,2,     3.94,2,     3.79,2,     0.01,2,     0.24,2,   2022.0,2,-999.0000,9,  -999.00,     1434
  49UF20090610,  P13N,  2420,  1,     15,  16021,2,20090621,1350, 29.9868, 164.9912, 5886,    252.6,  16.7125,  34.6353,2,-999.0000,9,    217.0,2,     4.68,2,     4.79,2,     0.01,2,     0.31,2,   2025.5,2,-999.0000,9,  -999.00,     1433
  49UF20090610,  P13N,  2420,  1,     14,  16020,2,20090621,1350, 29.9868, 164.9912, 5886,    303.1,  16.1396,  34.6074,2,  34.6068,2,    219.0,2,     5.66,2,     5.60,2,     0.00,2,     0.36,2,   2033.9,2,-999.0000,9,  -999.00,     1431
  49UF20090610,  P13N,  2420,  1,     13,  16019,2,20090621,1350, 29.9868, 164.9912, 5886,    404.4,  14.4610,  34.5281,2,  34.5271,2,    204.0,2,    10.42,2,     9.60,2,     0.00,2,     0.64,2,   2067.0,2,-999.0000,9,  -999.00,     1428
  49UF20090610,  P13N,  2420,  1,     12,  16018,2,20090621,1350, 29.9868, 164.9912, 5886,    504.9,  12.0460,  34.3570,2,  34.3586,2,    204.0,2,    15.89,2,    13.50,2,     0.00,2,     0.92,2,   -999.0,9,-999.0000,9,  -999.00,     1426
  49UF20090610,  P13N,  2420,  1,     11,  16017,2,20090621,1350, 29.9868, 164.9912, 5886,    505.5,  12.0420,  34.3564,2,  34.3586,2,    203.0,2,    16.03,2,    13.60,2,     0.00,2,     0.91,2,   2091.0,2,-999.0000,9,  -999.00,     1425
  49UF20090610,  P13N,  2420,  1,     10,  19375,2,20090621,1350, 29.9868, 164.9912, 5886,    605.6,   9.4337,  34.1771,2,  34.1768,2,    187.0,2,    30.20,2,    19.80,2,     0.00,2,     1.38,2,   2138.1,2,-999.0000,9,  -999.00,     1423
  49UF20090610,  P13N,  2420,  1,      9,  16015,2,20090621,1350, 29.9868, 164.9912, 5886,    707.9,   6.7357,  34.0217,2,  34.0219,2,    152.0,2,    50.88,2,    28.00,2,     0.00,2,     1.99,2,   2200.0,2,-999.0000,9,  -999.00,     1420
  49UF20090610,  P13N,  2420,  1,      8,  16014,2,20090621,1350, 29.9868, 164.9912, 5886,    808.8,   5.3473,  34.0630,2,  34.0621,2,     98.0,2,    73.89,2,    35.20,2,     0.00,2,     2.50,2,   2266.5,2,-999.0000,9,  -999.00,     1418
  49UF20090610,  P13N,  2420,  1,      7,  19374,2,20090621,1350, 29.9868, 164.9912, 5886,    909.6,   4.4852,  34.1595,2,  34.1587,2,     60.0,2,    95.21,2,    39.60,2,     0.00,2,     2.83,2,   2314.7,2,-999.0000,9,  -999.00,     1415
  49UF20090610,  P13N,  2420,  1,      6,  19373,2,20090621,1350, 29.9868, 164.9912, 5886,   1010.7,   3.9036,  34.2500,2,  34.2499,2,     44.0,2,   111.51,2,    41.60,2,     0.00,2,     2.97,2,   2335.7,2,-999.0000,9,  -999.00,     1413
  49UF20090610,  P13N,  2420,  1,      5,  16011,2,20090621,1350, 29.9868, 164.9912, 5886,   1262.3,   3.0922,  34.4033,2,  34.4013,2,     34.0,2,   134.47,2,    43.50,2,     0.00,2,     3.09,2,   2372.6,2,-999.0000,9,  -999.00,     1407
  49UF20090610,  P13N,  2420,  1,      4,  16010,2,20090621,1350, 29.9868, 164.9912, 5886,   1516.4,   2.5850,  34.4942,2,  34.4926,2,     42.0,2,   148.15,2,    43.70,2,     0.00,2,     3.08,2,   2386.7,2,-999.0000,9,  -999.00,     1402
  49UF20090610,  P13N,  2420,  1,      3,  16009,2,20090621,1350, 29.9868, 164.9912, 5886,   1770.1,   2.2143,  34.5560,2,  34.5549,2,     56.0,2,   156.18,2,    42.60,2,     0.00,2,     3.00,2,   2381.9,2,-999.0000,9,  -999.00,     1356
  49UF20090610,  P13N,  2420,  1,      2,  16008,2,20090621,1350, 29.9868, 164.9912, 5886,   2023.6,   1.9643,  34.5970,2,  34.5965,2,     77.0,2,   157.97,2,    41.40,2,     0.00,2,     2.90,2,   -999.0,9,-999.0000,9,  -999.00,     1350
  49UF20090610,  P13N,  2420,  1,      1,  16007,2,20090621,1350, 29.9868, 164.9912, 5886,   2024.1,   1.9639,  34.5972,2,  34.5961,2,     77.0,2,   157.94,2,    41.40,2,     0.00,2,     2.90,2,   2371.5,2,-999.0000,9,  -999.00,     1350
  49UF20090610,  P13N,  2422,  1,     99,     99,2,20090622,0259, 28.0145, 165.0267, 5719,      0.0,  25.8111,  35.1041,2,-999.0000,9,    211.0,2,     1.63,2,     0.00,2,     0.00,2,     0.00,2,   -999.0,9,-999.0000,9,  -999.00,      343
  49UF20090610,  P13N,  2422,  1,     23,  19380,2,20090622,0259, 28.0145, 165.0267, 5719,     10.4,  25.7303,  35.1094,2,-999.0000,9,    211.0,2,     1.63,2,     0.00,2,     0.00,2,     0.00,2,   1993.8,2,   8.0580,2,    25.00,      403
  49UF20090610,  P13N,  2422,  1,     21,  16027,2,20090622,0259, 28.0145, 165.0267, 5719,     25.2,  24.2175,  35.1065,2,-999.0000,9,    217.0,2,     1.67,2,     0.00,2,     0.00,2,     0.00,2,   1999.4,2,   8.0541,2,    25.00,      402
  49UF20090610,  P13N,  2422,  1,     22,  16028,2,20090622,0259, 28.0145, 165.0267, 5719,     25.5,  24.2098,  35.1063,2,-999.0000,9,    217.0,2,     1.72,2,     0.00,2,     0.00,2,     0.00,2,   -999.0,9,-999.0000,9,  -999.00,      402
  49UF20090610,  P13N,  2422,  1,     20,  16026,2,20090622,0259, 28.0145, 165.0267, 5719,     48.8,  22.6291,  35.0696,2,-999.0000,9,    226.0,2,     1.67,2,     0.00,2,     0.00,2,     0.00,2,   1995.9,2,   8.0549,2,    25.00,      358
  49UF20090610,  P13N,  2422,  1,     19,  19378,2,20090622,0259, 28.0145, 165.0267, 5719,     75.4,  20.3311,  34.9833,2,-999.0000,9,    230.0,2,     1.90,2,     0.00,2,     0.00,2,     0.00,2,   1997.7,2,   8.0412,2,    25.00,      357
  49UF20090610,  P13N,  2422,  1,     18,  19377,2,20090622,0259, 28.0145, 165.0267, 5719,     98.7,  19.4263,  34.8509,2,-999.0000,9,    230.0,2,     2.08,2,     0.00,2,     0.00,2,     0.01,2,   1997.6,2,   8.0282,2,    25.00,      356
  49UF20090610,  P13N,  2422,  1,     17,  16023,2,20090622,0259, 28.0145, 165.0267, 5719,    125.9,  18.6301,  34.7623,2,-999.0000,9,    227.0,2,     2.27,2,     0.23,2,     0.07,2,     0.05,2,   2005.2,2,   8.0089,2,    25.00,      355
  49UF20090610,  P13N,  2422,  1,     16,  16022,2,20090622,0259, 28.0145, 165.0267, 5719,    149.4,  17.9735,  34.6601,2,-999.0000,9,    224.0,2,     2.69,2,     1.95,2,     0.05,2,     0.13,2,   2007.2,2,   7.9941,2,    25.00,      354
  49UF20090610,  P13N,  2422,  1,     15,  16021,2,20090622,0259, 28.0145, 165.0267, 5719,    200.8,  17.2822,  34.6419,2,-999.0000,9,    215.0,2,     3.76,2,     3.69,2,     0.01,2,     0.23,2,   2021.0,2,   7.9708,2,    25.00,      352
  49UF20090610,  P13N,  2422,  1,     14,  16020,2,20090622,0259, 28.0145, 165.0267, 5719,    251.9,  16.3800,  34.6608,2,-999.0000,9,    206.0,2,     5.59,2,     6.20,2,     0.00,2,     0.39,2,   2039.8,2,   7.9308,2,    25.00,      350
  49UF20090610,  P13N,  2422,  1,     13,  16019,2,20090622,0259, 28.0145, 165.0267, 5719,    303.4,  15.3728,  34.5927,2,-999.0000,9,    204.0,2,     7.60,2,     7.70,2,     0.00,2,     0.51,2,   2055.1,2,   7.9064,2,    25.00,      348
  49UF20090610,  P13N,  2422,  1,     11,  16017,2,20090622,0259, 28.0145, 165.0267, 5719,    404.5,  12.8756,  34.4114,2,-999.0000,9,    209.0,2,    12.19,2,    11.20,2,     0.00,2,     0.75,2,   2080.2,2,   7.8446,2,    25.00,      344
  49UF20090610,  P13N,  2422,  1,     12,  16018,2,20090622,0259, 28.0145, 165.0267, 5719,    405.9,  12.8181,  34.4076,2,-999.0000,9,    209.0,2,    12.32,2,    11.30,2,     0.00,2,     0.76,2,   -999.0,9,-999.0000,9,  -999.00,      345
  49UF20090610,  P13N,  2422,  1,     10,  19375,2,20090622,0259, 28.0145, 165.0267, 5719,    505.1,  10.2226,  34.2108,2,-999.0000,9,    198.0,2,    22.23,2,    17.10,2,     0.00,2,     1.17,2,   2124.2,2,   7.7510,2,    25.00,      341
  49UF20090610,  P13N,  2422,  1,      9,  16015,2,20090622,0259, 28.0145, 165.0267, 5719,    607.3,   7.9006,  34.0774,2,-999.0000,9,    161.0,2,    39.73,2,    24.80,2,     0.00,2,     1.74,2,   2176.7,2,   7.6395,2,    25.00,      337
  49UF20090610,  P13N,  2422,  1,      8,  16014,2,20090622,0259, 28.0145, 165.0267, 5719,    712.3,   6.0822,  34.0446,2,-999.0000,9,    120.0,2,    61.26,2,    31.80,2,     0.00,2,     2.27,2,   2230.8,2,   7.5187,2,    25.00,      333
  49UF20090610,  P13N,  2422,  1,      7,  19374,2,20090622,0259, 28.0145, 165.0267, 5719,    811.4,   4.9382,  34.1141,2,-999.0000,9,     77.0,2,    84.20,2,    37.50,2,     0.00,2,     2.69,2,   2285.5,2,   7.4443,2,    25.00,      330
  49UF20090610,  P13N,  2422,  1,      6,  19373,2,20090622,0259, 28.0145, 165.0267, 5719,    915.4,   4.3437,  34.2006,2,-999.0000,9,     53.0,2,    99.82,2,    40.40,2,     0.00,2,     2.90,2,   2317.5,2,   7.3879,2,    25.00,      326
  49UF20090610,  P13N,  2422,  1,      5,  16011,2,20090622,0259, 28.0145, 165.0267, 5719,   1018.1,   3.7918,  34.2933,2,-999.0000,9,     39.0,2,   114.69,2,    42.20,2,     0.00,2,     3.03,2,   2342.8,2,   7.3730,2,    25.00,      323
  49UF20090610,  P13N,  2422,  1,      4,  16010,2,20090622,0259, 28.0145, 165.0267, 5719,   1272.3,   3.0428,  34.4430,2,-999.0000,9,     37.0,2,   135.62,2,    43.30,2,     0.00,2,     3.08,2,   2368.0,2,   7.3762,2,    25.00,      316
  49UF20090610,  P13N,  2422,  1,      3,  16009,2,20090622,0259, 28.0145, 165.0267, 5719,   1526.2,   2.5407,  34.5255,2,-999.0000,9,     54.0,2,   146.41,2,    42.60,2,     0.00,2,     3.01,2,   2373.5,2,   7.4438,3,    25.00,      309
  49UF20090610,  P13N,  2422,  1,      2,  16008,2,20090622,0259, 28.0145, 165.0267, 5719,   1784.8,   2.1715,  34.5764,2,-999.0000,9,     71.0,2,   152.67,2,    41.60,2,     0.00,2,     2.93,2,   2369.6,6,   7.4536,2,    25.00,      303
  49UF20090610,  P13N,  2422,  1,      1,  16007,2,20090622,0259, 28.0145, 165.0267, 5719,   2020.7,   1.9471,  34.6086,2,-999.0000,9,     93.0,2,   153.33,2,    40.60,2,     0.00,2,     2.84,2,   2366.2,2,   7.4819,2,    25.00,      259
  49UF20090610,  P13N,  2425,  1,     99,     99,2,20090622,2220, 25.0075, 165.0008, 5907,      0.0,  28.8863,  35.4239,2,-999.0000,9,    200.0,2,     1.05,2,     0.00,2,     0.00,2,     0.00,2,   -999.0,9,-999.0000,9,  -999.00,     2258
  49UF20090610,  P13N,  2425,  1,     23,  19380,2,20090622,2220, 25.0075, 165.0008, 5907,     11.1,  28.7702,  35.4163,2,  35.4175,2,    200.0,2,     1.05,2,     0.00,2,     0.00,2,     0.00,2,   1983.7,2,-999.0000,9,  -999.00,     2318
  49UF20090610,  P13N,  2425,  1,     22,  16028,2,20090622,2220, 25.0075, 165.0008, 5907,     26.0,  27.7592,  35.3040,2,-999.0000,9,    207.0,2,     1.08,2,     0.00,2,     0.00,2,     0.00,2,   1980.4,2,-999.0000,9,  -999.00,     2317
  49UF20090610,  P13N,  2425,  1,     21,  16027,2,20090622,2220, 25.0075, 165.0008, 5907,     50.5,  24.3589,  35.0811,2,-999.0000,9,    222.0,2,     1.22,2,     0.00,2,     0.00,2,     0.00,2,   1968.5,2,-999.0000,9,  -999.00,     2313
  49UF20090610,  P13N,  2425,  1,     20,  16026,2,20090622,2220, 25.0075, 165.0008, 5907,     76.2,  22.9974,  35.0684,2,-999.0000,9,    224.0,2,     1.46,2,     0.00,2,     0.00,2,     0.00,2,   1980.0,2,-999.0000,9,  -999.00,     2312
  49UF20090610,  P13N,  2425,  1,     19,  19378,2,20090622,2220, 25.0075, 165.0008, 5907,    101.7,  21.4402,  35.0096,2,  34.9965,4,    221.0,2,     1.74,2,     0.00,2,     0.00,2,     0.01,2,   1995.3,2,-999.0000,9,  -999.00,     2311
  49UF20090610,  P13N,  2425,  1,     18,  19377,2,20090622,2220, 25.0075, 165.0008, 5907,    125.8,  20.3447,  34.9238,2,-999.0000,9,    207.0,2,     2.16,2,     0.07,2,     0.03,2,     0.04,2,   2016.2,2,-999.0000,9,  -999.00,     2310
  49UF20090610,  P13N,  2425,  1,     17,  16023,2,20090622,2220, 25.0075, 165.0008, 5907,    151.5,  18.6361,  34.7897,2,-999.0000,9,    208.0,2,     2.72,2,     1.73,2,     0.07,2,     0.13,2,   2021.2,2,-999.0000,9,  -999.00,     2309
  49UF20090610,  P13N,  2425,  1,     16,  16022,2,20090622,2220, 25.0075, 165.0008, 5907,    201.8,  17.2841,  34.7379,2,  34.7375,2,    200.0,2,     4.27,2,     5.19,2,     0.01,2,     0.32,2,   2038.4,2,-999.0000,9,  -999.00,     2307
  49UF20090610,  P13N,  2425,  1,     15,  16021,2,20090622,2220, 25.0075, 165.0008, 5907,    253.3,  16.0317,  34.6562,2,-999.0000,9,    199.0,2,     6.39,2,     7.20,2,     0.00,2,     0.46,2,   2052.0,2,-999.0000,9,  -999.00,     2306
  49UF20090610,  P13N,  2425,  1,     14,  16020,2,20090622,2220, 25.0075, 165.0008, 5907,    303.4,  14.7198,  34.5566,2,  34.5541,2,    203.0,2,     9.22,2,     9.10,2,     0.00,2,     0.61,2,   2063.9,2,-999.0000,9,  -999.00,     2304
  49UF20090610,  P13N,  2425,  1,     13,  16019,2,20090622,2220, 25.0075, 165.0008, 5907,    404.6,  12.1525,  34.3687,2,  34.3671,2,    201.0,2,    16.10,2,    13.50,2,     0.00,2,     0.91,2,   2093.4,2,-999.0000,9,  -999.00,     2301
  49UF20090610,  P13N,  2425,  1,     11,  16017,2,20090622,2220, 25.0075, 165.0008, 5907,    504.5,   9.0608,  34.1418,2,  34.1417,2,    178.0,2,    30.93,2,    21.00,2,     0.00,2,     1.46,2,   2147.7,2,-999.0000,9,  -999.00,     2259
  49UF20090610,  P13N,  2425,  1,     12,  16018,2,20090622,2220, 25.0075, 165.0008, 5907,    504.6,   9.0614,  34.1426,2,  34.1439,2,    179.0,2,    30.96,2,    20.90,2,     0.00,2,     1.47,2,   -999.0,9,-999.0000,9,  -999.00,     2259
  49UF20090610,  P13N,  2425,  1,     10,  19375,2,20090622,2220, 25.0075, 165.0008, 5907,    606.4,   7.1252,  34.0749,2,  34.0762,2,    132.0,2,    49.37,2,    28.70,2,     0.00,2,     2.04,2,   2204.8,2,-999.0000,9,  -999.00,     2256
  49UF20090610,  P13N,  2425,  1,      9,  16015,2,20090622,2220, 25.0075, 165.0008, 5907,    706.0,   5.4011,  34.1122,2,  34.1115,2,     82.0,2,    76.22,2,    36.30,2,     0.00,2,     2.60,2,   2274.3,2,-999.0000,9,  -999.00,     2253
  49UF20090610,  P13N,  2425,  1,      8,  16014,2,20090622,2220, 25.0075, 165.0008, 5907,    807.0,   4.6111,  34.2116,2,  34.2117,2,     54.0,2,    94.74,2,    40.00,2,     0.00,2,     2.86,2,   2310.6,2,-999.0000,9,  -999.00,     2250
  49UF20090610,  P13N,  2425,  1,      7,  19374,2,20090622,2220, 25.0075, 165.0008, 5907,    906.9,   4.1143,  34.3055,2,  34.3039,2,     44.0,2,   107.42,2,    41.60,2,     0.00,2,     2.98,2,   2333.0,2,-999.0000,9,  -999.00,     2247
  49UF20090610,  P13N,  2425,  1,      6,  19373,2,20090622,2220, 25.0075, 165.0008, 5907,   1009.5,   3.7365,  34.3868,2,  34.3862,2,     45.0,2,   116.61,2,    41.90,2,     0.00,2,     3.00,2,   2342.8,2,-999.0000,9,  -999.00,     2244
  49UF20090610,  P13N,  2425,  1,      5,  16011,2,20090622,2220, 25.0075, 165.0008, 5907,   1262.4,   3.0346,  34.5060,2,  34.5036,2,     63.0,2,   130.72,2,    41.40,2,     0.00,2,     2.94,2,   2350.2,2,-999.0000,9,  -999.00,     2239
  49UF20090610,  P13N,  2425,  1,      4,  16010,2,20090622,2220, 25.0075, 165.0008, 5907,   1514.7,   2.5429,  34.5580,2,  34.5571,2,     79.0,2,   138.73,2,    40.60,2,     0.00,2,     2.87,2,   2349.8,2,-999.0000,9,  -999.00,     2232
  49UF20090610,  P13N,  2425,  1,      3,  16009,2,20090622,2220, 25.0075, 165.0008, 5907,   1769.4,   2.2332,  34.5926,2,  34.5904,2,     91.0,2,   143.87,2,    40.10,2,     0.00,2,     2.82,2,   2349.5,6,-999.0000,9,  -999.00,     2227
  49UF20090610,  P13N,  2425,  1,      1,  16007,2,20090622,2220, 25.0075, 165.0008, 5907,   2033.8,   1.9871,  34.6201,2,  34.6190,2,    104.0,2,   147.93,2,    39.40,2,     0.00,2,     2.76,2,   2347.5,2,-999.0000,9,  -999.00,     2220
  49UF20090610,  P13N,  2425,  1,      2,  16008,2,20090622,2220, 25.0075, 165.0008, 5907,   2034.1,   1.9864,  34.6202,2,  34.6180,4,    105.0,2,   147.13,2,    39.50,2,     0.00,2,     2.77,2,   -999.0,9,-999.0000,9,  -999.00,     2220