BOTTLE,20190917PRINUNIVRMK
EXPOCODE,SECT_ID,STNNBR,CASTNO,SAMPNO,BTLNBR,BTLNBR_FLAG_W,DATE,TIME,LATITUDE,LONGITUDE,DEPTH,CTDPRS,CTDTMP,CTDSAL,CTDSAL_FLAG_W,SALNTY,SALNTY_FLAG_W,OXYGEN,OXYGEN_FLAG_W,SILCAT,SILCAT_FLAG_W,NITRAT,NITRAT_FLAG_W,NITRIT,NITRIT_FLAG_W,PHSPHT,PHSPHT_FLAG_W,TCARBN,TCARBN_FLAG_W,PH_TOT,PH_TOT_FLAG_W,PH_TMP,BTL_TIME
,,,,,,,,,,,METERS,DBAR,ITS-90,PSS-78,,PSS-78,,UMOL/KG,,UMOL/KG,,UMOL/KG,,UMOL/KG,,UMOL/KG,,UMOL/KG,,,,DEG C,
  49UF20090610,  P13N,  2453,  1,     99,     99,2,20090710,1631, -3.0065, 164.9992, 4134,      0.0,  29.9149,  34.7839,2,-999.0000,9,    196.0,2,     1.01,2,     0.10,2,     0.00,2,     0.14,2,   -999.0,9,-999.0000,9,  -999.00,     1700
  49UF20090610,  P13N,  2453,  1,     23,  19380,2,20090710,1631, -3.0065, 164.9992, 4134,     10.3,  29.9137,  34.7835,2,-999.0000,9,    184.0,4,     1.01,2,     0.00,2,     0.00,2,     0.14,2,   1939.9,2,-999.0000,9,  -999.00,     1717
  49UF20090610,  P13N,  2453,  1,     22,  16028,2,20090710,1631, -3.0065, 164.9992, 4134,     25.4,  29.8663,  34.8241,2,-999.0000,9,    196.0,2,     1.05,2,     0.10,2,     0.00,2,     0.14,2,   1942.0,2,-999.0000,9,  -999.00,     1716
  49UF20090610,  P13N,  2453,  1,     21,  16027,2,20090710,1631, -3.0065, 164.9992, 4134,     50.5,  29.9540,  35.0454,2,-999.0000,9,    197.0,2,     1.09,2,     0.09,2,     0.01,2,     0.17,2,   1960.1,2,-999.0000,9,  -999.00,     1712
  49UF20090610,  P13N,  2453,  1,     20,  16026,2,20090710,1631, -3.0065, 164.9992, 4134,     74.4,  28.9042,  35.6081,2,-999.0000,9,    188.0,2,     1.70,2,     2.84,2,     1.26,2,     0.46,2,   2110.2,2,-999.0000,9,  -999.00,     1712
  49UF20090610,  P13N,  2453,  1,     19,  19378,4,20090710,1631, -3.0065, 164.9992, 4134,     99.3,  27.9888,  35.5957,2,-999.0000,9,   -999.0,9,  -999.00,9,  -999.00,9,  -999.00,9,  -999.00,9,   -999.0,9,-999.0000,9,  -999.00,     1711
  49UF20090610,  P13N,  2453,  1,     18,  19377,2,20090710,1631, -3.0065, 164.9992, 4134,    120.1,  27.6606,  35.5852,2,-999.0000,9,    177.0,2,     2.07,2,     6.56,2,     0.24,2,     0.62,2,   2088.9,2,-999.0000,9,  -999.00,     1710
  49UF20090610,  P13N,  2453,  1,     17,  16023,2,20090710,1631, -3.0065, 164.9992, 4134,    150.0,  25.8197,  35.8434,2,-999.0000,9,    143.0,2,     2.21,2,     8.58,2,     0.02,2,     0.75,2,   -999.0,9,-999.0000,9,  -999.00,     1709
  49UF20090610,  P13N,  2453,  1,     16,  16022,2,20090710,1631, -3.0065, 164.9992, 4134,    150.2,  25.7056,  35.8525,2,-999.0000,9,    140.0,2,     2.11,2,     8.78,2,     0.02,2,     0.76,2,   2090.4,2,-999.0000,9,  -999.00,     1709
  49UF20090610,  P13N,  2453,  1,     15,  16021,2,20090710,1631, -3.0065, 164.9992, 4134,    201.4,  18.7039,  35.5490,2,-999.0000,9,    112.0,2,     6.27,2,    15.39,2,     0.01,2,     1.24,2,   2155.8,2,-999.0000,9,  -999.00,     1708
  49UF20090610,  P13N,  2453,  1,     14,  16020,2,20090710,1631, -3.0065, 164.9992, 4134,    250.9,  11.4185,  34.8640,2,-999.0000,9,    130.0,2,    14.88,2,    23.00,2,     0.00,2,     1.63,2,   2176.5,2,-999.0000,9,  -999.00,     1707
  49UF20090610,  P13N,  2453,  1,     13,  16019,2,20090710,1631, -3.0065, 164.9992, 4134,    300.8,   9.8870,  34.7336,2,-999.0000,9,    115.0,2,    21.35,2,    27.30,2,     0.00,2,     1.91,2,   2193.3,2,-999.0000,9,  -999.00,     1706
  49UF20090610,  P13N,  2453,  1,     12,  16018,2,20090710,1631, -3.0065, 164.9992, 4134,    401.9,   8.5097,  34.6388,2,-999.0000,9,    109.0,2,    27.14,2,    30.80,2,     0.00,2,     2.13,2,   2221.0,2,-999.0000,9,  -999.00,     1703
  49UF20090610,  P13N,  2453,  1,     11,  16017,2,20090710,1631, -3.0065, 164.9992, 4134,    502.6,   7.4826,  34.5856,2,-999.0000,9,     92.0,2,    36.10,2,    34.90,2,     0.00,2,     2.42,2,   2234.0,2,-999.0000,9,  -999.00,     1701
  49UF20090610,  P13N,  2453,  1,     10,  19375,2,20090710,1631, -3.0065, 164.9992, 4134,    603.0,   6.7709,  34.5596,2,-999.0000,9,     87.0,2,    43.49,2,    36.90,2,     0.00,2,     2.58,2,   2250.3,2,-999.0000,9,  -999.00,     1659
  49UF20090610,  P13N,  2453,  1,      9,  16015,2,20090710,1631, -3.0065, 164.9992, 4134,    705.5,   5.8434,  34.5371,2,-999.0000,9,     93.0,2,    53.71,2,    37.80,2,     0.00,2,     2.65,2,   2259.6,2,-999.0000,9,  -999.00,     1657
  49UF20090610,  P13N,  2453,  1,      8,  16014,2,20090710,1631, -3.0065, 164.9992, 4134,    805.5,   5.2005,  34.5363,2,-999.0000,9,     98.0,2,    65.04,2,    38.50,2,     0.00,2,     2.72,2,   2273.5,2,-999.0000,9,  -999.00,     1655
  49UF20090610,  P13N,  2453,  1,      6,  19373,2,20090710,1631, -3.0065, 164.9992, 4134,    906.0,   4.7005,  34.5409,2,-999.0000,9,     99.0,2,    73.90,2,    38.40,2,     0.00,2,     2.72,2,   2282.1,2,-999.0000,9,  -999.00,     1653
  49UF20090610,  P13N,  2453,  1,      7,  19374,2,20090710,1631, -3.0065, 164.9992, 4134,    906.1,   4.7096,  34.5403,2,-999.0000,9,    101.0,2,    74.14,2,    38.50,2,     0.00,2,     2.73,2,   -999.0,9,-999.0000,9,  -999.00,     1653
  49UF20090610,  P13N,  2453,  1,      5,  16011,2,20090710,1631, -3.0065, 164.9992, 4134,   1007.6,   4.3603,  34.5433,2,-999.0000,9,    107.0,2,    78.73,2,    38.00,2,     0.00,2,     2.69,2,   2280.1,2,-999.0000,9,  -999.00,     1651
  49UF20090610,  P13N,  2453,  1,      4,  16010,2,20090710,1631, -3.0065, 164.9992, 4134,   1260.2,   3.5572,  34.5752,2,-999.0000,9,    103.0,2,   100.36,2,    39.20,2,     0.00,2,     2.79,2,   2307.2,2,-999.0000,9,  -999.00,     1646
  49UF20090610,  P13N,  2453,  1,      3,  16009,2,20090710,1631, -3.0065, 164.9992, 4134,   1512.8,   2.8478,  34.6053,2,-999.0000,9,    109.0,2,   116.48,2,    38.90,2,     0.00,2,     2.76,2,   2321.8,2,-999.0000,9,  -999.00,     1641
  49UF20090610,  P13N,  2453,  1,      2,  16008,2,20090710,1631, -3.0065, 164.9992, 4134,   1767.4,   2.3668,  34.6287,2,-999.0000,9,    118.0,2,   127.08,2,    38.60,2,     0.00,2,     2.72,2,   2329.6,6,-999.0000,9,  -999.00,     1636
  49UF20090610,  P13N,  2453,  1,      1,  16007,2,20090710,1631, -3.0065, 164.9992, 4134,   2031.0,   2.1451,  34.6411,2,-999.0000,9,    123.0,2,   132.62,2,    38.50,2,     0.00,2,     2.69,2,   2331.7,2,-999.0000,9,  -999.00,     1631
  49UF20090610,  P13N,  2455,  1,     99,     99,2,20090711,0439, -4.9943, 164.9978, 2362,      0.0,  30.8170,  35.0649,2,-999.0000,9,    195.0,2,     1.03,2,     0.00,2,     0.00,2,     0.14,2,   -999.0,9,-999.0000,9,  -999.00,      508
  49UF20090610,  P13N,  2455,  1,     23,  19380,2,20090711,0439, -4.9943, 164.9978, 2362,     10.8,  30.2097,  35.0539,2,  35.0524,2,    194.0,2,     1.02,2,     0.00,2,     0.00,2,     0.15,2,   -999.0,9,-999.0000,9,  -999.00,      524
  49UF20090610,  P13N,  2455,  1,     22,  16028,2,20090711,0439, -4.9943, 164.9978, 2362,     25.2,  30.0093,  35.0604,2,-999.0000,9,    195.0,2,     1.02,2,     0.00,2,     0.00,2,     0.15,2,   -999.0,9,-999.0000,9,  -999.00,      523
  49UF20090610,  P13N,  2455,  1,     21,  16027,2,20090711,0439, -4.9943, 164.9978, 2362,     49.3,  30.1121,  35.2980,2,-999.0000,9,    198.0,2,     1.10,2,     0.00,2,     0.00,2,     0.18,2,   -999.0,9,-999.0000,9,  -999.00,      520
  49UF20090610,  P13N,  2455,  1,     20,  16026,2,20090711,0439, -4.9943, 164.9978, 2362,     75.0,  29.8176,  35.3573,2,-999.0000,9,    196.0,2,     1.20,2,     0.27,2,     0.03,2,     0.23,2,   -999.0,9,-999.0000,9,  -999.00,      519
  49UF20090610,  P13N,  2455,  1,     19,  19378,2,20090711,0439, -4.9943, 164.9978, 2362,    100.2,  28.6656,  35.5461,2,  35.5629,4,    173.0,2,     1.66,2,     3.57,2,     0.53,2,     0.48,2,   -999.0,9,-999.0000,9,  -999.00,      518
  49UF20090610,  P13N,  2455,  1,     18,  19377,2,20090711,0439, -4.9943, 164.9978, 2362,    100.5,  28.6609,  35.5464,2,  35.5746,4,    175.0,2,     1.62,2,     3.42,2,     0.58,2,     0.47,2,   -999.0,9,-999.0000,9,  -999.00,      518
  49UF20090610,  P13N,  2455,  1,     17,  16023,2,20090711,0439, -4.9943, 164.9978, 2362,    125.8,  27.9412,  35.6181,2,-999.0000,9,    168.0,2,     1.89,2,     5.46,2,     0.84,2,     0.61,2,   -999.0,9,-999.0000,9,  -999.00,      517
  49UF20090610,  P13N,  2455,  1,     16,  16022,2,20090711,0439, -4.9943, 164.9978, 2362,    151.0,  25.0306,  36.0069,2,-999.0000,9,    138.0,2,     1.75,2,     7.48,2,     0.02,2,     0.70,2,   -999.0,9,-999.0000,9,  -999.00,      517
  49UF20090610,  P13N,  2455,  1,     15,  16021,2,20090711,0439, -4.9943, 164.9978, 2362,    201.5,  18.2578,  35.5209,2,  35.4659,4,    119.0,2,     5.45,2,    13.79,2,     0.01,2,     1.17,2,   -999.0,9,-999.0000,9,  -999.00,      515
  49UF20090610,  P13N,  2455,  1,     14,  16020,2,20090711,0439, -4.9943, 164.9978, 2362,    250.9,  12.7713,  34.9834,2,-999.0000,9,     97.0,2,    14.88,2,    23.70,2,     0.00,2,     1.76,2,   -999.0,9,-999.0000,9,  -999.00,      514
  49UF20090610,  P13N,  2455,  1,     13,  16019,2,20090711,0439, -4.9943, 164.9978, 2362,    301.6,  10.1301,  34.7537,2,  34.7519,2,    120.0,2,    20.08,2,    26.40,2,     0.00,2,     1.85,2,   -999.0,9,-999.0000,9,  -999.00,      513
  49UF20090610,  P13N,  2455,  1,     12,  16018,2,20090711,0439, -4.9943, 164.9978, 2362,    402.5,   8.6634,  34.6486,2,  34.6482,2,    100.0,2,    27.87,2,    31.60,2,     0.00,2,     2.18,2,   -999.0,9,-999.0000,9,  -999.00,      511
  49UF20090610,  P13N,  2455,  1,     11,  16017,2,20090711,0439, -4.9943, 164.9978, 2362,    502.8,   7.5152,  34.5739,2,  34.5729,2,    120.0,2,    31.71,2,    32.10,2,     0.00,2,     2.22,2,   -999.0,9,-999.0000,9,  -999.00,      509
  49UF20090610,  P13N,  2455,  1,     10,  19375,2,20090711,0439, -4.9943, 164.9978, 2362,    604.3,   6.4848,  34.5208,2,  34.5223,2,    138.0,2,    38.06,2,    32.30,2,     0.00,2,     2.24,2,   -999.0,9,-999.0000,9,  -999.00,      507
  49UF20090610,  P13N,  2455,  1,      9,  16015,2,20090711,0439, -4.9943, 164.9978, 2362,    704.8,   6.0828,  34.5307,2,  34.5298,2,    108.0,2,    48.06,2,    36.00,2,     0.00,2,     2.51,2,   -999.0,9,-999.0000,9,  -999.00,      505
  49UF20090610,  P13N,  2455,  1,      8,  16014,2,20090711,0439, -4.9943, 164.9978, 2362,    806.0,   5.4122,  34.5117,2,  34.5139,4,    129.0,2,    53.36,2,    34.70,2,     0.00,2,     2.42,2,   -999.0,9,-999.0000,9,  -999.00,      503
  49UF20090610,  P13N,  2455,  1,      7,  19374,2,20090711,0439, -4.9943, 164.9978, 2362,    806.3,   5.4084,  34.5117,2,  34.5134,2,    129.0,2,    53.73,2,    34.80,2,     0.00,2,     2.43,2,   -999.0,9,-999.0000,9,  -999.00,      502
  49UF20090610,  P13N,  2455,  1,      6,  19373,2,20090711,0439, -4.9943, 164.9978, 2362,    906.1,   4.8730,  34.5198,2,  34.5207,2,    128.0,2,    63.32,2,    35.60,2,     0.00,2,     2.50,2,   -999.0,9,-999.0000,9,  -999.00,      500
  49UF20090610,  P13N,  2455,  1,      5,  16011,2,20090711,0439, -4.9943, 164.9978, 2362,   1007.8,   4.3655,  34.5317,2,  34.5356,4,    127.0,2,    73.55,2,    36.30,2,     0.00,2,     2.54,2,   -999.0,9,-999.0000,9,  -999.00,      458
  49UF20090610,  P13N,  2455,  1,      4,  16010,2,20090711,0439, -4.9943, 164.9978, 2362,   1259.8,   3.3831,  34.5750,2,  34.5759,2,    115.0,2,    98.74,2,    37.90,2,     0.00,2,     2.71,2,   -999.0,9,-999.0000,9,  -999.00,      454
  49UF20090610,  P13N,  2455,  1,      3,  16009,2,20090711,0439, -4.9943, 164.9978, 2362,   1513.3,   2.8278,  34.5999,2,  34.6004,2,    122.0,2,   110.27,2,    38.00,2,     0.00,2,     2.68,2,   -999.0,9,-999.0000,9,  -999.00,      449
  49UF20090610,  P13N,  2455,  1,      2,  16008,2,20090711,0439, -4.9943, 164.9978, 2362,   1765.8,   2.3965,  34.6259,2,  34.6266,2,    123.0,2,   122.92,2,    38.00,2,     0.00,2,     2.68,2,   -999.0,9,-999.0000,9,  -999.00,      444
  49UF20090610,  P13N,  2455,  1,      1,  16007,2,20090711,0439, -4.9943, 164.9978, 2362,   2032.4,   2.1341,  34.6408,2,  34.6411,2,    127.0,2,   128.46,2,    37.70,2,     0.00,2,     2.64,2,   -999.0,9,-999.0000,9,  -999.00,      439
  49UF20090610,  P13N,  2456,  1,     99,     99,2,20090713,1056, -0.0070, 162.9798, 4448,      0.0,  29.9331,  34.2613,2,-999.0000,9,    196.0,2,     0.93,2,     0.00,2,     0.00,2,     0.04,2,   -999.0,9,-999.0000,9,  -999.00,     1130
  49UF20090610,  P13N,  2456,  1,     24,  16030,2,20090713,1056, -0.0070, 162.9798, 4448,     10.8,  29.9316,  34.2613,2,-999.0000,9,    195.0,2,     0.97,2,     0.00,2,     0.00,2,     0.03,2,   1903.4,2,   8.1421,2,    25.00,     1156
  49UF20090610,  P13N,  2456,  1,     23,  19380,2,20090713,1056, -0.0070, 162.9798, 4448,     21.2,  29.9460,  34.3276,2,-999.0000,9,    196.0,2,     0.97,2,     0.00,2,     0.00,2,     0.04,2,   1909.2,2,   8.1324,2,    25.00,     1155
  49UF20090610,  P13N,  2456,  1,     22,  16028,2,20090713,1056, -0.0070, 162.9798, 4448,     31.1,  29.9676,  34.4595,2,-999.0000,9,    196.0,2,     1.01,2,     0.00,2,     0.00,2,     0.06,2,   1913.4,2,   8.1369,2,    25.00,     1154
  49UF20090610,  P13N,  2456,  1,     21,  16027,2,20090713,1056, -0.0070, 162.9798, 4448,     41.3,  29.8393,  34.4668,2,-999.0000,9,    197.0,2,     0.96,2,     0.00,2,     0.00,2,     0.06,2,   1913.2,2,   8.1369,2,    25.00,     1154
  49UF20090610,  P13N,  2456,  1,     20,  16026,2,20090713,1056, -0.0070, 162.9798, 4448,     51.0,  29.8700,  34.5301,2,-999.0000,9,    196.0,2,     1.00,2,     0.00,2,     0.00,2,     0.07,2,   1918.9,2,   8.1346,2,    25.00,     1153
  49UF20090610,  P13N,  2456,  1,     19,  19378,2,20090713,1056, -0.0070, 162.9798, 4448,     61.3,  29.8923,  34.5753,2,-999.0000,9,    197.0,2,     1.00,2,     0.00,2,     0.00,2,     0.08,2,   1926.2,2,   8.1338,2,    25.00,     1152
  49UF20090610,  P13N,  2456,  1,     18,  19377,2,20090713,1056, -0.0070, 162.9798, 4448,     81.3,  28.9958,  35.4524,2,-999.0000,9,    180.0,2,     1.92,2,     4.76,2,     0.14,2,     0.49,2,   2029.8,2,   8.0322,2,    25.00,     1151
  49UF20090610,  P13N,  2456,  1,     17,  16023,2,20090713,1056, -0.0070, 162.9798, 4448,    101.5,  28.0686,  35.4931,2,-999.0000,9,    168.0,2,     2.06,2,     5.75,2,     0.05,2,     0.54,2,   2032.6,2,   8.0219,2,    25.00,     1149
  49UF20090610,  P13N,  2456,  1,     16,  16022,2,20090713,1056, -0.0070, 162.9798, 4448,    121.0,  26.9021,  35.4598,2,-999.0000,9,    155.0,2,     2.66,2,     6.96,2,     0.04,2,     0.62,2,   2047.1,2,   7.9970,2,    25.00,     1148
  49UF20090610,  P13N,  2456,  1,     15,  16021,2,20090713,1056, -0.0070, 162.9798, 4448,    141.9,  24.3345,  35.5985,2,-999.0000,9,    140.0,2,     3.13,2,     8.78,2,     0.02,2,     0.73,2,   2089.2,2,   7.9509,2,    25.00,     1147
  49UF20090610,  P13N,  2456,  1,     14,  16020,2,20090713,1056, -0.0070, 162.9798, 4448,    162.5,  22.9515,  35.4863,2,-999.0000,9,    135.0,2,     4.10,2,     9.79,2,     0.01,2,     0.78,2,   2094.8,2,   7.9235,2,    25.00,     1146
  49UF20090610,  P13N,  2456,  1,     13,  16019,2,20090713,1056, -0.0070, 162.9798, 4448,    182.2,  19.9551,  35.4108,2,-999.0000,9,    135.0,2,     5.40,2,    11.49,2,     0.01,2,     0.89,2,   2113.3,2,   7.8820,2,    25.00,     1144
  49UF20090610,  P13N,  2456,  1,     12,  16018,2,20090713,1056, -0.0070, 162.9798, 4448,    202.3,  17.4116,  35.3291,2,-999.0000,9,    137.0,2,     6.60,2,    13.49,2,     0.01,2,     1.02,2,   2129.9,2,   7.8551,2,    25.00,     1141
  49UF20090610,  P13N,  2456,  1,     11,  16017,2,20090713,1056, -0.0070, 162.9798, 4448,    226.5,  13.8770,  35.0814,2,-999.0000,9,    148.0,2,     9.68,2,    16.90,2,     0.00,2,     1.22,2,   2144.1,2,   7.7889,2,    25.00,     1139
  49UF20090610,  P13N,  2456,  1,     10,  19375,2,20090713,1056, -0.0070, 162.9798, 4448,    251.2,  12.4138,  34.8971,2,-999.0000,9,    142.0,2,    16.46,2,    19.80,2,     0.00,2,     1.42,2,   2159.9,2,   7.7434,2,    25.00,     1138
  49UF20090610,  P13N,  2456,  1,      9,  16015,2,20090713,1056, -0.0070, 162.9798, 4448,    301.1,  11.3194,  34.8187,2,-999.0000,9,    135.0,2,    18.92,2,    22.40,2,     0.00,2,     1.58,2,   2171.6,6,   7.7147,2,    25.00,     1136
  49UF20090610,  P13N,  2456,  1,      8,  16014,2,20090713,1056, -0.0070, 162.9798, 4448,    403.6,   9.6089,  34.6921,2,-999.0000,9,    101.0,2,    27.24,2,    29.50,2,     0.00,2,     2.04,2,   2212.0,2,   7.6048,2,    25.00,     1134
  49UF20090610,  P13N,  2456,  1,      7,  19374,2,20090713,1056, -0.0070, 162.9798, 4448,    502.2,   7.7953,  34.5878,2,-999.0000,9,    130.0,2,    30.26,2,    30.30,2,     0.00,2,     2.09,2,   -999.0,9,-999.0000,9,  -999.00,     1130
  49UF20090610,  P13N,  2456,  1,      6,  19373,2,20090713,1056, -0.0070, 162.9798, 4448,    603.7,   7.0879,  34.5710,2,-999.0000,9,     82.0,2,    44.43,2,    36.40,2,     0.00,2,     2.55,2,   -999.0,9,-999.0000,9,  -999.00,     1127
  49UF20090610,  P13N,  2456,  1,      5,  16011,2,20090713,1056, -0.0070, 162.9798, 4448,    805.6,   5.4095,  34.5377,2,-999.0000,9,     96.0,2,    64.15,2,    37.80,2,     0.00,2,     2.68,2,   -999.0,9,-999.0000,9,  -999.00,     1122
  49UF20090610,  P13N,  2456,  1,      4,  16010,2,20090713,1056, -0.0070, 162.9798, 4448,   1007.0,   4.5257,  34.5505,2,-999.0000,9,     96.0,2,    81.43,2,    38.60,2,     0.00,2,     2.75,2,   -999.0,9,-999.0000,9,  -999.00,     1117
  49UF20090610,  P13N,  2456,  1,      3,  16009,2,20090713,1056, -0.0070, 162.9798, 4448,   1261.4,   3.7075,  34.5747,2,-999.0000,9,     94.0,2,   100.21,2,    39.40,2,     0.00,2,     2.81,2,   -999.0,9,-999.0000,9,  -999.00,     1112
  49UF20090610,  P13N,  2456,  1,      2,  16008,2,20090713,1056, -0.0070, 162.9798, 4448,   1514.3,   2.9738,  34.6019,2,-999.0000,9,    102.0,2,   116.48,2,    39.20,2,     0.00,2,     2.80,2,   -999.0,9,-999.0000,9,  -999.00,     1106
  49UF20090610,  P13N,  2456,  1,      1,  16007,2,20090713,1056, -0.0070, 162.9798, 4448,   2023.1,   2.1908,  34.6388,2,-999.0000,9,    117.0,2,   133.07,2,    38.50,2,     0.00,2,     2.71,2,   -999.0,9,-999.0000,9,  -999.00,     1056