BOTTLE,20190917PRINUNIVRMK
EXPOCODE,SECT_ID,STNNBR,CASTNO,SAMPNO,BTLNBR,BTLNBR_FLAG_W,DATE,TIME,LATITUDE,LONGITUDE,DEPTH,CTDPRS,CTDTMP,CTDSAL,CTDSAL_FLAG_W,SALNTY,SALNTY_FLAG_W,OXYGEN,OXYGEN_FLAG_W,SILCAT,SILCAT_FLAG_W,NITRAT,NITRAT_FLAG_W,NITRIT,NITRIT_FLAG_W,PHSPHT,PHSPHT_FLAG_W,TCARBN,TCARBN_FLAG_W,PH_TOT,PH_TOT_FLAG_W,PH_TMP,BTL_TIME
,,,,,,,,,,,METERS,DBAR,ITS-90,PSS-78,,PSS-78,,UMOL/KG,,UMOL/KG,,UMOL/KG,,UMOL/KG,,UMOL/KG,,UMOL/KG,,,,DEG C,
  49UF20090610,  P13N,  2435,  1,     99,     99,2,20090625,1452, 15.0013, 164.9997, 5231,      0.0,  29.6246,  35.0751,2,-999.0000,9,    199.0,2,     0.91,2,     0.00,2,     0.00,2,     0.09,2,   -999.0,9,-999.0000,9,  -999.00,     1526
  49UF20090610,  P13N,  2435,  1,     23,  19380,2,20090625,1452, 15.0013, 164.9997, 5231,     10.2,  29.6064,  35.0707,2,  35.0655,2,    198.0,2,     0.96,2,     0.00,2,     0.00,2,     0.09,2,   1966.3,2,-999.0000,9,  -999.00,     1546
  49UF20090610,  P13N,  2435,  1,     22,  16028,2,20090625,1452, 15.0013, 164.9997, 5231,     25.4,  29.2263,  35.0361,2,-999.0000,9,    199.0,2,     0.96,2,     0.00,2,     0.00,2,     0.09,2,   1964.7,2,-999.0000,9,  -999.00,     1545
  49UF20090610,  P13N,  2435,  1,     21,  16027,2,20090625,1452, 15.0013, 164.9997, 5231,     50.6,  28.3552,  34.9959,2,-999.0000,9,    205.0,2,     0.91,2,     0.00,2,     0.00,2,     0.10,2,   1962.1,2,-999.0000,9,  -999.00,     1541
  49UF20090610,  P13N,  2435,  1,     20,  16026,2,20090625,1452, 15.0013, 164.9997, 5231,     75.3,  27.8759,  35.1091,2,-999.0000,9,    209.0,2,     0.81,2,     0.00,2,     0.00,2,     0.07,2,   1966.5,2,-999.0000,9,  -999.00,     1540
  49UF20090610,  P13N,  2435,  1,     19,  19378,2,20090625,1452, 15.0013, 164.9997, 5231,    100.6,  27.1512,  35.2082,2,  35.1977,4,    209.0,2,     0.90,2,     0.00,2,     0.00,2,     0.05,2,   1968.8,2,-999.0000,9,  -999.00,     1539
  49UF20090610,  P13N,  2435,  1,     18,  19377,2,20090625,1452, 15.0013, 164.9997, 5231,    126.1,  26.7690,  35.2075,2,-999.0000,9,    203.0,2,     0.90,2,     0.00,2,     0.00,2,     0.04,2,   1976.1,2,-999.0000,9,  -999.00,     1538
  49UF20090610,  P13N,  2435,  1,     17,  16023,2,20090625,1452, 15.0013, 164.9997, 5231,    151.2,  26.2679,  35.2148,2,-999.0000,9,    200.0,2,     0.95,2,     0.00,2,     0.00,2,     0.03,2,   1983.0,2,-999.0000,9,  -999.00,     1537
  49UF20090610,  P13N,  2435,  1,     16,  16022,2,20090625,1452, 15.0013, 164.9997, 5231,    201.2,  22.3956,  35.0997,2,  35.0829,4,    181.0,2,     1.92,2,     1.67,2,     0.03,2,     0.18,2,   -999.0,9,-999.0000,9,  -999.00,     1535
  49UF20090610,  P13N,  2435,  1,     15,  16021,2,20090625,1452, 15.0013, 164.9997, 5231,    201.3,  22.3689,  35.0906,2,  35.0665,4,    179.0,2,     1.98,2,     1.77,2,     0.03,2,     0.19,2,   2033.1,2,-999.0000,9,  -999.00,     1535
  49UF20090610,  P13N,  2435,  1,     14,  16020,2,20090625,1452, 15.0013, 164.9997, 5231,    251.9,  16.5692,  34.6339,2,-999.0000,9,    178.0,2,     6.46,2,     8.10,2,     0.00,2,     0.60,2,   2071.9,2,-999.0000,9,  -999.00,     1534
  49UF20090610,  P13N,  2435,  1,     13,  16019,2,20090625,1452, 15.0013, 164.9997, 5231,    302.5,  13.6758,  34.4078,2,  34.3990,4,    179.0,2,    11.51,2,    12.30,2,     0.00,2,     0.88,2,   2092.2,2,-999.0000,9,  -999.00,     1532
  49UF20090610,  P13N,  2435,  1,     12,  16018,2,20090625,1452, 15.0013, 164.9997, 5231,    403.0,   9.3212,  34.2188,2,  34.2182,2,    121.0,2,    33.84,2,    25.90,2,     0.00,2,     1.88,2,   2187.2,2,-999.0000,9,  -999.00,     1530
  49UF20090610,  P13N,  2435,  1,     11,  16017,2,20090625,1452, 15.0013, 164.9997, 5231,    503.5,   7.3520,  34.3426,2,  34.3482,4,     61.0,2,    54.59,2,    35.30,2,     0.00,2,     2.55,2,   2259.5,2,-999.0000,9,  -999.00,     1527
  49UF20090610,  P13N,  2435,  1,     10,  19375,2,20090625,1452, 15.0013, 164.9997, 5231,    605.1,   6.0724,  34.3961,2,  34.3972,2,     55.0,2,    71.04,2,    38.30,2,     0.00,2,     2.77,2,   2286.9,2,-999.0000,9,  -999.00,     1524
  49UF20090610,  P13N,  2435,  1,      9,  16015,2,20090625,1452, 15.0013, 164.9997, 5231,    704.8,   5.4643,  34.4650,2,  34.4637,2,     61.0,2,    79.49,2,    39.20,2,     0.00,2,     2.82,2,   2297.9,2,-999.0000,9,  -999.00,     1522
  49UF20090610,  P13N,  2435,  1,      8,  16014,2,20090625,1452, 15.0013, 164.9997, 5231,    805.0,   5.0481,  34.4979,2,  34.4975,2,     67.0,2,    85.62,2,    39.40,2,     0.00,2,     2.83,2,   2300.9,2,-999.0000,9,  -999.00,     1519
  49UF20090610,  P13N,  2435,  1,      7,  19374,2,20090625,1452, 15.0013, 164.9997, 5231,    907.5,   4.6295,  34.5131,2,  34.5122,2,     67.0,2,    93.61,2,    40.00,2,     0.00,2,     2.86,2,   2313.3,2,-999.0000,9,  -999.00,     1516
  49UF20090610,  P13N,  2435,  1,      5,  16011,2,20090625,1452, 15.0013, 164.9997, 5231,   1008.1,   4.2695,  34.5270,2,  34.5243,2,     70.0,2,   100.46,2,    40.30,2,     0.00,2,     2.88,2,   2316.8,2,-999.0000,9,  -999.00,     1514
  49UF20090610,  P13N,  2435,  1,      6,  19373,2,20090625,1452, 15.0013, 164.9997, 5231,   1008.4,   4.2704,  34.5273,2,  34.5274,2,     71.0,2,   100.44,2,    40.20,2,     0.00,2,     2.87,2,   -999.0,9,-999.0000,9,  -999.00,     1514
  49UF20090610,  P13N,  2435,  1,      4,  16010,2,20090625,1452, 15.0013, 164.9997, 5231,   1260.3,   3.3893,  34.5621,2,  34.5604,2,     79.0,2,   117.85,2,    40.40,2,     0.00,2,     2.88,2,   2332.3,2,-999.0000,9,  -999.00,     1508
  49UF20090610,  P13N,  2435,  1,      3,  16009,2,20090625,1452, 15.0013, 164.9997, 5231,   1516.7,   2.7970,  34.5925,2,  34.5913,2,     88.0,2,   129.60,2,    40.40,2,     0.00,2,     2.86,2,   2344.5,2,-999.0000,9,  -999.00,     1503
  49UF20090610,  P13N,  2435,  1,      2,  16008,2,20090625,1452, 15.0013, 164.9997, 5231,   1768.0,   2.3664,  34.6124,2,  34.6111,2,    100.0,2,   138.20,2,    39.80,2,     0.00,2,     2.81,2,   2348.4,6,-999.0000,9,  -999.00,     1458
  49UF20090610,  P13N,  2435,  1,      1,  16007,2,20090625,1452, 15.0013, 164.9997, 5231,   2022.2,   2.0665,  34.6346,2,  34.6340,2,    109.0,2,   143.78,2,    39.40,2,     0.00,2,     2.76,2,   2347.9,2,-999.0000,9,  -999.00,     1452
  49UF20090610,  P13N,  2437,  1,     99,     99,2,20090706,0401, 12.9970, 164.9832, 5196,      0.0,  29.2204,  34.9543,2,-999.0000,9,    198.0,2,     1.01,2,     0.00,2,     0.00,2,     0.12,2,   -999.0,9,-999.0000,9,  -999.00,      435
  49UF20090610,  P13N,  2437,  1,     23,  19380,2,20090706,0401, 12.9970, 164.9832, 5196,     10.9,  29.2265,  34.9541,2,  34.9523,2,    197.0,2,     1.01,2,     0.00,2,     0.00,2,     0.11,2,   -999.0,9,-999.0000,9,  -999.00,      455
  49UF20090610,  P13N,  2437,  1,     22,  16028,2,20090706,0401, 12.9970, 164.9832, 5196,     24.4,  29.1981,  34.9514,2,-999.0000,9,    197.0,2,     1.01,2,     0.00,2,     0.00,2,     0.12,2,   -999.0,9,-999.0000,9,  -999.00,      454
  49UF20090610,  P13N,  2437,  1,     21,  16027,2,20090706,0401, 12.9970, 164.9832, 5196,     50.1,  28.1697,  34.8384,2,-999.0000,9,    206.0,2,     1.01,2,     0.00,2,     0.00,2,     0.11,2,   -999.0,9,-999.0000,9,  -999.00,      453
  49UF20090610,  P13N,  2437,  1,     20,  16026,2,20090706,0401, 12.9970, 164.9832, 5196,     76.6,  27.2533,  34.8381,2,-999.0000,9,    208.0,2,     1.00,2,     0.00,2,     0.00,2,     0.13,2,   -999.0,9,-999.0000,9,  -999.00,      451
  49UF20090610,  P13N,  2437,  1,     19,  19378,2,20090706,0401, 12.9970, 164.9832, 5196,    100.4,  26.5242,  34.9814,2,  35.0203,4,    209.0,2,     0.90,2,     0.00,2,     0.00,2,     0.09,2,   -999.0,9,-999.0000,9,  -999.00,      449
  49UF20090610,  P13N,  2437,  1,     18,  19377,2,20090706,0401, 12.9970, 164.9832, 5196,    126.1,  25.7546,  35.1073,2,-999.0000,9,    203.0,2,     0.95,2,     0.00,2,     0.00,2,     0.08,2,   -999.0,9,-999.0000,9,  -999.00,      447
  49UF20090610,  P13N,  2437,  1,     17,  16023,2,20090706,0401, 12.9970, 164.9832, 5196,    150.0,  23.8166,  35.1059,2,-999.0000,9,    189.0,2,     1.37,2,     0.17,2,     0.13,2,     0.14,2,   -999.0,9,-999.0000,9,  -999.00,      442
  49UF20090610,  P13N,  2437,  1,     15,  16021,2,20090706,0401, 12.9970, 164.9832, 5196,    201.6,  18.6798,  34.8191,2,  34.8198,2,    173.0,2,     4.06,2,     5.49,2,     0.01,2,     0.44,2,   -999.0,9,-999.0000,9,  -999.00,      441
  49UF20090610,  P13N,  2437,  1,     16,  16022,2,20090706,0401, 12.9970, 164.9832, 5196,    201.7,  18.6693,  34.8190,2,  34.8230,4,    176.0,2,     4.06,2,     5.40,2,     0.00,2,     0.45,2,   -999.0,9,-999.0000,9,  -999.00,      441
  49UF20090610,  P13N,  2437,  1,     14,  16020,2,20090706,0401, 12.9970, 164.9832, 5196,    251.0,  14.5289,  34.4586,2,-999.0000,9,    176.0,2,     9.76,2,    11.10,2,     0.00,2,     0.83,2,   -999.0,9,-999.0000,9,  -999.00,      440
  49UF20090610,  P13N,  2437,  1,     13,  16019,2,20090706,0401, 12.9970, 164.9832, 5196,    301.5,  10.8624,  34.2715,2,  34.2812,4,    125.0,2,    23.48,2,    22.10,2,     0.00,2,     1.65,2,   -999.0,9,-999.0000,9,  -999.00,      438
  49UF20090610,  P13N,  2437,  1,     12,  16018,2,20090706,0401, 12.9970, 164.9832, 5196,    403.3,   8.9260,  34.4040,2,  34.4046,2,     58.0,2,    39.85,2,    32.60,2,     0.00,2,     2.41,2,   -999.0,9,-999.0000,9,  -999.00,      436
  49UF20090610,  P13N,  2437,  1,     11,  16017,2,20090706,0401, 12.9970, 164.9832, 5196,    505.0,   7.4836,  34.4896,2,  34.4877,2,     49.0,2,    52.39,2,    37.00,2,     0.00,2,     2.70,2,   -999.0,9,-999.0000,9,  -999.00,      433
  49UF20090610,  P13N,  2437,  1,     10,  19375,2,20090706,0401, 12.9970, 164.9832, 5196,    605.7,   6.5206,  34.4912,2,  34.4922,2,     55.0,2,    62.95,2,    38.30,2,     0.00,2,     2.78,2,   -999.0,9,-999.0000,9,  -999.00,      431
  49UF20090610,  P13N,  2437,  1,      9,  16015,2,20090706,0401, 12.9970, 164.9832, 5196,    706.0,   5.9238,  34.5093,2,  34.5090,2,     53.0,2,    70.70,2,    39.80,2,     0.00,2,     2.88,2,   -999.0,9,-999.0000,9,  -999.00,      428
  49UF20090610,  P13N,  2437,  1,      8,  16014,2,20090706,0401, 12.9970, 164.9832, 5196,    807.1,   5.3567,  34.5167,2,  34.5167,2,     57.0,2,    79.30,2,    40.50,2,     0.00,2,     2.92,2,   -999.0,9,-999.0000,9,  -999.00,      425
  49UF20090610,  P13N,  2437,  1,      6,  19373,2,20090706,0401, 12.9970, 164.9832, 5196,    907.0,   4.8839,  34.5289,2,  34.5306,2,     57.0,2,    87.47,2,    41.20,2,     0.00,2,     2.97,2,   -999.0,9,-999.0000,9,  -999.00,      423
  49UF20090610,  P13N,  2437,  1,      7,  19374,2,20090706,0401, 12.9970, 164.9832, 5196,    907.1,   4.8850,  34.5288,2,  34.5285,4,     57.0,2,    87.56,2,    41.10,2,     0.00,2,     2.97,2,   -999.0,9,-999.0000,9,  -999.00,      423
  49UF20090610,  P13N,  2437,  1,      5,  16011,2,20090706,0401, 12.9970, 164.9832, 5196,   1008.3,   4.3991,  34.5423,2,  34.5426,2,     63.0,2,    96.49,2,    41.30,2,     0.00,2,     2.97,2,   -999.0,9,-999.0000,9,  -999.00,      420
  49UF20090610,  P13N,  2437,  1,      4,  16010,2,20090706,0401, 12.9970, 164.9832, 5196,   1260.0,   3.5476,  34.5686,2,  34.5692,2,     75.0,2,   113.69,2,    41.10,2,     0.00,2,     2.95,2,   -999.0,9,-999.0000,9,  -999.00,      415
  49UF20090610,  P13N,  2437,  1,      3,  16009,2,20090706,0401, 12.9970, 164.9832, 5196,   1514.5,   2.9428,  34.5911,2,  34.5928,2,     85.0,2,   126.03,2,    40.50,2,     0.00,2,     2.89,2,   -999.0,9,-999.0000,9,  -999.00,      410
  49UF20090610,  P13N,  2437,  1,      2,  16008,2,20090706,0401, 12.9970, 164.9832, 5196,   1765.2,   2.4696,  34.6135,2,  34.6145,2,     97.0,2,   135.44,2,    40.10,2,     0.00,2,     2.84,2,   -999.0,9,-999.0000,9,  -999.00,      406
  49UF20090610,  P13N,  2437,  1,      1,  16007,2,20090706,0401, 12.9970, 164.9832, 5196,   2020.0,   2.1782,  34.6301,2,  34.6316,2,    106.0,2,   140.88,2,    39.40,2,     0.00,2,     2.80,2,   -999.0,9,-999.0000,9,  -999.00,      401
  49UF20090610,  P13N,  2440,  1,     99,     99,2,20090707,0027,  9.9963, 163.9758, 4980,      0.0,  29.1479,  34.6147,2,-999.0000,9,    198.0,2,     0.98,2,     0.00,2,     0.00,2,     0.10,2,   -999.0,9,-999.0000,9,  -999.00,      109
  49UF20090610,  P13N,  2440,  1,     23,  19380,2,20090707,0027,  9.9963, 163.9758, 4980,     11.0,  29.1119,  34.6137,2,  34.6136,2,    198.0,2,     0.97,2,     0.00,2,     0.00,2,     0.10,2,   1935.7,2,   8.1112,2,    25.00,      126
  49UF20090610,  P13N,  2440,  1,     22,  16028,2,20090707,0027,  9.9963, 163.9758, 4980,     26.7,  29.0506,  34.6143,2,-999.0000,9,    198.0,2,     0.97,2,     0.00,2,     0.00,2,     0.10,2,   1939.0,2,   8.1073,2,    25.00,      124
  49UF20090610,  P13N,  2440,  1,     21,  16027,2,20090707,0027,  9.9963, 163.9758, 4980,     50.1,  29.0642,  34.6982,2,-999.0000,9,    198.0,2,     0.96,2,     0.00,2,     0.00,2,     0.11,2,   1940.7,2,   8.1060,2,    25.00,      120
  49UF20090610,  P13N,  2440,  1,     20,  16026,2,20090707,0027,  9.9963, 163.9758, 4980,     75.5,  28.4031,  34.7602,2,-999.0000,9,    202.0,2,     0.95,2,     0.00,2,     0.00,2,     0.12,2,   1952.5,2,   8.0999,2,    25.00,      118
  49UF20090610,  P13N,  2440,  1,     18,  19377,2,20090707,0027,  9.9963, 163.9758, 4980,     99.4,  26.5711,  34.8136,2,  34.8166,2,    202.0,2,     1.18,2,     0.00,2,     0.00,2,     0.13,2,   1971.9,2,   8.0748,2,    25.00,      117
  49UF20090610,  P13N,  2440,  1,     19,  19378,2,20090707,0027,  9.9963, 163.9758, 4980,     99.9,  26.4971,  34.8209,2,  34.8150,4,    202.0,2,     1.17,2,     0.10,2,     0.00,2,     0.14,2,   -999.0,9,-999.0000,9,  -999.00,      117
  49UF20090610,  P13N,  2440,  1,     17,  16023,2,20090707,0027,  9.9963, 163.9758, 4980,    125.1,  23.3112,  34.9428,2,-999.0000,9,    198.0,2,     1.54,2,     0.38,2,     0.12,2,     0.18,2,   2022.0,2,   8.0126,2,    25.00,      116
  49UF20090610,  P13N,  2440,  1,     16,  16022,2,20090707,0027,  9.9963, 163.9758, 4980,    151.3,  20.1160,  34.8421,2,-999.0000,9,    166.0,2,     4.36,2,     5.72,2,     0.08,2,     0.52,2,   2072.5,2,   7.9062,2,    25.00,      115
  49UF20090610,  P13N,  2440,  1,     15,  16021,2,20090707,0027,  9.9963, 163.9758, 4980,    201.6,  14.0812,  34.4600,2,  34.4653,2,    130.0,2,    13.90,2,    16.20,2,     0.00,2,     1.23,2,   2137.3,2,   7.7487,2,    25.00,      113
  49UF20090610,  P13N,  2440,  1,     14,  16020,2,20090707,0027,  9.9963, 163.9758, 4980,    251.6,  10.2961,  34.3254,2,-999.0000,9,    102.0,2,    28.00,2,    25.50,2,     0.00,2,     1.88,2,   2191.0,2,   7.6002,2,    25.00,      111
  49UF20090610,  P13N,  2440,  1,     13,  16019,2,20090707,0027,  9.9963, 163.9758, 4980,    304.6,   9.7944,  34.4930,2,  34.4920,2,     59.0,2,    34.24,2,    31.40,2,     0.00,2,     2.27,2,   2232.6,2,   7.5640,2,    25.00,      110
  49UF20090610,  P13N,  2440,  1,     12,  16018,2,20090707,0027,  9.9963, 163.9758, 4980,    405.0,   8.2241,  34.5467,2,  34.5473,2,     60.0,2,    43.55,2,    34.70,2,     0.00,2,     2.48,2,   2257.2,2,   7.5017,2,    25.00,      107
  49UF20090610,  P13N,  2440,  1,     11,  16017,2,20090707,0027,  9.9963, 163.9758, 4980,    504.4,   7.3948,  34.5322,2,  34.5317,2,     67.0,2,    50.04,2,    35.90,2,     0.00,2,     2.55,2,   2263.1,2,   7.4970,2,    25.00,      104
  49UF20090610,  P13N,  2440,  1,     10,  19375,2,20090707,0027,  9.9963, 163.9758, 4980,    606.7,   6.8911,  34.5239,2,  34.5256,2,     68.0,2,    55.07,2,    36.60,2,     0.00,2,     2.62,2,   2266.4,2,   7.5134,2,    25.00,      101
  49UF20090610,  P13N,  2440,  1,      9,  16015,2,20090707,0027,  9.9963, 163.9758, 4980,    707.0,   6.3182,  34.5278,2,  34.5288,2,     62.0,2,    62.71,2,    38.30,2,     0.00,2,     2.75,2,   2284.7,2,   7.4733,2,    25.00,       58
  49UF20090610,  P13N,  2440,  1,      7,  19374,2,20090707,0027,  9.9963, 163.9758, 4980,    807.8,   5.6161,  34.5296,2,  34.5295,2,     65.0,2,    72.92,2,    39.10,2,     0.00,2,     2.82,2,   2291.3,2,   7.5005,2,    25.00,       55
  49UF20090610,  P13N,  2440,  1,      8,  16014,2,20090707,0027,  9.9963, 163.9758, 4980,    809.5,   5.6119,  34.5294,2,  34.5306,4,     67.0,2,    72.93,2,    39.10,2,     0.00,2,     2.81,2,   -999.0,9,-999.0000,9,  -999.00,       55
  49UF20090610,  P13N,  2440,  1,      6,  19373,2,20090707,0027,  9.9963, 163.9758, 4980,    909.7,   5.1202,  34.5399,2,  34.5400,2,     67.0,2,    80.79,2,    39.90,2,     0.00,2,     2.86,2,   2302.6,2,   7.4689,2,    25.00,       52
  49UF20090610,  P13N,  2440,  1,      5,  16011,2,20090707,0027,  9.9963, 163.9758, 4980,   1009.8,   4.6764,  34.5447,2,  34.5452,2,     70.0,2,    89.60,2,    40.10,2,     0.00,2,     2.88,2,   2356.2,4,   7.4755,2,    25.00,       49
  49UF20090610,  P13N,  2440,  1,      4,  16010,2,20090707,0027,  9.9963, 163.9758, 4980,   1261.0,   3.5876,  34.5727,2,  34.5726,2,     75.0,2,   112.04,2,    41.00,2,     0.00,2,     2.94,2,   2337.9,2,   7.4772,2,    25.00,       43
  49UF20090610,  P13N,  2440,  1,      3,  16009,2,20090707,0027,  9.9963, 163.9758, 4980,   1517.0,   2.8706,  34.5978,2,  34.5970,2,     87.0,2,   126.84,2,    40.40,2,     0.00,2,     2.87,2,   2346.1,2,   7.5106,2,    25.00,       38
  49UF20090610,  P13N,  2440,  1,      2,  16008,2,20090707,0027,  9.9963, 163.9758, 4980,   1769.6,   2.4001,  34.6207,2,  34.6224,2,     98.0,2,   136.13,2,    39.60,2,     0.00,2,     2.81,2,   2344.8,6,   7.5115,2,    25.00,       32
  49UF20090610,  P13N,  2440,  1,      1,  16007,2,20090707,0027,  9.9963, 163.9758, 4980,   2029.0,   2.1129,  34.6389,2,  34.6384,2,    108.0,2,   141.85,2,    39.30,2,     0.00,2,     2.77,2,   2346.2,2,   7.5364,6,    25.00,       27