BOTTLE,20190917PRINUNIVRMK
# Processed by CCHDO on 2021-05-24, no changes
# 09/16/2019 Initialized README file  
# Data source:  Masao Ishii 2018/11/30 
# SHIP: R/V Keifu Maru II 
# Cruise: KS09-06 
# Region: Pacific Ocean; mostly P13 with a bit of PR02 
# 	stations 2400:2455 on 165E 5S-50N 
# 	stations 2463:2475 on 137E 3-20N; PR02 
# EXPOCODE: 49UF20090610 
# DATES: 20090610 - 20090812 
# Chief Scientist: Takahiro Segawa 
# 47 stations with 24 place Rosette 
# NOTE: 
# 	Preceeding "KS-" removed from original station numbers 
# 	Preceeding "02-" removed from original bottle numbers 
# 	BUCKET samples coded as bottle/sample 99 
# CTD: Who - Tatsushi Shiga; Status - final 
# 	Includes: CTDSAL 
# SALNTY: Who - Tatsushi Shiga; Status - final 
# 	Notes: 	 
# Nutrients: Who - Tatsushi Shiga; Status - final 
# 	Includes: nitrate, nitrite, silicate, phosphate 
# 	Nitrite and NO3+NO2 reported. Separated by subtraction 
# OXYGEN: Who - Tatsushi Shiga; Status - final 
# 	Notes: 
# TCARBN: Who - Shiya Minato; Status - final 
# 	Notes:  
# PH_TOT: Who - Shiya Minato; Status - final 
# 	Notes:  
# These data should be cited as: Segawa, Takahiro; Shiga, Tatsushi; Minato, Shinya; Matsueda, Hidekazu (2019). Dissolved inorganic carbon (DIC), pH on total scale, temperature, salinity, oxygen, nutrients and other measurements collected from profile and discrete sample observations during the R/V Keifu Maru II cruise KS09-06, GO-SHIP_P13 (EXPOCODE 49UF20090610) in the Pacific Ocean from 2009-06-10 to 2009-08-12 (NCEI Accession 0186218). [indicate subset used]. NOAA National Centers for Environmental Information. Dataset. https://doi.org/10.25921/7z5a-zj52 
# References that have used data from this cruise: 
EXPOCODE,SECT_ID,STNNBR,CASTNO,SAMPNO,BTLNBR,BTLNBR_FLAG_W,DATE,TIME,LATITUDE,LONGITUDE,DEPTH,CTDPRS,CTDTMP,CTDSAL,CTDSAL_FLAG_W,SALNTY,SALNTY_FLAG_W,OXYGEN,OXYGEN_FLAG_W,SILCAT,SILCAT_FLAG_W,NITRAT,NITRAT_FLAG_W,NITRIT,NITRIT_FLAG_W,PHSPHT,PHSPHT_FLAG_W,TCARBN,TCARBN_FLAG_W,PH_TOT,PH_TOT_FLAG_W,PH_TMP,BTL_TIME
,,,,,,,,,,,METERS,DBAR,ITS-90,PSS-78,,PSS-78,,UMOL/KG,,UMOL/KG,,UMOL/KG,,UMOL/KG,,UMOL/KG,,UMOL/KG,,,,DEG C,
  49UF20090610,  P13N,  2400,  1,     99,     99,2,20090616,0047, 49.9812, 165.0297, 5512,      0.0,   5.8778,  33.0083,2,-999.0000,9,    328.0,2,    42.85,2,    21.82,2,     0.28,2,     1.77,2,   -999.0,9,-999.0000,9,  -999.00,      128
  49UF20090610,  P13N,  2400,  1,     23,  19380,2,20090616,0047, 49.9812, 165.0297, 5512,     11.2,   5.4406,  33.0052,2,  33.0121,2,    331.0,2,    42.72,2,    21.73,2,     0.27,2,     1.77,2,   2094.2,2,-999.0000,9,  -999.00,      153
  49UF20090610,  P13N,  2400,  1,     22,  16028,2,20090616,0047, 49.9812, 165.0297, 5512,     26.2,   4.4185,  32.9995,2,-999.0000,9,    343.0,2,    42.43,2,    21.95,2,     0.25,2,     1.78,2,   2097.1,2,-999.0000,9,  -999.00,      151
  49UF20090610,  P13N,  2400,  1,     21,  16027,2,20090616,0047, 49.9812, 165.0297, 5512,     51.7,   2.7258,  33.0366,2,-999.0000,9,    336.0,2,    43.67,2,    24.27,2,     0.33,2,     1.94,2,   2119.2,2,-999.0000,9,  -999.00,      149
  49UF20090610,  P13N,  2400,  1,     20,  16026,2,20090616,0047, 49.9812, 165.0297, 5512,     76.4,   2.4505,  33.0573,2,-999.0000,9,    331.0,2,    44.70,2,    24.80,2,     0.50,2,     1.99,2,   2127.1,2,-999.0000,9,  -999.00,      148
  49UF20090610,  P13N,  2400,  1,     19,  19378,2,20090616,0047, 49.9812, 165.0297, 5512,    102.3,   2.0682,  33.0907,2,  33.1031,4,    322.0,2,    46.22,2,    26.44,2,     0.06,2,     2.05,2,   2134.9,2,-999.0000,9,  -999.00,      146
  49UF20090610,  P13N,  2400,  1,     18,  19377,2,20090616,0047, 49.9812, 165.0297, 5512,    117.2,   2.1002,  33.1477,2,-999.0000,9,    304.0,2,    48.87,2,    27.79,2,     0.01,2,     2.12,2,   2147.0,2,-999.0000,9,  -999.00,      144
  49UF20090610,  P13N,  2400,  1,     17,  16023,2,20090616,0047, 49.9812, 165.0297, 5512,    127.5,   2.2311,  33.2106,2,-999.0000,9,    277.0,2,    53.05,2,    29.59,2,     0.01,2,     2.22,2,   2167.8,2,-999.0000,9,  -999.00,      143
  49UF20090610,  P13N,  2400,  1,     16,  16022,2,20090616,0047, 49.9812, 165.0297, 5512,    137.1,   2.6313,  33.3322,2,-999.0000,9,    214.0,2,    62.64,2,    33.09,2,     0.01,2,     2.45,2,   2203.9,2,-999.0000,9,  -999.00,      141
  49UF20090610,  P13N,  2400,  1,     15,  16021,2,20090616,0047, 49.9812, 165.0297, 5512,    152.1,   3.3938,  33.5305,2,-999.0000,9,    154.0,2,    72.46,2,    36.80,2,     0.00,2,     2.66,2,   2240.5,2,-999.0000,9,  -999.00,      137
  49UF20090610,  P13N,  2400,  1,     14,  16020,2,20090616,0047, 49.9812, 165.0297, 5512,    202.2,   3.6908,  33.6878,2,  33.6881,2,    103.0,2,    81.45,2,    39.90,2,     0.00,2,     2.86,2,   2277.2,2,-999.0000,9,  -999.00,      135
  49UF20090610,  P13N,  2400,  1,     13,  16019,2,20090616,0047, 49.9812, 165.0297, 5512,    253.2,   3.8502,  33.8218,2,-999.0000,9,     63.0,2,    88.80,2,    42.50,2,     0.00,2,     3.02,2,   2305.5,2,-999.0000,9,  -999.00,      134
  49UF20090610,  P13N,  2400,  1,     12,  16018,2,20090616,0047, 49.9812, 165.0297, 5512,    303.4,   3.8667,  33.9181,2,  33.9196,2,     42.0,2,    95.43,2,    43.70,2,     0.00,2,     3.10,2,   2323.7,2,-999.0000,9,  -999.00,      132
  49UF20090610,  P13N,  2400,  1,     11,  16017,2,20090616,0047, 49.9812, 165.0297, 5512,    404.7,   3.6976,  34.0434,2,  34.0439,2,     22.0,2,   107.43,2,    44.80,2,     0.00,2,     3.19,2,   2346.7,2,-999.0000,9,  -999.00,      129
  49UF20090610,  P13N,  2400,  1,     10,  19375,2,20090616,0047, 49.9812, 165.0297, 5512,    505.7,   3.5175,  34.1407,2,  34.1436,2,     21.0,2,   117.57,2,    44.60,2,     0.00,2,     3.17,2,   2355.6,2,-999.0000,9,  -999.00,      127
  49UF20090610,  P13N,  2400,  1,      9,  16015,2,20090616,0047, 49.9812, 165.0297, 5512,    607.9,   3.3469,  34.2139,2,  34.2160,2,     19.0,2,   125.63,2,    44.40,2,     0.00,2,     3.17,2,   2361.0,2,-999.0000,9,  -999.00,      124
  49UF20090610,  P13N,  2400,  1,      8,  16014,2,20090616,0047, 49.9812, 165.0297, 5512,    708.6,   3.1622,  34.2744,2,  34.2764,2,     19.0,2,   133.03,2,    44.30,2,     0.00,2,     3.17,2,   2366.9,2,-999.0000,9,  -999.00,      121
  49UF20090610,  P13N,  2400,  1,      7,  19374,2,20090616,0047, 49.9812, 165.0297, 5512,    809.6,   2.9975,  34.3239,2,  34.3254,2,     17.0,2,   140.61,2,    44.50,2,     0.00,2,     3.18,2,   2375.6,2,-999.0000,9,  -999.00,      118
  49UF20090610,  P13N,  2400,  1,      6,  19373,2,20090616,0047, 49.9812, 165.0297, 5512,    911.2,   2.8481,  34.3657,2,  34.3671,2,     18.0,2,   145.11,2,    44.40,2,     0.00,2,     3.17,2,   2381.9,2,-999.0000,9,  -999.00,      115
  49UF20090610,  P13N,  2400,  1,      5,  16011,2,20090616,0047, 49.9812, 165.0297, 5512,   1012.9,   2.7190,  34.4018,2,  34.4026,2,     21.0,2,   148.91,2,    44.40,2,     0.00,2,     3.16,2,   2387.5,2,-999.0000,9,  -999.00,      113
  49UF20090610,  P13N,  2400,  1,      4,  16010,2,20090616,0047, 49.9812, 165.0297, 5512,   1265.0,   2.3798,  34.4787,2,  34.4799,2,     29.0,2,   159.49,2,    44.10,2,     0.00,2,     3.12,2,   2392.7,2,-999.0000,9,  -999.00,      107
  49UF20090610,  P13N,  2400,  1,      3,  16009,2,20090616,0047, 49.9812, 165.0297, 5512,   1520.4,   2.1423,  34.5331,2,  34.5393,4,     44.0,2,   164.61,2,    42.90,2,     0.00,2,     3.06,2,   2389.4,2,-999.0000,9,  -999.00,      102
  49UF20090610,  P13N,  2400,  1,      2,  16008,2,20090616,0047, 49.9812, 165.0297, 5512,   1772.9,   1.9862,  34.5698,2,  34.5705,2,     57.0,2,   166.78,2,    42.20,2,     0.00,2,     2.99,2,   2384.5,6,-999.0000,9,  -999.00,       53
  49UF20090610,  P13N,  2400,  1,      1,  16007,2,20090616,0047, 49.9812, 165.0297, 5512,   2031.4,   1.8501,  34.5997,2,  34.6006,2,     72.0,2,   167.54,2,    41.20,2,     0.00,2,     2.92,2,   2372.0,2,-999.0000,9,  -999.00,       47
  49UF20090610,  P13N,  2402,  1,     99,     99,2,20090616,1353, 47.9965, 165.0173, 5843,      0.0,   5.4885,  32.9913,2,-999.0000,9,    326.0,2,    40.27,2,    21.45,2,     0.25,2,     1.73,2,   -999.0,9,-999.0000,9,  -999.00,     1446
  49UF20090610,  P13N,  2402,  1,     23,  19380,2,20090616,1353, 47.9965, 165.0173, 5843,     10.0,   5.4893,  32.9917,2,-999.0000,9,    326.0,2,    40.22,2,    21.25,2,     0.25,2,     1.72,2,   2092.3,2,-999.0000,9,  -999.00,     1509
  49UF20090610,  P13N,  2402,  1,     22,  16028,2,20090616,1353, 47.9965, 165.0173, 5843,     26.0,   5.4873,  32.9905,2,-999.0000,9,    326.0,2,    40.11,2,    21.35,2,     0.25,2,     1.74,2,   2091.8,2,-999.0000,9,  -999.00,     1507
  49UF20090610,  P13N,  2402,  1,     21,  16027,2,20090616,1353, 47.9965, 165.0173, 5843,     51.7,   3.3115,  33.0095,2,-999.0000,9,    340.0,2,    41.67,2,    22.86,2,     0.24,2,     1.83,2,   2107.7,2,-999.0000,9,  -999.00,     1505
  49UF20090610,  P13N,  2402,  1,     20,  16026,2,20090616,1353, 47.9965, 165.0173, 5843,     76.1,   2.6825,  33.0293,2,-999.0000,9,    331.0,2,    42.57,2,    24.06,2,     0.44,2,     1.93,2,   2119.0,2,-999.0000,9,  -999.00,     1503
  49UF20090610,  P13N,  2402,  1,     19,  19378,2,20090616,1353, 47.9965, 165.0173, 5843,     92.2,   2.1787,  33.0539,2,-999.0000,9,    328.0,2,    41.94,2,    24.59,2,     0.51,2,     1.95,2,   2128.8,2,-999.0000,9,  -999.00,     1502
  49UF20090610,  P13N,  2402,  1,     18,  19377,2,20090616,1353, 47.9965, 165.0173, 5843,    101.7,   1.9734,  33.0828,2,-999.0000,9,    319.0,2,    45.45,2,    26.64,2,     0.06,2,     2.06,2,   2133.6,2,-999.0000,9,  -999.00,     1501
  49UF20090610,  P13N,  2402,  1,     17,  16023,2,20090616,1353, 47.9965, 165.0173, 5843,    112.0,   2.1011,  33.1838,2,-999.0000,9,    283.0,2,    51.21,2,    29.09,2,     0.01,2,     2.19,2,   2161.8,2,-999.0000,9,  -999.00,     1459
  49UF20090610,  P13N,  2402,  1,     16,  16022,2,20090616,1353, 47.9965, 165.0173, 5843,    126.6,   2.7786,  33.4292,2,-999.0000,9,    193.0,2,    65.22,2,    34.39,2,     0.01,2,     2.52,2,   2217.0,2,-999.0000,9,  -999.00,     1457
  49UF20090610,  P13N,  2402,  1,     15,  16021,2,20090616,1353, 47.9965, 165.0173, 5843,    152.4,   3.4706,  33.7213,2,-999.0000,9,     91.0,2,    83.98,2,    41.10,2,     0.00,2,     2.93,2,   2289.0,2,-999.0000,9,  -999.00,     1453
  49UF20090610,  P13N,  2402,  1,     14,  16020,2,20090616,1353, 47.9965, 165.0173, 5843,    201.9,   3.7894,  33.8762,2,-999.0000,9,     43.0,2,    93.56,2,    44.50,2,     0.00,2,     3.12,2,   2323.7,2,-999.0000,9,  -999.00,     1451
  49UF20090610,  P13N,  2402,  1,     13,  16019,2,20090616,1353, 47.9965, 165.0173, 5843,    254.3,   3.6653,  33.9568,2,-999.0000,9,     30.0,2,   100.73,2,    44.80,2,     0.00,2,     3.17,2,   2339.0,2,-999.0000,9,  -999.00,     1450
  49UF20090610,  P13N,  2402,  1,     12,  16018,2,20090616,1353, 47.9965, 165.0173, 5843,    303.9,   3.6514,  34.0253,2,-999.0000,9,     21.0,2,   106.15,2,    45.10,2,     0.00,2,     3.20,2,   2346.0,2,-999.0000,9,  -999.00,     1448
  49UF20090610,  P13N,  2402,  1,     11,  16017,2,20090616,1353, 47.9965, 165.0173, 5843,    405.4,   3.5256,  34.1340,2,-999.0000,9,     20.0,2,   117.44,2,    44.80,2,     0.00,2,     3.18,2,   2357.6,2,-999.0000,9,  -999.00,     1445
  49UF20090610,  P13N,  2402,  1,     10,  19375,2,20090616,1353, 47.9965, 165.0173, 5843,    506.2,   3.3826,  34.2207,2,-999.0000,9,     21.0,2,   124.74,2,    44.80,2,     0.00,2,     3.16,2,   2361.2,2,-999.0000,9,  -999.00,     1442
  49UF20090610,  P13N,  2402,  1,      9,  16015,2,20090616,1353, 47.9965, 165.0173, 5843,    606.0,   3.1552,  34.2609,2,-999.0000,9,     19.0,2,   132.05,2,    44.40,2,     0.00,2,     3.16,2,   2367.9,2,-999.0000,9,  -999.00,     1439
  49UF20090610,  P13N,  2402,  1,      8,  16014,2,20090616,1353, 47.9965, 165.0173, 5843,    708.0,   2.9982,  34.3128,2,-999.0000,9,     21.0,2,   138.31,2,    44.30,2,     0.00,2,     3.15,2,   2371.7,2,-999.0000,9,  -999.00,     1436
  49UF20090610,  P13N,  2402,  1,      7,  19374,2,20090616,1353, 47.9965, 165.0173, 5843,    809.5,   2.8477,  34.3560,2,-999.0000,9,     20.0,2,   143.82,2,    44.40,2,     0.00,2,     3.16,2,   2376.0,2,-999.0000,9,  -999.00,     1434
  49UF20090610,  P13N,  2402,  1,      6,  19373,2,20090616,1353, 47.9965, 165.0173, 5843,    910.9,   2.7163,  34.3913,2,-999.0000,9,     21.0,2,   148.43,2,    44.40,2,     0.00,2,     3.15,2,   2384.7,2,-999.0000,9,  -999.00,     1427
  49UF20090610,  P13N,  2402,  1,      5,  16011,2,20090616,1353, 47.9965, 165.0173, 5843,   1011.1,   2.5772,  34.4247,2,-999.0000,9,     24.0,2,   153.43,2,    44.30,2,     0.00,2,     3.14,2,   2388.6,2,-999.0000,9,  -999.00,     1424
  49UF20090610,  P13N,  2402,  1,      4,  16010,2,20090616,1353, 47.9965, 165.0173, 5843,   1266.1,   2.2858,  34.4954,2,-999.0000,9,     37.0,2,   160.82,2,    43.60,2,     0.00,2,     3.09,2,   2389.7,2,-999.0000,9,  -999.00,     1418
  49UF20090610,  P13N,  2402,  1,      3,  16009,2,20090616,1353, 47.9965, 165.0173, 5843,   1519.5,   2.1034,  34.5420,2,-999.0000,9,     43.0,2,   164.19,2,    42.90,2,     0.00,2,     3.04,2,   2387.1,2,-999.0000,9,  -999.00,     1412
  49UF20090610,  P13N,  2402,  1,      2,  16008,2,20090616,1353, 47.9965, 165.0173, 5843,   1773.8,   1.9358,  34.5815,2,-999.0000,9,     62.0,2,   165.77,2,    41.70,2,     0.00,2,     2.96,2,   2382.2,6,-999.0000,9,  -999.00,     1359
  49UF20090610,  P13N,  2402,  1,      1,  16007,2,20090616,1353, 47.9965, 165.0173, 5843,   2029.5,   1.7951,  34.6113,2,-999.0000,9,     81.0,2,   164.52,2,    41.00,2,     0.00,2,     2.88,2,   2374.3,2,-999.0000,9,  -999.00,     1353
  49UF20090610,  P13N,  2403,  1,     99,     99,2,20090616,2056, 46.9868, 165.0297, 5887,      0.0,   6.2401,  33.0868,2,-999.0000,9,    322.0,2,    37.13,2,    19.70,2,     0.20,2,     1.65,2,   -999.0,9,-999.0000,9,  -999.00,     2143
  49UF20090610,  P13N,  2403,  1,     23,  19380,2,20090616,2056, 46.9868, 165.0297, 5887,     10.5,   6.2326,  33.0867,2,-999.0000,9,    322.0,2,    37.22,2,    19.70,2,     0.20,2,     1.65,2,   -999.0,9,-999.0000,9,  -999.00,     2202
  49UF20090610,  P13N,  2403,  1,     22,  16028,2,20090616,2056, 46.9868, 165.0297, 5887,     26.1,   5.2898,  33.0964,2,-999.0000,9,    333.0,2,    37.84,2,    20.00,2,     0.20,2,     1.67,2,   -999.0,9,-999.0000,9,  -999.00,     2200
  49UF20090610,  P13N,  2403,  1,     21,  16027,4,20090616,2056, 46.9868, 165.0297, 5887,     50.4,   4.2812,  33.1281,2,-999.0000,9,   -999.0,9,  -999.00,9,  -999.00,9,  -999.00,9,  -999.00,9,   -999.0,9,-999.0000,9,  -999.00,     2156
  49UF20090610,  P13N,  2403,  1,     20,  16026,2,20090616,2056, 46.9868, 165.0297, 5887,     75.9,   2.7910,  33.1524,2,-999.0000,9,    325.0,2,    39.91,2,    23.04,2,     0.56,2,     1.87,2,   -999.0,9,-999.0000,9,  -999.00,     2154
  49UF20090610,  P13N,  2403,  1,     19,  19378,2,20090616,2056, 46.9868, 165.0297, 5887,    101.3,   3.1202,  33.2283,2,-999.0000,9,    319.0,2,    38.73,2,    23.08,2,     0.12,2,     1.82,2,   -999.0,9,-999.0000,9,  -999.00,     2153
  49UF20090610,  P13N,  2403,  1,     18,  19377,2,20090616,2056, 46.9868, 165.0297, 5887,    126.2,   3.7389,  33.3546,2,-999.0000,9,    309.0,2,    35.70,2,    21.69,2,     0.01,2,     1.68,2,   -999.0,9,-999.0000,9,  -999.00,     2152
  49UF20090610,  P13N,  2403,  1,     17,  16023,2,20090616,2056, 46.9868, 165.0297, 5887,    151.6,   3.1862,  33.3986,2,-999.0000,9,    267.0,2,    48.27,2,    26.59,2,     0.01,2,     2.01,2,   -999.0,9,-999.0000,9,  -999.00,     2151
  49UF20090610,  P13N,  2403,  1,     16,  16022,2,20090616,2056, 46.9868, 165.0297, 5887,    201.9,   3.4526,  33.6771,2,-999.0000,9,    168.0,2,    69.10,2,    33.40,2,     0.00,2,     2.45,2,   -999.0,9,-999.0000,9,  -999.00,     2148
  49UF20090610,  P13N,  2403,  1,     15,  16021,2,20090616,2056, 46.9868, 165.0297, 5887,    252.1,   3.3232,  33.7494,2,-999.0000,9,    133.0,2,    79.33,2,    36.20,2,     0.00,2,     2.64,2,   -999.0,9,-999.0000,9,  -999.00,     2146
  49UF20090610,  P13N,  2403,  1,     13,  16019,2,20090616,2056, 46.9868, 165.0297, 5887,    304.5,   3.5547,  33.8611,2,-999.0000,9,    105.0,2,    86.64,2,    38.00,2,     0.00,2,     2.74,2,   -999.0,9,-999.0000,9,  -999.00,     2144
  49UF20090610,  P13N,  2403,  1,     14,  16020,2,20090616,2056, 46.9868, 165.0297, 5887,    305.1,   3.5457,  33.8609,2,-999.0000,9,    106.0,2,    86.09,2,    37.80,2,     0.00,2,     2.74,2,   -999.0,9,-999.0000,9,  -999.00,     2144
  49UF20090610,  P13N,  2403,  1,     12,  16018,2,20090616,2056, 46.9868, 165.0297, 5887,    406.7,   3.2957,  33.9510,2,-999.0000,9,     69.0,2,   101.57,2,    41.50,2,     0.00,2,     2.97,2,   -999.0,9,-999.0000,9,  -999.00,     2141
  49UF20090610,  P13N,  2403,  1,     11,  16017,2,20090616,2056, 46.9868, 165.0297, 5887,    507.4,   3.3500,  34.0784,2,-999.0000,9,     42.0,2,   113.27,2,    43.00,2,     0.00,2,     3.08,2,   -999.0,9,-999.0000,9,  -999.00,     2138
  49UF20090610,  P13N,  2403,  1,     10,  19375,2,20090616,2056, 46.9868, 165.0297, 5887,    607.9,   3.3158,  34.1790,2,-999.0000,9,     36.0,2,   121.05,2,    43.30,2,     0.00,2,     3.08,2,   -999.0,9,-999.0000,9,  -999.00,     2134
  49UF20090610,  P13N,  2403,  1,      9,  16015,2,20090616,2056, 46.9868, 165.0297, 5887,    708.3,   3.3159,  34.2685,2,-999.0000,9,     38.0,2,   125.62,2,    42.90,2,     0.00,2,     3.05,2,   -999.0,9,-999.0000,9,  -999.00,     2131
  49UF20090610,  P13N,  2403,  1,      8,  16014,2,20090616,2056, 46.9868, 165.0297, 5887,    810.3,   3.0229,  34.2991,2,-999.0000,9,     32.0,2,   134.60,2,    43.50,2,     0.00,2,     3.10,2,   -999.0,9,-999.0000,9,  -999.00,     2128
  49UF20090610,  P13N,  2403,  1,      7,  19374,2,20090616,2056, 46.9868, 165.0297, 5887,    911.9,   2.8621,  34.3431,2,-999.0000,9,     28.0,2,   141.35,2,    43.90,2,     0.00,2,     3.12,2,   -999.0,9,-999.0000,9,  -999.00,     2125
  49UF20090610,  P13N,  2403,  1,      6,  19373,2,20090616,2056, 46.9868, 165.0297, 5887,   1013.4,   2.7673,  34.3807,2,-999.0000,9,     18.0,2,   148.82,2,    44.50,2,     0.00,2,     3.17,2,   -999.0,9,-999.0000,9,  -999.00,     2121
  49UF20090610,  P13N,  2403,  1,      5,  16011,2,20090616,2056, 46.9868, 165.0297, 5887,   1265.4,   2.4231,  34.4612,2,-999.0000,9,     27.0,2,   158.88,2,    43.90,2,     0.00,2,     3.13,2,   -999.0,9,-999.0000,9,  -999.00,     2114
  49UF20090610,  P13N,  2403,  1,      4,  16010,2,20090616,2056, 46.9868, 165.0297, 5887,   1517.7,   2.1857,  34.5200,2,-999.0000,9,     41.0,2,   164.28,2,    43.20,2,     0.00,2,     3.07,2,   -999.0,9,-999.0000,9,  -999.00,     2108
  49UF20090610,  P13N,  2403,  1,      3,  16009,2,20090616,2056, 46.9868, 165.0297, 5887,   1518.2,   2.1862,  34.5198,2,-999.0000,9,     41.0,2,   164.54,2,    43.30,2,     0.00,2,     3.07,2,   -999.0,9,-999.0000,9,  -999.00,     2107
  49UF20090610,  P13N,  2403,  1,      2,  16008,2,20090616,2056, 46.9868, 165.0297, 5887,   1771.7,   2.0327,  34.5621,2,-999.0000,9,     54.0,2,   165.57,2,    42.60,2,     0.00,2,     3.00,2,   -999.0,9,-999.0000,9,  -999.00,     2102
  49UF20090610,  P13N,  2403,  1,      1,  16007,2,20090616,2056, 46.9868, 165.0297, 5887,   2032.4,   1.8854,  34.5963,2,-999.0000,9,     71.0,2,   165.24,2,    41.50,2,     0.00,2,     2.92,2,   -999.0,9,-999.0000,9,  -999.00,     2056