BOTTLE,20190917PRINUNIVRMK
EXPOCODE,SECT_ID,STNNBR,CASTNO,SAMPNO,BTLNBR,BTLNBR_FLAG_W,DATE,TIME,LATITUDE,LONGITUDE,DEPTH,CTDPRS,CTDTMP,CTDSAL,CTDSAL_FLAG_W,SALNTY,SALNTY_FLAG_W,OXYGEN,OXYGEN_FLAG_W,SILCAT,SILCAT_FLAG_W,NITRAT,NITRAT_FLAG_W,NITRIT,NITRIT_FLAG_W,PHSPHT,PHSPHT_FLAG_W,TCARBN,TCARBN_FLAG_W,PH_TOT,PH_TOT_FLAG_W,PH_TMP,BTL_TIME
,,,,,,,,,,,METERS,DBAR,ITS-90,PSS-78,,PSS-78,,UMOL/KG,,UMOL/KG,,UMOL/KG,,UMOL/KG,,UMOL/KG,,UMOL/KG,,,,DEG C,
  49UF20090610,  P13N,  2405,  1,     99,     99,2,20090617,1023, 44.9907, 165.0185, 5910,      0.0,   7.4555,  33.3510,2,-999.0000,9,    309.0,2,    25.82,2,    13.60,2,     0.20,2,     1.21,2,   -999.0,9,-999.0000,9,  -999.00,     1102
  49UF20090610,  P13N,  2405,  1,     23,  19380,2,20090617,1023, 44.9907, 165.0185, 5910,     11.1,   7.4554,  33.3503,2,  33.3534,2,    309.0,2,    26.14,2,    13.70,2,     0.20,2,     1.22,2,   2081.7,2,-999.0000,9,  -999.00,     1125
  49UF20090610,  P13N,  2405,  1,     22,  16028,2,20090617,1023, 44.9907, 165.0185, 5910,     26.4,   7.4558,  33.3521,2,-999.0000,9,    309.0,2,    26.09,2,    13.59,2,     0.21,2,     1.23,2,   2081.7,2,-999.0000,9,  -999.00,     1124
  49UF20090610,  P13N,  2405,  1,     21,  16027,2,20090617,1023, 44.9907, 165.0185, 5910,     52.1,   5.7751,  33.5142,2,-999.0000,9,    307.0,2,    23.95,2,    14.99,2,     0.41,2,     1.24,2,   2098.3,2,-999.0000,9,  -999.00,     1119
  49UF20090610,  P13N,  2405,  1,     20,  16026,2,20090617,1023, 44.9907, 165.0185, 5910,     76.9,   5.4236,  33.5446,2,-999.0000,9,    303.0,2,    24.23,2,    16.08,2,     0.02,2,     1.27,2,   2107.6,2,-999.0000,9,  -999.00,     1118
  49UF20090610,  P13N,  2405,  1,     19,  19378,2,20090617,1023, 44.9907, 165.0185, 5910,    101.7,   5.3653,  33.5445,2,  33.5441,2,    303.0,2,    24.66,2,    16.29,2,     0.01,2,     1.28,2,   2111.4,2,-999.0000,9,  -999.00,     1116
  49UF20090610,  P13N,  2405,  1,     18,  19377,2,20090617,1023, 44.9907, 165.0185, 5910,    127.5,   5.0346,  33.5095,2,-999.0000,9,    305.0,2,    25.93,2,    16.99,2,     0.01,2,     1.34,2,   2113.2,2,-999.0000,9,  -999.00,     1114
  49UF20090610,  P13N,  2405,  1,     17,  16023,2,20090617,1023, 44.9907, 165.0185, 5910,    152.2,   4.8561,  33.4932,2,-999.0000,9,    306.0,2,    26.17,2,    17.19,2,     0.01,2,     1.35,2,   2111.8,2,-999.0000,9,  -999.00,     1113
  49UF20090610,  P13N,  2405,  1,     16,  16022,2,20090617,1023, 44.9907, 165.0185, 5910,    202.4,   4.8322,  33.5965,2,  33.6071,4,    261.0,2,    36.55,2,    21.70,2,     0.00,2,     1.64,2,   2148.0,2,-999.0000,9,  -999.00,     1111
  49UF20090610,  P13N,  2405,  1,     15,  16021,2,20090617,1023, 44.9907, 165.0185, 5910,    254.1,   3.9155,  33.7201,2,-999.0000,9,    168.0,2,    65.99,2,    32.50,2,     0.00,2,     2.39,2,   2232.3,2,-999.0000,9,  -999.00,     1109
  49UF20090610,  P13N,  2405,  1,     14,  16020,2,20090617,1023, 44.9907, 165.0185, 5910,    304.0,   3.4530,  33.7491,2,  33.7487,2,    139.0,2,    77.14,2,    35.80,2,     0.00,2,     2.62,2,   -999.0,9,-999.0000,9,  -999.00,     1107
  49UF20090610,  P13N,  2405,  1,     13,  16019,2,20090617,1023, 44.9907, 165.0185, 5910,    304.6,   3.4522,  33.7497,2,  33.7525,2,    137.0,2,    77.27,2,    35.90,2,     0.00,2,     2.62,2,   2260.6,2,-999.0000,9,  -999.00,     1107
  49UF20090610,  P13N,  2405,  1,     12,  16018,2,20090617,1023, 44.9907, 165.0185, 5910,    404.7,   3.5780,  33.9205,2,  33.9244,2,     82.0,2,    93.58,2,    40.20,2,     0.00,2,     2.89,2,   2303.0,2,-999.0000,9,  -999.00,     1104
  49UF20090610,  P13N,  2405,  1,     11,  16017,2,20090617,1023, 44.9907, 165.0185, 5910,    505.3,   3.8093,  34.0724,2,  34.0740,2,     61.0,2,   101.96,2,    40.70,2,     0.00,2,     2.92,2,   2312.7,2,-999.0000,9,  -999.00,     1101
  49UF20090610,  P13N,  2405,  1,     10,  19375,2,20090617,1023, 44.9907, 165.0185, 5910,    607.3,   3.5740,  34.1755,2,  34.1768,2,     46.0,2,   114.38,2,    42.00,2,     0.00,2,     3.01,2,   2339.7,2,-999.0000,9,  -999.00,     1059
  49UF20090610,  P13N,  2405,  1,      9,  16015,2,20090617,1023, 44.9907, 165.0185, 5910,    708.0,   3.3634,  34.2447,2,  34.2474,2,     40.0,2,   124.09,2,    42.40,2,     0.00,2,     3.06,2,   2349.1,2,-999.0000,9,  -999.00,     1055
  49UF20090610,  P13N,  2405,  1,      8,  16014,2,20090617,1023, 44.9907, 165.0185, 5910,    808.7,   3.1619,  34.2947,2,  34.2994,4,     36.0,2,   130.92,2,    42.90,2,     0.00,2,     3.08,2,   2355.1,2,-999.0000,9,  -999.00,     1052
  49UF20090610,  P13N,  2405,  1,      7,  19374,2,20090617,1023, 44.9907, 165.0185, 5910,    909.5,   2.9943,  34.3435,2,  34.3447,2,     36.0,2,   136.95,2,    43.00,2,     0.00,2,     3.09,2,   2365.4,2,-999.0000,9,  -999.00,     1049
  49UF20090610,  P13N,  2405,  1,      6,  19373,2,20090617,1023, 44.9907, 165.0185, 5910,   1010.3,   2.8478,  34.3861,2,  34.3874,2,     38.0,2,   141.45,2,    43.20,2,     0.00,2,     3.09,2,   2368.3,2,-999.0000,9,  -999.00,     1047
  49UF20090610,  P13N,  2405,  1,      4,  16010,2,20090617,1023, 44.9907, 165.0185, 5910,   1265.9,   2.4919,  34.4602,2,  34.4618,4,     40.0,2,   152.31,2,    43.20,2,     0.00,2,     3.09,2,   2375.8,2,-999.0000,9,  -999.00,     1040
  49UF20090610,  P13N,  2405,  1,      5,  16011,2,20090617,1023, 44.9907, 165.0185, 5910,   1266.7,   2.4918,  34.4602,2,  34.4589,2,     41.0,2,   152.17,2,    43.40,2,     0.00,2,     3.08,2,   -999.0,9,-999.0000,9,  -999.00,     1041
  49UF20090610,  P13N,  2405,  1,      3,  16009,2,20090617,1023, 44.9907, 165.0185, 5910,   1519.0,   2.2631,  34.5126,2,  34.5158,4,     46.0,2,   158.51,2,    42.90,2,     0.00,2,     3.06,2,   2381.1,2,-999.0000,9,  -999.00,     1035
  49UF20090610,  P13N,  2405,  1,      2,  16008,2,20090617,1023, 44.9907, 165.0185, 5910,   1771.9,   2.0826,  34.5549,2,  34.5573,4,     54.0,2,   163.15,2,    42.60,2,     0.00,2,     3.01,2,   2382.6,6,-999.0000,9,  -999.00,     1029
  49UF20090610,  P13N,  2405,  1,      1,  16007,2,20090617,1023, 44.9907, 165.0185, 5910,   2038.6,   1.9266,  34.5892,2,  34.5939,4,     68.0,2,   164.96,2,    41.50,2,     0.00,2,     2.95,2,   2376.6,2,-999.0000,9,  -999.00,     1023
  49UF20090610,  P13N,  2407,  1,     99,     99,2,20090617,2323, 42.9905, 165.0082, 5398,      0.0,   8.4992,  33.1694,2,-999.0000,9,    301.0,2,    20.12,2,    11.05,2,     0.15,2,     1.07,2,   -999.0,9,-999.0000,9,  -999.00,     2356
  49UF20090610,  P13N,  2407,  1,     23,  19380,2,20090617,2323, 42.9905, 165.0082, 5398,     11.3,   8.4986,  33.1692,2,-999.0000,9,    301.0,2,    20.07,2,    10.95,2,     0.15,2,     1.06,2,   2060.0,2,-999.0000,9,  -999.00,       20
  49UF20090610,  P13N,  2407,  1,     22,  16028,2,20090617,2323, 42.9905, 165.0082, 5398,     26.2,   7.1814,  33.1661,2,-999.0000,9,    316.0,2,    21.02,2,    11.72,2,     0.18,2,     1.11,2,   2065.6,2,-999.0000,9,  -999.00,       18
  49UF20090610,  P13N,  2407,  1,     21,  16027,2,20090617,2323, 42.9905, 165.0082, 5398,     51.2,   5.7167,  33.4371,2,-999.0000,9,    307.0,2,    22.85,2,    14.45,2,     0.45,2,     1.20,2,   2094.1,2,-999.0000,9,  -999.00,       14
  49UF20090610,  P13N,  2407,  1,     20,  16026,2,20090617,2323, 42.9905, 165.0082, 5398,     76.6,   6.3388,  33.5843,2,-999.0000,9,    296.0,2,    21.67,2,    14.63,2,     0.07,2,     1.15,2,   2090.6,2,-999.0000,9,  -999.00,       13
  49UF20090610,  P13N,  2407,  1,     19,  19378,2,20090617,2323, 42.9905, 165.0082, 5398,    102.0,   5.8609,  33.5432,2,-999.0000,9,    299.0,2,    22.75,2,    15.28,2,     0.02,2,     1.19,2,   2097.0,2,-999.0000,9,  -999.00,       12
  49UF20090610,  P13N,  2407,  1,     18,  19377,2,20090617,2323, 42.9905, 165.0082, 5398,    127.5,   5.1137,  33.4995,2,-999.0000,9,    292.0,2,    27.07,2,    17.48,2,     0.02,2,     1.37,2,   2115.6,2,-999.0000,9,  -999.00,       11
  49UF20090610,  P13N,  2407,  1,     17,  16023,2,20090617,2323, 42.9905, 165.0082, 5398,    152.7,   4.7669,  33.5785,2,-999.0000,9,    252.0,2,    38.29,2,    22.49,2,     0.01,2,     1.70,2,   2149.8,2,-999.0000,9,  -999.00,       10
  49UF20090610,  P13N,  2407,  1,     15,  16021,2,20090617,2323, 42.9905, 165.0082, 5398,    202.3,   4.2811,  33.6954,2,-999.0000,9,    181.0,2,    58.78,2,    30.49,2,     0.01,2,     2.24,2,   2210.8,2,-999.0000,9,  -999.00,        8
  49UF20090610,  P13N,  2407,  1,     16,  16022,2,20090617,2323, 42.9905, 165.0082, 5398,    203.1,   4.2755,  33.6967,2,-999.0000,9,    184.0,2,    58.46,2,    30.39,2,     0.01,2,     2.26,2,   -999.0,9,-999.0000,9,  -999.00,        8
  49UF20090610,  P13N,  2407,  1,     14,  16020,2,20090617,2323, 42.9905, 165.0082, 5398,    253.5,   3.9538,  33.7743,2,-999.0000,9,    138.0,2,    72.25,2,    34.80,2,     0.00,2,     2.52,2,   2251.7,2,-999.0000,9,  -999.00,        6
  49UF20090610,  P13N,  2407,  1,     13,  16019,2,20090617,2323, 42.9905, 165.0082, 5398,    303.4,   3.6287,  33.8409,2,-999.0000,9,    100.0,2,    84.65,2,    38.50,2,     0.00,2,     2.78,2,   2283.0,2,-999.0000,9,  -999.00,        4
  49UF20090610,  P13N,  2407,  1,     12,  16018,2,20090617,2323, 42.9905, 165.0082, 5398,    404.6,   3.7079,  33.9968,2,-999.0000,9,     69.0,2,    97.65,2,    40.80,2,     0.00,2,     2.93,2,   2309.0,2,-999.0000,9,  -999.00,        2
  49UF20090610,  P13N,  2407,  1,     11,  16017,2,20090617,2323, 42.9905, 165.0082, 5398,    505.9,   3.5849,  34.1195,2,-999.0000,9,     44.0,2,   110.90,2,    42.40,2,     0.00,2,     3.03,2,   2337.0,2,-999.0000,9,  -999.00,     2359
  49UF20090610,  P13N,  2407,  1,     10,  19375,2,20090617,2323, 42.9905, 165.0082, 5398,    607.6,   3.4741,  34.1989,2,-999.0000,9,     39.0,2,   118.60,2,    42.60,2,     0.00,2,     3.05,2,   2347.5,2,-999.0000,9,  -999.00,     2356
  49UF20090610,  P13N,  2407,  1,      9,  16015,2,20090617,2323, 42.9905, 165.0082, 5398,    708.0,   3.3100,  34.2643,2,-999.0000,9,     39.0,2,   125.79,2,    43.00,2,     0.00,2,     3.07,2,   2350.8,2,-999.0000,9,  -999.00,     2354
  49UF20090610,  P13N,  2407,  1,      8,  16014,2,20090617,2323, 42.9905, 165.0082, 5398,    808.9,   3.1292,  34.3179,2,-999.0000,9,     34.0,2,   132.70,2,    43.20,2,     0.00,2,     3.09,2,   2365.3,2,-999.0000,9,  -999.00,     2351
  49UF20090610,  P13N,  2407,  1,      7,  19374,2,20090617,2323, 42.9905, 165.0082, 5398,    909.9,   2.9452,  34.3603,2,-999.0000,9,     33.0,2,   139.09,2,    43.30,2,     0.00,2,     3.10,2,   2368.0,2,-999.0000,9,  -999.00,     2349
  49UF20090610,  P13N,  2407,  1,      6,  19373,2,20090617,2323, 42.9905, 165.0082, 5398,   1011.7,   2.7884,  34.3961,2,-999.0000,9,     32.0,2,   144.32,2,    43.50,2,     0.00,2,     3.10,2,   -999.0,9,-999.0000,9,  -999.00,     2346
  49UF20090610,  P13N,  2407,  1,      5,  16011,2,20090617,2323, 42.9905, 165.0082, 5398,   1012.2,   2.7879,  34.3962,2,-999.0000,9,     33.0,2,   143.93,2,    43.60,2,     0.00,2,     3.11,2,   2370.7,2,-999.0000,9,  -999.00,     2346
  49UF20090610,  P13N,  2407,  1,      4,  16010,2,20090617,2323, 42.9905, 165.0082, 5398,   1264.3,   2.5032,  34.4672,2,-999.0000,9,     39.0,2,   152.78,2,    43.40,2,     0.00,2,     3.09,2,   2381.0,2,-999.0000,9,  -999.00,     2341
  49UF20090610,  P13N,  2407,  1,      3,  16009,2,20090617,2323, 42.9905, 165.0082, 5398,   1518.8,   2.2622,  34.5213,2,-999.0000,9,     46.0,2,   158.31,2,    43.00,2,     0.00,2,     3.06,2,   2385.0,2,-999.0000,9,  -999.00,     2335
  49UF20090610,  P13N,  2407,  1,      2,  16008,2,20090617,2323, 42.9905, 165.0082, 5398,   1768.3,   2.0554,  34.5659,2,-999.0000,9,     59.0,2,   161.53,2,    42.20,2,     0.00,2,     2.98,2,   2382.0,2,-999.0000,9,  -999.00,     2329
  49UF20090610,  P13N,  2407,  1,      1,  16007,2,20090617,2323, 42.9905, 165.0082, 5398,   2025.4,   1.8949,  34.5986,2,-999.0000,9,     76.0,2,   162.39,2,    41.40,2,     0.00,2,     2.91,2,   2375.5,2,-999.0000,9,  -999.00,     2323
  49UF20090610,  P13N,  2410,  1,     99,     99,2,20090618,1857, 40.0000, 164.9950, 5455,      0.0,  16.0204,  34.4220,2,-999.0000,9,    256.0,2,     0.78,2,     0.00,2,     0.00,2,     0.04,2,   -999.0,9,-999.0000,9,  -999.00,     1936
  49UF20090610,  P13N,  2410,  1,     23,  19380,2,20090618,1857, 40.0000, 164.9950, 5455,     10.5,  16.0244,  34.4223,2,  34.4259,2,    256.0,2,     0.79,2,     0.00,2,     0.00,2,     0.05,2,   2002.2,2,-999.0000,9,  -999.00,     1952
  49UF20090610,  P13N,  2410,  1,     22,  16028,2,20090618,1857, 40.0000, 164.9950, 5455,     25.8,  15.7377,  34.4130,2,-999.0000,9,    258.0,2,     0.84,2,     0.00,2,     0.00,2,     0.05,2,   1996.3,2,-999.0000,9,  -999.00,     1951
  49UF20090610,  P13N,  2410,  1,     21,  16027,2,20090618,1857, 40.0000, 164.9950, 5455,     50.0,  12.4098,  34.2859,2,-999.0000,9,    254.0,2,    13.76,2,     8.32,2,     0.38,2,     0.65,2,   2065.4,2,-999.0000,9,  -999.00,     1946
  49UF20090610,  P13N,  2410,  1,     20,  16026,2,20090618,1857, 40.0000, 164.9950, 5455,     74.9,  11.5736,  34.2758,2,-999.0000,9,    241.0,2,    15.80,2,    11.56,2,     0.04,2,     0.80,2,   2081.8,2,-999.0000,9,  -999.00,     1945
  49UF20090610,  P13N,  2410,  1,     19,  19378,2,20090618,1857, 40.0000, 164.9950, 5455,    102.1,  10.9470,  34.2358,2,  34.2360,2,    243.0,2,    16.86,2,    12.28,2,     0.02,2,     0.86,2,   2083.4,2,-999.0000,9,  -999.00,     1944
  49UF20090610,  P13N,  2410,  1,     18,  19377,2,20090618,1857, 40.0000, 164.9950, 5455,    126.8,  10.3208,  34.1870,2,-999.0000,9,    246.0,2,    19.35,2,    13.68,2,     0.02,2,     0.97,2,   2095.2,2,-999.0000,9,  -999.00,     1943
  49UF20090610,  P13N,  2410,  1,     17,  16023,2,20090618,1857, 40.0000, 164.9950, 5455,    152.7,   9.0625,  34.0503,2,-999.0000,9,    258.0,2,    21.13,2,    14.49,2,     0.01,2,     1.04,2,   2109.8,2,-999.0000,9,  -999.00,     1942
  49UF20090610,  P13N,  2410,  1,     16,  16022,2,20090618,1857, 40.0000, 164.9950, 5455,    201.9,   8.4440,  34.0371,2,  34.0308,2,    230.0,2,    28.25,2,    18.08,2,     0.02,2,     1.30,2,   -999.0,9,-999.0000,9,  -999.00,     1941
  49UF20090610,  P13N,  2410,  1,     15,  16021,2,20090618,1857, 40.0000, 164.9950, 5455,    202.0,   8.3540,  34.0321,2,  34.0324,2,    229.0,2,    28.37,2,    18.08,2,     0.02,2,     1.30,2,   2128.0,2,-999.0000,9,  -999.00,     1941
  49UF20090610,  P13N,  2410,  1,     14,  16020,2,20090618,1857, 40.0000, 164.9950, 5455,    252.7,   7.1354,  33.9528,2,-999.0000,9,    184.0,4,    38.80,2,    22.79,2,     0.01,2,     1.63,2,   2156.1,2,-999.0000,9,  -999.00,     1939
  49UF20090610,  P13N,  2410,  1,     13,  16019,2,20090618,1857, 40.0000, 164.9950, 5455,    303.9,   6.0649,  33.8969,2,  33.9065,4,    184.0,2,    48.72,2,    26.39,2,     0.01,2,     1.91,2,   2191.4,2,-999.0000,9,  -999.00,     1938
  49UF20090610,  P13N,  2410,  1,     12,  16018,2,20090618,1857, 40.0000, 164.9950, 5455,    404.2,   4.6082,  33.8929,2,  33.8949,2,    136.0,2,    71.00,2,    33.50,2,     0.00,2,     2.43,2,   2244.3,2,-999.0000,9,  -999.00,     1935
  49UF20090610,  P13N,  2410,  1,     11,  16017,2,20090618,1857, 40.0000, 164.9950, 5455,    505.3,   4.3330,  33.9945,2,  33.9952,2,    110.0,2,    85.07,2,    37.10,2,     0.00,2,     2.68,2,   2279.4,2,-999.0000,9,  -999.00,     1933
  49UF20090610,  P13N,  2410,  1,     10,  19375,2,20090618,1857, 40.0000, 164.9950, 5455,    607.4,   4.1360,  34.1197,2,  34.1221,2,     66.0,2,    99.15,2,    39.70,2,     0.00,2,     2.85,2,   2306.1,2,-999.0000,9,  -999.00,     1931
  49UF20090610,  P13N,  2410,  1,      9,  16015,2,20090618,1857, 40.0000, 164.9950, 5455,    707.0,   3.8503,  34.2207,2,  34.2193,2,     61.0,4,   111.03,2,    41.30,2,     0.00,2,     2.95,2,   2330.0,2,-999.0000,9,  -999.00,     1928
  49UF20090610,  P13N,  2410,  1,      8,  16014,2,20090618,1857, 40.0000, 164.9950, 5455,    808.6,   3.4985,  34.2859,2,  34.2891,4,     42.0,2,   122.44,2,    42.20,2,     0.00,2,     3.02,2,   2348.9,2,-999.0000,9,  -999.00,     1925
  49UF20090610,  P13N,  2410,  1,      6,  19373,2,20090618,1857, 40.0000, 164.9950, 5455,    909.3,   3.2109,  34.3313,2,  34.3345,4,     37.0,2,   130.93,2,    42.90,2,     0.00,2,     3.07,2,   2359.0,2,-999.0000,9,  -999.00,     1922
  49UF20090610,  P13N,  2410,  1,      7,  19374,2,20090618,1857, 40.0000, 164.9950, 5455,    909.4,   3.2107,  34.3314,2,  34.3303,2,     37.0,2,   131.22,2,    42.90,2,     0.00,2,     3.07,2,   -999.0,9,-999.0000,9,  -999.00,     1922
  49UF20090610,  P13N,  2410,  1,      5,  16011,2,20090618,1857, 40.0000, 164.9950, 5455,   1010.2,   3.0105,  34.3757,2,  34.3784,4,     36.0,2,   137.12,2,    43.10,2,     0.00,2,     3.08,2,   2367.7,2,-999.0000,9,  -999.00,     1920
  49UF20090610,  P13N,  2410,  1,      4,  16010,2,20090618,1857, 40.0000, 164.9950, 5455,   1264.0,   2.5894,  34.4550,2,  34.4558,2,     36.0,2,   150.22,2,    43.50,2,     0.00,2,     3.10,2,   2374.9,2,-999.0000,9,  -999.00,     1914
  49UF20090610,  P13N,  2410,  1,      3,  16009,2,20090618,1857, 40.0000, 164.9950, 5455,   1517.8,   2.3015,  34.5118,2,  34.5222,4,     43.0,2,   157.80,2,    43.30,2,     0.00,2,     3.07,2,   2384.9,2,-999.0000,9,  -999.00,     1909
  49UF20090610,  P13N,  2410,  1,      2,  16008,2,20090618,1857, 40.0000, 164.9950, 5455,   1772.0,   2.0915,  34.5583,2,  34.5584,2,     57.0,2,   161.27,2,    42.50,2,     0.00,2,     3.00,2,   2379.1,6,-999.0000,9,  -999.00,     1903
  49UF20090610,  P13N,  2410,  1,      1,  16007,2,20090618,1857, 40.0000, 164.9950, 5455,   2028.6,   1.9252,  34.5938,2,  34.5938,2,     72.0,2,   162.24,2,    41.60,2,     0.00,2,     2.92,2,   2374.5,2,-999.0000,9,  -999.00,     1857