BOTTLE,20190917PRINUNIVRMK
EXPOCODE,SECT_ID,STNNBR,CASTNO,SAMPNO,BTLNBR,BTLNBR_FLAG_W,DATE,TIME,LATITUDE,LONGITUDE,DEPTH,CTDPRS,CTDTMP,CTDSAL,CTDSAL_FLAG_W,SALNTY,SALNTY_FLAG_W,OXYGEN,OXYGEN_FLAG_W,SILCAT,SILCAT_FLAG_W,NITRAT,NITRAT_FLAG_W,NITRIT,NITRIT_FLAG_W,PHSPHT,PHSPHT_FLAG_W,TCARBN,TCARBN_FLAG_W,PH_TOT,PH_TOT_FLAG_W,PH_TMP,BTL_TIME
,,,,,,,,,,,METERS,DBAR,ITS-90,PSS-78,,PSS-78,,UMOL/KG,,UMOL/KG,,UMOL/KG,,UMOL/KG,,UMOL/KG,,UMOL/KG,,,,DEG C,
  49UF20090610,  P13N,  2442,  1,     99,     99,2,20090707,1415,  8.0112, 163.9915, 5139,      0.0,  29.1316,  34.3863,2,-999.0000,9,    197.0,2,     0.92,2,     0.00,2,     0.00,2,     0.09,2,   -999.0,9,-999.0000,9,  -999.00,     1455
  49UF20090610,  P13N,  2442,  1,     23,  19380,2,20090707,1415,  8.0112, 163.9915, 5139,     11.6,  29.1306,  34.3862,2,-999.0000,9,    196.0,2,     0.97,2,     0.00,2,     0.00,2,     0.09,2,   -999.0,9,-999.0000,9,  -999.00,     1518
  49UF20090610,  P13N,  2442,  1,     22,  16028,2,20090707,1415,  8.0112, 163.9915, 5139,     26.0,  29.1375,  34.3839,2,-999.0000,9,    196.0,2,     0.97,2,     0.00,2,     0.00,2,     0.09,2,   -999.0,9,-999.0000,9,  -999.00,     1516
  49UF20090610,  P13N,  2442,  1,     21,  16027,2,20090707,1415,  8.0112, 163.9915, 5139,     50.8,  28.7328,  34.7389,2,-999.0000,9,    201.0,2,     0.96,2,     0.00,2,     0.00,2,     0.11,2,   -999.0,9,-999.0000,9,  -999.00,     1512
  49UF20090610,  P13N,  2442,  1,     20,  16026,2,20090707,1415,  8.0112, 163.9915, 5139,     76.7,  27.9277,  34.7689,2,-999.0000,9,    202.0,2,     1.01,2,     0.00,2,     0.00,2,     0.12,2,   -999.0,9,-999.0000,9,  -999.00,     1511
  49UF20090610,  P13N,  2442,  1,     18,  19377,2,20090707,1415,  8.0112, 163.9915, 5139,    100.6,  25.6686,  34.8824,2,-999.0000,9,    196.0,2,     1.29,2,     0.09,2,     0.01,2,     0.15,2,   -999.0,9,-999.0000,9,  -999.00,     1509
  49UF20090610,  P13N,  2442,  1,     19,  19378,2,20090707,1415,  8.0112, 163.9915, 5139,    101.4,  25.7339,  34.8843,2,-999.0000,9,    197.0,2,     1.36,2,    -0.01,2,     0.01,2,     0.16,2,   -999.0,9,-999.0000,9,  -999.00,     1509
  49UF20090610,  P13N,  2442,  1,     17,  16023,2,20090707,1415,  8.0112, 163.9915, 5139,    125.4,  20.7652,  34.8619,2,-999.0000,9,    170.0,2,     3.49,2,     4.48,2,     0.12,2,     0.43,2,   -999.0,9,-999.0000,9,  -999.00,     1508
  49UF20090610,  P13N,  2442,  1,     16,  16022,2,20090707,1415,  8.0112, 163.9915, 5139,    151.6,  16.2202,  34.5829,2,-999.0000,9,    143.0,2,     9.39,2,    12.08,2,     0.02,2,     0.94,2,   -999.0,9,-999.0000,9,  -999.00,     1507
  49UF20090610,  P13N,  2442,  1,     15,  16021,2,20090707,1415,  8.0112, 163.9915, 5139,    202.8,  12.0563,  34.4783,2,-999.0000,9,     86.0,2,    22.89,2,    24.40,2,     0.00,2,     1.80,2,   -999.0,9,-999.0000,9,  -999.00,     1505
  49UF20090610,  P13N,  2442,  1,     14,  16020,2,20090707,1415,  8.0112, 163.9915, 5139,    253.9,  10.2919,  34.5551,2,-999.0000,9,     51.0,2,    31.74,2,    31.60,2,     0.00,2,     2.28,2,   -999.0,9,-999.0000,9,  -999.00,     1503
  49UF20090610,  P13N,  2442,  1,     13,  16019,2,20090707,1415,  8.0112, 163.9915, 5139,    304.1,   9.5891,  34.6090,2,-999.0000,9,     47.0,2,    34.88,2,    33.50,2,     0.00,2,     2.39,2,   -999.0,9,-999.0000,9,  -999.00,     1501
  49UF20090610,  P13N,  2442,  1,     12,  16018,2,20090707,1415,  8.0112, 163.9915, 5139,    402.4,   8.6027,  34.6002,2,-999.0000,9,     53.0,2,    39.24,2,    35.10,2,     0.00,2,     2.49,2,   -999.0,9,-999.0000,9,  -999.00,     1458
  49UF20090610,  P13N,  2442,  1,     11,  16017,2,20090707,1415,  8.0112, 163.9915, 5139,    503.6,   7.7108,  34.5677,2,-999.0000,9,     54.0,2,    46.51,2,    36.60,2,     0.00,2,     2.62,2,   -999.0,9,-999.0000,9,  -999.00,     1455
  49UF20090610,  P13N,  2442,  1,     10,  19375,2,20090707,1415,  8.0112, 163.9915, 5139,    607.2,   6.8095,  34.5418,2,-999.0000,9,     55.0,2,    56.27,2,    38.10,2,     0.00,2,     2.75,2,   -999.0,9,-999.0000,9,  -999.00,     1452
  49UF20090610,  P13N,  2442,  1,      8,  16014,2,20090707,1415,  8.0112, 163.9915, 5139,    706.5,   6.1745,  34.5355,2,-999.0000,9,     58.0,2,    63.82,2,    39.00,2,     0.00,2,     2.81,2,   -999.0,9,-999.0000,9,  -999.00,     1449
  49UF20090610,  P13N,  2442,  1,      9,  16015,2,20090707,1415,  8.0112, 163.9915, 5139,    706.5,   6.1722,  34.5354,2,-999.0000,9,     57.0,2,    64.12,2,    39.20,2,     0.00,2,     2.81,2,   -999.0,9,-999.0000,9,  -999.00,     1449
  49UF20090610,  P13N,  2442,  1,      7,  19374,2,20090707,1415,  8.0112, 163.9915, 5139,    807.5,   5.4581,  34.5371,2,-999.0000,9,     65.0,2,    74.33,2,    39.70,2,     0.00,2,     2.84,2,   -999.0,9,-999.0000,9,  -999.00,     1446
  49UF20090610,  P13N,  2442,  1,      6,  19373,2,20090707,1415,  8.0112, 163.9915, 5139,    908.8,   4.9189,  34.5444,2,-999.0000,9,     73.0,2,    83.29,2,    39.70,2,     0.00,2,     2.83,2,   -999.0,9,-999.0000,9,  -999.00,     1443
  49UF20090610,  P13N,  2442,  1,      5,  16011,2,20090707,1415,  8.0112, 163.9915, 5139,   1012.5,   4.4542,  34.5546,2,-999.0000,9,     77.0,2,    91.42,2,    40.00,2,     0.00,2,     2.84,2,   -999.0,9,-999.0000,9,  -999.00,     1440
  49UF20090610,  P13N,  2442,  1,      4,  16010,2,20090707,1415,  8.0112, 163.9915, 5139,   1264.4,   3.5756,  34.5781,2,-999.0000,9,     87.0,2,   108.84,2,    39.80,2,     0.00,2,     2.84,2,   -999.0,9,-999.0000,9,  -999.00,     1434
  49UF20090610,  P13N,  2442,  1,      3,  16009,2,20090707,1415,  8.0112, 163.9915, 5139,   1519.1,   2.9647,  34.5996,2,-999.0000,9,     93.0,2,   121.89,2,    39.90,2,     0.00,2,     2.83,2,   -999.0,9,-999.0000,9,  -999.00,     1428
  49UF20090610,  P13N,  2442,  1,      2,  16008,2,20090707,1415,  8.0112, 163.9915, 5139,   1771.4,   2.5459,  34.6184,2,-999.0000,9,    102.0,2,   131.23,2,    39.60,2,     0.00,2,     2.81,2,   -999.0,9,-999.0000,9,  -999.00,     1421
  49UF20090610,  P13N,  2442,  1,      1,  16007,2,20090707,1415,  8.0112, 163.9915, 5139,   2033.2,   2.1884,  34.6362,2,-999.0000,9,    108.0,2,   138.76,2,    39.10,2,     0.00,2,     2.77,2,   -999.0,9,-999.0000,9,  -999.00,     1415
  49UF20090610,  P13N,  2444,  1,     99,     99,2,20090708,0446,  6.0057, 164.9957, 4985,      0.0,  29.1462,  33.9709,2,-999.0000,9,    200.0,2,     0.99,2,     0.00,2,     0.00,2,     0.09,2,   -999.0,9,-999.0000,9,  -999.00,      518
  49UF20090610,  P13N,  2444,  1,     23,  19380,2,20090708,0446,  6.0057, 164.9957, 4985,     10.5,  28.9636,  34.1240,2,-999.0000,9,    199.0,2,     0.99,2,     0.00,2,     0.00,2,     0.09,2,   -999.0,9,-999.0000,9,  -999.00,      539
  49UF20090610,  P13N,  2444,  1,     22,  16028,2,20090708,0446,  6.0057, 164.9957, 4985,     25.6,  29.0295,  34.3404,2,-999.0000,9,    199.0,2,     1.03,2,     0.00,2,     0.00,2,     0.10,2,   -999.0,9,-999.0000,9,  -999.00,      538
  49UF20090610,  P13N,  2444,  1,     21,  16027,2,20090708,0446,  6.0057, 164.9957, 4985,     50.8,  29.0846,  34.4032,2,-999.0000,9,    198.0,2,     1.03,2,     0.00,2,     0.00,2,     0.10,2,   -999.0,9,-999.0000,9,  -999.00,      533
  49UF20090610,  P13N,  2444,  1,     20,  16026,2,20090708,0446,  6.0057, 164.9957, 4985,     74.3,  28.3786,  34.7854,2,-999.0000,9,    202.0,2,     1.00,2,     0.00,2,     0.00,2,     0.13,2,   -999.0,9,-999.0000,9,  -999.00,      532
  49UF20090610,  P13N,  2444,  1,     19,  19378,2,20090708,0446,  6.0057, 164.9957, 4985,     75.0,  28.3677,  34.7879,2,-999.0000,9,    202.0,2,     1.03,2,     0.00,2,     0.00,2,     0.11,2,   -999.0,9,-999.0000,9,  -999.00,      532
  49UF20090610,  P13N,  2444,  1,     18,  19377,2,20090708,0446,  6.0057, 164.9957, 4985,    100.3,  26.7038,  34.8122,2,-999.0000,9,    197.0,2,     1.31,2,     0.15,2,     0.05,2,     0.16,2,   -999.0,9,-999.0000,9,  -999.00,      531
  49UF20090610,  P13N,  2444,  1,     17,  16023,2,20090708,0446,  6.0057, 164.9957, 4985,    126.0,  22.0455,  34.9033,2,-999.0000,9,    175.0,2,     2.90,2,     3.14,2,     0.26,2,     0.36,2,   -999.0,9,-999.0000,9,  -999.00,      530
  49UF20090610,  P13N,  2444,  1,     16,  16022,2,20090708,0446,  6.0057, 164.9957, 4985,    150.6,  16.9931,  34.6524,2,-999.0000,9,    131.0,2,    11.38,2,    13.69,2,     0.01,2,     1.02,2,   -999.0,9,-999.0000,9,  -999.00,      529
  49UF20090610,  P13N,  2444,  1,     15,  16021,2,20090708,0446,  6.0057, 164.9957, 4985,    201.7,  11.7691,  34.4915,2,-999.0000,9,     82.0,2,    24.73,2,    25.80,2,     0.00,2,     1.89,2,   -999.0,9,-999.0000,9,  -999.00,      528
  49UF20090610,  P13N,  2444,  1,     14,  16020,2,20090708,0446,  6.0057, 164.9957, 4985,    251.4,  10.1645,  34.5978,2,-999.0000,9,     44.0,2,    32.73,2,    32.90,2,     0.00,2,     2.37,2,   -999.0,9,-999.0000,9,  -999.00,      526
  49UF20090610,  P13N,  2444,  1,     13,  16019,2,20090708,0446,  6.0057, 164.9957, 4985,    301.6,   9.6100,  34.6255,2,-999.0000,9,     51.0,2,    34.26,2,    33.50,2,     0.00,2,     2.38,2,   -999.0,9,-999.0000,9,  -999.00,      524
  49UF20090610,  P13N,  2444,  1,     12,  16018,2,20090708,0446,  6.0057, 164.9957, 4985,    404.0,   8.7811,  34.6088,2,-999.0000,9,     68.0,2,    36.74,2,    33.70,2,     0.00,2,     2.38,2,   -999.0,9,-999.0000,9,  -999.00,      522
  49UF20090610,  P13N,  2444,  1,     11,  16017,2,20090708,0446,  6.0057, 164.9957, 4985,    503.8,   7.9845,  34.5846,2,-999.0000,9,     63.0,2,    42.18,2,    35.80,2,     0.00,2,     2.54,2,   -999.0,9,-999.0000,9,  -999.00,      519
  49UF20090610,  P13N,  2444,  1,      9,  16015,2,20090708,0446,  6.0057, 164.9957, 4985,    604.1,   7.0311,  34.5491,2,-999.0000,9,     50.0,2,    54.05,2,    38.40,2,     0.00,2,     2.78,2,   -999.0,9,-999.0000,9,  -999.00,      517
  49UF20090610,  P13N,  2444,  1,     10,  19375,2,20090708,0446,  6.0057, 164.9957, 4985,    604.9,   7.0304,  34.5496,2,-999.0000,9,     52.0,2,    54.09,2,    38.30,2,     0.00,2,     2.77,2,   -999.0,9,-999.0000,9,  -999.00,      517
  49UF20090610,  P13N,  2444,  1,      8,  16014,2,20090708,0446,  6.0057, 164.9957, 4985,    705.5,   6.1329,  34.5383,2,-999.0000,9,     51.0,2,    65.38,2,    40.40,2,     0.00,2,     2.91,2,   -999.0,9,-999.0000,9,  -999.00,      514
  49UF20090610,  P13N,  2444,  1,      7,  19374,2,20090708,0446,  6.0057, 164.9957, 4985,    806.5,   5.5493,  34.5399,2,-999.0000,9,     62.0,2,    72.41,2,    40.50,2,     0.00,2,     2.89,2,   -999.0,9,-999.0000,9,  -999.00,      512
  49UF20090610,  P13N,  2444,  1,      6,  19373,2,20090708,0446,  6.0057, 164.9957, 4985,    908.3,   4.8984,  34.5468,2,-999.0000,9,     61.0,2,    83.93,2,    41.00,2,     0.00,2,     2.95,2,   -999.0,9,-999.0000,9,  -999.00,      509
  49UF20090610,  P13N,  2444,  1,      5,  16011,2,20090708,0446,  6.0057, 164.9957, 4985,   1009.5,   4.4965,  34.5546,2,-999.0000,9,     73.0,2,    90.59,2,    40.50,2,     0.00,2,     2.90,2,   -999.0,9,-999.0000,9,  -999.00,      507
  49UF20090610,  P13N,  2444,  1,      4,  16010,2,20090708,0446,  6.0057, 164.9957, 4985,   1260.6,   3.6036,  34.5800,2,-999.0000,9,     82.0,2,   108.09,2,    41.00,2,     0.00,2,     2.91,2,   -999.0,9,-999.0000,9,  -999.00,      502
  49UF20090610,  P13N,  2444,  1,      3,  16009,2,20090708,0446,  6.0057, 164.9957, 4985,   1514.8,   3.0724,  34.5977,2,-999.0000,9,     91.0,2,   119.24,2,    40.20,2,     0.00,2,     2.86,2,   -999.0,9,-999.0000,9,  -999.00,      456
  49UF20090610,  P13N,  2444,  1,      2,  16008,2,20090708,0446,  6.0057, 164.9957, 4985,   1766.9,   2.5493,  34.6189,2,-999.0000,9,    103.0,2,   130.66,2,    39.60,2,     0.00,2,     2.81,2,   -999.0,9,-999.0000,9,  -999.00,      451
  49UF20090610,  P13N,  2444,  1,      1,  16007,2,20090708,0446,  6.0057, 164.9957, 4985,   2033.5,   2.1928,  34.6374,2,-999.0000,9,    109.0,2,   138.77,2,    39.30,2,     0.00,2,     2.78,2,   -999.0,9,-999.0000,9,  -999.00,      446
  49UF20090610,  P13N,  2445,  1,     99,     99,2,20090708,1136,  4.9433, 164.9925, 4754,      0.0,  29.2451,  34.1227,2,-999.0000,9,    196.0,2,     0.95,2,     0.00,2,     0.00,2,     0.10,2,   -999.0,9,-999.0000,9,  -999.00,     1215
  49UF20090610,  P13N,  2445,  1,     23,  19380,2,20090708,1136,  4.9433, 164.9925, 4754,     10.9,  29.2447,  34.1213,2,  34.1273,4,    197.0,2,     0.99,2,     0.00,2,     0.00,2,     0.10,2,   -999.0,9,-999.0000,9,  -999.00,     1234
  49UF20090610,  P13N,  2445,  1,     22,  16028,2,20090708,1136,  4.9433, 164.9925, 4754,     26.7,  29.4790,  34.3557,2,-999.0000,9,    196.0,2,     1.08,2,     0.00,2,     0.00,2,     0.10,2,   -999.0,9,-999.0000,9,  -999.00,     1232
  49UF20090610,  P13N,  2445,  1,     21,  16027,2,20090708,1136,  4.9433, 164.9925, 4754,     50.8,  29.4788,  34.4116,2,-999.0000,9,    197.0,2,     1.07,2,     0.00,2,     0.00,2,     0.11,2,   -999.0,9,-999.0000,9,  -999.00,     1229
  49UF20090610,  P13N,  2445,  1,     20,  16026,2,20090708,1136,  4.9433, 164.9925, 4754,     76.3,  29.0996,  34.4835,2,-999.0000,9,    198.0,2,     1.15,2,     0.00,2,     0.00,2,     0.12,2,   -999.0,9,-999.0000,9,  -999.00,     1227
  49UF20090610,  P13N,  2445,  1,     19,  19378,2,20090708,1136,  4.9433, 164.9925, 4754,     99.9,  28.0106,  34.7762,2,  34.7885,4,    185.0,2,     1.51,2,     0.52,2,     0.18,2,     0.20,2,   -999.0,9,-999.0000,9,  -999.00,     1226
  49UF20090610,  P13N,  2445,  1,     18,  19377,2,20090708,1136,  4.9433, 164.9925, 4754,    127.5,  23.0289,  34.8460,2,-999.0000,9,    162.0,2,     3.43,2,     4.45,2,     0.25,2,     0.44,2,   -999.0,9,-999.0000,9,  -999.00,     1225
  49UF20090610,  P13N,  2445,  1,     17,  16023,2,20090708,1136,  4.9433, 164.9925, 4754,    151.7,  16.9767,  34.6585,2,-999.0000,9,    133.0,2,     9.93,2,    12.69,2,     0.01,2,     0.96,2,   -999.0,9,-999.0000,9,  -999.00,     1224
  49UF20090610,  P13N,  2445,  1,     16,  16022,2,20090708,1136,  4.9433, 164.9925, 4754,    202.8,  12.0209,  34.5365,2,  34.5267,2,    101.0,2,    25.76,2,    23.80,2,     0.00,2,     1.71,2,   -999.0,9,-999.0000,9,  -999.00,     1222
  49UF20090610,  P13N,  2445,  1,     15,  16021,2,20090708,1136,  4.9433, 164.9925, 4754,    251.4,  10.0227,  34.5942,2,-999.0000,9,     86.0,2,    32.57,2,    29.70,2,     0.00,2,     2.09,2,   -999.0,9,-999.0000,9,  -999.00,     1220
  49UF20090610,  P13N,  2445,  1,     14,  16020,2,20090708,1136,  4.9433, 164.9925, 4754,    302.3,   9.1124,  34.6263,2,  34.6241,2,     91.0,2,    33.08,2,    31.00,2,     0.00,2,     2.17,2,   -999.0,9,-999.0000,9,  -999.00,     1218
  49UF20090610,  P13N,  2445,  1,     13,  16019,2,20090708,1136,  4.9433, 164.9925, 4754,    403.6,   8.3950,  34.6113,2,  34.6091,2,     69.0,2,    37.95,2,    34.80,2,     0.00,2,     2.42,2,   -999.0,9,-999.0000,9,  -999.00,     1216
  49UF20090610,  P13N,  2445,  1,     11,  16017,2,20090708,1136,  4.9433, 164.9925, 4754,    503.3,   7.5541,  34.5794,2,  34.5784,2,     65.0,2,    44.27,2,    36.70,2,     0.00,2,     2.58,2,   -999.0,9,-999.0000,9,  -999.00,     1213
  49UF20090610,  P13N,  2445,  1,     12,  16018,2,20090708,1136,  4.9433, 164.9925, 4754,    503.4,   7.5632,  34.5797,2,  34.5781,2,     67.0,2,    44.32,2,    36.70,2,     0.00,2,     2.58,2,   -999.0,9,-999.0000,9,  -999.00,     1213
  49UF20090610,  P13N,  2445,  1,     10,  19375,2,20090708,1136,  4.9433, 164.9925, 4754,    605.5,   6.8364,  34.5581,2,  34.5578,2,     55.0,2,    52.37,2,    38.50,2,     0.00,2,     2.75,2,   -999.0,9,-999.0000,9,  -999.00,     1210
  49UF20090610,  P13N,  2445,  1,      9,  16015,2,20090708,1136,  4.9433, 164.9925, 4754,    705.2,   6.0859,  34.5435,2,  34.5434,2,     65.0,2,    61.17,2,    39.40,2,     0.00,2,     2.81,2,   -999.0,9,-999.0000,9,  -999.00,     1208
  49UF20090610,  P13N,  2445,  1,      8,  16014,2,20090708,1136,  4.9433, 164.9925, 4754,    805.6,   5.5008,  34.5407,2,  34.5452,4,     72.0,2,    70.12,2,    39.70,2,     0.00,2,     2.81,2,   -999.0,9,-999.0000,9,  -999.00,     1205
  49UF20090610,  P13N,  2445,  1,      7,  19374,2,20090708,1136,  4.9433, 164.9925, 4754,    906.8,   4.9049,  34.5472,2,  34.5473,2,     71.0,2,    81.51,2,    40.50,2,     0.00,2,     2.87,2,   -999.0,9,-999.0000,9,  -999.00,     1202
  49UF20090610,  P13N,  2445,  1,      6,  19373,2,20090708,1136,  4.9433, 164.9925, 4754,   1011.1,   4.4696,  34.5543,2,  34.5549,2,     84.0,2,    88.72,2,    39.50,2,     0.00,2,     2.81,2,   -999.0,9,-999.0000,9,  -999.00,     1200
  49UF20090610,  P13N,  2445,  1,      5,  16011,2,20090708,1136,  4.9433, 164.9925, 4754,   1260.0,   3.4895,  34.5839,2,  34.5844,2,     82.0,2,   110.61,2,    41.00,2,     0.00,2,     2.91,2,   -999.0,9,-999.0000,9,  -999.00,     1154
  49UF20090610,  P13N,  2445,  1,      4,  16010,2,20090708,1136,  4.9433, 164.9925, 4754,   1514.7,   2.9381,  34.6035,2,  34.6031,2,     94.0,2,   121.47,2,    40.20,2,     0.00,2,     2.85,2,   -999.0,9,-999.0000,9,  -999.00,     1149
  49UF20090610,  P13N,  2445,  1,      3,  16009,2,20090708,1136,  4.9433, 164.9925, 4754,   1769.5,   2.5362,  34.6206,2,  34.6213,2,    101.0,2,   130.29,2,    39.80,2,     0.00,2,     2.81,2,   -999.0,9,-999.0000,9,  -999.00,     1143
  49UF20090610,  P13N,  2445,  1,      2,  16008,2,20090708,1136,  4.9433, 164.9925, 4754,   2031.5,   2.2000,  34.6380,2,  34.6381,2,    108.0,2,   138.20,2,    39.50,2,     0.00,2,     2.77,2,   -999.0,9,-999.0000,9,  -999.00,     1136
  49UF20090610,  P13N,  2445,  1,      1,  16007,2,20090708,1136,  4.9433, 164.9925, 4754,   2031.9,   2.1988,  34.6384,2,  34.6388,2,    108.0,2,   138.26,2,    39.50,2,     0.00,2,     2.77,2,   -999.0,9,-999.0000,9,  -999.00,     1136