BOTTLE,20212805JOAExport
EXPOCODE,SECT_ID,STNNBR,CASTNO,SAMPNO,BTLNBR,BTLNBR_FLAG_W,DATE,TIME,LATITUDE,LONGITUDE,DEPTH,CTDPRS,CTDTMP,CTDTMP_FLAG_W,CTDSAL,CTDSAL_FLAG_W,SALNTY,SALNTY_FLAG_W,CTDOXY,CTDOXY_FLAG_W,OXYGEN,OXYGEN_FLAG_W,NITRAT,NITRAT_FLAG_W,NITRIT,NITRIT_FLAG_W,SILCAT,SILCAT_FLAG_W,PHSPHT,PHSPHT_FLAG_W,CFC-11,CFC-11_FLAG_W,CFC-12,CFC-12_FLAG_W,SF6,SF6_FLAG_W,TCARBN,TCARBN_FLAG_W,ALKALI,ALKALI_FLAG_W
,,,,,,,,,,,,DB,ITS-90,,PSS-78,,PSS-78,,UMOL/KG,,UMOL/KG,,UMOL/KG,,UMOL/KG,,UMOL/KG,,UMOL/KG,,PMOL/KG,,PMOL/KG,,FMOL/KG,,UMOL/KG,,UMOL/KG
  49NZ20191205,    I08N,     12,   1,      36,     -99,  2,20210405,1723,   3.6719,   80.0007,  4358,     10.1,  29.2149,2,  34.0695,2,  34.0702,2,    196.6,2,   196.63,2,     0.01,2,     0.00,2,      1.5,2,    0.089,2,    1.400,2,      0.9,2,    1.558,2,   1926.9,2,   2245.3,2
  49NZ20191205,    I08N,     12,   1,      35,     -99,  2,20210405,1723,   3.6719,   80.0007,  4358,     49.8,  29.4545,2,  34.4934,2,  34.4826,2,    195.5,2,   195.53,2,     0.01,2,     0.00,2,      1.5,2,    0.100,2,    1.370,2,      0.9,2,    1.478,2,   1940.5,2,   2263.9,2
  49NZ20191205,    I08N,     12,   1,       2,     -99,  2,20210405,1723,   3.6719,   80.0007,  4358,     57.2,  29.1567,2,  34.8545,2,  34.7632,2,    192.9,2,   194.82,2,     0.01,2,     0.01,2,      1.5,2,    0.120,2, -999.000,9,   -999.0,9, -999.000,9,   1959.1,2,   2276.1,2
  49NZ20191205,    I08N,     12,   1,      34,     -99,  2,20210405,1723,   3.6719,   80.0007,  4358,    100.5,  17.2971,2,  34.8977,2,  34.8980,2,     14.3,2,    14.48,2,    28.03,2,     0.01,2,     24.5,2,    2.023,2,    1.124,2,      0.7,2,    0.614,2,   2209.2,2,   2298.7,2
  49NZ20191205,    I08N,     12,   1,      33,     -99,  2,20210405,1723,   3.6719,   80.0007,  4358,    149.6,  13.9541,2,  34.9926,2,  34.9957,2,      7.8,2,     7.81,2,    31.48,2,     0.00,2,     31.4,2,    2.292,2,    0.937,2,      0.5,2,    0.358,2,   2251.2,2,   2311.4,2
  49NZ20191205,    I08N,     12,   1,      32,     -99,  2,20210405,1723,   3.6719,   80.0007,  4358,    199.6,  12.5762,2,  35.0392,2,  35.0396,2,     12.9,2,    12.35,2,    32.59,2,     0.00,2,     33.1,2,    2.317,2,    0.919,2,      0.5,2,    0.298,2,   2264.1,2,   2314.4,2
  49NZ20191205,    I08N,     12,   1,      31,     -99,  2,20210405,1723,   3.6719,   80.0007,  4358,    249.9,  11.9795,2,  35.0864,2,  35.0864,2,     63.4,2,    60.78,2,    28.56,2,     0.00,2,     24.6,2,    1.959,2,    1.600,2,      0.9,2,    0.504,2,   2232.6,2,   2314.6,2
  49NZ20191205,    I08N,     12,   1,      30,     -99,  2,20210405,1723,   3.6719,   80.0007,  4358,    279.4,  11.6165,2,  35.0643,2,  35.0657,2,     70.9,2,    66.85,2,    28.70,2,     0.01,2,     25.2,2,    1.955,2,    1.591,2,      0.9,2,    0.531,2,   2231.0,2,   2312.3,2
  49NZ20191205,    I08N,     12,   1,      29,     -99,  2,20210405,1723,   3.6719,   80.0007,  4358,    370.4,  11.0441,2,  35.0656,2,  35.0636,2,     56.6,2,    55.89,2,    30.90,2,     0.01,2,     30.0,2,    2.116,2,    1.303,2,      0.7,2,    0.327,2,   2244.9,2,   2315.6,2
  49NZ20191205,    I08N,     12,   1,      28,     -99,  2,20210405,1723,   3.6719,   80.0007,  4358,    469.9,  10.5991,2,  35.1138,2,  35.1184,2,     37.7,2,    37.35,2,    33.19,2,     0.01,2,     37.2,2,    2.343,2,    0.862,2,      0.5,2,    0.200,2,   2264.6,2,   2324.0,2
  49NZ20191205,    I08N,     12,   1,      27,     -99,  2,20210405,1723,   3.6719,   80.0007,  4358,    569.5,   9.6084,2,  35.0379,2,  35.0392,2,     31.3,2,    29.87,2,    35.34,2,     0.01,2,     48.2,2,    2.531,2,    0.436,2,      0.2,2,    0.071,2,   2280.0,2,   2328.1,2
  49NZ20191205,    I08N,     12,   1,      26,     -99,  2,20210405,1723,   3.6719,   80.0007,  4358,    671.3,   9.1376,2,  35.0323,2,  35.0327,2,     33.8,2,    33.57,2,    35.72,2,     0.01,2,     53.0,2,    2.570,2,    0.346,2,      0.2,2,    0.065,2,   2282.9,6,   2335.6,2
  49NZ20191205,    I08N,     12,   1,      25,     -99,  2,20210405,1723,   3.6719,   80.0007,  4358,    768.4,   8.3764,2,  35.0075,2,  35.0076,2,     27.8,2,    27.65,2,    37.25,2,     0.03,2,     64.9,2,    2.703,2,    0.154,2,      0.1,2,    0.030,2,   2301.5,2,   2348.3,2
  49NZ20191205,    I08N,     12,   1,      24,     -99,  2,20210405,1723,   3.6719,   80.0007,  4358,    868.3,   7.6558,2,  34.9729,2,  34.9728,2,     33.4,2,    33.15,2,    37.18,2,     0.01,2,     73.5,2,    2.734,2,    0.094,2,      0.1,2,    0.008,2,   2309.1,2,   2357.1,2
  49NZ20191205,    I08N,     12,   1,      23,     -99,  2,20210405,1723,   3.6719,   80.0007,  4358,    971.0,   6.8703,2,  34.9429,2,  34.9438,2,     42.8,2,    42.76,2,    37.86,2,     0.01,2,     82.4,2,    2.755,2,    0.073,2,      0.0,2,    0.049,2,   2316.4,2,   2363.3,2
  49NZ20191205,    I08N,     12,   1,      22,     -99,  2,20210405,1723,   3.6719,   80.0007,  4358,   1128.1,   6.1079,2,  34.9145,2,  34.9149,2,     53.6,2,    53.98,2,    37.51,2,     0.01,2,     90.8,2,    2.752,2,    0.040,2,      0.0,2,    0.000,2,   2319.8,2,   2371.9,6
  49NZ20191205,    I08N,     12,   1,      21,     -99,  2,20210405,1723,   3.6719,   80.0007,  4358,   1329.4,   5.4250,2,  34.8899,2,  34.8901,2,     65.0,2,    64.92,2,    37.68,2,     0.01,2,     97.7,2,    2.744,2,    0.027,2,      0.0,2,    0.029,2,   2320.3,2,   2377.3,2
  49NZ20191205,    I08N,     12,   1,      20,     -99,  2,20210405,1723,   3.6719,   80.0007,  4358,   1529.1,   4.5111,2,  34.8566,2,  34.8577,2,     83.9,2,    83.24,2,    37.20,2,     0.01,2,    105.4,2,    2.694,2,    0.021,2,      0.0,2,    0.013,2,   2326.4,2,   2385.4,2
  49NZ20191205,    I08N,     12,   1,      19,     -99,  2,20210405,1723,   3.6719,   80.0007,  4358,   1730.7,   3.6954,2,  34.8242,2,  34.8236,2,     99.9,2,   100.00,2,    36.87,2,     0.00,2,    114.7,2,    2.648,2,    0.016,2,      0.0,2,    0.007,2,   2325.7,2,   2394.1,2
  49NZ20191205,    I08N,     12,   1,      18,     -99,  2,20210405,1723,   3.6719,   80.0007,  4358,   1928.8,   2.9768,2,  34.7912,2,  34.7908,2,    115.1,2,   114.45,2,    36.56,2,     0.00,2,    123.3,2,    2.604,2,    0.020,2,      0.0,2,    0.015,2,   2328.2,2,   2404.1,2
  49NZ20191205,    I08N,     12,   1,      17,     -99,  2,20210405,1723,   3.6719,   80.0007,  4358,   2131.2,   2.5467,2,  34.7685,2,  34.7696,2,    128.0,2,   126.92,2,    35.97,2,     0.01,2,    126.0,2,    2.544,2,    0.012,2,      0.0,2,    0.002,2,   2325.7,2,   2405.9,2
  49NZ20191205,    I08N,     12,   1,      16,     -99,  2,20210405,1723,   3.6719,   80.0007,  4358,   2330.3,   2.2940,2,  34.7570,2,  34.7569,2,    133.4,2,   133.17,2,    35.72,2,     0.01,2,    130.5,2,    2.521,2,    0.013,2,      0.0,2,    0.001,2,   2327.2,6,   2412.2,2
  49NZ20191205,    I08N,     12,   1,      14,     -99,  2,20210405,1723,   3.6719,   80.0007,  4358,   2729.3,   1.9067,2,  34.7399,2,  34.7409,2,    141.3,2,   141.22,2,    35.64,2,     0.01,2,    137.6,2,    2.498,2,    0.013,2,      0.0,2,    0.003,2,   2330.3,2,   2420.4,2
  49NZ20191205,    I08N,     12,   1,      13,     -99,  2,20210405,1723,   3.6719,   80.0007,  4358,   2930.1,   1.7437,2,  34.7328,2,  34.7338,2,    149.0,2,   149.01,2,    35.19,2,     0.00,2,    137.9,2,    2.451,2,    0.016,2,      0.0,2,    0.019,2,   2329.0,2,   2419.9,2
  49NZ20191205,    I08N,     12,   1,      12,     -99,  2,20210405,1723,   3.6719,   80.0007,  4358,   3169.6,   1.5940,2,  34.7271,2,  34.7274,2,    150.8,2,   150.89,2,    35.31,2,     0.01,2,    142.4,2,    2.453,2,    0.016,2,      0.0,2,    0.001,2,   2332.8,2,   2427.0,6
  49NZ20191205,    I08N,     12,   1,      11,     -99,  2,20210405,1723,   3.6719,   80.0007,  4358,   3420.9,   1.5151,2,  34.7237,2,  34.7237,2,    156.3,2,   156.46,2,    35.10,2,     0.01,2,    142.2,2,    2.425,2,    0.018,2,      0.0,2,    0.012,2,   2332.4,2,   2426.4,2
  49NZ20191205,    I08N,     12,   1,      10,     -99,  2,20210405,1723,   3.6719,   80.0007,  4358,   3669.2,   1.4611,2,  34.7212,2,  34.7207,2,    158.4,2,   158.70,2,    35.13,2,     0.01,2,    143.5,2,    2.426,2,    0.023,2,      0.0,2,    0.006,2,   2333.8,2,   2430.6,2
  49NZ20191205,    I08N,     12,   1,       9,     -99,  2,20210405,1723,   3.6719,   80.0007,  4358,   3918.1,   1.4328,2,  34.7196,2,  34.7195,2,    164.6,2,   164.87,2,    34.75,2,     0.00,2,    141.2,2,    2.382,2,    0.031,2,      0.0,2,    0.049,2,   2323.7,2,   2424.2,2
  49NZ20191205,    I08N,     12,   1,       8,     -99,  2,20210405,1723,   3.6719,   80.0007,  4358,   4171.8,   1.4229,2,  34.7183,2,  34.7191,2,    167.7,2,   167.82,2,    34.57,2,     0.00,2,    140.1,2,    2.367,2,    0.023,2,      0.0,2,    0.021,2,   2320.8,6,   2419.8,2
  49NZ20191205,    I08N,     12,   1,       1,     -99,  2,20210405,1723,   3.6719,   80.0007,  4358,   4410.0,   1.4204,2,  34.7176,2,  34.7183,2,    171.6,2,   172.32,2,    34.46,2,     0.01,2,    138.0,2,    2.349,2,    0.016,2,      0.0,2,    0.000,2,   2319.1,2,   2423.8,2
  49NZ20191205,    I08N,      9,   1,      36,     -99,  2,20210405,1723,   4.6658,   79.9985,  4276,      9.6,  28.9662,2,  33.5770,2,  33.5783,2,    195.7,2,   195.50,2,     0.02,2,     0.01,2,      1.5,2,    0.046,2,    1.394,2,      0.9,2,    1.664,2,   1899.3,2,   2213.2,2
  49NZ20191205,    I08N,      9,   1,       2,     -99,  2,20210405,1723,   4.6658,   79.9985,  4276,     43.0,  27.8456,2,  34.6332,2,  34.6360,2,    163.5,2,   162.09,2,     1.42,2,     0.12,2,      2.2,2,    0.341,2, -999.000,9,   -999.0,9, -999.000,9,   2002.3,2,   2274.9,2
  49NZ20191205,    I08N,      9,   1,      35,     -99,  2,20210405,1723,   4.6658,   79.9985,  4276,     50.4,  25.0786,2,  34.8632,2,  34.8527,2,     79.5,2,    85.78,2,    13.36,2,     0.34,2,      8.1,2,    1.025,2,    1.365,2,      0.9,2,    1.301,2,   2082.2,2,   2279.6,2
  49NZ20191205,    I08N,      9,   1,      34,     -99,  2,20210405,1723,   4.6658,   79.9985,  4276,    100.1,  17.8476,2,  34.8778,2,  34.8780,2,      7.8,2,     7.66,2,    27.86,2,     0.01,2,     24.1,2,    2.069,2,    1.082,2,      0.7,2,    0.633,2,   2205.4,2,   2289.0,2
  49NZ20191205,    I08N,      9,   1,      33,     -99,  2,20210405,1723,   4.6658,   79.9985,  4276,    149.9,  14.0100,2,  35.0080,2,  35.0117,2,     13.1,2,    13.25,2,    30.96,2,     0.01,2,     29.7,2,    2.251,2,    1.036,2,      0.6,2,    0.357,2,   2232.9,2,   2308.2,2
  49NZ20191205,    I08N,      9,   1,      32,     -99,  2,20210405,1723,   4.6658,   79.9985,  4276,    200.8,  12.9231,2,  35.0935,2,  35.0964,2,     33.9,2,    34.98,2,    29.89,2,     0.01,2,     26.4,2,    2.105,2,    1.366,2,      0.8,2,    0.506,2,   2234.4,2,   2310.5,2
  49NZ20191205,    I08N,      9,   1,      31,     -99,  2,20210405,1723,   4.6658,   79.9985,  4276,    250.0,  12.0992,2,  35.0917,2,  35.0918,2,     46.4,2,    46.49,2,    29.82,2,     0.01,2,     26.6,2,    2.074,2,    1.434,2,      0.8,2,    0.466,2,   2235.9,2,   2314.3,2
  49NZ20191205,    I08N,      9,   1,      30,     -99,  2,20210405,1723,   4.6658,   79.9985,  4276,    328.3,  11.4868,2,  35.0845,2,  35.0928,2,     51.8,2,    53.03,2,    30.21,2,     0.00,2,     27.6,2,    2.080,2,    1.406,2,      0.8,2,    0.431,2,   2235.7,2,   2314.1,2
  49NZ20191205,    I08N,      9,   1,      29,     -99,  2,20210405,1723,   4.6658,   79.9985,  4276,    429.5,  10.5434,2,  35.0743,2,  35.0715,2,     33.4,2,    31.74,2,    33.66,2,     0.01,2,     38.6,2,    2.390,2,    0.775,2,      0.4,2,    0.230,2,   2262.2,2,   2321.6,2
  49NZ20191205,    I08N,      9,   1,      28,     -99,  2,20210405,1723,   4.6658,   79.9985,  4276,    529.9,  10.0379,2,  35.0848,2,  35.0811,2,     32.5,2,    30.77,2,    34.50,2,     0.01,2,     44.5,2,    2.497,2,    0.550,2,      0.3,2,    0.156,2,   2269.6,2,   2326.7,2
  49NZ20191205,    I08N,      9,   1,      27,     -99,  2,20210405,1723,   4.6658,   79.9985,  4276,    629.3,   9.0716,2,  35.0296,2,  35.0287,2,     22.3,2,    22.40,2,    36.51,2,     0.01,2,     57.2,2,    2.657,2,    0.238,2,      0.1,2,    0.059,2,   2288.8,2,   2337.7,2
  49NZ20191205,    I08N,      9,   1,      26,     -99,  2,20210405,1723,   4.6658,   79.9985,  4276,    729.4,   8.3759,2,  35.0133,2,  35.0109,2,     28.9,2,    28.45,2,    37.06,2,     0.01,2,     65.0,2,    2.701,2,    0.152,2,      0.1,2,    0.028,2,   2296.3,6,   2344.4,2
  49NZ20191205,    I08N,      9,   1,      25,     -99,  2,20210405,1723,   4.6658,   79.9985,  4276,    830.8,   7.7570,2,  34.9790,2,  34.9805,2,     32.2,2,    32.70,2,    37.39,2,     0.01,2,     72.4,2,    2.735,2,    0.096,2,      0.1,2,    0.022,2,   2304.4,2,   2351.5,2
  49NZ20191205,    I08N,      9,   1,      24,     -99,  2,20210405,1723,   4.6658,   79.9985,  4276,    930.6,   7.2445,2,  34.9679,2,  34.9665,2,     41.6,2,    41.81,2,    37.36,2,     0.00,2,     77.3,2,    2.739,2,    0.081,2,      0.0,2,    0.021,2,   2305.7,2,   2355.1,2
  49NZ20191205,    I08N,      9,   1,      23,     -99,  2,20210405,1723,   4.6658,   79.9985,  4276,   1067.7,   6.5481,2,  34.9323,2,  34.9319,2,     47.9,2,    48.03,2,    37.67,2,     0.00,2,     85.8,2,    2.762,2,    0.055,2,      0.0,2,    0.008,2,   2311.6,2,   2365.0,2
  49NZ20191205,    I08N,      9,   1,      22,     -99,  2,20210405,1723,   4.6658,   79.9985,  4276,   1270.2,   5.7708,2,  34.9056,2,  34.9053,2,     61.3,2,    61.34,2,    37.48,2,     0.00,2,     93.2,2,    2.744,2,    0.038,2,      0.0,2,    0.006,2,   2318.0,2,   2372.6,6
  49NZ20191205,    I08N,      9,   1,      21,     -99,  2,20210405,1723,   4.6658,   79.9985,  4276,   1469.9,   4.7003,2,  34.8598,2,  34.8594,2,     75.5,2,    75.60,2,    37.61,2,     0.00,2,    106.4,2,    2.746,2,    0.023,2,      0.0,2,    0.005,2,   2321.7,2,   2383.4,2
  49NZ20191205,    I08N,      9,   1,      20,     -99,  2,20210405,1723,   4.6658,   79.9985,  4276,   1669.7,   3.8565,2,  34.8272,2,  34.8277,2,     92.6,2,    93.38,2,    37.10,2,     0.00,2,    114.9,2,    2.690,2,    0.018,2,      0.0,2,    0.006,2,   2328.0,2,   2394.3,2
  49NZ20191205,    I08N,      9,   1,      19,     -99,  2,20210405,1723,   4.6658,   79.9985,  4276,   1869.6,   3.1249,2,  34.7952,2,  34.7955,2,    108.2,2,   108.09,2,    36.86,2,     0.00,2,    123.7,2,    2.647,2,    0.019,2,      0.0,2,    0.017,2,   2328.7,2,   2402.8,2
  49NZ20191205,    I08N,      9,   1,      18,     -99,  2,20210405,1723,   4.6658,   79.9985,  4276,   2068.5,   2.7130,2,  34.7776,2,  34.7781,2,    121.3,2,   121.25,2,    36.28,2,     0.00,2,    126.7,2,    2.593,2,    0.015,2,      0.0,2,    0.012,2,   2326.0,2,   2405.3,2
  49NZ20191205,    I08N,      9,   1,      17,     -99,  2,20210405,1723,   4.6658,   79.9985,  4276,   2270.4,   2.4002,2,  34.7616,2,  34.7625,2,    132.9,2,   133.05,2,    35.51,2,     0.00,2,    127.5,2,    2.520,2,    0.017,2,      0.0,2,    0.015,2,   -999.0,3,   2407.4,2
  49NZ20191205,    I08N,      9,   1,      16,     -99,  2,20210405,1723,   4.6658,   79.9985,  4276,   2469.7,   2.1884,2,  34.7523,2,  34.7522,2,    132.6,2,   132.97,2,    35.74,2,     0.00,2,    134.5,2,    2.543,2,    0.019,2,      0.0,2,    0.011,2,   2329.2,6,   2414.5,2
  49NZ20191205,    I08N,      9,   1,       8,     -99,  2,20210405,1723,   4.6658,   79.9985,  4276,   2670.5,   1.9852,2,  34.7432,2,  34.7431,2,    138.5,2,   139.35,2,    35.70,2,     0.00,2,    136.9,2,    2.512,2,    0.021,2,      0.0,2,    0.034,2,   2329.6,2,   2417.0,2
  49NZ20191205,    I08N,      9,   1,      14,     -99,  2,20210405,1723,   4.6658,   79.9985,  4276,   2871.6,   1.8251,2,  34.7364,2,  34.7356,2,    146.1,2,   146.30,2,    35.35,2,     0.01,2,    137.5,2,    2.487,2,    0.018,2,      0.0,2,    0.013,2,   2328.5,2,   2417.6,2
  49NZ20191205,    I08N,      9,   1,      13,     -99,  2,20210405,1723,   4.6658,   79.9985,  4276,   3080.6,   1.6792,2,  34.7305,2,  34.7302,2,    148.9,2,   149.04,2,    35.25,2,     0.01,2,    140.9,2,    2.472,2,    0.016,2,      0.0,2,    0.014,2,   -999.0,3,   2424.1,2
  49NZ20191205,    I08N,      9,   1,      12,     -99,  2,20210405,1723,   4.6658,   79.9985,  4276,   3330.6,   1.5693,2,  34.7260,2,  34.7260,2,    152.8,2,   153.03,2,    35.29,2,     0.01,2,    142.5,2,    2.450,2,    0.018,2,      0.0,2,    0.001,2,   2331.4,2,   2427.1,6
  49NZ20191205,    I08N,      9,   1,      11,     -99,  2,20210405,1723,   4.6658,   79.9985,  4276,   3580.3,   1.4922,2,  34.7226,2,  34.7229,2,    156.4,2,   156.71,2,    35.04,2,     0.00,2,    143.6,2,    2.438,2,    0.021,2,      0.0,2,    0.008,2,   2331.5,2,   2431.3,2
  49NZ20191205,    I08N,      9,   1,      10,     -99,  2,20210405,1723,   4.6658,   79.9985,  4276,   3828.8,   1.4305,2,  34.7199,2,  34.7203,2,    163.4,2,   163.70,2,    34.72,2,     0.00,2,    141.6,2,    2.407,2,    0.021,2,      0.0,2,    0.037,2,   2330.2,2,   2426.0,2
  49NZ20191205,    I08N,      9,   1,       9,     -99,  2,20210405,1723,   4.6658,   79.9985,  4276,   4082.3,   1.4154,2,  34.7186,2,  34.7187,2,    167.8,2,   168.29,2,    34.55,2,     0.00,2,    139.6,2,    2.379,2,    0.020,2,      0.0,2,    0.009,2,   2320.6,2,   2422.9,2
  49NZ20191205,    I08N,      9,   1,       1,     -99,  2,20210405,1723,   4.6658,   79.9985,  4276,   4324.2,   1.4135,2,  34.7179,2,  34.7184,2,    170.2,2,   170.51,2,    34.50,2,     0.00,2,    139.0,2,    2.369,2,    0.024,2,      0.0,2,    0.021,2,   2320.1,2,   2423.8,2