BOTTLE,20212805JOAExport
EXPOCODE,SECT_ID,STNNBR,CASTNO,SAMPNO,BTLNBR,BTLNBR_FLAG_W,DATE,TIME,LATITUDE,LONGITUDE,DEPTH,CTDPRS,CTDTMP,CTDTMP_FLAG_W,CTDSAL,CTDSAL_FLAG_W,SALNTY,SALNTY_FLAG_W,CTDOXY,CTDOXY_FLAG_W,OXYGEN,OXYGEN_FLAG_W,NITRAT,NITRAT_FLAG_W,NITRIT,NITRIT_FLAG_W,SILCAT,SILCAT_FLAG_W,PHSPHT,PHSPHT_FLAG_W,CFC-11,CFC-11_FLAG_W,CFC-12,CFC-12_FLAG_W,SF6,SF6_FLAG_W,TCARBN,TCARBN_FLAG_W,ALKALI,ALKALI_FLAG_W
,,,,,,,,,,,,DB,ITS-90,,PSS-78,,PSS-78,,UMOL/KG,,UMOL/KG,,UMOL/KG,,UMOL/KG,,UMOL/KG,,UMOL/KG,,PMOL/KG,,PMOL/KG,,FMOL/KG,,UMOL/KG,,UMOL/KG
  49NZ20191205,    I08N,     64,   1,      36,     -99,  2,20210405,1723, -17.9988,   80.0008,  5100,     10.5,  28.7386,2,  35.0850,2,  35.0852,2,    196.5,2,   196.52,2,     0.02,2,     0.00,2,      1.7,2,    0.104,2,    1.411,2,      0.9,2,    1.548,2,   1970.8,2,   2299.2,2
  49NZ20191205,    I08N,     64,   1,      35,     -99,  2,20210405,1723, -17.9988,   80.0008,  5100,     49.5,  27.8399,2,  35.0021,2,  35.0016,2,    202.6,2,   202.90,2,     0.05,2,     0.00,2,      1.7,2,    0.116,2,    1.479,2,      0.9,2,    1.583,2,   1971.1,2,   2295.3,2
  49NZ20191205,    I08N,     64,   1,      34,     -99,  2,20210405,1723, -17.9988,   80.0008,  5100,    100.1,  23.8470,2,  35.2136,2,  35.2094,2,    214.5,2,   214.56,2,     0.04,2,     0.00,2,      2.0,2,    0.085,2,    1.739,2,      1.1,2,    1.742,2,   2002.0,2,   2309.4,2
  49NZ20191205,    I08N,     64,   1,       2,     -99,  2,20210405,1723, -17.9988,   80.0008,  5100,    135.7,  22.9429,2,  35.3222,2,  35.3208,2,    213.9,2,   213.44,2,     0.05,2,     0.00,2,      2.0,2,    0.089,2, -999.000,9,   -999.0,9, -999.000,9,   2010.9,2,   2317.9,2
  49NZ20191205,    I08N,     64,   1,      33,     -99,  2,20210405,1723, -17.9988,   80.0008,  5100,    149.7,  22.5951,2,  35.3713,2,  35.3715,2,    206.1,2,   206.33,2,     0.08,2,     0.02,2,      2.3,2,    0.117,2,    1.794,2,      1.1,2,    1.678,2,   2023.9,2,   2319.8,2
  49NZ20191205,    I08N,     64,   1,      32,     -99,  2,20210405,1723, -17.9988,   80.0008,  5100,    201.0,  20.5789,2,  35.6174,2,  35.6178,2,    186.2,2,   186.26,2,     2.78,2,     0.02,2,      3.3,2,    0.277,2,    1.956,2,      1.2,2,    1.643,2,   2073.5,2,   2335.4,2
  49NZ20191205,    I08N,     64,   1,      31,     -99,  2,20210405,1723, -17.9988,   80.0008,  5100,    249.4,  18.5521,2,  35.5718,2,  35.5666,2,    172.9,2,   172.94,2,     6.36,2,     0.01,2,      7.2,2,    0.508,2,    1.999,2,      1.2,2,    1.529,2,   2104.2,2,   2337.4,2
  49NZ20191205,    I08N,     64,   1,      30,     -99,  2,20210405,1723, -17.9988,   80.0008,  5100,    280.7,  17.0832,2,  35.5222,2,  35.5322,2,    173.9,2,   176.43,2,     7.31,2,     0.01,2,      7.9,2,    0.574,2,    2.123,2,      1.3,2,    1.612,2,   2116.4,2,   2338.6,2
  49NZ20191205,    I08N,     64,   1,      29,     -99,  2,20210405,1723, -17.9988,   80.0008,  5100,    370.4,  14.0743,2,  35.3504,2,  35.3337,2,    208.7,2,   209.94,2,     7.68,2,     0.00,2,      4.1,2,    0.606,2,    2.614,2,      1.6,2,    1.889,2,   2122.6,2,   2326.2,2
  49NZ20191205,    I08N,     64,   1,      28,     -99,  2,20210405,1723, -17.9988,   80.0008,  5100,    469.4,  10.9527,2,  34.9128,2,  34.9053,2,    219.4,2,   219.34,2,    13.76,2,     0.01,2,      5.6,2,    0.982,2,    3.066,2,      1.8,2,    1.707,2,   2135.2,2,   2304.5,2
  49NZ20191205,    I08N,     64,   1,      27,     -99,  2,20210405,1723, -17.9988,   80.0008,  5100,    571.9,   9.3983,2,  34.6957,2,  34.6940,2,    225.8,2,   225.94,2,    17.38,2,     0.01,2,      6.0,2,    1.196,2,    3.288,2,      1.9,2,    1.639,2,   2143.2,2,   2297.3,2
  49NZ20191205,    I08N,     64,   1,      26,     -99,  2,20210405,1723, -17.9988,   80.0008,  5100,    669.7,   7.7610,2,  34.5482,2,  34.5452,2,    195.6,2,   194.55,2,    24.49,2,     0.00,2,     17.2,2,    1.650,2,    2.607,2,      1.4,2,    0.804,2,   2168.8,6,   2293.3,2
  49NZ20191205,    I08N,     64,   1,      25,     -99,  2,20210405,1723, -17.9988,   80.0008,  5100,    769.7,   6.0858,2,  34.5167,2,  34.5187,2,    150.2,2,   149.19,2,    31.76,2,     0.01,2,     43.6,2,    2.187,2,    1.057,2,      0.5,2,    0.210,2,   2220.1,2,   2316.9,2
  49NZ20191205,    I08N,     64,   1,      24,     -99,  2,20210405,1723, -17.9988,   80.0008,  5100,    869.6,   5.4085,2,  34.5737,2,  34.5744,2,    124.1,2,   123.85,2,    34.68,2,     0.00,2,     63.7,2,    2.423,2,    0.359,2,      0.2,2,    0.050,2,   2254.2,2,   2334.7,2
  49NZ20191205,    I08N,     64,   1,      23,     -99,  2,20210405,1723, -17.9988,   80.0008,  5100,    969.9,   5.0025,2,  34.6249,2,  34.6287,2,    114.1,2,   113.02,2,    35.70,2,     0.00,2,     76.6,2,    2.518,2,    0.155,2,      0.1,2,    0.001,2,   2271.4,2,   2348.6,2
  49NZ20191205,    I08N,     64,   1,      22,     -99,  2,20210405,1723, -17.9988,   80.0008,  5100,   1130.4,   4.7086,2,  34.6830,2,  34.6836,2,    104.2,2,   103.99,2,    36.29,2,     0.00,2,     89.2,2,    2.579,2,    0.062,2,      0.0,2,    0.024,2,   2289.3,2,   2363.6,6
  49NZ20191205,    I08N,     64,   1,      21,     -99,  2,20210405,1723, -17.9988,   80.0008,  5100,   1332.0,   4.0617,2,  34.6990,2,  34.6993,2,    113.1,2,   112.97,2,    36.17,2,     0.00,2,     96.3,2,    2.571,2,    0.026,2,      0.0,2,    0.000,2,   2293.0,2,   2370.3,2
  49NZ20191205,    I08N,     64,   1,      20,     -99,  2,20210405,1723, -17.9988,   80.0008,  5100,   1529.3,   3.5177,2,  34.7066,2,  34.7065,2,    125.0,2,   125.00,2,    35.85,2,     0.00,2,    100.4,2,    2.525,2,    0.018,2,      0.0,2,    0.006,2,   2293.1,2,   2375.0,2
  49NZ20191205,    I08N,     64,   1,      19,     -99,  2,20210405,1723, -17.9988,   80.0008,  5100,   1728.7,   3.0342,2,  34.7160,2,  34.7161,2,    135.3,2,   135.20,2,    35.41,2,     0.00,2,    105.6,2,    2.483,2,    0.014,2,      0.0,2,    0.012,2,   2294.7,2,   2379.8,2
  49NZ20191205,    I08N,     64,   1,      18,     -99,  2,20210405,1723, -17.9988,   80.0008,  5100,   1929.2,   2.6665,2,  34.7247,2,  34.7244,2,    144.1,2,   143.90,2,    35.00,2,     0.00,2,    110.2,2,    2.447,2,    0.010,2,      0.0,2,    0.000,2,   2293.5,2,   2383.3,2
  49NZ20191205,    I08N,     64,   1,      17,     -99,  2,20210405,1723, -17.9988,   80.0008,  5100,   2130.1,   2.3548,2,  34.7263,2,  34.7257,2,    154.9,2,   154.76,2,    34.49,2,     0.00,2,    111.9,2,    2.396,2,    0.014,2,      0.0,2,    0.021,2,   2290.7,2,   2385.7,2
  49NZ20191205,    I08N,     64,   1,      16,     -99,  2,20210405,1723, -17.9988,   80.0008,  5100,   2331.3,   2.1196,2,  34.7271,2,  34.7266,2,    162.5,2,   162.44,2,    34.01,2,     0.01,2,    113.9,2,    2.359,2,    0.014,2,      0.0,2,    0.000,2,   2290.1,6,   2385.4,2
  49NZ20191205,    I08N,     64,   1,      15,     -99,  2,20210405,1723, -17.9988,   80.0008,  5100,   2531.1,   1.9234,2,  34.7275,2,  34.7269,2,    168.9,2,   168.89,2,    33.77,2,     0.00,2,    115.5,2,    2.323,2,    0.016,2,      0.0,2,    0.000,2,   2287.6,2,   2387.0,2
  49NZ20191205,    I08N,     64,   1,      14,     -99,  2,20210405,1723, -17.9988,   80.0008,  5100,   2730.8,   1.7821,2,  34.7273,2,  34.7269,2,    172.5,2,   172.64,2,    33.72,2,     0.00,2,    118.5,2,    2.314,2,    0.013,2,      0.0,2,    0.024,2,   2287.6,2,   2390.7,2
  49NZ20191205,    I08N,     64,   1,      13,     -99,  2,20210405,1723, -17.9988,   80.0008,  5100,   2929.8,   1.6818,2,  34.7265,2,  34.7259,2,    174.1,2,   174.15,2,    33.64,2,     0.00,2,    121.5,2,    2.311,2,    0.013,2,      0.0,2,    0.003,2,   2295.1,2,   2393.5,2
  49NZ20191205,    I08N,     64,   1,      12,     -99,  2,20210405,1723, -17.9988,   80.0008,  5100,   3170.6,   1.5628,2,  34.7248,2,  34.7246,2,    176.0,2,   175.90,2,    33.77,2,     0.00,2,    125.0,2,    2.316,2,    0.016,2,      0.0,2,    0.011,2,   2296.0,2,   2396.9,6
  49NZ20191205,    I08N,     64,   1,      11,     -99,  2,20210405,1723, -17.9988,   80.0008,  5100,   3420.9,   1.4615,2,  34.7227,2,  34.7227,2,    179.1,2,   179.08,2,    33.83,2,     0.00,2,    127.2,2,    2.313,2,    0.014,2,      0.0,2,    0.000,2,   2295.3,2,   2401.5,2
  49NZ20191205,    I08N,     64,   1,      10,     -99,  2,20210405,1723, -17.9988,   80.0008,  5100,   3670.4,   1.4016,2,  34.7209,2,  34.7210,2,    182.1,2,   182.05,2,    33.69,2,     0.00,2,    128.0,2,    2.302,2,    0.017,2,      0.0,2,    0.000,2,   2297.7,2,   2401.3,2
  49NZ20191205,    I08N,     64,   1,       9,     -99,  2,20210405,1723, -17.9988,   80.0008,  5100,   3920.7,   1.3739,2,  34.7192,2,  34.7192,2,    183.0,2,   182.89,2,    33.65,2,     0.00,2,    129.6,2,    2.299,2,    0.013,2,      0.0,2,    0.000,2,   2298.7,2,   2403.5,2
  49NZ20191205,    I08N,     64,   1,       8,     -99,  2,20210405,1723, -17.9988,   80.0008,  5100,   4168.7,   1.3683,2,  34.7181,2,  34.7184,2,    183.0,2,   182.80,2,    33.70,2,     0.00,2,    130.9,2,    2.302,2,    0.011,2,      0.0,2,    0.005,2,   2296.6,6,   2405.6,2
  49NZ20191205,    I08N,     64,   1,       7,     -99,  2,20210405,1723, -17.9988,   80.0008,  5100,   4422.3,   1.3784,2,  34.7174,2,  34.7176,2,    183.0,2,   182.80,2,    33.87,2,     0.00,2,    132.0,2,    2.308,2,    0.018,2,      0.0,2,    0.009,2,   2302.7,2,   2405.4,2
  49NZ20191205,    I08N,     64,   1,       6,     -99,  2,20210405,1723, -17.9988,   80.0008,  5100,   4672.7,   1.3981,2,  34.7172,2,  34.7176,2,    183.0,2,   182.99,2,    33.66,2,     0.00,2,    132.5,2,    2.307,2,    0.014,2,      0.0,2,    0.003,2,   2299.0,2,   2407.2,6
  49NZ20191205,    I08N,     64,   1,       5,     -99,  2,20210405,1723, -17.9988,   80.0008,  5100,   4920.8,   1.4199,2,  34.7171,2,  34.7173,2,    183.4,2,   183.69,2,    33.61,2,     0.01,2,    132.3,2,    2.307,2,    0.017,2,      0.0,2,    0.020,2,   2297.7,2,   2405.7,2
  49NZ20191205,    I08N,     64,   1,       1,     -99,  2,20210405,1723, -17.9988,   80.0008,  5100,   5186.4,   1.4511,2,  34.7170,2,  34.7170,2,    183.5,2,   183.59,2,    33.62,2,     0.01,2,    132.1,2,    2.308,2,    0.017,2,      0.0,2,    0.009,2,   2298.3,2,   2409.1,2
  49NZ20191205,    I08N,     62,   1,      36,     -99,  2,20210405,1723, -16.9985,   80.0010,  5072,     10.3,  28.1886,2,  34.9207,2,  34.9200,2,    199.5,2,   198.83,2,     0.04,2,     0.00,2,      2.0,2,    0.096,2,    1.449,2,      0.9,2,    1.654,2,   1967.8,2,   2292.8,2
  49NZ20191205,    I08N,     62,   1,      35,     -99,  2,20210405,1723, -16.9985,   80.0010,  5072,     50.3,  27.4715,2,  34.9385,2,  34.9356,2,    205.7,2,   205.70,2,     0.02,2,     0.00,2,      1.8,2,    0.110,2,    1.467,2,      1.0,2,    1.435,2,   1975.0,2,   2291.0,2
  49NZ20191205,    I08N,     62,   1,      34,     -99,  2,20210405,1723, -16.9985,   80.0010,  5072,    100.0,  24.9467,2,  34.9334,2,  34.9375,2,    214.5,2,   214.14,2,     0.05,2,     0.01,2,      2.0,2,    0.067,2,    1.674,2,      1.1,2,    1.786,2,   1983.3,2,   2293.6,2
  49NZ20191205,    I08N,     62,   1,       2,     -99,  2,20210405,1723, -16.9985,   80.0010,  5072,    145.2,  23.1855,2,  35.0695,2,  35.0749,2,    189.5,2,   189.58,2,     1.44,2,     0.10,2,      3.7,2,    0.223,2, -999.000,9,   -999.0,9, -999.000,9,   2021.9,2,   2304.7,2
  49NZ20191205,    I08N,     62,   1,      33,     -99,  2,20210405,1723, -16.9985,   80.0010,  5072,    149.6,  22.9561,2,  35.0956,2,  35.1018,2,    184.2,2,   182.96,2,     2.58,2,     0.15,2,      4.4,2,    0.288,2,    1.759,2,      1.1,2,    1.694,2,   2034.7,2,   2305.3,2
  49NZ20191205,    I08N,     62,   1,      32,     -99,  2,20210405,1723, -16.9985,   80.0010,  5072,    199.6,  20.1198,2,  35.3147,2,  35.3632,2,    155.3,2,   159.36,2,     7.16,2,     0.01,2,      7.8,2,    0.537,2,    1.883,2,      1.1,2,    1.565,2,   2092.0,2,   2322.5,2
  49NZ20191205,    I08N,     62,   1,      31,     -99,  2,20210405,1723, -16.9985,   80.0010,  5072,    249.3,  18.9029,2,  35.6963,2,  35.6935,2,    185.7,2,   185.70,2,     4.09,2,     0.01,2,      4.6,2,    0.357,2,    1.967,2,      1.2,2,    1.703,2,   2101.4,2,   2342.8,2
  49NZ20191205,    I08N,     62,   1,      30,     -99,  2,20210405,1723, -16.9985,   80.0010,  5072,    328.8,  13.7447,2,  35.0857,2,  35.0877,2,    139.5,2,   142.51,2,    16.37,2,     0.00,2,     19.4,2,    1.174,2,    1.959,2,      1.1,2,    1.204,2,   2166.6,2,   2320.6,2
  49NZ20191205,    I08N,     62,   1,      29,     -99,  2,20210405,1723, -16.9985,   80.0010,  5072,    429.3,  11.5845,2,  35.0012,2,  34.9843,2,    220.0,2,   220.23,2,    12.23,2,     0.00,2,      4.9,2,    0.887,2,    3.059,2,      1.7,2,    1.799,2,   2132.9,2,   2309.5,2
  49NZ20191205,    I08N,     62,   1,      28,     -99,  2,20210405,1723, -16.9985,   80.0010,  5072,    530.1,   9.6386,2,  34.7265,2,  34.7207,2,    228.7,2,   228.29,2,    16.52,2,     0.00,2,      5.3,2,    1.143,2,    3.380,2,      1.9,2,    1.673,2,   2143.8,2,   2297.1,2
  49NZ20191205,    I08N,     62,   1,      27,     -99,  2,20210405,1723, -16.9985,   80.0010,  5072,    631.1,   7.7971,2,  34.5546,2,  34.5513,2,    193.3,2,   191.55,2,    24.45,2,     0.01,2,     17.7,2,    1.663,2,    2.502,2,      1.3,2,    0.789,2,   2174.2,2,   2297.0,2
  49NZ20191205,    I08N,     62,   1,      26,     -99,  2,20210405,1723, -16.9985,   80.0010,  5072,    729.0,   6.4923,2,  34.5598,2,  34.5611,2,    141.8,2,   140.59,2,    31.24,2,     0.01,2,     43.3,2,    2.169,2,    0.924,2,      0.5,2,    0.187,2,   2226.8,6,   2317.6,2
  49NZ20191205,    I08N,     62,   1,      25,     -99,  2,20210405,1723, -16.9985,   80.0010,  5072,    830.5,   6.0417,2,  34.6471,2,  34.6523,2,    105.9,2,   103.84,2,    34.70,2,     0.01,2,     65.9,2,    2.454,2,    0.271,2,      0.2,2,    0.047,2,   2263.9,2,   2341.6,2
  49NZ20191205,    I08N,     62,   1,      24,     -99,  2,20210405,1723, -16.9985,   80.0010,  5072,    930.6,   5.6071,2,  34.6805,2,  34.6799,2,     95.9,2,    95.86,2,    35.90,2,     0.00,2,     78.1,2,    2.551,2,    0.124,2,      0.1,2,    0.006,2,   2283.9,2,   2354.1,2
  49NZ20191205,    I08N,     62,   1,      23,     -99,  2,20210405,1723, -16.9985,   80.0010,  5072,   1069.6,   5.0262,2,  34.6884,2,  34.6882,2,     97.9,2,    97.56,2,    36.19,2,     0.00,2,     87.2,2,    2.589,2,    0.061,2,      0.0,2,    0.003,2,   2290.3,2,   2363.9,2
  49NZ20191205,    I08N,     62,   1,      22,     -99,  2,20210405,1723, -16.9985,   80.0010,  5072,   1271.0,   4.3295,2,  34.6921,2,  34.6920,2,    107.6,2,   108.02,2,    36.13,2,     0.00,2,     94.3,2,    2.583,2,    0.024,2,      0.0,2,    0.004,2,   2294.4,2,   2370.9,6
  49NZ20191205,    I08N,     62,   1,      21,     -99,  2,20210405,1723, -16.9985,   80.0010,  5072,   1469.0,   3.7034,2,  34.7013,2,  34.7011,2,    119.7,2,   119.29,2,    35.98,2,     0.00,2,     99.0,2,    2.549,2,    0.014,2,      0.0,2,    0.000,2,   2296.6,2,   2374.2,2
  49NZ20191205,    I08N,     62,   1,      20,     -99,  2,20210405,1723, -16.9985,   80.0010,  5072,   1669.9,   3.1737,2,  34.7150,2,  34.7159,2,    129.0,2,   129.04,2,    35.67,2,     0.00,2,    106.0,2,    2.516,2,    0.008,2,      0.0,2,    0.003,2,   -999.0,3,   2382.1,2
  49NZ20191205,    I08N,     62,   1,      19,     -99,  2,20210405,1723, -16.9985,   80.0010,  5072,   1869.3,   2.7598,2,  34.7243,2,  34.7251,2,    140.6,2,   140.57,2,    35.06,2,     0.00,2,    109.7,2,    2.468,2,    0.008,2,      0.0,2,    0.001,2,   2298.1,2,   2386.4,2
  49NZ20191205,    I08N,     62,   1,      18,     -99,  2,20210405,1723, -16.9985,   80.0010,  5072,   2070.1,   2.4466,2,  34.7292,2,  34.7298,2,    149.2,2,   149.17,2,    34.70,2,     0.00,2,    113.2,2,    2.426,2,    0.012,2,      0.0,2,    0.005,2,   2298.2,2,   2389.9,2
  49NZ20191205,    I08N,     62,   1,      17,     -99,  2,20210405,1723, -16.9985,   80.0010,  5072,   2269.4,   2.2094,2,  34.7294,2,  34.7290,2,    157.5,2,   157.43,2,    34.34,2,     0.00,2,    114.8,2,    2.390,2,    0.011,2,      0.0,2,    0.002,2,   2293.1,2,   2388.7,2
  49NZ20191205,    I08N,     62,   1,      16,     -99,  2,20210405,1723, -16.9985,   80.0010,  5072,   2470.5,   1.9988,2,  34.7283,2,  34.7281,2,    165.2,2,   165.19,2,    33.90,2,     0.00,2,    116.2,2,    2.346,2,    0.009,2,      0.0,2,    0.000,2,   2292.0,6,   2390.3,2
  49NZ20191205,    I08N,     62,   1,      15,     -99,  2,20210405,1723, -16.9985,   80.0010,  5072,   2670.2,   1.8504,2,  34.7274,2,  34.7266,2,    170.7,2,   170.61,2,    33.48,2,     0.00,2,    117.0,2,    2.315,2,    0.013,2,      0.0,2,    0.001,2,   2288.9,2,   2389.1,2
  49NZ20191205,    I08N,     62,   1,      14,     -99,  2,20210405,1723, -16.9985,   80.0010,  5072,   2870.8,   1.7343,2,  34.7267,2,  34.7262,2,    174.4,2,   174.27,2,    33.31,2,     0.00,2,    118.5,2,    2.302,2,    0.011,2,      0.0,2,    0.005,2,   2289.9,2,   2392.4,2
  49NZ20191205,    I08N,     62,   1,      13,     -99,  2,20210405,1723, -16.9985,   80.0010,  5072,   3081.6,   1.6279,2,  34.7256,2,  34.7263,2,    175.4,2,   175.31,2,    33.57,2,     0.00,2,    122.7,2,    2.310,2,    0.012,2,      0.0,2,    0.001,2,   2293.3,2,   2395.3,2
  49NZ20191205,    I08N,     62,   1,      12,     -99,  2,20210405,1723, -16.9985,   80.0010,  5072,   3330.3,   1.5292,2,  34.7238,2,  34.7245,2,    177.2,2,   177.12,2,    33.78,2,     0.01,2,    125.8,2,    2.315,2,    0.010,2,      0.0,2,    0.014,2,   2293.6,2,   2401.2,6
  49NZ20191205,    I08N,     62,   1,      11,     -99,  2,20210405,1723, -16.9985,   80.0010,  5072,   3580.2,   1.4422,2,  34.7220,2,  34.7226,2,    181.3,2,   181.11,2,    33.46,2,     0.00,2,    126.5,2,    2.292,2,    0.012,2,      0.0,2,    0.001,2,   2293.3,2,   2400.2,2
  49NZ20191205,    I08N,     62,   1,      10,     -99,  2,20210405,1723, -16.9985,   80.0010,  5072,   3829.9,   1.3910,2,  34.7200,2,  34.7204,2,    183.2,2,   182.97,2,    33.41,2,     0.01,2,    128.0,2,    2.295,2,    0.012,2,      0.0,2,    0.008,2,   2293.0,2,   2402.8,2
  49NZ20191205,    I08N,     62,   1,       9,     -99,  2,20210405,1723, -16.9985,   80.0010,  5072,   4079.4,   1.3776,2,  34.7187,2,  34.7194,2,    183.2,2,   183.09,2,    33.59,2,     0.00,2,    129.9,2,    2.297,2,    0.013,2,      0.0,2,    0.002,2,   2295.5,2,   2403.1,2
  49NZ20191205,    I08N,     62,   1,       8,     -99,  2,20210405,1723, -16.9985,   80.0010,  5072,   4329.3,   1.3824,2,  34.7178,2,  34.7185,2,    182.8,2,   182.68,2,    33.74,2,     0.00,2,    131.5,2,    2.307,2,    0.012,2,      0.0,2,    0.002,2,   2297.4,6,   2406.7,2
  49NZ20191205,    I08N,     62,   1,       7,     -99,  2,20210405,1723, -16.9985,   80.0010,  5072,   4580.3,   1.3991,2,  34.7173,2,  34.7178,2,    182.5,2,   182.50,2,    33.64,2,     0.00,2,    132.7,2,    2.311,2,    0.014,2,      0.0,2,    0.000,2,   2298.0,2,   2409.4,2
  49NZ20191205,    I08N,     62,   1,       6,     -99,  2,20210405,1723, -16.9985,   80.0010,  5072,   4829.9,   1.4238,2,  34.7171,2,  34.7174,2,    182.3,2,   182.34,2,    33.71,2,     0.00,2,    132.8,2,    2.309,2,    0.010,2,      0.0,2,    0.014,2,   2299.1,2,   2408.2,6
  49NZ20191205,    I08N,     62,   1,       1,     -99,  2,20210405,1723, -16.9985,   80.0010,  5072,   5142.3,   1.4491,2,  34.7169,2,  34.7172,2,    183.2,2,   183.20,2,    33.65,2,     0.00,2,    132.1,2,    2.301,2,    0.012,2,      0.0,2,    0.004,2,   2297.2,2,   2408.8,2