BOTTLE,20212805JOAExport
EXPOCODE,SECT_ID,STNNBR,CASTNO,SAMPNO,BTLNBR,BTLNBR_FLAG_W,DATE,TIME,LATITUDE,LONGITUDE,DEPTH,CTDPRS,CTDTMP,CTDTMP_FLAG_W,CTDSAL,CTDSAL_FLAG_W,SALNTY,SALNTY_FLAG_W,CTDOXY,CTDOXY_FLAG_W,OXYGEN,OXYGEN_FLAG_W,NITRAT,NITRAT_FLAG_W,NITRIT,NITRIT_FLAG_W,SILCAT,SILCAT_FLAG_W,PHSPHT,PHSPHT_FLAG_W,CFC-11,CFC-11_FLAG_W,CFC-12,CFC-12_FLAG_W,SF6,SF6_FLAG_W,TCARBN,TCARBN_FLAG_W,ALKALI,ALKALI_FLAG_W
,,,,,,,,,,,,DB,ITS-90,,PSS-78,,PSS-78,,UMOL/KG,,UMOL/KG,,UMOL/KG,,UMOL/KG,,UMOL/KG,,UMOL/KG,,PMOL/KG,,PMOL/KG,,FMOL/KG,,UMOL/KG,,UMOL/KG
  49NZ20191205,    I08N,     60,   1,      36,     -99,  2,20210405,1723, -15.9990,   80.0017,  5046,      9.8,  28.5167,2,  35.0352,2,  35.0354,2,    197.8,2,   197.48,2,     0.04,2,     0.00,2,      1.7,2,    0.098,2,    1.423,2,      0.9,2,    1.525,2,   1963.9,2,   2295.9,2
  49NZ20191205,    I08N,     60,   1,      35,     -99,  2,20210405,1723, -15.9990,   80.0017,  5046,     50.4,  28.2153,2,  34.9985,2,  34.9992,2,    200.4,2,   200.58,2,     0.04,2,     0.01,2,      1.8,2,    0.104,2,    1.451,2,      0.9,2,    1.499,2,   1963.1,2,   2293.5,2
  49NZ20191205,    I08N,     60,   1,      34,     -99,  2,20210405,1723, -15.9990,   80.0017,  5046,    100.5,  24.6782,2,  34.9300,2,  34.9331,2,    210.7,2,   211.04,2,     0.04,2,     0.00,2,      2.1,2,    0.082,2,    1.680,2,      1.1,2,    1.682,2,   1985.5,2,   2296.6,2
  49NZ20191205,    I08N,     60,   1,       2,     -99,  2,20210405,1723, -15.9990,   80.0017,  5046,    129.6,  22.5202,2,  34.9255,2,  34.9248,2,    152.7,2,   152.66,2,     6.54,2,     0.19,2,      7.4,2,    0.552,2, -999.000,9,   -999.0,9, -999.000,9,   2057.1,2,   2294.1,2
  49NZ20191205,    I08N,     60,   1,      33,     -99,  2,20210405,1723, -15.9990,   80.0017,  5046,    150.5,  21.7903,2,  35.2174,2,  35.1867,2,    170.6,2,   166.08,2,     4.98,2,     0.19,2,      6.1,2,    0.442,2,    1.788,2,      1.1,2,    1.577,2,   2060.0,2,   2312.2,2
  49NZ20191205,    I08N,     60,   1,      32,     -99,  2,20210405,1723, -15.9990,   80.0017,  5046,    199.5,  19.2951,2,  35.2917,2,  35.3450,2,    150.9,2,   155.18,2,     8.32,2,     0.01,2,      9.1,2,    0.612,2,    1.864,2,      1.2,2,    1.460,2,   2097.0,2,   2322.1,2
  49NZ20191205,    I08N,     60,   1,      31,     -99,  2,20210405,1723, -15.9990,   80.0017,  5046,    250.9,  18.1579,2,  35.6023,2,  35.5677,2,    176.8,2,   174.28,2,     6.66,2,     0.01,2,      7.5,2,    0.521,2,    2.048,2,      1.3,2,    1.580,2,   2108.3,2,   2340.1,2
  49NZ20191205,    I08N,     60,   1,      30,     -99,  2,20210405,1723, -15.9990,   80.0017,  5046,    299.7,  15.9872,2,  35.5000,2,  35.4999,2,    183.3,2,   184.50,2,     7.30,2,     0.01,2,      7.0,2,    0.585,2,    2.280,2,      1.4,2,    1.603,2,   2121.7,2,   2337.6,2
  49NZ20191205,    I08N,     60,   1,      29,     -99,  2,20210405,1723, -15.9990,   80.0017,  5046,    399.6,  11.8472,2,  35.0394,2,  35.0385,2,    221.2,2,   222.00,2,    11.00,2,     0.01,2,      4.1,2,    0.817,2,    3.018,2,      1.8,2,    1.831,2,   2128.3,2,   2313.3,2
  49NZ20191205,    I08N,     60,   1,      28,     -99,  2,20210405,1723, -15.9990,   80.0017,  5046,    500.4,   9.7485,2,  34.7422,2,  34.7365,2,    228.7,2,   229.02,2,    16.08,2,     0.01,2,      5.1,2,    1.118,2,    3.399,2,      2.0,2,    1.707,2,   2134.4,2,   2297.7,2
  49NZ20191205,    I08N,     60,   1,      27,     -99,  2,20210405,1723, -15.9990,   80.0017,  5046,    598.3,   8.0841,2,  34.5744,2,  34.5738,2,    197.8,2,   196.73,2,    23.31,2,     0.01,2,     15.3,2,    1.580,2,    2.784,2,      1.5,2,    0.920,2,   2165.1,2,   2293.7,2
  49NZ20191205,    I08N,     60,   1,      26,     -99,  2,20210405,1723, -15.9990,   80.0017,  5046,    699.3,   6.8290,2,  34.6096,2,  34.6123,2,    129.0,2,   126.99,2,    31.85,2,     0.00,2,     46.7,2,    2.221,2,    0.880,2,      0.4,2,    0.200,2,   2230.8,6,   2322.5,2
  49NZ20191205,    I08N,     60,   1,      25,     -99,  2,20210405,1723, -15.9990,   80.0017,  5046,    800.5,   6.1786,2,  34.6766,2,  34.6778,2,     99.4,2,    98.95,2,    34.63,2,     0.01,2,     67.4,2,    2.460,2,    0.305,2,      0.2,2,    0.046,2,   2265.6,2,   2344.8,2
  49NZ20191205,    I08N,     60,   1,      24,     -99,  2,20210405,1723, -15.9990,   80.0017,  5046,    899.3,   5.7420,2,  34.6995,2,  34.7000,2,     92.9,2,    92.73,2,    35.55,2,     0.00,2,     78.1,2,    2.543,2,    0.161,2,      0.1,2,    0.002,2,   2279.9,2,   2353.5,2
  49NZ20191205,    I08N,     60,   1,      23,     -99,  2,20210405,1723, -15.9990,   80.0017,  5046,    999.0,   5.3228,2,  34.6993,2,  34.6998,2,     90.8,2,    90.54,2,    36.21,2,     0.00,2,     87.5,2,    2.598,2,    0.085,2,      0.0,2,    0.006,2,   2292.3,2,   2364.0,2
  49NZ20191205,    I08N,     60,   1,      22,     -99,  2,20210405,1723, -15.9990,   80.0017,  5046,   1197.8,   4.6598,2,  34.6975,2,  34.6975,2,     97.3,2,    97.40,2,    36.49,2,     0.00,2,     95.8,2,    2.608,2,    0.043,2,      0.0,2,    0.006,2,   2298.9,2,   2372.8,6
  49NZ20191205,    I08N,     60,   1,      21,     -99,  2,20210405,1723, -15.9990,   80.0017,  5046,   1400.8,   4.0527,2,  34.7118,2,  34.7124,2,    110.5,2,   110.44,2,    36.05,2,     0.00,2,     98.5,2,    2.577,2,    0.000,2,      0.0,2,    0.000,2,   2297.2,2,   2375.0,2
  49NZ20191205,    I08N,     60,   1,      20,     -99,  2,20210405,1723, -15.9990,   80.0017,  5046,   1600.0,   3.4946,2,  34.7166,2,  34.7177,2,    122.3,2,   122.16,2,    35.70,2,     0.00,2,    103.2,2,    2.534,2,    0.000,2,      0.0,2,    0.000,2,   2298.7,2,   2377.2,2
  49NZ20191205,    I08N,     60,   1,      19,     -99,  2,20210405,1723, -15.9990,   80.0017,  5046,   1799.2,   2.9848,2,  34.7223,2,  34.7228,2,    133.1,2,   133.09,2,    35.40,2,     0.00,2,    108.5,2,    2.489,2,    0.000,2,      0.0,2,    0.000,2,   2298.5,2,   2382.2,2
  49NZ20191205,    I08N,     60,   1,      18,     -99,  2,20210405,1723, -15.9990,   80.0017,  5046,   1998.1,   2.6297,2,  34.7294,2,  34.7296,2,    143.1,2,   142.78,2,    34.93,2,     0.01,2,    111.8,2,    2.449,2,    0.000,2,      0.0,2,    0.000,2,   2298.4,2,   2385.9,2
  49NZ20191205,    I08N,     60,   1,      17,     -99,  2,20210405,1723, -15.9990,   80.0017,  5046,   2199.4,   2.3362,2,  34.7312,2,  34.7313,2,    152.4,2,   152.33,2,    34.48,2,     0.00,2,    114.4,2,    2.404,2,    0.000,2,      0.0,2,    0.000,2,   2297.2,2,   2389.1,2
  49NZ20191205,    I08N,     60,   1,      16,     -99,  2,20210405,1723, -15.9990,   80.0017,  5046,   2401.6,   2.1102,2,  34.7309,2,  34.7311,2,    159.6,2,   159.51,2,    34.21,2,     0.01,2,    116.8,2,    2.377,2,    0.013,2,      0.0,2,    0.006,2,   2297.5,6,   2390.9,2
  49NZ20191205,    I08N,     60,   1,      15,     -99,  2,20210405,1723, -15.9990,   80.0017,  5046,   2602.4,   1.9352,2,  34.7293,2,  34.7298,2,    165.9,2,   165.88,2,    33.92,2,     0.01,2,    118.1,2,    2.349,2,    0.014,2,      0.0,2,    0.000,2,   2291.9,2,   2392.0,2
  49NZ20191205,    I08N,     60,   1,      14,     -99,  2,20210405,1723, -15.9990,   80.0017,  5046,   2799.5,   1.8106,2,  34.7281,2,  34.7279,2,    170.1,2,   170.22,2,    33.53,2,     0.01,2,    118.9,2,    2.314,2,    0.013,2,      0.0,2,    0.002,2,   -999.0,3,   2391.8,2
  49NZ20191205,    I08N,     60,   1,      13,     -99,  2,20210405,1723, -15.9990,   80.0017,  5046,   2999.1,   1.7054,2,  34.7267,2,  34.7267,2,    172.7,2,   172.66,2,    33.65,2,     0.00,2,    121.7,2,    2.312,2,    0.013,2,      0.0,2,    0.000,2,   2293.3,2,   2395.0,2
  49NZ20191205,    I08N,     60,   1,      12,     -99,  2,20210405,1723, -15.9990,   80.0017,  5046,   3249.6,   1.5668,2,  34.7246,2,  34.7250,2,    177.5,2,   177.39,2,    33.39,2,     0.00,2,    123.2,2,    2.298,2,    0.012,2,      0.0,2,    0.004,2,   2292.2,2,   2396.3,6
  49NZ20191205,    I08N,     60,   1,      11,     -99,  2,20210405,1723, -15.9990,   80.0017,  5046,   3500.8,   1.4551,2,  34.7220,2,  34.7229,2,    178.5,2,   178.90,2,    33.52,2,     0.01,2,    127.2,2,    2.301,2,    0.012,2,      0.0,2,    0.004,2,   2296.0,2,   2400.9,2
  49NZ20191205,    I08N,     60,   1,      10,     -99,  2,20210405,1723, -15.9990,   80.0017,  5046,   3750.3,   1.3942,2,  34.7200,2,  34.7204,2,    181.1,2,   181.05,2,    33.57,2,     0.01,2,    129.0,2,    2.303,2,    0.011,2,      0.0,2,    0.006,2,   2295.2,2,   2402.8,2
  49NZ20191205,    I08N,     60,   1,       9,     -99,  2,20210405,1723, -15.9990,   80.0017,  5046,   4000.1,   1.3666,2,  34.7185,2,  34.7190,2,    182.3,2,   182.21,2,    33.52,2,     0.01,2,    130.3,2,    2.300,2,    0.012,2,      0.0,2,    0.006,2,   2297.9,2,   2405.8,2
  49NZ20191205,    I08N,     60,   1,       8,     -99,  2,20210405,1723, -15.9990,   80.0017,  5046,   4251.4,   1.3725,2,  34.7177,2,  34.7178,2,    181.9,2,   181.64,2,    33.61,2,     0.01,2,    132.0,2,    2.309,2,    0.014,2,      0.0,2,    0.017,2,   2299.5,6,   2407.9,2
  49NZ20191205,    I08N,     60,   1,       7,     -99,  2,20210405,1723, -15.9990,   80.0017,  5046,   4500.3,   1.3886,2,  34.7173,2,  34.7178,2,    181.5,2,   181.35,2,    33.70,2,     0.01,2,    132.9,2,    2.313,2,    0.013,2,      0.0,2,    0.014,2,   2300.7,2,   2408.8,2
  49NZ20191205,    I08N,     60,   1,       6,     -99,  2,20210405,1723, -15.9990,   80.0017,  5046,   4752.1,   1.4125,2,  34.7171,2,  34.7176,2,    181.3,2,   181.30,2,    33.70,2,     0.01,2,    133.2,2,    2.312,2,    0.015,2,      0.0,2,    0.000,2,   2299.9,2,   2408.9,6
  49NZ20191205,    I08N,     60,   1,       5,     -99,  2,20210405,1723, -15.9990,   80.0017,  5046,   5000.1,   1.4389,2,  34.7171,2,  34.7172,2,    181.2,2,   181.20,2,    33.68,2,     0.00,2,    133.8,2,    2.309,2,    0.013,2,      0.0,2,    0.009,2,   2302.3,2,   2408.9,2
  49NZ20191205,    I08N,     60,   1,       1,     -99,  2,20210405,1723, -15.9990,   80.0017,  5046,   5119.7,   1.4537,2,  34.7171,2,  34.7171,2,    181.2,2,   181.30,2,    33.70,2,     0.01,2,    133.6,2,    2.312,2,    0.015,2,      0.0,2,    0.040,2,   2301.1,2,   2407.5,2
  49NZ20191205,    I08N,     58,   1,      36,     -99,  2,20210405,1723, -14.9988,   80.0020,  5111,     10.1,  28.3462,2,  34.9726,2,  34.9713,2,    199.3,2,   199.02,2,     0.08,2,     0.01,2,      1.9,2,    0.101,2,    1.379,2,      0.9,2,    1.563,2,   1964.2,2,   2290.4,2
  49NZ20191205,    I08N,     58,   1,      35,     -99,  2,20210405,1723, -14.9988,   80.0020,  5111,     49.8,  27.9452,2,  34.9621,2,  34.9608,2,    203.5,2,   203.57,2,     0.02,2,     0.01,2,      1.8,2,    0.100,2,    1.418,2,      0.9,2,    1.606,2,   1963.7,2,   2290.9,2
  49NZ20191205,    I08N,     58,   1,       2,     -99,  2,20210405,1723, -14.9988,   80.0020,  5111,     96.1,  24.7745,2,  34.8127,2,  34.8023,2,    194.5,2,   192.10,2,     0.37,2,     0.03,2,      3.3,2,    0.178,2, -999.000,9,   -999.0,9, -999.000,9,   1995.3,2,   2285.3,2
  49NZ20191205,    I08N,     58,   1,      34,     -99,  2,20210405,1723, -14.9988,   80.0020,  5111,    100.0,  24.1397,2,  34.8666,2,  34.9045,2,    180.2,2,   183.20,2,     1.69,2,     0.08,2,      4.2,2,    0.273,2,    1.602,2,      1.0,2,    1.668,2,   2014.8,2,   2292.7,2
  49NZ20191205,    I08N,     58,   1,      33,     -99,  2,20210405,1723, -14.9988,   80.0020,  5111,    150.8,  21.8567,2,  35.3651,2,  35.3469,2,    181.3,2,   176.45,2,     3.76,2,     0.15,2,      4.8,2,    0.347,2,    1.765,2,      1.1,2,    1.678,2,   2057.5,2,   2316.6,2
  49NZ20191205,    I08N,     58,   1,      32,     -99,  2,20210405,1723, -14.9988,   80.0020,  5111,    198.9,  19.5116,2,  35.5180,2,  35.5315,2,    168.4,2,   170.09,2,     5.94,2,     0.01,2,      6.6,2,    0.462,2,    1.896,2,      1.2,2,    1.623,2,   2092.9,2,   2335.0,2
  49NZ20191205,    I08N,     58,   1,      31,     -99,  2,20210405,1723, -14.9988,   80.0020,  5111,    250.4,  16.7621,2,  35.3981,2,  35.4047,2,    159.9,2,   159.92,2,     9.86,2,     0.01,2,     11.4,2,    0.733,2,    1.854,2,      1.2,2,    1.527,2,   2125.0,2,   2331.4,2
  49NZ20191205,    I08N,     58,   1,      30,     -99,  2,20210405,1723, -14.9988,   80.0020,  5111,    279.8,  15.1204,2,  35.2258,2,  35.2340,2,    147.4,2,   149.86,2,    13.42,2,     0.01,2,     15.9,2,    0.974,2,    2.059,2,      1.2,2,    1.311,2,   2146.1,2,   2323.2,2
  49NZ20191205,    I08N,     58,   1,      29,     -99,  2,20210405,1723, -14.9988,   80.0020,  5111,    368.6,  12.0774,2,  35.0208,2,  35.0272,2,    169.6,2,   173.15,2,    15.70,2,     0.01,2,     13.6,2,    1.116,2,    2.566,2,      1.4,2,    1.415,2,   2154.4,2,   2316.3,2
  49NZ20191205,    I08N,     58,   1,      28,     -99,  2,20210405,1723, -14.9988,   80.0020,  5111,    469.4,   9.9110,2,  34.7741,2,  34.7685,2,    190.3,2,   192.93,2,    19.16,2,     0.01,2,     12.5,2,    1.312,2,    3.009,2,      1.6,2,    1.167,2,   2159.6,2,   2302.5,2
  49NZ20191205,    I08N,     58,   1,      27,     -99,  2,20210405,1723, -14.9988,   80.0020,  5111,    569.7,   8.5005,2,  34.6352,2,  34.6312,2,    179.6,2,   180.01,2,    23.84,2,     0.01,2,     18.1,2,    1.619,2,    2.493,2,      1.4,2,    0.881,2,   2171.8,2,   2298.5,2
  49NZ20191205,    I08N,     58,   1,      26,     -99,  2,20210405,1723, -14.9988,   80.0020,  5111,    670.6,   7.3557,2,  34.6405,2,  34.6427,2,    129.9,2,   128.34,2,    30.64,2,     0.01,2,     41.4,2,    2.129,2,    1.070,2,      0.6,2,    0.260,2,   2222.4,6,   2315.4,2
  49NZ20191205,    I08N,     58,   1,      25,     -99,  2,20210405,1723, -14.9988,   80.0020,  5111,    769.2,   6.7577,2,  34.6971,2,  34.6993,2,     96.8,2,    95.84,2,    34.15,2,     0.01,2,     61.6,2,    2.420,2,    0.399,2,      0.2,2,    0.095,2,   2259.1,2,   2337.1,2
  49NZ20191205,    I08N,     58,   1,      24,     -99,  2,20210405,1723, -14.9988,   80.0020,  5111,    869.4,   6.1409,2,  34.7083,2,  34.7102,2,     90.2,2,    89.36,2,    35.51,2,     0.00,2,     73.8,2,    2.526,2,    0.166,2,      0.1,2,    0.035,2,   2275.5,2,   2349.8,2
  49NZ20191205,    I08N,     58,   1,      23,     -99,  2,20210405,1723, -14.9988,   80.0020,  5111,    969.8,   5.6519,2,  34.7027,2,  34.7046,2,     87.3,2,    87.56,2,    36.32,2,     0.01,2,     83.7,2,    2.587,2,    0.104,2,      0.1,2,    0.021,2,   2286.9,2,   2359.1,2
  49NZ20191205,    I08N,     58,   1,      22,     -99,  2,20210405,1723, -14.9988,   80.0020,  5111,   1129.3,   5.0424,2,  34.7134,2,  34.7131,2,     93.7,2,    93.79,2,    36.37,2,     0.01,2,     90.2,2,    2.605,2,    0.066,2,      0.0,2,    0.009,2,   2293.8,2,   2367.2,6
  49NZ20191205,    I08N,     58,   1,      21,     -99,  2,20210405,1723, -14.9988,   80.0020,  5111,   1330.7,   4.2246,2,  34.6992,2,  34.6999,2,    104.3,2,   104.35,2,    36.41,2,     0.01,2,     99.3,2,    2.603,2,    0.026,2,      0.0,2,    0.004,2,   2299.7,2,   2374.8,2
  49NZ20191205,    I08N,     58,   1,      20,     -99,  2,20210405,1723, -14.9988,   80.0020,  5111,   1530.7,   3.5621,2,  34.7071,2,  34.7075,2,    118.4,2,   118.58,2,    36.16,2,     0.01,2,    103.8,2,    2.556,2,    0.012,2,      0.0,2,    0.003,2,   2298.4,2,   2379.2,2
  49NZ20191205,    I08N,     58,   1,      19,     -99,  2,20210405,1723, -14.9988,   80.0020,  5111,   1728.9,   3.0855,2,  34.7188,2,  34.7191,2,    129.4,2,   129.47,2,    35.60,2,     0.01,2,    108.2,2,    2.520,2,    0.011,2,      0.0,2,    0.006,2,   2298.4,2,   2384.1,2
  49NZ20191205,    I08N,     58,   1,      18,     -99,  2,20210405,1723, -14.9988,   80.0020,  5111,   1930.7,   2.7350,2,  34.7274,2,  34.7269,2,    139.1,2,   139.18,2,    35.06,2,     0.01,2,    111.3,2,    2.469,2,    0.012,2,      0.0,2,    0.002,2,   2296.6,2,   2390.0,2
  49NZ20191205,    I08N,     58,   1,      17,     -99,  2,20210405,1723, -14.9988,   80.0020,  5111,   2129.6,   2.4041,2,  34.7315,2,  34.7315,2,    149.1,2,   149.13,2,    34.66,2,     0.01,2,    114.8,2,    2.426,2,    0.013,2,      0.0,2,    0.020,2,   2296.5,2,   2389.6,2
  49NZ20191205,    I08N,     58,   1,      16,     -99,  2,20210405,1723, -14.9988,   80.0020,  5111,   2330.1,   2.1461,2,  34.7320,2,  34.7317,2,    157.5,2,   157.63,2,    34.29,2,     0.00,2,    117.0,2,    2.391,2,    0.013,2,      0.0,2,    0.008,2,   2295.4,6,   2392.6,2
  49NZ20191205,    I08N,     58,   1,      15,     -99,  2,20210405,1723, -14.9988,   80.0020,  5111,   2530.8,   1.9660,2,  34.7304,2,  34.7300,2,    163.8,2,   163.87,2,    33.94,2,     0.00,2,    118.6,2,    2.360,2,    0.023,2,      0.0,2,    0.011,2,   2295.9,2,   2394.9,2
  49NZ20191205,    I08N,     58,   1,      14,     -99,  2,20210405,1723, -14.9988,   80.0020,  5111,   2731.1,   1.8321,2,  34.7289,2,  34.7284,2,    168.0,2,   167.95,2,    33.78,2,     0.01,2,    120.3,2,    2.337,2,    0.014,2,      0.0,2,    0.002,2,   2291.5,2,   2394.0,2
  49NZ20191205,    I08N,     58,   1,      13,     -99,  2,20210405,1723, -14.9988,   80.0020,  5111,   2930.3,   1.7174,2,  34.7271,2,  34.7265,2,    170.6,2,   170.53,2,    33.71,2,     0.01,2,    122.7,2,    2.326,2,    0.000,2,      0.0,2,    0.003,2,   2293.9,2,   2396.9,2
  49NZ20191205,    I08N,     58,   1,      12,     -99,  2,20210405,1723, -14.9988,   80.0020,  5111,   3169.3,   1.6131,2,  34.7251,2,  34.7247,2,    171.6,2,   171.62,2,    33.89,2,     0.01,2,    126.8,2,    2.339,2,    0.014,2,      0.0,2,    0.003,2,   2297.0,2,   2401.4,6
  49NZ20191205,    I08N,     58,   1,      11,     -99,  2,20210405,1723, -14.9988,   80.0020,  5111,   3419.3,   1.5066,2,  34.7229,2,  34.7228,2,    175.1,2,   174.95,2,    33.87,2,     0.01,2,    128.5,2,    2.326,2,    0.016,2,      0.0,2,    0.005,2,   2298.3,2,   2402.8,2
  49NZ20191205,    I08N,     58,   1,      10,     -99,  2,20210405,1723, -14.9988,   80.0020,  5111,   3669.5,   1.4253,2,  34.7209,2,  34.7207,2,    179.6,2,   179.58,2,    33.58,2,     0.01,2,    128.8,2,    2.306,2,    0.012,2,      0.0,2,    0.000,2,   2295.3,2,   2405.9,2
  49NZ20191205,    I08N,     58,   1,       9,     -99,  2,20210405,1723, -14.9988,   80.0020,  5111,   3919.4,   1.3774,2,  34.7189,2,  34.7190,2,    182.3,2,   182.17,2,    33.51,2,     0.01,2,    129.6,2,    2.297,2,    0.018,2,      0.0,2,    0.023,2,   2294.7,2,   2402.7,2
  49NZ20191205,    I08N,     58,   1,       8,     -99,  2,20210405,1723, -14.9988,   80.0020,  5111,   4170.3,   1.3671,2,  34.7177,2,  34.7180,2,    182.3,2,   182.17,2,    33.64,2,     0.01,2,    131.2,2,    2.304,2,    0.014,2,      0.0,2,    0.004,2,   2298.1,6,   2409.3,2
  49NZ20191205,    I08N,     58,   1,       7,     -99,  2,20210405,1723, -14.9988,   80.0020,  5111,   4420.4,   1.3796,2,  34.7173,2,  34.7176,2,    182.0,2,   181.78,2,    33.71,2,     0.00,2,    132.7,2,    2.307,2,    0.015,2,      0.0,2,    0.003,2,   2297.5,2,   2406.8,2
  49NZ20191205,    I08N,     58,   1,       6,     -99,  2,20210405,1723, -14.9988,   80.0020,  5111,   4669.5,   1.4039,2,  34.7171,2,  34.7175,2,    181.9,2,   181.92,2,    33.74,2,     0.00,2,    132.7,2,    2.308,2,    0.014,2,      0.0,2,    0.012,2,   2297.2,2,   2406.5,6
  49NZ20191205,    I08N,     58,   1,       5,     -99,  2,20210405,1723, -14.9988,   80.0020,  5111,   4922.9,   1.4289,2,  34.7170,2,  34.7173,2,    182.3,2,   182.31,2,    33.69,2,     0.01,2,    132.4,2,    2.309,2,    0.016,2,      0.0,2,    0.004,2,   2297.1,2,   2409.2,2
  49NZ20191205,    I08N,     58,   1,       1,     -99,  2,20210405,1723, -14.9988,   80.0020,  5111,   5185.1,   1.4617,2,  34.7170,2,  34.7168,2,    182.4,2,   182.40,2,    33.78,2,     0.01,2,    132.6,2,    2.309,2,    0.018,2,      0.0,2,    0.010,2,   2298.7,2,   2406.6,2