BOTTLE,20212805JOAExport
EXPOCODE,SECT_ID,STNNBR,CASTNO,SAMPNO,BTLNBR,BTLNBR_FLAG_W,DATE,TIME,LATITUDE,LONGITUDE,DEPTH,CTDPRS,CTDTMP,CTDTMP_FLAG_W,CTDSAL,CTDSAL_FLAG_W,SALNTY,SALNTY_FLAG_W,CTDOXY,CTDOXY_FLAG_W,OXYGEN,OXYGEN_FLAG_W,NITRAT,NITRAT_FLAG_W,NITRIT,NITRIT_FLAG_W,SILCAT,SILCAT_FLAG_W,PHSPHT,PHSPHT_FLAG_W,CFC-11,CFC-11_FLAG_W,CFC-12,CFC-12_FLAG_W,SF6,SF6_FLAG_W,TCARBN,TCARBN_FLAG_W,ALKALI,ALKALI_FLAG_W
,,,,,,,,,,,,DB,ITS-90,,PSS-78,,PSS-78,,UMOL/KG,,UMOL/KG,,UMOL/KG,,UMOL/KG,,UMOL/KG,,UMOL/KG,,PMOL/KG,,PMOL/KG,,FMOL/KG,,UMOL/KG,,UMOL/KG
  49NZ20191205,    I08N,      7,   1,      36,     -99,  2,20210405,1723,   5.3329,   79.9959,  4147,      9.9,  29.1539,2,  33.1960,2,  33.2063,2,    196.8,2,   196.50,2,     0.01,2,     0.02,2,      1.7,2,    0.031,2,    1.371,2,      0.9,2,    1.638,2,   1891.0,2,   2201.6,2
  49NZ20191205,    I08N,      7,   1,      35,     -99,  2,20210405,1723,   5.3329,   79.9959,  4147,     50.0,  25.9627,2,  34.6953,2,  34.6917,2,     71.6,2,    72.52,2,    14.03,2,     0.19,2,      7.2,2,    1.058,2,    1.385,2,      0.9,2,    1.226,2,   2080.8,2,   2275.1,2
  49NZ20191205,    I08N,      7,   1,      34,     -99,  2,20210405,1723,   5.3329,   79.9959,  4147,    100.5,  20.1077,2,  34.9054,2,  34.9068,2,     28.0,2,    28.10,2,    24.24,2,     0.02,2,     18.6,2,    1.759,2,    1.240,2,      0.8,2,    0.825,2,   2172.6,2,   2290.4,2
  49NZ20191205,    I08N,      7,   1,      33,     -99,  2,20210405,1723,   5.3329,   79.9959,  4147,    150.3,  15.9388,2,  34.9467,2,  34.9557,2,     13.2,2,    13.11,2,    29.51,2,     0.01,2,     27.2,2,    2.148,2,    1.114,2,      0.6,2,    0.521,2,   2224.9,2,   2303.3,2
  49NZ20191205,    I08N,      7,   1,      32,     -99,  2,20210405,1723,   5.3329,   79.9959,  4147,    199.1,  13.3815,2,  35.0439,2,  35.0468,2,     17.2,2,    16.86,2,    31.21,2,     0.01,2,     29.8,2,    2.242,2,    1.122,2,      0.6,2,    0.409,2,   2247.2,2,   2310.4,2
  49NZ20191205,    I08N,      7,   1,      31,     -99,  2,20210405,1723,   5.3329,   79.9959,  4147,    250.2,  12.4111,2,  35.1419,2,  35.1405,2,     40.1,2,    40.35,2,    29.65,2,     0.01,2,     25.8,2,    2.085,2,    1.493,2,      0.8,2,    0.492,2,   2242.9,2,   2310.5,2
  49NZ20191205,    I08N,      7,   1,      30,     -99,  2,20210405,1723,   5.3329,   79.9959,  4147,    298.1,  11.9016,2,  35.1160,2,  35.1165,2,     53.5,2,    52.42,2,    29.34,2,     0.01,2,     26.1,2,    2.038,2,    1.542,2,      0.8,2,    0.476,2,   2238.3,2,   2313.8,2
  49NZ20191205,    I08N,      7,   1,      29,     -99,  2,20210405,1723,   5.3329,   79.9959,  4147,    400.2,  10.9782,2,  35.1004,2,  35.0996,2,     45.9,2,    45.34,2,    31.65,2,     0.01,2,     32.5,2,    2.218,2,    1.164,2,      0.6,2,    0.323,2,   2249.3,2,   2317.0,2
  49NZ20191205,    I08N,      7,   1,      28,     -99,  2,20210405,1723,   5.3329,   79.9959,  4147,    499.4,  10.3271,2,  35.0821,2,  35.0826,2,     35.5,2,    35.65,2,    33.66,2,     0.01,2,     40.0,2,    2.406,2,    0.769,2,      0.4,2,    0.204,2,   2263.4,2,   2323.8,2
  49NZ20191205,    I08N,      7,   1,      27,     -99,  2,20210405,1723,   5.3329,   79.9959,  4147,    600.3,   9.3766,2,  35.0392,2,  35.0373,2,     20.2,2,    19.63,2,    36.56,2,     0.01,2,     54.3,2,    2.647,2,    0.297,2,      0.2,2,    0.089,2,   2286.9,2,   2334.6,2
  49NZ20191205,    I08N,      7,   1,      26,     -99,  2,20210405,1723,   5.3329,   79.9959,  4147,    700.9,   8.4847,2,  35.0081,2,  35.0104,2,     25.6,2,    25.55,2,    37.10,2,     0.01,2,     63.9,2,    2.708,2,    0.165,2,      0.1,2,    0.026,2,   2295.1,6,   2345.3,2
  49NZ20191205,    I08N,      7,   1,      25,     -99,  2,20210405,1723,   5.3329,   79.9959,  4147,    799.1,   7.9550,2,  34.9926,2,  34.9922,2,     31.6,2,    31.74,2,    37.20,2,     0.01,2,     69.9,2,    2.725,2,    0.122,2,      0.1,2,    0.051,2,   2301.9,2,   2352.3,2
  49NZ20191205,    I08N,      7,   1,      24,     -99,  2,20210405,1723,   5.3329,   79.9959,  4147,    899.4,   7.3237,2,  34.9632,2,  34.9644,2,     36.4,2,    35.69,2,    37.83,2,     0.01,2,     77.1,2,    2.761,2,    0.077,2,      0.0,2,    0.024,2,   2306.9,2,   2353.5,2
  49NZ20191205,    I08N,      7,   1,      23,     -99,  2,20210405,1723,   5.3329,   79.9959,  4147,    999.6,   6.8465,2,  34.9540,2,  34.9539,2,     44.2,2,    43.99,2,    37.81,2,     0.01,2,     82.2,2,    2.764,2,    0.062,2,      0.0,2,    0.028,2,   2309.4,2,   2362.7,2
  49NZ20191205,    I08N,      7,   1,      22,     -99,  2,20210405,1723,   5.3329,   79.9959,  4147,   1199.1,   5.8483,2,  34.9099,2,  34.9103,2,     56.6,2,    56.16,2,    37.82,2,     0.01,2,     93.9,2,    2.769,2,    0.037,2,      0.0,2,    0.016,2,   2316.4,2,   2373.4,6
  49NZ20191205,    I08N,      7,   1,      21,     -99,  2,20210405,1723,   5.3329,   79.9959,  4147,   1398.6,   4.7769,2,  34.8630,2,  34.8638,2,     74.0,2,    73.68,2,    37.70,2,     0.01,2,    105.5,2,    2.757,2,    0.026,2,      0.0,2,    0.018,2,   2322.4,2,   2383.8,2
  49NZ20191205,    I08N,      7,   1,      20,     -99,  2,20210405,1723,   5.3329,   79.9959,  4147,   1599.7,   3.8368,2,  34.8254,2,  34.8257,2,     92.2,2,    91.83,2,    37.36,2,     0.01,2,    115.8,2,    2.710,2,    0.021,2,      0.0,2,    0.014,2,   -999.0,3,   2393.4,2
  49NZ20191205,    I08N,      7,   1,      19,     -99,  2,20210405,1723,   5.3329,   79.9959,  4147,   1800.4,   3.3364,2,  34.8055,2,  34.8061,2,    104.4,2,   104.19,2,    36.90,2,     0.01,2,    120.6,2,    2.663,2,    0.017,2,      0.0,2,    0.020,2,   2324.9,2,   2398.9,2
  49NZ20191205,    I08N,      7,   1,      18,     -99,  2,20210405,1723,   5.3329,   79.9959,  4147,   1998.5,   2.8426,2,  34.7832,2,  34.7838,2,    119.6,2,   119.38,2,    36.17,2,     0.01,2,    124.1,2,    2.592,2,    0.019,2,      0.0,2,    0.028,2,   2322.9,2,   2405.8,2
  49NZ20191205,    I08N,      7,   1,      17,     -99,  2,20210405,1723,   5.3329,   79.9959,  4147,   2200.0,   2.4951,2,  34.7661,2,  34.7658,2,    124.1,2,   124.18,2,    36.20,2,     0.01,2,    131.2,2,    2.602,2,    0.020,2,      0.0,2,    0.010,2,   2328.0,2,   2412.5,2
  49NZ20191205,    I08N,      7,   1,      16,     -99,  2,20210405,1723,   5.3329,   79.9959,  4147,   2400.4,   2.2207,2,  34.7537,2,  34.7537,2,    132.5,2,   132.32,2,    36.23,2,     0.01,2,    133.9,2,    2.557,2,    0.021,2,      0.0,2,    0.017,2,   2326.9,6,   2415.2,2
  49NZ20191205,    I08N,      7,   1,      15,     -99,  2,20210405,1723,   5.3329,   79.9959,  4147,   2600.0,   2.0259,2,  34.7448,2,  34.7448,2,    139.4,2,   139.36,2,    35.72,2,     0.01,2,    135.4,2,    2.518,2,    0.023,2,      0.0,2,    0.016,2,   2326.3,2,   2418.3,2
  49NZ20191205,    I08N,      7,   1,      14,     -99,  2,20210405,1723,   5.3329,   79.9959,  4147,   2802.2,   1.8573,2,  34.7377,2,  34.7379,2,    145.0,2,   145.49,2,    35.56,2,     0.01,2,    137.0,2,    2.503,2,    0.020,2,      0.0,2,    0.021,2,   2324.6,2,   2418.3,2
  49NZ20191205,    I08N,      7,   1,      13,     -99,  2,20210405,1723,   5.3329,   79.9959,  4147,   2997.4,   1.7213,2,  34.7320,2,  34.7328,2,    148.4,2,   148.35,2,    35.25,2,     0.02,2,    139.7,2,    2.475,2,    0.025,2,      0.0,2,    0.010,2,   2326.0,2,   2421.5,2
  49NZ20191205,    I08N,      7,   1,      12,     -99,  2,20210405,1723,   5.3329,   79.9959,  4147,   3249.2,   1.5880,2,  34.7267,2,  34.7272,2,    151.0,2,   150.80,2,    35.31,2,     0.01,2,    142.9,2,    2.468,2,    0.020,2,      0.0,2,    0.006,2,   2329.6,2,   2427.4,6
  49NZ20191205,    I08N,      7,   1,      11,     -99,  2,20210405,1723,   5.3329,   79.9959,  4147,   3498.9,   1.4664,2,  34.7219,2,  34.7223,2,    157.2,2,   157.17,2,    35.18,2,     0.01,2,    143.5,2,    2.447,2,    0.024,2,      0.0,2,    0.033,2,   2329.7,2,   2432.2,2
  49NZ20191205,    I08N,      7,   1,      10,     -99,  2,20210405,1723,   5.3329,   79.9959,  4147,   3749.5,   1.4226,2,  34.7196,2,  34.7195,2,    161.7,2,   162.08,2,    35.06,2,     0.01,2,    143.0,2,    2.424,2,    0.030,2,      0.0,2,    0.038,2,   2324.6,2,   2429.8,2
  49NZ20191205,    I08N,      7,   1,       9,     -99,  2,20210405,1723,   5.3329,   79.9959,  4147,   4000.0,   1.4204,2,  34.7188,2,  34.7183,2,    163.4,2,   163.62,2,    35.06,2,     0.01,2,    143.0,2,    2.420,2,    0.030,2,      0.0,2,    0.025,2,   2324.9,2,   2430.0,2
  49NZ20191205,    I08N,      7,   1,       1,     -99,  2,20210405,1723,   5.3329,   79.9959,  4147,   4195.2,   1.3987,2,  34.7176,2,  34.7190,2,    169.7,2,   169.39,2,    34.86,2,     0.01,2,    139.7,2,    2.397,2,    0.022,2,      0.0,2,    0.024,2,   2315.7,2,   2425.2,2
  49NZ20191205,    I08N,      5,   1,      36,     -99,  2,20210405,1723,   5.6659,   80.0067,  3233,     10.4,  28.7944,2,  32.7733,2,  32.7628,2,    196.5,2,   197.01,2,     0.02,2,     0.01,2,      1.8,2,    0.027,2,    1.315,2,      0.8,2,    1.452,2,   1879.9,2,   2179.6,2
  49NZ20191205,    I08N,      5,   1,       2,     -99,  2,20210405,1723,   5.6659,   80.0067,  3233,     32.3,  28.8558,2,  33.7990,2,  33.8023,2,    172.5,2,   174.61,2,     1.58,2,     0.30,2,      2.6,2,    0.202,2, -999.000,9,   -999.0,9, -999.000,9,   1937.0,2,   2226.7,2
  49NZ20191205,    I08N,      5,   1,      35,     -99,  2,20210405,1723,   5.6659,   80.0067,  3233,     50.2,  26.2486,2,  34.6910,2,  34.6942,2,    107.0,2,   107.00,2,    10.24,2,     0.25,2,      6.8,2,    0.822,2,    1.273,2,      0.8,2,    1.279,2,   2057.3,2,   2272.5,2
  49NZ20191205,    I08N,      5,   1,      34,     -99,  2,20210405,1723,   5.6659,   80.0067,  3233,     99.6,  21.2734,2,  34.9072,2,  34.9073,2,     36.6,2,    39.12,2,    22.26,2,     0.03,2,     16.2,2,    1.623,2,    1.203,2,      0.8,2,    0.905,2,   2164.2,2,   2287.0,2
  49NZ20191205,    I08N,      5,   1,      33,     -99,  2,20210405,1723,   5.6659,   80.0067,  3233,    150.3,  16.0809,2,  34.9788,2,  34.9740,2,     14.5,2,    14.56,2,    28.80,2,     0.01,2,     25.4,2,    2.090,2,    1.072,2,      0.6,2,    0.529,2,   2229.7,2,   2300.9,2
  49NZ20191205,    I08N,      5,   1,      32,     -99,  2,20210405,1723,   5.6659,   80.0067,  3233,    199.4,  13.5063,2,  35.0647,2,  35.0671,2,     13.0,2,    13.13,2,    31.16,2,     0.01,2,     28.8,2,    2.246,2,    1.066,2,      0.6,2,    0.407,2,   2254.7,2,   2310.1,2
  49NZ20191205,    I08N,      5,   1,      31,     -99,  2,20210405,1723,   5.6659,   80.0067,  3233,    248.8,  12.3580,2,  35.1215,2,  35.1222,2,     29.6,2,    29.86,2,    30.95,2,     0.01,2,     27.7,2,    2.180,2,    1.233,2,      0.7,2,    0.398,2,   2256.3,2,   2309.1,2
  49NZ20191205,    I08N,      5,   1,      30,     -99,  2,20210405,1723,   5.6659,   80.0067,  3233,    279.9,  12.0298,2,  35.1266,2,  35.1269,2,     30.4,2,    30.30,2,    31.44,2,     0.01,2,     28.9,2,    2.197,2,    1.179,2,      0.7,2,    0.341,2,   2260.1,2,   2314.1,2
  49NZ20191205,    I08N,      5,   1,      29,     -99,  2,20210405,1723,   5.6659,   80.0067,  3233,    372.2,  11.0809,2,  35.0972,2,  35.0980,2,     26.4,2,    26.01,2,    33.57,2,     0.01,2,     35.6,2,    2.354,2,    0.853,2,      0.5,2,    0.224,2,   2269.9,2,   2317.4,2
  49NZ20191205,    I08N,      5,   1,      28,     -99,  2,20210405,1723,   5.6659,   80.0067,  3233,    469.6,  10.3105,2,  35.0842,2,  35.0838,2,     22.2,2,    21.68,2,    34.78,2,     0.01,2,     43.5,2,    2.499,2,    0.540,2,      0.3,2,    0.121,2,   2280.9,2,   2324.8,2
  49NZ20191205,    I08N,      5,   1,      27,     -99,  2,20210405,1723,   5.6659,   80.0067,  3233,    569.7,   9.5502,2,  35.0633,2,  35.0645,2,     19.8,2,    19.66,2,    36.11,2,     0.01,2,     51.9,2,    2.622,2,    0.306,2,      0.2,2,    0.045,2,   2292.8,2,   2332.6,2
  49NZ20191205,    I08N,      5,   1,      26,     -99,  2,20210405,1723,   5.6659,   80.0067,  3233,    670.0,   8.8067,2,  35.0297,2,  35.0292,2,     26.1,2,    25.85,2,    36.87,2,     0.01,2,     59.4,2,    2.677,2,    0.192,2,      0.1,2,    0.020,2,   2294.2,6,   2340.3,2
  49NZ20191205,    I08N,      5,   1,      25,     -99,  2,20210405,1723,   5.6659,   80.0067,  3233,    770.2,   8.1523,2,  34.9975,2,  34.9972,2,     29.4,2,    28.91,2,    37.33,2,     0.01,2,     67.6,2,    2.729,2,    0.111,2,      0.1,2,    0.001,2,   2300.6,2,   2346.8,2
  49NZ20191205,    I08N,      5,   1,      24,     -99,  2,20210405,1723,   5.6659,   80.0067,  3233,    871.6,   7.4147,2,  34.9723,2,  34.9734,2,     36.0,2,    35.96,2,    37.62,2,     0.01,2,     75.9,2,    2.758,2,    0.073,2,      0.0,2,    0.006,2,   2310.3,2,   2355.0,2
  49NZ20191205,    I08N,      5,   1,      23,     -99,  2,20210405,1723,   5.6659,   80.0067,  3233,    969.8,   6.8881,2,  34.9454,2,  34.9450,2,     41.5,2,    41.22,2,    37.74,2,     0.01,2,     82.2,2,    2.773,2,    0.050,2,      0.0,2,    0.006,2,   2314.7,2,   2358.3,2
  49NZ20191205,    I08N,      5,   1,      22,     -99,  2,20210405,1723,   5.6659,   80.0067,  3233,   1129.0,   6.0939,2,  34.9206,2,  34.9206,2,     52.5,2,    53.09,2,    37.72,2,     0.01,2,     91.0,2,    2.773,2,    0.038,2,      0.0,2,    0.002,2,   -999.0,3,   2371.9,6
  49NZ20191205,    I08N,      5,   1,      21,     -99,  2,20210405,1723,   5.6659,   80.0067,  3233,   1328.5,   5.1665,2,  34.8779,2,  34.8780,2,     67.9,2,    67.89,2,    37.61,2,     0.00,2,    101.0,2,    2.761,2,    0.025,2,      0.0,2,    0.004,2,   2321.2,2,   2372.2,2
  49NZ20191205,    I08N,      5,   1,      20,     -99,  2,20210405,1723,   5.6659,   80.0067,  3233,   1534.0,   4.3436,2,  34.8458,2,  34.8469,2,     82.1,2,    81.83,2,    37.63,2,     0.01,2,    110.0,2,    2.737,2,    0.020,2,      0.0,2,    0.021,2,   2325.0,2,   2389.1,2
  49NZ20191205,    I08N,      5,   1,      19,     -99,  2,20210405,1723,   5.6659,   80.0067,  3233,   1732.5,   3.5098,2,  34.8122,2,  34.8131,2,    100.4,2,   100.19,2,    36.68,2,     0.00,2,    118.4,2,    2.655,2,    0.014,2,      0.0,2,    0.002,2,   2329.7,2,   2398.4,2
  49NZ20191205,    I08N,      5,   1,      18,     -99,  2,20210405,1723,   5.6659,   80.0067,  3233,   1927.8,   2.9459,2,  34.7878,2,  34.7875,2,    112.7,2,   112.97,2,    36.45,2,     0.00,2,    125.7,2,    2.614,2,    0.013,2,      0.0,2,    0.017,2,   2326.8,2,   2405.9,2
  49NZ20191205,    I08N,      5,   1,      17,     -99,  2,20210405,1723,   5.6659,   80.0067,  3233,   2129.5,   2.4702,2,  34.7656,2,  34.7654,2,    124.9,2,   124.77,2,    36.02,2,     0.00,2,    130.8,2,    2.570,2,    0.013,2,      0.0,2,    0.000,2,   2328.3,2,   2411.3,2
  49NZ20191205,    I08N,      5,   1,      16,     -99,  2,20210405,1723,   5.6659,   80.0067,  3233,   2328.8,   2.1735,2,  34.7520,2,  34.7529,2,    133.2,2,   133.06,2,    35.84,2,     0.01,2,    134.5,2,    2.541,2,    0.018,2,      0.0,2,    0.003,2,   2328.0,6,   2415.4,2
  49NZ20191205,    I08N,      5,   1,      15,     -99,  2,20210405,1723,   5.6659,   80.0067,  3233,   2531.2,   2.0581,2,  34.7466,2,  34.7469,2,    136.9,2,   136.76,2,    35.67,2,     0.01,2,    135.7,2,    2.527,2,    0.016,2,      0.0,2,    0.007,2,   2328.7,2,   2415.2,2
  49NZ20191205,    I08N,      5,   1,      14,     -99,  2,20210405,1723,   5.6659,   80.0067,  3233,   2730.6,   1.8241,2,  34.7368,2,  34.7372,2,    144.9,2,   144.74,2,    35.41,2,     0.01,2,    138.1,2,    2.492,2,    0.014,2,      0.0,2,    0.002,2,   2325.3,2,   2416.8,2
  49NZ20191205,    I08N,      5,   1,      13,     -99,  2,20210405,1723,   5.6659,   80.0067,  3233,   2930.9,   1.7408,2,  34.7330,2,  34.7344,2,    146.8,2,   146.95,2,    35.30,2,     0.01,2,    139.9,2,    2.480,2,    0.016,2,      0.0,2,    0.002,2,   2329.7,2,   2421.4,2
  49NZ20191205,    I08N,      5,   1,      12,     -99,  2,20210405,1723,   5.6659,   80.0067,  3233,   3169.1,   1.6192,2,  34.7281,2,  34.7288,2,    149.3,2,   149.55,2,    35.39,2,     0.01,2,    142.9,2,    2.468,2,    0.018,2,      0.0,2,    0.000,2,   2332.4,2,   2426.5,6
  49NZ20191205,    I08N,      5,   1,       1,     -99,  2,20210405,1723,   5.6659,   80.0067,  3233,   3261.8,   1.5957,2,  34.7271,2,  34.7278,2,    150.0,2,   150.05,2,    35.48,2,     0.01,2,    143.8,2,    2.478,2,    0.017,2,      0.0,2,    0.001,2,   2330.3,2,   2426.9,2