BOTTLE,20212805JOAExport
EXPOCODE,SECT_ID,STNNBR,CASTNO,SAMPNO,BTLNBR,BTLNBR_FLAG_W,DATE,TIME,LATITUDE,LONGITUDE,DEPTH,CTDPRS,CTDTMP,CTDTMP_FLAG_W,CTDSAL,CTDSAL_FLAG_W,SALNTY,SALNTY_FLAG_W,CTDOXY,CTDOXY_FLAG_W,OXYGEN,OXYGEN_FLAG_W,NITRAT,NITRAT_FLAG_W,NITRIT,NITRIT_FLAG_W,SILCAT,SILCAT_FLAG_W,PHSPHT,PHSPHT_FLAG_W,CFC-11,CFC-11_FLAG_W,CFC-12,CFC-12_FLAG_W,SF6,SF6_FLAG_W,TCARBN,TCARBN_FLAG_W,ALKALI,ALKALI_FLAG_W
,,,,,,,,,,,,DB,ITS-90,,PSS-78,,PSS-78,,UMOL/KG,,UMOL/KG,,UMOL/KG,,UMOL/KG,,UMOL/KG,,UMOL/KG,,PMOL/KG,,PMOL/KG,,FMOL/KG,,UMOL/KG,,UMOL/KG
  49NZ20191205,    I08N,     22,   1,      36,     -99,  2,20210405,1723,   0.5026,   80.0020,  4651,      9.9,  29.1859,2,  33.9211,2,  33.9204,2,    198.0,2,   197.13,2,     0.01,2,     0.01,2,      1.3,2,    0.096,2,    1.408,2,      0.9,2,    1.896,2,   1920.4,2,   2231.3,2
  49NZ20191205,    I08N,     22,   1,      35,     -99,  2,20210405,1723,   0.5026,   80.0020,  4651,     50.2,  28.3142,2,  34.9732,2,  34.9717,2,    187.8,2,   187.23,2,     0.51,2,     0.09,2,      1.8,2,    0.215,2,    1.442,2,      0.9,2,    1.868,2,   1984.7,2,   2293.2,2
  49NZ20191205,    I08N,     22,   1,       2,     -99,  2,20210405,1723,   0.5026,   80.0020,  4651,     59.4,  27.5726,2,  35.0907,2,  35.0978,2,    180.8,2,   180.80,2,     1.12,2,     0.21,2,      2.4,2,    0.283,2, -999.000,9,   -999.0,9, -999.000,9,   2006.4,2,   2297.6,2
  49NZ20191205,    I08N,     22,   1,      34,     -99,  2,20210405,1723,   0.5026,   80.0020,  4651,    100.2,  20.1696,2,  35.2842,2,  35.2834,2,    107.3,2,   106.93,2,    15.10,2,     0.04,2,     10.1,2,    1.099,2,    1.775,2,      1.1,2,    1.631,2,   2130.7,2,   2312.0,2
  49NZ20191205,    I08N,     22,   1,      33,     -99,  2,20210405,1723,   0.5026,   80.0020,  4651,    151.3,  15.6297,2,  35.1567,2,  35.1536,2,     54.5,2,    52.83,2,    25.15,2,     0.01,2,     19.4,2,    1.778,2,    1.642,2,      1.0,2,    0.958,2,   2206.8,2,   2312.6,2
  49NZ20191205,    I08N,     22,   1,      32,     -99,  2,20210405,1723,   0.5026,   80.0020,  4651,    198.4,  13.9672,2,  35.1189,2,  35.1196,2,     59.7,2,    59.67,2,    26.33,2,     0.01,2,     20.9,2,    1.832,2,    1.734,2,      1.0,2,    0.637,2,   2217.9,2,   2314.2,2
  49NZ20191205,    I08N,     22,   1,      31,     -99,  2,20210405,1723,   0.5026,   80.0020,  4651,    250.1,  12.6523,2,  35.0983,2,  35.0994,2,     79.0,2,    78.44,2,    25.80,2,     0.01,2,     20.6,2,    1.776,2,    1.844,2,      1.0,2,    0.735,2,   2213.5,2,   2308.6,2
  49NZ20191205,    I08N,     22,   1,      30,     -99,  2,20210405,1723,   0.5026,   80.0020,  4651,    298.0,  12.2698,2,  35.0843,2,  35.0820,2,     78.6,2,    79.31,2,    26.28,2,     0.01,2,     21.6,2,    1.804,2,    1.821,2,      1.0,2,    0.606,2,   2217.3,2,   2309.9,2
  49NZ20191205,    I08N,     22,   1,      29,     -99,  2,20210405,1723,   0.5026,   80.0020,  4651,    401.5,  11.0789,2,  35.0357,2,  35.0368,2,     66.9,2,    66.33,2,    29.57,2,     0.01,2,     27.3,2,    2.022,2,    1.452,2,      0.8,2,    0.419,2,   2233.4,2,   2310.3,2
  49NZ20191205,    I08N,     22,   1,      28,     -99,  2,20210405,1723,   0.5026,   80.0020,  4651,    503.0,  10.3253,2,  35.0353,2,  35.0429,2,     64.2,2,    66.72,2,    30.17,2,     0.01,2,     31.1,2,    2.102,2,    1.295,2,      0.7,2,    0.338,2,   2240.2,2,   2316.0,2
  49NZ20191205,    I08N,     22,   1,      27,     -99,  2,20210405,1723,   0.5026,   80.0020,  4651,    600.9,   9.3959,2,  35.0385,2,  35.0387,2,     45.2,2,    44.84,2,    34.27,2,     0.01,2,     47.5,2,    2.465,2,    0.565,2,      0.3,2,    0.104,2,   2270.1,2,   2328.6,2
  49NZ20191205,    I08N,     22,   1,      26,     -99,  2,20210405,1723,   0.5026,   80.0020,  4651,    699.5,   8.7496,2,  35.0278,2,  35.0268,2,     40.2,2,    39.36,2,    35.53,2,     0.01,2,     57.2,2,    2.569,2,    0.306,2,      0.2,2,    0.065,2,   2283.4,6,   2341.0,2
  49NZ20191205,    I08N,     22,   1,      25,     -99,  2,20210405,1723,   0.5026,   80.0020,  4651,    800.5,   8.1112,2,  34.9974,2,  34.9979,2,     42.0,2,    41.63,2,    36.31,2,     0.01,2,     64.6,2,    2.645,2,    0.180,2,      0.1,2,    0.019,2,   2292.1,2,   2348.7,2
  49NZ20191205,    I08N,     22,   1,      24,     -99,  2,20210405,1723,   0.5026,   80.0020,  4651,    901.9,   7.5394,2,  34.9854,2,  34.9859,2,     43.0,2,    42.85,2,    36.87,2,     0.01,2,     72.6,2,    2.703,2,    0.112,2,      0.1,2,    0.004,2,   2304.6,2,   2356.0,2
  49NZ20191205,    I08N,     22,   1,      23,     -99,  2,20210405,1723,   0.5026,   80.0020,  4651,    998.2,   6.8127,2,  34.9461,2,  34.9475,2,     51.7,2,    51.33,2,    37.06,2,     0.01,2,     79.8,2,    2.717,2,    0.072,2,      0.0,2,    0.003,2,   2308.7,2,   2360.8,2
  49NZ20191205,    I08N,     22,   1,      22,     -99,  2,20210405,1723,   0.5026,   80.0020,  4651,   1200.0,   5.8084,2,  34.8975,2,  34.8951,2,     64.2,2,    64.55,2,    37.31,2,     0.01,2,     91.6,2,    2.724,2,    0.036,2,      0.0,2,    0.001,2,   2314.8,2,   2373.1,6
  49NZ20191205,    I08N,     22,   1,      21,     -99,  2,20210405,1723,   0.5026,   80.0020,  4651,   1398.0,   4.9642,2,  34.8607,2,  34.8603,2,     77.9,2,    77.99,2,    37.12,2,     0.01,2,     99.5,2,    2.706,2,    0.021,2,      0.0,2,    0.001,2,   2316.3,2,   2381.3,2
  49NZ20191205,    I08N,     22,   1,      20,     -99,  2,20210405,1723,   0.5026,   80.0020,  4651,   1599.6,   4.1270,2,  34.8342,2,  34.8329,2,     94.3,2,    94.33,2,    36.78,2,     0.01,2,    108.0,2,    2.665,2,    0.020,2,      0.0,2,    0.003,2,   2321.4,2,   2386.4,2
  49NZ20191205,    I08N,     22,   1,      19,     -99,  2,20210405,1723,   0.5026,   80.0020,  4651,   1799.3,   3.1207,2,  34.7892,2,  34.7894,2,    118.4,2,   117.80,2,    36.12,2,     0.01,2,    117.2,2,    2.589,2, -999.000,4,   -999.0,4, -999.000,4,   2319.2,2,   2397.1,2
  49NZ20191205,    I08N,     22,   1,      18,     -99,  2,20210405,1723,   0.5026,   80.0020,  4651,   1998.0,   2.7863,2,  34.7764,2,  34.7769,2,    127.1,2,   126.57,2,    35.84,2,     0.00,2,    121.0,2,    2.550,2,    0.020,2,      0.0,2,    0.006,2,   2318.5,2,   2400.1,2
  49NZ20191205,    I08N,     22,   1,      17,     -99,  2,20210405,1723,   0.5026,   80.0020,  4651,   2200.5,   2.4254,2,  34.7610,2,  34.7616,2,    136.6,2,   136.66,2,    35.53,2,     0.00,2,    125.3,2,    2.516,2,    0.015,2,      0.0,2,    0.005,2,   2319.7,2,   2403.6,2
  49NZ20191205,    I08N,     22,   1,      16,     -99,  2,20210405,1723,   0.5026,   80.0020,  4651,   2399.9,   2.1705,2,  34.7502,2,  34.7499,2,    144.9,2,   144.54,2,    35.14,2,     0.01,2,    127.4,2,    2.480,2,    0.019,2,      0.0,2,    0.005,2,   2316.9,6,   2403.2,2
  49NZ20191205,    I08N,     22,   1,      15,     -99,  2,20210405,1723,   0.5026,   80.0020,  4651,   2602.6,   1.9676,2,  34.7416,2,  34.7414,2,    151.3,2,   150.95,2,    34.74,2,     0.01,2,    128.8,2,    2.437,2,    0.016,2,      0.0,2,    0.009,2,   2316.1,2,   2404.9,2
  49NZ20191205,    I08N,     22,   1,      14,     -99,  2,20210405,1723,   0.5026,   80.0020,  4651,   2799.4,   1.8043,2,  34.7347,2,  34.7356,2,    156.6,2,   156.45,2,    34.64,2,     0.01,2,    130.8,2,    2.419,2,    0.018,2,      0.0,2,    0.010,2,   2317.9,2,   2406.5,2
  49NZ20191205,    I08N,     22,   1,      13,     -99,  2,20210405,1723,   0.5026,   80.0020,  4651,   2999.8,   1.7228,2,  34.7316,2,  34.7321,2,    157.8,2,   157.38,2,    34.66,2,     0.01,2,    133.4,2,    2.417,2,    0.016,2,      0.0,2,    0.003,2,   2319.9,2,   2408.5,2
  49NZ20191205,    I08N,     22,   1,      12,     -99,  2,20210405,1723,   0.5026,   80.0020,  4651,   3249.7,   1.5924,2,  34.7268,2,  34.7263,2,    161.8,2,   161.47,2,    34.59,2,     0.01,2,    135.6,2,    2.413,2,    0.020,2,      0.0,2,    0.014,2,   2318.1,2,   2413.0,6
  49NZ20191205,    I08N,     22,   1,      11,     -99,  2,20210405,1723,   0.5026,   80.0020,  4651,   3498.4,   1.4568,2,  34.7217,2,  34.7211,2,    165.5,2,   165.09,2,    34.50,2,     0.01,2,    138.4,2,    2.395,2,    0.022,2,      0.0,2,    0.025,2,   2321.5,2,   2418.6,2
  49NZ20191205,    I08N,     22,   1,      10,     -99,  2,20210405,1723,   0.5026,   80.0020,  4651,   3749.4,   1.3707,2,  34.7185,2,  34.7186,2,    170.9,2,   170.67,2,    34.39,2,     0.00,2,    138.4,2,    2.375,2,    0.018,2,      0.0,2,    0.010,2,   2319.5,2,   2418.2,2
  49NZ20191205,    I08N,     22,   1,       9,     -99,  2,20210405,1723,   0.5026,   80.0020,  4651,   4000.7,   1.3680,2,  34.7176,2,  34.7177,2,    174.8,2,   174.45,2,    34.06,2,     0.01,2,    136.2,2,    2.354,2,    0.017,2,      0.0,2,    0.004,2,   2313.8,2,   2421.7,2
  49NZ20191205,    I08N,     22,   1,       8,     -99,  2,20210405,1723,   0.5026,   80.0020,  4651,   4249.4,   1.3852,2,  34.7172,2,  34.7172,2,    176.2,2,   175.99,2,    33.95,2,     0.01,2,    135.7,2,    2.341,2,    0.017,2,      0.0,2,    0.016,2,   2314.1,6,   2418.5,2
  49NZ20191205,    I08N,     22,   1,       7,     -99,  2,20210405,1723,   0.5026,   80.0020,  4651,   4501.6,   1.4110,2,  34.7172,2,  34.7178,2,    176.4,2,   176.17,2,    33.96,2,     0.01,2,    135.9,2,    2.337,2,    0.023,2,      0.0,2,    0.015,2,   2308.5,2,   2415.1,2
  49NZ20191205,    I08N,     22,   1,       1,     -99,  2,20210405,1723,   0.5026,   80.0020,  4651,   4708.1,   1.4288,2,  34.7170,2,  34.7178,2,    177.0,2,   176.98,2,    33.98,2,     0.01,2,    135.5,2,    2.336,2,    0.018,2,      0.0,2,    0.013,2,   2312.5,2,   2413.5,2
  49NZ20191205,    I08N,     19,   1,      36,     -99,  2,20210405,1723,   1.3341,   80.0002,  4569,     10.3,  29.2472,2,  33.8137,2,  33.7907,2,    196.8,2,   196.24,2,     0.02,2,     0.01,2,      1.8,2,    0.086,2,    1.367,2,      0.9,2,    1.646,2,   1917.1,2,   2227.4,2
  49NZ20191205,    I08N,     19,   1,      35,     -99,  2,20210405,1723,   1.3341,   80.0002,  4569,     51.9,  28.7655,2,  34.7254,2,  34.7218,2,    190.9,2,   190.69,2,     0.02,2,     0.02,2,      1.3,2,    0.156,2,    1.360,2,      0.9,2,    1.508,2,   1965.6,2,   2278.8,2
  49NZ20191205,    I08N,     19,   1,       2,     -99,  2,20210405,1723,   1.3341,   80.0002,  4569,     59.7,  28.7564,2,  34.7441,2,  34.7483,2,    188.7,2,   188.86,2,     0.08,2,     0.03,2,      1.3,2,    0.165,2, -999.000,9,   -999.0,9, -999.000,9,   1970.5,2,   2280.8,2
  49NZ20191205,    I08N,     19,   1,      34,     -99,  2,20210405,1723,   1.3341,   80.0002,  4569,    101.1,  20.1639,2,  35.1965,2,  35.1902,2,     52.0,2,    52.10,2,    21.65,2,     0.06,2,     15.1,2,    1.563,2,    1.393,2,      0.9,2,    0.946,2,   2167.4,2,   2304.4,2
  49NZ20191205,    I08N,     19,   1,      33,     -99,  2,20210405,1723,   1.3341,   80.0002,  4569,    150.6,  15.7557,2,  35.1200,2,  35.1211,2,     42.7,2,    42.71,2,    26.20,2,     0.02,2,     21.1,2,    1.858,2,    1.494,2,      0.9,2,    0.737,2,   2211.0,2,   2309.9,2
  49NZ20191205,    I08N,     19,   1,      32,     -99,  2,20210405,1723,   1.3341,   80.0002,  4569,    200.3,  13.7182,2,  35.1196,2,  35.1189,2,     62.0,2,    61.85,2,    26.23,2,     0.02,2,     20.7,2,    1.815,2,    1.764,2,      1.0,2,    0.706,2,   2217.7,2,   2316.8,2
  49NZ20191205,    I08N,     19,   1,      31,     -99,  2,20210405,1723,   1.3341,   80.0002,  4569,    250.4,  12.6303,2,  35.0948,2,  35.0963,2,     75.5,2,    74.93,2,    26.22,2,     0.02,2,     21.2,2,    1.799,2,    1.848,2,      1.0,2,    0.619,2,   2217.4,2,   2315.4,2
  49NZ20191205,    I08N,     19,   1,      30,     -99,  2,20210405,1723,   1.3341,   80.0002,  4569,    279.9,  11.9894,2,  35.0665,2,  35.0683,2,     81.1,2,    80.26,2,    26.50,2,     0.02,2,     22.0,2,    1.811,2,    1.822,2,      1.0,2,    0.628,2,   2221.3,2,   2317.6,2
  49NZ20191205,    I08N,     19,   1,      29,     -99,  2,20210405,1723,   1.3341,   80.0002,  4569,    371.0,  11.2045,2,  35.0514,2,  35.0512,2,     69.3,2,    68.72,2,    29.04,2,     0.01,2,     26.7,2,    1.994,2,    1.505,2,      0.8,2,    0.487,2,   2233.1,2,   2317.2,2
  49NZ20191205,    I08N,     19,   1,      28,     -99,  2,20210405,1723,   1.3341,   80.0002,  4569,    470.5,  10.2865,2,  35.0108,2,  35.0104,2,     67.7,2,    67.53,2,    30.76,2,     0.01,2,     32.6,2,    2.129,2,    1.154,2,      0.6,2,    0.321,2,   2241.7,2,   2320.6,2
  49NZ20191205,    I08N,     19,   1,      27,     -99,  2,20210405,1723,   1.3341,   80.0002,  4569,    567.9,   9.7210,2,  35.0213,2,  35.0195,2,     57.7,2,    58.00,2,    32.71,2,     0.01,2,     40.9,2, -999.000,4,    0.784,2,      0.4,2,    0.204,2,   2258.2,2,   2327.6,2
  49NZ20191205,    I08N,     19,   1,      26,     -99,  2,20210405,1723,   1.3341,   80.0002,  4569,    670.1,   9.1767,2,  35.0420,2,  35.0437,2,     41.9,2,    41.34,2,    34.83,2,     0.01,2,     51.8,2, -999.000,4,    0.411,2,      0.2,2,    0.077,2,   2276.4,6,   2333.7,2
  49NZ20191205,    I08N,     19,   1,      25,     -99,  2,20210405,1723,   1.3341,   80.0002,  4569,    770.1,   8.3371,2,  35.0124,2,  35.0146,2,     40.5,2,    40.31,2,    36.08,2,     0.02,2,     62.5,2, -999.000,4,    0.217,2,      0.1,2,    0.033,2,   2289.9,2,   2343.3,2
  49NZ20191205,    I08N,     19,   1,      24,     -99,  2,20210405,1723,   1.3341,   80.0002,  4569,    869.2,   7.7173,2,  34.9933,2,  34.9917,2,     42.2,2,    42.13,2,    36.88,2,     0.02,2,     70.8,2, -999.000,4,    0.124,2,      0.1,2,    0.019,2,   2298.8,2,   2350.7,2
  49NZ20191205,    I08N,     19,   1,      23,     -99,  2,20210405,1723,   1.3341,   80.0002,  4569,    970.3,   7.1456,2,  34.9665,2,  34.9648,2,     43.7,2,    43.84,2,    37.41,2,     0.02,2,     78.6,2, -999.000,4,    0.072,2,      0.0,2,    0.010,2,   2307.8,2,   2359.4,2
  49NZ20191205,    I08N,     19,   1,      22,     -99,  2,20210405,1723,   1.3341,   80.0002,  4569,   1130.0,   6.0952,2,  34.9077,2,  34.9077,2,     59.6,2,    59.49,2,    37.43,2,     0.02,2,     88.6,2, -999.000,4,    0.046,2,      0.0,2,    0.003,2,   2312.4,2,   2369.4,6
  49NZ20191205,    I08N,     19,   1,      21,     -99,  2,20210405,1723,   1.3341,   80.0002,  4569,   1329.0,   5.1383,2,  34.8743,2,  34.8737,2,     74.2,2,    74.25,2,    37.30,2,     0.02,2,     98.2,2, -999.000,4,    0.025,2,      0.0,2,    0.002,2,   2319.3,2,   2378.5,2
  49NZ20191205,    I08N,     19,   1,      20,     -99,  2,20210405,1723,   1.3341,   80.0002,  4569,   1528.8,   4.4371,2,  34.8523,2,  34.8516,2,     86.4,2,    86.87,2,    36.94,2,     0.02,2,    106.5,2, -999.000,4,    0.019,2,      0.0,2,    0.017,2,   2321.7,2,   2386.2,2
  49NZ20191205,    I08N,     19,   1,      19,     -99,  2,20210405,1723,   1.3341,   80.0002,  4569,   1729.9,   3.3829,2,  34.8045,2,  34.8042,2,    110.1,2,   110.02,2,    36.41,2,     0.01,2,   -999.0,4, -999.000,4,    0.014,2,      0.0,2,    0.004,2,   2325.4,2,   2394.4,2
  49NZ20191205,    I08N,     19,   1,      18,     -99,  2,20210405,1723,   1.3341,   80.0002,  4569,   1929.6,   2.9380,2,  34.7847,2,  34.7833,2,    121.2,2,   121.34,2,    36.00,2,     0.02,2,   -999.0,4, -999.000,4,    0.012,2,      0.0,2,    0.005,2,   2321.2,2,   2403.5,2
  49NZ20191205,    I08N,     19,   1,      17,     -99,  2,20210405,1723,   1.3341,   80.0002,  4569,   2129.4,   2.4775,2,  34.7639,2,  34.7628,2,    135.4,2,   135.42,2,    35.59,2,     0.02,2,    124.8,2,    2.516,2,    0.021,2,      0.0,2,    0.008,2,   2317.7,2,   2403.4,2
  49NZ20191205,    I08N,     19,   1,      16,     -99,  2,20210405,1723,   1.3341,   80.0002,  4569,   2332.3,   2.2993,2,  34.7560,2,  34.7550,2,    140.5,2,   140.58,2,    35.22,2,     0.02,2,   -999.0,4, -999.000,4,    0.014,2,      0.0,2,    0.002,2,   2319.0,6,   2406.3,2
  49NZ20191205,    I08N,     19,   1,      15,     -99,  2,20210405,1723,   1.3341,   80.0002,  4569,   2530.3,   2.0371,2,  34.7447,2,  34.7431,2,    147.8,2,   147.75,2,    35.09,2,     0.02,2,   -999.0,4,    2.447,2,    0.015,2,      0.0,2,    0.020,2,   2317.2,2,   2411.6,2
  49NZ20191205,    I08N,     19,   1,      14,     -99,  2,20210405,1723,   1.3341,   80.0002,  4569,   2729.7,   1.8575,2,  34.7367,2,  34.7360,2,    155.2,2,   155.16,2,    34.76,2,     0.02,2,   -999.0,4,    2.418,2,    0.016,2,      0.0,2,    0.007,2,   2314.8,2,   2408.7,2
  49NZ20191205,    I08N,     19,   1,      13,     -99,  2,20210405,1723,   1.3341,   80.0002,  4569,   2931.1,   1.7609,2,  34.7326,2,  34.7319,2,    156.7,2,   156.24,2,    34.81,2,     0.02,2,    133.3,2,    2.417,2,    0.014,2,      0.0,2,    0.005,2,   2317.3,2,   2410.4,2
  49NZ20191205,    I08N,     19,   1,      12,     -99,  2,20210405,1723,   1.3341,   80.0002,  4569,   3170.1,   1.6155,2,  34.7275,2,  34.7265,2,    158.3,2,   158.18,2,    35.08,2,     0.02,2,   -999.0,4,    2.426,2,    0.017,2,      0.0,2,    0.007,2,   2321.3,2,   2415.9,6
  49NZ20191205,    I08N,     19,   1,      11,     -99,  2,20210405,1723,   1.3341,   80.0002,  4569,   3420.3,   1.5137,2,  34.7236,2,  34.7224,2,    159.4,2,   159.38,2,    34.90,2,     0.02,2,   -999.0,4,    2.411,2,    0.017,2,      0.0,2,    0.004,2,   2327.8,2,   2425.1,2
  49NZ20191205,    I08N,     19,   1,      10,     -99,  2,20210405,1723,   1.3341,   80.0002,  4569,   3669.5,   1.4282,2,  34.7201,2,  34.7192,2,    164.8,2,   164.55,2,    34.94,2,     0.02,2,    140.8,2,    2.404,2,    0.018,2,      0.0,2,    0.009,2,   2323.1,2,   2425.9,2
  49NZ20191205,    I08N,     19,   1,       9,     -99,  2,20210405,1723,   1.3341,   80.0002,  4569,   3921.3,   1.3875,2,  34.7182,2,  34.7178,2,    171.1,2,   171.12,2,    34.64,2,     0.03,2,   -999.0,4, -999.000,3,    0.018,2,      0.0,2,    0.005,2,   2318.6,2,   2421.7,2
  49NZ20191205,    I08N,     19,   1,       8,     -99,  2,20210405,1723,   1.3341,   80.0002,  4569,   4171.5,   1.3928,2,  34.7176,2,  34.7171,2,    173.7,2,   174.02,2,    34.12,2,     0.01,2,   -999.0,4,    2.343,2,    0.016,2,      0.0,2,    0.019,2,   2313.7,6,   2419.9,2
  49NZ20191205,    I08N,     19,   1,       7,     -99,  2,20210405,1723,   1.3341,   80.0002,  4569,   4419.4,   1.4062,2,  34.7172,2,  34.7170,2,    175.8,2,   175.92,2,    33.85,2,     0.01,2,   -999.0,4,    2.334,2,    0.019,2,      0.0,2,    0.001,2,   2309.6,2,   2414.7,2
  49NZ20191205,    I08N,     19,   1,       1,     -99,  2,20210405,1723,   1.3341,   80.0002,  4569,   4624.6,   1.4223,2,  34.7169,2,  34.7176,2,    176.6,2,   176.73,2,    33.91,2,     0.01,2,    135.5,2,    2.320,2,    0.019,2,      0.0,2,    0.012,2,   2309.5,2,   2415.9,2