BOTTLE,20212805JOAExport
EXPOCODE,SECT_ID,STNNBR,CASTNO,SAMPNO,BTLNBR,BTLNBR_FLAG_W,DATE,TIME,LATITUDE,LONGITUDE,DEPTH,CTDPRS,CTDTMP,CTDTMP_FLAG_W,CTDSAL,CTDSAL_FLAG_W,SALNTY,SALNTY_FLAG_W,CTDOXY,CTDOXY_FLAG_W,OXYGEN,OXYGEN_FLAG_W,NITRAT,NITRAT_FLAG_W,NITRIT,NITRIT_FLAG_W,SILCAT,SILCAT_FLAG_W,PHSPHT,PHSPHT_FLAG_W,CFC-11,CFC-11_FLAG_W,CFC-12,CFC-12_FLAG_W,SF6,SF6_FLAG_W,TCARBN,TCARBN_FLAG_W,ALKALI,ALKALI_FLAG_W
,,,,,,,,,,,,DB,ITS-90,,PSS-78,,PSS-78,,UMOL/KG,,UMOL/KG,,UMOL/KG,,UMOL/KG,,UMOL/KG,,UMOL/KG,,PMOL/KG,,PMOL/KG,,FMOL/KG,,UMOL/KG,,UMOL/KG
  49NZ20191205,    I08N,     27,   1,      36,     -99,  2,20210405,1723,  -0.7489,   80.0003,  4735,     10.2,  28.8400,2,  34.6386,2,  34.6381,2,    196.1,2,   195.31,2,     0.14,2,     0.02,2,      1.0,2,    0.145,2,    1.424,2,      0.9,2,    1.461,2,   1959.7,2,   2272.2,2
  49NZ20191205,    I08N,     27,   1,      35,     -99,  2,20210405,1723,  -0.7489,   80.0003,  4735,     50.4,  28.2983,2,  34.7175,2,  34.7198,2,    191.6,2,   191.45,2,     0.27,2,     0.06,2,      1.8,2,    0.172,2,    1.445,2,      0.9,2,    1.545,2,   1966.1,2,   2271.3,2
  49NZ20191205,    I08N,     27,   1,      34,     -99,  2,20210405,1723,  -0.7489,   80.0003,  4735,    101.6,  20.9667,2,  35.3007,2,  35.3028,2,     99.3,2,    99.02,2,    15.63,2,     0.04,2,      9.6,2,    1.111,2,    1.743,2,      1.1,2,    1.225,2,   2129.6,2,   2313.8,2
  49NZ20191205,    I08N,     27,   1,      32,     -99,  2,20210405,1723,  -0.7489,   80.0003,  4735,    202.6,  13.3178,2,  35.1143,2,  35.1137,2,     68.6,2,    68.12,2,    26.08,2,     0.01,2,     20.5,2,    1.788,2,    1.786,2,      1.0,2,    0.624,2,   2210.8,2,   2308.4,2
  49NZ20191205,    I08N,     27,   1,      30,     -99,  2,20210405,1723,  -0.7489,   80.0003,  4735,    280.2,  12.4532,2,  35.0889,2,  35.0890,2,     82.2,2,    82.45,2,    25.83,2,     0.01,2,     20.7,2,    1.761,2,    1.856,2,      1.0,2,    0.662,2,   2208.2,2,   2313.8,2
  49NZ20191205,    I08N,     27,   1,      29,     -99,  2,20210405,1723,  -0.7489,   80.0003,  4735,    372.2,  11.0155,2,  35.0322,2,  35.0317,2,     67.3,2,    67.25,2,    29.74,2,     0.01,2,     27.5,2,    2.028,2,    1.432,2,      0.8,2,    0.429,2,   2230.4,2,   2313.3,2
  49NZ20191205,    I08N,     27,   1,      28,     -99,  2,20210405,1723,  -0.7489,   80.0003,  4735,    469.8,  10.3617,2,  34.9994,2,  34.9988,2,     68.0,2,    67.60,2,    30.81,2,     0.01,2,     31.3,2,    2.116,2,    1.214,2,      0.7,2,    0.351,2,   2233.8,2,   2313.5,2
  49NZ20191205,    I08N,     27,   1,      27,     -99,  2,20210405,1723,  -0.7489,   80.0003,  4735,    570.6,   9.9801,2,  35.0336,2,  35.0327,2,     54.7,2,    54.61,2,    32.50,2,     0.01,2,     38.7,2,    2.303,2,    0.886,2,      0.5,2,    0.246,2,   2251.1,2,   2325.8,2
  49NZ20191205,    I08N,     27,   1,      26,     -99,  2,20210405,1723,  -0.7489,   80.0003,  4735,    673.1,   8.8613,2,  35.0136,2,  35.0127,2,     53.2,2,    53.53,2,    34.17,2,     0.01,2,     51.4,2,    2.476,2,    0.504,2,      0.3,2,    0.099,2,   2265.8,6,   2334.8,2
  49NZ20191205,    I08N,     27,   1,      24,     -99,  2,20210405,1723,  -0.7489,   80.0003,  4735,    869.9,   7.9012,2,  34.9859,2,  34.9813,2,     44.2,2,    44.64,2,    36.40,2,     0.00,2,     67.2,2,    2.669,2,    0.160,2,      0.1,2,    0.093,2,   2287.0,2,   2350.8,2
  49NZ20191205,    I08N,     27,   1,      23,     -99,  2,20210405,1723,  -0.7489,   80.0003,  4735,    971.3,   6.9487,2,  34.9359,2,  34.9352,2,     55.0,2,    55.47,2,    36.78,2,     0.01,2,     77.2,2,    2.677,2,    0.111,2,      0.1,2,    0.098,2,   2295.3,2,   2354.7,2
  49NZ20191205,    I08N,     27,   1,      22,     -99,  2,20210405,1723,  -0.7489,   80.0003,  4735,   1130.2,   5.9722,2,  34.8995,2,  34.8987,2,     61.4,2,    61.64,2,    37.41,2,     0.01,2,     89.6,2,    2.719,2,    0.043,2,      0.0,2,    0.013,2,   2305.6,2,   2367.8,6
  49NZ20191205,    I08N,     27,   1,      21,     -99,  2,20210405,1723,  -0.7489,   80.0003,  4735,   1331.6,   5.1900,2,  34.8707,2,  34.8695,2,     73.9,2,    74.00,2,    37.40,2,     0.02,2,     97.1,2,    2.714,2,    0.037,2,      0.0,2,    0.027,2,   2311.4,2,   2373.8,2
  49NZ20191205,    I08N,     27,   1,      20,     -99,  2,20210405,1723,  -0.7489,   80.0003,  4735,   1530.9,   4.0829,2,  34.8252,2,  34.8242,2,     97.0,2,    96.72,2,    36.71,2,     0.01,2,    106.9,2,    2.641,2,    0.017,2,      0.0,2,    0.009,2,   2311.6,2,   2382.1,2
  49NZ20191205,    I08N,     27,   1,      19,     -99,  2,20210405,1723,  -0.7489,   80.0003,  4735,   1730.1,   3.3526,2,  34.7990,2,  34.7991,2,    112.7,2,   112.17,2,    36.29,2,     0.02,2,    114.8,2,    2.604,2,    0.015,2,      0.0,2,    0.019,2,   2312.6,2,   2389.0,2
  49NZ20191205,    I08N,     27,   1,      18,     -99,  2,20210405,1723,  -0.7489,   80.0003,  4735,   1926.8,   2.8306,2,  34.7776,2,  34.7773,2,    126.1,2,   125.50,2,    35.91,2,     0.01,2,    120.2,2,    2.553,2,    0.016,2,      0.0,2,    0.007,2,   2313.4,2,   2401.0,2
  49NZ20191205,    I08N,     27,   1,      17,     -99,  2,20210405,1723,  -0.7489,   80.0003,  4735,   2127.0,   2.4400,2,  34.7623,2,  34.7624,2,    136.8,2,   136.18,2,    35.52,2,     0.01,2,    124.4,2,    2.507,2,    0.016,2,      0.0,2,    0.003,2,   2311.7,2,   2401.7,2
  49NZ20191205,    I08N,     27,   1,      16,     -99,  2,20210405,1723,  -0.7489,   80.0003,  4735,   2327.7,   2.2110,2,  34.7511,2,  34.7512,2,    144.6,2,   143.59,2,    35.16,2,     0.01,2,    126.1,2,    2.468,2,    0.014,2,      0.0,2,    0.016,2,   2311.1,6,   2404.5,2
  49NZ20191205,    I08N,     27,   1,      15,     -99,  2,20210405,1723,  -0.7489,   80.0003,  4735,   2532.5,   2.0648,2,  34.7455,2,  34.7453,2,    149.0,2,   148.61,2,    35.00,2,     0.01,2,    127.9,2,    2.451,2,    0.019,2,      0.0,2,    0.043,2,   2309.8,2,   2402.7,2
  49NZ20191205,    I08N,     27,   1,      14,     -99,  2,20210405,1723,  -0.7489,   80.0003,  4735,   2730.9,   1.8921,2,  34.7380,2,  34.7378,2,    155.0,2,   154.86,2,    34.89,2,     0.01,2,    129.5,2,    2.435,2,    0.017,2,      0.0,2,    0.003,2,   2308.8,2,   2403.5,2
  49NZ20191205,    I08N,     27,   1,      13,     -99,  2,20210405,1723,  -0.7489,   80.0003,  4735,   2930.7,   1.7234,2,  34.7317,2,  34.7309,2,    158.9,2,   158.66,2,    34.50,2,     0.01,2,    131.9,2,    2.405,2,    0.014,2,      0.0,2,    0.028,2,   2310.1,2,   2409.4,2
  49NZ20191205,    I08N,     27,   1,      12,     -99,  2,20210405,1723,  -0.7489,   80.0003,  4735,   3170.2,   1.6210,2,  34.7278,2,  34.7276,2,    161.4,2,   161.11,2,    34.63,2,     0.02,2,    134.7,2,    2.401,2,    0.022,2,      0.0,2,    0.042,2,   -999.0,3,   2412.1,6
  49NZ20191205,    I08N,     27,   1,      11,     -99,  2,20210405,1723,  -0.7489,   80.0003,  4735,   3419.8,   1.5271,2,  34.7243,2,  34.7238,2,    163.6,2,   163.29,2,    34.58,2,     0.01,2,    137.0,2,    2.396,2,    0.016,2,      0.0,2,    0.002,2,   -999.0,3,   2418.7,2
  49NZ20191205,    I08N,     27,   1,      10,     -99,  2,20210405,1723,  -0.7489,   80.0003,  4735,   3671.2,   1.4208,2,  34.7203,2,  34.7199,2,    169.2,2,   168.74,2,    34.39,2,     0.01,2,    137.5,2,    2.373,2,    0.017,2,      0.0,2,    0.005,2,   2310.7,2,   2418.0,2
  49NZ20191205,    I08N,     27,   1,       9,     -99,  2,20210405,1723,  -0.7489,   80.0003,  4735,   3922.6,   1.3803,2,  34.7183,2,  34.7180,2,    173.7,2,   173.47,2,    34.25,2,     0.00,2,    136.3,2,    2.343,2,    0.019,2,      0.0,2,    0.007,2,   2307.0,2,   2414.7,2
  49NZ20191205,    I08N,     27,   1,       8,     -99,  2,20210405,1723,  -0.7489,   80.0003,  4735,   4170.8,   1.3930,2,  34.7179,2,  34.7175,2,    174.7,2,   174.48,2,    34.28,2,     0.01,2,    136.4,2,    2.348,2,    0.015,2,      0.0,2,    0.017,2,   2307.2,6,   2416.8,2
  49NZ20191205,    I08N,     27,   1,       7,     -99,  2,20210405,1723,  -0.7489,   80.0003,  4735,   4418.6,   1.4071,2,  34.7174,2,  34.7174,2,    175.9,2,   175.84,2,    34.05,2,     0.01,2,    135.9,2,    2.346,2,    0.015,2,      0.0,2,    0.013,2,   2308.3,2,   2410.7,2
  49NZ20191205,    I08N,     27,   1,       6,     -99,  2,20210405,1723,  -0.7489,   80.0003,  4735,   4672.1,   1.4285,2,  34.7174,2,  34.7167,2,    176.9,2,   177.04,2,    34.09,2,     0.01,2,    135.5,2,    2.341,2,    0.015,2,      0.0,2,    0.012,2,   2305.1,2,   2411.2,6
  49NZ20191205,    I08N,     27,   1,       1,     -99,  2,20210405,1723,  -0.7489,   80.0003,  4735,   4797.8,   1.4282,2,  34.7170,2,  34.7171,2,    177.9,2,   177.91,2,    34.05,2,     0.01,2,    135.2,2,    2.335,2,    0.018,2,      0.0,2,    0.008,2,   2303.9,2,   2411.0,2
  49NZ20191205,    I08N,     25,   1,      36,     -99,  2,20210405,1723,  -0.2511,   80.0055,  4683,     10.1,  28.7441,2,  34.5586,2,  34.5581,2,    196.2,2,   195.41,2,     0.20,2,     0.01,2,      1.0,2,    0.150,2,    1.341,2,      0.9,2,    1.495,2,   1956.1,2,   2268.7,2
  49NZ20191205,    I08N,     25,   1,      35,     -99,  2,20210405,1723,  -0.2511,   80.0055,  4683,     49.6,  27.3151,2,  34.8154,2,  34.8046,2,    180.9,2,   181.53,2,     1.20,2,     0.23,2,      2.6,2,    0.264,2,    1.417,2,      0.9,2,    1.538,2,   1987.9,2,   2282.1,2
  49NZ20191205,    I08N,     25,   1,       2,     -99,  2,20210405,1723,  -0.2511,   80.0055,  4683,     58.7,  26.4193,2,  35.0330,2,  35.0248,2,    169.8,2,   170.54,2,     2.88,2,     0.38,2,      3.5,2,    0.379,2, -999.000,9,   -999.0,9, -999.000,9,   2011.9,2,   2293.1,2
  49NZ20191205,    I08N,     25,   1,      34,     -99,  2,20210405,1723,  -0.2511,   80.0055,  4683,     98.9,  22.0121,2,  35.2927,2,  35.2929,2,    114.7,2,   114.90,2,    12.91,2,     0.07,2,      8.1,2,    0.959,2,    1.544,2,      1.0,2,    1.262,2,   2108.1,2,   2306.9,2
  49NZ20191205,    I08N,     25,   1,      33,     -99,  2,20210405,1723,  -0.2511,   80.0055,  4683,    151.2,  16.6750,2,  35.2076,2,  35.2030,2,     71.9,2,    73.93,2,    21.59,2,     0.01,2,     15.5,2,    1.514,2,    1.730,2,      1.0,2,    0.923,2,   2178.5,2,   2307.5,2
  49NZ20191205,    I08N,     25,   1,      32,     -99,  2,20210405,1723,  -0.2511,   80.0055,  4683,    200.4,  13.3585,2,  35.1157,2,  35.1160,2,     67.9,2,    65.65,2,    26.08,2,     0.01,2,     20.7,2,    1.812,2,    1.607,2,      1.0,2,    0.650,2,   2211.4,2,   2309.9,2
  49NZ20191205,    I08N,     25,   1,      31,     -99,  2,20210405,1723,  -0.2511,   80.0055,  4683,    250.9,  12.6466,2,  35.0965,2,  35.0961,2,     77.6,2,    77.94,2,    25.81,2,     0.01,2,     20.7,2,    1.778,2,    1.741,2,      1.0,2,    0.650,2,   2210.3,2,   2309.3,2
  49NZ20191205,    I08N,     25,   1,      30,     -99,  2,20210405,1723,  -0.2511,   80.0055,  4683,    327.2,  11.6868,2,  35.0481,2,  35.0486,2,     82.4,2,    82.06,2,    26.81,2,     0.01,2,     22.3,2,    1.829,2,    1.694,2,      1.0,2,    0.562,2,   2213.8,2,   2309.1,2
  49NZ20191205,    I08N,     25,   1,      29,     -99,  2,20210405,1723,  -0.2511,   80.0055,  4683,    429.5,  10.4497,2,  35.0153,2,  35.0155,2,     63.7,2,    63.39,2,    30.84,2,     0.00,2,     31.5,2,    2.142,2,    1.100,2,      0.6,2,    0.277,2,   2236.3,2,   2316.1,2
  49NZ20191205,    I08N,     25,   1,      28,     -99,  2,20210405,1723,  -0.2511,   80.0055,  4683,    530.7,   9.9721,2,  35.0154,2,  35.0161,2,     57.4,2,    57.31,2,    32.26,2,     0.00,2,     37.4,2,    2.276,2,    0.840,2,      0.5,2,    0.189,2,   2249.7,2,   2320.3,2
  49NZ20191205,    I08N,     25,   1,      27,     -99,  2,20210405,1723,  -0.2511,   80.0055,  4683,    630.4,   9.0738,2,  35.0148,2,  35.0154,2,     45.0,2,    44.87,2,    34.82,2,     0.00,2,     50.5,2,    2.515,2,    0.381,2,      0.2,2,    0.074,2,   2269.6,2,   2332.0,2
  49NZ20191205,    I08N,     25,   1,      26,     -99,  2,20210405,1723,  -0.2511,   80.0055,  4683,    731.5,   8.5511,2,  35.0065,2,  35.0062,2,     44.6,2,    44.46,2,    35.42,2,     0.00,2,     57.7,2,    2.574,2,    0.270,2,      0.2,2,    0.052,2,   2279.1,6,   2339.6,2
  49NZ20191205,    I08N,     25,   1,      25,     -99,  2,20210405,1723,  -0.2511,   80.0055,  4683,    829.5,   7.9991,2,  34.9915,2,  34.9914,2,     42.7,2,    42.79,2,    36.34,2,     0.00,2,     65.6,2,    2.655,2,    0.148,2,      0.1,2,    0.026,2,   2288.4,2,   2345.6,2
  49NZ20191205,    I08N,     25,   1,      24,     -99,  2,20210405,1723,  -0.2511,   80.0055,  4683,    930.7,   7.1841,2,  34.9526,2,  34.9514,2,     53.2,2,    53.02,2,    36.51,2,     0.00,2,     74.2,2,    2.669,2,    0.109,2,      0.1,2,    0.004,2,   2292.3,2,   2351.8,2
  49NZ20191205,    I08N,     25,   1,      23,     -99,  2,20210405,1723,  -0.2511,   80.0055,  4683,   1067.4,   6.4804,2,  34.9200,2,  34.9193,2,     56.1,2,    55.97,2,    37.18,2,     0.00,2,     83.3,2,    2.717,2,    0.049,2,      0.0,2,    0.001,2,   2302.0,2,   2361.9,2
  49NZ20191205,    I08N,     25,   1,      22,     -99,  2,20210405,1723,  -0.2511,   80.0055,  4683,   1270.3,   5.4779,2,  34.8852,2,  34.8857,2,     69.0,2,    69.03,2,    37.30,2,     0.00,2,     94.5,2,    2.716,2,    0.024,2,      0.0,2,    0.003,2,   2309.2,2,   2374.0,6
  49NZ20191205,    I08N,     25,   1,      21,     -99,  2,20210405,1723,  -0.2511,   80.0055,  4683,   1470.9,   4.5263,2,  34.8450,2,  34.8447,2,     86.8,2,    87.62,2,    36.80,2,     0.00,2,    103.0,2,    2.677,2,    0.013,2,      0.0,2,    0.008,2,   2311.1,2,   2383.0,2
  49NZ20191205,    I08N,     25,   1,      20,     -99,  2,20210405,1723,  -0.2511,   80.0055,  4683,   1668.5,   3.6074,2,  34.8099,2,  34.8107,2,    106.7,2,   106.25,2,    36.45,2,     0.01,2,    112.1,2,    2.618,2,    0.009,2,      0.0,2,    0.001,2,   2315.2,2,   2391.1,2
  49NZ20191205,    I08N,     25,   1,      19,     -99,  2,20210405,1723,  -0.2511,   80.0055,  4683,   1867.5,   2.9728,2,  34.7838,2,  34.7839,2,    122.0,2,   121.94,2,    35.95,2,     0.00,2,    118.8,2,    2.555,2,    0.007,2,      0.0,2,    0.009,2,   2312.7,2,   2398.9,2
  49NZ20191205,    I08N,     25,   1,      18,     -99,  2,20210405,1723,  -0.2511,   80.0055,  4683,   2070.7,   2.6926,2,  34.7730,2,  34.7734,2,    129.3,2,   129.27,2,    35.63,2,     0.01,2,   -999.0,4,    2.535,2,    0.006,2,      0.0,2,    0.014,2,   2314.2,2,   2400.8,2
  49NZ20191205,    I08N,     25,   1,      17,     -99,  2,20210405,1723,  -0.2511,   80.0055,  4683,   2269.1,   2.3212,2,  34.7569,2,  34.7575,2,    139.6,2,   139.43,2,    35.29,2,     0.00,2,   -999.0,4,    2.498,2,    0.008,2,      0.0,2,    0.017,2,   2311.1,2,   2405.4,2
  49NZ20191205,    I08N,     25,   1,      16,     -99,  2,20210405,1723,  -0.2511,   80.0055,  4683,   2469.9,   2.0701,2,  34.7463,2,  34.7467,2,    149.0,2,   148.88,2,    35.10,2,     0.00,2,    128.0,2,    2.451,2,    0.010,2,      0.0,2,    0.005,2,   2307.4,6,   2407.1,2
  49NZ20191205,    I08N,     25,   1,      15,     -99,  2,20210405,1723,  -0.2511,   80.0055,  4683,   2668.9,   1.9490,2,  34.7405,2,  34.7410,2,    152.6,2,   152.48,2,    34.75,2,     0.01,2,    128.7,2,    2.437,2,    0.009,2,      0.0,2,    0.012,2,   2308.4,2,   2406.9,2
  49NZ20191205,    I08N,     25,   1,      14,     -99,  2,20210405,1723,  -0.2511,   80.0055,  4683,   2872.5,   1.7800,2,  34.7339,2,  34.7345,2,    157.7,2,   157.83,2,    34.55,2,     0.00,2,    130.6,2,    2.415,2,    0.012,2,      0.0,2,    0.015,2,   2308.7,2,   2408.6,2
  49NZ20191205,    I08N,     25,   1,      13,     -99,  2,20210405,1723,  -0.2511,   80.0055,  4683,   3081.8,   1.7238,2,  34.7313,2,  34.7315,2,    159.2,2,   159.05,2,    34.61,2,     0.01,2,   -999.0,4,    2.417,2,    0.013,2,      0.0,2,    0.005,2,   2308.9,2,   2406.6,2
  49NZ20191205,    I08N,     25,   1,      12,     -99,  2,20210405,1723,  -0.2511,   80.0055,  4683,   3331.5,   1.5723,2,  34.7259,2,  34.7260,2,    162.2,2,   162.10,2,    34.52,2,     0.00,2,   -999.0,4,    2.397,2,    0.008,2,      0.0,2,    0.003,2,   2310.9,2,   2415.4,6
  49NZ20191205,    I08N,     25,   1,      11,     -99,  2,20210405,1723,  -0.2511,   80.0055,  4683,   3579.7,   1.4138,2,  34.7204,2,  34.7205,2,    169.2,2,   169.16,2,    34.25,2,     0.00,2,    136.7,2,    2.376,2,    0.010,2,      0.0,2,    0.006,2,   2308.1,2,   2419.3,2
  49NZ20191205,    I08N,     25,   1,      10,     -99,  2,20210405,1723,  -0.2511,   80.0055,  4683,   3830.8,   1.3863,2,  34.7187,2,  34.7186,2,    172.8,2,   172.86,2,    34.19,2,     0.00,2,    136.3,2,    2.360,2,    0.009,2,      0.0,2,    0.034,2,   2305.3,2,   2415.0,2
  49NZ20191205,    I08N,     25,   1,       9,     -99,  2,20210405,1723,  -0.2511,   80.0055,  4683,   4080.0,   1.3757,2,  34.7176,2,  34.7177,2,    175.1,2,   174.90,2,    34.14,2,     0.01,2,    136.3,2,    2.340,2,    0.011,2,      0.0,2,    0.004,2,   2303.9,2,   2414.8,2
  49NZ20191205,    I08N,     25,   1,       8,     -99,  2,20210405,1723,  -0.2511,   80.0055,  4683,   4330.7,   1.3963,2,  34.7175,2,  34.7157,2,    175.8,2,   175.75,2,    33.80,2,     0.00,2,    135.5,2,    2.339,2,    0.010,2,      0.0,2,    0.007,2,   2304.1,6,   2415.7,2
  49NZ20191205,    I08N,     25,   1,       7,     -99,  2,20210405,1723,  -0.2511,   80.0055,  4683,   4579.1,   1.4131,2,  34.7174,2,  34.7171,2,    177.0,2,   177.05,2,    34.06,2,     0.00,2,    135.7,2,    2.340,2,    0.010,2,      0.0,2,    0.008,2,   2302.9,2,   2413.3,2
  49NZ20191205,    I08N,     25,   1,       1,     -99,  2,20210405,1723,  -0.2511,   80.0055,  4683,   4745.3,   1.4326,2,  34.7172,2,  34.7179,2,    176.9,2,   177.08,2,    34.08,2,     0.00,2,    135.7,2,    2.347,2,    0.012,2,      0.0,2,    0.003,2,   2304.3,2,   2413.5,2