BOTTLE,20212805JOAExport
EXPOCODE,SECT_ID,STNNBR,CASTNO,SAMPNO,BTLNBR,BTLNBR_FLAG_W,DATE,TIME,LATITUDE,LONGITUDE,DEPTH,CTDPRS,CTDTMP,CTDTMP_FLAG_W,CTDSAL,CTDSAL_FLAG_W,SALNTY,SALNTY_FLAG_W,CTDOXY,CTDOXY_FLAG_W,OXYGEN,OXYGEN_FLAG_W,NITRAT,NITRAT_FLAG_W,NITRIT,NITRIT_FLAG_W,SILCAT,SILCAT_FLAG_W,PHSPHT,PHSPHT_FLAG_W,CFC-11,CFC-11_FLAG_W,CFC-12,CFC-12_FLAG_W,SF6,SF6_FLAG_W,TCARBN,TCARBN_FLAG_W,ALKALI,ALKALI_FLAG_W
,,,,,,,,,,,,DB,ITS-90,,PSS-78,,PSS-78,,UMOL/KG,,UMOL/KG,,UMOL/KG,,UMOL/KG,,UMOL/KG,,UMOL/KG,,PMOL/KG,,PMOL/KG,,FMOL/KG,,UMOL/KG,,UMOL/KG
  49NZ20191205,    I08N,     44,   1,      36,     -99,  2,20210405,1723,  -8.0022,   80.0027,  5416,     10.2,  28.1369,2,  34.5164,2,  34.5205,2,    200.0,2,   199.93,2,     0.03,2,     0.00,2,      1.4,2,    0.095,2,    1.454,2,      0.9,2,    1.559,2,   1963.8,2,   2267.6,2
  49NZ20191205,    I08N,     44,   1,      35,     -99,  2,20210405,1723,  -8.0022,   80.0027,  5416,     50.0,  27.8998,2,  34.5530,2,  34.5527,2,    200.2,2,   200.31,2,     0.06,2,     0.00,2,      1.4,2,    0.099,2,    1.460,2,      0.9,2,    1.605,2,   1962.5,2,   2268.7,2
  49NZ20191205,    I08N,     44,   1,      34,     -99,  2,20210405,1723,  -8.0022,   80.0027,  5416,    100.0,  26.2643,2,  34.4694,2,  34.4730,2,    189.3,2,   190.67,2,     0.63,2,     0.02,2,      2.9,2,    0.166,2,    1.426,2,      1.0,2,    1.479,2,   1978.8,2,   2268.0,2
  49NZ20191205,    I08N,     44,   1,      33,     -99,  2,20210405,1723,  -8.0022,   80.0027,  5416,    151.0,  17.4835,2,  34.6658,2,  34.6644,2,     92.6,2,    92.38,2,    19.71,2,     0.02,2,     21.8,2,    1.365,2,    1.580,2,      1.0,2,    1.028,2,   2145.0,2,   2286.9,2
  49NZ20191205,    I08N,     44,   1,      32,     -99,  2,20210405,1723,  -8.0022,   80.0027,  5416,    199.6,  13.0231,2,  34.7516,2,  34.7515,2,     68.5,2,    68.34,2,    27.00,2,     0.01,2,     32.0,2,    1.858,2,    1.418,2,      0.8,2,    0.621,2,   2205.9,2,   2301.4,2
  49NZ20191205,    I08N,     44,   1,      31,     -99,  2,20210405,1723,  -8.0022,   80.0027,  5416,    249.9,  12.1647,2,  34.8626,2,  34.8682,2,     58.9,2,    58.67,2,    28.84,2,     0.00,2,     30.0,2,    1.958,2,    1.389,2,      0.8,2,    0.393,2,   2223.5,2,   2305.8,2
  49NZ20191205,    I08N,     44,   1,      30,     -99,  2,20210405,1723,  -8.0022,   80.0027,  5416,    331.2,  10.8584,2,  34.8984,2,  34.8976,2,     81.0,2,    80.85,2,    28.61,2,     0.01,2,     26.2,2,    1.905,2,    1.526,2,      0.8,2,    0.448,2,   2218.0,2,   2307.1,2
  49NZ20191205,    I08N,     44,   1,      29,     -99,  2,20210405,1723,  -8.0022,   80.0027,  5416,    430.7,   9.6473,2,  34.8288,2,  34.8281,2,     94.0,2,    93.75,2,    29.70,2,     0.01,2,     30.7,2,    1.996,2,    1.342,2,      0.7,2,    0.341,2,   2221.4,2,   2310.1,2
  49NZ20191205,    I08N,     44,   1,      28,     -99,  2,20210405,1723,  -8.0022,   80.0027,  5416,    529.6,   8.6947,2,  34.7961,2,  34.7958,2,     82.7,2,    82.75,2,    32.35,2,     0.01,2,     42.4,2,    2.243,2,    0.789,2,      0.4,2,    0.149,2,   2244.2,2,   2318.9,2
  49NZ20191205,    I08N,     44,   1,      27,     -99,  2,20210405,1723,  -8.0022,   80.0027,  5416,    630.6,   7.8753,2,  34.7826,2,  34.7819,2,     71.1,2,    70.98,2,    34.74,2,     0.00,2,     56.6,2,    2.459,2,    0.365,2,      0.2,2,    0.065,2,   2263.2,2,   2332.1,2
  49NZ20191205,    I08N,     44,   1,      26,     -99,  2,20210405,1723,  -8.0022,   80.0027,  5416,    729.7,   7.1704,2,  34.7709,2,  34.7690,2,     64.6,2,    64.98,2,    36.12,2,     0.00,2,     69.1,2,    2.587,2,    0.162,2,      0.1,2,    0.026,2,   2280.6,6,   2344.0,2
  49NZ20191205,    I08N,     44,   1,      25,     -99,  2,20210405,1723,  -8.0022,   80.0027,  5416,    830.2,   6.4396,2,  34.7403,2,  34.7393,2,     68.0,2,    68.38,2,    36.53,2,     0.00,2,     79.9,2,    2.623,2,    0.102,2,      0.1,2,    0.033,2,   2290.5,2,   2353.5,2
  49NZ20191205,    I08N,     44,   1,      24,     -99,  2,20210405,1723,  -8.0022,   80.0027,  5416,    929.6,   5.8072,2,  34.7213,2,  34.7222,2,     73.4,2,    73.75,2,    36.77,2,     0.00,2,     88.3,2,    2.645,2,    0.075,2,      0.0,2,    0.005,2,   2297.8,2,   2363.9,2
  49NZ20191205,    I08N,     44,   1,      23,     -99,  2,20210405,1723,  -8.0022,   80.0027,  5416,   1070.5,   5.1692,2,  34.7180,2,  34.7206,2,     80.3,2,    80.29,2,    37.02,2,     0.01,2,     96.2,2,    2.665,2,    0.049,2,      0.0,2,    0.025,2,   2306.0,2,   2372.6,2
  49NZ20191205,    I08N,     44,   1,      22,     -99,  2,20210405,1723,  -8.0022,   80.0027,  5416,   1269.8,   4.4910,2,  34.7343,2,  34.7345,2,     89.3,2,    89.58,2,    37.02,2,     0.00,2,    103.6,2,    2.672,2,    0.025,2,      0.0,2,    0.036,2,   2312.7,2,   2379.9,6
  49NZ20191205,    I08N,     44,   1,      21,     -99,  2,20210405,1723,  -8.0022,   80.0027,  5416,   1471.3,   3.8856,2,  34.7616,2,  34.7614,2,    102.7,2,   102.97,2,    36.63,2,     0.00,2,    107.1,2,    2.628,2,    0.015,2,      0.0,2,    0.006,2,   2309.1,2,   2385.6,2
  49NZ20191205,    I08N,     44,   1,      20,     -99,  2,20210405,1723,  -8.0022,   80.0027,  5416,   1670.0,   3.2983,2,  34.7604,2,  34.7597,2,    117.3,2,   117.52,2,    36.18,2,     0.00,2,    111.8,2,    2.574,2,    0.014,2,      0.0,2,    0.005,2,   2309.6,2,   2390.0,2
  49NZ20191205,    I08N,     44,   1,      19,     -99,  2,20210405,1723,  -8.0022,   80.0027,  5416,   1869.4,   2.7763,2,  34.7516,2,  34.7520,2,    131.0,2,   131.06,2,    35.61,2,     0.00,2,    116.5,2,    2.516,2,    0.012,2,      0.0,2,    0.005,2,   2309.3,2,   2392.9,2
  49NZ20191205,    I08N,     44,   1,      18,     -99,  2,20210405,1723,  -8.0022,   80.0027,  5416,   2071.1,   2.4533,2,  34.7469,2,  34.7476,2,    140.9,2,   140.98,2,    35.16,2,     0.00,2,    119.2,2,    2.472,2,    0.012,2,      0.0,2,    0.003,2,   2306.6,2,   2395.6,2
  49NZ20191205,    I08N,     44,   1,      17,     -99,  2,20210405,1723,  -8.0022,   80.0027,  5416,   2270.3,   2.1905,2,  34.7424,2,  34.7430,2,    148.9,2,   148.83,2,    34.91,2,     0.00,2,    121.8,2,    2.438,2,    0.011,2,      0.0,2,    0.007,2,   2305.8,2,   2397.5,2
  49NZ20191205,    I08N,     44,   1,      16,     -99,  2,20210405,1723,  -8.0022,   80.0027,  5416,   2469.9,   2.0038,2,  34.7373,2,  34.7378,2,    155.6,2,   155.66,2,    34.67,2,     0.00,2,    123.5,2,    2.410,2,    0.014,2,      0.0,2,    0.009,2,   2302.4,6,   2401.7,2
  49NZ20191205,    I08N,     44,   1,      15,     -99,  2,20210405,1723,  -8.0022,   80.0027,  5416,   2670.7,   1.8561,2,  34.7335,2,  34.7338,2,    161.2,2,   161.45,2,    34.41,2,     0.00,2,    125.0,2,    2.384,2,    0.012,2,      0.0,2,    0.005,2,   2301.6,2,   2402.1,2
  49NZ20191205,    I08N,     44,   1,      12,     -99,  2,20210405,1723,  -8.0022,   80.0027,  5416,   3330.6,   1.5247,2,  34.7240,2,  34.7239,2,    167.5,2,   167.62,2,    34.25,2,     0.00,2,    133.4,2,    2.361,2,    0.017,2,      0.0,2,    0.007,2,   -999.0,3,   2413.3,6
  49NZ20191205,    I08N,     44,   1,      11,     -99,  2,20210405,1723,  -8.0022,   80.0027,  5416,   3580.4,   1.4498,2,  34.7213,2,  34.7216,2,    170.4,2,   170.28,2,    34.26,2,     0.00,2,    135.1,2,    2.355,2,    0.014,2,      0.0,2,    0.001,2,   2308.5,2,   2415.5,2
  49NZ20191205,    I08N,     44,   1,      10,     -99,  2,20210405,1723,  -8.0022,   80.0027,  5416,   3830.2,   1.4093,2,  34.7195,2,  34.7195,2,    173.8,2,   173.64,2,    34.08,2,     0.00,2,    134.8,2,    2.342,2,    0.013,2,      0.0,2,    0.005,2,   2306.1,2,   2417.4,2
  49NZ20191205,    I08N,     44,   1,       9,     -99,  2,20210405,1723,  -8.0022,   80.0027,  5416,   4079.8,   1.3855,2,  34.7182,2,  34.7183,2,    176.7,2,   176.73,2,    34.02,2,     0.00,2,    134.3,2,    2.329,2,    0.012,2,      0.0,2,    0.009,2,   2303.1,2,   2415.3,2
  49NZ20191205,    I08N,     44,   1,       8,     -99,  2,20210405,1723,  -8.0022,   80.0027,  5416,   4331.2,   1.3772,2,  34.7175,2,  34.7176,2,    179.9,2,   179.64,2,    33.85,2,     0.00,2,    133.4,2,    2.317,2,    0.014,2,      0.0,2,    0.005,2,   2300.8,6,   2409.0,2
  49NZ20191205,    I08N,     44,   1,       7,     -99,  2,20210405,1723,  -8.0022,   80.0027,  5416,   4581.6,   1.3811,2,  34.7169,2,  34.7174,2,    181.2,2,   181.03,2,    33.85,2,     0.00,2,    133.0,2,    2.314,2,    0.012,2,      0.0,2,    0.001,2,   2299.7,2,   2410.6,2
  49NZ20191205,    I08N,     44,   1,       6,     -99,  2,20210405,1723,  -8.0022,   80.0027,  5416,   4832.4,   1.3948,2,  34.7166,2,  34.7171,2,    182.4,2,   182.43,2,    33.79,2,     0.00,2,    132.3,2,    2.303,2,    0.015,2,      0.0,2,    0.017,2,   2297.7,2,   2408.9,6
  49NZ20191205,    I08N,     44,   1,       5,     -99,  2,20210405,1723,  -8.0022,   80.0027,  5416,   5080.1,   1.4108,2,  34.7164,2,  34.7163,2,    183.4,2,   183.42,2,    33.69,2,     0.00,2,    131.8,2,    2.301,2,    0.015,2,      0.0,2,    0.018,2,   2299.2,2,   2404.8,2
  49NZ20191205,    I08N,     44,   1,       4,     -99,  2,20210405,1723,  -8.0022,   80.0027,  5416,   5329.2,   1.4366,2,  34.7163,2,  34.7160,2,    183.7,2,   183.74,2,    33.62,2,     0.00,2,    131.6,2,    2.295,2,    0.017,2,      0.0,2,    0.003,2,   2298.0,2,   2405.2,2
  49NZ20191205,    I08N,     44,   1,       1,     -99,  2,20210405,1723,  -8.0022,   80.0027,  5416,   5497.1,   1.4573,2,  34.7163,2,  34.7161,2,    183.8,2,   183.98,2,    33.59,2,     0.00,2,    131.5,2,    2.296,2,    0.015,2,      0.0,2,    0.008,2,   2296.0,2,   2403.9,2
  49NZ20191205,    I08N,     42,   1,      36,     -99,  2,20210405,1723,  -7.0004,   79.9990,  4917,     10.5,  28.0401,2,  34.5495,2,  34.5489,2,    199.2,2,   199.31,2,     0.01,2,     0.01,2,      1.5,2,    0.090,2,    1.404,2,      0.9,2,    1.562,2,   1961.0,2,   2268.5,2
  49NZ20191205,    I08N,     42,   1,      35,     -99,  2,20210405,1723,  -7.0004,   79.9990,  4917,     49.8,  28.0332,2,  34.5963,2,  34.5963,2,    199.0,2,   199.40,2,     0.00,2,     0.01,2,      1.5,2,    0.093,2,    1.424,2,      0.9,2,    1.593,2,   1960.8,2,   2272.6,2
  49NZ20191205,    I08N,     42,   1,       2,     -99,  2,20210405,1723,  -7.0004,   79.9990,  4917,     83.2,  27.4938,2,  34.6504,2,  34.6533,2,    194.1,2,   195.46,2,     0.01,2,     0.01,2,      1.7,2,    0.142,2, -999.000,9,   -999.0,9, -999.000,9,   1970.5,2,   2274.9,2
  49NZ20191205,    I08N,     42,   1,      34,     -99,  2,20210405,1723,  -7.0004,   79.9990,  4917,    100.2,  22.2022,2,  34.6187,2,  34.6065,2,    117.8,2,   119.91,2,    11.84,2,     0.18,2,     11.6,2,    0.866,2,    1.542,2,      0.9,2,    1.298,2,   2076.8,2,   2272.9,2
  49NZ20191205,    I08N,     42,   1,      33,     -99,  2,20210405,1723,  -7.0004,   79.9990,  4917,    151.2,  16.1166,2,  34.7374,2,  34.7353,2,     71.9,2,    72.53,2,    23.47,2,     0.02,2,     25.2,2,    1.617,2,    1.523,2,      0.9,2,    0.787,2,   2179.3,2,   2293.9,2
  49NZ20191205,    I08N,     42,   1,      32,     -99,  2,20210405,1723,  -7.0004,   79.9990,  4917,    200.5,  13.0056,2,  34.7944,2,  34.7938,2,     63.5,2,    63.79,2,    27.52,2,     0.01,2,     31.2,2,    1.899,2,    1.389,2,      0.8,2,    0.537,2,   2206.9,2,   2305.7,2
  49NZ20191205,    I08N,     42,   1,      31,     -99,  2,20210405,1723,  -7.0004,   79.9990,  4917,    250.4,  12.0002,2,  34.9269,2,  34.9279,2,     55.9,2,    56.29,2,    29.23,2,     0.01,2,     28.0,2,    1.975,2,    1.312,2,      0.7,2,    0.376,2,   2230.3,2,   2308.8,2
  49NZ20191205,    I08N,     42,   1,      30,     -99,  2,20210405,1723,  -7.0004,   79.9990,  4917,    300.8,  11.3628,2,  34.9247,2,  34.9236,2,     58.9,2,    60.05,2,    29.85,2,     0.01,2,     27.9,2,    1.995,2,    1.252,2,      0.7,2,    0.347,2,   2225.6,2,   2308.6,2
  49NZ20191205,    I08N,     42,   1,      29,     -99,  2,20210405,1723,  -7.0004,   79.9990,  4917,    399.8,  10.2963,2,  34.8832,2,  34.8811,2,     82.0,2,    82.20,2,    29.75,2,     0.01,2,     27.9,2,    1.975,2,    1.285,2,      0.7,2,    0.328,2,   2222.5,2,   2308.8,2
  49NZ20191205,    I08N,     42,   1,      28,     -99,  2,20210405,1723,  -7.0004,   79.9990,  4917,    500.0,   9.1678,2,  34.8320,2,  34.8328,2,     84.0,2,    83.51,2,    31.53,2,     0.01,2,     37.6,2,    2.173,2,    0.867,2,      0.5,2,    0.197,2,   2236.1,2,   2316.0,2
  49NZ20191205,    I08N,     42,   1,      27,     -99,  2,20210405,1723,  -7.0004,   79.9990,  4917,    599.3,   8.4474,2,  34.8276,2,  34.8278,2,     69.3,2,    69.02,2,    34.04,2,     0.01,2,     49.2,2,    2.396,2,    0.417,2,      0.2,2,    0.031,2,   2255.7,2,   2326.8,2
  49NZ20191205,    I08N,     42,   1,      26,     -99,  2,20210405,1723,  -7.0004,   79.9990,  4917,    699.9,   7.6978,2,  34.8147,2,  34.8147,2,     67.1,2,    67.12,2,    35.13,2,     0.00,2,     60.8,2,    2.504,2,    0.262,2,      0.1,2,    0.060,2,   2271.4,6,   2337.9,2
  49NZ20191205,    I08N,     42,   1,      25,     -99,  2,20210405,1723,  -7.0004,   79.9990,  4917,    800.5,   7.0558,2,  34.8095,2,  34.8109,2,     64.7,2,    65.19,2,    36.11,2,     0.00,2,     70.6,2,    2.595,2,    0.141,2,      0.1,2,    0.010,2,   2289.0,2,   2347.8,2
  49NZ20191205,    I08N,     42,   1,      24,     -99,  2,20210405,1723,  -7.0004,   79.9990,  4917,    900.3,   6.3572,2,  34.7792,2,  34.7777,2,     68.5,2,    69.12,2,    36.66,2,     0.01,2,     81.0,2,    2.642,2,    0.084,2,      0.0,2,    0.022,2,   -999.0,3,   2357.1,2
  49NZ20191205,    I08N,     42,   1,      23,     -99,  2,20210405,1723,  -7.0004,   79.9990,  4917,    999.9,   5.7372,2,  34.7547,2,  34.7544,2,     74.2,2,    74.79,2,    36.92,2,     0.01,2,     88.9,2,    2.668,2,    0.058,2,      0.0,2,    0.004,2,   -999.0,3,   2366.7,2
  49NZ20191205,    I08N,     42,   1,      22,     -99,  2,20210405,1723,  -7.0004,   79.9990,  4917,   1199.6,   5.0339,2,  34.7715,2,  34.7720,2,     82.1,2,    82.52,2,    37.04,2,     0.00,2,     96.5,2,    2.682,2,    0.032,2,      0.0,2,    0.000,2,   2318.3,2,   2373.4,6
  49NZ20191205,    I08N,     42,   1,      21,     -99,  2,20210405,1723,  -7.0004,   79.9990,  4917,   1400.6,   4.2418,2,  34.7592,2,  34.7612,2,     95.5,2,    95.80,2,    36.98,2,     0.00,2,    104.2,2,    2.655,2,    0.016,2,      0.0,2,    0.006,2,   2316.5,2,   2381.3,2
  49NZ20191205,    I08N,     42,   1,      20,     -99,  2,20210405,1723,  -7.0004,   79.9990,  4917,   1597.9,   3.5255,2,  34.7623,2,  34.7623,2,    111.9,2,   112.45,2,    36.43,2,     0.00,2,    110.0,2,    2.605,2,    0.015,2,      0.0,2,    0.003,2,   2311.6,2,   2387.0,2
  49NZ20191205,    I08N,     42,   1,      19,     -99,  2,20210405,1723,  -7.0004,   79.9990,  4917,   1799.6,   2.9551,2,  34.7604,2,  34.7609,2,    126.7,2,   126.87,2,    35.75,2,     0.01,2,    115.1,2,    2.539,2,    0.009,2,      0.0,2,    0.001,2,   -999.0,3,   2390.9,2
  49NZ20191205,    I08N,     42,   1,      18,     -99,  2,20210405,1723,  -7.0004,   79.9990,  4917,   1999.8,   2.5592,2,  34.7522,2,  34.7519,2,    137.4,2,   137.51,2,    35.34,2,     0.00,2,    119.1,2,    2.499,2,    0.013,2,      0.0,2,    0.008,2,   2306.2,2,   2396.9,2
  49NZ20191205,    I08N,     42,   1,      17,     -99,  2,20210405,1723,  -7.0004,   79.9990,  4917,   2200.3,   2.2829,2,  34.7449,2,  34.7443,2,    145.4,2,   145.61,2,    35.19,2,     0.00,2,    122.0,2,    2.462,2,    0.011,2,      0.0,2,    0.000,2,   2306.5,2,   2396.8,2
  49NZ20191205,    I08N,     42,   1,      16,     -99,  2,20210405,1723,  -7.0004,   79.9990,  4917,   2399.8,   2.0550,2,  34.7389,2,  34.7380,2,    154.8,2,   155.06,2,    34.65,2,     0.00,2,    123.0,2,    2.422,2,    0.011,2,      0.0,2,    0.013,2,   2303.6,6,   2396.6,2
  49NZ20191205,    I08N,     42,   1,      15,     -99,  2,20210405,1723,  -7.0004,   79.9990,  4917,   2599.8,   1.8694,2,  34.7336,2,  34.7319,2,    161.3,2,   161.65,2,    34.12,2,     0.01,2,    123.8,2,    2.379,2,    0.012,2,      0.0,2,    0.002,2,   2299.2,2,   2400.4,2
  49NZ20191205,    I08N,     42,   1,      14,     -99,  2,20210405,1723,  -7.0004,   79.9990,  4917,   2800.3,   1.7592,2,  34.7308,2,  34.7292,2,    163.9,2,   164.31,2,    34.12,2,     0.01,2,    126.5,2,    2.376,2,    0.011,2,      0.0,2,    0.031,2,   2302.9,2,   2402.6,2
  49NZ20191205,    I08N,     42,   1,      13,     -99,  2,20210405,1723,  -7.0004,   79.9990,  4917,   3000.5,   1.6551,2,  34.7277,2,  34.7267,2,    165.9,2,   165.90,2,    34.31,2,     0.00,2,    129.3,2,    2.377,2,    0.012,2,      0.0,2,    0.009,2,   2305.3,2,   2404.1,2
  49NZ20191205,    I08N,     42,   1,      12,     -99,  2,20210405,1723,  -7.0004,   79.9990,  4917,   3250.7,   1.5437,2,  34.7247,2,  34.7232,2,    166.9,2,   166.99,2,    34.42,2,     0.00,2,    133.3,2,    2.378,2,    0.013,2,      0.0,2,    0.006,2,   2307.7,2,   2410.9,6
  49NZ20191205,    I08N,     42,   1,      11,     -99,  2,20210405,1723,  -7.0004,   79.9990,  4917,   3500.3,   1.4538,2,  34.7215,2,  34.7211,2,    169.8,2,   169.94,2,    34.36,2,     0.01,2,    135.0,2,    2.369,2,    0.012,2,      0.0,2,    0.010,2,   2308.0,2,   2413.6,2
  49NZ20191205,    I08N,     42,   1,      10,     -99,  2,20210405,1723,  -7.0004,   79.9990,  4917,   3751.4,   1.4093,2,  34.7197,2,  34.7197,2,    172.8,2,   173.03,2,    34.25,2,     0.00,2,    135.3,2,    2.356,2,    0.013,2,      0.0,2,    0.000,2,   2307.0,2,   2413.9,2
  49NZ20191205,    I08N,     42,   1,       9,     -99,  2,20210405,1723,  -7.0004,   79.9990,  4917,   3999.8,   1.3905,2,  34.7185,2,  34.7184,2,    175.4,2,   175.65,2,    34.15,2,     0.01,2,    134.7,2,    2.350,2,    0.011,2,      0.0,2,    0.004,2,   2308.0,2,   2410.0,2
  49NZ20191205,    I08N,     42,   1,       8,     -99,  2,20210405,1723,  -7.0004,   79.9990,  4917,   4249.5,   1.3762,2,  34.7175,2,  34.7182,2,    178.4,2,   178.47,2,    34.07,2,     0.00,2,    134.1,2,    2.335,2,    0.014,2,      0.0,2,    0.000,2,   2302.4,6,   2409.4,2
  49NZ20191205,    I08N,     42,   1,       7,     -99,  2,20210405,1723,  -7.0004,   79.9990,  4917,   4500.6,   1.3767,2,  34.7169,2,  34.7166,2,    180.2,2,   180.47,2,    33.95,2,     0.01,2,    133.8,2,    2.324,2,    0.012,2,      0.0,2,    0.001,2,   2299.1,2,   2407.7,2
  49NZ20191205,    I08N,     42,   1,       6,     -99,  2,20210405,1723,  -7.0004,   79.9990,  4917,   4751.0,   1.3811,2,  34.7164,2,  34.7164,2,    182.2,2,   182.58,2,    33.81,2,     0.00,2,    132.3,2,    2.318,2,    0.015,2,      0.0,2,    0.002,2,   -999.0,3,   2405.4,6
  49NZ20191205,    I08N,     42,   1,       1,     -99,  2,20210405,1723,  -7.0004,   79.9990,  4917,   4982.3,   1.3954,2,  34.7161,2,  34.7157,2,    183.1,2,   183.52,2,    33.71,2,     0.01,2,    131.7,2,    2.314,2,    0.013,2,      0.0,2,    0.001,2,   2296.2,2,   2404.6,2