BOTTLE,20212805JOAExport
EXPOCODE,SECT_ID,STNNBR,CASTNO,SAMPNO,BTLNBR,BTLNBR_FLAG_W,DATE,TIME,LATITUDE,LONGITUDE,DEPTH,CTDPRS,CTDTMP,CTDTMP_FLAG_W,CTDSAL,CTDSAL_FLAG_W,SALNTY,SALNTY_FLAG_W,CTDOXY,CTDOXY_FLAG_W,OXYGEN,OXYGEN_FLAG_W,NITRAT,NITRAT_FLAG_W,NITRIT,NITRIT_FLAG_W,SILCAT,SILCAT_FLAG_W,PHSPHT,PHSPHT_FLAG_W,CFC-11,CFC-11_FLAG_W,CFC-12,CFC-12_FLAG_W,SF6,SF6_FLAG_W,TCARBN,TCARBN_FLAG_W,ALKALI,ALKALI_FLAG_W
,,,,,,,,,,,,DB,ITS-90,,PSS-78,,PSS-78,,UMOL/KG,,UMOL/KG,,UMOL/KG,,UMOL/KG,,UMOL/KG,,UMOL/KG,,PMOL/KG,,PMOL/KG,,FMOL/KG,,UMOL/KG,,UMOL/KG
  49NZ20191205,    I08N,     17,   1,      36,     -99,  2,20210405,1723,   2.0011,   80.0008,  3875,     10.2,  29.3122,2,  33.8384,2,  33.7971,2,    197.2,2,   196.80,2,     0.03,2,     0.01,2,      1.7,2,    0.083,2,    1.401,2,      0.9,2,    1.549,2,   1909.7,2,   2219.6,2
  49NZ20191205,    I08N,     17,   1,      35,     -99,  2,20210405,1723,   2.0011,   80.0008,  3875,     49.9,  29.1105,2,  34.5150,2,  34.5218,2,    194.5,2,   194.06,2,     0.01,2,     0.01,2,      1.5,2,    0.118,2,    1.403,2,      0.9,2,    1.536,2,   1948.2,2,   2264.5,2
  49NZ20191205,    I08N,     17,   1,       2,     -99,  2,20210405,1723,   2.0011,   80.0008,  3875,     59.2,  29.0904,2,  34.6788,2,  34.6805,2,    192.0,2,   192.14,2,     0.12,2,     0.02,2,      1.5,2,    0.137,2, -999.000,9,   -999.0,9, -999.000,9,   1961.5,2,   2273.0,2
  49NZ20191205,    I08N,     17,   1,      34,     -99,  2,20210405,1723,   2.0011,   80.0008,  3875,     99.2,  19.6561,2,  35.2775,2,  35.2776,2,     41.2,2,    41.33,2,    23.52,2,     0.05,2,     15.8,2,    1.697,2,    1.470,2,      0.9,2,    0.919,2,   2182.2,2,   2311.3,2
  49NZ20191205,    I08N,     17,   1,      33,     -99,  2,20210405,1723,   2.0011,   80.0008,  3875,    150.1,  14.1565,2,  35.1209,2,  35.1201,2,     49.9,2,    49.13,2,    27.24,2,     0.01,2,     22.0,2,    1.912,2,    1.596,2,      0.9,2,    0.660,2,   2216.3,2,   2312.2,2
  49NZ20191205,    I08N,     17,   1,      32,     -99,  2,20210405,1723,   2.0011,   80.0008,  3875,    199.3,  13.4825,2,  35.1239,2,  35.1227,2,     61.4,2,    62.31,2,    26.67,2,     0.01,2,     21.4,2,    1.855,2,    1.741,2,      1.0,2,    0.666,2,   2218.1,2,   2312.9,2
  49NZ20191205,    I08N,     17,   1,      31,     -99,  2,20210405,1723,   2.0011,   80.0008,  3875,    250.3,  11.7701,2,  35.0700,2,  35.0697,2,     74.7,2,    74.21,2,    27.84,2,     0.01,2,     23.7,2,    1.899,2,    1.695,2,      0.9,2,    0.549,2,   2219.4,2,   2314.3,2
  49NZ20191205,    I08N,     17,   1,      30,     -99,  2,20210405,1723,   2.0011,   80.0008,  3875,    329.7,  11.1276,2,  35.0306,2,  35.0304,2,     76.8,2,    76.36,2,    28.75,2,     0.01,2,     25.7,2,    1.956,2,    1.585,2,      0.9,2,    0.460,2,   2224.5,2,   2315.0,2
  49NZ20191205,    I08N,     17,   1,      29,     -99,  2,20210405,1723,   2.0011,   80.0008,  3875,    430.3,  10.6474,2,  35.0182,2,  35.0169,2,     75.6,2,    75.50,2,    29.86,2,     0.02,2,     28.7,2,    2.043,2,    1.450,2,      0.8,2,    0.440,2,   2228.8,2,   2321.6,2
  49NZ20191205,    I08N,     17,   1,      28,     -99,  2,20210405,1723,   2.0011,   80.0008,  3875,    528.9,  10.0779,2,  35.0154,2,  35.0151,2,     60.7,2,    59.94,2,    32.17,2,     0.01,2,     36.5,2,    2.258,2,    0.991,2,      0.5,2,    0.263,2,   2245.6,2,   2322.4,2
  49NZ20191205,    I08N,     17,   1,      27,     -99,  2,20210405,1723,   2.0011,   80.0008,  3875,    630.7,   9.4515,2,  35.0268,2,  35.0280,2,     55.3,2,    53.99,2,    33.36,2,     0.01,2,     45.1,2,    2.387,2,    0.670,2,      0.4,2,    0.191,2,   2259.1,2,   2329.5,2
  49NZ20191205,    I08N,     17,   1,      26,     -99,  2,20210405,1723,   2.0011,   80.0008,  3875,    729.1,   8.7488,2,  35.0379,2,  35.0345,2,     39.0,2,    38.40,2,    35.85,2,     0.01,2,     58.0,2,    2.596,2,    0.291,2,      0.2,2,    0.055,2,   2281.4,6,   2339.1,2
  49NZ20191205,    I08N,     17,   1,      25,     -99,  2,20210405,1723,   2.0011,   80.0008,  3875,    828.9,   8.0761,2,  35.0082,2,  35.0055,2,     41.1,2,    41.21,2,    36.63,2,     0.01,2,     66.2,2,    2.664,2,    0.173,2,      0.1,2,    0.040,2,   2290.5,2,   2353.4,2
  49NZ20191205,    I08N,     17,   1,      24,     -99,  2,20210405,1723,   2.0011,   80.0008,  3875,    930.1,   7.2536,2,  34.9690,2,  34.9668,2,     43.5,2,    43.78,2,    37.34,2,     0.01,2,     77.0,2,    2.723,2,    0.084,2,      0.0,2,    0.007,2,   2301.3,2,   2363.2,2
  49NZ20191205,    I08N,     17,   1,      23,     -99,  2,20210405,1723,   2.0011,   80.0008,  3875,   1069.8,   6.2942,2,  34.9248,2,  34.9244,2,     54.6,2,    54.62,2,    37.61,2,     0.01,2,     87.2,2,    2.735,2,    0.051,2,      0.0,2,    0.024,2,   2308.8,2,   2374.8,2
  49NZ20191205,    I08N,     17,   1,      22,     -99,  2,20210405,1723,   2.0011,   80.0008,  3875,   1267.5,   5.5948,2,  34.8990,2,  34.8995,2,     65.1,2,    64.45,2,    37.64,2,     0.01,2,     94.1,2,    2.738,2,    0.036,2,      0.0,2,    0.006,2,   2314.2,2,   2381.4,6
  49NZ20191205,    I08N,     17,   1,      21,     -99,  2,20210405,1723,   2.0011,   80.0008,  3875,   1469.4,   4.6866,2,  34.8627,2,  34.8627,2,     81.4,2,    81.46,2,    37.30,2,     0.01,2,    102.9,2,    2.718,2,    0.028,2,      0.0,2,    0.005,2,   2316.8,2,   2382.9,2
  49NZ20191205,    I08N,     17,   1,      20,     -99,  2,20210405,1723,   2.0011,   80.0008,  3875,   1668.1,   3.8396,2,  34.8257,2,  34.8263,2,     99.2,2,    98.45,2,    36.84,2,     0.01,2,    111.1,2,    2.663,2,    0.025,2,      0.0,2,    0.022,2,   2318.6,2,   2392.9,2
  49NZ20191205,    I08N,     17,   1,      19,     -99,  2,20210405,1723,   2.0011,   80.0008,  3875,   1869.5,   3.1341,2,  34.7956,2,  34.7954,2,    114.2,2,   114.09,2,    36.50,2,     0.01,2,    119.7,2,    2.615,2,    0.017,2,      0.0,2,    0.008,2,   2320.6,2,   2397.4,2
  49NZ20191205,    I08N,     17,   1,      18,     -99,  2,20210405,1723,   2.0011,   80.0008,  3875,   2069.3,   2.6671,2,  34.7734,2,  34.7732,2,    127.7,2,   127.31,2,    36.03,2,     0.01,2,    123.7,2,    2.555,2,    0.014,2,      0.0,2,    0.007,2,   2321.3,2,   2402.7,2
  49NZ20191205,    I08N,     17,   1,      17,     -99,  2,20210405,1723,   2.0011,   80.0008,  3875,   2269.7,   2.3163,2,  34.7577,2,  34.7581,2,    137.0,2,   136.69,2,    35.72,2,     0.01,2,    127.6,2,    2.502,2,    0.017,2,      0.0,2,    0.005,2,   2318.8,2,   2406.0,2
  49NZ20191205,    I08N,     17,   1,      16,     -99,  2,20210405,1723,   2.0011,   80.0008,  3875,   2472.0,   2.1131,2,  34.7480,2,  34.7484,2,    145.3,2,   145.22,2,    35.35,2,     0.01,2,    128.6,2,    2.469,2,    0.017,2,      0.0,2,    0.006,2,   2314.5,6,   2407.1,2
  49NZ20191205,    I08N,     17,   1,      15,     -99,  2,20210405,1723,   2.0011,   80.0008,  3875,   2669.0,   1.9278,2,  34.7398,2,  34.7393,2,    152.7,2,   152.32,2,    35.03,2,     0.02,2,    129.5,2,    2.441,2,    0.015,2,      0.0,2,    0.000,2,   2312.3,2,   2403.7,2
  49NZ20191205,    I08N,     17,   1,      14,     -99,  2,20210405,1723,   2.0011,   80.0008,  3875,   2869.7,   1.7873,2,  34.7342,2,  34.7341,2,    153.9,2,   153.81,2,    35.09,2,     0.01,2,    133.4,2,    2.440,2,    0.018,2,      0.0,2,    0.031,2,   2317.5,2,   2408.0,2
  49NZ20191205,    I08N,     17,   1,      13,     -99,  2,20210405,1723,   2.0011,   80.0008,  3875,   3081.9,   1.6843,2,  34.7300,2,  34.7305,2,    157.1,2,   157.03,2,    35.07,2,     0.01,2,    135.0,2,    2.426,2,    0.013,2,      0.0,2,    0.006,2,   2316.4,2,   2415.7,2
  49NZ20191205,    I08N,     17,   1,      12,     -99,  2,20210405,1723,   2.0011,   80.0008,  3875,   3329.1,   1.5695,2,  34.7257,2,  34.7259,2,    158.9,2,   158.90,2,    34.96,2,     0.01,2,    138.2,2,    2.426,2,    0.021,2,      0.0,2,    0.005,2,   2321.2,2,   2414.0,6
  49NZ20191205,    I08N,     17,   1,      11,     -99,  2,20210405,1723,   2.0011,   80.0008,  3875,   3580.3,   1.4438,2,  34.7210,2,  34.7211,2,    163.8,2,   163.77,2,    34.82,2,     0.02,2,    139.8,2,    2.405,2,    0.016,2,      0.0,2,    0.024,2,   2320.9,2,   2419.5,2
  49NZ20191205,    I08N,     17,   1,      10,     -99,  2,20210405,1723,   2.0011,   80.0008,  3875,   3828.9,   1.3878,2,  34.7185,2,  34.7190,2,    169.6,2,   169.55,2,    34.68,2,     0.01,2,    138.5,2,    2.377,2,    0.021,2,      0.0,2,    0.023,2,   2317.2,2,   2423.7,2
  49NZ20191205,    I08N,     17,   1,       1,     -99,  2,20210405,1723,   2.0011,   80.0008,  3875,   3910.6,   1.3899,2,  34.7185,2,  34.7185,2,    170.4,2,   170.51,2,    34.68,2,     0.01,2,    138.6,2,    2.387,2,    0.019,2,      0.0,2,    0.001,2,   2315.8,2,   2422.3,2
  49NZ20191205,    I08N,     14,   1,      36,     -99,  2,20210405,1723,   3.0007,   80.0007,  4340,     10.2,  28.9936,2,  33.8096,2,  33.8034,2,    197.0,2,   196.81,2,     0.06,2,     0.01,2,      1.6,2,    0.083,2,    1.332,2,      0.9,2,    1.490,2,   1914.0,2,   2226.0,2
  49NZ20191205,    I08N,     14,   1,      35,     -99,  2,20210405,1723,   3.0007,   80.0007,  4340,     49.9,  29.1828,2,  34.5655,2,  34.5670,2,    194.1,2,   194.22,2,     0.01,2,     0.01,2,      1.5,2,    0.117,2,    1.319,2,      0.9,2,    1.508,2,   1949.2,2,   2268.0,2
  49NZ20191205,    I08N,     14,   1,       2,     -99,  2,20210405,1723,   3.0007,   80.0007,  4340,     64.1,  28.2310,2,  35.0061,2,  34.9976,2,    166.3,2,   167.82,2,     1.93,2,     0.22,2,      2.0,2,    0.306,2, -999.000,9,   -999.0,9, -999.000,9,   1995.1,2,   2293.2,2
  49NZ20191205,    I08N,     14,   1,      34,     -99,  2,20210405,1723,   3.0007,   80.0007,  4340,    100.3,  18.2461,2,  34.9160,2,  34.9162,2,     19.1,2,    19.35,2,    26.77,2,     0.03,2,     22.3,2,    1.938,2,    1.119,2,      0.7,2,    0.636,2,   2196.8,2,   2297.5,2
  49NZ20191205,    I08N,     14,   1,      33,     -99,  2,20210405,1723,   3.0007,   80.0007,  4340,    151.0,  13.8092,2,  35.0990,2,  35.0986,2,     41.5,2,    41.06,2,    28.23,2,     0.02,2,     23.8,2,    1.989,2, -999.000,9,   -999.0,9, -999.000,9,   2228.6,2,   2311.7,2
  49NZ20191205,    I08N,     14,   1,      32,     -99,  2,20210405,1723,   3.0007,   80.0007,  4340,    199.1,  12.7882,2,  35.1061,2,  35.1069,2,     50.9,2,    52.65,2,    28.24,2,     0.01,2,     24.0,2,    1.971,2,    1.429,2,      0.9,2,    0.529,2,   2230.8,2,   2310.8,2
  49NZ20191205,    I08N,     14,   1,      31,     -99,  2,20210405,1723,   3.0007,   80.0007,  4340,    250.5,  11.8899,2,  35.0899,2,  35.0879,2,     53.7,2,    54.37,2,    29.27,2,     0.01,2,     25.9,2,    2.027,2,    1.412,2,      0.8,2,    0.492,2,   2236.8,2,   2314.8,2
  49NZ20191205,    I08N,     14,   1,      30,     -99,  2,20210405,1723,   3.0007,   80.0007,  4340,    298.5,  11.4202,2,  35.0638,2,  35.0637,2,     59.1,2,    58.61,2,    29.64,2,     0.01,2,     27.0,2,    2.041,2,    1.361,2,      0.8,2,    0.433,2,   2237.8,2,   2312.0,2
  49NZ20191205,    I08N,     14,   1,      29,     -99,  2,20210405,1723,   3.0007,   80.0007,  4340,    400.2,  10.8488,2,  35.0604,2,  35.0587,2,     40.5,2,    42.42,2,    32.29,2,     0.02,2,     33.3,2,    2.253,2,    0.983,2,      0.6,2,    0.375,2,   2253.7,2,   2317.0,2
  49NZ20191205,    I08N,     14,   1,      28,     -99,  2,20210405,1723,   3.0007,   80.0007,  4340,    499.8,  10.2214,2,  35.0542,2,  35.0631,2,     37.6,2,    36.78,2,    33.64,2,     0.01,2,     39.8,2,    2.398,2,    0.700,2,      0.4,2,    0.086,2,   2267.8,2,   2320.1,2
  49NZ20191205,    I08N,     14,   1,      27,     -99,  2,20210405,1723,   3.0007,   80.0007,  4340,    599.4,   9.4888,2,  35.0464,2,  35.0466,2,     39.3,2,    39.24,2,    34.46,2,     0.01,2,     47.7,2,    2.503,2,    0.474,2,      0.3,2,    0.092,2,   2273.1,2,   2329.3,2
  49NZ20191205,    I08N,     14,   1,      26,     -99,  2,20210405,1723,   3.0007,   80.0007,  4340,    699.7,   8.8727,2,  35.0334,2,  35.0339,2,     35.4,2,    35.62,2,    35.45,2,     0.01,2,     55.9,2,    2.595,2,    0.291,2,      0.2,2,    0.083,2,   2284.3,6,   2334.3,2
  49NZ20191205,    I08N,     14,   1,      25,     -99,  2,20210405,1723,   3.0007,   80.0007,  4340,    799.1,   8.0499,2,  35.0024,2,  35.0025,2,     34.9,2,    34.77,2,    36.81,2,     0.01,2,     67.4,2,    2.699,2,    0.129,2,      0.1,2,    0.026,2,   2297.8,2,   2347.9,2
  49NZ20191205,    I08N,     14,   1,      24,     -99,  2,20210405,1723,   3.0007,   80.0007,  4340,    899.6,   7.3855,2,  34.9793,2,  34.9794,2,     42.2,2,    42.16,2,    37.13,2,     0.01,2,     74.8,2,    2.724,2,    0.081,2,      0.1,2,    0.004,2,   2300.6,2,   2355.6,2
  49NZ20191205,    I08N,     14,   1,      23,     -99,  2,20210405,1723,   3.0007,   80.0007,  4340,   1000.2,   6.7791,2,  34.9467,2,  34.9464,2,     47.0,2,    47.01,2,    37.39,2,     0.01,2,     82.2,2,    2.746,2,    0.056,2,      0.0,2,    0.014,2,   2309.1,2,   2363.2,2
  49NZ20191205,    I08N,     14,   1,      22,     -99,  2,20210405,1723,   3.0007,   80.0007,  4340,   1200.0,   5.8152,2,  34.9034,2,  34.9034,2,     58.1,2,    57.94,2,    37.62,2,     0.01,2,     93.7,2,    2.762,2,    0.032,2,      0.0,2,    0.000,2,   2317.0,2,   2374.2,6
  49NZ20191205,    I08N,     14,   1,      21,     -99,  2,20210405,1723,   3.0007,   80.0007,  4340,   1400.9,   4.9044,2,  34.8723,2,  34.8724,2,     74.5,2,    74.63,2,    37.37,2,     0.01,2,    102.1,2,    2.737,2,    0.022,2,      0.0,2,    0.024,2,   2319.3,2,   2383.3,2
  49NZ20191205,    I08N,     14,   1,      20,     -99,  2,20210405,1723,   3.0007,   80.0007,  4340,   1600.0,   4.0498,2,  34.8341,2,  34.8341,2,     94.6,2,    94.43,2,    36.87,2,     0.01,2,    109.0,2,    2.678,2,    0.018,2,      0.0,2,    0.041,2,   2319.6,2,   2386.6,2
  49NZ20191205,    I08N,     14,   1,      19,     -99,  2,20210405,1723,   3.0007,   80.0007,  4340,   1798.9,   3.3520,2,  34.8087,2,  34.8085,2,    107.5,2,   107.46,2,    36.43,2,     0.01,2,    118.2,2,    2.640,2,    0.013,2,      0.0,2,    0.005,2,   2323.5,2,   2399.2,2
  49NZ20191205,    I08N,     14,   1,      18,     -99,  2,20210405,1723,   3.0007,   80.0007,  4340,   1999.2,   2.7321,2,  34.7778,2,  34.7769,2,    120.3,2,   120.16,2,    36.18,2,     0.01,2,    126.4,2,    2.601,2,    0.015,2,      0.0,2,    0.000,2,   2325.6,2,   2406.8,2
  49NZ20191205,    I08N,     14,   1,      17,     -99,  2,20210405,1723,   3.0007,   80.0007,  4340,   2200.6,   2.3469,2,  34.7597,2,-999.0000,9,    132.1,2,   131.98,2,    35.88,2,     0.01,2,    129.9,2,    2.544,2,    0.016,2,      0.0,2,    0.002,2,   2324.5,2,   2410.2,2
  49NZ20191205,    I08N,     14,   1,      16,     -99,  2,20210405,1723,   3.0007,   80.0007,  4340,   2399.6,   2.1579,2,  34.7508,2,  34.7504,2,    138.4,2,   138.35,2,    35.37,2,     0.01,2,    131.2,2,    2.499,2,    0.015,2,      0.0,2,    0.009,2,   2321.9,6,   2409.9,2
  49NZ20191205,    I08N,     14,   1,      15,     -99,  2,20210405,1723,   3.0007,   80.0007,  4340,   2600.2,   1.9729,2,  34.7422,2,  34.7412,2,    146.4,2,   146.52,2,    35.05,2,     0.01,2,    131.8,2,    2.465,2,    0.017,2,      0.0,2,    0.004,2,   2321.2,2,   2410.7,2
  49NZ20191205,    I08N,     14,   1,      14,     -99,  2,20210405,1723,   3.0007,   80.0007,  4340,   2799.9,   1.8160,2,  34.7357,2,  34.7357,2,    150.3,2,   150.35,2,    34.99,2,     0.00,2,    134.7,2,    2.456,2,    0.015,2,      0.0,2,    0.028,2,   2319.2,2,   2415.9,2
  49NZ20191205,    I08N,     14,   1,      13,     -99,  2,20210405,1723,   3.0007,   80.0007,  4340,   2999.8,   1.7119,2,  34.7316,2,  34.7308,2,    150.1,2,   150.34,2,    35.14,2,     0.01,2,    138.6,2,    2.463,2,    0.016,2,      0.0,2,    0.007,2,   2324.3,2,   2418.6,2
  49NZ20191205,    I08N,     14,   1,      12,     -99,  2,20210405,1723,   3.0007,   80.0007,  4340,   3250.3,   1.5757,2,  34.7263,2,  34.7256,2,    153.2,2,   153.08,2,    35.13,2,     0.01,2,    141.7,2,    2.450,2,    0.018,2,      0.0,2,    0.025,2,   2330.9,2,   2426.2,6
  49NZ20191205,    I08N,     14,   1,      11,     -99,  2,20210405,1723,   3.0007,   80.0007,  4340,   3500.8,   1.4832,2,  34.7225,2,  34.7219,2,    157.8,2,   157.62,2,    35.06,2,     0.01,2,    142.6,2,    2.436,2,    0.020,2,      0.0,2,    0.028,2,   2326.1,2,   2429.2,2
  49NZ20191205,    I08N,     14,   1,      10,     -99,  2,20210405,1723,   3.0007,   80.0007,  4340,   3750.4,   1.4343,2,  34.7202,2,  34.7199,2,    162.1,2,   162.09,2,    34.60,2,     0.01,2,    141.7,2,    2.406,2,    0.021,2,      0.0,2,    0.007,2,   2326.4,2,   2429.5,2
  49NZ20191205,    I08N,     14,   1,       9,     -99,  2,20210405,1723,   3.0007,   80.0007,  4340,   4000.7,   1.4234,2,  34.7191,2,  34.7190,2,    166.1,2,   166.05,2,    34.57,2,     0.01,2,    140.2,2,    2.392,2,    0.022,2,      0.0,2,    0.010,2,   2320.7,2,   2426.7,2
  49NZ20191205,    I08N,     14,   1,       8,     -99,  2,20210405,1723,   3.0007,   80.0007,  4340,   4252.0,   1.4145,2,  34.7181,2,  34.7188,2,    171.0,2,   171.12,2,    34.21,2,     0.01,2,    137.9,2,    2.368,2,    0.021,2,      0.0,2,    0.005,2,   2310.1,6,   2422.2,2
  49NZ20191205,    I08N,     14,   1,       1,     -99,  2,20210405,1723,   3.0007,   80.0007,  4340,   4384.6,   1.4165,2,  34.7177,2,  34.7181,2,    171.5,2,   171.56,2,    34.14,2,     0.01,2,    137.9,2,    2.365,2,    0.020,2,      0.0,2,    0.029,2,   2311.9,2,   2423.5,2