BOTTLE,20212805JOAExport
EXPOCODE,SECT_ID,STNNBR,CASTNO,SAMPNO,BTLNBR,BTLNBR_FLAG_W,DATE,TIME,LATITUDE,LONGITUDE,DEPTH,CTDPRS,CTDTMP,CTDTMP_FLAG_W,CTDSAL,CTDSAL_FLAG_W,SALNTY,SALNTY_FLAG_W,CTDOXY,CTDOXY_FLAG_W,OXYGEN,OXYGEN_FLAG_W,NITRAT,NITRAT_FLAG_W,NITRIT,NITRIT_FLAG_W,SILCAT,SILCAT_FLAG_W,PHSPHT,PHSPHT_FLAG_W,CFC-11,CFC-11_FLAG_W,CFC-12,CFC-12_FLAG_W,SF6,SF6_FLAG_W,TCARBN,TCARBN_FLAG_W,ALKALI,ALKALI_FLAG_W
,,,,,,,,,,,,DB,ITS-90,,PSS-78,,PSS-78,,UMOL/KG,,UMOL/KG,,UMOL/KG,,UMOL/KG,,UMOL/KG,,UMOL/KG,,PMOL/KG,,PMOL/KG,,FMOL/KG,,UMOL/KG,,UMOL/KG
  49NZ20191205,    I08N,     52,   1,      36,     -99,  2,20210405,1723, -12.0002,   80.0002,  5159,      9.8,  28.3624,2,  34.7783,2,  34.7785,2,    198.9,2,   198.32,2,     0.02,2,     0.00,2,      1.9,2,    0.094,2,    1.437,2,      0.9,2,    1.522,2,   1959.7,2,   2280.4,2
  49NZ20191205,    I08N,     52,   1,      35,     -99,  2,20210405,1723, -12.0002,   80.0002,  5159,     50.4,  28.1779,2,  34.8187,2,  34.8174,2,    199.2,2,   198.73,2,     0.01,2,     0.00,2,      1.9,2,    0.098,2,    1.430,2,      0.9,2,    1.517,2,   1958.9,2,   2282.6,2
  49NZ20191205,    I08N,     52,   1,      34,     -99,  2,20210405,1723, -12.0002,   80.0002,  5159,    100.7,  27.8250,2,  34.7827,2,  34.7867,2,    199.5,2,   199.30,2,     0.00,2,     0.00,2,      1.9,2,    0.104,2,    1.455,2,      0.9,2,    1.481,2,   1958.1,2,   2280.0,2
  49NZ20191205,    I08N,     52,   1,       2,     -99,  2,20210405,1723, -12.0002,   80.0002,  5159,    126.5,  27.3012,2,  34.8330,2,  34.8346,2,    188.2,2,   187.06,2,     0.43,2,     0.11,2,      2.6,2,    0.186,2, -999.000,9,   -999.0,9, -999.000,9,   1977.1,2,   2281.9,2
  49NZ20191205,    I08N,     52,   1,      33,     -99,  2,20210405,1723, -12.0002,   80.0002,  5159,    150.3,  21.1941,2,  34.7393,2,  34.7388,2,    111.2,2,   110.80,2,    13.69,2,     0.04,2,     13.1,2,    0.971,2,    1.622,2,      1.0,2,    1.204,2,   2092.9,2,   2281.7,2
  49NZ20191205,    I08N,     52,   1,      32,     -99,  2,20210405,1723, -12.0002,   80.0002,  5159,    201.9,  17.4547,2,  35.0950,2,  35.1061,2,    131.2,2,   130.94,2,    13.89,2,     0.01,2,     16.7,2,    0.996,2,    1.771,2,      1.1,2,    1.225,2,   2128.0,2,   2310.8,2
  49NZ20191205,    I08N,     52,   1,      31,     -99,  2,20210405,1723, -12.0002,   80.0002,  5159,    250.0,  15.4712,2,  35.2115,2,  35.1965,2,    142.8,2,   141.33,2,    14.33,2,     0.01,2,     17.2,2,    1.045,2,    1.771,2,      1.0,2,    0.871,2,   2145.6,2,   2320.3,2
  49NZ20191205,    I08N,     52,   1,      30,     -99,  2,20210405,1723, -12.0002,   80.0002,  5159,    279.1,  13.4772,2,  34.9841,2,  34.9746,2,    118.6,2,   117.12,2,    19.89,2,     0.01,2,     24.5,2,    1.414,2,    1.746,2,      1.0,2,    0.871,2,   2172.6,2,   2313.6,2
  49NZ20191205,    I08N,     52,   1,      29,     -99,  2,20210405,1723, -12.0002,   80.0002,  5159,    370.6,  10.8773,2,  34.8054,2,  34.8045,2,     98.5,2,    98.42,2,    26.58,2,     0.01,2,     31.8,2,    1.833,2,    1.605,2,      0.9,2,    0.561,2,   2207.5,2,   2310.3,2
  49NZ20191205,    I08N,     52,   1,      28,     -99,  2,20210405,1723, -12.0002,   80.0002,  5159,    470.0,   9.3793,2,  34.7355,2,  34.7317,2,    125.6,2,   124.72,2,    27.02,2,     0.01,2,     29.7,2,    1.852,2,    1.801,2,      1.0,2,    0.532,2,   2202.4,2,   2306.6,2
  49NZ20191205,    I08N,     52,   1,      27,     -99,  2,20210405,1723, -12.0002,   80.0002,  5159,    569.7,   8.3262,2,  34.7078,2,  34.7055,2,     87.7,2,    90.68,2,    32.26,2,     0.01,2,     46.2,2,    2.241,2,    0.832,2,      0.4,2,    0.173,2,   2237.7,2,   2316.8,2
  49NZ20191205,    I08N,     52,   1,      26,     -99,  2,20210405,1723, -12.0002,   80.0002,  5159,    669.6,   7.5107,2,  34.7071,2,  34.7076,2,     83.7,2,    83.89,2,    33.99,2,     0.01,2,     57.6,2,    2.417,2,    0.456,2,      0.2,2,    0.082,2,   2254.9,6,   2330.8,2
  49NZ20191205,    I08N,     52,   1,      25,     -99,  2,20210405,1723, -12.0002,   80.0002,  5159,    770.6,   6.7618,2,  34.6867,2,  34.6849,2,     75.5,2,    74.87,2,    35.77,2,     0.01,2,     73.7,2,    2.547,2,    0.215,2,      0.1,2,    0.080,2,   2277.1,2,   2346.1,2
  49NZ20191205,    I08N,     52,   1,      24,     -99,  2,20210405,1723, -12.0002,   80.0002,  5159,    871.5,   6.1876,2,  34.6766,2,  34.6761,2,     77.2,2,    77.23,2,    36.23,2,     0.01,2,     82.8,2,    2.603,2,    0.144,2,      0.1,2,    0.007,2,   2287.1,2,   2351.6,2
  49NZ20191205,    I08N,     52,   1,      23,     -99,  2,20210405,1723, -12.0002,   80.0002,  5159,    971.0,   5.6864,2,  34.6691,2,  34.6693,2,     81.5,2,    81.07,2,    36.53,2,     0.00,2,     89.8,2,    2.622,2,    0.111,2,      0.1,2,    0.024,2,   2293.2,2,   2360.3,2
  49NZ20191205,    I08N,     52,   1,      22,     -99,  2,20210405,1723, -12.0002,   80.0002,  5159,   1127.5,   4.9817,2,  34.6678,2,  34.6683,2,     87.9,2,    87.55,2,    36.88,2,     0.01,2,     98.5,2,    2.655,2,    0.065,2,      0.0,2,    0.000,2,   2301.4,2,   2371.2,6
  49NZ20191205,    I08N,     52,   1,      21,     -99,  2,20210405,1723, -12.0002,   80.0002,  5159,   1330.2,   4.3755,2,  34.6900,2,  34.6902,2,     94.6,2,    94.62,2,    36.94,2,     0.01,2,    105.4,2,    2.665,2,    0.032,2,      0.0,2,    0.000,2,   2306.5,2,   2377.3,2
  49NZ20191205,    I08N,     52,   1,      20,     -99,  2,20210405,1723, -12.0002,   80.0002,  5159,   1529.3,   3.8160,2,  34.7229,2,  34.7228,2,    106.8,2,   106.70,2,    36.53,2,     0.00,2,    107.5,2,    2.626,2,    0.020,2,      0.0,2,    0.020,2,   2307.4,2,   2379.0,2
  49NZ20191205,    I08N,     52,   1,      19,     -99,  2,20210405,1723, -12.0002,   80.0002,  5159,   1730.0,   3.3164,2,  34.7380,2,  34.7382,2,    121.1,2,   121.30,2,    35.98,2,     0.00,2,    109.8,2,    2.566,2,    0.015,2,      0.0,2,    0.004,2,   2304.5,2,   2383.9,2
  49NZ20191205,    I08N,     52,   1,      18,     -99,  2,20210405,1723, -12.0002,   80.0002,  5159,   1928.2,   2.8556,2,  34.7415,2,  34.7422,2,    134.5,2,   134.72,2,    35.36,2,     0.00,2,    113.5,2,    2.507,2,    0.014,2,      0.0,2,    0.006,2,   2302.7,2,   2386.1,2
  49NZ20191205,    I08N,     52,   1,      17,     -99,  2,20210405,1723, -12.0002,   80.0002,  5159,   2129.9,   2.4704,2,  34.7382,2,  34.7378,2,    146.9,2,   147.05,2,    34.81,2,     0.00,2,    116.2,2,    2.450,2,    0.013,2,      0.0,2,    0.008,2,   2297.8,2,   2385.8,2
  49NZ20191205,    I08N,     52,   1,      16,     -99,  2,20210405,1723, -12.0002,   80.0002,  5159,   2332.3,   2.2182,2,  34.7358,2,  34.7360,2,    154.9,2,   155.43,2,    34.43,2,     0.01,2,    118.2,2,    2.408,2,    0.018,2,      0.0,2,    0.011,2,   2297.2,6,   2390.9,2
  49NZ20191205,    I08N,     52,   1,      15,     -99,  2,20210405,1723, -12.0002,   80.0002,  5159,   2531.2,   2.0168,2,  34.7332,2,  34.7326,2,    161.6,2,   161.98,2,    34.04,2,     0.00,2,    119.5,2,    2.376,2,    0.015,2,      0.0,2,    0.018,2,   2294.9,2,   2391.6,2
  49NZ20191205,    I08N,     52,   1,      14,     -99,  2,20210405,1723, -12.0002,   80.0002,  5159,   2729.9,   1.8721,2,  34.7307,2,  34.7298,2,    166.1,2,   166.64,2,    33.83,2,     0.00,2,    121.2,2,    2.360,2,    0.014,2,      0.0,2,    0.003,2,   2295.3,2,   2390.7,2
  49NZ20191205,    I08N,     52,   1,      13,     -99,  2,20210405,1723, -12.0002,   80.0002,  5159,   2930.7,   1.7371,2,  34.7281,2,  34.7274,2,    169.3,2,   169.64,2,    33.89,2,     0.01,2,    124.5,2,    2.353,2,    0.014,2,      0.0,2,    0.007,2,   2295.8,2,   2395.9,2
  49NZ20191205,    I08N,     52,   1,      12,     -99,  2,20210405,1723, -12.0002,   80.0002,  5159,   3170.7,   1.6121,2,  34.7255,2,  34.7252,2,    170.3,2,   170.43,2,    34.06,2,     0.01,2,    128.8,2,    2.361,2,    0.019,2,      0.0,2,    0.003,2,   2302.6,2,   2402.4,6
  49NZ20191205,    I08N,     52,   1,      11,     -99,  2,20210405,1723, -12.0002,   80.0002,  5159,   3419.9,   1.5118,2,  34.7228,2,  34.7227,2,    172.3,2,   172.71,2,    34.16,2,     0.01,2,    131.6,2,    2.358,2,    0.018,2,      0.0,2,    0.009,2,   2301.9,2,   2402.0,2
  49NZ20191205,    I08N,     52,   1,      10,     -99,  2,20210405,1723, -12.0002,   80.0002,  5159,   3670.3,   1.4098,2,  34.7203,2,  34.7209,2,    179.3,2,   179.49,2,    33.69,2,     0.01,2,    130.5,2,    2.323,2,    0.017,2,      0.0,2,    0.007,2,   2296.4,2,   2402.5,2
  49NZ20191205,    I08N,     52,   1,       9,     -99,  2,20210405,1723, -12.0002,   80.0002,  5159,   3921.2,   1.3600,2,  34.7183,2,  34.7182,2,    181.1,2,   181.46,2,    33.77,2,     0.00,2,    132.2,2,    2.320,2,    0.013,2,      0.0,2,    0.003,2,   2301.2,2,   2405.7,2
  49NZ20191205,    I08N,     52,   1,       8,     -99,  2,20210405,1723, -12.0002,   80.0002,  5159,   4168.7,   1.3556,2,  34.7176,2,  34.7176,2,    181.6,2,   181.89,2,    33.76,2,     0.00,2,    133.5,2,    2.325,2,    0.014,2,      0.0,2,    0.008,2,   2299.2,6,   2404.5,2
  49NZ20191205,    I08N,     52,   1,       7,     -99,  2,20210405,1723, -12.0002,   80.0002,  5159,   4419.9,   1.3746,2,  34.7172,2,  34.7170,2,    181.6,2,   181.75,2,    33.80,2,     0.00,2,    133.9,2,    2.318,2,    0.016,2,      0.0,2,    0.004,2,   2299.7,2,   2403.6,2
  49NZ20191205,    I08N,     52,   1,       6,     -99,  2,20210405,1723, -12.0002,   80.0002,  5159,   4668.6,   1.3976,2,  34.7171,2,  34.7167,2,    181.5,2,   181.78,2,    33.78,2,     0.00,2,    134.3,2,    2.318,2,    0.013,2,      0.0,2,    0.011,2,   2301.0,2,   2408.3,6
  49NZ20191205,    I08N,     52,   1,       5,     -99,  2,20210405,1723, -12.0002,   80.0002,  5159,   4922.1,   1.4215,2,  34.7169,2,  34.7173,2,    181.5,2,   181.73,2,    33.87,2,     0.00,2,    134.4,2,    2.318,2,    0.013,2,      0.0,2,    0.004,2,   2300.0,2,   2406.4,2
  49NZ20191205,    I08N,     52,   1,       1,     -99,  2,20210405,1723, -12.0002,   80.0002,  5159,   5230.9,   1.4517,2,  34.7169,2,  34.7171,2,    181.7,2,   181.98,2,    33.77,2,     0.01,2,    133.9,2,    2.318,2,    0.018,2,      0.0,2,    0.002,2,   2298.9,2,   2408.5,2
  49NZ20191205,    I08N,     50,   1,      36,     -99,  2,20210405,1723, -11.0000,   79.9972,  5347,     10.4,  28.1003,2,  34.6820,2,  34.6820,2,    199.6,2,   199.47,2,     0.01,2,     0.00,2,      1.9,2,    0.088,2,    1.405,2,      0.9,2,    1.531,2,   1958.7,2,   2274.6,2
  49NZ20191205,    I08N,     50,   1,      35,     -99,  2,20210405,1723, -11.0000,   79.9972,  5347,     49.8,  28.0984,2,  34.7241,2,  34.7234,2,    199.4,2,   199.45,2,     0.05,2,     0.01,2,      1.9,2,    0.092,2,    1.462,2,      0.9,2,    1.568,2,   1958.1,2,   2277.1,2
  49NZ20191205,    I08N,     50,   1,      34,     -99,  2,20210405,1723, -11.0000,   79.9972,  5347,     99.4,  28.0442,2,  34.8022,2,  34.8001,2,    198.2,2,   198.47,2,     0.03,2,     0.00,2,      1.9,2,    0.099,2,    1.453,2,      0.9,2,    1.564,2,   1958.2,2,   2281.0,2
  49NZ20191205,    I08N,     50,   1,       2,     -99,  2,20210405,1723, -11.0000,   79.9972,  5347,    119.2,  27.0191,2,  34.7799,2,  34.7992,2,    193.2,2,   188.97,2,     0.51,2,     0.06,2,      2.6,2,    0.182,2, -999.000,9,   -999.0,9, -999.000,9,   1976.3,2,   2281.7,2
  49NZ20191205,    I08N,     50,   1,      33,     -99,  2,20210405,1723, -11.0000,   79.9972,  5347,    149.7,  19.9950,2,  34.7312,2,  34.7301,2,     92.0,2,    92.42,2,    17.50,2,     0.03,2,     16.7,2,    1.203,2,    1.587,2,      1.0,2,    1.101,2,   2121.5,2,   2284.8,2
  49NZ20191205,    I08N,     50,   1,      32,     -99,  2,20210405,1723, -11.0000,   79.9972,  5347,    200.0,  16.7260,2,  35.1570,2,  35.1547,2,    134.0,2,   134.14,2,    14.09,2,     0.01,2,     17.0,2,    1.005,2,    1.661,2,      1.1,2,    1.167,2,   2134.9,2,   2317.7,2
  49NZ20191205,    I08N,     50,   1,      31,     -99,  2,20210405,1723, -11.0000,   79.9972,  5347,    251.8,  12.9809,2,  34.8753,2,  34.8533,2,     99.8,2,    94.35,2,    23.83,2,     0.00,2,     29.3,2,    1.652,2,    1.484,2,      0.9,2,    0.696,2,   2191.4,2,   2310.3,2
  49NZ20191205,    I08N,     50,   1,      30,     -99,  2,20210405,1723, -11.0000,   79.9972,  5347,    329.1,  11.1240,2,  34.8094,2,  34.8101,2,     96.2,2,    96.90,2,    26.29,2,     0.00,2,     31.5,2,    1.807,2,    1.607,2,      0.9,2,    0.595,2,   2206.2,2,   2309.7,2
  49NZ20191205,    I08N,     50,   1,      29,     -99,  2,20210405,1723, -11.0000,   79.9972,  5347,    431.0,   9.4122,2,  34.7403,2,  34.7366,2,    111.5,2,   105.09,2,    29.02,2,     0.00,2,     35.0,2,    1.966,2,    1.485,2,      0.8,2,    0.458,2,   2215.8,2,   2311.7,2
  49NZ20191205,    I08N,     50,   1,      28,     -99,  2,20210405,1723, -11.0000,   79.9972,  5347,    530.4,   8.4115,2,  34.7260,2,  34.7253,2,     80.9,2,    80.55,2,    33.11,2,     0.00,2,     48.5,2,    2.288,2,    0.656,2,      0.4,2,    0.127,2,   2244.6,2,   2322.2,2
  49NZ20191205,    I08N,     50,   1,      27,     -99,  2,20210405,1723, -11.0000,   79.9972,  5347,    631.3,   7.5760,2,  34.7066,2,  34.7071,2,     72.8,2,    72.83,2,    35.01,2,     0.00,2,     61.6,2,    2.466,2,    0.304,2,      0.2,2,    0.063,2,   2268.8,2,   2333.1,2
  49NZ20191205,    I08N,     50,   1,      26,     -99,  2,20210405,1723, -11.0000,   79.9972,  5347,    728.1,   6.8437,2,  34.6867,2,  34.6871,2,     72.8,2,    73.03,2,    35.92,2,     0.01,2,     72.8,2,    2.551,2,    0.195,2,      0.1,2,    0.038,2,   2278.4,6,   2344.4,2
  49NZ20191205,    I08N,     50,   1,      25,     -99,  2,20210405,1723, -11.0000,   79.9972,  5347,    830.9,   6.2271,2,  34.6692,2,  34.6686,2,     77.3,2,    77.57,2,    36.13,2,     0.01,2,     81.4,2,    2.581,2,    0.145,2,      0.1,2,    0.025,2,   2288.3,2,   2353.4,2
  49NZ20191205,    I08N,     50,   1,      24,     -99,  2,20210405,1723, -11.0000,   79.9972,  5347,    928.4,   5.6724,2,  34.6560,2,  34.6566,2,     81.2,2,    81.53,2,    36.49,2,     0.01,2,     89.6,2,    2.607,2,    0.107,2,      0.1,2,    0.020,2,   2294.2,2,   2361.0,2
  49NZ20191205,    I08N,     50,   1,      23,     -99,  2,20210405,1723, -11.0000,   79.9972,  5347,   1068.9,   4.9836,2,  34.6559,2,  34.6561,2,     86.9,2,    87.27,2,    36.94,2,     0.01,2,     99.1,2,    2.640,2,    0.073,2,      0.0,2,    0.010,2,   2302.3,2,   2371.5,2
  49NZ20191205,    I08N,     50,   1,      22,     -99,  2,20210405,1723, -11.0000,   79.9972,  5347,   1271.0,   4.7058,2,  34.7419,2,  34.7426,2,     89.4,2,    89.81,2,    36.96,2,     0.00,2,     98.9,2,    2.653,2,    0.029,2,      0.0,2,    0.017,2,   2307.1,2,   2374.9,6
  49NZ20191205,    I08N,     50,   1,      21,     -99,  2,20210405,1723, -11.0000,   79.9972,  5347,   1470.4,   3.9334,2,  34.7492,2,  34.7476,2,    105.8,2,   106.50,2,    36.50,2,     0.01,2,    104.5,2,    2.599,2,    0.016,2,      0.0,2,    0.004,2,   2304.0,2,   2379.8,2
  49NZ20191205,    I08N,     50,   1,      20,     -99,  2,20210405,1723, -11.0000,   79.9972,  5347,   1670.9,   3.2796,2,  34.7440,2,  34.7433,2,    121.7,2,   122.23,2,    36.06,2,     0.01,2,    109.2,2,    2.553,2,    0.010,2,      0.0,2,    0.008,2,   2303.1,2,   2384.4,2
  49NZ20191205,    I08N,     50,   1,      19,     -99,  2,20210405,1723, -11.0000,   79.9972,  5347,   1870.0,   2.8204,2,  34.7447,2,  34.7451,2,    134.4,2,   134.50,2,    35.48,2,     0.00,2,    113.3,2,    2.497,2,    0.011,2,      0.0,2,    0.004,2,   2301.3,2,   2387.7,2
  49NZ20191205,    I08N,     50,   1,      18,     -99,  2,20210405,1723, -11.0000,   79.9972,  5347,   2069.3,   2.4646,2,  34.7428,2,  34.7430,2,    144.6,2,   144.62,2,    35.03,2,     0.01,2,    116.6,2,    2.449,2,    0.012,2,      0.0,2,    0.006,2,   2299.6,2,   2392.3,2
  49NZ20191205,    I08N,     50,   1,      17,     -99,  2,20210405,1723, -11.0000,   79.9972,  5347,   2270.4,   2.2157,2,  34.7387,2,  34.7382,2,    153.1,2,   153.38,2,    34.64,2,     0.01,2,    118.5,2,    2.412,2,    0.013,2,      0.0,2,    0.004,2,   2298.3,2,   2393.5,2
  49NZ20191205,    I08N,     50,   1,      16,     -99,  2,20210405,1723, -11.0000,   79.9972,  5347,   2470.8,   2.0185,2,  34.7346,2,  34.7341,2,    159.8,2,   159.98,2,    34.35,2,     0.00,2,    120.3,2,    2.388,2,    0.012,2,      0.0,2,    0.003,2,   2296.1,1,   2392.7,2
  49NZ20191205,    I08N,     50,   1,      15,     -99,  2,20210405,1723, -11.0000,   79.9972,  5347,   2671.9,   1.8762,2,  34.7314,2,  34.7315,2,    164.9,2,   165.15,2,    34.02,2,     0.01,2,    121.4,2,    2.366,2,    0.017,2,      0.0,2,    0.007,2,   2294.7,2,   2395.7,2
  49NZ20191205,    I08N,     50,   1,      14,     -99,  2,20210405,1723, -11.0000,   79.9972,  5347,   2868.9,   1.7546,2,  34.7290,2,  34.7294,2,    167.6,2,   167.88,2,    33.99,2,     0.00,2,    123.6,2,    2.345,2,    0.016,2,      0.0,2,    0.002,2,   2295.0,2,   2398.4,2
  49NZ20191205,    I08N,     50,   1,      13,     -99,  2,20210405,1723, -11.0000,   79.9972,  5347,   3080.8,   1.6340,2,  34.7260,2,  34.7269,2,    169.5,2,   169.72,2,    34.10,2,     0.00,2,    127.0,2,    2.347,2,    0.016,2,      0.0,2,    0.005,2,   2297.1,2,   2400.6,2
  49NZ20191205,    I08N,     50,   1,      12,     -99,  2,20210405,1723, -11.0000,   79.9972,  5347,   3330.2,   1.5205,2,  34.7233,2,  34.7232,2,    171.8,2,   171.80,2,    34.04,2,     0.01,2,    130.1,2,    2.348,2,    0.013,2,      0.0,2,    0.006,2,   2299.9,2,   2405.1,6
  49NZ20191205,    I08N,     50,   1,      11,     -99,  2,20210405,1723, -11.0000,   79.9972,  5347,   3580.4,   1.4193,2,  34.7204,2,  34.7208,2,    176.1,2,   176.02,2,    34.04,2,     0.00,2,    131.3,2,    2.330,2,    0.013,2,      0.0,2,    0.006,2,   2300.2,2,   2406.0,2
  49NZ20191205,    I08N,     50,   1,      10,     -99,  2,20210405,1723, -11.0000,   79.9972,  5347,   3829.7,   1.3621,2,  34.7185,2,  34.7187,2,    179.9,2,   179.87,2,    33.86,2,     0.00,2,    131.7,2,    2.317,2,    0.012,2,      0.0,2,    0.007,2,   2301.0,2,   2405.0,2
  49NZ20191205,    I08N,     50,   1,       9,     -99,  2,20210405,1723, -11.0000,   79.9972,  5347,   4081.2,   1.3457,2,  34.7174,2,  34.7180,2,    181.5,2,   181.38,2,    33.81,2,     0.00,2,    132.4,2,    2.311,2,    0.010,2,      0.0,2,    0.007,2,   -999.0,3,   2405.4,2
  49NZ20191205,    I08N,     50,   1,       8,     -99,  2,20210405,1723, -11.0000,   79.9972,  5347,   4331.0,   1.3630,2,  34.7172,2,  34.7171,2,    181.6,2,   181.47,2,    33.84,2,     0.00,2,    133.0,2,    2.315,2,    0.013,2,      0.0,2,    0.005,2,   2297.6,6,   2409.3,2
  49NZ20191205,    I08N,     50,   1,       7,     -99,  2,20210405,1723, -11.0000,   79.9972,  5347,   4580.4,   1.3786,2,  34.7169,2,  34.7171,2,    181.7,2,   181.64,2,    33.83,2,     0.00,2,    133.1,2,    2.315,2,    0.012,2,      0.0,2,    0.002,2,   2299.2,2,   2406.1,2
  49NZ20191205,    I08N,     50,   1,       6,     -99,  2,20210405,1723, -11.0000,   79.9972,  5347,   4830.7,   1.3964,2,  34.7167,2,  34.7165,2,    182.0,2,   182.09,2,    33.72,2,     0.00,2,    133.2,2,    2.315,2,    0.014,2,      0.0,2,    0.002,2,   2297.1,2,   2407.5,6
  49NZ20191205,    I08N,     50,   1,       5,     -99,  2,20210405,1723, -11.0000,   79.9972,  5347,   5079.1,   1.4248,2,  34.7167,2,  34.7168,2,    182.1,2,   182.08,2,    33.77,2,     0.00,2,    132.9,2,    2.312,2,    0.015,2,      0.0,2,    0.000,2,   2295.3,2,   2406.9,2
  49NZ20191205,    I08N,     50,   1,       4,     -99,  2,20210405,1723, -11.0000,   79.9972,  5347,   5330.2,   1.4523,2,  34.7167,2,  34.7166,2,    182.3,2,   182.43,2,    33.81,2,     0.00,2,    132.8,2,    2.312,2,    0.013,2,      0.0,2,    0.011,2,   2296.0,2,   2405.1,2
  49NZ20191205,    I08N,     50,   1,       1,     -99,  2,20210405,1723, -11.0000,   79.9972,  5347,   5425.6,   1.4648,2,  34.7168,2,  34.7168,2,    182.3,2,   182.49,2,    33.83,2,     0.00,2,    132.9,2,    2.317,2,    0.013,2,      0.0,2,    0.004,2,   2297.6,2,   2408.4,2