BOTTLE,20212805JOAExport
EXPOCODE,SECT_ID,STNNBR,CASTNO,SAMPNO,BTLNBR,BTLNBR_FLAG_W,DATE,TIME,LATITUDE,LONGITUDE,DEPTH,CTDPRS,CTDTMP,CTDTMP_FLAG_W,CTDSAL,CTDSAL_FLAG_W,SALNTY,SALNTY_FLAG_W,CTDOXY,CTDOXY_FLAG_W,OXYGEN,OXYGEN_FLAG_W,NITRAT,NITRAT_FLAG_W,NITRIT,NITRIT_FLAG_W,SILCAT,SILCAT_FLAG_W,PHSPHT,PHSPHT_FLAG_W,CFC-11,CFC-11_FLAG_W,CFC-12,CFC-12_FLAG_W,SF6,SF6_FLAG_W,TCARBN,TCARBN_FLAG_W,ALKALI,ALKALI_FLAG_W
,,,,,,,,,,,,DB,ITS-90,,PSS-78,,PSS-78,,UMOL/KG,,UMOL/KG,,UMOL/KG,,UMOL/KG,,UMOL/KG,,UMOL/KG,,PMOL/KG,,PMOL/KG,,FMOL/KG,,UMOL/KG,,UMOL/KG
  49NZ20191205,    I08N,     48,   1,      36,     -99,  2,20210405,1723, -10.0001,   79.9996,  5383,     10.0,  27.9813,2,  34.5169,2,  34.5155,2,    201.1,2,   200.58,2,     0.01,2,     0.01,2,      1.7,2,    0.075,2,    1.479,2,      0.9,2,    1.603,2,   1964.3,2,   2269.4,2
  49NZ20191205,    I08N,     48,   1,      35,     -99,  2,20210405,1723, -10.0001,   79.9996,  5383,     50.2,  27.7748,2,  34.5121,2,  34.5118,2,    201.5,2,   201.14,2,     0.01,2,     0.01,2,      1.6,2,    0.083,2,    1.494,2,      0.9,2,    1.557,2,   1958.6,2,   2270.5,2
  49NZ20191205,    I08N,     48,   1,      34,     -99,  2,20210405,1723, -10.0001,   79.9996,  5383,    100.5,  27.6900,2,  34.7859,2,  34.7841,2,    197.5,2,   197.53,2,     0.01,2,     0.01,2,      2.0,2,    0.107,2,    1.475,2,      0.9,2,    1.555,2,   1961.4,2,   2280.5,2
  49NZ20191205,    I08N,     48,   1,       2,     -99,  2,20210405,1723, -10.0001,   79.9996,  5383,    112.3,  27.3292,2,  34.7558,2,  34.7608,2,    193.5,2,   192.83,2,     0.25,2,     0.04,2,      2.3,2,    0.147,2, -999.000,9,   -999.0,9, -999.000,9,   1967.4,2,   2281.3,2
  49NZ20191205,    I08N,     48,   1,      33,     -99,  2,20210405,1723, -10.0001,   79.9996,  5383,    149.9,  20.4643,2,  34.8108,2,  34.7919,2,     84.5,2,    84.59,2,    17.98,2,     0.04,2,     15.5,2,    1.243,2,    1.630,2,      1.0,2,    1.124,2,   2125.1,2,   2285.0,2
  49NZ20191205,    I08N,     48,   1,      32,     -99,  2,20210405,1723, -10.0001,   79.9996,  5383,    199.0,  15.7603,2,  34.6010,2,  34.6015,2,     87.5,2,    87.32,2,    22.42,2,     0.02,2,     27.4,2,    1.551,2,    1.552,2,      0.9,2,    0.898,2,   2161.3,2,   2292.6,2
  49NZ20191205,    I08N,     48,   1,      31,     -99,  2,20210405,1723, -10.0001,   79.9996,  5383,    250.6,  13.2183,2,  34.6752,2,  34.6745,2,     82.2,2,    82.33,2,    25.50,2,     0.01,2,     33.7,2,    1.780,2,    1.430,2,      0.8,2,    0.633,2,   2192.1,2,   2302.9,2
  49NZ20191205,    I08N,     48,   1,      30,     -99,  2,20210405,1723, -10.0001,   79.9996,  5383,    300.4,  11.8438,2,  34.7432,2,  34.7415,2,     80.4,2,    81.12,2,    27.29,2,     0.02,2,     35.5,2, -999.000,3,    1.399,2,      0.8,2,    0.549,2,   2209.0,2,   2308.3,2
  49NZ20191205,    I08N,     48,   1,      29,     -99,  2,20210405,1723, -10.0001,   79.9996,  5383,    400.4,  10.1639,2,  34.8085,2,  34.8043,2,    107.0,2,   106.29,2,  -999.00,4,     0.02,2,     29.3,2, -999.000,3,    1.685,2,      0.9,2,    0.571,2,   2209.7,2,   2310.4,2
  49NZ20191205,    I08N,     48,   1,      28,     -99,  2,20210405,1723, -10.0001,   79.9996,  5383,    501.0,   8.7018,2,  34.7519,2,  34.7519,2,     88.5,2,    87.11,2,  -999.00,3,     0.02,2,     43.3,2, -999.000,3,    0.895,2,      0.5,2,    0.130,2,   2238.1,2,   2319.8,2
  49NZ20191205,    I08N,     48,   1,      27,     -99,  2,20210405,1723, -10.0001,   79.9996,  5383,    600.2,   7.8288,2,  34.7485,2,  34.7454,2,     75.1,2,    74.77,2,    34.49,2,     0.01,2,     57.7,2,    2.436,2,    0.416,2,      0.2,2,    0.097,2,   2262.0,2,   2333.6,2
  49NZ20191205,    I08N,     48,   1,      26,     -99,  2,20210405,1723, -10.0001,   79.9996,  5383,    700.6,   6.9972,2,  34.7245,2,  34.7264,2,     72.1,2,    71.85,2,    35.63,2,     0.01,2,     69.8,2,    2.538,2,    0.219,2,      0.1,2,    0.022,2,   2276.6,6,   2344.8,2
  49NZ20191205,    I08N,     48,   1,      25,     -99,  2,20210405,1723, -10.0001,   79.9996,  5383,    799.6,   6.3636,2,  34.7004,2,  34.7030,2,     74.2,2,    73.99,2,    36.21,2,     0.01,2,     79.4,2,    2.597,2,    0.073,2,      0.0,2,    0.025,2,   2289.5,2,   2355.6,2
  49NZ20191205,    I08N,     48,   1,      24,     -99,  2,20210405,1723, -10.0001,   79.9996,  5383,    901.6,   5.9281,2,  34.7094,2,  34.7180,2,     76.7,2,    76.30,2,    36.68,2,     0.01,2,     85.4,2,    2.636,2,    0.102,2,      0.1,2,    0.019,2,   2292.7,2,   2361.5,2
  49NZ20191205,    I08N,     48,   1,      23,     -99,  2,20210405,1723, -10.0001,   79.9996,  5383,   1000.0,   5.5260,2,  34.7265,2,  34.7257,2,     79.4,2,    79.55,2,    36.80,2,     0.01,2,     91.0,2,    2.651,2,    0.137,2,      0.1,2,    0.028,2,   2301.6,2,   2364.9,2
  49NZ20191205,    I08N,     48,   1,      22,     -99,  2,20210405,1723, -10.0001,   79.9996,  5383,   1200.6,   4.9471,2,  34.7515,2,  34.7508,2,     85.8,2,    85.90,2,    36.94,2,     0.01,2,     96.8,2,    2.663,2,    0.035,2,      0.0,2,    0.026,2,   2304.4,2,   2374.0,6
  49NZ20191205,    I08N,     48,   1,      21,     -99,  2,20210405,1723, -10.0001,   79.9996,  5383,   1398.4,   4.3488,2,  34.7624,2,  34.7601,2,     97.5,2,    97.81,2,    36.61,2,     0.01,2,    101.4,2,    2.643,2,    0.022,2,      0.0,2,    0.011,2,   2308.7,2,   2378.1,2
  49NZ20191205,    I08N,     48,   1,      20,     -99,  2,20210405,1723, -10.0001,   79.9996,  5383,   1599.6,   3.6094,2,  34.7560,2,  34.7546,2,    113.6,2,   113.83,2,    36.15,2,     0.01,2,    107.3,2,    2.579,2,    0.012,2,      0.0,2,    0.006,2,   2308.1,2,   2385.9,2
  49NZ20191205,    I08N,     48,   1,      19,     -99,  2,20210405,1723, -10.0001,   79.9996,  5383,   1800.5,   3.0153,2,  34.7513,2,  34.7511,2,    128.0,2,   128.20,2,    35.67,2,     0.01,2,    112.8,2,    2.522,2,    0.010,2,      0.0,2,    0.007,2,   2309.1,2,   2388.8,2
  49NZ20191205,    I08N,     48,   1,      18,     -99,  2,20210405,1723, -10.0001,   79.9996,  5383,   1999.5,   2.5872,2,  34.7470,2,  34.7467,2,    139.4,2,   139.60,2,    35.30,2,     0.01,2,    117.2,2,    2.485,2,    0.012,2,      0.0,2,    0.014,2,   2305.2,2,   2393.8,2
  49NZ20191205,    I08N,     48,   1,      17,     -99,  2,20210405,1723, -10.0001,   79.9996,  5383,   2199.1,   2.2918,2,  34.7422,2,  34.7414,2,    148.5,2,   148.70,2,    34.88,2,     0.01,2,    119.7,2,    2.446,2,    0.011,2,      0.0,2,    0.000,2,   2304.7,2,   2393.2,2
  49NZ20191205,    I08N,     48,   1,      16,     -99,  2,20210405,1723, -10.0001,   79.9996,  5383,   2397.8,   2.0852,2,  34.7390,2,  34.7388,2,    154.9,2,   154.90,2,    34.55,2,     0.01,2,    121.8,2,    2.415,2,    0.012,2,      0.0,2,    0.027,2,   2303.8,6,   2398.4,2
  49NZ20191205,    I08N,     48,   1,      15,     -99,  2,20210405,1723, -10.0001,   79.9996,  5383,   2597.9,   1.9388,2,  34.7356,2,  34.7352,2,    159.2,2,   159.25,2,    34.28,2,     0.01,2,    123.6,2,    2.397,2,    0.011,2,      0.0,2,    0.001,2,   2302.8,2,   2400.4,2
  49NZ20191205,    I08N,     48,   1,      14,     -99,  2,20210405,1723, -10.0001,   79.9996,  5383,   2800.9,   1.8331,2,  34.7322,2,  34.7317,2,    162.9,2,   163.45,2,    34.10,2,     0.01,2,    124.7,2,    2.373,2,    0.011,2,      0.0,2,    0.003,2,   2299.8,2,   2400.7,2
  49NZ20191205,    I08N,     48,   1,      13,     -99,  2,20210405,1723, -10.0001,   79.9996,  5383,   2999.5,   1.7321,2,  34.7293,2,  34.7286,2,    165.9,2,   166.09,2,    34.20,2,     0.01,2,    127.0,2,    2.368,2,    0.000,2,      0.0,2,    0.001,2,   2304.9,2,   2404.5,2
  49NZ20191205,    I08N,     48,   1,      12,     -99,  2,20210405,1723, -10.0001,   79.9996,  5383,   3252.5,   1.6050,2,  34.7254,2,  34.7246,2,    169.0,2,   169.30,2,    34.17,2,     0.01,2,    129.9,2,    2.363,2,    0.011,2,      0.0,2,    0.009,2,   2302.5,2,   2407.6,6
  49NZ20191205,    I08N,     48,   1,      11,     -99,  2,20210405,1723, -10.0001,   79.9996,  5383,   3499.9,   1.4955,2,  34.7222,2,  34.7227,2,    172.3,2,   172.29,2,    34.16,2,     0.01,2,    131.8,2,    2.359,2,    0.011,2,      0.0,2,    0.020,2,   2302.6,2,   2409.0,2
  49NZ20191205,    I08N,     48,   1,      10,     -99,  2,20210405,1723, -10.0001,   79.9996,  5383,   3749.1,   1.3882,2,  34.7192,2,  34.7195,2,    178.0,2,   177.74,2,    33.89,2,     0.01,2,    132.0,2,    2.336,2,    0.012,2,      0.0,2,    0.031,2,   2298.9,2,   2409.0,2
  49NZ20191205,    I08N,     48,   1,       9,     -99,  2,20210405,1723, -10.0001,   79.9996,  5383,   3999.0,   1.3541,2,  34.7177,2,  34.7182,2,    179.5,2,   179.41,2,    33.86,2,     0.01,2,    133.3,2,    2.327,2,    0.011,2,      0.0,2,    0.017,2,   -999.0,3,   2410.3,2
  49NZ20191205,    I08N,     48,   1,       8,     -99,  2,20210405,1723, -10.0001,   79.9996,  5383,   4250.4,   1.3546,2,  34.7171,2,  34.7179,2,    181.3,2,   181.17,2,    33.85,2,     0.01,2,    133.5,2,    2.321,2,    0.014,2,      0.0,2,    0.026,2,   2298.9,6,   2409.6,2
  49NZ20191205,    I08N,     48,   1,       7,     -99,  2,20210405,1723, -10.0001,   79.9996,  5383,   4499.6,   1.3667,2,  34.7169,2,  34.7168,2,    181.9,2,   181.63,2,    33.81,2,     0.01,2,    133.3,2,    2.318,2,    0.013,2,      0.0,2,    0.000,2,   2298.0,2,   2410.2,2
  49NZ20191205,    I08N,     48,   1,       6,     -99,  2,20210405,1723, -10.0001,   79.9996,  5383,   4752.7,   1.3866,2,  34.7166,2,  34.7164,2,    182.4,2,   182.29,2,    33.80,2,     0.01,2,    132.9,2,    2.315,2,    0.013,2,      0.0,2,    0.011,2,   2296.2,2,   2408.6,6
  49NZ20191205,    I08N,     48,   1,       5,     -99,  2,20210405,1723, -10.0001,   79.9996,  5383,   5001.5,   1.4105,2,  34.7165,2,  34.7166,2,    182.8,2,   182.66,2,    33.69,2,     0.01,2,    132.9,2,    2.316,2,    0.013,2,      0.0,2,    0.031,2,   2297.7,2,   2406.3,2
  49NZ20191205,    I08N,     48,   1,       4,     -99,  2,20210405,1723, -10.0001,   79.9996,  5383,   5250.3,   1.4372,2,  34.7165,2,  34.7165,2,    183.1,2,   183.09,2,    33.69,2,     0.01,2,    132.6,2,    2.315,2,    0.012,2,      0.0,2,    0.001,2,   2296.9,2,   2407.5,2
  49NZ20191205,    I08N,     48,   1,       1,     -99,  2,20210405,1723, -10.0001,   79.9996,  5383,   5457.9,   1.4631,2,  34.7166,2,  34.7161,2,    183.0,2,   182.92,2,    33.65,2,     0.01,2,    132.4,2,    2.310,2,    0.016,2,      0.0,2,    0.001,2,   2296.2,2,   2407.4,2
  49NZ20191205,    I08N,     46,   1,      36,     -99,  2,20210405,1723,  -9.0004,   79.9991,  5207,      9.9,  27.9567,2,  34.5079,2,  34.5071,2,    200.1,2,   199.92,2,     0.04,2,     0.00,2,      1.6,2,    0.068,2,    1.381,2,      0.9,2,    1.581,2,   1962.4,2,   2266.0,2
  49NZ20191205,    I08N,     46,   1,      35,     -99,  2,20210405,1723,  -9.0004,   79.9991,  5207,     50.2,  27.8676,2,  34.5125,2,  34.5114,2,    200.4,2,   200.45,2,     0.03,2,     0.00,2,      1.6,2,    0.070,2,    1.360,2,      0.9,2,    1.601,2,   1959.5,2,   2270.3,2
  49NZ20191205,    I08N,     46,   1,      34,     -99,  2,20210405,1723,  -9.0004,   79.9991,  5207,     99.1,  26.8622,2,  34.5056,2,  34.5066,2,    195.6,2,   195.46,2,     0.08,2,     0.01,2,      2.1,2,    0.119,2,    1.339,2,      1.0,2,    1.663,2,   1967.9,2,   2265.4,2
  49NZ20191205,    I08N,     46,   1,       2,     -99,  2,20210405,1723,  -9.0004,   79.9991,  5207,    104.9,  25.9796,2,  34.6424,2,  34.6511,2,    173.8,2,   170.75,2,     1.67,2,     0.13,2,      4.3,2,    0.316,2, -999.000,9,   -999.0,9, -999.000,9,   2001.8,2,   2275.2,2
  49NZ20191205,    I08N,     46,   1,      33,     -99,  2,20210405,1723,  -9.0004,   79.9991,  5207,    149.5,  18.5534,2,  34.7020,2,  34.6910,2,     83.5,2,    86.89,2,    19.61,2,     0.02,2,     20.5,2,    1.363,2,    1.296,2,      1.0,2,    1.056,2,   2140.8,2,   2285.1,2
  49NZ20191205,    I08N,     46,   1,      32,     -99,  2,20210405,1723,  -9.0004,   79.9991,  5207,    200.1,  14.0403,2,  34.6607,2,  34.6613,2,     79.3,2,    79.70,2,    24.74,2,     0.00,2,     31.1,2,    1.734,2,    1.408,2,      0.9,2,    0.726,2,   2186.7,2,   2296.0,2
  49NZ20191205,    I08N,     46,   1,      31,     -99,  2,20210405,1723,  -9.0004,   79.9991,  5207,    250.2,  12.8595,2,  34.8176,2,  34.8207,2,     64.1,2,    64.06,2,    27.43,2,     0.00,2,     30.8,2,    1.901,2,    1.447,2,      0.8,2,    0.532,2,   2210.2,2,   2307.5,2
  49NZ20191205,    I08N,     46,   1,      30,     -99,  2,20210405,1723,  -9.0004,   79.9991,  5207,    280.1,  12.2800,2,  34.8841,2,  34.8906,2,     60.9,2,    61.67,2,    28.34,2,     0.00,2,     29.1,2,    1.945,2,    1.435,2,      0.8,2,    0.432,2,   2223.4,2,   2307.8,2
  49NZ20191205,    I08N,     46,   1,      29,     -99,  2,20210405,1723,  -9.0004,   79.9991,  5207,    371.9,  10.6699,2,  34.8794,2,  34.8749,2,    106.4,2,   106.52,2,    26.42,2,     0.00,2,     24.6,2,    1.792,2,    1.849,2,      1.0,2,    0.604,2,   2203.1,2,   2305.3,2
  49NZ20191205,    I08N,     46,   1,      28,     -99,  2,20210405,1723,  -9.0004,   79.9991,  5207,    470.4,   9.3281,2,  34.7996,2,  34.7978,2,    102.4,2,   101.05,2,    29.66,2,     0.00,2,     33.3,2,    2.027,2,    1.338,2,      0.7,2,    0.356,2,   2220.6,2,   2311.8,2
  49NZ20191205,    I08N,     46,   1,      27,     -99,  2,20210405,1723,  -9.0004,   79.9991,  5207,    570.9,   8.3617,2,  34.7884,2,  34.7886,2,     82.4,2,    81.06,2,    32.97,2,     0.01,2,     48.0,2,    2.325,2,    0.618,2,      0.3,2,    0.142,2,   2248.6,2,   2324.6,2
  49NZ20191205,    I08N,     46,   1,      26,     -99,  2,20210405,1723,  -9.0004,   79.9991,  5207,    671.3,   7.6077,2,  34.7756,2,  34.7766,2,     73.6,2,    72.59,2,    34.71,2,     0.00,2,     59.8,2,    2.484,2,    0.326,2,      0.2,2,    0.071,2,   2266.2,6,   2335.2,2
  49NZ20191205,    I08N,     46,   1,      25,     -99,  2,20210405,1723,  -9.0004,   79.9991,  5207,    768.4,   6.8665,2,  34.7609,2,  34.7611,2,     69.1,2,    69.00,2,    36.03,2,     0.01,2,     72.6,2,    2.588,2,    0.160,2,      0.1,2,    0.013,2,   2284.6,2,   2348.1,2
  49NZ20191205,    I08N,     46,   1,      24,     -99,  2,20210405,1723,  -9.0004,   79.9991,  5207,    869.9,   6.2190,2,  34.7367,2,  34.7374,2,     72.0,2,    71.89,2,    36.51,2,     0.01,2,     82.1,2,    2.636,2,    0.101,2,      0.1,2,    0.002,2,   2290.3,2,   2356.1,2
  49NZ20191205,    I08N,     46,   1,      23,     -99,  2,20210405,1723,  -9.0004,   79.9991,  5207,    969.8,   5.5998,2,  34.7261,2,  34.7275,2,     77.6,2,    78.02,2,    36.75,2,     0.00,2,     90.0,2,    2.659,2,    0.068,2,      0.0,2,    0.017,2,   2298.6,2,   2363.7,2
  49NZ20191205,    I08N,     46,   1,      22,     -99,  2,20210405,1723,  -9.0004,   79.9991,  5207,   1128.1,   5.0335,2,  34.7268,2,  34.7283,2,     82.6,2,    82.66,2,    37.00,2,     0.00,2,     98.2,2,    2.677,2,    0.035,2,      0.0,2,    0.007,2,   2306.3,2,   2371.4,6
  49NZ20191205,    I08N,     46,   1,      21,     -99,  2,20210405,1723,  -9.0004,   79.9991,  5207,   1330.2,   4.3599,2,  34.7444,2,  34.7433,2,     93.3,2,    93.46,2,    36.91,2,     0.00,2,    104.1,2,    2.665,2,    0.018,2,      0.0,2,    0.007,2,   2309.9,2,   2379.4,2
  49NZ20191205,    I08N,     46,   1,      19,     -99,  2,20210405,1723,  -9.0004,   79.9991,  5207,   1728.2,   3.1501,2,  34.7483,2,  34.7480,2,    121.2,2,   120.96,2,    36.05,2,     0.01,2,    113.8,2,    2.591,2,    0.010,2,      0.0,2,    0.007,2,   2313.1,2,   2386.7,2
  49NZ20191205,    I08N,     46,   1,      18,     -99,  2,20210405,1723,  -9.0004,   79.9991,  5207,   1930.1,   2.7123,2,  34.7480,2,  34.7479,2,    133.4,2,   133.47,2,    35.49,2,     0.01,2,    117.6,2,    2.530,2,    0.011,2,      0.0,2,    0.005,2,   2308.5,2,   2391.6,2
  49NZ20191205,    I08N,     46,   1,      17,     -99,  2,20210405,1723,  -9.0004,   79.9991,  5207,   2129.9,   2.3877,2,  34.7424,2,  34.7423,2,    143.9,2,   144.32,2,    35.05,2,     0.00,2,    120.3,2,    2.480,2,    0.016,2,      0.0,2,    0.002,2,   2303.6,2,   2393.0,2
  49NZ20191205,    I08N,     46,   1,      16,     -99,  2,20210405,1723,  -9.0004,   79.9991,  5207,   2329.7,   2.1403,2,  34.7388,2,  34.7386,2,    152.0,2,   152.28,2,    34.67,2,     0.00,2,    122.5,2,    2.438,2,    0.012,2,      0.0,2,    0.006,2,   2303.7,6,   2395.8,2
  49NZ20191205,    I08N,     46,   1,      15,     -99,  2,20210405,1723,  -9.0004,   79.9991,  5207,   2531.3,   1.9771,2,  34.7353,2,  34.7343,2,    157.6,2,   157.80,2,    34.43,2,     0.00,2,    123.9,2,    2.416,2,    0.013,2,      0.0,2,    0.006,2,   2302.0,2,   2395.6,2
  49NZ20191205,    I08N,     46,   1,      14,     -99,  2,20210405,1723,  -9.0004,   79.9991,  5207,   2730.1,   1.8407,2,  34.7324,2,  34.7315,2,    162.1,2,   162.23,2,    34.27,2,     0.00,2,    125.7,2,    2.398,2,    0.012,2,      0.0,2,    0.010,2,   2302.0,2,   2398.9,2
  49NZ20191205,    I08N,     46,   1,      13,     -99,  2,20210405,1723,  -9.0004,   79.9991,  5207,   2929.9,   1.7453,2,  34.7300,2,  34.7292,2,    164.1,2,   164.45,2,    34.22,2,     0.01,2,    127.6,2,    2.377,2,    0.010,2,      0.0,2,    0.004,2,   2305.1,2,   2402.9,2
  49NZ20191205,    I08N,     46,   1,      12,     -99,  2,20210405,1723,  -9.0004,   79.9991,  5207,   3169.2,   1.6301,2,  34.7264,2,  34.7258,2,    167.4,2,   167.59,2,    34.10,2,     0.00,2,    130.4,2,    2.374,2,    0.011,2,      0.0,2,    0.003,2,   2304.1,2,   2404.4,6
  49NZ20191205,    I08N,     46,   1,      11,     -99,  2,20210405,1723,  -9.0004,   79.9991,  5207,   3420.8,   1.5016,2,  34.7226,2,  34.7226,2,    171.5,2,   171.51,2,    34.05,2,     0.01,2,    132.4,2,    2.364,2,    0.014,2,      0.0,2,    0.018,2,   2304.3,2,   2407.1,2
  49NZ20191205,    I08N,     46,   1,      10,     -99,  2,20210405,1723,  -9.0004,   79.9991,  5207,   3669.9,   1.3926,2,  34.7193,2,  34.7193,2,    175.9,2,   176.08,2,    34.04,2,     0.00,2,    134.1,2,    2.351,2,    0.013,2,      0.0,2,    0.004,2,   2302.9,2,   2409.2,2
  49NZ20191205,    I08N,     46,   1,       9,     -99,  2,20210405,1723,  -9.0004,   79.9991,  5207,   3920.1,   1.3575,2,  34.7177,2,  34.7179,2,    178.8,2,   178.87,2,    33.88,2,     0.00,2,    134.3,2,    2.343,2,    0.010,2,      0.0,2,    0.012,2,   2303.0,2,   2408.3,2
  49NZ20191205,    I08N,     46,   1,       8,     -99,  2,20210405,1723,  -9.0004,   79.9991,  5207,   4170.8,   1.3543,2,  34.7169,2,  34.7174,2,    180.3,2,   180.32,2,    33.97,2,     0.01,2,    134.2,2,    2.333,2,    0.012,2,      0.0,2,    0.022,2,   2302.9,6,   2408.7,2
  49NZ20191205,    I08N,     46,   1,       7,     -99,  2,20210405,1723,  -9.0004,   79.9991,  5207,   4420.3,   1.3613,2,  34.7167,2,  34.7172,2,    181.5,2,   181.55,2,    33.73,2,     0.01,2,    133.7,2,    2.328,2,    0.014,2,      0.0,2,    0.008,2,   2300.4,2,   2407.8,2
  49NZ20191205,    I08N,     46,   1,       6,     -99,  2,20210405,1723,  -9.0004,   79.9991,  5207,   4669.3,   1.3788,2,  34.7164,2,  34.7164,2,    182.0,2,   181.94,2,    33.73,2,     0.01,2,    133.7,2,    2.324,2,    0.011,2,      0.0,2,    0.006,2,   2299.6,2,   2407.9,6
  49NZ20191205,    I08N,     46,   1,       5,     -99,  2,20210405,1723,  -9.0004,   79.9991,  5207,   4922.1,   1.4014,2,  34.7163,2,  34.7160,2,    182.4,2,   182.60,2,    33.72,2,     0.00,2,    133.3,2,    2.323,2,    0.015,2,      0.0,2,    0.005,2,   2298.5,2,   2404.8,2
  49NZ20191205,    I08N,     46,   1,       4,     -99,  2,20210405,1723,  -9.0004,   79.9991,  5207,   5170.1,   1.4267,2,  34.7162,2,  34.7160,2,    182.7,2,   183.04,2,    33.62,2,     0.00,2,    133.4,2,    2.321,2,    0.013,2,      0.0,2,    0.004,2,   2296.8,2,   2403.6,2
  49NZ20191205,    I08N,     46,   1,       1,     -99,  2,20210405,1723,  -9.0004,   79.9991,  5207,   5285.0,   1.4362,2,  34.7161,2,  34.7153,2,    183.0,2,   183.16,2,    33.67,2,     0.01,2,    132.9,2,    2.319,2,    0.011,2,      0.0,2,    0.015,2,   2300.6,2,   2406.3,2