BOTTLE,20212805JOAExport
EXPOCODE,SECT_ID,STNNBR,CASTNO,SAMPNO,BTLNBR,BTLNBR_FLAG_W,DATE,TIME,LATITUDE,LONGITUDE,DEPTH,CTDPRS,CTDTMP,CTDTMP_FLAG_W,CTDSAL,CTDSAL_FLAG_W,SALNTY,SALNTY_FLAG_W,CTDOXY,CTDOXY_FLAG_W,OXYGEN,OXYGEN_FLAG_W,NITRAT,NITRAT_FLAG_W,NITRIT,NITRIT_FLAG_W,SILCAT,SILCAT_FLAG_W,PHSPHT,PHSPHT_FLAG_W,CFC-11,CFC-11_FLAG_W,CFC-12,CFC-12_FLAG_W,SF6,SF6_FLAG_W,TCARBN,TCARBN_FLAG_W,ALKALI,ALKALI_FLAG_W
,,,,,,,,,,,,DB,ITS-90,,PSS-78,,PSS-78,,UMOL/KG,,UMOL/KG,,UMOL/KG,,UMOL/KG,,UMOL/KG,,UMOL/KG,,PMOL/KG,,PMOL/KG,,FMOL/KG,,UMOL/KG,,UMOL/KG
  49NZ20191205,    I08N,     56,   1,      36,     -99,  2,20210405,1723, -13.9983,   80.0025,  5024,      9.9,  28.2928,2,  34.9733,2,  34.9720,2,    199.0,2,   198.84,2,     0.06,2,     0.01,2,      1.9,2,    0.101,2,    1.449,2,      0.9,2,    1.414,2,   1963.1,2,   2293.1,2
  49NZ20191205,    I08N,     56,   1,      35,     -99,  2,20210405,1723, -13.9983,   80.0025,  5024,     50.1,  28.2815,2,  34.9719,2,  34.9718,2,    198.8,2,   199.10,2,     0.02,2,     0.01,2,      1.9,2,    0.100,2,    1.451,2,      0.9,2,    1.529,2,   1964.5,2,   2291.8,2
  49NZ20191205,    I08N,     56,   1,      34,     -99,  2,20210405,1723, -13.9983,   80.0025,  5024,    100.6,  25.1689,2,  34.8609,2,  34.8636,2,    210.6,2,   210.87,2,     0.01,2,     0.01,2,      2.1,2,    0.087,2,    1.655,2,      1.0,2,    1.640,2,   1975.0,2,   2290.3,2
  49NZ20191205,    I08N,     56,   1,      33,     -99,  2,20210405,1723, -13.9983,   80.0025,  5024,    150.8,  21.7363,2,  35.3657,2,  35.3680,2,    181.6,2,   181.06,2,     2.95,2,     0.17,2,      4.2,2,    0.309,2,    1.187,2,      0.7,2,    1.058,2,   2056.4,2,   2320.6,2
  49NZ20191205,    I08N,     56,   1,      32,     -99,  2,20210405,1723, -13.9983,   80.0025,  5024,    200.1,  19.5425,2,  35.5299,2,  35.5215,2,    170.7,2,   170.28,2,     5.95,2,     0.02,2,      6.8,2,    0.471,2,    1.971,2,      1.2,2,    1.533,2,   2091.6,2,   2332.4,2
  49NZ20191205,    I08N,     56,   1,      31,     -99,  2,20210405,1723, -13.9983,   80.0025,  5024,    249.9,  17.2408,2,  35.5303,2,  35.5182,2,    171.7,2,   171.38,2,     7.79,2,     0.01,2,      8.7,2,    0.607,2,    2.078,2,      1.3,2,    1.542,2,   2116.4,2,   2339.0,2
  49NZ20191205,    I08N,     56,   1,      30,     -99,  2,20210405,1723, -13.9983,   80.0025,  5024,    330.1,  13.5491,2,  35.2272,2,  35.2048,2,    187.4,2,   185.31,2,    11.50,2,     0.01,2,      9.7,2,    0.861,2,    2.452,2,      1.5,2,    1.554,2,   2137.3,2,   2321.4,2
  49NZ20191205,    I08N,     56,   1,      29,     -99,  2,20210405,1723, -13.9983,   80.0025,  5024,    429.7,  10.4625,2,  34.8458,2,  34.8406,2,    211.7,2,   213.05,2,    15.63,2,     0.01,2,      7.4,2,    1.101,2,    3.113,2,      1.8,2,    1.546,2,   2141.3,2,   2301.5,2
  49NZ20191205,    I08N,     56,   1,      28,     -99,  2,20210405,1723, -13.9983,   80.0025,  5024,    530.1,   9.1772,2,  34.7093,2,  34.7093,2,    160.3,2,   159.25,2,    24.02,2,     0.01,2,     21.0,2,    1.640,2,    2.318,2,      1.3,2,    0.784,2,   2180.3,2,   2304.5,2
  49NZ20191205,    I08N,     56,   1,      27,     -99,  2,20210405,1723, -13.9983,   80.0025,  5024,    630.5,   7.9918,2,  34.6527,2,  34.6532,2,    130.2,2,   129.41,2,    29.28,2,     0.01,2,     35.2,2,    2.026,2,    1.330,2,      0.7,2,    0.296,2,   2211.9,2,   2312.2,2
  49NZ20191205,    I08N,     56,   1,      26,     -99,  2,20210405,1723, -13.9983,   80.0025,  5024,    730.4,   7.0962,2,  34.6852,2,  34.6867,2,    100.8,2,    99.61,2,    33.37,2,     0.00,2,     55.3,2,    2.362,2,    0.540,2,      0.3,2,    0.115,2,   2248.9,6,   2330.4,2
  49NZ20191205,    I08N,     56,   1,      25,     -99,  2,20210405,1723, -13.9983,   80.0025,  5024,    830.8,   6.5583,2,  34.7037,2,  34.7036,2,     89.3,2,    89.07,2,    34.89,2,     0.00,2,     67.4,2,    2.475,2,    0.286,2,      0.2,2,    0.059,2,   2265.9,2,   2342.1,2
  49NZ20191205,    I08N,     56,   1,      24,     -99,  2,20210405,1723, -13.9983,   80.0025,  5024,    928.5,   6.0459,2,  34.7048,2,  34.7047,2,     86.5,2,    86.31,2,    35.81,2,     0.01,2,     76.9,2,    2.554,2,    0.161,2,      0.1,2,    0.003,2,   2279.8,2,   2353.4,2
  49NZ20191205,    I08N,     56,   1,      23,     -99,  2,20210405,1723, -13.9983,   80.0025,  5024,   1069.5,   5.2590,2,  34.6890,2,  34.6891,2,     88.9,2,    88.97,2,    36.45,2,     0.01,2,     89.8,2,    2.615,2,    0.071,2,      0.0,2,    0.002,2,   2296.5,2,   2364.9,2
  49NZ20191205,    I08N,     56,   1,      22,     -99,  2,20210405,1723, -13.9983,   80.0025,  5024,   1269.8,   4.5411,2,  34.6902,2,  34.6907,2,     98.0,2,    97.96,2,    36.46,2,     0.01,2,     97.3,2,    2.613,2,    0.033,2,      0.0,2,    0.000,2,   2299.1,2,   2373.4,6
  49NZ20191205,    I08N,     56,   1,      21,     -99,  2,20210405,1723, -13.9983,   80.0025,  5024,   1469.5,   3.8282,2,  34.6955,2,  34.6960,2,    110.3,2,   110.42,2,    36.33,2,     0.01,2,    103.7,2,    2.595,2,    0.014,2,      0.0,2,    0.004,2,   2302.1,2,   2378.2,2
  49NZ20191205,    I08N,     56,   1,      20,     -99,  2,20210405,1723, -13.9983,   80.0025,  5024,   1670.0,   3.2154,2,  34.7164,2,  34.7165,2,    124.8,2,   125.02,2,    35.73,2,     0.01,2,    108.0,2,    2.540,2,    0.010,2,      0.0,2,    0.000,2,   2300.4,2,   2382.4,2
  49NZ20191205,    I08N,     56,   1,      19,     -99,  2,20210405,1723, -13.9983,   80.0025,  5024,   1870.2,   2.8125,2,  34.7297,2,  34.7302,2,    135.6,2,   135.81,2,    35.17,2,     0.01,2,    111.7,2,    2.493,2,    0.010,2,      0.0,2,    0.000,2,   2301.8,2,   2384.5,2
  49NZ20191205,    I08N,     56,   1,      18,     -99,  2,20210405,1723, -13.9983,   80.0025,  5024,   2070.6,   2.5026,2,  34.7358,2,  34.7361,2,    145.5,2,   145.60,2,    34.73,2,     0.01,2,    114.3,2,    2.449,2,    0.011,2,      0.0,2,    0.000,2,   2298.7,2,   2387.7,2
  49NZ20191205,    I08N,     56,   1,      17,     -99,  2,20210405,1723, -13.9983,   80.0025,  5024,   2270.6,   2.2182,2,  34.7352,2,  34.7353,2,    154.7,2,   154.97,2,    34.31,2,     0.00,2,    116.8,2,    2.398,2,    0.011,2,      0.0,2,    0.006,2,   2294.8,2,   2389.9,2
  49NZ20191205,    I08N,     56,   1,      16,     -99,  2,20210405,1723, -13.9983,   80.0025,  5024,   2470.6,   2.0156,2,  34.7319,2,  34.7313,2,    162.2,2,   162.46,2,    33.93,2,     0.00,2,    118.1,2,    2.361,2,    0.015,2,      0.0,2,    0.000,2,   2292.7,6,   2390.7,2
  49NZ20191205,    I08N,     56,   1,      15,     -99,  2,20210405,1723, -13.9983,   80.0025,  5024,   2670.4,   1.8760,2,  34.7298,2,  34.7292,2,    167.0,2,   167.29,2,    33.82,2,     0.01,2,    119.8,2,    2.345,2,    0.011,2,      0.0,2,    0.006,2,   2291.8,2,   2393.7,2
  49NZ20191205,    I08N,     56,   1,      14,     -99,  2,20210405,1723, -13.9983,   80.0025,  5024,   2870.5,   1.7541,2,  34.7279,2,  34.7274,2,    170.2,2,   170.55,2,    33.51,2,     0.00,2,    121.4,2,    2.324,2,    0.011,2,      0.0,2,    0.000,2,   2292.4,2,   2391.7,2
  49NZ20191205,    I08N,     56,   1,      13,     -99,  2,20210405,1723, -13.9983,   80.0025,  5024,   3080.2,   1.6296,2,  34.7257,2,  34.7253,2,    172.2,2,   172.62,2,    33.72,2,     0.01,2,    125.1,2,    2.329,2,    0.012,2,      0.0,2,    0.007,2,   2294.4,2,   2399.2,2
  49NZ20191205,    I08N,     56,   1,      12,     -99,  2,20210405,1723, -13.9983,   80.0025,  5024,   3330.1,   1.5014,2,  34.7232,2,  34.7237,2,    176.3,2,   176.65,2,    33.64,2,     0.01,2,    127.2,2,    2.320,2,    0.010,2,      0.0,2,    0.000,2,   2295.1,2,   2403.9,6
  49NZ20191205,    I08N,     56,   1,      11,     -99,  2,20210405,1723, -13.9983,   80.0025,  5024,   3580.5,   1.4035,2,  34.7209,2,  34.7203,2,    180.7,2,   181.11,2,    33.45,2,     0.00,2,    128.1,2,    2.301,2,    0.011,2,      0.0,2,    0.000,2,   2294.6,2,   2402.9,2
  49NZ20191205,    I08N,     56,   1,      10,     -99,  2,20210405,1723, -13.9983,   80.0025,  5024,   3829.4,   1.3618,2,  34.7189,2,  34.7190,2,    181.8,2,   182.10,2,    33.45,2,     0.01,2,    130.3,2,    2.305,2,    0.011,2,      0.0,2,    0.000,2,   2295.4,2,   2404.4,2
  49NZ20191205,    I08N,     56,   1,       9,     -99,  2,20210405,1723, -13.9983,   80.0025,  5024,   4079.8,   1.3566,2,  34.7178,2,  34.7179,2,    181.9,2,   182.17,2,    33.53,2,     0.01,2,    131.5,2,    2.302,2,    0.011,2,      0.0,2,    0.009,2,   2296.3,2,   2406.4,2
  49NZ20191205,    I08N,     56,   1,       8,     -99,  2,20210405,1723, -13.9983,   80.0025,  5024,   4329.6,   1.3718,2,  34.7174,2,  34.7168,2,    181.7,2,   182.06,2,    33.58,2,     0.00,2,    132.5,2,    2.309,2,    0.014,2,      0.0,2,    0.000,2,   2299.2,6,   2409.5,2
  49NZ20191205,    I08N,     56,   1,       7,     -99,  2,20210405,1723, -13.9983,   80.0025,  5024,   4583.3,   1.3942,2,  34.7172,2,  34.7171,2,    181.5,2,   181.79,2,    33.68,2,     0.00,2,    133.2,2,    2.307,2,    0.012,2,      0.0,2,    0.006,2,   2299.7,2,   2408.0,2
  49NZ20191205,    I08N,     56,   1,       6,     -99,  2,20210405,1723, -13.9983,   80.0025,  5024,   4830.2,   1.4206,2,  34.7172,2,  34.7169,2,    181.3,2,   181.83,2,    33.64,2,     0.00,2,    133.6,2,    2.314,2,    0.011,2,      0.0,2,    0.021,2,   2298.9,2,   2407.6,6
  49NZ20191205,    I08N,     56,   1,       1,     -99,  2,20210405,1723, -13.9983,   80.0025,  5024,   5087.4,   1.4491,2,  34.7172,2,  34.7172,2,    181.2,2,   181.78,2,    33.73,2,     0.01,2,    133.8,2,    2.315,2,    0.012,2,      0.0,2,    0.022,2,   2298.4,2,   2410.7,2
  49NZ20191205,    I08N,     54,   1,      36,     -99,  2,20210405,1723, -13.0969,   80.0007,  5003,     10.0,  28.7057,2,  35.0180,2,  35.0179,2,    197.0,2,   196.51,2,     0.01,2,     0.01,2,      1.7,2,    0.103,2,    1.380,2,      0.9,2,    1.574,2,   1964.6,2,   2293.0,2
  49NZ20191205,    I08N,     54,   1,      35,     -99,  2,20210405,1723, -13.0969,   80.0007,  5003,     49.7,  28.6871,2,  35.0754,2,  35.0732,2,    196.9,2,   196.81,2,     0.01,2,     0.01,2,      1.7,2,    0.104,2,    1.371,2,      0.9,2,    1.551,2,   1964.7,2,   2296.4,2
  49NZ20191205,    I08N,     54,   1,      34,     -99,  2,20210405,1723, -13.0969,   80.0007,  5003,     99.9,  28.1443,2,  35.0612,2,  35.0498,2,    200.2,2,   200.41,2,     0.00,2,     0.00,2,      1.8,2,    0.108,2,    1.413,2,      0.9,2,    1.630,2,   1966.0,2,   2294.3,2
  49NZ20191205,    I08N,     54,   1,      33,     -99,  2,20210405,1723, -13.0969,   80.0007,  5003,    150.6,  21.6170,2,  34.7428,2,  34.7687,2,    100.1,2,    99.34,2,    15.03,2,     0.10,2,     13.2,2,    1.057,2,    1.593,2,      1.0,2,    1.256,2,   2100.4,2,   2283.2,2
  49NZ20191205,    I08N,     54,   1,      32,     -99,  2,20210405,1723, -13.0969,   80.0007,  5003,    197.7,  17.6210,2,  34.8840,2,  34.9507,2,    114.1,2,   117.78,2,    15.59,2,     0.01,2,     18.1,2,    1.093,2,    1.675,2,      1.0,2,    1.149,2,   2128.4,22,   2305.4,2
  49NZ20191205,    I08N,     54,   1,      31,     -99,  2,20210405,1723, -13.0969,   80.0007,  5003,    251.6,  15.4140,2,  35.0524,2,  35.0648,2,    120.1,2,   121.05,2,    17.03,2,     0.01,2,     21.0,2,    1.205,2,    1.652,2,      1.0,2,    0.873,2,   2154.6,2,   2315.3,2
  49NZ20191205,    I08N,     54,   1,      30,     -99,  2,20210405,1723, -13.0969,   80.0007,  5003,    299.3,  12.6197,2,  34.7716,2,  34.7707,2,     80.3,2,    80.44,2,    26.04,2,     0.01,2,     32.8,2,    1.802,2,    1.364,2,      0.8,2,    0.621,2,   2202.6,2,   2307.1,2
  49NZ20191205,    I08N,     54,   1,      29,     -99,  2,20210405,1723, -13.0969,   80.0007,  5003,    400.9,  10.7988,2,  34.8233,2,  34.8221,2,     96.2,2,    96.20,2,    26.94,2,     0.01,2,     30.6,2,    1.836,2,    1.433,2,      0.9,2,    0.589,2,   2211.6,2,   2310.5,2
  49NZ20191205,    I08N,     54,   1,      28,     -99,  2,20210405,1723, -13.0969,   80.0007,  5003,    498.1,   9.4670,2,  34.7497,2,  34.7456,2,    117.4,2,   119.51,2,    27.37,2,     0.01,2,     30.2,2,    1.859,2,    1.562,2,      0.9,2,    0.512,2,   2204.5,2,   2308.0,2
  49NZ20191205,    I08N,     54,   1,      27,     -99,  2,20210405,1723, -13.0969,   80.0007,  5003,    602.0,   8.3368,2,  34.7094,2,  34.7100,2,    109.8,2,   109.50,2,    30.54,2,     0.01,2,     39.6,2,    2.106,2,    1.078,2,      0.6,2,    0.264,2,   2224.2,2,   2317.3,2
  49NZ20191205,    I08N,     54,   1,      26,     -99,  2,20210405,1723, -13.0969,   80.0007,  5003,    701.1,   7.6587,2,  34.7291,2,  34.7300,2,     86.7,2,    86.64,2,    33.52,2,     0.01,2,     54.5,2,    2.373,2,    0.514,2,      0.3,2,    0.111,2,   2253.3,6,   2327.5,2
  49NZ20191205,    I08N,     54,   1,      25,     -99,  2,20210405,1723, -13.0969,   80.0007,  5003,    800.4,   7.0135,2,  34.7265,2,  34.7273,2,     81.3,2,    81.14,2,    35.05,2,     0.01,2,     65.4,2,    2.488,2,    0.287,2,      0.2,2,    0.066,2,   2268.2,2,   2339.0,2
  49NZ20191205,    I08N,     54,   1,      24,     -99,  2,20210405,1723, -13.0969,   80.0007,  5003,    900.3,   6.4666,2,  34.7260,2,  34.7265,2,     80.0,2,    80.06,2,    35.82,2,     0.00,2,     74.5,2,    2.557,2,    0.174,2,      0.1,2,    0.054,2,   2277.0,2,   2348.7,2
  49NZ20191205,    I08N,     54,   1,      23,     -99,  2,20210405,1723, -13.0969,   80.0007,  5003,   1000.1,   5.9953,2,  34.7202,2,  34.7190,2,     84.2,2,    84.60,2,    36.09,2,     0.00,2,     80.3,2,    2.581,2,    0.131,2,      0.1,2,    0.020,2,   2282.3,2,   2354.7,2
  49NZ20191205,    I08N,     54,   1,      22,     -99,  2,20210405,1723, -13.0969,   80.0007,  5003,   1200.3,   5.1012,2,  34.7087,2,  34.7088,2,     89.7,2,    89.96,2,    36.69,2,     0.00,2,     92.8,2,    2.626,2,    0.054,2,      0.0,2,    0.000,2,   2296.2,2,   2366.6,6
  49NZ20191205,    I08N,     54,   1,      21,     -99,  2,20210405,1723, -13.0969,   80.0007,  5003,   1399.5,   4.2505,2,  34.6955,2,  34.6960,2,    102.2,2,   102.54,2,    36.69,2,     0.00,2,    101.3,2,    2.618,2,    0.022,2,      0.0,2,    0.007,2,   2300.1,2,   2374.3,2
  49NZ20191205,    I08N,     54,   1,      20,     -99,  2,20210405,1723, -13.0969,   80.0007,  5003,   1600.4,   3.5563,2,  34.7220,2,  34.7221,2,    117.2,2,   117.06,2,    36.09,2,     0.01,2,    105.7,2,    2.565,2,    0.021,2,      0.0,2,    0.001,2,   2300.8,2,   2378.3,2
  49NZ20191205,    I08N,     54,   1,      19,     -99,  2,20210405,1723, -13.0969,   80.0007,  5003,   1800.8,   3.0096,2,  34.7295,2,  34.7301,2,    132.2,2,   132.13,2,    35.49,2,     0.00,2,    109.5,2,    2.506,2,    0.010,2,      0.0,2,    0.003,2,   2299.8,2,   2383.3,2
  49NZ20191205,    I08N,     54,   1,      18,     -99,  2,20210405,1723, -13.0969,   80.0007,  5003,   1999.7,   2.6049,2,  34.7301,2,  34.7305,2,    142.6,2,   142.49,2,    35.09,2,     0.00,2,    113.8,2,    2.468,2,    0.014,2,      0.0,2,    0.003,2,   2297.5,2,   2388.6,2
  49NZ20191205,    I08N,     54,   1,      17,     -99,  2,20210405,1723, -13.0969,   80.0007,  5003,   2200.8,   2.3238,2,  34.7347,2,  34.7341,2,    151.5,2,   151.48,2,    34.55,2,     0.00,2,    116.3,2,    2.417,2,    0.014,2,      0.0,2,    0.000,2,   2296.1,2,   2388.2,2
  49NZ20191205,    I08N,     54,   1,      16,     -99,  2,20210405,1723, -13.0969,   80.0007,  5003,   2400.8,   2.1302,2,  34.7326,2,  34.7328,2,    158.1,2,   158.24,2,    34.22,2,     0.01,2,    118.1,2,    2.383,2,    0.011,2,      0.0,2,    0.014,2,   2294.9,6,   2389.7,2
  49NZ20191205,    I08N,     54,   1,      15,     -99,  2,20210405,1723, -13.0969,   80.0007,  5003,   2600.2,   1.9481,2,  34.7308,2,  34.7308,2,    164.3,2,   164.28,2,    33.98,2,     0.01,2,    119.4,2,    2.357,2,    0.013,2,      0.0,2,    0.008,2,   2292.4,2,   2392.1,2
  49NZ20191205,    I08N,     54,   1,      14,     -99,  2,20210405,1723, -13.0969,   80.0007,  5003,   2799.6,   1.8044,2,  34.7283,2,  34.7283,2,    169.4,2,   169.45,2,    33.61,2,     0.00,2,    120.4,2,    2.321,2,    0.012,2,      0.0,2,    0.000,2,   2292.9,2,   2391.4,2
  49NZ20191205,    I08N,     54,   1,      13,     -99,  2,20210405,1723, -13.0969,   80.0007,  5003,   2999.2,   1.6907,2,  34.7269,2,  34.7277,2,    171.2,2,   171.09,2,    33.76,2,     0.00,2,   -999.0,4,    2.332,2,    0.013,2,      0.0,2,    0.003,2,   2293.7,2,   2396.3,2
  49NZ20191205,    I08N,     54,   1,      12,     -99,  2,20210405,1723, -13.0969,   80.0007,  5003,   3250.1,   1.5652,2,  34.7245,2,  34.7243,2,    173.8,2,   173.68,2,    33.84,2,     0.00,2,    127.6,2,    2.334,2,    0.010,2,      0.0,2,    0.005,2,   2299.3,2,   2401.4,6
  49NZ20191205,    I08N,     54,   1,      11,     -99,  2,20210405,1723, -13.0969,   80.0007,  5003,   3499.5,   1.4602,2,  34.7220,2,  34.7219,2,    177.6,2,   177.40,2,    33.73,2,     0.00,2,    129.2,2,    2.319,2,    0.013,2,      0.0,2,    0.003,2,   2295.1,2,   2402.4,2
  49NZ20191205,    I08N,     54,   1,      10,     -99,  2,20210405,1723, -13.0969,   80.0007,  5003,   3751.7,   1.3767,2,  34.7194,2,  34.7195,2,    181.3,2,   181.17,2,    33.64,2,     0.00,2,    130.4,2,    2.309,2,    0.011,2,      0.0,2,    0.005,2,   2295.8,2,   2403.9,2
  49NZ20191205,    I08N,     54,   1,       9,     -99,  2,20210405,1723, -13.0969,   80.0007,  5003,   3998.4,   1.3550,2,  34.7181,2,  34.7182,2,    181.9,2,   181.68,2,    33.75,2,     0.00,2,    132.0,2,    2.310,2,    0.013,2,      0.0,2,    0.026,2,   2300.6,2,   2404.1,2
  49NZ20191205,    I08N,     54,   1,       8,     -99,  2,20210405,1723, -13.0969,   80.0007,  5003,   4251.2,   1.3612,2,  34.7175,2,  34.7168,2,    181.7,2,   181.61,2,    33.75,2,     0.00,2,    133.4,2,    2.310,2,    0.013,2,      0.0,2,    0.026,2,   2298.0,6,   2407.5,2
  49NZ20191205,    I08N,     54,   1,       7,     -99,  2,20210405,1723, -13.0969,   80.0007,  5003,   4499.6,   1.3833,2,  34.7172,2,  34.7168,2,    181.6,2,   181.56,2,    33.76,2,     0.00,2,    134.0,2,    2.309,2,    0.015,2,      0.0,2,    0.000,2,   2297.8,2,   2409.4,2
  49NZ20191205,    I08N,     54,   1,       6,     -99,  2,20210405,1723, -13.0969,   80.0007,  5003,   4751.2,   1.4100,2,  34.7172,2,  34.7168,2,    181.4,2,   181.45,2,    33.69,2,     0.00,2,    134.0,2,    2.307,2,    0.011,2,      0.0,2,    0.013,2,   2297.0,2,   2408.8,6
  49NZ20191205,    I08N,     54,   1,       1,     -99,  2,20210405,1723, -13.0969,   80.0007,  5003,   5080.6,   1.4477,2,  34.7172,2,  34.7167,2,    181.3,2,   181.35,2,    33.61,2,     0.00,2,    133.6,2,    2.307,2,    0.015,2,      0.0,2,    0.000,2,   2302.1,2,   2411.0,2