BOTTLE,20212805JOAExport
EXPOCODE,SECT_ID,STNNBR,CASTNO,SAMPNO,BTLNBR,BTLNBR_FLAG_W,DATE,TIME,LATITUDE,LONGITUDE,DEPTH,CTDPRS,CTDTMP,CTDTMP_FLAG_W,CTDSAL,CTDSAL_FLAG_W,SALNTY,SALNTY_FLAG_W,CTDOXY,CTDOXY_FLAG_W,OXYGEN,OXYGEN_FLAG_W,NITRAT,NITRAT_FLAG_W,NITRIT,NITRIT_FLAG_W,SILCAT,SILCAT_FLAG_W,PHSPHT,PHSPHT_FLAG_W,CFC-11,CFC-11_FLAG_W,CFC-12,CFC-12_FLAG_W,SF6,SF6_FLAG_W,TCARBN,TCARBN_FLAG_W,ALKALI,ALKALI_FLAG_W
,,,,,,,,,,,,DB,ITS-90,,PSS-78,,PSS-78,,UMOL/KG,,UMOL/KG,,UMOL/KG,,UMOL/KG,,UMOL/KG,,UMOL/KG,,PMOL/KG,,PMOL/KG,,FMOL/KG,,UMOL/KG,,UMOL/KG
  49NZ20191205,    I08N,     36,   1,      36,     -99,  2,20210405,1723,  -4.0020,   79.9974,  4630,      9.9,  28.7149,2,  34.0426,2,  34.0445,2,    197.7,2,   197.23,2,     0.03,2,     0.00,2,      1.5,2,    0.090,2,    1.417,2,      0.9,2,    1.589,2,   1927.2,2,   2237.7,2
  49NZ20191205,    I08N,     36,   1,      35,     -99,  2,20210405,1723,  -4.0020,   79.9974,  4630,     50.0,  28.3691,2,  34.6029,2,  34.6017,2,    198.7,2,   198.57,2,     0.01,2,     0.02,2,      1.7,2,    0.194,2,    1.440,2,      0.9,2,    1.645,2,   1958.7,2,   2272.7,2
  49NZ20191205,    I08N,     36,   1,       2,     -99,  2,20210405,1723,  -4.0020,   79.9974,  4630,     75.5,  27.2579,2,  34.5653,2,  34.5671,2,    189.1,2,   188.34,2,     0.98,2,     0.04,2,      2.8,2,    0.189,2, -999.000,9,   -999.0,9, -999.000,9,   1978.7,2,   2271.5,2
  49NZ20191205,    I08N,     36,   1,      34,     -99,  2,20210405,1723,  -4.0020,   79.9974,  4630,     99.9,  19.9491,2,  34.7081,2,  34.7038,2,     97.9,2,    97.76,2,    16.73,2,     0.11,2,     16.5,2,    1.159,2,    1.630,2,      1.0,2,    1.119,2,   2116.8,2,   2285.9,2
  49NZ20191205,    I08N,     36,   1,      33,     -99,  2,20210405,1723,  -4.0020,   79.9974,  4630,    149.6,  14.3916,2,  34.9102,2,  34.9094,2,     54.9,2,    55.07,2,    26.82,2,     0.01,2,     25.6,2,    1.839,2,    1.485,2,      0.9,2, -999.000,3,   2206.9,2,   2304.6,2
  49NZ20191205,    I08N,     36,   1,      32,     -99,  2,20210405,1723,  -4.0020,   79.9974,  4630,    200.0,  12.4256,2,  35.0351,2,  35.0336,2,     80.9,2,    80.47,2,    25.88,2,     0.00,2,     21.2,2,    1.753,2,    1.803,2,      1.0,2,    0.560,2,   2210.9,2,   2311.8,2
  49NZ20191205,    I08N,     36,   1,      31,     -99,  2,20210405,1723,  -4.0020,   79.9974,  4630,    249.7,  11.5024,2,  34.9905,2,  34.9907,2,     96.3,2,    95.69,2,    25.72,2,     0.01,2,     21.1,2,    1.735,2,    1.773,2,      1.0,2,    0.627,2,   2207.2,2,   2310.1,2
  49NZ20191205,    I08N,     36,   1,      30,     -99,  2,20210405,1723,  -4.0020,   79.9974,  4630,    297.8,  10.9832,2,  34.9633,2,  34.9588,2,    102.1,2,   101.12,2,    26.33,2,     0.01,2,     22.2,2,    1.773,2,    1.805,2,      1.0,2,    0.596,2,   2212.9,2,   2311.3,2
  49NZ20191205,    I08N,     36,   1,      29,     -99,  2,20210405,1723,  -4.0020,   79.9974,  4630,    399.1,   9.9477,2,  34.9010,2,  34.9128,2,     92.6,2,    90.90,2,    29.27,2,     0.01,2,     29.2,2,    2.011,2,    1.340,2,      0.8,2,    0.382,2,   2226.0,2,   2312.9,2
  49NZ20191205,    I08N,     36,   1,      28,     -99,  2,20210405,1723,  -4.0020,   79.9974,  4630,    501.5,   9.3157,2,  34.8730,2,  34.8715,2,     82.5,2,    81.52,2,    31.39,2,     0.01,2,     36.9,2,    2.169,2,    1.001,2,      0.5,2,    0.251,2,   2238.6,2,   2318.1,2
  49NZ20191205,    I08N,     36,   1,      27,     -99,  2,20210405,1723,  -4.0020,   79.9974,  4630,    600.6,   8.4626,2,  34.8599,2,  34.8640,2,     72.7,2,    71.63,2,    33.65,2,     0.01,2,     49.2,2,    2.375,2,    0.578,2,      0.3,2,    0.139,2,   2258.5,2,   2329.9,2
  49NZ20191205,    I08N,     36,   1,      26,     -99,  2,20210405,1723,  -4.0020,   79.9974,  4630,    699.9,   7.9580,2,  34.8733,2,  34.8768,2,     63.9,2,    63.02,2,    34.89,2,     0.00,2,     58.3,2,    2.500,2,    0.345,2,      0.2,2,    0.066,2,   2273.4,6,   2339.2,2
  49NZ20191205,    I08N,     36,   1,      25,     -99,  2,20210405,1723,  -4.0020,   79.9974,  4630,    800.1,   7.2644,2,  34.8325,2,  34.8405,2,     64.8,2,    63.81,2,    35.76,2,     0.01,2,     68.2,2,    2.578,2,    0.208,2,      0.1,2,    0.069,2,   2283.3,2,   2346.9,2
  49NZ20191205,    I08N,     36,   1,      24,     -99,  2,20210405,1723,  -4.0020,   79.9974,  4630,    900.3,   7.0123,2,  34.8726,2,  34.8678,2,     60.4,2,    60.88,2,    36.33,2,     0.00,2,     74.2,2,    2.642,2,    0.140,2,      0.1,2,    0.045,2,   2294.5,2,   2355.5,2
  49NZ20191205,    I08N,     36,   1,      23,     -99,  2,20210405,1723,  -4.0020,   79.9974,  4630,   1001.0,   6.3682,2,  34.8250,2,  34.8272,2,     67.1,2,    66.44,2,    36.60,2,     0.01,2,     81.6,2,    2.664,2,    0.095,2,      0.1,2,    0.040,2,   2298.3,2,   2360.0,2
  49NZ20191205,    I08N,     36,   1,      22,     -99,  2,20210405,1723,  -4.0020,   79.9974,  4630,   1202.1,   5.3148,2,  34.8040,2,  34.8039,2,     76.5,2,    76.61,2,    37.07,2,     0.00,2,     94.1,2,    2.699,2,    0.031,2,      0.0,2,    0.006,2,   2308.2,2,   2372.5,6
  49NZ20191205,    I08N,     36,   1,      21,     -99,  2,20210405,1723,  -4.0020,   79.9974,  4630,   1399.0,   4.4024,2,  34.7954,2,  34.7957,2,     93.7,2,    93.67,2,    36.79,2,     0.01,2,    102.2,2,    2.660,2,    0.019,2,      0.0,2,    0.006,2,   2311.5,2,   2380.0,2
  49NZ20191205,    I08N,     36,   1,      20,     -99,  2,20210405,1723,  -4.0020,   79.9974,  4630,   1599.4,   3.7578,2,  34.7903,2,  34.7907,2,    104.7,2,   104.69,2,    36.60,2,     0.01,2,    109.5,2,    2.637,2,    0.014,2,      0.0,2,    0.012,2,   2315.2,2,   2389.4,2
  49NZ20191205,    I08N,     36,   1,      19,     -99,  2,20210405,1723,  -4.0020,   79.9974,  4630,   1800.4,   3.1932,2,  34.7779,2,  34.7783,2,    118.1,2,   118.11,2,    36.14,2,     0.00,2,    115.1,2,    2.588,2,    0.015,2,      0.0,2,    0.010,2,   2316.3,2,   2396.7,2
  49NZ20191205,    I08N,     36,   1,      18,     -99,  2,20210405,1723,  -4.0020,   79.9974,  4630,   1998.0,   2.7745,2,  34.7694,2,  34.7696,2,    128.6,2,   128.68,2,    35.77,2,     0.00,2,    120.5,2,    2.547,2,    0.013,2,      0.0,2,    0.005,2,   2313.9,2,   2396.6,2
  49NZ20191205,    I08N,     36,   1,      17,     -99,  2,20210405,1723,  -4.0020,   79.9974,  4630,   2199.8,   2.4826,2,  34.7575,2,  34.7576,2,    138.1,2,   138.46,2,    35.35,2,     0.01,2,    123.1,2,    2.502,2,    0.013,2,      0.0,2,    0.020,2,   2314.3,2,   2399.7,2
  49NZ20191205,    I08N,     36,   1,      16,     -99,  2,20210405,1723,  -4.0020,   79.9974,  4630,   2400.7,   2.1538,2,  34.7460,2,  34.7462,2,    147.9,2,   148.23,2,    34.95,2,     0.00,2,    125.7,2,    2.448,2,    0.013,2,      0.0,2,    0.003,2,   2311.3,6,   2404.0,2
  49NZ20191205,    I08N,     36,   1,      15,     -99,  2,20210405,1723,  -4.0020,   79.9974,  4630,   2600.3,   1.9800,2,  34.7401,2,  34.7396,2,    153.4,2,   153.54,2,    34.75,2,     0.01,2,    127.3,2,    2.429,2,    0.014,2,      0.0,2,    0.003,2,   2309.1,2,   2406.7,2
  49NZ20191205,    I08N,     36,   1,      14,     -99,  2,20210405,1723,  -4.0020,   79.9974,  4630,   2800.5,   1.8677,2,  34.7358,2,  34.7353,2,    157.4,2,   157.40,2,    34.56,2,     0.01,2,    129.0,2,    2.417,2,    0.018,2,      0.0,2,    0.015,2,   2312.1,2,   2406.4,2
  49NZ20191205,    I08N,     36,   1,      13,     -99,  2,20210405,1723,  -4.0020,   79.9974,  4630,   3000.5,   1.7572,2,  34.7319,2,  34.7319,2,    159.9,2,   159.79,2,    34.64,2,     0.02,2,    131.8,2,    2.408,2,    0.010,2,      0.0,2,    0.019,2,   2310.3,2,   2408.0,2
  49NZ20191205,    I08N,     36,   1,      12,     -99,  2,20210405,1723,  -4.0020,   79.9974,  4630,   3250.3,   1.6218,2,  34.7272,2,  34.7270,2,    163.5,2,   163.72,2,    34.57,2,     0.01,2,    134.3,2,    2.399,2,    0.017,2,      0.0,2,    0.011,2,   -999.0,3,   2411.9,6
  49NZ20191205,    I08N,     36,   1,      11,     -99,  2,20210405,1723,  -4.0020,   79.9974,  4630,   3499.5,   1.5000,2,  34.7228,2,  34.7232,2,    166.9,2,   166.84,2,    34.43,2,     0.02,2,    136.7,2,    2.385,2,    0.013,2,      0.0,2,    0.024,2,   2312.4,2,   2416.1,2
  49NZ20191205,    I08N,     36,   1,      10,     -99,  2,20210405,1723,  -4.0020,   79.9974,  4630,   3750.6,   1.4282,2,  34.7201,2,  34.7201,2,    170.7,2,   170.74,2,    34.31,2,     0.00,2,    137.0,2,    2.370,2,    0.013,2,      0.0,2,    0.001,2,   2313.0,2,   2418.3,2
  49NZ20191205,    I08N,     36,   1,       9,     -99,  2,20210405,1723,  -4.0020,   79.9974,  4630,   3999.5,   1.3998,2,  34.7187,2,  34.7190,2,    174.1,2,   174.09,2,    34.11,2,     0.01,2,    136.3,2,    2.352,2,    0.015,2,      0.0,2,    0.019,2,   2309.0,2,   2417.2,2
  49NZ20191205,    I08N,     36,   1,       8,     -99,  2,20210405,1723,  -4.0020,   79.9974,  4630,   4249.8,   1.3847,2,  34.7175,2,  34.7188,2,    177.6,2,   177.78,2,    33.77,2,     0.01,2,    135.1,2,    2.344,2,    0.015,2,      0.0,2,    0.011,2,   2305.1,6,   2411.7,2
  49NZ20191205,    I08N,     36,   1,       7,     -99,  2,20210405,1723,  -4.0020,   79.9974,  4630,   4499.5,   1.3821,2,  34.7166,2,  34.7172,2,    179.6,2,   179.81,2,    33.79,2,     0.01,2,    134.6,2,    2.333,2,    0.016,2,      0.0,2,    0.016,2,   2303.3,2,   2409.7,2
  49NZ20191205,    I08N,     36,   1,       1,     -99,  2,20210405,1723,  -4.0020,   79.9974,  4630,   4686.3,   1.3990,2,  34.7167,2,  34.7173,2,    180.0,2,   180.35,2,    33.86,2,     0.01,2,    134.4,2,    2.317,2,    0.017,2,      0.0,2,    0.074,2,   2300.9,2,   2410.6,2
  49NZ20191205,    I08N,     34,   1,      36,     -99,  2,20210405,1723,  -2.9993,   79.9978,  4967,      9.8,  28.8325,2,  33.9912,2,  33.9912,2,    197.4,2,   196.82,2,     0.02,2,     0.00,2,      1.6,2,    0.101,2,    1.360,2,      0.9,2,    1.490,2,   1927.8,2,   2238.5,2
  49NZ20191205,    I08N,     34,   1,      35,     -99,  2,20210405,1723,  -2.9993,   79.9978,  4967,     50.1,  28.6350,2,  34.1581,2,  34.1318,2,    197.7,2,   197.10,2,     0.01,2,     0.01,2,      1.6,2,    0.101,2,    1.366,2,      0.9,2,    1.526,2,   1930.8,2,   2244.2,2
  49NZ20191205,    I08N,     34,   1,       2,     -99,  2,20210405,1723,  -2.9993,   79.9978,  4967,     72.9,  26.9116,2,  34.6659,2,  34.6668,2,    175.0,2,   176.42,2,     1.60,2,     0.40,2,      2.8,2,    0.315,2, -999.000,9,   -999.0,9, -999.000,9,   1995.0,2,   2273.0,2
  49NZ20191205,    I08N,     34,   1,      34,     -99,  2,20210405,1723,  -2.9993,   79.9978,  4967,     99.7,  18.8168,2,  35.0667,2,  35.0590,2,     60.6,2,    60.70,2,    22.09,2,     0.08,2,     16.4,2,    1.511,2,    1.617,2,      1.0,2,    0.943,2,   2166.0,2,   2297.2,2
  49NZ20191205,    I08N,     34,   1,      33,     -99,  2,20210405,1723,  -2.9993,   79.9978,  4967,    150.2,  14.5427,2,  34.9737,2,  34.9880,2,     57.2,2,    59.47,2,    26.37,2,     0.01,2,     23.4,2,    1.794,2,    1.611,2,      0.9,2,    0.654,2,   2205.7,2,   2301.1,2
  49NZ20191205,    I08N,     34,   1,      32,     -99,  2,20210405,1723,  -2.9993,   79.9978,  4967,    198.6,  12.5710,2,  35.0506,2,  35.0506,2,     83.2,2,    83.10,2,    25.49,2,     0.01,2,     20.4,2,    1.721,2,    1.809,2,      1.0,2,    0.628,2,   2208.7,2,   2308.4,2
  49NZ20191205,    I08N,     34,   1,      31,     -99,  2,20210405,1723,  -2.9993,   79.9978,  4967,    252.1,  11.7348,2,  35.0211,2,  35.0213,2,    101.7,2,   101.04,2,    24.98,2,     0.01,2,     19.9,2,    1.684,2,    1.937,2,      1.1,2,    0.667,2,   2200.5,2,   2305.8,2
  49NZ20191205,    I08N,     34,   1,      30,     -99,  2,20210405,1723,  -2.9993,   79.9978,  4967,    280.6,  11.3797,2,  34.9952,2,  34.9933,2,     95.9,2,    95.51,2,    26.22,2,     0.01,2,     21.3,2,    1.756,2,    1.819,2,      1.0,2,    0.637,2,   2207.7,2,   2304.8,2
  49NZ20191205,    I08N,     34,   1,      29,     -99,  2,20210405,1723,  -2.9993,   79.9978,  4967,    370.2,  10.3315,2,  34.9336,2,  34.9338,2,     91.0,2,    90.54,2,    28.69,2,     0.01,2,     26.7,2,    1.941,2,    1.480,2,      0.8,2,    0.388,2,   2219.8,2,   2305.7,2
  49NZ20191205,    I08N,     34,   1,      28,     -99,  2,20210405,1723,  -2.9993,   79.9978,  4967,    470.5,   9.7452,2,  34.9213,2,  34.9211,2,     82.3,2,    81.61,2,    30.63,2,     0.01,2,     33.4,2,    2.124,2,    1.089,2,      0.6,2,    0.223,2,   2235.4,2,   2311.4,2
  49NZ20191205,    I08N,     34,   1,      27,     -99,  2,20210405,1723,  -2.9993,   79.9978,  4967,    569.7,   9.2620,2,  34.9311,2,  34.9310,2,     68.4,2,    68.15,2,    32.68,2,     0.01,2,     40.9,2,    2.303,2,    0.690,2,      0.4,2,    0.139,2,   2247.5,2,   2318.2,2
  49NZ20191205,    I08N,     34,   1,      26,     -99,  2,20210405,1723,  -2.9993,   79.9978,  4967,    667.9,   8.5733,2,  34.9323,2,  34.9274,2,     57.9,2,    58.10,2,    34.64,2,     0.01,2,     52.2,2,    2.478,2,    0.355,2,      0.2,2,    0.055,2,   2265.9,6,   2332.3,2
  49NZ20191205,    I08N,     34,   1,      25,     -99,  2,20210405,1723,  -2.9993,   79.9978,  4967,    770.0,   7.8241,2,  34.9280,2,  34.9286,2,     52.2,2,    52.09,2,    36.06,2,     0.01,2,     64.2,2,    2.610,2,    0.162,2,      0.1,2,    0.017,2,   2283.3,2,   2342.0,2
  49NZ20191205,    I08N,     34,   1,      24,     -99,  2,20210405,1723,  -2.9993,   79.9978,  4967,    867.7,   7.2142,2,  34.9097,2,  34.9098,2,     53.4,2,    53.52,2,    36.64,2,     0.00,2,     72.7,2,    2.670,2,    0.093,2,      0.1,2,    0.001,2,   2290.7,2,   2348.3,2
  49NZ20191205,    I08N,     34,   1,      23,     -99,  2,20210405,1723,  -2.9993,   79.9978,  4967,    968.3,   6.4371,2,  34.8674,2,  34.8669,2,     61.3,2,    61.48,2,    37.01,2,     0.00,2,     81.3,2,    2.686,2,    0.063,2,      0.0,2,    0.009,2,   2297.8,2,   2358.5,2
  49NZ20191205,    I08N,     34,   1,      22,     -99,  2,20210405,1723,  -2.9993,   79.9978,  4967,   1129.1,   5.6558,2,  34.8453,2,  34.8449,2,     69.6,2,    69.92,2,    37.35,2,     0.01,2,     90.7,2,    2.709,2,    0.024,2,      0.0,2,    0.013,2,   -999.0,3,   2364.9,6
  49NZ20191205,    I08N,     34,   1,      21,     -99,  2,20210405,1723,  -2.9993,   79.9978,  4967,   1330.3,   4.8156,2,  34.8203,2,  34.8207,2,     85.0,2,    85.04,2,    37.02,2,     0.01,2,     98.1,2,    2.681,2,    0.020,2,      0.0,2,    0.004,2,   2308.8,2,   2373.3,2
  49NZ20191205,    I08N,     34,   1,      20,     -99,  2,20210405,1723,  -2.9993,   79.9978,  4967,   1531.2,   4.0457,2,  34.8026,2,  34.8027,2,    100.8,2,   100.77,2,    36.50,2,     0.01,2,    104.9,2,    2.631,2,    0.020,2,      0.0,2,    0.000,2,   2309.6,2,   2377.8,2
  49NZ20191205,    I08N,     34,   1,      19,     -99,  2,20210405,1723,  -2.9993,   79.9978,  4967,   1730.7,   3.4526,2,  34.7884,2,  34.7885,2,    112.4,2,   112.34,2,    36.42,2,     0.01,2,    111.7,2,    2.615,2,    0.016,2,      0.0,2,    0.004,2,   2312.1,2,   2386.5,2
  49NZ20191205,    I08N,     34,   1,      18,     -99,  2,20210405,1723,  -2.9993,   79.9978,  4967,   1930.2,   2.9413,2,  34.7757,2,  34.7754,2,    124.8,2,   124.65,2,    35.93,2,     0.00,2,    117.5,2,    2.558,2,    0.018,2,      0.0,2,    0.001,2,   2311.9,2,   2391.2,2
  49NZ20191205,    I08N,     34,   1,      17,     -99,  2,20210405,1723,  -2.9993,   79.9978,  4967,   2131.0,   2.5293,2,  34.7615,2,  34.7616,2,    135.9,2,   135.66,2,    35.41,2,     0.00,2,    122.2,2,    2.515,2,    0.015,2,      0.0,2,    0.003,2,   2312.0,2,   2398.8,2
  49NZ20191205,    I08N,     34,   1,      16,     -99,  2,20210405,1723,  -2.9993,   79.9978,  4967,   2330.6,   2.2643,2,  34.7513,2,  34.7513,2,    143.8,2,   143.46,2,    35.22,2,     0.00,2,    124.8,2,    2.485,2,    0.013,2,      0.0,2,    0.006,2,   2309.9,6,   2399.4,2
  49NZ20191205,    I08N,     34,   1,      15,     -99,  2,20210405,1723,  -2.9993,   79.9978,  4967,   2530.2,   2.0549,2,  34.7430,2,  34.7429,2,    151.2,2,   150.84,2,    34.71,2,     0.01,2,    126.1,2,    2.440,2,    0.009,2,      0.0,2,    0.001,2,   2308.1,2,   2401.7,2
  49NZ20191205,    I08N,     34,   1,      14,     -99,  2,20210405,1723,  -2.9993,   79.9978,  4967,   2730.2,   1.8806,2,  34.7370,2,  34.7373,2,    156.0,2,   155.82,2,    34.68,2,     0.01,2,    128.4,2,    2.429,2,    0.013,2,      0.0,2,    0.002,2,   2311.4,2,   2404.7,2
  49NZ20191205,    I08N,     34,   1,      13,     -99,  2,20210405,1723,  -2.9993,   79.9978,  4967,   2929.4,   1.7212,2,  34.7313,2,  34.7316,2,    160.4,2,   160.24,2,    34.62,2,     0.01,2,    130.9,2,    2.407,2,    0.015,2,      0.0,2,    0.010,2,   2310.0,2,   2408.1,2
  49NZ20191205,    I08N,     34,   1,      12,     -99,  2,20210405,1723,  -2.9993,   79.9978,  4967,   3169.7,   1.6101,2,  34.7271,2,  34.7274,2,    162.9,2,   162.72,2,    34.55,2,     0.01,2,    133.9,2,    2.401,2,    0.020,2,      0.0,2,    0.018,2,   2312.2,2,   2411.6,6
  49NZ20191205,    I08N,     34,   1,      11,     -99,  2,20210405,1723,  -2.9993,   79.9978,  4967,   3420.7,   1.5192,2,  34.7237,2,  34.7241,2,    166.3,2,   166.04,2,    34.43,2,     0.00,2,    135.1,2,    2.381,2,    0.013,2,      0.0,2,    0.004,2,   -999.0,3,   2410.3,2
  49NZ20191205,    I08N,     34,   1,      10,     -99,  2,20210405,1723,  -2.9993,   79.9978,  4967,   3669.7,   1.4251,2,  34.7203,2,  34.7198,2,    170.4,2,   170.14,2,    34.26,2,     0.01,2,    136.0,2,    2.365,2,    0.013,2,      0.0,2,    0.008,2,   2312.7,2,   -999.0,3
  49NZ20191205,    I08N,     34,   1,       9,     -99,  2,20210405,1723,  -2.9993,   79.9978,  4967,   3920.1,   1.3947,2,  34.7189,2,  34.7185,2,    173.4,2,   173.22,2,    34.33,2,     0.01,2,    136.1,2,    2.364,2,    0.014,2,      0.0,2,    0.011,2,   2310.4,2,   2414.0,2
  49NZ20191205,    I08N,     34,   1,       8,     -99,  2,20210405,1723,  -2.9993,   79.9978,  4967,   4169.1,   1.3974,2,  34.7181,2,  34.7181,2,    175.3,2,   175.12,2,    34.03,2,     0.00,2,    135.8,2,    2.356,2,    0.016,2,      0.0,2,    0.020,2,   2308.8,6,   2420.1,2
  49NZ20191205,    I08N,     34,   1,       7,     -99,  2,20210405,1723,  -2.9993,   79.9978,  4967,   4420.2,   1.4058,2,  34.7176,2,  34.7179,2,    177.3,2,   177.16,2,    33.92,2,     0.01,2,    134.6,2,    2.339,2,    0.013,2,      0.0,2,    0.009,2,   2305.3,2,   2416.3,2
  49NZ20191205,    I08N,     34,   1,       6,     -99,  2,20210405,1723,  -2.9993,   79.9978,  4967,   4663.3,   1.4127,2,  34.7173,2,  34.7172,2,    179.1,2,   178.99,2,    33.95,2,     0.01,2,    133.8,2,    2.338,2,    0.015,2,      0.0,2,    0.000,2,   2304.0,2,   2412.1,6
  49NZ20191205,    I08N,     34,   1,       5,     -99,  2,20210405,1723,  -2.9993,   79.9978,  4967,   4919.9,   1.4261,2,  34.7167,2,  34.7165,2,    180.0,2,   179.96,2,    33.87,2,     0.01,2,    133.8,2,    2.335,2,    0.013,2,      0.0,2,    0.003,2,   2305.6,2,   2406.5,2
  49NZ20191205,    I08N,     34,   1,       1,     -99,  2,20210405,1723,  -2.9993,   79.9978,  4967,   5030.1,   1.4274,2,  34.7164,2,  34.7168,2,    180.7,2,   180.78,2,    33.74,2,     0.01,2,    133.4,2,    2.329,2,    0.019,2,      0.0,2,    0.000,2,   2302.8,2,   2405.8,2