BOTTLE,20212805JOAExport
EXPOCODE,SECT_ID,STNNBR,CASTNO,SAMPNO,BTLNBR,BTLNBR_FLAG_W,DATE,TIME,LATITUDE,LONGITUDE,DEPTH,CTDPRS,CTDTMP,CTDTMP_FLAG_W,CTDSAL,CTDSAL_FLAG_W,SALNTY,SALNTY_FLAG_W,CTDOXY,CTDOXY_FLAG_W,OXYGEN,OXYGEN_FLAG_W,NITRAT,NITRAT_FLAG_W,NITRIT,NITRIT_FLAG_W,SILCAT,SILCAT_FLAG_W,PHSPHT,PHSPHT_FLAG_W,CFC-11,CFC-11_FLAG_W,CFC-12,CFC-12_FLAG_W,SF6,SF6_FLAG_W,TCARBN,TCARBN_FLAG_W,ALKALI,ALKALI_FLAG_W
,,,,,,,,,,,,DB,ITS-90,,PSS-78,,PSS-78,,UMOL/KG,,UMOL/KG,,UMOL/KG,,UMOL/KG,,UMOL/KG,,UMOL/KG,,PMOL/KG,,PMOL/KG,,FMOL/KG,,UMOL/KG,,UMOL/KG
  49NZ20191205,    I08N,     40,   1,      36,     -99,  2,20210405,1723,  -5.9998,   79.9996,  5202,     10.1,  28.0568,2,  34.4746,2,  34.4744,2,    199.8,2,   199.96,2,     0.03,2,     0.00,2,      1.6,2,    0.090,2,    1.472,2,      0.9,2,    1.578,2,   1957.8,2,   2263.0,2
  49NZ20191205,    I08N,     40,   1,      35,     -99,  2,20210405,1723,  -5.9998,   79.9996,  5202,     50.5,  28.0148,2,  34.5375,2,  34.5362,2,    199.6,2,   199.92,2,     0.02,2,     0.00,2,      1.6,2,    0.090,2,    1.464,2,      0.9,2,    1.533,2,   1958.8,2,   2267.6,2
  49NZ20191205,    I08N,     40,   1,       2,     -99,  2,20210405,1723,  -5.9998,   79.9996,  5202,     82.1,  24.0253,2,  34.5142,2,  34.5382,2,    147.9,2,   154.60,2,     4.95,2,     0.26,2,      6.4,2,    0.489,2, -999.000,9,   -999.0,9, -999.000,9,   2023.6,2,   2269.0,2
  49NZ20191205,    I08N,     40,   1,      34,     -99,  2,20210405,1723,  -5.9998,   79.9996,  5202,    100.9,  20.8145,2,  34.7628,2,  34.7513,2,     96.2,2,   101.00,2,    15.00,2,     0.34,2,     13.6,2,    1.075,2,    1.625,2,      1.0,2,    1.248,2,   2104.1,2,   2280.2,2
  49NZ20191205,    I08N,     40,   1,      33,     -99,  2,20210405,1723,  -5.9998,   79.9996,  5202,    149.7,  15.1218,2,  34.7191,2,  34.7197,2,     74.8,2,    74.70,2,    24.05,2,     0.01,2,     27.6,2,    1.665,2,    1.550,2,      0.9,2,    0.813,2,   2178.7,2,   2293.8,2
  49NZ20191205,    I08N,     40,   1,      32,     -99,  2,20210405,1723,  -5.9998,   79.9996,  5202,    199.5,  12.9681,2,  34.8657,2,  34.8650,2,     61.2,2,    61.41,2,    27.64,2,     0.01,2,     29.1,2,    1.908,2,    1.478,2,      0.8,2,    0.528,2,   2214.8,2,   2302.1,2
  49NZ20191205,    I08N,     40,   1,      31,     -99,  2,20210405,1723,  -5.9998,   79.9996,  5202,    249.5,  12.1755,2,  34.9711,2,  34.9728,2,     60.5,2,    61.14,2,    28.38,2,     0.01,2,     25.3,2,    1.922,2,    1.537,2,      0.8,2,    0.453,2,   2223.2,2,   2307.1,2
  49NZ20191205,    I08N,     40,   1,      30,     -99,  2,20210405,1723,  -5.9998,   79.9996,  5202,    278.2,  11.5272,2,  34.9661,2,  34.9649,2,     69.1,2,    69.21,2,    28.64,2,     0.01,2,     24.7,2,    1.914,2,    1.543,2,      0.8,2,    0.379,2,   2221.3,2,   2308.2,2
  49NZ20191205,    I08N,     40,   1,      29,     -99,  2,20210405,1723,  -5.9998,   79.9996,  5202,    369.7,  10.3848,2,  34.8997,2,  34.8990,2,     86.6,2,    86.74,2,    29.14,2,     0.00,2,     26.6,2,    1.938,2,    1.507,2,      0.8,2,    0.467,2,   2217.9,2,   2308.7,2
  49NZ20191205,    I08N,     40,   1,      28,     -99,  2,20210405,1723,  -5.9998,   79.9996,  5202,    469.5,   9.5082,2,  34.8687,2,  34.8670,2,     86.3,2,    85.81,2,    30.78,2,     0.00,2,     34.3,2,    2.112,2,    1.133,2,      0.6,2,    0.260,2,   2230.8,2,   2310.2,2
  49NZ20191205,    I08N,     40,   1,      27,     -99,  2,20210405,1723,  -5.9998,   79.9996,  5202,    570.4,   8.7821,2,  34.8510,2,  34.8504,2,     77.2,2,    76.45,2,    32.75,2,     0.01,2,     44.2,2,    2.302,2,    0.719,2,      0.4,2,    0.172,2,   2246.7,2,   2321.5,2
  49NZ20191205,    I08N,     40,   1,      26,     -99,  2,20210405,1723,  -5.9998,   79.9996,  5202,    670.0,   8.0806,2,  34.8354,2,  34.8347,2,     70.8,2,    70.65,2,    34.30,2,     0.00,2,     54.9,2,    2.440,2,    0.441,2,      0.2,2,    0.146,2,   2261.1,6,   2328.3,2
  49NZ20191205,    I08N,     40,   1,      25,     -99,  2,20210405,1723,  -5.9998,   79.9996,  5202,    770.7,   7.4227,2,  34.8324,2,  34.8335,2,     66.6,2,    66.48,2,    35.49,2,     0.01,2,     65.4,2,    2.556,2,    0.251,2,      0.1,2,    0.056,2,   2277.2,2,   2342.6,2
  49NZ20191205,    I08N,     40,   1,      24,     -99,  2,20210405,1723,  -5.9998,   79.9996,  5202,    867.6,   6.7568,2,  34.8060,2,  34.8052,2,     61.7,2,    62.13,2,    36.82,2,     0.00,2,     77.1,2,    2.661,2,    0.083,2,      0.0,2,    0.009,2,   2295.3,2,   2354.2,2
  49NZ20191205,    I08N,     40,   1,      23,     -99,  2,20210405,1723,  -5.9998,   79.9996,  5202,    968.9,   6.2877,2,  34.8187,2,  34.8165,2,     67.2,2,    67.91,2,    36.90,2,     0.00,2,     82.9,2,    2.671,2,    0.082,2,      0.0,2,    0.006,2,   2297.0,2,   2360.5,2
  49NZ20191205,    I08N,     40,   1,      22,     -99,  2,20210405,1723,  -5.9998,   79.9996,  5202,   1131.9,   5.3340,2,  34.7669,2,  34.7680,2,     78.6,2,    78.85,2,    37.06,2,     0.00,2,     93.8,2,    2.684,2,    0.045,2,      0.0,2,    0.000,2,   2303.9,2,   2370.1,6
  49NZ20191205,    I08N,     40,   1,      21,     -99,  2,20210405,1723,  -5.9998,   79.9996,  5202,   1329.6,   4.5521,2,  34.7827,2,  34.7828,2,     90.4,2,    90.44,2,    36.94,2,     0.00,2,    100.9,2,    2.671,2,    0.020,2,      0.0,2,    0.022,2,   2311.8,2,   2378.4,2
  49NZ20191205,    I08N,     40,   1,      20,     -99,  2,20210405,1723,  -5.9998,   79.9996,  5202,   1529.0,   3.8721,2,  34.7781,2,  34.7786,2,    105.6,2,   105.38,2,    36.51,2,     0.01,2,    106.5,2,    2.627,2,    0.021,2,      0.0,2,    0.015,2,   2308.4,2,   2383.3,2
  49NZ20191205,    I08N,     40,   1,      19,     -99,  2,20210405,1723,  -5.9998,   79.9996,  5202,   1730.8,   3.2829,2,  34.7698,2,  34.7703,2,    118.4,2,   118.06,2,    36.14,2,     0.00,2,    112.7,2,    2.582,2,    0.017,2,      0.0,2,    0.003,2,   2309.7,2,   2391.0,2
  49NZ20191205,    I08N,     40,   1,      18,     -99,  2,20210405,1723,  -5.9998,   79.9996,  5202,   1930.9,   2.8316,2,  34.7609,2,  34.7609,2,    130.3,2,   129.92,2,    35.76,2,     0.01,2,    117.5,2,    2.543,2,    0.014,2,      0.0,2,    0.001,2,   2309.8,2,   2394.6,2
  49NZ20191205,    I08N,     40,   1,      17,     -99,  2,20210405,1723,  -5.9998,   79.9996,  5202,   2129.7,   2.4820,2,  34.7525,2,  34.7525,2,    139.9,2,   140.17,2,    35.29,2,     0.01,2,    120.8,2,    2.494,2,    0.017,2,      0.0,2,    0.012,2,   2307.6,2,   2396.7,2
  49NZ20191205,    I08N,     40,   1,      16,     -99,  2,20210405,1723,  -5.9998,   79.9996,  5202,   2330.2,   2.1920,2,  34.7439,2,  34.7438,2,    149.2,2,   149.34,2,    34.91,2,     0.01,2,    123.4,2,    2.451,2,    0.016,2,      0.0,2,    0.001,2,   2305.6,6,   2400.2,2
  49NZ20191205,    I08N,     40,   1,      15,     -99,  2,20210405,1723,  -5.9998,   79.9996,  5202,   2529.4,   1.9683,2,  34.7374,2,  34.7361,2,    156.4,2,   156.56,2,    34.53,2,     0.01,2,    125.2,2,    2.419,2,    0.018,2,      0.0,2,    0.008,2,   2302.6,2,   2400.4,2
  49NZ20191205,    I08N,     40,   1,      14,     -99,  2,20210405,1723,  -5.9998,   79.9996,  5202,   2730.7,   1.8236,2,  34.7329,2,  34.7327,2,    161.4,2,   161.48,2,    34.30,2,     0.01,2,    126.4,2,    2.394,2,    0.015,2,      0.0,2,    0.007,2,   2301.6,2,   2399.1,2
  49NZ20191205,    I08N,     40,   1,      13,     -99,  2,20210405,1723,  -5.9998,   79.9996,  5202,   2929.4,   1.7193,2,  34.7302,2,  34.7301,2,    162.5,2,   162.62,2,    34.39,2,     0.01,2,    129.7,2,    2.399,2,    0.015,2,      0.0,2,    0.005,2,   2304.1,2,   2405.7,2
  49NZ20191205,    I08N,     40,   1,      12,     -99,  2,20210405,1723,  -5.9998,   79.9996,  5202,   3170.8,   1.5830,2,  34.7259,2,  34.7256,2,    165.9,2,   165.99,2,    34.39,2,     0.00,2,    132.9,2,    2.387,2,    0.013,2,      0.0,2,    0.022,2,   2308.3,2,   2409.6,6
  49NZ20191205,    I08N,     40,   1,      11,     -99,  2,20210405,1723,  -5.9998,   79.9996,  5202,   3422.3,   1.4945,2,  34.7230,2,  34.7229,2,    167.4,2,   167.35,2,    34.48,2,     0.01,2,    136.0,2,    2.388,2,    0.015,2,      0.0,2,    0.003,2,   -999.0,3,   2415.5,2
  49NZ20191205,    I08N,     40,   1,      10,     -99,  2,20210405,1723,  -5.9998,   79.9996,  5202,   3668.8,   1.4400,2,  34.7209,2,  34.7212,2,    169.9,2,   169.81,2,    34.43,2,     0.01,2,    137.2,2,    2.383,2,    0.016,2,      0.0,2,    0.017,2,   2308.4,2,   2417.0,2
  49NZ20191205,    I08N,     40,   1,       9,     -99,  2,20210405,1723,  -5.9998,   79.9996,  5202,   3919.9,   1.4052,2,  34.7191,2,  34.7182,2,    173.3,2,   173.22,2,    34.26,2,     0.01,2,    136.5,2,    2.370,2,    0.013,2,      0.0,2,    0.009,2,   2309.0,2,   2415.3,2
  49NZ20191205,    I08N,     40,   1,       8,     -99,  2,20210405,1723,  -5.9998,   79.9996,  5202,   4169.1,   1.3906,2,  34.7181,2,  34.7186,2,    176.8,2,   176.73,2,    34.02,2,     0.00,2,    135.1,2,    2.351,2,    0.016,2,      0.0,2,    0.017,2,   2303.6,6,   2413.2,2
  49NZ20191205,    I08N,     40,   1,       7,     -99,  2,20210405,1723,  -5.9998,   79.9996,  5202,   4419.6,   1.3859,2,  34.7174,2,  34.7178,2,    179.2,2,   179.11,2,    33.87,2,     0.00,2,    134.5,2,    2.339,2,    0.016,2,      0.0,2,    0.015,2,   2302.4,2,   2409.4,2
  49NZ20191205,    I08N,     40,   1,       6,     -99,  2,20210405,1723,  -5.9998,   79.9996,  5202,   4670.5,   1.3922,2,  34.7169,2,  34.7169,2,    180.8,2,   180.83,2,    33.76,2,     0.00,2,    133.7,2,    2.332,2,    0.022,2,      0.0,2,    0.007,2,   2298.6,2,   2405.8,6
  49NZ20191205,    I08N,     40,   1,       5,     -99,  2,20210405,1723,  -5.9998,   79.9996,  5202,   4922.2,   1.3982,2,  34.7165,2,  34.7166,2,    182.8,2,   182.83,2,    33.66,2,     0.01,2,    132.5,2,    2.319,2,    0.017,2,      0.0,2,    0.019,2,   2295.5,2,   2404.3,2
  49NZ20191205,    I08N,     40,   1,       4,     -99,  2,20210405,1723,  -5.9998,   79.9996,  5202,   5170.3,   1.4158,2,  34.7162,2,  34.7159,2,    183.6,2,   183.71,2,    33.60,2,     0.01,2,    132.4,2,    2.309,2,    0.022,2,      0.0,2,    0.013,2,   -999.0,3,   2404.4,2
  49NZ20191205,    I08N,     40,   1,       1,     -99,  2,20210405,1723,  -5.9998,   79.9996,  5202,   5275.8,   1.4217,2,  34.7161,2,  34.7162,2,    184.5,2,   185.00,2,    33.55,2,     0.00,2,    131.7,2,    2.306,2,    0.018,2,      0.0,2,    0.110,2,   2294.0,2,   2403.8,2
  49NZ20191205,    I08N,     38,   1,      36,     -99,  2,20210405,1723,  -4.9993,   79.9982,  5140,     10.3,  28.4870,2,  34.5461,2,  34.5451,2,    197.2,2,   197.22,2,     0.03,2,     0.00,2,      1.5,2,    0.100,2,    1.424,2,      0.9,2,    1.597,2,   1948.2,2,   2267.6,2
  49NZ20191205,    I08N,     38,   1,      35,     -99,  2,20210405,1723,  -4.9993,   79.9982,  5140,     49.9,  28.4725,2,  34.6953,2,  34.6989,2,    196.8,2,   196.96,2,     0.01,2,     0.00,2,      1.6,2,    0.114,2,    1.436,2,      0.9,2,    1.617,2,   1959.3,2,   2276.4,2
  49NZ20191205,    I08N,     38,   1,       2,     -99,  2,20210405,1723,  -4.9993,   79.9982,  5140,     88.3,  23.0798,2,  34.6034,2,  34.6070,2,    136.1,2,  -999.00,3,     9.18,2,     0.24,2,      9.9,2,    0.735,2, -999.000,9,   -999.0,9, -999.000,9,   2064.2,2,   2275.8,2
  49NZ20191205,    I08N,     38,   1,      34,     -99,  2,20210405,1723,  -4.9993,   79.9982,  5140,    100.3,  19.4210,2,  34.5213,2,  34.5216,2,    105.3,2,   104.96,2,    16.75,2,     0.11,2,     19.0,2,    1.173,2,    1.577,2,      1.0,2,    1.146,2,   2109.3,2,   2277.0,2
  49NZ20191205,    I08N,     38,   1,      33,     -99,  2,20210405,1723,  -4.9993,   79.9982,  5140,    149.8,  15.3968,2,  34.5477,2,  34.5871,2,    102.2,2,    96.58,2,    21.56,2,     0.01,2,     27.6,2,    1.507,2,    1.499,2,      0.9,2,    0.871,2,   2155.7,2,   2289.8,2
  49NZ20191205,    I08N,     38,   1,      32,     -99,  2,20210405,1723,  -4.9993,   79.9982,  5140,    198.4,  12.5110,2,  34.8815,2,  34.8952,2,     58.8,2,    58.83,2,    28.29,2,     0.01,2,     28.7,2,    1.935,2,    1.460,2,      0.8,2,    0.488,2,   2218.3,2,   2307.2,2
  49NZ20191205,    I08N,     38,   1,      31,     -99,  2,20210405,1723,  -4.9993,   79.9982,  5140,    250.8,  11.7630,2,  34.9965,2,  34.9956,2,     82.9,2,    82.36,2,    26.70,2,     0.01,2,     22.2,2,    1.790,2,    1.728,2,      1.0,2,    0.592,2,   2209.5,2,   2309.1,2
  49NZ20191205,    I08N,     38,   1,      30,     -99,  2,20210405,1723,  -4.9993,   79.9982,  5140,    330.6,  10.5441,2,  34.9088,2,  34.9087,2,     85.0,2,    84.70,2,    28.91,2,     0.01,2,     25.9,2,    1.918,2,    1.519,2,      0.8,2,    0.410,2,   2219.6,2,   2306.9,2
  49NZ20191205,    I08N,     38,   1,      29,     -99,  2,20210405,1723,  -4.9993,   79.9982,  5140,    429.3,   9.7665,2,  34.8775,2,  34.8772,2,     90.8,2,    90.35,2,    29.84,2,     0.00,2,     30.8,2,    2.022,2,    1.325,2,      0.7,2,    0.340,2,   2226.6,2,   2311.4,2
  49NZ20191205,    I08N,     38,   1,      28,     -99,  2,20210405,1723,  -4.9993,   79.9982,  5140,    529.3,   8.9344,2,  34.8477,2,  34.8490,2,     81.9,2,    81.65,2,    31.91,2,     0.00,2,     41.1,2,    2.227,2,    0.841,2,      0.5,2,    0.218,2,   2239.4,2,   2320.2,2
  49NZ20191205,    I08N,     38,   1,      27,     -99,  2,20210405,1723,  -4.9993,   79.9982,  5140,    630.8,   8.2641,2,  34.8338,2,  34.8343,2,     69.6,2,    69.07,2,    34.26,2,     0.01,2,     52.3,2,    2.428,2,    0.423,2,      0.2,2,    0.095,2,   2263.1,2,   2328.9,2
  49NZ20191205,    I08N,     38,   1,      26,     -99,  2,20210405,1723,  -4.9993,   79.9982,  5140,    729.8,   7.5242,2,  34.8229,2,  34.8208,2,     65.9,2,    66.12,2,    35.33,2,     0.00,2,     64.1,2,    2.530,2,    0.238,2,      0.1,2,    0.067,2,   2273.4,6,   2340.9,2
  49NZ20191205,    I08N,     38,   1,      25,     -99,  2,20210405,1723,  -4.9993,   79.9982,  5140,    829.9,   7.0480,2,  34.8443,2,  34.8403,2,     64.2,2,    64.82,2,    36.11,2,     0.00,2,     72.2,2,    2.601,2,    0.163,2,      0.1,2,    0.025,2,   2284.3,2,   2352.0,2
  49NZ20191205,    I08N,     38,   1,      24,     -99,  2,20210405,1723,  -4.9993,   79.9982,  5140,    930.2,   6.5042,2,  34.8401,2,  34.8430,2,     64.9,2,    64.87,2,    36.76,2,     0.00,2,     79.3,2,    2.651,2,    0.098,2,      0.1,2,    0.010,2,   2291.7,2,   2359.3,2
  49NZ20191205,    I08N,     38,   1,      23,     -99,  2,20210405,1723,  -4.9993,   79.9982,  5140,   1069.3,   5.9027,2,  34.8431,2,  34.8426,2,     67.8,2,    68.18,2,    37.02,2,     0.00,2,     87.7,2,    2.697,2,    0.055,2,      0.0,2,    0.016,2,   2304.1,2,   2367.1,2
  49NZ20191205,    I08N,     38,   1,      22,     -99,  2,20210405,1723,  -4.9993,   79.9982,  5140,   1270.1,   4.9262,2,  34.7977,2,  34.7978,2,     83.0,2,    83.24,2,    36.99,2,     0.00,2,     97.2,2,    2.677,2,    0.025,2,      0.0,2,    0.006,2,   2305.5,2,   2374.8,6
  49NZ20191205,    I08N,     38,   1,      21,     -99,  2,20210405,1723,  -4.9993,   79.9982,  5140,   1469.5,   4.2155,2,  34.7912,2,  34.7922,2,     95.8,2,    95.82,2,    36.87,2,     0.00,2,    104.2,2,    2.658,2,    0.016,2,      0.0,2,    0.005,2,   2308.8,2,   2381.7,2
  49NZ20191205,    I08N,     38,   1,      20,     -99,  2,20210405,1723,  -4.9993,   79.9982,  5140,   1667.0,   3.5635,2,  34.7798,2,  34.7811,2,    111.8,2,   111.77,2,    36.31,2,     0.00,2,    109.6,2,    2.598,2,    0.014,2,      0.0,2,    0.001,2,   2307.9,2,   2388.4,2
  49NZ20191205,    I08N,     38,   1,      19,     -99,  2,20210405,1723,  -4.9993,   79.9982,  5140,   1868.8,   3.0826,2,  34.7726,2,  34.7724,2,    123.4,2,  -999.00,3,    35.77,2,     0.00,2,    114.9,2,    2.551,2,    0.013,2,      0.0,2,    0.003,2,   2305.7,2,   2393.9,2
  49NZ20191205,    I08N,     38,   1,      18,     -99,  2,20210405,1723,  -4.9993,   79.9982,  5140,   2069.3,   2.6601,2,  34.7597,2,  34.7598,2,    134.4,2,  -999.00,3,    35.52,2,     0.00,2,    119.3,2,    2.512,2,    0.011,2,      0.0,2,    0.005,2,   2307.5,2,   2398.0,2
  49NZ20191205,    I08N,     38,   1,      17,     -99,  2,20210405,1723,  -4.9993,   79.9982,  5140,   2268.2,   2.3648,2,  34.7511,2,  34.7511,2,    142.3,2,  -999.00,3,    35.35,2,     0.00,2,    122.8,2,    2.482,2,    0.013,2,      0.0,2,    0.016,2,   2305.3,2,   2400.0,2
  49NZ20191205,    I08N,     38,   1,      16,     -99,  2,20210405,1723,  -4.9993,   79.9982,  5140,   2469.5,   2.1183,2,  34.7435,2,  34.7434,2,    150.8,2,  -999.00,3,    34.90,2,     0.00,2,    124.7,2,    2.443,2,    0.015,2,      0.0,2,    0.002,2,   2304.7,6,   2401.8,2
  49NZ20191205,    I08N,     38,   1,      15,     -99,  2,20210405,1723,  -4.9993,   79.9982,  5140,   2671.1,   1.9408,2,  34.7374,2,  34.7376,2,    156.7,2,  -999.00,3,    34.49,2,     0.00,2,    126.2,2,    2.405,2,    0.012,2,      0.0,2,    0.032,2,   2305.1,2,   2402.1,2
  49NZ20191205,    I08N,     38,   1,      14,     -99,  2,20210405,1723,  -4.9993,   79.9982,  5140,   2870.2,   1.8102,2,  34.7330,2,  34.7322,2,    160.9,2,  -999.00,3,    34.39,2,     0.00,2,    128.0,2,    2.392,2,    0.011,2,      0.0,2,    0.004,2,   2303.1,2,   2401.7,2
  49NZ20191205,    I08N,     38,   1,      13,     -99,  2,20210405,1723,  -4.9993,   79.9982,  5140,   3079.4,   1.6824,2,  34.7291,2,  34.7282,2,    162.8,2,  -999.00,3,    34.47,2,     0.00,2,    131.3,2,    2.394,2,    0.014,2,      0.0,2,    0.001,2,   -999.0,3,   2407.9,2
  49NZ20191205,    I08N,     38,   1,      12,     -99,  2,20210405,1723,  -4.9993,   79.9982,  5140,   3327.6,   1.5495,2,  34.7246,2,  34.7234,2,    165.9,2,  -999.00,3,    34.65,2,     0.01,2,    134.5,2,    2.385,2,    0.015,2,      0.0,2,    0.017,2,   2308.0,2,   2411.4,6
  49NZ20191205,    I08N,     38,   1,      11,     -99,  2,20210405,1723,  -4.9993,   79.9982,  5140,   3580.4,   1.4713,2,  34.7219,2,  34.7213,2,    168.4,2,  -999.00,3,    34.56,2,     0.00,2,    136.3,2,    2.381,2,    0.013,2,      0.0,2,    0.007,2,   2310.9,2,   2415.0,2
  49NZ20191205,    I08N,     38,   1,      10,     -99,  2,20210405,1723,  -4.9993,   79.9982,  5140,   3828.3,   1.4248,2,  34.7199,2,  34.7190,2,    171.7,2,  -999.00,3,    34.29,2,     0.00,2,    136.7,2,    2.367,2,    0.018,2,      0.0,2,    0.001,2,   2310.0,2,   2416.3,2
  49NZ20191205,    I08N,     38,   1,       9,     -99,  2,20210405,1723,  -4.9993,   79.9982,  5140,   4079.3,   1.4089,2,  34.7186,2,  34.7190,2,    174.7,2,  -999.00,3,    34.12,2,     0.00,2,    135.7,2,    2.355,2,    0.015,2,      0.0,2,    0.001,2,   2306.2,2,   2413.3,2
  49NZ20191205,    I08N,     38,   1,       8,     -99,  2,20210405,1723,  -4.9993,   79.9982,  5140,   4329.9,   1.3981,2,  34.7177,2,  34.7183,2,    177.4,2,  -999.00,3,    34.11,2,     0.01,2,    134.8,2,    2.333,2,    0.014,2,      0.0,2,    0.006,2,   2304.1,6,   2410.7,2
  49NZ20191205,    I08N,     38,   1,       7,     -99,  2,20210405,1723,  -4.9993,   79.9982,  5140,   4579.5,   1.3963,2,  34.7170,2,  34.7168,2,    179.7,2,  -999.00,3,    33.91,2,     0.00,2,    134.3,2,    2.327,2,    0.015,2,      0.0,2,    0.002,2,   2301.7,2,   2409.2,2
  49NZ20191205,    I08N,     38,   1,       6,     -99,  2,20210405,1723,  -4.9993,   79.9982,  5140,   4832.1,   1.4098,2,  34.7167,2,  34.7163,2,    180.6,2,  -999.00,3,    33.87,2,     0.00,2,    133.9,2,    2.326,2,    0.015,2,      0.0,2,    0.003,2,   2300.5,2,   2407.8,6
  49NZ20191205,    I08N,     38,   1,       5,     -99,  2,20210405,1723,  -4.9993,   79.9982,  5140,   5080.5,   1.4250,2,  34.7164,2,  34.7169,2,    181.9,2,  -999.00,3,    33.86,2,     0.00,2,    133.1,2,    2.320,2,    0.017,2,      0.0,2,    0.001,2,   2298.6,2,   2406.9,2
  49NZ20191205,    I08N,     38,   1,       1,     -99,  2,20210405,1723,  -4.9993,   79.9982,  5140,   5215.1,   1.4359,2,  34.7163,2,  34.7167,2,    182.3,2,  -999.00,3,    33.84,2,     0.00,2,    132.8,2,    2.316,2,    0.014,2,      0.0,2,    0.013,2,   2298.1,2,   2407.7,2