BOTTLE,20212805JOAExport
EXPOCODE,SECT_ID,STNNBR,CASTNO,SAMPNO,BTLNBR,BTLNBR_FLAG_W,DATE,TIME,LATITUDE,LONGITUDE,DEPTH,CTDPRS,CTDTMP,CTDTMP_FLAG_W,CTDSAL,CTDSAL_FLAG_W,SALNTY,SALNTY_FLAG_W,CTDOXY,CTDOXY_FLAG_W,OXYGEN,OXYGEN_FLAG_W,NITRAT,NITRAT_FLAG_W,NITRIT,NITRIT_FLAG_W,SILCAT,SILCAT_FLAG_W,PHSPHT,PHSPHT_FLAG_W,CFC-11,CFC-11_FLAG_W,CFC-12,CFC-12_FLAG_W,SF6,SF6_FLAG_W,TCARBN,TCARBN_FLAG_W,ALKALI,ALKALI_FLAG_W
,,,,,,,,,,,,DB,ITS-90,,PSS-78,,PSS-78,,UMOL/KG,,UMOL/KG,,UMOL/KG,,UMOL/KG,,UMOL/KG,,UMOL/KG,,PMOL/KG,,PMOL/KG,,FMOL/KG,,UMOL/KG,,UMOL/KG
  49NZ20191205,    I08N,     32,   1,      36,     -99,  2,20210405,1723,  -2.3331,   79.9999,  4909,     10.3,  28.8400,2,  34.0430,2,  34.0459,2,    198.0,2,   197.29,2,     0.05,2,     0.01,2,      1.4,2,    0.104,2,    1.424,2,      0.9,2,    1.535,2,   1931.9,2,   2242.8,2
  49NZ20191205,    I08N,     32,   1,      35,     -99,  2,20210405,1723,  -2.3331,   79.9999,  4909,     50.6,  28.6059,2,  34.2269,2,  34.2275,2,    197.0,2,   196.38,2,     0.01,2,     0.01,2,      1.2,2,    0.117,2,    1.421,2,      0.9,2,    1.550,2,   1942.6,2,   2247.8,2
  49NZ20191205,    I08N,     32,   1,       2,     -99,  2,20210405,1723,  -2.3331,   79.9999,  4909,     76.2,  27.7288,2,  34.5899,2,  34.5996,2,    191.7,2,   192.19,2,     0.06,2,     0.01,2,      1.8,2,    0.165,2, -999.000,9,   -999.0,9, -999.000,9,   1965.3,2,   2272.7,2
  49NZ20191205,    I08N,     32,   1,      34,     -99,  2,20210405,1723,  -2.3331,   79.9999,  4909,    100.2,  20.6093,2,  35.0509,2,  35.0529,2,     71.1,2,    72.07,2,    18.97,2,     0.29,2,     13.5,2,    1.331,2,    1.594,2,      1.0,2,    1.055,2,   2144.8,2,   2295.3,2
  49NZ20191205,    I08N,     32,   1,      33,     -99,  2,20210405,1723,  -2.3331,   79.9999,  4909,    151.2,  14.3210,2,  35.0624,2,  35.0576,2,     71.9,2,    71.61,2,    24.49,2,     0.01,2,     20.7,2,    1.679,2,    1.713,2,      1.0,2,    0.739,2,   2200.7,2,   2308.4,2
  49NZ20191205,    I08N,     32,   1,      32,     -99,  2,20210405,1723,  -2.3331,   79.9999,  4909,    201.0,  12.6204,2,  35.0520,2,  35.0534,2,    100.8,2,   100.15,2,    23.44,2,     0.01,2,     19.0,2,    1.606,2,    1.972,2,      1.2,2,    0.755,2,   2195.8,2,   2310.2,2
  49NZ20191205,    I08N,     32,   1,      31,     -99,  2,20210405,1723,  -2.3331,   79.9999,  4909,    248.4,  11.8576,2,  35.0224,2,  35.0224,2,    123.3,2,   123.55,2,    22.27,2,     0.01,2,     17.7,2,    1.538,2,    2.154,2,      1.3,2,    0.906,2,   2189.3,2,   2309.4,2
  49NZ20191205,    I08N,     32,   1,      30,     -99,  2,20210405,1723,  -2.3331,   79.9999,  4909,    329.4,  10.7605,2,  34.9435,2,  34.9450,2,    132.2,2,   130.21,2,    23.62,2,     0.01,2,     19.6,2,    1.619,2,    2.173,2,      1.2,2,    0.814,2,   2193.6,2,   2308.8,2
  49NZ20191205,    I08N,     32,   1,      29,     -99,  2,20210405,1723,  -2.3331,   79.9999,  4909,    432.4,  10.0464,2,  34.9354,2,  34.9350,2,     88.6,2,    88.87,2,    29.10,2,     0.01,2,     29.2,2,    2.003,2,    1.431,2,      0.8,2,    0.442,2,   2225.9,2,   2314.3,2
  49NZ20191205,    I08N,     32,   1,      28,     -99,  2,20210405,1723,  -2.3331,   79.9999,  4909,    530.4,   9.5912,2,  34.9479,2,  34.9500,2,     77.2,2,    75.45,2,    31.14,2,     0.01,2,     36.6,2,    2.204,2,    1.039,2,      0.6,2,    0.157,2,   2240.2,2,   2320.5,2
  49NZ20191205,    I08N,     32,   1,      27,     -99,  2,20210405,1723,  -2.3331,   79.9999,  4909,    631.2,   8.8434,2,  34.9201,2,  34.9222,2,     68.4,2,    67.91,2,    33.10,2,     0.01,2,     46.3,2,    2.378,2,    0.652,2,      0.3,2,    0.113,2,   2255.0,2,   2327.2,2
  49NZ20191205,    I08N,     32,   1,      26,     -99,  2,20210405,1723,  -2.3331,   79.9999,  4909,    729.7,   8.2188,2,  34.9239,2,  34.9221,2,     54.1,2,    54.56,2,    35.08,2,     0.01,2,     57.7,2,    2.529,2,    0.263,2,      0.1,2,    0.073,2,   2274.9,6,   2341.2,2
  49NZ20191205,    I08N,     32,   1,      25,     -99,  2,20210405,1723,  -2.3331,   79.9999,  4909,    830.6,   7.5140,2,  34.9075,2,  34.9067,2,     55.0,2,    54.84,2,    36.02,2,     0.01,2,     68.1,2,    2.619,2,    0.151,2,      0.1,2,    0.045,2,   2286.7,2,   2350.6,2
  49NZ20191205,    I08N,     32,   1,      24,     -99,  2,20210405,1723,  -2.3331,   79.9999,  4909,    930.8,   6.7515,2,  34.8802,2,  34.8837,2,     57.0,2,    56.71,2,    36.75,2,     0.01,2,     78.3,2,    2.685,2,    0.074,2,      0.0,2,    0.024,2,   2299.4,2,   2360.5,2
  49NZ20191205,    I08N,     32,   1,      23,     -99,  2,20210405,1723,  -2.3331,   79.9999,  4909,   1070.8,   6.1317,2,  34.8780,2,  34.8782,2,     63.5,2,    63.49,2,    36.95,2,     0.01,2,     85.8,2,    2.700,2,    0.055,2,      0.0,2,    0.003,2,   2303.0,2,   2369.3,2
  49NZ20191205,    I08N,     32,   1,      22,     -99,  2,20210405,1723,  -2.3331,   79.9999,  4909,   1268.7,   5.1676,2,  34.8402,2,  34.8407,2,     75.2,2,    75.25,2,    37.24,2,     0.00,2,     96.4,2,    2.712,2,    0.023,2,      0.0,2,    0.001,2,   2314.2,2,   2377.2,6
  49NZ20191205,    I08N,     32,   1,      21,     -99,  2,20210405,1723,  -2.3331,   79.9999,  4909,   1469.5,   4.4154,2,  34.8254,2,  34.8256,2,     90.4,2,    90.69,2,    36.91,2,     0.00,2,    103.2,2,    2.684,2,    0.018,2,      0.0,2,    0.003,2,   2313.8,2,   2380.3,2
  49NZ20191205,    I08N,     32,   1,      20,     -99,  2,20210405,1723,  -2.3331,   79.9999,  4909,   1670.4,   3.6836,2,  34.8043,2,  34.8050,2,    105.9,2,   105.94,2,    36.33,2,     0.01,2,    110.2,2,    2.631,2,    0.016,2,      0.0,2,    0.004,2,   2315.9,2,   2387.5,2
  49NZ20191205,    I08N,     32,   1,      19,     -99,  2,20210405,1723,  -2.3331,   79.9999,  4909,   1870.3,   3.0936,2,  34.7817,2,  34.7823,2,    120.7,2,   120.54,2,    35.81,2,     0.00,2,    116.1,2,    2.577,2,    0.014,2,      0.0,2,    0.004,2,   2316.0,2,   2394.3,2
  49NZ20191205,    I08N,     32,   1,      18,     -99,  2,20210405,1723,  -2.3331,   79.9999,  4909,   2072.0,   2.6319,2,  34.7653,2,  34.7654,2,    132.3,2,   132.31,2,    35.37,2,     0.00,2,    120.9,2,    2.528,2,    0.013,2,      0.0,2,    0.009,2,   2314.2,2,   2398.1,2
  49NZ20191205,    I08N,     32,   1,      17,     -99,  2,20210405,1723,  -2.3331,   79.9999,  4909,   2269.7,   2.3218,2,  34.7538,2,  34.7541,2,    141.4,2,   141.15,2,    35.07,2,     0.00,2,    124.4,2,    2.494,2,    0.014,2,      0.0,2,    0.000,2,   2313.4,2,   2404.9,2
  49NZ20191205,    I08N,     32,   1,      16,     -99,  2,20210405,1723,  -2.3331,   79.9999,  4909,   2470.0,   2.1051,2,  34.7456,2,  34.7455,2,    148.1,2,   148.11,2,    34.90,2,     0.01,2,    126.8,2,    2.467,2,    0.015,2,      0.0,2,    0.000,2,   2314.0,6,   2406.4,2
  49NZ20191205,    I08N,     32,   1,      15,     -99,  2,20210405,1723,  -2.3331,   79.9999,  4909,   2671.1,   1.9607,2,  34.7396,2,  34.7405,2,    152.9,2,   152.66,2,    34.53,2,     0.00,2,    128.0,2,    2.429,2,    0.020,2,      0.0,2,    0.010,2,   2312.1,2,   2406.1,2
  49NZ20191205,    I08N,     32,   1,      14,     -99,  2,20210405,1723,  -2.3331,   79.9999,  4909,   2871.4,   1.7824,2,  34.7334,2,  34.7341,2,    158.9,2,   158.80,2,    34.48,2,     0.01,2,    129.9,2,    2.410,2,    0.015,2,      0.0,2,    0.007,2,   2310.8,2,   2411.2,2
  49NZ20191205,    I08N,     32,   1,      13,     -99,  2,20210405,1723,  -2.3331,   79.9999,  4909,   3081.8,   1.6223,2,  34.7276,2,  34.7280,2,    162.5,2,   162.36,2,    34.38,2,     0.01,2,    133.2,2,    2.399,2,    0.016,2,      0.0,2,    0.000,2,   2313.3,2,   2416.8,2
  49NZ20191205,    I08N,     32,   1,      12,     -99,  2,20210405,1723,  -2.3331,   79.9999,  4909,   3330.3,   1.5491,2,  34.7251,2,  34.7258,2,    163.2,2,   163.00,2,    34.46,2,     0.01,2,    136.0,2,    2.401,2,    0.017,2,      0.0,2,    0.012,2,   2317.0,2,   2418.6,6
  49NZ20191205,    I08N,     32,   1,      11,     -99,  2,20210405,1723,  -2.3331,   79.9999,  4909,   3581.3,   1.4846,2,  34.7222,2,  34.7225,2,    168.3,2,   168.40,2,    34.33,2,     0.01,2,    135.0,2,    2.375,2,    0.016,2,      0.0,2,    0.002,2,   2314.5,2,   2411.0,2
  49NZ20191205,    I08N,     32,   1,      10,     -99,  2,20210405,1723,  -2.3331,   79.9999,  4909,   3829.3,   1.4146,2,  34.7195,2,  34.7197,2,    171.5,2,   171.37,2,    34.30,2,     0.00,2,    136.3,2,    2.366,2,    0.015,2,      0.0,2,    0.000,2,   2312.2,2,   2417.3,2
  49NZ20191205,    I08N,     32,   1,       9,     -99,  2,20210405,1723,  -2.3331,   79.9999,  4909,   4081.0,   1.3961,2,  34.7183,2,  34.7184,2,    174.3,2,   174.29,2,    34.10,2,     0.01,2,    135.9,2,    2.353,2,    0.015,2,      0.0,2,    0.000,2,   2309.7,2,   2411.8,2
  49NZ20191205,    I08N,     32,   1,       8,     -99,  2,20210405,1723,  -2.3331,   79.9999,  4909,   4330.5,   1.4006,2,  34.7177,2,  34.7189,2,    176.2,2,   176.33,2,    34.03,2,     0.00,2,    135.4,2,    2.342,2,    0.014,2,      0.0,2,    0.000,2,   2308.4,6,   2413.3,2
  49NZ20191205,    I08N,     32,   1,       7,     -99,  2,20210405,1723,  -2.3331,   79.9999,  4909,   4580.5,   1.4133,2,  34.7172,2,  34.7178,2,    177.5,2,   177.49,2,    33.91,2,     0.01,2,    134.7,2,    2.340,2,    0.017,2,      0.0,2,    0.000,2,   2306.1,2,   2410.3,2
  49NZ20191205,    I08N,     32,   1,       6,     -99,  2,20210405,1723,  -2.3331,   79.9999,  4909,   4829.3,   1.4331,2,  34.7171,2,  34.7177,2,    178.2,2,   178.24,2,    33.75,2,     0.01,2,    134.3,2,    2.330,2,    0.019,2,      0.0,2,    0.000,2,   2306.1,2,   2412.0,6
  49NZ20191205,    I08N,     32,   1,       1,     -99,  2,20210405,1723,  -2.3331,   79.9999,  4909,   4973.4,   1.4473,2,  34.7170,2,  34.7179,2,    178.4,2,   178.56,2,    33.80,2,     0.01,2,    134.7,2,    2.337,2,    0.017,2,      0.0,2,    0.020,2,   2305.8,2,   2414.3,2
  49NZ20191205,    I08N,     29,   1,      36,     -99,  2,20210405,1723,  -1.3341,   80.0009,  4834,     10.7,  28.6915,2,  34.3933,2,  34.3916,2,    196.2,2,   196.12,2,     0.02,2,     0.01,2,      0.9,2,    0.136,2,    1.490,2,      0.9,2,    1.592,2,   1950.5,2,   2258.1,2
  49NZ20191205,    I08N,     29,   1,      35,     -99,  2,20210405,1723,  -1.3341,   80.0009,  4834,     49.7,  28.5136,2,  34.5177,2,  34.5178,2,    194.7,2,   194.58,2,     0.03,2,     0.02,2,      1.0,2,    0.152,2,    1.483,2,      0.9,2,    1.580,2,   1958.7,2,   2266.3,2
  49NZ20191205,    I08N,     29,   1,       2,     -99,  2,20210405,1723,  -1.3341,   80.0009,  4834,     55.0,  28.4018,2,  34.5225,2,  34.5232,2,    193.2,2,   193.97,2,     0.07,2,     0.02,2,      1.1,2,    0.159,2, -999.000,9,   -999.0,9, -999.000,9,   1960.3,2,   2272.6,2
  49NZ20191205,    I08N,     29,   1,      34,     -99,  2,20210405,1723,  -1.3341,   80.0009,  4834,    102.7,  20.7959,2,  35.2082,2,  35.2228,2,     99.5,2,   100.71,2,    15.26,2,     0.09,2,     10.1,2,    1.098,2,    1.827,2,      1.1,2,    1.244,2,   2126.7,2,   2306.7,2
  49NZ20191205,    I08N,     29,   1,      33,     -99,  2,20210405,1723,  -1.3341,   80.0009,  4834,    151.7,  15.0329,2,  35.1511,2,  35.1488,2,     73.8,2,    73.61,2,    23.44,2,     0.01,2,     17.7,2,    1.615,2,    1.950,2,      1.1,2,    0.852,2,   2194.8,2,   2311.0,2
  49NZ20191205,    I08N,     29,   1,      32,     -99,  2,20210405,1723,  -1.3341,   80.0009,  4834,    200.2,  13.5157,2,  35.1156,2,  35.1154,2,     67.4,2,    66.73,2,    25.88,2,     0.01,2,     20.2,2,    1.778,2,    1.872,2,      1.0,2,    0.720,2,   2213.7,2,   2310.5,2
  49NZ20191205,    I08N,     29,   1,      31,     -99,  2,20210405,1723,  -1.3341,   80.0009,  4834,    250.2,  12.8998,2,  35.1019,2,  35.1018,2,     75.8,2,    75.50,2,    25.69,2,     0.01,2,     20.4,2,    1.762,2,    1.905,2,      1.0,2,    0.647,2,   2211.0,2,   2312.1,2
  49NZ20191205,    I08N,     29,   1,      30,     -99,  2,20210405,1723,  -1.3341,   80.0009,  4834,    299.2,  12.0323,2,  35.0601,2,  35.0585,2,     87.8,2,    87.60,2,    25.74,2,     0.01,2,     21.0,2,    1.755,2,    1.949,2,      1.1,2,    0.656,2,   2216.0,2,   2310.6,2
  49NZ20191205,    I08N,     29,   1,      29,     -99,  2,20210405,1723,  -1.3341,   80.0009,  4834,    400.0,  10.7769,2,  35.0094,2,  35.0101,2,     75.6,2,    74.93,2,    29.27,2,     0.01,2,     27.3,2,    1.992,2,    1.511,2,      0.8,2,    0.444,2,   2226.7,2,   2310.8,2
  49NZ20191205,    I08N,     29,   1,      28,     -99,  2,20210405,1723,  -1.3341,   80.0009,  4834,    499.7,  10.0665,2,  34.9987,2,  34.9987,2,     61.1,2,    61.09,2,    31.90,2,     0.01,2,     35.7,2,    2.226,2,    0.960,2,      0.5,2,    0.218,2,   2248.7,2,   2317.6,2
  49NZ20191205,    I08N,     29,   1,      27,     -99,  2,20210405,1723,  -1.3341,   80.0009,  4834,    598.9,   9.5306,2,  35.0013,2,  35.0026,2,     55.3,2,    54.75,2,    33.36,2,     0.02,2,     42.8,2,    2.372,2,    0.695,2,      0.4,2,    0.176,2,   2258.1,2,   2321.6,2
  49NZ20191205,    I08N,     29,   1,      26,     -99,  2,20210405,1723,  -1.3341,   80.0009,  4834,    700.1,   8.5715,2,  34.9940,2,  34.9905,2,     52.8,2,    53.48,2,    34.55,2,     0.01,2,     54.4,2,    2.501,2,    0.414,2,      0.2,2,    0.118,2,   2271.6,6,   2340.5,2
  49NZ20191205,    I08N,     29,   1,      25,     -99,  2,20210405,1723,  -1.3341,   80.0009,  4834,    799.6,   8.1386,2,  34.9883,2,  34.9900,2,     47.3,2,    46.12,2,    35.76,2,     0.01,2,     62.9,2,    2.604,2,    0.218,2,      0.1,2,    0.033,2,   2286.6,2,   2349.8,2
  49NZ20191205,    I08N,     29,   1,      24,     -99,  2,20210405,1723,  -1.3341,   80.0009,  4834,    900.2,   7.2139,2,  34.9134,2,  34.9147,2,     52.6,2,    52.55,2,    36.67,2,     0.01,2,     73.4,2,    2.662,2,    0.096,2,      0.1,2,    0.002,2,   2293.8,2,   2353.0,2
  49NZ20191205,    I08N,     29,   1,      23,     -99,  2,20210405,1723,  -1.3341,   80.0009,  4834,    997.1,   6.6087,2,  34.9222,2,  34.9185,2,     56.6,2,    56.88,2,    36.87,2,     0.01,2,     81.4,2,    2.696,2,    0.080,2,      0.0,2,    0.008,2,   2302.9,2,   2364.6,2
  49NZ20191205,    I08N,     29,   1,      22,     -99,  2,20210405,1723,  -1.3341,   80.0009,  4834,   1199.7,   5.6583,2,  34.8837,2,  34.8830,2,     67.6,2,    67.57,2,    37.13,2,     0.01,2,     91.6,2,    2.704,2,    0.038,2,      0.0,2,    0.008,2,   2310.3,2,   2374.6,6
  49NZ20191205,    I08N,     29,   1,      21,     -99,  2,20210405,1723,  -1.3341,   80.0009,  4834,   1398.9,   4.8688,2,  34.8561,2,  34.8557,2,     81.7,2,    82.66,2,    36.90,2,     0.01,2,     99.2,2,    2.688,2,    0.025,2,      0.0,2,    0.004,2,   2312.9,2,   2381.2,2
  49NZ20191205,    I08N,     29,   1,      20,     -99,  2,20210405,1723,  -1.3341,   80.0009,  4834,   1600.7,   3.9288,2,  34.8131,2,  34.8128,2,    100.2,2,   100.32,2,    36.57,2,     0.01,2,    108.1,2,    2.644,2,    0.014,2,      0.0,2,    0.024,2,   2315.0,2,   2387.5,2
  49NZ20191205,    I08N,     29,   1,      19,     -99,  2,20210405,1723,  -1.3341,   80.0009,  4834,   1799.7,   3.2594,2,  34.7879,2,  34.7876,2,    116.5,2,   116.58,2,    36.05,2,     0.01,2,    114.4,2,    2.581,2,    0.012,2,      0.0,2,    0.010,2,   -999.0,3,   2390.1,2
  49NZ20191205,    I08N,     29,   1,      18,     -99,  2,20210405,1723,  -1.3341,   80.0009,  4834,   2000.9,   2.7423,2,  34.7708,2,  34.7705,2,    128.8,2,   128.89,2,    35.65,2,     0.01,2,    120.5,2,    2.539,2,    0.013,2,      0.0,2,    0.003,2,   2313.4,2,   2396.5,2
  49NZ20191205,    I08N,     29,   1,      17,     -99,  2,20210405,1723,  -1.3341,   80.0009,  4834,   2200.8,   2.3687,2,  34.7568,2,  34.7561,2,    139.4,2,   139.70,2,    35.26,2,     0.01,2,    124.4,2,    2.487,2,    0.015,2,      0.0,2,    0.046,2,   2313.5,2,   2405.8,2
  49NZ20191205,    I08N,     29,   1,      16,     -99,  2,20210405,1723,  -1.3341,   80.0009,  4834,   2399.4,   2.1527,2,  34.7486,2,  34.7483,2,    146.4,2,   146.46,2,    35.00,2,     0.01,2,    126.6,2,    2.461,2,    0.015,2,      0.0,2,    0.003,2,   2312.9,6,   2408.5,2
  49NZ20191205,    I08N,     29,   1,      15,     -99,  2,20210405,1723,  -1.3341,   80.0009,  4834,   2599.5,   1.9707,2,  34.7417,2,  34.7415,2,    152.1,2,   152.20,2,    34.69,2,     0.01,2,    128.3,2,    2.429,2,    0.014,2,      0.0,2,    0.010,2,   2311.3,2,   2403.4,2
  49NZ20191205,    I08N,     29,   1,      14,     -99,  2,20210405,1723,  -1.3341,   80.0009,  4834,   2801.1,   1.8842,2,  34.7373,2,  34.7363,2,    156.4,2,   156.50,2,    34.47,2,     0.01,2,    128.6,2,    2.406,2,    0.016,2,      0.0,2,    0.017,2,   2310.4,2,   2405.6,2
  49NZ20191205,    I08N,     29,   1,      13,     -99,  2,20210405,1723,  -1.3341,   80.0009,  4834,   3001.1,   1.6813,2,  34.7294,2,  34.7292,2,    162.6,2,   162.68,2,    34.40,2,     0.01,2,    130.8,2,    2.384,2,    0.013,2,      0.0,2,    0.003,2,   2310.8,2,   2405.0,2
  49NZ20191205,    I08N,     29,   1,      12,     -99,  2,20210405,1723,  -1.3341,   80.0009,  4834,   3248.5,   1.5926,2,  34.7267,2,  34.7262,2,    162.1,2,   162.13,2,    34.59,2,     0.01,2,    135.2,2,    2.399,2,    0.014,2,      0.0,2,    0.003,2,   2314.9,2,   2420.4,6
  49NZ20191205,    I08N,     29,   1,      11,     -99,  2,20210405,1723,  -1.3341,   80.0009,  4834,   3500.5,   1.4782,2,  34.7226,2,  34.7213,2,    165.7,2,   165.66,2,    34.50,2,     0.01,2,    137.3,2,    2.384,2,    0.014,2,      0.0,2,    0.004,2,   2316.1,2,   2412.9,2
  49NZ20191205,    I08N,     29,   1,      10,     -99,  2,20210405,1723,  -1.3341,   80.0009,  4834,   3748.5,   1.4046,2,  34.7197,2,  34.7189,2,    171.6,2,   171.75,2,    34.19,2,     0.01,2,    136.3,2,    2.363,2,    0.015,2,      0.0,2,    0.004,2,   -999.0,3,   2412.1,2
  49NZ20191205,    I08N,     29,   1,       9,     -99,  2,20210405,1723,  -1.3341,   80.0009,  4834,   4001.3,   1.3917,2,  34.7186,2,  34.7178,2,    173.8,2,   173.85,2,    34.03,2,     0.01,2,    135.9,2,    2.352,2,    0.022,2,      0.0,2,    0.023,2,   2310.4,2,   2420.1,2
  49NZ20191205,    I08N,     29,   1,       7,     -99,  2,20210405,1723,  -1.3341,   80.0009,  4834,   4503.0,   1.4125,2,  34.7176,2,  34.7174,2,    176.5,2,   176.79,2,    33.93,2,     0.01,2,    135.4,2,    2.338,2,    0.023,2,      0.0,2,    0.003,2,   2307.3,2,   2420.4,2
  49NZ20191205,    I08N,     29,   1,       6,     -99,  2,20210405,1723,  -1.3341,   80.0009,  4834,   4748.6,   1.4303,2,  34.7174,2,  34.7173,2,    177.0,2,   177.38,2,    33.89,2,     0.01,2,    135.2,2,    2.336,2,    0.028,2,      0.0,2,    0.030,2,   2307.7,2,   2421.5,6
  49NZ20191205,    I08N,     29,   1,       1,     -99,  2,20210405,1723,  -1.3341,   80.0009,  4834,   4885.2,   1.4333,2,  34.7170,2,  34.7170,2,    178.2,2,   178.87,2,    33.77,2,     0.01,2,    134.7,2,    2.319,2,    0.020,2,      0.0,2,    0.005,2,   2305.0,2,   2416.0,2