BOTTLE,20212805JOAExport
# Exported from JOA (5.5.0 Final September 29th, 2020) on 2021/04/05 10:28:37
#BOTTLE,20210405SIOJHS,,,,,,,,,,,,,,,,,,,,,,,,,,,,,,,,,,,,,,,
#groomed I08N 2019 file made by J. Swift from online data from Katsumata at the CCHDO,,,,,,,,,,,,,,,,,,,,,,,,,,,,,,,,,,,,,,,,
EXPOCODE,SECT_ID,STNNBR,CASTNO,SAMPNO,BTLNBR,BTLNBR_FLAG_W,DATE,TIME,LATITUDE,LONGITUDE,DEPTH,CTDPRS,CTDTMP,CTDTMP_FLAG_W,CTDSAL,CTDSAL_FLAG_W,SALNTY,SALNTY_FLAG_W,CTDOXY,CTDOXY_FLAG_W,OXYGEN,OXYGEN_FLAG_W,NITRAT,NITRAT_FLAG_W,NITRIT,NITRIT_FLAG_W,SILCAT,SILCAT_FLAG_W,PHSPHT,PHSPHT_FLAG_W,CFC-11,CFC-11_FLAG_W,CFC-12,CFC-12_FLAG_W,SF6,SF6_FLAG_W,TCARBN,TCARBN_FLAG_W,ALKALI,ALKALI_FLAG_W
,,,,,,,,,,,,DB,ITS-90,,PSS-78,,PSS-78,,UMOL/KG,,UMOL/KG,,UMOL/KG,,UMOL/KG,,UMOL/KG,,UMOL/KG,,PMOL/KG,,PMOL/KG,,FMOL/KG,,UMOL/KG,,UMOL/KG
  49NZ20191205,    I08N,     68,   1,      36,     -99,  2,20210405,1723, -20.0001,   80.0002,  4866,     10.7,  26.7716,2,  35.2491,2,  35.2470,2,    204.3,2,   204.51,2,     0.03,2,     0.01,2,      2.0,2,    0.059,2,    1.602,2,      1.0,2,    1.669,2,   2001.4,2,   2315.2,2
  49NZ20191205,    I08N,     68,   1,      35,     -99,  2,20210405,1723, -20.0001,   80.0002,  4866,     50.9,  24.9588,2,  35.2495,2,  35.2503,2,    216.9,2,   216.14,2,     0.04,2,     0.00,2,      1.9,2,    0.054,2,    1.731,2,      1.1,2,    1.732,2,   2001.4,2,   2314.4,2
  49NZ20191205,    I08N,     68,   1,      34,     -99,  2,20210405,1723, -20.0001,   80.0002,  4866,     99.7,  22.2527,2,  35.4572,2,  35.4596,2,    216.1,2,   215.72,2,     0.03,2,     0.00,2,      2.0,2,    0.091,2,    1.880,2,      1.2,2,    1.755,2,   2026.2,2,   2326.3,2
  49NZ20191205,    I08N,     68,   1,       2,     -99,  2,20210405,1723, -20.0001,   80.0002,  4866,    141.1,  21.3689,2,  35.6021,2,  35.6025,2,    210.1,2,   210.04,2,     0.10,2,     0.09,2,      2.0,2,    0.109,2, -999.000,9,   -999.0,9, -999.000,9,   2046.1,2,   2336.3,2
  49NZ20191205,    I08N,     68,   1,      33,     -99,  2,20210405,1723, -20.0001,   80.0002,  4866,    150.1,  21.1361,2,  35.6381,2,  35.6489,2,    205.7,2,   205.70,2,     0.30,2,     0.19,2,      2.2,2,    0.139,2,    1.973,2,      1.2,2,    1.773,2,   2058.8,2,   2339.8,2
  49NZ20191205,    I08N,     68,   1,      32,     -99,  2,20210405,1723, -20.0001,   80.0002,  4866,    198.3,  19.8950,2,  35.7687,2,  35.7687,2,    200.2,2,   200.67,2,     1.49,2,     0.02,2,      2.4,2,    0.200,2,    2.067,2,      1.3,2,    1.834,2,   2079.6,2,   2348.1,2
  49NZ20191205,    I08N,     68,   1,      31,     -99,  2,20210405,1723, -20.0001,   80.0002,  4866,    249.5,  18.1355,2,  35.7420,2,  35.7430,2,    200.1,2,   200.54,2,     2.61,2,     0.01,2,      2.5,2,    0.289,2,    2.244,2,      1.4,2,    1.855,2,   2102.7,2,   2347.5,2
  49NZ20191205,    I08N,     68,   1,      30,     -99,  2,20210405,1723, -20.0001,   80.0002,  4866,    330.1,  15.3609,2,  35.5481,2,  35.5340,2,    214.9,2,   215.90,2,     4.45,2,     0.01,2,      2.0,2,    0.419,2,    2.575,2,      1.6,2,    1.950,2,   2115.7,2,   2338.5,2
  49NZ20191205,    I08N,     68,   1,      29,     -99,  2,20210405,1723, -20.0001,   80.0002,  4866,    430.6,  11.9537,2,  35.0627,2,  35.0592,2,    226.9,2,   227.39,2,    10.27,2,     0.01,2,      3.2,2,    0.773,2,    3.045,2,      1.8,2,    1.972,2,   2128.2,2,   2313.4,2
  49NZ20191205,    I08N,     68,   1,      28,     -99,  2,20210405,1723, -20.0001,   80.0002,  4866,    530.2,  10.0997,2,  34.7876,2,  34.7915,2,    233.9,2,   234.25,2,    14.48,2,     0.01,2,      4.1,2,    1.022,2,    3.367,2,      1.9,2,    1.921,2,   2135.8,2,   2297.8,2
  49NZ20191205,    I08N,     68,   1,      27,     -99,  2,20210405,1723, -20.0001,   80.0002,  4866,    630.0,   8.8244,2,  34.6289,2,  34.6245,2,    217.8,2,   216.47,2,    19.97,2,     0.00,2,      8.8,2,    1.357,2,    3.273,2,      1.8,2,    1.394,2,   2151.0,2,   2293.3,2
  49NZ20191205,    I08N,     68,   1,      26,     -99,  2,20210405,1723, -20.0001,   80.0002,  4866,    729.1,   7.3810,2,  34.5295,2,  34.5272,2,    185.0,2,   183.98,2,    26.25,2,     0.00,2,     22.1,2,    1.775,2,    2.296,2,      1.2,2,    0.655,2,   2183.8,6,   2299.9,2
  49NZ20191205,    I08N,     68,   1,      25,     -99,  2,20210405,1723, -20.0001,   80.0002,  4866,    829.3,   5.8720,2,  34.5003,2,  34.5015,2,    154.1,2,   153.68,2,    31.74,2,     0.01,2,     42.9,2,    2.182,2,    1.109,2,      0.5,2,    0.229,2,   2222.7,2,   2317.3,2
  49NZ20191205,    I08N,     68,   1,      24,     -99,  2,20210405,1723, -20.0001,   80.0002,  4866,    928.1,   5.0976,2,  34.5371,2,  34.5401,2,    134.5,2,   133.52,2,    34.37,2,     0.00,2,     61.7,2,    2.401,2,    0.440,2,      0.2,2,    0.084,2,   2252.0,2,   2333.7,2
  49NZ20191205,    I08N,     68,   1,      23,     -99,  2,20210405,1723, -20.0001,   80.0002,  4866,   1070.8,   4.4734,2,  34.5901,2,  34.5902,2,    123.9,2,   123.72,2,    35.70,2,     0.00,2,     76.7,2,    2.504,2,    0.129,2,      0.1,2,    0.011,2,   2272.1,2,   2350.4,2
  49NZ20191205,    I08N,     68,   1,      22,     -99,  2,20210405,1723, -20.0001,   80.0002,  4866,   1270.3,   3.9499,2,  34.6584,2,  34.6607,2,    122.0,2,   122.17,2,    35.86,2,     0.01,2,     90.0,2,    2.529,2,    0.036,2,      0.0,2,    0.004,2,   2287.8,2,   2365.4,6
  49NZ20191205,    I08N,     68,   1,      21,     -99,  2,20210405,1723, -20.0001,   80.0002,  4866,   1470.8,   3.5401,2,  34.7015,2,  34.7019,2,    126.0,2,   125.97,2,    35.64,2,     0.00,2,     98.4,2,    2.512,2,    0.021,2,      0.0,2,    0.018,2,   2294.9,2,   2373.0,2
  49NZ20191205,    I08N,     68,   1,      20,     -99,  2,20210405,1723, -20.0001,   80.0002,  4866,   1669.3,   3.1140,2,  34.7178,2,  34.7181,2,    134.6,2,   134.80,2,    35.37,2,     0.01,2,    104.2,2,    2.481,2,    0.019,2,      0.0,2,    0.015,2,   2296.4,2,   2378.1,2
  49NZ20191205,    I08N,     68,   1,      19,     -99,  2,20210405,1723, -20.0001,   80.0002,  4866,   1870.4,   2.7032,2,  34.7246,2,  34.7254,2,    144.7,2,   144.62,2,    34.93,2,     0.01,2,    108.6,2,    2.439,2,    0.015,2,      0.0,2,    0.008,2,   2295.7,2,   2382.0,2
  49NZ20191205,    I08N,     68,   1,      18,     -99,  2,20210405,1723, -20.0001,   80.0002,  4866,   2070.5,   2.4121,2,  34.7264,2,  34.7273,2,    153.4,2,   153.19,2,    34.51,2,     0.00,2,    111.2,2,    2.401,2,    0.014,2,      0.0,2,    0.027,2,   2295.9,2,   2383.9,2
  49NZ20191205,    I08N,     68,   1,      17,     -99,  2,20210405,1723, -20.0001,   80.0002,  4866,   2270.9,   2.1663,2,  34.7264,2,  34.7266,2,    161.8,2,   161.78,2,    34.05,2,     0.01,2,    112.5,2,    2.360,2,    0.015,2,      0.0,2,    0.002,2,   2291.8,2,   2385.0,2
  49NZ20191205,    I08N,     68,   1,      16,     -99,  2,20210405,1723, -20.0001,   80.0002,  4866,   2470.4,   1.9701,2,  34.7261,2,  34.7263,2,    169.3,2,   169.24,2,    33.61,2,     0.01,2,    113.4,2,    2.321,2,    0.015,2,      0.0,2,    0.014,2,   2290.2,6,   2384.8,2
  49NZ20191205,    I08N,     68,   1,      15,     -99,  2,20210405,1723, -20.0001,   80.0002,  4866,   2671.0,   1.8239,2,  34.7258,2,  34.7257,2,    175.8,2,   175.84,2,    33.07,2,     0.00,2,    113.3,2,    2.276,2,    0.016,2,      0.0,2,    0.013,2,   2282.8,2,   2381.5,2
  49NZ20191205,    I08N,     68,   1,      14,     -99,  2,20210405,1723, -20.0001,   80.0002,  4866,   2870.8,   1.7039,2,  34.7261,2,  34.7265,2,    179.5,2,   179.65,2,    33.14,2,     0.01,2,    115.4,2,    2.272,2,    0.019,2,      0.0,2,    0.009,2,   2286.0,2,   2387.8,2
  49NZ20191205,    I08N,     68,   1,      13,     -99,  2,20210405,1723, -20.0001,   80.0002,  4866,   3080.9,   1.6028,2,  34.7259,2,  34.7259,2,    180.5,2,   180.69,2,    33.21,2,     0.00,2,    118.7,2,    2.277,2,    0.015,2,      0.0,2,    0.006,2,   2288.1,2,   2389.2,2
  49NZ20191205,    I08N,     68,   1,      12,     -99,  2,20210405,1723, -20.0001,   80.0002,  4866,   3330.6,   1.4964,2,  34.7248,2,  34.7247,2,    183.3,2,   183.34,2,    33.19,2,     0.00,2,    121.3,2,    2.270,2,    0.013,2,      0.0,2,    0.009,2,   2288.4,2,   2391.5,6
  49NZ20191205,    I08N,     68,   1,      11,     -99,  2,20210405,1723, -20.0001,   80.0002,  4866,   3581.1,   1.4085,2,  34.7221,2,  34.7212,2,    184.4,2,   184.40,2,    33.35,2,     0.00,2,    124.8,2,    2.278,2,    0.012,2,      0.0,2,    0.018,2,   2290.8,2,   2396.6,2
  49NZ20191205,    I08N,     68,   1,      10,     -99,  2,20210405,1723, -20.0001,   80.0002,  4866,   3830.3,   1.3755,2,  34.7203,2,  34.7205,2,    185.0,2,   185.02,2,    33.46,2,     0.00,2,    126.8,2,    2.285,2,    0.013,2,      0.0,2,    0.004,2,   2294.5,2,   2399.9,2
  49NZ20191205,    I08N,     68,   1,       9,     -99,  2,20210405,1723, -20.0001,   80.0002,  4866,   4080.8,   1.3652,2,  34.7185,2,  34.7183,2,    183.9,2,   183.90,2,    33.64,2,     0.00,2,    129.6,2,    2.299,2,    0.015,2,      0.0,2,    0.018,2,   2298.0,2,   2402.3,2
  49NZ20191205,    I08N,     68,   1,       8,     -99,  2,20210405,1723, -20.0001,   80.0002,  4866,   4333.5,   1.3714,2,  34.7177,2,  34.7178,2,    183.5,2,   183.46,2,    33.54,2,     0.00,2,    131.0,2,    2.299,2,    0.018,2,      0.0,2,    0.005,2,   2301.8,6,   2404.9,2
  49NZ20191205,    I08N,     68,   1,       7,     -99,  2,20210405,1723, -20.0001,   80.0002,  4866,   4580.8,   1.3907,2,  34.7172,2,  34.7174,2,    183.5,2,   183.36,2,    33.74,2,     0.00,2,    131.6,2,    2.307,2,    0.019,2,      0.0,2,    0.018,2,   2299.5,2,   2407.2,2
  49NZ20191205,    I08N,     68,   1,       6,     -99,  2,20210405,1723, -20.0001,   80.0002,  4866,   4829.9,   1.4169,2,  34.7171,2,  34.7169,2,    183.4,2,   183.45,2,    33.68,2,     0.01,2,    131.7,2,    2.307,2,    0.022,2,      0.0,2,    0.024,2,   2300.5,2,   2405.9,6
  49NZ20191205,    I08N,     68,   1,       1,     -99,  2,20210405,1723, -20.0001,   80.0002,  4866,   4934.3,   1.4291,2,  34.7171,2,  34.7174,2,    183.5,2,   183.52,2,    33.62,2,     0.01,2,    131.6,2,    2.307,2,    0.016,2,      0.0,2,    0.009,2,   2300.0,2,   2407.2,2
  49NZ20191205,    I08N,     66,   1,      36,     -99,  2,20210405,1723, -18.9970,   79.9999,  4946,     10.7,  28.1575,2,  35.0162,2,  35.0156,2,    200.0,2,   199.51,2,     0.02,2,     0.01,2,      1.7,2,    0.098,2,    1.462,2,      1.0,2,    1.706,2,   1972.0,2,   2294.5,2
  49NZ20191205,    I08N,     66,   1,      35,     -99,  2,20210405,1723, -18.9970,   79.9999,  4946,     51.1,  25.7370,2,  34.9388,2,  34.9430,2,    214.3,2,   213.84,2,     0.05,2,     0.01,2,      2.0,2,    0.080,2,    1.663,2,      1.0,2,    1.801,2,   1982.0,2,   2293.5,2
  49NZ20191205,    I08N,     66,   1,       2,     -99,  2,20210405,1723, -18.9970,   79.9999,  4946,     68.5,  23.9402,2,  35.0915,2,  35.0880,2,    212.6,2,   212.67,2,     0.02,2,     0.01,2,      1.8,2,    0.084,2, -999.000,9,   -999.0,9, -999.000,9,   1994.6,2,   2302.5,2
  49NZ20191205,    I08N,     66,   1,      34,     -99,  2,20210405,1723, -18.9970,   79.9999,  4946,    100.6,  22.6454,2,  35.1835,2,  35.1983,2,    189.5,2,   192.98,2,     1.07,2,     0.05,2,      3.6,2,    0.211,2,    1.813,2,      1.1,2,    1.810,2,   2032.5,2,   2310.5,2
  49NZ20191205,    I08N,     66,   1,      33,     -99,  2,20210405,1723, -18.9970,   79.9999,  4946,    150.4,  21.1267,2,  35.5012,2,  35.4924,2,    182.6,2,   181.79,2,     3.34,2,     0.03,2,      4.0,2,    0.309,2,    1.962,2,      1.2,2,    1.768,2,   2068.3,2,   2326.2,2
  49NZ20191205,    I08N,     66,   1,      32,     -99,  2,20210405,1723, -18.9970,   79.9999,  4946,    197.9,  19.6021,2,  35.6352,2,  35.6700,2,    181.9,2,   184.87,2,     3.64,2,     0.01,2,      4.2,2,    0.326,2,    2.143,2,      1.3,2,    1.764,2,   2090.6,2,   2341.4,2
  49NZ20191205,    I08N,     66,   1,      31,     -99,  2,20210405,1723, -18.9970,   79.9999,  4946,    249.7,  18.2368,2,  35.7403,2,  35.7299,2,    193.0,2,   193.22,2,     3.58,2,     0.01,2,      3.6,2,    0.334,2,    2.265,2,      1.4,2,    1.843,2,   2107.5,2,   2348.1,2
  49NZ20191205,    I08N,     66,   1,      30,     -99,  2,20210405,1723, -18.9970,   79.9999,  4946,    300.3,  16.1568,2,  35.6068,2,  35.5930,2,    204.6,2,   205.43,2,     4.42,2,     0.01,2,      3.1,2,    0.407,2,    2.608,2,      1.5,2,    1.976,2,   2115.6,2,   2340.3,2
  49NZ20191205,    I08N,     66,   1,      29,     -99,  2,20210405,1723, -18.9970,   79.9999,  4946,    402.6,  12.3710,2,  35.1267,2,  35.1260,2,    224.5,2,   224.79,2,     9.29,2,     0.01,2,      3.2,2,    0.708,2,    3.194,2,      1.8,2,    2.057,2,   2127.3,2,   2313.9,2
  49NZ20191205,    I08N,     66,   1,      28,     -99,  2,20210405,1723, -18.9970,   79.9999,  4946,    501.0,  10.2418,2,  34.8079,2,  34.8013,2,    234.8,2,   234.82,2,    14.08,2,     0.00,2,      3.9,2,    0.998,2,    3.597,2,      2.0,2,    2.052,2,   2134.2,2,   2298.6,2
  49NZ20191205,    I08N,     66,   1,      27,     -99,  2,20210405,1723, -18.9970,   79.9999,  4946,    599.8,   8.9605,2,  34.6432,2,  34.6400,2,    220.8,2,   219.96,2,    19.06,2,     0.00,2,      7.8,2,    1.306,2,    3.556,2,      1.9,2,    1.572,2,   2147.6,2,   2294.7,2
  49NZ20191205,    I08N,     66,   1,      26,     -99,  2,20210405,1723, -18.9970,   79.9999,  4946,    699.5,   7.2173,2,  34.5226,2,  34.5215,2,    181.8,2,   180.14,2,    26.72,2,     0.01,2,     24.0,2,    1.824,2,    2.304,2,      1.2,2,    0.671,2,   2185.9,6,   2300.3,2
  49NZ20191205,    I08N,     66,   1,      25,     -99,  2,20210405,1723, -18.9970,   79.9999,  4946,    801.2,   5.9304,2,  34.5565,2,  34.5585,2,    131.9,2,   130.72,2,    33.16,2,     0.01,2,     53.3,2,    2.318,2,    0.627,2,      0.3,2,    0.155,2,   2241.1,2,   2323.7,2
  49NZ20191205,    I08N,     66,   1,      24,     -99,  2,20210405,1723, -18.9970,   79.9999,  4946,    900.8,   5.2870,2,  34.5938,2,  34.5950,2,    116.4,2,   116.13,2,    35.08,2,     0.01,2,     69.2,2,    2.479,2,    0.236,2,      0.1,2,    0.030,2,   2264.2,2,   2342.6,2
  49NZ20191205,    I08N,     66,   1,      23,     -99,  2,20210405,1723, -18.9970,   79.9999,  4946,   1000.0,   4.9365,2,  34.6321,2,  34.6324,2,    110.2,2,   109.99,2,    35.79,2,     0.01,2,     79.1,2,    2.540,2,    0.106,2,      0.1,2,    0.027,2,   2281.7,2,   2352.3,2
  49NZ20191205,    I08N,     66,   1,      22,     -99,  2,20210405,1723, -18.9970,   79.9999,  4946,   1201.2,   4.2842,2,  34.6585,2,  34.6588,2,    113.6,2,   113.42,2,    36.09,2,     0.01,2,     89.1,2,    2.563,2,    0.039,2,      0.0,2,    0.007,2,   2289.6,2,   2362.2,6
  49NZ20191205,    I08N,     66,   1,      21,     -99,  2,20210405,1723, -18.9970,   79.9999,  4946,   1400.9,   3.8229,2,  34.7016,2,  34.7019,2,    117.7,2,   117.48,2,    35.96,2,     0.01,2,     98.0,2,    2.557,2,    0.022,2,      0.0,2,    0.005,2,   2296.0,2,   2371.3,2
  49NZ20191205,    I08N,     66,   1,      20,     -99,  2,20210405,1723, -18.9970,   79.9999,  4946,   1600.7,   3.3063,2,  34.7110,2,  34.7095,2,    130.0,2,   130.02,2,    35.46,2,     0.01,2,    101.7,2,    2.507,2,    0.015,2,      0.0,2,    0.002,2,   2295.4,2,   2375.3,2
  49NZ20191205,    I08N,     66,   1,      19,     -99,  2,20210405,1723, -18.9970,   79.9999,  4946,   1801.3,   2.8865,2,  34.7208,2,  34.7199,2,    140.1,2,   140.24,2,    34.99,2,     0.01,2,    106.4,2,    2.462,2,    0.015,2,      0.0,2,    0.005,2,   2295.7,2,   2378.8,2
  49NZ20191205,    I08N,     66,   1,      18,     -99,  2,20210405,1723, -18.9970,   79.9999,  4946,   2000.1,   2.5221,2,  34.7255,2,  34.7250,2,    150.1,2,   150.10,2,    34.45,2,     0.01,2,    110.1,2,    2.419,2,    0.013,2,      0.0,2,    0.015,2,   2293.0,2,   2382.2,2
  49NZ20191205,    I08N,     66,   1,      17,     -99,  2,20210405,1723, -18.9970,   79.9999,  4946,   2200.0,   2.2506,2,  34.7263,2,  34.7260,2,    159.1,2,   159.31,2,    34.07,2,     0.00,2,    111.9,2,    2.376,2,    0.015,2,      0.0,2,    0.005,2,   2293.2,2,   2384.5,2
  49NZ20191205,    I08N,     66,   1,      16,     -99,  2,20210405,1723, -18.9970,   79.9999,  4946,   2399.8,   2.0413,2,  34.7270,2,  34.7264,2,    165.6,2,   165.85,2,    33.71,2,     0.00,2,    113.6,2,    2.350,2,    0.014,2,      0.0,2,    0.004,2,   2290.1,6,   2386.4,2
  49NZ20191205,    I08N,     66,   1,      15,     -99,  2,20210405,1723, -18.9970,   79.9999,  4946,   2602.6,   1.8840,2,  34.7274,2,  34.7264,2,    170.2,2,   170.16,2,    33.56,2,     0.01,2,    115.9,2,    2.319,2,    0.013,2,      0.0,2,    0.016,2,   2293.0,2,   2385.5,2
  49NZ20191205,    I08N,     66,   1,      14,     -99,  2,20210405,1723, -18.9970,   79.9999,  4946,   2799.9,   1.7855,2,  34.7273,2,  34.7262,2,    172.8,2,   172.97,2,    33.55,2,     0.01,2,    118.0,2,    2.312,2,    0.014,2,      0.0,2,    0.005,2,   2291.5,2,   2388.9,2
  49NZ20191205,    I08N,     66,   1,      13,     -99,  2,20210405,1723, -18.9970,   79.9999,  4946,   3002.6,   1.6747,2,  34.7263,2,  34.7259,2,    174.8,2,   174.99,2,    33.51,2,     0.01,2,    121.1,2,    2.316,2,    0.016,2,      0.0,2,    0.002,2,   2290.8,2,   2393.8,2
  49NZ20191205,    I08N,     66,   1,      12,     -99,  2,20210405,1723, -18.9970,   79.9999,  4946,   3252.2,   1.5640,2,  34.7248,2,  34.7241,2,    177.5,2,   177.74,2,    33.56,2,     0.01,2,    124.0,2,    2.311,2,    0.014,2,      0.0,2,    0.009,2,   2293.7,2,   2395.2,6
  49NZ20191205,    I08N,     66,   1,      11,     -99,  2,20210405,1723, -18.9970,   79.9999,  4946,   3500.4,   1.4844,2,  34.7232,2,  34.7232,2,    179.9,2,   179.92,2,    33.53,2,     0.01,2,    125.8,2,    2.305,2,    0.011,2,      0.0,2,    0.008,2,   2293.2,2,   2395.5,2
  49NZ20191205,    I08N,     66,   1,      10,     -99,  2,20210405,1723, -18.9970,   79.9999,  4946,   3749.3,   1.4172,2,  34.7213,2,  34.7208,2,    183.3,2,   183.24,2,    33.41,2,     0.01,2,    126.2,2,    2.290,2,    0.011,2,      0.0,2,    0.004,2,   2292.6,2,   2397.3,2
  49NZ20191205,    I08N,     66,   1,       9,     -99,  2,20210405,1723, -18.9970,   79.9999,  4946,   3998.0,   1.3843,2,  34.7194,2,  34.7192,2,    183.4,2,   183.52,2,    33.45,2,     0.01,2,    129.0,2,    2.299,2,    0.017,2,      0.0,2,    0.009,2,   2295.4,2,   2401.6,2
  49NZ20191205,    I08N,     66,   1,       8,     -99,  2,20210405,1723, -18.9970,   79.9999,  4946,   4249.9,   1.3768,2,  34.7181,2,  34.7182,2,    183.3,2,   183.25,2,    33.57,2,     0.00,2,    130.5,2,    2.301,2,    0.015,2,      0.0,2,    0.000,2,   2297.4,6,   2402.3,2
  49NZ20191205,    I08N,     66,   1,       7,     -99,  2,20210405,1723, -18.9970,   79.9999,  4946,   4499.8,   1.3812,2,  34.7173,2,  34.7176,2,    183.3,2,   183.47,2,    33.53,2,     0.00,2,    131.5,2,    2.306,2,    0.015,2,      0.0,2,    0.014,2,   2298.0,2,   2402.9,2
  49NZ20191205,    I08N,     66,   1,       6,     -99,  2,20210405,1723, -18.9970,   79.9999,  4946,   4752.2,   1.3986,2,  34.7169,2,  34.7172,2,    183.6,2,   183.70,2,    33.55,2,     0.00,2,    131.8,2,    2.303,2,    0.015,2,      0.0,2,    0.005,2,   2297.6,2,   2405.2,6
  49NZ20191205,    I08N,     66,   1,       1,     -99,  2,20210405,1723, -18.9970,   79.9999,  4946,   5016.5,   1.4234,2,  34.7167,2,  34.7165,2,    183.9,2,   184.05,2,    33.46,2,     0.00,2,    131.4,2,    2.305,2,    0.019,2,      0.0,2,    0.004,2,   2297.3,2,   2405.6,2