BOTTLE,20212805JOAExport
EXPOCODE,SECT_ID,STNNBR,CASTNO,SAMPNO,BTLNBR,BTLNBR_FLAG_W,DATE,TIME,LATITUDE,LONGITUDE,DEPTH,CTDPRS,CTDTMP,CTDTMP_FLAG_W,CTDSAL,CTDSAL_FLAG_W,SALNTY,SALNTY_FLAG_W,CTDOXY,CTDOXY_FLAG_W,OXYGEN,OXYGEN_FLAG_W,NITRAT,NITRAT_FLAG_W,NITRIT,NITRIT_FLAG_W,SILCAT,SILCAT_FLAG_W,PHSPHT,PHSPHT_FLAG_W,CFC-11,CFC-11_FLAG_W,CFC-12,CFC-12_FLAG_W,SF6,SF6_FLAG_W,TCARBN,TCARBN_FLAG_W,ALKALI,ALKALI_FLAG_W
,,,,,,,,,,,,DB,ITS-90,,PSS-78,,PSS-78,,UMOL/KG,,UMOL/KG,,UMOL/KG,,UMOL/KG,,UMOL/KG,,UMOL/KG,,PMOL/KG,,PMOL/KG,,FMOL/KG,,UMOL/KG,,UMOL/KG
  49NZ20191205,    I08N,      3,   1,      36,     -99,  2,20210405,1723,   5.7919,   79.9940,  1390,     10.3,  28.9133,2,  32.7067,2,  32.6824,2,    195.2,2,   195.96,2,     0.01,2,     0.02,2,      2.1,2,    0.044,2,    1.436,2,      0.9,2,    1.653,2,   1885.7,2,   2182.0,2
  49NZ20191205,    I08N,      3,   1,       2,     -99,  2,20210405,1723,   5.7919,   79.9940,  1390,     23.6,  29.0611,2,  33.4865,2,  33.4364,2,    187.7,2,   190.61,2,     0.24,2,     0.07,2,      1.9,2,    0.080,2, -999.000,9,   -999.0,9, -999.000,9,   1916.1,2,   2216.0,2
  49NZ20191205,    I08N,      3,   1,      35,     -99,  2,20210405,1723,   5.7919,   79.9940,  1390,     50.6,  27.5274,2,  34.5252,2,  34.5287,2,    139.9,2,   140.72,2,     5.28,2,     0.43,2,      4.4,2,    0.508,2,    1.404,2,      0.9,2,    1.279,2,   2016.2,2,   2265.3,2
  49NZ20191205,    I08N,      3,   1,      34,     -99,  2,20210405,1723,   5.7919,   79.9940,  1390,    100.7,  21.3340,2,  34.9195,2,  34.9199,2,     35.8,2,    36.35,2,    22.56,2,     0.02,2,     16.2,2,    1.630,2,    1.315,2,      0.8,2,    0.922,2,   2176.3,2,   2286.9,2
  49NZ20191205,    I08N,      3,   1,      33,     -99,  2,20210405,1723,   5.7919,   79.9940,  1390,    150.1,  16.0523,2,  34.9502,2,  34.9504,2,     14.9,2,    14.77,2,    28.98,2,     0.00,2,     26.2,2,    2.096,2,    1.138,2,      0.7,2,    0.515,2,   2230.9,2,   2295.2,2
  49NZ20191205,    I08N,      3,   1,      32,     -99,  2,20210405,1723,   5.7919,   79.9940,  1390,    199.5,  13.6664,2,  35.0534,2,  35.0551,2,     11.3,2,    11.05,2,    31.36,2,     0.00,2,     29.3,2,    2.258,2,    1.147,2,      0.6,2,    0.388,2,   2259.1,2,   2309.1,2
  49NZ20191205,    I08N,      3,   1,      31,     -99,  2,20210405,1723,   5.7919,   79.9940,  1390,    248.5,  12.6181,2,  35.1167,2,  35.1166,2,     27.2,2,    27.21,2,    30.81,2,     0.00,2,     27.8,2,    2.174,2,    1.341,2,      0.7,2,    0.381,2,   2262.2,2,   2310.1,2
  49NZ20191205,    I08N,      3,   1,      30,     -99,  2,20210405,1723,   5.7919,   79.9940,  1390,    328.5,  11.3821,2,  35.1205,2,  35.1193,2,     27.3,2,    27.31,2,    32.57,2,     0.00,2,     33.0,2,    2.287,2,    1.086,2,      0.6,2,    0.301,2,   2274.0,2,   2321.3,2
  49NZ20191205,    I08N,      3,   1,      29,     -99,  2,20210405,1723,   5.7919,   79.9940,  1390,    430.0,  10.5630,2,  35.0692,2,  35.0685,2,     22.1,2,    21.71,2,    34.79,2,     0.00,2,     42.2,2,    2.467,2,    0.638,2,      0.4,2,    0.102,2,   2282.5,2,   2325.3,2
  49NZ20191205,    I08N,      3,   1,      28,     -99,  2,20210405,1723,   5.7919,   79.9940,  1390,    528.6,   9.6994,2,  35.0429,2,  35.0431,2,     18.8,2,    18.98,2,    36.07,2,     0.00,2,     50.6,2,    2.592,2,    0.388,2,      0.2,2,    0.105,2,   2298.0,2,   2333.3,2
  49NZ20191205,    I08N,      3,   1,      27,     -99,  2,20210405,1723,   5.7919,   79.9940,  1390,    632.9,   9.3357,2,  35.0498,2,  35.0476,2,     19.4,2,    19.74,2,    36.52,2,     0.00,2,     55.6,2,    2.652,2,    0.273,2,      0.2,2,    0.075,2,   2300.9,2,   2337.1,2
  49NZ20191205,    I08N,      3,   1,      26,     -99,  2,20210405,1723,   5.7919,   79.9940,  1390,    729.9,   8.3113,2,  35.0078,2,  35.0073,2,     27.1,2,    27.13,2,    37.16,2,     0.00,2,     66.3,2,    2.716,2,    0.161,2,      0.1,2,    0.035,2,   2317.6,6,   2347.5,2
  49NZ20191205,    I08N,      3,   1,      25,     -99,  2,20210405,1723,   5.7919,   79.9940,  1390,    829.9,   7.5536,2,  34.9757,2,  34.9757,2,     34.2,2,    34.62,2,    37.69,2,     0.00,2,     74.8,2,    2.744,2,    0.095,2,      0.1,2,    0.025,2,   -999.0,3,   2356.3,2
  49NZ20191205,    I08N,      3,   1,      24,     -99,  2,20210405,1723,   5.7919,   79.9940,  1390,    930.1,   6.9987,2,  34.9517,2,  34.9505,2,     40.5,2,    41.29,2,    37.81,2,     0.00,2,     81.5,2,    2.759,2,    0.069,2,      0.0,2,    0.006,2,   2324.5,2,   2362.4,2
  49NZ20191205,    I08N,      3,   1,      23,     -99,  2,20210405,1723,   5.7919,   79.9940,  1390,   1069.1,   6.4331,2,  34.9317,2,  34.9316,2,     49.1,2,    49.19,2,    37.56,2,     0.00,2,     86.9,2,    2.752,2,    0.051,2,      0.0,2,    0.008,2,   2325.1,2,   2369.7,2
  49NZ20191205,    I08N,      3,   1,      22,     -99,  2,20210405,1723,   5.7919,   79.9940,  1390,   1269.2,   5.5872,2,  34.8924,2,  34.8919,2,     60.9,2,    61.59,2,    37.78,2,     0.00,2,     97.4,2,    2.756,2,    0.034,2,      0.0,2,    0.002,2,   2330.9,2,   2378.4,6
  49NZ20191205,    I08N,      3,   1,       1,     -99,  2,20210405,1723,   5.7919,   79.9940,  1390,   1393.9,   5.0603,2,  34.8729,2,  34.8730,2,     69.5,2,    69.18,2,    37.86,2,     0.00,2,    103.1,2,    2.751,2,    0.028,2,      0.0,2,    0.049,2,   2333.7,2,   2380.6,2
  49NZ20191205,    I08N,      2,   1,      36,     -99,  2,20210405,1723,   5.8719,   79.9870,   824,     10.2,  28.9854,2,  33.3528,2,  33.3572,2,    194.4,2,   195.61,2,     0.04,2,     0.02,2,      1.7,2,    0.066,2,    1.343,2,      0.9,2,    1.686,2,   1907.3,2,   2207.7,2
  49NZ20191205,    I08N,      2,   1,       2,     -99,  2,20210405,1723,   5.8719,   79.9870,   824,     12.0,  28.9974,2,  33.3614,2,  33.3689,2,    193.9,2,   195.14,2,     0.03,2,     0.03,2,      1.7,2,    0.064,2, -999.000,9,   -999.0,9, -999.000,9,   1910.8,2,   2212.5,2
  49NZ20191205,    I08N,      2,   1,      35,     -99,  2,20210405,1723,   5.8719,   79.9870,   824,     49.6,  27.9675,2,  34.4119,2,  34.4133,2,    152.4,2,   153.60,2,     3.70,2,     0.42,2,      3.7,2,    0.400,2,    1.321,2,      0.9,2,    1.507,2,   1993.2,2,   2256.6,2
  49NZ20191205,    I08N,      2,   1,      34,     -99,  2,20210405,1723,   5.8719,   79.9870,   824,     99.6,  21.7518,2,  34.9119,2,  34.9142,2,     39.1,2,    39.52,2,    21.86,2,     0.03,2,     15.3,2,    1.581,2,    1.324,2,      0.8,2,    0.982,2,   2154.3,2,   2280.3,2
  49NZ20191205,    I08N,      2,   1,      33,     -99,  2,20210405,1723,   5.8719,   79.9870,   824,    150.1,  16.3523,2,  34.9442,2,  34.9458,2,     15.1,2,    15.00,2,    28.81,2,     0.01,2,     26.1,2,    2.082,2,    1.129,2,      0.7,2,    0.570,2,   2223.2,2,   2295.6,2
  49NZ20191205,    I08N,      2,   1,      32,     -99,  2,20210405,1723,   5.8719,   79.9870,   824,    200.1,  14.2253,2,  35.0118,2,  35.0183,2,     15.2,2,    15.84,2,    30.74,2,     0.00,2,     29.2,2,    2.207,2,    1.107,2,      0.6,2,    0.404,2,   2247.0,2,   2303.7,2
  49NZ20191205,    I08N,      2,   1,      31,     -99,  2,20210405,1723,   5.8719,   79.9870,   824,    248.5,  12.8624,2,  35.0705,2,  35.0778,2,     21.5,2,    22.95,2,    31.16,2,     0.00,2,     29.4,2,    2.211,2,    1.187,2,      0.7,2,    0.392,2,   2252.0,2,   2314.9,2
  49NZ20191205,    I08N,      2,   1,      30,     -99,  2,20210405,1723,   5.8719,   79.9870,   824,    299.5,  11.7352,2,  35.1124,2,  35.1124,2,     29.7,2,    29.96,2,    31.85,2,     0.00,2,     31.0,2,    2.221,2,    1.189,2,      0.7,2,    0.363,2,   2263.6,2,   2315.9,2
  49NZ20191205,    I08N,      2,   1,      29,     -99,  2,20210405,1723,   5.8719,   79.9870,   824,    399.3,  10.6964,2,  35.0795,2,  35.0794,2,     22.8,2,    23.01,2,    34.16,2,     0.00,2,     39.8,2,    2.414,2,    0.751,2,      0.4,2,    0.205,2,   2275.9,2,   2325.3,2
  49NZ20191205,    I08N,      2,   1,      28,     -99,  2,20210405,1723,   5.8719,   79.9870,   824,    500.5,  10.0334,2,  35.0612,2,  35.0603,2,     20.0,2,    20.59,2,    35.40,2,     0.01,2,     47.0,2,    2.538,2,    0.485,2,      0.3,2,    0.120,2,   2290.2,2,   2328.8,2
  49NZ20191205,    I08N,      2,   1,      27,     -99,  2,20210405,1723,   5.8719,   79.9870,   824,    599.3,   9.5990,2,  35.0522,2,  35.0526,2,     20.2,2,    19.87,2,    36.12,2,     0.00,2,     51.6,2,    2.608,2,    0.354,2,      0.2,2,    0.063,2,   2291.3,2,   2332.4,2
  49NZ20191205,    I08N,      2,   1,      26,     -99,  2,20210405,1723,   5.8719,   79.9870,   824,    698.8,   8.3887,2,  35.0097,2,  35.0092,2,     27.1,2,    27.18,2,    37.15,2,     0.00,2,     65.0,2,    2.716,2,    0.166,2,      0.1,2,    0.034,2,   2304.1,6,   2348.9,2
  49NZ20191205,    I08N,      2,   1,       1,     -99,  2,20210405,1723,   5.8719,   79.9870,   824,    820.0,   7.9047,2,  34.9893,2,  34.9888,2,     31.4,2,    31.12,2,    37.46,2,     0.00,2,     71.1,2,    2.739,2,    0.116,2,      0.1,2,    0.016,2,   2311.7,2,   2353.0,2