BOTTLE,20210420POGBASEPA
EXPOCODE,SECT_ID,STNNBR,CASTNO,SAMPNO,BTLNBR,BTLNBR_FLAG_W,DATE,TIME,LATITUDE,LONGITUDE,DEPTH,CTDPRS,CTDTMP,SBE35,SBE35_FLAG_W,CTDSAL,CTDSAL_FLAG_W,SALNTY,SALNTY_FLAG_W,CTDOXY,CTDOXY_FLAG_W,OXYGEN,OXYGEN_FLAG_W,SILCAT,SILCAT_FLAG_W,NO2+NO3,NO2+NO3_FLAG_W,PHSPHT,PHSPHT_FLAG_W,DELO18,DELO18_FLAG_W,D30SI_SILCAT,D30SI_SILCAT_FLAG_W,CTDFLUOR,BOTCHLA,BOTCHLA_FLAG_W
 , , , , , , , , , , ,METERS,DBAR,ITS-90,ITS-90, ,PSS-78, ,PSS-78, ,UMOL/KG, ,UMOL/KG, ,UMOL/KG, ,UMOL/KG,UMOL/KG,UMOL/KG,UMOL/KG,/MILLE,/MILLE,/MILLE,/MILLE,MG/M^3,ML/L,ML/L
740H20210202,SR1b_A23, 52,1, 1,9002,2,20210220,1516,-59.77786, -30.89870,3793,3850.2,-0.0976,-0.0979, 2.0000,34.6546,2,-999.0000,9, 236.6,2,-999.0,9, -999.00,9, -999.00,9, -999.00,9,-999.0000,9,-999.0000,9, 0.0181, -999.0,9
740H20210202,SR1b_A23, 52,1, 2,9003,2,20210220,1516,-59.77790, -30.89868,3793,3850.2,-0.0977,-0.0978, 2.0000,34.6546,2,34.6540,2, 236.5,2, 235.8,4, -999.00,9, -999.00,9, -999.00,9,-999.0000,1,-999.0000,9, 0.0093, -999.0,9
740H20210202,SR1b_A23, 52,1, 3,8149,2,20210220,1523,-59.77828, -30.89848,3793,3567.0,-0.1117,-0.1118, 2.0000,34.6553,2,-999.0000,9, 235.8,2,-999.0,9, -999.00,9, -999.00,9, -999.00,9,-999.0000,9,-999.0000,9, 0.0113, -999.0,9
740H20210202,SR1b_A23, 52,1, 4,9005,2,20210220,1524,-59.77836, -30.89844,3793,3567.0,-0.1117,-0.1119, 2.0000,34.6553,2,34.6541,2, 235.9,2, 234.6,4, -999.00,9, -999.00,9, -999.00,9,-999.0000,1,-999.0000,9, 0.0088, -999.0,9
740H20210202,SR1b_A23, 52,1, 5,9006,2,20210220,1534,-59.77909, -30.89868,3793,3052.6,-0.1150,-0.1146, 2.0000,34.6566,2,34.6550,2, 233.7,2, 232.3,4, -999.00,9, -999.00,9, -999.00,9,-999.0000,1,-999.0000,9, 0.0093, -999.0,9
740H20210202,SR1b_A23, 52,1, 6,9007,2,20210220,1545,-59.77990, -30.89942,3793,2538.6,-0.0745,-0.0736, 2.0000,34.6595,2,34.6587,2, 230.3,2,-999.0,9, -999.00,9, -999.00,9, -999.00,9,-999.0000,1,-999.0000,9, 0.0077, -999.0,9
740H20210202,SR1b_A23, 52,1, 7,9008,2,20210220,1556,-59.78066, -30.90036,3793,2025.6,-0.0186,-0.0178, 2.0000,34.6633,2,-999.0000,9, 226.5,2,-999.0,9, -999.00,9, -999.00,9, -999.00,9,-999.0000,9,-999.0000,9, 0.0103, -999.0,9
740H20210202,SR1b_A23, 52,1, 8,9009,2,20210220,1557,-59.78069, -30.90042,3793,2025.8,-0.0185,-0.0180, 2.0000,34.6633,2,34.6631,2, 226.5,2, 224.7,4, -999.00,9, -999.00,9, -999.00,9,-999.0000,1,-999.0000,9, 0.0105, -999.0,9
740H20210202,SR1b_A23, 52,1, 9,9010,2,20210220,1608,-59.78148, -30.90142,3793,1515.4, 0.1427, 0.1441, 2.0000,34.6709,2,-999.0000,9, 219.2,2,-999.0,9, -999.00,9, -999.00,9, -999.00,9,-999.0000,9,-999.0000,9, 0.0107, -999.0,9
740H20210202,SR1b_A23, 52,1,10,8156,2,20210220,1609,-59.78158, -30.90155,3793,1515.6, 0.1438, 0.1444, 2.0000,34.6709,2,34.6700,2, 219.0,2, 217.7,4, -999.00,9, -999.00,9, -999.00,9,-999.0000,1,-999.0000,9, 0.0143, -999.0,9
740H20210202,SR1b_A23, 52,1,11,9012,2,20210220,1619,-59.78184, -30.90186,3793,1009.4, 0.3389, 0.3394, 2.0000,34.6792,2,-999.0000,9, 210.6,2,-999.0,9, -999.00,9, -999.00,9, -999.00,9,-999.0000,9,-999.0000,9, 0.0180, -999.0,9
740H20210202,SR1b_A23, 52,1,12,9013,2,20210220,1620,-59.78184, -30.90186,3793,1009.5, 0.3398, 0.3397, 2.0000,34.6791,2,34.6798,2, 210.3,2,-999.0,9, -999.00,9, -999.00,9, -999.00,9,-999.0000,1,-999.0000,9, 0.0145, -999.0,9
740H20210202,SR1b_A23, 52,1,13,9014,2,20210220,1630,-59.78182, -30.90186,3793, 503.6, 0.5458, 0.5453, 2.0000,34.6815,2,-999.0000,9, 203.0,2,-999.0,9, -999.00,9, -999.00,9, -999.00,9,-999.0000,9,-999.0000,9, 0.0174, -999.0,9
740H20210202,SR1b_A23, 52,1,14,9015,2,20210220,1631,-59.78184, -30.90186,3793, 503.6, 0.5458, 0.5459, 2.0000,34.6815,2,34.6814,2, 203.0,2, 202.2,4, -999.00,9, -999.00,9, -999.00,9,-999.0000,1,-999.0000,9, 0.0169, -999.0,9
740H20210202,SR1b_A23, 52,1,15,9016,2,20210220,1638,-59.78182, -30.90186,3793, 225.8,-0.0573,-0.0754, 2.0000,34.5794,2,-999.0000,9, 228.2,2,-999.0,9, -999.00,9, -999.00,9, -999.00,9,-999.0000,9,-999.0000,9, 0.0446, -999.0,9
740H20210202,SR1b_A23, 52,1,16,9017,2,20210220,1639,-59.78182, -30.90188,3793, 225.8,-0.0651,-0.0661, 2.0000,34.5789,2,34.5824,2, 228.5,2,-999.0,9, -999.00,9, -999.00,9, -999.00,9,-999.0000,1,-999.0000,9, 0.0356, -999.0,9
740H20210202,SR1b_A23, 52,1,17,9018,2,20210220,1643,-59.78182, -30.90188,3793, 150.2,-0.6628,-0.6710, 2.0000,34.4382,2,-999.0000,9, 260.0,2,-999.0,9, -999.00,9, -999.00,9, -999.00,9,-999.0000,9,-999.0000,9, 0.0452, -999.0,9
740H20210202,SR1b_A23, 52,1,18,9019,2,20210220,1644,-59.78182, -30.90186,3793, 150.3,-0.6592,-0.6762, 2.0000,34.4407,2,34.4474,2, 260.1,2,-999.0,9, -999.00,9, -999.00,9, -999.00,9,-999.0000,1,-999.0000,9, 0.0589, -999.0,9
740H20210202,SR1b_A23, 52,1,19,9020,2,20210220,1649,-59.78184, -30.90186,3793,  49.1,-0.5188,-0.3184, 2.0000,33.7355,2,-999.0000,9, 341.9,2,-999.0,9, -999.00,9, -999.00,9, -999.00,9,-999.0000,9,-999.0000,9, 2.8338, -999.0,9
740H20210202,SR1b_A23, 52,1,20,9021,2,20210220,1651,-59.78182, -30.90186,3793,  48.7,-0.4014,-0.3773, 2.0000,33.7119,2,33.7098,2, 342.1,2,-999.0,9, -999.00,9, -999.00,9, -999.00,9,-999.0000,1,-999.0000,9, 2.7485, -999.0,9
740H20210202,SR1b_A23, 52,1,21,9022,2,20210220,1654,-59.78182, -30.90186,3793,  18.8, 0.5773, 0.5706, 2.0000,33.5596,2,-999.0000,9, 359.1,2,-999.0,9, -999.00,9, -999.00,9, -999.00,9,-999.0000,9,-999.0000,9, 2.2768, -999.0,9
740H20210202,SR1b_A23, 52,1,22,9023,2,20210220,1655,-59.78182, -30.90186,3793,  19.0, 0.5711, 0.5729, 2.0000,33.5601,2,33.5613,2, 359.3,2, 355.9,4, -999.00,9, -999.00,9, -999.00,9,-999.0000,1,-999.0000,9, 2.0993, -999.0,9
740H20210202,SR1b_A23, 52,1,23,9024,2,20210220,1656,-59.78182, -30.90186,3793,   3.8, 0.5681, 0.5681, 2.0000,33.5603,2,-999.0000,9, 359.3,2,-999.0,9, -999.00,9, -999.00,9, -999.00,9,-999.0000,9,-999.0000,9, 1.1853, -999.0,9
740H20210202,SR1b_A23, 52,1,24,9025,2,20210220,1658,-59.78184, -30.90184,3793,   3.2, 0.5705, 0.5818, 2.0000,33.5601,2,33.5600,2, 359.6,2, 356.5,4, -999.00,9, -999.00,9, -999.00,9,-999.0000,1,-999.0000,9, 0.9195, -999.0,9
740H20210202,SR1b_A23, 53,1, 1,9002,2,20210220,1959,-59.99200, -30.93660,2991,3027.0,-0.1278,-0.1257, 2.0000,34.6561,2,-999.0000,9, 234.5,2,-999.0,9, -999.00,9, -999.00,9, -999.00,9,-999.0000,9,-999.0000,9, 0.0118, -999.0,9
740H20210202,SR1b_A23, 53,1, 2,9003,2,20210220,2000,-59.99200, -30.93660,2991,3027.1,-0.1283,-0.1308, 2.0000,34.6559,2,34.6556,2, 234.4,2,-999.0,9, -999.00,9, -999.00,9, -999.00,9,-999.0000,1,-999.0000,9, 0.0096, -999.0,9
740H20210202,SR1b_A23, 53,1, 3,8149,2,20210220,2010,-59.99198, -30.93660,2991,2543.0,-0.0772,-0.0762, 2.0000,34.6592,2,-999.0000,9, 230.3,2,-999.0,9, -999.00,9, -999.00,9, -999.00,9,-999.0000,9,-999.0000,9, 0.0082, -999.0,9
740H20210202,SR1b_A23, 53,1, 4,9005,2,20210220,2011,-59.99200, -30.93660,2991,2543.0,-0.0764,-0.0762, 2.0000,34.6592,2,34.6591,2, 230.1,2,-999.0,9, -999.00,9, -999.00,9, -999.00,9,-999.0000,1,-999.0000,9, 0.0111, -999.0,9
740H20210202,SR1b_A23, 53,1, 5,9006,2,20210220,2021,-59.99202, -30.93660,2991,2031.9,-0.0291,-0.0278, 2.0000,34.6627,2,34.6631,2, 227.5,2,-999.0,9, -999.00,9, -999.00,9, -999.00,9,-999.0000,1,-999.0000,9, 0.0105, -999.0,9
740H20210202,SR1b_A23, 53,1, 6,9007,2,20210220,2031,-59.99203, -30.93658,2991,1522.4, 0.1153, 0.1169, 2.0000,34.6699,2,34.6698,2, 220.3,2,-999.0,9, -999.00,9, -999.00,9, -999.00,9,-999.0000,1,-999.0000,9, 0.0141, -999.0,9
740H20210202,SR1b_A23, 53,1, 7,9008,2,20210220,2041,-59.99200, -30.93660,2991,1014.1, 0.3275, 0.3293, 2.0000,34.6788,2,34.6785,2, 211.3,2,-999.0,9, -999.00,9, -999.00,9, -999.00,9,-999.0000,1,-999.0000,9, 0.0146, -999.0,9
740H20210202,SR1b_A23, 53,1, 8,9009,2,20210220,2048,-59.99202, -30.93660,2991, 760.1, 0.4466, 0.4466, 2.0000,34.6822,2,34.6822,2, 206.6,2,-999.0,9, -999.00,9, -999.00,9, -999.00,9,-999.0000,1,-999.0000,9, 0.0227, -999.0,9
740H20210202,SR1b_A23, 53,1, 9,9010,2,20210220,2048,-59.99202, -30.93658,2991, 760.1, 0.4457, 0.4452, 2.0000,34.6822,2,-999.0000,9, 206.3,2,-999.0,9, -999.00,9, -999.00,9, -999.00,9,-999.0000,9,-999.0000,9, 0.0182, -999.0,9
740H20210202,SR1b_A23, 53,1,10,8156,2,20210220,2055,-59.99204, -30.93660,2991, 506.5, 0.5315, 0.5314, 2.0000,34.6790,2,-999.0000,9, 204.9,2,-999.0,9, -999.00,9, -999.00,9, -999.00,9,-999.0000,9,-999.0000,9, 0.0207, -999.0,9
740H20210202,SR1b_A23, 53,1,11,9012,2,20210220,2055,-59.99204, -30.93658,2991, 506.5, 0.5315, 0.5314, 2.0000,34.6792,2,34.6786,2, 204.5,2,-999.0,9, -999.00,9, -999.00,9, -999.00,9,-999.0000,1,-999.0000,9, 0.0151, -999.0,9
740H20210202,SR1b_A23, 53,1,12,9013,2,20210220,2100,-59.99202, -30.93664,2991, 354.2, 0.4347, 0.4294, 2.0000,34.6581,2,-999.0000,9, 208.9,2,-999.0,9, -999.00,9, -999.00,9, -999.00,9,-999.0000,9,-999.0000,9, 0.0157, -999.0,9
740H20210202,SR1b_A23, 53,1,13,9014,2,20210220,2101,-59.99202, -30.93658,2991, 354.3, 0.4328, 0.4321, 2.0000,34.6579,2,34.6582,2, 209.0,2,-999.0,9, -999.00,9, -999.00,9, -999.00,9,-999.0000,1,-999.0000,9, 0.0200, -999.0,9
740H20210202,SR1b_A23, 53,1,14,9015,2,20210220,2105,-59.99206, -30.93662,2991, 228.3, 0.0871, 0.0904, 2.0000,34.5981,2,34.6040,2, 224.2,2,-999.0,9, -999.00,9, -999.00,9, -999.00,9,-999.0000,1,-999.0000,9, 0.0260, -999.0,9
740H20210202,SR1b_A23, 53,1,15,9016,2,20210220,2109,-59.99202, -30.93660,2991, 152.0,-0.7312,-0.7312, 2.0000,34.4069,2,-999.0000,9, 264.5,2,-999.0,9, -999.00,9, -999.00,9, -999.00,9,-999.0000,9,-999.0000,9, 0.0548, -999.0,9
740H20210202,SR1b_A23, 53,1,16,9017,2,20210220,2110,-59.99202, -30.93658,2991, 152.0,-0.7268,-0.7266, 2.0000,34.4079,2,34.4134,2, 264.1,2,-999.0,9, -999.00,9, -999.00,9, -999.00,9,-999.0000,1,-999.0000,9, 0.0456, -999.0,9
740H20210202,SR1b_A23, 53,1,17,9018,2,20210220,2114,-59.99202, -30.93658,2991, 101.7,-1.1935,-1.1929, 2.0000,34.2643,2,-999.0000,9, 290.8,2,-999.0,9, -999.00,9, -999.00,9, -999.00,9,-999.0000,9,-999.0000,9, 0.1034, -999.0,9
740H20210202,SR1b_A23, 53,1,18,9019,2,20210220,2115,-59.99202, -30.93658,2991, 101.5,-1.1902,-1.1943, 2.0000,34.2652,2,34.2652,2, 290.8,2,-999.0,9, -999.00,9, -999.00,9, -999.00,9,-999.0000,1,-999.0000,9, 0.1057, -999.0,9
740H20210202,SR1b_A23, 53,1,19,9020,2,20210220,2120,-59.99202, -30.93656,2991,  51.4,-0.2619,-0.4205, 2.0000,33.6435,2,-999.0000,9, 346.1,2,-999.0,9, -999.00,9, -999.00,9, -999.00,9,-999.0000,9,-999.0000,9, 1.7801, -999.0,9
740H20210202,SR1b_A23, 53,1,20,9021,2,20210220,2121,-59.99202, -30.93654,2991,  51.5,-0.2775,-0.2729, 2.0000,33.6454,2,33.7078,2, 346.1,2,-999.0,9, -999.00,9, -999.00,9, -999.00,9,-999.0000,1,-999.0000,9, 2.1790, -999.0,9
740H20210202,SR1b_A23, 53,1,21,9022,2,20210220,2125,-59.99202, -30.93660,2991,  20.3, 0.4571, 0.4401, 2.0000,33.5359,2,-999.0000,9, 357.7,2,-999.0,9, -999.00,9, -999.00,9, -999.00,9,-999.0000,9,-999.0000,9, 2.1091, -999.0,9
740H20210202,SR1b_A23, 53,1,22,9023,2,20210220,2125,-59.99202, -30.93660,2991,  20.7, 0.4434, 0.4424, 2.0000,33.5366,2,33.5366,2, 357.8,2,-999.0,9, -999.00,9, -999.00,9, -999.00,9,-999.0000,1,-999.0000,9, 2.1132, -999.0,9
740H20210202,SR1b_A23, 53,1,23,9024,2,20210220,2128,-59.99204, -30.93660,2991,   5.9, 0.4852, 0.4875, 2.0000,33.5343,2,-999.0000,9, 358.3,2,-999.0,9, -999.00,9, -999.00,9, -999.00,9,-999.0000,9,-999.0000,9, 2.0348, -999.0,9
740H20210202,SR1b_A23, 53,1,24,9025,2,20210220,2130,-59.99204, -30.93658,2991,   5.0, 0.4868, 0.4808, 2.0000,33.5339,2,33.5344,2, 358.7,2,-999.0,9, -999.00,9, -999.00,9, -999.00,9,-999.0000,1,-999.0000,9, 2.1532, -999.0,9
740H20210202,SR1b_A23, 54,1, 1,9002,2,20210221,0101,-60.31318, -30.99040,2580,2584.9,-0.0564,-0.0567, 2.0000,34.6599,2,-999.0000,9, 228.8,2,-999.0,9, -999.00,9, -999.00,9, -999.00,9,-999.0000,9,-999.0000,9, 0.0130, -999.0,9
740H20210202,SR1b_A23, 54,1, 2,9003,2,20210221,0102,-60.31318, -30.99040,2580,2584.7,-0.0566,-0.0567, 2.0000,34.6600,2,-999.0000,9, 228.5,2,-999.0,9, -999.00,9, -999.00,9, -999.00,9,-999.0000,9,-999.0000,9, 0.0131, -999.0,9
740H20210202,SR1b_A23, 54,1, 3,8149,2,20210221,0102,-60.31320, -30.99042,2580,2584.7,-0.0565,-0.0566, 2.0000,34.6599,2,-999.0000,9, 228.8,2,-999.0,9, -999.00,9, -999.00,9, -999.00,9,-999.0000,9,-999.0000,9, 0.0130, -999.0,9
740H20210202,SR1b_A23, 54,1, 4,9005,2,20210221,0103,-60.31320, -30.99038,2580,2584.6,-0.0566,-0.0566, 2.0000,34.6599,2,-999.0000,9, 228.8,2,-999.0,9, -999.00,9, -999.00,9, -999.00,9,-999.0000,9,-999.0000,9, 0.0178, -999.0,9
740H20210202,SR1b_A23, 54,1, 5,9006,2,20210221,0103,-60.31320, -30.99044,2580,2584.8,-0.0567,-0.0567, 2.0000,34.6599,2,-999.0000,9, 229.1,2,-999.0,9, -999.00,9, -999.00,9, -999.00,9,-999.0000,9,-999.0000,9, 0.0139, -999.0,9
740H20210202,SR1b_A23, 54,1, 6,9007,2,20210221,0104,-60.31320, -30.99050,2580,2584.7,-0.0568,-0.0567, 2.0000,34.6598,2,-999.0000,9, 229.0,2,-999.0,9, -999.00,9, -999.00,9, -999.00,9,-999.0000,1,-999.0000,9, 0.0100, -999.0,9
740H20210202,SR1b_A23, 54,1, 7,9008,2,20210221,0115,-60.31310, -30.99120,2580,2031.9,-0.0422,-0.0408, 2.0000,34.6625,2,-999.0000,9, 226.9,2,-999.0,9, -999.00,9, -999.00,9, -999.00,9,-999.0000,9,-999.0000,9, 0.0092, -999.0,9
740H20210202,SR1b_A23, 54,1, 8,9009,2,20210221,0115,-60.31310, -30.99126,2580,2032.0,-0.0422,-0.0408, 2.0000,34.6625,2,-999.0000,9, 227.3,2,-999.0,9, -999.00,9, -999.00,9, -999.00,9,-999.0000,9,-999.0000,9, 0.0110, -999.0,9
740H20210202,SR1b_A23, 54,1, 9,9010,2,20210221,0116,-60.31310, -30.99132,2580,2031.9,-0.0415,-0.0407, 2.0000,34.6625,2,-999.0000,9, 227.1,2,-999.0,9, -999.00,9, -999.00,9, -999.00,9,-999.0000,9,-999.0000,9, 0.0156, -999.0,9
740H20210202,SR1b_A23, 54,1,10,8156,2,20210221,0116,-60.31310, -30.99138,2580,2032.0,-0.0410,-0.0411, 2.0000,34.6625,2,-999.0000,9, 227.1,2,-999.0,9, -999.00,9, -999.00,9, -999.00,9,-999.0000,9,-999.0000,9, 0.0153, -999.0,9
740H20210202,SR1b_A23, 54,1,11,9012,2,20210221,0117,-60.31308, -30.99142,2580,2032.1,-0.0407,-0.0411, 2.0000,34.6626,2,-999.0000,9, 227.2,2,-999.0,9, -999.00,9, -999.00,9, -999.00,9,-999.0000,9,-999.0000,9, 0.0083, -999.0,9
740H20210202,SR1b_A23, 54,1,12,9013,2,20210221,0117,-60.31308, -30.99148,2580,2032.1,-0.0401,-0.0408, 2.0000,34.6626,2,34.6631,2, 227.2,2,-999.0,9, -999.00,9, -999.00,9, -999.00,9,-999.0000,1,-999.0000,9, 0.0121, -999.0,9
740H20210202,SR1b_A23, 54,1,13,9014,2,20210221,0127,-60.31300, -30.99260,2580,1521.7, 0.1020, 0.1039, 2.0000,34.6697,2,-999.0000,9, 219.9,2,-999.0,9, -999.00,9, -999.00,9, -999.00,9,-999.0000,9,-999.0000,9, 0.0098, -999.0,9
740H20210202,SR1b_A23, 54,1,14,9015,2,20210221,0128,-60.31300, -30.99266,2580,1521.9, 0.1025, 0.1079, 2.0000,34.6696,2,-999.0000,9, 220.1,2,-999.0,9, -999.00,9, -999.00,9, -999.00,9,-999.0000,9,-999.0000,9, 0.0091, -999.0,9
740H20210202,SR1b_A23, 54,1,15,9016,2,20210221,0128,-60.31298, -30.99268,2580,1521.9, 0.1040, 0.1115, 2.0000,34.6698,2,-999.0000,9, 219.8,2,-999.0,9, -999.00,9, -999.00,9, -999.00,9,-999.0000,9,-999.0000,9, 0.0087, -999.0,9
740H20210202,SR1b_A23, 54,1,16,9017,2,20210221,0129,-60.31298, -30.99276,2580,1522.0, 0.1065, 0.1120, 2.0000,34.6697,2,-999.0000,9, 219.6,2,-999.0,9, -999.00,9, -999.00,9, -999.00,9,-999.0000,9,-999.0000,9, 0.0156, -999.0,9
740H20210202,SR1b_A23, 54,1,17,9018,2,20210221,0129,-60.31296, -30.99280,2580,1521.9, 0.1100, 0.1089, 2.0000,34.6700,2,-999.0000,9, 219.6,2,-999.0,9, -999.00,9, -999.00,9, -999.00,9,-999.0000,9,-999.0000,9, 0.0139, -999.0,9
740H20210202,SR1b_A23, 54,1,18,9019,2,20210221,0130,-60.31296, -30.99286,2580,1522.0, 0.1090, 0.1086, 2.0000,34.6698,2,34.6704,2, 219.6,2,-999.0,9, -999.00,9, -999.00,9, -999.00,9,-999.0000,1,-999.0000,9, 0.0112, -999.0,9
740H20210202,SR1b_A23, 54,1,19,9020,2,20210221,0200,-60.31274, -30.99532,2580,   5.9, 0.3337, 0.3326, 2.0000,33.5807,2,-999.0000,9, 355.1,2,-999.0,9, -999.00,9, -999.00,9, -999.00,9,-999.0000,9,-999.0000,9, 2.2963, -999.0,9
740H20210202,SR1b_A23, 54,1,20,9021,2,20210221,0200,-60.31272, -30.99530,2580,   6.2, 0.3335, 0.3361, 2.0000,33.5807,2,-999.0000,9, 355.4,2,-999.0,9, -999.00,9, -999.00,9, -999.00,9,-999.0000,9,-999.0000,9, 2.4149, -999.0,9
740H20210202,SR1b_A23, 54,1,21,9022,2,20210221,0201,-60.31272, -30.99528,2580,   6.0, 0.3353, 0.3366, 2.0000,33.5802,2,-999.0000,9, 355.7,2,-999.0,9, -999.00,9, -999.00,9, -999.00,9,-999.0000,9,-999.0000,9, 2.2501, -999.0,9
740H20210202,SR1b_A23, 54,1,22,9023,2,20210221,0201,-60.31274, -30.99528,2580,   6.8, 0.3353, 0.3362, 2.0000,33.5809,2,-999.0000,9, 355.7,2,-999.0,9, -999.00,9, -999.00,9, -999.00,9,-999.0000,9,-999.0000,9, 2.2465, -999.0,9
740H20210202,SR1b_A23, 54,1,23,9024,2,20210221,0202,-60.31276, -30.99530,2580,   6.0, 0.3388, 0.3386, 2.0000,33.5810,2,-999.0000,9, 355.4,2,-999.0,9, -999.00,9, -999.00,9, -999.00,9,-999.0000,9,-999.0000,9, 2.1819, -999.0,9
740H20210202,SR1b_A23, 54,1,24,9025,2,20210221,0202,-60.31276, -30.99534,2580,   6.4, 0.3368, 0.3387, 2.0000,33.5810,2,33.5824,2, 355.5,2,-999.0,9, -999.00,9, -999.00,9, -999.00,9,-999.0000,1,-999.0000,9, 2.4019, -999.0,9