BOTTLE,20210420POGBASEPA
EXPOCODE,SECT_ID,STNNBR,CASTNO,SAMPNO,BTLNBR,BTLNBR_FLAG_W,DATE,TIME,LATITUDE,LONGITUDE,DEPTH,CTDPRS,CTDTMP,SBE35,SBE35_FLAG_W,CTDSAL,CTDSAL_FLAG_W,SALNTY,SALNTY_FLAG_W,CTDOXY,CTDOXY_FLAG_W,OXYGEN,OXYGEN_FLAG_W,SILCAT,SILCAT_FLAG_W,NO2+NO3,NO2+NO3_FLAG_W,PHSPHT,PHSPHT_FLAG_W,DELO18,DELO18_FLAG_W,D30SI_SILCAT,D30SI_SILCAT_FLAG_W,CTDFLUOR,BOTCHLA,BOTCHLA_FLAG_W
 , , , , , , , , , , ,METERS,DBAR,ITS-90,ITS-90, ,PSS-78, ,PSS-78, ,UMOL/KG, ,UMOL/KG, ,UMOL/KG, ,UMOL/KG,UMOL/KG,UMOL/KG,UMOL/KG,/MILLE,/MILLE,/MILLE,/MILLE,MG/M^3,ML/L,ML/L
740H20210202,SR1b_A23, 41,1, 1,9002,2,20210217,1937,-55.72468, -33.78622,3521,3569.6, 0.1359, 0.1350, 2.0000,34.6641,2,-999.0000,9, 227.3,2,-999.0,9, -999.00,9, -999.00,9, -999.00,9,-999.0000,9,-999.0000,9, 0.0134, -999.0,9
740H20210202,SR1b_A23, 41,1, 2,9003,2,20210217,1939,-55.72468, -33.78622,3521,3569.6, 0.1355, 0.1351, 2.0000,34.6641,2,34.6639,2, 227.1,2, 225.1,4, -999.00,9, -999.00,9, -999.00,9,-999.0000,1,-999.0000,9, 0.0106, -999.0,9
740H20210202,SR1b_A23, 41,1, 3,8149,2,20210217,1950,-55.72468, -33.78622,3521,3054.3, 0.1595, 0.1598, 2.0000,34.6672,2,-999.0000,9, 225.6,2,-999.0,9, -999.00,9, -999.00,9, -999.00,9,-999.0000,9,-999.0000,9, 0.0126, -999.0,9
740H20210202,SR1b_A23, 41,1, 4,9005,2,20210217,1950,-55.72468, -33.78622,3521,3054.4, 0.1604, 0.1595, 2.0000,34.6671,2,34.6670,2, 225.5,2, 223.7,4, -999.00,9, -999.00,9, -999.00,9,-999.0000,1,-999.0000,9, 0.0140, -999.0,9
740H20210202,SR1b_A23, 41,1, 5,9006,2,20210217,2001,-55.72468, -33.78622,3521,2542.2, 0.2847, 0.2860, 2.0000,34.6740,2,34.6744,2, 220.6,2, 219.0,4, -999.00,9, -999.00,9, -999.00,9,-999.0000,1,-999.0000,9, 0.0081, -999.0,9
740H20210202,SR1b_A23, 41,1, 6,9007,2,20210217,2011,-55.72468, -33.78622,3521,2030.9, 0.4428, 0.4433, 2.0000,34.6814,2,34.6808,2, 215.1,2, 213.2,4, -999.00,9, -999.00,9, -999.00,9,-999.0000,1,-999.0000,9, 0.0106, -999.0,9
740H20210202,SR1b_A23, 41,1, 7,9008,2,20210217,2021,-55.72468, -33.78622,3521,1521.4, 0.6426, 0.6433, 2.0000,34.6874,2,34.6876,2, 210.0,2, 208.4,4, -999.00,9, -999.00,9, -999.00,9,-999.0000,1,-999.0000,9, 0.0129, -999.0,9
740H20210202,SR1b_A23, 41,1, 8,9009,2,20210217,2032,-55.72468, -33.78622,3521,1013.6, 0.8942, 0.8937, 2.0000,34.6911,2,34.6908,2, 205.9,2, 204.5,4, -999.00,9, -999.00,9, -999.00,9,-999.0000,1,-999.0000,9, 0.0130, -999.0,9
740H20210202,SR1b_A23, 41,1, 9,9010,2,20210217,2038,-55.72468, -33.78621,3521, 759.9, 0.8490, 0.8487, 2.0000,34.6581,2,34.6583,2, 209.7,2,-999.0,9, -999.00,9, -999.00,9, -999.00,9,-999.0000,1,-999.0000,9, 0.0206, -999.0,9
740H20210202,SR1b_A23, 41,1,10,8156,2,20210217,2045,-55.72468, -33.78622,3521, 506.3, 0.5989, 0.5991, 2.0000,34.5847,2,-999.0000,9, 221.4,2,-999.0,9, -999.00,9, -999.00,9, -999.00,9,-999.0000,9,-999.0000,9, 0.0153, -999.0,9
740H20210202,SR1b_A23, 41,1,11,9012,2,20210217,2045,-55.72468, -33.78620,3521, 506.4, 0.5979, 0.5981, 2.0000,34.5846,2,34.5869,2, 221.4,2, 218.6,4, -999.00,9, -999.00,9, -999.00,9,-999.0000,1,-999.0000,9, 0.0163, -999.0,9
740H20210202,SR1b_A23, 41,1,12,9013,2,20210217,2051,-55.72468, -33.78620,3521, 354.2, 0.2536, 0.2531, 2.0000,34.4457,2,-999.0000,9, 242.0,2,-999.0,9, -999.00,9, -999.00,9, -999.00,9,-999.0000,9,-999.0000,9, 0.0178, -999.0,9
740H20210202,SR1b_A23, 41,1,13,9014,2,20210217,2051,-55.72468, -33.78620,3521, 354.2, 0.2535, 0.2533, 2.0000,34.4458,2,34.4471,2, 241.9,2,-999.0,9, -999.00,9, -999.00,9, -999.00,9,-999.0000,1,-999.0000,9, 0.0182, -999.0,9
740H20210202,SR1b_A23, 41,1,14,9015,2,20210217,2056,-55.72468, -33.78620,3521, 227.5,-0.0220,-0.0222, 2.0000,34.1893,2,-999.0000,9, 287.7,2,-999.0,9, -999.00,9, -999.00,9, -999.00,9,-999.0000,9,-999.0000,9, 0.0180, -999.0,9
740H20210202,SR1b_A23, 41,1,15,9016,2,20210217,2056,-55.72468, -33.78620,3521, 227.5,-0.0203,-0.0220, 2.0000,34.1898,2,34.2018,2, 287.0,2, 287.1,4, -999.00,9, -999.00,9, -999.00,9,-999.0000,1,-999.0000,9, 0.0309, -999.0,9
740H20210202,SR1b_A23, 41,1,16,9017,2,20210217,2100,-55.72468, -33.78620,3521, 151.4, 0.2348, 0.2376, 2.0000,34.0595,2,34.0743,2, 316.0,2, 309.7,4, -999.00,9, -999.00,9, -999.00,9,-999.0000,1,-999.0000,9, 0.0417, -999.0,9
740H20210202,SR1b_A23, 41,1,17,9018,2,20210217,2104,-55.72468, -33.78622,3521, 100.8, 1.4441, 1.4517, 2.0000,33.9255,2,-999.0000,9, 329.4,2,-999.0,9, -999.00,9, -999.00,9, -999.00,9,-999.0000,9,-999.0000,9, 0.2067, -999.0,9
740H20210202,SR1b_A23, 41,1,18,9019,2,20210217,2104,-55.72468, -33.78622,3521, 101.3, 1.4429, 1.4312, 2.0000,33.9257,2,33.9271,2, 329.9,2,-999.0,9, -999.00,9, -999.00,9, -999.00,9,-999.0000,1,-999.0000,9, 0.1894, -999.0,9
740H20210202,SR1b_A23, 41,1,19,9020,2,20210217,2107,-55.72468, -33.78620,3521,  51.0, 2.2857, 2.2987, 2.0000,33.8791,2,-999.0000,9, 334.5,2,-999.0,9, -999.00,9, -999.00,9, -999.00,9,-999.0000,9,-999.0000,9, 0.4999, -999.0,9
740H20210202,SR1b_A23, 41,1,20,9021,2,20210217,2107,-55.72468, -33.78622,3521,  51.0, 2.3233, 2.3251, 2.0000,33.8768,2,33.8786,2, 334.6,2,-999.0,9, -999.00,9, -999.00,9, -999.00,9,-999.0000,1,-999.0000,9, 0.5156, -999.0,9
740H20210202,SR1b_A23, 41,1,21,9022,2,20210217,2110,-55.72468, -33.78622,3521,  20.5, 2.4591, 2.4583, 2.0000,33.8703,2,-999.0000,9, 336.9,2,-999.0,9, -999.00,9, -999.00,9, -999.00,9,-999.0000,9,-999.0000,9, 0.5367, -999.0,9
740H20210202,SR1b_A23, 41,1,22,9023,2,20210217,2110,-55.72468, -33.78622,3521,  20.7, 2.4598, 2.4596, 2.0000,33.8701,2,33.8703,2, 336.7,2,-999.0,9, -999.00,9, -999.00,9, -999.00,9,-999.0000,1,-999.0000,9, 0.5424, -999.0,9
740H20210202,SR1b_A23, 41,1,23,9024,2,20210217,2112,-55.72468, -33.78620,3521,   5.4, 2.4951, 2.4968, 2.0000,33.8663,2,-999.0000,9, 336.7,2,-999.0,9, -999.00,9, -999.00,9, -999.00,9,-999.0000,9,-999.0000,9, 0.4896, -999.0,9
740H20210202,SR1b_A23, 41,1,24,9025,2,20210217,2113,-55.72468, -33.78620,3521,   5.2, 2.4727, 2.4823, 2.0000,33.8672,2,33.8667,2, 336.2,2, 333.8,4, -999.00,9, -999.00,9, -999.00,9,-999.0000,1,-999.0000,9, 0.4942, -999.0,9
740H20210202,SR1b_A23, 42,1, 1,9002,2,20210218,0057,-55.99162, -33.41966,3076,3111.1, 0.1063, 0.1060, 2.0000,34.6644,2,-999.0000,9, 226.7,2,-999.0,9, -999.00,9, -999.00,9, -999.00,9,-999.0000,9,-999.0000,9, 0.0152, -999.0,9
740H20210202,SR1b_A23, 42,1, 2,9003,2,20210218,0058,-55.99164, -33.41964,3076,3111.0, 0.1066, 0.1068, 2.0000,34.6645,2,-999.0000,9, 226.7,2,-999.0,9, -999.00,9, -999.00,9, -999.00,9,-999.0000,9,-999.0000,9, 0.0127, -999.0,9
740H20210202,SR1b_A23, 42,1, 3,8149,2,20210218,0058,-55.99166, -33.41962,3076,3111.1, 0.1067, 0.1068, 2.0000,34.6645,2,34.6638,2, 227.0,2, 225.2,4, -999.00,9, -999.00,9, -999.00,9,-999.0000,9,-999.0000,9, 0.0145, -999.0,9
740H20210202,SR1b_A23, 42,1, 4,9005,2,20210218,0118,-55.99208, -33.41902,3076,2031.7, 0.5045, 0.5066, 2.0000,34.6847,2,-999.0000,9, 214.5,2,-999.0,9, -999.00,9, -999.00,9, -999.00,9,-999.0000,9,-999.0000,9, 0.0103, -999.0,9
740H20210202,SR1b_A23, 42,1, 5,9006,2,20210218,0119,-55.99210, -33.41900,3076,2031.7, 0.5048, 0.5069, 2.0000,34.6847,2,-999.0000,9, 214.4,2,-999.0,9, -999.00,9, -999.00,9, -999.00,9,-999.0000,9,-999.0000,9, 0.0075, -999.0,9
740H20210202,SR1b_A23, 42,1, 6,9007,2,20210218,0119,-55.99212, -33.41896,3076,2031.7, 0.5050, 0.5069, 2.0000,34.6846,2,34.6849,2, 214.5,2, 212.2,4, -999.00,9, -999.00,9, -999.00,9,-999.0000,9,-999.0000,9, 0.0096, -999.0,9
740H20210202,SR1b_A23, 42,1, 7,9008,2,20210218,0139,-55.99252, -33.41838,3076,1014.2, 1.2847, 1.2851, 2.0000,34.6983,2,-999.0000,9, 197.5,2,-999.0,9, -999.00,9, -999.00,9, -999.00,9,-999.0000,9,-999.0000,9, 0.0146, -999.0,9
740H20210202,SR1b_A23, 42,1, 8,9009,2,20210218,0139,-55.99254, -33.41836,3076,1014.2, 1.2850, 1.2857, 2.0000,34.6983,2,-999.0000,9, 197.7,2,-999.0,9, -999.00,9, -999.00,9, -999.00,9,-999.0000,9,-999.0000,9, 0.0180, -999.0,9
740H20210202,SR1b_A23, 42,1, 9,9010,2,20210218,0140,-55.99254, -33.41834,3076,1014.2, 1.2859, 1.2859, 2.0000,34.6984,2,34.6980,2, 197.5,2, 195.9,4, -999.00,9, -999.00,9, -999.00,9,-999.0000,9,-999.0000,9, 0.0169, -999.0,9
740H20210202,SR1b_A23, 42,1,10,8156,2,20210218,0150,-55.99276, -33.41802,3076, 507.1, 1.6796, 1.6814, 2.0000,34.6288,2,-999.0000,9, 189.5,2,-999.0,9, -999.00,9, -999.00,9, -999.00,9,-999.0000,9,-999.0000,9, 0.0202, -999.0,9
740H20210202,SR1b_A23, 42,1,11,9012,2,20210218,0151,-55.99278, -33.41801,3076, 507.2, 1.6799, 1.6813, 2.0000,34.6287,2,-999.0000,9, 189.7,2,-999.0,9, -999.00,9, -999.00,9, -999.00,9,-999.0000,9,-999.0000,9, 0.0169, -999.0,9
740H20210202,SR1b_A23, 42,1,12,9013,2,20210218,0151,-55.99280, -33.41798,3076, 507.2, 1.6794, 1.6808, 2.0000,34.6289,2,34.6293,2, 189.4,2, 187.3,4, -999.00,9, -999.00,9, -999.00,9,-999.0000,9,-999.0000,9, 0.0166, -999.0,9
740H20210202,SR1b_A23, 42,1,13,9014,2,20210218,0158,-55.99294, -33.41778,3076, 228.0, 1.7081, 1.7044, 2.0000,34.4409,2,-999.0000,9, 199.9,2,-999.0,9, -999.00,9, -999.00,9, -999.00,9,-999.0000,9,-999.0000,9, 0.0223, -999.0,9
740H20210202,SR1b_A23, 42,1,14,9015,2,20210218,0159,-55.99296, -33.41776,3076, 228.1, 1.7124, 1.7068, 2.0000,34.4417,2,-999.0000,9, 199.9,2,-999.0,9, -999.00,9, -999.00,9, -999.00,9,-999.0000,9,-999.0000,9, 0.0217, -999.0,9
740H20210202,SR1b_A23, 42,1,15,9016,2,20210218,0159,-55.99298, -33.41774,3076, 228.0, 1.7144, 1.7094, 2.0000,34.4422,2,34.4443,2, 199.5,2, 197.1,4, -999.00,9, -999.00,9, -999.00,9,-999.0000,9,-999.0000,9, 0.0243, -999.0,9
740H20210202,SR1b_A23, 42,1,16,9017,2,20210218,0203,-55.99306, -33.41764,3076, 152.1, 0.7871, 0.7774, 2.0000,34.2346,2,-999.0000,9, 256.4,2,-999.0,9, -999.00,9, -999.00,9, -999.00,9,-999.0000,9,-999.0000,9, 0.0210, -999.0,9
740H20210202,SR1b_A23, 42,1,17,9018,2,20210218,0203,-55.99306, -33.41762,3076, 152.1, 0.7856, 0.7770, 2.0000,34.2334,2,-999.0000,9, 256.5,2,-999.0,9, -999.00,9, -999.00,9, -999.00,9,-999.0000,9,-999.0000,9, 0.0237, -999.0,9
740H20210202,SR1b_A23, 42,1,18,9019,2,20210218,0204,-55.99308, -33.41760,3076, 152.0, 0.7791, 0.7913, 2.0000,34.2322,2,34.2413,2, 257.2,2, 251.4,4, -999.00,9, -999.00,9, -999.00,9,-999.0000,9,-999.0000,9, 0.0256, -999.0,9
740H20210202,SR1b_A23, 42,1,19,9020,2,20210218,0207,-55.99314, -33.41752,3076, 102.7, 0.3862, 0.3829, 2.0000,34.0898,2,-999.0000,9, 302.1,2,-999.0,9, -999.00,9, -999.00,9, -999.00,9,-999.0000,9,-999.0000,9, 0.0680, -999.0,9
740H20210202,SR1b_A23, 42,1,20,9021,2,20210218,0207,-55.99314, -33.41750,3076, 102.7, 0.3825, 0.3826, 2.0000,34.0837,2,-999.0000,9, 303.1,2,-999.0,9, -999.00,9, -999.00,9, -999.00,9,-999.0000,9,-999.0000,9, 0.0486, -999.0,9
740H20210202,SR1b_A23, 42,1,21,9022,2,20210218,0208,-55.99316, -33.41748,3076, 102.7, 0.3819, 0.3849, 2.0000,34.0823,2,34.0875,2, 303.4,2, 299.3,4, -999.00,9, -999.00,9, -999.00,9,-999.0000,9,-999.0000,9, 0.0760, -999.0,9
740H20210202,SR1b_A23, 42,1,22,9023,2,20210218,0215,-55.99330, -33.41726,3076,   5.8, 2.6325, 2.6368, 2.0000,33.8710,2,-999.0000,9, 337.5,2,-999.0,9, -999.00,9, -999.00,9, -999.00,9,-999.0000,9,-999.0000,9, 0.8177, -999.0,9
740H20210202,SR1b_A23, 42,1,23,9024,2,20210218,0216,-55.99330, -33.41726,3076,   6.1, 2.6358, 2.6358, 2.0000,33.8701,2,-999.0000,9, 337.6,2,-999.0,9, -999.00,9, -999.00,9, -999.00,9,-999.0000,9,-999.0000,9, 0.8050, -999.0,9
740H20210202,SR1b_A23, 42,1,24,9025,2,20210218,0216,-55.99330, -33.41726,3076,   5.8, 2.6358, 2.6359, 2.0000,33.8703,2,33.8702,2, 337.8,2, 333.7,4, -999.00,9, -999.00,9, -999.00,9,-999.0000,9,-999.0000,9, 0.7910, -999.0,9
740H20210202,SR1b_A23, 43,1, 1,9002,2,20210218,0929,-56.37932, -32.87186,3140,3179.2, 0.0949, 0.0947, 2.0000,34.6637,2,34.6637,2, 227.3,2, 225.2,4, -999.00,9, -999.00,9, -999.00,9,-999.0000,1,-999.0000,9, 0.0073, -999.0,9
740H20210202,SR1b_A23, 43,1, 2,9003,2,20210218,0930,-56.37932, -32.87186,3140,3179.4, 0.0949, 0.0947, 2.0000,34.6637,2,-999.0000,9, 227.2,2,-999.0,9, -999.00,9, -999.00,9, -999.00,9,-999.0000,9,-999.0000,9, 0.0140, -999.0,9
740H20210202,SR1b_A23, 43,1, 3,8149,2,20210218,0943,-56.37930, -32.87186,3140,2543.5, 0.3100, 0.3107, 2.0000,34.6748,2,34.6743,2, 220.0,2, 217.9,4, -999.00,9, -999.00,9, -999.00,9,-999.0000,1,-999.0000,9, 0.0076, -999.0,9
740H20210202,SR1b_A23, 43,1, 4,9005,2,20210218,0944,-56.37930, -32.87186,3140,2543.6, 0.3097, 0.3099, 2.0000,34.6748,2,-999.0000,9, 220.0,2,-999.0,9, -999.00,9, -999.00,9, -999.00,9,-999.0000,9,-999.0000,9, 0.0018, -999.0,9
740H20210202,SR1b_A23, 43,1, 5,9006,2,20210218,0955,-56.37930, -32.87186,3140,2033.1, 0.5157, 0.5168, 2.0000,34.6852,2,34.6848,2, 214.4,2, 212.3,4, -999.00,9, -999.00,9, -999.00,9,-999.0000,1,-999.0000,9, 0.0153, -999.0,9
740H20210202,SR1b_A23, 43,1, 6,9007,2,20210218,0956,-56.37932, -32.87184,3140,2033.2, 0.5163, 0.5167, 2.0000,34.6852,2,34.6600,2, 214.4,2,-999.0,9, -999.00,9, -999.00,9, -999.00,9,-999.0000,9,-999.0000,9, 0.0078, -999.0,9
740H20210202,SR1b_A23, 43,1, 7,9008,2,20210218,1006,-56.37932, -32.87186,3140,1523.4, 0.7759, 0.7768, 2.0000,34.6906,2,34.6895,2, 208.7,2, 207.2,4, -999.00,9, -999.00,9, -999.00,9,-999.0000,1,-999.0000,9, 0.0027, -999.0,9
740H20210202,SR1b_A23, 43,1, 8,9009,2,20210218,1007,-56.37932, -32.87186,3140,1523.4, 0.7769, 0.7801, 2.0000,34.6903,2,-999.0000,9, 208.8,2,-999.0,9, -999.00,9, -999.00,9, -999.00,9,-999.0000,9,-999.0000,9, 0.0091, -999.0,9
740H20210202,SR1b_A23, 43,1, 9,9010,2,20210218,1018,-56.37932, -32.87186,3140,1014.9, 1.2730, 1.2730, 2.0000,34.6966,2,34.6956,2, 198.0,2, 196.0,4, -999.00,9, -999.00,9, -999.00,9,-999.0000,1,-999.0000,9, 0.0139, -999.0,9
740H20210202,SR1b_A23, 43,1,10,8156,2,20210218,1020,-56.37932, -32.87186,3140,1014.8, 1.2732, 1.2731, 2.0000,34.6971,2,-999.0000,9, 198.0,2,-999.0,9, -999.00,9, -999.00,9, -999.00,9,-999.0000,9,-999.0000,9, 0.0086, -999.0,9
740H20210202,SR1b_A23, 43,1,11,9012,2,20210218,1031,-56.37932, -32.87186,3140, 507.9, 1.6519, 1.6515, 2.0000,34.6367,2,34.6372,2, 190.4,2, 188.3,4, -999.00,9, -999.00,9, -999.00,9,-999.0000,1,-999.0000,9, 0.0226, -999.0,9
740H20210202,SR1b_A23, 43,1,12,9013,2,20210218,1032,-56.37932, -32.87186,3140, 507.9, 1.6504, 1.6430, 2.0000,34.6366,2,-999.0000,9, 190.2,2,-999.0,9, -999.00,9, -999.00,9, -999.00,9,-999.0000,9,-999.0000,9, 0.0149, -999.0,9
740H20210202,SR1b_A23, 43,1,13,9014,2,20210218,1039,-56.37932, -32.87186,3140, 228.9, 1.3794, 1.3803, 2.0000,34.4205,2,34.4201,2, 212.3,2,-999.0,9, -999.00,9, -999.00,9, -999.00,9,-999.0000,1,-999.0000,9, 0.0174, -999.0,9
740H20210202,SR1b_A23, 43,1,14,9015,2,20210218,1040,-56.37931, -32.87186,3140, 228.9, 1.3811, 1.3804, 2.0000,34.4206,2,-999.0000,9, 212.2,2,-999.0,9, -999.00,9, -999.00,9, -999.00,9,-999.0000,9,-999.0000,9, 0.0127, -999.0,9
740H20210202,SR1b_A23, 43,1,15,9016,2,20210218,1043,-56.37930, -32.87186,3140, 153.2, 0.3050, 0.3236, 2.0000,34.1662,2,34.1674,2, 284.8,2,-999.0,9, -999.00,9, -999.00,9, -999.00,9,-999.0000,1,-999.0000,9, 0.0268, -999.0,9
740H20210202,SR1b_A23, 43,1,16,9017,2,20210218,1044,-56.37932, -32.87186,3140, 153.1, 0.3262, 0.3163, 2.0000,34.1634,2,-999.0000,9, 285.1,2,-999.0,9, -999.00,9, -999.00,9, -999.00,9,-999.0000,9,-999.0000,9, 0.0245, -999.0,9
740H20210202,SR1b_A23, 43,1,17,9018,2,20210218,1051,-56.37932, -32.87186,3140,  52.1, 2.8281, 2.8419, 2.0000,33.8648,2,33.8649,2, 332.9,2, 330.8,4, -999.00,9, -999.00,9, -999.00,9,-999.0000,1,-999.0000,9, 1.0902, -999.0,9
740H20210202,SR1b_A23, 43,1,18,9019,2,20210218,1051,-56.37932, -32.87186,3140,  52.3, 2.8420, 2.8384, 2.0000,33.8660,2,-999.0000,9, 333.1,2,-999.0,9, -999.00,9, -999.00,9, -999.00,9,-999.0000,9,-999.0000,9, 0.9695, -999.0,9
740H20210202,SR1b_A23, 43,1,19,9020,2,20210218,1056,-56.37932, -32.87186,3140,  22.1, 3.0727, 3.0816, 2.0000,33.8885,2,33.8895,2, 333.0,2,-999.0,9, -999.00,9, -999.00,9, -999.00,9,-999.0000,1,-999.0000,9, 0.8622, -999.0,9
740H20210202,SR1b_A23, 43,1,20,9021,2,20210218,1057,-56.37932, -32.87186,3140,  21.9, 3.0513, 3.0487, 2.0000,33.8862,2,-999.0000,9, 333.1,2,-999.0,9, -999.00,9, -999.00,9, -999.00,9,-999.0000,9,-999.0000,9, 0.9794, -999.0,9
740H20210202,SR1b_A23, 43,1,21,9022,2,20210218,1100,-56.37932, -32.87185,3140,   7.3, 3.1513, 3.1493, 2.0000,33.8936,2,33.8934,2, 333.0,2, 330.6,4, -999.00,9, -999.00,9, -999.00,9,-999.0000,1,-999.0000,9, 0.3388, -999.0,9
740H20210202,SR1b_A23, 43,1,22,9023,2,20210218,1101,-56.37932, -32.87186,3140,   6.7, 3.1435, 3.1408, 2.0000,33.8941,2,-999.0000,9, 332.6,2,-999.0,9, -999.00,9, -999.00,9, -999.00,9,-999.0000,9,-999.0000,9, 0.3331, -999.0,9