BOTTLE,20210420POGBASEPA
EXPOCODE,SECT_ID,STNNBR,CASTNO,SAMPNO,BTLNBR,BTLNBR_FLAG_W,DATE,TIME,LATITUDE,LONGITUDE,DEPTH,CTDPRS,CTDTMP,SBE35,SBE35_FLAG_W,CTDSAL,CTDSAL_FLAG_W,SALNTY,SALNTY_FLAG_W,CTDOXY,CTDOXY_FLAG_W,OXYGEN,OXYGEN_FLAG_W,SILCAT,SILCAT_FLAG_W,NO2+NO3,NO2+NO3_FLAG_W,PHSPHT,PHSPHT_FLAG_W,DELO18,DELO18_FLAG_W,D30SI_SILCAT,D30SI_SILCAT_FLAG_W,CTDFLUOR,BOTCHLA,BOTCHLA_FLAG_W
 , , , , , , , , , , ,METERS,DBAR,ITS-90,ITS-90, ,PSS-78, ,PSS-78, ,UMOL/KG, ,UMOL/KG, ,UMOL/KG, ,UMOL/KG,UMOL/KG,UMOL/KG,UMOL/KG,/MILLE,/MILLE,/MILLE,/MILLE,MG/M^3,ML/L,ML/L
740H20210202,SR1b_A23, 13,1, 1,9002,2,20210209,1953,-53.79778, -37.93570, 296, 286.5, 1.0396, 1.0356, 2.0000,34.1935,2,-999.0000,9, 251.1,2,-999.0,9, -999.00,9, -999.00,9, -999.00,9,-999.0000,9,-999.0000,9, 0.0401, -999.0,9
740H20210202,SR1b_A23, 13,1, 2,9003,2,20210209,1953,-53.79778, -37.93572, 296, 286.8, 1.0479, 1.0347, 2.0000,34.1974,2,-999.0000,9, 250.5,2,-999.0,9, -999.00,9, -999.00,9, -999.00,9,-999.0000,9,-999.0000,9, 0.0484, -999.0,9
740H20210202,SR1b_A23, 13,1, 3,8149,2,20210209,1953,-53.79776, -37.93573, 296, 287.0, 1.0511, 1.0394, 2.0000,34.1983,2,-999.0000,9, 251.0,2,-999.0,9, -999.00,9, -999.00,9, -999.00,9,-999.0000,9,-999.0000,9, 0.0528, -999.0,9
740H20210202,SR1b_A23, 13,1, 4,9005,2,20210209,1954,-53.79776, -37.93572, 296, 286.1, 1.0439, 1.0396, 2.0000,34.1946,2,-999.0000,9, 250.9,2,-999.0,9, -999.00,9, -999.00,9, -999.00,9,-999.0000,9,-999.0000,9, 0.0479, -999.0,9
740H20210202,SR1b_A23, 13,1, 5,9006,2,20210209,1954,-53.79776, -37.93572, 296, 286.0, 1.0448, 1.0403, 2.0000,34.1948,2,34.1960,2, 250.4,2, 249.6,2, -999.00,9, -999.00,9, -999.00,9,-999.0000,9,-999.0000,9, 0.0592, -999.0,9
740H20210202,SR1b_A23, 13,1, 6,9007,2,20210209,1958,-53.79776, -37.93574, 296, 236.2, 0.8261, 0.8238, 2.0000,34.0590,2,-999.0000,9, 288.7,2,-999.0,9, -999.00,9, -999.00,9, -999.00,9,-999.0000,9,-999.0000,9, 0.0545, -999.0,9
740H20210202,SR1b_A23, 13,1, 7,9008,2,20210209,1958,-53.79776, -37.93572, 296, 235.9, 0.8246, 0.8205, 2.0000,34.0580,2,-999.0000,9, 288.9,2,-999.0,9, -999.00,9, -999.00,9, -999.00,9,-999.0000,9,-999.0000,9, 0.0565, -999.0,9
740H20210202,SR1b_A23, 13,1, 8,9009,2,20210209,1958,-53.79776, -37.93572, 296, 235.7, 0.8212, 0.8187, 2.0000,34.0566,2,-999.0000,9, 288.9,2,-999.0,9, -999.00,9, -999.00,9, -999.00,9,-999.0000,9,-999.0000,9, 0.0606, -999.0,9
740H20210202,SR1b_A23, 13,1, 9,9010,2,20210209,1959,-53.79776, -37.93570, 296, 236.3, 0.8230, 0.8214, 2.0000,34.0576,2,-999.0000,9, 289.1,2,-999.0,9, -999.00,9, -999.00,9, -999.00,9,-999.0000,9,-999.0000,9, 0.0495, -999.0,9
740H20210202,SR1b_A23, 13,1,10,8156,2,20210209,1959,-53.79778, -37.93570, 296, 236.5, 0.8253, 0.8237, 2.0000,34.0583,2,34.0577,2, 288.6,2, 288.0,2, -999.00,9, -999.00,9, -999.00,9,-999.0000,9,-999.0000,9, 0.0594, -999.0,9
740H20210202,SR1b_A23, 13,1,11,9012,2,20210209,2003,-53.79778, -37.93570, 296, 165.6, 0.9467, 0.9469, 2.0000,34.0045,2,-999.0000,9, 301.8,2,-999.0,9, -999.00,9, -999.00,9, -999.00,9,-999.0000,9,-999.0000,9, 0.0434, -999.0,9
740H20210202,SR1b_A23, 13,1,12,9013,2,20210209,2003,-53.79776, -37.93572, 296, 165.9, 0.9461, 0.9476, 2.0000,34.0047,2,-999.0000,9, 302.0,2,-999.0,9, -999.00,9, -999.00,9, -999.00,9,-999.0000,9,-999.0000,9, 0.0443, -999.0,9
740H20210202,SR1b_A23, 13,1,13,9014,2,20210209,2004,-53.79778, -37.93572, 296, 165.6, 0.9481, 0.9491, 2.0000,34.0041,2,-999.0000,9, 302.2,2,-999.0,9, -999.00,9, -999.00,9, -999.00,9,-999.0000,9,-999.0000,9, 0.0492, -999.0,9
740H20210202,SR1b_A23, 13,1,14,9015,2,20210209,2004,-53.79776, -37.93574, 296, 165.2, 0.9478, 0.9465, 2.0000,34.0041,2,-999.0000,9, 302.3,2,-999.0,9, -999.00,9, -999.00,9, -999.00,9,-999.0000,9,-999.0000,9, 0.0468, -999.0,9
740H20210202,SR1b_A23, 13,1,15,9016,2,20210209,2005,-53.79776, -37.93572, 296, 165.5, 0.9461, 0.9461, 2.0000,34.0046,2,34.0043,2, 301.5,2, 301.2,2, -999.00,9, -999.00,9, -999.00,9,-999.0000,9,-999.0000,9, 0.0481, -999.0,9
740H20210202,SR1b_A23, 13,1,16,9017,2,20210209,2009,-53.79778, -37.93571, 296,  76.8, 1.6652, 1.6681, 2.0000,33.8754,2,-999.0000,9, 325.4,2,-999.0,9, -999.00,9, -999.00,9, -999.00,9,-999.0000,9,-999.0000,9, 0.0720, -999.0,9
740H20210202,SR1b_A23, 13,1,17,9018,2,20210209,2009,-53.79776, -37.93572, 296,  77.1, 1.6693, 1.6705, 2.0000,33.8749,2,-999.0000,9, 325.3,2,-999.0,9, -999.00,9, -999.00,9, -999.00,9,-999.0000,9,-999.0000,9, 0.0733, -999.0,9
740H20210202,SR1b_A23, 13,1,18,9019,2,20210209,2009,-53.79776, -37.93572, 296,  77.5, 1.6697, 1.6719, 2.0000,33.8749,2,-999.0000,9, 325.4,2,-999.0,9, -999.00,9, -999.00,9, -999.00,9,-999.0000,9,-999.0000,9, 0.0684, -999.0,9
740H20210202,SR1b_A23, 13,1,19,9020,2,20210209,2010,-53.79776, -37.93571, 296,  77.2, 1.6668, 1.6697, 2.0000,33.8751,2,-999.0000,9, 325.2,2,-999.0,9, -999.00,9, -999.00,9, -999.00,9,-999.0000,9,-999.0000,9, 0.0704, -999.0,9
740H20210202,SR1b_A23, 13,1,20,9021,2,20210209,2010,-53.79778, -37.93572, 296,  77.0, 1.6697, 1.6688, 2.0000,33.8749,2,33.8750,2, 325.6,2, 324.4,2, -999.00,9, -999.00,9, -999.00,9,-999.0000,9,-999.0000,9, 0.0698, -999.0,9
740H20210202,SR1b_A23, 13,1,21,9022,2,20210209,2013,-53.79778, -37.93572, 296,  36.4, 3.3346, 3.3374, 2.0000,33.7019,2,-999.0000,9, 336.2,2,-999.0,9, -999.00,9, -999.00,9, -999.00,9,-999.0000,9,-999.0000,9, 0.9221, -999.0,9
740H20210202,SR1b_A23, 13,1,22,9023,2,20210209,2014,-53.79778, -37.93574, 296,  36.3, 3.3360, 3.3386, 2.0000,33.7019,2,-999.0000,9, 336.5,2,-999.0,9, -999.00,9, -999.00,9, -999.00,9,-999.0000,9,-999.0000,9, 0.8983, -999.0,9
740H20210202,SR1b_A23, 13,1,23,9024,2,20210209,2014,-53.79778, -37.93572, 296,  36.5, 3.3360, 3.3377, 2.0000,33.7020,2,-999.0000,9, 336.2,2,-999.0,9, -999.00,9, -999.00,9, -999.00,9,-999.0000,9,-999.0000,9, 0.8800, -999.0,9
740H20210202,SR1b_A23, 13,1,24,9025,2,20210209,2015,-53.79778, -37.93572, 296,  36.3, 3.3371, 3.3386, 2.0000,33.7019,2,33.7028,2, 336.3,2, 336.5,2, -999.00,9, -999.00,9, -999.00,9,-999.0000,9,-999.0000,9, 0.8948, -999.0,9
740H20210202,SR1b_A23, 14,1, 1,9002,2,20210210,0308,-53.32500, -37.77510,2790, 761.1, 1.9256, 1.9295, 2.0000,34.6778,2,34.6785,2, 179.5,2, 179.1,2, -999.00,9, -999.00,9, -999.00,9,-999.0000,9,-999.0000,9, 0.0205, -999.0,9
740H20210202,SR1b_A23, 14,1, 2,9003,2,20210210,0309,-53.32500, -37.77509,2790, 761.2, 1.9256, 1.9295, 2.0000,34.6778,2,-999.0000,9, 179.6,2,-999.0,9, -999.00,9, -999.00,9, -999.00,9,-999.0000,9,-999.0000,9, 0.0138, -999.0,9
740H20210202,SR1b_A23, 14,1, 3,8149,2,20210210,0310,-53.32500, -37.77510,2790, 761.4, 1.9294, 1.9285, 2.0000,34.6765,2,-999.0000,9, 179.5,2,-999.0,9, -999.00,9, -999.00,9, -999.00,9,-999.0000,9,-999.0000,9, 0.0066, -999.0,9
740H20210202,SR1b_A23, 14,1, 4,9005,2,20210210,0317,-53.32500, -37.77508,2790, 457.5, 2.1040, 2.1080, 2.0000,34.5762,2,34.5774,2, 177.3,2, 177.0,2, -999.00,9, -999.00,9, -999.00,9,-999.0000,9,-999.0000,9, 0.0202, -999.0,9
740H20210202,SR1b_A23, 14,1, 5,9006,2,20210210,0319,-53.32500, -37.77510,2790, 457.3, 2.1083, 2.1091, 2.0000,34.5761,2,-999.0000,9, 177.0,2,-999.0,9, -999.00,9, -999.00,9, -999.00,9,-999.0000,9,-999.0000,9, 0.0225, -999.0,9
740H20210202,SR1b_A23, 14,1, 6,9007,2,20210210,0322,-53.32500, -37.77510,2790, 406.8, 2.0947, 2.0937, 2.0000,34.5369,2,34.5396,2, 180.2,2, 196.0,3, -999.00,1, -999.00,1, -999.00,1,-999.0000,9,-999.0000,1, 0.0201, -999.0,1
740H20210202,SR1b_A23, 14,1, 7,9008,2,20210210,0323,-53.32500, -37.77507,2790, 406.9, 2.0947, 2.0932, 2.0000,34.5368,2,-999.0000,9, 180.2,2,-999.0,9, -999.00,9, -999.00,9, -999.00,9,-999.0000,9,-999.0000,9, 0.0177, -999.0,9
740H20210202,SR1b_A23, 14,1, 8,9009,2,20210210,0328,-53.32500, -37.77508,2790, 204.5, 1.3394, 1.3439, 2.0000,34.2476,2,34.2586,2, 242.6,2, 240.2,2, -999.00,1, -999.00,1, -999.00,1,-999.0000,9,-999.0000,1, 0.0182, -999.0,1
740H20210202,SR1b_A23, 14,1, 9,9010,2,20210210,0329,-53.32500, -37.77510,2790, 204.5, 1.3416, 1.3316, 2.0000,34.2476,2,-999.0000,9, 242.9,2,-999.0,9, -999.00,9, -999.00,9, -999.00,9,-999.0000,9,-999.0000,9, 0.0196, -999.0,9
740H20210202,SR1b_A23, 14,1,10,8156,2,20210210,0330,-53.32500, -37.77510,2790, 204.6, 1.3301, 1.3357, 2.0000,34.2446,2,-999.0000,9, 243.8,2,-999.0,9, -999.00,9, -999.00,9, -999.00,9,-999.0000,9,-999.0000,9, 0.0243, -999.0,9
740H20210202,SR1b_A23, 14,1,11,9012,2,20210210,0334,-53.32500, -37.77512,2790, 128.5, 0.6712, 0.6704, 2.0000,34.0017,2,-999.0000,9, 312.8,2,-999.0,9, -999.00,9, -999.00,9, -999.00,9,-999.0000,9,-999.0000,9, 0.0527, -999.0,9
740H20210202,SR1b_A23, 14,1,12,9013,2,20210210,0335,-53.32500, -37.77512,2790, 128.4, 0.6711, 0.6798, 2.0000,33.9985,2,-999.0000,9, 312.9,2,-999.0,9, -999.00,9, -999.00,9, -999.00,9,-999.0000,9,-999.0000,9, 0.0191, -999.0,9
740H20210202,SR1b_A23, 14,1,13,9014,2,20210210,0337,-53.32500, -37.77508,2790, 105.4, 0.7666, 0.7702, 2.0000,33.9554,2,-999.0000,9, 321.1,2,-999.0,9, -999.00,1, -999.00,1, -999.00,1,-999.0000,9,-999.0000,1, 0.0457, -999.0,1
740H20210202,SR1b_A23, 14,1,14,9015,2,20210210,0338,-53.32498, -37.77508,2790, 104.7, 0.7689, 0.7706, 2.0000,33.9528,2,-999.0000,9, 322.4,2,-999.0,9, -999.00,9, -999.00,9, -999.00,9,-999.0000,9,-999.0000,9, 0.0417, -999.0,9
740H20210202,SR1b_A23, 14,1,15,9016,2,20210210,0341,-53.32498, -37.77510,2790,  78.3, 1.0826, 1.0595, 2.0000,33.8930,2,-999.0000,9, 327.3,2,-999.0,9, -999.00,9, -999.00,9, -999.00,9,-999.0000,9,-999.0000,9, 0.1233, -999.0,9
740H20210202,SR1b_A23, 14,1,16,9017,2,20210210,0342,-53.32498, -37.77510,2790,  77.6, 1.0910, 1.0662, 2.0000,33.8904,2,-999.0000,9, 327.7,2,-999.0,9, -999.00,9, -999.00,9, -999.00,9,-999.0000,9,-999.0000,9, 0.1154, -999.0,9
740H20210202,SR1b_A23, 14,1,17,9018,2,20210210,0345,-53.32500, -37.77510,2790,  52.9, 4.2465, 4.2660, 2.0000,33.7955,2,-999.0000,9, 326.6,2,-999.0,9, -999.00,1, -999.00,1, -999.00,1,-999.0000,9,-999.0000,1, 1.4553, -999.0,1
740H20210202,SR1b_A23, 14,1,18,9019,2,20210210,0345,-53.32500, -37.77510,2790,  53.6, 4.1617, 4.2523, 2.0000,33.7996,2,-999.0000,9, 327.0,2,-999.0,9, -999.00,9, -999.00,9, -999.00,9,-999.0000,9,-999.0000,9, 1.5265, -999.0,9
740H20210202,SR1b_A23, 14,1,19,9020,2,20210210,0346,-53.32500, -37.77508,2790,  53.3, 4.1499, 4.2468, 2.0000,33.7956,2,-999.0000,9, 327.1,2,-999.0,9, -999.00,9, -999.00,9, -999.00,9,-999.0000,9,-999.0000,9, 1.4587, -999.0,9
740H20210202,SR1b_A23, 14,1,20,9021,2,20210210,0350,-53.32498, -37.77510,2790,  27.8, 4.3617, 4.3989, 2.0000,33.7918,2,33.7921,2, 331.8,2, 332.7,2, -999.00,1, -999.00,1, -999.00,1,-999.0000,9,-999.0000,1, 1.7902, -999.0,1
740H20210202,SR1b_A23, 14,1,21,9022,2,20210210,0350,-53.32500, -37.77508,2790,  27.7, 4.3375, 4.3970, 2.0000,33.7907,2,-999.0000,9, 331.2,2,-999.0,9, -999.00,9, -999.00,9, -999.00,9,-999.0000,9,-999.0000,9, 1.8108, -999.0,9
740H20210202,SR1b_A23, 14,1,22,9023,2,20210210,0351,-53.32498, -37.77510,2790,  27.9, 4.3854, 4.3947, 2.0000,33.7925,2,-999.0000,9, 331.4,2,-999.0,9, -999.00,9, -999.00,9, -999.00,9,-999.0000,9,-999.0000,9, 1.5647, -999.0,9
740H20210202,SR1b_A23, 14,1,23,9024,2,20210210,0354,-53.32498, -37.77510,2790,   5.0, 4.4108, 4.4124, 2.0000,33.7937,2,33.7935,2, 331.9,2, 332.3,3, -999.00,1, -999.00,1, -999.00,1,-999.0000,9,-999.0000,1, 1.7986, -999.0,1
740H20210202,SR1b_A23, 14,1,24,9025,2,20210210,0354,-53.32498, -37.77510,2790,   5.8, 4.4124, 4.4104, 2.0000,33.7940,2,-999.0000,9, 331.3,2,-999.0,9, -999.00,9, -999.00,9, -999.00,9,-999.0000,9,-999.0000,9, 1.5022, -999.0,9
740H20210202,SR1b_A23, 15,1, 1,9002,2,20210210,1754,-54.15984, -36.69298,  89,  78.0, 2.4562, 2.4882, 2.0000,33.7654,2,-999.0000,9, 322.1,2,-999.0,9, -999.00,9, -999.00,9, -999.00,9,-999.0000,9,-999.0000,9, 0.0879, -999.0,9
740H20210202,SR1b_A23, 15,1, 2,9003,2,20210210,1755,-54.15984, -36.69299,  89,  78.0, 2.4155, 2.4370, 2.0000,33.7849,2,33.7516,2, 322.2,2, 322.8,3, -999.00,9, -999.00,9, -999.00,9,-999.0000,9,-999.0000,9, 0.0907, -999.0,9
740H20210202,SR1b_A23, 15,1, 3,8149,2,20210210,1757,-54.15984, -36.69300,  89,  53.0, 2.9781, 3.1209, 2.0000,33.6978,2,-999.0000,9, 326.2,2,-999.0,9, -999.00,9, -999.00,9, -999.00,9,-999.0000,9,-999.0000,9, 0.1473, -999.0,9
740H20210202,SR1b_A23, 15,1, 4,9005,2,20210210,1757,-54.15986, -36.69298,  89,  53.0, 3.1361, 3.1114, 2.0000,33.6783,2,33.7138,2, 327.5,2, 328.1,3, -999.00,9, -999.00,9, -999.00,9,-999.0000,9,-999.0000,9, 0.1537, -999.0,9
740H20210202,SR1b_A23, 15,1, 5,9006,2,20210210,1800,-54.15986, -36.69298,  89,   7.4, 4.2479, 4.2790, 2.0000,33.4116,2,-999.0000,9, 332.0,2,-999.0,9, -999.00,9, -999.00,9, -999.00,9,-999.0000,9,-999.0000,9, 0.1529, -999.0,9
740H20210202,SR1b_A23, 15,1, 6,9007,2,20210210,1801,-54.15984, -36.69300,  89,   7.5, 4.1382, 4.2772, 2.0000,33.4288,2,33.4335,2, 331.8,2, 332.2,3, -999.00,9, -999.00,9, -999.00,9,-999.0000,9,-999.0000,9, 0.1617, -999.0,9
740H20210202,SR1b_A23, 16,1, 1,9002,2,20210211,2114,-52.80884, -40.11296,3749,3803.7,-0.0389,-0.0392, 2.0000,34.6592,2,-999.0000,9, 228.5,2,-999.0,9, -999.00,9, -999.00,9, -999.00,9,-999.0000,9,-999.0000,9, 0.0190, -999.0,9
740H20210202,SR1b_A23, 16,1, 2,9003,2,20210211,2115,-52.80884, -40.11296,3749,3803.9,-0.0389,-0.0392, 2.0000,34.6593,2,34.6591,2, 228.6,2, 229.0,2, -999.00,9, -999.00,9, -999.00,9,-999.0000,9,-999.0000,9, 0.0203, -999.0,9
740H20210202,SR1b_A23, 16,1, 3,8149,2,20210211,2121,-52.80882, -40.11296,3749,3570.1, 0.1093, 0.1097, 2.0000,34.6663,2,-999.0000,9, 225.9,2,-999.0,9, -999.00,9, -999.00,9, -999.00,9,-999.0000,9,-999.0000,9, 0.0098, -999.0,9
740H20210202,SR1b_A23, 16,1, 4,9005,2,20210211,2121,-52.80884, -40.11296,3749,3570.0, 0.1094, 0.1099, 2.0000,34.6662,2,34.6659,2, 226.0,2, 226.3,2, -999.00,9, -999.00,9, -999.00,9,-999.0000,9,-999.0000,9, 0.0141, -999.0,9
740H20210202,SR1b_A23, 16,1, 5,9006,2,20210211,2132,-52.80886, -40.11296,3749,3056.2, 0.2826, 0.2831, 2.0000,34.6737,2,-999.0000,9, 220.9,2,-999.0,9, -999.00,9, -999.00,9, -999.00,9,-999.0000,9,-999.0000,9, 0.0050, -999.0,9
740H20210202,SR1b_A23, 16,1, 6,9007,2,20210211,2132,-52.80884, -40.11296,3749,3056.3, 0.2829, 0.2829, 2.0000,34.6736,2,34.6742,2, 220.9,2, 220.9,2, -999.00,9, -999.00,9, -999.00,9,-999.0000,9,-999.0000,9, 0.0093, -999.0,9
740H20210202,SR1b_A23, 16,1, 7,9008,2,20210211,2143,-52.80884, -40.11294,3749,2544.6, 0.4492, 0.4506, 2.0000,34.6819,2,-999.0000,9, 215.8,2,-999.0,9, -999.00,9, -999.00,9, -999.00,9,-999.0000,9,-999.0000,9, 0.0128, -999.0,9
740H20210202,SR1b_A23, 16,1, 8,9009,2,20210211,2143,-52.80884, -40.11294,3749,2544.7, 0.4504, 0.4509, 2.0000,34.6820,2,34.6822,2, 216.0,2, 216.2,2, -999.00,9, -999.00,9, -999.00,9,-999.0000,9,-999.0000,9,-0.0026, -999.0,9
740H20210202,SR1b_A23, 16,1, 9,9010,2,20210211,2154,-52.80884, -40.11294,3749,2033.3, 0.6695, 0.6697, 2.0000,34.6923,2,-999.0000,9, 210.2,2,-999.0,9, -999.00,9, -999.00,9, -999.00,9,-999.0000,9,-999.0000,9, 0.0131, -999.0,9
740H20210202,SR1b_A23, 16,1,10,8156,2,20210211,2154,-52.80884, -40.11294,3749,2033.4, 0.6694, 0.6694, 2.0000,34.6922,2,34.6916,2, 210.2,2, 210.0,2, -999.00,9, -999.00,9, -999.00,9,-999.0000,9,-999.0000,9, 0.0120, -999.0,9
740H20210202,SR1b_A23, 16,1,11,9012,2,20210211,2205,-52.80882, -40.11294,3749,1523.4, 0.9846, 0.9843, 2.0000,34.7035,2,-999.0000,9, 203.3,2,-999.0,9, -999.00,9, -999.00,9, -999.00,9,-999.0000,9,-999.0000,9, 0.0072, -999.0,9
740H20210202,SR1b_A23, 16,1,12,9013,2,20210211,2205,-52.80884, -40.11294,3749,1523.4, 0.9857, 0.9826, 2.0000,34.7034,2,34.7032,2, 203.1,2, 202.9,2, -999.00,9, -999.00,9, -999.00,9,-999.0000,9,-999.0000,9, 0.0136, -999.0,9
740H20210202,SR1b_A23, 16,1,13,9014,2,20210211,2214,-52.80884, -40.11297,3749,1115.7, 1.3743, 1.3692, 2.0000,34.7098,2,-999.0000,9, 194.7,2,-999.0,9, -999.00,9, -999.00,9, -999.00,9,-999.0000,9,-999.0000,9, 0.0127, -999.0,9
740H20210202,SR1b_A23, 16,1,14,9015,2,20210211,2215,-52.80885, -40.11296,3749,1115.7, 1.3718, 1.3741, 2.0000,34.7096,2,34.7102,2, 194.8,2, 194.3,2, -999.00,9, -999.00,9, -999.00,9,-999.0000,9,-999.0000,9, 0.0089, -999.0,9
740H20210202,SR1b_A23, 16,1,15,9016,2,20210211,2225,-52.80884, -40.11294,3749, 607.5, 1.8191, 1.8191, 2.0000,34.6703,2,-999.0000,9, 182.0,2,-999.0,9, -999.00,9, -999.00,9, -999.00,9,-999.0000,9,-999.0000,9, 0.0141, -999.0,9
740H20210202,SR1b_A23, 16,1,16,9017,2,20210211,2226,-52.80886, -40.11296,3749, 607.5, 1.8192, 1.8180, 2.0000,34.6702,2,34.6694,2, 182.0,2, 181.6,2, -999.00,9, -999.00,9, -999.00,9,-999.0000,9,-999.0000,9, 0.0171, -999.0,9
740H20210202,SR1b_A23, 16,1,17,9018,2,20210211,2231,-52.80884, -40.11296,3749, 403.9, 1.9587, 1.9581, 2.0000,34.5994,2,-999.0000,9, 177.9,2,-999.0,9, -999.00,9, -999.00,9, -999.00,9,-999.0000,9,-999.0000,9, 0.0099, -999.0,9
740H20210202,SR1b_A23, 16,1,18,9019,2,20210211,2232,-52.80884, -40.11296,3749, 403.9, 1.9582, 1.9579, 2.0000,34.5991,2,34.5999,2, 177.9,2, 176.7,2, -999.00,9, -999.00,9, -999.00,9,-999.0000,9,-999.0000,9, 0.0165, -999.0,9
740H20210202,SR1b_A23, 16,1,19,9020,2,20210211,2238,-52.80884, -40.11296,3749, 151.4, 0.8895, 0.8648, 2.0000,34.2122,2,-999.0000,9, 253.7,2,-999.0,9, -999.00,9, -999.00,9, -999.00,9,-999.0000,9,-999.0000,9, 0.0406, -999.0,9
740H20210202,SR1b_A23, 16,1,20,9021,2,20210211,2239,-52.80884, -40.11296,3749, 151.2, 0.8862, 0.8808, 2.0000,34.2121,2,34.2110,2, 252.9,2, 254.2,2, -999.00,9, -999.00,9, -999.00,9,-999.0000,9,-999.0000,9, 0.0280, -999.0,9
740H20210202,SR1b_A23, 16,1,21,9022,2,20210211,2243,-52.80884, -40.11296,3749,  65.0, 1.5668, 1.6860, 2.0000,33.9312,2,-999.0000,9, 325.2,2,-999.0,9, -999.00,9, -999.00,9, -999.00,9,-999.0000,9,-999.0000,9, 0.1822, -999.0,9
740H20210202,SR1b_A23, 16,1,22,9023,2,20210211,2243,-52.80886, -40.11296,3749,  64.3, 1.5886, 1.6640, 2.0000,33.9321,2,33.9297,2, 324.9,2, 325.3,2, -999.00,9, -999.00,9, -999.00,9,-999.0000,9,-999.0000,9, 0.3536, -999.0,9
740H20210202,SR1b_A23, 16,1,23,9024,2,20210211,2247,-52.80884, -40.11296,3749,  15.0, 5.0873, 5.0939, 2.0000,33.8175,2,-999.0000,9, 321.1,2,-999.0,9, -999.00,9, -999.00,9, -999.00,9,-999.0000,9,-999.0000,9, 0.8619, -999.0,9
740H20210202,SR1b_A23, 16,1,24,9025,2,20210211,2248,-52.80884, -40.11296,3749,  15.0, 5.0936, 5.0943, 2.0000,33.8177,2,33.8156,2, 321.4,2, 322.4,2, -999.00,9, -999.00,9, -999.00,9,-999.0000,9,-999.0000,9, 0.8643, -999.0,9