BOTTLE,20210420POGBASEPA
EXPOCODE,SECT_ID,STNNBR,CASTNO,SAMPNO,BTLNBR,BTLNBR_FLAG_W,DATE,TIME,LATITUDE,LONGITUDE,DEPTH,CTDPRS,CTDTMP,SBE35,SBE35_FLAG_W,CTDSAL,CTDSAL_FLAG_W,SALNTY,SALNTY_FLAG_W,CTDOXY,CTDOXY_FLAG_W,OXYGEN,OXYGEN_FLAG_W,SILCAT,SILCAT_FLAG_W,NO2+NO3,NO2+NO3_FLAG_W,PHSPHT,PHSPHT_FLAG_W,DELO18,DELO18_FLAG_W,D30SI_SILCAT,D30SI_SILCAT_FLAG_W,CTDFLUOR,BOTCHLA,BOTCHLA_FLAG_W
 , , , , , , , , , , ,METERS,DBAR,ITS-90,ITS-90, ,PSS-78, ,PSS-78, ,UMOL/KG, ,UMOL/KG, ,UMOL/KG, ,UMOL/KG,UMOL/KG,UMOL/KG,UMOL/KG,/MILLE,/MILLE,/MILLE,/MILLE,MG/M^3,ML/L,ML/L
740H20210202,SR1b_A23, 72,1, 1,9002,2,20210228,1600,-60.33544, -55.02526,3437,3483.9, 0.0307, 0.0298, 2.0000,34.6590,2,-999.0000,9, 230.3,2,-999.0,9, -999.00,9, -999.00,9, -999.00,9,-999.0000,9,-999.0000,9, 0.0132, -999.0,9
740H20210202,SR1b_A23, 72,1, 2,9003,2,20210228,1601,-60.33550, -55.02516,3437,3484.1, 0.0309, 0.0307, 2.0000,34.6589,2,34.6584,2, 230.5,2, 230.3,2, -999.00,9, -999.00,9, -999.00,9,-999.0000,1,-999.0000,9, 0.0088, -999.0,9
740H20210202,SR1b_A23, 72,1, 3,8149,2,20210228,1604,-60.33558, -55.02494,3437,3434.8, 0.0243, 0.0240, 2.0000,34.6589,2,-999.0000,9, 230.6,2,-999.0,9, -999.00,9, -999.00,9, -999.00,9,-999.0000,9,-999.0000,9, 0.0096, -999.0,9
740H20210202,SR1b_A23, 72,1, 4,9005,2,20210228,1605,-60.33562, -55.02482,3437,3434.8, 0.0242, 0.0238, 2.0000,34.6590,2,-999.0000,9, 230.6,2,-999.0,9, -999.00,9, -999.00,9, -999.00,9,-999.0000,9,-999.0000,9, 0.0121, -999.0,9
740H20210202,SR1b_A23, 72,1, 5,9006,2,20210228,1605,-60.33564, -55.02471,3437,3435.1, 0.0241, 0.0237, 2.0000,34.6589,2,34.6585,2, 230.3,2,-999.0,9, -999.00,9, -999.00,9, -999.00,9,-999.0000,1,-999.0000,9, 0.0131, -999.0,9
740H20210202,SR1b_A23, 72,1, 6,9007,2,20210228,1632,-60.33640, -55.02220,3437,1919.8, 0.5569, 0.5588, 2.0000,34.7023,2,-999.0000,9, 209.2,2,-999.0,9, -999.00,9, -999.00,9, -999.00,9,-999.0000,9,-999.0000,9, 0.0109, -999.0,9
740H20210202,SR1b_A23, 72,1, 7,9008,2,20210228,1634,-60.33646, -55.02208,3437,1919.9, 0.5582, 0.5563, 2.0000,34.7026,2,34.7023,2, 209.0,2, 208.4,2, -999.00,9, -999.00,9, -999.00,9,-999.0000,1,-999.0000,9, 0.0045, -999.0,9
740H20210202,SR1b_A23, 72,1, 8,9009,2,20210228,1656,-60.33712, -55.01990,3437, 650.2, 1.6201, 1.6238, 2.0000,34.7268,2,-999.0000,9, 188.0,2,-999.0,9, -999.00,9, -999.00,9, -999.00,9,-999.0000,9,-999.0000,9, 0.0066, -999.0,9
740H20210202,SR1b_A23, 72,1, 9,9010,2,20210228,1657,-60.33714, -55.01982,3437, 650.3, 1.6222, 1.6218, 2.0000,34.7269,2,34.7263,2, 187.9,2, 187.6,2, -999.00,9, -999.00,9, -999.00,9,-999.0000,1,-999.0000,9, 0.0039, -999.0,9
740H20210202,SR1b_A23, 72,1,10,8156,2,20210228,1702,-60.33728, -55.01935,3437, 407.2, 1.4558, 1.4129, 2.0000,34.6476,2,-999.0000,9, 194.3,2,-999.0,9, -999.00,9, -999.00,9, -999.00,9,-999.0000,9,-999.0000,9, 0.0068, -999.0,9
740H20210202,SR1b_A23, 72,1,11,9012,2,20210228,1703,-60.33730, -55.01926,3437, 407.2, 1.4073, 1.4048, 2.0000,34.6385,2,-999.0000,9, 196.1,2,-999.0,9, -999.00,9, -999.00,9, -999.00,9,-999.0000,9,-999.0000,9, 0.0003, -999.0,9
740H20210202,SR1b_A23, 72,1,12,9013,2,20210228,1704,-60.33732, -55.01918,3437, 407.1, 1.4084, 1.3980, 2.0000,34.6383,2,34.6403,2, 195.8,2, 194.3,2, -999.00,9, -999.00,9, -999.00,9,-999.0000,1,-999.0000,9, 0.0137, -999.0,9
740H20210202,SR1b_A23, 72,1,13,9014,2,20210228,1710,-60.33752, -55.01857,3437, 164.5, 0.4914, 0.4919, 2.0000,34.3380,2,-999.0000,9, 262.5,2,-999.0,9, -999.00,9, -999.00,9, -999.00,9,-999.0000,9,-999.0000,9, 0.0239, -999.0,9
740H20210202,SR1b_A23, 72,1,14,9015,2,20210228,1711,-60.33754, -55.01853,3437, 164.6, 0.4913, 0.4913, 2.0000,34.3383,2,34.3408,2, 262.8,2,-999.0,9, -999.00,9, -999.00,9, -999.00,9,-999.0000,1,-999.0000,9, 0.0174, -999.0,9
740H20210202,SR1b_A23, 72,1,15,9016,2,20210228,1713,-60.33762, -55.01829,3437, 124.4, 0.5092, 0.5085, 2.0000,34.2957,2,-999.0000,9, 273.5,2,-999.0,9, -999.00,9, -999.00,9, -999.00,9,-999.0000,9,-999.0000,9, 0.0166, -999.0,9
740H20210202,SR1b_A23, 72,1,16,9017,2,20210228,1714,-60.33762, -55.01824,3437, 124.1, 0.5100, 0.5109, 2.0000,34.2949,2,34.2978,2, 273.7,2, 272.5,2, -999.00,9, -999.00,9, -999.00,9,-999.0000,1,-999.0000,9, 0.0132, -999.0,9
740H20210202,SR1b_A23, 72,1,17,9018,2,20210228,1718,-60.33776, -55.01784,3437,  73.5, 0.6088, 0.6123, 2.0000,34.1625,2,-999.0000,9, 303.0,2,-999.0,9, -999.00,9, -999.00,9, -999.00,9,-999.0000,9,-999.0000,9, 0.0680, -999.0,9
740H20210202,SR1b_A23, 72,1,18,9019,2,20210228,1719,-60.33778, -55.01778,3437,  73.8, 0.6103, 0.6170, 2.0000,34.1618,2,34.1583,2, 303.7,2,-999.0,9, -999.00,9, -999.00,9, -999.00,9,-999.0000,1,-999.0000,9, 0.0598, -999.0,9
740H20210202,SR1b_A23, 72,1,19,9020,2,20210228,1721,-60.33782, -55.01760,3437,  42.7, 1.6438, 1.8002, 2.0000,34.0734,2,-999.0000,9, 327.4,2,-999.0,9, -999.00,9, -999.00,9, -999.00,9,-999.0000,9,-999.0000,9, 0.2273, -999.0,9
740H20210202,SR1b_A23, 72,1,20,9021,2,20210228,1722,-60.33786, -55.01741,3437,  43.5, 1.8103, 1.8050, 2.0000,34.0605,2,34.0609,2, 328.7,2,-999.0,9, -999.00,9, -999.00,9, -999.00,9,-999.0000,1,-999.0000,9, 0.2400, -999.0,9
740H20210202,SR1b_A23, 72,1,21,9022,2,20210228,1724,-60.33794, -55.01724,3437,  13.4, 1.8468, 1.8360, 2.0000,34.0581,2,-999.0000,9, 329.4,2,-999.0,9, -999.00,9, -999.00,9, -999.00,9,-999.0000,9,-999.0000,9, 0.2547, -999.0,9
740H20210202,SR1b_A23, 72,1,22,9023,2,20210228,1725,-60.33796, -55.01714,3437,  13.6, 1.8417, 1.8326, 2.0000,34.0580,2,34.0580,2, 329.1,2, 329.4,2, -999.00,9, -999.00,9, -999.00,9,-999.0000,1,-999.0000,9, 0.2477, -999.0,9
740H20210202,SR1b_A23, 72,1,23,9024,2,20210228,1727,-60.33800, -55.01702,3437,   8.1, 1.8552, 1.8524, 2.0000,34.0578,2,-999.0000,9, 329.4,2,-999.0,9, -999.00,9, -999.00,9, -999.00,9,-999.0000,9,-999.0000,9, 0.2436, -999.0,9
740H20210202,SR1b_A23, 72,1,24,9025,2,20210228,1728,-60.33802, -55.01690,3437,   8.7, 1.8605, 1.8571, 2.0000,34.0580,2,34.0575,2, 330.0,2,-999.0,9, -999.00,9, -999.00,9, -999.00,9,-999.0000,1,-999.0000,9, 0.2462, -999.0,9
740H20210202,SR1b_A23, 73,1, 1,9002,2,20210228,2124,-60.00138, -55.24338,3501,3551.4,-0.0374,-0.0372, 2.0000,34.6558,2,-999.0000,9, 233.5,2,-999.0,9, -999.00,9, -999.00,9, -999.00,9,-999.0000,9,-999.0000,9, 0.0181, -999.0,9
740H20210202,SR1b_A23, 73,1, 2,9003,2,20210228,2124,-60.00138, -55.24340,3501,3551.1,-0.0373,-0.0374, 2.0000,34.6558,2,34.6561,2, 233.2,2, 233.0,2, -999.00,9, -999.00,9, -999.00,9,-999.0000,1,-999.0000,9, 0.0080, -999.0,9
740H20210202,SR1b_A23, 73,1, 3,8149,2,20210228,2128,-60.00144, -55.24381,3501,3499.5,-0.0022,-0.0015, 2.0000,34.6575,2,-999.0000,9, 232.1,2,-999.0,9, -999.00,9, -999.00,9, -999.00,9,-999.0000,9,-999.0000,9, 0.0063, -999.0,9
740H20210202,SR1b_A23, 73,1, 4,9005,2,20210228,2128,-60.00144, -55.24388,3501,3499.7,-0.0029, 0.0000, 2.0000,34.6574,2,34.6577,2, 231.7,2,-999.0,9, -999.00,9, -999.00,9, -999.00,9,-999.0000,1,-999.0000,9, 0.0098, -999.0,9
740H20210202,SR1b_A23, 73,1, 5,9006,2,20210228,2136,-60.00150, -55.24466,3501,3159.9, 0.0931, 0.0942, 2.0000,34.6623,2,34.6627,2, 228.0,2,-999.0,9, -999.00,9, -999.00,9, -999.00,9,-999.0000,1,-999.0000,9, 0.0041, -999.0,9
740H20210202,SR1b_A23, 73,1, 6,9007,2,20210228,2145,-60.00158, -55.24566,3501,2749.5, 0.2326, 0.2334, 2.0000,34.6704,2,-999.0000,9, 222.9,2,-999.0,9, -999.00,9, -999.00,9, -999.00,9,-999.0000,9,-999.0000,9, 0.0063, -999.0,9
740H20210202,SR1b_A23, 73,1, 7,9008,2,20210228,2145,-60.00160, -55.24572,3501,2749.5, 0.2325, 0.2326, 2.0000,34.6703,2,34.6694,2, 222.6,2,-999.0,9, -999.00,9, -999.00,9, -999.00,9,-999.0000,1,-999.0000,9, 0.0154, -999.0,9
740H20210202,SR1b_A23, 73,1, 8,9009,2,20210228,2152,-60.00168, -55.24650,3501,2442.6, 0.4161, 0.4156, 2.0000,34.6836,2,34.6835,2, 216.2,2,-999.0,9, -999.00,9, -999.00,9, -999.00,9,-999.0000,1,-999.0000,9, 0.0069, -999.0,9
740H20210202,SR1b_A23, 73,1, 9,9010,2,20210228,2153,-60.00168, -55.24651,3501,2442.4, 0.4162, 0.4169, 2.0000,34.6836,2,-999.0000,9, 216.2,2,-999.0,9, -999.00,9, -999.00,9, -999.00,9,-999.0000,9,-999.0000,9, 0.0081, -999.0,9
740H20210202,SR1b_A23, 73,1,10,8156,4,20210228,2201,-60.00180, -55.24749,3501,2033.2, 0.6841, 0.6863, 2.0000,34.7007,2,-999.0000,9, 208.0,2,-999.0,9, -999.00,9, -999.00,9, -999.00,9,-999.0000,9,-999.0000,9,-0.0046, -999.0,9
740H20210202,SR1b_A23, 73,1,11,9012,2,20210228,2202,-60.00178, -55.24753,3501,2033.6, 0.6849, 0.6922, 2.0000,34.7006,2,34.7010,2, 208.0,2, 207.7,2, -999.00,9, -999.00,9, -999.00,9,-999.0000,1,-999.0000,9, 0.0022, -999.0,9
740H20210202,SR1b_A23, 73,1,12,9013,2,20210228,2214,-60.00188, -55.24884,3501,1421.6, 1.0625, 1.0626, 2.0000,34.7141,2,-999.0000,9, 199.8,2,-999.0,9, -999.00,9, -999.00,9, -999.00,9,-999.0000,9,-999.0000,9, 0.0007, -999.0,9
740H20210202,SR1b_A23, 73,1,13,9014,2,20210228,2214,-60.00190, -55.24891,3501,1421.7, 1.0635, 1.0646, 2.0000,34.7142,2,34.7147,2, 199.7,2,-999.0,9, -999.00,9, -999.00,9, -999.00,9,-999.0000,1,-999.0000,9, 0.0074, -999.0,9
740H20210202,SR1b_A23, 73,1,14,9015,2,20210228,2225,-60.00204, -55.25036,3501, 913.9, 1.5084, 1.5095, 2.0000,34.7254,2,-999.0000,9, 190.7,2,-999.0,9, -999.00,9, -999.00,9, -999.00,9,-999.0000,9,-999.0000,9, 0.0094, -999.0,9
740H20210202,SR1b_A23, 73,1,15,9016,2,20210228,2225,-60.00206, -55.25045,3501, 913.9, 1.5039, 1.5080, 2.0000,34.7252,2,34.7251,2, 190.9,2, 190.5,2, -999.00,9, -999.00,9, -999.00,9,-999.0000,1,-999.0000,9, 0.0071, -999.0,9
740H20210202,SR1b_A23, 73,1,16,9017,2,20210228,2232,-60.00214, -55.25160,3501, 609.3, 1.7900, 1.7945, 2.0000,34.7144,2,-999.0000,9, 182.6,2,-999.0,9, -999.00,9, -999.00,9, -999.00,9,-999.0000,9,-999.0000,9, 0.0177, -999.0,9
740H20210202,SR1b_A23, 73,1,17,9018,2,20210228,2233,-60.00218, -55.25182,3501, 609.3, 1.7970, 1.7943, 2.0000,34.7149,2,34.7141,2, 182.3,2,-999.0,9, -999.00,9, -999.00,9, -999.00,9,-999.0000,1,-999.0000,9, 0.0095, -999.0,9
740H20210202,SR1b_A23, 73,1,18,9019,2,20210228,2239,-60.00224, -55.25273,3501, 356.0, 1.9666, 1.9661, 2.0000,34.6533,2,-999.0000,9, 176.5,2,-999.0,9, -999.00,9, -999.00,9, -999.00,9,-999.0000,9,-999.0000,9, 0.0139, -999.0,9
740H20210202,SR1b_A23, 73,1,19,9020,2,20210228,2240,-60.00226, -55.25291,3501, 355.8, 1.9663, 1.9673, 2.0000,34.6532,2,34.6537,2, 176.2,2, 176.2,2, -999.00,9, -999.00,9, -999.00,9,-999.0000,1,-999.0000,9, 0.0051, -999.0,9
740H20210202,SR1b_A23, 73,1,20,9021,2,20210228,2247,-60.00236, -55.25410,3501, 116.3, 0.4873, 0.4889, 2.0000,34.2450,2,-999.0000,9, 276.7,2,-999.0,9, -999.00,9, -999.00,9, -999.00,9,-999.0000,9,-999.0000,9, 0.0287, -999.0,9
740H20210202,SR1b_A23, 73,1,21,9022,2,20210228,2248,-60.00238, -55.25424,3501, 116.5, 0.4877, 0.4881, 2.0000,34.2445,2,34.2476,2, 276.9,2, 276.4,3, -999.00,9, -999.00,9, -999.00,9,-999.0000,1,-999.0000,9, 0.0276, -999.0,9
740H20210202,SR1b_A23, 73,1,22,9023,2,20210228,2256,-60.00252, -55.25548,3501,  21.9, 2.3725, 2.3718, 2.0000,33.8525,2,-999.0000,9, 335.5,2,-999.0,9, -999.00,9, -999.00,9, -999.00,9,-999.0000,9,-999.0000,9, 0.9299, -999.0,9
740H20210202,SR1b_A23, 73,1,23,9024,2,20210228,2256,-60.00252, -55.25558,3501,  22.0, 2.3712, 2.3713, 2.0000,33.8527,2,-999.0000,9, 335.2,2,-999.0,9, -999.00,9, -999.00,9, -999.00,9,-999.0000,9,-999.0000,9, 0.9017, -999.0,9
740H20210202,SR1b_A23, 73,1,24,9025,2,20210228,2257,-60.00252, -55.25564,3501,  22.0, 2.3723, 2.3715, 2.0000,33.8527,2,33.8530,2, 335.3,2, 336.2,2, -999.00,9, -999.00,9, -999.00,9,-999.0000,1,-999.0000,9, 0.9663, -999.0,9
740H20210202,SR1b_A23, 74,1, 1,9002,2,20210301,0309,-59.66994, -55.44588,3673,3727.9,-0.0168,-0.0173, 2.0000,34.6562,2,-999.0000,9, 233.3,2,-999.0,9, -999.00,9, -999.00,9, -999.00,9,-999.0000,9,-999.0000,9, 0.0095, -999.0,9
740H20210202,SR1b_A23, 74,1, 2,9003,2,20210301,0310,-59.66994, -55.44600,3673,3728.3,-0.0169,-0.0172, 2.0000,34.6562,2,34.6565,2, 233.3,2, 232.9,2, -999.00,9, -999.00,9, -999.00,9,-999.0000,1,-999.0000,9, 0.0173, -999.0,9
740H20210202,SR1b_A23, 74,1, 3,8149,2,20210301,0314,-59.66994, -55.44654,3673,3677.2,-0.0235,-0.0239, 2.0000,34.6563,2,-999.0000,9, 233.3,2,-999.0,9, -999.00,9, -999.00,9, -999.00,9,-999.0000,9,-999.0000,9, 0.0109, -999.0,9
740H20210202,SR1b_A23, 74,1, 4,9005,2,20210301,0315,-59.66992, -55.44671,3673,3676.5,-0.0236,-0.0242, 2.0000,34.6563,2,34.6563,2, 233.5,2,-999.0,9, -999.00,9, -999.00,9, -999.00,9,-999.0000,1,-999.0000,9, 0.0153, -999.0,9
740H20210202,SR1b_A23, 74,1, 5,9006,2,20210301,0330,-59.67072, -55.44866,3673,2945.6, 0.1740, 0.1742, 2.0000,34.6674,2,34.6674,2, 224.9,2, 224.6,2, -999.00,9, -999.00,9, -999.00,9,-999.0000,1,-999.0000,9, 0.0071, -999.0,9
740H20210202,SR1b_A23, 74,1, 6,9007,2,20210301,0331,-59.67076, -55.44868,3673,2945.7, 0.1735, 0.1733, 2.0000,34.6674,2,-999.0000,9, 225.4,2,-999.0,9, -999.00,9, -999.00,9, -999.00,9,-999.0000,9,-999.0000,9, 0.0081, -999.0,9
740H20210202,SR1b_A23, 74,1, 7,9008,2,20210301,0346,-59.67228, -55.45090,3673,2234.5, 0.5115, 0.5115, 2.0000,34.6916,2,34.6922,2, 212.6,2, 212.5,2, -999.00,9, -999.00,9, -999.00,9,-999.0000,1,-999.0000,9,-0.0014, -999.0,9
740H20210202,SR1b_A23, 74,1, 8,9009,2,20210301,0405,-59.67430, -55.45392,3673,1214.9, 0.9777, 0.9767, 2.0000,34.6985,2,34.6992,2, 204.8,2, 203.8,2, -999.00,9, -999.00,9, -999.00,9,-999.0000,1,-999.0000,9, 0.0166, -999.0,9
740H20210202,SR1b_A23, 74,1, 9,9010,2,20210301,0406,-59.67436, -55.45396,3673,1215.0, 0.9754, 0.9748, 2.0000,34.6983,2,-999.0000,9, 204.8,2,-999.0,9, -999.00,9, -999.00,9, -999.00,9,-999.0000,9,-999.0000,9, 0.0225, -999.0,9
740H20210202,SR1b_A23, 74,1,10,8156,2,20210301,0414,-59.67534, -55.45490,3673, 911.2, 0.8619, 0.8615, 2.0000,34.6592,2,-999.0000,9, 213.8,2,-999.0,9, -999.00,9, -999.00,9, -999.00,9,-999.0000,9,-999.0000,9, 0.0080, -999.0,9
740H20210202,SR1b_A23, 74,1,11,9012,2,20210301,0415,-59.67544, -55.45506,3673, 911.2, 0.8619, 0.8618, 2.0000,34.6591,2,34.6591,2, 213.8,2,-999.0,9, -999.00,9, -999.00,9, -999.00,9,-999.0000,1,-999.0000,9, 0.0103, -999.0,9
740H20210202,SR1b_A23, 74,1,12,9013,2,20210301,0423,-59.67648, -55.45600,3673, 556.1, 1.0814, 1.0805, 2.0000,34.6290,2,-999.0000,9, 210.5,2,-999.0,9, -999.00,9, -999.00,9, -999.00,9,-999.0000,9,-999.0000,9, 0.0148, -999.0,9
740H20210202,SR1b_A23, 74,1,13,9014,2,20210301,0424,-59.67662, -55.45612,3673, 556.1, 1.0923, 1.0875, 2.0000,34.6299,2,34.6290,2, 210.0,2, 210.5,2, -999.00,9, -999.00,9, -999.00,9,-999.0000,1,-999.0000,9, 0.0156, -999.0,9
740H20210202,SR1b_A23, 74,1,14,9015,2,20210301,0429,-59.67718, -55.45670,3673, 404.0, 0.9677, 0.9711, 2.0000,34.5566,2,-999.0000,9, 223.7,2,-999.0,9, -999.00,9, -999.00,9, -999.00,9,-999.0000,1,-999.0000,9, 0.0193, -999.0,9
740H20210202,SR1b_A23, 74,1,15,9016,2,20210301,0434,-59.67780, -55.45731,3673, 248.1, 0.9281, 0.9273, 2.0000,34.4335,2,-999.0000,9, 230.6,2,-999.0,9, -999.00,9, -999.00,9, -999.00,9,-999.0000,9,-999.0000,9, 0.0255, -999.0,9
740H20210202,SR1b_A23, 74,1,16,9017,3,20210301,0435,-59.67790, -55.45734,3673, 248.1, 0.9300, 0.9293, 2.0000,34.4347,2,34.4345,2, 230.3,2, 230.5,2, -999.00,9, -999.00,9, -999.00,9,-999.0000,1,-999.0000,9, 0.0284, -999.0,9
740H20210202,SR1b_A23, 74,1,17,9018,2,20210301,0438,-59.67830, -55.45772,3673, 181.9, 0.6192, 0.6193, 2.0000,34.3278,2,34.3273,2, 271.2,2, 272.3,2, -999.00,9, -999.00,9, -999.00,9,-999.0000,1,-999.0000,9, 0.0224, -999.0,9
740H20210202,SR1b_A23, 74,1,18,9019,2,20210301,0441,-59.67870, -55.45810,3673, 121.6, 0.7078, 0.7084, 2.0000,34.2403,2,-999.0000,9, 293.9,2,-999.0,9, -999.00,9, -999.00,9, -999.00,9,-999.0000,9,-999.0000,9, 0.0347, -999.0,9
740H20210202,SR1b_A23, 74,1,19,9020,2,20210301,0442,-59.67884, -55.45824,3673, 121.8, 0.6972, 0.6988, 2.0000,34.2439,2,34.2415,2, 293.3,2,-999.0,9, -999.00,9, -999.00,9, -999.00,9,-999.0000,1,-999.0000,9, 0.0288, -999.0,9
740H20210202,SR1b_A23, 74,1,20,9021,2,20210301,0447,-59.67942, -55.45880,3673,  79.9, 0.8684, 0.8583, 2.0000,34.1888,2,-999.0000,9, 302.7,2,-999.0,9, -999.00,9, -999.00,9, -999.00,9,-999.0000,9,-999.0000,9, 0.0382, -999.0,9
740H20210202,SR1b_A23, 74,1,21,9022,2,20210301,0447,-59.67949, -55.45892,3673,  81.1, 0.8524, 0.8636, 2.0000,34.1928,2,34.1903,2, 302.5,2,-999.0,9, -999.00,9, -999.00,9, -999.00,9,-999.0000,1,-999.0000,9, 0.0416, -999.0,9
740H20210202,SR1b_A23, 74,1,22,9023,2,20210301,0452,-59.67994, -55.45936,3673,  20.0, 2.2844, 2.2814, 2.0000,33.9437,2,33.9442,2, 332.5,2, 333.2,2, -999.00,9, -999.00,9, -999.00,9,-999.0000,1,-999.0000,9, 0.7255, -999.0,9
740H20210202,SR1b_A23, 74,1,23,9024,2,20210301,0454,-59.68010, -55.45960,3673,  10.3, 2.2851, 2.2850, 2.0000,33.9436,2,-999.0000,9, 332.8,2,-999.0,9, -999.00,9, -999.00,9, -999.00,9,-999.0000,9,-999.0000,9, 0.6408, -999.0,9
740H20210202,SR1b_A23, 74,1,24,9025,2,20210301,0454,-59.68014, -55.45966,3673,  10.7, 2.2853, 2.2851, 2.0000,33.9436,2,33.9440,2, 332.6,2,-999.0,9, -999.00,9, -999.00,9, -999.00,9,-999.0000,1,-999.0000,9, 0.6976, -999.0,9