BOTTLE,20210420POGBASEPA
EXPOCODE,SECT_ID,STNNBR,CASTNO,SAMPNO,BTLNBR,BTLNBR_FLAG_W,DATE,TIME,LATITUDE,LONGITUDE,DEPTH,CTDPRS,CTDTMP,SBE35,SBE35_FLAG_W,CTDSAL,CTDSAL_FLAG_W,SALNTY,SALNTY_FLAG_W,CTDOXY,CTDOXY_FLAG_W,OXYGEN,OXYGEN_FLAG_W,SILCAT,SILCAT_FLAG_W,NO2+NO3,NO2+NO3_FLAG_W,PHSPHT,PHSPHT_FLAG_W,DELO18,DELO18_FLAG_W,D30SI_SILCAT,D30SI_SILCAT_FLAG_W,CTDFLUOR,BOTCHLA,BOTCHLA_FLAG_W
 , , , , , , , , , , ,METERS,DBAR,ITS-90,ITS-90, ,PSS-78, ,PSS-78, ,UMOL/KG, ,UMOL/KG, ,UMOL/KG, ,UMOL/KG,UMOL/KG,UMOL/KG,UMOL/KG,/MILLE,/MILLE,/MILLE,/MILLE,MG/M^3,ML/L,ML/L
740H20210202,SR1b_A23, 85,1, 1,9002,2,20210303,1933,-56.15386, -57.61691,3349,3389.2, 0.9714, 0.9693, 2.0000,34.7091,2,-999.0000,9, 203.3,2,-999.0,9, -999.00,9, -999.00,9, -999.00,9,-999.0000,9,-999.0000,9, 0.0123, -999.0,9
740H20210202,SR1b_A23, 85,1, 2,9003,2,20210303,1934,-56.15390, -57.61686,3349,3389.3, 0.9688, 0.9684, 2.0000,34.7090,2,34.7087,2, 203.5,2, 203.9,2, -999.00,9, -999.00,9, -999.00,9,-999.0000,1,-999.0000,9, 0.0150, -999.0,9
740H20210202,SR1b_A23, 85,1, 4,9005,2,20210303,1937,-56.15402, -57.61658,3349,3337.7, 0.9905, 0.9908, 2.0000,34.7098,2,-999.0000,9, 202.8,2,-999.0,9, -999.00,9, -999.00,9, -999.00,9,-999.0000,9,-999.0000,9, 0.0187, -999.0,9
740H20210202,SR1b_A23, 85,1, 5,9006,2,20210303,1938,-56.15404, -57.61653,3349,3337.4, 0.9905, 0.9925, 2.0000,34.7098,2,34.7097,2, 202.9,2, 203.0,2, -999.00,9, -999.00,9, -999.00,9,-999.0000,1,-999.0000,9, 0.0133, -999.0,9
740H20210202,SR1b_A23, 85,1, 6,9007,2,20210303,1951,-56.15456, -57.61562,3349,2645.3, 1.3657, 1.3660, 2.0000,34.7207,2,-999.0000,9, 194.1,2,-999.0,9, -999.00,9, -999.00,9, -999.00,9,-999.0000,9,-999.0000,9, 0.0123, -999.0,9
740H20210202,SR1b_A23, 85,1, 7,9008,2,20210303,1952,-56.15456, -57.61556,3349,2645.2, 1.3656, 1.3657, 2.0000,34.7207,2,34.7210,2, 194.3,2,-999.0,9, -999.00,9, -999.00,9, -999.00,9,-999.0000,1,-999.0000,9, 0.0132, -999.0,9
740H20210202,SR1b_A23, 85,1, 8,9009,2,20210303,2004,-56.15500, -57.61466,3349,2031.8, 1.8236, 1.8246, 2.0000,34.7182,2,-999.0000,9, 183.3,2,-999.0,9, -999.00,9, -999.00,9, -999.00,9,-999.0000,9,-999.0000,9, 0.0108, -999.0,9
740H20210202,SR1b_A23, 85,1,11,9012,2,20210303,2004,-56.15503, -57.61464,3349,2031.6, 1.8235, 1.8251, 2.0000,34.7184,2,34.7184,2, 183.5,2, 183.4,2, -999.00,9, -999.00,9, -999.00,9,-999.0000,1,-999.0000,9, 0.0120, -999.0,9
740H20210202,SR1b_A23, 85,1,12,9013,2,20210303,2015,-56.15544, -57.61390,3349,1548.1, 2.1513, 2.1534, 2.0000,34.6847,2,-999.0000,9, 176.1,2,-999.0,9, -999.00,9, -999.00,9, -999.00,9,-999.0000,9,-999.0000,9, 0.0147, -999.0,9
740H20210202,SR1b_A23, 85,1,13,9014,2,20210303,2015,-56.15545, -57.61385,3349,1548.0, 2.1523, 2.1532, 2.0000,34.6845,2,34.6845,2, 176.1,2, 176.4,2, -999.00,9, -999.00,9, -999.00,9,-999.0000,1,-999.0000,9, 0.0110, -999.0,9
740H20210202,SR1b_A23, 85,1,14,9015,2,20210303,2025,-56.15582, -57.61310,3349,1090.0, 2.4219, 2.4248, 2.0000,34.5908,2,-999.0000,9, 162.9,2,-999.0,9, -999.00,9, -999.00,9, -999.00,9,-999.0000,9,-999.0000,9, 0.0150, -999.0,9
740H20210202,SR1b_A23, 85,1,15,9016,2,20210303,2026,-56.15586, -57.61304,3349,1089.8, 2.4236, 2.4245, 2.0000,34.5903,2,34.5892,2, 162.8,2, 162.6,2, -999.00,9, -999.00,9, -999.00,9,-999.0000,1,-999.0000,9, 0.0127, -999.0,9
740H20210202,SR1b_A23, 85,1,17,9018,2,20210303,2038,-56.15631, -57.61220,3349, 527.4, 2.6699, 2.6777, 2.0000,34.2811,2,-999.0000,9, 218.8,2,-999.0,9, -999.00,9, -999.00,9, -999.00,9,-999.0000,9,-999.0000,9, 0.0189, -999.0,9
740H20210202,SR1b_A23, 85,1,18,9019,2,20210303,2038,-56.15633, -57.61216,3349, 527.5, 2.6688, 2.6886, 2.0000,34.2802,2,34.2793,2, 218.8,2, 219.6,2, -999.00,9, -999.00,9, -999.00,9,-999.0000,1,-999.0000,9, 0.0169, -999.0,9
740H20210202,SR1b_A23, 85,1,19,9020,2,20210303,2045,-56.15656, -57.61168,3349, 243.1, 3.1016, 3.1037, 2.0000,34.0975,2,-999.0000,9, 274.7,2,-999.0,9, -999.00,9, -999.00,9, -999.00,9,-999.0000,9,-999.0000,9, 0.0203, -999.0,9
740H20210202,SR1b_A23, 85,1,20,9021,2,20210303,2045,-56.15660, -57.61164,3349, 243.3, 3.1017, 3.1029, 2.0000,34.0980,2,34.0985,2, 274.6,2, 275.1,2, -999.00,9, -999.00,9, -999.00,9,-999.0000,1,-999.0000,9, 0.0220, -999.0,9
740H20210202,SR1b_A23, 85,1,21,9022,2,20210303,2053,-56.15688, -57.61114,3349,  92.5, 3.9476, 3.9502, 2.0000,34.0082,2,-999.0000,9, 304.2,2,-999.0,9, -999.00,9, -999.00,9, -999.00,9,-999.0000,9,-999.0000,9, 0.2160, -999.0,9
740H20210202,SR1b_A23, 85,1,22,9023,2,20210303,2053,-56.15690, -57.61108,3349,  92.6, 3.9316, 3.9388, 2.0000,34.0094,2,34.0081,2, 304.1,2, 305.0,2, -999.00,9, -999.00,9, -999.00,9,-999.0000,1,-999.0000,9, 0.2114, -999.0,9
740H20210202,SR1b_A23, 85,1,23,9024,2,20210303,2059,-56.15709, -57.61068,3349,  12.3, 5.3870, 5.3868, 2.0000,33.9240,2,-999.0000,9, 308.9,2,-999.0,9, -999.00,9, -999.00,9, -999.00,9,-999.0000,9,-999.0000,9, 0.2694, -999.0,9
740H20210202,SR1b_A23, 85,1,24,9025,2,20210303,2059,-56.15710, -57.61064,3349,  11.5, 5.3874, 5.3882, 2.0000,33.9242,2,33.9239,2, 309.4,2, 311.6,2, -999.00,9, -999.00,9, -999.00,9,-999.0000,1,-999.0000,9, 0.2784, -999.0,9
740H20210202,SR1b_A23, 86,1, 1,9002,2,20210304,0104,-55.83712, -57.77479,4783,4870.4, 0.5254, 0.5250, 2.0000,34.6774,2,-999.0000,9, 220.5,2,-999.0,9, -999.00,9, -999.00,9, -999.00,9,-999.0000,9,-999.0000,9, 0.0058, -999.0,9
740H20210202,SR1b_A23, 86,1, 2,9003,2,20210304,0105,-55.83714, -57.77464,4783,4870.3, 0.5256, 0.5254, 2.0000,34.6774,2,34.6778,2, 220.2,2, 221.0,2, -999.00,9, -999.00,9, -999.00,9,-999.0000,1,-999.0000,9, 0.0119, -999.0,9
740H20210202,SR1b_A23, 86,1, 4,9005,2,20210304,0109,-55.83724, -57.77336,4783,4817.1, 0.5189, 0.5190, 2.0000,34.6774,2,34.6780,2, 220.0,2, 220.0,2, -999.00,9, -999.00,9, -999.00,9,-999.0000,1,-999.0000,9, 0.0144, -999.0,9
740H20210202,SR1b_A23, 86,1, 5,9006,2,20210304,0120,-55.83750, -57.77067,4783,4346.4, 0.6840, 0.6857, 2.0000,34.6897,2,34.6900,2, 213.7,2, 214.4,2, -999.00,9, -999.00,9, -999.00,9,-999.0000,1,-999.0000,9, 0.0129, -999.0,9
740H20210202,SR1b_A23, 86,1, 6,9007,2,20210304,0129,-55.83774, -57.76795,4783,3888.4, 0.9765, 0.9773, 2.0000,34.7072,2,34.7071,2, 204.6,2, 205.3,3, -999.00,9, -999.00,9, -999.00,9,-999.0000,1,-999.0000,9, 0.0096, -999.0,9
740H20210202,SR1b_A23, 86,1, 7,9008,2,20210304,0159,-55.83864, -57.75828,4783,2270.7, 1.8680, 1.8677, 2.0000,34.7123,2,34.7122,2, 180.3,2, 180.8,2, -999.00,9, -999.00,9, -999.00,9,-999.0000,1,-999.0000,9, 0.0107, -999.0,9
740H20210202,SR1b_A23, 86,1, 8,9009,2,20210304,0216,-55.83934, -57.75068,4783,1365.8, 2.4006, 2.4010, 2.0000,34.6040,2,34.6031,2, 164.2,2, 164.6,2, -999.00,9, -999.00,9, -999.00,9,-999.0000,1,-999.0000,9, 0.0153, -999.0,9
740H20210202,SR1b_A23, 86,1,13,9014,2,20210304,0230,-55.84001, -57.74275,4783, 658.6, 3.1557, 3.1591, 2.0000,34.2435,2,34.2430,2, 225.1,2,-999.0,9, -999.00,9, -999.00,9, -999.00,9,-999.0000,1,-999.0000,9,-0.0001, -999.0,9
740H20210202,SR1b_A23, 86,1,14,9015,2,20210304,0236,-55.84032, -57.73854,4783, 455.9, 3.9277, 3.9341, 2.0000,34.1607,2,34.1657,2, 254.0,2, 251.9,2, -999.00,9, -999.00,9, -999.00,9,-999.0000,1,-999.0000,9, 0.0178, -999.0,9
740H20210202,SR1b_A23, 86,1,15,9016,2,20210304,0241,-55.84056, -57.73532,4783, 329.5, 4.0169, 4.0237, 2.0000,34.0807,2,34.0800,2, 289.3,2, 290.6,3, -999.00,9, -999.00,9, -999.00,9,-999.0000,1,-999.0000,9, 0.0127, -999.0,9
740H20210202,SR1b_A23, 86,1,17,9018,2,20210304,0245,-55.84080, -57.73208,4783, 203.4, 4.9142, 4.9158, 2.0000,34.1436,2,34.1431,2, 285.1,2,-999.0,9, -999.00,9, -999.00,9, -999.00,9,-999.0000,1,-999.0000,9, 0.0115, -999.0,9
740H20210202,SR1b_A23, 86,1,18,9019,2,20210304,0248,-55.84098, -57.72976,4783, 152.9, 4.9929, 4.9980, 2.0000,34.1405,2,34.1405,2, 288.4,2, 289.9,3, -999.00,9, -999.00,9, -999.00,9,-999.0000,1,-999.0000,9, 0.0056, -999.0,9
740H20210202,SR1b_A23, 86,1,19,9020,2,20210304,0254,-55.84128, -57.72517,4783,  67.3, 5.7916, 5.8006, 2.0000,34.0561,2,34.0548,2, 292.8,2, 295.9,3, -999.00,9, -999.00,9, -999.00,9,-999.0000,1,-999.0000,9, 0.1856, -999.0,9
740H20210202,SR1b_A23, 86,1,20,9021,2,20210304,0257,-55.84148, -57.72217,4783,  22.0, 6.0729, 6.0910, 2.0000,34.0049,2,34.0042,2, 301.0,2,-999.0,5, -999.00,9, -999.00,9, -999.00,9,-999.0000,1,-999.0000,9, 0.2582, -999.0,9
740H20210202,SR1b_A23, 86,1,21,9022,2,20210304,0300,-55.84162, -57.72018,4783,   6.8, 6.1692, 6.2212, 2.0000,34.0099,2,34.0101,2, 301.0,2,-999.0,9, -999.00,9, -999.00,9, -999.00,9,-999.0000,1,-999.0000,9, 0.2482, -999.0,9
740H20210202,SR1b_A23, 87,1, 1,9002,2,20210304,0658,-55.52122, -57.97112,4224,4291.2, 0.9069, 0.9065, 2.0000,34.7015,2,34.7016,2, 207.5,2,-999.0,9, -999.00,9, -999.00,9, -999.00,9,-999.0000,1,-999.0000,9, 0.0156, -999.0,9
740H20210202,SR1b_A23, 87,1, 4,9005,2,20210304,0702,-55.52140, -57.97066,4224,4250.4, 0.9111, 0.9116, 2.0000,34.7019,2,34.7019,2, 207.3,2,-999.0,9, -999.00,9, -999.00,9, -999.00,9,-999.0000,1,-999.0000,9, 0.0116, -999.0,9
740H20210202,SR1b_A23, 87,1, 5,9006,2,20210304,0714,-55.52200, -57.96912,4224,3671.4, 1.1067, 1.1072, 2.0000,34.7126,2,34.7126,2, 201.3,2,-999.0,9, -999.00,9, -999.00,9, -999.00,9,-999.0000,1,-999.0000,9, 0.0131, -999.0,9
740H20210202,SR1b_A23, 87,1, 6,9007,2,20210304,0726,-55.52256, -57.96774,4224,3106.0, 1.4680, 1.4687, 2.0000,34.7223,2,34.7221,2, 192.6,2,-999.0,9, -999.00,9, -999.00,9, -999.00,9,-999.0000,1,-999.0000,9, 0.0095, -999.0,9
740H20210202,SR1b_A23, 87,1, 7,9008,2,20210304,0734,-55.52292, -57.96680,4224,2797.9, 1.6539, 1.6535, 2.0000,34.7204,2,34.7205,2, 187.5,2,-999.0,9, -999.00,9, -999.00,9, -999.00,9,-999.0000,1,-999.0000,9, 0.0110, -999.0,9
740H20210202,SR1b_A23, 87,1, 8,9009,2,20210304,0741,-55.52326, -57.96592,4224,2491.1, 1.8719, 1.8721, 2.0000,34.7096,2,34.7102,2, 179.0,2,-999.0,9, -999.00,9, -999.00,9, -999.00,9,-999.0000,1,-999.0000,9, 0.0169, -999.0,9
740H20210202,SR1b_A23, 87,1,14,9015,2,20210304,0751,-55.52374, -57.96468,4224,1980.0, 2.1898, 2.1930, 2.0000,34.6676,2,34.6679,2, 169.3,2,-999.0,9, -999.00,9, -999.00,9, -999.00,9,-999.0000,1,-999.0000,9, 0.0094, -999.0,9
740H20210202,SR1b_A23, 87,1,15,9016,2,20210304,0803,-55.52430, -57.96334,4224,1419.5, 2.5423, 2.5409, 2.0000,34.5607,2,34.5613,2, 165.3,2,-999.0,9, -999.00,9, -999.00,9, -999.00,9,-999.0000,1,-999.0000,9, 0.0113, -999.0,9
740H20210202,SR1b_A23, 87,1,17,9018,2,20210304,0810,-55.52462, -57.96242,4224,1115.0, 2.9362, 2.9353, 2.0000,34.4037,2,34.4043,2, 185.6,2,-999.0,9, -999.00,9, -999.00,9, -999.00,9,-999.0000,1,-999.0000,9, 0.0151, -999.0,9
740H20210202,SR1b_A23, 87,1,18,9019,2,20210304,0820,-55.52512, -57.96116,4224, 658.6, 4.1497, 4.1518, 2.0000,34.1955,2,34.1975,2, 242.0,2,-999.0,9, -999.00,9, -999.00,9, -999.00,9,-999.0000,1,-999.0000,9, 0.0170, -999.0,9
740H20210202,SR1b_A23, 87,1,19,9020,2,20210304,0831,-55.52586, -57.95926,4224, 104.8, 6.4906, 6.4882, 2.0000,34.0332,2,34.0331,2, 293.5,2,-999.0,9, -999.00,9, -999.00,9, -999.00,9,-999.0000,1,-999.0000,9, 0.1661, -999.0,9
740H20210202,SR1b_A23, 87,1,20,9021,2,20210304,0839,-55.52662, -57.95732,4224,   7.3, 7.4199, 7.4202, 2.0000,33.9330,2,33.9323,2, 301.6,2,-999.0,9, -999.00,9, -999.00,9, -999.00,9,-999.0000,1,-999.0000,9, 1.4602, -999.0,9
740H20210202,SR1b_A23, 88,1, 1,9002,2,20210304,1222,-55.21484, -57.98350,4017,4077.7, 1.1564, 1.1559, 2.0000,34.7121,2,34.7126,2, 201.2,2, 202.2,2, -999.00,9, -999.00,9, -999.00,9,-999.0000,1,-999.0000,9,-0.0042, -999.0,9
740H20210202,SR1b_A23, 88,1, 2,9003,2,20210304,1225,-55.21484, -57.98350,4017,4036.2, 1.1627, 1.1624, 2.0000,34.7127,2,34.7134,2, 201.0,2, 201.0,3, -999.00,9, -999.00,9, -999.00,9,-999.0000,1,-999.0000,9, 0.0060, -999.0,9
740H20210202,SR1b_A23, 88,1, 4,9005,2,20210304,1236,-55.21484, -57.98348,4017,3617.2, 1.2063, 1.2045, 2.0000,34.7156,2,34.7160,2, 199.3,2, 199.1,2, -999.00,9, -999.00,9, -999.00,9,-999.0000,1,-999.0000,9, 0.0051, -999.0,9
740H20210202,SR1b_A23, 88,1, 5,9006,2,20210304,1259,-55.21484, -57.98348,4017,2283.0, 2.0065, 2.0062, 2.0000,34.6992,2,34.6993,2, 175.3,2,-999.0,9, -999.00,9, -999.00,9, -999.00,9,-999.0000,1,-999.0000,9, 0.0103, -999.0,9
740H20210202,SR1b_A23, 88,1, 6,9007,2,20210304,1314,-55.21482, -57.98354,4017,1517.6, 2.5784, 2.5824, 2.0000,34.5528,2,34.5532,2, 165.1,2, 165.1,2, -999.00,9, -999.00,9, -999.00,9,-999.0000,1,-999.0000,9, 0.0092, -999.0,9
740H20210202,SR1b_A23, 88,1, 7,9008,2,20210304,1326,-55.21482, -57.98354,4017, 908.1, 3.5374, 3.5457, 2.0000,34.2732,2,34.2741,2, 215.4,2,-999.0,9, -999.00,9, -999.00,9, -999.00,9,-999.0000,1,-999.0000,9, 0.0188, -999.0,9
740H20210202,SR1b_A23, 88,1, 8,9009,2,20210304,1331,-55.21482, -57.98354,4017, 757.1, 4.0311, 4.0314, 2.0000,34.2142,2,34.2141,2, 234.8,2,-999.0,9, -999.00,9, -999.00,9, -999.00,9,-999.0000,1,-999.0000,9, 0.0144, -999.0,9
740H20210202,SR1b_A23, 88,1,13,9014,2,20210304,1337,-55.21482, -57.98352,4017, 503.7, 4.5997, 4.6043, 2.0000,34.1279,2,34.1283,2, 280.1,2,-999.0,9, -999.00,9, -999.00,9, -999.00,9,-999.0000,1,-999.0000,9, 0.0217, -999.0,9
740H20210202,SR1b_A23, 88,1,14,9015,2,20210304,1341,-55.21484, -57.98356,4017, 433.0, 4.8703, 4.8704, 2.0000,34.1429,2,34.1427,2, 284.8,2,-999.0,9, -999.00,9, -999.00,9, -999.00,9,-999.0000,1,-999.0000,9, 0.0021, -999.0,9
740H20210202,SR1b_A23, 88,1,15,9016,2,20210304,1345,-55.21482, -57.98354,4017, 301.7, 5.0002, 5.0006, 2.0000,34.1390,2,34.1380,2, 292.6,2,-999.0,9, -999.00,9, -999.00,9, -999.00,9,-999.0000,1,-999.0000,9, 0.0016, -999.0,9
740H20210202,SR1b_A23, 88,1,17,9018,2,20210304,1348,-55.21484, -57.98356,4017, 231.2, 5.1426, 5.1448, 2.0000,34.1365,2,34.1369,2, 292.0,2,-999.0,9, -999.00,9, -999.00,9, -999.00,9,-999.0000,1,-999.0000,9, 0.0097, -999.0,9
740H20210202,SR1b_A23, 88,1,18,9019,2,20210304,1353,-55.21484, -57.98356,4017, 150.8, 5.6466, 5.6453, 2.0000,34.1035,2,34.1039,2, 291.5,2,-999.0,9, -999.00,9, -999.00,9, -999.00,9,-999.0000,1,-999.0000,9, 0.0653, -999.0,9
740H20210202,SR1b_A23, 88,1,19,9020,2,20210304,1400,-55.21482, -57.98353,4017,  70.9, 7.0567, 7.0563, 2.0000,34.0311,2,34.0305,2, 295.2,2,-999.0,9, -999.00,9, -999.00,9, -999.00,9,-999.0000,1,-999.0000,9, 0.3051, -999.0,9
740H20210202,SR1b_A23, 88,1,20,9021,2,20210304,1404,-55.21484, -57.98354,4017,   4.9, 7.3745, 7.3779, 2.0000,34.0421,2,34.0413,2, 293.7,2,-999.0,9, -999.00,9, -999.00,9, -999.00,9,-999.0000,1,-999.0000,9, 0.1323, -999.0,9
740H20210202,SR1b_A23, 89,1, 1,9002,2,20210304,1604,-55.16994, -57.98020,3117,3156.4, 1.4712, 1.4710, 2.0000,34.7197,2,-999.0000,9, 192.2,2,-999.0,9, -999.00,9, -999.00,9, -999.00,9,-999.0000,9,-999.0000,9, 0.0200, -999.0,9
740H20210202,SR1b_A23, 89,1, 2,9003,2,20210304,1606,-55.16996, -57.98008,3117,3156.5, 1.4684, 1.4694, 2.0000,34.7198,2,34.7205,2, 192.2,2, 192.9,2, -999.00,9, -999.00,9, -999.00,9,-999.0000,1,-999.0000,9, 0.0150, -999.0,9
740H20210202,SR1b_A23, 89,1, 4,9005,2,20210304,1609,-55.17004, -57.97976,3117,3104.9, 1.4728, 1.4668, 2.0000,34.7198,2,-999.0000,9, 192.1,2,-999.0,9, -999.00,9, -999.00,9, -999.00,9,-999.0000,9,-999.0000,9, 0.0102, -999.0,9
740H20210202,SR1b_A23, 89,1, 5,9006,2,20210304,1610,-55.17004, -57.97970,3117,3104.9, 1.4688, 1.4686, 2.0000,34.7198,2,34.7203,2, 192.2,2, 192.4,2, -999.00,9, -999.00,9, -999.00,9,-999.0000,1,-999.0000,9, 0.0131, -999.0,9
740H20210202,SR1b_A23, 89,1, 6,9007,2,20210304,1630,-55.17044, -57.97790,3117,2030.3, 2.1897, 2.1900, 2.0000,34.6746,2,-999.0000,9, 172.2,2,-999.0,9, -999.00,9, -999.00,9, -999.00,9,-999.0000,9,-999.0000,9, 0.0093, -999.0,9
740H20210202,SR1b_A23, 89,1, 7,9008,2,20210304,1631,-55.17044, -57.97782,3117,2030.3, 2.1899, 2.1900, 2.0000,34.6744,2,34.6752,2, 172.1,2,-999.0,9, -999.00,9, -999.00,9, -999.00,9,-999.0000,1,-999.0000,9, 0.0120, -999.0,9
740H20210202,SR1b_A23, 89,1, 8,9009,2,20210304,1640,-55.17062, -57.97692,3117,1520.2, 2.6024, 2.6089, 2.0000,34.5431,2,-999.0000,9, 165.7,2,-999.0,9, -999.00,9, -999.00,9, -999.00,9,-999.0000,9,-999.0000,9, 0.0047, -999.0,9
740H20210202,SR1b_A23, 89,1,11,9012,2,20210304,1641,-55.17066, -57.97686,3117,1520.1, 2.6090, 2.6065, 2.0000,34.5413,2,34.5404,2, 165.6,2,-999.0,9, -999.00,9, -999.00,9, -999.00,9,-999.0000,1,-999.0000,9, 0.0143, -999.0,9
740H20210202,SR1b_A23, 89,1,12,9013,2,20210304,1652,-55.17078, -57.97586,3117, 981.9, 3.3518, 3.3643, 2.0000,34.3166,2,-999.0000,9, 203.9,2,-999.0,9, -999.00,9, -999.00,9, -999.00,9,-999.0000,9,-999.0000,9, 0.0108, -999.0,9
740H20210202,SR1b_A23, 89,1,13,9014,2,20210304,1653,-55.17078, -57.97578,3117, 981.9, 3.3596, 3.3642, 2.0000,34.3158,2,34.3159,2, 204.0,2, 204.2,2, -999.00,9, -999.00,9, -999.00,9,-999.0000,1,-999.0000,9, 0.0095, -999.0,9
740H20210202,SR1b_A23, 89,1,14,9015,2,20210304,1704,-55.17094, -57.97470,3117, 505.9, 4.7134, 4.7161, 2.0000,34.1429,2,-999.0000,9, 279.5,2,-999.0,9, -999.00,9, -999.00,9, -999.00,9,-999.0000,9,-999.0000,9, 0.0040, -999.0,9
740H20210202,SR1b_A23, 89,1,15,9016,2,20210304,1705,-55.17092, -57.97462,3117, 505.9, 4.7144, 4.7157, 2.0000,34.1430,2,34.1430,2, 279.1,2,-999.0,9, -999.00,9, -999.00,9, -999.00,9,-999.0000,1,-999.0000,9, 0.0057, -999.0,9
740H20210202,SR1b_A23, 89,1,17,9018,2,20210304,1710,-55.17098, -57.97416,3117, 354.4, 4.9538, 4.9545, 2.0000,34.1410,2,-999.0000,9, 290.5,2,-999.0,9, -999.00,9, -999.00,9, -999.00,9,-999.0000,9,-999.0000,9, 0.0002, -999.0,9
740H20210202,SR1b_A23, 89,1,18,9019,2,20210304,1711,-55.17102, -57.97409,3117, 354.3, 4.9530, 4.9533, 2.0000,34.1409,2,34.1413,2, 290.4,2,-999.0,9, -999.00,9, -999.00,9, -999.00,9,-999.0000,1,-999.0000,9, 0.0063, -999.0,9
740H20210202,SR1b_A23, 89,1,19,9020,2,20210304,1715,-55.17106, -57.97362,3117, 218.1, 5.1101, 5.1136, 2.0000,34.1354,2,-999.0000,9, 291.7,2,-999.0,9, -999.00,9, -999.00,9, -999.00,9,-999.0000,9,-999.0000,9, 0.0095, -999.0,9
740H20210202,SR1b_A23, 89,1,20,9021,2,20210304,1716,-55.17106, -57.97352,3117, 218.0, 5.1106, 5.1148, 2.0000,34.1353,2,34.1351,2, 291.7,2,-999.0,9, -999.00,9, -999.00,9, -999.00,9,-999.0000,1,-999.0000,9, 0.0197, -999.0,9
740H20210202,SR1b_A23, 89,1,21,9022,2,20210304,1723,-55.17112, -57.97294,3117,  72.5, 7.1582, 7.1747, 2.0000,34.0395,2,-999.0000,9, 294.5,2,-999.0,9, -999.00,9, -999.00,9, -999.00,9,-999.0000,9,-999.0000,9, 0.3038, -999.0,9
740H20210202,SR1b_A23, 89,1,22,9023,2,20210304,1724,-55.17112, -57.97284,3117,  71.2, 7.1662, 7.1690, 2.0000,34.0400,2,34.0394,2, 294.6,2, 295.9,2, -999.00,9, -999.00,9, -999.00,9,-999.0000,1,-999.0000,9, 0.3042, -999.0,9
740H20210202,SR1b_A23, 89,1,23,9024,2,20210304,1727,-55.17114, -57.97248,3117,  11.9, 7.4349, 7.4358, 2.0000,34.0425,2,-999.0000,9, 294.5,2,-999.0,9, -999.00,9, -999.00,9, -999.00,9,-999.0000,9,-999.0000,9, 0.2901, -999.0,9
740H20210202,SR1b_A23, 89,1,24,9025,2,20210304,1728,-55.17114, -57.97240,3117,  11.9, 7.4415, 7.4410, 2.0000,34.0424,2,34.0420,2, 294.2,2,-999.0,9, -999.00,9, -999.00,9, -999.00,9,-999.0000,1,-999.0000,9, 0.2655, -999.0,9