BOTTLE,20210420POGBASEPA
EXPOCODE,SECT_ID,STNNBR,CASTNO,SAMPNO,BTLNBR,BTLNBR_FLAG_W,DATE,TIME,LATITUDE,LONGITUDE,DEPTH,CTDPRS,CTDTMP,SBE35,SBE35_FLAG_W,CTDSAL,CTDSAL_FLAG_W,SALNTY,SALNTY_FLAG_W,CTDOXY,CTDOXY_FLAG_W,OXYGEN,OXYGEN_FLAG_W,SILCAT,SILCAT_FLAG_W,NO2+NO3,NO2+NO3_FLAG_W,PHSPHT,PHSPHT_FLAG_W,DELO18,DELO18_FLAG_W,D30SI_SILCAT,D30SI_SILCAT_FLAG_W,CTDFLUOR,BOTCHLA,BOTCHLA_FLAG_W
 , , , , , , , , , , ,METERS,DBAR,ITS-90,ITS-90, ,PSS-78, ,PSS-78, ,UMOL/KG, ,UMOL/KG, ,UMOL/KG, ,UMOL/KG,UMOL/KG,UMOL/KG,UMOL/KG,/MILLE,/MILLE,/MILLE,/MILLE,MG/M^3,ML/L,ML/L
740H20210202,SR1b_A23, 48,1, 1,9002,2,20210219,1620,-58.21256, -30.82096,4001,4062.9,-0.0397,-0.0402, 2.0000,34.6560,2,-999.0000,9, 235.2,2,-999.0,9, -999.00,9, -999.00,9, -999.00,9,-999.0000,9,-999.0000,9, 0.0012, -999.0,9
740H20210202,SR1b_A23, 48,1, 2,9003,2,20210219,1621,-58.21256, -30.82094,4001,4062.9,-0.0403,-0.0402, 2.0000,34.6560,2,34.6560,2, 235.4,2,-999.0,9, -999.00,9, -999.00,9, -999.00,9,-999.0000,9,-999.0000,9, 0.0093, -999.0,9
740H20210202,SR1b_A23, 48,1, 3,8149,2,20210219,1709,-58.21256, -30.82094,4001,1267.0, 0.5603, 0.5604, 2.0000,34.6832,2,-999.0000,9, 210.1,2,-999.0,9, -999.00,9, -999.00,9, -999.00,9,-999.0000,9,-999.0000,9, 0.0086, -999.0,9
740H20210202,SR1b_A23, 48,1, 4,9005,2,20210219,1710,-58.21256, -30.82096,4001,1267.1, 0.5601, 0.5606, 2.0000,34.6832,2,34.6834,2, 210.1,2,-999.0,9, -999.00,9, -999.00,9, -999.00,9,-999.0000,9,-999.0000,9, 0.0047, -999.0,9
740H20210202,SR1b_A23, 48,1, 5,9006,2,20210219,1727,-58.21256, -30.82096,4001, 379.4, 1.1455, 1.1453, 2.0000,34.6397,2,-999.0000,9, 204.7,2,-999.0,9, -999.00,9, -999.00,9, -999.00,9,-999.0000,9,-999.0000,9, 0.0160, -999.0,9
740H20210202,SR1b_A23, 48,1, 6,9007,2,20210219,1728,-58.21256, -30.82096,4001, 379.5, 1.1446, 1.1347, 2.0000,34.6396,2,34.6395,2, 204.5,2,-999.0,9, -999.00,9, -999.00,9, -999.00,9,-999.0000,9,-999.0000,9, 0.0147, -999.0,9
740H20210202,SR1b_A23, 48,1, 7,9008,2,20210219,1738,-58.21256, -30.82096,4001,  39.9, 1.5388, 1.5400, 2.0000,33.7247,2,-999.0000,9, 342.2,2,-999.0,9, -999.00,9, -999.00,9, -999.00,9,-999.0000,9,-999.0000,9, 0.4985, -999.0,9
740H20210202,SR1b_A23, 48,1, 8,9009,2,20210219,1739,-58.21256, -30.82096,4001,  40.0, 1.5383, 1.5381, 2.0000,33.7247,2,33.7252,2, 342.6,2,-999.0,9, -999.00,9, -999.00,9, -999.00,9,-999.0000,9,-999.0000,9, 0.4878, -999.0,9
740H20210202,SR1b_A23, 49,1, 1,9002,2,20210219,2135,-58.63382, -30.82160,3504,3551.6,-0.1218,-0.1217, 2.0000,34.6547,2,-999.0000,9, 236.7,2,-999.0,9, -999.00,9, -999.00,9, -999.00,9,-999.0000,9,-999.0000,9, 0.0126, -999.0,9
740H20210202,SR1b_A23, 49,1, 2,9003,2,20210219,2135,-58.63382, -30.82160,3504,3551.5,-0.1215,-0.1220, 2.0000,34.6549,2,34.6555,2, 236.4,2,-999.0,9, -999.00,9, -999.00,9, -999.00,9,-999.0000,9,-999.0000,9, 0.0118, -999.0,9
740H20210202,SR1b_A23, 49,1, 3,8149,4,20210219,2146,-58.63382, -30.82160,3504,3056.3,-0.0609,-0.0619, 2.0000,34.6587,2,-999.0000,9, 232.0,2,-999.0,9, -999.00,9, -999.00,9, -999.00,9,-999.0000,5,-999.0000,9, 0.0140, -999.0,9
740H20210202,SR1b_A23, 49,1, 4,9005,2,20210219,2156,-58.63382, -30.82160,3504,2544.0, 0.0200, 0.0200, 2.0000,34.6632,2,-999.0000,9, 227.9,2,-999.0,9, -999.00,9, -999.00,9, -999.00,9,-999.0000,9,-999.0000,9, 0.0099, -999.0,9
740H20210202,SR1b_A23, 49,1, 5,9006,2,20210219,2157,-58.63382, -30.82160,3504,2544.0, 0.0204, 0.0205, 2.0000,34.6633,2,34.6624,2, 228.2,2,-999.0,9, -999.00,9, -999.00,9, -999.00,9,-999.0000,1,-999.0000,9, 0.0077, -999.0,9
740H20210202,SR1b_A23, 49,1, 6,9007,2,20210219,2207,-58.63394, -30.82176,3504,2033.0, 0.1796, 0.1796, 2.0000,34.6708,2,34.6712,2, 221.3,2,-999.0,9, -999.00,9, -999.00,9, -999.00,9,-999.0000,1,-999.0000,9, 0.0052, -999.0,9
740H20210202,SR1b_A23, 49,1, 7,9008,2,20210219,2218,-58.63414, -30.82202,3504,1523.4, 0.3946, 0.3948, 2.0000,34.6803,2,-999.0000,9, 214.3,2,-999.0,9, -999.00,9, -999.00,9, -999.00,9,-999.0000,9,-999.0000,9, 0.0081, -999.0,9
740H20210202,SR1b_A23, 49,1, 8,9009,2,20210219,2218,-58.63414, -30.82202,3504,1523.3, 0.3944, 0.3946, 2.0000,34.6803,2,34.6807,2, 214.2,2,-999.0,9, -999.00,9, -999.00,9, -999.00,9,-999.0000,1,-999.0000,9, 0.0130, -999.0,9
740H20210202,SR1b_A23, 49,1, 9,9010,2,20210219,2229,-58.63414, -30.82202,3504,1015.3, 0.6348, 0.6349, 2.0000,34.6834,2,34.6835,2, 209.2,2,-999.0,9, -999.00,9, -999.00,9, -999.00,9,-999.0000,1,-999.0000,9, 0.0119, -999.0,9
740H20210202,SR1b_A23, 49,1,10,8156,2,20210219,2230,-58.63414, -30.82202,3504,1015.3, 0.6346, 0.6346, 2.0000,34.6832,2,-999.0000,9, 209.3,2,-999.0,9, -999.00,9, -999.00,9, -999.00,9,-999.0000,9,-999.0000,9, 0.0163, -999.0,9
740H20210202,SR1b_A23, 49,1,11,9012,2,20210219,2236,-58.63412, -30.82202,3504, 761.7, 0.7633, 0.7636, 2.0000,34.6782,2,-999.0000,9, 208.2,2,-999.0,9, -999.00,9, -999.00,9, -999.00,9,-999.0000,9,-999.0000,9, 0.0144, -999.0,9
740H20210202,SR1b_A23, 49,1,12,9013,2,20210219,2236,-58.63412, -30.82202,3504, 761.7, 0.7636, 0.7638, 2.0000,34.6781,2,34.6781,2, 208.2,2,-999.0,9, -999.00,9, -999.00,9, -999.00,9,-999.0000,1,-999.0000,9, 0.0110, -999.0,9
740H20210202,SR1b_A23, 49,1,13,9014,2,20210219,2243,-58.63412, -30.82202,3504, 508.0, 0.9763, 0.9731, 2.0000,34.6657,2,34.6667,2, 206.6,2,-999.0,9, -999.00,9, -999.00,9, -999.00,9,-999.0000,1,-999.0000,9, 0.0144, -999.0,9
740H20210202,SR1b_A23, 49,1,14,9015,2,20210219,2247,-58.63412, -30.82202,3504, 355.3, 1.0426, 1.0382, 2.0000,34.6306,2,-999.0000,9, 207.3,2,-999.0,9, -999.00,9, -999.00,9, -999.00,9,-999.0000,9,-999.0000,9, 0.0145, -999.0,9
740H20210202,SR1b_A23, 49,1,15,9016,2,20210219,2248,-58.63414, -30.82202,3504, 355.4, 1.0405, 1.0399, 2.0000,34.6302,2,34.6327,2, 207.4,2,-999.0,9, -999.00,9, -999.00,9, -999.00,9,-999.0000,1,-999.0000,9, 0.0236, -999.0,9
740H20210202,SR1b_A23, 49,1,16,9017,2,20210219,2252,-58.63412, -30.82202,3504, 229.1, 0.9889, 0.9883, 2.0000,34.5652,2,34.5680,2, 213.0,2,-999.0,9, -999.00,9, -999.00,9, -999.00,9,-999.0000,1,-999.0000,9, 0.0183, -999.0,9
740H20210202,SR1b_A23, 49,1,17,9018,2,20210219,2256,-58.63412, -30.82204,3504, 153.0, 0.4484, 0.4457, 2.0000,34.4192,2,-999.0000,9, 238.5,2,-999.0,9, -999.00,9, -999.00,9, -999.00,9,-999.0000,9,-999.0000,9, 0.0255, -999.0,9
740H20210202,SR1b_A23, 49,1,18,9019,2,20210219,2256,-58.63412, -30.82202,3504, 153.1, 0.4493, 0.4493, 2.0000,34.4196,2,34.4273,2, 238.5,2,-999.0,9, -999.00,9, -999.00,9, -999.00,9,-999.0000,1,-999.0000,9, 0.0335, -999.0,9
740H20210202,SR1b_A23, 49,1,19,9020,2,20210219,2300,-58.63413, -30.82202,3504, 103.3,-0.2921,-0.2879, 2.0000,34.1368,2,34.1904,2, 302.8,2,-999.0,9, -999.00,9, -999.00,9, -999.00,9,-999.0000,1,-999.0000,9, 0.0640, -999.0,9
740H20210202,SR1b_A23, 49,1,20,9021,2,20210219,2304,-58.63412, -30.82202,3504,  52.5, 1.3533, 1.3588, 2.0000,33.6537,2,-999.0000,9, 343.3,2,-999.0,9, -999.00,9, -999.00,9, -999.00,9,-999.0000,9,-999.0000,9, 0.6722, -999.0,9
740H20210202,SR1b_A23, 49,1,21,9022,2,20210219,2305,-58.63412, -30.82202,3504,  52.3, 1.3548, 1.3553, 2.0000,33.6534,2,33.6532,2, 344.0,2,-999.0,9, -999.00,9, -999.00,9, -999.00,9,-999.0000,1,-999.0000,9, 0.6822, -999.0,9
740H20210202,SR1b_A23, 49,1,22,9023,2,20210219,2312,-58.63412, -30.82202,3504,  22.0, 1.7762, 1.7751, 2.0000,33.6568,2,33.6565,2, 344.6,2,-999.0,9, -999.00,9, -999.00,9, -999.00,9,-999.0000,1,-999.0000,9, 0.4706, -999.0,9
740H20210202,SR1b_A23, 49,1,23,9024,2,20210219,2314,-58.63412, -30.82202,3504,   7.0, 1.5975, 1.5984, 2.0000,33.5726,2,-999.0000,9, 345.7,2,-999.0,9, -999.00,9, -999.00,9, -999.00,9,-999.0000,9,-999.0000,9, 0.4387, -999.0,9
740H20210202,SR1b_A23, 49,1,24,9025,2,20210219,2315,-58.63414, -30.82204,3504,   6.6, 1.5991, 1.5983, 2.0000,33.5724,2,33.5734,2, 345.7,2,-999.0,9, -999.00,9, -999.00,9, -999.00,9,-999.0000,1,-999.0000,9, 0.4352, -999.0,9
740H20210202,SR1b_A23, 50,1, 1,9002,2,20210220,0349,-59.05052, -30.82964,3122,3162.2,-0.1084,-0.1060, 2.0000,34.6565,2,-999.0000,9, 234.2,2,-999.0,9, -999.00,9, -999.00,9, -999.00,9,-999.0000,9,-999.0000,9, 0.0101, -999.0,9
740H20210202,SR1b_A23, 50,1, 2,9003,2,20210220,0350,-59.05052, -30.82964,3122,3162.4,-0.1077,-0.1080, 2.0000,34.6564,2,34.6569,2, 234.3,2,-999.0,9, -999.00,9, -999.00,9, -999.00,9,-999.0000,1,-999.0000,9, 0.0085, -999.0,9
740H20210202,SR1b_A23, 50,1, 3,8149,2,20210220,0351,-59.05052, -30.82964,3122,3162.1,-0.1077,-0.1077, 2.0000,34.6563,2,-999.0000,9, 234.3,2,-999.0,9, -999.00,9, -999.00,9, -999.00,9,-999.0000,9,-999.0000,9, 0.0133, -999.0,9
740H20210202,SR1b_A23, 50,1, 4,9005,2,20210220,0403,-59.05052, -30.82964,3122,2543.2,-0.0540,-0.0534, 2.0000,34.6602,2,-999.0000,9, 230.4,2,-999.0,9, -999.00,9, -999.00,9, -999.00,9,-999.0000,9,-999.0000,9, 0.0104, -999.0,9
740H20210202,SR1b_A23, 50,1, 5,9006,2,20210220,0404,-59.05052, -30.82962,3122,2543.3,-0.0540,-0.0543, 2.0000,34.6603,2,34.6603,2, 230.5,2,-999.0,9, -999.00,9, -999.00,9, -999.00,9,-999.0000,1,-999.0000,9, 0.0071, -999.0,9
740H20210202,SR1b_A23, 50,1, 6,9007,2,20210220,0415,-59.05052, -30.82962,3122,2032.0, 0.0577, 0.0586, 2.0000,34.6666,2,-999.0000,9, 223.8,2,-999.0,9, -999.00,9, -999.00,9, -999.00,9,-999.0000,9,-999.0000,9, 0.0084, -999.0,9
740H20210202,SR1b_A23, 50,1, 7,9008,2,20210220,0416,-59.05052, -30.82963,3122,2031.9, 0.0578, 0.0581, 2.0000,34.6666,2,34.6665,2, 223.9,2,-999.0,9, -999.00,9, -999.00,9, -999.00,9,-999.0000,1,-999.0000,9, 0.0026, -999.0,9
740H20210202,SR1b_A23, 50,1, 8,9009,2,20210220,0427,-59.05052, -30.82964,3122,1522.2, 0.2605, 0.2627, 2.0000,34.6752,2,-999.0000,9, 217.6,2,-999.0,9, -999.00,9, -999.00,9, -999.00,9,-999.0000,9,-999.0000,9, 0.0124, -999.0,9
740H20210202,SR1b_A23, 50,1, 9,9010,2,20210220,0427,-59.05052, -30.82964,3122,1522.4, 0.2608, 0.2623, 2.0000,34.6752,2,34.6739,2, 217.8,2,-999.0,9, -999.00,9, -999.00,9, -999.00,9,-999.0000,1,-999.0000,9, 0.0161, -999.0,9
740H20210202,SR1b_A23, 50,1,10,8156,2,20210220,0438,-59.05052, -30.82962,3122,1013.4, 0.4788, 0.4796, 2.0000,34.6818,2,-999.0000,9, 211.1,2,-999.0,9, -999.00,9, -999.00,9, -999.00,9,-999.0000,9,-999.0000,9, 0.0083, -999.0,9
740H20210202,SR1b_A23, 50,1,11,9012,2,20210220,0439,-59.05052, -30.82962,3122,1013.4, 0.4792, 0.4792, 2.0000,34.6818,2,34.6822,2, 211.0,2,-999.0,9, -999.00,9, -999.00,9, -999.00,9,-999.0000,1,-999.0000,9, 0.0109, -999.0,9
740H20210202,SR1b_A23, 50,1,12,9013,2,20210220,0451,-59.05052, -30.82962,3122, 506.6, 0.5508, 0.5506, 2.0000,34.6599,2,-999.0000,9, 211.6,2,-999.0,9, -999.00,9, -999.00,9, -999.00,9,-999.0000,9,-999.0000,9, 0.0152, -999.0,9
740H20210202,SR1b_A23, 50,1,13,9014,2,20210220,0451,-59.05052, -30.82964,3122, 506.6, 0.5507, 0.5508, 2.0000,34.6600,2,34.6595,2, 211.6,2,-999.0,9, -999.00,9, -999.00,9, -999.00,9,-999.0000,1,-999.0000,9, 0.0181, -999.0,9
740H20210202,SR1b_A23, 50,1,14,9015,2,20210220,0459,-59.05052, -30.82962,3122, 228.2, 0.6687, 0.6607, 2.0000,34.6024,2,-999.0000,9, 219.3,2,-999.0,9, -999.00,9, -999.00,9, -999.00,9,-999.0000,9,-999.0000,9, 0.0183, -999.0,9
740H20210202,SR1b_A23, 50,1,15,9016,2,20210220,0500,-59.05052, -30.82962,3122, 228.2, 0.7070, 0.7142, 2.0000,34.6065,2,34.6044,2, 218.0,2,-999.0,9, -999.00,9, -999.00,9, -999.00,9,-999.0000,1,-999.0000,9, 0.0249, -999.0,9
740H20210202,SR1b_A23, 50,1,16,9017,2,20210220,0504,-59.05052, -30.82962,3122, 152.0,-0.1711,-0.1684, 2.0000,34.4383,2,-999.0000,9, 250.7,2,-999.0,9, -999.00,9, -999.00,9, -999.00,9,-999.0000,9,-999.0000,9, 0.0432, -999.0,9
740H20210202,SR1b_A23, 50,1,17,9018,2,20210220,0504,-59.05054, -30.82964,3122, 152.0,-0.1653,-0.1524, 2.0000,34.4392,2,34.4408,2, 250.9,2,-999.0,9, -999.00,9, -999.00,9, -999.00,9,-999.0000,1,-999.0000,9, 0.0352, -999.0,9
740H20210202,SR1b_A23, 50,1,18,9019,2,20210220,0511,-59.05054, -30.82964,3122,  51.3, 0.3268, 0.4150, 2.0000,33.6605,2,-999.0000,9, 346.5,2,-999.0,9, -999.00,9, -999.00,9, -999.00,9,-999.0000,9,-999.0000,9, 1.2122, -999.0,9
740H20210202,SR1b_A23, 50,1,19,9020,2,20210220,0512,-59.05054, -30.82962,3122,  51.2, 0.3272, 0.3282, 2.0000,33.6605,2,33.6465,2, 346.7,2,-999.0,9, -999.00,9, -999.00,9, -999.00,9,-999.0000,1,-999.0000,9, 1.1681, -999.0,9
740H20210202,SR1b_A23, 50,1,20,9021,2,20210220,0515,-59.05052, -30.82962,3122,  20.4, 0.8281, 0.8399, 2.0000,33.5956,2,-999.0000,9, 353.1,2,-999.0,9, -999.00,9, -999.00,9, -999.00,9,-999.0000,9,-999.0000,9, 0.7130, -999.0,9
740H20210202,SR1b_A23, 50,1,21,9022,2,20210220,0516,-59.05052, -30.82964,3122,  20.2, 0.8387, 0.8410, 2.0000,33.5956,2,33.5962,2, 352.9,2,-999.0,9, -999.00,9, -999.00,9, -999.00,9,-999.0000,1,-999.0000,9, 0.7026, -999.0,9
740H20210202,SR1b_A23, 50,1,22,9023,2,20210220,0518,-59.05052, -30.82963,3122,   5.3, 1.1277, 1.1257, 2.0000,33.5743,2,-999.0000,9, 348.8,2,-999.0,9, -999.00,9, -999.00,9, -999.00,9,-999.0000,9,-999.0000,9, 0.3643, -999.0,9
740H20210202,SR1b_A23, 50,1,23,9024,2,20210220,0519,-59.05052, -30.82964,3122,   5.3, 1.1225, 1.1285, 2.0000,33.5769,2,-999.0000,9, 349.2,2,-999.0,9, -999.00,9, -999.00,9, -999.00,9,-999.0000,9,-999.0000,9, 0.3512, -999.0,9
740H20210202,SR1b_A23, 50,1,24,9025,2,20210220,0519,-59.05052, -30.82964,3122,   5.4, 1.1253, 1.1262, 2.0000,33.5764,2,33.5764,2, 348.9,2,-999.0,9, -999.00,9, -999.00,9, -999.00,9,-999.0000,1,-999.0000,9, 0.3577, -999.0,9
740H20210202,SR1b_A23, 51,1, 1,9002,2,20210220,1037,-59.49120, -30.86488,3404,3450.0,-0.1488,-0.1489, 2.0000,34.6540,2,34.6537,2, 237.6,2,-999.0,9, -999.00,9, -999.00,9, -999.00,9,-999.0000,1,-999.0000,9, 0.0019, -999.0,9
740H20210202,SR1b_A23, 51,1, 2,9003,2,20210220,1037,-59.49120, -30.86490,3404,3450.0,-0.1495,-0.1492, 2.0000,34.6540,2,-999.0000,9, 237.5,2,-999.0,9, -999.00,9, -999.00,9, -999.00,9,-999.0000,9,-999.0000,9, 0.0078, -999.0,9
740H20210202,SR1b_A23, 51,1, 3,8149,2,20210220,1038,-59.49120, -30.86490,3404,3450.0,-0.1491,-0.1497, 2.0000,34.6541,2,-999.0000,9, 237.6,2,-999.0,9, -999.00,9, -999.00,9, -999.00,9,-999.0000,9,-999.0000,9, 0.0057, -999.0,9
740H20210202,SR1b_A23, 51,1, 4,9005,2,20210220,1047,-59.49118, -30.86488,3404,3057.8,-0.0852,-0.0849, 2.0000,34.6577,2,34.6579,2, 232.5,2,-999.0,9, -999.00,9, -999.00,9, -999.00,9,-999.0000,1,-999.0000,9, 0.0065, -999.0,9
740H20210202,SR1b_A23, 51,1, 5,9006,2,20210220,1048,-59.49120, -30.86490,3404,3057.7,-0.0846,-0.0849, 2.0000,34.6577,2,-999.0000,9, 232.4,2,-999.0,9, -999.00,9, -999.00,9, -999.00,9,-999.0000,9,-999.0000,9, 0.0141, -999.0,9
740H20210202,SR1b_A23, 51,1, 6,9007,2,20210220,1058,-59.49118, -30.86490,3404,2545.1,-0.0748,-0.0742, 2.0000,34.6595,2,34.6599,2, 230.2,2,-999.0,9, -999.00,9, -999.00,9, -999.00,9,-999.0000,1,-999.0000,9, 0.0033, -999.0,9
740H20210202,SR1b_A23, 51,1,13,9014,2,20210220,1059,-59.49120, -30.86490,3404,2545.2,-0.0742,-0.0744, 2.0000,34.6594,2,-999.0000,9, 230.0,2,-999.0,9, -999.00,9, -999.00,9, -999.00,9,-999.0000,9,-999.0000,9,-0.0014, -999.0,9
740H20210202,SR1b_A23, 51,1,14,9015,2,20210220,1110,-59.49120, -30.86490,3404,2034.4,-0.0300,-0.0287, 2.0000,34.6629,2,34.6628,2, 227.2,2,-999.0,9, -999.00,9, -999.00,9, -999.00,9,-999.0000,1,-999.0000,9, 0.0031, -999.0,9
740H20210202,SR1b_A23, 51,1,15,9016,2,20210220,1111,-59.49120, -30.86490,3404,2034.5,-0.0290,-0.0286, 2.0000,34.6629,2,-999.0000,9, 227.0,2,-999.0,9, -999.00,9, -999.00,9, -999.00,9,-999.0000,9,-999.0000,9,-0.0068, -999.0,9
740H20210202,SR1b_A23, 51,1,16,9017,2,20210220,1150,-59.49244, -30.86448,3404,   6.5, 0.5227, 0.5187, 2.0000,33.5110,2,33.5131,2, 360.1,2,-999.0,9, -999.00,9, -999.00,9, -999.00,9,-999.0000,1,-999.0000,9, 0.5319, -999.0,9
740H20210202,SR1b_A23, 51,1,17,9018,2,20210220,1151,-59.49242, -30.86448,3404,   6.8, 0.5160, 0.5193, 2.0000,33.5117,2,-999.0000,9, 359.6,2,-999.0,9, -999.00,9, -999.00,9, -999.00,9,-999.0000,9,-999.0000,9, 0.5262, -999.0,9