BOTTLE,20210420POGBASEPA
EXPOCODE,SECT_ID,STNNBR,CASTNO,SAMPNO,BTLNBR,BTLNBR_FLAG_W,DATE,TIME,LATITUDE,LONGITUDE,DEPTH,CTDPRS,CTDTMP,SBE35,SBE35_FLAG_W,CTDSAL,CTDSAL_FLAG_W,SALNTY,SALNTY_FLAG_W,CTDOXY,CTDOXY_FLAG_W,OXYGEN,OXYGEN_FLAG_W,SILCAT,SILCAT_FLAG_W,NO2+NO3,NO2+NO3_FLAG_W,PHSPHT,PHSPHT_FLAG_W,DELO18,DELO18_FLAG_W,D30SI_SILCAT,D30SI_SILCAT_FLAG_W,CTDFLUOR,BOTCHLA,BOTCHLA_FLAG_W
 , , , , , , , , , , ,METERS,DBAR,ITS-90,ITS-90, ,PSS-78, ,PSS-78, ,UMOL/KG, ,UMOL/KG, ,UMOL/KG, ,UMOL/KG,UMOL/KG,UMOL/KG,UMOL/KG,/MILLE,/MILLE,/MILLE,/MILLE,MG/M^3,ML/L,ML/L
740H20210202,SR1b_A23, 69,1, 1,9002,2,20210228,0258,-60.82954, -54.72859,1983,1986.2, 0.3921, 0.3921, 2.0000,34.6687,2,-999.0000,9, 220.0,2,-999.0,9, -999.00,9, -999.00,9, -999.00,9,-999.0000,9,-999.0000,9, 0.0132, -999.0,9
740H20210202,SR1b_A23, 69,1, 2,9003,2,20210228,0259,-60.82952, -54.72870,1983,1986.6, 0.3920, 0.3910, 2.0000,34.6688,2,34.6695,2, 220.1,2, 219.8,2, -999.00,9, -999.00,9, -999.00,9,-999.0000,1,-999.0000,9, 0.0067, -999.0,9
740H20210202,SR1b_A23, 69,1, 3,8149,2,20210228,0305,-60.82923, -54.73000,1983,1723.1, 0.3806, 0.3763, 2.0000,34.6691,2,-999.0000,9, 220.1,2,-999.0,9, -999.00,9, -999.00,9, -999.00,9,-999.0000,9,-999.0000,9, 0.0100, -999.0,9
740H20210202,SR1b_A23, 69,1, 4,9005,2,20210228,0306,-60.82920, -54.73018,1983,1722.9, 0.3788, 0.3797, 2.0000,34.6687,2,34.6697,2, 220.2,2,-999.0,9, -999.00,9, -999.00,9, -999.00,9,-999.0000,1,-999.0000,9, 0.0129, -999.0,9
740H20210202,SR1b_A23, 69,1, 5,9006,2,20210228,0311,-60.82903, -54.73110,1983,1571.2, 0.3778, 0.3791, 2.0000,34.6687,2,34.6693,2, 220.1,2, 219.9,2, -999.00,9, -999.00,9, -999.00,9,-999.0000,1,-999.0000,9, 0.0128, -999.0,9
740H20210202,SR1b_A23, 69,1, 6,9007,2,20210228,0317,-60.82882, -54.73211,1983,1317.7, 0.3728, 0.3730, 2.0000,34.6672,2,-999.0000,9, 220.4,2,-999.0,9, -999.00,9, -999.00,9, -999.00,9,-999.0000,9,-999.0000,9, 0.0067, -999.0,9
740H20210202,SR1b_A23, 69,1, 7,9008,2,20210228,0318,-60.82878, -54.73220,1983,1318.0, 0.3726, 0.3730, 2.0000,34.6668,2,34.6675,2, 220.6,2, 219.9,2, -999.00,9, -999.00,9, -999.00,9,-999.0000,1,-999.0000,9, 0.0123, -999.0,9
740H20210202,SR1b_A23, 69,1, 8,9009,2,20210228,0332,-60.82834, -54.73444,1983, 609.2, 0.3660, 0.3636, 2.0000,34.6312,2,34.6323,2, 229.5,2, 228.8,2, -999.00,9, -999.00,9, -999.00,9,-999.0000,1,-999.0000,9, 0.0170, -999.0,9
740H20210202,SR1b_A23, 69,1, 9,9010,2,20210228,0333,-60.82830, -54.73460,1983, 608.9, 0.3662, 0.3641, 2.0000,34.6312,2,-999.0000,9, 229.7,2,-999.0,9, -999.00,9, -999.00,9, -999.00,9,-999.0000,9,-999.0000,9, 0.0208, -999.0,9
740H20210202,SR1b_A23, 69,1,10,8156,2,20210228,0337,-60.82818, -54.73526,1983, 507.4, 0.2843, 0.2836, 2.0000,34.6058,2,-999.0000,9, 237.2,2,-999.0,9, -999.00,9, -999.00,9, -999.00,9,-999.0000,9,-999.0000,9, 0.0210, -999.0,9
740H20210202,SR1b_A23, 69,1,11,9012,2,20210228,0338,-60.82814, -54.73540,1983, 507.3, 0.2846, 0.2821, 2.0000,34.6057,2,34.6064,2, 237.3,2,-999.0,9, -999.00,9, -999.00,9, -999.00,9,-999.0000,1,-999.0000,9, 0.0201, -999.0,9
740H20210202,SR1b_A23, 69,1,12,9013,2,20210228,0343,-60.82798, -54.73609,1983, 406.3,-0.1702,-0.1645, 2.0000,34.5453,2,34.5463,2, 259.6,2, 260.0,2, -999.00,9, -999.00,9, -999.00,9,-999.0000,1,-999.0000,9, 0.0282, -999.0,9
740H20210202,SR1b_A23, 69,1,13,9014,2,20210228,0347,-60.82788, -54.73670,1983, 304.8,-0.0518,-0.0520, 2.0000,34.4818,2,-999.0000,9, 274.0,2,-999.0,9, -999.00,9, -999.00,9, -999.00,9,-999.0000,9,-999.0000,9, 0.0384, -999.0,9
740H20210202,SR1b_A23, 69,1,14,9015,2,20210228,0347,-60.82785, -54.73686,1983, 304.8,-0.0520,-0.0515, 2.0000,34.4817,2,34.4830,2, 274.2,2,-999.0,9, -999.00,9, -999.00,9, -999.00,9,-999.0000,1,-999.0000,9, 0.0336, -999.0,9
740H20210202,SR1b_A23, 69,1,15,9016,2,20210228,0352,-60.82772, -54.73750,1983, 183.7, 0.2641, 0.2883, 2.0000,34.4256,2,34.4248,2, 284.1,2, 285.1,2, -999.00,9, -999.00,9, -999.00,9,-999.0000,1,-999.0000,9, 0.0877, -999.0,9
740H20210202,SR1b_A23, 69,1,16,9017,2,20210228,0356,-60.82760, -54.73814,1983, 105.2, 0.6618, 0.6682, 2.0000,34.3501,2,-999.0000,9, 297.8,2,-999.0,9, -999.00,9, -999.00,9, -999.00,9,-999.0000,9,-999.0000,9, 0.1700, -999.0,9
740H20210202,SR1b_A23, 69,1,17,9018,2,20210228,0356,-60.82758, -54.73830,1983, 105.6, 0.6668, 0.6706, 2.0000,34.3492,2,34.3507,2, 297.8,2,-999.0,9, -999.00,9, -999.00,9, -999.00,9,-999.0000,1,-999.0000,9, 0.1538, -999.0,9
740H20210202,SR1b_A23, 69,1,18,9019,2,20210228,0400,-60.82748, -54.73876,1983,  82.9, 0.7988, 0.8091, 2.0000,34.3249,2,34.3253,2, 300.3,2,-999.0,9, -999.00,9, -999.00,9, -999.00,9,-999.0000,1,-999.0000,9, 0.2134, -999.0,9
740H20210202,SR1b_A23, 69,1,19,9020,2,20210228,0404,-60.82735, -54.73940,1983,  51.8, 0.8411, 0.8421, 2.0000,34.3160,2,-999.0000,9, 303.4,2,-999.0,9, -999.00,9, -999.00,9, -999.00,9,-999.0000,9,-999.0000,9, 0.2373, -999.0,9
740H20210202,SR1b_A23, 69,1,20,9021,2,20210228,0404,-60.82732, -54.73949,1983,  52.2, 0.8439, 0.8450, 2.0000,34.3153,2,34.3166,2, 303.0,2, 302.5,2, -999.00,9, -999.00,9, -999.00,9,-999.0000,1,-999.0000,9, 0.2455, -999.0,9
740H20210202,SR1b_A23, 69,1,21,9022,2,20210228,0407,-60.82720, -54.74002,1983,  21.6, 0.8776, 0.8876, 2.0000,34.3093,2,-999.0000,9, 304.8,2,-999.0,9, -999.00,9, -999.00,9, -999.00,9,-999.0000,9,-999.0000,9, 0.2339, -999.0,9
740H20210202,SR1b_A23, 69,1,22,9023,2,20210228,0408,-60.82720, -54.74006,1983,  21.2, 0.8819, 0.9036, 2.0000,34.3083,2,34.3080,2, 304.6,2,-999.0,9, -999.00,9, -999.00,9, -999.00,9,-999.0000,1,-999.0000,9, 0.2393, -999.0,9
740H20210202,SR1b_A23, 69,1,23,9024,2,20210228,0410,-60.82714, -54.74038,1983,  11.4, 0.9384, 0.9410, 2.0000,34.2990,2,-999.0000,9, 307.1,2,-999.0,9, -999.00,9, -999.00,9, -999.00,9,-999.0000,9,-999.0000,9, 0.2608, -999.0,9
740H20210202,SR1b_A23, 69,1,24,9025,2,20210228,0410,-60.82714, -54.74048,1983,  12.5, 0.9413, 0.9384, 2.0000,34.2986,2,34.2997,2, 307.4,2, 306.9,2, -999.00,9, -999.00,9, -999.00,9,-999.0000,1,-999.0000,9, 0.2612, -999.0,9
740H20210202,SR1b_A23, 70,1, 1,9002,2,20210228,0619,-60.80056, -54.74008,2563,2593.9, 0.1555, 0.1558, 2.0000,34.6672,2,-999.0000,9, 224.8,2,-999.0,9, -999.00,9, -999.00,9, -999.00,9,-999.0000,9,-999.0000,9, 0.0104, -999.0,9
740H20210202,SR1b_A23, 70,1, 2,9003,2,20210228,0619,-60.80056, -54.74011,2563,2594.0, 0.1586, 0.1566, 2.0000,34.6671,2,34.6683,2, 224.7,2, 224.5,2, -999.00,9, -999.00,9, -999.00,9,-999.0000,1,-999.0000,9, 0.0119, -999.0,9
740H20210202,SR1b_A23, 70,1, 5,9006,2,20210228,0623,-60.80056, -54.74016,2563,2542.7, 0.1648, 0.1663, 2.0000,34.6676,2,-999.0000,9, 224.4,2,-999.0,9, -999.00,9, -999.00,9, -999.00,9,-999.0000,9,-999.0000,9, 0.0024, -999.0,9
740H20210202,SR1b_A23, 70,1, 6,9007,2,20210228,0623,-60.80054, -54.74017,2563,2542.5, 0.1657, 0.1653, 2.0000,34.6677,2,34.6692,2, 224.1,2,-999.0,9, -999.00,9, -999.00,9, -999.00,9,-999.0000,1,-999.0000,9, 0.0169, -999.0,9
740H20210202,SR1b_A23, 70,1, 7,9008,2,20210228,0631,-60.80054, -54.74014,2563,2235.8, 0.1735, 0.1735, 2.0000,34.6690,2,-999.0000,9, 224.0,2,-999.0,9, -999.00,9, -999.00,9, -999.00,9,-999.0000,9,-999.0000,9, 0.0113, -999.0,9
740H20210202,SR1b_A23, 70,1, 8,9009,2,20210228,0631,-60.80053, -54.74016,2563,2235.5, 0.1736, 0.1736, 2.0000,34.6690,2,34.6698,2, 224.0,2, 223.2,2, -999.00,9, -999.00,9, -999.00,9,-999.0000,1,-999.0000,9, 0.0139, -999.0,9
740H20210202,SR1b_A23, 70,1,11,9012,2,20210228,0638,-60.80056, -54.74010,2563,2005.5, 0.2333, 0.2395, 2.0000,34.6701,2,-999.0000,9, 222.9,2,-999.0,9, -999.00,9, -999.00,9, -999.00,9,-999.0000,9,-999.0000,9, 0.0073, -999.0,9
740H20210202,SR1b_A23, 70,1,12,9013,2,20210228,0639,-60.80056, -54.74014,2563,2005.6, 0.2352, 0.2410, 2.0000,34.6698,2,34.6711,2, 222.4,2, 222.9,2, -999.00,9, -999.00,9, -999.00,9,-999.0000,1,-999.0000,9, 0.0184, -999.0,9
740H20210202,SR1b_A23, 70,1,13,9014,2,20210228,0657,-60.80056, -54.74012,2563,1053.5, 0.4399, 0.4414, 2.0000,34.6599,2,-999.0000,9, 221.5,2,-999.0,9, -999.00,9, -999.00,9, -999.00,9,-999.0000,9,-999.0000,9, 0.0122, -999.0,9
740H20210202,SR1b_A23, 70,1,14,9015,2,20210228,0657,-60.80054, -54.74019,2563,1053.3, 0.4407, 0.4322, 2.0000,34.6601,2,34.6604,2, 221.1,2, 215.9,3, -999.00,9, -999.00,9, -999.00,9,-999.0000,1,-999.0000,9, 0.0099, -999.0,9
740H20210202,SR1b_A23, 70,1,17,9018,2,20210228,0709,-60.80054, -54.74018,2563, 454.9,-0.1172,-0.1159, 2.0000,34.5166,2,-999.0000,9, 264.5,2,-999.0,9, -999.00,9, -999.00,9, -999.00,9,-999.0000,9,-999.0000,9, 0.0265, -999.0,9
740H20210202,SR1b_A23, 70,1,18,9019,2,20210228,0710,-60.80054, -54.74012,2563, 455.0,-0.1161,-0.1152, 2.0000,34.5164,2,34.5177,2, 264.7,2, 264.4,2, -999.00,9, -999.00,9, -999.00,9,-999.0000,1,-999.0000,9, 0.0217, -999.0,9
740H20210202,SR1b_A23, 70,1,19,9020,2,20210228,0718,-60.80054, -54.74018,2563, 131.0, 0.6012, 0.6005, 2.0000,34.3653,2,-999.0000,9, 290.2,2,-999.0,9, -999.00,9, -999.00,9, -999.00,9,-999.0000,9,-999.0000,9, 0.1314, -999.0,9
740H20210202,SR1b_A23, 70,1,20,9021,2,20210228,0718,-60.80056, -54.74014,2563, 130.6, 0.5981, 0.5962, 2.0000,34.3662,2,34.3667,2, 289.7,2,-999.0,9, -999.00,9, -999.00,9, -999.00,9,-999.0000,1,-999.0000,9, 0.1214, -999.0,9
740H20210202,SR1b_A23, 70,1,23,9024,2,20210228,0726,-60.80054, -54.74012,2563,  14.6, 1.0487, 1.0575, 2.0000,34.2791,2,-999.0000,9, 311.9,2,-999.0,9, -999.00,9, -999.00,9, -999.00,9,-999.0000,9,-999.0000,9, 0.3033, -999.0,9
740H20210202,SR1b_A23, 70,1,24,9025,2,20210228,0726,-60.80054, -54.74014,2563,  15.0, 1.0553, 1.0500, 2.0000,34.2779,2,34.2779,2, 311.7,2, 311.0,2, -999.00,9, -999.00,9, -999.00,9,-999.0000,1,-999.0000,9, 0.2863, -999.0,9
740H20210202,SR1b_A23, 71,1, 1,9002,2,20210228,1013,-60.66912, -54.81922,3106,3145.3,-0.0283,-0.0289, 2.0000,34.6576,2,-999.0000,9, 231.3,2,-999.0,9, -999.00,9, -999.00,9, -999.00,9,-999.0000,9,-999.0000,9, 0.0141, -999.0,9
740H20210202,SR1b_A23, 71,1, 2,9003,2,20210228,1013,-60.66914, -54.81916,3106,3145.5,-0.0283,-0.0287, 2.0000,34.6577,2,34.6587,2, 231.3,2, 231.0,2, -999.00,9, -999.00,9, -999.00,9,-999.0000,1,-999.0000,9, 0.0093, -999.0,9
740H20210202,SR1b_A23, 71,1, 3,8149,2,20210228,1017,-60.66920, -54.81902,3106,3094.2,-0.0070,-0.0065, 2.0000,34.6587,2,-999.0000,9, 230.8,2,-999.0,9, -999.00,9, -999.00,9, -999.00,9,-999.0000,9,-999.0000,9, 0.0150, -999.0,9
740H20210202,SR1b_A23, 71,1, 4,9005,2,20210228,1018,-60.66920, -54.81900,3106,3094.4,-0.0068,-0.0065, 2.0000,34.6588,2,34.6594,2, 230.9,2, 230.7,2, -999.00,9, -999.00,9, -999.00,9,-999.0000,1,-999.0000,9, 0.0109, -999.0,9
740H20210202,SR1b_A23, 71,1, 5,9006,2,20210228,1023,-60.66930, -54.81884,3106,2848.9, 0.0672, 0.0690, 2.0000,34.6626,2,-999.0000,9, 228.0,2,-999.0,9, -999.00,9, -999.00,9, -999.00,9,-999.0000,9,-999.0000,9, 0.0120, -999.0,9
740H20210202,SR1b_A23, 71,1, 6,9007,2,20210228,1024,-60.66934, -54.81873,3106,2848.9, 0.0678, 0.0684, 2.0000,34.6627,2,34.6631,2, 227.8,2,-999.0,9, -999.00,9, -999.00,9, -999.00,9,-999.0000,1,-999.0000,9, 0.0123, -999.0,9
740H20210202,SR1b_A23, 71,1, 7,9008,2,20210228,1039,-60.66961, -54.81809,3106,2081.3, 0.5027, 0.5028, 2.0000,34.7002,2,-999.0000,9, 210.3,2,-999.0,9, -999.00,9, -999.00,9, -999.00,9,-999.0000,9,-999.0000,9, 0.0130, -999.0,9
740H20210202,SR1b_A23, 71,1, 8,9009,2,20210228,1040,-60.66964, -54.81804,3106,2081.0, 0.5007, 0.5026, 2.0000,34.7000,2,34.7006,2, 210.5,2, 209.7,2, -999.00,9, -999.00,9, -999.00,9,-999.0000,1,-999.0000,9, 0.0174, -999.0,9
740H20210202,SR1b_A23, 71,1, 9,9010,2,20210228,1046,-60.66974, -54.81778,3106,1826.0, 0.6047, 0.6053, 2.0000,34.7050,2,-999.0000,9, 207.7,2,-999.0,9, -999.00,9, -999.00,9, -999.00,9,-999.0000,9,-999.0000,9, 0.0126, -999.0,9
740H20210202,SR1b_A23, 71,1,10,8156,4,20210228,1051,-60.66984, -54.81754,3106,1622.3, 0.7407, 0.7426, 2.0000,34.7096,2,-999.0000,9, 204.7,2,-999.0,9, -999.00,9, -999.00,9, -999.00,9,-999.0000,9,-999.0000,9, 0.0153, -999.0,9
740H20210202,SR1b_A23, 71,1,11,9012,2,20210228,1052,-60.66982, -54.81750,3106,1621.8, 0.7409, 0.7413, 2.0000,34.7097,2,34.7106,2, 204.7,2, 204.2,2, -999.00,9, -999.00,9, -999.00,9,-999.0000,1,-999.0000,9, 0.0118, -999.0,9
740H20210202,SR1b_A23, 71,1,12,9013,2,20210228,1108,-60.67012, -54.81688,3106, 807.6, 1.3682, 1.3693, 2.0000,34.7271,2,-999.0000,9, 193.0,2,-999.0,9, -999.00,9, -999.00,9, -999.00,9,-999.0000,9,-999.0000,9, 0.0130, -999.0,9
740H20210202,SR1b_A23, 71,1,13,9014,2,20210228,1109,-60.67016, -54.81688,3106, 808.1, 1.3694, 1.3699, 2.0000,34.7271,2,34.7277,2, 192.8,2,-999.0,9, -999.00,9, -999.00,9, -999.00,9,-999.0000,1,-999.0000,9, 0.0128, -999.0,9
740H20210202,SR1b_A23, 71,1,14,9015,2,20210228,1117,-60.67030, -54.81646,3106, 432.1, 1.8005, 1.8099, 2.0000,34.7157,2,34.5564,2, 181.9,2,-999.0,9, -999.00,9, -999.00,9, -999.00,9,-999.0000,9,-999.0000,9, 0.0172, -999.0,9
740H20210202,SR1b_A23, 71,1,15,9016,2,20210228,1118,-60.67032, -54.81644,3106, 432.0, 1.8131, 1.8156, 2.0000,34.7146,2,34.7147,2, 181.5,2,-999.0,9, -999.00,9, -999.00,9, -999.00,9,-999.0000,1,-999.0000,9, 0.0164, -999.0,9
740H20210202,SR1b_A23, 71,1,16,9017,2,20210228,1123,-60.67040, -54.81622,3106, 249.6, 1.8612, 1.8519, 2.0000,34.6429,2,-999.0000,9, 176.5,2,-999.0,9, -999.00,9, -999.00,9, -999.00,9,-999.0000,9,-999.0000,9, 0.0149, -999.0,9
740H20210202,SR1b_A23, 71,1,17,9018,2,20210228,1124,-60.67040, -54.81614,3106, 249.4, 1.8508, 1.8499, 2.0000,34.6412,2,34.6416,2, 176.7,2, 176.0,2, -999.00,9, -999.00,9, -999.00,9,-999.0000,1,-999.0000,9, 0.0184, -999.0,9
740H20210202,SR1b_A23, 71,1,18,9019,2,20210228,1128,-60.67052, -54.81596,3106, 147.8, 1.5560, 1.5389, 2.0000,34.5513,2,-999.0000,9, 185.8,2,-999.0,9, -999.00,9, -999.00,9, -999.00,9,-999.0000,9,-999.0000,9, 0.0199, -999.0,9
740H20210202,SR1b_A23, 71,1,19,9020,2,20210228,1129,-60.67050, -54.81600,3106, 147.9, 1.5304, 1.5254, 2.0000,34.5463,2,34.5486,2, 186.2,2,-999.0,9, -999.00,9, -999.00,9, -999.00,9,-999.0000,1,-999.0000,9, 0.0179, -999.0,9
740H20210202,SR1b_A23, 71,1,20,9021,2,20210228,1135,-60.67064, -54.81573,3106,  78.7, 0.3637, 0.3512, 2.0000,34.2646,2,-999.0000,9, 262.5,2,-999.0,9, -999.00,9, -999.00,9, -999.00,9,-999.0000,9,-999.0000,9, 0.0523, -999.0,9
740H20210202,SR1b_A23, 71,1,21,9022,2,20210228,1136,-60.67064, -54.81569,3106,  78.0, 0.3538, 0.3506, 2.0000,34.2553,2,34.2537,2, 266.1,2,-999.0,9, -999.00,9, -999.00,9, -999.00,9,-999.0000,1,-999.0000,9, 0.0483, -999.0,9
740H20210202,SR1b_A23, 71,1,22,9023,2,20210228,1139,-60.67070, -54.81560,3106,  46.9, 0.9472, 0.9800, 2.0000,34.1254,2,34.1269,2, 310.9,2,-999.0,9, -999.00,9, -999.00,9, -999.00,9,-999.0000,1,-999.0000,9, 0.0740, -999.0,9
740H20210202,SR1b_A23, 71,1,23,9024,2,20210228,1144,-60.67080, -54.81534,3106,   7.3, 1.7905, 1.7964, 2.0000,34.0316,2,-999.0000,9, 327.9,2,-999.0,9, -999.00,9, -999.00,9, -999.00,9,-999.0000,9,-999.0000,9, 0.2069, -999.0,9
740H20210202,SR1b_A23, 71,1,24,9025,2,20210228,1144,-60.67082, -54.81530,3106,   7.0, 1.7944, 1.7877, 2.0000,34.0315,2,34.0316,2, 328.6,2, 328.2,3, -999.00,9, -999.00,9, -999.00,9,-999.0000,1,-999.0000,9, 0.1946, -999.0,9