BOTTLE,20210420POGBASEPA
#SHIP: James Cook
#Cruise JC211; SR1B and A23
#Region: Drake Passage, Weddell Sea, Scotia Sea
#EXPOCODE: 740H20210202
#DATES: 20210202 - 20210307
#Chief Scientist: E. P. Abrahamsen, BAS
#Supported by NERC National Capability NE/N018095/1 (ORCHESTRA)
#100 stations with 24-place rosette
#Notes: PI for SR1B section (66-95): Y. Firing; PI for A23 section (36-65): E. P. Abrahamsen
#CTD: Who - B. King and Y. Firing; Status - not yet calibrated
#Notes: Includes CTDSAL, CTDOXY, SBE35
#The CTD PRS; TMP; SAL; OXY data are all calibrated and good.
#Salinity: Who - A. Marzocchi and B. King; Status - final
#Notes: bottle salinity from stations 3-100 used for CTD calibration
#Oxygen: Who - Y. Firing; Status - final
#Notes: bottle oxygen from stations 3-39 and 60-95 used for CTD calibration
#Notes: bottle oxygen stations 40-59 bad due to questionable titrant standardisation
#Nutrients: Who - C. Liszka; Status - not yet analysed
#DELO18: Who - M. Leng; Status - not yet analysed
#Nutrient isotopes: Who - S. Fielding/K. Hendry; Status - not yet analysed
#POM: Who - G. Stowasser - not yet analysed
#Chlorophyll: Who - C. Liszka; Status - not yet analysed
#These data should be acknowledged with: "Data were collected and made publicly available by the international Global Ship-based Hydrographic Investigations Program (GO-SHIP; http://www.go-ship.org/) with National Capability funding from the UK Natural Environment Research Council to the National Oceanography Centre and the British Antarctic Survey."
EXPOCODE,SECT_ID,STNNBR,CASTNO,SAMPNO,BTLNBR,BTLNBR_FLAG_W,DATE,TIME,LATITUDE,LONGITUDE,DEPTH,CTDPRS,CTDTMP,SBE35,SBE35_FLAG_W,CTDSAL,CTDSAL_FLAG_W,SALNTY,SALNTY_FLAG_W,CTDOXY,CTDOXY_FLAG_W,OXYGEN,OXYGEN_FLAG_W,SILCAT,SILCAT_FLAG_W,NO2+NO3,NO2+NO3_FLAG_W,PHSPHT,PHSPHT_FLAG_W,DELO18,DELO18_FLAG_W,D30SI_SILCAT,D30SI_SILCAT_FLAG_W,CTDFLUOR,BOTCHLA,BOTCHLA_FLAG_W
 , , , , , , , , , , ,METERS,DBAR,ITS-90,ITS-90, ,PSS-78, ,PSS-78, ,UMOL/KG, ,UMOL/KG, ,UMOL/KG, ,UMOL/KG,UMOL/KG,UMOL/KG,UMOL/KG,/MILLE,/MILLE,/MILLE,/MILLE,MG/M^3,ML/L,ML/L
740H20210202,SR1b_A23,  3,1, 1,9002,2,20210204,1741,-52.63752, -43.78088,3346,3391.3, 0.2242, 0.2256, 2.0000,34.6700,2,34.6710,2, 221.8,2, 222.7,3, -999.00,9, -999.00,9, -999.00,9,-999.0000,9,-999.0000,9, 0.0430, -999.0,9
740H20210202,SR1b_A23,  3,1, 2,9003,2,20210204,1742,-52.63754, -43.78094,3346,3391.7, 0.2205, 0.2312, 2.0000,34.6703,2,-999.0000,9, 221.8,2,-999.0,9, -999.00,9, -999.00,9, -999.00,9,-999.0000,9,-999.0000,9, 0.0413, -999.0,9
740H20210202,SR1b_A23,  3,1, 3,8149,4,20210204,1758,-52.63752, -43.78092,3346,2542.9, 0.6053, 0.6060, 2.0000,34.6875,2,-999.0000,9, 213.1,2,-999.0,9, -999.00,9, -999.00,9, -999.00,9,-999.0000,9,-999.0000,9, 0.0220, -999.0,9
740H20210202,SR1b_A23,  3,1, 4,9005,2,20210204,1759,-52.63752, -43.78088,3346,2543.1, 0.6057, 0.6060, 2.0000,34.6875,2,34.6862,2, 213.1,2, 213.4,2, -999.00,9, -999.00,9, -999.00,9,-999.0000,9,-999.0000,9, 0.0209, -999.0,9
740H20210202,SR1b_A23,  3,1, 5,9006,2,20210204,1809,-52.63754, -43.78098,3346,2031.4, 0.8594, 0.8598, 2.0000,34.6963,2,34.6961,2, 207.6,2, 206.7,2, -999.00,9, -999.00,9, -999.00,9,-999.0000,9,-999.0000,9, 0.0242, -999.0,9
740H20210202,SR1b_A23,  3,1, 6,9007,2,20210204,1810,-52.63750, -43.78088,3346,2031.1, 0.8597, 0.8599, 2.0000,34.6963,2,-999.0000,9, 207.6,2,-999.0,9, -999.00,9, -999.00,9, -999.00,9,-999.0000,9,-999.0000,9, 0.0234, -999.0,9
740H20210202,SR1b_A23,  3,1, 7,9008,2,20210204,1824,-52.63752, -43.78091,3346,1265.6, 1.4640, 1.4638, 2.0000,34.7081,2,34.7077,2, 193.1,2, 193.0,2, -999.00,9, -999.00,9, -999.00,9,-999.0000,9,-999.0000,9, 0.0240, -999.0,9
740H20210202,SR1b_A23,  3,1, 8,9009,2,20210204,1824,-52.63753, -43.78098,3346,1265.9, 1.4623, 1.4634, 2.0000,34.7081,2,-999.0000,9, 193.3,2,-999.0,9, -999.00,9, -999.00,9, -999.00,9,-999.0000,9,-999.0000,9, 0.0273, -999.0,9
740H20210202,SR1b_A23,  3,1, 9,9010,2,20210204,1834,-52.63750, -43.78092,3346, 756.3, 1.9752, 1.9764, 2.0000,34.6700,2,34.6684,2, 178.7,2, 179.2,2, -999.00,9, -999.00,9, -999.00,9,-999.0000,9,-999.0000,9, 0.0313, -999.0,9
740H20210202,SR1b_A23,  3,1,10,8156,2,20210204,1835,-52.63750, -43.78092,3346, 756.4, 1.9759, 1.9760, 2.0000,34.6698,2,-999.0000,9, 178.7,2,-999.0,9, -999.00,9, -999.00,9, -999.00,9,-999.0000,9,-999.0000,9, 0.0298, -999.0,9
740H20210202,SR1b_A23,  3,1,11,9012,2,20210204,1836,-52.63750, -43.78092,3346, 756.1, 1.9751, 1.9755, 2.0000,34.6700,2,-999.0000,9, 178.4,2,-999.0,9, -999.00,9, -999.00,9, -999.00,9,-999.0000,9,-999.0000,9, 0.0242, -999.0,9
740H20210202,SR1b_A23,  3,1,12,9013,2,20210204,1843,-52.63756, -43.78096,3346, 401.2, 2.0926, 2.0926, 2.0000,34.5158,2,34.5147,2, 183.4,2, 183.7,2, -999.00,9, -999.00,9, -999.00,9,-999.0000,9,-999.0000,9, 0.0286, -999.0,9
740H20210202,SR1b_A23,  3,1,13,9014,2,20210204,1844,-52.63754, -43.78092,3346, 401.0, 2.0941, 2.0927, 2.0000,34.5166,2,-999.0000,9, 183.4,2,-999.0,9, -999.00,9, -999.00,9, -999.00,9,-999.0000,9,-999.0000,9, 0.0320, -999.0,9
740H20210202,SR1b_A23,  3,1,14,9015,2,20210204,1849,-52.63752, -43.78091,3346, 197.4, 1.0851, 1.0919, 2.0000,34.2170,2,34.2195,2, 255.0,2, 253.1,2, -999.00,1, -999.00,1, -999.00,1,-999.0000,1,-999.0000,9, 0.0359, -999.0,9
740H20210202,SR1b_A23,  3,1,15,9016,2,20210204,1850,-52.63752, -43.78096,3346, 197.5, 1.0837, 1.0939, 2.0000,34.2165,2,-999.0000,9, 255.3,2,-999.0,9, -999.00,9, -999.00,9, -999.00,9,-999.0000,9,-999.0000,9, 0.0346, -999.0,9
740H20210202,SR1b_A23,  3,1,16,9017,2,20210204,1850,-52.63752, -43.78096,3346, 197.6, 1.0829, 1.0893, 2.0000,34.2164,2,-999.0000,9, 255.5,2,-999.0,9, -999.00,9, -999.00,9, -999.00,9,-999.0000,9,-999.0000,9, 0.0350, -999.0,9
740H20210202,SR1b_A23,  3,1,17,9018,2,20210204,1854,-52.63754, -43.78092,3346,  96.2, 0.6165, 0.6580, 2.0000,33.9380,2,33.9432,2, 330.9,2, 327.7,2, -999.00,9, -999.00,9, -999.00,9,-999.0000,9,-999.0000,9, 0.0594, -999.0,9
740H20210202,SR1b_A23,  3,1,18,9019,2,20210204,1854,-52.63753, -43.78092,3346,  98.4, 0.6784, 0.6307, 2.0000,33.9445,2,-999.0000,9, 331.0,2,-999.0,9, -999.00,9, -999.00,9, -999.00,9,-999.0000,9,-999.0000,9, 0.0615, -999.0,9
740H20210202,SR1b_A23,  3,1,19,9020,2,20210204,1855,-52.63754, -43.78096,3346,  96.4, 0.6243, 0.6308, 2.0000,33.9383,2,-999.0000,9, 331.4,2,-999.0,9, -999.00,9, -999.00,9, -999.00,9,-999.0000,9,-999.0000,9, 0.0703, -999.0,9
740H20210202,SR1b_A23,  3,1,20,9021,2,20210204,1900,-52.63748, -43.78092,3346,  58.1, 2.6300, 3.2011, 2.0000,33.8663,2,33.8601,2, 326.7,2, 326.0,2, -999.00,1, -999.00,1, -999.00,1,-999.0000,1,-999.0000,9, 1.4087, -999.0,9
740H20210202,SR1b_A23,  3,1,21,9022,2,20210204,1901,-52.63750, -43.78088,3346,  56.8, 3.2656, 3.2957, 2.0000,33.8531,2,-999.0000,9, 325.1,2,-999.0,9, -999.00,9, -999.00,9, -999.00,9,-999.0000,9,-999.0000,9, 1.3912, -999.0,9
740H20210202,SR1b_A23,  3,1,22,9023,2,20210204,1901,-52.63752, -43.78094,3346,  57.4, 3.0868, 3.3380, 2.0000,33.8523,2,-999.0000,9, 327.2,2,-999.0,9, -999.00,9, -999.00,9, -999.00,9,-999.0000,9,-999.0000,9, 1.3364, -999.0,9
740H20210202,SR1b_A23,  3,1,23,9024,2,20210204,1905,-52.63752, -43.78092,3346,   7.3, 4.8290, 4.8300, 2.0000,33.8175,2,33.8162,2, 322.3,2, 322.2,3, -999.00,9, -999.00,9, -999.00,9,-999.0000,9,-999.0000,9, 0.5511, -999.0,9
740H20210202,SR1b_A23,  3,1,24,9025,2,20210204,1906,-52.63752, -43.78090,3346,   6.2, 4.8277, 4.8280, 2.0000,33.8173,2,-999.0000,9, 322.4,2,-999.0,9, -999.00,9, -999.00,9, -999.00,9,-999.0000,9,-999.0000,9, 0.4783, -999.0,9
740H20210202,SR1b_A23,  4,1, 1,9002,2,20210205,0940,-52.79584, -40.10446,3746,3799.6,-0.0199,-0.0202, 2.0000,34.6601,2,34.6580,2, 227.4,2, 228.8,3, -999.00,9, -999.00,9, -999.00,9,-999.0000,9,-999.0000,9, 0.0226, -999.0,9
740H20210202,SR1b_A23,  4,1, 2,9003,2,20210205,0941,-52.79586, -40.10448,3746,3799.3,-0.0197,-0.0204, 2.0000,34.6601,2,34.6575,2, 227.1,2,-999.0,9, -999.00,9, -999.00,9, -999.00,9,-999.0000,9,-999.0000,9, 0.0276, -999.0,9
740H20210202,SR1b_A23,  4,1, 3,8149,4,20210205,1034,-52.79584, -40.10450,3746, 756.8, 1.6373, 1.6356, 2.0000,34.6857,2,-999.0000,9, 189.0,2,-999.0,9, -999.00,9, -999.00,9, -999.00,9,-999.0000,9,-999.0000,9, 0.0174, -999.0,9
740H20210202,SR1b_A23,  4,1, 4,9005,2,20210205,1034,-52.79584, -40.10448,3746, 756.5, 1.6377, 1.6389, 2.0000,34.6856,2,-999.0000,9, 188.7,2, 189.0,2, -999.00,9, -999.00,9, -999.00,9,-999.0000,9,-999.0000,9, 0.0207, -999.0,9
740H20210202,SR1b_A23,  4,1, 5,9006,2,20210205,1042,-52.79586, -40.10444,3746, 451.8, 1.8798, 1.8803, 2.0000,34.6217,2,34.6200,2, 182.2,2, 181.5,2, -999.00,1, -999.00,1, -999.00,1,-999.0000,9,-999.0000,1, 0.0204, -999.0,1
740H20210202,SR1b_A23,  4,1, 6,9007,2,20210205,1043,-52.79584, -40.10447,3746, 451.6, 1.8798, 1.8804, 2.0000,34.6217,2,-999.0000,9, 182.0,2,-999.0,9, -999.00,9, -999.00,9, -999.00,9,-999.0000,9,-999.0000,9, 0.0238, -999.0,9
740H20210202,SR1b_A23,  4,1, 7,9008,2,20210205,1045,-52.79586, -40.10446,3746, 401.3, 1.8775, 1.8760, 2.0000,34.5971,2,34.5969,2, 182.2,2, 181.9,2, -999.00,1, -999.00,1, -999.00,1,-999.0000,9,-999.0000,1, 0.0251, -999.0,1
740H20210202,SR1b_A23,  4,1, 8,9009,2,20210205,1046,-52.79586, -40.10440,3746, 401.5, 1.8770, 1.8765, 2.0000,34.5969,2,-999.0000,9, 182.2,2,-999.0,9, -999.00,9, -999.00,9, -999.00,9,-999.0000,9,-999.0000,9, 0.0204, -999.0,9
740H20210202,SR1b_A23,  4,1, 9,9010,2,20210205,1051,-52.79584, -40.10448,3746, 198.6, 1.0291, 1.0546, 2.0000,34.3295,2,34.3518,2, 231.9,2, 225.8,3, -999.00,1, -999.00,1, -999.00,1,-999.0000,9,-999.0000,1, 0.0419, -999.0,1
740H20210202,SR1b_A23,  4,1,10,8156,2,20210205,1051,-52.79584, -40.10446,3746, 198.7, 1.0311, 1.0656, 2.0000,34.3288,2,-999.0000,9, 231.6,2,-999.0,9, -999.00,9, -999.00,9, -999.00,9,-999.0000,9,-999.0000,9, 0.0380, -999.0,9
740H20210202,SR1b_A23,  4,1,11,9012,2,20210205,1055,-52.79584, -40.10448,3746, 122.0,-0.0607,-0.1042, 2.0000,34.1019,2,34.1031,2, 303.4,2, 300.4,2, -999.00,9, -999.00,9, -999.00,9,-999.0000,9,-999.0000,9, 0.0381, -999.0,9
740H20210202,SR1b_A23,  4,1,12,9013,2,20210205,1056,-52.79586, -40.10450,3746, 122.1,-0.1071,-0.1110, 2.0000,34.0959,2,-999.0000,9, 305.1,2,-999.0,9, -999.00,9, -999.00,9, -999.00,9,-999.0000,9,-999.0000,9, 0.0442, -999.0,9
740H20210202,SR1b_A23,  4,1,13,9014,2,20210205,1058,-52.79584, -40.10448,3746,  97.0,-0.2898,-0.2519, 2.0000,34.0199,2,34.0292,2, 334.1,2, 329.0,3, -999.00,1, -999.00,1, -999.00,1,-999.0000,9,-999.0000,1, 0.0477, -999.0,1
740H20210202,SR1b_A23,  4,1,14,9015,2,20210205,1059,-52.79584, -40.10446,3746,  96.7,-0.2709,-0.2442, 2.0000,34.0204,2,34.0242,2, 333.2,2,-999.0,9, -999.00,9, -999.00,9, -999.00,9,-999.0000,9,-999.0000,9, 0.0687, -999.0,9
740H20210202,SR1b_A23,  4,1,15,9016,2,20210205,1105,-52.79584, -40.10450,3746,  76.5, 0.1511, 0.1666, 2.0000,33.9953,2,33.9931,2, 337.0,2, 336.0,2, -999.00,9, -999.00,9, -999.00,9,-999.0000,9,-999.0000,9, 0.0757, -999.0,9
740H20210202,SR1b_A23,  4,1,16,9017,2,20210205,1105,-52.79584, -40.10448,3746,  75.8, 0.1531, 0.1414, 2.0000,33.9953,2,-999.0000,9, 337.8,2,-999.0,9, -999.00,9, -999.00,9, -999.00,9,-999.0000,9,-999.0000,9, 0.0661, -999.0,9
740H20210202,SR1b_A23,  4,1,17,9018,2,20210205,1108,-52.79582, -40.10446,3746,  59.0, 1.3003, 1.2702, 2.0000,33.9519,2,33.9529,2, 335.2,2, 333.9,3, -999.00,1, -999.00,1, -999.00,1,-999.0000,9,-999.0000,1, 0.1717, -999.0,1
740H20210202,SR1b_A23,  4,1,18,9019,2,20210205,1108,-52.79582, -40.10446,3746,  60.6, 1.1141, 1.2078, 2.0000,33.9574,2,-999.0000,9, 335.5,2,-999.0,9, -999.00,9, -999.00,9, -999.00,9,-999.0000,9,-999.0000,9, 0.1696, -999.0,9
740H20210202,SR1b_A23,  4,1,19,9020,2,20210205,1111,-52.79586, -40.10452,3746,  50.9, 4.2549, 4.6799, 2.0000,33.8345,2,33.8285,2, 321.0,2, 321.6,2, -999.00,1, -999.00,1, -999.00,1,-999.0000,9,-999.0000,1, 1.1047, -999.0,1
740H20210202,SR1b_A23,  4,1,20,9021,2,20210205,1111,-52.79584, -40.10450,3746,  51.3, 4.2031, 4.6648, 2.0000,33.8429,2,33.8307,2, 322.3,2,-999.0,9, -999.00,9, -999.00,9, -999.00,9,-999.0000,9,-999.0000,9, 1.1402, -999.0,9
740H20210202,SR1b_A23,  4,1,21,9022,2,20210205,1114,-52.79584, -40.10448,3746,  26.1, 4.7463, 4.7468, 2.0000,33.8292,2,33.8261,2, 321.1,2, 321.8,2, -999.00,9, -999.00,9, -999.00,9,-999.0000,9,-999.0000,9, 1.1218, -999.0,9
740H20210202,SR1b_A23,  4,1,22,9023,2,20210205,1115,-52.79584, -40.10450,3746,  25.3, 4.7462, 4.7471, 2.0000,33.8293,2,-999.0000,9, 321.2,2,-999.0,9, -999.00,9, -999.00,9, -999.00,9,-999.0000,9,-999.0000,9, 0.9854, -999.0,9
740H20210202,SR1b_A23,  4,1,23,9024,2,20210205,1118,-52.79584, -40.10444,3746,   7.1, 4.7396, 4.7426, 2.0000,33.8173,2,33.8134,2, 321.9,2, 322.4,2, -999.00,9, -999.00,9, -999.00,9,-999.0000,9,-999.0000,9, 0.5335, -999.0,9
740H20210202,SR1b_A23,  4,1,24,9025,2,20210205,1118,-52.79586, -40.10448,3746,   7.6, 4.7434, 4.7506, 2.0000,33.8165,2,-999.0000,9, 321.2,2,-999.0,9, -999.00,9, -999.00,9, -999.00,9,-999.0000,9,-999.0000,9, 0.5377, -999.0,9
740H20210202,SR1b_A23,  5,1, 1,9002,2,20210205,2140,-53.84738, -39.14202, 283, 274.9, 1.4332, 1.4183, 2.0000,34.2838,2,-999.0000,9, 229.8,2, 229.8,2, -999.00,9, -999.00,9, -999.00,9,-999.0000,9,-999.0000,9, 0.0307, -999.0,9
740H20210202,SR1b_A23,  5,1, 2,9003,2,20210205,2140,-53.84736, -39.14202, 283, 276.0, 1.4371, 1.4218, 2.0000,34.2851,2,-999.0000,9, 230.9,2,-999.0,9, -999.00,9, -999.00,9, -999.00,9,-999.0000,9,-999.0000,9, 0.0312, -999.0,9
740H20210202,SR1b_A23,  5,1, 3,8149,2,20210205,2141,-53.84738, -39.14204, 283, 276.2, 1.4384, 1.4229, 2.0000,34.2855,2,-999.0000,9, 231.2,2,-999.0,9, -999.00,9, -999.00,9, -999.00,9,-999.0000,9,-999.0000,9, 0.0350, -999.0,9
740H20210202,SR1b_A23,  5,1, 4,9005,2,20210205,2145,-53.84738, -39.14204, 283, 206.7, 1.0133, 1.0113, 2.0000,34.1770,2,-999.0000,9, 259.4,2,-999.0,9, -999.00,1, -999.00,1, -999.00,1,-999.0000,9,-999.0000,1, 0.0327, -999.0,1
740H20210202,SR1b_A23,  5,1, 5,9006,2,20210205,2145,-53.84738, -39.14206, 283, 206.8, 1.0228, 1.0139, 2.0000,34.1787,2,-999.0000,9, 259.6,2,-999.0,9, -999.00,9, -999.00,9, -999.00,9,-999.0000,9,-999.0000,9, 0.0354, -999.0,9
740H20210202,SR1b_A23,  5,1, 6,9007,2,20210205,2146,-53.84736, -39.14204, 283, 206.7, 1.0229, 1.0207, 2.0000,34.1789,2,-999.0000,9, 259.4,2,-999.0,9, -999.00,9, -999.00,9, -999.00,9,-999.0000,9,-999.0000,9, 0.0329, -999.0,9
740H20210202,SR1b_A23,  5,1, 7,9008,2,20210205,2150,-53.84736, -39.14202, 283, 129.2, 0.7808, 0.7819, 2.0000,34.0280,2,-999.0000,9, 302.8,2, 302.0,2, -999.00,9, -999.00,9, -999.00,9,-999.0000,9,-999.0000,9, 0.0477, -999.0,9
740H20210202,SR1b_A23,  5,1, 8,9009,2,20210205,2151,-53.84738, -39.14204, 283, 130.3, 0.7808, 0.7813, 2.0000,34.0279,2,-999.0000,9, 303.1,2,-999.0,9, -999.00,9, -999.00,9, -999.00,9,-999.0000,9,-999.0000,9, 0.0486, -999.0,9
740H20210202,SR1b_A23,  5,1, 9,9010,2,20210205,2154,-53.84738, -39.14206, 283, 100.8, 1.1520, 1.2090, 2.0000,33.9520,2,-999.0000,9, 318.5,2,-999.0,9, -999.00,1, -999.00,1, -999.00,1,-999.0000,9,-999.0000,1, 0.1013, -999.0,1
740H20210202,SR1b_A23,  5,1,10,8156,2,20210205,2154,-53.84740, -39.14204, 283,  99.0, 1.2037, 1.2115, 2.0000,33.9475,2,-999.0000,9, 317.9,2,-999.0,9, -999.00,9, -999.00,9, -999.00,9,-999.0000,9,-999.0000,9, 0.2162, -999.0,9
740H20210202,SR1b_A23,  5,1,11,9012,2,20210205,2157,-53.84738, -39.14202, 283,  76.1, 1.8146, 1.8154, 2.0000,33.8903,2,-999.0000,9, 323.7,2, 323.8,2, -999.00,1, -999.00,1, -999.00,1,-999.0000,9,-999.0000,1, 0.4491, -999.0,1
740H20210202,SR1b_A23,  5,1,12,9013,2,20210205,2158,-53.84738, -39.14204, 283,  76.9, 1.7430, 1.8042, 2.0000,33.8995,2,-999.0000,9, 324.1,2,-999.0,9, -999.00,9, -999.00,9, -999.00,9,-999.0000,9,-999.0000,9, 0.3276, -999.0,9
740H20210202,SR1b_A23,  5,1,13,9014,2,20210205,2158,-53.84736, -39.14204, 283,  77.0, 1.7550, 1.8099, 2.0000,33.8972,2,-999.0000,9, 324.7,2,-999.0,9, -999.00,9, -999.00,9, -999.00,9,-999.0000,9,-999.0000,9, 0.3508, -999.0,9
740H20210202,SR1b_A23,  5,1,14,9015,2,20210205,2201,-53.84738, -39.14203, 283,  55.1, 3.2429, 3.3646, 2.0000,33.8086,2,-999.0000,9, 327.1,2,-999.0,9, -999.00,1, -999.00,1, -999.00,1,-999.0000,9,-999.0000,1, 0.2948, -999.0,1
740H20210202,SR1b_A23,  5,1,15,9016,2,20210205,2202,-53.84740, -39.14201, 283,  55.6, 3.2132, 3.4245, 2.0000,33.8094,2,-999.0000,9, 327.0,2,-999.0,9, -999.00,9, -999.00,9, -999.00,9,-999.0000,9,-999.0000,9, 0.3454, -999.0,9
740H20210202,SR1b_A23,  5,1,16,9017,2,20210205,2202,-53.84738, -39.14202, 283,  54.1, 3.3155, 3.3737, 2.0000,33.8071,2,-999.0000,9, 327.0,2,-999.0,9, -999.00,9, -999.00,9, -999.00,9,-999.0000,9,-999.0000,9, 0.2552, -999.0,9
740H20210202,SR1b_A23,  5,1,17,9018,2,20210205,2206,-53.84738, -39.14203, 283,  30.0, 3.9103, 3.9132, 2.0000,33.7930,2,-999.0000,9, 327.2,2, 327.0,2, -999.00,9, -999.00,9, -999.00,9,-999.0000,9,-999.0000,9, 0.3452, -999.0,9
740H20210202,SR1b_A23,  5,1,18,9019,2,20210205,2206,-53.84736, -39.14204, 283,  29.9, 3.9106, 3.9149, 2.0000,33.7929,2,-999.0000,9, 326.6,2,-999.0,9, -999.00,9, -999.00,9, -999.00,9,-999.0000,9,-999.0000,9, 0.2942, -999.0,9
740H20210202,SR1b_A23,  5,1,19,9020,2,20210205,2210,-53.84736, -39.14204, 283,   8.8, 4.1021, 4.1756, 2.0000,33.7929,2,33.7912,2, 327.1,2,-999.0,9, -999.00,1, -999.00,1, -999.00,1,-999.0000,9,-999.0000,1, 0.2766, -999.0,1
740H20210202,SR1b_A23,  5,1,20,9021,2,20210205,2210,-53.84736, -39.14205, 283,   8.7, 4.1154, 4.1853, 2.0000,33.7963,2,-999.0000,9, 326.4,2,-999.0,9, -999.00,9, -999.00,9, -999.00,9,-999.0000,9,-999.0000,9, 0.4098, -999.0,9