BOTTLE,20210420POGBASEPA
EXPOCODE,SECT_ID,STNNBR,CASTNO,SAMPNO,BTLNBR,BTLNBR_FLAG_W,DATE,TIME,LATITUDE,LONGITUDE,DEPTH,CTDPRS,CTDTMP,SBE35,SBE35_FLAG_W,CTDSAL,CTDSAL_FLAG_W,SALNTY,SALNTY_FLAG_W,CTDOXY,CTDOXY_FLAG_W,OXYGEN,OXYGEN_FLAG_W,SILCAT,SILCAT_FLAG_W,NO2+NO3,NO2+NO3_FLAG_W,PHSPHT,PHSPHT_FLAG_W,DELO18,DELO18_FLAG_W,D30SI_SILCAT,D30SI_SILCAT_FLAG_W,CTDFLUOR,BOTCHLA,BOTCHLA_FLAG_W
 , , , , , , , , , , ,METERS,DBAR,ITS-90,ITS-90, ,PSS-78, ,PSS-78, ,UMOL/KG, ,UMOL/KG, ,UMOL/KG, ,UMOL/KG,UMOL/KG,UMOL/KG,UMOL/KG,/MILLE,/MILLE,/MILLE,/MILLE,MG/M^3,ML/L,ML/L
740H20210202,SR1b_A23, 98,1, 4,9005,2,20210306,0004,-53.51618, -57.71696,2539,2336.8, 1.9652, 1.9662, 2.0000,34.6920,2,-999.0000,9, 178.6,2,-999.0,9, -999.00,9, -999.00,9, -999.00,9,-999.0000,9,-999.0000,9, 0.0163, -999.0,9
740H20210202,SR1b_A23, 98,1, 5,9006,2,20210306,0005,-53.51622, -57.71694,2539,2336.7, 1.9645, 1.9664, 2.0000,34.6921,2,34.6937,2, 178.2,2,-999.0,9, -999.00,9, -999.00,9, -999.00,9,-999.0000,9,-999.0000,9, 0.0082, -999.0,9
740H20210202,SR1b_A23, 98,1, 6,9007,2,20210306,0020,-53.51618, -57.71698,2539,1520.7, 2.6051, 2.6070, 2.0000,34.5252,2,-999.0000,9, 171.9,2,-999.0,9, -999.00,9, -999.00,9, -999.00,9,-999.0000,9,-999.0000,9, 0.0073, -999.0,9
740H20210202,SR1b_A23, 98,1, 7,9008,2,20210306,0021,-53.51618, -57.71696,2539,1520.6, 2.6054, 2.6069, 2.0000,34.5251,2,34.5263,2, 171.8,2,-999.0,9, -999.00,9, -999.00,9, -999.00,9,-999.0000,9,-999.0000,9, 0.0163, -999.0,9
740H20210202,SR1b_A23, 98,1, 8,9009,2,20210306,0037,-53.51616, -57.71698,2539, 658.7, 3.8274, 3.8292, 2.0000,34.1564,2,-999.0000,9, 258.7,2,-999.0,9, -999.00,9, -999.00,9, -999.00,9,-999.0000,9,-999.0000,9, 0.0119, -999.0,9
740H20210202,SR1b_A23, 98,1,16,9017,2,20210306,0038,-53.51620, -57.71698,2539, 658.7, 3.8283, 3.8289, 2.0000,34.1561,2,34.1579,2, 259.5,2,-999.0,9, -999.00,9, -999.00,9, -999.00,9,-999.0000,9,-999.0000,9, 0.0138, -999.0,9
740H20210202,SR1b_A23, 98,1,17,9018,2,20210306,0047,-53.51618, -57.71698,2539, 253.6, 4.8058, 4.8056, 2.0000,34.1231,2,-999.0000,9, 290.7,2,-999.0,9, -999.00,9, -999.00,9, -999.00,9,-999.0000,9,-999.0000,9, 0.0046, -999.0,9
740H20210202,SR1b_A23, 98,1,18,9019,2,20210306,0047,-53.51618, -57.71696,2539, 253.5, 4.8055, 4.8054, 2.0000,34.1231,2,34.1230,2, 290.2,2,-999.0,9, -999.00,9, -999.00,9, -999.00,9,-999.0000,9,-999.0000,9, 0.0095, -999.0,9
740H20210202,SR1b_A23, 98,1,19,9020,2,20210306,0056,-53.51621, -57.71694,2539,  31.4, 9.1187, 9.1199, 2.0000,34.0701,2,-999.0000,9, 286.6,2,-999.0,9, -999.00,9, -999.00,9, -999.00,9,-999.0000,9,-999.0000,9, 0.6611, -999.0,9
740H20210202,SR1b_A23, 98,1,20,9021,2,20210306,0056,-53.51620, -57.71698,2539,  32.3, 9.1195, 9.1194, 2.0000,34.0702,2,34.0691,2, 286.4,2,-999.0,9, -999.00,9, -999.00,9, -999.00,9,-999.0000,9,-999.0000,9, 0.6798, -999.0,9
740H20210202,SR1b_A23, 99,1, 4,9005,2,20210306,0333,-53.31448, -57.73351,1731,1623.3, 2.4557, 2.4602, 2.0000,34.5800,2,-999.0000,9, 169.2,2,-999.0,9, -999.00,9, -999.00,9, -999.00,9,-999.0000,9,-999.0000,9, 0.0140, -999.0,9
740H20210202,SR1b_A23, 99,1, 5,9006,2,20210306,0334,-53.31444, -57.73352,1731,1623.3, 2.4562, 2.4604, 2.0000,34.5799,2,34.5798,2, 168.9,2,-999.0,9, -999.00,9, -999.00,9, -999.00,9,-999.0000,9,-999.0000,9, 0.0175, -999.0,9
740H20210202,SR1b_A23, 99,1, 6,9007,2,20210306,0347,-53.31374, -57.73382,1731,1011.2, 3.0187, 3.0187, 2.0000,34.3427,2,-999.0000,9, 201.9,2,-999.0,9, -999.00,9, -999.00,9, -999.00,9,-999.0000,9,-999.0000,9, 0.0135, -999.0,9
740H20210202,SR1b_A23, 99,1, 7,9008,2,20210306,0348,-53.31370, -57.73384,1731,1011.3, 3.0183, 3.0189, 2.0000,34.3429,2,34.3441,2, 201.8,2,-999.0,9, -999.00,9, -999.00,9, -999.00,9,-999.0000,9,-999.0000,9, 0.0161, -999.0,9
740H20210202,SR1b_A23, 99,1, 8,9009,2,20210306,0358,-53.31316, -57.73406,1731, 545.6, 3.8973, 3.8983, 2.0000,34.1505,2,-999.0000,9, 262.0,2,-999.0,9, -999.00,9, -999.00,9, -999.00,9,-999.0000,9,-999.0000,9, 0.0066, -999.0,9
740H20210202,SR1b_A23, 99,1,16,9017,2,20210306,0359,-53.31310, -57.73406,1731, 545.5, 3.8959, 3.8958, 2.0000,34.1507,2,34.1513,2, 262.5,2,-999.0,9, -999.00,9, -999.00,9, -999.00,9,-999.0000,9,-999.0000,9, 0.0086, -999.0,9
740H20210202,SR1b_A23, 99,1,17,9018,2,20210306,0405,-53.31278, -57.73422,1731, 353.1, 4.2919, 4.2912, 2.0000,34.1154,2,-999.0000,9, 284.2,2,-999.0,9, -999.00,9, -999.00,9, -999.00,9,-999.0000,9,-999.0000,9, 0.0077, -999.0,9
740H20210202,SR1b_A23, 99,1,18,9019,2,20210306,0405,-53.31274, -57.73422,1731, 353.0, 4.2908, 4.2913, 2.0000,34.1154,2,34.1164,2, 284.2,2,-999.0,9, -999.00,9, -999.00,9, -999.00,9,-999.0000,9,-999.0000,9, 0.0171, -999.0,9
740H20210202,SR1b_A23, 99,1,19,9020,2,20210306,0411,-53.31246, -57.73434,1731, 171.7, 4.8672, 4.8541, 2.0000,34.0956,2,-999.0000,9, 292.5,2,-999.0,9, -999.00,9, -999.00,9, -999.00,9,-999.0000,9,-999.0000,9, 0.0088, -999.0,9
740H20210202,SR1b_A23, 99,1,20,9021,2,20210306,0411,-53.31242, -57.73436,1731, 171.7, 4.8655, 4.8583, 2.0000,34.0957,2,34.0962,2, 292.9,2,-999.0,9, -999.00,9, -999.00,9, -999.00,9,-999.0000,9,-999.0000,9, 0.0274, -999.0,9
740H20210202,SR1b_A23, 99,1,21,9022,2,20210306,0419,-53.31200, -57.73456,1731,  20.4, 9.0521, 9.0541, 2.0000,34.0657,2,-999.0000,9, 285.8,2,-999.0,9, -999.00,9, -999.00,9, -999.00,9,-999.0000,9,-999.0000,9, 0.4659, -999.0,9
740H20210202,SR1b_A23, 99,1,22,9023,2,20210306,0420,-53.31194, -57.73458,1731,  19.9, 9.0522, 9.0501, 2.0000,34.0660,2,34.0651,2, 285.6,2,-999.0,9, -999.00,9, -999.00,9, -999.00,9,-999.0000,9,-999.0000,9, 0.4553, -999.0,9
740H20210202,SR1b_A23,100,1, 4,9005,2,20210306,0657,-53.05740, -57.75166, 925, 909.7, 3.1779, 3.1778, 2.0000,34.2902,2,-999.0000,9, 215.0,2,-999.0,9, -999.00,9, -999.00,9, -999.00,9,-999.0000,9,-999.0000,9, 0.0151, -999.0,9
740H20210202,SR1b_A23,100,1, 5,9006,2,20210306,0657,-53.05740, -57.75164, 925, 909.8, 3.1774, 3.1763, 2.0000,34.2903,2,34.2911,2, 215.2,2,-999.0,9, -999.00,9, -999.00,9, -999.00,9,-999.0000,9,-999.0000,9, 0.0169, -999.0,9
740H20210202,SR1b_A23,100,1, 6,9007,2,20210306,0708,-53.05738, -57.75160, 925, 423.8, 4.3952, 4.3967, 2.0000,34.1257,2,-999.0000,9, 280.0,2,-999.0,9, -999.00,9, -999.00,9, -999.00,9,-999.0000,9,-999.0000,9, 0.0148, -999.0,9
740H20210202,SR1b_A23,100,1, 7,9008,2,20210306,0708,-53.05738, -57.75160, 925, 423.8, 4.3936, 4.3978, 2.0000,34.1258,2,34.1269,2, 280.0,2,-999.0,9, -999.00,9, -999.00,9, -999.00,9,-999.0000,9,-999.0000,9, 0.0122, -999.0,9
740H20210202,SR1b_A23,100,1, 8,9009,2,20210306,0712,-53.05738, -57.75160, 925, 318.0, 4.5812, 4.5892, 2.0000,34.1089,2,-999.0000,9, 290.0,2,-999.0,9, -999.00,9, -999.00,9, -999.00,9,-999.0000,9,-999.0000,9, 0.0099, -999.0,9
740H20210202,SR1b_A23,100,1,16,9017,2,20210306,0713,-53.05738, -57.75160, 925, 318.0, 4.5868, 4.5931, 2.0000,34.1092,2,34.1098,2, 289.9,2,-999.0,9, -999.00,9, -999.00,9, -999.00,9,-999.0000,9,-999.0000,9, 0.0177, -999.0,9
740H20210202,SR1b_A23,100,1,17,9018,2,20210306,0719,-53.05738, -57.75160, 925, 110.6, 5.5263, 5.5358, 2.0000,34.0790,2,-999.0000,9, 289.2,2,-999.0,9, -999.00,9, -999.00,9, -999.00,9,-999.0000,9,-999.0000,9, 0.0864, -999.0,9
740H20210202,SR1b_A23,100,1,18,9019,2,20210306,0720,-53.05738, -57.75158, 925, 110.6, 5.5322, 5.5393, 2.0000,34.0785,2,34.0771,2, 289.2,2,-999.0,9, -999.00,9, -999.00,9, -999.00,9,-999.0000,9,-999.0000,9, 0.0912, -999.0,9
740H20210202,SR1b_A23,100,1,19,9020,2,20210306,0727,-53.05738, -57.75162, 925,  15.3, 8.3610, 8.3604, 2.0000,34.0482,2,-999.0000,9, 292.7,2,-999.0,9, -999.00,9, -999.00,9, -999.00,9,-999.0000,9,-999.0000,9, 0.5322, -999.0,9
740H20210202,SR1b_A23,100,1,20,9021,2,20210306,0727,-53.05738, -57.75162, 925,  15.0, 8.3484, 8.3584, 2.0000,34.0486,2,34.0480,2, 293.0,2,-999.0,9, -999.00,9, -999.00,9, -999.00,9,-999.0000,9,-999.0000,9, 0.4925, -999.0,9