BOTTLE,20210420POGBASEPA
EXPOCODE,SECT_ID,STNNBR,CASTNO,SAMPNO,BTLNBR,BTLNBR_FLAG_W,DATE,TIME,LATITUDE,LONGITUDE,DEPTH,CTDPRS,CTDTMP,SBE35,SBE35_FLAG_W,CTDSAL,CTDSAL_FLAG_W,SALNTY,SALNTY_FLAG_W,CTDOXY,CTDOXY_FLAG_W,OXYGEN,OXYGEN_FLAG_W,SILCAT,SILCAT_FLAG_W,NO2+NO3,NO2+NO3_FLAG_W,PHSPHT,PHSPHT_FLAG_W,DELO18,DELO18_FLAG_W,D30SI_SILCAT,D30SI_SILCAT_FLAG_W,CTDFLUOR,BOTCHLA,BOTCHLA_FLAG_W
 , , , , , , , , , , ,METERS,DBAR,ITS-90,ITS-90, ,PSS-78, ,PSS-78, ,UMOL/KG, ,UMOL/KG, ,UMOL/KG, ,UMOL/KG,UMOL/KG,UMOL/KG,UMOL/KG,/MILLE,/MILLE,/MILLE,/MILLE,MG/M^3,ML/L,ML/L
740H20210202,SR1b_A23, 75,1, 1,9002,2,20210301,0929,-59.33350, -55.64188,3760,3816.4,-0.0074,-0.0070, 2.0000,34.6563,2,-999.0000,9, 233.0,2,-999.0,9, -999.00,9, -999.00,9, -999.00,9,-999.0000,9,-999.0000,9, 0.0090, -999.0,9
740H20210202,SR1b_A23, 75,1, 2,9003,2,20210301,0929,-59.33348, -55.64180,3760,3816.1,-0.0063,-0.0068, 2.0000,34.6565,2,34.6569,2, 232.9,2,-999.0,9, -999.00,9, -999.00,9, -999.00,9,-999.0000,1,-999.0000,9, 0.0141, -999.0,9
740H20210202,SR1b_A23, 75,1, 3,8149,2,20210301,0933,-59.33346, -55.64114,3760,3765.5, 0.0175, 0.0166, 2.0000,34.6576,2,-999.0000,9, 231.9,2,-999.0,9, -999.00,9, -999.00,9, -999.00,9,-999.0000,9,-999.0000,9, 0.0066, -999.0,9
740H20210202,SR1b_A23, 75,1, 4,9005,2,20210301,0934,-59.33344, -55.64104,3760,3765.7, 0.0183, 0.0172, 2.0000,34.6577,2,34.6577,2, 231.6,2, 231.5,2, -999.00,9, -999.00,9, -999.00,9,-999.0000,1,-999.0000,9, 0.0154, -999.0,9
740H20210202,SR1b_A23, 75,1, 5,9006,2,20210301,0939,-59.33344, -55.64016,3760,3567.6, 0.0737, 0.0745, 2.0000,34.6608,2,34.6610,2, 229.5,2, 229.6,2, -999.00,9, -999.00,9, -999.00,9,-999.0000,1,-999.0000,9, 0.0060, -999.0,9
740H20210202,SR1b_A23, 75,1, 6,9007,2,20210301,0948,-59.33340, -55.63868,3760,3156.6, 0.1491, 0.1486, 2.0000,34.6655,2,34.6652,2, 226.0,2, 226.5,2, -999.00,9, -999.00,9, -999.00,9,-999.0000,1,-999.0000,9, 0.0149, -999.0,9
740H20210202,SR1b_A23, 75,1, 7,9008,2,20210301,0959,-59.33335, -55.63688,3760,2643.1, 0.3921, 0.3941, 2.0000,34.6839,2,34.6845,2, 216.7,2,-999.0,9, -999.00,9, -999.00,9, -999.00,9,-999.0000,1,-999.0000,9, 0.0101, -999.0,9
740H20210202,SR1b_A23, 75,1, 8,9009,2,20210301,1007,-59.33330, -55.63568,3760,2335.4, 0.5841, 0.5867, 2.0000,34.6952,2,34.6959,2, 210.5,2, 210.6,2, -999.00,9, -999.00,9, -999.00,9,-999.0000,1,-999.0000,9, 0.0113, -999.0,9
740H20210202,SR1b_A23, 75,1, 9,9010,2,20210301,1007,-59.33332, -55.63558,3760,2335.4, 0.5851, 0.5864, 2.0000,34.6956,2,-999.0000,9, 210.6,2,-999.0,9, -999.00,9, -999.00,9, -999.00,9,-999.0000,9,-999.0000,9, 0.0126, -999.0,9
740H20210202,SR1b_A23, 75,1,10,8156,2,20210301,1019,-59.33330, -55.63398,3760,1774.4, 0.9298, 0.9305, 2.0000,34.7152,2,-999.0000,9, 201.5,2,-999.0,9, -999.00,9, -999.00,9, -999.00,9,-999.0000,9,-999.0000,9, 0.0077, -999.0,9
740H20210202,SR1b_A23, 75,1,11,9012,2,20210301,1020,-59.33326, -55.63386,3760,1774.3, 0.9304, 0.9302, 2.0000,34.7151,2,34.7153,2, 201.5,2, 201.4,2, -999.00,9, -999.00,9, -999.00,9,-999.0000,1,-999.0000,9, 0.0072, -999.0,9
740H20210202,SR1b_A23, 75,1,12,9013,2,20210301,1033,-59.33322, -55.63246,3760,1061.2, 1.3448, 1.3484, 2.0000,34.7104,2,34.7107,2, 196.4,2,-999.0,9, -999.00,9, -999.00,9, -999.00,9,-999.0000,1,-999.0000,9, 0.0166, -999.0,9
740H20210202,SR1b_A23, 75,1,13,9014,2,20210301,1041,-59.33322, -55.63166,3760, 756.1, 1.7519, 1.7525, 2.0000,34.7183,2,-999.0000,9, 184.5,2,-999.0,9, -999.00,9, -999.00,9, -999.00,9,-999.0000,9,-999.0000,9, 0.0129, -999.0,9
740H20210202,SR1b_A23, 75,1,14,9015,2,20210301,1042,-59.33318, -55.63145,3760, 756.1, 1.7514, 1.7524, 2.0000,34.7183,2,34.7179,2, 184.8,2,-999.0,9, -999.00,9, -999.00,9, -999.00,9,-999.0000,1,-999.0000,9, 0.0079, -999.0,9
740H20210202,SR1b_A23, 75,1,15,9016,2,20210301,1048,-59.33320, -55.63086,3760, 503.3, 1.9203, 1.9201, 2.0000,34.6818,2,34.6813,2, 178.6,2, 178.5,2, -999.00,9, -999.00,9, -999.00,9,-999.0000,1,-999.0000,9, 0.0077, -999.0,9
740H20210202,SR1b_A23, 75,1,16,9017,2,20210301,1053,-59.33316, -55.63032,3760, 351.0, 1.8681, 1.8690, 2.0000,34.6185,2,-999.0000,9, 180.5,2,-999.0,9, -999.00,9, -999.00,9, -999.00,9,-999.0000,9,-999.0000,9, 0.0118, -999.0,9
740H20210202,SR1b_A23, 75,1,17,9018,2,20210301,1054,-59.33316, -55.63022,3760, 351.2, 1.8678, 1.8676, 2.0000,34.6186,2,34.6175,2, 180.5,2, 180.4,2, -999.00,9, -999.00,9, -999.00,9,-999.0000,1,-999.0000,9, 0.0081, -999.0,9
740H20210202,SR1b_A23, 75,1,18,9019,2,20210301,1059,-59.33314, -55.62964,3760, 198.9, 1.0476, 1.0388, 2.0000,34.4281,2,34.4354,2, 222.9,2,-999.0,9, -999.00,9, -999.00,9, -999.00,9,-999.0000,1,-999.0000,9, 0.0157, -999.0,9
740H20210202,SR1b_A23, 75,1,19,9020,2,20210301,1103,-59.33314, -55.62926,3760, 118.3, 0.4175, 0.4161, 2.0000,34.1298,2,-999.0000,9, 298.7,2,-999.0,9, -999.00,9, -999.00,9, -999.00,9,-999.0000,9,-999.0000,9, 0.0380, -999.0,9
740H20210202,SR1b_A23, 75,1,20,9021,2,20210301,1104,-59.33313, -55.62910,3760, 118.3, 0.4142, 0.4167, 2.0000,34.1319,2,34.1300,2, 298.6,2,-999.0,9, -999.00,9, -999.00,9, -999.00,9,-999.0000,1,-999.0000,9, 0.0485, -999.0,9
740H20210202,SR1b_A23, 75,1,21,9022,2,20210301,1109,-59.33314, -55.62886,3760,  78.7, 0.7515, 0.8395, 2.0000,34.0218,2,34.0185,2, 321.3,2,-999.0,9, -999.00,9, -999.00,9, -999.00,9,-999.0000,1,-999.0000,9, 0.3148, -999.0,9
740H20210202,SR1b_A23, 75,1,22,9023,2,20210301,1114,-59.33313, -55.62884,3760,  20.5, 2.4614, 2.4623, 2.0000,33.8671,2,33.8673,2, 333.9,2, 333.9,2, -999.00,9, -999.00,9, -999.00,9,-999.0000,1,-999.0000,9, 1.1649, -999.0,9
740H20210202,SR1b_A23, 75,1,23,9024,2,20210301,1117,-59.33316, -55.62880,3760,  12.3, 2.4681, 2.4689, 2.0000,33.8658,2,-999.0000,9, 333.9,2,-999.0,9, -999.00,9, -999.00,9, -999.00,9,-999.0000,9,-999.0000,9, 0.8257, -999.0,9
740H20210202,SR1b_A23, 75,1,24,9025,2,20210301,1117,-59.33316, -55.62884,3760,  12.3, 2.4689, 2.4684, 2.0000,33.8656,2,33.8657,2, 334.1,2,-999.0,9, -999.00,9, -999.00,9, -999.00,9,-999.0000,1,-999.0000,9, 0.7798, -999.0,9
740H20210202,SR1b_A23, 76,1, 1,9002,2,20210301,1527,-59.00036, -55.84828,3773,3830.5,-0.0062,-0.0058, 2.0000,34.6563,2,-999.0000,9, 233.3,2,-999.0,9, -999.00,9, -999.00,9, -999.00,9,-999.0000,9,-999.0000,9, 0.0103, -999.0,9
740H20210202,SR1b_A23, 76,1, 2,9003,2,20210301,1529,-59.00036, -55.84816,3773,3830.6,-0.0061,-0.0063, 2.0000,34.6564,2,34.6566,2, 233.0,2,-999.0,9, -999.00,9, -999.00,9, -999.00,9,-999.0000,1,-999.0000,9, 0.0139, -999.0,9
740H20210202,SR1b_A23, 76,1, 3,8149,2,20210301,1531,-59.00036, -55.84788,3773,3795.7,-0.0031,-0.0016, 2.0000,34.6566,2,-999.0000,9, 233.1,2,-999.0,9, -999.00,9, -999.00,9, -999.00,9,-999.0000,9,-999.0000,9, 0.0173, -999.0,9
740H20210202,SR1b_A23, 76,1, 4,9005,2,20210301,1533,-59.00036, -55.84772,3773,3795.7,-0.0022,-0.0019, 2.0000,34.6567,2,34.6565,2, 232.7,2,-999.0,9, -999.00,9, -999.00,9, -999.00,9,-999.0000,1,-999.0000,9, 0.0079, -999.0,9
740H20210202,SR1b_A23, 76,1, 5,9006,2,20210301,1538,-59.00036, -55.84718,3773,3569.4, 0.0723, 0.0725, 2.0000,34.6609,2,-999.0000,9, 229.4,2,-999.0,9, -999.00,9, -999.00,9, -999.00,9,-999.0000,9,-999.0000,9, 0.0185, -999.0,9
740H20210202,SR1b_A23, 76,1, 6,9007,2,20210301,1539,-59.00034, -55.84698,3773,3569.3, 0.0722, 0.0724, 2.0000,34.6608,2,34.6610,2, 229.4,2,-999.0,9, -999.00,9, -999.00,9, -999.00,9,-999.0000,1,-999.0000,9, 0.0136, -999.0,9
740H20210202,SR1b_A23, 76,1, 7,9008,2,20210301,1546,-59.00036, -55.84630,3773,3261.3, 0.1605, 0.1611, 2.0000,34.6651,2,-999.0000,9, 225.8,2,-999.0,9, -999.00,9, -999.00,9, -999.00,9,-999.0000,1,-999.0000,9, 0.0083, -999.0,9
740H20210202,SR1b_A23, 76,1, 8,9009,2,20210301,1547,-59.00032, -55.84610,3773,3261.8, 0.1607, 0.1609, 2.0000,34.6652,2,34.6646,2, 225.9,2,-999.0,9, -999.00,9, -999.00,9, -999.00,9,-999.0000,1,-999.0000,9, 0.0104, -999.0,9
740H20210202,SR1b_A23, 76,1, 9,9010,2,20210301,1556,-59.00036, -55.84529,3773,2850.5, 0.3324, 0.3318, 2.0000,34.6754,2,34.6743,2, 219.5,2,-999.0,9, -999.00,9, -999.00,9, -999.00,9,-999.0000,9,-999.0000,9, 0.0119, -999.0,9
740H20210202,SR1b_A23, 76,1,10,8156,2,20210301,1557,-59.00036, -55.84519,3773,2850.2, 0.3343, 0.3373, 2.0000,34.6756,2,-999.0000,9, 219.6,2,-999.0,9, -999.00,9, -999.00,9, -999.00,9,-999.0000,9,-999.0000,9, 0.0117, -999.0,9
740H20210202,SR1b_A23, 76,1,11,9012,2,20210301,1610,-59.00036, -55.84376,3773,2185.0, 0.6648, 0.6648, 2.0000,34.6887,2,-999.0000,9, 210.9,2,-999.0,9, -999.00,9, -999.00,9, -999.00,9,-999.0000,9,-999.0000,9, 0.0126, -999.0,9
740H20210202,SR1b_A23, 76,1,12,9013,2,20210301,1611,-59.00032, -55.84360,3773,2185.2, 0.6644, 0.6650, 2.0000,34.6886,2,34.6889,2, 210.9,2,-999.0,9, -999.00,9, -999.00,9, -999.00,9,-999.0000,1,-999.0000,9, 0.0110, -999.0,9
740H20210202,SR1b_A23, 76,1,13,9014,2,20210301,1618,-59.00034, -55.84292,3773,1929.7, 0.9156, 0.9206, 2.0000,34.7099,2,-999.0000,9, 202.5,2,-999.0,9, -999.00,9, -999.00,9, -999.00,9,-999.0000,9,-999.0000,9, 0.0160, -999.0,9
740H20210202,SR1b_A23, 76,1,14,9015,2,20210301,1619,-59.00036, -55.84280,3773,1929.8, 0.9176, 0.9192, 2.0000,34.7097,2,34.7099,2, 202.7,2,-999.0,9, -999.00,9, -999.00,9, -999.00,9,-999.0000,1,-999.0000,9, 0.0131, -999.0,9
740H20210202,SR1b_A23, 76,1,15,9016,2,20210301,1632,-59.00032, -55.84143,3773,1216.4, 1.4307, 1.4325, 2.0000,34.7192,2,-999.0000,9, 192.0,2,-999.0,9, -999.00,9, -999.00,9, -999.00,9,-999.0000,9,-999.0000,9, 0.0118, -999.0,9
740H20210202,SR1b_A23, 76,1,16,9017,2,20210301,1633,-59.00032, -55.84128,3773,1216.7, 1.4332, 1.4331, 2.0000,34.7191,2,34.7190,2, 192.2,2,-999.0,9, -999.00,9, -999.00,9, -999.00,9,-999.0000,1,-999.0000,9, 0.0112, -999.0,9
740H20210202,SR1b_A23, 76,1,17,9018,2,20210301,1648,-59.00032, -55.83968,3773, 404.7, 2.0479, 2.0483, 2.0000,34.6232,2,-999.0000,9, 175.7,2,-999.0,9, -999.00,9, -999.00,9, -999.00,9,-999.0000,9,-999.0000,9, 0.0202, -999.0,9
740H20210202,SR1b_A23, 76,1,18,9019,2,20210301,1649,-59.00032, -55.83963,3773, 404.9, 2.0479, 2.0477, 2.0000,34.6232,2,34.6234,2, 175.6,2,-999.0,9, -999.00,9, -999.00,9, -999.00,9,-999.0000,1,-999.0000,9, 0.0253, -999.0,9
740H20210202,SR1b_A23, 76,1,19,9020,2,20210301,1651,-59.00030, -55.83934,3773, 354.2, 1.9357, 1.9337, 2.0000,34.5800,2,-999.0000,9, 179.4,2,-999.0,9, -999.00,9, -999.00,9, -999.00,9,-999.0000,9,-999.0000,9, 0.0207, -999.0,9
740H20210202,SR1b_A23, 76,1,20,9021,2,20210301,1653,-59.00031, -55.83913,3773, 354.3, 1.9347, 1.9329, 2.0000,34.5792,2,34.5793,2, 179.4,2,-999.0,9, -999.00,9, -999.00,9, -999.00,9,-999.0000,1,-999.0000,9, 0.0185, -999.0,9
740H20210202,SR1b_A23, 76,1,21,9022,2,20210301,1659,-59.00032, -55.83858,3773, 101.5,-0.0336,-0.0329, 2.0000,34.0205,2,-999.0000,9, 309.3,2,-999.0,9, -999.00,9, -999.00,9, -999.00,9,-999.0000,9,-999.0000,9, 0.1585, -999.0,9
740H20210202,SR1b_A23, 76,1,22,9023,2,20210301,1700,-59.00032, -55.83843,3773, 101.7,-0.0300,-0.0318, 2.0000,34.0213,2,34.0320,2, 309.9,2,-999.0,9, -999.00,9, -999.00,9, -999.00,9,-999.0000,1,-999.0000,9, 0.1498, -999.0,9
740H20210202,SR1b_A23, 76,1,23,9024,2,20210301,1705,-59.00028, -55.83790,3773,  24.4, 3.5154, 3.5163, 2.0000,33.8079,2,-999.0000,9, 325.3,2,-999.0,9, -999.00,9, -999.00,9, -999.00,9,-999.0000,9,-999.0000,9, 0.9786, -999.0,9
740H20210202,SR1b_A23, 76,1,24,9025,2,20210301,1705,-59.00028, -55.83780,3773,  24.2, 3.5157, 3.5170, 2.0000,33.8082,2,33.8077,2, 325.5,2,-999.0,9, -999.00,9, -999.00,9, -999.00,9,-999.0000,1,-999.0000,9, 0.8186, -999.0,9
740H20210202,SR1b_A23, 77,1, 1,9002,2,20210301,2059,-58.68503, -56.05303,3751,3808.2,-0.0367,-0.0368, 2.0000,34.6553,2,-999.0000,9, 234.0,2,-999.0,9, -999.00,9, -999.00,9, -999.00,9,-999.0000,9,-999.0000,9, 0.0119, -999.0,9
740H20210202,SR1b_A23, 77,1, 2,9003,2,20210301,2100,-58.68502, -56.05308,3751,3808.3,-0.0370,-0.0369, 2.0000,34.6553,2,34.6547,2, 233.9,2, 234.0,2, -999.00,9, -999.00,9, -999.00,9,-999.0000,1,-999.0000,9, 0.0076, -999.0,9
740H20210202,SR1b_A23, 77,1, 3,8149,2,20210301,2103,-58.68504, -56.05308,3751,3756.6, 0.0210, 0.0254, 2.0000,34.6579,2,-999.0000,9, 231.9,2,-999.0,9, -999.00,9, -999.00,9, -999.00,9,-999.0000,9,-999.0000,9, 0.0071, -999.0,9
740H20210202,SR1b_A23, 77,1, 4,9005,2,20210301,2104,-58.68502, -56.05308,3751,3756.9, 0.0244, 0.0259, 2.0000,34.6580,2,34.6578,2, 231.7,2,-999.0,9, -999.00,9, -999.00,9, -999.00,9,-999.0000,1,-999.0000,9, 0.0090, -999.0,9
740H20210202,SR1b_A23, 77,1, 5,9006,2,20210301,2119,-58.68502, -56.05304,3751,3006.1, 0.2665, 0.2665, 2.0000,34.6718,2,34.6717,2, 222.1,2, 222.4,2, -999.00,9, -999.00,9, -999.00,9,-999.0000,1,-999.0000,9, 0.0072, -999.0,9
740H20210202,SR1b_A23, 77,1, 6,9007,2,20210301,2133,-58.68502, -56.05310,3751,2287.8, 0.7160, 0.7162, 2.0000,34.6993,2,-999.0000,9, 208.1,2,-999.0,9, -999.00,9, -999.00,9, -999.00,9,-999.0000,9,-999.0000,9, 0.0082, -999.0,9
740H20210202,SR1b_A23, 77,1, 7,9008,2,20210301,2133,-58.68502, -56.05306,3751,2287.8, 0.7161, 0.7162, 2.0000,34.6994,2,34.6999,2, 208.0,2, 207.7,2, -999.00,9, -999.00,9, -999.00,9,-999.0000,1,-999.0000,9, 0.0131, -999.0,9
740H20210202,SR1b_A23, 77,1, 8,9009,2,20210301,2149,-58.68502, -56.05305,3751,1472.3, 1.2602, 1.2622, 2.0000,34.7212,2,34.7210,2, 195.7,2,-999.0,9, -999.00,9, -999.00,9, -999.00,9,-999.0000,1,-999.0000,9, 0.0069, -999.0,9
740H20210202,SR1b_A23, 77,1, 9,9010,2,20210301,2149,-58.68502, -56.05308,3751,1472.2, 1.2612, 1.2618, 2.0000,34.7213,2,-999.0000,9, 195.6,2,-999.0,9, -999.00,9, -999.00,9, -999.00,9,-999.0000,9,-999.0000,9, 0.0012, -999.0,9
740H20210202,SR1b_A23, 77,1,10,8156,2,20210301,2200,-58.68503, -56.05308,3751, 963.2, 1.7150, 1.7153, 2.0000,34.7202,2,-999.0000,9, 185.7,2,-999.0,9, -999.00,9, -999.00,9, -999.00,9,-999.0000,9,-999.0000,9, 0.0096, -999.0,9
740H20210202,SR1b_A23, 77,1,11,9012,2,20210301,2200,-58.68504, -56.05309,3751, 963.4, 1.7148, 1.7130, 2.0000,34.7201,2,34.7197,2, 185.6,2, 185.3,2, -999.00,9, -999.00,9, -999.00,9,-999.0000,1,-999.0000,9, 0.0048, -999.0,9
740H20210202,SR1b_A23, 77,1,12,9013,2,20210301,2207,-58.68502, -56.05304,3751, 659.3, 1.9851, 1.9849, 2.0000,34.6960,2,34.6960,2, 178.6,2,-999.0,9, -999.00,9, -999.00,9, -999.00,9,-999.0000,1,-999.0000,9, 0.0154, -999.0,9
740H20210202,SR1b_A23, 77,1,13,9014,2,20210301,2213,-58.68504, -56.05306,3751, 456.6, 2.0941, 2.0951, 2.0000,34.6426,2,-999.0000,9, 174.4,2,-999.0,9, -999.00,9, -999.00,9, -999.00,9,-999.0000,9,-999.0000,9, 0.0174, -999.0,9
740H20210202,SR1b_A23, 77,1,14,9015,2,20210301,2213,-58.68502, -56.05306,3751, 456.7, 2.0932, 2.0945, 2.0000,34.6432,2,34.6425,2, 174.4,2, 174.1,2, -999.00,9, -999.00,9, -999.00,9,-999.0000,1,-999.0000,9, 0.0122, -999.0,9
740H20210202,SR1b_A23, 77,1,15,9016,2,20210301,2220,-58.68502, -56.05308,3751, 202.8, 1.3927, 1.3848, 2.0000,34.3674,2,34.3669,2, 216.8,2, 217.2,2, -999.00,9, -999.00,9, -999.00,9,-999.0000,1,-999.0000,9, 0.0244, -999.0,9
740H20210202,SR1b_A23, 77,1,16,9017,2,20210301,2223,-58.68502, -56.05306,3751, 111.7, 0.0287, 0.0260, 2.0000,33.9745,2,-999.0000,9, 320.6,2,-999.0,9, -999.00,9, -999.00,9, -999.00,9,-999.0000,9,-999.0000,9, 0.0991, -999.0,9
740H20210202,SR1b_A23, 77,1,17,9018,2,20210301,2224,-58.68502, -56.05308,3751, 111.9, 0.0297, 0.0232, 2.0000,33.9743,2,33.9822,2, 320.7,2, 319.3,2, -999.00,9, -999.00,9, -999.00,9,-999.0000,1,-999.0000,9, 0.1077, -999.0,9
740H20210202,SR1b_A23, 77,1,18,9019,2,20210301,2228,-58.68502, -56.05306,3751,  83.0, 0.9022, 0.9277, 2.0000,33.8933,2,33.8927,2, 332.4,2,-999.0,9, -999.00,9, -999.00,9, -999.00,9,-999.0000,1,-999.0000,9, 0.2305, -999.0,9
740H20210202,SR1b_A23, 77,1,19,9020,2,20210301,2231,-58.68500, -56.05302,3751,  52.4, 3.2874, 3.2959, 2.0000,33.8126,2,-999.0000,9, 328.2,2,-999.0,9, -999.00,9, -999.00,9, -999.00,9,-999.0000,9,-999.0000,9, 1.4056, -999.0,9
740H20210202,SR1b_A23, 77,1,20,9021,2,20210301,2231,-58.68502, -56.05306,3751,  51.9, 3.2916, 3.3071, 2.0000,33.8113,2,33.8114,2, 328.6,2,-999.0,9, -999.00,9, -999.00,9, -999.00,9,-999.0000,1,-999.0000,9, 1.3447, -999.0,9
740H20210202,SR1b_A23, 77,1,21,9022,2,20210301,2235,-58.68500, -56.05302,3751,  22.3, 3.3398, 3.3359, 2.0000,33.8114,2,-999.0000,9, 329.6,2,-999.0,9, -999.00,9, -999.00,9, -999.00,9,-999.0000,9,-999.0000,9, 1.6684, -999.0,9
740H20210202,SR1b_A23, 77,1,22,9023,2,20210301,2236,-58.68502, -56.05308,3751,  22.3, 3.3361, 3.3442, 2.0000,33.8114,2,33.8108,2, 329.3,2, 329.9,2, -999.00,9, -999.00,9, -999.00,9,-999.0000,1,-999.0000,9, 1.3162, -999.0,9
740H20210202,SR1b_A23, 77,1,23,9024,2,20210301,2239,-58.68500, -56.05308,3751,  11.1, 3.3365, 3.3361, 2.0000,33.8117,2,-999.0000,9, 329.5,2,-999.0,9, -999.00,9, -999.00,9, -999.00,9,-999.0000,9,-999.0000,9, 1.3146, -999.0,9
740H20210202,SR1b_A23, 77,1,24,9025,2,20210301,2239,-58.68500, -56.05306,3751,  11.4, 3.3364, 3.3355, 2.0000,33.8115,2,33.8113,2, 329.5,2,-999.0,9, -999.00,9, -999.00,9, -999.00,9,-999.0000,1,-999.0000,9, 1.3931, -999.0,9