BOTTLE,20210420POGBASEPA
EXPOCODE,SECT_ID,STNNBR,CASTNO,SAMPNO,BTLNBR,BTLNBR_FLAG_W,DATE,TIME,LATITUDE,LONGITUDE,DEPTH,CTDPRS,CTDTMP,SBE35,SBE35_FLAG_W,CTDSAL,CTDSAL_FLAG_W,SALNTY,SALNTY_FLAG_W,CTDOXY,CTDOXY_FLAG_W,OXYGEN,OXYGEN_FLAG_W,SILCAT,SILCAT_FLAG_W,NO2+NO3,NO2+NO3_FLAG_W,PHSPHT,PHSPHT_FLAG_W,DELO18,DELO18_FLAG_W,D30SI_SILCAT,D30SI_SILCAT_FLAG_W,CTDFLUOR,BOTCHLA,BOTCHLA_FLAG_W
 , , , , , , , , , , ,METERS,DBAR,ITS-90,ITS-90, ,PSS-78, ,PSS-78, ,UMOL/KG, ,UMOL/KG, ,UMOL/KG, ,UMOL/KG,UMOL/KG,UMOL/KG,UMOL/KG,/MILLE,/MILLE,/MILLE,/MILLE,MG/M^3,ML/L,ML/L
740H20210202,SR1b_A23, 59,1, 1,9002,2,20210222,0116,-61.66208, -31.10383,3325,3369.7,-0.4338,-0.4357, 2.0000,34.6401,2,-999.0000,9, 250.4,2,-999.0,9, -999.00,9, -999.00,9, -999.00,9,-999.0000,9,-999.0000,9, 0.0065, -999.0,9
740H20210202,SR1b_A23, 59,1, 2,9003,2,20210222,0116,-61.66208, -31.10380,3325,3369.6,-0.4347,-0.4374, 2.0000,34.6401,2,34.6405,2, 250.5,2, 250.3,4, -999.00,9, -999.00,9, -999.00,9,-999.0000,9,-999.0000,9, 0.0120, -999.0,9
740H20210202,SR1b_A23, 59,1, 6,9007,2,20210222,0149,-61.66088, -31.10513,3325,1520.5, 0.0961, 0.0982, 2.0000,34.6706,2,-999.0000,9, 218.8,2,-999.0,9, -999.00,9, -999.00,9, -999.00,9,-999.0000,9,-999.0000,9, 0.0114, -999.0,9
740H20210202,SR1b_A23, 59,1, 7,9008,2,20210222,0149,-61.66084, -31.10514,3325,1520.5, 0.0971, 0.1000, 2.0000,34.6706,2,34.6706,2, 218.8,2, 216.4,4, -999.00,9, -999.00,9, -999.00,9,-999.0000,9,-999.0000,9, 0.0147, -999.0,9
740H20210202,SR1b_A23, 59,1,11,9012,2,20210222,0206,-61.66024, -31.10572,3325, 656.7, 0.4047, 0.4048, 2.0000,34.6815,2,-999.0000,9, 203.1,2,-999.0,9, -999.00,9, -999.00,9, -999.00,9,-999.0000,9,-999.0000,9, 0.0123, -999.0,9
740H20210202,SR1b_A23, 59,1,12,9013,2,20210222,0206,-61.66020, -31.10576,3325, 656.6, 0.4047, 0.4048, 2.0000,34.6814,2,34.6813,2, 202.9,2, 201.2,4, -999.00,9, -999.00,9, -999.00,9,-999.0000,9,-999.0000,9, 0.0193, -999.0,9
740H20210202,SR1b_A23, 59,1,16,9017,2,20210222,0218,-61.65981, -31.10619,3325, 100.6,-1.2155,-1.2246, 2.0000,34.4067,2,-999.0000,9, 277.4,2,-999.0,9, -999.00,9, -999.00,9, -999.00,9,-999.0000,9,-999.0000,9, 0.0965, -999.0,9
740H20210202,SR1b_A23, 59,1,17,9018,2,20210222,0218,-61.65980, -31.10622,3325, 100.7,-1.2162,-1.2359, 2.0000,34.4083,2,34.4250,2, 277.4,2, 272.4,4, -999.00,9, -999.00,9, -999.00,9,-999.0000,9,-999.0000,9, 0.1182, -999.0,9
740H20210202,SR1b_A23, 59,1,21,9022,2,20210222,0224,-61.65970, -31.10634,3325,  25.0, 0.1711, 0.1720, 2.0000,33.5031,2,-999.0000,9, 357.6,2,-999.0,9, -999.00,9, -999.00,9, -999.00,9,-999.0000,9,-999.0000,9, 2.9908, -999.0,9
740H20210202,SR1b_A23, 59,1,22,9023,2,20210222,0225,-61.65970, -31.10631,3325,  25.2, 0.1708, 0.1717, 2.0000,33.5030,2,33.5032,2, 357.4,2, 355.2,4, -999.00,9, -999.00,9, -999.00,9,-999.0000,9,-999.0000,9, 3.1382, -999.0,9
740H20210202,SR1b_A23, 60,1, 1,9002,2,20210222,0808,-62.07174, -31.18086,4851,4941.0,-0.3119,-0.3122, 2.0000,34.6426,2,-999.0000,9, 251.3,2,-999.0,9, -999.00,9, -999.00,9, -999.00,9,-999.0000,9,-999.0000,9, 0.0091, -999.0,9
740H20210202,SR1b_A23, 60,1, 2,9003,2,20210222,0808,-62.07174, -31.18088,4851,4940.7,-0.3119,-0.3122, 2.0000,34.6426,2,34.6420,2, 251.5,2,-999.0,9, -999.00,9, -999.00,9, -999.00,9,-999.0000,1,-999.0000,9, 0.0114, -999.0,9
740H20210202,SR1b_A23, 60,1, 3,8149,2,20210222,0817,-62.07174, -31.18073,4851,4598.7,-0.3553,-0.3552, 2.0000,34.6397,2,-999.0000,9, 252.3,2,-999.0,9, -999.00,9, -999.00,9, -999.00,9,-999.0000,9,-999.0000,9, 0.0141, -999.0,9
740H20210202,SR1b_A23, 60,1, 4,9005,2,20210222,0817,-62.07176, -31.18062,4851,4598.5,-0.3551,-0.3552, 2.0000,34.6397,2,34.6398,2, 251.8,2,-999.0,9, -999.00,9, -999.00,9, -999.00,9,-999.0000,1,-999.0000,9, 0.0095, -999.0,9
740H20210202,SR1b_A23, 60,1, 5,9006,2,20210222,0828,-62.07172, -31.18172,4851,4079.4,-0.3914,-0.3912, 2.0000,34.6405,2,34.6403,2, 251.3,2,-999.0,9, -999.00,9, -999.00,9, -999.00,9,-999.0000,1,-999.0000,9, 0.0105, -999.0,9
740H20210202,SR1b_A23, 60,1, 6,9007,2,20210222,0839,-62.07166, -31.18266,4851,3562.8,-0.3906,-0.3903, 2.0000,34.6434,2,34.6434,2, 248.1,2,-999.0,9, -999.00,9, -999.00,9, -999.00,9,-999.0000,1,-999.0000,9, 0.0108, -999.0,9
740H20210202,SR1b_A23, 60,1, 7,9008,2,20210222,0850,-62.07166, -31.18332,4851,3048.2,-0.3203,-0.3199, 2.0000,34.6497,2,34.6499,2, 242.3,2,-999.0,9, -999.00,9, -999.00,9, -999.00,9,-999.0000,1,-999.0000,9, 0.0155, -999.0,9
740H20210202,SR1b_A23, 60,1, 8,9009,2,20210222,0901,-62.07162, -31.18396,4851,2534.2,-0.1989,-0.1982, 2.0000,34.6580,2,34.6581,2, 234.1,2,-999.0,9, -999.00,9, -999.00,9, -999.00,9,-999.0000,1,-999.0000,9, 0.0093, -999.0,9
740H20210202,SR1b_A23, 60,1, 9,9010,2,20210222,0901,-62.07163, -31.18396,4851,2534.0,-0.1987,-0.1983, 2.0000,34.6581,2,-999.0000,9, 234.0,2,-999.0,9, -999.00,9, -999.00,9, -999.00,9,-999.0000,9,-999.0000,9, 0.0104, -999.0,9
740H20210202,SR1b_A23, 60,1,10,8156,4,20210222,0912,-62.07160, -31.18466,4851,2022.8,-0.0885,-0.0880, 2.0000,34.6631,2,-999.0000,9, 227.4,2,-999.0,9, -999.00,9, -999.00,9, -999.00,9,-999.0000,9,-999.0000,9, 0.0142, -999.0,9
740H20210202,SR1b_A23, 60,1,11,9012,2,20210222,0913,-62.07162, -31.18464,4851,2022.8,-0.0884,-0.0881, 2.0000,34.6630,2,34.6629,2, 227.2,2,-999.0,9, -999.00,9, -999.00,9, -999.00,9,-999.0000,1,-999.0000,9, 0.0097, -999.0,9
740H20210202,SR1b_A23, 60,1,12,9013,2,20210222,0924,-62.07160, -31.18528,4851,1513.2, 0.0836, 0.0829, 2.0000,34.6712,2,34.6713,2, 216.8,2,-999.0,9, -999.00,9, -999.00,9, -999.00,9,-999.0000,1,-999.0000,9, 0.0123, -999.0,9
740H20210202,SR1b_A23, 60,1,13,9014,2,20210222,0934,-62.07158, -31.18586,4851,1004.9, 0.2738, 0.2737, 2.0000,34.6790,2,34.6786,2, 208.4,2,-999.0,9, -999.00,9, -999.00,9, -999.00,9,-999.0000,1,-999.0000,9, 0.0179, -999.0,9
740H20210202,SR1b_A23, 60,1,14,9015,2,20210222,0941,-62.07158, -31.18624,4851, 751.5, 0.3977, 0.3976, 2.0000,34.6843,2,34.6846,2, 201.3,2,-999.0,9, -999.00,9, -999.00,9, -999.00,9,-999.0000,1,-999.0000,9, 0.0188, -999.0,9
740H20210202,SR1b_A23, 60,1,15,9016,2,20210222,0948,-62.07158, -31.18672,4851, 498.0, 0.4368, 0.4378, 2.0000,34.6806,2,34.6808,2, 198.3,2,-999.0,9, -999.00,9, -999.00,9, -999.00,9,-999.0000,1,-999.0000,9, 0.0193, -999.0,9
740H20210202,SR1b_A23, 60,1,16,9017,2,20210222,0954,-62.07156, -31.18704,4851, 353.8, 0.3639, 0.3640, 2.0000,34.6715,2,34.6721,2, 203.1,2,-999.0,9, -999.00,9, -999.00,9, -999.00,9,-999.0000,1,-999.0000,9, 0.0210, -999.0,9
740H20210202,SR1b_A23, 60,1,17,9018,2,20210222,0958,-62.07156, -31.18731,4851, 227.2, 0.3317, 0.3341, 2.0000,34.6647,2,34.6656,2, 206.0,2,-999.0,9, -999.00,9, -999.00,9, -999.00,9,-999.0000,1,-999.0000,9, 0.0317, -999.0,9
740H20210202,SR1b_A23, 60,1,18,9019,2,20210222,1001,-62.07154, -31.18758,4851, 151.0, 0.0613, 0.0564, 2.0000,34.6332,2,34.6371,2, 217.8,2,-999.0,9, -999.00,9, -999.00,9, -999.00,9,-999.0000,1,-999.0000,9, 0.0311, -999.0,9
740H20210202,SR1b_A23, 60,1,19,9020,2,20210222,1004,-62.07154, -31.18768,4851, 100.5,-1.0638,-1.0782, 2.0000,34.4442,2,34.4724,2, 268.6,2,-999.0,9, -999.00,9, -999.00,9, -999.00,9,-999.0000,1,-999.0000,9, 0.0735, -999.0,9
740H20210202,SR1b_A23, 60,1,20,9021,2,20210222,1004,-62.07154, -31.18769,4851, 100.5,-1.0908,-1.0905, 2.0000,34.4334,2,-999.0000,9, 270.2,2,-999.0,9, -999.00,9, -999.00,9, -999.00,9,-999.0000,9,-999.0000,9, 0.0613, -999.0,9
740H20210202,SR1b_A23, 60,1,21,9022,2,20210222,1013,-62.07152, -31.18820,4851,  50.2,-1.2914,-1.1476, 2.0000,34.0109,2,34.0418,2, 329.2,2,-999.0,9, -999.00,9, -999.00,9, -999.00,9,-999.0000,1,-999.0000,9, 0.7185, -999.0,9
740H20210202,SR1b_A23, 60,1,22,9023,2,20210222,1018,-62.07152, -31.18848,4851,  20.5, 0.0035, 0.0053, 2.0000,33.6698,2,33.6718,2, 354.1,2,-999.0,9, -999.00,9, -999.00,9, -999.00,9,-999.0000,1,-999.0000,9, 2.4483, -999.0,9
740H20210202,SR1b_A23, 60,1,23,9024,2,20210222,1021,-62.07152, -31.18862,4851,  10.2, 0.0102, 0.0265, 2.0000,33.6698,2,33.6719,2, 354.2,2,-999.0,9, -999.00,9, -999.00,9, -999.00,9,-999.0000,1,-999.0000,9, 1.3681, -999.0,9
740H20210202,SR1b_A23, 60,1,24,9025,2,20210222,1021,-62.07152, -31.18871,4851,  10.0, 0.0152, 0.0058, 2.0000,33.6696,2,-999.0000,9, 354.1,2,-999.0,9, -999.00,9, -999.00,9, -999.00,9,-999.0000,9,-999.0000,9, 1.5929, -999.0,9
740H20210202,SR1b_A23, 62,1, 1,9002,2,20210223,1414,-62.49003, -31.26104,4767,4853.6,-0.3794,-0.3796, 2.0000,34.6372,2,-999.0000,9, 254.4,2,-999.0,9, -999.00,9, -999.00,9, -999.00,9,-999.0000,9,-999.0000,9, 0.0137, -999.0,9
740H20210202,SR1b_A23, 62,1, 2,9003,2,20210223,1414,-62.49004, -31.26098,4767,4853.7,-0.3794,-0.3795, 2.0000,34.6371,2,34.6371,2, 254.4,2, 253.5,3, -999.00,9, -999.00,9, -999.00,9,-999.0000,9,-999.0000,9, 0.0095, -999.0,9
740H20210202,SR1b_A23, 62,1, 3,8149,2,20210223,1428,-62.49008, -31.26124,4767,4187.6,-0.4108,-0.4103, 2.0000,34.6405,2,-999.0000,9, 251.9,2,-999.0,9, -999.00,9, -999.00,9, -999.00,9,-999.0000,9,-999.0000,9, 0.0132, -999.0,9
740H20210202,SR1b_A23, 62,1, 4,9005,2,20210223,1429,-62.49007, -31.26122,4767,4187.4,-0.4107,-0.4103, 2.0000,34.6405,2,-999.0000,9, 252.1,2, 251.4,2, -999.00,9, -999.00,9, -999.00,9,-999.0000,9,-999.0000,9, 0.0124, -999.0,9
740H20210202,SR1b_A23, 62,1, 5,9006,2,20210223,1438,-62.49008, -31.26119,4767,3722.7,-0.3952,-0.3941, 2.0000,34.6436,2,-999.0000,9, 248.6,2,-999.0,9, -999.00,9, -999.00,9, -999.00,9,-999.0000,9,-999.0000,9, 0.0139, -999.0,9
740H20210202,SR1b_A23, 62,1, 6,9007,2,20210223,1440,-62.49008, -31.26126,4767,3723.0,-0.3953,-0.3947, 2.0000,34.6436,2,34.6434,2, 248.5,2, 248.5,2, -999.00,9, -999.00,9, -999.00,9,-999.0000,9,-999.0000,9, 0.0128, -999.0,9
740H20210202,SR1b_A23, 62,1, 7,9008,2,20210223,1456,-62.49008, -31.26120,4767,2900.1,-0.2507,-0.2502, 2.0000,34.6561,2,-999.0000,9, 237.5,2,-999.0,9, -999.00,9, -999.00,9, -999.00,9,-999.0000,9,-999.0000,9, 0.0054, -999.0,9
740H20210202,SR1b_A23, 62,1, 8,9009,2,20210223,1457,-62.49010, -31.26124,4767,2900.4,-0.2503,-0.2501, 2.0000,34.6560,2,-999.0000,9, 237.5,2, 237.7,2, -999.00,9, -999.00,9, -999.00,9,-999.0000,9,-999.0000,9, 0.0211, -999.0,9
740H20210202,SR1b_A23, 62,1,13,9014,2,20210223,1527,-62.49008, -31.26122,4767,1213.6, 0.1786, 0.1786, 2.0000,34.6758,2,-999.0000,9, 211.0,2,-999.0,9, -999.00,9, -999.00,9, -999.00,9,-999.0000,9,-999.0000,9, 0.0201, -999.0,9
740H20210202,SR1b_A23, 62,1,14,9015,2,20210223,1528,-62.49006, -31.26123,4767,1213.9, 0.1777, 0.1785, 2.0000,34.6756,2,-999.0000,9, 211.0,2, 210.6,2, -999.00,9, -999.00,9, -999.00,9,-999.0000,9,-999.0000,9, 0.0068, -999.0,9
740H20210202,SR1b_A23, 62,1,15,9016,2,20210223,1540,-62.49008, -31.26126,4767, 604.3, 0.4231, 0.4231, 2.0000,34.6850,2,-999.0000,9, 198.7,2,-999.0,9, -999.00,9, -999.00,9, -999.00,9,-999.0000,9,-999.0000,9, 0.0228, -999.0,9
740H20210202,SR1b_A23, 62,1,16,9017,2,20210223,1541,-62.49006, -31.26124,4767, 604.3, 0.4229, 0.4236, 2.0000,34.6850,2,-999.0000,9, 198.9,2, 198.2,2, -999.00,9, -999.00,9, -999.00,9,-999.0000,9,-999.0000,9, 0.0256, -999.0,9
740H20210202,SR1b_A23, 62,1,17,9018,2,20210223,1545,-62.49008, -31.26120,4767, 503.3, 0.4645, 0.4649, 2.0000,34.6860,2,-999.0000,9, 195.9,2,-999.0,9, -999.00,9, -999.00,9, -999.00,9,-999.0000,9,-999.0000,9, 0.0102, -999.0,9
740H20210202,SR1b_A23, 62,1,18,9019,2,20210223,1547,-62.49008, -31.26121,4767, 503.2, 0.4648, 0.4648, 2.0000,34.6860,2,34.6862,2, 196.0,2, 195.7,2, -999.00,9, -999.00,9, -999.00,9,-999.0000,9,-999.0000,9, 0.0248, -999.0,9
740H20210202,SR1b_A23, 62,1,19,9020,2,20210223,1559,-62.49008, -31.26122,4767,  21.5,-0.0010,-0.0004, 2.0000,33.7833,2,-999.0000,9, 348.8,2,-999.0,9, -999.00,9, -999.00,9, -999.00,9,-999.0000,9,-999.0000,9, 2.1365, -999.0,9
740H20210202,SR1b_A23, 62,1,20,9021,2,20210223,1600,-62.49008, -31.26118,4767,  21.3, 0.0068, 0.0075, 2.0000,33.7830,2,33.7841,2, 349.0,2, 348.4,2, -999.00,9, -999.00,9, -999.00,9,-999.0000,9,-999.0000,9, 2.0278, -999.0,9
740H20210202,SR1b_A23, 63,1, 1,9002,2,20210223,2019,-62.78284, -30.69146,4833,4920.3,-0.4067,-0.4065, 2.0000,34.6360,2,-999.0000,9, 255.6,2,-999.0,9, -999.00,9, -999.00,9, -999.00,9,-999.0000,9,-999.0000,9, 0.0187, -999.0,9
740H20210202,SR1b_A23, 63,1, 2,9003,2,20210223,2020,-62.78282, -30.69140,4833,4920.6,-0.4066,-0.4067, 2.0000,34.6359,2,34.6362,2, 255.3,2, 255.0,2, -999.00,9, -999.00,9, -999.00,9,-999.0000,1,-999.0000,9, 0.0129, -999.0,9
740H20210202,SR1b_A23, 63,1, 3,8149,2,20210223,2029,-62.78282, -30.69146,4833,4604.0,-0.4258,-0.4258, 2.0000,34.6370,2,-999.0000,9, 254.7,2,-999.0,9, -999.00,9, -999.00,9, -999.00,9,-999.0000,9,-999.0000,9, 0.0129, -999.0,9
740H20210202,SR1b_A23, 63,1, 4,9005,2,20210223,2030,-62.78280, -30.69142,4833,4604.3,-0.4259,-0.4259, 2.0000,34.6370,2,34.6372,2, 255.0,2,-999.0,9, -999.00,9, -999.00,9, -999.00,9,-999.0000,1,-999.0000,9, 0.0047, -999.0,9
740H20210202,SR1b_A23, 63,1, 5,9006,2,20210223,2040,-62.78282, -30.69144,4833,4085.9,-0.4117,-0.4106, 2.0000,34.6414,2,34.6410,2, 251.2,2,-999.0,9, -999.00,9, -999.00,9, -999.00,9,-999.0000,1,-999.0000,9, 0.0145, -999.0,9
740H20210202,SR1b_A23, 63,1, 6,9007,2,20210223,2050,-62.78284, -30.69146,4833,3569.8,-0.3252,-0.3245, 2.0000,34.6504,2,-999.0000,9, 243.5,2,-999.0,9, -999.00,9, -999.00,9, -999.00,9,-999.0000,9,-999.0000,9, 0.0283, -999.0,9
740H20210202,SR1b_A23, 63,1, 7,9008,2,20210223,2051,-62.78284, -30.69150,4833,3569.5,-0.3251,-0.3246, 2.0000,34.6505,2,34.6501,2, 243.4,2, 243.3,2, -999.00,9, -999.00,9, -999.00,9,-999.0000,1,-999.0000,9, 0.0217, -999.0,9
740H20210202,SR1b_A23, 63,1, 8,9009,2,20210223,2101,-62.78282, -30.69146,4833,3055.7,-0.2556,-0.2551, 2.0000,34.6556,2,34.6559,2, 238.0,2,-999.0,9, -999.00,9, -999.00,9, -999.00,9,-999.0000,1,-999.0000,9, 0.0157, -999.0,9
740H20210202,SR1b_A23, 63,1, 9,9010,2,20210223,2102,-62.78282, -30.69148,4833,3055.6,-0.2554,-0.2552, 2.0000,34.6556,2,-999.0000,9, 238.0,2,-999.0,9, -999.00,9, -999.00,9, -999.00,9,-999.0000,9,-999.0000,9, 0.0108, -999.0,9
740H20210202,SR1b_A23, 63,1,10,8156,2,20210223,2113,-62.78280, -30.69142,4833,2543.4,-0.1935,-0.1933, 2.0000,34.6584,2,-999.0000,9, 233.3,2,-999.0,9, -999.00,9, -999.00,9, -999.00,9,-999.0000,9,-999.0000,9, 0.0169, -999.0,9
740H20210202,SR1b_A23, 63,1,11,9012,2,20210223,2113,-62.78282, -30.69140,4833,2543.6,-0.1934,-0.1932, 2.0000,34.6584,2,34.6592,2, 233.3,2,-999.0,9, -999.00,9, -999.00,9, -999.00,9,-999.0000,1,-999.0000,9, 0.0168, -999.0,9
740H20210202,SR1b_A23, 63,1,12,9013,2,20210223,2124,-62.78282, -30.69148,4833,2031.0,-0.0986,-0.0959, 2.0000,34.6627,2,34.6634,2, 227.4,2, 227.5,2, -999.00,9, -999.00,9, -999.00,9,-999.0000,1,-999.0000,9, 0.0079, -999.0,9
740H20210202,SR1b_A23, 63,1,13,9014,2,20210223,2134,-62.78281, -30.69144,4833,1520.9, 0.0539, 0.0542, 2.0000,34.6699,2,-999.0000,9, 218.3,2,-999.0,9, -999.00,9, -999.00,9, -999.00,9,-999.0000,9,-999.0000,9, 0.0073, -999.0,9
740H20210202,SR1b_A23, 63,1,14,9015,2,20210223,2135,-62.78282, -30.69148,4833,1520.8, 0.0542, 0.0538, 2.0000,34.6698,2,34.6701,2, 218.2,2,-999.0,9, -999.00,9, -999.00,9, -999.00,9,-999.0000,1,-999.0000,9, 0.0151, -999.0,9
740H20210202,SR1b_A23, 63,1,15,9016,2,20210223,2146,-62.78282, -30.69144,4833,1012.7, 0.2593, 0.2587, 2.0000,34.6790,2,34.6792,2, 206.6,2,-999.0,9, -999.00,9, -999.00,9, -999.00,9,-999.0000,1,-999.0000,9, 0.0146, -999.0,9
740H20210202,SR1b_A23, 63,1,16,9017,2,20210223,2156,-62.78326, -30.69104,4833, 504.7, 0.4018, 0.4014, 2.0000,34.6807,2,-999.0000,9, 197.6,2,-999.0,9, -999.00,9, -999.00,9, -999.00,9,-999.0000,9,-999.0000,9, 0.0225, -999.0,9
740H20210202,SR1b_A23, 63,1,17,9018,2,20210223,2157,-62.78330, -30.69098,4833, 504.7, 0.4016, 0.4014, 2.0000,34.6807,2,34.6811,2, 197.6,2, 198.1,2, -999.00,9, -999.00,9, -999.00,9,-999.0000,1,-999.0000,9, 0.0205, -999.0,9
740H20210202,SR1b_A23, 63,1,18,9019,2,20210223,2203,-62.78384, -30.69040,4833, 225.9, 0.1671, 0.1475, 2.0000,34.6522,2,34.6546,2, 210.0,2,-999.0,9, -999.00,9, -999.00,9, -999.00,9,-999.0000,1,-999.0000,9, 0.0205, -999.0,9
740H20210202,SR1b_A23, 63,1,19,9020,2,20210223,2206,-62.78416, -30.69002,4833, 150.5,-0.2979,-0.3138, 2.0000,34.5952,2,-999.0000,9, 228.4,2,-999.0,9, -999.00,9, -999.00,9, -999.00,9,-999.0000,9,-999.0000,9, 0.0344, -999.0,9
740H20210202,SR1b_A23, 63,1,20,9021,2,20210223,2207,-62.78422, -30.68996,4833, 150.7,-0.2948,-0.3118, 2.0000,34.5954,2,34.5954,2, 228.8,2, 228.4,2, -999.00,9, -999.00,9, -999.00,9,-999.0000,1,-999.0000,9, 0.0310, -999.0,9
740H20210202,SR1b_A23, 63,1,21,9022,2,20210223,2215,-62.78532, -30.68892,4833,  50.3,-1.0184,-0.8099, 2.0000,34.0362,2,34.0095,2, 334.8,2,-999.0,9, -999.00,9, -999.00,9, -999.00,9,-999.0000,1,-999.0000,9, 1.3133, -999.0,9
740H20210202,SR1b_A23, 63,1,22,9023,2,20210223,2219,-62.78558, -30.68860,4833,  19.8,-0.1301,-0.1279, 2.0000,33.8067,2,33.8086,2, 347.3,2, 347.5,2, -999.00,9, -999.00,9, -999.00,9,-999.0000,1,-999.0000,9, 2.2425, -999.0,9
740H20210202,SR1b_A23, 63,1,23,9024,2,20210223,2222,-62.78582, -30.68836,4833,   5.2,-0.0046,-0.0066, 2.0000,33.7665,2,-999.0000,9, 349.0,2,-999.0,9, -999.00,9, -999.00,9, -999.00,9,-999.0000,9,-999.0000,9, 2.4583, -999.0,9
740H20210202,SR1b_A23, 63,1,24,9025,2,20210223,2222,-62.78586, -30.68832,4833,   5.7, 0.0038, 0.0022, 2.0000,33.7648,2,33.7667,2, 348.8,2,-999.0,9, -999.00,9, -999.00,9, -999.00,9,-999.0000,1,-999.0000,9, 2.4211, -999.0,9