BOTTLE,20210420POGBASEPA
EXPOCODE,SECT_ID,STNNBR,CASTNO,SAMPNO,BTLNBR,BTLNBR_FLAG_W,DATE,TIME,LATITUDE,LONGITUDE,DEPTH,CTDPRS,CTDTMP,SBE35,SBE35_FLAG_W,CTDSAL,CTDSAL_FLAG_W,SALNTY,SALNTY_FLAG_W,CTDOXY,CTDOXY_FLAG_W,OXYGEN,OXYGEN_FLAG_W,SILCAT,SILCAT_FLAG_W,NO2+NO3,NO2+NO3_FLAG_W,PHSPHT,PHSPHT_FLAG_W,DELO18,DELO18_FLAG_W,D30SI_SILCAT,D30SI_SILCAT_FLAG_W,CTDFLUOR,BOTCHLA,BOTCHLA_FLAG_W
 , , , , , , , , , , ,METERS,DBAR,ITS-90,ITS-90, ,PSS-78, ,PSS-78, ,UMOL/KG, ,UMOL/KG, ,UMOL/KG, ,UMOL/KG,UMOL/KG,UMOL/KG,UMOL/KG,/MILLE,/MILLE,/MILLE,/MILLE,MG/M^3,ML/L,ML/L
740H20210202,SR1b_A23, 17,1, 1,9002,2,20210213,0313,-55.50056, -36.66756,3403, 758.0, 2.0749, 2.0751, 2.0000,34.6511,2,-999.0000,9, 176.4,2,-999.0,9, -999.00,9, -999.00,9, -999.00,9,-999.0000,9,-999.0000,9, 0.0189, -999.0,9
740H20210202,SR1b_A23, 17,1, 2,9003,2,20210213,0313,-55.50054, -36.66754,3403, 758.0, 2.0745, 2.0742, 2.0000,34.6510,2,-999.0000,9, 176.3,2,-999.0,9, -999.00,9, -999.00,9, -999.00,9,-999.0000,9,-999.0000,9, 0.0193, -999.0,9
740H20210202,SR1b_A23, 17,1, 3,8149,2,20210213,0314,-55.50054, -36.66756,3403, 758.1, 2.0743, 2.0738, 2.0000,34.6509,2,34.6515,2, 176.2,2, 175.9,2, -999.00,9, -999.00,9, -999.00,9,-999.0000,9,-999.0000,9, 0.0170, -999.0,9
740H20210202,SR1b_A23, 17,1, 4,9005,2,20210213,0321,-55.50058, -36.66758,3403, 402.3, 2.1780, 2.1765, 2.0000,34.4632,2,-999.0000,9, 187.9,2,-999.0,9, -999.00,9, -999.00,9, -999.00,9,-999.0000,9,-999.0000,9, 0.0192, -999.0,9
740H20210202,SR1b_A23, 17,1, 5,9006,2,20210213,0322,-55.50056, -36.66752,3403, 402.3, 2.1768, 2.1692, 2.0000,34.4629,2,-999.0000,9, 188.1,2,-999.0,9, -999.00,9, -999.00,9, -999.00,9,-999.0000,9,-999.0000,9, 0.0230, -999.0,9
740H20210202,SR1b_A23, 17,1, 6,9007,2,20210213,0322,-55.50054, -36.66746,3403, 402.3, 2.1699, 2.1587, 2.0000,34.4617,2,34.4618,2, 188.6,2, 187.9,2, -999.00,1, -999.00,1, -999.00,1,-999.0000,1,-999.0000,1, 0.0223, -999.0,9
740H20210202,SR1b_A23, 17,1, 7,9008,2,20210213,0327,-55.50054, -36.66753,3403, 199.6, 2.0089, 2.0117, 2.0000,34.2610,2,-999.0000,9, 232.9,2,-999.0,9, -999.00,9, -999.00,9, -999.00,9,-999.0000,9,-999.0000,9, 0.0265, -999.0,9
740H20210202,SR1b_A23, 17,1, 8,9009,2,20210213,0328,-55.50054, -36.66748,3403, 199.5, 2.0113, 2.0119, 2.0000,34.2599,2,-999.0000,9, 233.4,2,-999.0,9, -999.00,9, -999.00,9, -999.00,9,-999.0000,9,-999.0000,9, 0.0253, -999.0,9
740H20210202,SR1b_A23, 17,1, 9,9010,2,20210213,0329,-55.50056, -36.66748,3403, 199.6, 2.0110, 2.0116, 2.0000,34.2601,2,34.2599,2, 233.4,2, 232.7,2, -999.00,1, -999.00,1, -999.00,1,-999.0000,1,-999.0000,1, 0.0226, -999.0,9
740H20210202,SR1b_A23, 17,1,10,8156,2,20210213,0332,-55.50054, -36.66751,3403,  99.4, 1.0279, 1.0318, 2.0000,33.9733,2,-999.0000,9, 316.0,2,-999.0,9, -999.00,9, -999.00,9, -999.00,9,-999.0000,9,-999.0000,9, 0.0592, -999.0,9
740H20210202,SR1b_A23, 17,1,11,9012,2,20210213,0333,-55.50054, -36.66754,3403,  99.8, 1.0307, 1.0314, 2.0000,33.9740,2,-999.0000,9, 316.4,2,-999.0,9, -999.00,9, -999.00,9, -999.00,9,-999.0000,9,-999.0000,9, 0.0710, -999.0,9
740H20210202,SR1b_A23, 17,1,12,9013,2,20210213,0333,-55.50052, -36.66752,3403, 100.2, 1.0337, 1.0315, 2.0000,33.9747,2,33.9741,2, 317.3,2, 317.1,2, -999.00,1, -999.00,1, -999.00,1,-999.0000,1,-999.0000,1, 0.0566, -999.0,9
740H20210202,SR1b_A23, 17,1,13,9014,2,20210213,0337,-55.50054, -36.66750,3403,  47.8, 3.2449, 3.2123, 2.0000,33.8696,2,-999.0000,9, 335.0,2,-999.0,9, -999.00,9, -999.00,9, -999.00,9,-999.0000,9,-999.0000,9, 1.3673, -999.0,9
740H20210202,SR1b_A23, 17,1,14,9015,2,20210213,0337,-55.50055, -36.66756,3403,  46.7, 3.1915, 3.3367, 2.0000,33.8723,2,-999.0000,9, 335.2,2,-999.0,9, -999.00,9, -999.00,9, -999.00,9,-999.0000,9,-999.0000,9, 1.3475, -999.0,9
740H20210202,SR1b_A23, 17,1,15,9016,2,20210213,0338,-55.50056, -36.66752,3403,  46.3, 3.3168, 3.3360, 2.0000,33.8668,2,33.8655,2, 335.6,2,-999.0,9, -999.00,1, -999.00,1, -999.00,1,-999.0000,1,-999.0000,1, 1.3430, -999.0,9
740H20210202,SR1b_A23, 17,1,16,9017,2,20210213,0340,-55.50054, -36.66754,3403,  22.8, 3.3728, 3.3713, 2.0000,33.8642,2,-999.0000,9, 336.8,2,-999.0,9, -999.00,9, -999.00,9, -999.00,9,-999.0000,9,-999.0000,9, 1.4172, -999.0,9
740H20210202,SR1b_A23, 17,1,17,9018,2,20210213,0341,-55.50056, -36.66752,3403,  22.8, 3.3711, 3.3654, 2.0000,33.8641,2,-999.0000,9, 336.8,2,-999.0,9, -999.00,9, -999.00,9, -999.00,9,-999.0000,9,-999.0000,9, 1.4913, -999.0,9
740H20210202,SR1b_A23, 17,1,18,9019,2,20210213,0341,-55.50054, -36.66754,3403,  22.8, 3.3638, 3.3741, 2.0000,33.8645,2,33.8642,2, 336.9,2, 336.3,2, -999.00,1, -999.00,1, -999.00,1,-999.0000,1,-999.0000,1, 1.2167, -999.0,9
740H20210202,SR1b_A23, 17,1,19,9020,2,20210213,0343,-55.50056, -36.66754,3403,   9.1, 3.3768, 3.3790, 2.0000,33.8642,2,33.8637,2, 337.0,2, 337.2,2, -999.00,1, -999.00,1, -999.00,1,-999.0000,1,-999.0000,1, 1.3196, -999.0,9
740H20210202,SR1b_A23, 18,1, 1,9002,2,20210213,1859,-56.69714, -34.84647,3540, 763.7, 2.0291, 2.0298, 2.0000,34.6674,2,-999.0000,9, 177.2,2,-999.0,9, -999.00,9, -999.00,9, -999.00,9,-999.0000,9,-999.0000,9, 0.0178, -999.0,9
740H20210202,SR1b_A23, 18,1, 2,9003,2,20210213,1900,-56.69716, -34.84644,3540, 763.6, 2.0298, 2.0300, 2.0000,34.6673,2,-999.0000,9, 177.2,2,-999.0,9, -999.00,9, -999.00,9, -999.00,9,-999.0000,9,-999.0000,9, 0.0196, -999.0,9
740H20210202,SR1b_A23, 18,1, 3,8149,2,20210213,1900,-56.69716, -34.84640,3540, 763.6, 2.0302, 2.0302, 2.0000,34.6672,2,34.6668,2, 177.1,2, 177.1,2, -999.00,9, -999.00,9, -999.00,9,-999.0000,9,-999.0000,9, 0.0140, -999.0,9
740H20210202,SR1b_A23, 18,1, 4,9005,2,20210213,1908,-56.69718, -34.84647,3540, 408.3, 2.1788, 2.1795, 2.0000,34.5363,2,-999.0000,9, 179.4,2,-999.0,9, -999.00,9, -999.00,9, -999.00,9,-999.0000,9,-999.0000,9, 0.0183, -999.0,9
740H20210202,SR1b_A23, 18,1, 5,9006,2,20210213,1909,-56.69718, -34.84644,3540, 408.3, 2.1796, 2.1794, 2.0000,34.5356,2,-999.0000,9, 179.4,2,-999.0,9, -999.00,9, -999.00,9, -999.00,9,-999.0000,9,-999.0000,9, 0.0222, -999.0,9
740H20210202,SR1b_A23, 18,1, 6,9007,2,20210213,1909,-56.69718, -34.84644,3540, 408.4, 2.1794, 2.1798, 2.0000,34.5359,2,34.5355,2, 179.3,2, 178.9,2, -999.00,1, -999.00,1, -999.00,1,-999.0000,1,-999.0000,1, 0.0245, -999.0,9
740H20210202,SR1b_A23, 18,1, 7,9008,2,20210213,1915,-56.69716, -34.84645,3540, 205.3, 1.9250, 1.8691, 2.0000,34.3183,2,-999.0000,9, 220.3,2,-999.0,9, -999.00,9, -999.00,9, -999.00,9,-999.0000,9,-999.0000,9, 0.0204, -999.0,9
740H20210202,SR1b_A23, 18,1, 8,9009,2,20210213,1915,-56.69716, -34.84644,3540, 205.2, 1.8898, 1.8206, 2.0000,34.3148,2,-999.0000,9, 221.9,2,-999.0,9, -999.00,9, -999.00,9, -999.00,9,-999.0000,9,-999.0000,9, 0.0223, -999.0,9
740H20210202,SR1b_A23, 18,1, 9,9010,2,20210213,1916,-56.69716, -34.84640,3540, 205.2, 1.8499, 1.7945, 2.0000,34.3097,2,34.3135,2, 222.9,2, 222.3,2, -999.00,1, -999.00,1, -999.00,1,-999.0000,1,-999.0000,1, 0.0184, -999.0,9
740H20210202,SR1b_A23, 18,1,10,8156,4,20210213,1921,-56.69714, -34.84646,3540, 104.5, 1.0870, 1.0806, 2.0000,34.0268,2,-999.0000,9, 300.9,2,-999.0,9, -999.00,9, -999.00,9, -999.00,9,-999.0000,9,-999.0000,9, 0.0387, -999.0,9
740H20210202,SR1b_A23, 18,1,11,9012,2,20210213,1921,-56.69714, -34.84644,3540, 103.8, 1.0830, 1.0783, 2.0000,34.0250,2,-999.0000,9, 301.5,2,-999.0,9, -999.00,9, -999.00,9, -999.00,9,-999.0000,9,-999.0000,9, 0.0405, -999.0,9
740H20210202,SR1b_A23, 18,1,12,9013,2,20210213,1922,-56.69714, -34.84642,3540, 104.3, 1.0778, 1.0737, 2.0000,34.0236,2,34.0229,2, 302.5,2, 302.1,2, -999.00,1, -999.00,1, -999.00,1,-999.0000,1,-999.0000,1, 0.0470, -999.0,9
740H20210202,SR1b_A23, 18,1,13,9014,2,20210213,1925,-56.69716, -34.84646,3540,  53.9, 2.7196, 2.9736, 2.0000,33.8941,2,-999.0000,9, 326.3,2,-999.0,9, -999.00,9, -999.00,9, -999.00,9,-999.0000,9,-999.0000,9, 0.6788, -999.0,9
740H20210202,SR1b_A23, 18,1,14,9015,2,20210213,1926,-56.69716, -34.84643,3540,  54.0, 2.2468, 2.9914, 2.0000,33.9064,2,-999.0000,9, 328.1,2,-999.0,9, -999.00,9, -999.00,9, -999.00,9,-999.0000,9,-999.0000,9, 0.6719, -999.0,9
740H20210202,SR1b_A23, 18,1,15,9016,2,20210213,1927,-56.69716, -34.84646,3540,  54.6, 2.9159, 3.1210, 2.0000,33.8754,2,33.8705,2, 329.1,2,-999.0,9, -999.00,9, -999.00,9, -999.00,9,-999.0000,1,-999.0000,9, 0.8332, -999.0,9
740H20210202,SR1b_A23, 18,1,16,9017,2,20210213,1930,-56.69716, -34.84644,3540,  28.1, 3.1674, 3.1671, 2.0000,33.8588,2,-999.0000,9, 332.6,2,-999.0,9, -999.00,9, -999.00,9, -999.00,9,-999.0000,9,-999.0000,9, 0.8279, -999.0,9
740H20210202,SR1b_A23, 18,1,17,9018,2,20210213,1931,-56.69716, -34.84646,3540,  28.1, 3.1666, 3.1665, 2.0000,33.8588,2,-999.0000,9, 332.6,2,-999.0,9, -999.00,9, -999.00,9, -999.00,9,-999.0000,9,-999.0000,9, 0.8344, -999.0,9
740H20210202,SR1b_A23, 18,1,18,9019,2,20210213,1931,-56.69714, -34.84646,3540,  27.6, 3.1660, 3.1671, 2.0000,33.8588,2,33.8585,2, 332.1,2, 332.9,2, -999.00,1, -999.00,1, -999.00,1,-999.0000,1,-999.0000,1, 0.7940, -999.0,9
740H20210202,SR1b_A23, 18,1,19,9020,2,20210213,1934,-56.69715, -34.84644,3540,  13.6, 3.1782, 3.1749, 2.0000,33.8588,2,33.8586,2, 332.4,2, 332.9,2, -999.00,1, -999.00,1, -999.00,1,-999.0000,1,-999.0000,1, 0.8439, -999.0,9
740H20210202,SR1b_A23, 18,1,20,9021,2,20210213,1934,-56.69714, -34.84648,3540,  14.1, 3.1705, 3.1754, 2.0000,33.8588,2,-999.0000,9, 332.5,2,-999.0,9, -999.00,9, -999.00,9, -999.00,9,-999.0000,9,-999.0000,9, 0.9313, -999.0,9
740H20210202,SR1b_A23, 18,1,21,9022,2,20210213,1935,-56.69716, -34.84646,3540,  13.9, 3.1744, 3.1731, 2.0000,33.8591,2,-999.0000,9, 332.2,2,-999.0,9, -999.00,9, -999.00,9, -999.00,9,-999.0000,9,-999.0000,9, 0.7972, -999.0,9
740H20210202,SR1b_A23, 19,1, 1,9002,2,20210213,2101,-56.69644, -34.89108,3651,1017.5, 1.8162, 1.8172, 2.0000,34.6981,2,-999.0000,9, 182.7,2,-999.0,9, -999.00,9, -999.00,9, -999.00,9,-999.0000,9,-999.0000,9, 0.0071, -999.0,9
740H20210202,SR1b_A23, 19,1, 2,9003,2,20210213,2101,-56.69642, -34.89112,3651,1018.0, 1.8148, 1.8156, 2.0000,34.6983,2,-999.0000,9, 182.6,2,-999.0,9, -999.00,9, -999.00,9, -999.00,9,-999.0000,9,-999.0000,9, 0.0153, -999.0,9
740H20210202,SR1b_A23, 19,1, 3,8149,2,20210213,2102,-56.69642, -34.89108,3651,1017.6, 1.8132, 1.8136, 2.0000,34.6984,2,34.6977,2, 182.7,2, 182.0,2, -999.00,9, -999.00,9, -999.00,9,-999.0000,9,-999.0000,9, 0.0195, -999.0,9
740H20210202,SR1b_A23, 19,1, 4,9005,2,20210213,2114,-56.69642, -34.89106,3651, 407.8, 2.2225, 2.2202, 2.0000,34.5272,2,-999.0000,9, 179.5,2,-999.0,9, -999.00,9, -999.00,9, -999.00,9,-999.0000,9,-999.0000,9, 0.0212, -999.0,9
740H20210202,SR1b_A23, 19,1, 5,9006,2,20210213,2114,-56.69644, -34.89112,3651, 407.9, 2.2236, 2.2216, 2.0000,34.5281,2,-999.0000,9, 179.4,2,-999.0,9, -999.00,9, -999.00,9, -999.00,9,-999.0000,9,-999.0000,9, 0.0268, -999.0,9
740H20210202,SR1b_A23, 19,1, 6,9007,2,20210213,2115,-56.69646, -34.89110,3651, 407.8, 2.2197, 2.2244, 2.0000,34.5293,2,34.5275,2, 179.3,2, 178.8,2, -999.00,1, -999.00,1, -999.00,1,-999.0000,1,-999.0000,1, 0.0187, -999.0,9
740H20210202,SR1b_A23, 19,1, 7,9008,2,20210213,2120,-56.69642, -34.89112,3651, 205.0, 1.8198, 1.8253, 2.0000,34.2838,2,-999.0000,9, 229.4,2,-999.0,9, -999.00,9, -999.00,9, -999.00,9,-999.0000,9,-999.0000,9, 0.0256, -999.0,9
740H20210202,SR1b_A23, 19,1, 8,9009,2,20210213,2121,-56.69642, -34.89112,3651, 205.1, 1.8271, 1.8222, 2.0000,34.2863,2,-999.0000,9, 229.1,2,-999.0,9, -999.00,9, -999.00,9, -999.00,9,-999.0000,9,-999.0000,9, 0.0247, -999.0,9
740H20210202,SR1b_A23, 19,1, 9,9010,2,20210213,2121,-56.69644, -34.89114,3651, 204.9, 1.8269, 1.8269, 2.0000,34.2855,2,34.2884,2, 228.8,2, 227.7,2, -999.00,1, -999.00,1, -999.00,1,-999.0000,1,-999.0000,1, 0.0190, -999.0,9
740H20210202,SR1b_A23, 19,1,10,8156,4,20210213,2127,-56.69644, -34.89112,3651, 103.0, 0.4931, 0.4809, 2.0000,33.9676,2,-999.0000,9, 320.7,2,-999.0,9, -999.00,9, -999.00,9, -999.00,9,-999.0000,9,-999.0000,9, 0.0530, -999.0,9
740H20210202,SR1b_A23, 19,1,11,9012,2,20210213,2127,-56.69644, -34.89112,3651, 103.9, 0.5023, 0.4768, 2.0000,33.9693,2,-999.0000,9, 320.5,2,-999.0,9, -999.00,9, -999.00,9, -999.00,9,-999.0000,9,-999.0000,9, 0.0507, -999.0,9
740H20210202,SR1b_A23, 19,1,12,9013,2,20210213,2128,-56.69644, -34.89112,3651, 103.4, 0.4910, 0.4783, 2.0000,33.9676,2,33.9666,2, 320.0,2, 320.4,2, -999.00,1, -999.00,1, -999.00,1,-999.0000,1,-999.0000,1, 0.0601, -999.0,9
740H20210202,SR1b_A23, 19,1,13,9014,2,20210213,2131,-56.69644, -34.89111,3651,  53.1, 2.1667, 2.2102, 2.0000,33.9022,2,-999.0000,9, 326.9,2,-999.0,9, -999.00,9, -999.00,9, -999.00,9,-999.0000,9,-999.0000,9, 0.5203, -999.0,9
740H20210202,SR1b_A23, 19,1,14,9015,2,20210213,2132,-56.69644, -34.89112,3651,  53.7, 1.9477, 2.4444, 2.0000,33.9076,2,-999.0000,9, 325.9,2,-999.0,9, -999.00,9, -999.00,9, -999.00,9,-999.0000,9,-999.0000,9, 0.4636, -999.0,9
740H20210202,SR1b_A23, 19,1,15,9016,2,20210213,2132,-56.69642, -34.89110,3651,  54.0, 2.2398, 1.9323, 2.0000,33.9040,2,33.8968,2, 326.1,2,-999.0,9, -999.00,9, -999.00,9, -999.00,9,-999.0000,1,-999.0000,9, 0.4970, -999.0,9
740H20210202,SR1b_A23, 19,1,16,9017,2,20210213,2136,-56.69642, -34.89108,3651,  28.1, 3.0512, 3.0498, 2.0000,33.8430,2,-999.0000,9, 333.2,2,-999.0,9, -999.00,9, -999.00,9, -999.00,9,-999.0000,9,-999.0000,9, 0.9859, -999.0,9
740H20210202,SR1b_A23, 19,1,17,9018,2,20210213,2136,-56.69644, -34.89114,3651,  27.7, 3.0527, 3.0545, 2.0000,33.8432,2,-999.0000,9, 332.9,2,-999.0,9, -999.00,9, -999.00,9, -999.00,9,-999.0000,9,-999.0000,9, 1.0202, -999.0,9
740H20210202,SR1b_A23, 19,1,18,9019,2,20210213,2137,-56.69646, -34.89116,3651,  28.3, 3.0602, 3.0646, 2.0000,33.8443,2,33.8438,2, 332.9,2, 333.2,2, -999.00,1, -999.00,1, -999.00,1,-999.0000,1,-999.0000,1, 0.9169, -999.0,9
740H20210202,SR1b_A23, 19,1,19,9020,2,20210213,2140,-56.69644, -34.89108,3651,  13.3, 3.0678, 3.0620, 2.0000,33.8443,2,33.8441,2, 332.8,2, 333.1,2, -999.00,1, -999.00,1, -999.00,1,-999.0000,1,-999.0000,1, 0.9535, -999.0,9
740H20210202,SR1b_A23, 19,1,20,9021,2,20210213,2140,-56.69644, -34.89112,3651,  13.6, 3.0662, 3.0658, 2.0000,33.8448,2,-999.0000,9, 332.1,2,-999.0,9, -999.00,9, -999.00,9, -999.00,9,-999.0000,9,-999.0000,9, 0.8675, -999.0,9
740H20210202,SR1b_A23, 19,1,21,9022,2,20210213,2141,-56.69646, -34.89110,3651,  13.0, 3.0644, 3.0647, 2.0000,33.8444,2,-999.0000,9, 333.0,2,-999.0,9, -999.00,9, -999.00,9, -999.00,9,-999.0000,9,-999.0000,9, 1.0373, -999.0,9
740H20210202,SR1b_A23, 20,1, 1,9002,2,20210213,2311,-56.69640, -34.96616,3674,1016.9, 1.8479, 1.8488, 2.0000,34.6973,2,-999.0000,9, 181.6,2,-999.0,9, -999.00,9, -999.00,9, -999.00,9,-999.0000,9,-999.0000,9, 0.0146, -999.0,9
740H20210202,SR1b_A23, 20,1, 2,9003,2,20210213,2311,-56.69638, -34.96614,3674,1016.7, 1.8498, 1.8497, 2.0000,34.6972,2,-999.0000,9, 181.7,2,-999.0,9, -999.00,9, -999.00,9, -999.00,9,-999.0000,9,-999.0000,9, 0.0166, -999.0,9
740H20210202,SR1b_A23, 20,1, 3,8149,2,20210213,2312,-56.69642, -34.96616,3674,1017.0, 1.8491, 1.8497, 2.0000,34.6972,2,34.6974,2, 181.6,2, 181.1,3, -999.00,9, -999.00,9, -999.00,9,-999.0000,9,-999.0000,9, 0.0117, -999.0,9
740H20210202,SR1b_A23, 20,1, 4,9005,2,20210213,2324,-56.69642, -34.96619,3674, 408.3, 2.2185, 2.2227, 2.0000,34.5152,2,-999.0000,9, 180.7,2,-999.0,9, -999.00,9, -999.00,9, -999.00,9,-999.0000,9,-999.0000,9, 0.0145, -999.0,9
740H20210202,SR1b_A23, 20,1, 5,9006,2,20210213,2325,-56.69642, -34.96620,3674, 408.4, 2.2215, 2.2225, 2.0000,34.5147,2,-999.0000,9, 180.4,2,-999.0,9, -999.00,9, -999.00,9, -999.00,9,-999.0000,9,-999.0000,9, 0.0171, -999.0,9
740H20210202,SR1b_A23, 20,1, 6,9007,2,20210213,2325,-56.69642, -34.96616,3674, 408.4, 2.2220, 2.2223, 2.0000,34.5146,2,34.5155,2, 180.6,2, 179.2,2, -999.00,1, -999.00,1, -999.00,1,-999.0000,1,-999.0000,1, 0.0256, -999.0,9
740H20210202,SR1b_A23, 20,1, 7,9008,2,20210213,2331,-56.69642, -34.96616,3674, 205.5, 1.5440, 1.5434, 2.0000,34.2277,2,-999.0000,9, 244.9,2,-999.0,9, -999.00,9, -999.00,9, -999.00,9,-999.0000,9,-999.0000,9, 0.0267, -999.0,9
740H20210202,SR1b_A23, 20,1, 8,9009,2,20210213,2331,-56.69642, -34.96617,3674, 205.5, 1.5635, 1.5502, 2.0000,34.2321,2,-999.0000,9, 243.9,2,-999.0,9, -999.00,9, -999.00,9, -999.00,9,-999.0000,9,-999.0000,9, 0.0171, -999.0,9
740H20210202,SR1b_A23, 20,1, 9,9010,2,20210213,2332,-56.69640, -34.96616,3674, 205.5, 1.5669, 1.5632, 2.0000,34.2322,2,34.2309,2, 243.7,2, 243.6,2, -999.00,1, -999.00,1, -999.00,1,-999.0000,1,-999.0000,1, 0.0254, -999.0,9
740H20210202,SR1b_A23, 20,1,10,8156,2,20210213,2336,-56.69640, -34.96614,3674, 103.2, 0.4853, 0.4618, 2.0000,33.9668,2,-999.0000,9, 319.2,2,-999.0,9, -999.00,9, -999.00,9, -999.00,9,-999.0000,9,-999.0000,9, 0.0481, -999.0,9
740H20210202,SR1b_A23, 20,1,11,9012,2,20210213,2336,-56.69642, -34.96618,3674, 103.2, 0.5182, 0.4609, 2.0000,33.9719,2,-999.0000,9, 318.0,2,-999.0,9, -999.00,9, -999.00,9, -999.00,9,-999.0000,9,-999.0000,9, 0.0409, -999.0,9
740H20210202,SR1b_A23, 20,1,12,9013,2,20210213,2337,-56.69642, -34.96618,3674, 103.2, 0.5104, 0.4577, 2.0000,33.9699,2,33.9723,2, 318.1,2, 319.1,2, -999.00,1, -999.00,1, -999.00,1,-999.0000,1,-999.0000,1, 0.0464, -999.0,9
740H20210202,SR1b_A23, 20,1,13,9014,2,20210213,2342,-56.69642, -34.96618,3674,  54.4, 2.1348, 2.2775, 2.0000,33.8774,2,-999.0000,9, 328.6,2,-999.0,9, -999.00,9, -999.00,9, -999.00,9,-999.0000,9,-999.0000,9, 0.4534, -999.0,9
740H20210202,SR1b_A23, 20,1,14,9015,2,20210213,2342,-56.69642, -34.96618,3674,  53.9, 1.9935, 2.2012, 2.0000,33.8815,2,-999.0000,9, 328.4,2,-999.0,9, -999.00,9, -999.00,9, -999.00,9,-999.0000,9,-999.0000,9, 0.4507, -999.0,9
740H20210202,SR1b_A23, 20,1,15,9016,2,20210213,2343,-56.69642, -34.96620,3674,  53.0, 1.9989, 2.1079, 2.0000,33.8834,2,33.8775,2, 328.1,2,-999.0,9, -999.00,9, -999.00,9, -999.00,9,-999.0000,1,-999.0000,9, 0.4231, -999.0,9
740H20210202,SR1b_A23, 20,1,16,9017,2,20210213,2346,-56.69644, -34.96620,3674,  26.9, 3.1251, 3.1296, 2.0000,33.8472,2,-999.0000,9, 332.5,2,-999.0,9, -999.00,9, -999.00,9, -999.00,9,-999.0000,9,-999.0000,9, 0.9606, -999.0,9
740H20210202,SR1b_A23, 20,1,17,9018,2,20210213,2346,-56.69642, -34.96618,3674,  28.9, 3.1293, 3.1301, 2.0000,33.8465,2,-999.0000,9, 332.8,2,-999.0,9, -999.00,9, -999.00,9, -999.00,9,-999.0000,9,-999.0000,9, 1.0198, -999.0,9
740H20210202,SR1b_A23, 20,1,18,9019,2,20210213,2347,-56.69640, -34.96614,3674,  28.5, 3.1289, 3.1280, 2.0000,33.8464,2,33.8466,2, 332.7,2, 332.6,2, -999.00,1, -999.00,1, -999.00,1,-999.0000,1,-999.0000,1, 0.9639, -999.0,9
740H20210202,SR1b_A23, 20,1,19,9020,2,20210213,2349,-56.69644, -34.96620,3674,  12.8, 3.1284, 3.1279, 2.0000,33.8466,2,33.8469,2, 333.1,2, 333.2,2, -999.00,1, -999.00,1, -999.00,1,-999.0000,1,-999.0000,1, 0.8737, -999.0,9
740H20210202,SR1b_A23, 20,1,20,9021,2,20210213,2350,-56.69642, -34.96617,3674,  13.5, 3.1264, 3.1421, 2.0000,33.8467,2,-999.0000,9, 333.1,2,-999.0,9, -999.00,9, -999.00,9, -999.00,9,-999.0000,9,-999.0000,9, 0.9199, -999.0,9
740H20210202,SR1b_A23, 20,1,21,9022,2,20210213,2350,-56.69642, -34.96618,3674,  13.8, 3.1243, 3.1239, 2.0000,33.8469,2,-999.0000,9, 332.6,2,-999.0,9, -999.00,9, -999.00,9, -999.00,9,-999.0000,9,-999.0000,9, 0.9058, -999.0,9