BOTTLE,20210420POGBASEPA
EXPOCODE,SECT_ID,STNNBR,CASTNO,SAMPNO,BTLNBR,BTLNBR_FLAG_W,DATE,TIME,LATITUDE,LONGITUDE,DEPTH,CTDPRS,CTDTMP,SBE35,SBE35_FLAG_W,CTDSAL,CTDSAL_FLAG_W,SALNTY,SALNTY_FLAG_W,CTDOXY,CTDOXY_FLAG_W,OXYGEN,OXYGEN_FLAG_W,SILCAT,SILCAT_FLAG_W,NO2+NO3,NO2+NO3_FLAG_W,PHSPHT,PHSPHT_FLAG_W,DELO18,DELO18_FLAG_W,D30SI_SILCAT,D30SI_SILCAT_FLAG_W,CTDFLUOR,BOTCHLA,BOTCHLA_FLAG_W
 , , , , , , , , , , ,METERS,DBAR,ITS-90,ITS-90, ,PSS-78, ,PSS-78, ,UMOL/KG, ,UMOL/KG, ,UMOL/KG, ,UMOL/KG,UMOL/KG,UMOL/KG,UMOL/KG,/MILLE,/MILLE,/MILLE,/MILLE,MG/M^3,ML/L,ML/L
740H20210202,SR1b_A23, 55,1, 1,9002,2,20210221,0740,-60.70448, -31.01066,1504,1511.0, 0.1171, 0.1169, 2.0000,34.6700,2,34.6707,2, 219.0,2, 217.6,4, -999.00,9, -999.00,9, -999.00,9,-999.0000,1,-999.0000,9, 0.0151, -999.0,9
740H20210202,SR1b_A23, 55,1, 2,9003,2,20210221,0740,-60.70446, -31.01066,1504,1511.3, 0.1174, 0.1179, 2.0000,34.6701,2,-999.0000,9, 218.9,2,-999.0,9, -999.00,9, -999.00,9, -999.00,9,-999.0000,9,-999.0000,9, 0.0214, -999.0,9
740H20210202,SR1b_A23, 55,1, 3,8149,3,20210221,0751,-60.70424, -31.01160,1504,1015.6, 0.3081, 0.3085, 2.0000,34.6780,2,-999.0000,9, 210.7,2, 208.7,4, -999.00,9, -999.00,9, -999.00,9,-999.0000,9,-999.0000,9, 0.0125, -999.0,9
740H20210202,SR1b_A23, 55,1, 4,9005,2,20210221,0752,-60.70422, -31.01170,1504,1015.5, 0.3080, 0.3084, 2.0000,34.6780,2,34.6787,2, 211.0,2,-999.0,9, -999.00,9, -999.00,9, -999.00,9,-999.0000,1,-999.0000,9, 0.0187, -999.0,9
740H20210202,SR1b_A23, 55,1, 5,9006,2,20210221,0758,-60.70406, -31.01230,1504, 762.1, 0.4111, 0.4148, 2.0000,34.6816,2,34.6820,2, 207.4,2, 205.7,4, -999.00,9, -999.00,9, -999.00,9,-999.0000,1,-999.0000,9, 0.0100, -999.0,9
740H20210202,SR1b_A23, 55,1, 6,9007,2,20210221,0759,-60.70400, -31.01242,1504, 762.1, 0.4122, 0.4157, 2.0000,34.6815,2,-999.0000,9, 207.3,2,-999.0,9, -999.00,9, -999.00,9, -999.00,9,-999.0000,9,-999.0000,9, 0.0133, -999.0,9
740H20210202,SR1b_A23, 55,1, 7,9008,2,20210221,0806,-60.70385, -31.01308,1504, 508.2, 0.4907, 0.4907, 2.0000,34.6788,2,34.6792,2, 204.7,2, 202.4,4, -999.00,9, -999.00,9, -999.00,9,-999.0000,1,-999.0000,9, 0.0105, -999.0,9
740H20210202,SR1b_A23, 55,1, 8,9009,2,20210221,0806,-60.70384, -31.01310,1504, 508.0, 0.4906, 0.4907, 2.0000,34.6787,2,-999.0000,9, 204.6,2,-999.0,9, -999.00,9, -999.00,9, -999.00,9,-999.0000,9,-999.0000,9, 0.0191, -999.0,9
740H20210202,SR1b_A23, 55,1, 9,9010,2,20210221,0811,-60.70372, -31.01358,1504, 356.3, 0.4470, 0.4463, 2.0000,34.6670,2,34.6671,2, 208.3,2, 206.3,4, -999.00,9, -999.00,9, -999.00,9,-999.0000,1,-999.0000,9, 0.0136, -999.0,9
740H20210202,SR1b_A23, 55,1,10,8156,2,20210221,0811,-60.70370, -31.01366,1504, 356.5, 0.4473, 0.4476, 2.0000,34.6671,2,-999.0000,9, 208.4,2,-999.0,9, -999.00,9, -999.00,9, -999.00,9,-999.0000,9,-999.0000,9, 0.0143, -999.0,9
740H20210202,SR1b_A23, 55,1,11,9012,2,20210221,0816,-60.70359, -31.01408,1504, 229.2, 0.1691, 0.1526, 2.0000,34.6223,2,34.6218,2, 221.0,2,-999.0,9, -999.00,9, -999.00,9, -999.00,9,-999.0000,1,-999.0000,9, 0.0185, -999.0,9
740H20210202,SR1b_A23, 55,1,12,9013,2,20210221,0816,-60.70358, -31.01410,1504, 229.2, 0.1699, 0.1544, 2.0000,34.6235,2,-999.0000,9, 220.2,2,-999.0,9, -999.00,9, -999.00,9, -999.00,9,-999.0000,9,-999.0000,9, 0.0350, -999.0,9
740H20210202,SR1b_A23, 55,1,13,9014,2,20210221,0819,-60.70350, -31.01442,1504, 154.1,-0.3474,-0.3580, 2.0000,34.5250,2,34.5253,2, 242.3,2, 235.7,4, -999.00,9, -999.00,9, -999.00,9,-999.0000,1,-999.0000,9, 0.0354, -999.0,9
740H20210202,SR1b_A23, 55,1,14,9015,2,20210221,0820,-60.70348, -31.01444,1504, 154.0,-0.3510,-0.3544, 2.0000,34.5242,2,-999.0000,9, 242.1,2,-999.0,9, -999.00,9, -999.00,9, -999.00,9,-999.0000,9,-999.0000,9, 0.0349, -999.0,9
740H20210202,SR1b_A23, 55,1,15,9016,2,20210221,0823,-60.70342, -31.01476,1504, 105.4,-0.6887,-0.6939, 2.0000,34.4364,2,34.4387,2, 259.6,2,-999.0,9, -999.00,9, -999.00,9, -999.00,9,-999.0000,1,-999.0000,9, 0.0398, -999.0,9
740H20210202,SR1b_A23, 55,1,16,9017,2,20210221,0823,-60.70340, -31.01478,1504, 105.3,-0.6914,-0.6933, 2.0000,34.4353,2,-999.0000,9, 259.6,2,-999.0,9, -999.00,9, -999.00,9, -999.00,9,-999.0000,9,-999.0000,9, 0.0372, -999.0,9
740H20210202,SR1b_A23, 55,1,17,9018,2,20210221,0829,-60.70326, -31.01540,1504,  53.4,-0.3259,-0.2727, 2.0000,33.6978,2,33.6914,2, 346.7,2,-999.0,9, -999.00,9, -999.00,9, -999.00,9,-999.0000,1,-999.0000,9, 2.1713, -999.0,9
740H20210202,SR1b_A23, 55,1,18,9019,2,20210221,0830,-60.70322, -31.01544,1504,  54.1,-0.3298,-0.2504, 2.0000,33.6982,2,-999.0000,9, 346.6,2,-999.0,9, -999.00,9, -999.00,9, -999.00,9,-999.0000,9,-999.0000,9, 2.0923, -999.0,9
740H20210202,SR1b_A23, 55,1,19,9020,2,20210221,0833,-60.70314, -31.01578,1504,  23.2, 0.4152, 0.4160, 2.0000,33.5224,2,33.5245,2, 354.3,2, 352.3,4, -999.00,9, -999.00,9, -999.00,9,-999.0000,1,-999.0000,9, 2.1307, -999.0,9
740H20210202,SR1b_A23, 55,1,20,9021,2,20210221,0834,-60.70312, -31.01584,1504,  22.4, 0.4146, 0.4137, 2.0000,33.5227,2,-999.0000,9, 354.3,2,-999.0,9, -999.00,9, -999.00,9, -999.00,9,-999.0000,9,-999.0000,9, 2.1401, -999.0,9
740H20210202,SR1b_A23, 55,1,21,9022,2,20210221,0836,-60.70306, -31.01611,1504,  12.5, 0.4154, 0.4143, 2.0000,33.5220,2,33.5239,2, 354.5,2, 351.7,4, -999.00,9, -999.00,9, -999.00,9,-999.0000,1,-999.0000,9, 2.0336, -999.0,9
740H20210202,SR1b_A23, 55,1,22,9023,2,20210221,0837,-60.70306, -31.01614,1504,  13.1, 0.4140, 0.4187, 2.0000,33.5222,2,-999.0000,9, 354.6,2,-999.0,9, -999.00,9, -999.00,9, -999.00,9,-999.0000,9,-999.0000,9, 2.1302, -999.0,9
740H20210202,SR1b_A23, 56,1, 1,9002,2,20210221,1223,-61.10922, -31.03938,2566,2591.6,-0.2181,-0.2184, 2.0000,34.6541,2,-999.0000,9, 237.5,2,-999.0,9, -999.00,9, -999.00,9, -999.00,9,-999.0000,9,-999.0000,9, 0.0132, -999.0,9
740H20210202,SR1b_A23, 56,1, 2,9003,2,20210221,1223,-61.10922, -31.03940,2566,2591.7,-0.2183,-0.2185, 2.0000,34.6541,2,34.6543,2, 237.7,2, 235.7,4, -999.00,9, -999.00,9, -999.00,9,-999.0000,9,-999.0000,9, 0.0150, -999.0,9
740H20210202,SR1b_A23, 56,1, 3,8149,2,20210221,1235,-61.10922, -31.03938,2566,2032.1,-0.1363,-0.1354, 2.0000,34.6595,2,-999.0000,9, 232.4,2,-999.0,9, -999.00,9, -999.00,9, -999.00,9,-999.0000,9,-999.0000,9, 0.0107, -999.0,9
740H20210202,SR1b_A23, 56,1, 4,9005,2,20210221,1236,-61.10922, -31.03940,2566,2032.0,-0.1363,-0.1360, 2.0000,34.6595,2,34.6598,2, 232.5,2, 229.2,4, -999.00,9, -999.00,9, -999.00,9,-999.0000,9,-999.0000,9, 0.0143, -999.0,9
740H20210202,SR1b_A23, 56,1,13,9014,2,20210221,1302,-61.10922, -31.03936,2566, 608.0, 0.4493, 0.4510, 2.0000,34.6815,2,-999.0000,9, 206.3,2,-999.0,9, -999.00,9, -999.00,9, -999.00,9,-999.0000,9,-999.0000,9, 0.0154, -999.0,9
740H20210202,SR1b_A23, 56,1,14,9015,2,20210221,1303,-61.10924, -31.03940,2566, 607.8, 0.4505, 0.4511, 2.0000,34.6814,2,34.6814,2, 206.2,2, 203.0,4, -999.00,9, -999.00,9, -999.00,9,-999.0000,9,-999.0000,9, 0.0183, -999.0,9
740H20210202,SR1b_A23, 56,1,15,9016,2,20210221,1319,-61.10922, -31.03940,2566,  15.4, 0.2051, 0.2056, 2.0000,33.4959,2,-999.0000,9, 358.1,2,-999.0,9, -999.00,9, -999.00,9, -999.00,9,-999.0000,9,-999.0000,9, 1.9935, -999.0,9
740H20210202,SR1b_A23, 56,1,16,9017,2,20210221,1320,-61.10922, -31.03942,2566,  15.3, 0.2053, 0.2048, 2.0000,33.4959,2,33.4980,2, 358.0,2, 355.1,4, -999.00,9, -999.00,9, -999.00,9,-999.0000,9,-999.0000,9, 1.9480, -999.0,9
740H20210202,SR1b_A23, 57,1, 1,9002,2,20210221,1528,-61.17210, -31.04654,3485,3531.2,-0.3324,-0.3326, 2.0000,34.6442,2,-999.0000,9, 246.8,2,-999.0,9, -999.00,9, -999.00,9, -999.00,9,-999.0000,9,-999.0000,9, 0.0110, -999.0,9
740H20210202,SR1b_A23, 57,1, 2,9003,2,20210221,1529,-61.17210, -31.04654,3485,3531.4,-0.3324,-0.3325, 2.0000,34.6441,2,34.6444,2, 247.2,2, 244.0,4, -999.00,9, -999.00,9, -999.00,9,-999.0000,1,-999.0000,9, 0.0104, -999.0,9
740H20210202,SR1b_A23, 57,1, 3,8149,2,20210221,1538,-61.17210, -31.04654,3485,3053.7,-0.3260,-0.3258, 2.0000,34.6469,2,-999.0000,9, 244.6,2,-999.0,9, -999.00,9, -999.00,9, -999.00,9,-999.0000,9,-999.0000,9, 0.0096, -999.0,9
740H20210202,SR1b_A23, 57,1, 4,9005,2,20210221,1540,-61.17210, -31.04655,3485,3053.8,-0.3259,-0.3258, 2.0000,34.6469,2,34.6473,2, 244.8,2, 242.3,4, -999.00,9, -999.00,9, -999.00,9,-999.0000,1,-999.0000,9, 0.0070, -999.0,9
740H20210202,SR1b_A23, 57,1, 5,9006,2,20210221,1549,-61.17208, -31.04650,3485,2540.9,-0.2564,-0.2555, 2.0000,34.6523,2,-999.0000,9, 239.5,2,-999.0,9, -999.00,9, -999.00,9, -999.00,9,-999.0000,9,-999.0000,9, 0.0096, -999.0,9
740H20210202,SR1b_A23, 57,1, 6,9007,2,20210221,1550,-61.17208, -31.04652,3485,2541.0,-0.2558,-0.2557, 2.0000,34.6522,2,34.6530,2, 239.4,2,-999.0,9, -999.00,9, -999.00,9, -999.00,9,-999.0000,1,-999.0000,9, 0.0088, -999.0,9
740H20210202,SR1b_A23, 57,1, 7,9008,2,20210221,1601,-61.17210, -31.04654,3485,2029.3,-0.0936,-0.0929, 2.0000,34.6613,2,-999.0000,9, 230.1,2,-999.0,9, -999.00,9, -999.00,9, -999.00,9,-999.0000,9,-999.0000,9, 0.0086, -999.0,9
740H20210202,SR1b_A23, 57,1, 8,9009,2,20210221,1602,-61.17210, -31.04652,3485,2029.5,-0.0934,-0.0928, 2.0000,34.6613,2,34.6623,2, 230.3,2, 228.2,4, -999.00,9, -999.00,9, -999.00,9,-999.0000,1,-999.0000,9, 0.0123, -999.0,9
740H20210202,SR1b_A23, 57,1, 9,9010,2,20210221,1611,-61.17210, -31.04650,3485,1519.3, 0.1097, 0.1110, 2.0000,34.6707,2,-999.0000,9, 219.6,2,-999.0,9, -999.00,9, -999.00,9, -999.00,9,-999.0000,9,-999.0000,9, 0.0104, -999.0,9
740H20210202,SR1b_A23, 57,1,10,8156,2,20210221,1612,-61.17208, -31.04650,3485,1519.4, 0.1098, 0.1105, 2.0000,34.6706,2,34.6711,2, 219.3,2,-999.0,9, -999.00,9, -999.00,9, -999.00,9,-999.0000,1,-999.0000,9, 0.0141, -999.0,9
740H20210202,SR1b_A23, 57,1,11,9012,2,20210221,1622,-61.17212, -31.04652,3485,1010.8, 0.3298, 0.3357, 2.0000,34.6807,2,-999.0000,9, 208.0,2,-999.0,9, -999.00,9, -999.00,9, -999.00,9,-999.0000,9,-999.0000,9, 0.0104, -999.0,9
740H20210202,SR1b_A23, 57,1,12,9013,2,20210221,1623,-61.17208, -31.04658,3485,1010.9, 0.3355, 0.3356, 2.0000,34.6808,2,34.6808,2, 207.9,2, 205.4,4, -999.00,9, -999.00,9, -999.00,9,-999.0000,1,-999.0000,9, 0.0142, -999.0,9
740H20210202,SR1b_A23, 57,1,13,9014,2,20210221,1633,-61.17210, -31.04652,3485, 503.7, 0.3904, 0.3906, 2.0000,34.6731,2,-999.0000,9, 206.7,2,-999.0,9, -999.00,9, -999.00,9, -999.00,9,-999.0000,9,-999.0000,9, 0.0179, -999.0,9
740H20210202,SR1b_A23, 57,1,14,9015,2,20210221,1634,-61.17212, -31.04650,3485, 503.7, 0.3907, 0.3908, 2.0000,34.6730,2,34.6733,2, 206.6,2, 205.3,4, -999.00,9, -999.00,9, -999.00,9,-999.0000,1,-999.0000,9, 0.0178, -999.0,9
740H20210202,SR1b_A23, 57,1,15,9016,2,20210221,1640,-61.17214, -31.04654,3485, 225.0, 0.1756, 0.1857, 2.0000,34.6350,2,-999.0000,9, 217.4,2,-999.0,9, -999.00,9, -999.00,9, -999.00,9,-999.0000,9,-999.0000,9, 0.0203, -999.0,9
740H20210202,SR1b_A23, 57,1,16,9017,2,20210221,1642,-61.17208, -31.04652,3485, 225.2, 0.1864, 0.1206, 2.0000,34.6352,2,34.6343,2, 217.3,2,-999.0,9, -999.00,9, -999.00,9, -999.00,9,-999.0000,1,-999.0000,9, 0.0144, -999.0,9
740H20210202,SR1b_A23, 57,1,17,9018,2,20210221,1645,-61.17208, -31.04646,3485, 149.2,-0.6159,-0.6233, 2.0000,34.5253,2,-999.0000,9, 248.9,2,-999.0,9, -999.00,9, -999.00,9, -999.00,9,-999.0000,9,-999.0000,9, 0.0492, -999.0,9
740H20210202,SR1b_A23, 57,1,18,9019,2,20210221,1646,-61.17210, -31.04651,3485, 149.2,-0.6140,-0.6175, 2.0000,34.5257,2,34.5283,2, 248.5,2, 245.3,4, -999.00,9, -999.00,9, -999.00,9,-999.0000,1,-999.0000,9, 0.0419, -999.0,9
740H20210202,SR1b_A23, 57,1,19,9020,2,20210221,1651,-61.17212, -31.04656,3485,  47.6,-0.7867,-0.7011, 2.0000,33.7891,2,-999.0000,9, 337.9,2,-999.0,9, -999.00,9, -999.00,9, -999.00,9,-999.0000,9,-999.0000,9, 1.8412, -999.0,9
740H20210202,SR1b_A23, 57,1,20,9021,2,20210221,1652,-61.17212, -31.04656,3485,  47.5,-0.7997,-0.7979, 2.0000,33.7927,2,33.7884,2, 337.6,2,-999.0,9, -999.00,9, -999.00,9, -999.00,9,-999.0000,1,-999.0000,9, 1.6601, -999.0,9
740H20210202,SR1b_A23, 57,1,21,9022,2,20210221,1654,-61.17210, -31.04654,3485,  17.3, 0.1575, 0.1609, 2.0000,33.5001,2,-999.0000,9, 356.7,2,-999.0,9, -999.00,9, -999.00,9, -999.00,9,-999.0000,9,-999.0000,9, 2.4744, -999.0,9
740H20210202,SR1b_A23, 57,1,22,9023,2,20210221,1656,-61.17208, -31.04650,3485,  17.2, 0.1633, 0.1614, 2.0000,33.5003,2,33.5016,2, 357.0,2, 354.1,4, -999.00,9, -999.00,9, -999.00,9,-999.0000,1,-999.0000,9, 2.1312, -999.0,9
740H20210202,SR1b_A23, 57,1,23,9024,2,20210221,1659,-61.17210, -31.04658,3485,   5.3, 0.1691, 0.1674, 2.0000,33.5017,2,33.5032,2, 357.9,2, 354.6,4, -999.00,9, -999.00,9, -999.00,9,-999.0000,1,-999.0000,9, 2.3472, -999.0,9
740H20210202,SR1b_A23, 57,1,24,9025,2,20210221,1701,-61.17212, -31.04650,3485,   9.5, 0.1763, 0.1764, 2.0000,33.5022,2,-999.0000,9, 358.0,2,-999.0,9, -999.00,9, -999.00,9, -999.00,9,-999.0000,9,-999.0000,9, 1.9927, -999.0,9
740H20210202,SR1b_A23, 58,1, 1,9002,2,20210221,2106,-61.55124, -31.10084,4079,4143.0,-0.4046,-0.4045, 2.0000,34.6383,2,-999.0000,9, 253.1,2,-999.0,9, -999.00,9, -999.00,9, -999.00,9,-999.0000,9,-999.0000,9, 0.0132, -999.0,9
740H20210202,SR1b_A23, 58,1, 2,9003,2,20210221,2106,-61.55126, -31.10086,4079,4142.9,-0.4048,-0.4046, 2.0000,34.6382,2,34.6370,2, 252.9,2, 251.3,4, -999.00,9, -999.00,9, -999.00,9,-999.0000,9,-999.0000,9, 0.0095, -999.0,9
740H20210202,SR1b_A23, 58,1, 3,8149,2,20210221,2107,-61.55126, -31.10082,4079,4143.4,-0.4058,-0.4050, 2.0000,34.6382,2,-999.0000,9, 252.7,2,-999.0,9, -999.00,9, -999.00,9, -999.00,9,-999.0000,9,-999.0000,9, 0.0135, -999.0,9
740H20210202,SR1b_A23, 58,1, 4,9005,2,20210221,2127,-61.55127, -31.10084,4079,3056.4,-0.3451,-0.3449, 2.0000,34.6476,2,-999.0000,9, 244.9,2,-999.0,9, -999.00,9, -999.00,9, -999.00,9,-999.0000,9,-999.0000,9, 0.0160, -999.0,9
740H20210202,SR1b_A23, 58,1, 5,9006,2,20210221,2128,-61.55128, -31.10078,4079,3056.5,-0.3450,-0.3448, 2.0000,34.6476,2,-999.0000,9, 244.9,2, 242.5,4, -999.00,9, -999.00,9, -999.00,9,-999.0000,9,-999.0000,9, 0.0092, -999.0,9
740H20210202,SR1b_A23, 58,1, 6,9007,2,20210221,2128,-61.55124, -31.10086,4079,3056.2,-0.3450,-0.3449, 2.0000,34.6476,2,-999.0000,9, 244.9,2,-999.0,9, -999.00,9, -999.00,9, -999.00,9,-999.0000,9,-999.0000,9, 0.0125, -999.0,9
740H20210202,SR1b_A23, 58,1, 7,9008,2,20210221,2147,-61.55122, -31.10090,4079,2032.6,-0.0679,-0.0650, 2.0000,34.6631,2,-999.0000,9, 228.1,2,-999.0,9, -999.00,9, -999.00,9, -999.00,9,-999.0000,9,-999.0000,9, 0.0139, -999.0,9
740H20210202,SR1b_A23, 58,1, 8,9009,2,20210221,2147,-61.55124, -31.10091,4079,2032.5,-0.0671,-0.0651, 2.0000,34.6631,2,34.6634,2, 228.0,2, 225.4,4, -999.00,9, -999.00,9, -999.00,9,-999.0000,9,-999.0000,9, 0.0114, -999.0,9
740H20210202,SR1b_A23, 58,1, 9,9010,2,20210221,2148,-61.55128, -31.10088,4079,2032.4,-0.0667,-0.0654, 2.0000,34.6630,2,-999.0000,9, 228.0,2,-999.0,9, -999.00,9, -999.00,9, -999.00,9,-999.0000,9,-999.0000,9, 0.0119, -999.0,9
740H20210202,SR1b_A23, 58,1,10,8156,2,20210221,2206,-61.55126, -31.10085,4079,1014.0, 0.3207, 0.3220, 2.0000,34.6810,2,-999.0000,9, 207.1,2,-999.0,9, -999.00,9, -999.00,9, -999.00,9,-999.0000,9,-999.0000,9, 0.0128, -999.0,9
740H20210202,SR1b_A23, 58,1,11,9012,2,20210221,2207,-61.55126, -31.10082,4079,1014.0, 0.3212, 0.3222, 2.0000,34.6807,2,-999.0000,9, 207.0,2,-999.0,9, -999.00,9, -999.00,9, -999.00,9,-999.0000,9,-999.0000,9, 0.0141, -999.0,9
740H20210202,SR1b_A23, 58,1,12,9013,2,20210221,2207,-61.55126, -31.10080,4079,1013.9, 0.3212, 0.3225, 2.0000,34.6809,2,-999.0000,9, 207.0,2, 205.3,4, -999.00,9, -999.00,9, -999.00,9,-999.0000,9,-999.0000,9, 0.0159, -999.0,9
740H20210202,SR1b_A23, 58,1,13,9014,2,20210221,2218,-61.55124, -31.10084,4079, 507.2, 0.3822, 0.3838, 2.0000,34.6734,2,-999.0000,9, 205.5,2,-999.0,9, -999.00,9, -999.00,9, -999.00,9,-999.0000,9,-999.0000,9, 0.0134, -999.0,9
740H20210202,SR1b_A23, 58,1,14,9015,2,20210221,2218,-61.55124, -31.10080,4079, 507.1, 0.3839, 0.3836, 2.0000,34.6737,2,-999.0000,9, 205.6,2,-999.0,9, -999.00,9, -999.00,9, -999.00,9,-999.0000,9,-999.0000,9, 0.0128, -999.0,9
740H20210202,SR1b_A23, 58,1,15,9016,2,20210221,2219,-61.55124, -31.10085,4079, 507.0, 0.3838, 0.3833, 2.0000,34.6737,2,34.6739,2, 205.7,2, 203.5,4, -999.00,9, -999.00,9, -999.00,9,-999.0000,9,-999.0000,9, 0.0165, -999.0,9
740H20210202,SR1b_A23, 58,1,16,9017,2,20210221,2227,-61.55124, -31.10087,4079, 131.2,-0.6637,-0.6512, 2.0000,34.5315,2,-999.0000,9, 248.9,2,-999.0,9, -999.00,9, -999.00,9, -999.00,9,-999.0000,9,-999.0000,9, 0.0385, -999.0,9
740H20210202,SR1b_A23, 58,1,17,9018,2,20210221,2228,-61.55122, -31.10094,4079, 131.6,-0.6984,-0.7137, 2.0000,34.5252,2,-999.0000,9, 250.6,2,-999.0,9, -999.00,9, -999.00,9, -999.00,9,-999.0000,9,-999.0000,9, 0.0550, -999.0,9
740H20210202,SR1b_A23, 58,1,18,9019,2,20210221,2228,-61.55126, -31.10088,4079, 131.4,-0.6986,-0.7075, 2.0000,34.5263,2,-999.0000,9, 250.9,2, 248.0,4, -999.00,9, -999.00,9, -999.00,9,-999.0000,9,-999.0000,9, 0.0436, -999.0,9
740H20210202,SR1b_A23, 58,1,19,9020,2,20210221,2233,-61.55122, -31.10084,4079,  71.0,-1.4242,-1.3754, 2.0000,34.3085,2,-999.0000,9, 296.3,2,-999.0,9, -999.00,9, -999.00,9, -999.00,9,-999.0000,9,-999.0000,9, 0.0908, -999.0,9
740H20210202,SR1b_A23, 58,1,20,9021,2,20210221,2234,-61.55122, -31.10086,4079,  71.4,-1.4155,-1.4103, 2.0000,34.3138,2,-999.0000,9, 293.9,2,-999.0,9, -999.00,9, -999.00,9, -999.00,9,-999.0000,9,-999.0000,9, 0.0937, -999.0,9
740H20210202,SR1b_A23, 58,1,21,9022,2,20210221,2234,-61.55124, -31.10086,4079,  71.3,-1.4257,-1.4264, 2.0000,34.3069,2,-999.0000,9, 297.1,2, 291.7,4, -999.00,9, -999.00,9, -999.00,9,-999.0000,9,-999.0000,9, 0.0973, -999.0,9
740H20210202,SR1b_A23, 58,1,22,9023,2,20210221,2238,-61.55128, -31.10086,4079,  25.3, 0.4229, 0.4275, 2.0000,33.5477,2,-999.0000,9, 354.3,2,-999.0,9, -999.00,9, -999.00,9, -999.00,9,-999.0000,9,-999.0000,9, 2.8836, -999.0,9
740H20210202,SR1b_A23, 58,1,23,9024,2,20210221,2238,-61.55128, -31.10086,4079,  25.2, 0.4297, 0.4303, 2.0000,33.5510,2,-999.0000,9, 354.2,2,-999.0,9, -999.00,9, -999.00,9, -999.00,9,-999.0000,9,-999.0000,9, 2.9007, -999.0,9
740H20210202,SR1b_A23, 58,1,24,9025,2,20210221,2239,-61.55126, -31.10085,4079,  25.8, 0.4296, 0.4308, 2.0000,33.5512,2,33.5523,2, 354.3,2, 352.0,4, -999.00,9, -999.00,9, -999.00,9,-999.0000,9,-999.0000,9, 2.7694, -999.0,9