BOTTLE,20210420POGBASEPA
EXPOCODE,SECT_ID,STNNBR,CASTNO,SAMPNO,BTLNBR,BTLNBR_FLAG_W,DATE,TIME,LATITUDE,LONGITUDE,DEPTH,CTDPRS,CTDTMP,SBE35,SBE35_FLAG_W,CTDSAL,CTDSAL_FLAG_W,SALNTY,SALNTY_FLAG_W,CTDOXY,CTDOXY_FLAG_W,OXYGEN,OXYGEN_FLAG_W,SILCAT,SILCAT_FLAG_W,NO2+NO3,NO2+NO3_FLAG_W,PHSPHT,PHSPHT_FLAG_W,DELO18,DELO18_FLAG_W,D30SI_SILCAT,D30SI_SILCAT_FLAG_W,CTDFLUOR,BOTCHLA,BOTCHLA_FLAG_W
 , , , , , , , , , , ,METERS,DBAR,ITS-90,ITS-90, ,PSS-78, ,PSS-78, ,UMOL/KG, ,UMOL/KG, ,UMOL/KG, ,UMOL/KG,UMOL/KG,UMOL/KG,UMOL/KG,/MILLE,/MILLE,/MILLE,/MILLE,MG/M^3,ML/L,ML/L
740H20210202,SR1b_A23, 64,1, 1,9002,2,20210224,0308,-63.08478, -30.11298,4865,4954.8,-0.4348,-0.4349, 2.0000,34.6352,2,-999.0000,9, 256.5,2,-999.0,9, -999.00,9, -999.00,9, -999.00,9,-999.0000,9,-999.0000,9, 0.0141, -999.0,9
740H20210202,SR1b_A23, 64,1, 2,9003,2,20210224,0308,-63.08478, -30.11301,4865,4954.9,-0.4348,-0.4349, 2.0000,34.6351,2,34.6349,2, 256.5,2, 255.9,2, -999.00,9, -999.00,9, -999.00,9,-999.0000,9,-999.0000,9, 0.0227, -999.0,9
740H20210202,SR1b_A23, 64,1, 3,8149,2,20210224,0325,-63.08468, -30.11170,4865,4085.1,-0.3986,-0.3976, 2.0000,34.6434,2,-999.0000,9, 249.8,2,-999.0,9, -999.00,9, -999.00,9, -999.00,9,-999.0000,9,-999.0000,9,-0.0001, -999.0,9
740H20210202,SR1b_A23, 64,1, 4,9005,2,20210224,0325,-63.08468, -30.11160,4865,4085.7,-0.3980,-0.3978, 2.0000,34.6434,2,-999.0000,9, 249.8,2, 249.7,2, -999.00,9, -999.00,9, -999.00,9,-999.0000,9,-999.0000,9, 0.0098, -999.0,9
740H20210202,SR1b_A23, 64,1, 5,9006,2,20210224,0346,-63.08450, -30.10914,4865,3054.2,-0.2578,-0.2574, 2.0000,34.6557,2,-999.0000,9, 237.9,2,-999.0,9, -999.00,9, -999.00,9, -999.00,9,-999.0000,9,-999.0000,9, 0.0216, -999.0,9
740H20210202,SR1b_A23, 64,1, 6,9007,2,20210224,0346,-63.08448, -30.10906,4865,3054.0,-0.2578,-0.2573, 2.0000,34.6556,2,34.6556,2, 237.9,2, 238.3,2, -999.00,9, -999.00,9, -999.00,9,-999.0000,9,-999.0000,9, 0.0158, -999.0,9
740H20210202,SR1b_A23, 64,1, 7,9008,2,20210224,0406,-63.08432, -30.10676,4865,2029.4,-0.0879,-0.0868, 2.0000,34.6638,2,-999.0000,9, 225.5,2,-999.0,9, -999.00,9, -999.00,9, -999.00,9,-999.0000,9,-999.0000,9, 0.0075, -999.0,9
740H20210202,SR1b_A23, 64,1, 8,9009,2,20210224,0406,-63.08432, -30.10664,4865,2029.5,-0.0875,-0.0869, 2.0000,34.6640,2,-999.0000,9, 225.7,2, 225.7,2, -999.00,9, -999.00,9, -999.00,9,-999.0000,9,-999.0000,9, 0.0220, -999.0,9
740H20210202,SR1b_A23, 64,1,13,9014,2,20210224,0433,-63.08410, -30.10344,4865, 604.3, 0.3989, 0.3991, 2.0000,34.6811,2,-999.0000,9, 198.0,2,-999.0,9, -999.00,9, -999.00,9, -999.00,9,-999.0000,9,-999.0000,9, 0.0297, -999.0,9
740H20210202,SR1b_A23, 64,1,14,9015,2,20210224,0433,-63.08406, -30.10337,4865, 604.3, 0.3988, 0.3990, 2.0000,34.6811,2,34.6815,2, 198.0,2, 198.0,2, -999.00,9, -999.00,9, -999.00,9,-999.0000,9,-999.0000,9, 0.0132, -999.0,9
740H20210202,SR1b_A23, 64,1,15,9016,2,20210224,0445,-63.08396, -30.10192,4865, 100.3,-1.0759,-1.0780, 2.0000,34.4708,2,-999.0000,9, 263.7,2,-999.0,9, -999.00,9, -999.00,9, -999.00,9,-999.0000,9,-999.0000,9, 0.0563, -999.0,9
740H20210202,SR1b_A23, 64,1,16,9017,2,20210224,0446,-63.08394, -30.10184,4865, 100.2,-1.0757,-1.0811, 2.0000,34.4700,2,-999.0000,9, 263.8,2, 262.9,2, -999.00,9, -999.00,9, -999.00,9,-999.0000,9,-999.0000,9, 0.0615, -999.0,9
740H20210202,SR1b_A23, 64,1,17,9018,2,20210224,0451,-63.08390, -30.10128,4865,  68.6,-1.5336,-1.5093, 2.0000,34.2848,2,-999.0000,9, 305.8,2,-999.0,9, -999.00,9, -999.00,9, -999.00,9,-999.0000,9,-999.0000,9, 0.1959, -999.0,9
740H20210202,SR1b_A23, 64,1,18,9019,2,20210224,0451,-63.08390, -30.10120,4865,  68.1,-1.5227,-1.5027, 2.0000,34.2786,2,-999.0000,9, 305.7,2, 305.3,2, -999.00,9, -999.00,9, -999.00,9,-999.0000,9,-999.0000,9, 0.1770, -999.0,9
740H20210202,SR1b_A23, 64,1,19,9020,2,20210224,0455,-63.08386, -30.10080,4865,  18.1,-0.0554,-0.0549, 2.0000,33.9333,2,-999.0000,9, 344.8,2,-999.0,9, -999.00,9, -999.00,9, -999.00,9,-999.0000,9,-999.0000,9, 1.7624, -999.0,9
740H20210202,SR1b_A23, 64,1,20,9021,2,20210224,0455,-63.08386, -30.10074,4865,  18.0,-0.0542,-0.0528, 2.0000,33.9334,2,33.9355,2, 344.9,2, 345.7,3, -999.00,9, -999.00,9, -999.00,9,-999.0000,9,-999.0000,9, 1.7065, -999.0,9
740H20210202,SR1b_A23, 65,1, 1,9002,2,20210224,0928,-63.34740, -29.56648,4734,4819.3,-0.4463,-0.4463, 2.0000,34.6353,2,-999.0000,9, 256.1,2,-999.0,9, -999.00,9, -999.00,9, -999.00,9,-999.0000,9,-999.0000,9, 0.0153, -999.0,9
740H20210202,SR1b_A23, 65,1, 2,9003,2,20210224,0929,-63.34740, -29.56654,4734,4819.2,-0.4465,-0.4463, 2.0000,34.6352,2,34.6358,2, 256.4,2, 256.2,2, -999.00,9, -999.00,9, -999.00,9,-999.0000,1,-999.0000,9, 0.0133, -999.0,9
740H20210202,SR1b_A23, 65,1, 3,8149,2,20210224,0935,-63.34742, -29.56592,4734,4604.8,-0.4560,-0.4556, 2.0000,34.6360,2,-999.0000,9, 255.4,2,-999.0,9, -999.00,9, -999.00,9, -999.00,9,-999.0000,9,-999.0000,9, 0.0096, -999.0,9
740H20210202,SR1b_A23, 65,1, 4,9005,2,20210224,0935,-63.34744, -29.56586,4734,4605.0,-0.4558,-0.4558, 2.0000,34.6361,2,34.6362,2, 255.5,2, 255.4,2, -999.00,9, -999.00,9, -999.00,9,-999.0000,1,-999.0000,9, 0.0113, -999.0,9
740H20210202,SR1b_A23, 65,1, 5,9006,2,20210224,0946,-63.34744, -29.56452,4734,4087.3,-0.4473,-0.4456, 2.0000,34.6395,2,34.6401,2, 252.5,2, 252.5,2, -999.00,9, -999.00,9, -999.00,9,-999.0000,1,-999.0000,9, 0.0103, -999.0,9
740H20210202,SR1b_A23, 65,1, 6,9007,2,20210224,0957,-63.34752, -29.56320,4734,3572.7,-0.3423,-0.3413, 2.0000,34.6502,2,34.6502,2, 243.9,2,-999.0,9, -999.00,9, -999.00,9, -999.00,9,-999.0000,1,-999.0000,9, 0.0213, -999.0,9
740H20210202,SR1b_A23, 65,1, 7,9008,2,20210224,1007,-63.34760, -29.56194,4734,3057.8,-0.2649,-0.2641, 2.0000,34.6553,2,34.6557,2, 238.1,2, 238.7,2, -999.00,9, -999.00,9, -999.00,9,-999.0000,1,-999.0000,9, 0.0148, -999.0,9
740H20210202,SR1b_A23, 65,1, 8,9009,2,20210224,1018,-63.34760, -29.56054,4734,2545.2,-0.1950,-0.1948, 2.0000,34.6588,2,34.6596,2, 232.9,2,-999.0,9, -999.00,9, -999.00,9, -999.00,9,-999.0000,1,-999.0000,9, 0.0122, -999.0,9
740H20210202,SR1b_A23, 65,1, 9,9010,2,20210224,1019,-63.34760, -29.56048,4734,2545.3,-0.1950,-0.1948, 2.0000,34.6588,2,-999.0000,9, 233.0,2,-999.0,9, -999.00,9, -999.00,9, -999.00,9,-999.0000,9,-999.0000,9, 0.0199, -999.0,9
740H20210202,SR1b_A23, 65,1,10,8156,4,20210224,1030,-63.34770, -29.55902,4734,2033.8,-0.0928,-0.0924, 2.0000,34.6638,2,-999.0000,9, 225.8,2,-999.0,9, -999.00,9, -999.00,9, -999.00,9,-999.0000,9,-999.0000,9, 0.0185, -999.0,9
740H20210202,SR1b_A23, 65,1,11,9012,2,20210224,1030,-63.34764, -29.55902,4734,2033.6,-0.0928,-0.0927, 2.0000,34.6637,2,34.6642,2, 225.6,2,-999.0,9, -999.00,9, -999.00,9, -999.00,9,-999.0000,1,-999.0000,9, 0.0106, -999.0,9
740H20210202,SR1b_A23, 65,1,12,9013,2,20210224,1040,-63.34772, -29.55787,4734,1523.0, 0.0510, 0.0513, 2.0000,34.6698,2,34.6703,2, 217.3,2, 217.8,2, -999.00,9, -999.00,9, -999.00,9,-999.0000,1,-999.0000,9, 0.0201, -999.0,9
740H20210202,SR1b_A23, 65,1,13,9014,2,20210224,1051,-63.34774, -29.55650,4734,1014.9, 0.2550, 0.2556, 2.0000,34.6790,2,34.6801,2, 205.9,2,-999.0,9, -999.00,9, -999.00,9, -999.00,9,-999.0000,1,-999.0000,9, 0.0091, -999.0,9
740H20210202,SR1b_A23, 65,1,14,9015,2,20210224,1058,-63.34780, -29.55564,4734, 761.0, 0.3461, 0.3486, 2.0000,34.6828,2,34.6833,2, 200.3,2,-999.0,9, -999.00,9, -999.00,9, -999.00,9,-999.0000,1,-999.0000,9, 0.0187, -999.0,9
740H20210202,SR1b_A23, 65,1,15,9016,2,20210224,1105,-63.34784, -29.55482,4734, 507.6, 0.3879, 0.3856, 2.0000,34.6797,2,34.6795,2, 197.0,2, 197.2,2, -999.00,9, -999.00,9, -999.00,9,-999.0000,1,-999.0000,9, 0.0199, -999.0,9
740H20210202,SR1b_A23, 65,1,16,9017,2,20210224,1110,-63.34787, -29.55428,4734, 354.8, 0.2540, 0.2543, 2.0000,34.6648,2,34.6657,2, 203.7,2,-999.0,9, -999.00,9, -999.00,9, -999.00,9,-999.0000,1,-999.0000,9, 0.0225, -999.0,9
740H20210202,SR1b_A23, 65,1,17,9018,2,20210224,1114,-63.34790, -29.55385,4734, 228.8, 0.2015, 0.1887, 2.0000,34.6576,2,34.6583,2, 207.9,2,-999.0,9, -999.00,9, -999.00,9, -999.00,9,-999.0000,1,-999.0000,9, 0.0201, -999.0,9
740H20210202,SR1b_A23, 65,1,18,9019,2,20210224,1117,-63.34789, -29.55330,4734, 152.4,-0.3125,-0.2807, 2.0000,34.5978,2,34.6062,2, 227.3,2,-999.0,9, -999.00,9, -999.00,9, -999.00,9,-999.0000,1,-999.0000,9, 0.0355, -999.0,9
740H20210202,SR1b_A23, 65,1,19,9020,2,20210224,1120,-63.34792, -29.55296,4734, 103.5,-1.3144,-1.2364, 2.0000,34.4042,2,34.4201,2, 277.5,2,-999.0,9, -999.00,9, -999.00,9, -999.00,9,-999.0000,1,-999.0000,9, 0.0674, -999.0,9
740H20210202,SR1b_A23, 65,1,20,9021,2,20210224,1125,-63.34796, -29.55234,4734,  51.5,-1.2557,-1.2313, 2.0000,34.1533,2,34.1697,2, 322.6,2,-999.0,9, -999.00,9, -999.00,9, -999.00,9,-999.0000,1,-999.0000,9, 0.6674, -999.0,9
740H20210202,SR1b_A23, 65,1,21,9022,2,20210224,1129,-63.34800, -29.55225,4734,  21.0,-0.2241,-0.2264, 2.0000,33.9027,2,33.9049,2, 343.6,2,-999.0,9, -999.00,9, -999.00,9, -999.00,9,-999.0000,1,-999.0000,9, 1.5054, -999.0,9
740H20210202,SR1b_A23, 65,1,22,9023,2,20210224,1130,-63.34792, -29.55206,4734,  20.5,-0.2216,-0.2219, 2.0000,33.9008,2,-999.0000,9, 344.1,2,-999.0,9, -999.00,9, -999.00,9, -999.00,9,-999.0000,9,-999.0000,9, 1.5220, -999.0,9
740H20210202,SR1b_A23, 65,1,23,9024,2,20210224,1131,-63.34794, -29.55206,4734,  21.0,-0.2220,-0.2220, 2.0000,33.9009,2,-999.0000,9, 344.1,2,-999.0,9, -999.00,9, -999.00,9, -999.00,9,-999.0000,9,-999.0000,9, 1.5716, -999.0,9
740H20210202,SR1b_A23, 66,1, 1,9002,2,20210227,1123,-61.04670, -54.58962, 383, 373.1, 0.0632, 0.0805, 2.0000,34.4985,2,-999.0000,9, 265.1,2,-999.0,9, -999.00,9, -999.00,9, -999.00,9,-999.0000,9,-999.0000,9, 0.0635, -999.0,9
740H20210202,SR1b_A23, 66,1, 2,9003,2,20210227,1124,-61.04668, -54.58990, 383, 372.9, 0.0861, 0.0974, 2.0000,34.4904,2,34.4890,2, 267.1,2, 266.2,2, -999.00,9, -999.00,9, -999.00,9,-999.0000,1,-999.0000,9, 0.0661, -999.0,9
740H20210202,SR1b_A23, 66,1, 3,8149,2,20210227,1128,-61.04636, -54.59086, 383, 264.9, 0.4304, 0.4307, 2.0000,34.4136,2,-999.0000,9, 281.2,2,-999.0,9, -999.00,9, -999.00,9, -999.00,9,-999.0000,9,-999.0000,9, 0.1447, -999.0,9
740H20210202,SR1b_A23, 66,1, 4,9005,2,20210227,1129,-61.04632, -54.59107, 383, 264.9, 0.4285, 0.4246, 2.0000,34.4141,2,34.4163,2, 279.5,2, 280.0,2, -999.00,9, -999.00,9, -999.00,9,-999.0000,1,-999.0000,9, 0.1244, -999.0,9
740H20210202,SR1b_A23, 66,1,13,9014,2,20210227,1133,-61.04602, -54.59224, 383, 133.5, 0.7567, 0.7447, 2.0000,34.3402,2,-999.0000,9, 287.8,2,-999.0,9, -999.00,9, -999.00,9, -999.00,9,-999.0000,9,-999.0000,9, 0.1107, -999.0,9
740H20210202,SR1b_A23, 66,1,14,9015,2,20210227,1134,-61.04598, -54.59224, 383, 133.3, 0.7463, 0.7244, 2.0000,34.3425,2,34.3422,2, 288.0,2, 286.5,2, -999.00,9, -999.00,9, -999.00,9,-999.0000,1,-999.0000,9, 0.1015, -999.0,9
740H20210202,SR1b_A23, 66,1,15,9016,2,20210227,1142,-61.04548, -54.59424, 383,  12.4, 1.3957, 1.3983, 2.0000,34.1455,2,34.1450,2, 325.9,2, 325.3,2, -999.00,9, -999.00,9, -999.00,9,-999.0000,1,-999.0000,9, 0.4796, -999.0,9
740H20210202,SR1b_A23, 66,1,16,9017,2,20210227,1142,-61.04546, -54.59438, 383,  12.4, 1.3910, 1.3966, 2.0000,34.1444,2,-999.0000,9, 326.3,2,-999.0,9, -999.00,9, -999.00,9, -999.00,9,-999.0000,9,-999.0000,9, 0.4704, -999.0,9
740H20210202,SR1b_A23, 67,1, 1,9002,2,20210227,2226,-60.98066, -54.63072, 582, 576.1, 0.1078, 0.1049, 2.0000,34.6213,2,-999.0000,9, 235.0,2,-999.0,9, -999.00,9, -999.00,9, -999.00,9,-999.0000,9,-999.0000,9, 0.0224, -999.0,9
740H20210202,SR1b_A23, 67,1, 2,9003,2,20210227,2226,-60.98066, -54.63076, 582, 576.2, 0.1060, 0.1056, 2.0000,34.6216,2,34.6223,2, 235.1,2, 234.2,2, -999.00,9, -999.00,9, -999.00,9,-999.0000,1,-999.0000,9, 0.0179, -999.0,9
740H20210202,SR1b_A23, 67,1, 3,8149,2,20210227,2230,-60.98056, -54.63120, 582, 478.9, 0.0944, 0.0909, 2.0000,34.5963,2,-999.0000,9, 242.8,2,-999.0,9, -999.00,9, -999.00,9, -999.00,9,-999.0000,9,-999.0000,9, 0.0233, -999.0,9
740H20210202,SR1b_A23, 67,1, 4,9005,2,20210227,2231,-60.98054, -54.63126, 582, 478.9, 0.0910, 0.0785, 2.0000,34.5953,2,34.5986,2, 242.7,2, 241.2,2, -999.00,9, -999.00,9, -999.00,9,-999.0000,1,-999.0000,9, 0.0231, -999.0,9
740H20210202,SR1b_A23, 67,1, 5,9006,2,20210227,2234,-60.98045, -54.63160, 582, 418.0,-0.0058,-0.0014, 2.0000,34.5709,2,-999.0000,9, 251.5,2,-999.0,9, -999.00,9, -999.00,9, -999.00,9,-999.0000,9,-999.0000,9, 0.0264, -999.0,9
740H20210202,SR1b_A23, 67,1, 6,9007,2,20210227,2235,-60.98044, -54.63170, 582, 418.1,-0.0057,-0.0017, 2.0000,34.5714,2,34.5716,2, 251.3,2, 249.7,2, -999.00,9, -999.00,9, -999.00,9,-999.0000,1,-999.0000,9, 0.0253, -999.0,9
740H20210202,SR1b_A23, 67,1,13,9014,2,20210227,2239,-60.98028, -54.63242, 582, 286.7,-0.1740,-0.1751, 2.0000,34.5211,2,-999.0000,9, 268.6,2,-999.0,9, -999.00,9, -999.00,9, -999.00,9,-999.0000,9,-999.0000,9, 0.0348, -999.0,9
740H20210202,SR1b_A23, 67,1,14,9015,2,20210227,2240,-60.98026, -54.63246, 582, 286.8,-0.1647,-0.1727, 2.0000,34.5241,2,34.5240,2, 267.3,2, 266.8,2, -999.00,9, -999.00,9, -999.00,9,-999.0000,1,-999.0000,9, 0.0357, -999.0,9
740H20210202,SR1b_A23, 67,1,15,9016,2,20210227,2246,-60.98006, -54.63345, 582, 105.2, 0.3393, 0.3414, 2.0000,34.3971,2,-999.0000,9, 304.1,2,-999.0,9, -999.00,9, -999.00,9, -999.00,9,-999.0000,9,-999.0000,9, 0.2322, -999.0,9
740H20210202,SR1b_A23, 67,1,16,9017,2,20210227,2247,-60.98004, -54.63354, 582, 104.3, 0.3414, 0.3427, 2.0000,34.3970,2,34.3970,2, 306.0,2, 303.8,2, -999.00,9, -999.00,9, -999.00,9,-999.0000,1,-999.0000,9, 0.2324, -999.0,9
740H20210202,SR1b_A23, 67,1,17,9018,2,20210227,2253,-60.97982, -54.63444, 582,  12.4, 1.1549, 1.1418, 2.0000,34.2407,2,-999.0000,9, 315.8,2,-999.0,9, -999.00,9, -999.00,9, -999.00,9,-999.0000,9,-999.0000,9, 0.3986, -999.0,9
740H20210202,SR1b_A23, 67,1,18,9019,2,20210227,2253,-60.97980, -54.63456, 582,  11.8, 1.1652, 1.2380, 2.0000,34.2398,2,34.2351,2, 316.2,2, 314.5,2, -999.00,9, -999.00,9, -999.00,9,-999.0000,1,-999.0000,9, 0.4037, -999.0,9
740H20210202,SR1b_A23, 68,1, 1,9002,2,20210228,0047,-60.84693, -54.71220,1088,1078.7, 0.3713, 0.3720, 2.0000,34.6622,2,-999.0000,9, 221.3,2,-999.0,9, -999.00,9, -999.00,9, -999.00,9,-999.0000,9,-999.0000,9, 0.0135, -999.0,9
740H20210202,SR1b_A23, 68,1, 2,9003,2,20210228,0048,-60.84686, -54.71232,1088,1078.9, 0.3722, 0.3732, 2.0000,34.6623,2,34.6632,2, 221.3,2, 220.4,2, -999.00,9, -999.00,9, -999.00,9,-999.0000,1,-999.0000,9, 0.0099, -999.0,9
740H20210202,SR1b_A23, 68,1, 3,8149,2,20210228,0053,-60.84644, -54.71280,1088, 963.8, 0.3603, 0.3593, 2.0000,34.6614,2,-999.0000,9, 221.8,2,-999.0,9, -999.00,9, -999.00,9, -999.00,9,-999.0000,9,-999.0000,9, 0.0084, -999.0,9
740H20210202,SR1b_A23, 68,1, 4,9005,2,20210228,0053,-60.84639, -54.71285,1088, 963.9, 0.3600, 0.3575, 2.0000,34.6615,2,34.6622,2, 221.6,2,-999.0,9, -999.00,9, -999.00,9, -999.00,9,-999.0000,1,-999.0000,9, 0.0051, -999.0,9
740H20210202,SR1b_A23, 68,1, 5,9006,2,20210228,0100,-60.84578, -54.71360,1088, 711.6, 0.3921, 0.3885, 2.0000,34.6413,2,-999.0000,9, 226.8,2,-999.0,9, -999.00,9, -999.00,9, -999.00,9,-999.0000,9,-999.0000,9, 0.0208, -999.0,9
740H20210202,SR1b_A23, 68,1, 6,9007,2,20210228,0100,-60.84572, -54.71367,1088, 711.8, 0.3897, 0.3900, 2.0000,34.6398,2,34.6406,2, 227.1,2, 226.3,2, -999.00,9, -999.00,9, -999.00,9,-999.0000,1,-999.0000,9, 0.0119, -999.0,9
740H20210202,SR1b_A23, 68,1, 7,9008,2,20210228,0106,-60.84520, -54.71432,1088, 508.4, 0.2274, 0.2312, 2.0000,34.5843,2,-999.0000,9, 243.6,2,-999.0,9, -999.00,9, -999.00,9, -999.00,9,-999.0000,9,-999.0000,9, 0.0195, -999.0,9
740H20210202,SR1b_A23, 68,1, 8,9009,2,20210228,0107,-60.84511, -54.71448,1088, 508.4, 0.2286, 0.2202, 2.0000,34.5846,2,34.5849,2, 243.5,2, 243.4,2, -999.00,9, -999.00,9, -999.00,9,-999.0000,1,-999.0000,9, 0.0231, -999.0,9
740H20210202,SR1b_A23, 68,1,13,9014,2,20210228,0112,-60.84466, -54.71506,1088, 356.9,-0.0402,-0.0403, 2.0000,34.4827,2,-999.0000,9, 272.9,2,-999.0,9, -999.00,9, -999.00,9, -999.00,9,-999.0000,9,-999.0000,9, 0.0293, -999.0,9
740H20210202,SR1b_A23, 68,1,14,9015,2,20210228,0112,-60.84461, -54.71513,1088, 356.7,-0.0414,-0.0416, 2.0000,34.4835,2,34.4853,2, 272.8,2,-999.0,9, -999.00,9, -999.00,9, -999.00,9,-999.0000,1,-999.0000,9, 0.0420, -999.0,9
740H20210202,SR1b_A23, 68,1,15,9016,2,20210228,0116,-60.84428, -54.71556,1088, 255.9, 0.1422, 0.1390, 2.0000,34.4574,2,-999.0000,9, 274.1,2,-999.0,9, -999.00,9, -999.00,9, -999.00,9,-999.0000,9,-999.0000,9, 0.0381, -999.0,9
740H20210202,SR1b_A23, 68,1,16,9017,2,20210228,0116,-60.84424, -54.71557,1088, 255.6, 0.1416, 0.1458, 2.0000,34.4574,2,34.4601,2, 274.0,2, 273.2,2, -999.00,9, -999.00,9, -999.00,9,-999.0000,1,-999.0000,9, 0.0401, -999.0,9
740H20210202,SR1b_A23, 68,1,17,9018,2,20210228,0121,-60.84382, -54.71614,1088, 124.2, 0.5876, 0.5901, 2.0000,34.3637,2,-999.0000,9, 297.8,2,-999.0,9, -999.00,9, -999.00,9, -999.00,9,-999.0000,9,-999.0000,9, 0.1605, -999.0,9
740H20210202,SR1b_A23, 68,1,18,9019,2,20210228,0121,-60.84374, -54.71626,1088, 124.2, 0.5888, 0.5881, 2.0000,34.3634,2,34.3649,2, 297.8,2, 296.5,2, -999.00,9, -999.00,9, -999.00,9,-999.0000,1,-999.0000,9, 0.1739, -999.0,9
740H20210202,SR1b_A23, 68,1,19,9020,2,20210228,0129,-60.84306, -54.71714,1088,  12.8, 0.9972, 0.9993, 2.0000,34.2864,2,-999.0000,9, 310.0,2,-999.0,9, -999.00,9, -999.00,9, -999.00,9,-999.0000,9,-999.0000,9, 0.3171, -999.0,9
740H20210202,SR1b_A23, 68,1,20,9021,2,20210228,0129,-60.84302, -54.71721,1088,  13.1, 0.9990, 1.0014, 2.0000,34.2863,2,34.2871,2, 310.2,2, 309.3,2, -999.00,9, -999.00,9, -999.00,9,-999.0000,1,-999.0000,9, 0.3140, -999.0,9