BOTTLE,20210420POGBASEPA
EXPOCODE,SECT_ID,STNNBR,CASTNO,SAMPNO,BTLNBR,BTLNBR_FLAG_W,DATE,TIME,LATITUDE,LONGITUDE,DEPTH,CTDPRS,CTDTMP,SBE35,SBE35_FLAG_W,CTDSAL,CTDSAL_FLAG_W,SALNTY,SALNTY_FLAG_W,CTDOXY,CTDOXY_FLAG_W,OXYGEN,OXYGEN_FLAG_W,SILCAT,SILCAT_FLAG_W,NO2+NO3,NO2+NO3_FLAG_W,PHSPHT,PHSPHT_FLAG_W,DELO18,DELO18_FLAG_W,D30SI_SILCAT,D30SI_SILCAT_FLAG_W,CTDFLUOR,BOTCHLA,BOTCHLA_FLAG_W
 , , , , , , , , , , ,METERS,DBAR,ITS-90,ITS-90, ,PSS-78, ,PSS-78, ,UMOL/KG, ,UMOL/KG, ,UMOL/KG, ,UMOL/KG,UMOL/KG,UMOL/KG,UMOL/KG,/MILLE,/MILLE,/MILLE,/MILLE,MG/M^3,ML/L,ML/L
740H20210202,SR1b_A23, 29,1, 1,9002,2,20210215,2015,-56.24295, -34.68266,3678,1016.5, 1.3228, 1.3219, 2.0000,34.7019,2,34.7021,2, 196.4,2, 195.9,2, -999.00,9, -999.00,9, -999.00,9,-999.0000,9,-999.0000,9, 0.0145, -999.0,9
740H20210202,SR1b_A23, 29,1, 2,9003,2,20210215,2016,-56.24296, -34.68282,3678,1016.5, 1.3178, 1.3165, 2.0000,34.7020,2,-999.0000,9, 196.3,2,-999.0,9, -999.00,9, -999.00,9, -999.00,9,-999.0000,9,-999.0000,9, 0.0140, -999.0,9
740H20210202,SR1b_A23, 29,1, 3,8149,2,20210215,2016,-56.24296, -34.68294,3678,1016.6, 1.3161, 1.3161, 2.0000,34.7021,2,-999.0000,9, 196.3,2,-999.0,9, -999.00,9, -999.00,9, -999.00,9,-999.0000,9,-999.0000,9, 0.0162, -999.0,9
740H20210202,SR1b_A23, 29,1, 4,9005,2,20210215,2029,-56.24304, -34.68540,3678, 408.1, 1.7899, 1.7903, 2.0000,34.5732,2,-999.0000,9, 188.6,2,-999.0,9, -999.00,9, -999.00,9, -999.00,9,-999.0000,9,-999.0000,9, 0.0174, -999.0,9
740H20210202,SR1b_A23, 29,1, 5,9006,2,20210215,2029,-56.24306, -34.68552,3678, 408.0, 1.7900, 1.7902, 2.0000,34.5732,2,34.5727,2, 188.3,2, 187.9,2, -999.00,1, -999.00,1, -999.00,1,-999.0000,1,-999.0000,1, 0.0262, -999.0,9
740H20210202,SR1b_A23, 29,1, 6,9007,2,20210215,2030,-56.24306, -34.68566,3678, 408.0, 1.7900, 1.7901, 2.0000,34.5729,2,-999.0000,9, 188.1,2,-999.0,9, -999.00,9, -999.00,9, -999.00,9,-999.0000,9,-999.0000,9, 0.0234, -999.0,9
740H20210202,SR1b_A23, 29,1, 7,9008,2,20210215,2036,-56.24310, -34.68692,3678, 205.3, 0.6156, 0.5895, 2.0000,34.1954,2,-999.0000,9, 273.1,2,-999.0,9, -999.00,9, -999.00,9, -999.00,9,-999.0000,9,-999.0000,9, 0.0258, -999.0,9
740H20210202,SR1b_A23, 29,1, 8,9009,2,20210215,2037,-56.24312, -34.68707,3678, 205.4, 0.5626, 0.5871, 2.0000,34.1807,2,34.2106,2, 275.7,2,-999.0,9, -999.00,1, -999.00,1, -999.00,1,-999.0000,1,-999.0000,1, 0.0262, -999.0,9
740H20210202,SR1b_A23, 29,1, 9,9010,2,20210215,2038,-56.24312, -34.68724,3678, 205.3, 0.5598, 0.5616, 2.0000,34.1807,2,-999.0000,9, 276.2,2,-999.0,9, -999.00,9, -999.00,9, -999.00,9,-999.0000,9,-999.0000,9, 0.0212, -999.0,9
740H20210202,SR1b_A23, 29,1,10,8156,2,20210215,2044,-56.24318, -34.68852,3678, 104.7, 2.1727, 2.1828, 2.0000,33.9014,2,-999.0000,9, 331.4,2,-999.0,9, -999.00,9, -999.00,9, -999.00,9,-999.0000,9,-999.0000,9, 0.6046, -999.0,9
740H20210202,SR1b_A23, 29,1,11,9012,2,20210215,2045,-56.24318, -34.68864,3678, 104.8, 2.1537, 2.1753, 2.0000,33.9021,2,33.9008,2, 331.5,2, 331.0,2, -999.00,1, -999.00,1, -999.00,1,-999.0000,1,-999.0000,1, 0.5978, -999.0,9
740H20210202,SR1b_A23, 29,1,12,9013,2,20210215,2045,-56.24318, -34.68878,3678, 104.7, 2.1508, 2.1614, 2.0000,33.9014,2,-999.0000,9, 331.5,2,-999.0,9, -999.00,9, -999.00,9, -999.00,9,-999.0000,9,-999.0000,9, 0.5911, -999.0,9
740H20210202,SR1b_A23, 29,1,13,9014,2,20210215,2050,-56.24322, -34.68968,3678,  54.1, 1.6755, 1.6753, 2.0000,33.5331,2,-999.0000,9, 338.1,2,-999.0,9, -999.00,9, -999.00,9, -999.00,9,-999.0000,9,-999.0000,9, 1.2649, -999.0,9
740H20210202,SR1b_A23, 29,1,14,9015,2,20210215,2051,-56.24322, -34.68980,3678,  53.7, 1.6959, 1.7073, 2.0000,33.5844,2,33.5545,2, 333.5,2,-999.0,9, -999.00,9, -999.00,9, -999.00,9,-999.0000,1,-999.0000,9, 1.0417, -999.0,9
740H20210202,SR1b_A23, 29,1,15,9016,2,20210215,2051,-56.24324, -34.68994,3678,  53.7, 1.6601, 1.6613, 2.0000,33.6120,2,-999.0000,9, 333.2,2,-999.0,9, -999.00,9, -999.00,9, -999.00,9,-999.0000,9,-999.0000,9, 0.9946, -999.0,9
740H20210202,SR1b_A23, 29,1,16,9017,2,20210215,2056,-56.24326, -34.69080,3678,  28.6, 1.5887, 1.5874, 2.0000,33.4085,2,-999.0000,9, 344.3,2,-999.0,9, -999.00,9, -999.00,9, -999.00,9,-999.0000,9,-999.0000,9, 1.5866, -999.0,9
740H20210202,SR1b_A23, 29,1,17,9018,2,20210215,2056,-56.24328, -34.69090,3678,  28.7, 1.5902, 1.5865, 2.0000,33.4084,2,33.4036,2, 344.0,2,-999.0,9, -999.00,1, -999.00,1, -999.00,1,-999.0000,1,-999.0000,1, 1.5197, -999.0,9
740H20210202,SR1b_A23, 29,1,18,9019,2,20210215,2057,-56.24328, -34.69102,3678,  28.6, 1.5872, 1.6041, 2.0000,33.4052,2,-999.0000,9, 344.3,2,-999.0,9, -999.00,9, -999.00,9, -999.00,9,-999.0000,9,-999.0000,9, 1.4854, -999.0,9
740H20210202,SR1b_A23, 29,1,19,9020,2,20210215,2059,-56.24329, -34.69142,3678,   8.3, 1.6990, 1.6615, 2.0000,33.3576,2,-999.0000,9, 347.9,2,-999.0,9, -999.00,9, -999.00,9, -999.00,9,-999.0000,9,-999.0000,9, 1.5545, -999.0,9
740H20210202,SR1b_A23, 29,1,20,9021,2,20210215,2100,-56.24330, -34.69158,3678,   8.3, 1.6509, 1.6444, 2.0000,33.3039,2,33.3274,2, 347.5,2, 346.5,2, -999.00,1, -999.00,1, -999.00,1,-999.0000,1,-999.0000,1, 1.4972, -999.0,9
740H20210202,SR1b_A23, 29,1,21,9022,2,20210215,2100,-56.24330, -34.69168,3678,   8.3, 1.6445, 1.6398, 2.0000,33.3007,2,-999.0000,9, 347.5,2,-999.0,9, -999.00,9, -999.00,9, -999.00,9,-999.0000,9,-999.0000,9, 1.5249, -999.0,9
740H20210202,SR1b_A23, 30,1, 1,9002,2,20210216,0833,-55.65318, -34.75148,1266,1269.6, 1.3721, 1.3737, 2.0000,34.6975,2,34.6979,2, 196.0,2, 195.6,2, -999.00,9, -999.00,9, -999.00,9,-999.0000,9,-999.0000,9, 0.0144, -999.0,9
740H20210202,SR1b_A23, 30,1, 2,9003,2,20210216,0833,-55.65318, -34.75148,1266,1269.7, 1.3739, 1.3731, 2.0000,34.6975,2,-999.0000,9, 195.6,2,-999.0,9, -999.00,9, -999.00,9, -999.00,9,-999.0000,9,-999.0000,9, 0.0166, -999.0,9
740H20210202,SR1b_A23, 30,1, 3,8149,2,20210216,0834,-55.65320, -34.75148,1266,1269.6, 1.3725, 1.3725, 2.0000,34.6976,2,-999.0000,9, 196.0,2,-999.0,9, -999.00,9, -999.00,9, -999.00,9,-999.0000,9,-999.0000,9, 0.0156, -999.0,9
740H20210202,SR1b_A23, 30,1, 4,9005,2,20210216,0851,-55.65320, -34.75148,1266, 407.1, 2.1816, 2.1813, 2.0000,34.5545,2,34.5559,2, 176.6,2, 175.7,2, -999.00,1, -999.00,1, -999.00,1,-999.0000,1,-999.0000,1, 0.0180, -999.0,9
740H20210202,SR1b_A23, 30,1, 5,9006,2,20210216,0851,-55.65320, -34.75150,1266, 407.2, 2.1812, 2.1813, 2.0000,34.5540,2,-999.0000,9, 177.0,2,-999.0,9, -999.00,9, -999.00,9, -999.00,9,-999.0000,9,-999.0000,9, 0.0165, -999.0,9
740H20210202,SR1b_A23, 30,1, 6,9007,2,20210216,0852,-55.65320, -34.75148,1266, 407.3, 2.1813, 2.1815, 2.0000,34.5541,2,-999.0000,9, 176.8,2,-999.0,9, -999.00,9, -999.00,9, -999.00,9,-999.0000,9,-999.0000,9, 0.0194, -999.0,9
740H20210202,SR1b_A23, 30,1, 7,9008,2,20210216,0858,-55.65320, -34.75150,1266, 204.0, 1.4255, 1.4220, 2.0000,34.2465,2,34.2552,2, 237.8,2,-999.0,9, -999.00,1, -999.00,1, -999.00,1,-999.0000,1,-999.0000,1, 0.0226, -999.0,9
740H20210202,SR1b_A23, 30,1, 8,9009,2,20210216,0858,-55.65320, -34.75148,1266, 203.9, 1.4163, 1.4106, 2.0000,34.2442,2,-999.0000,9, 239.1,2,-999.0,9, -999.00,9, -999.00,9, -999.00,9,-999.0000,9,-999.0000,9, 0.0213, -999.0,9
740H20210202,SR1b_A23, 30,1, 9,9010,2,20210216,0859,-55.65320, -34.75150,1266, 203.9, 1.4153, 1.4089, 2.0000,34.2428,2,-999.0000,9, 239.3,2,-999.0,9, -999.00,9, -999.00,9, -999.00,9,-999.0000,9,-999.0000,9, 0.0227, -999.0,9
740H20210202,SR1b_A23, 30,1,10,8156,2,20210216,0904,-55.65320, -34.75148,1266, 108.2, 0.6924, 0.7093, 2.0000,34.0075,2,-999.0000,9, 300.2,2,-999.0,9, -999.00,9, -999.00,9, -999.00,9,-999.0000,9,-999.0000,9, 0.0291, -999.0,9
740H20210202,SR1b_A23, 30,1,11,9012,2,20210216,0905,-55.65320, -34.75150,1266, 104.4, 0.6955, 0.6776, 2.0000,34.0049,2,34.0008,2, 300.8,2,-999.0,5, -999.00,1, -999.00,1, -999.00,1,-999.0000,1,-999.0000,1, 0.0246, -999.0,9
740H20210202,SR1b_A23, 30,1,12,9013,2,20210216,0905,-55.65320, -34.75150,1266, 103.6, 0.6763, 0.6799, 2.0000,33.9976,2,-999.0000,9, 301.7,2,-999.0,9, -999.00,9, -999.00,9, -999.00,9,-999.0000,9,-999.0000,9, 0.0276, -999.0,9
740H20210202,SR1b_A23, 30,1,13,9014,2,20210216,0910,-55.65322, -34.75148,1266,  53.3, 2.5636, 2.5865, 2.0000,33.7582,2,33.7531,2, 328.5,2,-999.0,9, -999.00,9, -999.00,9, -999.00,9,-999.0000,1,-999.0000,9, 0.3259, -999.0,9
740H20210202,SR1b_A23, 30,1,14,9015,2,20210216,0910,-55.65320, -34.75148,1266,  54.3, 2.5587, 2.5688, 2.0000,33.7582,2,-999.0000,9, 329.0,2,-999.0,9, -999.00,9, -999.00,9, -999.00,9,-999.0000,9,-999.0000,9, 0.3512, -999.0,9
740H20210202,SR1b_A23, 30,1,15,9016,2,20210216,0911,-55.65320, -34.75150,1266,  53.7, 2.5698, 2.5825, 2.0000,33.7501,2,-999.0000,9, 329.1,2,-999.0,9, -999.00,9, -999.00,9, -999.00,9,-999.0000,9,-999.0000,9, 0.3985, -999.0,9
740H20210202,SR1b_A23, 30,1,16,9017,2,20210216,0915,-55.65320, -34.75150,1266,  26.3, 3.0080, 3.0104, 2.0000,33.5691,2,33.5681,2, 340.7,2, 340.9,2, -999.00,1, -999.00,1, -999.00,1,-999.0000,1,-999.0000,1, 1.2275, -999.0,9
740H20210202,SR1b_A23, 30,1,17,9018,2,20210216,0915,-55.65320, -34.75149,1266,  26.3, 3.0072, 3.0082, 2.0000,33.5697,2,-999.0000,9, 340.4,2,-999.0,9, -999.00,9, -999.00,9, -999.00,9,-999.0000,9,-999.0000,9, 1.2307, -999.0,9
740H20210202,SR1b_A23, 30,1,18,9019,2,20210216,0916,-55.65320, -34.75150,1266,  26.2, 3.0067, 3.0088, 2.0000,33.5696,2,-999.0000,9, 340.7,2,-999.0,9, -999.00,9, -999.00,9, -999.00,9,-999.0000,9,-999.0000,9, 1.3744, -999.0,9
740H20210202,SR1b_A23, 30,1,19,9020,2,20210216,0919,-55.65320, -34.75148,1266,   6.0, 1.8397, 1.8542, 2.0000,33.1925,2,33.2008,2, 348.8,2,-999.0,9, -999.00,1, -999.00,1, -999.00,1,-999.0000,1,-999.0000,1, 1.0761, -999.0,9
740H20210202,SR1b_A23, 30,1,20,9021,2,20210216,0920,-55.65320, -34.75148,1266,   5.2, 1.8570, 1.8568, 2.0000,33.1960,2,-999.0000,9, 348.4,2,-999.0,9, -999.00,9, -999.00,9, -999.00,9,-999.0000,9,-999.0000,9, 1.0388, -999.0,9
740H20210202,SR1b_A23, 30,1,21,9022,2,20210216,0920,-55.65320, -34.75150,1266,   5.3, 1.8428, 1.8458, 2.0000,33.1932,2,-999.0000,9, 348.0,2,-999.0,9, -999.00,9, -999.00,9, -999.00,9,-999.0000,9,-999.0000,9, 1.0071, -999.0,9
740H20210202,SR1b_A23, 31,1, 1,9002,2,20210216,1105,-55.61096, -34.81346,1401,1406.3, 1.3810, 1.3813, 2.0000,34.7114,2,-999.0000,9, 194.2,2, 194.5,2, -999.00,9, -999.00,9, -999.00,9,-999.0000,9,-999.0000,9, 0.0130, -999.0,9
740H20210202,SR1b_A23, 31,1, 2,9003,2,20210216,1106,-55.61096, -34.81346,1401,1406.1, 1.3813, 1.3834, 2.0000,34.7114,2,-999.0000,9, 194.1,2,-999.0,9, -999.00,9, -999.00,9, -999.00,9,-999.0000,9,-999.0000,9, 0.0142, -999.0,9
740H20210202,SR1b_A23, 31,1, 3,8149,2,20210216,1107,-55.61096, -34.81348,1401,1406.1, 1.3815, 1.3857, 2.0000,34.7115,2,-999.0000,9, 194.1,2,-999.0,9, -999.00,9, -999.00,9, -999.00,9,-999.0000,9,-999.0000,9, 0.0156, -999.0,9
740H20210202,SR1b_A23, 31,1, 4,9005,2,20210216,1126,-55.61098, -34.81346,1401, 406.6, 2.2208, 2.2209, 2.0000,34.5267,2,34.5280,2, 179.2,2,-999.0,9, -999.00,1, -999.00,1, -999.00,1,-999.0000,1,-999.0000,1, 0.0170, -999.0,9
740H20210202,SR1b_A23, 31,1, 5,9006,2,20210216,1126,-55.61098, -34.81346,1401, 406.6, 2.2212, 2.2210, 2.0000,34.5269,2,-999.0000,9, 179.0,2,-999.0,9, -999.00,9, -999.00,9, -999.00,9,-999.0000,9,-999.0000,9, 0.0168, -999.0,9
740H20210202,SR1b_A23, 31,1, 6,9007,2,20210216,1127,-55.61098, -34.81347,1401, 406.7, 2.2213, 2.2214, 2.0000,34.5270,2,-999.0000,9, 179.1,2,-999.0,9, -999.00,9, -999.00,9, -999.00,9,-999.0000,9,-999.0000,9, 0.0229, -999.0,9
740H20210202,SR1b_A23, 31,1, 7,9008,2,20210216,1133,-55.61096, -34.81346,1401, 203.9, 1.4035, 1.4011, 2.0000,34.2457,2,34.2666,2, 240.9,2,-999.0,9, -999.00,1, -999.00,1, -999.00,1,-999.0000,1,-999.0000,1, 0.0183, -999.0,9
740H20210202,SR1b_A23, 31,1, 8,9009,2,20210216,1133,-55.61098, -34.81346,1401, 203.9, 1.3999, 1.4132, 2.0000,34.2433,2,-999.0000,9, 242.0,2,-999.0,9, -999.00,9, -999.00,9, -999.00,9,-999.0000,9,-999.0000,9, 0.0194, -999.0,9
740H20210202,SR1b_A23, 31,1, 9,9010,2,20210216,1134,-55.61098, -34.81346,1401, 203.9, 1.4068, 1.4021, 2.0000,34.2420,2,-999.0000,9, 241.9,2,-999.0,9, -999.00,9, -999.00,9, -999.00,9,-999.0000,9,-999.0000,9, 0.0197, -999.0,9
740H20210202,SR1b_A23, 31,1,10,8156,2,20210216,1138,-55.61098, -34.81348,1401, 104.2, 0.6426, 0.6590, 2.0000,33.9174,2,33.9274,2, 328.8,2, 331.8,2, -999.00,1, -999.00,1, -999.00,1,-999.0000,1,-999.0000,1, 0.0708, -999.0,9
740H20210202,SR1b_A23, 31,1,11,9012,2,20210216,1139,-55.61096, -34.81348,1401, 104.2, 0.6628, 0.6592, 2.0000,33.9157,2,-999.0000,9, 329.0,2,-999.0,9, -999.00,9, -999.00,9, -999.00,9,-999.0000,9,-999.0000,9, 0.0709, -999.0,9
740H20210202,SR1b_A23, 31,1,12,9013,2,20210216,1139,-55.61096, -34.81346,1401, 104.2, 0.5757, 0.6674, 2.0000,33.9212,2,-999.0000,9, 328.4,2,-999.0,9, -999.00,9, -999.00,9, -999.00,9,-999.0000,9,-999.0000,9, 0.0632, -999.0,9
740H20210202,SR1b_A23, 31,1,13,9014,2,20210216,1145,-55.61098, -34.81346,1401,  52.7, 2.5559, 2.6349, 2.0000,33.8017,2,33.7960,2, 327.8,2, 299.4,4, -999.00,9, -999.00,9, -999.00,9,-999.0000,1,-999.0000,9, 0.3922, -999.0,9
740H20210202,SR1b_A23, 31,1,14,9015,2,20210216,1145,-55.61098, -34.81346,1401,  52.6, 2.5354, 2.5332, 2.0000,33.8024,2,-999.0000,9, 327.4,2,-999.0,9, -999.00,9, -999.00,9, -999.00,9,-999.0000,9,-999.0000,9, 0.3968, -999.0,9
740H20210202,SR1b_A23, 31,1,15,9016,2,20210216,1146,-55.61096, -34.81346,1401,  52.9, 2.4461, 2.4679, 2.0000,33.8087,2,-999.0000,9, 327.2,2,-999.0,9, -999.00,9, -999.00,9, -999.00,9,-999.0000,9,-999.0000,9, 0.3244, -999.0,9
740H20210202,SR1b_A23, 31,1,16,9017,2,20210216,1151,-55.61098, -34.81346,1401,  10.7, 3.3814, 3.3819, 2.0000,33.6033,2,-999.0000,9, 341.6,2,-999.0,9, -999.00,9, -999.00,9, -999.00,9,-999.0000,9,-999.0000,9, 1.0732, -999.0,9
740H20210202,SR1b_A23, 31,1,17,9018,2,20210216,1151,-55.61098, -34.81344,1401,   9.8, 3.3816, 3.3822, 2.0000,33.6027,2,33.6027,2, 341.6,2,-999.0,9, -999.00,1, -999.00,1, -999.00,1,-999.0000,1,-999.0000,1, 0.9631, -999.0,9
740H20210202,SR1b_A23, 31,1,18,9019,2,20210216,1152,-55.61096, -34.81346,1401,  10.4, 3.3814, 3.3801, 2.0000,33.6025,2,-999.0000,9, 341.6,2,-999.0,9, -999.00,9, -999.00,9, -999.00,9,-999.0000,9,-999.0000,9, 1.1883, -999.0,9
740H20210202,SR1b_A23, 31,1,19,9020,2,20210216,1155,-55.61098, -34.81348,1401,   4.8, 3.3736, 3.3823, 2.0000,33.6078,2,33.6062,2, 341.0,2, 342.3,2, -999.00,1, -999.00,1, -999.00,1,-999.0000,1,-999.0000,1, 0.8293, -999.0,9
740H20210202,SR1b_A23, 31,1,20,9021,2,20210216,1155,-55.61098, -34.81348,1401,   4.9, 3.3800, 3.3816, 2.0000,33.6034,2,-999.0000,9, 341.6,2,-999.0,9, -999.00,9, -999.00,9, -999.00,9,-999.0000,9,-999.0000,9, 0.8100, -999.0,9
740H20210202,SR1b_A23, 31,1,21,9022,2,20210216,1155,-55.61098, -34.81347,1401,   5.1, 3.3809, 3.3815, 2.0000,33.6021,2,-999.0000,9, 341.8,2,-999.0,9, -999.00,9, -999.00,9, -999.00,9,-999.0000,9,-999.0000,9, 0.8362, -999.0,9
740H20210202,SR1b_A23, 32,1, 1,9002,2,20210216,1321,-55.57250, -34.86424, 471, 464.1, 2.1650, 2.1654, 2.0000,34.5709,2,34.5670,2, 176.9,2, 176.6,3, -999.00,9, -999.00,9, -999.00,9,-999.0000,9,-999.0000,9, 0.0227, -999.0,9
740H20210202,SR1b_A23, 32,1, 2,9003,2,20210216,1322,-55.57250, -34.86426, 471, 464.1, 2.1655, 2.1652, 2.0000,34.5683,2,-999.0000,9, 177.1,2,-999.0,9, -999.00,9, -999.00,9, -999.00,9,-999.0000,9,-999.0000,9, 0.0174, -999.0,9
740H20210202,SR1b_A23, 32,1, 3,8149,2,20210216,1323,-55.57250, -34.86424, 471, 464.0, 2.1656, 2.1649, 2.0000,34.5685,2,-999.0000,9, 177.2,2,-999.0,9, -999.00,9, -999.00,9, -999.00,9,-999.0000,9,-999.0000,9, 0.0190, -999.0,9
740H20210202,SR1b_A23, 32,1, 4,9005,2,20210216,1327,-55.57248, -34.86424, 471, 405.7, 2.1612, 2.1611, 2.0000,34.5114,2,-999.0000,9, 181.8,2,-999.0,9, -999.00,9, -999.00,9, -999.00,9,-999.0000,9,-999.0000,9, 0.0157, -999.0,9
740H20210202,SR1b_A23, 32,1, 5,9006,2,20210216,1327,-55.57248, -34.86424, 471, 405.6, 2.1612, 2.1609, 2.0000,34.5114,2,-999.0000,9, 181.8,2,-999.0,9, -999.00,9, -999.00,9, -999.00,9,-999.0000,9,-999.0000,9, 0.0192, -999.0,9
740H20210202,SR1b_A23, 32,1, 6,9007,2,20210216,1328,-55.57248, -34.86424, 471, 405.7, 2.1608, 2.1608, 2.0000,34.5105,2,34.5116,2, 181.8,2,-999.0,9, -999.00,1, -999.00,1, -999.00,1,-999.0000,1,-999.0000,1, 0.0199, -999.0,9
740H20210202,SR1b_A23, 32,1, 7,9008,2,20210216,1334,-55.57248, -34.86424, 471, 203.2, 1.2868, 1.3164, 2.0000,34.2013,2,-999.0000,9, 252.1,2,-999.0,9, -999.00,9, -999.00,9, -999.00,9,-999.0000,9,-999.0000,9, 0.0239, -999.0,9
740H20210202,SR1b_A23, 32,1, 8,9009,2,20210216,1334,-55.57248, -34.86426, 471, 203.4, 1.2838, 1.2758, 2.0000,34.2016,2,-999.0000,9, 251.8,2,-999.0,9, -999.00,9, -999.00,9, -999.00,9,-999.0000,9,-999.0000,9, 0.0197, -999.0,9
740H20210202,SR1b_A23, 32,1, 9,9010,2,20210216,1335,-55.57248, -34.86426, 471, 203.3, 1.2998, 1.2231, 2.0000,34.2052,2,34.2045,2, 251.5,2, 251.5,2, -999.00,1, -999.00,1, -999.00,1,-999.0000,1,-999.0000,1, 0.0190, -999.0,9
740H20210202,SR1b_A23, 32,1,10,8156,2,20210216,1339,-55.57248, -34.86424, 471, 103.4, 0.7239, 0.7643, 2.0000,33.9327,2,-999.0000,9, 320.1,2,-999.0,9, -999.00,9, -999.00,9, -999.00,9,-999.0000,9,-999.0000,9, 0.0872, -999.0,9
740H20210202,SR1b_A23, 32,1,11,9012,2,20210216,1340,-55.57248, -34.86424, 471, 103.4, 0.7429, 0.7738, 2.0000,33.9319,2,-999.0000,9, 320.0,2,-999.0,9, -999.00,9, -999.00,9, -999.00,9,-999.0000,9,-999.0000,9, 0.0383, -999.0,9
740H20210202,SR1b_A23, 32,1,12,9013,2,20210216,1340,-55.57250, -34.86422, 471, 103.4, 0.7712, 0.7815, 2.0000,33.9320,2,33.9327,2, 319.0,2, 333.6,4, -999.00,1, -999.00,1, -999.00,1,-999.0000,1,-999.0000,1, 0.0433, -999.0,9
740H20210202,SR1b_A23, 32,1,13,9014,2,20210216,1347,-55.57250, -34.86424, 471,  52.0, 3.0854, 3.0904, 2.0000,33.7384,2,-999.0000,9, 333.3,2,-999.0,9, -999.00,9, -999.00,9, -999.00,9,-999.0000,9,-999.0000,9, 0.6914, -999.0,9
740H20210202,SR1b_A23, 32,1,14,9015,2,20210216,1347,-55.57250, -34.86426, 471,  52.0, 3.0844, 3.0876, 2.0000,33.7387,2,-999.0000,9, 333.0,2,-999.0,9, -999.00,9, -999.00,9, -999.00,9,-999.0000,9,-999.0000,9, 0.7453, -999.0,9
740H20210202,SR1b_A23, 32,1,15,9016,2,20210216,1348,-55.57250, -34.86424, 471,  52.1, 3.0845, 3.0869, 2.0000,33.7386,2,33.7381,2, 333.3,2,-999.0,9, -999.00,9, -999.00,9, -999.00,9,-999.0000,1,-999.0000,9, 0.7270, -999.0,9
740H20210202,SR1b_A23, 32,1,16,9017,2,20210216,1351,-55.57248, -34.86423, 471,  26.9, 3.2262, 3.2278, 2.0000,33.7022,2,-999.0000,9, 336.2,2,-999.0,9, -999.00,9, -999.00,9, -999.00,9,-999.0000,9,-999.0000,9, 1.1237, -999.0,9
740H20210202,SR1b_A23, 32,1,17,9018,2,20210216,1352,-55.57250, -34.86422, 471,  27.0, 3.2264, 3.2271, 2.0000,33.7020,2,-999.0000,9, 336.2,2,-999.0,9, -999.00,9, -999.00,9, -999.00,9,-999.0000,9,-999.0000,9, 1.0426, -999.0,9
740H20210202,SR1b_A23, 32,1,18,9019,2,20210216,1352,-55.57250, -34.86426, 471,  27.2, 3.2246, 3.2269, 2.0000,33.7023,2,33.7018,2, 336.9,2,-999.0,9, -999.00,1, -999.00,1, -999.00,1,-999.0000,1,-999.0000,1, 0.9875, -999.0,9
740H20210202,SR1b_A23, 32,1,19,9020,2,20210216,1356,-55.57250, -34.86424, 471,   5.8, 3.3775, 3.3732, 2.0000,33.6252,2,-999.0000,9, 341.5,2,-999.0,9, -999.00,9, -999.00,9, -999.00,9,-999.0000,9,-999.0000,9, 0.4908, -999.0,9
740H20210202,SR1b_A23, 32,1,20,9021,2,20210216,1356,-55.57250, -34.86424, 471,   5.4, 3.3726, 3.3736, 2.0000,33.6255,2,33.6255,2, 341.5,2, 341.7,2, -999.00,1, -999.00,1, -999.00,1,-999.0000,1,-999.0000,1, 0.5078, -999.0,9
740H20210202,SR1b_A23, 32,1,21,9022,2,20210216,1357,-55.57250, -34.86422, 471,   6.1, 3.3735, 3.3768, 2.0000,33.6257,2,-999.0000,9, 341.6,2,-999.0,9, -999.00,9, -999.00,9, -999.00,9,-999.0000,9,-999.0000,9, 0.4594, -999.0,9