BOTTLE,20210420POGBASEPA
EXPOCODE,SECT_ID,STNNBR,CASTNO,SAMPNO,BTLNBR,BTLNBR_FLAG_W,DATE,TIME,LATITUDE,LONGITUDE,DEPTH,CTDPRS,CTDTMP,SBE35,SBE35_FLAG_W,CTDSAL,CTDSAL_FLAG_W,SALNTY,SALNTY_FLAG_W,CTDOXY,CTDOXY_FLAG_W,OXYGEN,OXYGEN_FLAG_W,SILCAT,SILCAT_FLAG_W,NO2+NO3,NO2+NO3_FLAG_W,PHSPHT,PHSPHT_FLAG_W,DELO18,DELO18_FLAG_W,D30SI_SILCAT,D30SI_SILCAT_FLAG_W,CTDFLUOR,BOTCHLA,BOTCHLA_FLAG_W
 , , , , , , , , , , ,METERS,DBAR,ITS-90,ITS-90, ,PSS-78, ,PSS-78, ,UMOL/KG, ,UMOL/KG, ,UMOL/KG, ,UMOL/KG,UMOL/KG,UMOL/KG,UMOL/KG,/MILLE,/MILLE,/MILLE,/MILLE,MG/M^3,ML/L,ML/L
740H20210202,SR1b_A23, 33,1, 1,9002,2,20210216,1530,-55.52082, -34.93474,1155,1156.4, 1.6238, 1.6096, 2.0000,34.7081,2,-999.0000,9, 187.5,2,-999.0,9, -999.00,9, -999.00,9, -999.00,9,-999.0000,9,-999.0000,9, 0.0176, -999.0,9
740H20210202,SR1b_A23, 33,1, 2,9003,2,20210216,1530,-55.52082, -34.93472,1155,1156.5, 1.6185, 1.6261, 2.0000,34.7083,2,-999.0000,9, 187.3,2,-999.0,9, -999.00,9, -999.00,9, -999.00,9,-999.0000,9,-999.0000,9, 0.0214, -999.0,9
740H20210202,SR1b_A23, 33,1, 3,8149,2,20210216,1531,-55.52081, -34.93472,1155,1156.4, 1.6167, 1.6280, 2.0000,34.7086,2,34.7087,2, 187.4,2, 186.8,2, -999.00,9, -999.00,9, -999.00,9,-999.0000,9,-999.0000,9, 0.0173, -999.0,9
740H20210202,SR1b_A23, 33,1, 4,9005,2,20210216,1546,-55.52080, -34.93468,1155, 406.6, 2.1651, 2.1658, 2.0000,34.4657,2,-999.0000,9, 187.9,2,-999.0,9, -999.00,9, -999.00,9, -999.00,9,-999.0000,9,-999.0000,9, 0.0190, -999.0,9
740H20210202,SR1b_A23, 33,1, 5,9006,2,20210216,1546,-55.52080, -34.93468,1155, 406.5, 2.1651, 2.1646, 2.0000,34.4663,2,-999.0000,9, 187.2,2,-999.0,9, -999.00,9, -999.00,9, -999.00,9,-999.0000,9,-999.0000,9, 0.0181, -999.0,9
740H20210202,SR1b_A23, 33,1, 6,9007,2,20210216,1547,-55.52080, -34.93474,1155, 406.7, 2.1778, 2.1657, 2.0000,34.4710,2,34.4669,2, 186.8,2, 187.0,2, -999.00,1, -999.00,1, -999.00,1,-999.0000,1,-999.0000,1, 0.0210, -999.0,9
740H20210202,SR1b_A23, 33,1, 7,9008,2,20210216,1552,-55.52080, -34.93470,1155, 204.0, 1.2868, 1.2873, 2.0000,34.2010,2,-999.0000,9, 249.6,2,-999.0,9, -999.00,9, -999.00,9, -999.00,9,-999.0000,9,-999.0000,9, 0.0232, -999.0,9
740H20210202,SR1b_A23, 33,1, 8,9009,2,20210216,1553,-55.52080, -34.93470,1155, 204.2, 1.2902, 1.2902, 2.0000,34.2022,2,-999.0000,9, 249.7,2,-999.0,9, -999.00,9, -999.00,9, -999.00,9,-999.0000,9,-999.0000,9, 0.0210, -999.0,9
740H20210202,SR1b_A23, 33,1, 9,9010,2,20210216,1553,-55.52080, -34.93472,1155, 204.1, 1.2917, 1.2895, 2.0000,34.2028,2,34.2020,2, 249.1,2, 249.4,2, -999.00,1, -999.00,1, -999.00,1,-999.0000,1,-999.0000,1, 0.0220, -999.0,9
740H20210202,SR1b_A23, 33,1,10,8156,2,20210216,1558,-55.52082, -34.93474,1155, 103.5, 0.9070, 0.9036, 2.0000,34.0251,2,-999.0000,9, 293.5,2,-999.0,9, -999.00,9, -999.00,9, -999.00,9,-999.0000,9,-999.0000,9, 0.0273, -999.0,9
740H20210202,SR1b_A23, 33,1,11,9012,2,20210216,1558,-55.52082, -34.93472,1155, 103.4, 0.9097, 0.9052, 2.0000,34.0280,2,-999.0000,9, 292.0,2,-999.0,9, -999.00,9, -999.00,9, -999.00,9,-999.0000,9,-999.0000,9, 0.0279, -999.0,9
740H20210202,SR1b_A23, 33,1,12,9013,2,20210216,1559,-55.52080, -34.93470,1155, 103.7, 0.9085, 0.9042, 2.0000,34.0264,2,34.0235,2, 292.7,2,-999.0,9, -999.00,1, -999.00,1, -999.00,1,-999.0000,1,-999.0000,1, 0.0311, -999.0,9
740H20210202,SR1b_A23, 33,1,13,9014,2,20210216,1603,-55.52082, -34.93474,1155,  52.6, 2.3186, 2.4918, 2.0000,33.8135,2,-999.0000,9, 318.6,2,-999.0,9, -999.00,9, -999.00,9, -999.00,9,-999.0000,9,-999.0000,9, 0.1914, -999.0,9
740H20210202,SR1b_A23, 33,1,14,9015,2,20210216,1603,-55.52082, -34.93472,1155,  52.6, 2.3944, 2.6149, 2.0000,33.8078,2,-999.0000,9, 320.5,2,-999.0,9, -999.00,9, -999.00,9, -999.00,9,-999.0000,9,-999.0000,9, 0.2143, -999.0,9
740H20210202,SR1b_A23, 33,1,15,9016,2,20210216,1604,-55.52081, -34.93472,1155,  52.8, 2.5236, 2.6426, 2.0000,33.7995,2,33.7942,2, 322.9,2,-999.0,9, -999.00,9, -999.00,9, -999.00,9,-999.0000,1,-999.0000,9, 0.2227, -999.0,9
740H20210202,SR1b_A23, 33,1,16,9017,2,20210216,1607,-55.52082, -34.93472,1155,  35.7, 3.1602, 3.1613, 2.0000,33.7401,2,-999.0000,9, 333.8,2,-999.0,9, -999.00,9, -999.00,9, -999.00,9,-999.0000,9,-999.0000,9, 0.6570, -999.0,9
740H20210202,SR1b_A23, 33,1,17,9018,2,20210216,1607,-55.52080, -34.93472,1155,  34.9, 3.1599, 3.1613, 2.0000,33.7398,2,-999.0000,9, 333.8,2,-999.0,9, -999.00,9, -999.00,9, -999.00,9,-999.0000,9,-999.0000,9, 0.6439, -999.0,9
740H20210202,SR1b_A23, 33,1,18,9019,2,20210216,1608,-55.52082, -34.93472,1155,  35.4, 3.1598, 3.1608, 2.0000,33.7394,2,33.7382,2, 333.5,2,-999.0,9, -999.00,1, -999.00,1, -999.00,1,-999.0000,1,-999.0000,1, 0.6755, -999.0,9
740H20210202,SR1b_A23, 33,1,19,9020,2,20210216,1610,-55.52080, -34.93472,1155,   6.6, 3.2397, 3.2504, 2.0000,33.7023,2,33.7014,2, 337.2,2, 337.6,2, -999.00,1, -999.00,1, -999.00,1,-999.0000,1,-999.0000,1, 0.2425, -999.0,9
740H20210202,SR1b_A23, 33,1,20,9021,2,20210216,1611,-55.52082, -34.93472,1155,   6.4, 3.2222, 3.2280, 2.0000,33.7055,2,-999.0000,9, 337.1,2,-999.0,9, -999.00,9, -999.00,9, -999.00,9,-999.0000,9,-999.0000,9, 0.2786, -999.0,9
740H20210202,SR1b_A23, 33,1,21,9022,2,20210216,1611,-55.52080, -34.93470,1155,   6.6, 3.2226, 3.2087, 2.0000,33.7057,2,-999.0000,9, 337.4,2,-999.0,9, -999.00,9, -999.00,9, -999.00,9,-999.0000,9,-999.0000,9, 0.2373, -999.0,9
740H20210202,SR1b_A23, 34,1, 1,9002,2,20210216,1733,-55.49452, -34.96868, 893, 890.8, 1.9479, 1.9472, 2.0000,34.6845,2,-999.0000,9, 178.7,2,-999.0,9, -999.00,9, -999.00,9, -999.00,9,-999.0000,9,-999.0000,9, 0.0188, -999.0,9
740H20210202,SR1b_A23, 34,1, 2,9003,2,20210216,1733,-55.49452, -34.96868, 893, 890.8, 1.9474, 1.9470, 2.0000,34.6845,2,-999.0000,9, 178.8,2,-999.0,9, -999.00,9, -999.00,9, -999.00,9,-999.0000,9,-999.0000,9, 0.0165, -999.0,9
740H20210202,SR1b_A23, 34,1, 3,8149,2,20210216,1734,-55.49452, -34.96866, 893, 890.7, 1.9476, 1.9473, 2.0000,34.6844,2,34.6835,2, 178.6,2, 179.0,2, -999.00,9, -999.00,9, -999.00,9,-999.0000,9,-999.0000,9, 0.0127, -999.0,9
740H20210202,SR1b_A23, 34,1, 4,9005,2,20210216,1744,-55.49452, -34.96868, 893, 407.5, 2.2535, 2.2505, 2.0000,34.4998,2,-999.0000,9, 181.6,2,-999.0,9, -999.00,9, -999.00,9, -999.00,9,-999.0000,9,-999.0000,9, 0.0288, -999.0,9
740H20210202,SR1b_A23, 34,1, 5,9006,2,20210216,1744,-55.49452, -34.96868, 893, 407.5, 2.2524, 2.2512, 2.0000,34.4985,2,-999.0000,9, 181.8,2,-999.0,9, -999.00,9, -999.00,9, -999.00,9,-999.0000,9,-999.0000,9, 0.0222, -999.0,9
740H20210202,SR1b_A23, 34,1, 6,9007,2,20210216,1745,-55.49452, -34.96867, 893, 407.3, 2.2529, 2.2523, 2.0000,34.4992,2,34.5000,2, 181.5,2, 181.0,3, -999.00,1, -999.00,1, -999.00,1,-999.0000,1,-999.0000,1, 0.0212, -999.0,9
740H20210202,SR1b_A23, 34,1, 7,9008,2,20210216,1750,-55.49452, -34.96868, 893, 204.8, 1.4852, 1.4785, 2.0000,34.2617,2,-999.0000,9, 234.0,2,-999.0,9, -999.00,9, -999.00,9, -999.00,9,-999.0000,9,-999.0000,9, 0.0231, -999.0,9
740H20210202,SR1b_A23, 34,1, 8,9009,2,20210216,1751,-55.49452, -34.96868, 893, 204.7, 1.4850, 1.4759, 2.0000,34.2615,2,-999.0000,9, 234.3,2,-999.0,9, -999.00,9, -999.00,9, -999.00,9,-999.0000,9,-999.0000,9, 0.0226, -999.0,9
740H20210202,SR1b_A23, 34,1, 9,9010,2,20210216,1751,-55.49452, -34.96868, 893, 204.8, 1.4830, 1.4794, 2.0000,34.2610,2,34.2618,2, 234.4,2,-999.0,9, -999.00,1, -999.00,1, -999.00,1,-999.0000,1,-999.0000,1, 0.0240, -999.0,9
740H20210202,SR1b_A23, 34,1,10,8156,2,20210216,1755,-55.49451, -34.96866, 893, 105.7, 0.8373, 0.8399, 2.0000,34.0254,2,-999.0000,9, 293.5,2,-999.0,9, -999.00,9, -999.00,9, -999.00,9,-999.0000,9,-999.0000,9, 0.0289, -999.0,9
740H20210202,SR1b_A23, 34,1,11,9012,2,20210216,1756,-55.49452, -34.96866, 893, 104.5, 0.8398, 0.8381, 2.0000,34.0238,2,-999.0000,9, 294.9,2,-999.0,9, -999.00,9, -999.00,9, -999.00,9,-999.0000,9,-999.0000,9, 0.0256, -999.0,9
740H20210202,SR1b_A23, 34,1,12,9013,2,20210216,1756,-55.49452, -34.96866, 893, 105.2, 0.8420, 0.8332, 2.0000,34.0173,2,34.0234,2, 295.4,2, 293.5,2, -999.00,1, -999.00,1, -999.00,1,-999.0000,1,-999.0000,1, 0.0274, -999.0,9
740H20210202,SR1b_A23, 34,1,13,9014,2,20210216,1800,-55.49452, -34.96868, 893,  53.4, 3.0459, 3.0534, 2.0000,33.7955,2,-999.0000,9, 331.2,2,-999.0,9, -999.00,9, -999.00,9, -999.00,9,-999.0000,9,-999.0000,9, 0.6456, -999.0,9
740H20210202,SR1b_A23, 34,1,14,9015,2,20210216,1800,-55.49452, -34.96868, 893,  53.3, 3.0509, 3.0469, 2.0000,33.7929,2,-999.0000,9, 331.4,2,-999.0,9, -999.00,9, -999.00,9, -999.00,9,-999.0000,9,-999.0000,9, 0.7301, -999.0,9
740H20210202,SR1b_A23, 34,1,15,9016,2,20210216,1801,-55.49452, -34.96868, 893,  53.4, 3.0439, 3.0445, 2.0000,33.7940,2,33.7933,2, 331.5,2,-999.0,9, -999.00,9, -999.00,9, -999.00,9,-999.0000,1,-999.0000,9, 0.6864, -999.0,9
740H20210202,SR1b_A23, 34,1,16,9017,2,20210216,1804,-55.49452, -34.96866, 893,  31.4, 3.0972, 3.0998, 2.0000,33.7255,2,-999.0000,9, 336.7,2,-999.0,9, -999.00,9, -999.00,9, -999.00,9,-999.0000,9,-999.0000,9, 0.9471, -999.0,9
740H20210202,SR1b_A23, 34,1,17,9018,2,20210216,1804,-55.49452, -34.96866, 893,  31.2, 3.0980, 3.0948, 2.0000,33.7246,2,-999.0000,9, 336.0,2,-999.0,9, -999.00,9, -999.00,9, -999.00,9,-999.0000,9,-999.0000,9, 0.8444, -999.0,9
740H20210202,SR1b_A23, 34,1,18,9019,2,20210216,1805,-55.49452, -34.96866, 893,  31.0, 3.0945, 3.0933, 2.0000,33.7286,2,33.7263,2, 336.2,2,-999.0,9, -999.00,1, -999.00,1, -999.00,1,-999.0000,1,-999.0000,1, 0.8472, -999.0,9
740H20210202,SR1b_A23, 34,1,19,9020,2,20210216,1808,-55.49452, -34.96868, 893,   7.6, 3.2959, 3.3012, 2.0000,33.7100,2,33.7088,2, 337.6,2, 337.7,2, -999.00,1, -999.00,1, -999.00,1,-999.0000,1,-999.0000,1, 0.2923, -999.0,9
740H20210202,SR1b_A23, 34,1,20,9021,2,20210216,1808,-55.49452, -34.96868, 893,   8.0, 3.3001, 3.3057, 2.0000,33.7096,2,-999.0000,9, 337.3,2,-999.0,9, -999.00,9, -999.00,9, -999.00,9,-999.0000,9,-999.0000,9, 0.2835, -999.0,9
740H20210202,SR1b_A23, 34,1,21,9022,2,20210216,1809,-55.49452, -34.96866, 893,   8.4, 3.3049, 3.3044, 2.0000,33.7099,2,-999.0000,9, 337.4,2,-999.0,9, -999.00,9, -999.00,9, -999.00,9,-999.0000,9,-999.0000,9, 0.2527, -999.0,9
740H20210202,SR1b_A23, 35,1, 1,9002,2,20210216,1921,-55.47466, -34.99766, 548, 540.5, 2.1631, 2.1630, 2.0000,34.5972,2,-999.0000,9, 175.2,2,-999.0,9, -999.00,9, -999.00,9, -999.00,9,-999.0000,9,-999.0000,9, 0.0204, -999.0,9
740H20210202,SR1b_A23, 35,1, 2,9003,2,20210216,1921,-55.47466, -34.99764, 548, 540.4, 2.1628, 2.1629, 2.0000,34.5974,2,-999.0000,9, 175.2,2,-999.0,9, -999.00,9, -999.00,9, -999.00,9,-999.0000,9,-999.0000,9, 0.0232, -999.0,9
740H20210202,SR1b_A23, 35,1, 3,8149,2,20210216,1922,-55.47466, -34.99764, 548, 540.4, 2.1635, 2.1638, 2.0000,34.5968,2,-999.0000,9, 175.4,2, 174.8,2, -999.00,9, -999.00,9, -999.00,9,-999.0000,9,-999.0000,9, 0.0185, -999.0,9
740H20210202,SR1b_A23, 35,1, 4,9005,2,20210216,1926,-55.47466, -34.99764, 548, 407.3, 2.1961, 2.1973, 2.0000,34.5173,2,-999.0000,9, 180.7,2,-999.0,9, -999.00,9, -999.00,9, -999.00,9,-999.0000,9,-999.0000,9, 0.0261, -999.0,9
740H20210202,SR1b_A23, 35,1, 5,9006,2,20210216,1926,-55.47466, -34.99764, 548, 407.3, 2.1972, 2.1981, 2.0000,34.5156,2,-999.0000,9, 180.8,2,-999.0,9, -999.00,9, -999.00,9, -999.00,9,-999.0000,9,-999.0000,9, 0.0190, -999.0,9
740H20210202,SR1b_A23, 35,1, 6,9007,2,20210216,1927,-55.47466, -34.99764, 548, 407.3, 2.1983, 2.1993, 2.0000,34.5141,2,34.5177,2, 181.2,2, 180.3,2, -999.00,1, -999.00,1, -999.00,1,-999.0000,1,-999.0000,1, 0.0178, -999.0,9
740H20210202,SR1b_A23, 35,1, 7,9008,2,20210216,1932,-55.47466, -34.99764, 548, 204.8, 1.3409, 1.3416, 2.0000,34.2151,2,-999.0000,9, 245.9,2,-999.0,9, -999.00,9, -999.00,9, -999.00,9,-999.0000,9,-999.0000,9, 0.0253, -999.0,9
740H20210202,SR1b_A23, 35,1, 8,9009,2,20210216,1933,-55.47466, -34.99764, 548, 204.8, 1.3408, 1.3400, 2.0000,34.2149,2,-999.0000,9, 246.0,2,-999.0,9, -999.00,9, -999.00,9, -999.00,9,-999.0000,9,-999.0000,9, 0.0177, -999.0,9
740H20210202,SR1b_A23, 35,1, 9,9010,2,20210216,1933,-55.47466, -34.99764, 548, 204.8, 1.3396, 1.3381, 2.0000,34.2144,2,34.2157,2, 246.0,2, 244.9,2, -999.00,1, -999.00,1, -999.00,1,-999.0000,1,-999.0000,1, 0.0266, -999.0,9
740H20210202,SR1b_A23, 35,1,10,8156,2,20210216,1939,-55.47466, -34.99764, 548, 105.0, 1.1231, 1.1531, 2.0000,33.9522,2,-999.0000,9, 300.8,2,-999.0,9, -999.00,9, -999.00,9, -999.00,9,-999.0000,9,-999.0000,9, 0.0307, -999.0,9
740H20210202,SR1b_A23, 35,1,11,9012,2,20210216,1939,-55.47466, -34.99764, 548, 104.5, 1.1241, 1.1512, 2.0000,33.9519,2,-999.0000,9, 301.3,2,-999.0,9, -999.00,9, -999.00,9, -999.00,9,-999.0000,9,-999.0000,9, 0.0310, -999.0,9
740H20210202,SR1b_A23, 35,1,12,9013,2,20210216,1940,-55.47466, -34.99764, 548, 104.5, 1.1195, 1.1475, 2.0000,33.9531,2,33.9488,2, 301.4,2,-999.0,9, -999.00,1, -999.00,1, -999.00,1,-999.0000,1,-999.0000,1, 0.0473, -999.0,9
740H20210202,SR1b_A23, 35,1,13,9014,2,20210216,1944,-55.47466, -34.99764, 548,  53.9, 3.0946, 3.0961, 2.0000,33.7725,2,-999.0000,9, 332.6,2,-999.0,9, -999.00,9, -999.00,9, -999.00,9,-999.0000,9,-999.0000,9, 0.6745, -999.0,9
740H20210202,SR1b_A23, 35,1,14,9015,2,20210216,1945,-55.47466, -34.99764, 548,  54.1, 3.0959, 3.0959, 2.0000,33.7725,2,-999.0000,9, 332.6,2,-999.0,9, -999.00,9, -999.00,9, -999.00,9,-999.0000,9,-999.0000,9, 0.6893, -999.0,9
740H20210202,SR1b_A23, 35,1,15,9016,2,20210216,1946,-55.47466, -34.99764, 548,  53.7, 3.0945, 3.0953, 2.0000,33.7725,2,33.7711,2, 332.6,2,-999.0,9, -999.00,1, -999.00,1, -999.00,1,-999.0000,1,-999.0000,1, 0.7548, -999.0,9
740H20210202,SR1b_A23, 35,1,16,9017,2,20210216,1950,-55.47466, -34.99764, 548,  25.6, 3.2427, 3.2609, 2.0000,33.7640,2,-999.0000,9, 334.9,2,-999.0,9, -999.00,9, -999.00,9, -999.00,9,-999.0000,9,-999.0000,9, 0.7144, -999.0,9
740H20210202,SR1b_A23, 35,1,17,9018,2,20210216,1950,-55.47466, -34.99764, 548,  25.9, 3.2586, 3.2564, 2.0000,33.7636,2,-999.0000,9, 335.6,2,-999.0,9, -999.00,9, -999.00,9, -999.00,9,-999.0000,9,-999.0000,9, 0.7052, -999.0,9
740H20210202,SR1b_A23, 35,1,18,9019,2,20210216,1951,-55.47466, -34.99764, 548,  25.8, 3.2557, 3.2877, 2.0000,33.7642,2,33.7623,2, 334.7,2,-999.0,9, -999.00,1, -999.00,1, -999.00,1,-999.0000,1,-999.0000,1, 0.6870, -999.0,9
740H20210202,SR1b_A23, 35,1,19,9020,2,20210216,1954,-55.47466, -34.99764, 548,   8.3, 3.3733, 3.3716, 2.0000,33.7626,2,33.7611,2, 335.6,2, 335.5,2, -999.00,1, -999.00,1, -999.00,1,-999.0000,1,-999.0000,1, 0.5310, -999.0,9
740H20210202,SR1b_A23, 35,1,20,9021,2,20210216,1954,-55.47466, -34.99766, 548,   8.6, 3.3699, 3.3696, 2.0000,33.7624,2,-999.0000,9, 335.1,2,-999.0,9, -999.00,9, -999.00,9, -999.00,9,-999.0000,9,-999.0000,9, 0.5052, -999.0,9
740H20210202,SR1b_A23, 35,1,21,9022,2,20210216,1955,-55.47466, -34.99764, 548,   8.4, 3.3756, 3.3733, 2.0000,33.7514,2,-999.0000,9,-999.0,4,-999.0,9, -999.00,9, -999.00,9, -999.00,9,-999.0000,9,-999.0000,9, 0.6087, -999.0,9
740H20210202,SR1b_A23, 36,1, 1,9002,2,20210217,0151,-55.22072, -34.51116, 656, 647.6, 2.1082, 2.1086, 2.0000,34.6376,2,-999.0000,9, 175.2,2,-999.0,9, -999.00,9, -999.00,9, -999.00,9,-999.0000,9,-999.0000,9, 0.0159, -999.0,9
740H20210202,SR1b_A23, 36,1, 2,9003,2,20210217,0151,-55.22070, -34.51116, 656, 647.6, 2.1081, 2.1091, 2.0000,34.6376,2,-999.0000,9, 175.1,2,-999.0,9, -999.00,9, -999.00,9, -999.00,9,-999.0000,9,-999.0000,9, 0.0190, -999.0,9
740H20210202,SR1b_A23, 36,1, 3,8149,2,20210217,0152,-55.22070, -34.51116, 656, 647.7, 2.1086, 2.1089, 2.0000,34.6376,2,34.6354,2, 175.2,2, 174.9,2, -999.00,9, -999.00,9, -999.00,9,-999.0000,1,-999.0000,9, 0.0151, -999.0,9
740H20210202,SR1b_A23, 36,1, 4,9005,2,20210217,0159,-55.22072, -34.51122, 656, 356.2, 2.1731, 2.1738, 2.0000,34.4846,2,-999.0000,9, 184.7,2,-999.0,9, -999.00,9, -999.00,9, -999.00,9,-999.0000,9,-999.0000,9, 0.0186, -999.0,9
740H20210202,SR1b_A23, 36,1, 5,9006,2,20210217,0159,-55.22072, -34.51122, 656, 356.3, 2.1735, 2.1741, 2.0000,34.4849,2,-999.0000,9, 184.6,2,-999.0,9, -999.00,9, -999.00,9, -999.00,9,-999.0000,9,-999.0000,9, 0.0190, -999.0,9
740H20210202,SR1b_A23, 36,1, 6,9007,2,20210217,0200,-55.22072, -34.51122, 656, 356.4, 2.1743, 2.1719, 2.0000,34.4844,2,34.4834,2, 184.7,2, 184.2,2, -999.00,1, -999.00,1, -999.00,1,-999.0000,1,-999.0000,1, 0.0198, -999.0,9
740H20210202,SR1b_A23, 36,1, 7,9008,2,20210217,0204,-55.22072, -34.51122, 656, 229.7, 1.5745, 1.5616, 2.0000,34.2754,2,-999.0000,9, 232.3,2,-999.0,9, -999.00,9, -999.00,9, -999.00,9,-999.0000,9,-999.0000,9, 0.0189, -999.0,9
740H20210202,SR1b_A23, 36,1, 8,9009,2,20210217,0205,-55.22072, -34.51122, 656, 229.7, 1.5639, 1.5522, 2.0000,34.2729,2,-999.0000,9, 233.0,2,-999.0,9, -999.00,9, -999.00,9, -999.00,9,-999.0000,9,-999.0000,9, 0.0147, -999.0,9
740H20210202,SR1b_A23, 36,1, 9,9010,2,20210217,0205,-55.22072, -34.51122, 656, 229.8, 1.5565, 1.5521, 2.0000,34.2704,2,34.2692,2, 233.4,2,-999.0,9, -999.00,1, -999.00,1, -999.00,1,-999.0000,1,-999.0000,1, 0.0193, -999.0,9
740H20210202,SR1b_A23, 36,1,10,8156,2,20210217,0209,-55.22072, -34.51120, 656, 154.3, 0.9125, 0.9118, 2.0000,34.0063,2,-999.0000,9, 293.6,2,-999.0,9, -999.00,9, -999.00,9, -999.00,9,-999.0000,9,-999.0000,9, 0.0228, -999.0,9
740H20210202,SR1b_A23, 36,1,11,9012,2,20210217,0209,-55.22072, -34.51120, 656, 154.3, 0.9117, 0.9135, 2.0000,34.0055,2,-999.0000,9, 294.2,2,-999.0,9, -999.00,9, -999.00,9, -999.00,9,-999.0000,9,-999.0000,9, 0.0183, -999.0,9
740H20210202,SR1b_A23, 36,1,12,9013,2,20210217,0210,-55.22072, -34.51120, 656, 154.3, 0.9127, 0.9109, 2.0000,34.0062,2,34.0034,2, 294.2,2, 294.2,2, -999.00,9, -999.00,9, -999.00,9,-999.0000,1,-999.0000,9, 0.0227, -999.0,9
740H20210202,SR1b_A23, 36,1,13,9014,2,20210217,0213,-55.22072, -34.51122, 656, 104.8, 1.6492, 1.6660, 2.0000,33.8467,2,-999.0000,9, 311.5,2,-999.0,9, -999.00,9, -999.00,9, -999.00,9,-999.0000,9,-999.0000,9, 0.0485, -999.0,9
740H20210202,SR1b_A23, 36,1,14,9015,2,20210217,0213,-55.22072, -34.51122, 656, 104.7, 1.6420, 1.6461, 2.0000,33.8478,2,-999.0000,9, 310.7,2,-999.0,9, -999.00,9, -999.00,9, -999.00,9,-999.0000,9,-999.0000,9, 0.0526, -999.0,9
740H20210202,SR1b_A23, 36,1,15,9016,2,20210217,0214,-55.22072, -34.51121, 656, 104.8, 1.6053, 1.6200, 2.0000,33.8527,2,33.8481,2, 311.9,2,-999.0,9, -999.00,1, -999.00,1, -999.00,1,-999.0000,1,-999.0000,1, 0.0383, -999.0,9
740H20210202,SR1b_A23, 36,1,16,9017,2,20210217,0220,-55.22072, -34.51122, 656,  54.1, 3.5438, 3.5413, 2.0000,33.7118,2,-999.0000,9, 330.4,2,-999.0,9, -999.00,9, -999.00,9, -999.00,9,-999.0000,9,-999.0000,9, 0.4993, -999.0,9
740H20210202,SR1b_A23, 36,1,17,9018,2,20210217,0220,-55.22072, -34.51121, 656,  54.0, 3.5377, 3.5375, 2.0000,33.7118,2,-999.0000,9, 330.2,2,-999.0,9, -999.00,9, -999.00,9, -999.00,9,-999.0000,9,-999.0000,9, 0.5225, -999.0,9
740H20210202,SR1b_A23, 36,1,18,9019,2,20210217,0221,-55.22072, -34.51120, 656,  54.0, 3.5349, 3.5394, 2.0000,33.7118,2,33.7097,2, 330.5,2,-999.0,9, -999.00,9, -999.00,9, -999.00,9,-999.0000,1,-999.0000,9, 0.4700, -999.0,9
740H20210202,SR1b_A23, 36,1,19,9020,2,20210217,0224,-55.22072, -34.51122, 656,  23.8, 3.6836, 3.6811, 2.0000,33.6866,2,-999.0000,9, 335.3,2,-999.0,9, -999.00,9, -999.00,9, -999.00,9,-999.0000,9,-999.0000,9, 0.6571, -999.0,9
740H20210202,SR1b_A23, 36,1,20,9021,2,20210217,0225,-55.22072, -34.51120, 656,  23.8, 3.6816, 3.6751, 2.0000,33.6864,2,-999.0000,9, 335.2,2,-999.0,9, -999.00,9, -999.00,9, -999.00,9,-999.0000,9,-999.0000,9, 0.6596, -999.0,9
740H20210202,SR1b_A23, 36,1,21,9022,2,20210217,0225,-55.22072, -34.51120, 656,  23.5, 3.6800, 3.6818, 2.0000,33.6861,2,33.6851,2, 335.0,2,-999.0,9, -999.00,1, -999.00,1, -999.00,1,-999.0000,1,-999.0000,1, 0.6547, -999.0,9
740H20210202,SR1b_A23, 36,1,22,9023,2,20210217,0229,-55.22072, -34.51120, 656,   8.7, 3.6825, 3.6808, 2.0000,33.6872,2,-999.0000,9, 334.4,2,-999.0,9, -999.00,9, -999.00,9, -999.00,9,-999.0000,9,-999.0000,9, 0.6342, -999.0,9
740H20210202,SR1b_A23, 36,1,23,9024,2,20210217,0229,-55.22072, -34.51120, 656,   8.6, 3.6816, 3.6816, 2.0000,33.6865,2,-999.0000,9, 334.5,2,-999.0,9, -999.00,9, -999.00,9, -999.00,9,-999.0000,9,-999.0000,9, 0.6231, -999.0,9
740H20210202,SR1b_A23, 36,1,24,9025,2,20210217,0230,-55.22072, -34.51120, 656,   8.3, 3.6828, 3.6828, 2.0000,33.6870,2,33.6859,2, 334.8,2, 336.0,2, -999.00,1, -999.00,1, -999.00,1,-999.0000,1,-999.0000,1, 0.6576, -999.0,9