BOTTLE,20210420POGBASEPA
EXPOCODE,SECT_ID,STNNBR,CASTNO,SAMPNO,BTLNBR,BTLNBR_FLAG_W,DATE,TIME,LATITUDE,LONGITUDE,DEPTH,CTDPRS,CTDTMP,SBE35,SBE35_FLAG_W,CTDSAL,CTDSAL_FLAG_W,SALNTY,SALNTY_FLAG_W,CTDOXY,CTDOXY_FLAG_W,OXYGEN,OXYGEN_FLAG_W,SILCAT,SILCAT_FLAG_W,NO2+NO3,NO2+NO3_FLAG_W,PHSPHT,PHSPHT_FLAG_W,DELO18,DELO18_FLAG_W,D30SI_SILCAT,D30SI_SILCAT_FLAG_W,CTDFLUOR,BOTCHLA,BOTCHLA_FLAG_W
 , , , , , , , , , , ,METERS,DBAR,ITS-90,ITS-90, ,PSS-78, ,PSS-78, ,UMOL/KG, ,UMOL/KG, ,UMOL/KG, ,UMOL/KG,UMOL/KG,UMOL/KG,UMOL/KG,/MILLE,/MILLE,/MILLE,/MILLE,MG/M^3,ML/L,ML/L
740H20210202,SR1b_A23, 81,1, 1,9002,2,20210302,2106,-57.43582, -56.82884,3880,3895.5, 0.2406, 0.2427, 2.0000,34.6685,2,-999.0000,9, 225.5,2,-999.0,9, -999.00,9, -999.00,9, -999.00,9,-999.0000,9,-999.0000,9, 0.0070, -999.0,9
740H20210202,SR1b_A23, 81,1, 2,9003,2,20210302,2106,-57.43590, -56.82878,3880,3895.2, 0.2433, 0.2455, 2.0000,34.6685,2,34.6689,2, 225.3,2, 225.4,2, -999.00,9, -999.00,9, -999.00,9,-999.0000,1,-999.0000,9, 0.0158, -999.0,9
740H20210202,SR1b_A23, 81,1, 3,8149,2,20210302,2108,-57.43626, -56.82842,3880,3842.3, 0.2502, 0.2508, 2.0000,34.6693,2,-999.0000,9, 224.8,2,-999.0,9, -999.00,9, -999.00,9, -999.00,9,-999.0000,9,-999.0000,9, 0.0206, -999.0,9
740H20210202,SR1b_A23, 81,1, 4,9005,2,20210302,2109,-57.43636, -56.82834,3880,3842.2, 0.2603, 0.2585, 2.0000,34.6699,2,34.6697,2, 224.7,2,-999.0,9, -999.00,9, -999.00,9, -999.00,9,-999.0000,1,-999.0000,9, 0.0136, -999.0,9
740H20210202,SR1b_A23, 81,1, 5,9006,2,20210302,2117,-57.43736, -56.82735,3880,3536.4, 0.2475, 0.2611, 2.0000,34.6707,2,-999.0000,9, 224.0,2,-999.0,9, -999.00,9, -999.00,9, -999.00,9,-999.0000,9,-999.0000,9, 0.0123, -999.0,9
740H20210202,SR1b_A23, 81,1, 6,9007,2,20210302,2117,-57.43744, -56.82731,3880,3537.3, 0.2566, 0.2369, 2.0000,34.6716,2,34.6715,2, 223.5,2,-999.0,9, -999.00,9, -999.00,9, -999.00,9,-999.0000,1,-999.0000,9, 0.0008, -999.0,9
740H20210202,SR1b_A23, 81,1, 7,9008,2,20210302,2121,-57.43790, -56.82684,3880,3437.5, 0.3836, 0.3845, 2.0000,34.6799,2,34.6804,2, 219.2,2,-999.0,9, -999.00,9, -999.00,9, -999.00,9,-999.0000,1,-999.0000,9, 0.0025, -999.0,9
740H20210202,SR1b_A23, 81,1, 8,9009,2,20210302,2129,-57.43882, -56.82598,3880,3136.8, 0.5409, 0.5301, 2.0000,34.6911,2,34.6910,2, 213.5,2, 213.1,2, -999.00,9, -999.00,9, -999.00,9,-999.0000,1,-999.0000,9,-0.0025, -999.0,9
740H20210202,SR1b_A23, 81,1, 9,9010,2,20210302,2129,-57.43892, -56.82588,3880,3137.6, 0.5478, 0.5506, 2.0000,34.6920,2,-999.0000,9, 213.1,2,-999.0,9, -999.00,9, -999.00,9, -999.00,9,-999.0000,9,-999.0000,9, 0.0121, -999.0,9
740H20210202,SR1b_A23, 81,1,10,8156,2,20210302,2135,-57.43958, -56.82524,3880,2938.3, 0.6584, 0.6569, 2.0000,34.6982,2,-999.0000,9, 209.7,2,-999.0,9, -999.00,9, -999.00,9, -999.00,9,-999.0000,9,-999.0000,9, 0.0060, -999.0,9
740H20210202,SR1b_A23, 81,1,11,9012,2,20210302,2135,-57.43964, -56.82522,3880,2938.7, 0.6574, 0.6617, 2.0000,34.6982,2,34.6986,2, 209.8,2,-999.0,9, -999.00,9, -999.00,9, -999.00,9,-999.0000,1,-999.0000,9, 0.0112, -999.0,9
740H20210202,SR1b_A23, 81,1,12,9013,2,20210302,2151,-57.44206, -56.82334,3880,2127.8, 1.2516, 1.2480, 2.0000,34.7195,2,-999.0000,9, 196.6,2,-999.0,9, -999.00,9, -999.00,9, -999.00,9,-999.0000,9,-999.0000,9, 0.0024, -999.0,9
740H20210202,SR1b_A23, 81,1,13,9014,2,20210302,2151,-57.44214, -56.82326,3880,2128.2, 1.2487, 1.2460, 2.0000,34.7195,2,34.7201,2, 196.5,2, 196.5,2, -999.00,9, -999.00,9, -999.00,9,-999.0000,1,-999.0000,9, 0.0050, -999.0,9
740H20210202,SR1b_A23, 81,1,14,9015,2,20210302,2205,-57.44490, -56.82125,3880,1416.6, 1.8391, 1.8425, 2.0000,34.7206,2,-999.0000,9, 183.9,2,-999.0,9, -999.00,9, -999.00,9, -999.00,9,-999.0000,9,-999.0000,9, 0.0156, -999.0,9
740H20210202,SR1b_A23, 81,1,15,9016,2,20210302,2206,-57.44498, -56.82123,3880,1416.7, 1.8404, 1.8442, 2.0000,34.7205,2,34.7205,2, 184.0,2,-999.0,9, -999.00,9, -999.00,9, -999.00,9,-999.0000,1,-999.0000,9, 0.0184, -999.0,9
740H20210202,SR1b_A23, 81,1,16,9017,2,20210302,2215,-57.44694, -56.81984,3880,1010.8, 2.1561, 2.1592, 2.0000,34.6659,2,-999.0000,9, 175.1,2,-999.0,9, -999.00,9, -999.00,9, -999.00,9,-999.0000,9,-999.0000,9, 0.0075, -999.0,9
740H20210202,SR1b_A23, 81,1,17,9018,2,20210302,2215,-57.44709, -56.81970,3880,1010.9, 2.1586, 2.1589, 2.0000,34.6646,2,34.6646,2, 174.8,2, 175.1,2, -999.00,9, -999.00,9, -999.00,9,-999.0000,1,-999.0000,9, 0.0120, -999.0,9
740H20210202,SR1b_A23, 81,1,18,9019,2,20210302,2226,-57.44950, -56.81798,3880, 503.3, 2.4499, 2.4489, 2.0000,34.4841,2,-999.0000,9, 179.6,2,-999.0,9, -999.00,9, -999.00,9, -999.00,9,-999.0000,9,-999.0000,9, 0.0148, -999.0,9
740H20210202,SR1b_A23, 81,1,19,9020,2,20210302,2226,-57.44962, -56.81786,3880, 503.5, 2.4503, 2.4494, 2.0000,34.4842,2,34.4853,2, 179.7,2,-999.0,9, -999.00,9, -999.00,9, -999.00,9,-999.0000,1,-999.0000,9, 0.0139, -999.0,9
740H20210202,SR1b_A23, 81,1,20,9021,2,20210302,2232,-57.45094, -56.81692,3880, 301.3, 2.0043, 1.9983, 2.0000,34.2707,2,-999.0000,9, 229.2,2,-999.0,9, -999.00,9, -999.00,9, -999.00,9,-999.0000,9,-999.0000,9, 0.0188, -999.0,9
740H20210202,SR1b_A23, 81,1,21,9022,2,20210302,2232,-57.45110, -56.81686,3880, 301.4, 1.9697, 1.9710, 2.0000,34.2721,2,34.2713,2, 229.6,2, 229.4,2, -999.00,9, -999.00,9, -999.00,9,-999.0000,1,-999.0000,9, 0.0146, -999.0,9
740H20210202,SR1b_A23, 81,1,22,9023,2,20210302,2236,-57.45235, -56.81626,3880, 201.1, 1.3445, 1.3376, 2.0000,34.1194,2,34.1160,2, 275.7,2,-999.0,9, -999.00,9, -999.00,9, -999.00,9,-999.0000,1,-999.0000,9, 0.0196, -999.0,9
740H20210202,SR1b_A23, 81,1,23,9024,2,20210302,2246,-57.45601, -56.81504,3880,   9.5, 3.1657, 3.1667, 2.0000,33.7547,2,-999.0000,9, 331.9,2,-999.0,9, -999.00,9, -999.00,9, -999.00,9,-999.0000,9,-999.0000,9, 1.4534, -999.0,9
740H20210202,SR1b_A23, 81,1,24,9025,2,20210302,2247,-57.45622, -56.81496,3880,  10.0, 3.1656, 3.1672, 2.0000,33.7547,2,33.7552,2, 331.3,2, 331.9,2, -999.00,9, -999.00,9, -999.00,9,-999.0000,1,-999.0000,9, 1.5208, -999.0,9
740H20210202,SR1b_A23, 82,1, 1,9002,2,20210303,0314,-57.10146, -57.01288,3825,3890.3, 0.3883, 0.3984, 2.0000,34.6765,2,-999.0000,9, 220.5,2,-999.0,9, -999.00,9, -999.00,9, -999.00,9,-999.0000,9,-999.0000,9, 0.0124, -999.0,9
740H20210202,SR1b_A23, 82,1, 2,9003,2,20210303,0315,-57.10148, -57.01275,3825,3890.6, 0.3959, 0.3965, 2.0000,34.6770,2,34.6776,2, 220.7,2, 220.2,2, -999.00,9, -999.00,9, -999.00,9,-999.0000,1,-999.0000,9, 0.0095, -999.0,9
740H20210202,SR1b_A23, 82,1, 3,8149,2,20210303,0318,-57.10150, -57.01246,3825,3835.2, 0.3411, 0.3449, 2.0000,34.6742,2,-999.0000,9, 221.8,2,-999.0,9, -999.00,9, -999.00,9, -999.00,9,-999.0000,9,-999.0000,9, 0.0089, -999.0,9
740H20210202,SR1b_A23, 82,1, 4,9005,2,20210303,0319,-57.10150, -57.01236,3825,3835.6, 0.3429, 0.3419, 2.0000,34.6744,2,34.6753,2, 221.8,2,-999.0,9, -999.00,9, -999.00,9, -999.00,9,-999.0000,1,-999.0000,9, 0.0149, -999.0,9
740H20210202,SR1b_A23, 82,1, 5,9006,2,20210303,0328,-57.10160, -57.01146,3825,3414.3, 0.6031, 0.6020, 2.0000,34.6936,2,34.6944,2, 212.1,2,-999.0,9, -999.00,9, -999.00,9, -999.00,9,-999.0000,1,-999.0000,9, 0.0172, -999.0,9
740H20210202,SR1b_A23, 82,1, 6,9007,2,20210303,0347,-57.10258, -57.00904,3825,2490.2, 1.0690, 1.0701, 2.0000,34.7151,2,-999.0000,9, 200.1,2,-999.0,9, -999.00,9, -999.00,9, -999.00,9,-999.0000,9,-999.0000,9, 0.0145, -999.0,9
740H20210202,SR1b_A23, 82,1, 7,9008,2,20210303,0348,-57.10264, -57.00894,3825,2490.1, 1.0695, 1.0699, 2.0000,34.7152,2,34.7155,2, 200.4,2, 201.5,2, -999.00,9, -999.00,9, -999.00,9,-999.0000,1,-999.0000,9, 0.0179, -999.0,9
740H20210202,SR1b_A23, 82,1, 8,9009,2,20210303,0407,-57.10418, -57.00627,3825,1520.5, 1.7999, 1.8006, 2.0000,34.7151,2,34.7150,2, 181.5,2, 181.7,2, -999.00,9, -999.00,9, -999.00,9,-999.0000,1,-999.0000,9, 0.0149, -999.0,9
740H20210202,SR1b_A23, 82,1, 9,9010,2,20210303,0408,-57.10424, -57.00612,3825,1520.6, 1.8007, 1.8027, 2.0000,34.7147,2,-999.0000,9, 181.4,2,-999.0,9, -999.00,9, -999.00,9, -999.00,9,-999.0000,9,-999.0000,9, 0.0207, -999.0,9
740H20210202,SR1b_A23, 82,1,10,8156,2,20210303,0417,-57.10496, -57.00478,3825,1063.0, 2.0958, 2.0957, 2.0000,34.6736,2,-999.0000,9, 169.9,2,-999.0,9, -999.00,9, -999.00,9, -999.00,9,-999.0000,9,-999.0000,9, 0.0157, -999.0,9
740H20210202,SR1b_A23, 82,1,11,9012,2,20210303,0418,-57.10502, -57.00462,3825,1063.2, 2.0956, 2.0959, 2.0000,34.6737,2,34.6736,2, 170.1,2,-999.0,9, -999.00,9, -999.00,9, -999.00,9,-999.0000,1,-999.0000,9, 0.0136, -999.0,9
740H20210202,SR1b_A23, 82,1,12,9013,2,20210303,0430,-57.10579, -57.00183,3825, 505.3, 2.5076, 2.5099, 2.0000,34.4589,2,34.4577,2, 182.7,2, 182.6,2, -999.00,9, -999.00,9, -999.00,9,-999.0000,1,-999.0000,9, 0.0191, -999.0,9
740H20210202,SR1b_A23, 82,1,13,9014,2,20210303,0434,-57.10604, -57.00090,3825, 404.7, 2.0979, 2.0915, 2.0000,34.3385,2,-999.0000,9, 212.1,2,-999.0,9, -999.00,9, -999.00,9, -999.00,9,-999.0000,9,-999.0000,9, 0.0179, -999.0,9
740H20210202,SR1b_A23, 82,1,14,9015,2,20210303,0434,-57.10608, -57.00072,3825, 404.8, 2.0973, 2.0952, 2.0000,34.3387,2,34.3380,2, 212.3,2, 212.6,2, -999.00,9, -999.00,9, -999.00,9,-999.0000,1,-999.0000,9, 0.0215, -999.0,9
740H20210202,SR1b_A23, 82,1,15,9016,2,20210303,0440,-57.10642, -56.99942,3825, 222.1, 1.5735, 1.5312, 2.0000,34.0850,2,34.0804,2, 282.6,2, 285.2,2, -999.00,9, -999.00,9, -999.00,9,-999.0000,1,-999.0000,9, 0.0305, -999.0,9
740H20210202,SR1b_A23, 82,1,16,9017,2,20210303,0441,-57.10646, -56.99926,3825, 222.2, 1.5937, 1.5932, 2.0000,34.0852,2,-999.0000,9, 282.8,2,-999.0,9, -999.00,9, -999.00,9, -999.00,9,-999.0000,9,-999.0000,9, 0.0245, -999.0,9
740H20210202,SR1b_A23, 82,1,17,9018,2,20210303,0444,-57.10666, -56.99856,3825, 152.0, 1.7954, 1.7984, 2.0000,34.0220,2,-999.0000,9, 302.4,2,-999.0,9, -999.00,9, -999.00,9, -999.00,9,-999.0000,9,-999.0000,9, 0.0732, -999.0,9
740H20210202,SR1b_A23, 82,1,18,9019,2,20210303,0445,-57.10670, -56.99829,3825, 152.1, 1.8025, 1.8027, 2.0000,34.0222,2,34.0223,2, 302.7,2, 303.0,2, -999.00,9, -999.00,9, -999.00,9,-999.0000,1,-999.0000,9, 0.0618, -999.0,9
740H20210202,SR1b_A23, 82,1,19,9020,2,20210303,0448,-57.10688, -56.99766,3825, 104.5, 2.2329, 2.4560, 2.0000,33.9222,2,33.9286,2, 319.6,2,-999.0,9, -999.00,9, -999.00,9, -999.00,9,-999.0000,1,-999.0000,9, 0.2386, -999.0,9
740H20210202,SR1b_A23, 82,1,20,9021,2,20210303,0453,-57.10718, -56.99652,3825,  50.5, 4.6570, 4.6595, 2.0000,33.8447,2,33.8447,2, 314.3,2,-999.0,9, -999.00,9, -999.00,9, -999.00,9,-999.0000,1,-999.0000,9, 0.6779, -999.0,9
740H20210202,SR1b_A23, 82,1,21,9022,2,20210303,0456,-57.10736, -56.99582,3825,  21.3, 4.6662, 4.6655, 2.0000,33.8444,2,-999.0000,9, 314.4,2,-999.0,9, -999.00,9, -999.00,9, -999.00,9,-999.0000,9,-999.0000,9, 0.6464, -999.0,9
740H20210202,SR1b_A23, 82,1,22,9023,2,20210303,0457,-57.10744, -56.99562,3825,  20.3, 4.6650, 4.6645, 2.0000,33.8446,2,33.8443,2, 314.4,2, 314.8,2, -999.00,9, -999.00,9, -999.00,9,-999.0000,1,-999.0000,9, 0.6517, -999.0,9
740H20210202,SR1b_A23, 82,1,23,9024,2,20210303,0500,-57.10760, -56.99494,3825,   7.5, 4.6634, 4.6652, 2.0000,33.8446,2,-999.0000,9, 314.6,2,-999.0,9, -999.00,9, -999.00,9, -999.00,9,-999.0000,9,-999.0000,9, 0.6854, -999.0,9
740H20210202,SR1b_A23, 82,1,24,9025,2,20210303,0500,-57.10764, -56.99479,3825,   8.0, 4.6638, 4.6654, 2.0000,33.8447,2,33.8440,2, 313.6,2,-999.0,9, -999.00,9, -999.00,9, -999.00,9,-999.0000,1,-999.0000,9, 0.6566, -999.0,9
740H20210202,SR1b_A23, 83,1, 1,9002,2,20210303,0905,-56.78656, -57.21253,3289,3331.9, 0.6855, 0.6853, 2.0000,34.6956,2,34.6955,2, 210.4,2, 210.7,2, -999.00,9, -999.00,9, -999.00,9,-999.0000,9,-999.0000,9, 0.0008, -999.0,9
740H20210202,SR1b_A23, 83,1, 4,9005,2,20210303,0908,-56.78666, -57.21190,3289,3291.3, 0.6831, 0.6827, 2.0000,34.6957,2,34.6961,2, 210.7,2, 211.2,2, -999.00,9, -999.00,9, -999.00,9,-999.0000,1,-999.0000,9,-0.0054, -999.0,9
740H20210202,SR1b_A23, 83,1, 5,9006,2,20210303,0919,-56.78698, -57.21008,3289,2792.7, 0.9539, 0.9552, 2.0000,34.7099,2,34.7104,2, 203.0,2, 202.9,2, -999.00,9, -999.00,9, -999.00,9,-999.0000,1,-999.0000,9, 0.0045, -999.0,9
740H20210202,SR1b_A23, 83,1, 6,9007,2,20210303,0930,-56.78726, -57.20830,3289,2285.3, 1.4905, 1.4889, 2.0000,34.7226,2,34.7219,2, 191.3,2,-999.0,9, -999.00,9, -999.00,9, -999.00,9,-999.0000,1,-999.0000,9, 0.0100, -999.0,9
740H20210202,SR1b_A23, 83,1, 7,9008,2,20210303,0935,-56.78749, -57.20702,3289,2081.1, 1.6559, 1.6603, 2.0000,34.7259,2,34.7250,2, 189.0,2, 189.1,2, -999.00,9, -999.00,9, -999.00,9,-999.0000,1,-999.0000,9, 0.0094, -999.0,9
740H20210202,SR1b_A23, 83,1, 8,9009,2,20210303,0941,-56.78772, -57.20566,3289,1877.7, 1.8568, 1.8579, 2.0000,34.7202,2,34.7206,2, 185.2,2,-999.0,9, -999.00,9, -999.00,9, -999.00,9,-999.0000,1,-999.0000,9, 0.0043, -999.0,9
740H20210202,SR1b_A23, 83,1,13,9014,2,20210303,0953,-56.78828, -57.20238,3289,1267.1, 2.3061, 2.3069, 2.0000,34.6330,2,34.6325,2, 170.9,2,-999.0,9, -999.00,9, -999.00,9, -999.00,9,-999.0000,1,-999.0000,9, 0.0116, -999.0,9
740H20210202,SR1b_A23, 83,1,14,9015,2,20210303,1005,-56.78898, -57.19826,3289, 658.7, 2.9461, 2.9491, 2.0000,34.3525,2,34.3530,2, 198.6,2, 198.6,2, -999.00,9, -999.00,9, -999.00,9,-999.0000,1,-999.0000,9, 0.0020, -999.0,9
740H20210202,SR1b_A23, 83,1,15,9016,2,20210303,1020,-56.79010, -57.19158,3289,  77.3, 4.5816, 4.5815, 2.0000,34.0764,2,34.0760,2, 297.1,2,-999.0,9, -999.00,9, -999.00,9, -999.00,9,-999.0000,1,-999.0000,9, 0.0995, -999.0,9
740H20210202,SR1b_A23, 83,1,20,9021,2,20210303,1025,-56.79046, -57.18937,3289,   7.3, 5.4168, 5.4174, 2.0000,33.9407,2,33.9403,2, 307.5,2, 307.6,2, -999.00,9, -999.00,9, -999.00,9,-999.0000,1,-999.0000,9, 0.3193, -999.0,9
740H20210202,SR1b_A23, 84,1, 1,9002,2,20210303,1417,-56.46612, -57.42818,3848,3893.5, 0.7351, 0.7353, 2.0000,34.6956,2,-999.0000,9, 211.2,2,-999.0,9, -999.00,9, -999.00,9, -999.00,9,-999.0000,9,-999.0000,9, 0.0089, -999.0,9
740H20210202,SR1b_A23, 84,1, 2,9003,2,20210303,1418,-56.46612, -57.42816,3848,3893.5, 0.7340, 0.7347, 2.0000,34.6955,2,34.6952,2, 211.0,2, 211.1,2, -999.00,9, -999.00,9, -999.00,9,-999.0000,1,-999.0000,9, 0.0105, -999.0,9
740H20210202,SR1b_A23, 84,1, 3,8149,2,20210303,1422,-56.46612, -57.42818,3848,3827.1, 0.7320, 0.7317, 2.0000,34.6957,2,-999.0000,9, 210.9,2,-999.0,9, -999.00,9, -999.00,9, -999.00,9,-999.0000,9,-999.0000,9, 0.0092, -999.0,9
740H20210202,SR1b_A23, 84,1, 4,9005,2,20210303,1423,-56.46612, -57.42816,3848,3827.2, 0.7323, 0.7320, 2.0000,34.6958,2,34.6955,2, 211.0,2, 210.3,2, -999.00,9, -999.00,9, -999.00,9,-999.0000,1,-999.0000,9, 0.0096, -999.0,9
740H20210202,SR1b_A23, 84,1, 5,9006,2,20210303,1431,-56.46610, -57.42816,3848,3415.3, 0.9373, 0.9384, 2.0000,34.7078,2,-999.0000,9, 204.5,2,-999.0,9, -999.00,9, -999.00,9, -999.00,9,-999.0000,9,-999.0000,9, 0.0066, -999.0,9
740H20210202,SR1b_A23, 84,1, 6,9007,2,20210303,1432,-56.46610, -57.42816,3848,3415.2, 0.9386, 0.9387, 2.0000,34.7079,2,34.7082,2, 204.5,2, 203.9,2, -999.00,9, -999.00,9, -999.00,9,-999.0000,1,-999.0000,9, 0.0119, -999.0,9
740H20210202,SR1b_A23, 84,1, 7,9008,2,20210303,1457,-56.46610, -57.42816,3848,2031.4, 1.8014, 1.8017, 2.0000,34.7200,2,-999.0000,9, 184.6,2,-999.0,9, -999.00,9, -999.00,9, -999.00,9,-999.0000,9,-999.0000,9, 0.0060, -999.0,9
740H20210202,SR1b_A23, 84,1, 8,9009,2,20210303,1458,-56.46609, -57.42818,3848,2031.6, 1.8014, 1.8016, 2.0000,34.7200,2,34.7203,2, 184.5,2,-999.0,9, -999.00,9, -999.00,9, -999.00,9,-999.0000,1,-999.0000,9, 0.0088, -999.0,9
740H20210202,SR1b_A23, 84,1, 9,9010,2,20210303,1513,-56.46612, -57.42817,3848,1216.6, 2.3791, 2.3795, 2.0000,34.6013,2,34.6013,2, 169.4,2, 169.4,2, -999.00,9, -999.00,9, -999.00,9,-999.0000,1,-999.0000,9, 0.0082, -999.0,9
740H20210202,SR1b_A23, 84,1,10,8156,2,20210303,1518,-56.46612, -57.42818,3848,1156.4, 2.4413, 2.4414, 2.0000,34.5865,2,-999.0000,9, 164.8,2,-999.0,9, -999.00,9, -999.00,9, -999.00,9,-999.0000,9,-999.0000,9, 0.0102, -999.0,9
740H20210202,SR1b_A23, 84,1,11,9012,2,20210303,1519,-56.46610, -57.42816,3848,1156.3, 2.4410, 2.4410, 2.0000,34.5863,2,34.5856,2, 164.9,2, 164.7,3, -999.00,9, -999.00,9, -999.00,9,-999.0000,1,-999.0000,9, 0.0173, -999.0,9
740H20210202,SR1b_A23, 84,1,12,9013,2,20210303,1527,-56.46610, -57.42820,3848, 993.8, 2.5997, 2.6008, 2.0000,34.5244,2,-999.0000,9, 168.0,2,-999.0,9, -999.00,9, -999.00,9, -999.00,9,-999.0000,9,-999.0000,9, 0.0144, -999.0,9
740H20210202,SR1b_A23, 84,1,13,9014,2,20210303,1528,-56.46610, -57.42818,3848, 993.6, 2.6007, 2.6015, 2.0000,34.5241,2,34.5234,2, 167.9,2, 167.9,2, -999.00,9, -999.00,9, -999.00,9,-999.0000,1,-999.0000,9, 0.0154, -999.0,9
740H20210202,SR1b_A23, 84,1,14,9015,2,20210303,1535,-56.46612, -57.42816,3848, 668.5, 2.9910, 2.9942, 2.0000,34.3389,2,34.3386,2, 201.1,2,-999.0,9, -999.00,9, -999.00,9, -999.00,9,-999.0000,1,-999.0000,9, 0.0118, -999.0,9
740H20210202,SR1b_A23, 84,1,15,9016,2,20210303,1539,-56.46610, -57.42818,3848, 527.4, 3.4294, 3.4296, 2.0000,34.2630,2,-999.0000,9, 218.7,2,-999.0,9, -999.00,9, -999.00,9, -999.00,9,-999.0000,9,-999.0000,9, 0.0078, -999.0,9
740H20210202,SR1b_A23, 84,1,16,9017,2,20210303,1541,-56.46610, -57.42818,3848, 527.5, 3.4290, 3.4346, 2.0000,34.2627,2,34.2618,2, 218.8,2,-999.0,9, -999.00,9, -999.00,9, -999.00,9,-999.0000,1,-999.0000,9, 0.0187, -999.0,9
740H20210202,SR1b_A23, 84,1,17,9018,2,20210303,1546,-56.46610, -57.42817,3848, 344.8, 4.1325, 4.1378, 2.0000,34.1732,2,-999.0000,9, 249.9,2,-999.0,9, -999.00,9, -999.00,9, -999.00,9,-999.0000,9,-999.0000,9, 0.0106, -999.0,9
740H20210202,SR1b_A23, 84,1,18,9019,2,20210303,1546,-56.46610, -57.42814,3848, 344.8, 4.1378, 4.1378, 2.0000,34.1731,2,34.1733,2, 250.3,2,-999.0,9, -999.00,9, -999.00,9, -999.00,9,-999.0000,1,-999.0000,9, 0.0148, -999.0,9
740H20210202,SR1b_A23, 84,1,19,9020,2,20210303,1552,-56.46612, -57.42816,3848, 122.6, 4.4923, 4.4975, 2.0000,34.0770,2,-999.0000,9, 296.0,2,-999.0,9, -999.00,9, -999.00,9, -999.00,9,-999.0000,9,-999.0000,9, 0.0475, -999.0,9
740H20210202,SR1b_A23, 84,1,20,9021,2,20210303,1553,-56.46612, -57.42817,3848, 122.2, 4.4891, 4.4926, 2.0000,34.0771,2,34.0765,2, 296.7,2,-999.0,9, -999.00,9, -999.00,9, -999.00,9,-999.0000,1,-999.0000,9, 0.0411, -999.0,9
740H20210202,SR1b_A23, 84,1,21,9022,2,20210303,1556,-56.46610, -57.42816,3848,  51.9, 5.5291, 5.5307, 2.0000,33.9616,2,-999.0000,9, 305.9,2,-999.0,9, -999.00,9, -999.00,9, -999.00,9,-999.0000,9,-999.0000,9, 0.3023, -999.0,9
740H20210202,SR1b_A23, 84,1,22,9023,2,20210303,1557,-56.46611, -57.42815,3848,  51.0, 5.5310, 5.5326, 2.0000,33.9618,2,33.9608,2, 306.0,2,-999.0,9, -999.00,9, -999.00,9, -999.00,9,-999.0000,1,-999.0000,9, 0.3189, -999.0,9
740H20210202,SR1b_A23, 84,1,23,9024,2,20210303,1559,-56.46612, -57.42817,3848,  11.9, 5.5477, 5.5539, 2.0000,33.9621,2,-999.0000,9, 305.7,2,-999.0,9, -999.00,9, -999.00,9, -999.00,9,-999.0000,9,-999.0000,9, 0.0800, -999.0,9
740H20210202,SR1b_A23, 84,1,24,9025,2,20210303,1600,-56.46612, -57.42816,3848,  11.6, 5.5554, 5.5638, 2.0000,33.9622,2,33.9619,2, 306.4,2, 307.4,2, -999.00,9, -999.00,9, -999.00,9,-999.0000,1,-999.0000,9, 0.0870, -999.0,9