BOTTLE,20210420POGBASEPA
EXPOCODE,SECT_ID,STNNBR,CASTNO,SAMPNO,BTLNBR,BTLNBR_FLAG_W,DATE,TIME,LATITUDE,LONGITUDE,DEPTH,CTDPRS,CTDTMP,SBE35,SBE35_FLAG_W,CTDSAL,CTDSAL_FLAG_W,SALNTY,SALNTY_FLAG_W,CTDOXY,CTDOXY_FLAG_W,OXYGEN,OXYGEN_FLAG_W,SILCAT,SILCAT_FLAG_W,NO2+NO3,NO2+NO3_FLAG_W,PHSPHT,PHSPHT_FLAG_W,DELO18,DELO18_FLAG_W,D30SI_SILCAT,D30SI_SILCAT_FLAG_W,CTDFLUOR,BOTCHLA,BOTCHLA_FLAG_W
 , , , , , , , , , , ,METERS,DBAR,ITS-90,ITS-90, ,PSS-78, ,PSS-78, ,UMOL/KG, ,UMOL/KG, ,UMOL/KG, ,UMOL/KG,UMOL/KG,UMOL/KG,UMOL/KG,/MILLE,/MILLE,/MILLE,/MILLE,MG/M^3,ML/L,ML/L
740H20210202,SR1b_A23,  9,1, 1,9002,2,20210207,2338,-53.79666, -37.93524, 307, 299.2, 1.1632, 1.1620, 2.0000,34.2297,2,34.2273,2, 240.0,2, 241.2,2, -999.00,9, -999.00,9, -999.00,9,-999.0000,9,-999.0000,9, 0.0744, -999.0,9
740H20210202,SR1b_A23,  9,1, 2,9003,2,20210207,2339,-53.79664, -37.93524, 307, 299.3, 1.1644, 1.1633, 2.0000,34.2301,2,-999.0000,9, 239.9,2,-999.0,9, -999.00,9, -999.00,9, -999.00,9,-999.0000,9,-999.0000,9, 0.0645, -999.0,9
740H20210202,SR1b_A23,  9,1, 3,8149,4,20210207,2340,-53.79664, -37.93524, 307, 299.3, 1.1687, 1.1633, 2.0000,34.2310,2,-999.0000,9, 239.5,2,-999.0,9, -999.00,9, -999.00,9, -999.00,9,-999.0000,9,-999.0000,9, 0.0732, -999.0,9
740H20210202,SR1b_A23,  9,1, 4,9005,2,20210207,2343,-53.79666, -37.93524, 307, 203.3, 0.8459, 0.8282, 2.0000,34.0789,2,-999.0000,9, 282.6,2,-999.0,9, -999.00,9, -999.00,9, -999.00,9,-999.0000,9,-999.0000,9, 0.0663, -999.0,9
740H20210202,SR1b_A23,  9,1, 5,9006,2,20210207,2344,-53.79664, -37.93526, 307, 203.3, 0.8422, 0.8398, 2.0000,34.0769,2,34.0790,2, 285.8,2, 281.9,2, -999.00,1, -999.00,1, -999.00,1,-999.0000,9,-999.0000,1, 0.0675, -999.0,1
740H20210202,SR1b_A23,  9,1, 6,9007,2,20210207,2344,-53.79664, -37.93524, 307, 203.3, 0.8244, 0.8278, 2.0000,34.0670,2,-999.0000,9, 286.4,2,-999.0,9, -999.00,9, -999.00,9, -999.00,9,-999.0000,9,-999.0000,9, 0.0691, -999.0,9
740H20210202,SR1b_A23,  9,1, 7,9008,2,20210207,2348,-53.79662, -37.93524, 307, 127.0, 0.8319, 0.8303, 2.0000,34.0255,2,34.0321,2, 296.6,2, 294.1,2, -999.00,9, -999.00,9, -999.00,9,-999.0000,9,-999.0000,9, 0.0413, -999.0,9
740H20210202,SR1b_A23,  9,1, 8,9009,2,20210207,2348,-53.79662, -37.93524, 307, 127.0, 0.8317, 0.8294, 2.0000,34.0258,2,-999.0000,9, 296.6,2,-999.0,9, -999.00,9, -999.00,9, -999.00,9,-999.0000,9,-999.0000,9, 0.0460, -999.0,9
740H20210202,SR1b_A23,  9,1, 9,9010,2,20210207,2350,-53.79664, -37.93524, 307, 102.1, 0.7965, 0.8130, 2.0000,33.9616,2,-999.0000,9, 316.5,2,-999.0,9, -999.00,1, -999.00,1, -999.00,1,-999.0000,9,-999.0000,1, 0.0388, -999.0,1
740H20210202,SR1b_A23,  9,1,10,8156,2,20210207,2350,-53.79664, -37.93524, 307, 102.2, 0.8053, 0.8095, 2.0000,33.9632,2,-999.0000,9, 316.7,2,-999.0,9, -999.00,9, -999.00,9, -999.00,9,-999.0000,9,-999.0000,9, 0.0526, -999.0,9
740H20210202,SR1b_A23,  9,1,11,9012,2,20210207,2354,-53.79664, -37.93524, 307,  76.9, 0.9894, 1.0004, 2.0000,33.9130,2,-999.0000,9, 324.6,2,-999.0,9, -999.00,9, -999.00,9, -999.00,9,-999.0000,9,-999.0000,9, 0.0616, -999.0,9
740H20210202,SR1b_A23,  9,1,12,9013,2,20210207,2354,-53.79664, -37.93524, 307,  77.3, 0.9859, 1.0023, 2.0000,33.9132,2,-999.0000,9, 324.7,2,-999.0,9, -999.00,9, -999.00,9, -999.00,9,-999.0000,9,-999.0000,9, 0.0605, -999.0,9
740H20210202,SR1b_A23,  9,1,13,9014,2,20210207,2357,-53.79664, -37.93524, 307,  52.9, 2.1112, 2.1575, 2.0000,33.8456,2,-999.0000,9, 330.7,2,-999.0,9, -999.00,1, -999.00,1, -999.00,1,-999.0000,9,-999.0000,1, 0.7776, -999.0,1
740H20210202,SR1b_A23,  9,1,14,9015,2,20210207,2357,-53.79664, -37.93524, 307,  52.2, 2.1490, 2.1684, 2.0000,33.8437,2,-999.0000,9, 331.0,2,-999.0,9, -999.00,9, -999.00,9, -999.00,9,-999.0000,9,-999.0000,9, 0.5181, -999.0,9
740H20210202,SR1b_A23,  9,1,15,9016,2,20210208,0000,-53.79664, -37.93524, 307,  40.7, 3.1999, 3.3263, 2.0000,33.7728,2,-999.0000,9, 334.7,2,-999.0,9, -999.00,1, -999.00,1, -999.00,1,-999.0000,9,-999.0000,1, 1.8403, -999.0,1
740H20210202,SR1b_A23,  9,1,16,9017,2,20210208,0000,-53.79664, -37.93524, 307,  40.6, 2.9832, 3.4795, 2.0000,33.7925,2,-999.0000,9, 334.8,2,-999.0,9, -999.00,9, -999.00,9, -999.00,9,-999.0000,9,-999.0000,9, 1.9549, -999.0,9
740H20210202,SR1b_A23,  9,1,17,9018,2,20210208,0003,-53.79664, -37.93522, 307,  26.8, 3.5229, 3.5243, 2.0000,33.7065,2,33.7078,2, 338.0,2, 337.5,2, -999.00,9, -999.00,9, -999.00,9,-999.0000,9,-999.0000,9, 1.0603, -999.0,9
740H20210202,SR1b_A23,  9,1,18,9019,2,20210208,0003,-53.79664, -37.93524, 307,  26.5, 3.5224, 3.5250, 2.0000,33.7067,2,-999.0000,9, 337.4,2,-999.0,9, -999.00,9, -999.00,9, -999.00,9,-999.0000,9,-999.0000,9, 1.0603, -999.0,9
740H20210202,SR1b_A23,  9,1,19,9020,2,20210208,0006,-53.79664, -37.93524, 307,   6.4, 3.5283, 3.5298, 2.0000,33.7029,2,-999.0000,9, 338.3,2,-999.0,9, -999.00,1, -999.00,1, -999.00,1,-999.0000,9,-999.0000,1, 1.1452, -999.0,1
740H20210202,SR1b_A23,  9,1,20,9021,2,20210208,0006,-53.79664, -37.93524, 307,   6.6, 3.5350, 3.5302, 2.0000,33.7042,2,-999.0000,9, 338.3,2,-999.0,9, -999.00,9, -999.00,9, -999.00,9,-999.0000,9,-999.0000,9, 1.0961, -999.0,9
740H20210202,SR1b_A23, 10,1, 1,9002,2,20210208,0523,-53.71462, -37.96414, 136, 124.5, 0.9785, 0.9796, 2.0000,33.9939,2,33.9945,2, 305.1,2, 302.9,2, -999.00,9, -999.00,9, -999.00,9,-999.0000,9,-999.0000,9, 0.0352, -999.0,9
740H20210202,SR1b_A23, 10,1, 2,9003,2,20210208,0523,-53.71464, -37.96414, 136, 124.3, 0.9778, 0.9784, 2.0000,33.9940,2,-999.0000,9, 305.3,2,-999.0,9, -999.00,9, -999.00,9, -999.00,9,-999.0000,9,-999.0000,9, 0.0411, -999.0,9
740H20210202,SR1b_A23, 10,1, 3,8149,2,20210208,0524,-53.71462, -37.96416, 136, 124.1, 0.9782, 0.9780, 2.0000,33.9939,2,-999.0000,9, 305.2,2,-999.0,9, -999.00,9, -999.00,9, -999.00,9,-999.0000,9,-999.0000,9, 0.0383, -999.0,9
740H20210202,SR1b_A23, 10,1, 4,9005,2,20210208,0527,-53.71464, -37.96420, 136, 104.5, 0.9833, 0.9848, 2.0000,33.9926,2,33.9929,2, 305.3,2,-999.0,9, -999.00,1, -999.00,1, -999.00,1,-999.0000,9,-999.0000,1, 0.0439, -999.0,1
740H20210202,SR1b_A23, 10,1, 5,9006,2,20210208,0528,-53.71464, -37.96418, 136, 104.1, 0.9832, 0.9867, 2.0000,33.9927,2,-999.0000,9, 304.9,2,-999.0,9, -999.00,9, -999.00,9, -999.00,9,-999.0000,9,-999.0000,9, 0.0393, -999.0,9
740H20210202,SR1b_A23, 10,1, 6,9007,2,20210208,0529,-53.71464, -37.96418, 136, 104.5, 0.9863, 0.9875, 2.0000,33.9915,2,-999.0000,9, 305.7,2,-999.0,9, -999.00,9, -999.00,9, -999.00,9,-999.0000,9,-999.0000,9, 0.0470, -999.0,9
740H20210202,SR1b_A23, 10,1, 7,9008,2,20210208,0532,-53.71464, -37.96418, 136,  78.9, 1.0836, 1.0850, 2.0000,33.9584,2,33.9587,2, 314.0,2,-999.0,9, -999.00,9, -999.00,9, -999.00,9,-999.0000,9,-999.0000,9, 0.0375, -999.0,9
740H20210202,SR1b_A23, 10,1, 8,9009,2,20210208,0532,-53.71464, -37.96418, 136,  78.8, 1.0851, 1.0882, 2.0000,33.9581,2,-999.0000,9, 313.9,2,-999.0,9, -999.00,9, -999.00,9, -999.00,9,-999.0000,9,-999.0000,9, 0.0370, -999.0,9
740H20210202,SR1b_A23, 10,1, 9,9010,2,20210208,0533,-53.71464, -37.96418, 136,  78.5, 1.0868, 1.0886, 2.0000,33.9576,2,-999.0000,9, 314.1,2, 313.7,2, -999.00,9, -999.00,9, -999.00,9,-999.0000,9,-999.0000,9, 0.0426, -999.0,9
740H20210202,SR1b_A23, 10,1,10,8156,4,20210208,0536,-53.71464, -37.96418, 136,  53.5, 1.1907, 1.1959, 2.0000,33.9217,2,-999.0000,9, 321.5,2,-999.0,9, -999.00,9, -999.00,9, -999.00,9,-999.0000,9,-999.0000,9, 0.0475, -999.0,9
740H20210202,SR1b_A23, 10,1,11,9012,2,20210208,0537,-53.71464, -37.96414, 136,  53.1, 1.1935, 1.2037, 2.0000,33.9209,2,33.9207,2, 321.4,2, 321.6,2, -999.00,1, -999.00,1, -999.00,1,-999.0000,9,-999.0000,1, 0.0527, -999.0,1
740H20210202,SR1b_A23, 10,1,12,9013,2,20210208,0538,-53.71462, -37.96418, 136,  52.8, 1.2089, 1.2364, 2.0000,33.9191,2,-999.0000,9, 321.8,2,-999.0,9, -999.00,9, -999.00,9, -999.00,9,-999.0000,9,-999.0000,9, 0.0523, -999.0,9
740H20210202,SR1b_A23, 10,1,13,9014,2,20210208,0541,-53.71464, -37.96418, 136,  28.1, 3.3441, 3.3423, 2.0000,33.6784,2,33.6785,2, 332.6,2,-999.0,9, -999.00,1, -999.00,1, -999.00,1,-999.0000,9,-999.0000,1, 0.6405, -999.0,1
740H20210202,SR1b_A23, 10,1,14,9015,2,20210208,0542,-53.71464, -37.96416, 136,  28.4, 3.2920, 3.3246, 2.0000,33.6875,2,-999.0000,9, 331.9,2,-999.0,9, -999.00,9, -999.00,9, -999.00,9,-999.0000,9,-999.0000,9, 0.5792, -999.0,9
740H20210202,SR1b_A23, 10,1,15,9016,2,20210208,0543,-53.71466, -37.96418, 136,  27.6, 3.2952, 3.3024, 2.0000,33.6870,2,-999.0000,9, 331.5,2,-999.0,9, -999.00,9, -999.00,9, -999.00,9,-999.0000,9,-999.0000,9, 0.6136, -999.0,9
740H20210202,SR1b_A23, 10,1,16,9017,2,20210208,0544,-53.71464, -37.96418, 136,  28.1, 3.2822, 3.2998, 2.0000,33.6885,2,33.6865,2, 332.5,2, 332.8,2, -999.00,9, -999.00,9, -999.00,9,-999.0000,9,-999.0000,9, 0.6012, -999.0,9
740H20210202,SR1b_A23, 10,1,17,9018,2,20210208,0548,-53.71466, -37.96418, 136,   6.7, 3.3807, 3.3807, 2.0000,33.6676,2,33.6668,2, 332.4,2,-999.0,9, -999.00,1, -999.00,1, -999.00,1,-999.0000,9,-999.0000,1, 0.6119, -999.0,1
740H20210202,SR1b_A23, 10,1,18,9019,2,20210208,0549,-53.71466, -37.96420, 136,   6.9, 3.3796, 3.3803, 2.0000,33.6681,2,-999.0000,9, 332.5,2,-999.0,9, -999.00,9, -999.00,9, -999.00,9,-999.0000,9,-999.0000,9, 0.6125, -999.0,9
740H20210202,SR1b_A23, 10,1,19,9020,2,20210208,0549,-53.71466, -37.96418, 136,   6.3, 3.3787, 3.3795, 2.0000,33.6689,2,-999.0000,9, 332.2,2,-999.0,9, -999.00,9, -999.00,9, -999.00,9,-999.0000,9,-999.0000,9, 0.6098, -999.0,9
740H20210202,SR1b_A23, 11,1, 1,9002,2,20210208,2250,-53.35978, -38.08736,2612, 763.6, 1.9763, 1.9764, 2.0000,34.6770,2,34.6779,2, 178.0,2, 178.3,2, -999.00,9, -999.00,9, -999.00,9,-999.0000,9,-999.0000,9, 0.0155, -999.0,9
740H20210202,SR1b_A23, 11,1, 2,9003,2,20210208,2251,-53.35974, -38.08733,2612, 763.7, 1.9765, 1.9769, 2.0000,34.6761,2,-999.0000,9, 178.2,2,-999.0,9, -999.00,9, -999.00,9, -999.00,9,-999.0000,9,-999.0000,9, 0.0197, -999.0,9
740H20210202,SR1b_A23, 11,1, 3,8149,2,20210208,2252,-53.35976, -38.08736,2612, 763.6, 1.9771, 1.9772, 2.0000,34.6760,2,-999.0000,9, 178.3,2,-999.0,9, -999.00,9, -999.00,9, -999.00,9,-999.0000,9,-999.0000,9, 0.0108, -999.0,9
740H20210202,SR1b_A23, 11,1, 4,9005,2,20210208,2259,-53.35976, -38.08736,2612, 458.8, 2.1393, 2.1393, 2.0000,34.5750,2,-999.0000,9, 176.8,2,-999.0,9, -999.00,9, -999.00,9, -999.00,9,-999.0000,9,-999.0000,9, 0.0143, -999.0,9
740H20210202,SR1b_A23, 11,1, 5,9006,2,20210208,2259,-53.35976, -38.08736,2612, 458.8, 2.1387, 2.1390, 2.0000,34.5749,2,-999.0000,9, 176.9,2,-999.0,9, -999.00,9, -999.00,9, -999.00,9,-999.0000,9,-999.0000,9, 0.0143, -999.0,9
740H20210202,SR1b_A23, 11,1, 6,9007,2,20210208,2302,-53.35976, -38.08734,2612, 408.1, 2.1180, 2.1186, 2.0000,34.5408,2,34.5432,2, 180.0,2, 179.6,2, -999.00,1, -999.00,1, -999.00,1,-999.0000,9,-999.0000,1, 0.0220, -999.0,1
740H20210202,SR1b_A23, 11,1, 7,9008,2,20210208,2302,-53.35976, -38.08735,2612, 408.1, 2.1184, 2.1190, 2.0000,34.5401,2,-999.0000,9, 180.0,2,-999.0,9, -999.00,9, -999.00,9, -999.00,9,-999.0000,9,-999.0000,9, 0.0148, -999.0,9
740H20210202,SR1b_A23, 11,1, 8,9009,2,20210208,2307,-53.35976, -38.08738,2612, 205.3, 0.9898, 0.9698, 2.0000,34.1836,2,34.1880,2, 264.3,2, 264.1,2, -999.00,1, -999.00,1, -999.00,1,-999.0000,9,-999.0000,1, 0.0269, -999.0,1
740H20210202,SR1b_A23, 11,1, 9,9010,2,20210208,2308,-53.35976, -38.08736,2612, 205.3, 0.9987, 0.9693, 2.0000,34.1865,2,-999.0000,9, 263.8,2,-999.0,9, -999.00,9, -999.00,9, -999.00,9,-999.0000,9,-999.0000,9, 0.0342, -999.0,9
740H20210202,SR1b_A23, 11,1,10,8156,2,20210208,2309,-53.35978, -38.08734,2612, 205.4, 1.0022, 0.9791, 2.0000,34.1870,2,-999.0000,9, 263.7,2,-999.0,9, -999.00,9, -999.00,9, -999.00,9,-999.0000,9,-999.0000,9, 0.0335, -999.0,9
740H20210202,SR1b_A23, 11,1,11,9012,2,20210208,2313,-53.35976, -38.08736,2612, 129.5, 0.7850, 0.7892, 2.0000,33.9621,2,-999.0000,9, 314.4,2,-999.0,9, -999.00,9, -999.00,9, -999.00,9,-999.0000,9,-999.0000,9, 0.0488, -999.0,9
740H20210202,SR1b_A23, 11,1,12,9013,2,20210208,2313,-53.35978, -38.08737,2612, 129.4, 0.7862, 0.7905, 2.0000,33.9614,2,-999.0000,9, 315.2,2,-999.0,9, -999.00,9, -999.00,9, -999.00,9,-999.0000,9,-999.0000,9, 0.0486, -999.0,9
740H20210202,SR1b_A23, 11,1,13,9014,2,20210208,2316,-53.35978, -38.08738,2612, 104.1, 0.9186, 0.9142, 2.0000,33.9305,2,33.9350,2, 321.6,2, 319.2,2, -999.00,1, -999.00,1, -999.00,1,-999.0000,9,-999.0000,1, 0.0806, -999.0,1
740H20210202,SR1b_A23, 11,1,14,9015,2,20210208,2316,-53.35976, -38.08738,2612, 104.1, 0.9139, 0.9263, 2.0000,33.9306,2,-999.0000,9, 321.2,2,-999.0,9, -999.00,9, -999.00,9, -999.00,9,-999.0000,9,-999.0000,9, 0.0567, -999.0,9
740H20210202,SR1b_A23, 11,1,15,9016,2,20210208,2322,-53.35974, -38.08739,2612,  80.3, 1.3342, 1.4036, 2.0000,33.8833,2,-999.0000,9, 326.1,2,-999.0,9, -999.00,9, -999.00,9, -999.00,9,-999.0000,9,-999.0000,9, 0.2432, -999.0,9
740H20210202,SR1b_A23, 11,1,16,9017,2,20210208,2322,-53.35974, -38.08732,2612,  79.3, 1.3664, 1.3230, 2.0000,33.8813,2,-999.0000,9, 325.7,2,-999.0,9, -999.00,9, -999.00,9, -999.00,9,-999.0000,9,-999.0000,9, 0.2248, -999.0,9
740H20210202,SR1b_A23, 11,1,17,9018,2,20210208,2325,-53.35976, -38.08741,2612,  54.9, 3.3212, 3.4013, 2.0000,33.7803,2,-999.0000,9, 327.9,2,-999.0,9, -999.00,1, -999.00,1, -999.00,1,-999.0000,9,-999.0000,1, 1.4689, -999.0,1
740H20210202,SR1b_A23, 11,1,18,9019,2,20210208,2326,-53.35974, -38.08737,2612,  53.9, 3.3194, 3.3651, 2.0000,33.7814,2,-999.0000,9, 328.2,2,-999.0,9, -999.00,9, -999.00,9, -999.00,9,-999.0000,9,-999.0000,9, 1.1933, -999.0,9
740H20210202,SR1b_A23, 11,1,19,9020,2,20210208,2326,-53.35974, -38.08736,2612,  54.1, 3.3991, 3.3845, 2.0000,33.7811,2,-999.0000,9, 328.6,2,-999.0,9, -999.00,9, -999.00,9, -999.00,9,-999.0000,9,-999.0000,9, 1.1290, -999.0,9
740H20210202,SR1b_A23, 11,1,20,9021,2,20210208,2329,-53.35974, -38.08736,2612,  26.1, 4.1731, 4.1734, 2.0000,33.7646,2,33.7652,2, 350.7,2, 350.4,2, -999.00,1, -999.00,1, -999.00,1,-999.0000,9,-999.0000,1, 2.8949, -999.0,1
740H20210202,SR1b_A23, 11,1,21,9022,2,20210208,2329,-53.35974, -38.08734,2612,  26.1, 4.1727, 4.1729, 2.0000,33.7648,2,-999.0000,9, 350.6,2,-999.0,9, -999.00,9, -999.00,9, -999.00,9,-999.0000,9,-999.0000,9, 3.9627, -999.0,9
740H20210202,SR1b_A23, 11,1,22,9023,2,20210208,2330,-53.35975, -38.08736,2612,  25.9, 4.1719, 4.1734, 2.0000,33.7648,2,-999.0000,9, 350.9,2,-999.0,9, -999.00,9, -999.00,9, -999.00,9,-999.0000,9,-999.0000,9, 3.8674, -999.0,9
740H20210202,SR1b_A23, 11,1,23,9024,2,20210208,2333,-53.35975, -38.08737,2612,   8.6, 4.1683, 4.1685, 2.0000,33.7646,2,33.7652,2, 350.7,2, 351.1,2, -999.00,1, -999.00,1, -999.00,1,-999.0000,9,-999.0000,1, 3.1421, -999.0,1
740H20210202,SR1b_A23, 11,1,24,9025,2,20210208,2333,-53.35974, -38.08734,2612,   7.6, 4.1682, 4.1654, 2.0000,33.7646,2,-999.0000,9, 350.6,2,-999.0,9, -999.00,9, -999.00,9, -999.00,9,-999.0000,9,-999.0000,9, 3.3504, -999.0,9
740H20210202,SR1b_A23, 12,1, 1,9002,2,20210209,0503,-53.67714, -37.65320, 118, 106.0, 1.0370, 1.0414, 2.0000,33.9793,2,33.9794,2, 307.9,2, 306.3,2, -999.00,9, -999.00,9, -999.00,9,-999.0000,9,-999.0000,9, 0.0415, -999.0,9
740H20210202,SR1b_A23, 12,1, 2,9003,2,20210209,0504,-53.67715, -37.65322, 118, 105.7, 1.0393, 1.0421, 2.0000,33.9787,2,-999.0000,9, 307.8,2,-999.0,9, -999.00,9, -999.00,9, -999.00,9,-999.0000,9,-999.0000,9, 0.0419, -999.0,9
740H20210202,SR1b_A23, 12,1, 3,8149,2,20210209,0504,-53.67714, -37.65318, 118, 105.9, 1.0405, 1.0424, 2.0000,33.9784,2,-999.0000,9, 307.8,2,-999.0,9, -999.00,9, -999.00,9, -999.00,9,-999.0000,9,-999.0000,9, 0.0340, -999.0,9
740H20210202,SR1b_A23, 12,1, 4,9005,2,20210209,0507,-53.67714, -37.65318, 118, 101.1, 1.0432, 1.0449, 2.0000,33.9762,2,-999.0000,9, 308.4,2,-999.0,9, -999.00,1, -999.00,1, -999.00,1,-999.0000,9,-999.0000,1, 0.0436, -999.0,1
740H20210202,SR1b_A23, 12,1, 5,9006,2,20210209,0507,-53.67713, -37.65314, 118,  99.9, 1.0445, 1.0447, 2.0000,33.9761,2,-999.0000,9, 308.0,2,-999.0,9, -999.00,9, -999.00,9, -999.00,9,-999.0000,9,-999.0000,9, 0.0387, -999.0,9
740H20210202,SR1b_A23, 12,1, 6,9007,2,20210209,0508,-53.67714, -37.65316, 118, 101.0, 1.0438, 1.0439, 2.0000,33.9763,2,-999.0000,9, 308.3,2,-999.0,9, -999.00,9, -999.00,9, -999.00,9,-999.0000,9,-999.0000,9, 0.0393, -999.0,9
740H20210202,SR1b_A23, 12,1, 7,9008,2,20210209,0512,-53.67714, -37.65318, 118,  75.7, 1.0979, 1.0978, 2.0000,33.9633,2,33.9630,2, 310.8,2, 310.1,2, -999.00,9, -999.00,9, -999.00,9,-999.0000,9,-999.0000,9, 0.0411, -999.0,9
740H20210202,SR1b_A23, 12,1, 8,9009,2,20210209,0512,-53.67712, -37.65316, 118,  75.5, 1.0981, 1.1001, 2.0000,33.9632,2,-999.0000,9, 310.6,2,-999.0,9, -999.00,9, -999.00,9, -999.00,9,-999.0000,9,-999.0000,9, 0.0397, -999.0,9
740H20210202,SR1b_A23, 12,1, 9,9010,2,20210209,0513,-53.67714, -37.65316, 118,  76.1, 1.0978, 1.0984, 2.0000,33.9633,2,-999.0000,9, 310.6,2,-999.0,9, -999.00,9, -999.00,9, -999.00,9,-999.0000,9,-999.0000,9, 0.0410, -999.0,9
740H20210202,SR1b_A23, 12,1,10,8156,2,20210209,0516,-53.67716, -37.65318, 118,  50.5, 1.2595, 1.2783, 2.0000,33.8804,2,-999.0000,9, 326.7,2,-999.0,9, -999.00,1, -999.00,1, -999.00,1,-999.0000,9,-999.0000,1, 0.0798, -999.0,1
740H20210202,SR1b_A23, 12,1,11,9012,2,20210209,0516,-53.67714, -37.65318, 118,  50.9, 1.2598, 1.2918, 2.0000,33.8806,2,-999.0000,9, 326.5,2,-999.0,9, -999.00,9, -999.00,9, -999.00,9,-999.0000,9,-999.0000,9, 0.0738, -999.0,9
740H20210202,SR1b_A23, 12,1,12,9013,2,20210209,0517,-53.67712, -37.65316, 118,  50.9, 1.2496, 1.3088, 2.0000,33.8818,2,-999.0000,9, 327.0,2,-999.0,9, -999.00,9, -999.00,9, -999.00,9,-999.0000,9,-999.0000,9, 0.0635, -999.0,9
740H20210202,SR1b_A23, 12,1,13,9014,2,20210209,0520,-53.67714, -37.65316, 118,  25.0, 3.4454, 3.4529, 2.0000,33.6320,2,33.6324,2, 333.5,2, 333.8,2, -999.00,1, -999.00,1, -999.00,1,-999.0000,9,-999.0000,1, 0.7909, -999.0,1
740H20210202,SR1b_A23, 12,1,14,9015,2,20210209,0521,-53.67714, -37.65318, 118,  25.8, 3.4529, 3.4540, 2.0000,33.6314,2,-999.0000,9, 333.4,2,-999.0,9, -999.00,9, -999.00,9, -999.00,9,-999.0000,9,-999.0000,9, 0.8302, -999.0,9
740H20210202,SR1b_A23, 12,1,15,9016,2,20210209,0521,-53.67714, -37.65318, 118,  26.1, 3.4540, 3.4547, 2.0000,33.6315,2,-999.0000,9, 333.4,2,-999.0,9, -999.00,9, -999.00,9, -999.00,9,-999.0000,9,-999.0000,9, 0.8622, -999.0,9
740H20210202,SR1b_A23, 12,1,16,9017,2,20210209,0524,-53.67714, -37.65316, 118,   5.4, 3.4614, 3.4563, 2.0000,33.6314,2,33.6309,2, 333.2,2, 332.5,2, -999.00,1, -999.00,1, -999.00,1,-999.0000,9,-999.0000,1, 0.7703, -999.0,1
740H20210202,SR1b_A23, 12,1,17,9018,2,20210209,0525,-53.67714, -37.65318, 118,   6.5, 3.4564, 3.4548, 2.0000,33.6308,2,-999.0000,9, 333.8,2,-999.0,9, -999.00,9, -999.00,9, -999.00,9,-999.0000,9,-999.0000,9, 0.8095, -999.0,9
740H20210202,SR1b_A23, 12,1,18,9019,2,20210209,0525,-53.67714, -37.65318, 118,   6.4, 3.4571, 3.4580, 2.0000,33.6313,2,-999.0000,9, 333.5,2,-999.0,9, -999.00,9, -999.00,9, -999.00,9,-999.0000,9,-999.0000,9, 0.7674, -999.0,9