BOTTLE,20210420POGBASEPA
EXPOCODE,SECT_ID,STNNBR,CASTNO,SAMPNO,BTLNBR,BTLNBR_FLAG_W,DATE,TIME,LATITUDE,LONGITUDE,DEPTH,CTDPRS,CTDTMP,SBE35,SBE35_FLAG_W,CTDSAL,CTDSAL_FLAG_W,SALNTY,SALNTY_FLAG_W,CTDOXY,CTDOXY_FLAG_W,OXYGEN,OXYGEN_FLAG_W,SILCAT,SILCAT_FLAG_W,NO2+NO3,NO2+NO3_FLAG_W,PHSPHT,PHSPHT_FLAG_W,DELO18,DELO18_FLAG_W,D30SI_SILCAT,D30SI_SILCAT_FLAG_W,CTDFLUOR,BOTCHLA,BOTCHLA_FLAG_W
 , , , , , , , , , , ,METERS,DBAR,ITS-90,ITS-90, ,PSS-78, ,PSS-78, ,UMOL/KG, ,UMOL/KG, ,UMOL/KG, ,UMOL/KG,UMOL/KG,UMOL/KG,UMOL/KG,/MILLE,/MILLE,/MILLE,/MILLE,MG/M^3,ML/L,ML/L
740H20210202,SR1b_A23, 21,1, 1,9002,2,20210214,0205,-56.69814, -35.13504,3735, 761.0, 2.0315, 2.0279, 2.0000,34.6578,2,-999.0000,9, 177.5,2,-999.0,9, -999.00,9, -999.00,9, -999.00,9,-999.0000,9,-999.0000,9, 0.0147, -999.0,9
740H20210202,SR1b_A23, 21,1, 2,9003,2,20210214,0205,-56.69812, -35.13506,3735, 761.0, 2.0302, 2.0279, 2.0000,34.6572,2,-999.0000,9, 177.4,2,-999.0,9, -999.00,9, -999.00,9, -999.00,9,-999.0000,9,-999.0000,9, 0.0179, -999.0,9
740H20210202,SR1b_A23, 21,1, 3,8149,2,20210214,0206,-56.69808, -35.13508,3735, 760.9, 2.0314, 2.0280, 2.0000,34.6577,2,34.6568,2, 177.6,2, 177.7,2, -999.00,9, -999.00,9, -999.00,9,-999.0000,9,-999.0000,9, 0.0139, -999.0,9
740H20210202,SR1b_A23, 21,1, 4,9005,2,20210214,0214,-56.69770, -35.13547,3735, 405.9, 2.2042, 2.2040, 2.0000,34.5101,2,-999.0000,9, 181.3,2,-999.0,9, -999.00,9, -999.00,9, -999.00,9,-999.0000,9,-999.0000,9, 0.0212, -999.0,9
740H20210202,SR1b_A23, 21,1, 5,9006,2,20210214,0214,-56.69768, -35.13552,3735, 405.9, 2.2045, 2.2040, 2.0000,34.5105,2,-999.0000,9, 181.2,2,-999.0,9, -999.00,9, -999.00,9, -999.00,9,-999.0000,9,-999.0000,9, 0.0202, -999.0,9
740H20210202,SR1b_A23, 21,1, 6,9007,2,20210214,0215,-56.69766, -35.13556,3735, 405.9, 2.2043, 2.2040, 2.0000,34.5101,2,34.5116,2, 181.3,2, 180.4,2, -999.00,1, -999.00,1, -999.00,1,-999.0000,1,-999.0000,1, 0.0201, -999.0,9
740H20210202,SR1b_A23, 21,1, 7,9008,2,20210214,0220,-56.69738, -35.13580,3735, 202.3, 1.8026, 1.7903, 2.0000,34.2882,2,-999.0000,9, 228.3,2,-999.0,9, -999.00,9, -999.00,9, -999.00,9,-999.0000,9,-999.0000,9, 0.0221, -999.0,9
740H20210202,SR1b_A23, 21,1, 8,9009,2,20210214,0221,-56.69738, -35.13582,3735, 202.4, 1.8041, 1.7874, 2.0000,34.2885,2,34.2985,2, 228.2,2, 225.0,2, -999.00,1, -999.00,1, -999.00,1,-999.0000,1,-999.0000,1, 0.0338, -999.0,9
740H20210202,SR1b_A23, 21,1, 9,9010,4,20210214,0221,-56.69734, -35.13587,3735, 202.5, 1.7987, 1.7882, 2.0000,34.2878,2,-999.0000,9, 228.8,2,-999.0,9, -999.00,9, -999.00,9, -999.00,9,-999.0000,9,-999.0000,9, 0.0266, -999.0,9
740H20210202,SR1b_A23, 21,1,10,8156,4,20210214,0225,-56.69722, -35.13600,3735, 102.4, 1.0123, 1.0142, 2.0000,33.9940,2,-999.0000,9, 308.8,2,-999.0,9, -999.00,9, -999.00,9, -999.00,9,-999.0000,9,-999.0000,9, 0.0910, -999.0,9
740H20210202,SR1b_A23, 21,1,11,9012,2,20210214,0226,-56.69720, -35.13604,3735, 102.3, 1.0091, 1.0135, 2.0000,33.9949,2,-999.0000,9, 309.2,2,-999.0,9, -999.00,9, -999.00,9, -999.00,9,-999.0000,9,-999.0000,9, 0.0754, -999.0,9
740H20210202,SR1b_A23, 21,1,12,9013,2,20210214,0226,-56.69718, -35.13605,3735, 102.5, 1.0087, 1.0128, 2.0000,33.9947,2,33.9949,2, 309.0,2, 308.8,2, -999.00,1, -999.00,1, -999.00,1,-999.0000,1,-999.0000,1, 0.0705, -999.0,9
740H20210202,SR1b_A23, 21,1,13,9014,2,20210214,0231,-56.69708, -35.13614,3735,  51.9, 2.8133, 2.8342, 2.0000,33.8519,2,-999.0000,9, 328.9,2,-999.0,9, -999.00,9, -999.00,9, -999.00,9,-999.0000,9,-999.0000,9, 0.7379, -999.0,9
740H20210202,SR1b_A23, 21,1,14,9015,2,20210214,0232,-56.69708, -35.13614,3735,  51.5, 2.8105, 2.8271, 2.0000,33.8523,2,-999.0000,9, 328.8,2,-999.0,9, -999.00,9, -999.00,9, -999.00,9,-999.0000,9,-999.0000,9, 0.6974, -999.0,9
740H20210202,SR1b_A23, 21,1,15,9016,2,20210214,0232,-56.69710, -35.13611,3735,  51.6, 2.8046, 2.8140, 2.0000,33.8530,2,33.8520,2, 328.5,2,-999.0,9, -999.00,9, -999.00,9, -999.00,9,-999.0000,1,-999.0000,9, 0.7663, -999.0,9
740H20210202,SR1b_A23, 21,1,16,9017,2,20210214,0236,-56.69708, -35.13610,3735,  25.7, 3.0190, 3.0238, 2.0000,33.8227,2,-999.0000,9, 331.1,2,-999.0,9, -999.00,9, -999.00,9, -999.00,9,-999.0000,9,-999.0000,9, 0.9440, -999.0,9
740H20210202,SR1b_A23, 21,1,17,9018,2,20210214,0236,-56.69708, -35.13612,3735,  26.6, 3.0497, 3.0269, 2.0000,33.8066,2,-999.0000,9, 333.0,2,-999.0,9, -999.00,9, -999.00,9, -999.00,9,-999.0000,9,-999.0000,9, 0.9568, -999.0,9
740H20210202,SR1b_A23, 21,1,18,9019,2,20210214,0237,-56.69710, -35.13614,3735,  26.1, 3.0018, 3.0134, 2.0000,33.8316,2,33.8290,2, 331.2,2, 331.5,2, -999.00,1, -999.00,1, -999.00,1,-999.0000,1,-999.0000,1, 0.8994, -999.0,9
740H20210202,SR1b_A23, 21,1,19,9020,2,20210214,0240,-56.69708, -35.13614,3735,  11.0, 3.0696, 3.0695, 2.0000,33.7930,2,33.7932,2, 334.1,2, 335.5,2, -999.00,1, -999.00,1, -999.00,1,-999.0000,1,-999.0000,1, 1.1485, -999.0,9
740H20210202,SR1b_A23, 21,1,20,9021,2,20210214,0240,-56.69708, -35.13612,3735,  11.4, 3.0693, 3.0698, 2.0000,33.7935,2,-999.0000,9, 334.4,2,-999.0,9, -999.00,9, -999.00,9, -999.00,9,-999.0000,9,-999.0000,9, 1.0331, -999.0,9
740H20210202,SR1b_A23, 21,1,21,9022,2,20210214,0241,-56.69710, -35.13613,3735,  11.7, 3.0696, 3.0697, 2.0000,33.7924,2,-999.0000,9, 334.2,2,-999.0,9, -999.00,9, -999.00,9, -999.00,9,-999.0000,9,-999.0000,9, 1.0445, -999.0,9
740H20210202,SR1b_A23, 22,1, 1,9002,2,20210214,0550,-56.69940, -35.43256,3373,1012.0, 1.9121, 1.9127, 2.0000,34.6899,2,-999.0000,9, 180.1,2,-999.0,9, -999.00,9, -999.00,9, -999.00,9,-999.0000,9,-999.0000,9, 0.0171, -999.0,9
740H20210202,SR1b_A23, 22,1, 2,9003,2,20210214,0550,-56.69936, -35.43260,3373,1012.0, 1.9107, 1.9105, 2.0000,34.6898,2,-999.0000,9, 179.9,2,-999.0,9, -999.00,9, -999.00,9, -999.00,9,-999.0000,9,-999.0000,9, 0.0123, -999.0,9
740H20210202,SR1b_A23, 22,1, 3,8149,2,20210214,0551,-56.69932, -35.43262,3373,1012.1, 1.9075, 1.9071, 2.0000,34.6902,2,34.6900,2, 180.1,2, 180.3,2, -999.00,9, -999.00,9, -999.00,9,-999.0000,9,-999.0000,9, 0.0121, -999.0,9
740H20210202,SR1b_A23, 22,1, 4,9005,2,20210214,0604,-56.69866, -35.43310,3373, 403.4, 2.2569, 2.2558, 2.0000,34.5011,2,-999.0000,9, 181.6,2,-999.0,9, -999.00,9, -999.00,9, -999.00,9,-999.0000,9,-999.0000,9, 0.0233, -999.0,9
740H20210202,SR1b_A23, 22,1, 5,9006,2,20210214,0604,-56.69862, -35.43312,3373, 403.4, 2.2571, 2.2558, 2.0000,34.5014,2,-999.0000,9, 181.7,2,-999.0,9, -999.00,9, -999.00,9, -999.00,9,-999.0000,9,-999.0000,9, 0.0284, -999.0,9
740H20210202,SR1b_A23, 22,1, 6,9007,2,20210214,0605,-56.69858, -35.43314,3373, 403.4, 2.2570, 2.2577, 2.0000,34.5012,2,34.5011,2, 181.7,2, 181.7,2, -999.00,1, -999.00,1, -999.00,1,-999.0000,1,-999.0000,1, 0.0227, -999.0,9
740H20210202,SR1b_A23, 22,1, 7,9008,2,20210214,0611,-56.69832, -35.43340,3373, 200.6, 1.9674, 1.9678, 2.0000,34.2740,2,-999.0000,9, 230.0,2,-999.0,9, -999.00,9, -999.00,9, -999.00,9,-999.0000,9,-999.0000,9, 0.0230, -999.0,9
740H20210202,SR1b_A23, 22,1, 8,9009,2,20210214,0611,-56.69828, -35.43342,3373, 200.6, 1.9673, 1.9679, 2.0000,34.2734,2,-999.0000,9, 230.2,2,-999.0,9, -999.00,9, -999.00,9, -999.00,9,-999.0000,9,-999.0000,9, 0.0291, -999.0,9
740H20210202,SR1b_A23, 22,1, 9,9010,2,20210214,0612,-56.69824, -35.43346,3373, 200.4, 1.9684, 1.9685, 2.0000,34.2732,2,34.2749,2, 230.2,2, 229.6,2, -999.00,1, -999.00,1, -999.00,1,-999.0000,1,-999.0000,1, 0.0286, -999.0,9
740H20210202,SR1b_A23, 22,1,10,8156,2,20210214,0616,-56.69804, -35.43360,3373,  99.9, 0.7251, 0.7315, 2.0000,33.9931,2,-999.0000,9, 309.6,2,-999.0,9, -999.00,9, -999.00,9, -999.00,9,-999.0000,9,-999.0000,9, 0.0545, -999.0,9
740H20210202,SR1b_A23, 22,1,11,9012,2,20210214,0617,-56.69802, -35.43366,3373,  99.9, 0.7309, 0.7301, 2.0000,33.9890,2,-999.0000,9, 311.5,2,-999.0,9, -999.00,9, -999.00,9, -999.00,9,-999.0000,9,-999.0000,9, 0.0580, -999.0,9
740H20210202,SR1b_A23, 22,1,12,9013,2,20210214,0617,-56.69798, -35.43366,3373,  99.6, 0.7304, 0.7303, 2.0000,33.9881,2,33.9912,2, 312.4,2,-999.0,9, -999.00,1, -999.00,1, -999.00,1,-999.0000,1,-999.0000,1, 0.0561, -999.0,9
740H20210202,SR1b_A23, 22,1,13,9014,2,20210214,0621,-56.69778, -35.43380,3373,  48.8, 2.9944, 2.9843, 2.0000,33.8146,2,-999.0000,9, 332.4,2, 333.7,2, -999.00,9, -999.00,9, -999.00,9,-999.0000,9,-999.0000,9, 1.1613, -999.0,9
740H20210202,SR1b_A23, 22,1,14,9015,2,20210214,0622,-56.69776, -35.43382,3373,  49.0, 2.9796, 2.9774, 2.0000,33.8170,2,-999.0000,9, 332.4,2,-999.0,9, -999.00,9, -999.00,9, -999.00,9,-999.0000,9,-999.0000,9, 1.0938, -999.0,9
740H20210202,SR1b_A23, 22,1,15,9016,2,20210214,0622,-56.69772, -35.43385,3373,  49.3, 2.9771, 2.9814, 2.0000,33.8176,2,33.8169,2, 332.3,2,-999.0,9, -999.00,9, -999.00,9, -999.00,9,-999.0000,1,-999.0000,9, 1.0339, -999.0,9
740H20210202,SR1b_A23, 22,1,16,9017,2,20210214,0625,-56.69758, -35.43398,3373,  23.3, 3.0517, 3.0516, 2.0000,33.8078,2,-999.0000,9, 334.2,2,-999.0,9, -999.00,9, -999.00,9, -999.00,9,-999.0000,9,-999.0000,9, 1.0673, -999.0,9
740H20210202,SR1b_A23, 22,1,17,9018,2,20210214,0626,-56.69756, -35.43400,3373,  23.0, 3.0509, 3.0510, 2.0000,33.8081,2,-999.0000,9, 333.3,2,-999.0,9, -999.00,9, -999.00,9, -999.00,9,-999.0000,9,-999.0000,9, 1.1336, -999.0,9
740H20210202,SR1b_A23, 22,1,18,9019,2,20210214,0626,-56.69752, -35.43402,3373,  23.6, 3.0522, 3.0536, 2.0000,33.8078,2,33.8080,2, 333.4,2, 334.7,2, -999.00,1, -999.00,1, -999.00,1,-999.0000,1,-999.0000,1, 1.1072, -999.0,9
740H20210202,SR1b_A23, 22,1,19,9020,2,20210214,0629,-56.69740, -35.43410,3373,   8.7, 3.0585, 3.0590, 2.0000,33.8077,2,33.8078,2, 334.1,2, 338.7,3, -999.00,1, -999.00,1, -999.00,1,-999.0000,1,-999.0000,1, 1.0710, -999.0,9
740H20210202,SR1b_A23, 22,1,20,9021,2,20210214,0629,-56.69738, -35.43410,3373,   8.4, 3.0583, 3.0587, 2.0000,33.8078,2,-999.0000,9, 334.1,2,-999.0,9, -999.00,9, -999.00,9, -999.00,9,-999.0000,9,-999.0000,9, 1.1349, -999.0,9
740H20210202,SR1b_A23, 22,1,21,9022,2,20210214,0630,-56.69732, -35.43412,3373,   8.4, 3.0582, 3.0585, 2.0000,33.8077,2,-999.0000,9, 334.0,2,-999.0,9, -999.00,9, -999.00,9, -999.00,9,-999.0000,9,-999.0000,9, 1.1185, -999.0,9
740H20210202,SR1b_A23, 23,1, 1,9002,2,20210214,1107,-57.12668, -34.66350,3208, 761.9, 1.4392, 1.4374, 2.0000,34.6913,2,-999.0000,9, 194.0,2,-999.0,9, -999.00,9, -999.00,9, -999.00,9,-999.0000,9,-999.0000,9, 0.0096, -999.0,9
740H20210202,SR1b_A23, 23,1, 2,9003,2,20210214,1108,-57.12668, -34.66354,3208, 762.0, 1.4378, 1.4375, 2.0000,34.6913,2,-999.0000,9, 194.2,2,-999.0,9, -999.00,9, -999.00,9, -999.00,9,-999.0000,9,-999.0000,9, 0.0236, -999.0,9
740H20210202,SR1b_A23, 23,1, 3,8149,2,20210214,1108,-57.12668, -34.66358,3208, 762.0, 1.4385, 1.4375, 2.0000,34.6913,2,34.6925,2, 194.2,2, 193.4,2, -999.00,9, -999.00,9, -999.00,9,-999.0000,9,-999.0000,9, 0.0138, -999.0,9
740H20210202,SR1b_A23, 23,1, 4,9005,2,20210214,1117,-57.12668, -34.66352,3208, 407.3, 1.7536, 1.7492, 2.0000,34.6270,2,-999.0000,9, 187.5,2,-999.0,9, -999.00,9, -999.00,9, -999.00,9,-999.0000,9,-999.0000,9, 0.0344, -999.0,9
740H20210202,SR1b_A23, 23,1, 5,9006,2,20210214,1118,-57.12668, -34.66348,3208, 407.2, 1.7510, 1.7500, 2.0000,34.6271,2,-999.0000,9, 187.4,2,-999.0,9, -999.00,9, -999.00,9, -999.00,9,-999.0000,9,-999.0000,9, 0.0130, -999.0,9
740H20210202,SR1b_A23, 23,1, 6,9007,2,20210214,1118,-57.12668, -34.66352,3208, 407.3, 1.7487, 1.7481, 2.0000,34.6274,2,34.6269,2, 187.6,2,-999.0,9, -999.00,1, -999.00,1, -999.00,1,-999.0000,1,-999.0000,1, 0.0138, -999.0,9
740H20210202,SR1b_A23, 23,1, 7,9008,2,20210214,1124,-57.12668, -34.66354,3208, 204.8, 1.1702, 1.1535, 2.0000,34.3943,2,-999.0000,9, 221.1,2,-999.0,9, -999.00,9, -999.00,9, -999.00,9,-999.0000,9,-999.0000,9, 0.0185, -999.0,9
740H20210202,SR1b_A23, 23,1, 8,9009,2,20210214,1124,-57.12668, -34.66350,3208, 204.7, 1.1671, 1.1562, 2.0000,34.3930,2,-999.0000,9, 221.8,2,-999.0,9, -999.00,9, -999.00,9, -999.00,9,-999.0000,9,-999.0000,9, 0.0266, -999.0,9
740H20210202,SR1b_A23, 23,1, 9,9010,2,20210214,1125,-57.12666, -34.66352,3208, 204.7, 1.1639, 1.1585, 2.0000,34.3936,2,34.3951,2, 221.8,2, 219.9,2, -999.00,1, -999.00,1, -999.00,1,-999.0000,1,-999.0000,1, 0.0223, -999.0,9
740H20210202,SR1b_A23, 23,1,10,8156,2,20210214,1129,-57.12668, -34.66354,3208, 104.1, 0.1759, 0.1763, 2.0000,34.0275,2,-999.0000,9, 326.7,2,-999.0,9, -999.00,9, -999.00,9, -999.00,9,-999.0000,9,-999.0000,9, 0.0541, -999.0,9
740H20210202,SR1b_A23, 23,1,11,9012,2,20210214,1129,-57.12668, -34.66352,3208, 104.0, 0.1719, 0.1716, 2.0000,34.0281,2,-999.0000,9, 326.2,2,-999.0,9, -999.00,9, -999.00,9, -999.00,9,-999.0000,9,-999.0000,9, 0.0389, -999.0,9
740H20210202,SR1b_A23, 23,1,12,9013,2,20210214,1130,-57.12670, -34.66354,3208, 104.1, 0.1659, 0.1729, 2.0000,34.0289,2,34.0298,2, 327.0,2,-999.0,9, -999.00,1, -999.00,1, -999.00,1,-999.0000,1,-999.0000,1, 0.0518, -999.0,9
740H20210202,SR1b_A23, 23,1,13,9014,2,20210214,1135,-57.12670, -34.66354,3208,  51.9, 2.7846, 2.8294, 2.0000,33.9176,2,-999.0000,9, 334.3,2,-999.0,9, -999.00,9, -999.00,9, -999.00,9,-999.0000,9,-999.0000,9, 0.8741, -999.0,9
740H20210202,SR1b_A23, 23,1,14,9015,2,20210214,1135,-57.12666, -34.66356,3208,  53.3, 2.8329, 2.8369, 2.0000,33.9164,2,-999.0000,9, 333.5,2,-999.0,9, -999.00,9, -999.00,9, -999.00,9,-999.0000,9,-999.0000,9, 0.8656, -999.0,9
740H20210202,SR1b_A23, 23,1,15,9016,2,20210214,1136,-57.12666, -34.66354,3208,  52.3, 2.8328, 2.8315, 2.0000,33.9167,2,33.9162,2, 333.8,2, 333.3,2, -999.00,9, -999.00,9, -999.00,9,-999.0000,1,-999.0000,9, 0.8773, -999.0,9
740H20210202,SR1b_A23, 23,1,16,9017,2,20210214,1140,-57.12668, -34.66352,3208,  27.6, 2.8324, 2.8300, 2.0000,33.9167,2,-999.0000,9, 334.1,2,-999.0,9, -999.00,9, -999.00,9, -999.00,9,-999.0000,9,-999.0000,9, 0.8893, -999.0,9
740H20210202,SR1b_A23, 23,1,17,9018,2,20210214,1140,-57.12668, -34.66352,3208,  27.8, 2.8319, 2.8361, 2.0000,33.9167,2,-999.0000,9, 334.2,2,-999.0,9, -999.00,9, -999.00,9, -999.00,9,-999.0000,9,-999.0000,9, 0.8442, -999.0,9
740H20210202,SR1b_A23, 23,1,18,9019,2,20210214,1141,-57.12670, -34.66349,3208,  27.8, 2.8345, 2.8355, 2.0000,33.9166,2,33.9162,2, 334.0,2,-999.0,9, -999.00,1, -999.00,1, -999.00,1,-999.0000,1,-999.0000,1, 0.8911, -999.0,9
740H20210202,SR1b_A23, 23,1,19,9020,2,20210214,1143,-57.12668, -34.66354,3208,  12.6, 2.8399, 2.8461, 2.0000,33.9163,2,-999.0000,9, 334.3,2,-999.0,9, -999.00,9, -999.00,9, -999.00,9,-999.0000,9,-999.0000,9, 0.7099, -999.0,9
740H20210202,SR1b_A23, 23,1,20,9021,2,20210214,1144,-57.12668, -34.66356,3208,  12.3, 2.8469, 2.8363, 2.0000,33.9165,2,-999.0000,9, 334.0,2,-999.0,9, -999.00,9, -999.00,9, -999.00,9,-999.0000,9,-999.0000,9, 0.6388, -999.0,9
740H20210202,SR1b_A23, 23,1,21,9022,2,20210214,1144,-57.12668, -34.66352,3208,  12.6, 2.8373, 2.8391, 2.0000,33.9167,2,33.9165,2, 334.0,2, 334.3,2, -999.00,1, -999.00,1, -999.00,1,-999.0000,1,-999.0000,1, 0.7847, -999.0,9
740H20210202,SR1b_A23, 24,1, 1,9002,2,20210214,1549,-56.95181, -34.66830,2757,1013.7, 1.3899, 1.3891, 2.0000,34.6989,2,-999.0000,9, 194.7,2,-999.0,9, -999.00,9, -999.00,9, -999.00,9,-999.0000,9,-999.0000,9, 0.0124, -999.0,9
740H20210202,SR1b_A23, 24,1, 2,9003,2,20210214,1549,-56.95178, -34.66832,2757,1013.8, 1.3884, 1.3885, 2.0000,34.6990,2,-999.0000,9, 194.7,2,-999.0,9, -999.00,9, -999.00,9, -999.00,9,-999.0000,9,-999.0000,9, 0.0107, -999.0,9
740H20210202,SR1b_A23, 24,1, 3,8149,2,20210214,1550,-56.95178, -34.66830,2757,1013.8, 1.3881, 1.3875, 2.0000,34.6989,2,34.6990,2, 195.0,2, 194.6,2, -999.00,9, -999.00,9, -999.00,9,-999.0000,9,-999.0000,9, 0.0170, -999.0,9
740H20210202,SR1b_A23, 24,1, 4,9005,2,20210214,1602,-56.95180, -34.66829,2757, 404.3, 1.5498, 1.5441, 2.0000,34.5516,2,-999.0000,9, 197.5,2,-999.0,9, -999.00,9, -999.00,9, -999.00,9,-999.0000,9,-999.0000,9, 0.0198, -999.0,9
740H20210202,SR1b_A23, 24,1, 5,9006,2,20210214,1602,-56.95178, -34.66828,2757, 404.2, 1.5488, 1.5462, 2.0000,34.5515,2,-999.0000,9, 197.5,2,-999.0,9, -999.00,9, -999.00,9, -999.00,9,-999.0000,9,-999.0000,9, 0.0185, -999.0,9
740H20210202,SR1b_A23, 24,1, 6,9007,2,20210214,1603,-56.95178, -34.66826,2757, 404.2, 1.5495, 1.5516, 2.0000,34.5518,2,34.5512,2, 197.7,2, 196.5,2, -999.00,1, -999.00,1, -999.00,1,-999.0000,1,-999.0000,1, 0.0198, -999.0,9
740H20210202,SR1b_A23, 24,1, 7,9008,2,20210214,1609,-56.95178, -34.66834,2757, 200.6, 0.6890, 0.6879, 2.0000,34.2999,2,-999.0000,9, 248.5,2,-999.0,9, -999.00,9, -999.00,9, -999.00,9,-999.0000,9,-999.0000,9, 0.0118, -999.0,9
740H20210202,SR1b_A23, 24,1, 8,9009,2,20210214,1609,-56.95182, -34.66832,2757, 200.8, 0.6827, 0.6829, 2.0000,34.2997,2,-999.0000,9, 248.7,2,-999.0,9, -999.00,9, -999.00,9, -999.00,9,-999.0000,9,-999.0000,9, 0.0269, -999.0,9
740H20210202,SR1b_A23, 24,1, 9,9010,2,20210214,1610,-56.95182, -34.66834,2757, 200.7, 0.6762, 0.6760, 2.0000,34.2999,2,34.3000,2, 249.0,2, 247.9,2, -999.00,1, -999.00,1, -999.00,1,-999.0000,1,-999.0000,1, 0.0143, -999.0,9
740H20210202,SR1b_A23, 24,1,10,8156,2,20210214,1614,-56.95182, -34.66830,2757, 102.2, 0.0676, 0.0731, 2.0000,33.9919,2,-999.0000,9, 325.4,2,-999.0,9, -999.00,9, -999.00,9, -999.00,9,-999.0000,9,-999.0000,9, 0.0299, -999.0,9
740H20210202,SR1b_A23, 24,1,11,9012,2,20210214,1614,-56.95184, -34.66824,2757, 101.2, 0.0649, 0.0631, 2.0000,33.9920,2,-999.0000,9, 325.4,2,-999.0,9, -999.00,9, -999.00,9, -999.00,9,-999.0000,9,-999.0000,9, 0.0333, -999.0,9
740H20210202,SR1b_A23, 24,1,12,9013,2,20210214,1615,-56.95178, -34.66834,2757, 101.6, 0.0586, 0.0635, 2.0000,33.9935,2,33.9929,2, 324.9,2,-999.0,9, -999.00,1, -999.00,1, -999.00,1,-999.0000,1,-999.0000,1, 0.0316, -999.0,9
740H20210202,SR1b_A23, 24,1,13,9014,2,20210214,1619,-56.95178, -34.66830,2757,  50.1, 2.6168, 2.6865, 2.0000,33.9296,2,-999.0000,9, 333.3,2,-999.0,9, -999.00,9, -999.00,9, -999.00,9,-999.0000,9,-999.0000,9, 0.9901, -999.0,9
740H20210202,SR1b_A23, 24,1,14,9015,2,20210214,1620,-56.95180, -34.66828,2757,  49.8, 2.6511, 2.6293, 2.0000,33.9298,2,-999.0000,9, 333.7,2,-999.0,9, -999.00,9, -999.00,9, -999.00,9,-999.0000,9,-999.0000,9, 0.9475, -999.0,9
740H20210202,SR1b_A23, 24,1,15,9016,2,20210214,1620,-56.95180, -34.66830,2757,  49.9, 2.6445, 2.6157, 2.0000,33.9296,2,33.9298,2, 334.3,2,-999.0,9, -999.00,9, -999.00,9, -999.00,9,-999.0000,1,-999.0000,9, 0.9055, -999.0,9
740H20210202,SR1b_A23, 24,1,16,9017,2,20210214,1623,-56.95180, -34.66826,2757,  25.2, 2.7331, 2.7322, 2.0000,33.9288,2,-999.0000,9, 334.9,2,-999.0,9, -999.00,9, -999.00,9, -999.00,9,-999.0000,9,-999.0000,9, 0.9478, -999.0,9
740H20210202,SR1b_A23, 24,1,17,9018,2,20210214,1624,-56.95182, -34.66828,2757,  24.8, 2.7284, 2.7288, 2.0000,33.9287,2,-999.0000,9, 334.8,2,-999.0,9, -999.00,9, -999.00,9, -999.00,9,-999.0000,9,-999.0000,9, 0.9511, -999.0,9
740H20210202,SR1b_A23, 24,1,18,9019,2,20210214,1624,-56.95178, -34.66834,2757,  24.8, 2.7252, 2.7231, 2.0000,33.9288,2,33.9286,2, 335.3,2, 335.1,2, -999.00,1, -999.00,1, -999.00,1,-999.0000,1,-999.0000,1, 0.9218, -999.0,9
740H20210202,SR1b_A23, 24,1,19,9020,2,20210214,1627,-56.95178, -34.66827,2757,  10.2, 2.7320, 2.7323, 2.0000,33.9291,2,33.9292,2, 334.9,2,-999.0,9, -999.00,1, -999.00,1, -999.00,1,-999.0000,1,-999.0000,1, 0.7890, -999.0,9
740H20210202,SR1b_A23, 24,1,20,9021,2,20210214,1627,-56.95176, -34.66832,2757,  10.3, 2.7322, 2.7297, 2.0000,33.9292,2,-999.0000,9, 335.2,2,-999.0,9, -999.00,9, -999.00,9, -999.00,9,-999.0000,9,-999.0000,9, 0.8727, -999.0,9
740H20210202,SR1b_A23, 24,1,21,9022,2,20210214,1628,-56.95178, -34.66832,2757,  10.6, 2.7373, 2.7389, 2.0000,33.9295,2,-999.0000,9, 335.1,2,-999.0,9, -999.00,9, -999.00,9, -999.00,9,-999.0000,9,-999.0000,9, 0.9681, -999.0,9