BOTTLE,20210420POGBASEPA
EXPOCODE,SECT_ID,STNNBR,CASTNO,SAMPNO,BTLNBR,BTLNBR_FLAG_W,DATE,TIME,LATITUDE,LONGITUDE,DEPTH,CTDPRS,CTDTMP,SBE35,SBE35_FLAG_W,CTDSAL,CTDSAL_FLAG_W,SALNTY,SALNTY_FLAG_W,CTDOXY,CTDOXY_FLAG_W,OXYGEN,OXYGEN_FLAG_W,SILCAT,SILCAT_FLAG_W,NO2+NO3,NO2+NO3_FLAG_W,PHSPHT,PHSPHT_FLAG_W,DELO18,DELO18_FLAG_W,D30SI_SILCAT,D30SI_SILCAT_FLAG_W,CTDFLUOR,BOTCHLA,BOTCHLA_FLAG_W
 , , , , , , , , , , ,METERS,DBAR,ITS-90,ITS-90, ,PSS-78, ,PSS-78, ,UMOL/KG, ,UMOL/KG, ,UMOL/KG, ,UMOL/KG,UMOL/KG,UMOL/KG,UMOL/KG,/MILLE,/MILLE,/MILLE,/MILLE,MG/M^3,ML/L,ML/L
740H20210202,SR1b_A23,  6,1, 1,9002,2,20210206,0543,-53.49334, -39.25060,3111, 759.6, 1.7878, 1.7879, 2.0000,34.6826,2,34.6827,2, 183.3,2, 182.3,2, -999.00,9, -999.00,9, -999.00,9,-999.0000,9,-999.0000,9, 0.0170, -999.0,9
740H20210202,SR1b_A23,  6,1, 2,9003,2,20210206,0544,-53.49334, -39.25071,3111, 760.1, 1.7878, 1.7880, 2.0000,34.6826,2,-999.0000,9, 183.3,2,-999.0,9, -999.00,9, -999.00,9, -999.00,9,-999.0000,9,-999.0000,9, 0.0281, -999.0,9
740H20210202,SR1b_A23,  6,1, 3,8149,2,20210206,0545,-53.49332, -39.25082,3111, 760.2, 1.7879, 1.7880, 2.0000,34.6826,2,-999.0000,9, 183.2,2,-999.0,9, -999.00,9, -999.00,9, -999.00,9,-999.0000,9,-999.0000,9, 0.0180, -999.0,9
740H20210202,SR1b_A23,  6,1, 4,9005,2,20210206,0552,-53.49322, -39.25140,3111, 455.5, 1.9712, 1.9712, 2.0000,34.5856,2,-999.0000,9, 180.1,2,-999.0,9, -999.00,9, -999.00,9, -999.00,9,-999.0000,9,-999.0000,9, 0.0321, -999.0,9
740H20210202,SR1b_A23,  6,1, 5,9006,2,20210206,0553,-53.49320, -39.25144,3111, 455.7, 1.9708, 1.9713, 2.0000,34.5856,2,-999.0000,9, 180.1,2,-999.0,9, -999.00,9, -999.00,9, -999.00,9,-999.0000,9,-999.0000,9, 0.0238, -999.0,9
740H20210202,SR1b_A23,  6,1, 6,9007,2,20210206,0556,-53.49316, -39.25172,3111, 404.8, 1.9774, 1.9779, 2.0000,34.5572,2,34.5594,2, 181.5,2, 180.7,2, -999.00,1, -999.00,1, -999.00,1,-999.0000,9,-999.0000,1, 0.0298, -999.0,1
740H20210202,SR1b_A23,  6,1, 7,9008,2,20210206,0557,-53.49314, -39.25182,3111, 404.7, 1.9770, 1.9779, 2.0000,34.5574,2,-999.0000,9, 181.6,2,-999.0,9, -999.00,9, -999.00,9, -999.00,9,-999.0000,9,-999.0000,9, 0.0288, -999.0,9
740H20210202,SR1b_A23,  6,1, 8,9009,2,20210206,0603,-53.49306, -39.25240,3111, 201.6, 1.0641, 1.0535, 2.0000,34.2262,2,-999.0000,9, 253.6,2,-999.0,9, -999.00,1, -999.00,1, -999.00,1,-999.0000,9,-999.0000,1, 0.0241, -999.0,1
740H20210202,SR1b_A23,  6,1, 9,9010,2,20210206,0604,-53.49306, -39.25244,3111, 201.7, 1.0558, 1.0577, 2.0000,34.2244,2,-999.0000,9, 253.9,2,-999.0,9, -999.00,9, -999.00,9, -999.00,9,-999.0000,9,-999.0000,9, 0.0252, -999.0,9
740H20210202,SR1b_A23,  6,1,10,8156,2,20210206,0605,-53.49302, -39.25258,3111, 201.5, 1.0415, 1.0267, 2.0000,34.2159,2,-999.0000,9, 254.1,2,-999.0,9, -999.00,9, -999.00,9, -999.00,9,-999.0000,9,-999.0000,9, 0.0224, -999.0,9
740H20210202,SR1b_A23,  6,1,11,9012,2,20210206,0608,-53.49296, -39.25286,3111, 125.9, 0.3860, 0.3782, 2.0000,33.9942,2,33.9941,2, 320.7,2, 321.9,2, -999.00,9, -999.00,9, -999.00,9,-999.0000,9,-999.0000,9, 0.0222, -999.0,9
740H20210202,SR1b_A23,  6,1,12,9013,2,20210206,0609,-53.49296, -39.25290,3111, 126.0, 0.3778, 0.3772, 2.0000,33.9904,2,-999.0000,9, 322.1,2,-999.0,9, -999.00,9, -999.00,9, -999.00,9,-999.0000,9,-999.0000,9, 0.0250, -999.0,9
740H20210202,SR1b_A23,  6,1,13,9014,2,20210206,0612,-53.49290, -39.25318,3111, 101.0, 0.7660, 0.7716, 2.0000,33.9430,2,-999.0000,9, 317.2,2,-999.0,9, -999.00,1, -999.00,1, -999.00,1,-999.0000,9,-999.0000,1, 0.0662, -999.0,1
740H20210202,SR1b_A23,  6,1,14,9015,2,20210206,0613,-53.49290, -39.25326,3111, 101.3, 0.7424, 0.7438, 2.0000,33.9470,2,-999.0000,9, 316.7,2,-999.0,9, -999.00,9, -999.00,9, -999.00,9,-999.0000,9,-999.0000,9, 0.0524, -999.0,9
740H20210202,SR1b_A23,  6,1,15,9016,2,20210206,0616,-53.49286, -39.25354,3111,  75.4, 1.4780, 1.5555, 2.0000,33.8981,2,33.8976,2, 324.8,2, 324.1,2, -999.00,9, -999.00,9, -999.00,9,-999.0000,9,-999.0000,9, 0.1437, -999.0,9
740H20210202,SR1b_A23,  6,1,16,9017,2,20210206,0617,-53.49286, -39.25364,3111,  75.1, 1.4057, 1.4768, 2.0000,33.8973,2,-999.0000,9, 326.2,2,-999.0,9, -999.00,9, -999.00,9, -999.00,9,-999.0000,9,-999.0000,9, 0.2760, -999.0,9
740H20210202,SR1b_A23,  6,1,17,9018,2,20210206,0620,-53.49280, -39.25394,3111,  60.0, 2.0597, 2.1430, 2.0000,33.7346,2,-999.0000,9, 328.2,2,-999.0,9, -999.00,1, -999.00,1, -999.00,1,-999.0000,9,-999.0000,1, 0.9133, -999.0,1
740H20210202,SR1b_A23,  6,1,18,9019,2,20210206,0621,-53.49280, -39.25402,3111,  60.6, 2.0102, 2.2237, 2.0000,33.7352,2,-999.0000,9, 329.2,2,-999.0,9, -999.00,9, -999.00,9, -999.00,9,-999.0000,9,-999.0000,9, 0.9296, -999.0,9
740H20210202,SR1b_A23,  6,1,19,9020,2,20210206,0623,-53.49276, -39.25422,3111,  49.8, 4.1981, 4.2044, 2.0000,33.7682,2,33.7682,2, 330.4,2, 331.1,2, -999.00,1, -999.00,1, -999.00,1,-999.0000,9,-999.0000,1, 1.8668, -999.0,1
740H20210202,SR1b_A23,  6,1,20,9021,2,20210206,0624,-53.49276, -39.25430,3111,  50.1, 4.1999, 4.2062, 2.0000,33.7683,2,-999.0000,9, 329.8,2,-999.0,9, -999.00,9, -999.00,9, -999.00,9,-999.0000,9,-999.0000,9, 1.7710, -999.0,9
740H20210202,SR1b_A23,  6,1,21,9022,2,20210206,0628,-53.49270, -39.25465,3111,  24.9, 4.2933, 4.3032, 2.0000,33.7586,2,33.7591,2, 334.6,2, 335.0,2, -999.00,9, -999.00,9, -999.00,9,-999.0000,9,-999.0000,9, 1.3109, -999.0,9
740H20210202,SR1b_A23,  6,1,22,9023,2,20210206,0629,-53.49268, -39.25468,3111,  25.0, 4.2977, 4.3029, 2.0000,33.7572,2,-999.0000,9, 334.1,2,-999.0,9, -999.00,9, -999.00,9, -999.00,9,-999.0000,9,-999.0000,9, 1.2509, -999.0,9
740H20210202,SR1b_A23,  6,1,23,9024,2,20210206,0631,-53.49264, -39.25488,3111,   5.8, 4.3013, 4.3025, 2.0000,33.7561,2,-999.0000,9, 334.9,2,-999.0,9, -999.00,1, -999.00,1, -999.00,1,-999.0000,9,-999.0000,1, 1.1839, -999.0,1
740H20210202,SR1b_A23,  6,1,24,9025,2,20210206,0631,-53.49264, -39.25494,3111,   6.1, 4.3018, 4.3004, 2.0000,33.7562,2,-999.0000,9, 334.1,2,-999.0,9, -999.00,9, -999.00,9, -999.00,9,-999.0000,9,-999.0000,9, 1.2185, -999.0,9
740H20210202,SR1b_A23,  7,1, 1,9002,2,20210206,2220,-53.43188, -38.69606,3457, 761.8, 1.9821, 1.9822, 2.0000,34.6778,2,34.6781,2, 177.9,2, 177.9,2, -999.00,9, -999.00,9, -999.00,9,-999.0000,9,-999.0000,9, 0.0149, -999.0,9
740H20210202,SR1b_A23,  7,1, 2,9003,2,20210206,2221,-53.43188, -38.69606,3457, 761.8, 1.9819, 1.9822, 2.0000,34.6779,2,-999.0000,9, 177.9,2,-999.0,9, -999.00,9, -999.00,9, -999.00,9,-999.0000,9,-999.0000,9, 0.0157, -999.0,9
740H20210202,SR1b_A23,  7,1, 3,8149,4,20210206,2221,-53.43188, -38.69606,3457, 761.9, 1.9818, 1.9819, 2.0000,34.6779,2,-999.0000,9, 178.1,2,-999.0,9, -999.00,9, -999.00,9, -999.00,9,-999.0000,9,-999.0000,9, 0.0128, -999.0,9
740H20210202,SR1b_A23,  7,1, 4,9005,2,20210206,2228,-53.43188, -38.69606,3457, 457.0, 2.1455, 2.1462, 2.0000,34.5603,2,34.5606,2, 177.7,2, 177.7,2, -999.00,9, -999.00,9, -999.00,9,-999.0000,9,-999.0000,9, 0.0171, -999.0,9
740H20210202,SR1b_A23,  7,1, 5,9006,2,20210206,2229,-53.43188, -38.69606,3457, 456.9, 2.1462, 2.1474, 2.0000,34.5600,2,-999.0000,9, 177.7,2,-999.0,9, -999.00,9, -999.00,9, -999.00,9,-999.0000,9,-999.0000,9, 0.0192, -999.0,9
740H20210202,SR1b_A23,  7,1, 6,9007,2,20210206,2231,-53.43190, -38.69606,3457, 406.8, 2.1487, 2.1441, 2.0000,34.5287,2,-999.0000,9, 180.0,2,-999.0,9, -999.00,1, -999.00,1, -999.00,1,-999.0000,9,-999.0000,1, 0.0198, -999.0,1
740H20210202,SR1b_A23,  7,1, 7,9008,2,20210206,2232,-53.43188, -38.69604,3457, 406.8, 2.1485, 2.1445, 2.0000,34.5289,2,-999.0000,9, 180.1,2,-999.0,9, -999.00,9, -999.00,9, -999.00,9,-999.0000,9,-999.0000,9, 0.0195, -999.0,9
740H20210202,SR1b_A23,  7,1, 8,9009,2,20210206,2237,-53.43188, -38.69608,3457, 204.0, 1.2736, 1.2670, 2.0000,34.2300,2,-999.0000,9, 249.0,2,-999.0,9, -999.00,1, -999.00,1, -999.00,1,-999.0000,9,-999.0000,1, 0.0253, -999.0,1
740H20210202,SR1b_A23,  7,1, 9,9010,2,20210206,2238,-53.43190, -38.69607,3457, 203.8, 1.2656, 1.2664, 2.0000,34.2290,2,-999.0000,9, 249.1,2,-999.0,9, -999.00,9, -999.00,9, -999.00,9,-999.0000,9,-999.0000,9, 0.0211, -999.0,9
740H20210202,SR1b_A23,  7,1,10,8156,2,20210206,2238,-53.43190, -38.69606,3457, 203.7, 1.2828, 1.2698, 2.0000,34.2313,2,-999.0000,9, 248.3,2,-999.0,9, -999.00,9, -999.00,9, -999.00,9,-999.0000,9,-999.0000,9, 0.0225, -999.0,9
740H20210202,SR1b_A23,  7,1,11,9012,2,20210206,2241,-53.43188, -38.69606,3457, 127.2, 0.5431, 0.5467, 2.0000,33.9835,2,33.9889,2, 326.1,2, 323.4,2, -999.00,9, -999.00,9, -999.00,9,-999.0000,9,-999.0000,9, 0.0467, -999.0,9
740H20210202,SR1b_A23,  7,1,12,9013,2,20210206,2242,-53.43186, -38.69606,3457, 127.2, 0.5426, 0.5472, 2.0000,33.9826,2,-999.0000,9, 326.5,2,-999.0,9, -999.00,9, -999.00,9, -999.00,9,-999.0000,9,-999.0000,9, 0.0422, -999.0,9
740H20210202,SR1b_A23,  7,1,13,9014,2,20210206,2246,-53.43190, -38.69606,3457, 101.3, 0.9319, 0.9292, 2.0000,33.9407,2,-999.0000,9, 329.8,2,-999.0,9, -999.00,1, -999.00,1, -999.00,1,-999.0000,9,-999.0000,1, 0.0657, -999.0,1
740H20210202,SR1b_A23,  7,1,14,9015,2,20210206,2247,-53.43190, -38.69608,3457, 102.1, 0.9170, 0.9260, 2.0000,33.9416,2,-999.0000,9, 329.8,2,-999.0,9, -999.00,9, -999.00,9, -999.00,9,-999.0000,9,-999.0000,9, 0.0688, -999.0,9
740H20210202,SR1b_A23,  7,1,15,9016,2,20210206,2249,-53.43188, -38.69604,3457,  77.9, 1.9122, 1.9999, 2.0000,33.8689,2,33.8721,2, 330.0,2, 329.6,2, -999.00,9, -999.00,9, -999.00,9,-999.0000,9,-999.0000,9, 0.1670, -999.0,9
740H20210202,SR1b_A23,  7,1,16,9017,2,20210206,2250,-53.43190, -38.69606,3457,  78.5, 1.9254, 1.9946, 2.0000,33.8713,2,-999.0000,9, 330.0,2,-999.0,9, -999.00,9, -999.00,9, -999.00,9,-999.0000,9,-999.0000,9, 0.1908, -999.0,9
740H20210202,SR1b_A23,  7,1,17,9018,2,20210206,2253,-53.43188, -38.69606,3457,  49.2, 4.4056, 4.4101, 2.0000,33.7884,2,33.7879,2, 330.0,2, 332.1,2, -999.00,1, -999.00,1, -999.00,1,-999.0000,9,-999.0000,1, 2.2174, -999.0,1
740H20210202,SR1b_A23,  7,1,18,9019,2,20210206,2253,-53.43188, -38.69604,3457,  51.5, 4.4042, 4.4135, 2.0000,33.7889,2,-999.0000,9, 330.3,2,-999.0,9, -999.00,9, -999.00,9, -999.00,9,-999.0000,9,-999.0000,9, 1.8303, -999.0,9
740H20210202,SR1b_A23,  7,1,19,9020,2,20210206,2254,-53.43188, -38.69606,3457,  50.7, 4.4080, 4.4139, 2.0000,33.7888,2,-999.0000,9, 330.7,2,-999.0,9, -999.00,9, -999.00,9, -999.00,9,-999.0000,9,-999.0000,9, 1.8224, -999.0,9
740H20210202,SR1b_A23,  7,1,20,9021,2,20210206,2257,-53.43190, -38.69608,3457,  26.3, 4.4783, 4.4790, 2.0000,33.7816,2,33.7820,2, 343.2,2, 345.0,2, -999.00,9, -999.00,9, -999.00,9,-999.0000,9,-999.0000,9, 2.6644, -999.0,9
740H20210202,SR1b_A23,  7,1,21,9022,2,20210206,2258,-53.43190, -38.69606,3457,  27.6, 4.4788, 4.4797, 2.0000,33.7821,2,-999.0000,9, 344.1,2,-999.0,9, -999.00,9, -999.00,9, -999.00,9,-999.0000,9,-999.0000,9, 2.8927, -999.0,9
740H20210202,SR1b_A23,  7,1,22,9023,2,20210206,2258,-53.43190, -38.69603,3457,  27.9, 4.4736, 4.4758, 2.0000,33.7826,2,-999.0000,9, 342.6,2,-999.0,9, -999.00,9, -999.00,9, -999.00,9,-999.0000,9,-999.0000,9, 3.1934, -999.0,9
740H20210202,SR1b_A23,  7,1,23,9024,2,20210206,2301,-53.43190, -38.69606,3457,   6.6, 4.4749, 4.4751, 2.0000,33.7820,2,-999.0000,9, 344.0,2,-999.0,9, -999.00,1, -999.00,1, -999.00,1,-999.0000,9,-999.0000,1, 3.0094, -999.0,1
740H20210202,SR1b_A23,  7,1,24,9025,2,20210206,2301,-53.43190, -38.69607,3457,   7.2, 4.4768, 4.4769, 2.0000,33.7825,2,-999.0000,9, 343.7,2,-999.0,9, -999.00,9, -999.00,9, -999.00,9,-999.0000,9,-999.0000,9, 2.9932, -999.0,9
740H20210202,SR1b_A23,  8,1, 1,9002,2,20210207,0251,-53.78427, -38.58432, 208, 199.9, 0.8094, 0.8105, 2.0000,34.0972,2,-999.0000,9, 279.2,2, 276.1,3, -999.00,1, -999.00,1, -999.00,1,-999.0000,9,-999.0000,1, 0.0536, -999.0,1
740H20210202,SR1b_A23,  8,1, 2,9003,2,20210207,0251,-53.78428, -38.58432, 208, 199.8, 0.8101, 0.8105, 2.0000,34.0979,2,-999.0000,9, 279.0,2,-999.0,9, -999.00,9, -999.00,9, -999.00,9,-999.0000,9,-999.0000,9, 0.0601, -999.0,9
740H20210202,SR1b_A23,  8,1, 3,8149,2,20210207,0252,-53.78428, -38.58432, 208, 198.9, 0.8103, 0.8105, 2.0000,34.0979,2,-999.0000,9, 279.3,2,-999.0,9, -999.00,9, -999.00,9, -999.00,9,-999.0000,9,-999.0000,9, 0.0547, -999.0,9
740H20210202,SR1b_A23,  8,1, 4,9005,2,20210207,0252,-53.78426, -38.58430, 208, 199.3, 0.8100, 0.8106, 2.0000,34.0981,2,-999.0000,9, 279.5,2,-999.0,9, -999.00,9, -999.00,9, -999.00,9,-999.0000,9,-999.0000,9, 0.0564, -999.0,9
740H20210202,SR1b_A23,  8,1, 5,9006,2,20210207,0257,-53.78426, -38.58430, 208, 129.0, 0.7417, 0.7429, 2.0000,34.0279,2,34.0304,2, 299.5,2, 296.6,3, -999.00,9, -999.00,9, -999.00,9,-999.0000,9,-999.0000,9, 0.0482, -999.0,9
740H20210202,SR1b_A23,  8,1, 6,9007,2,20210207,0258,-53.78426, -38.58430, 208, 129.2, 0.7439, 0.7436, 2.0000,34.0255,2,-999.0000,9, 300.6,2,-999.0,9, -999.00,9, -999.00,9, -999.00,9,-999.0000,9,-999.0000,9, 0.0470, -999.0,9
740H20210202,SR1b_A23,  8,1, 7,9008,2,20210207,0300,-53.78426, -38.58432, 208, 103.0, 0.8003, 0.7981, 2.0000,34.0038,2,-999.0000,9, 306.0,2,-999.0,9, -999.00,1, -999.00,1, -999.00,1,-999.0000,9,-999.0000,1, 0.0527, -999.0,1
740H20210202,SR1b_A23,  8,1, 8,9009,2,20210207,0301,-53.78426, -38.58431, 208, 103.5, 0.8011, 0.8062, 2.0000,34.0036,2,-999.0000,9, 305.6,2,-999.0,9, -999.00,9, -999.00,9, -999.00,9,-999.0000,9,-999.0000,9, 0.0545, -999.0,9
740H20210202,SR1b_A23,  8,1, 9,9010,2,20210207,0302,-53.78426, -38.58430, 208, 102.9, 0.7992, 0.8090, 2.0000,34.0041,2,-999.0000,9, 306.8,2,-999.0,9, -999.00,9, -999.00,9, -999.00,9,-999.0000,9,-999.0000,9, 0.0539, -999.0,9
740H20210202,SR1b_A23,  8,1,10,8156,2,20210207,0305,-53.78428, -38.58431, 208,  78.1, 1.1865, 1.3743, 2.0000,33.9447,2,33.9292,2, 318.3,2, 318.8,3, -999.00,9, -999.00,9, -999.00,9,-999.0000,9,-999.0000,9, 0.0991, -999.0,9
740H20210202,SR1b_A23,  8,1,11,9012,2,20210207,0305,-53.78426, -38.58432, 208,  78.4, 1.2130, 1.3680, 2.0000,33.9405,2,-999.0000,9, 319.9,2,-999.0,9, -999.00,9, -999.00,9, -999.00,9,-999.0000,9,-999.0000,9, 0.1037, -999.0,9
740H20210202,SR1b_A23,  8,1,12,9013,2,20210207,0306,-53.78426, -38.58432, 208,  77.3, 1.2993, 1.3184, 2.0000,33.9292,2,-999.0000,9, 318.3,2,-999.0,9, -999.00,9, -999.00,9, -999.00,9,-999.0000,9,-999.0000,9, 0.1380, -999.0,9
740H20210202,SR1b_A23,  8,1,13,9014,2,20210207,0309,-53.78426, -38.58430, 208,  53.2, 2.7737, 2.7801, 2.0000,33.8052,2,33.8071,2, 329.6,2,-999.0,9, -999.00,1, -999.00,1, -999.00,1,-999.0000,9,-999.0000,1, 0.6892, -999.0,1
740H20210202,SR1b_A23,  8,1,14,9015,2,20210207,0309,-53.78426, -38.58430, 208,  52.2, 2.7835, 2.8044, 2.0000,33.8046,2,-999.0000,9, 329.9,2,-999.0,9, -999.00,9, -999.00,9, -999.00,9,-999.0000,9,-999.0000,9, 0.7978, -999.0,9
740H20210202,SR1b_A23,  8,1,15,9016,2,20210207,0310,-53.78426, -38.58432, 208,  52.6, 2.7415, 2.7686, 2.0000,33.8080,2,-999.0000,9, 330.2,2,-999.0,9, -999.00,9, -999.00,9, -999.00,9,-999.0000,9,-999.0000,9, 0.6822, -999.0,9
740H20210202,SR1b_A23,  8,1,16,9017,2,20210207,0312,-53.78426, -38.58432, 208,  27.8, 3.6933, 3.7165, 2.0000,33.7488,2,-999.0000,9, 344.5,2,-999.0,9, -999.00,1, -999.00,1, -999.00,1,-999.0000,9,-999.0000,1, 1.9237, -999.0,1
740H20210202,SR1b_A23,  8,1,17,9018,2,20210207,0312,-53.78426, -38.58432, 208,  26.6, 3.7010, 3.7078, 2.0000,33.7488,2,-999.0000,9, 344.0,2,-999.0,9, -999.00,9, -999.00,9, -999.00,9,-999.0000,9,-999.0000,9, 2.2775, -999.0,9
740H20210202,SR1b_A23,  8,1,18,9019,2,20210207,0313,-53.78426, -38.58432, 208,  27.3, 3.6932, 3.7189, 2.0000,33.7485,2,-999.0000,9, 345.5,2,-999.0,9, -999.00,9, -999.00,9, -999.00,9,-999.0000,9,-999.0000,9, 2.0075, -999.0,9
740H20210202,SR1b_A23,  8,1,19,9020,2,20210207,0316,-53.78426, -38.58430, 208,   6.2, 3.7386, 3.7355, 2.0000,33.7441,2,33.7439,2, 345.3,2, 346.1,2, -999.00,1, -999.00,1, -999.00,1,-999.0000,9,-999.0000,1, 1.1713, -999.0,1
740H20210202,SR1b_A23,  8,1,20,9021,2,20210207,0316,-53.78426, -38.58431, 208,   6.3, 3.7323, 3.7336, 2.0000,33.7440,2,-999.0000,9, 345.4,2,-999.0,9, -999.00,9, -999.00,9, -999.00,9,-999.0000,9,-999.0000,9, 1.4806, -999.0,9
740H20210202,SR1b_A23,  8,1,21,9022,2,20210207,0317,-53.78426, -38.58432, 208,   6.6, 3.7297, 3.7322, 2.0000,33.7439,2,-999.0000,9, 345.2,2,-999.0,9, -999.00,9, -999.00,9, -999.00,9,-999.0000,9,-999.0000,9, 1.2761, -999.0,9