BOTTLE,20210420POGBASEPA
EXPOCODE,SECT_ID,STNNBR,CASTNO,SAMPNO,BTLNBR,BTLNBR_FLAG_W,DATE,TIME,LATITUDE,LONGITUDE,DEPTH,CTDPRS,CTDTMP,SBE35,SBE35_FLAG_W,CTDSAL,CTDSAL_FLAG_W,SALNTY,SALNTY_FLAG_W,CTDOXY,CTDOXY_FLAG_W,OXYGEN,OXYGEN_FLAG_W,SILCAT,SILCAT_FLAG_W,NO2+NO3,NO2+NO3_FLAG_W,PHSPHT,PHSPHT_FLAG_W,DELO18,DELO18_FLAG_W,D30SI_SILCAT,D30SI_SILCAT_FLAG_W,CTDFLUOR,BOTCHLA,BOTCHLA_FLAG_W
 , , , , , , , , , , ,METERS,DBAR,ITS-90,ITS-90, ,PSS-78, ,PSS-78, ,UMOL/KG, ,UMOL/KG, ,UMOL/KG, ,UMOL/KG,UMOL/KG,UMOL/KG,UMOL/KG,/MILLE,/MILLE,/MILLE,/MILLE,MG/M^3,ML/L,ML/L
740H20210202,SR1b_A23, 90,1, 1,9002,2,20210304,1924,-55.12158, -57.97844,2749,2785.0, 1.7498, 1.7500, 2.0000,34.7166,2,34.7176,2, 184.1,2, 184.4,2, -999.00,9, -999.00,9, -999.00,9,-999.0000,1,-999.0000,9, 0.0031, -999.0,9
740H20210202,SR1b_A23, 90,1, 2,9003,2,20210304,1927,-55.12162, -57.97810,2749,2733.9, 1.7798, 1.7850, 2.0000,34.7153,2,34.7159,2, 183.3,2, 185.2,3, -999.00,9, -999.00,9, -999.00,9,-999.0000,1,-999.0000,9, 0.0185, -999.0,9
740H20210202,SR1b_A23, 90,1, 4,9005,2,20210304,1945,-55.12170, -57.97640,2749,1839.7, 2.3794, 2.3828, 2.0000,34.6227,2,34.6227,2, 169.7,2, 169.8,2, -999.00,9, -999.00,9, -999.00,9,-999.0000,1,-999.0000,9, 0.0163, -999.0,9
740H20210202,SR1b_A23, 90,1, 5,9006,2,20210304,2000,-55.12174, -57.97500,2749,1096.9, 3.1989, 3.2045, 2.0000,34.3450,2,34.3450,2, 197.3,2,-999.0,9, -999.00,9, -999.00,9, -999.00,9,-999.0000,1,-999.0000,9, 0.0104, -999.0,9
740H20210202,SR1b_A23, 90,1, 6,9007,2,20210304,2009,-55.12178, -57.97410,2749, 681.3, 4.2931, 4.2950, 2.0000,34.1684,2,34.1685,2, 256.0,2,-999.0,9, -999.00,9, -999.00,9, -999.00,9,-999.0000,1,-999.0000,9, 0.0092, -999.0,9
740H20210202,SR1b_A23, 90,1, 7,9008,2,20210304,2014,-55.12182, -57.97356,2749, 504.0, 4.7294, 4.7301, 2.0000,34.1424,2,34.1417,2, 280.7,2,-999.0,9, -999.00,9, -999.00,9, -999.00,9,-999.0000,1,-999.0000,9, 0.0087, -999.0,9
740H20210202,SR1b_A23, 90,1, 8,9009,2,20210304,2018,-55.12184, -57.97320,2749, 403.4, 4.9044, 4.9074, 2.0000,34.1408,2,34.1414,2, 288.8,2,-999.0,9, -999.00,9, -999.00,9, -999.00,9,-999.0000,1,-999.0000,9, 0.0056, -999.0,9
740H20210202,SR1b_A23, 90,1,11,9012,2,20210304,2022,-55.12186, -57.97288,2749, 302.1, 5.0022, 5.0041, 2.0000,34.1385,2,34.1384,2, 292.8,2,-999.0,9, -999.00,9, -999.00,9, -999.00,9,-999.0000,1,-999.0000,9, 0.0056, -999.0,9
740H20210202,SR1b_A23, 90,1,12,9013,2,20210304,2025,-55.12190, -57.97250,2749, 201.1, 5.1781, 5.1801, 2.0000,34.1306,2,34.1310,2, 292.5,2, 293.1,2, -999.00,9, -999.00,9, -999.00,9,-999.0000,1,-999.0000,9, 0.0275, -999.0,9
740H20210202,SR1b_A23, 90,1,13,9014,2,20210304,2028,-55.12190, -57.97230,2749, 160.5, 5.5278, 5.5247, 2.0000,34.1124,2,34.1137,2, 291.0,2,-999.0,9, -999.00,9, -999.00,9, -999.00,9,-999.0000,1,-999.0000,9, 0.0468, -999.0,9
740H20210202,SR1b_A23, 90,1,14,9015,2,20210304,2030,-55.12192, -57.97208,2749, 125.3, 5.9642, 6.0085, 2.0000,34.0905,2,34.0976,2, 292.5,2,-999.0,9, -999.00,9, -999.00,9, -999.00,9,-999.0000,1,-999.0000,9, 0.1177, -999.0,9
740H20210202,SR1b_A23, 90,1,15,9016,2,20210304,2035,-55.12196, -57.97156,2749,  90.9, 6.8776, 6.9659, 2.0000,34.0495,2,34.0503,2, 293.0,2,-999.0,9, -999.00,9, -999.00,9, -999.00,9,-999.0000,1,-999.0000,9, 0.2579, -999.0,9
740H20210202,SR1b_A23, 90,1,17,9018,2,20210304,2039,-55.12198, -57.97126,2749,  50.0, 7.4494, 7.4618, 2.0000,34.0394,2,34.0387,2, 293.6,2,-999.0,9, -999.00,9, -999.00,9, -999.00,9,-999.0000,1,-999.0000,9, 0.4387, -999.0,9
740H20210202,SR1b_A23, 90,1,18,9019,2,20210304,2041,-55.12200, -57.97098,2749,  30.0, 7.5323, 7.5324, 2.0000,34.0411,2,34.0403,2, 294.4,2,-999.0,9, -999.00,9, -999.00,9, -999.00,9,-999.0000,1,-999.0000,9, 0.3985, -999.0,9
740H20210202,SR1b_A23, 90,1,19,9020,2,20210304,2043,-55.12202, -57.97076,2749,   9.9, 7.5729, 7.5930, 2.0000,34.0405,2,34.0402,2, 294.8,2,-999.0,9, -999.00,9, -999.00,9, -999.00,9,-999.0000,1,-999.0000,9, 0.3559, -999.0,9
740H20210202,SR1b_A23, 91,1, 1,9002,2,20210304,2241,-55.07014, -57.98428,2224,2243.4, 2.1867, 2.1869, 2.0000,34.6749,2,34.6752,2, 171.4,2, 171.5,2, -999.00,9, -999.00,9, -999.00,9,-999.0000,1,-999.0000,9, 0.0103, -999.0,9
740H20210202,SR1b_A23, 91,1, 2,9003,2,20210304,2244,-55.07014, -57.98429,2224,2192.7, 2.2417, 2.2420, 2.0000,34.6647,2,34.6667,2, 170.4,2,-999.0,9, -999.00,9, -999.00,9, -999.00,9,-999.0000,1,-999.0000,9, 0.0065, -999.0,9
740H20210202,SR1b_A23, 91,1, 4,9005,9,20210304,2308,-55.07040, -57.98266,2224,1673.5, 2.4975, 2.4975, 2.0000,34.5829,2,34.5828,2, 163.0,2,-999.0,9, -999.00,9, -999.00,9, -999.00,9,-999.0000,9,-999.0000,9, 0.0103, -999.0,9
740H20210202,SR1b_A23, 91,1, 5,9006,9,20210304,2317,-55.07057, -57.98150,2224,1266.6, 2.8762, 2.8764, 2.0000,34.4408,2,34.4416,2, 180.3,2, 180.5,2, -999.00,9, -999.00,9, -999.00,9,-999.0000,9,-999.0000,9, 0.0095, -999.0,9
740H20210202,SR1b_A23, 91,1,13,9014,9,20210304,2326,-55.07076, -57.98018,2224, 860.6, 3.8275, 3.8239, 2.0000,34.2499,2,34.2500,2, 221.7,2,-999.0,9, -999.00,9, -999.00,9, -999.00,9,-999.0000,9,-999.0000,9, 0.0072, -999.0,9
740H20210202,SR1b_A23, 91,1,14,9015,9,20210304,2335,-55.07094, -57.97896,2224, 456.0, 4.7695, 4.7681, 2.0000,34.1402,2,34.1406,2, 283.4,2, 284.7,2, -999.00,9, -999.00,9, -999.00,9,-999.0000,9,-999.0000,9, 0.0026, -999.0,9
740H20210202,SR1b_A23, 91,1,15,9016,9,20210304,2343,-55.07110, -57.97776,2224, 102.7, 6.6411, 6.6589, 2.0000,34.0525,2,34.0580,2, 291.8,2,-999.0,9, -999.00,9, -999.00,9, -999.00,9,-999.0000,9,-999.0000,9, 0.1486, -999.0,9
740H20210202,SR1b_A23, 91,1,17,9018,9,20210304,2350,-55.07124, -57.97688,2224,  11.6, 7.6930, 7.6988, 2.0000,33.9901,2,33.9894,2, 293.6,2, 295.5,2, -999.00,9, -999.00,9, -999.00,9,-999.0000,9,-999.0000,9, 0.5302, -999.0,9
740H20210202,SR1b_A23, 92,1, 4,9005,2,20210305,0141,-55.00714, -57.98272,1673,1679.8, 2.5129, 2.5137, 2.0000,34.5772,2,34.5767,2, 163.4,2, 164.2,2, -999.00,9, -999.00,9, -999.00,9,-999.0000,1,-999.0000,9, 0.0171, -999.0,9
740H20210202,SR1b_A23, 92,1, 5,9006,2,20210305,0145,-55.00716, -57.98270,1673,1628.4, 2.5405, 2.5412, 2.0000,34.5658,2,34.5662,2, 164.6,2,-999.0,9, -999.00,9, -999.00,9, -999.00,9,-999.0000,1,-999.0000,9, 0.0104, -999.0,9
740H20210202,SR1b_A23, 92,1, 6,9007,2,20210305,0154,-55.00716, -57.98270,1673,1265.6, 2.9023, 2.9043, 2.0000,34.4316,2,34.4318,2, 181.3,2,-999.0,9, -999.00,9, -999.00,9, -999.00,9,-999.0000,1,-999.0000,9, 0.0019, -999.0,9
740H20210202,SR1b_A23, 92,1, 7,9008,2,20210305,0200,-55.00714, -57.98271,1673,1012.1, 3.3512, 3.3582, 2.0000,34.3216,2,34.3219,2, 205.0,2,-999.0,9, -999.00,9, -999.00,9, -999.00,9,-999.0000,1,-999.0000,9, 0.0108, -999.0,9
740H20210202,SR1b_A23, 92,1, 8,9009,2,20210305,0205,-55.00716, -57.98272,1673, 808.8, 3.8196, 3.8226, 2.0000,34.2490,2,34.2482,2, 222.7,2,-999.0,9, -999.00,9, -999.00,9, -999.00,9,-999.0000,1,-999.0000,9, 0.0089, -999.0,9
740H20210202,SR1b_A23, 92,1,11,9012,2,20210305,0210,-55.00714, -57.98270,1673, 606.4, 4.3615, 4.3682, 2.0000,34.1530,2,34.1530,2, 264.4,2,-999.0,9, -999.00,9, -999.00,9, -999.00,9,-999.0000,1,-999.0000,9, 0.0091, -999.0,9
740H20210202,SR1b_A23, 92,1,12,9013,2,20210305,0214,-55.00716, -57.98270,1673, 505.0, 4.6581, 4.6623, 2.0000,34.1429,2,34.1424,2, 277.5,2,-999.0,9, -999.00,9, -999.00,9, -999.00,9,-999.0000,1,-999.0000,9, 0.0133, -999.0,9
740H20210202,SR1b_A23, 92,1,17,9018,2,20210305,0218,-55.00714, -57.98272,1673, 404.1, 4.9063, 4.9100, 2.0000,34.1428,2,34.1423,2, 287.3,2,-999.0,9, -999.00,9, -999.00,9, -999.00,9,-999.0000,1,-999.0000,9, 0.0060, -999.0,9
740H20210202,SR1b_A23, 92,1,18,9019,2,20210305,0223,-55.00714, -57.98272,1673, 302.6, 5.0212, 5.0228, 2.0000,34.1389,2,34.1387,2, 292.4,2, 293.0,2, -999.00,9, -999.00,9, -999.00,9,-999.0000,1,-999.0000,9, 0.0208, -999.0,9
740H20210202,SR1b_A23, 92,1,19,9020,2,20210305,0227,-55.00715, -57.98272,1673, 202.1, 5.1899, 5.1904, 2.0000,34.1291,2,34.1298,2, 291.3,2,-999.0,9, -999.00,9, -999.00,9, -999.00,9,-999.0000,1,-999.0000,9, 0.0206, -999.0,9
740H20210202,SR1b_A23, 92,1,20,9021,2,20210305,0230,-55.00716, -57.98272,1673, 151.5, 5.3893, 5.3930, 2.0000,34.1129,2,34.1141,2, 291.3,2,-999.0,9, -999.00,9, -999.00,9, -999.00,9,-999.0000,1,-999.0000,9, 0.0289, -999.0,9
740H20210202,SR1b_A23, 92,1,21,9022,2,20210305,0233,-55.00716, -57.98271,1673, 102.3, 5.9655, 5.9698, 2.0000,34.0759,2,34.0783,2, 290.3,2,-999.0,9, -999.00,9, -999.00,9, -999.00,9,-999.0000,1,-999.0000,9, 0.0761, -999.0,9
740H20210202,SR1b_A23, 92,1,22,9023,2,20210305,0237,-55.00714, -57.98268,1673,  81.4, 7.0769, 6.9532, 2.0000,34.0336,2,34.0360,2, 292.0,2,-999.0,9, -999.00,9, -999.00,9, -999.00,9,-999.0000,1,-999.0000,9, 0.3204, -999.0,9
740H20210202,SR1b_A23, 92,1,23,9024,2,20210305,0240,-55.00714, -57.98272,1673,  51.1, 7.3808, 7.3741, 2.0000,34.0278,2,34.0268,2, 293.1,2,-999.0,9, -999.00,9, -999.00,9, -999.00,9,-999.0000,1,-999.0000,9, 0.4434, -999.0,9
740H20210202,SR1b_A23, 92,1,24,9025,2,20210305,0244,-55.00716, -57.98270,1673,   5.2, 7.6905, 7.6908, 2.0000,34.0062,2,34.0054,2, 294.0,2, 295.8,2, -999.00,9, -999.00,9, -999.00,9,-999.0000,1,-999.0000,9, 0.4131, -999.0,9
740H20210202,SR1b_A23, 93,1, 6,9007,2,20210305,0439,-54.97782, -57.98328,1057,1047.4, 3.2994, 3.3093, 2.0000,34.3225,2,34.3203,2, 204.0,2,-999.0,9, -999.00,9, -999.00,9, -999.00,9,-999.0000,1,-999.0000,9, 0.0181, -999.0,9
740H20210202,SR1b_A23, 93,1, 7,9008,2,20210305,0442,-54.97784, -57.98332,1057,1006.2, 3.3972, 3.4187, 2.0000,34.3061,2,34.3048,2, 208.4,2,-999.0,9, -999.00,9, -999.00,9, -999.00,9,-999.0000,1,-999.0000,9, 0.0080, -999.0,9
740H20210202,SR1b_A23, 93,1, 8,9009,2,20210305,0449,-54.97784, -57.98330,1057, 758.8, 4.0285, 4.0296, 2.0000,34.2072,2,34.2073,2, 240.6,2, 241.0,2, -999.00,9, -999.00,9, -999.00,9,-999.0000,1,-999.0000,9, 0.0105, -999.0,9
740H20210202,SR1b_A23, 93,1,18,9019,2,20210305,0459,-54.97784, -57.98334,1057, 302.7, 4.9747, 4.9780, 2.0000,34.1402,2,34.1401,2, 291.8,2,-999.0,9, -999.00,9, -999.00,9, -999.00,9,-999.0000,1,-999.0000,9, 0.0062, -999.0,9
740H20210202,SR1b_A23, 93,1,19,9020,2,20210305,0508,-54.97784, -57.98332,1057,  40.6, 7.4430, 7.4462, 2.0000,34.0233,2,34.0225,2, 294.0,2, 296.1,2, -999.00,9, -999.00,9, -999.00,9,-999.0000,1,-999.0000,9, 0.4733, -999.0,9
740H20210202,SR1b_A23, 93,1,20,9021,2,20210305,0512,-54.97784, -57.98332,1057,  10.3, 7.6058, 7.6069, 2.0000,34.0214,2,34.0206,2, 294.4,2,-999.0,9, -999.00,9, -999.00,9, -999.00,9,-999.0000,1,-999.0000,9, 0.3909, -999.0,9
740H20210202,SR1b_A23, 94,1, 6,9007,2,20210305,0642,-54.92234, -57.98332, 717, 712.4, 4.2563, 4.2502, 2.0000,34.1666,2,34.1659,2, 257.3,2,-999.0,9, -999.00,9, -999.00,9, -999.00,9,-999.0000,1,-999.0000,9, 0.0182, -999.0,9
740H20210202,SR1b_A23, 94,1, 7,9008,2,20210305,0645,-54.92234, -57.98332, 717, 671.9, 4.3986, 4.4116, 2.0000,34.1547,2,34.1546,2, 265.6,2,-999.0,9, -999.00,9, -999.00,9, -999.00,9,-999.0000,1,-999.0000,9, 0.0148, -999.0,9
740H20210202,SR1b_A23, 94,1, 8,9009,2,20210305,0651,-54.92234, -57.98332, 717, 454.2, 4.8714, 4.8716, 2.0000,34.1423,2,34.1423,2, 286.1,2,-999.0,9, -999.00,9, -999.00,9, -999.00,9,-999.0000,1,-999.0000,9, 0.0126, -999.0,9
740H20210202,SR1b_A23, 94,1,18,9019,2,20210305,0657,-54.92234, -57.98334, 717, 262.0, 5.0701, 5.0817, 2.0000,34.1378,2,34.1377,2, 293.2,2, 294.1,2, -999.00,9, -999.00,9, -999.00,9,-999.0000,1,-999.0000,9, 0.0124, -999.0,9
740H20210202,SR1b_A23, 94,1,19,9020,2,20210305,0707,-54.92234, -57.98332, 717,  60.7, 6.6528, 6.6498, 2.0000,34.0287,2,34.0279,2, 296.2,2,-999.0,9, -999.00,9, -999.00,9, -999.00,9,-999.0000,1,-999.0000,9, 0.3888, -999.0,9
740H20210202,SR1b_A23, 94,1,20,9021,2,20210305,0711,-54.92234, -57.98334, 717,  10.1, 7.4437, 7.4452, 2.0000,34.0182,2,34.0172,2, 295.8,2, 296.9,2, -999.00,9, -999.00,9, -999.00,9,-999.0000,1,-999.0000,9, 0.4929, -999.0,9
740H20210202,SR1b_A23, 95,1, 6,9007,2,20210305,1014,-54.66736, -57.98135, 167, 155.1, 6.0828, 6.0832, 2.0000,34.0759,2,34.0754,2, 274.9,2, 276.0,2, -999.00,9, -999.00,9, -999.00,9,-999.0000,1,-999.0000,9, 0.0600, -999.0,9
740H20210202,SR1b_A23, 95,1, 7,9008,2,20210305,1017,-54.66736, -57.98136, 167, 125.0, 6.0877, 6.0877, 2.0000,34.0760,2,34.0754,2, 275.3,2,-999.0,9, -999.00,9, -999.00,9, -999.00,9,-999.0000,1,-999.0000,9, 0.0612, -999.0,9
740H20210202,SR1b_A23, 95,1,18,9019,2,20210305,1022,-54.66736, -57.98138, 167,  54.0, 7.5338, 7.5396, 2.0000,34.0471,2,34.0463,2, 292.0,2,-999.0,9, -999.00,9, -999.00,9, -999.00,9,-999.0000,1,-999.0000,9, 0.7287, -999.0,9
740H20210202,SR1b_A23, 95,1,19,9020,2,20210305,1027,-54.66736, -57.98138, 167,  11.4, 7.7698, 7.7688, 2.0000,34.0117,2,34.0105,2, 295.0,2, 295.9,2, -999.00,9, -999.00,9, -999.00,9,-999.0000,1,-999.0000,9, 0.7564, -999.0,9
740H20210202,SR1b_A23, 96,1, 1,9002,2,20210305,1756,-53.80680, -57.61576,1169,1169.4, 3.0171, 3.0235, 2.0000,34.3598,2,-999.0000,9, 197.8,2,-999.0,9, -999.00,9, -999.00,9, -999.00,9,-999.0000,9,-999.0000,9, 0.0023, -999.0,9
740H20210202,SR1b_A23, 96,1, 2,9003,2,20210305,1756,-53.80682, -57.61570,1169,1169.3, 3.0181, 3.0226, 2.0000,34.3593,2,34.3568,2, 197.9,2,-999.0,9, -999.00,9, -999.00,9, -999.00,9,-999.0000,9,-999.0000,9, 0.0163, -999.0,9
740H20210202,SR1b_A23, 96,1, 3,8149,2,20210305,1807,-53.80680, -57.61568,1169, 660.4, 4.2354, 4.2408, 2.0000,34.1804,2,-999.0000,9, 251.3,2,-999.0,9, -999.00,9, -999.00,9, -999.00,9,-999.0000,9,-999.0000,9, 0.0086, -999.0,9
740H20210202,SR1b_A23, 96,1, 4,9005,2,20210305,1807,-53.80680, -57.61570,1169, 660.4, 4.2369, 4.2409, 2.0000,34.1805,2,34.1806,2, 251.0,2,-999.0,9, -999.00,9, -999.00,9, -999.00,9,-999.0000,9,-999.0000,9, 0.0109, -999.0,9
740H20210202,SR1b_A23, 96,1, 5,9006,2,20210305,1820,-53.80680, -57.61568,1169,  79.2, 5.8445, 5.8440, 2.0000,34.0910,2,-999.0000,9, 294.8,2,-999.0,9, -999.00,9, -999.00,9, -999.00,9,-999.0000,9,-999.0000,9, 0.2032, -999.0,9
740H20210202,SR1b_A23, 96,1, 6,9007,2,20210305,1821,-53.80680, -57.61570,1169,  79.5, 5.8427, 5.8465, 2.0000,34.0911,2,34.0912,2, 294.8,2,-999.0,9, -999.00,9, -999.00,9, -999.00,9,-999.0000,9,-999.0000,9, 0.2107, -999.0,9
740H20210202,SR1b_A23, 96,1, 7,9008,2,20210305,1825,-53.80682, -57.61570,1169,  13.8, 8.1139, 8.1143, 2.0000,34.0504,2,-999.0000,9, 293.3,2,-999.0,9, -999.00,9, -999.00,9, -999.00,9,-999.0000,9,-999.0000,9, 0.4421, -999.0,9
740H20210202,SR1b_A23, 96,1, 8,9009,2,20210305,1825,-53.80682, -57.61570,1169,  13.5, 8.1115, 8.1171, 2.0000,34.0505,2,34.0497,2, 293.1,2,-999.0,9, -999.00,9, -999.00,9, -999.00,9,-999.0000,9,-999.0000,9, 0.4381, -999.0,9
740H20210202,SR1b_A23, 96,1,14,9015,2,20210305,1826,-53.80682, -57.61564,1169,  14.1, 8.1159, 8.1144, 2.0000,34.0506,2,-999.0000,9, 292.8,2,-999.0,9, -999.00,9, -999.00,9, -999.00,9,-999.0000,9,-999.0000,9, 0.4832, -999.0,9
740H20210202,SR1b_A23, 96,1,15,9016,2,20210305,1826,-53.80682, -57.61564,1169,  13.6, 8.1156,-999.0000, 9.0000,34.0506,2,-999.0000,9, 292.3,2,-999.0,9, -999.00,9, -999.00,9, -999.00,9,-999.0000,9,-999.0000,9, 0.4310, -999.0,9
740H20210202,SR1b_A23, 96,1,16,9017,2,20210305,1826,-53.80682, -57.61564,1169,  14.1, 8.1179,-999.0000, 9.0000,34.0505,2,-999.0000,9, 293.1,2,-999.0,9, -999.00,9, -999.00,9, -999.00,9,-999.0000,9,-999.0000,9, 0.4275, -999.0,9
740H20210202,SR1b_A23, 96,1,17,9018,2,20210305,1826,-53.80682, -57.61564,1169,  14.1, 8.1172, 8.1197, 2.0000,34.0506,2,-999.0000,9, 292.8,2,-999.0,9, -999.00,9, -999.00,9, -999.00,9,-999.0000,9,-999.0000,9, 0.4285, -999.0,9
740H20210202,SR1b_A23, 96,1,18,9019,2,20210305,1826,-53.80680, -57.61564,1169,  14.4, 8.1121,-999.0000, 9.0000,34.0505,2,-999.0000,9, 293.4,2,-999.0,9, -999.00,9, -999.00,9, -999.00,9,-999.0000,9,-999.0000,9, 0.4470, -999.0,9
740H20210202,SR1b_A23, 96,1,19,9020,2,20210305,1826,-53.80680, -57.61566,1169,  14.0, 8.1135, 8.1249, 2.0000,34.0506,2,-999.0000,9, 293.3,2,-999.0,9, -999.00,9, -999.00,9, -999.00,9,-999.0000,9,-999.0000,9, 0.4476, -999.0,9
740H20210202,SR1b_A23, 97,1, 1,9002,2,20210305,2024,-53.72032, -57.64574,2060,1665.6, 2.5387, 2.5388, 2.0000,34.5513,2,-999.0000,9, 170.7,2,-999.0,9, -999.00,9, -999.00,9, -999.00,9,-999.0000,9,-999.0000,9, 0.0106, -999.0,9
740H20210202,SR1b_A23, 97,1, 2,9003,2,20210305,2026,-53.72034, -57.64574,2060,1665.5, 2.5385, 2.5378, 2.0000,34.5513,2,-999.0000,9, 170.5,2,-999.0,9, -999.00,9, -999.00,9, -999.00,9,-999.0000,9,-999.0000,9, 0.0115, -999.0,9
740H20210202,SR1b_A23, 97,1, 5,9006,2,20210305,2026,-53.72034, -57.64572,2060,1665.6, 2.5379, 2.5386, 2.0000,34.5516,2,-999.0000,9, 170.5,2,-999.0,9, -999.00,9, -999.00,9, -999.00,9,-999.0000,9,-999.0000,9, 0.0248, -999.0,9
740H20210202,SR1b_A23, 97,1, 6,9007,2,20210305,2027,-53.72032, -57.64574,2060,1665.5, 2.5383, 2.5387, 2.0000,34.5514,2,34.5520,2, 170.2,2,-999.0,9, -999.00,9, -999.00,9, -999.00,9,-999.0000,9,-999.0000,9, 0.0163, -999.0,9
740H20210202,SR1b_A23, 97,1, 7,9008,2,20210305,2039,-53.72032, -57.64576,2060,1015.2, 3.3207, 3.3219, 2.0000,34.2851,2,-999.0000,9, 215.8,2,-999.0,9, -999.00,9, -999.00,9, -999.00,9,-999.0000,9,-999.0000,9, 0.0145, -999.0,9
740H20210202,SR1b_A23, 97,1, 8,9009,2,20210305,2040,-53.72032, -57.64574,2060,1015.2, 3.3210, 3.3224, 2.0000,34.2843,2,34.2867,2, 215.9,2,-999.0,9, -999.00,9, -999.00,9, -999.00,9,-999.0000,9,-999.0000,9, 0.0124, -999.0,9
740H20210202,SR1b_A23, 97,1,17,9018,2,20210305,2053,-53.72032, -57.64574,2060, 357.2, 4.6989, 4.6995, 2.0000,34.1311,2,-999.0000,9, 285.4,2,-999.0,9, -999.00,9, -999.00,9, -999.00,9,-999.0000,9,-999.0000,9, 0.0194, -999.0,9
740H20210202,SR1b_A23, 97,1,18,9019,2,20210305,2054,-53.72032, -57.64574,2060, 357.2, 4.6991, 4.6997, 2.0000,34.1311,2,34.1316,2, 285.5,2,-999.0,9, -999.00,9, -999.00,9, -999.00,9,-999.0000,9,-999.0000,9, 0.0059, -999.0,9
740H20210202,SR1b_A23, 97,1,19,9020,2,20210305,2105,-53.72030, -57.64578,2060,  24.6, 8.1117, 8.1738, 2.0000,34.0511,2,-999.0000,9, 293.0,2,-999.0,9, -999.00,9, -999.00,9, -999.00,9,-999.0000,9,-999.0000,9, 0.5055, -999.0,9
740H20210202,SR1b_A23, 97,1,20,9021,2,20210305,2106,-53.72032, -57.64574,2060,  24.8, 8.0543, 8.0968, 2.0000,34.0467,2,34.0476,2, 293.4,2,-999.0,9, -999.00,9, -999.00,9, -999.00,9,-999.0000,9,-999.0000,9, 0.5125, -999.0,9