BOTTLE,20210420POGBASEPA
EXPOCODE,SECT_ID,STNNBR,CASTNO,SAMPNO,BTLNBR,BTLNBR_FLAG_W,DATE,TIME,LATITUDE,LONGITUDE,DEPTH,CTDPRS,CTDTMP,SBE35,SBE35_FLAG_W,CTDSAL,CTDSAL_FLAG_W,SALNTY,SALNTY_FLAG_W,CTDOXY,CTDOXY_FLAG_W,OXYGEN,OXYGEN_FLAG_W,SILCAT,SILCAT_FLAG_W,NO2+NO3,NO2+NO3_FLAG_W,PHSPHT,PHSPHT_FLAG_W,DELO18,DELO18_FLAG_W,D30SI_SILCAT,D30SI_SILCAT_FLAG_W,CTDFLUOR,BOTCHLA,BOTCHLA_FLAG_W
 , , , , , , , , , , ,METERS,DBAR,ITS-90,ITS-90, ,PSS-78, ,PSS-78, ,UMOL/KG, ,UMOL/KG, ,UMOL/KG, ,UMOL/KG,UMOL/KG,UMOL/KG,UMOL/KG,/MILLE,/MILLE,/MILLE,/MILLE,MG/M^3,ML/L,ML/L
740H20210202,SR1b_A23, 25,1, 1,9002,2,20210214,1857,-56.75844, -34.66566,3399, 757.8, 2.0406, 2.0411, 2.0000,34.6631,2,-999.0000,9, 176.6,2,-999.0,9, -999.00,9, -999.00,9, -999.00,9,-999.0000,9,-999.0000,9, 0.0086, -999.0,9
740H20210202,SR1b_A23, 25,1, 2,9003,2,20210214,1857,-56.75844, -34.66567,3399, 757.9, 2.0405, 2.0407, 2.0000,34.6633,2,-999.0000,9, 176.7,2,-999.0,9, -999.00,9, -999.00,9, -999.00,9,-999.0000,9,-999.0000,9, 0.0160, -999.0,9
740H20210202,SR1b_A23, 25,1, 3,8149,2,20210214,1858,-56.75844, -34.66566,3399, 757.9, 2.0402, 2.0406, 2.0000,34.6633,2,34.6623,2, 176.7,2, 176.8,2, -999.00,9, -999.00,9, -999.00,9,-999.0000,9,-999.0000,9, 0.0109, -999.0,9
740H20210202,SR1b_A23, 25,1, 4,9005,2,20210214,1906,-56.75842, -34.66564,3399, 402.4, 2.2275, 2.2310, 2.0000,34.5319,2,-999.0000,9, 178.9,2,-999.0,9, -999.00,9, -999.00,9, -999.00,9,-999.0000,9,-999.0000,9, 0.0129, -999.0,9
740H20210202,SR1b_A23, 25,1, 5,9006,2,20210214,1906,-56.75844, -34.66564,3399, 402.6, 2.2279, 2.2294, 2.0000,34.5315,2,-999.0000,9, 178.6,2,-999.0,9, -999.00,9, -999.00,9, -999.00,9,-999.0000,9,-999.0000,9, 0.0169, -999.0,9
740H20210202,SR1b_A23, 25,1, 6,9007,2,20210214,1907,-56.75846, -34.66560,3399, 402.6, 2.2280, 2.2304, 2.0000,34.5314,2,34.5302,2, 178.9,2, 178.2,2, -999.00,1, -999.00,1, -999.00,1,-999.0000,1,-999.0000,1, 0.0161, -999.0,9
740H20210202,SR1b_A23, 25,1, 7,9008,2,20210214,1912,-56.75844, -34.66562,3399, 199.9, 1.2796, 1.2752, 2.0000,34.2264,2,-999.0000,9, 248.0,2,-999.0,9, -999.00,9, -999.00,9, -999.00,9,-999.0000,9,-999.0000,9, 0.0377, -999.0,9
740H20210202,SR1b_A23, 25,1, 8,9009,2,20210214,1913,-56.75844, -34.66564,3399, 199.9, 1.2714, 1.2754, 2.0000,34.2270,2,-999.0000,9, 248.7,2,-999.0,9, -999.00,9, -999.00,9, -999.00,9,-999.0000,9,-999.0000,9, 0.0202, -999.0,9
740H20210202,SR1b_A23, 25,1, 9,9010,2,20210214,1913,-56.75844, -34.66566,3399, 199.8, 1.2623, 1.2506, 2.0000,34.2245,2,34.2248,2, 248.9,2, 248.8,2, -999.00,1, -999.00,1, -999.00,1,-999.0000,1,-999.0000,1, 0.0201, -999.0,9
740H20210202,SR1b_A23, 25,1,10,8156,2,20210214,1919,-56.75842, -34.66564,3399,  99.2, 0.7673, 0.7723, 2.0000,33.9290,2,-999.0000,9, 325.7,2,-999.0,9, -999.00,9, -999.00,9, -999.00,9,-999.0000,9,-999.0000,9, 0.0877, -999.0,9
740H20210202,SR1b_A23, 25,1,11,9012,2,20210214,1919,-56.75844, -34.66564,3399,  99.4, 0.7576, 0.7622, 2.0000,33.9310,2,-999.0000,9, 325.2,2,-999.0,9, -999.00,9, -999.00,9, -999.00,9,-999.0000,9,-999.0000,9, 0.0803, -999.0,9
740H20210202,SR1b_A23, 25,1,12,9013,2,20210214,1920,-56.75844, -34.66552,3399,  99.5, 0.7406, 0.7553, 2.0000,33.9343,2,33.9307,2, 325.2,2,-999.0,9, -999.00,1, -999.00,1, -999.00,1,-999.0000,1,-999.0000,1, 0.0778, -999.0,9
740H20210202,SR1b_A23, 25,1,13,9014,2,20210214,1927,-56.75844, -34.66566,3399,  47.8, 2.9425, 2.9485, 2.0000,33.8341,2,-999.0000,9, 330.7,2,-999.0,9, -999.00,9, -999.00,9, -999.00,9,-999.0000,9,-999.0000,9, 0.8652, -999.0,9
740H20210202,SR1b_A23, 25,1,14,9015,2,20210214,1927,-56.75844, -34.66562,3399,  48.7, 2.9461, 2.9470, 2.0000,33.8351,2,-999.0000,9, 330.9,2,-999.0,9, -999.00,9, -999.00,9, -999.00,9,-999.0000,9,-999.0000,9, 0.8551, -999.0,9
740H20210202,SR1b_A23, 25,1,15,9016,2,20210214,1928,-56.75844, -34.66564,3399,  49.2, 2.9452, 2.9609, 2.0000,33.8350,2,33.8335,2, 331.1,2,-999.0,9, -999.00,9, -999.00,9, -999.00,9,-999.0000,1,-999.0000,9, 0.8439, -999.0,9
740H20210202,SR1b_A23, 25,1,16,9017,2,20210214,1931,-56.75842, -34.66564,3399,  23.1, 2.9658, 2.9616, 2.0000,33.8337,2,-999.0000,9, 331.4,2,-999.0,9, -999.00,9, -999.00,9, -999.00,9,-999.0000,9,-999.0000,9, 0.8372, -999.0,9
740H20210202,SR1b_A23, 25,1,17,9018,2,20210214,1932,-56.75844, -34.66564,3399,  23.7, 2.9624, 2.9648, 2.0000,33.8343,2,-999.0000,9, 331.1,2,-999.0,9, -999.00,9, -999.00,9, -999.00,9,-999.0000,9,-999.0000,9, 0.8640, -999.0,9
740H20210202,SR1b_A23, 25,1,18,9019,2,20210214,1932,-56.75844, -34.66564,3399,  24.1, 2.9614, 2.9647, 2.0000,33.8343,2,33.8336,2, 331.1,2,-999.0,9, -999.00,1, -999.00,1, -999.00,1,-999.0000,1,-999.0000,1, 0.8360, -999.0,9
740H20210202,SR1b_A23, 25,1,19,9020,2,20210214,1934,-56.75844, -34.66564,3399,  10.8, 2.9738, 2.9792, 2.0000,33.8333,2,33.8328,2, 331.6,2, 331.9,2, -999.00,1, -999.00,1, -999.00,1,-999.0000,1,-999.0000,1, 0.8411, -999.0,9
740H20210202,SR1b_A23, 25,1,20,9021,2,20210214,1935,-56.75844, -34.66564,3399,   5.3, 2.9780, 2.9801, 2.0000,33.8326,2,-999.0000,9, 332.1,2,-999.0,9, -999.00,9, -999.00,9, -999.00,9,-999.0000,9,-999.0000,9, 0.8357, -999.0,9
740H20210202,SR1b_A23, 26,1, 1,9002,2,20210214,2052,-56.78444, -34.66894,3328,1017.7, 1.5777, 1.5769, 2.0000,34.6809,2,-999.0000,9, 191.3,2,-999.0,9, -999.00,9, -999.00,9, -999.00,9,-999.0000,9,-999.0000,9, 0.0042, -999.0,9
740H20210202,SR1b_A23, 26,1, 2,9003,2,20210214,2052,-56.78444, -34.66892,3328,1017.9, 1.5769, 1.5764, 2.0000,34.6809,2,-999.0000,9, 191.2,2,-999.0,9, -999.00,9, -999.00,9, -999.00,9,-999.0000,9,-999.0000,9, 0.0104, -999.0,9
740H20210202,SR1b_A23, 26,1, 3,8149,2,20210214,2053,-56.78446, -34.66894,3328,1017.9, 1.5756, 1.5752, 2.0000,34.6809,2,-999.0000,9, 191.1,2, 192.0,2, -999.00,9, -999.00,9, -999.00,9,-999.0000,9,-999.0000,9, 0.0088, -999.0,9
740H20210202,SR1b_A23, 26,1, 4,9005,2,20210214,2105,-56.78446, -34.66892,3328, 407.6, 2.1910, 2.1938, 2.0000,34.5357,2,-999.0000,9, 178.6,2,-999.0,9, -999.00,9, -999.00,9, -999.00,9,-999.0000,9,-999.0000,9, 0.0115, -999.0,9
740H20210202,SR1b_A23, 26,1, 5,9006,2,20210214,2106,-56.78444, -34.66894,3328, 407.7, 2.1925, 2.1946, 2.0000,34.5351,2,-999.0000,9, 178.6,2,-999.0,9, -999.00,9, -999.00,9, -999.00,9,-999.0000,9,-999.0000,9, 0.0228, -999.0,9
740H20210202,SR1b_A23, 26,1, 6,9007,2,20210214,2106,-56.78448, -34.66892,3328, 407.7, 2.1940, 2.1944, 2.0000,34.5348,2,34.5329,2, 178.7,2, 178.9,2, -999.00,1, -999.00,1, -999.00,1,-999.0000,1,-999.0000,1, 0.0157, -999.0,9
740H20210202,SR1b_A23, 26,1, 7,9008,2,20210214,2112,-56.78444, -34.66890,3328, 204.8, 1.5334, 1.5313, 2.0000,34.2545,2,-999.0000,9, 238.8,2,-999.0,9, -999.00,9, -999.00,9, -999.00,9,-999.0000,9,-999.0000,9, 0.0125, -999.0,9
740H20210202,SR1b_A23, 26,1, 8,9009,2,20210214,2112,-56.78446, -34.66888,3328, 204.9, 1.5357, 1.5308, 2.0000,34.2548,2,-999.0000,9, 239.1,2,-999.0,9, -999.00,9, -999.00,9, -999.00,9,-999.0000,9,-999.0000,9, 0.0171, -999.0,9
740H20210202,SR1b_A23, 26,1, 9,9010,2,20210214,2113,-56.78446, -34.66892,3328, 205.0, 1.5314, 1.5274, 2.0000,34.2553,2,34.2537,2, 239.0,2, 238.8,2, -999.00,1, -999.00,1, -999.00,1,-999.0000,1,-999.0000,1, 0.0261, -999.0,9
740H20210202,SR1b_A23, 26,1,10,8156,2,20210214,2120,-56.78446, -34.66892,3328, 102.8, 0.7168, 0.7169, 2.0000,33.9478,2,-999.0000,9, 311.9,2,-999.0,9, -999.00,9, -999.00,9, -999.00,9,-999.0000,9,-999.0000,9, 0.0427, -999.0,9
740H20210202,SR1b_A23, 26,1,11,9012,2,20210214,2120,-56.78446, -34.66890,3328, 105.1, 0.7104, 0.7162, 2.0000,33.9487,2,-999.0000,9, 311.8,2,-999.0,9, -999.00,9, -999.00,9, -999.00,9,-999.0000,9,-999.0000,9, 0.0417, -999.0,9
740H20210202,SR1b_A23, 26,1,12,9013,2,20210214,2121,-56.78446, -34.66892,3328, 104.0, 0.7112, 0.7147, 2.0000,33.9483,2,33.9484,2, 311.7,2,-999.0,9, -999.00,1, -999.00,1, -999.00,1,-999.0000,1,-999.0000,1, 0.0651, -999.0,9
740H20210202,SR1b_A23, 26,1,13,9014,2,20210214,2125,-56.78446, -34.66892,3328,  55.0, 2.6444, 2.7013, 2.0000,33.8797,2,-999.0000,9, 330.1,2,-999.0,9, -999.00,9, -999.00,9, -999.00,9,-999.0000,9,-999.0000,9, 0.9692, -999.0,9
740H20210202,SR1b_A23, 26,1,14,9015,2,20210214,2126,-56.78446, -34.66892,3328,  53.4, 2.8683, 2.9844, 2.0000,33.8973,2,-999.0000,9, 329.8,2,-999.0,9, -999.00,9, -999.00,9, -999.00,9,-999.0000,9,-999.0000,9, 0.9849, -999.0,9
740H20210202,SR1b_A23, 26,1,15,9016,2,20210214,2126,-56.78445, -34.66894,3328,  54.2, 2.8941, 2.9923, 2.0000,33.8999,2,33.8994,2, 330.2,2,-999.0,9, -999.00,9, -999.00,9, -999.00,9,-999.0000,1,-999.0000,9, 0.8711, -999.0,9
740H20210202,SR1b_A23, 26,1,16,9017,2,20210214,2130,-56.78446, -34.66892,3328,  29.0, 3.1445, 3.1462, 2.0000,33.9184,2,-999.0000,9, 331.9,2,-999.0,9, -999.00,9, -999.00,9, -999.00,9,-999.0000,9,-999.0000,9, 1.0440, -999.0,9
740H20210202,SR1b_A23, 26,1,17,9018,2,20210214,2130,-56.78444, -34.66892,3328,  28.3, 3.1433, 3.1421, 2.0000,33.9182,2,-999.0000,9, 331.9,2,-999.0,9, -999.00,9, -999.00,9, -999.00,9,-999.0000,9,-999.0000,9, 1.1546, -999.0,9
740H20210202,SR1b_A23, 26,1,18,9019,2,20210214,2131,-56.78446, -34.66892,3328,  28.6, 3.1412, 3.1374, 2.0000,33.9186,2,33.9181,2, 332.7,2, 331.9,2, -999.00,1, -999.00,1, -999.00,1,-999.0000,1,-999.0000,1, 1.0181, -999.0,9
740H20210202,SR1b_A23, 26,1,19,9020,2,20210214,2134,-56.78444, -34.66894,3328,  13.8, 3.1496, 3.1489, 2.0000,33.9167,2,33.9161,2, 332.3,2,-999.0,9, -999.00,1, -999.00,1, -999.00,1,-999.0000,1,-999.0000,1, 1.1476, -999.0,9
740H20210202,SR1b_A23, 26,1,20,9021,2,20210214,2134,-56.78446, -34.66890,3328,  14.3, 3.1463, 3.1465, 2.0000,33.9178,2,-999.0000,9, 331.7,2,-999.0,9, -999.00,9, -999.00,9, -999.00,9,-999.0000,9,-999.0000,9, 1.0850, -999.0,9
740H20210202,SR1b_A23, 26,1,21,9022,2,20210214,2135,-56.78446, -34.66886,3328,  12.8, 3.1489, 3.1489, 2.0000,33.9168,2,-999.0000,9, 332.5,2,-999.0,9, -999.00,9, -999.00,9, -999.00,9,-999.0000,9,-999.0000,9, 1.0552, -999.0,9
740H20210202,SR1b_A23, 27,1, 1,9002,2,20210214,2307,-56.82710, -34.65950,3158, 763.0, 1.7766, 1.7797, 2.0000,34.6563,2,-999.0000,9, 185.9,2,-999.0,9, -999.00,9, -999.00,9, -999.00,9,-999.0000,9,-999.0000,9, 0.0170, -999.0,9
740H20210202,SR1b_A23, 27,1, 2,9003,2,20210214,2308,-56.82712, -34.65938,3158, 762.9, 1.7778, 1.7785, 2.0000,34.6564,2,-999.0000,9, 185.9,2,-999.0,9, -999.00,9, -999.00,9, -999.00,9,-999.0000,9,-999.0000,9, 0.0164, -999.0,9
740H20210202,SR1b_A23, 27,1, 3,8149,2,20210214,2309,-56.82714, -34.65930,3158, 763.1, 1.7784, 1.7780, 2.0000,34.6564,2,-999.0000,9, 185.8,2, 186.2,2, -999.00,9, -999.00,9, -999.00,9,-999.0000,9,-999.0000,9, 0.0156, -999.0,9
740H20210202,SR1b_A23, 27,1, 4,9005,2,20210214,2317,-56.82736, -34.65823,3158, 408.2, 2.0815, 2.0832, 2.0000,34.5461,2,-999.0000,9, 179.6,2,-999.0,9, -999.00,9, -999.00,9, -999.00,9,-999.0000,9,-999.0000,9, 0.0164, -999.0,9
740H20210202,SR1b_A23, 27,1, 5,9006,2,20210214,2317,-56.82740, -34.65814,3158, 408.3, 2.0835, 2.0849, 2.0000,34.5453,2,-999.0000,9, 179.7,2,-999.0,9, -999.00,9, -999.00,9, -999.00,9,-999.0000,9,-999.0000,9, 0.0231, -999.0,9
740H20210202,SR1b_A23, 27,1, 6,9007,2,20210214,2318,-56.82742, -34.65804,3158, 408.2, 2.0847, 2.0849, 2.0000,34.5442,2,34.5447,2, 179.9,2, 179.5,2, -999.00,1, -999.00,1, -999.00,1,-999.0000,1,-999.0000,1, 0.0202, -999.0,9
740H20210202,SR1b_A23, 27,1, 7,9008,2,20210214,2323,-56.82756, -34.65729,3158, 204.6, 1.6937, 1.6968, 2.0000,34.3121,2,-999.0000,9, 224.2,2,-999.0,9, -999.00,9, -999.00,9, -999.00,9,-999.0000,9,-999.0000,9, 0.0284, -999.0,9
740H20210202,SR1b_A23, 27,1, 8,9009,2,20210214,2324,-56.82760, -34.65714,3158, 204.6, 1.6946, 1.7053, 2.0000,34.3118,2,-999.0000,9, 224.5,2,-999.0,9, -999.00,9, -999.00,9, -999.00,9,-999.0000,9,-999.0000,9, 0.0260, -999.0,9
740H20210202,SR1b_A23, 27,1, 9,9010,2,20210214,2324,-56.82760, -34.65710,3158, 204.6, 1.6932, 1.7049, 2.0000,34.3111,2,34.3111,2, 224.6,2, 223.7,2, -999.00,1, -999.00,1, -999.00,1,-999.0000,1,-999.0000,1, 0.0251, -999.0,9
740H20210202,SR1b_A23, 27,1,10,8156,2,20210214,2328,-56.82772, -34.65660,3158, 104.7,-0.0978,-0.0881, 2.0000,33.9250,2,-999.0000,9, 336.3,2,-999.0,9, -999.00,9, -999.00,9, -999.00,9,-999.0000,9,-999.0000,9, 0.0903, -999.0,9
740H20210202,SR1b_A23, 27,1,11,9012,2,20210214,2329,-56.82772, -34.65648,3158, 104.8,-0.1139,-0.0924, 2.0000,33.9269,2,-999.0000,9, 335.8,2,-999.0,9, -999.00,9, -999.00,9, -999.00,9,-999.0000,9,-999.0000,9, 0.0833, -999.0,9
740H20210202,SR1b_A23, 27,1,12,9013,2,20210214,2329,-56.82776, -34.65640,3158, 104.7,-0.1296,-0.1105, 2.0000,33.9296,2,33.9269,2, 335.6,2,-999.0,9, -999.00,1, -999.00,1, -999.00,1,-999.0000,1,-999.0000,1, 0.0775, -999.0,9
740H20210202,SR1b_A23, 27,1,13,9014,2,20210214,2334,-56.82790, -34.65576,3158,  53.4, 2.8000, 2.8400, 2.0000,33.9209,2,-999.0000,9, 333.5,2,-999.0,9, -999.00,9, -999.00,9, -999.00,9,-999.0000,9,-999.0000,9, 1.0544, -999.0,9
740H20210202,SR1b_A23, 27,1,14,9015,2,20210214,2335,-56.82790, -34.65565,3158,  55.2, 2.8015, 2.8327, 2.0000,33.9213,2,-999.0000,9, 333.6,2,-999.0,9, -999.00,9, -999.00,9, -999.00,9,-999.0000,9,-999.0000,9, 0.9944, -999.0,9
740H20210202,SR1b_A23, 27,1,15,9016,2,20210214,2335,-56.82792, -34.65556,3158,  55.2, 2.8090, 2.8239, 2.0000,33.9210,2,33.9198,2, 333.6,2,-999.0,9, -999.00,9, -999.00,9, -999.00,9,-999.0000,1,-999.0000,9, 0.9455, -999.0,9
740H20210202,SR1b_A23, 27,1,16,9017,2,20210214,2338,-56.82800, -34.65520,3158,  28.5, 2.8886, 2.8819, 2.0000,33.9178,2,-999.0000,9, 333.3,2,-999.0,9, -999.00,9, -999.00,9, -999.00,9,-999.0000,9,-999.0000,9, 1.0367, -999.0,9
740H20210202,SR1b_A23, 27,1,17,9018,2,20210214,2339,-56.82800, -34.65510,3158,  28.9, 2.8830, 2.8842, 2.0000,33.9185,2,-999.0000,9, 333.5,2,-999.0,9, -999.00,9, -999.00,9, -999.00,9,-999.0000,9,-999.0000,9, 1.0089, -999.0,9
740H20210202,SR1b_A23, 27,1,18,9019,2,20210214,2339,-56.82802, -34.65502,3158,  28.9, 2.8953, 2.8955, 2.0000,33.9170,2,33.9178,2, 333.8,2,-999.0,5, -999.00,1, -999.00,1, -999.00,1,-999.0000,1,-999.0000,1, 0.9294, -999.0,9
740H20210202,SR1b_A23, 27,1,19,9020,2,20210214,2342,-56.82812, -34.65468,3158,  14.4, 2.9015, 2.9021, 2.0000,33.9168,2,33.9171,2, 333.5,2,-999.0,9, -999.00,1, -999.00,1, -999.00,1,-999.0000,1,-999.0000,1, 0.9603, -999.0,9
740H20210202,SR1b_A23, 27,1,20,9021,2,20210214,2342,-56.82814, -34.65458,3158,  13.3, 2.9020, 2.9024, 2.0000,33.9166,2,-999.0000,9, 333.6,2,-999.0,9, -999.00,9, -999.00,9, -999.00,9,-999.0000,9,-999.0000,9, 1.0692, -999.0,9
740H20210202,SR1b_A23, 27,1,21,9022,2,20210214,2343,-56.82814, -34.65450,3158,  14.1, 2.9028, 2.9025, 2.0000,33.9166,2,-999.0000,9, 333.5,2,-999.0,9, -999.00,9, -999.00,9, -999.00,9,-999.0000,9,-999.0000,9, 0.9320, -999.0,9
740H20210202,SR1b_A23, 28,1, 1,9002,2,20210215,0131,-56.89246, -34.66272,2749,1015.1, 1.3865, 1.3850, 2.0000,34.6956,2,-999.0000,9, 195.2,2,-999.0,9, -999.00,9, -999.00,9, -999.00,9,-999.0000,9,-999.0000,9, 0.0109, -999.0,9
740H20210202,SR1b_A23, 28,1, 2,9003,2,20210215,0132,-56.89248, -34.66262,2749,1015.1, 1.3845, 1.3843, 2.0000,34.6959,2,-999.0000,9, 195.3,2,-999.0,9, -999.00,9, -999.00,9, -999.00,9,-999.0000,9,-999.0000,9, 0.0157, -999.0,9
740H20210202,SR1b_A23, 28,1, 3,8149,2,20210215,0132,-56.89248, -34.66252,2749,1015.0, 1.3845, 1.3858, 2.0000,34.6960,2,34.6968,2, 195.4,2, 195.8,2, -999.00,9, -999.00,9, -999.00,9,-999.0000,9,-999.0000,9, 0.0122, -999.0,9
740H20210202,SR1b_A23, 28,1, 4,9005,2,20210215,0144,-56.89270, -34.66010,2749, 405.9, 1.7195, 1.7173, 2.0000,34.5381,2,-999.0000,9, 192.1,2,-999.0,9, -999.00,9, -999.00,9, -999.00,9,-999.0000,9,-999.0000,9, 0.0165, -999.0,9
740H20210202,SR1b_A23, 28,1, 5,9006,2,20210215,0145,-56.89270, -34.66000,2749, 405.6, 1.7225, 1.7213, 2.0000,34.5394,2,-999.0000,9, 192.1,2,-999.0,9, -999.00,9, -999.00,9, -999.00,9,-999.0000,9,-999.0000,9, 0.0213, -999.0,9
740H20210202,SR1b_A23, 28,1, 6,9007,2,20210215,0145,-56.89272, -34.65986,2749, 405.8, 1.7232, 1.7244, 2.0000,34.5392,2,34.5392,2, 191.7,2, 191.4,2, -999.00,1, -999.00,1, -999.00,1,-999.0000,1,-999.0000,1, 0.0193, -999.0,9
740H20210202,SR1b_A23, 28,1, 7,9008,2,20210215,0151,-56.89278, -34.65874,2749, 203.0, 1.0928, 1.0368, 2.0000,34.2733,2,-999.0000,9, 240.0,2,-999.0,9, -999.00,9, -999.00,9, -999.00,9,-999.0000,9,-999.0000,9, 0.0211, -999.0,9
740H20210202,SR1b_A23, 28,1, 8,9009,2,20210215,0152,-56.89280, -34.65858,2749, 202.7, 1.1510, 1.0600, 2.0000,34.2810,2,-999.0000,9, 235.3,2,-999.0,9, -999.00,9, -999.00,9, -999.00,9,-999.0000,9,-999.0000,9, 0.0203, -999.0,9
740H20210202,SR1b_A23, 28,1, 9,9010,2,20210215,0152,-56.89282, -34.65848,2749, 202.6, 1.2175, 1.0608, 2.0000,34.3003,2,-999.0000,9, 233.3,2, 239.4,4, -999.00,1, -999.00,1, -999.00,1,-999.0000,1,-999.0000,1, 0.0204, -999.0,9
740H20210202,SR1b_A23, 28,1,10,8156,2,20210215,0157,-56.89286, -34.65788,2749, 103.0, 0.2243, 0.2243, 2.0000,33.9979,2,-999.0000,9, 326.1,2,-999.0,9, -999.00,9, -999.00,9, -999.00,9,-999.0000,9,-999.0000,9, 0.0502, -999.0,9
740H20210202,SR1b_A23, 28,1,11,9012,2,20210215,0157,-56.89286, -34.65776,2749, 103.1, 0.2189, 0.2174, 2.0000,33.9986,2,-999.0000,9, 326.1,2,-999.0,9, -999.00,9, -999.00,9, -999.00,9,-999.0000,9,-999.0000,9, 0.0605, -999.0,9
740H20210202,SR1b_A23, 28,1,12,9013,2,20210215,0158,-56.89288, -34.65770,2749, 103.3, 0.2185, 0.2205, 2.0000,33.9985,2,33.9997,2, 325.9,2,-999.0,9, -999.00,1, -999.00,1, -999.00,1,-999.0000,1,-999.0000,1, 0.0522, -999.0,9
740H20210202,SR1b_A23, 28,1,13,9014,2,20210215,0203,-56.89294, -34.65698,2749,  51.6, 2.6451, 2.6461, 2.0000,33.9352,2,-999.0000,9, 334.8,2,-999.0,9, -999.00,9, -999.00,9, -999.00,9,-999.0000,9,-999.0000,9, 1.0444, -999.0,9
740H20210202,SR1b_A23, 28,1,14,9015,2,20210215,0203,-56.89294, -34.65686,2749,  51.0, 2.6457, 2.6467, 2.0000,33.9352,2,-999.0000,9, 334.7,2,-999.0,9, -999.00,9, -999.00,9, -999.00,9,-999.0000,9,-999.0000,9, 1.0266, -999.0,9
740H20210202,SR1b_A23, 28,1,15,9016,2,20210215,0204,-56.89296, -34.65681,2749,  51.3, 2.6453, 2.6345, 2.0000,33.9354,2,33.9356,2, 334.3,2,-999.0,9, -999.00,9, -999.00,9, -999.00,9,-999.0000,1,-999.0000,9, 1.0351, -999.0,9
740H20210202,SR1b_A23, 28,1,16,9017,2,20210215,0207,-56.89298, -34.65638,2749,  26.0, 2.6464, 2.6468, 2.0000,33.9352,2,-999.0000,9, 334.6,2,-999.0,9, -999.00,9, -999.00,9, -999.00,9,-999.0000,9,-999.0000,9, 1.0087, -999.0,9
740H20210202,SR1b_A23, 28,1,17,9018,2,20210215,0207,-56.89298, -34.65629,2749,  26.5, 2.6464, 2.6465, 2.0000,33.9353,2,-999.0000,9, 335.0,2,-999.0,9, -999.00,9, -999.00,9, -999.00,9,-999.0000,9,-999.0000,9, 0.9560, -999.0,9
740H20210202,SR1b_A23, 28,1,18,9019,2,20210215,0208,-56.89300, -34.65619,2749,  26.1, 2.6465, 2.6468, 2.0000,33.9353,2,33.9356,2, 335.2,2, 335.2,2, -999.00,1, -999.00,1, -999.00,1,-999.0000,1,-999.0000,1, 1.0151, -999.0,9
740H20210202,SR1b_A23, 28,1,19,9020,2,20210215,0210,-56.89302, -34.65600,2749,  11.4, 2.6467, 2.6477, 2.0000,33.9352,2,33.9354,2, 334.8,2,-999.0,9, -999.00,1, -999.00,1, -999.00,1,-999.0000,1,-999.0000,1, 0.9291, -999.0,9
740H20210202,SR1b_A23, 28,1,20,9021,2,20210215,0211,-56.89302, -34.65596,2749,  10.9, 2.6471, 2.6479, 2.0000,33.9352,2,-999.0000,9, 334.6,2,-999.0,9, -999.00,9, -999.00,9, -999.00,9,-999.0000,9,-999.0000,9, 0.9549, -999.0,9
740H20210202,SR1b_A23, 28,1,21,9022,2,20210215,0211,-56.89302, -34.65595,2749,  11.1, 2.6470, 2.6472, 2.0000,33.9352,2,-999.0000,9, 334.4,2,-999.0,9, -999.00,9, -999.00,9, -999.00,9,-999.0000,9,-999.0000,9, 1.0137, -999.0,9
740H20210202,SR1b_A23, 28,1,22,9023,2,20210215,0212,-56.89302, -34.65593,2749,  11.0, 2.6471, 2.6474, 2.0000,33.9351,2,-999.0000,9, 334.6,2,-999.0,9, -999.00,9, -999.00,9, -999.00,9,-999.0000,9,-999.0000,9, 0.9410, -999.0,9
740H20210202,SR1b_A23, 28,1,23,9024,2,20210215,0212,-56.89302, -34.65594,2749,  10.5, 2.6471,-999.0000, 9.0000,33.9351,2,-999.0000,9, 335.1,2,-999.0,9, -999.00,9, -999.00,9, -999.00,9,-999.0000,9,-999.0000,9, 0.9681, -999.0,9
740H20210202,SR1b_A23, 28,1,24,9025,2,20210215,0212,-56.89302, -34.65594,2749,  11.0, 2.6471,-999.0000, 9.0000,33.9352,2,-999.0000,9, 334.7,2,-999.0,9, -999.00,9, -999.00,9, -999.00,9,-999.0000,9,-999.0000,9, 0.9453, -999.0,9