BOTTLE,20210420POGBASEPA
EXPOCODE,SECT_ID,STNNBR,CASTNO,SAMPNO,BTLNBR,BTLNBR_FLAG_W,DATE,TIME,LATITUDE,LONGITUDE,DEPTH,CTDPRS,CTDTMP,SBE35,SBE35_FLAG_W,CTDSAL,CTDSAL_FLAG_W,SALNTY,SALNTY_FLAG_W,CTDOXY,CTDOXY_FLAG_W,OXYGEN,OXYGEN_FLAG_W,SILCAT,SILCAT_FLAG_W,NO2+NO3,NO2+NO3_FLAG_W,PHSPHT,PHSPHT_FLAG_W,DELO18,DELO18_FLAG_W,D30SI_SILCAT,D30SI_SILCAT_FLAG_W,CTDFLUOR,BOTCHLA,BOTCHLA_FLAG_W
 , , , , , , , , , , ,METERS,DBAR,ITS-90,ITS-90, ,PSS-78, ,PSS-78, ,UMOL/KG, ,UMOL/KG, ,UMOL/KG, ,UMOL/KG,UMOL/KG,UMOL/KG,UMOL/KG,/MILLE,/MILLE,/MILLE,/MILLE,MG/M^3,ML/L,ML/L
740H20210202,SR1b_A23, 78,1, 1,9002,2,20210302,0302,-58.36598, -56.23824,3896,3954.9, 0.0284, 0.0275, 2.0000,34.6575,2,-999.0000,9, 232.2,2,-999.0,9, -999.00,9, -999.00,9, -999.00,9,-999.0000,9,-999.0000,9, 0.0082, -999.0,9
740H20210202,SR1b_A23, 78,1, 2,9003,2,20210302,0303,-58.36598, -56.23815,3896,3955.1, 0.0276, 0.0274, 2.0000,34.6573,2,34.6575,2, 232.3,2, 232.1,2, -999.00,9, -999.00,9, -999.00,9,-999.0000,1,-999.0000,9, 0.0107, -999.0,9
740H20210202,SR1b_A23, 78,1, 3,8149,2,20210302,0307,-58.36602, -56.23764,3896,3903.9, 0.0412, 0.0412, 2.0000,34.6582,2,-999.0000,9, 231.9,2,-999.0,9, -999.00,9, -999.00,9, -999.00,9,-999.0000,9,-999.0000,9, 0.0014, -999.0,9
740H20210202,SR1b_A23, 78,1, 4,9005,2,20210302,0308,-58.36600, -56.23758,3896,3903.6, 0.0412, 0.0412, 2.0000,34.6582,2,34.6592,2, 232.1,2,-999.0,9, -999.00,9, -999.00,9, -999.00,9,-999.0000,1,-999.0000,9, 0.0102, -999.0,9
740H20210202,SR1b_A23, 78,1, 5,9006,2,20210302,0324,-58.36598, -56.23589,3896,3055.4, 0.3536, 0.3540, 2.0000,34.6785,2,34.6786,2, 219.2,2,-999.0,9, -999.00,9, -999.00,9, -999.00,9,-999.0000,1,-999.0000,9, 0.0126, -999.0,9
740H20210202,SR1b_A23, 78,1, 6,9007,2,20210302,0330,-58.36600, -56.23530,3896,2850.5, 0.4893, 0.4902, 2.0000,34.6896,2,34.6891,2, 214.2,2, 214.0,2, -999.00,9, -999.00,9, -999.00,9,-999.0000,1,-999.0000,9, 0.0165, -999.0,9
740H20210202,SR1b_A23, 78,1, 7,9008,2,20210302,0330,-58.36600, -56.23524,3896,2850.4, 0.4896, 0.4899, 2.0000,34.6895,2,34.6894,2, 214.2,2,-999.0,9, -999.00,9, -999.00,9, -999.00,9,-999.0000,1,-999.0000,9, 0.0013, -999.0,9
740H20210202,SR1b_A23, 78,1, 8,9009,2,20210302,0352,-58.36602, -56.23296,3896,1725.0, 1.2013, 1.2006, 2.0000,34.7217,2,34.7212,2, 197.0,2, 196.8,2, -999.00,9, -999.00,9, -999.00,9,-999.0000,1,-999.0000,9, 0.0089, -999.0,9
740H20210202,SR1b_A23, 78,1, 9,9010,2,20210302,0352,-58.36602, -56.23292,3896,1725.0, 1.2040, 1.2031, 2.0000,34.7219,2,-999.0000,9, 197.0,2,-999.0,9, -999.00,9, -999.00,9, -999.00,9,-999.0000,9,-999.0000,9, 0.0080, -999.0,9
740H20210202,SR1b_A23, 78,1,10,8156,2,20210302,0402,-58.36602, -56.23197,3896,1316.8, 1.5322, 1.5321, 2.0000,34.7222,2,-999.0000,9, 188.1,2,-999.0,9, -999.00,9, -999.00,9, -999.00,9,-999.0000,9,-999.0000,9, 0.0136, -999.0,9
740H20210202,SR1b_A23, 78,1,11,9012,2,20210302,0402,-58.36602, -56.23184,3896,1316.9, 1.5322, 1.5325, 2.0000,34.7222,2,34.7219,2, 188.0,2,-999.0,9, -999.00,9, -999.00,9, -999.00,9,-999.0000,1,-999.0000,9, 0.0088, -999.0,9
740H20210202,SR1b_A23, 78,1,12,9013,2,20210302,0415,-58.36604, -56.22928,3896, 809.1, 2.0247, 2.0245, 2.0000,34.6977,2,34.6973,2, 178.7,2, 181.4,3, -999.00,9, -999.00,9, -999.00,9,-999.0000,1,-999.0000,9, 0.0093, -999.0,9
740H20210202,SR1b_A23, 78,1,13,9014,2,20210302,0419,-58.36606, -56.22827,3896, 657.1, 2.1202, 2.1204, 2.0000,34.6593,2,-999.0000,9, 174.5,2,-999.0,9, -999.00,9, -999.00,9, -999.00,9,-999.0000,9,-999.0000,9, 0.0090, -999.0,9
740H20210202,SR1b_A23, 78,1,14,9015,2,20210302,0420,-58.36604, -56.22811,3896, 657.2, 2.1201, 2.1202, 2.0000,34.6594,2,34.6585,2, 174.5,2,-999.0,9, -999.00,9, -999.00,9, -999.00,9,-999.0000,1,-999.0000,9, 0.0005, -999.0,9
740H20210202,SR1b_A23, 78,1,15,9016,2,20210302,0426,-58.36608, -56.22693,3896, 454.8, 2.2462, 2.2466, 2.0000,34.6038,2,34.6025,2, 172.7,2, 172.9,2, -999.00,9, -999.00,9, -999.00,9,-999.0000,1,-999.0000,9, 0.0079, -999.0,9
740H20210202,SR1b_A23, 78,1,16,9017,2,20210302,0431,-58.36608, -56.22577,3896, 303.5, 1.8997, 1.8907, 2.0000,34.4567,2,-999.0000,9, 192.4,2,-999.0,9, -999.00,9, -999.00,9, -999.00,9,-999.0000,9,-999.0000,9, 0.0118, -999.0,9
740H20210202,SR1b_A23, 78,1,17,9018,2,20210302,0432,-58.36608, -56.22562,3896, 303.5, 1.9007, 1.8802, 2.0000,34.4570,2,34.4552,2, 192.5,2,-999.0,9, -999.00,9, -999.00,9, -999.00,9,-999.0000,1,-999.0000,9, 0.0188, -999.0,9
740H20210202,SR1b_A23, 78,1,18,9019,2,20210302,0435,-58.36608, -56.22498,3896, 252.6, 1.3037, 1.2988, 2.0000,34.3446,2,34.3499,2, 223.2,2, 221.8,2, -999.00,9, -999.00,9, -999.00,9,-999.0000,1,-999.0000,9, 0.0141, -999.0,9
740H20210202,SR1b_A23, 78,1,19,9020,2,20210302,0439,-58.36610, -56.22412,3896, 141.3,-0.3536,-0.3561, 2.0000,34.0283,2,-999.0000,9, 315.8,2,-999.0,9, -999.00,9, -999.00,9, -999.00,9,-999.0000,9,-999.0000,9, 0.1223, -999.0,9
740H20210202,SR1b_A23, 78,1,20,9021,2,20210302,0439,-58.36610, -56.22403,3896, 141.3,-0.3540,-0.3572, 2.0000,34.0278,2,34.0308,2, 316.2,2, 314.7,2, -999.00,9, -999.00,9, -999.00,9,-999.0000,1,-999.0000,9, 0.1308, -999.0,9
740H20210202,SR1b_A23, 78,1,21,9022,2,20210302,0445,-58.36612, -56.22292,3896,  81.9, 1.9342, 2.2926, 2.0000,33.8019,2,33.7905,2, 334.5,2,-999.0,9, -999.00,9, -999.00,9, -999.00,9,-999.0000,1,-999.0000,9, 0.6505, -999.0,9
740H20210202,SR1b_A23, 78,1,22,9023,2,20210302,0448,-58.36610, -56.22233,3896,  50.5, 3.4128, 3.4119, 2.0000,33.7673,2,33.7669,2, 328.4,2,-999.0,9, -999.00,9, -999.00,9, -999.00,9,-999.0000,1,-999.0000,9, 1.4185, -999.0,9
740H20210202,SR1b_A23, 78,1,23,9024,2,20210302,0451,-58.36612, -56.22167,3896,  10.8, 3.4244, 3.4245, 2.0000,33.7676,2,-999.0000,9, 328.4,2,-999.0,9, -999.00,9, -999.00,9, -999.00,9,-999.0000,9,-999.0000,9, 1.5126, -999.0,9
740H20210202,SR1b_A23, 78,1,24,9025,2,20210302,0451,-58.36610, -56.22155,3896,  11.2, 3.4237, 3.4270, 2.0000,33.7676,2,33.7669,2, 328.7,2, 329.3,2, -999.00,9, -999.00,9, -999.00,9,-999.0000,1,-999.0000,9, 1.5618, -999.0,9
740H20210202,SR1b_A23, 79,1, 1,9002,2,20210302,0856,-58.05164, -56.43902,3946,4006.1, 0.2193, 0.2188, 2.0000,34.6658,2,-999.0000,9, 226.5,2,-999.0,9, -999.00,9, -999.00,9, -999.00,9,-999.0000,9,-999.0000,9, 0.0114, -999.0,9
740H20210202,SR1b_A23, 79,1, 2,9003,2,20210302,0857,-58.05166, -56.43900,3946,4006.1, 0.2190, 0.2207, 2.0000,34.6659,2,34.6657,2, 226.6,2,-999.0,9, -999.00,9, -999.00,9, -999.00,9,-999.0000,1,-999.0000,9, 0.0131, -999.0,9
740H20210202,SR1b_A23, 79,1, 3,8149,2,20210302,0900,-58.05164, -56.43898,3946,3964.6, 0.2181, 0.2184, 2.0000,34.6661,2,-999.0000,9, 226.7,2,-999.0,9, -999.00,9, -999.00,9, -999.00,9,-999.0000,9,-999.0000,9, 0.0169, -999.0,9
740H20210202,SR1b_A23, 79,1, 4,9005,2,20210302,0901,-58.05162, -56.43901,3946,3964.2, 0.2168, 0.2178, 2.0000,34.6660,2,34.6664,2, 226.5,2, 227.3,3, -999.00,9, -999.00,9, -999.00,9,-999.0000,1,-999.0000,9, 0.0111, -999.0,9
740H20210202,SR1b_A23, 79,1, 5,9006,2,20210302,0906,-58.05164, -56.43902,3946,3818.8, 0.3092, 0.3107, 2.0000,34.6722,2,-999.0000,9, 223.2,2,-999.0,9, -999.00,9, -999.00,9, -999.00,9,-999.0000,9,-999.0000,9, 0.0096, -999.0,9
740H20210202,SR1b_A23, 79,1, 6,9007,2,20210302,0906,-58.05164, -56.43900,3946,3819.1, 0.3101, 0.3104, 2.0000,34.6722,2,34.6718,2, 223.0,2, 223.2,2, -999.00,9, -999.00,9, -999.00,9,-999.0000,1,-999.0000,9, 0.0110, -999.0,9
740H20210202,SR1b_A23, 79,1, 7,9008,2,20210302,0913,-58.05162, -56.43900,3946,3563.5, 0.4639, 0.4626, 2.0000,34.6833,2,-999.0000,9, 217.7,2,-999.0,9, -999.00,9, -999.00,9, -999.00,9,-999.0000,9,-999.0000,9, 0.0102, -999.0,9
740H20210202,SR1b_A23, 79,1, 8,9009,2,20210302,0914,-58.05162, -56.43896,3946,3563.6, 0.4628, 0.4628, 2.0000,34.6832,2,34.6829,2, 217.7,2, 217.6,2, -999.00,9, -999.00,9, -999.00,9,-999.0000,1,-999.0000,9, 0.0151, -999.0,9
740H20210202,SR1b_A23, 79,1, 9,9010,2,20210302,0914,-58.05162, -56.43904,3946,3563.7, 0.4631, 0.4657, 2.0000,34.6832,2,-999.0000,9, 217.4,2,-999.0,9, -999.00,9, -999.00,9, -999.00,9,-999.0000,9,-999.0000,9, 0.0131, -999.0,9
740H20210202,SR1b_A23, 79,1,10,8156,2,20210302,0922,-58.05166, -56.43900,3946,3257.0, 0.6735, 0.6746, 2.0000,34.6960,2,-999.0000,9, 210.8,2,-999.0,9, -999.00,9, -999.00,9, -999.00,9,-999.0000,9,-999.0000,9, 0.0092, -999.0,9
740H20210202,SR1b_A23, 79,1,11,9012,2,20210302,0922,-58.05164, -56.43900,3946,3257.1, 0.6725, 0.6730, 2.0000,34.6960,2,34.6959,2, 210.8,2,-999.0,9, -999.00,9, -999.00,9, -999.00,9,-999.0000,1,-999.0000,9, 0.0133, -999.0,9
740H20210202,SR1b_A23, 79,1,12,9013,2,20210302,0935,-58.05164, -56.43900,3946,2643.3, 1.1300, 1.1354, 2.0000,34.7163,2,-999.0000,9, 199.0,2,-999.0,9, -999.00,9, -999.00,9, -999.00,9,-999.0000,9,-999.0000,9, 0.0079, -999.0,9
740H20210202,SR1b_A23, 79,1,13,9014,2,20210302,0935,-58.05166, -56.43898,3946,2643.5, 1.1317, 1.1312, 2.0000,34.7165,2,34.7164,2, 199.1,2, 199.0,2, -999.00,9, -999.00,9, -999.00,9,-999.0000,1,-999.0000,9, 0.0139, -999.0,9
740H20210202,SR1b_A23, 79,1,14,9015,2,20210302,0947,-58.05166, -56.43898,3946,2112.3, 1.5332, 1.5332, 2.0000,34.7243,2,-999.0000,9, 190.2,2,-999.0,9, -999.00,9, -999.00,9, -999.00,9,-999.0000,9,-999.0000,9, 0.0112, -999.0,9
740H20210202,SR1b_A23, 79,1,15,9016,2,20210302,0948,-58.05164, -56.43900,3946,2112.2, 1.5332, 1.5355, 2.0000,34.7244,2,34.7242,2, 190.2,2, 190.5,2, -999.00,9, -999.00,9, -999.00,9,-999.0000,1,-999.0000,9, 0.0150, -999.0,9
740H20210202,SR1b_A23, 79,1,16,9017,2,20210302,1000,-58.05168, -56.43854,3946,1521.0, 1.9345, 1.9372, 2.0000,34.7030,2,-999.0000,9, 176.5,2,-999.0,9, -999.00,9, -999.00,9, -999.00,9,-999.0000,9,-999.0000,9, 0.0167, -999.0,9
740H20210202,SR1b_A23, 79,1,17,9018,2,20210302,1001,-58.05168, -56.43846,3946,1520.7, 1.9356, 1.9391, 2.0000,34.7029,2,34.7028,2, 176.3,2,-999.0,9, -999.00,9, -999.00,9, -999.00,9,-999.0000,1,-999.0000,9, 0.0162, -999.0,9
740H20210202,SR1b_A23, 79,1,18,9019,2,20210302,1013,-58.05178, -56.43718,3946, 911.7, 2.3681, 2.3707, 2.0000,34.6003,2,-999.0000,9, 168.7,2,-999.0,9, -999.00,9, -999.00,9, -999.00,9,-999.0000,9,-999.0000,9, 0.0177, -999.0,9
740H20210202,SR1b_A23, 79,1,19,9020,2,20210302,1014,-58.05178, -56.43716,3946, 911.6, 2.3703, 2.3702, 2.0000,34.5996,2,34.5999,2, 168.5,2, 168.6,2, -999.00,9, -999.00,9, -999.00,9,-999.0000,1,-999.0000,9, 0.0130, -999.0,9
740H20210202,SR1b_A23, 79,1,20,9021,2,20210302,1023,-58.05188, -56.43614,3946, 506.1, 2.6343, 2.6287, 2.0000,34.4053,2,-999.0000,9, 190.5,2,-999.0,9, -999.00,9, -999.00,9, -999.00,9,-999.0000,9,-999.0000,9, 0.0204, -999.0,9
740H20210202,SR1b_A23, 79,1,21,9022,2,20210302,1024,-58.05188, -56.43606,3946, 506.3, 2.6330, 2.6338, 2.0000,34.4051,2,34.4054,2, 190.3,2,-999.0,9, -999.00,9, -999.00,9, -999.00,9,-999.0000,1,-999.0000,9, 0.0138, -999.0,9
740H20210202,SR1b_A23, 79,1,22,9023,2,20210302,1032,-58.05195, -56.43526,3946, 151.9, 2.7633, 2.7682, 2.0000,34.0421,2,-999.0000,9, 296.8,2, 297.3,2, -999.00,9, -999.00,9, -999.00,9,-999.0000,1,-999.0000,9, 0.0404, -999.0,9
740H20210202,SR1b_A23, 79,1,23,9024,2,20210302,1041,-58.05203, -56.43438,3946,  10.2, 5.3471, 5.3486, 2.0000,33.9491,2,-999.0000,9, 306.1,2,-999.0,9, -999.00,9, -999.00,9, -999.00,9,-999.0000,9,-999.0000,9, 0.3782, -999.0,9
740H20210202,SR1b_A23, 79,1,24,9025,2,20210302,1041,-58.05202, -56.43428,3946,  11.1, 5.3468, 5.3435, 2.0000,33.9490,2,33.9481,2, 306.1,2, 307.7,2, -999.00,9, -999.00,9, -999.00,9,-999.0000,1,-999.0000,9, 0.3582, -999.0,9
740H20210202,SR1b_A23, 80,1, 1,9002,2,20210302,1442,-57.74948, -56.64321,3574,3622.7, 0.6476, 0.6454, 2.0000,34.6927,2,-999.0000,9, 212.4,2,-999.0,9, -999.00,9, -999.00,9, -999.00,9,-999.0000,9,-999.0000,9, 0.0112, -999.0,9
740H20210202,SR1b_A23, 80,1, 2,9003,2,20210302,1443,-57.74958, -56.64324,3574,3622.5, 0.6466, 0.6471, 2.0000,34.6925,2,34.6929,2, 212.4,2,-999.0,9, -999.00,9, -999.00,9, -999.00,9,-999.0000,1,-999.0000,9, 0.0115, -999.0,9
740H20210202,SR1b_A23, 80,1, 3,8149,2,20210302,1451,-57.75106, -56.64330,3574,3298.2, 0.7901, 0.7905, 2.0000,34.7019,2,-999.0000,9, 207.7,2,-999.0,9, -999.00,9, -999.00,9, -999.00,9,-999.0000,9,-999.0000,9, 0.0124, -999.0,9
740H20210202,SR1b_A23, 80,1, 4,9005,2,20210302,1451,-57.75114, -56.64332,3574,3298.4, 0.7901, 0.7898, 2.0000,34.7019,2,34.7024,2, 207.6,2,-999.0,9, -999.00,9, -999.00,9, -999.00,9,-999.0000,1,-999.0000,9, 0.0151, -999.0,9
740H20210202,SR1b_A23, 80,1, 5,9006,2,20210302,1506,-57.75384, -56.64354,3574,2537.4, 1.2837, 1.2839, 2.0000,34.7198,2,-999.0000,9, 195.7,2,-999.0,9, -999.00,9, -999.00,9, -999.00,9,-999.0000,9,-999.0000,9, 0.0095, -999.0,9
740H20210202,SR1b_A23, 80,1, 6,9007,2,20210302,1508,-57.75396, -56.64348,3574,2538.6, 1.2797, 1.2797, 2.0000,34.7195,2,34.7196,2, 196.0,2,-999.0,9, -999.00,9, -999.00,9, -999.00,9,-999.0000,1,-999.0000,9, 0.0067, -999.0,9
740H20210202,SR1b_A23, 80,1, 7,9008,2,20210302,1517,-57.75534, -56.64360,3574,2031.7, 1.5337, 1.5341, 2.0000,34.7235,2,-999.0000,9, 190.0,2,-999.0,9, -999.00,9, -999.00,9, -999.00,9,-999.0000,9,-999.0000,9, 0.0132, -999.0,9
740H20210202,SR1b_A23, 80,1, 8,9009,2,20210302,1518,-57.75546, -56.64360,3574,2031.9, 1.5314, 1.5293, 2.0000,34.7235,2,34.7231,2, 190.1,2,-999.0,9, -999.00,9, -999.00,9, -999.00,9,-999.0000,1,-999.0000,9, 0.0139, -999.0,9
740H20210202,SR1b_A23, 80,1, 9,9010,2,20210302,1538,-57.75868, -56.64498,3574, 962.1, 2.3270, 2.3249, 2.0000,34.6180,2,34.6188,2, 169.4,2,-999.0,9, -999.00,9, -999.00,9, -999.00,9,-999.0000,1,-999.0000,9, 0.0162, -999.0,9
740H20210202,SR1b_A23, 80,1,10,8156,4,20210302,1538,-57.75876, -56.64500,3574, 962.0, 2.3263, 2.3280, 2.0000,34.6182,2,-999.0000,9, 169.3,2,-999.0,9, -999.00,9, -999.00,9, -999.00,9,-999.0000,9,-999.0000,9, 0.0214, -999.0,9
740H20210202,SR1b_A23, 80,1,11,9012,2,20210302,1548,-57.76070, -56.64602,3574, 464.0, 2.2580, 2.2588, 2.0000,34.3074,2,-999.0000,9, 217.5,2,-999.0,9, -999.00,9, -999.00,9, -999.00,9,-999.0000,9,-999.0000,9, 0.0176, -999.0,9
740H20210202,SR1b_A23, 80,1,12,9013,2,20210302,1549,-57.76082, -56.64608,3574, 464.3, 2.2612, 2.2557, 2.0000,34.3075,2,34.3066,2, 217.5,2,-999.0,9, -999.00,9, -999.00,9, -999.00,9,-999.0000,1,-999.0000,9, 0.0206, -999.0,9
740H20210202,SR1b_A23, 80,1,13,9014,2,20210302,1554,-57.76176, -56.64660,3574, 343.0, 2.4744, 2.4783, 2.0000,34.1984,2,34.1982,2, 243.9,2,-999.0,9, -999.00,9, -999.00,9, -999.00,9,-999.0000,1,-999.0000,9, 0.0182, -999.0,9
740H20210202,SR1b_A23, 80,1,14,9015,2,20210302,1557,-57.76224, -56.64685,3574, 327.8, 2.1319, 2.1153, 2.0000,34.1480,2,34.1495,2, 260.9,2,-999.0,9, -999.00,9, -999.00,9, -999.00,9,-999.0000,1,-999.0000,9, 0.0167, -999.0,9
740H20210202,SR1b_A23, 80,1,15,9016,2,20210302,1559,-57.76269, -56.64714,3574, 298.1, 1.8067, 1.8077, 2.0000,34.0878,2,34.0873,2, 281.6,2,-999.0,9, -999.00,9, -999.00,9, -999.00,9,-999.0000,1,-999.0000,9, 0.0201, -999.0,9
740H20210202,SR1b_A23, 80,1,16,9017,3,20210302,1601,-57.76304, -56.64734,3574, 277.2, 2.1132, 2.1182, 2.0000,34.0989,2,34.0971,2, 276.4,2,-999.0,9, -999.00,9, -999.00,9, -999.00,9,-999.0000,1,-999.0000,9, 0.0194, -999.0,9
740H20210202,SR1b_A23, 80,1,17,9018,2,20210302,1604,-57.76352, -56.64763,3574, 221.4, 2.6632, 2.6582, 2.0000,34.0929,2,-999.0000,9, 277.5,2,-999.0,9, -999.00,9, -999.00,9, -999.00,9,-999.0000,9,-999.0000,9, 0.0238, -999.0,9
740H20210202,SR1b_A23, 80,1,18,9019,2,20210302,1605,-57.76372, -56.64768,3574, 221.6, 2.6346, 2.6513, 2.0000,34.0898,2,34.0903,2, 279.0,2,-999.0,9, -999.00,9, -999.00,9, -999.00,9,-999.0000,1,-999.0000,9, 0.0212, -999.0,9
740H20210202,SR1b_A23, 80,1,19,9020,2,20210302,1607,-57.76420, -56.64796,3574, 160.8, 3.2559, 3.2542, 2.0000,34.0922,2,-999.0000,9, 277.4,2,-999.0,9, -999.00,9, -999.00,9, -999.00,9,-999.0000,9,-999.0000,9, 0.0249, -999.0,9
740H20210202,SR1b_A23, 80,1,20,9021,2,20210302,1608,-57.76434, -56.64806,3574, 160.7, 3.2455, 3.2534, 2.0000,34.0910,2,34.0924,2, 277.5,2,-999.0,9, -999.00,9, -999.00,9, -999.00,9,-999.0000,1,-999.0000,9, 0.0213, -999.0,9
740H20210202,SR1b_A23, 80,1,21,9022,2,20210302,1612,-57.76516, -56.64848,3574,  75.2, 3.6382, 3.6403, 2.0000,34.0357,2,-999.0000,9, 299.5,2,-999.0,9, -999.00,9, -999.00,9, -999.00,9,-999.0000,9,-999.0000,9, 0.0618, -999.0,9
740H20210202,SR1b_A23, 80,1,22,9023,2,20210302,1613,-57.76536, -56.64860,3574,  74.9, 3.6404, 3.6459, 2.0000,34.0357,2,34.0347,2, 299.3,2,-999.0,9, -999.00,9, -999.00,9, -999.00,9,-999.0000,1,-999.0000,9, 0.0724, -999.0,9
740H20210202,SR1b_A23, 80,1,23,9024,2,20210302,1618,-57.76614, -56.64902,3574,  25.3, 5.4928, 5.4850, 2.0000,33.9626,2,-999.0000,9, 305.8,2,-999.0,9, -999.00,9, -999.00,9, -999.00,9,-999.0000,9,-999.0000,9, 0.1590, -999.0,9
740H20210202,SR1b_A23, 80,1,24,9025,2,20210302,1619,-57.76648, -56.64918,3574,  24.8, 5.4926, 5.4928, 2.0000,33.9625,2,33.9613,2, 305.2,2,-999.0,9, -999.00,9, -999.00,9, -999.00,9,-999.0000,1,-999.0000,9, 0.1224, -999.0,9