BOTTLE,20210420POGBASEPA
EXPOCODE,SECT_ID,STNNBR,CASTNO,SAMPNO,BTLNBR,BTLNBR_FLAG_W,DATE,TIME,LATITUDE,LONGITUDE,DEPTH,CTDPRS,CTDTMP,SBE35,SBE35_FLAG_W,CTDSAL,CTDSAL_FLAG_W,SALNTY,SALNTY_FLAG_W,CTDOXY,CTDOXY_FLAG_W,OXYGEN,OXYGEN_FLAG_W,SILCAT,SILCAT_FLAG_W,NO2+NO3,NO2+NO3_FLAG_W,PHSPHT,PHSPHT_FLAG_W,DELO18,DELO18_FLAG_W,D30SI_SILCAT,D30SI_SILCAT_FLAG_W,CTDFLUOR,BOTCHLA,BOTCHLA_FLAG_W
 , , , , , , , , , , ,METERS,DBAR,ITS-90,ITS-90, ,PSS-78, ,PSS-78, ,UMOL/KG, ,UMOL/KG, ,UMOL/KG, ,UMOL/KG,UMOL/KG,UMOL/KG,UMOL/KG,/MILLE,/MILLE,/MILLE,/MILLE,MG/M^3,ML/L,ML/L
740H20210202,SR1b_A23, 44,1, 1,9002,2,20210218,1744,-56.77546, -32.30388,3232,3274.3,-0.0171,-0.0173, 2.0000,34.6593,2,-999.0000,9, 231.4,2,-999.0,9, -999.00,9, -999.00,9, -999.00,9,-999.0000,9,-999.0000,9, 0.0127, -999.0,9
740H20210202,SR1b_A23, 44,1, 2,9003,2,20210218,1745,-56.77546, -32.30388,3232,3274.2,-0.0169,-0.0173, 2.0000,34.6593,2,-999.0000,9, 231.3,2,-999.0,9, -999.00,9, -999.00,9, -999.00,9,-999.0000,9,-999.0000,9, 0.0140, -999.0,9
740H20210202,SR1b_A23, 44,1, 3,8149,2,20210218,1746,-56.77546, -32.30388,3232,3274.3,-0.0169,-0.0173, 2.0000,34.6594,2,34.6587,2, 231.3,2, 229.6,4, -999.00,9, -999.00,9, -999.00,9,-999.0000,9,-999.0000,9, 0.0101, -999.0,9
740H20210202,SR1b_A23, 44,1, 4,9005,2,20210218,1756,-56.77546, -32.30388,3232,2797.3, 0.0144, 0.0145, 2.0000,34.6621,2,-999.0000,9, 229.3,2,-999.0,9, -999.00,9, -999.00,9, -999.00,9,-999.0000,9,-999.0000,9, 0.0066, -999.0,9
740H20210202,SR1b_A23, 44,1, 5,9006,2,20210218,1758,-56.77546, -32.30390,3232,2797.2, 0.0138, 0.0142, 2.0000,34.6620,2,-999.0000,9, 229.4,2,-999.0,9, -999.00,9, -999.00,9, -999.00,9,-999.0000,9,-999.0000,9, 0.0077, -999.0,9
740H20210202,SR1b_A23, 44,1, 6,9007,2,20210218,1759,-56.77546, -32.30389,3232,2797.2, 0.0137, 0.0139, 2.0000,34.6622,2,34.6617,2, 229.4,2,-999.0,4, -999.00,9, -999.00,9, -999.00,9,-999.0000,9,-999.0000,9, 0.0053, -999.0,9
740H20210202,SR1b_A23, 44,1, 7,9008,2,20210218,1809,-56.77546, -32.30388,3232,2285.7, 0.1958, 0.1964, 2.0000,34.6709,2,-999.0000,9, 222.1,2,-999.0,9, -999.00,9, -999.00,9, -999.00,9,-999.0000,9,-999.0000,9, 0.0053, -999.0,9
740H20210202,SR1b_A23, 44,1, 8,9009,2,20210218,1810,-56.77546, -32.30386,3232,2285.7, 0.1943, 0.1955, 2.0000,34.6707,2,-999.0000,9, 222.2,2,-999.0,9, -999.00,9, -999.00,9, -999.00,9,-999.0000,9,-999.0000,9, 0.0162, -999.0,9
740H20210202,SR1b_A23, 44,1, 9,9010,2,20210218,1811,-56.77546, -32.30388,3232,2285.5, 0.1941, 0.1946, 2.0000,34.6707,2,34.6700,2, 222.2,2, 219.6,4, -999.00,9, -999.00,9, -999.00,9,-999.0000,9,-999.0000,9, 0.0133, -999.0,9
740H20210202,SR1b_A23, 44,1,10,8156,2,20210218,1830,-56.77546, -32.30388,3232,1266.5, 0.6713, 0.6720, 2.0000,34.6890,2,-999.0000,9, 210.5,2,-999.0,9, -999.00,9, -999.00,9, -999.00,9,-999.0000,9,-999.0000,9, 0.0134, -999.0,9
740H20210202,SR1b_A23, 44,1,11,9012,2,20210218,1831,-56.77546, -32.30388,3232,1266.5, 0.6712, 0.6715, 2.0000,34.6890,2,-999.0000,9, 210.2,2,-999.0,9, -999.00,9, -999.00,9, -999.00,9,-999.0000,9,-999.0000,9, 0.0578, -999.0,9
740H20210202,SR1b_A23, 44,1,12,9013,2,20210218,1832,-56.77546, -32.30388,3232,1266.5, 0.6712, 0.6717, 2.0000,34.6890,2,34.6884,2, 210.0,2, 208.7,4, -999.00,9, -999.00,9, -999.00,9,-999.0000,9,-999.0000,9, 0.0082, -999.0,9
740H20210202,SR1b_A23, 44,1,13,9014,2,20210218,1842,-56.77546, -32.30388,3232, 758.8, 1.0588, 1.0596, 2.0000,34.6876,2,-999.0000,9, 203.3,2,-999.0,9, -999.00,9, -999.00,9, -999.00,9,-999.0000,9,-999.0000,9, 0.0019, -999.0,9
740H20210202,SR1b_A23, 44,1,14,9015,2,20210218,1842,-56.77546, -32.30388,3232, 758.8, 1.0589, 1.0596, 2.0000,34.6877,2,-999.0000,9, 203.4,2,-999.0,9, -999.00,9, -999.00,9, -999.00,9,-999.0000,9,-999.0000,9, 0.0100, -999.0,9
740H20210202,SR1b_A23, 44,1,15,9016,2,20210218,1843,-56.77546, -32.30388,3232, 758.8, 1.0594, 1.0594, 2.0000,34.6875,2,34.6865,2, 203.5,2, 201.4,4, -999.00,9, -999.00,9, -999.00,9,-999.0000,9,-999.0000,9, 0.0074, -999.0,9
740H20210202,SR1b_A23, 44,1,16,9017,2,20210218,1850,-56.77546, -32.30388,3232, 505.6, 1.2142, 1.2152, 2.0000,34.6574,2,-999.0000,9, 201.6,2,-999.0,9, -999.00,9, -999.00,9, -999.00,9,-999.0000,9,-999.0000,9, 0.0137, -999.0,9
740H20210202,SR1b_A23, 44,1,17,9018,2,20210218,1851,-56.77546, -32.30390,3232, 505.6, 1.2151, 1.2132, 2.0000,34.6573,2,-999.0000,9, 201.5,2,-999.0,9, -999.00,9, -999.00,9, -999.00,9,-999.0000,9,-999.0000,9, 0.0149, -999.0,9
740H20210202,SR1b_A23, 44,1,18,9019,2,20210218,1852,-56.77546, -32.30388,3232, 505.6, 1.2135, 1.2152, 2.0000,34.6574,2,34.6572,2, 201.6,2, 199.5,4, -999.00,9, -999.00,9, -999.00,9,-999.0000,9,-999.0000,9, 0.0141, -999.0,9
740H20210202,SR1b_A23, 44,1,19,9020,2,20210218,1900,-56.77546, -32.30388,3232, 136.2,-0.0885,-0.0902, 2.0000,34.1486,2,-999.0000,9, 297.8,2,-999.0,9, -999.00,9, -999.00,9, -999.00,9,-999.0000,9,-999.0000,9, 0.0429, -999.0,9
740H20210202,SR1b_A23, 44,1,20,9021,2,20210218,1901,-56.77546, -32.30388,3232, 136.2,-0.0889,-0.0921, 2.0000,34.1484,2,-999.0000,9, 298.2,2,-999.0,9, -999.00,9, -999.00,9, -999.00,9,-999.0000,9,-999.0000,9, 0.0472, -999.0,9
740H20210202,SR1b_A23, 44,1,21,9022,2,20210218,1902,-56.77546, -32.30388,3232, 136.2,-0.0891,-0.0918, 2.0000,34.1476,2,34.1528,2, 298.3,2, 294.5,4, -999.00,9, -999.00,9, -999.00,9,-999.0000,9,-999.0000,9, 0.0480, -999.0,9
740H20210202,SR1b_A23, 44,1,22,9023,2,20210218,1912,-56.77546, -32.30388,3232,   5.1, 3.0324, 3.0132, 2.0000,33.8304,2,-999.0000,9, 337.5,2,-999.0,9, -999.00,9, -999.00,9, -999.00,9,-999.0000,9,-999.0000,9, 0.1106, -999.0,9
740H20210202,SR1b_A23, 44,1,23,9024,2,20210218,1913,-56.77546, -32.30388,3232,   5.6, 3.0421, 3.0507, 2.0000,33.8301,2,-999.0000,9, 337.4,2,-999.0,9, -999.00,9, -999.00,9, -999.00,9,-999.0000,9,-999.0000,9, 0.1118, -999.0,9
740H20210202,SR1b_A23, 44,1,24,9025,2,20210218,1914,-56.77546, -32.30388,3232,   5.5, 3.0640, 3.0505, 2.0000,33.8308,2,33.8297,2, 337.7,2, 335.0,4, -999.00,9, -999.00,9, -999.00,9,-999.0000,9,-999.0000,9, 0.1045, -999.0,9
740H20210202,SR1b_A23, 45,1, 1,9002,2,20210218,2307,-57.11812, -31.81436,3439,3485.9, 0.0124, 0.0121, 2.0000,34.6597,2,-999.0000,9, 231.0,2,-999.0,9, -999.00,9, -999.00,9, -999.00,9,-999.0000,9,-999.0000,9, 0.0135, -999.0,9
740H20210202,SR1b_A23, 45,1, 2,9003,2,20210218,2308,-57.11812, -31.81436,3439,3486.1, 0.0120, 0.0122, 2.0000,34.6598,2,-999.0000,4, 230.9,2, 229.4,4, -999.00,9, -999.00,9, -999.00,9,-999.0000,1,-999.0000,9, 0.0141, -999.0,9
740H20210202,SR1b_A23, 45,1, 3,8149,2,20210218,2317,-57.11814, -31.81436,3439,3055.2, 0.0278, 0.0275, 2.0000,34.6619,2,-999.0000,4, 229.3,2,-999.0,9, -999.00,9, -999.00,9, -999.00,9,-999.0000,1,-999.0000,9, 0.0137, -999.0,9
740H20210202,SR1b_A23, 45,1, 4,9005,2,20210218,2328,-57.11814, -31.81438,3439,2542.4, 0.1042, 0.1044, 2.0000,34.6664,2,-999.0000,9, 225.8,2,-999.0,9, -999.00,9, -999.00,9, -999.00,9,-999.0000,9,-999.0000,9, 0.0155, -999.0,9
740H20210202,SR1b_A23, 45,1, 5,9006,2,20210218,2328,-57.11814, -31.81438,3439,2542.3, 0.1040, 0.1041, 2.0000,34.6665,2,-999.0000,4, 226.0,2, 224.8,4, -999.00,9, -999.00,9, -999.00,9,-999.0000,1,-999.0000,9, 0.0118, -999.0,9
740H20210202,SR1b_A23, 45,1, 6,9007,2,20210218,2339,-57.11812, -31.81438,3439,2031.5, 0.2662, 0.2683, 2.0000,34.6744,2,-999.0000,9, 219.6,2,-999.0,9, -999.00,9, -999.00,9, -999.00,9,-999.0000,9,-999.0000,9, 0.0150, -999.0,9
740H20210202,SR1b_A23, 45,1, 7,9008,2,20210218,2339,-57.11812, -31.81438,3439,2031.6, 0.2674, 0.2694, 2.0000,34.6746,2,-999.0000,4, 219.6,2,-999.0,9, -999.00,9, -999.00,9, -999.00,9,-999.0000,1,-999.0000,9, 0.0116, -999.0,9
740H20210202,SR1b_A23, 45,1, 8,9009,2,20210218,2350,-57.11814, -31.81436,3439,1522.0, 0.4558, 0.4563, 2.0000,34.6806,2,-999.0000,4, 212.7,2, 210.7,4, -999.00,9, -999.00,9, -999.00,9,-999.0000,1,-999.0000,9, 0.0100, -999.0,9
740H20210202,SR1b_A23, 45,1, 9,9010,2,20210219,0001,-57.11814, -31.81438,3439,1013.7, 0.5925, 0.5932, 2.0000,34.6771,2,-999.0000,4, 209.9,2, 207.6,4, -999.00,9, -999.00,9, -999.00,9,-999.0000,1,-999.0000,9, 0.0165, -999.0,9
740H20210202,SR1b_A23, 45,1,10,8156,4,20210219,0001,-57.11814, -31.81438,3439,1013.8, 0.5926, 0.5938, 2.0000,34.6771,2,-999.0000,9, 209.7,2,-999.0,9, -999.00,9, -999.00,9, -999.00,9,-999.0000,9,-999.0000,9, 0.0136, -999.0,9
740H20210202,SR1b_A23, 45,1,11,9012,2,20210219,0008,-57.11812, -31.81438,3439, 759.9, 0.6829, 0.6829, 2.0000,34.6689,2,-999.0000,4, 210.4,2, 208.0,4, -999.00,9, -999.00,9, -999.00,9,-999.0000,1,-999.0000,9, 0.0143, -999.0,9
740H20210202,SR1b_A23, 45,1,12,9013,2,20210219,0014,-57.11814, -31.81436,3439, 506.3, 0.8605, 0.8644, 2.0000,34.6504,2,-999.0000,9, 210.2,2,-999.0,9, -999.00,9, -999.00,9, -999.00,9,-999.0000,9,-999.0000,9, 0.0184, -999.0,9
740H20210202,SR1b_A23, 45,1,13,9014,2,20210219,0015,-57.11813, -31.81436,3439, 506.4, 0.8636, 0.8610, 2.0000,34.6509,2,-999.0000,4, 210.1,2,-999.0,9, -999.00,9, -999.00,9, -999.00,9,-999.0000,1,-999.0000,9, 0.0171, -999.0,9
740H20210202,SR1b_A23, 45,1,14,9015,2,20210219,0019,-57.11812, -31.81436,3439, 354.8, 0.7463, 0.7468, 2.0000,34.5872,2,-999.0000,4, 218.1,2, 216.2,4, -999.00,9, -999.00,9, -999.00,9,-999.0000,1,-999.0000,9, 0.0248, -999.0,9
740H20210202,SR1b_A23, 45,1,15,9016,2,20210219,0024,-57.11812, -31.81438,3439, 228.4, 0.1695, 0.1531, 2.0000,34.3977,2,-999.0000,9, 249.0,2,-999.0,9, -999.00,9, -999.00,9, -999.00,9,-999.0000,9,-999.0000,9, 0.0264, -999.0,9
740H20210202,SR1b_A23, 45,1,16,9017,2,20210219,0024,-57.11812, -31.81436,3439, 228.3, 0.1810, 0.1630, 2.0000,34.4008,2,-999.0000,4, 248.4,2,-999.0,9, -999.00,9, -999.00,9, -999.00,9,-999.0000,1,-999.0000,9, 0.0273, -999.0,9
740H20210202,SR1b_A23, 45,1,17,9018,2,20210219,0028,-57.11812, -31.81436,3439, 152.7,-0.1289,-0.1279, 2.0000,34.1311,2,-999.0000,4, 297.8,2, 295.1,4, -999.00,9, -999.00,9, -999.00,9,-999.0000,1,-999.0000,9, 0.0457, -999.0,9
740H20210202,SR1b_A23, 45,1,18,9019,2,20210219,0031,-57.11814, -31.81438,3439, 103.5, 0.3177, 0.3346, 2.0000,33.9671,2,-999.0000,9, 323.0,2,-999.0,9, -999.00,9, -999.00,9, -999.00,9,-999.0000,9,-999.0000,9, 0.0907, -999.0,9
740H20210202,SR1b_A23, 45,1,19,9020,2,20210219,0032,-57.11814, -31.81438,3439, 103.4, 0.3364, 0.3451, 2.0000,33.9619,2,-999.0000,4, 324.1,2,-999.0,9, -999.00,9, -999.00,9, -999.00,9,-999.0000,1,-999.0000,9, 0.0942, -999.0,9
740H20210202,SR1b_A23, 45,1,20,9021,2,20210219,0037,-57.11814, -31.81438,3439,  52.6, 1.8034, 1.8061, 2.0000,33.7988,2,-999.0000,9, 340.7,2,-999.0,9, -999.00,9, -999.00,9, -999.00,9,-999.0000,9,-999.0000,9, 0.5910, -999.0,9
740H20210202,SR1b_A23, 45,1,21,9022,2,20210219,0038,-57.11814, -31.81436,3439,  52.2, 1.8037, 1.8074, 2.0000,33.7992,2,-999.0000,4, 341.0,2,-999.0,9, -999.00,9, -999.00,9, -999.00,9,-999.0000,1,-999.0000,9, 0.5623, -999.0,9
740H20210202,SR1b_A23, 45,1,22,9023,2,20210219,0041,-57.11812, -31.81437,3439,  22.0, 1.9557, 1.9554, 2.0000,33.7973,2,-999.0000,4, 341.4,2,-999.0,9, -999.00,9, -999.00,9, -999.00,9,-999.0000,1,-999.0000,9, 0.4423, -999.0,9
740H20210202,SR1b_A23, 45,1,23,9024,2,20210219,0043,-57.11812, -31.81436,3439,   5.9, 2.2549, 2.2475, 2.0000,33.7996,2,-999.0000,9, 340.4,2,-999.0,9, -999.00,9, -999.00,9, -999.00,9,-999.0000,9,-999.0000,9, 0.4171, -999.0,9
740H20210202,SR1b_A23, 45,1,24,9025,2,20210219,0043,-57.11814, -31.81436,3439,   6.7, 2.2519, 2.2535, 2.0000,33.7993,2,-999.0000,4, 340.3,2, 337.3,4, -999.00,9, -999.00,9, -999.00,9,-999.0000,1,-999.0000,9, 0.4129, -999.0,9
740H20210202,SR1b_A23, 46,1, 1,9002,2,20210219,0456,-57.45802, -31.32884,3746,3802.0, 0.0281, 0.0278, 2.0000,34.6592,2,-999.0000,4, 231.5,2, 229.7,4, -999.00,9, -999.00,9, -999.00,9,-999.0000,9,-999.0000,9, 0.0148, -999.0,9
740H20210202,SR1b_A23, 46,1, 2,9003,2,20210219,0457,-57.45800, -31.32884,3746,3801.8, 0.0278, 0.0277, 2.0000,34.6593,2,-999.0000,9, 231.5,2,-999.0,9, -999.00,9, -999.00,9, -999.00,9,-999.0000,9,-999.0000,9, 0.0163, -999.0,9
740H20210202,SR1b_A23, 46,1, 3,8149,4,20210219,0512,-57.45800, -31.32884,3746,3052.8, 0.0415, 0.0411, 2.0000,34.6625,2,-999.0000,9, 228.9,2,-999.0,9, -999.00,9, -999.00,9, -999.00,9,-999.0000,9,-999.0000,9, 0.0145, -999.0,9
740H20210202,SR1b_A23, 46,1, 4,9005,2,20210219,0512,-57.45800, -31.32884,3746,3052.9, 0.0414, 0.0413, 2.0000,34.6625,2,-999.0000,4, 228.9,2, 227.1,4, -999.00,9, -999.00,9, -999.00,9,-999.0000,9,-999.0000,9, 0.0074, -999.0,9
740H20210202,SR1b_A23, 46,1, 5,9006,2,20210219,0532,-57.45800, -31.32886,3746,2029.2, 0.3805, 0.3804, 2.0000,34.6788,2,-999.0000,4, 216.4,2, 214.4,4, -999.00,9, -999.00,9, -999.00,9,-999.0000,9,-999.0000,9, 0.0125, -999.0,9
740H20210202,SR1b_A23, 46,1,13,9014,2,20210219,0533,-57.45800, -31.32884,3746,2028.9, 0.3824, 0.3818, 2.0000,34.6791,2,-999.0000,9, 216.5,2,-999.0,9, -999.00,9, -999.00,9, -999.00,9,-999.0000,9,-999.0000,9, 0.0086, -999.0,9
740H20210202,SR1b_A23, 46,1,14,9015,2,20210219,0602,-57.45802, -31.32886,3746, 479.1, 1.4210, 1.4277, 2.0000,34.6623,2,-999.0000,4, 195.9,2, 193.5,4, -999.00,9, -999.00,9, -999.00,9,-999.0000,9,-999.0000,9, 0.0222, -999.0,9
740H20210202,SR1b_A23, 46,1,15,9016,2,20210219,0603,-57.45802, -31.32886,3746, 479.1, 1.4266, 1.4108, 2.0000,34.6640,2,-999.0000,9, 195.5,2,-999.0,9, -999.00,9, -999.00,9, -999.00,9,-999.0000,9,-999.0000,9, 0.0240, -999.0,9
740H20210202,SR1b_A23, 46,1,16,9017,2,20210219,0616,-57.45802, -31.32886,3746,   5.8, 2.1102, 2.1187, 2.0000,33.7686,2,-999.0000,4, 340.8,2, 338.2,4, -999.00,9, -999.00,9, -999.00,9,-999.0000,9,-999.0000,9, 0.4794, -999.0,9
740H20210202,SR1b_A23, 46,1,17,9018,2,20210219,0616,-57.45802, -31.32886,3746,   6.7, 2.1155, 2.1164, 2.0000,33.7683,2,-999.0000,9, 341.3,2,-999.0,9, -999.00,9, -999.00,9, -999.00,9,-999.0000,9,-999.0000,9, 0.4951, -999.0,9
740H20210202,SR1b_A23, 47,1, 1,9002,2,20210219,1032,-57.80134, -30.83274,3582,3633.0, 0.0195, 0.0191, 2.0000,34.6596,2,-999.0000,4, 230.9,2,-999.0,9, -999.00,9, -999.00,9, -999.00,9,-999.0000,1,-999.0000,9, 0.0044, -999.0,9
740H20210202,SR1b_A23, 47,1, 2,9003,2,20210219,1033,-57.80134, -30.83276,3582,3632.8, 0.0198, 0.0194, 2.0000,34.6595,2,-999.0000,9, 231.1,2,-999.0,9, -999.00,9, -999.00,9, -999.00,9,-999.0000,9,-999.0000,9, 0.0128, -999.0,9
740H20210202,SR1b_A23, 47,1, 3,8149,2,20210219,1044,-57.80134, -30.83274,3582,3051.0, 0.0191, 0.0195, 2.0000,34.6616,2,-999.0000,4, 229.3,2,-999.0,9, -999.00,9, -999.00,9, -999.00,9,-999.0000,1,-999.0000,9, 0.0069, -999.0,9
740H20210202,SR1b_A23, 47,1, 4,9005,2,20210219,1046,-57.80132, -30.83274,3582,3051.2, 0.0207, 0.0200, 2.0000,34.6616,2,-999.0000,9, 229.6,2,-999.0,9, -999.00,9, -999.00,9, -999.00,9,-999.0000,9,-999.0000,9, 0.0051, -999.0,9
740H20210202,SR1b_A23, 47,1, 5,9006,2,20210219,1056,-57.80134, -30.83274,3582,2538.7, 0.1400, 0.1423, 2.0000,34.6678,2,-999.0000,4, 224.4,2,-999.0,9, -999.00,9, -999.00,9, -999.00,9,-999.0000,1,-999.0000,9, 0.0079, -999.0,9
740H20210202,SR1b_A23, 47,1, 6,9007,2,20210219,1059,-57.80134, -30.83276,3582,2538.9, 0.1456, 0.1444, 2.0000,34.6679,2,-999.0000,9, 224.2,2,-999.0,9, -999.00,9, -999.00,9, -999.00,9,-999.0000,9,-999.0000,9, 0.0058, -999.0,9
740H20210202,SR1b_A23, 47,1, 7,9008,2,20210219,1110,-57.80134, -30.83274,3582,2028.6, 0.3578, 0.3583, 2.0000,34.6784,2,-999.0000,4, 217.4,2,-999.0,9, -999.00,9, -999.00,9, -999.00,9,-999.0000,1,-999.0000,9, 0.0049, -999.0,9
740H20210202,SR1b_A23, 47,1, 8,9009,2,20210219,1110,-57.80134, -30.83276,3582,2028.4, 0.3579, 0.3587, 2.0000,34.6784,2,-999.0000,9, 217.3,2,-999.0,9, -999.00,9, -999.00,9, -999.00,9,-999.0000,9,-999.0000,9,-0.0032, -999.0,9
740H20210202,SR1b_A23, 47,1, 9,9010,2,20210219,1121,-57.80134, -30.83276,3582,1518.2, 0.5911, 0.5938, 2.0000,34.6868,2,34.6872,2, 210.9,2,-999.0,9, -999.00,9, -999.00,9, -999.00,9,-999.0000,1,-999.0000,9, 0.0013, -999.0,9
740H20210202,SR1b_A23, 47,1,10,8156,2,20210219,1122,-57.80134, -30.83275,3582,1518.1, 0.5918, 0.5935, 2.0000,34.6869,2,-999.0000,9, 210.8,2,-999.0,9, -999.00,9, -999.00,9, -999.00,9,-999.0000,9,-999.0000,9, 0.0061, -999.0,9
740H20210202,SR1b_A23, 47,1,11,9012,2,20210219,1133,-57.80134, -30.83276,3582,1010.2, 0.9061, 0.9109, 2.0000,34.6936,2,34.6936,2, 204.9,2,-999.0,9, -999.00,9, -999.00,9, -999.00,9,-999.0000,1,-999.0000,9,-0.0035, -999.0,9
740H20210202,SR1b_A23, 47,1,12,9013,2,20210219,1134,-57.80134, -30.83276,3582,1009.8, 0.9076, 0.9106, 2.0000,34.6936,2,-999.0000,9, 204.8,2,-999.0,9, -999.00,9, -999.00,9, -999.00,9,-999.0000,9,-999.0000,9, 0.0121, -999.0,9
740H20210202,SR1b_A23, 47,1,13,9014,2,20210219,1145,-57.80134, -30.83276,3582, 503.1, 1.3217, 1.3206, 2.0000,34.6638,2,34.6649,2, 198.4,2,-999.0,9, -999.00,9, -999.00,9, -999.00,9,-999.0000,1,-999.0000,9, 0.0070, -999.0,9
740H20210202,SR1b_A23, 47,1,14,9015,2,20210219,1146,-57.80134, -30.83276,3582, 503.1, 1.3205, 1.3219, 2.0000,34.6637,2,-999.0000,9, 198.7,2,-999.0,9, -999.00,9, -999.00,9, -999.00,9,-999.0000,9,-999.0000,9, 0.0072, -999.0,9
740H20210202,SR1b_A23, 47,1,15,9016,2,20210219,1153,-57.80134, -30.83274,3582, 224.1, 1.0441, 1.0574, 2.0000,34.4729,2,34.4754,2, 216.7,2,-999.0,9, -999.00,9, -999.00,9, -999.00,9,-999.0000,1,-999.0000,9, 0.0174, -999.0,9
740H20210202,SR1b_A23, 47,1,16,9017,2,20210219,1154,-57.80134, -30.83275,3582, 224.3, 1.0463, 1.0513, 2.0000,34.4727,2,-999.0000,9, 216.3,2,-999.0,9, -999.00,9, -999.00,9, -999.00,9,-999.0000,9,-999.0000,9, 0.0289, -999.0,9
740H20210202,SR1b_A23, 47,1,17,9018,2,20210219,1157,-57.80134, -30.83274,3582, 147.7, 0.0093, 0.0249, 2.0000,34.2507,2,34.2579,2, 272.9,2,-999.0,9, -999.00,9, -999.00,9, -999.00,9,-999.0000,1,-999.0000,9, 0.0210, -999.0,9
740H20210202,SR1b_A23, 47,1,18,9019,2,20210219,1158,-57.80134, -30.83276,3582, 147.8, 0.0057, 0.0205, 2.0000,34.2513,2,-999.0000,9, 272.9,2,-999.0,9, -999.00,9, -999.00,9, -999.00,9,-999.0000,9,-999.0000,9, 0.0131, -999.0,9
740H20210202,SR1b_A23, 47,1,19,9020,2,20210219,1205,-57.80134, -30.83276,3582,  47.6, 1.9185, 1.9318, 2.0000,33.7907,2,33.7915,2, 338.3,2,-999.0,9, -999.00,9, -999.00,9, -999.00,9,-999.0000,1,-999.0000,9, 0.7568, -999.0,9
740H20210202,SR1b_A23, 47,1,20,9021,2,20210219,1206,-57.80134, -30.83274,3582,  47.8, 1.9378, 1.9393, 2.0000,33.7901,2,-999.0000,9, 338.7,2,-999.0,9, -999.00,9, -999.00,9, -999.00,9,-999.0000,9,-999.0000,9, 0.6591, -999.0,9
740H20210202,SR1b_A23, 47,1,21,9022,2,20210219,1209,-57.80134, -30.83274,3582,  19.8, 2.0564, 2.0831, 2.0000,33.7740,2,33.7745,2, 340.6,2,-999.0,9, -999.00,9, -999.00,9, -999.00,9,-999.0000,1,-999.0000,9, 0.2888, -999.0,9
740H20210202,SR1b_A23, 47,1,22,9023,2,20210219,1209,-57.80134, -30.83276,3582,  19.5, 2.0648, 2.1071, 2.0000,33.7793,2,-999.0000,9, 341.1,2,-999.0,9, -999.00,9, -999.00,9, -999.00,9,-999.0000,9,-999.0000,9, 0.3031, -999.0,9
740H20210202,SR1b_A23, 47,1,23,9024,2,20210219,1214,-57.80134, -30.83274,3582,   4.9, 2.1061, 2.1043, 2.0000,33.7753,2,33.7756,2, 341.1,2,-999.0,9, -999.00,9, -999.00,9, -999.00,9,-999.0000,1,-999.0000,9, 0.1969, -999.0,9
740H20210202,SR1b_A23, 47,1,24,9025,2,20210219,1215,-57.80134, -30.83275,3582,   4.7, 2.1048, 2.1063, 2.0000,33.7749,2,-999.0000,9, 340.7,2,-999.0,9, -999.00,9, -999.00,9, -999.00,9,-999.0000,9,-999.0000,9, 0.1976, -999.0,9