BOTTLE,20210420POGBASEPA
EXPOCODE,SECT_ID,STNNBR,CASTNO,SAMPNO,BTLNBR,BTLNBR_FLAG_W,DATE,TIME,LATITUDE,LONGITUDE,DEPTH,CTDPRS,CTDTMP,SBE35,SBE35_FLAG_W,CTDSAL,CTDSAL_FLAG_W,SALNTY,SALNTY_FLAG_W,CTDOXY,CTDOXY_FLAG_W,OXYGEN,OXYGEN_FLAG_W,SILCAT,SILCAT_FLAG_W,NO2+NO3,NO2+NO3_FLAG_W,PHSPHT,PHSPHT_FLAG_W,DELO18,DELO18_FLAG_W,D30SI_SILCAT,D30SI_SILCAT_FLAG_W,CTDFLUOR,BOTCHLA,BOTCHLA_FLAG_W
 , , , , , , , , , , ,METERS,DBAR,ITS-90,ITS-90, ,PSS-78, ,PSS-78, ,UMOL/KG, ,UMOL/KG, ,UMOL/KG, ,UMOL/KG,UMOL/KG,UMOL/KG,UMOL/KG,/MILLE,/MILLE,/MILLE,/MILLE,MG/M^3,ML/L,ML/L
740H20210202,SR1b_A23, 37,1, 1,9002,2,20210217,0404,-55.22846, -34.48946,1026,1026.4, 1.7671, 1.7678, 2.0000,34.7018,2,34.7013,2, 183.7,2, 184.3,3, -999.00,9, -999.00,9, -999.00,9,-999.0000,1,-999.0000,9, 0.0114, -999.0,9
740H20210202,SR1b_A23, 37,1, 2,9003,2,20210217,0405,-55.22846, -34.48946,1026,1026.4, 1.7673, 1.7739, 2.0000,34.7018,2,-999.0000,9, 184.0,2,-999.0,9, -999.00,9, -999.00,9, -999.00,9,-999.0000,9,-999.0000,9, 0.0027, -999.0,9
740H20210202,SR1b_A23, 37,1, 3,8149,2,20210217,0405,-55.22846, -34.48946,1026,1026.5, 1.7678, 1.7698, 2.0000,34.7016,2,-999.0000,9, 183.9,2,-999.0,9, -999.00,9, -999.00,9, -999.00,9,-999.0000,9,-999.0000,9, 0.0050, -999.0,9
740H20210202,SR1b_A23, 37,1, 4,9005,2,20210217,0417,-55.22846, -34.48946,1026, 507.5, 2.1566, 2.1569, 2.0000,34.5870,2,34.5870,2, 175.7,2, 175.3,2, -999.00,1, -999.00,1, -999.00,1,-999.0000,1,-999.0000,1, 0.0049, -999.0,9
740H20210202,SR1b_A23, 37,1, 5,9006,2,20210217,0418,-55.22848, -34.48946,1026, 507.5, 2.1561, 2.1567, 2.0000,34.5877,2,-999.0000,9, 175.6,2,-999.0,9, -999.00,9, -999.00,9, -999.00,9,-999.0000,9,-999.0000,9, 0.0038, -999.0,9
740H20210202,SR1b_A23, 37,1, 6,9007,2,20210217,0419,-55.22848, -34.48946,1026, 507.5, 2.1561, 2.1564, 2.0000,34.5876,2,-999.0000,9, 175.7,2,-999.0,9, -999.00,9, -999.00,9, -999.00,9,-999.0000,9,-999.0000,9, 0.0071, -999.0,9
740H20210202,SR1b_A23, 37,1, 7,9008,2,20210217,0426,-55.22848, -34.48946,1026, 229.6, 1.6037, 1.6027, 2.0000,34.2595,2,34.2591,2, 235.5,2, 235.2,2, -999.00,1, -999.00,1, -999.00,1,-999.0000,1,-999.0000,1, 0.0106, -999.0,9
740H20210202,SR1b_A23, 37,1, 8,9009,2,20210217,0426,-55.22848, -34.48946,1026, 229.7, 1.6040, 1.6032, 2.0000,34.2598,2,-999.0000,9, 235.7,2,-999.0,9, -999.00,9, -999.00,9, -999.00,9,-999.0000,9,-999.0000,9, 0.0133, -999.0,9
740H20210202,SR1b_A23, 37,1, 9,9010,2,20210217,0427,-55.22848, -34.48946,1026, 229.7, 1.6050, 1.6046, 2.0000,34.2602,2,-999.0000,9, 235.8,2,-999.0,9, -999.00,9, -999.00,9, -999.00,9,-999.0000,9,-999.0000,9, 0.0164, -999.0,9
740H20210202,SR1b_A23, 37,1,10,8156,4,20210217,0431,-55.22848, -34.48946,1026, 154.0, 0.8282, 0.8565, 2.0000,34.0053,2,-999.0000,9, 296.9,2,-999.0,9, -999.00,9, -999.00,9, -999.00,9,-999.0000,9,-999.0000,9, 0.0234, -999.0,9
740H20210202,SR1b_A23, 37,1,11,9012,2,20210217,0431,-55.22848, -34.48945,1026, 154.0, 0.7961, 0.8357, 2.0000,34.0050,2,34.0045,2, 298.2,2,-999.0,9, -999.00,1, -999.00,1, -999.00,1,-999.0000,1,-999.0000,1, 0.0167, -999.0,9
740H20210202,SR1b_A23, 37,1,12,9013,2,20210217,0432,-55.22848, -34.48946,1026, 154.0, 0.8006, 0.8353, 2.0000,34.0053,2,-999.0000,9, 297.9,2,-999.0,9, -999.00,9, -999.00,9, -999.00,9,-999.0000,9,-999.0000,9, 0.0192, -999.0,9
740H20210202,SR1b_A23, 37,1,13,9014,2,20210217,0439,-55.22848, -34.48946,1026,  53.5, 3.4998, 3.5035, 2.0000,33.7360,2,33.7356,2, 329.3,2,-999.0,9, -999.00,9, -999.00,9, -999.00,9,-999.0000,1,-999.0000,9, 0.5061, -999.0,9
740H20210202,SR1b_A23, 37,1,14,9015,2,20210217,0440,-55.22848, -34.48946,1026,  53.1, 3.4992, 3.5049, 2.0000,33.7364,2,-999.0000,9, 329.5,2,-999.0,9, -999.00,9, -999.00,9, -999.00,9,-999.0000,9,-999.0000,9, 0.4922, -999.0,9
740H20210202,SR1b_A23, 37,1,15,9016,2,20210217,0440,-55.22848, -34.48945,1026,  53.4, 3.5028, 3.5085, 2.0000,33.7349,2,-999.0000,9, 329.8,2,-999.0,9, -999.00,9, -999.00,9, -999.00,9,-999.0000,9,-999.0000,9, 0.5029, -999.0,9
740H20210202,SR1b_A23, 37,1,16,9017,2,20210217,0443,-55.22848, -34.48946,1026,  22.9, 3.6457, 3.6501, 2.0000,33.6805,2,-999.0000,9, 335.0,2,-999.0,9, -999.00,9, -999.00,9, -999.00,9,-999.0000,9,-999.0000,9, 0.7468, -999.0,9
740H20210202,SR1b_A23, 37,1,17,9018,2,20210217,0444,-55.22848, -34.48944,1026,  23.0, 3.6366, 3.6307, 2.0000,33.6820,2,-999.0000,9, 335.2,2,-999.0,9, -999.00,9, -999.00,9, -999.00,9,-999.0000,9,-999.0000,9, 0.7075, -999.0,9
740H20210202,SR1b_A23, 37,1,18,9019,2,20210217,0445,-55.22848, -34.48946,1026,  23.0, 3.6269, 3.6259, 2.0000,33.6792,2,33.6799,2, 335.7,2, 335.6,2, -999.00,1, -999.00,1, -999.00,1,-999.0000,1,-999.0000,1, 0.6926, -999.0,9
740H20210202,SR1b_A23, 37,1,19,9020,2,20210217,0447,-55.22848, -34.48946,1026,   7.5, 3.6094, 3.6058, 2.0000,33.6722,2,33.6724,2, 335.6,2,-999.0,9, -999.00,1, -999.00,1, -999.00,1,-999.0000,1,-999.0000,1, 0.8021, -999.0,9
740H20210202,SR1b_A23, 37,1,20,9021,2,20210217,0448,-55.22848, -34.48946,1026,   7.6, 3.6125, 3.6133, 2.0000,33.6720,2,-999.0000,9, 335.9,2,-999.0,9, -999.00,9, -999.00,9, -999.00,9,-999.0000,9,-999.0000,9, 0.7382, -999.0,9
740H20210202,SR1b_A23, 37,1,21,9022,2,20210217,0449,-55.22848, -34.48946,1026,   7.7, 3.5990, 3.6083, 2.0000,33.6705,2,-999.0000,9, 335.9,2,-999.0,9, -999.00,9, -999.00,9, -999.00,9,-999.0000,9,-999.0000,9, 0.7372, -999.0,9
740H20210202,SR1b_A23, 38,1, 1,9002,2,20210217,0647,-55.25934, -34.44306,1514,1520.4, 1.1927, 1.1905, 2.0000,34.7065,2,34.7065,2, 198.9,2, 199.7,2, -999.00,9, -999.00,9, -999.00,9,-999.0000,9,-999.0000,9, 0.0007, -999.0,9
740H20210202,SR1b_A23, 38,1, 2,9003,2,20210217,0647,-55.25932, -34.44306,1514,1520.5, 1.1902, 1.1834, 2.0000,34.7065,2,-999.0000,9, 198.7,2,-999.0,9, -999.00,9, -999.00,9, -999.00,9,-999.0000,9,-999.0000,9, 0.0078, -999.0,9
740H20210202,SR1b_A23, 38,1, 3,8149,2,20210217,0655,-55.25914, -34.44320,1514,1267.0, 1.5974, 1.5866, 2.0000,34.7109,2,34.7106,2, 188.5,2, 188.3,2, -999.00,9, -999.00,9, -999.00,9,-999.0000,9,-999.0000,9, 0.0128, -999.0,9
740H20210202,SR1b_A23, 38,1, 4,9005,2,20210217,0655,-55.25910, -34.44324,1514,1267.0, 1.5975, 1.6003, 2.0000,34.7108,2,-999.0000,9, 188.4,2,-999.0,9, -999.00,9, -999.00,9, -999.00,9,-999.0000,9,-999.0000,9, 0.0120, -999.0,9
740H20210202,SR1b_A23, 38,1, 5,9006,2,20210217,0707,-55.25850, -34.44368,1514, 709.4, 2.0244, 2.0247, 2.0000,34.6680,2,34.6672,2, 177.0,2, 176.3,2, -999.00,9, -999.00,9, -999.00,9,-999.0000,9,-999.0000,9, 0.0159, -999.0,9
740H20210202,SR1b_A23, 38,1, 6,9007,2,20210217,0708,-55.25846, -34.44372,1514, 709.4, 2.0241, 2.0255, 2.0000,34.6679,2,-999.0000,9, 176.9,2,-999.0,9, -999.00,9, -999.00,9, -999.00,9,-999.0000,9,-999.0000,9, 0.0206, -999.0,9
740H20210202,SR1b_A23, 38,1, 7,9008,2,20210217,0716,-55.25806, -34.44400,1514, 405.8, 2.1582, 2.1571, 2.0000,34.5201,2,-999.0000,9, 180.9,2, 179.5,2, -999.00,1, -999.00,1, -999.00,1,-999.0000,9,-999.0000,1, 0.0111, -999.0,9
740H20210202,SR1b_A23, 38,1, 8,9009,2,20210217,0716,-55.25804, -34.44404,1514, 405.9, 2.1578, 2.1572, 2.0000,34.5196,2,-999.0000,9, 180.7,2,-999.0,9, -999.00,9, -999.00,9, -999.00,9,-999.0000,9,-999.0000,9, 0.0123, -999.0,9
740H20210202,SR1b_A23, 38,1,13,9014,2,20210217,0722,-55.25772, -34.44426,1514, 204.1, 1.0374, 1.0357, 2.0000,34.1500,2,-999.0000,9, 265.1,2,-999.0,9, -999.00,1, -999.00,1, -999.00,1,-999.0000,9,-999.0000,1, 0.0211, -999.0,9
740H20210202,SR1b_A23, 38,1,14,9015,2,20210217,0723,-55.25768, -34.44430,1514, 204.0, 1.0369, 1.0510, 2.0000,34.1493,2,-999.0000,9, 265.1,2,-999.0,9, -999.00,9, -999.00,9, -999.00,9,-999.0000,9,-999.0000,9, 0.0181, -999.0,9
740H20210202,SR1b_A23, 38,1,15,9016,2,20210217,0726,-55.25754, -34.44440,1514, 153.6, 0.5305, 0.5643, 2.0000,33.9822,2,34.0038,2, 311.9,2, 304.7,3, -999.00,9, -999.00,9, -999.00,9,-999.0000,9,-999.0000,9, 0.0393, -999.0,9
740H20210202,SR1b_A23, 38,1,16,9017,2,20210217,0727,-55.25750, -34.44444,1514, 153.6, 0.5444, 0.5630, 2.0000,33.9881,2,-999.0000,9, 310.2,2,-999.0,9, -999.00,9, -999.00,9, -999.00,9,-999.0000,9,-999.0000,9, 0.0449, -999.0,9
740H20210202,SR1b_A23, 38,1,17,9018,2,20210217,0730,-55.25732, -34.44456,1514, 103.5, 1.0432, 1.0456, 2.0000,33.8741,2,-999.0000,9, 318.8,2,-999.0,9, -999.00,1, -999.00,1, -999.00,1,-999.0000,9,-999.0000,1, 0.0768, -999.0,9
740H20210202,SR1b_A23, 38,1,18,9019,2,20210217,0731,-55.25730, -34.44458,1514, 103.6, 1.0366, 1.0350, 2.0000,33.8768,2,-999.0000,9, 319.2,2,-999.0,9, -999.00,9, -999.00,9, -999.00,9,-999.0000,9,-999.0000,9, 0.0584, -999.0,9
740H20210202,SR1b_A23, 38,1,19,9020,2,20210217,0740,-55.25684, -34.44492,1514,  12.4, 3.3684, 3.3703, 2.0000,33.6068,2,-999.0000,9, 340.0,2,-999.0,9, -999.00,1, -999.00,1, -999.00,1,-999.0000,9,-999.0000,9, 1.1124, -999.0,9
740H20210202,SR1b_A23, 38,1,20,9021,2,20210217,0740,-55.25681, -34.44494,1514,  12.3, 3.3638, 3.3502, 2.0000,33.6066,2,33.6065,2, 339.8,2, 340.6,2, -999.00,9, -999.00,9, -999.00,9,-999.0000,9,-999.0000,1, 1.1611, -999.0,9
740H20210202,SR1b_A23, 39,1, 1,9002,2,20210217,0930,-55.28527, -34.40116,2022,2030.3, 0.6847, 0.6789, 2.0000,34.6919,2,34.6917,2, 210.1,2, 210.1,2, -999.00,9, -999.00,9, -999.00,9,-999.0000,1,-999.0000,9, 0.0052, -999.0,9
740H20210202,SR1b_A23, 39,1, 2,9003,2,20210217,0931,-55.28520, -34.40120,2022,2030.3, 0.6803, 0.6792, 2.0000,34.6918,2,-999.0000,9, 210.4,2,-999.0,9, -999.00,9, -999.00,9, -999.00,9,-999.0000,9,-999.0000,9,-0.0010, -999.0,9
740H20210202,SR1b_A23, 39,1, 3,8149,2,20210217,0942,-55.28428, -34.40168,2022,1520.1, 1.1808, 1.1817, 2.0000,34.7054,2,34.7048,2, 199.5,2,-999.0,9, -999.00,9, -999.00,9, -999.00,9,-999.0000,1,-999.0000,9, 0.0196, -999.0,9
740H20210202,SR1b_A23, 39,1, 4,9005,2,20210217,0943,-55.28422, -34.40170,2022,1520.3, 1.1810, 1.1822, 2.0000,34.7052,2,-999.0000,9, 199.5,2,-999.0,9, -999.00,9, -999.00,9, -999.00,9,-999.0000,9,-999.0000,9, 0.0100, -999.0,9
740H20210202,SR1b_A23, 39,1, 5,9006,2,20210217,0954,-55.28366, -34.40198,2022,1012.6, 1.6443, 1.6410, 2.0000,34.6829,2,34.6823,2, 189.5,2, 189.4,2, -999.00,9, -999.00,9, -999.00,9,-999.0000,1,-999.0000,9, 0.0151, -999.0,9
740H20210202,SR1b_A23, 39,1, 6,9007,2,20210217,0955,-55.28362, -34.40200,2022,1012.5, 1.6438, 1.6394, 2.0000,34.6832,2,-999.0000,9, 189.5,2,-999.0,9, -999.00,9, -999.00,9, -999.00,9,-999.0000,9,-999.0000,9, 0.0131, -999.0,9
740H20210202,SR1b_A23, 39,1, 7,9008,2,20210217,1001,-55.28326, -34.40218,2022, 758.6, 1.9970, 2.0007, 2.0000,34.6723,2,34.6712,2, 177.4,2, 177.9,2, -999.00,9, -999.00,9, -999.00,9,-999.0000,1,-999.0000,9, 0.0072, -999.0,9
740H20210202,SR1b_A23, 39,1, 8,9009,2,20210217,1002,-55.28323, -34.40220,2022, 758.6, 1.9977, 1.9992, 2.0000,34.6721,2,-999.0000,9, 177.5,2,-999.0,9, -999.00,9, -999.00,9, -999.00,9,-999.0000,9,-999.0000,9, 0.0115, -999.0,9
740H20210202,SR1b_A23, 39,1, 9,9010,2,20210217,1008,-55.28288, -34.40238,2022, 505.6, 2.1074, 2.1078, 2.0000,34.5939,2,34.5929,2, 176.7,2, 176.9,2, -999.00,9, -999.00,9, -999.00,9,-999.0000,1,-999.0000,9, 0.0191, -999.0,9
740H20210202,SR1b_A23, 39,1,10,8156,2,20210217,1009,-55.28284, -34.40240,2022, 505.5, 2.1077, 2.1082, 2.0000,34.5938,2,-999.0000,9, 176.8,2,-999.0,9, -999.00,9, -999.00,9, -999.00,9,-999.0000,9,-999.0000,9, 0.0085, -999.0,9
740H20210202,SR1b_A23, 39,1,11,9012,2,20210217,1014,-55.28258, -34.40252,2022, 353.7, 2.0392, 2.0391, 2.0000,34.4750,2,34.4831,2, 188.1,2,-999.0,9, -999.00,1, -999.00,1, -999.00,1,-999.0000,1,-999.0000,1, 0.0214, -999.0,9
740H20210202,SR1b_A23, 39,1,12,9013,2,20210217,1015,-55.28254, -34.40255,2022, 353.8, 2.0380, 2.0352, 2.0000,34.4742,2,-999.0000,9, 187.9,2,-999.0,9, -999.00,9, -999.00,9, -999.00,9,-999.0000,9,-999.0000,9, 0.0158, -999.0,9
740H20210202,SR1b_A23, 39,1,13,9014,2,20210217,1019,-55.28232, -34.40266,2022, 227.9, 1.5452, 1.5402, 2.0000,34.2821,2,34.2879,2, 231.6,2,-999.0,9, -999.00,1, -999.00,1, -999.00,1,-999.0000,1,-999.0000,1, 0.0174, -999.0,9
740H20210202,SR1b_A23, 39,1,14,9015,2,20210217,1020,-55.28228, -34.40268,2022, 227.8, 1.5459, 1.5418, 2.0000,34.2823,2,-999.0000,9, 231.5,2,-999.0,9, -999.00,9, -999.00,9, -999.00,9,-999.0000,9,-999.0000,9, 0.0171, -999.0,9
740H20210202,SR1b_A23, 39,1,15,9016,2,20210217,1023,-55.28210, -34.40276,2022, 151.8, 0.6120, 0.6117, 2.0000,33.9981,2,34.0125,2, 305.4,2,-999.0,9, -999.00,9, -999.00,9, -999.00,9,-999.0000,1,-999.0000,9, 0.0153, -999.0,9
740H20210202,SR1b_A23, 39,1,16,9017,2,20210217,1024,-55.28206, -34.40280,2022, 151.9, 0.6122, 0.6122, 2.0000,33.9982,2,-999.0000,9, 305.5,2,-999.0,9, -999.00,9, -999.00,9, -999.00,9,-999.0000,9,-999.0000,9, 0.0251, -999.0,9
740H20210202,SR1b_A23, 39,1,17,9018,2,20210217,1027,-55.28192, -34.40286,2022, 102.3, 1.1555, 1.1608, 2.0000,33.8460,2,33.8475,2, 321.0,2,-999.0,9, -999.00,1, -999.00,1, -999.00,1,-999.0000,1,-999.0000,1, 0.1062, -999.0,9
740H20210202,SR1b_A23, 39,1,18,9019,2,20210217,1027,-55.28188, -34.40288,2022, 102.4, 1.1606, 1.1612, 2.0000,33.8453,2,-999.0000,9, 320.8,2,-999.0,9, -999.00,9, -999.00,9, -999.00,9,-999.0000,9,-999.0000,9, 0.0872, -999.0,9
740H20210202,SR1b_A23, 39,1,19,9020,2,20210217,1033,-55.28158, -34.40304,2022,  52.0, 2.2200, 2.2219, 2.0000,33.6649,2,33.6662,2, 331.5,2, 331.9,2, -999.00,9, -999.00,9, -999.00,9,-999.0000,1,-999.0000,9, 0.6469, -999.0,9
740H20210202,SR1b_A23, 39,1,20,9021,2,20210217,1034,-55.28152, -34.40306,2022,  52.1, 2.2199, 2.2223, 2.0000,33.6656,2,-999.0000,9, 331.5,2,-999.0,9, -999.00,9, -999.00,9, -999.00,9,-999.0000,9,-999.0000,9, 0.6079, -999.0,9
740H20210202,SR1b_A23, 39,1,21,9022,2,20210217,1038,-55.28132, -34.40316,2022,  21.7, 2.4562, 2.4288, 2.0000,33.4839,2,33.4829,2, 344.9,2,-999.0,9, -999.00,1, -999.00,1, -999.00,1,-999.0000,1,-999.0000,1, 1.5195, -999.0,9
740H20210202,SR1b_A23, 39,1,22,9023,2,20210217,1038,-55.28130, -34.40316,2022,  21.9, 2.4404, 2.4405, 2.0000,33.4814,2,-999.0000,9, 344.8,2,-999.0,9, -999.00,9, -999.00,9, -999.00,9,-999.0000,9,-999.0000,9, 1.7045, -999.0,9
740H20210202,SR1b_A23, 39,1,23,9024,2,20210217,1041,-55.28114, -34.40326,2022,   5.8, 2.4674, 2.3993, 2.0000,33.4835,2,33.4697,2, 345.6,2, 345.7,2, -999.00,1, -999.00,1, -999.00,1,-999.0000,1,-999.0000,1, 1.0900, -999.0,9
740H20210202,SR1b_A23, 39,1,24,9025,2,20210217,1042,-55.28112, -34.40328,2022,   5.9, 2.4619, 2.4444, 2.0000,33.4790,2,-999.0000,9, 345.8,2,-999.0,9, -999.00,9, -999.00,9, -999.00,9,-999.0000,9,-999.0000,9, 1.0343, -999.0,9
740H20210202,SR1b_A23, 40,1, 1,9002,2,20210217,1437,-55.48954, -34.10742,2574,2596.7, 0.5403, 0.5490, 2.0000,34.6850,2,34.6850,2, 214.3,2, 212.5,4, -999.00,9, -999.00,9, -999.00,9,-999.0000,1,-999.0000,9, 0.0161, -999.0,9
740H20210202,SR1b_A23, 40,1, 2,9003,2,20210217,1438,-55.48950, -34.10730,2574,2596.8, 0.5500, 0.5673, 2.0000,34.6854,2,-999.0000,9, 214.1,2,-999.0,9, -999.00,9, -999.00,9, -999.00,9,-999.0000,9,-999.0000,9, 0.0104, -999.0,9
740H20210202,SR1b_A23, 40,1, 3,8149,2,20210217,1450,-55.48930, -34.10682,2574,2029.8, 0.7514, 0.7478, 2.0000,34.6947,2,34.6943,2, 209.3,2, 206.9,4, -999.00,9, -999.00,9, -999.00,9,-999.0000,1,-999.0000,9, 0.0121, -999.0,9
740H20210202,SR1b_A23, 40,1, 4,9005,2,20210217,1451,-55.48930, -34.10680,2574,2029.7, 0.7504, 0.7468, 2.0000,34.6947,2,-999.0000,9, 209.2,2,-999.0,9, -999.00,9, -999.00,9, -999.00,9,-999.0000,9,-999.0000,9, 0.0140, -999.0,9
740H20210202,SR1b_A23, 40,1, 5,9006,2,20210217,1502,-55.48912, -34.10630,2574,1520.5, 1.0581, 1.0570, 2.0000,34.7037,2,34.7030,2, 202.2,2,-999.0,9, -999.00,9, -999.00,9, -999.00,9,-999.0000,1,-999.0000,9, 0.0164, -999.0,9
740H20210202,SR1b_A23, 40,1, 6,9007,2,20210217,1503,-55.48912, -34.10628,2574,1520.5, 1.0567, 1.0575, 2.0000,34.7038,2,-999.0000,9, 202.4,2,-999.0,9, -999.00,9, -999.00,9, -999.00,9,-999.0000,9,-999.0000,9, 0.0093, -999.0,9
740H20210202,SR1b_A23, 40,1, 7,9008,2,20210217,1514,-55.48896, -34.10584,2574,1012.5, 1.3651, 1.3642, 2.0000,34.7033,2,34.7025,2, 195.2,2, 193.3,4, -999.00,9, -999.00,9, -999.00,9,-999.0000,1,-999.0000,9, 0.0170, -999.0,9
740H20210202,SR1b_A23, 40,1, 8,9009,2,20210217,1514,-55.48896, -34.10582,2574,1012.6, 1.3633, 1.3628, 2.0000,34.7031,2,-999.0000,9, 195.1,2,-999.0,9, -999.00,9, -999.00,9, -999.00,9,-999.0000,9,-999.0000,9, 0.0167, -999.0,9
740H20210202,SR1b_A23, 40,1, 9,9010,2,20210217,1525,-55.48878, -34.10536,2574, 505.2, 1.8734, 1.8731, 2.0000,34.6567,2,34.6552,2, 181.4,2, 179.9,4, -999.00,9, -999.00,9, -999.00,9,-999.0000,1,-999.0000,9, 0.0190, -999.0,9
740H20210202,SR1b_A23, 40,1,10,8156,2,20210217,1526,-55.48878, -34.10530,2574, 505.2, 1.8721, 1.8722, 2.0000,34.6572,2,-999.0000,9, 181.8,2,-999.0,9, -999.00,9, -999.00,9, -999.00,9,-999.0000,9,-999.0000,9, 0.0180, -999.0,9
740H20210202,SR1b_A23, 40,1,11,9012,2,20210217,1534,-55.48876, -34.10512,2574, 226.3, 1.1198, 1.1231, 2.0000,34.3946,2,34.3941,2, 221.5,2, 219.2,4, -999.00,9, -999.00,9, -999.00,9,-999.0000,1,-999.0000,9, 0.0201, -999.0,9
740H20210202,SR1b_A23, 40,1,12,9013,2,20210217,1536,-55.48874, -34.10510,2574, 226.5, 1.1237, 1.1242, 2.0000,34.3952,2,-999.0000,9, 221.3,2,-999.0,9, -999.00,9, -999.00,9, -999.00,9,-999.0000,9,-999.0000,9, 0.0199, -999.0,9
740H20210202,SR1b_A23, 40,1,13,9014,2,20210217,1540,-55.48846, -34.10431,2574, 150.7, 0.7526, 0.7496, 2.0000,34.2225,2,34.2194,2, 261.9,2,-999.0,9, -999.00,9, -999.00,9, -999.00,9,-999.0000,1,-999.0000,9, 0.0236, -999.0,9
740H20210202,SR1b_A23, 40,1,14,9015,2,20210217,1541,-55.48834, -34.10422,2574, 150.8, 0.7501, 0.7465, 2.0000,34.2223,2,-999.0000,9, 262.0,2,-999.0,9, -999.00,9, -999.00,9, -999.00,9,-999.0000,9,-999.0000,9, 0.0195, -999.0,9
740H20210202,SR1b_A23, 40,1,15,9016,2,20210217,1547,-55.48804, -34.10410,2574,  49.8, 2.3070, 2.3077, 2.0000,33.7822,2,33.7847,2, 331.8,2,-999.0,9, -999.00,9, -999.00,9, -999.00,9,-999.0000,1,-999.0000,9, 0.7841, -999.0,9
740H20210202,SR1b_A23, 40,1,16,9017,2,20210217,1548,-55.48802, -34.10410,2574,  49.6, 2.3091, 2.3159, 2.0000,33.7792,2,-999.0000,9, 331.9,2,-999.0,9, -999.00,9, -999.00,9, -999.00,9,-999.0000,9,-999.0000,9, 0.9838, -999.0,9
740H20210202,SR1b_A23, 40,1,17,9018,2,20210217,1551,-55.48798, -34.10406,2574,  19.4, 2.3741, 2.3750, 2.0000,33.5372,2,33.5370,2, 344.7,2,-999.0,9, -999.00,9, -999.00,9, -999.00,9,-999.0000,1,-999.0000,9, 1.5131, -999.0,9
740H20210202,SR1b_A23, 40,1,18,9019,2,20210217,1553,-55.48794, -34.10392,2574,  19.3, 2.3776, 2.3800, 2.0000,33.5404,2,-999.0000,9, 343.8,2,-999.0,9, -999.00,9, -999.00,9, -999.00,9,-999.0000,9,-999.0000,9, 1.5145, -999.0,9
740H20210202,SR1b_A23, 40,1,19,9020,2,20210217,1555,-55.48788, -34.10373,2574,   3.7, 2.2655, 2.2600, 2.0000,33.4445,2,33.4441,2, 346.2,2, 342.9,4, -999.00,9, -999.00,9, -999.00,9,-999.0000,1,-999.0000,9, 0.4376, -999.0,9
740H20210202,SR1b_A23, 40,1,20,9021,2,20210217,1556,-55.48784, -34.10362,2574,   3.4, 2.2747, 2.2651, 2.0000,33.4458,2,-999.0000,9, 346.6,2,-999.0,9, -999.00,9, -999.00,9, -999.00,9,-999.0000,9,-999.0000,9, 0.4508, -999.0,9