BOTTLE,20215913JOAExport
EXPOCODE,SECT_ID,STNNBR,CASTNO,SAMPNO,BTLNBR,BTLNBR_FLAG_W,DATE,TIME,LATITUDE,LONGITUDE,DEPTH,CTDPRS,CTDTMP,CTDSAL,CTDSAL_FLAG_W,SALNTY,SALNTY_FLAG_W,CTDOXY,CTDOXY_FLAG_W,OXYGEN,OXYGEN_FLAG_W,SILCAT,SILCAT_FLAG_W,NITRAT,NITRAT_FLAG_W,NITRIT,NITRIT_FLAG_W,PHSPHT,PHSPHT_FLAG_W,CFC-11,CFC-11_FLAG_W,CFC-12,CFC-12_FLAG_W,SF6,SF6_FLAG_W,TCARBN,TCARBN_FLAG_W,ALKALI,ALKALI_FLAG_W
,,,,,,,,,,,,DB,DEG C,PSS-78,,PSS-78,,UMOL/KG,,UMOL/KG,,UMOL/KG,,UMOL/KG,,UMOL/KG,,UMOL/KG,,PMOL/KG,,PMOL/KG,,FMOL/KG,,UMOL/KG,,UMOL/KG
           NA,   AR04W,     68,   1,-999.0,      13,  2,19940302,1738,   4.2137,  -44.0418,  5611,   14.800,   27.093,   36.071,2,   36.072,2, -999.000,9,  201.000,2, -999.000,9, -999.000,9, -999.000,9, -999.000,9, -999.000,9, -999.000,9, -999.000,9, -999.000,9, -999.000,9
           NA,   AR04W,     68,   1,-999.0,      10,  2,19940302,1738,   4.2137,  -44.0418,  5611, 1198.900,    4.791,   34.915,2,   34.917,2, -999.000,9,  196.400,2, -999.000,9, -999.000,9, -999.000,9, -999.000,9,    0.059,2,    0.036,2, -999.000,9, -999.000,9, -999.000,9
           NA,   AR04W,     68,   1,-999.0,       7,  2,19940302,1738,   4.2137,  -44.0418,  5611, 1598.100,    4.030,   34.987,2,   34.987,2, -999.000,9,  249.500,2, -999.000,9, -999.000,9, -999.000,9, -999.000,9,    0.109,2,    0.062,2, -999.000,9, -999.000,9, -999.000,9
           NA,   AR04W,     68,   1,-999.0,       4,  2,19940302,1738,   4.2137,  -44.0418,  5611, 1899.100,    3.659,   34.976,2,   34.978,2, -999.000,9,  255.800,2, -999.000,9, -999.000,9, -999.000,9, -999.000,9,    0.058,2,    0.033,2, -999.000,9, -999.000,9, -999.000,9
           NA,   AR04W,     68,   1,-999.0,       1,  2,19940302,1738,   4.2137,  -44.0418,  5611, 2201.700,    3.331,   34.964,2,   34.967,2, -999.000,9,  262.400,2, -999.000,9, -999.000,9, -999.000,9, -999.000,9,    0.068,2,    0.041,2, -999.000,9, -999.000,9, -999.000,9
           NA,   AR04W,     67,   1,-999.0,      12,  2,19940302,1259,   4.7037,  -44.0037,  3236,  697.700,    5.393,   34.583,2,   34.584,2, -999.000,9,  129.900,2, -999.000,9, -999.000,9, -999.000,9, -999.000,9,    0.024,2,    0.016,2, -999.000,9, -999.000,9, -999.000,9
           NA,   AR04W,     67,   1,-999.0,      11,  2,19940302,1259,   4.7037,  -44.0037,  3236,  898.000,    4.676,   34.647,2, -999.000,9, -999.000,9,  153.300,2, -999.000,9, -999.000,9, -999.000,9, -999.000,9,    0.015,2,    0.009,2, -999.000,9, -999.000,9, -999.000,9
           NA,   AR04W,     67,   1,-999.0,       9,  2,19940302,1259,   4.7037,  -44.0037,  3236, 1298.800,    4.677,   34.968,2, -999.000,9, -999.000,9,  216.700,2, -999.000,9, -999.000,9, -999.000,9, -999.000,9,    0.109,2,    0.058,2, -999.000,9, -999.000,9, -999.000,9
           NA,   AR04W,     67,   1,-999.0,       7,  2,19940302,1259,   4.7037,  -44.0037,  3236, 1599.700,    4.117,   34.992,2, -999.000,9, -999.000,9,  249.500,2, -999.000,9, -999.000,9, -999.000,9, -999.000,9,    0.169,2,    0.092,2, -999.000,9, -999.000,9, -999.000,9
           NA,   AR04W,     67,   1,-999.0,       4,  2,19940302,1259,   4.7037,  -44.0037,  3236, 1899.200,    3.708,   34.979,2, -999.000,9, -999.000,9,  256.100,2, -999.000,9, -999.000,9, -999.000,9, -999.000,9,    0.082,2,    0.045,2, -999.000,9, -999.000,9, -999.000,9
           NA,   AR04W,     67,   1,-999.0,       2,  2,19940302,1259,   4.7037,  -44.0037,  3236, 2203.500,    3.389,   34.967,2,   34.969,2, -999.000,9,  261.000,2, -999.000,9, -999.000,9, -999.000,9, -999.000,9,    0.077,2,    0.046,2, -999.000,9, -999.000,9, -999.000,9
           NA,   AR04W,     66,   1,-999.0,      16,  2,19940302,0815,   5.2563,  -44.0255,  3326,    9.900,   26.861,   36.110,2,   36.111,2, -999.000,9,  203.300,2, -999.000,9, -999.000,9, -999.000,9, -999.000,9, -999.000,9, -999.000,9, -999.000,9, -999.000,9, -999.000,9
           NA,   AR04W,     66,   1,-999.0,      14,  2,19940302,0815,   5.2563,  -44.0255,  3326,  500.200,    7.321,   34.683,2, -999.000,9, -999.000,9,  108.100,2, -999.000,9, -999.000,9, -999.000,9, -999.000,9, -999.000,9, -999.000,9, -999.000,9, -999.000,9, -999.000,9
           NA,   AR04W,     66,   1,-999.0,      12,  2,19940302,0815,   5.2563,  -44.0255,  3326,  799.200,    5.230,   34.580,2,   34.581,2, -999.000,9,  131.900,2, -999.000,9, -999.000,9, -999.000,9, -999.000,9, -999.000,9, -999.000,9, -999.000,9, -999.000,9, -999.000,9
           NA,   AR04W,     66,   1,-999.0,       8,  2,19940302,0815,   5.2563,  -44.0255,  3326, 1497.400,    4.444,   34.982,2,   34.982,2, -999.000,9,  230.700,2, -999.000,9, -999.000,9, -999.000,9, -999.000,9, -999.000,9, -999.000,9, -999.000,9, -999.000,9, -999.000,9
           NA,   AR04W,     66,   1,-999.0,       1,  2,19940302,0815,   5.2563,  -44.0255,  3326, 2201.200,    3.353,   34.962,2,   34.965,2, -999.000,9,  259.300,2, -999.000,9, -999.000,9, -999.000,9, -999.000,9, -999.000,9, -999.000,9, -999.000,9, -999.000,9, -999.000,9
           NA,   AR04W,     65,   1,-999.0,      20,  2,19940302,0258,   5.8045,  -44.0037,  4142,   13.700,   26.789,   36.184,2,   36.183,2, -999.000,9,  204.900,2, -999.000,9, -999.000,9, -999.000,9, -999.000,9, -999.000,9, -999.000,9, -999.000,9, -999.000,9, -999.000,9
           NA,   AR04W,     65,   1,-999.0,      19,  2,19940302,0258,   5.8045,  -44.0037,  4142,  702.100,    5.665,   34.572,2,   34.573,2, -999.000,9,  128.200,2, -999.000,9, -999.000,9, -999.000,9, -999.000,9,    0.049,2,    0.026,2, -999.000,9, -999.000,9, -999.000,9
           NA,   AR04W,     65,   1,-999.0,      10,  2,19940302,0258,   5.8045,  -44.0037,  4142, 2198.100,    3.453,   34.972,2,   34.971,2, -999.000,9,  259.600,2, -999.000,9, -999.000,9, -999.000,9, -999.000,9,    0.064,2,    0.034,2, -999.000,9, -999.000,9, -999.000,9
           NA,   AR04W,     65,   1,-999.0,       5,  2,19940302,0258,   5.8045,  -44.0037,  4142, 3403.900,    2.549,   34.913,2, -999.000,9, -999.000,9,  260.000,2, -999.000,9, -999.000,9, -999.000,9, -999.000,9,    0.039,2,    0.027,2, -999.000,9, -999.000,9, -999.000,9
           NA,   AR04W,     64,   1,-999.0,      13,  2,19940301,2245,   6.0940,  -44.0008,  4230, 2801.800,    2.930,   34.941,2, -999.000,9, -999.000,9,  259.900,2, -999.000,9, -999.000,9, -999.000,9, -999.000,9,    0.032,2,    0.017,2, -999.000,9, -999.000,9, -999.000,9
           NA,   AR04W,     64,   1,-999.0,      11,  2,19940301,2245,   6.0940,  -44.0008,  4230, 3003.600,    2.790,   34.932,2,   34.933,2, -999.000,9,  260.600,2, -999.000,9, -999.000,9, -999.000,9, -999.000,9,    0.038,2,    0.022,2, -999.000,9, -999.000,9, -999.000,9
           NA,   AR04W,     64,   1,-999.0,       9,  2,19940301,2245,   6.0940,  -44.0008,  4230, 3205.000,    2.686,   34.925,2, -999.000,9, -999.000,9,  263.000,2, -999.000,9, -999.000,9, -999.000,9, -999.000,9,    0.048,2,    0.033,2, -999.000,9, -999.000,9, -999.000,9
           NA,   AR04W,     64,   1,-999.0,       7,  2,19940301,2245,   6.0940,  -44.0008,  4230, 3404.300,    2.539,   34.913,2,   34.914,2, -999.000,9,  259.700,2, -999.000,9, -999.000,9, -999.000,9, -999.000,9,    0.043,2,    0.028,2, -999.000,9, -999.000,9, -999.000,9
           NA,   AR04W,     64,   1,-999.0,       5,  2,19940301,2245,   6.0940,  -44.0008,  4230, 3703.800,    2.344,   34.901,2,   34.901,2, -999.000,9,  266.000,2, -999.000,9, -999.000,9, -999.000,9, -999.000,9,    0.102,2,    0.059,2, -999.000,9, -999.000,9, -999.000,9
           NA,   AR04W,     64,   1,-999.0,       3,  2,19940301,2245,   6.0940,  -44.0008,  4230, 3903.700,    2.252,   34.893,2, -999.000,9, -999.000,9,  268.300,2, -999.000,9, -999.000,9, -999.000,9, -999.000,9,    0.114,2,    0.068,2, -999.000,9, -999.000,9, -999.000,9
           NA,   AR04W,     64,   1,-999.0,       1,  2,19940301,2245,   6.0940,  -44.0008,  4230, 4155.600,    2.201,   34.885,2,   34.885,2, -999.000,9,  264.000,2, -999.000,9, -999.000,9, -999.000,9, -999.000,9,    0.097,2,    0.062,2, -999.000,9, -999.000,9, -999.000,9
           NA,   AR04W,     63,   1,-999.0,      21,  2,19940301,1809,   6.3653,  -44.0012,  4546,    7.900,   26.859,   36.313,2,   36.313,2, -999.000,9,  204.000,2, -999.000,9, -999.000,9, -999.000,9, -999.000,9, -999.000,9, -999.000,9, -999.000,9, -999.000,9, -999.000,9
           NA,   AR04W,     63,   1,-999.0,      17,  2,19940301,1809,   6.3653,  -44.0012,  4546, 2800.400,    2.934,   34.943,2,   34.942,2, -999.000,9,  261.600,2, -999.000,9, -999.000,9, -999.000,9, -999.000,9,    0.037,2,    0.026,2, -999.000,9, -999.000,9, -999.000,9
           NA,   AR04W,     63,   1,-999.0,      15,  2,19940301,1809,   6.3653,  -44.0012,  4546, 3203.100,    2.711,   34.926,2,   34.925,2, -999.000,9,  261.400,2, -999.000,9, -999.000,9, -999.000,9, -999.000,9,    0.050,2,    0.029,2, -999.000,9, -999.000,9, -999.000,9
           NA,   AR04W,     63,   1,-999.0,      11,  2,19940301,1809,   6.3653,  -44.0012,  4546, 3804.100,    2.294,   34.897,2,   34.897,2, -999.000,9,  266.600,2, -999.000,9, -999.000,9, -999.000,9, -999.000,9, -999.000,9, -999.000,9, -999.000,9, -999.000,9, -999.000,9
           NA,   AR04W,     63,   1,-999.0,       7,  2,19940301,1809,   6.3653,  -44.0012,  4546, 4205.500,    2.193,   34.883,2,   34.885,2, -999.000,9,  262.900,2, -999.000,9, -999.000,9, -999.000,9, -999.000,9,    0.102,2,    0.061,2, -999.000,9, -999.000,9, -999.000,9
           NA,   AR04W,     63,   1,-999.0,       1,  2,19940301,1809,   6.3653,  -44.0012,  4546, 4458.300,    2.162,   34.875,2,   34.877,2, -999.000,9,  260.700,2, -999.000,9, -999.000,9, -999.000,9, -999.000,9,    0.080,2,    0.053,2, -999.000,9, -999.000,9, -999.000,9
           NA,   AR04W,     62,   1,-999.0,      21,  2,19940301,1324,   6.6527,  -44.0373,  4657,   10.000,   26.834,   36.337,2,   36.336,2, -999.000,9,  201.000,2, -999.000,9, -999.000,9, -999.000,9, -999.000,9, -999.000,9, -999.000,9, -999.000,9, -999.000,9, -999.000,9
           NA,   AR04W,     62,   1,-999.0,      19,  2,19940301,1324,   6.6527,  -44.0373,  4657,  798.500,    5.136,   34.548,2,   34.550,2, -999.000,9,  141.300,2, -999.000,9, -999.000,9, -999.000,9, -999.000,9,    0.050,2,    0.031,2, -999.000,9, -999.000,9, -999.000,9
           NA,   AR04W,     62,   1,-999.0,      18,  2,19940301,1324,   6.6527,  -44.0373,  4657,  998.000,    4.812,   34.645,2,   34.645,2, -999.000,9,  150.200,2, -999.000,9, -999.000,9, -999.000,9, -999.000,9,    0.014,2,    0.009,2, -999.000,9, -999.000,9, -999.000,9
           NA,   AR04W,     62,   1,-999.0,      15,  2,19940301,1324,   6.6527,  -44.0373,  4657, 1499.200,    4.393,   34.978,2,   34.978,2, -999.000,9,  229.800,2, -999.000,9, -999.000,9, -999.000,9, -999.000,9,    0.070,2,    0.040,2, -999.000,9, -999.000,9, -999.000,9
           NA,   AR04W,     62,   1,-999.0,       9,  2,19940301,1324,   6.6527,  -44.0373,  4657, 2801.100,    2.950,   34.944,2,   34.941,2, -999.000,9,  261.500,2, -999.000,9, -999.000,9, -999.000,9, -999.000,9,    0.039,2,    0.025,2, -999.000,9, -999.000,9, -999.000,9
           NA,   AR04W,     62,   1,-999.0,       7,  2,19940301,1324,   6.6527,  -44.0373,  4657, 3604.500,    2.445,   34.908,2, -999.000,9, -999.000,9,  263.200,2, -999.000,9, -999.000,9, -999.000,9, -999.000,9,    0.074,2,    0.040,2, -999.000,9, -999.000,9, -999.000,9
           NA,   AR04W,     62,   1,-999.0,       4,  2,19940301,1324,   6.6527,  -44.0373,  4657, 4004.200,    2.275,   34.894,2,   34.895,2, -999.000,9,  265.900,2, -999.000,9, -999.000,9, -999.000,9, -999.000,9,    0.112,2,    0.062,2, -999.000,9, -999.000,9, -999.000,9
           NA,   AR04W,     62,   1,-999.0,       2,  2,19940301,1324,   6.6527,  -44.0373,  4657, 4556.900,    1.862,   34.838,2,   34.839,2, -999.000,9,  256.400,2, -999.000,9, -999.000,9, -999.000,9, -999.000,9,    0.046,2,    0.025,2, -999.000,9, -999.000,9, -999.000,9
           NA,   AR04W,     61,   1,-999.0,      15,  2,19940301,0704,   7.2505,  -44.0007,  4689, 3201.200,    2.719,   34.925,2,   34.926,2, -999.000,9,  259.700,2, -999.000,9, -999.000,9, -999.000,9, -999.000,9,    0.044,2,    0.046,2, -999.000,9, -999.000,9, -999.000,9
           NA,   AR04W,     61,   1,-999.0,      13,  2,19940301,0704,   7.2505,  -44.0007,  4689, 3604.100,    2.437,   34.907,2,   34.907,2, -999.000,9,  263.000,2, -999.000,9, -999.000,9, -999.000,9, -999.000,9,    0.073,2,    0.040,2, -999.000,9, -999.000,9, -999.000,9
           NA,   AR04W,     61,   1,-999.0,      11,  2,19940301,0704,   7.2505,  -44.0007,  4689, 3804.400,    2.353,   34.901,2,   34.902,2, -999.000,9,  264.800,2, -999.000,9, -999.000,9, -999.000,9, -999.000,9,    0.079,2,    0.048,2, -999.000,9, -999.000,9, -999.000,9
           NA,   AR04W,     61,   1,-999.0,       9,  2,19940301,0704,   7.2505,  -44.0007,  4689, 4004.400,    2.286,   34.893,2,   34.894,2, -999.000,9,  264.000,2, -999.000,9, -999.000,9, -999.000,9, -999.000,9,    0.062,2,    0.037,2, -999.000,9, -999.000,9, -999.000,9
           NA,   AR04W,     61,   1,-999.0,       7,  2,19940301,0704,   7.2505,  -44.0007,  4689, 4305.400,    2.119,   34.870,2,   34.872,2, -999.000,9,  258.700,2, -999.000,9, -999.000,9, -999.000,9, -999.000,9,    0.051,2,    0.028,2, -999.000,9, -999.000,9, -999.000,9
           NA,   AR04W,     60,   1,-999.0,      21,  2,19940228,2105,   7.7538,  -43.9995,  4755,    9.600,   26.899,   36.314,2,   36.314,2, -999.000,9,  200.100,2, -999.000,9, -999.000,9, -999.000,9, -999.000,9, -999.000,9, -999.000,9, -999.000,9, -999.000,9, -999.000,9
           NA,   AR04W,     60,   1,-999.0,      20,  2,19940228,2105,   7.7538,  -43.9995,  4755,  598.100,    6.944,   34.684,2,   34.684,2, -999.000,9,  118.700,2, -999.000,9, -999.000,9, -999.000,9, -999.000,9,    0.142,2,    0.076,2, -999.000,9, -999.000,9, -999.000,9
           NA,   AR04W,     60,   1,-999.0,      18,  2,19940228,2105,   7.7538,  -43.9995,  4755,  997.400,    5.046,   34.717,2, -999.000,9, -999.000,9,  143.900,2, -999.000,9, -999.000,9, -999.000,9, -999.000,9,    0.009,2,    0.002,2, -999.000,9, -999.000,9, -999.000,9
           NA,   AR04W,     60,   1,-999.0,       7,  2,19940228,2105,   7.7538,  -43.9995,  4755, 3603.900,    2.445,   34.907,2,   34.910,2, -999.000,9,  263.300,2, -999.000,9, -999.000,9, -999.000,9, -999.000,9,    0.072,2,    0.038,2, -999.000,9, -999.000,9, -999.000,9
           NA,   AR04W,     60,   1,-999.0,       4,  2,19940228,2105,   7.7538,  -43.9995,  4755, 4205.100,    2.180,   34.880,2, -999.000,9, -999.000,9,  254.200,2, -999.000,9, -999.000,9, -999.000,9, -999.000,9,    0.073,2,    0.039,2, -999.000,9, -999.000,9, -999.000,9
           NA,   AR04W,     59,   1,-999.0,      21,  2,19940228,1436,   8.2513,  -43.9953,  4785,   11.100,   26.896,   36.273,2,   36.272,2, -999.000,9,  201.500,2, -999.000,9, -999.000,9, -999.000,9, -999.000,9, -999.000,9, -999.000,9, -999.000,9, -999.000,9, -999.000,9
           NA,   AR04W,     59,   1,-999.0,      17,  2,19940228,1436,   8.2513,  -43.9953,  4785, 3204.900,    2.661,   34.924,2,   34.924,2, -999.000,9,  261.400,2, -999.000,9, -999.000,9, -999.000,9, -999.000,9, -999.000,9, -999.000,9, -999.000,9, -999.000,9, -999.000,9
           NA,   AR04W,     59,   1,-999.0,      15,  2,19940228,1436,   8.2513,  -43.9953,  4785, 3605.000,    2.459,   34.908,2, -999.000,9, -999.000,9,  259.000,2, -999.000,9, -999.000,9, -999.000,9, -999.000,9,    0.090,2,    0.056,2, -999.000,9, -999.000,9, -999.000,9
           NA,   AR04W,     59,   1,-999.0,      11,  2,19940228,1436,   8.2513,  -43.9953,  4785, 4006.000,    2.272,   34.891,2, -999.000,9, -999.000,9,  259.600,2, -999.000,9, -999.000,9, -999.000,9, -999.000,9,    0.080,2,    0.049,2, -999.000,9, -999.000,9, -999.000,9
           NA,   AR04W,     59,   1,-999.0,       9,  2,19940228,1436,   8.2513,  -43.9953,  4785, 4206.500,    2.139,   34.875,2,   34.876,2, -999.000,9,  261.900,2, -999.000,9, -999.000,9, -999.000,9, -999.000,9,    0.052,2,    0.037,2, -999.000,9, -999.000,9, -999.000,9
           NA,    AR15,     58,   1,-999.0,      20,  2,19940228,0658,   8.7187,  -43.4633,  4844,  598.500,    6.955,   34.702,2,   34.702,2, -999.000,9,  106.400,2, -999.000,9, -999.000,9, -999.000,9, -999.000,9,    0.098,2,    0.059,2, -999.000,9, -999.000,9, -999.000,9
           NA,    AR15,     58,   1,-999.0,      14,  2,19940228,0658,   8.7187,  -43.4633,  4844, 1699.500,    3.952,   34.980,2,   34.980,2, -999.000,9,  245.300,2, -999.000,9, -999.000,9, -999.000,9, -999.000,9,    0.050,2,    0.051,2, -999.000,9, -999.000,9, -999.000,9
           NA,    AR15,     58,   1,-999.0,       7,  2,19940228,0658,   8.7187,  -43.4633,  4844, 3605.600,    2.370,   34.898,2, -999.000,9, -999.000,9,  259.000,2, -999.000,9, -999.000,9, -999.000,9, -999.000,9,    0.042,2,    0.028,2, -999.000,9, -999.000,9, -999.000,9
           NA,    AR15,     58,   1,-999.0,       5,  2,19940228,0658,   8.7187,  -43.4633,  4844, 4005.900,    2.142,   34.877,2, -999.000,9, -999.000,9,  259.600,2, -999.000,9, -999.000,9, -999.000,9, -999.000,9,    0.060,2,    0.039,2, -999.000,9, -999.000,9, -999.000,9
           NA,    AR15,     58,   1,-999.0,       4,  2,19940228,0658,   8.7187,  -43.4633,  4844, 4207.000,    1.969,   34.854,2,   34.856,2, -999.000,9,  253.000,2, -999.000,9, -999.000,9, -999.000,9, -999.000,9,    0.054,2,    0.030,2, -999.000,9, -999.000,9, -999.000,9
           NA,    AR15,     56,   1,-999.0,      22,  2,19940227,2046,   9.1497,  -43.0082,  4866,   10.700,   26.367,   36.322,2,   36.321,2, -999.000,9,  205.000,2, -999.000,9, -999.000,9, -999.000,9, -999.000,9, -999.000,9, -999.000,9, -999.000,9, -999.000,9, -999.000,9
           NA,    AR15,     56,   1,-999.0,      18,  2,19940227,2046,   9.1497,  -43.0082,  4866,  998.400,    5.154,   34.747,2, -999.000,9, -999.000,9,  139.100,2, -999.000,9, -999.000,9, -999.000,9, -999.000,9,    0.006,2,    0.004,2, -999.000,9, -999.000,9, -999.000,9
           NA,    AR15,     56,   1,-999.0,      15,  2,19940227,2046,   9.1497,  -43.0082,  4866, 1499.100,    4.486,   34.967,2,   34.967,2, -999.000,9,  219.100,2, -999.000,9, -999.000,9, -999.000,9, -999.000,9,    0.050,2,    0.031,2, -999.000,9, -999.000,9, -999.000,9
           NA,    AR15,     56,   1,-999.0,      10,  2,19940227,2046,   9.1497,  -43.0082,  4866, 2000.000,    3.546,   34.970,2,   34.972,2, -999.000,9,  253.900,2, -999.000,9, -999.000,9, -999.000,9, -999.000,9,    0.035,2,    0.017,2, -999.000,9, -999.000,9, -999.000,9
           NA,    AR15,     54,   1,-999.0,       7,  2,19940227,1030,  10.1985,  -42.3002,  4260, 2000.400,    3.541,   34.970,2, -999.000,9, -999.000,9,  252.800,2, -999.000,9, -999.000,9, -999.000,9, -999.000,9, -999.000,9, -999.000,9, -999.000,9, -999.000,9, -999.000,9