BOTTLE,20215913JOAExport
EXPOCODE,SECT_ID,STNNBR,CASTNO,SAMPNO,BTLNBR,BTLNBR_FLAG_W,DATE,TIME,LATITUDE,LONGITUDE,DEPTH,CTDPRS,CTDTMP,CTDSAL,CTDSAL_FLAG_W,SALNTY,SALNTY_FLAG_W,CTDOXY,CTDOXY_FLAG_W,OXYGEN,OXYGEN_FLAG_W,SILCAT,SILCAT_FLAG_W,NITRAT,NITRAT_FLAG_W,NITRIT,NITRIT_FLAG_W,PHSPHT,PHSPHT_FLAG_W,CFC-11,CFC-11_FLAG_W,CFC-12,CFC-12_FLAG_W,SF6,SF6_FLAG_W,TCARBN,TCARBN_FLAG_W,ALKALI,ALKALI_FLAG_W
,,,,,,,,,,,,DB,DEG C,PSS-78,,PSS-78,,UMOL/KG,,UMOL/KG,,UMOL/KG,,UMOL/KG,,UMOL/KG,,UMOL/KG,,PMOL/KG,,PMOL/KG,,FMOL/KG,,UMOL/KG,,UMOL/KG
           NA,    AR15,     53,   1,-999.0,      20,  2,19940227,0357,  10.7817,  -41.9417,  5174,  799.400,    5.857,   34.690,2,   34.689,2, -999.000,9,  112.800,2, -999.000,9, -999.000,9, -999.000,9, -999.000,9,    0.020,2,    0.010,2, -999.000,9, -999.000,9, -999.000,9
           NA,    AR15,     53,   1,-999.0,      19,  2,19940227,0357,  10.7817,  -41.9417,  5174,  999.800,    5.211,   34.750,2,   34.749,2, -999.000,9,  144.000,2, -999.000,9, -999.000,9, -999.000,9, -999.000,9,    0.017,2,    0.014,2, -999.000,9, -999.000,9, -999.000,9
           NA,    AR15,     53,   1,-999.0,      17,  2,19940227,0357,  10.7817,  -41.9417,  5174, 1400.500,    4.483,   34.963,2, -999.000,9, -999.000,9,  213.600,2, -999.000,9, -999.000,9, -999.000,9, -999.000,9,    0.031,2,    0.023,2, -999.000,9, -999.000,9, -999.000,9
           NA,    AR15,     53,   1,-999.0,      12,  2,19940227,0357,  10.7817,  -41.9417,  5174, 2602.900,    3.019,   34.945,2,   34.944,2, -999.000,9,  253.100,2, -999.000,9, -999.000,9, -999.000,9, -999.000,9,    0.013,2, -999.000,9, -999.000,9, -999.000,9, -999.000,9
           NA,    AR15,     53,   1,-999.0,      11,  2,19940227,0357,  10.7817,  -41.9417,  5174, 3105.100,    2.684,   34.924,2,   34.922,2, -999.000,9,  251.300,2, -999.000,9, -999.000,9, -999.000,9, -999.000,9,    0.002,2,    0.000,2, -999.000,9, -999.000,9, -999.000,9
           NA,    AR15,     53,   1,-999.0,       6,  2,19940227,0357,  10.7817,  -41.9417,  5174, 4005.200,    2.358,   34.890,2,   34.889,2, -999.000,9,  250.100,2, -999.000,9, -999.000,9, -999.000,9, -999.000,9,    0.016,2,    0.010,2, -999.000,9, -999.000,9, -999.000,9
           NA,    AR15,     53,   1,-999.0,       4,  2,19940227,0357,  10.7817,  -41.9417,  5174, 4508.900,    1.819,   34.735,2, -999.000,9, -999.000,9,  247.700,2, -999.000,9, -999.000,9, -999.000,9, -999.000,9,    0.037,2,    0.021,2, -999.000,9, -999.000,9, -999.000,9
           NA,    AR15,     53,   1,-999.0,       2,  2,19940227,0357,  10.7817,  -41.9417,  5174, 4809.800,    1.770,   34.824,2,   34.823,2, -999.000,9,  245.700,2, -999.000,9, -999.000,9, -999.000,9, -999.000,9,    0.035,2,    0.019,2, -999.000,9, -999.000,9, -999.000,9
           NA,    AR15,     51,   1,-999.0,      12,  2,19940226,1845,  10.8425,  -41.9425,  5185, 4306.900,    1.930,   34.846,2,   34.848,2, -999.000,9,  253.200,2, -999.000,9, -999.000,9, -999.000,9, -999.000,9,    0.037,2,    0.026,2, -999.000,9, -999.000,9, -999.000,9
           NA,    AR15,     51,   1,-999.0,      11,  2,19940226,1845,  10.8425,  -41.9425,  5185, 4606.500,    1.782,   34.827,2,   34.826,2, -999.000,9,  255.500,2, -999.000,9, -999.000,9, -999.000,9, -999.000,9,    0.033,2,    0.020,2, -999.000,9, -999.000,9, -999.000,9