BOTTLE,20215913JOAExport
# Exported from JOA (5.5.0 Final September 29th, 2020) on 2021/04/13 08:58:57
#BOTTLE,20020111WHPSIOKJU,,,,,,,,,,,,,,,,,,,,,,,,,,,,,,,,,,,,,,
#code : jjward hyd_to_exchange.pl ,,,,,,,,,,,,,,,,,,,,,,,,,,,,,,,,,,,,,,,
#original files copied from HTML directory: 20020111,,,,,,,,,,,,,,,,,,,,,,,,,,,,,,,,,,,,,,,
#original HYD file: ar04_ehy.txt   Mon Sep 10 12:13:44 2001,,,,,,,,,,,,,,,,,,,,,,,,,,,,,,,,,,,,,,,
#original SUM file: ar04_esu.txt   Fri Jan 11 13:56:07 2002,,,,,,,,,,,,,,,,,,,,,,,,,,,,,,,,,,,,,,,
EXPOCODE,SECT_ID,STNNBR,CASTNO,SAMPNO,BTLNBR,BTLNBR_FLAG_W,DATE,TIME,LATITUDE,LONGITUDE,DEPTH,CTDPRS,CTDTMP,CTDSAL,CTDSAL_FLAG_W,SALNTY,SALNTY_FLAG_W,CTDOXY,CTDOXY_FLAG_W,OXYGEN,OXYGEN_FLAG_W,SILCAT,SILCAT_FLAG_W,NITRAT,NITRAT_FLAG_W,NITRIT,NITRIT_FLAG_W,PHSPHT,PHSPHT_FLAG_W,CFC-11,CFC-11_FLAG_W,CFC-12,CFC-12_FLAG_W,SF6,SF6_FLAG_W,TCARBN,TCARBN_FLAG_W,ALKALI,ALKALI_FLAG_W
,,,,,,,,,,,,DB,DEG C,PSS-78,,PSS-78,,UMOL/KG,,UMOL/KG,,UMOL/KG,,UMOL/KG,,UMOL/KG,,UMOL/KG,,PMOL/KG,,PMOL/KG,,FMOL/KG,,UMOL/KG,,UMOL/KG
           NA,    AR15,     80,   1,-999.0,      17,  2,19940305,0256,   0.1588,  -44.3927,  1109,   10.100,   28.051,   36.194,2, -999.000,9, -999.000,9,  194.500,2, -999.000,9, -999.000,9, -999.000,9, -999.000,9, -999.000,9, -999.000,9, -999.000,9, -999.000,9, -999.000,9
           NA,    AR15,     80,   1,-999.0,       9,  2,19940305,0256,   0.1588,  -44.3927,  1109,  198.900,   11.941,   35.103,2, -999.000,9, -999.000,9,  156.300,2, -999.000,9, -999.000,9, -999.000,9, -999.000,9, -999.000,9, -999.000,9, -999.000,9, -999.000,9, -999.000,9
           NA,    AR15,     80,   1,-999.0,       7,  2,19940305,0256,   0.1588,  -44.3927,  1109,  398.600,    8.334,   34.695,2, -999.000,9, -999.000,9,  157.400,2, -999.000,9, -999.000,9, -999.000,9, -999.000,9, -999.000,9, -999.000,9, -999.000,9, -999.000,9, -999.000,9
           NA,    AR15,     80,   1,-999.0,       5,  2,19940305,0256,   0.1588,  -44.3927,  1109,  599.400,    5.828,   34.512,2,   34.512,2, -999.000,9,  156.500,2, -999.000,9, -999.000,9, -999.000,9, -999.000,9, -999.000,9, -999.000,9, -999.000,9, -999.000,9, -999.000,9
           NA,    AR15,     80,   1,-999.0,       3,  2,19940305,0256,   0.1588,  -44.3927,  1109,  799.600,    5.169,   34.495,2,   34.497,2, -999.000,9,  150.700,2, -999.000,9, -999.000,9, -999.000,9, -999.000,9, -999.000,9, -999.000,9, -999.000,9, -999.000,9, -999.000,9
           NA,    AR15,     80,   1,-999.0,       2,  2,19940305,0256,   0.1588,  -44.3927,  1109, 1037.400,    4.547,   34.676,2,   34.677,2, -999.000,9,  160.500,2, -999.000,9, -999.000,9, -999.000,9, -999.000,9, -999.000,9, -999.000,9, -999.000,9, -999.000,9, -999.000,9
           NA,    AR15,     82,   1,-999.0,      18,  2,19940305,0806,   0.3033,  -44.3552,  2957,    8.800,   27.954,   36.209,2, -999.000,9, -999.000,9,  195.700,2, -999.000,9, -999.000,9, -999.000,9, -999.000,9, -999.000,9, -999.000,9, -999.000,9, -999.000,9, -999.000,9
           NA,    AR15,     82,   1,-999.0,      17,  2,19940305,0806,   0.3033,  -44.3552,  2957,  299.900,    9.449,   34.803,2, -999.000,9, -999.000,9,  165.700,2, -999.000,9, -999.000,9, -999.000,9, -999.000,9, -999.000,9, -999.000,9, -999.000,9, -999.000,9, -999.000,9
           NA,    AR15,     82,   1,-999.0,      16,  2,19940305,0806,   0.3033,  -44.3552,  2957,  598.800,    5.913,   34.503,2,   34.503,2, -999.000,9,  158.100,2, -999.000,9, -999.000,9, -999.000,9, -999.000,9, -999.000,9, -999.000,9, -999.000,9, -999.000,9, -999.000,9
           NA,    AR15,     82,   1,-999.0,       6,  2,19940305,0806,   0.3033,  -44.3552,  2957, 2401.300,    3.165,   34.956,2,   34.960,2, -999.000,9,  257.100,2, -999.000,9, -999.000,9, -999.000,9, -999.000,9,    0.067,2,    0.039,2, -999.000,9, -999.000,9, -999.000,9
           NA,    AR15,     82,   1,-999.0,       1,  2,19940305,0806,   0.3033,  -44.3552,  2957, 2972.600,    2.790,   34.932,2,   34.933,2, -999.000,9,  256.300,2, -999.000,9, -999.000,9, -999.000,9, -999.000,9,    0.091,2,    0.042,2, -999.000,9, -999.000,9, -999.000,9
           NA,    AR15,     79,   1,-999.0,      18,  2,19940304,2307,   0.4652,  -44.2767,  3397,    8.900,   27.938,   36.207,2,   36.209,2, -999.000,9,  196.400,2, -999.000,9, -999.000,9, -999.000,9, -999.000,9, -999.000,9, -999.000,9, -999.000,9, -999.000,9, -999.000,9
           NA,    AR15,     79,   1,-999.0,      12,  2,19940304,2307,   0.4652,  -44.2767,  3397, 1400.300,    4.485,   34.975,2,   34.976,2, -999.000,9,  218.200,2, -999.000,9, -999.000,9, -999.000,9, -999.000,9,    0.130,2,    0.076,2, -999.000,9, -999.000,9, -999.000,9
           NA,    AR15,     79,   1,-999.0,       8,  2,19940304,2307,   0.4652,  -44.2767,  3397, 1899.500,    3.679,   34.983,2,   34.984,2, -999.000,9,  257.400,2, -999.000,9, -999.000,9, -999.000,9, -999.000,9,    0.131,2,    0.069,2, -999.000,9, -999.000,9, -999.000,9
           NA,    AR15,     79,   1,-999.0,       5,  2,19940304,2307,   0.4652,  -44.2767,  3397, 2702.200,    2.981,   34.945,2,   34.946,2, -999.000,9,  259.100,2, -999.000,9, -999.000,9, -999.000,9, -999.000,9,    0.062,2,    0.027,2, -999.000,9, -999.000,9, -999.000,9
           NA,    AR15,     79,   1,-999.0,       2,  2,19940304,2307,   0.4652,  -44.2767,  3397, 3349.900,    2.546,   34.914,2,   34.918,2, -999.000,9,  260.700,2, -999.000,9, -999.000,9, -999.000,9, -999.000,9,    0.104,2,    0.044,2, -999.000,9, -999.000,9, -999.000,9
           NA,    AR15,     78,   1,-999.0,      17,  2,19940304,1928,   0.6313,  -44.1768,  3674,    8.900,   27.951,   36.193,2,   36.191,2, -999.000,9,  197.800,2, -999.000,9, -999.000,9, -999.000,9, -999.000,9, -999.000,9, -999.000,9, -999.000,9, -999.000,9, -999.000,9
           NA,    AR15,     78,   1,-999.0,      12,  2,19940304,1928,   0.6313,  -44.1768,  3674, 1400.100,    4.466,   34.969,2,   34.971,2, -999.000,9,  222.300,2, -999.000,9, -999.000,9, -999.000,9, -999.000,9,    0.110,2,    0.058,2, -999.000,9, -999.000,9, -999.000,9
           NA,    AR15,     78,   1,-999.0,       8,  2,19940304,1928,   0.6313,  -44.1768,  3674, 1900.200,    3.494,   34.974,2,   34.974,2, -999.000,9,  256.800,2, -999.000,9, -999.000,9, -999.000,9, -999.000,9,    0.088,2,    0.046,2, -999.000,9, -999.000,9, -999.000,9
           NA,    AR15,     78,   1,-999.0,       5,  2,19940304,1928,   0.6313,  -44.1768,  3674, 2702.000,    3.036,   34.946,2,   34.947,2, -999.000,9,  258.700,2, -999.000,9, -999.000,9, -999.000,9, -999.000,9,    0.062,2,    0.036,2, -999.000,9, -999.000,9, -999.000,9
           NA,    AR15,     78,   1,-999.0,       1,  2,19940304,1928,   0.6313,  -44.1768,  3674, 3641.900,    2.394,   34.903,2,   34.906,2, -999.000,9,  263.300,2, -999.000,9, -999.000,9, -999.000,9, -999.000,9,    0.119,2,    0.065,2, -999.000,9, -999.000,9, -999.000,9
           NA,   AR04W,     74,   1,-999.0,      20,  2,19940304,0036,   0.8810,  -44.0485,  4028,   10.000,   27.830,   36.180,2, -999.000,9, -999.000,9,  201.100,2, -999.000,9, -999.000,9, -999.000,9, -999.000,9, -999.000,9, -999.000,9, -999.000,9, -999.000,9, -999.000,9
           NA,   AR04W,     74,   1,-999.0,      19,  2,19940304,0036,   0.8810,  -44.0485,  4028,  299.500,    9.612,   34.844,2, -999.000,9, -999.000,9,  157.800,2, -999.000,9, -999.000,9, -999.000,9, -999.000,9, -999.000,9, -999.000,9, -999.000,9, -999.000,9, -999.000,9
           NA,   AR04W,     74,   1,-999.0,      18,  2,19940304,0036,   0.8810,  -44.0485,  4028,  698.600,    5.372,   34.499,2,   34.501,2, -999.000,9,  150.200,2, -999.000,9, -999.000,9, -999.000,9, -999.000,9,    0.140,2,    0.076,2, -999.000,9, -999.000,9, -999.000,9
           NA,   AR04W,     74,   1,-999.0,      14,  2,19940304,0036,   0.8810,  -44.0485,  4028, 1498.400,    4.294,   34.975,2,   34.974,2, -999.000,9,  234.000,2, -999.000,9, -999.000,9, -999.000,9, -999.000,9,    0.103,2,    0.057,2, -999.000,9, -999.000,9, -999.000,9
           NA,   AR04W,     74,   1,-999.0,      10,  2,19940304,0036,   0.8810,  -44.0485,  4028, 1899.100,    3.698,   34.983,2, -999.000,9, -999.000,9,  258.100,2, -999.000,9, -999.000,9, -999.000,9, -999.000,9,    0.114,2,    0.063,2, -999.000,9, -999.000,9, -999.000,9
           NA,   AR04W,     74,   1,-999.0,       7,  2,19940304,0036,   0.8810,  -44.0485,  4028, 2600.900,    3.041,   34.950,2, -999.000,9, -999.000,9,  261.100,2, -999.000,9, -999.000,9, -999.000,9, -999.000,9,    0.055,2,    0.033,2, -999.000,9, -999.000,9, -999.000,9
           NA,   AR04W,     74,   1,-999.0,       4,  2,19940304,0036,   0.8810,  -44.0485,  4028, 3603.400,    2.419,   34.906,2,   34.909,2, -999.000,9,  265.000,2, -999.000,9, -999.000,9, -999.000,9, -999.000,9,    0.116,2,    0.068,2, -999.000,9, -999.000,9, -999.000,9
           NA,   AR04W,     74,   1,-999.0,       2,  2,19940304,0036,   0.8810,  -44.0485,  4028, 4008.200,    2.270,   34.893,2,   34.894,2, -999.000,9,  266.100,2, -999.000,9, -999.000,9, -999.000,9, -999.000,9,    0.125,2,    0.073,2, -999.000,9, -999.000,9, -999.000,9
           NA,   AR04W,     75,   1,-999.0,      20,  2,19940304,0512,   1.2073,  -44.0070,  4113,   12.800,   27.779,   36.204,2,   36.203,2, -999.000,9,  201.800,2, -999.000,9, -999.000,9, -999.000,9, -999.000,9, -999.000,9, -999.000,9, -999.000,9, -999.000,9, -999.000,9
           NA,   AR04W,     75,   1,-999.0,      18,  2,19940304,0512,   1.2073,  -44.0070,  4113,  699.300,    5.379,   34.504,2,   34.502,2, -999.000,9,  147.800,2, -999.000,9, -999.000,9, -999.000,9, -999.000,9,    0.152,2,    0.069,2, -999.000,9, -999.000,9, -999.000,9
           NA,   AR04W,     75,   1,-999.0,      14,  2,19940304,0512,   1.2073,  -44.0070,  4113, 1398.800,    4.417,   34.980,2,   34.983,2, -999.000,9,  230.300,2, -999.000,9, -999.000,9, -999.000,9, -999.000,9,    0.128,2,    0.071,2, -999.000,9, -999.000,9, -999.000,9
           NA,   AR04W,     75,   1,-999.0,      10,  2,19940304,0512,   1.2073,  -44.0070,  4113, 1899.500,    3.553,   34.976,2, -999.000,9, -999.000,9,  258.100,2, -999.000,9, -999.000,9, -999.000,9, -999.000,9,    0.086,2,    0.055,2, -999.000,9, -999.000,9, -999.000,9
           NA,   AR04W,     75,   1,-999.0,       7,  2,19940304,0512,   1.2073,  -44.0070,  4113, 2601.800,    3.015,   34.948,2,   34.948,2, -999.000,9,  261.200,2, -999.000,9, -999.000,9, -999.000,9, -999.000,9,    0.055,2,    0.031,2, -999.000,9, -999.000,9, -999.000,9
           NA,   AR04W,     75,   1,-999.0,       4,  2,19940304,0512,   1.2073,  -44.0070,  4113, 3605.000,    2.378,   34.903,2,   34.907,2, -999.000,9,  264.800,2, -999.000,9, -999.000,9, -999.000,9, -999.000,9,    0.120,2,    0.062,2, -999.000,9, -999.000,9, -999.000,9
           NA,   AR04W,     73,   1,-999.0,      20,  2,19940303,1811,   1.5393,  -44.0038,  4112,    8.800,   27.831,   36.166,2, -999.000,9, -999.000,9,  202.700,2, -999.000,9, -999.000,9, -999.000,9, -999.000,9, -999.000,9, -999.000,9, -999.000,9, -999.000,9, -999.000,9
           NA,   AR04W,     73,   1,-999.0,      18,  2,19940303,1811,   1.5393,  -44.0038,  4112,  898.300,    4.702,   34.547,2, -999.000,9, -999.000,9,  155.100,2, -999.000,9, -999.000,9, -999.000,9, -999.000,9,    0.050,2,    0.028,2, -999.000,9, -999.000,9, -999.000,9
           NA,   AR04W,     73,   1,-999.0,      17,  2,19940303,1811,   1.5393,  -44.0038,  4112, 1099.000,    4.571,   34.730,2, -999.000,9, -999.000,9,  171.100,2, -999.000,9, -999.000,9, -999.000,9, -999.000,9,    0.017,2,    0.009,2, -999.000,9, -999.000,9, -999.000,9
           NA,   AR04W,     73,   1,-999.0,      12,  2,19940303,1811,   1.5393,  -44.0038,  4112, 1799.400,    3.818,   34.985,2, -999.000,9, -999.000,9,  254.400,2, -999.000,9, -999.000,9, -999.000,9, -999.000,9,    0.112,2,    0.063,2, -999.000,9, -999.000,9, -999.000,9
           NA,   AR04W,     73,   1,-999.0,      10,  2,19940303,1811,   1.5393,  -44.0038,  4112, 2199.200,    3.289,   34.964,2,   34.969,2, -999.000,9,  261.400,2, -999.000,9, -999.000,9, -999.000,9, -999.000,9,    0.077,2,    0.045,2, -999.000,9, -999.000,9, -999.000,9
           NA,   AR04W,     73,   1,-999.0,       8,  2,19940303,1811,   1.5393,  -44.0038,  4112, 2802.000,    2.839,   34.937,2, -999.000,9, -999.000,9,  257.400,2, -999.000,9, -999.000,9, -999.000,9, -999.000,9,    0.051,2,    0.029,2, -999.000,9, -999.000,9, -999.000,9
           NA,   AR04W,     73,   1,-999.0,       6,  2,19940303,1811,   1.5393,  -44.0038,  4112, 3303.200,    2.491,   34.913,2,   34.914,2, -999.000,9,  264.000,2, -999.000,9, -999.000,9, -999.000,9, -999.000,9,    0.099,2,    0.051,2, -999.000,9, -999.000,9, -999.000,9
           NA,   AR04W,     73,   1,-999.0,       5,  2,19940303,1811,   1.5393,  -44.0038,  4112, 3503.300,    2.377,   34.904,2,   34.904,2, -999.000,9,  262.100,2, -999.000,9, -999.000,9, -999.000,9, -999.000,9,    0.134,2,    0.063,2, -999.000,9, -999.000,9, -999.000,9
           NA,   AR04W,     72,   1,-999.0,      22,  2,19940303,1342,   1.8712,  -43.9978,  4137,   10.800,   27.653,   36.181,2, -999.000,9, -999.000,9,  195.700,2, -999.000,9, -999.000,9, -999.000,9, -999.000,9, -999.000,9, -999.000,9, -999.000,9, -999.000,9, -999.000,9
           NA,   AR04W,     72,   1,-999.0,      21,  2,19940303,1342,   1.8712,  -43.9978,  4137,   50.600,   27.570,   36.303,2, -999.000,9, -999.000,9,  195.700,2, -999.000,9, -999.000,9, -999.000,9, -999.000,9, -999.000,9, -999.000,9, -999.000,9, -999.000,9, -999.000,9
           NA,   AR04W,     72,   1,-999.0,      20,  2,19940303,1342,   1.8712,  -43.9978,  4137,  299.900,   11.750,   35.093,2,   35.092,2, -999.000,9,  154.000,2, -999.000,9, -999.000,9, -999.000,9, -999.000,9, -999.000,9, -999.000,9, -999.000,9, -999.000,9, -999.000,9
           NA,   AR04W,     72,   1,-999.0,      18,  2,19940303,1342,   1.8712,  -43.9978,  4137,  898.100,    4.660,   34.549,2, -999.000,9, -999.000,9,  151.300,2, -999.000,9, -999.000,9, -999.000,9, -999.000,9, -999.000,9, -999.000,9, -999.000,9, -999.000,9, -999.000,9
           NA,   AR04W,     72,   1,-999.0,      14,  2,19940303,1342,   1.8712,  -43.9978,  4137, 1998.100,    3.490,   34.973,2, -999.000,9, -999.000,9,  255.400,2, -999.000,9, -999.000,9, -999.000,9, -999.000,9,    0.077,2,    0.045,2, -999.000,9, -999.000,9, -999.000,9
           NA,   AR04W,     72,   1,-999.0,      12,  2,19940303,1342,   1.8712,  -43.9978,  4137, 2801.300,    2.925,   34.942,2, -999.000,9, -999.000,9,  257.500,2, -999.000,9, -999.000,9, -999.000,9, -999.000,9,    0.053,2,    0.024,2, -999.000,9, -999.000,9, -999.000,9
           NA,   AR04W,     72,   1,-999.0,       9,  2,19940303,1342,   1.8712,  -43.9978,  4137, 3602.900,    2.345,   34.902,2, -999.000,9, -999.000,9,  262.100,2, -999.000,9, -999.000,9, -999.000,9, -999.000,9,    0.111,2,    0.061,2, -999.000,9, -999.000,9, -999.000,9
           NA,   AR04W,     72,   1,-999.0,       6,  2,19940303,1342,   1.8712,  -43.9978,  4137, 3904.600,    2.183,   34.886,2,   34.886,2, -999.000,9,  260.100,2, -999.000,9, -999.000,9, -999.000,9, -999.000,9,    0.158,2,    0.064,2, -999.000,9, -999.000,9, -999.000,9
           NA,   AR04W,     72,   1,-999.0,       2,  2,19940303,1342,   1.8712,  -43.9978,  4137, 4106.100,    2.203,   34.885,2,   34.887,2, -999.000,9,  263.700,2, -999.000,9, -999.000,9, -999.000,9, -999.000,9,    0.114,2,    0.063,2, -999.000,9, -999.000,9, -999.000,9
           NA,   AR04W,     71,   1,-999.0,      12,  2,19940303,0742,   2.5837,  -44.0472,  4179,  698.900,    5.620,   34.546,2,   34.546,2, -999.000,9,  136.300,2, -999.000,9, -999.000,9, -999.000,9, -999.000,9,    0.121,2,    0.069,2, -999.000,9, -999.000,9, -999.000,9
           NA,   AR04W,     71,   1,-999.0,       9,  2,19940303,0742,   2.5837,  -44.0472,  4179, 1198.500,    4.896,   34.944,2, -999.000,9, -999.000,9,  197.800,2, -999.000,9, -999.000,9, -999.000,9, -999.000,9,    0.113,2,    0.063,2, -999.000,9, -999.000,9, -999.000,9
           NA,   AR04W,     71,   1,-999.0,       6,  2,19940303,0742,   2.5837,  -44.0472,  4179, 1598.900,    4.123,   34.984,2, -999.000,9, -999.000,9,  241.100,2, -999.000,9, -999.000,9, -999.000,9, -999.000,9,    0.124,2,    0.072,2, -999.000,9, -999.000,9, -999.000,9
           NA,   AR04W,     71,   1,-999.0,       4,  2,19940303,0742,   2.5837,  -44.0472,  4179, 1899.100,    3.882,   34.984,2, -999.000,9, -999.000,9,  250.800,2, -999.000,9, -999.000,9, -999.000,9, -999.000,9,    0.122,2,    0.062,2, -999.000,9, -999.000,9, -999.000,9
           NA,   AR04W,     71,   1,-999.0,       1,  2,19940303,0742,   2.5837,  -44.0472,  4179, 2201.300,    3.416,   34.967,2, -999.000,9, -999.000,9,  258.100,2, -999.000,9, -999.000,9, -999.000,9, -999.000,9,    0.076,2,    0.045,2, -999.000,9, -999.000,9, -999.000,9
           NA,   AR04W,     70,   1,-999.0,      10,  2,19940303,0158,   3.2978,  -44.0050,  4210, 1199.400,    4.667,   34.951,2, -999.000,9, -999.000,9,  207.400,2, -999.000,9, -999.000,9, -999.000,9, -999.000,9,    0.095,2,    0.049,2, -999.000,9, -999.000,9, -999.000,9
           NA,   AR04W,     70,   1,-999.0,       7,  2,19940303,0158,   3.2978,  -44.0050,  4210, 1598.200,    4.069,   34.989,2, -999.000,9, -999.000,9,  246.200,2, -999.000,9, -999.000,9, -999.000,9, -999.000,9,    0.158,2,    0.087,2, -999.000,9, -999.000,9, -999.000,9
           NA,   AR04W,     70,   1,-999.0,       2,  2,19940303,0158,   3.2978,  -44.0050,  4210, 2200.200,    3.283,   34.962,2,   34.964,2, -999.000,9,  258.200,2, -999.000,9, -999.000,9, -999.000,9, -999.000,9,    0.075,2,    0.037,2, -999.000,9, -999.000,9, -999.000,9
           NA,   AR04W,     69,   1,-999.0,      11,  2,19940302,2151,   3.7527,  -43.9990,  4224,  998.400,    4.792,   34.761,2, -999.000,9, -999.000,9,  160.700,2, -999.000,9, -999.000,9, -999.000,9, -999.000,9,    0.026,2,    0.016,2, -999.000,9, -999.000,9, -999.000,9
           NA,   AR04W,     69,   1,-999.0,       8,  2,19940302,2151,   3.7527,  -43.9990,  4224, 1500.400,    4.250,   34.974,2, -999.000,9, -999.000,9,  231.100,2, -999.000,9, -999.000,9, -999.000,9, -999.000,9,    0.069,2,    0.043,2, -999.000,9, -999.000,9, -999.000,9
           NA,   AR04W,     69,   1,-999.0,       5,  2,19940302,2151,   3.7527,  -43.9990,  4224, 1801.100,    3.911,   34.988,2,   34.991,2, -999.000,9,  252.100,2, -999.000,9, -999.000,9, -999.000,9, -999.000,9,    0.148,2,    0.084,2, -999.000,9, -999.000,9, -999.000,9
           NA,   AR04W,     69,   1,-999.0,       4,  2,19940302,2151,   3.7527,  -43.9990,  4224, 1900.600,    3.773,   34.983,2, -999.000,9, -999.000,9,  256.300,2, -999.000,9, -999.000,9, -999.000,9, -999.000,9,    0.126,2,    0.069,2, -999.000,9, -999.000,9, -999.000,9
           NA,   AR04W,     69,   1,-999.0,       1,  2,19940302,2151,   3.7527,  -43.9990,  4224, 2201.600,    3.357,   34.966,2,   34.969,2, -999.000,9,  258.300,2, -999.000,9, -999.000,9, -999.000,9, -999.000,9,    0.087,2,    0.059,2, -999.000,9, -999.000,9, -999.000,9