BOTTLE,20214913JOAExport
EXPOCODE,SECT_ID,STNNBR,CASTNO,SAMPNO,BTLNBR,BTLNBR_FLAG_W,DATE,TIME,LATITUDE,LONGITUDE,DEPTH,CTDPRS,CTDTMP,CTDSAL,CTDSAL_FLAG_W,SALNTY,SALNTY_FLAG_W,CTDOXY,CTDOXY_FLAG_W,OXYGEN,OXYGEN_FLAG_W,SILCAT,SILCAT_FLAG_W,NITRAT,NITRAT_FLAG_W,NITRIT,NITRIT_FLAG_W,PHSPHT,PHSPHT_FLAG_W,CFC-11,CFC-11_FLAG_W,CFC-12,CFC-12_FLAG_W,SF6,SF6_FLAG_W,TCARBN,TCARBN_FLAG_W,ALKALI,ALKALI_FLAG_W
,,,,,,,,,,,,DB,ITS-90,PSS-78,,PSS-78,,UMOL/KG,,UMOL/KG,,UMOL/KG,,UMOL/KG,,UMOL/KG,,UMOL/KG,,PMOL/KG,,PMOL/KG,,FMOL/KG,,UMOL/KG,,UMOL/KG
           NA,    AR4W,    298,   1,-999.0,      20,  2,19910527,2307,   4.7153,  -44.0338,  3526,   17.800,   27.657,   35.981,2,   35.979,2, -999.000,9,  198.600,2, -999.000,9, -999.000,9, -999.000,9, -999.000,9, -999.000,9, -999.000,9, -999.000,9, -999.000,9, -999.000,9
           NA,    AR4W,    298,   1,-999.0,      17,  2,19910527,2307,   4.7153,  -44.0338,  3526,   79.100,   27.421,   36.011,2,   36.007,2, -999.000,9,  198.600,2, -999.000,9, -999.000,9, -999.000,9, -999.000,9, -999.000,9, -999.000,9, -999.000,9, -999.000,9, -999.000,9
           NA,    AR4W,    298,   1,-999.0,      14,  2,19910527,2307,   4.7153,  -44.0338,  3526,  345.800,    8.261,   34.759,2,   34.756,2, -999.000,9,  126.400,2, -999.000,9, -999.000,9, -999.000,9, -999.000,9, -999.000,9, -999.000,9, -999.000,9, -999.000,9, -999.000,9
           NA,    AR4W,    298,   1,-999.0,      11,  2,19910527,2307,   4.7153,  -44.0338,  3526,  496.300,    6.562,   34.585,2,   34.580,2, -999.000,9,  134.700,2, -999.000,9, -999.000,9, -999.000,9, -999.000,9, -999.000,9, -999.000,9, -999.000,9, -999.000,9, -999.000,9
           NA,    AR4W,    298,   1,-999.0,       8,  2,19910527,2307,   4.7153,  -44.0338,  3526,  698.100,    5.372,   34.569,2,   34.564,2, -999.000,9,   90.800,2, -999.000,9, -999.000,9, -999.000,9, -999.000,9, -999.000,9, -999.000,9, -999.000,9, -999.000,9, -999.000,9
           NA,    AR4W,    298,   1,-999.0,       4,  2,19910527,2307,   4.7153,  -44.0338,  3526, 1248.200,    4.781,   34.909,2,   34.906,2, -999.000,9,  195.600,2, -999.000,9, -999.000,9, -999.000,9, -999.000,9, -999.000,9, -999.000,9, -999.000,9, -999.000,9, -999.000,9