BOTTLE,20214913JOAExport
# Exported from JOA (5.5.0 Final September 29th, 2020) on 2021/04/13 08:49:15
#BOTTLE,20020816WHPSIOKJU,,,,,,,,,,,,,,,,,,,,,,,,,,,,,,,,,,,,,,
#code : jjward hyd_to_exchange.pl ,,,,,,,,,,,,,,,,,,,,,,,,,,,,,,,,,,,,,,,
#original files copied from HTML directory: 20020815,,,,,,,,,,,,,,,,,,,,,,,,,,,,,,,,,,,,,,,
#original HYD file: ar04_bhy.txt   Wed Mar 28 13:58:08 2001,,,,,,,,,,,,,,,,,,,,,,,,,,,,,,,,,,,,,,,
#original SUM file: ar04_bsu.txt   Mon Jul 22 12:05:41 2002,,,,,,,,,,,,,,,,,,,,,,,,,,,,,,,,,,,,,,,
EXPOCODE,SECT_ID,STNNBR,CASTNO,SAMPNO,BTLNBR,BTLNBR_FLAG_W,DATE,TIME,LATITUDE,LONGITUDE,DEPTH,CTDPRS,CTDTMP,CTDSAL,CTDSAL_FLAG_W,SALNTY,SALNTY_FLAG_W,CTDOXY,CTDOXY_FLAG_W,OXYGEN,OXYGEN_FLAG_W,SILCAT,SILCAT_FLAG_W,NITRAT,NITRAT_FLAG_W,NITRIT,NITRIT_FLAG_W,PHSPHT,PHSPHT_FLAG_W,CFC-11,CFC-11_FLAG_W,CFC-12,CFC-12_FLAG_W,SF6,SF6_FLAG_W,TCARBN,TCARBN_FLAG_W,ALKALI,ALKALI_FLAG_W
,,,,,,,,,,,,DB,ITS-90,PSS-78,,PSS-78,,UMOL/KG,,UMOL/KG,,UMOL/KG,,UMOL/KG,,UMOL/KG,,UMOL/KG,,PMOL/KG,,PMOL/KG,,FMOL/KG,,UMOL/KG,,UMOL/KG
           NA,    AR4W,    291,   1,-999.0,      19,  2,19910525,1339,   0.8718,  -44.0278,  4030,  597.900,    5.934,   34.528,2,   34.525,2, -999.000,9,  155.600,2, -999.000,9, -999.000,9, -999.000,9, -999.000,9, -999.000,9, -999.000,9, -999.000,9, -999.000,9, -999.000,9
           NA,    AR4W,    291,   1,-999.0,      18,  2,19910525,1339,   0.8718,  -44.0278,  4030,  796.600,    4.706,   34.530,2,   34.526,2, -999.000,9,  157.700,2, -999.000,9, -999.000,9, -999.000,9, -999.000,9, -999.000,9, -999.000,9, -999.000,9, -999.000,9, -999.000,9
           NA,    AR4W,    291,   1,-999.0,      16,  2,19910525,1339,   0.8718,  -44.0278,  4030, 1497.900,    4.141,   34.995,2,   34.993,2, -999.000,9,  242.900,2, -999.000,9, -999.000,9, -999.000,9, -999.000,9, -999.000,9, -999.000,9, -999.000,9, -999.000,9, -999.000,9
           NA,    AR4W,    291,   1,-999.0,      12,  2,19910525,1339,   0.8718,  -44.0278,  4030, 2249.700,    3.193,   34.961,2,   34.958,2, -999.000,9,  257.300,2, -999.000,9, -999.000,9, -999.000,9, -999.000,9, -999.000,9, -999.000,9, -999.000,9, -999.000,9, -999.000,9
           NA,    AR4W,    291,   1,-999.0,      10,  2,19910525,1339,   0.8718,  -44.0278,  4030, 3247.800,    2.603,   34.922,2,   34.920,2, -999.000,9,  259.500,2, -999.000,9, -999.000,9, -999.000,9, -999.000,9, -999.000,9, -999.000,9, -999.000,9, -999.000,9, -999.000,9
           NA,    AR4W,    291,   1,-999.0,       7,  2,19910525,1339,   0.8718,  -44.0278,  4030, 3748.600,    2.319,   34.902,2,   34.899,2, -999.000,9,  244.200,2, -999.000,9, -999.000,9, -999.000,9, -999.000,9, -999.000,9, -999.000,9, -999.000,9, -999.000,9, -999.000,9
           NA,    AR4W,    291,   1,-999.0,       2,  2,19910525,1339,   0.8718,  -44.0278,  4030, 3960.500,    2.249,   34.895,2,   34.893,2, -999.000,9,  262.100,2, -999.000,9, -999.000,9, -999.000,9, -999.000,9, -999.000,9, -999.000,9, -999.000,9, -999.000,9, -999.000,9
           NA,    AR4W,    292,   1,-999.0,      21,  2,19910525,2131,   1.4163,  -44.0180,  4115,   18.700,   28.438,   35.931,2,   35.928,2, -999.000,9,  189.000,2, -999.000,9, -999.000,9, -999.000,9, -999.000,9, -999.000,9, -999.000,9, -999.000,9, -999.000,9, -999.000,9
           NA,    AR4W,    292,   1,-999.0,      20,  2,19910525,2131,   1.4163,  -44.0180,  4115,   84.500,   25.868,   36.714,2, -999.000,9, -999.000,9,  157.300,2, -999.000,9, -999.000,9, -999.000,9, -999.000,9, -999.000,9, -999.000,9, -999.000,9, -999.000,9, -999.000,9
           NA,    AR4W,    292,   1,-999.0,      19,  2,19910525,2131,   1.4163,  -44.0180,  4115,  597.900,    6.340,   34.583,2,   34.580,2, -999.000,9,  155.600,2, -999.000,9, -999.000,9, -999.000,9, -999.000,9, -999.000,9, -999.000,9, -999.000,9, -999.000,9, -999.000,9
           NA,    AR4W,    292,   1,-999.0,      18,  2,19910525,2131,   1.4163,  -44.0180,  4115,  795.600,    4.847,   34.521,2,   34.517,2, -999.000,9,  148.200,2, -999.000,9, -999.000,9, -999.000,9, -999.000,9, -999.000,9, -999.000,9, -999.000,9, -999.000,9, -999.000,9
           NA,    AR4W,    292,   1,-999.0,      15,  2,19910525,2131,   1.4163,  -44.0180,  4115, 1748.500,    3.891,   34.989,2,   34.988,2, -999.000,9,  183.000,2, -999.000,9, -999.000,9, -999.000,9, -999.000,9, -999.000,9, -999.000,9, -999.000,9, -999.000,9, -999.000,9
           NA,    AR4W,    292,   1,-999.0,      12,  2,19910525,2131,   1.4163,  -44.0180,  4115, 2248.000,    3.182,   34.961,2,   34.958,2, -999.000,9,  216.000,2, -999.000,9, -999.000,9, -999.000,9, -999.000,9, -999.000,9, -999.000,9, -999.000,9, -999.000,9, -999.000,9
           NA,    AR4W,    292,   1,-999.0,      10,  2,19910525,2131,   1.4163,  -44.0180,  4115, 3248.400,    2.563,   34.921,2, -999.000,9, -999.000,9,  219.500,2, -999.000,9, -999.000,9, -999.000,9, -999.000,9, -999.000,9, -999.000,9, -999.000,9, -999.000,9, -999.000,9
           NA,    AR4W,    292,   1,-999.0,       7,  2,19910525,2131,   1.4163,  -44.0180,  4115, 3748.300,    2.352,   34.903,2,   34.900,2, -999.000,9,  203.400,2, -999.000,9, -999.000,9, -999.000,9, -999.000,9, -999.000,9, -999.000,9, -999.000,9, -999.000,9, -999.000,9
           NA,    AR4W,    292,   1,-999.0,       2,  2,19910525,2131,   1.4163,  -44.0180,  4115, 4101.300,    2.190,   34.885,2,   34.883,2, -999.000,9,  169.000,2, -999.000,9, -999.000,9, -999.000,9, -999.000,9, -999.000,9, -999.000,9, -999.000,9, -999.000,9, -999.000,9
           NA,    AR4W,    293,   1,-999.0,      21,  2,19910526,0443,   1.9617,  -44.0300,  4129,   17.300,   28.084,   36.064,2,   36.065,2, -999.000,9,  199.900,2, -999.000,9, -999.000,9, -999.000,9, -999.000,9, -999.000,9, -999.000,9, -999.000,9, -999.000,9, -999.000,9
           NA,    AR4W,    293,   1,-999.0,      20,  2,19910526,0443,   1.9617,  -44.0300,  4129,   83.000,   25.411,   36.687,2, -999.000,9, -999.000,9,  203.800,2, -999.000,9, -999.000,9, -999.000,9, -999.000,9, -999.000,9, -999.000,9, -999.000,9, -999.000,9, -999.000,9
           NA,    AR4W,    293,   1,-999.0,      19,  2,19910526,0443,   1.9617,  -44.0300,  4129,  596.500,    6.272,   34.560,2,   34.556,2, -999.000,9,  195.100,2, -999.000,9, -999.000,9, -999.000,9, -999.000,9, -999.000,9, -999.000,9, -999.000,9, -999.000,9, -999.000,9
           NA,    AR4W,    293,   1,-999.0,      18,  2,19910526,0443,   1.9617,  -44.0300,  4129,  797.800,    5.273,   34.552,2,   34.549,2, -999.000,9,  136.000,2, -999.000,9, -999.000,9, -999.000,9, -999.000,9, -999.000,9, -999.000,9, -999.000,9, -999.000,9, -999.000,9
           NA,    AR4W,    293,   1,-999.0,      15,  2,19910526,0443,   1.9617,  -44.0300,  4129, 1745.400,    3.912,   34.987,2, -999.000,9, -999.000,9,  221.200,2, -999.000,9, -999.000,9, -999.000,9, -999.000,9,    0.094,2,    0.056,2, -999.000,9, -999.000,9, -999.000,9
           NA,    AR4W,    293,   1,-999.0,      12,  2,19910526,0443,   1.9617,  -44.0300,  4129, 2245.600,    3.237,   34.963,2,   34.961,2, -999.000,9,  267.700,2, -999.000,9, -999.000,9, -999.000,9, -999.000,9,    0.054,2,    0.037,2, -999.000,9, -999.000,9, -999.000,9
           NA,    AR4W,    293,   1,-999.0,      10,  2,19910526,0443,   1.9617,  -44.0300,  4129, 3247.000,    2.659,   34.924,2,   34.923,2, -999.000,9,  260.300,2, -999.000,9, -999.000,9, -999.000,9, -999.000,9,    0.043,2,    0.022,2, -999.000,9, -999.000,9, -999.000,9
           NA,    AR4W,    293,   1,-999.0,       7,  2,19910526,0443,   1.9617,  -44.0300,  4129, 3748.700,    2.326,   34.902,2,   34.900,2, -999.000,9,  262.900,2, -999.000,9, -999.000,9, -999.000,9, -999.000,9,    0.107,2,    0.049,2, -999.000,9, -999.000,9, -999.000,9
           NA,    AR4W,    293,   1,-999.0,       2,  2,19910526,0443,   1.9617,  -44.0300,  4129, 4150.700,    2.194,   34.885,2,   34.886,2, -999.000,9,  261.600,2, -999.000,9, -999.000,9, -999.000,9, -999.000,9,    0.069,2,    0.039,2, -999.000,9, -999.000,9, -999.000,9
           NA,    AR4W,    294,   1,-999.0,      21,  2,19910526,1412,   2.6190,  -44.0130,  4178,   10.200,   28.172,   35.907,2,   35.906,2, -999.000,9,  156.000,2, -999.000,9, -999.000,9, -999.000,9, -999.000,9, -999.000,9, -999.000,9, -999.000,9, -999.000,9, -999.000,9
           NA,    AR4W,    294,   1,-999.0,      20,  2,19910526,1412,   2.6190,  -44.0130,  4178,   95.900,   22.946,   36.548,2, -999.000,9, -999.000,9,  199.000,2, -999.000,9, -999.000,9, -999.000,9, -999.000,9, -999.000,9, -999.000,9, -999.000,9, -999.000,9, -999.000,9
           NA,    AR4W,    294,   1,-999.0,      19,  2,19910526,1412,   2.6190,  -44.0130,  4178,  596.500,    6.511,   34.585,2,   34.582,2, -999.000,9,  146.000,2, -999.000,9, -999.000,9, -999.000,9, -999.000,9, -999.000,9, -999.000,9, -999.000,9, -999.000,9, -999.000,9
           NA,    AR4W,    294,   1,-999.0,      18,  2,19910526,1412,   2.6190,  -44.0130,  4178,  794.700,    5.257,   34.544,2,   34.541,2, -999.000,9,  139.900,2, -999.000,9, -999.000,9, -999.000,9, -999.000,9, -999.000,9, -999.000,9, -999.000,9, -999.000,9, -999.000,9
           NA,    AR4W,    294,   1,-999.0,      15,  2,19910526,1412,   2.6190,  -44.0130,  4178, 1748.900,    3.842,   34.988,2,   34.989,2, -999.000,9,  252.500,2, -999.000,9, -999.000,9, -999.000,9, -999.000,9, -999.000,9, -999.000,9, -999.000,9, -999.000,9, -999.000,9
           NA,    AR4W,    294,   1,-999.0,      12,  2,19910526,1412,   2.6190,  -44.0130,  4178, 2246.200,    3.291,   34.963,2,   34.963,2, -999.000,9,  258.100,2, -999.000,9, -999.000,9, -999.000,9, -999.000,9, -999.000,9, -999.000,9, -999.000,9, -999.000,9, -999.000,9
           NA,    AR4W,    294,   1,-999.0,      10,  2,19910526,1412,   2.6190,  -44.0130,  4178, 3247.000,    2.673,   34.925,2,   34.924,2, -999.000,9,  258.600,2, -999.000,9, -999.000,9, -999.000,9, -999.000,9, -999.000,9, -999.000,9, -999.000,9, -999.000,9, -999.000,9
           NA,    AR4W,    294,   1,-999.0,       7,  2,19910526,1412,   2.6190,  -44.0130,  4178, 3745.900,    2.381,   34.905,2,   34.903,2, -999.000,9,  273.400,2, -999.000,9, -999.000,9, -999.000,9, -999.000,9, -999.000,9, -999.000,9, -999.000,9, -999.000,9, -999.000,9
           NA,    AR4W,    294,   1,-999.0,       2,  2,19910526,1412,   2.6190,  -44.0130,  4178, 4195.400,    2.090,   34.873,2,   34.872,2, -999.000,9,  238.600,2, -999.000,9, -999.000,9, -999.000,9, -999.000,9, -999.000,9, -999.000,9, -999.000,9, -999.000,9, -999.000,9
           NA,    AR4W,    295,   1,-999.0,      21,  2,19910526,2303,   3.2353,  -44.0315,  4197,   20.200,   27.919,   35.999,2,   35.998,2, -999.000,9,  199.500,2, -999.000,9, -999.000,9, -999.000,9, -999.000,9, -999.000,9, -999.000,9, -999.000,9, -999.000,9, -999.000,9
           NA,    AR4W,    295,   1,-999.0,      20,  2,19910526,2303,   3.2353,  -44.0315,  4197,   83.900,   22.223,   36.478,2, -999.000,9, -999.000,9,  178.200,2, -999.000,9, -999.000,9, -999.000,9, -999.000,9, -999.000,9, -999.000,9, -999.000,9, -999.000,9, -999.000,9
           NA,    AR4W,    295,   1,-999.0,      19,  2,19910526,2303,   3.2353,  -44.0315,  4197,  466.000,    8.437,   34.805,2,   34.802,2, -999.000,9,  105.100,2, -999.000,9, -999.000,9, -999.000,9, -999.000,9, -999.000,9, -999.000,9, -999.000,9, -999.000,9, -999.000,9
           NA,    AR4W,    295,   1,-999.0,      18,  2,19910526,2303,   3.2353,  -44.0315,  4197,  797.900,    5.100,   34.558,2,   34.554,2, -999.000,9,  139.000,2, -999.000,9, -999.000,9, -999.000,9, -999.000,9, -999.000,9, -999.000,9, -999.000,9, -999.000,9, -999.000,9
           NA,    AR4W,    295,   1,-999.0,      15,  2,19910526,2303,   3.2353,  -44.0315,  4197, 1747.600,    3.829,   34.987,2,   34.985,2, -999.000,9,  251.200,2, -999.000,9, -999.000,9, -999.000,9, -999.000,9,    0.093,2,    0.056,2, -999.000,9, -999.000,9, -999.000,9
           NA,    AR4W,    295,   1,-999.0,      12,  2,19910526,2303,   3.2353,  -44.0315,  4197, 2248.500,    3.421,   34.971,2,   34.968,2, -999.000,9,  249.900,2, -999.000,9, -999.000,9, -999.000,9, -999.000,9,    0.041,2,    0.030,2, -999.000,9, -999.000,9, -999.000,9
           NA,    AR4W,    295,   1,-999.0,      10,  2,19910526,2303,   3.2353,  -44.0315,  4197, 3248.300,    2.655,   34.924,2,   34.921,2, -999.000,9,  263.800,2, -999.000,9, -999.000,9, -999.000,9, -999.000,9, -999.000,9, -999.000,9, -999.000,9, -999.000,9, -999.000,9
           NA,    AR4W,    295,   1,-999.0,       7,  2,19910526,2303,   3.2353,  -44.0315,  4197, 3746.400,    2.428,   34.908,2,   34.906,2, -999.000,9,  266.000,2, -999.000,9, -999.000,9, -999.000,9, -999.000,9,    0.050,2,    0.032,2, -999.000,9, -999.000,9, -999.000,9
           NA,    AR4W,    295,   1,-999.0,       3,  2,19910526,2303,   3.2353,  -44.0315,  4197, 4096.600,    2.093,   34.874,2,   34.874,2, -999.000,9,  259.900,2, -999.000,9, -999.000,9, -999.000,9, -999.000,9,    0.053,2,    0.038,2, -999.000,9, -999.000,9, -999.000,9
           NA,    AR4W,    295,   1,-999.0,       2,  2,19910526,2303,   3.2353,  -44.0315,  4197, 4218.700,    1.606,   34.815,2, -999.000,9, -999.000,9,  220.300,2, -999.000,9, -999.000,9, -999.000,9, -999.000,9,    0.033,2,    0.022,2, -999.000,9, -999.000,9, -999.000,9
           NA,    AR4W,    296,   1,-999.0,      21,  2,19910527,0701,   3.7490,  -44.0158,  4214,   19.600,   27.581,   36.093,2,   36.095,2, -999.000,9,  201.200,2, -999.000,9, -999.000,9, -999.000,9, -999.000,9, -999.000,9, -999.000,9, -999.000,9, -999.000,9, -999.000,9
           NA,    AR4W,    296,   1,-999.0,      19,  2,19910527,0701,   3.7490,  -44.0158,  4214,   85.000,   23.165,   36.406,2, -999.000,9, -999.000,9,  180.800,2, -999.000,9, -999.000,9, -999.000,9, -999.000,9, -999.000,9, -999.000,9, -999.000,9, -999.000,9, -999.000,9
           NA,    AR4W,    296,   1,-999.0,      18,  2,19910527,0701,   3.7490,  -44.0158,  4214,  397.500,    8.282,   34.772,2,   34.768,2, -999.000,9,  116.400,2, -999.000,9, -999.000,9, -999.000,9, -999.000,9, -999.000,9, -999.000,9, -999.000,9, -999.000,9, -999.000,9
           NA,    AR4W,    296,   1,-999.0,      16,  2,19910527,0701,   3.7490,  -44.0158,  4214,  593.200,    5.812,   34.546,2,   34.542,2, -999.000,9,  143.400,2, -999.000,9, -999.000,9, -999.000,9, -999.000,9, -999.000,9, -999.000,9, -999.000,9, -999.000,9, -999.000,9
           NA,    AR4W,    296,   1,-999.0,      11,  2,19910527,0701,   3.7490,  -44.0158,  4214, 1997.400,    3.659,   34.981,2,   34.979,2, -999.000,9,  255.500,2, -999.000,9, -999.000,9, -999.000,9, -999.000,9, -999.000,9, -999.000,9, -999.000,9, -999.000,9, -999.000,9
           NA,    AR4W,    296,   1,-999.0,       9,  2,19910527,0701,   3.7490,  -44.0158,  4214, 2496.800,    3.048,   34.952,2,   34.948,2, -999.000,9,  261.600,2, -999.000,9, -999.000,9, -999.000,9, -999.000,9, -999.000,9, -999.000,9, -999.000,9, -999.000,9, -999.000,9
           NA,    AR4W,    296,   1,-999.0,       7,  2,19910527,0701,   3.7490,  -44.0158,  4214, 2996.100,    2.738,   34.930,2,   34.928,2, -999.000,9,  264.700,2, -999.000,9, -999.000,9, -999.000,9, -999.000,9, -999.000,9, -999.000,9, -999.000,9, -999.000,9, -999.000,9
           NA,    AR4W,    296,   1,-999.0,       3,  2,19910527,0701,   3.7490,  -44.0158,  4214, 3995.500,    2.279,   34.895,2,   34.896,2, -999.000,9,  241.200,2, -999.000,9, -999.000,9, -999.000,9, -999.000,9, -999.000,9, -999.000,9, -999.000,9, -999.000,9, -999.000,9
           NA,    AR4W,    296,   1,-999.0,       2,  2,19910527,0701,   3.7490,  -44.0158,  4214, 4219.300,    1.731,   34.830,2,   34.828,2, -999.000,9,  244.700,2, -999.000,9, -999.000,9, -999.000,9, -999.000,9, -999.000,9, -999.000,9, -999.000,9, -999.000,9, -999.000,9
           NA,    AR4W,    297,   1,-999.0,      21,  2,19910527,1448,   4.2005,  -44.0372,  4185,   17.800,   27.565,   36.027,2,   36.027,2, -999.000,9,  209.500,2, -999.000,9, -999.000,9, -999.000,9, -999.000,9, -999.000,9, -999.000,9, -999.000,9, -999.000,9, -999.000,9
           NA,    AR4W,    297,   1,-999.0,      20,  2,19910527,1448,   4.2005,  -44.0372,  4185,  103.600,   20.870,   36.221,2, -999.000,9, -999.000,9,  203.400,2, -999.000,9, -999.000,9, -999.000,9, -999.000,9, -999.000,9, -999.000,9, -999.000,9, -999.000,9, -999.000,9
           NA,    AR4W,    297,   1,-999.0,      19,  2,19910527,1448,   4.2005,  -44.0372,  4185,  345.500,    8.537,   34.794,2, -999.000,9, -999.000,9,  176.000,2, -999.000,9, -999.000,9, -999.000,9, -999.000,9, -999.000,9, -999.000,9, -999.000,9, -999.000,9, -999.000,9
           NA,    AR4W,    297,   1,-999.0,      18,  2,19910527,1448,   4.2005,  -44.0372,  4185,  597.300,    5.733,   34.549,2,   34.545,2, -999.000,9,  124.300,2, -999.000,9, -999.000,9, -999.000,9, -999.000,9, -999.000,9, -999.000,9, -999.000,9, -999.000,9, -999.000,9
           NA,    AR4W,    297,   1,-999.0,      16,  2,19910527,1448,   4.2005,  -44.0372,  4185,  797.400,    4.847,   34.590,2,   34.584,2, -999.000,9,  146.400,2, -999.000,9, -999.000,9, -999.000,9, -999.000,9, -999.000,9, -999.000,9, -999.000,9, -999.000,9, -999.000,9
           NA,    AR4W,    297,   1,-999.0,      14,  2,19910527,1448,   4.2005,  -44.0372,  4185, 1742.500,    4.013,   34.994,2,   34.992,2, -999.000,9,  242.500,2, -999.000,9, -999.000,9, -999.000,9, -999.000,9, -999.000,9, -999.000,9, -999.000,9, -999.000,9, -999.000,9
           NA,    AR4W,    297,   1,-999.0,      11,  2,19910527,1448,   4.2005,  -44.0372,  4185, 2497.100,    3.035,   34.950,2,   34.946,2, -999.000,9,  262.500,2, -999.000,9, -999.000,9, -999.000,9, -999.000,9, -999.000,9, -999.000,9, -999.000,9, -999.000,9, -999.000,9
           NA,    AR4W,    297,   1,-999.0,       9,  2,19910527,1448,   4.2005,  -44.0372,  4185, 2997.600,    2.748,   34.931,2, -999.000,9, -999.000,9,  254.200,2, -999.000,9, -999.000,9, -999.000,9, -999.000,9,    0.024,2,    0.016,2, -999.000,9, -999.000,9, -999.000,9
           NA,    AR4W,    297,   1,-999.0,       6,  2,19910527,1448,   4.2005,  -44.0372,  4185, 3497.100,    2.454,   34.912,2,   34.908,2, -999.000,9,  270.800,2, -999.000,9, -999.000,9, -999.000,9, -999.000,9,    0.044,2,    0.024,2, -999.000,9, -999.000,9, -999.000,9
           NA,    AR4W,    297,   1,-999.0,       4,  2,19910527,1448,   4.2005,  -44.0372,  4185, 3997.300,    2.282,   34.895,2,   34.894,2, -999.000,9,  266.000,2, -999.000,9, -999.000,9, -999.000,9, -999.000,9,    0.039,2,    0.036,2, -999.000,9, -999.000,9, -999.000,9
           NA,    AR4W,    297,   1,-999.0,       2,  2,19910527,1448,   4.2005,  -44.0372,  4185, 4196.600,    2.185,   34.883,2,   34.881,2, -999.000,9,  234.200,2, -999.000,9, -999.000,9, -999.000,9, -999.000,9,    0.053,2,    0.042,2, -999.000,9, -999.000,9, -999.000,9