BOTTLE,20213527JOAExport
EXPOCODE,SECT_ID,STNNBR,CASTNO,SAMPNO,BTLNBR,BTLNBR_FLAG_W,DATE,TIME,LATITUDE,LONGITUDE,DEPTH,CTDPRS,CTDTMP,CTDSAL,CTDSAL_FLAG_W,SALNTY,SALNTY_FLAG_W,CTDOXY,CTDOXY_FLAG_W,OXYGEN,OXYGEN_FLAG_W,SILCAT,SILCAT_FLAG_W,NITRAT,NITRAT_FLAG_W,NITRIT,NITRIT_FLAG_W,PHSPHT,PHSPHT_FLAG_W,CFC-11,CFC-11_FLAG_W,CFC-12,CFC-12_FLAG_W,SF6,SF6_FLAG_W,TCARBN,TCARBN_FLAG_W,ALKALI,ALKALI_FLAG_W
,,,,,,,,,,,,DB,DEG C,PSS-78,,PSS-78,,UMOL/KG,,UMOL/KG,,UMOL/KG,,UMOL/KG,,UMOL/KG,,UMOL/KG,,PMOL/KG,,PMOL/KG,,FMOL/KG,,UMOL/KG,,UMOL/KG
           NA,     A14,     85,   1,-999.0,      32,  2,19950206,0547, -34.5008,   -9.0043,  3916,    5.100,   21.629,   35.972,2,   35.972,2,  210.900,2, -999.000,3,    1.500,2,    0.020,2, -999.000,9,    0.150,2,    2.115,2,    1.066,2, -999.000,9, 2059.200,6, 2368.600,6
           NA,     A14,     85,   1,-999.0,      31,  2,19950206,0547, -34.5008,   -9.0043,  3916,   46.800,   21.608,   35.974,2, -999.000,3,  218.700,2,  222.700,2,    1.500,2,    0.020,2, -999.000,9,    0.140,2,    2.159,2,    1.084,2, -999.000,9, 2059.400,2, 2368.100,2
           NA,     A14,     85,   1,-999.0,      30,  2,19950206,0547, -34.5008,   -9.0043,  3916,   96.200,   17.014,   35.611,2,   35.610,2,  245.300,2,  241.000,2,    1.300,2,    0.020,2, -999.000,9,    0.150,2,    2.619,2,    1.294,2, -999.000,9, 2058.200,2, 2346.500,2
           NA,     A14,     85,   1,-999.0,      29,  2,19950206,0547, -34.5008,   -9.0043,  3916,  147.100,   15.465,   35.426,2,   35.422,2,  236.000,2, -999.000,3,    2.500,2,    4.860,2, -999.000,9,    0.440,2,    2.636,2,    1.268,2, -999.000,9, 2079.300,2, 2333.200,2
           NA,     A14,     85,   1,-999.0,      28,  2,19950206,0547, -34.5008,   -9.0043,  3916,  196.100,   14.348,   35.292,2,   35.291,2,  211.000,2,  215.700,2,    2.800,2,    6.830,2, -999.000,9,    0.550,2,    2.713,2,    1.303,2, -999.000,9, 2090.000,2, 2326.000,2
           NA,     A14,     85,   1,-999.0,      27,  2,19950206,0547, -34.5008,   -9.0043,  3916,  295.700,   12.527,   35.082,2,   35.083,2,  208.100,2,  207.300,2,    4.700,6,   12.240,6, -999.000,9,    0.870,6,    2.567,2,    1.216,2, -999.000,9, 2110.100,2, 2314.100,2
           NA,     A14,     85,   1,-999.0,      26,  2,19950206,0547, -34.5008,   -9.0043,  3916,  396.800,   11.302,   34.982,2,   34.985,2,  218.700,2,  218.900,2,    4.200,2,   13.310,2, -999.000,9,    0.920,2,    2.629,2,    1.243,2, -999.000,9, 2113.800,2, 2314.000,2
           NA,     A14,     85,   1,-999.0,      25,  2,19950206,0547, -34.5008,   -9.0043,  3916,  496.900,    9.331,   34.717,2,   34.719,2,  218.000,2,  215.800,2,    6.500,2,   18.320,2, -999.000,9,    1.240,2,    2.503,2,    1.133,2, -999.000,9, 2132.100,2, 2300.900,2
           NA,     A14,     85,   1,-999.0,      23,  2,19950206,0547, -34.5008,   -9.0043,  3916,  596.100,    7.533,   34.522,2,   34.527,2,  215.000,2,  214.800,2,   10.300,2,   22.790,2, -999.000,9,    1.550,2,    2.243,2,    0.983,2, -999.000,9, 2143.400,2, 2295.800,2
           NA,     A14,     85,   1,-999.0,      24,  2,19950206,0547, -34.5008,   -9.0043,  3916,  596.700,    7.526,   34.521,2,   34.527,2,  215.000,2,  214.800,2,   10.300,2,   22.750,2, -999.000,9,    1.530,2,    2.231,2,    0.995,2, -999.000,9, -999.000,9, 2293.600,2
           NA,     A14,     85,   1,-999.0,      22,  2,19950206,0547, -34.5008,   -9.0043,  3916,  694.800,    6.006,   34.374,2, -999.000,3,  223.700,2,  224.500,2,   13.700,2,   25.830,2, -999.000,9,    1.730,2,    2.122,2,    0.934,2, -999.000,9, 2146.200,2, 2290.300,2
           NA,     A14,     85,   1,-999.0,      21,  2,19950206,0547, -34.5008,   -9.0043,  3916,  795.100,    5.007,   34.297,2,   34.302,2,  233.200,2,  234.100,2,   16.500,2,   27.470,2, -999.000,9,    1.840,2,    2.059,2,    0.895,2, -999.000,9, 2159.100,2, 2291.100,2
           NA,     A14,     85,   1,-999.0,      20,  2,19950206,0547, -34.5008,   -9.0043,  3916,  895.500,    4.285,   34.272,2,   34.276,2,  235.400,2,  234.400,2,   21.500,2,   29.060,2, -999.000,9,    1.950,2,    1.737,2,    0.745,2, -999.000,9, 2169.000,2, 2291.900,2
           NA,     A14,     85,   1,-999.0,      19,  2,19950206,0547, -34.5008,   -9.0043,  3916,  995.500,    3.750,   34.291,2,   34.292,2,  227.600,2,  225.700,2,   28.900,2,   30.650,2, -999.000,9,    2.060,2,    1.248,2,    0.544,2, -999.000,9, 2182.900,2, 2299.300,2
           NA,     A14,     85,   1,-999.0,      18,  2,19950206,0547, -34.5008,   -9.0043,  3916, 1195.400,    3.110,   34.385,2,   34.386,2,  206.200,2,  203.400,2,   43.800,2,   32.590,2, -999.000,9,    2.230,2,    0.551,2,    0.252,2, -999.000,9, 2209.900,2, 2314.000,2
           NA,     A14,     85,   1,-999.0,      17,  2,19950206,0547, -34.5008,   -9.0043,  3916, 1395.400,    2.883,   34.494,2,   34.495,2,  192.700,2,  191.100,2,   53.500,2,   32.880,2, -999.000,9,    2.230,2,    0.226,2,    0.092,2, -999.000,9, 2223.400,2, 2326.500,2
           NA,     A14,     85,   1,-999.0,      16,  2,19950206,0547, -34.5008,   -9.0043,  3916, 1595.000,    2.797,   34.589,2,   34.590,2,  189.600,2,  189.100,2,   57.400,2,   31.930,2, -999.000,9,    2.160,2,    0.099,2,    0.049,2, -999.000,9, 2226.300,2, 2331.900,2
           NA,     A14,     85,   1,-999.0,      15,  2,19950206,0547, -34.5008,   -9.0043,  3916, 1796.500,    2.759,   34.686,2,   34.686,2,  197.300,2,  195.500,2,   57.300,2,   30.040,2, -999.000,9,    2.030,2,    0.031,2,    0.038,2, -999.000,9, 2221.400,2, 2336.900,2
           NA,     A14,     85,   1,-999.0,      14,  2,19950206,0547, -34.5008,   -9.0043,  3916, 1995.400,    2.724,   34.761,2,   34.762,2,  207.400,2,  206.400,2,   54.700,2,   27.980,2, -999.000,9,    1.890,2,    0.019,2,    0.009,2, -999.000,9, 2214.000,2, 2338.000,2
           NA,     A14,     85,   1,-999.0,      13,  2,19950206,0547, -34.5008,   -9.0043,  3916, 2195.200,    2.669,   34.810,2,   34.809,2,  216.700,2,  217.500,2,   52.200,2,   26.150,2, -999.000,9,    1.770,2, -999.000,9, -999.000,9, -999.000,9, 2206.700,2, 2338.800,2
           NA,     A14,     85,   1,-999.0,      12,  2,19950206,0547, -34.5008,   -9.0043,  3916, 2496.600,    2.572,   34.847,2,   34.847,2,  228.300,2,  228.400,2,   50.300,2,   24.610,2, -999.000,9,    1.670,2,    0.007,2,    0.005,2, -999.000,9, 2200.500,2, 2338.900,2
           NA,     A14,     85,   1,-999.0,      10,  2,19950206,0547, -34.5008,   -9.0043,  3916, 2795.700,    2.476,   34.859,2,   34.859,2,  234.600,2,  234.300,2,   49.900,2,   23.960,2, -999.000,9,    1.620,2,    0.005,2,    0.001,2, -999.000,9, 2197.000,2, 2340.500,2
           NA,     A14,     85,   1,-999.0,      11,  2,19950206,0547, -34.5008,   -9.0043,  3916, 2795.900,    2.476,   34.859,2,   34.855,2,  234.600,2,  234.200,2,   50.000,2,   23.970,2, -999.000,9,    1.630,2,    0.004,2,    0.005,2, -999.000,9, -999.000,9, 2340.700,2
           NA,     A14,     85,   1,-999.0,       9,  2,19950206,0547, -34.5008,   -9.0043,  3916, 2996.300,    2.428,   34.862,2,   34.863,2,  236.000,2,  235.900,2,   50.600,6,   23.940,2, -999.000,9,    1.610,6,    0.006,2,    0.005,2, -999.000,9, 2197.500,2, 2344.000,2
           NA,     A14,     85,   1,-999.0,       8,  2,19950206,0547, -34.5008,   -9.0043,  3916, 3195.700,    2.382,   34.868,2,   34.868,2,  237.100,2,  238.100,2,   51.000,2,   23.740,2, -999.000,9,    1.600,2,    0.001,2,    0.003,2, -999.000,9, 2196.400,2, 2345.400,2
           NA,     A14,     85,   1,-999.0,       7,  2,19950206,0547, -34.5008,   -9.0043,  3916, 3396.800,    2.361,   34.870,2,   34.871,2,  237.900,2,  237.300,2,   51.600,2,   23.600,2, -999.000,9,    1.610,2,    0.000,2,    0.002,2, -999.000,9, 2200.500,2, 2350.200,2
           NA,     A14,     85,   1,-999.0,       6,  2,19950206,0547, -34.5008,   -9.0043,  3916, 3596.400,    2.287,   34.866,2,   34.864,2,  236.200,2,  235.300,2,   55.100,2,   23.950,2, -999.000,9,    1.640,2,    0.003,2,   -0.002,2, -999.000,9, 2204.500,2, 2354.800,2
           NA,     A14,     85,   1,-999.0,       5,  2,19950206,0547, -34.5008,   -9.0043,  3916, 3797.100,    1.969,   34.832,2,   34.830,2,  230.300,2,  229.200,2,   69.300,2,   25.880,2, -999.000,9,    1.760,2,    0.003,2,    0.001,2, -999.000,9, 2217.900,2, 2359.100,2
           NA,     A14,     85,   1,-999.0,       4,  2,19950206,0547, -34.5008,   -9.0043,  3916, 3947.700,    1.882,   34.821,2,   34.820,2,  227.600,2,  227.700,2,   73.600,2,   26.460,2, -999.000,9,    1.790,2,    0.001,2,    0.005,2, -999.000,9, 2221.500,2, 2360.300,2
           NA,     A14,     85,   1,-999.0,       3,  2,19950206,0547, -34.5008,   -9.0043,  3916, 3999.000,    1.887,   34.821,2,   34.820,2,  227.100,2,  227.600,2,   73.500,2,   26.460,2, -999.000,9,    1.800,2,    0.003,2,    0.005,2, -999.000,9, 2221.700,6, 2361.800,6
           NA,     A14,     84,   1,-999.0,      32,  2,19950206,0019, -34.0022,   -9.0007,  4082,    4.100,   21.663,   36.041,2,   36.041,2,  217.700,2,  221.800,2,    1.600,2,    0.020,2, -999.000,9,    0.160,2, -999.000,9, -999.000,9, -999.000,9, -999.000,9, 2372.000,2
           NA,     A14,     84,   1,-999.0,      31,  2,19950206,0019, -34.0022,   -9.0007,  4082,   47.400,   21.638,   36.034,2,   36.032,2,  225.700,2,  222.300,2,    1.700,2,    0.020,2, -999.000,9,    0.160,2, -999.000,9, -999.000,9, -999.000,9, -999.000,9, -999.000,9
           NA,     A14,     84,   1,-999.0,      30,  2,19950206,0019, -34.0022,   -9.0007,  4082,   96.800,   18.921,   35.863,2,   35.863,2,  245.100,2,  242.100,2,    1.900,2,    0.020,2, -999.000,9,    0.160,2, -999.000,9, -999.000,9, -999.000,9, -999.000,9, -999.000,9
           NA,     A14,     84,   1,-999.0,      29,  2,19950206,0019, -34.0022,   -9.0007,  4082,  146.400,   17.498,   35.736,2,   35.731,2,  236.900,2, -999.000,3,    2.000,2,    0.520,2, -999.000,9,    0.220,2, -999.000,9, -999.000,9, -999.000,9, -999.000,9, -999.000,9
           NA,     A14,     84,   1,-999.0,      28,  2,19950206,0019, -34.0022,   -9.0007,  4082,  196.300,   15.092,   35.372,2, -999.000,3,  218.100,2,  213.800,2,    2.800,2,    5.910,2, -999.000,9,    0.500,2, -999.000,9, -999.000,9, -999.000,9, -999.000,9, -999.000,9
           NA,     A14,     84,   1,-999.0,      27,  2,19950206,0019, -34.0022,   -9.0007,  4082,  297.800,   13.182,   35.158,2,   35.161,2,  212.800,2,  210.400,2,    4.000,2,   10.170,2, -999.000,9,    0.730,2, -999.000,9, -999.000,9, -999.000,9, -999.000,9, -999.000,9
           NA,     A14,     84,   1,-999.0,      26,  2,19950206,0019, -34.0022,   -9.0007,  4082,  394.600,   11.532,   34.969,2,   34.967,2,  207.300,2,  204.100,2,    5.100,2,   14.890,2, -999.000,9,    1.010,2, -999.000,9, -999.000,9, -999.000,9, -999.000,9, -999.000,9
           NA,     A14,     84,   1,-999.0,      25,  2,19950206,0019, -34.0022,   -9.0007,  4082,  495.400,    9.534,   34.737,2,   34.736,2,  204.500,2, -999.000,3,    8.700,2,   19.600,2, -999.000,9,    1.330,2, -999.000,9, -999.000,9, -999.000,9, -999.000,9, -999.000,9
           NA,     A14,     84,   1,-999.0,      24,  2,19950206,0019, -34.0022,   -9.0007,  4082,  593.700,    8.109,   34.594,2,   34.595,2,  198.600,2,  199.200,2,   12.000,2,   22.920,2, -999.000,9,    1.540,2, -999.000,9, -999.000,9, -999.000,9, -999.000,9, -999.000,9
           NA,     A14,     84,   1,-999.0,      23,  2,19950206,0019, -34.0022,   -9.0007,  4082,  695.500,    6.729,   34.466,2,   34.468,2,  201.500,2,  204.800,2,   15.400,2,   25.830,2, -999.000,9,    1.730,2, -999.000,9, -999.000,9, -999.000,9, -999.000,9, -999.000,9
           NA,     A14,     84,   1,-999.0,      22,  2,19950206,0019, -34.0022,   -9.0007,  4082,  795.500,    5.259,   34.332,2,   34.337,2,  219.400,2, -999.000,3,   17.700,2,   27.540,2, -999.000,9,    1.840,2, -999.000,9, -999.000,9, -999.000,9, -999.000,9, -999.000,9
           NA,     A14,     84,   1,-999.0,      21,  2,19950206,0019, -34.0022,   -9.0007,  4082,  796.100,    5.257,   34.332,2,   34.334,2,  219.400,2, -999.000,3,   17.600,2,   27.600,2, -999.000,9,    1.840,2, -999.000,9, -999.000,9, -999.000,9, -999.000,9, -999.000,9
           NA,     A14,     84,   1,-999.0,      20,  2,19950206,0019, -34.0022,   -9.0007,  4082,  896.400,    4.347,   34.292,2,   34.294,2,  229.000,2,  228.400,2,   23.000,2,   29.540,2, -999.000,9,    1.960,2, -999.000,9, -999.000,9, -999.000,9, -999.000,9, -999.000,9
           NA,     A14,     84,   1,-999.0,      19,  2,19950206,0019, -34.0022,   -9.0007,  4082,  995.400,    3.863,   34.299,2,   34.300,2,  226.700,2,  222.900,2,   28.900,2,   30.780,2, -999.000,9,    2.050,2, -999.000,9, -999.000,9, -999.000,9, -999.000,9, -999.000,9
           NA,     A14,     84,   1,-999.0,      18,  2,19950206,0019, -34.0022,   -9.0007,  4082, 1195.400,    3.248,   34.372,2,   34.375,2,  206.000,2,  203.700,2,   42.000,2,   32.630,6, -999.000,9,    2.180,6, -999.000,9, -999.000,9, -999.000,9, -999.000,9, -999.000,9
           NA,     A14,     84,   1,-999.0,      17,  2,19950206,0019, -34.0022,   -9.0007,  4082, 1394.700,    2.960,   34.502,2,   34.503,2,  190.500,2,  189.200,2,   53.100,2,   33.140,2, -999.000,9,    2.210,2, -999.000,9, -999.000,9, -999.000,9, -999.000,9, -999.000,9
           NA,     A14,     84,   1,-999.0,      16,  2,19950206,0019, -34.0022,   -9.0007,  4082, 1592.700,    2.832,   34.612,2,   34.611,2,  189.300,2,  189.600,2,   57.200,2,   31.770,2, -999.000,9,    2.130,2, -999.000,9, -999.000,9, -999.000,9, -999.000,9, -999.000,9
           NA,     A14,     84,   1,-999.0,      15,  2,19950206,0019, -34.0022,   -9.0007,  4082, 1796.700,    2.747,   34.704,2,   34.703,2,  197.900,2,  197.500,2,   57.000,2,   29.820,2, -999.000,9,    1.980,2, -999.000,9, -999.000,9, -999.000,9, -999.000,9, -999.000,9
           NA,     A14,     84,   1,-999.0,      14,  2,19950206,0019, -34.0022,   -9.0007,  4082, 1995.300,    2.694,   34.758,2,   34.757,2,  207.200,2,  207.600,2,   55.100,2,   28.280,2, -999.000,9,    1.900,2, -999.000,9, -999.000,9, -999.000,9, -999.000,9, -999.000,9
           NA,     A14,     84,   1,-999.0,      13,  2,19950206,0019, -34.0022,   -9.0007,  4082, 2196.000,    2.660,   34.803,2,   34.804,2,  217.400,2,  216.500,2,   52.700,2,   26.680,2, -999.000,9,    1.790,2, -999.000,9, -999.000,9, -999.000,9, -999.000,9, -999.000,9
           NA,     A14,     84,   1,-999.0,      12,  2,19950206,0019, -34.0022,   -9.0007,  4082, 2397.600,    2.597,   34.824,2,   34.823,2,  223.700,2,  222.500,2,   51.700,2,   25.670,2, -999.000,9,    1.720,2, -999.000,9, -999.000,9, -999.000,9, -999.000,9, -999.000,9
           NA,     A14,     84,   1,-999.0,      11,  2,19950206,0019, -34.0022,   -9.0007,  4082, 2596.200,    2.537,   34.843,2,   34.839,2,  229.400,2,  228.100,2,   50.600,2,   24.720,2, -999.000,9,    1.660,2, -999.000,9, -999.000,9, -999.000,9, -999.000,9, -999.000,9
           NA,     A14,     84,   1,-999.0,      10,  2,19950206,0019, -34.0022,   -9.0007,  4082, 2795.200,    2.474,   34.856,2,   34.854,2,  234.600,2,  232.900,2,   50.000,2,   24.230,2, -999.000,9,    1.630,2, -999.000,9, -999.000,9, -999.000,9, -999.000,9, -999.000,9
           NA,     A14,     84,   1,-999.0,       9,  2,19950206,0019, -34.0022,   -9.0007,  4082, 2996.300,    2.437,   34.865,2,   34.864,2,  235.400,2,  235.900,2,   49.600,2,   23.870,2, -999.000,9,    1.600,2, -999.000,9, -999.000,9, -999.000,9, -999.000,9, -999.000,9
           NA,     A14,     84,   1,-999.0,       8,  2,19950206,0019, -34.0022,   -9.0007,  4082, 3195.000,    2.414,   34.868,2,   34.866,2,  236.900,2,  237.500,2,   50.200,2,   23.730,2, -999.000,9,    1.590,2, -999.000,9, -999.000,9, -999.000,9, -999.000,9, -999.000,9
           NA,     A14,     84,   1,-999.0,       7,  2,19950206,0019, -34.0022,   -9.0007,  4082, 3395.500,    2.392,   34.871,2,   34.869,2,  238.800,2,  237.800,2,   50.500,2,   23.680,2, -999.000,9,    1.580,2, -999.000,9, -999.000,9, -999.000,9, -999.000,9, -999.000,9
           NA,     A14,     84,   1,-999.0,       6,  2,19950206,0019, -34.0022,   -9.0007,  4082, 3596.600,    2.370,   34.875,2,   34.872,2,  237.600,2,  237.000,2,   51.400,2,   23.680,2, -999.000,9,    1.580,2, -999.000,9, -999.000,9, -999.000,9, -999.000,9, -999.000,9
           NA,     A14,     84,   1,-999.0,       5,  2,19950206,0019, -34.0022,   -9.0007,  4082, 3796.000,    2.336,   34.873,2,   34.872,2,  237.400,2,  235.500,2,   53.100,2,   23.860,2, -999.000,9,    1.590,2, -999.000,9, -999.000,9, -999.000,9, -999.000,9, -999.000,9
           NA,     A14,     84,   1,-999.0,       4,  2,19950206,0019, -34.0022,   -9.0007,  4082, 3996.100,    2.165,   34.853,2,   34.850,2,  231.700,2,  232.400,2,   61.400,2,   24.820,2, -999.000,9,    1.680,2, -999.000,9, -999.000,9, -999.000,9, -999.000,9, -999.000,9
           NA,     A14,     84,   1,-999.0,       3,  2,19950206,0019, -34.0022,   -9.0007,  4082, 4125.300,    1.866,   34.821,2,   34.818,2,  225.500,2,  227.500,2,   74.500,2,   26.580,2, -999.000,9,    1.800,2, -999.000,9, -999.000,9, -999.000,9, -999.000,9, -999.000,9