BOTTLE,20213527JOAExport
EXPOCODE,SECT_ID,STNNBR,CASTNO,SAMPNO,BTLNBR,BTLNBR_FLAG_W,DATE,TIME,LATITUDE,LONGITUDE,DEPTH,CTDPRS,CTDTMP,CTDSAL,CTDSAL_FLAG_W,SALNTY,SALNTY_FLAG_W,CTDOXY,CTDOXY_FLAG_W,OXYGEN,OXYGEN_FLAG_W,SILCAT,SILCAT_FLAG_W,NITRAT,NITRAT_FLAG_W,NITRIT,NITRIT_FLAG_W,PHSPHT,PHSPHT_FLAG_W,CFC-11,CFC-11_FLAG_W,CFC-12,CFC-12_FLAG_W,SF6,SF6_FLAG_W,TCARBN,TCARBN_FLAG_W,ALKALI,ALKALI_FLAG_W
,,,,,,,,,,,,DB,DEG C,PSS-78,,PSS-78,,UMOL/KG,,UMOL/KG,,UMOL/KG,,UMOL/KG,,UMOL/KG,,UMOL/KG,,PMOL/KG,,PMOL/KG,,FMOL/KG,,UMOL/KG,,UMOL/KG
           NA,     A14,     38,   1,-999.0,      32,  2,19950125,2347, -10.9990,   -8.9982,  4346,    3.600,   25.410,   36.346,2,   36.343,2,  206.800,2,  206.500,2,    1.080,2,    0.000,2, -999.000,9,    0.150,2,    1.812,2,    0.972,2, -999.000,9, -999.000,9, 2390.100,2
           NA,     A14,     38,   1,-999.0,      31,  2,19950125,2347, -10.9990,   -8.9982,  4346,   37.200,   25.402,   36.347,2,   36.350,2,  210.700,2,  207.500,2,    1.080,2,    0.000,2, -999.000,9,    0.160,2,    1.821,2,    0.965,2, -999.000,9, -999.000,9, -999.000,9
           NA,     A14,     38,   1,-999.0,      30,  2,19950125,2347, -10.9990,   -8.9982,  4346,  121.800,   15.186,   35.587,2, -999.000,3,  172.700,2, -999.000,3,    5.090,2,   18.390,2, -999.000,9,    1.190,2,    1.742,2,    0.840,2, -999.000,9, -999.000,9, -999.000,9
           NA,     A14,     38,   1,-999.0,      29,  2,19950125,2347, -10.9990,   -8.9982,  4346,  194.800,   11.667,   35.123,2,   35.127,2,   66.100,2,   65.900,2,   10.470,2,   29.610,2, -999.000,9,    1.840,2,    0.699,2,    0.349,2, -999.000,9, -999.000,9, -999.000,9
           NA,     A14,     38,   1,-999.0,      28,  2,19950125,2347, -10.9990,   -8.9982,  4346,  294.300,    9.834,   34.915,2,   34.913,2,   74.300,2,   76.800,2,   13.530,2,   31.950,2, -999.000,9,    1.970,2,    0.321,2,    0.159,2, -999.000,9, -999.000,9, -999.000,9
           NA,     A14,     38,   1,-999.0,      27,  2,19950125,2347, -10.9990,   -8.9982,  4346,  396.200,    8.462,   34.766,2,   34.768,2,   78.400,2,   75.700,2,   16.920,2,   34.980,2, -999.000,9,    2.160,2,    0.131,2,    0.069,2, -999.000,9, -999.000,9, -999.000,9
           NA,     A14,     38,   1,-999.0,      26,  2,19950125,2347, -10.9990,   -8.9982,  4346,  494.900,    7.126,   34.638,2,   34.642,2,   84.900,2,   85.600,2,   20.730,2,   36.810,2, -999.000,9,    2.320,2,    0.057,2,    0.035,2, -999.000,9, -999.000,9, -999.000,9
           NA,     A14,     38,   1,-999.0,      25,  2,19950125,2347, -10.9990,   -8.9982,  4346,  595.600,    6.166,   34.561,2,   34.566,2,   95.100,2,   92.900,2,   24.100,2,   38.050,2, -999.000,9,    2.430,2,    0.031,2,    0.019,2, -999.000,9, -999.000,9, -999.000,9
           NA,     A14,     38,   1,-999.0,      24,  2,19950125,2347, -10.9990,   -8.9982,  4346,  695.100,    5.347,   34.512,2,   34.514,2,  116.400,2, -999.000,3,   27.890,2,   38.030,2, -999.000,9,    2.450,2,    0.015,2,    0.011,2, -999.000,9, -999.000,9, -999.000,9
           NA,     A14,     38,   1,-999.0,      23,  2,19950125,2347, -10.9990,   -8.9982,  4346,  794.900,    4.699,   34.496,2,   34.500,2,  134.700,2,  134.100,2,   31.500,2,   36.690,2, -999.000,9,    2.400,2,    0.008,2,    0.003,2, -999.000,9, -999.000,9, -999.000,9
           NA,     A14,     38,   1,-999.0,      22,  2,19950125,2347, -10.9990,   -8.9982,  4346,  995.000,    4.087,   34.581,2,   34.583,2,  157.300,2,  157.800,2,   34.590,2,   34.140,2, -999.000,9,    2.240,2,    0.001,2, -999.000,9, -999.000,9, -999.000,9, -999.000,9
           NA,     A14,     38,   1,-999.0,      21,  2,19950125,2347, -10.9990,   -8.9982,  4346, 1196.100,    3.938,   34.728,2,   34.728,2,  174.800,2, -999.000,3,   31.590,2,   30.450,2, -999.000,9,    1.980,2,    0.004,2, -999.000,9, -999.000,9, -999.000,9, -999.000,9
           NA,     A14,     38,   1,-999.0,      20,  2,19950125,2347, -10.9990,   -8.9982,  4346, 1395.400,    3.890,   34.847,2,   34.846,2,  202.600,2,  201.800,2,   27.500,2,   26.410,2, -999.000,9,    1.740,2,    0.005,2, -999.000,3, -999.000,9, -999.000,9, -999.000,9
           NA,     A14,     38,   1,-999.0,      19,  2,19950125,2347, -10.9990,   -8.9982,  4346, 1596.300,    3.709,   34.909,2,   34.910,2,  221.500,2,  220.800,2,   25.690,2,   23.810,2, -999.000,9,    1.550,2,    0.009,2, -999.000,9, -999.000,9, -999.000,9, -999.000,9
           NA,     A14,     38,   1,-999.0,      18,  2,19950125,2347, -10.9990,   -8.9982,  4346, 1795.300,    3.495,   34.929,2,   34.930,2,  232.800,2,  232.100,2,   26.250,2,   22.680,2, -999.000,9,    1.460,2,    0.008,2,    0.001,2, -999.000,9, -999.000,9, -999.000,9
           NA,     A14,     38,   1,-999.0,      17,  2,19950125,2347, -10.9990,   -8.9982,  4346, 1996.900,    3.262,   34.929,2,   34.928,2,  236.500,2,  235.200,2,   29.410,2,   22.410,2, -999.000,9,    1.450,2,    0.004,2, -999.000,9, -999.000,9, -999.000,9, -999.000,9
           NA,     A14,     38,   1,-999.0,      16,  2,19950125,2347, -10.9990,   -8.9982,  4346, 2195.600,    3.065,   34.924,2,   34.922,2,  238.000,2,  237.500,2,   32.400,2,   22.490,2, -999.000,9,    1.450,2,    0.004,2,    0.003,2, -999.000,9, -999.000,9, -999.000,9
           NA,     A14,     38,   1,-999.0,      15,  2,19950125,2347, -10.9990,   -8.9982,  4346, 2393.300,    2.906,   34.916,2,   34.915,2,  238.000,2,  237.800,2,   35.550,2,   22.600,2, -999.000,9,    1.460,2,    0.006,2, -999.000,9, -999.000,9, -999.000,9, -999.000,9
           NA,     A14,     38,   1,-999.0,      14,  2,19950125,2347, -10.9990,   -8.9982,  4346, 2591.900,    2.783,   34.910,2,   34.910,2,  238.000,2,  239.000,2,   38.100,2,   22.810,2, -999.000,9,    1.480,2,    0.005,2,    0.002,2, -999.000,9, -999.000,9, -999.000,9
           NA,     A14,     38,   1,-999.0,      13,  2,19950125,2347, -10.9990,   -8.9982,  4346, 2795.700,    2.657,   34.905,2,   34.904,2,  237.500,2,  237.200,2,   40.900,2,   22.880,2, -999.000,9,    1.490,2,    0.006,2,    0.001,2, -999.000,9, -999.000,9, -999.000,9
           NA,     A14,     38,   1,-999.0,      12,  2,19950125,2347, -10.9990,   -8.9982,  4346, 2995.300,    2.547,   34.899,2,   34.897,2,  236.800,2,  237.200,2,   43.530,2,   23.040,2, -999.000,9,    1.510,2,    0.005,2,    0.003,2, -999.000,9, -999.000,9, -999.000,9
           NA,     A14,     38,   1,-999.0,      11,  2,19950125,2347, -10.9990,   -8.9982,  4346, 3195.700,    2.473,   34.893,2,   34.894,2,  237.300,2,  237.300,2,   45.470,2,   23.210,2, -999.000,9,    1.520,2,    0.003,2,    0.000,2, -999.000,9, -999.000,9, -999.000,9
           NA,     A14,     38,   1,-999.0,      10,  2,19950125,2347, -10.9990,   -8.9982,  4346, 3391.700,    2.421,   34.892,2,   34.896,2,  237.300,2,  237.400,2,   46.710,2,   23.190,2, -999.000,9,    1.520,2,    0.004,2,    0.005,2, -999.000,9, -999.000,9, -999.000,9
           NA,     A14,     38,   1,-999.0,       9,  2,19950125,2347, -10.9990,   -8.9982,  4346, 3594.700,    2.390,   34.891,2,   34.888,2,  237.500,2,  237.700,2,   47.770,2,   23.180,2, -999.000,9,    1.530,2,    0.002,2,   -0.001,2, -999.000,9, -999.000,9, -999.000,9
           NA,     A14,     38,   1,-999.0,       8,  2,19950125,2347, -10.9990,   -8.9982,  4346, 3796.600,    2.390,   34.889,2,   34.887,2,  237.800,2,  237.700,2,   48.150,2,   23.170,2, -999.000,9,    1.530,2,    0.004,2,    0.001,2, -999.000,9, -999.000,9, -999.000,9
           NA,     A14,     38,   1,-999.0,       7,  2,19950125,2347, -10.9990,   -8.9982,  4346, 3797.200,    2.390,   34.890,2,   34.888,2,  237.800,2,  237.400,2,   48.000,2,   23.160,2, -999.000,9,    1.530,2,    0.005,2, -999.000,9, -999.000,9, -999.000,9, -999.000,9
           NA,     A14,     38,   1,-999.0,       6,  2,19950125,2347, -10.9990,   -8.9982,  4346, 3996.000,    2.397,   34.888,2,   34.888,2,  238.200,2,  238.100,2,   48.110,2,   23.150,2, -999.000,9,    1.530,2,    0.003,2,    0.001,2, -999.000,9, -999.000,9, -999.000,9
           NA,     A14,     38,   1,-999.0,       5,  2,19950125,2347, -10.9990,   -8.9982,  4346, 4198.100,    2.414,   34.889,2,   34.886,2,  238.500,2,  238.000,2,   48.230,2,   23.140,2, -999.000,9,    1.530,2,    0.002,2,    0.004,2, -999.000,9, -999.000,9, -999.000,9
           NA,     A14,     38,   1,-999.0,       4,  2,19950125,2347, -10.9990,   -8.9982,  4346, 4296.100,    2.425,   34.887,2,   34.886,2,  239.100,2,  238.100,2,   48.170,2,   23.130,2, -999.000,9,    1.530,2,    0.006,2,    0.000,2, -999.000,9, -999.000,9, -999.000,9
           NA,     A14,     38,   1,-999.0,       3,  2,19950125,2347, -10.9990,   -8.9982,  4346, 4390.600,    2.436,   34.887,2,   34.886,2,  237.700,2,  240.100,2,   48.190,2,   23.120,2, -999.000,9,    1.510,2,    0.004,2, -999.000,9, -999.000,9, -999.000,9, -999.000,9
           NA,     A14,     37,   1,-999.0,      31,  2,19950125,1818, -10.4998,   -8.9992,  3626,    3.200,   25.554,   36.345,2,   36.342,2,  201.600,2, -999.000,3,    1.030,2,    0.020,2, -999.000,9,    0.160,2,    1.843,2,    0.973,2, -999.000,9, 2052.800,2, 2390.300,2
           NA,     A14,     37,   1,-999.0,      32,  2,19950125,1818, -10.4998,   -8.9992,  3626,    3.500,   25.560,   36.345,2,   36.343,2,  202.200,2, -999.000,3,    1.030,2,    0.000,2, -999.000,9,    0.160,2,    1.852,2,    0.979,2, -999.000,9, -999.000,9, 2389.600,2
           NA,     A14,     37,   1,-999.0,      30,  2,19950125,1818, -10.4998,   -8.9992,  3626,   46.900,   25.386,   36.343,2,   36.341,2,  214.700,2, -999.000,3,    1.200,2,    0.020,2, -999.000,9,    0.170,2,    1.852,2,    0.975,2, -999.000,9, 2052.600,2, 2390.300,2
           NA,     A14,     37,   1,-999.0,      29,  2,19950125,1818, -10.4998,   -8.9992,  3626,   95.300,   19.999,   36.391,2, -999.000,3,  185.400,2, -999.000,3,    2.040,2,    4.650,2, -999.000,9,    0.480,2,    2.119,2,    1.035,2, -999.000,9, 2104.400,2, 2390.100,2
           NA,     A14,     37,   1,-999.0,      28,  2,19950125,1818, -10.4998,   -8.9992,  3626,  147.100,   13.392,   35.327,2,   35.329,2,  107.600,2, -999.000,3,    7.750,2,   23.070,2, -999.000,9,    1.510,2,    1.366,2,    0.648,2, -999.000,9, 2186.000,2, 2323.500,2
           NA,     A14,     37,   1,-999.0,      27,  2,19950125,1818, -10.4998,   -8.9992,  3626,  196.400,   11.039,   35.054,2,   35.052,2,   80.200,2,   77.900,2,   11.950,2,   29.160,2, -999.000,9,    1.880,2,    0.609,2,    0.303,2, -999.000,9, 2211.900,2, 2311.800,2
           NA,     A14,     37,   1,-999.0,      26,  2,19950125,1818, -10.4998,   -8.9992,  3626,  295.400,    8.946,   34.815,2,   34.815,2,   83.200,2,   84.900,2,   16.060,2,   32.940,2, -999.000,9,    2.100,2,    0.248,2,    0.135,2, -999.000,9, 2221.600,2, 2303.100,2
           NA,     A14,     37,   1,-999.0,      25,  2,19950125,1818, -10.4998,   -8.9992,  3626,  393.900,    8.143,   34.732,2,   34.732,2,   85.500,2,   85.500,2,   18.070,2,   34.540,2, -999.000,9,    2.210,2,    0.146,2,    0.077,2, -999.000,9, 2226.600,2, 2300.700,2
           NA,     A14,     37,   1,-999.0,      24,  2,19950125,1818, -10.4998,   -8.9992,  3626,  494.800,    7.260,   34.646,2,   34.647,2,   94.000,2,   93.700,2,   20.760,2,   35.680,2, -999.000,9,    2.300,2,    0.092,2,    0.049,2, -999.000,9, 2228.400,2, 2300.200,2
           NA,     A14,     37,   1,-999.0,      23,  2,19950125,1818, -10.4998,   -8.9992,  3626,  594.700,    6.153,   34.555,2,   34.561,2,  108.800,2,  107.300,2,   24.280,2,   36.360,2, -999.000,9,    2.390,2,    0.052,2,    0.030,2, -999.000,9, 2228.800,2, 2300.500,2
           NA,     A14,     37,   1,-999.0,      22,  2,19950125,1818, -10.4998,   -8.9992,  3626,  695.200,    5.291,   34.501,2,   34.503,2,  124.300,2,  127.800,2,   28.720,2,   36.180,2, -999.000,9,    2.410,2,    0.035,2,    0.015,2, -999.000,9, 2225.100,2, 2302.200,2
           NA,     A14,     37,   1,-999.0,      20,  2,19950125,1818, -10.4998,   -8.9992,  3626,  795.100,    4.758,   34.483,2,   34.484,2,  136.300,2, -999.000,3,   31.400,2,   35.760,2, -999.000,9,    2.400,2,    0.021,2,    0.018,2, -999.000,9, 2225.200,2, 2305.300,2
           NA,     A14,     37,   1,-999.0,      21,  2,19950125,1818, -10.4998,   -8.9992,  3626,  795.200,    4.764,   34.482,2,   34.484,2,  136.300,2, -999.000,3,   31.570,2,   35.880,2, -999.000,9,    2.400,2,    0.024,2,    0.015,2, -999.000,9, -999.000,9, 2304.900,2
           NA,     A14,     37,   1,-999.0,      19,  2,19950125,1818, -10.4998,   -8.9992,  3626,  895.300,    4.359,   34.504,2,   34.502,2,  149.200,2,  147.600,2,   34.410,2,   35.630,2, -999.000,9,    2.380,2,    0.007,2,    0.006,2, -999.000,9, 2225.200,2, 2309.800,2
           NA,     A14,     37,   1,-999.0,      18,  2,19950125,1818, -10.4998,   -8.9992,  3626,  993.900,    4.103,   34.565,2,   34.565,2,  158.000,2,  157.300,2,   35.580,2,   34.240,2, -999.000,9,    2.300,2,    0.003,2,    0.004,2, -999.000,9, 2222.400,2, 2314.800,2
           NA,     A14,     37,   1,-999.0,      17,  2,19950125,1818, -10.4998,   -8.9992,  3626, 1193.900,    3.947,   34.704,2,   34.705,2,  174.700,2,  174.900,2,   33.060,2,   31.310,2, -999.000,9,    2.080,2,    0.001,2,    0.001,2, -999.000,9, 2212.400,2, 2317.900,2
           NA,     A14,     37,   1,-999.0,      16,  2,19950125,1818, -10.4998,   -8.9992,  3626, 1395.900,    3.836,   34.849,2,   34.847,2,  199.600,2,  202.600,2,   28.360,2,   26.420,2, -999.000,9,    1.760,2,    0.001,2,    0.000,2, -999.000,9, 2195.200,2, 2321.500,2
           NA,     A14,     37,   1,-999.0,      15,  2,19950125,1818, -10.4998,   -8.9992,  3626, 1596.000,    3.645,   34.904,2,   34.904,2,  218.400,2,  219.900,2,   26.770,2,   24.050,2, -999.000,9,    1.610,2,    0.004,2,    0.010,2, -999.000,9, 2185.600,2, 2324.200,2
           NA,     A14,     37,   1,-999.0,      14,  2,19950125,1818, -10.4998,   -8.9992,  3626, 1793.000,    3.419,   34.928,2,   34.927,2,  231.800,2,  231.900,2,   27.520,2,   22.950,2, -999.000,9,    1.500,2,    0.001,2,    0.003,2, -999.000,9, 2181.100,2, 2327.300,2
           NA,     A14,     37,   1,-999.0,      13,  2,19950125,1818, -10.4998,   -8.9992,  3626, 1994.000,    3.226,   34.929,2,   34.928,2,  237.700,2,  235.700,2,   30.190,2,   22.600,2, -999.000,9,    1.490,2,    0.003,2,    0.001,2, -999.000,9, 2181.600,2, 2331.600,2
           NA,     A14,     37,   1,-999.0,      12,  2,19950125,1818, -10.4998,   -8.9992,  3626, 2195.700,    3.040,   34.924,2,   34.920,2,  238.300,2,  237.900,2,   33.370,2,   22.730,2, -999.000,9,    1.490,2,    0.003,2,    0.001,2, -999.000,9, 2183.600,2, 2333.700,2
           NA,     A14,     37,   1,-999.0,      11,  2,19950125,1818, -10.4998,   -8.9992,  3626, 2395.600,    2.881,   34.916,2,   34.914,2,  237.700,2,  237.600,2,   36.550,2,   22.850,2, -999.000,9,    1.510,2,    0.003,2, -999.000,9, -999.000,9, 2186.900,2, 2337.600,2
           NA,     A14,     37,   1,-999.0,      10,  2,19950125,1818, -10.4998,   -8.9992,  3626, 2585.900,    2.782,   34.911,2,   34.911,2,  237.600,2,  237.500,2,   38.720,2,   23.020,2, -999.000,9,    1.520,2,    0.001,2,    0.001,2, -999.000,9, 2189.600,2, 2340.600,2
           NA,     A14,     37,   1,-999.0,       9,  2,19950125,1818, -10.4998,   -8.9992,  3626, 2795.600,    2.661,   34.906,2,   34.904,2,  237.000,2,  237.300,2,   41.560,2, -999.000,9, -999.000,9,    1.540,2,    0.002,2,   -0.001,2, -999.000,9, 2193.300,2, 2344.600,2
           NA,     A14,     37,   1,-999.0,       8,  2,19950125,1818, -10.4998,   -8.9992,  3626, 2996.900,    2.524,   34.898,2,   34.897,2,  236.500,2,  237.100,2,   44.960,2,   23.400,2, -999.000,9,    1.550,2,    0.002,2,    0.000,2, -999.000,9, 2197.600,2, 2348.100,2
           NA,     A14,     37,   1,-999.0,       7,  2,19950125,1818, -10.4998,   -8.9992,  3626, 3195.600,    2.464,   34.896,2,   34.895,2,  237.000,2,  237.100,2,   46.480,2,   23.390,2, -999.000,9,    1.550,2, -999.000,9, -999.000,9, -999.000,9, -999.000,9, 2349.700,2
           NA,     A14,     37,   1,-999.0,       6,  2,19950125,1818, -10.4998,   -8.9992,  3626, 3195.900,    2.463,   34.895,2,   34.893,2,  237.000,2,  236.900,2,   46.920,2,   23.480,2, -999.000,9,    1.560,2,    0.001,2,    0.001,2, -999.000,9, 2199.300,2, 2351.400,2
           NA,     A14,     37,   1,-999.0,       5,  2,19950125,1818, -10.4998,   -8.9992,  3626, 3396.900,    2.432,   34.893,2,   34.891,2,  236.800,2,  237.400,2,   47.640,2,   23.560,2, -999.000,9,    1.550,2,    0.001,2,    0.001,2, -999.000,9, 2201.200,2, 2351.600,2
           NA,     A14,     37,   1,-999.0,       4,  2,19950125,1818, -10.4998,   -8.9992,  3626, 3547.900,    2.427,   34.893,2,   34.890,2,  237.900,2,  237.200,2,   48.170,2,   23.550,2, -999.000,9,    1.550,2,    0.004,2,    0.001,2, -999.000,9, -999.000,9, 2351.200,2
           NA,     A14,     37,   1,-999.0,       3,  2,19950125,1818, -10.4998,   -8.9992,  3626, 3639.800,    2.411,   34.890,2,   34.890,2,  236.800,2,  237.700,2,   48.880,2,   23.420,2, -999.000,9,    1.560,2,    0.002,2,   -0.001,2, -999.000,9, 2201.300,2, 2352.200,6