BOTTLE,20213527JOAExport
EXPOCODE,SECT_ID,STNNBR,CASTNO,SAMPNO,BTLNBR,BTLNBR_FLAG_W,DATE,TIME,LATITUDE,LONGITUDE,DEPTH,CTDPRS,CTDTMP,CTDSAL,CTDSAL_FLAG_W,SALNTY,SALNTY_FLAG_W,CTDOXY,CTDOXY_FLAG_W,OXYGEN,OXYGEN_FLAG_W,SILCAT,SILCAT_FLAG_W,NITRAT,NITRAT_FLAG_W,NITRIT,NITRIT_FLAG_W,PHSPHT,PHSPHT_FLAG_W,CFC-11,CFC-11_FLAG_W,CFC-12,CFC-12_FLAG_W,SF6,SF6_FLAG_W,TCARBN,TCARBN_FLAG_W,ALKALI,ALKALI_FLAG_W
,,,,,,,,,,,,DB,DEG C,PSS-78,,PSS-78,,UMOL/KG,,UMOL/KG,,UMOL/KG,,UMOL/KG,,UMOL/KG,,UMOL/KG,,PMOL/KG,,PMOL/KG,,FMOL/KG,,UMOL/KG,,UMOL/KG
           NA,     A14,     22,   1,-999.0,      32,  2,19950122,0758,  -3.0013,   -7.4463,  4605,    3.700,   26.886,   35.800,2,   35.801,2,  272.300,2, -999.000,3,    0.980,2,    0.000,2, -999.000,9,    0.090,2,    1.711,2,    0.938,2, -999.000,9, 2015.500,6, 2353.400,2
           NA,     A14,     22,   1,-999.0,      31,  2,19950122,0758,  -3.0013,   -7.4463,  4605,   46.600,   19.415,   35.753,2, -999.000,3,  177.600,2, -999.000,3,    3.480,2,   10.160,2, -999.000,9,    0.720,2,    1.604,2,    0.819,2, -999.000,9, 2109.600,2, 2351.900,2
           NA,     A14,     22,   1,-999.0,      30,  2,19950122,0758,  -3.0013,   -7.4463,  4605,   97.100,   14.530,   35.474,2,   35.477,2,  102.300,2,  103.800,2,    7.140,2,   20.970,2, -999.000,9,    1.330,2,    1.351,2,    0.674,2, -999.000,9, 2175.600,2, 2332.400,2
           NA,     A14,     22,   1,-999.0,      29,  2,19950122,0758,  -3.0013,   -7.4463,  4605,  122.000,   14.143,   35.426,2,   35.421,2,  104.600,2,  103.900,2,    7.470,2,   21.470,2, -999.000,9,    1.380,2,    1.294,2,    0.653,2, -999.000,9, 2176.400,2, 2328.300,2
           NA,     A14,     22,   1,-999.0,      28,  2,19950122,0758,  -3.0013,   -7.4463,  4605,  196.700,   13.458,   35.338,2,   35.337,2,  116.600,2,  118.000,2,    8.060,2,   21.010,2, -999.000,9,    1.340,2,    1.245,2,    0.630,2, -999.000,9, 2169.700,2, 2326.500,2
           NA,     A14,     22,   1,-999.0,      27,  2,19950122,0758,  -3.0013,   -7.4463,  4605,  396.300,    9.465,   34.871,2, -999.000,3,   58.300,2,   61.400,2,   15.800,2,   34.310,2, -999.000,9,    2.110,2,    0.255,2,    0.155,2, -999.000,9, 2231.600,2, 2302.400,2
           NA,     A14,     22,   1,-999.0,      26,  2,19950122,0758,  -3.0013,   -7.4463,  4605,  596.300,    5.801,   34.529,2,   34.532,2,  125.500,2,  125.000,2,   25.340,6,   35.030,2, -999.000,9,    2.290,6,    0.089,2,    0.059,2, -999.000,9, 2219.600,2, 2298.300,2
           NA,     A14,     22,   1,-999.0,      25,  2,19950122,0758,  -3.0013,   -7.4463,  4605,  795.400,    4.805,   34.492,2,   34.495,2,  145.500,2,  142.400,2,   30.760,2,   35.130,2, -999.000,9,    2.320,2,    0.038,2,    0.030,2, -999.000,9, 2221.400,2, 2303.600,2
           NA,     A14,     22,   1,-999.0,      24,  2,19950122,0758,  -3.0013,   -7.4463,  4605,  995.700,    4.331,   34.603,2,   34.599,2,  154.900,2,  154.700,2,   32.910,6,   33.300,6, -999.000,9,    2.220,6,    0.007,2,    0.010,2, -999.000,9, 2220.900,2, 2312.000,2
           NA,     A14,     22,   1,-999.0,      23,  2,19950122,0758,  -3.0013,   -7.4463,  4605, 1195.300,    4.345,   34.803,2,   34.805,2,  177.300,2, -999.000,3,   27.080,2,   28.320,2, -999.000,9,    1.870,2,    0.013,2,    0.009,2, -999.000,9, 2202.700,2, 2317.900,2
           NA,     A14,     22,   1,-999.0,      22,  2,19950122,0758,  -3.0013,   -7.4463,  4605, 1395.500,    4.278,   34.929,2,   34.931,2,  216.200,2,  214.900,2,   21.090,2,   23.450,2, -999.000,9,    1.530,2,    0.034,2,    0.029,2, -999.000,9, -999.000,9, 2319.800,2
           NA,     A14,     22,   1,-999.0,      21,  2,19950122,0758,  -3.0013,   -7.4463,  4605, 1395.800,    4.276,   34.930,2,   34.930,2,  216.200,2,  215.200,2,   20.920,2,   23.450,2, -999.000,9,    1.520,2,    0.029,2,    0.017,2, -999.000,9, 2180.800,2, 2318.400,2
           NA,     A14,     22,   1,-999.0,      20,  2,19950122,0758,  -3.0013,   -7.4463,  4605, 1546.200,    4.024,   34.953,2,   34.951,2,  230.000,2,  228.500,2,   20.330,2,   22.120,2, -999.000,9,    1.420,2,    0.019,2,    0.016,2, -999.000,9, 2173.900,2, 2319.000,2
           NA,     A14,     22,   1,-999.0,      19,  2,19950122,0758,  -3.0013,   -7.4463,  4605, 1695.800,    3.844,   34.967,2,   34.966,2,  236.800,2,  240.200,2,   19.740,2,   21.080,2, -999.000,9,    1.340,2,    0.024,2,    0.022,2, -999.000,9, 2169.200,2, 2320.900,2
           NA,     A14,     22,   1,-999.0,      18,  2,19950122,0758,  -3.0013,   -7.4463,  4605, 1846.000,    3.602,   34.959,2,   34.959,2,  243.200,2,  242.900,2,   22.390,2,   21.080,2, -999.000,9,    1.350,2,    0.014,2,    0.007,2, -999.000,9, 2170.300,2, 2323.200,2
           NA,     A14,     22,   1,-999.0,      17,  2,19950122,0758,  -3.0013,   -7.4463,  4605, 1996.700,    3.373,   34.958,2,   34.959,2,  245.500,2,  247.800,2,   24.040,2,   20.660,2, -999.000,9,    1.320,2,    0.015,2,    0.008,2, -999.000,9, 2170.100,2, 2324.500,2
           NA,     A14,     22,   1,-999.0,      16,  2,19950122,0758,  -3.0013,   -7.4463,  4605, 2295.700,    3.078,   34.939,2,   34.933,2,  245.100,2,  244.100,2,   30.420,2,   21.360,2, -999.000,9,    1.380,2,    0.004,2,    0.005,2, -999.000,9, 2177.200,2, 2330.000,2
           NA,     A14,     22,   1,-999.0,      15,  2,19950122,0758,  -3.0013,   -7.4463,  4605, 2597.000,    2.838,   34.924,2, -999.000,3,  241.700,2,  243.800,2,   35.460,2,   21.860,2, -999.000,9,    1.420,2,    0.008,2,    0.005,2, -999.000,9, 2181.900,2, 2337.100,2
           NA,     A14,     22,   1,-999.0,      14,  2,19950122,0758,  -3.0013,   -7.4463,  4605, 2797.200,    2.708,   34.914,2,   34.915,2,  240.300,2,  240.800,2,   39.180,2,   22.230,2, -999.000,9,    1.450,2,    0.004,2,    0.003,2, -999.000,9, 2188.800,2, 2339.800,2
           NA,     A14,     22,   1,-999.0,      12,  2,19950122,0758,  -3.0013,   -7.4463,  4605, 3196.600,    2.562,   34.905,2,   34.903,2,  240.400,2,  240.600,2,   42.210,2,   22.440,2, -999.000,9,    1.460,2,    0.006,2, -999.000,9, -999.000,9, 2191.800,2, 2345.700,2
           NA,     A14,     22,   1,-999.0,      11,  2,19950122,0758,  -3.0013,   -7.4463,  4605, 3396.300,    2.509,   34.902,2,   34.900,2,  240.600,2,  240.600,2,   43.080,2,   22.520,2, -999.000,9,    1.470,2,    0.008,2, -999.000,9, -999.000,9, 2194.000,2, 2346.900,2
           NA,     A14,     22,   1,-999.0,      10,  2,19950122,0758,  -3.0013,   -7.4463,  4605, 3597.000,    2.467,   34.899,2,   34.897,2,  240.800,2,  240.500,2,   44.640,6,   22.550,6, -999.000,9,    1.470,6,    0.007,2,    0.005,2, -999.000,9, 2196.700,2, 2348.300,2
           NA,     A14,     22,   1,-999.0,       9,  2,19950122,0758,  -3.0013,   -7.4463,  4605, 3796.900,    2.397,   34.892,2,   34.890,2,  240.400,2,  240.600,2,   46.870,2,   22.680,2, -999.000,9,    1.490,2,    0.004,2,    0.003,2, -999.000,9, 2199.500,2, 2349.200,2
           NA,     A14,     22,   1,-999.0,       8,  2,19950122,0758,  -3.0013,   -7.4463,  4605, 3997.300,    2.338,   34.887,2,   34.885,2,  243.300,2,  243.100,2,   47.200,2,   22.590,2, -999.000,9,    1.490,2,    0.008,2,    0.008,2, -999.000,9, 2198.900,2, 2348.800,2
           NA,     A14,     22,   1,-999.0,       7,  2,19950122,0758,  -3.0013,   -7.4463,  4605, 4196.200,    2.307,   34.884,2,   34.885,2,  245.100,2,  244.400,2,   47.900,2,   22.550,2, -999.000,9,    1.480,2,    0.012,2,    0.018,2, -999.000,9, -999.000,9, 2347.700,2
           NA,     A14,     22,   1,-999.0,       6,  2,19950122,0758,  -3.0013,   -7.4463,  4605, 4198.300,    2.306,   34.884,2,   34.882,2,  245.100,2,  244.500,2,   48.150,2,   22.550,2, -999.000,9,    1.480,2,    0.010,2,    0.009,2, -999.000,9, 2197.400,2, 2349.700,2
           NA,     A14,     22,   1,-999.0,       5,  2,19950122,0758,  -3.0013,   -7.4463,  4605, 4398.500,    2.274,   34.880,2,   34.878,2,  245.200,2,  243.500,2,   49.640,2,   22.750,2, -999.000,9,    1.500,2,    0.006,2,    0.012,2, -999.000,9, 2199.000,2, 2349.700,2
           NA,     A14,     22,   1,-999.0,       4,  2,19950122,0758,  -3.0013,   -7.4463,  4605, 4597.800,    2.261,   34.876,2,   34.874,2,  245.000,2,  244.000,2,   51.040,2,   22.790,2, -999.000,9,    1.500,2,    0.007,2,    0.012,2, -999.000,9, 2201.100,2, 2351.000,2
           NA,     A14,     22,   1,-999.0,       3,  2,19950122,0758,  -3.0013,   -7.4463,  4605, 4654.900,    2.266,   34.876,2,   34.875,2,  244.900,2,  243.400,2,   51.370,2,   22.830,2, -999.000,9,    1.500,2,    0.006,2,    0.011,2, -999.000,9, 2201.200,6, 2352.600,6
           NA,     A14,     21,   1,-999.0,      32,  2,19950122,0158,  -2.4987,   -7.3265,  4531,    4.200,   26.778,   35.871,2,   35.872,2,  208.300,2,  204.200,2,    0.980,2,    0.000,2, -999.000,9,    0.120,2,    1.696,2,    0.983,2, -999.000,9, 2020.500,2, -999.000,9
           NA,     A14,     21,   1,-999.0,      31,  2,19950122,0158,  -2.4987,   -7.3265,  4531,   44.000,   24.461,   35.874,2, -999.000,3,  219.000,2, -999.000,3,    1.730,2,    2.080,2, -999.000,9,    0.270,2,    1.665,2,    0.891,2, -999.000,9, -999.000,9, -999.000,9
           NA,     A14,     21,   1,-999.0,      30,  2,19950122,0158,  -2.4987,   -7.3265,  4531,   66.900,   15.650,   35.603,2, -999.000,3,  137.300,2, -999.000,3,    1.730,2,    2.080,2, -999.000,9,    0.270,2,    1.478,2,    0.746,2, -999.000,9, -999.000,9, -999.000,9
           NA,     A14,     21,   1,-999.0,      29,  2,19950122,0158,  -2.4987,   -7.3265,  4531,  196.000,   13.525,   35.345,2,   35.343,2,  129.600,2,  131.400,2,    7.630,2,   19.430,2, -999.000,9,    1.260,2,    1.302,2,    0.653,2, -999.000,9, -999.000,9, -999.000,9
           NA,     A14,     21,   1,-999.0,      28,  2,19950122,0158,  -2.4987,   -7.3265,  4531,  395.000,    9.782,   34.919,2,   34.914,2,   71.000,2, -999.000,3,   14.790,2,   33.380,2, -999.000,9,    2.060,2,    0.320,2,    0.182,2, -999.000,9, -999.000,9, -999.000,9
           NA,     A14,     21,   1,-999.0,      27,  2,19950122,0158,  -2.4987,   -7.3265,  4531,  595.400,    5.661,   34.507,2,   34.511,2,  149.300,2,  147.500,2,   24.780,2,   33.110,2, -999.000,9,    2.180,2,    0.198,2,    0.114,2, -999.000,9, -999.000,9, -999.000,9
           NA,     A14,     21,   1,-999.0,      25,  2,19950122,0158,  -2.4987,   -7.3265,  4531,  795.700,    4.731,   34.500,2,   34.503,2,  143.100,2,  142.400,2,   30.950,2,   34.970,2, -999.000,9,    2.330,2,    0.029,2,    0.026,2, -999.000,9, -999.000,9, -999.000,9
           NA,     A14,     21,   1,-999.0,      26,  2,19950122,0158,  -2.4987,   -7.3265,  4531,  796.100,    4.731,   34.500,2,   34.502,2,  143.100,2,  141.700,2,   30.940,2,   34.970,2, -999.000,9,    2.340,2,    0.028,2,    0.025,2, -999.000,9, -999.000,9, -999.000,9
           NA,     A14,     21,   1,-999.0,      24,  2,19950122,0158,  -2.4987,   -7.3265,  4531,  995.100,    4.406,   34.590,2,   34.591,2,  156.700,2,  155.600,2,   31.950,2,   33.000,2, -999.000,9,    2.220,2,    0.015,2,    0.013,2, -999.000,9, -999.000,9, -999.000,9
           NA,     A14,     21,   1,-999.0,      23,  2,19950122,0158,  -2.4987,   -7.3265,  4531, 1194.800,    4.339,   34.787,2,   34.787,2,  179.800,2,  178.800,2,   27.120,2,   28.780,2, -999.000,9,    1.900,2,    0.013,2,    0.010,2, -999.000,9, -999.000,9, -999.000,9
           NA,     A14,     21,   1,-999.0,      22,  2,19950122,0158,  -2.4987,   -7.3265,  4531, 1395.200,    4.322,   34.927,2,   34.927,2,  215.600,2,  212.700,2,   20.790,2,   23.680,2, -999.000,9,    1.540,2,    0.031,2,    0.024,2, -999.000,9, -999.000,9, -999.000,9
           NA,     A14,     21,   1,-999.0,      21,  2,19950122,0158,  -2.4987,   -7.3265,  4531, 1545.300,    4.240,   34.961,2,   34.961,2,  232.300,2, -999.000,3,   19.800,2,   22.010,2, -999.000,9,    1.410,2,    0.050,2,    0.034,2, -999.000,9, -999.000,9, -999.000,9
           NA,     A14,     21,   1,-999.0,      20,  2,19950122,0158,  -2.4987,   -7.3265,  4531, 1695.000,    3.987,   34.972,2,   34.971,2,  241.200,2,  237.900,2,   19.720,2,   21.140,2, -999.000,9,    1.350,2,    0.040,2,    0.025,2, -999.000,9, -999.000,9, -999.000,9
           NA,     A14,     21,   1,-999.0,      19,  2,19950122,0158,  -2.4987,   -7.3265,  4531, 1845.500,    3.680,   34.967,2,   34.966,2,  244.700,2,  245.800,2,   20.550,2,   20.770,2, -999.000,9,    1.330,2,    0.018,2,    0.017,2, -999.000,9, -999.000,9, -999.000,9
           NA,     A14,     21,   1,-999.0,      18,  2,19950122,0158,  -2.4987,   -7.3265,  4531, 1994.100,    3.496,   34.961,2,   34.961,2,  246.900,2,  246.100,2,   22.220,2,   20.720,2, -999.000,9,    1.320,2,    0.016,2,    0.011,2, -999.000,9, -999.000,9, -999.000,9
           NA,     A14,     21,   1,-999.0,      17,  2,19950122,0158,  -2.4987,   -7.3265,  4531, 2294.800,    3.080,   34.938,2,   34.938,2,  244.200,2,  243.700,2,   30.470,2,   21.470,2, -999.000,9,    1.390,2,    0.004,2,    0.001,2, -999.000,9, -999.000,9, -999.000,9
           NA,     A14,     21,   1,-999.0,      16,  2,19950122,0158,  -2.4987,   -7.3265,  4531, 2395.700,    3.015,   34.936,2,   34.936,2,  243.200,2,  244.600,2,   31.300,2,   21.430,2, -999.000,9,    1.390,2,    0.006,2,    0.009,2, -999.000,9, -999.000,9, -999.000,9
           NA,     A14,     21,   1,-999.0,      15,  2,19950122,0158,  -2.4987,   -7.3265,  4531, 2595.200,    2.864,   34.924,2,   34.923,2,  242.000,2,  241.900,2,   35.220,2,   21.930,2, -999.000,9,    1.440,2,    0.011,2,    0.003,2, -999.000,9, -999.000,9, -999.000,9
           NA,     A14,     21,   1,-999.0,      14,  2,19950122,0158,  -2.4987,   -7.3265,  4531, 2796.300,    2.725,   34.916,2,   34.915,2,  240.200,2,  240.900,2,   38.450,6,   22.250,6, -999.000,9,    1.450,6,    0.005,2,    0.000,2, -999.000,9, -999.000,9, -999.000,9
           NA,     A14,     21,   1,-999.0,      13,  2,19950122,0158,  -2.4987,   -7.3265,  4531, 2997.000,    2.620,   34.909,2,   34.908,2,  239.300,2,  240.600,2,   40.560,2,   22.310,2, -999.000,9,    1.460,2,    0.005,2,    0.009,2, -999.000,9, -999.000,9, -999.000,9
           NA,     A14,     21,   1,-999.0,      12,  2,19950122,0158,  -2.4987,   -7.3265,  4531, 3195.100,    2.582,   34.907,2,   34.906,2,  239.300,2,  240.400,2,   41.400,2,   22.520,2, -999.000,9,    1.470,2,    0.005,2, -999.000,9, -999.000,9, -999.000,9, -999.000,9
           NA,     A14,     21,   1,-999.0,      11,  2,19950122,0158,  -2.4987,   -7.3265,  4531, 3396.400,    2.494,   34.902,2,   34.901,2,  239.400,2,  240.400,2,   43.640,2,   22.520,2, -999.000,9,    1.470,2,    0.005,2, -999.000,9, -999.000,9, -999.000,9, -999.000,9
           NA,     A14,     21,   1,-999.0,      10,  2,19950122,0158,  -2.4987,   -7.3265,  4531, 3594.800,    2.450,   34.897,2,   34.899,2,  239.500,2,  241.100,2,   44.730,6,   22.580,6, -999.000,9,    1.480,6,    0.007,2,    0.000,2, -999.000,9, -999.000,9, -999.000,9
           NA,     A14,     21,   1,-999.0,       9,  2,19950122,0158,  -2.4987,   -7.3265,  4531, 3797.800,    2.386,   34.894,2,   34.892,2,  242.400,2,  243.000,2,   45.610,2,   22.430,2, -999.000,9,    1.470,2,    0.007,2,    0.006,2, -999.000,9, -999.000,9, -999.000,9
           NA,     A14,     21,   1,-999.0,       8,  2,19950122,0158,  -2.4987,   -7.3265,  4531, 3996.800,    2.358,   34.889,2,   34.888,2,  242.400,2,  243.000,2,   46.870,2,   22.600,2, -999.000,9,    1.500,2,    0.008,2, -999.000,9, -999.000,9, -999.000,9, -999.000,9
           NA,     A14,     21,   1,-999.0,       7,  2,19950122,0158,  -2.4987,   -7.3265,  4531, 4197.300,    2.297,   34.883,2,   34.882,2,  243.800,2,  244.000,2,   48.780,2,   22.670,6, -999.000,9,    1.490,6,    0.014,2,    0.005,2, -999.000,9, -999.000,9, -999.000,9
           NA,     A14,     21,   1,-999.0,       6,  2,19950122,0158,  -2.4987,   -7.3265,  4531, 4398.100,    2.283,   34.881,2,   34.880,2,  244.400,2,  244.200,2,   49.740,2,   22.680,2, -999.000,9,    1.510,2,    0.016,2,    0.010,2, -999.000,9, -999.000,9, -999.000,9
           NA,     A14,     21,   1,-999.0,       4,  2,19950122,0158,  -2.4987,   -7.3265,  4531, 4496.900,    2.250,   34.876,2,   34.874,2,  244.700,2,  243.800,2,   51.180,2,   22.890,2, -999.000,9,    1.520,2,    0.012,2,    0.006,2, -999.000,9, -999.000,9, -999.000,9
           NA,     A14,     21,   1,-999.0,       5,  2,19950122,0158,  -2.4987,   -7.3265,  4531, 4497.300,    2.250,   34.877,2,   34.876,2,  244.700,2,  244.000,2,   51.180,2,   22.890,2, -999.000,9,    1.520,2,    0.010,2,    0.008,2, -999.000,9, -999.000,9, -999.000,9
           NA,     A14,     21,   1,-999.0,       3,  2,19950122,0158,  -2.4987,   -7.3265,  4531, 4576.600,    2.236,   34.874,2,   34.873,2,  244.100,2,  243.200,2,   52.080,2,   23.020,2, -999.000,9,    1.520,2,    0.010,2,    0.017,2, -999.000,9, -999.000,9, -999.000,9