BOTTLE,20213527JOAExport
EXPOCODE,SECT_ID,STNNBR,CASTNO,SAMPNO,BTLNBR,BTLNBR_FLAG_W,DATE,TIME,LATITUDE,LONGITUDE,DEPTH,CTDPRS,CTDTMP,CTDSAL,CTDSAL_FLAG_W,SALNTY,SALNTY_FLAG_W,CTDOXY,CTDOXY_FLAG_W,OXYGEN,OXYGEN_FLAG_W,SILCAT,SILCAT_FLAG_W,NITRAT,NITRAT_FLAG_W,NITRIT,NITRIT_FLAG_W,PHSPHT,PHSPHT_FLAG_W,CFC-11,CFC-11_FLAG_W,CFC-12,CFC-12_FLAG_W,SF6,SF6_FLAG_W,TCARBN,TCARBN_FLAG_W,ALKALI,ALKALI_FLAG_W
,,,,,,,,,,,,DB,DEG C,PSS-78,,PSS-78,,UMOL/KG,,UMOL/KG,,UMOL/KG,,UMOL/KG,,UMOL/KG,,UMOL/KG,,PMOL/KG,,PMOL/KG,,FMOL/KG,,UMOL/KG,,UMOL/KG
           NA,     A14,     12,   1,-999.0,      32,  2,19950119,2202,   1.0008,   -6.9997,  5171,    3.200,   28.329,   34.906,2, -999.000,3,  194.700,2, -999.000,3,    1.230,2,    0.000,2, -999.000,9,    0.000,2,    1.632,2,    0.947,2, -999.000,9, -999.000,9, 2288.500,2
           NA,     A14,     12,   1,-999.0,      31,  2,19950119,2202,   1.0008,   -6.9997,  5171,   21.200,   28.305,   34.909,2, -999.000,3,  203.400,2,  201.400,2,    1.070,2,    0.000,2, -999.000,9,    0.000,2,    1.631,2,    0.928,2, -999.000,9, -999.000,9, -999.000,9
           NA,     A14,     12,   1,-999.0,      30,  2,19950119,2202,   1.0008,   -6.9997,  5171,   96.800,   16.230,   35.634,2,   35.633,2,  127.900,2, -999.000,3,    5.780,2,   17.250,2, -999.000,9,    1.130,2,    1.479,2,    0.703,2, -999.000,9, -999.000,9, -999.000,9
           NA,     A14,     12,   1,-999.0,      29,  2,19950119,2202,   1.0008,   -6.9997,  5171,  196.700,   13.664,   35.363,2,   35.361,2,  139.000,2,  137.500,2,    8.550,2,   18.610,2, -999.000,9,    1.230,2,    1.399,2,    0.645,2, -999.000,9, -999.000,9, -999.000,9
           NA,     A14,     12,   1,-999.0,      28,  2,19950119,2202,   1.0008,   -6.9997,  5171,  396.600,    8.831,   34.809,2,   34.811,2,   90.300,2,   89.900,2,   16.510,2,   32.670,2, -999.000,9,    2.050,2,    0.331,2,    0.164,2, -999.000,9, -999.000,9, -999.000,9
           NA,     A14,     12,   1,-999.0,      27,  2,19950119,2202,   1.0008,   -6.9997,  5171,  596.100,    6.189,   34.572,2,   34.572,2,  129.300,2,  128.200,2,   24.180,6,   34.110,6, -999.000,9,    2.240,6,    0.143,2,    0.071,2, -999.000,9, -999.000,9, -999.000,9
           NA,     A14,     12,   1,-999.0,      26,  2,19950119,2202,   1.0008,   -6.9997,  5171,  795.900,    4.769,   34.543,2,   34.540,2,  145.500,2,  145.800,2,   31.310,2,   34.820,2, -999.000,9,    2.320,2,    0.022,2,    0.016,2, -999.000,9, -999.000,9, -999.000,9
           NA,     A14,     12,   1,-999.0,      25,  2,19950119,2202,   1.0008,   -6.9997,  5171,  994.600,    4.501,   34.611,2,   34.612,2,  156.500,2,  155.700,2,   31.390,2,   33.320,2, -999.000,9,    2.240,2,    0.013,2,    0.009,2, -999.000,9, -999.000,9, -999.000,9
           NA,     A14,     12,   1,-999.0,      24,  2,19950119,2202,   1.0008,   -6.9997,  5171, 1195.400,    4.447,   34.859,2,   34.860,2,  186.700,2, -999.000,3,   24.240,2,   26.630,2, -999.000,9,    1.780,2,    0.011,2,    0.014,2, -999.000,9, -999.000,9, -999.000,9
           NA,     A14,     12,   1,-999.0,      23,  2,19950119,2202,   1.0008,   -6.9997,  5171, 1396.000,    4.400,   34.915,2,   34.914,2,  208.000,2,  208.400,2,   20.750,2,   24.110,2, -999.000,9,    1.610,2,    0.029,2,    0.016,2, -999.000,9, -999.000,9, -999.000,9
           NA,     A14,     12,   1,-999.0,      22,  2,19950119,2202,   1.0008,   -6.9997,  5171, 1545.200,    4.122,   34.964,2,   34.964,2,  231.800,2,  231.500,2,   18.710,2,   21.700,2, -999.000,9,    1.420,2,    0.028,2,    0.021,2, -999.000,9, -999.000,9, -999.000,9
           NA,     A14,     12,   1,-999.0,      21,  2,19950119,2202,   1.0008,   -6.9997,  5171, 1695.200,    3.928,   34.973,2,   34.973,2,  240.700,2,  239.600,2,   19.040,2,   20.920,2, -999.000,9,    1.370,2,    0.025,2,    0.017,2, -999.000,9, -999.000,9, -999.000,9
           NA,     A14,     12,   1,-999.0,      20,  2,19950119,2202,   1.0008,   -6.9997,  5171, 1845.400,    3.708,   34.973,2, -999.000,9,  248.400,2,  254.200,2,   19.690,2,   20.310,2, -999.000,9,    1.330,2,    0.027,2,    0.021,2, -999.000,9, -999.000,9, -999.000,9
           NA,     A14,     12,   1,-999.0,      19,  2,19950119,2202,   1.0008,   -6.9997,  5171, 1996.400,    3.511,   34.964,2,   34.966,2,  249.700,2,  249.200,2,   22.130,2,   20.260,2, -999.000,9,    1.320,2,    0.021,2,    0.019,2, -999.000,9, -999.000,9, -999.000,9
           NA,     A14,     12,   1,-999.0,      18,  2,19950119,2202,   1.0008,   -6.9997,  5171, 2295.800,    3.037,   34.939,2,   34.939,2,  245.200,2,  245.500,2,   30.190,2,   21.230,2, -999.000,9,    1.390,2,    0.004,2,    0.007,2, -999.000,9, -999.000,9, -999.000,9
           NA,     A14,     12,   1,-999.0,      17,  2,19950119,2202,   1.0008,   -6.9997,  5171, 2596.600,    2.902,   34.928,2,   34.929,2,  243.800,2,  244.900,2,   34.100,2,   21.500,2, -999.000,9,    1.420,2,    0.002,2,    0.006,2, -999.000,9, -999.000,9, -999.000,9
           NA,     A14,     12,   1,-999.0,      16,  2,19950119,2202,   1.0008,   -6.9997,  5171, 2795.500,    2.751,   34.918,2,   34.919,2,  242.300,2,  243.600,2,   36.440,6,   21.750,6, -999.000,9,    1.450,6,    0.000,2,    0.000,2, -999.000,9, -999.000,9, -999.000,9
           NA,     A14,     12,   1,-999.0,      15,  2,19950119,2202,   1.0008,   -6.9997,  5171, 2996.800,    2.632,   34.911,2,   34.909,2,  241.000,2,  242.700,2,   39.550,2,   21.940,2, -999.000,9,    1.470,2,    0.004,2,    0.003,2, -999.000,9, -999.000,9, -999.000,9
           NA,     A14,     12,   1,-999.0,      14,  2,19950119,2202,   1.0008,   -6.9997,  5171, 3196.900,    2.569,   34.908,2,   34.907,2,  242.400,2,  243.800,2,   40.510,6,   22.060,6, -999.000,9,    1.460,6,    0.001,2,    0.006,2, -999.000,9, -999.000,9, -999.000,9
           NA,     A14,     12,   1,-999.0,      13,  2,19950119,2202,   1.0008,   -6.9997,  5171, 3396.700,    2.475,   34.901,2,   34.901,2,  242.200,2,  243.000,2,   43.270,2,   22.130,2, -999.000,9,    1.480,2,    0.003,2,    0.009,2, -999.000,9, -999.000,9, -999.000,9
           NA,     A14,     12,   1,-999.0,      12,  2,19950119,2202,   1.0008,   -6.9997,  5171, 3596.700,    2.424,   34.898,2,   34.897,2,  241.500,2,  242.800,2,   44.260,6,   22.280,6, -999.000,9,    1.500,6,    0.003,2, -999.000,9, -999.000,9, -999.000,9, -999.000,9
           NA,     A14,     12,   1,-999.0,      11,  2,19950119,2202,   1.0008,   -6.9997,  5171, 3797.900,    2.384,   34.893,2,   34.893,2,  243.100,2,  243.900,2,   45.020,2,   22.310,2, -999.000,9,    1.490,2,    0.004,2, -999.000,9, -999.000,9, -999.000,9, -999.000,9
           NA,     A14,     12,   1,-999.0,      10,  2,19950119,2202,   1.0008,   -6.9997,  5171, 3996.400,    2.352,   34.889,2,   34.888,2,  243.700,2,  244.300,2,   45.370,2,   22.400,2, -999.000,9,    1.500,2,    0.005,2,    0.009,2, -999.000,9, -999.000,9, -999.000,9
           NA,     A14,     12,   1,-999.0,       9,  2,19950119,2202,   1.0008,   -6.9997,  5171, 4198.600,    2.313,   34.885,2,   34.881,2,  243.400,2,  244.000,2,   48.000,2,   22.490,2, -999.000,9,    1.510,2,    0.005,2,    0.004,2, -999.000,9, -999.000,9, -999.000,9
           NA,     A14,     12,   1,-999.0,       8,  2,19950119,2202,   1.0008,   -6.9997,  5171, 4398.500,    2.259,   34.877,2,   34.877,2,  242.600,2,  242.700,2,   50.270,2,   22.800,2, -999.000,9,    1.530,2,    0.009,2,    0.006,2, -999.000,9, -999.000,9, -999.000,9
           NA,     A14,     12,   1,-999.0,       7,  2,19950119,2202,   1.0008,   -6.9997,  5171, 4597.500,    2.221,   34.872,2,   34.873,2,  243.400,2,  242.900,2,   51.010,2,   22.760,2, -999.000,9,    1.540,7,    0.009,2,    0.007,2, -999.000,9, -999.000,9, -999.000,9
           NA,     A14,     12,   1,-999.0,       6,  2,19950119,2202,   1.0008,   -6.9997,  5171, 4798.800,    2.171,   34.864,2,   34.865,2,  244.800,2,  244.800,2,   53.160,2,   23.030,2, -999.000,9,    1.550,2,    0.015,2,    0.011,2, -999.000,9, -999.000,9, -999.000,9
           NA,     A14,     12,   1,-999.0,       5,  2,19950119,2202,   1.0008,   -6.9997,  5171, 4998.300,    2.148,   34.861,2,   34.860,2,  245.400,2,  244.700,2,   54.480,2,   23.160,2, -999.000,9,    1.560,2,    0.012,2,    0.010,2, -999.000,9, -999.000,9, -999.000,9
           NA,     A14,     12,   1,-999.0,       4,  2,19950119,2202,   1.0008,   -6.9997,  5171, 5147.800,    2.110,   34.854,2,   34.854,2,  246.200,2,  244.700,2,   55.880,2,   23.340,2, -999.000,9,    1.580,2,    0.015,2,    0.014,2, -999.000,9, -999.000,9, -999.000,9
           NA,     A14,     12,   1,-999.0,       3,  2,19950119,2202,   1.0008,   -6.9997,  5171, 5235.800,    2.108,   34.852,2,   34.852,2,  246.200,2,  244.900,2,   56.410,2,   23.350,2, -999.000,9,    1.570,2,    0.017,2,    0.018,2, -999.000,9, -999.000,9, -999.000,9
           NA,     A14,     11,   1,-999.0,      32,  2,19950119,1534,   1.4998,   -6.9992,  4870,    2.600,   28.847,   34.923,2, -999.000,3,  179.200,2, -999.000,3,    0.300,2,    0.000,2, -999.000,9,    0.040,2,    1.605,2,    1.006,2, -999.000,9, 1918.300,6, 2287.400,2
           NA,     A14,     11,   1,-999.0,      31,  2,19950119,1534,   1.4998,   -6.9992,  4870,   27.100,   28.447,   34.906,2, -999.000,3,  180.500,2, -999.000,3,    0.370,2,    0.080,2, -999.000,9,    0.050,2,    1.620,2,    0.932,2, -999.000,9, 1932.200,2, -999.000,9
           NA,     A14,     11,   1,-999.0,      30,  2,19950119,1534,   1.4998,   -6.9992,  4870,   97.100,   14.235,   35.440,2, -999.000,3,  126.100,2, -999.000,3,    5.880,2,   17.590,2, -999.000,9,    1.190,2,    1.468,2,    0.738,2, -999.000,9, 2153.900,2, -999.000,9
           NA,     A14,     11,   1,-999.0,      29,  2,19950119,1534,   1.4998,   -6.9992,  4870,  195.400,   13.536,   35.343,2, -999.000,3,  138.900,2, -999.000,3,    6.910,2,   19.150,2, -999.000,9,    1.300,2,    1.323,2,    0.682,2, -999.000,9, 2159.800,2, -999.000,9
           NA,     A14,     11,   1,-999.0,      28,  2,19950119,1534,   1.4998,   -6.9992,  4870,  395.200,    8.666,   34.790,2, -999.000,3,  111.000,2,  109.000,2,   15.340,2,   30.400,2, -999.000,9,    1.970,2,    0.399,2,    0.216,2, -999.000,9, 2205.900,2, -999.000,9
           NA,     A14,     11,   1,-999.0,      27,  2,19950119,1534,   1.4998,   -6.9992,  4870,  595.800,    6.073,   34.574,2,   34.574,2,  116.200,2,  116.200,2,   23.930,6,   35.160,2, -999.000,9,    2.330,6,    0.057,2,    0.053,2, -999.000,9, 2223.000,2, -999.000,9
           NA,     A14,     11,   1,-999.0,      26,  2,19950119,1534,   1.4998,   -6.9992,  4870,  795.000,    4.634,   34.544,2,   34.546,2,  149.200,2,  148.500,2,   30.470,2,   33.860,2, -999.000,9,    2.300,2,    0.017,2, -999.000,9, -999.000,9, 2219.300,2, -999.000,9
           NA,     A14,     11,   1,-999.0,      25,  2,19950119,1534,   1.4998,   -6.9992,  4870,  994.900,    4.528,   34.619,2,   34.616,2,  155.200,2,  152.200,2,   30.480,2,   33.080,2, -999.000,9,    2.240,2,    0.008,2, -999.000,9, -999.000,9, 2219.700,2, -999.000,9
           NA,     A14,     11,   1,-999.0,      24,  2,19950119,1534,   1.4998,   -6.9992,  4870, 1195.200,    4.489,   34.835,2,   34.837,2,  183.100,2,  183.100,2,   24.500,2,   27.380,2, -999.000,9,    1.850,2,    0.011,2, -999.000,9, -999.000,9, -999.000,9, -999.000,9
           NA,     A14,     11,   1,-999.0,      23,  2,19950119,1534,   1.4998,   -6.9992,  4870, 1396.200,    4.410,   34.913,2,   34.915,2,  207.700,2,  206.900,2,   20.720,2,   24.060,2, -999.000,9,    1.620,2,    0.025,2, -999.000,9, -999.000,9, -999.000,9, -999.000,9
           NA,     A14,     11,   1,-999.0,      22,  2,19950119,1534,   1.4998,   -6.9992,  4870, 1545.600,    4.116,   34.964,2,   34.959,2,  233.800,2,  231.400,2,   18.200,2,   21.690,2, -999.000,9,    1.420,2,    0.021,2, -999.000,9, -999.000,9, -999.000,9, -999.000,9
           NA,     A14,     11,   1,-999.0,      21,  2,19950119,1534,   1.4998,   -6.9992,  4870, 1695.500,    3.931,   34.972,2,   34.973,2,  239.700,2,  239.700,2,   18.200,2,   20.880,2, -999.000,9,    1.360,2,    0.023,2, -999.000,9, -999.000,9, -999.000,9, -999.000,9
           NA,     A14,     11,   1,-999.0,      20,  2,19950119,1534,   1.4998,   -6.9992,  4870, 1995.500,    3.524,   34.966,2,   34.968,2,  251.200,2,  249.600,2,   20.650,2,   20.290,2, -999.000,9,    1.320,2,    0.018,2, -999.000,9, -999.000,9, -999.000,9, -999.000,9
           NA,     A14,     11,   1,-999.0,      19,  2,19950119,1534,   1.4998,   -6.9992,  4870, 2295.800,    3.084,   34.942,2,   34.942,2,  245.400,2,  244.700,2,   28.950,2,   21.220,2, -999.000,9,    1.380,2,    0.003,2, -999.000,9, -999.000,9, -999.000,9, -999.000,9
           NA,     A14,     11,   1,-999.0,      18,  2,19950119,1534,   1.4998,   -6.9992,  4870, 2597.200,    2.892,   34.928,2,   34.929,2,  245.400,2,  244.500,2,   32.430,2,   21.520,2, -999.000,9,    1.400,2,    0.004,2, -999.000,9, -999.000,9, -999.000,9, -999.000,9
           NA,     A14,     11,   1,-999.0,      17,  2,19950119,1534,   1.4998,   -6.9992,  4870, 2796.400,    2.778,   34.921,2,   34.921,2,  244.100,2,  244.100,2,   35.120,2,   21.690,2, -999.000,9,    1.420,2,    0.000,2,    0.004,2, -999.000,9, -999.000,9, -999.000,9
           NA,     A14,     11,   1,-999.0,      16,  2,19950119,1534,   1.4998,   -6.9992,  4870, 2846.700,    2.738,   34.918,2,   34.916,2,  243.900,2,  243.600,2,   39.080,2,   21.770,2, -999.000,9,    1.430,2,    0.001,2,    0.009,2, -999.000,9, -999.000,9, -999.000,9
           NA,     A14,     11,   1,-999.0,      15,  2,19950119,1534,   1.4998,   -6.9992,  4870, 2996.400,    2.666,   34.914,2,   34.910,2,  243.400,2,  243.000,2,   37.510,2,   21.900,2, -999.000,9,    1.430,2,    0.006,2,    0.011,2, -999.000,9, -999.000,9, -999.000,9
           NA,     A14,     11,   1,-999.0,      14,  2,19950119,1534,   1.4998,   -6.9992,  4870, 3196.300,    2.581,   34.909,2,   34.909,2,  243.000,2,  242.700,2,   39.570,2,   22.060,2, -999.000,9,    1.450,2,    0.001,2, -999.000,9, -999.000,9, -999.000,9, -999.000,9
           NA,     A14,     11,   1,-999.0,      13,  2,19950119,1534,   1.4998,   -6.9992,  4870, 3396.400,    2.492,   34.903,2,   34.898,2,  242.100,2,  243.500,2,   41.820,2,   22.190,2, -999.000,9,    1.470,2,    0.007,2,    0.003,2, -999.000,9, -999.000,9, -999.000,9
           NA,     A14,     11,   1,-999.0,      12,  2,19950119,1534,   1.4998,   -6.9992,  4870, 3596.200,    2.427,   34.897,2,   34.897,2,  243.500,2,  242.800,2,   43.360,2,   22.360,2, -999.000,9,    1.470,2,    0.003,2, -999.000,9, -999.000,9, -999.000,9, -999.000,9
           NA,     A14,     11,   1,-999.0,      11,  2,19950119,1534,   1.4998,   -6.9992,  4870, 3597.200,    2.426,   34.898,2,   34.897,2,  243.500,2,  242.600,2,   43.290,2,   22.380,2, -999.000,9,    1.470,6,    0.002,2, -999.000,9, -999.000,9, -999.000,9, -999.000,9
           NA,     A14,     11,   1,-999.0,      10,  2,19950119,1534,   1.4998,   -6.9992,  4870, 3797.100,    2.381,   34.892,2,   34.892,2,  243.100,2,  242.700,2,   44.570,2,   22.400,2, -999.000,9,    1.470,2,    0.004,2,    0.001,2, -999.000,9, -999.000,9, -999.000,9
           NA,     A14,     11,   1,-999.0,       9,  2,19950119,1534,   1.4998,   -6.9992,  4870, 3996.100,    2.318,   34.887,2,   34.882,2,  244.800,2,  243.700,2,   46.540,2,   22.480,2, -999.000,9,    1.480,2,    0.007,2,    0.001,2, -999.000,9, -999.000,9, -999.000,9
           NA,     A14,     11,   1,-999.0,       8,  2,19950119,1534,   1.4998,   -6.9992,  4870, 4196.300,    2.296,   34.883,2,   34.881,2,  242.900,2,  242.300,2,   48.250,2,   22.690,2, -999.000,9,    1.500,2,    0.004,2,    0.004,2, -999.000,9, -999.000,9, -999.000,9
           NA,     A14,     11,   1,-999.0,       7,  2,19950119,1534,   1.4998,   -6.9992,  4870, 4395.600,    2.237,   34.875,2,   34.878,2,  243.200,2,  242.400,2,   52.250,2,   22.860,2, -999.000,9,    1.520,2,    0.011,2,    0.003,2, -999.000,9, -999.000,9, -999.000,9
           NA,     A14,     11,   1,-999.0,       6,  2,19950119,1534,   1.4998,   -6.9992,  4870, 4597.400,    2.207,   34.871,2,   34.872,2,  243.900,2,  242.400,2,   52.260,2,   22.950,2, -999.000,9,    1.540,2,    0.013,2,    0.013,2, -999.000,9, -999.000,9, -999.000,9
           NA,     A14,     11,   1,-999.0,       5,  2,19950119,1534,   1.4998,   -6.9992,  4870, 4797.100,    2.162,   34.865,2,   34.864,2,  244.900,2,  244.200,2,   53.300,2,   23.200,2, -999.000,9,    1.540,2,    0.015,2,    0.010,2, -999.000,9, -999.000,9, -999.000,9
           NA,     A14,     11,   1,-999.0,       4,  2,19950119,1534,   1.4998,   -6.9992,  4870, 4899.300,    2.152,   34.862,2,   34.862,2,  244.900,2,  244.100,2,   54.160,2,   23.200,2, -999.000,9,    1.540,2,    0.015,2, -999.000,9, -999.000,9, -999.000,9, -999.000,9
           NA,     A14,     11,   1,-999.0,       3,  2,19950119,1534,   1.4998,   -6.9992,  4870, 4911.500,    2.153,   34.862,2,   34.861,2,  245.000,2,  244.000,2,   54.340,2,   23.200,2, -999.000,9,    1.540,2,    0.012,2,    0.010,2, -999.000,9, -999.000,9, -999.000,9