BOTTLE,20213527JOAExport
EXPOCODE,SECT_ID,STNNBR,CASTNO,SAMPNO,BTLNBR,BTLNBR_FLAG_W,DATE,TIME,LATITUDE,LONGITUDE,DEPTH,CTDPRS,CTDTMP,CTDSAL,CTDSAL_FLAG_W,SALNTY,SALNTY_FLAG_W,CTDOXY,CTDOXY_FLAG_W,OXYGEN,OXYGEN_FLAG_W,SILCAT,SILCAT_FLAG_W,NITRAT,NITRAT_FLAG_W,NITRIT,NITRIT_FLAG_W,PHSPHT,PHSPHT_FLAG_W,CFC-11,CFC-11_FLAG_W,CFC-12,CFC-12_FLAG_W,SF6,SF6_FLAG_W,TCARBN,TCARBN_FLAG_W,ALKALI,ALKALI_FLAG_W
,,,,,,,,,,,,DB,DEG C,PSS-78,,PSS-78,,UMOL/KG,,UMOL/KG,,UMOL/KG,,UMOL/KG,,UMOL/KG,,UMOL/KG,,PMOL/KG,,PMOL/KG,,FMOL/KG,,UMOL/KG,,UMOL/KG
           NA,     A14,     71,   1,-999.0,      32,  2,19950202,1152, -27.5003,   -8.9997,  4119,    4.000,   25.996,   36.332,2,   36.329,2,  207.500,2,  210.600,2,    1.400,2,    0.020,2, -999.000,9,    0.150,2,    1.889,2,    0.981,2, -999.000,9, -999.000,9, 2391.300,2
           NA,     A14,     71,   1,-999.0,      31,  2,19950202,1152, -27.5003,   -8.9997,  4119,   46.900,   22.482,   36.192,2, -999.000,3,  231.400,2,  228.100,2,    1.400,2,    0.020,2, -999.000,9,    0.160,2,    2.151,2,    1.085,2, -999.000,9, -999.000,9, -999.000,9
           NA,     A14,     71,   1,-999.0,      30,  2,19950202,1152, -27.5003,   -8.9997,  4119,   96.800,   18.735,   35.875,2,   35.875,2,  239.400,2,  243.300,2,    1.400,2,    0.020,2, -999.000,9,    0.150,2,    2.455,2,    1.224,2, -999.000,9, -999.000,9, -999.000,9
           NA,     A14,     71,   1,-999.0,      29,  2,19950202,1152, -27.5003,   -8.9997,  4119,  146.000,   16.850,   35.649,2, -999.000,3,  226.300,2,  228.600,2,    1.800,2,    0.890,2, -999.000,9,    0.250,2,    2.532,2,    1.270,2, -999.000,9, -999.000,9, -999.000,9
           NA,     A14,     71,   1,-999.0,      28,  2,19950202,1152, -27.5003,   -8.9997,  4119,  196.500,   14.843,   35.342,2, -999.000,3,  201.700,2,  203.300,2,    3.000,2,    7.930,2, -999.000,9,    0.620,2,    2.605,2,    1.268,2, -999.000,9, -999.000,9, -999.000,9
           NA,     A14,     71,   1,-999.0,      27,  2,19950202,1152, -27.5003,   -8.9997,  4119,  296.500,   12.917,   35.128,2,   35.127,2,  208.200,2,  209.800,2,    4.000,2,   10.800,2, -999.000,9,    0.780,2,    2.557,2,    1.207,2, -999.000,9, -999.000,9, -999.000,9
           NA,     A14,     71,   1,-999.0,      26,  2,19950202,1152, -27.5003,   -8.9997,  4119,  395.000,   11.002,   34.907,2,   34.911,2,  208.900,2,  210.300,2,    5.500,2,   14.970,2, -999.000,9,    1.040,2,    2.390,2,    1.113,2, -999.000,9, -999.000,9, -999.000,9
           NA,     A14,     71,   1,-999.0,      25,  2,19950202,1152, -27.5003,   -8.9997,  4119,  495.900,    9.086,   34.695,2,   34.695,2,  196.800,2,  197.200,2,    9.800,2,   20.710,2, -999.000,9,    1.440,2,    1.959,2,    0.893,2, -999.000,9, -999.000,9, -999.000,9
           NA,     A14,     71,   1,-999.0,      24,  2,19950202,1152, -27.5003,   -8.9997,  4119,  595.600,    7.164,   34.505,2,   34.507,2,  203.200,2,  203.600,2,   13.900,2,   24.370,2, -999.000,9,    1.710,2,    1.786,2,    0.792,2, -999.000,9, -999.000,9, -999.000,9
           NA,     A14,     71,   1,-999.0,      23,  2,19950202,1152, -27.5003,   -8.9997,  4119,  694.800,    5.548,   34.380,2,   34.385,2,  209.200,2,  209.800,2,   19.600,2,   27.980,2, -999.000,9,    1.930,2,    1.483,2,    0.664,2, -999.000,9, -999.000,9, -999.000,9
           NA,     A14,     71,   1,-999.0,      22,  2,19950202,1152, -27.5003,   -8.9997,  4119,  794.400,    4.598,   34.349,2,   34.356,2,  207.900,2,  207.400,2,   26.500,2,   30.270,2, -999.000,9,    2.080,2,    1.107,2,    0.497,2, -999.000,9, -999.000,9, -999.000,9
           NA,     A14,     71,   1,-999.0,      21,  2,19950202,1152, -27.5003,   -8.9997,  4119,  995.800,    3.559,   34.410,2,   34.413,2,  191.500,2,  190.500,2,   42.200,2,   32.680,2, -999.000,9,    2.260,2,    0.403,2,    0.187,2, -999.000,9, -999.000,9, -999.000,9
           NA,     A14,     71,   1,-999.0,      20,  2,19950202,1152, -27.5003,   -8.9997,  4119, 1195.500,    3.171,   34.529,2,   34.524,2,  182.200,2,  182.800,2,   51.300,6,   32.840,2, -999.000,9,    2.260,6,    0.130,2,    0.059,2, -999.000,9, -999.000,9, -999.000,9
           NA,     A14,     71,   1,-999.0,      19,  2,19950202,1152, -27.5003,   -8.9997,  4119, 1395.400,    3.039,   34.652,2,   34.651,2,  187.300,2,  187.900,2,   52.100,2,   30.820,2, -999.000,9,    2.130,2,    0.032,2,    0.017,2, -999.000,9, -999.000,9, -999.000,9
           NA,     A14,     71,   1,-999.0,      18,  2,19950202,1152, -27.5003,   -8.9997,  4119, 1594.900,    2.969,   34.752,2,   34.750,2,  198.400,2,  200.800,2,   49.100,2,   28.260,2, -999.000,9,    1.940,2,    0.008,2,    0.006,2, -999.000,9, -999.000,9, -999.000,9
           NA,     A14,     71,   1,-999.0,      17,  2,19950202,1152, -27.5003,   -8.9997,  4119, 1795.100,    2.844,   34.796,2,   34.795,2,  209.400,2,  211.400,2,   48.700,2,   26.720,2, -999.000,9,    1.840,2,    0.002,2, -999.000,9, -999.000,9, -999.000,9, -999.000,9
           NA,     A14,     71,   1,-999.0,      16,  2,19950202,1152, -27.5003,   -8.9997,  4119, 1994.600,    2.677,   34.819,2,   34.813,2,  217.200,2,  219.000,2,   49.900,2,   25.760,2, -999.000,9,    1.770,2, -999.000,3, -999.000,3, -999.000,9, -999.000,9, -999.000,9
           NA,     A14,     71,   1,-999.0,      15,  2,19950202,1152, -27.5003,   -8.9997,  4119, 2194.600,    2.545,   34.838,2,   34.837,2,  224.100,2,  225.700,2,   50.300,2,   24.850,2, -999.000,9,    1.720,2,    0.002,2, -999.000,9, -999.000,9, -999.000,9, -999.000,9
           NA,     A14,     71,   1,-999.0,      14,  2,19950202,1152, -27.5003,   -8.9997,  4119, 2395.400,    2.466,   34.852,2,   34.852,2,  229.300,2,  231.900,2,   49.700,2,   24.130,2, -999.000,9,    1.670,2,    0.002,2,    0.003,2, -999.000,9, -999.000,9, -999.000,9
           NA,     A14,     71,   1,-999.0,      13,  2,19950202,1152, -27.5003,   -8.9997,  4119, 2594.300,    2.427,   34.862,2,   34.861,2,  234.700,2,  235.600,2,   49.000,6,   23.910,2, -999.000,9,    1.630,6,    0.005,2,    0.000,2, -999.000,9, -999.000,9, -999.000,9
           NA,     A14,     71,   1,-999.0,      12,  2,19950202,1152, -27.5003,   -8.9997,  4119, 2594.400,    2.427,   34.863,2,   34.861,2,  234.700,2,  235.800,2,   49.300,2,   23.750,2, -999.000,9,    1.630,2,    0.002,2,   -0.002,2, -999.000,9, -999.000,9, -999.000,9
           NA,     A14,     71,   1,-999.0,      11,  2,19950202,1152, -27.5003,   -8.9997,  4119, 2797.100,    2.404,   34.869,2,   34.867,2,  237.600,2,  238.000,2,   49.200,2,   23.590,2, -999.000,9,    1.610,2,    0.002,2,   -0.004,2, -999.000,9, -999.000,9, -999.000,9
           NA,     A14,     71,   1,-999.0,      10,  2,19950202,1152, -27.5003,   -8.9997,  4119, 2997.100,    2.375,   34.874,2,   34.872,2,  239.000,2,  239.500,2,   49.200,2,   23.420,2, -999.000,9,    1.590,2,    0.000,2,   -0.002,2, -999.000,9, -999.000,9, -999.000,9
           NA,     A14,     71,   1,-999.0,       9,  2,19950202,1152, -27.5003,   -8.9997,  4119, 3196.000,    2.358,   34.876,2,   34.873,2,  238.600,2,  239.200,2,   49.500,6,   23.480,2, -999.000,9,    1.590,6,    0.001,2,    0.002,2, -999.000,9, -999.000,9, -999.000,9
           NA,     A14,     71,   1,-999.0,       8,  2,19950202,1152, -27.5003,   -8.9997,  4119, 3396.400,    2.352,   34.878,2,   34.876,2,  238.700,2,  239.200,2,   50.300,2,   23.430,2, -999.000,9,    1.590,2,    0.004,2, -999.000,9, -999.000,9, -999.000,9, -999.000,9
           NA,     A14,     71,   1,-999.0,       7,  2,19950202,1152, -27.5003,   -8.9997,  4119, 3594.800,    2.358,   34.879,2,   34.877,2,  238.100,2,  238.300,2,   50.400,2,   23.440,2, -999.000,9,    1.590,2,    0.002,2, -999.000,9, -999.000,9, -999.000,9, -999.000,9
           NA,     A14,     71,   1,-999.0,       6,  2,19950202,1152, -27.5003,   -8.9997,  4119, 3796.700,    2.371,   34.882,2,   34.879,2,  236.900,2,  237.300,2,   50.700,2,   23.440,2, -999.000,9,    1.590,2,    0.003,2,    0.002,2, -999.000,9, -999.000,9, -999.000,9
           NA,     A14,     71,   1,-999.0,       5,  2,19950202,1152, -27.5003,   -8.9997,  4119, 3997.500,    2.391,   34.883,2,   34.880,2,  236.900,2,  237.000,2,   50.600,2,   23.410,2, -999.000,9,    1.590,2,    0.001,2,    0.001,2, -999.000,9, -999.000,9, -999.000,9
           NA,     A14,     71,   1,-999.0,       4,  2,19950202,1152, -27.5003,   -8.9997,  4119, 4098.000,    2.402,   34.883,2,   34.880,2,  236.800,2,  236.800,2,   50.700,2,   23.410,2, -999.000,9,    1.590,2,    0.001,2,   -0.001,2, -999.000,9, -999.000,9, -999.000,9
           NA,     A14,     71,   1,-999.0,       3,  2,19950202,1152, -27.5003,   -8.9997,  4119, 4156.200,    2.409,   34.883,2,   34.882,2,  236.100,2,  236.800,2,   50.900,2,   23.420,2, -999.000,9,    1.590,2,    0.003,2,    0.002,2, -999.000,9, -999.000,9, -999.000,9
           NA,     A14,     70,   1,-999.0,      32,  2,19950202,0630, -26.9998,   -9.0008,  4164,    4.000,   25.459,   36.345,2, -999.000,3,  208.400,2,  209.500,2,    1.400,2,    0.020,2, -999.000,9,    0.160,2,    1.877,2,    0.986,2, -999.000,9, 2067.300,6, 2394.500,6
           NA,     A14,     70,   1,-999.0,      31,  2,19950202,0630, -26.9998,   -9.0008,  4164,   46.200,   22.395,   36.183,2, -999.000,3,  236.700,2, -999.000,3,    1.400,2,    0.020,2, -999.000,9,    0.170,2,    2.197,2,    1.115,2, -999.000,9, 2063.300,2, 2381.900,2
           NA,     A14,     70,   1,-999.0,      30,  2,19950202,0630, -26.9998,   -9.0008,  4164,  146.600,   18.501,   35.922,2,   35.918,2,  227.500,2, -999.000,3,    1.400,2,    0.020,2, -999.000,9,    0.190,2,    2.394,2,    1.204,2, -999.000,9, 2065.000,2, 2366.000,2
           NA,     A14,     70,   1,-999.0,      29,  2,19950202,0630, -26.9998,   -9.0008,  4164,  195.600,   16.802,   35.640,2, -999.000,3,  219.700,2,  220.000,2,    1.900,2,    2.390,2, -999.000,9,    0.340,2,    2.517,2,    1.255,2, -999.000,9, 2072.400,2, 2347.600,2
           NA,     A14,     70,   1,-999.0,      28,  2,19950202,0630, -26.9998,   -9.0008,  4164,  295.200,   13.573,   35.191,2,   35.194,2,  209.400,2,  209.500,2,    3.500,2,    9.410,2, -999.000,9,    0.700,2,    2.620,2,    1.262,2, -999.000,9, 2097.700,2, 2320.800,2
           NA,     A14,     70,   1,-999.0,      27,  2,19950202,0630, -26.9998,   -9.0008,  4164,  395.300,   11.941,   35.014,2,   35.019,2,  206.100,2,  203.600,2,    5.100,2,   13.850,2, -999.000,9,    0.960,2,    2.390,2,    1.127,2, -999.000,9, 2116.500,2, 2313.800,2
           NA,     A14,     70,   1,-999.0,      26,  2,19950202,0630, -26.9998,   -9.0008,  4164,  495.700,    9.825,   34.771,2,   34.772,2,  193.500,2,  192.200,2,    8.700,2,   19.580,2, -999.000,9,    1.330,2,    2.033,2,    0.948,2, -999.000,9, 2138.900,2, 2303.600,2
           NA,     A14,     70,   1,-999.0,      25,  2,19950202,0630, -26.9998,   -9.0008,  4164,  595.600,    8.098,   34.597,2,   34.602,2,  189.500,2,  190.800,2,   12.700,2,   23.470,2, -999.000,9,    1.610,2,    1.747,2,    0.796,2, -999.000,9, 2155.800,2, 2300.200,2
           NA,     A14,     70,   1,-999.0,      24,  2,19950202,0630, -26.9998,   -9.0008,  4164,  696.300,    6.228,   34.442,2,   34.442,2,  199.300,2,  199.100,2,   18.000,2,   27.890,2, -999.000,9,    1.870,2,    1.383,2,    0.625,2, -999.000,9, 2170.000,2, 2296.600,2
           NA,     A14,     70,   1,-999.0,      23,  2,19950202,0630, -26.9998,   -9.0008,  4164,  795.800,    5.096,   34.377,2,   34.382,2,  196.200,2,  197.700,2,   23.900,2,   30.170,2, -999.000,9,    2.040,2,    0.996,2,    0.453,2, -999.000,9, 2181.400,2, 2300.500,2
           NA,     A14,     70,   1,-999.0,      22,  2,19950202,0630, -26.9998,   -9.0008,  4164,  995.600,    3.694,   34.396,2,   34.403,2,  190.000,2,  191.800,2,   39.500,2,   32.550,2, -999.000,9,    2.230,2,    0.464,2,    0.218,2, -999.000,9, 2207.300,2, 2312.600,2
           NA,     A14,     70,   1,-999.0,      21,  2,19950202,0630, -26.9998,   -9.0008,  4164, 1195.000,    3.201,   34.522,2,   34.522,2,  182.800,2,  182.400,2,   50.800,2,   32.790,2, -999.000,9,    2.250,2,    0.132,2,    0.063,2, -999.000,9, 2222.800,2, 2328.000,2
           NA,     A14,     70,   1,-999.0,      20,  2,19950202,0630, -26.9998,   -9.0008,  4164, 1395.500,    3.068,   34.650,2,   34.651,2,  186.300,2,  187.000,2,   51.500,2,   30.880,2, -999.000,9,    2.110,2,    0.028,2,    0.016,2, -999.000,9, 2222.500,2, 2332.800,2
           NA,     A14,     70,   1,-999.0,      19,  2,19950202,0630, -26.9998,   -9.0008,  4164, 1595.800,    2.998,   34.735,2,   34.735,2,  198.000,2,  198.100,2,   49.200,2,   28.850,2, -999.000,9,    1.970,2,    0.011,2, -999.000,9, -999.000,9, 2214.800,2, 2336.200,2
           NA,     A14,     70,   1,-999.0,      18,  2,19950202,0630, -26.9998,   -9.0008,  4164, 1596.400,    2.998,   34.735,2,   34.735,2,  198.000,2,  197.900,2,   49.000,2,   28.740,2, -999.000,9,    1.960,2,    0.009,2,    0.005,2, -999.000,9, -999.000,9, 2334.400,2
           NA,     A14,     70,   1,-999.0,      17,  2,19950202,0630, -26.9998,   -9.0008,  4164, 1795.400,    2.895,   34.788,2,   34.790,2,  209.100,2,  209.000,2,   47.600,2,   27.170,2, -999.000,9,    1.840,2,    0.002,2,    0.000,2, -999.000,9, 2208.000,2, 2337.300,2
           NA,     A14,     70,   1,-999.0,      16,  2,19950202,0630, -26.9998,   -9.0008,  4164, 1996.100,    2.677,   34.817,2,   34.818,2,  217.700,2,  218.800,2,   50.100,6,   26.000,2, -999.000,9,    1.760,6, -999.000,3,    0.004,2, -999.000,9, 2204.300,2, 2340.700,2
           NA,     A14,     70,   1,-999.0,      15,  2,19950202,0630, -26.9998,   -9.0008,  4164, 2195.500,    2.568,   34.835,2,   34.831,2,  223.900,2,  224.900,2,   50.400,2,   25.260,2, -999.000,9,    1.710,2,    0.006,2,    0.006,2, -999.000,9, 2201.200,2, 2343.900,2
           NA,     A14,     70,   1,-999.0,      14,  2,19950202,0630, -26.9998,   -9.0008,  4164, 2395.800,    2.477,   34.851,2,   34.852,2,  230.500,2,  231.100,2,   50.100,2,   24.400,2, -999.000,9,    1.660,2,    0.002,2,    0.000,2, -999.000,9, 2199.200,2, 2343.400,2
           NA,     A14,     70,   1,-999.0,      13,  2,19950202,0630, -26.9998,   -9.0008,  4164, 2596.000,    2.428,   34.861,2,   34.862,2,  235.000,2,  235.200,2,   49.400,2,   24.150,2, -999.000,9,    1.630,2,    0.003,2,   -0.001,2, -999.000,9, 2197.200,2, 2344.700,2
           NA,     A14,     70,   1,-999.0,      11,  2,19950202,0630, -26.9998,   -9.0008,  4164, 2795.900,    2.388,   34.870,2,   34.869,2,  238.300,2,  238.800,2,   49.000,2,   23.430,2, -999.000,9,    1.590,2,    0.002,2,    0.005,2, -999.000,9, 2194.700,2, 2346.400,2
           NA,     A14,     70,   1,-999.0,      12,  2,19950202,0630, -26.9998,   -9.0008,  4164, 2796.400,    2.388,   34.870,2,   34.869,2,  238.300,2,  238.800,2,   48.800,2,   23.550,2, -999.000,9,    1.600,2,    0.003,2,    0.007,2, -999.000,9, -999.000,9, 2344.400,2
           NA,     A14,     70,   1,-999.0,      10,  2,19950202,0630, -26.9998,   -9.0008,  4164, 2997.000,    2.375,   34.874,2,   34.874,2,  239.700,2,  239.900,2,   49.300,2,   23.390,2, -999.000,9,    1.600,2,    0.004,2, -999.000,9, -999.000,9, 2196.200,2, 2348.600,2
           NA,     A14,     70,   1,-999.0,       9,  2,19950202,0630, -26.9998,   -9.0008,  4164, 3196.200,    2.357,   34.876,2,   34.875,2,  239.200,2,  239.400,2,   49.800,2,   23.400,2, -999.000,9,    1.590,2,    0.001,2,    0.000,2, -999.000,9, 2198.400,2, 2350.300,2
           NA,     A14,     70,   1,-999.0,       8,  2,19950202,0630, -26.9998,   -9.0008,  4164, 3396.900,    2.354,   34.877,2,   34.876,2,  238.800,2,  239.000,2,   50.400,2,   23.360,2, -999.000,9,    1.590,2,    0.003,2,    0.003,2, -999.000,9, 2201.600,2, 2352.000,2
           NA,     A14,     70,   1,-999.0,       7,  2,19950202,0630, -26.9998,   -9.0008,  4164, 3596.300,    2.360,   34.879,2,   34.882,2,  237.800,2,  238.300,2,   50.600,2,   23.450,2, -999.000,9,    1.600,2,    0.002,2,    0.004,2, -999.000,9, 2202.800,2, 2353.800,2
           NA,     A14,     70,   1,-999.0,       6,  2,19950202,0630, -26.9998,   -9.0008,  4164, 3797.000,    2.374,   34.881,2,   34.883,2,  237.500,2,  237.400,2,   50.800,2,   23.460,2, -999.000,9,    1.580,2,    0.002,2,    0.005,2, -999.000,9, 2203.300,2, 2355.400,2
           NA,     A14,     70,   1,-999.0,       5,  2,19950202,0630, -26.9998,   -9.0008,  4164, 3997.400,    2.390,   34.882,2,   34.882,2,  236.700,2,  236.600,2,   50.900,2,   23.470,2, -999.000,9,    1.580,2,    0.000,2,    0.002,2, -999.000,9, 2206.200,2, 2357.700,2
           NA,     A14,     70,   1,-999.0,       4,  2,19950202,0630, -26.9998,   -9.0008,  4164, 4147.000,    2.404,   34.884,2,   34.884,2,  236.600,2,  236.100,2,   51.000,2,   23.470,2, -999.000,9,    1.570,2,    0.004,2,   -0.001,2, -999.000,9, -999.000,9, 2359.500,2
           NA,     A14,     70,   1,-999.0,       3,  2,19950202,0630, -26.9998,   -9.0008,  4164, 4206.000,    2.411,   34.885,2,   34.884,2,  236.100,2,  236.600,2,   51.000,2,   23.440,2, -999.000,9,    1.570,2,    0.004,2, -999.000,9, -999.000,9, 2208.300,6, 2359.800,6