BOTTLE,20213527JOAExport
EXPOCODE,SECT_ID,STNNBR,CASTNO,SAMPNO,BTLNBR,BTLNBR_FLAG_W,DATE,TIME,LATITUDE,LONGITUDE,DEPTH,CTDPRS,CTDTMP,CTDSAL,CTDSAL_FLAG_W,SALNTY,SALNTY_FLAG_W,CTDOXY,CTDOXY_FLAG_W,OXYGEN,OXYGEN_FLAG_W,SILCAT,SILCAT_FLAG_W,NITRAT,NITRAT_FLAG_W,NITRIT,NITRIT_FLAG_W,PHSPHT,PHSPHT_FLAG_W,CFC-11,CFC-11_FLAG_W,CFC-12,CFC-12_FLAG_W,SF6,SF6_FLAG_W,TCARBN,TCARBN_FLAG_W,ALKALI,ALKALI_FLAG_W
,,,,,,,,,,,,DB,DEG C,PSS-78,,PSS-78,,UMOL/KG,,UMOL/KG,,UMOL/KG,,UMOL/KG,,UMOL/KG,,UMOL/KG,,PMOL/KG,,PMOL/KG,,FMOL/KG,,UMOL/KG,,UMOL/KG
           NA,     A14,     40,   1,-999.0,      32,  2,19950126,1107, -12.0017,   -8.9987,  4485,    4.700,   24.727,   36.550,2,   36.550,2,  208.800,2,  209.100,2,    1.080,2,    0.000,2, -999.000,9,    0.150,2,    1.871,2,    0.987,2, -999.000,9, 2064.900,6, 2405.100,6
           NA,     A14,     40,   1,-999.0,      31,  2,19950126,1107, -12.0017,   -8.9987,  4485,   34.000,   24.101,   36.579,2,   36.577,2,  220.400,2, -999.000,3,    0.990,2,    0.000,2, -999.000,9,    0.150,2,    1.923,2,    0.981,2, -999.000,9, 2064.800,2, 2407.300,2
           NA,     A14,     40,   1,-999.0,      30,  2,19950126,1107, -12.0017,   -8.9987,  4485,   95.300,   20.405,   36.512,2, -999.000,3,  209.300,2, -999.000,3,    0.990,2,    0.890,2, -999.000,9,    0.290,2,    2.167,2,    1.090,2, -999.000,9, 2094.000,2, 2401.600,2
           NA,     A14,     40,   1,-999.0,      29,  2,19950126,1107, -12.0017,   -8.9987,  4485,  147.000,   14.647,   35.479,2, -999.000,3,  135.200,2,  135.700,2,    4.900,2,   17.000,2, -999.000,9,    1.120,2,    1.893,2,    0.916,2, -999.000,9, 2154.800,2, 2335.600,2
           NA,     A14,     40,   1,-999.0,      28,  2,19950126,1107, -12.0017,   -8.9987,  4485,  194.600,   11.943,   35.132,2,   35.133,2,   82.200,2,   81.600,2,    9.550,2,   26.590,2, -999.000,9,    1.700,2,    0.942,2,    0.461,2, -999.000,9, 2204.200,2, 2314.900,2
           NA,     A14,     40,   1,-999.0,      27,  2,19950126,1107, -12.0017,   -8.9987,  4485,  394.200,    8.091,   34.728,2,   34.732,2,   76.200,2,   77.700,2,   17.690,2,   34.950,2, -999.000,9,    2.210,2,    0.104,2,    0.061,2, -999.000,9, 2233.100,2, 2301.800,2
           NA,     A14,     40,   1,-999.0,      26,  2,19950126,1107, -12.0017,   -8.9987,  4485,  594.400,    6.055,   34.549,2,   34.552,2,  108.100,2,  107.900,2,   24.160,6,   36.150,2, -999.000,9,    2.350,6,    0.040,2,    0.026,2, -999.000,9, 2231.900,2, 2300.200,2
           NA,     A14,     40,   1,-999.0,      25,  2,19950126,1107, -12.0017,   -8.9987,  4485,  695.500,    5.455,   34.511,2,   34.516,2,  119.100,2,  118.600,2,   26.820,2,   36.300,2, -999.000,9,    2.380,2,    0.025,2,    0.019,2, -999.000,9, 2231.300,2, 2302.800,2
           NA,     A14,     40,   1,-999.0,      24,  2,19950126,1107, -12.0017,   -8.9987,  4485,  794.700,    4.705,   34.477,2,   34.481,2,  142.200,2,  143.100,2,   30.820,2,   35.170,2, -999.000,9,    2.340,2,    0.019,2,    0.011,2, -999.000,9, 2224.400,2, 2305.400,2
           NA,     A14,     40,   1,-999.0,      22,  2,19950126,1107, -12.0017,   -8.9987,  4485,  992.600,    4.070,   34.558,2,   34.561,2,  158.400,2,  157.100,2,   34.900,2,   33.810,2, -999.000,9,    2.270,2,    0.005,2, -999.000,9, -999.000,9, 2225.100,2, 2313.500,2
           NA,     A14,     40,   1,-999.0,      23,  2,19950126,1107, -12.0017,   -8.9987,  4485,  994.200,    4.074,   34.556,2,   34.559,2,  158.500,2,  156.900,2,   34.890,2,   33.760,2, -999.000,9,    2.260,2,    0.003,2,    0.003,2, -999.000,9, -999.000,9, 2314.400,2
           NA,     A14,     40,   1,-999.0,      21,  2,19950126,1107, -12.0017,   -8.9987,  4485, 1194.500,    3.881,   34.716,2,   34.715,2,  181.500,2,  179.200,2,   32.620,2,   29.990,2, -999.000,9,    2.010,2,    0.003,2,    0.002,2, -999.000,9, 2211.900,2, 2321.100,2
           NA,     A14,     40,   1,-999.0,      20,  2,19950126,1107, -12.0017,   -8.9987,  4485, 1395.600,    3.779,   34.839,2,   34.838,2,  201.700,2,  202.600,2,   28.790,2,   26.160,2, -999.000,9,    1.760,2,    0.003,2,    0.006,2, -999.000,9, 2200.000,2, 2323.400,2
           NA,     A14,     40,   1,-999.0,      19,  2,19950126,1107, -12.0017,   -8.9987,  4485, 1596.800,    3.654,   34.893,2,   34.895,2,  218.000,2,  216.800,2,   27.160,2,   24.020,2, -999.000,9,    1.600,2,    0.002,2,    0.002,2, -999.000,9, 2188.000,2, 2326.000,2
           NA,     A14,     40,   1,-999.0,      18,  2,19950126,1107, -12.0017,   -8.9987,  4485, 1795.200,    3.481,   34.920,2,   34.921,2,  229.600,2,  228.400,2,   27.250,2,   23.040,2, -999.000,9,    1.490,2,    0.003,2,    0.003,2, -999.000,9, 2185.400,2, 2327.600,2
           NA,     A14,     40,   1,-999.0,      17,  2,19950126,1107, -12.0017,   -8.9987,  4485, 1996.300,    3.323,   34.925,2,   34.925,2,  232.700,2,  232.500,2,   28.960,2,   22.530,2, -999.000,9,    1.470,2,    0.000,2,    0.000,2, -999.000,9, 2184.200,2, 2330.300,2
           NA,     A14,     40,   1,-999.0,      16,  2,19950126,1107, -12.0017,   -8.9987,  4485, 2297.000,    3.039,   34.919,2,   34.920,2,  238.400,2,  238.300,2,   32.980,6,   22.340,6, -999.000,9,    1.450,6,    0.002,2,    0.002,2, -999.000,9, 2182.800,2, 2334.400,2
           NA,     A14,     40,   1,-999.0,      15,  2,19950126,1107, -12.0017,   -8.9987,  4485, 2595.500,    2.786,   34.907,2,   34.902,2,  238.600,2,  238.400,2,   37.940,2,   22.540,2, -999.000,9,    1.480,2,    0.003,2, -999.000,9, -999.000,9, 2188.100,2, 2340.400,2
           NA,     A14,     40,   1,-999.0,      14,  2,19950126,1107, -12.0017,   -8.9987,  4485, 2795.200,    2.625,   34.901,2,   34.902,2,  237.000,2,  237.800,2,   41.550,2,   22.750,2, -999.000,9,    1.510,2,    0.001,2, -999.000,9, -999.000,9, 2194.300,2, 2345.800,2
           NA,     A14,     40,   1,-999.0,      13,  2,19950126,1107, -12.0017,   -8.9987,  4485, 2997.000,    2.506,   34.896,2,   34.892,2,  237.000,2,  237.400,2,   44.180,2,   22.970,2, -999.000,9,    1.520,2,    0.002,2,    0.002,2, -999.000,9, 2198.200,2, -999.000,9
           NA,     A14,     40,   1,-999.0,      12,  2,19950126,1107, -12.0017,   -8.9987,  4485, 3197.500,    2.462,   34.893,2,   34.893,2,  236.700,2,  237.100,2,   45.800,2,   23.060,2, -999.000,9,    1.520,2,    0.002,2,    0.005,2, -999.000,9, 2201.500,2, -999.000,9
           NA,     A14,     40,   1,-999.0,      11,  2,19950126,1107, -12.0017,   -8.9987,  4485, 3396.000,    2.411,   34.892,2,   34.887,2,  236.600,2,  236.800,2,   46.980,2,   23.060,2, -999.000,9,    1.520,2,    0.001,2,    0.002,2, -999.000,9, 2201.400,2, -999.000,3
           NA,     A14,     40,   1,-999.0,      10,  2,19950126,1107, -12.0017,   -8.9987,  4485, 3597.000,    2.389,   34.891,2,   34.888,2,  236.800,2,  237.400,2,   47.660,2,   23.060,2, -999.000,9,    1.530,2,    0.004,2,   -0.004,2, -999.000,9, -999.000,9, 2355.400,2
           NA,     A14,     40,   1,-999.0,       9,  2,19950126,1107, -12.0017,   -8.9987,  4485, 3597.600,    2.389,   34.889,2,   34.889,2,  236.800,2,  237.400,2,   47.750,2,   23.190,2, -999.000,9,    1.530,2,    0.002,2, -999.000,9, -999.000,9, 2202.200,2, 2355.400,2
           NA,     A14,     40,   1,-999.0,       8,  2,19950126,1107, -12.0017,   -8.9987,  4485, 3795.400,    2.394,   34.890,2,   34.888,2,  237.000,2,  237.700,2,   47.830,2,   23.070,2, -999.000,9,    1.540,2,    0.004,2,    0.000,2, -999.000,9, 2202.200,2, 2356.900,2
           NA,     A14,     40,   1,-999.0,       7,  2,19950126,1107, -12.0017,   -8.9987,  4485, 3998.800,    2.403,   34.889,2,   34.890,2,  237.300,2,  237.200,2,   47.660,2,   23.110,2, -999.000,9,    1.520,2,    0.011,2, -999.000,9, -999.000,9, 2202.200,2, 2355.100,2
           NA,     A14,     40,   1,-999.0,       6,  2,19950126,1107, -12.0017,   -8.9987,  4485, 4197.600,    2.422,   34.889,2,   34.890,2,  237.800,2,  237.700,2,   48.170,2,   23.200,2, -999.000,9,    1.530,2,    0.009,2,    0.006,2, -999.000,9, -999.000,9, 2355.200,2
           NA,     A14,     40,   1,-999.0,       5,  2,19950126,1107, -12.0017,   -8.9987,  4485, 4397.000,    2.445,   34.887,2,   34.887,2,  238.400,2,  238.000,2,   48.340,2,   23.120,2, -999.000,9,    1.530,2,    0.002,2,    0.000,2, -999.000,9, 2203.400,2, 2356.000,2
           NA,     A14,     40,   1,-999.0,       4,  2,19950126,1107, -12.0017,   -8.9987,  4485, 4497.500,    2.457,   34.888,2,   34.889,2,  238.600,2,  237.900,2,   48.250,2,   23.080,2, -999.000,9,    1.520,2,    0.001,2,    0.000,2, -999.000,9, -999.000,9, 2357.300,2
           NA,     A14,     40,   1,-999.0,       3,  2,19950126,1107, -12.0017,   -8.9987,  4485, 4541.000,    2.462,   34.888,2, -999.000,3,  238.300,2,  237.800,2,   48.340,2,   23.080,2, -999.000,9,    1.530,2,    0.002,2,    0.000,2, -999.000,9, 2203.100,6, 2356.600,6
           NA,     A14,     39,   1,-999.0,      32,  2,19950126,0528, -11.4985,   -8.9983,  4510,    3.100,   25.229,   36.398,2,   36.396,2,  212.800,2, -999.000,3,    0.990,2,    0.000,2, -999.000,9,    0.150,2,    1.797,2,    0.953,2, -999.000,9, -999.000,9, 2393.500,2
           NA,     A14,     39,   1,-999.0,      31,  2,19950126,0528, -11.4985,   -8.9983,  4510,   47.900,   23.405,   36.599,2, -999.000,3,  223.400,2, -999.000,3,    0.750,2,    0.000,2, -999.000,9,    0.150,2,    1.980,2,    1.015,2, -999.000,9, -999.000,9, -999.000,9
           NA,     A14,     39,   1,-999.0,      30,  2,19950126,0528, -11.4985,   -8.9983,  4510,  146.200,   14.927,   35.528,2,   35.530,2,  140.900,2, -999.000,3,    4.960,2,   17.880,2, -999.000,9,    1.170,2,    1.800,2,    0.868,2, -999.000,9, -999.000,9, -999.000,9
           NA,     A14,     39,   1,-999.0,      29,  2,19950126,0528, -11.4985,   -8.9983,  4510,  197.500,   12.408,   35.200,2,   35.199,2,   87.800,2, -999.000,3,    8.910,2,   25.870,2, -999.000,9,    1.650,2,    1.027,2,    0.505,2, -999.000,9, -999.000,9, -999.000,9
           NA,     A14,     39,   1,-999.0,      28,  2,19950126,0528, -11.4985,   -8.9983,  4510,  296.700,    9.609,   34.888,2,   34.892,2,   77.800,2,   79.500,2,   13.860,2,   31.520,2, -999.000,9,    1.990,2,    0.309,2,    0.163,2, -999.000,9, -999.000,9, -999.000,9
           NA,     A14,     39,   1,-999.0,      27,  2,19950126,0528, -11.4985,   -8.9983,  4510,  395.300,    8.639,   34.782,2,   34.783,2,   83.500,2,   82.800,2,   16.160,2,   33.340,2, -999.000,9,    2.100,2,    0.175,2,    0.095,2, -999.000,9, -999.000,9, -999.000,9
           NA,     A14,     39,   1,-999.0,      26,  2,19950126,0528, -11.4985,   -8.9983,  4510,  495.000,    7.480,   34.668,2,   34.668,2,   94.000,2,   90.700,2,   19.280,2,   35.160,2, -999.000,9,    2.230,2,    0.082,2,    0.046,2, -999.000,9, -999.000,9, -999.000,9
           NA,     A14,     39,   1,-999.0,      25,  2,19950126,0528, -11.4985,   -8.9983,  4510,  595.600,    6.168,   34.554,2,   34.555,2,  112.200,2,  110.500,2,   23.560,2,   36.060,2, -999.000,9,    2.320,2,    0.045,2,    0.026,2, -999.000,9, -999.000,9, -999.000,9
           NA,     A14,     39,   1,-999.0,      24,  2,19950126,0528, -11.4985,   -8.9983,  4510,  695.800,    5.261,   34.509,2,   34.509,2,  115.500,2,  116.300,2,   28.240,2,   36.740,2, -999.000,9,    2.430,2,    0.016,2,    0.011,2, -999.000,9, -999.000,9, -999.000,9
           NA,     A14,     39,   1,-999.0,      23,  2,19950126,0528, -11.4985,   -8.9983,  4510,  794.300,    4.715,   34.496,2,   34.502,2,  132.600,2,  132.400,2,   31.350,2,   36.050,2, -999.000,9,    2.390,2,    0.008,2,    0.008,2, -999.000,9, -999.000,9, -999.000,9
           NA,     A14,     39,   1,-999.0,      21,  2,19950126,0528, -11.4985,   -8.9983,  4510,  994.600,    4.077,   34.579,2,   34.581,2,  154.600,2,  157.300,2,   34.530,2,   33.580,2, -999.000,9,    2.240,2,    0.002,2,    0.003,2, -999.000,9, -999.000,9, -999.000,9
           NA,     A14,     39,   1,-999.0,      22,  2,19950126,0528, -11.4985,   -8.9983,  4510,  995.000,    4.076,   34.580,2,   34.582,2,  154.600,2,  157.400,2,   34.550,2,   33.530,2, -999.000,9,    2.240,2, -999.000,9, -999.000,9, -999.000,9, -999.000,9, -999.000,9
           NA,     A14,     39,   1,-999.0,      20,  2,19950126,0528, -11.4985,   -8.9983,  4510, 1194.900,    3.937,   34.727,2,   34.727,2,  178.700,2,  178.700,2,   31.470,2,   29.930,2, -999.000,9,    1.980,2,    0.000,2,    0.005,2, -999.000,9, -999.000,9, -999.000,9
           NA,     A14,     39,   1,-999.0,      19,  2,19950126,0528, -11.4985,   -8.9983,  4510, 1395.700,    3.864,   34.855,2,   34.855,2,  204.700,2,  204.100,2,   26.780,2,   25.710,2, -999.000,9,    1.710,2,    0.001,2,    0.005,2, -999.000,9, -999.000,9, -999.000,9
           NA,     A14,     39,   1,-999.0,      18,  2,19950126,0528, -11.4985,   -8.9983,  4510, 1596.100,    3.696,   34.908,2,   34.908,2,  219.300,2,  219.700,2,   25.370,2,   23.530,2, -999.000,9,    1.550,2,    0.002,2,    0.004,2, -999.000,9, -999.000,9, -999.000,9
           NA,     A14,     39,   1,-999.0,      17,  2,19950126,0528, -11.4985,   -8.9983,  4510, 1795.000,    3.503,   34.920,2,   34.923,2,  227.300,2,  226.900,2,   26.750,2,   22.930,2, -999.000,9,    1.490,2,    0.001,2,    0.003,2, -999.000,9, -999.000,9, -999.000,9
           NA,     A14,     39,   1,-999.0,      16,  2,19950126,0528, -11.4985,   -8.9983,  4510, 1994.900,    3.339,   34.927,2,   34.927,2,  232.800,2,  232.600,2,   28.300,2,   22.460,2, -999.000,9,    1.480,2,    0.001,2,    0.003,2, -999.000,9, -999.000,9, -999.000,9
           NA,     A14,     39,   1,-999.0,      15,  2,19950126,0528, -11.4985,   -8.9983,  4510, 2297.100,    3.044,   34.922,2,   34.918,2,  239.600,2,  239.900,2,   32.380,2,   22.030,2, -999.000,9,    1.450,2,    0.004,2, -999.000,9, -999.000,9, -999.000,9, -999.000,9
           NA,     A14,     39,   1,-999.0,      14,  2,19950126,0528, -11.4985,   -8.9983,  4510, 2595.900,    2.738,   34.904,2,   34.905,2,  238.900,2,  239.100,2,   38.920,2,   22.620,2, -999.000,9,    1.490,2,    0.000,2,    0.000,2, -999.000,9, -999.000,9, -999.000,9
           NA,     A14,     39,   1,-999.0,      13,  2,19950126,0528, -11.4985,   -8.9983,  4510, 2795.700,    2.599,   34.898,2,   34.900,2,  238.100,2,  238.200,2,   42.070,2,   22.790,2, -999.000,9,    1.510,2,    0.002,2,    0.002,2, -999.000,9, -999.000,9, -999.000,9
           NA,     A14,     39,   1,-999.0,      12,  2,19950126,0528, -11.4985,   -8.9983,  4510, 2996.200,    2.491,   34.894,2,   34.893,2,  237.600,2,  237.400,2,   44.790,2,   22.910,2, -999.000,9,    1.520,2,    0.002,2,    0.000,2, -999.000,9, -999.000,9, -999.000,9
           NA,     A14,     39,   1,-999.0,      11,  2,19950126,0528, -11.4985,   -8.9983,  4510, 3197.300,    2.428,   34.892,2,   34.891,2,  237.000,2,  237.300,2,   46.230,2,   23.000,2, -999.000,9,    1.530,2,    0.001,2, -999.000,9, -999.000,9, -999.000,9, -999.000,9
           NA,     A14,     39,   1,-999.0,      10,  2,19950126,0528, -11.4985,   -8.9983,  4510, 3395.800,    2.395,   34.890,2,   34.891,2,  237.400,2,  237.400,2,   47.330,2,   22.990,2, -999.000,9,    1.530,2,    0.003,2,    0.000,2, -999.000,9, -999.000,9, -999.000,9
           NA,     A14,     39,   1,-999.0,       9,  2,19950126,0528, -11.4985,   -8.9983,  4510, 3596.600,    2.390,   34.890,2,   34.887,2,  237.400,2,  237.800,2,   47.730,2,   23.030,2, -999.000,9,    1.530,2,    0.002,2,    0.000,2, -999.000,9, -999.000,9, -999.000,9
           NA,     A14,     39,   1,-999.0,       8,  2,19950126,0528, -11.4985,   -8.9983,  4510, 3597.100,    2.390,   34.890,2,   34.890,2,  237.400,2,  237.900,2,   47.650,6,   23.010,2, -999.000,9,    1.520,6,    0.001,2, -999.000,9, -999.000,9, -999.000,9, -999.000,9
           NA,     A14,     39,   1,-999.0,       7,  2,19950126,0528, -11.4985,   -8.9983,  4510, 3797.300,    2.401,   34.889,2,   34.891,2,  238.100,2,  237.200,2,   47.780,2,   23.030,2, -999.000,9,    1.530,2,    0.004,2, -999.000,9, -999.000,9, -999.000,9, -999.000,9
           NA,     A14,     39,   1,-999.0,       6,  2,19950126,0528, -11.4985,   -8.9983,  4510, 3997.400,    2.414,   34.890,2,   34.888,2,  238.300,2,  237.900,2,   48.100,2,   23.020,2, -999.000,9,    1.530,2,    0.016,2,    0.007,2, -999.000,9, -999.000,9, -999.000,9
           NA,     A14,     39,   1,-999.0,       5,  2,19950126,0528, -11.4985,   -8.9983,  4510, 4199.000,    2.431,   34.888,2,   34.888,2,  238.200,2,  237.600,2,   48.080,2,   23.020,2, -999.000,9,    1.520,2,    0.001,2,    0.000,2, -999.000,9, -999.000,9, -999.000,9
           NA,     A14,     39,   1,-999.0,       4,  2,19950126,0528, -11.4985,   -8.9983,  4510, 4497.100,    2.458,   34.887,2,   34.888,2,  239.200,2,  237.700,2,   48.060,2,   23.020,2, -999.000,9,    1.530,2,    0.002,2,    0.002,2, -999.000,9, -999.000,9, -999.000,9
           NA,     A14,     39,   1,-999.0,       3,  2,19950126,0528, -11.4985,   -8.9983,  4510, 4563.100,    2.465,   34.887,2,   34.890,2,  239.000,2,  238.900,2,   48.390,2,   23.010,2, -999.000,9,    1.520,2,    0.002,2,    0.000,2, -999.000,9, -999.000,9, -999.000,9