BOTTLE,20213527JOAExport
EXPOCODE,SECT_ID,STNNBR,CASTNO,SAMPNO,BTLNBR,BTLNBR_FLAG_W,DATE,TIME,LATITUDE,LONGITUDE,DEPTH,CTDPRS,CTDTMP,CTDSAL,CTDSAL_FLAG_W,SALNTY,SALNTY_FLAG_W,CTDOXY,CTDOXY_FLAG_W,OXYGEN,OXYGEN_FLAG_W,SILCAT,SILCAT_FLAG_W,NITRAT,NITRAT_FLAG_W,NITRIT,NITRIT_FLAG_W,PHSPHT,PHSPHT_FLAG_W,CFC-11,CFC-11_FLAG_W,CFC-12,CFC-12_FLAG_W,SF6,SF6_FLAG_W,TCARBN,TCARBN_FLAG_W,ALKALI,ALKALI_FLAG_W
,,,,,,,,,,,,DB,DEG C,PSS-78,,PSS-78,,UMOL/KG,,UMOL/KG,,UMOL/KG,,UMOL/KG,,UMOL/KG,,UMOL/KG,,PMOL/KG,,PMOL/KG,,FMOL/KG,,UMOL/KG,,UMOL/KG
           NA,     A14,     65,   1,-999.0,      32,  2,19950201,0252, -24.5003,   -8.9993,  4104,    3.800,   25.899,   36.569,2,   36.567,2,  203.500,2,  207.100,2,    1.200,2,    0.020,2, -999.000,9,    0.180,2,    1.837,2,    0.970,2, -999.000,9, -999.000,9, 2406.800,2
           NA,     A14,     65,   1,-999.0,      31,  2,19950201,0252, -24.5003,   -8.9993,  4104,   46.600,   22.071,   36.315,2,   36.310,2,  228.200,2,  231.600,2,    1.300,2,    0.020,2, -999.000,9,    0.160,2,    2.231,2,    1.106,2, -999.000,9, -999.000,9, -999.000,9
           NA,     A14,     65,   1,-999.0,      30,  2,19950201,0252, -24.5003,   -8.9993,  4104,   96.300,   20.064,   36.159,2,   36.159,2,  232.600,2, -999.000,3,    1.600,2,    0.020,6, -999.000,9,    0.170,6,    2.307,2,    1.123,2, -999.000,9, -999.000,9, -999.000,9
           NA,     A14,     65,   1,-999.0,      29,  2,19950201,0252, -24.5003,   -8.9993,  4104,  138.800,   18.973,   36.029,2,   36.025,2,  222.600,2,  225.800,2,    1.600,2,    0.020,6, -999.000,9,    0.200,6,    2.353,2,    1.161,2, -999.000,9, -999.000,9, -999.000,9
           NA,     A14,     65,   1,-999.0,      28,  2,19950201,0252, -24.5003,   -8.9993,  4104,  195.900,   16.032,   35.520,2, -999.000,3,  211.400,2,  215.600,2,    2.500,2,    3.860,6, -999.000,9,    0.420,6,    2.606,2,    1.240,2, -999.000,9, -999.000,9, -999.000,9
           NA,     A14,     65,   1,-999.0,      27,  2,19950201,0252, -24.5003,   -8.9993,  4104,  296.200,   12.991,   35.132,2,   35.129,2,  202.900,2,  207.500,2,    4.300,2,   10.880,6, -999.000,9,    0.800,6,    2.559,2,    1.180,2, -999.000,9, -999.000,9, -999.000,9
           NA,     A14,     65,   1,-999.0,      26,  2,19950201,0252, -24.5003,   -8.9993,  4104,  395.300,   11.368,   34.947,2,   34.945,2,  203.400,2,  202.800,2,    5.900,2,   15.080,2, -999.000,9,    1.040,2,    2.309,2,    1.052,2, -999.000,9, -999.000,9, -999.000,9
           NA,     A14,     65,   1,-999.0,      25,  2,19950201,0252, -24.5003,   -8.9993,  4104,  496.300,    8.709,   34.666,2, -999.000,3,  185.200,2,  182.800,2,   11.600,2,   22.610,2, -999.000,9,    1.560,2,    1.665,2,    0.737,2, -999.000,9, -999.000,9, -999.000,9
           NA,     A14,     65,   1,-999.0,      24,  2,19950201,0252, -24.5003,   -8.9993,  4104,  595.300,    7.105,   34.526,2,   34.530,2,  176.600,2,  178.600,2,   16.600,2,   27.430,2, -999.000,9,    1.860,2,    1.237,2,    0.556,2, -999.000,9, -999.000,9, -999.000,9
           NA,     A14,     65,   1,-999.0,      23,  2,19950201,0252, -24.5003,   -8.9993,  4104,  794.400,    4.567,   34.380,2,   34.383,2,  186.700,2,  186.400,2,   29.000,2,   31.930,2, -999.000,9,    2.180,2,    0.616,2,    0.276,2, -999.000,9, -999.000,9, -999.000,9
           NA,     A14,     65,   1,-999.0,      22,  2,19950201,0252, -24.5003,   -8.9993,  4104,  795.700,    4.547,   34.380,2,   34.385,2,  186.600,2,  186.600,2,   29.200,2,   31.880,2, -999.000,9,    2.170,2,    0.616,2,    0.274,2, -999.000,9, -999.000,9, -999.000,9
           NA,     A14,     65,   1,-999.0,      21,  2,19950201,0252, -24.5003,   -8.9993,  4104,  995.400,    3.526,   34.461,2,   34.465,2,  180.600,2,  180.200,2,   43.400,2,   33.160,2, -999.000,9,    2.280,2,    0.140,2,    0.061,2, -999.000,9, -999.000,9, -999.000,9
           NA,     A14,     65,   1,-999.0,      20,  2,19950201,0252, -24.5003,   -8.9993,  4104, 1195.300,    3.309,   34.614,2,   34.614,2,  182.900,2,  184.900,2,   45.700,2,   31.270,2, -999.000,9,    2.150,2,    0.018,2,    0.007,2, -999.000,9, -999.000,9, -999.000,9
           NA,     A14,     65,   1,-999.0,      19,  2,19950201,0252, -24.5003,   -8.9993,  4104, 1395.000,    3.307,   34.735,2,   34.735,2,  197.600,2,  197.500,2,   41.000,2,   28.390,2, -999.000,9,    1.940,2,    0.006,2,    0.002,2, -999.000,9, -999.000,9, -999.000,9
           NA,     A14,     65,   1,-999.0,      18,  2,19950201,0252, -24.5003,   -8.9993,  4104, 1595.300,    3.207,   34.808,2,   34.809,2,  212.100,2,  212.500,2,   38.500,2,   25.970,2, -999.000,9,    1.770,2,    0.003,2,    0.001,2, -999.000,9, -999.000,9, -999.000,9
           NA,     A14,     65,   1,-999.0,      17,  2,19950201,0252, -24.5003,   -8.9993,  4104, 1795.200,    2.958,   34.833,2,   34.832,2,  221.900,2,  221.200,2,   41.100,2,   24.990,2, -999.000,9,    1.720,2,    0.004,2,    0.001,2, -999.000,9, -999.000,9, -999.000,9
           NA,     A14,     65,   1,-999.0,      16,  2,19950201,0252, -24.5003,   -8.9993,  4104, 1994.700,    2.697,   34.840,2,   34.840,2,  227.200,2,  226.100,2,   45.700,2,   24.600,2, -999.000,9,    1.700,2,    0.009,2,    0.005,2, -999.000,9, -999.000,9, -999.000,9
           NA,     A14,     65,   1,-999.0,      15,  2,19950201,0252, -24.5003,   -8.9993,  4104, 2195.500,    2.566,   34.850,2,   34.850,2,  231.800,2,  231.200,2,   47.200,2,   24.150,2, -999.000,9,    1.670,2,    0.004,2,    0.003,2, -999.000,9, -999.000,9, -999.000,9
           NA,     A14,     65,   1,-999.0,      14,  2,19950201,0252, -24.5003,   -8.9993,  4104, 2396.600,    2.505,   34.860,2,   34.859,2,  235.800,2,  234.700,2,   47.000,2,   23.800,2, -999.000,9,    1.650,2,    0.001,2, -999.000,9, -999.000,9, -999.000,9, -999.000,9
           NA,     A14,     65,   1,-999.0,      13,  2,19950201,0252, -24.5003,   -8.9993,  4104, 2595.700,    2.455,   34.869,2,   34.865,2,  237.400,2,  238.100,2,   46.900,6,   23.390,6, -999.000,9,    1.580,6,    0.001,2,   -0.001,2, -999.000,9, -999.000,9, -999.000,9
           NA,     A14,     65,   1,-999.0,      12,  2,19950201,0252, -24.5003,   -8.9993,  4104, 2795.400,    2.417,   34.872,2,   34.872,2,  239.500,2,  240.300,2,   47.400,6,   23.300,6, -999.000,9,    1.580,2,    0.001,2,   -0.002,2, -999.000,9, -999.000,9, -999.000,9
           NA,     A14,     65,   1,-999.0,      11,  2,19950201,0252, -24.5003,   -8.9993,  4104, 2996.100,    2.391,   34.875,2,   34.874,2,  240.300,2,  240.200,2,   48.100,2,   23.340,2, -999.000,9,    1.570,2,    0.003,2, -999.000,9, -999.000,9, -999.000,9, -999.000,9
           NA,     A14,     65,   1,-999.0,      10,  2,19950201,0252, -24.5003,   -8.9993,  4104, 3195.400,    2.371,   34.876,2,   34.877,2,  239.900,2,  240.000,2,   49.200,2,   22.990,2, -999.000,9,    1.580,2,    0.003,2, -999.000,9, -999.000,9, -999.000,9, -999.000,9
           NA,     A14,     65,   1,-999.0,       9,  2,19950201,0252, -24.5003,   -8.9993,  4104, 3397.000,    2.356,   34.879,2,   34.877,2,  238.900,2,  239.000,2,   49.900,6,   23.120,6, -999.000,9,    1.580,6,    0.002,2,    0.001,2, -999.000,9, -999.000,9, -999.000,9
           NA,     A14,     65,   1,-999.0,       8,  2,19950201,0252, -24.5003,   -8.9993,  4104, 3596.200,    2.354,   34.880,2,   34.879,2,  237.400,2,  237.700,2,   50.300,2,   23.130,2, -999.000,9,    1.570,2,    0.002,2,   -0.003,2, -999.000,9, -999.000,9, -999.000,9
           NA,     A14,     65,   1,-999.0,       7,  2,19950201,0252, -24.5003,   -8.9993,  4104, 3596.500,    2.353,   34.881,2,   34.886,2,  237.400,2,  237.800,2,   50.000,2,   23.180,2, -999.000,9,    1.570,2,    0.008,2,    0.007,2, -999.000,9, -999.000,9, -999.000,9
           NA,     A14,     65,   1,-999.0,       6,  2,19950201,0252, -24.5003,   -8.9993,  4104, 3798.700,    2.361,   34.882,2,   34.877,2,  236.300,2,  236.800,2,   50.700,6,   23.420,2, -999.000,9,    1.580,6,    0.004,2,    0.004,2, -999.000,9, -999.000,9, -999.000,9
           NA,     A14,     65,   1,-999.0,       5,  2,19950201,0252, -24.5003,   -8.9993,  4104, 3996.900,    2.379,   34.883,2,   34.883,2,  236.300,2,  235.900,2,   50.800,2,   23.370,2, -999.000,9,    1.570,2,    0.001,2, -999.000,9, -999.000,9, -999.000,9, -999.000,9
           NA,     A14,     65,   1,-999.0,       4,  2,19950201,0252, -24.5003,   -8.9993,  4104, 4097.700,    2.384,   34.887,2, -999.000,3,  235.600,2,  234.900,2,   50.800,2,   23.370,2, -999.000,9,    1.580,2,    0.002,2,    0.000,2, -999.000,9, -999.000,9, -999.000,9
           NA,     A14,     65,   1,-999.0,       3,  2,19950201,0252, -24.5003,   -8.9993,  4104, 4155.900,    2.390,   34.887,2,   34.887,2,  235.300,2,  234.900,2,   50.900,2,   23.330,2, -999.000,9,    1.610,2,    0.002,2,    0.000,2, -999.000,9, -999.000,9, -999.000,9
           NA,     A14,     64,   1,-999.0,      32,  2,19950131,2112, -24.0047,   -8.9955,  4342,    3.000,   26.078,   36.598,2,   36.597,2,  201.800,2, -999.000,3,    1.100,2,    0.020,2, -999.000,9,    0.180,2,    1.874,2,    0.988,2, -999.000,9, 2075.700,6, 2408.600,2
           NA,     A14,     64,   1,-999.0,      31,  2,19950131,2112, -24.0047,   -8.9955,  4342,   47.700,   22.689,   36.374,2,   36.372,2,  233.300,2, -999.000,3,    1.300,2,    0.020,2, -999.000,9,    0.180,2,    2.181,2,    1.081,2, -999.000,9, 2068.200,2, 2393.300,2
           NA,     A14,     64,   1,-999.0,      30,  2,19950131,2112, -24.0047,   -8.9955,  4342,   95.500,   20.073,   36.201,2, -999.000,3,  225.900,2, -999.000,3,    1.400,2,    0.000,2, -999.000,9,    0.160,2,    2.346,2,    1.168,2, -999.000,9, 2064.800,2, 2382.800,2
           NA,     A14,     64,   1,-999.0,      29,  2,19950131,2112, -24.0047,   -8.9955,  4342,  145.900,   17.872,   35.826,2, -999.000,3,  222.500,2,  223.200,2,    1.600,2,    0.550,2, -999.000,9,    0.250,2,    2.542,2,    1.239,2, -999.000,9, 2071.200,2, 2358.300,2
           NA,     A14,     64,   1,-999.0,      28,  2,19950131,2112, -24.0047,   -8.9955,  4342,  195.400,   15.545,   35.447,2,   35.442,2,  209.700,2,  212.600,2,    2.500,2,    5.150,2, -999.000,9,    0.480,2,    2.679,2,    1.287,2, -999.000,9, 2082.100,2, 2332.100,2
           NA,     A14,     64,   1,-999.0,      26,  2,19950131,2112, -24.0047,   -8.9955,  4342,  295.600,   13.130,   35.145,2,   35.143,2,  197.600,2,  199.300,2,    4.300,2,   11.630,2, -999.000,9,    0.840,2,    2.549,2,    1.188,2, -999.000,9, 2108.100,2, 2316.700,2
           NA,     A14,     64,   1,-999.0,      27,  2,19950131,2112, -24.0047,   -8.9955,  4342,  296.100,   13.131,   35.144,2,   35.146,2,  197.600,2,  199.800,2,    4.400,2,   11.500,2, -999.000,9,    0.830,2,    2.547,2,    1.190,2, -999.000,9, -999.000,9, 2318.200,2
           NA,     A14,     64,   1,-999.0,      25,  2,19950131,2112, -24.0047,   -8.9955,  4342,  396.400,   10.753,   34.879,2,   34.881,2,  193.800,2,  194.200,2,    6.900,2,   17.270,2, -999.000,9,    1.170,2,    2.179,2,    0.993,2, -999.000,9, 2130.600,2, 2306.800,2
           NA,     A14,     64,   1,-999.0,      24,  2,19950131,2112, -24.0047,   -8.9955,  4342,  595.200,    6.755,   34.501,2,   34.503,2,  180.100,2,  177.200,2,   17.800,2,   28.200,2, -999.000,9,    1.910,2,    1.119,2,    0.502,2, -999.000,9, 2177.600,2, 2296.300,2
           NA,     A14,     64,   1,-999.0,      23,  2,19950131,2112, -24.0047,   -8.9955,  4342,  695.400,    5.293,   34.398,2,   34.402,2,  185.800,2,  187.000,2,   23.500,2,   30.740,2, -999.000,9,    2.080,2,    0.872,2,    0.394,2, -999.000,9, 2187.400,2, 2296.900,2
           NA,     A14,     64,   1,-999.0,      22,  2,19950131,2112, -24.0047,   -8.9955,  4342,  795.800,    4.447,   34.381,2,   34.387,2,  185.900,2,  185.500,2,   30.100,2,   32.290,2, -999.000,9,    2.210,2,    0.533,2,    0.245,2, -999.000,9, 2198.800,2, 2302.100,2
           NA,     A14,     64,   1,-999.0,      21,  2,19950131,2112, -24.0047,   -8.9955,  4342,  996.100,    3.569,   34.456,2,   34.458,2,  182.600,2,  181.600,2,   42.800,2,   33.080,2, -999.000,9,    2.280,2,    0.159,2,    0.075,2, -999.000,9, 2216.900,2, 2316.300,2
           NA,     A14,     64,   1,-999.0,      20,  2,19950131,2112, -24.0047,   -8.9955,  4342, 1194.700,    3.367,   34.601,2,   34.602,2,  184.500,2,  184.400,2,   44.800,2,   31.390,2, -999.000,9,    2.140,2,    0.025,2,    0.007,2, -999.000,9, 2217.600,2, 2325.500,2
           NA,     A14,     64,   1,-999.0,      19,  2,19950131,2112, -24.0047,   -8.9955,  4342, 1396.800,    3.266,   34.721,2,   34.721,2,  198.000,2,  198.000,2,   42.300,2,   28.760,2, -999.000,9,    1.950,2,    0.007,2,    0.003,2, -999.000,9, 2208.800,2, 2328.500,2
           NA,     A14,     64,   1,-999.0,      18,  2,19950131,2112, -24.0047,   -8.9955,  4342, 1596.000,    3.210,   34.803,2,   34.806,2,  212.100,2,  213.300,2,   39.000,2,   25.960,2, -999.000,9,    1.770,2,    0.003,2,   -0.001,2, -999.000,9, 2199.300,2, 2330.400,2
           NA,     A14,     64,   1,-999.0,      17,  2,19950131,2112, -24.0047,   -8.9955,  4342, 1795.200,    2.961,   34.837,2,   34.837,2,  221.800,2,  223.200,2,   41.300,6,   24.780,6, -999.000,9,    1.680,6,    0.003,2, -999.000,9, -999.000,9, 2197.100,2, 2333.500,2
           NA,     A14,     64,   1,-999.0,      16,  2,19950131,2112, -24.0047,   -8.9955,  4342, 1995.400,    2.714,   34.844,2,   34.845,2,  229.000,2,  227.400,2,   44.900,2,   24.500,2, -999.000,9,    1.670,2,    0.002,2,   -0.001,2, -999.000,9, 2197.200,2, 2338.000,2
           NA,     A14,     64,   1,-999.0,      15,  2,19950131,2112, -24.0047,   -8.9955,  4342, 2196.200,    2.614,   34.857,2,   34.857,2,  232.600,2,  232.900,2,   45.500,2,   23.920,2, -999.000,9,    1.620,2,    0.002,2,    0.005,2, -999.000,9, 2195.200,2, 2338.600,2
           NA,     A14,     64,   1,-999.0,      14,  2,19950131,2112, -24.0047,   -8.9955,  4342, 2396.600,    2.512,   34.864,2,   34.861,2,  234.600,2,  237.500,2,   46.600,2,   23.560,2, -999.000,9,    1.600,2,    0.002,2, -999.000,9, -999.000,9, 2193.000,2, 2341.500,2
           NA,     A14,     64,   1,-999.0,      13,  2,19950131,2112, -24.0047,   -8.9955,  4342, 2595.700,    2.469,   34.871,2,   34.870,2,  238.300,2,  238.500,2,   46.400,2,   23.420,2, -999.000,9,    1.580,2,    0.004,2,    0.003,2, -999.000,9, 2193.800,2, 2342.000,2
           NA,     A14,     64,   1,-999.0,      12,  2,19950131,2112, -24.0047,   -8.9955,  4342, 2795.900,    2.426,   34.875,2,   34.875,2,  239.700,2,  239.800,2,   47.300,2,   23.280,2, -999.000,9,    1.570,2,    0.001,2,    0.001,2, -999.000,9, 2191.700,2, 2346.100,2
           NA,     A14,     64,   1,-999.0,      11,  2,19950131,2112, -24.0047,   -8.9955,  4342, 2996.400,    2.380,   34.877,2,   34.877,2,  240.200,2,  239.900,2,   48.500,2,   23.270,2, -999.000,9,    1.580,2,    0.001,2,   -0.004,2, -999.000,9, 2194.200,2, 2347.100,2
           NA,     A14,     64,   1,-999.0,      10,  2,19950131,2112, -24.0047,   -8.9955,  4342, 3197.100,    2.364,   34.879,2,   34.884,2,  239.800,2,  239.000,2,   48.700,2,   23.300,2, -999.000,9,    1.580,2,    0.008,2, -999.000,9, -999.000,9, 2196.100,2, 2349.400,2
           NA,     A14,     64,   1,-999.0,       9,  2,19950131,2112, -24.0047,   -8.9955,  4342, 3396.200,    2.354,   34.882,2,   34.883,2,  238.100,2,  237.600,2,   49.800,2,   23.290,2, -999.000,9,    1.600,2,    0.001,2,    0.001,2, -999.000,9, 2201.500,2, 2353.300,2
           NA,     A14,     64,   1,-999.0,       8,  2,19950131,2112, -24.0047,   -8.9955,  4342, 3596.900,    2.359,   34.885,2,   34.884,2,  236.500,2,  236.200,2,   50.100,2,   23.280,2, -999.000,9,    1.580,2,    0.002,2,    0.001,2, -999.000,9, 2204.500,2, 2357.600,2
           NA,     A14,     64,   1,-999.0,       7,  2,19950131,2112, -24.0047,   -8.9955,  4342, 3796.400,    2.354,   34.886,2,   34.889,2,  235.400,2,  234.900,2,   50.200,2,   23.270,2, -999.000,9,    1.580,2, -999.000,9, -999.000,9, -999.000,9, 2208.000,2, 2360.500,2
           NA,     A14,     64,   1,-999.0,       6,  2,19950131,2112, -24.0047,   -8.9955,  4342, 3997.300,    2.368,   34.888,2,   34.888,2,  234.800,2,  234.300,2,   51.100,2,   23.310,2, -999.000,9,    1.570,2,    0.003,2,    0.004,2, -999.000,9, 2207.600,2, 2361.800,2
           NA,     A14,     64,   1,-999.0,       5,  2,19950131,2112, -24.0047,   -8.9955,  4342, 4197.800,    2.387,   34.888,2,   34.888,2,  234.600,2,  234.400,2,   50.800,2,   23.300,2, -999.000,9,    1.560,2,    0.000,2,    0.002,2, -999.000,9, 2208.700,2, 2362.100,2
           NA,     A14,     64,   1,-999.0,       4,  2,19950131,2112, -24.0047,   -8.9955,  4342, 4298.000,    2.397,   34.886,2,   34.889,2,  234.300,2,  234.400,2,   51.200,2,   23.330,2, -999.000,9,    1.580,2,    0.007,2,   -0.001,2, -999.000,9, -999.000,9, 2363.900,2
           NA,     A14,     64,   1,-999.0,       3,  2,19950131,2112, -24.0047,   -8.9955,  4342, 4371.000,    2.404,   34.888,2,   34.889,2,  234.500,2,  233.900,2,   51.100,2,   23.370,2, -999.000,9,    1.590,2,    0.002,2,    0.003,2, -999.000,9, 2211.600,2, 2364.000,6