BOTTLE,20213527JOAExport
EXPOCODE,SECT_ID,STNNBR,CASTNO,SAMPNO,BTLNBR,BTLNBR_FLAG_W,DATE,TIME,LATITUDE,LONGITUDE,DEPTH,CTDPRS,CTDTMP,CTDSAL,CTDSAL_FLAG_W,SALNTY,SALNTY_FLAG_W,CTDOXY,CTDOXY_FLAG_W,OXYGEN,OXYGEN_FLAG_W,SILCAT,SILCAT_FLAG_W,NITRAT,NITRAT_FLAG_W,NITRIT,NITRIT_FLAG_W,PHSPHT,PHSPHT_FLAG_W,CFC-11,CFC-11_FLAG_W,CFC-12,CFC-12_FLAG_W,SF6,SF6_FLAG_W,TCARBN,TCARBN_FLAG_W,ALKALI,ALKALI_FLAG_W
,,,,,,,,,,,,DB,DEG C,PSS-78,,PSS-78,,UMOL/KG,,UMOL/KG,,UMOL/KG,,UMOL/KG,,UMOL/KG,,UMOL/KG,,PMOL/KG,,PMOL/KG,,FMOL/KG,,UMOL/KG,,UMOL/KG
           NA,     A14,     14,   1,-999.0,      32,  2,19950120,1004,   0.3335,   -6.9995,  4903,    3.800,   28.057,   34.987,2, -999.000,3,  195.800,2, -999.000,3,    0.820,2,    0.000,2, -999.000,9,    0.000,2, -999.000,9, -999.000,9, -999.000,9, 1933.800,6, 2291.500,2
           NA,     A14,     14,   1,-999.0,      31,  2,19950120,1004,   0.3335,   -6.9995,  4903,   20.600,   27.757,   35.155,2, -999.000,3,  205.600,2,  202.200,2,    0.820,2,    0.000,2, -999.000,9,    0.020,2, -999.000,9, -999.000,9, -999.000,9, 1967.400,2, -999.000,9
           NA,     A14,     14,   1,-999.0,      30,  2,19950120,1004,   0.3335,   -6.9995,  4903,   92.500,   17.552,   35.744,2, -999.000,3,  136.500,2,  138.700,2,    4.910,2,   13.970,2, -999.000,9,    0.930,2, -999.000,9, -999.000,9, -999.000,9, 2137.700,2, -999.000,9
           NA,     A14,     14,   1,-999.0,      29,  2,19950120,1004,   0.3335,   -6.9995,  4903,  195.600,   13.903,   35.392,2,   35.389,2,  139.200,2,  135.700,2,    7.200,2,   18.310,2, -999.000,9,    1.230,2, -999.000,9, -999.000,9, -999.000,9, 2156.800,2, -999.000,9
           NA,     A14,     14,   1,-999.0,      28,  2,19950120,1004,   0.3335,   -6.9995,  4903,  395.300,    9.124,   34.846,2,   34.843,2,   71.700,2, -999.000,3,   16.190,2,   32.940,2, -999.000,9,    2.070,2, -999.000,9, -999.000,9, -999.000,9, 2224.300,2, -999.000,9
           NA,     A14,     14,   1,-999.0,      27,  2,19950120,1004,   0.3335,   -6.9995,  4903,  595.500,    5.926,   34.538,2,   34.541,2,  137.700,2,  136.700,2,   24.120,2,   33.690,2, -999.000,9,    2.240,2, -999.000,9, -999.000,9, -999.000,9, 2212.600,2, -999.000,9
           NA,     A14,     14,   1,-999.0,      26,  2,19950120,1004,   0.3335,   -6.9995,  4903,  796.300,    4.762,   34.531,2,   34.532,2,  147.100,2,  146.400,2,   30.490,2,   34.510,2, -999.000,9,    2.330,2, -999.000,9, -999.000,9, -999.000,9, 2221.500,2, -999.000,9
           NA,     A14,     14,   1,-999.0,      25,  2,19950120,1004,   0.3335,   -6.9995,  4903,  995.900,    4.487,   34.676,2,   34.674,2,  161.200,2,  162.500,2,   29.270,2,   31.610,6, -999.000,9,    2.140,6, -999.000,9, -999.000,9, -999.000,9, 2214.200,2, -999.000,9
           NA,     A14,     14,   1,-999.0,      24,  2,19950120,1004,   0.3335,   -6.9995,  4903, 1195.400,    4.442,   34.829,2,   34.829,2,  186.200,2,  185.300,2,   25.190,2,   27.350,2, -999.000,9,    1.850,2, -999.000,9, -999.000,9, -999.000,9, -999.000,9, -999.000,9
           NA,     A14,     14,   1,-999.0,      23,  2,19950120,1004,   0.3335,   -6.9995,  4903, 1396.300,    4.417,   34.930,2,   34.925,2,  213.500,2,  212.700,2,   19.880,2,   23.300,2, -999.000,9,    1.570,2, -999.000,9, -999.000,9, -999.000,9, -999.000,9, -999.000,9
           NA,     A14,     14,   1,-999.0,      22,  2,19950120,1004,   0.3335,   -6.9995,  4903, 1546.100,    4.187,   34.970,2,   34.971,2,  233.000,2,  232.500,2,   17.830,2,   21.230,2, -999.000,9,    1.400,2, -999.000,9, -999.000,9, -999.000,9, -999.000,9, -999.000,9
           NA,     A14,     14,   1,-999.0,      21,  2,19950120,1004,   0.3335,   -6.9995,  4903, 1696.500,    3.929,   34.969,2,   34.968,2,  240.300,2,  237.800,2,   18.980,2,   21.010,2, -999.000,9,    1.390,2, -999.000,9, -999.000,9, -999.000,9, -999.000,9, -999.000,9
           NA,     A14,     14,   1,-999.0,      20,  2,19950120,1004,   0.3335,   -6.9995,  4903, 1845.200,    3.740,   34.974,2,   34.972,2,  247.700,2,  246.400,2,   19.170,6,   20.250,2, -999.000,9,    1.330,2, -999.000,9, -999.000,9, -999.000,9, -999.000,9, -999.000,9
           NA,     A14,     14,   1,-999.0,      19,  2,19950120,1004,   0.3335,   -6.9995,  4903, 1996.200,    3.524,   34.967,2,   34.967,2,  251.200,2,  251.500,2,   21.110,2,   20.080,2, -999.000,9,    1.320,2, -999.000,9, -999.000,9, -999.000,9, -999.000,9, -999.000,9
           NA,     A14,     14,   1,-999.0,      18,  2,19950120,1004,   0.3335,   -6.9995,  4903, 2296.700,    3.102,   34.943,2,   34.941,2,  246.700,2,  245.200,2,   28.810,2,   21.010,2, -999.000,9,    1.390,2, -999.000,9, -999.000,9, -999.000,9, -999.000,9, -999.000,9
           NA,     A14,     14,   1,-999.0,      17,  2,19950120,1004,   0.3335,   -6.9995,  4903, 2596.700,    2.880,   34.928,2,   34.929,2,  244.600,2,  244.600,2,   32.900,2,   21.360,2, -999.000,9,    1.420,2, -999.000,9, -999.000,9, -999.000,9, -999.000,9, -999.000,9
           NA,     A14,     14,   1,-999.0,      16,  2,19950120,1004,   0.3335,   -6.9995,  4903, 2796.400,    2.754,   34.920,2,   34.919,2,  244.300,2,  243.200,2,   36.100,2,   21.760,2, -999.000,9,    1.450,2, -999.000,9, -999.000,9, -999.000,9, -999.000,9, -999.000,9
           NA,     A14,     14,   1,-999.0,      15,  2,19950120,1004,   0.3335,   -6.9995,  4903, 2998.300,    2.682,   34.914,2, -999.000,3,  242.200,2,  241.400,2,   38.070,2,   21.800,2, -999.000,9,    1.470,2, -999.000,9, -999.000,9, -999.000,9, -999.000,9, -999.000,9
           NA,     A14,     14,   1,-999.0,      14,  2,19950120,1004,   0.3335,   -6.9995,  4903, 3197.700,    2.513,   34.904,2,   34.903,2,  243.000,2,  244.500,2,   40.770,2,   21.940,2, -999.000,9,    1.480,2, -999.000,9, -999.000,9, -999.000,9, -999.000,9, -999.000,9
           NA,     A14,     14,   1,-999.0,      12,  2,19950120,1004,   0.3335,   -6.9995,  4903, 3397.100,    2.452,   34.899,2,   34.898,2,  242.600,2,  243.200,2,   42.320,2,   22.070,6, -999.000,9,    1.490,6, -999.000,9, -999.000,9, -999.000,9, -999.000,9, -999.000,9
           NA,     A14,     14,   1,-999.0,      13,  2,19950120,1004,   0.3335,   -6.9995,  4903, 3398.700,    2.452,   34.900,2,   34.898,2,  242.600,2,  243.300,2,   42.400,2,   22.110,2, -999.000,9,    1.490,2, -999.000,9, -999.000,9, -999.000,9, -999.000,9, -999.000,9
           NA,     A14,     14,   1,-999.0,      11,  2,19950120,1004,   0.3335,   -6.9995,  4903, 3598.100,    2.396,   34.895,2,   34.894,2,  243.500,2,  244.000,2,   43.560,2,   22.070,2, -999.000,9,    1.510,2, -999.000,9, -999.000,9, -999.000,9, -999.000,9, -999.000,9
           NA,     A14,     14,   1,-999.0,      10,  2,19950120,1004,   0.3335,   -6.9995,  4903, 3798.800,    2.388,   34.894,2, -999.000,3,  243.800,2,  240.900,2,   43.850,6,   22.100,6, -999.000,9,    1.490,6, -999.000,9, -999.000,9, -999.000,9, -999.000,9, -999.000,9
           NA,     A14,     14,   1,-999.0,       9,  2,19950120,1004,   0.3335,   -6.9995,  4903, 3998.900,    2.321,   34.887,2,   34.885,2,  244.500,2,  244.900,2,   46.200,2,   22.250,2, -999.000,9,    1.510,2, -999.000,9, -999.000,9, -999.000,9, -999.000,9, -999.000,9
           NA,     A14,     14,   1,-999.0,       8,  2,19950120,1004,   0.3335,   -6.9995,  4903, 4198.100,    2.295,   34.882,2,   34.881,2,  244.200,2,  244.200,2,   47.440,2,   22.470,2, -999.000,9,    1.520,2, -999.000,9, -999.000,9, -999.000,9, -999.000,9, -999.000,9
           NA,     A14,     14,   1,-999.0,       7,  2,19950120,1004,   0.3335,   -6.9995,  4903, 4397.800,    2.229,   34.874,2,   34.876,2,  243.800,2,  243.600,2,   50.170,2,   22.690,2, -999.000,9,    1.550,2, -999.000,9, -999.000,9, -999.000,9, -999.000,9, -999.000,9
           NA,     A14,     14,   1,-999.0,       6,  2,19950120,1004,   0.3335,   -6.9995,  4903, 4601.700,    2.201,   34.871,2, -999.000,9,  244.800,2,  250.600,2,   51.850,2,   22.910,2, -999.000,9,    1.560,2, -999.000,9, -999.000,9, -999.000,9, -999.000,9, -999.000,9
           NA,     A14,     14,   1,-999.0,       5,  2,19950120,1004,   0.3335,   -6.9995,  4903, 4798.800,    2.175,   34.866,2,   34.864,2,  245.400,2,  244.100,2,   53.350,2,   22.960,2, -999.000,9,    1.570,2, -999.000,9, -999.000,9, -999.000,9, -999.000,9, -999.000,9
           NA,     A14,     14,   1,-999.0,       4,  2,19950120,1004,   0.3335,   -6.9995,  4903, 4898.300,    2.162,   34.863,2, -999.000,9,  245.800,2,  252.000,2,   53.530,2,   23.090,6, -999.000,9,    1.570,6, -999.000,9, -999.000,9, -999.000,9, -999.000,9, -999.000,9
           NA,     A14,     14,   1,-999.0,       3,  2,19950120,1004,   0.3335,   -6.9995,  4903, 4980.300,    2.145,   34.860,2,   34.859,2,  245.700,2,  244.600,2,   54.420,2,   23.180,2, -999.000,9,    1.580,2, -999.000,9, -999.000,9, -999.000,9, -999.000,9, -999.000,9
           NA,     A14,     13,   1,-999.0,      32,  2,19950120,0411,   0.6668,   -6.9985,  5183,    2.400,   28.228,   34.923,2, -999.000,3,  197.000,2,  198.700,2,    0.660,2,    0.000,2, -999.000,9,    0.010,2, -999.000,9, -999.000,9, -999.000,9, 1927.600,6, 2288.900,2
           NA,     A14,     13,   1,-999.0,      31,  2,19950120,0411,   0.6668,   -6.9985,  5183,   28.100,   26.650,   35.590,2, -999.000,3,  205.800,2, -999.000,3,    0.740,2,    0.000,2, -999.000,9,    0.050,2, -999.000,9, -999.000,9, -999.000,9, 1992.500,2, 2335.800,2
           NA,     A14,     13,   1,-999.0,      30,  2,19950120,0411,   0.6668,   -6.9985,  5183,  135.200,   14.103,   35.418,2,   35.418,2,  139.600,2,  141.600,2,    6.690,2,   17.430,2, -999.000,9,    1.180,2, -999.000,9, -999.000,9, -999.000,9, 2152.000,2, 2332.400,2
           NA,     A14,     13,   1,-999.0,      29,  2,19950120,0411,   0.6668,   -6.9985,  5183,  197.100,   13.895,   35.393,2,   35.389,2,  135.900,2, -999.000,3,    7.340,2,   19.200,2, -999.000,9,    1.280,2, -999.000,9, -999.000,9, -999.000,9, 2162.800,2, 2330.400,2
           NA,     A14,     13,   1,-999.0,      28,  2,19950120,0411,   0.6668,   -6.9985,  5183,  396.000,    9.306,   34.862,2,   34.863,2,   82.400,2, -999.000,3,   14.920,2,   29.460,2, -999.000,9,    2.020,2, -999.000,9, -999.000,9, -999.000,9, 2217.200,2, 2306.100,2
           NA,     A14,     13,   1,-999.0,      27,  2,19950120,0411,   0.6668,   -6.9985,  5183,  596.000,    5.897,   34.540,2,   34.544,2,  134.900,2,  135.100,2,   23.970,2,   33.590,2, -999.000,9,    2.260,2, -999.000,9, -999.000,9, -999.000,9, 2212.600,2, 2301.100,2
           NA,     A14,     13,   1,-999.0,      26,  2,19950120,0411,   0.6668,   -6.9985,  5183,  795.400,    4.749,   34.537,2,   34.539,2,  144.600,2,  146.400,2,   30.170,2,   34.180,2, -999.000,9,    2.340,2, -999.000,9, -999.000,9, -999.000,9, 2219.600,2, 2308.400,2
           NA,     A14,     13,   1,-999.0,      25,  2,19950120,0411,   0.6668,   -6.9985,  5183,  995.300,    4.494,   34.653,2,   34.652,2,  156.700,2, -999.000,3,   29.850,2,   32.270,2, -999.000,9,    2.190,2,    0.015,2,    0.019,2, -999.000,9, 2213.600,2, 2313.800,2
           NA,     A14,     13,   1,-999.0,      24,  2,19950120,0411,   0.6668,   -6.9985,  5183, 1195.000,    4.461,   34.843,2, -999.000,3,  182.100,2, -999.000,3,   24.630,2,   27.340,2, -999.000,9,    1.840,2,    0.020,2,    0.027,2, -999.000,9, 2197.500,2, 2317.300,2
           NA,     A14,     13,   1,-999.0,      23,  2,19950120,0411,   0.6668,   -6.9985,  5183, 1544.800,    4.154,   34.968,2,   34.963,2,  231.300,2,  231.900,2,   17.950,2,   21.370,2, -999.000,9,    1.400,2,    0.044,2,    0.037,2, -999.000,9, 2171.400,2, 2319.800,2
           NA,     A14,     13,   1,-999.0,      22,  2,19950120,0411,   0.6668,   -6.9985,  5183, 1695.700,    3.937,   34.973,2,   34.974,2,  236.500,2, -999.000,3,   18.250,6,   20.750,6, -999.000,9,    1.350,6,    0.028,2,    0.032,2, -999.000,9, 2167.400,2, 2320.100,2
           NA,     A14,     13,   1,-999.0,      21,  2,19950120,0411,   0.6668,   -6.9985,  5183, 1846.300,    3.728,   34.974,2,   34.976,2,  245.900,2,  246.500,2,   19.090,2,   20.230,2, -999.000,9,    1.320,2,    0.029,2,    0.025,2, -999.000,9, 2166.700,2, 2322.300,2
           NA,     A14,     13,   1,-999.0,      20,  2,19950120,0411,   0.6668,   -6.9985,  5183, 1996.200,    3.543,   34.967,2,   34.969,2,  250.300,2,  249.100,2,   20.640,2,   20.110,2, -999.000,9,    1.320,2,    0.023,2, -999.000,9, -999.000,9, 2166.400,2, 2324.900,2
           NA,     A14,     13,   1,-999.0,      19,  2,19950120,0411,   0.6668,   -6.9985,  5183, 2296.000,    3.131,   34.944,2,   34.944,2,  244.600,2,  245.200,2,   27.660,2,   20.990,2, -999.000,9,    1.390,2,    0.004,2, -999.000,9, -999.000,9, 2175.500,2, 2330.500,2
           NA,     A14,     13,   1,-999.0,      18,  2,19950120,0411,   0.6668,   -6.9985,  5183, 2586.600,    2.900,   34.930,2, -999.000,9,  243.700,2,  251.200,2,   32.310,2,   21.300,2, -999.000,9,    1.390,2,    0.005,2, -999.000,9, -999.000,9, 2179.200,2, 2334.600,2
           NA,     A14,     13,   1,-999.0,      17,  2,19950120,0411,   0.6668,   -6.9985,  5183, 2596.000,    2.895,   34.928,2,   34.928,2,  243.800,2,  244.400,2,   32.470,2,   21.840,2, -999.000,9,    1.420,2,    0.004,2, -999.000,9, -999.000,9, 2180.400,2, 2335.500,2
           NA,     A14,     13,   1,-999.0,      16,  2,19950120,0411,   0.6668,   -6.9985,  5183, 2796.600,    2.800,   34.921,2,   34.921,2,  242.900,2,  243.900,2,   34.760,2,   21.750,2, -999.000,9,    1.440,2,    0.002,2, -999.000,9, -999.000,9, 2184.300,2, 2337.600,2
           NA,     A14,     13,   1,-999.0,      15,  2,19950120,0411,   0.6668,   -6.9985,  5183, 2995.900,    2.664,   34.914,2,   34.907,2,  239.600,2,  240.900,2,   38.520,2,   22.060,2, -999.000,9,    1.480,2,    0.002,2, -999.000,9, -999.000,9, 2189.300,2, 2341.900,2
           NA,     A14,     13,   1,-999.0,      14,  2,19950120,0411,   0.6668,   -6.9985,  5183, 3196.900,    2.534,   34.905,2,   34.905,2,  242.000,2,  243.300,2,   39.910,2,   22.020,2, -999.000,9,    1.480,2,    0.003,2,    0.007,2, -999.000,9, 2190.200,2, 2342.500,2
           NA,     A14,     13,   1,-999.0,      13,  2,19950120,0411,   0.6668,   -6.9985,  5183, 3396.400,    2.475,   34.903,2,   34.901,2,  242.100,2,  243.200,2,   41.470,2,   22.070,2, -999.000,9,    1.480,2,    0.004,2,    0.002,2, -999.000,9, 2192.500,2, 2345.800,2
           NA,     A14,     13,   1,-999.0,      12,  2,19950120,0411,   0.6668,   -6.9985,  5183, 3595.900,    2.436,   34.898,2,   34.897,2,  241.500,2,  243.000,2,   43.050,2,   22.250,2, -999.000,9,    1.500,2,    0.003,2, -999.000,9, -999.000,9, 2194.700,2, 2346.100,2
           NA,     A14,     13,   1,-999.0,      11,  2,19950120,0411,   0.6668,   -6.9985,  5183, 3798.500,    2.384,   34.892,2,   34.893,2,  243.200,2,  244.100,2,   44.100,2,   22.250,2, -999.000,9,    1.500,2,    0.004,2, -999.000,9, -999.000,9, 2194.700,2, 2348.800,2
           NA,     A14,     13,   1,-999.0,      10,  2,19950120,0411,   0.6668,   -6.9985,  5183, 3998.000,    2.317,   34.887,2,   34.888,2,  243.900,2,  244.400,2,   45.680,2,   22.390,2, -999.000,9,    1.500,2,    0.006,2,    0.008,2, -999.000,9, 2196.200,2, 2348.400,2
           NA,     A14,     13,   1,-999.0,       9,  2,19950120,0411,   0.6668,   -6.9985,  5183, 4196.000,    2.284,   34.883,2,   34.879,2,  243.400,2,  243.200,2,   48.140,2,   22.610,2, -999.000,9,    1.540,2,    0.006,2,    0.004,2, -999.000,9, 2199.100,2, 2350.600,2
           NA,     A14,     13,   1,-999.0,       8,  2,19950120,0411,   0.6668,   -6.9985,  5183, 4399.000,    2.247,   34.878,2,   34.878,2,  241.900,2,  242.400,2,   50.070,2,   22.790,2, -999.000,9,    1.540,2,    0.009,2,    0.008,2, -999.000,9, 2203.100,2, 2352.700,2
           NA,     A14,     13,   1,-999.0,       7,  2,19950120,0411,   0.6668,   -6.9985,  5183, 4597.700,    2.205,   34.870,2,   34.870,2,  243.600,2,  244.200,2,   51.120,2,   22.880,2, -999.000,9,    1.550,2,    0.012,2,    0.015,2, -999.000,9, 2201.500,2, 2351.400,2
           NA,     A14,     13,   1,-999.0,       6,  2,19950120,0411,   0.6668,   -6.9985,  5183, 4797.000,    2.179,   34.866,2, -999.000,9,  244.100,2,  250.900,2,   52.530,2,   22.980,2, -999.000,9,    1.550,2,    0.012,2,    0.011,2, -999.000,9, 2202.800,2, 2353.100,2
           NA,     A14,     13,   1,-999.0,       5,  2,19950120,0411,   0.6668,   -6.9985,  5183, 4997.300,    2.149,   34.861,2, -999.000,9,  245.000,2,  251.400,2,   53.410,2,   23.110,2, -999.000,9,    1.580,2,    0.017,2,    0.011,2, -999.000,9, 2204.100,2, 2352.200,2
           NA,     A14,     13,   1,-999.0,       4,  2,19950120,0411,   0.6668,   -6.9985,  5183, 5197.800,    2.108,   34.852,2,   34.854,2,  245.000,2,  244.000,2,   55.960,2,   23.380,2, -999.000,9,    1.590,2,    0.017,2, -999.000,9, -999.000,9, 2206.600,2, 2354.200,2
           NA,     A14,     13,   1,-999.0,       3,  2,19950120,0411,   0.6668,   -6.9985,  5183, 5240.100,    2.108,   34.852,2,   34.853,2,  244.800,2,  245.100,2,   56.400,2,   23.470,2, -999.000,9,    1.580,2,    0.016,2, -999.000,9, -999.000,9, 2209.500,6, 2354.400,2