BOTTLE,20213527JOAExport
EXPOCODE,SECT_ID,STNNBR,CASTNO,SAMPNO,BTLNBR,BTLNBR_FLAG_W,DATE,TIME,LATITUDE,LONGITUDE,DEPTH,CTDPRS,CTDTMP,CTDSAL,CTDSAL_FLAG_W,SALNTY,SALNTY_FLAG_W,CTDOXY,CTDOXY_FLAG_W,OXYGEN,OXYGEN_FLAG_W,SILCAT,SILCAT_FLAG_W,NITRAT,NITRAT_FLAG_W,NITRIT,NITRIT_FLAG_W,PHSPHT,PHSPHT_FLAG_W,CFC-11,CFC-11_FLAG_W,CFC-12,CFC-12_FLAG_W,SF6,SF6_FLAG_W,TCARBN,TCARBN_FLAG_W,ALKALI,ALKALI_FLAG_W
,,,,,,,,,,,,DB,DEG C,PSS-78,,PSS-78,,UMOL/KG,,UMOL/KG,,UMOL/KG,,UMOL/KG,,UMOL/KG,,UMOL/KG,,PMOL/KG,,PMOL/KG,,FMOL/KG,,UMOL/KG,,UMOL/KG
           NA,     A14,     18,   1,-999.0,      32,  2,19950121,0809,  -1.0005,   -7.0013,  4495,    3.100,   27.413,   35.521,2, -999.000,3,  199.000,2,  201.800,2,    0.650,2,    0.000,2, -999.000,9,    0.030,2,    1.691,2,    0.988,2, -999.000,9, 1983.700,2, 2337.200,2
           NA,     A14,     18,   1,-999.0,      31,  2,19950121,0809,  -1.0005,   -7.0013,  4495,   47.200,   26.095,   35.842,2, -999.000,3,  200.400,2,  199.600,2,    0.900,2,    0.460,2, -999.000,9,    0.120,2,    1.732,2,    0.944,2, -999.000,9, -999.000,9, -999.000,9
           NA,     A14,     18,   1,-999.0,      30,  2,19950121,0809,  -1.0005,   -7.0013,  4495,   97.300,   15.236,   35.580,2, -999.000,3,  120.600,2, -999.000,3,    5.760,2,   17.370,2, -999.000,9,    1.130,2,    1.556,2,    0.795,2, -999.000,9, -999.000,9, -999.000,9
           NA,     A14,     18,   1,-999.0,      29,  2,19950121,0809,  -1.0005,   -7.0013,  4495,  148.100,   14.245,   35.441,2,   35.438,2,  133.400,2,  132.800,2,    7.070,2,   18.320,2, -999.000,9,    1.190,2,    1.429,2,    0.740,2, -999.000,9, -999.000,9, -999.000,9
           NA,     A14,     18,   1,-999.0,      28,  2,19950121,0809,  -1.0005,   -7.0013,  4495,  207.400,   13.509,   35.347,2,   35.343,2,   98.200,2, -999.000,3,    8.800,2,   23.320,2, -999.000,9,    1.480,2,    1.063,2,    0.557,2, -999.000,9, -999.000,9, -999.000,9
           NA,     A14,     18,   1,-999.0,      27,  2,19950121,0809,  -1.0005,   -7.0013,  4495,  326.200,   10.338,   34.977,2,   34.979,2,   66.700,2,   67.100,2,   13.730,2,   31.710,2, -999.000,9,    1.940,2,    0.433,2,    0.261,2, -999.000,9, -999.000,9, -999.000,9
           NA,     A14,     18,   1,-999.0,      26,  2,19950121,0809,  -1.0005,   -7.0013,  4495,  395.700,    9.066,   34.836,2,   34.835,2,   79.800,2,   80.700,2,   15.950,2,   33.020,2, -999.000,9,    2.040,2,    0.314,2,    0.193,2, -999.000,9, -999.000,9, -999.000,9
           NA,     A14,     18,   1,-999.0,      25,  2,19950121,0809,  -1.0005,   -7.0013,  4495,  694.800,    5.029,   34.491,2,   34.493,2,  150.100,2,  149.700,2,   28.610,2,   34.120,2, -999.000,9,    2.250,2,    0.118,2,    0.096,2, -999.000,9, -999.000,9, -999.000,9
           NA,     A14,     18,   1,-999.0,      24,  2,19950121,0809,  -1.0005,   -7.0013,  4495,  794.700,    4.781,   34.512,2, -999.000,3,  145.800,2,  146.500,2,   30.910,2,   34.440,2, -999.000,9,    2.290,2,    0.028,2, -999.000,9, -999.000,9, -999.000,9, -999.000,9
           NA,     A14,     18,   1,-999.0,      23,  2,19950121,0809,  -1.0005,   -7.0013,  4495,  995.900,    4.481,   34.601,2,   34.604,2,  156.700,2,  156.900,2,   31.390,2,   32.740,2, -999.000,9,    2.200,2,    0.016,2, -999.000,9, -999.000,9, -999.000,9, -999.000,9
           NA,     A14,     18,   1,-999.0,      22,  2,19950121,0809,  -1.0005,   -7.0013,  4495, 1195.400,    4.423,   34.852,2, -999.000,3,  182.600,2, -999.000,3,   24.650,2,   26.920,2, -999.000,9,    1.780,2,    0.015,2, -999.000,9, -999.000,9, -999.000,9, -999.000,9
           NA,     A14,     18,   1,-999.0,      21,  2,19950121,0809,  -1.0005,   -7.0013,  4495, 1395.600,    4.411,   34.917,2,   34.915,2,  208.000,2,  207.800,2,   21.190,2,   24.050,2, -999.000,9,    1.580,2,    0.030,2,    0.022,2, -999.000,9, -999.000,9, -999.000,9
           NA,     A14,     18,   1,-999.0,      20,  2,19950121,0809,  -1.0005,   -7.0013,  4495, 1596.300,    4.092,   34.967,2,   34.965,2,  232.600,2,  232.500,2,   18.890,2,   21.550,2, -999.000,9,    1.390,2,    0.025,2,    0.015,2, -999.000,9, -999.000,9, -999.000,9
           NA,     A14,     18,   1,-999.0,      19,  2,19950121,0809,  -1.0005,   -7.0013,  4495, 1797.000,    3.771,   34.976,2,   34.976,2,  246.600,2,  246.700,2,   18.800,2,   20.260,2, -999.000,9,    1.290,2,    0.033,2,    0.019,2, -999.000,9, -999.000,9, -999.000,9
           NA,     A14,     18,   1,-999.0,      18,  2,19950121,0809,  -1.0005,   -7.0013,  4495, 1995.900,    3.604,   34.972,2,   34.972,2,  251.200,2,  251.100,2,   19.860,2,   20.010,2, -999.000,9,    1.270,2,    0.032,2,    0.025,2, -999.000,9, -999.000,9, -999.000,9
           NA,     A14,     18,   1,-999.0,      17,  2,19950121,0809,  -1.0005,   -7.0013,  4495, 1996.400,    3.604,   34.972,2,   34.972,2,  251.200,2,  250.600,2,   19.940,2,   20.010,2, -999.000,9,    1.270,2,    0.043,2,    0.029,2, -999.000,9, -999.000,9, -999.000,9
           NA,     A14,     18,   1,-999.0,      16,  2,19950121,0809,  -1.0005,   -7.0013,  4495, 2196.000,    3.324,   34.954,2,   34.955,2,  248.800,2,  248.400,2,   24.450,2,   20.550,2, -999.000,9,    1.320,2,    0.018,2,    0.011,2, -999.000,9, -999.000,9, -999.000,9
           NA,     A14,     18,   1,-999.0,      15,  2,19950121,0809,  -1.0005,   -7.0013,  4495, 2396.500,    3.025,   34.937,2,   34.935,2,  244.600,2,  245.200,2,   30.520,2,   21.250,2, -999.000,9,    1.370,2,    0.008,2, -999.000,9, -999.000,9, -999.000,9, -999.000,9
           NA,     A14,     18,   1,-999.0,      14,  2,19950121,0809,  -1.0005,   -7.0013,  4495, 2595.100,    2.883,   34.926,2,   34.924,2,  242.100,2,  243.800,2,   34.280,2,   21.710,2, -999.000,9,    1.410,2,    0.003,2, -999.000,9, -999.000,9, -999.000,9, -999.000,9
           NA,     A14,     18,   1,-999.0,      13,  2,19950121,0809,  -1.0005,   -7.0013,  4495, 2796.600,    2.755,   34.918,2,   34.917,2,  242.300,2,  242.900,2,   36.740,2,   21.830,2, -999.000,9,    1.420,2,    0.006,2, -999.000,9, -999.000,9, -999.000,9, -999.000,9
           NA,     A14,     18,   1,-999.0,      12,  2,19950121,0809,  -1.0005,   -7.0013,  4495, 2996.600,    2.629,   34.912,2,   34.910,2,  240.700,2,  241.400,2,   39.520,2,   22.120,2, -999.000,9,    1.440,2,    0.005,2, -999.000,9, -999.000,9, -999.000,9, -999.000,9
           NA,     A14,     18,   1,-999.0,      11,  2,19950121,0809,  -1.0005,   -7.0013,  4495, 3197.500,    2.510,   34.904,2,   34.901,2,  241.300,2,  242.500,2,   41.750,6,   22.220,6, -999.000,9,    1.460,6, -999.000,9, -999.000,9, -999.000,9, -999.000,9, -999.000,9
           NA,     A14,     18,   1,-999.0,      10,  2,19950121,0809,  -1.0005,   -7.0013,  4495, 3397.900,    2.502,   34.902,2,   34.902,2,  242.100,2,  243.000,2,   41.910,2,   22.120,2, -999.000,9,    1.460,2,    0.002,2,    0.000,2, -999.000,9, -999.000,9, -999.000,9
           NA,     A14,     18,   1,-999.0,       9,  2,19950121,0809,  -1.0005,   -7.0013,  4495, 3596.900,    2.467,   34.900,2,   34.897,2,  242.600,2,  242.700,2,   42.870,2,   22.240,2, -999.000,9,    1.460,2,    0.005,2,    0.000,2, -999.000,9, -999.000,9, -999.000,9
           NA,     A14,     18,   1,-999.0,       8,  2,19950121,0809,  -1.0005,   -7.0013,  4495, 3798.000,    2.398,   34.892,2,   34.891,2,  242.300,2,  242.700,2,   45.580,2,   22.450,2, -999.000,9,    1.490,2,    0.008,2,    0.000,2, -999.000,9, -999.000,9, -999.000,9
           NA,     A14,     18,   1,-999.0,       7,  2,19950121,0809,  -1.0005,   -7.0013,  4495, 3996.900,    2.323,   34.887,2,   34.889,2,  244.300,2,  244.800,2,   46.360,2,   22.280,2, -999.000,9,    1.470,2,    0.011,2,    0.001,2, -999.000,9, -999.000,9, -999.000,9
           NA,     A14,     18,   1,-999.0,       6,  2,19950121,0809,  -1.0005,   -7.0013,  4495, 4197.400,    2.256,   34.881,2,   34.878,2,  244.500,2,  244.800,2,   48.990,2,   22.610,2, -999.000,9,    1.490,2,    0.005,2,    0.005,2, -999.000,9, -999.000,9, -999.000,9
           NA,     A14,     18,   1,-999.0,       5,  2,19950121,0809,  -1.0005,   -7.0013,  4495, 4397.900,    2.226,   34.875,2,   34.873,2,  244.300,2,  244.000,2,   51.080,2,   22.780,2, -999.000,9,    1.510,2,    0.009,2,    0.006,2, -999.000,9, -999.000,9, -999.000,9
           NA,     A14,     18,   1,-999.0,       4,  2,19950121,0809,  -1.0005,   -7.0013,  4495, 4448.900,    2.227,   34.875,2,   34.871,2,  244.300,2,  243.900,2,   50.980,2,   22.770,2, -999.000,9,    1.510,2,    0.008,2,    0.011,2, -999.000,9, -999.000,9, -999.000,9
           NA,     A14,     18,   1,-999.0,       3,  2,19950121,0809,  -1.0005,   -7.0013,  4495, 4539.900,    2.215,   34.873,2,   34.872,2,  244.100,2,  244.200,2,   51.940,2,   22.860,2, -999.000,9,    1.520,2,    0.010,2,    0.006,2, -999.000,9, -999.000,9, -999.000,9
           NA,     A14,     17,   1,-999.0,      32,  2,19950121,0236,  -0.6687,   -7.0005,  4768,    2.600,   27.420,   35.464,2, -999.000,3,  202.800,2,  201.200,2,    0.640,2,    0.000,2, -999.000,9,    0.010,2, -999.000,9, -999.000,9, -999.000,9, 1978.500,6, 2334.500,2
           NA,     A14,     17,   1,-999.0,      31,  2,19950121,0236,  -0.6687,   -7.0005,  4768,   46.900,   25.932,   35.874,2, -999.000,3,  181.600,2, -999.000,3,    0.890,2,    0.040,2, -999.000,9,    0.090,2, -999.000,9, -999.000,9, -999.000,9, 2026.800,2, -999.000,9
           NA,     A14,     17,   1,-999.0,      30,  2,19950121,0236,  -0.6687,   -7.0005,  4768,   96.900,   16.708,   35.807,2, -999.000,4,  145.900,2,  142.300,2,    8.140,2,   22.220,2, -999.000,9,    1.410,2, -999.000,9, -999.000,9, -999.000,9, 2143.300,2, -999.000,9
           NA,     A14,     17,   1,-999.0,      29,  2,19950121,0236,  -0.6687,   -7.0005,  4768,  195.500,   13.756,   35.378,2, -999.000,3,  115.800,2, -999.000,3,    8.140,2,   22.260,2, -999.000,9,    1.410,2, -999.000,9, -999.000,9, -999.000,9, 2182.400,2, -999.000,9
           NA,     A14,     17,   1,-999.0,      28,  2,19950121,0236,  -0.6687,   -7.0005,  4768,  395.400,    8.732,   34.804,2,   34.806,2,   84.100,2, -999.000,3,   16.290,2,   32.710,2, -999.000,9,    2.040,2, -999.000,9, -999.000,9, -999.000,9, 2220.400,2, -999.000,9
           NA,     A14,     17,   1,-999.0,      27,  2,19950121,0236,  -0.6687,   -7.0005,  4768,  595.700,    6.114,   34.540,2, -999.000,3,  144.000,2,  143.800,2,   22.450,2,   32.650,2, -999.000,9,    2.110,2, -999.000,9, -999.000,9, -999.000,9, 2206.700,2, -999.000,9
           NA,     A14,     17,   1,-999.0,      26,  2,19950121,0236,  -0.6687,   -7.0005,  4768,  794.800,    4.810,   34.514,2,   34.519,2,  145.900,2,  145.100,2,   30.510,2,   34.690,2, -999.000,9,    2.290,2, -999.000,9, -999.000,9, -999.000,9, 2221.500,2, -999.000,9
           NA,     A14,     17,   1,-999.0,      25,  2,19950121,0236,  -0.6687,   -7.0005,  4768,  994.700,    4.484,   34.609,2,   34.612,2,  158.100,2,  157.200,2,   30.990,2,   32.980,2, -999.000,9,    2.180,2, -999.000,9, -999.000,9, -999.000,9, 2219.500,2, -999.000,9
           NA,     A14,     17,   1,-999.0,      24,  2,19950121,0236,  -0.6687,   -7.0005,  4768, 1195.300,    4.433,   34.834,2,   34.834,2,  178.100,2, -999.000,3,   24.910,2,   27.470,2, -999.000,9,    1.800,2, -999.000,9, -999.000,9, -999.000,9, -999.000,9, -999.000,9
           NA,     A14,     17,   1,-999.0,      23,  2,19950121,0236,  -0.6687,   -7.0005,  4768, 1196.000,    4.433,   34.836,2,   34.836,2,  178.500,2, -999.000,3,   24.650,2,   27.470,2, -999.000,9,    1.800,2, -999.000,9, -999.000,9, -999.000,9, -999.000,9, -999.000,9
           NA,     A14,     17,   1,-999.0,      22,  2,19950121,0236,  -0.6687,   -7.0005,  4768, 1394.600,    4.400,   34.916,2,   34.918,2,  210.100,2,  207.500,2,   20.910,2,   24.210,2, -999.000,9,    1.580,2, -999.000,9, -999.000,9, -999.000,9, -999.000,9, -999.000,9
           NA,     A14,     17,   1,-999.0,      21,  2,19950121,0236,  -0.6687,   -7.0005,  4768, 1540.600,    4.196,   34.967,2,   34.969,2,  233.000,2,  230.600,2,   18.080,2,   21.740,2, -999.000,9,    1.390,2, -999.000,9, -999.000,9, -999.000,9, -999.000,9, -999.000,9
           NA,     A14,     17,   1,-999.0,      20,  2,19950121,0236,  -0.6687,   -7.0005,  4768, 1696.300,    3.982,   34.971,2,   34.970,2,  237.700,2,  237.400,2,   18.730,2,   21.280,2, -999.000,9,    1.350,2, -999.000,9, -999.000,9, -999.000,9, -999.000,9, -999.000,9
           NA,     A14,     17,   1,-999.0,      19,  2,19950121,0236,  -0.6687,   -7.0005,  4768, 1845.900,    3.753,   34.973,2,   34.973,2,  246.200,2,  245.000,2,   19.390,2,   20.610,2, -999.000,9,    1.320,2, -999.000,9, -999.000,9, -999.000,9, -999.000,9, -999.000,9
           NA,     A14,     17,   1,-999.0,      18,  2,19950121,0236,  -0.6687,   -7.0005,  4768, 1996.100,    3.624,   34.972,2,   34.972,2,  250.400,2,  249.100,2,   19.880,2,   20.280,2, -999.000,9,    1.280,2, -999.000,9, -999.000,9, -999.000,9, -999.000,9, -999.000,9
           NA,     A14,     17,   1,-999.0,      17,  2,19950121,0236,  -0.6687,   -7.0005,  4768, 2294.700,    3.161,   34.946,2,   34.942,2,  247.000,2,  245.900,2,   27.410,2,   21.070,2, -999.000,9,    1.340,2, -999.000,9, -999.000,9, -999.000,9, -999.000,9, -999.000,9
           NA,     A14,     17,   1,-999.0,      15,  2,19950121,0236,  -0.6687,   -7.0005,  4768, 2595.600,    2.903,   34.929,2,   34.926,2,  244.200,2,  244.600,2,   32.940,2,   21.600,2, -999.000,9,    1.380,2, -999.000,9, -999.000,9, -999.000,9, -999.000,9, -999.000,9
           NA,     A14,     17,   1,-999.0,      16,  2,19950121,0236,  -0.6687,   -7.0005,  4768, 2596.200,    2.905,   34.929,2,   34.929,2,  244.200,2,  244.600,2,   32.870,2,   21.650,2, -999.000,9,    1.390,2, -999.000,9, -999.000,9, -999.000,9, -999.000,9, -999.000,9
           NA,     A14,     17,   1,-999.0,      14,  2,19950121,0236,  -0.6687,   -7.0005,  4768, 2796.000,    2.767,   34.920,2, -999.000,9,  242.000,2,  249.800,2,   35.900,2,   22.020,2, -999.000,9,    1.420,2, -999.000,9, -999.000,9, -999.000,9, -999.000,9, -999.000,9
           NA,     A14,     17,   1,-999.0,      13,  2,19950121,0236,  -0.6687,   -7.0005,  4768, 2995.800,    2.613,   34.911,2,   34.908,2,  241.400,2,  244.200,2,   39.450,2,   22.310,2, -999.000,9,    1.450,2, -999.000,9, -999.000,9, -999.000,9, -999.000,9, -999.000,9
           NA,     A14,     17,   1,-999.0,      12,  2,19950121,0236,  -0.6687,   -7.0005,  4768, 3196.200,    2.549,   34.905,2,   34.904,2,  241.500,2,  241.500,2,   41.250,2,   22.390,2, -999.000,9,    1.450,2, -999.000,9, -999.000,9, -999.000,9, -999.000,9, -999.000,9
           NA,     A14,     17,   1,-999.0,      11,  2,19950121,0236,  -0.6687,   -7.0005,  4768, 3396.800,    2.489,   34.903,2,   34.904,2,  243.200,2,  243.800,2,   41.930,2,   22.350,2, -999.000,9,    1.450,2, -999.000,9, -999.000,9, -999.000,9, -999.000,9, -999.000,9
           NA,     A14,     17,   1,-999.0,      10,  2,19950121,0236,  -0.6687,   -7.0005,  4768, 3596.700,    2.470,   34.899,2,   34.899,2,  242.900,2,  243.100,2,   42.710,2,   22.430,2, -999.000,9,    1.460,2, -999.000,9, -999.000,9, -999.000,9, -999.000,9, -999.000,9
           NA,     A14,     17,   1,-999.0,       9,  2,19950121,0236,  -0.6687,   -7.0005,  4768, 3796.500,    2.385,   34.893,2,   34.892,2,  244.500,2,  244.400,2,   44.460,2,   22.340,2, -999.000,9,    1.460,2, -999.000,9, -999.000,9, -999.000,9, -999.000,9, -999.000,9
           NA,     A14,     17,   1,-999.0,       8,  2,19950121,0236,  -0.6687,   -7.0005,  4768, 3999.100,    2.323,   34.887,2,   34.885,2,  245.600,2,  244.900,2,   46.220,2,   22.500,2, -999.000,9,    1.460,2, -999.000,9, -999.000,9, -999.000,9, -999.000,9, -999.000,9
           NA,     A14,     17,   1,-999.0,       7,  2,19950121,0236,  -0.6687,   -7.0005,  4768, 4198.100,    2.272,   34.881,2,   34.882,2,  244.800,2,  244.700,2,   48.410,2,   22.840,2, -999.000,9,    1.480,2, -999.000,9, -999.000,9, -999.000,9, -999.000,9, -999.000,9
           NA,     A14,     17,   1,-999.0,       6,  2,19950121,0236,  -0.6687,   -7.0005,  4768, 4397.700,    2.263,   34.878,2,   34.877,2,  244.800,2,  243.800,2,   49.890,2,   22.880,2, -999.000,9,    1.500,2, -999.000,9, -999.000,9, -999.000,9, -999.000,9, -999.000,9
           NA,     A14,     17,   1,-999.0,       5,  2,19950121,0236,  -0.6687,   -7.0005,  4768, 4598.300,    2.210,   34.872,2,   34.871,2,  244.900,2,  243.500,2,   52.170,2,   23.080,2, -999.000,9,    1.500,2, -999.000,9, -999.000,9, -999.000,9, -999.000,9, -999.000,9
           NA,     A14,     17,   1,-999.0,       4,  2,19950121,0236,  -0.6687,   -7.0005,  4768, 4748.500,    2.189,   34.867,2,   34.867,2,  245.100,2,  243.600,2,   52.940,2,   23.330,2, -999.000,9,    1.510,2, -999.000,9, -999.000,9, -999.000,9, -999.000,9, -999.000,9
           NA,     A14,     17,   1,-999.0,       3,  2,19950121,0236,  -0.6687,   -7.0005,  4768, 4818.900,    2.186,   34.867,2,   34.869,2,  245.200,2,  246.600,2,   53.720,2,   23.160,2, -999.000,9,    1.510,2, -999.000,9, -999.000,9, -999.000,9, -999.000,9, -999.000,9