BOTTLE,20213527JOAExport
EXPOCODE,SECT_ID,STNNBR,CASTNO,SAMPNO,BTLNBR,BTLNBR_FLAG_W,DATE,TIME,LATITUDE,LONGITUDE,DEPTH,CTDPRS,CTDTMP,CTDSAL,CTDSAL_FLAG_W,SALNTY,SALNTY_FLAG_W,CTDOXY,CTDOXY_FLAG_W,OXYGEN,OXYGEN_FLAG_W,SILCAT,SILCAT_FLAG_W,NITRAT,NITRAT_FLAG_W,NITRIT,NITRIT_FLAG_W,PHSPHT,PHSPHT_FLAG_W,CFC-11,CFC-11_FLAG_W,CFC-12,CFC-12_FLAG_W,SF6,SF6_FLAG_W,TCARBN,TCARBN_FLAG_W,ALKALI,ALKALI_FLAG_W
,,,,,,,,,,,,DB,DEG C,PSS-78,,PSS-78,,UMOL/KG,,UMOL/KG,,UMOL/KG,,UMOL/KG,,UMOL/KG,,UMOL/KG,,PMOL/KG,,PMOL/KG,,FMOL/KG,,UMOL/KG,,UMOL/KG
           NA,     A14,     47,   1,-999.0,      32,  2,19950128,0017, -15.5005,   -8.9960,  3898,    3.900,   23.975,   36.729,2,   36.725,2,  204.900,2, -999.000,3,    0.760,2,    0.020,2, -999.000,9,    0.190,2,    1.957,2,    1.032,2, -999.000,9, -999.000,9, 2413.800,2
           NA,     A14,     47,   1,-999.0,      31,  2,19950128,0017, -15.5005,   -8.9960,  3898,   36.500,   23.528,   36.680,2,   36.680,2,  216.200,2,  215.200,2,    0.840,2,    0.020,2, -999.000,9,    0.180,2,    1.999,2,    1.036,2, -999.000,9, -999.000,9, -999.000,9
           NA,     A14,     47,   1,-999.0,      30,  2,19950128,0017, -15.5005,   -8.9960,  3898,   95.000,   20.927,   36.433,2, -999.000,3,  227.400,2,  225.200,2,    1.060,6,    0.020,6, -999.000,9,    0.210,6,    2.195,2,    1.113,2, -999.000,9, -999.000,9, -999.000,9
           NA,     A14,     47,   1,-999.0,      28,  2,19950128,0017, -15.5005,   -8.9960,  3898,  146.500,   17.802,   35.930,2, -999.000,3,  205.100,2, -999.000,3,    1.950,2,    5.010,2, -999.000,9,    0.480,2,    2.344,2,    1.154,2, -999.000,9, -999.000,9, -999.000,9
           NA,     A14,     47,   1,-999.0,      29,  2,19950128,0017, -15.5005,   -8.9960,  3898,  146.500,   17.824,   35.926,2, -999.000,3,  205.100,2, -999.000,3,    1.870,2,    4.920,2, -999.000,9,    0.480,2,    2.348,2,    1.164,2, -999.000,9, -999.000,9, -999.000,9
           NA,     A14,     47,   1,-999.0,      27,  2,19950128,0017, -15.5005,   -8.9960,  3898,  196.100,   13.668,   35.246,2,   35.246,2,  174.700,2, -999.000,3,    4.340,2,   14.490,2, -999.000,9,    0.970,2,    2.207,2,    1.047,2, -999.000,9, -999.000,9, -999.000,9
           NA,     A14,     47,   1,-999.0,      26,  2,19950128,0017, -15.5005,   -8.9960,  3898,  294.900,   10.256,   34.888,2, -999.000,3,  107.800,2, -999.000,3,   11.310,2,   25.940,2, -999.000,9,    1.680,2,    1.016,2,    0.484,2, -999.000,9, -999.000,9, -999.000,9
           NA,     A14,     47,   1,-999.0,      25,  2,19950128,0017, -15.5005,   -8.9960,  3898,  395.800,    8.060,   34.690,2,   34.692,2,  117.700,2,  114.300,2,   17.190,2,   31.920,2, -999.000,9,    2.030,2,    0.360,2,    0.183,2, -999.000,9, -999.000,9, -999.000,9
           NA,     A14,     47,   1,-999.0,      24,  2,19950128,0017, -15.5005,   -8.9960,  3898,  494.900,    6.597,   34.571,2,   34.575,2,  116.700,2, -999.000,3,   22.170,6,   33.960,6, -999.000,9,    2.180,6,    0.115,2,    0.062,2, -999.000,9, -999.000,9, -999.000,9
           NA,     A14,     47,   1,-999.0,      23,  2,19950128,0017, -15.5005,   -8.9960,  3898,  595.500,    5.445,   34.485,2, -999.000,3,  138.700,2,  140.800,2,   26.220,2,   34.750,2, -999.000,9,    2.250,2,    0.063,2,    0.035,2, -999.000,9, -999.000,9, -999.000,9
           NA,     A14,     47,   1,-999.0,      22,  2,19950128,0017, -15.5005,   -8.9960,  3898,  694.800,    4.781,   34.460,2,   34.465,2,  149.500,2,  151.900,2,   30.320,2,   35.030,2, -999.000,9,    2.290,2,    0.038,2,    0.027,2, -999.000,9, -999.000,9, -999.000,9
           NA,     A14,     47,   1,-999.0,      21,  2,19950128,0017, -15.5005,   -8.9960,  3898,  797.900,    4.370,   34.471,2,   34.473,2,  156.200,2,  155.000,2,   33.680,2,   35.140,2, -999.000,9,    2.310,2,    0.022,2,    0.013,2, -999.000,9, -999.000,9, -999.000,9
           NA,     A14,     47,   1,-999.0,      20,  2,19950128,0017, -15.5005,   -8.9960,  3898,  995.600,    3.904,   34.571,2,   34.572,2,  164.700,2,  164.700,2,   36.960,2,   33.620,2, -999.000,9,    2.240,2,    0.004,2,    0.008,2, -999.000,9, -999.000,9, -999.000,9
           NA,     A14,     47,   1,-999.0,      19,  2,19950128,0017, -15.5005,   -8.9960,  3898, 1194.400,    3.777,   34.724,2,   34.724,2,  181.500,2,  184.400,2,   33.930,2,   29.840,2, -999.000,9,    1.970,2,    0.002,2,    0.001,2, -999.000,9, -999.000,9, -999.000,9
           NA,     A14,     47,   1,-999.0,      18,  2,19950128,0017, -15.5005,   -8.9960,  3898, 1391.700,    3.784,   34.828,2,   34.829,2,  202.200,2,  202.500,2,   29.360,2,   26.580,2, -999.000,9,    1.750,2,    0.002,2,   -0.001,2, -999.000,9, -999.000,9, -999.000,9
           NA,     A14,     47,   1,-999.0,      17,  2,19950128,0017, -15.5005,   -8.9960,  3898, 1595.900,    3.657,   34.892,2,   34.896,2,  218.100,2,  219.200,2,   27.290,2,   24.020,2, -999.000,9,    1.580,2,    0.003,2,    0.001,2, -999.000,9, -999.000,9, -999.000,9
           NA,     A14,     47,   1,-999.0,      16,  2,19950128,0017, -15.5005,   -8.9960,  3898, 1798.100,    3.466,   34.912,2,   34.914,2,  229.200,2,  229.600,2,   28.150,2,   23.090,2, -999.000,9,    1.520,2, -999.000,9, -999.000,9, -999.000,9, -999.000,9, -999.000,9
           NA,     A14,     47,   1,-999.0,      15,  2,19950128,0017, -15.5005,   -8.9960,  3898, 1995.200,    3.208,   34.911,2, -999.000,3,  236.200,2,  235.600,2,   31.570,2,   22.730,2, -999.000,9,    1.480,2,    0.003,2,    0.007,2, -999.000,9, -999.000,9, -999.000,9
           NA,     A14,     47,   1,-999.0,      14,  2,19950128,0017, -15.5005,   -8.9960,  3898, 2195.500,    2.961,   34.909,2,   34.908,2,  240.200,2,  238.900,2,   35.130,2,   22.510,2, -999.000,9,    1.480,2,    0.000,2, -999.000,9, -999.000,9, -999.000,9, -999.000,9
           NA,     A14,     47,   1,-999.0,      13,  2,19950128,0017, -15.5005,   -8.9960,  3898, 2395.400,    2.807,   34.903,2,   34.902,2,  242.100,2,  242.500,2,   37.660,2,   22.590,2, -999.000,9,    1.470,2,    0.002,2,   -0.003,2, -999.000,9, -999.000,9, -999.000,9
           NA,     A14,     47,   1,-999.0,      12,  2,19950128,0017, -15.5005,   -8.9960,  3898, 2591.000,    2.667,   34.897,2,   34.896,2,  242.100,2,  241.000,2,   40.770,2,   22.760,2, -999.000,9,    1.490,2,    0.002,2,    0.001,2, -999.000,9, -999.000,9, -999.000,9
           NA,     A14,     47,   1,-999.0,      11,  2,19950128,0017, -15.5005,   -8.9960,  3898, 2798.300,    2.569,   34.893,2,   34.887,2,  241.600,2,  240.500,2,   43.810,2,   22.970,6, -999.000,9,    1.510,6,    0.004,2,   -0.003,2, -999.000,9, -999.000,9, -999.000,9
           NA,     A14,     47,   1,-999.0,      10,  2,19950128,0017, -15.5005,   -8.9960,  3898, 2996.500,    2.479,   34.890,2,   34.891,2,  240.100,2,  239.200,2,   46.000,2,   23.150,2, -999.000,9,    1.530,2,    0.004,2,   -0.001,2, -999.000,9, -999.000,9, -999.000,9
           NA,     A14,     47,   1,-999.0,       9,  2,19950128,0017, -15.5005,   -8.9960,  3898, 3196.200,    2.436,   34.888,2,   34.887,2,  238.700,2,  238.700,2,   47.530,2,   23.230,2, -999.000,9,    1.530,2,    0.002,2,   -0.003,2, -999.000,9, -999.000,9, -999.000,9
           NA,     A14,     47,   1,-999.0,       8,  2,19950128,0017, -15.5005,   -8.9960,  3898, 3395.200,    2.419,   34.889,2,   34.888,2,  237.900,2,  238.400,2,   48.120,2,   23.270,2, -999.000,9,    1.540,2,    0.000,2,   -0.001,2, -999.000,9, -999.000,9, -999.000,9
           NA,     A14,     47,   1,-999.0,       7,  2,19950128,0017, -15.5005,   -8.9960,  3898, 3595.400,    2.418,   34.888,2,   34.891,2,  237.100,2,  237.400,2,   48.090,2,   23.300,6, -999.000,9,    1.550,6, -999.000,9, -999.000,9, -999.000,9, -999.000,9, -999.000,9
           NA,     A14,     47,   1,-999.0,       6,  2,19950128,0017, -15.5005,   -8.9960,  3898, 3799.200,    2.429,   34.890,2,   34.889,2,  237.000,2,  237.400,2,   48.990,2,   23.310,6, -999.000,9,    1.550,6,    0.003,2,    0.001,2, -999.000,9, -999.000,9, -999.000,9
           NA,     A14,     47,   1,-999.0,       5,  2,19950128,0017, -15.5005,   -8.9960,  3898, 3897.400,    2.433,   34.888,2,   34.887,2,  237.500,2,  237.300,2,   48.870,2,   23.310,2, -999.000,9,    1.540,2,   -0.001,2,    0.003,2, -999.000,9, -999.000,9, -999.000,9
           NA,     A14,     47,   1,-999.0,       3,  2,19950128,0017, -15.5005,   -8.9960,  3898, 3933.100,    2.433,   34.889,2,   34.889,2,  236.200,2,  236.800,2,   49.510,2,   23.290,2, -999.000,9,    1.540,2,    0.001,2,   -0.003,2, -999.000,9, -999.000,9, -999.000,9
           NA,     A14,     47,   1,-999.0,       4,  2,19950128,0017, -15.5005,   -8.9960,  3898, 3935.400,    2.433,   34.889,2,   34.888,2,  236.200,2,  237.200,2,   48.920,2,   23.290,2, -999.000,9,    1.540,2,    0.000,2,   -0.002,2, -999.000,9, -999.000,9, -999.000,9
           NA,     A14,     46,   1,-999.0,      27,  2,19950127,1905, -14.9993,   -9.0000,  2836,    2.500,   24.118,   36.722,2, -999.000,3,  211.200,2,  212.100,2,    0.560,2,    0.020,2, -999.000,9,    0.200,2,    1.938,2,    1.021,2, -999.000,9, 2081.700,2, 2413.800,2
           NA,     A14,     46,   1,-999.0,      26,  2,19950127,1905, -14.9993,   -9.0000,  2836,   26.200,   23.814,   36.716,2, -999.000,3,  208.100,2, -999.000,3,    0.560,2,    0.020,2, -999.000,9,    0.210,2,    1.974,2,    1.015,2, -999.000,9, 2081.000,2, 2411.100,2
           NA,     A14,     46,   1,-999.0,      25,  2,19950127,1905, -14.9993,   -9.0000,  2836,   68.100,   21.559,   36.574,2, -999.000,3,  210.800,2, -999.000,3,    0.560,2,    0.060,2, -999.000,9,    0.210,2,    2.164,2,    1.088,2, -999.000,9, 2078.500,2, 2405.400,2
           NA,     A14,     46,   1,-999.0,      24,  2,19950127,1905, -14.9993,   -9.0000,  2836,  116.400,   19.845,   36.416,2, -999.000,3,  203.600,2,  205.600,2,    1.360,2,    3.450,2, -999.000,9,    0.410,2,    2.215,2,    1.107,2, -999.000,9, 2101.200,2, 2392.500,2
           NA,     A14,     46,   1,-999.0,      23,  2,19950127,1905, -14.9993,   -9.0000,  2836,  146.800,   16.581,   35.780,2,   35.782,2,  186.600,2, -999.000,3,    2.800,2,    9.140,2, -999.000,9,    0.680,2,    2.301,2,    1.121,2, -999.000,9, 2115.300,2, 2352.700,2
           NA,     A14,     46,   1,-999.0,      22,  2,19950127,1905, -14.9993,   -9.0000,  2836,  186.400,   14.671,   35.489,2, -999.000,3,  144.800,2, -999.000,3,    5.120,2,   16.920,2, -999.000,9,    1.130,2,    1.973,2,    0.939,2, -999.000,9, 2152.400,2, 2330.500,2
           NA,     A14,     46,   1,-999.0,      21,  2,19950127,1905, -14.9993,   -9.0000,  2836,  316.900,   10.373,   34.959,2,   34.962,2,   65.600,2,   66.200,2,   13.220,2,   30.790,2, -999.000,9,    1.980,2,    0.438,2,    0.221,2, -999.000,9, 2223.500,2, 2304.500,2
           NA,     A14,     46,   1,-999.0,      20,  2,19950127,1905, -14.9993,   -9.0000,  2836,  396.700,    8.669,   34.773,2,   34.774,2,   85.900,2,   88.200,2,   16.420,2,   32.140,2, -999.000,9,    2.080,2,    0.234,2,    0.172,2, -999.000,9, 2216.500,2, 2302.600,2
           NA,     A14,     46,   1,-999.0,      19,  2,19950127,1905, -14.9993,   -9.0000,  2836,  493.800,    7.056,   34.617,2,   34.622,2,  108.600,2,  110.600,2,   20.280,2,   33.260,2, -999.000,9,    2.170,2,    0.122,2,    0.070,2, -999.000,9, 2217.300,2, 2297.700,2
           NA,     A14,     46,   1,-999.0,      18,  2,19950127,1905, -14.9993,   -9.0000,  2836,  595.500,    5.798,   34.515,2,   34.517,2,  126.800,2,  129.200,2,   25.010,2,   34.440,2, -999.000,9,    2.270,2,    0.061,2,    0.035,2, -999.000,9, 2217.100,2, 2299.000,2
           NA,     A14,     46,   1,-999.0,      17,  2,19950127,1905, -14.9993,   -9.0000,  2836,  696.800,    4.950,   34.470,2,   34.473,2,  145.000,2,  144.900,2,   29.390,2,   34.320,2, -999.000,9,    2.290,2,    0.036,2,    0.022,2, -999.000,9, 2217.300,2, 2300.300,2
           NA,     A14,     46,   1,-999.0,      16,  2,19950127,1905, -14.9993,   -9.0000,  2836,  794.800,    4.452,   34.484,2,   34.488,2,  154.100,2, -999.000,3,   33.490,2,   34.660,2, -999.000,9,    2.340,2,    0.009,2,    0.008,2, -999.000,9, -999.000,9, 2305.800,2
           NA,     A14,     46,   1,-999.0,      15,  2,19950127,1905, -14.9993,   -9.0000,  2836,  794.800,    4.440,   34.484,2,   34.486,2,  154.100,2, -999.000,3,   33.670,2,   34.650,2, -999.000,9,    2.330,2,    0.012,2,    0.009,2, -999.000,9, 2219.900,2, 2306.700,2
           NA,     A14,     46,   1,-999.0,      14,  2,19950127,1905, -14.9993,   -9.0000,  2836,  894.000,    4.138,   34.514,2,   34.521,2,  154.000,2,  154.800,2,   35.950,2,   33.970,2, -999.000,9,    2.290,6,    0.005,2,    0.002,2, -999.000,9, 2222.100,2, 2313.000,2
           NA,     A14,     46,   1,-999.0,      13,  2,19950127,1905, -14.9993,   -9.0000,  2836,  997.900,    3.965,   34.556,2,   34.560,2,  161.300,2,  160.800,2,   36.930,2,   33.120,2, -999.000,9,    2.240,2,    0.000,2, -999.000,9, -999.000,9, 2223.300,2, 2312.300,2
           NA,     A14,     46,   1,-999.0,      12,  2,19950127,1905, -14.9993,   -9.0000,  2836, 1194.800,    3.829,   34.705,2,   34.707,2,  180.000,2,  179.900,2,   34.340,2,   29.740,2, -999.000,9,    2.010,2,    0.001,2,   -0.001,2, -999.000,9, 2213.200,2, 2318.200,2
           NA,     A14,     46,   1,-999.0,      11,  2,19950127,1905, -14.9993,   -9.0000,  2836, 1395.000,    3.804,   34.835,2,   34.833,2,  203.900,2,  202.200,2,   29.110,2,   25.850,2, -999.000,9,    1.750,2,    0.002,2,   -0.001,2, -999.000,9, 2195.500,2, 2321.600,2
           NA,     A14,     46,   1,-999.0,      10,  2,19950127,1905, -14.9993,   -9.0000,  2836, 1596.100,    3.702,   34.890,2,   34.895,2,  219.700,2,  217.300,2,   27.460,2,   23.780,2, -999.000,9,    1.600,2,    0.003,2,    0.003,2, -999.000,9, 2185.200,2, 2322.000,2
           NA,     A14,     46,   1,-999.0,       9,  2,19950127,1905, -14.9993,   -9.0000,  2836, 1796.200,    3.522,   34.915,2,   34.917,2,  230.700,2,  228.700,2,   27.700,2,   22.710,2, -999.000,9,    1.500,2,    0.003,2,   -0.002,2, -999.000,9, 2180.200,2, 2324.500,2
           NA,     A14,     46,   1,-999.0,       8,  2,19950127,1905, -14.9993,   -9.0000,  2836, 1994.200,    3.245,   34.915,2,   34.913,2,  235.700,2,  234.400,2,   31.320,2,   22.450,2, -999.000,9,    1.480,2,   -0.001,2,   -0.001,2, -999.000,9, 2180.900,2, 2328.000,2
           NA,     A14,     46,   1,-999.0,       7,  2,19950127,1905, -14.9993,   -9.0000,  2836, 2196.000,    3.004,   34.907,2,   34.912,2,  240.400,2,  238.200,2,   34.790,2,   22.240,2, -999.000,9,    1.460,2, -999.000,9, -999.000,9, -999.000,9, 2182.300,2, 2331.300,2
           NA,     A14,     46,   1,-999.0,       6,  2,19950127,1905, -14.9993,   -9.0000,  2836, 2395.100,    2.815,   34.903,2,   34.902,2,  242.300,2,  241.200,2,   38.350,2,   22.280,2, -999.000,9,    1.470,2,   -0.001,2,   -0.001,2, -999.000,9, 2183.600,2, 2335.400,2
           NA,     A14,     46,   1,-999.0,       5,  2,19950127,1905, -14.9993,   -9.0000,  2836, 2595.200,    2.654,   34.898,2,   34.896,2,  241.700,2,  241.100,2,   41.880,2,   22.570,2, -999.000,9,    1.490,2,   -0.001,2,    0.002,2, -999.000,9, 2186.700,2, 2337.500,2
           NA,     A14,     46,   1,-999.0,       4,  2,19950127,1905, -14.9993,   -9.0000,  2836, 2745.600,    2.592,   34.895,2,   34.895,2,  242.800,2,  240.900,2,   43.730,2,   22.620,2, -999.000,9,    1.500,2,    0.001,2,   -0.005,2, -999.000,9, -999.000,9, 2340.300,2
           NA,     A14,     46,   1,-999.0,       3,  2,19950127,1905, -14.9993,   -9.0000,  2836, 2854.700,    2.548,   34.893,2, -999.000,9,  242.200,2,  250.000,2,   44.720,2,   22.610,2, -999.000,9,    1.510,2,    0.000,2,   -0.002,2, -999.000,9, 2191.800,6, 2343.500,2