BOTTLE,20213527JOAExport
EXPOCODE,SECT_ID,STNNBR,CASTNO,SAMPNO,BTLNBR,BTLNBR_FLAG_W,DATE,TIME,LATITUDE,LONGITUDE,DEPTH,CTDPRS,CTDTMP,CTDSAL,CTDSAL_FLAG_W,SALNTY,SALNTY_FLAG_W,CTDOXY,CTDOXY_FLAG_W,OXYGEN,OXYGEN_FLAG_W,SILCAT,SILCAT_FLAG_W,NITRAT,NITRAT_FLAG_W,NITRIT,NITRIT_FLAG_W,PHSPHT,PHSPHT_FLAG_W,CFC-11,CFC-11_FLAG_W,CFC-12,CFC-12_FLAG_W,SF6,SF6_FLAG_W,TCARBN,TCARBN_FLAG_W,ALKALI,ALKALI_FLAG_W
,,,,,,,,,,,,DB,DEG C,PSS-78,,PSS-78,,UMOL/KG,,UMOL/KG,,UMOL/KG,,UMOL/KG,,UMOL/KG,,UMOL/KG,,PMOL/KG,,PMOL/KG,,FMOL/KG,,UMOL/KG,,UMOL/KG
           NA,     A14,      6,   1,-999.0,      29,  2,19950118,0752,   3.9200,   -6.9953,  3046,    1.800,   28.444,   34.357,2, -999.000,3,  170.000,2, -999.000,3,    2.260,2,    0.000,2, -999.000,9,    0.000,2,    1.643,2,    0.865,2, -999.000,9, -999.000,9, 2252.700,2
           NA,     A14,      6,   1,-999.0,      28,  2,19950118,0752,   3.9200,   -6.9953,  3046,   22.000,   21.461,   35.685,2, -999.000,3,  177.900,2,  182.000,2,    1.790,2,    1.010,2, -999.000,9,    0.200,2,    1.633,2,    0.790,2, -999.000,9, -999.000,9, -999.000,9
           NA,     A14,      6,   1,-999.0,      27,  2,19950118,0752,   3.9200,   -6.9953,  3046,   46.500,   17.909,   35.812,2, -999.000,3,  145.700,2,  146.900,2,    3.750,2,   12.330,2, -999.000,9,    0.830,2,    1.664,2,    0.780,2, -999.000,9, -999.000,9, -999.000,9
           NA,     A14,      6,   1,-999.0,      26,  2,19950118,0752,   3.9200,   -6.9953,  3046,   71.500,   16.294,   35.690,2, -999.000,3,  123.600,2,  126.800,2,    5.240,2,   16.580,2, -999.000,9,    1.070,2,    1.583,2,    0.741,2, -999.000,9, -999.000,9, -999.000,9
           NA,     A14,      6,   1,-999.0,      25,  2,19950118,0752,   3.9200,   -6.9953,  3046,   97.300,   15.675,   35.626,2,   35.624,2,  124.400,2,  125.500,2,    6.110,2,   17.380,2, -999.000,9,    1.110,2,    1.540,2,    0.724,2, -999.000,9, -999.000,9, -999.000,9
           NA,     A14,      6,   1,-999.0,      24,  2,19950118,0752,   3.9200,   -6.9953,  3046,  147.000,   15.007,   35.540,2,   35.540,2,  130.200,2,  129.300,2,    6.500,2,   17.800,2, -999.000,9,    1.140,2,    1.481,2,    0.695,2, -999.000,9, -999.000,9, -999.000,9
           NA,     A14,      6,   1,-999.0,      23,  2,19950118,0752,   3.9200,   -6.9953,  3046,  196.400,   14.221,   35.437,2,   35.435,2,  116.900,2,  118.000,2,    7.360,2,   20.030,2, -999.000,9,    1.280,2,    1.333,2,    0.627,2, -999.000,9, -999.000,9, -999.000,9
           NA,     A14,      6,   1,-999.0,      22,  2,19950118,0752,   3.9200,   -6.9953,  3046,  295.700,   11.955,   35.187,2, -999.000,3,   58.700,2,   63.800,2,   11.750,2,   29.250,2, -999.000,9,    1.790,2,    0.567,2,    0.257,2, -999.000,9, -999.000,9, -999.000,9
           NA,     A14,      6,   1,-999.0,      21,  2,19950118,0752,   3.9200,   -6.9953,  3046,  396.500,    8.725,   34.819,2,   34.823,2,   68.600,2,   69.000,2,   17.400,2,   34.800,2, -999.000,9,    2.130,2,    0.168,2,    0.076,2, -999.000,9, -999.000,9, -999.000,9
           NA,     A14,      6,   1,-999.0,      20,  2,19950118,0752,   3.9200,   -6.9953,  3046,  496.100,    7.253,   34.670,2, -999.000,3,   92.100,2,   94.900,2,   20.700,2,   35.080,2, -999.000,9,    2.210,2,    0.103,2,    0.036,2, -999.000,9, -999.000,9, -999.000,9
           NA,     A14,      6,   1,-999.0,      19,  2,19950118,0752,   3.9200,   -6.9953,  3046,  595.500,    6.114,   34.576,2, -999.000,3,  109.200,2,  111.000,2,   25.010,2,   35.690,2, -999.000,9,    2.320,2,    0.049,2,    0.027,2, -999.000,9, -999.000,9, -999.000,9
           NA,     A14,      6,   1,-999.0,      18,  2,19950118,0752,   3.9200,   -6.9953,  3046,  795.800,    4.942,   34.554,2,   34.560,2,  134.500,2,  132.900,2,   30.340,2,   34.970,2, -999.000,9,    2.340,2,    0.010,2,    0.006,2, -999.000,9, -999.000,9, -999.000,9
           NA,     A14,      6,   1,-999.0,      16,  2,19950118,0752,   3.9200,   -6.9953,  3046,  995.200,    4.588,   34.655,2,   34.660,2,  148.300,2,  149.800,2,   30.570,2,   32.810,2, -999.000,9,    2.200,2,    0.004,2,    0.005,2, -999.000,9, -999.000,9, -999.000,9
           NA,     A14,      6,   1,-999.0,      17,  2,19950118,0752,   3.9200,   -6.9953,  3046, 1195.400,    4.400,   34.828,2,   34.830,2,  181.500,2,  181.300,2,   25.870,2,   27.760,2, -999.000,9,    1.840,2,    0.001,2,    0.005,2, -999.000,9, -999.000,9, -999.000,9
           NA,     A14,      6,   1,-999.0,      15,  2,19950118,0752,   3.9200,   -6.9953,  3046, 1195.400,    4.400,   34.828,2,   34.829,2,  181.500,2,  181.900,2,   26.100,2,   27.820,2, -999.000,9,    1.850,2,    0.008,2,    0.007,2, -999.000,9, -999.000,9, -999.000,9
           NA,     A14,      6,   1,-999.0,      14,  2,19950118,0752,   3.9200,   -6.9953,  3046, 1395.100,    4.247,   34.918,2,   34.919,2,  206.100,2,  208.100,2,   22.410,2,   24.120,2, -999.000,9,    1.590,2,    0.008,2,    0.009,2, -999.000,9, -999.000,9, -999.000,9
           NA,     A14,      6,   1,-999.0,      13,  2,19950118,0752,   3.9200,   -6.9953,  3046, 1546.400,    4.030,   34.945,2,   34.946,2,  222.400,2,  223.300,2,   21.940,2,   22.730,2, -999.000,9,    1.480,2,    0.003,2,    0.005,2, -999.000,9, -999.000,9, -999.000,9
           NA,     A14,      6,   1,-999.0,      12,  2,19950118,0752,   3.9200,   -6.9953,  3046, 1695.700,    3.857,   34.956,2,   34.956,2,  230.200,2,  229.100,2,   22.100,2,   22.020,2, -999.000,9,    1.440,2,    0.005,2, -999.000,9, -999.000,9, -999.000,9, -999.000,9
           NA,     A14,      6,   1,-999.0,      11,  2,19950118,0752,   3.9200,   -6.9953,  3046, 1846.000,    3.694,   34.959,2,   34.960,2,  236.100,2,  234.900,2,   22.640,2,   21.560,2, -999.000,9,    1.390,2,    0.003,2, -999.000,9, -999.000,9, -999.000,9, -999.000,9
           NA,     A14,      6,   1,-999.0,      10,  2,19950118,0752,   3.9200,   -6.9953,  3046, 1995.800,    3.494,   34.954,2,   34.958,2,  238.600,2,  238.300,2,   24.760,2,   21.350,2, -999.000,9,    1.380,2,    0.005,2,    0.005,2, -999.000,9, -999.000,9, -999.000,9
           NA,     A14,      6,   1,-999.0,       9,  2,19950118,0752,   3.9200,   -6.9953,  3046, 2198.800,    3.228,   34.946,2,   34.948,2,  241.000,2,  240.800,2,   28.280,2,   21.350,2, -999.000,9,    1.400,2,    0.002,2,   -0.002,2, -999.000,9, -999.000,9, -999.000,9
           NA,     A14,      6,   1,-999.0,       8,  2,19950118,0752,   3.9200,   -6.9953,  3046, 2395.500,    3.063,   34.939,2,   34.940,2,  241.300,2,  239.700,2,   31.420,2,   21.560,2, -999.000,9,    1.410,2,    0.002,2, -999.000,9, -999.000,9, -999.000,9, -999.000,9
           NA,     A14,      6,   1,-999.0,       7,  2,19950118,0752,   3.9200,   -6.9953,  3046, 2596.400,    2.923,   34.932,2,   34.932,2,  240.300,2,  239.500,2,   34.080,2,   21.730,2, -999.000,9,    1.430,2,    0.004,2,    0.003,2, -999.000,9, -999.000,9, -999.000,9
           NA,     A14,      6,   1,-999.0,       6,  2,19950118,0752,   3.9200,   -6.9953,  3046, 2795.900,    2.785,   34.923,2,   34.924,2,  238.900,2,  238.600,2,   37.290,2,   22.030,2, -999.000,9,    1.440,2,    0.000,2,    0.010,2, -999.000,9, -999.000,9, -999.000,9
           NA,     A14,      6,   1,-999.0,       5,  2,19950118,0752,   3.9200,   -6.9953,  3046, 2896.600,    2.723,   34.919,2,   34.919,2,  237.900,2,  238.000,2,   38.620,2,   22.150,2, -999.000,9,    1.450,2,    0.000,2,    0.004,2, -999.000,9, -999.000,9, -999.000,9
           NA,     A14,      6,   1,-999.0,       4,  2,19950118,0752,   3.9200,   -6.9953,  3046, 2996.100,    2.663,   34.916,2,   34.914,2,  237.300,2,  237.300,2,   40.030,2,   22.200,2, -999.000,9,    1.460,2,    0.000,2,    0.000,2, -999.000,9, -999.000,9, -999.000,9
           NA,     A14,      6,   1,-999.0,       3,  2,19950118,0752,   3.9200,   -6.9953,  3046, 3053.900,    2.622,   34.913,2,   34.913,2,  237.400,2,  237.700,2,   41.050,2,   22.240,2, -999.000,9,    1.460,2,    0.000,2,    0.005,2, -999.000,9, -999.000,9, -999.000,9
           NA,     A14,      5,   1,-999.0,      24,  2,19950118,0255,   4.1832,   -6.9892,  2096,   21.700,   19.542,   35.761,2, -999.000,3,  172.100,2, -999.000,3,    2.340,2,    8.560,2, -999.000,9,    0.660,2,    1.655,2,    0.782,2, -999.000,9, -999.000,9, 2354.100,2
           NA,     A14,      5,   1,-999.0,      23,  2,19950118,0255,   4.1832,   -6.9892,  2096,   45.600,   17.084,   35.777,2,   35.776,2,  129.500,2,  129.000,2,    4.690,2,   15.110,2, -999.000,9,    0.980,2,    1.651,2,    0.781,2, -999.000,9, -999.000,9, -999.000,9
           NA,     A14,      5,   1,-999.0,      22,  2,19950118,0255,   4.1832,   -6.9892,  2096,   71.200,   16.687,   35.742,2,   35.744,2,  113.300,2, -999.000,3,    5.010,2,   15.950,2, -999.000,9,    1.050,2,    1.629,2,    0.767,2, -999.000,9, -999.000,9, -999.000,9
           NA,     A14,      5,   1,-999.0,      21,  2,19950118,0255,   4.1832,   -6.9892,  2096,   95.600,   16.109,   35.672,2,   35.674,2,  120.200,2, -999.000,3,    5.200,2,   16.290,2, -999.000,9,    1.080,2,    1.599,2,    0.753,2, -999.000,9, -999.000,9, -999.000,9
           NA,     A14,      5,   1,-999.0,      20,  2,19950118,0255,   4.1832,   -6.9892,  2096,  145.500,   15.312,   35.580,2,   35.580,2,  125.100,2,  127.400,2,    6.110,2,   17.590,2, -999.000,9,    1.140,2,    1.511,2,    0.701,2, -999.000,9, -999.000,9, -999.000,9
           NA,     A14,      5,   1,-999.0,      19,  2,19950118,0255,   4.1832,   -6.9892,  2096,  196.000,   14.349,   35.454,2, -999.000,3,  115.800,2,  116.600,2,    7.600,2,   19.780,2, -999.000,9,    1.310,2,    1.331,2,    0.617,2, -999.000,9, -999.000,9, -999.000,9
           NA,     A14,      5,   1,-999.0,      18,  2,19950118,0255,   4.1832,   -6.9892,  2096,  295.800,   11.286,   35.099,2, -999.000,3,   57.400,2,   56.400,2,   13.250,2,   30.720,2, -999.000,9,    1.940,2, -999.000,9, -999.000,9, -999.000,9, -999.000,9, -999.000,9
           NA,     A14,      5,   1,-999.0,      16,  2,19950118,0255,   4.1832,   -6.9892,  2096,  395.600,    9.023,   34.862,2,   34.857,2,   66.500,2,   60.600,2,   17.450,2,   34.660,2, -999.000,9,    2.170,2,    0.163,2,    0.088,2, -999.000,9, -999.000,9, -999.000,9
           NA,     A14,      5,   1,-999.0,      15,  2,19950118,0255,   4.1832,   -6.9892,  2096,  495.300,    7.670,   34.715,2,   34.716,2,   81.700,2,   79.500,2,   20.860,2,   35.610,2, -999.000,9,    2.280,2,    0.082,2,    0.043,2, -999.000,9, -999.000,9, -999.000,9
           NA,     A14,      5,   1,-999.0,      14,  2,19950118,0255,   4.1832,   -6.9892,  2096,  595.800,    6.208,   34.591,2, -999.000,4,   95.900,2, -999.000,4,   24.790,2,   35.500,2, -999.000,9,    2.330,2,    0.047,2,    0.028,2, -999.000,9, -999.000,9, -999.000,9
           NA,     A14,      5,   1,-999.0,      13,  2,19950118,0255,   4.1832,   -6.9892,  2096,  796.300,    5.115,   34.594,2,   34.591,2,  125.100,2,  129.500,2,   30.360,2,   34.950,2, -999.000,9,    2.340,2,    0.008,2,    0.003,2, -999.000,9, -999.000,9, -999.000,9
           NA,     A14,      5,   1,-999.0,      12,  2,19950118,0255,   4.1832,   -6.9892,  2096, 1096.800,    4.496,   34.729,2, -999.000,4,  161.700,2,  162.500,2,   29.500,2,   31.190,2, -999.000,9,    2.050,2,    0.002,2, -999.000,9, -999.000,9, -999.000,9, -999.000,9
           NA,     A14,      5,   1,-999.0,      11,  2,19950118,0255,   4.1832,   -6.9892,  2096, 1196.500,    4.404,   34.800,2, -999.000,3,  177.900,2,  177.200,2,   27.070,2,   28.540,2, -999.000,9,    1.890,2,    0.005,2, -999.000,9, -999.000,9, -999.000,9, -999.000,9
           NA,     A14,      5,   1,-999.0,      10,  2,19950118,0255,   4.1832,   -6.9892,  2096, 1395.200,    4.181,   34.914,2,   34.919,2,  209.300,2,  206.900,2,   21.920,2,   22.950,2, -999.000,9,    1.500,2,    0.004,2,    0.002,2, -999.000,9, -999.000,9, -999.000,9
           NA,     A14,      5,   1,-999.0,       9,  2,19950118,0255,   4.1832,   -6.9892,  2096, 1545.700,    4.033,   34.941,2,   34.945,2,  221.600,2,  219.600,2,   22.280,2,   22.950,2, -999.000,9,    1.500,2,    0.007,2,    0.004,2, -999.000,9, -999.000,9, -999.000,9
           NA,     A14,      5,   1,-999.0,       8,  2,19950118,0255,   4.1832,   -6.9892,  2096, 1545.800,    4.032,   34.941,2,   34.945,2,  221.600,2,  219.700,2,   21.920,2,   22.200,2, -999.000,9,    1.460,2,    0.005,2,    0.003,2, -999.000,9, -999.000,9, -999.000,9
           NA,     A14,      5,   1,-999.0,       7,  2,19950118,0255,   4.1832,   -6.9892,  2096, 1688.100,    3.900,   34.954,2,   34.956,2,  228.600,2,  227.500,2,   21.810,2,   22.240,2, -999.000,9,    1.470,2,    0.004,2, -999.000,9, -999.000,9, -999.000,9, -999.000,9
           NA,     A14,      5,   1,-999.0,       6,  2,19950118,0255,   4.1832,   -6.9892,  2096, 1795.100,    3.749,   34.959,2,   34.962,2,  234.300,2,  234.000,2,   22.400,2,   21.700,2, -999.000,9,    1.410,2,    0.002,2,    0.002,2, -999.000,9, -999.000,9, -999.000,9
           NA,     A14,      5,   1,-999.0,       5,  2,19950118,0255,   4.1832,   -6.9892,  2096, 1895.800,    3.604,   34.956,2,   34.960,2,  237.400,2,  239.200,2,   23.610,2,   21.660,2, -999.000,9,    1.400,2,    0.002,2,    0.003,2, -999.000,9, -999.000,9, -999.000,9
           NA,     A14,      5,   1,-999.0,       4,  2,19950118,0255,   4.1832,   -6.9892,  2096, 1996.200,    3.479,   34.954,2,   34.958,2,  239.700,2,  235.900,2,   25.260,2,   21.490,2, -999.000,9,    1.390,2,    0.003,2,    0.004,2, -999.000,9, -999.000,9, -999.000,9
           NA,     A14,      5,   1,-999.0,       3,  2,19950118,0255,   4.1832,   -6.9892,  2096, 2069.200,    3.450,   34.955,2,   34.957,2,  235.300,2,  238.500,2,   25.690,2,   21.450,2, -999.000,9,    1.400,2,    0.000,2, -999.000,9, -999.000,9, -999.000,9, -999.000,9
           NA,     A14,      5,   1,-999.0,      17,  2,19950118,0255,   4.1832,   -6.9892,  2096, 2069.200,    3.434,   34.954,2,   34.958,2,  235.300,2,  239.000,2,   26.050,2,   21.330,2, -999.000,9,    1.380,2, -999.000,9, -999.000,9, -999.000,9, -999.000,9, -999.000,9
           NA,     A14,      4,   1,-999.0,      21,  2,19950117,2308,   4.2785,   -6.9997,  1526,    1.100,   24.968,   34.780,2, -999.000,3,  229.100,2, -999.000,3,    0.460,2,    0.000,2, -999.000,9,    0.030,2,    1.704,2,    0.868,2, -999.000,9, 1934.700,6, 2290.100,2
           NA,     A14,      4,   1,-999.0,      20,  2,19950117,2308,   4.2785,   -6.9997,  1526,   21.800,   18.807,   35.818,2, -999.000,3,  164.500,2, -999.000,3,    3.010,2,    9.630,2, -999.000,9,    0.680,2,    1.683,2,    0.792,2, -999.000,9, 2128.500,2, 2356.000,2
           NA,     A14,      4,   1,-999.0,      19,  2,19950117,2308,   4.2785,   -6.9997,  1526,   46.400,   17.373,   35.799,2,   35.800,2,  132.100,2, -999.000,3,    5.790,2,   14.950,2, -999.000,9,    0.980,2,    1.692,2,    0.773,2, -999.000,9, 2150.600,2, 2353.800,2
           NA,     A14,      4,   1,-999.0,      17,  2,19950117,2308,   4.2785,   -6.9997,  1526,   72.000,   16.888,   35.764,2,   35.766,2,  132.500,2,  130.400,2,    5.360,2,   15.590,2, -999.000,9,    1.020,2,    1.677,2,    0.776,2, -999.000,9, 2150.300,2, 2350.900,2
           NA,     A14,      4,   1,-999.0,      18,  2,19950117,2308,   4.2785,   -6.9997,  1526,   72.200,   16.876,   35.764,2,   35.768,2,  132.500,2,  129.200,2,    5.790,2,   15.580,2, -999.000,9,    1.040,2,    1.657,2,    0.766,2, -999.000,9, -999.000,9, 2352.100,2
           NA,     A14,      4,   1,-999.0,      16,  2,19950117,2308,   4.2785,   -6.9997,  1526,   96.300,   16.497,   35.724,2, -999.000,3,  129.600,2,  129.000,2,    5.750,2,   16.260,2, -999.000,9,    1.070,2,    1.645,2,    0.771,2, -999.000,9, 2152.900,2, 2349.100,2
           NA,     A14,      4,   1,-999.0,      15,  2,19950117,2308,   4.2785,   -6.9997,  1526,  146.500,   15.356,   35.576,2,   35.573,2,  118.900,2,  119.600,2,    7.090,2,   18.730,2, -999.000,9,    1.220,2,    1.490,2,    0.687,2, -999.000,9, 2163.300,2, 2341.400,2
           NA,     A14,      4,   1,-999.0,      14,  2,19950117,2308,   4.2785,   -6.9997,  1526,  196.300,   14.505,   35.473,2,   35.468,2,  118.100,2,  111.700,2,    7.680,2,   20.290,2, -999.000,9,    1.310,2,    1.325,2,    0.601,2, -999.000,9, 2171.400,2, 2335.100,2
           NA,     A14,      4,   1,-999.0,      13,  2,19950117,2308,   4.2785,   -6.9997,  1526,  296.500,   10.966,   35.064,2, -999.000,3,   57.900,2,   57.900,2,   14.310,2,   31.980,2, -999.000,9,    1.950,2, -999.000,9, -999.000,9, -999.000,9, 2228.100,2, 2312.000,2
           NA,     A14,      4,   1,-999.0,      11,  2,19950117,2308,   4.2785,   -6.9997,  1526,  496.100,    7.454,   34.703,2,   34.704,2,   83.500,2,   86.400,2,   20.710,2,   35.900,2, -999.000,9,    2.260,2,    0.084,2, -999.000,9, -999.000,9, 2232.200,2, 2301.500,2
           NA,     A14,      4,   1,-999.0,      10,  2,19950117,2308,   4.2785,   -6.9997,  1526,  596.200,    6.456,   34.640,2,   34.637,2,   97.400,2,   98.300,2,   24.320,2,   36.410,2, -999.000,9,    2.350,2,    0.032,2,    0.016,2, -999.000,9, 2234.700,2, 2304.200,2
           NA,     A14,      4,   1,-999.0,       9,  2,19950117,2308,   4.2785,   -6.9997,  1526,  795.400,    5.020,   34.579,2,   34.583,2,  131.700,2,  129.900,2,   29.970,2,   35.420,2, -999.000,9,    2.350,2,    0.008,2,    0.008,2, -999.000,9, 2229.400,2, 2311.000,2
           NA,     A14,      4,   1,-999.0,       8,  2,19950117,2308,   4.2785,   -6.9997,  1526,  996.300,    4.544,   34.674,2,   34.676,2,  155.300,2,  152.400,2,   29.970,2,   32.820,2, -999.000,9,    2.170,2,    0.003,2,    0.002,2, -999.000,9, 2220.700,2, 2314.500,2
           NA,     A14,      4,   1,-999.0,       7,  2,19950117,2308,   4.2785,   -6.9997,  1526, 1195.100,    4.443,   34.778,2,   34.783,2,  172.300,2,  171.500,2,   27.460,2,   29.790,2, -999.000,9,    1.950,2,    0.007,2,    0.001,2, -999.000,9, 2209.900,2, 2319.100,2
           NA,     A14,      4,   1,-999.0,       6,  2,19950117,2308,   4.2785,   -6.9997,  1526, 1395.300,    4.200,   34.904,2,   34.904,2,  203.800,2,  204.000,2,   23.300,2,   24.820,2, -999.000,9,    1.630,2,    0.005,2,    0.000,2, -999.000,9, 2190.800,2, 2319.700,2
           NA,     A14,      4,   1,-999.0,       4,  2,19950117,2308,   4.2785,   -6.9997,  1526, 1495.200,    4.074,   34.931,2,   34.932,2,  215.700,2,  215.200,2,   22.510,2,   23.490,2, -999.000,9,    1.530,2,    0.003,2, -999.000,9, -999.000,9, -999.000,9, 2322.000,2
           NA,     A14,      4,   1,-999.0,       5,  2,19950117,2308,   4.2785,   -6.9997,  1526, 1495.500,    4.079,   34.930,2,   34.933,2,  215.800,2,  215.100,2,   22.280,2,   23.490,2, -999.000,9,    1.540,2,    0.005,2,    0.002,2, -999.000,9, 2184.200,2, 2322.500,2
           NA,     A14,      4,   1,-999.0,       3,  2,19950117,2308,   4.2785,   -6.9997,  1526, 1523.700,    3.936,   34.944,2,   34.949,2,  220.700,2,  222.800,2,   22.590,2,   22.780,2, -999.000,9,    1.470,2,    0.003,2,    0.007,2, -999.000,9, 2181.200,6, 2323.700,2