BOTTLE,20213527JOAExport
EXPOCODE,SECT_ID,STNNBR,CASTNO,SAMPNO,BTLNBR,BTLNBR_FLAG_W,DATE,TIME,LATITUDE,LONGITUDE,DEPTH,CTDPRS,CTDTMP,CTDSAL,CTDSAL_FLAG_W,SALNTY,SALNTY_FLAG_W,CTDOXY,CTDOXY_FLAG_W,OXYGEN,OXYGEN_FLAG_W,SILCAT,SILCAT_FLAG_W,NITRAT,NITRAT_FLAG_W,NITRIT,NITRIT_FLAG_W,PHSPHT,PHSPHT_FLAG_W,CFC-11,CFC-11_FLAG_W,CFC-12,CFC-12_FLAG_W,SF6,SF6_FLAG_W,TCARBN,TCARBN_FLAG_W,ALKALI,ALKALI_FLAG_W
,,,,,,,,,,,,DB,DEG C,PSS-78,,PSS-78,,UMOL/KG,,UMOL/KG,,UMOL/KG,,UMOL/KG,,UMOL/KG,,UMOL/KG,,PMOL/KG,,PMOL/KG,,FMOL/KG,,UMOL/KG,,UMOL/KG
           NA,     A14,     99,   1,-999.0,      32,  2,19950209,1813, -41.4998,   -8.9993,  3971,    5.500,   12.988,   34.741,2,   34.745,2,  270.200,2,  267.100,2,    0.300,2,    4.090,2, -999.000,9,    0.440,2,    3.297,2,    1.615,2, -999.000,9, -999.000,9, 2306.100,2
           NA,     A14,     99,   1,-999.0,      31,  2,19950209,1813, -41.4998,   -8.9993,  3971,   46.300,   12.989,   34.739,2,   34.743,2,  269.600,2,  267.000,2,    0.300,2,    4.270,2, -999.000,9,    0.440,2,    3.304,2,    1.619,2, -999.000,9, -999.000,9, -999.000,9
           NA,     A14,     99,   1,-999.0,      30,  2,19950209,1813, -41.4998,   -8.9993,  3971,   96.300,   10.906,   34.719,2,   34.719,2,  268.300,2,  269.900,2,    2.300,2,    9.760,2, -999.000,9,    0.750,2,    3.558,2,    1.725,2, -999.000,9, -999.000,9, -999.000,9
           NA,     A14,     99,   1,-999.0,      29,  2,19950209,1813, -41.4998,   -8.9993,  3971,  145.200,   10.015,   34.690,2,   34.689,2,  265.600,2,  261.300,2,    2.900,2,   11.790,2, -999.000,9,    0.850,2,    3.631,2,    1.753,2, -999.000,9, -999.000,9, -999.000,9
           NA,     A14,     99,   1,-999.0,      28,  2,19950209,1813, -41.4998,   -8.9993,  3971,  194.800,    9.483,   34.663,2,   34.662,2,  261.300,2,  257.400,2,    3.600,2,   13.790,2, -999.000,9,    0.970,2,    3.588,2,    1.740,2, -999.000,9, -999.000,9, -999.000,9
           NA,     A14,     99,   1,-999.0,      27,  2,19950209,1813, -41.4998,   -8.9993,  3971,  296.700,    8.355,   34.554,2,   34.557,2,  246.500,2,  242.400,2,    5.500,2,   18.260,2, -999.000,9,    1.240,2,    3.414,2,    1.604,2, -999.000,9, -999.000,9, -999.000,9
           NA,     A14,     99,   1,-999.0,      26,  2,19950209,1813, -41.4998,   -8.9993,  3971,  396.400,    6.787,   34.417,2,   34.415,2,  232.400,2,  230.800,2,    9.300,2,   23.260,2, -999.000,9,    1.570,2,    3.108,2,    1.440,2, -999.000,9, -999.000,9, -999.000,9
           NA,     A14,     99,   1,-999.0,      25,  2,19950209,1813, -41.4998,   -8.9993,  3971,  494.400,    5.436,   34.292,2,   34.292,2,  236.900,2,  240.700,2,   12.400,2,   25.970,2, -999.000,9,    1.750,2,    3.094,2,    1.382,2, -999.000,9, -999.000,9, -999.000,9
           NA,     A14,     99,   1,-999.0,      24,  2,19950209,1813, -41.4998,   -8.9993,  3971,  595.600,    4.543,   34.239,2,   34.235,2,  245.500,2, -999.000,3,   16.000,2,   27.490,2, -999.000,9,    1.860,2,    2.942,2,    1.291,2, -999.000,9, -999.000,9, -999.000,9
           NA,     A14,     99,   1,-999.0,      23,  2,19950209,1813, -41.4998,   -8.9993,  3971,  695.300,    4.003,   34.230,2,   34.226,2,  249.800,2,  248.900,2,   20.400,2,   28.720,2, -999.000,9,    1.940,2,    2.650,2,    1.161,2, -999.000,9, -999.000,9, -999.000,9
           NA,     A14,     99,   1,-999.0,      22,  2,19950209,1813, -41.4998,   -8.9993,  3971,  795.100,    3.560,   34.236,2,   34.233,2,  247.200,2,  242.800,2,   26.200,2,   30.120,2, -999.000,9,    2.030,2,    2.286,2,    0.992,2, -999.000,9, -999.000,9, -999.000,9
           NA,     A14,     99,   1,-999.0,      21,  2,19950209,1813, -41.4998,   -8.9993,  3971,  895.600,    3.266,   34.260,2,   34.257,2,  236.800,2,  233.600,2,   31.800,2,   31.230,2, -999.000,9,    2.110,2,    1.837,2,    0.801,2, -999.000,9, -999.000,9, -999.000,9
           NA,     A14,     99,   1,-999.0,      20,  2,19950209,1813, -41.4998,   -8.9993,  3971,  996.600,    3.025,   34.295,2,   34.293,2,  226.300,2,  222.600,2,   38.200,2,   32.170,2, -999.000,9,    2.180,2,    1.446,2,    0.633,2, -999.000,9, -999.000,9, -999.000,9
           NA,     A14,     99,   1,-999.0,      19,  2,19950209,1813, -41.4998,   -8.9993,  3971, 1191.300,    2.788,   34.376,2,   34.373,2,  205.500,2,  204.200,2,   49.200,2,   33.400,2, -999.000,9,    2.260,2,    0.878,2,    0.396,2, -999.000,9, -999.000,9, -999.000,9
           NA,     A14,     99,   1,-999.0,      18,  2,19950209,1813, -41.4998,   -8.9993,  3971, 1395.900,    2.725,   34.493,2,   34.492,2,  189.400,2,  188.500,2,   58.600,2,   33.580,2, -999.000,9,    2.270,2,    0.371,2,    0.167,2, -999.000,9, -999.000,9, -999.000,9
           NA,     A14,     99,   1,-999.0,      17,  2,19950209,1813, -41.4998,   -8.9993,  3971, 1596.300,    2.693,   34.589,2,   34.587,2,  184.400,2,  184.500,2,   63.100,2,   32.830,2, -999.000,9,    2.230,2,    0.182,2,    0.085,2, -999.000,9, -999.000,9, -999.000,9
           NA,     A14,     99,   1,-999.0,      16,  2,19950209,1813, -41.4998,   -8.9993,  3971, 1793.700,    2.682,   34.662,2,   34.659,2,  188.200,2,  188.600,2,   63.900,2,   31.490,2, -999.000,9,    2.130,2,    0.104,2, -999.000,9, -999.000,9, -999.000,9, -999.000,9
           NA,     A14,     99,   1,-999.0,      15,  2,19950209,1813, -41.4998,   -8.9993,  3971, 1995.700,    2.658,   34.724,2,   34.720,2,  195.200,2,  196.300,2,   63.200,2,   29.920,2, -999.000,9,    2.030,2,    0.050,2,    0.035,2, -999.000,9, -999.000,9, -999.000,9
           NA,     A14,     99,   1,-999.0,      14,  2,19950209,1813, -41.4998,   -8.9993,  3971, 2194.500,    2.599,   34.764,2,   34.762,2,  202.500,2,  203.400,2,   62.700,2,   28.690,2, -999.000,9,    1.950,2,    0.027,2,    0.015,2, -999.000,9, -999.000,9, -999.000,9
           NA,     A14,     99,   1,-999.0,      13,  2,19950209,1813, -41.4998,   -8.9993,  3971, 2394.800,    2.521,   34.792,2,   34.788,2,  209.600,2,  210.500,2,   62.200,2,   27.700,2, -999.000,9,    1.880,2,    0.018,2,    0.010,2, -999.000,9, -999.000,9, -999.000,9
           NA,     A14,     99,   1,-999.0,      12,  2,19950209,1813, -41.4998,   -8.9993,  3971, 2594.600,    2.438,   34.807,2,   34.806,2,  214.800,2,  215.000,2,   63.100,2,   27.070,2, -999.000,9,    1.840,2,    0.010,2,    0.010,2, -999.000,9, -999.000,9, -999.000,9
           NA,     A14,     99,   1,-999.0,      11,  2,19950209,1813, -41.4998,   -8.9993,  3971, 2795.500,    2.334,   34.818,2,   34.814,2,  218.100,2,  218.600,2,   64.700,2,   26.720,2, -999.000,9,    1.820,2,    0.007,2,    0.013,2, -999.000,9, -999.000,9, -999.000,9
           NA,     A14,     99,   1,-999.0,      10,  2,19950209,1813, -41.4998,   -8.9993,  3971, 2995.900,    2.228,   34.817,2,   34.816,2,  220.400,2,  220.200,2,   67.700,2,   26.840,2, -999.000,9,    1.820,2,    0.012,2,    0.014,2, -999.000,9, -999.000,9, -999.000,9
           NA,     A14,     99,   1,-999.0,       9,  2,19950209,1813, -41.4998,   -8.9993,  3971, 2996.300,    2.229,   34.818,2,   34.815,2,  220.400,2,  220.200,2,   67.900,2,   26.670,2, -999.000,9,    1.810,2,    0.007,2,    0.009,2, -999.000,9, -999.000,9, -999.000,9
           NA,     A14,     99,   1,-999.0,       8,  2,19950209,1813, -41.4998,   -8.9993,  3971, 3194.300,    2.134,   34.818,2,   34.815,2,  222.300,2,  222.300,2,   70.800,2,   26.670,2, -999.000,9,    1.810,2,    0.007,2,    0.013,2, -999.000,9, -999.000,9, -999.000,9
           NA,     A14,     99,   1,-999.0,       7,  2,19950209,1813, -41.4998,   -8.9993,  3971, 3397.300,    1.926,   34.809,2,   34.807,2,  222.500,2,  223.100,2,   76.600,2,   27.260,2, -999.000,9,    1.850,2,    0.002,2,    0.004,2, -999.000,9, -999.000,9, -999.000,9
           NA,     A14,     99,   1,-999.0,       6,  2,19950209,1813, -41.4998,   -8.9993,  3971, 3596.200,    1.539,   34.783,2,   34.780,2,  220.800,2,  221.600,2,   91.100,2,   28.730,2, -999.000,9,    1.950,2,    0.005,2,    0.009,2, -999.000,9, -999.000,9, -999.000,9
           NA,     A14,     99,   1,-999.0,       5,  2,19950209,1813, -41.4998,   -8.9993,  3971, 3798.700,    1.267,   34.760,2,   34.757,2,  217.700,2,  218.900,2,  102.400,2,   29.900,2, -999.000,9,    2.030,2,    0.009,2,    0.009,2, -999.000,9, -999.000,9, -999.000,9
           NA,     A14,     99,   1,-999.0,       4,  2,19950209,1813, -41.4998,   -8.9993,  3971, 3897.700,    1.177,   34.751,2,   34.749,2,  216.600,2,  218.100,2,  106.300,2,   30.200,2, -999.000,9,    2.060,2,    0.010,2,    0.012,2, -999.000,9, -999.000,9, -999.000,9
           NA,     A14,     99,   1,-999.0,       3,  2,19950209,1813, -41.4998,   -8.9993,  3971, 4011.900,    1.150,   34.747,2,   34.747,2,  216.400,2,  217.100,2,  107.400,2,   30.320,2, -999.000,9,    2.070,2,    0.009,2,    0.008,2, -999.000,9, -999.000,9, -999.000,9
           NA,     A14,     98,   1,-999.0,      32,  2,19950209,1226, -41.0047,   -9.0048,  3767,   47.100,   12.856,   34.730,2, -999.000,3,  274.600,2, -999.000,3,    0.300,2,    4.490,2, -999.000,9,    0.480,2,    3.332,2,    1.623,2, -999.000,9, -999.000,9, -999.000,9
           NA,     A14,     98,   1,-999.0,      31,  2,19950209,1226, -41.0047,   -9.0048,  3767,   47.500,   12.608,   34.701,2, -999.000,3,  274.600,2, -999.000,3,    0.600,2,    5.110,2, -999.000,9,    0.540,2,    3.386,2,    1.637,2, -999.000,9, -999.000,9, -999.000,9
           NA,     A14,     98,   1,-999.0,      30,  2,19950209,1226, -41.0047,   -9.0048,  3767,   96.600,   11.056,   34.847,2,   34.851,2,  267.800,2, -999.000,3,    2.400,2,    9.530,2, -999.000,9,    0.720,2,    3.528,2,    1.704,2, -999.000,9, -999.000,9, -999.000,9
           NA,     A14,     98,   1,-999.0,      29,  2,19950209,1226, -41.0047,   -9.0048,  3767,  137.000,   10.583,   34.818,2,   34.819,2,  259.100,2,  257.600,2,    2.700,2,   10.600,2, -999.000,9,    0.790,2,    3.544,2,    1.710,2, -999.000,9, -999.000,9, -999.000,9
           NA,     A14,     98,   1,-999.0,      28,  2,19950209,1226, -41.0047,   -9.0048,  3767,  195.800,   10.093,   34.767,2,   34.769,2,  258.500,2,  255.900,2,    3.000,2,   12.070,2, -999.000,9,    0.880,2,    3.540,2,    1.683,2, -999.000,9, -999.000,9, -999.000,9
           NA,     A14,     98,   1,-999.0,      27,  2,19950209,1226, -41.0047,   -9.0048,  3767,  197.100,   10.089,   34.766,2,   34.767,2,  258.700,2,  255.800,2,    3.000,2,   12.250,2, -999.000,9,    0.870,2,    3.549,2,    1.718,2, -999.000,9, -999.000,9, -999.000,9
           NA,     A14,     98,   1,-999.0,      26,  2,19950209,1226, -41.0047,   -9.0048,  3767,  288.600,    9.225,   34.665,2,   34.666,2,  251.000,2,  246.800,2,    4.300,6,   15.470,6, -999.000,9,    1.070,6,    3.447,2,    1.651,2, -999.000,9, -999.000,9, -999.000,9
           NA,     A14,     98,   1,-999.0,      25,  2,19950209,1226, -41.0047,   -9.0048,  3767,  395.700,    7.698,   34.509,2,   34.509,2,  231.800,2,  231.200,2,    7.300,2,   21.250,2, -999.000,9,    1.430,2,    3.121,2,    1.419,2, -999.000,9, -999.000,9, -999.000,9
           NA,     A14,     98,   1,-999.0,      24,  2,19950209,1226, -41.0047,   -9.0048,  3767,  495.800,    5.786,   34.327,2,   34.333,2,  236.100,2,  238.000,2,   11.500,2,   25.370,2, -999.000,9,    1.720,2,    2.974,2,    1.320,2, -999.000,9, -999.000,9, -999.000,9
           NA,     A14,     98,   1,-999.0,      23,  2,19950209,1226, -41.0047,   -9.0048,  3767,  595.400,    4.792,   34.262,2,   34.262,2,  245.500,2,  245.700,2,   15.200,2,   27.240,2, -999.000,9,    1.840,2,    2.865,2,    1.261,2, -999.000,9, -999.000,9, -999.000,9
           NA,     A14,     98,   1,-999.0,      22,  2,19950209,1226, -41.0047,   -9.0048,  3767,  696.000,    4.286,   34.239,2,   34.240,2,  247.900,2,  248.300,2,   18.200,2,   28.220,2, -999.000,9,    1.900,2,    2.717,2,    1.188,2, -999.000,9, -999.000,9, -999.000,9
           NA,     A14,     98,   1,-999.0,      21,  2,19950209,1226, -41.0047,   -9.0048,  3767,  794.200,    3.818,   34.238,2,   34.237,2,  243.200,2,  244.700,2,   23.000,2,   29.560,2, -999.000,9,    1.980,2,    2.344,2,    1.021,2, -999.000,9, -999.000,9, -999.000,9
           NA,     A14,     98,   1,-999.0,      20,  2,19950209,1226, -41.0047,   -9.0048,  3767,  889.900,    3.380,   34.257,2,   34.256,2,  235.100,2,  236.400,2,   29.400,2,   31.020,2, -999.000,9,    2.080,2,    1.891,2,    0.844,2, -999.000,9, -999.000,9, -999.000,9
           NA,     A14,     98,   1,-999.0,      19,  2,19950209,1226, -41.0047,   -9.0048,  3767,  996.300,    3.144,   34.282,2,   34.279,2,  224.500,2,  227.700,2,   34.400,2,   31.830,2, -999.000,9,    2.150,2,    1.601,2,    0.706,2, -999.000,9, -999.000,9, -999.000,9
           NA,     A14,     98,   1,-999.0,      18,  2,19950209,1226, -41.0047,   -9.0048,  3767, 1195.700,    2.785,   34.381,2,   34.378,2,  202.400,2,  205.600,2,   48.700,2,   33.520,2, -999.000,9,    2.260,2,    0.892,2,    0.401,2, -999.000,9, -999.000,9, -999.000,9
           NA,     A14,     98,   1,-999.0,      17,  2,19950209,1226, -41.0047,   -9.0048,  3767, 1394.400,    2.699,   34.498,2,   34.496,2,  188.300,2,  187.900,2,   58.500,2,   33.740,2, -999.000,9,    2.290,2,    0.392,2,    0.184,2, -999.000,9, -999.000,9, -999.000,9
           NA,     A14,     98,   1,-999.0,      16,  2,19950209,1226, -41.0047,   -9.0048,  3767, 1594.800,    2.685,   34.599,2,   34.597,2,  183.800,2,  183.400,2,   62.500,2,   32.850,2, -999.000,9,    2.220,2,    0.181,2, -999.000,9, -999.000,9, -999.000,9, -999.000,9
           NA,     A14,     98,   1,-999.0,      15,  2,19950209,1226, -41.0047,   -9.0048,  3767, 1796.100,    2.683,   34.678,2,   34.675,2,  187.200,2,  188.600,2,   63.100,2,   31.310,2, -999.000,9,    2.120,2,    0.089,2,    0.042,2, -999.000,9, -999.000,9, -999.000,9
           NA,     A14,     98,   1,-999.0,      14,  2,19950209,1226, -41.0047,   -9.0048,  3767, 1994.500,    2.639,   34.738,2,   34.735,2,  195.000,2,  197.100,2,   62.500,2,   29.720,2, -999.000,9,    2.010,2,    0.048,2,    0.025,2, -999.000,9, -999.000,9, -999.000,9
           NA,     A14,     98,   1,-999.0,      13,  2,19950209,1226, -41.0047,   -9.0048,  3767, 2197.100,    2.577,   34.774,2,   34.773,2,  202.300,2,  205.400,2,   60.800,2,   28.300,2, -999.000,9,    1.930,2,    0.024,2,    0.012,2, -999.000,9, -999.000,9, -999.000,9
           NA,     A14,     98,   1,-999.0,      12,  2,19950209,1226, -41.0047,   -9.0048,  3767, 2395.100,    2.496,   34.799,2,   34.797,2,  210.500,2,  212.100,2,   61.000,2,   27.360,2, -999.000,9,    1.850,2,    0.016,2,    0.013,2, -999.000,9, -999.000,9, -999.000,9
           NA,     A14,     98,   1,-999.0,      11,  2,19950209,1226, -41.0047,   -9.0048,  3767, 2595.500,    2.412,   34.812,2,   34.810,2,  215.700,2,  216.600,2,   61.300,2,   26.760,2, -999.000,9,    1.830,2,    0.015,2,    0.007,2, -999.000,9, -999.000,9, -999.000,9
           NA,     A14,     98,   1,-999.0,      10,  2,19950209,1226, -41.0047,   -9.0048,  3767, 2795.600,    2.322,   34.819,2,   34.817,2,  218.300,2,  219.700,2,   62.500,2,   26.630,2, -999.000,9,    1.800,2,    0.010,2,    0.010,2, -999.000,9, -999.000,9, -999.000,9
           NA,     A14,     98,   1,-999.0,       9,  2,19950209,1226, -41.0047,   -9.0048,  3767, 2996.300,    2.218,   34.819,2,   34.818,2,  220.300,2,  221.500,2,   66.000,2,   26.740,2, -999.000,9,    1.810,2,    0.013,2,    0.007,2, -999.000,9, -999.000,9, -999.000,9
           NA,     A14,     98,   1,-999.0,       7,  2,19950209,1226, -41.0047,   -9.0048,  3767, 3198.000,    2.065,   34.813,2,   34.812,2,  221.000,2,  221.900,2,   71.100,6,   26.950,6, -999.000,9,    1.840,6,    0.003,2,    0.006,2, -999.000,9, -999.000,9, -999.000,9
           NA,     A14,     98,   1,-999.0,       8,  2,19950209,1226, -41.0047,   -9.0048,  3767, 3198.500,    2.069,   34.815,2,   34.812,2,  220.900,2,  221.400,2,   71.100,6,   27.070,6, -999.000,9,    1.830,6, -999.000,9, -999.000,9, -999.000,9, -999.000,9, -999.000,9
           NA,     A14,     98,   1,-999.0,       6,  2,19950209,1226, -41.0047,   -9.0048,  3767, 3394.000,    1.834,   34.802,2,   34.799,2,  221.600,2,  221.900,2,   78.400,2,   27.700,2, -999.000,9,    1.890,2,    0.007,2,    0.006,2, -999.000,9, -999.000,9, -999.000,9
           NA,     A14,     98,   1,-999.0,       5,  2,19950209,1226, -41.0047,   -9.0048,  3767, 3598.300,    1.517,   34.779,2,   34.777,2,  219.600,2,  220.400,2,   92.100,2,   28.920,2, -999.000,9,    1.980,2,    0.010,2,    0.005,2, -999.000,9, -999.000,9, -999.000,9
           NA,     A14,     98,   1,-999.0,       4,  2,19950209,1226, -41.0047,   -9.0048,  3767, 3746.500,    1.170,   34.752,2,   34.749,2,  217.600,2,  219.200,2,  102.000,2,   30.070,2, -999.000,9,    2.080,2,    0.008,2,    0.005,2, -999.000,9, -999.000,9, -999.000,9
           NA,     A14,     98,   1,-999.0,       3,  2,19950209,1226, -41.0047,   -9.0048,  3767, 3805.700,    1.131,   34.749,2,   34.746,2,  215.400,2,  219.100,2,  104.600,2,   30.300,2, -999.000,9,    2.080,2,    0.010,2,    0.004,2, -999.000,9, -999.000,9, -999.000,9