BOTTLE,20213527JOAExport
EXPOCODE,SECT_ID,STNNBR,CASTNO,SAMPNO,BTLNBR,BTLNBR_FLAG_W,DATE,TIME,LATITUDE,LONGITUDE,DEPTH,CTDPRS,CTDTMP,CTDSAL,CTDSAL_FLAG_W,SALNTY,SALNTY_FLAG_W,CTDOXY,CTDOXY_FLAG_W,OXYGEN,OXYGEN_FLAG_W,SILCAT,SILCAT_FLAG_W,NITRAT,NITRAT_FLAG_W,NITRIT,NITRIT_FLAG_W,PHSPHT,PHSPHT_FLAG_W,CFC-11,CFC-11_FLAG_W,CFC-12,CFC-12_FLAG_W,SF6,SF6_FLAG_W,TCARBN,TCARBN_FLAG_W,ALKALI,ALKALI_FLAG_W
,,,,,,,,,,,,DB,DEG C,PSS-78,,PSS-78,,UMOL/KG,,UMOL/KG,,UMOL/KG,,UMOL/KG,,UMOL/KG,,UMOL/KG,,PMOL/KG,,PMOL/KG,,FMOL/KG,,UMOL/KG,,UMOL/KG
           NA,     A14,      8,   1,-999.0,      32,  2,19950118,1940,   3.0002,   -7.0015,  4661,    2.600,   28.896,   34.585,2, -999.000,3,  200.300,2,  200.100,2,    1.400,2,    0.000,2, -999.000,9,    0.000,2,    1.635,2,    0.977,2, -999.000,9, 1893.400,6, 2267.400,2
           NA,     A14,      8,   1,-999.0,      31,  2,19950118,1940,   3.0002,   -7.0015,  4661,   16.900,   28.748,   34.572,2, -999.000,3,  208.200,2, -999.000,3,    1.230,2,    0.000,2, -999.000,9,    0.000,2,    1.644,2,    0.963,2, -999.000,9, 1899.600,2, -999.000,9
           NA,     A14,      8,   1,-999.0,      30,  2,19950118,1940,   3.0002,   -7.0015,  4661,   31.700,   24.875,   35.876,2, -999.000,3,  223.000,2, -999.000,3,    1.310,2,    0.080,2, -999.000,9,    0.110,2,    1.842,2,    0.926,2, -999.000,9, 2039.600,2, -999.000,9
           NA,     A14,      8,   1,-999.0,      29,  2,19950118,1940,   3.0002,   -7.0015,  4661,   66.300,   16.763,   35.719,2,   35.722,2,  134.900,2,  134.600,2,    4.550,2,   15.090,2, -999.000,9,    1.010,2,    1.608,2,    0.755,2, -999.000,9, 2149.800,2, -999.000,9
           NA,     A14,      8,   1,-999.0,      28,  2,19950118,1940,   3.0002,   -7.0015,  4661,  147.000,   14.434,   35.464,2,   35.465,2,  128.300,2,  130.200,2,    6.640,2,   18.470,2, -999.000,9,    1.210,2,    1.416,2,    0.655,2, -999.000,9, 2161.100,2, -999.000,9
           NA,     A14,      8,   1,-999.0,      27,  2,19950118,1940,   3.0002,   -7.0015,  4661,  296.700,   11.577,   35.129,2,   35.131,2,   60.800,2,   59.500,2,   12.450,2,   30.570,2, -999.000,9,    1.880,2,    0.488,2,    0.233,2, -999.000,9, 2222.700,2, -999.000,9
           NA,     A14,      8,   1,-999.0,      26,  2,19950118,1940,   3.0002,   -7.0015,  4661,  396.400,    8.757,   34.824,2, -999.000,3,   66.000,2,   68.700,2,   17.600,2,   34.740,2, -999.000,9,    2.160,2,    0.183,2,    0.093,2, -999.000,9, 2235.700,2, -999.000,9
           NA,     A14,      8,   1,-999.0,      25,  2,19950118,1940,   3.0002,   -7.0015,  4661,  595.700,    6.107,   34.575,2,   34.582,2,  108.100,2, -999.000,3,   24.540,6,   35.550,2, -999.000,9,    2.310,6,    0.053,2,    0.029,2, -999.000,9, 2226.700,2, -999.000,9
           NA,     A14,      8,   1,-999.0,      24,  2,19950118,1940,   3.0002,   -7.0015,  4661,  796.200,    4.984,   34.561,2,   34.564,2,  128.000,2,  129.200,2,   30.380,2,   35.460,2, -999.000,9,    2.370,2,    0.003,2,    0.002,2, -999.000,9, 2229.900,2, -999.000,9
           NA,     A14,      8,   1,-999.0,      23,  2,19950118,1940,   3.0002,   -7.0015,  4661,  995.900,    4.547,   34.660,2,   34.662,2,  149.400,2,  151.700,2,   30.440,2,   32.950,2, -999.000,9,    2.190,2,    0.002,2,    0.005,2, -999.000,9, 2221.600,2, -999.000,9
           NA,     A14,      8,   1,-999.0,      22,  2,19950118,1940,   3.0002,   -7.0015,  4661, 1195.800,    4.396,   34.812,2,   34.815,2,  174.300,2,  177.100,2,   26.560,2,   28.500,2, -999.000,9,    1.910,2,    0.004,2,    0.008,2, -999.000,9, -999.000,9, -999.000,9
           NA,     A14,      8,   1,-999.0,      21,  2,19950118,1940,   3.0002,   -7.0015,  4661, 1395.700,    4.233,   34.929,2,   34.929,2,  213.500,2,  212.300,2,   21.480,2,   23.690,2, -999.000,9,    1.560,2,    0.008,2,    0.011,2, -999.000,9, -999.000,9, -999.000,9
           NA,     A14,      8,   1,-999.0,      20,  2,19950118,1940,   3.0002,   -7.0015,  4661, 1395.800,    4.234,   34.927,2,   34.929,2,  213.500,2,  212.400,2,   21.550,2,   23.650,2, -999.000,9,    1.550,2,    0.008,2,    0.012,2, -999.000,9, -999.000,9, -999.000,9
           NA,     A14,      8,   1,-999.0,      19,  2,19950118,1940,   3.0002,   -7.0015,  4661, 1545.900,    4.088,   34.960,2,   34.961,2,  231.800,2,  228.600,2,   19.770,2,   22.000,2, -999.000,9,    1.420,2,    0.016,2,    0.018,2, -999.000,9, -999.000,9, -999.000,9
           NA,     A14,      8,   1,-999.0,      18,  2,19950118,1940,   3.0002,   -7.0015,  4661, 1696.000,    3.907,   34.972,2,   34.972,2,  243.400,2,  240.400,2,   18.950,2,   20.940,2, -999.000,9,    1.340,2,    0.026,2,    0.025,2, -999.000,9, -999.000,9, -999.000,9
           NA,     A14,      8,   1,-999.0,      17,  2,19950118,1940,   3.0002,   -7.0015,  4661, 1846.600,    3.719,   34.968,2,   34.970,2,  246.200,2,  244.000,2,   20.060,2,   20.770,2, -999.000,9,    1.330,2,    0.010,2,    0.014,2, -999.000,9, -999.000,9, -999.000,9
           NA,     A14,      8,   1,-999.0,      16,  2,19950118,1940,   3.0002,   -7.0015,  4661, 1996.100,    3.566,   34.966,2,   34.968,2,  249.900,2,  248.500,2,   21.010,2,   20.310,2, -999.000,9,    1.310,2,    0.016,2,    0.010,2, -999.000,9, -999.000,9, -999.000,9
           NA,     A14,      8,   1,-999.0,      15,  2,19950118,1940,   3.0002,   -7.0015,  4661, 2296.000,    3.176,   34.945,2,   34.946,2,  242.800,2,  239.800,2,   28.760,2,   21.360,2, -999.000,9,    1.390,2,    0.005,2,    0.002,2, -999.000,9, -999.000,9, -999.000,9
           NA,     A14,      8,   1,-999.0,      14,  2,19950118,1940,   3.0002,   -7.0015,  4661, 2596.400,    2.879,   34.929,2,   34.930,2,  240.400,2,  243.000,2,   34.900,2,   21.780,2, -999.000,9,    1.430,2,    0.000,2,    0.003,2, -999.000,9, -999.000,9, -999.000,9
           NA,     A14,      8,   1,-999.0,      13,  2,19950118,1940,   3.0002,   -7.0015,  4661, 2797.200,    2.749,   34.921,2,   34.921,2,  238.500,2,  238.300,2,   38.070,2,   22.120,2, -999.000,9,    1.450,2,    0.002,2,    0.000,2, -999.000,9, -999.000,9, -999.000,9
           NA,     A14,      8,   1,-999.0,      12,  2,19950118,1940,   3.0002,   -7.0015,  4661, 2996.700,    2.651,   34.914,2,   34.915,2,  238.800,2,  238.900,2,   39.800,2,   22.160,2, -999.000,9,    1.460,2,    0.002,2, -999.000,9, -999.000,9, -999.000,9, -999.000,9
           NA,     A14,      8,   1,-999.0,      11,  2,19950118,1940,   3.0002,   -7.0015,  4661, 3196.400,    2.561,   34.908,2,   34.908,2,  239.300,2,  239.600,2,   41.710,2,   22.410,2, -999.000,9,    1.460,2,    0.001,2, -999.000,9, -999.000,9, -999.000,9, -999.000,9
           NA,     A14,      8,   1,-999.0,      10,  2,19950118,1940,   3.0002,   -7.0015,  4661, 3396.700,    2.489,   34.903,2,   34.904,2,  241.800,2,  241.500,2,   42.370,2,   22.280,2, -999.000,9,    1.470,2,    0.000,2,    0.006,2, -999.000,9, -999.000,9, -999.000,9
           NA,     A14,      8,   1,-999.0,       9,  2,19950118,1940,   3.0002,   -7.0015,  4661, 3597.400,    2.432,   34.898,2,   34.897,2,  240.600,2,  240.300,2,   44.730,2,   22.450,2, -999.000,9,    1.490,2,    0.000,2, -999.000,9, -999.000,9, -999.000,9, -999.000,9
           NA,     A14,      8,   1,-999.0,       8,  2,19950118,1940,   3.0002,   -7.0015,  4661, 3798.100,    2.382,   34.893,2,   34.892,2,  242.700,2,  242.400,2,   45.550,2,   22.490,2, -999.000,9,    1.470,2,    0.001,2,    0.002,2, -999.000,9, -999.000,9, -999.000,9
           NA,     A14,      8,   1,-999.0,       7,  2,19950118,1940,   3.0002,   -7.0015,  4661, 3997.200,    2.362,   34.890,2,   34.892,2,  243.400,2,  242.800,2,   46.460,2,   22.440,2, -999.000,9,    1.470,2,    0.006,2,    0.006,2, -999.000,9, -999.000,9, -999.000,9
           NA,     A14,      8,   1,-999.0,       6,  2,19950118,1940,   3.0002,   -7.0015,  4661, 4196.700,    2.313,   34.884,2,   34.884,2,  242.300,2,  240.700,2,   49.240,2,   22.780,2, -999.000,9,    1.500,2,    0.001,2,    0.009,2, -999.000,9, -999.000,9, -999.000,9
           NA,     A14,      8,   1,-999.0,       5,  2,19950118,1940,   3.0002,   -7.0015,  4661, 4395.300,    2.248,   34.876,2,   34.876,2,  237.800,2,  237.600,2,   52.790,2,   23.240,2, -999.000,9,    1.540,2,    0.003,2, -999.000,3, -999.000,9, -999.000,9, -999.000,9
           NA,     A14,      8,   1,-999.0,       4,  2,19950118,1940,   3.0002,   -7.0015,  4661, 4657.400,    2.187,   34.867,2,   34.867,2, -999.000,9,  240.100,2,   54.630,2,   23.280,2, -999.000,9,    1.540,2,    0.011,2,    0.010,2, -999.000,9, -999.000,9, -999.000,9
           NA,     A14,      8,   1,-999.0,       3,  2,19950118,1940,   3.0002,   -7.0015,  4661, 4709.600,    2.181,   34.866,2,   34.866,2, -999.000,9,  240.200,2,   55.360,2,   23.320,2, -999.000,9,    1.540,2,    0.010,2,    0.013,2, -999.000,9, -999.000,9, -999.000,9
           NA,     A14,      7,   1,-999.0,      32,  2,19950118,1300,   3.4992,   -6.9995,  4245,    2.800,   29.129,   34.557,2, -999.000,9,  198.800,2,  205.000,2,    1.090,2,    0.040,2, -999.000,9,    0.000,2,    1.634,2,    0.894,2, -999.000,9, 1896.000,6, 2263.300,2
           NA,     A14,      7,   1,-999.0,      31,  2,19950118,1300,   3.4992,   -6.9995,  4245,   46.900,   18.166,   35.796,2, -999.000,3,  174.000,2, -999.000,3,    2.800,2,   10.240,2, -999.000,9,    0.750,2,    1.633,2,    0.774,2, -999.000,9, 2124.800,2, 2350.400,2
           NA,     A14,      7,   1,-999.0,      30,  2,19950118,1300,   3.4992,   -6.9995,  4245,   96.200,   15.886,   35.648,2,   35.650,2,  115.700,2,  115.700,2,    6.070,2,   18.030,2, -999.000,9,    1.200,2,    1.528,2,    0.722,2, -999.000,9, 2164.100,2, 2344.000,2
           NA,     A14,      7,   1,-999.0,      29,  2,19950118,1300,   3.4992,   -6.9995,  4245,  146.000,   14.808,   35.520,2, -999.000,3,  122.200,2,  121.200,2,    6.770,2,   18.530,2, -999.000,9,    1.250,2,    1.430,2,    0.676,2, -999.000,9, 2164.200,2, 2338.100,2
           NA,     A14,      7,   1,-999.0,      28,  2,19950118,1300,   3.4992,   -6.9995,  4245,  196.100,   13.739,   35.375,2,   35.378,2,  118.700,2,  116.300,2,    7.790,2,   20.600,2, -999.000,9,    1.360,2,    1.258,2,    0.581,2, -999.000,9, 2172.200,2, 2328.800,2
           NA,     A14,      7,   1,-999.0,      27,  2,19950118,1300,   3.4992,   -6.9995,  4245,  293.800,   11.802,   35.150,2, -999.000,3,   54.000,2,   54.900,2,   12.380,2,   30.170,2, -999.000,9,    1.880,2,    0.501,2,    0.249,2, -999.000,9, 2224.700,2, 2315.700,2
           NA,     A14,      7,   1,-999.0,      26,  2,19950118,1300,   3.4992,   -6.9995,  4245,  396.700,    8.917,   34.835,2,   34.839,2,   66.300,2,   66.500,2,   17.060,2,   34.280,2, -999.000,9,    2.130,2,    0.199,2,    0.095,2, -999.000,9, 2235.600,2, 2303.000,2
           NA,     A14,      7,   1,-999.0,      25,  2,19950118,1300,   3.4992,   -6.9995,  4245,  595.400,    6.306,   34.599,2,   34.605,2,  102.200,2,  103.100,2,   24.860,2,   35.940,2, -999.000,9,    2.360,2,    0.058,2,    0.031,2, -999.000,9, 2231.600,2, 2301.300,2
           NA,     A14,      7,   1,-999.0,      24,  2,19950118,1300,   3.4992,   -6.9995,  4245,  795.800,    5.004,   34.550,2,   34.555,2,  131.300,2,  132.600,2,   30.010,2,   35.110,2, -999.000,9,    2.340,2,    0.024,2,    0.011,2, -999.000,9, -999.000,9, 2308.700,2
           NA,     A14,      7,   1,-999.0,      23,  2,19950118,1300,   3.4992,   -6.9995,  4245,  995.700,    4.610,   34.648,2,   34.653,2,  148.200,2,  147.600,2,   30.410,2,   33.060,2, -999.000,9,    2.200,2,    0.020,2,    0.020,2, -999.000,9, 2222.900,2, 2312.600,2
           NA,     A14,      7,   1,-999.0,      22,  2,19950118,1300,   3.4992,   -6.9995,  4245, 1185.300,    4.455,   34.798,2,   34.805,2,  175.500,2,  174.600,2,   26.670,2,   28.840,2, -999.000,9,    1.900,2,    0.021,2,    0.017,2, -999.000,9, 2206.200,2, 2318.100,2
           NA,     A14,      7,   1,-999.0,      21,  2,19950118,1300,   3.4992,   -6.9995,  4245, 1394.200,    4.201,   34.910,2,   34.913,2,  205.800,2,  205.900,2,   22.700,2,   24.390,2, -999.000,9,    1.610,2,    0.016,2,    0.019,2, -999.000,9, 2189.200,2, 2320.300,2
           NA,     A14,      7,   1,-999.0,      19,  2,19950118,1300,   3.4992,   -6.9995,  4245, 1545.000,    4.036,   34.945,2,   34.949,2,  221.900,2,  221.300,2,   21.460,2,   22.750,2, -999.000,9,    1.480,2,    0.018,2,    0.015,2, -999.000,9, 2180.700,2, 2321.100,2
           NA,     A14,      7,   1,-999.0,      20,  2,19950118,1300,   3.4992,   -6.9995,  4245, 1545.300,    4.038,   34.945,2,   34.948,2,  221.900,2,  221.300,2,   21.140,2,   22.750,2, -999.000,9,    1.490,2,    0.016,2,    0.012,2, -999.000,9, -999.000,9, 2322.100,2
           NA,     A14,      7,   1,-999.0,      18,  2,19950118,1300,   3.4992,   -6.9995,  4245, 1694.700,    3.905,   34.964,2,   34.966,2,  235.500,2,  235.300,2,   19.980,2,   21.400,2, -999.000,9,    1.370,2,    0.014,2,    0.015,2, -999.000,9, 2170.300,2, 2321.400,2
           NA,     A14,      7,   1,-999.0,      17,  2,19950118,1300,   3.4992,   -6.9995,  4245, 1845.900,    3.697,   34.961,2,   34.963,2,  245.100,2, -999.000,3,   21.780,2,   21.400,2, -999.000,9,    1.380,2,    0.009,2,    0.011,2, -999.000,9, 2172.800,2, 2322.500,2
           NA,     A14,      7,   1,-999.0,      16,  2,19950118,1300,   3.4992,   -6.9995,  4245, 1995.600,    3.520,   34.955,2,   34.959,2,  240.900,2,  238.200,2,   24.910,2,   21.400,2, -999.000,9,    1.390,2,    0.006,2,    0.012,2, -999.000,9, 2175.300,2, 2326.600,2
           NA,     A14,      7,   1,-999.0,      15,  2,19950118,1300,   3.4992,   -6.9995,  4245, 2296.100,    3.162,   34.944,2,   34.946,2,  242.700,2,  240.800,2,   29.520,2,   21.520,2, -999.000,9,    1.400,2,    0.009,2,    0.007,2, -999.000,9, 2179.100,2, 2330.600,2
           NA,     A14,      7,   1,-999.0,      14,  2,19950118,1300,   3.4992,   -6.9995,  4245, 2597.100,    2.868,   34.927,2,   34.930,2,  242.500,2,  241.000,2,   34.610,2,   21.900,2, -999.000,9,    1.430,2,    0.012,2,    0.016,2, -999.000,9, 2185.000,2, 2338.100,2
           NA,     A14,      7,   1,-999.0,      13,  2,19950118,1300,   3.4992,   -6.9995,  4245, 2796.500,    2.761,   34.922,2,   34.924,2,  239.400,2,  238.700,2,   37.740,2,   22.110,2, -999.000,9,    1.430,2,    0.002,2, -999.000,9, -999.000,9, 2189.900,2, 2343.000,2
           NA,     A14,      7,   1,-999.0,      12,  2,19950118,1300,   3.4992,   -6.9995,  4245, 2995.100,    2.669,   34.915,2,   34.918,2,  238.900,2,  238.700,2,   39.320,2,   22.370,2, -999.000,9,    1.450,2,    0.004,2, -999.000,9, -999.000,9, 2193.500,2, 2347.400,2
           NA,     A14,      7,   1,-999.0,      10,  2,19950118,1300,   3.4992,   -6.9995,  4245, 3195.700,    2.577,   34.910,2,   34.912,2,  238.000,2,  238.000,2,   41.620,2,   22.450,2, -999.000,9,    1.470,2, -999.000,9, -999.000,9, -999.000,9, 2195.500,2, 2347.300,2
           NA,     A14,      7,   1,-999.0,      11,  2,19950118,1300,   3.4992,   -6.9995,  4245, 3196.300,    2.577,   34.909,2,   34.911,2,  238.000,2,  238.000,2,   41.690,2,   22.490,2, -999.000,9,    1.470,2,    0.001,2, -999.000,9, -999.000,9, -999.000,9, 2347.300,2
           NA,     A14,      7,   1,-999.0,       9,  2,19950118,1300,   3.4992,   -6.9995,  4245, 3395.400,    2.505,   34.903,2,   34.905,2,  238.900,2,  239.900,2,   42.800,2,   22.490,2, -999.000,9,    1.470,2,    0.007,2, -999.000,9, -999.000,9, 2196.100,2, 2352.900,2
           NA,     A14,      7,   1,-999.0,       8,  2,19950118,1300,   3.4992,   -6.9995,  4245, 3596.300,    2.457,   34.900,2,   34.899,2,  239.200,2,  239.700,2,   44.410,2,   22.620,2, -999.000,9,    1.480,2,   -0.002,2, -999.000,9, -999.000,9, 2198.300,2, 2351.200,2
           NA,     A14,      7,   1,-999.0,       7,  2,19950118,1300,   3.4992,   -6.9995,  4245, 3796.700,    2.415,   34.895,2,   34.897,2,  241.200,2,  241.700,2,   44.590,2,   22.580,2, -999.000,9,    1.470,2,    0.015,2, -999.000,9, -999.000,9, 2196.300,2, 2348.900,2
           NA,     A14,      7,   1,-999.0,       6,  2,19950118,1300,   3.4992,   -6.9995,  4245, 3896.800,    2.385,   34.892,2,   34.894,2,  242.200,2,  243.100,2,   45.600,2,   22.870,2, -999.000,9,    1.450,2,    0.002,2, -999.000,9, -999.000,9, 2196.100,2, 2349.300,2
           NA,     A14,      7,   1,-999.0,       5,  2,19950118,1300,   3.4992,   -6.9995,  4245, 3996.600,    2.339,   34.889,2,   34.890,2,  240.200,2,  238.800,2,   48.760,6,   22.790,2, -999.000,9,    1.490,6,    0.003,2,    0.001,2, -999.000,9, 2202.500,2, 2354.200,2
           NA,     A14,      7,   1,-999.0,       4,  2,19950118,1300,   3.4992,   -6.9995,  4245, 4117.400,    2.311,   34.885,2,   34.886,2,  239.900,2,  240.500,2,   48.900,6,   22.750,2, -999.000,9,    1.480,6,    0.008,2,    0.000,2, -999.000,9, 2202.200,2, 2353.500,2
           NA,     A14,      7,   1,-999.0,       3,  2,19950118,1300,   3.4992,   -6.9995,  4245, 4253.900,    2.281,   34.880,2,   34.881,2,  236.700,2,  238.000,2,   51.420,6,   23.000,2, -999.000,9,    1.510,2,    0.006,2,    0.000,2, -999.000,9, 2207.300,6, 2357.900,6