BOTTLE,20213527JOAExport
EXPOCODE,SECT_ID,STNNBR,CASTNO,SAMPNO,BTLNBR,BTLNBR_FLAG_W,DATE,TIME,LATITUDE,LONGITUDE,DEPTH,CTDPRS,CTDTMP,CTDSAL,CTDSAL_FLAG_W,SALNTY,SALNTY_FLAG_W,CTDOXY,CTDOXY_FLAG_W,OXYGEN,OXYGEN_FLAG_W,SILCAT,SILCAT_FLAG_W,NITRAT,NITRAT_FLAG_W,NITRIT,NITRIT_FLAG_W,PHSPHT,PHSPHT_FLAG_W,CFC-11,CFC-11_FLAG_W,CFC-12,CFC-12_FLAG_W,SF6,SF6_FLAG_W,TCARBN,TCARBN_FLAG_W,ALKALI,ALKALI_FLAG_W
,,,,,,,,,,,,DB,DEG C,PSS-78,,PSS-78,,UMOL/KG,,UMOL/KG,,UMOL/KG,,UMOL/KG,,UMOL/KG,,UMOL/KG,,PMOL/KG,,PMOL/KG,,FMOL/KG,,UMOL/KG,,UMOL/KG
           NA,     A14,     44,   1,-999.0,      32,  2,19950127,0844, -14.0015,   -9.0012,  3910,    2.600,   24.287,   36.786,2,   36.784,2,  205.800,2,  210.800,2,    1.070,2,    0.000,2, -999.000,9,    0.170,2,    1.916,2,    1.002,2, -999.000,9, -999.000,9, 2418.200,2
           NA,     A14,     44,   1,-999.0,      31,  2,19950127,0844, -14.0015,   -9.0012,  3910,   48.200,   23.517,   36.749,2, -999.000,3,  220.800,2, -999.000,3,    0.780,2,    0.000,2, -999.000,9,    0.150,2,    1.996,2,    1.021,2, -999.000,9, -999.000,9, -999.000,9
           NA,     A14,     44,   1,-999.0,      30,  2,19950127,0844, -14.0015,   -9.0012,  3910,   97.600,   19.916,   36.328,2,   36.327,2,  203.400,2, -999.000,3,    0.930,2,    0.580,2, -999.000,9,    0.280,2,    2.274,2,    1.142,2, -999.000,9, -999.000,9, -999.000,9
           NA,     A14,     44,   1,-999.0,      29,  2,19950127,0844, -14.0015,   -9.0012,  3910,  146.100,   15.264,   35.527,2, -999.000,3,  174.000,2,  176.900,2,    3.290,2,   10.840,2, -999.000,9,    0.770,2,    2.336,2,    1.129,2, -999.000,9, -999.000,9, -999.000,9
           NA,     A14,     44,   1,-999.0,      28,  2,19950127,0844, -14.0015,   -9.0012,  3910,  197.800,   12.494,   35.170,2,   35.166,2,  103.400,2, -999.000,3,    8.310,2,   24.240,2, -999.000,9,    1.560,2,    1.330,2,    0.620,2, -999.000,9, -999.000,9, -999.000,9
           NA,     A14,     44,   1,-999.0,      27,  2,19950127,0844, -14.0015,   -9.0012,  3910,  296.000,   10.262,   34.946,2,   34.946,2,   60.800,2,   63.300,2,   13.400,2,   31.840,2, -999.000,9,    2.020,2,    0.418,2,    0.221,2, -999.000,9, -999.000,9, -999.000,9
           NA,     A14,     44,   1,-999.0,      26,  2,19950127,0844, -14.0015,   -9.0012,  3910,  296.300,   10.239,   34.945,2,   34.940,2,   60.800,2,   64.000,2,   13.680,2,   31.900,2, -999.000,9,    2.030,2,    0.393,2,    0.207,2, -999.000,9, -999.000,9, -999.000,9
           NA,     A14,     44,   1,-999.0,      25,  2,19950127,0844, -14.0015,   -9.0012,  3910,  396.300,    7.710,   34.677,2, -999.000,3,   80.500,2, -999.000,3,   17.980,2,   33.430,2, -999.000,9,    2.140,2,    0.156,2,    0.087,2, -999.000,9, -999.000,9, -999.000,9
           NA,     A14,     44,   1,-999.0,      24,  2,19950127,0844, -14.0015,   -9.0012,  3910,  497.200,    6.558,   34.582,2,   34.584,2,  121.500,2, -999.000,3,   21.910,2,   35.130,2, -999.000,9,    2.270,2,    0.075,2,    0.045,2, -999.000,9, -999.000,9, -999.000,9
           NA,     A14,     44,   1,-999.0,      23,  2,19950127,0844, -14.0015,   -9.0012,  3910,  596.300,    5.716,   34.510,2,   34.517,2,  116.100,2, -999.000,3,   24.700,2,   34.790,2, -999.000,9,    2.280,2,    0.070,2,    0.043,2, -999.000,9, -999.000,9, -999.000,9
           NA,     A14,     44,   1,-999.0,      22,  2,19950127,0844, -14.0015,   -9.0012,  3910,  696.200,    5.119,   34.478,2,   34.485,2,  138.200,2,  138.700,2,   28.060,2,   35.020,2, -999.000,9,    2.320,2,    0.065,2, -999.000,9, -999.000,9, -999.000,9, -999.000,9
           NA,     A14,     44,   1,-999.0,      21,  2,19950127,0844, -14.0015,   -9.0012,  3910,  795.200,    4.550,   34.467,2,   34.470,2,  152.900,2,  153.700,2,   31.420,2,   34.460,2, -999.000,9,    2.300,2,    0.029,2,    0.018,2, -999.000,9, -999.000,9, -999.000,9
           NA,     A14,     44,   1,-999.0,      20,  2,19950127,0844, -14.0015,   -9.0012,  3910,  995.800,    4.054,   34.549,2,   34.552,2,  157.800,2,  158.900,2,   35.140,2,   33.840,2, -999.000,9,    2.260,2,    0.004,2, -999.000,9, -999.000,9, -999.000,9, -999.000,9
           NA,     A14,     44,   1,-999.0,      19,  2,19950127,0844, -14.0015,   -9.0012,  3910, 1195.300,    3.866,   34.700,2,   34.700,2,  176.700,2,  176.000,2,   33.410,2,   30.500,2, -999.000,9,    2.040,2,    0.000,2,   -0.002,2, -999.000,9, -999.000,9, -999.000,9
           NA,     A14,     44,   1,-999.0,      18,  2,19950127,0844, -14.0015,   -9.0012,  3910, 1397.600,    3.786,   34.825,2,   34.825,2,  199.400,2,  198.300,2,   29.110,2,   26.490,2, -999.000,9,    1.780,2,    0.003,2,    0.004,2, -999.000,9, -999.000,9, -999.000,9
           NA,     A14,     44,   1,-999.0,      17,  2,19950127,0844, -14.0015,   -9.0012,  3910, 1595.500,    3.668,   34.880,2,   34.880,2,  215.300,2,  213.000,2,   28.030,6,   24.500,6, -999.000,9,    1.620,6,    0.002,2,   -0.003,2, -999.000,9, -999.000,9, -999.000,9
           NA,     A14,     44,   1,-999.0,      16,  2,19950127,0844, -14.0015,   -9.0012,  3910, 1798.200,    3.487,   34.911,2,   34.911,2,  226.900,2,  225.100,2, -999.000,9,   23.230,2, -999.000,9,    1.530,2, -999.000,9, -999.000,9, -999.000,9, -999.000,9, -999.000,9
           NA,     A14,     44,   1,-999.0,      15,  2,19950127,0844, -14.0015,   -9.0012,  3910, 1998.900,    3.311,   34.919,2,   34.918,2,  235.100,2,  233.400,2,   29.660,2,   22.510,6, -999.000,9,    1.470,6,    0.003,2, -999.000,9, -999.000,9, -999.000,9, -999.000,9
           NA,     A14,     44,   1,-999.0,      14,  2,19950127,0844, -14.0015,   -9.0012,  3910, 2195.300,    3.058,   34.911,2,   34.912,2,  240.000,2,  238.100,2,   33.360,2,   22.430,6, -999.000,9,    1.460,6,    0.000,2,    0.002,2, -999.000,9, -999.000,9, -999.000,9
           NA,     A14,     44,   1,-999.0,      13,  2,19950127,0844, -14.0015,   -9.0012,  3910, 2197.000,    3.056,   34.912,2,   34.911,2,  240.100,2,  238.000,2,   33.230,2,   22.370,2, -999.000,9,    1.460,2,    0.003,2,    0.001,2, -999.000,9, -999.000,9, -999.000,9
           NA,     A14,     44,   1,-999.0,      12,  2,19950127,0844, -14.0015,   -9.0012,  3910, 2395.300,    2.797,   34.903,2,   34.904,2,  241.500,2,  240.800,2,   36.220,2,   22.460,2, -999.000,9,    1.480,2,    0.001,2,   -0.001,2, -999.000,9, -999.000,9, -999.000,9
           NA,     A14,     44,   1,-999.0,      11,  2,19950127,0844, -14.0015,   -9.0012,  3910, 2596.000,    2.638,   34.898,2,   34.897,2,  241.800,2,  240.600,2,   41.140,2,   22.680,2, -999.000,9,    1.490,2,    0.001,2, -999.000,9, -999.000,9, -999.000,9, -999.000,9
           NA,     A14,     44,   1,-999.0,      10,  2,19950127,0844, -14.0015,   -9.0012,  3910, 2795.500,    2.521,   34.891,2,   34.894,2,  240.700,2,  240.600,2,   44.270,2,   22.770,2, -999.000,9,    1.500,2,    0.003,2, -999.000,9, -999.000,9, -999.000,9, -999.000,9
           NA,     A14,     44,   1,-999.0,       9,  2,19950127,0844, -14.0015,   -9.0012,  3910, 2996.600,    2.468,   34.891,2,   34.890,2,  240.000,2,  239.200,2,   46.250,2,   22.900,2, -999.000,9,    1.510,2,    0.002,2, -999.000,9, -999.000,9, -999.000,9, -999.000,9
           NA,     A14,     44,   1,-999.0,       8,  2,19950127,0844, -14.0015,   -9.0012,  3910, 3197.900,    2.452,   34.890,2,   34.889,2,  238.600,2,  238.900,2,   46.630,2,   22.980,2, -999.000,9,    1.520,2,    0.000,2,    0.001,2, -999.000,9, -999.000,9, -999.000,9
           NA,     A14,     44,   1,-999.0,       7,  2,19950127,0844, -14.0015,   -9.0012,  3910, 3399.100,    2.438,   34.890,2,   34.893,2,  237.500,2,  237.600,2,   47.300,2,   23.070,2, -999.000,9,    1.520,2, -999.000,9, -999.000,9, -999.000,9, -999.000,9, -999.000,9
           NA,     A14,     44,   1,-999.0,       6,  2,19950127,0844, -14.0015,   -9.0012,  3910, 3596.100,    2.438,   34.890,2,   34.889,2,  237.800,2,  237.700,2,   48.020,6,   23.130,2, -999.000,9,    1.520,6,    0.001,2,    0.004,2, -999.000,9, -999.000,9, -999.000,9
           NA,     A14,     44,   1,-999.0,       5,  2,19950127,0844, -14.0015,   -9.0012,  3910, 3796.000,    2.438,   34.890,2,   34.889,2,  237.500,2,  237.300,2,   48.660,2,   23.250,2, -999.000,9,    1.520,2,    0.001,2,    0.003,2, -999.000,9, -999.000,9, -999.000,9
           NA,     A14,     44,   1,-999.0,       4,  2,19950127,0844, -14.0015,   -9.0012,  3910, 3846.400,    2.437,   34.889,2,   34.889,2,  237.600,2,  237.100,2,   48.650,2,   23.120,2, -999.000,9,    1.520,2,    0.000,2, -999.000,9, -999.000,9, -999.000,9, -999.000,9
           NA,     A14,     44,   1,-999.0,       3,  2,19950127,0844, -14.0015,   -9.0012,  3910, 3945.100,    2.435,   34.890,2,   34.890,2,  235.900,2,  237.500,2,   48.950,2,   23.120,2, -999.000,9,    1.520,2,    0.000,2,    0.003,2, -999.000,9, -999.000,9, -999.000,9
           NA,     A14,     43,   1,-999.0,      32,  2,19950127,0314, -13.4985,   -8.9962,  3934,    3.500,   24.357,   36.699,2,   36.696,2,  206.500,2,  210.100,2,    0.840,2,    0.020,2, -999.000,9,    0.180,2,    1.884,2,    0.999,2, -999.000,9, 2069.300,6, 2412.800,6
           NA,     A14,     43,   1,-999.0,      31,  2,19950127,0314, -13.4985,   -8.9962,  3934,   26.900,   24.256,   36.710,2,   36.712,2,  207.600,2,  211.000,2,    0.770,2,    0.020,2, -999.000,9,    0.170,2,    1.914,2,    1.014,2, -999.000,9, 2070.700,2, 2414.600,2
           NA,     A14,     43,   1,-999.0,      30,  2,19950127,0314, -13.4985,   -8.9962,  3934,   96.700,   20.023,   36.361,2, -999.000,3,  203.000,2, -999.000,3,    0.920,2,    0.880,2, -999.000,9,    0.290,2,    2.244,2,    1.126,2, -999.000,9, 2086.800,2, 2392.700,2
           NA,     A14,     43,   1,-999.0,      29,  2,19950127,0314, -13.4985,   -8.9962,  3934,  136.600,   15.968,   35.728,2, -999.000,3,  148.800,2,  152.800,2,    3.780,2,   14.160,2, -999.000,9,    0.960,2,    2.111,2,    1.018,2, -999.000,9, 2177.200,2, 2345.500,2
           NA,     A14,     43,   1,-999.0,      28,  2,19950127,0314, -13.4985,   -8.9962,  3934,  194.100,   12.383,   35.151,2, -999.000,3,  109.500,2, -999.000,3,    7.800,2,   23.300,2, -999.000,9,    1.500,2,    1.436,2,    0.684,2, -999.000,9, 2188.200,2, -999.000,9
           NA,     A14,     43,   1,-999.0,      27,  2,19950127,0314, -13.4985,   -8.9962,  3934,  296.500,    9.974,   34.921,2,   34.921,2,   64.000,2,   65.300,2,   13.880,2,   32.390,2, -999.000,9,    2.020,2,    0.334,2,    0.174,2, -999.000,9, 2230.700,2, 2305.200,2
           NA,     A14,     43,   1,-999.0,      26,  2,19950127,0314, -13.4985,   -8.9962,  3934,  394.000,    8.156,   34.724,2,   34.724,2,   90.800,2,   94.200,2,   17.160,2,   33.230,2, -999.000,9,    2.100,2,    0.168,2,    0.093,2, -999.000,9, -999.000,9, 2299.700,2
           NA,     A14,     43,   1,-999.0,      25,  2,19950127,0314, -13.4985,   -8.9962,  3934,  395.700,    8.124,   34.721,2,   34.726,2,   91.500,2,   94.600,2,   17.200,6,   33.090,2, -999.000,9,    2.110,6,    0.170,2,    0.088,2, -999.000,9, -999.000,9, 2299.800,2
           NA,     A14,     43,   1,-999.0,      24,  2,19950127,0314, -13.4985,   -8.9962,  3934,  497.700,    6.774,   34.598,2,   34.602,2,  101.700,2,  105.500,2,   21.230,2,   34.750,2, -999.000,9,    2.250,2,    0.080,2,    0.048,2, -999.000,9, 2226.700,2, 2297.700,2
           NA,     A14,     43,   1,-999.0,      23,  2,19950127,0314, -13.4985,   -8.9962,  3934,  595.200,    5.728,   34.508,2,   34.511,2,  135.300,2,  133.200,2,   24.400,6,   34.420,6, -999.000,9,    2.250,6,    0.077,2,    0.053,2, -999.000,9, 2219.900,2, 2298.600,2
           NA,     A14,     43,   1,-999.0,      22,  2,19950127,0314, -13.4985,   -8.9962,  3934,  694.800,    4.964,   34.467,2,   34.473,2,  147.900,2,  147.300,2,   28.430,6,   34.410,6, -999.000,9,    2.290,6,    0.081,2, -999.000,9, -999.000,9, 2217.900,2, 2301.200,2
           NA,     A14,     43,   1,-999.0,      21,  2,19950127,0314, -13.4985,   -8.9962,  3934,  795.100,    4.444,   34.474,2,   34.475,2,  154.000,2,  154.000,2,   32.850,2,   34.560,2, -999.000,9,    2.310,2,    0.020,2,    0.011,2, -999.000,9, 2222.600,2, 2306.600,2
           NA,     A14,     43,   1,-999.0,      20,  2,19950127,0314, -13.4985,   -8.9962,  3934,  995.100,    4.011,   34.579,2,   34.580,2,  159.300,2,  159.900,2,   35.450,2,   33.310,2, -999.000,9,    2.240,2,    0.000,2, -999.000,9, -999.000,9, 2225.000,2, 2312.500,2
           NA,     A14,     43,   1,-999.0,      19,  2,19950127,0314, -13.4985,   -8.9962,  3934, 1195.800,    3.855,   34.731,2,   34.730,2,  175.000,2, -999.000,3,   32.660,2,   29.670,2, -999.000,9,    2.010,2,    0.003,2,   -0.001,2, -999.000,9, 2213.300,2, 2318.500,2
           NA,     A14,     43,   1,-999.0,      18,  2,19950127,0314, -13.4985,   -8.9962,  3934, 1396.700,    3.794,   34.834,2, -999.000,4,  199.900,2, -999.000,3,   28.860,2,   26.260,2, -999.000,9,    1.760,2,    0.002,2, -999.000,9, -999.000,9, 2197.400,2, 2321.000,2
           NA,     A14,     43,   1,-999.0,      17,  2,19950127,0314, -13.4985,   -8.9962,  3934, 1594.500,    3.691,   34.895,2,   34.896,2,  216.000,2,  217.800,2,   26.510,2,   23.950,2, -999.000,9,    1.590,2,    0.000,2, -999.000,9, -999.000,9, 2189.400,2, 2323.900,2
           NA,     A14,     43,   1,-999.0,      16,  2,19950127,0314, -13.4985,   -8.9962,  3934, 1796.000,    3.478,   34.915,2,   34.910,2,  228.000,2,  228.600,2,   27.220,2,   23.000,2, -999.000,9,    1.520,2,    0.000,2, -999.000,9, -999.000,9, 2184.900,2, 2327.000,2
           NA,     A14,     43,   1,-999.0,      15,  2,19950127,0314, -13.4985,   -8.9962,  3934, 1996.700,    3.277,   34.924,2,   34.924,2,  236.800,2,  235.700,2,   29.090,2,   22.310,2, -999.000,9,    1.470,2,    0.001,2, -999.000,9, -999.000,9, 2182.400,2, 2329.300,2
           NA,     A14,     43,   1,-999.0,      14,  2,19950127,0314, -13.4985,   -8.9962,  3934, 2195.500,    3.038,   34.916,2,   34.916,2,  239.500,2,  238.100,2,   32.700,2,   22.390,2, -999.000,9,    1.470,2,    0.000,2, -999.000,9, -999.000,9, 2185.300,2, 2333.000,2
           NA,     A14,     43,   1,-999.0,      12,  2,19950127,0314, -13.4985,   -8.9962,  3934, 2394.500,    2.853,   34.909,2,   34.908,2,  241.000,2,  239.200,2,   36.200,2,   22.470,2, -999.000,9,    1.480,2,    0.000,2,   -0.001,2, -999.000,9, 2188.000,2, 2336.900,2
           NA,     A14,     43,   1,-999.0,      13,  2,19950127,0314, -13.4985,   -8.9962,  3934, 2395.200,    2.853,   34.909,2,   34.908,2,  241.000,2,  239.300,2,   36.450,2,   22.470,2, -999.000,9,    1.480,2,    0.002,2,   -0.003,2, -999.000,9, -999.000,9, 2337.100,2
           NA,     A14,     43,   1,-999.0,      11,  2,19950127,0314, -13.4985,   -8.9962,  3934, 2595.600,    2.728,   34.903,2,   34.904,2,  239.800,2,  238.900,2,   38.860,2,   22.640,2, -999.000,9,    1.490,2,    0.000,2,   -0.005,2, -999.000,9, 2190.100,2, 2341.200,2
           NA,     A14,     43,   1,-999.0,      10,  2,19950127,0314, -13.4985,   -8.9962,  3934, 2786.600,    2.574,   34.897,2,   34.898,2,  240.000,2,  238.300,2,   42.380,2,   22.850,2, -999.000,9,    1.510,2,    0.000,2,    0.006,2, -999.000,9, 2195.200,2, 2343.600,2
           NA,     A14,     43,   1,-999.0,       9,  2,19950127,0314, -13.4985,   -8.9962,  3934, 2997.700,    2.471,   34.892,2,   34.892,2,  238.800,2,  237.900,2,   45.380,2,   23.060,2, -999.000,9,    1.530,2,   -0.002,2, -999.000,9, -999.000,9, 2199.400,2, 2349.300,2
           NA,     A14,     43,   1,-999.0,       8,  2,19950127,0314, -13.4985,   -8.9962,  3934, 3196.800,    2.437,   34.891,2,   34.893,2,  237.600,2,  237.200,2,   46.350,2,   23.020,2, -999.000,9,    1.530,2,   -0.001,2,   -0.001,2, -999.000,9, 2200.400,2, 2349.300,2
           NA,     A14,     43,   1,-999.0,       7,  2,19950127,0314, -13.4985,   -8.9962,  3934, 3396.700,    2.426,   34.891,2,   34.897,2,  237.600,2,  236.700,2,   46.470,2,   23.060,2, -999.000,9,    1.530,2,    0.006,2,    0.007,2, -999.000,9, 2200.900,2, 2349.400,2
           NA,     A14,     43,   1,-999.0,       6,  2,19950127,0314, -13.4985,   -8.9962,  3934, 3595.400,    2.419,   34.891,2,   34.887,2,  238.400,2,  237.400,2,   47.330,6,   23.060,6, -999.000,9,    1.530,6,    0.005,2,    0.003,2, -999.000,9, -999.000,9, 2351.000,2
           NA,     A14,     43,   1,-999.0,       5,  2,19950127,0314, -13.4985,   -8.9962,  3934, 3796.400,    2.413,   34.891,2,   34.888,2,  238.800,2,  237.600,2,   47.800,2,   23.010,2, -999.000,9,    1.540,2,    0.001,2,   -0.001,2, -999.000,9, 2203.200,2, 2353.000,2
           NA,     A14,     43,   1,-999.0,       4,  2,19950127,0314, -13.4985,   -8.9962,  3934, 3896.300,    2.415,   34.889,2,   34.888,2,  238.800,2,  237.800,2,   48.000,2,   23.050,2, -999.000,9,    1.540,2,    0.002,2,   -0.001,2, -999.000,9, 2202.700,2, 2353.800,2
           NA,     A14,     43,   1,-999.0,       3,  2,19950127,0314, -13.4985,   -8.9962,  3934, 3968.000,    2.420,   34.889,2,   34.889,2,  238.500,2,  237.600,2,   48.200,2,   22.960,2, -999.000,9,    1.510,2,    0.001,2,    0.001,2, -999.000,9, 2203.000,6, 2354.000,6