BOTTLE,20213527JOAExport
EXPOCODE,SECT_ID,STNNBR,CASTNO,SAMPNO,BTLNBR,BTLNBR_FLAG_W,DATE,TIME,LATITUDE,LONGITUDE,DEPTH,CTDPRS,CTDTMP,CTDSAL,CTDSAL_FLAG_W,SALNTY,SALNTY_FLAG_W,CTDOXY,CTDOXY_FLAG_W,OXYGEN,OXYGEN_FLAG_W,SILCAT,SILCAT_FLAG_W,NITRAT,NITRAT_FLAG_W,NITRIT,NITRIT_FLAG_W,PHSPHT,PHSPHT_FLAG_W,CFC-11,CFC-11_FLAG_W,CFC-12,CFC-12_FLAG_W,SF6,SF6_FLAG_W,TCARBN,TCARBN_FLAG_W,ALKALI,ALKALI_FLAG_W
,,,,,,,,,,,,DB,DEG C,PSS-78,,PSS-78,,UMOL/KG,,UMOL/KG,,UMOL/KG,,UMOL/KG,,UMOL/KG,,UMOL/KG,,PMOL/KG,,PMOL/KG,,FMOL/KG,,UMOL/KG,,UMOL/KG
           NA,     A14,     91,   1,-999.0,      32,  2,19950207,1342, -37.5030,   -9.0030,  3192,    3.900,   16.883,   34.908,2,   34.911,2,  248.900,2,  252.000,2,    0.400,2,    0.240,2, -999.000,9,    0.120,2,    2.875,2,    1.387,2, -999.000,9, 2033.800,6, 2312.300,2
           NA,     A14,     91,   1,-999.0,      31,  2,19950207,1342, -37.5030,   -9.0030,  3192,   26.700,   16.250,   34.915,2,   34.917,2,  246.300,2, -999.000,3,    0.600,2,    0.510,2, -999.000,9,    0.240,2,    2.954,2,    1.416,2, -999.000,9, 2040.200,2, 2312.300,2
           NA,     A14,     91,   1,-999.0,      30,  2,19950207,1342, -37.5030,   -9.0030,  3192,   96.400,   12.438,   34.906,2,   34.905,2,  245.100,2,  249.600,2,    1.700,2,    6.740,2, -999.000,9,    0.580,2,    3.372,2,    1.597,2, -999.000,9, 2081.200,2, 2309.100,2
           NA,     A14,     91,   1,-999.0,      29,  2,19950207,1342, -37.5030,   -9.0030,  3192,  146.400,   11.899,   35.007,2,   35.008,2,  241.400,2,  243.300,2,    2.300,2,    8.610,2, -999.000,9,    0.660,2,    3.318,2,    1.557,2, -999.000,9, 2092.500,2, 2314.800,2
           NA,     A14,     91,   1,-999.0,      28,  2,19950207,1342, -37.5030,   -9.0030,  3192,  195.800,   11.131,   34.929,2,   34.929,2,  244.800,2,  244.800,2,    2.700,2,   10.480,2, -999.000,9,    0.770,2,    3.367,2,    1.570,2, -999.000,9, 2098.400,2, 2309.700,2
           NA,     A14,     91,   1,-999.0,      27,  2,19950207,1342, -37.5030,   -9.0030,  3192,  295.700,    9.882,   34.771,2,   34.768,2,  236.000,2,  237.000,2,    4.200,2,   14.490,2, -999.000,9,    1.010,2,    3.275,2,    1.518,2, -999.000,9, 2112.800,2, 2302.800,2
           NA,     A14,     91,   1,-999.0,      26,  2,19950207,1342, -37.5030,   -9.0030,  3192,  396.200,    7.995,   34.557,2,   34.560,2,  224.000,2,  223.200,2,    7.700,2,   20.730,2, -999.000,9,    1.410,2,    2.832,2,    1.292,2, -999.000,9, 2137.300,2, 2295.200,2
           NA,     A14,     91,   1,-999.0,      25,  2,19950207,1342, -37.5030,   -9.0030,  3192,  496.300,    6.531,   34.409,2,   34.411,2,  226.900,2,  227.500,2,   10.800,2,   23.850,2, -999.000,9,    1.640,2,    2.656,2,    1.161,2, -999.000,9, 2147.800,2, 2289.100,2
           NA,     A14,     91,   1,-999.0,      24,  2,19950207,1342, -37.5030,   -9.0030,  3192,  596.000,    5.244,   34.294,2,   34.296,2,  236.400,2,  239.500,2,   13.800,2,   26.100,2, -999.000,9,    1.780,2,    2.673,2,    1.156,2, -999.000,9, 2151.100,2, 2286.600,2
           NA,     A14,     91,   1,-999.0,      23,  2,19950207,1342, -37.5030,   -9.0030,  3192,  694.200,    4.477,   34.251,2,   34.251,2,  243.300,2,  244.300,2,   17.400,2,   27.570,2, -999.000,9,    1.870,2,    2.507,2,    1.082,2, -999.000,9, 2157.600,2, 2288.400,2
           NA,     A14,     91,   1,-999.0,      22,  2,19950207,1342, -37.5030,   -9.0030,  3192,  795.300,    4.065,   34.248,2,   34.250,2,  242.700,2,  241.900,2,   21.200,2,   28.630,2, -999.000,9,    1.940,2,    2.185,2,    0.944,2, -999.000,9, 2164.500,2, 2292.000,2
           NA,     A14,     91,   1,-999.0,      21,  2,19950207,1342, -37.5030,   -9.0030,  3192,  895.000,    3.678,   34.257,2,   34.258,2,  235.900,2,  236.700,2,   26.100,2,   29.860,2, -999.000,9,    2.020,2,    1.797,2,    0.779,2, -999.000,9, 2176.500,2, 2295.200,2
           NA,     A14,     91,   1,-999.0,      20,  2,19950207,1342, -37.5030,   -9.0030,  3192,  995.300,    3.312,   34.286,2,   34.286,2,  225.800,2,  226.600,2,   32.800,2,   31.040,2, -999.000,9,    2.110,2,    1.357,2,    0.596,2, -999.000,9, 2188.500,2, 2302.000,2
           NA,     A14,     91,   1,-999.0,      18,  2,19950207,1342, -37.5030,   -9.0030,  3192, 1087.500,    3.088,   34.330,2,   34.330,2,  214.900,2,  215.200,2,   39.500,2,   31.930,2, -999.000,9,    2.180,2,    0.951,2,    0.426,2, -999.000,9, 2199.300,2, 2308.600,2
           NA,     A14,     91,   1,-999.0,      19,  2,19950207,1342, -37.5030,   -9.0030,  3192, 1088.300,    3.088,   34.330,2,   34.330,2,  214.900,2,  215.400,2,   39.500,6,   32.000,2, -999.000,9,    2.170,6,    0.963,2,    0.432,2, -999.000,9, -999.000,9, 2309.200,2
           NA,     A14,     91,   1,-999.0,      17,  2,19950207,1342, -37.5030,   -9.0030,  3192, 1196.900,    2.913,   34.399,2,   34.398,2,  204.800,2,  202.600,2,   47.500,2,   32.580,2, -999.000,9,    2.220,2,    0.568,2,    0.266,2, -999.000,9, 2213.100,2, 2318.100,2
           NA,     A14,     91,   1,-999.0,      16,  2,19950207,1342, -37.5030,   -9.0030,  3192, 1296.000,    2.841,   34.461,2,   34.462,2,  196.400,2,  194.100,2,   52.600,2,   32.650,2, -999.000,9,    2.250,2,    0.356,2,    0.290,2, -999.000,9, 2222.700,2, 2323.400,2
           NA,     A14,     91,   1,-999.0,      15,  2,19950207,1342, -37.5030,   -9.0030,  3192, 1393.800,    2.796,   34.522,2,   34.521,2,  191.800,2,  191.100,2,   56.100,2,   32.360,2, -999.000,9,    2.230,2,    0.216,2,    0.104,2, -999.000,9, -999.000,9, 2328.200,2
           NA,     A14,     91,   1,-999.0,      14,  2,19950207,1342, -37.5030,   -9.0030,  3192, 1394.300,    2.793,   34.523,2,   34.522,2,  191.800,2,  190.600,2,   56.300,2,   32.300,2, -999.000,9,    2.220,2,    0.213,2,    0.095,2, -999.000,9, 2227.600,2, 2329.800,2
           NA,     A14,     91,   1,-999.0,      13,  2,19950207,1342, -37.5030,   -9.0030,  3192, 1492.500,    2.764,   34.578,2,   34.577,2,  190.200,2,  190.200,2,   57.700,2,   31.660,2, -999.000,9,    2.170,2,    0.142,2,    0.073,2, -999.000,9, 2228.600,2, 2333.500,2
           NA,     A14,     91,   1,-999.0,      12,  2,19950207,1342, -37.5030,   -9.0030,  3192, 1595.100,    2.750,   34.628,2,   34.625,2,  190.100,2,  191.500,2,   58.300,2,   30.960,2, -999.000,9,    2.120,2,    0.081,2,    0.041,2, -999.000,9, 2225.500,2, 2333.700,2
           NA,     A14,     91,   1,-999.0,      11,  2,19950207,1342, -37.5030,   -9.0030,  3192, 1795.800,    2.743,   34.707,2,   34.704,2,  196.700,2,  197.800,2,   57.400,2,   29.320,2, -999.000,9,    2.000,2,    0.031,2,    0.016,2, -999.000,9, 2222.600,2, 2339.000,2
           NA,     A14,     91,   1,-999.0,      10,  2,19950207,1342, -37.5030,   -9.0030,  3192, 1995.400,    2.721,   34.760,2,   34.757,2,  203.800,2,  206.000,2,   55.900,2,   27.800,2, -999.000,9,    1.900,2,    0.026,2,    0.013,2, -999.000,9, 2217.100,2, 2339.200,2
           NA,     A14,     91,   1,-999.0,       9,  2,19950207,1342, -37.5030,   -9.0030,  3192, 2194.700,    2.630,   34.789,2,   34.789,2,  211.800,2,  213.100,2,   55.600,2,   26.800,2, -999.000,9,    1.820,2,    0.014,2,    0.008,2, -999.000,9, 2212.200,2, 2339.900,2
           NA,     A14,     91,   1,-999.0,       8,  2,19950207,1342, -37.5030,   -9.0030,  3192, 2396.300,    2.577,   34.810,2,   34.807,2,  217.500,2,  217.800,2,   55.600,2,   26.100,2, -999.000,9,    1.780,2,    0.009,2,    0.002,2, -999.000,9, 2210.500,2, 2339.700,2
           NA,     A14,     91,   1,-999.0,       7,  2,19950207,1342, -37.5030,   -9.0030,  3192, 2596.100,    2.511,   34.827,2,   34.824,2,  223.300,2,  223.200,2,   55.400,2,   25.460,2, -999.000,9,    1.730,2,    0.004,2,    0.002,2, -999.000,9, 2207.200,2, -999.000,3
           NA,     A14,     91,   1,-999.0,       6,  2,19950207,1342, -37.5030,   -9.0030,  3192, 2797.100,    2.415,   34.835,2,   34.832,2,  226.500,2,  226.000,2,   56.900,2,   25.170,2, -999.000,9,    1.710,2,    0.007,2,    0.004,2, -999.000,9, 2207.000,2, 2342.700,2
           NA,     A14,     91,   1,-999.0,       5,  2,19950207,1342, -37.5030,   -9.0030,  3192, 2995.400,    2.312,   34.840,2,   34.837,2,  228.800,2,  228.800,2,   58.700,2,   24.990,2, -999.000,9,    1.700,2,    0.003,2,    0.001,2, -999.000,9, 2206.800,2, -999.000,3
           NA,     A14,     91,   1,-999.0,       4,  2,19950207,1342, -37.5030,   -9.0030,  3192, 3196.100,    2.229,   34.841,2,   34.837,2,  230.300,2,  231.000,2,   60.500,2,   24.940,2, -999.000,9,    1.700,2,    0.003,2,    0.003,2, -999.000,9, -999.000,9, 2346.900,2
           NA,     A14,     91,   1,-999.0,       3,  2,19950207,1342, -37.5030,   -9.0030,  3192, 3227.500,    2.221,   34.842,2,   34.839,2,  230.700,2,  230.900,2,   60.800,2,   24.940,2, -999.000,9,    1.700,2,    0.005,2,    0.004,2, -999.000,9, 2207.500,6, 2348.500,2
           NA,     A14,     90,   1,-999.0,      32,  2,19950207,0824, -37.0005,   -9.0058,  3717,    4.600,   17.099,   34.913,2,   34.915,2,  241.200,2, -999.000,3,    0.500,2,    0.020,2, -999.000,9,    0.200,2,    2.727,2,    1.313,2, -999.000,9, -999.000,9, 2312.100,2
           NA,     A14,     90,   1,-999.0,      31,  2,19950207,0824, -37.0005,   -9.0058,  3717,   47.200,   15.513,   34.908,2, -999.000,3,  247.900,2,  251.200,2,    0.800,2,    1.000,2, -999.000,9,    0.290,2,    2.906,2,    1.395,2, -999.000,9, -999.000,9, -999.000,9
           NA,     A14,     90,   1,-999.0,      30,  2,19950207,0824, -37.0005,   -9.0058,  3717,   96.400,   12.019,   34.929,2,   34.930,2,  251.900,2,  254.200,2,    2.000,2,    7.460,2, -999.000,9,    0.610,2,    3.293,2,    1.580,2, -999.000,9, -999.000,9, -999.000,9
           NA,     A14,     90,   1,-999.0,      29,  2,19950207,0824, -37.0005,   -9.0058,  3717,  146.200,   11.360,   34.930,2,   34.935,2,  252.200,2,  249.000,2,    2.500,2,    9.450,2, -999.000,9,    0.710,2,    3.282,2,    1.557,2, -999.000,9, -999.000,9, -999.000,9
           NA,     A14,     90,   1,-999.0,      28,  2,19950207,0824, -37.0005,   -9.0058,  3717,  196.100,   10.750,   34.870,2,   34.869,2,  249.900,2,  248.700,2,    3.100,6,   11.160,6, -999.000,9,    0.820,6,    3.290,2,    1.561,2, -999.000,9, -999.000,9, -999.000,9
           NA,     A14,     90,   1,-999.0,      27,  2,19950207,0824, -37.0005,   -9.0058,  3717,  296.500,    9.236,   34.685,2,   34.686,2,  250.400,2, -999.000,3,    4.900,2,   16.320,2, -999.000,9,    1.120,2,    3.169,2,    1.487,2, -999.000,9, -999.000,9, -999.000,9
           NA,     A14,     90,   1,-999.0,      26,  2,19950207,0824, -37.0005,   -9.0058,  3717,  397.300,    8.002,   34.554,2,   34.557,2,  228.100,2,  225.100,2,    7.600,2,   20.710,2, -999.000,9,    1.400,2,    2.851,2,    1.296,2, -999.000,9, -999.000,9, -999.000,9
           NA,     A14,     90,   1,-999.0,      25,  2,19950207,0824, -37.0005,   -9.0058,  3717,  496.100,    6.592,   34.409,2,   34.407,2,  230.300,2,  229.000,2,   10.400,2,   23.770,2, -999.000,9,    1.630,2,    2.736,2,    1.191,2, -999.000,9, -999.000,9, -999.000,9
           NA,     A14,     90,   1,-999.0,      24,  2,19950207,0824, -37.0005,   -9.0058,  3717,  596.300,    5.384,   34.301,2,   34.305,2,  240.900,2,  238.700,2,   13.200,2,   25.980,2, -999.000,9,    1.770,2,    2.667,2,    1.152,2, -999.000,9, -999.000,9, -999.000,9
           NA,     A14,     90,   1,-999.0,      23,  2,19950207,0824, -37.0005,   -9.0058,  3717,  696.100,    4.539,   34.254,2,   34.254,2,  245.200,2,  244.200,2,   17.300,2,   27.510,2, -999.000,9,    1.870,2,    2.438,2,    1.049,2, -999.000,9, -999.000,9, -999.000,9
           NA,     A14,     90,   1,-999.0,      22,  2,19950207,0824, -37.0005,   -9.0058,  3717,  796.300,    3.929,   34.249,2,   34.251,2,  242.100,2,  240.700,2,   23.000,2,   29.090,2, -999.000,9,    1.980,2,    1.987,2,    0.865,2, -999.000,9, -999.000,9, -999.000,9
           NA,     A14,     90,   1,-999.0,      21,  2,19950207,0824, -37.0005,   -9.0058,  3717,  895.000,    3.479,   34.266,2,   34.268,2,  235.900,2,  231.900,2,   29.600,2,   30.610,2, -999.000,9,    2.080,2,    1.526,2,    0.655,2, -999.000,9, -999.000,9, -999.000,9
           NA,     A14,     90,   1,-999.0,      20,  2,19950207,0824, -37.0005,   -9.0058,  3717,  995.300,    3.143,   34.310,2,   34.314,2,  224.400,2, -999.000,3,   37.500,6,   31.840,6, -999.000,9,    2.170,6,    1.070,2,    0.466,2, -999.000,9, -999.000,9, -999.000,9
           NA,     A14,     90,   1,-999.0,      19,  2,19950207,0824, -37.0005,   -9.0058,  3717, 1195.200,    2.908,   34.421,2,   34.423,2,  204.800,2,  200.400,2,   48.900,2,   32.610,2, -999.000,9,    2.230,2,    0.501,2,    0.233,2, -999.000,9, -999.000,9, -999.000,9
           NA,     A14,     90,   1,-999.0,      18,  2,19950207,0824, -37.0005,   -9.0058,  3717, 1395.500,    2.793,   34.529,2,   34.529,2,  191.000,2,  191.100,2,   56.000,2,   32.330,2, -999.000,9,    2.210,2,    0.212,2,    0.095,2, -999.000,9, -999.000,9, -999.000,9
           NA,     A14,     90,   1,-999.0,      17,  2,19950207,0824, -37.0005,   -9.0058,  3717, 1395.600,    2.793,   34.529,2,   34.529,2,  191.000,2,  191.100,2,   56.000,2,   32.330,2, -999.000,9,    2.210,2,    0.215,2,    0.096,2, -999.000,9, -999.000,9, -999.000,9
           NA,     A14,     90,   1,-999.0,      16,  2,19950207,0824, -37.0005,   -9.0058,  3717, 1595.400,    2.745,   34.640,2,   34.637,2,  192.100,2,  192.800,2,   58.300,2,   30.880,2, -999.000,9,    2.130,2,    0.091,2,    0.046,2, -999.000,9, -999.000,9, -999.000,9
           NA,     A14,     90,   1,-999.0,      15,  2,19950207,0824, -37.0005,   -9.0058,  3717, 1795.300,    2.722,   34.718,2,   34.716,2,  201.100,2,  199.600,2,   57.600,2,   29.250,2, -999.000,9,    1.990,2,    0.038,2,    0.021,2, -999.000,9, -999.000,9, -999.000,9
           NA,     A14,     90,   1,-999.0,      13,  2,19950207,0824, -37.0005,   -9.0058,  3717, 1996.400,    2.693,   34.771,2,   34.768,2,  209.200,2,  207.700,2,   56.500,2,   27.800,2, -999.000,9,    1.890,2,    0.020,2,    0.012,2, -999.000,9, -999.000,9, -999.000,9
           NA,     A14,     90,   1,-999.0,      14,  2,19950207,0824, -37.0005,   -9.0058,  3717, 1996.700,    2.695,   34.769,2,   34.768,2,  209.200,2,  207.600,2,   56.200,2,   27.790,2, -999.000,9,    1.890,2,    0.017,2,    0.013,2, -999.000,9, -999.000,9, -999.000,9
           NA,     A14,     90,   1,-999.0,      12,  2,19950207,0824, -37.0005,   -9.0058,  3717, 2195.400,    2.648,   34.807,2,   34.807,2,  216.600,2,  215.400,2,   55.000,2,   26.400,2, -999.000,9,    1.800,2,    0.011,2,    0.009,2, -999.000,9, -999.000,9, -999.000,9
           NA,     A14,     90,   1,-999.0,      11,  2,19950207,0824, -37.0005,   -9.0058,  3717, 2395.500,    2.590,   34.827,2,   34.825,2,  222.700,2,  221.400,2,   54.300,2,   25.700,2, -999.000,9,    1.750,2,    0.007,2,    0.005,2, -999.000,9, -999.000,9, -999.000,9
           NA,     A14,     90,   1,-999.0,      10,  2,19950207,0824, -37.0005,   -9.0058,  3717, 2596.100,    2.498,   34.841,2,   34.840,2,  228.500,2,  226.800,2,   54.500,6,   25.000,6, -999.000,9,    1.700,6,    0.006,2,    0.004,2, -999.000,9, -999.000,9, -999.000,9
           NA,     A14,     90,   1,-999.0,       9,  2,19950207,0824, -37.0005,   -9.0058,  3717, 2797.300,    2.360,   34.850,2,   34.849,2,  231.500,2,  232.100,2,   55.200,2,   24.500,2, -999.000,9,    1.670,2,    0.000,2,    0.002,2, -999.000,9, -999.000,9, -999.000,9
           NA,     A14,     90,   1,-999.0,       8,  2,19950207,0824, -37.0005,   -9.0058,  3717, 2996.500,    2.266,   34.850,2,   34.847,2,  233.300,2,  233.600,2,   57.300,2,   24.500,2, -999.000,9,    1.670,2,    0.000,2,    0.001,2, -999.000,9, -999.000,9, -999.000,9
           NA,     A14,     90,   1,-999.0,       7,  2,19950207,0824, -37.0005,   -9.0058,  3717, 3196.200,    2.215,   34.847,2,   34.845,2,  233.100,2,  233.400,2,   59.200,2,   24.550,2, -999.000,9,    1.680,2,    0.001,2,    0.001,2, -999.000,9, -999.000,9, -999.000,9
           NA,     A14,     90,   1,-999.0,       6,  2,19950207,0824, -37.0005,   -9.0058,  3717, 3397.100,    2.089,   34.839,2,   34.837,2,  232.200,2,  232.300,2,   64.000,2,   25.080,2, -999.000,9,    1.720,2,    0.004,2,    0.001,2, -999.000,9, -999.000,9, -999.000,9
           NA,     A14,     90,   1,-999.0,       5,  2,19950207,0824, -37.0005,   -9.0058,  3717, 3596.800,    1.984,   34.830,2,   34.828,2,  230.700,2,  230.100,2,   68.800,2,   25.730,2, -999.000,9,    1.760,2,    0.001,2,    0.004,2, -999.000,9, -999.000,9, -999.000,9
           NA,     A14,     90,   1,-999.0,       4,  2,19950207,0824, -37.0005,   -9.0058,  3717, 3697.900,    1.945,   34.826,2,   34.824,2,  229.100,2,  229.100,2,   71.200,2,   25.970,2, -999.000,9,    1.780,2,    0.002,2,    0.003,2, -999.000,9, -999.000,9, -999.000,9
           NA,     A14,     90,   1,-999.0,       3,  2,19950207,0824, -37.0005,   -9.0058,  3717, 3754.400,    1.945,   34.826,2,   34.825,2,  226.100,2,  229.000,2,   71.500,2,   26.040,2, -999.000,9,    1.780,2,    0.002,2,    0.004,2, -999.000,9, -999.000,9, -999.000,9