BOTTLE,20213527JOAExport
EXPOCODE,SECT_ID,STNNBR,CASTNO,SAMPNO,BTLNBR,BTLNBR_FLAG_W,DATE,TIME,LATITUDE,LONGITUDE,DEPTH,CTDPRS,CTDTMP,CTDSAL,CTDSAL_FLAG_W,SALNTY,SALNTY_FLAG_W,CTDOXY,CTDOXY_FLAG_W,OXYGEN,OXYGEN_FLAG_W,SILCAT,SILCAT_FLAG_W,NITRAT,NITRAT_FLAG_W,NITRIT,NITRIT_FLAG_W,PHSPHT,PHSPHT_FLAG_W,CFC-11,CFC-11_FLAG_W,CFC-12,CFC-12_FLAG_W,SF6,SF6_FLAG_W,TCARBN,TCARBN_FLAG_W,ALKALI,ALKALI_FLAG_W
,,,,,,,,,,,,DB,DEG C,PSS-78,,PSS-78,,UMOL/KG,,UMOL/KG,,UMOL/KG,,UMOL/KG,,UMOL/KG,,UMOL/KG,,PMOL/KG,,PMOL/KG,,FMOL/KG,,UMOL/KG,,UMOL/KG
           NA,     A14,     16,   1,-999.0,      32,  2,19950120,2116,  -0.3325,   -7.0005,  4670,    3.100,   27.644,   35.203,2, -999.000,3,  196.000,2,  200.300,2,    0.190,2,    0.000,2, -999.000,9,    0.010,2,    1.768,2,    1.030,2, -999.000,9, 1956.800,6, 2310.400,2
           NA,     A14,     16,   1,-999.0,      31,  2,19950120,2116,  -0.3325,   -7.0005,  4670,   37.300,   25.781,   35.862,2, -999.000,3,  210.000,2, -999.000,3,    2.160,2,    0.250,2, -999.000,9,    0.120,2,    1.869,2,    0.992,2, -999.000,9, 2031.500,2, 2356.800,2
           NA,     A14,     16,   1,-999.0,      30,  2,19950120,2116,  -0.3325,   -7.0005,  4670,   96.500,   17.032,   35.790,2, -999.000,3,  169.000,2, -999.000,3,    3.950,2,   11.540,2, -999.000,9,    0.800,2,    1.938,2,    0.952,2, -999.000,9, 2130.000,2, 2356.600,2
           NA,     A14,     16,   1,-999.0,      29,  2,19950120,2116,  -0.3325,   -7.0005,  4670,  196.000,   13.868,   35.393,2, -999.000,3,  141.400,2, -999.000,3,    7.360,2,   19.570,2, -999.000,9,    1.260,2,    1.452,2,    0.719,2, -999.000,9, 2163.100,2, 2330.600,2
           NA,     A14,     16,   1,-999.0,      28,  2,19950120,2116,  -0.3325,   -7.0005,  4670,  396.100,    8.663,   34.793,2,   34.794,2,   89.300,2,   91.000,2,   16.290,2,   32.770,2, -999.000,9,    2.030,2,    0.342,2,    0.227,2, -999.000,9, 2221.000,2, 2303.100,2
           NA,     A14,     16,   1,-999.0,      27,  2,19950120,2116,  -0.3325,   -7.0005,  4670,  595.800,    6.255,   34.558,2, -999.000,3,  137.300,2,  133.700,2,   22.750,2,   33.650,2, -999.000,9,    2.160,2,    0.197,2,    0.163,2, -999.000,9, 2213.000,2, 2298.200,2
           NA,     A14,     16,   1,-999.0,      26,  2,19950120,2116,  -0.3325,   -7.0005,  4670,  795.200,    4.768,   34.518,2,   34.523,2,  146.500,2,  145.800,2,   31.310,2,   34.970,2, -999.000,9,    2.310,2,    0.029,2, -999.000,9, -999.000,9, 2221.900,2, 2305.400,2
           NA,     A14,     16,   1,-999.0,      25,  2,19950120,2116,  -0.3325,   -7.0005,  4670,  995.700,    4.502,   34.637,2,   34.634,2,  158.200,2,  158.300,2,   30.700,2,   32.930,2, -999.000,9,    2.180,2,    0.014,2, -999.000,9, -999.000,9, 2219.000,2, 2312.600,2
           NA,     A14,     16,   1,-999.0,      24,  2,19950120,2116,  -0.3325,   -7.0005,  4670, 1194.800,    4.448,   34.810,2,   34.809,2,  181.400,2,  181.000,2,   26.170,2,   28.580,2, -999.000,9,    1.860,2,    0.013,2,    0.015,2, -999.000,9, 2203.300,2, 2315.700,2
           NA,     A14,     16,   1,-999.0,      22,  2,19950120,2116,  -0.3325,   -7.0005,  4670, 1395.900,    4.408,   34.925,2,   34.926,2,  209.900,2,  210.400,2,   20.980,6,   24.010,6, -999.000,9,    1.560,6,    0.035,2,    0.024,2, -999.000,9, -999.000,9, 2319.700,2
           NA,     A14,     16,   1,-999.0,      23,  2,19950120,2116,  -0.3325,   -7.0005,  4670, 1396.000,    4.409,   34.924,2,   34.922,2,  209.900,2,  209.900,2,   20.810,2,   24.080,2, -999.000,9,    1.590,2,    0.044,2,    0.032,2, -999.000,9, 2185.400,2, 2319.400,2
           NA,     A14,     16,   1,-999.0,      21,  2,19950120,2116,  -0.3325,   -7.0005,  4670, 1545.800,    4.235,   34.969,2,   34.967,2,  230.600,2,  230.500,2,   18.070,2,   21.950,2, -999.000,9,    1.410,2,    0.061,2,    0.045,2, -999.000,9, 2174.500,2, 2319.700,2
           NA,     A14,     16,   1,-999.0,      20,  2,19950120,2116,  -0.3325,   -7.0005,  4670, 1696.100,    4.043,   34.969,2,   34.970,2,  235.200,2,  235.400,2,   19.330,2,   21.530,2, -999.000,9,    1.380,2,    0.032,2,    0.026,2, -999.000,9, 2171.200,2, 2320.100,2
           NA,     A14,     16,   1,-999.0,      19,  2,19950120,2116,  -0.3325,   -7.0005,  4670, 1845.400,    3.762,   34.974,2,   34.974,2,  243.600,2,  245.200,2,   19.740,2,   20.740,2, -999.000,9,    1.310,2,    0.018,2,    0.016,2, -999.000,9, 2168.300,2, 2320.100,2
           NA,     A14,     16,   1,-999.0,      18,  2,19950120,2116,  -0.3325,   -7.0005,  4670, 1995.600,    3.553,   34.969,2,   34.970,2,  248.600,2,  249.600,2,   20.910,2,   20.440,2, -999.000,9,    1.300,2,    0.028,2,    0.020,2, -999.000,9, 2167.300,2, 2321.300,2
           NA,     A14,     16,   1,-999.0,      17,  2,19950120,2116,  -0.3325,   -7.0005,  4670, 2296.500,    3.150,   34.945,2,   34.946,2,  246.900,2,  246.000,2,   28.320,2,   21.320,2, -999.000,9,    1.370,2,    0.001,2,    0.006,2, -999.000,9, 2176.500,2, 2328.900,2
           NA,     A14,     16,   1,-999.0,      16,  2,19950120,2116,  -0.3325,   -7.0005,  4670, 2596.100,    2.889,   34.928,2,   34.928,2,  243.300,2,  244.500,2,   33.190,2,   21.740,2, -999.000,9,    1.410,2,    0.005,2,    0.004,2, -999.000,9, 2183.700,2, 2333.400,2
           NA,     A14,     16,   1,-999.0,      14,  2,19950120,2116,  -0.3325,   -7.0005,  4670, 2796.200,    2.765,   34.920,2,   34.918,2,  241.900,2,  243.200,2,   36.510,2,   22.110,2, -999.000,9,    1.430,2,    0.005,2,    0.008,2, -999.000,9, 2185.700,2, 2337.800,2
           NA,     A14,     16,   1,-999.0,      15,  2,19950120,2116,  -0.3325,   -7.0005,  4670, 2796.300,    2.768,   34.919,2,   34.917,2,  241.900,2,  243.100,2,   36.370,2,   22.070,2, -999.000,9,    1.420,2,    0.005,2, -999.000,9, -999.000,9, 2185.500,2, 2337.700,2
           NA,     A14,     16,   1,-999.0,      13,  2,19950120,2116,  -0.3325,   -7.0005,  4670, 2996.900,    2.683,   34.915,2,   34.915,2,  240.800,2,  242.000,2,   38.840,2,   22.360,2, -999.000,9,    1.440,2,    0.004,2,    0.009,2, -999.000,9, 2189.300,2, 2339.300,2
           NA,     A14,     16,   1,-999.0,      12,  2,19950120,2116,  -0.3325,   -7.0005,  4670, 3197.900,    2.543,   34.906,2,   34.905,2,  241.100,2,  242.800,2,   41.160,2,   22.400,2, -999.000,9,    1.460,2,    0.002,2, -999.000,9, -999.000,9, 2191.900,2, 2341.600,2
           NA,     A14,     16,   1,-999.0,      11,  2,19950120,2116,  -0.3325,   -7.0005,  4670, 3396.700,    2.472,   34.901,2,   34.903,2,  242.400,2,  243.800,2,   42.470,2,   22.440,2, -999.000,9,    1.460,2,    0.003,2, -999.000,9, -999.000,9, 2192.800,2, 2342.500,2
           NA,     A14,     16,   1,-999.0,      10,  2,19950120,2116,  -0.3325,   -7.0005,  4670, 3596.400,    2.419,   34.897,2,   34.900,2,  242.000,2,  243.400,2,   44.320,2,   22.570,2, -999.000,9,    1.490,2,    0.005,2,    0.007,2, -999.000,9, 2192.700,2, 2346.300,2
           NA,     A14,     16,   1,-999.0,       9,  2,19950120,2116,  -0.3325,   -7.0005,  4670, 3797.100,    2.379,   34.893,2,   34.891,2,  243.600,2,  244.100,2,   45.550,2,   22.570,2, -999.000,9,    1.480,2,    0.002,2,    0.007,2, -999.000,9, 2195.400,2, 2345.900,2
           NA,     A14,     16,   1,-999.0,       8,  2,19950120,2116,  -0.3325,   -7.0005,  4670, 3997.400,    2.330,   34.889,2,   34.889,2,  244.000,2,  244.700,2,   46.500,2,   22.610,2, -999.000,9,    1.490,2,    0.008,2, -999.000,3, -999.000,9, 2195.300,2, 2346.600,2
           NA,     A14,     16,   1,-999.0,       7,  2,19950120,2116,  -0.3325,   -7.0005,  4670, 4198.000,    2.277,   34.882,2,   34.881,2,  244.700,2,  244.200,2,   49.070,2,   22.730,2, -999.000,9,    1.490,2,    0.005,2, -999.000,3, -999.000,9, 2198.100,2, 2349.100,2
           NA,     A14,     16,   1,-999.0,       6,  2,19950120,2116,  -0.3325,   -7.0005,  4670, 4397.600,    2.235,   34.877,2,   34.876,2,  243.600,2,  243.700,2,   51.360,2,   22.980,2, -999.000,9,    1.520,2,    0.008,2, -999.000,9, -999.000,9, 2200.100,2, 2351.000,2
           NA,     A14,     16,   1,-999.0,       5,  2,19950120,2116,  -0.3325,   -7.0005,  4670, 4596.800,    2.203,   34.870,2,   34.869,2,  243.400,2,  243.900,2,   52.760,2,   23.150,2, -999.000,9,    1.520,2,    0.008,2,    0.014,2, -999.000,9, 2202.200,2, 2351.300,2
           NA,     A14,     16,   1,-999.0,       4,  2,19950120,2116,  -0.3325,   -7.0005,  4670, 4699.200,    2.207,   34.870,2,   34.868,2,  243.900,2,  246.300,2,   52.810,2,   23.230,2, -999.000,9,    1.520,2,    0.011,2,    0.009,2, -999.000,9, 2203.200,2, 2351.900,2
           NA,     A14,     16,   1,-999.0,       3,  2,19950120,2116,  -0.3325,   -7.0005,  4670, 4751.400,    2.193,   34.868,2,   34.867,2,  243.800,2,  244.000,2,   53.480,2,   23.230,2, -999.000,9,    1.520,2,    0.012,2,    0.006,2, -999.000,9, 2202.900,6, 2352.700,2
           NA,     A14,     15,   1,-999.0,      32,  2,19950120,1542,   0.0003,   -6.9997,  5153,    2.100,   27.837,   35.135,2, -999.000,3,  191.600,2, -999.000,3,    0.820,2,    0.000,2, -999.000,9,    0.020,2, -999.000,9, -999.000,9, -999.000,9, 1943.300,6, 2302.500,2
           NA,     A14,     15,   1,-999.0,      31,  2,19950120,1542,   0.0003,   -6.9997,  5153,   46.200,   25.357,   36.002,2, -999.000,3,  200.900,2, -999.000,3,    1.230,2,    0.530,2, -999.000,9,    0.180,2, -999.000,9, -999.000,9, -999.000,9, -999.000,9, -999.000,9
           NA,     A14,     15,   1,-999.0,      30,  2,19950120,1542,   0.0003,   -6.9997,  5153,   96.000,   17.840,   35.889,2, -999.000,3,  165.500,2,  164.600,2,    4.110,2,   10.180,2, -999.000,9,    0.760,2, -999.000,9, -999.000,9, -999.000,9, -999.000,9, -999.000,9
           NA,     A14,     15,   1,-999.0,      29,  2,19950120,1542,   0.0003,   -6.9997,  5153,  195.000,   13.885,   35.390,2,   35.389,2,  139.200,2, -999.000,3,    7.320,2,   18.280,2, -999.000,9,    1.250,2, -999.000,9, -999.000,9, -999.000,9, -999.000,9, -999.000,9
           NA,     A14,     15,   1,-999.0,      28,  2,19950120,1542,   0.0003,   -6.9997,  5153,  394.600,    8.883,   34.813,2,   34.811,2,   84.000,2,   85.000,2,   16.370,2,   32.690,2, -999.000,9,    2.100,2, -999.000,9, -999.000,9, -999.000,9, -999.000,9, -999.000,9
           NA,     A14,     15,   1,-999.0,      27,  2,19950120,1542,   0.0003,   -6.9997,  5153,  595.100,    6.215,   34.554,2,   34.558,2,  135.700,2,  134.400,2,   23.120,2,   33.270,2, -999.000,9,    2.230,2, -999.000,9, -999.000,9, -999.000,9, -999.000,9, -999.000,9
           NA,     A14,     15,   1,-999.0,      26,  2,19950120,1542,   0.0003,   -6.9997,  5153,  794.700,    4.722,   34.523,2,   34.524,2,  148.100,2,  146.400,2,   31.010,2,   34.440,2, -999.000,9,    2.350,2, -999.000,9, -999.000,9, -999.000,9, -999.000,9, -999.000,9
           NA,     A14,     15,   1,-999.0,      25,  2,19950120,1542,   0.0003,   -6.9997,  5153,  994.800,    4.489,   34.669,2,   34.670,2,  161.200,2,  161.700,2,   29.860,2,   31.700,2, -999.000,9,    2.150,2, -999.000,9, -999.000,9, -999.000,9, -999.000,9, -999.000,9
           NA,     A14,     15,   1,-999.0,      24,  2,19950120,1542,   0.0003,   -6.9997,  5153, 1194.500,    4.483,   34.791,2,   34.789,2,  186.800,2, -999.000,3,   26.810,2,   28.660,2, -999.000,9,    1.950,2, -999.000,9, -999.000,9, -999.000,9, -999.000,9, -999.000,9
           NA,     A14,     15,   1,-999.0,      23,  2,19950120,1542,   0.0003,   -6.9997,  5153, 1545.400,    4.204,   34.966,2,   34.966,2,  231.800,2,  230.000,2,   18.500,2,   21.600,2, -999.000,9,    1.420,2, -999.000,9, -999.000,9, -999.000,9, -999.000,9, -999.000,9
           NA,     A14,     15,   1,-999.0,      22,  2,19950120,1542,   0.0003,   -6.9997,  5153, 1675.800,    4.112,   34.966,2,   34.967,2,  233.800,2,  232.300,2,   18.660,2,   21.550,2, -999.000,9,    1.410,2, -999.000,9, -999.000,9, -999.000,9, -999.000,9, -999.000,9
           NA,     A14,     15,   1,-999.0,      21,  2,19950120,1542,   0.0003,   -6.9997,  5153, 1794.800,    3.769,   34.974,2,   34.973,2,  246.400,2,  246.200,2,   19.240,2,   20.310,2, -999.000,9,    1.340,2, -999.000,9, -999.000,9, -999.000,9, -999.000,9, -999.000,9
           NA,     A14,     15,   1,-999.0,      20,  2,19950120,1542,   0.0003,   -6.9997,  5153, 1995.200,    3.538,   34.967,2,   34.967,2,  249.900,2,  249.700,2,   21.130,2,   20.090,2, -999.000,9,    1.320,2, -999.000,9, -999.000,9, -999.000,9, -999.000,9, -999.000,9
           NA,     A14,     15,   1,-999.0,      19,  2,19950120,1542,   0.0003,   -6.9997,  5153, 2295.400,    3.112,   34.942,2,   34.941,2,  246.800,2,  245.200,2,   28.690,2,   21.070,2, -999.000,9,    1.390,2, -999.000,9, -999.000,9, -999.000,9, -999.000,9, -999.000,9
           NA,     A14,     15,   1,-999.0,      18,  2,19950120,1542,   0.0003,   -6.9997,  5153, 2596.500,    2.873,   34.927,2,   34.928,2,  244.000,2,  244.700,2,   33.570,6,   21.430,2, -999.000,9,    1.430,6, -999.000,9, -999.000,9, -999.000,9, -999.000,9, -999.000,9
           NA,     A14,     15,   1,-999.0,      17,  2,19950120,1542,   0.0003,   -6.9997,  5153, 2795.900,    2.753,   34.920,2,   34.918,2,  242.700,2,  243.000,2,   36.570,2,   21.820,2, -999.000,9,    1.480,2, -999.000,9, -999.000,9, -999.000,9, -999.000,9, -999.000,9
           NA,     A14,     15,   1,-999.0,      16,  2,19950120,1542,   0.0003,   -6.9997,  5153, 2996.700,    2.640,   34.912,2,   34.911,2,  240.300,2,  240.900,2,   39.360,2,   22.260,2, -999.000,9,    1.480,2, -999.000,9, -999.000,9, -999.000,9, -999.000,9, -999.000,9
           NA,     A14,     15,   1,-999.0,      15,  2,19950120,1542,   0.0003,   -6.9997,  5153, 3196.300,    2.524,   34.905,2,   34.903,2,  242.600,2,  243.500,2,   40.590,2,   22.080,2, -999.000,9,    1.480,2, -999.000,9, -999.000,9, -999.000,9, -999.000,9, -999.000,9
           NA,     A14,     15,   1,-999.0,      13,  2,19950120,1542,   0.0003,   -6.9997,  5153, 3395.500,    2.461,   34.900,2,   34.900,2,  242.100,2,  242.900,2,   42.280,2,   22.210,2, -999.000,9,    1.500,2, -999.000,9, -999.000,9, -999.000,9, -999.000,9, -999.000,9
           NA,     A14,     15,   1,-999.0,      14,  2,19950120,1542,   0.0003,   -6.9997,  5153, 3395.600,    2.461,   34.900,2,   34.899,2,  242.100,2,  243.000,2,   42.830,6,   22.130,2, -999.000,9,    1.500,6, -999.000,9, -999.000,9, -999.000,9, -999.000,9, -999.000,9
           NA,     A14,     15,   1,-999.0,      12,  2,19950120,1542,   0.0003,   -6.9997,  5153, 3595.200,    2.418,   34.896,2,   34.895,2,  243.000,2,  243.500,2,   43.420,2,   22.300,2, -999.000,9,    1.490,2, -999.000,9, -999.000,9, -999.000,9, -999.000,9, -999.000,9
           NA,     A14,     15,   1,-999.0,      11,  2,19950120,1542,   0.0003,   -6.9997,  5153, 3796.900,    2.382,   34.893,2,   34.892,2,  244.000,2,  244.200,2,   44.210,2,   22.300,2, -999.000,9,    1.490,2, -999.000,9, -999.000,9, -999.000,9, -999.000,9, -999.000,9
           NA,     A14,     15,   1,-999.0,      10,  2,19950120,1542,   0.0003,   -6.9997,  5153, 3997.200,    2.334,   34.888,2,   34.887,2,  244.300,2,  244.500,2,   45.860,6,   22.240,6, -999.000,9,    1.500,6, -999.000,9, -999.000,9, -999.000,9, -999.000,9, -999.000,9
           NA,     A14,     15,   1,-999.0,       9,  2,19950120,1542,   0.0003,   -6.9997,  5153, 4195.800,    2.301,   34.885,2,   34.882,2,  244.800,2,  244.300,2,   47.550,2,   22.480,2, -999.000,9,    1.520,2, -999.000,9, -999.000,9, -999.000,9, -999.000,9, -999.000,9
           NA,     A14,     15,   1,-999.0,       8,  2,19950120,1542,   0.0003,   -6.9997,  5153, 4397.200,    2.261,   34.878,2,   34.877,2,  244.200,2,  243.800,2,   49.560,2,   22.740,2, -999.000,9,    1.540,2, -999.000,9, -999.000,9, -999.000,9, -999.000,9, -999.000,9
           NA,     A14,     15,   1,-999.0,       7,  2,19950120,1542,   0.0003,   -6.9997,  5153, 4596.700,    2.218,   34.873,2,   34.869,2,  244.500,2,  243.600,2,   50.970,2,   22.920,2, -999.000,9,    1.550,2, -999.000,9, -999.000,9, -999.000,9, -999.000,9, -999.000,9
           NA,     A14,     15,   1,-999.0,       6,  2,19950120,1542,   0.0003,   -6.9997,  5153, 4796.900,    2.178,   34.866,2, -999.000,9,  245.100,2,  250.800,2,   53.160,2,   23.050,2, -999.000,9,    1.570,2, -999.000,9, -999.000,9, -999.000,9, -999.000,9, -999.000,9
           NA,     A14,     15,   1,-999.0,       5,  2,19950120,1542,   0.0003,   -6.9997,  5153, 4997.200,    2.158,   34.861,2,   34.859,2,  245.400,2,  244.100,2,   54.560,2,   23.180,2, -999.000,9,    1.580,2, -999.000,9, -999.000,9, -999.000,9, -999.000,9, -999.000,9
           NA,     A14,     15,   1,-999.0,       4,  2,19950120,1542,   0.0003,   -6.9997,  5153, 5147.300,    2.151,   34.858,2,   34.857,2,  245.600,2,  244.100,2,   55.260,2,   23.320,2, -999.000,9,    1.580,2, -999.000,9, -999.000,9, -999.000,9, -999.000,9, -999.000,9
           NA,     A14,     15,   1,-999.0,       3,  2,19950120,1542,   0.0003,   -6.9997,  5153, 5212.000,    2.146,   34.857,2,   34.854,2,  245.600,2,  244.600,2,   55.520,2,   23.320,2, -999.000,9,    1.590,2, -999.000,9, -999.000,9, -999.000,9, -999.000,9, -999.000,9