BOTTLE,20213527JOAExport
EXPOCODE,SECT_ID,STNNBR,CASTNO,SAMPNO,BTLNBR,BTLNBR_FLAG_W,DATE,TIME,LATITUDE,LONGITUDE,DEPTH,CTDPRS,CTDTMP,CTDSAL,CTDSAL_FLAG_W,SALNTY,SALNTY_FLAG_W,CTDOXY,CTDOXY_FLAG_W,OXYGEN,OXYGEN_FLAG_W,SILCAT,SILCAT_FLAG_W,NITRAT,NITRAT_FLAG_W,NITRIT,NITRIT_FLAG_W,PHSPHT,PHSPHT_FLAG_W,CFC-11,CFC-11_FLAG_W,CFC-12,CFC-12_FLAG_W,SF6,SF6_FLAG_W,TCARBN,TCARBN_FLAG_W,ALKALI,ALKALI_FLAG_W
,,,,,,,,,,,,DB,DEG C,PSS-78,,PSS-78,,UMOL/KG,,UMOL/KG,,UMOL/KG,,UMOL/KG,,UMOL/KG,,UMOL/KG,,PMOL/KG,,PMOL/KG,,FMOL/KG,,UMOL/KG,,UMOL/KG
           NA,     A14,    101,   1,-999.0,      32,  2,19950210,0804, -42.5035,   -8.9998,  3900,   10.000,   11.012,   34.419,2,   34.421,2,  301.300,2, -999.000,3,    0.000,2,    8.660,2, -999.000,9,    0.690,2,    3.678,2,    1.772,2, -999.000,9, -999.000,9, 2290.100,2
           NA,     A14,    101,   1,-999.0,      31,  2,19950210,0804, -42.5035,   -8.9998,  3900,   46.500,   11.018,   34.420,2,   34.423,2,  278.600,2,  278.900,2,    0.000,2,    8.660,2, -999.000,9,    0.700,2,    3.676,2,    1.788,2, -999.000,9, -999.000,9, -999.000,9
           NA,     A14,    101,   1,-999.0,      30,  2,19950210,0804, -42.5035,   -8.9998,  3900,   96.500,   10.321,   34.670,2,   34.666,2,  271.600,2, -999.000,3,    2.200,2,   10.970,2, -999.000,9,    0.840,2,    3.639,2,    1.757,2, -999.000,9, -999.000,9, -999.000,9
           NA,     A14,    101,   1,-999.0,      29,  2,19950210,0804, -42.5035,   -8.9998,  3900,  147.100,    9.897,   34.697,2,   34.700,2,  258.100,2,  256.400,2,    3.300,2,   12.460,2, -999.000,9,    0.910,2,    3.561,2,    1.719,2, -999.000,9, -999.000,9, -999.000,9
           NA,     A14,    101,   1,-999.0,      28,  2,19950210,0804, -42.5035,   -8.9998,  3900,  196.900,    9.126,   34.603,2,   34.606,2,  252.200,2,  254.600,2,    3.900,2,   14.580,2, -999.000,9,    1.040,2,    3.580,2,    1.712,2, -999.000,9, -999.000,9, -999.000,9
           NA,     A14,    101,   1,-999.0,      27,  2,19950210,0804, -42.5035,   -8.9998,  3900,  295.400,    6.918,   34.408,2,   34.408,2,  240.700,2,  237.500,2,    8.100,2,   22.140,2, -999.000,9,    1.520,2,    3.295,2,    1.510,2, -999.000,9, -999.000,9, -999.000,9
           NA,     A14,    101,   1,-999.0,      26,  2,19950210,0804, -42.5035,   -8.9998,  3900,  397.400,    5.369,   34.268,2,   34.270,2,  246.100,2,  247.300,2,   11.100,2,   25.370,2, -999.000,9,    1.730,2,    3.489,2,    1.590,2, -999.000,9, -999.000,9, -999.000,9
           NA,     A14,    101,   1,-999.0,      25,  2,19950210,0804, -42.5035,   -8.9998,  3900,  501.500,    4.588,   34.220,2,   34.219,2,  255.400,2,  256.600,2,   13.800,2,   26.800,2, -999.000,9,    1.810,2,    3.463,2,    1.568,2, -999.000,9, -999.000,9, -999.000,9
           NA,     A14,    101,   1,-999.0,      24,  2,19950210,0804, -42.5035,   -8.9998,  3900,  595.600,    4.149,   34.214,2,   34.212,2,  258.700,2,  257.900,2,   17.000,2,   27.640,2, -999.000,9,    1.880,2,    3.230,2,    1.438,2, -999.000,9, -999.000,9, -999.000,9
           NA,     A14,    101,   1,-999.0,      23,  2,19950210,0804, -42.5035,   -8.9998,  3900,  696.800,    3.783,   34.218,2,   34.216,2,  252.300,2,  253.900,2,   20.900,2,   28.830,2, -999.000,9,    1.950,2,    2.887,2,    1.274,2, -999.000,9, -999.000,9, -999.000,9
           NA,     A14,    101,   1,-999.0,      22,  2,19950210,0804, -42.5035,   -8.9998,  3900,  796.400,    3.434,   34.229,2,   34.229,2,  246.200,2,  246.800,2,   26.100,2,   29.960,2, -999.000,9,    2.040,2,    2.483,2,    1.097,2, -999.000,9, -999.000,9, -999.000,9
           NA,     A14,    101,   1,-999.0,      21,  2,19950210,0804, -42.5035,   -8.9998,  3900,  898.800,    3.107,   34.254,2,   34.251,2,  238.200,2,  236.300,2,   32.200,2,   31.150,2, -999.000,9,    2.120,2,    2.050,2,    0.912,2, -999.000,9, -999.000,9, -999.000,9
           NA,     A14,    101,   1,-999.0,      20,  2,19950210,0804, -42.5035,   -8.9998,  3900,  997.100,    2.949,   34.285,2,   34.283,2,  227.400,2,  226.700,2,   37.300,2,   32.160,2, -999.000,9,    2.180,2,    1.668,2,    0.744,2, -999.000,9, -999.000,9, -999.000,9
           NA,     A14,    101,   1,-999.0,      19,  2,19950210,0804, -42.5035,   -8.9998,  3900, 1199.200,    2.697,   34.389,2,   34.386,2,  203.100,2,  201.200,2,   51.500,2,   33.590,2, -999.000,9,    2.290,2,    0.942,2,    0.417,2, -999.000,9, -999.000,9, -999.000,9
           NA,     A14,    101,   1,-999.0,      18,  2,19950210,0804, -42.5035,   -8.9998,  3900, 1395.700,    2.680,   34.512,2,   34.511,2,  185.500,2,  185.000,2,   60.900,2,   33.710,2, -999.000,9,    2.300,2,    0.367,2,    0.179,2, -999.000,9, -999.000,9, -999.000,9
           NA,     A14,    101,   1,-999.0,      17,  2,19950210,0804, -42.5035,   -8.9998,  3900, 1395.800,    2.681,   34.513,2,   34.512,2,  185.500,2,  185.100,2,   60.400,2,   33.700,2, -999.000,9,    2.290,2,    0.362,2,    0.174,2, -999.000,9, -999.000,9, -999.000,9
           NA,     A14,    101,   1,-999.0,      16,  2,19950210,0804, -42.5035,   -8.9998,  3900, 1597.200,    2.684,   34.616,2,   34.614,2,  183.400,2,  184.000,2,   64.100,2,   32.510,2, -999.000,9,    2.210,2,    0.159,2,    0.126,2, -999.000,9, -999.000,9, -999.000,9
           NA,     A14,    101,   1,-999.0,      15,  2,19950210,0804, -42.5035,   -8.9998,  3900, 1794.300,    2.681,   34.682,2,   34.678,2,  186.300,2,  187.300,2,   64.500,2,   31.320,2, -999.000,9,    2.130,2,    0.088,2,    0.050,2, -999.000,9, -999.000,9, -999.000,9
           NA,     A14,    101,   1,-999.0,      14,  2,19950210,0804, -42.5035,   -8.9998,  3900, 1994.200,    2.640,   34.735,2,   34.734,2,  192.800,2,  193.800,2,   65.000,6,   30.000,2, -999.000,9,    2.030,6,    0.059,2,    0.033,2, -999.000,9, -999.000,9, -999.000,9
           NA,     A14,    101,   1,-999.0,      13,  2,19950210,0804, -42.5035,   -8.9998,  3900, 2194.500,    2.544,   34.763,2,   34.761,2,  196.600,2,  197.700,2,   67.900,2,   29.590,2, -999.000,9,    1.990,2,    0.052,2,    0.032,2, -999.000,9, -999.000,9, -999.000,9
           NA,     A14,    101,   1,-999.0,      12,  2,19950210,0804, -42.5035,   -8.9998,  3900, 2394.600,    2.383,   34.781,2,   34.781,2,  202.800,2,  202.700,2,   70.500,2,   28.760,2, -999.000,9,    1.950,2,    0.046,2,    0.030,2, -999.000,9, -999.000,9, -999.000,9
           NA,     A14,    101,   1,-999.0,      11,  2,19950210,0804, -42.5035,   -8.9998,  3900, 2395.800,    2.382,   34.781,2,   34.781,2,  202.800,2,  202.900,2,   70.700,2,   28.750,2, -999.000,9,    1.950,2,    0.042,2,    0.019,2, -999.000,9, -999.000,9, -999.000,9
           NA,     A14,    101,   1,-999.0,      10,  2,19950210,0804, -42.5035,   -8.9998,  3900, 2596.200,    2.255,   34.797,2,   34.799,2,  209.900,2,  210.400,2,   70.400,2,   27.920,2, -999.000,9,    1.900,2,    0.030,2,    0.022,2, -999.000,9, -999.000,9, -999.000,9
           NA,     A14,    101,   1,-999.0,       9,  2,19950210,0804, -42.5035,   -8.9998,  3900, 2793.500,    2.162,   34.804,2,   34.803,2,  214.400,2,  214.900,2,   71.500,2,   27.680,2, -999.000,9,    1.880,2,    0.025,2,    0.013,2, -999.000,9, -999.000,9, -999.000,9
           NA,     A14,    101,   1,-999.0,       8,  2,19950210,0804, -42.5035,   -8.9998,  3900, 2998.300,    2.020,   34.806,2,   34.806,2,  217.400,2,  219.400,2,   73.900,6,   27.380,2, -999.000,9,    1.860,6,    0.014,2,    0.010,2, -999.000,9, -999.000,9, -999.000,9
           NA,     A14,    101,   1,-999.0,       7,  2,19950210,0804, -42.5035,   -8.9998,  3900, 3194.300,    1.781,   34.795,2,   34.792,2,  220.300,2,  219.500,2,   82.100,2,   27.980,2, -999.000,9,    1.920,2,    0.017,2,    0.011,2, -999.000,9, -999.000,9, -999.000,9
           NA,     A14,    101,   1,-999.0,       6,  2,19950210,0804, -42.5035,   -8.9998,  3900, 3397.000,    1.566,   34.783,2,   34.782,2,  221.100,2,  220.300,2,   88.800,2,   28.450,2, -999.000,9,    1.960,2,    0.010,2,    0.009,2, -999.000,9, -999.000,9, -999.000,9
           NA,     A14,    101,   1,-999.0,       5,  2,19950210,0804, -42.5035,   -8.9998,  3900, 3597.800,    1.396,   34.770,2,   34.768,2,  220.000,2,  219.500,2,   95.600,2,   29.340,2, -999.000,9,    2.000,2,    0.012,2,    0.012,2, -999.000,9, -999.000,9, -999.000,9
           NA,     A14,    101,   1,-999.0,       4,  2,19950210,0804, -42.5035,   -8.9998,  3900, 3798.100,    1.345,   34.765,2,   34.762,2,  219.900,2,  219.300,2,   98.400,2,   29.520,2, -999.000,9,    2.020,2,    0.011,2,    0.012,2, -999.000,9, -999.000,9, -999.000,9
           NA,     A14,    101,   1,-999.0,       3,  2,19950210,0804, -42.5035,   -8.9998,  3900, 3941.000,    1.279,   34.759,2,   34.756,2,  220.400,2,  218.900,2,  100.700,2,   29.820,2, -999.000,9,    2.040,2,    0.013,2,    0.015,2, -999.000,9, -999.000,9, -999.000,9
           NA,     A14,    100,   1,-999.0,      31,  2,19950210,0021, -42.0002,   -9.0005,  3576,    4.100,   12.612,   34.718,2,   34.721,2,  272.300,2,  267.900,2,    0.300,2,    4.940,2, -999.000,9,    0.480,2,    3.360,2,    1.632,2, -999.000,9, 2059.500,6, 2305.500,2
           NA,     A14,    100,   1,-999.0,      32,  2,19950210,0021, -42.0002,   -9.0005,  3576,    4.900,   12.612,   34.718,2,   34.723,2,  272.400,2,  268.000,2,    0.200,2,    4.900,2, -999.000,9,    0.470,2,    3.344,2,    1.633,2, -999.000,9, -999.000,9, 2305.200,2
           NA,     A14,    100,   1,-999.0,      30,  2,19950210,0021, -42.0002,   -9.0005,  3576,   44.900,   12.615,   34.718,2,   34.722,2,  273.400,2, -999.000,3,    0.400,2,    4.990,2, -999.000,9,    0.490,2,    3.377,2,    1.647,2, -999.000,9, 2056.800,2, 2306.000,2
           NA,     A14,    100,   1,-999.0,      29,  2,19950210,0021, -42.0002,   -9.0005,  3576,   56.000,   12.573,   34.735,2, -999.000,3,  271.100,2, -999.000,3,    0.700,2,    5.310,2, -999.000,9,    0.510,2,    3.391,2,    1.658,2, -999.000,9, -999.000,9, 2306.400,2
           NA,     A14,    100,   1,-999.0,      28,  2,19950210,0021, -42.0002,   -9.0005,  3576,   96.000,   10.902,   34.839,2,   34.842,2,  259.900,2,  257.900,2,    2.600,2,    9.820,2, -999.000,9,    0.760,2,    3.541,2,    1.717,2, -999.000,9, 2090.700,2, 2306.300,2
           NA,     A14,    100,   1,-999.0,      27,  2,19950210,0021, -42.0002,   -9.0005,  3576,  145.700,   10.152,   34.773,2,   34.775,2,  258.400,2,  259.100,2,    2.900,2,   11.410,2, -999.000,9,    0.870,2,    3.575,2,    1.710,2, -999.000,9, 2094.300,2, 2303.500,2
           NA,     A14,    100,   1,-999.0,      26,  2,19950210,0021, -42.0002,   -9.0005,  3576,  196.200,    9.780,   34.725,2,   34.724,2,  258.100,2,  256.200,2,    3.300,2,   12.850,2, -999.000,9,    0.940,2,    3.555,2,    1.727,2, -999.000,9, 2100.700,2, 2301.500,2
           NA,     A14,    100,   1,-999.0,      25,  2,19950210,0021, -42.0002,   -9.0005,  3576,  297.300,    8.228,   34.564,2,   34.564,2,  235.900,2,  233.000,2,    6.500,2,   19.490,2, -999.000,9,    1.330,2,    3.160,2,    1.472,2, -999.000,9, 2127.000,2, 2293.100,2
           NA,     A14,    100,   1,-999.0,      24,  2,19950210,0021, -42.0002,   -9.0005,  3576,  396.900,    6.671,   34.409,2,   34.407,2,  229.200,2,  231.500,2,    9.800,6,   23.630,2, -999.000,9,    1.620,6,    3.020,2,    1.365,2, -999.000,9, 2143.400,2, 2287.400,2
           NA,     A14,    100,   1,-999.0,      23,  2,19950210,0021, -42.0002,   -9.0005,  3576,  497.100,    5.150,   34.279,2,   34.284,2,  236.600,2, -999.000,3,   13.400,2,   26.300,2, -999.000,9,    1.790,2,    2.949,2,    1.322,2, -999.000,9, 2151.000,2, 2285.700,2
           NA,     A14,    100,   1,-999.0,      22,  2,19950210,0021, -42.0002,   -9.0005,  3576,  597.100,    4.364,   34.233,2,   34.234,2,  248.000,2,  252.500,2,   17.000,2,   27.490,2, -999.000,9,    1.880,2,    2.965,2,    1.321,2, -999.000,9, 2155.800,2, 2288.200,2
           NA,     A14,    100,   1,-999.0,      21,  2,19950210,0021, -42.0002,   -9.0005,  3576,  695.900,    3.922,   34.228,2,   34.228,2,  248.100,2,  248.800,2,   20.800,2,   28.920,2, -999.000,9,    1.960,2,    2.627,2,    1.169,2, -999.000,9, 2164.400,2, 2291.400,2
           NA,     A14,    100,   1,-999.0,      20,  2,19950210,0021, -42.0002,   -9.0005,  3576,  794.600,    3.569,   34.235,2,   34.234,2,  244.400,2,  243.500,2,   25.400,2,   29.930,2, -999.000,9,    2.030,2,    2.293,2,    1.016,2, -999.000,9, 2171.800,2, 2294.900,2
           NA,     A14,    100,   1,-999.0,      19,  2,19950210,0021, -42.0002,   -9.0005,  3576,  897.400,    3.273,   34.255,2,   34.255,2,  232.100,2,  234.700,2,   31.200,2,   31.120,2, -999.000,9, -999.000,9,    1.921,2,    0.846,2, -999.000,9, 2183.600,2, 2299.900,2
           NA,     A14,    100,   1,-999.0,      18,  2,19950210,0021, -42.0002,   -9.0005,  3576,  993.600,    3.037,   34.288,2,   34.286,2,  223.000,2,  224.700,2,   37.000,2,   32.200,2, -999.000,9,    2.170,2,    1.534,2,    0.685,2, -999.000,9, 2193.600,2, 2305.300,2
           NA,     A14,    100,   1,-999.0,      17,  2,19950210,0021, -42.0002,   -9.0005,  3576, 1196.700,    2.761,   34.397,2,   34.393,2,  197.600,2,  200.500,2,   51.100,2,   33.630,2, -999.000,9,    2.290,2,    0.786,2,    0.345,2, -999.000,9, 2219.100,2, 2319.700,2
           NA,     A14,    100,   1,-999.0,      16,  2,19950210,0021, -42.0002,   -9.0005,  3576, 1396.300,    2.682,   34.515,2,   34.516,2,  184.800,2,  185.300,2,   61.000,2,   33.630,2, -999.000,9,    2.280,2,    0.356,2,    0.178,2, -999.000,9, 2233.500,2, 2330.600,2
           NA,     A14,    100,   1,-999.0,      15,  2,19950210,0021, -42.0002,   -9.0005,  3576, 1595.200,    2.678,   34.610,2,   34.610,2,  183.900,2,  184.700,2,   63.600,2,   32.500,2, -999.000,9,    2.210,2,    0.162,2,    0.087,2, -999.000,9, 2233.100,2, 2336.000,2
           NA,     A14,    100,   1,-999.0,      14,  2,19950210,0021, -42.0002,   -9.0005,  3576, 1795.500,    2.656,   34.682,2,   34.683,2,  188.900,2,  190.800,2,   64.100,2,   31.130,2, -999.000,9,    2.130,2,    0.085,2,    0.040,2, -999.000,9, 2230.400,2, 2339.700,2
           NA,     A14,    100,   1,-999.0,      13,  2,19950210,0021, -42.0002,   -9.0005,  3576, 1996.200,    2.631,   34.733,2,   34.732,2,  197.700,2,  197.900,2,   62.200,2,   29.470,2, -999.000,9,    2.010,2,    0.043,2,    0.022,2, -999.000,9, 2225.600,2, 2340.700,2
           NA,     A14,    100,   1,-999.0,      12,  2,19950210,0021, -42.0002,   -9.0005,  3576, 2195.300,    2.576,   34.777,2,   34.777,2,  206.600,2,  208.200,2,   59.900,2,   27.980,2, -999.000,9,    1.890,2,    0.022,2,    0.017,2, -999.000,9, 2217.500,2, 2342.400,2
           NA,     A14,    100,   1,-999.0,      10,  2,19950210,0021, -42.0002,   -9.0005,  3576, 2391.000,    2.484,   34.804,2,   34.802,2,  213.500,2,  214.300,2,   60.400,2,   27.040,6, -999.000,9,    1.840,6,    0.013,2,    0.010,2, -999.000,9, -999.000,9, 2344.100,2
           NA,     A14,    100,   1,-999.0,      11,  2,19950210,0021, -42.0002,   -9.0005,  3576, 2392.600,    2.484,   34.803,2,   34.798,2,  213.500,2,  214.200,2,   60.500,2,   27.030,2, -999.000,9,    1.840,2,    0.016,2,    0.008,2, -999.000,9, 2214.900,2, 2343.000,2
           NA,     A14,    100,   1,-999.0,       9,  2,19950210,0021, -42.0002,   -9.0005,  3576, 2595.100,    2.405,   34.818,2,   34.819,2,  217.400,2,  219.600,2,   60.500,2,   26.440,2, -999.000,9,    1.790,2,    0.013,2,    0.002,2, -999.000,9, 2211.800,2, 2343.800,2
           NA,     A14,    100,   1,-999.0,       8,  2,19950210,0021, -42.0002,   -9.0005,  3576, 2797.600,    2.346,   34.824,2,   34.823,2,  222.200,2,  222.000,2,   61.600,2,   26.140,2, -999.000,9,    1.770,2,    0.008,2,    0.005,2, -999.000,9, 2211.900,2, 2345.400,2
           NA,     A14,    100,   1,-999.0,       7,  2,19950210,0021, -42.0002,   -9.0005,  3576, 2999.000,    2.244,   34.830,2,   34.828,2,  225.400,2,  226.100,2,   63.000,2,   25.850,2, -999.000,9,    1.770,2,    0.009,2,    0.004,2, -999.000,9, 2210.600,2, 2347.900,2
           NA,     A14,    100,   1,-999.0,       6,  2,19950210,0021, -42.0002,   -9.0005,  3576, 3197.400,    2.115,   34.827,2,   34.827,2,  225.800,2,  226.700,2,   66.800,2,   26.140,2, -999.000,9,    1.770,2,    0.011,2, -999.000,9, -999.000,9, 2214.100,2, 2349.600,2
           NA,     A14,    100,   1,-999.0,       5,  2,19950210,0021, -42.0002,   -9.0005,  3576, 3395.400,    1.834,   34.808,2,   34.807,2,  224.200,2,  224.300,2,   76.700,2,   27.280,2, -999.000,9,    1.850,2,    0.011,2,    0.002,2, -999.000,9, 2223.200,2, 2358.100,2
           NA,     A14,    100,   1,-999.0,       4,  2,19950210,0021, -42.0002,   -9.0005,  3576, 3498.000,    1.699,   34.796,2,   34.794,2,  222.400,2,  223.100,2,   82.400,2,   28.000,2, -999.000,9,    1.900,2,    0.011,2,    0.002,2, -999.000,9, 2228.100,2, 2361.700,2
           NA,     A14,    100,   1,-999.0,       3,  2,19950210,0021, -42.0002,   -9.0005,  3576, 3598.900,    1.596,   34.787,2,   34.786,2,  220.300,2,  221.800,2,   87.300,2,   28.410,2, -999.000,9,    1.960,2,    0.010,2,    0.004,2, -999.000,9, 2232.200,6, 2362.900,2