BOTTLE,20213527JOAExport
EXPOCODE,SECT_ID,STNNBR,CASTNO,SAMPNO,BTLNBR,BTLNBR_FLAG_W,DATE,TIME,LATITUDE,LONGITUDE,DEPTH,CTDPRS,CTDTMP,CTDSAL,CTDSAL_FLAG_W,SALNTY,SALNTY_FLAG_W,CTDOXY,CTDOXY_FLAG_W,OXYGEN,OXYGEN_FLAG_W,SILCAT,SILCAT_FLAG_W,NITRAT,NITRAT_FLAG_W,NITRIT,NITRIT_FLAG_W,PHSPHT,PHSPHT_FLAG_W,CFC-11,CFC-11_FLAG_W,CFC-12,CFC-12_FLAG_W,SF6,SF6_FLAG_W,TCARBN,TCARBN_FLAG_W,ALKALI,ALKALI_FLAG_W
,,,,,,,,,,,,DB,DEG C,PSS-78,,PSS-78,,UMOL/KG,,UMOL/KG,,UMOL/KG,,UMOL/KG,,UMOL/KG,,UMOL/KG,,PMOL/KG,,PMOL/KG,,FMOL/KG,,UMOL/KG,,UMOL/KG
           NA,     A14,     34,   1,-999.0,      32,  2,19950125,0219,  -8.9993,   -8.7752,  4165,    3.300,   25.562,   36.439,2,   36.436,2,  207.700,2,  205.500,2,    1.030,2,    0.020,2, -999.000,9,    0.170,2,    1.790,2,    0.961,2, -999.000,9, 2059.300,6, 2397.900,6
           NA,     A14,     34,   1,-999.0,      31,  2,19950125,0219,  -8.9993,   -8.7752,  4165,   47.500,   22.678,   36.387,2, -999.000,3,  214.700,2,  215.300,2,    1.290,2,    0.500,2, -999.000,9,    0.220,2,    1.913,2,    0.971,2, -999.000,9, 2065.400,2, 2393.200,2
           NA,     A14,     34,   1,-999.0,      30,  2,19950125,0219,  -8.9993,   -8.7752,  4165,   97.800,   16.249,   35.690,2,   35.691,2,  143.700,2, -999.000,3,    5.590,2,   18.970,2, -999.000,9,    1.230,2,    1.475,2,    0.730,2, -999.000,9, -999.000,3, 2346.000,2
           NA,     A14,     34,   1,-999.0,      29,  2,19950125,0219,  -8.9993,   -8.7752,  4165,  145.100,   12.460,   35.233,2,   35.228,2,   99.200,2, -999.000,3,    9.630,2,   26.890,2, -999.000,9,    1.700,2,    0.846,2,    0.431,2, -999.000,9, 2206.100,2, 2320.400,2
           NA,     A14,     34,   1,-999.0,      28,  2,19950125,0219,  -8.9993,   -8.7752,  4165,  194.700,   11.235,   35.073,2,   35.075,2,   76.400,2, -999.000,3,   11.820,2,   30.020,2, -999.000,9,    1.870,2,    0.556,2,    0.288,2, -999.000,9, 2216.200,2, 2312.000,2
           NA,     A14,     34,   1,-999.0,      27,  2,19950125,0219,  -8.9993,   -8.7752,  4165,  296.000,    9.948,   34.926,2,   34.926,2,   66.800,2,   69.600,2,   14.180,2,   32.690,2, -999.000,9,    2.020,2,    0.328,2,    0.172,2, -999.000,9, 2226.100,2, 2306.400,2
           NA,     A14,     34,   1,-999.0,      26,  2,19950125,0219,  -8.9993,   -8.7752,  4165,  394.900,    8.385,   34.760,2,   34.764,2,   69.800,2,   67.600,2,   18.040,2,   35.760,2, -999.000,9,    2.260,2,    0.131,2,    0.074,2, -999.000,9, 2238.800,2, 2301.600,2
           NA,     A14,     34,   1,-999.0,      25,  2,19950125,0219,  -8.9993,   -8.7752,  4165,  497.200,    7.542,   34.676,2,   34.682,2,   77.400,2,   75.100,2,   20.220,2,   36.670,2, -999.000,9,    2.350,2,    0.064,2,    0.042,2, -999.000,9, 2242.300,2, 2300.100,2
           NA,     A14,     34,   1,-999.0,      24,  2,19950125,0219,  -8.9993,   -8.7752,  4165,  595.300,    6.382,   34.582,2,   34.582,2,  100.300,2, -999.000,3,   24.080,2,   37.340,2, -999.000,9,    2.420,2,    0.029,2,    0.017,2, -999.000,9, 2237.000,2, 2300.000,2
           NA,     A14,     34,   1,-999.0,      23,  2,19950125,0219,  -8.9993,   -8.7752,  4165,  693.100,    5.588,   34.526,2, -999.000,3,  117.800,2, -999.000,3,   27.520,2,   37.110,2, -999.000,9,    2.450,2,    0.020,2,    0.014,2, -999.000,9, 2234.000,2, 2299.500,2
           NA,     A14,     34,   1,-999.0,      22,  2,19950125,0219,  -8.9993,   -8.7752,  4165,  795.300,    4.958,   34.497,2,   34.502,2,  135.200,2, -999.000,3,   30.620,2,   36.590,2, -999.000,9,    2.420,2,    0.012,2,    0.013,2, -999.000,9, 2231.400,2, 2303.200,2
           NA,     A14,     34,   1,-999.0,      21,  2,19950125,0219,  -8.9993,   -8.7752,  4165,  995.000,    4.207,   34.562,2,   34.565,2,  153.500,2,  152.500,2,   34.630,2,   34.590,2, -999.000,9,    2.310,2,    0.004,2,    0.001,2, -999.000,9, 2226.100,2, 2312.500,2
           NA,     A14,     34,   1,-999.0,      20,  2,19950125,0219,  -8.9993,   -8.7752,  4165, 1194.500,    4.028,   34.713,2,   34.714,2,  173.300,2,  173.700,2,   32.010,2,   30.940,2, -999.000,9,    2.060,2,    0.005,2,    0.009,2, -999.000,9, 2211.800,2, 2318.700,2
           NA,     A14,     34,   1,-999.0,      18,  2,19950125,0219,  -8.9993,   -8.7752,  4165, 1395.100,    3.997,   34.864,2,   34.865,2,  205.300,2,  204.500,2,   25.690,2,   25.920,2, -999.000,9,    1.710,2,    0.005,2,    0.007,2, -999.000,9, 2194.900,2, 2321.000,2
           NA,     A14,     34,   1,-999.0,      19,  2,19950125,0219,  -8.9993,   -8.7752,  4165, 1395.600,    3.999,   34.864,2,   34.865,2,  205.400,2,  204.200,2,   25.700,2,   25.700,2, -999.000,9,    1.700,2,    0.005,2,    0.000,2, -999.000,9, -999.000,9, 2320.300,2
           NA,     A14,     34,   1,-999.0,      17,  2,19950125,0219,  -8.9993,   -8.7752,  4165, 1596.000,    3.840,   34.917,2,   34.918,2,  224.400,2,  222.300,2,   23.840,2,   23.510,2, -999.000,9,    1.550,2,    0.004,2,    0.006,2, -999.000,9, 2182.600,2, 2323.600,2
           NA,     A14,     34,   1,-999.0,      15,  2,19950125,0219,  -8.9993,   -8.7752,  4165, 1794.000,    3.621,   34.934,2,   34.932,2,  234.100,2,  232.600,2,   24.650,2,   22.550,2, -999.000,9,    1.460,2,    0.006,2, -999.000,9, -999.000,9, 2178.800,2, 2324.700,2
           NA,     A14,     34,   1,-999.0,      16,  2,19950125,0219,  -8.9993,   -8.7752,  4165, 1794.200,    3.621,   34.935,2,   34.936,2,  234.100,2,  232.700,2,   24.660,2,   22.560,2, -999.000,9,    1.470,2,    0.004,2,    0.001,2, -999.000,9, -999.000,9, 2325.500,2
           NA,     A14,     34,   1,-999.0,      14,  2,19950125,0219,  -8.9993,   -8.7752,  4165, 1997.500,    3.405,   34.937,2,   34.938,2,  238.200,2,  237.400,2,   25.390,2,   22.290,2, -999.000,9,    1.440,2,    0.003,2, -999.000,9, -999.000,9, 2185.700,2, 2327.500,2
           NA,     A14,     34,   1,-999.0,      13,  2,19950125,0219,  -8.9993,   -8.7752,  4165, 2295.000,    3.129,   34.928,2,   34.927,2,  238.100,2,  238.100,2,   31.740,2,   22.290,2, -999.000,9,    1.460,2,    0.004,2, -999.000,9, -999.000,9, -999.000,9, 2332.200,2
           NA,     A14,     34,   1,-999.0,      12,  2,19950125,0219,  -8.9993,   -8.7752,  4165, 2595.000,    2.850,   34.914,2,   34.914,2,  238.500,2,  238.800,2,   37.660,2,   22.800,2, -999.000,9,    1.490,2,    0.002,2,    0.000,2, -999.000,9, 2189.200,2, 2337.700,2
           NA,     A14,     34,   1,-999.0,      11,  2,19950125,0219,  -8.9993,   -8.7752,  4165, 2796.100,    2.670,   34.904,2, -999.000,3,  237.600,2,  237.900,2,   41.490,2,   23.020,2, -999.000,9,    1.520,2,    0.005,2,    0.004,2, -999.000,9, 2193.800,2, 2342.300,2
           NA,     A14,     34,   1,-999.0,      10,  2,19950125,0219,  -8.9993,   -8.7752,  4165, 2994.900,    2.509,   34.898,2,   34.900,2,  237.200,2,  237.000,2,   45.040,2,   23.140,2, -999.000,9,    1.530,2, -999.000,9, -999.000,9, -999.000,9, 2200.000,2, 2347.100,2
           NA,     A14,     34,   1,-999.0,       9,  2,19950125,0219,  -8.9993,   -8.7752,  4165, 3197.100,    2.440,   34.894,2,   34.891,2,  237.100,2,  237.600,2,   46.630,2,   23.350,2, -999.000,9,    1.540,2,    0.003,2,    0.001,2, -999.000,9, 2201.600,2, 2349.600,2
           NA,     A14,     34,   1,-999.0,       8,  2,19950125,0219,  -8.9993,   -8.7752,  4165, 3396.400,    2.419,   34.892,2,   34.889,2,  237.100,2,  237.500,2,   47.590,2,   23.350,2, -999.000,9,    1.550,2,    0.004,2,    0.006,2, -999.000,9, -999.000,9, 2351.700,2
           NA,     A14,     34,   1,-999.0,       7,  2,19950125,0219,  -8.9993,   -8.7752,  4165, 3596.200,    2.401,   34.890,2,   34.893,2,  237.300,2,  236.800,2,   47.930,2,   23.300,2, -999.000,9,    1.550,2, -999.000,9, -999.000,9, -999.000,9, 2204.300,2, 2352.500,2
           NA,     A14,     34,   1,-999.0,       6,  2,19950125,0219,  -8.9993,   -8.7752,  4165, 3796.400,    2.405,   34.890,2,   34.889,2,  237.600,2,  238.300,2,   48.800,2,   23.300,2, -999.000,9,    1.570,2,    0.008,2,    0.008,2, -999.000,9, 2206.200,2, 2352.000,2
           NA,     A14,     34,   1,-999.0,       5,  2,19950125,0219,  -8.9993,   -8.7752,  4165, 3996.800,    2.420,   34.890,2,   34.887,2,  237.800,2,  237.900,2,   48.860,2,   23.300,2, -999.000,9,    1.560,2,    0.002,2,    0.000,2, -999.000,9, 2203.500,2, 2351.400,2
           NA,     A14,     34,   1,-999.0,       4,  2,19950125,0219,  -8.9993,   -8.7752,  4165, 4148.500,    2.430,   34.889,2,   34.886,2,  238.500,2,  238.200,2,   48.840,2,   23.250,2, -999.000,9,    1.560,2,    0.004,2,    0.001,2, -999.000,9, -999.000,9, 2351.400,2
           NA,     A14,     34,   1,-999.0,       3,  2,19950125,0219,  -8.9993,   -8.7752,  4165, 4208.200,    2.436,   34.887,2,   34.888,2,  237.900,2,  238.500,2,   48.720,2,   23.200,2, -999.000,9,    1.550,2,    0.003,2, -999.000,9, -999.000,9, 2205.300,6, 2352.400,6
           NA,     A14,     33,   1,-999.0,      32,  2,19950124,2101,  -8.5005,   -8.6673,  3592,    3.200,   25.828,   36.422,2,   36.420,2,  209.700,2,  205.800,2,    1.030,2,    0.020,2, -999.000,9,    0.160,2,    1.794,2,    0.967,2, -999.000,9, 2055.700,6, 2397.600,2
           NA,     A14,     33,   1,-999.0,      31,  2,19950124,2101,  -8.5005,   -8.6673,  3592,   36.500,   25.117,   36.425,2,   36.428,2,  216.900,2, -999.000,3,    1.030,2,    0.020,2, -999.000,9,    0.160,2,    1.851,2,    0.979,2, -999.000,9, -999.000,9, -999.000,9
           NA,     A14,     33,   1,-999.0,      30,  2,19950124,2101,  -8.5005,   -8.6673,  3592,   70.800,   19.450,   36.097,2, -999.000,3,  203.200,2, -999.000,3,    2.740,2,    8.780,2, -999.000,9,    0.670,2,    1.804,2,    0.909,2, -999.000,9, -999.000,9, -999.000,9
           NA,     A14,     33,   1,-999.0,      29,  2,19950124,2101,  -8.5005,   -8.6673,  3592,   96.500,   15.103,   35.573,2, -999.000,3,  130.500,2, -999.000,3,    6.180,2,   20.770,2, -999.000,9,    1.330,2,    1.396,2,    0.700,2, -999.000,9, -999.000,9, -999.000,9
           NA,     A14,     33,   1,-999.0,      28,  2,19950124,2101,  -8.5005,   -8.6673,  3592,  147.000,   12.427,   35.219,2,   35.218,2,   92.900,2,   92.100,2,    9.260,2,   25.670,2, -999.000,9,    1.630,2,    0.918,2,    0.459,2, -999.000,9, -999.000,9, -999.000,9
           NA,     A14,     33,   1,-999.0,      27,  2,19950124,2101,  -8.5005,   -8.6673,  3592,  195.800,   10.813,   35.022,2,   35.027,2,   89.800,2,   88.700,2,   11.740,2,   29.110,2, -999.000,9,    1.810,2,    0.637,2,    0.320,2, -999.000,9, -999.000,9, -999.000,9
           NA,     A14,     33,   1,-999.0,      26,  2,19950124,2101,  -8.5005,   -8.6673,  3592,  297.500,    9.466,   34.868,2,   34.867,2,   73.900,2,   74.000,2,   15.250,2,   33.940,2, -999.000,9,    2.070,2,    0.311,2,    0.166,2, -999.000,9, -999.000,9, -999.000,9
           NA,     A14,     33,   1,-999.0,      25,  2,19950124,2101,  -8.5005,   -8.6673,  3592,  394.900,    8.494,   34.770,2,   34.769,2,   72.900,2,   72.700,2,   17.730,2,   36.110,2, -999.000,9,    2.220,2,    0.172,2,    0.098,2, -999.000,9, -999.000,9, -999.000,9
           NA,     A14,     33,   1,-999.0,      24,  2,19950124,2101,  -8.5005,   -8.6673,  3592,  496.900,    7.470,   34.671,2,   34.672,2,   81.700,2,   81.700,2,   20.290,2,   37.190,2, -999.000,9,    2.320,2,    0.087,2,    0.054,2, -999.000,9, -999.000,9, -999.000,9
           NA,     A14,     33,   1,-999.0,      23,  2,19950124,2101,  -8.5005,   -8.6673,  3592,  596.900,    6.444,   34.586,2,   34.588,2,   95.700,2,   93.200,2,   23.700,2,   37.970,2, -999.000,9,    2.420,2,    0.033,2,    0.021,2, -999.000,9, -999.000,9, -999.000,9
           NA,     A14,     33,   1,-999.0,      22,  2,19950124,2101,  -8.5005,   -8.6673,  3592,  694.800,    5.592,   34.527,2,   34.530,2,  119.700,2, -999.000,3,   27.110,2,   37.780,2, -999.000,9,    2.460,2,    0.021,2,    0.015,2, -999.000,9, -999.000,9, -999.000,9
           NA,     A14,     33,   1,-999.0,      21,  2,19950124,2101,  -8.5005,   -8.6673,  3592,  796.800,    4.927,   34.494,2,   34.496,2,  137.000,2, -999.000,3,   30.770,2,   37.080,2, -999.000,9,    2.430,2,    0.020,2,    0.013,2, -999.000,9, -999.000,9, -999.000,9
           NA,     A14,     33,   1,-999.0,      20,  2,19950124,2101,  -8.5005,   -8.6673,  3592,  894.700,    4.368,   34.510,2,   34.509,2,  151.700,2,  148.600,2, -999.000,9,   35.790,2, -999.000,9,    2.370,2,    0.009,2,    0.018,2, -999.000,9, -999.000,9, -999.000,9
           NA,     A14,     33,   1,-999.0,      19,  2,19950124,2101,  -8.5005,   -8.6673,  3592,  996.200,    4.194,   34.555,2,   34.556,2,  159.000,2,  156.500,2,   34.840,2,   34.860,2, -999.000,9,    2.300,2,    0.006,2,    0.002,2, -999.000,9, -999.000,9, -999.000,9
           NA,     A14,     33,   1,-999.0,      17,  2,19950124,2101,  -8.5005,   -8.6673,  3592, 1196.000,    4.136,   34.715,2,   34.711,2,  174.800,2,  172.700,2,   31.400,2,   31.380,2, -999.000,9,    2.070,2,    0.000,2,    0.000,2, -999.000,9, -999.000,9, -999.000,9
           NA,     A14,     33,   1,-999.0,      18,  2,19950124,2101,  -8.5005,   -8.6673,  3592, 1196.100,    4.136,   34.716,2,   34.713,2,  174.800,2,  172.600,2,   31.410,2,   31.400,2, -999.000,9,    2.070,2,    0.000,2,    0.000,2, -999.000,9, -999.000,9, -999.000,9
           NA,     A14,     33,   1,-999.0,      16,  2,19950124,2101,  -8.5005,   -8.6673,  3592, 1395.200,    4.023,   34.843,2,   34.845,2,  200.900,2,  199.000,2,   26.950,2,   27.010,2, -999.000,9,    1.770,2,    0.002,2,    0.002,2, -999.000,9, -999.000,9, -999.000,9
           NA,     A14,     33,   1,-999.0,      14,  2,19950124,2101,  -8.5005,   -8.6673,  3592, 1595.700,    3.827,   34.915,2,   34.914,2,  221.300,2,  221.900,2,   24.370,2,   23.910,2, -999.000,9,    1.560,2,    0.001,2,    0.002,2, -999.000,9, -999.000,9, -999.000,9
           NA,     A14,     33,   1,-999.0,      15,  2,19950124,2101,  -8.5005,   -8.6673,  3592, 1596.000,    3.832,   34.914,2,   34.913,2,  221.300,2,  221.300,2,   24.550,2,   23.880,2, -999.000,9,    1.560,2,    0.004,2,    0.006,2, -999.000,9, -999.000,9, -999.000,9
           NA,     A14,     33,   1,-999.0,      13,  2,19950124,2101,  -8.5005,   -8.6673,  3592, 1797.200,    3.638,   34.932,2,   34.931,2,  233.900,2,  231.100,2,   24.950,2,   22.810,2, -999.000,9,    1.480,2, -999.000,9, -999.000,9, -999.000,9, -999.000,9, -999.000,9
           NA,     A14,     33,   1,-999.0,      12,  2,19950124,2101,  -8.5005,   -8.6673,  3592, 1995.900,    3.366,   34.937,2,   34.936,2,  240.200,2,  238.100,2,   27.580,2,   22.280,2, -999.000,9,    1.440,2, -999.000,9, -999.000,9, -999.000,9, -999.000,9, -999.000,9
           NA,     A14,     33,   1,-999.0,      11,  2,19950124,2101,  -8.5005,   -8.6673,  3592, 2195.600,    3.173,   34.931,2,   34.929,2,  240.900,2,  238.800,2,   30.970,2,   22.450,2, -999.000,9,    1.450,2,    0.000,2,    0.001,2, -999.000,9, -999.000,9, -999.000,9
           NA,     A14,     33,   1,-999.0,      10,  2,19950124,2101,  -8.5005,   -8.6673,  3592, 2396.400,    2.960,   34.923,2,   34.921,2,  240.000,2,  238.600,2,   35.030,2,   22.700,2, -999.000,9,    1.470,2,    0.004,2,    0.000,2, -999.000,9, -999.000,9, -999.000,9
           NA,     A14,     33,   1,-999.0,       9,  2,19950124,2101,  -8.5005,   -8.6673,  3592, 2598.800,    2.821,   34.915,2,   34.914,2,  239.600,2,  238.500,2,   38.240,2,   22.950,2, -999.000,9,    1.480,2,    0.003,2, -999.000,9, -999.000,9, -999.000,9, -999.000,9
           NA,     A14,     33,   1,-999.0,       8,  2,19950124,2101,  -8.5005,   -8.6673,  3592, 2796.400,    2.679,   34.907,2,   34.904,2,  238.800,2,  238.100,2,   41.450,2,   23.120,2, -999.000,9,    1.490,2,    0.000,2,    0.000,2, -999.000,9, -999.000,9, -999.000,9
           NA,     A14,     33,   1,-999.0,       7,  2,19950124,2101,  -8.5005,   -8.6673,  3592, 2995.700,    2.535,   34.899,2,   34.897,2,  237.900,2,  237.900,2,   44.880,2,   23.370,2, -999.000,9,    1.530,2,    0.005,2,    0.006,2, -999.000,9, -999.000,9, -999.000,9
           NA,     A14,     33,   1,-999.0,       6,  2,19950124,2101,  -8.5005,   -8.6673,  3592, 3196.600,    2.450,   34.896,2,   34.892,2,  237.700,2,  237.500,2,   47.130,6,   23.450,2, -999.000,9,    1.540,6,    0.001,2,    0.005,2, -999.000,9, -999.000,9, -999.000,9
           NA,     A14,     33,   1,-999.0,       5,  2,19950124,2101,  -8.5005,   -8.6673,  3592, 3396.800,    2.445,   34.893,2,   34.890,2,  237.600,2,  237.800,2,   47.920,2,   23.530,2, -999.000,9,    1.540,2,    0.000,2,    0.000,2, -999.000,9, -999.000,9, -999.000,9
           NA,     A14,     33,   1,-999.0,       4,  2,19950124,2101,  -8.5005,   -8.6673,  3592, 3496.500,    2.411,   34.892,2,   34.890,2,  237.600,2,  237.500,2,   48.540,2,   23.520,2, -999.000,9,    1.540,2,    0.001,2, -999.000,9, -999.000,9, -999.000,9, -999.000,9
           NA,     A14,     33,   1,-999.0,       3,  2,19950124,2101,  -8.5005,   -8.6673,  3592, 3513.200,    2.413,   34.892,2,   34.891,2,  237.300,2,  237.800,2,   48.510,2,   23.510,2, -999.000,9,    1.540,2,    0.001,2,    0.002,2, -999.000,9, -999.000,9, -999.000,9