BOTTLE,20213527JOAExport
EXPOCODE,SECT_ID,STNNBR,CASTNO,SAMPNO,BTLNBR,BTLNBR_FLAG_W,DATE,TIME,LATITUDE,LONGITUDE,DEPTH,CTDPRS,CTDTMP,CTDSAL,CTDSAL_FLAG_W,SALNTY,SALNTY_FLAG_W,CTDOXY,CTDOXY_FLAG_W,OXYGEN,OXYGEN_FLAG_W,SILCAT,SILCAT_FLAG_W,NITRAT,NITRAT_FLAG_W,NITRIT,NITRIT_FLAG_W,PHSPHT,PHSPHT_FLAG_W,CFC-11,CFC-11_FLAG_W,CFC-12,CFC-12_FLAG_W,SF6,SF6_FLAG_W,TCARBN,TCARBN_FLAG_W,ALKALI,ALKALI_FLAG_W
,,,,,,,,,,,,DB,DEG C,PSS-78,,PSS-78,,UMOL/KG,,UMOL/KG,,UMOL/KG,,UMOL/KG,,UMOL/KG,,UMOL/KG,,PMOL/KG,,PMOL/KG,,FMOL/KG,,UMOL/KG,,UMOL/KG
           NA,     A14,     20,   1,-999.0,      32,  2,19950121,2008,  -2.0002,   -7.2220,  4663,    2.700,   27.147,   35.828,2,   35.828,2,  203.400,2,  203.200,2,    0.960,2,    0.000,2, -999.000,9,    0.090,2,    1.709,2,    0.994,2, -999.000,9, 2016.300,6, 2351.700,2
           NA,     A14,     20,   1,-999.0,      31,  2,19950121,2008,  -2.0002,   -7.2220,  4663,   46.900,   26.632,   35.823,2, -999.000,3,  210.800,2, -999.000,3,    1.050,2,    0.500,2, -999.000,9,    0.130,2,    1.724,2,    0.960,2, -999.000,9, 2020.300,2, -999.000,9
           NA,     A14,     20,   1,-999.0,      30,  2,19950121,2008,  -2.0002,   -7.2220,  4663,   97.000,   14.508,   35.475,2,   35.475,2,  121.900,2, -999.000,3,    6.780,2,   18.080,2, -999.000,9,    1.190,2,    1.474,2,    0.724,2, -999.000,9, 2158.400,2, -999.000,9
           NA,     A14,     20,   1,-999.0,      29,  2,19950121,2008,  -2.0002,   -7.2220,  4663,  146.200,   14.300,   35.449,2, -999.000,3,  125.600,2, -999.000,3,    6.940,2,   18.410,2, -999.000,9,    1.200,2,    1.448,2,    0.704,2, -999.000,9, 2157.200,2, -999.000,9
           NA,     A14,     20,   1,-999.0,      28,  2,19950121,2008,  -2.0002,   -7.2220,  4663,  196.500,   13.756,   35.377,2, -999.000,3,  119.000,2, -999.000,3,    8.050,2,   21.840,2, -999.000,9,    1.420,2,    1.237,2,    0.603,2, -999.000,9, 2178.400,2, -999.000,9
           NA,     A14,     20,   1,-999.0,      27,  2,19950121,2008,  -2.0002,   -7.2220,  4663,  296.900,   12.194,   35.173,2,   35.169,2,   92.300,2,   93.900,2,   10.170,2,   25.450,2, -999.000,9,    1.620,2,    0.883,2,    0.442,2, -999.000,9, 2194.100,2, -999.000,9
           NA,     A14,     20,   1,-999.0,      26,  2,19950121,2008,  -2.0002,   -7.2220,  4663,  395.700,    9.984,   34.932,2,   34.927,2,   69.600,2,   69.100,2,   14.770,2,   32.600,2, -999.000,9,    2.010,2,    0.382,2,    0.201,2, -999.000,9, 2225.100,2, -999.000,9
           NA,     A14,     20,   1,-999.0,      25,  2,19950121,2008,  -2.0002,   -7.2220,  4663,  596.200,    5.672,   34.515,2,   34.519,2,  129.400,2,  132.600,2,   25.730,2,   34.740,2, -999.000,9,    2.290,2,    0.121,2,    0.068,2, -999.000,9, 2218.100,2, -999.000,9
           NA,     A14,     20,   1,-999.0,      24,  2,19950121,2008,  -2.0002,   -7.2220,  4663,  796.100,    4.653,   34.532,2,   34.535,2,  148.900,2,  149.000,2,   31.660,2,   34.290,2, -999.000,9,    2.300,2,    0.022,2,    0.027,2, -999.000,9, 2221.300,2, -999.000,9
           NA,     A14,     20,   1,-999.0,      23,  2,19950121,2008,  -2.0002,   -7.2220,  4663,  995.000,    4.391,   34.591,2,   34.594,2,  153.700,2,  156.600,2,   32.570,2,   33.350,2, -999.000,9,    2.230,2,    0.011,2,    0.013,2, -999.000,9, 2218.400,2, -999.000,9
           NA,     A14,     20,   1,-999.0,      22,  2,19950121,2008,  -2.0002,   -7.2220,  4663, 1196.800,    4.411,   34.838,2,   34.837,2,  177.300,2, -999.000,4,   25.160,2,   27.230,2, -999.000,9,    1.800,2,    0.016,2,    0.007,2, -999.000,9, -999.000,9, -999.000,9
           NA,     A14,     20,   1,-999.0,      21,  2,19950121,2008,  -2.0002,   -7.2220,  4663, 1396.200,    4.306,   34.928,2,   34.928,2,  211.300,2,  213.300,2,   21.070,2,   23.730,2, -999.000,9,    1.560,2,    0.025,2,    0.019,2, -999.000,9, -999.000,9, -999.000,9
           NA,     A14,     20,   1,-999.0,      20,  2,19950121,2008,  -2.0002,   -7.2220,  4663, 1545.800,    4.121,   34.967,2,   34.967,2,  232.800,2,  232.000,2,   18.840,2,   21.720,2, -999.000,9,    1.420,2,    0.027,2,    0.021,2, -999.000,9, -999.000,9, -999.000,9
           NA,     A14,     20,   1,-999.0,      19,  2,19950121,2008,  -2.0002,   -7.2220,  4663, 1696.000,    4.014,   34.972,2,   34.972,2,  238.300,2,  238.300,2,   18.830,2,   21.210,2, -999.000,9,    1.370,2,    0.027,2,    0.017,2, -999.000,9, -999.000,9, -999.000,9
           NA,     A14,     20,   1,-999.0,      18,  2,19950121,2008,  -2.0002,   -7.2220,  4663, 1845.800,    3.821,   34.980,2,   34.981,2,  248.000,2,  247.700,2,   18.470,2,   20.290,2, -999.000,9,    1.300,2,    0.051,2,    0.033,2, -999.000,9, -999.000,9, -999.000,9
           NA,     A14,     20,   1,-999.0,      17,  2,19950121,2008,  -2.0002,   -7.2220,  4663, 1995.500,    3.503,   34.964,2,   34.965,2,  248.800,2,  248.000,2,   22.180,2,   20.620,2, -999.000,9,    1.320,2,    0.015,2,    0.017,2, -999.000,9, -999.000,9, -999.000,9
           NA,     A14,     20,   1,-999.0,      16,  2,19950121,2008,  -2.0002,   -7.2220,  4663, 2296.400,    3.057,   34.941,2,   34.938,2,  245.000,2,  245.000,2,   30.510,2,   21.330,2, -999.000,9,    1.350,2,    0.004,2,    0.005,2, -999.000,9, -999.000,9, -999.000,9
           NA,     A14,     20,   1,-999.0,      15,  2,19950121,2008,  -2.0002,   -7.2220,  4663, 2596.900,    2.870,   34.927,2,   34.925,2,  243.700,2,  243.500,2,   34.840,6,   21.920,6, -999.000,9,    1.420,6,    0.005,2,    0.008,2, -999.000,9, -999.000,9, -999.000,9
           NA,     A14,     20,   1,-999.0,      14,  2,19950121,2008,  -2.0002,   -7.2220,  4663, 2797.400,    2.706,   34.914,2,   34.913,2,  241.100,2,  241.600,2,   38.550,2,   22.190,2, -999.000,9,    1.460,2,    0.003,2,    0.001,2, -999.000,9, -999.000,9, -999.000,9
           NA,     A14,     20,   1,-999.0,      13,  2,19950121,2008,  -2.0002,   -7.2220,  4663, 2996.500,    2.613,   34.910,2,   34.907,2,  240.400,2,  242.400,2,   41.290,2,   22.440,2, -999.000,9,    1.470,2,    0.005,2,    0.004,2, -999.000,9, -999.000,9, -999.000,9
           NA,     A14,     20,   1,-999.0,      12,  2,19950121,2008,  -2.0002,   -7.2220,  4663, 2996.700,    2.613,   34.910,2,   34.907,2,  240.400,2,  241.600,2,   41.090,2,   22.390,2, -999.000,9,    1.470,2,    0.000,2, -999.000,9, -999.000,9, -999.000,9, -999.000,9
           NA,     A14,     20,   1,-999.0,      11,  2,19950121,2008,  -2.0002,   -7.2220,  4663, 3196.500,    2.542,   34.905,2,   34.903,2,  240.300,2,  240.800,2,   42.540,6,   22.390,2, -999.000,9,    1.480,6,    0.004,2, -999.000,9, -999.000,9, -999.000,9, -999.000,9
           NA,     A14,     20,   1,-999.0,      10,  2,19950121,2008,  -2.0002,   -7.2220,  4663, 3397.600,    2.490,   34.902,2,   34.901,2,  241.200,2,  242.100,2,   43.330,2,   22.470,2, -999.000,9,    1.480,2,    0.010,2,    0.007,2, -999.000,9, -999.000,9, -999.000,9
           NA,     A14,     20,   1,-999.0,       9,  2,19950121,2008,  -2.0002,   -7.2220,  4663, 3596.800,    2.440,   34.896,2,   34.895,2,  241.100,2,  242.600,2,   44.640,2,   22.510,2, -999.000,9,    1.480,2,    0.005,2, -999.000,9, -999.000,9, -999.000,9, -999.000,9
           NA,     A14,     20,   1,-999.0,       8,  2,19950121,2008,  -2.0002,   -7.2220,  4663, 3796.600,    2.370,   34.892,2,   34.889,2,  242.500,2,  243.500,2,   46.130,2,   22.540,2, -999.000,9,    1.480,2, -999.000,9, -999.000,9, -999.000,9, -999.000,9, -999.000,9
           NA,     A14,     20,   1,-999.0,       7,  2,19950121,2008,  -2.0002,   -7.2220,  4663, 3997.500,    2.328,   34.887,2,   34.887,2,  242.800,2,  243.600,2,   47.610,2,   22.660,2, -999.000,9,    1.490,2, -999.000,9, -999.000,9, -999.000,9, -999.000,9, -999.000,9
           NA,     A14,     20,   1,-999.0,       6,  2,19950121,2008,  -2.0002,   -7.2220,  4663, 4197.400,    2.280,   34.882,2,   34.880,2,  244.000,2,  244.300,2,   49.000,2,   22.780,2, -999.000,9,    1.500,2,    0.007,2,    0.002,2, -999.000,9, -999.000,9, -999.000,9
           NA,     A14,     20,   1,-999.0,       5,  2,19950121,2008,  -2.0002,   -7.2220,  4663, 4396.300,    2.244,   34.877,2,   34.875,2,  244.600,2,  244.400,2,   50.930,2,   22.820,2, -999.000,9,    1.520,2,    0.005,2,    0.004,2, -999.000,9, -999.000,9, -999.000,9
           NA,     A14,     20,   1,-999.0,       4,  2,19950121,2008,  -2.0002,   -7.2220,  4663, 4598.200,    2.222,   34.873,2,   34.872,2,  244.800,2,  243.700,2,   52.070,6,   22.970,6, -999.000,9,    1.520,6,    0.008,2,    0.009,2, -999.000,9, -999.000,9, -999.000,9
           NA,     A14,     20,   1,-999.0,       3,  2,19950121,2008,  -2.0002,   -7.2220,  4663, 4776.800,    2.200,   34.869,2,   34.867,2,  244.700,2,  243.100,2,   53.700,2,   23.190,2, -999.000,9,    1.550,2,    0.009,2,    0.012,2, -999.000,9, -999.000,9, -999.000,9
           NA,     A14,     19,   1,-999.0,      32,  2,19950121,1402,  -1.4988,   -7.1125,  4618,    2.700,   27.952,   35.622,2, -999.000,3,  200.200,2,  203.000,2,    0.820,2,    0.000,2, -999.000,9,    0.040,2,    1.690,2,    1.014,2, -999.000,9, 1995.700,6, 2336.900,6
           NA,     A14,     19,   1,-999.0,      31,  2,19950121,1402,  -1.4988,   -7.1125,  4618,   46.100,   26.221,   35.832,2, -999.000,3,  198.000,2, -999.000,3,    0.820,2,    0.250,2, -999.000,9,    0.100,2,    1.701,2,    0.897,2, -999.000,9, 2016.600,2, 2347.600,2
           NA,     A14,     19,   1,-999.0,      30,  2,19950121,1402,  -1.4988,   -7.1125,  4618,   91.500,   15.248,   35.555,2, -999.000,3,  107.200,2,  105.800,2,    6.260,6,   19.700,6, -999.000,9,    1.290,6,    1.448,2,    0.714,2, -999.000,9, 2172.800,2, 2333.900,2
           NA,     A14,     19,   1,-999.0,      29,  2,19950121,1402,  -1.4988,   -7.1125,  4618,  195.300,   14.203,   35.437,2,   35.434,2,  132.400,2,  135.100,2,    6.720,2,   17.880,2, -999.000,9,    1.180,2,    1.443,2,    0.705,2, -999.000,9, -999.000,9, 2331.400,2
           NA,     A14,     19,   1,-999.0,      28,  2,19950121,1402,  -1.4988,   -7.1125,  4618,  394.200,    8.672,   34.788,2, -999.000,3,   82.700,2,   81.100,2,   16.380,2,   33.290,2, -999.000,9,    2.090,2,    0.291,2,    0.151,2, -999.000,9, 2225.800,2, 2301.000,2
           NA,     A14,     19,   1,-999.0,      27,  2,19950121,1402,  -1.4988,   -7.1125,  4618,  594.800,    5.922,   34.519,2,   34.524,2,  149.700,2,  146.200,2,   23.300,2,   32.430,2, -999.000,9,    2.130,2,    0.267,2,    0.140,2, -999.000,9, 2206.200,2, 2298.700,2
           NA,     A14,     19,   1,-999.0,      26,  2,19950121,1402,  -1.4988,   -7.1125,  4618,  795.000,    4.657,   34.523,2,   34.524,2,  148.600,2,  149.900,2,   31.350,2,   34.020,2, -999.000,9,    2.290,2,    0.029,2,    0.021,2, -999.000,9, 2220.800,2, 2305.400,2
           NA,     A14,     19,   1,-999.0,      25,  2,19950121,1402,  -1.4988,   -7.1125,  4618,  994.300,    4.484,   34.589,2,   34.589,2,  156.000,2,  155.200,2,   31.780,2,   33.100,2, -999.000,9,    2.230,2,    0.016,2,    0.014,2, -999.000,9, 2219.600,2, 2309.600,2
           NA,     A14,     19,   1,-999.0,      24,  2,19950121,1402,  -1.4988,   -7.1125,  4618,  994.700,    4.478,   34.588,2,   34.590,2,  156.100,2,  155.400,2,   31.560,6,   33.180,2, -999.000,9,    2.220,6,    0.015,2,    0.015,2, -999.000,9, -999.000,9, 2309.900,2
           NA,     A14,     19,   1,-999.0,      23,  2,19950121,1402,  -1.4988,   -7.1125,  4618, 1195.300,    4.416,   34.829,2,   34.829,2,  182.300,2,  185.000,2,   25.150,2,   27.190,2, -999.000,9,    1.820,2,    0.019,2,    0.027,2, -999.000,9, 2202.100,2, 2315.900,2
           NA,     A14,     19,   1,-999.0,      22,  2,19950121,1402,  -1.4988,   -7.1125,  4618, 1396.000,    4.421,   34.910,2,   34.914,2,  206.200,2,  205.800,2,   21.380,2,   24.090,2, -999.000,9,    1.610,2,    0.029,2,    0.021,2, -999.000,9, 2186.800,2, 2317.200,2
           NA,     A14,     19,   1,-999.0,      21,  2,19950121,1402,  -1.4988,   -7.1125,  4618, 1542.600,    4.112,   34.965,2,   34.965,2,  232.400,2,  230.600,2,   18.670,2,   21.770,2, -999.000,9,    1.410,2,    0.026,2,    0.020,2, -999.000,9, 2173.200,2, 2318.200,2
           NA,     A14,     19,   1,-999.0,      20,  2,19950121,1402,  -1.4988,   -7.1125,  4618, 1695.600,    3.944,   34.976,2,   34.975,2,  241.700,2,  241.000,2,   18.110,2,   20.650,2, -999.000,9,    1.330,2,    0.034,2,    0.025,2, -999.000,9, 2167.400,2, 2319.100,2
           NA,     A14,     19,   1,-999.0,      19,  2,19950121,1402,  -1.4988,   -7.1125,  4618, 1842.300,    3.835,   34.981,2,   34.981,2,  249.400,2,  247.800,2,   17.620,2,   19.980,2, -999.000,9,    1.280,2,    0.054,2,    0.034,2, -999.000,9, 2165.500,2, 2318.400,2
           NA,     A14,     19,   1,-999.0,      18,  2,19950121,1402,  -1.4988,   -7.1125,  4618, 1994.500,    3.655,   34.974,2,   34.975,2,  252.000,2,  250.300,2,   18.950,2,   19.980,2, -999.000,9,    1.280,2,    0.042,2,    0.032,2, -999.000,9, 2165.400,2, 2325.300,2
           NA,     A14,     19,   1,-999.0,      17,  2,19950121,1402,  -1.4988,   -7.1125,  4618, 2194.900,    3.180,   34.948,2,   34.945,2,  247.800,2,  245.900,2,   27.200,2,   20.990,2, -999.000,9,    1.360,2,    0.009,2,    0.001,2, -999.000,9, 2175.700,2, 2329.900,2
           NA,     A14,     19,   1,-999.0,      16,  2,19950121,1402,  -1.4988,   -7.1125,  4618, 2394.900,    3.067,   34.940,2, -999.000,3,  245.300,2,  244.600,2,   29.690,2,   21.160,2, -999.000,9,    1.380,2,    0.002,2,    0.003,2, -999.000,9, 2176.400,2, 2330.700,2
           NA,     A14,     19,   1,-999.0,      15,  2,19950121,1402,  -1.4988,   -7.1125,  4618, 2595.300,    2.935,   34.930,2,   34.930,2,  245.200,2,  244.600,2,   32.180,2,   21.330,2, -999.000,9,    1.400,2,    0.009,2,    0.010,2, -999.000,9, 2181.700,2, 2332.800,2
           NA,     A14,     19,   1,-999.0,      14,  2,19950121,1402,  -1.4988,   -7.1125,  4618, 2795.600,    2.717,   34.916,2, -999.000,3,  240.700,2,  240.700,2,   37.970,2,   22.080,2, -999.000,9,    1.450,2,    0.008,2,    0.004,2, -999.000,9, 2190.200,2, 2337.500,2
           NA,     A14,     19,   1,-999.0,      13,  2,19950121,1402,  -1.4988,   -7.1125,  4618, 2995.800,    2.629,   34.910,2,   34.908,2,  240.100,2,  240.200,2,   39.970,2,   22.330,2, -999.000,9,    1.460,2,    0.007,2,    0.004,2, -999.000,9, 2192.500,2, 2340.300,2
           NA,     A14,     19,   1,-999.0,      12,  2,19950121,1402,  -1.4988,   -7.1125,  4618, 3195.900,    2.534,   34.903,2,   34.903,2,  240.600,2,  240.800,2,   41.750,2,   22.420,2, -999.000,9,    1.470,2,    0.006,2, -999.000,9, -999.000,9, 2193.900,2, 2342.600,2
           NA,     A14,     19,   1,-999.0,      11,  2,19950121,1402,  -1.4988,   -7.1125,  4618, 3395.800,    2.509,   34.901,2,   34.899,2,  240.700,2,  240.600,2,   43.280,2,   22.460,2, -999.000,9,    1.480,2,    0.004,2, -999.000,9, -999.000,9, 2195.200,2, 2344.500,2
           NA,     A14,     19,   1,-999.0,      10,  2,19950121,1402,  -1.4988,   -7.1125,  4618, 3595.600,    2.440,   34.897,2,   34.897,2,  241.500,2,  241.300,2,   44.280,2,   22.510,2, -999.000,9,    1.480,2,    0.008,2,    0.000,2, -999.000,9, 2196.100,2, 2345.000,2
           NA,     A14,     19,   1,-999.0,       9,  2,19950121,1402,  -1.4988,   -7.1125,  4618, 3795.600,    2.379,   34.893,2,   34.890,2,  243.200,2,  242.900,2,   45.370,2,   22.470,2, -999.000,9,    1.480,2,    0.007,2,    0.004,2, -999.000,9, 2197.200,2, 2345.600,2
           NA,     A14,     19,   1,-999.0,       8,  2,19950121,1402,  -1.4988,   -7.1125,  4618, 3996.900,    2.306,   34.887,2,   34.880,2,  244.000,2,  243.500,2,   47.260,2,   22.550,2, -999.000,9,    1.490,2,    0.009,2, -999.000,9, -999.000,9, 2197.000,2, 2347.600,2
           NA,     A14,     19,   1,-999.0,       7,  2,19950121,1402,  -1.4988,   -7.1125,  4618, 4195.100,    2.229,   34.877,2,   34.878,2,  243.900,2,  244.100,2,   49.860,2,   22.680,2, -999.000,9,    1.500,2,    0.010,2,    0.008,2, -999.000,9, 2200.800,2, 2348.200,2
           NA,     A14,     19,   1,-999.0,       6,  2,19950121,1402,  -1.4988,   -7.1125,  4618, 4396.000,    2.229,   34.876,2,   34.875,2,  244.700,2,  243.900,2,   51.040,2,   22.810,2, -999.000,9,    1.510,2,    0.011,2,    0.014,2, -999.000,9, 2202.000,2, 2348.300,2
           NA,     A14,     19,   1,-999.0,       5,  2,19950121,1402,  -1.4988,   -7.1125,  4618, 4597.300,    2.215,   34.872,2,   34.871,2,  244.700,2,  243.700,2,   52.050,2,   23.020,2, -999.000,9,    1.520,2,    0.011,2,    0.012,2, -999.000,9, 2202.600,2, 2352.200,2
           NA,     A14,     19,   1,-999.0,       4,  2,19950121,1402,  -1.4988,   -7.1125,  4618, 4667.100,    2.218,   34.872,2,   34.868,2,  244.800,2,  243.600,2,   52.070,2,   22.860,2, -999.000,9,    1.520,2,    0.010,2,    0.007,2, -999.000,9, 2201.900,2, 2349.900,2
           NA,     A14,     19,   1,-999.0,       3,  2,19950121,1402,  -1.4988,   -7.1125,  4618, 4667.500,    2.218,   34.872,2,   34.867,2,  244.800,2,  243.800,2,   52.190,2,   22.900,2, -999.000,9,    1.510,2,    0.010,2,    0.014,2, -999.000,9, 2202.400,6, 2350.600,2