BOTTLE,20213527JOAExport
EXPOCODE,SECT_ID,STNNBR,CASTNO,SAMPNO,BTLNBR,BTLNBR_FLAG_W,DATE,TIME,LATITUDE,LONGITUDE,DEPTH,CTDPRS,CTDTMP,CTDSAL,CTDSAL_FLAG_W,SALNTY,SALNTY_FLAG_W,CTDOXY,CTDOXY_FLAG_W,OXYGEN,OXYGEN_FLAG_W,SILCAT,SILCAT_FLAG_W,NITRAT,NITRAT_FLAG_W,NITRIT,NITRIT_FLAG_W,PHSPHT,PHSPHT_FLAG_W,CFC-11,CFC-11_FLAG_W,CFC-12,CFC-12_FLAG_W,SF6,SF6_FLAG_W,TCARBN,TCARBN_FLAG_W,ALKALI,ALKALI_FLAG_W
,,,,,,,,,,,,DB,DEG C,PSS-78,,PSS-78,,UMOL/KG,,UMOL/KG,,UMOL/KG,,UMOL/KG,,UMOL/KG,,UMOL/KG,,PMOL/KG,,PMOL/KG,,FMOL/KG,,UMOL/KG,,UMOL/KG
           NA,     A14,     95,   1,-999.0,      30,  2,19950208,0914, -39.5003,   -8.9997,  2907,    3.500,   14.919,   34.787,2,   34.789,2,  259.300,2,  259.900,2,    0.000,2,    2.210,6, -999.000,9,    0.310,6,    3.089,2,    1.524,2, -999.000,9, -999.000,9, 2306.600,2
           NA,     A14,     95,   1,-999.0,      29,  2,19950208,0914, -39.5003,   -8.9997,  2907,   21.900,   14.918,   34.796,2,   34.799,2,  259.600,2,  260.200,2,    0.800,2,    2.210,6, -999.000,9,    0.320,6,    3.101,2,    1.524,2, -999.000,9, -999.000,9, -999.000,9
           NA,     A14,     95,   1,-999.0,      28,  2,19950208,0914, -39.5003,   -8.9997,  2907,   47.300,   14.771,   34.795,2,   34.799,2,  261.700,2,  259.800,2,    0.700,2,    2.390,6, -999.000,9,    0.340,6,    3.112,2,    1.549,2, -999.000,9, -999.000,9, -999.000,9
           NA,     A14,     95,   1,-999.0,      27,  2,19950208,0914, -39.5003,   -8.9997,  2907,   71.700,   13.886,   34.809,2,   34.809,2,  260.000,2,  256.600,2,    1.200,2,    3.780,2, -999.000,9,    0.450,6,    3.264,2,    1.609,2, -999.000,9, -999.000,9, -999.000,9
           NA,     A14,     95,   1,-999.0,      25,  2,19950208,0914, -39.5003,   -8.9997,  2907,   97.100,   12.498,   34.810,2,   34.813,2,  259.200,2,  255.000,2,    1.600,2,    6.910,6, -999.000,9,    0.590,6,    3.408,2, -999.000,9, -999.000,9, -999.000,9, -999.000,9
           NA,     A14,     95,   1,-999.0,      26,  2,19950208,0914, -39.5003,   -8.9997,  2907,   97.300,   12.494,   34.810,2,   34.812,2,  259.200,2,  255.300,2,    2.000,2,    6.830,2, -999.000,9,    0.600,6,    3.409,2,    1.666,2, -999.000,9, -999.000,9, -999.000,9
           NA,     A14,     95,   1,-999.0,      24,  2,19950208,0914, -39.5003,   -8.9997,  2907,  146.700,   10.579,   34.698,2, -999.000,3,  258.200,2,  257.700,2,    2.800,2,   10.480,6, -999.000,9,    0.800,6,    3.671,2,    1.774,2, -999.000,9, -999.000,9, -999.000,9
           NA,     A14,     95,   1,-999.0,      23,  2,19950208,0914, -39.5003,   -8.9997,  2907,  197.000,    9.651,   34.660,2,   34.665,2,  256.100,2,  255.800,2, -999.000,9,   13.180,2, -999.000,9,    0.940,2,    3.693,2,    1.795,2, -999.000,9, -999.000,9, -999.000,9
           NA,     A14,     95,   1,-999.0,      22,  2,19950208,0914, -39.5003,   -8.9997,  2907,  296.400,    8.559,   34.598,2,   34.596,2,  239.700,2,  237.100,2,    5.700,6,   18.090,6, -999.000,9,    1.240,6,    3.339,2,    1.558,2, -999.000,9, -999.000,9, -999.000,9
           NA,     A14,     95,   1,-999.0,      21,  2,19950208,0914, -39.5003,   -8.9997,  2907,  395.900,    7.268,   34.474,2,   34.472,2,  233.900,2,  229.800,2,    8.300,2,   22.070,2, -999.000,9,    1.500,2,    3.029,2,    1.376,2, -999.000,9, -999.000,9, -999.000,9
           NA,     A14,     95,   1,-999.0,      20,  2,19950208,0914, -39.5003,   -8.9997,  2907,  494.900,    5.596,   34.316,2,   34.312,2,  236.900,2,  238.700,2,   11.700,2,   25.340,2, -999.000,9,    1.750,2,    2.995,2,    1.347,2, -999.000,9, -999.000,9, -999.000,9
           NA,     A14,     95,   1,-999.0,      19,  2,19950208,0914, -39.5003,   -8.9997,  2907,  596.500,    4.774,   34.266,2,   34.268,2,  244.700,2,  243.300,2,   15.500,2,   27.000,2, -999.000,9,    1.840,2, -999.000,9, -999.000,9, -999.000,9, -999.000,9, -999.000,9
           NA,     A14,     95,   1,-999.0,      18,  2,19950208,0914, -39.5003,   -8.9997,  2907,  695.700,    4.258,   34.251,2,   34.249,2,  243.300,2,  243.600,2,   19.500,2,   28.240,2, -999.000,9,    1.930,2,    2.499,2,    1.097,2, -999.000,9, -999.000,9, -999.000,9
           NA,     A14,     95,   1,-999.0,      17,  2,19950208,0914, -39.5003,   -8.9997,  2907,  795.500,    3.805,   34.252,2,   34.249,2,  238.600,2,  240.000,2,   24.100,2,   29.420,2, -999.000,9,    2.000,2,    2.188,2,    0.969,2, -999.000,9, -999.000,9, -999.000,9
           NA,     A14,     95,   1,-999.0,      16,  2,19950208,0914, -39.5003,   -8.9997,  2907,  895.100,    3.363,   34.260,2,   34.256,2,  233.200,2,  234.600,2,   30.000,6,   30.550,6, -999.000,9,    2.070,6,    1.905,2,    0.850,2, -999.000,9, -999.000,9, -999.000,9
           NA,     A14,     95,   1,-999.0,      15,  2,19950208,0914, -39.5003,   -8.9997,  2907,  995.800,    3.148,   34.295,2,   34.296,2,  224.700,2,  225.400,2,   35.700,2,   31.490,2, -999.000,9,    2.150,2,    1.581,2,    0.713,2, -999.000,9, -999.000,9, -999.000,9
           NA,     A14,     95,   1,-999.0,      14,  2,19950208,0914, -39.5003,   -8.9997,  2907, 1195.600,    2.830,   34.394,2,   34.390,2,  204.900,2,  204.700,2,   48.200,2,   32.730,2, -999.000,9,    2.240,2,    0.870,2,    0.390,2, -999.000,9, -999.000,9, -999.000,9
           NA,     A14,     95,   1,-999.0,      13,  2,19950208,0914, -39.5003,   -8.9997,  2907, 1395.800,    2.731,   34.518,2,   34.519,2,  192.600,2,  193.600,2,   56.300,2,   32.500,2, -999.000,9,    2.210,2,    0.414,2,    0.187,2, -999.000,9, -999.000,9, -999.000,9
           NA,     A14,     95,   1,-999.0,      12,  2,19950208,0914, -39.5003,   -8.9997,  2907, 1595.600,    2.695,   34.646,2,   34.643,2,  190.400,2,  192.500,2,   59.800,6,   30.740,6, -999.000,9,    2.100,6,    0.129,2,    0.059,2, -999.000,9, -999.000,9, -999.000,9
           NA,     A14,     95,   1,-999.0,      11,  2,19950208,0914, -39.5003,   -8.9997,  2907, 1797.100,    2.663,   34.679,2,   34.676,2,  197.600,2,  198.100,2,   59.500,2,   29.920,2, -999.000,9,    2.060,2,    0.123,2,    0.055,2, -999.000,9, -999.000,9, -999.000,9
           NA,     A14,     95,   1,-999.0,      10,  2,19950208,0914, -39.5003,   -8.9997,  2907, 1994.900,    2.614,   34.747,2,   34.745,2,  203.400,2,  204.200,2,   60.100,2,   28.460,2, -999.000,9,    1.960,2,    0.051,2,    0.024,2, -999.000,9, -999.000,9, -999.000,9
           NA,     A14,     95,   1,-999.0,       9,  2,19950208,0914, -39.5003,   -8.9997,  2907, 2196.300,    2.590,   34.781,2,   34.779,2,  208.900,2,  209.300,2,   59.600,2,   27.460,2, -999.000,9,    1.890,2,    0.033,2,    0.015,2, -999.000,9, -999.000,9, -999.000,9
           NA,     A14,     95,   1,-999.0,       8,  2,19950208,0914, -39.5003,   -8.9997,  2907, 2397.400,    2.535,   34.796,2,   34.795,2,  212.400,2,  212.700,2,   60.200,2,   26.980,6, -999.000,9,    1.860,6,    0.019,2,    0.008,2, -999.000,9, -999.000,9, -999.000,9
           NA,     A14,     95,   1,-999.0,       7,  2,19950208,0914, -39.5003,   -8.9997,  2907, 2595.700,    2.466,   34.803,2,   34.801,2,  214.600,2,  215.500,2,   61.000,2,   26.770,2, -999.000,9,    1.840,2,    0.021,2,    0.010,2, -999.000,9, -999.000,9, -999.000,9
           NA,     A14,     95,   1,-999.0,       6,  2,19950208,0914, -39.5003,   -8.9997,  2907, 2796.300,    2.368,   34.817,2,   34.815,2,  217.900,2,  220.300,2,   63.000,2,   26.240,2, -999.000,9,    1.810,2,    0.017,2,    0.009,2, -999.000,9, -999.000,9, -999.000,9
           NA,     A14,     95,   1,-999.0,       4,  2,19950208,0914, -39.5003,   -8.9997,  2907, 2895.700,    2.346,   34.822,2,   34.819,2,  221.000,2,  220.900,2,   62.900,2,   26.190,2, -999.000,9,    1.800,2,    0.010,2,    0.010,2, -999.000,9, -999.000,9, -999.000,9
           NA,     A14,     95,   1,-999.0,       5,  2,19950208,0914, -39.5003,   -8.9997,  2907, 2895.900,    2.348,   34.822,2,   34.820,2,  221.000,2,  221.300,2,   62.400,2,   26.250,2, -999.000,9,    1.800,2,    0.010,2,    0.009,2, -999.000,9, -999.000,9, -999.000,9
           NA,     A14,     95,   1,-999.0,       3,  2,19950208,0914, -39.5003,   -8.9997,  2907, 2942.700,    2.342,   34.822,2,   34.821,2,  221.400,2,  222.100,2,   63.100,2,   25.960,2, -999.000,9,    1.790,2,    0.011,2,    0.006,2, -999.000,9, -999.000,9, -999.000,9
           NA,     A14,     93,   1,-999.0,      31,  2,19950207,2329, -38.5007,   -9.0005,  3235,    3.900,   15.234,   34.877,2,   34.880,2,  267.100,2,  265.200,2,    0.000,2,    1.260,2, -999.000,9,    0.270,2,    3.069,2,    1.489,2, -999.000,9, -999.000,9, -999.000,9
           NA,     A14,     93,   1,-999.0,      32,  2,19950207,2329, -38.5007,   -9.0005,  3235,    4.000,   15.232,   34.877,2,   34.881,2,  267.100,2,  265.100,2,    0.000,2,    1.260,2, -999.000,9,    0.270,2,    3.073,2,    1.461,2, -999.000,9, -999.000,9, 2311.600,2
           NA,     A14,     93,   1,-999.0,      30,  2,19950207,2329, -38.5007,   -9.0005,  3235,   21.000,   14.905,   34.881,2, -999.000,3,  265.500,2,  264.900,2,    0.100,2,    1.710,2, -999.000,9,    0.290,2,    3.094,2,    1.460,2, -999.000,9, -999.000,9, -999.000,9
           NA,     A14,     93,   1,-999.0,      29,  2,19950207,2329, -38.5007,   -9.0005,  3235,   46.800,   13.734,   34.904,2,   34.908,2,  264.000,2, -999.000,3,    0.700,2,    3.530,2, -999.000,9,    0.440,2,    3.221,2,    1.555,2, -999.000,9, -999.000,9, -999.000,9
           NA,     A14,     93,   1,-999.0,      28,  2,19950207,2329, -38.5007,   -9.0005,  3235,   71.600,   12.087,   34.919,2,   34.919,2,  263.900,2,  260.200,2,    1.800,2,    6.590,2, -999.000,9,    0.590,2,    3.435,2,    1.638,2, -999.000,9, -999.000,9, -999.000,9
           NA,     A14,     93,   1,-999.0,      27,  2,19950207,2329, -38.5007,   -9.0005,  3235,   98.000,   11.745,   34.926,2,   34.929,2,  259.300,2,  256.800,2,    2.300,2,    7.920,2, -999.000,9,    0.630,6,    3.433,2,    1.645,2, -999.000,9, -999.000,9, -999.000,9
           NA,     A14,     93,   1,-999.0,      26,  2,19950207,2329, -38.5007,   -9.0005,  3235,  147.300,   11.526,   34.962,2,   34.963,2,  255.700,2,  253.700,2,    2.100,2,    9.340,2, -999.000,9,    0.660,2,    3.437,2,    1.654,2, -999.000,9, -999.000,9, -999.000,9
           NA,     A14,     93,   1,-999.0,      25,  2,19950207,2329, -38.5007,   -9.0005,  3235,  196.400,   10.981,   34.899,2,   34.899,2,  255.300,2,  253.300,2,    2.400,2,   10.800,2, -999.000,9,    0.750,2,    3.443,2,    1.651,2, -999.000,9, -999.000,9, -999.000,9
           NA,     A14,     93,   1,-999.0,      23,  2,19950207,2329, -38.5007,   -9.0005,  3235,  296.700,   10.144,   34.792,2,   34.796,2,  245.000,2,  246.900,2,    3.100,2,   12.850,2, -999.000,9,    0.920,2,    3.440,2,    1.618,2, -999.000,9, -999.000,9, -999.000,9
           NA,     A14,     93,   1,-999.0,      24,  2,19950207,2329, -38.5007,   -9.0005,  3235,  296.800,   10.139,   34.792,2,   34.796,2,  245.000,2,  247.400,2,    3.400,2,   13.550,6, -999.000,9,    0.930,6,    3.426,2,    1.611,2, -999.000,9, -999.000,9, -999.000,9
           NA,     A14,     93,   1,-999.0,      22,  2,19950207,2329, -38.5007,   -9.0005,  3235,  394.900,    8.706,   34.624,2,   34.621,2,  229.400,2,  230.100,2,    5.600,2,   18.480,2, -999.000,9,    1.270,2,    3.130,2,    1.427,2, -999.000,9, -999.000,9, -999.000,9
           NA,     A14,     93,   1,-999.0,      21,  2,19950207,2329, -38.5007,   -9.0005,  3235,  495.600,    6.724,   34.411,2,   34.411,2,  232.000,2,  229.700,2, -999.000,9,   23.450,2, -999.000,9,    1.600,2,    2.972,2,    1.320,2, -999.000,9, -999.000,9, -999.000,9
           NA,     A14,     93,   1,-999.0,      20,  2,19950207,2329, -38.5007,   -9.0005,  3235,  595.600,    5.324,   34.287,2,   34.284,2,  246.600,2,  243.000,2,   12.600,2,   25.910,2, -999.000,9,    1.780,2,    2.951,2,    1.295,2, -999.000,9, -999.000,9, -999.000,9
           NA,     A14,     93,   1,-999.0,      19,  2,19950207,2329, -38.5007,   -9.0005,  3235,  695.900,    4.515,   34.245,2,   34.242,2,  248.300,2,  247.900,2,   16.400,2,   27.310,2, -999.000,9,    1.870,2,    2.689,2,    1.173,2, -999.000,9, -999.000,9, -999.000,9
           NA,     A14,     93,   1,-999.0,      18,  2,19950207,2329, -38.5007,   -9.0005,  3235,  795.400,    3.939,   34.238,2,   34.236,2,  245.000,2,  244.400,2,   21.800,2,   28.940,2, -999.000,9,    1.980,2,    2.277,2,    0.996,2, -999.000,9, -999.000,9, -999.000,9
           NA,     A14,     93,   1,-999.0,      17,  2,19950207,2329, -38.5007,   -9.0005,  3235,  894.600,    3.521,   34.257,2,   34.255,2,  237.400,2,  235.100,2,   28.000,2,   30.350,2, -999.000,9,    2.080,2,    1.740,2,    0.747,2, -999.000,9, -999.000,9, -999.000,9
           NA,     A14,     93,   1,-999.0,      15,  2,19950207,2329, -38.5007,   -9.0005,  3235,  994.800,    3.202,   34.286,2,   34.284,2,  228.300,2,  225.500,2,   34.900,2,   31.510,2, -999.000,9,    2.160,2,    1.385,2,    0.614,2, -999.000,9, -999.000,9, -999.000,9
           NA,     A14,     93,   1,-999.0,      16,  2,19950207,2329, -38.5007,   -9.0005,  3235,  994.900,    3.207,   34.285,2,   34.280,2,  228.300,2,  225.900,2,   34.500,2,   31.500,6, -999.000,9,    2.160,6,    1.401,2,    0.623,2, -999.000,9, -999.000,9, -999.000,9
           NA,     A14,     93,   1,-999.0,      14,  2,19950207,2329, -38.5007,   -9.0005,  3235, 1195.900,    2.806,   34.393,2,   34.394,2,  205.500,2,  201.600,2,   49.500,2,   33.150,2, -999.000,9,    2.280,2,    0.755,2,    0.338,2, -999.000,9, -999.000,9, -999.000,9
           NA,     A14,     93,   1,-999.0,      13,  2,19950207,2329, -38.5007,   -9.0005,  3235, 1394.900,    2.737,   34.504,2,   34.503,2,  191.400,2,  190.000,2,   57.200,2,   32.970,2, -999.000,9,    2.300,2,    0.359,2,    0.166,2, -999.000,9, -999.000,9, -999.000,9
           NA,     A14,     93,   1,-999.0,      12,  2,19950207,2329, -38.5007,   -9.0005,  3235, 1596.600,    2.740,   34.628,2,   34.629,2,  191.200,2,  192.700,2,   58.300,2,   31.160,2, -999.000,9,    2.150,2,    0.099,2,    0.041,2, -999.000,9, -999.000,9, -999.000,9
           NA,     A14,     93,   1,-999.0,      11,  2,19950207,2329, -38.5007,   -9.0005,  3235, 1796.200,    2.718,   34.696,2,   34.694,2,  197.600,2,  198.800,2,   57.900,2,   29.750,2, -999.000,9,    2.050,2,    0.050,2,    0.024,2, -999.000,9, -999.000,9, -999.000,9
           NA,     A14,     93,   1,-999.0,      10,  2,19950207,2329, -38.5007,   -9.0005,  3235, 1994.500,    2.680,   34.755,2,   34.755,2,  205.100,2,  205.500,2,   56.900,2,   28.230,2, -999.000,9,    1.950,2,    0.028,2,    0.016,2, -999.000,9, -999.000,9, -999.000,9
           NA,     A14,     93,   1,-999.0,       9,  2,19950207,2329, -38.5007,   -9.0005,  3235, 2195.900,    2.625,   34.795,2,   34.794,2,  212.600,2,  213.200,2,   55.500,2,   27.010,2, -999.000,9,    1.860,2,    0.014,2,    0.006,2, -999.000,9, -999.000,9, -999.000,9
           NA,     A14,     93,   1,-999.0,       8,  2,19950207,2329, -38.5007,   -9.0005,  3235, 2396.400,    2.583,   34.816,2,   34.815,2,  218.300,2,  219.000,2,   55.200,2,   26.010,2, -999.000,9,    1.810,2,    0.008,2,    0.000,2, -999.000,9, -999.000,9, -999.000,9
           NA,     A14,     93,   1,-999.0,       7,  2,19950207,2329, -38.5007,   -9.0005,  3235, 2596.400,    2.499,   34.834,2,   34.832,2,  223.900,2,  224.100,2,   55.300,2,   25.430,2, -999.000,9,    1.770,2,    0.006,2,    0.000,2, -999.000,9, -999.000,9, -999.000,9
           NA,     A14,     93,   1,-999.0,       6,  2,19950207,2329, -38.5007,   -9.0005,  3235, 2797.100,    2.396,   34.841,2,   34.840,2,  227.700,2,  227.800,2,   56.500,2,   24.960,2, -999.000,9,    1.750,2,    0.004,2,    0.002,2, -999.000,9, -999.000,9, -999.000,9
           NA,     A14,     93,   1,-999.0,       5,  2,19950207,2329, -38.5007,   -9.0005,  3235, 2995.700,    2.310,   34.844,2,   34.841,2,  230.100,2,  230.200,2,   57.800,2,   24.960,2, -999.000,9,    1.750,2,    0.002,2,   -0.002,2, -999.000,9, -999.000,9, -999.000,9
           NA,     A14,     93,   1,-999.0,       4,  2,19950207,2329, -38.5007,   -9.0005,  3235, 3196.200,    2.191,   34.840,2,   34.839,2,  230.300,2,  230.700,2,   61.400,6,   25.130,2, -999.000,9,    1.760,6,    0.005,2,    0.000,2, -999.000,9, -999.000,9, -999.000,9
           NA,     A14,     93,   1,-999.0,       3,  2,19950207,2329, -38.5007,   -9.0005,  3235, 3262.600,    2.180,   34.839,2,   34.839,2,  229.400,2,  230.500,2,   61.800,6,   25.130,2, -999.000,9,    1.760,6,    0.003,2,    0.000,2, -999.000,9, -999.000,9, -999.000,9