BOTTLE,20213527JOAExport
EXPOCODE,SECT_ID,STNNBR,CASTNO,SAMPNO,BTLNBR,BTLNBR_FLAG_W,DATE,TIME,LATITUDE,LONGITUDE,DEPTH,CTDPRS,CTDTMP,CTDSAL,CTDSAL_FLAG_W,SALNTY,SALNTY_FLAG_W,CTDOXY,CTDOXY_FLAG_W,OXYGEN,OXYGEN_FLAG_W,SILCAT,SILCAT_FLAG_W,NITRAT,NITRAT_FLAG_W,NITRIT,NITRIT_FLAG_W,PHSPHT,PHSPHT_FLAG_W,CFC-11,CFC-11_FLAG_W,CFC-12,CFC-12_FLAG_W,SF6,SF6_FLAG_W,TCARBN,TCARBN_FLAG_W,ALKALI,ALKALI_FLAG_W
,,,,,,,,,,,,DB,DEG C,PSS-78,,PSS-78,,UMOL/KG,,UMOL/KG,,UMOL/KG,,UMOL/KG,,UMOL/KG,,UMOL/KG,,PMOL/KG,,PMOL/KG,,FMOL/KG,,UMOL/KG,,UMOL/KG
           NA,     A14,     63,   1,-999.0,      32,  2,19950131,1541, -23.5003,   -9.0012,  4723,    3.500,   26.204,   36.592,2,   36.593,2,  208.600,2,  207.400,2,    1.300,2,    0.020,2, -999.000,9,    0.190,2,    1.850,2,    0.955,2, -999.000,9, -999.000,9, 2409.200,2
           NA,     A14,     63,   1,-999.0,      31,  2,19950131,1541, -23.5003,   -9.0012,  4723,   45.000,   22.337,   36.355,2,   36.354,2,  229.300,2,  229.600,2,    1.600,2,    0.020,2, -999.000,9,    0.160,2,    2.187,2,    1.075,2, -999.000,9, -999.000,9, -999.000,9
           NA,     A14,     63,   1,-999.0,      30,  2,19950131,1541, -23.5003,   -9.0012,  4723,  107.000,   20.026,   36.206,2, -999.000,3,  226.900,2,  229.700,2,    1.400,2,    0.020,2, -999.000,9,    0.160,2,    2.299,2,    1.143,2, -999.000,9, -999.000,9, -999.000,9
           NA,     A14,     63,   1,-999.0,      29,  2,19950131,1541, -23.5003,   -9.0012,  4723,  180.600,   16.470,   35.592,2, -999.000,3,  215.600,2,  217.700,2,    2.100,2,    2.820,2, -999.000,9,    0.360,2,    2.548,2,    1.236,2, -999.000,9, -999.000,9, -999.000,9
           NA,     A14,     63,   1,-999.0,      28,  2,19950131,1541, -23.5003,   -9.0012,  4723,  396.600,   10.619,   34.868,2,   34.867,2,  198.000,2,  198.600,2,    6.900,2,   16.910,2, -999.000,9,    1.160,2,    2.174,2,    0.987,2, -999.000,9, -999.000,9, -999.000,9
           NA,     A14,     63,   1,-999.0,      27,  2,19950131,1541, -23.5003,   -9.0012,  4723,  495.200,    8.405,   34.637,2, -999.000,3,  184.000,2,  182.100,2,   12.300,2,   23.220,2, -999.000,9,    1.600,2,    1.616,2,    0.710,2, -999.000,9, -999.000,9, -999.000,9
           NA,     A14,     63,   1,-999.0,      26,  2,19950131,1541, -23.5003,   -9.0012,  4723,  589.000,    6.798,   34.506,2, -999.000,9,  179.100,2,  181.300,2,   17.400,2,   27.900,2, -999.000,9,    1.890,2,    1.119,2,    0.502,2, -999.000,9, -999.000,9, -999.000,9
           NA,     A14,     63,   1,-999.0,      25,  2,19950131,1541, -23.5003,   -9.0012,  4723,  696.000,    5.220,   34.392,2,   34.397,2,  189.800,2,  188.500,2,   24.000,2,   30.650,2, -999.000,9,    2.070,2,    0.830,2,    0.379,2, -999.000,9, -999.000,9, -999.000,9
           NA,     A14,     63,   1,-999.0,      24,  2,19950131,1541, -23.5003,   -9.0012,  4723,  795.600,    4.326,   34.389,2,   34.392,2,  189.800,2, -999.000,3,   31.500,2,   32.350,2, -999.000,9,    2.200,2,    0.450,2,    0.206,2, -999.000,9, -999.000,9, -999.000,9
           NA,     A14,     63,   1,-999.0,      23,  2,19950131,1541, -23.5003,   -9.0012,  4723,  994.800,    3.689,   34.512,2,   34.509,2,  180.500,2,  179.800,2,   39.300,2,   32.410,2, -999.000,9,    2.210,2,    0.051,2,    0.030,2, -999.000,9, -999.000,9, -999.000,9
           NA,     A14,     63,   1,-999.0,      22,  2,19950131,1541, -23.5003,   -9.0012,  4723, 1194.900,    3.482,   34.634,2,   34.637,2,  185.600,2,  186.500,2,   40.900,2,   30.420,2, -999.000,9,    2.080,2,    0.018,2,    0.010,2, -999.000,9, -999.000,9, -999.000,9
           NA,     A14,     63,   1,-999.0,      21,  2,19950131,1541, -23.5003,   -9.0012,  4723, 1395.200,    3.281,   34.721,2,   34.717,2,  197.800,2,  196.100,2,   42.700,2,   28.780,2, -999.000,9,    1.970,2,    0.007,2,    0.001,2, -999.000,9, -999.000,9, -999.000,9
           NA,     A14,     63,   1,-999.0,      20,  2,19950131,1541, -23.5003,   -9.0012,  4723, 1594.600,    3.162,   34.789,2,   34.789,2,  209.300,2,  209.800,2,   40.700,2,   26.550,2, -999.000,9,    1.810,2,    0.005,2, -999.000,9, -999.000,9, -999.000,9, -999.000,9
           NA,     A14,     63,   1,-999.0,      19,  2,19950131,1541, -23.5003,   -9.0012,  4723, 1796.200,    3.050,   34.845,2,   34.845,2,  226.400,2,  224.700,2,   38.500,2,   24.200,2, -999.000,9,    1.660,2,    0.005,2,    0.003,2, -999.000,9, -999.000,9, -999.000,9
           NA,     A14,     63,   1,-999.0,      18,  2,19950131,1541, -23.5003,   -9.0012,  4723, 1996.200,    2.874,   34.871,2,   34.871,2,  234.700,2,  233.300,2,   38.500,2,   23.310,2, -999.000,9,    1.590,2,    0.005,2,   -0.001,2, -999.000,9, -999.000,9, -999.000,9
           NA,     A14,     63,   1,-999.0,      17,  2,19950131,1541, -23.5003,   -9.0012,  4723, 2295.800,    2.636,   34.877,2,   34.877,2,  239.100,2,  238.100,2,   42.100,2,   23.140,2, -999.000,9,    1.560,2,    0.000,2,   -0.001,2, -999.000,9, -999.000,9, -999.000,9
           NA,     A14,     63,   1,-999.0,      16,  2,19950131,1541, -23.5003,   -9.0012,  4723, 2596.200,    2.505,   34.876,2,   34.873,2,  240.300,2,  239.300,2,   45.300,2,   23.140,2, -999.000,9,    1.570,2,    0.001,2,    0.002,2, -999.000,9, -999.000,9, -999.000,9
           NA,     A14,     63,   1,-999.0,      15,  2,19950131,1541, -23.5003,   -9.0012,  4723, 2795.700,    2.450,   34.876,2,   34.875,2,  241.000,2,  240.000,2,   46.600,2,   23.140,2, -999.000,9,    1.570,2,    0.003,2,    0.006,2, -999.000,9, -999.000,9, -999.000,9
           NA,     A14,     63,   1,-999.0,      14,  2,19950131,1541, -23.5003,   -9.0012,  4723, 2996.000,    2.395,   34.876,2,   34.875,2,  241.100,2,  239.900,2,   47.900,2,   23.140,2, -999.000,9,    1.570,2,    0.002,2,    0.001,2, -999.000,9, -999.000,9, -999.000,9
           NA,     A14,     63,   1,-999.0,      13,  2,19950131,1541, -23.5003,   -9.0012,  4723, 3195.100,    2.364,   34.878,2,   34.877,2,  240.600,2,  239.200,2,   49.100,6,   23.190,2, -999.000,9,    1.570,6,    0.002,2,    0.006,2, -999.000,9, -999.000,9, -999.000,9
           NA,     A14,     63,   1,-999.0,      12,  2,19950131,1541, -23.5003,   -9.0012,  4723, 3395.400,    2.348,   34.881,2,   34.879,2,  239.000,2,  237.800,2,   49.700,2,   23.270,2, -999.000,9,    1.570,2,    0.003,2, -999.000,9, -999.000,9, -999.000,9, -999.000,9
           NA,     A14,     63,   1,-999.0,      11,  2,19950131,1541, -23.5003,   -9.0012,  4723, 3596.900,    2.351,   34.884,2,   34.883,2,  238.200,2,  236.400,2,   50.200,2,   23.320,2, -999.000,9,    1.570,2,    0.007,2,   -0.001,2, -999.000,9, -999.000,9, -999.000,9
           NA,     A14,     63,   1,-999.0,      10,  2,19950131,1541, -23.5003,   -9.0012,  4723, 3797.400,    2.360,   34.885,2,   34.886,2,  237.400,2,  235.500,2,   50.400,2,   23.320,2, -999.000,9,    1.570,2,    0.010,2,    0.006,2, -999.000,9, -999.000,9, -999.000,9
           NA,     A14,     63,   1,-999.0,       9,  2,19950131,1541, -23.5003,   -9.0012,  4723, 3995.700,    2.375,   34.886,2,   34.886,2,  236.400,2,  235.400,2,   50.800,2,   23.280,2, -999.000,9,    1.570,2,    0.004,2,    0.000,2, -999.000,9, -999.000,9, -999.000,9
           NA,     A14,     63,   1,-999.0,       8,  2,19950131,1541, -23.5003,   -9.0012,  4723, 4197.900,    2.393,   34.887,2,   34.886,2,  236.400,2,  234.600,2,   50.600,2,   23.280,2, -999.000,9,    1.570,2,    0.001,2,    0.001,2, -999.000,9, -999.000,9, -999.000,9
           NA,     A14,     63,   1,-999.0,       7,  2,19950131,1541, -23.5003,   -9.0012,  4723, 4398.700,    2.415,   34.886,2,   34.889,2,  235.800,2,  234.000,2,   50.700,2,   23.280,2, -999.000,9,    1.580,2, -999.000,9, -999.000,9, -999.000,9, -999.000,9, -999.000,9
           NA,     A14,     63,   1,-999.0,       6,  2,19950131,1541, -23.5003,   -9.0012,  4723, 4399.000,    2.415,   34.886,2,   34.888,2,  235.800,2,  234.600,2,   51.000,2,   23.280,2, -999.000,9,    1.570,2,    0.003,2,   -0.001,2, -999.000,9, -999.000,9, -999.000,9
           NA,     A14,     63,   1,-999.0,       5,  2,19950131,1541, -23.5003,   -9.0012,  4723, 4597.100,    2.434,   34.887,2,   34.887,2,  235.700,2,  234.000,2,   50.900,2,   23.280,2, -999.000,9,    1.570,2,    0.003,2,    0.001,2, -999.000,9, -999.000,9, -999.000,9
           NA,     A14,     63,   1,-999.0,       4,  2,19950131,1541, -23.5003,   -9.0012,  4723, 4698.500,    2.445,   34.887,2,   34.886,2,  236.100,2,  234.000,2,   51.000,6,   23.320,6, -999.000,9,    1.590,6,    0.002,2,    0.001,2, -999.000,9, -999.000,9, -999.000,9
           NA,     A14,     63,   1,-999.0,       3,  2,19950131,1541, -23.5003,   -9.0012,  4723, 4779.800,    2.454,   34.887,2,   34.887,2,  236.200,2,  235.200,2,   51.100,2,   23.280,2, -999.000,9,    1.580,2,    0.002,2,    0.004,2, -999.000,9, -999.000,9, -999.000,9
           NA,     A14,     62,   1,-999.0,      32,  2,19950131,0959, -22.9992,   -8.9998,  4247,    4.600,   26.183,   36.526,2,   36.526,2,  199.900,2, -999.000,3,    1.400,2,    0.020,2, -999.000,9,    0.150,2,    1.833,2,    0.985,2, -999.000,9, -999.000,9, 2403.500,2
           NA,     A14,     62,   1,-999.0,      31,  2,19950131,0959, -22.9992,   -8.9998,  4247,   56.400,   21.798,   36.229,2,   36.225,2,  234.300,2,  234.200,2,    1.400,2,    0.020,2, -999.000,9,    0.150,2,    2.244,2,    1.115,2, -999.000,9, -999.000,9, -999.000,9
           NA,     A14,     62,   1,-999.0,      30,  2,19950131,0959, -22.9992,   -8.9998,  4247,   96.900,   19.552,   36.096,2, -999.000,3,  233.700,2,  233.700,2,    1.400,2,    0.020,2, -999.000,9,    0.150,2,    2.354,2,    1.175,2, -999.000,9, -999.000,9, -999.000,9
           NA,     A14,     62,   1,-999.0,      29,  2,19950131,0959, -22.9992,   -8.9998,  4247,  147.300,   17.212,   35.719,2, -999.000,3,  223.100,2,  222.500,2,    1.900,2,    1.260,2, -999.000,9,    0.280,2,    2.501,2,    1.234,2, -999.000,9, -999.000,9, -999.000,9
           NA,     A14,     62,   1,-999.0,      28,  2,19950131,0959, -22.9992,   -8.9998,  4247,  197.600,   15.046,   35.385,2,   35.387,2,  208.400,2,  211.800,2,    2.800,2,    6.150,2, -999.000,9,    0.520,2,    2.621,2,    1.275,2, -999.000,9, -999.000,9, -999.000,9
           NA,     A14,     62,   1,-999.0,      27,  2,19950131,0959, -22.9992,   -8.9998,  4247,  297.800,   12.878,   35.117,2, -999.000,3,  199.000,2,  199.900,2,    4.400,2,   11.910,2, -999.000,9,    0.830,2,    2.474,2,    1.164,2, -999.000,9, -999.000,9, -999.000,9
           NA,     A14,     62,   1,-999.0,      25,  2,19950131,0959, -22.9992,   -8.9998,  4247,  395.100,   10.771,   34.886,2, -999.000,3,  188.000,2,  188.300,2,    7.300,2,   17.600,2, -999.000,9,    1.200,2,    2.057,2,    0.944,2, -999.000,9, -999.000,9, -999.000,9
           NA,     A14,     62,   1,-999.0,      26,  2,19950131,0959, -22.9992,   -8.9998,  4247,  395.800,   10.872,   34.883,2, -999.000,3,  187.800,2,  188.200,2,    7.300,2,   17.680,2, -999.000,9,    1.200,2,    2.057,2,    0.958,2, -999.000,9, -999.000,9, -999.000,9
           NA,     A14,     62,   1,-999.0,      24,  2,19950131,0959, -22.9992,   -8.9998,  4247,  495.600,    9.054,   34.702,2, -999.000,3,  178.200,2,  179.800,2,   10.800,2,   22.210,2, -999.000,9,    1.500,2,    1.681,2,    0.761,2, -999.000,9, -999.000,9, -999.000,9
           NA,     A14,     62,   1,-999.0,      23,  2,19950131,0959, -22.9992,   -8.9998,  4247,  595.300,    6.856,   34.504,2,   34.505,2,  186.100,2,  182.900,2,   17.000,6,   27.310,6, -999.000,9,    1.840,6,    1.231,2,    0.550,2, -999.000,9, -999.000,9, -999.000,9
           NA,     A14,     62,   1,-999.0,      22,  2,19950131,0959, -22.9992,   -8.9998,  4247,  694.500,    5.058,   34.382,2, -999.000,3,  184.800,2, -999.000,3,   24.500,2,   30.360,2, -999.000,9,    2.050,2,    0.859,2,    0.391,2, -999.000,9, -999.000,9, -999.000,9
           NA,     A14,     62,   1,-999.0,      21,  2,19950131,0959, -22.9992,   -8.9998,  4247,  796.000,    4.277,   34.394,2,   34.398,2,  181.500,2,  181.400,2,   32.500,2,   32.820,2, -999.000,9,    2.210,2,    0.405,2,    0.186,2, -999.000,9, -999.000,9, -999.000,9
           NA,     A14,     62,   1,-999.0,      20,  2,19950131,0959, -22.9992,   -8.9998,  4247,  994.700,    3.685,   34.499,2,   34.500,2,  179.400,2,  179.100,2,   39.800,2,   32.710,2, -999.000,9,    2.210,2,    0.055,2,    0.029,2, -999.000,9, -999.000,9, -999.000,9
           NA,     A14,     62,   1,-999.0,      19,  2,19950131,0959, -22.9992,   -8.9998,  4247, 1196.400,    3.487,   34.623,2,   34.624,2,  186.800,2,  187.300,2,   40.900,2,   30.600,2, -999.000,9,    2.070,2,    0.012,2,    0.002,2, -999.000,9, -999.000,9, -999.000,9
           NA,     A14,     62,   1,-999.0,      18,  2,19950131,0959, -22.9992,   -8.9998,  4247, 1395.900,    3.378,   34.722,2,   34.721,2,  197.800,2,  198.300,2,   39.900,2,   28.500,2, -999.000,9,    1.920,2,    0.004,2, -999.000,9, -999.000,9, -999.000,9, -999.000,9
           NA,     A14,     62,   1,-999.0,      17,  2,19950131,0959, -22.9992,   -8.9998,  4247, 1594.800,    3.237,   34.815,2,   34.815,2,  214.500,2,  215.500,2,   37.700,2,   25.460,2, -999.000,9,    1.720,2,    0.004,2,   -0.002,2, -999.000,9, -999.000,9, -999.000,9
           NA,     A14,     62,   1,-999.0,      16,  2,19950131,0959, -22.9992,   -8.9998,  4247, 1796.500,    3.211,   34.864,2,   34.866,2,  229.400,2,  227.900,2,   34.200,2,   23.640,2, -999.000,9,    1.590,2,    0.006,2,    0.003,2, -999.000,9, -999.000,9, -999.000,9
           NA,     A14,     62,   1,-999.0,      15,  2,19950131,0959, -22.9992,   -8.9998,  4247, 1994.500,    3.006,   34.883,2,   34.881,2,  236.300,2,  235.700,2,   35.200,2,   22.840,2, -999.000,9,    1.520,2,    0.000,2,    0.002,2, -999.000,9, -999.000,9, -999.000,9
           NA,     A14,     62,   1,-999.0,      14,  2,19950131,0959, -22.9992,   -8.9998,  4247, 2196.700,    2.771,   34.878,2,   34.879,2,  237.900,2,  237.400,2,   39.400,2,   22.930,2, -999.000,9,    1.530,2,    0.003,2,   -0.002,2, -999.000,9, -999.000,9, -999.000,9
           NA,     A14,     62,   1,-999.0,      13,  2,19950131,0959, -22.9992,   -8.9998,  4247, 2398.000,    2.630,   34.871,2,   34.872,2,  237.900,2,  236.900,2,   43.200,2,   23.290,2, -999.000,9,    1.560,2,    0.001,2,   -0.003,2, -999.000,9, -999.000,9, -999.000,9
           NA,     A14,     62,   1,-999.0,      12,  2,19950131,0959, -22.9992,   -8.9998,  4247, 2596.400,    2.543,   34.877,2,   34.874,2,  239.900,2,  239.700,2,   44.400,2,   23.110,2, -999.000,9,    1.540,2,    0.003,2,    0.000,2, -999.000,9, -999.000,9, -999.000,9
           NA,     A14,     62,   1,-999.0,      11,  2,19950131,0959, -22.9992,   -8.9998,  4247, 2797.400,    2.461,   34.874,2,   34.870,2,  240.300,2,  240.000,2,   46.100,2,   23.120,2, -999.000,9,    1.550,2,    0.004,2,    0.005,2, -999.000,9, -999.000,9, -999.000,9
           NA,     A14,     62,   1,-999.0,      10,  2,19950131,0959, -22.9992,   -8.9998,  4247, 2996.500,    2.385,   34.876,2,   34.880,2,  240.100,2,  240.100,2,   47.500,2,   23.120,2, -999.000,9,    1.550,2, -999.000,9, -999.000,9, -999.000,9, -999.000,9, -999.000,9
           NA,     A14,     62,   1,-999.0,       9,  2,19950131,0959, -22.9992,   -8.9998,  4247, 3196.500,    2.362,   34.878,2,   34.879,2,  239.500,2,  239.200,2,   49.000,2,   23.210,2, -999.000,9,    1.550,2,    0.001,2,   -0.002,2, -999.000,9, -999.000,9, -999.000,9
           NA,     A14,     62,   1,-999.0,       8,  2,19950131,0959, -22.9992,   -8.9998,  4247, 3395.800,    2.351,   34.881,2,   34.880,2,  238.200,2,  238.300,2,   49.900,2,   23.210,2, -999.000,9,    1.550,2,    0.003,2,   -0.004,2, -999.000,9, -999.000,9, -999.000,9
           NA,     A14,     62,   1,-999.0,       7,  2,19950131,0959, -22.9992,   -8.9998,  4247, 3593.500,    2.361,   34.882,2,   34.884,2,  237.200,2,  237.100,2,   49.800,2,   23.120,2, -999.000,9,    1.550,2, -999.000,9, -999.000,9, -999.000,9, -999.000,9, -999.000,9
           NA,     A14,     62,   1,-999.0,       6,  2,19950131,0959, -22.9992,   -8.9998,  4247, 3796.900,    2.370,   34.883,2,   34.883,2,  236.500,2,  236.200,2,   50.300,2,   23.210,2, -999.000,9,    1.560,2,    0.004,2,    0.003,2, -999.000,9, -999.000,9, -999.000,9
           NA,     A14,     62,   1,-999.0,       5,  2,19950131,0959, -22.9992,   -8.9998,  4247, 3995.100,    2.384,   34.885,2,   34.885,2,  235.600,2,  235.800,2,   50.600,2,   23.210,2, -999.000,9,    1.580,2,    0.003,2,   -0.003,2, -999.000,9, -999.000,9, -999.000,9
           NA,     A14,     62,   1,-999.0,       4,  2,19950131,0959, -22.9992,   -8.9998,  4247, 4197.400,    2.391,   34.887,2,   34.885,2,  235.200,2,  234.900,2,   50.900,2,   23.210,2, -999.000,9,    1.550,2,    0.000,2,    0.001,2, -999.000,9, -999.000,9, -999.000,9
           NA,     A14,     62,   1,-999.0,       3,  2,19950131,0959, -22.9992,   -8.9998,  4247, 4302.100,    2.404,   34.884,2,   34.886,2,  233.100,2,  235.700,2,   51.000,2,   23.300,2, -999.000,9,    1.550,2,    0.001,2,    0.001,2, -999.000,9, -999.000,9, -999.000,9