BOTTLE,20213527JOAExport
EXPOCODE,SECT_ID,STNNBR,CASTNO,SAMPNO,BTLNBR,BTLNBR_FLAG_W,DATE,TIME,LATITUDE,LONGITUDE,DEPTH,CTDPRS,CTDTMP,CTDSAL,CTDSAL_FLAG_W,SALNTY,SALNTY_FLAG_W,CTDOXY,CTDOXY_FLAG_W,OXYGEN,OXYGEN_FLAG_W,SILCAT,SILCAT_FLAG_W,NITRAT,NITRAT_FLAG_W,NITRIT,NITRIT_FLAG_W,PHSPHT,PHSPHT_FLAG_W,CFC-11,CFC-11_FLAG_W,CFC-12,CFC-12_FLAG_W,SF6,SF6_FLAG_W,TCARBN,TCARBN_FLAG_W,ALKALI,ALKALI_FLAG_W
,,,,,,,,,,,,DB,DEG C,PSS-78,,PSS-78,,UMOL/KG,,UMOL/KG,,UMOL/KG,,UMOL/KG,,UMOL/KG,,UMOL/KG,,PMOL/KG,,PMOL/KG,,FMOL/KG,,UMOL/KG,,UMOL/KG
           NA,     A14,     36,   1,-999.0,      32,  2,19950125,1304, -10.0028,   -9.0003,  3574,    2.900,   25.504,   36.389,2,   36.387,2,  201.600,2, -999.000,3,    1.200,2,    0.000,2, -999.000,9,    0.160,2,    1.855,2,    0.951,2, -999.000,9, -999.000,9, 2392.800,2
           NA,     A14,     36,   1,-999.0,      31,  2,19950125,1304, -10.0028,   -9.0003,  3574,   61.800,   24.083,   36.445,2,   36.443,2,  217.300,2,  216.000,2,    0.870,2,    0.020,2, -999.000,9,    0.140,2,    1.946,2,    0.988,2, -999.000,9, -999.000,9, -999.000,9
           NA,     A14,     36,   1,-999.0,      30,  2,19950125,1304, -10.0028,   -9.0003,  3574,   96.900,   18.805,   36.130,2, -999.000,3,  205.000,2, -999.000,3,    2.700,2,    9.800,2, -999.000,9,    0.720,2,    1.911,2,    0.948,2, -999.000,9, -999.000,9, -999.000,9
           NA,     A14,     36,   1,-999.0,      29,  2,19950125,1304, -10.0028,   -9.0003,  3574,  157.600,   12.856,   35.278,2,   35.281,2,   93.400,2, -999.000,3,    8.880,2,   25.300,2, -999.000,9,    1.620,2,    0.823,2,    0.372,2, -999.000,9, -999.000,9, -999.000,9
           NA,     A14,     36,   1,-999.0,      28,  2,19950125,1304, -10.0028,   -9.0003,  3574,  196.200,   11.888,   35.160,2,   35.158,2,   82.200,2,   83.200,2,   10.380,2,   27.580,2, -999.000,9,    1.750,2,    0.789,2,    0.390,2, -999.000,9, -999.000,9, -999.000,9
           NA,     A14,     36,   1,-999.0,      27,  2,19950125,1304, -10.0028,   -9.0003,  3574,  296.600,    9.439,   34.869,2,   34.869,2,   89.300,2,   88.800,2,   14.390,2,   31.580,2, -999.000,9,    2.000,2,    0.358,2,    0.181,2, -999.000,9, -999.000,9, -999.000,9
           NA,     A14,     36,   1,-999.0,      26,  2,19950125,1304, -10.0028,   -9.0003,  3574,  395.900,    8.245,   34.741,2,   34.739,2,   88.700,2,   88.600,2,   17.560,2,   34.210,2, -999.000,9,    2.160,2,    0.182,2,    0.098,2, -999.000,9, -999.000,9, -999.000,9
           NA,     A14,     36,   1,-999.0,      25,  2,19950125,1304, -10.0028,   -9.0003,  3574,  495.100,    7.081,   34.633,2,   34.634,2,   95.000,2,   94.600,2,   21.240,2,   36.030,2, -999.000,9,    2.310,2,    0.075,2,    0.048,2, -999.000,9, -999.000,9, -999.000,9
           NA,     A14,     36,   1,-999.0,      24,  2,19950125,1304, -10.0028,   -9.0003,  3574,  595.500,    6.246,   34.561,2,   34.564,2,  107.300,2,  109.700,2,   23.910,2,   36.500,2, -999.000,9,    2.350,2,    0.058,2,    0.031,2, -999.000,9, -999.000,9, -999.000,9
           NA,     A14,     36,   1,-999.0,      23,  2,19950125,1304, -10.0028,   -9.0003,  3574,  695.100,    5.490,   34.518,2,   34.521,2,  115.500,2,  117.500,2,   27.750,2,   36.960,2, -999.000,9,    2.420,2,    0.020,2,    0.011,2, -999.000,9, -999.000,9, -999.000,9
           NA,     A14,     36,   1,-999.0,      22,  2,19950125,1304, -10.0028,   -9.0003,  3574,  794.100,    4.752,   34.496,2,   34.500,2,  134.300,2,  135.000,2,   31.600,2,   36.450,2, -999.000,9,    2.410,2,    0.011,2,    0.006,2, -999.000,9, -999.000,9, -999.000,9
           NA,     A14,     36,   1,-999.0,      21,  2,19950125,1304, -10.0028,   -9.0003,  3574,  895.100,    4.286,   34.524,2, -999.000,4,  150.200,2, -999.000,3,   34.190,2,   33.540,2, -999.000,9,    2.230,2,    0.000,2,    0.001,2, -999.000,9, -999.000,9, -999.000,9
           NA,     A14,     36,   1,-999.0,      20,  2,19950125,1304, -10.0028,   -9.0003,  3574,  995.500,    4.087,   34.598,2,   34.597,2,  161.400,2,  162.700,2,   34.270,2,   33.430,2, -999.000,9,    2.230,2,    0.004,2, -999.000,9, -999.000,9, -999.000,9, -999.000,9
           NA,     A14,     36,   1,-999.0,      19,  2,19950125,1304, -10.0028,   -9.0003,  3574,  996.500,    4.089,   34.596,2,   34.599,2,  161.500,2,  163.100,2,   34.190,2,   33.380,2, -999.000,9,    2.240,2,    0.003,2, -999.000,9, -999.000,9, -999.000,9, -999.000,9
           NA,     A14,     36,   1,-999.0,      18,  2,19950125,1304, -10.0028,   -9.0003,  3574, 1195.000,    4.080,   34.757,2,   34.756,2,  183.400,2,  183.000,2,   29.520,2,   29.560,2, -999.000,9,    1.950,2,    0.003,2,    0.002,2, -999.000,9, -999.000,9, -999.000,9
           NA,     A14,     36,   1,-999.0,      17,  2,19950125,1304, -10.0028,   -9.0003,  3574, 1396.500,    4.018,   34.877,2,   34.875,2,  208.400,2,  207.500,2,   24.930,2,   25.570,2, -999.000,9,    1.680,2,    0.004,2,    0.001,2, -999.000,9, -999.000,9, -999.000,9
           NA,     A14,     36,   1,-999.0,      16,  2,19950125,1304, -10.0028,   -9.0003,  3574, 1593.400,    3.820,   34.921,2,   34.919,2,  223.600,2,  223.400,2,   24.090,2,   23.420,2, -999.000,9,    1.550,2,    0.003,2,    0.002,2, -999.000,9, -999.000,9, -999.000,9
           NA,     A14,     36,   1,-999.0,      15,  2,19950125,1304, -10.0028,   -9.0003,  3574, 1793.500,    3.640,   34.932,2,   34.933,2,  232.500,2,  231.900,2,   25.100,2,   22.640,2, -999.000,9,    1.490,2,    0.003,2, -999.000,3, -999.000,9, -999.000,9, -999.000,9
           NA,     A14,     36,   1,-999.0,      14,  2,19950125,1304, -10.0028,   -9.0003,  3574, 1995.700,    3.330,   34.929,2,   34.929,2,  236.600,2,  236.100,2,   28.780,2,   22.510,2, -999.000,9,    1.470,2,    0.000,2,    0.000,2, -999.000,9, -999.000,9, -999.000,9
           NA,     A14,     36,   1,-999.0,      13,  2,19950125,1304, -10.0028,   -9.0003,  3574, 2197.000,    3.100,   34.925,2,   34.925,2,  238.300,2,  238.300,2,   32.620,2,   22.470,2, -999.000,9,    1.470,2,    0.001,2,    0.001,2, -999.000,9, -999.000,9, -999.000,9
           NA,     A14,     36,   1,-999.0,      12,  2,19950125,1304, -10.0028,   -9.0003,  3574, 2396.900,    2.934,   34.920,2,   34.918,2,  236.900,2,  236.700,2,   35.800,2,   22.820,2, -999.000,9,    1.500,2,    0.001,2,    0.001,2, -999.000,9, -999.000,9, -999.000,9
           NA,     A14,     36,   1,-999.0,      11,  2,19950125,1304, -10.0028,   -9.0003,  3574, 2589.700,    2.776,   34.912,2,   34.911,2,  237.600,2,  237.400,2,   38.980,2,   22.950,2, -999.000,9,    1.510,2,    0.000,2,    0.000,2, -999.000,9, -999.000,9, -999.000,9
           NA,     A14,     36,   1,-999.0,      10,  2,19950125,1304, -10.0028,   -9.0003,  3574, 2796.200,    2.660,   34.906,2,   34.907,2,  237.300,2,  237.200,2,   41.660,2,   23.080,2, -999.000,9,    1.520,2,    0.004,2,    0.003,2, -999.000,9, -999.000,9, -999.000,9
           NA,     A14,     36,   1,-999.0,       9,  2,19950125,1304, -10.0028,   -9.0003,  3574, 2995.200,    2.575,   34.901,2,   34.901,2,  237.100,2,  237.500,2,   43.900,2,   23.220,2, -999.000,9,    1.530,2,    0.001,2,    0.000,2, -999.000,9, -999.000,9, -999.000,9
           NA,     A14,     36,   1,-999.0,       8,  2,19950125,1304, -10.0028,   -9.0003,  3574, 3196.200,    2.469,   34.895,2,   34.899,2,  237.000,2,  237.400,2,   46.510,2,   23.350,2, -999.000,9,    1.540,2,    0.002,2,    0.000,2, -999.000,9, -999.000,9, -999.000,9
           NA,     A14,     36,   1,-999.0,       7,  2,19950125,1304, -10.0028,   -9.0003,  3574, 3396.000,    2.421,   34.893,2,   34.892,2,  237.400,2,  237.500,2,   48.130,2,   23.400,2, -999.000,9,    1.550,2,    0.005,2, -999.000,9, -999.000,9, -999.000,9, -999.000,9
           NA,     A14,     36,   1,-999.0,       6,  2,19950125,1304, -10.0028,   -9.0003,  3574, 3495.800,    2.416,   34.892,2,   34.890,2,  238.000,2,  237.600,2,   48.670,2,   23.440,2, -999.000,9,    1.540,2, -999.000,3, -999.000,3, -999.000,9, -999.000,9, -999.000,9
           NA,     A14,     36,   1,-999.0,       4,  2,19950125,1304, -10.0028,   -9.0003,  3574, 3545.800,    2.414,   34.892,2,   34.891,2,  237.200,2,  237.700,2,   48.950,2,   23.450,2, -999.000,9,    1.550,2,    0.002,2,    0.000,2, -999.000,9, -999.000,9, -999.000,9
           NA,     A14,     36,   1,-999.0,       5,  2,19950125,1304, -10.0028,   -9.0003,  3574, 3545.800,    2.414,   34.892,2,   34.890,2,  237.200,2,  237.900,2,   48.400,2,   23.440,2, -999.000,9,    1.540,2,    0.002,2,    0.004,2, -999.000,9, -999.000,9, -999.000,9
           NA,     A14,     36,   1,-999.0,       3,  2,19950125,1304, -10.0028,   -9.0003,  3574, 3601.900,    2.411,   34.892,2,   34.892,2,  237.400,2,  237.500,2,   49.040,2,   23.450,2, -999.000,9,    1.550,2,    0.002,2,    0.000,2, -999.000,9, -999.000,9, -999.000,9
           NA,     A14,     35,   1,-999.0,      31,  2,19950125,0749,  -9.4995,   -8.8887,  3834,    3.100,   25.148,   36.397,2,   36.393,2,  208.500,2,  208.100,2,    1.120,2,    0.000,2, -999.000,9,    0.220,2,    1.910,2,    1.110,2, -999.000,9, -999.000,9, 2393.600,2
           NA,     A14,     35,   1,-999.0,      30,  2,19950125,0749,  -9.4995,   -8.8887,  3834,   47.300,   24.436,   36.325,2, -999.000,3,  220.000,2, -999.000,3,    1.200,2,    0.000,2, -999.000,9,    0.230,2,    1.965,2,    1.119,2, -999.000,9, -999.000,9, -999.000,9
           NA,     A14,     35,   1,-999.0,      29,  2,19950125,0749,  -9.4995,   -8.8887,  3834,   96.800,   19.391,   36.124,2, -999.000,3,  143.300,2, -999.000,3,    3.030,2,   10.710,2, -999.000,9,    0.760,2,    1.842,2,    1.008,2, -999.000,9, -999.000,9, -999.000,9
           NA,     A14,     35,   1,-999.0,      28,  2,19950125,0749,  -9.4995,   -8.8887,  3834,  147.100,   14.077,   35.431,2,   35.427,2,   96.400,2,   93.700,2,    7.530,2,   23.130,2, -999.000,9,    1.480,2,    1.242,2,    0.668,2, -999.000,9, -999.000,9, -999.000,9
           NA,     A14,     35,   1,-999.0,      27,  2,19950125,0749,  -9.4995,   -8.8887,  3834,  197.300,   11.690,   35.137,2, -999.000,3,   84.700,2,   83.400,2,   10.690,2,   27.910,2, -999.000,9,    1.760,2,    0.750,2,    0.414,2, -999.000,9, -999.000,9, -999.000,9
           NA,     A14,     35,   1,-999.0,      26,  2,19950125,0749,  -9.4995,   -8.8887,  3834,  296.800,    9.359,   34.863,2,   34.862,2,   62.600,2,   63.100,2,   15.680,2,   34.340,2, -999.000,9,    2.140,2,    0.218,2,    0.124,2, -999.000,9, -999.000,9, -999.000,9
           NA,     A14,     35,   1,-999.0,      25,  2,19950125,0749,  -9.4995,   -8.8887,  3834,  397.100,    8.182,   34.738,2,   34.735,2,   77.000,2,   77.300,2,   18.260,2,   35.420,2, -999.000,9,    2.240,2, -999.000,9, -999.000,9, -999.000,9, -999.000,9, -999.000,9
           NA,     A14,     35,   1,-999.0,      24,  2,19950125,0749,  -9.4995,   -8.8887,  3834,  497.200,    7.039,   34.635,2, -999.000,3,   67.400,2,   70.400,2,   22.200,6,   38.370,6, -999.000,9,    2.460,6,    0.028,2,    0.021,2, -999.000,9, -999.000,9, -999.000,9
           NA,     A14,     35,   1,-999.0,      23,  2,19950125,0749,  -9.4995,   -8.8887,  3834,  596.700,    6.083,   34.554,2,   34.555,2,  101.600,2, -999.000,3,   24.430,2,   36.680,2, -999.000,9,    2.390,2,    0.039,2,    0.028,2, -999.000,9, -999.000,9, -999.000,9
           NA,     A14,     35,   1,-999.0,      22,  2,19950125,0749,  -9.4995,   -8.8887,  3834,  695.400,    5.213,   34.510,2,   34.512,2,  113.500,2,  115.600,2,   29.010,2,   37.590,2, -999.000,9,    2.480,2,    0.013,2,    0.002,2, -999.000,9, -999.000,9, -999.000,9
           NA,     A14,     35,   1,-999.0,      21,  2,19950125,0749,  -9.4995,   -8.8887,  3834,  796.600,    4.626,   34.501,2,   34.504,2,  134.100,2,  135.200,2,   32.340,2,   36.570,2, -999.000,9,    2.430,2,    0.007,2,    0.002,2, -999.000,9, -999.000,9, -999.000,9
           NA,     A14,     35,   1,-999.0,      20,  2,19950125,0749,  -9.4995,   -8.8887,  3834,  996.200,    4.154,   34.583,2,   34.583,2,  154.100,2,  155.300,2,   34.340,2,   34.300,2, -999.000,9,    2.290,2,    0.004,2, -999.000,3, -999.000,9, -999.000,9, -999.000,9
           NA,     A14,     35,   1,-999.0,      19,  2,19950125,0749,  -9.4995,   -8.8887,  3834, 1296.100,    4.115,   34.843,2,   34.844,2,  198.300,2,  197.900,2,   25.770,2,   26.750,2, -999.000,9,    1.780,2,    0.006,2,    0.001,2, -999.000,9, -999.000,9, -999.000,9
           NA,     A14,     35,   1,-999.0,      16,  2,19950125,0749,  -9.4995,   -8.8887,  3834, 1596.100,    3.844,   34.917,2,   34.916,2,  222.800,2,  222.300,2,   24.110,2,   23.500,2, -999.000,9,    1.540,2,    0.005,2,   -0.002,2, -999.000,9, -999.000,9, -999.000,9
           NA,     A14,     35,   1,-999.0,      15,  2,19950125,0749,  -9.4995,   -8.8887,  3834, 1796.400,    3.556,   34.924,2,   34.925,2,  231.400,2,  229.900,2,   26.690,2,   22.820,2, -999.000,9,    1.510,2,    0.004,2,    0.001,2, -999.000,9, -999.000,9, -999.000,9
           NA,     A14,     35,   1,-999.0,      14,  2,19950125,0749,  -9.4995,   -8.8887,  3834, 1996.300,    3.375,   34.936,2,   34.938,2,  237.800,2,  238.900,2,   27.690,2,   22.260,2, -999.000,9,    1.450,2,    0.009,2, -999.000,9, -999.000,9, -999.000,9, -999.000,9
           NA,     A14,     35,   1,-999.0,      13,  2,19950125,0749,  -9.4995,   -8.8887,  3834, 2195.800,    3.217,   34.932,2,   34.931,2,  239.000,2,  238.500,2,   30.440,2,   22.300,2, -999.000,9,    1.450,2,    0.005,2,    0.000,2, -999.000,9, -999.000,9, -999.000,9
           NA,     A14,     35,   1,-999.0,      12,  2,19950125,0749,  -9.4995,   -8.8887,  3834, 2396.700,    3.000,   34.922,2,   34.921,2,  236.100,2,  236.600,2,   34.700,2,   22.690,2, -999.000,9,    1.500,2,    0.000,2,    0.000,2, -999.000,9, -999.000,9, -999.000,9
           NA,     A14,     35,   1,-999.0,      11,  2,19950125,0749,  -9.4995,   -8.8887,  3834, 2596.200,    2.832,   34.914,2,   34.913,2,  238.000,2,  237.400,2,   38.030,2,   22.830,2, -999.000,9,    1.510,2,    0.006,2,    0.003,2, -999.000,9, -999.000,9, -999.000,9
           NA,     A14,     35,   1,-999.0,      10,  2,19950125,0749,  -9.4995,   -8.8887,  3834, 2795.800,    2.695,   34.907,2,   34.908,2,  237.600,2,  237.300,2,   41.300,6,   23.190,6, -999.000,9,    1.520,6,    0.005,2,    0.008,2, -999.000,9, -999.000,9, -999.000,9
           NA,     A14,     35,   1,-999.0,       9,  2,19950125,0749,  -9.4995,   -8.8887,  3834, 2996.300,    2.590,   34.902,2,   34.902,2,  237.100,2,  237.200,2,   44.030,2,   23.260,2, -999.000,9,    1.530,2,    0.002,2,    0.004,2, -999.000,9, -999.000,9, -999.000,9
           NA,     A14,     35,   1,-999.0,       8,  2,19950125,0749,  -9.4995,   -8.8887,  3834, 3197.900,    2.478,   34.897,2,   34.894,2,  237.400,2,  237.200,2,   46.720,2,   23.350,2, -999.000,9,    1.550,2,    0.002,2,    0.000,2, -999.000,9, -999.000,9, -999.000,9
           NA,     A14,     35,   1,-999.0,       7,  2,19950125,0749,  -9.4995,   -8.8887,  3834, 3396.300,    2.409,   34.892,2,   34.894,2,  237.800,2,  237.400,2,   48.870,2,   23.480,2, -999.000,9,    1.550,2, -999.000,9, -999.000,9, -999.000,9, -999.000,9, -999.000,9
           NA,     A14,     35,   1,-999.0,       6,  2,19950125,0749,  -9.4995,   -8.8887,  3834, 3596.200,    2.395,   34.890,2,   34.890,2,  237.800,2, -999.000,9,   49.230,2,   23.480,2, -999.000,9,    1.550,2,    0.014,2,    0.015,2, -999.000,9, -999.000,9, -999.000,9
           NA,     A14,     35,   1,-999.0,       5,  2,19950125,0749,  -9.4995,   -8.8887,  3834, 3798.000,    2.415,   34.890,2,   34.890,2,  238.200,2,  237.700,2,   48.970,2,   23.490,2, -999.000,9,    1.560,2,    0.003,2,    0.004,2, -999.000,9, -999.000,9, -999.000,9
           NA,     A14,     35,   1,-999.0,      17,  2,19950125,0749,  -9.4995,   -8.8887,  3834, 3869.900,    2.422,   34.891,2,   34.889,2,  237.800,2,  238.000,2,   49.180,2,   23.460,2, -999.000,9,    1.550,2,    0.002,2, -999.000,9, -999.000,9, -999.000,9, -999.000,9
           NA,     A14,     35,   1,-999.0,      18,  2,19950125,0749,  -9.4995,   -8.8887,  3834, 3870.000,    2.422,   34.891,2,   34.890,2,  237.800,2,  237.700,2,   48.910,2,   23.410,2, -999.000,9,    1.560,2,    0.004,2,    0.003,2, -999.000,9, -999.000,9, -999.000,9
           NA,     A14,     35,   1,-999.0,       3,  2,19950125,0749,  -9.4995,   -8.8887,  3834, 3870.000,    2.422,   34.891,2,   34.891,2,  237.800,2,  237.700,2,   49.420,2,   23.490,2, -999.000,9,    1.550,2,    0.003,2, -999.000,9, -999.000,9, -999.000,9, -999.000,9
           NA,     A14,     35,   1,-999.0,       4,  2,19950125,0749,  -9.4995,   -8.8887,  3834, 3870.500,    2.422,   34.890,2,   34.890,2,  237.800,2,  238.000,2,   49.060,2,   23.530,2, -999.000,9,    1.550,2,    0.002,2,    0.001,2, -999.000,9, -999.000,9, -999.000,9