BOTTLE,20213527JOAExport
EXPOCODE,SECT_ID,STNNBR,CASTNO,SAMPNO,BTLNBR,BTLNBR_FLAG_W,DATE,TIME,LATITUDE,LONGITUDE,DEPTH,CTDPRS,CTDTMP,CTDSAL,CTDSAL_FLAG_W,SALNTY,SALNTY_FLAG_W,CTDOXY,CTDOXY_FLAG_W,OXYGEN,OXYGEN_FLAG_W,SILCAT,SILCAT_FLAG_W,NITRAT,NITRAT_FLAG_W,NITRIT,NITRIT_FLAG_W,PHSPHT,PHSPHT_FLAG_W,CFC-11,CFC-11_FLAG_W,CFC-12,CFC-12_FLAG_W,SF6,SF6_FLAG_W,TCARBN,TCARBN_FLAG_W,ALKALI,ALKALI_FLAG_W
,,,,,,,,,,,,DB,DEG C,PSS-78,,PSS-78,,UMOL/KG,,UMOL/KG,,UMOL/KG,,UMOL/KG,,UMOL/KG,,UMOL/KG,,PMOL/KG,,PMOL/KG,,FMOL/KG,,UMOL/KG,,UMOL/KG
           NA,     A14,     49,   1,-999.0,      24,  2,19950128,1020, -16.4985,   -8.9990,  1486,    1.800,   23.790,   36.544,2,   36.541,2,  204.000,2, -999.000,3,    0.700,2,    0.020,2, -999.000,9,    0.260,2, -999.000,9, -999.000,9, -999.000,9, -999.000,9, 2403.600,2
           NA,     A14,     49,   1,-999.0,      23,  2,19950128,1020, -16.4985,   -8.9990,  1486,    2.000,   23.791,   36.543,2,   36.543,2,  204.000,2, -999.000,3,    0.480,2,    0.020,2, -999.000,9,    0.240,2,    1.976,2,    1.017,2, -999.000,9, 2080.100,6, 2403.000,2
           NA,     A14,     49,   1,-999.0,      22,  2,19950128,1020, -16.4985,   -8.9990,  1486,   29.700,   23.728,   36.537,2, -999.000,3,  217.100,2,  214.400,2,    0.480,2,    0.020,2, -999.000,9,    0.240,2,    1.988,2,    1.018,2, -999.000,9, 2079.800,2, 2401.700,2
           NA,     A14,     49,   1,-999.0,      21,  2,19950128,1020, -16.4985,   -8.9990,  1486,   46.900,   22.228,   36.393,2, -999.000,3,  227.400,2,  224.900,2,    0.560,2,    0.020,2, -999.000,9,    0.250,2,    2.138,2,    1.090,2, -999.000,9, 2073.500,2, 2393.000,2
           NA,     A14,     49,   1,-999.0,      20,  2,19950128,1020, -16.4985,   -8.9990,  1486,   71.000,   20.525,   36.366,2, -999.000,3,  231.200,2, -999.000,3,    0.630,2,    0.020,2, -999.000,9,    0.240,2,    2.223,2, -999.000,9, -999.000,9, -999.000,9, 2392.500,2
           NA,     A14,     49,   1,-999.0,      19,  2,19950128,1020, -16.4985,   -8.9990,  1486,   96.800,   19.863,   36.306,2, -999.000,3,  220.400,2, -999.000,3,    0.770,2,    0.680,2, -999.000,9,    0.310,2,    2.238,2,    1.129,2, -999.000,9, 2089.600,2, 2385.500,2
           NA,     A14,     49,   1,-999.0,      18,  2,19950128,1020, -16.4985,   -8.9990,  1486,  146.800,   17.453,   35.862,2, -999.000,3,  201.500,2, -999.000,3,    1.790,2,    5.450,2, -999.000,9,    0.520,2,    2.366,2,    1.169,2, -999.000,9, 2101.100,2, 2359.400,2
           NA,     A14,     49,   1,-999.0,      17,  2,19950128,1020, -16.4985,   -8.9990,  1486,  197.800,   14.342,   35.340,2,   35.339,2,  174.600,2, -999.000,3,    3.610,2,   11.810,2, -999.000,9,    0.850,2,    2.364,2,    1.137,2, -999.000,9, 2120.600,2, 2324.200,2
           NA,     A14,     49,   1,-999.0,      16,  2,19950128,1020, -16.4985,   -8.9990,  1486,  296.400,   10.736,   34.926,2, -999.000,3,  125.900,2,  127.000,2,    9.950,2,   24.210,2, -999.000,9,    1.610,2,    1.264,2,    0.592,2, -999.000,9, 2182.200,2, 2304.200,2
           NA,     A14,     49,   1,-999.0,      15,  2,19950128,1020, -16.4985,   -8.9990,  1486,  395.100,    8.731,   34.741,2,   34.740,2,  100.800,2,  104.100,2,   15.490,2,   31.260,2, -999.000,9,    2.020,2,    0.524,2,    0.257,2, -999.000,9, 2213.300,2, 2299.600,2
           NA,     A14,     49,   1,-999.0,      14,  2,19950128,1020, -16.4985,   -8.9990,  1486,  496.000,    6.526,   34.570,2, -999.000,3,  120.000,2,  124.200,2,   22.120,2,   34.030,2, -999.000,9,    2.230,2,    0.149,2,    0.075,2, -999.000,9, 2217.600,2, 2303.100,2
           NA,     A14,     49,   1,-999.0,      13,  2,19950128,1020, -16.4985,   -8.9990,  1486,  596.200,    5.480,   34.492,2,   34.491,2,  132.400,2,  137.000,2,   26.270,2,   34.890,2, -999.000,9,    2.300,2,    0.064,2,    0.032,2, -999.000,9, 2219.800,2, 2300.600,2
           NA,     A14,     49,   1,-999.0,      12,  2,19950128,1020, -16.4985,   -8.9990,  1486,  695.200,    4.810,   34.472,2,   34.474,2,  140.000,2,  140.400,2,   30.430,2,   35.590,2, -999.000,9,    2.370,2,    0.023,2,    0.012,2, -999.000,9, 2225.100,2, 2302.200,2
           NA,     A14,     49,   1,-999.0,      11,  2,19950128,1020, -16.4985,   -8.9990,  1486,  796.000,    4.473,   34.471,2,   34.475,2,  146.100,2,  149.000,2,   32.900,2,   35.300,2, -999.000,9,    2.360,2,    0.015,2,    0.010,2, -999.000,9, 2223.700,2, 2304.800,2
           NA,     A14,     49,   1,-999.0,      10,  2,19950128,1020, -16.4985,   -8.9990,  1486,  895.000,    4.178,   34.494,2,   34.500,2,  156.800,2,  156.800,2,   35.460,2,   34.490,2, -999.000,9,    2.320,2,    0.011,2,    0.011,2, -999.000,9, 2223.800,2, 2313.900,2
           NA,     A14,     49,   1,-999.0,       9,  2,19950128,1020, -16.4985,   -8.9990,  1486,  995.000,    3.891,   34.576,2, -999.000,3,  168.000,2,  168.300,2,   36.840,2,   32.870,2, -999.000,9,    2.210,2,    0.004,2,   -0.002,2, -999.000,9, 2220.400,2, 2315.600,2
           NA,     A14,     49,   1,-999.0,       8,  2,19950128,1020, -16.4985,   -8.9990,  1486, 1094.700,    3.774,   34.687,2,   34.686,2,  175.100,2, -999.000,3,   34.950,2,   30.450,2, -999.000,9,    2.040,2,    0.001,2,    0.001,2, -999.000,9, 2214.100,2, 2318.900,2
           NA,     A14,     49,   1,-999.0,       7,  2,19950128,1020, -16.4985,   -8.9990,  1486, 1195.500,    3.769,   34.715,2,   34.718,2,  183.900,2,  184.200,2,   34.000,2,   29.640,2, -999.000,9,    1.990,2, -999.000,9, -999.000,9, -999.000,9, 2210.900,2, 2319.200,2
           NA,     A14,     49,   1,-999.0,       5,  2,19950128,1020, -16.4985,   -8.9990,  1486, 1294.600,    3.761,   34.756,2,   34.756,2,  190.500,2,  190.300,2,   32.470,2,   28.600,2, -999.000,9,    1.920,2,    0.000,2,    0.001,2, -999.000,9, 2207.400,2, 2319.900,2
           NA,     A14,     49,   1,-999.0,       6,  2,19950128,1020, -16.4985,   -8.9990,  1486, 1294.800,    3.762,   34.754,2,   34.755,2,  190.500,2,  190.300,2,   32.690,2,   28.660,2, -999.000,9,    1.920,2,    0.013,2,    0.007,2, -999.000,9, -999.000,9, 2320.200,2
           NA,     A14,     49,   1,-999.0,       4,  2,19950128,1020, -16.4985,   -8.9990,  1486, 1395.200,    3.739,   34.808,2,   34.810,2,  201.200,2,  200.000,2,   30.510,2,   26.930,2, -999.000,9,    1.800,2,    0.002,2,   -0.002,2, -999.000,9, 2200.000,2, 2321.900,2
           NA,     A14,     49,   1,-999.0,       3,  2,19950128,1020, -16.4985,   -8.9990,  1486, 1474.900,    3.679,   34.851,2,   34.852,2,  202.200,2, -999.000,3,   28.980,2,   25.600,2, -999.000,9,    1.700,2,    0.002,2,    0.000,2, -999.000,9, 2194.200,6, 2323.200,2
           NA,     A14,     48,   1,-999.0,      32,  2,19950128,0543, -15.9988,   -9.0010,  4092,    3.400,   23.919,   36.680,2,   36.677,2,  208.800,2,  213.200,2,    0.710,2,    0.020,2, -999.000,9,    0.200,2,    1.972,2,    1.025,2, -999.000,9, -999.000,9, 2411.000,2
           NA,     A14,     48,   1,-999.0,      31,  2,19950128,0543, -15.9988,   -9.0010,  4092,   27.200,   23.860,   36.670,2, -999.000,3,  195.300,2, -999.000,3,    0.780,2,    0.020,2, -999.000,9,    0.200,2,    1.980,2,    1.028,2, -999.000,9, -999.000,9, -999.000,9
           NA,     A14,     48,   1,-999.0,      30,  2,19950128,0543, -15.9988,   -9.0010,  4092,   72.000,   21.077,   36.347,2, -999.000,3,  226.700,2,  230.500,2,    0.920,2,    0.020,2, -999.000,9,    0.210,2,    2.245,2,    1.133,2, -999.000,9, -999.000,9, -999.000,9
           NA,     A14,     48,   1,-999.0,      29,  2,19950128,0543, -15.9988,   -9.0010,  4092,  120.600,   19.132,   36.148,2,   36.145,2,  208.100,2,  210.400,2,    1.210,2,    3.400,2, -999.000,9,    0.430,2,    2.325,2,    1.148,2, -999.000,9, -999.000,9, -999.000,9
           NA,     A14,     48,   1,-999.0,      28,  2,19950128,0543, -15.9988,   -9.0010,  4092,  121.500,   19.103,   36.143,2, -999.000,3,  208.700,2,  210.100,2,    1.070,2,    3.440,2, -999.000,9,    0.430,2,    2.331,2,    1.165,2, -999.000,9, -999.000,9, -999.000,9
           NA,     A14,     48,   1,-999.0,      27,  2,19950128,0543, -15.9988,   -9.0010,  4092,  197.100,   13.631,   35.250,2,   35.246,2,  164.000,2,  163.800,2,    4.760,2,   15.070,2, -999.000,9,    1.010,2,    2.174,2,    1.026,2, -999.000,9, -999.000,9, -999.000,9
           NA,     A14,     48,   1,-999.0,      26,  2,19950128,0543, -15.9988,   -9.0010,  4092,  296.000,   10.359,   34.877,2, -999.000,3,  140.500,2,  144.600,2,    9.830,2,   23.000,2, -999.000,9,    1.520,2,    1.369,2,    0.655,2, -999.000,9, -999.000,9, -999.000,9
           NA,     A14,     48,   1,-999.0,      25,  2,19950128,0543, -15.9988,   -9.0010,  4092,  369.300,    8.664,   34.723,2,   34.725,2,  126.200,2,  128.800,2,   14.610,2,   28.810,2, -999.000,9,    1.880,2,    0.738,2,    0.354,2, -999.000,9, -999.000,9, -999.000,9
           NA,     A14,     48,   1,-999.0,      24,  2,19950128,0543, -15.9988,   -9.0010,  4092,  494.700,    6.521,   34.557,2,   34.556,2,  134.100,2,  135.300,2,   21.270,2,   32.910,2, -999.000,9,    2.140,2,    0.177,2,    0.095,2, -999.000,9, -999.000,9, -999.000,9
           NA,     A14,     48,   1,-999.0,      23,  2,19950128,0543, -15.9988,   -9.0010,  4092,  594.400,    5.367,   34.478,2, -999.000,3,  143.500,2,  144.400,2,   25.910,2,   34.240,2, -999.000,9,    2.250,2,    0.079,2,    0.044,2, -999.000,9, -999.000,9, -999.000,9
           NA,     A14,     48,   1,-999.0,      22,  2,19950128,0543, -15.9988,   -9.0010,  4092,  695.300,    4.744,   34.456,2,   34.462,2,  156.000,2,  155.300,2,   29.980,2,   34.470,2, -999.000,9,    2.280,2,    0.047,2,    0.029,2, -999.000,9, -999.000,9, -999.000,9
           NA,     A14,     48,   1,-999.0,      21,  2,19950128,0543, -15.9988,   -9.0010,  4092,  796.600,    4.342,   34.479,2,   34.480,2,  153.000,2,  152.400,2,   33.680,2,   35.040,2, -999.000,9,    2.330,2,    0.016,2,    0.013,2, -999.000,9, -999.000,9, -999.000,9
           NA,     A14,     48,   1,-999.0,      20,  2,19950128,0543, -15.9988,   -9.0010,  4092,  995.600,    3.871,   34.580,2,   34.581,2,  166.900,2,  166.500,2,   36.440,2,   33.140,2, -999.000,9,    2.210,2,    0.003,2, -999.000,9, -999.000,9, -999.000,9, -999.000,9
           NA,     A14,     48,   1,-999.0,      19,  2,19950128,0543, -15.9988,   -9.0010,  4092, 1195.200,    3.792,   34.709,2,   34.710,2,  182.600,2,  181.800,2,   33.910,2,   30.250,2, -999.000,9,    2.010,2,    0.000,2,   -0.007,2, -999.000,9, -999.000,9, -999.000,9
           NA,     A14,     48,   1,-999.0,      18,  2,19950128,0543, -15.9988,   -9.0010,  4092, 1396.100,    3.739,   34.820,2,   34.822,2,  203.000,2,  202.000,2,   29.860,2,   26.550,2, -999.000,9,    1.780,2,    0.003,2, -999.000,9, -999.000,9, -999.000,9, -999.000,9
           NA,     A14,     48,   1,-999.0,      17,  2,19950128,0543, -15.9988,   -9.0010,  4092, 1595.400,    3.637,   34.879,2,   34.882,2,  218.400,2,  217.100,2,   27.980,2,   24.220,2, -999.000,9,    1.600,2,    0.000,2,   -0.006,2, -999.000,9, -999.000,9, -999.000,9
           NA,     A14,     48,   1,-999.0,      16,  2,19950128,0543, -15.9988,   -9.0010,  4092, 1796.800,    3.443,   34.908,2,   34.908,2,  228.200,2,  228.900,2,   28.350,2,   23.080,2, -999.000,9,    1.520,2, -999.000,9, -999.000,9, -999.000,9, -999.000,9, -999.000,9
           NA,     A14,     48,   1,-999.0,      15,  2,19950128,0543, -15.9988,   -9.0010,  4092, 1996.300,    3.181,   34.911,2,   34.911,2,  235.600,2,  235.800,2,   31.550,2,   22.640,2, -999.000,9,    1.490,2,    0.003,2,    0.007,2, -999.000,9, -999.000,9, -999.000,9
           NA,     A14,     48,   1,-999.0,      14,  2,19950128,0543, -15.9988,   -9.0010,  4092, 2195.900,    2.936,   34.906,2,   34.908,2,  239.200,2,  238.900,2,   35.260,2,   22.550,2, -999.000,9,    1.480,2,    0.000,2,    0.001,2, -999.000,9, -999.000,9, -999.000,9
           NA,     A14,     48,   1,-999.0,      13,  2,19950128,0543, -15.9988,   -9.0010,  4092, 2396.000,    2.794,   34.904,2,   34.904,2,  240.500,2,  240.000,2,   37.880,2,   22.680,2, -999.000,9,    1.500,2,    0.000,2,    0.001,2, -999.000,9, -999.000,9, -999.000,9
           NA,     A14,     48,   1,-999.0,      12,  2,19950128,0543, -15.9988,   -9.0010,  4092, 2596.000,    2.612,   34.895,2,   34.894,2,  241.100,2,  241.000,2,   41.930,2,   22.900,2, -999.000,9,    1.520,2,   -0.002,2, -999.000,9, -999.000,9, -999.000,9, -999.000,9
           NA,     A14,     48,   1,-999.0,      11,  2,19950128,0543, -15.9988,   -9.0010,  4092, 2797.600,    2.528,   34.891,2,   34.892,2,  240.900,2,  240.300,2,   44.280,2,   22.990,2, -999.000,9,    1.530,2,    0.000,2,   -0.003,2, -999.000,9, -999.000,9, -999.000,9
           NA,     A14,     48,   1,-999.0,      10,  2,19950128,0543, -15.9988,   -9.0010,  4092, 2996.000,    2.447,   34.888,2,   34.890,2,  240.300,2,  239.300,2,   46.780,2,   23.160,2, -999.000,9,    1.540,2,    0.006,2,    0.001,2, -999.000,9, -999.000,9, -999.000,9
           NA,     A14,     48,   1,-999.0,       9,  2,19950128,0543, -15.9988,   -9.0010,  4092, 3195.400,    2.421,   34.888,2,   34.886,2,  239.200,2,  238.400,2,   48.200,2,   23.210,2, -999.000,9,    1.550,2,    0.001,2,   -0.003,2, -999.000,9, -999.000,9, -999.000,9
           NA,     A14,     48,   1,-999.0,       8,  2,19950128,0543, -15.9988,   -9.0010,  4092, 3396.900,    2.412,   34.888,2,   34.888,2,  238.000,2,  237.600,2,   48.760,2,   23.250,2, -999.000,9,    1.550,2,   -0.002,2,   -0.003,2, -999.000,9, -999.000,9, -999.000,9
           NA,     A14,     48,   1,-999.0,       7,  2,19950128,0543, -15.9988,   -9.0010,  4092, 3596.500,    2.414,   34.888,2,   34.890,2,  237.600,2,  235.300,2,   49.000,2,   23.250,2, -999.000,9,    1.550,2,    0.003,2, -999.000,9, -999.000,9, -999.000,9, -999.000,9
           NA,     A14,     48,   1,-999.0,       6,  2,19950128,0543, -15.9988,   -9.0010,  4092, 3795.000,    2.422,   34.888,2,   34.889,2,  237.400,2,  236.700,2,   49.720,2,   23.510,2, -999.000,9,    1.550,2,    0.004,2,    0.003,2, -999.000,9, -999.000,9, -999.000,9
           NA,     A14,     48,   1,-999.0,       4,  2,19950128,0543, -15.9988,   -9.0010,  4092, 3997.600,    2.436,   34.889,2,   34.887,2,  237.000,2,  236.300,2,   50.290,2,   23.380,2, -999.000,9,    1.560,2,    0.001,2,    0.000,2, -999.000,9, -999.000,9, -999.000,9
           NA,     A14,     48,   1,-999.0,       5,  2,19950128,0543, -15.9988,   -9.0010,  4092, 3998.200,    2.436,   34.889,2,   34.887,2,  237.000,2,  236.400,2,   50.040,2,   23.330,2, -999.000,9,    1.550,2,    0.000,2,    0.000,2, -999.000,9, -999.000,9, -999.000,9
           NA,     A14,     48,   1,-999.0,       3,  2,19950128,0543, -15.9988,   -9.0010,  4092, 4135.300,    2.452,   34.889,2,   34.888,2,  236.900,2,  235.900,2,   49.990,2,   23.330,2, -999.000,9, -999.000,9,    0.001,2,    0.000,2, -999.000,9, -999.000,9, -999.000,9