BOTTLE,20213527JOAExport
EXPOCODE,SECT_ID,STNNBR,CASTNO,SAMPNO,BTLNBR,BTLNBR_FLAG_W,DATE,TIME,LATITUDE,LONGITUDE,DEPTH,CTDPRS,CTDTMP,CTDSAL,CTDSAL_FLAG_W,SALNTY,SALNTY_FLAG_W,CTDOXY,CTDOXY_FLAG_W,OXYGEN,OXYGEN_FLAG_W,SILCAT,SILCAT_FLAG_W,NITRAT,NITRAT_FLAG_W,NITRIT,NITRIT_FLAG_W,PHSPHT,PHSPHT_FLAG_W,CFC-11,CFC-11_FLAG_W,CFC-12,CFC-12_FLAG_W,SF6,SF6_FLAG_W,TCARBN,TCARBN_FLAG_W,ALKALI,ALKALI_FLAG_W
,,,,,,,,,,,,DB,DEG C,PSS-78,,PSS-78,,UMOL/KG,,UMOL/KG,,UMOL/KG,,UMOL/KG,,UMOL/KG,,UMOL/KG,,PMOL/KG,,PMOL/KG,,FMOL/KG,,UMOL/KG,,UMOL/KG
           NA,     A14,     57,   1,-999.0,      32,  2,19950130,0341, -20.4997,   -8.9992,  3614,    2.500,   24.506,   36.396,2,   36.394,2,  202.300,2, -999.000,3,    0.640,2,    0.020,2, -999.000,9,    0.240,2, -999.000,9, -999.000,9, -999.000,9, -999.000,9, 2397.300,2
           NA,     A14,     57,   1,-999.0,      31,  2,19950130,0341, -20.4997,   -8.9992,  3614,   48.200,   22.211,   36.309,2, -999.000,3,  224.000,2,  224.000,2,    0.790,2,    0.020,2, -999.000,9,    0.230,2,    2.109,2,    1.086,2, -999.000,9, -999.000,9, -999.000,9
           NA,     A14,     57,   1,-999.0,      30,  2,19950130,0341, -20.4997,   -8.9992,  3614,   97.800,   20.113,   36.251,2,   36.254,2,  220.100,2, -999.000,3,    0.930,2,    0.020,2, -999.000,9,    0.270,2,    2.264,2,    1.150,2, -999.000,9, -999.000,9, -999.000,9
           NA,     A14,     57,   1,-999.0,      29,  2,19950130,0341, -20.4997,   -8.9992,  3614,  146.600,   19.114,   36.204,2, -999.000,3,  205.100,2,  206.600,2,    1.290,2,    4.160,2, -999.000,9,    0.470,2,    2.275,2,    1.160,2, -999.000,9, -999.000,9, -999.000,9
           NA,     A14,     57,   1,-999.0,      28,  2,19950130,0341, -20.4997,   -8.9992,  3614,  197.200,   14.760,   35.360,2, -999.000,3,  196.100,2,  196.300,2,    3.210,2,    9.240,2, -999.000,9,    0.700,2, -999.000,9, -999.000,9, -999.000,9, -999.000,9, -999.000,9
           NA,     A14,     57,   1,-999.0,      27,  2,19950130,0341, -20.4997,   -8.9992,  3614,  296.100,   12.437,   35.083,2,   35.085,2,  172.700,2,  173.800,2,    5.630,2,   16.140,2, -999.000,9,    1.090,2, -999.000,9, -999.000,9, -999.000,9, -999.000,9, -999.000,9
           NA,     A14,     57,   1,-999.0,      26,  2,19950130,0341, -20.4997,   -8.9992,  3614,  397.100,    9.607,   34.778,2, -999.000,3,  166.900,2,  167.100,2,   10.120,2,   22.190,2, -999.000,9,    1.500,2,    1.581,2,    0.664,2, -999.000,9, -999.000,9, -999.000,9
           NA,     A14,     57,   1,-999.0,      25,  2,19950130,0341, -20.4997,   -8.9992,  3614,  495.000,    7.870,   34.616,2,   34.618,2,  148.000,2,  150.600,2,   15.540,2,   28.740,2, -999.000,9,    1.910,2,    1.030,2,    0.434,2, -999.000,9, -999.000,9, -999.000,9
           NA,     A14,     57,   1,-999.0,      24,  2,19950130,0341, -20.4997,   -8.9992,  3614,  595.300,    6.191,   34.501,2,   34.507,2,  151.500,2,  151.800,2,   21.310,2,   32.560,2, -999.000,9,    2.130,2,    0.499,2,    0.230,2, -999.000,9, -999.000,9, -999.000,9
           NA,     A14,     57,   1,-999.0,      23,  2,19950130,0341, -20.4997,   -8.9992,  3614,  695.200,    5.308,   34.461,2,   34.466,2,  151.100,2,  150.100,2,   26.580,2,   34.590,2, -999.000,9,    2.270,2,    0.180,2,    0.067,2, -999.000,9, -999.000,9, -999.000,9
           NA,     A14,     57,   1,-999.0,      21,  2,19950130,0341, -20.4997,   -8.9992,  3614,  796.700,    4.521,   34.450,2, -999.000,3,  158.000,2,  157.400,2,   31.920,2,   35.300,2, -999.000,9,    2.320,2,    0.058,2,    0.030,2, -999.000,9, -999.000,9, -999.000,9
           NA,     A14,     57,   1,-999.0,      22,  2,19950130,0341, -20.4997,   -8.9992,  3614,  796.700,    4.548,   34.450,2,   34.453,2,  158.000,2,  157.500,2,   31.920,2,   35.190,2, -999.000,9,    2.320,2,    0.060,2,    0.028,2, -999.000,9, -999.000,9, -999.000,9
           NA,     A14,     57,   1,-999.0,      20,  2,19950130,0341, -20.4997,   -8.9992,  3614,  897.200,    4.131,   34.465,2,   34.465,2,  166.500,2,  167.100,2,   35.140,6,   34.570,6, -999.000,9,    2.300,6,    0.037,2,    0.018,2, -999.000,9, -999.000,9, -999.000,9
           NA,     A14,     57,   1,-999.0,      19,  2,19950130,0341, -20.4997,   -8.9992,  3614,  995.400,    3.889,   34.501,2,   34.500,2,  165.200,2,  165.500,2,   37.900,2,   34.780,2, -999.000,9,    2.320,2,    0.019,2,    0.006,2, -999.000,9, -999.000,9, -999.000,9
           NA,     A14,     57,   1,-999.0,      18,  2,19950130,0341, -20.4997,   -8.9992,  3614, 1196.400,    3.709,   34.635,2,   34.633,2,  178.600,2,  178.700,2,   37.470,2,   32.050,2, -999.000,9,    2.130,2,    0.004,2,    0.002,2, -999.000,9, -999.000,9, -999.000,9
           NA,     A14,     57,   1,-999.0,      17,  2,19950130,0341, -20.4997,   -8.9992,  3614, 1395.300,    3.585,   34.741,2,   34.741,2,  197.400,2,  196.900,2,   35.830,2,   28.760,2, -999.000,9,    1.940,2,    0.004,2, -999.000,9, -999.000,9, -999.000,9, -999.000,9
           NA,     A14,     57,   1,-999.0,      16,  2,19950130,0341, -20.4997,   -8.9992,  3614, 1596.200,    3.357,   34.833,2,   34.832,2,  215.800,2,  218.200,2,   34.620,2,   25.420,2, -999.000,9,    1.720,2, -999.000,9,    0.005,2, -999.000,9, -999.000,9, -999.000,9
           NA,     A14,     57,   1,-999.0,      15,  2,19950130,0341, -20.4997,   -8.9992,  3614, 1794.600,    3.187,   34.875,2,   34.875,2,  228.400,2,  230.800,2,   33.900,2,   23.800,2, -999.000,9,    1.600,2,    0.002,2, -999.000,9, -999.000,9, -999.000,9, -999.000,9
           NA,     A14,     57,   1,-999.0,      13,  2,19950130,0341, -20.4997,   -8.9992,  3614, 1995.800,    3.055,   34.898,2,   34.896,2,  239.100,2,  238.500,2,   33.400,2,   22.890,2, -999.000,9,    1.520,2,    0.002,2,    0.000,2, -999.000,9, -999.000,9, -999.000,9
           NA,     A14,     57,   1,-999.0,      14,  2,19950130,0341, -20.4997,   -8.9992,  3614, 1996.400,    3.055,   34.897,2,   34.897,2,  239.100,2,  238.600,2,   33.260,2,   22.850,2, -999.000,9,    1.510,2,    0.001,2,    0.000,2, -999.000,9, -999.000,9, -999.000,9
           NA,     A14,     57,   1,-999.0,      12,  2,19950130,0341, -20.4997,   -8.9992,  3614, 2196.100,    2.857,   34.899,2,   34.895,2,  240.700,2,  241.500,2,   36.250,2,   22.740,2, -999.000,9,    1.510,2,    0.000,2, -999.000,9, -999.000,9, -999.000,9, -999.000,9
           NA,     A14,     57,   1,-999.0,      11,  2,19950130,0341, -20.4997,   -8.9992,  3614, 2395.200,    2.660,   34.889,2,   34.889,2,  241.600,2,  241.000,2,   40.730,2,   23.110,2, -999.000,9,    1.550,2,    0.001,2,    0.001,2, -999.000,9, -999.000,9, -999.000,9
           NA,     A14,     57,   1,-999.0,      10,  2,19950130,0341, -20.4997,   -8.9992,  3614, 2596.400,    2.526,   34.884,2,   34.888,2,  240.200,2,  240.600,2,   44.200,2,   23.190,2, -999.000,9,    1.550,2,    0.003,2,    0.000,2, -999.000,9, -999.000,9, -999.000,9
           NA,     A14,     57,   1,-999.0,       9,  2,19950130,0341, -20.4997,   -8.9992,  3614, 2795.900,    2.454,   34.882,2,   34.882,2,  241.000,2,  241.300,2,   46.260,2,   23.330,2, -999.000,9,    1.560,2,    0.005,2,    0.004,2, -999.000,9, -999.000,9, -999.000,9
           NA,     A14,     57,   1,-999.0,       8,  2,19950130,0341, -20.4997,   -8.9992,  3614, 2995.800,    2.397,   34.880,2,   34.879,2,  240.300,2,  241.400,2,   48.400,2,   23.410,2, -999.000,9,    1.570,2,    0.000,2,   -0.001,2, -999.000,9, -999.000,9, -999.000,9
           NA,     A14,     57,   1,-999.0,       7,  2,19950130,0341, -20.4997,   -8.9992,  3614, 3196.100,    2.366,   34.878,2,   34.880,2,  239.300,2,  240.700,2,   49.390,2,   23.500,2, -999.000,9,    1.580,2, -999.000,9, -999.000,9, -999.000,9, -999.000,9, -999.000,9
           NA,     A14,     57,   1,-999.0,       6,  2,19950130,0341, -20.4997,   -8.9992,  3614, 3394.600,    2.348,   34.879,2,   34.876,2,  238.700,2,  240.300,2,   50.450,2,   23.720,2, -999.000,9,    1.590,2,    0.002,2, -999.000,9, -999.000,9, -999.000,9, -999.000,9
           NA,     A14,     57,   1,-999.0,       5,  2,19950130,0341, -20.4997,   -8.9992,  3614, 3497.000,    2.350,   34.878,2,   34.877,2,  239.700,2,  240.000,2,   50.750,2,   23.620,2, -999.000,9,    1.590,2,   -0.001,2,    0.000,2, -999.000,9, -999.000,9, -999.000,9
           NA,     A14,     57,   1,-999.0,       4,  2,19950130,0341, -20.4997,   -8.9992,  3614, 3581.400,    2.357,   34.881,2,   34.881,2,  238.800,2,  238.900,2,   50.670,2,   23.570,2, -999.000,9,    1.580,2,    0.000,2,   -0.002,2, -999.000,9, -999.000,9, -999.000,9
           NA,     A14,     57,   1,-999.0,       3,  2,19950130,0341, -20.4997,   -8.9992,  3614, 3675.300,    2.367,   34.882,2,   34.880,2,  237.500,2,  238.500,2,   50.590,2,   23.510,2, -999.000,9,    1.590,2,    0.003,2, -999.000,9, -999.000,9, -999.000,9, -999.000,9
           NA,     A14,     56,   1,-999.0,      32,  2,19950129,2216, -20.0005,   -8.9998,  3955,    3.100,   24.446,   36.465,2,   36.461,2,  205.600,2, -999.000,3,    0.750,2,    0.020,2, -999.000,9,    0.240,2,    1.951,2,    1.026,2, -999.000,9, -999.000,9, 2402.600,2
           NA,     A14,     56,   1,-999.0,      31,  2,19950129,2216, -20.0005,   -8.9998,  3955,   46.600,   22.787,   36.381,2, -999.000,3,  221.700,2,  222.300,2,    0.830,2,    0.020,2, -999.000,9,    0.250,2,    2.102,2,    1.061,2, -999.000,9, -999.000,9, -999.000,9
           NA,     A14,     56,   1,-999.0,      30,  2,19950129,2216, -20.0005,   -8.9998,  3955,   97.500,   19.971,   36.229,2,   36.224,2,  229.600,2,  231.700,2,    1.050,2,    0.400,2, -999.000,9,    0.310,2,    2.300,2,    1.163,2, -999.000,9, -999.000,9, -999.000,9
           NA,     A14,     56,   1,-999.0,      29,  2,19950129,2216, -20.0005,   -8.9998,  3955,  146.700,   18.932,   36.139,2, -999.000,3,  208.100,2,  206.900,2,    1.360,2,    4.820,2, -999.000,9,    0.510,2,    2.329,2,    1.174,2, -999.000,9, -999.000,9, -999.000,9
           NA,     A14,     56,   1,-999.0,      28,  2,19950129,2216, -20.0005,   -8.9998,  3955,  197.200,   15.234,   35.522,2, -999.000,3,  184.400,2, -999.000,3,    3.530,2,   11.760,2, -999.000,9,    0.850,2,    2.424,2,    1.176,2, -999.000,9, -999.000,9, -999.000,9
           NA,     A14,     56,   1,-999.0,      27,  2,19950129,2216, -20.0005,   -8.9998,  3955,  298.200,   12.009,   35.030,2, -999.000,3,  164.300,2,  166.200,2,    6.680,2,   17.930,2, -999.000,9,    1.190,2,    2.044,2,    0.958,2, -999.000,9, -999.000,9, -999.000,9
           NA,     A14,     56,   1,-999.0,      26,  2,19950129,2216, -20.0005,   -8.9998,  3955,  394.600,    9.456,   34.760,2,   34.762,2,  159.900,2,  161.600,2,   11.380,2,   23.430,2, -999.000,9,    1.580,2,    1.499,2,    0.686,2, -999.000,9, -999.000,9, -999.000,9
           NA,     A14,     56,   1,-999.0,      25,  2,19950129,2216, -20.0005,   -8.9998,  3955,  496.800,    7.260,   34.559,2,   34.560,2,  159.300,2,  163.500,2,   16.890,2,   28.760,2, -999.000,9,    1.900,2,    1.029,2,    0.470,2, -999.000,9, -999.000,9, -999.000,9
           NA,     A14,     56,   1,-999.0,      24,  2,19950129,2216, -20.0005,   -8.9998,  3955,  595.600,    5.702,   34.454,2,   34.456,2,  160.200,2,  164.900,2,   23.640,2,   32.810,2, -999.000,9,    2.140,2,    0.535,2,    0.252,2, -999.000,9, -999.000,9, -999.000,9
           NA,     A14,     56,   1,-999.0,      23,  2,19950129,2216, -20.0005,   -8.9998,  3955,  696.200,    4.705,   34.449,2,   34.452,2,  157.400,2,  157.000,2,   30.810,2,   34.990,2, -999.000,9,    2.300,2,    0.094,2,    0.050,2, -999.000,9, -999.000,9, -999.000,9
           NA,     A14,     56,   1,-999.0,      22,  2,19950129,2216, -20.0005,   -8.9998,  3955,  796.100,    4.282,   34.457,2,   34.459,2,  160.400,2,  162.900,2,   34.160,2,   34.780,2, -999.000,9,    2.300,2,    0.043,2,    0.021,2, -999.000,9, -999.000,9, -999.000,9
           NA,     A14,     56,   1,-999.0,      20,  2,19950129,2216, -20.0005,   -8.9998,  3955,  994.800,    3.838,   34.510,2,   34.507,2,  173.400,2,  173.000,2,   37.910,6,   34.120,2, -999.000,9,    2.260,6,    0.022,2,    0.012,2, -999.000,9, -999.000,9, -999.000,9
           NA,     A14,     56,   1,-999.0,      21,  2,19950129,2216, -20.0005,   -8.9998,  3955,  994.900,    3.841,   34.509,2,   34.508,2,  173.400,2,  173.100,2,   38.100,2,   33.770,2, -999.000,9,    2.250,2,    0.023,2,    0.012,2, -999.000,9, -999.000,9, -999.000,9
           NA,     A14,     56,   1,-999.0,      19,  2,19950129,2216, -20.0005,   -8.9998,  3955, 1195.400,    3.705,   34.635,2,   34.632,2,  179.500,2,  179.500,2,   37.880,2,   32.060,2, -999.000,9,    2.130,2,    0.002,2,    0.001,2, -999.000,9, -999.000,9, -999.000,9
           NA,     A14,     56,   1,-999.0,      18,  2,19950129,2216, -20.0005,   -8.9998,  3955, 1394.100,    3.649,   34.751,2,   34.751,2,  194.400,2,  194.000,2,   35.010,2,   29.110,2, -999.000,9,    1.920,2,    0.001,2,    0.000,2, -999.000,9, -999.000,9, -999.000,9
           NA,     A14,     56,   1,-999.0,      17,  2,19950129,2216, -20.0005,   -8.9998,  3955, 1596.900,    3.463,   34.823,2,   34.820,2,  214.900,2,  212.900,2,   34.290,2,   26.170,2, -999.000,9,    1.740,2,    0.001,2,    0.001,2, -999.000,9, -999.000,9, -999.000,9
           NA,     A14,     56,   1,-999.0,      16,  2,19950129,2216, -20.0005,   -8.9998,  3955, 1794.500,    3.194,   34.884,2,   34.884,2,  232.300,2,  233.100,2,   32.980,2,   23.450,2, -999.000,9,    1.550,2,    0.001,2,    0.004,2, -999.000,9, -999.000,9, -999.000,9
           NA,     A14,     56,   1,-999.0,      15,  2,19950129,2216, -20.0005,   -8.9998,  3955, 1997.800,    3.037,   34.904,2,   34.902,2,  240.400,2,  240.100,2,   33.280,2,   22.680,2, -999.000,9,    1.500,2,    0.002,2, -999.000,9, -999.000,9, -999.000,9, -999.000,9
           NA,     A14,     56,   1,-999.0,      14,  2,19950129,2216, -20.0005,   -8.9998,  3955, 2193.500,    2.860,   34.902,2,   34.900,2,  243.000,2,  242.700,2,   35.920,2,   22.670,2, -999.000,9,    1.490,2,    0.001,2, -999.000,9, -999.000,9, -999.000,9, -999.000,9
           NA,     A14,     56,   1,-999.0,      13,  2,19950129,2216, -20.0005,   -8.9998,  3955, 2395.500,    2.671,   34.890,2,   34.889,2,  241.700,2,  240.900,2,   40.530,2,   23.090,2, -999.000,9,    1.530,2,    0.001,2,    0.002,2, -999.000,9, -999.000,9, -999.000,9
           NA,     A14,     56,   1,-999.0,      12,  2,19950129,2216, -20.0005,   -8.9998,  3955, 2395.600,    2.672,   34.890,2,   34.889,2,  241.700,2,  241.100,2,   40.600,2,   23.130,2, -999.000,9,    1.540,2,    0.000,2,    0.004,2, -999.000,9, -999.000,9, -999.000,9
           NA,     A14,     56,   1,-999.0,      11,  2,19950129,2216, -20.0005,   -8.9998,  3955, 2596.900,    2.535,   34.884,2,   34.883,2,  241.300,2,  240.800,2,   44.130,2,   23.410,2, -999.000,9,    1.550,2,    0.003,2,   -0.003,2, -999.000,9, -999.000,9, -999.000,9
           NA,     A14,     56,   1,-999.0,      10,  2,19950129,2216, -20.0005,   -8.9998,  3955, 2798.400,    2.464,   34.883,2,   34.882,2,  241.500,2,  240.700,2,   46.070,2,   23.400,2, -999.000,9,    1.590,2,    0.006,2,    0.006,2, -999.000,9, -999.000,9, -999.000,9
           NA,     A14,     56,   1,-999.0,       9,  2,19950129,2216, -20.0005,   -8.9998,  3955, 2996.900,    2.397,   34.880,2,   34.877,2,  240.800,2,  241.000,2,   48.230,2,   23.580,2, -999.000,9,    1.590,2,   -0.001,2,    0.001,2, -999.000,9, -999.000,9, -999.000,9
           NA,     A14,     56,   1,-999.0,       8,  2,19950129,2216, -20.0005,   -8.9998,  3955, 3196.300,    2.369,   34.880,2,   34.877,2,  240.800,2,  240.700,2,   49.380,2,   23.570,2, -999.000,9,    1.580,2,    0.002,2,    0.003,2, -999.000,9, -999.000,9, -999.000,9
           NA,     A14,     56,   1,-999.0,       7,  2,19950129,2216, -20.0005,   -8.9998,  3955, 3397.800,    2.374,   34.883,2,   34.886,2,  239.000,2,  239.000,2,   49.360,2,   23.560,2, -999.000,9,    1.590,2, -999.000,9, -999.000,9, -999.000,9, -999.000,9, -999.000,9
           NA,     A14,     56,   1,-999.0,       6,  2,19950129,2216, -20.0005,   -8.9998,  3955, 3597.900,    2.372,   34.884,2,   34.881,2,  238.400,2,  238.000,2,   50.190,2,   23.650,2, -999.000,9,    1.590,2,    0.003,2,    0.003,2, -999.000,9, -999.000,9, -999.000,9
           NA,     A14,     56,   1,-999.0,       5,  2,19950129,2216, -20.0005,   -8.9998,  3955, 3798.200,    2.384,   34.885,2,   34.883,2,  237.000,2,  237.000,2,   50.400,2,   23.870,2, -999.000,9,    1.600,2,    0.004,2,    0.001,2, -999.000,9, -999.000,9, -999.000,9
           NA,     A14,     56,   1,-999.0,       4,  2,19950129,2216, -20.0005,   -8.9998,  3955, 3897.700,    2.389,   34.886,2,   34.884,2,  236.300,2,  236.400,2,   50.760,2,   23.770,2, -999.000,9,    1.590,2,    0.005,2, -999.000,9, -999.000,9, -999.000,9, -999.000,9
           NA,     A14,     56,   1,-999.0,       3,  2,19950129,2216, -20.0005,   -8.9998,  3955, 3984.500,    2.392,   34.888,2,   34.886,2,  235.700,2,  235.900,2,   50.660,2,   23.760,2, -999.000,9, -999.000,9,    0.003,2, -999.000,9, -999.000,9, -999.000,9, -999.000,9