BOTTLE,20213527JOAExport
EXPOCODE,SECT_ID,STNNBR,CASTNO,SAMPNO,BTLNBR,BTLNBR_FLAG_W,DATE,TIME,LATITUDE,LONGITUDE,DEPTH,CTDPRS,CTDTMP,CTDSAL,CTDSAL_FLAG_W,SALNTY,SALNTY_FLAG_W,CTDOXY,CTDOXY_FLAG_W,OXYGEN,OXYGEN_FLAG_W,SILCAT,SILCAT_FLAG_W,NITRAT,NITRAT_FLAG_W,NITRIT,NITRIT_FLAG_W,PHSPHT,PHSPHT_FLAG_W,CFC-11,CFC-11_FLAG_W,CFC-12,CFC-12_FLAG_W,SF6,SF6_FLAG_W,TCARBN,TCARBN_FLAG_W,ALKALI,ALKALI_FLAG_W
,,,,,,,,,,,,DB,DEG C,PSS-78,,PSS-78,,UMOL/KG,,UMOL/KG,,UMOL/KG,,UMOL/KG,,UMOL/KG,,UMOL/KG,,PMOL/KG,,PMOL/KG,,FMOL/KG,,UMOL/KG,,UMOL/KG
           NA,     A14,     51,   1,-999.0,      32,  2,19950128,2011, -17.4963,   -9.0028,  3067,    3.800,   24.194,   36.491,2,   36.490,2,  206.700,2, -999.000,3,    0.640,2,    0.020,2, -999.000,9,    0.250,2,    2.002,2,    1.040,2, -999.000,9, -999.000,9, 2406.900,2
           NA,     A14,     51,   1,-999.0,      31,  2,19950128,2011, -17.4963,   -9.0028,  3067,   47.400,   22.682,   36.523,2, -999.000,3,  219.600,2, -999.000,3,    0.780,2,    0.020,2, -999.000,9,    0.240,2,    2.118,2,    1.074,2, -999.000,9, -999.000,9, -999.000,9
           NA,     A14,     51,   1,-999.0,      30,  2,19950128,2011, -17.4963,   -9.0028,  3067,   48.000,   22.682,   36.524,2, -999.000,3,  219.900,2,  221.200,2,    0.630,2,    0.020,2, -999.000,9,    0.250,2,    2.110,2,    1.068,2, -999.000,9, -999.000,9, -999.000,9
           NA,     A14,     51,   1,-999.0,      29,  2,19950128,2011, -17.4963,   -9.0028,  3067,   72.700,   21.720,   36.466,2, -999.000,3,  224.100,2,  226.800,2,    0.710,2,    0.020,2, -999.000,9,    0.230,2,    2.217,2,    1.107,2, -999.000,9, -999.000,9, -999.000,9
           NA,     A14,     51,   1,-999.0,      28,  2,19950128,2011, -17.4963,   -9.0028,  3067,   96.600,   20.067,   36.265,2, -999.000,3,  222.000,2,  225.000,2,    0.780,2,    0.150,2, -999.000,9,    0.250,2,    2.295,2,    1.147,2, -999.000,9, -999.000,9, -999.000,9
           NA,     A14,     51,   1,-999.0,      27,  2,19950128,2011, -17.4963,   -9.0028,  3067,  146.400,   16.172,   35.606,2, -999.000,3,  206.400,2,  203.500,2,    2.330,6,    5.820,6, -999.000,9,    0.560,6,    2.541,2,    1.231,2, -999.000,9, -999.000,9, -999.000,9
           NA,     A14,     51,   1,-999.0,      26,  2,19950128,2011, -17.4963,   -9.0028,  3067,  196.800,   13.964,   35.269,2, -999.000,3,  190.400,2,  188.700,2,    3.600,2,   11.320,2, -999.000,9,    0.840,2,    2.454,2,    1.163,2, -999.000,9, -999.000,9, -999.000,9
           NA,     A14,     51,   1,-999.0,      25,  2,19950128,2011, -17.4963,   -9.0028,  3067,  246.400,   12.308,   35.074,2,   35.072,2,  170.300,2,  166.800,2,    6.010,6,   17.110,6, -999.000,9,    1.180,6,    2.043,2,    0.945,2, -999.000,9, -999.000,9, -999.000,9
           NA,     A14,     51,   1,-999.0,      24,  2,19950128,2011, -17.4963,   -9.0028,  3067,  296.200,   11.400,   34.982,2,   34.979,2,  153.200,2,  155.800,2,    7.430,2,   20.120,2, -999.000,9,    1.380,2,    1.712,2,    0.789,2, -999.000,9, -999.000,9, -999.000,9
           NA,     A14,     51,   1,-999.0,      23,  2,19950128,2011, -17.4963,   -9.0028,  3067,  396.300,    9.033,   34.757,2,   34.758,2,  125.000,2,  122.800,2,   13.720,2,   28.350,2, -999.000,9,    1.900,2,    0.807,2,    0.380,2, -999.000,9, -999.000,9, -999.000,9
           NA,     A14,     51,   1,-999.0,      22,  2,19950128,2011, -17.4963,   -9.0028,  3067,  495.600,    6.999,   34.590,2,   34.591,2,  129.200,2,  129.200,2,   19.360,2,   32.170,2, -999.000,9,    2.140,2,    0.342,2,    0.164,2, -999.000,9, -999.000,9, -999.000,9
           NA,     A14,     51,   1,-999.0,      21,  2,19950128,2011, -17.4963,   -9.0028,  3067,  596.600,    5.598,   34.485,2,   34.482,2,  151.200,2,  151.600,2,   24.650,2,   33.090,2, -999.000,9,    2.220,2,    0.165,2,    0.087,2, -999.000,9, -999.000,9, -999.000,9
           NA,     A14,     51,   1,-999.0,      20,  2,19950128,2011, -17.4963,   -9.0028,  3067,  695.300,    4.732,   34.445,2,   34.447,2,  163.700,2,  164.100,2,   29.360,2,   33.380,2, -999.000,9,    2.260,2,    0.075,2,    0.038,2, -999.000,9, -999.000,9, -999.000,9
           NA,     A14,     51,   1,-999.0,      19,  2,19950128,2011, -17.4963,   -9.0028,  3067,  795.100,    4.374,   34.461,2,   34.463,2,  159.300,2,  159.200,2,   32.620,6,   34.310,2, -999.000,9,    2.330,6,    0.030,2,    0.014,2, -999.000,9, -999.000,9, -999.000,9
           NA,     A14,     51,   1,-999.0,      18,  2,19950128,2011, -17.4963,   -9.0028,  3067,  895.000,    4.071,   34.497,2,   34.497,2,  162.500,2,  162.700,2,   35.240,2,   33.970,2, -999.000,9,    2.310,2,    0.013,2,    0.003,2, -999.000,9, -999.000,9, -999.000,9
           NA,     A14,     51,   1,-999.0,      17,  2,19950128,2011, -17.4963,   -9.0028,  3067,  994.700,    3.879,   34.550,2,   34.549,2,  166.300,2,  166.400,2,   36.550,2,   33.450,2, -999.000,9,    2.270,2,    0.007,2,    0.000,2, -999.000,9, -999.000,9, -999.000,9
           NA,     A14,     51,   1,-999.0,      16,  2,19950128,2011, -17.4963,   -9.0028,  3067, 1195.000,    3.750,   34.695,2,   34.696,2,  181.500,2,  181.400,2,   34.610,2,   30.220,2, -999.000,9,    2.060,2,    0.001,2,    0.002,2, -999.000,9, -999.000,9, -999.000,9
           NA,     A14,     51,   1,-999.0,      15,  2,19950128,2011, -17.4963,   -9.0028,  3067, 1295.800,    3.728,   34.742,2,   34.740,2,  189.700,2,  188.500,2,   33.410,6,   28.900,2, -999.000,9,    1.960,6,    0.004,2,    0.003,2, -999.000,9, -999.000,9, -999.000,9
           NA,     A14,     51,   1,-999.0,      14,  2,19950128,2011, -17.4963,   -9.0028,  3067, 1394.500,    3.692,   34.800,2,   34.799,2,  199.000,2,  200.300,2,   31.080,2,   27.230,2, -999.000,9,    1.840,2,    0.000,2,    0.000,2, -999.000,9, -999.000,9, -999.000,9
           NA,     A14,     51,   1,-999.0,      13,  2,19950128,2011, -17.4963,   -9.0028,  3067, 1596.200,    3.610,   34.873,2,   34.874,2,  220.100,2,  217.800,2,   28.260,2,   24.570,2, -999.000,9,    1.650,2,    0.002,2,    0.000,2, -999.000,9, -999.000,9, -999.000,9
           NA,     A14,     51,   1,-999.0,      12,  2,19950128,2011, -17.4963,   -9.0028,  3067, 1795.400,    3.326,   34.900,2,   34.898,2,  231.000,2,  230.600,2,   30.000,2,   23.250,2, -999.000,9,    1.550,2,    0.001,2,    0.001,2, -999.000,9, -999.000,9, -999.000,9
           NA,     A14,     51,   1,-999.0,      11,  2,19950128,2011, -17.4963,   -9.0028,  3067, 1995.100,    3.118,   34.907,2,   34.904,2,  235.900,2,  236.500,2,   32.040,2,   22.820,2, -999.000,9,    1.510,2,    0.003,2,    0.000,2, -999.000,9, -999.000,9, -999.000,9
           NA,     A14,     51,   1,-999.0,      10,  2,19950128,2011, -17.4963,   -9.0028,  3067, 2195.900,    2.916,   34.907,2,   34.908,2,  239.400,2,  239.400,2,   35.030,2,   22.560,2, -999.000,9,    1.510,2,    0.005,2,    0.000,2, -999.000,9, -999.000,9, -999.000,9
           NA,     A14,     51,   1,-999.0,       9,  2,19950128,2011, -17.4963,   -9.0028,  3067, 2394.800,    2.741,   34.899,2,   34.898,2,  242.000,2,  241.600,2,   38.450,2,   22.690,2, -999.000,9,    1.510,2,    0.005,2,    0.000,2, -999.000,9, -999.000,9, -999.000,9
           NA,     A14,     51,   1,-999.0,       7,  2,19950128,2011, -17.4963,   -9.0028,  3067, 2596.200,    2.612,   34.895,2,   34.895,2,  242.200,2,  241.400,2,   41.470,2,   22.870,2, -999.000,9,    1.520,2, -999.000,9, -999.000,9, -999.000,9, -999.000,9, -999.000,9
           NA,     A14,     51,   1,-999.0,       8,  2,19950128,2011, -17.4963,   -9.0028,  3067, 2596.500,    2.613,   34.895,2,   34.893,2,  242.200,2,  241.700,2,   41.300,2,   22.910,2, -999.000,9,    1.520,2,    0.000,2,   -0.001,2, -999.000,9, -999.000,9, -999.000,9
           NA,     A14,     51,   1,-999.0,       6,  2,19950128,2011, -17.4963,   -9.0028,  3067, 2795.500,    2.509,   34.891,2,   34.889,2,  241.400,2,  241.200,2,   44.600,2,   23.180,2, -999.000,9,    1.540,2,    0.001,2,    0.000,2, -999.000,9, -999.000,9, -999.000,9
           NA,     A14,     51,   1,-999.0,       5,  2,19950128,2011, -17.4963,   -9.0028,  3067, 2897.400,    2.483,   34.890,2,   34.888,2,  240.900,2,  240.900,2,   45.470,2,   23.180,2, -999.000,9,    1.540,2,    0.000,2, -999.000,9, -999.000,9, -999.000,9, -999.000,9
           NA,     A14,     51,   1,-999.0,       4,  2,19950128,2011, -17.4963,   -9.0028,  3067, 2996.400,    2.456,   34.888,2,   34.887,2,  240.700,2,  240.400,2,   46.570,2,   23.140,2, -999.000,9,    1.550,2,    0.000,2,   -0.003,2, -999.000,9, -999.000,9, -999.000,9
           NA,     A14,     51,   1,-999.0,       3,  2,19950128,2011, -17.4963,   -9.0028,  3067, 3049.300,    2.458,   34.887,2,   34.888,2,  239.100,2,  243.700,2,   46.670,2,   23.050,2, -999.000,9,    1.540,2,    0.004,2,    0.000,2, -999.000,9, -999.000,9, -999.000,9
           NA,     A14,     50,   1,-999.0,      32,  2,19950128,1500, -16.9985,   -9.0003,  3975,    2.800,   24.198,   36.468,2,   36.464,2,  214.000,2,  212.900,2,    0.700,2,    0.020,2, -999.000,9,    0.230,2,    1.974,2,    0.997,2, -999.000,9, -999.000,9, 2399.000,2
           NA,     A14,     50,   1,-999.0,      31,  2,19950128,1500, -16.9985,   -9.0003,  3975,   47.100,   22.035,   36.431,2, -999.000,3,  218.600,2, -999.000,3,    0.770,2,    0.020,2, -999.000,9,    0.220,2,    2.154,2,    1.072,2, -999.000,9, -999.000,9, -999.000,9
           NA,     A14,     50,   1,-999.0,      29,  2,19950128,1500, -16.9985,   -9.0003,  3975,   96.000,   20.223,   36.321,2, -999.000,3,  223.300,2,  224.800,2,    0.920,2,    0.020,2, -999.000,9,    0.240,2,    2.247,2,    1.114,2, -999.000,9, -999.000,9, -999.000,9
           NA,     A14,     50,   1,-999.0,      30,  2,19950128,1500, -16.9985,   -9.0003,  3975,   96.500,   20.202,   36.317,2, -999.000,3,  222.900,2,  224.400,2,    0.850,2,    0.020,2, -999.000,9,    0.230,2,    2.241,2,    1.114,2, -999.000,9, -999.000,9, -999.000,9
           NA,     A14,     50,   1,-999.0,      28,  2,19950128,1500, -16.9985,   -9.0003,  3975,  131.200,   19.278,   36.161,2, -999.000,3,  209.500,2,  212.700,2,    1.140,2,    1.860,2, -999.000,9,    0.340,2,    2.306,2,    1.142,2, -999.000,9, -999.000,9, -999.000,9
           NA,     A14,     50,   1,-999.0,      27,  2,19950128,1500, -16.9985,   -9.0003,  3975,  156.400,   15.694,   35.525,2, -999.000,3,  202.900,2,  200.800,2,    2.520,2,    6.950,2, -999.000,9,    0.580,2,    2.527,2,    1.224,2, -999.000,9, -999.000,9, -999.000,9
           NA,     A14,     50,   1,-999.0,      26,  2,19950128,1500, -16.9985,   -9.0003,  3975,  196.300,   13.562,   35.213,2,   35.209,2,  190.500,2, -999.000,3,    4.270,2,   13.130,2, -999.000,9,    0.910,2,    2.356,2,    1.110,2, -999.000,9, -999.000,9, -999.000,9
           NA,     A14,     50,   1,-999.0,      25,  2,19950128,1500, -16.9985,   -9.0003,  3975,  395.500,    8.508,   34.720,2,   34.721,2,  109.600,2,  108.100,2,   15.780,2,   30.810,2, -999.000,9,    2.010,2,    0.571,2,    0.265,2, -999.000,9, -999.000,9, -999.000,9
           NA,     A14,     50,   1,-999.0,      24,  2,19950128,1500, -16.9985,   -9.0003,  3975,  496.000,    6.895,   34.589,2,   34.590,2,  109.700,2,  113.800,2,   20.660,2,   33.990,2, -999.000,9,    2.220,2,    0.214,2,    0.108,2, -999.000,9, -999.000,9, -999.000,9
           NA,     A14,     50,   1,-999.0,      23,  2,19950128,1500, -16.9985,   -9.0003,  3975,  595.000,    5.535,   34.491,2,   34.493,2,  128.800,2, -999.000,3,   25.610,2,   34.510,2, -999.000,9,    2.270,2,    0.101,2,    0.052,2, -999.000,9, -999.000,9, -999.000,9
           NA,     A14,     50,   1,-999.0,      22,  2,19950128,1500, -16.9985,   -9.0003,  3975,  796.400,    4.458,   34.468,2,   34.471,2,  151.100,2,  151.800,2,   32.750,2,   34.860,2, -999.000,9,    2.330,2,    0.026,2,    0.013,2, -999.000,9, -999.000,9, -999.000,9
           NA,     A14,     50,   1,-999.0,      21,  2,19950128,1500, -16.9985,   -9.0003,  3975,  995.100,    3.935,   34.556,2,   34.555,2,  162.400,2,  159.500,2,   36.900,2,   33.820,2, -999.000,9,    2.280,2,    0.018,2,    0.006,2, -999.000,9, -999.000,9, -999.000,9
           NA,     A14,     50,   1,-999.0,      20,  2,19950128,1500, -16.9985,   -9.0003,  3975, 1195.400,    3.737,   34.686,2,   34.682,2,  180.200,2,  179.300,2,   35.800,2,   30.580,2, -999.000,9,    2.070,2,    0.008,2, -999.000,9, -999.000,9, -999.000,9, -999.000,9
           NA,     A14,     50,   1,-999.0,      19,  2,19950128,1500, -16.9985,   -9.0003,  3975, 1395.200,    3.722,   34.795,2,   34.796,2,  198.100,2,  197.800,2,   31.360,2,   27.350,2, -999.000,9,    1.840,2,    0.003,2,    0.001,2, -999.000,9, -999.000,9, -999.000,9
           NA,     A14,     50,   1,-999.0,      18,  2,19950128,1500, -16.9985,   -9.0003,  3975, 1594.700,    3.603,   34.867,2,   34.867,2,  215.700,2,  216.000,2,   29.100,2,   24.480,2, -999.000,9,    1.650,2,    0.003,2, -999.000,9, -999.000,9, -999.000,9, -999.000,9
           NA,     A14,     50,   1,-999.0,      17,  2,19950128,1500, -16.9985,   -9.0003,  3975, 1782.900,    3.400,   34.896,2,   34.894,2,  229.400,2,  228.400,2,   29.610,2,   23.340,2, -999.000,9,    1.550,2,    0.002,2,   -0.001,2, -999.000,9, -999.000,9, -999.000,9
           NA,     A14,     50,   1,-999.0,      16,  2,19950128,1500, -16.9985,   -9.0003,  3975, 1996.100,    3.186,   34.906,2,   34.903,2,  236.500,2,  235.100,2,   31.780,6,   22.790,2, -999.000,9,    1.510,6,    0.002,2,    0.001,2, -999.000,9, -999.000,9, -999.000,9
           NA,     A14,     50,   1,-999.0,      15,  2,19950128,1500, -16.9985,   -9.0003,  3975, 2195.300,    2.988,   34.908,2,   34.907,2,  239.900,2,  238.300,2,   34.120,2,   22.510,2, -999.000,9,    1.490,2,    0.000,2,    0.005,2, -999.000,9, -999.000,9, -999.000,9
           NA,     A14,     50,   1,-999.0,      14,  2,19950128,1500, -16.9985,   -9.0003,  3975, 2397.000,    2.830,   34.905,2,   34.903,2,  241.000,2,  239.800,2,   36.880,2,   22.600,2, -999.000,9,    1.500,2,    0.004,2,   -0.004,2, -999.000,9, -999.000,9, -999.000,9
           NA,     A14,     50,   1,-999.0,      13,  2,19950128,1500, -16.9985,   -9.0003,  3975, 2595.400,    2.670,   34.899,2,   34.895,2,  241.100,2,  240.700,2,   40.300,2,   22.690,2, -999.000,9,    1.510,2,    0.002,2,    0.001,2, -999.000,9, -999.000,9, -999.000,9
           NA,     A14,     50,   1,-999.0,      12,  2,19950128,1500, -16.9985,   -9.0003,  3975, 2796.200,    2.569,   34.892,2,   34.890,2,  241.200,2,  240.600,2,   43.200,2,   22.870,2, -999.000,9,    1.520,2,    0.000,2, -999.000,9, -999.000,9, -999.000,9, -999.000,9
           NA,     A14,     50,   1,-999.0,      11,  2,19950128,1500, -16.9985,   -9.0003,  3975, 2996.900,    2.479,   34.889,2,   34.887,2,  240.700,2,  240.300,2,   45.620,2,   23.040,2, -999.000,9,    1.540,2,    0.002,2,    0.000,2, -999.000,9, -999.000,9, -999.000,9
           NA,     A14,     50,   1,-999.0,      10,  2,19950128,1500, -16.9985,   -9.0003,  3975, 3194.800,    2.442,   34.886,2,   34.886,2,  239.800,2,  239.200,2,   47.180,2,   23.130,2, -999.000,9,    1.540,2,    0.004,2,    0.000,2, -999.000,9, -999.000,9, -999.000,9
           NA,     A14,     50,   1,-999.0,       9,  2,19950128,1500, -16.9985,   -9.0003,  3975, 3396.900,    2.425,   34.888,2,   34.885,2,  238.100,2,  238.100,2,   48.140,6,   23.160,6, -999.000,9,    1.560,6,    0.001,2,    0.003,2, -999.000,9, -999.000,9, -999.000,9
           NA,     A14,     50,   1,-999.0,       8,  2,19950128,1500, -16.9985,   -9.0003,  3975, 3596.400,    2.414,   34.889,2,   34.886,2,  236.900,2,  236.900,2,   48.730,2,   23.310,2, -999.000,9,    1.560,2,    0.000,2,   -0.004,2, -999.000,9, -999.000,9, -999.000,9
           NA,     A14,     50,   1,-999.0,       6,  2,19950128,1500, -16.9985,   -9.0003,  3975, 3797.100,    2.422,   34.888,2,   34.886,2,  236.400,2,  236.500,2,   49.380,6,   23.250,6, -999.000,9,    1.560,6,    0.003,2,   -0.003,2, -999.000,9, -999.000,9, -999.000,9
           NA,     A14,     50,   1,-999.0,       7,  2,19950128,1500, -16.9985,   -9.0003,  3975, 3797.200,    2.422,   34.888,2,   34.890,2,  236.400,2,  236.100,2,   49.200,2,   23.220,2, -999.000,9,    1.560,2, -999.000,9, -999.000,9, -999.000,9, -999.000,9, -999.000,9
           NA,     A14,     50,   1,-999.0,       5,  2,19950128,1500, -16.9985,   -9.0003,  3975, 3896.300,    2.420,   34.888,2,   34.886,2,  236.400,2,  236.000,2,   49.820,2,   23.310,2, -999.000,9,    1.560,2,    0.001,2,    0.000,2, -999.000,9, -999.000,9, -999.000,9
           NA,     A14,     50,   1,-999.0,       4,  2,19950128,1500, -16.9985,   -9.0003,  3975, 3997.700,    2.421,   34.888,2,   34.886,2,  234.100,2,  235.600,2,   50.360,2,   23.270,2, -999.000,9,    1.560,2,    0.002,2,    0.000,2, -999.000,9, -999.000,9, -999.000,9
           NA,     A14,     50,   1,-999.0,       3,  2,19950128,1500, -16.9985,   -9.0003,  3975, 4010.700,    2.419,   34.888,2,   34.888,2,  233.700,2,  235.700,2,   49.970,2,   23.310,2, -999.000,9,    1.560,2,    0.003,2,    0.000,2, -999.000,9, -999.000,9, -999.000,9