BOTTLE,20213527JOAExport
EXPOCODE,SECT_ID,STNNBR,CASTNO,SAMPNO,BTLNBR,BTLNBR_FLAG_W,DATE,TIME,LATITUDE,LONGITUDE,DEPTH,CTDPRS,CTDTMP,CTDSAL,CTDSAL_FLAG_W,SALNTY,SALNTY_FLAG_W,CTDOXY,CTDOXY_FLAG_W,OXYGEN,OXYGEN_FLAG_W,SILCAT,SILCAT_FLAG_W,NITRAT,NITRAT_FLAG_W,NITRIT,NITRIT_FLAG_W,PHSPHT,PHSPHT_FLAG_W,CFC-11,CFC-11_FLAG_W,CFC-12,CFC-12_FLAG_W,SF6,SF6_FLAG_W,TCARBN,TCARBN_FLAG_W,ALKALI,ALKALI_FLAG_W
,,,,,,,,,,,,DB,DEG C,PSS-78,,PSS-78,,UMOL/KG,,UMOL/KG,,UMOL/KG,,UMOL/KG,,UMOL/KG,,UMOL/KG,,PMOL/KG,,PMOL/KG,,FMOL/KG,,UMOL/KG,,UMOL/KG
           NA,     A14,      3,   1,-999.0,      19,  2,19950117,2035,   4.3197,   -6.9967,  1083,    0.900,   24.880,   34.724,2, -999.000,3,  227.800,2, -999.000,3,    0.690,2,    0.040,2, -999.000,9,    0.080,2,    1.686,2,    0.843,2, -999.000,9, 1928.400,6, -999.000,9
           NA,     A14,      3,   1,-999.0,      18,  2,19950117,2035,   4.3197,   -6.9967,  1083,   22.000,   18.043,   35.790,2,   35.794,2,  164.500,2, -999.000,3,    3.850,2,   12.630,2, -999.000,9,    0.910,2,    1.653,2,    0.773,2, -999.000,9, -999.000,9, -999.000,9
           NA,     A14,      3,   1,-999.0,      17,  2,19950117,2035,   4.3197,   -6.9967,  1083,   46.900,   16.922,   35.765,2, -999.000,3,  131.800,2,  130.200,2,    5.350,2,   15.320,2, -999.000,9,    1.030,2,    1.676,2,    0.775,2, -999.000,9, -999.000,9, -999.000,9
           NA,     A14,      3,   1,-999.0,      16,  2,19950117,2035,   4.3197,   -6.9967,  1083,   71.700,   16.540,   35.723,2, -999.000,3,  131.800,2,  131.100,2,    5.660,2,   15.800,2, -999.000,9,    1.080,2,    1.652,2,    0.790,2, -999.000,9, -999.000,9, -999.000,9
           NA,     A14,      3,   1,-999.0,      15,  2,19950117,2035,   4.3197,   -6.9967,  1083,   96.700,   16.129,   35.667,2,   35.667,2,  128.100,2,  128.100,2,    6.090,6,   16.730,6, -999.000,9,    1.120,6,    1.590,2,    0.744,2, -999.000,9, -999.000,9, -999.000,9
           NA,     A14,      3,   1,-999.0,      14,  2,19950117,2035,   4.3197,   -6.9967,  1083,  147.700,   15.205,   35.552,2,   35.551,2,  119.800,2,  118.800,2,    7.250,2,   18.970,2, -999.000,9,    1.290,2,    1.443,2,    0.657,2, -999.000,9, -999.000,9, -999.000,9
           NA,     A14,      3,   1,-999.0,      13,  2,19950117,2035,   4.3197,   -6.9967,  1083,  195.500,   14.354,   35.454,2, -999.000,3,  110.300,2,  106.000,2,    8.680,2,   21.220,2, -999.000,9,    1.450,2,    1.234,2,    0.580,2, -999.000,9, -999.000,9, -999.000,9
           NA,     A14,      3,   1,-999.0,      12,  2,19950117,2035,   4.3197,   -6.9967,  1083,  295.900,   11.246,   35.090,2, -999.000,3,   62.100,2,   57.900,2,   14.230,2,   31.660,2, -999.000,9,    2.040,2,    0.440,2,    0.232,2, -999.000,9, -999.000,9, -999.000,9
           NA,     A14,      3,   1,-999.0,      11,  2,19950117,2035,   4.3197,   -6.9967,  1083,  395.900,    8.833,   34.826,2, -999.000,3,   65.800,2,   67.400,2,   18.440,2,   35.020,2, -999.000,9,    2.270,2,    0.181,2,    0.131,2, -999.000,9, -999.000,9, -999.000,9
           NA,     A14,      3,   1,-999.0,      10,  2,19950117,2035,   4.3197,   -6.9967,  1083,  495.600,    7.542,   34.703,2, -999.000,3,   83.000,2,   85.000,2,   21.620,2,   36.010,2, -999.000,9,    2.370,2,    0.098,2,    0.054,2, -999.000,9, -999.000,9, -999.000,9
           NA,     A14,      3,   1,-999.0,       9,  2,19950117,2035,   4.3197,   -6.9967,  1083,  596.000,    6.626,   34.648,2,   34.652,2,   95.700,2,   94.900,2,   24.810,2,   36.880,2, -999.000,9,    2.440,2,    0.036,2,    0.019,2, -999.000,9, -999.000,9, -999.000,9
           NA,     A14,      3,   1,-999.0,       8,  2,19950117,2035,   4.3197,   -6.9967,  1083,  696.300,    5.638,   34.600,2,   34.605,2,  114.700,2,  112.600,2,   28.570,2,   36.770,2, -999.000,9,    2.460,2,    0.013,2,    0.007,2, -999.000,9, -999.000,9, -999.000,9
           NA,     A14,      3,   1,-999.0,       7,  2,19950117,2035,   4.3197,   -6.9967,  1083,  796.000,    5.222,   34.592,2,   34.595,2,  127.500,2,  124.000,2,   29.860,2,   35.950,2, -999.000,9,    2.450,2,    0.010,2,    0.009,2, -999.000,9, -999.000,9, -999.000,9
           NA,     A14,      3,   1,-999.0,       6,  2,19950117,2035,   4.3197,   -6.9967,  1083,  895.800,    4.939,   34.593,2,   34.600,2,  135.400,2,  133.300,2,   31.310,2,   35.610,2, -999.000,9,    2.410,2,    0.005,2,    0.009,2, -999.000,9, -999.000,9, -999.000,9
           NA,     A14,      3,   1,-999.0,       5,  2,19950117,2035,   4.3197,   -6.9967,  1083,  995.900,    4.574,   34.667,2,   34.673,2,  153.700,2,  151.000,2,   31.180,2,   33.290,2, -999.000,9,    2.260,2,    0.002,2, -999.000,9, -999.000,9, -999.000,9, -999.000,9
           NA,     A14,      3,   1,-999.0,       3,  2,19950117,2035,   4.3197,   -6.9967,  1083, 1073.200,    4.571,   34.676,2,   34.682,2,  149.900,2,  152.700,2,   30.830,2,   33.000,2, -999.000,9,    2.270,2,    0.001,2,    0.001,2, -999.000,9, -999.000,9, -999.000,9
           NA,     A14,      3,   1,-999.0,       4,  2,19950117,2035,   4.3197,   -6.9967,  1083, 1073.400,    4.570,   34.676,2, -999.000,3,  149.900,2,  152.500,2,   30.880,2,   33.170,2, -999.000,9,    2.250,2,    0.004,2,    0.004,2, -999.000,9, -999.000,9, -999.000,9
           NA,     A14,      2,   1,-999.0,      14,  2,19950117,1831,   4.3488,   -6.9970,   540,    0.600,   25.292,   34.893,2, -999.000,3,  238.500,2,  235.300,2,    0.670,2,    1.810,2, -999.000,9,    0.200,2,    1.677,2,    0.817,2, -999.000,9, 1984.900,6, 2317.900,6
           NA,     A14,      2,   1,-999.0,      13,  2,19950117,1831,   4.3488,   -6.9970,   540,   21.300,   18.771,   35.773,2, -999.000,3,  175.100,2, -999.000,3,    3.720,2,   13.080,2, -999.000,9,    0.900,2,    1.653,2,    0.769,2, -999.000,9, 2143.500,2, 2352.400,2
           NA,     A14,      2,   1,-999.0,      12,  2,19950117,1831,   4.3488,   -6.9970,   540,   46.000,   17.246,   35.787,2, -999.000,3,  127.800,2,  128.900,2,    5.090,2,   15.420,2, -999.000,9,    1.030,2,    1.670,2,    0.809,2, -999.000,9, 2151.300,2, 2350.400,2
           NA,     A14,      2,   1,-999.0,      11,  2,19950117,1831,   4.3488,   -6.9970,   540,   70.800,   16.573,   35.726,2, -999.000,3,  130.200,2,  130.700,2,    5.570,2,   16.030,2, -999.000,9,    1.110,2,    1.626,2, -999.000,9, -999.000,9, 2152.000,2, 2346.400,2
           NA,     A14,      2,   1,-999.0,      10,  2,19950117,1831,   4.3488,   -6.9970,   540,   95.500,   16.142,   35.662,2,   35.659,2,  121.000,2,  120.800,2,    6.210,2,   17.440,2, -999.000,9,    1.180,2,    1.542,2,    0.725,2, -999.000,9, 2160.200,2, 2345.000,2
           NA,     A14,      2,   1,-999.0,       9,  2,19950117,1831,   4.3488,   -6.9970,   540,  120.200,   15.761,   35.631,2,   35.629,2,  119.000,2,  118.900,2,    6.850,2,   18.010,2, -999.000,9,    1.230,2,    1.510,2,    0.705,2, -999.000,9, 2161.200,2, 2343.500,2
           NA,     A14,      2,   1,-999.0,       8,  2,19950117,1831,   4.3488,   -6.9970,   540,  145.700,   15.486,   35.596,2, -999.000,3,  119.600,2,  117.500,2,    7.010,2,   18.630,2, -999.000,9,    1.260,2,    1.476,2,    0.695,2, -999.000,9, 2164.700,2, 2340.100,2
           NA,     A14,      2,   1,-999.0,       7,  2,19950117,1831,   4.3488,   -6.9970,   540,  170.700,   14.928,   35.520,2,   35.519,2,  117.000,2,  115.800,2,    7.410,2,   19.470,2, -999.000,9,    1.310,2,    1.399,2,    0.659,2, -999.000,9, 2168.300,2, 2336.500,2
           NA,     A14,      2,   1,-999.0,       6,  2,19950117,1831,   4.3488,   -6.9970,   540,  195.100,   14.607,   35.489,2, -999.000,3,  111.800,2,  109.100,2,    7.970,2,   20.650,2, -999.000,9,    1.390,2,    1.298,2,    0.598,2, -999.000,9, 2173.100,2, 2333.700,2
           NA,     A14,      2,   1,-999.0,       5,  2,19950117,1831,   4.3488,   -6.9970,   540,  296.100,   11.173,   35.091,2, -999.000,3,   69.200,2, -999.000,3,   14.210,2,   32.250,2, -999.000,9,    2.030,2,    0.424,2,    0.213,2, -999.000,9, 2227.200,2, 2313.500,2
           NA,     A14,      2,   1,-999.0,       4,  2,19950117,1831,   4.3488,   -6.9970,   540,  394.900,    8.864,   34.836,2,   34.837,2,   68.300,2,   69.000,2,   18.290,2,   35.150,2, -999.000,9,    2.250,2,    0.184,2,    0.093,2, -999.000,9, 2234.500,2, 2305.500,2
           NA,     A14,      2,   1,-999.0,       3,  2,19950117,1831,   4.3488,   -6.9970,   540,  518.500,    7.554,   34.701,2, -999.000,3,   85.000,2,   83.200,2,   21.720,2,   36.190,2, -999.000,9,    2.390,2,    0.100,2,    0.052,2, -999.000,9, 2232.700,6, 2303.400,2
           NA,     A14,      1,   1,-999.0,      11,  2,19950117,1638,   4.3653,   -7.0003,   235,    0.000,   22.948,   35.284,2, -999.000,3,  217.500,2, -999.000,3,    0.580,2,    1.100,2, -999.000,9,    0.200,2,    1.658,2,    0.799,2, -999.000,9, 2009.700,6, 2330.500,6
           NA,     A14,      1,   1,-999.0,      10,  2,19950117,1638,   4.3653,   -7.0003,   235,   21.800,   18.053,   35.806,2,   35.810,2,  141.400,2, -999.000,3,    4.140,2,   13.660,2, -999.000,9,    0.920,2,    1.678,2,    0.784,2, -999.000,9, 2145.800,2, 2353.600,2
           NA,     A14,      1,   1,-999.0,       9,  2,19950117,1638,   4.3653,   -7.0003,   235,   45.900,   16.921,   35.756,2,   35.753,2,  126.400,2,  130.700,2,    5.430,2,   15.510,2, -999.000,9,    1.060,2,    1.663,2, -999.000,9, -999.000,9, 2151.200,2, 2350.600,2
           NA,     A14,      1,   1,-999.0,       8,  2,19950117,1638,   4.3653,   -7.0003,   235,   72.200,   16.430,   35.695,2,   35.699,2,  128.100,2,  129.000,2,    5.750,2,   16.260,2, -999.000,9,    1.100,2,    1.633,2,    0.763,2, -999.000,9, 2153.800,2, 2346.500,2
           NA,     A14,      1,   1,-999.0,       7,  2,19950117,1638,   4.3653,   -7.0003,   235,   96.300,   16.173,   35.667,2,   35.668,2,  115.700,2,  118.600,2,    6.470,2,   17.530,2, -999.000,9,    1.190,2,    1.547,2,    0.721,2, -999.000,9, 2161.700,2, 2345.600,2
           NA,     A14,      1,   1,-999.0,       6,  2,19950117,1638,   4.3653,   -7.0003,   235,  120.300,   15.789,   35.623,2,   35.624,2,  116.300,2,  118.400,2,    6.950,2,   17.970,2, -999.000,9,    1.220,2,    1.515,2,    0.701,2, -999.000,9, 2163.200,2, 2344.300,2
           NA,     A14,      1,   1,-999.0,       5,  2,19950117,1638,   4.3653,   -7.0003,   235,  146.800,   15.375,   35.574,2,   35.578,2,  115.600,2,  116.300,2,    7.190,2,   18.760,2, -999.000,9,    1.270,2,    1.462,2,    0.659,2, -999.000,9, -999.000,9, 2340.700,2
           NA,     A14,      1,   1,-999.0,       4,  2,19950117,1638,   4.3653,   -7.0003,   235,  171.200,   14.869,   35.514,2,   35.515,2,  109.400,2,  111.600,2,    7.670,2,   19.950,2, -999.000,9,    1.320,2,    1.329,2,    0.571,2, -999.000,9, 2170.800,2, 2337.000,2
           NA,     A14,      1,   1,-999.0,       3,  2,19950117,1638,   4.3653,   -7.0003,   235,  218.400,   14.373,   35.452,2,   35.452,2,  102.900,2,  105.000,2,    8.400,2,   21.230,2, -999.000,9,    1.430,2,    1.291,2,    0.599,2, -999.000,9, 2176.700,6, 2334.200,2