BOTTLE,20213527JOAExport
EXPOCODE,SECT_ID,STNNBR,CASTNO,SAMPNO,BTLNBR,BTLNBR_FLAG_W,DATE,TIME,LATITUDE,LONGITUDE,DEPTH,CTDPRS,CTDTMP,CTDSAL,CTDSAL_FLAG_W,SALNTY,SALNTY_FLAG_W,CTDOXY,CTDOXY_FLAG_W,OXYGEN,OXYGEN_FLAG_W,SILCAT,SILCAT_FLAG_W,NITRAT,NITRAT_FLAG_W,NITRIT,NITRIT_FLAG_W,PHSPHT,PHSPHT_FLAG_W,CFC-11,CFC-11_FLAG_W,CFC-12,CFC-12_FLAG_W,SF6,SF6_FLAG_W,TCARBN,TCARBN_FLAG_W,ALKALI,ALKALI_FLAG_W
,,,,,,,,,,,,DB,DEG C,PSS-78,,PSS-78,,UMOL/KG,,UMOL/KG,,UMOL/KG,,UMOL/KG,,UMOL/KG,,UMOL/KG,,PMOL/KG,,PMOL/KG,,FMOL/KG,,UMOL/KG,,UMOL/KG
           NA,     A14,     24,   1,-999.0,      32,  2,19950122,1905,  -4.0017,   -7.6703,  4075,    3.400,   27.129,   35.652,2,   35.654,2,  196.700,2, -999.000,3,    0.810,2,    0.000,2, -999.000,9,    0.110,2,    1.732,2,    0.963,2, -999.000,9, 2007.700,6, 2345.700,2
           NA,     A14,     24,   1,-999.0,      31,  2,19950122,1905,  -4.0017,   -7.6703,  4075,   47.400,   20.125,   35.922,2, -999.000,3,  184.600,2, -999.000,3,    2.470,2,    8.610,2, -999.000,9,    0.690,2,    1.741,2,    0.875,2, -999.000,9, -999.000,9, -999.000,9
           NA,     A14,     24,   1,-999.0,      30,  2,19950122,1905,  -4.0017,   -7.6703,  4075,  123.100,   13.186,   35.306,2,   35.306,2,  106.800,2,  107.300,2,    7.940,2,   22.020,2, -999.000,9,    1.460,2,    1.186,2,    0.583,2, -999.000,9, -999.000,9, -999.000,9
           NA,     A14,     24,   1,-999.0,      29,  2,19950122,1905,  -4.0017,   -7.6703,  4075,  196.500,   12.527,   35.217,2,   35.219,2,  102.500,2,  104.600,2,    8.930,2,   23.270,2, -999.000,9,    1.520,2,    1.030,2,    0.500,2, -999.000,9, -999.000,9, -999.000,9
           NA,     A14,     24,   1,-999.0,      28,  2,19950122,1905,  -4.0017,   -7.6703,  4075,  396.700,    9.901,   34.913,2,   34.913,2,   70.300,2, -999.000,3,   13.740,2,   31.190,2, -999.000,9,    1.950,2,    0.428,2,    0.226,2, -999.000,9, -999.000,9, -999.000,9
           NA,     A14,     24,   1,-999.0,      27,  2,19950122,1905,  -4.0017,   -7.6703,  4075,  595.200,    6.346,   34.557,2, -999.000,4,  140.900,2, -999.000,4,   22.020,2,   33.380,2, -999.000,9,    2.170,2,    0.217,2,    0.115,2, -999.000,9, -999.000,9, -999.000,9
           NA,     A14,     24,   1,-999.0,      26,  2,19950122,1905,  -4.0017,   -7.6703,  4075,  795.100,    4.768,   34.490,2,   34.493,2,  141.800,2,  142.800,2,   30.800,2,   35.140,2, -999.000,9,    2.330,2,    0.032,2,    0.022,2, -999.000,9, -999.000,9, -999.000,9
           NA,     A14,     24,   1,-999.0,      25,  2,19950122,1905,  -4.0017,   -7.6703,  4075,  895.200,    4.428,   34.523,2,   34.523,2,  153.000,2,  155.100,2,   32.620,2,   34.530,2, -999.000,9,    2.290,2,    0.017,2,    0.008,2, -999.000,9, -999.000,9, -999.000,9
           NA,     A14,     24,   1,-999.0,      23,  2,19950122,1905,  -4.0017,   -7.6703,  4075,  996.600,    4.329,   34.587,2,   34.592,2,  156.700,2,  153.800,2,   32.620,2,   33.320,2, -999.000,9,    2.220,2,    0.004,2,    0.006,2, -999.000,9, -999.000,9, -999.000,9
           NA,     A14,     24,   1,-999.0,      24,  2,19950122,1905,  -4.0017,   -7.6703,  4075,  997.000,    4.331,   34.586,2,   34.589,2,  156.700,2,  153.700,2,   32.620,6,   33.200,6, -999.000,9,    2.230,6,    0.003,2,    0.014,2, -999.000,9, -999.000,9, -999.000,9
           NA,     A14,     24,   1,-999.0,      22,  2,19950122,1905,  -4.0017,   -7.6703,  4075, 1194.900,    4.261,   34.761,2,   34.762,2,  177.500,2,  176.000,2,   28.320,2,   29.350,2, -999.000,9,    1.930,2,    0.006,2,    0.001,2, -999.000,9, -999.000,9, -999.000,9
           NA,     A14,     24,   1,-999.0,      21,  2,19950122,1905,  -4.0017,   -7.6703,  4075, 1296.400,    4.224,   34.857,2,   34.859,2,  195.100,2,  195.000,2,   24.670,2,   26.080,2, -999.000,9,    1.720,6,    0.015,2,    0.012,2, -999.000,9, -999.000,9, -999.000,9
           NA,     A14,     24,   1,-999.0,      20,  2,19950122,1905,  -4.0017,   -7.6703,  4075, 1395.500,    4.199,   34.908,2,   34.908,2,  210.700,2,  208.900,2,   22.270,2,   24.180,2, -999.000,9,    1.600,2,    0.014,2,    0.007,2, -999.000,9, -999.000,9, -999.000,9
           NA,     A14,     24,   1,-999.0,      19,  2,19950122,1905,  -4.0017,   -7.6703,  4075, 1546.000,    4.053,   34.946,2,   34.946,2,  224.400,2,  224.300,2,   20.690,2,   22.590,2, -999.000,9,    1.450,2,    0.015,2,    0.010,2, -999.000,9, -999.000,9, -999.000,9
           NA,     A14,     24,   1,-999.0,      18,  2,19950122,1905,  -4.0017,   -7.6703,  4075, 1694.600,    3.844,   34.952,2,   34.951,2,  231.200,2,  231.700,2,   21.270,2,   21.960,2, -999.000,9,    1.410,2,    0.008,2,    0.006,2, -999.000,9, -999.000,9, -999.000,9
           NA,     A14,     24,   1,-999.0,      17,  2,19950122,1905,  -4.0017,   -7.6703,  4075, 1846.600,    3.719,   34.961,2,   34.959,2,  239.800,2,  238.900,2,   21.110,2,   21.370,2, -999.000,9,    1.350,2,    0.005,2,    0.004,2, -999.000,9, -999.000,9, -999.000,9
           NA,     A14,     24,   1,-999.0,      16,  2,19950122,1905,  -4.0017,   -7.6703,  4075, 1894.700,    3.677,   34.960,2,   34.958,2,  241.200,2,  240.000,2,   21.610,2,   21.210,2, -999.000,9,    1.340,2,    0.009,2,    0.007,2, -999.000,9, -999.000,9, -999.000,9
           NA,     A14,     24,   1,-999.0,      15,  2,19950122,1905,  -4.0017,   -7.6703,  4075, 1995.600,    3.505,   34.953,2,   34.949,2,  241.900,2,  241.800,2,   23.760,2,   21.200,2, -999.000,9,    1.350,2,    0.012,2,    0.009,2, -999.000,9, -999.000,9, -999.000,9
           NA,     A14,     24,   1,-999.0,      13,  2,19950122,1905,  -4.0017,   -7.6703,  4075, 2296.600,    3.129,   34.937,2,   34.933,2,  241.100,2,  241.500,2,   30.390,2,   21.700,2, -999.000,9,    1.390,2,    0.006,2,    0.006,2, -999.000,9, -999.000,9, -999.000,9
           NA,     A14,     24,   1,-999.0,      14,  2,19950122,1905,  -4.0017,   -7.6703,  4075, 2297.600,    3.129,   34.937,2,   34.935,2,  241.200,2,  241.300,2,   30.220,2,   21.780,2, -999.000,9,    1.390,6,    0.004,2,   -0.003,2, -999.000,9, -999.000,9, -999.000,9
           NA,     A14,     24,   1,-999.0,      12,  2,19950122,1905,  -4.0017,   -7.6703,  4075, 2597.900,    2.826,   34.919,2,   34.916,2,  237.700,2,  239.500,2,   36.930,2,   22.490,2, -999.000,9,    1.440,2,    0.001,2, -999.000,9, -999.000,9, -999.000,9, -999.000,9
           NA,     A14,     24,   1,-999.0,      11,  2,19950122,1905,  -4.0017,   -7.6703,  4075, 2796.100,    2.693,   34.910,2,   34.908,2,  238.000,2,  239.100,2,   39.660,2,   22.580,2, -999.000,9,    1.450,2,    0.000,2, -999.000,9, -999.000,9, -999.000,9, -999.000,9
           NA,     A14,     24,   1,-999.0,      10,  2,19950122,1905,  -4.0017,   -7.6703,  4075, 2998.800,    2.603,   34.905,2,   34.905,2,  238.100,2,  238.700,2,   41.850,2,   22.620,2, -999.000,9,    1.470,2,    0.002,2, -999.000,9, -999.000,9, -999.000,9, -999.000,9
           NA,     A14,     24,   1,-999.0,       9,  2,19950122,1905,  -4.0017,   -7.6703,  4075, 3197.200,    2.529,   34.900,2,   34.899,2,  237.900,2,  238.200,2,   43.900,2,   22.870,2, -999.000,9,    1.480,2,    0.003,2,    0.000,2, -999.000,9, -999.000,9, -999.000,9
           NA,     A14,     24,   1,-999.0,       8,  2,19950122,1905,  -4.0017,   -7.6703,  4075, 3398.200,    2.459,   34.897,2,   34.894,2,  237.700,2,  238.900,2,   45.580,2,   22.910,2, -999.000,9,    1.480,2,    0.003,2, -999.000,9, -999.000,9, -999.000,9, -999.000,9
           NA,     A14,     24,   1,-999.0,       7,  2,19950122,1905,  -4.0017,   -7.6703,  4075, 3597.700,    2.413,   34.893,2,   34.891,2,  238.100,2,  238.900,2,   47.360,2,   22.950,2, -999.000,9,    1.490,2,    0.004,2,    0.000,2, -999.000,9, -999.000,9, -999.000,9
           NA,     A14,     24,   1,-999.0,       6,  2,19950122,1905,  -4.0017,   -7.6703,  4075, 3796.700,    2.337,   34.889,2,   34.885,2,  241.000,2,  241.800,2,   47.980,2,   22.780,2, -999.000,9,    1.480,2,    0.002,2,    0.005,2, -999.000,9, -999.000,9, -999.000,9
           NA,     A14,     24,   1,-999.0,       5,  2,19950122,1905,  -4.0017,   -7.6703,  4075, 3994.200,    2.331,   34.888,2,   34.884,2,  241.900,2,  242.200,2,   48.070,2,   22.860,2, -999.000,9,    1.480,2,    0.002,2, -999.000,9, -999.000,9, -999.000,9, -999.000,9
           NA,     A14,     24,   1,-999.0,       4,  2,19950122,1905,  -4.0017,   -7.6703,  4075, 3995.900,    2.331,   34.887,2,   34.885,2,  242.000,2,  242.700,2,   48.340,2,   22.900,2, -999.000,9,    1.470,2,    0.002,2,    0.009,2, -999.000,9, -999.000,9, -999.000,9
           NA,     A14,     24,   1,-999.0,       3,  2,19950122,1905,  -4.0017,   -7.6703,  4075, 4092.100,    2.325,   34.886,2,   34.884,2,  242.600,2,  244.300,2,   48.700,2,   22.690,2, -999.000,9,    1.490,2,    0.002,2,    0.007,2, -999.000,9, -999.000,9, -999.000,9
           NA,     A14,     23,   1,-999.0,      32,  2,19950122,1330,  -3.5008,   -7.5560,  4099,    3.300,   27.330,   35.536,2,   35.539,2,  201.900,2,  203.100,2,    0.820,2,    0.000,2, -999.000,9,    0.110,2, -999.000,9, -999.000,9, -999.000,9, 2008.200,2, 2336.800,2
           NA,     A14,     23,   1,-999.0,      31,  2,19950122,1330,  -3.5008,   -7.5560,  4099,   30.300,   24.257,   35.757,2, -999.000,3,  211.000,2, -999.000,3,    1.810,2,    1.870,2, -999.000,9,    0.280,2, -999.000,9, -999.000,9, -999.000,9, -999.000,9, -999.000,9
           NA,     A14,     23,   1,-999.0,      30,  2,19950122,1330,  -3.5008,   -7.5560,  4099,   76.900,   14.082,   35.415,2,   35.410,2,  102.600,2, -999.000,3,    7.910,2,   22.590,2, -999.000,9,    1.460,2, -999.000,9, -999.000,9, -999.000,9, -999.000,9, -999.000,9
           NA,     A14,     23,   1,-999.0,      29,  2,19950122,1330,  -3.5008,   -7.5560,  4099,  145.200,   13.308,   35.318,2,   35.318,2,  101.300,2, -999.000,3,    8.240,2,   21.880,2, -999.000,9,    1.430,2, -999.000,9, -999.000,9, -999.000,9, -999.000,9, -999.000,9
           NA,     A14,     23,   1,-999.0,      28,  2,19950122,1330,  -3.5008,   -7.5560,  4099,  195.300,   12.595,   35.231,2,   35.230,2,   94.100,2,   91.100,2,    9.570,2,   24.300,2, -999.000,9,    1.570,2, -999.000,9, -999.000,9, -999.000,9, -999.000,9, -999.000,9
           NA,     A14,     23,   1,-999.0,      27,  2,19950122,1330,  -3.5008,   -7.5560,  4099,  395.200,   10.154,   34.938,2,   34.938,2,   74.900,2, -999.000,3,   13.690,2,   29.870,2, -999.000,9,    1.890,2, -999.000,9, -999.000,9, -999.000,9, -999.000,9, -999.000,9
           NA,     A14,     23,   1,-999.0,      26,  2,19950122,1330,  -3.5008,   -7.5560,  4099,  495.900,    8.193,   34.741,2,   34.738,2,   77.000,2, -999.000,3,   18.980,2,   35.680,2, -999.000,9,    2.280,2, -999.000,9, -999.000,9, -999.000,9, -999.000,9, -999.000,9
           NA,     A14,     23,   1,-999.0,      25,  2,19950122,1330,  -3.5008,   -7.5560,  4099,  594.500,    6.043,   34.532,2,   34.535,2,  136.900,2,  134.600,2,   23.360,2,   33.170,2, -999.000,9,    2.190,2, -999.000,9, -999.000,9, -999.000,9, -999.000,9, -999.000,9
           NA,     A14,     23,   1,-999.0,      24,  2,19950122,1330,  -3.5008,   -7.5560,  4099,  794.700,    4.861,   34.486,2,   34.488,2,  147.600,2,  146.700,2,   29.970,2,   33.990,2, -999.000,9,    2.290,2, -999.000,9, -999.000,9, -999.000,9, -999.000,9, -999.000,9
           NA,     A14,     23,   1,-999.0,      22,  2,19950122,1330,  -3.5008,   -7.5560,  4099,  995.800,    4.371,   34.602,2,   34.607,2,  153.300,2,  152.900,2,   32.290,2,   32.910,2, -999.000,9,    2.220,2,    0.007,2,    0.005,2, -999.000,9, -999.000,9, -999.000,9
           NA,     A14,     23,   1,-999.0,      23,  2,19950122,1330,  -3.5008,   -7.5560,  4099,  996.200,    4.378,   34.598,2,   34.599,2,  153.300,2,  153.200,2,   32.530,2,   32.960,2, -999.000,9,    2.220,2,    0.006,2,    0.006,2, -999.000,9, -999.000,9, -999.000,9
           NA,     A14,     23,   1,-999.0,      21,  2,19950122,1330,  -3.5008,   -7.5560,  4099, 1195.700,    4.272,   34.754,2,   34.757,2,  177.400,2,  173.300,2,   28.810,2,   29.470,2, -999.000,9,    1.960,2,    0.007,2,    0.007,2, -999.000,9, -999.000,9, -999.000,9
           NA,     A14,     23,   1,-999.0,      20,  2,19950122,1330,  -3.5008,   -7.5560,  4099, 1396.500,    4.216,   34.924,2,   34.918,2,  215.200,2,  213.100,2,   21.640,2,   23.620,2, -999.000,9,    1.590,2,    0.018,2,    0.018,2, -999.000,9, -999.000,9, -999.000,9
           NA,     A14,     23,   1,-999.0,      19,  2,19950122,1330,  -3.5008,   -7.5560,  4099, 1546.400,    4.048,   34.957,2,   34.954,2,  229.800,2,  229.600,2,   19.820,2,   21.880,2, -999.000,9,    1.410,2,    0.025,2,    0.018,2, -999.000,9, -999.000,9, -999.000,9
           NA,     A14,     23,   1,-999.0,      18,  2,19950122,1330,  -3.5008,   -7.5560,  4099, 1695.800,    3.843,   34.962,2,   34.960,2,  239.400,2,  236.700,2,   20.240,2,   21.260,2, -999.000,9,    1.390,2,    0.015,2,    0.012,2, -999.000,9, -999.000,9, -999.000,9
           NA,     A14,     23,   1,-999.0,      17,  2,19950122,1330,  -3.5008,   -7.5560,  4099, 1845.500,    3.697,   34.961,2,   34.959,2,  240.400,2,  240.100,2,   21.400,2,   21.090,2, -999.000,9,    1.360,2,    0.011,2,    0.008,2, -999.000,9, -999.000,9, -999.000,9
           NA,     A14,     23,   1,-999.0,      16,  2,19950122,1330,  -3.5008,   -7.5560,  4099, 1995.200,    3.477,   34.957,2,   34.956,2,  245.000,2,  243.800,2,   23.470,2,   20.930,2, -999.000,9,    1.350,2,    0.013,2,    0.014,2, -999.000,9, -999.000,9, -999.000,9
           NA,     A14,     23,   1,-999.0,      15,  2,19950122,1330,  -3.5008,   -7.5560,  4099, 2195.500,    3.309,   34.950,2, -999.000,3,  246.900,2,  245.200,2,   26.120,2,   20.890,2, -999.000,9,    1.350,2,    0.012,2,    0.015,2, -999.000,9, -999.000,9, -999.000,9
           NA,     A14,     23,   1,-999.0,      14,  2,19950122,1330,  -3.5008,   -7.5560,  4099, 2389.300,    3.069,   34.936,2,   34.932,2,  240.700,2,  241.700,2,   31.330,2,   21.600,2, -999.000,9,    1.400,2,    0.003,2,    0.007,2, -999.000,9, -999.000,9, -999.000,9
           NA,     A14,     23,   1,-999.0,      13,  2,19950122,1330,  -3.5008,   -7.5560,  4099, 2596.200,    2.824,   34.919,2, -999.000,3,  239.600,2,  239.800,2,   36.880,2,   22.110,2, -999.000,9,    1.410,2,    0.008,2,    0.007,2, -999.000,9, -999.000,9, -999.000,9
           NA,     A14,     23,   1,-999.0,      12,  2,19950122,1330,  -3.5008,   -7.5560,  4099, 2794.700,    2.692,   34.912,2,   34.909,2,  238.800,2,  239.700,2,   39.530,2,   22.280,2, -999.000,9,    1.450,2,    0.002,2, -999.000,9, -999.000,9, -999.000,9, -999.000,9
           NA,     A14,     23,   1,-999.0,      11,  2,19950122,1330,  -3.5008,   -7.5560,  4099, 2993.600,    2.585,   34.906,2, -999.000,3,  238.700,2,  239.300,2,   41.710,2,   22.320,2, -999.000,9,    1.450,2,    0.006,2, -999.000,9, -999.000,9, -999.000,9, -999.000,9
           NA,     A14,     23,   1,-999.0,      10,  2,19950122,1330,  -3.5008,   -7.5560,  4099, 3196.200,    2.545,   34.904,2,   34.903,2,  238.000,2,  238.000,2,   42.960,2,   22.490,2, -999.000,9,    1.470,2,    0.003,2,    0.003,2, -999.000,9, -999.000,9, -999.000,9
           NA,     A14,     23,   1,-999.0,       9,  2,19950122,1330,  -3.5008,   -7.5560,  4099, 3396.000,    2.519,   34.902,2,   34.900,2,  238.900,2,  239.500,2,   43.560,6,   22.520,2, -999.000,9,    1.470,2,    0.001,2,    0.000,2, -999.000,9, -999.000,9, -999.000,9
           NA,     A14,     23,   1,-999.0,       7,  2,19950122,1330,  -3.5008,   -7.5560,  4099, 3595.800,    2.445,   34.896,2,   34.893,2,  239.300,2,  239.500,2,   45.290,2,   22.670,2, -999.000,9,    1.490,2,    0.007,2,    0.007,2, -999.000,9, -999.000,9, -999.000,9
           NA,     A14,     23,   1,-999.0,       8,  2,19950122,1330,  -3.5008,   -7.5560,  4099, 3597.100,    2.446,   34.897,2,   34.893,2,  239.300,2,  239.700,2,   45.460,2,   22.620,2, -999.000,9,    1.480,2,    0.004,2, -999.000,9, -999.000,9, -999.000,9, -999.000,9
           NA,     A14,     23,   1,-999.0,       6,  2,19950122,1330,  -3.5008,   -7.5560,  4099, 3795.600,    2.364,   34.891,2,   34.886,2,  241.700,2,  241.600,2,   46.800,2,   22.670,2, -999.000,9,    1.480,2,    0.017,2,    0.017,2, -999.000,9, -999.000,9, -999.000,9
           NA,     A14,     23,   1,-999.0,       5,  2,19950122,1330,  -3.5008,   -7.5560,  4099, 3997.600,    2.332,   34.886,2,   34.885,2,  241.600,2,  241.300,2,   48.320,2,   22.720,2, -999.000,9,    1.490,2,    0.005,2,    0.004,2, -999.000,9, -999.000,9, -999.000,9
           NA,     A14,     23,   1,-999.0,       4,  2,19950122,1330,  -3.5008,   -7.5560,  4099, 4077.100,    2.319,   34.884,2,   34.882,2,  242.000,2,  241.500,2,   48.500,2,   22.760,2, -999.000,9,    1.520,2,    0.006,2,    0.005,2, -999.000,9, -999.000,9, -999.000,9
           NA,     A14,     23,   1,-999.0,       3,  2,19950122,1330,  -3.5008,   -7.5560,  4099, 4138.000,    2.288,   34.882,2,   34.881,2,  242.400,2,  242.200,2,   49.220,2,   22.810,2, -999.000,9,    1.490,2,    0.007,2,    0.013,2, -999.000,9, -999.000,9, -999.000,9