BOTTLE,20213527JOAExport
# Exported from JOA (5.5.0 Final September 29th, 2020) on 2021/01/27 11:34:50
#BOTTLE,20020816WHPSIOKJU,,,,,,,,,,,,,,,,,,,,,,,,,,,,,,,,,,,,,,
#code : jjward hyd_to_exchange.pl ,,,,,,,,,,,,,,,,,,,,,,,,,,,,,,,,,,,,,,,
#original files copied from HTML directory: 20020815,,,,,,,,,,,,,,,,,,,,,,,,,,,,,,,,,,,,,,,
#original HYD file: a14hy.txt   Fri Aug 16 10:37:50 2002,,,,,,,,,,,,,,,,,,,,,,,,,,,,,,,,,,,,,,,
#original SUM file: a14su.txt   Fri Aug 16 10:37:50 2002,,,,,,,,,,,,,,,,,,,,,,,,,,,,,,,,,,,,,,,
EXPOCODE,SECT_ID,STNNBR,CASTNO,SAMPNO,BTLNBR,BTLNBR_FLAG_W,DATE,TIME,LATITUDE,LONGITUDE,DEPTH,CTDPRS,CTDTMP,CTDSAL,CTDSAL_FLAG_W,SALNTY,SALNTY_FLAG_W,CTDOXY,CTDOXY_FLAG_W,OXYGEN,OXYGEN_FLAG_W,SILCAT,SILCAT_FLAG_W,NITRAT,NITRAT_FLAG_W,NITRIT,NITRIT_FLAG_W,PHSPHT,PHSPHT_FLAG_W,CFC-11,CFC-11_FLAG_W,CFC-12,CFC-12_FLAG_W,SF6,SF6_FLAG_W,TCARBN,TCARBN_FLAG_W,ALKALI,ALKALI_FLAG_W
,,,,,,,,,,,,DB,DEG C,PSS-78,,PSS-78,,UMOL/KG,,UMOL/KG,,UMOL/KG,,UMOL/KG,,UMOL/KG,,UMOL/KG,,PMOL/KG,,PMOL/KG,,FMOL/KG,,UMOL/KG,,UMOL/KG
           NA,     A14,    107,   1,-999.0,      32,  2,19950211,1811, -45.5223,   -8.9852,  3552,    6.100,    8.006,   34.028,2,   34.032,2,  301.900,2, -999.000,3,    2.600,2,   17.240,2, -999.000,9,    1.190,2,    4.291,2,    2.108,2, -999.000,9, -999.000,9, -999.000,9
           NA,     A14,    107,   1,-999.0,      31,  2,19950211,1811, -45.5223,   -8.9852,  3552,   48.000,    7.772,   34.032,2, -999.000,3,  293.100,2,  296.200,2,    3.800,2,   17.650,2, -999.000,9,    1.200,2,    4.344,2,    2.089,2, -999.000,9, -999.000,9, -999.000,9
           NA,     A14,    107,   1,-999.0,      30,  2,19950211,1811, -45.5223,   -8.9852,  3552,   97.700,    5.642,   34.025,2, -999.000,3,  302.800,2,  298.300,2,    5.900,2,   21.770,2, -999.000,9,    1.480,2,    4.639,2,    2.272,2, -999.000,9, -999.000,9, -999.000,9
           NA,     A14,    107,   1,-999.0,      29,  2,19950211,1811, -45.5223,   -8.9852,  3552,  145.500,    4.489,   34.053,2,   34.058,2,  289.300,2, -999.000,3,    9.500,2,   23.730,2, -999.000,9,    1.630,2,    4.646,2,    2.272,2, -999.000,9, -999.000,9, -999.000,9
           NA,     A14,    107,   1,-999.0,      28,  2,19950211,1811, -45.5223,   -8.9852,  3552,  194.500,    3.992,   34.099,2, -999.000,3,  275.600,2, -999.000,3,   12.300,2,   25.540,2, -999.000,9,    1.740,2,    4.437,2,    2.106,2, -999.000,9, -999.000,9, -999.000,9
           NA,     A14,    107,   1,-999.0,      27,  2,19950211,1811, -45.5223,   -8.9852,  3552,  295.600,    3.315,   34.147,2,   34.147,2,  270.600,2,  269.300,2,   19.800,2,   28.310,2, -999.000,9,    1.940,2,    3.854,2,    1.730,2, -999.000,9, -999.000,9, -999.000,9
           NA,     A14,    107,   1,-999.0,      26,  2,19950211,1811, -45.5223,   -8.9852,  3552,  394.600,    3.005,   34.171,2,   34.173,2,  254.400,2,  255.800,2,   25.900,6,   29.770,2, -999.000,9,    2.040,6,    3.317,2,    1.506,2, -999.000,9, -999.000,9, -999.000,9
           NA,     A14,    107,   1,-999.0,      25,  2,19950211,1811, -45.5223,   -8.9852,  3552,  495.400,    2.853,   34.222,2,   34.224,2,  233.900,2, -999.000,3,   33.300,2,   31.510,2, -999.000,9,    2.160,2,    2.636,2,    1.152,2, -999.000,9, -999.000,9, -999.000,9
           NA,     A14,    107,   1,-999.0,      24,  2,19950211,1811, -45.5223,   -8.9852,  3552,  595.700,    2.675,   34.279,2,   34.280,2,  216.900,2, -999.000,3,   41.400,6,   32.690,6, -999.000,9,    2.240,2,    1.992,2,    0.883,2, -999.000,9, -999.000,9, -999.000,9
           NA,     A14,    107,   1,-999.0,      22,  2,19950211,1811, -45.5223,   -8.9852,  3552,  694.800,    2.571,   34.336,2,   34.338,2,  203.100,2, -999.000,3,   49.500,2,   33.990,2, -999.000,9,    2.300,2,    1.494,2,    0.664,2, -999.000,9, -999.000,9, -999.000,9
           NA,     A14,    107,   1,-999.0,      23,  2,19950211,1811, -45.5223,   -8.9852,  3552,  695.100,    2.573,   34.336,2,   34.338,2,  203.100,2, -999.000,3,   49.400,6,   33.630,2, -999.000,9,    2.300,6,    1.498,2,    0.671,2, -999.000,9, -999.000,9, -999.000,9
           NA,     A14,    107,   1,-999.0,      21,  2,19950211,1811, -45.5223,   -8.9852,  3552,  792.800,    2.471,   34.405,2,   34.409,2,  195.100,2,  194.600,2,   58.600,2,   34.720,2, -999.000,9,    2.350,2,    1.041,2,    0.463,2, -999.000,9, -999.000,9, -999.000,9
           NA,     A14,    107,   1,-999.0,      20,  2,19950211,1811, -45.5223,   -8.9852,  3552,  893.900,    2.414,   34.484,2,   34.487,2,  186.100,2,  184.300,2,   65.200,2,   34.780,2, -999.000,9,    2.360,2,    0.677,2,    0.314,2, -999.000,9, -999.000,9, -999.000,9
           NA,     A14,    107,   1,-999.0,      19,  2,19950211,1811, -45.5223,   -8.9852,  3552,  993.600,    2.502,   34.551,2,   34.552,2,  180.000,2,  179.500,2,   68.100,6,   33.880,2, -999.000,9,    2.340,6,    0.376,2,    0.170,2, -999.000,9, -999.000,9, -999.000,9
           NA,     A14,    107,   1,-999.0,      18,  2,19950211,1811, -45.5223,   -8.9852,  3552, 1094.100,    2.490,   34.609,2,   34.609,2,  178.500,2,  178.700,2,   70.600,2,   33.520,2, -999.000,9,    2.280,2,    0.212,2,    0.109,2, -999.000,9, -999.000,9, -999.000,9
           NA,     A14,    107,   1,-999.0,      17,  2,19950211,1811, -45.5223,   -8.9852,  3552, 1193.500,    2.462,   34.655,2,   34.658,2,  179.400,2,  180.700,2,   73.100,6,   32.500,2, -999.000,9,    2.230,6,    0.139,2,    0.062,2, -999.000,9, -999.000,9, -999.000,9
           NA,     A14,    107,   1,-999.0,      16,  2,19950211,1811, -45.5223,   -8.9852,  3552, 1393.400,    2.428,   34.718,2,   34.720,2,  186.700,2,  187.800,2,   73.000,2,   31.060,2, -999.000,9,    2.120,2,    0.079,2,    0.044,2, -999.000,9, -999.000,9, -999.000,9
           NA,     A14,    107,   1,-999.0,      15,  2,19950211,1811, -45.5223,   -8.9852,  3552, 1594.700,    2.244,   34.732,2,   34.736,2,  191.700,2,  190.000,2,   78.200,2,   31.130,2, -999.000,9,    2.120,2,    0.094,2,    0.034,2, -999.000,9, -999.000,9, -999.000,9
           NA,     A14,    107,   1,-999.0,      14,  2,19950211,1811, -45.5223,   -8.9852,  3552, 1693.300,    2.230,   34.757,2,   34.757,2,  195.400,2,  195.900,2,   77.200,2,   29.860,2, -999.000,9,    2.050,2,    0.068,2,    0.021,2, -999.000,9, -999.000,9, -999.000,9
           NA,     A14,    107,   1,-999.0,      13,  2,19950211,1811, -45.5223,   -8.9852,  3552, 1987.700,    1.993,   34.764,2,   34.764,2,  201.500,2,  201.100,2,   82.700,6,   29.730,2, -999.000,9,    2.040,6,    0.065,2,    0.019,2, -999.000,9, -999.000,9, -999.000,9
           NA,     A14,    107,   1,-999.0,      12,  2,19950211,1811, -45.5223,   -8.9852,  3552, 2194.600,    1.828,   34.771,2,   34.772,2,  206.100,2,  207.200,2,   85.000,2,   29.510,2, -999.000,9,    2.010,2,    0.047,2,    0.018,2, -999.000,9, -999.000,9, -999.000,9
           NA,     A14,    107,   1,-999.0,      11,  2,19950211,1811, -45.5223,   -8.9852,  3552, 2395.200,    1.664,   34.764,2,   34.764,2,  207.300,2,  208.200,2,   90.700,2,   29.870,2, -999.000,9,    2.040,2,    0.052,2,    0.022,2, -999.000,9, -999.000,9, -999.000,9
           NA,     A14,    107,   1,-999.0,      10,  2,19950211,1811, -45.5223,   -8.9852,  3552, 2594.600,    1.564,   34.758,2,   34.758,2,  207.800,2,  207.900,2,   93.800,2,   30.060,2, -999.000,9,    2.060,2,    0.046,2,    0.017,2, -999.000,9, -999.000,9, -999.000,9
           NA,     A14,    107,   1,-999.0,       9,  2,19950211,1811, -45.5223,   -8.9852,  3552, 2794.900,    1.368,   34.746,2,   34.748,2,  209.100,2,  209.300,2,  100.000,2,   30.600,2, -999.000,9,    2.090,2,    0.066,2,    0.018,2, -999.000,9, -999.000,9, -999.000,9
           NA,     A14,    107,   1,-999.0,       8,  2,19950211,1811, -45.5223,   -8.9852,  3552, 2996.100,    1.238,   34.737,2,   34.737,2,  209.000,2,  209.000,2,  105.300,2,   30.850,2, -999.000,9,    2.120,2,    0.080,2,    0.040,2, -999.000,9, -999.000,9, -999.000,9
           NA,     A14,    107,   1,-999.0,       7,  2,19950211,1811, -45.5223,   -8.9852,  3552, 3194.100,    1.081,   34.720,2,   34.721,2,  208.300,2,  207.600,2,  112.100,2,   31.640,2, -999.000,9,    2.180,2,    0.119,2,    0.047,2, -999.000,9, -999.000,9, -999.000,9
           NA,     A14,    107,   1,-999.0,       6,  2,19950211,1811, -45.5223,   -8.9852,  3552, 3393.600,    1.081,   34.719,2,   34.722,2,  208.300,2,  208.100,2,  111.900,2,   31.820,2, -999.000,9,    2.180,2,    0.120,2,    0.053,2, -999.000,9, -999.000,9, -999.000,9
           NA,     A14,    107,   1,-999.0,       5,  2,19950211,1811, -45.5223,   -8.9852,  3552, 3495.600,    1.082,   34.718,2,   34.720,2,  208.600,2,  208.100,2,  112.300,2,   31.830,2, -999.000,9,    2.180,2,    0.119,2,    0.052,2, -999.000,9, -999.000,9, -999.000,9
           NA,     A14,    107,   1,-999.0,       4,  2,19950211,1811, -45.5223,   -8.9852,  3552, 3585.400,    1.070,   34.717,2,   34.720,2,  209.500,2,  208.300,2,  112.900,2,   31.950,2, -999.000,9,    2.180,2,    0.127,2,    0.073,2, -999.000,9, -999.000,9, -999.000,9
           NA,     A14,    107,   1,-999.0,       3,  2,19950211,1811, -45.5223,   -8.9852,  3552, 3586.500,    1.070,   34.717,2,   34.719,2,  209.400,2,  208.100,2,  112.400,2,   31.950,2, -999.000,9,    2.180,2,    0.127,2,    0.052,2, -999.000,9, -999.000,9, -999.000,9
           NA,     A14,    106,   1,-999.0,      32,  2,19950211,1228, -44.9997,   -8.9968,  3854,    8.000,    9.027,   34.158,2,   34.161,2,  287.400,2,  288.300,2,    1.400,2,   14.680,2, -999.000,9,    1.040,2,    3.886,2,    1.974,2, -999.000,9, 2077.800,6, 2280.900,2
           NA,     A14,    106,   1,-999.0,      31,  2,19950211,1228, -44.9997,   -8.9968,  3854,   56.500,    8.685,   34.126,2,   34.129,2,  289.100,2,  290.600,2,    1.700,2,   15.460,2, -999.000,9,    1.100,2,    3.933,2,    1.989,2, -999.000,9, 2080.800,2, 2278.600,2
           NA,     A14,    106,   1,-999.0,      30,  2,19950211,1228, -44.9997,   -8.9968,  3854,   97.300,    8.435,   34.389,2,   34.392,2,  284.400,2, -999.000,3,    2.700,2,   14.640,2, -999.000,9,    1.060,2,    3.844,2,    1.944,2, -999.000,9, 2094.100,2, 2286.900,2
           NA,     A14,    106,   1,-999.0,      29,  2,19950211,1228, -44.9997,   -8.9968,  3854,  146.000,    7.600,   34.404,2,   34.405,2,  270.700,2, -999.000,3,    4.900,2,   17.750,2, -999.000,9,    1.240,2,    3.779,2,    1.880,2, -999.000,9, 2112.200,2, 2286.700,2
           NA,     A14,    106,   1,-999.0,      28,  2,19950211,1228, -44.9997,   -8.9968,  3854,  195.700,    6.897,   34.374,2,   34.376,2,  254.900,2, -999.000,3,    6.900,2,   21.090,2, -999.000,9,    1.460,2,    3.627,2,    1.722,2, -999.000,9, 2129.200,2, 2284.700,2
           NA,     A14,    106,   1,-999.0,      27,  2,19950211,1228, -44.9997,   -8.9968,  3854,  295.700,    5.245,   34.246,2,   34.249,2,  251.600,2,  252.100,2,   10.700,2,   25.320,2, -999.000,9,    1.740,2,    3.628,2,    1.700,2, -999.000,9, -999.000,9, 2280.500,2
           NA,     A14,    106,   1,-999.0,      26,  2,19950211,1228, -44.9997,   -8.9968,  3854,  395.600,    4.440,   34.200,2,   34.200,2,  258.700,2,  259.200,2,   13.900,2,   26.770,2, -999.000,9,    1.830,2,    3.563,2,    1.652,2, -999.000,9, 2148.200,2, 2282.600,2
           NA,     A14,    106,   1,-999.0,      25,  2,19950211,1228, -44.9997,   -8.9968,  3854,  496.600,    4.067,   34.197,2,   34.198,2,  257.600,2,  259.100,2,   16.900,2,   27.800,2, -999.000,9,    1.900,2,    3.361,2,    1.519,2, -999.000,9, 2153.300,2, 2285.000,2
           NA,     A14,    106,   1,-999.0,      23,  2,19950211,1228, -44.9997,   -8.9968,  3854,  695.400,    3.130,   34.221,2, -999.000,4,  245.300,2, -999.000,4,   36.400,2,   32.080,2, -999.000,9,    2.180,2,    2.060,2,    0.900,2, -999.000,9, 2192.400,2, 2301.100,2
           NA,     A14,    106,   1,-999.0,      21,  2,19950211,1228, -44.9997,   -8.9968,  3854,  795.300,    2.848,   34.264,2,   34.265,2,  233.800,2,  231.100,2,   36.800,2,   32.080,2, -999.000,9,    2.190,2,    2.037,2,    0.914,2, -999.000,9, 2191.100,2, 2301.300,2
           NA,     A14,    106,   1,-999.0,      22,  2,19950211,1228, -44.9997,   -8.9968,  3854,  795.500,    2.848,   34.264,2,   34.264,2,  233.700,2,  231.400,2,   36.700,2,   32.020,2, -999.000,9,    2.180,2,    2.105,2,    0.931,2, -999.000,9, -999.000,9, 2300.900,2
           NA,     A14,    106,   1,-999.0,      20,  2,19950211,1228, -44.9997,   -8.9968,  3854,  896.100,    2.749,   34.313,2,   34.315,2,  217.200,2,  217.100,2,   43.300,2,   33.050,2, -999.000,9,    2.270,2,    1.507,2,    0.657,2, -999.000,9, 2203.800,2, 2308.900,2
           NA,     A14,    106,   1,-999.0,      19,  2,19950211,1228, -44.9997,   -8.9968,  3854,  995.400,    2.690,   34.382,2,   34.383,2,  202.500,2,  201.900,2,   51.300,2,   34.010,2, -999.000,9,    2.320,2,    0.957,2,    0.431,2, -999.000,9, 2219.300,2, 2314.600,2
           NA,     A14,    106,   1,-999.0,      18,  2,19950211,1228, -44.9997,   -8.9968,  3854, 1195.800,    2.653,   34.488,2,   34.489,2,  185.400,2,  185.700,2,   60.700,2,   34.190,2, -999.000,9,    2.330,2,    0.442,2,    0.231,2, -999.000,9, 2231.800,2, 2327.200,2
           NA,     A14,    106,   1,-999.0,      17,  2,19950211,1228, -44.9997,   -8.9968,  3854, 1393.700,    2.619,   34.606,2,   34.607,2,  180.300,2,  180.700,2,   66.900,2,   33.040,2, -999.000,9,    2.260,2,    0.218,2,    0.098,2, -999.000,9, -999.000,9, 2337.200,2
           NA,     A14,    106,   1,-999.0,      15,  2,19950211,1228, -44.9997,   -8.9968,  3854, 1596.400,    2.593,   34.684,2,   34.685,2,  184.500,2,  184.600,2,   68.700,2,   31.470,2, -999.000,9,    2.160,2,    0.128,2,    0.077,2, -999.000,9, 2236.400,2, 2341.300,2
           NA,     A14,    106,   1,-999.0,      16,  2,19950211,1228, -44.9997,   -8.9968,  3854, 1596.400,    2.593,   34.684,2,   34.685,2,  184.500,2,  184.800,2,   68.700,2,   31.720,2, -999.000,9, -999.000,9,    0.120,2,    0.080,2, -999.000,9, -999.000,9, 2342.100,2
           NA,     A14,    106,   1,-999.0,      14,  2,19950211,1228, -44.9997,   -8.9968,  3854, 1797.700,    2.547,   34.738,2,   34.739,2,  189.500,2,  192.200,2,   68.500,2,   30.150,2, -999.000,9,    2.060,2,    0.083,2,    0.042,2, -999.000,9, 2232.000,2, 2342.400,2
           NA,     A14,    106,   1,-999.0,      13,  2,19950211,1228, -44.9997,   -8.9968,  3854, 1997.200,    2.448,   34.766,2,   34.766,2,  194.600,2,  198.800,2,   69.500,2,   29.420,2, -999.000,9,    2.000,2,    0.066,2,    0.033,2, -999.000,9, 2229.200,2, 2345.300,2
           NA,     A14,    106,   1,-999.0,      12,  2,19950211,1228, -44.9997,   -8.9968,  3854, 2163.100,    2.321,   34.778,2,   34.780,2,  201.300,2,  202.500,2,   71.900,2,   28.940,2, -999.000,9,    1.960,2,    0.050,2,    0.029,2, -999.000,9, 2227.900,2, 2346.800,2
           NA,     A14,    106,   1,-999.0,      11,  2,19950211,1228, -44.9997,   -8.9968,  3854, 2395.900,    2.143,   34.784,2,   34.786,2,  205.200,2,  207.500,2,   75.100,2,   28.460,2, -999.000,9,    1.940,2,    0.042,2,    0.021,2, -999.000,9, 2228.800,2, 2349.300,2
           NA,     A14,    106,   1,-999.0,      10,  2,19950211,1228, -44.9997,   -8.9968,  3854, 2597.000,    2.055,   34.795,2,   34.798,2,  213.800,2,  214.300,2,   74.200,6,   27.790,2, -999.000,9,    1.900,6,    0.026,2,    0.023,2, -999.000,9, 2224.400,2, 2349.500,2
           NA,     A14,    106,   1,-999.0,       9,  2,19950211,1228, -44.9997,   -8.9968,  3854, 2792.400,    1.784,   34.774,2,   34.775,2,  210.100,2,  211.200,2,   84.900,2,   29.180,2, -999.000,9,    1.980,2,    0.033,2,    0.022,2, -999.000,9, 2233.400,2, 2354.700,2
           NA,     A14,    106,   1,-999.0,       8,  2,19950211,1228, -44.9997,   -8.9968,  3854, 2995.300,    1.510,   34.748,2,   34.749,2,  207.000,2,  207.300,2,   97.500,2,   30.210,2, -999.000,9,    2.080,2,    0.067,2,    0.040,2, -999.000,9, 2243.800,2, 2359.800,2
           NA,     A14,    106,   1,-999.0,       7,  2,19950211,1228, -44.9997,   -8.9968,  3854, 3196.500,    1.422,   34.753,2,   34.754,2,  211.400,2,  211.700,2,   98.200,2,   30.080,2, -999.000,9,    2.080,2,    0.061,2,    0.026,2, -999.000,9, 2241.900,2, 2359.400,2
           NA,     A14,    106,   1,-999.0,       6,  2,19950211,1228, -44.9997,   -8.9968,  3854, 3389.100,    1.365,   34.750,2,   34.751,2,  212.300,2,  213.400,2,   99.800,2,   30.210,2, -999.000,9,    2.070,2,    0.054,2,    0.028,2, -999.000,9, 2243.100,2, 2360.000,2
           NA,     A14,    106,   1,-999.0,       5,  2,19950211,1228, -44.9997,   -8.9968,  3854, 3597.600,    1.237,   34.734,2,   34.734,2,  210.800,2,  210.400,2,  106.200,2,   31.050,2, -999.000,9,    2.130,2,    0.092,2,    0.043,2, -999.000,9, 2248.400,2, 2362.400,2
           NA,     A14,    106,   1,-999.0,       4,  2,19950211,1228, -44.9997,   -8.9968,  3854, 3798.700,    1.196,   34.725,2,   34.726,2,  208.900,2,  209.400,2,  109.400,2,   31.410,2, -999.000,9,    2.160,2,    0.103,2,    0.048,2, -999.000,9, 2251.200,2, 2360.700,2
           NA,     A14,    106,   1,-999.0,       3,  2,19950211,1228, -44.9997,   -8.9968,  3854, 3887.000,    1.164,   34.720,2,   34.722,2,  207.900,2,  211.300,2,  111.200,2,   31.590,2, -999.000,9, -999.000,9,    0.124,2,    0.129,2, -999.000,9, 2252.200,2, 2362.900,2