BOTTLE,20213527JOAExport
EXPOCODE,SECT_ID,STNNBR,CASTNO,SAMPNO,BTLNBR,BTLNBR_FLAG_W,DATE,TIME,LATITUDE,LONGITUDE,DEPTH,CTDPRS,CTDTMP,CTDSAL,CTDSAL_FLAG_W,SALNTY,SALNTY_FLAG_W,CTDOXY,CTDOXY_FLAG_W,OXYGEN,OXYGEN_FLAG_W,SILCAT,SILCAT_FLAG_W,NITRAT,NITRAT_FLAG_W,NITRIT,NITRIT_FLAG_W,PHSPHT,PHSPHT_FLAG_W,CFC-11,CFC-11_FLAG_W,CFC-12,CFC-12_FLAG_W,SF6,SF6_FLAG_W,TCARBN,TCARBN_FLAG_W,ALKALI,ALKALI_FLAG_W
,,,,,,,,,,,,DB,DEG C,PSS-78,,PSS-78,,UMOL/KG,,UMOL/KG,,UMOL/KG,,UMOL/KG,,UMOL/KG,,UMOL/KG,,PMOL/KG,,PMOL/KG,,FMOL/KG,,UMOL/KG,,UMOL/KG
           NA,     A14,     89,   1,-999.0,      32,  2,19950207,0305, -36.4992,   -8.9952,  3805,    3.600,   17.629,   35.021,2,   35.024,2,  245.000,2,  243.800,2,    0.500,2,    0.020,2, -999.000,9,    0.180,2,    2.652,2,    1.282,2, -999.000,9, -999.000,9, 2316.200,2
           NA,     A14,     89,   1,-999.0,      31,  2,19950207,0305, -36.4992,   -8.9952,  3805,   42.200,   17.008,   35.036,2, -999.000,3,  250.800,2,  251.100,2,    0.500,2,    0.020,2, -999.000,9,    0.180,2,    2.748,2,    1.323,2, -999.000,9, -999.000,9, -999.000,9
           NA,     A14,     89,   1,-999.0,      30,  2,19950207,0305, -36.4992,   -8.9952,  3805,   77.100,   14.764,   35.306,2,   35.307,2,  251.500,2,  249.200,2,    1.200,2,    1.970,2, -999.000,9,    0.290,2,    2.879,2,    1.390,2, -999.000,9, -999.000,9, -999.000,9
           NA,     A14,     89,   1,-999.0,      29,  2,19950207,0305, -36.4992,   -8.9952,  3805,  145.700,   13.764,   35.302,2,   35.301,2,  229.600,2, -999.000,3,    2.000,2,    6.530,2, -999.000,9,    0.540,2,    2.773,2,    1.337,2, -999.000,9, -999.000,9, -999.000,9
           NA,     A14,     89,   1,-999.0,      28,  2,19950207,0305, -36.4992,   -8.9952,  3805,  196.900,   12.903,   35.208,2,   35.202,2,  233.600,2,  230.700,2,    2.200,2,    8.080,2, -999.000,9,    0.630,2,    2.910,2,    1.378,2, -999.000,9, -999.000,9, -999.000,9
           NA,     A14,     89,   1,-999.0,      27,  2,19950207,0305, -36.4992,   -8.9952,  3805,  296.700,   11.354,   35.009,2,   35.008,2,  228.300,2, -999.000,3,    3.600,2,   12.560,2, -999.000,9,    0.890,2,    2.789,2,    1.301,2, -999.000,9, -999.000,9, -999.000,9
           NA,     A14,     89,   1,-999.0,      26,  2,19950207,0305, -36.4992,   -8.9952,  3805,  395.500,    9.333,   34.721,2,   34.722,2,  222.900,2,  222.600,2,    5.800,2,   17.560,2, -999.000,9,    1.200,2,    2.769,2,    1.268,2, -999.000,9, -999.000,9, -999.000,9
           NA,     A14,     89,   1,-999.0,      25,  2,19950207,0305, -36.4992,   -8.9952,  3805,  495.700,    7.524,   34.508,2,   34.509,2,  225.000,2,  223.700,2,    8.500,2,   21.950,2, -999.000,9,    1.490,2,    2.681,2,    1.179,2, -999.000,9, -999.000,9, -999.000,9
           NA,     A14,     89,   1,-999.0,      24,  2,19950207,0305, -36.4992,   -8.9952,  3805,  595.400,    6.138,   34.374,2,   34.375,2,  232.500,2,  233.300,2,   11.900,2,   24.560,2, -999.000,9,    1.680,2,    2.527,2,    1.105,2, -999.000,9, -999.000,9, -999.000,9
           NA,     A14,     89,   1,-999.0,      23,  2,19950207,0305, -36.4992,   -8.9952,  3805,  695.900,    4.967,   34.280,2,   34.282,2,  241.000,2,  241.200,2,   15.400,2,   26.720,2, -999.000,9,    1.820,2,    2.459,2,    1.072,2, -999.000,9, -999.000,9, -999.000,9
           NA,     A14,     89,   1,-999.0,      22,  2,19950207,0305, -36.4992,   -8.9952,  3805,  795.400,    4.267,   34.250,2,   34.255,2,  243.300,2,  243.100,2,   18.900,2,   28.060,2, -999.000,9,    1.910,2,    2.189,2,    0.941,2, -999.000,9, -999.000,9, -999.000,9
           NA,     A14,     89,   1,-999.0,      21,  2,19950207,0305, -36.4992,   -8.9952,  3805,  895.800,    3.868,   34.260,2,   34.259,2,  238.600,2,  236.700,2,   24.200,2,   29.400,2, -999.000,9,    1.990,2,    1.724,2,    0.742,2, -999.000,9, -999.000,9, -999.000,9
           NA,     A14,     89,   1,-999.0,      20,  2,19950207,0305, -36.4992,   -8.9952,  3805,  994.500,    3.414,   34.285,2,   34.289,2,  226.900,2,  225.900,2,   32.000,2,   30.980,2, -999.000,9,    2.100,2,    1.196,2,    0.519,2, -999.000,9, -999.000,9, -999.000,9
           NA,     A14,     89,   1,-999.0,      19,  2,19950207,0305, -36.4992,   -8.9952,  3805, 1195.800,    2.902,   34.386,2,   34.386,2,  202.700,2,  206.500,2,   45.900,2,   32.630,6, -999.000,9,    2.230,6,    0.590,2,    0.272,2, -999.000,9, -999.000,9, -999.000,9
           NA,     A14,     89,   1,-999.0,      18,  2,19950207,0305, -36.4992,   -8.9952,  3805, 1395.200,    2.775,   34.529,2,   34.529,2,  191.800,2,  189.900,2,   55.600,2,   32.430,2, -999.000,9,    2.210,2,    0.216,2,    0.099,2, -999.000,9, -999.000,9, -999.000,9
           NA,     A14,     89,   1,-999.0,      16,  2,19950207,0305, -36.4992,   -8.9952,  3805, 1595.700,    2.737,   34.635,2,   34.631,2,  191.900,2,  190.800,2,   58.300,2,   31.030,2, -999.000,9,    2.110,2,    0.096,2,    0.043,2, -999.000,9, -999.000,9, -999.000,9
           NA,     A14,     89,   1,-999.0,      17,  2,19950207,0305, -36.4992,   -8.9952,  3805, 1596.300,    2.737,   34.635,2,   34.637,2,  191.900,2,  191.000,2,   58.300,2,   31.150,2, -999.000,9,    2.100,2,    0.088,2,    0.034,2, -999.000,9, -999.000,9, -999.000,9
           NA,     A14,     89,   1,-999.0,      15,  2,19950207,0305, -36.4992,   -8.9952,  3805, 1795.400,    2.733,   34.708,2,   34.707,2,  196.600,2,  196.200,2,   57.400,2,   29.570,2, -999.000,9,    2.010,2,    0.043,2,    0.021,2, -999.000,9, -999.000,9, -999.000,9
           NA,     A14,     89,   1,-999.0,      14,  2,19950207,0305, -36.4992,   -8.9952,  3805, 1996.700,    2.703,   34.770,2,   34.768,2,  207.400,2,  206.000,2,   55.200,2,   27.760,2, -999.000,9,    1.880,2,    0.019,2,    0.008,2, -999.000,9, -999.000,9, -999.000,9
           NA,     A14,     89,   1,-999.0,      13,  2,19950207,0305, -36.4992,   -8.9952,  3805, 2196.100,    2.646,   34.810,2,   34.808,2,  217.100,2,  216.300,2,   53.400,2,   26.240,2, -999.000,9,    1.780,2,    0.009,2,    0.006,2, -999.000,9, -999.000,9, -999.000,9
           NA,     A14,     89,   1,-999.0,      12,  2,19950207,0305, -36.4992,   -8.9952,  3805, 2396.300,    2.572,   34.833,2,   34.833,2,  224.600,2,  222.900,2,   52.700,2,   25.190,2, -999.000,9,    1.720,2,    0.005,2,    0.004,2, -999.000,9, -999.000,9, -999.000,9
           NA,     A14,     89,   1,-999.0,      11,  2,19950207,0305, -36.4992,   -8.9952,  3805, 2595.300,    2.464,   34.839,2,   34.839,2,  227.600,2,  226.300,2,   54.700,2,   25.020,2, -999.000,9,    1.700,2,    0.005,2,    0.008,2, -999.000,9, -999.000,9, -999.000,9
           NA,     A14,     89,   1,-999.0,      10,  2,19950207,0305, -36.4992,   -8.9952,  3805, 2595.500,    2.463,   34.839,2,   34.841,2,  227.600,2,  226.000,2,   55.300,6,   24.980,6, -999.000,9,    1.710,6,    0.004,2,    0.004,2, -999.000,9, -999.000,9, -999.000,9
           NA,     A14,     89,   1,-999.0,       9,  2,19950207,0305, -36.4992,   -8.9952,  3805, 2797.400,    2.392,   34.849,2,   34.847,2,  231.900,2,  230.600,2,   54.400,2,   24.410,2, -999.000,9,    1.670,2,    0.004,2, -999.000,9, -999.000,9, -999.000,9, -999.000,9
           NA,     A14,     89,   1,-999.0,       8,  2,19950207,0305, -36.4992,   -8.9952,  3805, 2996.500,    2.289,   34.851,2,   34.851,2,  234.500,2,  233.400,2,   55.800,2,   24.280,2, -999.000,9,    1.660,2,    0.001,2,   -0.002,2, -999.000,9, -999.000,9, -999.000,9
           NA,     A14,     89,   1,-999.0,       7,  2,19950207,0305, -36.4992,   -8.9952,  3805, 3197.300,    2.196,   34.849,2,   34.846,2,  235.000,2,  234.000,2,   58.000,2,   24.460,2, -999.000,9,    1.670,2,    0.001,2,    0.001,2, -999.000,9, -999.000,9, -999.000,9
           NA,     A14,     89,   1,-999.0,       6,  2,19950207,0305, -36.4992,   -8.9952,  3805, 3397.500,    2.107,   34.843,2,   34.840,2,  233.400,2,  232.500,2,   61.700,2,   24.840,2, -999.000,9,    1.700,2,    0.001,2,    0.001,2, -999.000,9, -999.000,9, -999.000,9
           NA,     A14,     89,   1,-999.0,       5,  2,19950207,0305, -36.4992,   -8.9952,  3805, 3597.500,    2.006,   34.832,2,   34.831,2,  231.300,2,  230.100,2,   66.300,2,   25.420,2, -999.000,9,    1.740,2,    0.002,2,    0.002,2, -999.000,9, -999.000,9, -999.000,9
           NA,     A14,     89,   1,-999.0,       4,  2,19950207,0305, -36.4992,   -8.9952,  3805, 3796.900,    1.887,   34.820,2,   34.818,2,  227.900,2,  226.500,2,   72.100,2,   26.290,2, -999.000,9,    1.790,2,   -0.003,2, -999.000,9, -999.000,9, -999.000,9, -999.000,9
           NA,     A14,     89,   1,-999.0,       3,  2,19950207,0305, -36.4992,   -8.9952,  3805, 3842.000,    1.866,   34.818,2,   34.816,2,  227.400,2,  226.400,2,   73.400,2,   26.350,2, -999.000,9,    1.810,2,    0.001,2,   -0.001,2, -999.000,9, -999.000,9, -999.000,9
           NA,     A14,     88,   1,-999.0,      31,  2,19950206,2153, -36.0005,   -9.0002,  3638,    3.600,   19.237,   35.266,2,   35.268,2,  233.200,2,  234.300,2,    1.100,2,    0.020,6, -999.000,9,    0.160,6,    2.448,2,    1.215,2, -999.000,9, 2037.700,6, 2326.900,2
           NA,     A14,     88,   1,-999.0,      32,  2,19950206,2153, -36.0005,   -9.0002,  3638,    3.700,   19.237,   35.267,2,   35.268,2,  233.200,2,  233.800,2,    1.100,2,    0.020,6, -999.000,9,    0.160,6,    2.454,2,    1.217,2, -999.000,9, -999.000,9, 2327.300,2
           NA,     A14,     88,   1,-999.0,      30,  2,19950206,2153, -36.0005,   -9.0002,  3638,   46.900,   18.942,   35.284,2, -999.000,3,  236.500,2,  237.400,2,    1.400,2,    0.020,6, -999.000,9,    0.160,2,    2.518,2,    1.215,2, -999.000,9, 2042.800,2, 2329.300,2
           NA,     A14,     88,   1,-999.0,      29,  2,19950206,2153, -36.0005,   -9.0002,  3638,   71.800,   16.396,   35.380,2,   35.382,2,  257.800,2, -999.000,3,    1.400,6,    0.020,6, -999.000,9,    0.190,2,    2.758,2,    1.335,2, -999.000,9, 2051.800,2, 2334.200,2
           NA,     A14,     88,   1,-999.0,      28,  2,19950206,2153, -36.0005,   -9.0002,  3638,   96.800,   15.067,   35.364,2,   35.360,2,  249.500,2, -999.000,3,    1.400,2,    2.060,2, -999.000,9,    0.310,2,    2.831,2,    1.363,2, -999.000,9, 2070.600,2, 2333.500,2
           NA,     A14,     88,   1,-999.0,      27,  2,19950206,2153, -36.0005,   -9.0002,  3638,  146.800,   14.023,   35.303,2,   35.302,2,  229.100,2,  228.200,2,    2.100,2,    5.470,2, -999.000,9,    0.500,2,    2.856,2,    1.384,2, -999.000,9, 2084.800,2, 2329.700,2
           NA,     A14,     88,   1,-999.0,      26,  2,19950206,2153, -36.0005,   -9.0002,  3638,  197.100,   13.445,   35.283,2,   35.279,2,  227.300,2,  224.000,2, -999.000,9,    7.770,2, -999.000,9,    0.600,2,    2.785,2,    1.354,2, -999.000,9, 2094.500,2, 2328.600,2
           NA,     A14,     88,   1,-999.0,      25,  2,19950206,2153, -36.0005,   -9.0002,  3638,  296.500,   12.260,   35.114,2, -999.000,3,  221.800,2,  219.200,2,    3.500,2,   11.100,2, -999.000,9,    0.790,2,    2.740,2,    1.279,2, -999.000,9, 2105.700,2, 2319.200,2
           NA,     A14,     88,   1,-999.0,      24,  2,19950206,2153, -36.0005,   -9.0002,  3638,  395.900,   10.458,   34.862,2,   34.856,2,  220.200,2,  217.200,2,    5.500,2,   15.480,2, -999.000,9,    1.050,2,    2.639,2,    1.212,2, -999.000,9, 2119.600,2, 2306.600,2
           NA,     A14,     88,   1,-999.0,      23,  2,19950206,2153, -36.0005,   -9.0002,  3638,  495.500,    8.666,   34.644,2,   34.644,2,  216.700,2,  214.300,2,    8.000,2,   20.180,2, -999.000,9,    1.350,2,    2.402,2,    1.073,2, -999.000,9, 2137.000,2, 2297.900,2
           NA,     A14,     88,   1,-999.0,      22,  2,19950206,2153, -36.0005,   -9.0002,  3638,  595.700,    6.649,   34.439,2,   34.439,2,  217.800,2,  217.700,2,   13.200,2,   24.630,2, -999.000,9,    1.670,2,    2.135,2,    0.934,2, -999.000,9, 2152.400,2, 2293.600,2
           NA,     A14,     88,   1,-999.0,      21,  2,19950206,2153, -36.0005,   -9.0002,  3638,  695.700,    5.390,   34.316,2, -999.000,3,  233.300,2,  233.100,2,   15.000,2,   26.500,2, -999.000,9,    1.790,2,    2.247,2,    0.973,2, -999.000,9, 2154.300,2, 2288.200,2
           NA,     A14,     88,   1,-999.0,      20,  2,19950206,2153, -36.0005,   -9.0002,  3638,  795.700,    4.745,   34.296,2,   34.298,2,  235.900,2,  231.600,2,   19.500,2,   28.190,2, -999.000,9,    1.910,2,    1.855,2,    0.808,2, -999.000,9, 2164.100,2, 2293.800,2
           NA,     A14,     88,   1,-999.0,      19,  2,19950206,2153, -36.0005,   -9.0002,  3638,  895.500,    4.056,   34.272,2,   34.271,2,  236.800,2,  233.300,2,   24.500,2,   29.530,2, -999.000,9,    1.990,2,    1.668,2,    0.722,2, -999.000,9, 2172.800,2, 2295.400,2
           NA,     A14,     88,   1,-999.0,      18,  2,19950206,2153, -36.0005,   -9.0002,  3638,  994.800,    3.532,   34.274,2,   34.275,2,  229.600,2,  229.600,2,   30.100,2,   30.760,2, -999.000,9,    2.080,2,    1.404,2,    0.606,2, -999.000,9, 2181.800,2, 2301.400,2
           NA,     A14,     88,   1,-999.0,      17,  2,19950206,2153, -36.0005,   -9.0002,  3638, 1195.300,    3.045,   34.364,2,   34.363,2,  207.400,2,  208.500,2,   43.800,2,   32.450,2, -999.000,9,    2.190,2,    0.681,2,    0.310,2, -999.000,9, 2206.800,2, 2312.600,2
           NA,     A14,     88,   1,-999.0,      16,  2,19950206,2153, -36.0005,   -9.0002,  3638, 1395.600,    2.841,   34.479,2,   34.481,2,  192.400,2,  191.900,2,   54.900,2,   32.860,2, -999.000,9,    2.230,2,    0.267,2,    0.120,2, -999.000,9, 2222.800,2, 2327.000,2
           NA,     A14,     88,   1,-999.0,      15,  2,19950206,2153, -36.0005,   -9.0002,  3638, 1595.200,    2.759,   34.608,2,   34.610,2,  189.100,2,  188.600,2,   60.100,2,   31.810,2, -999.000,9,    2.170,2,    0.093,2,    0.048,2, -999.000,9, 2228.700,2, 2334.600,2
           NA,     A14,     88,   1,-999.0,      14,  2,19950206,2153, -36.0005,   -9.0002,  3638, 1796.600,    2.751,   34.707,2,   34.705,2,  195.400,2,  197.200,2,   58.700,2,   29.650,2, -999.000,9,    2.010,2,    0.036,2,    0.018,2, -999.000,9, 2222.200,2, -999.000,3
           NA,     A14,     88,   1,-999.0,      13,  2,19950206,2153, -36.0005,   -9.0002,  3638, 1996.400,    2.713,   34.775,2,   34.773,2,  205.300,2,  208.500,2,   55.900,2,   27.610,2, -999.000,9,    1.880,2,    0.018,2,    0.009,2, -999.000,9, -999.000,9, 2338.800,2
           NA,     A14,     88,   1,-999.0,      12,  2,19950206,2153, -36.0005,   -9.0002,  3638, 1996.800,    2.713,   34.775,2,   34.773,2,  205.400,2,  208.300,2,   55.800,2,   27.610,2, -999.000,9,    1.870,2,    0.015,2,    0.010,2, -999.000,9, 2214.100,2, 2339.600,2
           NA,     A14,     88,   1,-999.0,      11,  2,19950206,2153, -36.0005,   -9.0002,  3638, 2195.000,    2.667,   34.812,2,   34.811,2,  214.400,2,  217.100,2,   54.100,2,   26.210,2, -999.000,9,    1.770,2,    0.010,2,    0.009,2, -999.000,9, 2207.800,2, 2340.600,2
           NA,     A14,     88,   1,-999.0,      10,  2,19950206,2153, -36.0005,   -9.0002,  3638, 2396.000,    2.590,   34.832,2,   34.831,2,  223.400,2,  223.200,2,   53.800,2,   25.330,2, -999.000,9,    1.720,2,    0.008,2,    0.006,2, -999.000,9, 2205.000,2, 2339.500,2
           NA,     A14,     88,   1,-999.0,       9,  2,19950206,2153, -36.0005,   -9.0002,  3638, 2595.900,    2.507,   34.841,2,   34.840,2,  226.400,2,  226.500,2,   54.900,2,   24.920,2, -999.000,9,    1.710,2,    0.003,2, -999.000,9, -999.000,9, 2204.400,2, 2341.300,2
           NA,     A14,     88,   1,-999.0,       8,  2,19950206,2153, -36.0005,   -9.0002,  3638, 2796.500,    2.402,   34.846,2,   34.843,2,  229.000,2,  229.300,2,   56.700,2,   24.750,2, -999.000,9,    1.690,2,    0.003,2, -999.000,9, -999.000,9, 2204.800,2, -999.000,3
           NA,     A14,     88,   1,-999.0,       7,  2,19950206,2153, -36.0005,   -9.0002,  3638, 2996.600,    2.322,   34.851,2,   34.851,2,  231.500,2,  233.000,2,   56.400,2,   24.480,2, -999.000,9,    1.670,2,    0.003,2, -999.000,9, -999.000,9, 2202.800,2, 2343.300,2
           NA,     A14,     88,   1,-999.0,       6,  2,19950206,2153, -36.0005,   -9.0002,  3638, 3196.300,    2.240,   34.852,2,   34.849,2,  234.100,2,  234.400,2,   58.200,2,   24.430,2, -999.000,9,    1.660,2,    0.003,2,    0.002,2, -999.000,9, 2203.900,2, 2348.200,2
           NA,     A14,     88,   1,-999.0,       5,  2,19950206,2153, -36.0005,   -9.0002,  3638, 3397.200,    2.136,   34.844,2,   34.841,2,  233.100,2,  233.000,2,   62.500,2,   24.810,2, -999.000,9,    1.690,2,    0.000,2,   -0.001,2, -999.000,9, 2209.600,2, 2351.800,2
           NA,     A14,     88,   1,-999.0,       4,  2,19950206,2153, -36.0005,   -9.0002,  3638, 3598.300,    2.038,   34.834,2,   34.833,2,  230.400,2,  230.800,2,   67.100,2,   25.450,2, -999.000,9,    1.740,2,    0.002,2,    0.003,2, -999.000,9, 2215.200,2, 2354.100,2
           NA,     A14,     88,   1,-999.0,       3,  2,19950206,2153, -36.0005,   -9.0002,  3638, 3673.100,    1.992,   34.830,2,   34.829,2,  229.900,2,  229.800,2,   69.300,2,   25.740,2, -999.000,9,    1.750,2,    0.002,2,    0.004,2, -999.000,9, 2217.100,6, 2356.900,6