BOTTLE,20213527JOAExport
EXPOCODE,SECT_ID,STNNBR,CASTNO,SAMPNO,BTLNBR,BTLNBR_FLAG_W,DATE,TIME,LATITUDE,LONGITUDE,DEPTH,CTDPRS,CTDTMP,CTDSAL,CTDSAL_FLAG_W,SALNTY,SALNTY_FLAG_W,CTDOXY,CTDOXY_FLAG_W,OXYGEN,OXYGEN_FLAG_W,SILCAT,SILCAT_FLAG_W,NITRAT,NITRAT_FLAG_W,NITRIT,NITRIT_FLAG_W,PHSPHT,PHSPHT_FLAG_W,CFC-11,CFC-11_FLAG_W,CFC-12,CFC-12_FLAG_W,SF6,SF6_FLAG_W,TCARBN,TCARBN_FLAG_W,ALKALI,ALKALI_FLAG_W
,,,,,,,,,,,,DB,DEG C,PSS-78,,PSS-78,,UMOL/KG,,UMOL/KG,,UMOL/KG,,UMOL/KG,,UMOL/KG,,UMOL/KG,,PMOL/KG,,PMOL/KG,,FMOL/KG,,UMOL/KG,,UMOL/KG
           NA,     A14,     73,   1,-999.0,      32,  2,19950202,2235, -28.4998,   -9.0000,  3965,    3.800,   24.867,   36.119,2,   36.119,2,  285.200,2, -999.000,3,    1.400,2,    0.020,2, -999.000,9,    0.110,2,    1.963,2,    1.016,2, -999.000,9, 2057.800,6, 2377.200,6
           NA,     A14,     73,   1,-999.0,      31,  2,19950202,2235, -28.4998,   -9.0000,  3965,   36.800,   23.131,   36.082,2, -999.000,3,  297.600,2, -999.000,3,    1.500,2,    0.020,2, -999.000,9,    0.130,2,    2.099,2,    1.056,2, -999.000,9, 2058.900,2, 2373.000,2
           NA,     A14,     73,   1,-999.0,      30,  2,19950202,2235, -28.4998,   -9.0000,  3965,   97.400,   18.068,   35.788,2,   35.787,2,  242.000,2,  240.300,2,    1.600,2,    0.020,2, -999.000,9,    0.160,2,    2.514,2,    1.248,2, -999.000,9, 2055.700,2, 2355.700,2
           NA,     A14,     73,   1,-999.0,      29,  2,19950202,2235, -28.4998,   -9.0000,  3965,  146.300,   16.585,   35.615,2,   35.620,2,  227.600,2,  229.000,2,    1.600,2,    0.980,2, -999.000,9,    0.260,2,    2.605,2,    1.282,2, -999.000,9, 2067.900,2, 2345.000,2
           NA,     A14,     73,   1,-999.0,      28,  2,19950202,2235, -28.4998,   -9.0000,  3965,  196.500,   15.342,   35.427,2,   35.422,2,  214.100,2,  217.500,2,    2.400,2,    4.730,2, -999.000,9,    0.430,2,    2.657,2,    1.296,2, -999.000,9, 2078.600,2, 2332.900,2
           NA,     A14,     73,   1,-999.0,      27,  2,19950202,2235, -28.4998,   -9.0000,  3965,  296.100,   13.054,   35.151,2,   35.152,2,  210.600,2,  212.700,2,    3.700,2,   10.320,2, -999.000,9,    0.730,2,    2.607,2,    1.241,2, -999.000,9, 2100.900,2, 2318.600,2
           NA,     A14,     73,   1,-999.0,      26,  2,19950202,2235, -28.4998,   -9.0000,  3965,  396.100,   11.388,   34.949,2, -999.000,3,  210.600,2,  210.000,2,    5.400,2,   14.500,2, -999.000,9,    0.980,2,    2.448,2,    1.140,2, -999.000,9, 2115.300,2, 2309.900,2
           NA,     A14,     73,   1,-999.0,      25,  2,19950202,2235, -28.4998,   -9.0000,  3965,  495.300,    9.414,   34.724,2, -999.000,3,  203.400,2,  202.400,2,    8.800,2,   19.730,2, -999.000,9,    1.300,2,    2.147,2,    0.973,2, -999.000,9, 2137.100,2, 2301.300,2
           NA,     A14,     73,   1,-999.0,      24,  2,19950202,2235, -28.4998,   -9.0000,  3965,  595.300,    7.569,   34.547,2,   34.551,2,  198.100,2,  197.800,2,   14.000,2,   24.400,2, -999.000,9,    1.630,2,    1.773,2,    0.798,2, -999.000,9, 2156.700,2, 2296.600,2
           NA,     A14,     73,   1,-999.0,      23,  2,19950202,2235, -28.4998,   -9.0000,  3965,  696.400,    6.103,   34.423,2,   34.429,2,  205.500,2,  204.900,2,   18.600,2,   27.620,2, -999.000,9,    1.830,2,    1.603,2,    0.709,2, -999.000,9, 2168.000,2, 2294.900,2
           NA,     A14,     73,   1,-999.0,      22,  2,19950202,2235, -28.4998,   -9.0000,  3965,  795.900,    4.877,   34.351,2,   34.357,2,  210.600,2,  210.800,2,   24.600,2,   29.920,2, -999.000,9,    1.980,2,    1.339,2,    0.595,2, -999.000,9, 2178.400,2, 2298.400,2
           NA,     A14,     73,   1,-999.0,      21,  2,19950202,2235, -28.4998,   -9.0000,  3965,  995.900,    3.675,   34.386,2,   34.388,2,  195.300,2,  196.100,2,   39.900,2,   32.960,2, -999.000,9,    2.210,2,    0.621,2,    0.283,2, -999.000,9, -999.000,9, 2311.800,2
           NA,     A14,     73,   1,-999.0,      20,  2,19950202,2235, -28.4998,   -9.0000,  3965,  996.000,    3.670,   34.387,2,   34.390,2,  195.300,2,  195.800,2,   40.200,2,   32.900,2, -999.000,9,    2.210,2,    0.611,2,    0.264,2, -999.000,9, 2207.200,2, 2313.400,2
           NA,     A14,     73,   1,-999.0,      19,  2,19950202,2235, -28.4998,   -9.0000,  3965, 1195.300,    3.213,   34.504,2,   34.503,2,  182.500,2,  182.800,2,   51.700,2,   33.350,2, -999.000,9,    2.250,2,    0.181,2,    0.084,2, -999.000,9, 2224.700,2, 2323.000,2
           NA,     A14,     73,   1,-999.0,      18,  2,19950202,2235, -28.4998,   -9.0000,  3965, 1396.200,    3.011,   34.629,2,   34.630,2,  185.900,2,  185.900,2,   54.200,2,   31.800,2, -999.000,9,    2.130,2,    0.042,2,    0.024,2, -999.000,9, 2226.600,2, 2332.800,2
           NA,     A14,     73,   1,-999.0,      17,  2,19950202,2235, -28.4998,   -9.0000,  3965, 1595.900,    2.927,   34.722,2,   34.723,2,  196.300,2,  196.900,2,   52.400,2,   29.560,2, -999.000,9,    1.980,2,    0.014,2,    0.009,2, -999.000,9, 2217.500,2, 2334.900,2
           NA,     A14,     73,   1,-999.0,      16,  2,19950202,2235, -28.4998,   -9.0000,  3965, 1796.400,    2.826,   34.785,2,   34.784,2,  208.400,2,  209.300,2,   50.200,2,   27.550,2, -999.000,9,    1.830,2,    0.006,2,    0.004,2, -999.000,9, 2211.100,2, 2336.100,2
           NA,     A14,     73,   1,-999.0,      15,  2,19950202,2235, -28.4998,   -9.0000,  3965, 1996.200,    2.679,   34.815,2,   34.819,2,  217.400,2,  218.200,2,   50.400,2,   26.340,2, -999.000,9,    1.750,2,    0.004,2, -999.000,9, -999.000,9, -999.000,9, 2338.700,2
           NA,     A14,     73,   1,-999.0,      14,  2,19950202,2235, -28.4998,   -9.0000,  3965, 1996.800,    2.678,   34.817,2,   34.816,2,  217.500,2,  219.600,2,   50.500,2,   26.330,2, -999.000,9,    1.750,2,    0.005,2, -999.000,9, -999.000,9, 2204.800,2, 2340.000,2
           NA,     A14,     73,   1,-999.0,      13,  2,19950202,2235, -28.4998,   -9.0000,  3965, 2195.400,    2.577,   34.832,2,   34.833,2,  222.800,2,  223.600,2,   51.100,2,   25.590,2, -999.000,9,    1.730,2,    0.006,2,    0.008,2, -999.000,9, 2201.700,2, 2340.500,2
           NA,     A14,     73,   1,-999.0,      12,  2,19950202,2235, -28.4998,   -9.0000,  3965, 2395.700,    2.488,   34.848,2,   34.847,2,  228.300,2,  229.000,2,   50.800,2,   24.840,2, -999.000,9,    1.670,2,    0.001,2,    0.000,2, -999.000,9, 2202.000,2, 2341.000,2
           NA,     A14,     73,   1,-999.0,      11,  2,19950202,2235, -28.4998,   -9.0000,  3965, 2596.100,    2.437,   34.859,2,   34.859,2,  233.800,2,  234.000,2,   50.100,2,   24.240,2, -999.000,9,    1.620,2,    0.001,2, -999.000,9, -999.000,9, -999.000,9, 2341.900,2
           NA,     A14,     73,   1,-999.0,      10,  2,19950202,2235, -28.4998,   -9.0000,  3965, 2796.200,    2.400,   34.866,2,   34.870,2,  236.800,2,  237.500,2,   49.900,2,   23.850,2, -999.000,9,    1.600,2,    0.003,2,    0.004,2, -999.000,9, 2196.700,2, 2342.800,2
           NA,     A14,     73,   1,-999.0,       9,  2,19950202,2235, -28.4998,   -9.0000,  3965, 2996.000,    2.376,   34.872,2,   34.870,2,  238.300,2,  238.800,2,   50.000,2,   23.710,2, -999.000,9,    1.580,2,    0.002,2,    0.002,2, -999.000,9, 2197.600,2, 2345.300,2
           NA,     A14,     73,   1,-999.0,       8,  2,19950202,2235, -28.4998,   -9.0000,  3965, 3196.600,    2.363,   34.874,2,   34.873,2,  238.500,2,  239.200,2,   50.700,2,   23.580,2, -999.000,9,    1.560,2,    0.002,2,    0.002,2, -999.000,9, 2197.300,2, 2348.100,2
           NA,     A14,     73,   1,-999.0,       7,  2,19950202,2235, -28.4998,   -9.0000,  3965, 3397.200,    2.353,   34.878,2,   34.876,2,  238.100,2,  238.700,2,   51.200,2,   23.580,2, -999.000,9,    1.580,2,    0.003,2,    0.000,2, -999.000,9, 2198.300,2, 2351.100,2
           NA,     A14,     73,   1,-999.0,       6,  2,19950202,2235, -28.4998,   -9.0000,  3965, 3597.200,    2.366,   34.879,2,   34.878,2,  237.500,2,  238.000,2,   51.500,2,   23.580,2, -999.000,9,    1.560,2,    0.000,2, -999.000,9, -999.000,9, 2199.800,2, 2351.300,2
           NA,     A14,     73,   1,-999.0,       5,  2,19950202,2235, -28.4998,   -9.0000,  3965, 3796.900,    2.373,   34.882,2,   34.881,2,  235.900,2,  236.500,2,   51.600,2,   23.580,2, -999.000,9,    1.560,2,    0.003,2,    0.002,2, -999.000,9, 2203.900,2, 2357.100,2
           NA,     A14,     73,   1,-999.0,       4,  2,19950202,2235, -28.4998,   -9.0000,  3965, 3896.000,    2.379,   34.884,2,   34.882,2,  235.800,2,  235.900,2,   51.800,2,   23.570,2, -999.000,9,    1.560,2,    0.004,2,    0.002,2, -999.000,9, 2203.500,2, 2357.600,2
           NA,     A14,     73,   1,-999.0,       3,  2,19950202,2235, -28.4998,   -9.0000,  3965, 4005.900,    2.388,   34.885,2,   34.882,2,  235.200,2,  235.500,2,   51.500,2,   23.570,2, -999.000,9,    1.560,2,    0.004,2, -999.000,9, -999.000,9, 2205.000,6, 2358.100,6
           NA,     A14,     72,   1,-999.0,      32,  2,19950202,1717, -28.0005,   -9.0003,  3926,    3.600,   25.272,   36.227,2,   36.223,2,  207.100,2,  211.900,2,    1.100,2,    0.020,2, -999.000,9,    0.130,2,    1.941,2,    0.933,2, -999.000,9, -999.000,9, 2385.000,2
           NA,     A14,     72,   1,-999.0,      31,  2,19950202,1717, -28.0005,   -9.0003,  3926,   47.100,   21.200,   36.119,2,   36.117,2,  223.900,2, -999.000,3,    1.400,2,    0.020,2, -999.000,9,    0.150,2,    2.292,2,    1.145,2, -999.000,9, -999.000,9, -999.000,9
           NA,     A14,     72,   1,-999.0,      30,  2,19950202,1717, -28.0005,   -9.0003,  3926,   96.800,   18.921,   35.944,2,   35.943,2,  227.300,2, -999.000,3,    1.500,2,    0.020,2, -999.000,9,    0.150,2,    2.425,2,    1.209,2, -999.000,9, -999.000,9, -999.000,9
           NA,     A14,     72,   1,-999.0,      29,  2,19950202,1717, -28.0005,   -9.0003,  3926,  121.400,   18.183,   35.859,2, -999.000,3,  231.300,2,  233.800,2,    1.200,2,    0.020,2, -999.000,9,    0.170,2,    2.438,2,    1.210,2, -999.000,9, -999.000,9, -999.000,9
           NA,     A14,     72,   1,-999.0,      28,  2,19950202,1717, -28.0005,   -9.0003,  3926,  196.100,   15.299,   35.411,2, -999.000,4,  213.300,2, -999.000,3,   26.300,2,   30.180,2, -999.000,9,    2.050,2, -999.000,9, -999.000,9, -999.000,9, -999.000,9, -999.000,9
           NA,     A14,     72,   1,-999.0,      27,  2,19950202,1717, -28.0005,   -9.0003,  3926,  296.500,   12.831,   35.118,2,   35.116,2,  209.200,2,  211.900,2,    3.900,2,   10.800,2, -999.000,9,    0.770,2,    2.581,2,    1.218,2, -999.000,9, -999.000,9, -999.000,9
           NA,     A14,     72,   1,-999.0,      26,  2,19950202,1717, -28.0005,   -9.0003,  3926,  395.900,   11.016,   34.908,2,   34.909,2,  207.900,2,  208.300,2,    5.700,2,   15.180,2, -999.000,9,    1.040,2,    2.382,2,    1.107,2, -999.000,9, -999.000,9, -999.000,9
           NA,     A14,     72,   1,-999.0,      25,  2,19950202,1717, -28.0005,   -9.0003,  3926,  496.800,    9.075,   34.697,2,   34.701,2,  201.300,2, -999.000,3,   10.500,2,   21.480,2, -999.000,9,    1.480,2,    1.880,2,    0.862,2, -999.000,9, -999.000,9, -999.000,9
           NA,     A14,     72,   1,-999.0,      24,  2,19950202,1717, -28.0005,   -9.0003,  3926,  595.500,    7.212,   34.520,2,   34.522,2,  191.100,2,  193.000,2,   15.200,2,   25.240,2, -999.000,9,    1.750,2,    1.571,2,    0.708,2, -999.000,9, -999.000,9, -999.000,9
           NA,     A14,     72,   1,-999.0,      23,  2,19950202,1717, -28.0005,   -9.0003,  3926,  675.900,    5.905,   34.421,2,   34.424,2,  192.000,2,  195.200,2,   19.800,2,   28.350,2, -999.000,9,    1.940,2,    1.305,2,    0.578,2, -999.000,9, -999.000,9, -999.000,9
           NA,     A14,     72,   1,-999.0,      22,  2,19950202,1717, -28.0005,   -9.0003,  3926,  795.200,    4.606,   34.348,2,   34.351,2,  207.500,2,  209.300,2,   26.700,2,   30.080,2, -999.000,9,    2.060,2,    1.152,2,    0.509,2, -999.000,9, -999.000,9, -999.000,9
           NA,     A14,     72,   1,-999.0,      21,  2,19950202,1717, -28.0005,   -9.0003,  3926,  996.100,    3.590,   34.408,2,   34.411,2,  192.200,2,  190.100,2,   41.900,2,   32.610,2, -999.000,9,    2.250,2,    0.445,2,    0.204,2, -999.000,9, -999.000,9, -999.000,9
           NA,     A14,     72,   1,-999.0,      20,  2,19950202,1717, -28.0005,   -9.0003,  3926, 1195.000,    3.203,   34.521,2,   34.521,2,  182.700,2,  182.000,2,   50.600,2,   32.610,2, -999.000,9,    2.260,2,    0.139,2,    0.061,2, -999.000,9, -999.000,9, -999.000,9
           NA,     A14,     72,   1,-999.0,      19,  2,19950202,1717, -28.0005,   -9.0003,  3926, 1195.800,    3.202,   34.521,2,   34.521,2,  182.700,2,  182.200,2,   50.600,2,   32.670,2, -999.000,9,    2.270,2,    0.132,2,    0.064,2, -999.000,9, -999.000,9, -999.000,9
           NA,     A14,     72,   1,-999.0,      18,  2,19950202,1717, -28.0005,   -9.0003,  3926, 1395.500,    3.062,   34.648,2,   34.647,2,  186.400,2,  186.500,2,   51.800,2,   30.720,2, -999.000,9,    2.120,2,    0.029,2,    0.017,2, -999.000,9, -999.000,9, -999.000,9
           NA,     A14,     72,   1,-999.0,      17,  2,19950202,1717, -28.0005,   -9.0003,  3926, 1595.600,    2.975,   34.741,2,   34.740,2,  198.300,2,  198.600,2,   49.600,2,   28.480,2, -999.000,9,    1.950,2,    0.011,2,    0.005,2, -999.000,9, -999.000,9, -999.000,9
           NA,     A14,     72,   1,-999.0,      16,  2,19950202,1717, -28.0005,   -9.0003,  3926, 1795.500,    2.826,   34.790,2,   34.788,2,  208.600,2,  209.700,2,   49.100,2,   26.750,2, -999.000,9,    1.830,2,    0.013,2,    0.009,2, -999.000,9, -999.000,9, -999.000,9
           NA,     A14,     72,   1,-999.0,      15,  2,19950202,1717, -28.0005,   -9.0003,  3926, 1996.000,    2.652,   34.819,2, -999.000,3,  217.300,2,  219.000,2,   50.200,2,   25.610,2, -999.000,9,    1.760,2,    0.002,2, -999.000,9, -999.000,9, -999.000,9, -999.000,9
           NA,     A14,     72,   1,-999.0,      13,  2,19950202,1717, -28.0005,   -9.0003,  3926, 2195.900,    2.540,   34.837,2,   34.834,2,  223.500,2,  225.000,2,   50.400,6,   25.050,2, -999.000,9,    1.710,6,    0.001,2, -999.000,9, -999.000,9, -999.000,9, -999.000,9
           NA,     A14,     72,   1,-999.0,      14,  2,19950202,1717, -28.0005,   -9.0003,  3926, 2196.300,    2.541,   34.837,2,   34.833,2,  223.500,2,  224.900,2,   50.700,2,   24.800,2, -999.000,9,    1.710,2,    0.002,2,    0.000,2, -999.000,9, -999.000,9, -999.000,9
           NA,     A14,     72,   1,-999.0,      12,  2,19950202,1717, -28.0005,   -9.0003,  3926, 2395.600,    2.463,   34.850,2,   34.849,2,  229.600,2,  230.200,2,   50.400,2,   24.350,2, -999.000,9,    1.660,2,    0.001,2,    0.006,2, -999.000,9, -999.000,9, -999.000,9
           NA,     A14,     72,   1,-999.0,      11,  2,19950202,1717, -28.0005,   -9.0003,  3926, 2596.300,    2.421,   34.862,2,   34.862,2,  235.000,2,  235.200,2,   49.000,2,   23.690,2, -999.000,9,    1.610,2,    0.001,2,   -0.004,2, -999.000,9, -999.000,9, -999.000,9
           NA,     A14,     72,   1,-999.0,      10,  2,19950202,1717, -28.0005,   -9.0003,  3926, 2796.600,    2.387,   34.869,2,   34.868,2,  237.600,2,  237.700,2,   49.100,6,   23.550,6, -999.000,9,    1.590,6,    0.004,2,    0.000,2, -999.000,9, -999.000,9, -999.000,9
           NA,     A14,     72,   1,-999.0,       9,  2,19950202,1717, -28.0005,   -9.0003,  3926, 2996.700,    2.369,   34.873,2,   34.871,2,  238.900,2,  239.600,2,   49.000,2,   23.520,2, -999.000,9,    1.580,2,    0.000,2, -999.000,9, -999.000,9, -999.000,9, -999.000,9
           NA,     A14,     72,   1,-999.0,       8,  2,19950202,1717, -28.0005,   -9.0003,  3926, 3195.900,    2.356,   34.876,2,   34.875,2,  238.900,2,  239.200,2,   49.500,2,   23.340,2, -999.000,9,    1.560,2,    0.000,2, -999.000,9, -999.000,9, -999.000,9, -999.000,9
           NA,     A14,     72,   1,-999.0,       7,  2,19950202,1717, -28.0005,   -9.0003,  3926, 3397.200,    2.355,   34.878,2,   34.877,2,  238.700,2,  238.800,2,   49.800,2,   23.350,2, -999.000,9,    1.570,2,    0.000,2,    0.000,2, -999.000,9, -999.000,9, -999.000,9
           NA,     A14,     72,   1,-999.0,       6,  2,19950202,1717, -28.0005,   -9.0003,  3926, 3596.200,    2.362,   34.880,2,   34.877,2,  238.300,2,  237.900,2,   50.300,2,   23.350,2, -999.000,9,    1.590,2,    0.003,2,    0.001,2, -999.000,9, -999.000,9, -999.000,9
           NA,     A14,     72,   1,-999.0,       5,  2,19950202,1717, -28.0005,   -9.0003,  3926, 3797.000,    2.375,   34.881,2,   34.879,2,  237.600,2,  237.400,2,   50.400,2,   23.350,2, -999.000,9,    1.580,2,    0.000,2,    0.004,2, -999.000,9, -999.000,9, -999.000,9
           NA,     A14,     72,   1,-999.0,       4,  2,19950202,1717, -28.0005,   -9.0003,  3926, 3897.300,    2.384,   34.883,2,   34.881,2,  237.400,2,  236.900,2,   50.700,2,   23.350,2, -999.000,9,    1.590,2,    0.002,2,    0.003,2, -999.000,9, -999.000,9, -999.000,9
           NA,     A14,     72,   1,-999.0,       3,  2,19950202,1717, -28.0005,   -9.0003,  3926, 3965.400,    2.392,   34.882,2,   34.880,2,  237.200,2,  239.700,2,   50.500,2,   23.440,2, -999.000,9,    1.590,2,    0.002,2,    0.000,2, -999.000,9, -999.000,9, -999.000,9