BOTTLE,20213527JOAExport
EXPOCODE,SECT_ID,STNNBR,CASTNO,SAMPNO,BTLNBR,BTLNBR_FLAG_W,DATE,TIME,LATITUDE,LONGITUDE,DEPTH,CTDPRS,CTDTMP,CTDSAL,CTDSAL_FLAG_W,SALNTY,SALNTY_FLAG_W,CTDOXY,CTDOXY_FLAG_W,OXYGEN,OXYGEN_FLAG_W,SILCAT,SILCAT_FLAG_W,NITRAT,NITRAT_FLAG_W,NITRIT,NITRIT_FLAG_W,PHSPHT,PHSPHT_FLAG_W,CFC-11,CFC-11_FLAG_W,CFC-12,CFC-12_FLAG_W,SF6,SF6_FLAG_W,TCARBN,TCARBN_FLAG_W,ALKALI,ALKALI_FLAG_W
,,,,,,,,,,,,DB,DEG C,PSS-78,,PSS-78,,UMOL/KG,,UMOL/KG,,UMOL/KG,,UMOL/KG,,UMOL/KG,,UMOL/KG,,PMOL/KG,,PMOL/KG,,FMOL/KG,,UMOL/KG,,UMOL/KG
           NA,     A14,     28,   1,-999.0,      32,  2,19950123,1729,  -6.0015,   -8.1115,  4188,    3.000,   27.081,   36.012,2,   36.012,2,  198.200,2,  201.200,2,    1.200,2,    0.020,2, -999.000,9,    0.090,2,    1.727,2,    0.956,2, -999.000,9, 2024.500,6, 2367.600,6
           NA,     A14,     28,   1,-999.0,      31,  2,19950123,1729,  -6.0015,   -8.1115,  4188,   46.900,   24.277,   36.251,2, -999.000,3,  219.600,2,  215.800,2,    1.200,2,    0.020,2, -999.000,9,    0.160,2,    1.934,2,    0.981,2, -999.000,9, 2055.100,2, 2384.200,2
           NA,     A14,     28,   1,-999.0,      30,  2,19950123,1729,  -6.0015,   -8.1115,  4188,   96.200,   15.181,   35.546,2, -999.000,3,  100.900,2, -999.000,3,    6.650,2,   20.990,2, -999.000,9,    1.360,2,    1.284,2,    0.625,2, -999.000,9, 2177.200,2, 2337.400,2
           NA,     A14,     28,   1,-999.0,      29,  2,19950123,1729,  -6.0015,   -8.1115,  4188,  146.700,   12.372,   35.205,2, -999.000,3,   90.600,2,   90.400,2,    9.420,2,   24.540,2, -999.000,9,    1.600,2,    0.939,2,    0.461,2, -999.000,9, 2196.900,2, 2318.900,2
           NA,     A14,     28,   1,-999.0,      28,  2,19950123,1729,  -6.0015,   -8.1115,  4188,  193.300,   11.656,   35.113,2,   35.112,2,   93.800,2,   95.500,2,   10.420,2,   25.660,2, -999.000,9,    1.660,2,    0.838,2,    0.415,2, -999.000,9, -999.000,9, 2314.900,2
           NA,     A14,     28,   1,-999.0,      27,  2,19950123,1729,  -6.0015,   -8.1115,  4188,  194.300,   11.650,   35.113,2,   35.113,2,   93.800,2,   95.600,2,   10.430,2,   25.660,2, -999.000,9,    1.670,2,    0.824,2,    0.407,2, -999.000,9, 2196.200,2, 2315.300,2
           NA,     A14,     28,   1,-999.0,      26,  2,19950123,1729,  -6.0015,   -8.1115,  4188,  295.600,   10.097,   34.941,2,   34.941,2,   84.100,2, -999.000,3,   14.120,2,   32.120,2, -999.000,9,    2.020,2,    0.362,2,    0.188,2, -999.000,9, 2228.000,2, 2307.300,2
           NA,     A14,     28,   1,-999.0,      25,  2,19950123,1729,  -6.0015,   -8.1115,  4188,  397.400,    8.882,   34.809,2,   34.808,2,   66.200,2,   66.300,2,   16.810,2,   34.350,2, -999.000,9,    2.170,2,    0.196,2,    0.107,2, -999.000,9, 2236.200,2, 2302.600,2
           NA,     A14,     28,   1,-999.0,      24,  2,19950123,1729,  -6.0015,   -8.1115,  4188,  495.800,    7.448,   34.670,2,   34.672,2,   79.200,2,   78.600,2,   20.580,2,   35.690,2, -999.000,9,    2.320,2,    0.086,2,    0.045,2, -999.000,9, 2235.800,2, 2299.400,2
           NA,     A14,     28,   1,-999.0,      23,  2,19950123,1729,  -6.0015,   -8.1115,  4188,  596.300,    6.290,   34.569,2,   34.570,2,  103.200,2,  103.900,2,   23.950,2,   35.690,2, -999.000,9,    2.360,2,    0.055,2,    0.032,2, -999.000,9, 2230.200,2, 2300.500,2
           NA,     A14,     28,   1,-999.0,      22,  2,19950123,1729,  -6.0015,   -8.1115,  4188,  694.700,    5.327,   34.505,2,   34.511,2,  121.400,2,  121.000,2,   28.230,2,   36.020,2, -999.000,9,    2.410,2,    0.026,2,    0.014,2, -999.000,9, 2229.200,2, 2301.200,2
           NA,     A14,     28,   1,-999.0,      21,  2,19950123,1729,  -6.0015,   -8.1115,  4188,  795.300,    4.823,   34.492,2,   34.492,2,  130.000,2, -999.000,3,   31.260,2,   35.460,2, -999.000,9,    2.390,2,    0.020,2,    0.013,2, -999.000,9, 2225.300,2, 2303.800,2
           NA,     A14,     28,   1,-999.0,      20,  2,19950123,1729,  -6.0015,   -8.1115,  4188,  995.200,    4.178,   34.577,2,   34.578,2,  156.100,2,  155.300,2,   34.290,2,   33.460,2, -999.000,9,    2.270,2,    0.000,2, -999.000,9, -999.000,9, 2222.700,2, 2311.300,2
           NA,     A14,     28,   1,-999.0,      19,  2,19950123,1729,  -6.0015,   -8.1115,  4188, 1195.400,    4.144,   34.790,2,   34.789,2,  177.100,2, -999.000,3,   28.420,2,   28.390,2, -999.000,9,    1.910,2,    0.001,2,    0.001,2, -999.000,9, 2203.800,2, 2317.500,2
           NA,     A14,     28,   1,-999.0,      18,  2,19950123,1729,  -6.0015,   -8.1115,  4188, 1394.000,    4.130,   34.909,2,   34.909,2,  210.200,2,  211.900,2,   22.880,2,   24.040,2, -999.000,9,    1.600,2,    0.006,2,    0.002,2, -999.000,9, 2183.700,2, 2318.800,2
           NA,     A14,     28,   1,-999.0,      17,  2,19950123,1729,  -6.0015,   -8.1115,  4188, 1595.800,    3.968,   34.946,2,   34.945,2,  226.000,2,  227.400,2,   21.290,2,   22.350,2, -999.000,9,    1.450,2,    0.010,2,    0.010,2, -999.000,9, 2176.100,2, 2320.000,2
           NA,     A14,     28,   1,-999.0,      16,  2,19950123,1729,  -6.0015,   -8.1115,  4188, 1795.700,    3.748,   34.961,2,   34.958,2,  240.200,2,  239.500,2,   21.540,2,   21.250,2, -999.000,9,    1.380,2,    0.012,2,    0.006,2, -999.000,9, 2172.000,2, 2322.100,2
           NA,     A14,     28,   1,-999.0,      15,  2,19950123,1729,  -6.0015,   -8.1115,  4188, 1995.300,    3.491,   34.950,2,   34.950,2,  242.300,2,  241.100,2,   24.910,2,   21.420,2, -999.000,9,    1.380,2,    0.006,2,    0.006,2, -999.000,9, 2173.900,2, 2326.200,2
           NA,     A14,     28,   1,-999.0,      14,  2,19950123,1729,  -6.0015,   -8.1115,  4188, 2195.500,    3.297,   34.944,2,   34.945,2,  242.200,2,  241.800,2,   27.350,2,   21.500,2, -999.000,9,    1.390,2,    0.000,2,    0.000,2, -999.000,9, 2177.400,2, 2327.800,2
           NA,     A14,     28,   1,-999.0,      13,  2,19950123,1729,  -6.0015,   -8.1115,  4188, 2396.600,    3.040,   34.928,2,   34.927,2,  239.700,2,  241.000,2,   32.660,2,   21.840,2, -999.000,9,    1.430,2,    0.003,2,    0.001,2, -999.000,9, 2182.600,2, 2333.300,2
           NA,     A14,     28,   1,-999.0,      12,  2,19950123,1729,  -6.0015,   -8.1115,  4188, 2596.800,    2.829,   34.915,2,   34.914,2,  238.800,2,  239.500,2,   37.540,2,   22.430,2, -999.000,9,    1.470,2,    0.000,2,    0.003,2, -999.000,9, 2189.600,2, 2338.300,2
           NA,     A14,     28,   1,-999.0,      11,  2,19950123,1729,  -6.0015,   -8.1115,  4188, 2796.400,    2.677,   34.908,2,   34.905,2,  237.800,2,  238.200,2,   40.750,2,   22.510,2, -999.000,9,    1.490,2,    0.001,2,    0.000,2, -999.000,9, 2191.600,2, 2341.600,2
           NA,     A14,     28,   1,-999.0,      10,  2,19950123,1729,  -6.0015,   -8.1115,  4188, 2995.000,    2.561,   34.902,2,   34.903,2,  237.200,2,  237.900,2,   43.400,2,   22.810,2, -999.000,9,    1.500,2,    0.002,2,    0.001,2, -999.000,9, -999.000,9, 2346.000,2
           NA,     A14,     28,   1,-999.0,       9,  2,19950123,1729,  -6.0015,   -8.1115,  4188, 2996.000,    2.560,   34.901,2,   34.902,2,  237.300,2,  238.000,2,   43.680,2,   22.850,2, -999.000,9,    1.510,2,    0.001,2, -999.000,9, -999.000,9, 2197.000,2, 2346.500,2
           NA,     A14,     28,   1,-999.0,       8,  2,19950123,1729,  -6.0015,   -8.1115,  4188, 3197.300,    2.469,   34.894,2,   34.894,2,  237.300,2,  237.900,2,   46.130,2,   22.980,2, -999.000,9,    1.520,2,    0.002,2,    0.000,2, -999.000,9, 2199.500,2, 2348.900,2
           NA,     A14,     28,   1,-999.0,       7,  2,19950123,1729,  -6.0015,   -8.1115,  4188, 3396.900,    2.430,   34.894,2,   34.898,2,  237.800,2,  237.300,2,   46.860,2,   22.980,2, -999.000,9,    1.530,2,    0.003,2,    0.001,2, -999.000,9, 2200.000,2, 2350.300,2
           NA,     A14,     28,   1,-999.0,       6,  2,19950123,1729,  -6.0015,   -8.1115,  4188, 3597.300,    2.404,   34.892,2,   34.891,2,  238.400,2,  238.300,2,   47.870,2,   23.060,2, -999.000,9,    1.530,2,    0.000,2,    0.000,2, -999.000,9, 2202.200,2, 2354.100,2
           NA,     A14,     28,   1,-999.0,       5,  2,19950123,1729,  -6.0015,   -8.1115,  4188, 3797.000,    2.365,   34.889,2,   34.888,2,  239.200,2,  238.700,2,   49.050,2,   23.020,2, -999.000,9,    1.530,2,    0.000,2,    0.000,2, -999.000,9, 2201.100,2, 2352.000,2
           NA,     A14,     28,   1,-999.0,       4,  2,19950123,1729,  -6.0015,   -8.1115,  4188, 3899.000,    2.357,   34.888,2,   34.887,2,  239.700,2,  239.100,2,   49.160,2,   23.020,2, -999.000,9,    1.530,2,    0.001,2,    0.002,2, -999.000,9, 2204.200,2, 2354.300,2
           NA,     A14,     28,   1,-999.0,       3,  2,19950123,1729,  -6.0015,   -8.1115,  4188, 4203.800,    2.361,   34.885,2,   34.885,2,  239.700,2,  239.400,2,   49.620,2,   23.020,2, -999.000,9,    1.530,2,    0.000,2, -999.000,9, -999.000,9, 2203.000,6, 2354.400,6
           NA,     A14,     27,   1,-999.0,      32,  2,19950123,1153,  -5.5012,   -7.9973,  4027,    4.100,   27.069,   35.789,2,   35.791,2,  200.400,2, -999.000,3,    1.370,2,    0.020,2, -999.000,9,    0.100,2,    1.731,2,    0.916,2, -999.000,9, -999.000,9, 2353.500,2
           NA,     A14,     27,   1,-999.0,      31,  2,19950123,1153,  -5.5012,   -7.9973,  4027,   36.900,   26.303,   36.106,2,   36.109,2,  204.900,2,  203.400,2,    1.370,2,    0.020,2, -999.000,9,    0.100,2,    1.744,2,    0.912,2, -999.000,9, -999.000,9, -999.000,9
           NA,     A14,     27,   1,-999.0,      30,  2,19950123,1153,  -5.5012,   -7.9973,  4027,   95.800,   16.079,   35.633,2,   35.636,2,  127.400,2, -999.000,3,    7.790,2,   19.980,2, -999.000,9,    1.300,2,    1.385,2,    0.682,2, -999.000,9, -999.000,9, -999.000,9
           NA,     A14,     27,   1,-999.0,      29,  2,19950123,1153,  -5.5012,   -7.9973,  4027,  146.200,   12.858,   35.264,2,   35.263,2,  110.700,2,  111.500,2,    8.700,2,   22.470,2, -999.000,9,    1.470,2,    1.149,2,    0.561,2, -999.000,9, -999.000,9, -999.000,9
           NA,     A14,     27,   1,-999.0,      28,  2,19950123,1153,  -5.5012,   -7.9973,  4027,  197.500,   11.299,   35.071,2,   35.070,2,   97.300,2,  100.500,2,   11.210,2,   26.100,2, -999.000,9,    1.690,2,    0.804,2,    0.390,2, -999.000,9, -999.000,9, -999.000,9
           NA,     A14,     27,   1,-999.0,      27,  2,19950123,1153,  -5.5012,   -7.9973,  4027,  296.400,   10.022,   34.935,2,   34.933,2,   65.700,2,   61.800,2,   14.630,2,   33.180,2, -999.000,9,    2.060,2,    0.353,2,    0.184,2, -999.000,9, -999.000,9, -999.000,9
           NA,     A14,     27,   1,-999.0,      26,  2,19950123,1153,  -5.5012,   -7.9973,  4027,  297.000,   10.003,   34.930,2,   34.933,2,   66.200,2,   62.100,2,   14.710,2,   34.130,2, -999.000,9,    2.060,2,    0.353,2,    0.186,2, -999.000,9, -999.000,9, -999.000,9
           NA,     A14,     27,   1,-999.0,      25,  2,19950123,1153,  -5.5012,   -7.9973,  4027,  394.700,    9.040,   34.828,2,   34.828,2,   56.900,2, -999.000,3,   16.880,2,   35.070,2, -999.000,9,    2.190,2,    0.200,2,    0.111,2, -999.000,9, -999.000,9, -999.000,9
           NA,     A14,     27,   1,-999.0,      24,  2,19950123,1153,  -5.5012,   -7.9973,  4027,  496.100,    7.635,   34.687,2,   34.683,2,   84.000,2, -999.000,3,   20.050,2,   36.130,2, -999.000,9,    2.300,2,    0.110,2,    0.066,2, -999.000,9, -999.000,9, -999.000,9
           NA,     A14,     27,   1,-999.0,      23,  2,19950123,1153,  -5.5012,   -7.9973,  4027,  595.400,    6.082,   34.555,2,   34.560,2,  103.800,2,  105.600,2,   24.810,2,   36.520,2, -999.000,9,    2.400,2,    0.043,2,    0.025,2, -999.000,9, -999.000,9, -999.000,9
           NA,     A14,     27,   1,-999.0,      22,  2,19950123,1153,  -5.5012,   -7.9973,  4027,  794.300,    4.748,   34.493,2,   34.498,2,  130.900,2, -999.000,3,   31.490,2,   35.910,2, -999.000,9,    2.400,2,    0.021,2,    0.004,2, -999.000,9, -999.000,9, -999.000,9
           NA,     A14,     27,   1,-999.0,      21,  2,19950123,1153,  -5.5012,   -7.9973,  4027,  995.800,    4.183,   34.602,2,   34.602,2,  161.800,2,  161.200,2,   33.750,2,   33.010,2, -999.000,9,    2.220,2,    0.007,2,    0.002,2, -999.000,9, -999.000,9, -999.000,9
           NA,     A14,     27,   1,-999.0,      20,  2,19950123,1153,  -5.5012,   -7.9973,  4027, 1196.300,    4.203,   34.785,2,   34.780,2,  178.400,2,  179.800,2,   28.750,2,   29.000,2, -999.000,9,    1.940,2,    0.009,2, -999.000,9, -999.000,9, -999.000,9, -999.000,9
           NA,     A14,     27,   1,-999.0,      19,  2,19950123,1153,  -5.5012,   -7.9973,  4027, 1395.800,    4.208,   34.924,2,   34.923,2,  216.000,2,  214.100,2,   21.740,2,   23.820,2, -999.000,9,    1.570,2,    0.021,2,    0.011,2, -999.000,9, -999.000,9, -999.000,9
           NA,     A14,     27,   1,-999.0,      18,  2,19950123,1153,  -5.5012,   -7.9973,  4027, 1546.800,    3.994,   34.939,2, -999.000,3,  224.500,2,  224.000,2,   21.660,2,   22.680,2, -999.000,9,    1.500,2,    0.009,2,    0.003,2, -999.000,9, -999.000,9, -999.000,9
           NA,     A14,     27,   1,-999.0,      17,  2,19950123,1153,  -5.5012,   -7.9973,  4027, 1695.000,    3.880,   34.963,2,   34.963,2,  237.900,2,  236.900,2,   20.410,2,   21.290,2, -999.000,9,    1.400,2,    0.020,2,    0.009,2, -999.000,9, -999.000,9, -999.000,9
           NA,     A14,     27,   1,-999.0,      16,  2,19950123,1153,  -5.5012,   -7.9973,  4027, 1844.700,    3.712,   34.960,2,   34.958,2,  241.300,2,  238.700,2,   22.260,2,   21.370,2, -999.000,9,    1.390,2,    0.007,2,    0.004,2, -999.000,9, -999.000,9, -999.000,9
           NA,     A14,     27,   1,-999.0,      15,  2,19950123,1153,  -5.5012,   -7.9973,  4027, 1996.600,    3.528,   34.952,2,   34.948,2,  241.700,2,  240.900,2,   24.180,2,   21.290,2, -999.000,9,    1.390,2,    0.007,2,    0.008,2, -999.000,9, -999.000,9, -999.000,9
           NA,     A14,     27,   1,-999.0,      14,  2,19950123,1153,  -5.5012,   -7.9973,  4027, 2194.300,    3.227,   34.940,2,   34.941,2,  242.100,2,  242.900,2,   29.120,2,   21.500,2, -999.000,9,    1.410,2,    0.002,2,    0.000,2, -999.000,9, -999.000,9, -999.000,9
           NA,     A14,     27,   1,-999.0,      13,  2,19950123,1153,  -5.5012,   -7.9973,  4027, 2395.800,    3.030,   34.931,2,   34.928,2,  240.600,2,  240.700,2,   32.800,2,   21.880,2, -999.000,9,    1.430,2,    0.000,2,   -0.001,2, -999.000,9, -999.000,9, -999.000,9
           NA,     A14,     27,   1,-999.0,      12,  2,19950123,1153,  -5.5012,   -7.9973,  4027, 2595.200,    2.863,   34.922,2,   34.919,2,  239.300,2,  239.500,2,   36.480,2,   22.180,2, -999.000,9,    1.460,2,    0.000,2, -999.000,9, -999.000,9, -999.000,9, -999.000,9
           NA,     A14,     27,   1,-999.0,      11,  2,19950123,1153,  -5.5012,   -7.9973,  4027, 2797.900,    2.708,   34.908,2, -999.000,3,  238.100,2,  239.000,2,   40.760,2,   22.510,2, -999.000,9,    1.490,2,    0.000,2,    0.000,2, -999.000,9, -999.000,9, -999.000,9
           NA,     A14,     27,   1,-999.0,      10,  2,19950123,1153,  -5.5012,   -7.9973,  4027, 2996.300,    2.557,   34.902,2,   34.899,2,  237.500,2,  238.200,2,   44.020,2,   22.680,2, -999.000,9,    1.510,2,    0.004,2, -999.000,9, -999.000,9, -999.000,9, -999.000,9
           NA,     A14,     27,   1,-999.0,       9,  2,19950123,1153,  -5.5012,   -7.9973,  4027, 3196.100,    2.463,   34.895,2,   34.894,2,  237.300,2,  237.800,2,   46.540,2,   22.940,2, -999.000,9,    1.520,2,    0.000,2,    0.000,2, -999.000,9, -999.000,9, -999.000,9
           NA,     A14,     27,   1,-999.0,       8,  2,19950123,1153,  -5.5012,   -7.9973,  4027, 3394.800,    2.434,   34.895,2,   34.891,2,  237.700,2,  237.900,2,   47.540,2,   22.940,2, -999.000,9,    1.530,2,    0.000,2,    0.000,2, -999.000,9, -999.000,9, -999.000,9
           NA,     A14,     27,   1,-999.0,       7,  2,19950123,1153,  -5.5012,   -7.9973,  4027, 3596.500,    2.408,   34.893,2,   34.892,2,  238.500,2,  238.300,2,   47.990,2,   22.940,2, -999.000,9,    1.530,2,    0.005,2,    0.005,2, -999.000,9, -999.000,9, -999.000,9
           NA,     A14,     27,   1,-999.0,       6,  2,19950123,1153,  -5.5012,   -7.9973,  4027, 3796.500,    2.390,   34.890,2,   34.889,2,  239.300,2,  238.800,2,   48.450,2,   23.060,2, -999.000,9,    1.540,2,    0.005,2,    0.005,2, -999.000,9, -999.000,9, -999.000,9
           NA,     A14,     27,   1,-999.0,       5,  2,19950123,1153,  -5.5012,   -7.9973,  4027, 3896.200,    2.378,   34.889,2,   34.887,2,  239.500,2,  239.200,2,   48.910,2,   22.940,2, -999.000,9,    1.530,2,    0.001,2,    0.000,2, -999.000,9, -999.000,9, -999.000,9
           NA,     A14,     27,   1,-999.0,       4,  2,19950123,1153,  -5.5012,   -7.9973,  4027, 3997.300,    2.357,   34.887,2,   34.886,2,  240.400,2,  239.300,2,   49.460,2,   23.020,2, -999.000,9,    1.530,2,    0.001,2, -999.000,9, -999.000,9, -999.000,9, -999.000,9
           NA,     A14,     27,   1,-999.0,       3,  2,19950123,1153,  -5.5012,   -7.9973,  4027, 4069.600,    2.346,   34.886,2,   34.886,2,  240.500,2,  239.200,2,   49.830,2,   23.060,2, -999.000,9,    1.540,2,    0.002,2, -999.000,9, -999.000,9, -999.000,9, -999.000,9