BOTTLE,20213527JOAExport
EXPOCODE,SECT_ID,STNNBR,CASTNO,SAMPNO,BTLNBR,BTLNBR_FLAG_W,DATE,TIME,LATITUDE,LONGITUDE,DEPTH,CTDPRS,CTDTMP,CTDSAL,CTDSAL_FLAG_W,SALNTY,SALNTY_FLAG_W,CTDOXY,CTDOXY_FLAG_W,OXYGEN,OXYGEN_FLAG_W,SILCAT,SILCAT_FLAG_W,NITRAT,NITRAT_FLAG_W,NITRIT,NITRIT_FLAG_W,PHSPHT,PHSPHT_FLAG_W,CFC-11,CFC-11_FLAG_W,CFC-12,CFC-12_FLAG_W,SF6,SF6_FLAG_W,TCARBN,TCARBN_FLAG_W,ALKALI,ALKALI_FLAG_W
,,,,,,,,,,,,DB,DEG C,PSS-78,,PSS-78,,UMOL/KG,,UMOL/KG,,UMOL/KG,,UMOL/KG,,UMOL/KG,,UMOL/KG,,PMOL/KG,,PMOL/KG,,FMOL/KG,,UMOL/KG,,UMOL/KG
           NA,     A14,     69,   1,-999.0,      32,  2,19950202,0054, -26.4960,   -8.9982,  4244,    3.900,   25.358,   36.173,2,   36.174,2,  198.800,2, -999.000,3,    1.800,2,    0.020,2, -999.000,9,    0.150,2,    1.897,2,    1.012,2, -999.000,9, -999.000,9, 2380.900,2
           NA,     A14,     69,   1,-999.0,      31,  2,19950202,0054, -26.4960,   -8.9982,  4244,   46.800,   20.429,   35.913,2, -999.000,3,  236.100,2, -999.000,3,    1.900,2,    0.020,2, -999.000,9,    0.160,2,    2.396,2,    1.221,2, -999.000,9, -999.000,9, -999.000,9
           NA,     A14,     69,   1,-999.0,      30,  2,19950202,0054, -26.4960,   -8.9982,  4244,   96.100,   18.458,   35.838,2,   35.840,2,  239.600,2,  237.400,2,    1.900,2,    0.020,2, -999.000,9,    0.170,2,    2.433,2,    1.219,2, -999.000,9, -999.000,9, -999.000,9
           NA,     A14,     69,   1,-999.0,      29,  2,19950202,0054, -26.4960,   -8.9982,  4244,  143.000,   16.525,   35.592,2, -999.000,3,  226.900,2, -999.000,3,    3.000,2,    4.110,2, -999.000,9,    0.400,2,    2.516,2,    1.248,2, -999.000,9, -999.000,9, -999.000,9
           NA,     A14,     69,   1,-999.0,      28,  2,19950202,0054, -26.4960,   -8.9982,  4244,  195.500,   15.572,   35.460,2,   35.464,2,  214.300,2,  215.400,2,    3.300,2,    5.560,2, -999.000,9,    0.470,2,    2.604,2,    1.284,2, -999.000,9, -999.000,9, -999.000,9
           NA,     A14,     69,   1,-999.0,      27,  2,19950202,0054, -26.4960,   -8.9982,  4244,  297.700,   13.694,   35.312,2,   35.309,2,  232.300,2,  235.100,2,    3.400,2,    7.180,2, -999.000,9,    0.580,2,    2.821,2,    1.383,2, -999.000,9, -999.000,9, -999.000,9
           NA,     A14,     69,   1,-999.0,      26,  2,19950202,0054, -26.4960,   -8.9982,  4244,  395.600,   13.680,   35.341,2,   35.341,2,  239.800,2,  236.700,2,    4.100,2,    7.700,2, -999.000,9,    0.590,2,    2.761,2,    1.339,2, -999.000,9, -999.000,9, -999.000,9
           NA,     A14,     69,   1,-999.0,      25,  2,19950202,0054, -26.4960,   -8.9982,  4244,  490.800,   12.984,   35.218,2,   35.219,2,  229.000,2,  226.600,2,    4.300,2,    9.920,2, -999.000,9,    0.710,2,    2.590,2,    1.234,2, -999.000,9, -999.000,9, -999.000,9
           NA,     A14,     69,   1,-999.0,      24,  2,19950202,0054, -26.4960,   -8.9982,  4244,  594.900,    9.827,   34.762,2,   34.763,2,  216.100,2,  214.400,2,    7.300,2,   17.610,2, -999.000,9,    1.200,2,    2.305,2,    1.070,2, -999.000,9, -999.000,9, -999.000,9
           NA,     A14,     69,   1,-999.0,      23,  2,19950202,0054, -26.4960,   -8.9982,  4244,  695.900,    7.351,   34.512,2,   34.513,2,  208.600,2,  209.700,2,   13.600,2,   23.630,2, -999.000,9,    1.610,2,    2.038,2,    0.908,2, -999.000,9, -999.000,9, -999.000,9
           NA,     A14,     69,   1,-999.0,      22,  2,19950202,0054, -26.4960,   -8.9982,  4244,  795.800,    5.901,   34.404,2, -999.000,3,  207.000,2,  207.600,2,   18.800,2,   27.420,2, -999.000,9,    1.860,2,    1.689,2,    0.751,2, -999.000,9, -999.000,9, -999.000,9
           NA,     A14,     69,   1,-999.0,      21,  2,19950202,0054, -26.4960,   -8.9982,  4244,  995.500,    4.024,   34.393,2,   34.395,2,  186.200,2,  185.800,2,   35.700,2,   32.800,2, -999.000,9,    2.230,2,    0.419,2,    0.197,2, -999.000,9, -999.000,9, -999.000,9
           NA,     A14,     69,   1,-999.0,      20,  2,19950202,0054, -26.4960,   -8.9982,  4244, 1196.100,    3.502,   34.523,2,   34.521,2,  178.600,2,  179.200,2,   43.700,2,   32.930,2, -999.000,9,    2.230,2,    0.055,2,    0.030,2, -999.000,9, -999.000,9, -999.000,9
           NA,     A14,     69,   1,-999.0,      19,  2,19950202,0054, -26.4960,   -8.9982,  4244, 1394.900,    3.259,   34.650,2,   34.651,2,  186.300,2,  187.200,2,   46.500,2,   30.900,2, -999.000,9,    2.090,2,    0.019,2,    0.010,2, -999.000,9, -999.000,9, -999.000,9
           NA,     A14,     69,   1,-999.0,      18,  2,19950202,0054, -26.4960,   -8.9982,  4244, 1596.000,    3.142,   34.727,2,   34.725,2,  198.500,2,  198.100,2,   45.900,2,   28.820,2, -999.000,9,    1.940,2,    0.009,2,    0.002,2, -999.000,9, -999.000,9, -999.000,9
           NA,     A14,     69,   1,-999.0,      17,  2,19950202,0054, -26.4960,   -8.9982,  4244, 1794.900,    2.980,   34.791,2,   34.791,2,  210.700,2,  211.200,2,   45.000,2,   26.800,2, -999.000,9,    1.800,2,    0.006,2,    0.004,2, -999.000,9, -999.000,9, -999.000,9
           NA,     A14,     69,   1,-999.0,      16,  2,19950202,0054, -26.4960,   -8.9982,  4244, 1995.900,    2.785,   34.816,2,   34.816,2,  217.800,2,  217.800,2,   47.400,2,   25.960,2, -999.000,9,    1.750,2,    0.004,2,    0.002,2, -999.000,9, -999.000,9, -999.000,9
           NA,     A14,     69,   1,-999.0,      15,  2,19950202,0054, -26.4960,   -8.9982,  4244, 2196.900,    2.582,   34.841,2, -999.000,3,  226.700,2,  227.700,2,   48.600,2,   24.730,2, -999.000,9,    1.680,2,    0.007,2, -999.000,9, -999.000,9, -999.000,9, -999.000,9
           NA,     A14,     69,   1,-999.0,      14,  2,19950202,0054, -26.4960,   -8.9982,  4244, 2396.400,    2.512,   34.854,2,   34.853,2,  232.000,2,  232.700,2,   48.300,2,   24.130,2, -999.000,9,    1.660,2,    0.005,2,   -0.001,2, -999.000,9, -999.000,9, -999.000,9
           NA,     A14,     69,   1,-999.0,      13,  2,19950202,0054, -26.4960,   -8.9982,  4244, 2596.100,    2.468,   34.863,2,   34.863,2,  235.100,2,  236.300,2,   48.000,2,   23.840,2, -999.000,9,    1.630,2,    0.004,2,    0.001,2, -999.000,9, -999.000,9, -999.000,9
           NA,     A14,     69,   1,-999.0,      12,  2,19950202,0054, -26.4960,   -8.9982,  4244, 2795.500,    2.410,   34.870,2,   34.868,2,  238.400,2,  238.900,2,   48.600,6,   23.540,2, -999.000,9,    1.590,6,    0.003,2,   -0.001,2, -999.000,9, -999.000,9, -999.000,9
           NA,     A14,     69,   1,-999.0,      11,  2,19950202,0054, -26.4960,   -8.9982,  4244, 2996.800,    2.392,   34.873,2,   34.869,2,  239.100,2,  239.400,2,   48.800,2,   23.510,2, -999.000,9,    1.590,2,    0.002,2,    0.004,2, -999.000,9, -999.000,9, -999.000,9
           NA,     A14,     69,   1,-999.0,      10,  2,19950202,0054, -26.4960,   -8.9982,  4244, 2996.900,    2.391,   34.874,2,   34.871,2,  239.100,2,  239.500,2,   48.900,2,   23.520,2, -999.000,9,    1.600,2,    0.007,2, -999.000,9, -999.000,9, -999.000,9, -999.000,9
           NA,     A14,     69,   1,-999.0,       9,  2,19950202,0054, -26.4960,   -8.9982,  4244, 3195.100,    2.368,   34.877,2,   34.876,2,  239.000,2,  239.100,2,   49.900,2,   23.360,2, -999.000,9,    1.580,2,    0.002,2, -999.000,9, -999.000,9, -999.000,9, -999.000,9
           NA,     A14,     69,   1,-999.0,       8,  2,19950202,0054, -26.4960,   -8.9982,  4244, 3395.700,    2.366,   34.878,2,   34.877,2,  237.700,2,  238.700,2,   50.200,2,   23.370,2, -999.000,9,    1.580,2,    0.006,2,    0.002,2, -999.000,9, -999.000,9, -999.000,9
           NA,     A14,     69,   1,-999.0,       7,  2,19950202,0054, -26.4960,   -8.9982,  4244, 3596.100,    2.368,   34.881,2,   34.878,2,  237.400,2,  237.600,2,   50.200,2,   23.460,2, -999.000,9,    1.590,2,    0.002,2,    0.002,2, -999.000,9, -999.000,9, -999.000,9
           NA,     A14,     69,   1,-999.0,       6,  2,19950202,0054, -26.4960,   -8.9982,  4244, 3796.500,    2.377,   34.883,2,   34.882,2,  236.800,2,  237.300,2,   50.700,2,   23.470,2, -999.000,9,    1.580,2,    0.003,2,   -0.001,2, -999.000,9, -999.000,9, -999.000,9
           NA,     A14,     69,   1,-999.0,       5,  2,19950202,0054, -26.4960,   -8.9982,  4244, 3997.100,    2.385,   34.885,2,   34.883,2,  235.500,2,  236.100,2,   51.000,2,   23.430,2, -999.000,9,    1.580,2,    0.005,2,    0.006,2, -999.000,9, -999.000,9, -999.000,9
           NA,     A14,     69,   1,-999.0,       4,  2,19950202,0054, -26.4960,   -8.9982,  4244, 4193.100,    2.401,   34.886,2,   34.884,2,  235.300,2,  235.300,2,   51.300,2,   23.440,2, -999.000,9,    1.580,2,    0.003,2,   -0.001,2, -999.000,9, -999.000,9, -999.000,9
           NA,     A14,     69,   1,-999.0,       3,  2,19950202,0054, -26.4960,   -8.9982,  4244, 4279.500,    2.411,   34.886,2,   34.885,2,  235.500,2,  235.600,2,   51.200,2,   23.450,2, -999.000,9,    1.570,2,    0.003,2,    0.004,2, -999.000,9, -999.000,9, -999.000,9
           NA,     A14,     68,   1,-999.0,      32,  2,19950201,1927, -26.0012,   -9.0015,  4506,    3.000,   25.091,   36.176,2,   36.178,2,  201.300,2, -999.000,3,    1.800,2,    0.020,2, -999.000,9,    0.140,2,    1.963,2,    1.038,2, -999.000,9, -999.000,9, 2379.500,2
           NA,     A14,     68,   1,-999.0,      31,  2,19950201,1927, -26.0012,   -9.0015,  4506,   66.800,   18.840,   35.852,2,   35.849,2,  234.900,2, -999.000,3,    1.800,2,    0.020,2, -999.000,9,    0.140,2,    2.469,2,    1.238,2, -999.000,9, -999.000,9, -999.000,9
           NA,     A14,     68,   1,-999.0,      30,  2,19950201,1927, -26.0012,   -9.0015,  4506,  121.300,   16.997,   35.655,2,   35.651,2,  214.600,2,  218.700,2,    2.700,2,    2.720,2, -999.000,9,    0.330,2,    2.526,2,    1.246,2, -999.000,9, -999.000,9, -999.000,9
           NA,     A14,     68,   1,-999.0,      29,  2,19950201,1927, -26.0012,   -9.0015,  4506,  196.500,   15.186,   35.406,2,   35.404,2,  212.600,2,  215.400,2,    3.200,2,    5.910,2, -999.000,9,    0.500,2,    2.634,2,    1.301,2, -999.000,9, -999.000,9, -999.000,9
           NA,     A14,     68,   1,-999.0,      28,  2,19950201,1927, -26.0012,   -9.0015,  4506,  397.200,   13.698,   35.347,2,   35.347,2,  241.800,2, -999.000,3,    3.800,2,    7.570,2, -999.000,9,    0.580,2,    2.780,2,    1.359,2, -999.000,9, -999.000,9, -999.000,9
           NA,     A14,     68,   1,-999.0,      27,  2,19950201,1927, -26.0012,   -9.0015,  4506,  595.600,   10.164,   34.808,2,   34.808,2,  220.100,2, -999.000,3,    6.700,2,   16.590,2, -999.000,9,    1.150,2,    2.346,2,    1.088,2, -999.000,9, -999.000,9, -999.000,9
           NA,     A14,     68,   1,-999.0,      26,  2,19950201,1927, -26.0012,   -9.0015,  4506,  696.800,    7.571,   34.533,2,   34.534,2,  212.000,2,  210.400,2,   12.800,2,   22.960,2, -999.000,9,    1.590,2,    2.095,2,    0.939,2, -999.000,9, -999.000,9, -999.000,9
           NA,     A14,     68,   1,-999.0,      25,  2,19950201,1927, -26.0012,   -9.0015,  4506,  796.400,    5.481,   34.381,2,   34.383,2,  208.600,2,  206.900,2,   20.900,2,   28.360,2, -999.000,9,    1.950,2,    1.569,2,    0.697,2, -999.000,9, -999.000,9, -999.000,9
           NA,     A14,     68,   1,-999.0,      24,  2,19950201,1927, -26.0012,   -9.0015,  4506,  995.300,    3.980,   34.410,2,   34.410,2,  180.600,2,  180.400,2,   36.500,2,   33.010,2, -999.000,9,    2.260,2,    0.298,2,    0.138,2, -999.000,9, -999.000,9, -999.000,9
           NA,     A14,     68,   1,-999.0,      23,  2,19950201,1927, -26.0012,   -9.0015,  4506, 1195.500,    3.437,   34.522,2,   34.521,2,  179.700,2,  179.300,2,   45.500,2,   32.470,2, -999.000,9,    2.240,2,    0.072,2,    0.013,2, -999.000,9, -999.000,9, -999.000,9
           NA,     A14,     68,   1,-999.0,      22,  2,19950201,1927, -26.0012,   -9.0015,  4506, 1395.800,    3.231,   34.643,2,   34.645,2,  183.100,2,  185.200,2,   48.000,2,   30.740,2, -999.000,9,    2.110,2,    0.033,2,    0.019,2, -999.000,9, -999.000,9, -999.000,9
           NA,     A14,     68,   1,-999.0,      21,  2,19950201,1927, -26.0012,   -9.0015,  4506, 1595.700,    3.201,   34.762,2,   34.763,2,  197.400,2, -999.000,3,   42.600,2,   27.600,2, -999.000,9,    1.880,2,    0.003,2,    0.003,2, -999.000,9, -999.000,9, -999.000,9
           NA,     A14,     68,   1,-999.0,      20,  2,19950201,1927, -26.0012,   -9.0015,  4506, 1796.100,    3.098,   34.805,2,   34.805,2,  212.700,2,  212.200,2,   41.600,2,   26.050,2, -999.000,9,    1.780,2,    0.003,2,    0.001,2, -999.000,9, -999.000,9, -999.000,9
           NA,     A14,     68,   1,-999.0,      19,  2,19950201,1927, -26.0012,   -9.0015,  4506, 1995.500,    2.826,   34.835,2,   34.834,2,  221.300,2,  222.500,2,   44.300,2,   24.800,2, -999.000,9,    1.700,2,    0.002,2,   -0.001,2, -999.000,9, -999.000,9, -999.000,9
           NA,     A14,     68,   1,-999.0,      17,  2,19950201,1927, -26.0012,   -9.0015,  4506, 2295.700,    2.551,   34.847,2,   34.845,2,  227.600,2,  229.000,2,   48.500,2,   24.410,2, -999.000,9,    1.670,2,    0.002,2,   -0.002,2, -999.000,9, -999.000,9, -999.000,9
           NA,     A14,     68,   1,-999.0,      18,  2,19950201,1927, -26.0012,   -9.0015,  4506, 2295.700,    2.556,   34.846,2,   34.844,2,  227.600,2,  229.200,2,   48.700,2,   24.330,2, -999.000,9,    1.660,2,    0.003,2,   -0.005,2, -999.000,9, -999.000,9, -999.000,9
           NA,     A14,     68,   1,-999.0,      16,  2,19950201,1927, -26.0012,   -9.0015,  4506, 2597.300,    2.486,   34.861,2,   34.858,2,  233.700,2,  235.000,2,   48.500,2,   23.730,2, -999.000,9,    1.620,2,    0.001,2,    0.002,2, -999.000,9, -999.000,9, -999.000,9
           NA,     A14,     68,   1,-999.0,      15,  2,19950201,1927, -26.0012,   -9.0015,  4506, 2797.100,    2.437,   34.869,2,   34.864,2,  237.300,2,  238.100,2,   48.400,2,   23.410,2, -999.000,9,    1.600,2,    0.006,2,    0.002,2, -999.000,9, -999.000,9, -999.000,9
           NA,     A14,     68,   1,-999.0,      14,  2,19950201,1927, -26.0012,   -9.0015,  4506, 2996.800,    2.408,   34.872,2,   34.871,2,  238.600,2,  240.000,2,   48.400,2,   23.270,2, -999.000,9,    1.580,2,    0.001,2,    0.001,2, -999.000,9, -999.000,9, -999.000,9
           NA,     A14,     68,   1,-999.0,      13,  2,19950201,1927, -26.0012,   -9.0015,  4506, 3197.000,    2.377,   34.876,2,   34.874,2,  238.700,2,  241.300,2,   49.500,2, -999.000,9, -999.000,9,    1.580,2,    0.001,2,   -0.001,2, -999.000,9, -999.000,9, -999.000,9
           NA,     A14,     68,   1,-999.0,      12,  2,19950201,1927, -26.0012,   -9.0015,  4506, 3395.600,    2.359,   34.878,2,   34.878,2,  237.700,2,  238.800,2,   50.200,2,   23.210,2, -999.000,9,    1.560,2,    0.002,2,    0.002,2, -999.000,9, -999.000,9, -999.000,9
           NA,     A14,     68,   1,-999.0,      11,  2,19950201,1927, -26.0012,   -9.0015,  4506, 3595.600,    2.357,   34.883,2,   34.877,2,  237.100,2,  237.400,2,   50.400,2, -999.000,9, -999.000,9,    1.560,2,    0.003,2,    0.003,2, -999.000,9, -999.000,9, -999.000,9
           NA,     A14,     68,   1,-999.0,       9,  2,19950201,1927, -26.0012,   -9.0015,  4506, 3795.800,    2.371,   34.884,2,   34.881,2,  236.300,2,  237.000,2,   50.600,2,   23.180,2, -999.000,9,    1.560,2,    0.002,2,    0.002,2, -999.000,9, -999.000,9, -999.000,9
           NA,     A14,     68,   1,-999.0,      10,  2,19950201,1927, -26.0012,   -9.0015,  4506, 3796.400,    2.371,   34.884,2,   34.884,2,  236.300,2,  236.600,2,   50.500,2,   23.190,2, -999.000,9,    1.580,2,    0.009,2,    0.002,2, -999.000,9, -999.000,9, -999.000,9
           NA,     A14,     68,   1,-999.0,       8,  2,19950201,1927, -26.0012,   -9.0015,  4506, 3997.000,    2.386,   34.884,2,   34.882,2,  235.600,2,  236.100,2,   50.400,2,   23.260,2, -999.000,9,    1.560,2,    0.001,2,   -0.003,2, -999.000,9, -999.000,9, -999.000,9
           NA,     A14,     68,   1,-999.0,       7,  2,19950201,1927, -26.0012,   -9.0015,  4506, 4096.600,    2.394,   34.885,2,   34.883,2,  235.400,2,  235.700,2,   50.600,2,   23.260,2, -999.000,9,    1.570,2,    0.002,2,   -0.002,2, -999.000,9, -999.000,9, -999.000,9
           NA,     A14,     68,   1,-999.0,       6,  2,19950201,1927, -26.0012,   -9.0015,  4506, 4196.700,    2.404,   34.885,2,   34.885,2,  235.200,2,  235.500,2,   50.700,2,   23.250,2, -999.000,9,    1.570,2,    0.001,2,    0.003,2, -999.000,9, -999.000,9, -999.000,9
           NA,     A14,     68,   1,-999.0,       5,  2,19950201,1927, -26.0012,   -9.0015,  4506, 4397.400,    2.421,   34.887,2,   34.884,2,  234.700,2,  235.300,2,   50.800,2,   23.330,2, -999.000,9,    1.570,2,    0.002,2,    0.004,2, -999.000,9, -999.000,9, -999.000,9
           NA,     A14,     68,   1,-999.0,       4,  2,19950201,1927, -26.0012,   -9.0015,  4506, 4497.600,    2.430,   34.885,2,   34.885,2,  234.400,2,  234.700,2,   50.900,2,   23.370,2, -999.000,9,    1.570,2,    0.003,2, -999.000,9, -999.000,9, -999.000,9, -999.000,9
           NA,     A14,     68,   1,-999.0,       3,  2,19950201,1927, -26.0012,   -9.0015,  4506, 4560.600,    2.437,   34.886,2,   34.887,2,  234.900,2,  234.900,2,   51.000,2,   23.400,2, -999.000,9,    1.580,2,    0.001,2, -999.000,9, -999.000,9, -999.000,9, -999.000,9