BOTTLE,20213527JOAExport
EXPOCODE,SECT_ID,STNNBR,CASTNO,SAMPNO,BTLNBR,BTLNBR_FLAG_W,DATE,TIME,LATITUDE,LONGITUDE,DEPTH,CTDPRS,CTDTMP,CTDSAL,CTDSAL_FLAG_W,SALNTY,SALNTY_FLAG_W,CTDOXY,CTDOXY_FLAG_W,OXYGEN,OXYGEN_FLAG_W,SILCAT,SILCAT_FLAG_W,NITRAT,NITRAT_FLAG_W,NITRIT,NITRIT_FLAG_W,PHSPHT,PHSPHT_FLAG_W,CFC-11,CFC-11_FLAG_W,CFC-12,CFC-12_FLAG_W,SF6,SF6_FLAG_W,TCARBN,TCARBN_FLAG_W,ALKALI,ALKALI_FLAG_W
,,,,,,,,,,,,DB,DEG C,PSS-78,,PSS-78,,UMOL/KG,,UMOL/KG,,UMOL/KG,,UMOL/KG,,UMOL/KG,,UMOL/KG,,PMOL/KG,,PMOL/KG,,FMOL/KG,,UMOL/KG,,UMOL/KG
           NA,     A14,     97,   1,-999.0,      32,  2,19950209,0714, -40.5083,   -9.0028,  3452,    6.200,   13.840,   34.783,2,   34.787,2,  263.600,2,  264.100,2,    0.300,2,    2.440,2, -999.000,9,    0.360,2,    3.232,2,    1.565,2, -999.000,9, 2043.500,6, 2307.700,2
           NA,     A14,     97,   1,-999.0,      31,  2,19950209,0714, -40.5083,   -9.0028,  3452,   46.900,   12.467,   34.815,2, -999.000,3,  268.900,2, -999.000,3,    1.700,2,    6.290,2, -999.000,9,    0.590,2,    3.396,2,    1.666,2, -999.000,9, 2073.700,2, 2309.100,2
           NA,     A14,     97,   1,-999.0,      30,  2,19950209,0714, -40.5083,   -9.0028,  3452,  105.400,   11.334,   34.873,2,   34.877,2,  260.600,2,  255.900,2,    2.400,2,    8.980,2, -999.000,9,    0.700,2,    3.472,2,    1.686,2, -999.000,9, 2088.900,2, 2308.500,2
           NA,     A14,     97,   1,-999.0,      29,  2,19950209,0714, -40.5083,   -9.0028,  3452,  195.600,    9.845,   34.729,2,   34.734,2,  259.900,2,  256.800,2,    3.300,2,   12.510,2, -999.000,9,    0.900,2,    3.558,2,    1.713,2, -999.000,9, 2099.300,2, 2302.000,2
           NA,     A14,     97,   1,-999.0,      28,  2,19950209,0714, -40.5083,   -9.0028,  3452,  293.700,    8.563,   34.599,2,   34.602,2,  242.600,2, -999.000,3,    5.900,2,   18.380,2, -999.000,9,    1.250,2,    3.246,2,    1.515,2, -999.000,9, 2123.200,2, 2295.500,2
           NA,     A14,     97,   1,-999.0,      27,  2,19950209,0714, -40.5083,   -9.0028,  3452,  394.600,    6.827,   34.424,2,   34.427,2,  228.500,2,  230.100,2,    9.500,2,   23.210,2, -999.000,9,    1.580,2,    3.039,2,    1.377,2, -999.000,9, 2140.900,2, 2289.900,2
           NA,     A14,     97,   1,-999.0,      26,  2,19950209,0714, -40.5083,   -9.0028,  3452,  496.900,    5.592,   34.308,2,   34.312,2,  239.400,2,  238.900,2,   12.300,2,   25.510,2, -999.000,9,    1.740,2,    3.014,2,    1.336,2, -999.000,9, 2150.300,2, 2284.900,2
           NA,     A14,     97,   1,-999.0,      25,  2,19950209,0714, -40.5083,   -9.0028,  3452,  595.700,    4.864,   34.257,2,   34.256,2,  247.000,2,  246.500,2,   14.500,2,   26.920,2, -999.000,9,    1.820,2,    2.982,2, -999.000,9, -999.000,9, 2152.000,2, 2287.500,2
           NA,     A14,     97,   1,-999.0,      24,  2,19950209,0714, -40.5083,   -9.0028,  3452,  697.600,    4.221,   34.232,2,   34.232,2,  249.200,2,  249.400,2,   18.500,2,   28.160,2, -999.000,9,    1.900,2,    2.732,2,    1.215,2, -999.000,9, 2158.600,2, 2290.400,2
           NA,     A14,     97,   1,-999.0,      23,  2,19950209,0714, -40.5083,   -9.0028,  3452,  796.400,    3.656,   34.233,2,   34.233,2,  242.700,2,  244.800,2,   24.700,2,   29.750,2, -999.000,9,    2.000,2,    2.337,2,    1.035,2, -999.000,9, 2171.500,2, 2294.700,2
           NA,     A14,     97,   1,-999.0,      22,  2,19950209,0714, -40.5083,   -9.0028,  3452,  897.400,    3.269,   34.252,2,   34.254,2,  231.900,2,  235.700,2,   30.900,2,   31.040,2, -999.000,9,    2.080,2,    1.944,2,    0.877,2, -999.000,9, 2182.000,2, 2301.900,2
           NA,     A14,     97,   1,-999.0,      21,  2,19950209,0714, -40.5083,   -9.0028,  3452,  995.800,    2.988,   34.292,2,   34.292,2,  223.200,2,  223.600,2,   38.000,2,   32.280,2, -999.000,9,    2.160,2,    1.521,2,    0.681,2, -999.000,9, 2196.600,2, 2306.500,2
           NA,     A14,     97,   1,-999.0,      20,  2,19950209,0714, -40.5083,   -9.0028,  3452, 1096.800,    2.855,   34.334,2,   34.333,2,  210.300,2,  213.400,2,   43.700,2, -999.000,9, -999.000,9, -999.000,9,    1.177,2,    0.530,2, -999.000,9, 2207.300,2, 2312.600,2
           NA,     A14,     97,   1,-999.0,      19,  2,19950209,0714, -40.5083,   -9.0028,  3452, 1196.800,    2.781,   34.377,2,   34.379,2,  198.600,2,  203.400,2,   49.100,6,   33.350,2, -999.000,9,    2.270,6,    0.873,2,    0.390,2, -999.000,9, 2215.900,2, 2317.900,2
           NA,     A14,     97,   1,-999.0,      18,  2,19950209,0714, -40.5083,   -9.0028,  3452, 1292.600,    2.707,   34.438,2,   34.440,2,  190.100,2,  192.800,2,   55.700,2,   33.800,2, -999.000,9,    2.290,2,    0.614,2,    0.246,2, -999.000,9, 2225.400,2, 2324.700,2
           NA,     A14,     97,   1,-999.0,      17,  2,19950209,0714, -40.5083,   -9.0028,  3452, 1394.500,    2.689,   34.500,2,   34.503,2,  185.700,2,  183.700,2,   59.800,2,   33.740,2, -999.000,9,    2.280,2,    0.390,2,    0.186,2, -999.000,9, 2231.200,2, 2331.100,2
           NA,     A14,     97,   1,-999.0,      16,  2,19950209,0714, -40.5083,   -9.0028,  3452, 1494.500,    2.682,   34.560,2,   34.560,2,  183.000,2,  183.600,2,   62.400,2,   33.470,2, -999.000,9,    2.240,2,    0.247,2,    0.133,2, -999.000,9, 2234.900,2, 2335.600,2
           NA,     A14,     97,   1,-999.0,      15,  2,19950209,0714, -40.5083,   -9.0028,  3452, 1594.400,    2.681,   34.612,2,   34.612,2,  183.400,2,  184.100,2,   63.700,2,   32.780,6, -999.000,9,    2.210,6,    0.157,2,    0.087,2, -999.000,9, 2235.500,2, 2336.300,2
           NA,     A14,     97,   1,-999.0,      14,  2,19950209,0714, -40.5083,   -9.0028,  3452, 1796.600,    2.667,   34.688,2,   34.688,2,  186.700,2,  189.500,2,   64.500,2,   31.260,2, -999.000,9,    2.100,2,    0.079,2,    0.044,2, -999.000,9, 2231.500,2, 2342.300,2
           NA,     A14,     97,   1,-999.0,      13,  2,19950209,0714, -40.5083,   -9.0028,  3452, 1994.600,    2.628,   34.748,2,   34.749,2,  196.900,2,  198.800,2,   62.700,2,   29.550,2, -999.000,9,    2.000,2,    0.049,2,    0.030,2, -999.000,9, 2225.000,2, 2343.200,2
           NA,     A14,     97,   1,-999.0,      12,  2,19950209,0714, -40.5083,   -9.0028,  3452, 2196.900,    2.561,   34.785,2,   34.787,2,  205.200,2,  206.700,2,   62.200,6,   28.280,2, -999.000,9,    1.900,6,    0.028,2,    0.017,2, -999.000,9, 2220.500,2, 2344.700,2
           NA,     A14,     97,   1,-999.0,      11,  2,19950209,0714, -40.5083,   -9.0028,  3452, 2396.300,    2.459,   34.802,2,   34.805,2,  211.800,2,  212.000,2,   63.200,2,   27.600,2, -999.000,9,    1.870,2,    0.020,2,    0.012,2, -999.000,9, 2217.200,2, 2346.700,2
           NA,     A14,     97,   1,-999.0,      10,  2,19950209,0714, -40.5083,   -9.0028,  3452, 2597.000,    2.336,   34.812,2,   34.813,2,  215.000,2,  216.300,2,   65.000,2,   27.360,2, -999.000,9,    1.870,2,    0.022,2,    0.013,2, -999.000,9, 2216.800,2, 2347.400,2
           NA,     A14,     97,   1,-999.0,       8,  2,19950209,0714, -40.5083,   -9.0028,  3452, 2796.000,    2.245,   34.815,2,   34.815,2,  217.600,2,  218.600,2,   66.900,2, -999.000,9, -999.000,9,    1.830,2,    0.013,2, -999.000,9, -999.000,9, 2218.200,2, 2348.600,2
           NA,     A14,     97,   1,-999.0,       9,  2,19950209,0714, -40.5083,   -9.0028,  3452, 2796.200,    2.246,   34.815,2,   34.817,2,  217.600,2,  218.700,2,   66.700,6,   27.080,6, -999.000,9,    1.830,6,    0.013,2,    0.011,2, -999.000,9, -999.000,9, 2348.500,2
           NA,     A14,     97,   1,-999.0,       7,  2,19950209,0714, -40.5083,   -9.0028,  3452, 2996.200,    2.179,   34.816,2,   34.817,2,  219.100,2,  219.800,2,   68.900,2,   27.060,2, -999.000,9,    1.830,2,    0.012,2,    0.009,2, -999.000,9, -999.000,9, 2350.400,2
           NA,     A14,     97,   1,-999.0,       6,  2,19950209,0714, -40.5083,   -9.0028,  3452, 2997.500,    2.179,   34.815,2,   34.817,2,  219.200,2,  220.000,2,   69.300,2,   27.120,2, -999.000,9,    1.830,2,    0.014,2,    0.014,2, -999.000,9, 2218.700,2, 2350.200,2
           NA,     A14,     97,   1,-999.0,       5,  2,19950209,0714, -40.5083,   -9.0028,  3452, 3198.500,    2.113,   34.813,2,   34.813,2,  219.600,2,  220.700,2,   70.900,2,   27.230,2, -999.000,9,    1.830,2,    0.009,2,    0.015,2, -999.000,9, 2220.600,2, 2351.900,2
           NA,     A14,     97,   1,-999.0,       4,  2,19950209,0714, -40.5083,   -9.0028,  3452, 3398.100,    1.972,   34.804,2,   34.804,2,  219.600,2,  220.700,2,   75.300,2,   27.640,6, -999.000,9,    1.860,6,    0.013,2,    0.007,2, -999.000,9, 2224.100,2, 2355.000,2
           NA,     A14,     97,   1,-999.0,       3,  2,19950209,0714, -40.5083,   -9.0028,  3452, 3481.000,    1.895,   34.800,2,   34.800,2,  219.400,2,  220.200,2,   78.700,2,   27.820,2, -999.000,9,    1.880,2,    0.013,2,    0.015,2, -999.000,9, 2226.800,6, 2356.400,2
           NA,     A14,     96,   1,-999.0,      32,  2,19950208,1414, -40.0000,   -9.0045,  3627,    4.000,   14.691,   34.839,2,   34.843,2,  265.100,2,  261.900,2,    0.400,2,    1.770,2, -999.000,9,    0.290,2,    3.125,2,    1.500,2, -999.000,9, -999.000,9, 2309.700,2
           NA,     A14,     96,   1,-999.0,      31,  2,19950208,1414, -40.0000,   -9.0045,  3627,   46.500,   12.588,   34.917,2,   34.919,2,  265.500,2, -999.000,3,    1.900,2,    5.760,2, -999.000,9,    0.560,2,    3.381,2,    1.621,2, -999.000,9, -999.000,9, -999.000,9
           NA,     A14,     96,   1,-999.0,      30,  2,19950208,1414, -40.0000,   -9.0045,  3627,   96.100,   11.416,   34.908,2,   34.910,2,  258.700,2,  255.400,2,    2.600,2,    8.540,2, -999.000,9,    0.680,2,    3.465,2,    1.655,2, -999.000,9, -999.000,9, -999.000,9
           NA,     A14,     96,   1,-999.0,      29,  2,19950208,1414, -40.0000,   -9.0045,  3627,  147.500,   10.973,   34.888,2,   34.891,2,  255.400,2,  252.100,2,    2.600,2,    9.930,2, -999.000,9,    0.750,2,    3.472,2,    1.648,2, -999.000,9, -999.000,9, -999.000,9
           NA,     A14,     96,   1,-999.0,      28,  2,19950208,1414, -40.0000,   -9.0045,  3627,  195.200,   10.470,   34.827,2,   34.826,2,  254.100,2, -999.000,3,    3.100,2,   11.410,2, -999.000,9,    0.840,2,    3.451,2,    1.637,2, -999.000,9, -999.000,9, -999.000,9
           NA,     A14,     96,   1,-999.0,      26,  2,19950208,1414, -40.0000,   -9.0045,  3627,  295.300,    9.408,   34.701,2,   34.702,2,  242.300,2, -999.000,3,    4.800,2,   15.760,2, -999.000,9,    1.120,2,    3.295,2,    1.547,2, -999.000,9, -999.000,9, -999.000,9
           NA,     A14,     96,   1,-999.0,      27,  2,19950208,1414, -40.0000,   -9.0045,  3627,  296.100,    9.404,   34.701,2,   34.703,2,  242.500,2, -999.000,3,    4.800,2,   15.800,2, -999.000,9,    1.100,2,    3.285,2,    1.535,2, -999.000,9, -999.000,9, -999.000,9
           NA,     A14,     96,   1,-999.0,      25,  2,19950208,1414, -40.0000,   -9.0045,  3627,  396.000,    6.946,   34.433,2,   34.433,2,  228.400,2,  228.800,2,    8.600,2,   22.800,2, -999.000,9,    1.580,2,    3.055,2, -999.000,9, -999.000,9, -999.000,9, -999.000,9
           NA,     A14,     96,   1,-999.0,      24,  2,19950208,1414, -40.0000,   -9.0045,  3627,  495.700,    5.212,   34.274,2,   34.273,2,  239.800,2, -999.000,3,   12.900,2,   25.740,2, -999.000,9,    1.790,2,    3.087,2,    1.353,2, -999.000,9, -999.000,9, -999.000,9
           NA,     A14,     96,   1,-999.0,      23,  2,19950208,1414, -40.0000,   -9.0045,  3627,  595.000,    4.672,   34.246,2,   34.244,2,  249.400,2,  248.800,2,   15.000,2,   26.690,2, -999.000,9,    1.840,2,    2.906,2,    1.263,2, -999.000,9, -999.000,9, -999.000,9
           NA,     A14,     96,   1,-999.0,      22,  2,19950208,1414, -40.0000,   -9.0045,  3627,  696.100,    4.256,   34.234,2,   34.233,2,  249.100,2,  248.600,2,   18.300,2,   27.700,2, -999.000,9,    1.910,2,    2.707,2,    1.180,2, -999.000,9, -999.000,9, -999.000,9
           NA,     A14,     96,   1,-999.0,      21,  2,19950208,1414, -40.0000,   -9.0045,  3627,  796.400,    3.695,   34.238,2,   34.235,2,  242.700,2,  243.300,2,   24.500,2,   29.180,2, -999.000,9,    2.000,2,    2.316,2,    1.005,2, -999.000,9, -999.000,9, -999.000,9
           NA,     A14,     96,   1,-999.0,      20,  2,19950208,1414, -40.0000,   -9.0045,  3627,  893.900,    3.404,   34.253,2,   34.250,2,  239.300,2,  235.800,2,   29.500,2,   30.310,2, -999.000,9,    2.080,2,    1.953,2,    0.852,2, -999.000,9, -999.000,9, -999.000,9
           NA,     A14,     96,   1,-999.0,      19,  2,19950208,1414, -40.0000,   -9.0045,  3627,  995.900,    3.065,   34.291,2,   34.288,2,  228.600,2,  224.300,2,   37.000,2,   31.730,2, -999.000,9,    2.170,2,    1.503,2,    0.651,2, -999.000,9, -999.000,9, -999.000,9
           NA,     A14,     96,   1,-999.0,      18,  2,19950208,1414, -40.0000,   -9.0045,  3627, 1093.000,    2.937,   34.322,2,   34.319,2,  218.100,2,  216.300,2,   41.400,2,   32.570,2, -999.000,9,    2.210,2,    1.263,2,    0.556,2, -999.000,9, -999.000,9, -999.000,9
           NA,     A14,     96,   1,-999.0,      17,  2,19950208,1414, -40.0000,   -9.0045,  3627, 1197.400,    2.843,   34.373,2,   34.370,2,  207.400,2,  206.200,2,   47.300,6,   32.540,2, -999.000,9,    2.250,6,    0.942,2,    0.408,2, -999.000,9, -999.000,9, -999.000,9
           NA,     A14,     96,   1,-999.0,      16,  2,19950208,1414, -40.0000,   -9.0045,  3627, 1394.200,    2.712,   34.521,2,   34.520,2,  190.800,2,  187.800,2,   59.300,6,   32.720,2, -999.000,9,    2.260,6,    0.151,2,    0.075,2, -999.000,9, -999.000,9, -999.000,9
           NA,     A14,     96,   1,-999.0,      15,  2,19950208,1414, -40.0000,   -9.0045,  3627, 1595.600,    2.700,   34.620,2,   34.618,2,  187.800,2,  187.200,2,   61.900,6,   31.600,2, -999.000,9,    2.180,6,    0.151,2,    0.075,2, -999.000,9, -999.000,9, -999.000,9
           NA,     A14,     96,   1,-999.0,      14,  2,19950208,1414, -40.0000,   -9.0045,  3627, 1795.600,    2.698,   34.685,2,   34.682,2,  190.900,2,  191.000,2,   62.700,2,   30.340,2, -999.000,9,    2.100,2,    0.079,2,    0.037,2, -999.000,9, -999.000,9, -999.000,9
           NA,     A14,     96,   1,-999.0,      13,  2,19950208,1414, -40.0000,   -9.0045,  3627, 1994.100,    2.655,   34.731,2,   34.728,2,  201.200,2,  199.500,2,   60.800,2,   28.930,2, -999.000,9,    1.990,2,    0.054,2,    0.026,2, -999.000,9, -999.000,9, -999.000,9
           NA,     A14,     96,   1,-999.0,      12,  2,19950208,1414, -40.0000,   -9.0045,  3627, 2195.100,    2.633,   34.781,2,   34.777,2,  208.300,2,  208.100,2,   58.500,2,   27.390,2, -999.000,9,    1.880,2,    0.025,2,    0.014,2, -999.000,9, -999.000,9, -999.000,9
           NA,     A14,     96,   1,-999.0,      11,  2,19950208,1414, -40.0000,   -9.0045,  3627, 2394.800,    2.542,   34.798,2,   34.795,2,  211.600,2,  211.200,2,   60.700,6,   26.950,6, -999.000,9,    1.860,6,    0.023,2,    0.011,2, -999.000,9, -999.000,9, -999.000,9
           NA,     A14,     96,   1,-999.0,      10,  2,19950208,1414, -40.0000,   -9.0045,  3627, 2596.100,    2.430,   34.812,2,   34.810,2,  215.600,2,  215.200,2,   62.700,6,   26.390,2, -999.000,9,    1.830,6,    0.017,2,    0.012,2, -999.000,9, -999.000,9, -999.000,9
           NA,     A14,     96,   1,-999.0,       9,  2,19950208,1414, -40.0000,   -9.0045,  3627, 2796.100,    2.321,   34.817,2,   34.815,2,  218.300,2,  218.200,2,   64.100,6,   26.280,2, -999.000,9,    1.820,6,    0.015,2,    0.012,2, -999.000,9, -999.000,9, -999.000,9
           NA,     A14,     96,   1,-999.0,       8,  2,19950208,1414, -40.0000,   -9.0045,  3627, 2995.800,    2.247,   34.818,2,   34.815,2,  219.400,2,  219.400,2,   67.200,2,   26.290,2, -999.000,9,    1.830,2,    0.013,2,    0.006,2, -999.000,9, -999.000,9, -999.000,9
           NA,     A14,     96,   1,-999.0,       7,  2,19950208,1414, -40.0000,   -9.0045,  3627, 3166.600,    2.210,   34.818,2,   34.816,2,  221.000,2,  220.800,2,   68.200,2,   26.290,2, -999.000,9,    1.830,2,    0.013,2,    0.006,2, -999.000,9, -999.000,9, -999.000,9
           NA,     A14,     96,   1,-999.0,       5,  2,19950208,1414, -40.0000,   -9.0045,  3627, 3394.900,    2.103,   34.814,2,   34.810,2,  221.400,2,  221.000,2,   71.700,2,   26.600,2, -999.000,9,    1.840,2,    0.008,2,    0.008,2, -999.000,9, -999.000,9, -999.000,9
           NA,     A14,     96,   1,-999.0,       6,  2,19950208,1414, -40.0000,   -9.0045,  3627, 3395.400,    2.104,   34.813,2,   34.812,2,  221.400,2,  221.000,2,   71.500,6,   26.640,2, -999.000,9,    1.840,6,    0.009,2,    0.006,2, -999.000,9, -999.000,9, -999.000,9
           NA,     A14,     96,   1,-999.0,       4,  2,19950208,1414, -40.0000,   -9.0045,  3627, 3595.100,    1.928,   34.802,2,   34.800,2,  220.700,2,  220.400,2,   78.100,2,   27.190,2, -999.000,9,    1.890,2,    0.010,2,    0.006,2, -999.000,9, -999.000,9, -999.000,9
           NA,     A14,     96,   1,-999.0,       3,  2,19950208,1414, -40.0000,   -9.0045,  3627, 3670.100,    1.822,   34.795,2,   34.793,2,  218.500,2,  220.500,2,   81.400,2,   27.550,2, -999.000,9,    1.910,2,    0.013,2,    0.004,2, -999.000,9, -999.000,9, -999.000,9