BOTTLE,20213527JOAExport
EXPOCODE,SECT_ID,STNNBR,CASTNO,SAMPNO,BTLNBR,BTLNBR_FLAG_W,DATE,TIME,LATITUDE,LONGITUDE,DEPTH,CTDPRS,CTDTMP,CTDSAL,CTDSAL_FLAG_W,SALNTY,SALNTY_FLAG_W,CTDOXY,CTDOXY_FLAG_W,OXYGEN,OXYGEN_FLAG_W,SILCAT,SILCAT_FLAG_W,NITRAT,NITRAT_FLAG_W,NITRIT,NITRIT_FLAG_W,PHSPHT,PHSPHT_FLAG_W,CFC-11,CFC-11_FLAG_W,CFC-12,CFC-12_FLAG_W,SF6,SF6_FLAG_W,TCARBN,TCARBN_FLAG_W,ALKALI,ALKALI_FLAG_W
,,,,,,,,,,,,DB,DEG C,PSS-78,,PSS-78,,UMOL/KG,,UMOL/KG,,UMOL/KG,,UMOL/KG,,UMOL/KG,,UMOL/KG,,PMOL/KG,,PMOL/KG,,FMOL/KG,,UMOL/KG,,UMOL/KG
           NA,     A14,     75,   1,-999.0,      32,  2,19950203,0935, -29.4967,   -9.0028,  3793,    4.500,   23.446,   35.944,2,   35.946,2,  201.900,2, -999.000,3,    1.800,2,    0.020,2, -999.000,9,    0.150,2,    2.071,2,    1.064,2, -999.000,9, -999.000,9, 2365.800,2
           NA,     A14,     75,   1,-999.0,      31,  2,19950203,0935, -29.4967,   -9.0028,  3793,   47.500,   22.022,   35.974,2,   35.971,2,  228.300,2, -999.000,3,    1.900,2,    0.020,2, -999.000,9,    0.160,2,    2.039,2,    1.025,2, -999.000,9, -999.000,9, -999.000,9
           NA,     A14,     75,   1,-999.0,      30,  2,19950203,0935, -29.4967,   -9.0028,  3793,   71.000,   18.802,   35.773,2,   35.770,2,  248.000,2,  244.100,2,    1.700,2,    0.020,2, -999.000,9,    0.160,2,    2.507,2,    1.241,2, -999.000,9, -999.000,9, -999.000,9
           NA,     A14,     75,   1,-999.0,      29,  2,19950203,0935, -29.4967,   -9.0028,  3793,   97.600,   17.879,   35.734,2,   35.732,2,  244.500,2,  242.900,2,    1.700,2,    0.020,2, -999.000,9,    0.160,2,    2.540,2,    1.258,2, -999.000,9, -999.000,9, -999.000,9
           NA,     A14,     75,   1,-999.0,      28,  2,19950203,0935, -29.4967,   -9.0028,  3793,  147.900,   16.951,   35.679,2,   35.677,2,  227.400,2,  227.800,2,    2.000,2,    1.500,2, -999.000,9,    0.260,2,    2.569,2,    1.267,2, -999.000,9, -999.000,9, -999.000,9
           NA,     A14,     75,   1,-999.0,      27,  2,19950203,0935, -29.4967,   -9.0028,  3793,  196.800,   15.921,   35.503,2,   35.505,2,  221.800,2,  221.400,2,    2.500,2,    3.640,2, -999.000,9,    0.380,2,    2.630,2,    1.295,2, -999.000,9, -999.000,9, -999.000,9
           NA,     A14,     75,   1,-999.0,      26,  2,19950203,0935, -29.4967,   -9.0028,  3793,  296.200,   13.480,   35.184,2,   35.183,2,  209.800,2,  210.500,2,    3.800,2,    9.730,2, -999.000,9,    0.710,2,    2.647,2,    1.276,2, -999.000,9, -999.000,9, -999.000,9
           NA,     A14,     75,   1,-999.0,      25,  2,19950203,0935, -29.4967,   -9.0028,  3793,  395.400,   11.917,   35.033,2,   35.031,2,  210.900,2,  212.600,2,    4.700,2,   13.000,2, -999.000,9,    0.900,2,    2.550,2,    1.192,2, -999.000,9, -999.000,9, -999.000,9
           NA,     A14,     75,   1,-999.0,      24,  2,19950203,0935, -29.4967,   -9.0028,  3793,  495.800,    9.778,   34.762,2,   34.766,2,  204.000,2,  203.000,2,    8.000,2,   18.760,2, -999.000,9,    1.280,2,    2.251,2,    1.031,2, -999.000,9, -999.000,9, -999.000,9
           NA,     A14,     75,   1,-999.0,      23,  2,19950203,0935, -29.4967,   -9.0028,  3793,  596.800,    8.038,   34.586,2,   34.588,2,  197.600,2,  196.200,2,   12.800,2,   23.470,2, -999.000,9,    1.600,2,    1.914,2,    0.866,2, -999.000,9, -999.000,9, -999.000,9
           NA,     A14,     75,   1,-999.0,      21,  2,19950203,0935, -29.4967,   -9.0028,  3793,  695.200,    6.345,   34.442,2,   34.444,2,  202.700,2,  203.000,2,   17.700,2,   27.340,2, -999.000,9,    1.830,2,    1.651,2,    0.735,2, -999.000,9, -999.000,9, -999.000,9
           NA,     A14,     75,   1,-999.0,      22,  2,19950203,0935, -29.4967,   -9.0028,  3793,  695.400,    6.346,   34.442,2,   34.447,2,  202.700,2,  204.200,2,   17.700,2,   27.160,2, -999.000,9,    1.830,2, -999.000,9, -999.000,9, -999.000,9, -999.000,9, -999.000,9
           NA,     A14,     75,   1,-999.0,      20,  2,19950203,0935, -29.4967,   -9.0028,  3793,  795.700,    5.085,   34.359,2,   34.361,2,  212.400,2,  211.800,2,   23.100,2,   29.470,2, -999.000,9,    1.970,2,    1.500,2,    0.657,2, -999.000,9, -999.000,9, -999.000,9
           NA,     A14,     75,   1,-999.0,      19,  2,19950203,0935, -29.4967,   -9.0028,  3793,  995.800,    3.777,   34.372,2,   34.374,2,  202.500,2,  199.200,2,   38.500,2,   32.640,2, -999.000,9,    2.210,2,    0.748,2,    0.345,2, -999.000,9, -999.000,9, -999.000,9
           NA,     A14,     75,   1,-999.0,      18,  2,19950203,0935, -29.4967,   -9.0028,  3793, 1196.200,    3.237,   34.469,2,   34.474,2,  185.600,2,  184.800,2,   51.400,2,   33.570,2, -999.000,9,    2.280,2,    0.282,2,    0.141,2, -999.000,9, -999.000,9, -999.000,9
           NA,     A14,     75,   1,-999.0,      17,  2,19950203,0935, -29.4967,   -9.0028,  3793, 1395.500,    3.016,   34.605,2,   34.606,2,  183.300,2,  183.700,2,   56.000,2,   32.490,2, -999.000,9,    2.190,2,    0.070,2,    0.036,2, -999.000,9, -999.000,9, -999.000,9
           NA,     A14,     75,   1,-999.0,      16,  2,19950203,0935, -29.4967,   -9.0028,  3793, 1596.700,    3.034,   34.714,2,   34.715,2,  194.200,2,  195.100,2,   50.900,2,   29.910,2, -999.000,9,    2.010,2,    0.028,2,    0.017,2, -999.000,9, -999.000,9, -999.000,9
           NA,     A14,     75,   1,-999.0,      15,  2,19950203,0935, -29.4967,   -9.0028,  3793, 1796.700,    2.943,   34.776,2,   34.776,2,  205.100,2,  206.200,2,   49.100,2,   27.900,2, -999.000,9,    1.880,2,    0.003,2, -999.000,9, -999.000,9, -999.000,9, -999.000,9
           NA,     A14,     75,   1,-999.0,      14,  2,19950203,0935, -29.4967,   -9.0028,  3793, 1995.800,    2.694,   34.804,2,   34.806,2,  213.400,2, -999.000,4,   52.200,2,   26.990,2, -999.000,9,    1.810,2,    0.000,2,    0.002,2, -999.000,9, -999.000,9, -999.000,9
           NA,     A14,     75,   1,-999.0,      13,  2,19950203,0935, -29.4967,   -9.0028,  3793, 2194.700,    2.597,   34.823,2,   34.823,2,  220.200,2,  220.600,2,   52.600,2,   26.080,2, -999.000,9,    1.760,2,    0.002,2,    0.004,2, -999.000,9, -999.000,9, -999.000,9
           NA,     A14,     75,   1,-999.0,      12,  2,19950203,0935, -29.4967,   -9.0028,  3793, 2397.000,    2.513,   34.840,2,   34.841,2,  226.200,2,  226.700,2,   52.200,2,   25.220,2, -999.000,9,    1.700,2,    0.001,2,    0.004,2, -999.000,9, -999.000,9, -999.000,9
           NA,     A14,     75,   1,-999.0,      11,  2,19950203,0935, -29.4967,   -9.0028,  3793, 2595.800,    2.454,   34.854,2,   34.855,2,  231.200,2,  231.700,2,   51.300,2,   24.540,2, -999.000,9,    1.650,2,    0.002,2,    0.000,2, -999.000,9, -999.000,9, -999.000,9
           NA,     A14,     75,   1,-999.0,      10,  2,19950203,0935, -29.4967,   -9.0028,  3793, 2795.700,    2.411,   34.864,2,   34.866,2,  234.900,2,  235.100,2,   50.700,2,   24.100,2, -999.000,9,    1.620,2,    0.001,2,    0.001,2, -999.000,9, -999.000,9, -999.000,9
           NA,     A14,     75,   1,-999.0,       9,  2,19950203,0935, -29.4967,   -9.0028,  3793, 2996.400,    2.381,   34.871,2,   34.872,2,  237.000,2,  237.400,2,   50.800,2,   23.850,2, -999.000,9,    1.600,2,    0.001,2,    0.002,2, -999.000,9, -999.000,9, -999.000,9
           NA,     A14,     75,   1,-999.0,       8,  2,19950203,0935, -29.4967,   -9.0028,  3793, 3196.100,    2.367,   34.876,2,   34.875,2,  237.700,2,  237.400,2,   50.900,2,   23.680,2, -999.000,9,    1.590,2,    0.002,2,    0.003,2, -999.000,9, -999.000,9, -999.000,9
           NA,     A14,     75,   1,-999.0,       7,  2,19950203,0935, -29.4967,   -9.0028,  3793, 3395.900,    2.358,   34.878,2,   34.879,2,  237.700,2,  237.500,2,   51.500,2,   23.510,2, -999.000,9,    1.590,2,    0.000,2,    0.004,2, -999.000,9, -999.000,9, -999.000,9
           NA,     A14,     75,   1,-999.0,       6,  2,19950203,0935, -29.4967,   -9.0028,  3793, 3597.300,    2.363,   34.881,2,   34.881,2,  237.000,2,  236.900,2,   51.300,6,   23.480,6, -999.000,9,    1.570,6,    0.004,2, -999.000,9, -999.000,9, -999.000,9, -999.000,9
           NA,     A14,     75,   1,-999.0,       5,  2,19950203,0935, -29.4967,   -9.0028,  3793, 3796.800,    2.374,   34.881,2,   34.883,2,  236.200,2,  235.900,2,   51.700,2,   23.650,2, -999.000,9,    1.580,2,    0.003,2,    0.006,2, -999.000,9, -999.000,9, -999.000,9
           NA,     A14,     75,   1,-999.0,       3,  2,19950203,0935, -29.4967,   -9.0028,  3793, 3830.300,    2.374,   34.882,2,   34.884,2,  235.900,2,  235.900,2,   51.700,6,   23.540,6, -999.000,9,    1.560,2,    0.002,2, -999.000,9, -999.000,9, -999.000,9, -999.000,9
           NA,     A14,     75,   1,-999.0,       4,  2,19950203,0935, -29.4967,   -9.0028,  3793, 3830.800,    2.374,   34.881,2,   34.884,2,  235.800,2,  235.600,2,   51.600,6,   23.510,6, -999.000,9,    1.570,6,    0.001,2, -999.000,9, -999.000,9, -999.000,9, -999.000,9
           NA,     A14,     74,   1,-999.0,      32,  2,19950203,0411, -28.9975,   -9.0003,  4412,    3.200,   24.374,   36.093,2,   36.094,2,  209.200,2,  213.100,2,    1.400,2,    0.020,2, -999.000,9,    0.150,2,    1.976,2,    1.020,2, -999.000,9, -999.000,9, 2375.400,2
           NA,     A14,     74,   1,-999.0,      31,  2,19950203,0411, -28.9975,   -9.0003,  4412,   37.300,   22.533,   36.085,2, -999.000,3,  218.100,2,  220.400,2,    1.400,2,    0.020,2, -999.000,9,    0.160,2,    2.090,2,    1.072,2, -999.000,9, -999.000,9, -999.000,9
           NA,     A14,     74,   1,-999.0,      30,  2,19950203,0411, -28.9975,   -9.0003,  4412,  126.900,   17.737,   35.779,2, -999.000,3,  232.000,2,  230.400,2,    1.600,2,    0.150,2, -999.000,9,    0.210,2,    2.498,2,    1.236,2, -999.000,9, -999.000,9, -999.000,9
           NA,     A14,     74,   1,-999.0,      29,  2,19950203,0411, -28.9975,   -9.0003,  4412,  195.600,   15.051,   35.361,2,   35.357,2,  208.500,2,  209.500,2,    2.800,2,    6.720,2, -999.000,9,    0.540,2,    2.653,2,    1.288,2, -999.000,9, -999.000,9, -999.000,9
           NA,     A14,     74,   1,-999.0,      28,  2,19950203,0411, -28.9975,   -9.0003,  4412,  296.200,   12.696,   35.095,2,   35.096,2,  201.600,2,  204.300,2,    4.400,2,   12.300,2, -999.000,9,    0.850,2,    2.563,2,    1.206,2, -999.000,9, -999.000,9, -999.000,9
           NA,     A14,     74,   1,-999.0,      27,  2,19950203,0411, -28.9975,   -9.0003,  4412,  396.400,   11.071,   34.912,2,   34.912,2,  203.500,2,  204.700,2,    5.900,2,   15.730,2, -999.000,9,    1.060,2,    2.372,2,    1.095,2, -999.000,9, -999.000,9, -999.000,9
           NA,     A14,     74,   1,-999.0,      26,  2,19950203,0411, -28.9975,   -9.0003,  4412,  495.800,    9.031,   34.683,2,   34.683,2,  199.800,2,  199.700,2,    9.500,2,   20.780,2, -999.000,9,    1.400,2,    2.135,2,    0.979,2, -999.000,9, -999.000,9, -999.000,9
           NA,     A14,     74,   1,-999.0,      25,  2,19950203,0411, -28.9975,   -9.0003,  4412,  595.600,    7.547,   34.537,2,   34.540,2,  202.700,2,  201.900,2,   12.900,2,   23.870,2, -999.000,9,    1.620,2,    1.897,2,    0.841,2, -999.000,9, -999.000,9, -999.000,9
           NA,     A14,     74,   1,-999.0,      24,  2,19950203,0411, -28.9975,   -9.0003,  4412,  695.700,    6.004,   34.413,2,   34.417,2,  208.400,2,  206.900,2,   17.900,2,   27.330,2, -999.000,9,    1.830,2,    1.657,2,    0.726,2, -999.000,9, -999.000,9, -999.000,9
           NA,     A14,     74,   1,-999.0,      23,  2,19950203,0411, -28.9975,   -9.0003,  4412,  796.200,    4.812,   34.345,2,   34.347,2,  211.000,2,  212.000,2,   24.100,2,   29.730,2, -999.000,9,    1.990,2,    1.389,2,    0.608,2, -999.000,9, -999.000,9, -999.000,9
           NA,     A14,     74,   1,-999.0,      22,  2,19950203,0411, -28.9975,   -9.0003,  4412,  995.500,    3.732,   34.378,2,   34.384,2,  195.600,2,  197.700,2,   38.200,6,   32.420,6, -999.000,9,    2.190,6,    0.671,2,    0.304,2, -999.000,9, -999.000,9, -999.000,9
           NA,     A14,     74,   1,-999.0,      21,  2,19950203,0411, -28.9975,   -9.0003,  4412, 1194.900,    3.209,   34.500,2, -999.000,3,  182.900,2,  183.100,2,   50.800,2,   33.170,2, -999.000,9,    2.240,2,    0.187,2,    0.073,2, -999.000,9, -999.000,9, -999.000,9
           NA,     A14,     74,   1,-999.0,      20,  2,19950203,0411, -28.9975,   -9.0003,  4412, 1395.700,    3.002,   34.632,2,   34.632,2,  185.600,2,  186.500,2,   53.500,2,   31.570,2, -999.000,9,    2.120,2,    0.041,2,    0.027,2, -999.000,9, -999.000,9, -999.000,9
           NA,     A14,     74,   1,-999.0,      19,  2,19950203,0411, -28.9975,   -9.0003,  4412, 1595.700,    2.906,   34.720,2,   34.722,2,  196.800,2,  196.500,2,   52.300,2,   29.500,2, -999.000,9,    1.990,2,    0.016,2,    0.011,2, -999.000,9, -999.000,9, -999.000,9
           NA,     A14,     74,   1,-999.0,      18,  2,19950203,0411, -28.9975,   -9.0003,  4412, 1796.300,    2.833,   34.771,2,   34.770,2,  207.400,2,  206.000,2,   50.800,2,   27.950,2, -999.000,9,    1.870,2,    0.009,2,    0.007,2, -999.000,9, -999.000,9, -999.000,9
           NA,     A14,     74,   1,-999.0,      17,  2,19950203,0411, -28.9975,   -9.0003,  4412, 1995.700,    2.717,   34.805,2,   34.804,2,  214.900,2,  214.800,2,   50.500,2,   26.690,2, -999.000,9,    1.780,2,    0.003,2, -999.000,9, -999.000,9, -999.000,9, -999.000,9
           NA,     A14,     74,   1,-999.0,      16,  2,19950203,0411, -28.9975,   -9.0003,  4412, 2195.900,    2.575,   34.830,2,   34.831,2,  222.700,2,  222.800,2,   50.800,2,   25.540,2, -999.000,9,    1.710,2,    0.009,2,    0.007,2, -999.000,9, -999.000,9, -999.000,9
           NA,     A14,     74,   1,-999.0,      15,  2,19950203,0411, -28.9975,   -9.0003,  4412, 2196.500,    2.575,   34.831,2,   34.826,2,  222.700,2,  223.100,2,   50.700,2,   25.480,2, -999.000,9,    1.720,2,    0.006,2, -999.000,9, -999.000,9, -999.000,9, -999.000,9
           NA,     A14,     74,   1,-999.0,      14,  2,19950203,0411, -28.9975,   -9.0003,  4412, 2395.900,    2.482,   34.847,2,   34.847,2,  228.400,2,  229.100,2,   50.500,6,   24.790,6, -999.000,9,    1.660,6,    0.003,2,   -0.001,2, -999.000,9, -999.000,9, -999.000,9
           NA,     A14,     74,   1,-999.0,      13,  2,19950203,0411, -28.9975,   -9.0003,  4412, 2594.400,    2.429,   34.858,2,   34.858,2,  233.800,2,  233.500,2,   50.000,2,   24.210,2, -999.000,9,    1.620,2,    0.001,2,    0.007,2, -999.000,9, -999.000,9, -999.000,9
           NA,     A14,     74,   1,-999.0,      12,  2,19950203,0411, -28.9975,   -9.0003,  4412, 2795.900,    2.394,   34.866,2,   34.866,2,  236.100,2,  236.100,2,   49.700,2,   23.860,2, -999.000,9,    1.590,2,    0.002,2,    0.002,2, -999.000,9, -999.000,9, -999.000,9
           NA,     A14,     74,   1,-999.0,      11,  2,19950203,0411, -28.9975,   -9.0003,  4412, 2996.900,    2.371,   34.872,2,   34.870,2,  238.100,2,  237.700,2,   49.600,2,   23.690,2, -999.000,9,    1.600,2,    0.003,2,    0.001,2, -999.000,9, -999.000,9, -999.000,9
           NA,     A14,     74,   1,-999.0,      10,  2,19950203,0411, -28.9975,   -9.0003,  4412, 3196.600,    2.365,   34.874,2,   34.874,2,  238.500,2,  238.200,2,   50.000,2,   23.640,2, -999.000,9,    1.590,2,    0.003,2,   -0.002,2, -999.000,9, -999.000,9, -999.000,9
           NA,     A14,     74,   1,-999.0,       9,  2,19950203,0411, -28.9975,   -9.0003,  4412, 3397.200,    2.363,   34.877,2,   34.876,2,  238.500,2,  237.500,2,   50.100,2,   23.510,2, -999.000,9,    1.580,2,    0.002,2,    0.004,2, -999.000,9, -999.000,9, -999.000,9
           NA,     A14,     74,   1,-999.0,       8,  2,19950203,0411, -28.9975,   -9.0003,  4412, 3596.600,    2.365,   34.880,2,   34.880,2,  238.000,2,  237.100,2,   50.400,2,   23.550,2, -999.000,9,    1.580,2,    0.001,2,   -0.002,2, -999.000,9, -999.000,9, -999.000,9
           NA,     A14,     74,   1,-999.0,       7,  2,19950203,0411, -28.9975,   -9.0003,  4412, 3797.500,    2.376,   34.883,2,   34.882,2,  237.000,2,  236.300,2,   50.700,2,   23.510,2, -999.000,9,    1.580,2,    0.000,2,   -0.002,2, -999.000,9, -999.000,9, -999.000,9
           NA,     A14,     74,   1,-999.0,       6,  2,19950203,0411, -28.9975,   -9.0003,  4412, 3996.900,    2.395,   34.882,2,   34.884,2,  236.200,2,  236.200,2,   50.600,2,   23.510,2, -999.000,9,    1.570,2,    0.001,2, -999.000,9, -999.000,9, -999.000,9, -999.000,9
           NA,     A14,     74,   1,-999.0,       5,  2,19950203,0411, -28.9975,   -9.0003,  4412, 4197.600,    2.414,   34.884,2,   34.883,2,  236.300,2,  235.400,2,   50.600,2,   23.550,2, -999.000,9,    1.580,2,    0.002,2,    0.003,2, -999.000,9, -999.000,9, -999.000,9
           NA,     A14,     74,   1,-999.0,       4,  2,19950203,0411, -28.9975,   -9.0003,  4412, 4397.600,    2.437,   34.883,2,   34.885,2,  236.000,2,  235.400,2,   50.700,2,   23.510,2, -999.000,9,    1.570,2,    0.000,2,   -0.001,2, -999.000,9, -999.000,9, -999.000,9
           NA,     A14,     74,   1,-999.0,       3,  2,19950203,0411, -28.9975,   -9.0003,  4412, 4474.700,    2.447,   34.882,2,   34.882,2,  235.400,2,  235.700,2,   51.100,2,   23.510,2, -999.000,9,    1.570,2,    0.000,2, -999.000,9, -999.000,9, -999.000,9, -999.000,9