BOTTLE,20213527JOAExport
EXPOCODE,SECT_ID,STNNBR,CASTNO,SAMPNO,BTLNBR,BTLNBR_FLAG_W,DATE,TIME,LATITUDE,LONGITUDE,DEPTH,CTDPRS,CTDTMP,CTDSAL,CTDSAL_FLAG_W,SALNTY,SALNTY_FLAG_W,CTDOXY,CTDOXY_FLAG_W,OXYGEN,OXYGEN_FLAG_W,SILCAT,SILCAT_FLAG_W,NITRAT,NITRAT_FLAG_W,NITRIT,NITRIT_FLAG_W,PHSPHT,PHSPHT_FLAG_W,CFC-11,CFC-11_FLAG_W,CFC-12,CFC-12_FLAG_W,SF6,SF6_FLAG_W,TCARBN,TCARBN_FLAG_W,ALKALI,ALKALI_FLAG_W
,,,,,,,,,,,,DB,DEG C,PSS-78,,PSS-78,,UMOL/KG,,UMOL/KG,,UMOL/KG,,UMOL/KG,,UMOL/KG,,UMOL/KG,,PMOL/KG,,PMOL/KG,,FMOL/KG,,UMOL/KG,,UMOL/KG
           NA,     A14,     77,   1,-999.0,      32,  2,19950204,0701, -30.5108,   -9.0282,  3799,    9.200,   22.165,   35.856,2,   35.861,2,  218.300,2,  221.100,2,    1.500,2,    0.020,2, -999.000,9,    0.150,2,    2.119,2,    1.094,2, -999.000,9, -999.000,9, 2358.100,2
           NA,     A14,     77,   1,-999.0,      31,  2,19950204,0701, -30.5108,   -9.0282,  3799,   47.700,   19.225,   35.768,2,   35.768,2,  233.800,2, -999.000,3,    1.600,2,    0.020,2, -999.000,9,    0.150,2,    2.489,2,    1.251,2, -999.000,9, -999.000,9, -999.000,9
           NA,     A14,     77,   1,-999.0,      30,  2,19950204,0701, -30.5108,   -9.0282,  3799,   97.400,   17.387,   35.723,2,   35.725,2,  240.800,2,  239.700,2,    1.400,2,    0.020,2, -999.000,9,    0.200,2,    2.504,2,    1.246,2, -999.000,9, -999.000,9, -999.000,9
           NA,     A14,     77,   1,-999.0,      29,  2,19950204,0701, -30.5108,   -9.0282,  3799,  149.600,   17.132,   35.717,2,   35.718,2,  229.600,2,  227.700,2,    2.100,2,    1.450,2, -999.000,9,    0.270,2,    2.506,2,    1.248,2, -999.000,9, -999.000,9, -999.000,9
           NA,     A14,     77,   1,-999.0,      28,  2,19950204,0701, -30.5108,   -9.0282,  3799,  195.900,   17.096,   35.711,2,   35.711,2,  230.700,2,  228.000,2,    2.100,2,    1.490,2, -999.000,9,    0.270,2,    2.514,2,    1.255,2, -999.000,9, -999.000,9, -999.000,9
           NA,     A14,     77,   1,-999.0,      27,  2,19950204,0701, -30.5108,   -9.0282,  3799,  297.800,   15.923,   35.499,2,   35.501,2,  220.800,2,  219.100,2,    3.000,2,    4.650,2, -999.000,9,    0.420,2,    2.579,2,    1.265,2, -999.000,9, -999.000,9, -999.000,9
           NA,     A14,     77,   1,-999.0,      26,  2,19950204,0701, -30.5108,   -9.0282,  3799,  396.500,   14.111,   35.261,2,   35.260,2,  212.300,2,  212.800,2,    3.800,2,    8.070,2, -999.000,9,    0.620,2,    2.597,2,    1.302,2, -999.000,9, -999.000,9, -999.000,9
           NA,     A14,     77,   1,-999.0,      25,  2,19950204,0701, -30.5108,   -9.0282,  3799,  495.800,   12.710,   35.114,2,   35.114,2,  212.900,2,  211.500,2,    4.500,2,   11.440,2, -999.000,9,    0.810,2,    2.486,2,    1.174,2, -999.000,9, -999.000,9, -999.000,9
           NA,     A14,     77,   1,-999.0,      24,  2,19950204,0701, -30.5108,   -9.0282,  3799,  595.300,   10.296,   34.819,2,   34.817,2,  209.600,2,  209.300,2,    7.000,2,   17.080,2, -999.000,9,    1.150,2,    2.341,2,    1.069,2, -999.000,9, -999.000,9, -999.000,9
           NA,     A14,     77,   1,-999.0,      23,  2,19950204,0701, -30.5108,   -9.0282,  3799,  697.600,    7.734,   34.485,2,   34.491,2,  252.100,2,  250.200,2,    6.600,2,   19.120,2, -999.000,9,    1.320,2, -999.000,9, -999.000,9, -999.000,9, -999.000,9, -999.000,9
           NA,     A14,     77,   1,-999.0,      22,  2,19950204,0701, -30.5108,   -9.0282,  3799,  794.800,    7.082,   34.487,2,   34.491,2,  212.300,2,  209.200,2,   13.900,2,   24.360,2, -999.000,9,    1.680,2,    2.025,2,    0.900,2, -999.000,9, -999.000,9, -999.000,9
           NA,     A14,     77,   1,-999.0,      21,  2,19950204,0701, -30.5108,   -9.0282,  3799,  895.200,    5.738,   34.383,2,   34.388,2,  214.400,2,  212.100,2,   18.500,2,   27.630,2, -999.000,9,    1.870,2,    1.714,2,    0.756,2, -999.000,9, -999.000,9, -999.000,9
           NA,     A14,     77,   1,-999.0,      20,  2,19950204,0701, -30.5108,   -9.0282,  3799,  996.700,    4.490,   34.324,2,   34.327,2,  217.100,2,  217.400,2,   26.000,2,   29.900,2, -999.000,9,    2.030,2,    1.382,2,    0.605,2, -999.000,9, -999.000,9, -999.000,9
           NA,     A14,     77,   1,-999.0,      19,  2,19950204,0701, -30.5108,   -9.0282,  3799, 1195.100,    3.486,   34.386,2,   34.391,2,  197.800,2,  198.100,2,   43.000,2,   32.700,2, -999.000,9,    2.230,2,    0.633,2,    0.279,2, -999.000,9, -999.000,9, -999.000,9
           NA,     A14,     77,   1,-999.0,      18,  2,19950204,0701, -30.5108,   -9.0282,  3799, 1394.200,    3.125,   34.506,2,   34.509,2,  183.300,2,  183.600,2,   54.800,2,   33.210,2, -999.000,9,    2.260,2,    0.207,2,    0.091,2, -999.000,9, -999.000,9, -999.000,9
           NA,     A14,     77,   1,-999.0,      17,  2,19950204,0701, -30.5108,   -9.0282,  3799, 1394.500,    3.122,   34.507,2,   34.510,2,  183.300,2,  183.400,2,   55.000,2,   33.140,2, -999.000,9,    2.260,2,    0.210,2,    0.098,2, -999.000,9, -999.000,9, -999.000,9
           NA,     A14,     77,   1,-999.0,      16,  2,19950204,0701, -30.5108,   -9.0282,  3799, 1597.200,    2.957,   34.644,2,   34.645,2,  185.700,2,  187.800,2,   56.400,2,   31.200,2, -999.000,9,    2.120,2,    0.050,2,    0.023,2, -999.000,9, -999.000,9, -999.000,9
           NA,     A14,     77,   1,-999.0,      15,  2,19950204,0701, -30.5108,   -9.0282,  3799, 1795.700,    2.836,   34.735,2,   34.737,2,  196.300,2,  200.100,2,   54.800,2,   28.910,2, -999.000,9,    1.960,2,    0.016,2,    0.015,2, -999.000,9, -999.000,9, -999.000,9
           NA,     A14,     77,   1,-999.0,      14,  2,19950204,0701, -30.5108,   -9.0282,  3799, 1996.100,    2.776,   34.774,2,   34.776,2,  208.300,2,  208.200,2,   53.700,2,   27.740,2, -999.000,9,    1.870,2,    0.003,2,    0.000,2, -999.000,9, -999.000,9, -999.000,9
           NA,     A14,     77,   1,-999.0,      13,  2,19950204,0701, -30.5108,   -9.0282,  3799, 2195.400,    2.644,   34.816,2,   34.818,2,  216.900,2,  218.900,2,   52.400,2,   26.090,2, -999.000,9,    1.770,2,    0.000,2,    0.000,2, -999.000,9, -999.000,9, -999.000,9
           NA,     A14,     77,   1,-999.0,      12,  2,19950204,0701, -30.5108,   -9.0282,  3799, 2396.800,    2.545,   34.835,2,   34.835,2,  225.300,2,  225.500,2,   52.200,2,   25.320,2, -999.000,9,    1.720,2,    0.002,2,    0.003,2, -999.000,9, -999.000,9, -999.000,9
           NA,     A14,     77,   1,-999.0,      11,  2,19950204,0701, -30.5108,   -9.0282,  3799, 2595.300,    2.485,   34.849,2,   34.849,2,  230.000,2,  230.500,2,   51.500,2,   24.460,2, -999.000,9,    1.670,2,    0.001,2,   -0.001,2, -999.000,9, -999.000,9, -999.000,9
           NA,     A14,     77,   1,-999.0,      10,  2,19950204,0701, -30.5108,   -9.0282,  3799, 2796.900,    2.429,   34.861,2,   34.862,2,  235.000,2,  235.800,2,   50.600,2,   23.970,2, -999.000,9,    1.620,2,    0.002,2,    0.002,2, -999.000,9, -999.000,9, -999.000,9
           NA,     A14,     77,   1,-999.0,       9,  2,19950204,0701, -30.5108,   -9.0282,  3799, 2995.700,    2.399,   34.867,2,   34.869,2,  236.900,2,  237.900,2,   50.500,2,   23.740,2, -999.000,9,    1.600,2,    0.002,2,    0.001,2, -999.000,9, -999.000,9, -999.000,9
           NA,     A14,     77,   1,-999.0,       8,  2,19950204,0701, -30.5108,   -9.0282,  3799, 3194.600,    2.386,   34.871,2,   34.870,2,  239.000,2,  238.700,2,   50.900,2,   23.560,2, -999.000,9,    1.590,2,    0.000,2, -999.000,9, -999.000,9, -999.000,9, -999.000,9
           NA,     A14,     77,   1,-999.0,       7,  2,19950204,0701, -30.5108,   -9.0282,  3799, 3396.100,    2.376,   34.874,2,   34.873,2,  239.200,2,  239.100,2,   51.000,2,   23.470,2, -999.000,9,    1.590,2,    0.002,2, -999.000,9, -999.000,9, -999.000,9, -999.000,9
           NA,     A14,     77,   1,-999.0,       6,  2,19950204,0701, -30.5108,   -9.0282,  3799, 3588.800,    2.375,   34.876,2,   34.876,2,  238.200,2,  238.100,2,   51.300,2,   23.420,2, -999.000,9,    1.580,2,    0.001,2,   -0.002,2, -999.000,9, -999.000,9, -999.000,9
           NA,     A14,     77,   1,-999.0,       5,  2,19950204,0701, -30.5108,   -9.0282,  3799, 3797.800,    2.391,   34.879,2,   34.879,2,  237.200,2,  237.600,2,   51.600,2,   23.410,2, -999.000,9,    1.580,2,    0.002,2, -999.000,9, -999.000,9, -999.000,9, -999.000,9
           NA,     A14,     77,   1,-999.0,       3,  2,19950204,0701, -30.5108,   -9.0282,  3799, 3852.400,    2.393,   34.880,2,   34.879,2,  236.800,2,  237.800,2,   51.800,2,   23.410,2, -999.000,9,    1.570,2,    0.001,2,    0.002,2, -999.000,9, -999.000,9, -999.000,9
           NA,     A14,     77,   1,-999.0,       4,  2,19950204,0701, -30.5108,   -9.0282,  3799, 3854.300,    2.394,   34.879,2,   34.881,2,  236.600,2,  237.000,2,   51.800,2,   23.400,2, -999.000,9,    1.580,2,    0.001,2,    0.002,2, -999.000,9, -999.000,9, -999.000,9
           NA,     A14,     76,   1,-999.0,      31,  2,19950203,1450, -30.0032,   -8.9987,  3957,    3.900,   22.899,   35.917,2,   35.921,2,  207.200,2, -999.000,3,    1.700,2,    0.020,2, -999.000,9,    0.150,2,    2.084,2,    1.073,2, -999.000,9, 2051.200,6, 2362.800,2
           NA,     A14,     76,   1,-999.0,      32,  2,19950203,1450, -30.0032,   -8.9987,  3957,    4.100,   22.908,   35.917,2,   35.919,2,  207.200,2, -999.000,3,    1.700,2,    0.020,2, -999.000,9,    0.150,2,    2.073,2,    1.078,2, -999.000,9, -999.000,9, 2364.700,2
           NA,     A14,     76,   1,-999.0,      30,  2,19950203,1450, -30.0032,   -8.9987,  3957,   31.900,   22.115,   35.920,2,   35.922,2,  218.400,2,  221.900,2,    1.700,2,    0.020,2, -999.000,9,    0.180,2,    2.127,2,    1.100,2, -999.000,9, 2053.200,2, 2364.100,2
           NA,     A14,     76,   1,-999.0,      29,  2,19950203,1450, -30.0032,   -8.9987,  3957,   46.900,   20.233,   35.826,2, -999.000,3,  232.900,2, -999.000,3,    1.800,2,    0.020,2, -999.000,9,    0.150,2,    2.397,2,    1.200,2, -999.000,9, 2047.800,2, 2358.000,2
           NA,     A14,     76,   1,-999.0,      28,  2,19950203,1450, -30.0032,   -8.9987,  3957,  121.600,   17.237,   35.718,2,   35.721,2,  229.000,2, -999.000,3,    1.600,2,    0.070,2, -999.000,9,    0.190,2,    2.529,2,    1.267,2, -999.000,9, 2055.800,2, 2350.700,2
           NA,     A14,     76,   1,-999.0,      27,  2,19950203,1450, -30.0032,   -8.9987,  3957,  197.100,   16.965,   35.684,2,   35.686,2,  228.800,2,  226.700,2,    2.200,2,    1.770,2, -999.000,9,    0.290,2,    2.515,2,    1.260,2, -999.000,9, 2064.800,2, 2347.400,2
           NA,     A14,     76,   1,-999.0,      26,  2,19950203,1450, -30.0032,   -8.9987,  3957,  297.000,   15.400,   35.426,2,   35.425,2,  221.100,2,  220.200,2,    2.900,2,    4.880,2, -999.000,9,    0.450,2,    2.637,2,    1.339,2, -999.000,9, 2072.600,2, 2332.200,2
           NA,     A14,     76,   1,-999.0,      25,  2,19950203,1450, -30.0032,   -8.9987,  3957,  397.000,   13.173,   35.157,2,   35.157,2,  213.100,2,  212.200,2,    4.100,2,   10.360,2, -999.000,9,    0.770,2,    2.576,2,    1.237,2, -999.000,9, 2098.300,2, 2319.600,2
           NA,     A14,     76,   1,-999.0,      24,  2,19950203,1450, -30.0032,   -8.9987,  3957,  495.700,   11.469,   34.963,2,   34.964,2,  212.300,2,  210.000,2,    5.300,2,   14.340,2, -999.000,9,    1.000,2,    2.450,2,    1.155,2, -999.000,9, 2114.100,2, 2311.600,2
           NA,     A14,     76,   1,-999.0,      23,  2,19950203,1450, -30.0032,   -8.9987,  3957,  597.400,    9.516,   34.730,2,   34.733,2,  210.000,2,  208.000,2,    8.100,2,   18.940,2, -999.000,9,    1.290,2,    2.274,2,    1.007,2, -999.000,9, 2129.700,2, 2301.300,2
           NA,     A14,     76,   1,-999.0,      22,  2,19950203,1450, -30.0032,   -8.9987,  3957,  697.200,    7.861,   34.561,2, -999.000,3,  201.900,2,  201.700,2,   12.200,2,   23.230,2, -999.000,9,    1.590,2,    2.006,2,    0.878,2, -999.000,9, 2150.100,2, 2296.700,2
           NA,     A14,     76,   1,-999.0,      21,  2,19950203,1450, -30.0032,   -8.9987,  3957,  792.500,    6.340,   34.430,2,   34.436,2,  208.400,2,  206.800,2,   16.200,2,   26.620,2, -999.000,9,    1.800,2,    1.787,2,    0.769,2, -999.000,9, 2160.400,2, 2293.000,2
           NA,     A14,     76,   1,-999.0,      20,  2,19950203,1450, -30.0032,   -8.9987,  3957,  994.500,    4.168,   34.333,2,   34.335,2,  213.200,2,  211.900,2,   29.700,2,   31.010,2, -999.000,9,    2.090,2,    1.147,2,    0.495,2, -999.000,9, 2185.200,2, 2303.100,2
           NA,     A14,     76,   1,-999.0,      19,  2,19950203,1450, -30.0032,   -8.9987,  3957, 1197.100,    3.323,   34.423,2,   34.427,2,  194.500,2,  191.600,2,   46.500,2,   33.140,2, -999.000,9,    2.250,2,    0.455,2,    0.204,2, -999.000,9, 2214.600,2, 2320.200,2
           NA,     A14,     76,   1,-999.0,      18,  2,19950203,1450, -30.0032,   -8.9987,  3957, 1396.500,    3.032,   34.552,2,   34.555,2,  182.700,2,  182.400,2,   55.500,2,   32.850,2, -999.000,9,    2.230,2,    0.133,2,    0.060,2, -999.000,9, 2227.500,2, 2330.600,2
           NA,     A14,     76,   1,-999.0,      17,  2,19950203,1450, -30.0032,   -8.9987,  3957, 1594.000,    2.977,   34.677,2,   34.680,2,  188.300,2,  189.400,2,   53.900,2,   30.660,2, -999.000,9,    2.070,2,    0.032,2,    0.014,2, -999.000,9, 2221.000,2, 2335.200,2
           NA,     A14,     76,   1,-999.0,      16,  2,19950203,1450, -30.0032,   -8.9987,  3957, 1793.600,    2.819,   34.740,2,   34.740,2,  199.900,2,  200.200,2,   54.000,2,   28.930,2, -999.000,9,    1.950,2,    0.011,2,    0.009,2, -999.000,9, 2215.300,2, 2338.700,2
           NA,     A14,     76,   1,-999.0,      15,  2,19950203,1450, -30.0032,   -8.9987,  3957, 1995.300,    2.704,   34.781,2,   34.783,2,  209.200,2,  209.400,2,   53.800,2,   27.600,2, -999.000,9,    1.850,2,    0.006,2,    0.012,2, -999.000,9, 2211.200,2, 2339.800,2
           NA,     A14,     76,   1,-999.0,      14,  2,19950203,1450, -30.0032,   -8.9987,  3957, 2195.600,    2.610,   34.816,2,   34.814,2,  218.800,2,  218.400,2,   52.700,2,   26.150,2, -999.000,9,    1.770,2,    0.003,2,    0.005,2, -999.000,9, 2205.900,2, 2339.900,2
           NA,     A14,     76,   1,-999.0,      12,  2,19950203,1450, -30.0032,   -8.9987,  3957, 2595.800,    2.477,   34.849,2,   34.850,2,  230.400,2,  229.800,2,   51.200,2,   24.590,2, -999.000,9,    1.660,2,    0.002,2,    0.004,2, -999.000,9, 2197.700,2, 2343.600,2
           NA,     A14,     76,   1,-999.0,      11,  2,19950203,1450, -30.0032,   -8.9987,  3957, 2792.500,    2.431,   34.860,2,   34.862,2,  234.100,2,  233.700,2,   50.300,2,   24.100,2, -999.000,9,    1.630,2,    0.001,2,    0.004,2, -999.000,9, 2195.800,2, 2343.800,2
           NA,     A14,     76,   1,-999.0,      10,  2,19950203,1450, -30.0032,   -8.9987,  3957, 2997.400,    2.403,   34.869,2,   34.870,2,  236.400,2,  236.200,2,   50.100,2,   23.840,2, -999.000,9,    1.590,2,    0.004,2,    0.004,2, -999.000,9, 2195.600,2, 2345.000,2
           NA,     A14,     76,   1,-999.0,       9,  2,19950203,1450, -30.0032,   -8.9987,  3957, 3196.100,    2.385,   34.873,2,   34.874,2,  238.700,2,  238.200,2,   50.000,2,   23.620,2, -999.000,9,    1.580,2,    0.002,2,    0.005,2, -999.000,9, 2194.600,2, 2348.000,2
           NA,     A14,     76,   1,-999.0,       8,  2,19950203,1450, -30.0032,   -8.9987,  3957, 3396.900,    2.379,   34.875,2,   34.874,2,  239.100,2,  238.500,2,   50.300,2,   23.530,2, -999.000,9,    1.570,2,    0.001,2,    0.000,2, -999.000,9, 2196.300,2, 2347.200,2
           NA,     A14,     76,   1,-999.0,       7,  2,19950203,1450, -30.0032,   -8.9987,  3957, 3591.900,    2.379,   34.877,2,   34.877,2,  238.200,2,  238.500,2,   50.400,2,   23.530,2, -999.000,9,    1.570,2,    0.002,2,    0.005,2, -999.000,9, 2197.300,2, 2350.100,2
           NA,     A14,     76,   1,-999.0,       6,  2,19950203,1450, -30.0032,   -8.9987,  3957, 3795.900,    2.391,   34.879,2,   34.879,2,  237.600,2,  237.300,2,   50.900,2,   23.530,2, -999.000,9,    1.570,2,    0.001,2,    0.004,2, -999.000,9, 2199.700,2, 2352.600,2
           NA,     A14,     76,   1,-999.0,       5,  2,19950203,1450, -30.0032,   -8.9987,  3957, 3895.200,    2.398,   34.881,2,   34.880,2,  237.600,2,  237.000,2,   50.900,2,   23.520,2, -999.000,9,    1.570,2,    0.002,2,   -0.001,2, -999.000,9, -999.000,9, 2353.500,2
           NA,     A14,     76,   1,-999.0,       4,  2,19950203,1450, -30.0032,   -8.9987,  3957, 3896.100,    2.398,   34.880,2,   34.880,2,  237.600,2,  236.900,2,   51.100,2,   23.520,2, -999.000,9,    1.570,2,    0.004,2, -999.000,9, -999.000,9, 2201.400,2, 2353.600,2
           NA,     A14,     76,   1,-999.0,       3,  2,19950203,1450, -30.0032,   -8.9987,  3957, 3983.400,    2.408,   34.880,2,   34.882,2,  237.700,2,  237.200,2,   51.400,2,   23.480,2, -999.000,9,    1.550,2,    0.001,2,    0.004,2, -999.000,9, 2200.600,6, 2353.000,6