BOTTLE,20213527JOAExport
EXPOCODE,SECT_ID,STNNBR,CASTNO,SAMPNO,BTLNBR,BTLNBR_FLAG_W,DATE,TIME,LATITUDE,LONGITUDE,DEPTH,CTDPRS,CTDTMP,CTDSAL,CTDSAL_FLAG_W,SALNTY,SALNTY_FLAG_W,CTDOXY,CTDOXY_FLAG_W,OXYGEN,OXYGEN_FLAG_W,SILCAT,SILCAT_FLAG_W,NITRAT,NITRAT_FLAG_W,NITRIT,NITRIT_FLAG_W,PHSPHT,PHSPHT_FLAG_W,CFC-11,CFC-11_FLAG_W,CFC-12,CFC-12_FLAG_W,SF6,SF6_FLAG_W,TCARBN,TCARBN_FLAG_W,ALKALI,ALKALI_FLAG_W
,,,,,,,,,,,,DB,DEG C,PSS-78,,PSS-78,,UMOL/KG,,UMOL/KG,,UMOL/KG,,UMOL/KG,,UMOL/KG,,UMOL/KG,,PMOL/KG,,PMOL/KG,,FMOL/KG,,UMOL/KG,,UMOL/KG
           NA,     A14,     83,   1,-999.0,      32,  2,19950205,1852, -33.5028,   -9.0045,  4126,    4.200,   20.294,   35.294,2,   35.298,2,  224.100,2, -999.000,3,    0.700,2,    0.020,2, -999.000,9,    0.140,2,    2.305,2,    1.140,2, -999.000,9, -999.000,9, 2327.400,2
           NA,     A14,     83,   1,-999.0,      31,  2,19950205,1852, -33.5028,   -9.0045,  4126,   70.900,   15.781,   35.392,2,   35.391,2,  254.300,2,  251.800,2,    0.800,2,    0.110,2, -999.000,9,    0.180,2,    2.765,2,    1.327,2, -999.000,9, -999.000,9, -999.000,9
           NA,     A14,     83,   1,-999.0,      30,  2,19950205,1852, -33.5028,   -9.0045,  4126,  121.600,   14.721,   35.366,2,   35.369,2,  235.300,2,  236.000,2,    1.100,2,    3.830,2, -999.000,9,    0.390,2,    2.762,2,    1.318,2, -999.000,9, -999.000,9, -999.000,9
           NA,     A14,     83,   1,-999.0,      29,  2,19950205,1852, -33.5028,   -9.0045,  4126,  196.400,   13.988,   35.325,2,   35.326,2,  225.600,2,  225.500,2,    1.500,2,    6.070,2, -999.000,9,    0.520,2,    2.750,2,    1.306,2, -999.000,9, -999.000,9, -999.000,9
           NA,     A14,     83,   1,-999.0,      28,  2,19950205,1852, -33.5028,   -9.0045,  4126,  296.500,   12.898,   35.223,2,   35.219,2,  224.000,2,  220.800,2,    2.500,2,    9.650,2, -999.000,9,    0.710,2,    2.703,2,    1.266,2, -999.000,9, -999.000,9, -999.000,9
           NA,     A14,     83,   1,-999.0,      27,  2,19950205,1852, -33.5028,   -9.0045,  4126,  395.800,   11.415,   35.009,2, -999.000,3,  223.300,2,  220.800,2,    3.400,2,   12.870,2, -999.000,9,    0.910,2,    2.668,2,    1.247,2, -999.000,9, -999.000,9, -999.000,9
           NA,     A14,     83,   1,-999.0,      26,  2,19950205,1852, -33.5028,   -9.0045,  4126,  497.100,    9.638,   34.757,2,   34.758,2,  216.300,2,  214.400,2,    6.000,2,   17.840,2, -999.000,9,    1.230,2,    2.433,2,    1.105,2, -999.000,9, -999.000,9, -999.000,9
           NA,     A14,     83,   1,-999.0,      25,  2,19950205,1852, -33.5028,   -9.0045,  4126,  596.000,    8.037,   34.587,2,   34.591,2,  196.200,2,  195.000,2,   12.300,2,   23.350,2, -999.000,9,    1.620,2,    1.867,2,    0.833,2, -999.000,9, -999.000,9, -999.000,9
           NA,     A14,     83,   1,-999.0,      24,  2,19950205,1852, -33.5028,   -9.0045,  4126,  694.900,    6.412,   34.446,2,   34.445,2,  203.100,2,  205.400,2,   16.600,2,   26.630,2, -999.000,9,    1.830,2,    1.688,2,    0.741,2, -999.000,9, -999.000,9, -999.000,9
           NA,     A14,     83,   1,-999.0,      23,  2,19950205,1852, -33.5028,   -9.0045,  4126,  795.400,    5.375,   34.370,2,   34.376,2,  211.000,2,  210.800,2,   20.400,2,   28.570,2, -999.000,9,    1.950,2,    1.543,2,    0.672,2, -999.000,9, -999.000,9, -999.000,9
           NA,     A14,     83,   1,-999.0,      22,  2,19950205,1852, -33.5028,   -9.0045,  4126,  895.200,    4.496,   34.335,2,   34.341,2,  212.600,2,  213.100,2,   26.400,2,   30.160,2, -999.000,9,    2.050,2,    1.277,2,    0.562,2, -999.000,9, -999.000,9, -999.000,9
           NA,     A14,     83,   1,-999.0,      21,  2,19950205,1852, -33.5028,   -9.0045,  4126,  994.200,    3.931,   34.349,2,   34.351,2,  209.500,2,  207.000,2,   34.000,2,   31.520,2, -999.000,9,    2.160,2,    0.930,2,    0.417,2, -999.000,9, -999.000,9, -999.000,9
           NA,     A14,     83,   1,-999.0,      20,  2,19950205,1852, -33.5028,   -9.0045,  4126, 1195.300,    3.275,   34.439,2,   34.438,2,  192.300,2,  190.400,2,   48.000,2,   32.870,2, -999.000,9,    2.270,2,    0.380,2,    0.174,2, -999.000,9, -999.000,9, -999.000,9
           NA,     A14,     83,   1,-999.0,      19,  2,19950205,1852, -33.5028,   -9.0045,  4126, 1395.800,    2.966,   34.531,2,   34.532,2,  187.700,2,  186.400,2,   55.200,2,   32.570,2, -999.000,9,    2.240,2,    0.155,2,    0.077,2, -999.000,9, -999.000,9, -999.000,9
           NA,     A14,     83,   1,-999.0,      18,  2,19950205,1852, -33.5028,   -9.0045,  4126, 1595.600,    2.832,   34.626,2,   34.627,2,  189.500,2,  189.100,2,   57.800,2,   31.330,2, -999.000,9,    2.150,2,    0.063,2,    0.037,2, -999.000,9, -999.000,9, -999.000,9
           NA,     A14,     83,   1,-999.0,      17,  2,19950205,1852, -33.5028,   -9.0045,  4126, 1797.200,    2.758,   34.713,2,   34.714,2,  199.700,2,  197.800,2,   57.300,2,   29.500,2, -999.000,9,    2.010,2,    0.020,2,    0.014,2, -999.000,9, -999.000,9, -999.000,9
           NA,     A14,     83,   1,-999.0,      16,  2,19950205,1852, -33.5028,   -9.0045,  4126, 1997.100,    2.679,   34.766,2,   34.766,2,  208.900,2,  207.600,2,   55.700,2,   27.850,2, -999.000,9,    1.900,2,    0.012,2,    0.002,2, -999.000,9, -999.000,9, -999.000,9
           NA,     A14,     83,   1,-999.0,      15,  2,19950205,1852, -33.5028,   -9.0045,  4126, 2195.500,    2.620,   34.802,2,   34.802,2,  217.400,2,  216.700,2,   54.100,2,   26.430,2, -999.000,9,    1.810,2,    0.005,2,    0.006,2, -999.000,9, -999.000,9, -999.000,9
           NA,     A14,     83,   1,-999.0,      14,  2,19950205,1852, -33.5028,   -9.0045,  4126, 2395.200,    2.568,   34.827,2,   34.828,2,  223.600,2,  223.500,2,   52.400,2,   25.490,2, -999.000,9,    1.740,2,    0.002,2,    0.001,2, -999.000,9, -999.000,9, -999.000,9
           NA,     A14,     83,   1,-999.0,      13,  2,19950205,1852, -33.5028,   -9.0045,  4126, 2594.900,    2.513,   34.845,2,   34.843,2,  228.300,2,  228.900,2,   51.800,2,   24.600,2, -999.000,9,    1.690,2,    0.001,2,   -0.001,2, -999.000,9, -999.000,9, -999.000,9
           NA,     A14,     83,   1,-999.0,      12,  2,19950205,1852, -33.5028,   -9.0045,  4126, 2796.800,    2.462,   34.857,2,   34.856,2,  233.500,2,  233.100,2,   51.100,2,   24.180,2, -999.000,9,    1.650,2,    0.003,2,    0.001,2, -999.000,9, -999.000,9, -999.000,9
           NA,     A14,     83,   1,-999.0,      11,  2,19950205,1852, -33.5028,   -9.0045,  4126, 2995.200,    2.428,   34.864,2,   34.864,2,  236.700,2,  237.200,2,   50.500,2,   23.870,2, -999.000,9,    1.630,2,    0.003,2,    0.001,2, -999.000,9, -999.000,9, -999.000,9
           NA,     A14,     83,   1,-999.0,       9,  2,19950205,1852, -33.5028,   -9.0045,  4126, 3196.500,    2.407,   34.870,2,   34.868,2,  238.100,2,  237.100,2,   50.600,2,   23.680,2, -999.000,9,    1.610,2,    0.001,2, -999.000,9, -999.000,9, -999.000,9, -999.000,9
           NA,     A14,     83,   1,-999.0,      10,  2,19950205,1852, -33.5028,   -9.0045,  4126, 3196.600,    2.407,   34.870,2,   34.869,2,  238.100,2,  237.700,2,   50.600,2,   23.690,2, -999.000,9,    1.610,2,    0.004,2, -999.000,9, -999.000,9, -999.000,9, -999.000,9
           NA,     A14,     83,   1,-999.0,       8,  2,19950205,1852, -33.5028,   -9.0045,  4126, 3394.600,    2.398,   34.873,2,   34.871,2,  238.700,2,  237.800,2,   50.800,2,   23.640,2, -999.000,9,    1.600,2,    0.001,2, -999.000,9, -999.000,9, -999.000,9, -999.000,9
           NA,     A14,     83,   1,-999.0,       7,  2,19950205,1852, -33.5028,   -9.0045,  4126, 3595.500,    2.383,   34.876,2,   34.877,2,  237.000,2,  237.500,2,   51.500,2,   23.500,2, -999.000,9,    1.600,2,    0.001,2, -999.000,9, -999.000,9, -999.000,9, -999.000,9
           NA,     A14,     83,   1,-999.0,       6,  2,19950205,1852, -33.5028,   -9.0045,  4126, 3795.100,    2.363,   34.877,2,   34.877,2,  236.100,2,  236.300,2,   52.900,2,   23.630,2, -999.000,9,    1.620,2, -999.000,9, -999.000,9, -999.000,9, -999.000,9, -999.000,9
           NA,     A14,     83,   1,-999.0,       5,  2,19950205,1852, -33.5028,   -9.0045,  4126, 3997.500,    2.299,   34.869,2,   34.868,2,  234.300,2,  234.600,2,   56.100,2,   24.080,6, -999.000,9,    1.630,6,    0.002,2, -999.000,9, -999.000,9, -999.000,9, -999.000,9
           NA,     A14,     83,   1,-999.0,       4,  2,19950205,1852, -33.5028,   -9.0045,  4126, 4097.800,    2.250,   34.864,2,   34.863,2,  233.000,2,  233.400,2,   58.700,2,   24.440,2, -999.000,9,    1.670,2,    0.000,2, -999.000,9, -999.000,9, -999.000,9, -999.000,9
           NA,     A14,     83,   1,-999.0,       3,  2,19950205,1852, -33.5028,   -9.0045,  4126, 4175.100,    2.248,   34.862,2,   34.863,2,  232.200,2,  233.400,2,   59.500,2,   24.300,2, -999.000,9,    1.650,2,    0.003,2,    0.001,2, -999.000,9, -999.000,9, -999.000,9
           NA,     A14,     82,   1,-999.0,      32,  2,19950205,1305, -33.0000,   -9.0013,  3923,    3.800,   20.406,   35.368,2,   35.372,2,  231.000,2,  228.300,2,    1.100,2,    0.020,2, -999.000,9,    0.150,2,    2.295,2,    1.141,2, -999.000,9, 2040.100,6, 2333.100,2
           NA,     A14,     82,   1,-999.0,      31,  2,19950205,1305, -33.0000,   -9.0013,  3923,   46.900,   19.052,   35.548,2, -999.000,3,  238.200,2,  241.000,2,    1.300,2,    0.020,2, -999.000,9,    0.140,2,    2.475,2,    1.208,2, -999.000,9, 2046.800,2, -999.000,3
           NA,     A14,     82,   1,-999.0,      30,  2,19950205,1305, -33.0000,   -9.0013,  3923,   96.300,   17.314,   35.698,2,   35.693,2,  253.800,2, -999.000,3,    1.400,2,    0.020,2, -999.000,9,    0.190,2,    2.570,2,    1.248,2, -999.000,9, 2058.300,2, 2349.900,2
           NA,     A14,     82,   1,-999.0,      29,  2,19950205,1305, -33.0000,   -9.0013,  3923,  147.100,   16.090,   35.537,2, -999.000,3,  237.700,2, -999.000,3,    1.700,2,    1.900,2, -999.000,9,    0.300,2,    2.628,2,    1.267,2, -999.000,9, 2069.700,2, 2340.300,2
           NA,     A14,     82,   1,-999.0,      28,  2,19950205,1305, -33.0000,   -9.0013,  3923,  196.200,   14.940,   35.360,2,   35.360,2,  222.300,2, -999.000,3,    2.700,2,    5.750,2, -999.000,9,    0.510,2,    2.689,2,    1.278,2, -999.000,9, 2082.400,2, 2328.200,2
           NA,     A14,     82,   1,-999.0,      27,  2,19950205,1305, -33.0000,   -9.0013,  3923,  295.600,   13.074,   35.167,2,   35.171,2,  216.300,2,  213.700,2,    3.700,2,   10.000,2, -999.000,9,    0.730,2,    2.637,2,    1.264,2, -999.000,9, 2100.300,2, 2320.300,2
           NA,     A14,     82,   1,-999.0,      26,  2,19950205,1305, -33.0000,   -9.0013,  3923,  395.900,   11.952,   35.087,2, -999.000,3,  223.300,2,  219.000,2,    3.900,2,   12.150,2, -999.000,9,    0.860,2,    2.621,2,    1.245,2, -999.000,9, 2109.400,2, 2317.500,2
           NA,     A14,     82,   1,-999.0,      25,  2,19950205,1305, -33.0000,   -9.0013,  3923,  495.600,    9.596,   34.762,2,   34.766,2,  218.400,2, -999.000,3,    6.700,2,   18.230,2, -999.000,9,    1.240,2,    2.323,2,    1.046,2, -999.000,9, 2128.100,2, 2304.100,2
           NA,     A14,     82,   1,-999.0,      24,  2,19950205,1305, -33.0000,   -9.0013,  3923,  594.600,    7.553,   34.519,2,   34.523,2,  219.000,2,  217.400,2,    9.900,2,   22.610,2, -999.000,9,    1.540,2,    2.322,2,    1.023,2, -999.000,9, 2141.700,2, 2291.500,2
           NA,     A14,     82,   1,-999.0,      23,  2,19950205,1305, -33.0000,   -9.0013,  3923,  695.300,    6.130,   34.388,2,   34.391,2,  225.200,2,  222.900,2,   13.800,2,   25.540,2, -999.000,9,    1.750,2,    2.118,2,    0.924,2, -999.000,9, 2153.800,2, 2291.600,2
           NA,     A14,     82,   1,-999.0,      22,  2,19950205,1305, -33.0000,   -9.0013,  3923,  796.000,    4.969,   34.310,2,   34.317,2,  230.200,2,  228.600,2,   18.900,2,   27.950,2, -999.000,9,    1.900,2,    1.785,2,    0.786,2, -999.000,9, 2163.400,2, 2290.700,2
           NA,     A14,     82,   1,-999.0,      21,  2,19950205,1305, -33.0000,   -9.0013,  3923,  895.800,    4.309,   34.288,2,   34.291,2,  231.000,2,  229.200,2,   23.400,2,   29.310,2, -999.000,9,    2.000,2,    1.550,2,    0.665,2, -999.000,9, 2170.400,2, 2295.300,2
           NA,     A14,     82,   1,-999.0,      20,  2,19950205,1305, -33.0000,   -9.0013,  3923,  995.600,    3.936,   34.305,2,   34.308,2,  225.400,2,  221.400,2,   29.000,2,   30.600,2, -999.000,9,    2.090,2,    1.176,2,    0.521,2, -999.000,9, 2182.700,2, 2300.300,2
           NA,     A14,     82,   1,-999.0,      19,  2,19950205,1305, -33.0000,   -9.0013,  3923, 1196.100,    3.268,   34.381,2,   34.386,2,  204.400,2,  202.200,2,   43.400,2,   32.600,2, -999.000,9,    2.230,2,    0.525,2,    0.250,2, -999.000,9, -999.000,9, 2312.700,2
           NA,     A14,     82,   1,-999.0,      18,  2,19950205,1305, -33.0000,   -9.0013,  3923, 1396.900,    3.022,   34.504,2,   34.504,2,  189.800,2,  187.700,2,   53.800,2,   32.840,2, -999.000,9,    2.250,2,    0.195,2,    0.090,2, -999.000,9, -999.000,9, 2326.100,2
           NA,     A14,     82,   1,-999.0,      17,  2,19950205,1305, -33.0000,   -9.0013,  3923, 1595.400,    2.866,   34.617,2,   34.620,2,  189.400,2,  188.300,2,   57.700,2,   31.660,2, -999.000,9,    2.160,2,    0.069,2,    0.034,2, -999.000,9, 2226.500,2, 2335.600,2
           NA,     A14,     82,   1,-999.0,      16,  2,19950205,1305, -33.0000,   -9.0013,  3923, 1794.500,    2.759,   34.703,2,   34.703,2,  198.100,2,  196.700,2,   57.500,2,   29.710,2, -999.000,9,    2.030,2,    0.023,2,    0.021,2, -999.000,9, 2220.900,2, 2337.500,2
           NA,     A14,     82,   1,-999.0,      15,  2,19950205,1305, -33.0000,   -9.0013,  3923, 1995.500,    2.701,   34.757,2,   34.758,2,  206.800,2,  205.700,2,   56.200,2,   28.180,2, -999.000,9,    1.920,2,    0.014,2,    0.018,2, -999.000,9, 2215.700,2, 2339.600,2
           NA,     A14,     82,   1,-999.0,      14,  2,19950205,1305, -33.0000,   -9.0013,  3923, 2193.800,    2.636,   34.795,2,   34.795,2,  214.700,2,  214.200,2,   54.900,2,   26.830,2, -999.000,9,    1.840,2,    0.004,2,    0.001,2, -999.000,9, 2210.700,2, 2340.400,2
           NA,     A14,     82,   1,-999.0,      13,  2,19950205,1305, -33.0000,   -9.0013,  3923, 2395.500,    2.565,   34.827,2,   34.826,2,  223.300,2,  222.700,2,   53.300,2,   25.590,2, -999.000,9,    1.760,2,    0.003,2,    0.002,2, -999.000,9, 2205.300,2, 2341.500,2
           NA,     A14,     82,   1,-999.0,      12,  2,19950205,1305, -33.0000,   -9.0013,  3923, 2595.800,    2.516,   34.843,2,   34.843,2,  228.800,2,  228.000,2,   52.700,2,   24.760,2, -999.000,9,    1.700,2,    0.001,2, -999.000,9, -999.000,9, 2200.800,2, 2341.000,2
           NA,     A14,     82,   1,-999.0,      11,  2,19950205,1305, -33.0000,   -9.0013,  3923, 2788.000,    2.465,   34.856,2,   34.854,2,  233.600,2,  232.300,2,   51.400,6,   24.280,6, -999.000,9,    1.650,6,    0.000,2,    0.001,2, -999.000,9, 2198.400,2, 2341.800,2
           NA,     A14,     82,   1,-999.0,      10,  2,19950205,1305, -33.0000,   -9.0013,  3923, 2996.100,    2.422,   34.865,2,   34.865,2,  236.500,2,  236.100,2,   50.600,2,   23.900,2, -999.000,9,    1.630,2,    0.001,2,    0.003,2, -999.000,9, 2196.800,2, 2343.700,2
           NA,     A14,     82,   1,-999.0,       9,  2,19950205,1305, -33.0000,   -9.0013,  3923, 3194.500,    2.391,   34.871,2,   34.871,2,  239.200,2,  237.800,2,   50.900,2,   23.680,2, -999.000,9,    1.610,2,    0.000,2,    0.001,2, -999.000,9, 2199.000,2, 2346.900,2
           NA,     A14,     82,   1,-999.0,       8,  2,19950205,1305, -33.0000,   -9.0013,  3923, 3396.200,    2.384,   34.875,2,   34.873,2,  239.000,2,  237.800,2,   50.900,2,   23.630,2, -999.000,9,    1.600,2,    0.002,2, -999.000,9, -999.000,9, -999.000,9, 2347.900,2
           NA,     A14,     82,   1,-999.0,       7,  2,19950205,1305, -33.0000,   -9.0013,  3923, 3396.500,    2.384,   34.875,2,   34.873,2,  239.000,2,  237.700,2,   50.800,2,   23.630,2, -999.000,9,    1.600,2,    0.001,2, -999.000,9, -999.000,9, 2198.400,2, 2349.500,2
           NA,     A14,     82,   1,-999.0,       6,  2,19950205,1305, -33.0000,   -9.0013,  3923, 3595.300,    2.378,   34.878,2,   34.876,2,  238.500,2,  237.200,2,   51.400,2,   23.590,2, -999.000,9,    1.600,2,    0.001,2,    0.001,2, -999.000,9, 2201.100,2, 2351.400,2
           NA,     A14,     82,   1,-999.0,       5,  2,19950205,1305, -33.0000,   -9.0013,  3923, 3796.500,    2.375,   34.878,2,   34.878,2,  237.000,2,  236.400,2,   52.100,2,   23.630,2, -999.000,9,    1.600,2,    0.001,2, -999.000,9, -999.000,9, 2203.500,2, 2355.200,2
           NA,     A14,     82,   1,-999.0,       3,  2,19950205,1305, -33.0000,   -9.0013,  3923, 3886.000,    2.367,   34.879,2,   34.878,2,  237.000,2,  236.100,2,   52.900,2,   23.760,2, -999.000,9,    1.600,2,    0.003,2,    0.000,2, -999.000,9, 2207.500,2, 2357.600,6
           NA,     A14,     82,   1,-999.0,       4,  2,19950205,1305, -33.0000,   -9.0013,  3923, 3965.900,    2.362,   34.877,2,   34.876,2,  236.700,2,  235.700,2,   53.500,2,   23.760,2, -999.000,9,    1.600,2,    0.000,2,    0.000,2, -999.000,9, 2204.900,6, 2355.900,2