BOTTLE,20213527JOAExport
EXPOCODE,SECT_ID,STNNBR,CASTNO,SAMPNO,BTLNBR,BTLNBR_FLAG_W,DATE,TIME,LATITUDE,LONGITUDE,DEPTH,CTDPRS,CTDTMP,CTDSAL,CTDSAL_FLAG_W,SALNTY,SALNTY_FLAG_W,CTDOXY,CTDOXY_FLAG_W,OXYGEN,OXYGEN_FLAG_W,SILCAT,SILCAT_FLAG_W,NITRAT,NITRAT_FLAG_W,NITRIT,NITRIT_FLAG_W,PHSPHT,PHSPHT_FLAG_W,CFC-11,CFC-11_FLAG_W,CFC-12,CFC-12_FLAG_W,SF6,SF6_FLAG_W,TCARBN,TCARBN_FLAG_W,ALKALI,ALKALI_FLAG_W
,,,,,,,,,,,,DB,DEG C,PSS-78,,PSS-78,,UMOL/KG,,UMOL/KG,,UMOL/KG,,UMOL/KG,,UMOL/KG,,UMOL/KG,,PMOL/KG,,PMOL/KG,,FMOL/KG,,UMOL/KG,,UMOL/KG
           NA,     A14,     81,   1,-999.0,      32,  2,19950205,0727, -32.5038,   -8.9757,  4344,    6.000,   22.118,   35.985,2,   35.986,2,  221.500,2,  220.400,2,    1.700,2,    0.020,2, -999.000,9,    0.170,2,    2.103,2,    1.042,2, -999.000,9, -999.000,9, -999.000,9
           NA,     A14,     81,   1,-999.0,      31,  2,19950205,0727, -32.5038,   -8.9757,  4344,   57.300,   19.076,   35.799,2,   35.800,2,  232.300,2, -999.000,3,    1.600,2,    0.020,2, -999.000,9,    0.160,2,    2.497,2,    1.207,2, -999.000,9, -999.000,9, -999.000,9
           NA,     A14,     81,   1,-999.0,      30,  2,19950205,0727, -32.5038,   -8.9757,  4344,  121.600,   17.422,   35.727,2,   35.724,2,  244.400,2, -999.000,3,    1.800,2,    0.200,2, -999.000,9,    0.220,2,    2.550,2,    1.223,2, -999.000,9, -999.000,9, -999.000,9
           NA,     A14,     81,   1,-999.0,      29,  2,19950205,0727, -32.5038,   -8.9757,  4344,  196.300,   16.261,   35.562,2,   35.564,2,  228.800,2, -999.000,3,    2.100,2,    2.890,2, -999.000,9,    0.350,2,    2.635,2,    1.256,2, -999.000,9, -999.000,9, -999.000,9
           NA,     A14,     81,   1,-999.0,      28,  2,19950205,0727, -32.5038,   -8.9757,  4344,  297.000,   13.983,   35.238,2,   35.241,2,  214.300,2,  211.800,2,    3.300,2,    8.220,2, -999.000,9,    0.650,2,    2.669,2,    1.235,2, -999.000,9, -999.000,9, -999.000,9
           NA,     A14,     81,   1,-999.0,      27,  2,19950205,0727, -32.5038,   -8.9757,  4344,  396.200,   12.646,   35.105,2,   35.104,2,  210.500,2,  210.200,2,    4.300,2,   11.540,2, -999.000,9,    0.840,2,    2.566,2,    1.186,2, -999.000,9, -999.000,9, -999.000,9
           NA,     A14,     81,   1,-999.0,      26,  2,19950205,0727, -32.5038,   -8.9757,  4344,  495.700,   10.766,   34.871,2, -999.000,3,  202.600,2,  200.600,2,    6.700,2,   16.550,2, -999.000,9,    1.160,2,    2.329,2,    1.093,2, -999.000,9, -999.000,9, -999.000,9
           NA,     A14,     81,   1,-999.0,      25,  2,19950205,0727, -32.5038,   -8.9757,  4344,  598.100,    9.044,   34.681,2,   34.687,2,  200.000,2,  198.200,2,    9.900,2,   20.670,2, -999.000,9,    1.430,2,    2.115,2,    0.930,2, -999.000,9, -999.000,9, -999.000,9
           NA,     A14,     81,   1,-999.0,      24,  2,19950205,0727, -32.5038,   -8.9757,  4344,  696.800,    7.671,   34.554,2,   34.556,2,  196.600,2,  196.400,2,   13.800,2,   24.030,2, -999.000,9,    1.670,2,    1.809,2,    0.787,2, -999.000,9, -999.000,9, -999.000,9
           NA,     A14,     81,   1,-999.0,      23,  2,19950205,0727, -32.5038,   -8.9757,  4344,  796.500,    6.076,   34.421,2, -999.000,3,  204.900,2,  204.200,2,   18.500,2,   27.230,2, -999.000,9,    1.870,2,    1.630,2,    0.694,2, -999.000,9, -999.000,9, -999.000,9
           NA,     A14,     81,   1,-999.0,      22,  2,19950205,0727, -32.5038,   -8.9757,  4344,  896.500,    4.786,   34.340,2,   34.345,2,  210.300,2,  214.200,2,   24.000,2,   29.470,2, -999.000,9,    2.020,2,    1.431,2,    0.614,2, -999.000,9, -999.000,9, -999.000,9
           NA,     A14,     81,   1,-999.0,      21,  2,19950205,0727, -32.5038,   -8.9757,  4344,  996.300,    4.147,   34.334,2,   34.336,2,  208.900,2,  211.900,2,   30.400,2,   30.780,6, -999.000,9,    2.100,6,    1.112,2,    0.477,2, -999.000,9, -999.000,9, -999.000,9
           NA,     A14,     81,   1,-999.0,      20,  2,19950205,0727, -32.5038,   -8.9757,  4344,  997.500,    4.148,   34.333,2,   34.337,2,  209.200,2,  211.800,2,   30.700,2,   30.770,2, -999.000,9,    2.110,2,    1.125,2,    0.458,2, -999.000,9, -999.000,9, -999.000,9
           NA,     A14,     81,   1,-999.0,      19,  2,19950205,0727, -32.5038,   -8.9757,  4344, 1196.300,    3.392,   34.397,2,   34.401,2,  200.000,2,  196.900,2,   43.800,2,   32.710,2, -999.000,9,    2.250,2,    0.345,2,    0.149,2, -999.000,9, -999.000,9, -999.000,9
           NA,     A14,     81,   1,-999.0,      18,  2,19950205,0727, -32.5038,   -8.9757,  4344, 1397.600,    2.974,   34.506,2,   34.511,2,  188.600,2,  189.000,2,   53.900,2,   32.770,2, -999.000,9,    2.260,2,    0.191,2,    0.051,2, -999.000,9, -999.000,9, -999.000,9
           NA,     A14,     81,   1,-999.0,      17,  2,19950205,0727, -32.5038,   -8.9757,  4344, 1596.400,    2.845,   34.612,2,   34.615,2,  189.500,2,  188.900,2,   57.800,2,   31.650,2, -999.000,9,    2.170,2,    0.070,2,    0.028,2, -999.000,9, -999.000,9, -999.000,9
           NA,     A14,     81,   1,-999.0,      16,  2,19950205,0727, -32.5038,   -8.9757,  4344, 1798.200,    2.780,   34.688,2,   34.691,2,  196.300,2,  195.000,2,   57.800,2,   30.110,2, -999.000,9,    2.060,2,    0.037,2,    0.019,2, -999.000,9, -999.000,9, -999.000,9
           NA,     A14,     81,   1,-999.0,      15,  2,19950205,0727, -32.5038,   -8.9757,  4344, 1997.400,    2.699,   34.754,2,   34.755,2,  204.800,2,  205.400,2,   56.000,2,   28.220,2, -999.000,9,    1.930,2,    0.013,2,    0.006,2, -999.000,9, -999.000,9, -999.000,9
           NA,     A14,     81,   1,-999.0,      14,  2,19950205,0727, -32.5038,   -8.9757,  4344, 2195.600,    2.636,   34.796,2,   34.796,2,  214.900,2,  214.500,2,   54.100,2,   26.800,2, -999.000,9,    1.840,2,    0.003,2,    0.001,2, -999.000,9, -999.000,9, -999.000,9
           NA,     A14,     81,   1,-999.0,      13,  2,19950205,0727, -32.5038,   -8.9757,  4344, 2395.400,    2.575,   34.823,2,   34.823,2,  220.900,2,  221.900,2,   53.500,2,   25.680,2, -999.000,9,    1.760,2,    0.003,2,    0.001,2, -999.000,9, -999.000,9, -999.000,9
           NA,     A14,     81,   1,-999.0,      12,  2,19950205,0727, -32.5038,   -8.9757,  4344, 2596.600,    2.505,   34.844,2,   34.844,2,  228.500,2,  228.700,2,   51.600,2,   24.560,2, -999.000,9,    1.700,2,    0.003,2,   -0.001,2, -999.000,9, -999.000,9, -999.000,9
           NA,     A14,     81,   1,-999.0,      11,  2,19950205,0727, -32.5038,   -8.9757,  4344, 2796.300,    2.470,   34.856,2,   34.855,2,  232.400,2,  232.600,2,   50.600,2,   24.190,2, -999.000,9,    1.660,2,    0.000,2, -999.000,9, -999.000,9, -999.000,9, -999.000,9
           NA,     A14,     81,   1,-999.0,      10,  2,19950205,0727, -32.5038,   -8.9757,  4344, 2996.600,    2.443,   34.863,2,   34.864,2,  235.900,2,  235.700,2,   50.200,2,   23.840,2, -999.000,9,    1.630,2,    0.002,2,    0.002,2, -999.000,9, -999.000,9, -999.000,9
           NA,     A14,     81,   1,-999.0,       9,  2,19950205,0727, -32.5038,   -8.9757,  4344, 3198.600,    2.418,   34.868,2,   34.868,2,  238.600,2,  237.900,2,   49.900,2,   23.610,2, -999.000,9,    1.610,2,    0.003,2,    0.001,2, -999.000,9, -999.000,9, -999.000,9
           NA,     A14,     81,   1,-999.0,       8,  2,19950205,0727, -32.5038,   -8.9757,  4344, 3395.300,    2.412,   34.871,2,   34.870,2,  239.100,2,  238.200,2,   50.500,2,   23.560,2, -999.000,9,    1.600,2,    0.002,2,    0.000,2, -999.000,9, -999.000,9, -999.000,9
           NA,     A14,     81,   1,-999.0,       7,  2,19950205,0727, -32.5038,   -8.9757,  4344, 3595.600,    2.407,   34.873,2,   34.874,2,  239.000,2,  238.300,2,   50.800,2,   23.470,2, -999.000,9,    1.600,2,    0.000,2,    0.000,2, -999.000,9, -999.000,9, -999.000,9
           NA,     A14,     81,   1,-999.0,       6,  2,19950205,0727, -32.5038,   -8.9757,  4344, 3796.100,    2.406,   34.877,2,   34.875,2,  238.100,2,  237.500,2,   51.100,2,   23.430,2, -999.000,9,    1.600,2,    0.000,2,    0.000,2, -999.000,9, -999.000,9, -999.000,9
           NA,     A14,     81,   1,-999.0,       5,  2,19950205,0727, -32.5038,   -8.9757,  4344, 3994.900,    2.408,   34.879,2,   34.877,2,  237.900,2,  236.600,2,   51.400,2,   23.470,2, -999.000,9,    1.590,2,    0.000,2, -999.000,9, -999.000,9, -999.000,9, -999.000,9
           NA,     A14,     81,   1,-999.0,       4,  2,19950205,0727, -32.5038,   -8.9757,  4344, 4246.500,    2.278,   34.868,2,   34.867,2,  232.700,2,  232.900,2,   58.100,2,   24.140,2, -999.000,9,    1.650,2,    0.001,2, -999.000,9, -999.000,9, -999.000,9, -999.000,9
           NA,     A14,     81,   1,-999.0,       3,  2,19950205,0727, -32.5038,   -8.9757,  4344, 4321.600,    2.267,   34.866,2,   34.865,2,  231.800,2,  232.800,2,   59.600,2,   24.180,2, -999.000,9,    1.650,2,    0.001,2,   -0.001,2, -999.000,9, -999.000,9, -999.000,9
           NA,     A14,     80,   1,-999.0,      32,  2,19950205,0127, -32.0070,   -8.9965,  3953,    4.400,   22.042,   35.895,2,   35.897,2,  220.300,2,  221.000,2,    1.700,2,    0.020,2, -999.000,9,    0.140,2,    2.099,2,    1.055,2, -999.000,9, -999.000,9, 2359.600,2
           NA,     A14,     80,   1,-999.0,      31,  2,19950205,0127, -32.0070,   -8.9965,  3953,   36.200,   22.053,   35.895,2,   35.896,2,  225.000,2,  221.000,2,    1.700,2,    0.020,2, -999.000,9,    0.150,2,    2.126,2,    1.056,2, -999.000,9, -999.000,9, -999.000,9
           NA,     A14,     80,   1,-999.0,      30,  2,19950205,0127, -32.0070,   -8.9965,  3953,   51.600,   20.385,   35.802,2, -999.000,3,  243.600,2, -999.000,3,    1.800,2,    0.020,2, -999.000,9,    0.150,2,    2.367,2,    1.162,2, -999.000,9, -999.000,9, -999.000,9
           NA,     A14,     80,   1,-999.0,      29,  2,19950205,0127, -32.0070,   -8.9965,  3953,   95.100,   17.584,   35.728,2,   35.730,2,  242.300,2,  243.800,2,    1.800,2,    0.020,2, -999.000,9,    0.160,2,    2.546,2,    1.216,2, -999.000,9, -999.000,9, -999.000,9
           NA,     A14,     80,   1,-999.0,      28,  2,19950205,0127, -32.0070,   -8.9965,  3953,  146.400,   17.164,   35.720,2,   35.720,2,  226.000,2,  228.200,2,    2.300,2,    0.960,2, -999.000,9,    0.250,2,    2.575,2,    1.250,2, -999.000,9, -999.000,9, -999.000,9
           NA,     A14,     80,   1,-999.0,      27,  2,19950205,0127, -32.0070,   -8.9965,  3953,  195.700,   17.079,   35.709,2,   35.711,2,  228.900,2,  227.800,2,    2.200,2,    1.460,2, -999.000,9,    0.260,2,    2.567,2,    1.240,2, -999.000,9, -999.000,9, -999.000,9
           NA,     A14,     80,   1,-999.0,      26,  2,19950205,0127, -32.0070,   -8.9965,  3953,  294.500,   15.656,   35.461,2,   35.462,2,  221.800,2,  218.700,2,    3.400,2,    5.000,2, -999.000,9,    0.460,2,    2.628,2,    1.286,2, -999.000,9, -999.000,9, -999.000,9
           NA,     A14,     80,   1,-999.0,      25,  2,19950205,0127, -32.0070,   -8.9965,  3953,  396.000,   14.058,   35.254,2,   35.257,2,  215.700,2,  212.800,2,    4.000,2,    8.190,2, -999.000,9,    0.640,2,    2.635,2,    1.215,2, -999.000,9, -999.000,9, -999.000,9
           NA,     A14,     80,   1,-999.0,      24,  2,19950205,0127, -32.0070,   -8.9965,  3953,  496.600,   12.163,   35.047,2, -999.000,3,  213.000,2,  210.800,2,    5.100,2,   12.590,2, -999.000,9,    0.890,2,    2.506,2,    1.141,2, -999.000,9, -999.000,9, -999.000,9
           NA,     A14,     80,   1,-999.0,      23,  2,19950205,0127, -32.0070,   -8.9965,  3953,  594.700,   10.437,   34.836,2,   34.838,2,  212.500,2,  210.000,2,    6.800,2,   16.580,2, -999.000,9,    1.130,2,    2.364,2,    1.049,2, -999.000,9, -999.000,9, -999.000,9
           NA,     A14,     80,   1,-999.0,      22,  2,19950205,0127, -32.0070,   -8.9965,  3953,  696.100,    8.651,   34.638,2,   34.644,2,  208.400,2, -999.000,3,   10.300,6,   21.150,6, -999.000,9,    1.440,6,    2.140,2,    0.948,2, -999.000,9, -999.000,9, -999.000,9
           NA,     A14,     80,   1,-999.0,      21,  2,19950205,0127, -32.0070,   -8.9965,  3953,  797.600,    6.757,   34.472,2,   34.477,2,  204.900,2,  200.600,2,   16.500,2,   26.050,2, -999.000,9,    1.780,2,    1.730,2,    0.744,2, -999.000,9, -999.000,9, -999.000,9
           NA,     A14,     80,   1,-999.0,      20,  2,19950205,0127, -32.0070,   -8.9965,  3953,  995.800,    4.770,   34.347,2,   34.351,2,  211.500,2,  211.900,2,   26.000,2,   29.720,2, -999.000,9,    2.030,2,    1.366,2,    0.599,2, -999.000,9, -999.000,9, -999.000,9
           NA,     A14,     80,   1,-999.0,      19,  2,19950205,0127, -32.0070,   -8.9965,  3953, 1195.300,    3.674,   34.391,2,   34.394,2,  196.400,2, -999.000,4,   41.100,2,   32.850,2, -999.000,9,    2.240,2,    0.601,2,    0.263,2, -999.000,9, -999.000,9, -999.000,9
           NA,     A14,     80,   1,-999.0,      18,  2,19950205,0127, -32.0070,   -8.9965,  3953, 1396.200,    3.204,   34.496,2,   34.499,2,  183.500,2,  183.900,2,   52.600,2,   33.080,2, -999.000,9,    2.270,2,    0.200,2,    0.088,2, -999.000,9, -999.000,9, -999.000,9
           NA,     A14,     80,   1,-999.0,      17,  2,19950205,0127, -32.0070,   -8.9965,  3953, 1598.300,    2.948,   34.608,2,   34.611,2,  185.200,2,  185.700,2,   57.500,2,   31.900,2, -999.000,9,    2.180,2,    0.068,2,    0.032,2, -999.000,9, -999.000,9, -999.000,9
           NA,     A14,     80,   1,-999.0,      16,  2,19950205,0127, -32.0070,   -8.9965,  3953, 1795.200,    2.800,   34.684,2,   34.685,2,  192.600,2,  194.100,2,   56.100,6,   30.340,6, -999.000,9,    2.060,6,    0.049,2,    0.033,2, -999.000,9, -999.000,9, -999.000,9
           NA,     A14,     80,   1,-999.0,      15,  2,19950205,0127, -32.0070,   -8.9965,  3953, 1994.500,    2.717,   34.757,2,   34.757,2,  205.100,2,  205.200,2,   55.300,6,   28.180,6, -999.000,9,    1.920,6,    0.041,2, -999.000,9, -999.000,9, -999.000,9, -999.000,9
           NA,     A14,     80,   1,-999.0,      14,  2,19950205,0127, -32.0070,   -8.9965,  3953, 2195.800,    2.646,   34.793,2,   34.794,2,  214.600,2,  213.900,2,   54.200,2,   26.930,2, -999.000,9,    1.830,2,    0.005,2,    0.003,2, -999.000,9, -999.000,9, -999.000,9
           NA,     A14,     80,   1,-999.0,      12,  2,19950205,0127, -32.0070,   -8.9965,  3953, 2596.800,    2.512,   34.843,2,   34.844,2,  228.400,2,  228.300,2,   52.000,2,   24.860,2, -999.000,9,    1.690,2,    0.002,2,   -0.001,2, -999.000,9, -999.000,9, -999.000,9
           NA,     A14,     80,   1,-999.0,      11,  2,19950205,0127, -32.0070,   -8.9965,  3953, 2795.000,    2.470,   34.855,2,   34.853,2,  233.100,2,  232.200,2,   51.500,2,   24.290,2, -999.000,9,    1.660,2,    0.003,2,    0.003,2, -999.000,9, -999.000,9, -999.000,9
           NA,     A14,     80,   1,-999.0,      10,  2,19950205,0127, -32.0070,   -8.9965,  3953, 2996.100,    2.426,   34.865,2,   34.865,2,  236.700,2,  235.900,2,   50.700,2,   23.880,2, -999.000,9,    1.620,2,    0.004,2,    0.001,2, -999.000,9, -999.000,9, -999.000,9
           NA,     A14,     80,   1,-999.0,       9,  2,19950205,0127, -32.0070,   -8.9965,  3953, 3195.700,    2.401,   34.870,2,   34.868,2,  238.000,2,  238.000,2,   50.100,2,   23.700,2, -999.000,9,    1.600,2,    0.002,2,    0.001,2, -999.000,9, -999.000,9, -999.000,9
           NA,     A14,     80,   1,-999.0,       8,  2,19950205,0127, -32.0070,   -8.9965,  3953, 3395.500,    2.387,   34.874,2,   34.873,2,  238.600,2,  238.500,2,   50.600,2,   23.610,2, -999.000,9,    1.590,2,    0.000,2, -999.000,9, -999.000,9, -999.000,9, -999.000,9
           NA,     A14,     80,   1,-999.0,       7,  2,19950205,0127, -32.0070,   -8.9965,  3953, 3595.900,    2.384,   34.878,2,   34.877,2,  237.800,2,  237.600,2,   50.700,2,   23.560,2, -999.000,9,    1.600,2,    0.000,2,    0.001,2, -999.000,9, -999.000,9, -999.000,9
           NA,     A14,     80,   1,-999.0,       6,  2,19950205,0127, -32.0070,   -8.9965,  3953, 3596.600,    2.383,   34.879,2,   34.877,2,  237.900,2,  237.800,2,   50.800,2,   23.610,2, -999.000,9,    1.600,2,    0.001,2,    0.003,2, -999.000,9, -999.000,9, -999.000,9
           NA,     A14,     80,   1,-999.0,       5,  2,19950205,0127, -32.0070,   -8.9965,  3953, 3796.300,    2.390,   34.879,2,   34.879,2,  237.000,2,  237.300,2,   51.100,2,   23.560,2, -999.000,9,    1.590,2,    0.000,2, -999.000,9, -999.000,9, -999.000,9, -999.000,9
           NA,     A14,     80,   1,-999.0,       4,  2,19950205,0127, -32.0070,   -8.9965,  3953, 3896.300,    2.387,   34.881,2,   34.879,2,  234.000,2,  236.200,2,   51.500,2,   23.560,2, -999.000,9,    1.590,2,    0.002,2,    0.002,2, -999.000,9, -999.000,9, -999.000,9
           NA,     A14,     80,   1,-999.0,       3,  2,19950205,0127, -32.0070,   -8.9965,  3953, 3984.400,    2.393,   34.882,2,   34.881,2,  233.000,2,  235.900,2,   51.400,2,   23.600,2, -999.000,9,    1.590,2,    0.001,2,    0.003,2, -999.000,9, -999.000,9, -999.000,9