BOTTLE,20213527JOAExport
EXPOCODE,SECT_ID,STNNBR,CASTNO,SAMPNO,BTLNBR,BTLNBR_FLAG_W,DATE,TIME,LATITUDE,LONGITUDE,DEPTH,CTDPRS,CTDTMP,CTDSAL,CTDSAL_FLAG_W,SALNTY,SALNTY_FLAG_W,CTDOXY,CTDOXY_FLAG_W,OXYGEN,OXYGEN_FLAG_W,SILCAT,SILCAT_FLAG_W,NITRAT,NITRAT_FLAG_W,NITRIT,NITRIT_FLAG_W,PHSPHT,PHSPHT_FLAG_W,CFC-11,CFC-11_FLAG_W,CFC-12,CFC-12_FLAG_W,SF6,SF6_FLAG_W,TCARBN,TCARBN_FLAG_W,ALKALI,ALKALI_FLAG_W
,,,,,,,,,,,,DB,DEG C,PSS-78,,PSS-78,,UMOL/KG,,UMOL/KG,,UMOL/KG,,UMOL/KG,,UMOL/KG,,UMOL/KG,,PMOL/KG,,PMOL/KG,,FMOL/KG,,UMOL/KG,,UMOL/KG
           NA,     A14,     10,   1,-999.0,      32,  2,19950119,0855,   1.9998,   -6.9988,  4494,    2.300,   28.696,   34.812,2, -999.000,3,  197.700,2,  198.700,2,    0.520,2,    0.000,2, -999.000,9,    0.010,2,    1.636,2,    0.933,2, -999.000,9, 1907.800,6, 2279.300,2
           NA,     A14,     10,   1,-999.0,      31,  2,19950119,0855,   1.9998,   -6.9988,  4494,   47.200,   23.827,   35.636,2, -999.000,3,  206.900,2, -999.000,3,    0.760,2,    0.040,2, -999.000,9,    0.110,2,    1.754,2,    0.877,2, -999.000,9, 2033.200,2, 2342.200,2
           NA,     A14,     10,   1,-999.0,      30,  2,19950119,0855,   1.9998,   -6.9988,  4494,   77.800,   16.307,   35.638,2, -999.000,3,  126.800,2,  124.300,2,    5.220,2,   17.250,2, -999.000,9,    1.090,2,    1.534,2,    0.729,2, -999.000,9, 2154.900,2, 2341.400,2
           NA,     A14,     10,   1,-999.0,      29,  2,19950119,0855,   1.9998,   -6.9988,  4494,   97.000,   15.095,   35.540,2, -999.000,3,  127.800,2,  129.500,2,    5.940,2,   18.060,2, -999.000,9,    1.160,2,    1.500,2,    0.709,2, -999.000,9, 2155.500,2, 2336.800,2
           NA,     A14,     10,   1,-999.0,      28,  2,19950119,0855,   1.9998,   -6.9988,  4494,  196.900,   13.330,   35.318,2,   35.318,2,  129.200,2,  128.400,2,    7.610,2,   19.960,2, -999.000,9,    1.300,2,    1.314,2,    0.617,2, -999.000,9, 2163.700,2, 2325.900,2
           NA,     A14,     10,   1,-999.0,      27,  2,19950119,0855,   1.9998,   -6.9988,  4494,  396.600,    8.854,   34.821,2,   34.822,2,   96.600,2, -999.000,3,   16.280,2,   32.330,2, -999.000,9,    2.030,2,    0.303,2,    0.161,2, -999.000,9, 2218.900,2, 2304.300,2
           NA,     A14,     10,   1,-999.0,      26,  2,19950119,0855,   1.9998,   -6.9988,  4494,  596.300,    6.051,   34.570,2,   34.576,2,  111.200,2,  111.700,2,   25.040,2,   35.680,2, -999.000,9,    2.340,2,    0.051,2,    0.040,2, -999.000,9, 2226.600,2, 2300.900,2
           NA,     A14,     10,   1,-999.0,      25,  2,19950119,0855,   1.9998,   -6.9988,  4494,  796.500,    4.814,   34.540,2,   34.544,2,  146.400,2,  144.200,2,   30.520,2,   34.400,2, -999.000,9,    2.350,2,    0.044,2,    0.026,2, -999.000,9, 2220.000,2, 2306.700,2
           NA,     A14,     10,   1,-999.0,      24,  2,19950119,0855,   1.9998,   -6.9988,  4494,  995.500,    4.536,   34.632,2,   34.633,2,  154.200,2,  155.500,2,   30.600,2,   32.610,2, -999.000,9,    2.180,2,    0.029,2,    0.025,2, -999.000,9, 2216.700,2, 2311.900,2
           NA,     A14,     10,   1,-999.0,      23,  2,19950119,0855,   1.9998,   -6.9988,  4494, 1195.800,    4.443,   34.862,2,   34.861,2,  191.700,2,  191.000,2,   23.830,2,   26.320,2, -999.000,9,    1.740,2,    0.036,2,    0.033,2, -999.000,9, 2194.300,2, 2316.400,2
           NA,     A14,     10,   1,-999.0,      22,  2,19950119,0855,   1.9998,   -6.9988,  4494, 1396.400,    4.376,   34.909,2,   34.914,2,  207.200,2,  205.100,2,   21.800,6,   24.260,2, -999.000,9,    1.600,6,    0.041,2,    0.031,2, -999.000,9, -999.000,9, 2318.600,2
           NA,     A14,     10,   1,-999.0,      21,  2,19950119,0855,   1.9998,   -6.9988,  4494, 1396.400,    4.371,   34.910,2,   34.910,2,  207.200,2,  205.400,2,   21.830,2,   24.360,2, -999.000,9,    1.600,2,    0.041,2,    0.025,2, -999.000,9, 2185.700,2, 2319.500,2
           NA,     A14,     10,   1,-999.0,      20,  2,19950119,0855,   1.9998,   -6.9988,  4494, 1546.400,    4.099,   34.960,2,   34.961,2,  228.000,2,  228.900,2,   19.290,2,   21.830,2, -999.000,9,    1.420,2,    0.042,2,    0.030,2, -999.000,9, 2173.700,2, 2320.200,2
           NA,     A14,     10,   1,-999.0,      19,  2,19950119,0855,   1.9998,   -6.9988,  4494, 1695.800,    3.895,   34.968,2,   34.969,2,  237.300,2,  237.800,2,   19.600,2,   21.070,2, -999.000,9,    1.360,2,    0.042,2,    0.029,2, -999.000,9, 2168.900,2, 2320.000,2
           NA,     A14,     10,   1,-999.0,      18,  2,19950119,0855,   1.9998,   -6.9988,  4494, 1846.400,    3.742,   34.972,2,   34.973,2,  246.500,2,  246.400,2,   19.200,2,   20.310,2, -999.000,9,    1.300,2,    0.046,2,    0.027,2, -999.000,9, 2165.200,2, 2321.600,2
           NA,     A14,     10,   1,-999.0,      17,  2,19950119,0855,   1.9998,   -6.9988,  4494, 1998.100,    3.539,   34.965,2,   34.968,2,  248.800,2,  248.900,2,   21.100,2,   20.350,2, -999.000,9,    1.290,2,    0.036,2,    0.027,2, -999.000,9, 2166.500,2, 2321.400,2
           NA,     A14,     10,   1,-999.0,      16,  2,19950119,0855,   1.9998,   -6.9988,  4494, 2196.600,    3.204,   34.948,2,   34.948,2,  244.100,2,  245.400,2,   26.980,2,   20.900,2, -999.000,9,    1.350,2,    0.018,2,    0.012,2, -999.000,9, 2173.700,2, 2327.600,2
           NA,     A14,     10,   1,-999.0,      15,  2,19950119,0855,   1.9998,   -6.9988,  4494, 2396.600,    3.043,   34.937,2,   34.938,2,  244.800,2,  246.000,2,   30.000,2,   20.990,2, -999.000,9,    1.360,2, -999.000,3, -999.000,3, -999.000,9, -999.000,9, 2330.100,2
           NA,     A14,     10,   1,-999.0,      14,  2,19950119,0855,   1.9998,   -6.9988,  4494, 2597.800,    2.899,   34.929,2,   34.929,2,  243.600,2,  245.400,2,   32.770,2,   21.320,2, -999.000,9,    1.390,2, -999.000,3,    0.002,2, -999.000,9, 2180.300,2, 2332.900,2
           NA,     A14,     10,   1,-999.0,      13,  2,19950119,0855,   1.9998,   -6.9988,  4494, 2796.600,    2.715,   34.919,2,   34.920,2,  241.700,2,  243.400,2,   36.420,2,   21.710,2, -999.000,9,    1.410,2, -999.000,3, -999.000,3, -999.000,9, 2185.000,2, 2337.000,2
           NA,     A14,     10,   1,-999.0,      12,  2,19950119,0855,   1.9998,   -6.9988,  4494, 2995.400,    2.642,   34.913,2,   34.914,2,  240.000,2,  241.600,2,   38.790,2,   21.960,2, -999.000,9,    1.430,2,    0.000,2, -999.000,9, -999.000,9, 2189.000,2, 2340.700,2
           NA,     A14,     10,   1,-999.0,      11,  2,19950119,0855,   1.9998,   -6.9988,  4494, 3195.200,    2.565,   34.908,2,   34.904,2,  240.200,2,  241.200,2,   40.850,2,   22.090,2, -999.000,9,    1.440,2,    0.004,2, -999.000,9, -999.000,9, 2191.600,2, 2342.800,2
           NA,     A14,     10,   1,-999.0,      10,  2,19950119,0855,   1.9998,   -6.9988,  4494, 3396.600,    2.501,   34.903,2,   34.903,2,  241.600,2,  242.500,2,   41.320,2,   22.170,2, -999.000,9,    1.440,2,    0.003,2,    0.000,2, -999.000,9, 2191.200,2, 2344.400,2
           NA,     A14,     10,   1,-999.0,       9,  2,19950119,0855,   1.9998,   -6.9988,  4494, 3596.800,    2.432,   34.897,2,   34.897,2,  243.200,2,  243.500,2,   43.180,2,   22.220,2, -999.000,9,    1.450,2, -999.000,3,    0.001,2, -999.000,9, -999.000,9, 2346.100,2
           NA,     A14,     10,   1,-999.0,       8,  2,19950119,0855,   1.9998,   -6.9988,  4494, 3796.900,    2.385,   34.893,2,   34.890,2,  244.200,2,  243.800,2,   44.370,2,   22.300,2, -999.000,9,    1.470,2,    0.005,2,    0.005,2, -999.000,9, 2193.900,2, 2346.900,2
           NA,     A14,     10,   1,-999.0,       7,  2,19950119,0855,   1.9998,   -6.9988,  4494, 3997.300,    2.355,   34.889,2,   34.889,2,  244.300,2,  244.500,2,   46.230,2,   22.350,2, -999.000,9,    1.470,2,    0.000,2,    0.006,2, -999.000,9, 2195.700,2, 2346.900,2
           NA,     A14,     10,   1,-999.0,       6,  2,19950119,0855,   1.9998,   -6.9988,  4494, 4196.600,    2.272,   34.881,2,   34.881,2,  243.800,2,  242.800,2,   49.630,2,   22.600,2, -999.000,9,    1.480,2,    0.001,2,    0.005,2, -999.000,9, 2200.800,2, 2351.300,2
           NA,     A14,     10,   1,-999.0,       5,  2,19950119,0855,   1.9998,   -6.9988,  4494, 4396.900,    2.233,   34.875,2,   34.875,2,  245.400,2,  243.900,2,   50.380,2,   22.730,2, -999.000,9,    1.500,2,    0.010,2,    0.006,2, -999.000,9, 2199.300,2, 2351.100,2
           NA,     A14,     10,   1,-999.0,       4,  2,19950119,0855,   1.9998,   -6.9988,  4494, 4498.700,    2.203,   34.871,2,   34.871,2,  246.600,2,  245.700,2,   51.140,2,   22.690,2, -999.000,9,    1.510,2,    0.013,2,    0.005,2, -999.000,9, 2200.000,2, 2348.900,2
           NA,     A14,     10,   1,-999.0,       3,  2,19950119,0855,   1.9998,   -6.9988,  4494, 4545.200,    2.182,   34.868,2,   34.869,2,  247.300,2,  246.100,2,   51.560,2,   22.730,2, -999.000,9,    1.510,2, -999.000,3,    0.006,2, -999.000,9, 2199.600,6, 2349.000,6
           NA,     A14,      9,   1,-999.0,      32,  2,19950119,0223,   2.4983,   -7.0008,  4847,    2.700,   28.746,   34.736,2, -999.000,3,  200.200,2,  199.200,2,    0.680,2,    0.000,2, -999.000,9,    0.010,2,    1.634,2,    1.016,2, -999.000,9, 1904.200,2, 2271.600,2
           NA,     A14,      9,   1,-999.0,      31,  2,19950119,0223,   2.4983,   -7.0008,  4847,   46.000,   22.451,   35.706,2, -999.000,3,  206.200,2, -999.000,3,    1.400,2,    1.600,2, -999.000,9,    0.300,2,    1.697,2,    0.837,2, -999.000,9, -999.000,9, -999.000,9
           NA,     A14,      9,   1,-999.0,      30,  2,19950119,0223,   2.4983,   -7.0008,  4847,  121.700,   14.498,   35.470,2,   35.468,2,  124.300,2,  126.200,2,    6.630,2,   18.900,2, -999.000,9,    1.210,2,    1.411,2,    0.668,2, -999.000,9, -999.000,9, -999.000,9
           NA,     A14,      9,   1,-999.0,      29,  2,19950119,0223,   2.4983,   -7.0008,  4847,  196.000,   13.374,   35.324,2,   35.325,2,  123.300,2,  123.700,2,    7.660,2,   20.500,2, -999.000,9,    1.330,2,    1.254,2,    0.592,2, -999.000,9, -999.000,9, -999.000,9
           NA,     A14,      9,   1,-999.0,      28,  2,19950119,0223,   2.4983,   -7.0008,  4847,  396.000,    8.638,   34.812,2, -999.000,3,   69.100,2,   68.400,2,   17.650,2,   34.850,2, -999.000,9,    2.160,2,    0.167,2,    0.079,2, -999.000,9, -999.000,9, -999.000,9
           NA,     A14,      9,   1,-999.0,      27,  2,19950119,0223,   2.4983,   -7.0008,  4847,  595.200,    6.176,   34.580,2,   34.586,2,  109.200,2,  107.600,2,   24.480,2,   36.020,2, -999.000,9,    2.300,2,    0.032,2,    0.021,2, -999.000,9, -999.000,9, -999.000,9
           NA,     A14,      9,   1,-999.0,      26,  2,19950119,0223,   2.4983,   -7.0008,  4847,  793.900,    4.948,   34.545,2,   34.549,2,  133.600,2,  133.300,2,   30.350,2,   35.360,2, -999.000,9,    2.340,2,    0.004,2,    0.009,2, -999.000,9, -999.000,9, -999.000,9
           NA,     A14,      9,   1,-999.0,      25,  2,19950119,0223,   2.4983,   -7.0008,  4847,  994.200,    4.564,   34.649,2,   34.653,2,  153.500,2,  149.600,2,   30.680,2,   33.030,2, -999.000,9,    2.190,2,    0.003,2,    0.009,2, -999.000,9, -999.000,9, -999.000,9
           NA,     A14,      9,   1,-999.0,      24,  2,19950119,0223,   2.4983,   -7.0008,  4847, 1195.100,    4.465,   34.836,2,   34.835,2,  184.600,2,  182.300,2,   25.130,2,   27.690,2, -999.000,9,    1.820,2,    0.007,2,    0.014,2, -999.000,9, -999.000,9, -999.000,9
           NA,     A14,      9,   1,-999.0,      23,  2,19950119,0223,   2.4983,   -7.0008,  4847, 1395.200,    4.303,   34.929,2,   34.924,2,  213.300,2,  211.800,2,   20.920,2,   23.550,2, -999.000,9,    1.540,2,    0.017,2,    0.020,2, -999.000,9, -999.000,9, -999.000,9
           NA,     A14,      9,   1,-999.0,      22,  2,19950119,0223,   2.4983,   -7.0008,  4847, 1545.300,    4.051,   34.953,2,   34.956,2,  224.100,2,  224.900,2,   20.530,2,   22.330,2, -999.000,9,    1.460,2,    0.006,2,    0.009,2, -999.000,9, -999.000,9, -999.000,9
           NA,     A14,      9,   1,-999.0,      21,  2,19950119,0223,   2.4983,   -7.0008,  4847, 1695.400,    3.901,   34.967,2,   34.967,2,  236.600,2,  236.600,2,   19.580,2,   21.280,2, -999.000,9,    1.360,2,    0.013,2,    0.010,2, -999.000,9, -999.000,9, -999.000,9
           NA,     A14,      9,   1,-999.0,      20,  2,19950119,0223,   2.4983,   -7.0008,  4847, 1845.600,    3.684,   34.970,2,   34.974,2,  243.900,2,  245.200,2,   19.820,2,   20.600,2, -999.000,9,    1.320,2,    0.017,2,    0.014,2, -999.000,9, -999.000,9, -999.000,9
           NA,     A14,      9,   1,-999.0,      19,  2,19950119,0223,   2.4983,   -7.0008,  4847, 1996.100,    3.523,   34.964,2,   34.966,2,  247.100,2,  247.100,2,   21.810,2,   20.480,2, -999.000,9,    1.310,2,    0.011,2,    0.009,2, -999.000,9, -999.000,9, -999.000,9
           NA,     A14,      9,   1,-999.0,      18,  2,19950119,0223,   2.4983,   -7.0008,  4847, 2295.800,    3.156,   34.943,2,   34.948,2,  243.300,2,  244.500,2,   28.250,2,   21.160,2, -999.000,9,    1.360,2,    0.002,2, -999.000,9, -999.000,9, -999.000,9, -999.000,9
           NA,     A14,      9,   1,-999.0,      16,  2,19950119,0223,   2.4983,   -7.0008,  4847, 2595.100,    2.875,   34.928,2,   34.929,2,  243.300,2,  244.300,2,   33.580,2,   21.580,2, -999.000,9,    1.400,2,    0.000,2, -999.000,9, -999.000,9, -999.000,9, -999.000,9
           NA,     A14,      9,   1,-999.0,      15,  2,19950119,0223,   2.4983,   -7.0008,  4847, 2795.300,    2.749,   34.919,2,   34.920,2,  242.800,2,  242.200,2,   36.930,2,   21.790,2, -999.000,9,    1.420,2,    0.002,2,    0.009,2, -999.000,9, -999.000,9, -999.000,9
           NA,     A14,      9,   1,-999.0,      17,  2,19950119,0223,   2.4983,   -7.0008,  4847, 2795.300,    2.749,   34.919,2,   34.923,2,  242.800,2,  242.500,2,   36.920,2,   21.790,2, -999.000,9,    1.410,2,    0.000,2,    0.002,2, -999.000,9, -999.000,9, -999.000,9
           NA,     A14,      9,   1,-999.0,      14,  2,19950119,0223,   2.4983,   -7.0008,  4847, 2996.500,    2.646,   34.913,2,   34.914,2,  242.600,2,  243.200,2,   38.680,2,   21.960,2, -999.000,9,    1.420,2,    0.000,2,    0.006,2, -999.000,9, -999.000,9, -999.000,9
           NA,     A14,      9,   1,-999.0,      13,  2,19950119,0223,   2.4983,   -7.0008,  4847, 3195.400,    2.551,   34.908,2,   34.910,2,  240.200,2,  240.500,2,   41.740,2,   22.220,2, -999.000,9,    1.460,2,    0.003,2,    0.006,2, -999.000,9, -999.000,9, -999.000,9
           NA,     A14,      9,   1,-999.0,      12,  2,19950119,0223,   2.4983,   -7.0008,  4847, 3396.300,    2.488,   34.903,2,   34.903,2,  239.200,2,  240.200,2,   43.450,2,   22.430,2, -999.000,9,    1.470,2,    0.000,2, -999.000,9, -999.000,9, -999.000,9, -999.000,9
           NA,     A14,      9,   1,-999.0,      10,  2,19950119,0223,   2.4983,   -7.0008,  4847, 3595.900,    2.435,   34.900,2,   34.903,2,  239.400,2,  240.200,2,   44.750,2,   22.440,2, -999.000,9,    1.480,2,    0.003,2,    0.000,2, -999.000,9, -999.000,9, -999.000,9
           NA,     A14,      9,   1,-999.0,      11,  2,19950119,0223,   2.4983,   -7.0008,  4847, 3595.900,    2.435,   34.900,2,   34.894,2,  239.400,2,  240.400,2,   44.660,2,   22.480,2, -999.000,9,    1.490,2,    0.003,2, -999.000,9, -999.000,9, -999.000,9, -999.000,9
           NA,     A14,      9,   1,-999.0,       9,  2,19950119,0223,   2.4983,   -7.0008,  4847, 3796.600,    2.382,   34.893,2,   34.894,2,  240.200,2,  240.500,2,   46.470,2,   22.650,2, -999.000,9,    1.490,2,    0.007,2,    0.006,2, -999.000,9, -999.000,9, -999.000,9
           NA,     A14,      9,   1,-999.0,       8,  2,19950119,0223,   2.4983,   -7.0008,  4847, 3997.000,    2.353,   34.890,2,   34.892,2,  242.300,2,  242.000,2,   47.070,2,   22.480,2, -999.000,9,    1.480,2,    0.006,2,    0.005,2, -999.000,9, -999.000,9, -999.000,9
           NA,     A14,      9,   1,-999.0,       7,  2,19950119,0223,   2.4983,   -7.0008,  4847, 4196.600,    2.314,   34.885,2,   34.887,2,  243.800,2,  243.200,2,   48.190,2,   22.480,2, -999.000,9,    1.490,2,    0.003,2,    0.004,2, -999.000,9, -999.000,9, -999.000,9
           NA,     A14,      9,   1,-999.0,       6,  2,19950119,0223,   2.4983,   -7.0008,  4847, 4397.700,    2.264,   34.878,2, -999.000,3,  238.100,2,  237.600,2,   53.070,2,   23.160,2, -999.000,9,    1.550,2,    0.001,2, -999.000,9, -999.000,9, -999.000,9, -999.000,9
           NA,     A14,      9,   1,-999.0,       5,  2,19950119,0223,   2.4983,   -7.0008,  4847, 4597.200,    2.222,   34.872,2,   34.873,2,  239.500,2,  240.400,2,   53.420,2,   23.210,2, -999.000,9,    1.530,2,    0.006,2,    0.010,2, -999.000,9, -999.000,9, -999.000,9
           NA,     A14,      9,   1,-999.0,       4,  2,19950119,0223,   2.4983,   -7.0008,  4847, 4798.700,    2.183,   34.866,2,   34.864,2,  242.600,2,  241.500,2,   54.970,2,   23.250,2, -999.000,9,    1.540,2, -999.000,9, -999.000,9, -999.000,9, -999.000,9, -999.000,9
           NA,     A14,      9,   1,-999.0,       3,  2,19950119,0223,   2.4983,   -7.0008,  4847, 4900.000,    1.985,   34.845,2,   34.841,2,  244.100,2,  245.000,2,   61.220,2,   23.850,2, -999.000,9,    1.590,2,    0.014,2,    0.019,2, -999.000,9, -999.000,9, -999.000,9