BOTTLE,20213527JOAExport
EXPOCODE,SECT_ID,STNNBR,CASTNO,SAMPNO,BTLNBR,BTLNBR_FLAG_W,DATE,TIME,LATITUDE,LONGITUDE,DEPTH,CTDPRS,CTDTMP,CTDSAL,CTDSAL_FLAG_W,SALNTY,SALNTY_FLAG_W,CTDOXY,CTDOXY_FLAG_W,OXYGEN,OXYGEN_FLAG_W,SILCAT,SILCAT_FLAG_W,NITRAT,NITRAT_FLAG_W,NITRIT,NITRIT_FLAG_W,PHSPHT,PHSPHT_FLAG_W,CFC-11,CFC-11_FLAG_W,CFC-12,CFC-12_FLAG_W,SF6,SF6_FLAG_W,TCARBN,TCARBN_FLAG_W,ALKALI,ALKALI_FLAG_W
,,,,,,,,,,,,DB,DEG C,PSS-78,,PSS-78,,UMOL/KG,,UMOL/KG,,UMOL/KG,,UMOL/KG,,UMOL/KG,,UMOL/KG,,PMOL/KG,,PMOL/KG,,FMOL/KG,,UMOL/KG,,UMOL/KG
           NA,     A14,     53,   1,-999.0,      32,  2,19950129,0617, -18.5002,   -8.9990,  3620,    3.100,   24.185,   36.618,2,   36.614,2,  208.500,2,  212.200,2,    0.930,2,    0.020,2, -999.000,9,    0.220,2,    1.933,2,    1.000,2, -999.000,9, -999.000,9, 2411.000,2
           NA,     A14,     53,   1,-999.0,      31,  2,19950129,0617, -18.5002,   -8.9990,  3620,   27.200,   24.189,   36.616,2,   36.612,2,  214.700,2,  212.400,2,    0.860,2,    0.020,2, -999.000,9,    0.220,2,    1.942,2,    1.005,2, -999.000,9, -999.000,9, -999.000,9
           NA,     A14,     53,   1,-999.0,      30,  2,19950129,0617, -18.5002,   -8.9990,  3620,   46.300,   23.275,   36.524,2,   36.526,2,  221.900,2,  218.300,2,    0.860,2,    0.020,2, -999.000,9,    0.210,2,    2.017,2,    1.023,2, -999.000,9, -999.000,9, -999.000,9
           NA,     A14,     53,   1,-999.0,      29,  2,19950129,0617, -18.5002,   -8.9990,  3620,   72.400,   21.805,   36.391,2, -999.000,3,  230.400,2,  228.200,2,    0.860,2,    0.020,2, -999.000,9,    0.210,2,    2.179,2,    1.101,2, -999.000,9, -999.000,9, -999.000,9
           NA,     A14,     53,   1,-999.0,      28,  2,19950129,0617, -18.5002,   -8.9990,  3620,  136.800,   19.029,   36.124,2, -999.000,3,  213.300,2,  208.900,2,    1.360,2,    3.000,2, -999.000,9,    0.410,2,    2.316,2,    1.157,2, -999.000,9, -999.000,9, -999.000,9
           NA,     A14,     53,   1,-999.0,      27,  2,19950129,0617, -18.5002,   -8.9990,  3620,  196.500,   14.045,   35.268,2,   35.269,2,  200.000,2, -999.000,3,    3.640,2,   10.400,2, -999.000,9,    0.760,2,    2.477,2,    1.177,2, -999.000,9, -999.000,9, -999.000,9
           NA,     A14,     53,   1,-999.0,      26,  2,19950129,0617, -18.5002,   -8.9990,  3620,  296.100,   11.251,   34.973,2,   34.974,2,  141.700,2,  145.800,2,    8.270,2,   21.380,2, -999.000,9,    1.420,2,    1.586,2,    0.736,2, -999.000,9, -999.000,9, -999.000,9
           NA,     A14,     53,   1,-999.0,      25,  2,19950129,0617, -18.5002,   -8.9990,  3620,  396.100,    8.996,   34.750,2,   34.751,2,  126.800,2,  129.400,2,   13.680,2,   27.870,2, -999.000,9,    1.840,2,    0.860,2,    0.402,2, -999.000,9, -999.000,9, -999.000,9
           NA,     A14,     53,   1,-999.0,      24,  2,19950129,0617, -18.5002,   -8.9990,  3620,  496.000,    6.902,   34.561,2,   34.565,2,  137.500,2,  139.000,2,   19.660,2,   32.020,2, -999.000,9,    2.110,2,    0.469,2,    0.226,2, -999.000,9, -999.000,9, -999.000,9
           NA,     A14,     53,   1,-999.0,      23,  2,19950129,0617, -18.5002,   -8.9990,  3620,  595.700,    5.628,   34.482,2,   34.484,2,  145.100,2,  146.400,2,   25.010,2,   33.860,2, -999.000,9,    2.260,2,    0.201,2,    0.103,2, -999.000,9, -999.000,9, -999.000,9
           NA,     A14,     53,   1,-999.0,      22,  2,19950129,0617, -18.5002,   -8.9990,  3620,  696.300,    4.876,   34.454,2,   34.460,2,  151.700,2,  151.600,2,   29.280,2,   34.660,2, -999.000,9,    2.330,2,    0.090,2,    0.045,2, -999.000,9, -999.000,9, -999.000,9
           NA,     A14,     53,   1,-999.0,      21,  2,19950129,0617, -18.5002,   -8.9990,  3620,  795.700,    4.284,   34.461,2,   34.462,2,  159.700,2,  160.000,2,   33.910,2,   34.660,2, -999.000,9,    2.350,2,    0.029,2,    0.017,2, -999.000,9, -999.000,9, -999.000,9
           NA,     A14,     53,   1,-999.0,      20,  2,19950129,0617, -18.5002,   -8.9990,  3620,  995.700,    3.854,   34.567,2,   34.568,2,  171.600,2,  170.500,2,   36.480,2,   32.980,2, -999.000,9,    2.240,2,    0.002,2,    0.001,2, -999.000,9, -999.000,9, -999.000,9
           NA,     A14,     53,   1,-999.0,      19,  2,19950129,0617, -18.5002,   -8.9990,  3620, 1195.100,    3.734,   34.690,2,   34.690,2,  183.800,2,  183.400,2,   35.270,2,   30.270,2, -999.000,9,    2.060,2,    0.001,2,    0.002,2, -999.000,9, -999.000,9, -999.000,9
           NA,     A14,     53,   1,-999.0,      17,  2,19950129,0617, -18.5002,   -8.9990,  3620, 1396.000,    3.716,   34.805,2,   34.804,2,  201.400,2,  201.100,2,   31.060,2,   27.090,2, -999.000,9,    1.820,2,    0.002,2,   -0.003,2, -999.000,9, -999.000,9, -999.000,9
           NA,     A14,     53,   1,-999.0,      18,  2,19950129,0617, -18.5002,   -8.9990,  3620, 1396.500,    3.717,   34.803,2,   34.804,2,  201.600,2,  200.700,2,   30.710,2,   27.090,2, -999.000,9,    1.830,2,    0.001,2,    0.000,2, -999.000,9, -999.000,9, -999.000,9
           NA,     A14,     53,   1,-999.0,      16,  2,19950129,0617, -18.5002,   -8.9990,  3620, 1595.900,    3.632,   34.863,2,   34.865,2,  217.200,2,  216.000,2,   28.850,6,   24.460,2, -999.000,9,    1.660,6, -999.000,9, -999.000,3, -999.000,9, -999.000,9, -999.000,9
           NA,     A14,     53,   1,-999.0,      15,  2,19950129,0617, -18.5002,   -8.9990,  3620, 1795.000,    3.361,   34.889,2,   34.889,2,  228.600,2,  228.300,2,   30.560,2,   23.450,2, -999.000,9,    1.580,2,    0.002,2, -999.000,9, -999.000,9, -999.000,9, -999.000,9
           NA,     A14,     53,   1,-999.0,      14,  2,19950129,0617, -18.5002,   -8.9990,  3620, 1996.900,    3.159,   34.909,2,   34.910,2,  242.300,2,  240.000,2,   30.850,2,   22.310,2, -999.000,9,    1.480,2,    0.003,2,    0.004,2, -999.000,9, -999.000,9, -999.000,9
           NA,     A14,     53,   1,-999.0,      13,  2,19950129,0617, -18.5002,   -8.9990,  3620, 2195.900,    2.906,   34.906,2,   34.908,2,  243.000,2,  244.700,2,   34.340,2,   22.220,2, -999.000,9,    1.480,2,    0.003,2,    0.001,2, -999.000,9, -999.000,9, -999.000,9
           NA,     A14,     53,   1,-999.0,      12,  2,19950129,0617, -18.5002,   -8.9990,  3620, 2395.500,    2.691,   34.897,2,   34.896,2,  243.500,2,  243.300,2,   38.900,2,   22.570,2, -999.000,9,    1.510,2,    0.001,2,    0.001,2, -999.000,9, -999.000,9, -999.000,9
           NA,     A14,     53,   1,-999.0,      11,  2,19950129,0617, -18.5002,   -8.9990,  3620, 2596.000,    2.575,   34.891,2,   34.890,2,  243.300,2,  242.300,2,   42.170,2,   22.740,2, -999.000,9,    1.530,2,    0.001,2,    0.003,2, -999.000,9, -999.000,9, -999.000,9
           NA,     A14,     53,   1,-999.0,      10,  2,19950129,0617, -18.5002,   -8.9990,  3620, 2796.300,    2.501,   34.887,2,   34.890,2,  242.100,2,  241.500,2,   44.310,2,   22.870,2, -999.000,9,    1.540,2, -999.000,9, -999.000,9, -999.000,9, -999.000,9, -999.000,9
           NA,     A14,     53,   1,-999.0,       9,  2,19950129,0617, -18.5002,   -8.9990,  3620, 2796.600,    2.500,   34.888,2,   34.888,2,  242.100,2,  242.000,2,   44.230,2,   22.910,2, -999.000,9,    1.550,2,    0.002,2,   -0.001,2, -999.000,9, -999.000,9, -999.000,9
           NA,     A14,     53,   1,-999.0,       8,  2,19950129,0617, -18.5002,   -8.9990,  3620, 2995.500,    2.450,   34.888,2,   34.886,2,  240.900,2,  241.300,2,   46.290,2,   23.080,2, -999.000,9,    1.550,2,    0.001,2,    0.000,2, -999.000,9, -999.000,9, -999.000,9
           NA,     A14,     53,   1,-999.0,       7,  2,19950129,0617, -18.5002,   -8.9990,  3620, 3096.100,    2.441,   34.887,2,   34.889,2,  239.800,2,  240.200,2,   46.600,2,   23.080,2, -999.000,9,    1.560,2, -999.000,9, -999.000,9, -999.000,9, -999.000,9, -999.000,9
           NA,     A14,     53,   1,-999.0,       6,  2,19950129,0617, -18.5002,   -8.9990,  3620, 3197.600,    2.433,   34.887,2,   34.885,2,  239.800,2,  239.000,2,   47.360,2,   23.210,2, -999.000,9,    1.570,2,    0.006,2,    0.005,2, -999.000,9, -999.000,9, -999.000,9
           NA,     A14,     53,   1,-999.0,       5,  2,19950129,0617, -18.5002,   -8.9990,  3620, 3397.500,    2.423,   34.886,2,   34.885,2,  238.900,2,  238.400,2,   48.280,2,   23.250,2, -999.000,9,    1.570,2,    0.002,2,    0.003,2, -999.000,9, -999.000,9, -999.000,9
           NA,     A14,     53,   1,-999.0,       4,  2,19950129,0617, -18.5002,   -8.9990,  3620, 3546.600,    2.420,   34.887,2,   34.886,2,  238.500,2,  238.100,2,   48.740,2,   23.250,2, -999.000,9,    1.580,2,    0.003,2,    0.004,2, -999.000,9, -999.000,9, -999.000,9
           NA,     A14,     53,   1,-999.0,       3,  2,19950129,0617, -18.5002,   -8.9990,  3620, 3656.900,    2.407,   34.887,2,   34.888,2,  236.200,2,  236.500,2,   49.500,2,   23.330,2, -999.000,9,    1.570,2,    0.000,2,    0.001,2, -999.000,9, -999.000,9, -999.000,9
           NA,     A14,     52,   1,-999.0,      31,  2,19950129,0105, -18.0013,   -8.9983,  3783,    3.200,   24.180,   36.576,2,   36.572,2,  198.200,2, -999.000,3,    0.770,2,    0.020,2, -999.000,9,    0.220,2,    1.936,2,    1.040,2, -999.000,9, 2080.100,6, 2407.100,2
           NA,     A14,     52,   1,-999.0,      32,  2,19950129,0105, -18.0013,   -8.9983,  3783,    3.200,   24.179,   36.575,2,   36.572,2,  198.200,2, -999.000,3,    0.770,2,    0.020,2, -999.000,9,    0.220,2,    1.928,2,    1.025,2, -999.000,9, -999.000,9, 2410.800,2
           NA,     A14,     52,   1,-999.0,      30,  2,19950129,0105, -18.0013,   -8.9983,  3783,   37.500,   22.731,   36.503,2, -999.000,3,  220.300,2,  221.200,2,    0.840,2,    0.020,2, -999.000,9,    0.210,2,    2.063,2,    1.053,2, -999.000,9, 2078.200,2, 2405.200,2
           NA,     A14,     52,   1,-999.0,      29,  2,19950129,0105, -18.0013,   -8.9983,  3783,   96.300,   20.313,   36.306,2,   36.304,2,  227.400,2,  225.600,2,    0.840,2,    0.020,2, -999.000,9,    0.230,2,    2.231,2,    1.123,2, -999.000,9, 2077.700,2, 2392.300,2
           NA,     A14,     52,   1,-999.0,      28,  2,19950129,0105, -18.0013,   -8.9983,  3783,  146.800,   17.063,   35.758,2, -999.000,3,  207.200,2,  206.200,2,    0.840,2,    4.350,2, -999.000,9,    0.470,2,    2.420,2,    1.198,2, -999.000,9, 2091.800,2, 2361.100,2
           NA,     A14,     52,   1,-999.0,      27,  2,19950129,0105, -18.0013,   -8.9983,  3783,  195.600,   14.131,   35.309,2,   35.309,2,  178.300,2,  176.300,2,    3.990,2,   12.690,2, -999.000,9,    0.890,2,    2.331,2,    1.114,2, -999.000,9, 2123.500,2, 2325.200,2
           NA,     A14,     52,   1,-999.0,      26,  2,19950129,0105, -18.0013,   -8.9983,  3783,  296.100,   11.253,   34.980,2,   34.980,2,  134.000,2,  135.300,2,    8.750,2,   22.300,2, -999.000,9,    1.480,2,    1.477,2,    0.691,2, -999.000,9, 2174.200,2, 2306.300,2
           NA,     A14,     52,   1,-999.0,      25,  2,19950129,0105, -18.0013,   -8.9983,  3783,  396.200,    8.728,   34.726,2,   34.727,2,  120.900,2, -999.000,3,   14.230,2,   28.260,2, -999.000,9,    1.860,2,    0.799,2,    0.385,2, -999.000,9, 2193.300,2, 2299.300,2
           NA,     A14,     52,   1,-999.0,      24,  2,19950129,0105, -18.0013,   -8.9983,  3783,  496.200,    6.732,   34.569,2,   34.569,2,  126.400,2,  129.900,2,   20.790,2,   33.130,2, -999.000,9,    2.150,2,    0.272,2,    0.134,2, -999.000,9, 2210.300,2, -999.000,9
           NA,     A14,     52,   1,-999.0,      23,  2,19950129,0105, -18.0013,   -8.9983,  3783,  595.400,    5.459,   34.476,2,   34.479,2,  147.400,2, -999.000,3,   25.510,2,   33.350,2, -999.000,9,    2.220,2,    0.151,2,    0.081,2, -999.000,9, 2208.300,2, -999.000,9
           NA,     A14,     52,   1,-999.0,      22,  2,19950129,0105, -18.0013,   -8.9983,  3783,  696.500,    4.691,   34.445,2,   34.451,2,  162.000,2,  162.900,2,   30.070,2,   33.800,2, -999.000,9,    2.290,2,    0.064,2,    0.041,2, -999.000,9, 2210.400,2, -999.000,9
           NA,     A14,     52,   1,-999.0,      21,  2,19950129,0105, -18.0013,   -8.9983,  3783,  794.900,    4.227,   34.465,2,   34.465,2,  165.600,2,  165.500,2,   33.970,2,   34.140,2, -999.000,9,    2.290,2,    0.028,2,    0.021,2, -999.000,9, 2216.400,2, -999.000,9
           NA,     A14,     52,   1,-999.0,      20,  2,19950129,0105, -18.0013,   -8.9983,  3783,  995.800,    3.913,   34.545,2,   34.544,2,  168.000,2,  167.400,2,   36.700,2,   33.550,2, -999.000,9,    2.250,2,    0.007,2,    0.006,2, -999.000,9, 2221.300,2, 2314.700,2
           NA,     A14,     52,   1,-999.0,      19,  2,19950129,0105, -18.0013,   -8.9983,  3783, 1195.200,    3.784,   34.658,2,   34.659,2,  178.900,2,  177.600,2,   35.640,2,   31.270,2, -999.000,9,    2.110,2,    0.003,2,    0.005,2, -999.000,9, 2215.900,2, 2320.800,2
           NA,     A14,     52,   1,-999.0,      18,  2,19950129,0105, -18.0013,   -8.9983,  3783, 1394.200,    3.717,   34.796,2,   34.794,2,  202.300,2,  199.300,2,   31.250,2,   27.490,2, -999.000,9,    1.840,2,   -0.002,2, -999.000,9, -999.000,9, 2201.100,2, 2324.500,2
           NA,     A14,     52,   1,-999.0,      17,  2,19950129,0105, -18.0013,   -8.9983,  3783, 1595.800,    3.579,   34.860,2,   34.859,2,  218.200,2,  216.200,2,   29.770,2,   24.760,2, -999.000,9,    1.660,2,    0.002,2,    0.001,2, -999.000,9, 2191.200,2, 2325.900,2
           NA,     A14,     52,   1,-999.0,      16,  2,19950129,0105, -18.0013,   -8.9983,  3783, 1792.400,    3.295,   34.894,2,   34.893,2,  230.900,2,  230.600,2,   30.970,2,   23.240,2, -999.000,9,    1.570,2, -999.000,9,    0.009,2, -999.000,9, 2185.600,2, 2328.700,2
           NA,     A14,     52,   1,-999.0,      15,  2,19950129,0105, -18.0013,   -8.9983,  3783, 1995.100,    3.050,   34.905,2,   34.901,2,  237.800,2,  237.700,2,   33.400,2,   22.710,2, -999.000,9,    1.520,2,    0.003,2,    0.011,2, -999.000,9, 2182.600,2, 2331.300,2
           NA,     A14,     52,   1,-999.0,      14,  2,19950129,0105, -18.0013,   -8.9983,  3783, 2196.200,    2.889,   34.903,2,   34.900,2,  239.900,2,  239.800,2,   36.030,2,   22.610,2, -999.000,9,    1.520,2,    0.000,2,    0.004,2, -999.000,9, 2184.800,2, 2335.300,2
           NA,     A14,     52,   1,-999.0,      13,  2,19950129,0105, -18.0013,   -8.9983,  3783, 2394.600,    2.749,   34.902,2,   34.900,2,  242.300,2,  242.700,2,   38.020,2,   22.520,2, -999.000,9,    1.520,2,    0.003,2, -999.000,9, -999.000,9, 2186.400,2, 2338.500,2
           NA,     A14,     52,   1,-999.0,      12,  2,19950129,0105, -18.0013,   -8.9983,  3783, 2595.300,    2.615,   34.893,2,   34.891,2,  242.900,2,  242.900,2,   41.080,2,   22.690,2, -999.000,9,    1.540,2,    0.003,2,   -0.004,2, -999.000,9, 2186.900,2, 2340.000,2
           NA,     A14,     52,   1,-999.0,      11,  2,19950129,0105, -18.0013,   -8.9983,  3783, 2786.400,    2.562,   34.890,2,   34.887,2,  242.900,2,  242.100,2,   42.950,2,   22.860,2, -999.000,9,    1.540,2,    0.002,2,   -0.001,2, -999.000,9, 2193.200,2, 2342.300,2
           NA,     A14,     52,   1,-999.0,      10,  2,19950129,0105, -18.0013,   -8.9983,  3783, 2996.100,    2.485,   34.889,2,   34.888,2,  241.500,2,  240.700,2,   45.760,2,   23.110,2, -999.000,9,    1.560,2,    0.004,2, -999.000,9, -999.000,9, 2193.600,2, 2346.400,2
           NA,     A14,     52,   1,-999.0,       8,  2,19950129,0105, -18.0013,   -8.9983,  3783, 3195.800,    2.463,   34.888,2,   34.885,2,  239.900,2,  240.000,2,   47.120,2,   23.190,2, -999.000,9,    1.560,2,   -0.001,2, -999.000,9, -999.000,9, 2197.400,2, 2348.300,2
           NA,     A14,     52,   1,-999.0,       9,  2,19950129,0105, -18.0013,   -8.9983,  3783, 3196.500,    2.464,   34.886,2,   34.885,2,  239.900,2,  240.100,2,   47.170,2,   23.150,2, -999.000,9,    1.560,2,    0.000,2,    0.000,2, -999.000,9, -999.000,9, 2348.100,2
           NA,     A14,     52,   1,-999.0,       7,  2,19950129,0105, -18.0013,   -8.9983,  3783, 3396.000,    2.435,   34.887,2,   34.886,2,  239.100,2,  238.800,2,   48.300,2,   23.270,2, -999.000,9,    1.570,2, -999.000,9, -999.000,9, -999.000,9, 2198.400,2, 2350.500,2
           NA,     A14,     52,   1,-999.0,       6,  2,19950129,0105, -18.0013,   -8.9983,  3783, 3594.900,    2.417,   34.886,2,   34.884,2,  238.000,2,  238.000,2,   49.250,2,   23.340,6, -999.000,9,    1.570,6,    0.002,2,   -0.002,2, -999.000,9, 2201.500,2, 2353.100,2
           NA,     A14,     52,   1,-999.0,       5,  2,19950129,0105, -18.0013,   -8.9983,  3783, 3696.200,    2.411,   34.887,2,   34.886,2,  237.400,2,  237.200,2,   49.570,2,   23.340,2, -999.000,9,    1.580,2,    0.006,2,    0.002,2, -999.000,9, 2202.500,2, 2353.200,2
           NA,     A14,     52,   1,-999.0,       4,  2,19950129,0105, -18.0013,   -8.9983,  3783, 3756.800,    2.414,   34.887,2,   34.884,2,  237.200,2,  236.900,2,   49.750,2,   23.330,2, -999.000,9, -999.000,3,    0.003,2,    0.004,2, -999.000,9, -999.000,9, 2356.400,2
           NA,     A14,     52,   1,-999.0,       3,  2,19950129,0105, -18.0013,   -8.9983,  3783, 3788.600,    2.416,   34.887,2,   34.886,2,  236.700,2,  236.800,2,   49.920,2,   23.330,2, -999.000,9, -999.000,9,    0.002,2,    0.002,2, -999.000,9, 2201.800,2, 2357.000,2