BOTTLE,20213527JOAExport
EXPOCODE,SECT_ID,STNNBR,CASTNO,SAMPNO,BTLNBR,BTLNBR_FLAG_W,DATE,TIME,LATITUDE,LONGITUDE,DEPTH,CTDPRS,CTDTMP,CTDSAL,CTDSAL_FLAG_W,SALNTY,SALNTY_FLAG_W,CTDOXY,CTDOXY_FLAG_W,OXYGEN,OXYGEN_FLAG_W,SILCAT,SILCAT_FLAG_W,NITRAT,NITRAT_FLAG_W,NITRIT,NITRIT_FLAG_W,PHSPHT,PHSPHT_FLAG_W,CFC-11,CFC-11_FLAG_W,CFC-12,CFC-12_FLAG_W,SF6,SF6_FLAG_W,TCARBN,TCARBN_FLAG_W,ALKALI,ALKALI_FLAG_W
,,,,,,,,,,,,DB,DEG C,PSS-78,,PSS-78,,UMOL/KG,,UMOL/KG,,UMOL/KG,,UMOL/KG,,UMOL/KG,,UMOL/KG,,PMOL/KG,,PMOL/KG,,FMOL/KG,,UMOL/KG,,UMOL/KG
           NA,     A14,    105,   1,-999.0,      32,  2,19950211,0707, -44.4968,   -8.9958,  3807,    8.400,   10.947,   34.411,2,   34.412,2,  266.300,2, -999.000,3,    0.200,2,    8.790,2, -999.000,9,    0.730,2,    3.715,2,    1.752,2, -999.000,9, -999.000,9, 2288.800,2
           NA,     A14,    105,   1,-999.0,      31,  2,19950211,0707, -44.4968,   -8.9958,  3807,   47.800,   10.951,   34.411,2,   34.414,2,  274.900,2,  275.200,2, -999.000,9,    8.950,2, -999.000,9,    0.710,2,    3.715,2,    1.759,2, -999.000,9, -999.000,9, -999.000,9
           NA,     A14,    105,   1,-999.0,      30,  2,19950211,0707, -44.4968,   -8.9958,  3807,   96.400,   10.187,   34.622,2,   34.626,2,  266.600,2,  262.700,2,    1.500,2,   11.150,2, -999.000,9,    0.850,2,    3.775,2,    1.792,2, -999.000,9, -999.000,9, -999.000,9
           NA,     A14,    105,   1,-999.0,      29,  2,19950211,0707, -44.4968,   -8.9958,  3807,  196.000,    8.698,   34.533,2,   34.537,2,  252.800,2, -999.000,3,    3.000,2,   15.120,2, -999.000,9,    1.070,2,    3.826,2,    1.757,2, -999.000,9, -999.000,9, -999.000,9
           NA,     A14,    105,   1,-999.0,      28,  2,19950211,0707, -44.4968,   -8.9958,  3807,  296.300,    6.810,   34.392,2,   34.392,2,  236.000,2,  236.500,2,    7.500,2,   22.680,2, -999.000,9,    1.550,2,    3.340,2,    1.500,2, -999.000,9, -999.000,9, -999.000,9
           NA,     A14,    105,   1,-999.0,      27,  2,19950211,0707, -44.4968,   -8.9958,  3807,  396.200,    5.250,   34.254,2,   34.254,2,  252.100,2,  251.200,2,   10.300,2,   25.200,2, -999.000,9,    1.740,2,    3.600,2,    1.589,2, -999.000,9, -999.000,9, -999.000,9
           NA,     A14,    105,   1,-999.0,      26,  2,19950211,0707, -44.4968,   -8.9958,  3807,  496.200,    4.495,   34.217,2,   34.216,2,  258.300,2,  257.500,2,   13.500,2,   26.880,2, -999.000,9,    1.850,2,    3.453,2,    1.524,2, -999.000,9, -999.000,9, -999.000,9
           NA,     A14,    105,   1,-999.0,      25,  2,19950211,0707, -44.4968,   -8.9958,  3807,  595.800,    4.089,   34.215,2,   34.213,2,  256.600,2,  256.800,2,   16.900,2,   27.740,2, -999.000,9,    1.910,2,    3.193,2,    1.416,2, -999.000,9, -999.000,9, -999.000,9
           NA,     A14,    105,   1,-999.0,      24,  2,19950211,0707, -44.4968,   -8.9958,  3807,  696.600,    3.622,   34.221,2,   34.221,2,  252.600,2,  250.400,2,   22.400,2,   29.310,2, -999.000,9,    2.000,2,    2.702,2,    1.183,2, -999.000,9, -999.000,9, -999.000,9
           NA,     A14,    105,   1,-999.0,      23,  2,19950211,0707, -44.4968,   -8.9958,  3807,  795.900,    3.231,   34.240,2,   34.239,2,  240.700,2,  240.900,2,   28.600,2,   30.760,2, -999.000,9,    2.100,2,    2.240,2,    0.987,2, -999.000,9, -999.000,9, -999.000,9
           NA,     A14,    105,   1,-999.0,      22,  2,19950211,0707, -44.4968,   -8.9958,  3807,  894.900,    2.974,   34.269,2,   34.266,2,  233.800,2,  231.100,2,   34.600,2,   31.740,2, -999.000,9,    2.170,2,    1.898,2,    0.846,2, -999.000,9, -999.000,9, -999.000,9
           NA,     A14,    105,   1,-999.0,      21,  2,19950211,0707, -44.4968,   -8.9958,  3807,  994.300,    2.840,   34.309,2,   34.308,2,  220.600,2,  218.800,2,   41.100,6,   32.900,2, -999.000,9,    2.230,6,    1.462,2,    0.671,2, -999.000,9, -999.000,9, -999.000,9
           NA,     A14,    105,   1,-999.0,      20,  2,19950211,0707, -44.4968,   -8.9958,  3807,  995.200,    2.836,   34.310,2,   34.308,2,  220.500,2,  218.800,2,   40.900,2,   32.800,2, -999.000,9,    2.250,2,    1.458,2,    0.659,2, -999.000,9, -999.000,9, -999.000,9
           NA,     A14,    105,   1,-999.0,      19,  2,19950211,0707, -44.4968,   -8.9958,  3807, 1095.200,    2.751,   34.353,2,   34.352,2,  208.200,2,  207.900,2,   46.800,2,   33.430,2, -999.000,9,    2.280,2,    1.114,2,    0.501,2, -999.000,9, -999.000,9, -999.000,9
           NA,     A14,    105,   1,-999.0,      18,  2,19950211,0707, -44.4968,   -8.9958,  3807, 1194.800,    2.676,   34.418,2,   34.415,2,  196.400,2,  195.100,2,   54.100,2,   33.990,2, -999.000,9,    2.330,2,    0.752,2,    0.350,2, -999.000,9, -999.000,9, -999.000,9
           NA,     A14,    105,   1,-999.0,      17,  2,19950211,0707, -44.4968,   -8.9958,  3807, 1393.600,    2.623,   34.528,2,   34.526,2,  184.600,2,  182.400,2,   63.300,2,   33.900,2, -999.000,9,    2.320,2,    0.387,2,    0.181,2, -999.000,9, -999.000,9, -999.000,9
           NA,     A14,    105,   1,-999.0,      16,  2,19950211,0707, -44.4968,   -8.9958,  3807, 1596.100,    2.621,   34.614,2,   34.609,2,  179.800,2,  180.200,2,   67.400,2,   33.100,2, -999.000,9,    2.260,2,    0.208,2,    0.116,2, -999.000,9, -999.000,9, -999.000,9
           NA,     A14,    105,   1,-999.0,      15,  2,19950211,0707, -44.4968,   -8.9958,  3807, 1795.900,    2.621,   34.685,2,   34.685,2,  183.700,2,  185.100,2,   68.100,2,   31.690,2, -999.000,9,    2.170,2,    0.115,2,    0.059,2, -999.000,9, -999.000,9, -999.000,9
           NA,     A14,    105,   1,-999.0,      14,  2,19950211,0707, -44.4968,   -8.9958,  3807, 1796.200,    2.619,   34.689,2,   34.686,2,  183.700,2,  185.400,2,   67.900,2,   31.720,2, -999.000,9,    2.160,2,    0.120,2,    0.052,2, -999.000,9, -999.000,9, -999.000,9
           NA,     A14,    105,   1,-999.0,      13,  2,19950211,0707, -44.4968,   -8.9958,  3807, 1995.000,    2.601,   34.741,2,   34.738,2,  193.200,2,  193.400,2,   66.500,2,   30.130,2, -999.000,9,    2.060,2,    0.073,2,    0.043,2, -999.000,9, -999.000,9, -999.000,9
           NA,     A14,    105,   1,-999.0,      12,  2,19950211,0707, -44.4968,   -8.9958,  3807, 2195.700,    2.544,   34.776,2,   34.774,2,  203.400,2,  202.300,2,   64.700,2,   28.660,2, -999.000,9,    1.960,2,    0.039,2,    0.012,2, -999.000,9, -999.000,9, -999.000,9
           NA,     A14,    105,   1,-999.0,      11,  2,19950211,0707, -44.4968,   -8.9958,  3807, 2395.500,    2.341,   34.782,2,   34.778,2,  202.300,2,  203.100,2,   71.800,2,   28.810,2, -999.000,9,    1.980,2,    0.050,2,    0.036,2, -999.000,9, -999.000,9, -999.000,9
           NA,     A14,    105,   1,-999.0,      10,  2,19950211,0707, -44.4968,   -8.9958,  3807, 2595.800,    2.157,   34.787,2,   34.786,2,  205.700,2,  207.100,2,   75.800,2,   28.770,2, -999.000,9,    1.960,2,    0.048,2,    0.028,2, -999.000,9, -999.000,9, -999.000,9
           NA,     A14,    105,   1,-999.0,       9,  2,19950211,0707, -44.4968,   -8.9958,  3807, 2797.300,    2.109,   34.806,2,   34.805,2,  217.800,2,  217.600,2,   71.300,2,   27.300,2, -999.000,9,    1.880,2,    0.017,2,    0.018,2, -999.000,9, -999.000,9, -999.000,9
           NA,     A14,    105,   1,-999.0,       8,  2,19950211,0707, -44.4968,   -8.9958,  3807, 2997.200,    1.815,   34.779,2,   34.776,2,  213.200,2,  211.300,2,   85.200,2,   29.120,2, -999.000,9,    1.990,2,    0.043,2,    0.026,2, -999.000,9, -999.000,9, -999.000,9
           NA,     A14,    105,   1,-999.0,       7,  2,19950211,0707, -44.4968,   -8.9958,  3807, 3198.700,    1.540,   34.755,2,   34.753,2,  208.000,2,  208.400,2,   96.300,2,   30.290,2, -999.000,9,    2.080,2,    0.059,2,    0.032,2, -999.000,9, -999.000,9, -999.000,9
           NA,     A14,    105,   1,-999.0,       6,  2,19950211,0707, -44.4968,   -8.9958,  3807, 3394.900,    1.471,   34.766,2,   34.765,2,  216.100,2,  216.200,2,   94.600,2,   29.540,2, -999.000,9,    2.020,2,    0.038,2,    0.024,2, -999.000,9, -999.000,9, -999.000,9
           NA,     A14,    105,   1,-999.0,       5,  2,19950211,0707, -44.4968,   -8.9958,  3807, 3596.500,    1.357,   34.757,2,   34.756,2,  216.300,2,  215.500,2,   99.000,2,   30.290,2, -999.000,9,    2.060,2,    0.028,2,    0.029,2, -999.000,9, -999.000,9, -999.000,9
           NA,     A14,    105,   1,-999.0,       4,  2,19950211,0707, -44.4968,   -8.9958,  3807, 3746.100,    1.238,   34.739,2,   34.736,2,  213.400,2,  212.100,2,  105.900,2,   31.030,2, -999.000,9,    2.120,2,    0.081,2,    0.040,2, -999.000,9, -999.000,9, -999.000,9
           NA,     A14,    105,   1,-999.0,       3,  2,19950211,0707, -44.4968,   -8.9958,  3807, 3825.500,    1.247,   34.740,2,   34.739,2,  212.700,2,  214.300,2,  105.600,2,   31.060,2, -999.000,9,    2.110,2,    0.071,2,    0.041,2, -999.000,9, -999.000,9, -999.000,9
           NA,     A14,    104,   1,-999.0,      32,  2,19950211,0119, -44.0007,   -9.0045,  3748,    5.900,   11.388,   34.542,2,   34.543,2,  274.800,2,  272.200,2,    0.200,6,    6.680,6, -999.000,9,    0.550,6,    3.539,2,    1.710,2, -999.000,9, -999.000,9, 2296.200,2
           NA,     A14,    104,   1,-999.0,      31,  2,19950211,0119, -44.0007,   -9.0045,  3748,   37.100,   11.391,   34.542,2,   34.546,2,  271.100,2,  272.300,2,    0.100,6,    6.630,6, -999.000,9,    0.560,6,    3.540,2,    1.702,2, -999.000,9, -999.000,9, -999.000,9
           NA,     A14,    104,   1,-999.0,      30,  2,19950211,0119, -44.0007,   -9.0045,  3748,   71.300,   11.382,   34.546,2,   34.546,2,  271.000,2,  271.600,2,    0.100,2,    6.690,2, -999.000,9,    0.570,2,    3.540,2,    1.717,2, -999.000,9, -999.000,9, -999.000,9
           NA,     A14,    104,   1,-999.0,      29,  2,19950211,0119, -44.0007,   -9.0045,  3748,  137.300,    9.755,   34.668,2,   34.667,2,  254.700,2,  255.400,2,    3.400,2,   12.810,2, -999.000,9,    0.960,2,    3.606,2,    1.728,2, -999.000,9, -999.000,9, -999.000,9
           NA,     A14,    104,   1,-999.0,      28,  2,19950211,0119, -44.0007,   -9.0045,  3748,  196.200,    8.820,   34.575,2,   34.581,2,  250.500,2,  248.800,2,    4.400,2,   15.870,2, -999.000,9,    1.130,2,    3.532,2,    1.688,2, -999.000,9, -999.000,9, -999.000,9
           NA,     A14,    104,   1,-999.0,      27,  2,19950211,0119, -44.0007,   -9.0045,  3748,  294.800,    7.272,   34.452,2,   34.451,2,  228.800,2,  230.100,2,    8.100,2,   22.170,2, -999.000,9,    1.510,2,    3.126,2,    1.436,2, -999.000,9, -999.000,9, -999.000,9
           NA,     A14,    104,   1,-999.0,      26,  2,19950211,0119, -44.0007,   -9.0045,  3748,  396.400,    5.494,   34.284,2,   34.280,2,  242.000,2,  245.600,2,   11.300,2,   25.460,2, -999.000,9,    1.740,2,    3.295,2,    1.508,2, -999.000,9, -999.000,9, -999.000,9
           NA,     A14,    104,   1,-999.0,      25,  2,19950211,0119, -44.0007,   -9.0045,  3748,  492.100,    4.748,   34.234,2,   34.233,2,  251.600,2,  253.200,2,   13.700,2,   26.700,2, -999.000,9,    1.820,2,    3.304,2,    1.470,2, -999.000,9, -999.000,9, -999.000,9
           NA,     A14,    104,   1,-999.0,      24,  2,19950211,0119, -44.0007,   -9.0045,  3748,  594.700,    4.160,   34.218,2,   34.214,2,  256.000,2,  255.400,2,   17.800,2,   27.830,2, -999.000,9,    1.900,2,    3.100,2,    1.381,2, -999.000,9, -999.000,9, -999.000,9
           NA,     A14,    104,   1,-999.0,      23,  2,19950211,0119, -44.0007,   -9.0045,  3748,  695.300,    3.700,   34.219,2,   34.217,2,  253.300,2,  250.900,2,   22.500,2,   29.480,2, -999.000,9,    1.990,2,    2.786,2,    1.247,2, -999.000,9, -999.000,9, -999.000,9
           NA,     A14,    104,   1,-999.0,      22,  2,19950211,0119, -44.0007,   -9.0045,  3748,  796.400,    3.327,   34.235,2,   34.233,2,  246.400,2,  243.200,2,   28.100,2,   30.720,2, -999.000,9,    2.080,2,    2.352,2,    1.041,2, -999.000,9, -999.000,9, -999.000,9
           NA,     A14,    104,   1,-999.0,      21,  2,19950211,0119, -44.0007,   -9.0045,  3748,  895.900,    3.005,   34.261,2,   34.258,2,  236.300,2,  233.600,2,   34.400,2,   31.900,2, -999.000,9,    2.150,2,    2.021,2,    0.904,2, -999.000,9, -999.000,9, -999.000,9
           NA,     A14,    104,   1,-999.0,      19,  2,19950211,0119, -44.0007,   -9.0045,  3748,  993.600,    2.852,   34.304,2,   34.302,2,  223.900,2,  221.000,2,   40.500,6,   32.510,2, -999.000,9,    2.210,6,    1.520,2,    0.675,2, -999.000,9, -999.000,9, -999.000,9
           NA,     A14,    104,   1,-999.0,      20,  2,19950211,0119, -44.0007,   -9.0045,  3748,  994.100,    2.848,   34.306,2,   34.302,2,  223.900,2,  220.800,2,   40.500,2,   32.850,2, -999.000,9,    2.220,2,    1.536,2,    0.676,2, -999.000,9, -999.000,9, -999.000,9
           NA,     A14,    104,   1,-999.0,      18,  2,19950211,0119, -44.0007,   -9.0045,  3748, 1195.300,    2.710,   34.404,2,   34.400,2,  201.400,2,  198.600,2,   52.600,2,   33.960,2, -999.000,9,    2.310,2,    0.806,2,    0.368,2, -999.000,9, -999.000,9, -999.000,9
           NA,     A14,    104,   1,-999.0,      17,  2,19950211,0119, -44.0007,   -9.0045,  3748, 1395.500,    2.665,   34.507,2,   34.505,2,  185.400,2,  184.400,2,   61.300,2,   34.190,2, -999.000,9,    2.320,2,    0.400,2,    0.190,2, -999.000,9, -999.000,9, -999.000,9
           NA,     A14,    104,   1,-999.0,      16,  2,19950211,0119, -44.0007,   -9.0045,  3748, 1594.800,    2.639,   34.599,2,   34.594,2,  179.400,2,  180.100,2,   66.400,2,   33.480,2, -999.000,9,    2.270,2,    0.231,2,    0.138,2, -999.000,9, -999.000,9, -999.000,9
           NA,     A14,    104,   1,-999.0,      15,  2,19950211,0119, -44.0007,   -9.0045,  3748, 1794.200,    2.610,   34.674,2,   34.670,2,  182.200,2,  183.200,2,   68.800,2,   32.230,2, -999.000,9,    2.190,2,    0.139,2,    0.083,2, -999.000,9, -999.000,9, -999.000,9
           NA,     A14,    104,   1,-999.0,      14,  2,19950211,0119, -44.0007,   -9.0045,  3748, 1996.100,    2.595,   34.749,2,   34.747,2,  194.000,2,  196.000,2,   66.500,2,   29.970,2, -999.000,9,    2.030,2,    0.063,2,    0.040,2, -999.000,9, -999.000,9, -999.000,9
           NA,     A14,    104,   1,-999.0,      13,  2,19950211,0119, -44.0007,   -9.0045,  3748, 1996.400,    2.594,   34.750,2,   34.747,2,  194.000,2,  195.000,2,   66.500,2,   29.970,2, -999.000,9,    2.030,2,    0.064,2,    0.035,2, -999.000,9, -999.000,9, -999.000,9
           NA,     A14,    104,   1,-999.0,      12,  2,19950211,0119, -44.0007,   -9.0045,  3748, 2196.000,    2.489,   34.775,2,   34.773,2,  198.000,2,  200.300,2,   68.200,6,   29.140,6, -999.000,9,    1.970,6,    0.054,2,    0.032,2, -999.000,9, -999.000,9, -999.000,9
           NA,     A14,    104,   1,-999.0,      11,  2,19950211,0119, -44.0007,   -9.0045,  3748, 2397.000,    2.444,   34.802,2,   34.799,2,  210.900,2,  212.400,2,   62.800,2,   27.530,2, -999.000,9,    1.860,2,    0.021,2,    0.023,2, -999.000,9, -999.000,9, -999.000,9
           NA,     A14,    104,   1,-999.0,      10,  2,19950211,0119, -44.0007,   -9.0045,  3748, 2593.500,    2.355,   34.814,2,   34.813,2,  217.600,2,  217.800,2,   63.100,6,   26.790,6, -999.000,9,    1.820,6,    0.020,2,    0.016,2, -999.000,9, -999.000,9, -999.000,9
           NA,     A14,    104,   1,-999.0,       9,  2,19950211,0119, -44.0007,   -9.0045,  3748, 2796.900,    2.232,   34.815,2,   34.814,2,  218.500,2,  219.000,2,   66.100,2,   26.990,2, -999.000,9,    1.820,2,    0.012,2,    0.015,2, -999.000,9, -999.000,9, -999.000,9
           NA,     A14,    104,   1,-999.0,       8,  2,19950211,0119, -44.0007,   -9.0045,  3748, 2995.000,    2.040,   34.800,2,   34.796,2,  215.600,2,  215.500,2,   74.900,2,   27.870,2, -999.000,9,    1.880,2,    0.027,2,    0.024,2, -999.000,9, -999.000,9, -999.000,9
           NA,     A14,    104,   1,-999.0,       7,  2,19950211,0119, -44.0007,   -9.0045,  3748, 3195.900,    1.828,   34.780,2,   34.777,2,  212.300,2,  211.900,2,   84.800,2,   28.990,2, -999.000,9,    1.970,2,    0.042,2,    0.033,2, -999.000,9, -999.000,9, -999.000,9
           NA,     A14,    104,   1,-999.0,       6,  2,19950211,0119, -44.0007,   -9.0045,  3748, 3388.800,    1.549,   34.770,2,   34.766,2,  215.500,2,  215.200,2,   92.300,2,   29.640,2, -999.000,9,    2.000,2,    0.037,2,    0.025,2, -999.000,9, -999.000,9, -999.000,9
           NA,     A14,    104,   1,-999.0,       5,  2,19950211,0119, -44.0007,   -9.0045,  3748, 3596.900,    1.506,   34.768,2,   34.765,2,  215.900,2,  215.700,2,   94.400,2,   29.700,2, -999.000,9,    2.000,2,    0.031,2,    0.026,2, -999.000,9, -999.000,9, -999.000,9
           NA,     A14,    104,   1,-999.0,       4,  2,19950211,0119, -44.0007,   -9.0045,  3748, 3694.700,    1.476,   34.766,2,   34.763,2,  216.600,2,  216.300,2,   95.400,2,   29.750,2, -999.000,9,    2.020,2,    0.040,2,    0.023,2, -999.000,9, -999.000,9, -999.000,9
           NA,     A14,    104,   1,-999.0,       3,  2,19950211,0119, -44.0007,   -9.0045,  3748, 3767.700,    1.460,   34.766,2,   34.763,2,  216.600,2,  216.700,2,   95.400,2,   29.630,2, -999.000,9,    2.010,2,    0.028,2,    0.024,2, -999.000,9, -999.000,9, -999.000,9