BOTTLE,20213527JOAExport
EXPOCODE,SECT_ID,STNNBR,CASTNO,SAMPNO,BTLNBR,BTLNBR_FLAG_W,DATE,TIME,LATITUDE,LONGITUDE,DEPTH,CTDPRS,CTDTMP,CTDSAL,CTDSAL_FLAG_W,SALNTY,SALNTY_FLAG_W,CTDOXY,CTDOXY_FLAG_W,OXYGEN,OXYGEN_FLAG_W,SILCAT,SILCAT_FLAG_W,NITRAT,NITRAT_FLAG_W,NITRIT,NITRIT_FLAG_W,PHSPHT,PHSPHT_FLAG_W,CFC-11,CFC-11_FLAG_W,CFC-12,CFC-12_FLAG_W,SF6,SF6_FLAG_W,TCARBN,TCARBN_FLAG_W,ALKALI,ALKALI_FLAG_W
,,,,,,,,,,,,DB,DEG C,PSS-78,,PSS-78,,UMOL/KG,,UMOL/KG,,UMOL/KG,,UMOL/KG,,UMOL/KG,,UMOL/KG,,PMOL/KG,,PMOL/KG,,FMOL/KG,,UMOL/KG,,UMOL/KG
           NA,     A14,     87,   1,-999.0,      32,  2,19950206,1646, -35.5037,   -9.0040,  4050,    4.100,   20.145,   35.463,2,   35.466,2,  225.300,2,  229.500,2,    1.200,2,    0.000,2, -999.000,9,    0.150,2,    2.329,2,    1.164,2, -999.000,9, -999.000,9, 2338.200,2
           NA,     A14,     87,   1,-999.0,      31,  2,19950206,1646, -35.5037,   -9.0040,  4050,   51.700,   17.446,   35.409,2, -999.000,3,  235.400,2, -999.000,3,    1.200,2,    0.020,2, -999.000,9,    0.160,2,    2.673,2,    1.316,2, -999.000,9, -999.000,9, -999.000,9
           NA,     A14,     87,   1,-999.0,      30,  2,19950206,1646, -35.5037,   -9.0040,  4050,   96.600,   15.172,   35.374,2,   35.376,2,  253.700,2, -999.000,3,    1.400,2,    1.370,2, -999.000,9,    0.270,2,    2.784,2,    1.360,2, -999.000,9, -999.000,9, -999.000,9
           NA,     A14,     87,   1,-999.0,      29,  2,19950206,1646, -35.5037,   -9.0040,  4050,  147.200,   14.360,   35.332,2,   35.331,2,  226.400,2,  224.200,2,    2.000,2,    5.220,2, -999.000,9,    0.460,2,    2.746,2,    1.338,2, -999.000,9, -999.000,9, -999.000,9
           NA,     A14,     87,   1,-999.0,      28,  2,19950206,1646, -35.5037,   -9.0040,  4050,  196.200,   13.704,   35.278,2, -999.000,3,  221.200,2,  219.900,2,    2.400,2,    7.280,2, -999.000,9,    0.580,2,    2.719,2,    1.320,2, -999.000,9, -999.000,9, -999.000,9
           NA,     A14,     87,   1,-999.0,      27,  2,19950206,1646, -35.5037,   -9.0040,  4050,  296.000,   12.356,   35.121,2,   35.122,2,  217.200,2,  215.800,2,    3.900,2,   11.310,2, -999.000,9,    0.810,2,    2.632,2,    1.364,2, -999.000,9, -999.000,9, -999.000,9
           NA,     A14,     87,   1,-999.0,      26,  2,19950206,1646, -35.5037,   -9.0040,  4050,  395.300,   10.930,   34.931,2,   34.925,2,  218.500,2,  216.700,2,    4.900,2,   14.490,2, -999.000,9,    1.000,2,    2.575,2,    1.229,2, -999.000,9, -999.000,9, -999.000,9
           NA,     A14,     87,   1,-999.0,      25,  2,19950206,1646, -35.5037,   -9.0040,  4050,  496.400,    8.903,   34.668,2,   34.668,2,  217.800,2,  216.700,2,    7.200,2,   19.290,2, -999.000,9,    1.310,2,    2.510,2,    1.147,2, -999.000,9, -999.000,9, -999.000,9
           NA,     A14,     87,   1,-999.0,      24,  2,19950206,1646, -35.5037,   -9.0040,  4050,  596.000,    7.346,   34.497,2,   34.496,2,  219.200,2,  220.800,2,   10.300,2,   22.960,2, -999.000,9,    1.560,2,    2.322,2,    1.046,2, -999.000,9, -999.000,9, -999.000,9
           NA,     A14,     87,   1,-999.0,      23,  2,19950206,1646, -35.5037,   -9.0040,  4050,  695.600,    5.799,   34.358,2,   34.359,2,  227.200,2,  228.100,2,   14.200,2,   25.820,2, -999.000,9,    1.760,2,    2.186,2,    0.965,2, -999.000,9, -999.000,9, -999.000,9
           NA,     A14,     87,   1,-999.0,      22,  2,19950206,1646, -35.5037,   -9.0040,  4050,  795.200,    4.482,   34.258,2,   34.261,2,  241.800,2,  243.300,2,   18.200,2,   27.700,2, -999.000,9,    1.880,2,    2.225,2,    0.980,2, -999.000,9, -999.000,9, -999.000,9
           NA,     A14,     87,   1,-999.0,      21,  2,19950206,1646, -35.5037,   -9.0040,  4050,  895.200,    3.899,   34.254,2,   34.255,2,  237.800,2,  236.000,2,   23.700,2,   29.290,2, -999.000,9,    1.970,2,    1.848,2,    0.813,2, -999.000,9, -999.000,9, -999.000,9
           NA,     A14,     87,   1,-999.0,      20,  2,19950206,1646, -35.5037,   -9.0040,  4050,  995.000,    3.518,   34.267,2,   34.269,2,  232.000,2,  231.300,2,   29.100,2,   30.350,2, -999.000,9,    2.050,2,    1.512,2,    0.666,2, -999.000,9, -999.000,9, -999.000,9
           NA,     A14,     87,   1,-999.0,      19,  2,19950206,1646, -35.5037,   -9.0040,  4050, 1195.500,    3.020,   34.364,2,   34.366,2,  211.200,2,  207.700,2,   43.600,2,   32.360,2, -999.000,9,    2.190,2,    0.710,2,    0.325,2, -999.000,9, -999.000,9, -999.000,9
           NA,     A14,     87,   1,-999.0,      18,  2,19950206,1646, -35.5037,   -9.0040,  4050, 1395.800,    2.867,   34.503,2,   34.504,2,  193.700,2,  191.900,2,   54.000,6,   32.390,2, -999.000,9,    2.200,6,    0.203,2,    0.092,2, -999.000,9, -999.000,9, -999.000,9
           NA,     A14,     87,   1,-999.0,      17,  2,19950206,1646, -35.5037,   -9.0040,  4050, 1594.900,    2.757,   34.625,2,   34.625,2,  190.900,2,  191.600,2,   58.200,2,   31.170,2, -999.000,9,    2.120,2,    0.075,2,    0.038,2, -999.000,9, -999.000,9, -999.000,9
           NA,     A14,     87,   1,-999.0,      16,  2,19950206,1646, -35.5037,   -9.0040,  4050, 1794.200,    2.742,   34.708,2,   34.706,2,  196.200,2,  197.300,2,   57.400,2,   29.460,2, -999.000,9,    1.990,2,    0.032,2,    0.019,2, -999.000,9, -999.000,9, -999.000,9
           NA,     A14,     87,   1,-999.0,      15,  2,19950206,1646, -35.5037,   -9.0040,  4050, 1995.700,    2.700,   34.771,2,   34.771,2,  204.800,2,  207.500,2,   55.400,2,   27.630,2, -999.000,9,    1.870,2,    0.021,2,    0.016,2, -999.000,9, -999.000,9, -999.000,9
           NA,     A14,     87,   1,-999.0,      14,  2,19950206,1646, -35.5037,   -9.0040,  4050, 2195.400,    2.653,   34.808,2,   34.806,2,  214.100,2,  216.700,2,   53.600,2,   26.330,2, -999.000,9,    1.790,2,    0.011,2,    0.005,2, -999.000,9, -999.000,9, -999.000,9
           NA,     A14,     87,   1,-999.0,      13,  2,19950206,1646, -35.5037,   -9.0040,  4050, 2396.800,    2.595,   34.824,2,   34.823,2,  221.200,2,  220.300,2,   53.600,2,   25.740,2, -999.000,9,    1.740,2,    0.010,2,    0.006,2, -999.000,9, -999.000,9, -999.000,9
           NA,     A14,     87,   1,-999.0,      12,  2,19950206,1646, -35.5037,   -9.0040,  4050, 2596.100,    2.511,   34.839,2,   34.838,2,  226.800,2,  225.800,2,   53.300,2,   25.090,2, -999.000,9,    1.690,2,    0.003,2,    0.006,2, -999.000,9, -999.000,9, -999.000,9
           NA,     A14,     87,   1,-999.0,      11,  2,19950206,1646, -35.5037,   -9.0040,  4050, 2596.200,    2.509,   34.840,2,   34.837,2,  226.800,2,  225.500,2,   53.300,2,   25.030,2, -999.000,9,    1.690,2,    0.003,2,    0.006,2, -999.000,9, -999.000,9, -999.000,9
           NA,     A14,     87,   1,-999.0,      10,  2,19950206,1646, -35.5037,   -9.0040,  4050, 2794.900,    2.437,   34.854,2,   34.852,2,  233.000,2,  232.000,2,   52.600,2,   24.330,2, -999.000,9,    1.640,2,    0.004,2,    0.002,2, -999.000,9, -999.000,9, -999.000,9
           NA,     A14,     87,   1,-999.0,       9,  2,19950206,1646, -35.5037,   -9.0040,  4050, 2996.400,    2.345,   34.855,2,   34.852,2,  235.300,2,  234.000,2,   53.900,2,   24.330,2, -999.000,9,    1.650,2,    0.002,2, -999.000,9, -999.000,9, -999.000,9, -999.000,9
           NA,     A14,     87,   1,-999.0,       8,  2,19950206,1646, -35.5037,   -9.0040,  4050, 3197.100,    2.262,   34.855,2,   34.853,2,  236.300,2,  235.100,2,   55.800,2,   24.190,2, -999.000,9,    1.640,2,    0.002,2,    0.002,2, -999.000,9, -999.000,9, -999.000,9
           NA,     A14,     87,   1,-999.0,       7,  2,19950206,1646, -35.5037,   -9.0040,  4050, 3396.000,    2.178,   34.849,2,   34.846,2,  234.100,2,  233.600,2,   59.800,2,   24.550,2, -999.000,9,    1.670,2,    0.002,2,    0.004,2, -999.000,9, -999.000,9, -999.000,9
           NA,     A14,     87,   1,-999.0,       6,  2,19950206,1646, -35.5037,   -9.0040,  4050, 3596.200,    2.049,   34.837,2,   34.835,2,  231.800,2,  231.600,2,   65.700,2,   25.430,2, -999.000,9,    1.720,2,   -0.001,2,    0.002,2, -999.000,9, -999.000,9, -999.000,9
           NA,     A14,     87,   1,-999.0,       5,  2,19950206,1646, -35.5037,   -9.0040,  4050, 3796.300,    1.882,   34.821,2,   34.818,2,  228.600,2,  227.500,2,   73.400,2,   26.430,2, -999.000,9,    1.790,2,    0.002,2,    0.001,2, -999.000,9, -999.000,9, -999.000,9
           NA,     A14,     87,   1,-999.0,       4,  2,19950206,1646, -35.5037,   -9.0040,  4050, 4047.100,    1.732,   34.804,2,   34.802,2,  225.400,2,  225.000,2,   80.600,2,   27.370,2, -999.000,9,    1.850,2,    0.002,2,    0.001,2, -999.000,9, -999.000,9, -999.000,9
           NA,     A14,     87,   1,-999.0,       3,  2,19950206,1646, -35.5037,   -9.0040,  4050, 4111.200,    1.735,   34.805,2,   34.803,2,  225.300,2,  227.500,2,   80.600,2,   27.370,2, -999.000,9,    1.840,2,    0.000,2, -999.000,9, -999.000,9, -999.000,9, -999.000,9
           NA,     A14,     86,   1,-999.0,      32,  2,19950206,1108, -34.9997,   -8.9993,  4130,    4.900,   20.181,   35.477,2,   35.479,2,  230.700,2,  229.000,2,    1.000,2,    0.020,2, -999.000,9,    0.150,2,    2.290,2,    1.138,2, -999.000,9, -999.000,9, 2339.000,2
           NA,     A14,     86,   1,-999.0,      31,  2,19950206,1108, -34.9997,   -8.9993,  4130,   46.700,   19.992,   35.508,2,   35.504,2,  239.600,2, -999.000,3,    1.000,2,    0.020,2, -999.000,9,    0.150,2,    2.320,2,    1.161,2, -999.000,9, -999.000,9, -999.000,9
           NA,     A14,     86,   1,-999.0,      30,  2,19950206,1108, -34.9997,   -8.9993,  4130,  120.600,   15.209,   35.412,2, -999.000,3,  226.500,2, -999.000,3,    1.100,2,    1.850,2, -999.000,9,    0.290,2,    2.757,2,    1.356,2, -999.000,9, -999.000,9, -999.000,9
           NA,     A14,     86,   1,-999.0,      29,  2,19950206,1108, -34.9997,   -8.9993,  4130,  195.100,   13.906,   35.280,2,   35.279,2,  220.000,2,  220.100,2,    1.900,2,    6.850,2, -999.000,9,    0.550,2,    2.740,2,    1.324,2, -999.000,9, -999.000,9, -999.000,9
           NA,     A14,     86,   1,-999.0,      28,  2,19950206,1108, -34.9997,   -8.9993,  4130,  295.500,   12.701,   35.191,2,   35.189,2,  222.000,2,  220.800,2,    2.600,2,    9.980,2, -999.000,9,    0.730,2,    2.716,2,    1.295,2, -999.000,9, -999.000,9, -999.000,9
           NA,     A14,     86,   1,-999.0,      27,  2,19950206,1108, -34.9997,   -8.9993,  4130,  395.700,   10.876,   34.923,2,   34.923,2,  222.300,2, -999.000,3,    4.600,2,   14.660,2, -999.000,9,    1.010,2,    2.532,2,    1.189,2, -999.000,9, -999.000,9, -999.000,9
           NA,     A14,     86,   1,-999.0,      26,  2,19950206,1108, -34.9997,   -8.9993,  4130,  495.100,    8.914,   34.671,2,   34.673,2,  210.200,2,  209.200,2,    8.000,2,   20.020,2, -999.000,9,    1.370,2,    2.211,2,    1.042,2, -999.000,9, -999.000,9, -999.000,9
           NA,     A14,     86,   1,-999.0,      25,  2,19950206,1108, -34.9997,   -8.9993,  4130,  595.700,    6.782,   34.441,2,   34.443,2,  218.100,2,  221.700,2,   11.000,2,   23.860,2, -999.000,9,    1.640,2,    2.289,2,    1.033,2, -999.000,9, -999.000,9, -999.000,9
           NA,     A14,     86,   1,-999.0,      24,  2,19950206,1108, -34.9997,   -8.9993,  4130,  595.800,    6.768,   34.439,2,   34.439,2,  218.100,2,  222.200,2,   11.000,2,   23.960,2, -999.000,9,    1.650,2,    2.290,2,    1.025,2, -999.000,9, -999.000,9, -999.000,9
           NA,     A14,     86,   1,-999.0,      23,  2,19950206,1108, -34.9997,   -8.9993,  4130,  695.300,    5.574,   34.331,2,   34.331,2,  232.600,2,  233.100,2,   13.600,2,   25.950,2, -999.000,9,    1.780,2,    2.300,2,    1.025,2, -999.000,9, -999.000,9, -999.000,9
           NA,     A14,     86,   1,-999.0,      22,  2,19950206,1108, -34.9997,   -8.9993,  4130,  788.600,    4.813,   34.296,2,   34.299,2,  232.100,2,  232.000,2,   18.200,2,   27.840,2, -999.000,9,    1.900,2,    1.886,2,    0.838,2, -999.000,9, -999.000,9, -999.000,9
           NA,     A14,     86,   1,-999.0,      21,  2,19950206,1108, -34.9997,   -8.9993,  4130,  894.200,    4.056,   34.279,2,   34.280,2,  231.300,2,  230.700,2,   24.400,2,   29.660,2, -999.000,9,    2.010,2,    1.557,2,    0.685,2, -999.000,9, -999.000,9, -999.000,9
           NA,     A14,     86,   1,-999.0,      20,  2,19950206,1108, -34.9997,   -8.9993,  4130,  994.900,    3.636,   34.295,2,   34.296,2,  224.700,2,  223.300,2,   30.500,2,   30.840,2, -999.000,9,    2.090,2,    1.217,2,    0.543,2, -999.000,9, -999.000,9, -999.000,9
           NA,     A14,     86,   1,-999.0,      19,  2,19950206,1108, -34.9997,   -8.9993,  4130, 1195.000,    3.011,   34.375,2,   34.375,2,  207.900,2,  205.900,2,   43.700,2,   32.610,2, -999.000,9,    2.220,2,    0.656,2,    0.302,2, -999.000,9, -999.000,9, -999.000,9
           NA,     A14,     86,   1,-999.0,      18,  2,19950206,1108, -34.9997,   -8.9993,  4130, 1395.700,    2.854,   34.493,2,   34.493,2,  191.500,2,  191.300,2,   53.900,2,   32.850,2, -999.000,9,    2.240,2,    0.218,2,    0.106,2, -999.000,9, -999.000,9, -999.000,9
           NA,     A14,     86,   1,-999.0,      17,  2,19950206,1108, -34.9997,   -8.9993,  4130, 1596.700,    2.796,   34.605,2,   34.602,2,  190.000,2,  190.400,2,   57.300,2,   31.790,2, -999.000,9,    2.150,2,    0.071,2,    0.034,2, -999.000,9, -999.000,9, -999.000,9
           NA,     A14,     86,   1,-999.0,      16,  2,19950206,1108, -34.9997,   -8.9993,  4130, 1795.500,    2.757,   34.692,2,   34.691,2,  196.600,2,  196.000,2,   57.000,2,   29.970,2, -999.000,9,    2.030,2,    0.040,2,    0.021,2, -999.000,9, -999.000,9, -999.000,9
           NA,     A14,     86,   1,-999.0,      15,  2,19950206,1108, -34.9997,   -8.9993,  4130, 1996.600,    2.721,   34.764,2,   34.761,2,  205.300,2,  207.000,2,   54.500,2,   27.860,2, -999.000,9,    1.880,2,    0.015,2,    0.016,2, -999.000,9, -999.000,9, -999.000,9
           NA,     A14,     86,   1,-999.0,      14,  2,19950206,1108, -34.9997,   -8.9993,  4130, 2194.800,    2.693,   34.811,2,   34.811,2,  216.800,2,  217.700,2,   51.300,2,   26.150,2, -999.000,9,    1.770,2,    0.006,2,    0.004,2, -999.000,9, -999.000,9, -999.000,9
           NA,     A14,     86,   1,-999.0,      13,  2,19950206,1108, -34.9997,   -8.9993,  4130, 2396.400,    2.632,   34.838,2,   34.834,2,  223.800,2,  225.000,2,   49.900,2,   25.040,2, -999.000,9,    1.700,2,    0.006,2,    0.003,2, -999.000,9, -999.000,9, -999.000,9
           NA,     A14,     86,   1,-999.0,      12,  2,19950206,1108, -34.9997,   -8.9993,  4130, 2596.100,    2.546,   34.853,2,   34.849,2,  229.900,2,  230.900,2,   49.600,2,   24.340,2, -999.000,9,    1.650,2,    0.007,2,    0.010,2, -999.000,9, -999.000,9, -999.000,9
           NA,     A14,     86,   1,-999.0,      11,  2,19950206,1108, -34.9997,   -8.9993,  4130, 2795.600,    2.475,   34.859,2,   34.853,2,  233.600,2,  234.300,2,   49.900,2,   24.070,2, -999.000,9,    1.630,2,    0.003,2,    0.003,2, -999.000,9, -999.000,9, -999.000,9
           NA,     A14,     86,   1,-999.0,      10,  2,19950206,1108, -34.9997,   -8.9993,  4130, 2995.700,    2.409,   34.861,2,   34.858,2,  235.400,2,  235.700,2,   51.300,2,   23.980,2, -999.000,9,    1.630,2,    0.001,2,    0.003,2, -999.000,9, -999.000,9, -999.000,9
           NA,     A14,     86,   1,-999.0,       9,  2,19950206,1108, -34.9997,   -8.9993,  4130, 3195.600,    2.346,   34.861,2,   34.858,2,  236.000,2,  236.300,2,   53.600,2,   23.990,2, -999.000,9,    1.630,2,   -0.001,2,    0.002,2, -999.000,9, -999.000,9, -999.000,9
           NA,     A14,     86,   1,-999.0,       8,  2,19950206,1108, -34.9997,   -8.9993,  4130, 3395.700,    2.264,   34.855,2,   34.851,2,  234.900,2,  235.000,2,   56.600,2,   24.350,2, -999.000,9,    1.650,2,   -0.001,2,    0.002,2, -999.000,9, -999.000,9, -999.000,9
           NA,     A14,     86,   1,-999.0,       7,  2,19950206,1108, -34.9997,   -8.9993,  4130, 3597.200,    2.178,   34.850,2,   34.847,2,  233.300,2,  233.800,2,   60.500,2,   24.580,2, -999.000,9,    1.680,2,    0.001,2,    0.002,2, -999.000,9, -999.000,9, -999.000,9
           NA,     A14,     86,   1,-999.0,       6,  2,19950206,1108, -34.9997,   -8.9993,  4130, 3796.600,    2.058,   34.839,2,   34.837,2,  230.700,2,  231.300,2,   65.900,2,   25.290,2, -999.000,9,    1.720,2, -999.000,9,    0.005,2, -999.000,9, -999.000,9, -999.000,9
           NA,     A14,     86,   1,-999.0,       5,  2,19950206,1108, -34.9997,   -8.9993,  4130, 3997.400,    1.883,   34.821,2,   34.817,2,  227.300,2,  227.700,2,   74.200,2,   26.450,6, -999.000,9,    1.800,6,    0.001,2,    0.005,2, -999.000,9, -999.000,9, -999.000,9
           NA,     A14,     86,   1,-999.0,       4,  2,19950206,1108, -34.9997,   -8.9993,  4130, 4097.000,    1.797,   34.812,2,   34.808,2,  225.600,2,  226.100,2,   77.700,2,   26.950,2, -999.000,9,    1.840,2,    0.001,2,    0.003,2, -999.000,9, -999.000,9, -999.000,9
           NA,     A14,     86,   1,-999.0,       3,  2,19950206,1108, -34.9997,   -8.9993,  4130, 4177.500,    1.737,   34.804,2,   34.801,2,  223.200,2,  224.900,2,   81.100,2,   27.360,2, -999.000,9,    1.860,2,    0.002,2,    0.003,2, -999.000,9, -999.000,9, -999.000,9