BOTTLE,20213527JOAExport
EXPOCODE,SECT_ID,STNNBR,CASTNO,SAMPNO,BTLNBR,BTLNBR_FLAG_W,DATE,TIME,LATITUDE,LONGITUDE,DEPTH,CTDPRS,CTDTMP,CTDSAL,CTDSAL_FLAG_W,SALNTY,SALNTY_FLAG_W,CTDOXY,CTDOXY_FLAG_W,OXYGEN,OXYGEN_FLAG_W,SILCAT,SILCAT_FLAG_W,NITRAT,NITRAT_FLAG_W,NITRIT,NITRIT_FLAG_W,PHSPHT,PHSPHT_FLAG_W,CFC-11,CFC-11_FLAG_W,CFC-12,CFC-12_FLAG_W,SF6,SF6_FLAG_W,TCARBN,TCARBN_FLAG_W,ALKALI,ALKALI_FLAG_W
,,,,,,,,,,,,DB,DEG C,PSS-78,,PSS-78,,UMOL/KG,,UMOL/KG,,UMOL/KG,,UMOL/KG,,UMOL/KG,,UMOL/KG,,PMOL/KG,,PMOL/KG,,FMOL/KG,,UMOL/KG,,UMOL/KG
           NA,     A14,     59,   1,-999.0,      32,  2,19950130,1720, -21.6655,   -9.0007,  4277,    4.300,   25.756,   36.437,2,   36.439,2,  207.200,2,  209.600,2,    1.100,2,    0.020,2, -999.000,9,    0.230,2,    1.888,2,    1.002,2, -999.000,9, -999.000,9, 2401.900,2
           NA,     A14,     59,   1,-999.0,      31,  2,19950130,1720, -21.6655,   -9.0007,  4277,   46.400,   22.426,   36.361,2, -999.000,3,  216.300,2, -999.000,3,    1.400,2,    0.020,2, -999.000,9,    0.190,2,    2.155,2,    1.085,2, -999.000,9, -999.000,9, -999.000,9
           NA,     A14,     59,   1,-999.0,      30,  2,19950130,1720, -21.6655,   -9.0007,  4277,   95.700,   20.589,   36.247,2,   36.243,2,  231.700,2, -999.000,3,    1.400,2,    0.020,2, -999.000,9,    0.170,2,    2.261,2,    1.138,2, -999.000,9, -999.000,9, -999.000,9
           NA,     A14,     59,   1,-999.0,      29,  2,19950130,1720, -21.6655,   -9.0007,  4277,  121.500,   19.852,   36.172,2, -999.000,3,  227.200,2,  229.900,2,    1.500,2,    0.020,2, -999.000,9,    0.210,2,    2.294,2,    1.147,2, -999.000,9, -999.000,9, -999.000,9
           NA,     A14,     59,   1,-999.0,      28,  2,19950130,1720, -21.6655,   -9.0007,  4277,  197.800,   15.662,   35.465,2, -999.000,3,  211.200,2,  210.700,2,    3.000,2,    5.480,2, -999.000,9,    0.510,2,    2.569,2,    1.254,2, -999.000,9, -999.000,9, -999.000,9
           NA,     A14,     59,   1,-999.0,      27,  2,19950130,1720, -21.6655,   -9.0007,  4277,  296.000,   13.018,   35.131,2,   35.132,2,  200.700,2,  202.000,2,    4.600,2,   11.740,2, -999.000,9,    0.850,2,    2.475,2,    1.172,2, -999.000,9, -999.000,9, -999.000,9
           NA,     A14,     59,   1,-999.0,      26,  2,19950130,1720, -21.6655,   -9.0007,  4277,  396.700,   10.374,   34.850,2,   34.850,2,  177.000,2,  173.800,2,    8.900,2,   20.220,2, -999.000,9,    1.370,2,    1.788,2,    0.833,2, -999.000,9, -999.000,9, -999.000,9
           NA,     A14,     59,   1,-999.0,      25,  2,19950130,1720, -21.6655,   -9.0007,  4277,  596.400,    6.382,   34.489,2,   34.496,2,  170.700,2,  168.300,2,   19.800,2,   29.900,2, -999.000,9,    2.000,2,    0.804,2,    0.366,2, -999.000,9, -999.000,9, -999.000,9
           NA,     A14,     59,   1,-999.0,      24,  2,19950130,1720, -21.6655,   -9.0007,  4277,  696.700,    5.338,   34.449,2,   34.454,2,  160.700,2,  159.800,2,   25.700,2,   33.180,2, -999.000,9,    2.200,2,    0.314,2,    0.149,2, -999.000,9, -999.000,9, -999.000,9
           NA,     A14,     59,   1,-999.0,      23,  2,19950130,1720, -21.6655,   -9.0007,  4277,  697.300,    5.333,   34.449,2, -999.000,3,  160.700,2,  158.900,2,   25.700,2,   32.940,2, -999.000,9,    2.190,2,    0.311,2,    0.149,2, -999.000,9, -999.000,9, -999.000,9
           NA,     A14,     59,   1,-999.0,      22,  2,19950130,1720, -21.6655,   -9.0007,  4277,  795.100,    4.425,   34.428,2, -999.000,3,  170.400,2,  172.000,2,   32.000,2,   33.410,2, -999.000,9,    2.230,2,    0.165,2,    0.080,2, -999.000,9, -999.000,9, -999.000,9
           NA,     A14,     59,   1,-999.0,      21,  2,19950130,1720, -21.6655,   -9.0007,  4277,  996.600,    3.773,   34.487,2,   34.489,2,  180.400,2,  178.400,2,   38.900,2,   32.940,2, -999.000,9,    2.210,2,    0.054,2,    0.029,2, -999.000,9, -999.000,9, -999.000,9
           NA,     A14,     59,   1,-999.0,      20,  2,19950130,1720, -21.6655,   -9.0007,  4277, 1194.800,    3.627,   34.601,2,   34.602,2,  184.500,2,  181.900,2,   39.500,2,   31.530,2, -999.000,9,    2.120,2,    0.010,2,    0.008,2, -999.000,9, -999.000,9, -999.000,9
           NA,     A14,     59,   1,-999.0,      19,  2,19950130,1720, -21.6655,   -9.0007,  4277, 1394.700,    3.523,   34.718,2,   34.720,2,  197.300,2,  194.200,2,   37.800,2,   28.780,2, -999.000,9,    1.940,2,    0.005,2,    0.005,2, -999.000,9, -999.000,9, -999.000,9
           NA,     A14,     59,   1,-999.0,      18,  2,19950130,1720, -21.6655,   -9.0007,  4277, 1594.200,    3.359,   34.835,2,   34.834,2,  219.700,2,  217.400,2,   34.200,2,   24.980,2, -999.000,9,    1.680,2,    0.001,2,    0.001,2, -999.000,9, -999.000,9, -999.000,9
           NA,     A14,     59,   1,-999.0,      17,  2,19950130,1720, -21.6655,   -9.0007,  4277, 1796.800,    3.186,   34.878,2,   34.882,2,  233.300,2,  231.000,2,   33.300,2,   23.360,2, -999.000,9,    1.550,2,    0.003,2,    0.005,2, -999.000,9, -999.000,9, -999.000,9
           NA,     A14,     59,   1,-999.0,      15,  2,19950130,1720, -21.6655,   -9.0007,  4277, 1994.500,    3.025,   34.893,2,   34.894,2,  239.300,2,  237.400,2,   34.000,2,   22.740,2, -999.000,9,    1.510,2,    0.001,2,    0.008,2, -999.000,9, -999.000,9, -999.000,9
           NA,     A14,     59,   1,-999.0,      16,  2,19950130,1720, -21.6655,   -9.0007,  4277, 1996.000,    3.027,   34.894,2,   34.894,2,  239.300,2,  237.500,2,   34.100,2,   22.740,2, -999.000,9,    1.510,2, -999.000,9,    0.010,2, -999.000,9, -999.000,9, -999.000,9
           NA,     A14,     59,   1,-999.0,      14,  2,19950130,1720, -21.6655,   -9.0007,  4277, 2298.600,    2.721,   34.882,2, -999.000,3,  241.700,2,  238.700,2,   40.000,2,   23.050,2, -999.000,9,    1.530,2,   -0.001,2,   -0.003,2, -999.000,9, -999.000,9, -999.000,9
           NA,     A14,     59,   1,-999.0,      13,  2,19950130,1720, -21.6655,   -9.0007,  4277, 2596.000,    2.583,   34.878,2,   34.878,2,  241.900,2,  239.800,2,   43.500,2,   23.050,2, -999.000,9,    1.540,2,    0.003,2,    0.008,2, -999.000,9, -999.000,9, -999.000,9
           NA,     A14,     59,   1,-999.0,      12,  2,19950130,1720, -21.6655,   -9.0007,  4277, 2795.200,    2.506,   34.878,2,   34.879,2,  242.500,2,  240.200,2,   45.200,2,   23.090,2, -999.000,9,    1.540,2,    0.001,2,    0.001,2, -999.000,9, -999.000,9, -999.000,9
           NA,     A14,     59,   1,-999.0,      11,  2,19950130,1720, -21.6655,   -9.0007,  4277, 2995.600,    2.462,   34.878,2,   34.879,2,  242.800,2,  240.200,2,   46.600,2,   23.140,2, -999.000,9,    1.540,2,    0.003,2,    0.001,2, -999.000,9, -999.000,9, -999.000,9
           NA,     A14,     59,   1,-999.0,      10,  2,19950130,1720, -21.6655,   -9.0007,  4277, 3195.500,    2.428,   34.878,2,   34.880,2,  242.900,2,  240.300,2,   47.700,2,   23.090,2, -999.000,9,    1.550,2,    0.002,2,    0.002,2, -999.000,9, -999.000,9, -999.000,9
           NA,     A14,     59,   1,-999.0,       9,  2,19950130,1720, -21.6655,   -9.0007,  4277, 3393.800,    2.383,   34.877,2,   34.877,2,  242.200,2,  240.100,2,   49.400,2,   23.140,2, -999.000,9,    1.560,2,    0.003,2,    0.001,2, -999.000,9, -999.000,9, -999.000,9
           NA,     A14,     59,   1,-999.0,       8,  2,19950130,1720, -21.6655,   -9.0007,  4277, 3595.900,    2.368,   34.875,2,   34.876,2,  241.900,2,  239.900,2,   50.300,6,   23.350,6, -999.000,9,    1.560,6,    0.001,2,   -0.002,2, -999.000,9, -999.000,9, -999.000,9
           NA,     A14,     59,   1,-999.0,       7,  2,19950130,1720, -21.6655,   -9.0007,  4277, 3795.300,    2.361,   34.875,2,   34.880,2,  241.400,2,  238.800,2,   50.400,2,   23.360,2, -999.000,9,    1.560,2, -999.000,9, -999.000,9, -999.000,9, -999.000,9, -999.000,9
           NA,     A14,     59,   1,-999.0,       6,  2,19950130,1720, -21.6655,   -9.0007,  4277, 3997.000,    2.371,   34.875,2,   34.876,2,  241.400,2,  239.300,2,   51.600,2,   23.490,2, -999.000,9,    1.570,2,    0.001,2,    0.004,2, -999.000,9, -999.000,9, -999.000,9
           NA,     A14,     59,   1,-999.0,       5,  2,19950130,1720, -21.6655,   -9.0007,  4277, 4198.300,    2.380,   34.876,2,   34.875,2,  241.200,2,  239.200,2,   51.700,2,   23.440,2, -999.000,9,    1.560,2,    0.003,2, -999.000,9, -999.000,9, -999.000,9, -999.000,9
           NA,     A14,     59,   1,-999.0,       4,  2,19950130,1720, -21.6655,   -9.0007,  4277, 4298.000,    2.386,   34.876,2,   34.875,2,  241.300,2,  239.000,2,   52.300,2,   23.440,2, -999.000,9,    1.570,2,    0.001,2,    0.002,2, -999.000,9, -999.000,9, -999.000,9
           NA,     A14,     59,   1,-999.0,       3,  2,19950130,1720, -21.6655,   -9.0007,  4277, 4326.800,    2.391,   34.875,2,   34.877,2,  240.900,2,  240.900,2,   52.100,2,   23.440,2, -999.000,9,    1.550,2,    0.003,2,    0.004,2, -999.000,9, -999.000,9, -999.000,9
           NA,     A14,     58,   1,-999.0,      32,  2,19950130,0917, -21.0000,   -9.0003,  3886,    3.000,   25.069,   36.452,2,   36.451,2,  206.100,2,  210.700,2,    0.860,2,    0.020,2, -999.000,9,    0.230,2,    1.909,2,    1.007,2, -999.000,9, 2074.700,6, 2402.200,2
           NA,     A14,     58,   1,-999.0,      31,  2,19950130,0917, -21.0000,   -9.0003,  3886,   47.400,   22.806,   36.300,2, -999.000,3,  216.900,2, -999.000,3,    0.930,2,    0.020,2, -999.000,9,    0.220,2,    2.100,2,    1.077,2, -999.000,9, 2070.000,2, 2392.900,2
           NA,     A14,     58,   1,-999.0,      30,  2,19950130,0917, -21.0000,   -9.0003,  3886,   96.800,   19.761,   36.146,2, -999.000,3,  232.500,2,  231.500,2,    1.140,2,    0.020,2, -999.000,9,    0.200,2,    2.306,2,    1.160,2, -999.000,9, 2069.500,2, 2382.500,2
           NA,     A14,     58,   1,-999.0,      29,  2,19950130,0917, -21.0000,   -9.0003,  3886,  147.800,   18.466,   35.951,2, -999.000,3,  220.200,2,  217.900,2,    1.430,2,    1.420,2, -999.000,9,    0.310,2,    2.384,2,    1.194,2, -999.000,9, 2079.300,2, 2367.700,2
           NA,     A14,     58,   1,-999.0,      28,  2,19950130,0917, -21.0000,   -9.0003,  3886,  197.500,   15.151,   35.407,2,   35.403,2,  204.500,2,  208.900,2,    2.780,2,    6.540,2, -999.000,9,    0.550,2,    2.592,2,    1.260,2, -999.000,9, 2088.900,2, 2333.600,2
           NA,     A14,     58,   1,-999.0,      27,  2,19950130,0917, -21.0000,   -9.0003,  3886,  295.900,   12.641,   35.089,2, -999.000,3,  191.400,2,  195.000,2,    4.770,2,   13.200,2, -999.000,9,    0.920,2,    2.419,2,    1.148,2, -999.000,9, 2116.400,2, 2317.900,2
           NA,     A14,     58,   1,-999.0,      26,  2,19950130,0917, -21.0000,   -9.0003,  3886,  396.000,    9.872,   34.799,2, -999.000,3,  168.700,2,  169.400,2,    9.660,2,   21.490,2, -999.000,9,    1.450,2,    1.699,2,    0.790,2, -999.000,9, 2155.600,2, 2303.200,2
           NA,     A14,     58,   1,-999.0,      25,  2,19950130,0917, -21.0000,   -9.0003,  3886,  495.000,    7.996,   34.622,2,   34.626,2,  154.000,2,  156.700,2,   14.980,2,   27.390,2, -999.000,9,    1.830,2,    1.115,2,    0.512,2, -999.000,9, 2181.300,2, 2298.700,2
           NA,     A14,     58,   1,-999.0,      24,  2,19950130,0917, -21.0000,   -9.0003,  3886,  595.100,    6.536,   34.523,2,   34.526,2,  148.500,2,  148.800,2,   20.370,2,   31.990,2, -999.000,9,    2.100,2,    0.542,2,    0.260,2, -999.000,9, 2199.600,2, 2298.700,2
           NA,     A14,     58,   1,-999.0,      22,  2,19950130,0917, -21.0000,   -9.0003,  3886,  695.400,    5.281,   34.451,2,   34.457,2,  157.900,2,  160.600,2,   26.310,2,   33.520,2, -999.000,9,    2.210,2,    0.289,2,    0.143,2, -999.000,9, 2205.500,2, 2300.300,2
           NA,     A14,     58,   1,-999.0,      23,  2,19950130,0917, -21.0000,   -9.0003,  3886,  696.000,    5.293,   34.451,2,   34.453,2,  158.300,2,  159.100,2,   26.320,2,   33.520,2, -999.000,9,    2.240,2,    0.288,2,    0.141,2, -999.000,9, -999.000,9, 2303.600,2
           NA,     A14,     58,   1,-999.0,      21,  2,19950130,0917, -21.0000,   -9.0003,  3886,  796.000,    4.547,   34.434,2,   34.436,2,  165.000,2,  167.100,2,   31.540,2,   34.070,2, -999.000,9,    2.270,2,    0.142,2,    0.073,2, -999.000,9, 2210.600,2, 2305.200,2
           NA,     A14,     58,   1,-999.0,      20,  2,19950130,0917, -21.0000,   -9.0003,  3886,  995.600,    3.881,   34.503,2,   34.502,2,  171.100,2,  171.200,2,   37.620,2,   33.760,2, -999.000,9,    2.270,2,    0.021,2,    0.012,2, -999.000,9, 2216.900,2, 2315.200,2
           NA,     A14,     58,   1,-999.0,      19,  2,19950130,0917, -21.0000,   -9.0003,  3886, 1195.200,    3.640,   34.612,2,   34.614,2,  183.700,2,  186.300,2,   38.880,2,   31.490,2, -999.000,9,    2.120,2,    0.007,2,    0.005,2, -999.000,9, 2211.700,2, 2321.100,2
           NA,     A14,     58,   1,-999.0,      18,  2,19950130,0917, -21.0000,   -9.0003,  3886, 1395.900,    3.496,   34.739,2,   34.738,2,  198.800,2,  199.600,2,   37.880,2,   28.480,2, -999.000,9,    1.910,2,    0.003,2,    0.002,2, -999.000,9, 2204.200,2, 2325.500,2
           NA,     A14,     58,   1,-999.0,      17,  2,19950130,0917, -21.0000,   -9.0003,  3886, 1595.400,    3.317,   34.820,2,   34.820,2,  213.600,2,  215.900,2,   36.660,2,   25.650,2, -999.000,9,    1.720,2,    0.002,2,    0.000,2, -999.000,9, 2194.800,2, 2330.200,2
           NA,     A14,     58,   1,-999.0,      16,  2,19950130,0917, -21.0000,   -9.0003,  3886, 1795.000,    3.194,   34.887,2,   34.888,2,  234.800,2,  233.800,2,   32.760,2,   23.100,2, -999.000,9,    1.540,2,    0.003,2, -999.000,9, -999.000,9, 2184.800,2, 2329.900,2
           NA,     A14,     58,   1,-999.0,      15,  2,19950130,0917, -21.0000,   -9.0003,  3886, 1995.100,    3.050,   34.902,2,   34.901,2,  240.200,2,  239.900,2,   33.030,2,   22.540,2, -999.000,9,    1.480,2,    0.005,2,    0.004,2, -999.000,9, -999.000,9, 2333.500,2
           NA,     A14,     58,   1,-999.0,      14,  2,19950130,0917, -21.0000,   -9.0003,  3886, 1996.400,    3.047,   34.903,2,   34.903,2,  240.200,2,  239.900,2,   32.950,2,   22.540,2, -999.000,9,    1.510,2,    0.004,2,    0.007,2, -999.000,9, 2179.200,2, 2332.600,2
           NA,     A14,     58,   1,-999.0,      13,  2,19950130,0917, -21.0000,   -9.0003,  3886, 2195.300,    2.873,   34.900,2,   34.899,2,  242.400,2,  241.800,2,   35.620,2,   22.500,2, -999.000,9,    1.510,2, -999.000,9, -999.000,9, -999.000,9, 2182.400,2, 2334.800,2
           NA,     A14,     58,   1,-999.0,      12,  2,19950130,0917, -21.0000,   -9.0003,  3886, 2397.000,    2.708,   34.892,2,   34.892,2,  241.400,2,  240.900,2,   39.630,2,   22.820,2, -999.000,9,    1.530,2,    0.000,2,    0.002,2, -999.000,9, 2188.700,2, 2338.100,2
           NA,     A14,     58,   1,-999.0,      11,  2,19950130,0917, -21.0000,   -9.0003,  3886, 2595.000,    2.579,   34.890,2,   34.889,2,  241.000,2,  241.300,2,   42.610,2,   22.960,2, -999.000,9,    1.550,2,   -0.001,2,    0.004,2, -999.000,9, 2189.600,2, 2341.000,2
           NA,     A14,     58,   1,-999.0,      10,  2,19950130,0917, -21.0000,   -9.0003,  3886, 2796.900,    2.492,   34.888,2,   34.891,2,  240.100,2,  240.000,2,   45.320,2,   23.190,2, -999.000,9,    1.570,2,    0.007,2,    0.004,2, -999.000,9, 2193.600,2, 2345.200,2
           NA,     A14,     58,   1,-999.0,       9,  2,19950130,0917, -21.0000,   -9.0003,  3886, 2995.800,    2.442,   34.883,2,   34.882,2,  239.300,2,  240.100,2,   47.190,2,   23.420,2, -999.000,9,    1.570,2,    0.002,2,    0.003,2, -999.000,9, 2196.400,2, 2348.500,2
           NA,     A14,     58,   1,-999.0,       8,  2,19950130,0917, -21.0000,   -9.0003,  3886, 3196.100,    2.380,   34.880,2,   34.879,2,  240.000,2,  240.400,2,   49.140,2,   23.460,2, -999.000,9,    1.580,2,    0.000,2,    0.001,2, -999.000,9, 2197.100,2, 2349.900,2
           NA,     A14,     58,   1,-999.0,       7,  2,19950130,0917, -21.0000,   -9.0003,  3886, 3396.200,    2.360,   34.881,2,   34.881,2,  239.500,2,  239.600,2,   49.880,2,   23.510,2, -999.000,9,    1.580,2,    0.002,2,    0.001,2, -999.000,9, 2199.900,2, 2351.300,2
           NA,     A14,     58,   1,-999.0,       6,  2,19950130,0917, -21.0000,   -9.0003,  3886, 3596.400,    2.363,   34.882,2,   34.881,2,  239.000,2,  238.700,2,   50.610,2,   23.600,2, -999.000,9,    1.580,2,    0.000,2,    0.003,2, -999.000,9, 2202.900,2, 2354.600,2
           NA,     A14,     58,   1,-999.0,       5,  2,19950130,0917, -21.0000,   -9.0003,  3886, 3797.100,    2.364,   34.882,2,   34.882,2,  238.300,2,  238.200,2,   50.970,2,   23.600,2, -999.000,9,    1.590,2,    0.000,2, -999.000,9, -999.000,9, 2204.000,2, 2355.100,2
           NA,     A14,     58,   1,-999.0,       4,  2,19950130,0917, -21.0000,   -9.0003,  3886, 3895.800,    2.369,   34.882,2,   34.883,2,  238.200,2,  237.600,2,   51.030,2,   23.600,2, -999.000,9,    1.580,2,    0.002,2,    0.010,2, -999.000,9, 2206.600,2, 2356.400,2
           NA,     A14,     58,   1,-999.0,       3,  2,19950130,0917, -21.0000,   -9.0003,  3886, 3930.400,    2.373,   34.882,2,   34.883,2,  237.300,2,  238.500,2,   51.090,2,   23.550,2, -999.000,9,    1.590,2,    0.007,2,    0.007,2, -999.000,9, 2205.000,6, 2357.000,2