BOTTLE,20213527JOAExport
EXPOCODE,SECT_ID,STNNBR,CASTNO,SAMPNO,BTLNBR,BTLNBR_FLAG_W,DATE,TIME,LATITUDE,LONGITUDE,DEPTH,CTDPRS,CTDTMP,CTDSAL,CTDSAL_FLAG_W,SALNTY,SALNTY_FLAG_W,CTDOXY,CTDOXY_FLAG_W,OXYGEN,OXYGEN_FLAG_W,SILCAT,SILCAT_FLAG_W,NITRAT,NITRAT_FLAG_W,NITRIT,NITRIT_FLAG_W,PHSPHT,PHSPHT_FLAG_W,CFC-11,CFC-11_FLAG_W,CFC-12,CFC-12_FLAG_W,SF6,SF6_FLAG_W,TCARBN,TCARBN_FLAG_W,ALKALI,ALKALI_FLAG_W
,,,,,,,,,,,,DB,DEG C,PSS-78,,PSS-78,,UMOL/KG,,UMOL/KG,,UMOL/KG,,UMOL/KG,,UMOL/KG,,UMOL/KG,,PMOL/KG,,PMOL/KG,,FMOL/KG,,UMOL/KG,,UMOL/KG
           NA,     A14,     94,   1,-999.0,      32,  2,19950208,0420, -38.1655,   -9.0013,  3281,    4.100,   15.102,   34.813,2,   34.816,2,  263.100,2,  259.000,2,    0.400,2,    2.280,2, -999.000,9,    0.350,2,    3.052,2,    1.476,2, -999.000,9, 2042.400,6, 2307.900,2
           NA,     A14,     94,   1,-999.0,      31,  2,19950208,0420, -38.1655,   -9.0013,  3281,   45.600,   12.757,   34.874,2,   34.873,2,  262.800,2,  259.900,2,    1.700,2,    5.880,2, -999.000,9,    0.580,2,    3.383,2,    1.636,2, -999.000,9, 2073.700,2, 2309.000,2
           NA,     A14,     94,   1,-999.0,      30,  2,19950208,0420, -38.1655,   -9.0013,  3281,   96.100,   11.078,   34.866,2,   34.866,2,  259.400,2,  264.000,2,    2.300,2,    9.200,2, -999.000,9,    0.740,2,    3.513,2,    1.682,2, -999.000,9, 2089.000,2, 2307.500,2
           NA,     A14,     94,   1,-999.0,      29,  2,19950208,0420, -38.1655,   -9.0013,  3281,  146.700,   10.466,   34.821,2,   34.822,2,  260.000,2,  257.800,2,    2.600,2,   10.580,2, -999.000,9,    0.820,2,    3.530,2,    1.726,2, -999.000,9, 2093.200,2, 2304.900,2
           NA,     A14,     94,   1,-999.0,      28,  2,19950208,0420, -38.1655,   -9.0013,  3281,  196.300,   10.044,   34.765,2,   34.766,2,  260.000,2,  255.400,2,    2.900,2,   12.000,2, -999.000,9,    0.890,2,    3.537,2,    1.685,2, -999.000,9, 2098.100,2, 2303.800,2
           NA,     A14,     94,   1,-999.0,      27,  2,19950208,0420, -38.1655,   -9.0013,  3281,  295.700,    8.674,   34.621,2,   34.621,2,  241.000,2, -999.000,3,    6.000,2,   18.210,2, -999.000,9,    1.270,2,    3.163,2,    1.471,2, -999.000,9, 2123.900,2, 2294.900,2
           NA,     A14,     94,   1,-999.0,      26,  2,19950208,0420, -38.1655,   -9.0013,  3281,  394.600,    6.594,   34.404,2,   34.404,2,  230.200,2,  230.100,2,   10.000,2,   23.590,2, -999.000,9,    1.630,2,    2.910,2,    1.333,2, -999.000,9, 2144.100,2, 2288.000,2
           NA,     A14,     94,   1,-999.0,      25,  2,19950208,0420, -38.1655,   -9.0013,  3281,  495.400,    5.350,   34.291,2,   34.291,2,  236.300,2,  241.300,2,   12.700,2,   25.860,2, -999.000,9,    1.790,2,    2.933,2, -999.000,9, -999.000,9, -999.000,9, 2285.200,2
           NA,     A14,     94,   1,-999.0,      24,  2,19950208,0420, -38.1655,   -9.0013,  3281,  495.800,    5.346,   34.291,2,   34.288,2,  236.500,2, -999.000,3,   12.800,2,   25.870,2, -999.000,9,    1.790,2,    2.924,2,    1.285,2, -999.000,9, 2149.700,2, 2286.600,2
           NA,     A14,     94,   1,-999.0,      23,  2,19950208,0420, -38.1655,   -9.0013,  3281,  595.800,    4.680,   34.244,2,   34.243,2,  246.400,2,  249.000,2,   15.100,6,   26.930,6, -999.000,9,    1.840,2,    3.012,2,    1.324,2, -999.000,9, 2153.000,2, 2286.500,2
           NA,     A14,     94,   1,-999.0,      22,  2,19950208,0420, -38.1655,   -9.0013,  3281,  695.400,    4.367,   34.235,2,   34.232,2,  252.100,2, -999.000,4,   17.000,2,   27.810,2, -999.000,9,    1.900,2,    2.863,2,    1.287,2, -999.000,9, 2156.300,2, 2288.100,2
           NA,     A14,     94,   1,-999.0,      21,  2,19950208,0420, -38.1655,   -9.0013,  3281,  796.300,    3.845,   34.230,2,   34.228,2,  248.900,2,  247.300,2,   22.000,2,   29.690,2, -999.000,9,    1.980,2,    2.524,2,    1.094,2, -999.000,9, 2166.400,2, 2292.500,2
           NA,     A14,     94,   1,-999.0,      20,  2,19950208,0420, -38.1655,   -9.0013,  3281,  896.900,    3.389,   34.251,2,   34.250,2,  238.600,2, -999.000,3,   29.000,2,   31.100,2, -999.000,9,    2.090,2,    1.964,2,    0.844,2, -999.000,9, 2180.600,2, 2298.500,2
           NA,     A14,     94,   1,-999.0,      19,  2,19950208,0420, -38.1655,   -9.0013,  3281,  996.100,    3.065,   34.296,2,   34.293,2,  224.500,2, -999.000,3,   37.000,2,   32.510,2, -999.000,9,    2.180,2,    1.399,2,    0.614,2, -999.000,9, 2195.500,2, 2305.600,2
           NA,     A14,     94,   1,-999.0,      18,  2,19950208,0420, -38.1655,   -9.0013,  3281, 1095.500,    2.897,   34.333,2,   34.331,2,  213.000,2,  212.900,2,   43.000,2,   32.690,2, -999.000,9,    2.250,2,    1.153,2,    0.507,2, -999.000,9, 2205.900,2, 2310.500,2
           NA,     A14,     94,   1,-999.0,      17,  2,19950208,0420, -38.1655,   -9.0013,  3281, 1195.800,    2.798,   34.393,2,   34.393,2,  203.200,2,  200.800,2,   49.600,2,   33.050,2, -999.000,9,    2.280,2,    0.799,2,    0.356,2, -999.000,9, 2218.300,2, 2317.400,2
           NA,     A14,     94,   1,-999.0,      16,  2,19950208,0420, -38.1655,   -9.0013,  3281, 1294.600,    2.739,   34.454,2,   34.452,2,  192.800,2,  192.900,2,   55.100,2,   33.290,2, -999.000,9,    2.290,2,    0.537,2,    0.253,2, -999.000,9, 2226.300,2, 2323.500,2
           NA,     A14,     94,   1,-999.0,      15,  2,19950208,0420, -38.1655,   -9.0013,  3281, 1395.000,    2.772,   34.519,2,   34.518,2,  191.900,2, -999.000,3,   56.600,2,   32.540,2, -999.000,9,    2.230,2,    0.295,2,    0.143,2, -999.000,9, 2227.300,2, 2329.800,2
           NA,     A14,     94,   1,-999.0,      14,  2,19950208,0420, -38.1655,   -9.0013,  3281, 1494.600,    2.711,   34.584,2,   34.582,2,  187.900,2,  187.200,2,   60.500,2,   32.250,2, -999.000,9,    2.210,2,    0.190,2,    0.086,2, -999.000,9, 2230.700,2, 2333.300,2
           NA,     A14,     94,   1,-999.0,      13,  2,19950208,0420, -38.1655,   -9.0013,  3281, 1596.300,    2.707,   34.624,2,   34.623,2,  188.800,2,  188.700,2,   60.900,2,   31.670,2, -999.000,9,    2.160,2,    0.135,2,    0.058,2, -999.000,9, 2233.000,2, 2334.500,2
           NA,     A14,     94,   1,-999.0,      12,  2,19950208,0420, -38.1655,   -9.0013,  3281, 1795.200,    2.701,   34.700,2,   34.697,2,  195.800,2,  190.500,2,   60.200,2,   29.980,2, -999.000,9,    2.050,2,    0.060,2,    0.032,2, -999.000,9, 2225.500,2, 2338.300,2
           NA,     A14,     94,   1,-999.0,      11,  2,19950208,0420, -38.1655,   -9.0013,  3281, 1996.200,    2.675,   34.745,2,   34.745,2,  202.400,2, -999.000,3,   58.900,2,   28.640,2, -999.000,9,    1.970,2,    0.036,2,    0.016,2, -999.000,9, 2221.800,2, 2340.200,2
           NA,     A14,     94,   1,-999.0,      10,  2,19950208,0420, -38.1655,   -9.0013,  3281, 2196.200,    2.599,   34.783,2,   34.782,2,  210.500,2,  206.100,2,   58.600,2,   27.470,2, -999.000,9,    1.890,2,    0.022,2,    0.013,2, -999.000,9, 2217.400,2, 2341.000,2
           NA,     A14,     94,   1,-999.0,       9,  2,19950208,0420, -38.1655,   -9.0013,  3281, 2395.400,    2.535,   34.801,2,   34.800,2,  214.900,2,  213.300,2,   58.900,2,   26.830,2, -999.000,9,    1.850,2,    0.013,2,    0.006,2, -999.000,9, 2214.600,2, 2342.200,2
           NA,     A14,     94,   1,-999.0,       8,  2,19950208,0420, -38.1655,   -9.0013,  3281, 2596.800,    2.459,   34.822,2,   34.822,2,  219.300,2,  217.000,2,   58.900,2,   26.020,2, -999.000,9,    1.790,2,    0.007,2,    0.009,2, -999.000,9, 2212.500,2, 2344.600,2
           NA,     A14,     94,   1,-999.0,       7,  2,19950208,0420, -38.1655,   -9.0013,  3281, 2796.200,    2.345,   34.825,2,   34.827,2,  221.800,2,  221.900,2,   61.800,2,   26.020,2, -999.000,9,    1.790,2,    0.008,2,    0.009,2, -999.000,9, 2213.400,2, 2346.300,2
           NA,     A14,     94,   1,-999.0,       6,  2,19950208,0420, -38.1655,   -9.0013,  3281, 2994.900,    2.257,   34.829,2,   34.823,2,  224.100,2,  224.200,2,   63.800,2,   25.790,2, -999.000,9,    1.780,2,    0.006,2,    0.003,2, -999.000,9, 2214.000,2, 2348.100,2
           NA,     A14,     94,   1,-999.0,       5,  2,19950208,0420, -38.1655,   -9.0013,  3281, 3196.200,    2.196,   34.833,2,   34.831,2,  226.400,2,  226.700,2,   64.500,2,   25.560,2, -999.000,9,    1.770,2,    0.005,2,    0.004,2, -999.000,9, 2214.600,2, 2348.300,2
           NA,     A14,     94,   1,-999.0,       3,  2,19950208,0420, -38.1655,   -9.0013,  3281, 3300.400,    2.184,   34.833,2,   34.833,2,  227.500,2,  227.400,2,   64.700,2,   25.570,2, -999.000,9,    1.740,2,    0.003,2,    0.005,2, -999.000,9, 2216.300,6, 2352.100,2
           NA,     A14,     94,   1,-999.0,       4,  2,19950208,0420, -38.1655,   -9.0013,  3281, 3300.400,    2.184,   34.833,2,   34.831,2,  227.500,2,  227.600,2,   64.600,2,   25.750,2, -999.000,9,    1.760,2,    0.003,2,    0.002,2, -999.000,9, -999.000,9, 2350.200,2
           NA,     A14,     92,   1,-999.0,      32,  2,19950207,1838, -37.9985,   -8.9997,  3293,    4.100,   15.902,   34.918,2,   34.918,2,  258.300,2,  261.500,2,    0.100,2,    0.200,2, -999.000,9,    0.230,2,    3.025,2,    1.450,2, -999.000,9, -999.000,9, 2312.100,2
           NA,     A14,     92,   1,-999.0,      31,  2,19950207,1838, -37.9985,   -8.9997,  3293,   46.900,   14.849,   34.898,2,   34.900,2,  262.700,2,  263.300,2,    0.300,2,    1.220,2, -999.000,9,    0.300,2,    3.151,2,    1.500,2, -999.000,9, -999.000,9, -999.000,9
           NA,     A14,     92,   1,-999.0,      30,  2,19950207,1838, -37.9985,   -8.9997,  3293,   97.000,   12.202,   34.987,2,   34.986,2,  251.600,2,  252.500,2,    2.000,2,    6.440,2, -999.000,9,    0.570,2,    3.386,2,    1.604,2, -999.000,9, -999.000,9, -999.000,9
           NA,     A14,     92,   1,-999.0,      29,  2,19950207,1838, -37.9985,   -8.9997,  3293,  145.900,   11.753,   34.990,2,   34.988,2,  253.800,2,  251.600,2,    2.200,2,    7.460,2, -999.000,9,    0.630,2,    3.389,2,    1.602,2, -999.000,9, -999.000,9, -999.000,9
           NA,     A14,     92,   1,-999.0,      28,  2,19950207,1838, -37.9985,   -8.9997,  3293,  197.100,   11.273,   34.939,2,   34.939,2,  254.400,2,  252.000,2,    2.400,2,    8.710,2, -999.000,9,    0.700,2,    3.430,2,    1.617,2, -999.000,9, -999.000,9, -999.000,9
           NA,     A14,     92,   1,-999.0,      27,  2,19950207,1838, -37.9985,   -8.9997,  3293,  296.500,   10.403,   34.825,2,   34.824,2,  257.700,2, -999.000,3,    2.900,2,   11.100,2, -999.000,9,    0.850,2,    3.487,2,    1.630,2, -999.000,9, -999.000,9, -999.000,9
           NA,     A14,     92,   1,-999.0,      26,  2,19950207,1838, -37.9985,   -8.9997,  3293,  395.600,    9.246,   34.696,2,   34.692,2,  232.500,2, -999.000,3,    5.100,6,   16.420,2, -999.000,9,    1.160,6,    3.176,2,    1.455,2, -999.000,9, -999.000,9, -999.000,9
           NA,     A14,     92,   1,-999.0,      25,  2,19950207,1838, -37.9985,   -8.9997,  3293,  495.600,    6.947,   34.441,2,   34.434,2,  230.600,2,  229.400,2,    9.200,2,   22.590,2, -999.000,9,    1.570,2,    2.970,2,    1.302,2, -999.000,9, -999.000,9, -999.000,9
           NA,     A14,     92,   1,-999.0,      24,  2,19950207,1838, -37.9985,   -8.9997,  3293,  595.200,    5.251,   34.281,2,   34.282,2,  241.900,2,  243.400,2,   13.000,2,   25.550,2, -999.000,9,    1.770,2,    3.004,2,    1.312,2, -999.000,9, -999.000,9, -999.000,9
           NA,     A14,     92,   1,-999.0,      22,  2,19950207,1838, -37.9985,   -8.9997,  3293,  695.000,    4.320,   34.233,2,   34.237,2,  249.100,2,  249.500,2,   17.400,6,   27.640,2, -999.000,9,    1.870,6,    2.802,2,    1.209,2, -999.000,9, -999.000,9, -999.000,9
           NA,     A14,     92,   1,-999.0,      23,  2,19950207,1838, -37.9985,   -8.9997,  3293,  695.600,    4.310,   34.236,2,   34.235,2,  249.200,2,  249.600,2,   17.300,2,   27.310,2, -999.000,9,    1.870,2,    2.795,2,    1.209,2, -999.000,9, -999.000,9, -999.000,9
           NA,     A14,     92,   1,-999.0,      21,  2,19950207,1838, -37.9985,   -8.9997,  3293,  796.200,    3.904,   34.233,2,   34.234,2,  248.000,2,  247.700,2,   21.500,2,   28.270,2, -999.000,9,    1.950,2,    2.497,2,    1.090,2, -999.000,9, -999.000,9, -999.000,9
           NA,     A14,     92,   1,-999.0,      20,  2,19950207,1838, -37.9985,   -8.9997,  3293,  895.400,    3.512,   34.242,2,   34.242,2,  242.700,2,  241.100,2,   26.600,2,   29.570,2, -999.000,9,    2.030,2,    2.148,2,    0.925,2, -999.000,9, -999.000,9, -999.000,9
           NA,     A14,     92,   1,-999.0,      18,  2,19950207,1838, -37.9985,   -8.9997,  3293,  995.300,    3.245,   34.269,2,   34.270,2,  232.600,2,  231.300,2,   32.200,2,   30.580,2, -999.000,9,    2.110,2,    1.651,2,    0.714,2, -999.000,9, -999.000,9, -999.000,9
           NA,     A14,     92,   1,-999.0,      19,  2,19950207,1838, -37.9985,   -8.9997,  3293,  995.400,    3.247,   34.269,2,   34.270,2,  232.600,2,  230.700,2,   32.400,2,   30.630,2, -999.000,9,    2.110,2,    1.663,2,    0.710,2, -999.000,9, -999.000,9, -999.000,9
           NA,     A14,     92,   1,-999.0,      17,  2,19950207,1838, -37.9985,   -8.9997,  3293, 1095.700,    3.033,   34.320,2,   34.321,2,  217.100,2,  217.100,2,   39.500,2,   31.530,2, -999.000,9,    2.180,2,    1.134,2,    0.496,2, -999.000,9, -999.000,9, -999.000,9
           NA,     A14,     92,   1,-999.0,      16,  2,19950207,1838, -37.9985,   -8.9997,  3293, 1195.500,    2.906,   34.385,2,   34.388,2,  207.800,2,  204.400,2,   46.400,2,   32.070,2, -999.000,9,    2.220,2,    0.714,2,    0.369,2, -999.000,9, -999.000,9, -999.000,9
           NA,     A14,     92,   1,-999.0,      15,  2,19950207,1838, -37.9985,   -8.9997,  3293, 1294.300,    2.835,   34.441,2,   34.442,2,  197.500,2,  196.900,2,   51.100,2,   32.080,2, -999.000,9,    2.230,2,    0.462,2,    0.210,2, -999.000,9, -999.000,9, -999.000,9
           NA,     A14,     92,   1,-999.0,      14,  2,19950207,1838, -37.9985,   -8.9997,  3293, 1395.200,    2.789,   34.508,2,   34.508,2,  191.700,2,  193.200,2,   55.000,2,   31.860,2, -999.000,9,    2.220,2,    0.300,2,    0.126,2, -999.000,9, -999.000,9, -999.000,9
           NA,     A14,     92,   1,-999.0,      13,  2,19950207,1838, -37.9985,   -8.9997,  3293, 1495.000,    2.750,   34.571,2,   34.569,2,  190.500,2,  190.800,2,   57.200,2,   31.400,2, -999.000,9,    2.180,2,    0.186,2,    0.086,2, -999.000,9, -999.000,9, -999.000,9
           NA,     A14,     92,   1,-999.0,      12,  2,19950207,1838, -37.9985,   -8.9997,  3293, 1595.500,    2.726,   34.608,2,   34.608,2,  190.100,2,  191.300,2,   58.300,2,   30.770,2, -999.000,9,    2.140,2,    0.147,2,    0.068,2, -999.000,9, -999.000,9, -999.000,9
           NA,     A14,     92,   1,-999.0,      11,  2,19950207,1838, -37.9985,   -8.9997,  3293, 1795.600,    2.722,   34.696,2,   34.690,2,  197.000,2,  197.800,2,   57.700,2,   29.080,2, -999.000,9,    2.020,2,    0.054,2,    0.023,2, -999.000,9, -999.000,9, -999.000,9
           NA,     A14,     92,   1,-999.0,      10,  2,19950207,1838, -37.9985,   -8.9997,  3293, 1995.800,    2.688,   34.753,2,   34.750,2,  203.300,2,  205.000,2,   56.600,2,   27.680,2, -999.000,9,    1.920,2,    0.027,2,    0.018,2, -999.000,9, -999.000,9, -999.000,9
           NA,     A14,     92,   1,-999.0,       9,  2,19950207,1838, -37.9985,   -8.9997,  3293, 2196.000,    2.637,   34.794,2,   34.793,2,  212.000,2,  213.200,2,   55.500,6,   26.720,2, -999.000,9,    1.820,6,    0.013,2,    0.004,2, -999.000,9, -999.000,9, -999.000,9
           NA,     A14,     92,   1,-999.0,       8,  2,19950207,1838, -37.9985,   -8.9997,  3293, 2396.700,    2.579,   34.814,2,   34.811,2,  218.500,2,  218.600,2,   55.100,2,   26.060,2, -999.000,9,    1.780,2,    0.007,2,    0.005,2, -999.000,9, -999.000,9, -999.000,9
           NA,     A14,     92,   1,-999.0,       7,  2,19950207,1838, -37.9985,   -8.9997,  3293, 2595.400,    2.512,   34.829,2,   34.827,2,  222.300,2,  223.100,2,   55.300,2,   25.480,2, -999.000,9,    1.740,2,    0.005,2,    0.004,2, -999.000,9, -999.000,9, -999.000,9
           NA,     A14,     92,   1,-999.0,       6,  2,19950207,1838, -37.9985,   -8.9997,  3293, 2796.100,    2.426,   34.838,2,   34.836,2,  226.000,2,  226.500,2,   56.300,6,   25.270,2, -999.000,9,    1.710,6,    0.002,2, -999.000,9, -999.000,9, -999.000,9, -999.000,9
           NA,     A14,     92,   1,-999.0,       5,  2,19950207,1838, -37.9985,   -8.9997,  3293, 2995.700,    2.311,   34.839,2,   34.837,2,  228.400,2,  228.700,2,   58.600,6,   24.890,6, -999.000,9,    1.700,6,    0.003,2,    0.000,2, -999.000,9, -999.000,9, -999.000,9
           NA,     A14,     92,   1,-999.0,       4,  2,19950207,1838, -37.9985,   -8.9997,  3293, 3276.900,    2.181,   34.840,2,   34.837,2,  231.000,2,  230.800,2,   61.600,2,   24.980,2, -999.000,9,    1.710,2,    0.002,2,   -0.001,2, -999.000,9, -999.000,9, -999.000,9
           NA,     A14,     92,   1,-999.0,       3,  2,19950207,1838, -37.9985,   -8.9997,  3293, 3319.700,    2.154,   34.840,2,   34.837,2,  229.600,2,  233.800,2,   62.700,2,   25.050,2, -999.000,9,    1.710,2,    0.003,2,    0.004,2, -999.000,9, -999.000,9, -999.000,9