BOTTLE,20213527JOAExport
EXPOCODE,SECT_ID,STNNBR,CASTNO,SAMPNO,BTLNBR,BTLNBR_FLAG_W,DATE,TIME,LATITUDE,LONGITUDE,DEPTH,CTDPRS,CTDTMP,CTDSAL,CTDSAL_FLAG_W,SALNTY,SALNTY_FLAG_W,CTDOXY,CTDOXY_FLAG_W,OXYGEN,OXYGEN_FLAG_W,SILCAT,SILCAT_FLAG_W,NITRAT,NITRAT_FLAG_W,NITRIT,NITRIT_FLAG_W,PHSPHT,PHSPHT_FLAG_W,CFC-11,CFC-11_FLAG_W,CFC-12,CFC-12_FLAG_W,SF6,SF6_FLAG_W,TCARBN,TCARBN_FLAG_W,ALKALI,ALKALI_FLAG_W
,,,,,,,,,,,,DB,DEG C,PSS-78,,PSS-78,,UMOL/KG,,UMOL/KG,,UMOL/KG,,UMOL/KG,,UMOL/KG,,UMOL/KG,,PMOL/KG,,PMOL/KG,,FMOL/KG,,UMOL/KG,,UMOL/KG
           NA,     A14,     30,   1,-999.0,      32,  2,19950124,0439,  -6.9998,   -8.3288,  3997,    3.600,   26.277,   36.269,2,   36.268,2,  228.100,2, -999.000,3,    1.120,2,    0.020,2, -999.000,9,    0.130,2,    1.771,2,    0.973,2, -999.000,9, 2029.800,6, 2384.100,2
           NA,     A14,     30,   1,-999.0,      31,  2,19950124,0439,  -6.9998,   -8.3288,  3997,   37.300,   24.939,   36.287,2, -999.000,3,  212.700,2,  209.700,2,    1.200,2,    0.020,2, -999.000,9,    0.170,2,    1.830,2,    0.964,2, -999.000,9, -999.000,9, -999.000,9
           NA,     A14,     30,   1,-999.0,      30,  2,19950124,0439,  -6.9998,   -8.3288,  3997,  106.700,   15.746,   35.626,2,   35.623,2,   99.500,2,  101.700,2,    6.020,2,   20.050,2, -999.000,9,    1.320,2,    1.416,2,    0.704,2, -999.000,9, -999.000,9, -999.000,9
           NA,     A14,     30,   1,-999.0,      29,  2,19950124,0439,  -6.9998,   -8.3288,  3997,  107.000,   15.722,   35.619,2, -999.000,3,   99.500,2, -999.000,3,    6.100,2,   20.270,2, -999.000,9,    1.330,2,    1.403,2,    0.688,2, -999.000,9, -999.000,9, -999.000,9
           NA,     A14,     30,   1,-999.0,      28,  2,19950124,0439,  -6.9998,   -8.3288,  3997,  145.500,   11.982,   35.163,2,   35.162,2,   95.700,2,   94.500,2,    9.730,2,   25.390,2, -999.000,9,    1.650,2,    0.876,2,    0.430,2, -999.000,9, -999.000,9, -999.000,9
           NA,     A14,     30,   1,-999.0,      27,  2,19950124,0439,  -6.9998,   -8.3288,  3997,  195.500,   10.962,   35.031,2,   35.032,2,   92.400,2,   93.600,2,   11.580,2,   27.610,2, -999.000,9,    1.770,2,    0.686,2,    0.347,2, -999.000,9, -999.000,9, -999.000,9
           NA,     A14,     30,   1,-999.0,      26,  2,19950124,0439,  -6.9998,   -8.3288,  3997,  296.800,    9.707,   34.894,2,   34.893,2,   73.000,2, -999.000,3,   14.610,2,   32.050,2, -999.000,9,    2.010,2,    0.352,2,    0.192,2, -999.000,9, -999.000,9, -999.000,9
           NA,     A14,     30,   1,-999.0,      25,  2,19950124,0439,  -6.9998,   -8.3288,  3997,  395.200,    8.548,   34.775,2,   34.775,2,   72.700,2,   72.100,2,   17.470,2,   35.080,2, -999.000,9,    2.200,2,    0.173,2,    0.097,2, -999.000,9, -999.000,9, -999.000,9
           NA,     A14,     30,   1,-999.0,      24,  2,19950124,0439,  -6.9998,   -8.3288,  3997,  495.200,    7.365,   34.662,2,   34.660,2,   83.200,2,   82.500,2,   20.660,2,   36.310,2, -999.000,9,    2.340,2,    0.078,2,    0.049,2, -999.000,9, -999.000,9, -999.000,9
           NA,     A14,     30,   1,-999.0,      23,  2,19950124,0439,  -6.9998,   -8.3288,  3997,  595.100,    6.382,   34.582,2,   34.588,2,   95.400,2,   93.600,2,   24.090,2,   37.070,2, -999.000,9,    2.410,2,    0.029,2,    0.024,2, -999.000,9, -999.000,9, -999.000,9
           NA,     A14,     30,   1,-999.0,      22,  2,19950124,0439,  -6.9998,   -8.3288,  3997,  696.000,    5.482,   34.520,2,   34.523,2,  118.900,2,  114.700,2,   27.950,2,   36.720,2, -999.000,9,    2.430,2,    0.023,2,    0.017,2, -999.000,9, -999.000,9, -999.000,9
           NA,     A14,     30,   1,-999.0,      21,  2,19950124,0439,  -6.9998,   -8.3288,  3997,  796.900,    4.627,   34.483,2,   34.485,2,  145.400,2,  145.700,2,   32.130,2,   35.200,2, -999.000,9,    2.360,2,    0.030,2,    0.021,2, -999.000,9, -999.000,9, -999.000,9
           NA,     A14,     30,   1,-999.0,      20,  2,19950124,0439,  -6.9998,   -8.3288,  3997,  995.000,    4.198,   34.603,2,   34.605,2,  160.200,2,  159.200,2,   33.870,2,   33.220,2, -999.000,9,    2.230,2,    0.006,2, -999.000,9, -999.000,9, -999.000,9, -999.000,9
           NA,     A14,     30,   1,-999.0,      19,  2,19950124,0439,  -6.9998,   -8.3288,  3997, 1194.500,    4.174,   34.775,2,   34.775,2,  178.000,2,  180.500,2,   28.890,2,   29.080,2, -999.000,9,    1.940,2,    0.002,2,    0.004,2, -999.000,9, -999.000,9, -999.000,9
           NA,     A14,     30,   1,-999.0,      18,  2,19950124,0439,  -6.9998,   -8.3288,  3997, 1392.300,    4.127,   34.867,2,   34.866,2,  203.400,2,  202.900,2,   24.760,2,   25.570,2, -999.000,9,    1.700,2,    0.006,2,    0.007,2, -999.000,9, -999.000,9, -999.000,9
           NA,     A14,     30,   1,-999.0,      17,  2,19950124,0439,  -6.9998,   -8.3288,  3997, 1596.000,    3.912,   34.932,2,   34.934,2,  227.500,2,  226.000,2,   22.490,2,   22.710,2, -999.000,9,    1.500,2,    0.007,2,    0.009,2, -999.000,9, -999.000,9, -999.000,9
           NA,     A14,     30,   1,-999.0,      16,  2,19950124,0439,  -6.9998,   -8.3288,  3997, 1793.900,    3.678,   34.940,2,   34.939,2,  234.900,2,  233.400,2,   24.060,2,   22.050,2, -999.000,9,    1.450,2,    0.005,2,    0.005,2, -999.000,9, -999.000,9, -999.000,9
           NA,     A14,     30,   1,-999.0,      15,  2,19950124,0439,  -6.9998,   -8.3288,  3997, 1993.900,    3.442,   34.942,2,   34.942,2,  240.800,2,  239.700,2,   25.880,2,   21.600,2, -999.000,9,    1.430,2,    0.009,2,    0.011,2, -999.000,9, -999.000,9, -999.000,9
           NA,     A14,     30,   1,-999.0,      14,  2,19950124,0439,  -6.9998,   -8.3288,  3997, 2195.800,    3.216,   34.937,2,   34.936,2,  241.200,2,  240.600,2,   29.630,2,   21.740,2, -999.000,9,    1.440,2,    0.004,2,    0.006,2, -999.000,9, -999.000,9, -999.000,9
           NA,     A14,     30,   1,-999.0,      13,  2,19950124,0439,  -6.9998,   -8.3288,  3997, 2398.000,    3.049,   34.928,2,   34.927,2,  241.400,2,  240.300,2,   32.780,2,   21.910,2, -999.000,9,    1.460,2,    0.004,2,    0.005,2, -999.000,9, -999.000,9, -999.000,9
           NA,     A14,     30,   1,-999.0,      12,  2,19950124,0439,  -6.9998,   -8.3288,  3997, 2594.700,    2.853,   34.916,2,   34.914,2,  239.400,2,  238.700,2,   37.020,2,   22.360,2, -999.000,9,    1.480,2,    0.002,2,    0.003,2, -999.000,9, -999.000,9, -999.000,9
           NA,     A14,     30,   1,-999.0,      11,  2,19950124,0439,  -6.9998,   -8.3288,  3997, 2594.800,    2.852,   34.917,2,   34.914,2,  239.400,2,  238.800,2,   37.410,2,   22.360,2, -999.000,9,    1.490,2,    0.000,2,    0.003,2, -999.000,9, -999.000,9, -999.000,9
           NA,     A14,     30,   1,-999.0,      10,  2,19950124,0439,  -6.9998,   -8.3288,  3997, 2795.400,    2.726,   34.909,2,   34.909,2,  238.500,2,  238.200,2,   40.130,2,   22.540,2, -999.000,9,    1.510,2,    0.002,2, -999.000,9, -999.000,9, -999.000,9, -999.000,9
           NA,     A14,     30,   1,-999.0,       9,  2,19950124,0439,  -6.9998,   -8.3288,  3997, 2996.300,    2.590,   34.902,2,   34.901,2,  237.900,2,  237.900,2,   43.120,2,   22.710,2, -999.000,9,    1.510,2,    0.002,2,    0.004,2, -999.000,9, -999.000,9, -999.000,9
           NA,     A14,     30,   1,-999.0,       8,  2,19950124,0439,  -6.9998,   -8.3288,  3997, 3196.200,    2.460,   34.895,2,   34.894,2,  237.300,2,  237.600,2,   46.210,2,   22.890,2, -999.000,9,    1.530,2,    0.002,2,    0.001,2, -999.000,9, -999.000,9, -999.000,9
           NA,     A14,     30,   1,-999.0,       7,  2,19950124,0439,  -6.9998,   -8.3288,  3997, 3396.900,    2.419,   34.892,2,   34.894,2,  237.500,2,  237.400,2,   47.250,2,   22.890,2, -999.000,9,    1.540,2,    0.003,2,    0.004,2, -999.000,9, -999.000,9, -999.000,9
           NA,     A14,     30,   1,-999.0,       6,  2,19950124,0439,  -6.9998,   -8.3288,  3997, 3596.800,    2.386,   34.891,2,   34.891,2,  238.200,2,  238.300,2,   48.020,2,   22.890,2, -999.000,9,    1.540,2,    0.004,2,    0.008,2, -999.000,9, -999.000,9, -999.000,9
           NA,     A14,     30,   1,-999.0,       5,  2,19950124,0439,  -6.9998,   -8.3288,  3997, 3796.900,    2.364,   34.888,2,   34.887,2,  238.900,2,  238.700,2,   48.870,2,   22.890,2, -999.000,9,    1.540,2,    0.002,2,    0.007,2, -999.000,9, -999.000,9, -999.000,9
           NA,     A14,     30,   1,-999.0,       4,  2,19950124,0439,  -6.9998,   -8.3288,  3997, 3895.800,    2.363,   34.888,2,   34.889,2,  239.100,2,  238.800,2,   48.750,2,   22.890,2, -999.000,9,    1.530,2,    0.000,2,    0.004,2, -999.000,9, -999.000,9, -999.000,9
           NA,     A14,     30,   1,-999.0,       3,  2,19950124,0439,  -6.9998,   -8.3288,  3997, 4057.200,    2.331,   34.884,2,   34.885,2,  240.000,2,  239.400,2,   49.510,2,   22.890,2, -999.000,9,    1.530,2,    0.003,2,    0.011,2, -999.000,9, -999.000,9, -999.000,9
           NA,     A14,     29,   1,-999.0,      32,  2,19950123,2310,  -6.5003,   -8.2207,  3919,    3.400,   26.596,   36.198,2,   36.198,2,  201.500,2, -999.000,3,    1.110,2,    0.020,2, -999.000,9,    0.110,2,    1.789,2,    0.966,2, -999.000,9, 2035.900,6, 2378.000,2
           NA,     A14,     29,   1,-999.0,      31,  2,19950123,2310,  -6.5003,   -8.2207,  3919,   46.600,   22.912,   36.342,2,   36.342,2,  210.000,2, -999.000,3,    1.370,2,    0.480,2, -999.000,9,    0.190,2,    1.972,2,    0.984,2, -999.000,9, -999.000,9, -999.000,9
           NA,     A14,     29,   1,-999.0,      30,  2,19950123,2310,  -6.5003,   -8.2207,  3919,   95.100,   15.188,   35.544,2,   35.544,2,  127.900,2, -999.000,3,    6.600,2,   21.350,2, -999.000,9,    1.360,2,    1.352,2,    0.650,2, -999.000,9, -999.000,9, -999.000,9
           NA,     A14,     29,   1,-999.0,      28,  2,19950123,2310,  -6.5003,   -8.2207,  3919,  145.900,   12.299,   35.191,2,   35.190,2,   91.800,2,   89.300,2,    9.720,2,   26.110,2, -999.000,9,    1.640,2,    0.913,2,    0.442,2, -999.000,9, -999.000,9, -999.000,9
           NA,     A14,     29,   1,-999.0,      29,  2,19950123,2310,  -6.5003,   -8.2207,  3919,  146.000,   12.310,   35.194,2,   35.195,2,   91.800,2,   89.000,2,    9.730,2,   26.020,2, -999.000,9,    1.640,2,    0.916,2,    0.455,2, -999.000,9, -999.000,9, -999.000,9
           NA,     A14,     29,   1,-999.0,      27,  2,19950123,2310,  -6.5003,   -8.2207,  3919,  197.100,   11.148,   35.053,2,   35.052,2,   94.700,2,   94.600,2,   11.100,2,   27.750,2, -999.000,9,    1.730,2,    0.736,2,    0.362,2, -999.000,9, -999.000,9, -999.000,9
           NA,     A14,     29,   1,-999.0,      26,  2,19950123,2310,  -6.5003,   -8.2207,  3919,  295.700,    9.812,   34.902,2,   34.907,2,   79.600,2,   76.300,2,   14.390,2,   32.810,2, -999.000,9,    1.990,2,    0.401,2,    0.209,2, -999.000,9, -999.000,9, -999.000,9
           NA,     A14,     29,   1,-999.0,      25,  2,19950123,2310,  -6.5003,   -8.2207,  3919,  395.400,    8.597,   34.779,2,   34.779,2,   71.300,2,   72.500,2,   17.240,2,   35.940,2, -999.000,9,    2.180,2,    0.189,2,    0.101,2, -999.000,9, -999.000,9, -999.000,9
           NA,     A14,     29,   1,-999.0,      24,  2,19950123,2310,  -6.5003,   -8.2207,  3919,  495.800,    7.555,   34.680,2,   34.677,2,   81.700,2,   83.300,2,   20.090,2,   36.860,2, -999.000,9,    2.280,2,    0.107,2,    0.063,2, -999.000,9, -999.000,9, -999.000,9
           NA,     A14,     29,   1,-999.0,      23,  2,19950123,2310,  -6.5003,   -8.2207,  3919,  593.900,    6.412,   34.580,2,   34.580,2,   98.900,2,  102.200,2,   23.280,2,   37.290,2, -999.000,9,    2.350,2,    0.060,2,    0.031,2, -999.000,9, -999.000,9, -999.000,9
           NA,     A14,     29,   1,-999.0,      22,  2,19950123,2310,  -6.5003,   -8.2207,  3919,  693.700,    5.514,   34.513,2,   34.518,2,  113.700,2, -999.000,3,   27.320,2,   37.130,2, -999.000,9,    2.390,2,    0.038,2,    0.025,2, -999.000,9, -999.000,9, -999.000,9
           NA,     A14,     29,   1,-999.0,      21,  2,19950123,2310,  -6.5003,   -8.2207,  3919,  793.900,    4.746,   34.492,2,   34.492,2,  140.400,2,  136.700,2,   31.800,2,   36.440,2, -999.000,9,    2.390,2,    0.022,2,    0.017,2, -999.000,9, -999.000,9, -999.000,9
           NA,     A14,     29,   1,-999.0,      20,  2,19950123,2310,  -6.5003,   -8.2207,  3919,  995.800,    4.162,   34.581,2,   34.584,2,  163.300,2,  161.400,2,   34.190,2,   33.960,2, -999.000,9,    2.230,2,    0.007,2, -999.000,9, -999.000,9, -999.000,9, -999.000,9
           NA,     A14,     29,   1,-999.0,      19,  2,19950123,2310,  -6.5003,   -8.2207,  3919, 1195.300,    4.184,   34.770,2,   34.767,2,  182.900,2, -999.000,3,   29.240,2,   30.000,2, -999.000,9,    1.960,2,    0.002,2,    0.006,2, -999.000,9, -999.000,9, -999.000,9
           NA,     A14,     29,   1,-999.0,      18,  2,19950123,2310,  -6.5003,   -8.2207,  3919, 1396.100,    4.132,   34.885,2,   34.884,2,  211.500,2, -999.000,3,   24.130,2,   25.450,2, -999.000,9,    1.680,2,    0.008,2,    0.009,2, -999.000,9, -999.000,9, -999.000,9
           NA,     A14,     29,   1,-999.0,      17,  2,19950123,2310,  -6.5003,   -8.2207,  3919, 1596.200,    3.967,   34.935,2,   34.934,2,  229.000,2,  225.700,2,   22.040,2,   23.000,2, -999.000,9,    1.500,2,    0.010,2,    0.010,2, -999.000,9, -999.000,9, -999.000,9
           NA,     A14,     29,   1,-999.0,      16,  2,19950123,2310,  -6.5003,   -8.2207,  3919, 1795.800,    3.727,   34.942,2,   34.939,2,  234.600,2,  233.200,2,   23.730,2,   22.220,6, -999.000,9,    1.450,6,    0.005,2,    0.007,2, -999.000,9, -999.000,9, -999.000,9
           NA,     A14,     29,   1,-999.0,      15,  2,19950123,2310,  -6.5003,   -8.2207,  3919, 1994.800,    3.528,   34.953,2, -999.000,3,  243.200,2,  242.300,2,   24.050,2,   21.300,6, -999.000,9,    1.380,6, -999.000,3, -999.000,3, -999.000,9, -999.000,9, -999.000,9
           NA,     A14,     29,   1,-999.0,      14,  2,19950123,2310,  -6.5003,   -8.2207,  3919, 2196.000,    3.218,   34.937,2,   34.934,2,  241.400,2,  240.200,2,   29.800,2,   21.870,6, -999.000,9,    1.420,6,    0.003,2,    0.003,2, -999.000,9, -999.000,9, -999.000,9
           NA,     A14,     29,   1,-999.0,      13,  2,19950123,2310,  -6.5003,   -8.2207,  3919, 2395.600,    3.018,   34.925,2,   34.925,2,  240.600,2,  239.700,2,   33.680,2,   22.180,6, -999.000,9,    1.450,6,    0.004,2,    0.007,2, -999.000,9, -999.000,9, -999.000,9
           NA,     A14,     29,   1,-999.0,      12,  2,19950123,2310,  -6.5003,   -8.2207,  3919, 2596.900,    2.820,   34.916,2,   34.913,2,  239.500,2,  238.600,2,   38.590,2,   22.620,2, -999.000,9,    1.480,2,    0.000,2,    0.000,2, -999.000,9, -999.000,9, -999.000,9
           NA,     A14,     29,   1,-999.0,      10,  2,19950123,2310,  -6.5003,   -8.2207,  3919, 2795.100,    2.680,   34.907,2,   34.907,2,  238.400,2,  238.200,2,   41.520,2,   22.780,2, -999.000,9,    1.500,2,    0.001,2,    0.004,2, -999.000,9, -999.000,9, -999.000,9
           NA,     A14,     29,   1,-999.0,      11,  2,19950123,2310,  -6.5003,   -8.2207,  3919, 2795.300,    2.680,   34.907,2,   34.905,2,  238.400,2,  238.200,2,   41.820,2,   22.790,2, -999.000,9,    1.490,2,    0.000,2, -999.000,9, -999.000,9, -999.000,9, -999.000,9
           NA,     A14,     29,   1,-999.0,       9,  2,19950123,2310,  -6.5003,   -8.2207,  3919, 2998.000,    2.574,   34.902,2,   34.902,2,  238.000,2,  237.900,2,   44.500,2,   22.910,2, -999.000,9,    1.530,2,    0.001,2,    0.000,2, -999.000,9, -999.000,9, -999.000,9
           NA,     A14,     29,   1,-999.0,       8,  2,19950123,2310,  -6.5003,   -8.2207,  3919, 3197.500,    2.517,   34.900,2, -999.000,3,  237.700,2,  237.900,2,   45.750,2,   22.900,2, -999.000,9,    1.530,2,    0.001,2,    0.001,2, -999.000,9, -999.000,9, -999.000,9
           NA,     A14,     29,   1,-999.0,       7,  2,19950123,2310,  -6.5003,   -8.2207,  3919, 3395.500,    2.466,   34.896,2,   34.893,2,  237.900,2,  237.900,2,   46.800,2,   23.070,2, -999.000,9,    1.530,2,    0.006,2, -999.000,3, -999.000,9, -999.000,9, -999.000,9
           NA,     A14,     29,   1,-999.0,       6,  2,19950123,2310,  -6.5003,   -8.2207,  3919, 3596.800,    2.426,   34.893,2,   34.889,2,  238.200,2,  238.300,2,   48.230,2,   23.070,2, -999.000,9,    1.530,2,    0.000,2,    0.008,2, -999.000,9, -999.000,9, -999.000,9
           NA,     A14,     29,   1,-999.0,       5,  2,19950123,2310,  -6.5003,   -8.2207,  3919, 3799.700,    2.376,   34.888,2,   34.887,2,  238.600,2,  238.700,2,   49.280,2,   23.100,2, -999.000,9,    1.530,2,    0.000,2,    0.003,2, -999.000,9, -999.000,9, -999.000,9
           NA,     A14,     29,   1,-999.0,       4,  2,19950123,2310,  -6.5003,   -8.2207,  3919, 3897.300,    2.371,   34.888,2,   34.887,2,  239.000,2,  238.900,2,   49.240,2,   23.100,2, -999.000,9,    1.530,2,    0.000,2, -999.000,9, -999.000,9, -999.000,9, -999.000,9
           NA,     A14,     29,   1,-999.0,       3,  2,19950123,2310,  -6.5003,   -8.2207,  3919, 4011.800,    2.324,   34.885,2,   34.883,2,  239.300,2,  239.800,2,   50.650,2,   23.090,2, -999.000,9,    1.530,2,    0.003,2,    0.006,2, -999.000,9, -999.000,9, -999.000,9