BOTTLE,20213527JOAExport
EXPOCODE,SECT_ID,STNNBR,CASTNO,SAMPNO,BTLNBR,BTLNBR_FLAG_W,DATE,TIME,LATITUDE,LONGITUDE,DEPTH,CTDPRS,CTDTMP,CTDSAL,CTDSAL_FLAG_W,SALNTY,SALNTY_FLAG_W,CTDOXY,CTDOXY_FLAG_W,OXYGEN,OXYGEN_FLAG_W,SILCAT,SILCAT_FLAG_W,NITRAT,NITRAT_FLAG_W,NITRIT,NITRIT_FLAG_W,PHSPHT,PHSPHT_FLAG_W,CFC-11,CFC-11_FLAG_W,CFC-12,CFC-12_FLAG_W,SF6,SF6_FLAG_W,TCARBN,TCARBN_FLAG_W,ALKALI,ALKALI_FLAG_W
,,,,,,,,,,,,DB,DEG C,PSS-78,,PSS-78,,UMOL/KG,,UMOL/KG,,UMOL/KG,,UMOL/KG,,UMOL/KG,,UMOL/KG,,PMOL/KG,,PMOL/KG,,FMOL/KG,,UMOL/KG,,UMOL/KG
           NA,     A14,     67,   1,-999.0,      31,  2,19950201,1354, -25.5003,   -8.9970,  4123,    4.800,   25.598,   36.291,2,   36.289,2,  209.200,2,  210.300,2,    1.600,2,    0.020,2, -999.000,9,    0.180,2,    1.898,2,    1.001,2, -999.000,9, 2068.200,6, 2390.800,2
           NA,     A14,     67,   1,-999.0,      32,  2,19950201,1354, -25.5003,   -8.9970,  4123,    4.800,   25.598,   36.291,2,   36.293,2,  209.200,2,  210.800,2,    1.600,2,    0.020,2, -999.000,9,    0.180,2,    1.880,2,    0.986,2, -999.000,9, -999.000,9, 2388.800,2
           NA,     A14,     67,   1,-999.0,      30,  2,19950201,1354, -25.5003,   -8.9970,  4123,   31.000,   23.896,   36.253,2,   36.251,2,  218.200,2,  215.700,2,    1.600,2,    0.020,2, -999.000,9,    0.160,2,    1.986,2,    1.027,2, -999.000,9, 2066.400,2, 2387.200,2
           NA,     A14,     67,   1,-999.0,      29,  2,19950201,1354, -25.5003,   -8.9970,  4123,   46.100,   23.455,   36.200,2, -999.000,3,  232.600,2, -999.000,3,    1.800,2,    0.020,2, -999.000,9,    0.160,2,    2.075,2,    1.072,2, -999.000,9, 2065.800,2, 2383.500,2
           NA,     A14,     67,   1,-999.0,      28,  2,19950201,1354, -25.5003,   -8.9970,  4123,  121.700,   18.607,   35.924,2,   35.924,2,  226.300,2, -999.000,3,    1.700,2,    0.020,2, -999.000,9,    0.180,2,    2.402,2,    1.220,2, -999.000,9, 2064.600,2, 2366.100,2
           NA,     A14,     67,   1,-999.0,      27,  2,19950201,1354, -25.5003,   -8.9970,  4123,  181.400,   17.049,   35.689,2,   35.688,2,  225.700,2, -999.000,3,    2.600,2,    2.450,2, -999.000,9,    0.330,2,    2.525,2,    1.259,2, -999.000,9, 2075.400,2, 2349.500,2
           NA,     A14,     67,   1,-999.0,      26,  2,19950201,1354, -25.5003,   -8.9970,  4123,  295.600,   13.427,   35.180,2,   35.180,2,  209.900,2,  209.900,2,    4.200,2,    9.650,2, -999.000,9,    0.730,2,    2.624,2,    1.266,2, -999.000,9, 2103.300,2, 2320.800,2
           NA,     A14,     67,   1,-999.0,      25,  2,19950201,1354, -25.5003,   -8.9970,  4123,  396.300,   11.580,   34.972,2,   34.972,2,  202.600,2,  201.100,2,    6.000,2,   14.740,2, -999.000,9,    1.030,2,    2.360,2,    1.106,2, -999.000,9, 2124.500,2, 2310.700,2
           NA,     A14,     67,   1,-999.0,      24,  2,19950201,1354, -25.5003,   -8.9970,  4123,  495.500,    9.681,   34.758,2,   34.757,2,  191.500,2,  190.200,2,    9.300,2,   19.780,2, -999.000,9,    1.380,2,    1.994,2,    0.927,2, -999.000,9, 2146.400,2, 2303.400,2
           NA,     A14,     67,   1,-999.0,      23,  2,19950201,1354, -25.5003,   -8.9970,  4123,  596.100,    7.967,   34.586,2,   34.592,2,  188.300,2,  188.700,2,   13.700,2,   23.770,2, -999.000,9,    1.660,2,    1.696,2,    0.776,2, -999.000,9, 2161.200,2, 2298.700,2
           NA,     A14,     67,   1,-999.0,      22,  2,19950201,1354, -25.5003,   -8.9970,  4123,  696.000,    6.313,   34.459,2,   34.464,2,  182.400,2,  183.100,2,   19.100,2,   28.540,2, -999.000,9,    1.940,2,    1.243,2,    0.570,2, -999.000,9, 2183.800,2, 2296.300,2
           NA,     A14,     67,   1,-999.0,      21,  2,19950201,1354, -25.5003,   -8.9970,  4123,  795.400,    5.051,   34.393,2, -999.000,4,  182.700,2,  182.500,2,   19.100,2,   28.500,2, -999.000,9,    1.960,2,    0.776,2,    0.353,2, -999.000,9, 2194.800,2, 2300.500,2
           NA,     A14,     67,   1,-999.0,      20,  2,19950201,1354, -25.5003,   -8.9970,  4123,  995.400,    3.750,   34.419,2,   34.421,2,  183.600,2,  182.900,2,   39.800,2,   32.880,2, -999.000,9,    2.270,2,    0.303,2,    0.146,2, -999.000,9, 2214.000,2, 2313.700,2
           NA,     A14,     67,   1,-999.0,      19,  2,19950201,1354, -25.5003,   -8.9970,  4123, 1194.900,    3.431,   34.557,2,   34.560,2,  181.500,2,  180.600,2,   45.100,2,   32.080,2, -999.000,9,    2.210,2,    0.038,2,    0.019,2, -999.000,9, 2221.000,2, 2324.100,2
           NA,     A14,     67,   1,-999.0,      18,  2,19950201,1354, -25.5003,   -8.9970,  4123, 1395.000,    3.233,   34.689,2,   34.689,2,  190.600,2,  190.800,2,   45.900,2,   29.700,2, -999.000,9,    2.030,2,    0.011,2,    0.001,2, -999.000,9, 2215.800,2, 2331.600,2
           NA,     A14,     67,   1,-999.0,      17,  2,19950201,1354, -25.5003,   -8.9970,  4123, 1595.300,    3.186,   34.778,2,   34.778,2,  205.000,2,  205.900,2,   41.600,2,   27.030,2, -999.000,9,    1.850,2,    0.001,2,    0.005,2, -999.000,9, 2205.200,2, 2332.100,2
           NA,     A14,     67,   1,-999.0,      16,  2,19950201,1354, -25.5003,   -8.9970,  4123, 1795.000,    3.029,   34.823,2,   34.822,2,  215.000,2,  217.200,2,   41.900,2,   25.410,2, -999.000,9,    1.730,2,    0.004,2,    0.000,2, -999.000,9, 2199.100,2, 2333.100,2
           NA,     A14,     67,   1,-999.0,      15,  2,19950201,1354, -25.5003,   -8.9970,  4123, 1995.300,    2.797,   34.827,2, -999.000,3,  219.800,2,  220.900,2,   46.200,2,   25.180,2, -999.000,9,    1.730,2,    0.004,2, -999.000,9, -999.000,9, 2201.400,2, 2337.100,2
           NA,     A14,     67,   1,-999.0,      14,  2,19950201,1354, -25.5003,   -8.9970,  4123, 2196.500,    2.622,   34.839,2,   34.838,2,  225.800,2,  226.100,2,   48.500,2,   24.730,2, -999.000,9,    1.690,2, -999.000,9, -999.000,9, -999.000,9, 2201.900,2, 2342.900,2
           NA,     A14,     67,   1,-999.0,      12,  2,19950201,1354, -25.5003,   -8.9970,  4123, 2595.800,    2.470,   34.863,2, -999.000,9,  235.500,2,  241.600,2,   48.500,2,   23.760,2, -999.000,9,    1.610,2,    0.000,2,    0.003,2, -999.000,9, 2196.000,2, 2343.100,2
           NA,     A14,     67,   1,-999.0,      11,  2,19950201,1354, -25.5003,   -8.9970,  4123, 2796.200,    2.424,   34.870,2,   34.867,2,  238.100,2,  238.100,2,   48.500,2,   23.460,2, -999.000,9,    1.600,2,    0.001,2,   -0.003,2, -999.000,9, 2194.700,2, 2346.200,2
           NA,     A14,     67,   1,-999.0,      10,  2,19950201,1354, -25.5003,   -8.9970,  4123, 2995.500,    2.393,   34.874,2,   34.876,2,  239.400,2,  239.300,2,   48.900,2,   23.330,2, -999.000,9,    1.590,2,    0.006,2,   -0.001,2, -999.000,9, 2195.100,2, 2347.300,2
           NA,     A14,     67,   1,-999.0,       9,  2,19950201,1354, -25.5003,   -8.9970,  4123, 3196.700,    2.363,   34.878,2,   34.877,2,  238.700,2,  239.300,2,   49.400,6,   23.260,6, -999.000,9,    1.590,6,    0.001,2, -999.000,9, -999.000,9, 2197.100,2, 2350.500,2
           NA,     A14,     67,   1,-999.0,       8,  2,19950201,1354, -25.5003,   -8.9970,  4123, 3395.600,    2.353,   34.881,2,   34.878,2,  238.400,2,  239.000,2,   50.100,2,   23.300,2, -999.000,9,    1.590,2,    0.002,2,   -0.002,2, -999.000,9, 2200.200,2, 2353.400,2
           NA,     A14,     67,   1,-999.0,       7,  2,19950201,1354, -25.5003,   -8.9970,  4123, 3597.000,    2.354,   34.883,2,   34.881,2,  237.100,2,  236.500,2,   50.400,2,   23.350,2, -999.000,9,    1.580,2,    0.004,2,    0.002,2, -999.000,9, 2201.800,2, 2357.100,2
           NA,     A14,     67,   1,-999.0,       6,  2,19950201,1354, -25.5003,   -8.9970,  4123, 3796.000,    2.358,   34.884,2,   34.884,2,  236.300,2,  235.900,2,   51.100,2,   23.410,2, -999.000,9,    1.580,2,    0.005,2,    0.008,2, -999.000,9, 2204.900,2, 2357.700,2
           NA,     A14,     67,   1,-999.0,       5,  2,19950201,1354, -25.5003,   -8.9970,  4123, 3997.900,    2.375,   34.886,2,   34.883,2,  235.800,2,  235.400,2,   51.200,2,   23.240,2, -999.000,9,    1.570,2,    0.002,2,   -0.001,2, -999.000,9, 2206.500,2, 2360.400,2
           NA,     A14,     67,   1,-999.0,       4,  2,19950201,1354, -25.5003,   -8.9970,  4123, 4091.400,    2.384,   34.887,2,   34.883,2,  235.900,2,  235.000,2,   51.200,2,   23.200,2, -999.000,9,    1.580,2,    0.001,2, -999.000,9, -999.000,9, -999.000,9, 2360.500,2
           NA,     A14,     67,   1,-999.0,       3,  2,19950201,1354, -25.5003,   -8.9970,  4123, 4148.400,    2.391,   34.886,2,   34.884,2,  235.500,2,  234.900,2,   51.200,2,   23.250,2, -999.000,9,    1.580,2,    0.004,2,    0.001,2, -999.000,9, 2207.300,6, 2361.400,6
           NA,     A14,     66,   1,-999.0,      32,  2,19950201,0830, -25.0012,   -9.0015,  4308,    4.900,   25.430,   36.275,2,   36.275,2,  208.100,2,  208.800,2,    1.600,2,    0.020,2, -999.000,9,    0.170,2,    1.933,2,    1.046,2, -999.000,9, -999.000,9, 2390.000,2
           NA,     A14,     66,   1,-999.0,      31,  2,19950201,0830, -25.0012,   -9.0015,  4308,   47.400,   20.509,   35.978,2, -999.000,3,  230.700,2, -999.000,3,    1.500,2,    0.020,2, -999.000,9,    0.150,2,    2.393,2,    1.190,2, -999.000,9, -999.000,9, -999.000,9
           NA,     A14,     66,   1,-999.0,      30,  2,19950201,0830, -25.0012,   -9.0015,  4308,   96.600,   18.790,   35.906,2, -999.000,3,  235.600,2,  240.200,2,    1.500,2,    0.020,2, -999.000,9,    0.180,2,    2.465,2,    1.232,2, -999.000,9, -999.000,9, -999.000,9
           NA,     A14,     66,   1,-999.0,      29,  2,19950201,0830, -25.0012,   -9.0015,  4308,  197.000,   15.438,   35.439,2, -999.000,3,  214.900,2,  217.600,2,    2.400,2,    4.340,2, -999.000,9,    0.440,2,    2.660,2,    1.294,2, -999.000,9, -999.000,9, -999.000,9
           NA,     A14,     66,   1,-999.0,      28,  2,19950201,0830, -25.0012,   -9.0015,  4308,  295.800,   13.264,   35.163,2,   35.161,2,  210.500,2,  211.800,2,    3.600,2,    9.590,2, -999.000,9,    0.730,2,    2.620,2,    1.241,2, -999.000,9, -999.000,9, -999.000,9
           NA,     A14,     66,   1,-999.0,      27,  2,19950201,0830, -25.0012,   -9.0015,  4308,  296.200,   13.206,   35.160,2,   35.162,2,  210.500,2,  212.300,2,    3.600,2,    9.670,2, -999.000,9,    0.730,2,    2.626,2,    1.239,2, -999.000,9, -999.000,9, -999.000,9
           NA,     A14,     66,   1,-999.0,      26,  2,19950201,0830, -25.0012,   -9.0015,  4308,  396.000,   10.788,   34.876,2, -999.000,3,  198.000,2,  198.200,2,    6.900,2,   16.720,2, -999.000,9,    1.150,2,    2.246,2,    1.025,2, -999.000,9, -999.000,9, -999.000,9
           NA,     A14,     66,   1,-999.0,      25,  2,19950201,0830, -25.0012,   -9.0015,  4308,  496.500,    8.835,   34.672,2,   34.673,2,  191.400,2,  191.500,2,   11.100,2,   21.700,2, -999.000,9,    1.500,2,    1.887,2,    0.857,2, -999.000,9, -999.000,9, -999.000,9
           NA,     A14,     66,   1,-999.0,      24,  2,19950201,0830, -25.0012,   -9.0015,  4308,  596.500,    6.786,   34.491,2,   34.495,2,  185.300,2,  184.900,2,   17.300,2,   27.360,2, -999.000,9,    1.860,2,    1.393,2,    0.607,2, -999.000,9, -999.000,9, -999.000,9
           NA,     A14,     66,   1,-999.0,      23,  2,19950201,0830, -25.0012,   -9.0015,  4308,  695.800,    5.241,   34.381,2,   34.387,2,  194.300,2,  198.500,2,   22.900,2,   29.740,2, -999.000,9,    2.020,2,    1.187,2,    0.520,2, -999.000,9, -999.000,9, -999.000,9
           NA,     A14,     66,   1,-999.0,      22,  2,19950201,0830, -25.0012,   -9.0015,  4308,  795.600,    4.394,   34.365,2,   34.371,2,  196.500,2,  197.600,2,   30.000,2,   31.490,2, -999.000,9,    2.140,2,    0.789,2,    0.351,2, -999.000,9, -999.000,9, -999.000,9
           NA,     A14,     66,   1,-999.0,      21,  2,19950201,0830, -25.0012,   -9.0015,  4308,  995.400,    3.518,   34.446,2,   34.447,2,  185.000,2,  184.100,2,   43.600,2,   33.000,2, -999.000,9,    2.260,2,    0.202,2,    0.101,2, -999.000,9, -999.000,9, -999.000,9
           NA,     A14,     66,   1,-999.0,      20,  2,19950201,0830, -25.0012,   -9.0015,  4308, 1195.200,    3.283,   34.573,2,   34.578,2,  182.000,2,  182.300,2,   47.400,2,   31.950,6, -999.000,9,    2.180,6,    0.046,2,    0.024,2, -999.000,9, -999.000,9, -999.000,9
           NA,     A14,     66,   1,-999.0,      19,  2,19950201,0830, -25.0012,   -9.0015,  4308, 1395.100,    3.263,   34.714,2,   34.716,2,  196.000,2,  197.900,2,   43.000,2,   28.930,2, -999.000,9,    1.970,2,    0.012,2,    0.006,2, -999.000,9, -999.000,9, -999.000,9
           NA,     A14,     66,   1,-999.0,      18,  2,19950201,0830, -25.0012,   -9.0015,  4308, 1596.000,    3.084,   34.773,2,   34.775,2,  206.900,2,  206.500,2,   43.900,2,   27.130,2, -999.000,9,    1.840,2,    0.005,2,    0.002,2, -999.000,9, -999.000,9, -999.000,9
           NA,     A14,     66,   1,-999.0,      17,  2,19950201,0830, -25.0012,   -9.0015,  4308, 1795.400,    2.870,   34.811,2,   34.813,2,  215.500,2,  216.400,2,   45.400,2,   25.910,2, -999.000,9,    1.760,2,    0.001,2,   -0.001,2, -999.000,9, -999.000,9, -999.000,9
           NA,     A14,     66,   1,-999.0,      16,  2,19950201,0830, -25.0012,   -9.0015,  4308, 1995.500,    2.724,   34.835,2,   34.836,2,  223.200,2,  224.500,2,   45.900,2,   24.810,2, -999.000,9,    1.690,2,    0.001,2,    0.001,2, -999.000,9, -999.000,9, -999.000,9
           NA,     A14,     66,   1,-999.0,      15,  2,19950201,0830, -25.0012,   -9.0015,  4308, 2195.600,    2.593,   34.845,2,   34.845,2,  227.900,2,  228.800,2,   47.400,2,   24.300,2, -999.000,9,    1.660,2,    0.001,2,    0.002,2, -999.000,9, -999.000,9, -999.000,9
           NA,     A14,     66,   1,-999.0,      14,  2,19950201,0830, -25.0012,   -9.0015,  4308, 2395.500,    2.505,   34.860,2,   34.859,2,  233.400,2,  234.600,2,   47.300,2,   23.820,2, -999.000,9,    1.610,2,    0.001,2, -999.000,9, -999.000,9, -999.000,9, -999.000,9
           NA,     A14,     66,   1,-999.0,      13,  2,19950201,0830, -25.0012,   -9.0015,  4308, 2595.700,    2.456,   34.868,2,   34.869,2,  236.900,2,  238.000,2,   47.000,2,   23.470,2, -999.000,9,    1.590,2,    0.001,2,    0.003,2, -999.000,9, -999.000,9, -999.000,9
           NA,     A14,     66,   1,-999.0,      12,  2,19950201,0830, -25.0012,   -9.0015,  4308, 2795.900,    2.421,   34.872,2,   34.873,2,  239.100,2,  239.600,2,   47.900,2,   23.380,2, -999.000,9,    1.580,2,    0.000,2,   -0.001,2, -999.000,9, -999.000,9, -999.000,9
           NA,     A14,     66,   1,-999.0,      11,  2,19950201,0830, -25.0012,   -9.0015,  4308, 2995.400,    2.391,   34.875,2,   34.877,2,  239.700,2,  240.200,2,   48.500,2,   23.290,2, -999.000,9,    1.580,2,    0.001,2,    0.001,2, -999.000,9, -999.000,9, -999.000,9
           NA,     A14,     66,   1,-999.0,      10,  2,19950201,0830, -25.0012,   -9.0015,  4308, 3197.200,    2.367,   34.878,2,   34.882,2,  239.100,2,  239.700,2,   48.700,2,   23.250,2, -999.000,9,    1.570,2,    0.003,2,    0.003,2, -999.000,9, -999.000,9, -999.000,9
           NA,     A14,     66,   1,-999.0,       9,  2,19950201,0830, -25.0012,   -9.0015,  4308, 3396.500,    2.349,   34.880,2,   34.879,2,  238.500,2,  238.800,2,   49.900,6,   23.290,6, -999.000,9,    1.570,6,    0.000,2,    0.002,2, -999.000,9, -999.000,9, -999.000,9
           NA,     A14,     66,   1,-999.0,       8,  2,19950201,0830, -25.0012,   -9.0015,  4308, 3396.900,    2.350,   34.879,2,   34.879,2,  238.500,2,  238.800,2,   49.700,2,   23.290,2, -999.000,9,    1.580,2,    0.000,2,    0.001,2, -999.000,9, -999.000,9, -999.000,9
           NA,     A14,     66,   1,-999.0,       7,  2,19950201,0830, -25.0012,   -9.0015,  4308, 3595.300,    2.353,   34.881,2,   34.882,2,  237.200,2,  237.600,2,   49.800,2,   23.290,2, -999.000,9,    1.570,2,    0.002,2,   -0.002,2, -999.000,9, -999.000,9, -999.000,9
           NA,     A14,     66,   1,-999.0,       6,  2,19950201,0830, -25.0012,   -9.0015,  4308, 3796.400,    2.359,   34.885,2,   34.886,2,  235.800,2,  235.800,2,   50.300,2,   23.330,2, -999.000,9,    1.580,2,    0.001,2,    0.000,2, -999.000,9, -999.000,9, -999.000,9
           NA,     A14,     66,   1,-999.0,       5,  2,19950201,0830, -25.0012,   -9.0015,  4308, 3998.300,    2.371,   34.888,2,   34.887,2,  234.900,2,  234.800,2,   50.500,2,   23.330,2, -999.000,9,    1.580,2,    0.000,2,    0.001,2, -999.000,9, -999.000,9, -999.000,9
           NA,     A14,     66,   1,-999.0,       4,  2,19950201,0830, -25.0012,   -9.0015,  4308, 4197.600,    2.388,   34.888,2,   34.887,2,  234.100,2,  234.600,2,   51.100,2,   23.310,6, -999.000,9,    1.580,2,    0.001,2,    0.001,2, -999.000,9, -999.000,9, -999.000,9
           NA,     A14,     66,   1,-999.0,       3,  2,19950201,0830, -25.0012,   -9.0015,  4308, 4350.600,    2.404,   34.886,2,   34.887,2,  234.200,2,  236.000,2,   51.300,2,   23.320,6, -999.000,9,    1.570,6,    0.001,2,   -0.002,2, -999.000,9, -999.000,9, -999.000,9