BOTTLE,20213527JOAExport
EXPOCODE,SECT_ID,STNNBR,CASTNO,SAMPNO,BTLNBR,BTLNBR_FLAG_W,DATE,TIME,LATITUDE,LONGITUDE,DEPTH,CTDPRS,CTDTMP,CTDSAL,CTDSAL_FLAG_W,SALNTY,SALNTY_FLAG_W,CTDOXY,CTDOXY_FLAG_W,OXYGEN,OXYGEN_FLAG_W,SILCAT,SILCAT_FLAG_W,NITRAT,NITRAT_FLAG_W,NITRIT,NITRIT_FLAG_W,PHSPHT,PHSPHT_FLAG_W,CFC-11,CFC-11_FLAG_W,CFC-12,CFC-12_FLAG_W,SF6,SF6_FLAG_W,TCARBN,TCARBN_FLAG_W,ALKALI,ALKALI_FLAG_W
,,,,,,,,,,,,DB,DEG C,PSS-78,,PSS-78,,UMOL/KG,,UMOL/KG,,UMOL/KG,,UMOL/KG,,UMOL/KG,,UMOL/KG,,PMOL/KG,,PMOL/KG,,FMOL/KG,,UMOL/KG,,UMOL/KG
           NA,     A14,     26,   1,-999.0,      32,  2,19950123,0609,  -4.9972,   -7.8810,  3926,    2.400,   27.038,   35.817,2,   35.817,2,  200.200,2,  201.200,2,    1.120,2,    0.020,2, -999.000,9,    0.090,2,    1.718,2,    0.929,2, -999.000,9, -999.000,9, 2354.600,2
           NA,     A14,     26,   1,-999.0,      31,  2,19950123,0609,  -4.9972,   -7.8810,  3926,   47.100,   26.401,   36.057,2, -999.000,3,  209.800,2, -999.000,3,    1.200,2,    0.020,2, -999.000,9,    0.110,2,    1.773,2,    0.943,2, -999.000,9, -999.000,9, -999.000,9
           NA,     A14,     26,   1,-999.0,      30,  2,19950123,0609,  -4.9972,   -7.8810,  3926,   97.600,   16.788,   35.675,2, -999.000,3,  126.000,2, -999.000,3,    5.100,2,   17.460,2, -999.000,9,    1.150,2,    1.508,2,    0.770,2, -999.000,9, -999.000,9, -999.000,9
           NA,     A14,     26,   1,-999.0,      29,  2,19950123,0609,  -4.9972,   -7.8810,  3926,  145.100,   12.076,   35.177,2,   35.179,2,   92.700,2,   92.200,2,    9.840,2,   25.770,2, -999.000,9,    1.650,2,    0.871,2,    0.480,2, -999.000,9, -999.000,9, -999.000,9
           NA,     A14,     26,   1,-999.0,      28,  2,19950123,0609,  -4.9972,   -7.8810,  3926,  196.200,   10.967,   35.036,2,   35.032,2,   97.300,2,   97.100,2,   11.530,2,   27.390,2, -999.000,9,    1.730,2,    0.730,2, -999.000,9, -999.000,9, -999.000,9, -999.000,9
           NA,     A14,     26,   1,-999.0,      27,  2,19950123,0609,  -4.9972,   -7.8810,  3926,  295.900,    9.937,   34.918,2,   34.918,2,   67.600,2, -999.000,3,   14.310,2,   32.020,2, -999.000,9,    1.980,2,    0.413,2,    0.211,2, -999.000,9, -999.000,9, -999.000,9
           NA,     A14,     26,   1,-999.0,      26,  2,19950123,0609,  -4.9972,   -7.8810,  3926,  395.400,    8.497,   34.771,2,   34.771,2,   70.900,2,   71.700,2,   17.690,2,   35.200,2, -999.000,9,    2.200,2,    0.196,2,    0.109,2, -999.000,9, -999.000,9, -999.000,9
           NA,     A14,     26,   1,-999.0,      25,  2,19950123,0609,  -4.9972,   -7.8810,  3926,  395.700,    8.499,   34.772,2,   34.772,2,   70.800,2,   72.400,2,   17.850,2,   35.030,2, -999.000,9,    2.200,2,    0.197,2,    0.110,2, -999.000,9, -999.000,9, -999.000,9
           NA,     A14,     26,   1,-999.0,      24,  2,19950123,0609,  -4.9972,   -7.8810,  3926,  495.800,    7.215,   34.637,2,   34.637,2,  111.000,2,  113.400,2,   20.280,2,   33.850,2, -999.000,9,    2.170,2,    0.265,2,    0.152,2, -999.000,9, -999.000,9, -999.000,9
           NA,     A14,     26,   1,-999.0,      23,  2,19950123,0609,  -4.9972,   -7.8810,  3926,  596.700,    6.068,   34.554,2,   34.553,2,  105.800,2,  105.500,2,   25.000,2,   36.470,2, -999.000,9,    2.440,2,    0.046,2,    0.026,2, -999.000,9, -999.000,9, -999.000,9
           NA,     A14,     26,   1,-999.0,      22,  2,19950123,0609,  -4.9972,   -7.8810,  3926,  796.800,    4.594,   34.483,2,   34.486,2,  147.600,2,  148.300,2,   32.070,2,   34.900,2, -999.000,9,    2.350,2,    0.038,2,    0.020,2, -999.000,9, -999.000,9, -999.000,9
           NA,     A14,     26,   1,-999.0,      21,  2,19950123,0609,  -4.9972,   -7.8810,  3926,  996.300,    4.245,   34.590,2,   34.593,2,  157.700,2,  159.900,2,   33.650,2,   33.110,2, -999.000,9,    2.220,2,    0.007,2,    0.003,2, -999.000,9, -999.000,9, -999.000,9
           NA,     A14,     26,   1,-999.0,      20,  2,19950123,0609,  -4.9972,   -7.8810,  3926, 1196.700,    4.197,   34.771,2,   34.775,2,  176.900,2,  179.400,2,   28.750,2,   29.080,2, -999.000,9,    1.950,2,    0.000,2, -999.000,9, -999.000,9, -999.000,9, -999.000,9
           NA,     A14,     26,   1,-999.0,      19,  2,19950123,0609,  -4.9972,   -7.8810,  3926, 1395.000,    4.249,   34.920,2,   34.919,2,  214.100,2,  212.700,2,   21.910,2,   23.830,2, -999.000,9,    1.570,2,    0.015,2,    0.016,2, -999.000,9, -999.000,9, -999.000,9
           NA,     A14,     26,   1,-999.0,      18,  2,19950123,0609,  -4.9972,   -7.8810,  3926, 1545.900,    4.097,   34.946,2,   34.947,2,  226.300,2,  224.300,2,   20.640,2,   22.640,2, -999.000,9,    1.480,2,    0.012,2,    0.017,2, -999.000,9, -999.000,9, -999.000,9
           NA,     A14,     26,   1,-999.0,      17,  2,19950123,0609,  -4.9972,   -7.8810,  3926, 1697.300,    3.892,   34.952,2,   34.952,2,  233.200,2,  231.100,2,   21.380,2,   22.090,2, -999.000,9,    1.430,2,    0.005,2,    0.006,2, -999.000,9, -999.000,9, -999.000,9
           NA,     A14,     26,   1,-999.0,      16,  2,19950123,0609,  -4.9972,   -7.8810,  3926, 1846.500,    3.706,   34.957,2,   34.955,2,  239.400,2,  237.300,2,   22.210,2,   21.620,2, -999.000,9,    1.400,2,    0.004,2,    0.007,2, -999.000,9, -999.000,9, -999.000,9
           NA,     A14,     26,   1,-999.0,      15,  2,19950123,0609,  -4.9972,   -7.8810,  3926, 1897.800,    3.618,   34.954,2,   34.953,2,  240.000,2,  238.300,2,   23.210,2,   21.580,2, -999.000,9,    1.390,2,    0.005,2,    0.010,2, -999.000,9, -999.000,9, -999.000,9
           NA,     A14,     26,   1,-999.0,      14,  2,19950123,0609,  -4.9972,   -7.8810,  3926, 1996.200,    3.493,   34.953,2,   34.951,2,  241.600,2,  239.500,2,   24.540,2,   21.620,2, -999.000,9,    1.390,2,    0.002,2,    0.000,2, -999.000,9, -999.000,9, -999.000,9
           NA,     A14,     26,   1,-999.0,      13,  2,19950123,0609,  -4.9972,   -7.8810,  3926, 2195.800,    3.197,   34.940,2,   34.939,2,  242.400,2,  243.000,2,   29.220,2,   21.700,2, -999.000,9,    1.410,2,    0.002,2,    0.000,2, -999.000,9, -999.000,9, -999.000,9
           NA,     A14,     26,   1,-999.0,      12,  2,19950123,0609,  -4.9972,   -7.8810,  3926, 2395.900,    2.985,   34.927,2,   34.926,2,  241.300,2,  240.500,2,   33.650,2,   22.030,2, -999.000,9,    1.440,2,    0.000,2, -999.000,9, -999.000,9, -999.000,9, -999.000,9
           NA,     A14,     26,   1,-999.0,      11,  2,19950123,0609,  -4.9972,   -7.8810,  3926, 2595.900,    2.774,   34.915,2,   34.914,2,  239.600,2,  239.200,2,   38.070,2,   22.500,2, -999.000,9,    1.480,2,    0.002,2, -999.000,9, -999.000,9, -999.000,9, -999.000,9
           NA,     A14,     26,   1,-999.0,      10,  2,19950123,0609,  -4.9972,   -7.8810,  3926, 2796.200,    2.658,   34.909,2,   34.909,2,  238.600,2,  238.500,2,   40.730,2,   22.620,2, -999.000,9,    1.490,2,    0.000,2,    0.000,2, -999.000,9, -999.000,9, -999.000,9
           NA,     A14,     26,   1,-999.0,       9,  2,19950123,0609,  -4.9972,   -7.8810,  3926, 2998.200,    2.549,   34.904,2,   34.902,2,  238.500,2,  238.200,2,   43.510,2,   22.700,2, -999.000,9,    1.500,2,    0.000,2,    0.000,2, -999.000,9, -999.000,9, -999.000,9
           NA,     A14,     26,   1,-999.0,       8,  2,19950123,0609,  -4.9972,   -7.8810,  3926, 2998.500,    2.549,   34.903,2,   34.903,2,  238.500,2,  238.000,2,   43.480,2,   22.700,2, -999.000,9,    1.500,2,    0.000,2,    0.000,2, -999.000,9, -999.000,9, -999.000,9
           NA,     A14,     26,   1,-999.0,       7,  2,19950123,0609,  -4.9972,   -7.8810,  3926, 3196.000,    2.505,   34.900,2,   34.900,2,  238.500,2,  238.200,2,   44.640,6,   22.850,2, -999.000,9,    1.510,6,    0.000,2,    0.000,2, -999.000,9, -999.000,9, -999.000,9
           NA,     A14,     26,   1,-999.0,       6,  2,19950123,0609,  -4.9972,   -7.8810,  3926, 3397.600,    2.469,   34.898,2,   34.897,2,  239.100,2,  238.600,2,   45.490,2,   22.740,2, -999.000,9,    1.510,2,    0.019,2,    0.011,2, -999.000,9, -999.000,9, -999.000,9
           NA,     A14,     26,   1,-999.0,       5,  2,19950123,0609,  -4.9972,   -7.8810,  3926, 3597.100,    2.400,   34.892,2,   34.892,2,  239.500,2,  238.600,2,   47.610,2,   22.860,2, -999.000,9,    1.520,2,    0.002,2,    0.000,2, -999.000,9, -999.000,9, -999.000,9
           NA,     A14,     26,   1,-999.0,       4,  2,19950123,0609,  -4.9972,   -7.8810,  3926, 3796.800,    2.362,   34.890,2,   34.887,2,  240.000,2,  238.800,2,   48.920,2,   23.070,2, -999.000,9,    1.520,2,    0.003,2,    0.002,2, -999.000,9, -999.000,9, -999.000,9
           NA,     A14,     26,   1,-999.0,       3,  2,19950123,0609,  -4.9972,   -7.8810,  3926, 3955.600,    2.363,   34.888,2,   34.887,2,  240.600,2,  240.900,2,   49.250,2,   23.020,2, -999.000,9,    1.540,2,    0.000,2,    0.004,2, -999.000,9, -999.000,9, -999.000,9
           NA,     A14,     25,   1,-999.0,      32,  2,19950123,0036,  -4.5003,   -7.7772,  4072,    3.300,   27.147,   35.888,2,   35.888,2,  200.800,2,  201.600,2,    1.030,2,    0.020,2, -999.000,9,    0.080,2,    1.704,2,    0.968,2, -999.000,9, 2016.300,6, 2360.600,6
           NA,     A14,     25,   1,-999.0,      31,  2,19950123,0036,  -4.5003,   -7.7772,  4072,   47.100,   26.577,   35.841,2, -999.000,3,  210.400,2, -999.000,3,    1.200,2,    0.020,2, -999.000,9,    0.100,2,    1.727,2,    0.939,2, -999.000,9, 2020.800,2, 2359.600,2
           NA,     A14,     25,   1,-999.0,      30,  2,19950123,0036,  -4.5003,   -7.7772,  4072,   96.700,   16.653,   35.733,2, -999.000,3,  110.200,2,  108.700,2,    5.310,2,   18.570,2, -999.000,9,    1.200,2,    1.451,2,    0.718,2, -999.000,9, 2164.700,2, 2348.000,2
           NA,     A14,     25,   1,-999.0,      29,  2,19950123,0036,  -4.5003,   -7.7772,  4072,  145.900,   12.545,   35.227,2, -999.000,3,  104.700,2, -999.000,3,    8.560,2,   23.240,2, -999.000,9,    1.480,2,    1.098,2,    0.530,2, -999.000,9, 2181.500,2, 2323.200,2
           NA,     A14,     25,   1,-999.0,      28,  2,19950123,0036,  -4.5003,   -7.7772,  4072,  195.700,   11.770,   35.128,2,   35.125,2,  101.200,2,  100.900,2,    9.920,2,   25.410,2, -999.000,9,    1.620,2,    0.876,2,    0.436,2, -999.000,9, 2191.200,2, 2317.900,2
           NA,     A14,     25,   1,-999.0,      27,  2,19950123,0036,  -4.5003,   -7.7772,  4072,  297.100,   10.297,   34.953,2,   34.955,2,   93.100,2,   93.300,2,   12.480,2,   29.220,2, -999.000,9,    1.830,2,    0.572,2,    0.291,2, -999.000,9, 2206.200,2, 2310.800,2
           NA,     A14,     25,   1,-999.0,      26,  2,19950123,0036,  -4.5003,   -7.7772,  4072,  394.500,    8.890,   34.812,2,   34.813,2,   67.900,2,   67.800,2,   16.500,2,   35.040,2, -999.000,9,    2.150,2,    0.223,2,    0.112,2, -999.000,9, 2233.600,2, 2303.100,2
           NA,     A14,     25,   1,-999.0,      24,  2,19950123,0036,  -4.5003,   -7.7772,  4072,  495.400,    7.152,   34.634,2,   34.635,2,  101.300,2, -999.000,3,   20.250,2,   34.420,2, -999.000,9,    2.190,2,    0.232,2,    0.117,2, -999.000,9, 2219.300,2, 2300.000,2
           NA,     A14,     25,   1,-999.0,      25,  2,19950123,0036,  -4.5003,   -7.7772,  4072,  495.600,    7.149,   34.631,2,   34.637,2,  102.900,2, -999.000,3,   19.830,2,   34.310,2, -999.000,9,    2.170,2,    0.236,2,    0.124,2, -999.000,9, -999.000,9, 2299.500,2
           NA,     A14,     25,   1,-999.0,      23,  2,19950123,0036,  -4.5003,   -7.7772,  4072,  596.000,    6.077,   34.527,2,   34.530,2,  140.900,2,  144.400,2,   23.050,6,   33.180,2, -999.000,9,    2.140,6,    0.289,2,    0.146,2, -999.000,9, 2207.300,2, 2299.900,2
           NA,     A14,     25,   1,-999.0,      22,  2,19950123,0036,  -4.5003,   -7.7772,  4072,  796.400,    4.820,   34.488,2,   34.495,2,  142.500,2,  140.300,2,   30.750,2,   35.700,2, -999.000,9,    2.350,2,    0.034,2,    0.024,2, -999.000,9, 2221.700,2, 2304.000,2
           NA,     A14,     25,   1,-999.0,      21,  2,19950123,0036,  -4.5003,   -7.7772,  4072,  994.800,    4.223,   34.596,2,   34.596,2,  161.700,2,  160.000,2,   33.470,2,   33.570,2, -999.000,9,    2.210,2,    0.006,2,    0.003,2, -999.000,9, 2219.800,2, 2314.100,2
           NA,     A14,     25,   1,-999.0,      20,  2,19950123,0036,  -4.5003,   -7.7772,  4072, 1194.900,    4.257,   34.762,2,   34.758,2,  175.300,2,  175.800,2,   29.030,2,   30.100,2, -999.000,9,    1.960,2,    0.002,2,    0.001,2, -999.000,9, 2208.700,2, 2318.300,2
           NA,     A14,     25,   1,-999.0,      19,  2,19950123,0036,  -4.5003,   -7.7772,  4072, 1395.500,    4.212,   34.907,2,   34.907,2,  207.100,2,  208.500,2,   22.530,2,   24.610,2, -999.000,9,    1.600,2,    0.016,2,    0.002,2, -999.000,9, 2186.300,2, 2320.600,2
           NA,     A14,     25,   1,-999.0,      18,  2,19950123,0036,  -4.5003,   -7.7772,  4072, 1545.600,    4.068,   34.942,2,   34.943,2,  221.100,2,  222.900,2,   21.080,2,   23.060,2, -999.000,9,    1.480,2,    0.012,2,    0.008,2, -999.000,9, 2177.400,2, 2320.600,2
           NA,     A14,     25,   1,-999.0,      17,  2,19950123,0036,  -4.5003,   -7.7772,  4072, 1695.300,    3.898,   34.959,2,   34.957,2,  232.400,2,  233.400,2,   20.820,2,   22.040,2, -999.000,9,    1.420,2,    0.010,2,    0.011,2, -999.000,9, -999.000,9, 2322.200,2
           NA,     A14,     25,   1,-999.0,      16,  2,19950123,0036,  -4.5003,   -7.7772,  4072, 1844.700,    3.712,   34.956,2,   34.955,2,  237.600,2,  237.100,2,   22.180,2,   21.740,2, -999.000,9,    1.390,2,    0.004,2,    0.004,2, -999.000,9, 2173.100,2, 2323.900,2
           NA,     A14,     25,   1,-999.0,      15,  2,19950123,0036,  -4.5003,   -7.7772,  4072, 1995.400,    3.479,   34.950,2,   34.952,2,  240.400,2,  240.400,2,   24.300,2,   21.650,2, -999.000,9,    1.380,2,    0.004,2, -999.000,9, -999.000,9, 2175.000,2, 2326.500,2
           NA,     A14,     25,   1,-999.0,      14,  2,19950123,0036,  -4.5003,   -7.7772,  4072, 2195.700,    3.260,   34.943,2,   34.943,2,  240.800,2,  241.700,2,   27.790,2,   21.730,2, -999.000,9,    1.390,2,    0.002,2,    0.006,2, -999.000,9, 2175.300,2, 2330.300,2
           NA,     A14,     25,   1,-999.0,      13,  2,19950123,0036,  -4.5003,   -7.7772,  4072, 2395.000,    2.997,   34.928,2,   34.928,2,  240.100,2,  240.700,2,   33.660,6,   22.210,6, -999.000,9,    1.420,2,    0.005,2, -999.000,9, -999.000,9, 2182.200,2, 2337.500,2
           NA,     A14,     25,   1,-999.0,      12,  2,19950123,0036,  -4.5003,   -7.7772,  4072, 2594.700,    2.835,   34.919,2,   34.917,2,  238.600,2,  239.200,2,   36.810,2,   22.450,2, -999.000,9,    1.450,2,    0.000,2, -999.000,9, -999.000,9, 2188.800,2, 2338.000,2
           NA,     A14,     25,   1,-999.0,      11,  2,19950123,0036,  -4.5003,   -7.7772,  4072, 2795.000,    2.689,   34.910,2, -999.000,3,  238.100,2,  238.500,2,   40.290,2,   22.710,2, -999.000,9,    1.470,2,    0.005,2, -999.000,9, -999.000,9, 2190.300,2, 2343.100,2
           NA,     A14,     25,   1,-999.0,      10,  2,19950123,0036,  -4.5003,   -7.7772,  4072, 2996.700,    2.596,   34.904,2,   34.907,2,  237.500,2,  238.200,2,   43.020,2,   22.880,2, -999.000,9,    1.510,2,    0.002,2, -999.000,9, -999.000,9, 2193.400,2, 2346.600,2
           NA,     A14,     25,   1,-999.0,       9,  2,19950123,0036,  -4.5003,   -7.7772,  4072, 3189.100,    2.532,   34.901,2,   34.902,2,  237.200,2,  238.200,2,   44.290,2,   22.920,2, -999.000,9,    1.500,2,    0.000,2, -999.000,9, -999.000,9, 2196.800,2, 2349.100,2
           NA,     A14,     25,   1,-999.0,       8,  2,19950123,0036,  -4.5003,   -7.7772,  4072, 3396.600,    2.448,   34.898,2,   34.896,2,  237.300,2,  238.600,2,   45.920,2,   22.920,2, -999.000,9,    1.500,2,    0.004,2, -999.000,9, -999.000,9, 2196.600,2, 2350.200,2
           NA,     A14,     25,   1,-999.0,       7,  2,19950123,0036,  -4.5003,   -7.7772,  4072, 3596.700,    2.397,   34.894,2,   34.892,2,  238.400,2,  238.800,2,   47.000,2,   22.960,2, -999.000,9,    1.500,2,    0.004,2, -999.000,9, -999.000,9, 2197.800,2, 2354.500,2
           NA,     A14,     25,   1,-999.0,       6,  2,19950123,0036,  -4.5003,   -7.7772,  4072, 3795.000,    2.356,   34.890,2,   34.890,2,  239.600,2,  239.700,2,   48.560,2,   22.990,6, -999.000,9,    1.510,6,    0.003,2, -999.000,9, -999.000,9, -999.000,9, 2353.400,2
           NA,     A14,     25,   1,-999.0,       5,  2,19950123,0036,  -4.5003,   -7.7772,  4072, 3897.400,    2.351,   34.888,2,   34.886,2,  239.800,2,  240.100,2,   48.620,2,   23.120,2, -999.000,9,    1.520,2,    0.006,2, -999.000,9, -999.000,9, 2200.800,2, 2354.500,2
           NA,     A14,     25,   1,-999.0,       4,  2,19950123,0036,  -4.5003,   -7.7772,  4072, 4045.900,    2.344,   34.886,2,   34.885,2,  240.700,2,  240.300,2,   48.790,2,   22.990,2, -999.000,9,    1.530,2,    0.002,2, -999.000,9, -999.000,9, -999.000,9, 2353.600,2
           NA,     A14,     25,   1,-999.0,       3,  2,19950123,0036,  -4.5003,   -7.7772,  4072, 4108.200,    2.323,   34.885,2,   34.883,2,  241.900,2,  241.300,2,   48.780,2,   22.950,2, -999.000,9,    1.530,2,    0.003,2, -999.000,9, -999.000,9, 2200.800,6, 2354.500,6