BOTTLE,20213527JOAExport
EXPOCODE,SECT_ID,STNNBR,CASTNO,SAMPNO,BTLNBR,BTLNBR_FLAG_W,DATE,TIME,LATITUDE,LONGITUDE,DEPTH,CTDPRS,CTDTMP,CTDSAL,CTDSAL_FLAG_W,SALNTY,SALNTY_FLAG_W,CTDOXY,CTDOXY_FLAG_W,OXYGEN,OXYGEN_FLAG_W,SILCAT,SILCAT_FLAG_W,NITRAT,NITRAT_FLAG_W,NITRIT,NITRIT_FLAG_W,PHSPHT,PHSPHT_FLAG_W,CFC-11,CFC-11_FLAG_W,CFC-12,CFC-12_FLAG_W,SF6,SF6_FLAG_W,TCARBN,TCARBN_FLAG_W,ALKALI,ALKALI_FLAG_W
,,,,,,,,,,,,DB,DEG C,PSS-78,,PSS-78,,UMOL/KG,,UMOL/KG,,UMOL/KG,,UMOL/KG,,UMOL/KG,,UMOL/KG,,PMOL/KG,,PMOL/KG,,FMOL/KG,,UMOL/KG,,UMOL/KG
           NA,     A14,     79,   1,-999.0,      32,  2,19950204,1936, -31.5003,   -8.9857,  3807,    3.600,   21.934,   35.855,2,   35.858,2,  217.500,2,  222.100,2,    1.900,2,    0.020,2, -999.000,9,    0.140,2,    2.141,2,    1.067,2, -999.000,9, 2049.400,6, 2359.200,2
           NA,     A14,     79,   1,-999.0,      31,  2,19950204,1936, -31.5003,   -8.9857,  3807,   38.900,   21.722,   35.860,2, -999.000,3,  221.900,2,  223.100,2,    1.800,2,    0.020,2, -999.000,9,    0.140,2,    2.166,2,    1.081,2, -999.000,9, 2049.200,2, 2356.600,2
           NA,     A14,     79,   1,-999.0,      30,  2,19950204,1936, -31.5003,   -8.9857,  3807,   99.100,   17.491,   35.729,2,   35.731,2,  244.900,2,  247.600,2,    1.600,2,    0.110,2, -999.000,9,    0.180,2,    2.559,2,    1.214,2, -999.000,9, 2051.900,2, 2349.400,2
           NA,     A14,     79,   1,-999.0,      29,  2,19950204,1936, -31.5003,   -8.9857,  3807,  147.500,   17.187,   35.725,2,   35.726,2,  228.700,2,  227.500,2,    2.300,2,    1.440,2, -999.000,9,    0.250,2,    2.543,2,    1.224,2, -999.000,9, 2061.800,2, 2350.600,2
           NA,     A14,     79,   1,-999.0,      28,  2,19950204,1936, -31.5003,   -8.9857,  3807,  195.500,   17.155,   35.721,2,   35.721,2,  227.700,2,  227.900,2,    2.300,2,    1.620,2, -999.000,9,    0.250,2,    2.559,2,    1.226,2, -999.000,9, 2063.100,2, 2348.300,2
           NA,     A14,     79,   1,-999.0,      27,  2,19950204,1936, -31.5003,   -8.9857,  3807,  295.500,   16.311,   35.565,2,   35.568,2,  223.900,2,  219.800,2,    3.100,2,    4.020,2, -999.000,9,    0.390,2,    2.589,2,    1.232,2, -999.000,9, 2068.100,2, 2338.200,2
           NA,     A14,     79,   1,-999.0,      26,  2,19950204,1936, -31.5003,   -8.9857,  3807,  397.200,   14.923,   35.358,2,   35.357,2,  220.100,2,  216.500,2,    3.300,2,    6.250,2, -999.000,9,    0.520,2,    2.658,2,    1.253,2, -999.000,9, 2080.500,2, 2326.900,2
           NA,     A14,     79,   1,-999.0,      25,  2,19950204,1936, -31.5003,   -8.9857,  3807,  496.100,   13.091,   35.156,2,   35.158,2,  213.600,2,  211.900,2,    4.400,2,   10.520,2, -999.000,9,    0.770,2,    2.570,2,    1.175,2, -999.000,9, 2102.800,2, 2319.100,2
           NA,     A14,     79,   1,-999.0,      24,  2,19950204,1936, -31.5003,   -8.9857,  3807,  597.000,   11.336,   34.945,2,   34.944,2,  213.400,2,  213.600,2,    5.600,2,   14.520,2, -999.000,9,    1.000,2,    2.419,2,    1.081,2, -999.000,9, 2115.700,2, 2307.600,2
           NA,     A14,     79,   1,-999.0,      23,  2,19950204,1936, -31.5003,   -8.9857,  3807,  696.400,    9.337,   34.708,2, -999.000,3,  209.800,2,  209.000,2,    8.600,2,   19.240,2, -999.000,9,    1.310,2,    2.264,2,    0.995,2, -999.000,9, 2133.800,2, 2300.600,2
           NA,     A14,     79,   1,-999.0,      22,  2,19950204,1936, -31.5003,   -8.9857,  3807,  795.100,    7.403,   34.517,2, -999.000,3,  207.900,2,  208.200,2,   12.800,2,   23.510,2, -999.000,9,    1.620,2,    2.044,2,    0.896,2, -999.000,9, 2151.500,2, 2294.400,2
           NA,     A14,     79,   1,-999.0,      21,  2,19950204,1936, -31.5003,   -8.9857,  3807,  894.700,    5.792,   34.384,2, -999.000,3,  214.000,2,  214.200,2,   17.900,2,   27.120,2, -999.000,9,    1.850,2,    1.792,2,    0.770,2, -999.000,9, 2163.400,2, 2294.500,2
           NA,     A14,     79,   1,-999.0,      19,  2,19950204,1936, -31.5003,   -8.9857,  3807,  995.200,    4.827,   34.340,2,   34.346,2,  214.000,2,  214.100,2,   23.600,2,   29.080,2, -999.000,9,    2.010,2,    1.447,2,    0.618,2, -999.000,9, 2174.000,2, 2296.200,2
           NA,     A14,     79,   1,-999.0,      20,  2,19950204,1936, -31.5003,   -8.9857,  3807,  995.500,    4.830,   34.341,2,   34.345,2,  213.900,2,  214.200,2,   23.600,2,   29.190,2, -999.000,9,    1.990,2, -999.000,9, -999.000,9, -999.000,9, -999.000,9, 2297.900,2
           NA,     A14,     79,   1,-999.0,      18,  2,19950204,1936, -31.5003,   -8.9857,  3807, 1195.800,    3.707,   34.362,2,   34.364,2,  203.000,2,  203.400,2,   37.500,2,   31.790,2, -999.000,9,    2.190,2,    0.803,2,    0.329,2, -999.000,9, 2200.000,2, 2310.000,2
           NA,     A14,     79,   1,-999.0,      17,  2,19950204,1936, -31.5003,   -8.9857,  3807, 1395.500,    3.203,   34.491,2,   34.495,2,  184.600,2,  183.900,2,   51.600,2,   32.900,2, -999.000,9,    2.270,2,    0.220,2,    0.105,2, -999.000,9, 2223.600,2, 2325.400,2
           NA,     A14,     79,   1,-999.0,      16,  2,19950204,1936, -31.5003,   -8.9857,  3807, 1594.800,    3.051,   34.604,2,   34.608,2,  184.300,2,  184.300,2,   54.100,2,   31.700,2, -999.000,9,    2.180,2,    0.061,2,    0.027,2, -999.000,9, 2226.100,2, 2331.400,2
           NA,     A14,     79,   1,-999.0,      15,  2,19950204,1936, -31.5003,   -8.9857,  3807, 1795.700,    2.931,   34.704,2,   34.704,2,  193.100,2,  194.300,2,   53.500,2,   29.800,2, -999.000,9,    2.030,2,    0.020,2,    0.007,2, -999.000,9, 2220.200,2, 2335.400,2
           NA,     A14,     79,   1,-999.0,      14,  2,19950204,1936, -31.5003,   -8.9857,  3807, 1995.800,    2.771,   34.758,2,   34.761,2,  203.900,2,  205.100,2,   54.100,2,   28.200,2, -999.000,9,    1.920,2,    0.005,2,    0.002,2, -999.000,9, 2217.700,2, 2338.600,2
           NA,     A14,     79,   1,-999.0,      13,  2,19950204,1936, -31.5003,   -8.9857,  3807, 2196.100,    2.687,   34.796,2,   34.798,2,  213.300,2,  213.600,2,   52.900,2,   26.760,2, -999.000,9,    1.830,2,    0.004,2, -999.000,9, -999.000,9, 2207.300,2, 2338.800,2
           NA,     A14,     79,   1,-999.0,      12,  2,19950204,1936, -31.5003,   -8.9857,  3807, 2395.400,    2.587,   34.827,2,   34.828,2,  221.600,2,  222.800,2,   51.700,2,   25.610,2, -999.000,9,    1.740,2,    0.001,2, -999.000,9, -999.000,9, 2202.300,2, 2339.900,2
           NA,     A14,     79,   1,-999.0,      11,  2,19950204,1936, -31.5003,   -8.9857,  3807, 2597.300,    2.529,   34.844,2,   34.842,2,  228.000,2,  227.400,2,   51.400,2,   24.870,2, -999.000,9,    1.700,2,    0.001,2, -999.000,9, -999.000,9, 2199.000,2, 2342.200,2
           NA,     A14,     79,   1,-999.0,      10,  2,19950204,1936, -31.5003,   -8.9857,  3807, 2796.200,    2.474,   34.855,2,   34.856,2,  231.500,2,  232.400,2,   50.700,2,   24.260,2, -999.000,9,    1.650,2,    0.003,2,    0.005,2, -999.000,9, 2196.200,2, 2343.400,2
           NA,     A14,     79,   1,-999.0,       9,  2,19950204,1936, -31.5003,   -8.9857,  3807, 2997.400,    2.433,   34.864,2,   34.865,2,  234.700,2,  235.700,2,   50.400,2,   23.910,2, -999.000,9,    1.620,2,    0.001,2,    0.001,2, -999.000,9, 2195.100,2, 2344.400,2
           NA,     A14,     79,   1,-999.0,       8,  2,19950204,1936, -31.5003,   -8.9857,  3807, 3194.500,    2.410,   34.869,2,   34.868,2,  239.000,2,  237.700,2,   50.400,2,   23.730,2, -999.000,9,    1.600,2,    0.001,2, -999.000,9, -999.000,9, 2193.500,2, 2345.600,2
           NA,     A14,     79,   1,-999.0,       7,  2,19950204,1936, -31.5003,   -8.9857,  3807, 3395.200,    2.394,   34.873,2,   34.873,2,  238.600,2,  238.300,2,   50.400,2,   23.560,2, -999.000,9,    1.590,2,    0.002,2,    0.003,2, -999.000,9, 2195.300,2, 2348.100,2
           NA,     A14,     79,   1,-999.0,       6,  2,19950204,1936, -31.5003,   -8.9857,  3807, 3596.900,    2.393,   34.877,2,   34.878,2,  238.200,2,  238.100,2,   50.800,2,   23.560,2, -999.000,9,    1.580,2,    0.000,2,    0.002,2, -999.000,9, -999.000,9, 2350.700,2
           NA,     A14,     79,   1,-999.0,       5,  2,19950204,1936, -31.5003,   -8.9857,  3807, 3597.600,    2.393,   34.877,2,   34.877,2,  238.300,2,  237.900,2,   50.900,2,   23.560,2, -999.000,9,    1.580,2,    0.003,2,    0.001,2, -999.000,9, 2197.400,2, 2349.300,2
           NA,     A14,     79,   1,-999.0,       4,  2,19950204,1936, -31.5003,   -8.9857,  3807, 3785.400,    2.396,   34.880,2,   34.882,2,  237.700,2,  237.200,2,   51.100,2,   23.480,2, -999.000,9,    1.570,2,    0.000,2, -999.000,9, -999.000,9, 2200.300,2, 2353.100,2
           NA,     A14,     79,   1,-999.0,       3,  2,19950204,1936, -31.5003,   -8.9857,  3807, 3845.700,    2.402,   34.879,2,   34.880,2,  237.500,2,  237.500,2,   51.100,2,   23.570,2, -999.000,9,    1.570,2,    0.003,2,    0.002,2, -999.000,9, 2200.300,6, 2352.300,6
           NA,     A14,     78,   1,-999.0,      32,  2,19950204,1317, -31.0107,   -8.9757,  3882,    4.300,   22.243,   35.857,2,   35.858,2,  227.100,2, -999.000,3,    1.700,2,    0.020,2, -999.000,9,    0.140,2,    2.102,2,    1.008,2, -999.000,9, -999.000,9, 2359.200,2
           NA,     A14,     78,   1,-999.0,      31,  2,19950204,1317, -31.0107,   -8.9757,  3882,   47.100,   21.518,   35.850,2,   35.845,2,  240.600,2, -999.000,3,    1.700,2,    0.020,2, -999.000,9,    0.150,2,    2.186,2,    1.066,2, -999.000,9, -999.000,9, -999.000,9
           NA,     A14,     78,   1,-999.0,      30,  2,19950204,1317, -31.0107,   -8.9757,  3882,   97.500,   17.626,   35.730,2,   35.731,2,  243.600,2,  243.400,2,    1.400,2,    0.020,2, -999.000,9,    0.170,2,    2.503,2,    1.254,2, -999.000,9, -999.000,9, -999.000,9
           NA,     A14,     78,   1,-999.0,      29,  2,19950204,1317, -31.0107,   -8.9757,  3882,  148.000,   17.177,   35.721,2,   35.720,2,  225.800,2,  227.400,2,    2.300,2,    1.390,2, -999.000,9,    0.260,2,    2.507,2,    1.254,2, -999.000,9, -999.000,9, -999.000,9
           NA,     A14,     78,   1,-999.0,      28,  2,19950204,1317, -31.0107,   -8.9757,  3882,  197.500,   17.133,   35.717,2,   35.715,2,  227.800,2,  227.700,2,    2.300,2,    1.480,2, -999.000,9,    0.260,2,    2.509,2,    1.251,2, -999.000,9, -999.000,9, -999.000,9
           NA,     A14,     78,   1,-999.0,      27,  2,19950204,1317, -31.0107,   -8.9757,  3882,  298.200,   16.138,   35.536,2,   35.535,2,  219.000,2,  219.400,2,    3.400,2,    4.540,6, -999.000,9,    0.410,6,    2.541,2,    1.261,2, -999.000,9, -999.000,9, -999.000,9
           NA,     A14,     78,   1,-999.0,      26,  2,19950204,1317, -31.0107,   -8.9757,  3882,  395.500,   14.890,   35.354,2, -999.000,3,  218.300,2,  216.600,2,    3.300,2,    6.220,6, -999.000,9,    0.530,6,    2.596,2,    1.290,2, -999.000,9, -999.000,9, -999.000,9
           NA,     A14,     78,   1,-999.0,      25,  2,19950204,1317, -31.0107,   -8.9757,  3882,  497.400,   13.114,   35.156,2,   35.158,2,  212.000,2,  211.800,2,    4.400,2,   10.470,6, -999.000,9,    0.760,6,    2.513,2,    1.189,2, -999.000,9, -999.000,9, -999.000,9
           NA,     A14,     78,   1,-999.0,      24,  2,19950204,1317, -31.0107,   -8.9757,  3882,  597.900,   11.285,   34.940,2,   34.944,2,  213.600,2,  211.600,2,    5.700,2,   14.510,6, -999.000,9,    1.000,6,    2.369,2,    1.108,2, -999.000,9, -999.000,9, -999.000,9
           NA,     A14,     78,   1,-999.0,      23,  2,19950204,1317, -31.0107,   -8.9757,  3882,  694.300,    9.430,   34.719,2,   34.725,2,  209.500,2,  208.000,2,    8.300,2,   18.960,6, -999.000,9,    1.290,6,    2.230,2,    1.030,2, -999.000,9, -999.000,9, -999.000,9
           NA,     A14,     78,   1,-999.0,      22,  2,19950204,1317, -31.0107,   -8.9757,  3882,  794.000,    7.462,   34.520,2,   34.525,2,  202.400,2, -999.000,3,   12.800,2,   23.460,6, -999.000,9,    1.610,6,    2.005,2,    0.917,2, -999.000,9, -999.000,9, -999.000,9
           NA,     A14,     78,   1,-999.0,      21,  2,19950204,1317, -31.0107,   -8.9757,  3882,  997.900,    4.528,   34.324,2,   34.327,2,  216.900,2,  217.300,2,   25.100,2,   29.610,6, -999.000,9,    2.010,6,    1.405,2,    0.616,2, -999.000,9, -999.000,9, -999.000,9
           NA,     A14,     78,   1,-999.0,      20,  2,19950204,1317, -31.0107,   -8.9757,  3882, 1194.400,    3.644,   34.375,2, -999.000,4,  200.700,2, -999.000,3,   54.800,2,   29.580,6, -999.000,9,    2.000,6,    0.031,2,    0.015,2, -999.000,9, -999.000,9, -999.000,9
           NA,     A14,     78,   1,-999.0,      19,  2,19950204,1317, -31.0107,   -8.9757,  3882, 1395.000,    3.119,   34.509,2,   34.511,2,  184.800,2,  183.800,2,   53.300,2,   32.860,6, -999.000,9,    2.260,6,    0.214,2,    0.103,2, -999.000,9, -999.000,9, -999.000,9
           NA,     A14,     78,   1,-999.0,      18,  2,19950204,1317, -31.0107,   -8.9757,  3882, 1395.300,    3.118,   34.508,2,   34.511,2,  184.800,2,  183.200,2,   53.900,2,   32.920,6, -999.000,9,    2.250,6,    0.206,2,    0.103,2, -999.000,9, -999.000,9, -999.000,9
           NA,     A14,     78,   1,-999.0,      17,  2,19950204,1317, -31.0107,   -8.9757,  3882, 1596.300,    3.009,   34.618,2,   34.619,2,  185.000,2,  185.400,2,   54.800,2,   31.460,6, -999.000,9,    2.140,6,    0.059,2,    0.037,2, -999.000,9, -999.000,9, -999.000,9
           NA,     A14,     78,   1,-999.0,      16,  2,19950204,1317, -31.0107,   -8.9757,  3882, 1794.700,    2.862,   34.703,2,   34.705,2,  195.100,2,  195.000,2,   55.000,2,   29.730,6, -999.000,9,    2.020,6,    0.031,2,    0.012,2, -999.000,9, -999.000,9, -999.000,9
           NA,     A14,     78,   1,-999.0,      15,  2,19950204,1317, -31.0107,   -8.9757,  3882, 1996.300,    2.769,   34.766,2,   34.767,2,  206.200,2,  206.200,2,   53.600,2,   27.790,6, -999.000,9,    1.890,6,    0.004,2, -999.000,9, -999.000,9, -999.000,9, -999.000,9
           NA,     A14,     78,   1,-999.0,      14,  2,19950204,1317, -31.0107,   -8.9757,  3882, 2199.600,    2.680,   34.804,2,   34.803,2,  214.000,2,  215.600,2,   53.000,2,   26.530,6, -999.000,9,    1.790,6,    0.002,2,    0.003,2, -999.000,9, -999.000,9, -999.000,9
           NA,     A14,     78,   1,-999.0,      13,  2,19950204,1317, -31.0107,   -8.9757,  3882, 2397.800,    2.609,   34.828,2,   34.828,2,  221.000,2,  222.400,2,   52.900,2,   25.540,2, -999.000,9,    1.730,2,    0.002,2,    0.003,2, -999.000,9, -999.000,9, -999.000,9
           NA,     A14,     78,   1,-999.0,      12,  2,19950204,1317, -31.0107,   -8.9757,  3882, 2598.100,    2.521,   34.844,2,   34.844,2,  226.500,2,  228.200,2,   51.600,2,   24.680,2, -999.000,9,    1.680,2,    0.001,2,    0.003,2, -999.000,9, -999.000,9, -999.000,9
           NA,     A14,     78,   1,-999.0,      11,  2,19950204,1317, -31.0107,   -8.9757,  3882, 2795.300,    2.467,   34.857,2,   34.856,2,  232.100,2,  232.900,2,   51.400,2,   24.120,2, -999.000,9,    1.620,2,    0.002,2,    0.001,2, -999.000,9, -999.000,9, -999.000,9
           NA,     A14,     78,   1,-999.0,      10,  2,19950204,1317, -31.0107,   -8.9757,  3882, 2993.500,    2.432,   34.863,2,   34.866,2,  235.500,2,  236.400,2,   50.600,2,   23.810,2, -999.000,9,    1.610,2,    0.005,2, -999.000,9, -999.000,9, -999.000,9, -999.000,9
           NA,     A14,     78,   1,-999.0,       9,  2,19950204,1317, -31.0107,   -8.9757,  3882, 3196.900,    2.409,   34.869,2,   34.867,2,  237.700,2,  237.900,2,   50.100,2,   23.640,2, -999.000,9,    1.590,2,    0.002,2,    0.002,2, -999.000,9, -999.000,9, -999.000,9
           NA,     A14,     78,   1,-999.0,       8,  2,19950204,1317, -31.0107,   -8.9757,  3882, 3394.800,    2.397,   34.872,2,   34.872,2,  238.300,2,  238.600,2,   50.200,2,   23.460,2, -999.000,9,    1.580,2,    0.001,2,    0.002,2, -999.000,9, -999.000,9, -999.000,9
           NA,     A14,     78,   1,-999.0,       7,  2,19950204,1317, -31.0107,   -8.9757,  3882, 3595.400,    2.399,   34.874,2,   34.872,2,  236.700,2,  238.700,2,   50.500,2,   23.470,2, -999.000,9,    1.580,2,    0.004,2,    0.000,2, -999.000,9, -999.000,9, -999.000,9
           NA,     A14,     78,   1,-999.0,       6,  2,19950204,1317, -31.0107,   -8.9757,  3882, 3697.200,    2.394,   34.876,2,   34.875,2,  238.100,2,  238.700,2,   50.800,2,   23.430,2, -999.000,9,    1.580,2,    0.002,2,    0.003,2, -999.000,9, -999.000,9, -999.000,9
           NA,     A14,     78,   1,-999.0,       4,  2,19950204,1317, -31.0107,   -8.9757,  3882, 3796.000,    2.396,   34.878,2,   34.877,2,  235.900,2,  238.100,2,   51.000,2,   23.430,2, -999.000,9,    1.580,2,    0.002,2,   -0.002,2, -999.000,9, -999.000,9, -999.000,9
           NA,     A14,     78,   1,-999.0,       5,  2,19950204,1317, -31.0107,   -8.9757,  3882, 3796.400,    2.396,   34.878,2,   34.876,2,  235.900,2,  238.000,2,   51.000,2,   23.470,2, -999.000,9,    1.580,2,    0.003,2, -999.000,9, -999.000,9, -999.000,9, -999.000,9
           NA,     A14,     78,   1,-999.0,       3,  2,19950204,1317, -31.0107,   -8.9757,  3882, 3881.500,    2.406,   34.878,2,   34.878,2,  236.800,2,  238.200,2,   50.900,2,   23.430,2, -999.000,9,    1.570,2,    0.001,2,   -0.001,2, -999.000,9, -999.000,9, -999.000,9