BOTTLE,20213527JOAExport
EXPOCODE,SECT_ID,STNNBR,CASTNO,SAMPNO,BTLNBR,BTLNBR_FLAG_W,DATE,TIME,LATITUDE,LONGITUDE,DEPTH,CTDPRS,CTDTMP,CTDSAL,CTDSAL_FLAG_W,SALNTY,SALNTY_FLAG_W,CTDOXY,CTDOXY_FLAG_W,OXYGEN,OXYGEN_FLAG_W,SILCAT,SILCAT_FLAG_W,NITRAT,NITRAT_FLAG_W,NITRIT,NITRIT_FLAG_W,PHSPHT,PHSPHT_FLAG_W,CFC-11,CFC-11_FLAG_W,CFC-12,CFC-12_FLAG_W,SF6,SF6_FLAG_W,TCARBN,TCARBN_FLAG_W,ALKALI,ALKALI_FLAG_W
,,,,,,,,,,,,DB,DEG C,PSS-78,,PSS-78,,UMOL/KG,,UMOL/KG,,UMOL/KG,,UMOL/KG,,UMOL/KG,,UMOL/KG,,PMOL/KG,,PMOL/KG,,FMOL/KG,,UMOL/KG,,UMOL/KG
           NA,     A14,    103,   1,-999.0,      32,  2,19950210,1946, -43.5045,   -9.0050,  3728,    5.100,   10.276,   34.317,2,   34.318,2,  272.900,2, -999.000,3,    0.200,6,   11.490,6, -999.000,9,    0.880,2,    3.803,2,    1.822,2, -999.000,9, 2072.300,6, 2284.700,2
           NA,     A14,    103,   1,-999.0,      31,  2,19950210,1946, -43.5045,   -9.0050,  3728,   48.500,   10.262,   34.314,2,   34.314,2,  278.800,2,  282.000,2,    0.200,2,   11.430,2, -999.000,9,    0.870,2,    3.812,2,    1.826,2, -999.000,9, 2073.100,2, 2285.500,2
           NA,     A14,    103,   1,-999.0,      30,  2,19950210,1946, -43.5045,   -9.0050,  3728,   98.300,    9.415,   34.490,2, -999.000,3,  280.000,2, -999.000,3,    2.400,2,   12.420,2, -999.000,9,    0.960,2,    3.872,2,    1.876,2, -999.000,9, 2089.200,2, 2285.300,2
           NA,     A14,    103,   1,-999.0,      29,  2,19950210,1946, -43.5045,   -9.0050,  3728,  146.800,    8.723,   34.509,2,   34.511,2,  267.800,2,  267.400,2,    3.800,2,   14.230,2, -999.000,9,    1.040,2,    3.849,2,    1.840,2, -999.000,9, 2100.200,2, 2292.400,2
           NA,     A14,    103,   1,-999.0,      28,  2,19950210,1946, -43.5045,   -9.0050,  3728,  194.400,    7.805,   34.442,2,   34.443,2,  258.200,2,  258.800,2,    5.000,6,   17.700,6, -999.000,9,    1.240,2,    3.785,2,    1.782,2, -999.000,9, 2114.400,2, 2289.100,2
           NA,     A14,    103,   1,-999.0,      27,  2,19950210,1946, -43.5045,   -9.0050,  3728,  296.300,    6.165,   34.321,2,   34.323,2,  247.300,2,  247.000,2,    8.700,2,   23.230,2, -999.000,9,    1.610,2,    3.622,2,    1.673,2, -999.000,9, 2139.300,2, 2283.400,2
           NA,     A14,    103,   1,-999.0,      26,  2,19950210,1946, -43.5045,   -9.0050,  3728,  398.500,    4.982,   34.236,2,   34.236,2,  252.800,2,  253.300,2,   12.000,2,   25.920,2, -999.000,9,    1.770,2,    3.576,2,    1.641,2, -999.000,9, 2147.900,2, 2285.500,2
           NA,     A14,    103,   1,-999.0,      25,  2,19950210,1946, -43.5045,   -9.0050,  3728,  497.000,    4.248,   34.209,2,   34.207,2,  256.100,2,  258.400,2,   15.800,2,   27.400,2, -999.000,9,    1.860,2,    3.420,2,    1.545,2, -999.000,9, 2155.100,2, 2287.300,2
           NA,     A14,    103,   1,-999.0,      24,  2,19950210,1946, -43.5045,   -9.0050,  3728,  596.900,    3.815,   34.215,2,   34.211,2,  256.200,2,  254.800,2,   20.600,2,   28.710,2, -999.000,9,    1.970,2,    3.023,2,    1.351,2, -999.000,9, 2163.700,2, 2290.000,2
           NA,     A14,    103,   1,-999.0,      23,  2,19950210,1946, -43.5045,   -9.0050,  3728,  695.500,    3.416,   34.213,2,   34.211,2,  252.800,2,  251.500,2,   24.600,2,   29.890,2, -999.000,9,    2.020,2,    2.836,2,    1.263,2, -999.000,9, 2171.600,2, 2293.500,2
           NA,     A14,    103,   1,-999.0,      22,  2,19950210,1946, -43.5045,   -9.0050,  3728,  795.800,    3.159,   34.237,2,   34.236,2,  243.600,2,  242.000,2,   30.500,2,   30.960,2, -999.000,9,    2.100,2,    2.357,2,    1.041,2, -999.000,9, 2182.600,2, 2297.500,2
           NA,     A14,    103,   1,-999.0,      21,  2,19950210,1946, -43.5045,   -9.0050,  3728,  896.100,    2.973,   34.264,2,   34.263,2,  231.800,2,  232.400,2,   35.300,2,   31.840,2, -999.000,9,    2.180,2,    1.941,2,    0.859,2, -999.000,9, 2191.900,2, 2300.400,2
           NA,     A14,    103,   1,-999.0,      20,  2,19950210,1946, -43.5045,   -9.0050,  3728,  995.500,    2.836,   34.304,2,   34.303,2,  215.700,2,  220.700,2,   40.800,2,   32.730,2, -999.000,9,    2.220,2,    1.548,2,    0.674,2, -999.000,9, -999.000,9, 2308.300,2
           NA,     A14,    103,   1,-999.0,      19,  2,19950210,1946, -43.5045,   -9.0050,  3728,  996.300,    2.835,   34.305,2,   34.302,2,  215.700,2,  220.500,2,   41.300,2,   32.840,2, -999.000,9, -999.000,9,    1.524,2,    0.689,2, -999.000,9, 2203.600,2, 2315.900,2
           NA,     A14,    103,   1,-999.0,      18,  2,19950210,1946, -43.5045,   -9.0050,  3728, 1094.600,    2.737,   34.366,2,   34.364,2,  203.700,2,  206.300,2,   49.000,2,   33.670,2, -999.000,9,    2.290,2,    1.028,2,    0.472,2, -999.000,9, 2216.100,2, 2316.800,2
           NA,     A14,    103,   1,-999.0,      17,  2,19950210,1946, -43.5045,   -9.0050,  3728, 1196.800,    2.700,   34.429,2,   34.426,2,  193.800,2,  193.700,2,   55.500,2,   34.140,2, -999.000,9,    2.330,2,    0.675,2,    0.312,2, -999.000,9, 2226.800,2, 2323.800,2
           NA,     A14,    103,   1,-999.0,      16,  2,19950210,1946, -43.5045,   -9.0050,  3728, 1395.300,    2.640,   34.537,2,   34.536,2,  181.700,2,  182.100,2,   64.700,2,   33.950,2, -999.000,9,    2.310,2,    0.335,2,    0.188,2, -999.000,9, 2239.300,2, 2333.200,2
           NA,     A14,    103,   1,-999.0,      15,  2,19950210,1946, -43.5045,   -9.0050,  3728, 1594.900,    2.670,   34.648,2,   34.646,2,  183.900,2,  184.300,2,   66.200,2,   32.280,2, -999.000,9,    2.200,2,    0.129,2,    0.068,2, -999.000,9, 2237.600,2, 2340.300,2
           NA,     A14,    103,   1,-999.0,      14,  2,19950210,1946, -43.5045,   -9.0050,  3728, 1795.600,    2.603,   34.697,2,   34.695,2,  186.600,2,  187.100,2,   68.900,2,   31.500,2, -999.000,9,    2.140,2,    0.105,2,    0.060,2, -999.000,9, 2239.200,2, 2342.800,2
           NA,     A14,    103,   1,-999.0,      12,  2,19950210,1946, -43.5045,   -9.0050,  3728, 2196.900,    2.493,   34.766,2,   34.764,2,  198.700,2,  198.000,2,   69.500,2,   29.590,2, -999.000,9,    2.010,2,    0.051,2,    0.041,2, -999.000,9, 2232.500,2, 2345.900,2
           NA,     A14,    103,   1,-999.0,      11,  2,19950210,1946, -43.5045,   -9.0050,  3728, 2394.900,    2.364,   34.785,2,   34.783,2,  204.800,2,  203.700,2,   71.200,2,   28.870,2, -999.000,9,    1.960,2,    0.040,2,    0.026,2, -999.000,9, 2230.600,2, 2348.500,2
           NA,     A14,    103,   1,-999.0,      10,  2,19950210,1946, -43.5045,   -9.0050,  3728, 2596.300,    2.214,   34.787,2,   34.787,2,  206.300,2,  206.400,2,   75.200,2,   28.870,2, -999.000,9,    1.970,2,    0.040,2,    0.027,2, -999.000,9, 2231.800,2, 2350.900,2
           NA,     A14,    103,   1,-999.0,       9,  2,19950210,1946, -43.5045,   -9.0050,  3728, 2795.600,    2.102,   34.798,2,   34.796,2,  211.600,2,  213.300,2,   75.000,2,   28.210,2, -999.000,9,    1.930,2,    0.024,2,    0.015,2, -999.000,9, 2229.100,2, 2350.600,2
           NA,     A14,    103,   1,-999.0,       8,  2,19950210,1946, -43.5045,   -9.0050,  3728, 2997.600,    1.990,   34.801,2,   34.799,2,  216.500,2,  216.900,2,   76.500,2,   27.970,2, -999.000,9,    1.900,2,    0.018,2,    0.024,2, -999.000,9, 2228.700,2, 2353.000,2
           NA,     A14,    103,   1,-999.0,       7,  2,19950210,1946, -43.5045,   -9.0050,  3728, 3196.000,    1.704,   34.779,2,   34.777,2,  214.600,2,  214.000,2,   88.000,2,   29.210,2, -999.000,9,    1.990,2,    0.034,2,    0.021,2, -999.000,9, 2238.500,2, 2359.000,2
           NA,     A14,    103,   1,-999.0,       6,  2,19950210,1946, -43.5045,   -9.0050,  3728, 3397.400,    1.487,   34.769,2,   34.767,2,  216.300,2,  217.000,2,   93.700,2,   29.800,2, -999.000,9,    2.030,2,    0.031,2,    0.022,2, -999.000,9, 2244.700,2, 2363.000,2
           NA,     A14,    103,   1,-999.0,       5,  2,19950210,1946, -43.5045,   -9.0050,  3728, 3585.400,    1.400,   34.764,2,   34.761,2,  217.700,2,  216.800,2,   97.500,2,   29.730,2, -999.000,9,    2.040,2,    0.026,2,    0.021,2, -999.000,9, 2246.100,2, 2364.400,2
           NA,     A14,    103,   1,-999.0,       4,  2,19950210,1946, -43.5045,   -9.0050,  3728, 3699.500,    1.358,   34.761,2,   34.761,2,  218.000,2,  216.900,2,   99.000,2,   29.900,2, -999.000,9,    2.060,2,    0.026,2,    0.021,2, -999.000,9, 2247.100,2, 2366.800,2
           NA,     A14,    103,   1,-999.0,       3,  2,19950210,1946, -43.5045,   -9.0050,  3728, 3772.500,    1.347,   34.761,2,   34.761,2,  218.100,2,  219.700,2,   99.200,2,   30.020,2, -999.000,9,    2.050,2,    0.026,2,    0.025,2, -999.000,9, 2247.100,6, 2366.400,2
           NA,     A14,    102,   1,-999.0,      32,  2,19950210,1352, -43.0025,   -9.0035,  4282,    5.300,   10.990,   34.398,2,   34.401,2,  277.300,2,  278.100,2,    0.200,2,    9.620,2, -999.000,9,    0.760,2,    3.604,2,    1.758,2, -999.000,9, 2073.700,6, 2290.800,2
           NA,     A14,    102,   1,-999.0,      31,  2,19950210,1352, -43.0025,   -9.0035,  4282,   70.400,   10.933,   34.397,2,   34.398,2,  282.100,2,  278.500,2,    0.400,2,    9.710,2, -999.000,9,    0.760,2,    3.642,2,    1.790,2, -999.000,9, -999.000,9, -999.000,9
           NA,     A14,    102,   1,-999.0,      30,  2,19950210,1352, -43.0025,   -9.0035,  4282,  120.700,    9.003,   34.456,2,   34.458,2,  279.700,2,  275.200,2,    3.000,2,   13.430,2, -999.000,9,    1.020,2,    3.866,2,    1.909,2, -999.000,9, -999.000,9, -999.000,9
           NA,     A14,    102,   1,-999.0,      29,  2,19950210,1352, -43.0025,   -9.0035,  4282,  196.200,    7.440,   34.418,2,   34.421,2,  251.400,2,  254.000,2,    5.600,2,   19.130,2, -999.000,9,    1.340,2,    3.695,2,    1.774,2, -999.000,9, -999.000,9, -999.000,9
           NA,     A14,    102,   1,-999.0,      28,  2,19950210,1352, -43.0025,   -9.0035,  4282,  294.100,    5.968,   34.316,2,   34.317,2,  246.100,2,  244.000,2,    9.400,2,   23.930,2, -999.000,9,    1.660,2,    3.465,2,    1.602,2, -999.000,9, -999.000,9, -999.000,9
           NA,     A14,    102,   1,-999.0,      27,  2,19950210,1352, -43.0025,   -9.0035,  4282,  397.900,    4.782,   34.230,2,   34.229,2,  251.600,2,  252.500,2,   13.000,2,   26.600,2, -999.000,9,    1.820,2,    3.437,2,    1.560,2, -999.000,9, -999.000,9, -999.000,9
           NA,     A14,    102,   1,-999.0,      26,  2,19950210,1352, -43.0025,   -9.0035,  4282,  495.800,    4.283,   34.214,2,   34.213,2,  255.600,2,  254.900,2,   15.900,2,   27.560,2, -999.000,9,    1.890,2,    3.275,2,    1.464,2, -999.000,9, -999.000,9, -999.000,9
           NA,     A14,    102,   1,-999.0,      25,  2,19950210,1352, -43.0025,   -9.0035,  4282,  595.000,    3.765,   34.202,2,   34.199,2,  254.900,2,  256.200,2,   19.700,2,   28.860,2, -999.000,9,    1.960,2,    3.209,2,    1.448,2, -999.000,9, -999.000,9, -999.000,9
           NA,     A14,    102,   1,-999.0,      24,  2,19950210,1352, -43.0025,   -9.0035,  4282,  694.300,    3.388,   34.213,2,   34.212,2,  246.900,2,  249.600,2,   24.700,2,   29.940,2, -999.000,9,    2.040,2,    2.803,2,    1.233,2, -999.000,9, -999.000,9, -999.000,9
           NA,     A14,    102,   1,-999.0,      23,  2,19950210,1352, -43.0025,   -9.0035,  4282,  795.600,    3.136,   34.245,2,   34.246,2,  234.900,2,  237.400,2,   30.500,2,   31.070,2, -999.000,9,    2.130,2,    2.163,2,    0.956,2, -999.000,9, -999.000,9, -999.000,9
           NA,     A14,    102,   1,-999.0,      22,  2,19950210,1352, -43.0025,   -9.0035,  4282,  997.000,    2.780,   34.325,2,   34.324,2,  217.200,2,  215.100,2,   42.900,2,   32.790,2, -999.000,9,    2.250,2,    1.360,2,    0.606,2, -999.000,9, -999.000,9, -999.000,9
           NA,     A14,    102,   1,-999.0,      21,  2,19950210,1352, -43.0025,   -9.0035,  4282, 1193.500,    2.696,   34.425,2,   34.423,2,  193.000,2,  194.200,2,   53.400,2,   33.680,2, -999.000,9,    2.320,2,    0.680,2,    0.311,2, -999.000,9, -999.000,9, -999.000,9
           NA,     A14,    102,   1,-999.0,      20,  2,19950210,1352, -43.0025,   -9.0035,  4282, 1394.700,    2.692,   34.556,2,   34.555,2,  182.600,2,  182.300,2,   61.000,2,   33.200,2, -999.000,9,    2.290,2,    0.234,2,    0.115,2, -999.000,9, -999.000,9, -999.000,9
           NA,     A14,    102,   1,-999.0,      19,  2,19950210,1352, -43.0025,   -9.0035,  4282, 1595.200,    2.675,   34.638,2,   34.635,2,  184.000,2,  183.800,2,   63.400,2,   32.130,2, -999.000,9,    2.210,2,    0.129,2,    0.070,2, -999.000,9, -999.000,9, -999.000,9
           NA,     A14,    102,   1,-999.0,      18,  2,19950210,1352, -43.0025,   -9.0035,  4282, 1595.400,    2.675,   34.639,2,   34.635,2,  184.000,2,  182.600,2,   63.500,2,   32.180,2, -999.000,9,    2.210,2,    0.121,2,    0.069,2, -999.000,9, -999.000,9, -999.000,9
           NA,     A14,    102,   1,-999.0,      17,  2,19950210,1352, -43.0025,   -9.0035,  4282, 1794.800,    2.646,   34.708,2,   34.708,2,  191.000,2,  189.300,2,   64.000,2,   30.690,2, -999.000,9,    2.090,2,    0.074,2,    0.046,2, -999.000,9, -999.000,9, -999.000,9
           NA,     A14,    102,   1,-999.0,      16,  2,19950210,1352, -43.0025,   -9.0035,  4282, 1995.700,    2.584,   34.752,2,   34.750,2,  195.600,2,  195.400,2,   65.100,2,   29.550,2, -999.000,9,    2.010,2,    0.057,2, -999.000,9, -999.000,9, -999.000,9, -999.000,9
           NA,     A14,    102,   1,-999.0,      15,  2,19950210,1352, -43.0025,   -9.0035,  4282, 2295.800,    2.394,   34.784,2,   34.782,2,  203.200,2,  203.200,2,   68.100,2,   28.480,2, -999.000,9,    1.940,2,    0.043,2,    0.024,2, -999.000,9, -999.000,9, -999.000,9
           NA,     A14,    102,   1,-999.0,      14,  2,19950210,1352, -43.0025,   -9.0035,  4282, 2596.000,    2.188,   34.801,2,   34.802,2,  212.900,2,  213.900,2,   70.000,6,   27.560,6, -999.000,9,    1.880,6,    0.025,2,    0.017,2, -999.000,9, -999.000,9, -999.000,9
           NA,     A14,    102,   1,-999.0,      13,  2,19950210,1352, -43.0025,   -9.0035,  4282, 2795.000,    2.134,   34.809,2,   34.808,2,  216.700,2,  217.300,2,   69.500,6,   27.110,2, -999.000,9,    1.860,6,    0.017,2,    0.015,2, -999.000,9, -999.000,9, -999.000,9
           NA,     A14,    102,   1,-999.0,      12,  2,19950210,1352, -43.0025,   -9.0035,  4282, 2795.400,    2.133,   34.810,2,   34.808,2,  216.700,2,  217.400,2,   69.500,2,   27.220,2, -999.000,9,    1.860,2,    0.016,2,    0.011,2, -999.000,9, -999.000,9, -999.000,9
           NA,     A14,    102,   1,-999.0,      11,  2,19950210,1352, -43.0025,   -9.0035,  4282, 2996.500,    1.941,   34.807,2,   34.805,2,  223.000,2,  221.500,2,   73.800,6,   27.220,6, -999.000,9,    1.860,6,    0.011,2,    0.006,2, -999.000,9, -999.000,9, -999.000,9
           NA,     A14,    102,   1,-999.0,      10,  2,19950210,1352, -43.0025,   -9.0035,  4282, 3196.000,    1.649,   34.780,2,   34.778,2,  219.900,2,  215.500,2,   86.200,6,   28.770,2, -999.000,9,    1.970,6,    0.025,2,    0.021,2, -999.000,9, -999.000,9, -999.000,9
           NA,     A14,    102,   1,-999.0,       9,  2,19950210,1352, -43.0025,   -9.0035,  4282, 3386.800,    1.513,   34.775,2,   34.772,2,  217.900,2,  216.500,2,   89.800,2,   29.070,2, -999.000,9,    1.990,6,    0.022,2,    0.009,2, -999.000,9, -999.000,9, -999.000,9
           NA,     A14,    102,   1,-999.0,       8,  2,19950210,1352, -43.0025,   -9.0035,  4282, 3596.900,    1.370,   34.764,2,   34.761,2,  218.900,2,  217.800,2,   95.500,2,   29.530,2, -999.000,9,    2.020,2,    0.018,2,    0.015,2, -999.000,9, -999.000,9, -999.000,9
           NA,     A14,    102,   1,-999.0,       7,  2,19950210,1352, -43.0025,   -9.0035,  4282, 3796.800,    1.321,   34.761,2,   34.760,2,  218.400,2,  218.200,2,   98.100,2,   29.720,2, -999.000,9,    2.040,6,    0.018,2,    0.014,2, -999.000,9, -999.000,9, -999.000,9
           NA,     A14,    102,   1,-999.0,       6,  2,19950210,1352, -43.0025,   -9.0035,  4282, 3996.100,    1.312,   34.758,2,   34.757,2,  219.600,2,  218.400,2,   98.200,2,   29.820,2, -999.000,9,    2.050,2,    0.017,2,    0.013,2, -999.000,9, -999.000,9, -999.000,9
           NA,     A14,    102,   1,-999.0,       5,  2,19950210,1352, -43.0025,   -9.0035,  4282, 4198.400,    1.303,   34.756,2,   34.754,2,  219.900,2,  218.400,2,   99.200,2,   29.820,2, -999.000,9,    2.060,2,    0.013,2,    0.010,2, -999.000,9, -999.000,9, -999.000,9
           NA,     A14,    102,   1,-999.0,       4,  2,19950210,1352, -43.0025,   -9.0035,  4282, 4300.100,    1.290,   34.757,2,   34.754,2,  220.300,2,  218.600,2,   99.900,2,   29.940,2, -999.000,9,    2.050,2,    0.013,2,    0.012,2, -999.000,9, -999.000,9, -999.000,9
           NA,     A14,    102,   1,-999.0,       3,  2,19950210,1352, -43.0025,   -9.0035,  4282, 4340.300,    1.280,   34.755,2,   34.756,2,  220.600,2,  218.400,2,   99.600,2,   29.930,2, -999.000,9,    2.050,2,    0.009,2,    0.009,2, -999.000,9, -999.000,9, -999.000,9