BOTTLE,20213527JOAExport
EXPOCODE,SECT_ID,STNNBR,CASTNO,SAMPNO,BTLNBR,BTLNBR_FLAG_W,DATE,TIME,LATITUDE,LONGITUDE,DEPTH,CTDPRS,CTDTMP,CTDSAL,CTDSAL_FLAG_W,SALNTY,SALNTY_FLAG_W,CTDOXY,CTDOXY_FLAG_W,OXYGEN,OXYGEN_FLAG_W,SILCAT,SILCAT_FLAG_W,NITRAT,NITRAT_FLAG_W,NITRIT,NITRIT_FLAG_W,PHSPHT,PHSPHT_FLAG_W,CFC-11,CFC-11_FLAG_W,CFC-12,CFC-12_FLAG_W,SF6,SF6_FLAG_W,TCARBN,TCARBN_FLAG_W,ALKALI,ALKALI_FLAG_W
,,,,,,,,,,,,DB,DEG C,PSS-78,,PSS-78,,UMOL/KG,,UMOL/KG,,UMOL/KG,,UMOL/KG,,UMOL/KG,,UMOL/KG,,PMOL/KG,,PMOL/KG,,FMOL/KG,,UMOL/KG,,UMOL/KG
           NA,     A14,     55,   1,-999.0,      32,  2,19950129,1658, -19.5007,   -9.0008,  4125,    4.000,   24.443,   36.472,2, -999.000,3,  202.000,2, -999.000,3,    0.850,2,    0.020,2, -999.000,9,    0.240,2,    1.949,2,    1.018,2, -999.000,9, 2074.600,6, 2403.200,2
           NA,     A14,     55,   1,-999.0,      31,  2,19950129,1658, -19.5007,   -9.0008,  4125,   47.400,   22.661,   36.335,2, -999.000,3,  219.600,2,  222.500,2,    0.780,2,    0.110,2, -999.000,9,    0.220,2,    2.100,2,    1.056,2, -999.000,9, 2069.300,2, 2398.000,2
           NA,     A14,     55,   1,-999.0,      30,  2,19950129,1658, -19.5007,   -9.0008,  4125,  108.300,   19.354,   36.156,2, -999.000,3,  206.900,2, -999.000,3,    1.210,2,    1.520,2, -999.000,9,    0.350,2,    2.314,2,    1.145,2, -999.000,9, 2085.000,2, 2382.100,2
           NA,     A14,     55,   1,-999.0,      29,  2,19950129,1658, -19.5007,   -9.0008,  4125,  196.900,   14.522,   35.340,2, -999.000,3,  191.000,2,  193.600,2,    3.450,2,    9.910,2, -999.000,9,    0.740,2,    2.567,2,    1.240,2, -999.000,9, 2108.000,2, 2330.400,2
           NA,     A14,     55,   1,-999.0,      28,  2,19950129,1658, -19.5007,   -9.0008,  4125,  294.900,   11.415,   34.967,2,   34.968,2,  163.400,2,  167.800,2,    7.120,2,   18.650,2, -999.000,9,    1.270,2,    1.960,2,    0.902,2, -999.000,9, 2147.700,2, 2311.500,2
           NA,     A14,     55,   1,-999.0,      27,  2,19950129,1658, -19.5007,   -9.0008,  4125,  395.500,    9.091,   34.719,2, -999.000,3,  165.900,2,  168.700,2,   11.300,2,   22.970,2, -999.000,9,    1.570,2,    1.454,2,    0.662,2, -999.000,9, 2163.900,2, 2304.800,2
           NA,     A14,     55,   1,-999.0,      26,  2,19950129,1658, -19.5007,   -9.0008,  4125,  527.200,    6.625,   34.532,2,   34.533,2,  139.900,2,  145.800,2,   19.580,2,   31.530,2, -999.000,9,    2.100,2,    0.659,2,    0.312,2, -999.000,9, 2202.300,2, 2300.100,2
           NA,     A14,     55,   1,-999.0,      25,  2,19950129,1658, -19.5007,   -9.0008,  4125,  596.800,    5.767,   34.478,2,   34.479,2,  142.400,2,  141.900,2,   23.910,2,   33.910,2, -999.000,9,    2.260,2,    0.346,2,    0.167,2, -999.000,9, 2212.400,2, 2302.500,2
           NA,     A14,     55,   1,-999.0,      24,  2,19950129,1658, -19.5007,   -9.0008,  4125,  695.600,    4.820,   34.448,2,   34.450,2,  145.600,2,  146.500,2,   29.890,2,   35.240,2, -999.000,9,    2.360,2,    0.122,2,    0.059,2, -999.000,9, 2220.100,2, 2306.500,2
           NA,     A14,     55,   1,-999.0,      23,  2,19950129,1658, -19.5007,   -9.0008,  4125,  795.400,    4.241,   34.461,2,   34.460,2,  159.600,2,  161.900,2,   34.210,2,   34.300,2, -999.000,9,    2.330,2,    0.043,2,    0.024,2, -999.000,9, 2217.900,2, 2310.300,2
           NA,     A14,     55,   1,-999.0,      22,  2,19950129,1658, -19.5007,   -9.0008,  4125,  995.500,    3.849,   34.542,2,   34.544,2,  171.800,2,  171.000,2,   37.020,2,   33.080,2, -999.000,9,    2.240,2,    0.010,2,    0.007,2, -999.000,9, 2218.100,2, 2318.300,2
           NA,     A14,     55,   1,-999.0,      21,  2,19950129,1658, -19.5007,   -9.0008,  4125, 1195.000,    3.700,   34.663,2,   34.661,2,  179.600,2,  180.800,2,   36.660,2,   30.810,2, -999.000,9,    2.080,2,    0.003,2, -999.000,9, -999.000,9, 2214.200,2, 2323.000,2
           NA,     A14,     55,   1,-999.0,      19,  2,19950129,1658, -19.5007,   -9.0008,  4125, 1395.200,    3.660,   34.769,2,   34.770,2,  195.300,2,  195.600,2,   33.500,2,   28.120,2, -999.000,9,    1.890,2,    0.001,2,   -0.001,2, -999.000,9, 2204.700,2, 2325.900,2
           NA,     A14,     55,   1,-999.0,      20,  2,19950129,1658, -19.5007,   -9.0008,  4125, 1395.800,    3.660,   34.769,2,   34.767,2,  195.300,2,  194.700,2,   33.350,2,   28.130,2, -999.000,9,    1.900,2,    0.000,2,    0.001,2, -999.000,9, -999.000,9, 2326.200,2
           NA,     A14,     55,   1,-999.0,      18,  2,19950129,1658, -19.5007,   -9.0008,  4125, 1595.900,    3.439,   34.834,2,   34.833,2,  215.900,2,  216.000,2,   33.070,2,   25.270,2, -999.000,9,    1.700,2,    0.002,2,    0.001,2, -999.000,9, 2196.700,2, 2331.000,2
           NA,     A14,     55,   1,-999.0,      17,  2,19950129,1658, -19.5007,   -9.0008,  4125, 1797.100,    3.269,   34.889,2,   34.887,2,  233.400,2,  232.600,2,   31.270,2,   23.150,2, -999.000,9,    1.550,2,    0.002,2,    0.003,2, -999.000,9, 2187.700,2, 2332.100,2
           NA,     A14,     55,   1,-999.0,      16,  2,19950129,1658, -19.5007,   -9.0008,  4125, 1996.500,    3.066,   34.898,2,   34.892,2,  240.000,2,  238.600,2,   33.140,2,   22.620,2, -999.000,9,    1.510,2, -999.000,9,    0.009,2, -999.000,9, 2182.500,2, 2333.100,2
           NA,     A14,     55,   1,-999.0,      15,  2,19950129,1658, -19.5007,   -9.0008,  4125, 2194.600,    2.861,   34.899,2,   34.899,2,  242.700,2,  241.400,2,   35.660,2,   22.440,2, -999.000,9,    1.500,2,    0.004,2,    0.006,2, -999.000,9, 2186.100,2, 2336.500,2
           NA,     A14,     55,   1,-999.0,      14,  2,19950129,1658, -19.5007,   -9.0008,  4125, 2396.900,    2.692,   34.892,2,   34.889,2,  242.600,2,  243.000,2,   39.410,2,   22.750,2, -999.000,9,    1.530,2,    0.002,2, -999.000,9, -999.000,9, 2189.400,2, 2339.200,2
           NA,     A14,     55,   1,-999.0,      13,  2,19950129,1658, -19.5007,   -9.0008,  4125, 2595.000,    2.571,   34.887,2,   34.884,2,  242.400,2,  241.200,2,   42.690,2,   22.970,2, -999.000,9,    1.540,2,    0.002,2,    0.003,2, -999.000,9, 2192.000,2, 2342.400,2
           NA,     A14,     55,   1,-999.0,      12,  2,19950129,1658, -19.5007,   -9.0008,  4125, 2794.800,    2.460,   34.884,2,   34.880,2,  241.700,2,  241.100,2,   45.700,2,   23.230,2, -999.000,9,    1.560,2,    0.002,2,    0.001,2, -999.000,9, -999.000,9, 2344.200,2
           NA,     A14,     55,   1,-999.0,      11,  2,19950129,1658, -19.5007,   -9.0008,  4125, 2796.100,    2.453,   34.883,2,   34.880,2,  241.700,2,  241.000,2,   45.780,2,   23.220,2, -999.000,9,    1.560,2,    0.001,2, -999.000,9, -999.000,9, 2195.300,2, 2344.800,2
           NA,     A14,     55,   1,-999.0,      10,  2,19950129,1658, -19.5007,   -9.0008,  4125, 2995.100,    2.401,   34.881,2,   34.885,2,  240.100,2,  240.500,2,   47.640,2,   23.260,2, -999.000,9,    1.570,2,    0.007,2,    0.005,2, -999.000,9, 2198.200,2, 2346.200,2
           NA,     A14,     55,   1,-999.0,       9,  2,19950129,1658, -19.5007,   -9.0008,  4125, 3195.000,    2.382,   34.880,2,   34.879,2,  239.900,2,  239.900,2,   48.570,2,   23.390,2, -999.000,9,    1.590,2,    0.000,2,   -0.001,2, -999.000,9, 2200.400,2, 2350.000,2
           NA,     A14,     55,   1,-999.0,       8,  2,19950129,1658, -19.5007,   -9.0008,  4125, 3396.600,    2.380,   34.881,2,   34.880,2,  238.900,2,  239.200,2,   49.120,2,   23.570,2, -999.000,9,    1.580,2,    0.000,2,   -0.001,2, -999.000,9, 2202.500,2, 2351.100,2
           NA,     A14,     55,   1,-999.0,       7,  2,19950129,1658, -19.5007,   -9.0008,  4125, 3595.700,    2.367,   34.883,2,   34.883,2,  237.500,2,  237.600,2,   49.810,2,   23.430,2, -999.000,9,    1.570,2,    0.006,2,    0.005,2, -999.000,9, 2204.700,2, 2355.900,2
           NA,     A14,     55,   1,-999.0,       6,  2,19950129,1658, -19.5007,   -9.0008,  4125, 3795.300,    2.375,   34.887,2,   34.884,2,  236.500,2,  236.000,2,   50.130,2,   23.470,2, -999.000,9,    1.580,2,    0.003,2, -999.000,9, -999.000,9, 2207.300,2, 2358.300,2
           NA,     A14,     55,   1,-999.0,       5,  2,19950129,1658, -19.5007,   -9.0008,  4125, 3996.500,    2.391,   34.888,2,   34.885,2,  235.900,2,  235.500,2,   50.510,2,   23.420,2, -999.000,9,    1.580,2,    0.005,2,    0.002,2, -999.000,9, 2210.600,2, 2360.300,2
           NA,     A14,     55,   1,-999.0,       4,  2,19950129,1658, -19.5007,   -9.0008,  4125, 4097.700,    2.400,   34.888,2,   34.885,2,  235.800,2,  235.400,2,   50.750,2,   23.510,2, -999.000,9,    1.580,2,    0.002,2, -999.000,9, -999.000,9, -999.000,9, 2360.700,2
           NA,     A14,     55,   1,-999.0,       3,  2,19950129,1658, -19.5007,   -9.0008,  4125, 4165.300,    2.406,   34.890,2,   34.886,2,  234.100,2,  236.000,2,   50.750,2,   23.420,2, -999.000,9,    1.570,2,   -0.001,2, -999.000,9, -999.000,9, 2207.600,6, 2359.700,2
           NA,     A14,     54,   1,-999.0,      32,  2,19950129,1134, -19.0013,   -9.0010,  4164,    3.200,   24.430,   36.598,2,   36.600,2,  202.800,2, -999.000,3,    0.860,2,    0.020,2, -999.000,9,    0.220,2,    1.938,2,    0.993,2, -999.000,9, -999.000,9, 2411.500,2
           NA,     A14,     54,   1,-999.0,      31,  2,19950129,1134, -19.0013,   -9.0010,  4164,   45.400,   22.755,   36.415,2, -999.000,3,  217.700,2,  220.800,2,    0.790,2,    0.020,2, -999.000,9,    0.220,2,    2.090,2,    1.061,2, -999.000,9, -999.000,9, -999.000,9
           NA,     A14,     54,   1,-999.0,      30,  2,19950129,1134, -19.0013,   -9.0010,  4164,  120.400,   19.474,   36.208,2, -999.000,3,  215.100,2,  212.400,2,    1.140,2,    1.990,2, -999.000,9,    0.360,2,    2.290,2,    1.163,2, -999.000,9, -999.000,9, -999.000,9
           NA,     A14,     54,   1,-999.0,      29,  2,19950129,1134, -19.0013,   -9.0010,  4164,  196.200,   13.846,   35.245,2,   35.243,2,  190.200,2,  187.900,2,    3.920,2,   11.770,2, -999.000,9,    0.840,2,    2.518,2,    1.205,2, -999.000,9, -999.000,9, -999.000,9
           NA,     A14,     54,   1,-999.0,      28,  2,19950129,1134, -19.0013,   -9.0010,  4164,  295.800,   11.311,   34.954,2,   34.954,2,  173.900,2,  169.900,2,    7.350,2,   18.720,2, -999.000,9,    1.270,2,    1.973,2,    0.899,2, -999.000,9, -999.000,9, -999.000,9
           NA,     A14,     54,   1,-999.0,      27,  2,19950129,1134, -19.0013,   -9.0010,  4164,  390.800,    9.300,   34.742,2,   34.746,2,  157.500,2,  159.300,2,   11.410,2,   23.620,2, -999.000,9,    1.620,2,    1.463,2,    0.666,2, -999.000,9, -999.000,9, -999.000,9
           NA,     A14,     54,   1,-999.0,      26,  2,19950129,1134, -19.0013,   -9.0010,  4164,  595.500,    5.487,   34.468,2,   34.470,2,  147.000,2,  146.900,2,   25.470,2,   33.820,2, -999.000,9,    2.260,2,    0.256,2,    0.129,2, -999.000,9, -999.000,9, -999.000,9
           NA,     A14,     54,   1,-999.0,      25,  2,19950129,1134, -19.0013,   -9.0010,  4164,  696.100,    4.728,   34.451,2,   34.452,2,  154.500,2,  154.100,2,   30.470,2,   34.400,2, -999.000,9,    2.330,2,    0.083,2,    0.038,2, -999.000,9, -999.000,9, -999.000,9
           NA,     A14,     54,   1,-999.0,      24,  2,19950129,1134, -19.0013,   -9.0010,  4164,  894.200,    3.980,   34.498,2,   34.498,2,  166.200,2,  165.300,2,   36.750,2,   33.890,2, -999.000,9,    2.310,2,    0.016,2,    0.011,2, -999.000,9, -999.000,9, -999.000,9
           NA,     A14,     54,   1,-999.0,      23,  2,19950129,1134, -19.0013,   -9.0010,  4164,  996.200,    3.833,   34.550,2,   34.552,2,  171.700,2,  170.200,2,   37.330,2,   33.040,2, -999.000,9,    2.250,2,    0.011,2,    0.010,2, -999.000,9, -999.000,9, -999.000,9
           NA,     A14,     54,   1,-999.0,      22,  2,19950129,1134, -19.0013,   -9.0010,  4164, 1195.800,    3.700,   34.655,2,   34.660,2,  185.900,2,  181.700,2,   36.980,2,   30.740,2, -999.000,9,    2.110,2,    0.007,2,    0.002,2, -999.000,9, -999.000,9, -999.000,9
           NA,     A14,     54,   1,-999.0,      21,  2,19950129,1134, -19.0013,   -9.0010,  4164, 1395.000,    3.642,   34.766,2,   34.767,2,  200.300,2,  199.000,2,   34.130,2,   27.750,2, -999.000,9,    1.890,2,    0.003,2,    0.003,2, -999.000,9, -999.000,9, -999.000,9
           NA,     A14,     54,   1,-999.0,      20,  2,19950129,1134, -19.0013,   -9.0010,  4164, 1594.400,    3.401,   34.831,2,   34.833,2,  220.000,2,  217.200,2,   33.930,2,   25.110,2, -999.000,9,    1.710,2,    0.003,2,    0.005,2, -999.000,9, -999.000,9, -999.000,9
           NA,     A14,     54,   1,-999.0,      19,  2,19950129,1134, -19.0013,   -9.0010,  4164, 1794.300,    3.253,   34.896,2,   34.897,2,  234.500,2,  234.800,2,   30.790,2,   22.790,2, -999.000,9,    1.530,2,    0.001,2,    0.006,2, -999.000,9, -999.000,9, -999.000,9
           NA,     A14,     54,   1,-999.0,      18,  2,19950129,1134, -19.0013,   -9.0010,  4164, 1795.600,    3.253,   34.895,2,   34.896,2,  234.600,2,  235.000,2,   30.650,2,   22.790,2, -999.000,9,    1.530,2,    0.002,2,    0.004,2, -999.000,9, -999.000,9, -999.000,9
           NA,     A14,     54,   1,-999.0,      17,  2,19950129,1134, -19.0013,   -9.0010,  4164, 1995.900,    3.095,   34.908,2,   34.907,2,  241.400,2,  241.000,2,   31.450,2,   22.190,2, -999.000,9,    1.480,2,    0.001,2,   -0.003,2, -999.000,9, -999.000,9, -999.000,9
           NA,     A14,     54,   1,-999.0,      16,  2,19950129,1134, -19.0013,   -9.0010,  4164, 2195.600,    2.911,   34.910,2,   34.912,2,  245.500,2,  244.200,2,   33.670,2,   21.840,2, -999.000,9,    1.460,2, -999.000,9, -999.000,3, -999.000,9, -999.000,9, -999.000,9
           NA,     A14,     54,   1,-999.0,      15,  2,19950129,1134, -19.0013,   -9.0010,  4164, 2395.400,    2.775,   34.902,2,   34.896,2,  243.900,2,  243.900,2,   36.820,2,   22.150,2, -999.000,9,    1.490,2,    0.005,2,    0.007,2, -999.000,9, -999.000,9, -999.000,9
           NA,     A14,     54,   1,-999.0,      14,  2,19950129,1134, -19.0013,   -9.0010,  4164, 2596.200,    2.614,   34.892,2,   34.892,2,  242.900,2,  242.700,2,   41.190,2,   22.730,2, -999.000,9,    1.530,2,    0.002,2,    0.003,2, -999.000,9, -999.000,9, -999.000,9
           NA,     A14,     54,   1,-999.0,      13,  2,19950129,1134, -19.0013,   -9.0010,  4164, 2795.700,    2.505,   34.886,2,   34.886,2,  242.600,2,  242.200,2,   44.500,2,   22.860,2, -999.000,9,    1.550,2,    0.001,2,    0.003,2, -999.000,9, -999.000,9, -999.000,9
           NA,     A14,     54,   1,-999.0,      12,  2,19950129,1134, -19.0013,   -9.0010,  4164, 2996.500,    2.431,   34.881,2,   34.881,2,  241.800,2,  241.400,2,   46.810,2,   23.090,6, -999.000,9,    1.570,6,    0.002,2,    0.006,2, -999.000,9, -999.000,9, -999.000,9
           NA,     A14,     54,   1,-999.0,      10,  2,19950129,1134, -19.0013,   -9.0010,  4164, 3196.400,    2.392,   34.882,2,   34.882,2,  240.200,2,  240.100,2,   48.520,2,   23.190,2, -999.000,9,    1.570,2,    0.000,2,   -0.001,2, -999.000,9, -999.000,9, -999.000,9
           NA,     A14,     54,   1,-999.0,      11,  2,19950129,1134, -19.0013,   -9.0010,  4164, 3196.700,    2.393,   34.881,2,   34.880,2,  240.100,2,  240.500,2,   48.360,2,   23.180,2, -999.000,9,    1.580,2,    0.000,2, -999.000,9, -999.000,9, -999.000,9, -999.000,9
           NA,     A14,     54,   1,-999.0,       9,  2,19950129,1134, -19.0013,   -9.0010,  4164, 3395.800,    2.383,   34.883,2,   34.883,2,  238.900,2,  239.100,2,   49.150,2,   23.230,2, -999.000,9,    1.570,2,    0.003,2,    0.003,2, -999.000,9, -999.000,9, -999.000,9
           NA,     A14,     54,   1,-999.0,       8,  2,19950129,1134, -19.0013,   -9.0010,  4164, 3598.000,    2.375,   34.886,2,   34.884,2,  236.900,2,  237.100,2,   49.930,6,   23.360,2, -999.000,9,    1.580,6,    0.004,2,   -0.002,2, -999.000,9, -999.000,9, -999.000,9
           NA,     A14,     54,   1,-999.0,       7,  2,19950129,1134, -19.0013,   -9.0010,  4164, 3796.900,    2.389,   34.886,2,   34.887,2,  236.200,2,  236.100,2,   50.170,6,   23.330,2, -999.000,9,    1.580,6,    0.018,2,    0.010,2, -999.000,9, -999.000,9, -999.000,9
           NA,     A14,     54,   1,-999.0,       6,  2,19950129,1134, -19.0013,   -9.0010,  4164, 3897.700,    2.399,   34.887,2,   34.888,2,  236.500,2,  236.300,2,   50.030,2,   23.380,2, -999.000,9,    1.580,2,    0.019,2,    0.014,2, -999.000,9, -999.000,9, -999.000,9
           NA,     A14,     54,   1,-999.0,       5,  2,19950129,1134, -19.0013,   -9.0010,  4164, 3998.100,    2.410,   34.888,2,   34.886,2,  236.500,2,  236.300,2,   49.810,2,   23.430,2, -999.000,9,    1.580,2,    0.006,2,   -0.001,2, -999.000,9, -999.000,9, -999.000,9
           NA,     A14,     54,   1,-999.0,       4,  2,19950129,1134, -19.0013,   -9.0010,  4164, 4098.000,    2.421,   34.887,2,   34.888,2,  236.400,2,  235.900,2,   50.130,2,   23.390,2, -999.000,9,    1.580,2,    0.004,2,    0.003,2, -999.000,9, -999.000,9, -999.000,9
           NA,     A14,     54,   1,-999.0,       3,  2,19950129,1134, -19.0013,   -9.0010,  4164, 4208.000,    2.428,   34.889,2,   34.889,2,  235.700,2,  235.300,2,   50.450,2,   23.350,2, -999.000,9,    1.580,2,    0.003,2,    0.002,2, -999.000,9, -999.000,9, -999.000,9