BOTTLE,20213527JOAExport
EXPOCODE,SECT_ID,STNNBR,CASTNO,SAMPNO,BTLNBR,BTLNBR_FLAG_W,DATE,TIME,LATITUDE,LONGITUDE,DEPTH,CTDPRS,CTDTMP,CTDSAL,CTDSAL_FLAG_W,SALNTY,SALNTY_FLAG_W,CTDOXY,CTDOXY_FLAG_W,OXYGEN,OXYGEN_FLAG_W,SILCAT,SILCAT_FLAG_W,NITRAT,NITRAT_FLAG_W,NITRIT,NITRIT_FLAG_W,PHSPHT,PHSPHT_FLAG_W,CFC-11,CFC-11_FLAG_W,CFC-12,CFC-12_FLAG_W,SF6,SF6_FLAG_W,TCARBN,TCARBN_FLAG_W,ALKALI,ALKALI_FLAG_W
,,,,,,,,,,,,DB,DEG C,PSS-78,,PSS-78,,UMOL/KG,,UMOL/KG,,UMOL/KG,,UMOL/KG,,UMOL/KG,,UMOL/KG,,PMOL/KG,,PMOL/KG,,FMOL/KG,,UMOL/KG,,UMOL/KG
           NA,     A14,     32,   1,-999.0,      31,  2,19950124,1533,  -7.9997,   -8.5560,  4157,    2.900,   26.084,   36.374,2, -999.000,3,  200.700,2,  204.500,2,    1.200,2,    0.020,2, -999.000,9,    0.140,2,    1.787,2,    0.934,2, -999.000,9, -999.000,9, -999.000,9
           NA,     A14,     32,   1,-999.0,      32,  2,19950124,1533,  -7.9997,   -8.5560,  4157,    2.900,   26.088,   36.374,2,   36.370,2,  200.700,2,  204.600,2,    1.120,2,    0.020,2, -999.000,9,    0.140,2,    1.784,2,    0.929,2, -999.000,9, 2054.700,6, 2391.000,2
           NA,     A14,     32,   1,-999.0,      30,  2,19950124,1533,  -7.9997,   -8.5560,  4157,   47.000,   23.808,   36.468,2, -999.000,3,  206.800,2, -999.000,3,    1.040,2,    0.020,2, -999.000,9,    0.150,2,    1.956,2,    0.993,2, -999.000,9, -999.000,9, -999.000,9
           NA,     A14,     32,   1,-999.0,      29,  2,19950124,1533,  -7.9997,   -8.5560,  4157,   72.500,   20.090,   36.269,2, -999.000,3,  215.600,2, -999.000,3,    2.120,2,    5.050,2, -999.000,9,    0.460,2,    1.898,2,    0.942,2, -999.000,9, -999.000,9, -999.000,9
           NA,     A14,     32,   1,-999.0,      28,  2,19950124,1533,  -7.9997,   -8.5560,  4157,  115.900,   14.048,   35.421,2, -999.000,3,  114.900,2, -999.000,3,    7.770,2,   22.570,2, -999.000,9,    1.470,2,    1.182,2,    0.582,2, -999.000,9, -999.000,9, -999.000,9
           NA,     A14,     32,   1,-999.0,      27,  2,19950124,1533,  -7.9997,   -8.5560,  4157,  196.800,   11.013,   35.041,2,   35.040,2,   92.500,2,   91.000,2,   11.420,2,   27.800,2, -999.000,9,    1.770,2,    0.670,2,    0.345,2, -999.000,9, -999.000,9, -999.000,9
           NA,     A14,     32,   1,-999.0,      26,  2,19950124,1533,  -7.9997,   -8.5560,  4157,  297.000,    9.695,   34.891,2,   34.892,2,   78.600,2,   78.800,2,   14.380,6,   31.800,6, -999.000,9,    2.010,6,    0.365,2,    0.193,2, -999.000,9, -999.000,9, -999.000,9
           NA,     A14,     32,   1,-999.0,      25,  2,19950124,1533,  -7.9997,   -8.5560,  4157,  395.300,    8.563,   34.778,2,   34.776,2,   73.100,2,   76.200,2,   17.320,2,   34.880,2, -999.000,9,    2.200,2,    0.175,2,    0.098,2, -999.000,9, -999.000,9, -999.000,9
           NA,     A14,     32,   1,-999.0,      24,  2,19950124,1533,  -7.9997,   -8.5560,  4157,  495.800,    7.438,   34.670,2,   34.670,2,   80.600,2, -999.000,3,   20.400,2,   36.280,2, -999.000,9,    2.330,2,    0.075,2,    0.047,2, -999.000,9, -999.000,9, -999.000,9
           NA,     A14,     32,   1,-999.0,      23,  2,19950124,1533,  -7.9997,   -8.5560,  4157,  595.600,    6.172,   34.565,2,   34.570,2,   94.600,2, -999.000,3,   24.550,2,   36.860,2, -999.000,9,    2.430,2,    0.031,2,    0.016,2, -999.000,9, -999.000,9, -999.000,9
           NA,     A14,     32,   1,-999.0,      22,  2,19950124,1533,  -7.9997,   -8.5560,  4157,  696.300,    5.542,   34.524,2,   34.529,2,  107.200,2, -999.000,3,   27.130,2,   36.910,2, -999.000,9,    2.450,2,    0.020,2,    0.014,2, -999.000,9, -999.000,9, -999.000,9
           NA,     A14,     32,   1,-999.0,      21,  2,19950124,1533,  -7.9997,   -8.5560,  4157,  795.700,    4.772,   34.479,2,   34.479,2,  126.500,2, -999.000,3,   30.620,2,   35.320,2, -999.000,9,    2.390,2,    0.043,2,    0.025,2, -999.000,9, -999.000,9, -999.000,9
           NA,     A14,     32,   1,-999.0,      20,  2,19950124,1533,  -7.9997,   -8.5560,  4157,  995.200,    4.158,   34.570,2,   34.572,2,  157.100,2,  159.800,2,   33.950,2,   33.440,2, -999.000,9,    2.280,2,    0.006,2,    0.003,2, -999.000,9, -999.000,9, -999.000,9
           NA,     A14,     32,   1,-999.0,      19,  2,19950124,1533,  -7.9997,   -8.5560,  4157, 1196.300,    4.143,   34.707,2,   34.708,2,  171.300,2,  173.400,2,   30.710,2,   30.630,2, -999.000,9,    2.080,2,    0.002,2,    0.000,2, -999.000,9, -999.000,9, -999.000,9
           NA,     A14,     32,   1,-999.0,      18,  2,19950124,1533,  -7.9997,   -8.5560,  4157, 1396.900,    4.078,   34.846,2,   34.843,2,  203.300,2,  199.000,2,   25.800,2,   26.170,2, -999.000,9,    1.780,2,    0.004,2,    0.005,2, -999.000,9, -999.000,9, -999.000,9
           NA,     A14,     32,   1,-999.0,      17,  2,19950124,1533,  -7.9997,   -8.5560,  4157, 1594.600,    3.879,   34.920,2,   34.920,2,  224.300,2,  221.800,2,   23.310,2,   23.110,2, -999.000,9,    1.560,2,    0.004,2, -999.000,9, -999.000,9, -999.000,9, -999.000,9
           NA,     A14,     32,   1,-999.0,      16,  2,19950124,1533,  -7.9997,   -8.5560,  4157, 1795.900,    3.662,   34.936,2,   34.935,2,  233.700,2,  231.100,2,   24.230,2,   22.350,2, -999.000,9,    1.490,2,    0.004,2,    0.003,2, -999.000,9, -999.000,9, -999.000,9
           NA,     A14,     32,   1,-999.0,      15,  2,19950124,1533,  -7.9997,   -8.5560,  4157, 1996.400,    3.424,   34.938,2, -999.000,9,  238.000,2,  243.300,2,   26.640,2,   21.860,2, -999.000,9,    1.460,2,    0.006,2,    0.012,2, -999.000,9, -999.000,9, -999.000,9
           NA,     A14,     32,   1,-999.0,      13,  2,19950124,1533,  -7.9997,   -8.5560,  4157, 2295.100,    3.104,   34.928,2,   34.928,2,  238.100,2,  237.200,2,   31.960,2,   22.210,2, -999.000,9,    1.480,2,    0.002,2,    0.001,2, -999.000,9, -999.000,9, -999.000,9
           NA,     A14,     32,   1,-999.0,      14,  2,19950124,1533,  -7.9997,   -8.5560,  4157, 2295.800,    3.106,   34.927,2,   34.926,2,  238.000,2,  237.200,2,   31.960,2,   22.170,2, -999.000,9,    1.490,2,    0.000,2,    0.003,2, -999.000,9, -999.000,9, -999.000,9
           NA,     A14,     32,   1,-999.0,      12,  2,19950124,1533,  -7.9997,   -8.5560,  4157, 2596.500,    2.818,   34.916,2,   34.913,2,  237.500,2,  237.400,2,   37.950,2,   22.520,2, -999.000,9,    1.510,2,    0.000,2,    0.000,2, -999.000,9, -999.000,9, -999.000,9
           NA,     A14,     32,   1,-999.0,      11,  2,19950124,1533,  -7.9997,   -8.5560,  4157, 2796.700,    2.709,   34.908,2,   34.910,2,  238.400,2,  238.500,2,   40.190,2,   22.560,2, -999.000,9,    1.520,2,    0.003,2,    0.000,2, -999.000,9, -999.000,9, -999.000,9
           NA,     A14,     32,   1,-999.0,      10,  2,19950124,1533,  -7.9997,   -8.5560,  4157, 2994.800,    2.573,   34.901,2,   34.906,2,  236.900,2,  237.500,2,   43.300,2,   22.780,2, -999.000,9,    1.540,2,    0.002,2,    0.003,2, -999.000,9, -999.000,9, -999.000,9
           NA,     A14,     32,   1,-999.0,       9,  2,19950124,1533,  -7.9997,   -8.5560,  4157, 3196.100,    2.482,   34.897,2,   34.894,2,  236.800,2,  237.400,2,   45.800,2,   22.860,2, -999.000,9,    1.560,2,    0.001,2,    0.000,2, -999.000,9, -999.000,9, -999.000,9
           NA,     A14,     32,   1,-999.0,       8,  2,19950124,1533,  -7.9997,   -8.5560,  4157, 3396.400,    2.402,   34.891,2,   34.889,2,  237.200,2,  237.600,2,   48.030,2,   23.040,2, -999.000,9,    1.560,2,    0.001,2,    0.001,2, -999.000,9, -999.000,9, -999.000,9
           NA,     A14,     32,   1,-999.0,       7,  2,19950124,1533,  -7.9997,   -8.5560,  4157, 3596.700,    2.387,   34.891,2,   34.888,2,  237.500,2,  237.900,2,   48.480,2,   23.020,6, -999.000,9, -999.000,9,    0.005,2,    0.004,2, -999.000,9, -999.000,9, -999.000,9
           NA,     A14,     32,   1,-999.0,       6,  2,19950124,1533,  -7.9997,   -8.5560,  4157, 3797.500,    2.374,   34.888,2,   34.888,2,  238.300,2,  238.400,2,   49.200,2,   22.990,2, -999.000,9,    1.560,2, -999.000,9, -999.000,9, -999.000,9, -999.000,9, -999.000,9
           NA,     A14,     32,   1,-999.0,       5,  2,19950124,1533,  -7.9997,   -8.5560,  4157, 3997.200,    2.375,   34.887,2,   34.883,2,  238.600,2,  238.800,2,   49.470,2,   22.940,2, -999.000,9,    1.570,2,    0.000,2, -999.000,9, -999.000,9, -999.000,9, -999.000,9
           NA,     A14,     32,   1,-999.0,       4,  2,19950124,1533,  -7.9997,   -8.5560,  4157, 4148.600,    2.382,   34.887,2,   34.884,2,  239.400,2,  239.000,2,   49.830,2,   23.020,2, -999.000,9,    1.560,2,    0.001,2,    0.005,2, -999.000,9, -999.000,9, -999.000,9
           NA,     A14,     32,   1,-999.0,       3,  2,19950124,1533,  -7.9997,   -8.5560,  4157, 4201.700,    2.386,   34.887,2,   34.885,2,  239.300,2,  240.600,2,   49.470,2,   23.020,2, -999.000,9,    1.570,2,    0.002,2,    0.008,2, -999.000,9, -999.000,9, -999.000,9
           NA,     A14,     31,   1,-999.0,      32,  2,19950124,1008,  -7.4977,   -8.4445,  3792,    3.400,   26.236,   36.276,2,   36.274,2,  202.800,2,  205.400,2,    1.450,2,    0.020,2, -999.000,9,    0.160,2,    1.744,2,    0.926,2, -999.000,9, 2045.000,6, 2385.100,6
           NA,     A14,     31,   1,-999.0,      30,  2,19950124,1008,  -7.4977,   -8.4445,  3792,   41.500,   25.545,   36.347,2, -999.000,3,  208.800,2,  211.400,2,    1.370,2,    0.070,2, -999.000,9,    0.200,2,    1.836,2,    0.952,2, -999.000,9, 2055.700,2, 2392.900,2
           NA,     A14,     31,   1,-999.0,      31,  2,19950124,1008,  -7.4977,   -8.4445,  3792,   42.000,   25.587,   36.343,2,   36.343,2,  208.800,2,  207.900,2,    1.370,2,    0.020,2, -999.000,9,    0.180,2,    1.810,2,    0.949,2, -999.000,9, -999.000,9, 2391.700,2
           NA,     A14,     31,   1,-999.0,      29,  2,19950124,1008,  -7.4977,   -8.4445,  3792,   97.700,   15.670,   35.617,2,   35.616,2,  132.400,2, -999.000,9,    6.180,2,   20.640,2, -999.000,9,    1.340,2,    1.355,2,    0.677,2, -999.000,9, 2178.200,2, 2340.600,2
           NA,     A14,     31,   1,-999.0,      28,  2,19950124,1008,  -7.4977,   -8.4445,  3792,  146.700,   12.283,   35.207,2, -999.000,3,   89.600,2, -999.000,3,    9.750,2,   26.360,2, -999.000,9,    1.690,2,    0.866,2,    0.439,2, -999.000,9, 2202.400,2, 2319.700,2
           NA,     A14,     31,   1,-999.0,      27,  2,19950124,1008,  -7.4977,   -8.4445,  3792,  196.800,   10.808,   35.032,2, -999.000,3,   81.800,2,   84.800,2,   11.990,2,   29.170,2, -999.000,9,    1.840,2,    0.581,2,    0.305,2, -999.000,9, 2209.200,2, 2311.900,2
           NA,     A14,     31,   1,-999.0,      26,  2,19950124,1008,  -7.4977,   -8.4445,  3792,  297.200,    9.486,   34.870,2,   34.869,2,   77.800,2, -999.000,3,   14.980,2,   32.680,2, -999.000,9,    2.040,2,    0.322,2,    0.172,2, -999.000,9, 2222.400,2, 2304.800,2
           NA,     A14,     31,   1,-999.0,      25,  2,19950124,1008,  -7.4977,   -8.4445,  3792,  396.200,    8.519,   34.769,2,   34.769,2,   77.800,2,   78.500,2,   17.300,2,   34.560,2, -999.000,9,    2.170,2,    0.189,2,    0.101,2, -999.000,9, 2227.900,2, 2303.100,2
           NA,     A14,     31,   1,-999.0,      24,  2,19950124,1008,  -7.4977,   -8.4445,  3792,  496.600,    7.624,   34.685,2,   34.686,2,   84.200,2,   82.600,2,   19.790,2,   36.080,2, -999.000,9,    2.290,2,    0.087,2,    0.046,2, -999.000,9, 2234.100,2, 2299.800,2
           NA,     A14,     31,   1,-999.0,      23,  2,19950124,1008,  -7.4977,   -8.4445,  3792,  595.900,    6.366,   34.581,2,   34.581,2,   93.000,2,   96.100,2,   23.940,2,   37.260,2, -999.000,9,    2.430,2,    0.031,2,    0.021,2, -999.000,9, 2237.100,2, 2301.500,2
           NA,     A14,     31,   1,-999.0,      22,  2,19950124,1008,  -7.4977,   -8.4445,  3792,  696.800,    5.272,   34.507,2,   34.514,2,  110.700,2, -999.000,3,   28.340,2,   37.090,2, -999.000,9,    2.450,2, -999.000,9, -999.000,9, -999.000,9, 2232.600,2, 2302.900,2
           NA,     A14,     31,   1,-999.0,      21,  2,19950124,1008,  -7.4977,   -8.4445,  3792,  795.300,    4.730,   34.480,2,   34.484,2,  144.600,2,  145.300,2,   30.910,2,   35.510,2, -999.000,9,    2.370,2,    0.044,2,    0.025,2, -999.000,9, 2222.000,2, 2305.700,2
           NA,     A14,     31,   1,-999.0,      20,  2,19950124,1008,  -7.4977,   -8.4445,  3792,  995.500,    4.152,   34.566,2,   34.567,2,  162.100,2,  161.800,2,   34.230,2,   33.590,2, -999.000,9,    2.270,2,    0.009,2,    0.010,2, -999.000,9, 2220.700,2, 2313.200,2
           NA,     A14,     31,   1,-999.0,      19,  2,19950124,1008,  -7.4977,   -8.4445,  3792, 1196.400,    4.144,   34.733,2,   34.733,2,  178.700,2,  177.300,2,   29.920,2,   29.970,2, -999.000,9,    2.020,2,    0.002,2, -999.000,9, -999.000,9, 2210.000,2, 2318.500,2
           NA,     A14,     31,   1,-999.0,      18,  2,19950124,1008,  -7.4977,   -8.4445,  3792, 1394.800,    4.130,   34.856,2,   34.858,2,  200.300,2,  199.000,2,   25.190,2,   26.170,2, -999.000,9,    1.760,2,    0.008,2,    0.003,2, -999.000,9, 2194.600,2, 2319.000,2
           NA,     A14,     31,   1,-999.0,      16,  2,19950124,1008,  -7.4977,   -8.4445,  3792, 1595.800,    3.896,   34.918,2,   34.919,2,  222.400,2,  222.200,2,   23.280,2,   23.210,2, -999.000,9,    1.540,2,    0.005,2,    0.003,2, -999.000,9, 2178.700,2, 2320.900,2
           NA,     A14,     31,   1,-999.0,      15,  2,19950124,1008,  -7.4977,   -8.4445,  3792, 1795.700,    3.718,   34.938,2,   34.939,2,  232.500,2,  232.200,2,   23.450,2,   22.190,2, -999.000,9,    1.470,2,    0.005,2,    0.002,2, -999.000,9, 2177.400,2, 2324.300,2
           NA,     A14,     31,   1,-999.0,      14,  2,19950124,1008,  -7.4977,   -8.4445,  3792, 1996.700,    3.459,   34.943,2,   34.942,2,  240.300,2,  240.100,2,   27.350,2,   21.700,2, -999.000,9,    1.450,2,    0.005,2,    0.002,2, -999.000,9, 2176.100,2, 2327.100,2
           NA,     A14,     31,   1,-999.0,      13,  2,19950124,1008,  -7.4977,   -8.4445,  3792, 2196.200,    3.240,   34.935,2,   34.933,2,  240.700,2,  240.000,2,   29.260,2,   21.800,2, -999.000,9,    1.440,2,    0.003,2,   -0.003,2, -999.000,9, -999.000,9, 2330.500,2
           NA,     A14,     31,   1,-999.0,      12,  2,19950124,1008,  -7.4977,   -8.4445,  3792, 2196.400,    3.238,   34.935,2,   34.934,2,  240.700,2,  239.800,2,   29.270,2,   21.840,2, -999.000,9,    1.440,2,    0.001,2, -999.000,9, -999.000,9, 2179.100,2, 2329.800,2
           NA,     A14,     31,   1,-999.0,      11,  2,19950124,1008,  -7.4977,   -8.4445,  3792, 2397.400,    3.012,   34.924,2,   34.922,2,  240.100,2,  239.700,2,   33.580,2,   22.160,2, -999.000,9,    1.460,2,    0.002,2,    0.003,2, -999.000,9, 2185.300,2, 2334.600,2
           NA,     A14,     31,   1,-999.0,      10,  2,19950124,1008,  -7.4977,   -8.4445,  3792, 2596.900,    2.853,   34.916,2,   34.917,2,  238.900,2,  238.600,2,   36.740,2,   22.430,2, -999.000,9,    1.500,2,    0.006,2, -999.000,9, -999.000,9, 2189.700,2, 2340.000,2
           NA,     A14,     31,   1,-999.0,       9,  2,19950124,1008,  -7.4977,   -8.4445,  3792, 2795.700,    2.745,   34.910,2,   34.909,2,  238.600,2,  238.200,2,   39.570,2,   22.610,2, -999.000,9,    1.510,2,    0.001,2,    0.000,2, -999.000,9, 2190.300,2, 2344.400,2
           NA,     A14,     31,   1,-999.0,       8,  2,19950124,1008,  -7.4977,   -8.4445,  3792, 2996.600,    2.613,   34.903,2,   34.902,2,  237.500,2,  237.500,2,   42.530,2,   22.830,2, -999.000,9,    1.530,2,   -0.002,2,    0.000,2, -999.000,9, 2195.100,2, 2346.100,2
           NA,     A14,     31,   1,-999.0,       7,  2,19950124,1008,  -7.4977,   -8.4445,  3792, 3196.500,    2.469,   34.896,2,   34.898,2,  236.800,2,  237.200,2,   45.740,2,   22.970,2, -999.000,9,    1.550,2,    0.004,2,    0.000,2, -999.000,9, 2200.900,2, 2348.500,2
           NA,     A14,     31,   1,-999.0,       6,  2,19950124,1008,  -7.4977,   -8.4445,  3792, 3396.600,    2.395,   34.892,2,   34.891,2,  237.200,2,  237.500,2,   47.710,2,   23.020,2, -999.000,9,    1.540,2,    0.011,2,    0.010,2, -999.000,9, 2203.000,2, 2352.400,2
           NA,     A14,     31,   1,-999.0,       5,  2,19950124,1008,  -7.4977,   -8.4445,  3792, 3597.800,    2.371,   34.889,2,   34.888,2,  237.700,2,  238.100,2,   48.600,2,   23.110,2, -999.000,9,    1.540,2,    0.001,2,   -0.003,2, -999.000,9, 2203.900,2, 2354.600,2
           NA,     A14,     31,   1,-999.0,       4,  2,19950124,1008,  -7.4977,   -8.4445,  3792, 3797.900,    2.380,   34.890,2,   34.888,2,  238.100,2,  238.400,2,   48.780,2,   23.020,2, -999.000,9,    1.550,2,    0.000,2,    0.004,2, -999.000,9, -999.000,9, 2354.900,2
           NA,     A14,     31,   1,-999.0,       3,  2,19950124,1008,  -7.4977,   -8.4445,  3792, 3824.700,    2.379,   34.889,2,   34.887,2,  238.300,2,  239.400,2,   49.050,2,   23.030,2, -999.000,9,    1.550,2,    0.002,2,    0.002,2, -999.000,9, 2203.200,6, 2354.100,2