BOTTLE,20213527JOAExport
EXPOCODE,SECT_ID,STNNBR,CASTNO,SAMPNO,BTLNBR,BTLNBR_FLAG_W,DATE,TIME,LATITUDE,LONGITUDE,DEPTH,CTDPRS,CTDTMP,CTDSAL,CTDSAL_FLAG_W,SALNTY,SALNTY_FLAG_W,CTDOXY,CTDOXY_FLAG_W,OXYGEN,OXYGEN_FLAG_W,SILCAT,SILCAT_FLAG_W,NITRAT,NITRAT_FLAG_W,NITRIT,NITRIT_FLAG_W,PHSPHT,PHSPHT_FLAG_W,CFC-11,CFC-11_FLAG_W,CFC-12,CFC-12_FLAG_W,SF6,SF6_FLAG_W,TCARBN,TCARBN_FLAG_W,ALKALI,ALKALI_FLAG_W
,,,,,,,,,,,,DB,DEG C,PSS-78,,PSS-78,,UMOL/KG,,UMOL/KG,,UMOL/KG,,UMOL/KG,,UMOL/KG,,UMOL/KG,,PMOL/KG,,PMOL/KG,,FMOL/KG,,UMOL/KG,,UMOL/KG
           NA,     A14,     42,   1,-999.0,      32,  2,19950126,2154, -12.9990,   -8.9992,  4207,    3.800,   24.518,   36.618,2,   36.616,2,  209.600,2,  210.000,2,    1.060,2,    0.020,2, -999.000,9,    0.180,2,    1.889,2,    1.010,2, -999.000,9, -999.000,9, 2406.900,2
           NA,     A14,     42,   1,-999.0,      31,  2,19950126,2154, -12.9990,   -8.9992,  4207,   36.900,   23.369,   36.683,2,   36.679,2,  218.600,2,  217.600,2,    0.910,2,    0.020,2, -999.000,9,    0.170,2,    1.999,2,    1.027,2, -999.000,9, -999.000,9, -999.000,9
           NA,     A14,     42,   1,-999.0,      30,  2,19950126,2154, -12.9990,   -8.9992,  4207,   95.200,   18.445,   36.170,2,   36.168,2,  225.400,2, -999.000,3,    1.950,2,    7.240,2, -999.000,9,    0.590,2,    2.223,2,    1.108,2, -999.000,9, -999.000,9, -999.000,9
           NA,     A14,     42,   1,-999.0,      29,  2,19950126,2154, -12.9990,   -8.9992,  4207,  147.300,   14.810,   35.514,2,   35.513,2,  139.700,2, -999.000,3,    4.940,2,   17.580,2, -999.000,9,    1.160,2,    1.879,2,    0.905,2, -999.000,9, -999.000,9, -999.000,9
           NA,     A14,     42,   1,-999.0,      28,  2,19950126,2154, -12.9990,   -8.9992,  4207,  198.000,   12.294,   35.163,2, -999.000,3,   82.400,2,   83.200,2,    8.870,2,   26.020,2, -999.000,9,    1.660,2,    1.114,2,    0.548,2, -999.000,9, -999.000,9, -999.000,9
           NA,     A14,     42,   1,-999.0,      27,  2,19950126,2154, -12.9990,   -8.9992,  4207,  395.000,    8.078,   34.724,2,   34.726,2,   82.100,2, -999.000,3,   17.760,2,   34.140,2, -999.000,9,    2.170,2,    0.128,2,    0.074,2, -999.000,9, -999.000,9, -999.000,9
           NA,     A14,     42,   1,-999.0,      26,  2,19950126,2154, -12.9990,   -8.9992,  4207,  595.700,    5.692,   34.508,2,   34.512,2,  131.300,2,  131.600,2,   24.920,6,   34.780,6, -999.000,9,    2.260,6,    0.077,2,    0.041,2, -999.000,9, -999.000,9, -999.000,9
           NA,     A14,     42,   1,-999.0,      25,  2,19950126,2154, -12.9990,   -8.9992,  4207,  694.700,    4.982,   34.471,2,   34.472,2,  146.200,2,  145.600,2,   28.780,6,   34.870,6, -999.000,9,    2.270,6,    0.047,2,    0.028,2, -999.000,9, -999.000,9, -999.000,9
           NA,     A14,     42,   1,-999.0,      24,  2,19950126,2154, -12.9990,   -8.9992,  4207,  695.500,    4.972,   34.471,2,   34.476,2,  146.300,2,  145.200,2,   28.750,2,   34.850,2, -999.000,9,    2.290,2,    0.048,2,    0.028,2, -999.000,9, -999.000,9, -999.000,9
           NA,     A14,     42,   1,-999.0,      23,  2,19950126,2154, -12.9990,   -8.9992,  4207,  795.500,    4.514,   34.476,2,   34.477,2,  150.900,2,  150.100,2,   32.160,2,   34.950,2, -999.000,9,    2.320,2,    0.019,2,    0.015,2, -999.000,9, -999.000,9, -999.000,9
           NA,     A14,     42,   1,-999.0,      22,  2,19950126,2154, -12.9990,   -8.9992,  4207,  994.000,    4.032,   34.557,2,   34.559,2,  159.000,2,  159.000,2,   35.570,2,   33.860,2, -999.000,9,    2.260,2,    0.005,2,    0.010,2, -999.000,9, -999.000,9, -999.000,9
           NA,     A14,     42,   1,-999.0,      21,  2,19950126,2154, -12.9990,   -8.9992,  4207, 1195.500,    3.830,   34.697,2,   34.697,2,  176.100,2,  177.200,2,   34.210,2,   30.650,2, -999.000,9,    2.030,2,    0.002,2,    0.001,2, -999.000,9, -999.000,9, -999.000,9
           NA,     A14,     42,   1,-999.0,      20,  2,19950126,2154, -12.9990,   -8.9992,  4207, 1395.700,    3.747,   34.819,2,   34.819,2,  199.800,2,  198.900,2,   30.240,6,   26.830,2, -999.000,9,    1.780,6,    0.000,2, -999.000,9, -999.000,9, -999.000,9, -999.000,9
           NA,     A14,     42,   1,-999.0,      19,  2,19950126,2154, -12.9990,   -8.9992,  4207, 1597.100,    3.609,   34.895,2,   34.899,2,  218.700,2,  218.900,2,   27.350,2,   23.910,2, -999.000,9,    1.580,2,    0.001,2,    0.003,2, -999.000,9, -999.000,9, -999.000,9
           NA,     A14,     42,   1,-999.0,      18,  2,19950126,2154, -12.9990,   -8.9992,  4207, 1796.300,    3.456,   34.915,2,   34.915,2,  228.300,2,  227.500,2,   27.930,2,   22.950,2, -999.000,9,    1.500,2,    0.003,2,    0.004,2, -999.000,9, -999.000,9, -999.000,9
           NA,     A14,     42,   1,-999.0,      17,  2,19950126,2154, -12.9990,   -8.9992,  4207, 1996.600,    3.295,   34.928,2,   34.928,2,  236.600,2,  237.900,2,   28.660,2,   22.130,2, -999.000,9,    1.430,2,    0.002,2,   -0.001,2, -999.000,9, -999.000,9, -999.000,9
           NA,     A14,     42,   1,-999.0,      16,  2,19950126,2154, -12.9990,   -8.9992,  4207, 2196.500,    3.046,   34.920,2,   34.919,2,  241.000,2,  240.800,2,   32.500,6,   22.140,6, -999.000,9,    1.430,6,    0.000,2, -999.000,9, -999.000,9, -999.000,9, -999.000,9
           NA,     A14,     42,   1,-999.0,      15,  2,19950126,2154, -12.9990,   -8.9992,  4207, 2396.200,    2.856,   34.909,2,   34.907,2,  237.300,2,  239.000,2,   36.860,6,   22.520,6, -999.000,9,    1.470,6,    0.004,2,    0.008,2, -999.000,9, -999.000,9, -999.000,9
           NA,     A14,     42,   1,-999.0,      14,  2,19950126,2154, -12.9990,   -8.9992,  4207, 2598.200,    2.720,   34.902,2,   34.902,2,  238.700,2,  240.700,2,   39.730,2,   22.720,2, -999.000,9,    1.480,2,    0.004,2,    0.005,2, -999.000,9, -999.000,9, -999.000,9
           NA,     A14,     42,   1,-999.0,      12,  2,19950126,2154, -12.9990,   -8.9992,  4207, 2995.400,    2.523,   34.896,2,   34.895,2,  237.000,2,  237.400,2,   45.000,2,   23.010,2, -999.000,9,    1.510,2,    0.001,2,   -0.004,2, -999.000,9, -999.000,9, -999.000,9
           NA,     A14,     42,   1,-999.0,      11,  2,19950126,2154, -12.9990,   -8.9992,  4207, 2996.300,    2.522,   34.895,2,   34.895,2,  237.000,2,  237.300,2,   45.060,2,   23.010,2, -999.000,9,    1.520,2,    0.002,2,    0.001,2, -999.000,9, -999.000,9, -999.000,9
           NA,     A14,     42,   1,-999.0,      10,  2,19950126,2154, -12.9990,   -8.9992,  4207, 3196.900,    2.446,   34.891,2,   34.891,2,  237.300,2,  237.700,2,   47.340,2,   23.090,2, -999.000,9,    1.520,2,    0.004,2,    0.003,2, -999.000,9, -999.000,9, -999.000,9
           NA,     A14,     42,   1,-999.0,       9,  2,19950126,2154, -12.9990,   -8.9992,  4207, 3394.300,    2.425,   34.891,2,   34.891,2,  237.200,2,  237.100,2,   48.030,2,   23.170,2, -999.000,9,    1.520,2,    0.001,2,    0.001,2, -999.000,9, -999.000,9, -999.000,9
           NA,     A14,     42,   1,-999.0,       8,  2,19950126,2154, -12.9990,   -8.9992,  4207, 3595.400,    2.413,   34.890,2,   34.888,2,  236.600,2,  237.100,2,   48.210,6,   23.160,2, -999.000,9,    1.530,6,    0.003,2,    0.007,2, -999.000,9, -999.000,9, -999.000,9
           NA,     A14,     42,   1,-999.0,       7,  2,19950126,2154, -12.9990,   -8.9992,  4207, 3793.800,    2.401,   34.889,2,   34.892,2,  237.200,2,  237.100,2,   48.850,2,   23.120,2, -999.000,9,    1.530,2,    0.008,2,    0.006,2, -999.000,9, -999.000,9, -999.000,9
           NA,     A14,     42,   1,-999.0,       6,  2,19950126,2154, -12.9990,   -8.9992,  4207, 3895.500,    2.399,   34.889,2,   34.888,2,  237.700,2,  237.700,2,   49.780,2,   23.110,2, -999.000,9,    1.520,2,    0.002,2,   -0.003,2, -999.000,9, -999.000,9, -999.000,9
           NA,     A14,     42,   1,-999.0,       5,  2,19950126,2154, -12.9990,   -8.9992,  4207, 3997.300,    2.402,   34.888,2,   34.888,2,  238.200,2,  237.600,2,   49.910,2,   23.150,2, -999.000,9,    1.520,2,    0.001,2,   -0.002,2, -999.000,9, -999.000,9, -999.000,9
           NA,     A14,     42,   1,-999.0,       4,  2,19950126,2154, -12.9990,   -8.9992,  4207, 4096.800,    2.409,   34.889,2,   34.889,2,  238.400,2,  237.700,2,   49.730,2,   23.100,2, -999.000,9,    1.530,2,    0.000,2,   -0.003,2, -999.000,9, -999.000,9, -999.000,9
           NA,     A14,     42,   1,-999.0,       3,  2,19950126,2154, -12.9990,   -8.9992,  4207, 4150.100,    2.414,   34.889,2,   34.889,2,  238.400,2,  238.500,2,   49.860,2,   23.090,2, -999.000,9,    1.520,2,    0.001,2,    0.002,2, -999.000,9, -999.000,9, -999.000,9
           NA,     A14,     41,   1,-999.0,      32,  2,19950126,1634, -12.5030,   -8.9983,  3708,    3.000,   24.905,   36.555,2,   36.551,2,  204.000,2,  208.900,2,    0.990,2,    0.000,2, -999.000,9,    0.170,2,    1.867,2,    0.990,2, -999.000,9, -999.000,9, 2403.800,2
           NA,     A14,     41,   1,-999.0,      31,  2,19950126,1634, -12.5030,   -8.9983,  3708,   27.500,   24.675,   36.554,2,   36.550,2,  215.200,2,  209.500,2,    0.990,2,    0.130,2, -999.000,9,    0.170,2,    1.881,2,    0.994,2, -999.000,9, -999.000,9, -999.000,9
           NA,     A14,     41,   1,-999.0,      30,  2,19950126,1634, -12.5030,   -8.9983,  3708,   97.000,   19.959,   36.443,2, -999.000,3,  226.900,2, -999.000,3,    1.080,2,    3.310,2, -999.000,9,    0.400,2,    2.213,2,    1.098,2, -999.000,9, -999.000,9, -999.000,9
           NA,     A14,     41,   1,-999.0,      29,  2,19950126,1634, -12.5030,   -8.9983,  3708,  171.700,   13.432,   35.299,2,   35.301,2,  140.700,2, -999.000,3,    6.660,2,   21.030,2, -999.000,9,    1.390,2,    1.575,2,    0.751,2, -999.000,9, -999.000,9, -999.000,9
           NA,     A14,     41,   1,-999.0,      28,  2,19950126,1634, -12.5030,   -8.9983,  3708,  259.400,   10.599,   34.986,2,   34.985,2,   66.000,2,   64.000,2,   12.480,2,   30.620,2, -999.000,9,    1.980,2,    0.468,2,    0.241,2, -999.000,9, -999.000,9, -999.000,9
           NA,     A14,     41,   1,-999.0,      27,  2,19950126,1634, -12.5030,   -8.9983,  3708,  295.900,    9.697,   34.896,2,   34.894,2,   64.100,2,   67.600,2,   14.120,2,   31.920,2, -999.000,9,    2.060,2,    0.281,2,    0.143,2, -999.000,9, -999.000,9, -999.000,9
           NA,     A14,     41,   1,-999.0,      26,  2,19950126,1634, -12.5030,   -8.9983,  3708,  396.600,    8.113,   34.728,2,   34.726,2,   80.100,2,   81.300,2,   17.730,2,   34.010,2, -999.000,9,    2.210,2,    0.111,2,    0.063,2, -999.000,9, -999.000,9, -999.000,9
           NA,     A14,     41,   1,-999.0,      25,  2,19950126,1634, -12.5030,   -8.9983,  3708,  495.400,    7.003,   34.622,2,   34.623,2,   97.000,2,   95.500,2,   20.510,2,   34.970,2, -999.000,9,    2.290,2,    0.072,2,    0.037,2, -999.000,9, -999.000,9, -999.000,9
           NA,     A14,     41,   1,-999.0,      23,  2,19950126,1634, -12.5030,   -8.9983,  3708,  594.700,    6.019,   34.543,2,   34.546,2,  112.400,2,  109.900,2,   24.110,2,   35.540,2, -999.000,9,    2.350,2,    0.043,2,    0.031,2, -999.000,9, -999.000,9, -999.000,9
           NA,     A14,     41,   1,-999.0,      24,  2,19950126,1634, -12.5030,   -8.9983,  3708,  595.500,    6.021,   34.542,2,   34.546,2,  112.700,2,  109.700,2,   24.030,2,   35.540,2, -999.000,9,    2.350,2,    0.046,2,    0.028,2, -999.000,9, -999.000,9, -999.000,9
           NA,     A14,     41,   1,-999.0,      22,  2,19950126,1634, -12.5030,   -8.9983,  3708,  696.800,    5.260,   34.494,2,   34.497,2,  132.000,2,  128.900,2,   27.630,2,   35.430,2, -999.000,9,    2.360,2, -999.000,9, -999.000,9, -999.000,9, -999.000,9, -999.000,9
           NA,     A14,     41,   1,-999.0,      21,  2,19950126,1634, -12.5030,   -8.9983,  3708,  794.500,    4.598,   34.487,2,   34.492,2,  142.300,2, -999.000,3,   31.560,2,   35.200,2, -999.000,9,    2.360,2,    0.012,2,    0.008,2, -999.000,9, -999.000,9, -999.000,9
           NA,     A14,     41,   1,-999.0,      20,  2,19950126,1634, -12.5030,   -8.9983,  3708,  897.000,    4.188,   34.520,2,   34.521,2,  152.500,2,  153.900,2,   34.340,2,   34.190,2, -999.000,9,    2.300,2,    0.006,2,    0.006,2, -999.000,9, -999.000,9, -999.000,9
           NA,     A14,     41,   1,-999.0,      19,  2,19950126,1634, -12.5030,   -8.9983,  3708,  995.700,    4.032,   34.572,2,   34.571,2,  158.200,2,  157.900,2,   34.830,6,   33.390,6, -999.000,9,    2.240,6,    0.004,2, -999.000,9, -999.000,9, -999.000,9, -999.000,9
           NA,     A14,     41,   1,-999.0,      18,  2,19950126,1634, -12.5030,   -8.9983,  3708, 1196.500,    3.878,   34.721,2,   34.722,2,  177.600,2,  178.300,2,   32.200,2,   29.820,2, -999.000,9,    2.010,2,    0.005,2,    0.001,2, -999.000,9, -999.000,9, -999.000,9
           NA,     A14,     41,   1,-999.0,      17,  2,19950126,1634, -12.5030,   -8.9983,  3708, 1394.300,    3.749,   34.838,2,   34.837,2,  199.400,2,  202.500,2,   28.670,2,   26.070,2, -999.000,9,    1.740,2,    0.002,2,    0.002,2, -999.000,9, -999.000,9, -999.000,9
           NA,     A14,     41,   1,-999.0,      16,  2,19950126,1634, -12.5030,   -8.9983,  3708, 1594.500,    3.660,   34.899,2,   34.899,2,  216.100,2,  219.400,2,   26.330,6,   23.560,2, -999.000,9,    1.570,6,    0.002,2,    0.003,2, -999.000,9, -999.000,9, -999.000,9
           NA,     A14,     41,   1,-999.0,      15,  2,19950126,1634, -12.5030,   -8.9983,  3708, 1794.900,    3.467,   34.919,2,   34.916,2,  227.600,2,  227.900,2,   27.190,2,   22.850,2, -999.000,9,    1.500,2,    0.004,2, -999.000,9, -999.000,9, -999.000,9, -999.000,9
           NA,     A14,     41,   1,-999.0,      14,  2,19950126,1634, -12.5030,   -8.9983,  3708, 1995.800,    3.306,   34.928,2,   34.926,2,  233.400,2,  234.700,2,   28.570,2,   22.300,2, -999.000,9,    1.450,2,    0.006,2,    0.003,2, -999.000,9, -999.000,9, -999.000,9
           NA,     A14,     41,   1,-999.0,      13,  2,19950126,1634, -12.5030,   -8.9983,  3708, 2195.400,    3.084,   34.922,2,   34.920,2,  238.500,2,  239.000,2,   31.680,2,   22.180,2, -999.000,9,    1.440,2, -999.000,9, -999.000,9, -999.000,9, -999.000,9, -999.000,9
           NA,     A14,     41,   1,-999.0,      12,  2,19950126,1634, -12.5030,   -8.9983,  3708, 2395.300,    2.893,   34.913,2,   34.911,2,  237.700,2,  237.800,2,   35.760,2,   22.480,2, -999.000,9,    1.470,2,    0.002,2,    0.000,2, -999.000,9, -999.000,9, -999.000,9
           NA,     A14,     41,   1,-999.0,      10,  2,19950126,1634, -12.5030,   -8.9983,  3708, 2596.600,    2.729,   34.907,2,   34.904,2,  237.500,2,  237.500,2,   39.350,2,   22.710,2, -999.000,9,    1.490,2,    0.002,2,    0.000,2, -999.000,9, -999.000,9, -999.000,9
           NA,     A14,     41,   1,-999.0,      11,  2,19950126,1634, -12.5030,   -8.9983,  3708, 2597.400,    2.728,   34.906,2,   34.903,2,  237.500,2,  237.500,2,   39.030,2,   22.700,2, -999.000,9,    1.490,2,    0.001,2,    0.000,2, -999.000,9, -999.000,9, -999.000,9
           NA,     A14,     41,   1,-999.0,       9,  2,19950126,1634, -12.5030,   -8.9983,  3708, 2796.700,    2.590,   34.900,2,   34.898,2,  237.100,2,  236.900,2,   42.580,2,   22.930,2, -999.000,9,    1.510,2,    0.003,2,    0.000,2, -999.000,9, -999.000,9, -999.000,9
           NA,     A14,     41,   1,-999.0,       8,  2,19950126,1634, -12.5030,   -8.9983,  3708, 2995.900,    2.493,   34.896,2,   34.893,2,  237.200,2,  237.300,2,   44.670,2, -999.000,9, -999.000,9,    1.520,2,    0.003,2,   -0.004,2, -999.000,9, -999.000,9, -999.000,9
           NA,     A14,     41,   1,-999.0,       7,  2,19950126,1634, -12.5030,   -8.9983,  3708, 3197.600,    2.452,   34.894,2,   34.899,2,  237.600,2,  236.200,2,   45.340,2,   22.940,2, -999.000,9,    1.520,2,    0.003,2, -999.000,9, -999.000,9, -999.000,9, -999.000,9
           NA,     A14,     41,   1,-999.0,       6,  2,19950126,1634, -12.5030,   -8.9983,  3708, 3396.800,    2.445,   34.893,2,   34.891,2,  237.700,2,  237.300,2,   46.340,2,   23.070,2, -999.000,9,    1.520,2,    0.002,2,    0.003,2, -999.000,9, -999.000,9, -999.000,9
           NA,     A14,     41,   1,-999.0,       5,  2,19950126,1634, -12.5030,   -8.9983,  3708, 3597.200,    2.438,   34.892,2,   34.889,2,  237.700,2,  237.200,2,   46.750,2,   23.120,2, -999.000,9,    1.520,2,    0.001,2,    0.003,2, -999.000,9, -999.000,9, -999.000,9
           NA,     A14,     41,   1,-999.0,       4,  2,19950126,1634, -12.5030,   -8.9983,  3708, 3646.600,    2.436,   34.892,2,   34.890,2,  238.300,2,  237.200,2,   47.080,2,   23.170,2, -999.000,9,    1.520,2,    0.002,2, -999.000,9, -999.000,9, -999.000,9, -999.000,9
           NA,     A14,     41,   1,-999.0,       3,  2,19950126,1634, -12.5030,   -8.9983,  3708, 3709.700,    2.429,   34.891,2,   34.887,2,  237.400,2,  237.500,2,   46.990,2,   23.130,2, -999.000,9,    1.520,2,    0.003,2,    0.005,2, -999.000,9, -999.000,9, -999.000,9