BOTTLE,20213527JOAExport
EXPOCODE,SECT_ID,STNNBR,CASTNO,SAMPNO,BTLNBR,BTLNBR_FLAG_W,DATE,TIME,LATITUDE,LONGITUDE,DEPTH,CTDPRS,CTDTMP,CTDSAL,CTDSAL_FLAG_W,SALNTY,SALNTY_FLAG_W,CTDOXY,CTDOXY_FLAG_W,OXYGEN,OXYGEN_FLAG_W,SILCAT,SILCAT_FLAG_W,NITRAT,NITRAT_FLAG_W,NITRIT,NITRIT_FLAG_W,PHSPHT,PHSPHT_FLAG_W,CFC-11,CFC-11_FLAG_W,CFC-12,CFC-12_FLAG_W,SF6,SF6_FLAG_W,TCARBN,TCARBN_FLAG_W,ALKALI,ALKALI_FLAG_W
,,,,,,,,,,,,DB,DEG C,PSS-78,,PSS-78,,UMOL/KG,,UMOL/KG,,UMOL/KG,,UMOL/KG,,UMOL/KG,,UMOL/KG,,PMOL/KG,,PMOL/KG,,FMOL/KG,,UMOL/KG,,UMOL/KG
           NA,     A14,     61,   1,-999.0,      32,  2,19950131,0418, -22.4953,   -8.9972,  4405,    3.800,   25.934,   36.581,2,   36.578,2,  197.800,2,  200.300,2,    1.400,2,    0.020,2, -999.000,9,    0.180,2,    1.851,2,    0.989,2, -999.000,9, -999.000,9, 2410.600,2
           NA,     A14,     61,   1,-999.0,      31,  2,19950131,0418, -22.4953,   -8.9972,  4405,   37.600,   23.761,   36.432,2, -999.000,3,  212.100,2, -999.000,3,    1.400,2,    0.020,2, -999.000,9,    0.160,2,    2.084,2,    1.052,2, -999.000,9, -999.000,9, 2397.900,2
           NA,     A14,     61,   1,-999.0,      30,  2,19950131,0418, -22.4953,   -8.9972,  4405,   96.000,   20.044,   36.186,2,   36.184,2,  228.500,2,  232.200,2,    1.400,2,    0.020,2, -999.000,9,    0.160,2,    2.297,2,    1.138,2, -999.000,9, -999.000,9, 2384.600,2
           NA,     A14,     61,   1,-999.0,      29,  2,19950131,0418, -22.4953,   -8.9972,  4405,  145.500,   18.390,   35.925,2, -999.000,3,  227.200,2,  226.800,2,    1.800,2,    0.290,2, -999.000,9,    0.210,2,    2.431,2,    1.200,2, -999.000,9, -999.000,9, 2365.200,2
           NA,     A14,     61,   1,-999.0,      28,  2,19950131,0418, -22.4953,   -8.9972,  4405,  197.400,   15.407,   35.430,2, -999.000,3,  215.800,2,  212.900,2,    2.700,2,    5.260,2, -999.000,9,    0.470,2,    2.618,2,    1.274,2, -999.000,9, -999.000,9, 2334.100,2
           NA,     A14,     61,   1,-999.0,      27,  2,19950131,0418, -22.4953,   -8.9972,  4405,  296.900,   12.642,   35.090,2, -999.000,3,  204.500,2,  207.800,2,    4.800,2,   11.650,2, -999.000,9,    0.830,2,    2.483,2,    1.166,2, -999.000,9, -999.000,9, 2317.000,2
           NA,     A14,     61,   1,-999.0,      26,  2,19950131,0418, -22.4953,   -8.9972,  4405,  397.100,   10.616,   34.864,2,   34.867,2,  193.600,2,  192.800,2,    7.900,2,   17.770,2, -999.000,9,    1.200,2,    2.091,2,    0.959,2, -999.000,9, -999.000,9, 2306.100,2
           NA,     A14,     61,   1,-999.0,      25,  2,19950131,0418, -22.4953,   -8.9972,  4405,  495.400,    8.353,   34.639,2,   34.644,2,  174.700,2,  176.100,2,   13.300,2,   23.990,2, -999.000,9,    1.630,2,    1.428,2,    0.650,2, -999.000,9, -999.000,9, 2299.900,2
           NA,     A14,     61,   1,-999.0,      24,  2,19950131,0418, -22.4953,   -8.9972,  4405,  598.000,    6.517,   34.501,2, -999.000,3,  162.500,2,  165.100,2,   19.600,2,   29.660,2, -999.000,9,    1.970,2,    0.774,2,    0.373,2, -999.000,9, -999.000,9, 2297.500,2
           NA,     A14,     61,   1,-999.0,      23,  2,19950131,0418, -22.4953,   -8.9972,  4405,  696.400,    5.108,   34.426,2,   34.432,2,  165.200,2,  166.000,2,   26.600,2,   32.870,2, -999.000,9,    2.200,2,    0.398,2,    0.197,2, -999.000,9, -999.000,9, 2301.100,2
           NA,     A14,     61,   1,-999.0,      22,  2,19950131,0418, -22.4953,   -8.9972,  4405,  795.200,    4.493,   34.422,2, -999.000,3,  169.600,2,  169.700,2,   31.700,2,   33.400,2, -999.000,9,    2.230,2,    0.198,2,    0.102,2, -999.000,9, -999.000,9, 2305.700,2
           NA,     A14,     61,   1,-999.0,      21,  2,19950131,0418, -22.4953,   -8.9972,  4405,  995.000,    3.803,   34.482,2,   34.486,2,  177.700,2,  176.600,2,   38.600,2,   32.930,2, -999.000,9,    2.220,2,    0.058,2,    0.034,2, -999.000,9, -999.000,9, 2315.700,2
           NA,     A14,     61,   1,-999.0,      20,  2,19950131,0418, -22.4953,   -8.9972,  4405, 1194.500,    3.631,   34.627,2,   34.629,2,  184.500,2,  182.900,2,   38.600,2,   30.820,2, -999.000,9,    2.080,2,    0.007,2,    0.012,2, -999.000,9, -999.000,9, 2321.800,2
           NA,     A14,     61,   1,-999.0,      19,  2,19950131,0418, -22.4953,   -8.9972,  4405, 1392.500,    3.542,   34.742,2,   34.746,2,  198.200,2,  197.500,2,   36.300,2,   28.080,2, -999.000,9,    1.890,2,    0.001,2,    0.005,2, -999.000,9, -999.000,9, 2326.000,2
           NA,     A14,     61,   1,-999.0,      18,  2,19950131,0418, -22.4953,   -8.9972,  4405, 1593.300,    3.386,   34.812,2,   34.813,2,  214.900,2,  212.300,2,   35.400,2,   25.680,2, -999.000,9,    1.730,2,    0.000,2,    0.002,2, -999.000,9, -999.000,9, 2328.400,2
           NA,     A14,     61,   1,-999.0,      17,  2,19950131,0418, -22.4953,   -8.9972,  4405, 1795.300,    3.225,   34.860,2,   34.863,2,  227.500,2,  226.200,2,   34.400,2,   23.810,2, -999.000,9,    1.600,2,    0.002,2,    0.004,2, -999.000,9, -999.000,9, 2329.800,2
           NA,     A14,     61,   1,-999.0,      16,  2,19950131,0418, -22.4953,   -8.9972,  4405, 1995.400,    3.083,   34.885,2,   34.887,2,  235.400,2,  234.900,2,   34.100,2,   23.010,2, -999.000,9,    1.520,2,    0.007,2,    0.001,2, -999.000,9, -999.000,9, 2331.700,2
           NA,     A14,     61,   1,-999.0,      15,  2,19950131,0418, -22.4953,   -8.9972,  4405, 2295.500,    2.748,   34.880,2,   34.877,2,  239.900,2,  238.000,2,   40.000,6,   22.910,6, -999.000,9,    1.530,2,    0.005,2,    0.005,2, -999.000,9, -999.000,9, 2336.200,2
           NA,     A14,     61,   1,-999.0,      14,  2,19950131,0418, -22.4953,   -8.9972,  4405, 2595.800,    2.542,   34.874,2,   34.876,2,  240.100,2,  239.500,2,   44.500,2,   23.090,2, -999.000,9,    1.550,2,    0.002,2,   -0.001,2, -999.000,9, -999.000,9, 2341.600,2
           NA,     A14,     61,   1,-999.0,      13,  2,19950131,0418, -22.4953,   -8.9972,  4405, 2797.400,    2.477,   34.874,2,   34.876,2,  241.100,2,  239.900,2,   45.900,2,   23.000,2, -999.000,9,    1.550,2,    0.000,2, -999.000,9, -999.000,9, -999.000,9, 2342.700,2
           NA,     A14,     61,   1,-999.0,      12,  2,19950131,0418, -22.4953,   -8.9972,  4405, 2996.300,    2.431,   34.876,2,   34.878,2,  241.600,2,  239.200,2,   47.100,2,   23.000,2, -999.000,9,    1.550,2, -999.000,9, -999.000,9, -999.000,9, -999.000,9, 2345.000,2
           NA,     A14,     61,   1,-999.0,      11,  2,19950131,0418, -22.4953,   -8.9972,  4405, 3196.300,    2.402,   34.877,2,   34.879,2,  239.900,2,  239.600,2,   48.100,2,   23.180,2, -999.000,9,    1.550,2,    0.002,2, -999.000,9, -999.000,9, -999.000,9, 2348.700,2
           NA,     A14,     61,   1,-999.0,      10,  2,19950131,0418, -22.4953,   -8.9972,  4405, 3396.600,    2.374,   34.879,2,   34.882,2,  239.200,2,  238.900,2,   49.400,2,   23.270,2, -999.000,9,    1.570,2,    0.003,2, -999.000,9, -999.000,9, -999.000,9, 2351.200,2
           NA,     A14,     61,   1,-999.0,       9,  2,19950131,0418, -22.4953,   -8.9972,  4405, 3596.100,    2.366,   34.880,2,   34.882,2,  238.500,2,  238.000,2,   50.200,2,   23.310,2, -999.000,9,    1.570,2,    0.001,2, -999.000,9, -999.000,9, -999.000,9, 2353.600,2
           NA,     A14,     61,   1,-999.0,       8,  2,19950131,0418, -22.4953,   -8.9972,  4405, 3794.900,    2.362,   34.880,2,   34.881,2,  238.100,2,  237.800,2,   50.700,2,   23.270,2, -999.000,9,    1.570,2,    0.001,2, -999.000,9, -999.000,9, -999.000,9, 2354.800,2
           NA,     A14,     61,   1,-999.0,       7,  2,19950131,0418, -22.4953,   -8.9972,  4405, 3997.000,    2.377,   34.883,2, -999.000,3,  236.800,2,  236.300,2,   50.100,2,   23.050,2, -999.000,9,    1.560,2, -999.000,9, -999.000,9, -999.000,9, -999.000,9, 2357.000,2
           NA,     A14,     61,   1,-999.0,       5,  2,19950131,0418, -22.4953,   -8.9972,  4405, 4197.300,    2.393,   34.885,2,   34.887,2,  236.200,2,  235.300,2,   50.700,2,   23.270,2, -999.000,9,    1.560,2,    0.000,2,   -0.003,2, -999.000,9, -999.000,9, 2360.100,2
           NA,     A14,     61,   1,-999.0,       6,  2,19950131,0418, -22.4953,   -8.9972,  4405, 4197.500,    2.393,   34.884,2,   34.886,2,  236.200,2,  235.900,2,   50.800,2,   23.360,2, -999.000,9,    1.570,2,    0.003,2,    0.000,2, -999.000,9, -999.000,9, 2360.100,2
           NA,     A14,     61,   1,-999.0,       4,  2,19950131,0418, -22.4953,   -8.9972,  4405, 4397.700,    2.412,   34.884,2,   34.888,2,  236.300,2,  234.900,2,   50.700,2,   23.180,2, -999.000,9,    1.550,2,    0.000,2,   -0.002,2, -999.000,9, -999.000,9, 2360.800,2
           NA,     A14,     61,   1,-999.0,       3,  2,19950131,0418, -22.4953,   -8.9972,  4405, 4457.900,    2.419,   34.884,2,   34.887,2,  236.400,2,  235.800,2,   51.000,2,   23.270,2, -999.000,9,    1.550,2,    0.002,2,    0.000,2, -999.000,9, -999.000,9, 2362.200,2
           NA,     A14,     60,   1,-999.0,      32,  2,19950130,2235, -22.0000,   -9.0017,  4376,    3.400,   25.456,   36.430,2, -999.000,3,  193.000,2, -999.000,3,    1.100,2,    0.020,2, -999.000,9,    0.230,2,    1.919,2,    0.986,2, -999.000,9, -999.000,9, 2396.800,2
           NA,     A14,     60,   1,-999.0,      31,  2,19950130,2235, -22.0000,   -9.0017,  4376,   45.900,   22.826,   36.410,2,   36.405,2,  214.000,2, -999.000,3,    1.200,2,    0.020,2, -999.000,9,    0.180,2,    2.160,2,    1.067,2, -999.000,9, -999.000,9, -999.000,9
           NA,     A14,     60,   1,-999.0,      30,  2,19950130,2235, -22.0000,   -9.0017,  4376,   96.800,   20.389,   36.250,2, -999.000,3,  234.700,2,  231.900,2,    1.400,2,    0.020,2, -999.000,9,    0.170,2,    2.327,2,    1.150,2, -999.000,9, -999.000,9, -999.000,9
           NA,     A14,     60,   1,-999.0,      29,  2,19950130,2235, -22.0000,   -9.0017,  4376,  146.800,   18.667,   35.989,2, -999.000,3,  228.400,2, -999.000,3,    1.600,2,    0.160,2, -999.000,9,    0.230,2,    2.409,2,    1.182,2, -999.000,9, -999.000,9, -999.000,9
           NA,     A14,     60,   1,-999.0,      28,  2,19950130,2235, -22.0000,   -9.0017,  4376,  196.500,   16.044,   35.550,2, -999.000,3,  212.600,2,  209.000,2,    2.600,2,    5.170,2, -999.000,9,    0.490,2,    2.599,2,    1.252,2, -999.000,9, -999.000,9, -999.000,9
           NA,     A14,     60,   1,-999.0,      27,  2,19950130,2235, -22.0000,   -9.0017,  4376,  396.500,   10.630,   34.876,2, -999.000,3,  182.100,2,  181.700,2,    9.200,2,   18.520,2, -999.000,9,    1.240,2,    1.994,2,    0.903,2, -999.000,9, -999.000,9, -999.000,9
           NA,     A14,     60,   1,-999.0,      26,  2,19950130,2235, -22.0000,   -9.0017,  4376,  495.700,    8.557,   34.667,2,   34.666,2,  167.000,2,  168.300,2,   13.100,2,   24.420,2, -999.000,9,    1.650,2,    1.369,2,    0.617,2, -999.000,9, -999.000,9, -999.000,9
           NA,     A14,     60,   1,-999.0,      25,  2,19950130,2235, -22.0000,   -9.0017,  4376,  596.100,    6.494,   34.495,2,   34.495,2,  167.300,2,  166.100,2,   19.400,2,   30.110,2, -999.000,9,    1.990,2,    0.934,2,    0.406,2, -999.000,9, -999.000,9, -999.000,9
           NA,     A14,     60,   1,-999.0,      24,  2,19950130,2235, -22.0000,   -9.0017,  4376,  596.100,    6.404,   34.492,2,   34.495,2,  167.300,2,  166.200,2,   19.400,2,   30.000,2, -999.000,9,    1.990,2,    0.904,2,    0.405,2, -999.000,9, -999.000,9, -999.000,9
           NA,     A14,     60,   1,-999.0,      23,  2,19950130,2235, -22.0000,   -9.0017,  4376,  695.700,    5.265,   34.441,2,   34.438,2,  162.500,2,  162.000,2,   25.900,2,   33.090,2, -999.000,9,    2.180,2,    0.400,2,    0.185,2, -999.000,9, -999.000,9, -999.000,9
           NA,     A14,     60,   1,-999.0,      22,  2,19950130,2235, -22.0000,   -9.0017,  4376,  795.300,    4.505,   34.432,2,   34.439,2,  167.400,2,  167.100,2,   31.600,2,   33.620,2, -999.000,9,    2.240,2,    0.147,2,    0.070,2, -999.000,9, -999.000,9, -999.000,9
           NA,     A14,     60,   1,-999.0,      21,  2,19950130,2235, -22.0000,   -9.0017,  4376,  995.900,    3.749,   34.506,2,   34.509,2,  178.900,2,  177.600,2,   39.000,6,   32.700,6, -999.000,9,    2.200,2,    0.038,2,    0.017,2, -999.000,9, -999.000,9, -999.000,9
           NA,     A14,     60,   1,-999.0,      20,  2,19950130,2235, -22.0000,   -9.0017,  4376, 1194.600,    3.619,   34.634,2,   34.636,2,  185.200,2,  184.300,2,   38.700,2,   30.820,2, -999.000,9,    2.060,2,    0.007,2,    0.003,2, -999.000,9, -999.000,9, -999.000,9
           NA,     A14,     60,   1,-999.0,      19,  2,19950130,2235, -22.0000,   -9.0017,  4376, 1395.200,    3.525,   34.738,2,   34.741,2,  197.600,2,  197.300,2,   37.000,2,   28.250,2, -999.000,9,    1.900,2,    0.003,2,    0.003,2, -999.000,9, -999.000,9, -999.000,9
           NA,     A14,     60,   1,-999.0,      18,  2,19950130,2235, -22.0000,   -9.0017,  4376, 1596.900,    3.394,   34.819,2,   34.820,2,  212.000,2,  212.400,2,   35.000,2,   25.670,2, -999.000,9,    1.720,2,    0.001,2,    0.002,2, -999.000,9, -999.000,9, -999.000,9
           NA,     A14,     60,   1,-999.0,      17,  2,19950130,2235, -22.0000,   -9.0017,  4376, 1796.100,    3.234,   34.867,2,   34.868,2,  225.800,2,  226.900,2,   33.600,6,   23.810,2, -999.000,9,    1.600,6,    0.008,2,    0.002,2, -999.000,9, -999.000,9, -999.000,9
           NA,     A14,     60,   1,-999.0,      16,  2,19950130,2235, -22.0000,   -9.0017,  4376, 1996.000,    3.098,   34.888,2,   34.890,2,  236.400,2,  234.900,2,   33.800,2,   22.870,2, -999.000,9,    1.520,2,    0.007,2,    0.005,2, -999.000,9, -999.000,9, -999.000,9
           NA,     A14,     60,   1,-999.0,      15,  2,19950130,2235, -22.0000,   -9.0017,  4376, 2196.900,    2.942,   34.895,2,   34.895,2,  242.100,2,  240.900,2,   35.400,2,   22.470,2, -999.000,9,    1.490,2,    0.001,2, -999.000,9, -999.000,9, -999.000,9, -999.000,9
           NA,     A14,     60,   1,-999.0,      14,  2,19950130,2235, -22.0000,   -9.0017,  4376, 2396.500,    2.715,   34.886,2,   34.888,2,  242.200,2,  239.900,2,   39.900,2,   22.740,2, -999.000,9,    1.510,2,    0.001,2,    0.002,2, -999.000,9, -999.000,9, -999.000,9
           NA,     A14,     60,   1,-999.0,      12,  2,19950130,2235, -22.0000,   -9.0017,  4376, 2796.100,    2.513,   34.880,2,   34.879,2,  242.500,2,  240.600,2,   45.100,2,   23.010,2, -999.000,9,    1.540,2, -999.000,9, -999.000,9, -999.000,9, -999.000,9, -999.000,9
           NA,     A14,     60,   1,-999.0,      11,  2,19950130,2235, -22.0000,   -9.0017,  4376, 2995.600,    2.445,   34.877,2,   34.876,2,  242.900,2,  241.300,2,   47.000,2,   23.010,2, -999.000,9,    1.550,2,    0.000,2,   -0.001,2, -999.000,9, -999.000,9, -999.000,9
           NA,     A14,     60,   1,-999.0,      10,  2,19950130,2235, -22.0000,   -9.0017,  4376, 3196.100,    2.419,   34.876,2,   34.878,2,  242.300,2,  241.100,2,   47.900,2,   23.100,2, -999.000,9,    1.550,2,    0.005,2,    0.002,2, -999.000,9, -999.000,9, -999.000,9
           NA,     A14,     60,   1,-999.0,       9,  2,19950130,2235, -22.0000,   -9.0017,  4376, 3397.700,    2.397,   34.876,2,   34.877,2,  242.400,2,  240.600,2,   49.000,6,   23.190,2, -999.000,9,    1.560,6,   -0.001,2,    0.001,2, -999.000,9, -999.000,9, -999.000,9
           NA,     A14,     60,   1,-999.0,       8,  2,19950130,2235, -22.0000,   -9.0017,  4376, 3595.700,    2.374,   34.877,2,   34.876,2,  241.300,2,  239.400,2,   48.600,2,   23.190,2, -999.000,9,    1.560,2,    0.001,2, -999.000,9, -999.000,9, -999.000,9, -999.000,9
           NA,     A14,     60,   1,-999.0,       7,  2,19950130,2235, -22.0000,   -9.0017,  4376, 3796.600,    2.369,   34.878,2,   34.880,2,  239.800,2,  237.500,2,   50.500,2,   23.230,2, -999.000,9,    1.560,2, -999.000,9, -999.000,9, -999.000,9, -999.000,9, -999.000,9
           NA,     A14,     60,   1,-999.0,       6,  2,19950130,2235, -22.0000,   -9.0017,  4376, 3995.800,    2.384,   34.880,2,   34.881,2,  238.500,2,  237.800,2,   51.100,2,   23.280,2, -999.000,9,    1.560,2,    0.000,2,   -0.002,2, -999.000,9, -999.000,9, -999.000,9
           NA,     A14,     60,   1,-999.0,       5,  2,19950130,2235, -22.0000,   -9.0017,  4376, 4196.400,    2.403,   34.882,2,   34.881,2,  237.900,2,  237.200,2,   51.200,2,   23.280,2, -999.000,9,    1.560,2,    0.002,2,    0.001,2, -999.000,9, -999.000,9, -999.000,9
           NA,     A14,     60,   1,-999.0,       4,  2,19950130,2235, -22.0000,   -9.0017,  4376, 4397.400,    2.425,   34.881,2,   34.882,2,  237.500,2,  236.600,2,   50.900,6,   23.240,2, -999.000,9,    1.550,6,    0.000,2,    0.000,2, -999.000,9, -999.000,9, -999.000,9
           NA,     A14,     60,   1,-999.0,       3,  2,19950130,2235, -22.0000,   -9.0017,  4376, 4432.100,    2.428,   34.881,2,   34.882,2,  236.900,2,  236.300,2,   51.300,2,   23.320,2, -999.000,9,    1.560,2,    0.000,2,    0.000,2, -999.000,9, -999.000,9, -999.000,9