BOTTLE,20210426JOAExport
EXPOCODE,SECT_ID,STNNBR,CASTNO,SAMPNO,BTLNBR,BTLNBR_FLAG_W,DATE,TIME,LATITUDE,LONGITUDE,DEPTH,CTDPRS,CTDTMP,CTDSAL,CTDSAL_FLAG_W,SALNTY,SALNTY_FLAG_W,CTDOXY,CTDOXY_FLAG_W,OXYGEN,OXYGEN_FLAG_W,SILCAT,SILCAT_FLAG_W,NITRAT,NITRAT_FLAG_W,NITRIT,NITRIT_FLAG_W,PHSPHT,PHSPHT_FLAG_W,CFC-11,CFC-11_FLAG_W,CFC-12,CFC-12_FLAG_W,SF6,SF6_FLAG_W,TCARBN,TCARBN_FLAG_W,ALKALI,ALKALI_FLAG_W
,,,,,,,,,,,,DB,ITS-90,PSS-78,,PSS-78,,UMOL/KG,,UMOL/KG,,UMOL/KG,,UMOL/KG,,UMOL/KG,,UMOL/KG,,PMOL/KG,,PMOL/KG,,FMOL/KG,,UMOL/KG,,UMOL/KG
           NA,   SR04e,     12,   1,      24,      24,  2,19980404,1803, -63.7917,  -50.4383,  2669,     19.3,  -1.8117,   34.037,2,  34.0364,2, -999.000,9,    321.3,2,   66.450,2,   28.430,2,    0.110,2,    1.950,2,    5.420,2,    2.594,2, -999.000,9, 2184.900,2, -999.000,9
           NA,   SR04e,     12,   1,      23,      23,  2,19980404,1803, -63.7917,  -50.4383,  2669,     49.5,  -1.7924,   34.158,2,  34.1839,2, -999.000,9,    311.4,2,   67.430,2,   29.010,2,    0.120,2,    2.000,2, -999.000,9, -999.000,9, -999.000,9, 2203.900,2, -999.000,9
           NA,   SR04e,     12,   1,      22,      22,  2,19980404,1803, -63.7917,  -50.4383,  2669,     99.6,  -1.6397,   34.429,2,  34.4309,2, -999.000,9,    280.5,2,   76.750,2,   30.690,2,    0.130,2,    2.090,2,    4.042,2,    1.939,2, -999.000,9, 2225.500,2, -999.000,9
           NA,   SR04e,     12,   1,      21,      21,  2,19980404,1803, -63.7917,  -50.4383,  2669,    199.1,  -1.4356,   34.474,2,  34.4763,2, -999.000,9,    273.0,2,   77.730,2,   31.100,2,    0.010,2,    2.110,2, -999.000,9, -999.000,9, -999.000,9, 2235.000,2, -999.000,9
           NA,   SR04e,     12,   1,      20,      20,  2,19980404,1803, -63.7917,  -50.4383,  2669,    299.0,  -0.1668,   34.588,2,  34.5918,2, -999.000,9,    227.9,2,   89.780,2,   32.240,2,    0.010,2,    2.200,2,    1.939,2,    0.935,2, -999.000,9, 2252.300,2, -999.000,9
           NA,   SR04e,     12,   1,      19,      19,  2,19980404,1803, -63.7917,  -50.4383,  2669,    398.3,   0.4290,   34.653,2,  34.6546,2, -999.000,9,    206.8,2,   97.820,2,   32.940,2,    0.000,2,    2.250,2, -999.000,9, -999.000,9, -999.000,9, 2260.800,2, -999.000,9
           NA,   SR04e,     12,   1,      18,      18,  2,19980404,1803, -63.7917,  -50.4383,  2669,    498.9,   0.6322,   34.678,2,  34.6792,2, -999.000,9,    200.4,2,  102.520,2,   32.880,2,    0.000,2,    2.240,2, -999.000,9, -999.000,9, -999.000,9, 2262.000,2, -999.000,9
           NA,   SR04e,     12,   1,      17,      17,  2,19980404,1803, -63.7917,  -50.4383,  2669,    598.6,   0.6441,   34.685,2,  34.6849,2, -999.000,9,    202.3,2,  106.100,2,   32.780,2,    0.010,2,    2.240,2,    0.500,2,    0.235,2, -999.000,9, -999.000,9, -999.000,9
           NA,   SR04e,     12,   1,      16,      16,  2,19980404,1803, -63.7917,  -50.4383,  2669,    799.4,   0.4971,   34.683,2,  34.6827,2, -999.000,9,    206.8,2,  111.110,2,   32.930,2,    0.000,2,    2.250,2,    0.385,2,    0.184,2, -999.000,9, 2261.200,2, -999.000,9
           NA,   SR04e,     12,   1,      15,      15,  2,19980404,1803, -63.7917,  -50.4383,  2669,    998.8,   0.3630,   34.679,2,  34.6789,2, -999.000,9,    209.3,2,  114.650,2,   33.030,2,    0.010,2,    2.260,2,    0.334,2,    0.161,2, -999.000,9, -999.000,9, -999.000,9
           NA,   SR04e,     12,   1,      11,      11,  2,19980404,1803, -63.7917,  -50.4383,  2669,   1248.6,   0.2396,   34.675,2,  34.6760,2, -999.000,9,    211.0,2,  117.780,2,   33.010,2,    0.000,2,    2.280,2,    0.334,2,    0.159,2, -999.000,9, 2262.200,2, -999.000,9
           NA,   SR04e,     12,   1,      10,      10,  2,19980404,1803, -63.7917,  -50.4383,  2669,   1497.9,   0.1391,   34.671,2,  34.6732,2, -999.000,9,    215.6,2,  119.430,2,   33.170,2,    0.000,2,    2.280,2, -999.000,9, -999.000,9, -999.000,9, 2265.900,2, -999.000,9
           NA,   SR04e,     12,   1,       9,       9,  2,19980404,1803, -63.7917,  -50.4383,  2669,   1798.5,  -0.0054,   34.665,2,  34.6663,2, -999.000,9,    221.7,2,  120.110,2,   33.040,2,    0.000,2,    2.270,2,    0.410,2,    0.195,2, -999.000,9, 2260.500,2, -999.000,9
           NA,   SR04e,     12,   1,       8,       8,  2,19980404,1803, -63.7917,  -50.4383,  2669,   2098.2,  -0.2171,   34.657,2,  34.6583,2, -999.000,9,    232.5,2,  118.330,2,   32.610,2,    0.000,2,    2.250,2, -999.000,9, -999.000,9, -999.000,9, 2256.200,2, -999.000,9
           NA,   SR04e,     12,   1,       7,       7,  2,19980404,1803, -63.7917,  -50.4383,  2669,   2299.5,  -0.5323,   34.637,2,  34.6379,2, -999.000,9,    248.8,2,  103.140,2,   32.170,2,    0.010,2,    2.210,2,    1.739,2,    0.828,2, -999.000,9, 2250.600,2, -999.000,9
           NA,   SR04e,     12,   1,       6,       6,  2,19980404,1803, -63.7917,  -50.4383,  2669,   2400.3,  -0.7443,   34.629,2,  34.6299,2, -999.000,9,    257.7,2,   98.320,2,   31.910,2,    0.010,2,    2.200,2, -999.000,9, -999.000,9, -999.000,9, 2248.600,2, -999.000,9
           NA,   SR04e,     12,   1,       5,       5,  2,19980404,1803, -63.7917,  -50.4383,  2669,   2497.8,  -0.9899,   34.623,2,  34.6251,2, -999.000,9,    269.2,2,   87.410,2,   31.320,2,    0.010,2,    2.160,2,    2.984,2,    1.423,2, -999.000,9, 2245.700,2, -999.000,9
           NA,   SR04e,     12,   1,       4,       4,  2,19980404,1803, -63.7917,  -50.4383,  2669,   2547.6,  -1.0475,   34.627,2,  34.6280,2, -999.000,9,    272.7,2,   85.180,2,   31.440,2,    0.020,2,    2.160,2,    3.218,2,    1.546,2, -999.000,9, 2243.600,2, -999.000,9
           NA,   SR04e,     12,   1,       3,       3,  2,19980404,1803, -63.7917,  -50.4383,  2669,   2596.1,  -1.1470,   34.627,2,  34.6276,2, -999.000,9,    274.9,2,   82.810,2,   31.270,2,    0.020,2,    2.150,2,    3.452,2,    1.661,2, -999.000,9, 2244.600,2, -999.000,9
           NA,   SR04e,     12,   1,       2,       2,  2,19980404,1803, -63.7917,  -50.4383,  2669,   2622.0,  -1.1468,   34.628,2,  34.6267,2, -999.000,9,    274.1,2,   82.510,2,   31.090,2,    0.020,2,    2.140,2,    3.447,2,    1.651,2, -999.000,9, 2243.700,2, -999.000,9
           NA,   SR04e,     12,   1,       1,       1,  2,19980404,1803, -63.7917,  -50.4383,  2669,   2637.0,  -1.1462,   34.627,2,  34.6277,2, -999.000,9,    275.9,2,   82.970,2,   31.340,2,    0.020,2,    2.160,2,    3.463,2,    1.657,2, -999.000,9, 2242.400,2, -999.000,9
           NA,   SR04e,     13,   1,      24,      24,  2,19980404,2150, -63.8483,  -50.0400,  2885,     19.3,  -1.8151,   33.938,2,  33.9410,2, -999.000,9,    323.2,2,   74.120,2,   29.100,2,    0.120,2,    2.000,2,    5.336,2,    2.538,2, -999.000,9, 2184.300,2, -999.000,9
           NA,   SR04e,     13,   1,      23,      23,  2,19980404,2150, -63.8483,  -50.0400,  2885,     49.4,  -1.7441,   34.207,2,  34.2250,2, -999.000,9,    301.9,2,   74.060,2,   29.710,2,    0.100,2,    2.050,2, -999.000,9, -999.000,9, -999.000,9, 2203.600,2, -999.000,9
           NA,   SR04e,     13,   1,      22,      22,  2,19980404,2150, -63.8483,  -50.0400,  2885,     99.7,  -1.6898,   34.432,2,  34.4359,2, -999.000,9,    287.3,2,   74.400,2,   31.000,2,    0.080,2,    2.110,2, -999.000,9, -999.000,9, -999.000,9, 2225.000,2, -999.000,9
           NA,   SR04e,     13,   1,      21,      21,  2,19980404,2150, -63.8483,  -50.0400,  2885,    198.7,  -0.8715,   34.525,2,  34.5253,2, -999.000,9,    255.2,2,   82.990,2,   32.000,2,    0.000,2,    2.180,2, -999.000,9, -999.000,9, -999.000,9, 2236.000,2, -999.000,9
           NA,   SR04e,     13,   1,      20,      20,  2,19980404,2150, -63.8483,  -50.0400,  2885,    297.3,   0.1699,   34.625,2,  34.6282,2, -999.000,9,    213.8,2,   95.240,2,   32.820,2,    0.010,2,    2.260,2,    1.408,2,    0.659,2, -999.000,9, 2251.700,2, -999.000,9
           NA,   SR04e,     13,   1,      19,      19,  2,19980404,2150, -63.8483,  -50.0400,  2885,    399.3,   0.5645,   34.669,2,  34.6695,2, -999.000,9,    203.6,2,  102.080,2,   33.350,2,    0.000,2,    2.270,2, -999.000,9, -999.000,9, -999.000,9, 2256.500,2, -999.000,9
           NA,   SR04e,     13,   1,      18,      18,  2,19980404,2150, -63.8483,  -50.0400,  2885,    501.1,   0.6526,   34.683,2,  34.6835,2, -999.000,9,    202.0,2,  106.340,2,   33.190,2, -999.000,4,    2.270,2, -999.000,9, -999.000,9, -999.000,9, 2256.300,2, -999.000,9
           NA,   SR04e,     13,   1,      17,      17,  2,19980404,2150, -63.8483,  -50.0400,  2885,    598.9,   0.6302,   34.686,2,  34.6874,2, -999.000,9,    202.2,2,  108.700,2,   33.210,2,    0.010,2,    2.280,2,    0.429,2,    0.204,2, -999.000,9, 2260.400,2, -999.000,9
           NA,   SR04e,     13,   1,      16,      16,  2,19980404,2150, -63.8483,  -50.0400,  2885,    748.3,   0.5342,   34.686,2,  34.6856,2, -999.000,9,    204.6,2,  113.840,2,   33.470,2,    0.000,2,    2.280,2,    0.301,2,    0.145,2, -999.000,9, 2261.000,2, -999.000,9
           NA,   SR04e,     13,   1,      15,      15,  2,19980404,2150, -63.8483,  -50.0400,  2885,    999.4,   0.4037,   34.683,2,  34.6836,2, -999.000,9,    205.7,2,  118.570,2,   33.580,2,    0.000,2,    2.300,2,    0.237,2,    0.122,2, -999.000,9, 2262.500,2, -999.000,9
           NA,   SR04e,     13,   1,      11,      11,  2,19980404,2150, -63.8483,  -50.0400,  2885,   1248.4,   0.2465,   34.675,2,  34.6745,2, -999.000,9,   -999.0,9,  119.050,2,   33.440,2,    0.010,2,    2.300,2, -999.000,9, -999.000,9, -999.000,9, 2261.600,2, -999.000,9
           NA,   SR04e,     13,   1,      10,      10,  2,19980404,2150, -63.8483,  -50.0400,  2885,   1497.8,   0.1507,   34.671,2,  34.6730,2, -999.000,9,    214.6,2,  121.320,2,   33.710,2,    0.000,2,    2.300,2,    0.317,2,    0.176,2, -999.000,9, 2260.300,2, -999.000,9
           NA,   SR04e,     13,   1,       9,       9,  2,19980404,2150, -63.8483,  -50.0400,  2885,   1749.3,   0.0640,   34.669,2,  34.6677,2, -999.000,9,    219.3,2,  122.080,2,   33.530,2,    0.000,2,    2.300,2, -999.000,9, -999.000,9, -999.000,9, 2259.700,2, -999.000,9
           NA,   SR04e,     13,   1,       8,       8,  2,19980404,2150, -63.8483,  -50.0400,  2885,   1996.6,  -0.0350,   34.664,2,  34.6661,2, -999.000,9,    223.1,2,  121.720,2,   33.210,2,    0.000,2,    2.290,2,    0.431,2,    0.207,2, -999.000,9, 2261.200,2, -999.000,9
           NA,   SR04e,     13,   1,       7,       7,  2,19980404,2150, -63.8483,  -50.0400,  2885,   2247.9,  -0.1716,   34.658,2,  34.6575,2, -999.000,9,    230.8,2,  120.040,2,   33.250,2,    0.000,2,    2.280,2, -999.000,9, -999.000,9, -999.000,9, 2258.300,2, -999.000,9
           NA,   SR04e,     13,   1,       6,       6,  2,19980404,2150, -63.8483,  -50.0400,  2885,   2501.7,  -0.4915,   34.639,2,  34.6405,2, -999.000,9,    247.6,2,  106.970,2,   32.670,2,    0.000,2,    2.240,2,    1.599,2,    0.768,2, -999.000,9, 2253.500,2, -999.000,9
           NA,   SR04e,     13,   1,       5,       5,  2,19980404,2150, -63.8483,  -50.0400,  2885,   2698.6,  -0.9133,   34.622,2,  34.6209,2, -999.000,9,    267.7,2,   90.240,2,   31.750,2,    0.010,2,    2.190,2, -999.000,9, -999.000,9, -999.000,9, 2240.000,2, -999.000,9
           NA,   SR04e,     13,   1,       4,       4,  2,19980404,2150, -63.8483,  -50.0400,  2885,   2798.3,  -1.1018,   34.628,2,  34.6286,2, -999.000,9,    277.6,2,   84.050,2,   31.750,2,    0.010,2,    2.170,2,    3.386,2,    1.615,2, -999.000,9, 2237.700,2, -999.000,9
           NA,   SR04e,     13,   1,       3,       3,  2,19980404,2150, -63.8483,  -50.0400,  2885,   2849.5,  -1.1730,   34.630,2,  34.6288,2, -999.000,9,    278.1,2,   83.020,2,   31.660,2,    0.020,2,    2.170,2,    3.574,2,    1.695,2, -999.000,9, 2237.800,2, -999.000,9
           NA,   SR04e,     13,   1,       2,       2,  2,19980404,2150, -63.8483,  -50.0400,  2885,   2878.5,  -1.1705,   34.630,2,  34.6292,2, -999.000,9,    277.9,2,   82.440,2,   31.350,2,    0.020,2,    2.170,2,    3.537,2,    1.691,2, -999.000,9, 2238.900,2, -999.000,9
           NA,   SR04e,     13,   1,       1,       1,  2,19980404,2150, -63.8483,  -50.0400,  2885,   2908.9,  -1.1676,   34.630,2,  34.6295,2, -999.000,9,    278.4,2,   82.440,2,   31.630,2,    0.020,2,    2.160,2,    3.519,2,    1.682,2, -999.000,9, 2237.400,2, -999.000,9
           NA,   SR04e,     14,   1,      24,      24,  2,19980405,0304, -63.9000,  -49.5883,  3320,     19.0,  -1.8171,   34.000,2,  34.0012,2, -999.000,9,    318.3,2,   72.840,2,   29.010,2,    0.120,2,    2.010,2, -999.000,9, -999.000,9, -999.000,9, 2190.600,2, -999.000,9
           NA,   SR04e,     14,   1,      23,      23,  2,19980405,0304, -63.9000,  -49.5883,  3320,     48.7,  -1.7340,   34.140,2,  34.1877,2, -999.000,9,    300.0,2,   75.610,2,   29.950,2,    0.110,2,    2.060,2, -999.000,9, -999.000,9, -999.000,9, 2202.500,2, -999.000,9
           NA,   SR04e,     14,   1,      22,      22,  2,19980405,0304, -63.9000,  -49.5883,  3320,     98.6,  -1.6045,   34.435,2,  34.4379,2, -999.000,9,    280.4,2,   77.920,2,   31.030,2,    0.090,2,    2.110,2, -999.000,9, -999.000,9, -999.000,9, 2228.100,2, -999.000,9
           NA,   SR04e,     14,   1,      21,      21,  2,19980405,0304, -63.9000,  -49.5883,  3320,    199.0,  -0.6141,   34.549,2,  34.5481,2, -999.000,9,    241.1,2,   87.500,2,   32.280,2,    0.010,2,    2.230,2, -999.000,9, -999.000,9, -999.000,9, 2238.400,2, -999.000,9
           NA,   SR04e,     14,   1,      20,      20,  2,19980405,0304, -63.9000,  -49.5883,  3320,    299.4,   0.4510,   34.657,2,  34.6563,2, -999.000,9,    205.7,2,   99.280,2,   33.360,2,    0.010,2,    2.280,2, -999.000,9, -999.000,9, -999.000,9, 2258.100,2, -999.000,9
           NA,   SR04e,     14,   1,      19,      19,  2,19980405,0304, -63.9000,  -49.5883,  3320,    398.9,   0.6247,   34.679,2,  34.6774,2, -999.000,9,    200.8,2,  103.890,2,   33.150,2,    0.000,2,    2.280,2, -999.000,9, -999.000,9, -999.000,9, 2259.800,2, -999.000,9
           NA,   SR04e,     14,   1,      18,      18,  2,19980405,0304, -63.9000,  -49.5883,  3320,    499.0,   0.6520,   34.687,2,  34.6873,2, -999.000,9,    200.8,2,  107.140,2,   33.100,2,    0.010,2,    2.280,2, -999.000,9, -999.000,9, -999.000,9, 2262.400,2, -999.000,9
           NA,   SR04e,     14,   1,      17,      17,  2,19980405,0304, -63.9000,  -49.5883,  3320,    599.7,   0.5974,   34.688,2,  34.6878,2, -999.000,9,    202.8,2,  111.650,2,   33.320,2,    0.000,2,    2.280,2, -999.000,9, -999.000,9, -999.000,9, 2259.300,2, -999.000,9
           NA,   SR04e,     14,   1,      16,      16,  2,19980405,0304, -63.9000,  -49.5883,  3320,    799.1,   0.4562,   34.685,2,  34.6847,2, -999.000,9,    205.8,2,  115.730,2,   33.410,2,    0.000,2,    2.290,2, -999.000,9, -999.000,9, -999.000,9, 2261.100,2, -999.000,9
           NA,   SR04e,     14,   1,      15,      15,  2,19980405,0304, -63.9000,  -49.5883,  3320,   1199.0,   0.2302,   34.676,2,  34.6743,2, -999.000,9,    210.0,2,  120.660,2,   33.420,2,    0.000,2,    2.310,2, -999.000,9, -999.000,9, -999.000,9, 2261.200,2, -999.000,9
           NA,   SR04e,     14,   1,      11,      11,  2,19980405,0304, -63.9000,  -49.5883,  3320,   1598.5,   0.0809,   34.671,2,  34.6716,2, -999.000,9,    216.7,2,  123.400,2,   33.580,2,    0.000,2,    2.310,2, -999.000,9, -999.000,9, -999.000,9, 2260.600,2, -999.000,9
           NA,   SR04e,     14,   1,      10,      10,  2,19980405,0304, -63.9000,  -49.5883,  3320,   1798.8,  -0.0039,   34.667,2,  34.6673,2, -999.000,9,    220.5,2,  123.660,2,   33.380,2,    0.000,2,    2.300,2, -999.000,9, -999.000,9, -999.000,9, 2257.300,2, -999.000,9
           NA,   SR04e,     14,   1,       9,       9,  2,19980405,0304, -63.9000,  -49.5883,  3320,   1999.2,  -0.0512,   34.666,2,  34.6661,2, -999.000,9,    223.2,2,  124.400,2,   33.160,2,    0.000,2,    2.300,2, -999.000,9, -999.000,9, -999.000,9, 2258.000,2, -999.000,9
           NA,   SR04e,     14,   1,       8,       8,  2,19980405,0304, -63.9000,  -49.5883,  3320,   2199.6,  -0.1071,   34.663,2,  34.6630,2, -999.000,9,    226.6,2,  124.120,2,   33.340,2,    0.000,2,    2.290,2, -999.000,9, -999.000,9, -999.000,9, 2256.800,2, -999.000,9
           NA,   SR04e,     14,   1,       7,       7,  2,19980405,0304, -63.9000,  -49.5883,  3320,   2400.0,  -0.1565,   34.661,2,  34.6608,2, -999.000,9,    229.7,2,  123.180,2,   33.260,2,    0.000,2,    2.290,2,    0.380,2,    0.184,2, -999.000,9, 2256.900,2, -999.000,9
           NA,   SR04e,     14,   1,       5,       5,  2,19980405,0304, -63.9000,  -49.5883,  3320,   2898.9,  -0.3500,   34.649,2,  34.6502,2, -999.000,9,    241.2,2,  115.690,2,   32.880,2,    0.000,2,    2.260,2, -999.000,9, -999.000,9, -999.000,9, 2252.800,2, -999.000,9
           NA,   SR04e,     14,   1,       4,       4,  2,19980405,0304, -63.9000,  -49.5883,  3320,   3098.6,  -0.7662,   34.624,2,  34.6241,2, -999.000,9,    262.0,2,   93.670,2,   31.980,2,    0.010,2,    2.200,2,    2.546,2,    1.234,2, -999.000,9, -999.000,4, -999.000,9
           NA,   SR04e,     14,   1,       3,       3,  2,19980405,0304, -63.9000,  -49.5883,  3320,   3198.1,  -1.0126,   34.622,2,-999.0000,9, -999.000,9,    274.7,2,   84.620,2,   31.570,2,    0.010,2,    2.180,2,    3.309,2,    1.583,2, -999.000,9, 2237.800,2, -999.000,9
           NA,   SR04e,     14,   1,       2,       2,  2,19980405,0304, -63.9000,  -49.5883,  3320,   3246.5,  -1.1473,   34.624,2,  34.6237,2, -999.000,9,    278.4,2,   82.090,2,   31.640,2,    0.020,2,    2.160,2,    3.550,2,    1.697,2, -999.000,9, 2237.500,2, -999.000,9
           NA,   SR04e,     14,   1,       1,       1,  2,19980405,0304, -63.9000,  -49.5883,  3320,   3317.9,  -1.1620,   34.622,2,-999.0000,9, -999.000,9,    279.3,2,   81.360,2,   31.540,2,    0.010,2,    2.160,2,    3.609,2,    1.717,2, -999.000,9, 2238.000,2, -999.000,9