BOTTLE,20210426JOAExport
EXPOCODE,SECT_ID,STNNBR,CASTNO,SAMPNO,BTLNBR,BTLNBR_FLAG_W,DATE,TIME,LATITUDE,LONGITUDE,DEPTH,CTDPRS,CTDTMP,CTDSAL,CTDSAL_FLAG_W,SALNTY,SALNTY_FLAG_W,CTDOXY,CTDOXY_FLAG_W,OXYGEN,OXYGEN_FLAG_W,SILCAT,SILCAT_FLAG_W,NITRAT,NITRAT_FLAG_W,NITRIT,NITRIT_FLAG_W,PHSPHT,PHSPHT_FLAG_W,CFC-11,CFC-11_FLAG_W,CFC-12,CFC-12_FLAG_W,SF6,SF6_FLAG_W,TCARBN,TCARBN_FLAG_W,ALKALI,ALKALI_FLAG_W
,,,,,,,,,,,,DB,ITS-90,PSS-78,,PSS-78,,UMOL/KG,,UMOL/KG,,UMOL/KG,,UMOL/KG,,UMOL/KG,,UMOL/KG,,PMOL/KG,,PMOL/KG,,FMOL/KG,,UMOL/KG,,UMOL/KG
           NA,   SR04e,     27,   1,      24,      24,  2,19980410,0818, -66.1300,  -31.8550,  4822,     20.2,  -1.2752,   34.134,2,  34.1353,2, -999.000,9,    339.9,2,   58.600,2,   25.110,2,    0.230,2,    1.720,2, -999.000,9, -999.000,9, -999.000,9, 2184.800,2, -999.000,9
           NA,   SR04e,     27,   1,      23,      23,  2,19980410,0818, -66.1300,  -31.8550,  4822,     49.8,  -1.2834,   34.152,2,  34.2349,2, -999.000,9,    324.3,2,   63.000,2,   26.230,2,    0.230,2,    1.830,2, -999.000,9, -999.000,9, -999.000,9, 2196.600,2, -999.000,9
           NA,   SR04e,     27,   1,      22,      22,  2,19980410,0818, -66.1300,  -31.8550,  4822,     98.7,  -1.5430,   34.465,2,  34.4772,2, -999.000,9,   -999.0,9,   77.050,2,   30.900,2,    0.080,2,    2.110,2, -999.000,9, -999.000,9, -999.000,9, 2236.900,2, -999.000,9
           NA,   SR04e,     27,   1,      21,      21,  2,19980410,0818, -66.1300,  -31.8550,  4822,    198.6,   0.3874,   34.663,2,  34.6638,2, -999.000,9,    198.8,2,  108.000,2,   33.970,2,    0.030,2,    2.330,2,    0.853,2,    0.416,2, -999.000,9, 2268.300,2, -999.000,9
           NA,   SR04e,     27,   1,      20,      20,  2,19980410,0818, -66.1300,  -31.8550,  4822,    297.9,   0.5935,   34.689,2,  34.6879,2, -999.000,9,    189.8,2,  114.030,2,   34.300,2,    0.010,2,    2.370,2,    0.302,2,    0.145,2, -999.000,9, 2269.600,2, -999.000,9
           NA,   SR04e,     27,   1,      19,      19,  2,19980410,0818, -66.1300,  -31.8550,  4822,    399.9,   0.5045,   34.688,2,  34.6878,2, -999.000,9,    192.7,2,  117.570,2,   34.220,2,    0.010,2,    2.360,2,    0.225,2,    0.108,2, -999.000,9, 2270.000,2, -999.000,9
           NA,   SR04e,     27,   1,      18,      18,  2,19980410,0818, -66.1300,  -31.8550,  4822,    501.0,   0.4322,   34.685,2,  34.6848,2, -999.000,9,    192.5,2,  120.960,2,   34.800,2,    0.030,2,    2.370,2,    0.204,2,    0.097,2, -999.000,9, 2272.200,2, -999.000,9
           NA,   SR04e,     27,   1,      17,      17,  2,19980410,0818, -66.1300,  -31.8550,  4822,    598.8,   0.3615,   34.683,2,  34.6825,2, -999.000,9,    195.7,2,  121.950,2,   34.690,2,    0.030,2,    2.370,2,    0.155,2,    0.078,2, -999.000,9, 2271.300,2, -999.000,9
           NA,   SR04e,     27,   1,      16,      16,  2,19980410,0818, -66.1300,  -31.8550,  4822,    692.5,   0.3078,   34.682,2,  34.6809,2, -999.000,9,    196.9,2,  122.100,2,   34.360,2,    0.010,2,    2.370,2, -999.000,9, -999.000,9, -999.000,9, 2272.200,2, -999.000,9
           NA,   SR04e,     27,   1,      15,      15,  2,19980410,0818, -66.1300,  -31.8550,  4822,    800.9,   0.2578,   34.680,2,  34.6794,2, -999.000,9,    198.6,2,  124.850,2,   34.560,2,    0.020,2,    2.370,2, -999.000,9, -999.000,9, -999.000,9, 2269.800,2, -999.000,9
           NA,   SR04e,     27,   1,      11,      11,  2,19980410,0818, -66.1300,  -31.8550,  4822,    999.3,   0.1718,   34.677,2,  34.6765,2, -999.000,9,    204.9,2,  125.150,2,   34.340,2,    0.020,2,    2.360,2, -999.000,9, -999.000,9, -999.000,9, 2266.900,2, -999.000,9
           NA,   SR04e,     27,   1,      10,      10,  2,19980410,0818, -66.1300,  -31.8550,  4822,   1497.9,  -0.0127,   34.669,2,  34.6694,2, -999.000,9,    215.6,2,  124.920,2,   33.560,2,    0.000,2,    2.330,2, -999.000,9, -999.000,9, -999.000,9, 2262.300,2, -999.000,9
           NA,   SR04e,     27,   1,       9,       9,  2,19980410,0818, -66.1300,  -31.8550,  4822,   2001.7,  -0.1525,   34.664,2,  34.6640,2, -999.000,9,    225.6,2,  124.240,2,   33.440,2,    0.000,2,    2.310,2, -999.000,9, -999.000,9, -999.000,9, 2260.100,2, -999.000,9
           NA,   SR04e,     27,   1,       8,       8,  2,19980410,0818, -66.1300,  -31.8550,  4822,   2497.6,  -0.2410,   34.661,2,  34.6595,2, -999.000,9,    230.9,2,  125.210,2,   33.560,2,    0.020,2,    2.300,2, -999.000,9, -999.000,9, -999.000,9, 2254.700,2, -999.000,9
           NA,   SR04e,     27,   1,       7,       7,  2,19980410,0818, -66.1300,  -31.8550,  4822,   2999.7,  -0.3008,   34.658,2,  34.6567,2, -999.000,9,    235.4,2,  123.080,2,   32.970,2,    0.020,2,    2.290,2, -999.000,9, -999.000,9, -999.000,9, 2251.500,2, -999.000,9
           NA,   SR04e,     27,   1,       6,       6,  2,19980410,0818, -66.1300,  -31.8550,  4822,   3596.3,  -0.3541,   34.655,2,  34.6539,2, -999.000,9,    240.4,2,  122.440,2,   32.710,2,    0.010,2,    2.270,2,    0.220,2,    0.107,2, -999.000,9, 2246.100,2, -999.000,9
           NA,   SR04e,     27,   1,       5,       5,  2,19980410,0818, -66.1300,  -31.8550,  4822,   4098.6,  -0.3973,   34.652,2,  34.6511,2, -999.000,9,    243.9,2,  122.570,2,   32.990,2,    0.020,2,    2.270,2,    0.241,2,    0.123,2, -999.000,9, 2248.500,2, -999.000,9
           NA,   SR04e,     27,   1,       4,       4,  2,19980410,0818, -66.1300,  -31.8550,  4822,   4596.2,  -0.4989,   34.646,2,  34.6462,2, -999.000,9,    248.3,2,  119.990,2,   32.580,2,    0.020,2,    2.260,2,    0.409,2,    0.199,2, -999.000,9, 2250.100,2, -999.000,9
           NA,   SR04e,     27,   1,       3,       3,  2,19980410,0818, -66.1300,  -31.8550,  4822,   4745.8,  -0.5197,   34.643,2,  34.6425,2, -999.000,9,    252.1,2,  118.620,2,   32.470,2,    0.010,2,    2.240,2,    0.689,2,    0.328,2, -999.000,9, 2248.300,2, -999.000,9
           NA,   SR04e,     27,   1,       2,       2,  2,19980410,0818, -66.1300,  -31.8550,  4822,   4798.4,  -0.5322,   34.641,2,  34.6415,2, -999.000,9,    252.6,2,  114.930,2,   32.330,2,    0.010,2,    2.250,2,    1.009,2,    0.477,2, -999.000,9, 2249.400,2, -999.000,9
           NA,   SR04e,     27,   1,       1,       1,  2,19980410,0818, -66.1300,  -31.8550,  4822,   4848.4,  -0.5381,   34.640,2,  34.6401,2, -999.000,9,    253.2,2,  112.150,2,   32.730,2,    0.030,2,    2.250,2,    1.308,2,    0.613,2, -999.000,9, 2248.200,2, -999.000,9
           NA,   SR04e,     28,   1,      24,      24,  2,19980410,1728, -66.3700,  -29.5017,  4838,     18.6,  -1.2169,   34.186,2,  34.1891,2, -999.000,9,    333.9,2,   54.700,2,   24.170,2,    0.220,2,    1.710,2,    6.148,2,    3.047,2, -999.000,9, 2188.600,2, -999.000,9
           NA,   SR04e,     28,   1,      23,      23,  2,19980410,1728, -66.3700,  -29.5017,  4838,     47.4,  -1.2551,   34.223,2,  34.2323,2, -999.000,9,    318.8,2,   58.780,2,   25.210,2,    0.220,2,    1.790,2,    5.529,2,    2.757,2, -999.000,9, 2194.300,2, -999.000,9
           NA,   SR04e,     28,   1,      22,      22,  2,19980410,1728, -66.3700,  -29.5017,  4838,     97.8,  -1.3194,   34.495,2,  34.5003,2, -999.000,9,    269.3,2,   79.290,2,   31.280,2,    0.050,2,    2.140,2,    3.816,2,    1.885,2, -999.000,9, 2240.900,2, -999.000,9
           NA,   SR04e,     28,   1,      21,      21,  2,19980410,1728, -66.3700,  -29.5017,  4838,    198.8,   0.5162,   34.674,2,  34.6794,2, -999.000,9,    192.8,2,  109.570,2,   34.600,2,    0.030,2,    2.360,2, -999.000,9, -999.000,9, -999.000,9, 2270.000,2, -999.000,9
           NA,   SR04e,     28,   1,      20,      20,  2,19980410,1728, -66.3700,  -29.5017,  4838,    298.7,   0.5749,   34.689,2,  34.6896,2, -999.000,9,    192.1,2,  115.150,2,   34.370,2,    0.020,2,    2.370,2, -999.000,9, -999.000,9, -999.000,9, 2273.600,2, -999.000,9
           NA,   SR04e,     28,   1,      19,      19,  2,19980410,1728, -66.3700,  -29.5017,  4838,    398.2,   0.4907,   34.687,2,  34.6876,2, -999.000,9,    190.9,2,  118.130,2,   34.690,2,    0.010,2,    2.370,2,    0.238,2,    0.112,2, -999.000,9, -999.000,9, -999.000,9
           NA,   SR04e,     28,   1,      18,      18,  2,19980410,1728, -66.3700,  -29.5017,  4838,    499.4,   0.4125,   34.686,2,  34.6863,2, -999.000,9,    195.1,2,  120.340,2,   34.700,2,    0.020,2,    2.370,2, -999.000,4, -999.000,4, -999.000,9, 2272.900,2, -999.000,9
           NA,   SR04e,     28,   1,      17,      17,  2,19980410,1728, -66.3700,  -29.5017,  4838,    598.4,   0.3491,   34.683,2,  34.6839,2, -999.000,9,    194.0,2,  122.130,2,   34.380,2,    0.020,2,    2.370,2,    0.157,2,    0.078,2, -999.000,9, -999.000,9, -999.000,9
           NA,   SR04e,     28,   1,      16,      16,  2,19980410,1728, -66.3700,  -29.5017,  4838,    698.6,   0.3032,   34.681,2,  34.6819,2, -999.000,9,    198.9,2,  122.920,2,   34.400,2,    0.020,2,    2.360,2,    0.154,2,    0.077,2, -999.000,9, 2273.400,2, -999.000,9
           NA,   SR04e,     28,   1,      15,      15,  2,19980410,1728, -66.3700,  -29.5017,  4838,    998.6,   0.1729,   34.676,2,  34.6769,2, -999.000,9,    203.9,2,  124.950,2,   34.280,2,    0.010,2,    2.350,2,    0.138,2,    0.069,2, -999.000,9, 2270.600,2, -999.000,9
           NA,   SR04e,     28,   1,      11,      11,  2,19980410,1728, -66.3700,  -29.5017,  4838,   1497.9,  -0.0110,   34.669,2,  34.6689,2, -999.000,9,    218.3,2,  124.420,2,   33.790,2,    0.010,2,    2.320,2,    0.144,2,    0.074,2, -999.000,9, 2263.600,2, -999.000,9
           NA,   SR04e,     28,   1,      10,      10,  2,19980410,1728, -66.3700,  -29.5017,  4838,   1998.3,  -0.1498,   34.664,2,  34.6635,2, -999.000,9,    223.6,2,  124.330,2,   33.400,2,    0.010,2,    2.300,2,    0.172,2,    0.090,2, -999.000,9, 2261.100,2, -999.000,9
           NA,   SR04e,     28,   1,       9,       9,  2,19980410,1728, -66.3700,  -29.5017,  4838,   2489.7,  -0.2364,   34.661,2,-999.0000,9, -999.000,9,    232.4,2,  123.690,2,   33.290,2,    0.010,2,    2.290,2,    0.237,2,    0.117,2, -999.000,9, 2258.100,2, -999.000,9
           NA,   SR04e,     28,   1,       8,       8,  2,19980410,1728, -66.3700,  -29.5017,  4838,   2998.4,  -0.2970,   34.659,2,  34.6572,2, -999.000,9,   -999.0,9,  123.050,2,   32.970,2,    0.010,2,    2.210,2,    0.217,2,    0.108,2, -999.000,9, -999.000,9, -999.000,9
           NA,   SR04e,     28,   1,       7,       7,  2,19980410,1728, -66.3700,  -29.5017,  4838,   3498.8,  -0.3442,   34.655,2,  34.6539,2, -999.000,9,    238.4,2,  123.310,2,   33.020,2,    0.020,2,    2.270,2,    0.223,2,    0.114,2, -999.000,9, 2256.100,2, -999.000,9
           NA,   SR04e,     28,   1,       6,       6,  2,19980410,1728, -66.3700,  -29.5017,  4838,   3998.8,  -0.3838,   34.653,2,  34.6540,2, -999.000,9,    241.1,2,  124.300,2,   32.940,2,    0.010,2,    2.260,2,    0.209,2,    0.106,2, -999.000,9, 2253.500,2, -999.000,9
           NA,   SR04e,     28,   1,       5,       5,  2,19980410,1728, -66.3700,  -29.5017,  4838,   4497.8,  -0.4803,   34.647,2,-999.0000,9, -999.000,9,    248.5,2,  116.200,2,   32.890,2,    0.010,2,    2.250,2,    0.462,2,    0.234,2, -999.000,9, 2252.500,2, -999.000,9
           NA,   SR04e,     28,   1,       4,       4,  2,19980410,1728, -66.3700,  -29.5017,  4838,   4699.2,  -0.5025,   34.645,2,  34.6470,2, -999.000,9,    247.6,2,  122.010,2,   33.120,2,    0.010,2,    2.260,2,    0.432,2,    0.206,2, -999.000,9, 2251.600,2, -999.000,9
           NA,   SR04e,     28,   1,       3,       3,  2,19980410,1728, -66.3700,  -29.5017,  4838,   4798.0,  -0.5129,   34.642,2,  34.6415,2, -999.000,9,    249.7,2,  117.920,2,   32.930,2,    0.020,2,    2.260,2,    0.660,2,    0.319,2, -999.000,9, 2251.600,2, -999.000,9
           NA,   SR04e,     28,   1,       2,       2,  2,19980410,1728, -66.3700,  -29.5017,  4838,   4847.9,  -0.5348,   34.640,2,  34.6401,2, -999.000,9,    252.7,2,  114.620,2,   32.890,2,    0.010,2,    2.250,2, -999.000,9, -999.000,9, -999.000,9, 2251.100,2, -999.000,9
           NA,   SR04e,     28,   1,       1,       1,  2,19980410,1728, -66.3700,  -29.5017,  4838,   4873.2,  -0.5324,   34.640,2,  34.6410,2, -999.000,9,    253.8,2,  114.270,2,   32.820,2,    0.010,2,    2.240,2,    1.248,2,    0.602,2, -999.000,9, 2250.000,2, -999.000,9
           NA,   SR04e,     29,   1,      24,      24,  2,19980411,0212, -66.6200,  -27.1267,  4893,     19.2,  -1.3264,   34.123,2,  34.1249,2, -999.000,9,    336.3,2,   52.560,2,   23.800,2,    0.220,2,    1.710,2,    6.302,2,    3.195,2, -999.000,9, 2183.100,2, -999.000,9
           NA,   SR04e,     29,   1,      23,      23,  2,19980411,0212, -66.6200,  -27.1267,  4893,     50.0,  -1.3234,   34.126,2,  34.1413,2, -999.000,9,    334.5,2,   53.800,2,   23.980,2,    0.230,2,    1.730,2,    6.274,2,    3.105,2, -999.000,9, 2186.700,2, -999.000,9
           NA,   SR04e,     29,   1,      22,      22,  2,19980411,0212, -66.6200,  -27.1267,  4893,     97.7,  -1.3517,   34.479,2,  34.4809,2, -999.000,9,    270.8,2,   77.440,2,   31.040,2,    0.090,2,    2.140,2,    3.955,2,    1.958,2, -999.000,9, 2231.500,2, -999.000,9
           NA,   SR04e,     29,   1,      21,      21,  2,19980411,0212, -66.6200,  -27.1267,  4893,    199.2,   0.5451,   34.673,2,  34.6746,2, -999.000,9,    193.6,2,  107.660,2,   34.250,2,    0.040,2,    2.330,2,    0.692,2,    0.336,2, -999.000,9, 2270.700,2, -999.000,9
           NA,   SR04e,     29,   1,      20,      20,  2,19980411,0212, -66.6200,  -27.1267,  4893,    298.3,   0.6080,   34.691,2,  34.6902,2, -999.000,9,    190.0,2,  113.890,2,   34.380,2,    0.030,2,    2.360,2,    0.293,2,    0.142,2, -999.000,9, 2271.500,2, -999.000,9
           NA,   SR04e,     29,   1,      19,      19,  2,19980411,0212, -66.6200,  -27.1267,  4893,    399.2,   0.5157,   34.688,2,  34.6878,2, -999.000,9,    192.2,2,  117.890,2,   34.640,2,    0.010,2,    2.360,2,    0.233,2,    0.114,2, -999.000,9, -999.000,9, -999.000,9
           NA,   SR04e,     29,   1,      18,      18,  2,19980411,0212, -66.6200,  -27.1267,  4893,    499.5,   0.4446,   34.687,2,  34.6861,2, -999.000,9,    192.9,2,  120.140,2,   34.600,2,    0.020,2,    2.360,2,    0.192,2,    0.094,2, -999.000,9, 2271.900,2, -999.000,9
           NA,   SR04e,     29,   1,      17,      17,  2,19980411,0212, -66.6200,  -27.1267,  4893,    599.7,   0.3830,   34.684,2,  34.6832,2, -999.000,9,    195.5,2,  122.020,2,   34.350,2,    0.030,2,    2.360,2,    0.185,2,    0.095,2, -999.000,9, 2273.200,2, -999.000,9
           NA,   SR04e,     29,   1,      16,      16,  2,19980411,0212, -66.6200,  -27.1267,  4893,    699.0,   0.3198,   34.683,2,  34.6822,2, -999.000,9,    198.4,2,  122.930,2,   34.680,2,    0.010,2,    2.360,2,    0.150,2,    0.075,2, -999.000,9, 2272.800,2, -999.000,9
           NA,   SR04e,     29,   1,      15,      15,  2,19980411,0212, -66.6200,  -27.1267,  4893,    799.1,   0.2753,   34.681,2,  34.6805,2, -999.000,9,    200.2,2,  125.040,2,   34.740,2,    0.010,2,    2.370,2,    0.160,2,    0.089,2, -999.000,9, 2272.400,2, -999.000,9
           NA,   SR04e,     29,   1,      11,      11,  2,19980411,0212, -66.6200,  -27.1267,  4893,    998.7,   0.1836,   34.678,2,  34.6774,2, -999.000,9,    205.0,2,  125.600,2,   34.310,2,    0.010,2,    2.350,2,    0.131,2,    0.066,2, -999.000,9, 2269.300,2, -999.000,9
           NA,   SR04e,     29,   1,      10,      10,  2,19980411,0212, -66.6200,  -27.1267,  4893,   1498.2,   0.0002,   34.671,2,  34.6698,2, -999.000,9,    216.0,2,  123.790,2,   33.760,2,    0.020,2,    2.320,2, -999.000,9, -999.000,9, -999.000,9, 2263.000,2, -999.000,9
           NA,   SR04e,     29,   1,       9,       9,  2,19980411,0212, -66.6200,  -27.1267,  4893,   2001.9,  -0.1378,   34.665,2,  34.6645,2, -999.000,9,    224.7,2,  125.570,2,   33.690,2,    0.020,2,    2.310,2, -999.000,9, -999.000,9, -999.000,9, 2258.300,2, -999.000,9
           NA,   SR04e,     29,   1,       8,       8,  2,19980411,0212, -66.6200,  -27.1267,  4893,   2499.2,  -0.2279,   34.662,2,  34.6608,2, -999.000,9,    231.2,2,  124.490,2,   33.510,2,    0.000,2,    2.290,2, -999.000,9, -999.000,9, -999.000,9, 2257.200,2, -999.000,9
           NA,   SR04e,     29,   1,       7,       7,  2,19980411,0212, -66.6200,  -27.1267,  4893,   2997.2,  -0.2881,   34.659,2,  34.6585,2, -999.000,9,    236.2,2,  123.350,2,   33.270,2,    0.020,2,    2.280,2, -999.000,9, -999.000,9, -999.000,9, 2253.300,2, -999.000,9
           NA,   SR04e,     29,   1,       6,       6,  2,19980411,0212, -66.6200,  -27.1267,  4893,   3594.3,  -0.3429,   34.655,2,  34.6549,2, -999.000,9,    240.8,2,  123.530,2,   33.000,2,    0.020,2,    2.270,2, -999.000,9, -999.000,9, -999.000,9, 2253.200,2, -999.000,9
           NA,   SR04e,     29,   1,       5,       5,  2,19980411,0212, -66.6200,  -27.1267,  4893,   4197.4,  -0.3829,   34.653,2,  34.6525,2, -999.000,9,    243.7,2,  124.800,2,   33.000,2,    0.010,2,    2.270,2,    0.191,2,    0.103,2, -999.000,9, 2250.700,2, -999.000,9
           NA,   SR04e,     29,   1,       4,       4,  2,19980411,0212, -66.6200,  -27.1267,  4893,   4697.5,  -0.4757,   34.648,2,  34.6479,2, -999.000,9,    247.8,2,  121.380,2,   33.040,2,    0.010,2,    2.260,2,    0.284,2,    0.144,2, -999.000,9, 2249.800,2, -999.000,9
           NA,   SR04e,     29,   1,       3,       3,  2,19980411,0212, -66.6200,  -27.1267,  4893,   4796.6,  -0.4843,   34.646,2,  34.6466,2, -999.000,9,    247.1,2,  124.270,2,   32.890,2,    0.010,2,    2.270,2,    0.329,2,    0.171,2, -999.000,9, 2251.200,2, -999.000,9
           NA,   SR04e,     29,   1,       2,       2,  2,19980411,0212, -66.6200,  -27.1267,  4893,   4897.6,  -0.4919,   34.644,2,  34.6455,2, -999.000,9,   -999.0,9,  126.420,2,   33.090,2,    0.000,2,    2.260,2,    0.604,2,    0.291,2, -999.000,9, 2251.200,2, -999.000,9
           NA,   SR04e,     29,   1,       1,       1,  2,19980411,0212, -66.6200,  -27.1267,  4893,   4931.1,  -0.4946,   34.643,2,  34.6449,2, -999.000,9,    252.4,2,  124.440,2,   32.960,2,    0.020,2,    2.250,2,    0.743,2,    0.359,2, -999.000,9, 2251.000,2, -999.000,9