BOTTLE,20210426JOAExport
EXPOCODE,SECT_ID,STNNBR,CASTNO,SAMPNO,BTLNBR,BTLNBR_FLAG_W,DATE,TIME,LATITUDE,LONGITUDE,DEPTH,CTDPRS,CTDTMP,CTDSAL,CTDSAL_FLAG_W,SALNTY,SALNTY_FLAG_W,CTDOXY,CTDOXY_FLAG_W,OXYGEN,OXYGEN_FLAG_W,SILCAT,SILCAT_FLAG_W,NITRAT,NITRAT_FLAG_W,NITRIT,NITRIT_FLAG_W,PHSPHT,PHSPHT_FLAG_W,CFC-11,CFC-11_FLAG_W,CFC-12,CFC-12_FLAG_W,SF6,SF6_FLAG_W,TCARBN,TCARBN_FLAG_W,ALKALI,ALKALI_FLAG_W
,,,,,,,,,,,,DB,ITS-90,PSS-78,,PSS-78,,UMOL/KG,,UMOL/KG,,UMOL/KG,,UMOL/KG,,UMOL/KG,,UMOL/KG,,PMOL/KG,,PMOL/KG,,FMOL/KG,,UMOL/KG,,UMOL/KG
           NA,   SR04e,     18,   1,      23,      23,  2,19980407,0944, -64.4200,  -45.8067,  4485,     49.4,  -1.6412,   34.466,2,  34.4547,2, -999.000,9,    284.2,2,   78.640,2,   28.940,2,    0.310,2,    2.040,2,    4.216,2,    2.073,2, -999.000,9, 2226.800,2, -999.000,9
           NA,   SR04e,     18,   1,      22,      22,  2,19980407,0944, -64.4200,  -45.8067,  4485,     99.1,  -1.6516,   34.512,2,  34.5136,2, -999.000,9,    263.9,2,   83.660,2,   30.890,2,    0.020,2,    2.120,2,    3.720,2,    1.834,2, -999.000,9, 2240.600,2, -999.000,9
           NA,   SR04e,     18,   1,      21,      21,  2,19980407,0944, -64.4200,  -45.8067,  4485,    199.4,   0.3500,   34.661,2,  34.6593,2, -999.000,9,    203.5,2,  102.190,2,   33.320,2,    0.020,2,    2.270,2,    1.025,2,    0.491,2, -999.000,9, 2260.800,2, -999.000,9
           NA,   SR04e,     18,   1,      20,      20,  2,19980407,0944, -64.4200,  -45.8067,  4485,    299.5,   0.5159,   34.678,2,  34.6765,2, -999.000,9,    201.8,2,  107.760,2,   33.500,2,    0.020,2,    2.300,2,    0.670,2,    0.321,2, -999.000,9, 2265.400,2, -999.000,9
           NA,   SR04e,     18,   1,      19,      19,  2,19980407,0944, -64.4200,  -45.8067,  4485,    399.5,   0.4808,   34.680,2,  34.6753,2, -999.000,9,    199.4,2,  110.480,2,   33.960,2,    0.010,2,    2.320,2,    0.582,2,    0.278,2, -999.000,9, 2264.100,2, -999.000,9
           NA,   SR04e,     18,   1,      18,      18,  2,19980407,0944, -64.4200,  -45.8067,  4485,    499.0,   0.5721,   34.691,2,  34.6897,2, -999.000,9,    198.0,2,  115.480,2,   33.760,2,    0.020,2,    2.320,2,    0.266,2,    0.125,2, -999.000,9, 2267.000,2, -999.000,9
           NA,   SR04e,     18,   1,      17,      17,  2,19980407,0944, -64.4200,  -45.8067,  4485,    599.1,   0.4793,   34.688,2,  34.6859,2, -999.000,9,    196.4,2,  119.360,2,   34.270,2,    0.020,2,    2.350,2,    0.198,2,    0.094,2, -999.000,9, 2271.000,2, -999.000,9
           NA,   SR04e,     18,   1,      16,      16,  2,19980407,0944, -64.4200,  -45.8067,  4485,    699.9,   0.4040,   34.685,2,  34.6576,0, -999.000,9,    199.2,2,  120.830,2,   34.330,2,    0.010,2,    2.360,2,    0.189,2,    0.092,2, -999.000,9, 2266.800,2, -999.000,9
           NA,   SR04e,     18,   1,      15,      15,  2,19980407,0944, -64.4200,  -45.8067,  4485,    799.9,   0.3483,   34.683,2,  34.6823,2, -999.000,9,    201.3,2,  122.920,2,   34.320,2,    0.020,2,    2.350,2,    0.166,2,    0.085,2, -999.000,9, 2266.400,2, -999.000,9
           NA,   SR04e,     18,   1,      11,      11,  2,19980407,0944, -64.4200,  -45.8067,  4485,    999.1,   0.2403,   34.679,2,  34.6778,2, -999.000,9,    204.7,2,  124.400,2,   34.190,2,    0.020,2,    2.360,2,    0.149,2,    0.075,2, -999.000,9, 2265.200,2, -999.000,9
           NA,   SR04e,     18,   1,      10,      10,  2,19980407,0944, -64.4200,  -45.8067,  4485,   1252.2,   0.1236,   34.674,2,  34.6705,2, -999.000,9,    210.3,2,  124.540,2,   33.880,2,    0.010,2,    2.340,2,    0.151,2,    0.073,2, -999.000,9, 2262.400,2, -999.000,9
           NA,   SR04e,     18,   1,       9,       9,  2,19980407,0944, -64.4200,  -45.8067,  4485,   1499.1,   0.0289,   34.671,2,  34.6693,2, -999.000,9,    216.4,2,  124.870,2,   33.870,2,    0.010,2,    2.330,2,    0.156,2,    0.080,2, -999.000,9, 2261.600,2, -999.000,9
           NA,   SR04e,     18,   1,       8,       8,  2,19980407,0944, -64.4200,  -45.8067,  4485,   1999.6,  -0.1195,   34.664,2,  34.6327,0, -999.000,9,    224.9,2,  125.820,2,   33.630,2,    0.010,2,    2.320,2,    0.163,2,    0.084,2, -999.000,9, 2258.900,2, -999.000,9
           NA,   SR04e,     18,   1,       7,       7,  2,19980407,0944, -64.4200,  -45.8067,  4485,   2599.2,  -0.2310,   34.660,2,  34.6593,2, -999.000,9,    231.8,2,  124.390,2,   33.210,2,    0.010,2,    2.310,2,    0.222,2,    0.110,2, -999.000,9, 2256.700,2, -999.000,9
           NA,   SR04e,     18,   1,       6,       6,  2,19980407,0944, -64.4200,  -45.8067,  4485,   3199.2,  -0.3020,   34.656,2,  34.6564,2, -999.000,9,    237.8,2,  124.160,2,   33.260,2,    0.000,2,    2.290,2,    0.286,2,    0.141,2, -999.000,9, 2255.300,2, -999.000,9
           NA,   SR04e,     18,   1,       5,       5,  2,19980407,0944, -64.4200,  -45.8067,  4485,   3798.0,  -0.3545,   34.653,2,  34.6533,2, -999.000,9,    241.2,2,  125.680,2,   33.180,2,    0.010,2,    2.290,2,    0.230,2,    0.119,2, -999.000,9, 2253.300,2, -999.000,9
           NA,   SR04e,     18,   1,       4,       4,  2,19980407,0944, -64.4200,  -45.8067,  4485,   4297.1,  -0.4172,   34.650,2,  34.6336,0, -999.000,9,    245.1,2,  124.480,2,   32.880,2,    0.010,2,    2.280,2,    0.194,2,    0.101,2, -999.000,9, 2253.100,2, -999.000,9
           NA,   SR04e,     18,   1,       3,       3,  2,19980407,0944, -64.4200,  -45.8067,  4485,   4393.2,  -0.4592,   34.648,2,  34.6341,0, -999.000,9,    245.5,2,  124.060,2,   33.170,2,    0.010,2,    2.290,2,    0.246,2,    0.127,2, -999.000,9, 2251.800,2, -999.000,9
           NA,   SR04e,     18,   1,       2,       2,  2,19980407,0944, -64.4200,  -45.8067,  4485,   4447.9,  -0.4835,   34.646,2,  34.6429,2, -999.000,9,    246.8,2,  125.580,2,   33.120,2,    0.010,2,    2.290,2,    0.325,2,    0.158,2, -999.000,9, 2252.600,2, -999.000,9
           NA,   SR04e,     18,   1,       1,       1,  2,19980407,0944, -64.4200,  -45.8067,  4485,   4503.0,  -0.5074,   34.644,2,  34.6451,2, -999.000,9,    248.0,2,  123.760,2,   33.060,2,    0.020,2,    2.290,2,    0.493,2,    0.235,2, -999.000,9, -999.000,9, -999.000,9
           NA,   SR04e,     19,   1,      24,      24,  2,19980407,1823, -64.6317,  -44.1583,  4647,     18.4,  -1.8177,   33.527,2,  33.5307,2, -999.000,9,    359.9,2,   68.180,2,   24.550,2,    0.260,2,    1.660,2,    6.493,2,    3.210,2, -999.000,9, 2142.600,2, -999.000,9
           NA,   SR04e,     19,   1,      23,      23,  2,19980407,1823, -64.6317,  -44.1583,  4647,     49.5,  -1.5799,   34.430,2,  34.4336,2, -999.000,9,    300.9,2,   74.420,2,   27.790,2,    0.200,2,    1.950,2,    4.556,2,    2.233,2, -999.000,9, 2216.900,2, -999.000,9
           NA,   SR04e,     19,   1,      22,      22,  2,19980407,1823, -64.6317,  -44.1583,  4647,     98.7,  -1.5749,   34.484,2,  34.4843,2, -999.000,9,    275.8,2,   80.970,2,   30.180,2,    0.050,2,    2.090,2,    4.128,2,    2.030,2, -999.000,9, 2233.400,2, -999.000,9
           NA,   SR04e,     19,   1,      21,      21,  2,19980407,1823, -64.6317,  -44.1583,  4647,    199.6,   0.0528,   34.637,2,  34.6371,2, -999.000,9,    209.3,2,  102.910,2,   33.120,2,    0.040,2,    2.290,2,    1.151,2,    0.614,2, -999.000,9, 2262.600,2, -999.000,9
           NA,   SR04e,     19,   1,      20,      20,  2,19980407,1823, -64.6317,  -44.1583,  4647,    299.5,   0.5594,   34.688,2,  34.6850,2, -999.000,9,    191.0,2,  113.990,2,   33.970,2,    0.020,2,    2.360,2,    0.425,2,    0.197,2, -999.000,9, 2271.300,2, -999.000,9
           NA,   SR04e,     19,   1,      19,      19,  2,19980407,1823, -64.6317,  -44.1583,  4647,    399.3,   0.5205,   34.689,2,  34.6879,2, -999.000,9,    193.7,2,  117.470,2,   34.280,2,    0.000,2,    2.360,2,    0.242,2,    0.115,2, -999.000,9, 2267.200,2, -999.000,9
           NA,   SR04e,     19,   1,      18,      18,  2,19980407,1823, -64.6317,  -44.1583,  4647,    499.7,   0.4460,   34.687,2,  34.6862,2, -999.000,9,    193.1,2,  120.680,2,   34.500,2,    0.010,2,    2.360,2,    0.206,2,    0.095,2, -999.000,9, 2272.300,2, -999.000,9
           NA,   SR04e,     19,   1,      17,      17,  2,19980407,1823, -64.6317,  -44.1583,  4647,    601.5,   0.3749,   34.685,2,  34.6837,2, -999.000,9,    195.8,2,  121.930,2,   34.030,2,    0.020,2,    2.350,2,    0.171,2,    0.083,2, -999.000,9, 2267.600,2, -999.000,9
           NA,   SR04e,     19,   1,      16,      16,  2,19980407,1823, -64.6317,  -44.1583,  4647,    699.7,   0.3211,   34.683,2,  34.6840,2, -999.000,9,    197.8,2,  123.040,2,   34.150,2,    0.010,2,    2.360,2,    0.176,2,    0.082,2, -999.000,9, 2269.400,2, -999.000,9
           NA,   SR04e,     19,   1,      15,      15,  2,19980407,1823, -64.6317,  -44.1583,  4647,    999.6,   0.1816,   34.678,2,  34.6758,2, -999.000,9,    205.8,2,  124.960,2,   33.970,2,    0.000,2,    2.350,2,    0.145,2,    0.072,2, -999.000,9, -999.000,9, -999.000,9
           NA,   SR04e,     19,   1,      11,      11,  2,19980407,1823, -64.6317,  -44.1583,  4647,   1250.0,   0.0821,   34.674,2,  34.6723,2, -999.000,9,    211.9,2,  125.830,2,   33.850,2,    0.020,2,    2.340,2,    0.144,2,    0.071,2, -999.000,9, -999.000,9, -999.000,9
           NA,   SR04e,     19,   1,      10,      10,  2,19980407,1823, -64.6317,  -44.1583,  4647,   1499.6,  -0.0100,   34.669,2,  34.6693,2, -999.000,9,    217.3,2,  125.480,2,   33.340,2,    0.030,2,    2.320,2,    0.152,2,    0.076,2, -999.000,9, 2263.100,2, -999.000,9
           NA,   SR04e,     19,   1,       9,       9,  2,19980407,1823, -64.6317,  -44.1583,  4647,   1999.3,  -0.1464,   34.664,2,  34.6629,2, -999.000,9,    226.2,2,  125.170,2,   33.260,2,    0.020,2,    2.300,2,    0.166,2,    0.085,2, -999.000,9, 2257.800,2, -999.000,9
           NA,   SR04e,     19,   1,       8,       8,  2,19980407,1823, -64.6317,  -44.1583,  4647,   2498.8,  -0.2380,   34.660,2,  34.6591,2, -999.000,9,    231.6,2,  124.280,2,   33.140,2,    0.000,2,    2.290,2,    0.203,2,    0.100,2, -999.000,9, 2255.300,2, -999.000,9
           NA,   SR04e,     19,   1,       7,       7,  2,19980407,1823, -64.6317,  -44.1583,  4647,   2998.1,  -0.2960,   34.658,2,  34.6557,2, -999.000,9,    236.1,2,  124.050,2,   33.080,2,    0.030,2,    2.270,2, -999.000,9, -999.000,9, -999.000,9, 2255.000,2, -999.000,9
           NA,   SR04e,     19,   1,       5,       5,  2,19980407,1823, -64.6317,  -44.1583,  4647,   3997.6,  -0.3740,   34.653,2,  34.6518,2, -999.000,9,    242.3,2,  125.170,2,   32.720,2,    0.030,2,    2.280,2,    0.200,2,    0.108,2, -999.000,9, 2251.200,2, -999.000,9
           NA,   SR04e,     19,   1,       4,       4,  2,19980407,1823, -64.6317,  -44.1583,  4647,   4397.5,  -0.4409,   34.649,2,  34.6496,2, -999.000,9,    246.9,2,  121.310,2,   32.720,2,    0.020,2,    2.260,2,    0.259,2,    0.129,2, -999.000,9, -999.000,4, -999.000,9
           NA,   SR04e,     19,   1,       3,       3,  2,19980407,1823, -64.6317,  -44.1583,  4647,   4546.4,  -0.4818,   34.647,2,  34.6486,2, -999.000,9,    246.7,2,  123.020,2,   32.900,2,    0.000,2,    2.260,2, -999.000,9, -999.000,9, -999.000,9, 2248.600,2, -999.000,9
           NA,   SR04e,     19,   1,       2,       2,  2,19980407,1823, -64.6317,  -44.1583,  4647,   4597.4,  -0.4939,   34.646,2,  34.6450,2, -999.000,9,    247.2,2,  123.970,2,   33.030,2,    0.010,2,    2.260,2, -999.000,9, -999.000,9, -999.000,9, 2249.800,2, -999.000,9
           NA,   SR04e,     19,   1,       1,       1,  2,19980407,1823, -64.6317,  -44.1583,  4647,   4653.7,  -0.5055,   34.644,2,  34.6435,2, -999.000,9,    247.7,2,  123.700,2,   32.610,2,    0.020,2,    2.240,2, -999.000,9, -999.000,9, -999.000,9, 2251.500,2, -999.000,9
           NA,   SR04e,     20,  99,       9,       9,  2,19980408,0328, -64.8017,  -42.4967,  4735,     19.3,  -1.7315,   33.684,2,-999.0000,9, -999.000,9,   -999.0,9,   70.900,2,   25.990,2,    0.260,2,    1.770,2, -999.000,9, -999.000,9, -999.000,9, -999.000,9, -999.000,9
           NA,   SR04e,     20,  99,       7,       7,  2,19980408,0328, -64.8017,  -42.4967,  4735,     19.4,  -1.7304,   33.684,2,-999.0000,9, -999.000,9,   -999.0,9,   70.770,2,   26.120,2,    0.260,2,    1.770,2, -999.000,9, -999.000,9, -999.000,9, -999.000,9, -999.000,9
           NA,   SR04e,     20,  99,       8,       8,  2,19980408,0328, -64.8017,  -42.4967,  4735,     19.4,  -1.7306,   33.684,2,-999.0000,9, -999.000,9,   -999.0,9,   70.800,2,   26.090,2,    0.250,2,    1.760,2, -999.000,9, -999.000,9, -999.000,9, -999.000,9, -999.000,9
           NA,   SR04e,     20,  99,       6,       6,  2,19980408,0328, -64.8017,  -42.4967,  4735,     19.4,  -1.7289,   33.683,2,-999.0000,9, -999.000,9,   -999.0,9,   70.840,2,   25.990,2,    0.260,2,    1.770,2, -999.000,9, -999.000,9, -999.000,9, -999.000,9, -999.000,9
           NA,   SR04e,     20,  99,      24,      24,  2,19980408,0328, -64.8017,  -42.4967,  4735,     19.4,  -1.7185,   33.690,2,-999.0000,9, -999.000,9,    348.8,2,   70.730,2,   25.790,2,    0.280,2,    1.640,2, -999.000,9, -999.000,9, -999.000,9, 2159.400,9, -999.000,9
           NA,   SR04e,     20,  99,      23,      23,  2,19980408,0328, -64.8017,  -42.4967,  4735,     49.3,  -1.5385,   34.330,2,-999.0000,9, -999.000,9,    305.8,2,   73.660,2,   27.790,2,    0.230,2,    1.930,2, -999.000,9, -999.000,9, -999.000,9, -999.000,9, -999.000,9
           NA,   SR04e,     20,  99,      22,      22,  2,19980408,0328, -64.8017,  -42.4967,  4735,     99.1,  -1.5326,   34.469,2,-999.0000,9, -999.000,9,    278.6,2,   79.500,2,   30.060,2,    0.070,2,    2.080,2,    6.647,2,    3.225,2, -999.000,9, 2231.000,2, -999.000,9
           NA,   SR04e,     20,  99,       4,       4,  2,19980408,0328, -64.8017,  -42.4967,  4735,     99.4,  -1.6502,   34.456,2,-999.0000,9, -999.000,9,   -999.0,9,   78.500,2,   29.640,2,    0.200,2,    2.060,2,    4.875,2,    2.341,2, -999.000,9, -999.000,9, -999.000,9
           NA,   SR04e,     20,  99,       5,       5,  2,19980408,0328, -64.8017,  -42.4967,  4735,     99.5,  -1.6486,   34.456,2,-999.0000,9, -999.000,9,   -999.0,9,   78.150,2,   29.480,2,    0.200,2,    2.070,2,    4.288,2,    2.073,2, -999.000,9, -999.000,9, -999.000,9
           NA,   SR04e,     20,  99,       3,       3,  2,19980408,0328, -64.8017,  -42.4967,  4735,    148.9,  -1.0900,   34.521,2,-999.0000,9, -999.000,9,   -999.0,9,   87.960,2,   31.550,2,    0.030,2,    2.140,2, -999.000,9, -999.000,9, -999.000,9, -999.000,9, -999.000,9
           NA,   SR04e,     20,  99,      21,      21,  2,19980408,0328, -64.8017,  -42.4967,  4735,    200.0,  -0.0825,   34.618,2,-999.0000,9, -999.000,9,    214.9,2,  101.060,2,   33.160,2,    0.010,2,    2.270,2,    1.654,2,    0.800,2, -999.000,9, 2258.200,2, -999.000,9
           NA,   SR04e,     20,  99,       2,       2,  2,19980408,0328, -64.8017,  -42.4967,  4735,    249.1,   0.2006,   34.653,2,-999.0000,9, -999.000,9,   -999.0,9,  106.770,2,   33.500,2,    0.020,2,    2.300,2, -999.000,9, -999.000,9, -999.000,9, -999.000,9, -999.000,9
           NA,   SR04e,     20,  99,      20,      20,  2,19980408,0328, -64.8017,  -42.4967,  4735,    299.8,   0.5487,   34.687,2,-999.0000,9, -999.000,9,    191.0,2,  114.960,2,   34.600,2,    0.020,2,    2.360,2,    0.352,2,    0.167,2, -999.000,9, 2270.700,2, -999.000,9
           NA,   SR04e,     20,  99,       1,       1,  2,19980408,0328, -64.8017,  -42.4967,  4735,    348.4,   0.5438,   34.689,2,-999.0000,9, -999.000,9,   -999.0,9,  115.780,2,   34.270,2,    0.030,2,    2.350,2, -999.000,9, -999.000,9, -999.000,9, -999.000,9, -999.000,9
           NA,   SR04e,     20,  99,      19,      19,  2,19980408,0328, -64.8017,  -42.4967,  4735,    399.6,   0.4822,   34.688,2,-999.0000,9, -999.000,9,    191.1,2,  118.660,2,   34.460,2,    0.030,2,    2.380,2,    0.232,2,    0.112,2, -999.000,9, 2274.600,2, -999.000,9
           NA,   SR04e,     20,  99,      18,      18,  2,19980408,0328, -64.8017,  -42.4967,  4735,    499.7,   0.4122,   34.686,2,-999.0000,9, -999.000,9,    192.1,2,  120.680,2,   34.440,2,    0.010,2,    2.370,2,    0.187,2,    0.089,2, -999.000,9, 2268.600,2, -999.000,9
           NA,   SR04e,     20,  99,      17,      17,  2,19980408,0328, -64.8017,  -42.4967,  4735,    594.7,   0.3574,   34.685,2,-999.0000,9, -999.000,9,    195.7,2,  122.790,2,   34.630,2,    0.010,2,    2.370,2,    0.150,2,    0.071,2, -999.000,9, -999.000,9, -999.000,9
           NA,   SR04e,     20,  99,      16,      16,  2,19980408,0328, -64.8017,  -42.4967,  4735,    699.3,   0.3070,   34.683,2,-999.0000,9, -999.000,9,    197.1,2,  123.940,2,   34.520,2,    0.020,2,    2.370,2,    0.147,2,    0.070,2, -999.000,9, 2271.900,2, -999.000,9
           NA,   SR04e,     20,  99,      15,      15,  2,19980408,0328, -64.8017,  -42.4967,  4735,    798.7,   0.2616,   34.681,2,-999.0000,9, -999.000,9,    199.4,2,  124.320,2,   34.170,2,    0.020,2,    2.360,2,    0.147,2,    0.073,2, -999.000,9, 2271.800,2, -999.000,9
           NA,   SR04e,     20,  99,      11,      11,  2,19980408,0328, -64.8017,  -42.4967,  4735,    998.6,   0.1753,   34.678,2,-999.0000,9, -999.000,9,    205.5,2,  125.320,2,   34.080,2,    0.010,2,    2.360,2,    0.112,2,    0.056,2, -999.000,9, 2269.100,2, -999.000,9
           NA,   SR04e,     20,  99,      10,      10,  2,19980408,0328, -64.8017,  -42.4967,  4735,   1496.9,  -0.0107,   34.670,2,-999.0000,9, -999.000,9,    216.9,2,  125.890,2,   33.680,2,    0.000,2,    2.330,2,    0.126,2,    0.059,2, -999.000,9, -999.000,9, -999.000,9
           NA,   SR04e,     20,  99,       9,       9,  2,19980408,0328, -64.8017,  -42.4967,  4735,   1998.9,  -0.1529,   34.664,2,-999.0000,9, -999.000,9,    227.3,2,  125.240,2,   33.510,2,    0.010,2,    2.310,2,    0.149,2,    0.073,2, -999.000,9, 2256.700,2, -999.000,9
           NA,   SR04e,     20,  99,       8,       8,  2,19980408,0328, -64.8017,  -42.4967,  4735,   2498.8,  -0.2442,   34.661,2,-999.0000,9, -999.000,9,    233.1,2,  124.430,2,   33.010,2,    0.020,2,    2.300,2,    0.182,2,    0.091,2, -999.000,9, 2257.400,2, -999.000,9
           NA,   SR04e,     20,  99,       7,       7,  2,19980408,0328, -64.8017,  -42.4967,  4735,   2998.2,  -0.3061,   34.658,2,-999.0000,9, -999.000,9,    237.2,2,  123.430,2,   32.750,2,    0.010,2,    2.280,2, -999.000,9, -999.000,9, -999.000,9, 2253.400,2, -999.000,9
           NA,   SR04e,     20,  99,       6,       6,  2,19980408,0328, -64.8017,  -42.4967,  4735,   3502.4,  -0.3530,   34.655,2,-999.0000,9, -999.000,9,    241.1,2,  122.520,2,   32.900,2,    0.030,2,    2.280,2, -999.000,9, -999.000,9, -999.000,9, 2253.600,2, -999.000,9
           NA,   SR04e,     20,  99,       5,       5,  2,19980408,0328, -64.8017,  -42.4967,  4735,   4193.8,  -0.4252,   34.651,2,-999.0000,9, -999.000,9,    245.7,2,  121.100,2,   32.820,2,    0.020,2,    2.270,2,    0.341,6,    0.172,6, -999.000,9, 2248.200,2, -999.000,9
           NA,   SR04e,     20,  99,       4,       4,  2,19980408,0328, -64.8017,  -42.4967,  4735,   4597.3,  -0.5010,   34.646,2,-999.0000,9, -999.000,9,    249.4,2,  121.380,2,   32.570,2,    0.020,2,    2.270,2, -999.000,9, -999.000,9, -999.000,9, 2251.500,2, -999.000,9
           NA,   SR04e,     20,  99,       3,       3,  2,19980408,0328, -64.8017,  -42.4967,  4735,   4697.9,  -0.5164,   34.644,2,-999.0000,9, -999.000,9,    250.2,2,  122.070,2,   32.610,2,    0.010,2,    2.270,2, -999.000,9, -999.000,9, -999.000,9, 2251.100,2, -999.000,9
           NA,   SR04e,     20,  99,       2,       2,  2,19980408,0328, -64.8017,  -42.4967,  4735,   4748.4,  -0.5315,   34.641,2,-999.0000,9, -999.000,9,    251.6,2,  116.940,2,   32.700,2,    0.010,2,    2.260,2, -999.000,9, -999.000,9, -999.000,9, 2249.500,2, -999.000,9
           NA,   SR04e,     20,  99,       1,       1,  2,19980408,0328, -64.8017,  -42.4967,  4735,   4764.4,  -0.5296,   34.642,2,-999.0000,9, -999.000,9,    251.6,2,  117.090,2,   32.780,2,    0.020,2,    2.260,2, -999.000,9, -999.000,9, -999.000,9, 2249.700,2, -999.000,9