BOTTLE,20210426JOAExport
# Exported from JOA (5.5.0 Final September 29th, 2020) on 2021/03/25 22:04:03
#BOTTLE,20090908PRINUNIVRMK,,,,,,,,,,,,,,,,,,,,,,,,,,,,,,,,,,,,,,
# 10/07/04 Initialized README file  ,,,,,,,,,,,,,,,,,,,,,,,,,,,,,,,,,,,,,,,
# All data from CCHDO 5/6/08 (final version) ,,,,,,,,,,,,,,,,,,,,,,,,,,,,,,,,,,,,,,,
# Ship: Polarstern  ,,,,,,,,,,,,,,,,,,,,,,,,,,,,,,,,,,,,,,,
# Cruise: ANT XV/4; WOCE SR04e, 06AQANTXV_4 ,,,,,,,,,,,,,,,,,,,,,,,,,,,,,,,,,,,,,,
# Region: Weddell Sea, Punta Arenas to Capetown ,,,,,,,,,,,,,,,,,,,,,,,,,,,,,,,,,,,,,,
# EXPOCODE: 06AQ19980328 ,,,,,,,,,,,,,,,,,,,,,,,,,,,,,,,,,,,,,,,
# Dates: 3/28/1998 - 5/21/1998 ,,,,,,,,,,,,,,,,,,,,,,,,,,,,,,,,,,,,,,,
# Ch. Sci.: Eberhard Fahrbach  ,,,,,,,,,,,,,,,,,,,,,,,,,,,,,,,,,,,,,,,
# 132 stations with 24 place rosette ,,,,,,,,,,,,,,,,,,,,,,,,,,,,,,,,,,,,,,,
# Hydro: Who - Fahrbach; Status - final ,,,,,,,,,,,,,,,,,,,,,,,,,,,,,,,,,,,,,,,
#"# 	Notes:  ",,,,,,,,,,,,,,,,,,,,,,,,,,,,,,,,,,,,,,,
# Nuts/O2: Who - Fahrbach,Bakker; Status -   ,,,,,,,,,,,,,,,,,,,,,,,,,,,,,,,,,,,,,,
#"# 	Notes: Oxygen precision 0.5umol/kg. ",,,,,,,,,,,,,,,,,,,,,,,,,,,,,,,,,,,,,,,
#"# 		Nitrate+nitrate precision 0.07umol/kg ",,,,,,,,,,,,,,,,,,,,,,,,,,,,,,,,,,,,,,,
# TCO2: Who - M. Hoppema; Status - final ,,,,,,,,,,,,,,,,,,,,,,,,,,,,,,,,,,,,,,,
#"# 	Notes: Coulometers from NIOZ (Texel)", Robinson and Williams design ,,,,,,,,,,,,,,,,,,,,,,,,,,,,,,,,,,,,,,
#"# 		CRM results: 21 replicates with precision of 1.5umol/kg. Data ",,,,,,,,,,,,,,,,,,,,,,,,,,,,,,,,,,,,,,,
#"#  		corrected to CRM ",,,,,,,,,,,,,,,,,,,,,,,,,,,,,,,,,,,,,,,
#"# 	See Hoppema",2004,,,,,,,,,,,,,,,,,,,,,,,,,,,,,,,,,,,,,,
# fCO2: Who - f; Status - underway only; S Plus -  ,,,,,,,,,,,,,,,,,,,,,,,,,,,,,,,,,,,,,,,
#"# 	Notes:  ",,,,,,,,,,,,,,,,,,,,,,,,,,,,,,,,,,,,,,,
# CFC: Who - Roether; Status - final ,,,,,,,,,,,,,,,,,,,,,,,,,,,,,,,,,,,,,,,
#"# 	Notes: See Heeschen et al 2004. ",,,,,,,,,,,,,,,,,,,,,,,,,,,,,,,,,,,,,,,
#"# 	Included CFC-11",12,113 and CCl4 ,,,,,,,,,,,,,,,,,,,,,,,,,,,,,,,,,,,,,
# H-3/He-3: Who - Roether; Status - final ,,,,,,,,,,,,,,,,,,,,,,,,,,,,,,,,,,,,,,,
#"# 	Notes: includes He-4 and Neon ",,,,,,,,,,,,,,,,,,,,,,,,,,,,,,,,,,,,,,,
# Other: Methane (See Hoppema, 2004) ,,,,,,,,,,,,,,,,,,,,,,,,,,,,,,,,,,,,,,
# References: ,,,,,,,,,,,,,,,,,,,,,,,,,,,,,,,,,,,,,,,
# Heeschen, K.U., R.S. Kier, G. Rehder, O. Klatt and E. Suess, Methane dynamics in the Weddell Sea determined via stable isotope ratios and CFC-11, GBC,18, GB2012,doi:10.1029/2003GB002151,2004,,,,,,,,,,,,,,,,,,,,,,,,,,,,,
# Hoppema, M., Weddell Sea is a globally siignificant coontributor to deep-sea sequestration of natural carbon dioxide, Deep Sea Res. I,51, 1169-1177,2004,,,,,,,,,,,,,,,,,,,,,,,,,,,,,,,,,
EXPOCODE,SECT_ID,STNNBR,CASTNO,SAMPNO,BTLNBR,BTLNBR_FLAG_W,DATE,TIME,LATITUDE,LONGITUDE,DEPTH,CTDPRS,CTDTMP,CTDSAL,CTDSAL_FLAG_W,SALNTY,SALNTY_FLAG_W,CTDOXY,CTDOXY_FLAG_W,OXYGEN,OXYGEN_FLAG_W,SILCAT,SILCAT_FLAG_W,NITRAT,NITRAT_FLAG_W,NITRIT,NITRIT_FLAG_W,PHSPHT,PHSPHT_FLAG_W,CFC-11,CFC-11_FLAG_W,CFC-12,CFC-12_FLAG_W,SF6,SF6_FLAG_W,TCARBN,TCARBN_FLAG_W,ALKALI,ALKALI_FLAG_W
,,,,,,,,,,,,DB,ITS-90,PSS-78,,PSS-78,,UMOL/KG,,UMOL/KG,,UMOL/KG,,UMOL/KG,,UMOL/KG,,UMOL/KG,,PMOL/KG,,PMOL/KG,,FMOL/KG,,UMOL/KG,,UMOL/KG
           NA,   SR04e,      3,   2,      16,      16,  2,19980401,1505, -63.1633,  -53.6700,   312,     18.2,  -1.7444,   33.951,2,  33.9531,2, -999.000,9,    328.2,2,   65.130,2,   27.570,2,    0.150,2,    1.960,2,    5.187,6,    2.568,6, -999.000,9, -999.000,9, -999.000,9
           NA,   SR04e,      3,   2,      10,      10,  2,19980401,1505, -63.1633,  -53.6700,   312,     38.7,  -1.7358,   34.020,2,-999.0000,9, -999.000,9,   -999.0,9,   65.700,2,   27.950,2,    0.150,2,    1.950,2,    5.017,2,    2.468,2, -999.000,9, -999.000,9, -999.000,9
           NA,   SR04e,      3,   2,      11,      11,  2,19980401,1505, -63.1633,  -53.6700,   312,     38.7,  -1.7365,   34.013,2,-999.0000,9, -999.000,9,   -999.0,9,   65.780,2,   28.010,2,    0.160,2,    1.990,2, -999.000,9, -999.000,9, -999.000,9, -999.000,9, -999.000,9
           NA,   SR04e,      3,   2,      15,      15,  2,19980401,1505, -63.1633,  -53.6700,   312,     38.7,  -1.7390,   34.005,2,  34.0217,2, -999.000,9,    319.3,2,   65.390,2,   27.830,2,    0.170,2,    1.980,2, -999.000,9, -999.000,9, -999.000,9, -999.000,9, -999.000,9
           NA,   SR04e,      3,   2,       9,       9,  2,19980401,1505, -63.1633,  -53.6700,   312,     57.8,  -1.6671,   34.129,2,  34.1317,2, -999.000,9,    313.7,2,   67.350,2,   28.310,2,    0.180,2,    2.010,2,    4.941,2,    2.462,2, -999.000,9, -999.000,9, -999.000,9
           NA,   SR04e,      3,   2,       6,       6,  2,19980401,1505, -63.1633,  -53.6700,   312,     98.5,  -1.5637,   34.284,2,-999.0000,9, -999.000,9,   -999.0,9,   69.540,2,   29.370,2,    0.210,2,    2.050,2, -999.000,9, -999.000,9, -999.000,9, -999.000,9, -999.000,9
           NA,   SR04e,      3,   2,       7,       7,  2,19980401,1505, -63.1633,  -53.6700,   312,     98.5,  -1.5686,   34.271,2,  34.2794,2, -999.000,9,    305.1,2,   69.370,2,   29.260,2,    0.210,2,    2.060,2, -999.000,9, -999.000,9, -999.000,9, -999.000,9, -999.000,9
           NA,   SR04e,      3,   2,       5,       5,  2,19980401,1505, -63.1633,  -53.6700,   312,    148.6,  -1.4770,   34.414,2,  34.4353,2, -999.000,9,    287.7,2,   74.280,2,   30.660,2,    0.220,2,    2.150,2,    4.122,2,    2.019,2, -999.000,9, -999.000,9, -999.000,9
           NA,   SR04e,      3,   2,       4,       4,  2,19980401,1505, -63.1633,  -53.6700,   312,    198.2,  -1.3202,   34.492,2,-999.0000,9, -999.000,9,   -999.0,9,   77.340,2,   31.410,2,    0.130,2,    2.150,2,    3.739,2,    1.834,2, -999.000,9, -999.000,9, -999.000,9
           NA,   SR04e,      3,   2,       3,       3,  2,19980401,1505, -63.1633,  -53.6700,   312,    198.2,  -1.3206,   34.493,2,-999.0000,9, -999.000,9,    275.5,2,   78.050,2,   31.660,2,    0.110,2,    2.160,2, -999.000,9, -999.000,9, -999.000,9, -999.000,9, -999.000,9
           NA,   SR04e,      3,   2,       1,       1,  2,19980401,1505, -63.1633,  -53.6700,   312,    249.6,  -1.1017,   34.540,2,  34.5524,2, -999.000,9,    263.1,2,   84.480,2,   31.830,2,    0.070,2,    2.190,2,    3.322,2,    1.625,2, -999.000,9, -999.000,9, -999.000,9
           NA,   SR04e,      3,   2,       2,       2,  2,19980401,1505, -63.1633,  -53.6700,   312,    249.6,  -1.1010,   34.540,2,  34.5338,2, -999.000,9,    267.1,2,   81.950,2,   31.500,2,    0.060,2,    2.180,2,    3.076,2,    1.510,2, -999.000,9, -999.000,9, -999.000,9
           NA,   SR04e,      4,   3,      22,      22,  2,19980401,2233, -63.3267,  -52.7833,   452,     19.3,  -1.7580,   33.864,2,  33.8917,2, -999.000,9,   -999.0,9,   61.880,2,   27.040,2,    0.130,2,    1.870,2,    5.417,2,    2.690,2, -999.000,9, -999.000,9, -999.000,9
           NA,   SR04e,      4,   3,      23,      23,  2,19980401,2233, -63.3267,  -52.7833,   452,     19.3,  -1.7576,   33.877,2,-999.0000,9, -999.000,9,    333.8,2,   61.700,2,   27.120,2,    0.140,2,    1.870,2, -999.000,9, -999.000,9, -999.000,9, 2167.000,2, -999.000,9
           NA,   SR04e,      4,   3,      20,      20,  2,19980401,2233, -63.3267,  -52.7833,   452,     49.2,  -1.7664,   33.987,2,  33.9776,2, -999.000,9,   -999.0,9,   62.280,2,   27.560,2,    0.130,2,    1.900,2, -999.000,9, -999.000,9, -999.000,9, -999.000,9, -999.000,9
           NA,   SR04e,      4,   3,      21,      21,  2,19980401,2233, -63.3267,  -52.7833,   452,     49.3,  -1.7668,   33.970,2,-999.0000,9, -999.000,9,   -999.0,9,   62.550,2,   27.290,2,    0.140,2,    1.910,2, -999.000,9, -999.000,9, -999.000,9, 2174.700,9, -999.000,9
           NA,   SR04e,      4,   3,      19,      19,  2,19980401,2233, -63.3267,  -52.7833,   452,     98.8,  -1.7003,   34.419,2,-999.0000,9, -999.000,9,    296.5,2,   67.730,2,   30.790,2,    0.310,2,    2.120,2, -999.000,9, -999.000,9, -999.000,9, 2221.200,2, -999.000,9
           NA,   SR04e,      4,   3,      18,      18,  2,19980401,2233, -63.3267,  -52.7833,   452,     98.9,  -1.6998,   34.418,2,  34.4219,2, -999.000,9,   -999.0,9,   67.780,2,   30.520,2,    0.320,2,    2.110,2,    4.839,2,    2.384,2, -999.000,9, -999.000,9, -999.000,9
           NA,   SR04e,      4,   3,      17,      17,  2,19980401,2233, -63.3267,  -52.7833,   452,    149.0,  -1.6435,   34.457,2,-999.0000,9, -999.000,9,   -999.0,9,   68.870,2,   31.330,2,    0.060,2,    2.120,2, -999.000,9, -999.000,9, -999.000,9, -999.000,9, -999.000,9
           NA,   SR04e,      4,   3,      16,      16,  2,19980401,2233, -63.3267,  -52.7833,   452,    149.0,  -1.6419,   34.457,2,  34.4550,2, -999.000,9,   -999.0,9,   68.990,2,   31.190,2,    0.050,2,    2.120,2, -999.000,9, -999.000,9, -999.000,9, -999.000,9, -999.000,9
           NA,   SR04e,      4,   3,      11,      11,  2,19980401,2233, -63.3267,  -52.7833,   452,    199.1,  -1.3047,   34.498,2,  34.5011,2, -999.000,9,   -999.0,9,   74.790,2,   31.680,2,    0.030,2,    2.140,2, -999.000,9, -999.000,9, -999.000,9, -999.000,9, -999.000,9
           NA,   SR04e,      4,   3,      15,      15,  2,19980401,2233, -63.3267,  -52.7833,   452,    199.1,  -1.3007,   34.496,2,-999.0000,9, -999.000,9,    278.9,2,   74.280,2,   31.250,2,    0.030,2,    2.140,2,    3.872,2,    1.895,2, -999.000,9, 2231.000,9, -999.000,9
           NA,   SR04e,      4,   3,       9,       9,  2,19980401,2233, -63.3267,  -52.7833,   452,    248.7,  -1.0662,   34.530,2,  34.5327,2, -999.000,9,   -999.0,9,   79.120,2,   31.550,2,    0.020,2,    2.160,2, -999.000,9, -999.000,9, -999.000,9, -999.000,9, -999.000,9
           NA,   SR04e,      4,   3,      10,      10,  2,19980401,2233, -63.3267,  -52.7833,   452,    248.8,  -1.0660,   34.530,2,-999.0000,9, -999.000,9,   -999.0,9,   78.720,2,   31.700,2,    0.010,2,    2.160,2, -999.000,9, -999.000,9, -999.000,9, -999.000,9, -999.000,9
           NA,   SR04e,      4,   3,       7,       7,  2,19980401,2233, -63.3267,  -52.7833,   452,    299.1,  -0.9652,   34.549,2,  34.5501,2, -999.000,9,   -999.0,9,   81.590,2,   31.790,2,    0.010,2,    2.160,2, -999.000,9, -999.000,9, -999.000,9, -999.000,9, -999.000,9
           NA,   SR04e,      4,   3,       8,       8,  2,19980401,2233, -63.3267,  -52.7833,   452,    299.2,  -0.9628,   34.549,2,-999.0000,9, -999.000,9,    263.8,2,   81.400,2,   31.900,2,    0.010,2,    2.170,2,    3.204,2,    1.581,2, -999.000,9, 2233.400,9, -999.000,9
           NA,   SR04e,      4,   3,       6,       6,  2,19980401,2233, -63.3267,  -52.7833,   452,    348.7,  -0.8232,   34.570,2,-999.0000,9, -999.000,9,   -999.0,9,   85.690,2,   31.760,2,    0.020,2,    2.180,2, -999.000,9, -999.000,9, -999.000,9, -999.000,9, -999.000,9
           NA,   SR04e,      4,   3,       5,       5,  2,19980401,2233, -63.3267,  -52.7833,   452,    348.7,  -0.8220,   34.570,2,  34.5740,2, -999.000,9,   -999.0,9,   85.830,2,   32.070,2,    0.020,2,    2.190,2, -999.000,9, -999.000,9, -999.000,9, -999.000,9, -999.000,9
           NA,   SR04e,      4,   3,       3,       3,  2,19980401,2233, -63.3267,  -52.7833,   452,    403.2,  -0.8337,   34.584,2,-999.0000,9, -999.000,9,   -999.0,9,   88.600,2,   31.730,2,    0.050,2,    2.200,2, -999.000,9, -999.000,9, -999.000,9, -999.000,9, -999.000,9
           NA,   SR04e,      4,   3,       4,       4,  2,19980401,2233, -63.3267,  -52.7833,   452,    403.4,  -0.8329,   34.584,2,-999.0000,9, -999.000,9,    255.8,2,   88.660,2,   32.040,2,    0.050,2,    2.220,2,    2.783,2,    1.354,2, -999.000,9, 2240.000,9, -999.000,9
           NA,   SR04e,      4,   3,       1,       1,  2,19980401,2233, -63.3267,  -52.7833,   452,    444.0,  -0.8453,   34.585,2,  34.5812,2, -999.000,9,   -999.0,9,   88.590,2,   32.110,2,    0.050,2,    2.200,2, -999.000,9, -999.000,9, -999.000,9, -999.000,9, -999.000,9
           NA,   SR04e,      4,   3,       2,       2,  2,19980401,2233, -63.3267,  -52.7833,   452,    444.7,  -0.8441,   34.585,2,-999.0000,9, -999.000,9,    256.0,2,   88.250,2,   32.180,2,    0.050,2,    2.210,2,    2.756,2,    1.337,2, -999.000,9, 2243.300,9, -999.000,9
           NA,   SR04e,      5,   1,      24,      24,  2,19980402,0117, -63.4083,  -52.4533,   560,     19.0,  -1.7986,   33.943,2,  33.9420,2, -999.000,9,    330.8,2, -999.000,9, -999.000,9, -999.000,9, -999.000,9, -999.000,9, -999.000,9, -999.000,9, -999.000,9, -999.000,9
           NA,   SR04e,      5,   1,      22,      22,  2,19980402,0117, -63.4083,  -52.4533,   560,     49.1,  -1.7520,   34.279,2,  34.2901,2, -999.000,9,    304.8,2, -999.000,9, -999.000,9, -999.000,9, -999.000,9, -999.000,9, -999.000,9, -999.000,9, -999.000,9, -999.000,9
           NA,   SR04e,      5,   1,      20,      20,  2,19980402,0117, -63.4083,  -52.4533,   560,     99.0,  -1.7959,   34.423,2,-999.0000,9, -999.000,9,    291.6,2, -999.000,9, -999.000,9, -999.000,9, -999.000,9,    4.530,2,    2.243,2, -999.000,9, -999.000,9, -999.000,9
           NA,   SR04e,      5,   1,      18,      18,  2,19980402,0117, -63.4083,  -52.4533,   560,    149.4,  -1.7651,   34.445,2,  34.4446,2, -999.000,9,    290.3,2, -999.000,9, -999.000,9, -999.000,9, -999.000,9, -999.000,9, -999.000,9, -999.000,9, -999.000,9, -999.000,9
           NA,   SR04e,      5,   1,      16,      16,  2,19980402,0117, -63.4083,  -52.4533,   560,    199.3,  -1.5945,   34.463,2,  34.4550,2, -999.000,9,    285.5,2, -999.000,9, -999.000,9, -999.000,9, -999.000,9,    4.223,2,    2.118,2, -999.000,9, -999.000,9, -999.000,9
           NA,   SR04e,      5,   1,      11,      11,  2,19980402,0117, -63.4083,  -52.4533,   560,    248.7,  -1.2732,   34.493,2,  34.4932,2, -999.000,9,    274.0,2, -999.000,9, -999.000,9, -999.000,9, -999.000,9, -999.000,9, -999.000,9, -999.000,9, -999.000,9, -999.000,9
           NA,   SR04e,      5,   1,       9,       9,  2,19980402,0117, -63.4083,  -52.4533,   560,    298.4,  -1.2186,   34.514,2,  34.5294,2, -999.000,9,    269.5,2, -999.000,9, -999.000,9, -999.000,9, -999.000,9, -999.000,9, -999.000,9, -999.000,9, -999.000,9, -999.000,9
           NA,   SR04e,      5,   1,       8,       8,  2,19980402,0117, -63.4083,  -52.4533,   560,    348.5,  -0.8406,   34.557,2,  34.5621,2, -999.000,9,    259.2,2, -999.000,9, -999.000,9, -999.000,9, -999.000,9,    3.447,2,    1.692,2, -999.000,9, -999.000,9, -999.000,9
           NA,   SR04e,      5,   1,       7,       7,  2,19980402,0117, -63.4083,  -52.4533,   560,    399.1,  -0.7092,   34.586,2,  34.5924,2, -999.000,9,    250.7,2, -999.000,9, -999.000,9, -999.000,9, -999.000,9, -999.000,3, -999.000,3, -999.000,9, -999.000,9, -999.000,9
           NA,   SR04e,      5,   1,       6,       6,  2,19980402,0117, -63.4083,  -52.4533,   560,    448.1,  -0.3775,   34.626,2,  34.6269,2, -999.000,9,    242.3,2, -999.000,9, -999.000,9, -999.000,9, -999.000,9, -999.000,9, -999.000,9, -999.000,9, -999.000,9, -999.000,9
           NA,   SR04e,      5,   1,       4,       4,  2,19980402,0117, -63.4083,  -52.4533,   560,    498.9,  -0.5642,   34.617,2,  34.6140,2, -999.000,9,    251.5,2, -999.000,9, -999.000,9, -999.000,9, -999.000,9,    2.090,2,    1.026,2, -999.000,9, -999.000,9, -999.000,9
           NA,   SR04e,      5,   1,       2,       2,  2,19980402,0117, -63.4083,  -52.4533,   560,    542.2,  -0.6781,   34.614,2,  34.6139,2, -999.000,9,    251.4,2, -999.000,9, -999.000,9, -999.000,9, -999.000,9,    2.233,2,    1.100,2, -999.000,9, -999.000,9, -999.000,9