BOTTLE,20210426JOAExport
EXPOCODE,SECT_ID,STNNBR,CASTNO,SAMPNO,BTLNBR,BTLNBR_FLAG_W,DATE,TIME,LATITUDE,LONGITUDE,DEPTH,CTDPRS,CTDTMP,CTDSAL,CTDSAL_FLAG_W,SALNTY,SALNTY_FLAG_W,CTDOXY,CTDOXY_FLAG_W,OXYGEN,OXYGEN_FLAG_W,SILCAT,SILCAT_FLAG_W,NITRAT,NITRAT_FLAG_W,NITRIT,NITRIT_FLAG_W,PHSPHT,PHSPHT_FLAG_W,CFC-11,CFC-11_FLAG_W,CFC-12,CFC-12_FLAG_W,SF6,SF6_FLAG_W,TCARBN,TCARBN_FLAG_W,ALKALI,ALKALI_FLAG_W
,,,,,,,,,,,,DB,ITS-90,PSS-78,,PSS-78,,UMOL/KG,,UMOL/KG,,UMOL/KG,,UMOL/KG,,UMOL/KG,,UMOL/KG,,PMOL/KG,,PMOL/KG,,FMOL/KG,,UMOL/KG,,UMOL/KG
           NA,   SR04e,     21,   1,      24,      24,  2,19980408,1137, -65.0183,  -41.0633,  4778,     19.0,  -1.4133,   33.970,2,  33.9705,2, -999.000,9,    345.2,2,   69.390,2,   26.190,2,    0.250,2,    1.760,2,    6.477,2,    3.180,2, -999.000,9, 2177.100,2, -999.000,9
           NA,   SR04e,     21,   1,      23,      23,  2,19980408,1137, -65.0183,  -41.0633,  4778,     48.0,  -1.3563,   34.017,2,  34.0300,2, -999.000,9,    340.9,2,   70.020,2,   26.320,2,    0.240,2,    1.790,2, -999.000,9, -999.000,9, -999.000,9, 2181.700,2, -999.000,9
           NA,   SR04e,     21,   1,      22,      22,  2,19980408,1137, -65.0183,  -41.0633,  4778,     99.2,  -1.4116,   34.488,2,  34.4902,2, -999.000,9,    270.1,2,   81.320,2,   30.730,2,    0.090,2,    2.110,2,    3.869,2,    1.894,2, -999.000,9, 2237.500,2, -999.000,9
           NA,   SR04e,     21,   1,      21,      21,  2,19980408,1137, -65.0183,  -41.0633,  4778,    199.0,   0.0364,   34.623,2,  34.6304,2, -999.000,9,    212.0,2,  103.260,2,   33.600,2,    0.020,2,    2.290,2, -999.000,9, -999.000,9, -999.000,9, 2262.800,2, -999.000,9
           NA,   SR04e,     21,   1,      20,      20,  2,19980408,1137, -65.0183,  -41.0633,  4778,    298.9,   0.5266,   34.686,2,  34.6847,2, -999.000,9,    190.0,2,  115.500,2,   34.430,2,    0.020,2,    2.360,2,    0.326,2,    0.153,2, -999.000,9, 2273.000,2, -999.000,9
           NA,   SR04e,     21,   1,      19,      19,  2,19980408,1137, -65.0183,  -41.0633,  4778,    398.5,   0.4712,   34.685,2,  34.6855,2, -999.000,9,    191.4,2,  118.210,2,   34.420,2,    0.010,2,    2.370,2, -999.000,9, -999.000,9, -999.000,9, 2272.100,2, -999.000,9
           NA,   SR04e,     21,   1,      18,      18,  2,19980408,1137, -65.0183,  -41.0633,  4778,    498.2,   0.4144,   34.685,2,  34.6840,2, -999.000,9,    193.0,2,  120.870,2,   34.970,2,    0.020,2,    2.360,2,    0.170,2,    0.085,2, -999.000,9, 2272.900,2, -999.000,9
           NA,   SR04e,     21,   1,      17,      17,  2,19980408,1137, -65.0183,  -41.0633,  4778,    599.3,   0.3510,   34.683,2,  34.6761,0, -999.000,9,   -999.0,9,  125.900,2,   34.270,2,    0.010,2,    2.340,2, -999.000,9, -999.000,9, -999.000,9, 2268.500,2, -999.000,9
           NA,   SR04e,     21,   1,      16,      16,  2,19980408,1137, -65.0183,  -41.0633,  4778,    798.8,   0.2522,   34.680,2,  34.6778,2, -999.000,9,    199.9,2,  124.160,2,   34.560,2,    0.020,2,    2.360,2,    0.134,2,    0.068,2, -999.000,9, 2269.500,2, -999.000,9
           NA,   SR04e,     21,   1,      15,      15,  2,19980408,1137, -65.0183,  -41.0633,  4778,    998.1,   0.1666,   34.677,2,  34.6766,2, -999.000,9,    205.1,2,  125.380,2,   34.080,2,    0.000,2,    2.350,2, -999.000,9, -999.000,9, -999.000,9, 2268.700,2, -999.000,9
           NA,   SR04e,     21,   1,      11,      11,  2,19980408,1137, -65.0183,  -41.0633,  4778,   1498.7,  -0.0156,   34.669,2,  34.6673,2, -999.000,9,    216.9,2,  125.230,2,   33.860,2,    0.010,2,    2.320,2, -999.000,9, -999.000,9, -999.000,9, 2263.000,2, -999.000,9
           NA,   SR04e,     21,   1,      10,      10,  2,19980408,1137, -65.0183,  -41.0633,  4778,   1998.3,  -0.1596,   34.664,2,  34.6612,2, -999.000,9,    225.5,2,  125.480,2,   33.580,2,    0.010,2,    2.300,2, -999.000,9, -999.000,9, -999.000,9, 2258.600,2, -999.000,9
           NA,   SR04e,     21,   1,       9,       9,  2,19980408,1137, -65.0183,  -41.0633,  4778,   2497.9,  -0.2462,   34.661,2,  34.6596,2, -999.000,9,    232.1,2,  124.300,2,   33.130,2,    0.020,2,    2.290,2, -999.000,9, -999.000,9, -999.000,9, 2257.300,2, -999.000,9
           NA,   SR04e,     21,   1,       8,       8,  2,19980408,1137, -65.0183,  -41.0633,  4778,   2998.1,  -0.3079,   34.658,2,  34.6562,2, -999.000,9,    236.2,2,  123.280,2,   32.950,2,    0.010,2,    2.280,2,    0.193,2,    0.101,2, -999.000,9, 2251.800,2, -999.000,9
           NA,   SR04e,     21,   1,       6,       6,  2,19980408,1137, -65.0183,  -41.0633,  4778,   3598.6,  -0.3630,   34.655,2,  34.6541,2, -999.000,9,    241.2,2,  124.310,2,   32.850,2,    0.010,2,    2.270,2,    0.219,2,    0.111,2, -999.000,9, 2249.900,2, -999.000,9
           NA,   SR04e,     21,   1,       7,       7,  2,19980408,1137, -65.0183,  -41.0633,  4778,   3598.9,  -0.3634,   34.655,2,  34.6530,2, -999.000,9,   -999.0,9,  123.950,2,   33.170,2,    0.020,2,    2.270,2, -999.000,9, -999.000,9, -999.000,9, 2249.100,2, -999.000,9
           NA,   SR04e,     21,   1,       5,       5,  2,19980408,1137, -65.0183,  -41.0633,  4778,   4198.5,  -0.4330,   34.650,2,  34.6494,2, -999.000,9,    246.5,2,  121.090,2,   32.710,2,    0.010,2,    2.260,2,    0.282,2,    0.142,2, -999.000,9, 2248.300,2, -999.000,9
           NA,   SR04e,     21,   1,       4,       4,  2,19980408,1137, -65.0183,  -41.0633,  4778,   4597.4,  -0.5102,   34.646,2,  34.6443,2, -999.000,9,    249.7,2,  118.930,2,   32.750,2,    0.000,2,    2.260,2,    0.495,2,    0.238,2, -999.000,9, 2248.400,2, -999.000,9
           NA,   SR04e,     21,   1,       3,       3,  2,19980408,1137, -65.0183,  -41.0633,  4778,   4697.4,  -0.5208,   34.644,2,  34.6434,2, -999.000,9,    249.8,2,  119.760,2,   32.840,2,    0.010,2,    2.260,2,    0.582,6,    0.279,6, -999.000,9, 2250.200,2, -999.000,9
           NA,   SR04e,     21,   1,       2,       2,  2,19980408,1137, -65.0183,  -41.0633,  4778,   4747.1,  -0.5256,   34.643,2,  34.6423,2, -999.000,9,    251.2,2,  119.000,2,   32.730,2,    0.010,2,    2.250,2,    0.711,6,    0.338,6, -999.000,9, 2248.100,2, -999.000,9
           NA,   SR04e,     21,   1,       1,       1,  2,19980408,1137, -65.0183,  -41.0633,  4778,   4812.8,  -0.5383,   34.641,2,  34.6397,2, -999.000,9,    253.5,2,  113.250,2,   32.630,2,    0.000,2,    2.240,2,    1.224,6,    0.573,6, -999.000,9, 2249.600,2, -999.000,9
           NA,   SR04e,     22,   1,      24,      24,  2,19980408,1832, -65.1967,  -39.5533,  4787,     19.9,  -1.3402,   34.076,2,  34.0777,2, -999.000,9,    342.4,2,   68.050,2,   26.120,2,    0.230,2,    1.750,2,    4.025,2,    1.930,2, -999.000,9, 2183.800,2, -999.000,9
           NA,   SR04e,     22,   1,      23,      23,  2,19980408,1832, -65.1967,  -39.5533,  4787,     48.8,  -1.5472,   34.413,2,  34.3896,2, -999.000,9,    296.7,2,   75.850,2,   28.520,2,    0.220,2,    2.000,2, -999.000,9, -999.000,9, -999.000,9, 2221.200,2, -999.000,9
           NA,   SR04e,     22,   1,      22,      22,  2,19980408,1832, -65.1967,  -39.5533,  4787,     99.1,  -1.5470,   34.487,2,  34.4855,2, -999.000,9,    273.8,2,   80.830,2,   30.570,2,    0.110,2,    2.110,2,    6.304,2,    3.071,2, -999.000,9, 2232.900,2, -999.000,9
           NA,   SR04e,     22,   1,      21,      21,  2,19980408,1832, -65.1967,  -39.5533,  4787,    198.8,   0.3053,   34.653,2,  34.6562,2, -999.000,9,    201.9,2,  105.500,2,   33.660,2,    0.020,2,    2.320,2, -999.000,9, -999.000,9, -999.000,9, 2264.200,2, -999.000,9
           NA,   SR04e,     22,   1,      20,      20,  2,19980408,1832, -65.1967,  -39.5533,  4787,    300.1,   0.5903,   34.689,2,  34.6874,2, -999.000,9,    192.8,2,  115.150,2,   34.060,2,    0.010,2,    2.340,2,    0.313,2,    0.147,2, -999.000,9, 2270.100,2, -999.000,9
           NA,   SR04e,     22,   1,      19,      19,  2,19980408,1832, -65.1967,  -39.5533,  4787,    399.3,   0.5079,   34.688,2,  34.6874,2, -999.000,9,    193.3,2,  118.720,2,   34.370,2,    0.020,2,    2.360,2, -999.000,9, -999.000,9, -999.000,9, 2268.600,2, -999.000,9
           NA,   SR04e,     22,   1,      18,      18,  2,19980408,1832, -65.1967,  -39.5533,  4787,    499.4,   0.4340,   34.685,2,  34.6814,2, -999.000,9,    195.0,2,  119.880,2,   34.190,2,    0.020,2,    2.360,2,    0.197,2,    0.093,2, -999.000,9, 2270.100,2, -999.000,9
           NA,   SR04e,     22,   1,      17,      17,  2,19980408,1832, -65.1967,  -39.5533,  4787,    598.2,   0.3652,   34.683,2,  34.6808,2, -999.000,9,    197.1,2,  122.620,2,   34.090,2,    0.010,2,    2.350,2, -999.000,9, -999.000,9, -999.000,9, 2270.400,2, -999.000,9
           NA,   SR04e,     22,   1,      16,      16,  2,19980408,1832, -65.1967,  -39.5533,  4787,    699.1,   0.3115,   34.681,2,  34.6792,2, -999.000,9,    198.9,2,  124.090,2,   34.210,2,    0.020,2,    2.360,2, -999.000,9, -999.000,9, -999.000,9, 2270.400,2, -999.000,9
           NA,   SR04e,     22,   1,      15,      15,  2,19980408,1832, -65.1967,  -39.5533,  4787,    798.7,   0.2626,   34.680,2,  34.6789,2, -999.000,9,    201.0,2,  124.240,2,   33.920,2,    0.010,2,    2.360,2,    0.164,2,    0.080,2, -999.000,9, 2270.500,2, -999.000,9
           NA,   SR04e,     22,   1,      11,      11,  2,19980408,1832, -65.1967,  -39.5533,  4787,    998.3,   0.1664,   34.677,2,  34.6755,2, -999.000,9,    206.2,2,  125.690,2,   33.970,2,    0.000,2,    2.350,2,    0.137,2,    0.069,2, -999.000,9, 2269.200,2, -999.000,9
           NA,   SR04e,     22,   1,      10,      10,  2,19980408,1832, -65.1967,  -39.5533,  4787,   1499.0,  -0.0126,   34.669,2,  34.6681,2, -999.000,9,    217.4,2,  125.840,2,   33.350,2,    0.010,2,    2.320,2, -999.000,9, -999.000,9, -999.000,9, 2264.400,2, -999.000,9
           NA,   SR04e,     22,   1,       9,       9,  2,19980408,1832, -65.1967,  -39.5533,  4787,   1998.8,  -0.1495,   34.664,2,  34.6630,2, -999.000,9,    226.3,2,  125.960,2,   33.280,2,    0.020,2,    2.300,2,    0.218,2,    0.112,2, -999.000,9, 2257.800,2, -999.000,9
           NA,   SR04e,     22,   1,       8,       8,  2,19980408,1832, -65.1967,  -39.5533,  4787,   2498.5,  -0.2395,   34.661,2,  34.6598,2, -999.000,9,    232.8,2,  124.250,2,   32.980,2,    0.020,2,    2.280,2,    0.232,2,    0.117,2, -999.000,9, 2257.200,2, -999.000,9
           NA,   SR04e,     22,   1,       7,       7,  2,19980408,1832, -65.1967,  -39.5533,  4787,   2999.2,  -0.3015,   34.658,2,  34.6567,2, -999.000,9,   -999.0,9,  123.080,2,   33.030,2,    0.010,2,    2.270,2,    0.229,2,    0.114,2, -999.000,9, 2256.400,2, -999.000,9
           NA,   SR04e,     22,   1,       5,       5,  2,19980408,1832, -65.1967,  -39.5533,  4787,   3997.3,  -0.3832,   34.653,2,  34.6538,2, -999.000,9,    242.7,2,  125.260,2,   32.670,2,    0.020,2,    2.260,2,    0.205,2,    0.106,2, -999.000,9, 2253.400,2, -999.000,9
           NA,   SR04e,     22,   1,       4,       4,  2,19980408,1832, -65.1967,  -39.5533,  4787,   4547.6,  -0.4846,   34.647,2,  34.6482,2, -999.000,9,    249.3,2,  120.040,2,   32.650,2,    0.020,2,    2.240,2,    0.335,2,    0.169,2, -999.000,9, 2251.400,2, -999.000,9
           NA,   SR04e,     22,   1,       3,       3,  2,19980408,1832, -65.1967,  -39.5533,  4787,   4698.4,  -0.5040,   34.645,2,  34.6441,2, -999.000,9,    249.4,2,  122.730,2,   32.600,2,    0.010,2,    2.230,2,    0.456,2,    0.223,2, -999.000,9, 2252.100,2, -999.000,9
           NA,   SR04e,     22,   1,       2,       2,  2,19980408,1832, -65.1967,  -39.5533,  4787,   4747.7,  -0.5097,   34.643,2,  34.6439,2, -999.000,9,    250.7,2,  125.310,2,   32.710,2,    0.020,2,    2.250,2,    0.601,2,    0.290,2, -999.000,9, 2253.400,2, -999.000,9
           NA,   SR04e,     22,   1,       1,       1,  2,19980408,1832, -65.1967,  -39.5533,  4787,   4823.0,  -0.5272,   34.641,2,  34.6410,2, -999.000,9,    253.1,2,  116.730,2,   32.640,2,    0.020,2,    2.240,2,    1.065,2,    0.503,2, -999.000,9, 2255.000,2, -999.000,9
           NA,   SR04e,     23,   1,      24,      24,  2,19980409,0202, -65.4550,  -38.0300,  4742,     19.4,  -1.2364,   34.094,2,  34.0963,2, -999.000,9,   -999.0,9,   68.300,2,   25.940,2,    0.230,2,    1.710,2, -999.000,3, -999.000,3, -999.000,9, 2182.800,2, -999.000,9
           NA,   SR04e,     23,   1,      23,      23,  2,19980409,0202, -65.4550,  -38.0300,  4742,     49.1,  -1.2662,   34.152,2,  34.1475,2, -999.000,9,    335.3,2,   69.680,2,   26.770,2,    0.220,2,    1.820,2, -999.000,9, -999.000,9, -999.000,9, 2190.600,2, -999.000,9
           NA,   SR04e,     23,   1,      22,      22,  2,19980409,0202, -65.4550,  -38.0300,  4742,     99.0,  -1.6566,   34.467,2,  34.4720,2, -999.000,9,    284.5,2,   76.850,2,   30.170,2,    0.130,2,    2.090,2, -999.000,9, -999.000,9, -999.000,9, 2232.900,2, -999.000,9
           NA,   SR04e,     23,   1,      21,      21,  2,19980409,0202, -65.4550,  -38.0300,  4742,    200.1,  -0.0103,   34.609,2,  34.6242,2, -999.000,9,    214.5,2,  101.100,2,   33.040,2,    0.020,2,    2.270,2, -999.000,9, -999.000,9, -999.000,9, 2258.300,2, -999.000,9
           NA,   SR04e,     23,   1,      20,      20,  2,19980409,0202, -65.4550,  -38.0300,  4742,    298.9,   0.5798,   34.689,2,  34.6861,2, -999.000,9,    191.0,2,  115.740,2,   34.410,2,    0.010,2,    2.350,2, -999.000,9, -999.000,9, -999.000,9, 2271.300,2, -999.000,9
           NA,   SR04e,     23,   1,      19,      19,  2,19980409,0202, -65.4550,  -38.0300,  4742,    398.8,   0.4980,   34.687,2,  34.6870,2, -999.000,9,    193.3,2,  119.010,2,   34.170,2,    0.010,2,    2.350,2, -999.000,9, -999.000,9, -999.000,9, 2269.600,2, -999.000,9
           NA,   SR04e,     23,   1,      18,      18,  2,19980409,0202, -65.4550,  -38.0300,  4742,    499.1,   0.4328,   34.685,2,  34.6863,2, -999.000,9,    194.2,2,  120.750,2,   34.140,2,    0.020,2,    2.360,2, -999.000,9, -999.000,9, -999.000,9, 2269.100,2, -999.000,9
           NA,   SR04e,     23,   1,      17,      17,  2,19980409,0202, -65.4550,  -38.0300,  4742,    599.0,   0.3706,   34.683,2,  34.6783,0, -999.000,9,    196.2,2,  122.720,2,   34.450,2,    0.000,2,    2.360,2, -999.000,9, -999.000,9, -999.000,9, 2270.900,2, -999.000,9
           NA,   SR04e,     23,   1,      16,      16,  2,19980409,0202, -65.4550,  -38.0300,  4742,    699.5,   0.3113,   34.681,2,  34.6769,2, -999.000,9,    198.2,2,  123.970,2,   34.170,2,    0.010,2,    2.360,2, -999.000,9, -999.000,9, -999.000,9, 2268.400,2, -999.000,9
           NA,   SR04e,     23,   1,      15,      15,  2,19980409,0202, -65.4550,  -38.0300,  4742,    799.2,   0.2585,   34.679,2,  34.6795,2, -999.000,9,    199.7,2,  124.580,2,   34.070,2,    0.010,2,    2.350,2, -999.000,9, -999.000,9, -999.000,9, 2268.100,2, -999.000,9
           NA,   SR04e,     23,   1,      11,      11,  2,19980409,0202, -65.4550,  -38.0300,  4742,    998.9,   0.1694,   34.676,2,  34.6776,2, -999.000,9,    206.1,2,  125.570,2,   33.940,2,    0.000,2,    2.340,2, -999.000,9, -999.000,9, -999.000,9, 2267.800,2, -999.000,9
           NA,   SR04e,     23,   1,      10,      10,  2,19980409,0202, -65.4550,  -38.0300,  4742,   1498.3,  -0.0127,   34.668,2,  34.6692,2, -999.000,9,    217.1,2,  125.720,2,   33.480,2,    0.010,2,    2.320,2, -999.000,9, -999.000,9, -999.000,9, 2259.800,2, -999.000,9
           NA,   SR04e,     23,   1,       9,       9,  2,19980409,0202, -65.4550,  -38.0300,  4742,   1997.0,  -0.1493,   34.664,2,  34.6585,0, -999.000,9,    225.6,2,  125.270,2,   33.400,2,    0.020,2,    2.310,2, -999.000,9, -999.000,9, -999.000,9, 2258.700,2, -999.000,9
           NA,   SR04e,     23,   1,       8,       8,  2,19980409,0202, -65.4550,  -38.0300,  4742,   2498.0,  -0.2411,   34.660,2,  34.6605,2, -999.000,9,    232.2,2,  124.700,2,   33.010,2,    0.020,2,    2.290,2, -999.000,9, -999.000,9, -999.000,9, 2255.200,2, -999.000,9
           NA,   SR04e,     23,   1,       7,       7,  2,19980409,0202, -65.4550,  -38.0300,  4742,   2999.7,  -0.2994,   34.658,2,  34.6572,2, -999.000,9,    236.2,2,  123.870,2,   32.900,2,    0.010,2,    2.270,2, -999.000,9, -999.000,9, -999.000,9, 2253.800,2, -999.000,9
           NA,   SR04e,     23,   1,       6,       6,  2,19980409,0202, -65.4550,  -38.0300,  4742,   3498.2,  -0.3481,   34.655,2,  34.6534,2, -999.000,9,    240.9,2,  124.530,2,   32.840,2,    0.030,2,    2.260,2,    0.257,2,    0.125,2, -999.000,9, 2250.200,2, -999.000,9
           NA,   SR04e,     23,   1,       5,       5,  2,19980409,0202, -65.4550,  -38.0300,  4742,   3998.1,  -0.3829,   34.653,2,  34.6515,2, -999.000,9,    243.0,2,  125.750,2,   32.760,2,    0.010,2,    2.270,2,    0.202,2,    0.105,2, -999.000,9, 2251.400,2, -999.000,9
           NA,   SR04e,     23,   1,       4,       4,  2,19980409,0202, -65.4550,  -38.0300,  4742,   4497.7,  -0.4666,   34.648,2,  34.6440,2, -999.000,9,    249.0,2,  121.100,2,   32.680,2,    0.010,2,    2.250,2,    0.240,2,    0.126,2, -999.000,9, 2248.200,2, -999.000,9
           NA,   SR04e,     23,   1,       3,       3,  2,19980409,0202, -65.4550,  -38.0300,  4742,   4698.0,  -0.5000,   34.645,2,  34.6458,2, -999.000,9,    247.8,2,  126.270,2,   32.840,2,    0.000,2,    2.270,2,    0.408,2,    0.203,2, -999.000,9, 2251.500,2, -999.000,9
           NA,   SR04e,     23,   1,       2,       2,  2,19980409,0202, -65.4550,  -38.0300,  4742,   4747.6,  -0.5037,   34.644,2,  34.6446,2, -999.000,9,    248.3,2,  126.360,2,   32.760,2,    0.020,2,    2.270,2,    0.558,2,    0.269,2, -999.000,9, 2253.400,2, -999.000,9
           NA,   SR04e,     23,   1,       1,       1,  2,19980409,0202, -65.4550,  -38.0300,  4742,   4775.9,  -0.5055,   34.642,2,  34.6425,2, -999.000,9,    249.1,2,  124.690,2,   32.850,2,    0.010,2,    2.260,2,    0.653,2,    0.315,2, -999.000,9, 2252.000,2, -999.000,9