BOTTLE,20210426JOAExport
EXPOCODE,SECT_ID,STNNBR,CASTNO,SAMPNO,BTLNBR,BTLNBR_FLAG_W,DATE,TIME,LATITUDE,LONGITUDE,DEPTH,CTDPRS,CTDTMP,CTDSAL,CTDSAL_FLAG_W,SALNTY,SALNTY_FLAG_W,CTDOXY,CTDOXY_FLAG_W,OXYGEN,OXYGEN_FLAG_W,SILCAT,SILCAT_FLAG_W,NITRAT,NITRAT_FLAG_W,NITRIT,NITRIT_FLAG_W,PHSPHT,PHSPHT_FLAG_W,CFC-11,CFC-11_FLAG_W,CFC-12,CFC-12_FLAG_W,SF6,SF6_FLAG_W,TCARBN,TCARBN_FLAG_W,ALKALI,ALKALI_FLAG_W
,,,,,,,,,,,,DB,ITS-90,PSS-78,,PSS-78,,UMOL/KG,,UMOL/KG,,UMOL/KG,,UMOL/KG,,UMOL/KG,,UMOL/KG,,PMOL/KG,,PMOL/KG,,FMOL/KG,,UMOL/KG,,UMOL/KG
           NA,   SR04e,     24,   1,      24,      24,  2,19980409,0910, -65.6400,  -36.5000,  4790,     19.1,  -1.1919,   34.114,2,  34.1146,2, -999.000,9,    342.7,2,   66.370,2,   26.430,2,    0.240,2,    1.770,2,    6.295,2,    3.112,2, -999.000,9, 2185.600,2, -999.000,9
           NA,   SR04e,     24,   1,      23,      23,  2,19980409,0910, -65.6400,  -36.5000,  4790,     48.3,  -1.2254,   34.133,2,  34.2186,2, -999.000,9,    326.8,2,   68.360,2,   26.990,2,    0.230,2,    1.840,2,    5.658,2,    2.721,2, -999.000,9, 2194.200,2, -999.000,9
           NA,   SR04e,     24,   1,      22,      22,  2,19980409,0910, -65.6400,  -36.5000,  4790,     98.9,  -1.6510,   34.480,2,  34.4797,2, -999.000,9,    280.2,2,   77.320,2,   30.440,2,    0.080,2,    2.100,2,    4.281,2,    2.072,2, -999.000,9, 2230.100,2, -999.000,9
           NA,   SR04e,     24,   1,      21,      21,  2,19980409,0910, -65.6400,  -36.5000,  4790,    199.7,   0.2302,   34.649,2,  34.6501,2, -999.000,9,    203.8,2,  105.480,2,   33.620,2,    0.010,2,    2.320,2,    1.108,2,    0.533,2, -999.000,9, 2263.400,2, -999.000,9
           NA,   SR04e,     24,   1,      20,      20,  2,19980409,0910, -65.6400,  -36.5000,  4790,    299.2,   0.5791,   34.689,2,  34.6894,2, -999.000,9,    191.1,2,  115.650,2,   34.320,2,    0.010,2,    2.360,2,    0.288,2,    0.135,2, -999.000,9, 2269.900,2, -999.000,9
           NA,   SR04e,     24,   1,      19,      19,  2,19980409,0910, -65.6400,  -36.5000,  4790,    399.1,   0.4912,   34.687,2,  34.6870,2, -999.000,9,    194.7,2,  119.400,2,   34.490,2,    0.010,2,    2.370,2,    0.215,2,    0.103,2, -999.000,9, 2270.500,2, -999.000,9
           NA,   SR04e,     24,   1,      18,      18,  2,19980409,0910, -65.6400,  -36.5000,  4790,    498.8,   0.4265,   34.685,2,  34.6853,2, -999.000,9,    194.7,2,  121.330,2,   34.200,2,    0.010,2,    2.360,2,    0.184,2,    0.089,2, -999.000,9, 2267.500,2, -999.000,9
           NA,   SR04e,     24,   1,      17,      17,  2,19980409,0910, -65.6400,  -36.5000,  4790,    598.2,   0.3618,   34.682,2,  34.6830,2, -999.000,9,    195.8,2,  122.160,2,   34.340,2,    0.010,2,    2.360,2,    0.175,2,    0.085,2, -999.000,9, 2270.100,2, -999.000,9
           NA,   SR04e,     24,   1,      16,      16,  2,19980409,0910, -65.6400,  -36.5000,  4790,    698.5,   0.3074,   34.681,2,  34.6806,2, -999.000,9,    197.0,2,  123.680,2,   34.490,2,    0.000,2,    2.370,2,    0.143,2,    0.071,2, -999.000,9, 2269.200,2, -999.000,9
           NA,   SR04e,     24,   1,      15,      15,  2,19980409,0910, -65.6400,  -36.5000,  4790,    798.5,   0.2544,   34.679,2,  34.6791,2, -999.000,9,    200.1,2,  125.500,2,   34.220,2,    0.020,2,    2.360,2,    0.132,2,    0.067,2, -999.000,9, 2266.200,2, -999.000,9
           NA,   SR04e,     24,   1,      11,      11,  2,19980409,0910, -65.6400,  -36.5000,  4790,    999.3,   0.1656,   34.676,2,  34.6762,2, -999.000,9,    205.9,2,  124.470,2,   34.210,2,    0.010,2,    2.360,2,    0.125,2,    0.062,2, -999.000,9, 2266.200,2, -999.000,9
           NA,   SR04e,     24,   1,      10,      10,  2,19980409,0910, -65.6400,  -36.5000,  4790,   1498.9,  -0.0168,   34.668,2,  34.6689,2, -999.000,9,    217.4,2,  125.120,2,   33.510,2,    0.010,2,    2.330,2,    0.135,2,    0.067,2, -999.000,9, 2260.100,2, -999.000,9
           NA,   SR04e,     24,   1,       9,       9,  2,19980409,0910, -65.6400,  -36.5000,  4790,   1998.6,  -0.1519,   34.664,2,  34.6625,2, -999.000,9,    226.2,2,  125.240,2,   33.420,2,    0.010,2,    2.310,2,    0.153,2,    0.077,2, -999.000,9, 2258.400,2, -999.000,9
           NA,   SR04e,     24,   1,       8,       8,  2,19980409,0910, -65.6400,  -36.5000,  4790,   2497.6,  -0.2395,   34.660,2,  34.6607,2, -999.000,9,    231.7,2,  125.050,2,   33.190,2,    0.010,2,    2.300,2,    0.187,2,    0.093,2, -999.000,9, 2254.500,2, -999.000,9
           NA,   SR04e,     24,   1,       7,       7,  2,19980409,0910, -65.6400,  -36.5000,  4790,   2997.2,  -0.3037,   34.658,2,  34.6572,2, -999.000,9,    236.1,2,  123.490,2,   33.020,2,    0.010,2,    2.270,2,    0.225,2,    0.112,2, -999.000,9, 2253.200,2, -999.000,9
           NA,   SR04e,     24,   1,       6,       6,  2,19980409,0910, -65.6400,  -36.5000,  4790,   3496.6,  -0.3541,   34.655,2,  34.6544,2, -999.000,9,    240.6,2,  123.310,2,   32.910,2,    0.000,2,    2.280,2,    0.229,2,    0.116,2, -999.000,9, 2251.100,2, -999.000,9
           NA,   SR04e,     24,   1,       5,       5,  2,19980409,0910, -65.6400,  -36.5000,  4790,   3998.0,  -0.3961,   34.653,2,  34.6520,2, -999.000,9,    244.1,2,  126.020,2,   32.880,2,    0.000,2,    2.280,2,    0.189,2,    0.098,2, -999.000,9, 2250.300,2, -999.000,9
           NA,   SR04e,     24,   1,       4,       4,  2,19980409,0910, -65.6400,  -36.5000,  4790,   4497.8,  -0.4996,   34.645,2,  34.6508,0, -999.000,9,    249.7,2,  116.180,2,   32.630,2,    0.000,2,    2.260,2,    0.529,2,    0.257,2, -999.000,9, 2252.100,2, -999.000,9
           NA,   SR04e,     24,   1,       3,       3,  2,19980409,0910, -65.6400,  -36.5000,  4790,   4747.0,  -0.5306,   34.642,2,  34.6417,2, -999.000,9,    252.6,2,  116.200,2,   32.370,2,    0.000,2,    2.250,2,    0.893,2,    0.424,2, -999.000,9, 2247.700,2, -999.000,9
           NA,   SR04e,     24,   1,       2,       2,  2,19980409,0910, -65.6400,  -36.5000,  4790,   4798.3,  -0.5427,   34.640,2,  34.6428,2, -999.000,9,    253.6,2,  113.040,2,   32.630,2,    0.000,2,    2.250,2,    1.191,2,    0.558,2, -999.000,9, 2248.800,2, -999.000,9
           NA,   SR04e,     24,   1,       1,       1,  2,19980409,0910, -65.6400,  -36.5000,  4790,   4829.7,  -0.5457,   34.640,2,  34.6421,2, -999.000,9,    254.4,2,  111.880,2,   32.280,2,    0.010,2,    2.240,2,    1.344,2,    0.633,2, -999.000,9, 2248.300,2, -999.000,9
           NA,   SR04e,     25,   1,      24,      24,  2,19980409,1639, -65.8167,  -34.9617,  4751,     19.4,  -1.2481,   34.114,2,  34.1140,2, -999.000,9,    341.5,2,   65.050,2,   26.500,2,    0.230,2,    1.770,2,    6.334,6,    3.031,6, -999.000,9, 2189.600,2, -999.000,9
           NA,   SR04e,     25,   1,      23,      23,  2,19980409,1639, -65.8167,  -34.9617,  4751,     49.4,  -1.2631,   34.129,2,  34.1228,2, -999.000,9,    339.6,2,   65.510,2,   26.320,2,    0.220,2,    1.790,2, -999.000,9, -999.000,9, -999.000,9, 2188.500,2, -999.000,9
           NA,   SR04e,     25,   1,      22,      22,  2,19980409,1639, -65.8167,  -34.9617,  4751,     99.2,  -1.6153,   34.470,2,  34.4696,2, -999.000,9,    282.3,2,   75.590,2,   30.100,2,    0.250,2,    2.100,2, -999.000,9, -999.000,9, -999.000,9, 2232.200,2, -999.000,9
           NA,   SR04e,     25,   1,      21,      21,  2,19980409,1639, -65.8167,  -34.9617,  4751,    200.6,   0.2322,   34.650,2,  34.6495,2, -999.000,9,    204.4,2,  104.870,2,   33.440,2,    0.020,2,    2.300,2,    1.163,2,    0.555,2, -999.000,9, -999.000,9, -999.000,9
           NA,   SR04e,     25,   1,      20,      20,  2,19980409,1639, -65.8167,  -34.9617,  4751,    298.9,   0.5677,   34.686,2,  34.6873,2, -999.000,9,    190.7,2,  114.680,2,   34.740,2,    0.010,2,    2.360,2, -999.000,9, -999.000,9, -999.000,9, 2272.800,2, -999.000,9
           NA,   SR04e,     25,   1,      19,      19,  2,19980409,1639, -65.8167,  -34.9617,  4751,    399.2,   0.5081,   34.688,2,  34.6878,2, -999.000,9,    192.4,2,  118.630,2,   34.340,2,    0.010,2,    2.370,2, -999.000,9, -999.000,9, -999.000,9, 2271.700,2, -999.000,9
           NA,   SR04e,     25,   1,      18,      18,  2,19980409,1639, -65.8167,  -34.9617,  4751,    499.2,   0.4374,   34.685,2,  34.6863,2, -999.000,9,    193.7,2,  120.860,2,   34.200,2,    0.020,2,    2.360,2,    0.182,2,    0.092,2, -999.000,9, -999.000,9, -999.000,9
           NA,   SR04e,     25,   1,      17,      17,  2,19980409,1639, -65.8167,  -34.9617,  4751,    599.3,   0.3701,   34.683,2,  34.6823,2, -999.000,9,    193.9,2,  122.590,2,   34.250,2,    0.010,2,    2.370,2, -999.000,9, -999.000,9, -999.000,9, 2271.900,2, -999.000,9
           NA,   SR04e,     25,   1,      16,      16,  2,19980409,1639, -65.8167,  -34.9617,  4751,    799.3,   0.2645,   34.680,2,  34.6800,2, -999.000,9,    198.8,2,  124.410,2,   34.510,2,    0.030,2,    2.360,2, -999.000,9, -999.000,9, -999.000,9, 2270.700,2, -999.000,9
           NA,   SR04e,     25,   1,      15,      15,  2,19980409,1639, -65.8167,  -34.9617,  4751,    999.0,   0.1761,   34.677,2,  34.6752,2, -999.000,9,    205.0,2,  126.180,2,   33.750,2,    0.020,2,    2.330,2,    0.136,2,    0.066,2, -999.000,9, 2268.700,2, -999.000,9
           NA,   SR04e,     25,   1,      11,      11,  2,19980409,1639, -65.8167,  -34.9617,  4751,   1497.6,  -0.0113,   34.669,2,  34.6698,2, -999.000,9,    216.2,2,  125.660,2,   33.680,2,    0.020,2,    2.330,2,    0.134,2,    0.067,2, -999.000,9, 2264.000,2, -999.000,9
           NA,   SR04e,     25,   1,      10,      10,  2,19980409,1639, -65.8167,  -34.9617,  4751,   1998.5,  -0.1483,   34.664,2,  34.6630,2, -999.000,9,    226.8,2,  125.690,2,   32.900,2,    0.020,2,    2.300,2, -999.000,9, -999.000,9, -999.000,9, 2253.200,2, -999.000,9
           NA,   SR04e,     25,   1,       8,       8,  2,19980409,1639, -65.8167,  -34.9617,  4751,   2502.1,  -0.2409,   34.661,2,  34.6599,2, -999.000,9,    232.2,2,  125.290,2,   32.310,2,    0.020,2, -999.000,4,    0.201,2,    0.098,2, -999.000,9, -999.000,9, -999.000,9
           NA,   SR04e,     25,   1,       9,       9,  2,19980409,1639, -65.8167,  -34.9617,  4751,   2502.2,  -0.2408,   34.660,2,  34.6600,2, -999.000,9,    232.2,2,  124.790,2,   33.420,2,    0.030,2,    2.290,2, -999.000,9, -999.000,9, -999.000,9, 2257.100,9, -999.000,9
           NA,   SR04e,     25,   1,       7,       7,  2,19980409,1639, -65.8167,  -34.9617,  4751,   2997.4,  -0.2999,   34.658,2,  34.6561,2, -999.000,9,    235.5,2,  124.150,2,   32.970,2,    0.020,2,    2.280,2,    0.206,2,    0.107,2, -999.000,9, 2256.600,2, -999.000,9
           NA,   SR04e,     25,   1,       6,       6,  2,19980409,1639, -65.8167,  -34.9617,  4751,   3498.3,  -0.3456,   34.655,2,  34.6538,2, -999.000,9,    240.2,2,  123.840,2,   32.490,2,    0.030,2,    2.260,2, -999.000,9, -999.000,9, -999.000,9, -999.000,9, -999.000,9
           NA,   SR04e,     25,   1,       5,       5,  2,19980409,1639, -65.8167,  -34.9617,  4751,   3997.4,  -0.3795,   34.653,2,  34.6524,2, -999.000,9,    242.9,2,  126.090,2,   33.220,2,    0.020,2,    2.260,2,    0.210,2,    0.109,2, -999.000,9, 2251.500,2, -999.000,9
           NA,   SR04e,     25,   1,       4,       4,  2,19980409,1639, -65.8167,  -34.9617,  4751,   4597.9,  -0.4832,   34.647,2,  34.6485,2, -999.000,9,    247.4,2,  123.420,2,   32.540,2,    0.020,2,    2.260,2,    0.268,2,    0.136,2, -999.000,9, 2252.400,2, -999.000,9
           NA,   SR04e,     25,   1,       3,       3,  2,19980409,1639, -65.8167,  -34.9617,  4751,   4697.7,  -0.4958,   34.645,2,  34.6457,2, -999.000,9,    247.2,2,  126.940,2,   32.810,2,    0.030,2,    2.270,2,    0.389,2,    0.194,2, -999.000,9, 2253.000,2, -999.000,9
           NA,   SR04e,     25,   1,       2,       2,  2,19980409,1639, -65.8167,  -34.9617,  4751,   4748.1,  -0.4991,   34.644,2,  34.6446,2, -999.000,9,    247.1,2,  126.400,2,   33.170,2,    0.020,2,    2.270,2,    0.483,2,    0.232,2, -999.000,9, 2253.700,2, -999.000,9
           NA,   SR04e,     25,   1,       1,       1,  2,19980409,1639, -65.8167,  -34.9617,  4751,   4812.3,  -0.5380,   34.640,2,  34.6413,2, -999.000,9,    253.7,2,  113.900,2,   32.590,2,    0.040,2,    2.240,2,    1.265,6,    0.594,6, -999.000,9, 2251.200,2, -999.000,9
           NA,   SR04e,     26,   1,      24,      24,  2,19980409,2358, -65.9717,  -33.3383,  4817,     19.1,  -1.2164,   34.112,2,  34.1136,2, -999.000,9,    340.6,2,   63.640,2,   26.090,2,    0.230,2,    1.790,2,    6.390,2,    3.121,2, -999.000,9, 2185.800,2, -999.000,9
           NA,   SR04e,     26,   1,      23,      23,  2,19980409,2358, -65.9717,  -33.3383,  4817,     48.6,  -1.2649,   34.191,2,  34.3079,2, -999.000,9,    314.9,2,   69.090,2,   27.650,2,    0.220,2,    1.930,2,    5.268,2,    2.520,2, -999.000,9, 2211.400,2, -999.000,9
           NA,   SR04e,     26,   1,      22,      22,  2,19980409,2358, -65.9717,  -33.3383,  4817,     99.1,  -1.5550,   34.472,2,  34.4760,2, -999.000,9,    278.8,2,   78.780,2,   31.050,2,    0.080,2,    2.130,2,    4.057,2,    1.961,2, -999.000,9, 2232.800,2, -999.000,9
           NA,   SR04e,     26,   1,      21,      21,  2,19980409,2358, -65.9717,  -33.3383,  4817,    198.5,   0.2142,   34.648,2,  34.6486,2, -999.000,9,    202.7,2,  107.940,2,   33.930,2,    0.010,2,    2.340,2,    1.041,2,    0.483,2, -999.000,9, 2265.800,2, -999.000,9
           NA,   SR04e,     26,   1,      20,      20,  2,19980409,2358, -65.9717,  -33.3383,  4817,    298.8,   0.5196,   34.687,2,  34.6857,2, -999.000,9,    189.7,2,  117.110,2,   34.730,2,    0.020,2,    2.370,2,    0.269,2,    0.123,2, -999.000,9, 2271.300,2, -999.000,9
           NA,   SR04e,     26,   1,      19,      19,  2,19980409,2358, -65.9717,  -33.3383,  4817,    398.9,   0.4458,   34.685,2,  34.6839,2, -999.000,9,    191.7,2,  120.400,2,   34.480,2,    0.000,2,    2.380,2,    0.193,2,    0.090,2, -999.000,9, 2272.300,2, -999.000,9
           NA,   SR04e,     26,   1,      18,      18,  2,19980409,2358, -65.9717,  -33.3383,  4817,    498.4,   0.3843,   34.684,2,  34.6827,2, -999.000,9,    194.6,2,  122.480,2,   35.000,2,    0.010,2,    2.380,2,    0.181,2,    0.087,2, -999.000,9, 2273.000,2, -999.000,9
           NA,   SR04e,     26,   1,      17,      17,  2,19980409,2358, -65.9717,  -33.3383,  4817,    598.5,   0.3245,   34.683,2,  34.6796,2, -999.000,9,    196.7,2,  123.900,2,   34.590,2,    0.010,2,    2.380,2,    0.139,2,    0.067,2, -999.000,9, 2272.500,2, -999.000,9
           NA,   SR04e,     26,   1,      16,      16,  2,19980409,2358, -65.9717,  -33.3383,  4817,    698.4,   0.2757,   34.681,2,  34.6800,2, -999.000,9,    200.8,2,  124.230,2,   34.470,2,    0.010,2,    2.370,2,    0.121,2,    0.062,2, -999.000,9, 2270.900,2, -999.000,9
           NA,   SR04e,     26,   1,      15,      15,  2,19980409,2358, -65.9717,  -33.3383,  4817,    798.7,   0.2373,   34.679,2,  34.6773,2, -999.000,9,    199.1,2,  124.920,2,   34.650,2,    0.010,2,    2.370,2,    0.116,2,    0.058,2, -999.000,9, 2269.300,2, -999.000,9
           NA,   SR04e,     26,   1,      11,      11,  2,19980409,2358, -65.9717,  -33.3383,  4817,    999.0,   0.1570,   34.676,2,  34.6758,2, -999.000,9,    204.7,2,  126.900,2,   34.370,2,    0.010,2,    2.350,2,    0.103,2,    0.051,2, -999.000,9, 2268.100,2, -999.000,9
           NA,   SR04e,     26,   1,      10,      10,  2,19980409,2358, -65.9717,  -33.3383,  4817,   1498.5,  -0.0257,   34.669,2,  34.6683,2, -999.000,9,    218.2,2,  125.940,2,   33.680,2,    0.010,2,    2.330,2,    0.129,2,    0.065,2, -999.000,9, 2266.000,2, -999.000,9
           NA,   SR04e,     26,   1,       9,       9,  2,19980409,2358, -65.9717,  -33.3383,  4817,   1997.4,  -0.1630,   34.664,2,  34.6633,2, -999.000,9,    226.8,2,  125.170,2,   33.600,2,    0.010,2,    2.310,2,    0.160,2,    0.081,2, -999.000,9, 2260.700,2, -999.000,9
           NA,   SR04e,     26,   1,       8,       8,  2,19980409,2358, -65.9717,  -33.3383,  4817,   2497.2,  -0.2524,   34.660,2,  34.6593,2, -999.000,9,    232.2,2,  125.240,2,   33.240,2,    0.010,2,    2.290,2,    0.228,2,    0.111,2, -999.000,9, 2255.500,2, -999.000,9
           NA,   SR04e,     26,   1,       7,       7,  2,19980409,2358, -65.9717,  -33.3383,  4817,   2998.5,  -0.3102,   34.658,2,  34.6570,2, -999.000,9,    236.9,2,  123.950,2,   33.080,2,    0.010,2,    2.280,2, -999.000,9, -999.000,9, -999.000,9, 2255.100,2, -999.000,9
           NA,   SR04e,     26,   1,       6,       6,  2,19980409,2358, -65.9717,  -33.3383,  4817,   3598.0,  -0.3654,   34.655,2,  34.6534,2, -999.000,9,    240.8,2,  123.990,2,   32.980,2,    0.000,2,    2.270,2,    0.209,2,    0.109,2, -999.000,9, 2250.800,2, -999.000,9
           NA,   SR04e,     26,   1,       5,       5,  2,19980409,2358, -65.9717,  -33.3383,  4817,   4097.3,  -0.4118,   34.652,2,  34.6505,2, -999.000,9,    245.7,2,  122.930,2,   33.130,2,    0.010,2,    2.260,2,    0.273,2,    0.135,2, -999.000,9, 2247.100,2, -999.000,9
           NA,   SR04e,     26,   1,       4,       4,  2,19980409,2358, -65.9717,  -33.3383,  4817,   4648.5,  -0.5099,   34.645,2,  34.6446,2, -999.000,9,    248.8,2,  122.110,2,   32.860,2,    0.010,2,    2.250,2,    0.452,2,    0.218,2, -999.000,9, 2251.100,2, -999.000,9
           NA,   SR04e,     26,   1,       3,       3,  2,19980409,2358, -65.9717,  -33.3383,  4817,   4743.9,  -0.5202,   34.643,2,  34.6421,2, -999.000,9,    250.9,2,  119.380,2,   32.900,2,    0.020,2,    2.260,2,    0.697,2,    0.325,2, -999.000,9, 2249.600,2, -999.000,9
           NA,   SR04e,     26,   1,       2,       2,  2,19980409,2358, -65.9717,  -33.3383,  4817,   4797.1,  -0.5355,   34.641,2,  34.6401,2, -999.000,9,    252.9,2,  114.140,2,   32.480,2,    0.010,2,    2.240,2,    1.081,2,    0.500,2, -999.000,9, 2248.400,2, -999.000,9
           NA,   SR04e,     26,   1,       1,       1,  2,19980409,2358, -65.9717,  -33.3383,  4817,   4852.8,  -0.5415,   34.640,2,  34.6416,2, -999.000,9,   -999.0,9,  111.290,2,   33.010,2,    0.020,2,    2.230,2,    1.389,2,    0.649,2, -999.000,9, 2246.800,2, -999.000,9