BOTTLE,20210426JOAExport
EXPOCODE,SECT_ID,STNNBR,CASTNO,SAMPNO,BTLNBR,BTLNBR_FLAG_W,DATE,TIME,LATITUDE,LONGITUDE,DEPTH,CTDPRS,CTDTMP,CTDSAL,CTDSAL_FLAG_W,SALNTY,SALNTY_FLAG_W,CTDOXY,CTDOXY_FLAG_W,OXYGEN,OXYGEN_FLAG_W,SILCAT,SILCAT_FLAG_W,NITRAT,NITRAT_FLAG_W,NITRIT,NITRIT_FLAG_W,PHSPHT,PHSPHT_FLAG_W,CFC-11,CFC-11_FLAG_W,CFC-12,CFC-12_FLAG_W,SF6,SF6_FLAG_W,TCARBN,TCARBN_FLAG_W,ALKALI,ALKALI_FLAG_W
,,,,,,,,,,,,DB,ITS-90,PSS-78,,PSS-78,,UMOL/KG,,UMOL/KG,,UMOL/KG,,UMOL/KG,,UMOL/KG,,UMOL/KG,,PMOL/KG,,PMOL/KG,,FMOL/KG,,UMOL/KG,,UMOL/KG
           NA,   SR04e,      7,   3,      24,      24,  2,19980402,2150, -63.4983,  -52.1117,   933,     19.1,  -1.8075,   33.924,2,  33.9245,2, -999.000,9,   -999.0,9,   61.590,2,   27.510,2,    0.140,2,    1.900,2,    5.754,6,    2.726,6, -999.000,9, 2177.200,9, -999.000,9
           NA,   SR04e,      7,   3,      23,      23,  2,19980402,2150, -63.4983,  -52.1117,   933,     19.2,  -1.8068,   33.921,2,  33.9239,2, -999.000,9,   -999.0,9,   61.930,2,   27.600,2,    0.140,2,    1.910,2, -999.000,9, -999.000,9, -999.000,9, -999.000,9, -999.000,9
           NA,   SR04e,      7,   3,      22,      22,  2,19980402,2150, -63.4983,  -52.1117,   933,     49.3,  -1.7761,   34.251,2,  34.2798,2, -999.000,9,    306.6,2,   65.070,2,   29.460,2,    0.200,2,    2.040,2,    5.077,2,    2.404,2, -999.000,9, 2211.100,9, -999.000,9
           NA,   SR04e,      7,   3,      21,      21,  2,19980402,2150, -63.4983,  -52.1117,   933,     99.1,  -1.8019,   34.430,2,  34.4343,2, -999.000,9,   -999.0,9,   65.970,2,   30.820,2,    0.120,2,    2.100,2, -999.000,3, -999.000,3, -999.000,9, -999.000,9, -999.000,9
           NA,   SR04e,      7,   3,      20,      20,  2,19980402,2150, -63.4983,  -52.1117,   933,     99.1,  -1.8025,   34.430,2,  34.4325,2, -999.000,9,    298.5,2,   66.760,2,   30.890,2,    0.130,2,    2.090,2, -999.000,9, -999.000,9, -999.000,9, 2224.600,9, -999.000,9
           NA,   SR04e,      7,   3,      19,      19,  2,19980402,2150, -63.4983,  -52.1117,   933,    148.8,  -1.8107,   34.439,2,  34.4422,2, -999.000,9,    299.4,2,   66.160,2,   30.920,2,    0.020,2,    2.100,2, -999.000,9, -999.000,9, -999.000,9, -999.000,9, -999.000,9
           NA,   SR04e,      7,   3,      18,      18,  2,19980402,2150, -63.4983,  -52.1117,   933,    198.4,  -1.7171,   34.447,2,  34.4522,2, -999.000,9,    294.3,2,   67.460,2,   30.960,2,    0.030,2,    2.110,2,    5.000,2,    2.365,2, -999.000,9, 2230.100,9, -999.000,9
           NA,   SR04e,      7,   3,      17,      17,  2,19980402,2150, -63.4983,  -52.1117,   933,    249.3,  -1.4274,   34.476,2,  34.4781,2, -999.000,9,    280.1,2,   72.430,2,   31.280,2,    0.030,2,    2.120,2, -999.000,9, -999.000,9, -999.000,9, -999.000,9, -999.000,9
           NA,   SR04e,      7,   3,      16,      16,  2,19980402,2150, -63.4983,  -52.1117,   933,    299.0,  -1.1094,   34.505,2,  34.5087,2, -999.000,9,    269.8,2,   75.930,2,   31.700,2,    0.020,2,    2.140,2,    3.775,2,    1.808,2, -999.000,9, 2235.100,9, -999.000,9
           NA,   SR04e,      7,   3,      15,      15,  2,19980402,2150, -63.4983,  -52.1117,   933,    349.5,  -0.7582,   34.538,2,  34.5377,2, -999.000,9,    257.2,2,   80.550,2,   31.830,2,    0.020,2,    2.160,2, -999.000,9, -999.000,9, -999.000,9, -999.000,9, -999.000,9
           NA,   SR04e,      7,   3,      11,      11,  2,19980402,2150, -63.4983,  -52.1117,   933,    397.8,  -0.2590,   34.581,2,  34.5817,2, -999.000,9,    241.9,2,   87.010,2,   32.150,2,    0.020,2,    2.190,2,    2.430,2,    1.174,2, -999.000,9, 2251.100,9, -999.000,9
           NA,   SR04e,      7,   3,      10,      10,  2,19980402,2150, -63.4983,  -52.1117,   933,    449.2,  -0.0434,   34.624,2,  34.6188,2, -999.000,9,    222.7,2,   94.470,2,   32.500,2,    0.020,2,    2.200,2, -999.000,9, -999.000,9, -999.000,9, -999.000,9, -999.000,9
           NA,   SR04e,      7,   3,       9,       9,  2,19980402,2150, -63.4983,  -52.1117,   933,    498.7,   0.2831,   34.655,2,  34.6561,2, -999.000,9,    217.7,2,  103.570,2,   32.740,2,    0.010,2,    2.230,2,    1.012,2,    0.474,2, -999.000,9, 2260.700,9, -999.000,9
           NA,   SR04e,      7,   3,       8,       8,  2,19980402,2150, -63.4983,  -52.1117,   933,    549.1,   0.3955,   34.671,2,  34.6700,2, -999.000,9,    211.7,2,  109.790,2,   32.890,2,    0.030,2,    2.260,2, -999.000,9, -999.000,9, -999.000,9, -999.000,9, -999.000,9
           NA,   SR04e,      7,   3,       7,       7,  2,19980402,2150, -63.4983,  -52.1117,   933,    599.4,   0.2894,   34.667,2,  34.6686,2, -999.000,9,   -999.0,9,  111.560,2,   33.090,2,    0.020,2,    2.250,2,    0.606,2,    0.286,2, -999.000,9, 2263.900,9, -999.000,9
           NA,   SR04e,      7,   3,       6,       6,  2,19980402,2150, -63.4983,  -52.1117,   933,    649.9,   0.0831,   34.654,2,  34.6544,2, -999.000,9,    223.2,2,  108.670,2,   32.770,2,    0.020,2,    2.240,2, -999.000,9, -999.000,9, -999.000,9, -999.000,9, -999.000,9
           NA,   SR04e,      7,   3,       5,       5,  2,19980402,2150, -63.4983,  -52.1117,   933,    700.2,  -0.1037,   34.641,2,  34.6463,0, -999.000,9,    227.8,2,  108.520,2,   32.750,2,    0.030,2,    2.250,2,    1.164,2,    0.552,2, -999.000,9, 2260.800,9, -999.000,9
           NA,   SR04e,      7,   3,       4,       4,  2,19980402,2150, -63.4983,  -52.1117,   933,    799.3,  -0.6018,   34.617,2,  34.6142,2, -999.000,9,   -999.0,9,   95.780,2,   32.160,2,    0.010,2,    2.200,2,    2.318,2,    1.113,2, -999.000,9, 2253.100,9, -999.000,9
           NA,   SR04e,      7,   3,       3,       3,  2,19980402,2150, -63.4983,  -52.1117,   933,    849.2,  -0.7646,   34.616,2,  34.6154,2, -999.000,9,    256.8,2,   93.660,2,   31.900,2,    0.020,2,    2.180,2, -999.000,9, -999.000,9, -999.000,9, -999.000,9, -999.000,9
           NA,   SR04e,      7,   3,       2,       2,  2,19980402,2150, -63.4983,  -52.1117,   933,    900.1,  -1.0270,   34.611,2,  34.6113,2, -999.000,9,    265.3,2,   88.310,2,   31.720,2,    0.020,2,    2.170,2,    2.909,2,    1.388,2, -999.000,9, 2244.400,9, -999.000,9
           NA,   SR04e,      7,   3,       1,       1,  2,19980402,2150, -63.4983,  -52.1117,   933,    944.7,  -1.0303,   34.611,2,  34.6109,2, -999.000,9,    265.7,2,   88.000,2,   31.710,2,    0.020,2,    2.170,2, -999.000,9, -999.000,9, -999.000,9, 2248.600,9, -999.000,9
           NA,   SR04e,      6,   1,      24,      24,  2,19980402,0631, -63.5433,  -51.7767,  1427,     16.0,  -1.8003,   33.861,2,  33.8624,2, -999.000,9,    336.8,2,   61.390,2,   27.380,2,    0.130,2,    1.900,2, -999.000,9, -999.000,9, -999.000,9, 2168.800,2, -999.000,9
           NA,   SR04e,      6,   1,      23,      23,  2,19980402,0631, -63.5433,  -51.7767,  1427,     49.3,  -1.7744,   34.289,2,  34.3171,2, -999.000,9,    306.5,2,   65.560,2,   30.390,2,    0.040,2,    2.080,2, -999.000,9, -999.000,9, -999.000,9, -999.000,9, -999.000,9
           NA,   SR04e,      6,   1,      22,      22,  2,19980402,0631, -63.5433,  -51.7767,  1427,     98.9,  -1.8275,   34.436,2,  34.4347,2, -999.000,9,    301.5,2,   65.860,2,   30.870,2,    0.030,2,    2.090,2,    5.007,2,    2.486,2, -999.000,9, 2215.800,2, -999.000,9
           NA,   SR04e,      6,   1,      21,      21,  2,19980402,0631, -63.5433,  -51.7767,  1427,    149.0,  -1.8202,   34.440,2,  34.4412,2, -999.000,9,    301.3,2,   66.240,2,   30.810,2,    0.010,2,    2.090,2,    5.192,2,    2.423,2, -999.000,9, -999.000,9, -999.000,9
           NA,   SR04e,      6,   1,      20,      20,  2,19980402,0631, -63.5433,  -51.7767,  1427,    199.8,  -1.8172,   34.444,2,  34.4438,2, -999.000,9,    299.3,2,   65.940,2,   30.630,2,    0.020,2,    2.100,2, -999.000,9, -999.000,9, -999.000,9, 2219.300,2, -999.000,9
           NA,   SR04e,      6,   1,      19,      19,  2,19980402,0631, -63.5433,  -51.7767,  1427,    248.9,  -1.4678,   34.468,2,  34.4672,2, -999.000,9,    284.8,2,   71.130,2,   31.300,2,    0.000,2,    2.120,2,    3.144,2,    1.616,2, -999.000,9, -999.000,9, -999.000,9
           NA,   SR04e,      6,   1,      18,      18,  2,19980402,0631, -63.5433,  -51.7767,  1427,    299.3,  -0.8780,   34.514,2,  34.5190,2, -999.000,9,    259.4,2,   78.260,2,   31.840,2,    0.010,2,    2.170,2, -999.000,9, -999.000,9, -999.000,9, 2234.300,2, -999.000,9
           NA,   SR04e,      6,   1,      17,      17,  2,19980402,0631, -63.5433,  -51.7767,  1427,    349.6,  -0.3394,   34.564,2,  34.5636,2, -999.000,9,    241.4,2,   84.540,2,   32.080,2,    0.010,2,    2.200,2,    1.808,2,    0.927,2, -999.000,9, -999.000,9, -999.000,9
           NA,   SR04e,      6,   1,      16,      16,  2,19980402,0631, -63.5433,  -51.7767,  1427,    399.2,  -0.1370,   34.584,2,  34.5814,2, -999.000,9,    233.0,2,   87.750,2,   32.600,2,    0.000,2,    2.210,2, -999.000,9, -999.000,9, -999.000,9, 2246.700,2, -999.000,9
           NA,   SR04e,      6,   1,      15,      15,  2,19980402,0631, -63.5433,  -51.7767,  1427,    448.7,   0.2197,   34.621,2,-999.0000,9, -999.000,9,    219.7,2,   92.320,2,   32.660,2,    0.010,2,    2.240,2, -999.000,9, -999.000,9, -999.000,9, -999.000,9, -999.000,9
           NA,   SR04e,      6,   1,      11,      11,  2,19980402,0631, -63.5433,  -51.7767,  1427,    499.6,   0.4133,   34.644,2,  34.6469,2, -999.000,9,    213.4,2,   96.590,2,   32.540,2,    0.010,2,    2.240,2,    0.890,2,    0.445,2, -999.000,9, 2249.300,2, -999.000,9
           NA,   SR04e,      6,   1,      10,      10,  2,19980402,0631, -63.5433,  -51.7767,  1427,    600.2,   0.4915,   34.661,2,  34.6619,2, -999.000,9,    211.3,2,  100.780,2,   32.800,2,    0.000,2,    2.230,2,    0.708,2,    0.356,2, -999.000,9, -999.000,9, -999.000,9
           NA,   SR04e,      6,   1,       9,       9,  2,19980402,0631, -63.5433,  -51.7767,  1427,    699.3,   0.4669,   34.669,2,  34.6694,2, -999.000,9,    211.0,2,  104.470,2,   32.780,2,    0.020,2,    2.240,2,    0.570,2,    0.287,2, -999.000,9, -999.000,9, -999.000,9
           NA,   SR04e,      6,   1,       8,       8,  2,19980402,0631, -63.5433,  -51.7767,  1427,    799.0,   0.4747,   34.679,2,  34.6769,2, -999.000,9,    209.0,2,  109.800,2,   32.720,2,    0.010,2,    2.250,2,    0.376,2,    0.191,2, -999.000,9, -999.000,9, -999.000,9
           NA,   SR04e,      6,   1,       7,       7,  2,19980402,0631, -63.5433,  -51.7767,  1427,    899.0,   0.3839,   34.675,2,  34.6736,2, -999.000,9,    211.4,2,  111.330,2,   33.040,2,    0.000,2,    2.260,2,    0.561,2,    0.274,2, -999.000,9, -999.000,9, -999.000,9
           NA,   SR04e,      6,   1,       6,       6,  2,19980402,0631, -63.5433,  -51.7767,  1427,   1000.6,   0.2426,   34.671,2,  34.6716,2, -999.000,9,    214.6,2,  114.240,2,   33.100,2,    0.020,2,    2.260,2,    0.551,2,    0.273,2, -999.000,9, 2257.100,2, -999.000,9
           NA,   SR04e,      6,   1,       5,       5,  2,19980402,0631, -63.5433,  -51.7767,  1427,   1099.1,  -0.2565,   34.635,2,  34.6347,2, -999.000,9,    237.4,2,  103.980,2,   32.350,2,    0.010,2,    2.230,2,    1.514,2,    0.747,2, -999.000,9, -999.000,9, -999.000,9
           NA,   SR04e,      6,   1,       4,       4,  2,19980402,0631, -63.5433,  -51.7767,  1427,   1199.6,  -0.6849,   34.620,2,  34.6202,2, -999.000,9,    253.4,2,   95.860,2,   32.240,2,    0.020,2,    2.200,2,    2.225,2,    1.111,2, -999.000,9, 2250.100,2, -999.000,9
           NA,   SR04e,      6,   1,       3,       3,  2,19980402,0631, -63.5433,  -51.7767,  1427,   1299.4,  -1.0219,   34.614,2,  34.6143,2, -999.000,9,    267.1,2,   87.770,2,   31.860,2,    0.040,2,    2.170,2,    2.970,2,    1.470,2, -999.000,9, 2244.100,2, -999.000,9
           NA,   SR04e,      6,   1,       2,       2,  2,19980402,0631, -63.5433,  -51.7767,  1427,   1349.9,  -1.0615,   34.612,2,  34.6092,2, -999.000,9,    268.3,2,   86.940,2,   31.560,2,    0.030,2,    2.170,2,    3.046,2,    1.502,2, -999.000,9, 2241.700,2, -999.000,9
           NA,   SR04e,      6,   1,       1,       1,  2,19980402,0631, -63.5433,  -51.7767,  1427,   1417.2,  -1.0660,   34.613,2,  34.6124,2, -999.000,9,    268.5,2,   86.400,2,   31.850,2,    0.030,2,    2.170,2,    3.059,2,    1.503,2, -999.000,9, 2237.300,2, -999.000,9
           NA,   SR04e,      8,   1,      24,      24,  2,19980403,0046, -63.5483,  -51.7717,  1477,     23.6,  -1.7894,   34.069,2,  34.1728,2, -999.000,9,    321.2,2,   64.060,2,   28.890,2,    0.150,2,    2.010,2,    5.507,2,    2.637,2, -999.000,9, 2201.500,9, -999.000,9
           NA,   SR04e,      8,   1,      23,      23,  2,19980403,0046, -63.5483,  -51.7717,  1477,     48.5,  -1.8127,   34.420,2,  34.4194,2, -999.000,9,    303.2,2,   65.700,2,   30.200,2,    0.150,2,    2.090,2, -999.000,9, -999.000,9, -999.000,9, -999.000,9, -999.000,9
           NA,   SR04e,      8,   1,      22,      22,  2,19980403,0046, -63.5483,  -51.7717,  1477,     99.0,  -1.8266,   34.436,2,  34.4363,2, -999.000,9,    300.7,2,   66.440,2,   30.600,2,    0.040,2,    2.090,2, -999.000,9, -999.000,9, -999.000,9, 2230.100,9, -999.000,9
           NA,   SR04e,      8,   1,      21,      21,  2,19980403,0046, -63.5483,  -51.7717,  1477,    148.8,  -1.7550,   34.444,2,  34.4441,2, -999.000,9,    296.8,2,   67.840,2,   30.880,2,    0.020,2,    2.100,2, -999.000,9, -999.000,9, -999.000,9, -999.000,9, -999.000,9
           NA,   SR04e,      8,   1,      20,      20,  2,19980403,0046, -63.5483,  -51.7717,  1477,    199.3,  -1.5499,   34.461,2,  34.4606,2, -999.000,9,    288.5,2,   70.920,2,   30.900,2,    0.020,2,    2.120,2, -999.000,9, -999.000,9, -999.000,9, 2230.600,9, -999.000,9
           NA,   SR04e,      8,   1,      19,      19,  2,19980403,0046, -63.5483,  -51.7717,  1477,    249.3,  -1.2977,   34.480,2,  34.4826,2, -999.000,9,   -999.0,9,   73.950,2,   31.410,2,    0.020,2,    2.150,2, -999.000,9, -999.000,9, -999.000,9, -999.000,9, -999.000,9
           NA,   SR04e,      8,   1,      18,      18,  2,19980403,0046, -63.5483,  -51.7717,  1477,    299.2,  -1.1408,   34.494,2,  34.4953,2, -999.000,9,    271.6,2,   75.570,2,   31.530,2,    0.020,2,    2.160,2, -999.000,9, -999.000,9, -999.000,9, 2238.800,9, -999.000,9
           NA,   SR04e,      8,   1,      17,      17,  2,19980403,0046, -63.5483,  -51.7717,  1477,    348.2,  -0.5279,   34.543,2,  34.5451,2, -999.000,9,    248.6,2,   81.410,2,   31.970,2, -999.000,4,    2.200,2, -999.000,9, -999.000,9, -999.000,9, -999.000,9, -999.000,9
           NA,   SR04e,      8,   1,      16,      16,  2,19980403,0046, -63.5483,  -51.7717,  1477,    397.7,  -0.2522,   34.569,2,  34.5684,2, -999.000,9,   -999.0,9,   85.470,2,   32.460,2,    0.000,2,    2.220,2, -999.000,9, -999.000,9, -999.000,9, 2246.000,9, -999.000,9
           NA,   SR04e,      8,   1,      15,      15,  2,19980403,0046, -63.5483,  -51.7717,  1477,    449.2,   0.2620,   34.624,2,  34.6223,2, -999.000,9,    218.6,2,   92.300,2,   32.740,2,    0.010,2,    2.250,2, -999.000,9, -999.000,9, -999.000,9, -999.000,9, -999.000,9
           NA,   SR04e,      8,   1,      11,      11,  2,19980403,0046, -63.5483,  -51.7717,  1477,    499.3,   0.5183,   34.655,2,  34.6550,2, -999.000,9,    211.7,2,   97.630,2,   32.690,2, -999.000,4,    2.250,2, -999.000,9, -999.000,9, -999.000,9, 2260.900,9, -999.000,9
           NA,   SR04e,      8,   1,      10,      10,  2,19980403,0046, -63.5483,  -51.7717,  1477,    599.3,   0.5584,   34.667,2,  34.6675,2, -999.000,9,    208.5,2,  101.960,2,   32.810,2,    0.020,2,    2.260,2, -999.000,9, -999.000,9, -999.000,9, -999.000,9, -999.000,9
           NA,   SR04e,      8,   1,       9,       9,  2,19980403,0046, -63.5483,  -51.7717,  1477,    698.7,   0.5631,   34.676,2,  34.6762,2, -999.000,9,    209.1,2,  105.860,2,   32.850,2,    0.010,2,    2.250,2, -999.000,9, -999.000,9, -999.000,9, 2269.600,9, -999.000,9
           NA,   SR04e,      8,   1,       8,       8,  2,19980403,0046, -63.5483,  -51.7717,  1477,    798.3,   0.4826,   34.677,2,  34.6763,2, -999.000,9,    209.3,2,  109.180,2,   32.810,2, -999.000,4,    2.260,2, -999.000,9, -999.000,9, -999.000,9, -999.000,9, -999.000,9
           NA,   SR04e,      8,   1,       7,       7,  2,19980403,0046, -63.5483,  -51.7717,  1477,    899.1,   0.4053,   34.677,2,  34.6768,2, -999.000,9,    210.6,2,  112.590,2,   33.000,2,    0.000,2,    2.270,2, -999.000,9, -999.000,9, -999.000,9, 2262.700,9, -999.000,9
           NA,   SR04e,      8,   1,       6,       6,  2,19980403,0046, -63.5483,  -51.7717,  1477,    998.7,   0.1850,   34.662,2,  34.6604,2, -999.000,9,    219.1,2,  110.910,2,   32.960,2, -999.000,4,    2.260,2, -999.000,9, -999.000,9, -999.000,9, -999.000,9, -999.000,9
           NA,   SR04e,      8,   1,       5,       5,  2,19980403,0046, -63.5483,  -51.7717,  1477,   1099.7,  -0.2400,   34.640,2,  34.6401,2, -999.000,9,    234.8,2,  105.540,2,   32.400,2,    0.010,2,    2.250,2,    1.396,2,    0.676,2, -999.000,9, 2256.600,9, -999.000,9
           NA,   SR04e,      8,   1,       4,       4,  2,19980403,0046, -63.5483,  -51.7717,  1477,   1199.0,  -0.5804,   34.621,2,  34.6202,2, -999.000,9,    250.4,2,   97.190,2,   32.160,2,    0.000,2,    2.210,2, -999.000,9, -999.000,9, -999.000,9, -999.000,9, -999.000,9
           NA,   SR04e,      8,   1,       3,       3,  2,19980403,0046, -63.5483,  -51.7717,  1477,   1300.1,  -0.8191,   34.624,2,  34.6240,2, -999.000,9,    258.0,2,   94.370,2,   31.920,2,    0.020,2,    2.200,2,    2.441,2,    1.185,2, -999.000,9, 2246.800,9, -999.000,9
           NA,   SR04e,      8,   1,       2,       2,  2,19980403,0046, -63.5483,  -51.7717,  1477,   1349.2,  -1.0033,   34.618,2,  34.6171,2, -999.000,9,    265.9,2,   87.990,2,   31.550,2,    0.000,2,    2.180,2,    2.882,2,    1.382,2, -999.000,9, 2246.900,9, -999.000,9
           NA,   SR04e,      8,   1,       1,       1,  2,19980403,0046, -63.5483,  -51.7717,  1477,   1442.0,  -1.0410,   34.614,2,  34.6152,2, -999.000,9,    268.8,2,   87.060,2,   31.690,2,    0.020,2,    2.170,2,    3.011,2,    1.458,2, -999.000,9, 2243.500,9, -999.000,9