BOTTLE,20210426JOAExport
EXPOCODE,SECT_ID,STNNBR,CASTNO,SAMPNO,BTLNBR,BTLNBR_FLAG_W,DATE,TIME,LATITUDE,LONGITUDE,DEPTH,CTDPRS,CTDTMP,CTDSAL,CTDSAL_FLAG_W,SALNTY,SALNTY_FLAG_W,CTDOXY,CTDOXY_FLAG_W,OXYGEN,OXYGEN_FLAG_W,SILCAT,SILCAT_FLAG_W,NITRAT,NITRAT_FLAG_W,NITRIT,NITRIT_FLAG_W,PHSPHT,PHSPHT_FLAG_W,CFC-11,CFC-11_FLAG_W,CFC-12,CFC-12_FLAG_W,SF6,SF6_FLAG_W,TCARBN,TCARBN_FLAG_W,ALKALI,ALKALI_FLAG_W
,,,,,,,,,,,,DB,ITS-90,PSS-78,,PSS-78,,UMOL/KG,,UMOL/KG,,UMOL/KG,,UMOL/KG,,UMOL/KG,,UMOL/KG,,PMOL/KG,,PMOL/KG,,FMOL/KG,,UMOL/KG,,UMOL/KG
           NA,   SR04e,     10,   1,      24,      24,  2,19980403,0846, -63.5850,  -51.5900,  1862,     19.4,  -1.7931,   33.961,2,  33.9669,2, -999.000,9,    333.1,2,   63.710,2,   28.060,2,    0.130,2,    1.930,2,    5.739,2,    2.716,2, -999.000,9, 2180.700,2, -999.000,9
           NA,   SR04e,     10,   1,      23,      23,  2,19980403,0846, -63.5850,  -51.5900,  1862,     49.0,  -1.7896,   33.978,2,  33.9924,2, -999.000,9,   -999.0,9,   63.660,2,   28.280,2,    0.130,2,    1.950,2, -999.000,9, -999.000,9, -999.000,9, -999.000,9, -999.000,9
           NA,   SR04e,     10,   1,      22,      22,  2,19980403,0846, -63.5850,  -51.5900,  1862,     49.0,  -1.7895,   33.977,2,  34.0066,2, -999.000,9,    328.9,2,   63.620,2,   28.310,2,    0.120,2,    1.950,2, -999.000,9, -999.000,9, -999.000,9, 2185.200,9, -999.000,9
           NA,   SR04e,     10,   1,      21,      21,  2,19980403,0846, -63.5850,  -51.5900,  1862,     98.6,  -1.8205,   34.425,2,  34.4280,2, -999.000,9,   -999.0,9,   66.520,2,   30.360,2,    0.100,2,    2.090,2,    5.172,2,    2.457,2, -999.000,9, -999.000,9, -999.000,9
           NA,   SR04e,     10,   1,      20,      20,  2,19980403,0846, -63.5850,  -51.5900,  1862,     98.6,  -1.8201,   34.425,2,  34.4260,2, -999.000,9,    301.7,2,   66.420,2,   30.510,2,    0.120,2,    2.090,2, -999.000,9, -999.000,9, -999.000,9, 2222.400,9, -999.000,9
           NA,   SR04e,     10,   1,      18,      18,  2,19980403,0846, -63.5850,  -51.5900,  1862,    199.2,  -1.7855,   34.440,2,  34.4411,2, -999.000,9,    297.3,2,   67.810,2,   30.520,2,    0.010,2,    2.100,2, -999.000,9, -999.000,9, -999.000,9, 2220.500,9, -999.000,9
           NA,   SR04e,     10,   1,      19,      19,  2,19980403,0846, -63.5850,  -51.5900,  1862,    199.5,  -1.7869,   34.440,2,  34.4416,2, -999.000,9,   -999.0,9,   67.990,2,   30.720,2,    0.010,2,    2.100,2, -999.000,9, -999.000,9, -999.000,9, -999.000,9, -999.000,9
           NA,   SR04e,     10,   1,      17,      17,  2,19980403,0846, -63.5850,  -51.5900,  1862,    299.1,  -1.5994,   34.459,2,  34.4594,2, -999.000,9,    287.7,2,   71.160,2,   31.000,2,    0.000,2,    2.110,2,    4.488,2,    2.152,2, -999.000,9, 2227.700,2, -999.000,9
           NA,   SR04e,     10,   1,      16,      16,  2,19980403,0846, -63.5850,  -51.5900,  1862,    398.4,  -0.6867,   34.530,2,  34.5325,2, -999.000,9,    252.3,2,   80.160,2,   32.110,2,    0.010,2,    2.180,2, -999.000,9, -999.000,9, -999.000,9, 2238.300,2, -999.000,9
           NA,   SR04e,     10,   1,      15,      15,  2,19980403,0846, -63.5850,  -51.5900,  1862,    498.4,  -0.2299,   34.574,2,  34.5751,2, -999.000,9,    233.3,2,   85.820,2,   32.420,2,    0.000,2,    2.220,2,    2.280,2,    1.127,2, -999.000,9, 2246.700,2, -999.000,9
           NA,   SR04e,     10,   1,      11,      11,  2,19980403,0846, -63.5850,  -51.5900,  1862,    599.3,   0.3293,   34.628,2,  34.6289,2, -999.000,9,    214.8,2,   93.370,2,   32.910,2,    0.000,2,    2.250,2,    1.432,2,    0.694,2, -999.000,9, 2256.500,2, -999.000,9
           NA,   SR04e,     10,   1,      10,      10,  2,19980403,0846, -63.5850,  -51.5900,  1862,    699.5,   0.5498,   34.657,2,  34.6584,2, -999.000,9,    208.6,2,   98.610,2,   33.020,2,    0.000,2,    2.250,2, -999.000,9, -999.000,9, -999.000,9, 2256.300,2, -999.000,9
           NA,   SR04e,     10,   1,       9,       9,  2,19980403,0846, -63.5850,  -51.5900,  1862,    798.3,   0.6001,   34.667,2,  34.6683,2, -999.000,9,    207.3,2,  100.740,2,   32.760,2,    0.000,2,    2.250,2, -999.000,9, -999.000,9, -999.000,9, 2259.000,2, -999.000,9
           NA,   SR04e,     10,   1,       8,       8,  2,19980403,0846, -63.5850,  -51.5900,  1862,    898.8,   0.6351,   34.675,2,  34.6738,2, -999.000,9,    208.0,2,  103.390,2,   32.800,2,    0.000,2,    2.260,2,    0.722,2,    0.345,2, -999.000,9, 2260.000,2, -999.000,9
           NA,   SR04e,     10,   1,       7,       7,  2,19980403,0846, -63.5850,  -51.5900,  1862,    998.9,   0.0131,   34.625,2,  34.6230,2, -999.000,9,    230.7,2,   95.920,2,   32.500,2,    0.010,2,    2.220,2,    1.679,2,    0.808,2, -999.000,9, 2250.400,2, -999.000,9
           NA,   SR04e,     10,   1,       6,       6,  2,19980403,0846, -63.5850,  -51.5900,  1862,   1098.0,  -0.1017,   34.625,2,  34.6282,2, -999.000,9,    232.4,2,   99.110,2,   32.660,2,    0.010,2,    2.230,2, -999.000,9, -999.000,9, -999.000,9, 2251.300,2, -999.000,9
           NA,   SR04e,     10,   1,       5,       5,  2,19980403,0846, -63.5850,  -51.5900,  1862,   1498.1,  -0.7240,   34.617,2,  34.6144,2, -999.000,9,    255.1,2,   93.370,2,   31.950,2,    0.010,2,    2.200,2, -999.000,9, -999.000,9, -999.000,9, 2248.200,2, -999.000,9
           NA,   SR04e,     10,   1,       4,       4,  2,19980403,0846, -63.5850,  -51.5900,  1862,   1698.8,  -1.1052,   34.611,2,  34.6113,2, -999.000,9,    271.7,2,   84.670,2,   31.760,2,    0.020,2,    2.170,2,    3.287,2,    1.579,2, -999.000,9, 2240.700,2, -999.000,9
           NA,   SR04e,     10,   1,       3,       3,  2,19980403,0846, -63.5850,  -51.5900,  1862,   1798.9,  -1.1684,   34.612,2,  34.6116,2, -999.000,9,    274.2,2,   82.880,2,   31.750,2,    0.040,2,    2.160,2,    3.392,2,    1.638,2, -999.000,9, 2240.600,2, -999.000,9
           NA,   SR04e,     10,   1,       2,       2,  2,19980403,0846, -63.5850,  -51.5900,  1862,   1848.7,  -1.1690,   34.612,2,  34.6115,2, -999.000,9,    274.0,2,   82.760,2,   31.520,2,    0.010,2,    2.170,2,    3.398,2,    1.613,2, -999.000,9, 2239.800,2, -999.000,9
           NA,   SR04e,     10,   1,       1,       1,  2,19980403,0846, -63.5850,  -51.5900,  1862,   1891.4,  -1.1578,   34.614,2,  34.6133,2, -999.000,9,    273.2,2,   83.700,2,   31.700,2,    0.010,2,    2.170,2,    3.328,2,    1.599,2, -999.000,9, 2242.100,2, -999.000,9
           NA,   SR04e,      9,   1,      24,      24,  2,19980403,0439, -63.6483,  -51.2950,  2280,     50.4,  -1.7853,   34.329,2,  34.1472,2, -999.000,9,    314.4,2,   64.960,2,   28.770,2,    0.110,2,    1.990,2,    5.050,2,    2.425,2, -999.000,9, 2202.100,9, -999.000,9
           NA,   SR04e,      9,   1,      23,      23,  2,19980403,0439, -63.6483,  -51.2950,  2280,     99.0,  -1.8130,   34.430,2,  34.4307,2, -999.000,9,    301.3,2,   66.900,2,   30.420,2,    0.060,2,    2.080,2,    5.296,2,    2.527,2, -999.000,9, 2223.000,9, -999.000,9
           NA,   SR04e,      9,   1,      22,      22,  2,19980403,0439, -63.6483,  -51.2950,  2280,    199.2,  -1.6352,   34.458,2,  34.4511,2, -999.000,9,    291.1,2,   70.950,2,   30.900,2,    0.020,2,    2.110,2,    4.564,2,    2.159,2, -999.000,9, 2230.600,9, -999.000,9
           NA,   SR04e,      9,   1,      21,      21,  2,19980403,0439, -63.6483,  -51.2950,  2280,    298.9,  -0.6402,   34.541,2,  34.5415,2, -999.000,9,    249.8,2,   81.640,2,   31.870,2,    0.000,2,    2.180,2,    2.887,2,    1.391,2, -999.000,9, 2244.500,9, -999.000,9
           NA,   SR04e,      9,   1,      20,      20,  2,19980403,0439, -63.6483,  -51.2950,  2280,    398.5,   0.3477,   34.633,2,  34.6387,2, -999.000,9,    213.7,2,   94.270,2,   32.860,2,    0.030,2,    2.240,2,    1.253,2,    0.598,2, -999.000,9, 2254.800,9, -999.000,9
           NA,   SR04e,      9,   1,      19,      19,  2,19980403,0439, -63.6483,  -51.2950,  2280,    498.7,   0.5435,   34.660,2,  34.6593,2, -999.000,9,    208.7,2,   98.750,2,   32.900,2,    0.000,2,    2.250,2,    0.938,2,    0.445,2, -999.000,9, 2260.300,9, -999.000,9
           NA,   SR04e,      9,   1,      18,      18,  2,19980403,0439, -63.6483,  -51.2950,  2280,    599.6,   0.6273,   34.675,2,  34.6758,2, -999.000,9,    204.6,2,  102.570,2,   32.710,2,    0.020,2,    2.250,2,    0.663,2,    0.308,2, -999.000,9, 2263.800,9, -999.000,9
           NA,   SR04e,      9,   1,      17,      17,  2,19980403,0439, -63.6483,  -51.2950,  2280,    699.2,   0.6259,   34.683,2,  34.6833,2, -999.000,9,    204.6,2,  106.820,2,   32.940,2,    0.020,2,    2.260,2,    0.479,2,    0.230,2, -999.000,9, 2262.800,9, -999.000,9
           NA,   SR04e,      9,   1,      16,      16,  2,19980403,0439, -63.6483,  -51.2950,  2280,    799.7,   0.5488,   34.683,2,  34.6818,2, -999.000,9,    206.2,2,  109.840,2,   32.920,2,    0.020,2,    2.250,2,    0.433,2,    0.211,2, -999.000,9, 2266.500,9, -999.000,9
           NA,   SR04e,      9,   1,      15,      15,  2,19980403,0439, -63.6483,  -51.2950,  2280,    899.7,   0.4346,   34.679,2,  34.6777,2, -999.000,9,    210.2,2,  111.550,2,   32.800,2,    0.000,2,    2.250,2,    0.423,2,    0.206,2, -999.000,9, 2262.900,9, -999.000,9
           NA,   SR04e,      9,   1,      11,      11,  2,19980403,0439, -63.6483,  -51.2950,  2280,    999.7,   0.3390,   34.676,2,  34.6767,2, -999.000,9,    210.9,2,  115.140,2,   33.100,2,    0.010,2,    2.280,2,    0.368,2,    0.179,2, -999.000,9, 2262.300,9, -999.000,9
           NA,   SR04e,      9,   1,      10,      10,  2,19980403,0439, -63.6483,  -51.2950,  2280,   1099.4,   0.2789,   34.675,2,  34.6736,2, -999.000,9,    212.5,2,  116.890,2,   33.180,2,    0.030,2,    2.280,2,    0.330,2,    0.162,2, -999.000,9, 2266.800,9, -999.000,9
           NA,   SR04e,      9,   1,       9,       9,  2,19980403,0439, -63.6483,  -51.2950,  2280,   1200.1,   0.2041,   34.673,2,  34.6693,2, -999.000,9,    213.6,2,  118.230,2,   33.120,2, -999.000,4,    2.290,2,    0.313,2,    0.156,2, -999.000,9, 2264.500,9, -999.000,9
           NA,   SR04e,      9,   1,       8,       8,  2,19980403,0439, -63.6483,  -51.2950,  2280,   1398.8,   0.0898,   34.669,2,  34.6670,2, -999.000,9,    218.1,2,  120.050,2,   33.190,2,    0.010,2,    2.290,2,    0.344,2,    0.169,2, -999.000,9, 2264.100,9, -999.000,9
           NA,   SR04e,      9,   1,       7,       7,  2,19980403,0439, -63.6483,  -51.2950,  2280,   1599.1,  -0.0626,   34.663,2,  34.6631,2, -999.000,9,    223.9,2,  120.620,2,   33.030,2,    0.020,2,    2.270,2,    0.400,2,    0.196,2, -999.000,9, 2263.900,9, -999.000,9
           NA,   SR04e,      9,   1,       6,       6,  2,19980403,0439, -63.6483,  -51.2950,  2280,   1799.1,  -0.2483,   34.654,2,  34.6566,2, -999.000,9,    234.8,2,  116.470,2,   32.590,2, -999.000,4,    2.260,2,    0.818,2,    0.391,2, -999.000,9, 2258.700,9, -999.000,9
           NA,   SR04e,      9,   1,       5,       5,  2,19980403,0439, -63.6483,  -51.2950,  2280,   1898.5,  -0.4802,   34.640,2,  34.6385,2, -999.000,9,    245.4,2,  106.500,2,   32.330,2,    0.010,2,    2.220,2,    1.539,2,    0.739,2, -999.000,9, 2253.500,9, -999.000,9
           NA,   SR04e,      9,   1,       4,       4,  2,19980403,0439, -63.6483,  -51.2950,  2280,   1998.3,  -0.7342,   34.627,2,  34.6263,2, -999.000,9,    257.7,2,   96.490,2,   32.020,2,    0.000,2,    2.200,2,    2.284,2,    1.107,2, -999.000,9, 2250.200,9, -999.000,9
           NA,   SR04e,      9,   1,       3,       3,  2,19980403,0439, -63.6483,  -51.2950,  2280,   2097.4,  -0.9469,   34.617,2,  34.6178,2, -999.000,9,    265.9,2,   89.650,2,   31.240,2,    0.040,2,    2.130,2,    2.889,2,    1.385,2, -999.000,9, 2248.600,9, -999.000,9
           NA,   SR04e,      9,   1,       2,       2,  2,19980403,0439, -63.6483,  -51.2950,  2280,   2198.2,  -1.1740,   34.609,2,  34.6075,2, -999.000,9,    274.4,2,   81.610,2,   31.350,2,    0.040,2,    2.140,2,    3.497,2,    1.673,2, -999.000,9, 2247.200,9, -999.000,9
           NA,   SR04e,      9,   1,       1,       1,  2,19980403,0439, -63.6483,  -51.2950,  2280,   2240.5,  -1.1758,   34.609,2,  34.6095,2, -999.000,9,    274.9,2,   81.670,2,   31.430,2,    0.020,2,    2.150,2,    3.507,2,    1.690,2, -999.000,9, -999.000,9, -999.000,9
           NA,   SR04e,     11,   6,      24,      24,  2,19980404,0919, -63.6550,  -50.7200,  2636,     18.1,  -1.8018,   34.018,2,  34.0178,2, -999.000,9,    324.0,2,   66.360,2,   28.380,2,    0.110,2,    1.950,2,    5.312,2,    2.598,2, -999.000,9, -999.000,9, -999.000,9
           NA,   SR04e,     11,   6,      23,      23,  2,19980404,0919, -63.6550,  -50.7200,  2636,     48.8,  -1.8088,   34.024,2,  34.0255,2, -999.000,9,    322.2,2,   66.430,2,   28.380,2,    0.120,2,    1.950,2,    5.323,2,    2.560,2, -999.000,9, -999.000,9, -999.000,9
           NA,   SR04e,     11,   6,      22,      22,  2,19980404,0919, -63.6550,  -50.7200,  2636,     98.4,  -1.8026,   34.414,2,  34.4179,2, -999.000,9,    301.6,2,   67.170,2,   30.270,2,    0.160,2,    2.070,2,    5.039,2,    2.418,2, -999.000,9, -999.000,9, -999.000,9
           NA,   SR04e,     11,   6,      21,      21,  2,19980404,0919, -63.6550,  -50.7200,  2636,    197.3,  -1.6967,   34.453,2,  34.4525,2, -999.000,9,    291.8,2,   69.810,2,   30.670,2,    0.010,2,    2.090,2,    4.587,2,    2.181,2, -999.000,9, -999.000,9, -999.000,9
           NA,   SR04e,     11,   6,      20,      20,  2,19980404,0919, -63.6550,  -50.7200,  2636,    298.7,  -0.5133,   34.551,2,  34.5522,2, -999.000,9,    244.6,2,   82.870,2,   32.020,2,    0.020,2,    2.180,2,    2.675,2,    1.307,2, -999.000,9, -999.000,9, -999.000,9
           NA,   SR04e,     11,   6,      19,      19,  2,19980404,0919, -63.6550,  -50.7200,  2636,    398.8,   0.3218,   34.630,2,  34.6322,2, -999.000,9,    214.5,2,   93.290,2,   32.810,2,    0.010,2,    2.230,2,    1.385,2,    0.663,2, -999.000,9, -999.000,9, -999.000,9
           NA,   SR04e,     11,   6,      18,      18,  2,19980404,0919, -63.6550,  -50.7200,  2636,    503.7,   0.6046,   34.667,2,  34.6672,2, -999.000,9,    205.2,2,   99.220,2,   32.830,2,    0.000,2,    2.230,2,    0.836,2,    0.398,2, -999.000,9, -999.000,9, -999.000,9
           NA,   SR04e,     11,   6,      17,      17,  2,19980404,0919, -63.6550,  -50.7200,  2636,    599.9,   0.6553,   34.681,2,  34.6809,2, -999.000,9,    202.7,2,  103.810,2,   32.780,2,    0.010,2,    2.230,2,    0.591,2,    0.282,2, -999.000,9, -999.000,9, -999.000,9
           NA,   SR04e,     11,   6,      16,      16,  2,19980404,0919, -63.6550,  -50.7200,  2636,    797.1,   0.5256,   34.683,2,  34.6841,2, -999.000,9,    206.3,2,  110.330,2,   32.970,2,    0.000,2,    2.240,2,    0.389,2,    0.184,2, -999.000,9, -999.000,9, -999.000,9
           NA,   SR04e,     11,   6,      15,      15,  2,19980404,0919, -63.6550,  -50.7200,  2636,    998.5,   0.4117,   34.681,2,-999.0000,9, -999.000,9,    207.1,2,  114.320,2,   32.960,2,    0.010,2,    2.250,2,    0.303,2,    0.145,2, -999.000,9, -999.000,9, -999.000,9
           NA,   SR04e,     11,   6,      11,      11,  2,19980404,0919, -63.6550,  -50.7200,  2636,   1249.4,   0.2372,   34.674,2,  34.6745,2, -999.000,9,    209.3,2,  118.270,2,   33.150,2,    0.010,2,    2.280,2,    0.307,2,    0.149,2, -999.000,9, -999.000,9, -999.000,9
           NA,   SR04e,     11,   6,      10,      10,  2,19980404,0919, -63.6550,  -50.7200,  2636,   1499.6,   0.1238,   34.671,2,  34.6703,2, -999.000,9,    216.6,2,  119.770,2,   33.160,2,    0.000,2,    2.260,2,    0.321,2,    0.153,2, -999.000,9, -999.000,9, -999.000,9
           NA,   SR04e,     11,   6,       9,       9,  2,19980404,0919, -63.6550,  -50.7200,  2636,   1749.4,   0.0050,   34.666,2,  34.6667,2, -999.000,9,    221.9,2,  120.560,2,   33.040,2,    0.000,2,    2.280,2,    0.368,2,    0.178,2, -999.000,9, -999.000,9, -999.000,9
           NA,   SR04e,     11,   6,       8,       8,  2,19980404,0919, -63.6550,  -50.7200,  2636,   1999.7,  -0.1366,   34.660,2,  34.6607,2, -999.000,9,    229.2,2,  120.290,2,   32.800,2,    0.000,2,    2.250,2,    0.495,2,    0.235,2, -999.000,9, -999.000,9, -999.000,9
           NA,   SR04e,     11,   6,       7,       7,  2,19980404,0919, -63.6550,  -50.7200,  2636,   2199.0,  -0.3930,   34.645,2,  34.6433,2, -999.000,9,    242.2,2,  109.100,2,   32.460,2,    0.000,2,    2.220,2,    1.318,2,    0.641,2, -999.000,9, -999.000,9, -999.000,9
           NA,   SR04e,     11,   6,       6,       6,  2,19980404,0919, -63.6550,  -50.7200,  2636,   2299.7,  -0.6517,   34.629,2,  34.6284,2, -999.000,9,    254.2,2,   98.600,2,   31.980,2,    0.000,2,    2.190,2,    2.040,2,    0.994,2, -999.000,9, -999.000,9, -999.000,9
           NA,   SR04e,     11,   6,       5,       5,  2,19980404,0919, -63.6550,  -50.7200,  2636,   2399.3,  -0.8645,   34.622,2,  34.6215,2, -999.000,9,    264.3,2,   91.220,2,   31.480,2,    0.010,2,    2.170,2,    2.634,2,    1.266,2, -999.000,9, -999.000,9, -999.000,9
           NA,   SR04e,     11,   6,       4,       4,  2,19980404,0919, -63.6550,  -50.7200,  2636,   2498.9,  -1.1510,   34.623,2,  34.6245,2, -999.000,9,    277.7,2,   81.800,2,   31.290,2,    0.010,2,    2.130,2,    3.466,2,    1.662,2, -999.000,9, -999.000,9, -999.000,9
           NA,   SR04e,     11,   6,       3,       3,  2,19980404,0919, -63.6550,  -50.7200,  2636,   2548.7,  -1.2017,   34.629,2,  34.6272,2, -999.000,9,    277.9,2,   81.340,2,   30.950,2,    0.020,2, -999.000,3,    3.614,2,    1.716,2, -999.000,9, -999.000,9, -999.000,9
           NA,   SR04e,     11,   6,       2,       2,  2,19980404,0919, -63.6550,  -50.7200,  2636,   2585.6,  -1.1985,   34.629,2,  34.6275,2, -999.000,9,    277.9,2,   81.260,2,   31.110,2,    0.020,2,    2.130,2,    3.575,2,    1.706,2, -999.000,9, -999.000,9, -999.000,9
           NA,   SR04e,     11,   6,       1,       1,  2,19980404,0919, -63.6550,  -50.7200,  2636,   2604.9,  -1.1967,   34.628,2,  34.6284,2, -999.000,9,    277.9,2,   81.450,2,   31.240,2,    0.020,2,    2.120,2,    3.578,2,    1.704,2, -999.000,9, -999.000,9, -999.000,9