BOTTLE,20210426JOAExport
EXPOCODE,SECT_ID,STNNBR,CASTNO,SAMPNO,BTLNBR,BTLNBR_FLAG_W,DATE,TIME,LATITUDE,LONGITUDE,DEPTH,CTDPRS,CTDTMP,CTDSAL,CTDSAL_FLAG_W,SALNTY,SALNTY_FLAG_W,CTDOXY,CTDOXY_FLAG_W,OXYGEN,OXYGEN_FLAG_W,SILCAT,SILCAT_FLAG_W,NITRAT,NITRAT_FLAG_W,NITRIT,NITRIT_FLAG_W,PHSPHT,PHSPHT_FLAG_W,CFC-11,CFC-11_FLAG_W,CFC-12,CFC-12_FLAG_W,SF6,SF6_FLAG_W,TCARBN,TCARBN_FLAG_W,ALKALI,ALKALI_FLAG_W
,,,,,,,,,,,,DB,ITS-90,PSS-78,,PSS-78,,UMOL/KG,,UMOL/KG,,UMOL/KG,,UMOL/KG,,UMOL/KG,,UMOL/KG,,PMOL/KG,,PMOL/KG,,FMOL/KG,,UMOL/KG,,UMOL/KG
           NA,   SR04e,     15,  99,       8,       8,  2,19980405,0728, -63.9600,  -49.1500,  3481,     18.8,  -1.8122,   33.898,2,-999.0000,9, -999.000,9,   -999.0,9,   75.640,2,   28.960,2,    0.130,2,    1.990,2, -999.000,9, -999.000,9, -999.000,9, -999.000,9, -999.000,9
           NA,   SR04e,     15,  99,       7,       7,  2,19980405,0728, -63.9600,  -49.1500,  3481,     18.8,  -1.8126,   33.899,2,-999.0000,9, -999.000,9,   -999.0,9,   75.710,2,   29.210,2,    0.130,2,    2.000,2, -999.000,9, -999.000,9, -999.000,9, -999.000,9, -999.000,9
           NA,   SR04e,     15,  99,       6,       6,  2,19980405,0728, -63.9600,  -49.1500,  3481,     18.8,  -1.8092,   33.899,2,-999.0000,9, -999.000,9,   -999.0,9,   76.290,2,   29.230,2,    0.130,2,    2.010,2, -999.000,9, -999.000,9, -999.000,9, -999.000,9, -999.000,9
           NA,   SR04e,     15,  99,      24,      24,  2,19980405,0728, -63.9600,  -49.1500,  3481,     19.2,  -1.8006,   33.932,2,  33.9319,2, -999.000,9,    319.5,2,   75.600,2,   29.000,2,    0.130,2,    2.000,2,    5.296,2,    2.550,2, -999.000,9, 2187.600,2, -999.000,9
           NA,   SR04e,     15,  99,      23,      23,  2,19980405,0728, -63.9600,  -49.1500,  3481,     49.3,  -1.6369,   34.337,2,  34.3990,2, -999.000,9,    279.6,2,   79.280,2,   30.780,2,    0.120,2,    2.100,2,    4.002,2,    1.922,2, -999.000,9, 2224.600,2, -999.000,9
           NA,   SR04e,     15,  99,       5,       5,  2,19980405,0728, -63.9600,  -49.1500,  3481,     98.8,  -1.4675,   34.458,2,-999.0000,9, -999.000,9,   -999.0,9,   80.860,2,   31.240,2,    0.040,2,    2.140,2, -999.000,9, -999.000,9, -999.000,9, -999.000,9, -999.000,9
           NA,   SR04e,     15,  99,       4,       4,  2,19980405,0728, -63.9600,  -49.1500,  3481,     98.9,  -1.4673,   34.459,2,-999.0000,9, -999.000,9,   -999.0,9,   81.490,2,   31.570,2,    0.030,2,    2.140,2, -999.000,9, -999.000,9, -999.000,9, -999.000,9, -999.000,9
           NA,   SR04e,     15,  99,      22,      22,  2,19980405,0728, -63.9600,  -49.1500,  3481,     99.4,  -1.4603,   34.451,2,  34.4505,2, -999.000,9,    271.2,2,   80.890,2,   31.270,2,    0.060,2,    2.130,2,    3.721,2,    1.775,2, -999.000,9, 2229.300,2, -999.000,9
           NA,   SR04e,     15,  99,      21,      21,  2,19980405,0728, -63.9600,  -49.1500,  3481,    198.8,  -0.5965,   34.559,2,  34.5557,2, -999.000,9,    240.3,2,   88.520,2,   32.150,2,    0.020,2,    2.210,2,    2.384,2,    1.154,2, -999.000,9, 2247.100,2, -999.000,9
           NA,   SR04e,     15,  99,      20,      20,  2,19980405,0728, -63.9600,  -49.1500,  3481,    298.9,   0.5170,   34.666,2,  34.6652,2, -999.000,9,    202.7,2,  100.600,2,   33.400,2,    0.010,2,    2.280,2,    0.851,2,    0.396,2, -999.000,9, 2256.100,2, -999.000,9
           NA,   SR04e,     15,  99,       3,       3,  2,19980405,0728, -63.9600,  -49.1500,  3481,    299.2,   0.5369,   34.669,2,-999.0000,9, -999.000,9,   -999.0,9,  101.550,2,   33.310,2,    0.000,2,    2.250,2, -999.000,9, -999.000,9, -999.000,9, -999.000,9, -999.000,9
           NA,   SR04e,     15,  99,      19,      19,  2,19980405,0728, -63.9600,  -49.1500,  3481,    398.7,   0.6426,   34.682,2,  34.6819,2, -999.000,9,    199.8,2,  105.090,2,   33.380,2,    0.010,2,    2.280,2,    0.582,2,    0.273,2, -999.000,9, 2260.600,2, -999.000,9
           NA,   SR04e,     15,  99,       2,       2,  2,19980405,0728, -63.9600,  -49.1500,  3481,    399.1,   0.6490,   34.684,2,-999.0000,9, -999.000,9,   -999.0,9,  105.110,2,   33.150,2,    0.000,2,    2.270,2, -999.000,9, -999.000,9, -999.000,9, -999.000,9, -999.000,9
           NA,   SR04e,     15,  99,       1,       1,  2,19980405,0728, -63.9600,  -49.1500,  3481,    500.2,   0.6632,   34.691,2,-999.0000,9, -999.000,9,   -999.0,9,  109.330,2,   33.350,2,    0.000,2,    2.270,2, -999.000,9, -999.000,9, -999.000,9, -999.000,9, -999.000,9
           NA,   SR04e,     15,  99,      18,      18,  2,19980405,0728, -63.9600,  -49.1500,  3481,    502.9,   0.6570,   34.690,2,  34.6904,2, -999.000,9,    200.1,2,  109.010,2,   33.260,2,    0.010,2,    2.280,2,    0.379,2,    0.178,2, -999.000,9, 2260.400,2, -999.000,9
           NA,   SR04e,     15,  99,      17,      17,  2,19980405,0728, -63.9600,  -49.1500,  3481,    596.0,   0.6025,   34.690,2,  34.6886,2, -999.000,9,    201.5,2,  111.950,2,   33.320,2,    0.010,2,    2.280,2,    0.319,2,    0.148,2, -999.000,9, 2263.100,2, -999.000,9
           NA,   SR04e,     15,  99,      16,      16,  2,19980405,0728, -63.9600,  -49.1500,  3481,    798.6,   0.4591,   34.686,2,  34.6855,2, -999.000,9,    204.3,2,  116.730,2,   33.800,2,    0.000,2,    2.300,2,    0.249,2,    0.122,2, -999.000,9, 2263.600,2, -999.000,9
           NA,   SR04e,     15,  99,      15,      15,  2,19980405,0728, -63.9600,  -49.1500,  3481,   1198.5,   0.2257,   34.676,2,  34.6754,2, -999.000,9,    210.0,2,  121.730,2,   33.670,2,    0.000,2,    2.320,2,    0.187,2,    0.095,2, -999.000,9, 2264.600,2, -999.000,9
           NA,   SR04e,     15,  99,      11,      11,  2,19980405,0728, -63.9600,  -49.1500,  3481,   1598.4,   0.0483,   34.671,2,  34.6703,2, -999.000,9,    217.0,2,  123.530,2,   33.420,2,    0.010,2,    2.320,2,    0.198,2,    0.098,2, -999.000,9, 2261.300,2, -999.000,9
           NA,   SR04e,     15,  99,      10,      10,  2,19980405,0728, -63.9600,  -49.1500,  3481,   1998.2,  -0.0777,   34.664,2,  34.6651,2, -999.000,9,    224.4,2,  124.420,2,   33.420,2,    0.010,2,    2.290,2,    0.237,2,    0.115,2, -999.000,9, 2259.100,2, -999.000,9
           NA,   SR04e,     15,  99,       9,       9,  2,19980405,0728, -63.9600,  -49.1500,  3481,   2298.1,  -0.1479,   34.662,2,  34.6623,2, -999.000,9,    228.2,2,  123.790,2,   33.390,2,    0.000,2,    2.300,2,    0.283,2,    0.140,2, -999.000,9, -999.000,9, -999.000,9
           NA,   SR04e,     15,  99,       8,       8,  2,19980405,0728, -63.9600,  -49.1500,  3481,   2598.0,  -0.1974,   34.660,2,  34.6601,2, -999.000,9,    231.2,2,  123.750,2,   33.070,2,    0.000,2,    2.290,2,    0.333,2,    0.163,2, -999.000,9, 2255.300,2, -999.000,9
           NA,   SR04e,     15,  99,       7,       7,  2,19980405,0728, -63.9600,  -49.1500,  3481,   2898.3,  -0.2402,   34.658,2,  34.6584,2, -999.000,9,    235.1,2,  123.040,2,   33.100,2,    0.000,2,    2.270,2,    0.396,2,    0.191,2, -999.000,9, 2254.800,2, -999.000,9
           NA,   SR04e,     15,  99,       5,       5,  2,19980405,0728, -63.9600,  -49.1500,  3481,   3298.1,  -0.3244,   34.652,2,  34.6499,2, -999.000,9,    240.6,2,  119.300,2,   32.950,2,    0.010,2,    2.270,2,    0.696,2,    0.335,2, -999.000,9, 2251.600,2, -999.000,9
           NA,   SR04e,     15,  99,       4,       4,  2,19980405,0728, -63.9600,  -49.1500,  3481,   3398.2,  -0.4949,   34.644,2,  34.6393,2, -999.000,9,    250.0,2,  109.180,2,   32.420,2, -999.000,4,    2.240,2,    1.403,2,    0.661,2, -999.000,9, 2251.200,2, -999.000,9
           NA,   SR04e,     15,  99,       3,       3,  2,19980405,0728, -63.9600,  -49.1500,  3481,   3473.2,  -0.8192,   34.624,2,  34.6231,2, -999.000,9,    265.5,2,   92.420,2,   32.050,2,    0.010,2,    2.190,2,    2.717,2,    1.300,2, -999.000,9, 2244.800,2, -999.000,9
           NA,   SR04e,     15,  99,       2,       2,  2,19980405,0728, -63.9600,  -49.1500,  3481,   3522.6,  -0.9862,   34.626,2,  34.6244,2, -999.000,9,    272.8,2,   86.740,2,   31.840,2,    0.010,2,    2.190,2,    3.124,2,    1.492,2, -999.000,9, 2242.400,2, -999.000,9
           NA,   SR04e,     15,  99,       1,       1,  2,19980405,0728, -63.9600,  -49.1500,  3481,   3549.9,  -1.0008,   34.625,2,  34.6246,2, -999.000,9,    272.2,2,   86.420,2,   31.550,2,    0.010,2,    2.170,2,    3.188,2,    1.495,2, -999.000,9, 2244.200,2, -999.000,9
           NA,   SR04e,     16,   1,      24,      24,  2,19980406,1659, -64.0767,  -48.2700,  4007,     18.8,  -1.8084,   33.874,2,  33.8770,2, -999.000,9,    326.1,2,   77.640,2,   29.040,2,    0.160,2,    1.990,2,    5.434,2,    2.671,2, -999.000,9, 2182.900,2, -999.000,9
           NA,   SR04e,     16,   1,      23,      23,  2,19980406,1659, -64.0767,  -48.2700,  4007,     48.9,  -1.6120,   34.325,2,  34.3394,2, -999.000,9,    284.2,2,   78.920,2,   30.250,2,    0.120,2,    2.060,2,    3.951,2,    1.904,2, -999.000,9, 2216.400,2, -999.000,9
           NA,   SR04e,     16,   1,      22,      22,  2,19980406,1659, -64.0767,  -48.2700,  4007,     99.6,  -1.5466,   34.431,2,  34.4322,2, -999.000,9,    274.1,2,   80.290,2,   30.700,2,    0.140,2,    2.110,2,    3.748,2,    1.810,2, -999.000,9, 2228.100,2, -999.000,9
           NA,   SR04e,     16,   1,      21,      21,  2,19980406,1659, -64.0767,  -48.2700,  4007,    198.6,  -0.1912,   34.591,2,  34.5925,2, -999.000,9,    224.3,2,   93.060,2,   32.710,2,    0.030,2,    2.230,2,    1.835,2,    0.867,2, -999.000,9, 2252.400,2, -999.000,9
           NA,   SR04e,     16,   1,      20,      20,  2,19980406,1659, -64.0767,  -48.2700,  4007,    299.4,   0.5287,   34.668,2,  34.6650,2, -999.000,9,    202.1,2,  101.350,2,   33.350,2,    0.010,2,    2.270,2,    0.838,2,    0.390,2, -999.000,9, 2259.200,2, -999.000,9
           NA,   SR04e,     16,   1,      19,      19,  2,19980406,1659, -64.0767,  -48.2700,  4007,    399.3,   0.6368,   34.681,2,  34.6809,2, -999.000,9,    199.9,2,  104.840,2,   33.120,2,    0.010,2,    2.290,2,    0.618,2,    0.285,2, -999.000,9, 2261.700,2, -999.000,9
           NA,   SR04e,     16,   1,      18,      18,  2,19980406,1659, -64.0767,  -48.2700,  4007,    499.8,   0.6595,   34.689,2,  34.6871,2, -999.000,9,    199.6,2,  108.430,2,   33.260,2,    0.020,2,    2.280,2,    0.435,2,    0.201,2, -999.000,9, 2262.200,2, -999.000,9
           NA,   SR04e,     16,   1,      17,      17,  2,19980406,1659, -64.0767,  -48.2700,  4007,    599.4,   0.6238,   34.690,2,  34.6893,2, -999.000,9,    200.6,2,  111.330,2,   33.230,2,    0.010,2,    2.280,2,    0.361,2,    0.169,2, -999.000,9, 2259.700,2, -999.000,9
           NA,   SR04e,     16,   1,      16,      16,  2,19980406,1659, -64.0767,  -48.2700,  4007,    699.9,   0.5592,   34.689,2,  34.6875,2, -999.000,9,    202.0,2,  114.000,2,   33.240,2,    0.020,2,    2.290,2,    0.319,2,    0.154,2, -999.000,9, 2263.800,2, -999.000,9
           NA,   SR04e,     16,   1,      15,      15,  2,19980406,1659, -64.0767,  -48.2700,  4007,    799.3,   0.4951,   34.687,2,  34.6856,2, -999.000,9,    204.4,2,  115.710,2,   33.320,2,    0.020,2,    2.280,2,    0.258,2,    0.132,2, -999.000,9, 2263.700,2, -999.000,9
           NA,   SR04e,     16,   1,      11,      11,  2,19980406,1659, -64.0767,  -48.2700,  4007,    999.2,   0.3710,   34.682,2,  34.6813,2, -999.000,9,    206.3,2,  118.700,2,   33.540,2,    0.010,2,    2.300,2,    0.231,2,    0.112,2, -999.000,9, 2263.900,2, -999.000,9
           NA,   SR04e,     16,   1,      10,      10,  2,19980406,1659, -64.0767,  -48.2700,  4007,   1249.6,   0.2477,   34.678,2,  34.6803,2, -999.000,9,    208.5,2,  122.490,2,   33.410,2,    0.010,2,    2.310,2,    0.201,2,    0.099,2, -999.000,9, 2266.300,2, -999.000,9
           NA,   SR04e,     16,   1,       9,       9,  2,19980406,1659, -64.0767,  -48.2700,  4007,   1499.5,   0.1659,   34.675,2,  34.6745,2, -999.000,9,    210.3,2,  124.080,2,   33.740,2,    0.010,2,    2.320,2,    0.175,2,    0.087,2, -999.000,9, 2264.400,2, -999.000,9
           NA,   SR04e,     16,   1,       8,       8,  2,19980406,1659, -64.0767,  -48.2700,  4007,   1748.4,   0.0600,   34.671,2,  34.6695,2, -999.000,9,    217.4,2,  124.490,2,   33.630,2,    0.000,2,    2.310,2,    0.204,2,    0.101,2, -999.000,9, 2261.100,2, -999.000,9
           NA,   SR04e,     16,   1,       7,       7,  2,19980406,1659, -64.0767,  -48.2700,  4007,   1998.7,  -0.0144,   34.667,2,  34.6683,2, -999.000,9,    220.4,2,  125.110,2,   33.380,2,    0.010,2,    2.310,2,    0.221,2,    0.111,2, -999.000,9, 2261.300,2, -999.000,9
           NA,   SR04e,     16,   1,       6,       6,  2,19980406,1659, -64.0767,  -48.2700,  4007,   2498.6,  -0.1360,   34.662,2,  34.6632,2, -999.000,9,    229.1,2,  124.410,2,   33.270,2,    0.000,2,    2.280,2,    0.300,2,    0.144,2, -999.000,9, 2257.400,2, -999.000,9
           NA,   SR04e,     16,   1,       5,       5,  2,19980406,1659, -64.0767,  -48.2700,  4007,   2998.7,  -0.2135,   34.659,2,  34.6618,2, -999.000,9,    234.0,2,  124.230,2,   33.070,2,    0.010,2,    2.280,2,    0.475,2,    0.298,2, -999.000,9, 2255.100,2, -999.000,9
           NA,   SR04e,     16,   1,       4,       4,  2,19980406,1659, -64.0767,  -48.2700,  4007,   3598.3,  -0.2951,   34.655,2,  34.6563,2, -999.000,9,    239.3,2,  124.540,2,   32.760,2,    0.010,2,    2.260,2,    0.386,2,    0.187,2, -999.000,9, 2255.600,2, -999.000,9
           NA,   SR04e,     16,   1,       3,       3,  2,19980406,1659, -64.0767,  -48.2700,  4007,   3898.8,  -0.4962,   34.638,2,  34.6360,2, -999.000,9,    253.4,2,  106.380,2,   32.160,2,    0.010,2,    2.140,2,    1.720,2,    0.820,2, -999.000,9, 2251.000,2, -999.000,9
           NA,   SR04e,     16,   1,       2,       2,  2,19980406,1659, -64.0767,  -48.2700,  4007,   3949.0,  -0.7119,   34.624,2,  34.6247,2, -999.000,9,    262.1,2,   96.810,2,   32.020,2,    0.010,2,    2.180,2,    2.428,2,    1.165,2, -999.000,9, 2246.400,2, -999.000,9
           NA,   SR04e,     16,   1,       1,       1,  2,19980406,1659, -64.0767,  -48.2700,  4007,   4002.8,  -0.9841,   34.620,2,  34.6199,2, -999.000,9,    274.0,2,   85.380,2,   31.470,2,    0.020,2,    2.150,2,    2.990,6,    1.439,6, -999.000,9, 2242.600,2, -999.000,9
           NA,   SR04e,     17,   1,      24,      24,  2,19980406,2245, -64.1883,  -47.4983,  4228,     18.8,  -1.8129,   33.856,2,-999.0000,9, -999.000,9,    324.8,2, -999.000,9, -999.000,9, -999.000,9, -999.000,9, -999.000,9, -999.000,9, -999.000,9, -999.000,9, -999.000,9
           NA,   SR04e,     17,   1,      23,      23,  2,19980406,2245, -64.1883,  -47.4983,  4228,     49.3,  -1.6688,   34.362,2,  34.3766,2, -999.000,9,    279.8,2,   80.530,2,   30.030,2,    0.160,2,    2.100,2, -999.000,9, -999.000,9, -999.000,9, 2223.700,2, -999.000,9
           NA,   SR04e,     17,   1,      22,      22,  2,19980406,2245, -64.1883,  -47.4983,  4228,     99.0,  -1.6650,   34.471,2,  34.4703,2, -999.000,9,    268.1,2,   81.570,2,   30.740,2,    0.060,2,    2.140,2,    3.746,2,    1.818,2, -999.000,9, 2232.700,2, -999.000,9
           NA,   SR04e,     17,   1,      21,      21,  2,19980406,2245, -64.1883,  -47.4983,  4228,    199.9,  -0.1504,   34.604,2,  34.6041,2, -999.000,9,    221.3,2,   94.300,2,   32.660,2,    0.010,2,    2.240,2, -999.000,9, -999.000,9, -999.000,9, 2252.700,2, -999.000,9
           NA,   SR04e,     17,   1,      20,      20,  2,19980406,2245, -64.1883,  -47.4983,  4228,    299.3,   0.6371,   34.681,2,  34.6800,2, -999.000,9,    197.7,2,  103.750,2,   33.440,2,    0.010,2,    2.300,2,    0.688,2,    0.326,2, -999.000,9, 2263.800,2, -999.000,9
           NA,   SR04e,     17,   1,      19,      19,  2,19980406,2245, -64.1883,  -47.4983,  4228,    399.9,   0.7410,   34.694,2,  34.6925,2, -999.000,9,    196.4,2,  108.300,2,   33.400,2,    0.010,2,    2.300,2, -999.000,9, -999.000,9, -999.000,9, 2263.400,2, -999.000,9
           NA,   SR04e,     17,   1,      18,      18,  2,19980406,2245, -64.1883,  -47.4983,  4228,    500.5,   0.6728,   34.695,2,  34.6929,2, -999.000,9,    198.5,2,  111.580,2,   33.530,2,    0.010,2,    2.290,2, -999.000,9, -999.000,9, -999.000,9, 2264.100,2, -999.000,9
           NA,   SR04e,     17,   1,      17,      17,  2,19980406,2245, -64.1883,  -47.4983,  4228,    598.4,   0.5962,   34.693,2,  34.6908,2, -999.000,9,    198.9,2,  114.640,2,   33.630,2,    0.010,2,    2.310,2,    0.268,2,    0.127,2, -999.000,9, 2263.600,2, -999.000,9
           NA,   SR04e,     17,   1,      16,      16,  2,19980406,2245, -64.1883,  -47.4983,  4228,    700.0,   0.5285,   34.690,2,  34.6886,2, -999.000,9,    200.9,2,  116.890,2,   33.530,2,    0.000,2,    2.310,2, -999.000,9, -999.000,9, -999.000,9, 2264.100,2, -999.000,9
           NA,   SR04e,     17,   1,      15,      15,  2,19980406,2245, -64.1883,  -47.4983,  4228,    799.3,   0.4488,   34.688,2,  34.6866,2, -999.000,9,    202.8,2,  118.790,2,   33.750,2,    0.010,2,    2.310,2,    0.207,2,    0.102,2, -999.000,9, 2264.500,2, -999.000,9
           NA,   SR04e,     17,   1,      11,      11,  2,19980406,2245, -64.1883,  -47.4983,  4228,    998.4,   0.3275,   34.682,2,  34.6830,2, -999.000,9,    205.1,2,  121.630,2,   33.920,2,    0.010,2,    2.330,2,    0.191,2,    0.092,2, -999.000,9, 2263.600,2, -999.000,9
           NA,   SR04e,     17,   1,      10,      10,  2,19980406,2245, -64.1883,  -47.4983,  4228,   1249.2,   0.2157,   34.678,2,  34.6768,2, -999.000,9,    209.8,2,  123.610,2,   33.740,2,    0.010,2,    2.330,2,    0.175,2,    0.086,2, -999.000,9, 2265.000,2, -999.000,9
           NA,   SR04e,     17,   1,       9,       9,  2,19980406,2245, -64.1883,  -47.4983,  4228,   1499.9,   0.1068,   34.673,2,  34.6726,2, -999.000,9,    213.3,2,  124.410,2,   33.710,2,    0.010,2,    2.330,2,    0.195,2,    0.096,2, -999.000,9, 2262.500,2, -999.000,9
           NA,   SR04e,     17,   1,       8,       8,  2,19980406,2245, -64.1883,  -47.4983,  4228,   1748.9,   0.0195,   34.670,2,  34.6610,0, -999.000,9,    218.2,2,  125.330,2,   33.800,2,    0.010,2,    2.320,2, -999.000,9, -999.000,9, -999.000,9, 2260.100,2, -999.000,9
           NA,   SR04e,     17,   1,       7,       7,  2,19980406,2245, -64.1883,  -47.4983,  4228,   1999.0,  -0.0580,   34.666,2,  34.6648,2, -999.000,9,    223.4,2,  125.360,2,   33.430,2,    0.010,2,    2.310,2,    0.191,2,    0.098,2, -999.000,9, 2258.400,2, -999.000,9
           NA,   SR04e,     17,   1,       6,       6,  2,19980406,2245, -64.1883,  -47.4983,  4228,   2500.2,  -0.1750,   34.662,2,  34.6617,2, -999.000,9,    229.9,2,  124.900,2,   33.250,2,    0.010,2,    2.300,2, -999.000,9, -999.000,9, -999.000,9, 2255.400,2, -999.000,9
           NA,   SR04e,     17,   1,       5,       5,  2,19980406,2245, -64.1883,  -47.4983,  4228,   2999.7,  -0.2481,   34.659,2,  34.6588,2, -999.000,9,    236.1,2,  124.560,2,   33.200,2,    0.010,2,    2.280,2,    0.363,2,    0.189,2, -999.000,9, -999.000,9, -999.000,9
           NA,   SR04e,     17,   1,       4,       4,  2,19980406,2245, -64.1883,  -47.4983,  4228,   3598.3,  -0.2937,   34.655,2,  34.6556,2, -999.000,9,    239.5,2,  124.870,2,   33.170,2,    0.010,2,    2.280,2,    0.380,2,    0.185,2, -999.000,9, 2251.600,2, -999.000,9
           NA,   SR04e,     17,   1,       3,       3,  2,19980406,2245, -64.1883,  -47.4983,  4228,   4095.1,  -0.3331,   34.652,2,  34.6531,2, -999.000,9,    241.1,2,  127.330,2,   32.950,2,    0.010,2,    2.280,2,    0.333,2,    0.159,2, -999.000,9, 2251.800,2, -999.000,9
           NA,   SR04e,     17,   1,       2,       2,  2,19980406,2245, -64.1883,  -47.4983,  4228,   4197.5,  -0.3956,   34.648,2,  34.6489,2, -999.000,9,    244.8,2,  125.440,2,   33.060,2,    0.010,2,    2.280,2,    0.523,2,    0.253,2, -999.000,9, 2252.400,2, -999.000,9
           NA,   SR04e,     17,   1,       1,       1,  2,19980406,2245, -64.1883,  -47.4983,  4228,   4237.0,  -0.5321,   34.639,2,  34.6400,2, -999.000,9,    251.7,2,  117.960,2,   32.870,2,    0.010,2,    2.260,2,    1.101,2,    0.528,2, -999.000,9, 2247.500,2, -999.000,9