BOTTLE,20210426JOAExport
EXPOCODE,SECT_ID,STNNBR,CASTNO,SAMPNO,BTLNBR,BTLNBR_FLAG_W,DATE,TIME,LATITUDE,LONGITUDE,DEPTH,CTDPRS,CTDTMP,CTDSAL,CTDSAL_FLAG_W,SALNTY,SALNTY_FLAG_W,CTDOXY,CTDOXY_FLAG_W,OXYGEN,OXYGEN_FLAG_W,SILCAT,SILCAT_FLAG_W,NITRAT,NITRAT_FLAG_W,NITRIT,NITRIT_FLAG_W,PHSPHT,PHSPHT_FLAG_W,CFC-11,CFC-11_FLAG_W,CFC-12,CFC-12_FLAG_W,SF6,SF6_FLAG_W,TCARBN,TCARBN_FLAG_W,ALKALI,ALKALI_FLAG_W
,,,,,,,,,,,,DB,ITS-90,PSS-78,,PSS-78,,UMOL/KG,,UMOL/KG,,UMOL/KG,,UMOL/KG,,UMOL/KG,,UMOL/KG,,PMOL/KG,,PMOL/KG,,FMOL/KG,,UMOL/KG,,UMOL/KG
           NA,   SR04e,     30,  99,       5,       5,  2,19980411,1035, -66.1417,  -24.9250,  4945,     17.7,  -1.2209,   34.178,2,-999.0000,9, -999.000,9,   -999.0,9,   54.390,2,   24.120,2,    0.240,2,    1.730,2, -999.000,9, -999.000,9, -999.000,9, -999.000,9, -999.000,9
           NA,   SR04e,     30,  99,       4,       4,  2,19980411,1035, -66.1417,  -24.9250,  4945,     17.8,  -1.2208,   34.177,2,-999.0000,9, -999.000,9,   -999.0,9,   54.910,2,   24.290,2,    0.240,2,    1.730,2, -999.000,9, -999.000,9, -999.000,9, -999.000,9, -999.000,9
           NA,   SR04e,     30,  99,      24,      24,  2,19980411,1035, -66.1417,  -24.9250,  4945,     18.9,  -1.2252,   34.175,2,  34.1759,2, -999.000,9,    338.2,2,   54.430,2,   24.080,2,    0.250,2,    1.740,2,    6.124,2,    3.086,2, -999.000,9, 2185.700,2, -999.000,9
           NA,   SR04e,     30,  99,      23,      23,  2,19980411,1035, -66.1417,  -24.9250,  4945,     48.1,  -1.2241,   34.176,2,  34.1787,2, -999.000,9,    338.0,2,   54.470,2,   24.240,2,    0.250,2,    1.740,2,    6.049,2,    3.062,2, -999.000,9, 2185.500,2, -999.000,9
           NA,   SR04e,     30,  99,       3,       3,  2,19980411,1035, -66.1417,  -24.9250,  4945,     98.5,  -1.6267,   34.455,2,-999.0000,9, -999.000,9,   -999.0,9,   74.010,2,   30.360,2,    0.400,2,    2.100,2, -999.000,9, -999.000,9, -999.000,9, -999.000,9, -999.000,9
           NA,   SR04e,     30,  99,      22,      22,  2,19980411,1035, -66.1417,  -24.9250,  4945,     99.1,  -1.5482,   34.459,2,  34.4598,2, -999.000,9,    280.0,2,   75.210,2,   30.690,2,    0.150,2,    2.120,2,    4.334,2,    2.139,2, -999.000,9, 2232.200,2, -999.000,9
           NA,   SR04e,     30,  99,       2,       2,  2,19980411,1035, -66.1417,  -24.9250,  4945,    148.8,  -0.7369,   34.541,2,-999.0000,9, -999.000,9,   -999.0,9,   85.950,2,   32.060,2,    0.030,2,    2.190,2, -999.000,9, -999.000,9, -999.000,9, -999.000,9, -999.000,9
           NA,   SR04e,     30,  99,      21,      21,  2,19980411,1035, -66.1417,  -24.9250,  4945,    198.2,   0.6735,   34.681,2,  34.6820,2, -999.000,9,    191.9,2,  107.840,2,   34.060,2,    0.030,2,    2.340,2,    0.541,2,    0.272,2, -999.000,9, 2268.500,2, -999.000,9
           NA,   SR04e,     30,  99,       1,       1,  2,19980411,1035, -66.1417,  -24.9250,  4945,    279.8,   0.7064,   34.696,2,-999.0000,9, -999.000,9,   -999.0,9,  110.360,2,   34.290,2,    0.030,2,    2.340,2, -999.000,9, -999.000,9, -999.000,9, -999.000,9, -999.000,9
           NA,   SR04e,     30,  99,      20,      20,  2,19980411,1035, -66.1417,  -24.9250,  4945,    298.9,   0.6689,   34.694,2,  34.6919,2, -999.000,9,    191.8,2,  113.080,2,   34.220,2,    0.020,2,    2.350,2,    0.297,2,    0.147,2, -999.000,9, 2269.300,2, -999.000,9
           NA,   SR04e,     30,  99,      19,      19,  2,19980411,1035, -66.1417,  -24.9250,  4945,    397.1,   0.5555,   34.690,2,  34.6894,2, -999.000,9,    194.8,2, -999.000,9, -999.000,9, -999.000,9, -999.000,9,    0.240,2,    0.118,2, -999.000,9, 2270.300,2, -999.000,9
           NA,   SR04e,     30,  99,      18,      18,  2,19980411,1035, -66.1417,  -24.9250,  4945,    497.7,   0.4631,   34.688,2,  34.6876,2, -999.000,9,    194.8,2,  119.440,2,   34.490,2,    0.020,2,    2.320,2,    0.197,2,    0.099,2, -999.000,9, 2270.300,2, -999.000,9
           NA,   SR04e,     30,  99,      17,      17,  2,19980411,1035, -66.1417,  -24.9250,  4945,    598.7,   0.4022,   34.686,2,  34.6850,2, -999.000,9,    195.6,2,  121.120,2,   34.560,2,    0.020,2,    2.340,2,    0.191,2,    0.097,2, -999.000,9, 2271.000,2, -999.000,9
           NA,   SR04e,     30,  99,      16,      16,  2,19980411,1035, -66.1417,  -24.9250,  4945,    698.4,   0.3420,   34.684,2,  34.6829,2, -999.000,9,    198.0,2,  122.350,2,   34.390,2,    0.020,2,    2.340,2,    0.160,2,    0.081,2, -999.000,9, 2270.300,2, -999.000,9
           NA,   SR04e,     30,  99,      15,      15,  2,19980411,1035, -66.1417,  -24.9250,  4945,    801.4,   0.2894,   34.682,2,  34.6814,2, -999.000,9,    199.5,2,  124.200,2,   34.520,2,    0.010,2,    2.360,2,    0.143,2,    0.075,2, -999.000,9, 2271.600,2, -999.000,9
           NA,   SR04e,     30,  99,      11,      11,  2,19980411,1035, -66.1417,  -24.9250,  4945,    999.2,   0.1999,   34.679,2,  34.6773,2, -999.000,9,    204.6,2,  125.280,2,   34.450,2,    0.010,2,    2.340,2,    0.139,2,    0.071,2, -999.000,9, 2269.400,2, -999.000,9
           NA,   SR04e,     30,  99,      10,      10,  2,19980411,1035, -66.1417,  -24.9250,  4945,   1496.0,   0.0100,   34.672,2,  34.6701,2, -999.000,9,    216.3,2,  126.080,2,   34.070,2,    0.010,2,    2.320,2,    0.141,2,    0.074,2, -999.000,9, 2262.600,2, -999.000,9
           NA,   SR04e,     30,  99,       9,       9,  2,19980411,1035, -66.1417,  -24.9250,  4945,   1998.6,  -0.1352,   34.666,2,  34.6642,2, -999.000,9,    225.3,2,  125.290,2,   33.670,2,    0.010,2,    2.320,2,    0.174,2,    0.091,2, -999.000,9, 2261.400,2, -999.000,9
           NA,   SR04e,     30,  99,       8,       8,  2,19980411,1035, -66.1417,  -24.9250,  4945,   2498.0,  -0.2302,   34.662,2,  34.6608,2, -999.000,9,    231.7,2,  124.460,2,   33.290,2,    0.010,2,    2.290,2,    0.219,2,    0.115,2, -999.000,9, 2253.500,2, -999.000,9
           NA,   SR04e,     30,  99,       7,       7,  2,19980411,1035, -66.1417,  -24.9250,  4945,   2998.3,  -0.2898,   34.660,2,  34.6616,2, -999.000,9,    235.7,2,  124.220,2,   33.430,2,    0.010,2,    2.300,2,    0.262,2,    0.134,2, -999.000,9, 2254.900,2, -999.000,9
           NA,   SR04e,     30,  99,       6,       6,  2,19980411,1035, -66.1417,  -24.9250,  4945,   3595.4,  -0.3435,   34.656,2,  34.6542,2, -999.000,9,    240.6,2,  124.290,2,   33.350,2,    0.010,2,    2.280,2,    0.285,2,    0.142,2, -999.000,9, 2251.200,2, -999.000,9
           NA,   SR04e,     30,  99,       5,       5,  2,19980411,1035, -66.1417,  -24.9250,  4945,   4197.8,  -0.3872,   34.653,2,  34.6520,2, -999.000,9,    244.0,2,  124.900,2,   33.070,2,    0.010,2,    2.270,2,    0.195,2,    0.104,2, -999.000,9, 2251.500,2, -999.000,9
           NA,   SR04e,     30,  99,       4,       4,  2,19980411,1035, -66.1417,  -24.9250,  4945,   4796.3,  -0.4871,   34.646,2,  34.6463,2, -999.000,9,    250.8,2,  121.500,2, -999.000,3,    0.010,2,    2.260,2,    0.384,2,    0.195,2, -999.000,9, 2249.200,2, -999.000,9
           NA,   SR04e,     30,  99,       3,       3,  2,19980411,1035, -66.1417,  -24.9250,  4945,   4899.1,  -0.4852,   34.645,2,  34.6451,2, -999.000,9,    248.1,2,  124.350,2,   33.240,2,    0.010,2,    2.280,2,    0.429,2,    0.215,2, -999.000,9, 2250.000,2, -999.000,9
           NA,   SR04e,     30,  99,       2,       2,  2,19980411,1035, -66.1417,  -24.9250,  4945,   4947.9,  -0.4903,   34.644,2,  34.6444,2, -999.000,9,    248.4,2,  123.630,2,   33.130,2,    0.010,2,    2.270,2,    0.610,2,    0.298,2, -999.000,9, -999.000,9, -999.000,9
           NA,   SR04e,     30,  99,       1,       1,  2,19980411,1035, -66.1417,  -24.9250,  4945,   4987.5,  -0.4857,   34.644,2,  34.6439,2, -999.000,9,    249.2,2,  123.850,2,   33.060,2,    0.010,2,    2.270,2,    0.625,2,    0.308,2, -999.000,9, 2248.800,2, -999.000,9
           NA,   SR04e,     76,   1,      24,      24,  2,19980425,1900, -65.6533,  -22.7917,  4990,     29.9,  -1.7285,   34.178,2,  34.1783,2, -999.000,9,    346.4,2,   58.500,2,   24.520,2,    0.080,2,    1.690,2, -999.000,9, -999.000,9, -999.000,9, 2194.200,2, -999.000,9
           NA,   SR04e,     76,   1,      23,      23,  2,19980425,1900, -65.6533,  -22.7917,  4990,     59.9,  -1.7138,   34.183,2,  34.1968,2, -999.000,9,    343.0,2,   59.500,2,   26.060,2,    0.280,2,    1.850,2, -999.000,9, -999.000,9, -999.000,9, 2198.400,2, -999.000,9
           NA,   SR04e,     76,   1,      22,      22,  2,19980425,1900, -65.6533,  -22.7917,  4990,     99.7,  -0.9028,   34.503,2,  34.5010,2, -999.000,9,    259.9,2,   82.080,2,   31.430,2,    0.040,2,    2.160,2, -999.000,9, -999.000,9, -999.000,9, 2239.000,2, -999.000,9
           NA,   SR04e,     76,   1,      21,      21,  2,19980425,1900, -65.6533,  -22.7917,  4990,    199.3,   0.7312,   34.691,2,  34.6906,2, -999.000,9,    190.9,2,  109.290,2,   33.780,2,    0.020,2,    2.320,2, -999.000,9, -999.000,9, -999.000,9, 2268.000,2, -999.000,9
           NA,   SR04e,     76,   1,      20,      20,  2,19980425,1900, -65.6533,  -22.7917,  4990,    300.3,   0.6221,   34.692,2,  34.6913,2, -999.000,9,    194.7,2,  114.160,2,   33.940,2,    0.030,2,    2.310,2, -999.000,9, -999.000,9, -999.000,9, 2269.200,2, -999.000,9
           NA,   SR04e,     76,   1,      19,      19,  2,19980425,1900, -65.6533,  -22.7917,  4990,    401.3,   0.5319,   34.691,2,  34.6918,2, -999.000,9,    197.6,2,  116.880,2,   33.770,2,    0.030,2,    2.330,2, -999.000,9, -999.000,9, -999.000,9, 2268.000,2, -999.000,9
           NA,   SR04e,     76,   1,      18,      18,  2,19980425,1900, -65.6533,  -22.7917,  4990,    498.1,   0.4477,   34.688,2,  34.6733,2, -999.000,9,   -999.0,9,  117.870,2,   33.960,2,    0.030,2,    2.340,2, -999.000,9, -999.000,9, -999.000,9, 2265.200,2, -999.000,9
           NA,   SR04e,     76,   1,      17,      17,  2,19980425,1900, -65.6533,  -22.7917,  4990,    597.8,   0.3870,   34.686,2,  34.6850,2, -999.000,9,    197.4,2,  121.810,2,   34.280,2,    0.030,2,    2.350,2, -999.000,9, -999.000,9, -999.000,9, -999.000,9, -999.000,9
           NA,   SR04e,     76,   1,      16,      16,  2,19980425,1900, -65.6533,  -22.7917,  4990,    700.1,   0.3264,   34.684,2,  34.6832,2, -999.000,9,    198.4,2,  123.060,2,   33.910,2,    0.030,2,    2.330,2, -999.000,9, -999.000,9, -999.000,9, 2269.700,2, -999.000,9
           NA,   SR04e,     76,   1,      15,      15,  2,19980425,1900, -65.6533,  -22.7917,  4990,    799.6,   0.2809,   34.683,2,  34.6804,2, -999.000,9,    200.8,2,  123.820,2,   33.560,2,    0.020,2,    2.280,2, -999.000,9, -999.000,9, -999.000,9, 2268.400,2, -999.000,9
           NA,   SR04e,     76,   1,      11,      11,  2,19980425,1900, -65.6533,  -22.7917,  4990,    998.8,   0.1916,   34.679,2,  34.6785,2, -999.000,9,    206.1,2,  125.010,2,   33.790,2,    0.020,2,    2.330,2, -999.000,9, -999.000,9, -999.000,9, 2268.300,2, -999.000,9
           NA,   SR04e,     76,   1,      10,      10,  2,19980425,1900, -65.6533,  -22.7917,  4990,   1499.4,   0.0025,   34.671,2,  34.6710,2, -999.000,9,    218.4,2,  125.290,2,   33.140,2,    0.030,2,    2.300,2, -999.000,9, -999.000,9, -999.000,9, 2259.300,2, -999.000,9
           NA,   SR04e,     76,   1,       9,       9,  2,19980425,1900, -65.6533,  -22.7917,  4990,   1998.6,  -0.1417,   34.664,2,  34.6646,2, -999.000,9,   -999.0,9,  124.780,2,   33.090,2,    0.060,2,    2.290,2, -999.000,9, -999.000,9, -999.000,9, -999.000,9, -999.000,9
           NA,   SR04e,     76,   1,       8,       8,  2,19980425,1900, -65.6533,  -22.7917,  4990,   2501.0,  -0.2373,   34.661,2,  34.6633,2, -999.000,9,    234.4,2,  124.310,2,   32.770,2,    0.030,2,    2.270,2, -999.000,9, -999.000,9, -999.000,9, 2254.900,2, -999.000,9
           NA,   SR04e,     76,   1,       7,       7,  2,19980425,1900, -65.6533,  -22.7917,  4990,   2998.8,  -0.2979,   34.658,2,  34.6591,2, -999.000,9,    238.6,2,  123.480,2,   32.620,2,    0.040,2,    2.250,2, -999.000,9, -999.000,9, -999.000,9, 2252.400,2, -999.000,9
           NA,   SR04e,     76,   1,       6,       6,  2,19980425,1900, -65.6533,  -22.7917,  4990,   3497.6,  -0.3456,   34.654,2,  34.6544,2, -999.000,9,    242.5,2,  123.300,2,   32.580,2,    0.050,2,    2.240,2, -999.000,9, -999.000,9, -999.000,9, 2252.900,2, -999.000,9
           NA,   SR04e,     76,   1,       5,       5,  2,19980425,1900, -65.6533,  -22.7917,  4990,   4001.4,  -0.3794,   34.652,2,  34.6518,2, -999.000,9,   -999.0,9,  125.410,2,   31.870,2, -999.000,4,    2.210,2, -999.000,9, -999.000,9, -999.000,9, 2249.800,2, -999.000,9
           NA,   SR04e,     76,   1,       4,       4,  2,19980425,1900, -65.6533,  -22.7917,  4990,   4499.2,  -0.4620,   34.647,2,  34.6484,2, -999.000,9,   -999.0,9,  119.080,2,   32.370,2,    0.030,2,    2.230,2, -999.000,9, -999.000,9, -999.000,9, 2252.800,2, -999.000,9
           NA,   SR04e,     76,   1,       3,       3,  2,19980425,1900, -65.6533,  -22.7917,  4990,   4899.2,  -0.4810,   34.644,2,  34.6459,2, -999.000,9,   -999.0,9,  124.570,2,   32.700,2,    0.030,2,    2.210,2, -999.000,9, -999.000,9, -999.000,9, 2251.500,2, -999.000,9
           NA,   SR04e,     76,   1,       2,       2,  2,19980425,1900, -65.6533,  -22.7917,  4990,   4980.1,  -0.4797,   34.643,2,  34.6302,0, -999.000,9,   -999.0,9,  121.560,2,   31.920,2, -999.000,4,    2.210,2, -999.000,9, -999.000,9, -999.000,9, 2248.500,2, -999.000,9
           NA,   SR04e,     76,   1,       1,       1,  2,19980425,1900, -65.6533,  -22.7917,  4990,   5035.9,  -0.4815,   34.642,2,  34.6442,2, -999.000,9,    250.4,2,  122.940,2,   32.120,2,    0.030,2,    2.210,2, -999.000,9, -999.000,9, -999.000,9, 2252.100,2, -999.000,9