BOTTLE,20205402JOAExport
EXPOCODE,SECT_ID,STNNBR,CASTNO,SAMPNO,BTLNBR,BTLNBR_FLAG_W,DATE,TIME,LATITUDE,LONGITUDE,DEPTH,CTDPRS,CTDTMP,CTDSAL,CTDSAL_FLAG_W,SALNTY,SALNTY_FLAG_W,CTDOXY,CTDOXY_FLAG_W,OXYGEN,OXYGEN_FLAG_W,SILCAT,SILCAT_FLAG_W,NITRAT,NITRAT_FLAG_W,NITRIT,NITRIT_FLAG_W,PHSPHT,PHSPHT_FLAG_W,CFC-11,CFC-11_FLAG_W,CFC-12,CFC-12_FLAG_W,SF6,SF6_FLAG_W,TCARBN,TCARBN_FLAG_W,ALKALI,ALKALI_FLAG_W
,,,,,,,,,,,,,DB,DEG C,PSS-78,,PSS-78,,UMOL/KG,,UMOL/KG,,UMOL/KG,,UMOL/KG,,UMOL/KG,,UMOL/KG,,PMOL/KG,,PMOL/KG,,FMOL/KG,,UMOL/KG,,UMOL/KG
           NA,     A06,    176,   1,-999.0,      32,  2,19930228,0503,   7.5842,  -23.9985,  4620,    2.200,   26.275,   36.120,2,   36.121,2,  204.100,2,  203.600,2,    1.960,2,    0.100,2,    0.000,2,    0.000,2,    1.794,2,    0.970,2, -999.000,9, -999.000,3, -999.000,3
           NA,     A06,    176,   1,-999.0,      31,  2,19930228,0503,   7.5842,  -23.9985,  4620,   68.600,   16.291,   35.628,2, -999.000,3,   72.700,2,   72.300,2,    7.150,2,   20.440,2,    0.380,2,    1.370,2,    1.163,2,    0.591,2, -999.000,9, 2196.800,2, 2362.800,2
           NA,     A06,    176,   1,-999.0,      30,  2,19930228,0503,   7.5842,  -23.9985,  4620,  118.800,   14.207,   35.456,2, -999.000,3,   69.500,2,   70.600,2,    9.090,2,   23.540,2,    0.010,2,    1.550,2,    0.953,2,    0.474,2, -999.000,9, 2217.200,2, 2355.200,2
           NA,     A06,    176,   1,-999.0,      29,  2,19930228,0503,   7.5842,  -23.9985,  4620,  192.700,   12.671,   35.261,2, -999.000,3,   81.300,2,   85.100,2,   10.540,2,   23.470,2,    0.000,2,    1.580,2,    0.785,2,    0.385,2, -999.000,9, 2228.900,2, 2363.600,2
           NA,     A06,    176,   1,-999.0,      28,  2,19930228,0503,   7.5842,  -23.9985,  4620,  393.200,    9.842,   35.013,2,   35.012,2,   63.100,2,   60.600,2,   16.250,2,   32.260,2,    0.000,2,    2.000,2,    0.208,2,    0.104,2, -999.000,9, 2231.800,2, 2315.800,2
           NA,     A06,    176,   1,-999.0,      27,  2,19930228,0503,   7.5842,  -23.9985,  4620,  593.000,    7.274,   34.783,2,   34.783,2,   75.200,2,   76.000,2,   23.360,2,   35.750,2,    0.000,2,    2.320,2,    0.027,2,    0.012,2, -999.000,9, 2248.900,2, 2319.200,2
           NA,     A06,    176,   1,-999.0,      26,  2,19930228,0503,   7.5842,  -23.9985,  4620,  792.400,    5.396,   34.625,2,   34.625,2,  121.900,2,  122.200,2,   29.640,2,   33.860,2,    0.000,2,    2.320,2,    0.016,2,    0.004,2, -999.000,9, 2258.300,2, 2344.100,2
           NA,     A06,    176,   1,-999.0,      25,  2,19930228,0503,   7.5842,  -23.9985,  4620,  992.700,    4.946,   34.743,2,   34.743,2,  137.300,2, -999.000,3,   29.280,2,   30.610,2,    0.010,2,    2.130,2,    0.001,2,    0.001,2, -999.000,9, 2245.200,2, 2344.600,2
           NA,     A06,    176,   1,-999.0,      24,  2,19930228,0503,   7.5842,  -23.9985,  4620, 1192.200,    4.665,   34.833,2,   34.836,2,  167.600,2,  168.700,2,   26.920,2,   26.710,2,    0.000,2,    1.910,2,    0.006,2,    0.003,2, -999.000,9, 2226.300,2, 2345.900,2
           NA,     A06,    176,   1,-999.0,      23,  2,19930228,0503,   7.5842,  -23.9985,  4620, 1392.900,    4.376,   34.908,2,   34.909,2,  198.200,2,  194.700,2,   24.270,2,   23.120,2,    0.000,2,    1.680,2,    0.013,2,    0.003,2, -999.000,9, -999.000,3, -999.000,3
           NA,     A06,    176,   1,-999.0,      22,  2,19930228,0503,   7.5842,  -23.9985,  4620, 1492.800,    4.223,   34.935,2,   34.936,2,  212.300,2,  209.400,2,   22.920,2,   21.050,2,    0.010,2,    1.550,2,    0.009,2,    0.001,2, -999.000,9, 2195.800,2, 2338.900,2
           NA,     A06,    176,   1,-999.0,      21,  2,19930228,0503,   7.5842,  -23.9985,  4620, 1593.100,    4.039,   34.950,2,   34.952,2,  222.300,2,  221.100,2,   22.430,2,   19.830,2,    0.000,2,    1.480,2,    0.015,2,    0.004,2, -999.000,9, 2198.100,2, 2347.600,2
           NA,     A06,    176,   1,-999.0,      19,  2,19930228,0503,   7.5842,  -23.9985,  4620, 1693.200,    3.971,   34.964,2,   34.965,2,  232.900,2,  231.700,2,   21.310,2,   18.280,2,    0.010,2,    1.400,2,    0.006,2,    0.003,2, -999.000,9, 2183.400,2, 2340.000,2
           NA,     A06,    176,   1,-999.0,      20,  2,19930228,0503,   7.5842,  -23.9985,  4620, 1693.600,    3.970,   34.964,2,   34.965,2,  233.000,2,  231.300,2,   21.200,2,   18.520,2,    0.000,2,    1.400,2,    0.023,2,    0.009,2, -999.000,9, 2189.900,2, 2348.200,2
           NA,     A06,    176,   1,-999.0,      18,  2,19930228,0503,   7.5842,  -23.9985,  4620, 1793.700,    3.781,   34.962,2,   34.964,2,  238.000,2,  236.300,2,   22.180,2,   18.010,2,    0.020,2,    1.370,2,    0.007,2,    0.005,2, -999.000,9, 2188.400,2, 2347.500,2
           NA,     A06,    176,   1,-999.0,      17,  2,19930228,0503,   7.5842,  -23.9985,  4620, 1894.300,    3.649,   34.960,2,   34.963,2,  240.400,2,  239.900,2,   22.760,2,   17.780,2,    0.000,2,    1.360,2,    0.008,2,    0.004,2, -999.000,9, 2177.200,2, 2336.600,2
           NA,     A06,    176,   1,-999.0,      15,  2,19930228,0503,   7.5842,  -23.9985,  4620, 1994.300,    3.517,   34.957,2,   34.958,2,  242.500,2,  240.800,2,   24.340,2,   17.550,2,    0.000,2,    1.360,2,    0.006,2,    0.003,2, -999.000,9, 2167.000,2, 2326.400,2
           NA,     A06,    176,   1,-999.0,      14,  2,19930228,0503,   7.5842,  -23.9985,  4620, 2193.500,    3.291,   34.951,2,   34.950,2,  245.700,2,  243.400,2,   27.150,2,   17.060,2,    0.010,2,    1.340,2,    0.018,2,    0.004,2, -999.000,9, -999.000,3, -999.000,3
           NA,     A06,    176,   1,-999.0,      13,  2,19930228,0503,   7.5842,  -23.9985,  4620, 2394.800,    3.119,   34.946,2,   34.941,2,  246.800,2,  245.700,2,   29.370,2,   17.330,2,    0.000,2,    1.340,2,    0.007,2,   -0.001,2, -999.000,9, 2187.400,2, 2351.900,2
           NA,     A06,    176,   1,-999.0,      12,  2,19930228,0503,   7.5842,  -23.9985,  4620, 2694.800,    2.853,   34.932,2,   34.931,2,  246.100,2,  246.000,2,   34.470,2,   17.720,2,    0.020,2,    1.370,2,    0.013,2,   -0.001,2, -999.000,9, 2194.900,2, 2358.800,2
           NA,     A06,    176,   1,-999.0,      11,  2,19930228,0503,   7.5842,  -23.9985,  4620, 2994.600,    2.680,   34.919,2,   34.919,2,  246.100,2,  246.000,2,   37.840,2,   17.610,2,    0.030,2,    1.380,2,    0.022,2,    0.013,2, -999.000,9, 2196.700,2, 2360.600,2
           NA,     A06,    176,   1,-999.0,      10,  2,19930228,0503,   7.5842,  -23.9985,  4620, 3192.600,    2.594,   34.913,2,   34.915,2,  246.600,2,  246.300,2,   39.460,2,   17.860,2,    0.030,2,    1.390,2,    0.012,2,    0.002,2, -999.000,9, 2202.900,2, 2366.600,2
           NA,     A06,    176,   1,-999.0,       9,  2,19930228,0503,   7.5842,  -23.9985,  4620, 3394.000,    2.498,   34.906,2,   34.906,2,  247.200,2,  246.700,2,   41.790,2,   17.750,2,    0.030,2,    1.400,2,    0.006,2, -999.000,3, -999.000,9, 2197.700,2, 2360.200,2
           NA,     A06,    176,   1,-999.0,       8,  2,19930228,0503,   7.5842,  -23.9985,  4620, 3594.400,    2.428,   34.900,2,   34.900,2,  247.200,2,  246.800,2,   43.510,2,   17.930,2,    0.020,2,    1.400,2,    0.009,2,    0.004,2, -999.000,9, 2191.400,2, 2354.000,2
           NA,     A06,    176,   1,-999.0,       7,  2,19930228,0503,   7.5842,  -23.9985,  4620, 3794.700,    2.398,   34.896,2,   34.896,2,  247.400,2,  246.700,2,   44.560,2,   18.070,2,    0.040,2,    1.420,2,    0.009,2,    0.007,2, -999.000,9, 2185.300,2, 2348.100,2
           NA,     A06,    176,   1,-999.0,       6,  2,19930228,0503,   7.5842,  -23.9985,  4620, 3894.900,    2.377,   34.893,2,   34.892,2,  247.300,2,  246.700,2,   45.160,2,   18.120,2,    0.010,2,    1.430,2,    0.000,2,    0.005,2, -999.000,9, 2190.000,2, 2353.900,2
           NA,     A06,    176,   1,-999.0,       5,  2,19930228,0503,   7.5842,  -23.9985,  4620, 3994.700,    2.361,   34.892,2,   34.890,2,  247.400,2,  246.800,2,   45.860,2,   18.110,2,    0.020,2,    1.420,2,    0.004,2,    0.013,2, -999.000,9, 2196.600,2, 2359.900,2
           NA,     A06,    176,   1,-999.0,       4,  2,19930228,0503,   7.5842,  -23.9985,  4620, 4093.800,    2.337,   34.889,2,   34.891,2,  247.200,2,  246.700,2,   46.820,2,   18.220,2,    0.050,2,    1.420,2,    0.007,2,    0.001,2, -999.000,9, 2197.500,2, 2361.700,2
           NA,     A06,    176,   1,-999.0,       3,  2,19930228,0503,   7.5842,  -23.9985,  4620, 4194.200,    2.326,   34.889,2,   34.887,2,  247.100,2,  245.900,2,   47.280,2,   18.280,2,    0.060,2,    1.430,2,    0.008,2,    0.001,2, -999.000,9, 2201.000,2, 2362.600,2
           NA,     A06,    176,   1,-999.0,       2,  2,19930228,0503,   7.5842,  -23.9985,  4620, 4395.400,    2.315,   34.886,2,   34.883,2,  247.400,2,  246.300,2,   48.600,2,   18.280,2,    0.040,2,    1.450,2,    0.005,2,    0.000,2, -999.000,9, 2207.100,2, 2369.900,2
           NA,     A06,    176,   1,-999.0,       1,  2,19930228,0503,   7.5842,  -23.9985,  4620, 4614.500,    2.312,   34.881,2,   34.884,2,  243.600,2,  244.300,2,   50.330,2,   18.470,2,    0.080,2,    1.450,2,    0.009,2,    0.007,2, -999.000,9, 2217.700,2, 2379.600,2
           NA,     A06,    177,   1,-999.0,      32,  2,19930228,1220,   7.5832,  -23.3328,  4505,    2.300,   26.190,   36.170,2,   36.170,2,  215.100,2, -999.000,3,    2.060,2,    0.100,2,    0.000,2,    0.000,2,    1.832,2,    0.984,2, -999.000,9, -999.000,9, -999.000,9
           NA,     A06,    177,   1,-999.0,      31,  2,19930228,1220,   7.5832,  -23.3328,  4505,   67.900,   15.788,   35.582,2,   35.582,2,   85.900,2, -999.000,3,    7.580,2,   22.940,2,    0.170,2,    1.410,2,    1.114,2,    0.569,2, -999.000,9, -999.000,9, -999.000,9
           NA,     A06,    177,   1,-999.0,      30,  2,19930228,1220,   7.5832,  -23.3328,  4505,  118.300,   13.923,   35.406,2,   35.411,2,   71.500,2,   76.500,2,    9.150,2,   24.880,2,    0.000,2,    1.540,2,    0.934,2,    0.482,2, -999.000,9, -999.000,9, -999.000,9
           NA,     A06,    177,   1,-999.0,      29,  2,19930228,1220,   7.5832,  -23.3328,  4505,  193.000,   12.717,   35.275,2,   35.271,2,   95.900,2, -999.000,3,   10.490,2,   25.410,2,    0.000,2,    1.600,2,    0.759,2,    0.389,2, -999.000,9, -999.000,9, -999.000,9
           NA,     A06,    177,   1,-999.0,      28,  2,19930228,1220,   7.5832,  -23.3328,  4505,  392.800,   10.045,   35.073,2,   35.070,2,   49.300,2,   47.900,2,   16.030,2,   34.780,2,    0.000,2,    2.060,2,    0.199,2,    0.093,2, -999.000,9, -999.000,9, -999.000,9
           NA,     A06,    177,   1,-999.0,      27,  2,19930228,1220,   7.5832,  -23.3328,  4505,  591.600,    7.330,   34.789,2,   34.794,2,   74.500,2,   74.000,2,   22.710,2,   37.280,2,    0.000,2,    2.320,2,    0.031,2,    0.011,2, -999.000,9, -999.000,9, -999.000,9
           NA,     A06,    177,   1,-999.0,      26,  2,19930228,1220,   7.5832,  -23.3328,  4505,  792.500,    5.565,   34.648,2,   34.647,2,  111.500,2,  112.300,2,   28.950,2,   36.490,2,    0.000,2,    2.360,2,    0.012,2,    0.001,2, -999.000,9, -999.000,9, -999.000,9
           NA,     A06,    177,   1,-999.0,      25,  2,19930228,1220,   7.5832,  -23.3328,  4505,  992.200,    4.977,   34.727,2,   34.728,2,  138.700,2,  138.600,2,   29.530,2,   33.100,2,    0.000,2,    2.190,2,    0.019,2,    0.007,2, -999.000,9, -999.000,9, -999.000,9
           NA,     A06,    177,   1,-999.0,      24,  2,19930228,1220,   7.5832,  -23.3328,  4505, 1092.400,    4.786,   34.777,2,   34.774,2,  156.500,2,  153.100,2,   28.490,2,   30.890,2,    0.000,2,    2.060,2,    0.004,2,    0.002,2, -999.000,9, -999.000,9, -999.000,9
           NA,     A06,    177,   1,-999.0,      23,  2,19930228,1220,   7.5832,  -23.3328,  4505, 1192.600,    4.682,   34.825,2,   34.826,2,  171.700,2, -999.000,3,   27.150,2,   28.750,2,    0.000,2,    1.940,2,    0.005,2,    0.003,2, -999.000,9, -999.000,9, -999.000,9
           NA,     A06,    177,   1,-999.0,      22,  2,19930228,1220,   7.5832,  -23.3328,  4505, 1293.100,    4.533,   34.873,2,   34.869,2,  184.700,2, -999.000,3,   25.810,2,   26.860,2,    0.000,2,    1.830,2,    0.006,2,    0.002,2, -999.000,9, -999.000,9, -999.000,9
           NA,     A06,    177,   1,-999.0,      21,  2,19930228,1220,   7.5832,  -23.3328,  4505, 1393.300,    4.370,   34.913,2,   34.914,2,  199.700,2,  197.600,2,   23.800,2,   24.180,2,    0.000,2,    1.660,2,    0.009,2,    0.002,2, -999.000,9, -999.000,9, -999.000,9
           NA,     A06,    177,   1,-999.0,      20,  2,19930228,1220,   7.5832,  -23.3328,  4505, 1393.600,    4.360,   34.914,2,   34.916,2,  199.800,2,  203.500,2,   23.830,2,   24.090,2,    0.000,2,    1.660,2,    0.006,2,    0.003,2, -999.000,9, -999.000,9, -999.000,9
           NA,     A06,    177,   1,-999.0,      19,  2,19930228,1220,   7.5832,  -23.3328,  4505, 1492.900,    4.216,   34.933,2,   34.933,2,  207.200,2,  207.400,2,   23.140,2,   22.910,2,    0.000,2,    1.570,2,    0.005,2,    0.001,2, -999.000,9, -999.000,9, -999.000,9
           NA,     A06,    177,   1,-999.0,      18,  2,19930228,1220,   7.5832,  -23.3328,  4505, 1593.300,    4.045,   34.943,2,   34.945,2,  219.800,2,  214.500,2,   23.420,2,   22.040,2,    0.000,2,    1.530,2,    0.016,2,    0.006,2, -999.000,9, -999.000,9, -999.000,9
           NA,     A06,    177,   1,-999.0,      17,  2,19930228,1220,   7.5832,  -23.3328,  4505, 1694.000,    3.939,   34.966,2,   34.963,2,  227.300,2,  232.100,2,   20.940,2,   19.790,2,    0.000,2,    1.400,2,    0.011,2,    0.005,2, -999.000,9, -999.000,9, -999.000,9
           NA,     A06,    177,   1,-999.0,      16,  2,19930228,1220,   7.5832,  -23.3328,  4505, 1792.600,    3.730,   34.957,2,   34.959,2,  233.100,2,  232.900,2,   22.980,2,   20.040,2,    0.000,2,    1.400,2,    0.004,2,    0.001,2, -999.000,9, -999.000,9, -999.000,9
           NA,     A06,    177,   1,-999.0,      15,  2,19930228,1220,   7.5832,  -23.3328,  4505, 1893.100,    3.574,   34.956,2,   34.956,2,  237.300,2,  236.600,2,   24.150,2,   19.530,2,    0.000,2,    1.380,2,    0.001,2,    0.001,2, -999.000,9, -999.000,9, -999.000,9
           NA,     A06,    177,   1,-999.0,      14,  2,19930228,1220,   7.5832,  -23.3328,  4505, 1993.700,    3.478,   34.955,2,   34.954,2,  239.400,2,  239.200,2,   24.890,2,   19.300,2,    0.000,2,    1.370,2,    0.006,2,    0.000,2, -999.000,9, -999.000,9, -999.000,9
           NA,     A06,    177,   1,-999.0,      13,  2,19930228,1220,   7.5832,  -23.3328,  4505, 2194.700,    3.297,   34.949,2,   34.947,2,  243.500,2,  241.100,2,   27.250,2,   19.260,2,    0.000,2,    1.380,2,    0.007,2,    0.004,2, -999.000,9, -999.000,9, -999.000,9
           NA,     A06,    177,   1,-999.0,      12,  2,19930228,1220,   7.5832,  -23.3328,  4505, 2394.100,    3.125,   34.946,2,   34.948,2,  246.400,2,  244.200,2,   29.090,2,   19.040,2,    0.000,2,    1.360,2,    0.020,2,    0.005,2, -999.000,9, -999.000,9, -999.000,9
           NA,     A06,    177,   1,-999.0,      11,  2,19930228,1220,   7.5832,  -23.3328,  4505, 2694.500,    2.854,   34.934,2,   34.933,2,  248.400,2,  247.900,2,   33.000,2,   19.040,2,    0.000,2,    1.370,2,    0.009,2,    0.001,2, -999.000,9, -999.000,9, -999.000,9
           NA,     A06,    177,   1,-999.0,      10,  2,19930228,1220,   7.5832,  -23.3328,  4505, 2994.100,    2.705,   34.923,2,   34.920,2,  245.500,2,  245.700,2,   37.380,2,   19.580,2,    0.000,2,    1.400,2,    0.004,2,   -0.002,2, -999.000,9, -999.000,9, -999.000,9
           NA,     A06,    177,   1,-999.0,       9,  2,19930228,1220,   7.5832,  -23.3328,  4505, 3194.200,    2.617,   34.916,2,   34.914,2,  248.200,2,  245.900,2,   38.500,2,   19.360,2,    0.000,2,    1.400,2,    0.006,2,    0.002,2, -999.000,9, -999.000,9, -999.000,9
           NA,     A06,    177,   1,-999.0,       8,  2,19930228,1220,   7.5832,  -23.3328,  4505, 3395.300,    2.521,   34.907,2,   34.908,2,  247.800,2,  247.200,2,   41.070,2,   19.650,2,    0.000,2,    1.410,2,    0.002,2,   -0.001,2, -999.000,9, -999.000,9, -999.000,9
           NA,     A06,    177,   1,-999.0,       7,  2,19930228,1220,   7.5832,  -23.3328,  4505, 3594.200,    2.447,   34.902,2,   34.898,2,  247.200,2,  246.700,2,   43.570,2,   19.780,2,    0.000,2,    1.430,2,    0.004,2,   -0.001,2, -999.000,9, -999.000,9, -999.000,9
           NA,     A06,    177,   1,-999.0,       6,  2,19930228,1220,   7.5832,  -23.3328,  4505, 3794.300,    2.402,   34.897,2, -999.000,3,  247.400,2,  247.100,2,   44.930,2,   20.040,2,    0.000,2,    1.430,2,    0.034,2,    0.016,2, -999.000,9, -999.000,9, -999.000,9
           NA,     A06,    177,   1,-999.0,       5,  2,19930228,1220,   7.5832,  -23.3328,  4505, 3993.800,    2.350,   34.891,2,   34.890,2,  247.600,2,  246.500,2,   46.840,2,   20.130,2,    0.000,2,    1.450,2,    0.004,2,    0.003,2, -999.000,9, -999.000,9, -999.000,9
           NA,     A06,    177,   1,-999.0,       4,  2,19930228,1220,   7.5832,  -23.3328,  4505, 4194.700,    2.338,   34.889,2,   34.888,2,  247.300,2,  246.000,2,   47.660,2,   20.140,2,    0.000,2,    1.460,2,    0.006,2,    0.005,2, -999.000,9, -999.000,9, -999.000,9
           NA,     A06,    177,   1,-999.0,       3,  2,19930228,1220,   7.5832,  -23.3328,  4505, 4393.600,    2.335,   34.886,2,   34.886,2,  246.800,2,  245.200,2,   48.500,2,   20.440,2,    0.000,2,    1.460,2,    0.006,2,    0.004,2, -999.000,9, -999.000,9, -999.000,9
           NA,     A06,    177,   1,-999.0,       1,  2,19930228,1220,   7.5832,  -23.3328,  4505, 4524.200,    2.310,   34.881,2,   34.881,2,  244.200,2,  244.200,2,   50.730,2,   20.700,2,    0.000,2,    1.480,2,    0.011,2,    0.005,2, -999.000,9, -999.000,9, -999.000,9
           NA,     A06,    177,   1,-999.0,       2,  2,19930228,1220,   7.5832,  -23.3328,  4505, 4524.800,    2.310,   34.881,2,   34.885,2,  244.100,2,  243.700,2,   50.530,2,   20.710,2,    0.000,2,    1.470,2,    0.026,2,    0.007,2, -999.000,9, -999.000,9, -999.000,9