BOTTLE,20205402JOAExport
EXPOCODE,SECT_ID,STNNBR,CASTNO,SAMPNO,BTLNBR,BTLNBR_FLAG_W,DATE,TIME,LATITUDE,LONGITUDE,DEPTH,CTDPRS,CTDTMP,CTDSAL,CTDSAL_FLAG_W,SALNTY,SALNTY_FLAG_W,CTDOXY,CTDOXY_FLAG_W,OXYGEN,OXYGEN_FLAG_W,SILCAT,SILCAT_FLAG_W,NITRAT,NITRAT_FLAG_W,NITRIT,NITRIT_FLAG_W,PHSPHT,PHSPHT_FLAG_W,CFC-11,CFC-11_FLAG_W,CFC-12,CFC-12_FLAG_W,SF6,SF6_FLAG_W,TCARBN,TCARBN_FLAG_W,ALKALI,ALKALI_FLAG_W
,,,,,,,,,,,,,DB,DEG C,PSS-78,,PSS-78,,UMOL/KG,,UMOL/KG,,UMOL/KG,,UMOL/KG,,UMOL/KG,,UMOL/KG,,PMOL/KG,,PMOL/KG,,FMOL/KG,,UMOL/KG,,UMOL/KG
           NA,     A06,    184,   1,-999.0,      31,  2,19930302,0101,   7.5827,  -19.9993,  3916,    2.300,   26.259,   36.140,2,   36.138,2,  211.900,2, -999.000,3,    1.850,2,    0.030,2,    0.000,2,    0.000,2,    1.852,2, -999.000,3, -999.000,9, -999.000,3, -999.000,3
           NA,     A06,    184,   1,-999.0,      30,  2,19930302,0101,   7.5827,  -19.9993,  3916,   24.600,   25.619,   36.104,2,   36.103,2,  212.000,2,  207.500,2,    1.810,2,    0.030,2,    0.000,2,    0.000,2,    1.864,2,    0.993,2, -999.000,9, 2013.700,2, 2382.900,2
           NA,     A06,    184,   1,-999.0,      29,  2,19930302,0101,   7.5827,  -19.9993,  3916,   68.400,   15.322,   35.571,2, -999.000,3,  103.000,2, -999.000,3,    7.530,2,   20.500,2,    0.040,2,    1.280,2,    1.192,2,    0.610,2, -999.000,9, 2184.100,2, 2353.600,2
           NA,     A06,    184,   1,-999.0,      28,  2,19930302,0101,   7.5827,  -19.9993,  3916,  118.600,   13.679,   35.382,2,   35.383,2,   87.700,2,   85.700,2,    9.150,2,   23.770,2,    0.010,2,    1.520,2,    0.951,2,    0.483,2, -999.000,9, 2195.800,2, 2338.300,2
           NA,     A06,    184,   1,-999.0,      26,  2,19930302,0101,   7.5827,  -19.9993,  3916,  193.400,   12.518,   35.243,2,   35.238,2,   95.500,2,   98.000,2,   10.190,2,   24.070,2,    0.000,2,    1.560,2,    0.815,2,    0.399,2, -999.000,9, -999.000,3, -999.000,3
           NA,     A06,    184,   1,-999.0,      27,  2,19930302,0101,   7.5827,  -19.9993,  3916,  193.400,   12.528,   35.245,2,   35.239,2,   95.500,2,   98.400,2,   10.200,2,   24.110,2,    0.000,2,    1.560,2,    0.856,2,    0.426,2, -999.000,9, 2186.200,2, 2324.700,2
           NA,     A06,    184,   1,-999.0,      25,  2,19930302,0101,   7.5827,  -19.9993,  3916,  392.400,    9.091,   34.907,2, -999.000,3,   54.800,2,   59.300,2,   18.180,2,   35.790,2,    0.000,2,    2.190,2,    0.125,2,    0.057,2, -999.000,9, 2250.500,2, 2321.600,2
           NA,     A06,    184,   1,-999.0,      24,  2,19930302,0101,   7.5827,  -19.9993,  3916,  592.600,    7.119,   34.753,2,   34.757,2,   71.700,2,   73.400,2,   23.480,2,   38.520,2,    0.000,2,    2.400,2,    0.030,2,    0.015,2, -999.000,9, -999.000,9, -999.000,9
           NA,     A06,    184,   1,-999.0,      23,  2,19930302,0101,   7.5827,  -19.9993,  3916,  792.600,    5.782,   34.670,2,   34.670,2,  100.000,2,  103.000,2,   28.120,2,   37.630,2,    0.000,2,    2.420,2,    0.028,2,    0.012,2, -999.000,9, 2261.800,2, 2335.200,2
           NA,     A06,    184,   1,-999.0,      22,  2,19930302,0101,   7.5827,  -19.9993,  3916,  992.700,    5.117,   34.704,2,   34.703,2,  124.500,2,  128.000,2,   29.730,2,   34.560,2,    0.000,2,    2.300,2,    0.006,2,    0.000,2, -999.000,9, 2249.200,2, 2335.500,2
           NA,     A06,    184,   1,-999.0,      21,  2,19930302,0101,   7.5827,  -19.9993,  3916, 1092.700,    4.926,   34.759,2,   34.762,2,  142.100,2,  143.900,2,   28.730,2,   32.110,2,    0.000,2,    2.160,2,    0.004,2,   -0.002,2, -999.000,9, 2235.700,2, 2332.600,2
           NA,     A06,    184,   1,-999.0,      20,  2,19930302,0101,   7.5827,  -19.9993,  3916, 1192.700,    4.714,   34.838,2,   34.840,2,  160.500,2,  164.200,2,   26.720,2,   28.960,2,    0.000,2,    1.960,2,    0.018,2,    0.002,2, -999.000,9, 2221.900,2, 2331.700,2
           NA,     A06,    184,   1,-999.0,      19,  2,19930302,0101,   7.5827,  -19.9993,  3916, 1291.600,    4.486,   34.896,2,   34.898,2,  183.400,2,  187.800,2,   24.790,2,   25.690,2,    0.000,2,    1.780,2,    0.002,2,    0.000,2, -999.000,9, 2220.900,2, 2347.700,2
           NA,     A06,    184,   1,-999.0,      18,  2,19930302,0101,   7.5827,  -19.9993,  3916, 1392.400,    4.287,   34.923,2,   34.924,2,  199.500,2,  200.500,2,   23.830,2,   24.020,2,    0.000,2,    1.660,2,    0.005,2,    0.000,2, -999.000,9, 2207.700,2, 2340.800,2
           NA,     A06,    184,   1,-999.0,      17,  2,19930302,0101,   7.5827,  -19.9993,  3916, 1492.400,    4.146,   34.939,2,   34.941,2,  212.100,2,  209.900,2,   23.160,2,   22.890,2,    0.000,2,    1.580,2,    0.006,2,    0.001,2, -999.000,9, 2208.300,2, 2348.500,2
           NA,     A06,    184,   1,-999.0,      16,  2,19930302,0101,   7.5827,  -19.9993,  3916, 1592.100,    4.000,   34.948,2,   34.950,2,  220.300,2,  219.100,2,   23.050,2,   21.830,2,    0.000,2,    1.520,2,    0.002,2,    0.001,2, -999.000,9, -999.000,3, -999.000,3
           NA,     A06,    184,   1,-999.0,      15,  2,19930302,0101,   7.5827,  -19.9993,  3916, 1692.900,    3.814,   34.952,2,   34.953,2,  227.400,2,  227.300,2,   23.440,2,   20.890,2,    0.000,2,    1.470,2,    0.012,2,    0.005,2, -999.000,9, -999.000,3, -999.000,3
           NA,     A06,    184,   1,-999.0,      14,  2,19930302,0101,   7.5827,  -19.9993,  3916, 1792.500,    3.695,   34.952,2,   34.954,2,  231.100,2,  230.500,2,   24.030,2,   20.740,2,    0.000,2,    1.450,2,    0.012,2,    0.005,2, -999.000,9, -999.000,3, -999.000,3
           NA,     A06,    184,   1,-999.0,      13,  2,19930302,0101,   7.5827,  -19.9993,  3916, 1893.000,    3.571,   34.953,2,   34.954,2,  234.700,2,  233.900,2,   25.140,2,   20.200,2,    0.000,2,    1.440,2,   -0.001,2,   -0.001,2, -999.000,9, 2191.500,2, 2346.100,2
           NA,     A06,    184,   1,-999.0,      12,  2,19930302,0101,   7.5827,  -19.9993,  3916, 1994.100,    3.427,   34.951,2,   34.957,2,  236.900,2,  236.700,2,   26.200,2,   20.170,2,    0.000,2,    1.420,2,   -0.001,2,   -0.002,2, -999.000,9, 2192.800,2, 2347.500,2
           NA,     A06,    184,   1,-999.0,      11,  2,19930302,0101,   7.5827,  -19.9993,  3916, 2193.100,    3.253,   34.947,2,   34.949,2,  240.500,2,  239.800,2,   28.160,2,   20.010,2,    0.000,2,    1.410,2, -999.000,9, -999.000,9, -999.000,9, 2202.900,2, 2358.900,2
           NA,     A06,    184,   1,-999.0,      10,  2,19930302,0101,   7.5827,  -19.9993,  3916, 2394.700,    3.058,   34.941,2,   34.940,2,  243.600,2,  242.200,2,   30.950,2,   19.660,2,    0.000,2,    1.390,2, -999.000,9, -999.000,9, -999.000,9, 2204.200,2, 2361.600,2
           NA,     A06,    184,   1,-999.0,       9,  2,19930302,0101,   7.5827,  -19.9993,  3916, 2694.900,    2.819,   34.929,2,   34.930,2,  244.200,2,  243.500,2,   34.930,2,   19.980,2,    0.000,2,    1.400,2, -999.000,9, -999.000,9, -999.000,9, 2192.800,2, 2351.500,2
           NA,     A06,    184,   1,-999.0,       7,  2,19930302,0101,   7.5827,  -19.9993,  3916, 2994.300,    2.653,   34.919,2,   34.917,2,  244.100,2,  243.600,2,   38.690,2,   20.080,2,    0.000,2,    1.420,2, -999.000,9, -999.000,9, -999.000,9, 2205.500,2, 2365.600,2
           NA,     A06,    184,   1,-999.0,       8,  2,19930302,0101,   7.5827,  -19.9993,  3916, 2994.300,    2.655,   34.919,2,   34.917,2,  244.100,2,  243.800,2,   38.740,2,   20.070,2,    0.000,2,    1.430,2, -999.000,9, -999.000,9, -999.000,9, 2205.800,2, 2363.600,2
           NA,     A06,    184,   1,-999.0,       6,  2,19930302,0101,   7.5827,  -19.9993,  3916, 3194.000,    2.569,   34.911,2,   34.914,2,  244.000,2,  243.500,2,   40.850,2,   20.340,2,    0.000,2,    1.430,2, -999.000,9, -999.000,9, -999.000,9, 2218.800,2, 2377.200,2
           NA,     A06,    184,   1,-999.0,       5,  2,19930302,0101,   7.5827,  -19.9993,  3916, 3395.100,    2.498,   34.907,2,   34.905,2,  243.900,2,  243.200,2,   43.050,2,   20.340,2,    0.000,2,    1.450,2, -999.000,9, -999.000,9, -999.000,9, 2211.100,2, 2369.600,2
           NA,     A06,    184,   1,-999.0,       4,  2,19930302,0101,   7.5827,  -19.9993,  3916, 3594.100,    2.427,   34.900,2,   34.901,2,  243.300,2,  242.900,2,   44.900,2,   20.700,2,    0.000,2,    1.450,2, -999.000,9, -999.000,9, -999.000,9, 2219.500,2, 2375.600,2
           NA,     A06,    184,   1,-999.0,       3,  2,19930302,0101,   7.5827,  -19.9993,  3916, 3793.900,    2.382,   34.895,2,   34.896,2,  242.800,2,  242.500,2,   46.460,2,   20.870,2,    0.000,2,    1.470,2, -999.000,9, -999.000,9, -999.000,9, 2221.800,2, 2378.900,2
           NA,     A06,    184,   1,-999.0,       2,  2,19930302,0101,   7.5827,  -19.9993,  3916, 3893.300,    2.360,   34.893,2,   34.895,2,  243.000,2,  243.500,2,   47.360,2,   20.790,2,    0.000,2,    1.460,2, -999.000,9, -999.000,9, -999.000,9, 2221.200,2, 2377.800,2
           NA,     A06,    184,   1,-999.0,       1,  2,19930302,0101,   7.5827,  -19.9993,  3916, 3946.600,    2.357,   34.891,2,   34.893,2,  241.400,2,  242.600,2,   47.730,2,   20.790,2,    0.000,2,    1.470,2, -999.000,9, -999.000,9, -999.000,9, 2222.900,2, 2381.900,2
           NA,     A06,    185,   1,-999.0,      30,  2,19930302,0641,   7.5833,  -19.5008,  4116,    1.400,   26.523,   36.051,2,   36.051,2,  201.500,2,  204.100,2,    1.940,2,    0.060,2,    0.000,2,    0.000,2,    1.762,2,    0.946,2, -999.000,9, -999.000,9, -999.000,9
           NA,     A06,    185,   1,-999.0,      29,  2,19930302,0641,   7.5833,  -19.5008,  4116,   68.700,   17.723,   35.768,2, -999.000,3,  110.700,2, -999.000,3,    6.260,2,   17.560,2,    0.060,2,    1.080,2,    1.298,2,    0.652,2, -999.000,9, -999.000,9, -999.000,9
           NA,     A06,    185,   1,-999.0,      28,  2,19930302,0641,   7.5833,  -19.5008,  4116,  118.100,   14.276,   35.451,2,   35.448,2,   87.000,2,   89.000,2,    8.430,2,   22.920,2,    0.010,2,    1.460,2,    1.025,2,    0.520,2, -999.000,9, -999.000,9, -999.000,9
           NA,     A06,    185,   1,-999.0,      27,  2,19930302,0641,   7.5833,  -19.5008,  4116,  118.300,   14.292,   35.472,2, -999.000,3,   87.000,2,   87.000,2,    8.390,2,   22.560,2,    0.010,2,    1.470,2,    1.034,2,    0.511,2, -999.000,9, -999.000,9, -999.000,9
           NA,     A06,    185,   1,-999.0,      26,  2,19930302,0641,   7.5833,  -19.5008,  4116,  192.800,   12.910,   35.289,2,   35.285,2,   83.400,2,   86.300,2,    9.960,2,   24.560,2,    0.000,2,    1.590,2,    0.767,2,    0.391,2, -999.000,9, -999.000,9, -999.000,9
           NA,     A06,    185,   1,-999.0,      25,  2,19930302,0641,   7.5833,  -19.5008,  4116,  392.600,   10.023,   35.051,2,   35.049,2,   51.100,2,   49.800,2,   15.960,2,   34.430,2,    0.000,2,    2.080,2,    0.195,2,    0.091,2, -999.000,9, -999.000,9, -999.000,9
           NA,     A06,    185,   1,-999.0,      24,  2,19930302,0641,   7.5833,  -19.5008,  4116,  592.000,    7.083,   34.736,2,   34.738,2,   72.000,2,   76.800,2,   23.280,2,   38.030,2,    0.000,2,    2.390,2,    0.006,2, -999.000,3, -999.000,9, -999.000,9, -999.000,9
           NA,     A06,    185,   1,-999.0,      23,  2,19930302,0641,   7.5833,  -19.5008,  4116,  792.000,    5.911,   34.668,2,   34.670,2,  100.400,2,   99.400,2,   27.580,2,   37.350,2,    0.000,2,    2.420,2,    0.007,2,    0.001,2, -999.000,9, -999.000,9, -999.000,9
           NA,     A06,    185,   1,-999.0,      22,  2,19930302,0641,   7.5833,  -19.5008,  4116,  991.600,    5.059,   34.708,2,   34.707,2,  132.500,2,  131.100,2,   29.500,2,   33.990,2,    0.000,2,    2.270,2,    0.001,2,    0.001,2, -999.000,9, -999.000,9, -999.000,9
           NA,     A06,    185,   1,-999.0,      21,  2,19930302,0641,   7.5833,  -19.5008,  4116, 1092.000,    4.888,   34.784,2,   34.781,2,  146.600,2,  148.500,2,   28.110,2,   31.250,2,    0.000,2,    2.110,2,   -0.002,2,    0.000,2, -999.000,9, -999.000,9, -999.000,9
           NA,     A06,    185,   1,-999.0,      20,  2,19930302,0641,   7.5833,  -19.5008,  4116, 1192.400,    4.717,   34.841,2,   34.838,2,  162.100,2,  164.900,2,   26.680,2,   28.670,2,    0.000,2,    1.960,2,   -0.001,2,   -0.001,2, -999.000,9, -999.000,9, -999.000,9
           NA,     A06,    185,   1,-999.0,      19,  2,19930302,0641,   7.5833,  -19.5008,  4116, 1292.000,    4.541,   34.894,2,   34.894,2,  181.300,2,  185.700,2,   24.700,2,   25.970,2,    0.000,2,    1.790,2,    0.000,2,    0.000,2, -999.000,9, -999.000,9, -999.000,9
           NA,     A06,    185,   1,-999.0,      18,  2,19930302,0641,   7.5833,  -19.5008,  4116, 1392.300,    4.336,   34.917,2,   34.919,2,  193.200,2,  197.800,2,   23.760,2,   24.280,2,    0.000,2,    1.670,2,    0.001,2,    0.000,2, -999.000,9, -999.000,9, -999.000,9
           NA,     A06,    185,   1,-999.0,      17,  2,19930302,0641,   7.5833,  -19.5008,  4116, 1491.900,    4.137,   34.936,2,   34.938,2,  208.000,2,  209.000,2,   23.470,2,   23.010,2,    0.000,2,    1.580,2,    0.001,2,    0.000,2, -999.000,9, -999.000,9, -999.000,9
           NA,     A06,    185,   1,-999.0,      16,  2,19930302,0641,   7.5833,  -19.5008,  4116, 1593.100,    3.941,   34.949,2,   34.947,2,  221.600,2,  221.300,2,   22.990,2,   21.530,2,    0.000,2,    1.490,2,    0.008,2,    0.006,2, -999.000,9, -999.000,9, -999.000,9
           NA,     A06,    185,   1,-999.0,      15,  2,19930302,0641,   7.5833,  -19.5008,  4116, 1692.600,    3.814,   34.951,2,   34.951,2,  227.900,2,  226.600,2,   23.240,2,   21.150,2,    0.000,2,    1.450,2,    0.006,2,    0.001,2, -999.000,9, -999.000,9, -999.000,9
           NA,     A06,    185,   1,-999.0,      14,  2,19930302,0641,   7.5833,  -19.5008,  4116, 1793.000,    3.665,   34.953,2,   34.957,2,  232.100,2,  232.900,2,   23.800,2,   20.390,2,    0.000,2,    1.440,2,    0.013,2,    0.001,2, -999.000,9, -999.000,9, -999.000,9
           NA,     A06,    185,   1,-999.0,      13,  2,19930302,0641,   7.5833,  -19.5008,  4116, 1893.200,    3.558,   34.951,2,   34.950,2,  234.900,2,  233.600,2,   24.920,2,   20.380,2,    0.000,2,    1.440,2,    0.007,2,    0.003,2, -999.000,9, -999.000,9, -999.000,9
           NA,     A06,    185,   1,-999.0,      12,  2,19930302,0641,   7.5833,  -19.5008,  4116, 1993.300,    3.478,   34.951,2,   34.953,2,  237.400,2,  236.300,2,   25.510,2,   20.180,2,    0.000,2,    1.420,2,    0.009,2,    0.001,2, -999.000,9, -999.000,9, -999.000,9
           NA,     A06,    185,   1,-999.0,      11,  2,19930302,0641,   7.5833,  -19.5008,  4116, 2194.100,    3.256,   34.946,2,   34.949,2,  239.800,2,  239.800,2,   28.060,2,   19.970,2,    0.000,2,    1.430,2,    0.003,2,    0.001,2, -999.000,9, -999.000,9, -999.000,9
           NA,     A06,    185,   1,-999.0,      10,  2,19930302,0641,   7.5833,  -19.5008,  4116, 2393.800,    3.092,   34.943,2,   34.942,2,  241.300,2,  240.600,2,   30.610,2,   19.920,2,    0.000,2,    1.430,2,    0.009,2,    0.000,2, -999.000,9, -999.000,9, -999.000,9
           NA,     A06,    185,   1,-999.0,       8,  2,19930302,0641,   7.5833,  -19.5008,  4116, 2694.300,    2.881,   34.932,2,   34.932,2,  242.400,2,  241.700,2,   34.260,2,   20.060,2,    0.000,2,    1.430,2,    0.000,2,   -0.002,2, -999.000,9, -999.000,9, -999.000,9
           NA,     A06,    185,   1,-999.0,       9,  2,19930302,0641,   7.5833,  -19.5008,  4116, 2694.500,    2.884,   34.933,2,   34.932,2,  242.400,2,  242.200,2,   34.310,2,   20.030,2,    0.000,2,    1.430,2,    0.003,2,   -0.001,2, -999.000,9, -999.000,9, -999.000,9
           NA,     A06,    185,   1,-999.0,       7,  2,19930302,0641,   7.5833,  -19.5008,  4116, 2994.200,    2.695,   34.920,2,   34.916,2,  243.000,2,  242.800,2,   37.760,2,   20.180,2,    0.000,2,    1.430,2,    0.004,2,    0.000,2, -999.000,9, -999.000,9, -999.000,9
           NA,     A06,    185,   1,-999.0,       6,  2,19930302,0641,   7.5833,  -19.5008,  4116, 3194.200,    2.600,   34.913,2,   34.914,2,  243.000,2,  242.900,2,   40.260,2,   20.350,2,    0.000,2,    1.450,2,    0.001,2,    0.003,2, -999.000,9, -999.000,9, -999.000,9
           NA,     A06,    185,   1,-999.0,       5,  2,19930302,0641,   7.5833,  -19.5008,  4116, 3394.100,    2.526,   34.907,2,   34.903,2,  243.000,2,  242.800,2,   42.110,2,   20.450,2,    0.000,2,    1.450,2,    0.000,2,    0.000,2, -999.000,9, -999.000,9, -999.000,9
           NA,     A06,    185,   1,-999.0,       4,  2,19930302,0641,   7.5833,  -19.5008,  4116, 3594.200,    2.483,   34.904,2,   34.904,2,  242.900,2,  242.700,2,   43.630,2,   20.570,2,    0.000,2,    1.460,2,    0.007,2,    0.001,2, -999.000,9, -999.000,9, -999.000,9
           NA,     A06,    185,   1,-999.0,       3,  2,19930302,0641,   7.5833,  -19.5008,  4116, 3793.800,    2.432,   34.898,2,   34.901,2,  243.100,2,  243.000,2,   45.310,2,   20.680,2,    0.000,2,    1.450,2,    0.001,2,   -0.001,2, -999.000,9, -999.000,9, -999.000,9
           NA,     A06,    185,   1,-999.0,       2,  2,19930302,0641,   7.5833,  -19.5008,  4116, 3995.300,    2.404,   34.894,2,   34.895,2,  243.400,2,  243.100,2,   46.480,2,   20.860,2,    0.000,2,    1.470,2,    0.014,2,    0.004,2, -999.000,9, -999.000,9, -999.000,9
           NA,     A06,    185,   1,-999.0,       1,  2,19930302,0641,   7.5833,  -19.5008,  4116, 4149.100,    2.341,   34.888,2,   34.888,2,  240.400,2,  242.000,2,   48.970,2,   21.040,2,    0.000,2,    1.460,2,    0.008,2,   -0.002,2, -999.000,9, -999.000,9, -999.000,9