BOTTLE,20205402JOAExport
EXPOCODE,SECT_ID,STNNBR,CASTNO,SAMPNO,BTLNBR,BTLNBR_FLAG_W,DATE,TIME,LATITUDE,LONGITUDE,DEPTH,CTDPRS,CTDTMP,CTDSAL,CTDSAL_FLAG_W,SALNTY,SALNTY_FLAG_W,CTDOXY,CTDOXY_FLAG_W,OXYGEN,OXYGEN_FLAG_W,SILCAT,SILCAT_FLAG_W,NITRAT,NITRAT_FLAG_W,NITRIT,NITRIT_FLAG_W,PHSPHT,PHSPHT_FLAG_W,CFC-11,CFC-11_FLAG_W,CFC-12,CFC-12_FLAG_W,SF6,SF6_FLAG_W,TCARBN,TCARBN_FLAG_W,ALKALI,ALKALI_FLAG_W
,,,,,,,,,,,,,DB,DEG C,PSS-78,,PSS-78,,UMOL/KG,,UMOL/KG,,UMOL/KG,,UMOL/KG,,UMOL/KG,,UMOL/KG,,PMOL/KG,,PMOL/KG,,FMOL/KG,,UMOL/KG,,UMOL/KG
           NA,     A06,    140,   1,-999.0,      32,  2,19930218,1347,   7.4623,  -43.9935,  4713,    1.500,   26.571,   35.933,2,   35.936,2,  199.400,2,  203.300,2,    1.780,2,    0.010,2,    0.000,2,    0.000,2,    1.828,2,    0.970,2, -999.000,9, -999.000,3, -999.000,3
           NA,     A06,    140,   1,-999.0,      31,  2,19930218,1347,   7.4623,  -43.9935,  4713,   68.300,   26.732,   36.170,2, -999.000,3,  200.200,2,  202.700,2,    1.780,2,    0.150,2,    0.000,2,    0.010,2,    1.824,2,    0.971,2, -999.000,9, 2013.300,2, 2379.200,2
           NA,     A06,    140,   1,-999.0,      30,  2,19930218,1347,   7.4623,  -43.9935,  4713,  119.000,   25.754,   36.427,2, -999.000,3,  202.600,2, -999.000,3,    1.950,2,    0.550,2,    0.100,2,    0.070,2,    1.782,2,    0.943,2, -999.000,9, 2038.000,2, 2394.300,2
           NA,     A06,    140,   1,-999.0,      29,  2,19930218,1347,   7.4623,  -43.9935,  4713,  194.100,   13.208,   35.499,2,   35.494,2,  122.700,2,  118.400,2,    9.450,2,   21.760,2,    0.000,2,    1.270,2,    1.016,2,    0.506,2, -999.000,9, 2187.600,2, 2351.100,2
           NA,     A06,    140,   1,-999.0,      28,  2,19930218,1347,   7.4623,  -43.9935,  4713,  393.100,    8.574,   34.826,2,   34.820,2,  101.700,2,  102.300,2,   17.290,2,   32.060,2,    0.000,2,    1.950,2,    0.253,2,    0.128,2, -999.000,9, 2215.600,2, 2310.700,2
           NA,     A06,    140,   1,-999.0,      27,  2,19930218,1347,   7.4623,  -43.9935,  4713,  593.700,    7.265,   34.743,2,   34.743,2,  110.800,2,  107.100,2,   21.460,2,   33.810,2,    0.000,2,    2.110,2,    0.099,2,    0.050,2, -999.000,9, 2218.000,2, 2304.500,2
           NA,     A06,    140,   1,-999.0,      26,  2,19930218,1347,   7.4623,  -43.9935,  4713,  792.200,    5.770,   34.683,2,   34.679,2,  119.900,2,  118.600,2,   27.020,2,   35.310,2,    0.000,2,    2.260,2,    0.016,2,    0.007,2, -999.000,9, 2220.200,2, 2318.700,2
           NA,     A06,    140,   1,-999.0,      25,  2,19930218,1347,   7.4623,  -43.9935,  4713,  990.300,    5.071,   34.757,2,   34.757,2,  148.600,2,  147.800,2,   27.420,2,   31.940,2,    0.000,2,    2.080,2,    0.006,2,    0.001,2, -999.000,9, 2218.400,2, 2317.100,2
           NA,     A06,    140,   1,-999.0,      24,  2,19930218,1347,   7.4623,  -43.9935,  4713, 1192.700,    4.864,   34.920,2,   34.920,2,  199.100,2, -999.000,3,   22.120,2,   25.390,2,    0.000,2,    1.660,2,    0.042,2,    0.016,2, -999.000,9, 2195.200,2, 2326.600,2
           NA,     A06,    140,   1,-999.0,      23,  2,19930218,1347,   7.4623,  -43.9935,  4713, 1392.300,    4.537,   34.999,2,   35.000,2,  230.600,2,  233.500,2,   17.110,2,   20.110,2,    0.000,2,    1.330,2,    0.157,2,    0.076,2, -999.000,9, 2166.600,2, 2319.400,2
           NA,     A06,    140,   1,-999.0,      22,  2,19930218,1347,   7.4623,  -43.9935,  4713, 1493.200,    4.365,   35.004,2, -999.000,3,  243.900,2,  242.700,2,   16.200,2,   19.180,2,    0.000,2,    1.260,2,    0.173,2,    0.084,2, -999.000,9, 2164.500,2, 2321.700,2
           NA,     A06,    140,   1,-999.0,      21,  2,19930218,1347,   7.4623,  -43.9935,  4713, 1594.800,    4.160,   35.000,2,   35.001,2,  251.300,2,  249.700,2,   16.000,2,   18.580,2,    0.030,2,    1.230,2,    0.165,2,    0.081,2, -999.000,9, 2166.000,2, 2325.600,2
           NA,     A06,    140,   1,-999.0,      20,  2,19930218,1347,   7.4623,  -43.9935,  4713, 1694.100,    3.962,   34.992,2,   34.996,2,  253.900,2,  253.300,2,   16.700,2,   18.500,2,    0.000,2,    1.230,2,    0.115,2,    0.058,2, -999.000,9, 2152.700,2, 2313.900,2
           NA,     A06,    140,   1,-999.0,      19,  2,19930218,1347,   7.4623,  -43.9935,  4713, 1793.200,    3.819,   34.985,2,   34.990,2,  254.900,2,  253.900,2,   17.560,2,   18.540,2,    0.000,2,    1.220,2,    0.059,2,    0.028,2, -999.000,9, 2150.700,2, 2310.900,2
           NA,     A06,    140,   1,-999.0,      18,  2,19930218,1347,   7.4623,  -43.9935,  4713, 1793.700,    3.818,   34.985,2,   34.987,2,  254.900,2,  253.900,2,   17.690,2,   18.420,2,    0.000,2,    1.230,2,    0.066,2,    0.031,2, -999.000,9, 2152.400,2, 2313.100,2
           NA,     A06,    140,   1,-999.0,      17,  2,19930218,1347,   7.4623,  -43.9935,  4713, 1993.600,    3.583,   34.976,2,   34.977,2,  256.400,2,  256.900,2,   19.330,2,   18.220,2,    0.000,2,    1.210,2,    0.032,2,    0.017,2, -999.000,9, 2159.900,2, 2324.600,2
           NA,     A06,    140,   1,-999.0,      16,  2,19930218,1347,   7.4623,  -43.9935,  4713, 2195.000,    3.383,   34.968,2,   34.970,2,  259.400,2,  258.000,2,   21.490,2,   18.620,2,    0.000,2,    1.230,2,    0.026,2,    0.007,2, -999.000,9, 2166.000,2, 2329.600,2
           NA,     A06,    140,   1,-999.0,      15,  2,19930218,1347,   7.4623,  -43.9935,  4713, 2394.300,    3.208,   34.964,2,   34.963,2,  261.400,2,  262.900,2,   21.150,2,   17.820,2,    0.000,2,    1.180,2,    0.071,2,    0.035,2, -999.000,9, 2168.300,2, 2334.700,2
           NA,     A06,    140,   1,-999.0,      14,  2,19930218,1347,   7.4623,  -43.9935,  4713, 2695.400,    3.007,   34.952,2,   34.947,2,  261.700,2,  262.900,2,   23.770,2,   17.940,2,    0.000,2,    1.210,2,    0.065,2,    0.027,2, -999.000,9, 2182.400,2, 2348.100,2
           NA,     A06,    140,   1,-999.0,      13,  2,19930218,1347,   7.4623,  -43.9935,  4713, 2995.000,    2.813,   34.937,2,   34.935,2,  259.700,2,  261.100,2,   28.110,2,   18.440,2,    0.000,2,    1.260,2,    0.037,2,    0.012,2, -999.000,9, 2183.000,2, 2348.200,2
           NA,     A06,    140,   1,-999.0,      12,  2,19930218,1347,   7.4623,  -43.9935,  4713, 3194.600,    2.682,   34.925,2,   34.931,2,  257.600,2,  259.600,2,   31.960,2,   19.190,2,    0.000,2,    1.290,2,    0.030,2,    0.005,2, -999.000,9, -999.000,3, -999.000,3
           NA,     A06,    140,   1,-999.0,      11,  2,19930218,1347,   7.4623,  -43.9935,  4713, 3393.400,    2.560,   34.919,2,   34.922,2,  261.200,2,  262.800,2,   31.040,2,   18.560,2,    0.000,2,    1.270,2,    0.060,2,    0.028,2, -999.000,9, -999.000,3, -999.000,3
           NA,     A06,    140,   1,-999.0,      10,  2,19930218,1347,   7.4623,  -43.9935,  4713, 3393.700,    2.560,   34.918,2,   34.921,2,  261.200,2,  263.100,2,   31.030,2,   18.620,2,    0.000,2,    1.260,2,    0.059,2,    0.031,2, -999.000,9, 2183.700,2, 2346.500,2
           NA,     A06,    140,   1,-999.0,       9,  2,19930218,1347,   7.4623,  -43.9935,  4713, 3594.500,    2.461,   34.913,2,   34.912,2,  263.000,2,  262.000,2,   31.840,2,   18.490,2,    0.000,2,    1.250,2,    0.056,2,    0.027,2, -999.000,9, 2191.800,2, 2354.900,2
           NA,     A06,    140,   1,-999.0,       8,  2,19930218,1347,   7.4623,  -43.9935,  4713, 3795.900,    2.322,   34.903,2,   34.901,2,  263.100,2,  265.600,2,   33.220,2,   18.320,2,    0.000,2,    1.260,2, -999.000,9, -999.000,9, -999.000,9, 2197.600,2, 2360.500,2
           NA,     A06,    140,   1,-999.0,       7,  2,19930218,1347,   7.4623,  -43.9935,  4713, 3894.700,    2.292,   34.902,2, -999.000,3,  265.100,2,  266.700,2,   32.940,2,   18.120,2,    0.000,2,    1.250,2,    0.089,2,    0.045,2, -999.000,9, 2182.200,2, 2345.200,2
           NA,     A06,    140,   1,-999.0,       6,  2,19930218,1347,   7.4623,  -43.9935,  4713, 3994.700,    2.240,   34.894,2,   34.895,2,  263.500,2,  264.200,2,   36.020,2,   18.900,2,    0.010,2,    1.290,2,    0.076,2,    0.050,2, -999.000,9, 2188.600,2, 2349.700,2
           NA,     A06,    140,   1,-999.0,       5,  2,19930218,1347,   7.4623,  -43.9935,  4713, 4092.300,    2.222,   34.893,2,   34.888,2,  264.300,2,  265.500,2,   35.490,2,   18.760,2,    0.000,2,    1.280,2,    0.098,2,    0.055,2, -999.000,9, 2189.700,2, 2353.600,2
           NA,     A06,    140,   1,-999.0,       4,  2,19930218,1347,   7.4623,  -43.9935,  4713, 4194.000,    2.187,   34.888,2,   34.887,2,  263.100,2,  264.200,2,   37.980,2,   19.010,2,    0.000,2,    1.300,2,    0.101,2,    0.052,2, -999.000,9, 2193.900,2, 2354.700,2
           NA,     A06,    140,   1,-999.0,       3,  2,19930218,1347,   7.4623,  -43.9935,  4713, 4390.700,    2.107,   34.876,2,   34.870,2,  258.800,2,  259.200,2,   45.060,2,   20.220,2,    0.000,2,    1.390,2,    0.061,2,    0.037,2, -999.000,9, 2198.300,2, 2355.100,2
           NA,     A06,    140,   1,-999.0,       2,  2,19930218,1347,   7.4623,  -43.9935,  4713, 4591.100,    1.607,   34.813,2,   34.812,2,  245.100,2,  244.600,2,   75.700,2,   24.510,2,    0.000,2,    1.680,2,    0.046,2,    0.018,2, -999.000,9, -999.000,3, -999.000,3
           NA,     A06,    140,   1,-999.0,       1,  2,19930218,1347,   7.4623,  -43.9935,  4713, 4738.700,    1.522,   34.802,2,   34.804,2,  239.200,2,  242.500,2,   80.040,2,   25.340,2,    0.010,2,    1.730,2,    0.001,2, -999.000,9, -999.000,9, -999.000,3, -999.000,3
           NA,     A06,    141,   1,-999.0,      32,  2,19930218,2112,   7.4602,  -43.3312,  4819,    3.800,   26.616,   36.109,2, -999.000,9,  198.300,2,  202.700,2, -999.000,9, -999.000,9, -999.000,9, -999.000,9,    1.795,2, -999.000,3, -999.000,9, -999.000,9, -999.000,9
           NA,     A06,    141,   1,-999.0,      31,  2,19930218,2112,   7.4602,  -43.3312,  4819,   69.400,   26.635,   36.134,2,   36.132,2,  200.100,2,  202.700,2,    1.810,2,    0.070,2,    0.000,2,    0.020,2,    1.794,2, -999.000,3, -999.000,9, -999.000,9, -999.000,9
           NA,     A06,    141,   1,-999.0,      30,  2,19930218,2112,   7.4602,  -43.3312,  4819,  119.100,   26.020,   36.377,2, -999.000,3,  197.200,2,  192.300,2,    2.050,2,    0.730,2,    0.200,2,    0.110,2,    1.771,2, -999.000,3, -999.000,9, -999.000,9, -999.000,9
           NA,     A06,    141,   1,-999.0,      29,  2,19930218,2112,   7.4602,  -43.3312,  4819,  193.200,   14.071,   35.638,2, -999.000,3,  124.100,2,  119.100,2,    8.320,2,   19.970,2,    0.000,2,    1.160,2,    1.113,2, -999.000,3, -999.000,9, -999.000,9, -999.000,9
           NA,     A06,    141,   1,-999.0,      28,  2,19930218,2112,   7.4602,  -43.3312,  4819,  292.800,    9.500,   34.911,2, -999.000,3,  104.300,2,  108.000,2,   14.750,2,   29.480,2,    0.000,2,    1.810,2,    0.440,2, -999.000,3, -999.000,9, -999.000,9, -999.000,9
           NA,     A06,    141,   1,-999.0,      27,  2,19930218,2112,   7.4602,  -43.3312,  4819,  392.700,    8.726,   34.837,2,   34.832,2,  107.300,2,  104.800,2,   16.600,2,   31.360,2,    0.000,2,    1.920,2,    0.289,2, -999.000,3, -999.000,9, -999.000,9, -999.000,9
           NA,     A06,    141,   1,-999.0,      26,  2,19930218,2112,   7.4602,  -43.3312,  4819,  592.100,    6.966,   34.697,2,   34.693,2,  115.300,2,  115.500,2,   21.900,2,   34.140,2,    0.000,2,    2.130,2,    0.100,2, -999.000,3, -999.000,9, -999.000,9, -999.000,9
           NA,     A06,    141,   1,-999.0,      25,  2,19930218,2112,   7.4602,  -43.3312,  4819,  792.800,    5.830,   34.692,2,   34.689,2,  115.900,2,  114.700,2,   27.140,2,   35.880,2,    0.000,2,    2.270,2,    0.007,2, -999.000,3, -999.000,9, -999.000,9, -999.000,9
           NA,     A06,    141,   1,-999.0,      24,  2,19930218,2112,   7.4602,  -43.3312,  4819,  992.400,    4.990,   34.758,2,   34.754,2,  150.100,2,  151.600,2,   27.810,2,   31.940,2,    0.000,2,    2.060,2,    0.007,2, -999.000,3, -999.000,9, -999.000,9, -999.000,9
           NA,     A06,    141,   1,-999.0,      23,  2,19930218,2112,   7.4602,  -43.3312,  4819, 1191.600,    4.810,   34.939,2,   34.940,2,  195.000,2, -999.000,3,   21.100,2,   24.620,2,    0.000,2,    1.580,2,    0.068,2, -999.000,3, -999.000,9, -999.000,9, -999.000,9
           NA,     A06,    141,   1,-999.0,      22,  2,19930218,2112,   7.4602,  -43.3312,  4819, 1392.500,    4.520,   34.984,2,   34.983,2,  222.600,2,  227.400,2,   18.180,2,   21.470,2,    0.000,2,    1.390,2,    0.094,2, -999.000,3, -999.000,9, -999.000,9, -999.000,9
           NA,     A06,    141,   1,-999.0,      21,  2,19930218,2112,   7.4602,  -43.3312,  4819, 1490.500,    4.362,   35.001,2,   34.997,2,  237.600,2,  241.300,2,   16.630,2,   19.900,2,    0.000,2,    1.280,2,    0.149,2, -999.000,3, -999.000,9, -999.000,9, -999.000,9
           NA,     A06,    141,   1,-999.0,      20,  2,19930218,2112,   7.4602,  -43.3312,  4819, 1592.800,    4.183,   35.002,2,   35.001,2,  246.900,2,  250.000,2,   15.930,2,   19.120,2,    0.000,2,    1.230,2,    0.158,2, -999.000,3, -999.000,9, -999.000,9, -999.000,9
           NA,     A06,    141,   1,-999.0,      19,  2,19930218,2112,   7.4602,  -43.3312,  4819, 1692.400,    3.985,   34.996,2,   34.994,2,  253.000,2,  254.600,2,   16.250,2,   18.670,2,    0.000,2,    1.210,2,    0.125,2, -999.000,3, -999.000,9, -999.000,9, -999.000,9
           NA,     A06,    141,   1,-999.0,      18,  2,19930218,2112,   7.4602,  -43.3312,  4819, 1793.900,    3.814,   34.989,2,   34.990,2,  255.600,2,  257.400,2,   17.190,2,   18.520,2,    0.000,2,    1.200,2,    0.101,2, -999.000,3, -999.000,9, -999.000,9, -999.000,9
           NA,     A06,    141,   1,-999.0,      17,  2,19930218,2112,   7.4602,  -43.3312,  4819, 1993.200,    3.505,   34.976,2,   34.976,2,  256.700,2,  259.800,2,   19.370,2,   18.670,2,    0.000,2,    1.210,2,    0.053,2, -999.000,3, -999.000,9, -999.000,9, -999.000,9
           NA,     A06,    141,   1,-999.0,      16,  2,19930218,2112,   7.4602,  -43.3312,  4819, 2194.100,    3.303,   34.966,2,   34.966,2,  259.500,2,  260.700,2,   21.150,2,   18.600,2,    0.000,2,    1.220,2,    0.034,2, -999.000,3, -999.000,9, -999.000,9, -999.000,9
           NA,     A06,    141,   1,-999.0,      15,  2,19930218,2112,   7.4602,  -43.3312,  4819, 2394.800,    3.119,   34.955,2,   34.953,2,  258.700,2,  259.400,2,   24.220,2,   18.960,2,    0.000,2,    1.240,2,    0.021,2, -999.000,3, -999.000,9, -999.000,9, -999.000,9
           NA,     A06,    141,   1,-999.0,      14,  2,19930218,2112,   7.4602,  -43.3312,  4819, 2695.100,    2.943,   34.945,2,   34.943,2,  258.300,2,  263.000,2,   25.830,2,   18.740,2,    0.000,2,    1.240,2,    0.030,2, -999.000,3, -999.000,9, -999.000,9, -999.000,9
           NA,     A06,    141,   1,-999.0,      13,  2,19930218,2112,   7.4602,  -43.3312,  4819, 2994.600,    2.793,   34.936,2,   34.931,2,  258.100,2,  261.400,2,   28.670,2,   19.120,2,    0.000,2,    1.260,2,    0.025,2, -999.000,3, -999.000,9, -999.000,9, -999.000,9
           NA,     A06,    141,   1,-999.0,      12,  2,19930218,2112,   7.4602,  -43.3312,  4819, 3194.300,    2.727,   34.929,2,   34.927,2,  259.400,2,  260.800,2,   30.110,2,   19.220,2,    0.000,2,    1.280,2,    0.019,2, -999.000,3, -999.000,9, -999.000,9, -999.000,9
           NA,     A06,    141,   1,-999.0,      11,  2,19930218,2112,   7.4602,  -43.3312,  4819, 3394.000,    2.666,   34.925,2,   34.922,2,  260.200,2,  262.400,2,   29.870,2,   18.830,2,    0.000,2,    1.260,2,    0.051,2, -999.000,3, -999.000,9, -999.000,9, -999.000,9
           NA,     A06,    141,   1,-999.0,      10,  2,19930218,2112,   7.4602,  -43.3312,  4819, 3595.100,    2.517,   34.916,2,   34.917,2,  261.900,2,  264.200,2,   31.120,2,   18.640,2,    0.000,2,    1.250,2,    0.064,2, -999.000,3, -999.000,9, -999.000,9, -999.000,9
           NA,     A06,    141,   1,-999.0,       9,  2,19930218,2112,   7.4602,  -43.3312,  4819, 3794.700,    2.396,   34.909,2,   34.907,2,  264.400,2,  266.500,2,   31.740,2,   18.560,2,    0.000,2,    1.240,2,    0.085,2, -999.000,3, -999.000,9, -999.000,9, -999.000,9
           NA,     A06,    141,   1,-999.0,       8,  2,19930218,2112,   7.4602,  -43.3312,  4819, 3894.300,    2.333,   34.904,2,   34.900,2,  265.200,2,  267.900,2,   32.180,2,   18.410,2,    0.000,2,    1.240,2,    0.100,2, -999.000,3, -999.000,9, -999.000,9, -999.000,9
           NA,     A06,    141,   1,-999.0,       7,  2,19930218,2112,   7.4602,  -43.3312,  4819, 3995.000,    2.289,   34.900,2,   34.896,2,  264.500,2,  266.000,2,   33.890,2,   18.650,2,    0.000,2,    1.250,2,    0.080,2, -999.000,3, -999.000,9, -999.000,9, -999.000,9
           NA,     A06,    141,   1,-999.0,       6,  2,19930218,2112,   7.4602,  -43.3312,  4819, 4093.500,    2.258,   34.895,2,   34.895,2,  262.900,2,  265.500,2,   35.860,2,   19.060,2,    0.000,2,    1.280,2,    0.072,2, -999.000,3, -999.000,9, -999.000,9, -999.000,9
           NA,     A06,    141,   1,-999.0,       5,  2,19930218,2112,   7.4602,  -43.3312,  4819, 4194.900,    2.228,   34.891,2,   34.890,2,  262.300,2,  263.900,2,   38.250,2,   19.180,2,    0.000,2,    1.310,2,    0.066,2, -999.000,3, -999.000,9, -999.000,9, -999.000,9
           NA,     A06,    141,   1,-999.0,       4,  2,19930218,2112,   7.4602,  -43.3312,  4819, 4394.200,    2.100,   34.871,2,   34.872,2,  256.600,2,  257.900,2,   47.600,2,   20.800,2,    0.000,2,    1.410,2,    0.040,2, -999.000,3, -999.000,9, -999.000,9, -999.000,9
           NA,     A06,    141,   1,-999.0,       3,  2,19930218,2112,   7.4602,  -43.3312,  4819, 4594.700,    1.732,   34.828,2,   34.827,2,  247.400,2,  248.200,2,   66.510,2,   23.540,2,    0.020,2,    1.600,2,    0.030,2, -999.000,3, -999.000,9, -999.000,9, -999.000,9
           NA,     A06,    141,   1,-999.0,       2,  2,19930218,2112,   7.4602,  -43.3312,  4819, 4696.300,    1.549,   34.805,2, -999.000,3,  240.900,2,  243.900,2,   77.360,2,   25.210,2,    0.000,2,    1.710,2,    0.024,2, -999.000,3, -999.000,9, -999.000,9, -999.000,9
           NA,     A06,    141,   1,-999.0,       1,  2,19930218,2112,   7.4602,  -43.3312,  4819, 4847.500,    1.503,   34.798,2,   34.798,2,  237.500,2,  241.100,2,   80.280,2,   25.620,2,    0.000,2,    1.750,2,    0.041,2, -999.000,3, -999.000,9, -999.000,9, -999.000,9