BOTTLE,20205402JOAExport
EXPOCODE,SECT_ID,STNNBR,CASTNO,SAMPNO,BTLNBR,BTLNBR_FLAG_W,DATE,TIME,LATITUDE,LONGITUDE,DEPTH,CTDPRS,CTDTMP,CTDSAL,CTDSAL_FLAG_W,SALNTY,SALNTY_FLAG_W,CTDOXY,CTDOXY_FLAG_W,OXYGEN,OXYGEN_FLAG_W,SILCAT,SILCAT_FLAG_W,NITRAT,NITRAT_FLAG_W,NITRIT,NITRIT_FLAG_W,PHSPHT,PHSPHT_FLAG_W,CFC-11,CFC-11_FLAG_W,CFC-12,CFC-12_FLAG_W,SF6,SF6_FLAG_W,TCARBN,TCARBN_FLAG_W,ALKALI,ALKALI_FLAG_W
,,,,,,,,,,,,,DB,DEG C,PSS-78,,PSS-78,,UMOL/KG,,UMOL/KG,,UMOL/KG,,UMOL/KG,,UMOL/KG,,UMOL/KG,,PMOL/KG,,PMOL/KG,,FMOL/KG,,UMOL/KG,,UMOL/KG
           NA,     A06,    164,   1,-999.0,      32,  2,19930224,1903,   7.4505,  -31.6670,  4356,    2.000,   26.287,   36.282,2,   36.281,2,  202.500,2,  203.300,2,    1.850,2,    0.060,2,    0.000,2,    0.010,2,    1.835,2,    0.999,2, -999.000,9, -999.000,3, -999.000,3
           NA,     A06,    164,   1,-999.0,      30,  2,19930224,1903,   7.4505,  -31.6670,  4356,   24.400,   26.113,   36.291,2,   36.291,2,  205.500,2,  203.600,2,    1.860,2,    0.030,2,    0.000,2,    0.010,2,    1.844,2,    0.998,2, -999.000,9, 2037.700,2, 2415.500,2
           NA,     A06,    164,   1,-999.0,      31,  2,19930224,1903,   7.4505,  -31.6670,  4356,   24.500,   26.118,   36.292,2,   36.292,2,  205.700,2,  204.100,2,    1.860,2,    0.040,2,    0.000,2,    0.010,2,    1.850,2,    1.010,2, -999.000,9, 2055.400,2, 2434.700,2
           NA,     A06,    164,   1,-999.0,      29,  2,19930224,1903,   7.4505,  -31.6670,  4356,   69.700,   24.229,   36.231,2, -999.000,3,  208.900,2, -999.000,3,    2.400,2,    0.760,2,    0.030,2,    0.080,2,    1.741,2,    0.926,2, -999.000,9, 2081.600,2, 2440.500,2
           NA,     A06,    164,   1,-999.0,      28,  2,19930224,1903,   7.4505,  -31.6670,  4356,  119.000,   12.664,   35.264,2,   35.261,2,  134.700,2, -999.000,3,    9.640,2,   22.670,2,    0.010,2,    1.430,2,    0.965,2,    0.499,2, -999.000,9, 2206.200,2, 2359.300,2
           NA,     A06,    164,   1,-999.0,      27,  2,19930224,1903,   7.4505,  -31.6670,  4356,  193.600,   11.158,   35.089,2,   35.084,2,  108.400,2,  106.400,2,   11.960,2,   26.050,2,    0.000,2,    1.620,2,    0.669,2,    0.343,2, -999.000,9, 2210.500,2, 2344.000,2
           NA,     A06,    164,   1,-999.0,      26,  2,19930224,1903,   7.4505,  -31.6670,  4356,  393.200,    8.283,   34.799,2,   34.795,2,  108.100,2, -999.000,3,   18.450,2,   32.850,2,    0.000,2,    2.030,2,    0.205,2,    0.107,2, -999.000,9, 2244.800,2, 2338.200,2
           NA,     A06,    164,   1,-999.0,      25,  2,19930224,1903,   7.4505,  -31.6670,  4356,  592.100,    6.635,   34.694,2,   34.692,2,   89.200,2, -999.000,3,   24.510,2,   36.120,2,    0.000,2,    2.280,2,    0.034,2,    0.014,2, -999.000,9, 2248.100,2, 2328.300,2
           NA,     A06,    164,   1,-999.0,      24,  2,19930224,1903,   7.4505,  -31.6670,  4356,  793.000,    5.399,   34.637,2,   34.637,2,  121.700,2,  124.700,2,   29.220,2,   35.630,2,    0.000,2,    2.300,2,    0.014,2,    0.004,2, -999.000,9, 2251.200,2, 2336.900,2
           NA,     A06,    164,   1,-999.0,      23,  2,19930224,1903,   7.4505,  -31.6670,  4356,  994.000,    4.982,   34.733,2,   34.731,2,  136.200,2, -999.000,3,   29.020,2,   32.840,2,    0.000,2,    2.150,2,    0.007,2, -999.000,3, -999.000,9, 2253.600,2, 2352.000,2
           NA,     A06,    164,   1,-999.0,      22,  2,19930224,1903,   7.4505,  -31.6670,  4356, 1191.600,    4.745,   34.838,2,   34.836,2,  174.400,2,  171.800,2,   25.830,2,   28.640,2,    0.000,2,    1.890,2,    0.014,2,    0.004,2, -999.000,9, 2238.800,2, 2356.800,2
           NA,     A06,    164,   1,-999.0,      21,  2,19930224,1903,   7.4505,  -31.6670,  4356, 1393.100,    4.527,   34.961,2,   34.959,2,  216.100,2,  215.400,2,   19.940,2,   22.520,2,    0.000,2,    1.480,2,    0.049,2,    0.026,2, -999.000,9, 2194.700,2, 2344.100,2
           NA,     A06,    164,   1,-999.0,      20,  2,19930224,1903,   7.4505,  -31.6670,  4356, 1493.500,    4.369,   34.975,2,   34.973,2,  230.000,2,  225.400,2,   19.040,2,   21.390,2,    0.000,2,    1.420,2,    0.051,2,    0.023,2, -999.000,9, 2196.100,2, 2348.300,2
           NA,     A06,    164,   1,-999.0,      19,  2,19930224,1903,   7.4505,  -31.6670,  4356, 1592.600,    4.207,   34.985,2,   34.983,2,  237.900,2,  236.200,2,   18.100,2,   20.150,2,    0.000,2,    1.340,2,    0.064,2,    0.032,2, -999.000,9, 2187.000,2, 2346.100,2
           NA,     A06,    164,   1,-999.0,      18,  2,19930224,1903,   7.4505,  -31.6670,  4356, 1693.800,    3.971,   34.975,2,   34.975,2,  238.800,2,  237.300,2,   19.540,2,   20.250,2,    0.000,2,    1.350,2,    0.018,2,    0.012,2, -999.000,9, 2186.000,2, 2343.200,2
           NA,     A06,    164,   1,-999.0,      17,  2,19930224,1903,   7.4505,  -31.6670,  4356, 1793.200,    3.858,   34.980,2,   34.981,2,  248.400,2,  245.600,2,   18.890,2,   19.240,2,    0.000,2,    1.290,2,    0.033,2,    0.022,2, -999.000,9, 2202.200,2, 2367.100,2
           NA,     A06,    164,   1,-999.0,      16,  2,19930224,1903,   7.4505,  -31.6670,  4356, 1994.400,    3.602,   34.971,2,   34.972,2,  251.600,2,  250.500,2,   20.640,2,   18.930,2,    0.000,2,    1.280,2,    0.024,2,    0.015,2, -999.000,9, 2181.400,2, 2345.300,2
           NA,     A06,    164,   1,-999.0,      15,  2,19930224,1903,   7.4505,  -31.6670,  4356, 2193.000,    3.319,   34.957,2,   34.957,2,  251.000,2,  250.300,2,   24.600,2,   19.290,2,    0.000,2,    1.310,2,    0.011,2,    0.003,2, -999.000,9, 2182.500,2, 2346.400,2
           NA,     A06,    164,   1,-999.0,      14,  2,19930224,1903,   7.4505,  -31.6670,  4356, 2393.200,    3.149,   34.949,2,   34.948,2,  251.000,2,  252.700,2,   26.750,2,   19.240,2,    0.000,2,    1.310,2,    0.015,2,    0.006,2, -999.000,9, 2190.600,2, 2353.900,2
           NA,     A06,    164,   1,-999.0,      13,  2,19930224,1903,   7.4505,  -31.6670,  4356, 2695.000,    2.912,   34.936,2, -999.000,3,  251.100,2,  250.600,2,   30.370,2,   19.410,2,    0.000,2,    1.330,2,    0.012,2,    0.002,2, -999.000,9, 2189.300,2, 2354.300,2
           NA,     A06,    164,   1,-999.0,      12,  2,19930224,1903,   7.4505,  -31.6670,  4356, 2994.000,    2.720,   34.924,2,   34.924,2,  252.500,2,  251.700,2,   33.890,2,   19.550,2,    0.000,2,    1.350,2,    0.006,2,    0.004,2, -999.000,9, -999.000,3, -999.000,3
           NA,     A06,    164,   1,-999.0,      11,  2,19930224,1903,   7.4505,  -31.6670,  4356, 3194.200,    2.600,   34.916,2,   34.917,2,  251.200,2,  252.400,2,   36.780,2,   19.810,2,    0.000,2,    1.380,2,    0.009,2,    0.002,2, -999.000,9, -999.000,3, -999.000,3
           NA,     A06,    164,   1,-999.0,      10,  2,19930224,1903,   7.4505,  -31.6670,  4356, 3393.500,    2.499,   34.909,2,   34.908,2,  253.100,2,  253.600,2,   38.200,2,   19.600,2,    0.000,2,    1.370,2,    0.012,2,    0.003,2, -999.000,9, -999.000,3, -999.000,3
           NA,     A06,    164,   1,-999.0,       9,  2,19930224,1903,   7.4505,  -31.6670,  4356, 3394.000,    2.499,   34.908,2,   34.910,2,  253.100,2,  253.500,2,   38.110,2,   19.590,2,    0.000,2,    1.370,2,    0.016,2,    0.007,2, -999.000,9, -999.000,3, -999.000,3
           NA,     A06,    164,   1,-999.0,       8,  2,19930224,1903,   7.4505,  -31.6670,  4356, 3595.400,    2.444,   34.903,2,   34.901,2,  253.400,2,  253.900,2,   39.570,2,   19.590,2,    0.000,2,    1.370,2,    0.021,2,    0.007,2, -999.000,9, -999.000,3, -999.000,3
           NA,     A06,    164,   1,-999.0,       7,  2,19930224,1903,   7.4505,  -31.6670,  4356, 3794.600,    2.392,   34.896,2,   34.894,2,  253.600,2,  254.300,2,   41.300,2,   19.680,2,    0.010,2,    1.380,2,    0.016,2,    0.005,2, -999.000,9, -999.000,3, -999.000,3
           NA,     A06,    164,   1,-999.0,       6,  2,19930224,1903,   7.4505,  -31.6670,  4356, 3894.300,    2.366,   34.895,2,   34.895,2,  253.900,2,  254.000,2,   41.980,2,   19.760,2,    0.000,2,    1.390,2,    0.011,2,    0.004,2, -999.000,9, 2210.900,2, 2372.100,2
           NA,     A06,    164,   1,-999.0,       5,  2,19930224,1903,   7.4505,  -31.6670,  4356, 3994.700,    2.336,   34.892,2,   34.891,2,  254.000,2,  254.400,2,   42.900,2,   19.740,2,    0.000,2,    1.400,2,    0.017,2,    0.009,2, -999.000,9, 2211.400,2, 2374.900,2
           NA,     A06,    164,   1,-999.0,       4,  2,19930224,1903,   7.4505,  -31.6670,  4356, 4093.800,    2.335,   34.890,2,   34.890,2,  254.400,2,  254.600,2,   43.090,2,   19.840,2,    0.000,2,    1.410,2,    0.027,2,    0.006,2, -999.000,9, 2204.500,2, 2365.800,2
           NA,     A06,    164,   1,-999.0,       3,  2,19930224,1903,   7.4505,  -31.6670,  4356, 4194.400,    2.328,   34.890,2,   34.889,2,  254.500,2,  254.100,2,   43.380,2,   19.830,2,    0.000,2,    1.410,2,    0.022,2,    0.009,2, -999.000,9, -999.000,3, -999.000,3
           NA,     A06,    164,   1,-999.0,       1,  2,19930224,1903,   7.4505,  -31.6670,  4356, 4357.100,    2.349,   34.889,2,   34.889,2,  253.400,2,  254.000,2,   43.490,2,   19.830,2,    0.020,2,    1.410,2,    0.021,2,    0.008,2, -999.000,9, -999.000,3, -999.000,3
           NA,     A06,    165,   1,-999.0,      32,  2,19930225,0002,   7.4500,  -31.3328,  4648,    2.100,   26.307,   36.177,2,   36.176,2,  200.600,2,  202.900,2,    1.930,2,    0.070,2,    0.000,2,    0.010,2,    1.838,2,    0.995,2, -999.000,9, -999.000,9, -999.000,9
           NA,     A06,    165,   1,-999.0,      31,  2,19930225,0002,   7.4500,  -31.3328,  4648,   69.700,   23.565,   36.279,2,   36.275,2,  208.100,2, -999.000,3,    2.820,2,    2.090,2,    0.120,2,    0.190,2,    1.751,2,    0.931,2, -999.000,9, -999.000,9, -999.000,9
           NA,     A06,    165,   1,-999.0,      30,  2,19930225,0002,   7.4500,  -31.3328,  4648,  118.700,   13.542,   35.397,2, -999.000,3,  146.000,2,  141.700,2,    8.670,2,   18.800,2,    0.010,2,    1.190,2,    1.275,2,    0.645,2, -999.000,9, -999.000,9, -999.000,9
           NA,     A06,    165,   1,-999.0,      29,  2,19930225,0002,   7.4500,  -31.3328,  4648,  193.300,   11.204,   35.079,2,   35.076,2,  135.900,2,  131.300,2,   11.270,2,   23.530,2,    0.000,2,    1.490,2,    0.933,2,    0.465,2, -999.000,9, -999.000,9, -999.000,9
           NA,     A06,    165,   1,-999.0,      28,  2,19930225,0002,   7.4500,  -31.3328,  4648,  293.400,    9.775,   34.930,2,   34.927,2,  113.800,2,  114.300,2,   14.270,2,   28.290,2,    0.000,2,    1.760,2,    0.551,2,    0.273,2, -999.000,9, -999.000,9, -999.000,9
           NA,     A06,    165,   1,-999.0,      27,  2,19930225,0002,   7.4500,  -31.3328,  4648,  393.100,    8.807,   34.842,2,   34.837,2,  104.000,2,  102.200,2,   16.690,2,   31.720,2,    0.000,2,    1.950,2,    0.302,2,    0.153,2, -999.000,9, -999.000,9, -999.000,9
           NA,     A06,    165,   1,-999.0,      26,  2,19930225,0002,   7.4500,  -31.3328,  4648,  492.400,    7.907,   34.806,2,   34.806,2,   83.500,2,   80.900,2,   20.190,2,   36.260,2,    0.000,2,    2.200,2,    0.073,2,    0.039,2, -999.000,9, -999.000,9, -999.000,9
           NA,     A06,    165,   1,-999.0,      25,  2,19930225,0002,   7.4500,  -31.3328,  4648,  594.000,    7.148,   34.750,2,   34.750,2,   94.700,2, -999.000,3,   22.770,2,   36.790,2,    0.000,2,    2.290,2,    0.038,2,    0.020,2, -999.000,9, -999.000,9, -999.000,9
           NA,     A06,    165,   1,-999.0,      24,  2,19930225,0002,   7.4500,  -31.3328,  4648,  792.400,    5.416,   34.629,2,   34.628,2,  130.800,2,  127.200,2,   29.000,2,   35.650,2,    0.000,2,    2.300,2,    0.012,2,    0.004,2, -999.000,9, -999.000,9, -999.000,9
           NA,     A06,    165,   1,-999.0,      23,  2,19930225,0002,   7.4500,  -31.3328,  4648,  992.600,    4.827,   34.692,2,   34.693,2,  149.400,2,  148.700,2,   29.880,2,   33.040,2,    0.000,2,    2.160,2,    0.006,2,    0.001,2, -999.000,9, -999.000,9, -999.000,9
           NA,     A06,    165,   1,-999.0,      22,  2,19930225,0002,   7.4500,  -31.3328,  4648, 1192.900,    4.778,   34.847,2,   34.851,2,  173.100,2,  175.300,2,   25.280,2,   28.360,2,    0.000,2,    1.870,2,    0.018,2,    0.004,2, -999.000,9, -999.000,9, -999.000,9
           NA,     A06,    165,   1,-999.0,      21,  2,19930225,0002,   7.4500,  -31.3328,  4648, 1393.700,    4.605,   34.950,2,   34.948,2,  209.100,2,  208.300,2,   20.640,2,   23.420,2,    0.000,2,    1.550,2,    0.040,2,    0.022,2, -999.000,9, -999.000,9, -999.000,9
           NA,     A06,    165,   1,-999.0,      20,  2,19930225,0002,   7.4500,  -31.3328,  4648, 1492.900,    4.452,   34.974,2,   34.974,2,  222.900,2,  222.200,2,   19.020,2,   21.660,2,    0.000,2,    1.440,2,    0.053,2,    0.026,2, -999.000,9, -999.000,9, -999.000,9
           NA,     A06,    165,   1,-999.0,      19,  2,19930225,0002,   7.4500,  -31.3328,  4648, 1592.400,    4.212,   34.969,2,   34.969,2,  227.100,2,  224.700,2,   19.790,2,   21.510,2,    0.000,2,    1.450,2,    0.016,2,    0.005,2, -999.000,9, -999.000,9, -999.000,9
           NA,     A06,    165,   1,-999.0,      18,  2,19930225,0002,   7.4500,  -31.3328,  4648, 1693.400,    3.979,   34.972,2,   34.970,2,  235.600,2,  233.900,2,   19.890,2,   20.590,2,    0.000,2,    1.390,2,    0.014,2,    0.009,2, -999.000,9, -999.000,9, -999.000,9
           NA,     A06,    165,   1,-999.0,      17,  2,19930225,0002,   7.4500,  -31.3328,  4648, 1792.400,    3.794,   34.971,2,   34.971,2,  241.700,2,  240.500,2,   20.160,2,   19.910,2,    0.000,2,    1.350,2,    0.007,2,    0.004,2, -999.000,9, -999.000,9, -999.000,9
           NA,     A06,    165,   1,-999.0,      16,  2,19930225,0002,   7.4500,  -31.3328,  4648, 2094.000,    3.376,   34.960,2,   34.960,2,  248.100,2,  247.800,2,   23.610,2,   19.470,2,    0.000,2,    1.330,2,    0.005,2,   -0.001,2, -999.000,9, -999.000,9, -999.000,9
           NA,     A06,    165,   1,-999.0,      15,  2,19930225,0002,   7.4500,  -31.3328,  4648, 2394.000,    3.119,   34.949,2,   34.947,2,  249.600,2,  249.900,2,   27.390,2,   19.480,2,    0.000,2,    1.340,2,    0.004,2,    0.000,2, -999.000,9, -999.000,9, -999.000,9
           NA,     A06,    165,   1,-999.0,      14,  2,19930225,0002,   7.4500,  -31.3328,  4648, 2695.200,    2.903,   34.936,2,   34.937,2,  248.800,2,  248.900,2,   31.540,2,   19.800,2,    0.000,2,    1.360,2,    0.001,2,    0.000,2, -999.000,9, -999.000,9, -999.000,9
           NA,     A06,    165,   1,-999.0,      13,  2,19930225,0002,   7.4500,  -31.3328,  4648, 2994.600,    2.684,   34.923,2,   34.923,2,  252.200,2,  253.000,2,   34.060,2,   19.520,2,    0.000,2,    1.350,2,    0.011,2,    0.002,2, -999.000,9, -999.000,9, -999.000,9
           NA,     A06,    165,   1,-999.0,      12,  2,19930225,0002,   7.4500,  -31.3328,  4648, 3194.400,    2.581,   34.914,2,   34.918,2,  252.500,2,  252.500,2,   36.540,2,   19.630,2,    0.000,2,    1.370,2,    0.006,2,    0.002,2, -999.000,9, -999.000,9, -999.000,9
           NA,     A06,    165,   1,-999.0,      11,  2,19930225,0002,   7.4500,  -31.3328,  4648, 3395.100,    2.516,   34.909,2,   34.910,2,  252.600,2,  253.800,2,   37.410,2,   19.580,2,    0.000,2,    1.370,2,    0.011,2,    0.000,2, -999.000,9, -999.000,9, -999.000,9
           NA,     A06,    165,   1,-999.0,      10,  2,19930225,0002,   7.4500,  -31.3328,  4648, 3595.400,    2.446,   34.904,2,   34.897,2,  253.700,2,  253.800,2,   39.440,2,   19.680,2,    0.000,2,    1.380,2,    0.012,2,    0.005,2, -999.000,9, -999.000,9, -999.000,9
           NA,     A06,    165,   1,-999.0,       9,  2,19930225,0002,   7.4500,  -31.3328,  4648, 3695.100,    2.429,   34.901,2,   34.900,2,  253.700,2,  254.000,2,   40.270,2,   19.720,2,    0.000,2,    1.390,2,    0.013,2,    0.006,2, -999.000,9, -999.000,9, -999.000,9
           NA,     A06,    165,   1,-999.0,       8,  2,19930225,0002,   7.4500,  -31.3328,  4648, 3794.600,    2.403,   34.898,2,   34.899,2,  253.800,2,  254.000,2,   40.840,2,   19.780,2,    0.020,2,    1.390,2,    0.016,2,    0.006,2, -999.000,9, -999.000,9, -999.000,9
           NA,     A06,    165,   1,-999.0,       7,  2,19930225,0002,   7.4500,  -31.3328,  4648, 3894.300,    2.387,   34.896,2,   34.895,2,  253.900,2,  253.800,2,   41.450,2,   19.890,2,    0.000,2,    1.400,2,    0.017,2,    0.004,2, -999.000,9, -999.000,9, -999.000,9
           NA,     A06,    165,   1,-999.0,       6,  2,19930225,0002,   7.4500,  -31.3328,  4648, 3994.300,    2.370,   34.893,2,   34.894,2,  254.300,2,  254.400,2,   41.960,2,   19.820,2,    0.000,2,    1.400,2,    0.017,2,    0.011,2, -999.000,9, -999.000,9, -999.000,9
           NA,     A06,    165,   1,-999.0,       5,  2,19930225,0002,   7.4500,  -31.3328,  4648, 4094.200,    2.352,   34.893,2,   34.895,2,  254.500,2,  254.100,2,   42.700,2,   19.900,2,    0.000,2,    1.410,2,    0.016,2,    0.006,2, -999.000,9, -999.000,9, -999.000,9
           NA,     A06,    165,   1,-999.0,       4,  2,19930225,0002,   7.4500,  -31.3328,  4648, 4194.500,    2.352,   34.891,2,   34.894,2,  254.500,2,  253.800,2,   42.930,2,   19.900,2,    0.020,2,    1.410,2,    0.013,2,    0.007,2, -999.000,9, -999.000,9, -999.000,9
           NA,     A06,    165,   1,-999.0,       3,  2,19930225,0002,   7.4500,  -31.3328,  4648, 4395.200,    2.335,   34.888,2,   34.891,2,  255.000,2,  254.300,2,   43.650,2,   19.890,2,    0.020,2,    1.410,2,    0.022,2,    0.007,2, -999.000,9, -999.000,9, -999.000,9
           NA,     A06,    165,   1,-999.0,       2,  2,19930225,0002,   7.4500,  -31.3328,  4648, 4594.300,    2.347,   34.885,2,   34.889,2,  255.400,2,  254.600,2,   43.870,2,   19.970,2,    0.000,2,    1.420,2,    0.026,2,    0.011,2, -999.000,9, -999.000,9, -999.000,9
           NA,     A06,    165,   1,-999.0,       1,  2,19930225,0002,   7.4500,  -31.3328,  4648, 4665.300,    2.354,   34.886,2,   34.888,2,  253.300,2,  253.900,2,   44.180,2,   19.940,2,    0.000,2,    1.430,2,    0.024,2,    0.008,2, -999.000,9, -999.000,9, -999.000,9