BOTTLE,20205402JOAExport
EXPOCODE,SECT_ID,STNNBR,CASTNO,SAMPNO,BTLNBR,BTLNBR_FLAG_W,DATE,TIME,LATITUDE,LONGITUDE,DEPTH,CTDPRS,CTDTMP,CTDSAL,CTDSAL_FLAG_W,SALNTY,SALNTY_FLAG_W,CTDOXY,CTDOXY_FLAG_W,OXYGEN,OXYGEN_FLAG_W,SILCAT,SILCAT_FLAG_W,NITRAT,NITRAT_FLAG_W,NITRIT,NITRIT_FLAG_W,PHSPHT,PHSPHT_FLAG_W,CFC-11,CFC-11_FLAG_W,CFC-12,CFC-12_FLAG_W,SF6,SF6_FLAG_W,TCARBN,TCARBN_FLAG_W,ALKALI,ALKALI_FLAG_W
,,,,,,,,,,,,,DB,DEG C,PSS-78,,PSS-78,,UMOL/KG,,UMOL/KG,,UMOL/KG,,UMOL/KG,,UMOL/KG,,UMOL/KG,,PMOL/KG,,PMOL/KG,,FMOL/KG,,UMOL/KG,,UMOL/KG
           NA,     A06,    144,   1,-999.0,      32,  2,19930219,1849,   7.5017,  -41.3350,  4652,    2.600,   25.634,   36.326,2,   36.326,2,  204.200,2,  204.800,2,    0.010,2,    0.080,2,    0.000,2,    0.000,2,    1.897,2, -999.000,9, -999.000,9, -999.000,3, -999.000,3
           NA,     A06,    144,   1,-999.0,      31,  2,19930219,1849,   7.5017,  -41.3350,  4652,   44.700,   25.457,   36.324,2,   36.325,2,  201.200,2,  205.100,2,    0.060,2,    0.080,2,    0.000,2,    0.000,2,    1.886,2,    0.997,2, -999.000,9, 2045.000,2, 2416.400,2
           NA,     A06,    144,   1,-999.0,      30,  2,19930219,1849,   7.5017,  -41.3350,  4652,   93.900,   23.062,   36.316,2, -999.000,3,  126.600,2, -999.000,3,    0.670,2,    2.980,2,    0.180,2,    0.200,2,    1.741,2,    0.921,2, -999.000,9, 2074.500,2, 2401.300,2
           NA,     A06,    144,   1,-999.0,      29,  2,19930219,1849,   7.5017,  -41.3350,  4652,  193.800,   10.957,   35.096,2, -999.000,3,  124.500,2, -999.000,3,   10.230,2,   23.670,2,    0.000,2,    1.480,2,    0.859,2,    0.436,2, -999.000,9, 2177.900,2, 2322.700,2
           NA,     A06,    144,   1,-999.0,      28,  2,19930219,1849,   7.5017,  -41.3350,  4652,  293.600,    9.164,   34.883,2,   34.879,2,   99.500,2,  101.500,2,   14.320,2,   30.140,2,    0.000,2,    1.870,2,    0.338,2,    0.172,2, -999.000,9, 2210.500,2, 2313.400,2
           NA,     A06,    144,   1,-999.0,      27,  2,19930219,1849,   7.5017,  -41.3350,  4652,  392.700,    8.077,   34.772,2,   34.768,2,  105.900,2,  103.900,2,   17.200,2,   32.200,2,    0.000,2,    2.020,2,    0.193,2,    0.095,2, -999.000,9, 2232.100,2, 2327.400,2
           NA,     A06,    144,   1,-999.0,      26,  2,19930219,1849,   7.5017,  -41.3350,  4652,  592.100,    6.517,   34.685,2,   34.682,2,  106.600,2,  105.800,2,   22.850,2,   34.850,2,    0.000,2,    2.250,2,    0.046,2,    0.025,2, -999.000,9, 2245.500,2, 2327.500,2
           NA,     A06,    144,   1,-999.0,      25,  2,19930219,1849,   7.5017,  -41.3350,  4652,  793.200,    5.230,   34.642,2,   34.640,2,  127.400,2, -999.000,3,   27.610,2,   34.160,2,    0.000,2,    2.250,2,    0.007,2,    0.007,2, -999.000,9, 2242.800,2, 2330.200,2
           NA,     A06,    144,   1,-999.0,      24,  2,19930219,1849,   7.5017,  -41.3350,  4652,  992.600,    4.819,   34.770,2,   34.770,2,  150.200,2, -999.000,3,   26.160,2,   30.010,2,    0.000,2,    2.010,2,    0.005,2,    0.004,2, -999.000,9, 2222.100,2, 2327.200,2
           NA,     A06,    144,   1,-999.0,      23,  2,19930219,1849,   7.5017,  -41.3350,  4652, 1192.100,    4.681,   34.896,2,   34.895,2,  182.200,2, -999.000,3,   21.580,2,   25.330,2,    0.000,2,    1.700,2,    0.022,2,    0.011,2, -999.000,9, 2218.200,2, 2347.000,2
           NA,     A06,    144,   1,-999.0,      22,  2,19930219,1849,   7.5017,  -41.3350,  4652, 1392.300,    4.481,   34.971,2, -999.000,3,  212.400,2, -999.000,3,   17.550,2,   21.200,2,    0.000,2,    1.430,2,    0.000,2, -999.000,9, -999.000,9, 2200.700,2, 2351.200,2
           NA,     A06,    144,   1,-999.0,      21,  2,19930219,1849,   7.5017,  -41.3350,  4652, 1492.700,    4.348,   34.984,2,   34.981,2,  228.500,2,  231.600,2,   16.390,2,   19.850,2,    0.050,2,    1.350,2,    0.072,2,    0.033,2, -999.000,9, -999.000,3, -999.000,3
           NA,     A06,    144,   1,-999.0,      20,  2,19930219,1849,   7.5017,  -41.3350,  4652, 1592.800,    4.218,   34.998,2,   34.997,2,  237.600,2, -999.000,3,   14.860,2,   18.410,2,    0.000,2,    1.260,2,    0.125,2,    0.068,2, -999.000,9, -999.000,3, -999.000,3
           NA,     A06,    144,   1,-999.0,      19,  2,19930219,1849,   7.5017,  -41.3350,  4652, 1693.500,    4.011,   34.991,2,   34.992,2,  249.100,2,  248.900,2,   15.370,2,   18.200,2,    0.010,2,    1.240,2,    0.083,2,    0.038,2, -999.000,9, -999.000,3, -999.000,3
           NA,     A06,    144,   1,-999.0,      18,  2,19930219,1849,   7.5017,  -41.3350,  4652, 1792.300,    3.871,   34.989,2,   34.989,2,  252.900,2,  252.900,2,   15.540,2,   17.760,2,    0.000,2,    1.220,2,    0.082,2,    0.046,2, -999.000,9, 2180.900,2, 2345.800,2
           NA,     A06,    144,   1,-999.0,      17,  2,19930219,1849,   7.5017,  -41.3350,  4652, 1993.400,    3.575,   34.980,2,   34.982,2,  258.600,2,  257.000,2,   16.930,2,   17.320,2,    0.010,2,    1.200,2,    0.060,2,    0.030,2, -999.000,9, 2170.400,2, 2336.100,2
           NA,     A06,    144,   1,-999.0,      16,  2,19930219,1849,   7.5017,  -41.3350,  4652, 2194.400,    3.329,   34.966,2,   34.962,2,  257.800,2,  256.500,2,   20.010,2,   17.760,2,    0.000,2,    1.240,2,    0.033,2,    0.017,2, -999.000,9, 2167.700,2, 2334.100,2
           NA,     A06,    144,   1,-999.0,      15,  2,19930219,1849,   7.5017,  -41.3350,  4652, 2394.500,    3.136,   34.954,2,   34.952,2,  257.300,2,  254.400,2,   23.680,2,   18.150,2,    0.010,2,    1.270,2,    0.013,2,    0.006,2, -999.000,9, 2168.200,2, 2333.600,2
           NA,     A06,    144,   1,-999.0,      14,  2,19930219,1849,   7.5017,  -41.3350,  4652, 2693.600,    2.968,   34.947,2,   34.943,2,  258.400,2,  258.100,2,   24.470,2,   17.970,2,    0.000,2,    1.250,2,    0.036,2,    0.019,2, -999.000,9, 2163.400,2, 2328.500,2
           NA,     A06,    144,   1,-999.0,      13,  2,19930219,1849,   7.5017,  -41.3350,  4652, 2994.300,    2.783,   34.934,2,   34.928,2,  259.400,2,  263.700,2,   27.580,2,   18.220,2,    0.000,2,    1.280,2,    0.026,2,    0.012,2, -999.000,9, -999.000,3, -999.000,3
           NA,     A06,    144,   1,-999.0,      12,  2,19930219,1849,   7.5017,  -41.3350,  4652, 3193.700,    2.710,   34.928,2,   34.931,2,  259.400,2, -999.000,3,   28.150,2,   17.940,2,    0.000,2,    1.270,2,    0.046,2,    0.020,2, -999.000,9, 2181.700,2, 2348.200,2
           NA,     A06,    144,   1,-999.0,      11,  2,19930219,1849,   7.5017,  -41.3350,  4652, 3394.100,    2.564,   34.918,2,   34.917,2,  257.900,2,  259.100,2,   32.290,2,   18.410,2,    0.000,2,    1.300,2,    0.035,2,    0.018,2, -999.000,9, -999.000,3, -999.000,3
           NA,     A06,    144,   1,-999.0,      10,  2,19930219,1849,   7.5017,  -41.3350,  4652, 3594.600,    2.449,   34.908,2,   34.908,2,  257.100,2, -999.000,3,   34.660,2,   18.780,2,    0.000,2,    1.320,2,    0.033,2,    0.017,2, -999.000,9, 2194.400,2, 2359.100,2
           NA,     A06,    144,   1,-999.0,       9,  2,19930219,1849,   7.5017,  -41.3350,  4652, 3794.600,    2.330,   34.897,2,   34.896,2,  258.400,2,  259.900,2,   37.830,2,   18.830,2,    0.000,2,    1.340,2,    0.030,2,    0.016,2, -999.000,9, 2194.400,2, 2356.200,2
           NA,     A06,    144,   1,-999.0,       8,  2,19930219,1849,   7.5017,  -41.3350,  4652, 3894.000,    2.261,   34.892,2,   34.890,2,  258.100,2,  258.300,2,   38.790,2,   19.040,2,    0.000,2,    1.340,2,    0.041,2,    0.016,2, -999.000,9, -999.000,3, -999.000,3
           NA,     A06,    144,   1,-999.0,       7,  2,19930219,1849,   7.5017,  -41.3350,  4652, 3994.900,    2.238,   34.890,2,   34.886,2,  260.300,2,  261.500,2,   37.560,2,   18.790,2,    0.000,2,    1.330,2,    0.056,2,    0.032,2, -999.000,9, -999.000,3, -999.000,3
           NA,     A06,    144,   1,-999.0,       6,  2,19930219,1849,   7.5017,  -41.3350,  4652, 4094.500,    2.123,   34.878,2,   34.879,2,  258.500,2,  258.500,2,   43.550,2,   19.380,2,    0.020,2,    1.380,2,    0.040,2,    0.026,2, -999.000,9, -999.000,3, -999.000,3
           NA,     A06,    144,   1,-999.0,       5,  2,19930219,1849,   7.5017,  -41.3350,  4652, 4194.500,    2.034,   34.866,2,   34.867,2,  255.600,2,  254.500,2,   48.260,2,   20.260,2,    0.000,2,    1.450,2,    0.040,2,    0.026,2, -999.000,9, 2211.300,2, 2369.200,2
           NA,     A06,    144,   1,-999.0,       4,  2,19930219,1849,   7.5017,  -41.3350,  4652, 4395.300,    1.707,   34.828,2,   34.826,2,  246.600,2,  246.600,2,   67.290,2,   23.000,2,    0.000,2,    1.610,2,    0.026,2,    0.013,2, -999.000,9, -999.000,3, -999.000,3
           NA,     A06,    144,   1,-999.0,       3,  2,19930219,1849,   7.5017,  -41.3350,  4652, 4493.700,    1.629,   34.816,2,   34.817,2,  243.300,2,  243.400,2,   71.690,2,   23.490,2,    0.000,2,    1.670,2,    0.026,2,    0.013,2, -999.000,9, 2218.500,2, 2363.800,2
           NA,     A06,    144,   1,-999.0,       2,  2,19930219,1849,   7.5017,  -41.3350,  4652, 4595.200,    1.554,   34.806,2,   34.806,2,  240.500,2,  240.200,2,   76.310,2,   24.230,2,    0.000,2,    1.720,2,    0.037,2,    0.012,2, -999.000,9, -999.000,3, -999.000,3
           NA,     A06,    144,   1,-999.0,       1,  2,19930219,1849,   7.5017,  -41.3350,  4652, 4681.100,    1.558,   34.805,2,   34.805,2,  238.400,2,  241.900,2,   76.580,2,   24.230,2,    0.020,2,    1.750,2,    0.018,2,    0.005,2, -999.000,9, -999.000,3, -999.000,3
           NA,     A06,    145,   1,-999.0,      32,  2,19930220,0234,   7.5042,  -40.6267,  4457,    2.000,   24.997,   36.323,2,   36.325,2,  205.200,2,  206.100,2,    0.940,2,    0.090,2,    0.000,2,    0.000,2,    1.897,2,    1.016,2, -999.000,9, -999.000,9, -999.000,9
           NA,     A06,    145,   1,-999.0,      31,  2,19930220,0234,   7.5042,  -40.6267,  4457,   44.200,   24.251,   36.328,2, -999.000,3,  204.300,2, -999.000,3,    1.250,2,    1.040,2,    0.060,2,    0.070,2,    1.836,2,    0.979,2, -999.000,9, -999.000,9, -999.000,9
           NA,     A06,    145,   1,-999.0,      30,  2,19930220,0234,   7.5042,  -40.6267,  4457,  119.200,   11.560,   35.162,2,   35.162,2,  121.900,2,  117.700,2,    9.970,2,   24.240,2,    0.000,2,    1.470,2,    0.880,2,    0.441,2, -999.000,9, -999.000,9, -999.000,9
           NA,     A06,    145,   1,-999.0,      29,  2,19930220,0234,   7.5042,  -40.6267,  4457,  192.600,   10.027,   34.967,2,   34.963,2,  115.400,2,  115.600,2,   12.420,2,   27.270,2,    0.000,2,    1.690,2,    0.595,2,    0.307,2, -999.000,9, -999.000,9, -999.000,9
           NA,     A06,    145,   1,-999.0,      28,  2,19930220,0234,   7.5042,  -40.6267,  4457,  391.900,    8.052,   34.758,2,   34.756,2,  110.900,2,  112.700,2,   17.370,2,   32.500,2,    0.000,2,    1.990,2,    0.244,2,    0.117,2, -999.000,9, -999.000,9, -999.000,9
           NA,     A06,    145,   1,-999.0,      27,  2,19930220,0234,   7.5042,  -40.6267,  4457,  592.200,    6.642,   34.668,2,   34.667,2,  113.300,2,  111.300,2,   22.440,2,   35.100,2,    0.000,2,    2.200,2,    0.068,2,    0.026,2, -999.000,9, -999.000,9, -999.000,9
           NA,     A06,    145,   1,-999.0,      26,  2,19930220,0234,   7.5042,  -40.6267,  4457,  792.200,    5.609,   34.637,2,   34.637,2,  125.600,2,  124.000,2,   26.990,2,   35.480,2,    0.000,2,    2.260,2,    0.016,2,    0.008,2, -999.000,9, -999.000,9, -999.000,9
           NA,     A06,    145,   1,-999.0,      25,  2,19930220,0234,   7.5042,  -40.6267,  4457,  992.400,    4.977,   34.685,2,   34.686,2,  144.400,2,  142.700,2,   28.560,2,   33.650,2,    0.000,2,    2.170,2,    0.004,2,    0.005,2, -999.000,9, -999.000,9, -999.000,9
           NA,     A06,    145,   1,-999.0,      24,  2,19930220,0234,   7.5042,  -40.6267,  4457, 1192.400,    4.739,   34.824,2,   34.821,2,  168.700,2,  169.200,2,   25.150,2,   29.450,2,    0.000,2,    1.890,2,    0.009,2,    0.003,2, -999.000,9, -999.000,9, -999.000,9
           NA,     A06,    145,   1,-999.0,      23,  2,19930220,0234,   7.5042,  -40.6267,  4457, 1393.100,    4.638,   34.918,2,   34.919,2,  199.900,2,  196.500,2,   21.080,2,   25.320,2,    0.000,2,    1.630,2,    0.033,2,    0.013,2, -999.000,9, -999.000,9, -999.000,9
           NA,     A06,    145,   1,-999.0,      22,  2,19930220,0234,   7.5042,  -40.6267,  4457, 1492.500,    4.555,   34.977,2, -999.000,3,  224.500,2,  220.300,2,   17.590,2,   22.040,2,    0.000,2,    1.430,2,    0.091,2,    0.043,2, -999.000,9, -999.000,9, -999.000,9
           NA,     A06,    145,   1,-999.0,      21,  2,19930220,0234,   7.5042,  -40.6267,  4457, 1593.300,    4.397,   34.995,2,   34.996,2,  239.000,2,  234.500,2,   15.990,2,   20.360,2,    0.000,2,    1.310,2,    0.116,2,    0.059,2, -999.000,9, -999.000,9, -999.000,9
           NA,     A06,    145,   1,-999.0,      20,  2,19930220,0234,   7.5042,  -40.6267,  4457, 1593.300,    4.398,   34.996,2,   34.997,2,  239.000,2,  234.900,2,   15.950,2,   20.320,2,    0.000,2,    1.310,2,    0.111,2,    0.054,2, -999.000,9, -999.000,9, -999.000,9
           NA,     A06,    145,   1,-999.0,      19,  2,19930220,0234,   7.5042,  -40.6267,  4457, 1694.000,    4.201,   34.997,2,   34.998,2,  246.700,2,  244.800,2,   15.510,2,   19.430,2,    0.010,2,    1.260,2,    0.110,2,    0.052,2, -999.000,9, -999.000,9, -999.000,9
           NA,     A06,    145,   1,-999.0,      18,  2,19930220,0234,   7.5042,  -40.6267,  4457, 1793.900,    4.007,   34.988,2,   34.991,2,  249.500,2,  245.700,2,   16.280,2,   19.420,2,    0.000,2,    1.270,2,    0.075,2,    0.036,2, -999.000,9, -999.000,9, -999.000,9
           NA,     A06,    145,   1,-999.0,      17,  2,19930220,0234,   7.5042,  -40.6267,  4457, 1893.700,    3.843,   34.987,2,   34.987,2,  255.300,2,  252.100,2,   16.250,2,   18.740,2,    0.000,2,    1.230,2,    0.070,2,    0.036,2, -999.000,9, -999.000,9, -999.000,9
           NA,     A06,    145,   1,-999.0,      16,  2,19930220,0234,   7.5042,  -40.6267,  4457, 1994.400,    3.725,   34.983,2,   34.987,2,  257.100,2,  253.800,2,   16.970,2,   18.440,2,    0.000,2,    1.220,2,    0.057,2,    0.030,2, -999.000,9, -999.000,9, -999.000,9
           NA,     A06,    145,   1,-999.0,      15,  2,19930220,0234,   7.5042,  -40.6267,  4457, 2193.600,    3.386,   34.967,2,   34.969,2,  256.500,2,  254.400,2,   20.450,2,   18.780,2,    0.000,2,    1.250,2,    0.032,2,    0.011,2, -999.000,9, -999.000,9, -999.000,9
           NA,     A06,    145,   1,-999.0,      14,  2,19930220,0234,   7.5042,  -40.6267,  4457, 2394.100,    3.155,   34.953,2,   34.954,2,  254.900,2,  253.600,2,   24.030,2,   19.270,2,    0.000,2,    1.280,2,    0.016,2,    0.004,2, -999.000,9, -999.000,9, -999.000,9
           NA,     A06,    145,   1,-999.0,      13,  2,19930220,0234,   7.5042,  -40.6267,  4457, 2494.300,    3.126,   34.957,2,   34.957,2,  259.100,2,  258.300,2,   22.050,2,   18.350,2,    0.000,2,    1.240,2,    0.041,2,    0.019,2, -999.000,9, -999.000,9, -999.000,9
           NA,     A06,    145,   1,-999.0,      12,  2,19930220,0234,   7.5042,  -40.6267,  4457, 2695.700,    2.962,   34.946,2,   34.946,2,  258.100,2,  257.300,2,   25.080,2,   18.610,2,    0.000,2,    1.260,2,    0.043,2,    0.014,2, -999.000,9, -999.000,9, -999.000,9
           NA,     A06,    145,   1,-999.0,      11,  2,19930220,0234,   7.5042,  -40.6267,  4457, 2994.800,    2.763,   34.933,2,   34.932,2,  257.300,2,  256.600,2,   29.400,2,   18.940,2,    0.000,2,    1.290,2,    0.020,2,    0.006,2, -999.000,9, -999.000,9, -999.000,9
           NA,     A06,    145,   1,-999.0,      10,  2,19930220,0234,   7.5042,  -40.6267,  4457, 3194.200,    2.647,   34.926,2,   34.921,2,  257.900,2,  258.500,2,   30.060,2,   18.630,2,    0.000,2,    1.280,2,    0.052,2,    0.023,2, -999.000,9, -999.000,9, -999.000,9
           NA,     A06,    145,   1,-999.0,       9,  2,19930220,0234,   7.5042,  -40.6267,  4457, 3393.700,    2.519,   34.916,2,   34.913,2,  259.800,2,  259.700,2,   31.260,2,   18.600,2,    0.000,2,    1.270,2,    0.055,2,    0.022,2, -999.000,9, -999.000,9, -999.000,9
           NA,     A06,    145,   1,-999.0,       8,  2,19930220,0234,   7.5042,  -40.6267,  4457, 3594.700,    2.402,   34.908,2,   34.903,2,  260.800,2,  261.000,2,   32.740,2,   18.630,2,    0.000,2,    1.280,2,    0.051,2,    0.022,2, -999.000,9, -999.000,9, -999.000,9
           NA,     A06,    145,   1,-999.0,       7,  2,19930220,0234,   7.5042,  -40.6267,  4457, 3795.500,    2.311,   34.900,2,   34.896,2,  261.800,2,  260.500,2,   36.070,2,   18.690,2,    0.010,2,    1.310,2,    0.052,2,    0.025,2, -999.000,9, -999.000,9, -999.000,9
           NA,     A06,    145,   1,-999.0,       6,  2,19930220,0234,   7.5042,  -40.6267,  4457, 3894.300,    2.288,   34.897,2,   34.895,2,  261.400,2,  260.200,2,   37.070,2,   19.020,2,    0.000,2,    1.320,2,    0.043,2,    0.024,2, -999.000,9, -999.000,9, -999.000,9
           NA,     A06,    145,   1,-999.0,       5,  2,19930220,0234,   7.5042,  -40.6267,  4457, 3994.500,    2.229,   34.890,2,   34.888,2,  260.100,2,  258.900,2,   39.800,2,   19.320,2,    0.000,2,    1.340,2,    0.041,2,    0.018,2, -999.000,9, -999.000,9, -999.000,9
           NA,     A06,    145,   1,-999.0,       4,  2,19930220,0234,   7.5042,  -40.6267,  4457, 4095.100,    2.155,   34.882,2,   34.880,2,  258.200,2,  256.800,2,   43.570,2,   19.690,2,    0.000,2,    1.380,2,    0.046,2,    0.023,2, -999.000,9, -999.000,9, -999.000,9
           NA,     A06,    145,   1,-999.0,       3,  2,19930220,0234,   7.5042,  -40.6267,  4457, 4193.800,    2.081,   34.871,2,   34.871,2,  255.800,2,  254.400,2,   48.100,2,   20.290,2,    0.040,2,    1.420,2,    0.043,2,    0.018,2, -999.000,9, -999.000,9, -999.000,9
           NA,     A06,    145,   1,-999.0,       2,  2,19930220,0234,   7.5042,  -40.6267,  4457, 4393.500,    1.749,   34.830,2,   34.834,2,  247.600,2,  245.600,2,   65.040,2,   23.090,2,    0.000,2,    1.620,2,    0.047,2,    0.020,2, -999.000,9, -999.000,9, -999.000,9
           NA,     A06,    145,   1,-999.0,       1,  2,19930220,0234,   7.5042,  -40.6267,  4457, 4476.700,    1.704,   34.825,2,   34.826,2,  242.400,2,  243.900,2,   68.370,2,   23.530,2,    0.000,2,    1.650,2,    0.031,2,    0.013,2, -999.000,9, -999.000,9, -999.000,9