BOTTLE,20205402JOAExport
EXPOCODE,SECT_ID,STNNBR,CASTNO,SAMPNO,BTLNBR,BTLNBR_FLAG_W,DATE,TIME,LATITUDE,LONGITUDE,DEPTH,CTDPRS,CTDTMP,CTDSAL,CTDSAL_FLAG_W,SALNTY,SALNTY_FLAG_W,CTDOXY,CTDOXY_FLAG_W,OXYGEN,OXYGEN_FLAG_W,SILCAT,SILCAT_FLAG_W,NITRAT,NITRAT_FLAG_W,NITRIT,NITRIT_FLAG_W,PHSPHT,PHSPHT_FLAG_W,CFC-11,CFC-11_FLAG_W,CFC-12,CFC-12_FLAG_W,SF6,SF6_FLAG_W,TCARBN,TCARBN_FLAG_W,ALKALI,ALKALI_FLAG_W
,,,,,,,,,,,,,DB,DEG C,PSS-78,,PSS-78,,UMOL/KG,,UMOL/KG,,UMOL/KG,,UMOL/KG,,UMOL/KG,,UMOL/KG,,PMOL/KG,,PMOL/KG,,FMOL/KG,,UMOL/KG,,UMOL/KG
           NA,     A06,    191,   1,-999.0,      31,  2,19930303,1615,   7.5838,  -16.6673,  4767,    1.600,   27.453,   35.411,2, -999.000,3,  194.700,2,  201.100,2,    1.960,2,    0.050,2,    0.010,2,    0.000,2, -999.000,9, -999.000,9, -999.000,9, -999.000,9, -999.000,9
           NA,     A06,    191,   1,-999.0,      32,  2,19930303,1615,   7.5838,  -16.6673,  4767,    2.100,   27.453,   35.413,2, -999.000,3,  194.700,2, -999.000,3,    1.990,2,    0.050,2,    0.000,2,    0.000,2, -999.000,9, -999.000,9, -999.000,9, -999.000,9, -999.000,9
           NA,     A06,    191,   1,-999.0,      30,  2,19930303,1615,   7.5838,  -16.6673,  4767,   15.200,   27.438,   35.414,2, -999.000,3,  201.600,2,  200.800,2,    2.000,2,    0.050,2,    0.000,2,    0.000,2, -999.000,9, -999.000,9, -999.000,9, -999.000,9, -999.000,9
           NA,     A06,    191,   1,-999.0,      29,  2,19930303,1615,   7.5838,  -16.6673,  4767,   44.100,   17.228,   35.678,2, -999.000,3,  144.600,2, -999.000,3,    5.980,2,   18.450,2,    0.210,2,    1.130,2, -999.000,9, -999.000,9, -999.000,9, -999.000,9, -999.000,9
           NA,     A06,    191,   1,-999.0,      28,  2,19930303,1615,   7.5838,  -16.6673,  4767,   93.800,   14.671,   35.489,2,   35.485,2,   69.100,2,   68.300,2,    8.620,2,   25.450,2,    0.020,2,    1.570,2, -999.000,9, -999.000,9, -999.000,9, -999.000,9, -999.000,9
           NA,     A06,    191,   1,-999.0,      27,  2,19930303,1615,   7.5838,  -16.6673,  4767,  193.500,   12.952,   35.297,2,   35.293,2,   74.300,2, -999.000,3,   10.120,2,   26.530,2,    0.010,2,    1.630,2, -999.000,9, -999.000,9, -999.000,9, -999.000,9, -999.000,9
           NA,     A06,    191,   1,-999.0,      26,  2,19930303,1615,   7.5838,  -16.6673,  4767,  292.800,   11.440,   35.150,2,   35.149,2,   83.100,2, -999.000,3,   12.270,2,   29.620,2,    0.010,2,    1.790,2, -999.000,9, -999.000,9, -999.000,9, -999.000,9, -999.000,9
           NA,     A06,    191,   1,-999.0,      25,  2,19930303,1615,   7.5838,  -16.6673,  4767,  393.400,   10.221,   35.087,2,   35.082,2,   49.400,2,   48.500,2,   15.420,2,   35.190,2,    0.010,2,    2.050,2, -999.000,9, -999.000,9, -999.000,9, -999.000,9, -999.000,9
           NA,     A06,    191,   1,-999.0,      24,  2,19930303,1615,   7.5838,  -16.6673,  4767,  592.900,    7.125,   34.755,2,   34.756,2,   72.600,2,   73.700,2,   22.690,2,   39.280,2,    0.010,2,    2.360,2, -999.000,9, -999.000,9, -999.000,9, -999.000,9, -999.000,9
           NA,     A06,    191,   1,-999.0,      23,  2,19930303,1615,   7.5838,  -16.6673,  4767,  792.800,    5.714,   34.691,2, -999.000,3,  103.500,2,  103.900,2,   27.690,2,   37.760,2,    0.010,2,    2.370,2, -999.000,9, -999.000,9, -999.000,9, -999.000,9, -999.000,9
           NA,     A06,    191,   1,-999.0,      22,  2,19930303,1615,   7.5838,  -16.6673,  4767,  991.700,    5.073,   34.751,2,   34.748,2,  134.300,2,  133.400,2,   28.400,2,   34.140,2,    0.010,2,    2.190,2, -999.000,9, -999.000,9, -999.000,9, -999.000,9, -999.000,9
           NA,     A06,    191,   1,-999.0,      21,  2,19930303,1615,   7.5838,  -16.6673,  4767, 1191.900,    4.616,   34.841,2,   34.843,2,  169.000,2,  166.500,2,   26.350,2,   29.920,2,    0.010,2,    1.930,2, -999.000,9, -999.000,9, -999.000,9, -999.000,9, -999.000,9
           NA,     A06,    191,   1,-999.0,      20,  2,19930303,1615,   7.5838,  -16.6673,  4767, 1392.200,    4.220,   34.918,2,   34.917,2,  198.800,2,  199.400,2,   24.000,2,   25.210,2,    0.010,2,    1.660,2, -999.000,9, -999.000,9, -999.000,9, -999.000,9, -999.000,9
           NA,     A06,    191,   1,-999.0,      19,  2,19930303,1615,   7.5838,  -16.6673,  4767, 1492.500,    4.085,   34.939,2,   34.940,2,  212.300,2,  212.700,2,   22.760,2,   23.650,2,    0.010,2,    1.540,2, -999.000,9, -999.000,9, -999.000,9, -999.000,9, -999.000,9
           NA,     A06,    191,   1,-999.0,      18,  2,19930303,1615,   7.5838,  -16.6673,  4767, 1592.500,    3.946,   34.947,2,   34.947,2,  220.600,2,  219.800,2,   22.800,2,   22.910,2,    0.010,2,    1.500,2, -999.000,9, -999.000,9, -999.000,9, -999.000,9, -999.000,9
           NA,     A06,    191,   1,-999.0,      17,  2,19930303,1615,   7.5838,  -16.6673,  4767, 1693.200,    3.799,   34.951,2,   34.952,2,  225.800,2,  226.200,2,   23.100,2,   22.220,2,    0.010,2,    1.470,2, -999.000,9, -999.000,9, -999.000,9, -999.000,9, -999.000,9
           NA,     A06,    191,   1,-999.0,      16,  2,19930303,1615,   7.5838,  -16.6673,  4767, 1792.900,    3.676,   34.951,2,   34.952,2,  231.100,2,  230.400,2,   23.610,2,   22.200,2,    0.010,2,    1.430,2, -999.000,9, -999.000,9, -999.000,9, -999.000,9, -999.000,9
           NA,     A06,    191,   1,-999.0,      15,  2,19930303,1615,   7.5838,  -16.6673,  4767, 1993.100,    3.472,   34.953,2,   34.951,2,  238.000,2,  237.800,2,   24.650,2,   21.340,2,    0.010,2,    1.390,2, -999.000,9, -999.000,9, -999.000,9, -999.000,9, -999.000,9
           NA,     A06,    191,   1,-999.0,      14,  2,19930303,1615,   7.5838,  -16.6673,  4767, 2193.100,    3.276,   34.947,2,   34.947,2,  240.000,2,  239.300,2,   27.190,2,   21.080,2,    0.010,2,    1.390,2, -999.000,9, -999.000,9, -999.000,9, -999.000,9, -999.000,9
           NA,     A06,    191,   1,-999.0,      13,  2,19930303,1615,   7.5838,  -16.6673,  4767, 2393.900,    3.081,   34.941,2,   34.940,2,  240.500,2,  240.400,2,   30.170,2,   21.160,2,    0.020,2,    1.400,2, -999.000,9, -999.000,9, -999.000,9, -999.000,9, -999.000,9
           NA,     A06,    191,   1,-999.0,      12,  2,19930303,1615,   7.5838,  -16.6673,  4767, 2594.700,    2.936,   34.936,2,   34.938,2,  242.000,2,  242.300,2,   32.530,2,   20.970,2,    0.010,2,    1.400,2, -999.000,9, -999.000,9, -999.000,9, -999.000,9, -999.000,9
           NA,     A06,    191,   1,-999.0,      11,  2,19930303,1615,   7.5838,  -16.6673,  4767, 2793.400,    2.814,   34.929,2,   34.928,2,  242.900,2,  243.300,2,   34.380,2,   21.250,2,    0.010,2,    1.400,2, -999.000,9, -999.000,9, -999.000,9, -999.000,9, -999.000,9
           NA,     A06,    191,   1,-999.0,      10,  2,19930303,1615,   7.5838,  -16.6673,  4767, 2995.100,    2.709,   34.922,2,   34.916,2,  242.500,2,  242.800,2,   37.010,2,   21.410,2,    0.010,2,    1.420,2, -999.000,9, -999.000,9, -999.000,9, -999.000,9, -999.000,9
           NA,     A06,    191,   1,-999.0,       9,  2,19930303,1615,   7.5838,  -16.6673,  4767, 3194.300,    2.606,   34.914,2,   34.912,2,  241.600,2,  242.300,2,   39.650,2,   21.700,2,    0.010,2,    1.440,2, -999.000,9, -999.000,9, -999.000,9, -999.000,9, -999.000,9
           NA,     A06,    191,   1,-999.0,       8,  2,19930303,1615,   7.5838,  -16.6673,  4767, 3394.700,    2.529,   34.908,2,   34.908,2,  241.200,2,  241.300,2,   41.870,2,   21.920,2,    0.020,2,    1.450,2, -999.000,9, -999.000,9, -999.000,9, -999.000,9, -999.000,9
           NA,     A06,    191,   1,-999.0,       7,  2,19930303,1615,   7.5838,  -16.6673,  4767, 3593.300,    2.474,   34.903,2,   34.902,2,  240.600,2,  240.800,2,   43.720,2,   22.020,2,    0.020,2,    1.460,2, -999.000,9, -999.000,9, -999.000,9, -999.000,9, -999.000,9
           NA,     A06,    191,   1,-999.0,       6,  2,19930303,1615,   7.5838,  -16.6673,  4767, 3794.800,    2.432,   34.898,2,   34.898,2,  241.300,2,  241.600,2,   45.420,2,   21.980,2,    0.020,2,    1.470,2, -999.000,9, -999.000,9, -999.000,9, -999.000,9, -999.000,9
           NA,     A06,    191,   1,-999.0,       5,  2,19930303,1615,   7.5838,  -16.6673,  4767, 3994.500,    2.380,   34.892,2,   34.892,2,  240.500,2,  241.700,2,   47.260,2,   22.420,2,    0.020,2,    1.480,2, -999.000,9, -999.000,9, -999.000,9, -999.000,9, -999.000,9
           NA,     A06,    191,   1,-999.0,       4,  2,19930303,1615,   7.5838,  -16.6673,  4767, 4194.500,    2.340,   34.888,2,   34.886,2,  240.100,2,  240.100,2,   48.840,2,   22.720,2,    0.020,2,    1.500,2, -999.000,9, -999.000,9, -999.000,9, -999.000,9, -999.000,9
           NA,     A06,    191,   1,-999.0,       3,  2,19930303,1615,   7.5838,  -16.6673,  4767, 4394.100,    2.296,   34.881,2,   34.881,2,  238.700,2,  238.000,2,   52.080,2,   22.810,2,    0.020,2,    1.510,2, -999.000,9, -999.000,9, -999.000,9, -999.000,9, -999.000,9
           NA,     A06,    191,   1,-999.0,       2,  2,19930303,1615,   7.5838,  -16.6673,  4767, 4594.400,    2.267,   34.875,2,   34.875,2,  238.500,2,  236.800,2,   53.930,2,   23.230,2,    0.020,2,    1.530,2, -999.000,9, -999.000,9, -999.000,9, -999.000,9, -999.000,9
           NA,     A06,    191,   1,-999.0,       1,  2,19930303,1615,   7.5838,  -16.6673,  4767, 4784.500,    2.256,   34.871,2,   34.870,2,  236.800,2,  237.900,2,   54.240,2,   23.440,2,    0.020,2,    1.530,2, -999.000,9, -999.000,9, -999.000,9, -999.000,9, -999.000,9
           NA,     A06,    192,   1,-999.0,      32,  2,19930303,2134,   7.7010,  -16.3147,  4633,    2.000,   27.565,   35.372,2,   35.373,2,  200.900,2,  200.100,2,    2.010,2,    0.040,2,    0.000,2,    0.000,2,    1.773,2,    0.969,2, -999.000,9, -999.000,3, -999.000,3
           NA,     A06,    192,   1,-999.0,      31,  2,19930303,2134,   7.7010,  -16.3147,  4633,   24.600,   26.084,   35.846,2, -999.000,3,  209.200,2, -999.000,3,    2.140,2,    0.140,2,    0.000,2,    0.000,2,    1.679,2,    0.882,2, -999.000,9, 2027.200,2, 2378.700,2
           NA,     A06,    192,   1,-999.0,      30,  2,19930303,2134,   7.7010,  -16.3147,  4633,   44.400,   18.290,   35.731,2, -999.000,3,  150.700,2, -999.000,3,    5.200,2,   13.980,2,    0.470,2,    0.950,2,    1.295,2,    0.653,2, -999.000,9, 2180.200,2, 2368.700,2
           NA,     A06,    192,   1,-999.0,      29,  2,19930303,2134,   7.7010,  -16.3147,  4633,   69.600,   16.072,   35.616,2,   35.614,2,   73.400,2,   70.400,2,    7.390,2,   22.810,2,    0.080,2,    1.440,2,    1.203,2,    0.602,2, -999.000,9, 2214.100,2, 2363.400,2
           NA,     A06,    192,   1,-999.0,      28,  2,19930303,2134,   7.7010,  -16.3147,  4633,   94.000,   15.312,   35.556,2,   35.553,2,   66.000,2,   66.700,2,    8.020,2,   24.140,2,    0.020,2,    1.510,2,    1.103,2,    0.549,2, -999.000,9, 2218.900,2, 2356.600,2
           NA,     A06,    192,   1,-999.0,      27,  2,19930303,2134,   7.7010,  -16.3147,  4633,  193.900,   13.152,   35.323,2, -999.000,3,   84.500,2,   84.300,2,    9.820,2,   24.960,2,    0.000,2,    1.560,2,    0.826,2,    0.395,2, -999.000,9, 2226.200,2, 2359.300,2
           NA,     A06,    192,   1,-999.0,      26,  2,19930303,2134,   7.7010,  -16.3147,  4633,  393.200,   10.112,   35.076,2,   35.071,2,   48.100,2,   48.100,2,   16.050,2,   34.710,2,    0.000,2,    2.060,2,    0.209,2,    0.096,2, -999.000,9, 2257.800,2, 2330.700,2
           NA,     A06,    192,   1,-999.0,      25,  2,19930303,2134,   7.7010,  -16.3147,  4633,  593.000,    6.989,   34.739,2,   34.739,2,   74.200,2,   76.300,2,   23.940,2,   38.360,2,    0.000,2,    2.380,2,    0.015,2,    0.007,2, -999.000,9, 2254.300,2, 2320.900,2
           NA,     A06,    192,   1,-999.0,      24,  2,19930303,2134,   7.7010,  -16.3147,  4633,  792.900,    5.564,   34.667,2,   34.667,2,  108.700,2,  108.600,2,   28.750,2,   36.900,2,    0.000,2,    2.370,2,   -0.001,2,    0.000,2, -999.000,9, 2251.900,2, 2328.800,2
           NA,     A06,    192,   1,-999.0,      23,  2,19930303,2134,   7.7010,  -16.3147,  4633,  992.600,    4.901,   34.725,2,   34.727,2,  139.000,2,  140.300,2,   29.290,2,   33.300,2,    0.000,2,    2.190,2,   -0.003,2,    0.000,2, -999.000,9, 2251.900,2, 2345.600,2
           NA,     A06,    192,   1,-999.0,      21,  2,19930303,2134,   7.7010,  -16.3147,  4633, 1192.100,    4.623,   34.850,2,   34.852,2,  166.900,2,  169.100,2,   26.370,2,   28.690,2,    0.000,2,    1.900,2,    0.000,2,   -0.001,2, -999.000,9, 2228.700,2, 2344.000,2
           NA,     A06,    192,   1,-999.0,      22,  2,19930303,2134,   7.7010,  -16.3147,  4633, 1192.300,    4.624,   34.850,2,   34.851,2,  166.900,2,  168.900,2,   26.410,2,   28.830,2,    0.000,2,    1.920,2,    0.000,2,    0.000,2, -999.000,9, 2228.500,2, 2342.100,2
           NA,     A06,    192,   1,-999.0,      20,  2,19930303,2134,   7.7010,  -16.3147,  4633, 1393.300,    4.283,   34.912,2,   34.914,2,  196.900,2,  195.400,2,   24.360,2,   25.200,2,    0.000,2,    1.690,2,   -0.002,2,   -0.001,2, -999.000,9, 2205.800,2, 2335.900,2
           NA,     A06,    192,   1,-999.0,      19,  2,19930303,2134,   7.7010,  -16.3147,  4633, 1493.600,    4.095,   34.931,2,   34.932,2,  209.500,2,  208.900,2,   23.670,2,   23.590,2,    0.000,2,    1.580,2,   -0.002,2,   -0.002,2, -999.000,9, 2206.400,2, 2338.700,2
           NA,     A06,    192,   1,-999.0,      18,  2,19930303,2134,   7.7010,  -16.3147,  4633, 1592.800,    3.961,   34.941,2,   34.943,2,  217.400,2,  217.200,2,   23.380,2,   22.440,2,    0.000,2,    1.520,2,    0.002,2,    0.000,2, -999.000,9, 2201.800,2, 2346.100,2
           NA,     A06,    192,   1,-999.0,      17,  2,19930303,2134,   7.7010,  -16.3147,  4633, 1693.400,    3.834,   34.947,2,   34.947,2,  225.100,2,  225.800,2,   23.470,2,   21.730,2,    0.000,2,    1.490,2,    0.001,2,   -0.001,2, -999.000,9, 2205.500,2, 2353.100,2
           NA,     A06,    192,   1,-999.0,      16,  2,19930303,2134,   7.7010,  -16.3147,  4633, 1793.700,    3.708,   34.951,2,   34.952,2,  230.600,2,  229.800,2,   23.730,2,   21.140,2,    0.000,2,    1.450,2,   -0.002,2,   -0.001,2, -999.000,9, 2201.700,2, 2351.800,2
           NA,     A06,    192,   1,-999.0,      15,  2,19930303,2134,   7.7010,  -16.3147,  4633, 1992.900,    3.467,   34.949,2,   34.947,2,  236.000,2,  235.000,2,   25.610,2,   20.690,2,    0.000,2,    1.420,2,    0.000,2,    0.001,2, -999.000,9, 2193.400,2, 2348.100,2
           NA,     A06,    192,   1,-999.0,      14,  2,19930303,2134,   7.7010,  -16.3147,  4633, 2193.900,    3.278,   34.947,2,   34.947,2,  240.300,2,  239.400,2,   27.310,2,   20.270,2,    0.000,2,    1.400,2,   -0.002,2,   -0.001,2, -999.000,9, 2204.800,2, 2361.800,2
           NA,     A06,    192,   1,-999.0,      13,  2,19930303,2134,   7.7010,  -16.3147,  4633, 2394.200,    3.066,   34.940,2,   34.941,2,  241.300,2,  240.500,2,   30.540,2,   20.280,2,    0.000,2,    1.400,2,   -0.004,2,   -0.002,2, -999.000,9, 2221.900,2, 2380.600,2
           NA,     A06,    192,   1,-999.0,      12,  2,19930303,2134,   7.7010,  -16.3147,  4633, 2595.300,    2.904,   34.933,2,   34.933,2,  242.400,2,  242.000,2,   33.130,2,   20.310,2,    0.000,2,    1.400,2,    0.001,2,   -0.001,2, -999.000,9, 2219.200,2, 2378.200,2
           NA,     A06,    192,   1,-999.0,      11,  2,19930303,2134,   7.7010,  -16.3147,  4633, 2794.900,    2.799,   34.928,2,   34.928,2,  242.100,2,  241.800,2,   35.470,2,   20.490,2,    0.000,2,    1.410,2,    0.001,2,   -0.001,2, -999.000,9, 2213.600,2, 2368.700,2
           NA,     A06,    192,   1,-999.0,      10,  2,19930303,2134,   7.7010,  -16.3147,  4633, 2996.000,    2.707,   34.921,2,   34.922,2,  242.500,2,  243.800,2,   37.290,2,   20.550,2,    0.000,2,    1.420,2,    0.001,2,   -0.001,2, -999.000,9, 2220.400,2, 2379.300,2
           NA,     A06,    192,   1,-999.0,       9,  2,19930303,2134,   7.7010,  -16.3147,  4633, 3195.400,    2.613,   34.915,2,   34.911,2,  242.900,2,  242.700,2,   39.420,2,   20.630,2,    0.000,2,    1.430,2,    0.000,2,    0.001,2, -999.000,9, 2224.900,2, 2384.100,2
           NA,     A06,    192,   1,-999.0,       8,  2,19930303,2134,   7.7010,  -16.3147,  4633, 3394.600,    2.542,   34.908,2,   34.909,2,  242.700,2,  242.800,2,   41.330,2,   20.800,2,    0.000,2,    1.440,2,    0.001,2,   -0.001,2, -999.000,9, -999.000,3, -999.000,3
           NA,     A06,    192,   1,-999.0,       7,  2,19930303,2134,   7.7010,  -16.3147,  4633, 3594.300,    2.486,   34.904,2, -999.000,3,  242.200,2,  242.400,2,   43.030,2,   20.900,2,    0.000,2,    1.450,2,    0.003,2,    0.000,2, -999.000,9, -999.000,3, -999.000,3
           NA,     A06,    192,   1,-999.0,       6,  2,19930303,2134,   7.7010,  -16.3147,  4633, 3793.600,    2.432,   34.898,2,   34.900,2,  241.300,2,  241.100,2,   45.240,2,   21.190,2,    0.000,2,    1.470,2,    0.007,2,    0.003,2, -999.000,9, -999.000,3, -999.000,3
           NA,     A06,    192,   1,-999.0,       5,  2,19930303,2134,   7.7010,  -16.3147,  4633, 3994.700,    2.377,   34.892,2,   34.894,2,  241.000,2,  241.000,2,   47.340,2,   21.240,2,    0.000,2,    1.490,2,    0.002,2,    0.004,2, -999.000,9, -999.000,3, -999.000,3
           NA,     A06,    192,   1,-999.0,       4,  2,19930303,2134,   7.7010,  -16.3147,  4633, 4193.700,    2.333,   34.886,2,   34.888,2,  240.200,2,  239.800,2,   49.610,2,   21.610,2,    0.000,2,    1.490,2,    0.002,2,    0.004,2, -999.000,9, -999.000,3, -999.000,3
           NA,     A06,    192,   1,-999.0,       3,  2,19930303,2134,   7.7010,  -16.3147,  4633, 4394.900,    2.284,   34.880,2,   34.880,2,  239.800,2,  238.700,2,   51.730,2,   21.980,2,    0.000,2,    1.520,2,   -0.002,2,    0.003,2, -999.000,9, -999.000,3, -999.000,3
           NA,     A06,    192,   1,-999.0,       1,  2,19930303,2134,   7.7010,  -16.3147,  4633, 4666.700,    2.239,   34.871,2,   34.874,2,  237.400,2,  237.500,2,   54.370,2,   22.320,2,    0.000,2,    1.540,2,    0.006,2,    0.002,2, -999.000,9, -999.000,3, -999.000,3
           NA,     A06,    192,   1,-999.0,       2,  2,19930303,2134,   7.7010,  -16.3147,  4633, 4666.700,    2.239,   34.871,2,   34.873,2,  237.400,2,  238.000,2,   54.350,2,   22.350,2,    0.000,2,    1.530,2,    0.007,2,    0.002,2, -999.000,9, -999.000,3, -999.000,3