BOTTLE,20205402JOAExport
EXPOCODE,SECT_ID,STNNBR,CASTNO,SAMPNO,BTLNBR,BTLNBR_FLAG_W,DATE,TIME,LATITUDE,LONGITUDE,DEPTH,CTDPRS,CTDTMP,CTDSAL,CTDSAL_FLAG_W,SALNTY,SALNTY_FLAG_W,CTDOXY,CTDOXY_FLAG_W,OXYGEN,OXYGEN_FLAG_W,SILCAT,SILCAT_FLAG_W,NITRAT,NITRAT_FLAG_W,NITRIT,NITRIT_FLAG_W,PHSPHT,PHSPHT_FLAG_W,CFC-11,CFC-11_FLAG_W,CFC-12,CFC-12_FLAG_W,SF6,SF6_FLAG_W,TCARBN,TCARBN_FLAG_W,ALKALI,ALKALI_FLAG_W
,,,,,,,,,,,,,DB,DEG C,PSS-78,,PSS-78,,UMOL/KG,,UMOL/KG,,UMOL/KG,,UMOL/KG,,UMOL/KG,,UMOL/KG,,PMOL/KG,,PMOL/KG,,FMOL/KG,,UMOL/KG,,UMOL/KG
           NA,     A06,    146,   1,-999.0,      32,  2,19930220,0933,   7.4675,  -40.0030,  4880,    3.200,   25.897,   36.152,2,   36.153,2,  191.200,2, -999.000,3,    1.700,2,    0.130,2,    0.000,2,    0.010,2,    1.835,2,    1.028,2, -999.000,9, -999.000,3, -999.000,3
           NA,     A06,    146,   1,-999.0,      31,  2,19930220,0933,   7.4675,  -40.0030,  4880,   69.100,   21.275,   36.135,2, -999.000,3,  152.200,2, -999.000,3,    3.440,2,    7.320,2,    0.190,2,    0.470,2,    1.605,2,    0.839,2, -999.000,9, 2081.900,2, 2365.900,2
           NA,     A06,    146,   1,-999.0,      30,  2,19930220,0933,   7.4675,  -40.0030,  4880,  118.800,   11.756,   35.197,2,   35.194,2,  120.500,2,  120.100,2,   10.190,2,   23.100,2,    0.000,2,    1.460,2,    0.895,2,    0.452,2, -999.000,9, 2180.900,2, 2327.200,2
           NA,     A06,    146,   1,-999.0,      29,  2,19930220,0933,   7.4675,  -40.0030,  4880,  193.800,    9.829,   34.935,2,   34.933,2,  119.100,2, -999.000,3,   12.820,2,   25.450,2,    0.000,2,    1.640,2,    0.705,2,    0.387,2, -999.000,9, 2175.000,2, 2304.800,2
           NA,     A06,    146,   1,-999.0,      28,  2,19930220,0933,   7.4675,  -40.0030,  4880,  393.200,    7.875,   34.725,2,   34.721,2,  125.800,2,  121.400,2,   17.870,2,   30.560,2,    0.000,2,    1.960,2,    0.327,2,    0.164,2, -999.000,9, 2202.400,2, 2303.700,2
           NA,     A06,    146,   1,-999.0,      27,  2,19930220,0933,   7.4675,  -40.0030,  4880,  592.200,    6.581,   34.634,2,   34.632,2,  121.900,2,  120.000,2,   22.740,2,   33.510,2,    0.000,2,    2.170,2,    0.111,2,    0.063,2, -999.000,9, 2215.100,2, 2303.400,2
           NA,     A06,    146,   1,-999.0,      26,  2,19930220,0933,   7.4675,  -40.0030,  4880,  791.500,    5.339,   34.594,2,   34.589,2,  132.300,2,  132.900,2,   28.540,2,   34.210,2,    0.000,2,    2.260,2,    0.031,2,    0.016,2, -999.000,9, 2227.500,2, 2314.400,2
           NA,     A06,    146,   1,-999.0,      25,  2,19930220,0933,   7.4675,  -40.0030,  4880,  991.500,    4.878,   34.704,2,   34.704,2,  145.200,2,  146.200,2,   29.010,2,   31.970,2,    0.000,2,    2.150,2,    0.011,2,    0.002,2, -999.000,9, 2214.100,2, 2310.600,2
           NA,     A06,    146,   1,-999.0,      24,  2,19930220,0933,   7.4675,  -40.0030,  4880, 1191.900,    4.743,   34.831,2,   34.831,2,  173.700,2,  171.300,2,   25.570,2,   27.820,2,    0.000,2,    1.880,2,    0.012,2,    0.007,2, -999.000,9, 2208.000,2, 2327.000,2
           NA,     A06,    146,   1,-999.0,      23,  2,19930220,0933,   7.4675,  -40.0030,  4880, 1392.600,    4.630,   34.937,2,   34.938,2,  205.200,2,  201.300,2,   20.970,2,   23.540,2,    0.000,2,    1.580,2,    0.024,2,    0.013,2, -999.000,9, 2193.800,2, 2332.100,2
           NA,     A06,    146,   1,-999.0,      22,  2,19930220,0933,   7.4675,  -40.0030,  4880, 1492.700,    4.400,   34.970,2,   34.968,2,  218.600,2,  220.700,2,   18.880,2,   21.190,2,    0.000,2,    1.440,2,    0.043,2,    0.027,2, -999.000,9, 2179.600,2, 2328.800,2
           NA,     A06,    146,   1,-999.0,      21,  2,19930220,0933,   7.4675,  -40.0030,  4880, 1593.100,    4.211,   34.980,2,   34.979,2,  233.700,2,  232.300,2,   18.000,2,   19.750,2,    0.020,2,    1.350,2,    0.040,2,    0.021,2, -999.000,9, -999.000,3, -999.000,3
           NA,     A06,    146,   1,-999.0,      20,  2,19930220,0933,   7.4675,  -40.0030,  4880, 1693.100,    3.988,   34.984,2,   34.985,2,  241.700,2,  242.900,2,   17.600,2,   18.630,2,    0.000,2,    1.290,2,    0.054,2,    0.030,2, -999.000,9, 2165.000,2, 2321.300,2
           NA,     A06,    146,   1,-999.0,      19,  2,19930220,0933,   7.4675,  -40.0030,  4880, 1784.100,    3.862,   34.980,2,   34.982,2,  247.900,2,  246.000,2,   18.070,2,   18.400,2,    0.000,2,    1.270,2,    0.034,2,    0.017,2, -999.000,9, -999.000,3, -999.000,3
           NA,     A06,    146,   1,-999.0,      18,  2,19930220,0933,   7.4675,  -40.0030,  4880, 1894.700,    3.672,   34.976,2,   34.978,2,  251.400,2,  249.200,2,   19.250,2,   18.170,2,    0.000,2,    1.260,2,    0.023,2,    0.007,2, -999.000,9, 2169.100,2, 2330.600,2
           NA,     A06,    146,   1,-999.0,      17,  2,19930220,0933,   7.4675,  -40.0030,  4880, 1993.300,    3.559,   34.971,2,   34.972,2,  253.100,2,  251.100,2,   20.110,2,   18.040,2,    0.000,2,    1.250,2,    0.019,2,    0.011,2, -999.000,9, 2169.000,2, 2332.300,2
           NA,     A06,    146,   1,-999.0,      16,  2,19930220,0933,   7.4675,  -40.0030,  4880, 2194.400,    3.286,   34.960,2,   34.958,2,  254.200,2,  252.300,2,   23.400,2,   18.030,2,    0.000,2,    1.270,2,    0.011,2,    0.004,2, -999.000,9, 2175.700,2, 2338.300,2
           NA,     A06,    146,   1,-999.0,      15,  2,19930220,0933,   7.4675,  -40.0030,  4880, 2393.600,    3.094,   34.950,2,   34.950,2,  255.100,2,  253.300,2,   25.830,2,   18.120,2,    0.000,2,    1.270,2,    0.009,2,    0.004,2, -999.000,9, 2168.500,2, 2331.200,2
           NA,     A06,    146,   1,-999.0,      14,  2,19930220,0933,   7.4675,  -40.0030,  4880, 2694.600,    2.898,   34.942,2,   34.940,2,  256.800,2,  255.400,2,   28.570,2,   18.110,2,    0.000,2,    1.280,2,    0.007,2,    0.005,2, -999.000,9, 2170.400,2, 2335.900,2
           NA,     A06,    146,   1,-999.0,      13,  2,19930220,0933,   7.4675,  -40.0030,  4880, 2994.900,    2.766,   34.932,2,   34.931,2,  256.300,2,  256.300,2,   30.540,2,   18.040,2,    0.000,2,    1.280,2,    0.022,2,    0.014,2, -999.000,9, 2174.700,2, 2341.300,2
           NA,     A06,    146,   1,-999.0,      12,  2,19930220,0933,   7.4675,  -40.0030,  4880, 3193.900,    2.635,   34.921,2,   34.921,2,  255.800,2,  255.100,2,   34.220,2,   18.470,2,    0.000,2,    1.320,2,    0.017,2,    0.009,2, -999.000,9, 2176.300,2, 2339.200,2
           NA,     A06,    146,   1,-999.0,      11,  2,19930220,0933,   7.4675,  -40.0030,  4880, 3394.400,    2.553,   34.920,2,   34.920,2,  258.900,2,  260.200,2,   31.760,2,   17.710,2,    0.000,2,    1.280,2,    0.050,2,    0.020,2, -999.000,9, 2171.800,2, 2335.400,2
           NA,     A06,    146,   1,-999.0,      10,  2,19930220,0933,   7.4675,  -40.0030,  4880, 3591.500,    2.398,   34.901,2,   34.900,2,  255.700,2,  255.500,2,   39.850,2,   18.710,2,    0.000,2,    1.360,2,    0.022,2,    0.008,2, -999.000,9, 2175.800,2, 2337.600,2
           NA,     A06,    146,   1,-999.0,       9,  2,19930220,0933,   7.4675,  -40.0030,  4880, 3795.200,    2.309,   34.892,2,   34.891,2,  255.600,2,  252.700,2,   42.260,2,   18.910,2,    0.000,2,    1.380,2,    0.026,2,    0.013,2, -999.000,9, 2198.300,2, 2359.300,2
           NA,     A06,    146,   1,-999.0,       8,  2,19930220,0933,   7.4675,  -40.0030,  4880, 3895.300,    2.240,   34.889,2,   34.889,2,  255.800,2,  257.400,2,   41.360,2,   18.590,2,    0.000,2,    1.350,2,    0.035,2,    0.017,2, -999.000,9, -999.000,3, -999.000,3
           NA,     A06,    146,   1,-999.0,       7,  2,19930220,0933,   7.4675,  -40.0030,  4880, 3994.400,    2.128,   34.878,2,   34.873,2,  257.500,2,  255.800,2,   45.500,2,   19.020,2,    0.000,2,    1.400,2,    0.039,2,    0.012,2, -999.000,9, 2192.500,2, 2350.900,2
           NA,     A06,    146,   1,-999.0,       6,  2,19930220,0933,   7.4675,  -40.0030,  4880, 4094.600,    1.941,   34.857,2,   34.858,2,  252.700,2,  250.900,2,   55.070,2,   20.300,2,    0.020,2,    1.490,2,    0.027,2,    0.015,2, -999.000,9, -999.000,3, -999.000,3
           NA,     A06,    146,   1,-999.0,       5,  2,19930220,0933,   7.4675,  -40.0030,  4880, 4193.800,    1.781,   34.837,2,   34.837,2,  248.600,2,  246.500,2,   63.210,2,   21.680,2,    0.000,2,    1.580,2,    0.022,2,    0.011,2, -999.000,9, 2219.200,2, -999.000,3
           NA,     A06,    146,   1,-999.0,       4,  2,19930220,0933,   7.4675,  -40.0030,  4880, 4394.200,    1.676,   34.825,2,   34.826,2,  244.100,2,  243.400,2,   68.760,2,   22.510,2,    0.000,2,    1.640,2,    0.019,2,    0.009,2, -999.000,9, 2229.300,2, 2376.900,2
           NA,     A06,    146,   1,-999.0,       3,  2,19930220,0933,   7.4675,  -40.0030,  4880, 4594.700,    1.612,   34.813,2,   34.814,2,  241.500,2,  241.200,2,   72.690,2,   23.100,2,    0.000,2,    1.690,2,    0.017,2,    0.009,2, -999.000,9, 2237.100,2, 2381.400,2
           NA,     A06,    146,   1,-999.0,       2,  2,19930220,0933,   7.4675,  -40.0030,  4880, 4696.200,    1.598,   34.810,2,   34.811,2,  241.100,2,  240.600,2,   73.980,2,   23.180,2,    0.000,2,    1.710,2,    0.011,2,    0.007,2, -999.000,9, 2226.900,2, 2369.000,2
           NA,     A06,    146,   1,-999.0,       1,  2,19930220,0933,   7.4675,  -40.0030,  4880, 4771.000,    1.603,   34.808,2,   34.810,2,  239.700,2,  240.400,2,   74.040,2,   23.190,2,    0.020,2,    1.710,2,    0.019,2,    0.006,2, -999.000,9, 2229.200,2, 2374.000,2
           NA,     A06,    147,   1,-999.0,      32,  2,19930220,1651,   7.4695,  -39.3257,  4837,    1.100,   26.673,   35.994,2,   35.995,2,  194.200,2, -999.000,3,    1.620,2,    0.010,2,    0.000,2,    0.000,2,    1.788,2,    0.965,2, -999.000,9, -999.000,9, -999.000,9
           NA,     A06,    147,   1,-999.0,      31,  2,19930220,1651,   7.4695,  -39.3257,  4837,   23.700,   26.616,   36.039,2,   36.043,2,  201.500,2,  201.200,2,    1.630,2,    0.010,2,    0.000,2,    0.000,2,    1.790,2,    0.951,2, -999.000,9, -999.000,9, -999.000,9
           NA,     A06,    147,   1,-999.0,      30,  2,19930220,1651,   7.4695,  -39.3257,  4837,   68.800,   21.897,   36.210,2, -999.000,3,  192.700,2, -999.000,3,    2.770,2,    5.880,2,    0.220,2,    0.310,2,    1.656,2,    0.856,2, -999.000,9, -999.000,9, -999.000,9
           NA,     A06,    147,   1,-999.0,      29,  2,19930220,1651,   7.4695,  -39.3257,  4837,  117.500,   12.728,   35.324,2, -999.000,3,  123.500,2, -999.000,3,    9.150,2,   23.940,2,    0.020,2,    1.370,2,    0.973,2,    0.487,2, -999.000,9, -999.000,9, -999.000,9
           NA,     A06,    147,   1,-999.0,      28,  2,19930220,1651,   7.4695,  -39.3257,  4837,  195.200,    9.949,   34.956,2,   34.954,2,  121.700,2,  120.900,2,   12.670,2,   28.750,2,    0.000,2,    1.690,2,    0.576,2,    0.276,2, -999.000,9, -999.000,9, -999.000,9
           NA,     A06,    147,   1,-999.0,      27,  2,19930220,1651,   7.4695,  -39.3257,  4837,  292.600,    8.781,   34.821,2,   34.820,2,  113.900,2, -999.000,3,   15.060,2,   30.430,2,    0.020,2,    1.810,2,    0.447,2,    0.215,2, -999.000,9, -999.000,9, -999.000,9
           NA,     A06,    147,   1,-999.0,      26,  2,19930220,1651,   7.4695,  -39.3257,  4837,  391.400,    8.107,   34.762,2,   34.759,2,  116.300,2,  112.900,2,   17.200,2,   33.070,2,    0.000,2,    1.950,2,    0.261,2,    0.132,2, -999.000,9, -999.000,9, -999.000,9
           NA,     A06,    147,   1,-999.0,      25,  2,19930220,1651,   7.4695,  -39.3257,  4837,  592.900,    6.373,   34.623,2,   34.621,2,  122.400,2,  123.500,2,   23.080,2,   35.610,2,    0.010,2,    2.170,2,    0.090,2,    0.051,2, -999.000,9, -999.000,9, -999.000,9
           NA,     A06,    147,   1,-999.0,      24,  2,19930220,1651,   7.4695,  -39.3257,  4837,  792.100,    5.525,   34.616,2,   34.614,2,  130.600,2,  128.900,2,   27.240,2,   36.290,2,    0.000,2,    2.240,2,    0.024,2,    0.015,2, -999.000,9, -999.000,9, -999.000,9
           NA,     A06,    147,   1,-999.0,      23,  2,19930220,1651,   7.4695,  -39.3257,  4837,  992.400,    4.980,   34.685,2,   34.684,2,  140.500,2,  142.000,2,   28.370,2,   34.520,2,    0.000,2,    2.150,2,    0.016,2,    0.008,2, -999.000,9, -999.000,9, -999.000,9
           NA,     A06,    147,   1,-999.0,      22,  2,19930220,1651,   7.4695,  -39.3257,  4837, 1192.500,    4.854,   34.834,2,   34.835,2,  170.000,2,  168.100,2,   24.910,2,   30.010,2,    0.000,2,    1.890,2,    0.014,2,    0.001,2, -999.000,9, -999.000,9, -999.000,9
           NA,     A06,    147,   1,-999.0,      21,  2,19930220,1651,   7.4695,  -39.3257,  4837, 1394.100,    4.617,   34.946,2, -999.000,3,  202.700,2,  205.700,2,   19.860,2,   24.960,2,    0.000,2,    1.540,2,    0.031,2,    0.012,2, -999.000,9, -999.000,9, -999.000,9
           NA,     A06,    147,   1,-999.0,      20,  2,19930220,1651,   7.4695,  -39.3257,  4837, 1494.300,    4.390,   34.973,2,   34.973,2,  219.500,2,  223.900,2,   17.990,2,   22.550,2,    0.000,2,    1.400,2,    0.042,2,    0.020,2, -999.000,9, -999.000,9, -999.000,9
           NA,     A06,    147,   1,-999.0,      19,  2,19930220,1651,   7.4695,  -39.3257,  4837, 1597.200,    4.198,   34.983,2,   34.982,2,  234.800,2,  235.400,2,   17.070,2,   21.020,2,    0.020,2,    1.320,2,    0.051,2,    0.023,2, -999.000,9, -999.000,9, -999.000,9
           NA,     A06,    147,   1,-999.0,      18,  2,19930220,1651,   7.4695,  -39.3257,  4837, 1693.800,    3.997,   34.985,2,   34.985,2,  244.600,2,  242.900,2,   17.110,2,   20.150,2,    0.000,2,    1.280,2,    0.040,2,    0.017,2, -999.000,9, -999.000,9, -999.000,9
           NA,     A06,    147,   1,-999.0,      17,  2,19930220,1651,   7.4695,  -39.3257,  4837, 1793.900,    3.822,   34.980,2,   34.982,2,  249.400,2,  247.100,2,   17.700,2,   19.820,2,    0.000,2,    1.260,2,    0.031,2,    0.013,2, -999.000,9, -999.000,9, -999.000,9
           NA,     A06,    147,   1,-999.0,      16,  2,19930220,1651,   7.4695,  -39.3257,  4837, 2096.000,    3.428,   34.967,2,   34.968,2,  254.700,2,  253.200,2,   20.560,2,   19.270,2,    0.010,2,    1.240,2,    0.019,2,    0.008,2, -999.000,9, -999.000,9, -999.000,9
           NA,     A06,    147,   1,-999.0,      15,  2,19930220,1651,   7.4695,  -39.3257,  4837, 2395.100,    3.048,   34.950,2,   34.948,2,  254.700,2, -999.000,3,   24.610,2,   19.500,2,    0.000,2,    1.260,2,    0.022,2,    0.007,2, -999.000,9, -999.000,9, -999.000,9
           NA,     A06,    147,   1,-999.0,      14,  2,19930220,1651,   7.4695,  -39.3257,  4837, 2692.700,    2.904,   34.945,2,   34.940,2,  259.000,2,  261.200,2,   25.550,2,   19.120,2,    0.000,2,    1.250,2,    0.036,2,    0.015,2, -999.000,9, -999.000,9, -999.000,9
           NA,     A06,    147,   1,-999.0,      13,  2,19930220,1651,   7.4695,  -39.3257,  4837, 2995.000,    2.742,   34.932,2,   34.933,2,  258.500,2,  257.700,2,   29.020,2,   19.370,2,    0.000,2,    1.270,2,    0.031,2,    0.012,2, -999.000,9, -999.000,9, -999.000,9
           NA,     A06,    147,   1,-999.0,      12,  2,19930220,1651,   7.4695,  -39.3257,  4837, 3193.200,    2.665,   34.925,2,   34.925,2,  258.600,2,  257.800,2,   30.240,2,   19.290,2,    0.000,2,    1.280,2,    0.039,2,    0.016,2, -999.000,9, -999.000,9, -999.000,9
           NA,     A06,    147,   1,-999.0,      11,  2,19930220,1651,   7.4695,  -39.3257,  4837, 3393.500,    2.543,   34.914,2,   34.915,2,  258.100,2,  257.000,2,   33.830,2,   19.660,2,    0.000,2,    1.300,2,    0.030,2,    0.014,2, -999.000,9, -999.000,9, -999.000,9
           NA,     A06,    147,   1,-999.0,      10,  2,19930220,1651,   7.4695,  -39.3257,  4837, 3592.900,    2.424,   34.905,2,   34.904,2,  258.200,2,  256.600,2,   37.050,2,   19.820,2,    0.010,2,    1.330,2,    0.028,2,    0.012,2, -999.000,9, -999.000,9, -999.000,9
           NA,     A06,    147,   1,-999.0,       9,  2,19930220,1651,   7.4695,  -39.3257,  4837, 3794.100,    2.293,   34.893,2,   34.893,2,  256.500,2,  257.700,2,   40.390,2,   20.030,2,    0.010,2,    1.340,2,    0.036,2,    0.015,2, -999.000,9, -999.000,9, -999.000,9
           NA,     A06,    147,   1,-999.0,       8,  2,19930220,1651,   7.4695,  -39.3257,  4837, 3894.800,    2.159,   34.878,2,   34.880,2,  255.500,2,  254.000,2,   45.860,2,   20.650,2,    0.010,2,    1.390,2,    0.031,2,    0.013,2, -999.000,9, -999.000,9, -999.000,9
           NA,     A06,    147,   1,-999.0,       7,  2,19930220,1651,   7.4695,  -39.3257,  4837, 3994.100,    2.010,   34.866,2,   34.865,2,  253.800,2,  253.100,2,   50.340,2,   21.150,2,    0.020,2,    1.440,2,    0.037,2,    0.018,2, -999.000,9, -999.000,9, -999.000,9
           NA,     A06,    147,   1,-999.0,       6,  2,19930220,1651,   7.4695,  -39.3257,  4837, 4095.700,    1.881,   34.849,2,   34.850,2,  250.100,2,  249.300,2,   57.320,2,   22.330,2,    0.000,2,    1.510,2,    0.056,2,    0.027,2, -999.000,9, -999.000,9, -999.000,9
           NA,     A06,    147,   1,-999.0,       5,  2,19930220,1651,   7.4695,  -39.3257,  4837, 4192.800,    1.854,   34.844,2,   34.846,2,  247.700,2,  248.300,2,   59.250,2,   22.550,2,    0.000,2,    1.540,2,    0.037,2,    0.014,2, -999.000,9, -999.000,9, -999.000,9
           NA,     A06,    147,   1,-999.0,       4,  2,19930220,1651,   7.4695,  -39.3257,  4837, 4395.000,    1.660,   34.822,2,   34.822,2,  243.600,2,  243.200,2,   69.170,2,   23.840,2,    0.010,2,    1.630,2,    0.021,2,    0.009,2, -999.000,9, -999.000,9, -999.000,9
           NA,     A06,    147,   1,-999.0,       3,  2,19930220,1651,   7.4695,  -39.3257,  4837, 4593.200,    1.646,   34.816,2,   34.818,2,  242.200,2,  242.200,2,   72.030,2,   23.880,2,    0.010,2,    1.660,2,    0.030,2,    0.013,2, -999.000,9, -999.000,9, -999.000,9
           NA,     A06,    147,   1,-999.0,       2,  2,19930220,1651,   7.4695,  -39.3257,  4837, 4792.500,    1.644,   34.812,2,   34.815,2,  241.700,2,  241.200,2,   73.280,2,   24.230,2,    0.000,2,    1.690,2,    0.035,2,    0.015,2, -999.000,9, -999.000,9, -999.000,9
           NA,     A06,    147,   1,-999.0,       1,  2,19930220,1651,   7.4695,  -39.3257,  4837, 4909.900,    1.654,   34.814,2,   34.815,2,  240.700,2,  241.400,2,   73.820,2,   24.400,2,    0.000,2,    1.700,2,    0.024,2,    0.008,2, -999.000,9, -999.000,9, -999.000,9