BOTTLE,20205402JOAExport
EXPOCODE,SECT_ID,STNNBR,CASTNO,SAMPNO,BTLNBR,BTLNBR_FLAG_W,DATE,TIME,LATITUDE,LONGITUDE,DEPTH,CTDPRS,CTDTMP,CTDSAL,CTDSAL_FLAG_W,SALNTY,SALNTY_FLAG_W,CTDOXY,CTDOXY_FLAG_W,OXYGEN,OXYGEN_FLAG_W,SILCAT,SILCAT_FLAG_W,NITRAT,NITRAT_FLAG_W,NITRIT,NITRIT_FLAG_W,PHSPHT,PHSPHT_FLAG_W,CFC-11,CFC-11_FLAG_W,CFC-12,CFC-12_FLAG_W,SF6,SF6_FLAG_W,TCARBN,TCARBN_FLAG_W,ALKALI,ALKALI_FLAG_W
,,,,,,,,,,,,,DB,DEG C,PSS-78,,PSS-78,,UMOL/KG,,UMOL/KG,,UMOL/KG,,UMOL/KG,,UMOL/KG,,UMOL/KG,,PMOL/KG,,PMOL/KG,,FMOL/KG,,UMOL/KG,,UMOL/KG
           NA,     A06,    132,   1,-999.0,      32,  2,19930216,0451,   7.4990,  -48.9990,  4337,    0.700,   25.864,   36.239,2,   36.241,2,  201.800,2,  205.700,2,    1.670,2,    0.040,2,    0.000,2,    0.000,2,    1.849,2,    0.970,2, -999.000,9, -999.000,3, -999.000,3
           NA,     A06,    132,   1,-999.0,      31,  2,19930216,0451,   7.4990,  -48.9990,  4337,   69.900,   25.796,   36.271,2,   36.270,2,  203.200,2,  205.000,2,    1.540,2,    0.040,2,    0.010,2,    0.000,2,    1.836,2,    0.965,2, -999.000,9, -999.000,3, -999.000,3
           NA,     A06,    132,   1,-999.0,      30,  2,19930216,0451,   7.4990,  -48.9990,  4337,  118.600,   17.501,   36.211,2, -999.000,3,  121.400,2,  118.200,2,    4.810,2,   15.330,2,    0.020,2,    0.820,2,    1.445,2,    0.734,2, -999.000,9, 2160.000,2, 2372.100,2
           NA,     A06,    132,   1,-999.0,      29,  2,19930216,0451,   7.4990,  -48.9990,  4337,  192.600,   11.230,   35.171,2,   35.165,2,  108.900,2,  110.700,2,   10.800,2,   26.420,2,    0.000,2,    1.590,2,    0.719,2,    0.361,2, -999.000,9, 2200.900,2, 2335.800,2
           NA,     A06,    132,   1,-999.0,      28,  2,19930216,0451,   7.4990,  -48.9990,  4337,  394.100,    8.278,   34.798,2,   34.799,2,  108.100,2,  110.400,2,   16.860,2,   32.390,2,    0.000,2,    1.970,2,    0.256,2,    0.127,2, -999.000,9, 2211.100,2, 2311.700,2
           NA,     A06,    132,   1,-999.0,      27,  2,19930216,0451,   7.4990,  -48.9990,  4337,  591.600,    6.753,   34.667,2,   34.665,2,  119.500,2,  121.300,2,   21.980,2,   34.900,2,    0.000,2,    2.180,2,    0.110,2,    0.047,2, -999.000,9, 2216.000,2, 2305.600,2
           NA,     A06,    132,   1,-999.0,      25,  2,19930216,0451,   7.4990,  -48.9990,  4337,  792.100,    5.396,   34.582,2,   34.584,2,  138.400,2,  138.100,2,   28.040,2,   35.640,2,    0.000,2,    2.280,2,    0.039,2,    0.021,2, -999.000,9, 2234.000,2, 2325.200,2
           NA,     A06,    132,   1,-999.0,      26,  2,19930216,0451,   7.4990,  -48.9990,  4337,  792.100,    5.396,   34.582,2,   34.581,2,  138.400,2,  138.200,2,   28.140,2,   35.590,2,    0.000,2,    2.270,2,    0.047,2,    0.024,2, -999.000,9, 2232.800,2, 2322.800,2
           NA,     A06,    132,   1,-999.0,      24,  2,19930216,0451,   7.4990,  -48.9990,  4337,  992.100,    5.058,   34.729,2,   34.729,2,  148.900,2,  150.200,2,   27.870,2,   33.240,2,    0.000,2,    2.140,2,    0.015,2,    0.004,2, -999.000,9, -999.000,9, -999.000,9
           NA,     A06,    132,   1,-999.0,      23,  2,19930216,0451,   7.4990,  -48.9990,  4337, 1192.800,    4.994,   34.921,2,   34.918,2,  188.800,2,  190.700,2,   21.480,2,   26.620,2,    0.000,2,    1.690,2,    0.084,2,    0.041,2, -999.000,9, 2207.800,2, 2340.500,2
           NA,     A06,    132,   1,-999.0,      22,  2,19930216,0451,   7.4990,  -48.9990,  4337, 1392.200,    4.689,   34.996,2,   34.994,2,  226.100,2,  226.600,2,   16.800,2,   22.100,2,    0.000,2,    1.430,2,    0.158,2,    0.075,2, -999.000,9, 2180.500,2, 2332.100,2
           NA,     A06,    132,   1,-999.0,      21,  2,19930216,0451,   7.4990,  -48.9990,  4337, 1493.100,    4.409,   35.000,2,   35.000,2,  238.100,2,  239.900,2,   15.840,2,   20.810,2,    0.000,2,    1.320,2,    0.137,2,    0.063,2, -999.000,9, 2170.500,2, 2327.500,2
           NA,     A06,    132,   1,-999.0,      20,  2,19930216,0451,   7.4990,  -48.9990,  4337, 1593.300,    4.229,   35.005,2,   35.005,2,  250.500,2,  250.700,2,   14.670,2,   19.790,2,    0.000,2,    1.230,2,    0.211,2,    0.106,2, -999.000,9, 2168.000,2, 2328.600,2
           NA,     A06,    132,   1,-999.0,      19,  2,19930216,0451,   7.4990,  -48.9990,  4337, 1692.300,    4.000,   34.999,2,   34.999,2,  255.700,2,  257.300,2,   15.170,2,   19.430,2,    0.000,2,    1.210,2,    0.165,2,    0.087,2, -999.000,9, -999.000,3, -999.000,3
           NA,     A06,    132,   1,-999.0,      18,  2,19930216,0451,   7.4990,  -48.9990,  4337, 1793.200,    3.816,   34.993,2,   34.994,2,  259.400,2,  260.000,2,   15.330,2,   19.100,2,    0.000,2,    1.190,2,    0.149,2,    0.076,2, -999.000,9, 2162.100,2, 2327.400,2
           NA,     A06,    132,   1,-999.0,      17,  2,19930216,0451,   7.4990,  -48.9990,  4337, 1893.800,    3.650,   34.987,2,   34.988,2,  259.300,2,  261.300,2,   16.500,2,   19.200,2,    0.000,2,    1.190,2,    0.099,2,    0.051,2, -999.000,9, -999.000,3, -999.000,3
           NA,     A06,    132,   1,-999.0,      16,  2,19930216,0451,   7.4990,  -48.9990,  4337, 1993.300,    3.513,   34.979,2,   34.980,2,  260.400,2,  261.800,2,   17.650,2,   19.150,2,    0.000,2,    1.210,2,    0.075,2,    0.035,2, -999.000,9, 2184.900,2, 2351.800,2
           NA,     A06,    132,   1,-999.0,      15,  2,19930216,0451,   7.4990,  -48.9990,  4337, 2193.800,    3.270,   34.967,2,   34.967,2,  259.900,2,  262.800,2,   20.180,2,   19.350,2,    0.000,2,    1.230,2,    0.051,2,    0.026,2, -999.000,9, 2173.000,2, 2339.200,2
           NA,     A06,    132,   1,-999.0,      14,  2,19930216,0451,   7.4990,  -48.9990,  4337, 2393.700,    3.083,   34.959,2,   34.958,2,  261.300,2,  263.500,2,   21.560,2,   19.170,2,    0.000,2,    1.230,2,    0.077,2,    0.036,2, -999.000,9, 2171.400,2, 2338.500,2
           NA,     A06,    132,   1,-999.0,      13,  2,19930216,0451,   7.4990,  -48.9990,  4337, 2693.200,    2.844,   34.942,2,   34.937,2,  260.400,2,  262.600,2,   25.720,2,   19.630,2,    0.000,2,    1.260,2,    0.060,2,    0.027,2, -999.000,9, -999.000,3, -999.000,3
           NA,     A06,    132,   1,-999.0,      12,  2,19930216,0451,   7.4990,  -48.9990,  4337, 2994.600,    2.620,   34.925,2,   34.926,2,  257.100,2,  260.500,2,   32.220,2,   20.430,2,    0.000,2,    1.320,2,    0.041,2,    0.018,2, -999.000,9, -999.000,3, -999.000,3
           NA,     A06,    132,   1,-999.0,      11,  2,19930216,0451,   7.4990,  -48.9990,  4337, 3193.500,    2.440,   34.913,2,   34.918,2,  261.900,2,  264.700,2,   31.080,2,   19.810,2,    0.000,2,    1.280,2,    0.092,2,    0.045,2, -999.000,9, -999.000,3, -999.000,3
           NA,     A06,    132,   1,-999.0,      10,  2,19930216,0451,   7.4990,  -48.9990,  4337, 3393.700,    2.363,   34.909,2,   34.914,2,  264.900,2,  269.500,2,   29.820,2,   19.370,2,    0.000,2,    1.240,2,    0.139,2,    0.064,2, -999.000,9, -999.000,3, -999.000,3
           NA,     A06,    132,   1,-999.0,       9,  2,19930216,0451,   7.4990,  -48.9990,  4337, 3594.900,    2.305,   34.905,2,   34.906,2,  264.600,2,  268.200,2,   32.030,2,   19.490,2,    0.000,2,    1.260,2,    0.123,2,    0.058,2, -999.000,9, 2185.300,2, 2350.900,2
           NA,     A06,    132,   1,-999.0,       8,  2,19930216,0451,   7.4990,  -48.9990,  4337, 3794.800,    2.260,   34.901,2,   34.901,2,  265.400,2,  268.700,2,   32.380,2,   19.440,2,    0.000,2,    1.260,2,    0.157,2,    0.079,2, -999.000,9, 2175.300,2, 2339.400,2
           NA,     A06,    132,   1,-999.0,       7,  2,19930216,0451,   7.4990,  -48.9990,  4337, 3892.900,    2.257,   34.899,2,   34.901,2,  265.100,2,  268.300,2,   32.660,2,   19.500,2,    0.000,2,    1.250,2,    0.161,2,    0.078,2, -999.000,9, 2171.600,2, 2336.000,2
           NA,     A06,    132,   1,-999.0,       6,  2,19930216,0451,   7.4990,  -48.9990,  4337, 3994.600,    2.252,   34.896,2,   34.900,2,  264.600,2,  267.400,2,   33.600,2,   19.530,2,    0.000,2,    1.270,2,    0.144,2,    0.069,2, -999.000,9, 2183.600,2, 2347.200,2
           NA,     A06,    132,   1,-999.0,       5,  2,19930216,0451,   7.4990,  -48.9990,  4337, 4095.300,    2.233,   34.894,2,   34.897,2,  263.800,2,  266.400,2,   35.670,2,   19.840,2,    0.000,2,    1.290,2,    0.125,2,    0.065,2, -999.000,9, 2186.600,2, 2352.200,2
           NA,     A06,    132,   1,-999.0,       4,  2,19930216,0451,   7.4990,  -48.9990,  4337, 4194.500,    2.216,   34.891,2,   34.894,2,  263.000,2,  265.400,2,   36.760,2,   20.200,2,    0.000,2,    1.310,2,    0.122,2,    0.060,2, -999.000,9, 2190.200,2, 2353.200,2
           NA,     A06,    132,   1,-999.0,       2,  2,19930216,0451,   7.4990,  -48.9990,  4337, 4294.700,    2.155,   34.882,2,   34.884,2,  260.300,2,  261.100,2,   42.060,2,   20.840,2,    0.000,2,    1.360,2,    0.095,2,    0.051,2, -999.000,9, 2188.600,2, 2349.600,2
           NA,     A06,    132,   1,-999.0,       3,  2,19930216,0451,   7.4990,  -48.9990,  4337, 4295.000,    2.162,   34.883,2,   34.885,2,  260.300,2,  261.800,2,   41.470,2,   20.840,2,    0.000,2,    1.350,2,    0.087,2,    0.051,2, -999.000,9, 2186.100,2, 2347.900,2
           NA,     A06,    132,   1,-999.0,       1,  2,19930216,0451,   7.4990,  -48.9990,  4337, 4342.400,    2.081,   34.873,2,   34.877,2,  253.200,2,  257.200,2,   48.570,2,   21.690,2,    0.000,2,    1.440,2,    0.083,2,    0.049,2, -999.000,9, 2204.200,2, 2365.500,2
           NA,     A06,    133,   1,-999.0,      32,  2,19930216,1137,   7.5013,  -48.4988,  4325,    1.300,   25.945,   36.226,2,   36.226,2,  201.800,2,  205.500,2,    1.740,2,    0.080,2,    0.000,2,    0.000,2,    1.860,2,    0.994,2, -999.000,9, -999.000,9, -999.000,9
           NA,     A06,    133,   1,-999.0,      31,  2,19930216,1137,   7.5013,  -48.4988,  4325,   68.900,   25.897,   36.230,2,   36.229,2,  207.000,2,  204.400,2,    1.750,2,    0.130,2,    0.000,2,    0.000,2,    1.806,2,    0.968,2, -999.000,9, -999.000,9, -999.000,9
           NA,     A06,    133,   1,-999.0,      30,  2,19930216,1137,   7.5013,  -48.4988,  4325,  118.800,   14.662,   35.708,2, -999.000,3,  112.600,2, -999.000,3,    6.980,2,   20.980,2,    0.020,2,    1.200,2,    1.126,2,    0.574,2, -999.000,9, -999.000,9, -999.000,9
           NA,     A06,    133,   1,-999.0,      29,  2,19930216,1137,   7.5013,  -48.4988,  4325,  193.700,   10.907,   35.139,2, -999.000,3,   95.000,2,   97.000,2,   11.170,2,   27.280,2,    0.000,2,    1.660,2,    0.592,2,    0.309,2, -999.000,9, -999.000,9, -999.000,9
           NA,     A06,    133,   1,-999.0,      28,  2,19930216,1137,   7.5013,  -48.4988,  4325,  392.600,    7.797,   34.726,2,   34.724,2,  117.000,2,  119.900,2,   17.630,2,   31.490,2,    0.000,2,    1.990,2,    0.271,2,    0.139,2, -999.000,9, -999.000,9, -999.000,9
           NA,     A06,    133,   1,-999.0,      27,  2,19930216,1137,   7.5013,  -48.4988,  4325,  592.600,    6.196,   34.606,2,   34.606,2,  126.300,2,  127.800,2,   23.380,2,   33.890,2,    0.000,2,    2.200,2,    0.100,2,    0.051,2, -999.000,9, -999.000,9, -999.000,9
           NA,     A06,    133,   1,-999.0,      26,  2,19930216,1137,   7.5013,  -48.4988,  4325,  592.600,    6.200,   34.606,2,   34.605,2,  126.300,2,  128.000,2,   23.390,2,   33.880,2,    0.000,2,    2.200,2,    0.094,2,    0.050,2, -999.000,9, -999.000,9, -999.000,9
           NA,     A06,    133,   1,-999.0,      25,  2,19930216,1137,   7.5013,  -48.4988,  4325,  793.000,    5.259,   34.572,2,   34.570,2,  137.600,2,  138.900,2,   27.870,2,   34.300,2,    0.000,2,    2.270,2,    0.036,2,    0.018,2, -999.000,9, -999.000,9, -999.000,9
           NA,     A06,    133,   1,-999.0,      24,  2,19930216,1137,   7.5013,  -48.4988,  4325,  991.700,    5.001,   34.718,2,   34.718,2,  150.300,2,  152.100,2,   27.490,2,   31.590,2,    0.000,2,    2.110,2,    0.030,2,    0.009,2, -999.000,9, -999.000,9, -999.000,9
           NA,     A06,    133,   1,-999.0,      23,  2,19930216,1137,   7.5013,  -48.4988,  4325, 1192.300,    4.978,   34.906,2,   34.906,2,  178.800,2, -999.000,3,   21.600,2,   26.010,2,    0.000,2,    1.710,2,    0.057,2,    0.025,2, -999.000,9, -999.000,9, -999.000,9
           NA,     A06,    133,   1,-999.0,      22,  2,19930216,1137,   7.5013,  -48.4988,  4325, 1392.700,    4.628,   34.983,2,   34.986,2,  220.700,2,  221.700,2,   17.380,2,   21.640,2,    0.000,2,    1.430,2,    0.099,2,    0.052,2, -999.000,9, -999.000,9, -999.000,9
           NA,     A06,    133,   1,-999.0,      21,  2,19930216,1137,   7.5013,  -48.4988,  4325, 1492.800,    4.452,   35.002,2,   35.003,2,  236.200,2,  237.800,2,   15.560,2,   19.910,2,    0.000,2,    1.300,2,    0.158,2,    0.075,2, -999.000,9, -999.000,9, -999.000,9
           NA,     A06,    133,   1,-999.0,      20,  2,19930216,1137,   7.5013,  -48.4988,  4325, 1592.100,    4.244,   35.004,2,   35.003,2,  249.600,2,  249.100,2,   14.620,2,   18.840,2,    0.000,2,    1.240,2,    0.193,2,    0.097,2, -999.000,9, -999.000,9, -999.000,9
           NA,     A06,    133,   1,-999.0,      19,  2,19930216,1137,   7.5013,  -48.4988,  4325, 1692.400,    4.002,   34.997,2,   34.997,2,  255.200,2,  256.800,2,   14.820,2,   18.310,2,    0.000,2,    1.210,2,    0.145,2,    0.079,2, -999.000,9, -999.000,9, -999.000,9
           NA,     A06,    133,   1,-999.0,      18,  2,19930216,1137,   7.5013,  -48.4988,  4325, 1792.700,    3.850,   34.992,2,   34.992,2,  256.700,2,  258.100,2,   15.370,2,   18.200,2,    0.000,2,    1.200,2,    0.106,2,    0.056,2, -999.000,9, -999.000,9, -999.000,9
           NA,     A06,    133,   1,-999.0,      17,  2,19930216,1137,   7.5013,  -48.4988,  4325, 1894.000,    3.671,   34.984,2,   34.987,2,  258.400,2,  259.400,2,   16.510,2,   18.240,2,    0.000,2,    1.200,2,    0.071,2,    0.035,2, -999.000,9, -999.000,9, -999.000,9
           NA,     A06,    133,   1,-999.0,      16,  2,19930216,1137,   7.5013,  -48.4988,  4325, 1993.500,    3.472,   34.970,2,   34.972,2,  256.600,2,  256.400,2,   19.600,2,   18.850,2,    0.000,2,    1.250,2,    0.023,2,    0.013,2, -999.000,9, -999.000,9, -999.000,9
           NA,     A06,    133,   1,-999.0,      15,  2,19930216,1137,   7.5013,  -48.4988,  4325, 2193.500,    3.251,   34.963,2,   34.962,2,  258.400,2,  260.700,2,   21.220,2,   18.690,2,    0.000,2,    1.240,2,    0.022,2,    0.008,2, -999.000,9, -999.000,9, -999.000,9
           NA,     A06,    133,   1,-999.0,      14,  2,19930216,1137,   7.5013,  -48.4988,  4325, 2393.700,    3.090,   34.957,2,   34.955,2,  260.400,2,  261.100,2,   22.500,2,   18.570,2,    0.000,2,    1.240,2,    0.025,2,    0.012,2, -999.000,9, -999.000,9, -999.000,9
           NA,     A06,    133,   1,-999.0,      13,  2,19930216,1137,   7.5013,  -48.4988,  4325, 2593.200,    2.923,   34.946,2,   34.946,2,  260.100,2,  260.700,2,   25.100,2,   18.760,2,    0.000,2,    1.260,2,    0.024,2,    0.011,2, -999.000,9, -999.000,9, -999.000,9
           NA,     A06,    133,   1,-999.0,      12,  2,19930216,1137,   7.5013,  -48.4988,  4325, 2794.400,    2.794,   34.937,2,   34.936,2,  258.300,2,  259.900,2,   27.840,2,   19.000,2,    0.000,2,    1.280,2,    0.031,2,    0.014,2, -999.000,9, -999.000,9, -999.000,9
           NA,     A06,    133,   1,-999.0,      11,  2,19930216,1137,   7.5013,  -48.4988,  4325, 2994.400,    2.660,   34.927,2,   34.927,2,  258.900,2,  259.900,2,   30.170,2,   19.160,2,    0.000,2,    1.290,2,    0.032,2,    0.020,2, -999.000,9, -999.000,9, -999.000,9
           NA,     A06,    133,   1,-999.0,      10,  2,19930216,1137,   7.5013,  -48.4988,  4325, 3194.100,    2.516,   34.918,2,   34.918,2,  260.400,2,  262.200,2,   30.980,2,   18.920,2,    0.000,2,    1.280,2,    0.057,2,    0.026,2, -999.000,9, -999.000,9, -999.000,9
           NA,     A06,    133,   1,-999.0,       9,  2,19930216,1137,   7.5013,  -48.4988,  4325, 3394.200,    2.402,   34.912,2,   34.912,2,  263.500,2,  265.600,2,   30.240,2,   18.480,2,    0.000,2,    1.250,2,    0.092,2,    0.041,2, -999.000,9, -999.000,9, -999.000,9
           NA,     A06,    133,   1,-999.0,       8,  2,19930216,1137,   7.5013,  -48.4988,  4325, 3594.800,    2.304,   34.905,2,   34.902,2,  265.700,2,  267.600,2,   30.230,2,   18.220,2,    0.000,2,    1.240,2,    0.122,2,    0.057,2, -999.000,9, -999.000,9, -999.000,9
           NA,     A06,    133,   1,-999.0,       7,  2,19930216,1137,   7.5013,  -48.4988,  4325, 3794.300,    2.252,   34.901,2,   34.898,2,  265.600,2,  267.600,2,   31.820,2,   18.370,2,    0.000,2,    1.250,2,    0.129,2,    0.063,2, -999.000,9, -999.000,9, -999.000,9
           NA,     A06,    133,   1,-999.0,       6,  2,19930216,1137,   7.5013,  -48.4988,  4325, 3894.500,    2.244,   34.898,2,   34.899,2,  265.800,2,  267.800,2,   32.010,2,   18.400,2,    0.000,2,    1.260,2,    0.150,2,    0.076,2, -999.000,9, -999.000,9, -999.000,9
           NA,     A06,    133,   1,-999.0,       5,  2,19930216,1137,   7.5013,  -48.4988,  4325, 3993.100,    2.231,   34.895,2,   34.895,2,  264.900,2,  266.500,2,   33.830,2,   18.690,2,    0.000,2,    1.280,2,    0.097,2,    0.044,2, -999.000,9, -999.000,9, -999.000,9
           NA,     A06,    133,   1,-999.0,       4,  2,19930216,1137,   7.5013,  -48.4988,  4325, 4091.700,    2.202,   34.891,2,   34.891,2,  263.400,2,  264.600,2,   35.990,2,   18.940,2,    0.000,2,    1.300,2,    0.091,2,    0.043,2, -999.000,9, -999.000,9, -999.000,9
           NA,     A06,    133,   1,-999.0,       3,  2,19930216,1137,   7.5013,  -48.4988,  4325, 4093.600,    2.201,   34.892,2,   34.890,2,  263.400,2,  264.400,2,   35.930,2,   18.980,2,    0.000,2,    1.300,2,    0.084,2,    0.045,2, -999.000,9, -999.000,9, -999.000,9
           NA,     A06,    133,   1,-999.0,       2,  2,19930216,1137,   7.5013,  -48.4988,  4325, 4193.800,    2.165,   34.885,2,   34.887,2,  262.000,2,  263.000,2,   39.280,2,   19.360,2,    0.000,2,    1.330,2,    0.078,2,    0.043,2, -999.000,9, -999.000,9, -999.000,9
           NA,     A06,    133,   1,-999.0,       1,  2,19930216,1137,   7.5013,  -48.4988,  4325, 4337.200,    2.094,   34.874,2,   34.878,2,  255.600,2,  259.000,2,   45.580,2,   20.360,2,    0.000,2,    1.400,2,    0.064,2,    0.035,2, -999.000,9, -999.000,9, -999.000,9