BOTTLE,20205402JOAExport
EXPOCODE,SECT_ID,STNNBR,CASTNO,SAMPNO,BTLNBR,BTLNBR_FLAG_W,DATE,TIME,LATITUDE,LONGITUDE,DEPTH,CTDPRS,CTDTMP,CTDSAL,CTDSAL_FLAG_W,SALNTY,SALNTY_FLAG_W,CTDOXY,CTDOXY_FLAG_W,OXYGEN,OXYGEN_FLAG_W,SILCAT,SILCAT_FLAG_W,NITRAT,NITRAT_FLAG_W,NITRIT,NITRIT_FLAG_W,PHSPHT,PHSPHT_FLAG_W,CFC-11,CFC-11_FLAG_W,CFC-12,CFC-12_FLAG_W,SF6,SF6_FLAG_W,TCARBN,TCARBN_FLAG_W,ALKALI,ALKALI_FLAG_W
,,,,,,,,,,,,,DB,DEG C,PSS-78,,PSS-78,,UMOL/KG,,UMOL/KG,,UMOL/KG,,UMOL/KG,,UMOL/KG,,UMOL/KG,,PMOL/KG,,PMOL/KG,,FMOL/KG,,UMOL/KG,,UMOL/KG
           NA,     A06,    182,   1,-999.0,      20,  2,19930301,1447,   7.5837,  -20.9997,  1729,    2.100,   26.530,   36.112,2,   36.113,2,  202.700,2,  204.800,2,    1.870,2,    0.050,2,    0.000,2,    0.000,2,    1.818,2,    0.973,2, -999.000,9, 2021.700,2, 2419.400,2
           NA,     A06,    182,   1,-999.0,      19,  2,19930301,1447,   7.5837,  -20.9997,  1729,   24.100,   26.369,   36.109,2,   36.106,2,  206.300,2,  205.400,2,    1.910,2,    0.030,2,    0.000,2,    0.000,2,    1.794,2,    0.955,2, -999.000,9, 2033.800,2, 2424.300,2
           NA,     A06,    182,   1,-999.0,      18,  2,19930301,1447,   7.5837,  -20.9997,  1729,   44.100,   23.542,   36.032,2, -999.000,3,  207.300,2, -999.000,3,    2.790,2,    1.040,2,    0.070,2,    0.160,2,    1.651,2,    0.857,2, -999.000,9, 2079.300,2, 2420.900,2
           NA,     A06,    182,   1,-999.0,      17,  2,19930301,1447,   7.5837,  -20.9997,  1729,   68.700,   19.408,   35.852,2, -999.000,3,  154.400,2, -999.000,3,    4.880,2,   11.230,2,    0.500,2,    0.800,2,    1.391,2,    0.694,2, -999.000,9, 2152.100,2, 2382.600,2
           NA,     A06,    182,   1,-999.0,      16,  2,19930301,1447,   7.5837,  -20.9997,  1729,  118.400,   14.359,   35.457,2, -999.000,3,   74.300,2,   73.000,2,    9.020,2,   24.930,2,    0.010,2,    1.570,2,    0.941,2,    0.466,2, -999.000,9, 2225.000,2, 2368.600,2
           NA,     A06,    182,   1,-999.0,      15,  2,19930301,1447,   7.5837,  -20.9997,  1729,  194.000,   12.785,   35.281,2,   35.276,2,   78.100,2,   79.000,2,   10.360,2,   26.040,2,    0.010,2,    1.660,2,    0.742,2,    0.367,2, -999.000,9, 2235.400,2, 2365.600,2
           NA,     A06,    182,   1,-999.0,      14,  2,19930301,1447,   7.5837,  -20.9997,  1729,  243.100,   12.050,   35.209,2, -999.000,3,   80.700,2,   80.600,2,   11.280,2,   27.190,2,    0.000,2,    1.720,2,    0.637,2,    0.318,2, -999.000,9, 2247.300,2, 2372.100,2
           NA,     A06,    182,   1,-999.0,      13,  2,19930301,1447,   7.5837,  -20.9997,  1729,  343.400,   10.363,   35.051,2,   35.048,2,   57.100,2,   61.600,2,   14.580,2,   33.050,2,    0.000,2,    2.000,2,    0.293,2,    0.142,2, -999.000,9, 2268.600,2, 2359.300,2
           NA,     A06,    182,   1,-999.0,      12,  2,19930301,1447,   7.5837,  -20.9997,  1729,  392.300,    9.620,   34.995,2,   34.994,2,   53.200,2,   51.700,2,   16.610,2,   35.640,2,    0.000,2,    2.150,2,    0.156,2,    0.066,2, -999.000,9, 2280.800,2, 2359.000,2
           NA,     A06,    182,   1,-999.0,      11,  2,19930301,1447,   7.5837,  -20.9997,  1729,  592.700,    6.857,   34.724,2,   34.724,2,   78.000,2,   78.000,2,   23.910,2,   38.720,2,    0.000,2,    2.440,2,    0.022,2,    0.005,2, -999.000,9, 2282.900,2, 2352.800,2
           NA,     A06,    182,   1,-999.0,      10,  2,19930301,1447,   7.5837,  -20.9997,  1729,  791.400,    5.729,   34.661,2,   34.661,2,  104.000,2,  103.800,2,   28.100,2,   37.620,2,    0.000,2,    2.440,2,    0.002,2,    0.000,2, -999.000,9, -999.000,3, -999.000,3
           NA,     A06,    182,   1,-999.0,       9,  2,19930301,1447,   7.5837,  -20.9997,  1729,  992.100,    5.028,   34.719,2,   34.722,2,  133.100,2,  136.500,2,   29.120,2,   33.720,2,    0.000,2,    2.250,2,    0.002,2,   -0.001,2, -999.000,9, -999.000,3, -999.000,3
           NA,     A06,    182,   1,-999.0,       8,  2,19930301,1447,   7.5837,  -20.9997,  1729, 1092.800,    4.846,   34.785,2,   34.787,2,  148.200,2,  151.000,2,   27.920,2,   31.160,2,    0.000,2,    2.110,2,   -0.002,2,    0.001,2, -999.000,9, -999.000,3, -999.000,3
           NA,     A06,    182,   1,-999.0,       7,  2,19930301,1447,   7.5837,  -20.9997,  1729, 1192.300,    4.650,   34.861,2,   34.864,2,  164.400,2, -999.000,3,   25.700,2,   27.930,2,    0.000,2,    1.910,2,    0.001,2,    0.000,2, -999.000,9, -999.000,3, -999.000,3
           NA,     A06,    182,   1,-999.0,       6,  2,19930301,1447,   7.5837,  -20.9997,  1729, 1292.200,    4.526,   34.886,2,   34.889,2,  183.100,2,  182.800,2,   24.840,2,   26.340,2,    0.000,2,    1.810,2,    0.000,2,   -0.001,2, -999.000,9, -999.000,3, -999.000,3
           NA,     A06,    182,   1,-999.0,       5,  2,19930301,1447,   7.5837,  -20.9997,  1729, 1292.200,    4.512,   34.889,2,   34.892,2,  183.100,2,  184.200,2,   24.740,2,   26.070,2,    0.000,2,    1.800,2,    0.001,2,    0.000,2, -999.000,9, -999.000,3, -999.000,3
           NA,     A06,    182,   1,-999.0,       4,  2,19930301,1447,   7.5837,  -20.9997,  1729, 1392.300,    4.253,   34.931,2,   34.933,2,  203.600,2,  204.700,2,   23.000,2,   23.360,2,    0.000,2,    1.630,2,    0.005,2,    0.002,2, -999.000,9, -999.000,3, -999.000,3
           NA,     A06,    182,   1,-999.0,       3,  2,19930301,1447,   7.5837,  -20.9997,  1729, 1492.600,    4.129,   34.940,2,   34.942,2,  212.900,2,  211.400,2,   22.850,2,   22.550,2,    0.000,2,    1.580,2,    0.001,2,   -0.001,2, -999.000,9, -999.000,3, -999.000,3
           NA,     A06,    182,   1,-999.0,       2,  2,19930301,1447,   7.5837,  -20.9997,  1729, 1592.500,    3.916,   34.948,2,   34.948,2,  223.600,2,  222.500,2,   23.020,2,   21.500,2,    0.000,2,    1.520,2,    0.004,2,   -0.001,2, -999.000,9, -999.000,3, -999.000,3
           NA,     A06,    182,   1,-999.0,       1,  2,19930301,1447,   7.5837,  -20.9997,  1729, 1680.500,    3.805,   34.950,2,   34.953,2,  226.400,2,  227.300,2,   23.190,2,   20.790,2,    0.000,2,    1.490,2,    0.004,2,   -0.002,2, -999.000,9, -999.000,3, -999.000,3
           NA,     A06,    183,   1,-999.0,      30,  2,19930301,1936,   7.5835,  -20.4992,  3989,    2.200,   25.339,   35.767,2,   35.771,2,  207.200,2,  208.700,2,    1.730,2,    0.060,2,    0.020,2,    0.000,2, -999.000,3,    1.003,2, -999.000,9, -999.000,9, -999.000,9
           NA,     A06,    183,   1,-999.0,      29,  2,19930301,1936,   7.5835,  -20.4992,  3989,   43.400,   24.294,   35.975,2, -999.000,3,  198.600,2,  203.300,2,    2.350,2,    0.440,2,    0.080,2,    0.060,2,    1.698,2,    0.896,2, -999.000,9, -999.000,9, -999.000,9
           NA,     A06,    183,   1,-999.0,      28,  2,19930301,1936,   7.5835,  -20.4992,  3989,   93.800,   14.861,   35.509,2,   35.513,2,   68.800,2,   68.500,2,    8.140,2,   23.990,2,    0.020,2,    1.520,2,    1.017,2,    0.511,2, -999.000,9, -999.000,9, -999.000,9
           NA,     A06,    183,   1,-999.0,      27,  2,19930301,1936,   7.5835,  -20.4992,  3989,  191.900,   12.752,   35.270,2, -999.000,3,   82.200,2,   84.100,2,   10.060,2,   24.590,2,    0.000,2,    1.600,2,    0.727,2,    0.363,2, -999.000,9, -999.000,9, -999.000,9
           NA,     A06,    183,   1,-999.0,      26,  2,19930301,1936,   7.5835,  -20.4992,  3989,  381.000,   10.000,   35.043,2,   35.045,2,   51.200,2,   52.000,2,   15.620,2,   33.370,2,    0.000,2,    2.050,2,    0.209,2,    0.099,2, -999.000,9, -999.000,9, -999.000,9
           NA,     A06,    183,   1,-999.0,      25,  2,19930301,1936,   7.5835,  -20.4992,  3989,  391.700,    9.808,   35.018,2,   35.018,2,   50.300,2,   52.600,2,   16.110,2,   33.920,2,    0.000,2,    2.080,2,    0.171,2,    0.077,2, -999.000,9, -999.000,9, -999.000,9
           NA,     A06,    183,   1,-999.0,      24,  2,19930301,1936,   7.5835,  -20.4992,  3989,  591.700,    7.377,   34.763,2,   34.761,2,   73.000,2,   74.500,2,   22.430,2,   36.840,2,    0.000,2,    2.340,2,    0.030,2,    0.013,2, -999.000,9, -999.000,9, -999.000,9
           NA,     A06,    183,   1,-999.0,      23,  2,19930301,1936,   7.5835,  -20.4992,  3989,  791.500,    5.939,   34.664,2,   34.664,2,   98.300,2,   99.000,2,   27.630,2,   36.530,2,    0.000,2,    2.400,2,    0.003,2,    0.002,2, -999.000,9, -999.000,9, -999.000,9
           NA,     A06,    183,   1,-999.0,      22,  2,19930301,1936,   7.5835,  -20.4992,  3989,  992.700,    5.146,   34.699,2,   34.696,2,  123.900,2,  128.600,2,   29.510,2,   33.410,2,    0.000,2,    2.280,2,    0.003,2,   -0.001,2, -999.000,9, -999.000,9, -999.000,9
           NA,     A06,    183,   1,-999.0,      21,  2,19930301,1936,   7.5835,  -20.4992,  3989, 1091.800,    4.894,   34.759,2,   34.756,2,  142.100,2,  147.400,2,   28.450,2,   30.880,2,    0.000,2,    2.120,2,    0.001,2,    0.000,2, -999.000,9, -999.000,9, -999.000,9
           NA,     A06,    183,   1,-999.0,      20,  2,19930301,1936,   7.5835,  -20.4992,  3989, 1191.900,    4.750,   34.829,2,   34.828,2,  160.600,2,  161.700,2,   27.050,2,   28.080,2,    0.000,2,    1.960,2,   -0.001,2,   -0.002,2, -999.000,9, -999.000,9, -999.000,9
           NA,     A06,    183,   1,-999.0,      19,  2,19930301,1936,   7.5835,  -20.4992,  3989, 1291.900,    4.614,   34.876,2,   34.876,2,  176.400,2,  176.500,2,   25.450,2,   25.940,2,    0.000,2,    1.830,2,   -0.001,2,   -0.001,2, -999.000,9, -999.000,9, -999.000,9
           NA,     A06,    183,   1,-999.0,      18,  2,19930301,1936,   7.5835,  -20.4992,  3989, 1392.000,    4.400,   34.914,2,   34.915,2,  195.400,2,  192.300,2,   24.150,2,   23.770,2,    0.000,2,    1.690,2, -999.000,9, -999.000,9, -999.000,9, -999.000,9, -999.000,9
           NA,     A06,    183,   1,-999.0,      17,  2,19930301,1936,   7.5835,  -20.4992,  3989, 1493.300,    4.189,   34.938,2,   34.939,2,  213.600,2,  209.400,2,   23.070,2,   21.650,2,    0.000,2,    1.560,2,   -0.001,2,   -0.002,2, -999.000,9, -999.000,9, -999.000,9
           NA,     A06,    183,   1,-999.0,      16,  2,19930301,1936,   7.5835,  -20.4992,  3989, 1593.800,    4.014,   34.946,2,   34.947,2,  219.900,2,  218.100,2,   23.060,2,   20.680,2,    0.000,2,    1.500,2,    0.001,2,    0.002,2, -999.000,9, -999.000,9, -999.000,9
           NA,     A06,    183,   1,-999.0,      15,  2,19930301,1936,   7.5835,  -20.4992,  3989, 1692.900,    3.868,   34.951,2,   34.953,2,  227.300,2,  225.000,2,   22.990,2,   19.880,2,    0.000,2,    1.450,2,    0.001,2,   -0.002,2, -999.000,9, -999.000,9, -999.000,9
           NA,     A06,    183,   1,-999.0,      14,  2,19930301,1936,   7.5835,  -20.4992,  3989, 1793.700,    3.705,   34.953,2,   34.954,2,  233.300,2,  230.500,2,   23.700,2,   19.430,2,    0.000,2,    1.410,2,    0.002,2,    0.002,2, -999.000,9, -999.000,9, -999.000,9
           NA,     A06,    183,   1,-999.0,      13,  2,19930301,1936,   7.5835,  -20.4992,  3989, 1892.400,    3.569,   34.954,2,   34.955,2,  237.000,2,  235.800,2,   24.430,2,   18.770,2,    0.000,2,    1.390,2,    0.001,2,   -0.001,2, -999.000,9, -999.000,9, -999.000,9
           NA,     A06,    183,   1,-999.0,      12,  2,19930301,1936,   7.5835,  -20.4992,  3989, 1993.500,    3.453,   34.954,2,   34.956,2,  237.400,2,  237.300,2,   25.730,2,   18.860,2,    0.000,2,    1.390,2,    0.001,2,   -0.002,2, -999.000,9, -999.000,9, -999.000,9
           NA,     A06,    183,   1,-999.0,      11,  2,19930301,1936,   7.5835,  -20.4992,  3989, 2193.300,    3.216,   34.947,2,   34.949,2,  242.600,2,  241.600,2,   28.260,2,   18.570,2,    0.000,2,    1.360,2,    0.001,2,   -0.001,2, -999.000,9, -999.000,9, -999.000,9
           NA,     A06,    183,   1,-999.0,      10,  2,19930301,1936,   7.5835,  -20.4992,  3989, 2394.000,    3.059,   34.942,2,   34.944,2,  242.700,2,  241.900,2,   30.940,2,   18.440,2,    0.000,2,    1.360,2,   -0.001,2,   -0.002,2, -999.000,9, -999.000,9, -999.000,9
           NA,     A06,    183,   1,-999.0,       9,  2,19930301,1936,   7.5835,  -20.4992,  3989, 2694.300,    2.809,   34.931,2,   34.930,2,  244.700,2,  242.600,2,   34.920,2,   18.530,2,    0.000,2,    1.360,2,   -0.003,2,    0.000,2, -999.000,9, -999.000,9, -999.000,9
           NA,     A06,    183,   1,-999.0,       8,  2,19930301,1936,   7.5835,  -20.4992,  3989, 2993.700,    2.620,   34.916,2,   34.915,2,  245.300,2,  244.800,2,   38.990,2,   18.780,2,    0.000,2,    1.380,2,   -0.002,2,   -0.001,2, -999.000,9, -999.000,9, -999.000,9
           NA,     A06,    183,   1,-999.0,       6,  2,19930301,1936,   7.5835,  -20.4992,  3989, 3194.600,    2.553,   34.911,2,   34.910,2,  244.100,2,  244.800,2,   41.130,2,   18.930,2,    0.000,2,    1.390,2,    0.001,2,   -0.002,2, -999.000,9, -999.000,9, -999.000,9
           NA,     A06,    183,   1,-999.0,       7,  2,19930301,1936,   7.5835,  -20.4992,  3989, 3194.700,    2.555,   34.910,2,   34.911,2,  244.100,2,  244.000,2,   40.720,2,   18.990,2,    0.000,2,    1.390,2,    0.002,2,   -0.001,2, -999.000,9, -999.000,9, -999.000,9
           NA,     A06,    183,   1,-999.0,       5,  2,19930301,1936,   7.5835,  -20.4992,  3989, 3394.600,    2.493,   34.905,2,   34.906,2,  244.000,2,  244.500,2,   43.080,2,   18.940,2,    0.000,2,    1.400,2,   -0.001,2,   -0.002,2, -999.000,9, -999.000,9, -999.000,9
           NA,     A06,    183,   1,-999.0,       4,  2,19930301,1936,   7.5835,  -20.4992,  3989, 3594.500,    2.424,   34.900,2,   34.902,2,  243.200,2,  243.700,2,   45.040,2,   19.360,2,    0.000,2,    1.410,2,    0.004,2,    0.000,2, -999.000,9, -999.000,9, -999.000,9
           NA,     A06,    183,   1,-999.0,       3,  2,19930301,1936,   7.5835,  -20.4992,  3989, 3794.900,    2.372,   34.894,2,   34.897,2,  244.900,2,  244.600,2,   46.670,2,   19.200,2,    0.000,2,    1.410,2,    0.001,2,   -0.001,2, -999.000,9, -999.000,9, -999.000,9
           NA,     A06,    183,   1,-999.0,       2,  2,19930301,1936,   7.5835,  -20.4992,  3989, 3895.200,    2.354,   34.893,2,   34.894,2,  244.200,2,  244.500,2,   47.250,2,   19.370,2,    0.000,2,    1.410,2,    0.001,2,    0.000,2, -999.000,9, -999.000,9, -999.000,9
           NA,     A06,    183,   1,-999.0,       1,  2,19930301,1936,   7.5835,  -20.4992,  3989, 4017.800,    2.339,   34.890,2,   34.893,2,  242.000,2,  244.400,2,   48.350,2,   19.520,2,    0.000,2,    1.420,2,    0.005,2,   -0.001,2, -999.000,9, -999.000,9, -999.000,9