BOTTLE,20205402JOAExport
EXPOCODE,SECT_ID,STNNBR,CASTNO,SAMPNO,BTLNBR,BTLNBR_FLAG_W,DATE,TIME,LATITUDE,LONGITUDE,DEPTH,CTDPRS,CTDTMP,CTDSAL,CTDSAL_FLAG_W,SALNTY,SALNTY_FLAG_W,CTDOXY,CTDOXY_FLAG_W,OXYGEN,OXYGEN_FLAG_W,SILCAT,SILCAT_FLAG_W,NITRAT,NITRAT_FLAG_W,NITRIT,NITRIT_FLAG_W,PHSPHT,PHSPHT_FLAG_W,CFC-11,CFC-11_FLAG_W,CFC-12,CFC-12_FLAG_W,SF6,SF6_FLAG_W,TCARBN,TCARBN_FLAG_W,ALKALI,ALKALI_FLAG_W
,,,,,,,,,,,,,DB,DEG C,PSS-78,,PSS-78,,UMOL/KG,,UMOL/KG,,UMOL/KG,,UMOL/KG,,UMOL/KG,,UMOL/KG,,PMOL/KG,,PMOL/KG,,FMOL/KG,,UMOL/KG,,UMOL/KG
           NA,     A06,    162,   1,-999.0,      32,  2,19930224,0905,   7.4503,  -32.3338,  4197,    4.200,   25.571,   36.201,2,   36.200,2,  198.200,2, -999.000,3,    1.800,2,    0.000,2,    0.000,2,    0.000,2, -999.000,9, -999.000,9, -999.000,9, 2031.300,2, 2409.800,2
           NA,     A06,    162,   1,-999.0,      31,  2,19930224,0905,   7.4503,  -32.3338,  4197,   69.400,   22.104,   36.209,2, -999.000,3,  196.500,2, -999.000,3,    3.370,2,    6.640,2,    0.160,2,    0.420,2, -999.000,9, -999.000,9, -999.000,9, 2120.600,2, 2410.700,2
           NA,     A06,    162,   1,-999.0,      30,  2,19930224,0905,   7.4503,  -32.3338,  4197,  120.300,   12.599,   35.313,2, -999.000,3,  120.100,2,  123.600,2,    9.310,2,   23.260,2,    0.010,2,    1.360,2, -999.000,9, -999.000,9, -999.000,9, 2203.900,2, 2365.900,2
           NA,     A06,    162,   1,-999.0,      29,  2,19930224,0905,   7.4503,  -32.3338,  4197,  193.000,    9.913,   34.953,2,   34.952,2,  107.500,2,  106.400,2,   13.410,2,   30.170,2,    0.000,2,    1.770,2, -999.000,9, -999.000,9, -999.000,9, 2225.800,2, -999.000,4
           NA,     A06,    162,   1,-999.0,      28,  2,19930224,0905,   7.4503,  -32.3338,  4197,  194.100,    9.915,   34.954,2,   34.951,2,  107.400,2,  107.400,2,   13.400,2,   29.900,2,    0.000,2,    1.780,2, -999.000,9, -999.000,9, -999.000,9, 2232.200,2, 2359.200,2
           NA,     A06,    162,   1,-999.0,      27,  2,19930224,0905,   7.4503,  -32.3338,  4197,  294.100,    8.992,   34.851,2,   34.850,2,  110.800,2,  110.000,2,   15.170,2,   31.450,2,    0.000,2,    1.890,2, -999.000,9, -999.000,9, -999.000,9, 2242.200,2, 2353.000,2
           NA,     A06,    162,   1,-999.0,      26,  2,19930224,0905,   7.4503,  -32.3338,  4197,  393.300,    8.216,   34.786,2,   34.786,2,  105.700,2,  104.100,2,   17.470,2,   33.870,2,    0.000,2,    2.020,2, -999.000,9, -999.000,9, -999.000,9, 2245.200,2, 2348.700,2
           NA,     A06,    162,   1,-999.0,      25,  2,19930224,0905,   7.4503,  -32.3338,  4197,  593.600,    6.922,   34.691,2,   34.689,2,  106.500,2,  106.000,2,   21.880,2,   36.610,2,    0.000,2,    2.220,2,    0.068,2,    0.037,2, -999.000,9, 2251.400,2, 2338.100,2
           NA,     A06,    162,   1,-999.0,      24,  2,19930224,0905,   7.4503,  -32.3338,  4197,  793.000,    5.517,   34.647,2,   34.647,2,  127.500,2,  126.300,2,   27.210,2,   36.670,2,    0.000,2,    2.280,2,    0.008,2,    0.003,2, -999.000,9, 2242.400,2, 2331.700,2
           NA,     A06,    162,   1,-999.0,      23,  2,19930224,0905,   7.4503,  -32.3338,  4197,  992.900,    4.893,   34.703,2,   34.702,2,  148.400,2,  149.800,2,   28.170,2,   34.050,2,    0.000,2,    2.140,2, -999.000,9, -999.000,9, -999.000,9, 2261.500,2, 2360.700,2
           NA,     A06,    162,   1,-999.0,      22,  2,19930224,0905,   7.4503,  -32.3338,  4197, 1193.000,    4.775,   34.870,2,   34.867,2,  177.600,2,  178.800,2,   23.570,2,   28.730,2,    0.000,2,    1.810,2,    0.017,2,    0.006,2, -999.000,9, 2244.400,2, 2369.400,2
           NA,     A06,    162,   1,-999.0,      21,  2,19930224,0905,   7.4503,  -32.3338,  4197, 1392.700,    4.427,   34.957,2,   34.958,2,  214.600,2,  217.200,2,   19.180,2,   23.500,2,    0.000,2,    1.490,2,    0.045,2,    0.022,2, -999.000,9, 2223.500,2, 2370.600,2
           NA,     A06,    162,   1,-999.0,      20,  2,19930224,0905,   7.4503,  -32.3338,  4197, 1493.400,    4.278,   34.978,2,   34.977,2,  227.800,2,  230.800,2,   17.660,2,   21.890,2,    0.000,2,    1.370,2,    0.045,2,    0.023,2, -999.000,9, 2192.300,2, 2348.400,2
           NA,     A06,    162,   1,-999.0,      19,  2,19930224,0905,   7.4503,  -32.3338,  4197, 1593.000,    4.104,   34.985,2,   34.984,2,  236.900,2,  240.300,2,   17.010,2,   20.850,2,    0.000,2,    1.310,2,    0.054,2,    0.036,2, -999.000,9, 2191.200,2, 2350.500,2
           NA,     A06,    162,   1,-999.0,      18,  2,19930224,0905,   7.4503,  -32.3338,  4197, 1693.600,    3.921,   34.984,2,   34.985,2,  243.700,2,  246.400,2,   17.150,2,   20.250,2,    0.000,2,    1.270,2,    0.046,2,    0.023,2, -999.000,9, -999.000,3, -999.000,3
           NA,     A06,    162,   1,-999.0,      17,  2,19930224,0905,   7.4503,  -32.3338,  4197, 1794.100,    3.742,   34.976,2,   34.977,2,  248.900,2,  248.200,2,   18.380,2,   20.390,2,    0.000,2,    1.260,2,    0.030,2,    0.014,2, -999.000,9, 2187.700,2, 2351.000,2
           NA,     A06,    162,   1,-999.0,      16,  2,19930224,0905,   7.4503,  -32.3338,  4197, 1893.300,    3.610,   34.972,2,   34.972,2,  250.600,2,  249.900,2,   19.450,2,   20.360,2,    0.000,2,    1.270,2,    0.026,2,    0.017,2, -999.000,9, -999.000,3, -999.000,3
           NA,     A06,    162,   1,-999.0,      15,  2,19930224,0905,   7.4503,  -32.3338,  4197, 1993.900,    3.516,   34.969,2,   34.967,2,  251.600,2,  250.400,2,   20.530,2,   20.280,2,    0.000,2,    1.280,2,    0.019,2,    0.006,2, -999.000,9, -999.000,3, -999.000,3
           NA,     A06,    162,   1,-999.0,      14,  2,19930224,0905,   7.4503,  -32.3338,  4197, 2192.700,    3.315,   34.959,2,   34.958,2,  251.500,2,  251.200,2,   23.100,2,   20.600,2,    0.000,2,    1.290,2,    0.009,2,    0.004,2, -999.000,9, -999.000,3, -999.000,3
           NA,     A06,    162,   1,-999.0,      13,  2,19930224,0905,   7.4503,  -32.3338,  4197, 2393.200,    3.153,   34.949,2,   34.948,2,  251.600,2,  251.500,2,   25.460,2,   20.740,2,    0.000,2,    1.310,2,    0.003,2,    0.003,2, -999.000,9, -999.000,3, -999.000,3
           NA,     A06,    162,   1,-999.0,      12,  2,19930224,0905,   7.4503,  -32.3338,  4197, 2693.700,    2.885,   34.936,2,   34.935,2,  251.900,2,  252.600,2,   29.490,2,   20.960,2,    0.000,2,    1.320,2,    0.003,2,    0.002,2, -999.000,9, -999.000,3, -999.000,3
           NA,     A06,    162,   1,-999.0,      11,  2,19930224,0905,   7.4503,  -32.3338,  4197, 2993.300,    2.667,   34.921,2,   34.921,2,  252.600,2,  254.700,2,   33.150,2,   21.140,2,    0.000,2,    1.340,2,    0.004,2,    0.002,2, -999.000,9, -999.000,3, -999.000,3
           NA,     A06,    162,   1,-999.0,      10,  2,19930224,0905,   7.4503,  -32.3338,  4197, 3194.100,    2.591,   34.915,2,   34.915,2,  253.500,2,  253.600,2,   34.680,2,   21.190,2,    0.000,2,    1.330,2,    0.007,2,    0.002,2, -999.000,9, -999.000,3, -999.000,3
           NA,     A06,    162,   1,-999.0,       9,  2,19930224,0905,   7.4503,  -32.3338,  4197, 3393.900,    2.495,   34.907,2,   34.909,2,  253.600,2,  251.400,2,   36.850,2,   21.470,2,    0.000,2,    1.360,2,    0.007,2,    0.003,2, -999.000,9, -999.000,3, -999.000,3
           NA,     A06,    162,   1,-999.0,       8,  2,19930224,0905,   7.4503,  -32.3338,  4197, 3594.500,    2.439,   34.903,2,   34.903,2,  253.900,2,  254.100,2,   38.160,2,   21.550,2,    0.000,2,    1.370,2,    0.007,2,    0.002,2, -999.000,9, -999.000,3, -999.000,3
           NA,     A06,    162,   1,-999.0,       7,  2,19930224,0905,   7.4503,  -32.3338,  4197, 3594.700,    2.439,   34.902,2,   34.902,2,  253.900,2,  254.400,2,   38.170,2,   21.600,2,    0.000,2,    1.360,2,    0.008,2,    0.003,2, -999.000,9, -999.000,3, -999.000,3
           NA,     A06,    162,   1,-999.0,       6,  2,19930224,0905,   7.4503,  -32.3338,  4197, 3793.300,    2.371,   34.896,2,   34.896,2,  254.300,2,  254.800,2,   40.050,2,   21.800,2,    0.000,2,    1.370,2,    0.017,2,    0.005,2, -999.000,9, -999.000,3, -999.000,3
           NA,     A06,    162,   1,-999.0,       5,  2,19930224,0905,   7.4503,  -32.3338,  4197, 3893.000,    2.342,   34.893,2,   34.893,2,  254.400,2,  255.200,2,   41.010,2,   21.850,2,    0.000,2,    1.390,2,    0.012,2,    0.003,2, -999.000,9, -999.000,3, -999.000,3
           NA,     A06,    162,   1,-999.0,       4,  2,19930224,0905,   7.4503,  -32.3338,  4197, 3992.800,    2.326,   34.891,2,   34.890,2,  254.700,2,  257.500,2,   41.280,2,   21.990,2,    0.000,2,    1.390,2,    0.016,2,    0.008,2, -999.000,9, 2219.000,2, 2381.000,2
           NA,     A06,    162,   1,-999.0,       3,  2,19930224,0905,   7.4503,  -32.3338,  4197, 4093.700,    2.333,   34.890,2,   34.890,2,  254.900,2,  254.700,2,   41.410,2,   21.990,2,    0.000,2,    1.390,2,    0.017,2,    0.007,2, -999.000,9, 2226.000,2, 2387.400,2
           NA,     A06,    162,   1,-999.0,       2,  2,19930224,0905,   7.4503,  -32.3338,  4197, 4194.600,    2.339,   34.890,2,   34.889,2,  254.700,2,  254.800,2,   41.930,2,   22.030,2,    0.000,2,    1.390,2,    0.020,2,    0.008,2, -999.000,9, 2232.600,2, 2395.700,2
           NA,     A06,    162,   1,-999.0,       1,  2,19930224,0905,   7.4503,  -32.3338,  4197, 4225.700,    2.343,   34.889,2,   34.891,2,  252.400,2,  254.200,2,   41.770,2,   21.910,2,    0.010,2,    1.400,2,    0.020,2,    0.008,2, -999.000,9, 2218.300,2, 2379.800,2
           NA,     A06,    163,   1,-999.0,      32,  2,19930224,1406,   7.4498,  -31.9993,  4060,    2.600,   25.924,   36.243,2,   36.246,2,  202.800,2,  205.100,2,    1.880,2,    0.000,2,    0.000,2,    0.010,2,    1.880,2,    1.013,2, -999.000,9, -999.000,9, -999.000,9
           NA,     A06,    163,   1,-999.0,      31,  2,19930224,1406,   7.4498,  -31.9993,  4060,   68.700,   24.266,   36.159,2, -999.000,3,  152.400,2, -999.000,3,    2.550,2,    1.930,2,    0.040,2,    0.140,2,    1.753,2,    0.938,2, -999.000,9, -999.000,9, -999.000,9
           NA,     A06,    163,   1,-999.0,      29,  2,19930224,1406,   7.4498,  -31.9993,  4060,  116.900,   13.098,   35.354,2, -999.000,3,  112.600,2,  104.000,2,    9.360,2,   25.090,2,    0.010,2,    1.430,2,    0.987,2,    0.497,2, -999.000,9, -999.000,9, -999.000,9
           NA,     A06,    163,   1,-999.0,      30,  2,19930224,1406,   7.4498,  -31.9993,  4060,  117.500,   13.163,   35.375,2, -999.000,3,  112.000,2, -999.000,3,    9.340,2,   25.370,2,    0.010,2,    1.420,2,    1.008,2,    0.506,2, -999.000,9, -999.000,9, -999.000,9
           NA,     A06,    163,   1,-999.0,      28,  2,19930224,1406,   7.4498,  -31.9993,  4060,  193.500,   10.532,   35.034,2,   35.030,2,  119.600,2,  120.200,2,   12.290,2,   27.720,2,    0.000,2,    1.620,2,    0.729,2,    0.372,2, -999.000,9, -999.000,9, -999.000,9
           NA,     A06,    163,   1,-999.0,      27,  2,19930224,1406,   7.4498,  -31.9993,  4060,  393.400,    8.724,   34.825,2,   34.825,2,  109.000,2,  108.600,2,   16.480,2,   33.190,2,    0.010,2,    1.920,2,    0.327,2,    0.168,2, -999.000,9, -999.000,9, -999.000,9
           NA,     A06,    163,   1,-999.0,      26,  2,19930224,1406,   7.4498,  -31.9993,  4060,  542.000,    7.453,   34.783,2,   34.782,2,   85.500,2,   81.100,2,   21.590,2, -999.000,3,    0.000,2,    2.270,2,    0.043,2,    0.024,2, -999.000,9, -999.000,9, -999.000,9
           NA,     A06,    163,   1,-999.0,      25,  2,19930224,1406,   7.4498,  -31.9993,  4060,  592.500,    6.512,   34.654,2, -999.000,3,  102.400,2, -999.000,3,   23.600,2,   37.950,2,    0.010,2,    2.260,2,    0.056,2,    0.027,2, -999.000,9, -999.000,9, -999.000,9
           NA,     A06,    163,   1,-999.0,      24,  2,19930224,1406,   7.4498,  -31.9993,  4060,  791.900,    5.410,   34.622,2,   34.622,2,  126.800,2,  128.500,2,   28.750,2,   37.550,2,    0.010,2,    2.280,2,    0.012,2,    0.006,2, -999.000,9, -999.000,9, -999.000,9
           NA,     A06,    163,   1,-999.0,      23,  2,19930224,1406,   7.4498,  -31.9993,  4060,  992.200,    4.885,   34.702,2,   34.701,2,  150.800,2,  148.100,2,   29.120,2,   35.280,2,    0.000,2,    2.160,2,    0.005,2,    0.002,2, -999.000,9, -999.000,9, -999.000,9
           NA,     A06,    163,   1,-999.0,      22,  2,19930224,1406,   7.4498,  -31.9993,  4060, 1192.100,    4.740,   34.857,2,   34.856,2,  179.800,2,  176.700,2,   24.610,2,   30.260,2,    0.000,2,    1.850,2,    0.014,2,    0.005,2, -999.000,9, -999.000,9, -999.000,9
           NA,     A06,    163,   1,-999.0,      21,  2,19930224,1406,   7.4498,  -31.9993,  4060, 1392.600,    4.539,   34.945,2,   34.947,2,  213.500,2,  209.400,2,   20.460,2,   25.450,2,    0.000,2,    1.550,2,    0.034,2,    0.018,2, -999.000,9, -999.000,9, -999.000,9
           NA,     A06,    163,   1,-999.0,      20,  2,19930224,1406,   7.4498,  -31.9993,  4060, 1494.900,    4.374,   34.973,2,   34.973,2,  232.300,2, -999.000,3,   18.680,2,   23.570,2,    0.000,2,    1.440,2,    0.051,2,    0.025,2, -999.000,9, -999.000,9, -999.000,9
           NA,     A06,    163,   1,-999.0,      19,  2,19930224,1406,   7.4498,  -31.9993,  4060, 1593.800,    4.180,   34.983,2,   34.982,2,  240.600,2,  237.000,2,   17.740,2,   22.240,2,    0.000,2,    1.350,2,    0.025,2,    0.019,2, -999.000,9, -999.000,9, -999.000,9
           NA,     A06,    163,   1,-999.0,      18,  2,19930224,1406,   7.4498,  -31.9993,  4060, 1691.700,    4.054,   34.985,2,   34.986,2,  246.700,2,  242.100,2,   17.680,2,   21.660,2,    0.000,2,    1.310,2,    0.052,2,    0.022,2, -999.000,9, -999.000,9, -999.000,9
           NA,     A06,    163,   1,-999.0,      17,  2,19930224,1406,   7.4498,  -31.9993,  4060, 1793.200,    3.906,   34.984,2,   34.985,2,  250.100,2,  247.600,2,   17.750,2,   21.160,2,    0.000,2,    1.280,2,    0.049,2,    0.026,2, -999.000,9, -999.000,9, -999.000,9
           NA,     A06,    163,   1,-999.0,      16,  2,19930224,1406,   7.4498,  -31.9993,  4060, 1894.300,    3.764,   34.978,2,   34.979,2,  251.400,2,  249.500,2,   18.750,2,   21.060,2,    0.000,2,    1.280,2,    0.038,2,    0.019,2, -999.000,9, -999.000,9, -999.000,9
           NA,     A06,    163,   1,-999.0,      15,  2,19930224,1406,   7.4498,  -31.9993,  4060, 1994.700,    3.603,   34.970,2,   34.971,2,  251.100,2,  249.200,2,   20.410,2,   21.310,2,    0.000,2,    1.290,2,    0.018,2,    0.006,2, -999.000,9, -999.000,9, -999.000,9
           NA,     A06,    163,   1,-999.0,      14,  2,19930224,1406,   7.4498,  -31.9993,  4060, 2195.500,    3.370,   34.959,2,   34.956,2,  249.700,2,  248.900,2,   23.830,2,   21.850,2,    0.000,2,    1.330,2,    0.008,2,    0.004,2, -999.000,9, -999.000,9, -999.000,9
           NA,     A06,    163,   1,-999.0,      13,  2,19930224,1406,   7.4498,  -31.9993,  4060, 2394.000,    3.190,   34.950,2,   34.951,2,  251.500,2,  250.700,2,   26.150,2,   21.740,2,    0.000,2,    1.310,2,    0.008,2,    0.002,2, -999.000,9, -999.000,9, -999.000,9
           NA,     A06,    163,   1,-999.0,      12,  2,19930224,1406,   7.4498,  -31.9993,  4060, 2594.800,    3.029,   34.943,2,   34.942,2,  250.800,2,  250.700,2,   28.710,2,   21.850,2,    0.000,2,    1.330,2, -999.000,9, -999.000,9, -999.000,9, -999.000,9, -999.000,9
           NA,     A06,    163,   1,-999.0,      11,  2,19930224,1406,   7.4498,  -31.9993,  4060, 2793.700,    2.842,   34.932,2,   34.932,2,  251.800,2,  251.900,2,   31.450,2,   21.950,2,    0.000,2,    1.340,2,    0.005,2,    0.002,2, -999.000,9, -999.000,9, -999.000,9
           NA,     A06,    163,   1,-999.0,      10,  2,19930224,1406,   7.4498,  -31.9993,  4060, 2994.000,    2.712,   34.924,2,   34.924,2,  252.600,2,  254.300,2,   33.590,2,   21.990,2,    0.000,2,    1.340,2,    0.004,2,    0.001,2, -999.000,9, -999.000,9, -999.000,9
           NA,     A06,    163,   1,-999.0,       8,  2,19930224,1406,   7.4498,  -31.9993,  4060, 3196.000,    2.628,   34.917,2,   34.916,2,  253.000,2,  253.500,2,   35.510,2,   22.160,2,    0.020,2,    1.350,2,    0.008,2,    0.002,2, -999.000,9, -999.000,9, -999.000,9
           NA,     A06,    163,   1,-999.0,       9,  2,19930224,1406,   7.4498,  -31.9993,  4060, 3196.300,    2.629,   34.917,2,   34.918,2,  253.000,2,  253.200,2,   35.520,2,   22.220,2,    0.000,2,    1.350,2,    0.008,2,    0.002,2, -999.000,9, -999.000,9, -999.000,9
           NA,     A06,    163,   1,-999.0,       7,  2,19930224,1406,   7.4498,  -31.9993,  4060, 3393.700,    2.544,   34.910,2,   34.911,2,  253.100,2,  253.300,2,   38.320,2,   22.490,2,    0.000,2,    1.370,2,    0.007,2,    0.004,2, -999.000,9, -999.000,9, -999.000,9
           NA,     A06,    163,   1,-999.0,       6,  2,19930224,1406,   7.4498,  -31.9993,  4060, 3594.800,    2.477,   34.905,2,   34.906,2,  253.600,2,  254.200,2,   39.370,2,   22.500,2,    0.000,2,    1.370,2,    0.009,2,    0.004,2, -999.000,9, -999.000,9, -999.000,9
           NA,     A06,    163,   1,-999.0,       5,  2,19930224,1406,   7.4498,  -31.9993,  4060, 3692.300,    2.456,   34.903,2,   34.903,2,  253.900,2,  254.000,2,   39.550,2,   22.620,2,    0.000,2,    1.380,2,    0.007,2,    0.004,2, -999.000,9, -999.000,9, -999.000,9
           NA,     A06,    163,   1,-999.0,       4,  2,19930224,1406,   7.4498,  -31.9993,  4060, 3793.700,    2.431,   34.899,2,   34.901,2,  254.200,2,  254.000,2,   40.410,2,   22.600,2,    0.020,2,    1.380,2,    0.011,2,    0.005,2, -999.000,9, -999.000,9, -999.000,9
           NA,     A06,    163,   1,-999.0,       3,  2,19930224,1406,   7.4498,  -31.9993,  4060, 3896.000,    2.367,   34.894,2,   34.897,2,  254.300,2,  254.400,2,   42.190,2,   22.660,2,    0.020,2,    1.390,2,    0.015,2,    0.007,2, -999.000,9, -999.000,9, -999.000,9
           NA,     A06,    163,   1,-999.0,       2,  2,19930224,1406,   7.4498,  -31.9993,  4060, 3993.000,    2.347,   34.892,2,   34.893,2,  254.300,2,  254.500,2,   42.870,2,   22.910,2,    0.000,2,    1.410,2,    0.021,2,    0.011,2, -999.000,9, -999.000,9, -999.000,9
           NA,     A06,    163,   1,-999.0,       1,  2,19930224,1406,   7.4498,  -31.9993,  4060, 4051.900,    2.356,   34.891,2,   34.894,2,  253.100,2,  254.600,2,   42.880,2,   22.920,2,    0.000,2,    1.400,2,    0.027,2,    0.008,2, -999.000,9, -999.000,9, -999.000,9