BOTTLE,20205402JOAExport
EXPOCODE,SECT_ID,STNNBR,CASTNO,SAMPNO,BTLNBR,BTLNBR_FLAG_W,DATE,TIME,LATITUDE,LONGITUDE,DEPTH,CTDPRS,CTDTMP,CTDSAL,CTDSAL_FLAG_W,SALNTY,SALNTY_FLAG_W,CTDOXY,CTDOXY_FLAG_W,OXYGEN,OXYGEN_FLAG_W,SILCAT,SILCAT_FLAG_W,NITRAT,NITRAT_FLAG_W,NITRIT,NITRIT_FLAG_W,PHSPHT,PHSPHT_FLAG_W,CFC-11,CFC-11_FLAG_W,CFC-12,CFC-12_FLAG_W,SF6,SF6_FLAG_W,TCARBN,TCARBN_FLAG_W,ALKALI,ALKALI_FLAG_W
,,,,,,,,,,,,,DB,DEG C,PSS-78,,PSS-78,,UMOL/KG,,UMOL/KG,,UMOL/KG,,UMOL/KG,,UMOL/KG,,UMOL/KG,,PMOL/KG,,PMOL/KG,,FMOL/KG,,UMOL/KG,,UMOL/KG
           NA,     A06,    123,   1,-999.0,      21,  2,19930214,0326,   5.8255,  -51.2517,  1274,    1.000,   26.727,   36.327,2,   36.330,2,  202.700,2,  202.100,2,    1.740,2,    0.090,2,    0.000,2,    0.060,2,    1.814,2,    0.964,2, -999.000,9, -999.000,9, -999.000,9
           NA,     A06,    123,   1,-999.0,      20,  2,19930214,0326,   5.8255,  -51.2517,  1274,   43.400,   26.738,   36.328,2,   36.329,2,  203.700,2,  202.300,2,    1.740,2,    0.090,2,    0.000,2,    0.050,2, -999.000,9, -999.000,9, -999.000,9, -999.000,9, -999.000,9
           NA,     A06,    123,   1,-999.0,      19,  2,19930214,0326,   5.8255,  -51.2517,  1274,   69.100,   26.737,   36.332,2, -999.000,3,  203.600,2,  202.300,2,    1.720,2,    0.100,2,    0.000,2,    0.050,2,    1.810,2,    0.969,2, -999.000,9, -999.000,9, -999.000,9
           NA,     A06,    123,   1,-999.0,      18,  2,19930214,0326,   5.8255,  -51.2517,  1274,   93.400,   26.505,   36.407,2,   36.406,2,  204.100,2,  199.300,2,    1.780,2,    0.310,2,    0.030,2,    0.070,2, -999.000,9, -999.000,9, -999.000,9, -999.000,9, -999.000,9
           NA,     A06,    123,   1,-999.0,      17,  2,19930214,0326,   5.8255,  -51.2517,  1274,   93.500,   26.505,   36.408,2,   36.410,2,  203.800,2,  198.800,2,    1.800,2,    0.320,2,    0.040,2,    0.080,2,    1.819,2,    0.974,2, -999.000,9, -999.000,9, -999.000,9
           NA,     A06,    123,   1,-999.0,      16,  2,19930214,0326,   5.8255,  -51.2517,  1274,  143.300,   18.368,   36.035,2, -999.000,3,  181.400,2, -999.000,3,    4.470,2,    9.230,2,    0.010,2,    0.640,2,    1.781,2,    0.917,2, -999.000,9, -999.000,9, -999.000,9
           NA,     A06,    123,   1,-999.0,      15,  2,19930214,0326,   5.8255,  -51.2517,  1274,  193.700,   13.986,   35.654,2, -999.000,9,  141.200,2, -999.000,3,    8.110,2,   19.570,2,    0.000,2,    1.160,2,    1.223,2,    0.618,2, -999.000,9, -999.000,9, -999.000,9
           NA,     A06,    123,   1,-999.0,      14,  2,19930214,0326,   5.8255,  -51.2517,  1274,  293.100,   10.190,   34.981,2,   34.983,2,  136.200,2,  134.000,2,   12.370,2,   25.170,2,    0.000,2,    1.560,2,    0.819,2,    0.405,2, -999.000,9, -999.000,9, -999.000,9
           NA,     A06,    123,   1,-999.0,      13,  2,19930214,0326,   5.8255,  -51.2517,  1274,  392.600,    8.355,   34.730,2,   34.731,2,  146.400,2,  144.300,2,   15.720,2,   28.250,2,    0.000,2,    1.780,2,    0.598,2,    0.299,2, -999.000,9, -999.000,9, -999.000,9
           NA,     A06,    123,   1,-999.0,      12,  2,19930214,0326,   5.8255,  -51.2517,  1274,  492.100,    7.813,   34.746,2,   34.748,2,  126.500,2,  124.200,2,   18.220,2,   31.400,2,    0.000,2,    1.920,2,    0.312,2,    0.155,2, -999.000,9, -999.000,9, -999.000,9
           NA,     A06,    123,   1,-999.0,      11,  2,19930214,0326,   5.8255,  -51.2517,  1274,  591.600,    6.668,   34.642,2,   34.643,2,  129.100,2,  126.600,2,   22.060,2,   33.670,2,    0.000,2,    2.070,2,    0.156,2,    0.080,2, -999.000,9, -999.000,9, -999.000,9
           NA,     A06,    123,   1,-999.0,      10,  2,19930214,0326,   5.8255,  -51.2517,  1274,  691.700,    5.913,   34.608,2,   34.606,2,  133.300,2,  131.100,2,   25.180,2,   34.500,2,    0.000,2,    2.150,2,    0.079,2,    0.038,2, -999.000,9, -999.000,9, -999.000,9
           NA,     A06,    123,   1,-999.0,       8,  2,19930214,0326,   5.8255,  -51.2517,  1274,  792.000,    5.416,   34.610,2,   34.609,2,  139.200,2,  136.900,2,   27.690,2,   34.490,2,    0.000,2,    2.160,2,    0.035,2,    0.019,2, -999.000,9, -999.000,9, -999.000,9
           NA,     A06,    123,   1,-999.0,       9,  2,19930214,0326,   5.8255,  -51.2517,  1274,  793.100,    5.377,   34.607,2,   34.607,2,  139.300,2,  136.900,2,   27.540,2,   34.570,2,    0.000,2,    2.170,2,    0.042,2,    0.020,2, -999.000,9, -999.000,9, -999.000,9
           NA,     A06,    123,   1,-999.0,       7,  2,19930214,0326,   5.8255,  -51.2517,  1274,  892.100,    5.099,   34.644,2,   34.640,2,  146.800,2,  143.800,2,   28.670,2,   33.840,2,    0.000,2,    2.110,2,    0.026,2,    0.006,2, -999.000,9, -999.000,9, -999.000,9
           NA,     A06,    123,   1,-999.0,       6,  2,19930214,0326,   5.8255,  -51.2517,  1274,  992.600,    4.894,   34.704,2,   34.707,2,  154.900,2,  154.900,2,   28.200,2,   32.160,2,    0.000,2,    2.020,2,    0.019,2,    0.006,2, -999.000,9, -999.000,9, -999.000,9
           NA,     A06,    123,   1,-999.0,       5,  2,19930214,0326,   5.8255,  -51.2517,  1274, 1091.600,    4.912,   34.801,2,   34.803,2,  168.200,2,  169.000,2,   25.510,2,   29.500,2,    0.000,2,    1.860,2,    0.036,2,    0.013,2, -999.000,9, -999.000,9, -999.000,9
           NA,     A06,    123,   1,-999.0,       4,  2,19930214,0326,   5.8255,  -51.2517,  1274, 1191.800,    4.934,   34.901,2,   34.901,2,  188.100,2,  189.400,2,   21.930,2,   26.080,2,    0.000,2,    1.630,2,    0.092,2,    0.041,2, -999.000,9, -999.000,9, -999.000,9
           NA,     A06,    123,   1,-999.0,       3,  2,19930214,0326,   5.8255,  -51.2517,  1274, 1292.100,    4.854,   34.961,2,   34.964,2,  209.700,2,  209.300,2,   19.000,2,   23.400,2,    0.000,2,    1.450,2,    0.161,2,    0.078,2, -999.000,9, -999.000,9, -999.000,9
           NA,     A06,    123,   1,-999.0,       2,  2,19930214,0326,   5.8255,  -51.2517,  1274, 1392.000,    4.754,   34.985,2,   34.988,2,  222.400,2,  222.600,2,   17.510,2,   21.840,2,    0.000,2,    1.350,2,    0.208,2,    0.104,2, -999.000,9, -999.000,9, -999.000,9
           NA,     A06,    123,   1,-999.0,       1,  2,19930214,0326,   5.8255,  -51.2517,  1274, 1455.100,    4.541,   35.004,2,   35.005,2,  233.300,2,  236.900,2,   15.880,2,   20.360,2,    0.000,2,    1.250,2,    0.240,2,    0.123,2, -999.000,9, -999.000,9, -999.000,9
           NA,     A06,    124,   1,-999.0,      27,  2,19930214,0655,   5.9237,  -51.2480,  2011,    0.700,   26.794,   36.371,2,   36.370,2,  205.400,2,  202.200,2,    1.650,2,    0.010,2,    0.000,2,    0.050,2,    1.806,2,    0.979,2, -999.000,9, -999.000,3, -999.000,3
           NA,     A06,    124,   1,-999.0,      26,  2,19930214,0655,   5.9237,  -51.2480,  2011,   43.500,   26.821,   36.380,2,   36.376,2,  202.900,2,  202.200,2,    1.650,2,    0.010,2,    0.000,2,    0.050,2, -999.000,9, -999.000,9, -999.000,9, 2046.800,2, 2416.500,2
           NA,     A06,    124,   1,-999.0,      25,  2,19930214,0655,   5.9237,  -51.2480,  2011,   69.900,   26.803,   36.408,2,   36.407,2,  202.600,2,  200.600,2,    1.680,2,    0.040,2,    0.020,2,    0.080,2,    1.802,2,    0.976,2, -999.000,9, -999.000,3, -999.000,3
           NA,     A06,    124,   1,-999.0,      24,  2,19930214,0655,   5.9237,  -51.2480,  2011,   94.300,   26.549,   36.398,2,   36.400,2,  202.700,2,  197.300,2,    1.840,2,    0.270,2,    0.110,2,    0.130,2,    1.802,2,    0.969,2, -999.000,9, 2045.400,2, -999.000,4
           NA,     A06,    124,   1,-999.0,      23,  2,19930214,0655,   5.9237,  -51.2480,  2011,  144.200,   18.206,   36.011,2, -999.000,3,  184.500,2, -999.000,3,    4.570,2,    9.400,2,    0.010,2,    0.680,2,    1.713,2,    0.881,2, -999.000,9, 2142.300,2, 2401.500,2
           NA,     A06,    124,   1,-999.0,      22,  2,19930214,0655,   5.9237,  -51.2480,  2011,  194.200,   14.858,   35.827,2, -999.000,3,  124.400,2,  118.700,2,    7.080,2,   19.130,2,    0.000,2,    1.120,2,    1.188,2,    0.605,2, -999.000,9, 2187.600,2, 2370.900,2
           NA,     A06,    124,   1,-999.0,      21,  2,19930214,0655,   5.9237,  -51.2480,  2011,  293.600,   10.641,   35.112,2, -999.000,3,  107.700,2,  112.500,2,   12.050,2,   26.880,2,    0.000,2,    1.650,2,    0.611,2,    0.303,2, -999.000,9, 2213.200,2, 2344.400,2
           NA,     A06,    124,   1,-999.0,      20,  2,19930214,0655,   5.9237,  -51.2480,  2011,  394.100,    8.962,   34.869,2,   34.866,2,  118.700,2,  115.100,2,   15.220,2,   29.860,2,    0.000,2,    1.870,2,    0.393,2,    0.195,2, -999.000,9, 2216.900,2, 2329.000,2
           NA,     A06,    124,   1,-999.0,      18,  2,19930214,0655,   5.9237,  -51.2480,  2011,  492.500,    7.452,   34.702,2,   34.702,2,  118.800,2,  121.500,2,   19.430,2,   32.800,2,    0.000,2,    2.060,2,    0.209,2,    0.104,2, -999.000,9, 2245.300,2, 2346.100,2
           NA,     A06,    124,   1,-999.0,      19,  2,19930214,0655,   5.9237,  -51.2480,  2011,  493.200,    7.437,   34.701,2,   34.702,2,  118.800,2,  119.200,2,   19.330,2,   32.790,2,    0.000,2,    2.050,2,    0.219,2,    0.110,2, -999.000,9, 2247.700,2, 2346.600,2
           NA,     A06,    124,   1,-999.0,      17,  2,19930214,0655,   5.9237,  -51.2480,  2011,  592.700,    6.432,   34.626,2,   34.620,2,  130.100,2,  132.500,2,   23.040,2,   33.760,2,    0.000,2,    2.150,2,    0.146,2,    0.074,2, -999.000,9, 2242.600,2, 2341.400,2
           NA,     A06,    124,   1,-999.0,      16,  2,19930214,0655,   5.9237,  -51.2480,  2011,  692.900,    5.732,   34.605,2,   34.602,2,  134.400,2,  133.000,2,   26.350,2,   34.640,2,    0.000,2,    2.240,2,    0.063,2,    0.030,2, -999.000,9, 2242.000,2, 2333.000,2
           NA,     A06,    124,   1,-999.0,      15,  2,19930214,0655,   5.9237,  -51.2480,  2011,  794.000,    5.420,   34.602,2,   34.601,2,  140.700,2,  137.000,2,   27.650,2,   34.610,2,    0.000,2,    2.250,2,    0.039,2,    0.018,2, -999.000,9, 2235.700,2, 2326.200,2
           NA,     A06,    124,   1,-999.0,      14,  2,19930214,0655,   5.9237,  -51.2480,  2011,  893.500,    5.004,   34.654,2,   34.654,2,  146.600,2,  147.400,2,   28.870,2,   33.440,2,    0.000,2,    2.190,2,    0.022,2,    0.004,2, -999.000,9, -999.000,3, -999.000,3
           NA,     A06,    124,   1,-999.0,      13,  2,19930214,0655,   5.9237,  -51.2480,  2011,  993.300,    4.907,   34.743,2,   34.742,2,  161.600,2,  160.500,2,   27.060,2,   31.140,2,    0.000,2,    2.050,2,    0.058,2,    0.022,2, -999.000,9, 2228.200,2, 2334.600,2
           NA,     A06,    124,   1,-999.0,      12,  2,19930214,0655,   5.9237,  -51.2480,  2011, 1093.900,    4.954,   34.813,2,   34.809,2,  173.000,2,  171.200,2,   25.260,2,   29.190,2,    0.000,2,    1.900,2,    0.040,2,    0.018,2, -999.000,9, 2209.700,2, 2323.000,2
           NA,     A06,    124,   1,-999.0,      11,  2,19930214,0655,   5.9237,  -51.2480,  2011, 1193.300,    5.005,   34.952,2,   34.951,2,  197.600,2,  199.300,2,   20.460,2,   24.680,2,    0.000,2,    1.590,2,    0.095,2,    0.046,2, -999.000,9, 2190.500,2, 2324.400,2
           NA,     A06,    124,   1,-999.0,       9,  2,19930214,0655,   5.9237,  -51.2480,  2011, 1292.600,    4.833,   34.985,2,   34.983,2,  220.200,2,  216.100,2,   18.030,2,   22.280,2,    0.000,2,    1.450,2,    0.191,2,    0.091,2, -999.000,9, 2197.100,2, 2343.600,2
           NA,     A06,    124,   1,-999.0,      10,  2,19930214,0655,   5.9237,  -51.2480,  2011, 1292.600,    4.834,   34.985,2,   34.985,2,  220.200,2,  219.100,2,   18.130,2,   22.340,2,    0.000,2,    1.450,2,    0.181,2,    0.087,2, -999.000,9, 2190.400,2, 2337.100,2
           NA,     A06,    124,   1,-999.0,       8,  2,19930214,0655,   5.9237,  -51.2480,  2011, 1393.400,    4.580,   35.008,2,   35.007,2,  237.700,2,  238.800,2,   15.760,2,   20.160,2,    0.000,2,    1.300,2,    0.253,2,    0.122,2, -999.000,9, 2189.100,2, 2347.100,2
           NA,     A06,    124,   1,-999.0,       7,  2,19930214,0655,   5.9237,  -51.2480,  2011, 1492.600,    4.424,   35.007,2,   35.005,2,  245.200,2,  245.200,2,   15.390,2,   19.540,2,    0.000,2,    1.240,2,    0.266,2,    0.129,2, -999.000,9, 2170.400,2, 2327.000,2
           NA,     A06,    124,   1,-999.0,       6,  2,19930214,0655,   5.9237,  -51.2480,  2011, 1593.100,    4.072,   35.002,2,   35.000,2,  256.000,2,  255.900,2,   14.960,2,   18.700,2,    0.000,2,    1.190,2,    0.222,2,    0.107,2, -999.000,9, 2167.400,2, 2329.800,2
           NA,     A06,    124,   1,-999.0,       5,  2,19930214,0655,   5.9237,  -51.2480,  2011, 1692.800,    3.961,   34.997,2,   34.997,2,  260.500,2,  258.300,2,   15.150,2,   18.550,2,    0.000,2,    1.190,2,    0.206,2,    0.103,2, -999.000,9, -999.000,3, -999.000,3
           NA,     A06,    124,   1,-999.0,       4,  2,19930214,0655,   5.9237,  -51.2480,  2011, 1793.800,    3.815,   34.993,2,   34.990,2,  262.400,2,  259.600,2,   15.850,2,   18.400,2,    0.000,2,    1.170,2,    0.170,2,    0.089,2, -999.000,9, 2174.900,2, 2340.900,2
           NA,     A06,    124,   1,-999.0,       3,  2,19930214,0655,   5.9237,  -51.2480,  2011, 1893.500,    3.638,   34.985,2,   34.984,2,  264.100,2,  261.700,2,   16.890,2,   18.370,2,    0.000,2,    1.190,2,    0.132,2,    0.063,2, -999.000,9, -999.000,3, -999.000,3
           NA,     A06,    124,   1,-999.0,       2,  2,19930214,0655,   5.9237,  -51.2480,  2011, 1993.600,    3.563,   34.982,2,   34.980,2,  259.600,2,  261.400,2,   17.560,2,   18.380,2,    0.000,2,    1.180,2,    0.122,2,    0.064,2, -999.000,9, 2168.200,2, 2333.800,2
           NA,     A06,    124,   1,-999.0,       1,  2,19930214,0655,   5.9237,  -51.2480,  2011, 2027.700,    3.506,   34.977,2,   34.978,2,  259.200,2,  261.500,2,   18.120,2,   18.370,2,    0.000,2,    1.190,2,    0.115,2,    0.059,2, -999.000,9, 2163.100,2, 2328.000,2