BOTTLE,20205402JOAExport
EXPOCODE,SECT_ID,STNNBR,CASTNO,SAMPNO,BTLNBR,BTLNBR_FLAG_W,DATE,TIME,LATITUDE,LONGITUDE,DEPTH,CTDPRS,CTDTMP,CTDSAL,CTDSAL_FLAG_W,SALNTY,SALNTY_FLAG_W,CTDOXY,CTDOXY_FLAG_W,OXYGEN,OXYGEN_FLAG_W,SILCAT,SILCAT_FLAG_W,NITRAT,NITRAT_FLAG_W,NITRIT,NITRIT_FLAG_W,PHSPHT,PHSPHT_FLAG_W,CFC-11,CFC-11_FLAG_W,CFC-12,CFC-12_FLAG_W,SF6,SF6_FLAG_W,TCARBN,TCARBN_FLAG_W,ALKALI,ALKALI_FLAG_W
,,,,,,,,,,,,,DB,DEG C,PSS-78,,PSS-78,,UMOL/KG,,UMOL/KG,,UMOL/KG,,UMOL/KG,,UMOL/KG,,UMOL/KG,,PMOL/KG,,PMOL/KG,,FMOL/KG,,UMOL/KG,,UMOL/KG
           NA,     A06,    150,   1,-999.0,      32,  2,19930221,1247,   7.4323,  -37.6675,  4645,    2.300,   26.565,   36.111,2, -999.000,9,  199.500,2,  201.600,2, -999.000,9, -999.000,9, -999.000,9, -999.000,9,    1.813,2,    0.977,2, -999.000,9, -999.000,9, -999.000,9
           NA,     A06,    150,   1,-999.0,      31,  2,19930221,1247,   7.4323,  -37.6675,  4645,   69.400,   26.495,   36.109,2,   36.110,2,  201.100,2,  201.600,2,    1.600,2,    0.030,2,    0.000,2,    0.000,2,    1.814,2,    0.977,2, -999.000,9, -999.000,3, -999.000,3
           NA,     A06,    150,   1,-999.0,      30,  2,19930221,1247,   7.4323,  -37.6675,  4645,  118.900,   25.874,   36.301,2, -999.000,3,  165.000,2, -999.000,3,    1.780,2,    0.410,2,    0.090,2,    0.060,2,    1.767,2,    0.953,2, -999.000,9, 2030.400,2, 2390.400,2
           NA,     A06,    150,   1,-999.0,      29,  2,19930221,1247,   7.4323,  -37.6675,  4645,  193.300,   11.704,   35.195,2, -999.000,3,  133.300,2,  136.300,2,    9.790,2,   22.800,2,    0.000,2,    1.370,2,    1.006,2,    0.509,2, -999.000,9, 2145.100,2, 2301.400,2
           NA,     A06,    150,   1,-999.0,      28,  2,19930221,1247,   7.4323,  -37.6675,  4645,  293.600,    9.109,   34.861,2,   34.861,2,  118.600,2,  119.800,2,   14.370,2,   29.230,2,    0.000,2,    1.790,2,    0.498,2,    0.248,2, -999.000,9, 2172.600,2, 2288.100,2
           NA,     A06,    150,   1,-999.0,      27,  2,19930221,1247,   7.4323,  -37.6675,  4645,  393.200,    8.365,   34.785,2,   34.787,2,  112.700,2,  113.000,2,   16.470,2,   31.630,2,    0.000,2,    1.940,2,    0.307,2,    0.152,2, -999.000,9, 2185.700,2, 2286.000,2
           NA,     A06,    150,   1,-999.0,      26,  2,19930221,1247,   7.4323,  -37.6675,  4645,  593.100,    6.799,   34.661,2,   34.661,2,  116.000,2,  113.500,2,   21.830,2,   34.890,2,    0.000,2,    2.170,2,    0.095,2,    0.045,2, -999.000,9, 2194.800,2, 2283.100,2
           NA,     A06,    150,   1,-999.0,      25,  2,19930221,1247,   7.4323,  -37.6675,  4645,  793.400,    5.503,   34.630,2,   34.629,2,  125.700,2,  124.200,2,   27.320,2,   35.780,2,    0.000,2,    2.280,2,    0.012,2,    0.004,2, -999.000,9, 2210.600,2, 2296.200,2
           NA,     A06,    150,   1,-999.0,      24,  2,19930221,1247,   7.4323,  -37.6675,  4645,  991.400,    4.999,   34.722,2,   34.724,2,  146.100,2,  145.400,2,   27.720,2,   33.100,2,    0.000,2,    2.130,2,    0.002,2,    0.002,2, -999.000,9, 2195.300,2, 2294.100,2
           NA,     A06,    150,   1,-999.0,      23,  2,19930221,1247,   7.4323,  -37.6675,  4645, 1192.900,    4.716,   34.847,2,   34.850,2,  175.500,2,  175.400,2,   24.290,2,   28.480,2,    0.000,2,    1.840,2,    0.013,2,    0.004,2, -999.000,9, -999.000,3, -999.000,3
           NA,     A06,    150,   1,-999.0,      22,  2,19930221,1247,   7.4323,  -37.6675,  4645, 1394.100,    4.488,   34.951,2,   34.954,2,  209.800,2,  213.300,2,   19.460,2,   23.270,2,    0.000,2,    1.500,2,    0.037,2,    0.021,2, -999.000,9, -999.000,3, -999.000,3
           NA,     A06,    150,   1,-999.0,      21,  2,19930221,1247,   7.4323,  -37.6675,  4645, 1492.500,    4.407,   34.982,2,   34.986,2,  226.700,2,  228.700,2,   17.220,2,   21.260,2,    0.020,2,    1.370,2,    0.078,2,    0.036,2, -999.000,9, 2153.100,2, 2301.700,2
           NA,     A06,    150,   1,-999.0,      20,  2,19930221,1247,   7.4323,  -37.6675,  4645, 1595.100,    4.207,   34.997,2,   34.998,2,  243.600,2,  242.800,2,   15.790,2,   19.650,2,    0.000,2,    1.270,2,    0.103,2,    0.054,2, -999.000,9, 2141.600,2, 2298.200,2
           NA,     A06,    150,   1,-999.0,      19,  2,19930221,1247,   7.4323,  -37.6675,  4645, 1693.500,    3.979,   34.993,2,   34.994,2,  250.300,2,  249.200,2,   16.000,2,   19.010,2,    0.000,2,    1.230,2,    0.088,2,    0.046,2, -999.000,9, 2138.700,2, 2298.300,2
           NA,     A06,    150,   1,-999.0,      18,  2,19930221,1247,   7.4323,  -37.6675,  4645, 1793.200,    3.795,   34.987,2,   34.991,2,  253.600,2,  253.400,2,   16.470,2,   18.750,2,    0.000,2,    1.210,2,    0.075,2,    0.035,2, -999.000,9, 2138.100,2, 2299.000,2
           NA,     A06,    150,   1,-999.0,      17,  2,19930221,1247,   7.4323,  -37.6675,  4645, 1894.300,    3.647,   34.981,2,   34.986,2,  256.800,2,  255.400,2,   17.300,2,   18.610,2,    0.000,2,    1.200,2,    0.056,2,    0.030,2, -999.000,9, 2143.200,2, 2307.100,2
           NA,     A06,    150,   1,-999.0,      16,  2,19930221,1247,   7.4323,  -37.6675,  4645, 1994.000,    3.504,   34.976,2,   34.978,2,  258.200,2,  257.100,2,   18.320,2,   18.510,2,    0.000,2,    1.210,2,    0.044,2,    0.021,2, -999.000,9, -999.000,3, -999.000,3
           NA,     A06,    150,   1,-999.0,      15,  2,19930221,1247,   7.4323,  -37.6675,  4645, 2193.900,    3.358,   34.967,2,   34.968,2,  259.100,2,  256.700,2,   20.140,2,   18.560,2,    0.000,2,    1.220,2,    0.034,2,    0.014,2, -999.000,9, -999.000,3, -999.000,3
           NA,     A06,    150,   1,-999.0,      14,  2,19930221,1247,   7.4323,  -37.6675,  4645, 2394.600,    3.129,   34.954,2,   34.953,2,  257.400,2,  255.300,2,   23.550,2,   19.060,2,    0.000,2,    1.260,2,    0.020,2,    0.007,2, -999.000,9, -999.000,3, -999.000,3
           NA,     A06,    150,   1,-999.0,      13,  2,19930221,1247,   7.4323,  -37.6675,  4645, 2694.700,    2.895,   34.941,2,   34.941,2,  256.500,2,  256.100,2,   26.930,2,   19.170,2,    0.000,2,    1.270,2,    0.017,2,    0.006,2, -999.000,9, -999.000,3, -999.000,3
           NA,     A06,    150,   1,-999.0,      12,  2,19930221,1247,   7.4323,  -37.6675,  4645, 2994.700,    2.727,   34.929,2,   34.930,2,  257.600,2,  257.000,2,   29.840,2,   19.350,2,    0.000,2,    1.280,2,    0.022,2,    0.008,2, -999.000,9, -999.000,3, -999.000,3
           NA,     A06,    150,   1,-999.0,      11,  2,19930221,1247,   7.4323,  -37.6675,  4645, 3195.100,    2.619,   34.922,2,   34.924,2,  258.400,2,  257.500,2,   31.120,2,   19.370,2,    0.000,2,    1.290,2,    0.028,2,    0.014,2, -999.000,9, -999.000,3, -999.000,3
           NA,     A06,    150,   1,-999.0,      10,  2,19930221,1247,   7.4323,  -37.6675,  4645, 3394.500,    2.495,   34.912,2,   34.915,2,  258.500,2,  257.400,2,   34.350,2,   19.630,2,    0.000,2,    1.310,2,    0.023,2,    0.008,2, -999.000,9, -999.000,3, -999.000,3
           NA,     A06,    150,   1,-999.0,       9,  2,19930221,1247,   7.4323,  -37.6675,  4645, 3594.000,    2.364,   34.898,2,   34.902,2,  256.600,2,  256.100,2,   38.730,2,   20.120,2,    0.000,2,    1.350,2,    0.024,2,    0.011,2, -999.000,9, -999.000,3, -999.000,3
           NA,     A06,    150,   1,-999.0,       8,  2,19930221,1247,   7.4323,  -37.6675,  4645, 3794.400,    2.229,   34.887,2,   34.888,2,  256.300,2,  255.300,2,   42.450,2,   20.470,2,    0.000,2,    1.380,2,    0.027,2,    0.013,2, -999.000,9, -999.000,3, -999.000,3
           NA,     A06,    150,   1,-999.0,       7,  2,19930221,1247,   7.4323,  -37.6675,  4645, 3894.800,    2.157,   34.878,2,   34.881,2,  255.400,2,  253.900,2,   45.320,2,   20.920,2,    0.000,2,    1.410,2,    0.033,2,    0.022,2, -999.000,9, -999.000,3, -999.000,3
           NA,     A06,    150,   1,-999.0,       6,  2,19930221,1247,   7.4323,  -37.6675,  4645, 3994.900,    1.983,   34.860,2,   34.863,2,  253.900,2,  250.800,2,   52.810,2,   21.950,2,    0.040,2,    1.490,2,    0.028,2,    0.016,2, -999.000,9, -999.000,3, -999.000,3
           NA,     A06,    150,   1,-999.0,       5,  2,19930221,1247,   7.4323,  -37.6675,  4645, 4094.000,    1.889,   34.849,2,   34.850,2,  251.000,2,  248.400,2,   57.270,2,   22.700,2,    0.000,2,    1.540,2,    0.023,2,    0.014,2, -999.000,9, -999.000,3, -999.000,3
           NA,     A06,    150,   1,-999.0,       4,  2,19930221,1247,   7.4323,  -37.6675,  4645, 4194.400,    1.825,   34.840,2,   34.843,2,  248.000,2,  248.400,2,   60.570,2,   23.140,2,    0.000,2,    1.570,2,    0.021,2,    0.014,2, -999.000,9, -999.000,3, -999.000,3
           NA,     A06,    150,   1,-999.0,       3,  2,19930221,1247,   7.4323,  -37.6675,  4645, 4394.400,    1.716,   34.827,2,   34.829,2,  244.500,2,  246.800,2,   65.940,2,   23.980,2,    0.000,2,    1.630,2,    0.023,2,    0.011,2, -999.000,9, -999.000,3, -999.000,3
           NA,     A06,    150,   1,-999.0,       2,  2,19930221,1247,   7.4323,  -37.6675,  4645, 4594.300,    1.705,   34.824,2,   34.820,2,  243.500,2,  243.200,2,   67.570,2,   24.200,2,    0.000,2,    1.640,2,    0.024,2,    0.009,2, -999.000,9, -999.000,3, -999.000,3
           NA,     A06,    150,   1,-999.0,       1,  2,19930221,1247,   7.4323,  -37.6675,  4645, 4675.300,    1.700,   34.822,2,   34.825,2,  242.300,2,  243.000,2,   68.370,2,   24.350,2,    0.010,2,    1.650,2,    0.034,2,    0.013,2, -999.000,9, -999.000,3, -999.000,3
           NA,     A06,    151,   1,-999.0,      32,  2,19930221,1804,   7.4513,  -37.3338,  4210,    1.800,   26.559,   36.195,2,   36.199,2,  196.900,2,  201.200,2,    1.750,2,    0.090,2,    0.000,2,    0.010,2,    1.814,2,    0.950,2, -999.000,9, -999.000,9, -999.000,9
           NA,     A06,    151,   1,-999.0,      31,  2,19930221,1804,   7.4513,  -37.3338,  4210,   24.800,   26.556,   36.194,2, -999.000,3,  199.600,2,  201.300,2,    1.760,2,    0.090,2,    0.000,2,    0.000,2,    1.792,2,    0.950,2, -999.000,9, -999.000,9, -999.000,9
           NA,     A06,    151,   1,-999.0,      30,  2,19930221,1804,   7.4513,  -37.3338,  4210,   69.200,   26.488,   36.196,2,   36.198,2,  198.700,2,  202.100,2,    1.760,2,    0.070,2,    0.000,2,    0.010,2,    1.802,2,    0.958,2, -999.000,9, -999.000,9, -999.000,9
           NA,     A06,    151,   1,-999.0,      29,  2,19930221,1804,   7.4513,  -37.3338,  4210,  118.500,   23.747,   36.528,2, -999.000,3,  182.300,2, -999.000,3,    2.590,2,    3.430,2,    0.130,2,    0.230,2,    1.746,2,    0.918,2, -999.000,9, -999.000,9, -999.000,9
           NA,     A06,    151,   1,-999.0,      28,  2,19930221,1804,   7.4513,  -37.3338,  4210,  193.200,   11.671,   35.223,2, -999.000,3,  135.400,2,  134.100,2,   10.660,2,   22.560,2,    0.000,2,    1.400,2,    0.929,2,    0.463,2, -999.000,9, -999.000,9, -999.000,9
           NA,     A06,    151,   1,-999.0,      27,  2,19930221,1804,   7.4513,  -37.3338,  4210,  293.000,    8.806,   34.824,2,   34.828,2,  110.400,2, -999.000,3,   15.910,2,   29.670,2,    0.000,2,    1.850,2,    0.407,2,    0.208,2, -999.000,9, -999.000,9, -999.000,9
           NA,     A06,    151,   1,-999.0,      26,  2,19930221,1804,   7.4513,  -37.3338,  4210,  393.600,    8.096,   34.754,2,   34.752,2,  112.500,2,  117.000,2,   18.190,2,   31.730,2,    0.000,2,    1.990,2,    0.261,2,    0.122,2, -999.000,9, -999.000,9, -999.000,9
           NA,     A06,    151,   1,-999.0,      25,  2,19930221,1804,   7.4513,  -37.3338,  4210,  593.100,    6.799,   34.659,2,   34.660,2,  116.300,2,  118.000,2,   22.730,2,   34.290,2,    0.000,2,    2.170,2,    0.099,2,    0.054,2, -999.000,9, -999.000,9, -999.000,9
           NA,     A06,    151,   1,-999.0,      24,  2,19930221,1804,   7.4513,  -37.3338,  4210,  793.200,    6.041,   34.685,2,   34.685,2,  112.500,2,  113.800,2,   26.780,2,   35.780,2,    0.000,2,    2.280,2,    0.013,2,    0.002,2, -999.000,9, -999.000,9, -999.000,9
           NA,     A06,    151,   1,-999.0,      23,  2,19930221,1804,   7.4513,  -37.3338,  4210,  992.500,    4.986,   34.730,2,   34.733,2,  149.000,2,  148.500,2,   28.790,2,   32.160,2,    0.000,2,    2.110,2,    0.009,2,    0.000,2, -999.000,9, -999.000,9, -999.000,9
           NA,     A06,    151,   1,-999.0,      22,  2,19930221,1804,   7.4513,  -37.3338,  4210, 1191.800,    4.810,   34.891,2,   34.892,2,  182.000,2,  187.200,2,   23.540,2,   26.300,2,    0.000,2,    1.730,2,    0.033,2,    0.014,2, -999.000,9, -999.000,9, -999.000,9
           NA,     A06,    151,   1,-999.0,      21,  2,19930221,1804,   7.4513,  -37.3338,  4210, 1392.100,    4.565,   34.975,2,   34.976,2,  220.300,2,  220.700,2,   19.090,2,   21.520,2,    0.000,2,    1.440,2,    0.074,2,    0.036,2, -999.000,9, -999.000,9, -999.000,9
           NA,     A06,    151,   1,-999.0,      20,  2,19930221,1804,   7.4513,  -37.3338,  4210, 1493.700,    4.391,   34.994,2,   34.995,2,  233.300,2,  235.500,2,   17.400,2,   19.750,2,    0.000,2,    1.320,2,    0.110,2,    0.056,2, -999.000,9, -999.000,9, -999.000,9
           NA,     A06,    151,   1,-999.0,      19,  2,19930221,1804,   7.4513,  -37.3338,  4210, 1593.800,    4.145,   34.995,2,   34.996,2,  246.400,2,  249.900,2,   16.790,2,   18.750,2,    0.000,2,    1.250,2,    0.101,2,    0.046,2, -999.000,9, -999.000,9, -999.000,9
           NA,     A06,    151,   1,-999.0,      18,  2,19930221,1804,   7.4513,  -37.3338,  4210, 1692.700,    3.981,   34.993,2,   34.995,2,  250.900,2, -999.000,3,   17.030,2,   18.260,2,    0.000,2,    1.230,2,    0.093,2,    0.046,2, -999.000,9, -999.000,9, -999.000,9
           NA,     A06,    151,   1,-999.0,      17,  2,19930221,1804,   7.4513,  -37.3338,  4210, 1793.200,    3.833,   34.986,2,   34.988,2,  254.200,2,  258.600,2,   17.750,2,   17.980,2,    0.000,2,    1.220,2,    0.071,2,    0.031,2, -999.000,9, -999.000,9, -999.000,9
           NA,     A06,    151,   1,-999.0,      16,  2,19930221,1804,   7.4513,  -37.3338,  4210, 1893.300,    3.659,   34.980,2,   34.983,2,  255.500,2,  253.900,2,   19.180,2,   17.940,2,    0.000,2,    1.220,2,    0.046,2,    0.027,2, -999.000,9, -999.000,9, -999.000,9
           NA,     A06,    151,   1,-999.0,      15,  2,19930221,1804,   7.4513,  -37.3338,  4210, 1993.400,    3.537,   34.973,2,   34.977,2,  257.000,2,  254.100,2,   20.610,2,   18.070,2,    0.000,2,    1.230,2,    0.036,2,    0.017,2, -999.000,9, -999.000,9, -999.000,9
           NA,     A06,    151,   1,-999.0,      14,  2,19930221,1804,   7.4513,  -37.3338,  4210, 2193.500,    3.315,   34.964,2,   34.963,2,  256.700,2,  254.900,2,   23.120,2,   18.070,2,    0.000,2,    1.250,2,    0.023,2,    0.008,2, -999.000,9, -999.000,9, -999.000,9
           NA,     A06,    151,   1,-999.0,      13,  2,19930221,1804,   7.4513,  -37.3338,  4210, 2394.900,    3.101,   34.954,2,   34.953,2,  256.800,2,  257.700,2,   25.690,2,   17.990,2,    0.000,2,    1.250,2,    0.019,2,    0.008,2, -999.000,9, -999.000,9, -999.000,9
           NA,     A06,    151,   1,-999.0,      12,  2,19930221,1804,   7.4513,  -37.3338,  4210, 2395.400,    3.099,   34.952,2,   34.953,2,  256.800,2,  256.400,2,   25.630,2,   18.040,2,    0.000,2,    1.240,2,    0.023,2,    0.012,2, -999.000,9, -999.000,9, -999.000,9
           NA,     A06,    151,   1,-999.0,      11,  2,19930221,1804,   7.4513,  -37.3338,  4210, 2693.700,    2.891,   34.939,2,   34.941,2,  255.900,2,  256.200,2,   30.090,2,   18.310,2,    0.000,2,    1.270,2,    0.016,2,    0.004,2, -999.000,9, -999.000,9, -999.000,9
           NA,     A06,    151,   1,-999.0,      10,  2,19930221,1804,   7.4513,  -37.3338,  4210, 2993.900,    2.717,   34.926,2,   34.930,2,  256.700,2,  256.200,2,   33.070,2,   18.360,2,    0.000,2,    1.280,2,    0.016,2,    0.009,2, -999.000,9, -999.000,9, -999.000,9
           NA,     A06,    151,   1,-999.0,       9,  2,19930221,1804,   7.4513,  -37.3338,  4210, 3194.700,    2.618,   34.918,2,   34.920,2,  256.300,2,  253.500,2,   35.720,2,   18.550,2,    0.010,2,    1.300,2,    0.017,2,    0.006,2, -999.000,9, -999.000,9, -999.000,9
           NA,     A06,    151,   1,-999.0,       8,  2,19930221,1804,   7.4513,  -37.3338,  4210, 3395.500,    2.540,   34.914,2,   34.914,2,  257.200,2,  258.800,2,   36.390,2,   18.570,2,    0.010,2,    1.300,2,    0.023,2,    0.009,2, -999.000,9, -999.000,9, -999.000,9
           NA,     A06,    151,   1,-999.0,       7,  2,19930221,1804,   7.4513,  -37.3338,  4210, 3596.100,    2.401,   34.900,2,   34.900,2,  256.900,2,  256.500,2,   40.410,2,   18.800,2,    0.010,2,    1.330,2,    0.028,2,    0.012,2, -999.000,9, -999.000,9, -999.000,9
           NA,     A06,    151,   1,-999.0,       6,  2,19930221,1804,   7.4513,  -37.3338,  4210, 3793.400,    2.255,   34.887,2,   34.890,2,  255.500,2,  255.400,2,   45.430,2,   19.400,2,    0.000,2,    1.370,2,    0.030,2,    0.014,2, -999.000,9, -999.000,9, -999.000,9
           NA,     A06,    151,   1,-999.0,       5,  2,19930221,1804,   7.4513,  -37.3338,  4210, 3894.700,    2.161,   34.878,2,   34.878,2,  254.100,2,  253.600,2,   49.220,2,   19.950,2,    0.000,2,    1.410,2,    0.025,2,    0.009,2, -999.000,9, -999.000,9, -999.000,9
           NA,     A06,    151,   1,-999.0,       4,  2,19930221,1804,   7.4513,  -37.3338,  4210, 3994.400,    2.090,   34.870,2,   34.871,2,  252.700,2,  252.200,2,   52.430,2,   20.310,2,    0.010,2,    1.430,2,    0.032,2,    0.012,2, -999.000,9, -999.000,9, -999.000,9
           NA,     A06,    151,   1,-999.0,       3,  2,19930221,1804,   7.4513,  -37.3338,  4210, 4094.200,    2.000,   34.860,2,   34.862,2,  250.500,2,  250.500,2,   56.220,2,   20.690,2,    0.050,2,    1.460,2,    0.024,2,    0.013,2, -999.000,9, -999.000,9, -999.000,9
           NA,     A06,    151,   1,-999.0,       2,  2,19930221,1804,   7.4513,  -37.3338,  4210, 4196.500,    1.849,   34.842,2,   34.845,2,  246.500,2,  247.600,2,   63.310,2,   21.830,2,    0.000,2,    1.540,2,    0.027,2,    0.008,2, -999.000,9, -999.000,9, -999.000,9
           NA,     A06,    151,   1,-999.0,       1,  2,19930221,1804,   7.4513,  -37.3338,  4210, 4257.100,    1.802,   34.836,2, -999.000,3,  243.200,2,  246.200,2,   65.890,2,   22.200,2,    0.000,2,    1.570,2,    0.030,2,    0.009,2, -999.000,9, -999.000,9, -999.000,9