BOTTLE,20205402JOAExport
EXPOCODE,SECT_ID,STNNBR,CASTNO,SAMPNO,BTLNBR,BTLNBR_FLAG_W,DATE,TIME,LATITUDE,LONGITUDE,DEPTH,CTDPRS,CTDTMP,CTDSAL,CTDSAL_FLAG_W,SALNTY,SALNTY_FLAG_W,CTDOXY,CTDOXY_FLAG_W,OXYGEN,OXYGEN_FLAG_W,SILCAT,SILCAT_FLAG_W,NITRAT,NITRAT_FLAG_W,NITRIT,NITRIT_FLAG_W,PHSPHT,PHSPHT_FLAG_W,CFC-11,CFC-11_FLAG_W,CFC-12,CFC-12_FLAG_W,SF6,SF6_FLAG_W,TCARBN,TCARBN_FLAG_W,ALKALI,ALKALI_FLAG_W
,,,,,,,,,,,,,DB,DEG C,PSS-78,,PSS-78,,UMOL/KG,,UMOL/KG,,UMOL/KG,,UMOL/KG,,UMOL/KG,,UMOL/KG,,PMOL/KG,,PMOL/KG,,FMOL/KG,,UMOL/KG,,UMOL/KG
           NA,     A06,    186,   1,-999.0,      32,  2,19930302,1225,   7.5828,  -19.0013,  4511,    3.300,   26.570,   36.132,2,   36.136,2,  199.400,2, -999.000,3,    1.810,2,    0.000,2,    0.000,2,    0.000,2,    1.835,2,    0.982,2, -999.000,9, -999.000,3, -999.000,3
           NA,     A06,    186,   1,-999.0,      31,  2,19930302,1225,   7.5828,  -19.0013,  4511,   24.100,   26.063,   36.116,2,   36.115,2,  206.800,2,  205.300,2,    1.870,2,    0.000,2,    0.000,2,    0.000,2, -999.000,9, -999.000,9, -999.000,9, 2002.700,2, 2377.600,2
           NA,     A06,    186,   1,-999.0,      30,  2,19930302,1225,   7.5828,  -19.0013,  4511,   43.900,   21.083,   36.017,2,   36.014,2,  158.600,2,  154.800,2,    3.670,2,    3.080,2,    0.210,2,    0.410,2, -999.000,9, -999.000,9, -999.000,9, 2109.700,2, 2377.900,2
           NA,     A06,    186,   1,-999.0,      29,  2,19930302,1225,   7.5828,  -19.0013,  4511,   68.500,   17.020,   35.742,2, -999.000,3,  103.600,2,   98.800,2,    6.460,2,   17.100,2,    0.130,2,    1.140,2,    1.269,2,    0.640,2, -999.000,9, 2165.500,2, 2348.100,2
           NA,     A06,    186,   1,-999.0,      28,  2,19930302,1225,   7.5828,  -19.0013,  4511,   94.100,   14.878,   35.512,2,   35.511,2,   84.400,2,   85.400,2,    7.960,2,   21.110,2,    0.020,2,    1.430,2,    1.094,2,    0.541,2, -999.000,9, 2189.500,2, 2340.800,2
           NA,     A06,    186,   1,-999.0,      27,  2,19930302,1225,   7.5828,  -19.0013,  4511,  193.600,   13.236,   35.322,2,   35.320,2,   83.900,2,   80.000,2,    9.790,2,   23.800,2,    0.000,2,    1.590,2,    0.783,2,    0.383,2, -999.000,9, 2216.200,2, 2347.200,2
           NA,     A06,    186,   1,-999.0,      26,  2,19930302,1225,   7.5828,  -19.0013,  4511,  393.600,   10.186,   35.056,2, -999.000,3,   51.300,2,   51.500,2,   15.670,2,   32.920,2,    0.000,2,    2.040,2,    0.225,2, -999.000,3, -999.000,9, 2251.700,2, 2331.400,2
           NA,     A06,    186,   1,-999.0,      25,  2,19930302,1225,   7.5828,  -19.0013,  4511,  593.000,    7.315,   34.761,2,   34.763,2,   71.300,2,   71.900,2,   22.680,2,   36.540,2,    0.000,2,    2.350,2,    0.024,2,    0.013,2, -999.000,9, 2245.500,2, 2309.900,2
           NA,     A06,    186,   1,-999.0,      24,  2,19930302,1225,   7.5828,  -19.0013,  4511,  792.900,    5.744,   34.665,2,   34.666,2,   98.400,2,  102.000,2,   28.390,2,   35.970,2,    0.000,2,    2.390,2,    0.001,2,    0.000,2, -999.000,9, 2258.300,2, 2328.400,2
           NA,     A06,    186,   1,-999.0,      23,  2,19930302,1225,   7.5828,  -19.0013,  4511,  991.800,    5.078,   34.721,2,   34.722,2,  129.300,2,  132.000,2,   29.540,2,   32.570,2,    0.000,2,    2.230,2,    0.000,2,   -0.001,2, -999.000,9, 2226.200,2, 2313.900,2
           NA,     A06,    186,   1,-999.0,      22,  2,19930302,1225,   7.5828,  -19.0013,  4511, 1192.800,    4.704,   34.850,2,   34.849,2,  162.800,2,  162.800,2,   26.920,2,   27.660,2,    0.000,2,    1.940,2,    0.003,2,   -0.002,2, -999.000,9, 2212.900,2, 2321.200,2
           NA,     A06,    186,   1,-999.0,      21,  2,19930302,1225,   7.5828,  -19.0013,  4511, 1292.100,    4.527,   34.890,2,   34.891,2,  180.200,2,  178.900,2,   25.240,2,   25.410,2,    0.000,2,    1.810,2,    0.004,2,   -0.002,2, -999.000,9, -999.000,3, -999.000,3
           NA,     A06,    186,   1,-999.0,      20,  2,19930302,1225,   7.5828,  -19.0013,  4511, 1393.100,    4.306,   34.918,2,   34.922,2,  197.000,2,  197.700,2,   23.840,2,   23.080,2,    0.000,2,    1.660,2,    0.012,2,    0.000,2, -999.000,9, -999.000,3, -999.000,3
           NA,     A06,    186,   1,-999.0,      19,  2,19930302,1225,   7.5828,  -19.0013,  4511, 1493.700,    4.139,   34.935,2,   34.937,2,  211.300,2,  209.000,2,   23.220,2,   21.550,2,    0.000,2,    1.580,2,    0.004,2,    0.001,2, -999.000,9, 2190.900,2, 2330.300,2
           NA,     A06,    186,   1,-999.0,      18,  2,19930302,1225,   7.5828,  -19.0013,  4511, 1592.400,    3.947,   34.948,2,   34.952,2,  221.300,2,  220.000,2,   22.990,2,   20.270,2,    0.000,2,    1.500,2,    0.004,2,    0.000,2, -999.000,9, 2195.700,2, 2340.200,2
           NA,     A06,    186,   1,-999.0,      17,  2,19930302,1225,   7.5828,  -19.0013,  4511, 1693.200,    3.817,   34.951,2,   34.954,2,  227.100,2,  226.700,2,   23.160,2,   19.680,2,    0.000,2,    1.460,2,    0.007,2,    0.002,2, -999.000,9, -999.000,3, -999.000,3
           NA,     A06,    186,   1,-999.0,      16,  2,19930302,1225,   7.5828,  -19.0013,  4511, 1793.300,    3.680,   34.953,2,   34.955,2,  230.700,2,  230.200,2,   23.850,2,   19.110,2,    0.000,2,    1.440,2, -999.000,3, -999.000,3, -999.000,9, 2183.300,2, 2334.000,2
           NA,     A06,    186,   1,-999.0,      15,  2,19930302,1225,   7.5828,  -19.0013,  4511, 1992.900,    3.434,   34.950,2,   34.954,2,  237.200,2,  237.000,2,   25.700,2,   18.500,2,    0.000,2,    1.410,2,    0.019,2,    0.003,2, -999.000,9, 2189.300,2, 2343.800,2
           NA,     A06,    186,   1,-999.0,      14,  2,19930302,1225,   7.5828,  -19.0013,  4511, 2192.100,    3.206,   34.948,2,   34.949,2,  239.800,2,  240.000,2,   28.390,2,   18.180,2,    0.000,2,    1.400,2,    0.008,2,    0.000,2, -999.000,9, -999.000,3, -999.000,3
           NA,     A06,    186,   1,-999.0,      13,  2,19930302,1225,   7.5828,  -19.0013,  4511, 2394.100,    3.012,   34.940,2,   34.938,2,  241.700,2,  241.200,2,   31.510,2,   18.230,2,    0.000,2,    1.390,2,    0.012,2,    0.003,2, -999.000,9, -999.000,3, -999.000,3
           NA,     A06,    186,   1,-999.0,      12,  2,19930302,1225,   7.5828,  -19.0013,  4511, 2593.900,    2.853,   34.932,2,   34.932,2,  242.000,2,  241.700,2,   34.500,2,   18.310,2,    0.000,2,    1.410,2,    0.002,2,    0.001,2, -999.000,9, 2199.900,2, 2357.100,2
           NA,     A06,    186,   1,-999.0,      11,  2,19930302,1225,   7.5828,  -19.0013,  4511, 2793.900,    2.745,   34.925,2,   34.927,2,  242.300,2,  242.500,2,   36.670,2,   18.370,2,    0.000,2,    1.410,2,    0.013,2,    0.001,2, -999.000,9, 2203.100,2, 2360.900,2
           NA,     A06,    186,   1,-999.0,      10,  2,19930302,1225,   7.5828,  -19.0013,  4511, 2994.300,    2.653,   34.916,2,   34.919,2,  242.500,2,  243.100,2,   38.660,2,   18.400,2,    0.000,2,    1.420,2,    0.006,2,    0.000,2, -999.000,9, 2204.700,2, 2362.000,2
           NA,     A06,    186,   1,-999.0,       9,  2,19930302,1225,   7.5828,  -19.0013,  4511, 2994.300,    2.653,   34.916,2,   34.918,2,  242.500,2,  243.100,2,   38.740,2,   18.330,2,    0.000,2,    1.420,2,    0.005,2,    0.001,2, -999.000,9, 2213.300,2, 2371.000,2
           NA,     A06,    186,   1,-999.0,       8,  2,19930302,1225,   7.5828,  -19.0013,  4511, 3195.000,    2.578,   34.912,2,   34.914,2,  242.600,2,  241.200,2,   41.080,2,   18.580,2,    0.000,2,    1.430,2,    0.006,2,   -0.002,2, -999.000,9, 2206.100,2, 2361.600,2
           NA,     A06,    186,   1,-999.0,       7,  2,19930302,1225,   7.5828,  -19.0013,  4511, 3394.100,    2.523,   34.907,2,   34.909,2,  241.700,2,  242.700,2,   42.170,2,   18.620,2,    0.000,2,    1.440,2,    0.014,2,    0.003,2, -999.000,9, 2205.800,2, 2363.100,2
           NA,     A06,    186,   1,-999.0,       6,  2,19930302,1225,   7.5828,  -19.0013,  4511, 3594.000,    2.462,   34.902,2,   34.903,2,  242.800,2,  243.000,2,   44.070,2,   18.690,2,    0.000,2,    1.450,2,   -0.001,2,    0.003,2, -999.000,9, 2209.800,2, 2365.900,2
           NA,     A06,    186,   1,-999.0,       5,  2,19930302,1225,   7.5828,  -19.0013,  4511, 3794.400,    2.400,   34.896,2,   34.897,2,  242.700,2,  242.500,2,   45.930,2,   18.910,2,    0.000,2,    1.450,2,    0.007,2,    0.002,2, -999.000,9, 2209.400,2, 2366.400,2
           NA,     A06,    186,   1,-999.0,       4,  2,19930302,1225,   7.5828,  -19.0013,  4511, 3994.700,    2.383,   34.893,2,   34.896,2,  242.600,2,  242.700,2,   47.210,2,   19.000,2,    0.000,2,    1.460,2,    0.021,2,    0.004,2, -999.000,9, 2211.300,2, 2367.000,2
           NA,     A06,    186,   1,-999.0,       3,  2,19930302,1225,   7.5828,  -19.0013,  4511, 4193.700,    2.345,   34.888,2,   34.889,2,  242.900,2,  242.000,2,   48.750,2,   19.200,2,    0.000,2,    1.470,2,    0.015,2,    0.000,2, -999.000,9, 2211.400,2, 2367.500,2
           NA,     A06,    186,   1,-999.0,       2,  2,19930302,1225,   7.5828,  -19.0013,  4511, 4394.300,    2.296,   34.881,2,   34.882,2,  242.100,2,  240.700,2,   51.350,2,   19.470,2,    0.000,2,    1.490,2,    0.005,2,   -0.001,2, -999.000,9, 2215.200,2, 2369.200,2
           NA,     A06,    186,   1,-999.0,       1,  2,19930302,1225,   7.5828,  -19.0013,  4511, 4546.900,    2.252,   34.875,2,   34.877,2,  240.600,2,  240.900,2,   53.080,2,   19.550,2,    0.000,2,    1.500,2,    0.023,2,    0.004,2, -999.000,9, 2241.600,1, -999.000,3
           NA,     A06,    187,   1,-999.0,      32,  2,19930302,1820,   7.5838,  -18.5003,  4803,    1.300,   26.439,   36.146,2,   36.146,2,  200.700,2, -999.000,3,    1.880,2,    0.130,2,    0.000,2,    0.000,2,    1.826,2,    0.991,2, -999.000,9, -999.000,9, -999.000,9
           NA,     A06,    187,   1,-999.0,      31,  2,19930302,1820,   7.5838,  -18.5003,  4803,   14.100,   26.423,   36.145,2,   36.148,2,  207.300,2,  206.800,2,    1.910,2,    0.100,2,    0.000,2,    0.000,2,    1.837,2,    0.998,2, -999.000,9, -999.000,9, -999.000,9
           NA,     A06,    187,   1,-999.0,      30,  2,19930302,1820,   7.5838,  -18.5003,  4803,   28.300,   26.312,   36.140,2, -999.000,3,  208.700,2,  207.100,2,    1.990,2,    0.130,2,    0.000,2,    0.000,2,    1.798,2,    0.972,2, -999.000,9, -999.000,9, -999.000,9
           NA,     A06,    187,   1,-999.0,      29,  2,19930302,1820,   7.5838,  -18.5003,  4803,   43.800,   21.615,   35.966,2, -999.000,3,  145.200,2, -999.000,3,    3.440,2,    1.550,2,    0.050,2,    0.240,2,    1.474,2,    0.762,2, -999.000,9, -999.000,9, -999.000,9
           NA,     A06,    187,   1,-999.0,      28,  2,19930302,1820,   7.5838,  -18.5003,  4803,   93.800,   14.913,   35.502,2, -999.000,3,   74.100,2,   73.600,2,    8.400,2,   23.580,2,    0.010,2,    1.490,2,    1.055,2,    0.536,2, -999.000,9, -999.000,9, -999.000,9
           NA,     A06,    187,   1,-999.0,      27,  2,19930302,1820,   7.5838,  -18.5003,  4803,  193.500,   13.130,   35.312,2,   35.313,2,   84.500,2,   87.300,2,   10.010,2,   24.190,2,    0.000,2,    1.550,2,    0.793,2,    0.403,2, -999.000,9, -999.000,9, -999.000,9
           NA,     A06,    187,   1,-999.0,      26,  2,19930302,1820,   7.5838,  -18.5003,  4803,  392.900,    9.581,   34.976,2, -999.000,3,   54.600,2,   56.100,2,   16.770,2,   34.120,2,    0.000,2,    2.080,2,    0.173,2,    0.095,2, -999.000,9, -999.000,9, -999.000,9
           NA,     A06,    187,   1,-999.0,      25,  2,19930302,1820,   7.5838,  -18.5003,  4803,  592.400,    7.101,   34.728,2,   34.723,2,   82.800,2,   84.700,2,   23.070,2,   36.450,2,    0.000,2,    2.310,2,    0.042,2,    0.020,2, -999.000,9, -999.000,9, -999.000,9
           NA,     A06,    187,   1,-999.0,      24,  2,19930302,1820,   7.5838,  -18.5003,  4803,  792.000,    5.731,   34.654,2,   34.654,2,  104.400,2,  106.000,2,   28.330,2,   36.410,2,    0.000,2,    2.380,2,    0.011,2,    0.003,2, -999.000,9, -999.000,9, -999.000,9
           NA,     A06,    187,   1,-999.0,      23,  2,19930302,1820,   7.5838,  -18.5003,  4803,  991.300,    5.011,   34.704,2,   34.700,2,  130.500,2,  133.400,2,   30.170,2,   33.270,2,    0.000,2,    2.250,2,    0.025,2,    0.008,2, -999.000,9, -999.000,9, -999.000,9
           NA,     A06,    187,   1,-999.0,      22,  2,19930302,1820,   7.5838,  -18.5003,  4803, 1191.900,    4.707,   34.841,2, -999.000,3,  161.600,2,  163.500,2,   26.820,2,   28.540,2,    0.000,2,    1.960,2,    0.007,2,    0.006,2, -999.000,9, -999.000,9, -999.000,9
           NA,     A06,    187,   1,-999.0,      21,  2,19930302,1820,   7.5838,  -18.5003,  4803, 1292.800,    4.530,   34.885,2,   34.884,2,  178.000,2,  179.400,2,   25.640,2,   26.530,2,    0.000,2,    1.820,2,    0.017,2,    0.006,2, -999.000,9, -999.000,9, -999.000,9
           NA,     A06,    187,   1,-999.0,      20,  2,19930302,1820,   7.5838,  -18.5003,  4803, 1393.500,    4.334,   34.917,2,   34.915,2,  195.700,2,  195.600,2,   24.540,2,   24.570,2,    0.000,2,    1.690,2,    0.005,2,    0.000,2, -999.000,9, -999.000,9, -999.000,9
           NA,     A06,    187,   1,-999.0,      19,  2,19930302,1820,   7.5838,  -18.5003,  4803, 1491.600,    4.134,   34.935,2,   34.933,2,  210.500,2,  208.900,2,   23.830,2,   23.040,2,    0.000,2,    1.590,2,    0.000,2,   -0.001,2, -999.000,9, -999.000,9, -999.000,9
           NA,     A06,    187,   1,-999.0,      18,  2,19930302,1820,   7.5838,  -18.5003,  4803, 1592.600,    3.945,   34.949,2,   34.948,2,  220.400,2,  219.700,2,   23.420,2,   21.800,2,    0.000,2,    1.500,2,    0.006,2,    0.002,2, -999.000,9, -999.000,9, -999.000,9
           NA,     A06,    187,   1,-999.0,      17,  2,19930302,1820,   7.5838,  -18.5003,  4803, 1692.600,    3.811,   34.951,2,   34.953,2,  227.400,2,  226.000,2,   23.700,2,   21.040,2,    0.000,2,    1.460,2,    0.007,2,    0.007,2, -999.000,9, -999.000,9, -999.000,9
           NA,     A06,    187,   1,-999.0,      16,  2,19930302,1820,   7.5838,  -18.5003,  4803, 1793.100,    3.648,   34.953,2,   34.954,2,  232.300,2,  231.400,2,   24.450,2,   20.440,2,    0.000,2,    1.430,2,    0.008,2,    0.001,2, -999.000,9, -999.000,9, -999.000,9
           NA,     A06,    187,   1,-999.0,      15,  2,19930302,1820,   7.5838,  -18.5003,  4803, 1993.200,    3.411,   34.952,2,   34.952,2,  239.100,2,  237.700,2,   26.260,2,   19.990,2,    0.000,2,    1.400,2,    0.005,2,    0.000,2, -999.000,9, -999.000,9, -999.000,9
           NA,     A06,    187,   1,-999.0,      14,  2,19930302,1820,   7.5838,  -18.5003,  4803, 2193.900,    3.202,   34.948,2,   34.947,2,  241.200,2,  240.100,2,   28.830,2,   19.790,2,    0.000,2,    1.390,2,    0.001,2,   -0.002,2, -999.000,9, -999.000,9, -999.000,9
           NA,     A06,    187,   1,-999.0,      13,  2,19930302,1820,   7.5838,  -18.5003,  4803, 2394.900,    3.039,   34.941,2,   34.940,2,  241.800,2,  240.900,2,   31.710,2,   19.610,2,    0.000,2,    1.390,2,    0.003,2,    0.001,2, -999.000,9, -999.000,9, -999.000,9
           NA,     A06,    187,   1,-999.0,      12,  2,19930302,1820,   7.5838,  -18.5003,  4803, 2593.900,    2.924,   34.935,2,   34.935,2,  242.300,2,  241.900,2,   34.150,2,   19.620,2,    0.000,2,    1.400,2,    0.017,2,    0.002,2, -999.000,9, -999.000,9, -999.000,9
           NA,     A06,    187,   1,-999.0,      11,  2,19930302,1820,   7.5838,  -18.5003,  4803, 2794.200,    2.813,   34.929,2,   34.929,2,  242.500,2,  242.800,2,   36.380,2,   19.780,2,    0.000,2,    1.400,2,    0.021,2,    0.004,2, -999.000,9, -999.000,9, -999.000,9
           NA,     A06,    187,   1,-999.0,      10,  2,19930302,1820,   7.5838,  -18.5003,  4803, 2994.000,    2.711,   34.921,2,   34.916,2,  242.800,2,  244.000,2,   38.640,2,   19.900,2,    0.000,2,    1.410,2,    0.008,2,   -0.001,2, -999.000,9, -999.000,9, -999.000,9
           NA,     A06,    187,   1,-999.0,       9,  2,19930302,1820,   7.5838,  -18.5003,  4803, 3194.800,    2.610,   34.913,2,   34.912,2,  242.500,2,  242.900,2,   40.600,2,   20.080,2,    0.000,2,    1.430,2,    0.004,2,    0.000,2, -999.000,9, -999.000,9, -999.000,9
           NA,     A06,    187,   1,-999.0,       8,  2,19930302,1820,   7.5838,  -18.5003,  4803, 3394.100,    2.541,   34.908,2,   34.909,2,  242.600,2,  242.800,2,   42.330,2,   20.100,2,    0.000,2,    1.440,2,   -0.001,2,   -0.001,2, -999.000,9, -999.000,9, -999.000,9
           NA,     A06,    187,   1,-999.0,       7,  2,19930302,1820,   7.5838,  -18.5003,  4803, 3594.100,    2.488,   34.904,2,   34.900,2,  242.700,2,  242.600,2,   43.780,2,   20.230,2,    0.000,2,    1.440,2,    0.018,2,    0.006,2, -999.000,9, -999.000,9, -999.000,9
           NA,     A06,    187,   1,-999.0,       6,  2,19930302,1820,   7.5838,  -18.5003,  4803, 3794.900,    2.444,   34.899,2,   34.899,2,  243.100,2,  243.300,2,   45.430,2,   20.320,2,    0.000,2,    1.450,2,    0.013,2,    0.001,2, -999.000,9, -999.000,9, -999.000,9
           NA,     A06,    187,   1,-999.0,       5,  2,19930302,1820,   7.5838,  -18.5003,  4803, 3994.200,    2.394,   34.893,2,   34.894,2,  242.600,2,  241.900,2,   47.890,2,   20.450,2,    0.000,2,    1.450,2,    0.005,2,   -0.001,2, -999.000,9, -999.000,9, -999.000,9
           NA,     A06,    187,   1,-999.0,       4,  2,19930302,1820,   7.5838,  -18.5003,  4803, 4195.000,    2.358,   34.889,2,   34.888,2,  242.900,2,  242.400,2,   48.930,2,   20.570,2,    0.000,2,    1.460,2,    0.024,2,    0.011,2, -999.000,9, -999.000,9, -999.000,9
           NA,     A06,    187,   1,-999.0,       3,  2,19930302,1820,   7.5838,  -18.5003,  4803, 4393.900,    2.314,   34.884,2,   34.884,2,  243.200,2,  242.600,2,   50.440,2,   20.810,2,    0.000,2,    1.480,2,    0.005,2,    0.008,2, -999.000,9, -999.000,9, -999.000,9
           NA,     A06,    187,   1,-999.0,       2,  2,19930302,1820,   7.5838,  -18.5003,  4803, 4594.600,    2.268,   34.876,2,   34.877,2,  243.200,2,  242.300,2,   52.640,2,   21.030,2,    0.000,2,    1.500,2,    0.016,2,    0.006,2, -999.000,9, -999.000,9, -999.000,9
           NA,     A06,    187,   1,-999.0,       1,  2,19930302,1820,   7.5838,  -18.5003,  4803, 4832.100,    2.230,   34.869,2,   34.870,2,  242.200,2,  242.600,2,   54.900,2,   21.090,2,    0.000,2,    1.510,2,    0.008,2,    0.002,2, -999.000,9, -999.000,9, -999.000,9