BOTTLE,20205402JOAExport
EXPOCODE,SECT_ID,STNNBR,CASTNO,SAMPNO,BTLNBR,BTLNBR_FLAG_W,DATE,TIME,LATITUDE,LONGITUDE,DEPTH,CTDPRS,CTDTMP,CTDSAL,CTDSAL_FLAG_W,SALNTY,SALNTY_FLAG_W,CTDOXY,CTDOXY_FLAG_W,OXYGEN,OXYGEN_FLAG_W,SILCAT,SILCAT_FLAG_W,NITRAT,NITRAT_FLAG_W,NITRIT,NITRIT_FLAG_W,PHSPHT,PHSPHT_FLAG_W,CFC-11,CFC-11_FLAG_W,CFC-12,CFC-12_FLAG_W,SF6,SF6_FLAG_W,TCARBN,TCARBN_FLAG_W,ALKALI,ALKALI_FLAG_W
,,,,,,,,,,,,,DB,DEG C,PSS-78,,PSS-78,,UMOL/KG,,UMOL/KG,,UMOL/KG,,UMOL/KG,,UMOL/KG,,UMOL/KG,,PMOL/KG,,PMOL/KG,,FMOL/KG,,UMOL/KG,,UMOL/KG
           NA,     A06,    195,   1,-999.0,      32,  2,19930304,1257,   8.0330,  -15.2830,  4126,    1.700,   26.754,   35.188,2, -999.000,3,  202.900,2,  203.900,2,    1.710,2,    0.060,2,    0.000,2,    0.000,2, -999.000,9, -999.000,9, -999.000,9, 1959.800,2, 2323.900,2
           NA,     A06,    195,   1,-999.0,      31,  2,19930304,1257,   8.0330,  -15.2830,  4126,   14.100,   26.630,   35.185,2, -999.000,3,  206.300,2,  204.100,2,    1.700,2,    0.090,2,    0.000,2,    0.000,2, -999.000,9, -999.000,9, -999.000,9, 1968.000,2, 2333.200,2
           NA,     A06,    195,   1,-999.0,      30,  2,19930304,1257,   8.0330,  -15.2830,  4126,   23.900,   25.782,   35.437,2, -999.000,3,  204.900,2,  200.200,2,    1.870,2,    0.210,2,    0.000,2,    0.010,2, -999.000,9, -999.000,9, -999.000,9, 1995.000,2, 2349.800,2
           NA,     A06,    195,   1,-999.0,      29,  2,19930304,1257,   8.0330,  -15.2830,  4126,   54.600,   16.347,   35.637,2, -999.000,3,   83.500,2, -999.000,3,    6.970,2,   22.510,2,    0.170,2,    1.380,2, -999.000,9, -999.000,9, -999.000,9, 2210.000,2, 2362.800,2
           NA,     A06,    195,   1,-999.0,      28,  2,19930304,1257,   8.0330,  -15.2830,  4126,   93.300,   15.025,   35.535,2, -999.000,3,   72.100,2,   73.800,2,    8.250,2,   23.990,2,    0.020,2,    1.490,2, -999.000,9, -999.000,9, -999.000,9, 2213.900,2, 2358.400,2
           NA,     A06,    195,   1,-999.0,      27,  2,19930304,1257,   8.0330,  -15.2830,  4126,  193.200,   13.454,   35.359,2,   35.359,2,   73.500,2,   74.000,2,    9.930,2,   25.920,2,    0.000,2,    1.590,2, -999.000,9, -999.000,9, -999.000,9, 2221.000,2, 2351.100,2
           NA,     A06,    195,   1,-999.0,      26,  2,19930304,1257,   8.0330,  -15.2830,  4126,  293.000,   11.691,   35.170,2,   35.166,2,   83.300,2,   82.600,2,   11.780,2,   27.970,2,    0.000,2,    1.680,2, -999.000,9, -999.000,9, -999.000,9, 2224.700,2, 2342.800,2
           NA,     A06,    195,   1,-999.0,      25,  2,19930304,1257,   8.0330,  -15.2830,  4126,  393.200,    9.486,   34.978,2,   34.981,2,   52.200,2,   52.300,2,   17.070,2,   36.080,2,    0.000,2,    2.110,2, -999.000,9, -999.000,9, -999.000,9, 2258.700,2, 2329.800,2
           NA,     A06,    195,   1,-999.0,      24,  2,19930304,1257,   8.0330,  -15.2830,  4126,  592.800,    7.050,   34.750,2,   34.749,2,   73.800,2,   74.500,2,   23.710,2,   38.810,2,    0.000,2,    2.360,2,    0.018,2,    0.005,2, -999.000,9, 2263.400,2, 2329.500,2
           NA,     A06,    195,   1,-999.0,      23,  2,19930304,1257,   8.0330,  -15.2830,  4126,  791.900,    5.670,   34.673,2,   34.674,2,  103.000,2,  105.200,2,   28.350,2,   37.530,2,    0.000,2,    2.360,2,    0.004,2,    0.004,2, -999.000,9, 2251.400,2, 2326.800,2
           NA,     A06,    195,   1,-999.0,      22,  2,19930304,1257,   8.0330,  -15.2830,  4126,  992.300,    5.059,   34.739,2,   34.742,2,  135.500,2,  133.700,2,   28.840,2,   34.070,2,    0.000,2,    2.190,2,    0.001,2,    0.000,2, -999.000,9, 2243.800,2, 2335.800,2
           NA,     A06,    195,   1,-999.0,      19,  2,19930304,1257,   8.0330,  -15.2830,  4126, 1291.600,    4.493,   34.889,2,   34.891,2,  180.900,2,  182.000,2,   25.210,2,   27.360,2,    0.000,2,    1.780,2,    0.001,2,    0.000,2, -999.000,9, 2223.000,2, 2345.200,2
           NA,     A06,    195,   1,-999.0,      17,  2,19930304,1257,   8.0330,  -15.2830,  4126, 1492.500,    4.071,   34.933,2,   34.935,2,  212.100,2,  210.000,2,   23.530,2,   23.700,2,    0.000,2,    1.560,2,    0.002,2,    0.000,2, -999.000,9, 2201.900,2, 2342.700,2
           NA,     A06,    195,   1,-999.0,      16,  2,19930304,1257,   8.0330,  -15.2830,  4126, 1592.800,    3.934,   34.943,2,   34.946,2,  221.100,2,  218.700,2,   23.440,2,   22.760,2,    0.000,2,    1.500,2,    0.000,2,    0.004,2, -999.000,9, 2198.600,2, 2343.200,2
           NA,     A06,    195,   1,-999.0,      15,  2,19930304,1257,   8.0330,  -15.2830,  4126, 1692.400,    3.819,   34.948,2,   34.944,2,  226.600,2,  224.200,2,   23.500,2,   22.060,2,    0.000,2,    1.460,2,    0.003,2,    0.001,2, -999.000,9, 2197.700,2, 2345.800,2
           NA,     A06,    195,   1,-999.0,      14,  2,19930304,1257,   8.0330,  -15.2830,  4126, 1792.900,    3.696,   34.950,2,   34.953,2,  230.700,2,  229.000,2,   23.940,2,   21.530,2,    0.000,2,    1.430,2,    0.001,2,    0.000,2, -999.000,9, 2198.300,2, 2349.100,2
           NA,     A06,    195,   1,-999.0,      13,  2,19930304,1257,   8.0330,  -15.2830,  4126, 1993.200,    3.443,   34.950,2, -999.000,3,  236.300,2,  234.500,2,   25.950,2,   20.880,2,    0.000,2,    1.400,2,    0.005,2,   -0.002,2, -999.000,9, 2193.600,2, 2347.800,2
           NA,     A06,    195,   1,-999.0,      12,  2,19930304,1257,   8.0330,  -15.2830,  4126, 2193.900,    3.243,   34.945,2,   34.949,2,  238.900,2,  237.600,2,   28.510,2,   20.630,2,    0.000,2,    1.390,2,    0.001,2,    0.000,2, -999.000,9, -999.000,3, -999.000,3
           NA,     A06,    195,   1,-999.0,      11,  2,19930304,1257,   8.0330,  -15.2830,  4126, 2393.100,    3.063,   34.939,2,   34.943,2,  240.000,2,  239.400,2,   31.250,2,   20.490,2,    0.000,2,    1.390,2,    0.001,2,    0.001,2, -999.000,9, -999.000,3, -999.000,3
           NA,     A06,    195,   1,-999.0,      10,  2,19930304,1257,   8.0330,  -15.2830,  4126, 2593.800,    2.929,   34.934,2, -999.000,3,  240.800,2,  240.500,2,   33.210,2,   20.510,2,    0.000,2,    1.380,2,    0.009,2,    0.000,2, -999.000,9, 2212.900,2, 2371.500,2
           NA,     A06,    195,   1,-999.0,       9,  2,19930304,1257,   8.0330,  -15.2830,  4126, 2793.800,    2.796,   34.927,2,   34.929,2,  240.800,2,  240.800,2,   36.070,2,   20.580,2,    0.000,2,    1.400,2,    0.001,2,   -0.001,2, -999.000,9, 2214.400,2, 2372.200,2
           NA,     A06,    195,   1,-999.0,       8,  2,19930304,1257,   8.0330,  -15.2830,  4126, 2993.400,    2.705,   34.921,2,   34.925,2,  241.100,2,  240.700,2,   38.110,2,   20.700,2,    0.000,2,    1.410,2,    0.000,2,    0.001,2, -999.000,9, 2215.700,2, 2373.100,2
           NA,     A06,    195,   1,-999.0,       7,  2,19930304,1257,   8.0330,  -15.2830,  4126, 3194.100,    2.626,   34.915,2,   34.917,2,  241.000,2,  241.200,2,   40.210,2,   20.620,2,    0.000,2,    1.410,2,    0.003,2,    0.002,2, -999.000,9, 2216.800,2, 2374.200,2
           NA,     A06,    195,   1,-999.0,       6,  2,19930304,1257,   8.0330,  -15.2830,  4126, 3394.100,    2.539,   34.908,2,   34.914,2,  240.800,2,  240.400,2,   41.790,2,   21.030,2,    0.000,2,    1.430,2,    0.006,2,    0.001,2, -999.000,9, 2217.800,2, 2374.800,2
           NA,     A06,    195,   1,-999.0,       5,  2,19930304,1257,   8.0330,  -15.2830,  4126, 3593.600,    2.489,   34.905,2,   34.906,2,  240.700,2,  242.000,2,   43.640,2,   21.070,2,    0.000,2,    1.440,2,    0.024,2,    0.007,2, -999.000,9, 2218.200,2, 2375.200,2
           NA,     A06,    195,   1,-999.0,       4,  2,19930304,1257,   8.0330,  -15.2830,  4126, 3593.700,    2.488,   34.903,2,   34.908,2,  240.700,2,  240.500,2,   43.850,2,   20.970,2,    0.000,2,    1.430,2,    0.006,2,    0.000,2, -999.000,9, 2213.800,2, 2370.100,2
           NA,     A06,    195,   1,-999.0,       3,  2,19930304,1257,   8.0330,  -15.2830,  4126, 3793.100,    2.434,   34.898,2,   34.901,2,  240.300,2,  239.800,2,   45.940,2,   21.180,2,    0.000,2,    1.450,2,    0.004,2,   -0.001,2, -999.000,9, 2223.700,2, 2380.400,2
           NA,     A06,    195,   1,-999.0,       2,  2,19930304,1257,   8.0330,  -15.2830,  4126, 3994.200,    2.345,   34.890,2,   34.892,2,  239.500,2,  239.100,2,   49.130,2,   21.520,2,    0.000,2,    1.470,2,    0.005,2,   -0.001,2, -999.000,9, 2224.300,2, 2381.000,2
           NA,     A06,    195,   1,-999.0,       1,  2,19930304,1257,   8.0330,  -15.2830,  4126, 4154.000,    2.320,   34.885,2,   34.889,2,  235.100,2,  237.700,2,   50.730,2,   21.670,2,    0.000,2,    1.490,2,    0.007,2,    0.003,2, -999.000,9, -999.000,9, -999.000,9
           NA,     A06,    196,   1,-999.0,      30,  2,19930304,1825,   8.1163,  -15.0003,  3822,    1.500,   26.601,   35.165,2,   35.166,2,  202.300,2,  204.400,2,    1.980,2,    0.040,2,    0.000,2,    0.000,2,    1.766,2,    0.948,2, -999.000,9, -999.000,9, -999.000,9
           NA,     A06,    196,   1,-999.0,      29,  2,19930304,1825,   8.1163,  -15.0003,  3822,   14.000,   26.561,   35.166,2, -999.000,3,  207.500,2,  204.400,2,    1.990,2,    0.080,2,    0.000,2,    0.010,2, -999.000,9, -999.000,9, -999.000,9, -999.000,9, -999.000,9
           NA,     A06,    196,   1,-999.0,      28,  2,19930304,1825,   8.1163,  -15.0003,  3822,   33.400,   19.518,   35.562,2, -999.000,3,  160.400,2, -999.000,3,    4.010,2,    7.300,2,    0.390,2,    0.650,2,    1.381,2,    0.708,2, -999.000,9, -999.000,9, -999.000,9
           NA,     A06,    196,   1,-999.0,      27,  2,19930304,1825,   8.1163,  -15.0003,  3822,   53.900,   16.979,   35.669,2, -999.000,3,   85.800,2,   80.100,2,    6.200,2,   19.890,2,    0.390,2,    1.280,2, -999.000,9, -999.000,9, -999.000,9, -999.000,9, -999.000,9
           NA,     A06,    196,   1,-999.0,      26,  2,19930304,1825,   8.1163,  -15.0003,  3822,   74.200,   15.843,   35.604,2,   35.603,2,   69.500,2,   69.600,2,    7.560,2,   22.930,2,    0.090,2,    1.460,2,    1.164,2,    0.569,2, -999.000,9, -999.000,9, -999.000,9
           NA,     A06,    196,   1,-999.0,      25,  2,19930304,1825,   8.1163,  -15.0003,  3822,  118.300,   14.652,   35.489,2, -999.000,3,   69.400,2,   72.100,2,    8.750,2,   24.230,2,    0.010,2,    1.530,2,    0.973,2,    0.484,2, -999.000,9, -999.000,9, -999.000,9
           NA,     A06,    196,   1,-999.0,      24,  2,19930304,1825,   8.1163,  -15.0003,  3822,  192.900,   13.445,   35.363,2, -999.000,3,   74.800,2,   76.600,2,    9.700,2,   25.310,2,    0.000,2,    1.590,2,    0.787,2,    0.401,2, -999.000,9, -999.000,9, -999.000,9
           NA,     A06,    196,   1,-999.0,      23,  2,19930304,1825,   8.1163,  -15.0003,  3822,  391.800,    9.837,   35.021,2,   35.020,2,   51.100,2,   52.100,2,   16.410,2,   34.880,2,    0.000,2,    2.080,2,    0.192,2,    0.093,2, -999.000,9, -999.000,9, -999.000,9
           NA,     A06,    196,   1,-999.0,      22,  2,19930304,1825,   8.1163,  -15.0003,  3822,  591.900,    7.095,   34.761,2, -999.000,3,   69.500,2,   73.100,2,   23.680,2,   38.350,2,    0.000,2,    2.370,2,    0.017,2,    0.002,2, -999.000,9, -999.000,9, -999.000,9
           NA,     A06,    196,   1,-999.0,      20,  2,19930304,1825,   8.1163,  -15.0003,  3822,  791.900,    5.697,   34.679,2,   34.681,2,  100.400,2,  103.800,2,   28.170,2,   36.870,2,    0.000,2,    2.360,2,    0.000,2,   -0.002,2, -999.000,9, -999.000,9, -999.000,9
           NA,     A06,    196,   1,-999.0,      21,  2,19930304,1825,   8.1163,  -15.0003,  3822,  792.000,    5.732,   34.681,2,   34.681,2,  100.400,2,  103.700,2,   28.170,2,   37.060,2,    0.000,2,    2.360,2,    0.003,2,    0.000,2, -999.000,9, -999.000,9, -999.000,9
           NA,     A06,    196,   1,-999.0,      19,  2,19930304,1825,   8.1163,  -15.0003,  3822,  991.700,    5.084,   34.729,2,   34.727,2,  132.800,2,  131.500,2,   29.210,2,   33.740,2,    0.000,2,    2.220,2,    0.003,2,    0.000,2, -999.000,9, -999.000,9, -999.000,9
           NA,     A06,    196,   1,-999.0,      18,  2,19930304,1825,   8.1163,  -15.0003,  3822, 1191.900,    4.685,   34.849,2,   34.849,2,  165.000,2,  165.200,2,   26.620,2,   28.800,2,    0.000,2,    1.920,2,    0.030,2,    0.005,2, -999.000,9, -999.000,9, -999.000,9
           NA,     A06,    196,   1,-999.0,      17,  2,19930304,1825,   8.1163,  -15.0003,  3822, 1292.500,    4.463,   34.884,2,   34.883,2,  181.000,2,  180.400,2,   25.690,2,   26.730,2,    0.000,2,    1.800,2, -999.000,9, -999.000,9, -999.000,9, -999.000,9, -999.000,9
           NA,     A06,    196,   1,-999.0,      16,  2,19930304,1825,   8.1163,  -15.0003,  3822, 1392.800,    4.203,   34.913,2,   34.913,2,  195.800,2,  199.700,2,   24.390,2,   24.420,2,    0.000,2,    1.660,2, -999.000,9, -999.000,9, -999.000,9, -999.000,9, -999.000,9
           NA,     A06,    196,   1,-999.0,      15,  2,19930304,1825,   8.1163,  -15.0003,  3822, 1492.600,    4.060,   34.935,2,   34.934,2,  207.500,2,  210.300,2,   23.680,2,   23.030,2,    0.000,2,    1.570,2,    0.003,2,    0.000,2, -999.000,9, -999.000,9, -999.000,9
           NA,     A06,    196,   1,-999.0,      14,  2,19930304,1825,   8.1163,  -15.0003,  3822, 1592.800,    3.884,   34.940,2,   34.942,2,  217.900,2,  218.800,2,   24.010,2,   22.070,2,    0.000,2,    1.510,2, -999.000,9, -999.000,9, -999.000,9, -999.000,9, -999.000,9
           NA,     A06,    196,   1,-999.0,      13,  2,19930304,1825,   8.1163,  -15.0003,  3822, 1692.900,    3.729,   34.946,2,   34.942,2,  225.400,2,  227.100,2,   24.160,2,   21.200,2,    0.000,2,    1.470,2, -999.000,9, -999.000,9, -999.000,9, -999.000,9, -999.000,9
           NA,     A06,    196,   1,-999.0,      12,  2,19930304,1825,   8.1163,  -15.0003,  3822, 1792.400,    3.617,   34.946,2,   34.952,2,  230.400,2,  230.400,2,   24.980,2,   20.850,2,    0.000,2,    1.450,2,    0.002,2,    0.000,2, -999.000,9, -999.000,9, -999.000,9
           NA,     A06,    196,   1,-999.0,      11,  2,19930304,1825,   8.1163,  -15.0003,  3822, 1993.900,    3.431,   34.948,2,   34.952,2,  236.500,2,  235.900,2,   26.070,2,   20.250,2,    0.000,2,    1.410,2,   -0.001,2,    0.000,2, -999.000,9, -999.000,9, -999.000,9
           NA,     A06,    196,   1,-999.0,      10,  2,19930304,1825,   8.1163,  -15.0003,  3822, 2193.800,    3.232,   34.945,2,   34.948,2,  238.800,2,  237.900,2,   28.900,2,   20.200,2,    0.000,2,    1.410,2, -999.000,9, -999.000,9, -999.000,9, -999.000,9, -999.000,9
           NA,     A06,    196,   1,-999.0,       9,  2,19930304,1825,   8.1163,  -15.0003,  3822, 2394.500,    3.036,   34.937,2,   34.940,2,  240.600,2,  240.400,2,   31.750,2,   20.130,2,    0.000,2,    1.410,2, -999.000,9, -999.000,9, -999.000,9, -999.000,9, -999.000,9
           NA,     A06,    196,   1,-999.0,       8,  2,19930304,1825,   8.1163,  -15.0003,  3822, 2593.600,    2.921,   34.932,2,   34.934,2,  240.700,2,  240.600,2,   33.970,2,   20.180,2,    0.000,2,    1.410,2,    0.001,2,   -0.001,2, -999.000,9, -999.000,9, -999.000,9
           NA,     A06,    196,   1,-999.0,       7,  2,19930304,1825,   8.1163,  -15.0003,  3822, 2794.100,    2.810,   34.927,2,   34.921,2,  241.800,2,  241.800,2,   35.640,2,   20.160,2,    0.000,2,    1.420,2, -999.000,9, -999.000,9, -999.000,9, -999.000,9, -999.000,9
           NA,     A06,    196,   1,-999.0,       6,  2,19930304,1825,   8.1163,  -15.0003,  3822, 2993.900,    2.697,   34.919,2,   34.921,2,  241.700,2,  241.500,2,   38.290,2,   20.320,2,    0.000,2,    1.430,2,    0.012,2,    0.002,2, -999.000,9, -999.000,9, -999.000,9
           NA,     A06,    196,   1,-999.0,       5,  2,19930304,1825,   8.1163,  -15.0003,  3822, 2994.100,    2.697,   34.919,2,   34.923,2,  241.700,2,  241.600,2,   38.400,2,   20.230,2,    0.000,2,    1.420,2,    0.003,2,    0.004,2, -999.000,9, -999.000,9, -999.000,9
           NA,     A06,    196,   1,-999.0,       4,  2,19930304,1825,   8.1163,  -15.0003,  3822, 3194.100,    2.596,   34.913,2,   34.912,2,  240.900,2,  241.300,2,   41.170,2,   20.480,2,    0.000,2,    1.440,2, -999.000,9, -999.000,9, -999.000,9, -999.000,9, -999.000,9
           NA,     A06,    196,   1,-999.0,       3,  2,19930304,1825,   8.1163,  -15.0003,  3822, 3394.100,    2.520,   34.905,2,   34.909,2,  240.500,2,  240.100,2,   43.180,2,   20.730,2,    0.000,2,    1.460,2, -999.000,9, -999.000,9, -999.000,9, -999.000,9, -999.000,9
           NA,     A06,    196,   1,-999.0,       2,  2,19930304,1825,   8.1163,  -15.0003,  3822, 3594.500,    2.461,   34.901,2,   34.904,2,  240.000,2,  240.300,2,   45.000,2,   20.940,2,    0.000,2,    1.470,2,    0.003,2,    0.002,2, -999.000,9, -999.000,9, -999.000,9
           NA,     A06,    196,   1,-999.0,       1,  2,19930304,1825,   8.1163,  -15.0003,  3822, 3849.000,    2.381,   34.893,2,   34.896,2,  236.400,2,  239.400,2,   48.250,2,   21.080,2,    0.000,2,    1.480,2,    0.001,2,    0.004,2, -999.000,9, -999.000,9, -999.000,9