BOTTLE,20205402JOAExport
EXPOCODE,SECT_ID,STNNBR,CASTNO,SAMPNO,BTLNBR,BTLNBR_FLAG_W,DATE,TIME,LATITUDE,LONGITUDE,DEPTH,CTDPRS,CTDTMP,CTDSAL,CTDSAL_FLAG_W,SALNTY,SALNTY_FLAG_W,CTDOXY,CTDOXY_FLAG_W,OXYGEN,OXYGEN_FLAG_W,SILCAT,SILCAT_FLAG_W,NITRAT,NITRAT_FLAG_W,NITRIT,NITRIT_FLAG_W,PHSPHT,PHSPHT_FLAG_W,CFC-11,CFC-11_FLAG_W,CFC-12,CFC-12_FLAG_W,SF6,SF6_FLAG_W,TCARBN,TCARBN_FLAG_W,ALKALI,ALKALI_FLAG_W
,,,,,,,,,,,,,DB,DEG C,PSS-78,,PSS-78,,UMOL/KG,,UMOL/KG,,UMOL/KG,,UMOL/KG,,UMOL/KG,,UMOL/KG,,PMOL/KG,,PMOL/KG,,FMOL/KG,,UMOL/KG,,UMOL/KG
           NA,     A06,    166,   1,-999.0,      32,  2,19930225,0712,   7.4498,  -30.6658,  5048,    2.700,   25.969,   36.298,2,   36.298,2,  197.600,2, -999.000,3,    1.900,2,    0.050,2,    0.000,2,    0.010,2,    1.843,2,    0.986,2, -999.000,9, -999.000,3, -999.000,3
           NA,     A06,    166,   1,-999.0,      31,  2,19930225,0712,   7.4498,  -30.6658,  5048,   69.500,   23.363,   36.327,2, -999.000,3,  186.400,2, -999.000,3,    2.970,2,    2.530,2,    0.170,2,    0.220,2,    1.711,2,    0.903,2, -999.000,9, 2085.900,2, 2408.500,2
           NA,     A06,    166,   1,-999.0,      30,  2,19930225,0712,   7.4498,  -30.6658,  5048,  118.700,   13.500,   35.377,2,   35.374,2,  110.000,2,  108.200,2,    9.130,2,   21.660,2,    0.000,2,    1.380,2,    1.042,2,    0.530,2, -999.000,9, 2179.200,2, 2337.100,2
           NA,     A06,    166,   1,-999.0,      29,  2,19930225,0712,   7.4498,  -30.6658,  5048,  193.900,   11.613,   35.145,2,   35.142,2,   89.200,2,   87.400,2,   11.970,2,   26.690,2,    0.000,2,    1.690,2,    0.599,2,    0.308,2, -999.000,9, 2207.700,2, 2329.200,2
           NA,     A06,    166,   1,-999.0,      28,  2,19930225,0712,   7.4498,  -30.6658,  5048,  393.600,    8.917,   34.881,2,   34.879,2,   88.700,2,   83.500,2,   17.480,2,   32.660,2,    0.000,2,    2.040,2,    0.198,2,    0.104,2, -999.000,9, 2228.200,2, 2316.900,2
           NA,     A06,    166,   1,-999.0,      27,  2,19930225,0712,   7.4498,  -30.6658,  5048,  593.500,    6.965,   34.732,2,   34.729,2,   87.200,2,   90.400,2,   23.840,2,   35.730,2,    0.000,2,    2.290,2,    0.040,2,    0.022,2, -999.000,9, 2245.300,2, 2325.300,2
           NA,     A06,    166,   1,-999.0,      26,  2,19930225,0712,   7.4498,  -30.6658,  5048,  793.000,    5.419,   34.616,2,   34.614,2,  126.900,2,  123.700,2,   29.410,2,   34.900,2,    0.000,2,    2.310,2,    0.012,2,    0.003,2, -999.000,9, 2230.300,2, 2320.700,2
           NA,     A06,    166,   1,-999.0,      25,  2,19930225,0712,   7.4498,  -30.6658,  5048,  991.800,    4.852,   34.665,2,   34.664,2,  145.900,2,  144.400,2,   31.090,2,   32.810,2,    0.000,2,    2.220,2,    0.007,2,    0.005,2, -999.000,9, 2234.900,2, 2327.900,2
           NA,     A06,    166,   1,-999.0,      24,  2,19930225,0712,   7.4498,  -30.6658,  5048, 1192.900,    4.765,   34.800,2,   34.799,2,  168.400,2,  165.200,2,   27.850,2,   29.020,2,    0.000,2,    1.970,2,    0.016,2,    0.009,2, -999.000,9, 2231.400,2, 2341.700,2
           NA,     A06,    166,   1,-999.0,      23,  2,19930225,0712,   7.4498,  -30.6658,  5048, 1292.600,    4.710,   34.886,2,   34.886,2,  189.400,2,  186.000,2,   24.430,2,   25.790,2,    0.000,2,    1.760,2,    0.018,2,    0.005,2, -999.000,9, 2221.000,2, 2349.800,2
           NA,     A06,    166,   1,-999.0,      22,  2,19930225,0712,   7.4498,  -30.6658,  5048, 1394.200,    4.585,   34.932,2,   34.932,2,  208.900,2,  204.400,2,   22.150,2,   23.200,2,    0.000,2,    1.600,2,    0.031,2,    0.015,2, -999.000,9, -999.000,3, -999.000,3
           NA,     A06,    166,   1,-999.0,      21,  2,19930225,0712,   7.4498,  -30.6658,  5048, 1493.700,    4.517,   34.973,2,   34.971,2,  222.800,2,  221.100,2,   19.690,2,   20.930,2,    0.000,2,    1.440,2,    0.062,2,    0.036,2, -999.000,9, 2189.300,2, 2340.300,2
           NA,     A06,    166,   1,-999.0,      20,  2,19930225,0712,   7.4498,  -30.6658,  5048, 1593.900,    4.228,   34.973,2,   34.978,2,  230.900,2,  229.300,2,   19.780,2,   20.300,2,    0.000,2,    1.410,2,    0.026,2,    0.011,2, -999.000,9, 2201.000,2, 2354.800,2
           NA,     A06,    166,   1,-999.0,      19,  2,19930225,0712,   7.4498,  -30.6658,  5048, 1692.700,    3.952,   34.975,2,   34.976,2,  238.400,2,  237.700,2,   20.090,2,   19.530,2,    0.000,2,    1.360,2,    0.013,2,    0.008,2, -999.000,9, 2192.000,2, 2351.800,2
           NA,     A06,    166,   1,-999.0,      18,  2,19930225,0712,   7.4498,  -30.6658,  5048, 1793.100,    3.746,   34.970,2,   34.974,2,  244.300,2,  243.500,2,   21.020,2,   18.730,2,    0.000,2,    1.330,2,    0.011,2,    0.000,2, -999.000,9, 2193.400,2, 2355.500,2
           NA,     A06,    166,   1,-999.0,      17,  2,19930225,0712,   7.4498,  -30.6658,  5048, 1894.400,    3.634,   34.969,2,   34.970,2,  248.000,2,  246.700,2,   21.740,2,   18.630,2,    0.000,2,    1.320,2,    0.020,2,    0.011,2, -999.000,9, 2191.400,2, 2354.800,2
           NA,     A06,    166,   1,-999.0,      16,  2,19930225,0712,   7.4498,  -30.6658,  5048, 1995.500,    3.494,   34.964,2,   34.966,2,  249.700,2,  247.300,2,   23.210,2,   18.510,2,    0.000,2,    1.320,2,    0.004,2,   -0.001,2, -999.000,9, 2194.500,2, 2359.000,2
           NA,     A06,    166,   1,-999.0,      15,  2,19930225,0712,   7.4498,  -30.6658,  5048, 2192.900,    3.272,   34.955,2,   34.956,2,  251.200,2,  249.700,2,   25.730,2,   18.420,2,    0.000,2,    1.320,2,    0.000,2,    0.002,2, -999.000,9, 2194.100,2, 2357.100,2
           NA,     A06,    166,   1,-999.0,      14,  2,19930225,0712,   7.4498,  -30.6658,  5048, 2393.800,    3.093,   34.946,2,   34.943,2,  249.600,2,  248.700,2,   29.040,2,   18.720,2,    0.000,2,    1.330,2,    0.002,2,    0.000,2, -999.000,9, 2196.500,2, 2360.000,2
           NA,     A06,    166,   1,-999.0,      13,  2,19930225,0712,   7.4498,  -30.6658,  5048, 2692.800,    2.881,   34.934,2,   34.935,2,  249.500,2,  249.300,2,   32.850,2,   18.860,2,    0.000,2,    1.350,2,    0.002,2,   -0.002,2, -999.000,9, 2197.300,2, 2359.500,2
           NA,     A06,    166,   1,-999.0,      12,  2,19930225,0712,   7.4498,  -30.6658,  5048, 2994.800,    2.716,   34.922,2,   34.927,2,  248.800,2,  248.900,2,   36.770,2,   19.130,2,    0.000,2,    1.380,2,    0.002,2,   -0.002,2, -999.000,9, 2200.200,2, 2363.400,2
           NA,     A06,    166,   1,-999.0,      11,  2,19930225,0712,   7.4498,  -30.6658,  5048, 3193.700,    2.597,   34.916,2,   34.915,2,  252.800,2,  252.300,2,   37.640,2,   18.740,2,    0.000,2,    1.360,2, -999.000,9,    0.001,2, -999.000,9, 2202.000,2, 2366.200,2
           NA,     A06,    166,   1,-999.0,      10,  2,19930225,0712,   7.4498,  -30.6658,  5048, 3394.900,    2.506,   34.908,2,   34.906,2,  253.900,2,  253.700,2,   39.420,2,   18.720,2,    0.000,2,    1.370,2,    0.006,2,    0.006,2, -999.000,9, -999.000,3, -999.000,3
           NA,     A06,    166,   1,-999.0,       9,  2,19930225,0712,   7.4498,  -30.6658,  5048, 3593.900,    2.440,   34.902,2,   34.899,2,  254.700,2,  254.700,2,   41.040,2,   18.730,2,    0.000,2,    1.370,2,    0.006,2,    0.001,2, -999.000,9, -999.000,3, -999.000,3
           NA,     A06,    166,   1,-999.0,       8,  2,19930225,0712,   7.4498,  -30.6658,  5048, 3792.700,    2.386,   34.896,2,   34.892,2,  254.600,2,  253.600,2,   42.960,2,   18.970,2,    0.000,2,    1.380,2,    0.007,2,    0.005,2, -999.000,9, -999.000,3, -999.000,3
           NA,     A06,    166,   1,-999.0,       7,  2,19930225,0712,   7.4498,  -30.6658,  5048, 3894.800,    2.357,   34.893,2,   34.892,2,  254.500,2,  253.700,2,   43.730,2,   19.000,2,    0.000,2,    1.390,2,    0.011,2,    0.004,2, -999.000,9, 2226.800,2, 2389.200,2
           NA,     A06,    166,   1,-999.0,       6,  2,19930225,0712,   7.4498,  -30.6658,  5048, 3994.100,    2.337,   34.891,2, -999.000,3,  254.700,2,  253.900,2,   44.460,2,   19.020,2,    0.000,2,    1.400,2,    0.013,2,    0.007,2, -999.000,9, 2218.000,2, 2379.000,2
           NA,     A06,    166,   1,-999.0,       5,  2,19930225,0712,   7.4498,  -30.6658,  5048, 4194.300,    2.328,   34.890,2,   34.888,2,  254.900,2,  254.100,2,   45.170,2,   19.000,2,    0.000,2,    1.410,2,    0.011,2,    0.009,2, -999.000,9, -999.000,3, -999.000,3
           NA,     A06,    166,   1,-999.0,       4,  2,19930225,0712,   7.4498,  -30.6658,  5048, 4394.400,    2.323,   34.887,2,   34.885,2,  254.600,2,  253.300,2,   46.360,2,   19.120,2,    0.010,2,    1.420,2,    0.011,2,    0.006,2, -999.000,9, -999.000,3, -999.000,3
           NA,     A06,    166,   1,-999.0,       3,  2,19930225,0712,   7.4498,  -30.6658,  5048, 4595.300,    2.322,   34.883,2,   34.885,2,  253.400,2,  251.700,2,   48.000,2,   19.360,2,    0.010,2,    1.430,2,    0.008,2,    0.003,2, -999.000,9, 2226.300,2, 2387.700,2
           NA,     A06,    166,   1,-999.0,       2,  2,19930225,0712,   7.4498,  -30.6658,  5048, 4793.800,    2.331,   34.883,2,   34.884,2,  252.100,2,  250.600,2,   48.960,2,   19.490,2,    0.000,2,    1.440,2,    0.011,2,    0.005,2, -999.000,9, 2233.100,2, 2394.800,2
           NA,     A06,    166,   1,-999.0,       1,  2,19930225,0712,   7.4498,  -30.6658,  5048, 5050.300,    2.359,   34.881,2,   34.882,2,  250.700,2,  249.500,2,   49.490,2,   19.670,2,    0.020,2,    1.440,2,    0.013,2,    0.006,2, -999.000,9, 2245.700,2, 2407.100,2
           NA,     A06,    167,   1,-999.0,      32,  2,19930225,1433,   7.4503,  -29.9980,  5242,    2.300,   25.397,   35.949,2,   35.948,2,  202.800,2,  206.400,2,    1.840,2,    0.000,2,    0.000,2,    0.000,2,    1.876,2,    1.011,2, -999.000,9, -999.000,9, -999.000,9
           NA,     A06,    167,   1,-999.0,      31,  2,19930225,1433,   7.4503,  -29.9980,  5242,   69.500,   19.055,   35.896,2,   35.895,2,  120.800,2,  117.900,2,    5.090,2,   12.670,2,    0.190,2,    0.830,2,    1.391,2,    0.713,2, -999.000,9, -999.000,9, -999.000,9
           NA,     A06,    167,   1,-999.0,      30,  2,19930225,1433,   7.4503,  -29.9980,  5242,  118.200,   13.864,   35.400,2,   35.405,2,  109.600,2, -999.000,3,    8.700,2,   22.850,2,    0.020,2,    1.450,2,    1.009,2,    0.501,2, -999.000,9, -999.000,9, -999.000,9
           NA,     A06,    167,   1,-999.0,      29,  2,19930225,1433,   7.4503,  -29.9980,  5242,  194.200,   12.352,   35.224,2, -999.000,3,  109.100,2, -999.000,3,   10.420,2,   24.020,2,    0.010,2,    1.530,2,    0.806,2,    0.401,2, -999.000,9, -999.000,9, -999.000,9
           NA,     A06,    167,   1,-999.0,      28,  2,19930225,1433,   7.4503,  -29.9980,  5242,  392.100,    9.714,   35.005,2,   35.000,2,   60.100,2,   59.200,2,   16.320,2,   34.370,2,    0.010,2,    2.040,2,    0.185,2,    0.087,2, -999.000,9, -999.000,9, -999.000,9
           NA,     A06,    167,   1,-999.0,      27,  2,19930225,1433,   7.4503,  -29.9980,  5242,  591.700,    6.482,   34.654,2,   34.649,2,  100.100,2, -999.000,3,   24.810,2,   35.670,2,    0.010,2,    2.250,2,    0.051,2,    0.030,2, -999.000,9, -999.000,9, -999.000,9
           NA,     A06,    167,   1,-999.0,      26,  2,19930225,1433,   7.4503,  -29.9980,  5242,  790.700,    5.316,   34.615,2,   34.611,2,  124.300,2,  125.900,2,   29.950,2,   35.690,2,    0.010,2,    2.300,2,    0.011,2,    0.003,2, -999.000,9, -999.000,9, -999.000,9
           NA,     A06,    167,   1,-999.0,      25,  2,19930225,1433,   7.4503,  -29.9980,  5242,  991.500,    4.899,   34.687,2,   34.685,2,  143.900,2,  142.500,2,   30.460,2,   33.560,2,    0.010,2,    2.200,2,    0.003,2,    0.001,2, -999.000,9, -999.000,9, -999.000,9
           NA,     A06,    167,   1,-999.0,      24,  2,19930225,1433,   7.4503,  -29.9980,  5242, 1093.300,    4.835,   34.765,2, -999.000,3,  155.800,2,  155.200,2,   28.810,2,   31.390,2,    0.020,2,    2.040,2,    0.005,2,    0.001,2, -999.000,9, -999.000,9, -999.000,9
           NA,     A06,    167,   1,-999.0,      23,  2,19930225,1433,   7.4503,  -29.9980,  5242, 1193.200,    4.743,   34.846,2,   34.844,2,  173.900,2,  173.900,2,   26.050,2,   28.340,2,    0.010,2,    1.850,2,    0.012,2,    0.001,2, -999.000,9, -999.000,9, -999.000,9
           NA,     A06,    167,   1,-999.0,      22,  2,19930225,1433,   7.4503,  -29.9980,  5242, 1292.800,    4.678,   34.908,2,   34.908,2,  191.100,2,  192.400,2,   23.160,2,   25.540,2,    0.000,2,    1.680,2,    0.027,2,    0.008,2, -999.000,9, -999.000,9, -999.000,9
           NA,     A06,    167,   1,-999.0,      21,  2,19930225,1433,   7.4503,  -29.9980,  5242, 1392.200,    4.534,   34.961,2,   34.959,2,  215.800,2,  214.200,2,   20.460,2,   22.590,2,    0.000,2,    1.490,2,    0.050,2,    0.025,2, -999.000,9, -999.000,9, -999.000,9
           NA,     A06,    167,   1,-999.0,      20,  2,19930225,1433,   7.4503,  -29.9980,  5242, 1494.400,    4.336,   34.977,2,   34.974,2,  229.600,2,  226.900,2,   19.200,2,   21.180,2,    0.000,2,    1.400,2,    0.049,2,    0.031,2, -999.000,9, -999.000,9, -999.000,9
           NA,     A06,    167,   1,-999.0,      19,  2,19930225,1433,   7.4503,  -29.9980,  5242, 1592.200,    4.065,   34.972,2,   34.969,2,  232.000,2,  231.200,2,   20.240,2,   21.060,2,    0.010,2,    1.390,2,    0.018,2,    0.005,2, -999.000,9, -999.000,9, -999.000,9
           NA,     A06,    167,   1,-999.0,      18,  2,19930225,1433,   7.4503,  -29.9980,  5242, 1693.100,    3.995,   34.979,2,   34.978,2,  240.700,2,  239.500,2,   19.230,2,   19.940,2,    0.010,2,    1.320,2,    0.031,2,    0.013,2, -999.000,9, -999.000,9, -999.000,9
           NA,     A06,    167,   1,-999.0,      17,  2,19930225,1433,   7.4503,  -29.9980,  5242, 1793.300,    3.801,   34.977,2,   34.978,2,  248.300,2,  246.400,2,   19.560,2,   19.280,2,    0.010,2,    1.280,2,    0.032,2,    0.011,2, -999.000,9, -999.000,9, -999.000,9
           NA,     A06,    167,   1,-999.0,      16,  2,19930225,1433,   7.4503,  -29.9980,  5242, 1894.000,    3.648,   34.969,2,   34.967,2,  247.600,2,  244.500,2,   21.550,2,   19.650,2,    0.010,2,    1.320,2,    0.019,2,    0.007,2, -999.000,9, -999.000,9, -999.000,9
           NA,     A06,    167,   1,-999.0,      15,  2,19930225,1433,   7.4503,  -29.9980,  5242, 2094.400,    3.378,   34.961,2,   34.961,2,  251.200,2,  249.100,2,   23.810,2,   19.280,2,    0.010,2,    1.300,2,    0.007,2,    0.003,2, -999.000,9, -999.000,9, -999.000,9
           NA,     A06,    167,   1,-999.0,      14,  2,19930225,1433,   7.4503,  -29.9980,  5242, 2393.100,    3.088,   34.946,2,   34.944,2,  250.500,2,  249.300,2,   28.600,2,   19.640,2,    0.010,2,    1.330,2,    0.005,2,   -0.001,2, -999.000,9, -999.000,9, -999.000,9
           NA,     A06,    167,   1,-999.0,      13,  2,19930225,1433,   7.4503,  -29.9980,  5242, 2694.700,    2.854,   34.932,2,   34.930,2,  249.700,2,  249.500,2,   33.270,2,   19.930,2,    0.000,2,    1.350,2,    0.006,2,   -0.001,2, -999.000,9, -999.000,9, -999.000,9
           NA,     A06,    167,   1,-999.0,      12,  2,19930225,1433,   7.4503,  -29.9980,  5242, 2994.000,    2.695,   34.921,2,   34.921,2,  250.200,2,  249.900,2,   36.320,2,   20.070,2,    0.010,2,    1.360,2,    0.011,2,    0.003,2, -999.000,9, -999.000,9, -999.000,9
           NA,     A06,    167,   1,-999.0,      11,  2,19930225,1433,   7.4503,  -29.9980,  5242, 3194.300,    2.625,   34.916,2,   34.914,2,  251.500,2,  250.600,2,   37.690,2,   20.010,2,    0.010,2,    1.370,2,    0.011,2,    0.005,2, -999.000,9, -999.000,9, -999.000,9
           NA,     A06,    167,   1,-999.0,      10,  2,19930225,1433,   7.4503,  -29.9980,  5242, 3394.200,    2.517,   34.908,2,   34.910,2,  251.900,2,  251.300,2,   39.790,2,   20.040,2,    0.020,2,    1.370,2,    0.013,2,    0.000,2, -999.000,9, -999.000,9, -999.000,9
           NA,     A06,    167,   1,-999.0,       9,  2,19930225,1433,   7.4503,  -29.9980,  5242, 3594.500,    2.446,   34.903,2,   34.902,2,  252.700,2,  250.000,2,   41.200,2,   20.030,2,    0.010,2,    1.380,2,    0.013,2,    0.001,2, -999.000,9, -999.000,9, -999.000,9
           NA,     A06,    167,   1,-999.0,       8,  2,19930225,1433,   7.4503,  -29.9980,  5242, 3794.900,    2.373,   34.896,2,   34.893,2,  254.500,2,  253.500,2,   42.740,2,   19.930,2,    0.030,2,    1.380,2,    0.018,2,    0.011,2, -999.000,9, -999.000,9, -999.000,9
           NA,     A06,    167,   1,-999.0,       7,  2,19930225,1433,   7.4503,  -29.9980,  5242, 3994.700,    2.341,   34.891,2,   34.889,2,  253.900,2,  253.400,2,   44.400,2,   20.100,2,    0.020,2,    1.400,2,    0.018,2,    0.006,2, -999.000,9, -999.000,9, -999.000,9
           NA,     A06,    167,   1,-999.0,       6,  2,19930225,1433,   7.4503,  -29.9980,  5242, 4193.100,    2.330,   34.890,2,   34.888,2,  254.200,2,  252.800,2,   45.450,2,   20.210,2,    0.010,2,    1.400,2,    0.003,2,    0.011,2, -999.000,9, -999.000,9, -999.000,9
           NA,     A06,    167,   1,-999.0,       5,  2,19930225,1433,   7.4503,  -29.9980,  5242, 4393.300,    2.328,   34.886,2,   34.883,2,  253.500,2,  252.200,2,   46.880,2,   20.290,2,    0.010,2,    1.410,2,    0.015,2,    0.004,2, -999.000,9, -999.000,9, -999.000,9
           NA,     A06,    167,   1,-999.0,       4,  2,19930225,1433,   7.4503,  -29.9980,  5242, 4593.600,    2.328,   34.883,2,   34.883,2,  252.700,2,  250.500,2,   48.180,2,   20.400,2,    0.040,2,    1.410,2,    0.015,2,    0.009,2, -999.000,9, -999.000,9, -999.000,9
           NA,     A06,    167,   1,-999.0,       3,  2,19930225,1433,   7.4503,  -29.9980,  5242, 4794.200,    2.342,   34.882,2,   34.879,2,  252.200,2,  250.000,2,   48.580,2,   20.520,2,    0.040,2,    1.430,2,    0.009,2,    0.006,2, -999.000,9, -999.000,9, -999.000,9
           NA,     A06,    167,   1,-999.0,       2,  2,19930225,1433,   7.4503,  -29.9980,  5242, 4994.700,    2.359,   34.881,2,   34.882,2,  251.900,2,  249.600,2,   49.550,2,   20.600,2,    0.010,2,    1.430,2,    0.014,2,    0.005,2, -999.000,9, -999.000,9, -999.000,9
           NA,     A06,    167,   1,-999.0,       1,  2,19930225,1433,   7.4503,  -29.9980,  5242, 5110.600,    2.373,   34.881,2,   34.883,2,  250.800,2,  249.300,2,   49.690,2,   20.620,2,    0.010,2,    1.430,2,    0.015,2,    0.003,2, -999.000,9, -999.000,9, -999.000,9