BOTTLE,20205402JOAExport
EXPOCODE,SECT_ID,STNNBR,CASTNO,SAMPNO,BTLNBR,BTLNBR_FLAG_W,DATE,TIME,LATITUDE,LONGITUDE,DEPTH,CTDPRS,CTDTMP,CTDSAL,CTDSAL_FLAG_W,SALNTY,SALNTY_FLAG_W,CTDOXY,CTDOXY_FLAG_W,OXYGEN,OXYGEN_FLAG_W,SILCAT,SILCAT_FLAG_W,NITRAT,NITRAT_FLAG_W,NITRIT,NITRIT_FLAG_W,PHSPHT,PHSPHT_FLAG_W,CFC-11,CFC-11_FLAG_W,CFC-12,CFC-12_FLAG_W,SF6,SF6_FLAG_W,TCARBN,TCARBN_FLAG_W,ALKALI,ALKALI_FLAG_W
,,,,,,,,,,,,,DB,DEG C,PSS-78,,PSS-78,,UMOL/KG,,UMOL/KG,,UMOL/KG,,UMOL/KG,,UMOL/KG,,UMOL/KG,,PMOL/KG,,PMOL/KG,,FMOL/KG,,UMOL/KG,,UMOL/KG
           NA,     A06,    148,   1,-999.0,      32,  2,19930221,0024,   7.4235,  -38.6585,  4898,    2.300,   26.752,   36.001,2,   36.004,2,  198.200,2,  201.300,2,    1.650,2,    0.040,2,    0.000,2,    0.000,2,    1.807,2,    0.978,2, -999.000,9, 2014.900,2, 2392.600,2
           NA,     A06,    148,   1,-999.0,      31,  2,19930221,0024,   7.4235,  -38.6585,  4898,   66.100,   26.640,   36.217,2,   36.216,2,  199.600,2,  200.900,2,    1.700,2,    0.060,2,    0.000,2,    0.000,2,    1.773,2,    0.962,2, -999.000,9, 2022.600,2, 2390.200,2
           NA,     A06,    148,   1,-999.0,      30,  2,19930221,0024,   7.4235,  -38.6585,  4898,  120.500,   15.064,   35.621,2, -999.000,3,  127.500,2, -999.000,3,    7.740,2,   21.760,2,    0.020,2,    1.160,2,    1.139,2,    0.587,2, -999.000,9, 2160.600,2, 2334.600,2
           NA,     A06,    148,   1,-999.0,      29,  2,19930221,0024,   7.4235,  -38.6585,  4898,  197.400,    9.805,   34.932,2, -999.000,3,  134.500,2,  132.200,2,   12.660,2,   27.610,2,    0.010,2,    1.590,2,    0.747,2,    0.380,2, -999.000,9, 2169.500,2, 2303.400,2
           NA,     A06,    148,   1,-999.0,      28,  2,19930221,0024,   7.4235,  -38.6585,  4898,  393.800,    7.861,   34.726,2,   34.723,2,  119.800,2,  122.300,2,   17.790,2,   33.200,2,    0.000,2,    1.940,2,    0.317,2,    0.161,2, -999.000,9, -999.000,3, -999.000,3
           NA,     A06,    148,   1,-999.0,      27,  2,19930221,0024,   7.4235,  -38.6585,  4898,  593.600,    6.663,   34.630,2,   34.632,2,  122.300,2,  119.300,2,   22.110,2,   36.070,2,    0.010,2,    2.120,2,    0.112,2,    0.057,2, -999.000,9, 2217.000,2, 2307.600,2
           NA,     A06,    148,   1,-999.0,      26,  2,19930221,0024,   7.4235,  -38.6585,  4898,  792.900,    5.521,   34.626,2,   34.626,2,  123.400,2,  125.400,2,   27.440,2,   37.120,2,    0.000,2,    2.260,2,    0.019,2,    0.007,2, -999.000,9, 2226.300,2, 2311.100,2
           NA,     A06,    148,   1,-999.0,      25,  2,19930221,0024,   7.4235,  -38.6585,  4898,  992.000,    4.980,   34.679,2,   34.683,2,  142.700,2,  141.400,2,   28.770,2,   35.350,2,    0.000,2,    2.160,2,    0.005,2,   -0.002,2, -999.000,9, -999.000,3, -999.000,3
           NA,     A06,    148,   1,-999.0,      24,  2,19930221,0024,   7.4235,  -38.6585,  4898, 1192.900,    4.813,   34.858,2,   34.863,2,  175.200,2,  174.000,2,   24.110,2,   29.770,2,    0.000,2,    1.820,2,    0.015,2,    0.005,2, -999.000,9, 2197.200,2, 2313.100,2
           NA,     A06,    148,   1,-999.0,      23,  2,19930221,0024,   7.4235,  -38.6585,  4898, 1393.000,    4.602,   34.969,2,   34.971,2,  214.400,2,  215.600,2,   18.530,2,   23.750,2,    0.010,2,    1.430,2,    0.084,2,    0.042,2, -999.000,9, 2169.600,2, 2315.300,2
           NA,     A06,    148,   1,-999.0,      22,  2,19930221,0024,   7.4235,  -38.6585,  4898, 1492.200,    4.459,   34.994,2,   34.992,2,  231.600,2,  231.500,2,   16.540,2,   21.890,2,    0.000,2,    1.310,2,    0.115,2,    0.056,2, -999.000,9, 2170.400,2, 2325.600,2
           NA,     A06,    148,   1,-999.0,      21,  2,19930221,0024,   7.4235,  -38.6585,  4898, 1592.700,    4.290,   34.996,2,   34.999,2,  240.200,2,  239.700,2,   16.270,2,   20.730,2, -999.000,3,    1.260,2,    0.110,2,    0.056,2, -999.000,9, -999.000,3, -999.000,3
           NA,     A06,    148,   1,-999.0,      20,  2,19930221,0024,   7.4235,  -38.6585,  4898, 1692.300,    4.102,   34.997,2,   34.998,2,  249.100,2,  247.200,2,   15.840,2,   20.270,2,    0.000,2,    1.220,2,    0.114,2,    0.060,2, -999.000,9, -999.000,3, -999.000,3
           NA,     A06,    148,   1,-999.0,      19,  2,19930221,0024,   7.4235,  -38.6585,  4898, 1793.100,    3.939,   34.992,2,   34.994,2,  253.600,2,  251.000,2,   16.200,2,   20.050,2,    0.030,2,    1.200,2,    0.090,2,    0.047,2, -999.000,9, -999.000,3, -999.000,3
           NA,     A06,    148,   1,-999.0,      18,  2,19930221,0024,   7.4235,  -38.6585,  4898, 1893.400,    3.836,   34.987,2,   34.991,2,  256.600,2,  253.300,2,   16.710,2,   19.880,2,    0.000,2,    1.200,2,    0.076,2,    0.037,2, -999.000,9, 2148.700,2, 2310.100,2
           NA,     A06,    148,   1,-999.0,      17,  2,19930221,0024,   7.4235,  -38.6585,  4898, 1992.600,    3.631,   34.979,2,   34.981,2,  257.700,2,  256.100,2,   17.900,2,   19.540,2,    0.030,2,    1.180,2,    0.046,2,    0.026,2, -999.000,9, -999.000,3, -999.000,3
           NA,     A06,    148,   1,-999.0,      16,  2,19930221,0024,   7.4235,  -38.6585,  4898, 2193.500,    3.318,   34.967,2,   34.969,2,  259.300,2,  257.100,2,   20.510,2,   19.650,2,    0.010,2,    1.210,2,    0.035,2,    0.016,2, -999.000,9, 2155.600,2, 2320.500,2
           NA,     A06,    148,   1,-999.0,      15,  2,19930221,0024,   7.4235,  -38.6585,  4898, 2394.300,    3.147,   34.953,2,   34.957,2,  256.600,2,  254.900,2,   24.150,2,   20.400,2,    0.020,2,    1.250,2,    0.019,2,    0.007,2, -999.000,9, 2157.200,2, 2323.100,2
           NA,     A06,    148,   1,-999.0,      14,  2,19930221,0024,   7.4235,  -38.6585,  4898, 2693.800,    2.943,   34.946,2,   34.946,2,  257.500,2,  257.200,2,   25.800,2,   20.070,2,    0.010,2,    1.230,2,    0.030,2,    0.014,2, -999.000,9, -999.000,3, -999.000,3
           NA,     A06,    148,   1,-999.0,      13,  2,19930221,0024,   7.4235,  -38.6585,  4898, 2994.300,    2.756,   34.931,2,   34.931,2,  257.500,2,  256.200,2,   30.100,2,   20.550,2,    0.010,2,    1.270,2,    0.021,2,    0.008,2, -999.000,9, 2161.000,2, 2326.000,2
           NA,     A06,    148,   1,-999.0,      12,  2,19930221,0024,   7.4235,  -38.6585,  4898, 3195.000,    2.641,   34.920,2,   34.922,2,  257.300,2,  256.500,2,   32.530,2,   20.840,2,    0.000,2,    1.290,2,    0.020,2,    0.011,2, -999.000,9, 2174.600,2, 2339.700,2
           NA,     A06,    148,   1,-999.0,      11,  2,19930221,0024,   7.4235,  -38.6585,  4898, 3394.500,    2.514,   34.913,2,   34.917,2,  258.300,2,  257.200,2,   34.230,2,   20.810,2,    0.010,2,    1.280,2,    0.034,2,    0.015,2, -999.000,9, 2162.800,2, 2327.800,2
           NA,     A06,    148,   1,-999.0,      10,  2,19930221,0024,   7.4235,  -38.6585,  4898, 3596.400,    2.411,   34.907,2,   34.909,2,  259.700,2,  258.900,2,   35.070,2,   20.780,2,    0.000,2,    1.290,2,    0.037,2,    0.017,2, -999.000,9, 2171.800,2, 2334.000,2
           NA,     A06,    148,   1,-999.0,       9,  2,19930221,0024,   7.4235,  -38.6585,  4898, 3794.800,    2.234,   34.888,2,   34.888,2,  258.100,2,  256.100,2,   41.480,2,   21.590,2,    0.000,2,    1.340,2,    0.035,2,    0.018,2, -999.000,9, -999.000,3, -999.000,3
           NA,     A06,    148,   1,-999.0,       8,  2,19930221,0024,   7.4235,  -38.6585,  4898, 3894.900,    2.159,   34.880,2,   34.883,2,  256.000,2,  255.000,2,   44.860,2,   22.020,2,    0.020,2,    1.380,2,    0.028,2,    0.018,2, -999.000,9, 2183.600,2, 2342.000,2
           NA,     A06,    148,   1,-999.0,       7,  2,19930221,0024,   7.4235,  -38.6585,  4898, 3994.800,    2.082,   34.870,2,   34.870,2,  254.500,2,  253.100,2,   48.290,2,   22.580,2,    0.010,2,    1.410,2,    0.035,2,    0.018,2, -999.000,9, 2191.000,2, 2349.300,2
           NA,     A06,    148,   1,-999.0,       6,  2,19930221,0024,   7.4235,  -38.6585,  4898, 4095.100,    1.978,   34.857,2,   34.861,2,  253.000,2,  250.800,2,   53.710,2,   23.000,2,    0.070,2,    1.440,2,    0.031,2,    0.018,2, -999.000,9, 2195.700,2, 2348.700,2
           NA,     A06,    148,   1,-999.0,       5,  2,19930221,0024,   7.4235,  -38.6585,  4898, 4194.100,    1.836,   34.842,2,   34.843,2,  250.100,2,  247.400,2,   60.510,2,   24.530,2,    0.020,2,    1.530,2,    0.024,2,    0.017,2, -999.000,9, 2212.700,2, 2364.100,2
           NA,     A06,    148,   1,-999.0,       4,  2,19930221,0024,   7.4235,  -38.6585,  4898, 4392.100,    1.701,   34.826,2,   34.829,2,  244.800,2,  244.000,2,   67.070,2,   25.730,2,    0.010,2,    1.600,2,    0.022,2,    0.013,2, -999.000,9, 2211.300,2, 2358.600,2
           NA,     A06,    148,   1,-999.0,       3,  2,19930221,0024,   7.4235,  -38.6585,  4898, 4593.900,    1.649,   34.818,2,   34.821,2,  242.400,2,  241.800,2,   71.610,2,   26.020,2,    0.010,2,    1.640,2,    0.019,2,    0.008,2, -999.000,9, 2217.400,2, 2364.900,2
           NA,     A06,    148,   1,-999.0,       2,  2,19930221,0024,   7.4235,  -38.6585,  4898, 4794.100,    1.661,   34.814,2,   34.818,2,  242.100,2,  242.000,2,   72.210,2,   26.240,2,    0.000,2,    1.650,2,    0.030,2,    0.012,2, -999.000,9, 2219.900,2, 2363.900,2
           NA,     A06,    148,   1,-999.0,       1,  2,19930221,0024,   7.4235,  -38.6585,  4898, 4917.800,    1.667,   34.814,2,   34.816,2,  241.200,2,  241.700,2,   72.900,2,   26.210,2,    0.040,2,    1.650,2,    0.022,2,    0.012,2, -999.000,9, 2245.300,2, 2391.300,2
           NA,     A06,    149,   1,-999.0,      32,  2,19930221,0723,   7.4505,  -37.9958,  4831,    1.500,   26.500,   35.983,2,   35.985,2,  224.300,2, -999.000,3,    1.610,2,    0.040,2,    0.000,2,    0.000,2,    1.813,2,    0.982,2, -999.000,9, -999.000,9, -999.000,9
           NA,     A06,    149,   1,-999.0,      31,  2,19930221,0723,   7.4505,  -37.9958,  4831,   68.700,   26.616,   36.073,2, -999.000,3,  202.800,2,  200.600,2,    2.730,2,    5.270,2,    0.100,2,    0.330,2, -999.000,3, -999.000,3, -999.000,9, -999.000,9, -999.000,9
           NA,     A06,    149,   1,-999.0,      30,  2,19930221,0723,   7.4505,  -37.9958,  4831,  118.400,   23.280,   36.429,2, -999.000,3,  163.600,2,  161.000,2,    2.740,2,    5.250,2,    0.100,2,    0.330,2,    1.767,2,    0.956,2, -999.000,9, -999.000,9, -999.000,9
           NA,     A06,    149,   1,-999.0,      29,  2,19930221,0723,   7.4505,  -37.9958,  4831,  193.900,   10.337,   35.001,2,   35.001,2,  138.200,2, -999.000,3,   11.780,2,   26.220,2,    0.000,2,    1.570,2,    0.762,2,    0.389,2, -999.000,9, -999.000,9, -999.000,9
           NA,     A06,    149,   1,-999.0,      28,  2,19930221,0723,   7.4505,  -37.9958,  4831,  392.600,    8.127,   34.761,2,   34.758,2,  115.500,2,  111.800,2,   17.410,2,   32.810,2,    0.000,2,    1.980,2,    0.266,2,    0.136,2, -999.000,9, -999.000,9, -999.000,9
           NA,     A06,    149,   1,-999.0,      27,  2,19930221,0723,   7.4505,  -37.9958,  4831,  592.400,    6.687,   34.647,2,   34.646,2,  119.400,2,  118.100,2,   22.310,2,   34.930,2,    0.010,2,    2.170,2,    0.101,2,    0.054,2, -999.000,9, -999.000,9, -999.000,9
           NA,     A06,    149,   1,-999.0,      26,  2,19930221,0723,   7.4505,  -37.9958,  4831,  792.400,    5.719,   34.633,2,   34.634,2,  125.500,2,  121.300,2,   26.730,2,   36.290,2,    0.000,2,    2.280,2,    0.019,2,    0.007,2, -999.000,9, -999.000,9, -999.000,9
           NA,     A06,    149,   1,-999.0,      25,  2,19930221,0723,   7.4505,  -37.9958,  4831,  992.900,    4.981,   34.701,2,   34.702,2,  147.100,2,  144.500,2,   28.430,2,   33.620,2,    0.010,2,    2.160,2,    0.006,2,    0.001,2, -999.000,9, -999.000,9, -999.000,9
           NA,     A06,    149,   1,-999.0,      24,  2,19930221,0723,   7.4505,  -37.9958,  4831, 1192.800,    4.688,   34.873,2,   34.873,2,  177.300,2, -999.000,3,   23.370,2,   27.660,2,    0.000,2,    1.780,2,    0.013,2,    0.006,2, -999.000,9, -999.000,9, -999.000,9
           NA,     A06,    149,   1,-999.0,      23,  2,19930221,0723,   7.4505,  -37.9958,  4831, 1392.900,    4.525,   34.950,2,   34.950,2,  199.300,2, -999.000,3,   19.570,2,   23.750,2,    0.000,2,    1.510,2,    0.052,2,    0.025,2, -999.000,9, -999.000,9, -999.000,9
           NA,     A06,    149,   1,-999.0,      22,  2,19930221,0723,   7.4505,  -37.9958,  4831, 1493.500,    4.501,   34.986,2,   34.987,2,  213.900,2, -999.000,3,   17.200,2,   21.490,2,    0.000,2,    1.380,2,    0.119,2,    0.068,2, -999.000,9, -999.000,9, -999.000,9
           NA,     A06,    149,   1,-999.0,      21,  2,19930221,0723,   7.4505,  -37.9958,  4831, 1593.100,    4.365,   34.996,2,   34.997,2,  233.200,2,  236.200,2,   16.220,2,   20.500,2,    0.000,2,    1.310,2,    0.109,2,    0.056,2, -999.000,9, -999.000,9, -999.000,9
           NA,     A06,    149,   1,-999.0,      20,  2,19930221,0723,   7.4505,  -37.9958,  4831, 1694.300,    4.078,   34.994,2,   34.996,2,  246.700,2,  247.200,2,   15.950,2,   19.290,2,    0.000,2,    1.250,2,    0.096,2,    0.050,2, -999.000,9, -999.000,9, -999.000,9
           NA,     A06,    149,   1,-999.0,      19,  2,19930221,0723,   7.4505,  -37.9958,  4831, 1793.500,    3.868,   34.989,2,   34.992,2,  254.900,2,  252.600,2,   16.280,2,   19.020,2,    0.020,2,    1.210,2,    0.083,2,    0.044,2, -999.000,9, -999.000,9, -999.000,9
           NA,     A06,    149,   1,-999.0,      18,  2,19930221,0723,   7.4505,  -37.9958,  4831, 1893.800,    3.678,   34.983,2,   34.986,2,  257.400,2,  255.500,2,   17.260,2,   18.850,2,    0.000,2,    1.200,2,    0.080,2,    0.037,2, -999.000,9, -999.000,9, -999.000,9
           NA,     A06,    149,   1,-999.0,      17,  2,19930221,0723,   7.4505,  -37.9958,  4831, 1994.600,    3.562,   34.977,2,   34.978,2,  257.100,2,  254.800,2,   18.800,2,   18.830,2,    0.000,2,    1.230,2,    0.050,2,    0.027,2, -999.000,9, -999.000,9, -999.000,9
           NA,     A06,    149,   1,-999.0,      16,  2,19930221,0723,   7.4505,  -37.9958,  4831, 2194.200,    3.333,   34.967,2,   34.968,2,  259.700,2,  257.700,2,   20.320,2,   18.820,2,    0.010,2,    1.210,2,    0.033,2,    0.016,2, -999.000,9, -999.000,9, -999.000,9
           NA,     A06,    149,   1,-999.0,      15,  2,19930221,0723,   7.4505,  -37.9958,  4831, 2394.000,    3.123,   34.956,2,   34.955,2,  258.900,2,  256.800,2,   23.260,2,   19.210,2,    0.000,2,    1.230,2,    0.054,2,    0.022,2, -999.000,9, -999.000,9, -999.000,9
           NA,     A06,    149,   1,-999.0,      14,  2,19930221,0723,   7.4505,  -37.9958,  4831, 2694.300,    2.906,   34.942,2,   34.940,2,  256.800,2,  255.700,2,   27.590,2,   19.470,2,    0.000,2,    1.270,2,    0.031,2,    0.014,2, -999.000,9, -999.000,9, -999.000,9
           NA,     A06,    149,   1,-999.0,      13,  2,19930221,0723,   7.4505,  -37.9958,  4831, 2994.900,    2.729,   34.928,2,   34.925,2,  256.900,2,  256.200,2,   30.310,2,   19.800,2,    0.000,2,    1.290,2,    0.021,2,    0.009,2, -999.000,9, -999.000,9, -999.000,9
           NA,     A06,    149,   1,-999.0,      12,  2,19930221,0723,   7.4505,  -37.9958,  4831, 3194.000,    2.631,   34.921,2,   34.924,2,  258.100,2,  257.100,2,   31.990,2,   19.740,2,    0.000,2,    1.300,2,    0.032,2,    0.011,2, -999.000,9, -999.000,9, -999.000,9
           NA,     A06,    149,   1,-999.0,      11,  2,19930221,0723,   7.4505,  -37.9958,  4831, 3394.300,    2.448,   34.906,2,   34.909,2,  256.600,2,  255.600,2,   37.140,2,   20.280,2,    0.000,2,    1.330,2,    0.028,2,    0.011,2, -999.000,9, -999.000,9, -999.000,9
           NA,     A06,    149,   1,-999.0,      10,  2,19930221,0723,   7.4505,  -37.9958,  4831, 3595.900,    2.423,   34.902,2,   34.907,2,  255.900,2,  254.900,2,   38.550,2,   20.480,2,    0.010,2,    1.350,2,    0.025,2,    0.012,2, -999.000,9, -999.000,9, -999.000,9
           NA,     A06,    149,   1,-999.0,       9,  2,19930221,0723,   7.4505,  -37.9958,  4831, 3794.800,    2.287,   34.893,2,   34.895,2,  257.300,2,  257.000,2,   40.740,2,   20.610,2,    0.010,2,    1.360,2,    0.052,2,    0.022,2, -999.000,9, -999.000,9, -999.000,9
           NA,     A06,    149,   1,-999.0,       8,  2,19930221,0723,   7.4505,  -37.9958,  4831, 3894.700,    2.107,   34.874,2,   34.873,2,  254.200,2,  254.400,2,   47.660,2,   21.500,2,    0.010,2,    1.420,2,    0.041,2,    0.015,2, -999.000,9, -999.000,9, -999.000,9
           NA,     A06,    149,   1,-999.0,       7,  2,19930221,0723,   7.4505,  -37.9958,  4831, 3993.900,    2.016,   34.863,2,   34.863,2,  252.300,2,  253.800,2,   51.830,2,   22.100,2,    0.020,2,    1.470,2,   -0.001,2, -999.000,9, -999.000,9, -999.000,9, -999.000,9
           NA,     A06,    149,   1,-999.0,       6,  2,19930221,0723,   7.4505,  -37.9958,  4831, 4096.200,    1.915,   34.851,2,   34.854,2,  249.400,2,  250.800,2,   56.870,2,   22.980,2,    0.000,2,    1.510,2,    0.023,2,    0.013,2, -999.000,9, -999.000,9, -999.000,9
           NA,     A06,    149,   1,-999.0,       5,  2,19930221,0723,   7.4505,  -37.9958,  4831, 4194.300,    1.868,   34.846,2,   34.847,2,  247.400,2,  250.600,2,   59.240,2,   23.540,2,    0.000,2,    1.540,2,    0.025,2,    0.009,2, -999.000,9, -999.000,9, -999.000,9
           NA,     A06,    149,   1,-999.0,       3,  2,19930221,0723,   7.4505,  -37.9958,  4831, 4595.500,    1.657,   34.818,2,   34.820,2,  242.200,2,  245.200,2,   70.320,2,   24.950,2,    0.050,2,    1.640,2,    0.035,2,    0.014,2, -999.000,9, -999.000,9, -999.000,9
           NA,     A06,    149,   1,-999.0,       2,  2,19930221,0723,   7.4505,  -37.9958,  4831, 4794.500,    1.657,   34.816,2,   34.819,2,  241.300,2,  242.300,2,   71.600,2,   25.340,2,    0.000,2,    1.670,2,    0.027,2,    0.012,2, -999.000,9, -999.000,9, -999.000,9
           NA,     A06,    149,   1,-999.0,       1,  2,19930221,0723,   7.4505,  -37.9958,  4831, 4854.900,    1.663,   34.814,2,   34.819,2,  240.400,2,  242.000,2,   71.620,2,   25.520,2,    0.000,2,    1.680,2,    0.030,2,    0.018,2, -999.000,9, -999.000,9, -999.000,9