BOTTLE,20205402JOAExport
EXPOCODE,SECT_ID,STNNBR,CASTNO,SAMPNO,BTLNBR,BTLNBR_FLAG_W,DATE,TIME,LATITUDE,LONGITUDE,DEPTH,CTDPRS,CTDTMP,CTDSAL,CTDSAL_FLAG_W,SALNTY,SALNTY_FLAG_W,CTDOXY,CTDOXY_FLAG_W,OXYGEN,OXYGEN_FLAG_W,SILCAT,SILCAT_FLAG_W,NITRAT,NITRAT_FLAG_W,NITRIT,NITRIT_FLAG_W,PHSPHT,PHSPHT_FLAG_W,CFC-11,CFC-11_FLAG_W,CFC-12,CFC-12_FLAG_W,SF6,SF6_FLAG_W,TCARBN,TCARBN_FLAG_W,ALKALI,ALKALI_FLAG_W
,,,,,,,,,,,,,DB,DEG C,PSS-78,,PSS-78,,UMOL/KG,,UMOL/KG,,UMOL/KG,,UMOL/KG,,UMOL/KG,,UMOL/KG,,PMOL/KG,,PMOL/KG,,FMOL/KG,,UMOL/KG,,UMOL/KG
           NA,     A06,    170,   1,-999.0,      32,  2,19930226,1149,   7.4575,  -27.9883,  4105,    2.900,   25.533,   36.118,2,   36.120,2,  197.300,2, -999.000,3,    2.110,2,    0.040,2,    0.000,2,    0.000,2,    1.900,2,    0.995,2, -999.000,9, 2028.800,2, 2404.700,2
           NA,     A06,    170,   1,-999.0,      31,  2,19930226,1149,   7.4575,  -27.9883,  4105,   69.600,   20.530,   36.115,2,   36.111,2,  146.100,2,  144.100,2,    4.740,2,    8.540,2,    0.230,2,    0.600,2,    1.557,2,    0.789,2, -999.000,9, 2145.900,2, 2407.400,2
           NA,     A06,    170,   1,-999.0,      30,  2,19930226,1149,   7.4575,  -27.9883,  4105,  118.400,   13.989,   35.431,2, -999.000,3,   81.600,2, -999.000,9,    8.770,2,   21.100,2,    0.020,2,    1.370,2,    1.088,2,    0.529,2, -999.000,9, 2177.000,2, 2339.200,2
           NA,     A06,    170,   1,-999.0,      29,  2,19930226,1149,   7.4575,  -27.9883,  4105,  193.300,   12.527,   35.249,2,   35.246,2,   88.900,2,   93.100,2,   10.420,2,   24.210,2,    0.010,2,    1.550,2,    0.802,2,    0.381,2, -999.000,9, 2198.900,2, 2334.500,2
           NA,     A06,    170,   1,-999.0,      28,  2,19930226,1149,   7.4575,  -27.9883,  4105,  393.600,    9.393,   34.904,2,   34.900,2,  103.800,2, -999.000,3,   15.830,2,   30.030,2,    0.010,2,    1.890,2,    0.351,2,    0.167,2, -999.000,9, 2207.700,2, 2319.300,2
           NA,     A06,    170,   1,-999.0,      27,  2,19930226,1149,   7.4575,  -27.9883,  4105,  591.700,    7.819,   34.838,2,   34.838,2,   71.800,2,   73.100,2,   21.330,2,   36.190,2,    0.010,2,    2.250,2, -999.000,3,    0.013,2, -999.000,9, 2231.900,2, 2311.300,2
           NA,     A06,    170,   1,-999.0,      26,  2,19930226,1149,   7.4575,  -27.9883,  4105,  791.900,    5.568,   34.645,2,   34.642,2,  109.800,2, -999.000,3,   28.930,2,   35.930,2,    0.010,2,    2.330,2,    0.004,2,   -0.002,2, -999.000,9, 2241.400,2, 2323.200,2
           NA,     A06,    170,   1,-999.0,      25,  2,19930226,1149,   7.4575,  -27.9883,  4105,  991.800,    4.935,   34.741,2,   34.738,2,  137.300,2, -999.000,3,   29.130,2,   32.200,2,    0.010,2,    2.140,2,    0.000,2,   -0.001,2, -999.000,9, 2213.400,2, 2313.500,2
           NA,     A06,    170,   1,-999.0,      24,  2,19930226,1149,   7.4575,  -27.9883,  4105, 1092.400,    4.767,   34.815,2,   34.809,2,  155.200,2, -999.000,3,   27.530,2,   29.140,2,    0.000,2,    1.970,2,    0.000,2,   -0.002,2, -999.000,9, 2212.200,2, 2324.800,2
           NA,     A06,    170,   1,-999.0,      23,  2,19930226,1149,   7.4575,  -27.9883,  4105, 1192.100,    4.683,   34.864,2,   34.861,2,  170.800,2, -999.000,3,   25.630,2,   27.000,2,    0.010,2,    1.840,2,    0.004,2,    0.001,2, -999.000,9, 2215.500,2, 2337.700,2
           NA,     A06,    170,   1,-999.0,      22,  2,19930226,1149,   7.4575,  -27.9883,  4105, 1292.800,    4.579,   34.920,2,   34.921,2,  195.500,2,  196.000,2,   22.970,2,   23.960,2,    0.010,2,    1.650,2,    0.016,2,    0.007,2, -999.000,9, 2186.700,2, 2319.900,2
           NA,     A06,    170,   1,-999.0,      21,  2,19930226,1149,   7.4575,  -27.9883,  4105, 1393.500,    4.449,   34.961,2,   34.959,2,  211.500,2,  216.700,2,   20.300,2,   21.270,2,    0.010,2,    1.480,2,    0.034,2,    0.015,2, -999.000,9, 2187.400,2, 2336.500,2
           NA,     A06,    170,   1,-999.0,      20,  2,19930226,1149,   7.4575,  -27.9883,  4105, 1492.400,    4.262,   34.974,2,   34.974,2,  228.200,2,  229.300,2,   19.310,2,   19.840,2,    0.010,2,    1.380,2,    0.032,2,    0.014,2, -999.000,9, 2182.300,2, 2338.400,2
           NA,     A06,    170,   1,-999.0,      19,  2,19930226,1149,   7.4575,  -27.9883,  4105, 1593.900,    4.113,   34.975,2,   34.976,2,  236.700,2,  234.600,2,   19.210,2,   19.240,2,    0.010,2,    1.360,2,    0.031,2,    0.013,2, -999.000,9, -999.000,9, -999.000,9
           NA,     A06,    170,   1,-999.0,      18,  2,19930226,1149,   7.4575,  -27.9883,  4105, 1692.400,    3.916,   34.977,2,   34.977,2,  242.000,2,  240.900,2,   19.540,2,   18.420,2,    0.030,2,    1.320,2,    0.021,2,    0.009,2, -999.000,9, 2171.400,2, 2331.600,2
           NA,     A06,    170,   1,-999.0,      17,  2,19930226,1149,   7.4575,  -27.9883,  4105, 1693.000,    3.912,   34.977,2,   34.975,2,  242.100,2,  240.700,2,   19.440,2,   18.510,2,    0.010,2,    1.320,2,    0.018,2,    0.009,2, -999.000,9, 2179.300,2, 2341.200,2
           NA,     A06,    170,   1,-999.0,      16,  2,19930226,1149,   7.4575,  -27.9883,  4105, 1793.600,    3.739,   34.973,2,   34.972,2,  246.200,2,  244.900,2,   20.340,2,   18.130,2,    0.010,2,    1.300,2,    0.016,2,    0.007,2, -999.000,9, 2173.700,2, 2336.300,2
           NA,     A06,    170,   1,-999.0,      15,  2,19930226,1149,   7.4575,  -27.9883,  4105, 1894.000,    3.613,   34.964,2,   34.965,2,  246.200,2,  244.000,2,   22.060,2,   18.390,2,    0.010,2,    1.330,2,    0.008,2,    0.001,2, -999.000,9, 2175.800,2, 2337.100,2
           NA,     A06,    170,   1,-999.0,      14,  2,19930226,1149,   7.4575,  -27.9883,  4105, 1994.100,    3.505,   34.959,2,   34.962,2,  245.200,2,  243.600,2,   23.640,2,   18.400,2,    0.020,2,    1.330,2,    0.005,2,    0.001,2, -999.000,9, 2197.200,2, 2360.900,2
           NA,     A06,    170,   1,-999.0,      13,  2,19930226,1149,   7.4575,  -27.9883,  4105, 2194.800,    3.299,   34.953,2,   34.952,2,  247.100,2,  246.200,2,   25.760,2,   18.390,2,    0.020,2,    1.330,2,    0.002,2,    0.000,2, -999.000,9, 2199.200,2, 2365.700,2
           NA,     A06,    170,   1,-999.0,      12,  2,19930226,1149,   7.4575,  -27.9883,  4105, 2394.000,    3.098,   34.944,2,   34.946,2,  247.800,2,  246.100,2,   29.100,2,   18.410,2,    0.030,2,    1.340,2,    0.002,2,    0.005,2, -999.000,9, 2207.100,2, 2372.600,2
           NA,     A06,    170,   1,-999.0,      11,  2,19930226,1149,   7.4575,  -27.9883,  4105, 2395.400,    3.094,   34.944,2,   34.946,2,  247.800,2,  246.500,2,   29.110,2,   18.420,2,    0.040,2,    1.340,2,    0.008,2,    0.001,2, -999.000,9, 2203.400,2, 2368.700,2
           NA,     A06,    170,   1,-999.0,      10,  2,19930226,1149,   7.4575,  -27.9883,  4105, 2593.900,    2.938,   34.937,2,   34.939,2,  248.900,2,  248.000,2,   31.490,2,   18.330,2,    0.040,2,    1.340,2,    0.002,2,   -0.002,2, -999.000,9, 2191.300,2, 2356.400,2
           NA,     A06,    170,   1,-999.0,       9,  2,19930226,1149,   7.4575,  -27.9883,  4105, 2794.700,    2.819,   34.931,2,   34.929,2,  249.100,2,  248.700,2,   33.640,2,   18.330,2,    0.040,2,    1.350,2,    0.001,2,    0.003,2, -999.000,9, -999.000,3, -999.000,3
           NA,     A06,    170,   1,-999.0,       8,  2,19930226,1149,   7.4575,  -27.9883,  4105, 2994.300,    2.701,   34.921,2,   34.920,2,  249.700,2,  249.200,2,   36.130,2,   18.320,2,    0.020,2,    1.350,2,    0.003,2,   -0.002,2, -999.000,9, -999.000,3, -999.000,3
           NA,     A06,    170,   1,-999.0,       7,  2,19930226,1149,   7.4575,  -27.9883,  4105, 3195.800,    2.628,   34.915,2,   34.914,2,  249.500,2,  248.900,2,   37.880,2,   18.600,2,    0.050,2,    1.370,2,    0.002,2,    0.000,2, -999.000,9, 2207.700,2, 2372.600,2
           NA,     A06,    170,   1,-999.0,       6,  2,19930226,1149,   7.4575,  -27.9883,  4105, 3393.900,    2.550,   34.910,2,   34.912,2,  249.200,2,  249.500,2,   39.380,2,   18.600,2,    0.030,2,    1.370,2,    0.003,2,    0.001,2, -999.000,9, 2213.000,2, 2378.100,2
           NA,     A06,    170,   1,-999.0,       5,  2,19930226,1149,   7.4575,  -27.9883,  4105, 3594.200,    2.455,   34.903,2,   34.903,2,  251.100,2,  250.800,2,   41.130,2,   18.570,2,    0.030,2,    1.380,2,    0.001,2,    0.002,2, -999.000,9, 2215.700,2, 2381.400,2
           NA,     A06,    170,   1,-999.0,       4,  2,19930226,1149,   7.4575,  -27.9883,  4105, 3794.900,    2.386,   34.896,2,   34.897,2,  253.100,2,  252.900,2,   42.190,2,   18.580,2,    0.040,2,    1.390,2,    0.009,2,    0.003,2, -999.000,9, -999.000,3, -999.000,3
           NA,     A06,    170,   1,-999.0,       3,  2,19930226,1149,   7.4575,  -27.9883,  4105, 3894.500,    2.352,   34.894,2,   34.896,2,  253.200,2,  253.000,2,   43.420,2,   18.610,2,    0.050,2,    1.390,2,    0.007,2,    0.002,2, -999.000,9, -999.000,3, -999.000,3
           NA,     A06,    170,   1,-999.0,       2,  2,19930226,1149,   7.4575,  -27.9883,  4105, 3995.000,    2.328,   34.891,2,   34.892,2,  252.700,2,  252.200,2,   45.120,2,   18.560,2,    0.040,2,    1.400,2,    0.014,2,    0.003,2, -999.000,9, -999.000,3, -999.000,3
           NA,     A06,    170,   1,-999.0,       1,  2,19930226,1149,   7.4575,  -27.9883,  4105, 4141.300,    2.317,   34.888,2,   34.890,2,  252.000,2,  251.200,2,   46.100,2,   19.020,2,    0.070,2,    1.410,2,    0.026,2,    0.005,2, -999.000,9, 2224.300,2, 2388.500,2
           NA,     A06,    171,   1,-999.0,      32,  2,19930226,1828,   7.4495,  -27.3332,  4885,    1.400,   25.426,   35.967,2,   35.968,2,  204.000,2,  206.800,2,    1.850,2,    0.020,2,    0.000,2,    0.000,2,    1.894,2,    0.990,2, -999.000,9, -999.000,9, -999.000,9
           NA,     A06,    171,   1,-999.0,      31,  2,19930226,1828,   7.4495,  -27.3332,  4885,   69.500,   20.345,   36.074,2,   36.074,2,  164.400,2, -999.000,3,    4.220,2,    8.460,2,    0.210,2,    0.590,2,    1.512,2,    0.760,2, -999.000,9, -999.000,9, -999.000,9
           NA,     A06,    171,   1,-999.0,      30,  2,19930226,1828,   7.4495,  -27.3332,  4885,  119.400,   13.809,   35.454,2, -999.000,3,  123.100,2, -999.000,3,    8.570,2,   20.840,2,    0.020,2,    1.310,2,    1.073,2,    0.550,2, -999.000,9, -999.000,9, -999.000,9
           NA,     A06,    171,   1,-999.0,      29,  2,19930226,1828,   7.4495,  -27.3332,  4885,  193.700,   11.616,   35.140,2,   35.139,2,  124.300,2,  122.000,2,   10.390,2,   22.630,2,    0.010,2,    1.490,2, -999.000,3, -999.000,3, -999.000,9, -999.000,9, -999.000,9
           NA,     A06,    171,   1,-999.0,      28,  2,19930226,1828,   7.4495,  -27.3332,  4885,  392.900,    9.358,   34.933,2,   34.930,2,   76.500,2,   77.800,2,   15.800,2,   32.610,2,    0.010,2,    2.000,2, -999.000,9, -999.000,9, -999.000,9, -999.000,9, -999.000,9
           NA,     A06,    171,   1,-999.0,      27,  2,19930226,1828,   7.4495,  -27.3332,  4885,  593.000,    7.027,   34.745,2,   34.745,2,   81.200,2, -999.000,3,   22.590,2,   36.390,2,    0.010,2,    2.300,2,    0.038,2,    0.016,2, -999.000,9, -999.000,9, -999.000,9
           NA,     A06,    171,   1,-999.0,      26,  2,19930226,1828,   7.4495,  -27.3332,  4885,  792.300,    5.467,   34.645,2,   34.643,2,  117.500,2,  122.600,2,   28.340,2,   34.920,2,    0.010,2,    2.310,2,    0.007,2,    0.002,2, -999.000,9, -999.000,9, -999.000,9
           NA,     A06,    171,   1,-999.0,      25,  2,19930226,1828,   7.4495,  -27.3332,  4885,  992.600,    4.900,   34.719,2,   34.721,2,  144.300,2,  148.100,2,   28.580,2,   31.590,2,    0.030,2,    2.130,2,    0.003,2,   -0.001,2, -999.000,9, -999.000,9, -999.000,9
           NA,     A06,    171,   1,-999.0,      24,  2,19930226,1828,   7.4495,  -27.3332,  4885, 1192.900,    4.701,   34.867,2,   34.868,2,  174.200,2,  176.900,2,   24.670,2,   26.650,2,    0.060,2,    1.820,2,    0.011,2,    0.001,2, -999.000,9, -999.000,9, -999.000,9
           NA,     A06,    171,   1,-999.0,      23,  2,19930226,1828,   7.4495,  -27.3332,  4885, 1393.600,    4.433,   34.949,2,   34.952,2,  214.200,2,  212.000,2,   20.590,2,   21.620,2,    0.010,2,    1.500,2,    0.025,2,    0.011,2, -999.000,9, -999.000,9, -999.000,9
           NA,     A06,    171,   1,-999.0,      22,  2,19930226,1828,   7.4495,  -27.3332,  4885, 1493.700,    4.259,   34.972,2,   34.974,2,  228.800,2,  227.800,2,   18.750,2,   19.820,2,    0.000,2,    1.390,2,    0.035,2,    0.015,2, -999.000,9, -999.000,9, -999.000,9
           NA,     A06,    171,   1,-999.0,      21,  2,19930226,1828,   7.4495,  -27.3332,  4885, 1593.600,    4.056,   34.977,2,   34.983,2,  238.500,2,  237.800,2,   18.470,2,   18.730,2,    0.000,2,    1.330,2,    0.051,2,    0.022,2, -999.000,9, -999.000,9, -999.000,9
           NA,     A06,    171,   1,-999.0,      20,  2,19930226,1828,   7.4495,  -27.3332,  4885, 1693.900,    3.892,   34.975,2,   34.981,2,  243.700,2,  241.700,2,   18.900,2,   18.320,2,    0.000,2,    1.310,2,    0.041,2,    0.018,2, -999.000,9, -999.000,9, -999.000,9
           NA,     A06,    171,   1,-999.0,      19,  2,19930226,1828,   7.4495,  -27.3332,  4885, 1793.400,    3.720,   34.966,2,   34.972,2,  244.000,2,  241.800,2,   20.690,2,   18.460,2,    0.010,2,    1.320,2,    0.009,2,    0.002,2, -999.000,9, -999.000,9, -999.000,9
           NA,     A06,    171,   1,-999.0,      18,  2,19930226,1828,   7.4495,  -27.3332,  4885, 1893.800,    3.583,   34.961,2,   34.966,2,  244.300,2,  242.800,2,   22.060,2,   18.310,2,    0.000,2,    1.330,2,    0.015,2,    0.003,2, -999.000,9, -999.000,9, -999.000,9
           NA,     A06,    171,   1,-999.0,      17,  2,19930226,1828,   7.4495,  -27.3332,  4885, 1993.500,    3.436,   34.957,2,   34.962,2,  245.400,2,  245.700,2,   23.410,2,   18.190,2,    0.010,2,    1.320,2,    0.004,2,   -0.001,2, -999.000,9, -999.000,9, -999.000,9
           NA,     A06,    171,   1,-999.0,      16,  2,19930226,1828,   7.4495,  -27.3332,  4885, 2194.500,    3.266,   34.951,2,   34.957,2,  247.600,2,  245.900,2,   25.670,2,   18.020,2,    0.010,2,    1.310,2,    0.002,2,   -0.001,2, -999.000,9, -999.000,9, -999.000,9
           NA,     A06,    171,   1,-999.0,      15,  2,19930226,1828,   7.4495,  -27.3332,  4885, 2394.300,    3.080,   34.944,2,   34.945,2,  248.600,2,  247.800,2,   28.300,2,   18.110,2,    0.010,2,    1.320,2,    0.003,2,   -0.001,2, -999.000,9, -999.000,9, -999.000,9
           NA,     A06,    171,   1,-999.0,      14,  2,19930226,1828,   7.4495,  -27.3332,  4885, 2695.000,    2.864,   34.932,2,   34.933,2,  248.600,2,  248.100,2,   32.170,2,   18.400,2,    0.010,2,    1.340,2,    0.012,2,    0.004,2, -999.000,9, -999.000,9, -999.000,9
           NA,     A06,    171,   1,-999.0,      12,  2,19930226,1828,   7.4495,  -27.3332,  4885, 2995.100,    2.703,   34.920,2, -999.000,3,  247.800,2,  249.400,2,   35.860,2,   18.710,2,    0.000,2,    1.360,2,    0.007,2,    0.005,2, -999.000,9, -999.000,9, -999.000,9
           NA,     A06,    171,   1,-999.0,      13,  2,19930226,1828,   7.4495,  -27.3332,  4885, 2995.300,    2.705,   34.920,2,   34.923,2,  247.800,2,  247.700,2,   35.980,2,   18.510,2,    0.000,2,    1.360,2,    0.003,2,   -0.001,2, -999.000,9, -999.000,9, -999.000,9
           NA,     A06,    171,   1,-999.0,      11,  2,19930226,1828,   7.4495,  -27.3332,  4885, 3194.500,    2.647,   34.915,2,   34.918,2,  248.300,2,  248.100,2,   37.510,2,   18.450,2,    0.000,2,    1.370,2,    0.012,2,    0.000,2, -999.000,9, -999.000,9, -999.000,9
           NA,     A06,    171,   1,-999.0,      10,  2,19930226,1828,   7.4495,  -27.3332,  4885, 3394.000,    2.557,   34.910,2,   34.910,2,  250.200,2,  249.700,2,   38.540,2,   18.430,2,    0.030,2,    1.360,2,    0.015,2,    0.000,2, -999.000,9, -999.000,9, -999.000,9
           NA,     A06,    171,   1,-999.0,       9,  2,19930226,1828,   7.4495,  -27.3332,  4885, 3594.800,    2.456,   34.902,2,   34.902,2,  252.300,2,  249.800,2,   40.050,2,   18.300,2,    0.000,2,    1.370,2,    0.003,2,   -0.001,2, -999.000,9, -999.000,9, -999.000,9
           NA,     A06,    171,   1,-999.0,       8,  2,19930226,1828,   7.4495,  -27.3332,  4885, 3795.200,    2.398,   34.897,2,   34.897,2,  252.800,2,  252.400,2,   41.740,2,   18.130,2,    0.050,2,    1.370,2,    0.003,2,    0.001,2, -999.000,9, -999.000,9, -999.000,9
           NA,     A06,    171,   1,-999.0,       7,  2,19930226,1828,   7.4495,  -27.3332,  4885, 3895.200,    2.368,   34.895,2,   34.893,2,  253.000,2,  252.500,2,   42.160,2,   18.460,2,    0.020,2,    1.380,2,    0.011,2,    0.006,2, -999.000,9, -999.000,9, -999.000,9
           NA,     A06,    171,   1,-999.0,       6,  2,19930226,1828,   7.4495,  -27.3332,  4885, 3994.100,    2.342,   34.892,2,   34.888,2,  253.200,2,  252.500,2,   42.810,2,   18.560,2,    0.000,2,    1.390,2,    0.007,2,    0.002,2, -999.000,9, -999.000,9, -999.000,9
           NA,     A06,    171,   1,-999.0,       5,  2,19930226,1828,   7.4495,  -27.3332,  4885, 4194.700,    2.311,   34.887,2,   34.886,2,  252.300,2,  250.600,2,   45.570,2,   18.610,2,    0.000,2,    1.410,2,    0.008,2,    0.000,2, -999.000,9, -999.000,9, -999.000,9
           NA,     A06,    171,   1,-999.0,       4,  2,19930226,1828,   7.4495,  -27.3332,  4885, 4392.900,    2.309,   34.885,2,   34.885,2,  250.200,2,  248.500,2,   47.000,2,   18.900,2,    0.050,2,    1.420,2,    0.016,2,    0.006,2, -999.000,9, -999.000,9, -999.000,9
           NA,     A06,    171,   1,-999.0,       3,  2,19930226,1828,   7.4495,  -27.3332,  4885, 4595.000,    2.322,   34.883,2,   34.885,2,  248.900,2,  247.800,2,   47.880,2,   19.080,2,    0.050,2,    1.430,2,    0.003,2,    0.001,2, -999.000,9, -999.000,9, -999.000,9
           NA,     A06,    171,   1,-999.0,       2,  2,19930226,1828,   7.4495,  -27.3332,  4885, 4795.100,    2.323,   34.880,2,   34.884,2,  246.800,2,  245.200,2,   49.720,2,   19.490,2,    0.010,2,    1.450,2,    0.011,2,   -0.001,2, -999.000,9, -999.000,9, -999.000,9
           NA,     A06,    171,   1,-999.0,       1,  2,19930226,1828,   7.4495,  -27.3332,  4885, 4916.200,    2.328,   34.879,2,   34.882,2,  243.600,2,  243.900,2,   50.590,2,   19.830,2,    0.000,2,    1.470,2,    0.011,2,    0.004,2, -999.000,9, -999.000,9, -999.000,9