BOTTLE,20205402JOAExport
EXPOCODE,SECT_ID,STNNBR,CASTNO,SAMPNO,BTLNBR,BTLNBR_FLAG_W,DATE,TIME,LATITUDE,LONGITUDE,DEPTH,CTDPRS,CTDTMP,CTDSAL,CTDSAL_FLAG_W,SALNTY,SALNTY_FLAG_W,CTDOXY,CTDOXY_FLAG_W,OXYGEN,OXYGEN_FLAG_W,SILCAT,SILCAT_FLAG_W,NITRAT,NITRAT_FLAG_W,NITRIT,NITRIT_FLAG_W,PHSPHT,PHSPHT_FLAG_W,CFC-11,CFC-11_FLAG_W,CFC-12,CFC-12_FLAG_W,SF6,SF6_FLAG_W,TCARBN,TCARBN_FLAG_W,ALKALI,ALKALI_FLAG_W
,,,,,,,,,,,,,DB,DEG C,PSS-78,,PSS-78,,UMOL/KG,,UMOL/KG,,UMOL/KG,,UMOL/KG,,UMOL/KG,,UMOL/KG,,PMOL/KG,,PMOL/KG,,FMOL/KG,,UMOL/KG,,UMOL/KG
           NA,     A06,    134,   1,-999.0,      32,  2,19930216,1758,   7.5002,  -47.9990,  4299,    0.900,   26.005,   36.150,2,   36.152,2,  201.300,2, -999.000,3,    1.830,2,    0.030,2,    0.000,2,    0.000,2,    1.844,2,    0.986,2, -999.000,9, -999.000,3, -999.000,3
           NA,     A06,    134,   1,-999.0,      31,  2,19930216,1758,   7.5002,  -47.9990,  4299,   25.100,   25.990,   36.152,2,   36.152,2,  207.200,2,  207.100,2,    1.820,2,    0.070,2,    0.000,2,    0.000,2, -999.000,3, -999.000,3, -999.000,9, -999.000,3, -999.000,3
           NA,     A06,    134,   1,-999.0,      30,  2,19930216,1758,   7.5002,  -47.9990,  4299,   70.000,   22.839,   36.395,2, -999.000,3,  177.300,2, -999.000,3,    2.210,2,    4.450,2,    0.350,2,    0.220,2,    1.730,2,    0.901,2, -999.000,9, 2091.100,2, 2393.000,2
           NA,     A06,    134,   1,-999.0,      29,  2,19930216,1758,   7.5002,  -47.9990,  4299,  118.300,   13.895,   35.581,2,   35.576,2,  111.200,2,  107.600,2,    8.020,2,   23.090,2,    0.020,2,    1.270,2,    1.018,2,    0.497,2, -999.000,9, 2197.200,2, 2359.300,2
           NA,     A06,    134,   1,-999.0,      27,  2,19930216,1758,   7.5002,  -47.9990,  4299,  193.500,   10.362,   35.046,2, -999.000,3,  115.700,2,  114.600,2,   11.900,2,   27.820,2,    0.000,2,    1.640,2,    0.628,2,    0.317,2, -999.000,9, 2201.900,2, 2329.100,2
           NA,     A06,    134,   1,-999.0,      28,  2,19930216,1758,   7.5002,  -47.9990,  4299,  193.600,   10.476,   35.065,2, -999.000,3,  115.700,2,  114.400,2,   11.910,2,   27.710,2,    0.000,2,    1.620,2,    0.653,2,    0.318,2, -999.000,9, 2197.500,2, 2325.400,2
           NA,     A06,    134,   1,-999.0,      26,  2,19930216,1758,   7.5002,  -47.9990,  4299,  392.300,    7.341,   34.684,2, -999.000,3,  116.600,2,  120.200,2,   18.970,2,   33.800,2,    0.000,2,    2.040,2,    0.231,2,    0.116,2, -999.000,9, 2216.800,2, 2311.800,2
           NA,     A06,    134,   1,-999.0,      25,  2,19930216,1758,   7.5002,  -47.9990,  4299,  592.700,    5.953,   34.578,2,   34.575,2,  137.500,2, -999.000,3,   24.490,2,   35.720,2,    0.000,2,    2.220,2,    0.103,2,    0.046,2, -999.000,9, 2239.000,2, 2327.200,2
           NA,     A06,    134,   1,-999.0,      24,  2,19930216,1758,   7.5002,  -47.9990,  4299,  792.500,    4.773,   34.542,2,   34.542,2,  154.900,2,  155.800,2,   30.110,2,   35.110,2,    0.000,2,    2.230,2,    0.060,2,    0.021,2, -999.000,9, 2225.700,2, 2319.600,2
           NA,     A06,    134,   1,-999.0,      23,  2,19930216,1758,   7.5002,  -47.9990,  4299,  991.800,    4.642,   34.661,2,   34.661,2,  159.500,2,  160.400,2,   29.440,2,   33.450,2,    0.000,2,    2.120,2,    0.018,2,    0.004,2, -999.000,9, 2220.400,2, 2320.700,2
           NA,     A06,    134,   1,-999.0,      22,  2,19930216,1758,   7.5002,  -47.9990,  4299, 1092.800,    4.731,   34.765,2,   34.766,2,  170.400,2,  172.000,2,   26.540,2,   31.140,2,    0.000,2,    2.030,2,    0.034,2,    0.013,2, -999.000,9, 2219.700,2, 2329.500,2
           NA,     A06,    134,   1,-999.0,      21,  2,19930216,1758,   7.5002,  -47.9990,  4299, 1192.000,    4.869,   34.850,2,   34.852,2,  176.900,2,  175.700,2,   24.010,2,   29.290,2,    0.000,2,    1.850,2,    0.037,2,    0.009,2, -999.000,9, 2216.400,2, 2335.300,2
           NA,     A06,    134,   1,-999.0,      20,  2,19930216,1758,   7.5002,  -47.9990,  4299, 1391.900,    4.760,   34.980,2,   34.982,2,  218.100,2,  218.000,2,   17.870,2,   23.530,2,    0.000,2,    1.450,2,    0.132,2,    0.063,2, -999.000,9, 2182.800,2, 2327.800,2
           NA,     A06,    134,   1,-999.0,      19,  2,19930216,1758,   7.5002,  -47.9990,  4299, 1493.600,    4.538,   35.006,2,   35.005,2,  236.000,2,  237.100,2,   15.730,2,   21.520,2,    0.000,2,    1.310,2,    0.178,2,    0.084,2, -999.000,9, 2184.500,2, 2340.400,2
           NA,     A06,    134,   1,-999.0,      18,  2,19930216,1758,   7.5002,  -47.9990,  4299, 1593.700,    4.268,   35.000,2,   35.002,2,  246.000,2,  245.200,2,   15.450,2,   20.650,2,    0.000,2,    1.270,2,    0.152,2,    0.073,2, -999.000,9, 2190.900,2, 2350.700,2
           NA,     A06,    134,   1,-999.0,      17,  2,19930216,1758,   7.5002,  -47.9990,  4299, 1693.700,    4.011,   34.994,2,   34.992,2,  250.800,2,  250.800,2,   15.980,2,   20.280,2,    0.000,2,    1.240,2,    0.091,2,    0.040,2, -999.000,9, 2187.500,2, 2349.000,2
           NA,     A06,    134,   1,-999.0,      16,  2,19930216,1758,   7.5002,  -47.9990,  4299, 1794.100,    3.819,   34.987,2,   34.988,2,  255.400,2,  255.800,2,   16.540,2,   19.980,2,    0.000,2,    1.220,2,    0.068,2,    0.037,2, -999.000,9, 2178.700,2, 2342.500,2
           NA,     A06,    134,   1,-999.0,      15,  2,19930216,1758,   7.5002,  -47.9990,  4299, 1993.800,    3.494,   34.977,2,   34.973,2,  259.000,2,  260.200,2,   18.520,2,   19.770,2,    0.000,2,    1.210,2,    0.050,2,    0.025,2, -999.000,9, 2178.900,2, 2345.000,2
           NA,     A06,    134,   1,-999.0,      14,  2,19930216,1758,   7.5002,  -47.9990,  4299, 2194.700,    3.220,   34.962,2,   34.959,2,  258.100,2,  259.100,2,   21.980,2,   20.110,2,    0.000,2,    1.240,2,    0.020,2,    0.009,2, -999.000,9, 2169.100,2, 2332.800,2
           NA,     A06,    134,   1,-999.0,      13,  2,19930216,1758,   7.5002,  -47.9990,  4299, 2394.700,    3.029,   34.948,2,   34.950,2,  256.100,2,  258.100,2,   25.400,2,   20.500,2,    0.000,2,    1.280,2,    0.024,2,    0.009,2, -999.000,9, -999.000,3, -999.000,3
           NA,     A06,    134,   1,-999.0,      12,  2,19930216,1758,   7.5002,  -47.9990,  4299, 2693.000,    2.891,   34.940,2,   34.938,2,  256.900,2,  259.000,2,   27.180,2,   20.450,2,    0.000,2,    1.280,2,    0.016,2,    0.005,2, -999.000,9, -999.000,3, -999.000,3
           NA,     A06,    134,   1,-999.0,      11,  2,19930216,1758,   7.5002,  -47.9990,  4299, 2994.600,    2.687,   34.930,2,   34.930,2,  258.600,2,  260.700,2,   29.590,2,   20.340,2,    0.000,2,    1.280,2,    0.037,2,    0.013,2, -999.000,9, -999.000,3, -999.000,3
           NA,     A06,    134,   1,-999.0,      10,  2,19930216,1758,   7.5002,  -47.9990,  4299, 3194.400,    2.540,   34.920,2, -999.000,3,  258.900,2,  263.100,2,   31.930,2,   20.440,2,    0.000,2,    1.280,2,    0.049,2,    0.019,2, -999.000,9, -999.000,3, -999.000,3
           NA,     A06,    134,   1,-999.0,       9,  2,19930216,1758,   7.5002,  -47.9990,  4299, 3393.700,    2.409,   34.911,2, -999.000,3,  263.300,2,  265.700,2,   31.140,2,   19.850,2,    0.000,2,    1.250,2,    0.083,2,    0.041,2, -999.000,9, -999.000,3, -999.000,3
           NA,     A06,    134,   1,-999.0,       8,  2,19930216,1758,   7.5002,  -47.9990,  4299, 3596.500,    2.305,   34.905,2, -999.000,3,  265.400,2,  268.000,2,   31.340,2,   19.580,2,    0.000,2,    1.240,2,    0.110,2,    0.051,2, -999.000,9, -999.000,3, -999.000,3
           NA,     A06,    134,   1,-999.0,       7,  2,19930216,1758,   7.5002,  -47.9990,  4299, 3793.400,    2.260,   34.901,2, -999.000,3,  265.700,2,  267.800,2,   31.960,2,   19.760,2,    0.000,2,    1.230,2,    0.134,2,    0.065,2, -999.000,9, -999.000,3, -999.000,3
           NA,     A06,    134,   1,-999.0,       6,  2,19930216,1758,   7.5002,  -47.9990,  4299, 3892.300,    2.243,   34.899,2,   34.894,2,  265.200,2,  267.500,2,   33.030,2,   19.720,2,    0.000,2,    1.250,2,    0.117,2,    0.058,2, -999.000,9, -999.000,3, -999.000,3
           NA,     A06,    134,   1,-999.0,       5,  2,19930216,1758,   7.5002,  -47.9990,  4299, 3994.000,    2.230,   34.896,2,   34.893,2,  264.800,2,  266.500,2,   33.840,2,   19.850,2,    0.000,2,    1.260,2,    0.115,2,    0.055,2, -999.000,9, -999.000,3, -999.000,3
           NA,     A06,    134,   1,-999.0,       4,  2,19930216,1758,   7.5002,  -47.9990,  4299, 3994.200,    2.230,   34.896,2,   34.894,2,  264.800,2,  266.300,2,   33.750,2,   19.790,2,    0.000,2,    1.260,2,    0.116,2,    0.058,2, -999.000,9, -999.000,3, -999.000,3
           NA,     A06,    134,   1,-999.0,       3,  2,19930216,1758,   7.5002,  -47.9990,  4299, 4097.000,    2.193,   34.891,2,   34.886,2,  263.100,2,  264.600,2,   36.590,2,   20.330,2,    0.000,2,    1.290,2,    0.098,2,    0.052,2, -999.000,9, -999.000,3, -999.000,3
           NA,     A06,    134,   1,-999.0,       2,  2,19930216,1758,   7.5002,  -47.9990,  4299, 4194.600,    2.161,   34.885,2,   34.884,2,  261.700,2,  263.000,2,   39.360,2,   20.710,2,    0.000,2,    1.320,2,    0.089,2,    0.053,2, -999.000,9, -999.000,3, -999.000,3
           NA,     A06,    134,   1,-999.0,       1,  2,19930216,1758,   7.5002,  -47.9990,  4299, 4325.000,    2.012,   34.864,2,   34.864,2,  250.900,2,  254.600,2,   51.370,2,   22.360,2,    0.000,2,    1.460,2,    0.092,2,    0.044,2, -999.000,9, -999.000,3, -999.000,3
           NA,     A06,    135,   1,-999.0,      32,  2,19930217,0114,   7.5018,  -47.3330,  4332,    2.400,   25.947,   36.109,2,   36.111,2,  199.900,2, -999.000,3,    1.830,2,    0.050,2,    0.000,2,    0.000,2,    1.885,2,    1.002,2, -999.000,9, -999.000,9, -999.000,9
           NA,     A06,    135,   1,-999.0,      31,  2,19930217,0114,   7.5018,  -47.3330,  4332,   69.400,   25.086,   36.112,2, -999.000,3,  202.600,2,  202.400,2,    1.750,2,    0.300,2,    0.020,2,    0.000,2,    1.819,2,    0.969,2, -999.000,9, -999.000,9, -999.000,9
           NA,     A06,    135,   1,-999.0,      30,  2,19930217,0114,   7.5018,  -47.3330,  4332,  117.500,   14.063,   35.573,2, -999.000,3,  116.000,2,  119.400,2,    8.530,2,   21.380,2,    0.020,2,    1.230,2,    1.091,2,    0.555,2, -999.000,9, -999.000,9, -999.000,9
           NA,     A06,    135,   1,-999.0,      28,  2,19930217,0114,   7.5018,  -47.3330,  4332,  193.800,    9.621,   34.930,2,   34.928,2,  106.600,2, -999.000,3,   14.100,2,   29.120,2,    0.000,2,    1.770,2,    0.498,2,    0.244,2, -999.000,9, -999.000,9, -999.000,9
           NA,     A06,    135,   1,-999.0,      29,  2,19930217,0114,   7.5018,  -47.3330,  4332,  194.700,    9.618,   34.929,2,   34.930,2,  106.500,2, -999.000,3,   14.060,2,   29.160,2,    0.000,2,    1.760,2,    0.504,2,    0.251,2, -999.000,9, -999.000,9, -999.000,9
           NA,     A06,    135,   1,-999.0,      27,  2,19930217,0114,   7.5018,  -47.3330,  4332,  392.400,    7.166,   34.656,2,   34.656,2,  127.200,2, -999.000,3,   20.030,2,   32.250,2,    0.000,2,    1.990,2,    0.312,2,    0.151,2, -999.000,9, -999.000,9, -999.000,9
           NA,     A06,    135,   1,-999.0,      26,  2,19930217,0114,   7.5018,  -47.3330,  4332,  591.900,    5.789,   34.569,2,   34.565,2,  134.600,2,  133.400,2,   25.940,2,   35.470,2,    0.000,2,    2.230,2,    0.075,2,    0.031,2, -999.000,9, -999.000,9, -999.000,9
           NA,     A06,    135,   1,-999.0,      25,  2,19930217,0114,   7.5018,  -47.3330,  4332,  792.200,    4.990,   34.567,2,   34.567,2,  140.400,2,  142.100,2,   30.080,2,   35.560,2,    0.000,2,    2.270,2,    0.023,2,    0.009,2, -999.000,9, -999.000,9, -999.000,9
           NA,     A06,    135,   1,-999.0,      24,  2,19930217,0114,   7.5018,  -47.3330,  4332,  992.200,    4.713,   34.629,2,   34.632,2,  153.700,2, -999.000,3,   30.580,2,   33.970,2,    0.000,2,    2.180,2,    0.018,2,    0.006,2, -999.000,9, -999.000,9, -999.000,9
           NA,     A06,    135,   1,-999.0,      23,  2,19930217,0114,   7.5018,  -47.3330,  4332, 1192.300,    4.638,   34.758,2,   34.761,2,  173.300,2,  178.000,2,   27.460,2,   30.310,2,    0.000,2,    1.940,2,    0.030,2,    0.014,2, -999.000,9, -999.000,9, -999.000,9
           NA,     A06,    135,   1,-999.0,      22,  2,19930217,0114,   7.5018,  -47.3330,  4332, 1393.200,    4.911,   34.963,2, -999.000,3,  205.000,2,  208.800,2,   19.710,2,   24.020,2,    0.000,2,    1.540,2,    0.118,2,    0.060,2, -999.000,9, -999.000,9, -999.000,9
           NA,     A06,    135,   1,-999.0,      21,  2,19930217,0114,   7.5018,  -47.3330,  4332, 1493.400,    4.732,   35.005,2,   35.006,2,  226.700,2,  229.700,2,   16.820,2,   21.320,2,    0.000,2,    1.350,2,    0.184,2,    0.088,2, -999.000,9, -999.000,9, -999.000,9
           NA,     A06,    135,   1,-999.0,      20,  2,19930217,0114,   7.5018,  -47.3330,  4332, 1593.400,    4.362,   34.989,2,   34.991,2,  234.900,2,  235.200,2,   17.540,2,   21.130,2,    0.000,2,    1.340,2,    0.066,2,    0.032,2, -999.000,9, -999.000,9, -999.000,9
           NA,     A06,    135,   1,-999.0,      19,  2,19930217,0114,   7.5018,  -47.3330,  4332, 1694.900,    4.107,   34.993,2,   34.993,2,  246.800,2,  247.000,2,   16.950,2,   19.920,2,    0.000,2,    1.260,2,    0.075,2,    0.034,2, -999.000,9, -999.000,9, -999.000,9
           NA,     A06,    135,   1,-999.0,      18,  2,19930217,0114,   7.5018,  -47.3330,  4332, 1793.900,    3.930,   34.991,2,   34.995,2,  252.700,2,  252.300,2,   16.990,2,   19.490,2,    0.000,2,    1.230,2,    0.069,2,    0.028,2, -999.000,9, -999.000,9, -999.000,9
           NA,     A06,    135,   1,-999.0,      17,  2,19930217,0114,   7.5018,  -47.3330,  4332, 1893.700,    3.743,   34.984,2,   34.986,2,  256.200,2,  256.600,2,   17.680,2,   19.180,2,    0.000,2,    1.210,2,    0.056,2,    0.020,2, -999.000,9, -999.000,9, -999.000,9
           NA,     A06,    135,   1,-999.0,      16,  2,19930217,0114,   7.5018,  -47.3330,  4332, 1993.700,    3.586,   34.979,2,   34.981,2,  257.800,2,  258.300,2,   18.750,2,   19.020,2,    0.000,2,    1.210,2,    0.049,2,    0.023,2, -999.000,9, -999.000,9, -999.000,9
           NA,     A06,    135,   1,-999.0,      15,  2,19930217,0114,   7.5018,  -47.3330,  4332, 2191.900,    3.343,   34.970,2,   34.971,2,  259.700,2,  260.400,2,   20.820,2,   18.920,2,    0.000,2,    1.220,2,    0.040,2,    0.019,2, -999.000,9, -999.000,9, -999.000,9
           NA,     A06,    135,   1,-999.0,      14,  2,19930217,0114,   7.5018,  -47.3330,  4332, 2391.200,    3.158,   34.959,2,   34.959,2,  259.200,2,  260.800,2,   22.740,2,   19.050,2,    0.000,2,    1.220,2,    0.037,2,    0.013,2, -999.000,9, -999.000,9, -999.000,9
           NA,     A06,    135,   1,-999.0,      13,  2,19930217,0114,   7.5018,  -47.3330,  4332, 2693.200,    2.907,   34.944,2,   34.944,2,  258.500,2,  259.100,2,   26.900,2,   19.410,2,    0.000,2,    1.250,2,    0.027,2,    0.013,2, -999.000,9, -999.000,9, -999.000,9
           NA,     A06,    135,   1,-999.0,      12,  2,19930217,0114,   7.5018,  -47.3330,  4332, 2995.000,    2.707,   34.929,2,   34.930,2,  256.100,2,  258.100,2,   32.170,2,   19.950,2,    0.000,2,    1.290,2,    0.023,2,    0.011,2, -999.000,9, -999.000,9, -999.000,9
           NA,     A06,    135,   1,-999.0,      11,  2,19930217,0114,   7.5018,  -47.3330,  4332, 3194.500,    2.591,   34.919,2,   34.921,2,  257.100,2,  259.600,2,   33.960,2,   19.940,2,    0.000,2,    1.300,2,    0.025,2,    0.014,2, -999.000,9, -999.000,9, -999.000,9
           NA,     A06,    135,   1,-999.0,      10,  2,19930217,0114,   7.5018,  -47.3330,  4332, 3393.600,    2.459,   34.910,2,   34.913,2,  257.400,2,  259.800,2,   35.860,2,   20.040,2,    0.000,2,    1.300,2,    0.033,2,    0.018,2, -999.000,9, -999.000,9, -999.000,9
           NA,     A06,    135,   1,-999.0,       9,  2,19930217,0114,   7.5018,  -47.3330,  4332, 3593.700,    2.343,   34.905,2,   34.905,2,  264.000,2,  264.100,2,   32.200,2,   19.000,2,    0.000,2,    1.240,2,    0.088,2,    0.041,2, -999.000,9, -999.000,9, -999.000,9
           NA,     A06,    135,   1,-999.0,       8,  2,19930217,0114,   7.5018,  -47.3330,  4332, 3793.500,    2.277,   34.901,2,   34.900,2,  264.900,2,  266.900,2,   32.970,2,   18.950,2,    0.000,2,    1.240,2,    0.103,2,    0.056,2, -999.000,9, -999.000,9, -999.000,9
           NA,     A06,    135,   1,-999.0,       7,  2,19930217,0114,   7.5018,  -47.3330,  4332, 3893.300,    2.247,   34.897,2,   34.896,2,  264.700,2,  266.200,2,   34.640,2,   18.930,2,    0.000,2,    1.260,2,    0.099,2,    0.054,2, -999.000,9, -999.000,9, -999.000,9
           NA,     A06,    135,   1,-999.0,       5,  2,19930217,0114,   7.5018,  -47.3330,  4332, 3993.600,    2.233,   34.895,2,   34.897,2,  264.500,2,  266.500,2,   34.700,2,   19.110,2,    0.000,2,    1.260,2,    0.115,2,    0.056,2, -999.000,9, -999.000,9, -999.000,9
           NA,     A06,    135,   1,-999.0,       6,  2,19930217,0114,   7.5018,  -47.3330,  4332, 3994.200,    2.236,   34.896,2,   34.896,2,  264.500,2,  266.300,2,   34.640,2,   19.040,2,    0.000,2,    1.260,2,    0.119,2,    0.061,2, -999.000,9, -999.000,9, -999.000,9
           NA,     A06,    135,   1,-999.0,       4,  2,19930217,0114,   7.5018,  -47.3330,  4332, 4094.500,    2.208,   34.892,2,   34.893,2,  263.600,2,  265.000,2,   36.710,2,   19.330,2,    0.000,2,    1.240,2,    0.108,2,    0.065,2, -999.000,9, -999.000,9, -999.000,9
           NA,     A06,    135,   1,-999.0,       3,  2,19930217,0114,   7.5018,  -47.3330,  4332, 4193.900,    2.176,   34.886,2,   34.883,2,  261.700,2,  263.600,2,   39.390,2,   19.690,2,    0.000,2,    1.280,2,    0.095,2,    0.053,2, -999.000,9, -999.000,9, -999.000,9
           NA,     A06,    135,   1,-999.0,       2,  2,19930217,0114,   7.5018,  -47.3330,  4332, 4303.800,    2.100,   34.875,2,   34.877,2,  257.900,2,  258.900,2,   45.590,2,   20.580,2,    0.000,2,    1.360,2,    0.073,2,    0.052,2, -999.000,9, -999.000,9, -999.000,9
           NA,     A06,    135,   1,-999.0,       1,  2,19930217,0114,   7.5018,  -47.3330,  4332, 4358.300,    2.104,   34.875,2,   34.876,2,  255.700,2,  258.700,2,   45.640,2,   20.590,2,    0.000,2,    1.370,2,    0.081,2,    0.055,2, -999.000,9, -999.000,9, -999.000,9