BOTTLE,20205402JOAExport
EXPOCODE,SECT_ID,STNNBR,CASTNO,SAMPNO,BTLNBR,BTLNBR_FLAG_W,DATE,TIME,LATITUDE,LONGITUDE,DEPTH,CTDPRS,CTDTMP,CTDSAL,CTDSAL_FLAG_W,SALNTY,SALNTY_FLAG_W,CTDOXY,CTDOXY_FLAG_W,OXYGEN,OXYGEN_FLAG_W,SILCAT,SILCAT_FLAG_W,NITRAT,NITRAT_FLAG_W,NITRIT,NITRIT_FLAG_W,PHSPHT,PHSPHT_FLAG_W,CFC-11,CFC-11_FLAG_W,CFC-12,CFC-12_FLAG_W,SF6,SF6_FLAG_W,TCARBN,TCARBN_FLAG_W,ALKALI,ALKALI_FLAG_W
,,,,,,,,,,,,,DB,DEG C,PSS-78,,PSS-78,,UMOL/KG,,UMOL/KG,,UMOL/KG,,UMOL/KG,,UMOL/KG,,UMOL/KG,,PMOL/KG,,PMOL/KG,,FMOL/KG,,UMOL/KG,,UMOL/KG
           NA,     A06,    156,   1,-999.0,      32,  2,19930222,2336,   7.4512,  -35.0000,  3910,    3.100,   26.431,   36.173,2,   36.175,2,  199.400,2,  202.000,2,    1.780,2,    0.030,2,    0.000,2,    0.010,2,    1.810,2,    0.978,2, -999.000,9, -999.000,3, -999.000,3
           NA,     A06,    156,   1,-999.0,      31,  2,19930222,2336,   7.4512,  -35.0000,  3910,   69.300,   26.413,   36.176,2,   36.175,2,  203.700,2,  201.300,2,    1.810,2,    0.130,2,    0.000,2,    0.020,2,    1.793,2,    0.976,2, -999.000,9, -999.000,3, -999.000,3
           NA,     A06,    156,   1,-999.0,      30,  2,19930222,2336,   7.4512,  -35.0000,  3910,  119.100,   17.066,   35.812,2, -999.000,3,  130.000,2, -999.000,3,    6.590,2,   16.220,2,    0.040,2,    0.970,2,    1.331,2,    0.685,2, -999.000,9, 2161.200,2, 2370.200,2
           NA,     A06,    156,   1,-999.0,      29,  2,19930222,2336,   7.4512,  -35.0000,  3910,  193.300,   11.156,   35.088,2,   35.088,2,  120.700,2,  119.800,2,   11.500,2,   24.560,2,    0.000,2,    1.550,2,    0.803,2,    0.397,2, -999.000,9, 2167.200,2, 2305.500,2
           NA,     A06,    156,   1,-999.0,      28,  2,19930222,2336,   7.4512,  -35.0000,  3910,  292.500,    9.902,   34.981,2,   34.976,2,   90.100,2,   94.500,2,   14.650,2,   30.560,2,    0.000,2,    1.860,2,    0.388,2,    0.187,2, -999.000,9, 2210.700,2, 2315.200,2
           NA,     A06,    156,   1,-999.0,      27,  2,19930222,2336,   7.4512,  -35.0000,  3910,  393.600,    9.115,   34.903,2,   34.900,2,   90.700,2,   88.800,2,   16.550,2,   32.580,2,    0.000,2,    1.970,2,    0.242,2,    0.117,2, -999.000,9, 2243.000,2, 2336.700,2
           NA,     A06,    156,   1,-999.0,      26,  2,19930222,2336,   7.4512,  -35.0000,  3910,  591.600,    7.302,   34.746,2,   34.748,2,   96.800,2,   93.500,2,   22.170,2,   35.720,2,    0.000,2,    2.160,2,    0.063,2,    0.035,2, -999.000,9, 2227.700,2, 2307.800,2
           NA,     A06,    156,   1,-999.0,      25,  2,19930222,2336,   7.4512,  -35.0000,  3910,  792.400,    5.545,   34.662,2,   34.666,2,  119.900,2,  121.900,2,   28.360,2,   35.810,2,    0.000,2,    2.240,2,    0.011,2,    0.003,2, -999.000,9, 2217.900,2, 2300.100,2
           NA,     A06,    156,   1,-999.0,      24,  2,19930222,2336,   7.4512,  -35.0000,  3910,  992.600,    4.931,   34.765,2,   34.766,2,  151.000,2,  152.400,2,   28.120,2,   31.840,2,    0.000,2,    2.050,2,    0.004,2,    0.003,2, -999.000,9, -999.000,3, -999.000,3
           NA,     A06,    156,   1,-999.0,      22,  2,19930222,2336,   7.4512,  -35.0000,  3910, 1192.900,    4.739,   34.892,2,   34.893,2,  181.200,2,  185.400,2,   23.840,2,   26.700,2,    0.000,2,    1.740,2,    0.021,2,    0.011,2, -999.000,9, 2196.300,2, 2326.800,2
           NA,     A06,    156,   1,-999.0,      23,  2,19930222,2336,   7.4512,  -35.0000,  3910, 1193.100,    4.738,   34.892,2,   34.893,2,  181.200,2,  184.400,2,   24.010,2,   26.370,2,    0.000,2,    1.740,2,    0.025,2,    0.012,2, -999.000,9, 2194.200,2, 2320.000,2
           NA,     A06,    156,   1,-999.0,      21,  2,19930222,2336,   7.4512,  -35.0000,  3910, 1392.000,    4.549,   34.959,2,   34.959,2,  210.700,2,  211.500,2,   20.310,2,   22.750,2,    0.000,2,    1.510,2,    0.043,2,    0.021,2, -999.000,9, 2188.300,2, 2333.900,2
           NA,     A06,    156,   1,-999.0,      20,  2,19930222,2336,   7.4512,  -35.0000,  3910, 1493.400,    4.410,   34.982,2,   34.983,2,  229.200,2,  226.800,2,   18.550,2,   20.590,2,    0.000,2,    1.390,2,    0.062,2,    0.034,2, -999.000,9, 2176.000,2, 2329.100,2
           NA,     A06,    156,   1,-999.0,      19,  2,19930222,2336,   7.4512,  -35.0000,  3910, 1593.500,    4.111,   34.986,2,   34.988,2,  242.700,2,  242.800,2,   17.940,2,   19.530,2,    0.000,2,    1.310,2,    0.053,2,    0.034,2, -999.000,9, 2166.500,2, 2324.200,2
           NA,     A06,    156,   1,-999.0,      18,  2,19930222,2336,   7.4512,  -35.0000,  3910, 1694.100,    3.959,   34.985,2,   34.987,2,  247.800,2,  244.500,2,   18.230,2,   18.790,2,    0.000,2,    1.280,2,    0.043,2,    0.022,2, -999.000,9, 2163.600,2, 2326.200,2
           NA,     A06,    156,   1,-999.0,      17,  2,19930222,2336,   7.4512,  -35.0000,  3910, 1793.900,    3.837,   34.980,2,   34.981,2,  249.200,2,  248.200,2,   18.860,2,   18.980,2,    0.000,2,    1.280,2,    0.031,2,    0.017,2, -999.000,9, 2168.300,2, 2329.300,2
           NA,     A06,    156,   1,-999.0,      16,  2,19930222,2336,   7.4512,  -35.0000,  3910, 1893.800,    3.708,   34.976,2,   34.977,2,  251.000,2,  249.200,2,   19.830,2,   18.820,2,    0.000,2,    1.280,2,    0.019,2,    0.009,2, -999.000,9, 2167.500,2, 2331.200,2
           NA,     A06,    156,   1,-999.0,      15,  2,19930222,2336,   7.4512,  -35.0000,  3910, 1994.300,    3.541,   34.968,2,   34.971,2,  251.700,2,  250.200,2,   21.350,2,   18.840,2,    0.000,2,    1.290,2,    0.012,2,    0.003,2, -999.000,9, 2174.900,2, 2338.000,2
           NA,     A06,    156,   1,-999.0,      14,  2,19930222,2336,   7.4512,  -35.0000,  3910, 2093.700,    3.373,   34.962,2,   34.964,2,  252.200,2,  251.600,2,   23.270,2,   19.060,2,    0.000,2,    1.300,2,    0.007,2,    0.004,2, -999.000,9, -999.000,9, -999.000,9
           NA,     A06,    156,   1,-999.0,      13,  2,19930222,2336,   7.4512,  -35.0000,  3910, 2194.200,    3.265,   34.956,2,   34.956,2,  252.100,2,  250.900,2,   24.700,2,   18.870,2,    0.000,2,    1.310,2,    0.006,2,    0.005,2, -999.000,9, 2174.700,2, 2336.300,2
           NA,     A06,    156,   1,-999.0,      12,  2,19930222,2336,   7.4512,  -35.0000,  3910, 2394.500,    3.084,   34.950,2,   34.950,2,  252.900,2,  253.300,2,   26.960,2,   18.880,2,    0.000,2,    1.300,2,    0.005,2,    0.000,2, -999.000,9, 2181.800,2, 2346.500,2
           NA,     A06,    156,   1,-999.0,      11,  2,19930222,2336,   7.4512,  -35.0000,  3910, 2594.100,    2.919,   34.939,2,   34.940,2,  254.000,2,  253.600,2,   29.460,2,   18.980,2,    0.000,2,    1.310,2,    0.011,2,    0.005,2, -999.000,9, 2182.700,2, 2346.500,2
           NA,     A06,    156,   1,-999.0,      10,  2,19930222,2336,   7.4512,  -35.0000,  3910, 2794.300,    2.780,   34.932,2,   34.932,2,  254.800,2,  255.200,2,   31.090,2,   19.050,2,    0.000,2,    1.300,2,    0.011,2,    0.000,2, -999.000,9, 2195.900,2, 2361.200,2
           NA,     A06,    156,   1,-999.0,       9,  2,19930222,2336,   7.4512,  -35.0000,  3910, 2993.900,    2.643,   34.921,2,   34.921,2,  255.300,2,  255.100,2,   33.940,2,   19.140,2,    0.000,2,    1.330,2,    0.013,2,    0.004,2, -999.000,9, -999.000,3, -999.000,3
           NA,     A06,    156,   1,-999.0,       8,  2,19930222,2336,   7.4512,  -35.0000,  3910, 3194.500,    2.588,   34.915,2,   34.916,2,  255.100,2,  255.200,2,   35.550,2,   19.370,2,    0.000,2,    1.340,2,    0.013,2,    0.005,2, -999.000,9, 2199.200,2, 2363.700,2
           NA,     A06,    156,   1,-999.0,       7,  2,19930222,2336,   7.4512,  -35.0000,  3910, 3393.800,    2.488,   34.908,2,   34.909,2,  254.600,2,  255.000,2,   38.060,2,   19.640,2,    0.000,2,    1.350,2,    0.017,2,    0.004,2, -999.000,9, 2192.600,2, 2355.300,2
           NA,     A06,    156,   1,-999.0,       6,  2,19930222,2336,   7.4512,  -35.0000,  3910, 3494.100,    2.482,   34.907,2,   34.908,2,  254.700,2,  254.800,2,   38.440,2,   19.640,2,    0.000,2,    1.360,2,    0.015,2,    0.006,2, -999.000,9, 2191.100,2, 2355.100,2
           NA,     A06,    156,   1,-999.0,       5,  2,19930222,2336,   7.4512,  -35.0000,  3910, 3595.100,    2.435,   34.902,2,   34.903,2,  255.100,2,  255.100,2,   39.480,2,   19.560,2,    0.000,2,    1.370,2,    0.020,2,    0.012,2, -999.000,9, 2196.200,2, 2359.000,2
           NA,     A06,    156,   1,-999.0,       4,  2,19930222,2336,   7.4512,  -35.0000,  3910, 3692.800,    2.384,   34.899,2,   34.900,2,  255.600,2,  256.000,2,   40.650,2,   19.830,2,    0.000,2,    1.370,2,    0.022,2,    0.007,2, -999.000,9, 2203.300,2, 2366.000,2
           NA,     A06,    156,   1,-999.0,       3,  2,19930222,2336,   7.4512,  -35.0000,  3910, 3793.400,    2.380,   34.896,2,   34.898,2,  255.500,2,  255.300,2,   41.090,2,   19.650,2,    0.000,2,    1.370,2,    0.020,2,    0.007,2, -999.000,9, 2208.200,2, 2371.600,2
           NA,     A06,    156,   1,-999.0,       1,  2,19930222,2336,   7.4512,  -35.0000,  3910, 3940.000,    2.314,   34.891,2,   34.892,2,  253.500,2,  255.300,2,   43.370,2,   19.970,2,    0.000,2,    1.380,2,    0.028,2,    0.013,2, -999.000,9, 2219.800,2, 2381.900,2
           NA,     A06,    156,   1,-999.0,       2,  2,19930222,2336,   7.4512,  -35.0000,  3910, 3940.200,    2.316,   34.890,2,   34.890,2,  253.500,2,  255.600,2,   42.990,2,   20.100,2,    0.000,2,    1.380,2,    0.025,2,    0.009,2, -999.000,9, 2211.800,2, 2375.300,2
           NA,     A06,    157,   1,-999.0,      32,  2,19930223,0511,   7.4513,  -34.4948,  3994,    2.200,   26.162,   36.202,2,   36.206,2,  209.200,2, -999.000,9,    1.740,2,    0.010,2,    0.000,2,    0.020,2,    1.853,2,    0.993,2, -999.000,9, -999.000,9, -999.000,9
           NA,     A06,    157,   1,-999.0,      31,  2,19930223,0511,   7.4513,  -34.4948,  3994,   68.500,   24.426,   36.329,2,   36.328,2,  204.400,2, -999.000,9,    1.920,2,    0.750,2,    0.090,2,    0.100,2,    1.796,2,    0.946,2, -999.000,9, -999.000,9, -999.000,9
           NA,     A06,    157,   1,-999.0,      30,  2,19930223,0511,   7.4513,  -34.4948,  3994,  118.500,   14.017,   35.454,2, -999.000,3,  115.300,2,  114.200,2,    8.680,2,   23.470,2,    0.020,2,    1.330,2,    1.073,2,    0.547,2, -999.000,9, -999.000,9, -999.000,9
           NA,     A06,    157,   1,-999.0,      29,  2,19930223,0511,   7.4513,  -34.4948,  3994,  193.400,   10.429,   35.041,2, -999.000,3,  100.700,2, -999.000,3,   12.820,2,   28.970,2,    0.000,2,    1.690,2,    0.617,2,    0.311,2, -999.000,9, -999.000,9, -999.000,9
           NA,     A06,    157,   1,-999.0,      28,  2,19930223,0511,   7.4513,  -34.4948,  3994,  292.800,    9.384,   34.899,2,   34.893,2,  104.100,2, -999.000,3,   14.900,2,   30.660,2,    0.000,2,    1.820,2,    0.471,2,    0.233,2, -999.000,9, -999.000,9, -999.000,9
           NA,     A06,    157,   1,-999.0,      27,  2,19930223,0511,   7.4513,  -34.4948,  3994,  392.300,    8.180,   34.775,2,   34.775,2,  106.800,2,  108.600,2,   18.180,2,   34.180,2,    0.000,2,    2.020,2,    0.304,2,    0.115,2, -999.000,9, -999.000,9, -999.000,9
           NA,     A06,    157,   1,-999.0,      26,  2,19930223,0511,   7.4513,  -34.4948,  3994,  591.700,    6.715,   34.671,2,   34.670,2,  111.100,2,  111.900,2,   23.320,2,   36.920,2,    0.000,2,    2.230,2,    0.076,2,    0.041,2, -999.000,9, -999.000,9, -999.000,9
           NA,     A06,    157,   1,-999.0,      25,  2,19930223,0511,   7.4513,  -34.4948,  3994,  691.500,    6.221,   34.676,2,   34.675,2,  110.000,2,  113.000,2,   25.450,2,   37.300,2,    0.000,2,    2.280,2,    0.033,2,    0.017,2, -999.000,9, -999.000,9, -999.000,9
           NA,     A06,    157,   1,-999.0,      23,  2,19930223,0511,   7.4513,  -34.4948,  3994,  791.800,    5.666,   34.656,2,   34.654,2,  117.400,2,  122.600,2,   27.710,2,   37.420,2,    0.000,2,    2.290,2,    0.020,2,    0.006,2, -999.000,9, -999.000,9, -999.000,9
           NA,     A06,    157,   1,-999.0,      24,  2,19930223,0511,   7.4513,  -34.4948,  3994,  792.000,    5.696,   34.657,2,   34.657,2,  117.400,2,  121.900,2,   27.710,2,   37.330,2,    0.000,2,    2.290,2,    0.015,2,    0.000,2, -999.000,9, -999.000,9, -999.000,9
           NA,     A06,    157,   1,-999.0,      22,  2,19930223,0511,   7.4513,  -34.4948,  3994,  991.500,    5.011,   34.699,2,   34.701,2,  142.700,2,  143.600,2,   29.180,2,   35.290,2,    0.000,2,    2.200,2,    0.014,2,    0.000,2, -999.000,9, -999.000,9, -999.000,9
           NA,     A06,    157,   1,-999.0,      21,  2,19930223,0511,   7.4513,  -34.4948,  3994, 1192.100,    4.790,   34.842,2,   34.842,2,  181.500,2, -999.000,3,   25.490,2,   30.160,2,    0.000,2,    1.880,2,    0.017,2,    0.003,2, -999.000,9, -999.000,9, -999.000,9
           NA,     A06,    157,   1,-999.0,      20,  2,19930223,0511,   7.4513,  -34.4948,  3994, 1392.700,    4.536,   34.956,2,   34.960,2,  216.100,2,  211.500,2,   20.190,2,   24.430,2,    0.000,2,    1.520,2,    0.041,2,    0.018,2, -999.000,9, -999.000,9, -999.000,9
           NA,     A06,    157,   1,-999.0,      19,  2,19930223,0511,   7.4513,  -34.4948,  3994, 1491.200,    4.363,   34.977,2,   34.979,2,  229.200,2,  225.900,2,   18.750,2,   22.340,2,    0.000,2,    1.410,2,    0.051,2,    0.026,2, -999.000,9, -999.000,9, -999.000,9
           NA,     A06,    157,   1,-999.0,      18,  2,19930223,0511,   7.4513,  -34.4948,  3994, 1592.100,    4.163,   34.983,2,   34.985,2,  240.900,2,  235.600,2,   18.280,2,   21.670,2,    0.000,2,    1.350,2,    0.050,2,    0.025,2, -999.000,9, -999.000,9, -999.000,9
           NA,     A06,    157,   1,-999.0,      17,  2,19930223,0511,   7.4513,  -34.4948,  3994, 1692.600,    3.921,   34.983,2,   34.984,2,  248.000,2,  245.100,2,   18.310,2,   20.800,2,    0.000,2,    1.300,2,    0.047,2,    0.019,2, -999.000,9, -999.000,9, -999.000,9
           NA,     A06,    157,   1,-999.0,      16,  2,19930223,0511,   7.4513,  -34.4948,  3994, 1793.300,    3.741,   34.977,2,   34.979,2,  250.500,2,  248.600,2,   19.310,2,   20.560,2,    0.000,2,    1.280,2,    0.030,2,    0.013,2, -999.000,9, -999.000,9, -999.000,9
           NA,     A06,    157,   1,-999.0,      15,  2,19930223,0511,   7.4513,  -34.4948,  3994, 1893.000,    3.573,   34.971,2,   34.974,2,  252.700,2,  250.600,2,   20.720,2,   20.410,2,    0.000,2,    1.280,2,    0.026,2,    0.009,2, -999.000,9, -999.000,9, -999.000,9
           NA,     A06,    157,   1,-999.0,      14,  2,19930223,0511,   7.4513,  -34.4948,  3994, 1993.900,    3.399,   34.964,2,   34.968,2,  252.600,2,  250.600,2,   22.700,2,   20.880,2,    0.000,2,    1.290,2,    0.021,2,    0.007,2, -999.000,9, -999.000,9, -999.000,9
           NA,     A06,    157,   1,-999.0,      13,  2,19930223,0511,   7.4513,  -34.4948,  3994, 2193.400,    3.218,   34.956,2, -999.000,3,  253.400,2,  252.500,2,   24.720,2,   20.880,2,    0.000,2,    1.280,2,    0.017,2,    0.004,2, -999.000,9, -999.000,9, -999.000,9
           NA,     A06,    157,   1,-999.0,      12,  2,19930223,0511,   7.4513,  -34.4948,  3994, 2393.900,    3.015,   34.946,2,   34.947,2,  253.800,2,  252.600,2,   27.900,2,   21.090,2,    0.000,2,    1.310,2,    0.011,2,    0.003,2, -999.000,9, -999.000,9, -999.000,9
           NA,     A06,    157,   1,-999.0,      11,  2,19930223,0511,   7.4513,  -34.4948,  3994, 2593.700,    2.872,   34.938,2,   34.940,2,  254.100,2,  254.100,2,   30.130,2,   20.970,2,    0.000,2,    1.310,2,    0.019,2,    0.007,2, -999.000,9, -999.000,9, -999.000,9
           NA,     A06,    157,   1,-999.0,      10,  2,19930223,0511,   7.4513,  -34.4948,  3994, 2794.100,    2.778,   34.931,2,   34.934,2,  254.400,2,  253.500,2,   31.940,2,   21.200,2,    0.000,2,    1.310,2,    0.019,2,    0.005,2, -999.000,9, -999.000,9, -999.000,9
           NA,     A06,    157,   1,-999.0,       9,  2,19930223,0511,   7.4513,  -34.4948,  3994, 2993.300,    2.636,   34.920,2,   34.924,2,  254.600,2,  251.800,2,   34.780,2,   21.640,2,    0.010,2,    1.340,2,    0.009,2,    0.002,2, -999.000,9, -999.000,9, -999.000,9
           NA,     A06,    157,   1,-999.0,       8,  2,19930223,0511,   7.4513,  -34.4948,  3994, 3195.000,    2.549,   34.913,2,   34.916,2,  254.800,2,  254.300,2,   36.970,2,   21.610,2,    0.020,2,    1.340,2,    0.014,2,    0.002,2, -999.000,9, -999.000,9, -999.000,9
           NA,     A06,    157,   1,-999.0,       7,  2,19930223,0511,   7.4513,  -34.4948,  3994, 3394.300,    2.481,   34.906,2,   34.908,2,  254.600,2,  254.600,2,   38.590,2,   21.860,2,    0.000,2,    1.360,2,    0.017,2,    0.007,2, -999.000,9, -999.000,9, -999.000,9
           NA,     A06,    157,   1,-999.0,       6,  2,19930223,0511,   7.4513,  -34.4948,  3994, 3594.500,    2.436,   34.903,2,   34.906,2,  255.000,2,  254.800,2,   39.980,2,   22.210,2,    0.000,2,    1.360,2,    0.020,2,    0.009,2, -999.000,9, -999.000,9, -999.000,9
           NA,     A06,    157,   1,-999.0,       5,  2,19930223,0511,   7.4513,  -34.4948,  3994, 3794.100,    2.331,   34.892,2,   34.895,2,  255.400,2,  254.800,2,   42.930,2,   22.410,2,    0.000,2,    1.390,2,    0.031,2,    0.017,2, -999.000,9, -999.000,9, -999.000,9
           NA,     A06,    157,   1,-999.0,       4,  2,19930223,0511,   7.4513,  -34.4948,  3994, 3893.400,    2.277,   34.887,2,   34.889,2,  254.900,2,  254.400,2,   44.710,2,   22.270,2,    0.020,2,    1.390,2,    0.024,2,    0.012,2, -999.000,9, -999.000,9, -999.000,9
           NA,     A06,    157,   1,-999.0,       2,  2,19930223,0511,   7.4513,  -34.4948,  3994, 3994.700,    2.225,   34.883,2,   34.886,2,  254.300,2,  253.800,2,   46.400,2,   22.910,2,    0.000,2,    1.420,2,    0.044,2,    0.012,2, -999.000,9, -999.000,9, -999.000,9
           NA,     A06,    157,   1,-999.0,       3,  2,19930223,0511,   7.4513,  -34.4948,  3994, 3994.900,    2.226,   34.883,2,   34.885,2,  254.300,2,  253.900,2,   46.580,2,   22.730,2,    0.040,2,    1.400,2,    0.031,2,    0.012,2, -999.000,9, -999.000,9, -999.000,9
           NA,     A06,    157,   1,-999.0,       1,  2,19930223,0511,   7.4513,  -34.4948,  3994, 4047.800,    2.231,   34.882,2,   34.884,2,  252.300,2,  253.900,2,   46.540,2,   23.120,2,    0.000,2,    1.420,2,    0.036,2,    0.016,2, -999.000,9, -999.000,9, -999.000,9