BOTTLE,20205402JOAExport
EXPOCODE,SECT_ID,STNNBR,CASTNO,SAMPNO,BTLNBR,BTLNBR_FLAG_W,DATE,TIME,LATITUDE,LONGITUDE,DEPTH,CTDPRS,CTDTMP,CTDSAL,CTDSAL_FLAG_W,SALNTY,SALNTY_FLAG_W,CTDOXY,CTDOXY_FLAG_W,OXYGEN,OXYGEN_FLAG_W,SILCAT,SILCAT_FLAG_W,NITRAT,NITRAT_FLAG_W,NITRIT,NITRIT_FLAG_W,PHSPHT,PHSPHT_FLAG_W,CFC-11,CFC-11_FLAG_W,CFC-12,CFC-12_FLAG_W,SF6,SF6_FLAG_W,TCARBN,TCARBN_FLAG_W,ALKALI,ALKALI_FLAG_W
,,,,,,,,,,,,,DB,DEG C,PSS-78,,PSS-78,,UMOL/KG,,UMOL/KG,,UMOL/KG,,UMOL/KG,,UMOL/KG,,UMOL/KG,,PMOL/KG,,PMOL/KG,,FMOL/KG,,UMOL/KG,,UMOL/KG
           NA,     A06,    168,   1,-999.0,      32,  2,19930225,2144,   7.4395,  -29.3325,  5020,    2.100,   25.384,   35.951,2, -999.000,3,  198.400,2, -999.000,3,    1.980,2,    0.060,2,    0.000,2,    0.000,2,    1.899,2,    1.016,2, -999.000,9, 2017.700,2, 2391.500,2
           NA,     A06,    168,   1,-999.0,      31,  2,19930225,2144,   7.4395,  -29.3325,  5020,   68.400,   16.801,   35.721,2, -999.000,3,  149.900,2, -999.000,3,    6.410,2,   17.420,2,    0.160,2,    1.080,2,    1.020,2,    0.504,2, -999.000,9, 2191.700,2, 2386.500,2
           NA,     A06,    168,   1,-999.0,      30,  2,19930225,2144,   7.4395,  -29.3325,  5020,  118.400,   13.615,   35.373,2,   35.373,2,   97.100,2,   97.600,2,    8.680,2,   22.660,2,    0.000,2,    1.450,2,    1.020,2,    0.504,2, -999.000,9, 2192.400,2, 2343.600,2
           NA,     A06,    168,   1,-999.0,      29,  2,19930225,2144,   7.4395,  -29.3325,  5020,  194.400,   12.870,   35.275,2,   35.274,2,  107.900,2,  107.300,2,    9.260,2,   22.480,2,    0.000,2,    1.460,2, -999.000,9, -999.000,9, -999.000,9, 2194.800,2, 2342.500,2
           NA,     A06,    168,   1,-999.0,      28,  2,19930225,2144,   7.4395,  -29.3325,  5020,  392.700,    9.424,   34.912,2,   34.914,2,   95.000,2,   93.900,2,   15.250,2,   30.660,2,    0.000,2,    1.910,2, -999.000,9, -999.000,9, -999.000,9, 2243.400,2, 2345.300,2
           NA,     A06,    168,   1,-999.0,      27,  2,19930225,2144,   7.4395,  -29.3325,  5020,  592.800,    6.883,   34.694,2,   34.695,2,  101.000,2,  102.400,2,   22.930,2,   35.230,2,    0.000,2,    2.260,2,    0.074,2,    0.036,2, -999.000,9, 2246.000,2, 2328.800,2
           NA,     A06,    168,   1,-999.0,      26,  2,19930225,2144,   7.4395,  -29.3325,  5020,  792.700,    5.554,   34.621,2,   34.619,2,  123.300,2,  124.600,2,   28.080,2,   35.270,2,    0.000,2,    2.320,2,    0.074,2,    0.036,2, -999.000,9, 2240.100,2, 2325.500,2
           NA,     A06,    168,   1,-999.0,      25,  2,19930225,2144,   7.4395,  -29.3325,  5020,  992.900,    4.850,   34.676,2,   34.675,2,  143.000,2,  144.200,2,   29.750,2,   32.850,2,    0.000,2,    2.220,2,    0.003,2,   -0.002,2, -999.000,9, 2242.200,2, 2339.300,2
           NA,     A06,    168,   1,-999.0,      24,  2,19930225,2144,   7.4395,  -29.3325,  5020, 1092.200,    4.797,   34.751,2,   34.751,2,  151.600,2,  154.100,2,   28.350,2,   30.920,2,    0.000,2,    2.100,2,    0.001,2,   -0.002,2, -999.000,9, 2233.400,2, 2346.000,2
           NA,     A06,    168,   1,-999.0,      23,  2,19930225,2144,   7.4395,  -29.3325,  5020, 1192.500,    4.712,   34.832,2,   34.832,2,  164.900,2, -999.000,3,   25.750,2,   28.060,2,    0.000,2,    1.900,2,    0.005,2,    0.000,2, -999.000,9, 2238.000,2, 2358.000,2
           NA,     A06,    168,   1,-999.0,      22,  2,19930225,2144,   7.4395,  -29.3325,  5020, 1293.100,    4.669,   34.893,2,   34.892,2,  182.100,2,  187.600,2,   23.310,2,   25.510,2,    0.000,2,    1.740,2,    0.017,2,    0.007,2, -999.000,9, 2223.900,2, 2353.700,2
           NA,     A06,    168,   1,-999.0,      21,  2,19930225,2144,   7.4395,  -29.3325,  5020, 1393.500,    4.579,   34.937,2,   34.938,2,  199.500,2,  204.200,2,   21.100,2,   23.170,2,    0.000,2,    1.590,2,    0.024,2,    0.013,2, -999.000,9, 2206.200,2, -999.000,4
           NA,     A06,    168,   1,-999.0,      20,  2,19930225,2144,   7.4395,  -29.3325,  5020, 1494.600,    4.389,   34.967,2,   34.969,2,  219.500,2, -999.000,3,   19.250,2,   20.960,2,    0.000,2,    1.450,2,    0.037,2,    0.014,2, -999.000,9, 2201.000,2, 2352.500,2
           NA,     A06,    168,   1,-999.0,      19,  2,19930225,2144,   7.4395,  -29.3325,  5020, 1594.300,    4.196,   34.983,2,   34.983,2,  236.700,2,  236.300,2,   17.830,2,   19.270,2,    0.000,2,    1.350,2,    0.047,2,    0.023,2, -999.000,9, -999.000,3, -999.000,3
           NA,     A06,    168,   1,-999.0,      18,  2,19930225,2144,   7.4395,  -29.3325,  5020, 1692.900,    4.005,   34.978,2,   34.975,2,  240.900,2,  238.600,2,   18.710,2,   19.100,2,    0.010,2,    1.350,2,    0.026,2,    0.006,2, -999.000,9, 2186.200,2, 2347.600,2
           NA,     A06,    168,   1,-999.0,      17,  2,19930225,2144,   7.4395,  -29.3325,  5020, 1793.800,    3.843,   34.972,2,   34.972,2,  241.900,2,  240.500,2,   19.680,2,   19.240,2,    0.000,2,    1.350,2,    0.011,2,    0.001,2, -999.000,9, 2178.500,2, 2339.000,2
           NA,     A06,    168,   1,-999.0,      16,  2,19930225,2144,   7.4395,  -29.3325,  5020, 1893.400,    3.671,   34.968,2,   34.969,2,  245.600,2,  244.300,2,   20.630,2,   18.830,2,    0.000,2,    1.330,2,    0.003,2,    0.000,2, -999.000,9, 2188.700,2, 2351.500,2
           NA,     A06,    168,   1,-999.0,      15,  2,19930225,2144,   7.4395,  -29.3325,  5020, 1993.500,    3.551,   34.963,2,   34.964,2,  247.100,2,  245.000,2,   21.790,2,   18.790,2,    0.000,2,    1.340,2,    0.003,2,   -0.002,2, -999.000,9, 2180.700,2, 2341.200,2
           NA,     A06,    168,   1,-999.0,      14,  2,19930225,2144,   7.4395,  -29.3325,  5020, 2194.200,    3.265,   34.955,2,   34.949,2,  248.700,2,  247.600,2,   25.120,2,   18.650,2,    0.000,2,    1.330,2,    0.004,2,    0.000,2, -999.000,9, 2191.200,2, 2357.300,2
           NA,     A06,    168,   1,-999.0,      13,  2,19930225,2144,   7.4395,  -29.3325,  5020, 2394.200,    3.037,   34.944,2, -999.000,3,  251.200,2,  249.800,2,   28.520,2,   18.560,2,    0.000,2,    1.330,2,    0.002,2,    0.000,2, -999.000,9, 2196.500,2, 2362.800,2
           NA,     A06,    168,   1,-999.0,      12,  2,19930225,2144,   7.4395,  -29.3325,  5020, 2695.500,    2.831,   34.931,2,   34.928,2,  249.600,2,  249.500,2,   32.640,2,   18.900,2,    0.010,2,    1.360,2,    0.001,2,    0.000,2, -999.000,9, 2208.500,2, 2373.000,2
           NA,     A06,    168,   1,-999.0,      11,  2,19930225,2144,   7.4395,  -29.3325,  5020, 2994.800,    2.680,   34.921,2,   34.922,2,  250.200,2,  250.000,2,   35.340,2,   19.010,2,    0.010,2,    1.370,2,    0.002,2,    0.000,2, -999.000,9, 2200.500,2, 2364.100,2
           NA,     A06,    168,   1,-999.0,      10,  2,19930225,2144,   7.4395,  -29.3325,  5020, 3194.800,    2.599,   34.914,2,   34.911,2,  250.400,2,  250.200,2,   37.270,2,   19.140,2,    0.010,2,    1.380,2,    0.005,2,    0.002,2, -999.000,9, 2214.500,2, 2380.200,2
           NA,     A06,    168,   1,-999.0,       9,  2,19930225,2144,   7.4395,  -29.3325,  5020, 3393.800,    2.537,   34.910,2,   34.908,2,  251.400,2,  250.900,2,   38.580,2,   19.170,2,    0.010,2,    1.390,2,    0.001,2,    0.007,2, -999.000,9, -999.000,3, -999.000,3
           NA,     A06,    168,   1,-999.0,       8,  2,19930225,2144,   7.4395,  -29.3325,  5020, 3594.900,    2.442,   34.902,2,   34.902,2,  252.900,2,  253.100,2,   40.170,2,   19.000,2,    0.000,2,    1.380,2,    0.006,2,    0.001,2, -999.000,9, 2209.400,2, 2372.900,2
           NA,     A06,    168,   1,-999.0,       7,  2,19930225,2144,   7.4395,  -29.3325,  5020, 3794.700,    2.395,   34.898,2,   34.893,2,  253.400,2,  253.100,2,   41.510,2,   19.090,2,    0.020,2,    1.390,2,    0.008,2,    0.003,2, -999.000,9, 2218.800,2, 2384.600,2
           NA,     A06,    168,   1,-999.0,       6,  2,19930225,2144,   7.4395,  -29.3325,  5020, 3995.000,    2.352,   34.893,2, -999.000,3,  253.800,2,  253.900,2,   42.980,2,   19.170,2,    0.000,2,    1.400,2,    0.007,2,    0.004,2, -999.000,9, -999.000,3, -999.000,3
           NA,     A06,    168,   1,-999.0,       5,  2,19930225,2144,   7.4395,  -29.3325,  5020, 4194.000,    2.329,   34.889,2,   34.889,2,  253.500,2,  251.900,2,   44.710,2,   19.450,2,    0.000,2,    1.420,2,    0.006,2,    0.004,2, -999.000,9, -999.000,3, -999.000,3
           NA,     A06,    168,   1,-999.0,       4,  2,19930225,2144,   7.4395,  -29.3325,  5020, 4394.700,    2.322,   34.886,2,   34.886,2,  252.500,2,  251.400,2,   45.780,2,   19.580,2,    0.010,2,    1.430,2,    0.012,2,    0.004,2, -999.000,9, 2211.600,2, 2374.700,2
           NA,     A06,    168,   1,-999.0,       3,  2,19930225,2144,   7.4395,  -29.3325,  5020, 4593.700,    2.328,   34.883,2,   34.885,2,  252.200,2,  250.800,2,   46.540,2,   19.610,2,    0.030,2,    1.440,2,    0.009,2,    0.003,2, -999.000,9, -999.000,3, -999.000,3
           NA,     A06,    168,   1,-999.0,       2,  2,19930225,2144,   7.4395,  -29.3325,  5020, 4795.900,    2.342,   34.882,2,   34.883,2,  252.000,2,  250.500,2,   47.260,2,   19.700,2,    0.010,2,    1.440,2,    0.012,2,    0.001,2, -999.000,9, -999.000,3, -999.000,3
           NA,     A06,    168,   1,-999.0,       1,  2,19930225,2144,   7.4395,  -29.3325,  5020, 5069.900,    2.375,   34.881,2,   34.883,2,  251.500,2,  249.600,2,   47.490,2,   19.770,2,    0.040,2,    1.450,2,    0.014,2,    0.004,2, -999.000,9, -999.000,3, -999.000,3
           NA,     A06,    169,   1,-999.0,      32,  2,19930226,0447,   7.4500,  -28.6657,  4695,    2.100,   25.312,   35.929,2,   35.928,2,  204.600,2,  207.600,2,    1.990,2,    0.050,2,    0.000,2,    0.000,2,    1.872,2,    0.995,2, -999.000,9, -999.000,9, -999.000,9
           NA,     A06,    169,   1,-999.0,      31,  2,19930226,0447,   7.4500,  -28.6657,  4695,   68.900,   17.113,   35.744,2,   35.746,2,  160.200,2, -999.000,3,    6.450,2,   17.170,2,    0.170,2,    1.070,2,    1.289,2,    0.653,2, -999.000,9, -999.000,9, -999.000,9
           NA,     A06,    169,   1,-999.0,      30,  2,19930226,0447,   7.4500,  -28.6657,  4695,  118.100,   13.803,   35.401,2,   35.401,2,   92.200,2,   95.000,2,    8.750,2,   22.500,2,    0.010,2,    1.450,2,    1.012,2,    0.481,2, -999.000,9, -999.000,9, -999.000,9
           NA,     A06,    169,   1,-999.0,      29,  2,19930226,0447,   7.4500,  -28.6657,  4695,  192.700,   12.551,   35.250,2,   35.245,2,   91.300,2,   94.100,2,   10.230,2,   24.430,2,    0.000,2,    1.570,2,    0.778,2,    0.389,2, -999.000,9, -999.000,9, -999.000,9
           NA,     A06,    169,   1,-999.0,      28,  2,19930226,0447,   7.4500,  -28.6657,  4695,  392.900,    9.447,   34.935,2,   34.935,2,   98.400,2, -999.000,3,   16.180,2,   32.180,2,    0.000,2,    1.990,2,    0.262,2,    0.132,2, -999.000,9, -999.000,9, -999.000,9
           NA,     A06,    169,   1,-999.0,      27,  2,19930226,0447,   7.4500,  -28.6657,  4695,  592.200,    7.356,   34.761,2,   34.760,2,   86.500,2,   87.200,2,   22.210,2,   35.690,2,    0.000,2,    2.240,2,    0.051,2,    0.024,2, -999.000,9, -999.000,9, -999.000,9
           NA,     A06,    169,   1,-999.0,      26,  2,19930226,0447,   7.4500,  -28.6657,  4695,  793.100,    5.653,   34.659,2,   34.658,2,  109.400,2,  112.100,2,   28.990,2,   35.880,2,    0.000,2,    2.330,2,    0.013,2,    0.000,2, -999.000,9, -999.000,9, -999.000,9
           NA,     A06,    169,   1,-999.0,      25,  2,19930226,0447,   7.4500,  -28.6657,  4695,  992.500,    4.847,   34.691,2,   34.689,2,  145.500,2,  144.800,2,   30.990,2,   32.600,2,    0.000,2,    2.200,2,    0.003,2,   -0.002,2, -999.000,9, -999.000,9, -999.000,9
           NA,     A06,    169,   1,-999.0,      24,  2,19930226,0447,   7.4500,  -28.6657,  4695, 1092.300,    4.789,   34.753,2,   34.751,2,  156.800,2,  153.800,2,   29.290,2,   31.050,2,    0.020,2,    2.080,2,    0.004,2,    0.001,2, -999.000,9, -999.000,9, -999.000,9
           NA,     A06,    169,   1,-999.0,      23,  2,19930226,0447,   7.4500,  -28.6657,  4695, 1191.200,    4.764,   34.841,2,   34.840,2,  172.100,2,  172.200,2,   26.300,2,   27.940,2,    0.000,2,    1.880,2,    0.018,2,    0.005,2, -999.000,9, -999.000,9, -999.000,9
           NA,     A06,    169,   1,-999.0,      22,  2,19930226,0447,   7.4500,  -28.6657,  4695, 1292.400,    4.677,   34.909,2,   34.904,2,  192.700,2,  191.300,2,   23.830,2,   24.690,2,    0.000,2,    1.690,2,    0.025,2,    0.015,2, -999.000,9, -999.000,9, -999.000,9
           NA,     A06,    169,   1,-999.0,      21,  2,19930226,0447,   7.4500,  -28.6657,  4695, 1392.800,    4.508,   34.949,2,   34.949,2,  211.200,2,  209.500,2,   21.760,2,   22.450,2,    0.000,2,    1.540,2,    0.032,2,    0.012,2, -999.000,9, -999.000,9, -999.000,9
           NA,     A06,    169,   1,-999.0,      20,  2,19930226,0447,   7.4500,  -28.6657,  4695, 1493.000,    4.350,   34.974,2,   34.972,2,  226.000,2,  225.300,2,   19.980,2,   20.690,2,    0.000,2,    1.420,2, -999.000,3,    0.017,2, -999.000,9, -999.000,9, -999.000,9
           NA,     A06,    169,   1,-999.0,      19,  2,19930226,0447,   7.4500,  -28.6657,  4695, 1592.600,    4.210,   34.976,2,   34.976,2,  234.500,2,  231.400,2,   19.750,2,   19.940,2,    0.000,2,    1.380,2,    0.040,2,    0.015,2, -999.000,9, -999.000,9, -999.000,9
           NA,     A06,    169,   1,-999.0,      18,  2,19930226,0447,   7.4500,  -28.6657,  4695, 1693.700,    4.070,   34.980,2,   34.979,2,  241.100,2,  238.500,2,   19.470,2,   19.180,2,    0.000,2,    1.330,2,    0.045,2,    0.023,2, -999.000,9, -999.000,9, -999.000,9
           NA,     A06,    169,   1,-999.0,      17,  2,19930226,0447,   7.4500,  -28.6657,  4695, 1793.000,    3.833,   34.975,2,   34.976,2,  246.500,2,  243.600,2,   20.450,2,   18.710,2,    0.000,2,    1.310,2,    0.020,2,    0.006,2, -999.000,9, -999.000,9, -999.000,9
           NA,     A06,    169,   1,-999.0,      16,  2,19930226,0447,   7.4500,  -28.6657,  4695, 1893.200,    3.669,   34.972,2,   34.971,2,  249.400,2,  246.600,2,   21.660,2,   18.450,2,    0.000,2,    1.300,2,    0.025,2,    0.007,2, -999.000,9, -999.000,9, -999.000,9
           NA,     A06,    169,   1,-999.0,      15,  2,19930226,0447,   7.4500,  -28.6657,  4695, 1993.400,    3.541,   34.966,2,   34.965,2,  250.000,2,  247.200,2,   23.210,2,   18.460,2,    0.000,2,    1.310,2,    0.015,2,    0.004,2, -999.000,9, -999.000,9, -999.000,9
           NA,     A06,    169,   1,-999.0,      14,  2,19930226,0447,   7.4500,  -28.6657,  4695, 2194.400,    3.254,   34.952,2,   34.951,2,  249.600,2,  246.600,2,   27.810,2,   18.800,2,    0.000,2,    1.340,2,    0.006,2,   -0.002,2, -999.000,9, -999.000,9, -999.000,9
           NA,     A06,    169,   1,-999.0,      13,  2,19930226,0447,   7.4500,  -28.6657,  4695, 2393.100,    3.054,   34.944,2,   34.939,2,  248.700,2,  247.100,2,   31.260,2,   18.960,2,    0.000,2,    1.350,2,    0.008,2,   -0.002,2, -999.000,9, -999.000,9, -999.000,9
           NA,     A06,    169,   1,-999.0,      12,  2,19930226,0447,   7.4500,  -28.6657,  4695, 2695.600,    2.864,   34.932,2,   34.930,2,  249.600,2,  248.000,2,   35.270,2,   19.090,2,    0.000,2,    1.360,2,    0.009,2,    0.004,2, -999.000,9, -999.000,9, -999.000,9
           NA,     A06,    169,   1,-999.0,      11,  2,19930226,0447,   7.4500,  -28.6657,  4695, 2994.200,    2.740,   34.924,2,   34.923,2,  247.700,2,  246.900,2,   38.680,2,   19.380,2,    0.000,2,    1.380,2,    0.019,2,    0.003,2, -999.000,9, -999.000,9, -999.000,9
           NA,     A06,    169,   1,-999.0,      10,  2,19930226,0447,   7.4500,  -28.6657,  4695, 3195.700,    2.646,   34.916,2,   34.915,2,  249.200,2,  250.100,2,   40.410,2,   19.310,2,    0.010,2,    1.380,2,    0.004,2,    0.002,2, -999.000,9, -999.000,9, -999.000,9
           NA,     A06,    169,   1,-999.0,       9,  2,19930226,0447,   7.4500,  -28.6657,  4695, 3393.400,    2.526,   34.909,2,   34.905,2,  251.600,2,  250.900,2,   42.400,2,   19.270,2,    0.000,2,    1.380,2,    0.011,2,    0.005,2, -999.000,9, -999.000,9, -999.000,9
           NA,     A06,    169,   1,-999.0,       8,  2,19930226,0447,   7.4500,  -28.6657,  4695, 3595.400,    2.432,   34.902,2,   34.895,2,  252.700,2,  252.000,2,   44.370,2,   19.180,2,    0.040,2,    1.370,2,    0.005,2,    0.006,2, -999.000,9, -999.000,9, -999.000,9
           NA,     A06,    169,   1,-999.0,       7,  2,19930226,0447,   7.4500,  -28.6657,  4695, 3794.300,    2.374,   34.896,2,   34.892,2,  253.500,2,  252.600,2,   45.980,2,   19.370,2,    0.010,2,    1.390,2,    0.007,2,    0.005,2, -999.000,9, -999.000,9, -999.000,9
           NA,     A06,    169,   1,-999.0,       6,  2,19930226,0447,   7.4500,  -28.6657,  4695, 3993.600,    2.338,   34.891,2, -999.000,3,  253.400,2,  252.200,2,   47.570,2,   19.500,2,    0.000,2,    1.400,2,    0.012,2,    0.003,2, -999.000,9, -999.000,9, -999.000,9
           NA,     A06,    169,   1,-999.0,       5,  2,19930226,0447,   7.4500,  -28.6657,  4695, 4194.400,    2.321,   34.889,2,   34.888,2,  252.700,2,  251.300,2,   49.060,2,   19.720,2,    0.000,2,    1.410,2,    0.018,2,    0.007,2, -999.000,9, -999.000,9, -999.000,9
           NA,     A06,    169,   1,-999.0,       4,  2,19930226,0447,   7.4500,  -28.6657,  4695, 4394.500,    2.319,   34.885,2,   34.883,2,  252.000,2,  250.600,2,   50.290,2,   19.680,2,    0.040,2,    1.410,2,    0.014,2,    0.004,2, -999.000,9, -999.000,9, -999.000,9
           NA,     A06,    169,   1,-999.0,       3,  2,19930226,0447,   7.4500,  -28.6657,  4695, 4594.600,    2.325,   34.883,2,   34.882,2,  251.200,2,  249.800,2,   51.530,2,   19.820,2,    0.040,2,    1.420,2,    0.008,2,    0.001,2, -999.000,9, -999.000,9, -999.000,9
           NA,     A06,    169,   1,-999.0,       2,  2,19930226,0447,   7.4500,  -28.6657,  4695, 4692.400,    2.338,   34.883,2,   34.885,2,  250.500,2,  249.800,2,   51.370,2,   19.950,2,    0.000,2,    1.430,2,    0.017,2,    0.006,2, -999.000,9, -999.000,9, -999.000,9
           NA,     A06,    169,   1,-999.0,       1,  2,19930226,0447,   7.4500,  -28.6657,  4695, 4725.500,    2.342,   34.882,2,   34.884,2,  249.700,2,  250.200,2,   51.570,2,   19.980,2,    0.000,2,    1.440,2,    0.015,2,    0.005,2, -999.000,9, -999.000,9, -999.000,9