BOTTLE,20205402JOAExport
EXPOCODE,SECT_ID,STNNBR,CASTNO,SAMPNO,BTLNBR,BTLNBR_FLAG_W,DATE,TIME,LATITUDE,LONGITUDE,DEPTH,CTDPRS,CTDTMP,CTDSAL,CTDSAL_FLAG_W,SALNTY,SALNTY_FLAG_W,CTDOXY,CTDOXY_FLAG_W,OXYGEN,OXYGEN_FLAG_W,SILCAT,SILCAT_FLAG_W,NITRAT,NITRAT_FLAG_W,NITRIT,NITRIT_FLAG_W,PHSPHT,PHSPHT_FLAG_W,CFC-11,CFC-11_FLAG_W,CFC-12,CFC-12_FLAG_W,SF6,SF6_FLAG_W,TCARBN,TCARBN_FLAG_W,ALKALI,ALKALI_FLAG_W
,,,,,,,,,,,,,DB,DEG C,PSS-78,,PSS-78,,UMOL/KG,,UMOL/KG,,UMOL/KG,,UMOL/KG,,UMOL/KG,,UMOL/KG,,PMOL/KG,,PMOL/KG,,FMOL/KG,,UMOL/KG,,UMOL/KG
           NA,     A06,    152,   1,-999.0,      32,  2,19930221,2312,   7.4498,  -37.0003,  4174,    3.400,   26.474,   36.234,2,   36.234,2,  200.400,2,  200.300,2,    1.590,2,    0.060,2,    0.000,2,    0.000,2,    1.813,2,    0.965,2, -999.000,9, -999.000,3, -999.000,3
           NA,     A06,    152,   1,-999.0,      31,  2,19930221,2312,   7.4498,  -37.0003,  4174,   69.500,   26.489,   36.238,2,   36.238,2,  204.500,2,  200.300,2,    1.590,2,    0.050,2,    0.000,2,    0.000,2,    1.809,2,    0.978,2, -999.000,9, -999.000,3, -999.000,3
           NA,     A06,    152,   1,-999.0,      30,  2,19930221,2312,   7.4498,  -37.0003,  4174,  117.500,   24.694,   36.600,2, -999.000,3,  170.900,2,  176.100,2,    1.990,2,    1.710,2,    0.170,2,    0.130,2,    1.833,2,    0.975,2, -999.000,9, 2063.000,2, 2400.800,2
           NA,     A06,    152,   1,-999.0,      29,  2,19930221,2312,   7.4498,  -37.0003,  4174,  172.200,   16.070,   35.806,2, -999.000,3,  137.600,2, -999.000,3,    6.180,2,   15.510,2,    0.020,2,    0.950,2,    1.317,2,    0.673,2, -999.000,9, 2145.400,2, 2350.400,2
           NA,     A06,    152,   1,-999.0,      28,  2,19930221,2312,   7.4498,  -37.0003,  4174,  392.400,    8.299,   34.775,2,   34.772,2,  114.400,2,  114.600,2,   16.150,2,   31.280,2,    0.000,2,    1.920,2,    0.295,2,    0.145,2, -999.000,9, 2199.200,2, 2298.600,2
           NA,     A06,    152,   1,-999.0,      27,  2,19930221,2312,   7.4498,  -37.0003,  4174,  592.300,    6.713,   34.654,2,   34.652,2,  117.300,2,  117.100,2,   21.280,2,   33.950,2,    0.000,2,    2.140,2,    0.098,2,    0.056,2, -999.000,9, 2217.900,2, 2303.300,2
           NA,     A06,    152,   1,-999.0,      26,  2,19930221,2312,   7.4498,  -37.0003,  4174,  792.300,    5.732,   34.672,2,   34.673,2,  119.100,2,  116.200,2,   25.620,2,   35.110,2,    0.000,2,    2.260,2,    0.009,2,    0.007,2, -999.000,9, 2216.900,2, 2298.700,2
           NA,     A06,    152,   1,-999.0,      25,  2,19930221,2312,   7.4498,  -37.0003,  4174,  992.200,    5.058,   34.734,2,   34.732,2,  142.800,2,  144.600,2,   26.670,2,   31.920,2,    0.000,2,    2.090,2,    0.003,2,    0.001,2, -999.000,9, 2214.900,2, 2311.900,2
           NA,     A06,    152,   1,-999.0,      24,  2,19930221,2312,   7.4498,  -37.0003,  4174, 1191.500,    4.873,   34.846,2,   34.847,2,  173.500,2,  171.600,2,   23.530,2,   27.620,2,    0.000,2,    1.840,2,    0.024,2,    0.008,2, -999.000,9, 2195.700,2, 2312.300,2
           NA,     A06,    152,   1,-999.0,      23,  2,19930221,2312,   7.4498,  -37.0003,  4174, 1391.700,    4.559,   34.972,2,   34.971,2,  218.500,2,  218.400,2,   17.500,2,   20.980,2,    0.000,2,    1.430,2,    0.065,2,    0.036,2, -999.000,9, 2184.400,2, 2332.900,2
           NA,     A06,    152,   1,-999.0,      22,  2,19930221,2312,   7.4498,  -37.0003,  4174, 1493.200,    4.346,   34.985,2,   34.983,2,  231.500,2,  230.900,2,   16.470,2,   19.320,2,    0.000,2,    1.340,2,    0.069,2,    0.039,2, -999.000,9, 2161.500,2, 2315.300,2
           NA,     A06,    152,   1,-999.0,      20,  2,19930221,2312,   7.4498,  -37.0003,  4174, 1592.800,    4.229,   34.995,2,   34.995,2,  243.000,2,  242.500,2,   15.100,2,   18.280,2,    0.000,2,    1.260,2,    0.101,2,    0.055,2, -999.000,9, -999.000,3, -999.000,3
           NA,     A06,    152,   1,-999.0,      21,  2,19930221,2312,   7.4498,  -37.0003,  4174, 1592.900,    4.238,   34.997,2,   34.998,2,  243.000,2,  241.800,2,   15.080,2,   17.990,2,    0.070,2,    1.250,2,    0.107,2,    0.059,2, -999.000,9, 2153.600,2, 2310.300,2
           NA,     A06,    152,   1,-999.0,      19,  2,19930221,2312,   7.4498,  -37.0003,  4174, 1692.600,    3.936,   34.985,2,   34.983,2,  247.000,2,  246.700,2,   16.420,2,   18.150,2,    0.010,2,    1.260,2,    0.046,2,    0.023,2, -999.000,9, -999.000,3, -999.000,3
           NA,     A06,    152,   1,-999.0,      18,  2,19930221,2312,   7.4498,  -37.0003,  4174, 1793.200,    3.792,   34.982,2,   34.981,2,  251.000,2,  249.300,2,   16.700,2,   17.550,2,    0.000,2,    1.230,2,    0.045,2,    0.023,2, -999.000,9, 2147.900,2, 2309.700,2
           NA,     A06,    152,   1,-999.0,      17,  2,19930221,2312,   7.4498,  -37.0003,  4174, 1893.600,    3.639,   34.977,2,   34.978,2,  254.700,2,  252.100,2,   17.600,2,   17.120,2,    0.020,2,    1.220,2,    0.034,2,    0.014,2, -999.000,9, 2149.900,2, 2313.200,2
           NA,     A06,    152,   1,-999.0,      16,  2,19930221,2312,   7.4498,  -37.0003,  4174, 1993.300,    3.490,   34.970,2,   34.971,2,  254.900,2,  253.600,2,   18.790,2,   17.220,2,    0.000,2,    1.230,2,    0.023,2,    0.014,2, -999.000,9, -999.000,3, -999.000,3
           NA,     A06,    152,   1,-999.0,      15,  2,19930221,2312,   7.4498,  -37.0003,  4174, 2093.500,    3.427,   34.970,2,   34.970,2,  256.900,2,  254.700,2,   19.010,2,   17.100,2,    0.010,2,    1.220,2,    0.027,2,    0.014,2, -999.000,9, -999.000,3, -999.000,3
           NA,     A06,    152,   1,-999.0,      13,  2,19930221,2312,   7.4498,  -37.0003,  4174, 2193.100,    3.321,   34.964,2,   34.963,2,  256.200,2,  254.900,2,   20.470,2,   17.130,2,    0.000,2,    1.240,2,    0.023,2,    0.006,2, -999.000,9, -999.000,3, -999.000,3
           NA,     A06,    152,   1,-999.0,      14,  2,19930221,2312,   7.4498,  -37.0003,  4174, 2193.400,    3.338,   34.964,2,   34.960,2,  256.200,2,  254.600,2,   20.140,2,   17.100,2,    0.000,2,    1.230,2,    0.023,2,    0.015,2, -999.000,9, -999.000,3, -999.000,3
           NA,     A06,    152,   1,-999.0,      12,  2,19930221,2312,   7.4498,  -37.0003,  4174, 2394.800,    3.126,   34.953,2,   34.953,2,  255.400,2,  254.000,2,   23.220,2,   17.220,2,    0.000,2,    1.260,2,    0.012,2,    0.003,2, -999.000,9, -999.000,3, -999.000,3
           NA,     A06,    152,   1,-999.0,      11,  2,19930221,2312,   7.4498,  -37.0003,  4174, 2593.000,    2.985,   34.944,2,   34.943,2,  255.700,2,  254.800,2,   25.230,2,   17.310,2,    0.000,2,    1.260,2,    0.011,2,    0.005,2, -999.000,9, -999.000,3, -999.000,3
           NA,     A06,    152,   1,-999.0,      10,  2,19930221,2312,   7.4498,  -37.0003,  4174, 2795.100,    2.820,   34.934,2,   34.931,2,  256.100,2,  255.300,2,   27.800,2,   17.440,2,    0.000,2,    1.280,2,    0.014,2,    0.003,2, -999.000,9, -999.000,3, -999.000,3
           NA,     A06,    152,   1,-999.0,       9,  2,19930221,2312,   7.4498,  -37.0003,  4174, 2994.200,    2.698,   34.925,2,   34.921,2,  256.000,2,  255.200,2,   29.880,2,   17.550,2,    0.000,2,    1.290,2,    0.015,2,    0.005,2, -999.000,9, -999.000,3, -999.000,3
           NA,     A06,    152,   1,-999.0,       8,  2,19930221,2312,   7.4498,  -37.0003,  4174, 3193.900,    2.597,   34.917,2,   34.918,2,  256.100,2,  256.000,2,   31.980,2,   17.690,2,    0.000,2,    1.300,2,    0.015,2,    0.002,2, -999.000,9, -999.000,3, -999.000,3
           NA,     A06,    152,   1,-999.0,       7,  2,19930221,2312,   7.4498,  -37.0003,  4174, 3393.500,    2.504,   34.910,2,   34.908,2,  257.000,2,  256.500,2,   33.400,2,   17.520,2,    0.010,2,    1.310,2,    0.018,2,    0.003,2, -999.000,9, -999.000,3, -999.000,3
           NA,     A06,    152,   1,-999.0,       6,  2,19930221,2312,   7.4498,  -37.0003,  4174, 3595.100,    2.418,   34.902,2,   34.904,2,  256.700,2,  256.100,2,   35.710,2,   17.680,2,    0.070,2,    1.320,2,    0.024,2,    0.008,2, -999.000,9, -999.000,3, -999.000,3
           NA,     A06,    152,   1,-999.0,       5,  2,19930221,2312,   7.4498,  -37.0003,  4174, 3795.100,    2.288,   34.889,2,   34.889,2,  255.400,2,  254.600,2,   40.590,2,   18.370,2,    0.010,2,    1.380,2,    0.022,2,    0.008,2, -999.000,9, -999.000,3, -999.000,3
           NA,     A06,    152,   1,-999.0,       4,  2,19930221,2312,   7.4498,  -37.0003,  4174, 3894.700,    2.241,   34.883,2,   34.882,2,  255.100,2,  254.200,2,   42.310,2,   18.650,2,    0.000,2,    1.380,2,    0.022,2,    0.007,2, -999.000,9, -999.000,3, -999.000,3
           NA,     A06,    152,   1,-999.0,       3,  2,19930221,2312,   7.4498,  -37.0003,  4174, 3994.900,    1.997,   34.860,2,   34.859,2,  254.100,2,  250.200,2,   51.250,2,   19.900,2,    0.010,2,    1.480,2,    0.022,2,    0.011,2, -999.000,9, -999.000,3, -999.000,3
           NA,     A06,    152,   1,-999.0,       2,  2,19930221,2312,   7.4498,  -37.0003,  4174, 4094.300,    1.943,   34.854,2,   34.853,2,  251.800,2,  249.200,2,   53.730,2,   20.230,2,    0.000,2,    1.500,2,    0.026,2,    0.013,2, -999.000,9, -999.000,3, -999.000,3
           NA,     A06,    152,   1,-999.0,       1,  2,19930221,2312,   7.4498,  -37.0003,  4174, 4182.800,    1.959,   34.854,2,   34.853,2,  249.500,2,  249.600,2,   54.010,2,   20.000,2,    0.020,2,    1.490,2,    0.019,2,    0.011,2, -999.000,9, -999.000,3, -999.000,3
           NA,     A06,    153,   1,-999.0,      32,  2,19930222,0507,   7.4482,  -36.4983,  4520,    1.900,   26.467,   36.223,2,   36.224,2,  201.100,2,  200.300,2,    1.650,2,    0.040,2,    0.000,2,    0.000,2,    1.812,2,    0.956,2, -999.000,9, -999.000,9, -999.000,9
           NA,     A06,    153,   1,-999.0,      31,  2,19930222,0507,   7.4482,  -36.4983,  4520,   69.800,   26.486,   36.225,2,   36.221,2,  204.300,2,  200.400,2,    1.660,2,    0.040,2,    0.000,2,    0.010,2,    1.803,2,    0.962,2, -999.000,9, -999.000,9, -999.000,9
           NA,     A06,    153,   1,-999.0,      30,  2,19930222,0507,   7.4482,  -36.4983,  4520,  120.200,   22.328,   36.544,2, -999.000,3,  174.200,2, -999.000,3,    2.480,2,    3.630,2,    0.130,2,    0.240,2,    1.739,2,    0.919,2, -999.000,9, -999.000,9, -999.000,9
           NA,     A06,    153,   1,-999.0,      29,  2,19930222,0507,   7.4482,  -36.4983,  4520,  193.900,   11.164,   35.114,2, -999.000,3,  137.700,2,  134.100,2,   10.010,2,   23.190,2,    0.000,2,    1.440,2,    0.923,2,    0.457,2, -999.000,9, -999.000,9, -999.000,9
           NA,     A06,    153,   1,-999.0,      28,  2,19930222,0507,   7.4482,  -36.4983,  4520,  392.500,    8.632,   34.805,2,   34.803,2,  115.700,2,  116.100,2,   15.330,2,   30.570,2,    0.000,2,    1.880,2,    0.386,2,    0.192,2, -999.000,9, -999.000,9, -999.000,9
           NA,     A06,    153,   1,-999.0,      27,  2,19930222,0507,   7.4482,  -36.4983,  4520,  592.300,    7.410,   34.759,2,   34.758,2,   98.300,2,   96.100,2,   20.000,2,   35.460,2,    0.000,2,    2.170,2,    0.075,2,    0.039,2, -999.000,9, -999.000,9, -999.000,9
           NA,     A06,    153,   1,-999.0,      26,  2,19930222,0507,   7.4482,  -36.4983,  4520,  791.800,    5.773,   34.667,2,   34.667,2,  120.100,2,  115.300,2,   25.990,2,   36.100,2,    0.000,2,    2.280,2,    0.017,2,    0.006,2, -999.000,9, -999.000,9, -999.000,9
           NA,     A06,    153,   1,-999.0,      25,  2,19930222,0507,   7.4482,  -36.4983,  4520,  992.800,    4.965,   34.752,2,   34.751,2,  146.800,2,  147.500,2,   26.920,2,   32.350,2,    0.000,2,    2.100,2,    0.006,2,    0.001,2, -999.000,9, -999.000,9, -999.000,9
           NA,     A06,    153,   1,-999.0,      24,  2,19930222,0507,   7.4482,  -36.4983,  4520, 1192.700,    4.702,   34.904,2,   34.900,2,  183.600,2,  187.300,2,   21.930,2,   26.040,2,    0.000,2,    1.710,2,    0.021,2,    0.012,2, -999.000,9, -999.000,9, -999.000,9
           NA,     A06,    153,   1,-999.0,      23,  2,19930222,0507,   7.4482,  -36.4983,  4520, 1393.100,    4.503,   34.972,2,   34.972,2,  218.400,2,  219.100,2,   17.920,2,   21.850,2,    0.000,2,    1.450,2,    0.060,2,    0.032,2, -999.000,9, -999.000,9, -999.000,9
           NA,     A06,    153,   1,-999.0,      21,  2,19930222,0507,   7.4482,  -36.4983,  4520, 1494.100,    4.321,   34.983,2,   34.983,2,  227.400,2,  229.300,2,   17.070,2,   20.590,2,    0.000,2,    1.380,2,    0.058,2,    0.034,2, -999.000,9, -999.000,9, -999.000,9
           NA,     A06,    153,   1,-999.0,      22,  2,19930222,0507,   7.4482,  -36.4983,  4520, 1494.100,    4.329,   34.982,2,   34.979,2,  227.400,2,  229.500,2,   17.000,2,   20.700,2,    0.000,2,    1.380,2,    0.061,2,    0.037,2, -999.000,9, -999.000,9, -999.000,9
           NA,     A06,    153,   1,-999.0,      20,  2,19930222,0507,   7.4482,  -36.4983,  4520, 1593.200,    4.165,   34.986,2,   34.989,2,  239.500,2,  238.100,2,   16.590,2,   19.700,2,    0.000,2,    1.310,2,    0.073,2,    0.034,2, -999.000,9, -999.000,9, -999.000,9
           NA,     A06,    153,   1,-999.0,      19,  2,19930222,0507,   7.4482,  -36.4983,  4520, 1693.400,    4.020,   34.989,2,   34.989,2,  247.900,2,  245.300,2,   16.210,2,   18.870,2,    0.000,2,    1.270,2,    0.073,2,    0.037,2, -999.000,9, -999.000,9, -999.000,9
           NA,     A06,    153,   1,-999.0,      18,  2,19930222,0507,   7.4482,  -36.4983,  4520, 1792.900,    3.798,   34.979,2,   34.972,2,  250.500,2,  248.400,2,   17.350,2,   18.770,2,    0.000,2,    1.260,2,    0.049,2,    0.024,2, -999.000,9, -999.000,9, -999.000,9
           NA,     A06,    153,   1,-999.0,      17,  2,19930222,0507,   7.4482,  -36.4983,  4520, 1892.900,    3.671,   34.975,2,   34.977,2,  251.400,2,  249.900,2,   18.350,2,   18.420,2,    0.000,2,    1.260,2,    0.025,2,    0.014,2, -999.000,9, -999.000,9, -999.000,9
           NA,     A06,    153,   1,-999.0,      16,  2,19930222,0507,   7.4482,  -36.4983,  4520, 1994.400,    3.529,   34.970,2,   34.969,2,  252.900,2,  251.900,2,   19.540,2,   18.520,2,    0.000,2,    1.250,2,    0.030,2,    0.016,2, -999.000,9, -999.000,9, -999.000,9
           NA,     A06,    153,   1,-999.0,      14,  2,19930222,0507,   7.4482,  -36.4983,  4520, 2195.400,    3.298,   34.962,2,   34.958,2,  255.000,2,  253.700,2,   21.650,2,   18.430,2,    0.000,2,    1.260,2,    0.021,2,    0.012,2, -999.000,9, -999.000,9, -999.000,9
           NA,     A06,    153,   1,-999.0,      15,  2,19930222,0507,   7.4482,  -36.4983,  4520, 2195.800,    3.298,   34.962,2,   34.962,2,  255.000,2,  254.100,2,   21.670,2,   18.410,2,    0.000,2,    1.260,2,    0.025,2,    0.012,2, -999.000,9, -999.000,9, -999.000,9
           NA,     A06,    153,   1,-999.0,      13,  2,19930222,0507,   7.4482,  -36.4983,  4520, 2393.500,    3.063,   34.948,2,   34.942,2,  255.500,2,  253.600,2,   25.340,2,   18.650,2,    0.000,2,    1.280,2,    0.016,2,    0.004,2, -999.000,9, -999.000,9, -999.000,9
           NA,     A06,    153,   1,-999.0,      12,  2,19930222,0507,   7.4482,  -36.4983,  4520, 2694.700,    2.870,   34.937,2,   34.939,2,  255.800,2,  255.200,2,   28.040,2,   18.730,2,    0.000,2,    1.290,2,    0.017,2,    0.007,2, -999.000,9, -999.000,9, -999.000,9
           NA,     A06,    153,   1,-999.0,      11,  2,19930222,0507,   7.4482,  -36.4983,  4520, 2993.300,    2.696,   34.925,2,   34.925,2,  256.000,2,  255.500,2,   31.100,2,   18.830,2,    0.000,2,    1.300,2,    0.015,2,    0.003,2, -999.000,9, -999.000,9, -999.000,9
           NA,     A06,    153,   1,-999.0,      10,  2,19930222,0507,   7.4482,  -36.4983,  4520, 3194.800,    2.559,   34.914,2,   34.910,2,  256.000,2,  257.000,2,   33.930,2,   19.170,2,    0.000,2,    1.330,2,    0.015,2,    0.005,2, -999.000,9, -999.000,9, -999.000,9
           NA,     A06,    153,   1,-999.0,       9,  2,19930222,0507,   7.4482,  -36.4983,  4520, 3393.800,    2.474,   34.906,2,   34.902,2,  255.500,2,  255.600,2,   36.830,2,   19.230,2,    0.000,2,    1.340,2,    0.020,2,    0.007,2, -999.000,9, -999.000,9, -999.000,9
           NA,     A06,    153,   1,-999.0,       8,  2,19930222,0507,   7.4482,  -36.4983,  4520, 3594.400,    2.421,   34.902,2, -999.000,3,  255.500,2,  255.300,2,   38.160,2,   19.390,2,    0.010,2,    1.340,2,    0.032,2,    0.013,2, -999.000,9, -999.000,9, -999.000,9
           NA,     A06,    153,   1,-999.0,       7,  2,19930222,0507,   7.4482,  -36.4983,  4520, 3794.400,    2.294,   34.890,2,   34.890,2,  255.300,2,  255.100,2,   41.680,2,   19.900,2,    0.010,2,    1.380,2,    0.033,2,    0.011,2, -999.000,9, -999.000,9, -999.000,9
           NA,     A06,    153,   1,-999.0,       6,  2,19930222,0507,   7.4482,  -36.4983,  4520, 3893.600,    2.254,   34.885,2,   34.886,2,  254.800,2,  254.600,2,   43.520,2,   20.080,2,    0.000,2,    1.400,2,    0.026,2,    0.014,2, -999.000,9, -999.000,9, -999.000,9
           NA,     A06,    153,   1,-999.0,       5,  2,19930222,0507,   7.4482,  -36.4983,  4520, 3993.600,    2.206,   34.879,2,   34.876,2,  254.300,2,  253.400,2,   45.780,2,   20.390,2,    0.000,2,    1.430,2,    0.025,2,    0.011,2, -999.000,9, -999.000,9, -999.000,9
           NA,     A06,    153,   1,-999.0,       4,  2,19930222,0507,   7.4482,  -36.4983,  4520, 4093.700,    2.157,   34.873,2,   34.872,2,  253.200,2,  253.200,2,   47.870,2,   20.670,2,    0.000,2,    1.440,2,    0.026,2,    0.011,2, -999.000,9, -999.000,9, -999.000,9
           NA,     A06,    153,   1,-999.0,       3,  2,19930222,0507,   7.4482,  -36.4983,  4520, 4194.200,    2.065,   34.864,2,   34.862,2,  251.500,2,  251.100,2,   51.360,2,   21.110,2,    0.040,2,    1.460,2,    0.027,2,    0.013,2, -999.000,9, -999.000,9, -999.000,9
           NA,     A06,    153,   1,-999.0,       2,  2,19930222,0507,   7.4482,  -36.4983,  4520, 4394.100,    1.986,   34.854,2,   34.853,2,  249.800,2,  249.800,2,   55.580,2,   21.790,2,    0.000,2,    1.520,2,    0.031,2,    0.013,2, -999.000,9, -999.000,9, -999.000,9
           NA,     A06,    153,   1,-999.0,       1,  2,19930222,0507,   7.4482,  -36.4983,  4520, 4551.300,    1.974,   34.850,2,   34.849,2,  247.500,2,  249.900,2,   57.010,2,   21.980,2,    0.000,2,    1.550,2,    0.039,2,    0.017,2, -999.000,9, -999.000,9, -999.000,9