BOTTLE,20205402JOAExport
EXPOCODE,SECT_ID,STNNBR,CASTNO,SAMPNO,BTLNBR,BTLNBR_FLAG_W,DATE,TIME,LATITUDE,LONGITUDE,DEPTH,CTDPRS,CTDTMP,CTDSAL,CTDSAL_FLAG_W,SALNTY,SALNTY_FLAG_W,CTDOXY,CTDOXY_FLAG_W,OXYGEN,OXYGEN_FLAG_W,SILCAT,SILCAT_FLAG_W,NITRAT,NITRAT_FLAG_W,NITRIT,NITRIT_FLAG_W,PHSPHT,PHSPHT_FLAG_W,CFC-11,CFC-11_FLAG_W,CFC-12,CFC-12_FLAG_W,SF6,SF6_FLAG_W,TCARBN,TCARBN_FLAG_W,ALKALI,ALKALI_FLAG_W
,,,,,,,,,,,,,DB,DEG C,PSS-78,,PSS-78,,UMOL/KG,,UMOL/KG,,UMOL/KG,,UMOL/KG,,UMOL/KG,,UMOL/KG,,PMOL/KG,,PMOL/KG,,FMOL/KG,,UMOL/KG,,UMOL/KG
           NA,     A06,    130,   1,-999.0,      32,  2,19930215,1603,   7.5163,  -49.9583,  4289,    0.200,   26.626,   36.344,2,   36.345,2,  200.900,2,  203.400,2,    2.740,2,    0.110,2,    0.000,2,    0.040,2,    1.791,2,    0.969,2, -999.000,9, 2051.700,2, 2421.800,2
           NA,     A06,    130,   1,-999.0,      31,  2,19930215,1603,   7.5163,  -49.9583,  4289,   24.100,   26.545,   36.346,2,   36.344,2,  202.600,2,  203.800,2,    2.660,2,    0.090,2,    0.000,2,    0.050,2,    1.814,2,    0.982,2, -999.000,9, 2043.100,2, 2408.200,2
           NA,     A06,    130,   1,-999.0,      30,  2,19930215,1603,   7.5163,  -49.9583,  4289,   69.700,   26.555,   36.358,2,   36.358,2,  201.300,2,  203.600,2,    2.650,2,    0.090,2,    0.000,2,    0.050,2,    1.793,2,    0.963,2, -999.000,9, 2042.300,2, 2409.000,2
           NA,     A06,    130,   1,-999.0,      29,  2,19930215,1603,   7.5163,  -49.9583,  4289,  118.700,   24.138,   36.741,2,   36.742,2,  179.700,2,  176.700,2,    3.070,2,    2.120,2,    0.140,2,    0.130,2,    1.829,2,    0.978,2, -999.000,9, 2108.800,2, 2440.700,2
           NA,     A06,    130,   1,-999.0,      28,  2,19930215,1603,   7.5163,  -49.9583,  4289,  194.400,   13.104,   35.512,2, -999.000,3,  127.700,2,  129.100,2,    9.130,2,   19.840,2,    0.000,2,    1.180,2,    1.067,2,    0.550,2, -999.000,9, 2167.100,2, -999.000,4
           NA,     A06,    130,   1,-999.0,      27,  2,19930215,1603,   7.5163,  -49.9583,  4289,  393.600,    8.380,   34.817,2,   34.813,2,  123.200,2,  124.400,2,   17.340,2,   29.800,2,    0.000,2,    1.870,2,    0.368,2,    0.175,2, -999.000,9, 2219.500,2, 2328.700,2
           NA,     A06,    130,   1,-999.0,      26,  2,19930215,1603,   7.5163,  -49.9583,  4289,  592.500,    6.319,   34.636,2, -999.000,3,  131.900,2,  132.800,2,   23.980,2,   33.450,2,    0.000,2,    2.160,2,    0.117,2,    0.058,2, -999.000,9, 2240.300,2, 2332.600,2
           NA,     A06,    130,   1,-999.0,      25,  2,19930215,1603,   7.5163,  -49.9583,  4289,  792.100,    5.217,   34.597,2,   34.597,2,  142.200,2,  141.900,2,   28.830,2,   33.880,2,    0.000,2,    2.230,2,    0.047,2,    0.016,2, -999.000,9, -999.000,3, -999.000,3
           NA,     A06,    130,   1,-999.0,      24,  2,19930215,1603,   7.5163,  -49.9583,  4289,  792.100,    5.194,   34.598,2,   34.597,2,  142.200,2,  144.200,2,   28.810,2,   33.870,2,    0.000,2,    2.240,2,    0.041,2,    0.019,2, -999.000,9, 2226.100,2, 2316.000,2
           NA,     A06,    130,   1,-999.0,      23,  2,19930215,1603,   7.5163,  -49.9583,  4289,  992.500,    4.848,   34.695,2,   34.694,2,  155.900,2,  156.500,2,   28.750,2,   31.930,2,    0.000,2,    2.110,2,    0.015,2,    0.002,2, -999.000,9, 2207.200,2, 2305.800,2
           NA,     A06,    130,   1,-999.0,      22,  2,19930215,1603,   7.5163,  -49.9583,  4289, 1194.200,    4.950,   34.882,2,   34.880,2,  184.300,2,  183.400,2,   23.410,2,   26.770,2,    0.000,2,    1.760,2,    0.053,2,    0.021,2, -999.000,9, 2200.000,2, 2322.600,2
           NA,     A06,    130,   1,-999.0,      21,  2,19930215,1603,   7.5163,  -49.9583,  4289, 1392.800,    4.744,   34.990,2,   34.990,2,  224.000,2,  226.800,2,   18.170,2,   21.650,2,    0.000,2,    1.420,2,    0.149,2,    0.071,2, -999.000,9, 2181.700,2, 2328.400,2
           NA,     A06,    130,   1,-999.0,      20,  2,19930215,1603,   7.5163,  -49.9583,  4289, 1493.100,    4.567,   35.013,2,   35.013,2,  240.800,2,  238.300,2,   16.140,2,   19.620,2,    0.000,2,    1.280,2,    0.269,2,    0.129,2, -999.000,9, 2160.100,2, 2315.300,2
           NA,     A06,    130,   1,-999.0,      19,  2,19930215,1603,   7.5163,  -49.9583,  4289, 1594.300,    4.342,   35.012,2,   35.012,2,  251.100,2,  249.800,2,   15.150,2,   18.560,2,    0.000,2,    1.200,2,    0.328,2,    0.155,2, -999.000,9, -999.000,3, -999.000,3
           NA,     A06,    130,   1,-999.0,      18,  2,19930215,1603,   7.5163,  -49.9583,  4289, 1692.600,    4.108,   35.004,2,   35.006,2,  256.200,2,  255.300,2,   15.390,2,   18.280,2,    0.000,2,    1.190,2,    0.252,2,    0.125,2, -999.000,9, 2179.100,2, 2341.200,2
           NA,     A06,    130,   1,-999.0,      17,  2,19930215,1603,   7.5163,  -49.9583,  4289, 1793.400,    3.905,   34.996,2,   34.997,2,  259.600,2,  258.400,2,   16.200,2,   18.110,2,    0.000,2,    1.180,2,    0.162,2,    0.075,2, -999.000,9, 2154.100,2, 2318.200,2
           NA,     A06,    130,   1,-999.0,      15,  2,19930215,1603,   7.5163,  -49.9583,  4289, 1894.000,    3.761,   34.990,2,   34.991,2,  260.100,2,  259.700,2,   16.840,2,   18.040,2,    0.000,2,    1.180,2,    0.113,2,    0.059,2, -999.000,9, 2171.000,2, 2335.800,2
           NA,     A06,    130,   1,-999.0,      16,  2,19930215,1603,   7.5163,  -49.9583,  4289, 1894.000,    3.762,   34.991,2,   34.990,2,  260.100,2,  259.800,2,   16.910,2,   18.170,2,    0.000,2,    1.190,2,    0.120,2,    0.060,2, -999.000,9, 2168.300,2, 2332.100,2
           NA,     A06,    130,   1,-999.0,      14,  2,19930215,1603,   7.5163,  -49.9583,  4289, 1994.900,    3.604,   34.986,2,   34.985,2,  261.800,2,  261.500,2,   17.730,2,   17.990,2,    0.000,2,    1.180,2,    0.100,2,    0.046,2, -999.000,9, -999.000,3, -999.000,3
           NA,     A06,    130,   1,-999.0,      13,  2,19930215,1603,   7.5163,  -49.9583,  4289, 2195.500,    3.311,   34.971,2,   34.970,2,  263.000,2,  262.800,2,   20.020,2,   17.950,2,    0.000,2,    1.190,2,    0.070,2,    0.032,2, -999.000,9, -999.000,3, -999.000,3
           NA,     A06,    130,   1,-999.0,      12,  2,19930215,1603,   7.5163,  -49.9583,  4289, 2394.000,    3.089,   34.959,2,   34.958,2,  262.600,2,  263.600,2,   22.240,2,   18.000,2,    0.000,2,    1.200,2,    0.068,2,    0.033,2, -999.000,9, 2173.900,2, 2339.700,2
           NA,     A06,    130,   1,-999.0,      11,  2,19930215,1603,   7.5163,  -49.9583,  4289, 2695.300,    2.842,   34.942,2,   34.943,2,  262.500,2,  263.600,2,   25.600,2,   18.260,2,    0.000,2,    1.230,2,    0.070,2,    0.035,2, -999.000,9, -999.000,3, -999.000,3
           NA,     A06,    130,   1,-999.0,      10,  2,19930215,1603,   7.5163,  -49.9583,  4289, 2994.000,    2.623,   34.927,2,   34.927,2,  260.800,2,  261.800,2,   30.430,2,   18.760,2,    0.000,2,    1.270,2,    0.064,2,    0.031,2, -999.000,9, 2180.300,2, 2344.400,2
           NA,     A06,    130,   1,-999.0,       9,  2,19930215,1603,   7.5163,  -49.9583,  4289, 3194.700,    2.502,   34.918,2,   34.917,2,  263.000,2,  261.900,2,   30.850,2,   18.540,2,    0.000,2,    1.260,2,    0.097,2,    0.045,2, -999.000,9, 2173.300,2, 2337.400,2
           NA,     A06,    130,   1,-999.0,       8,  2,19930215,1603,   7.5163,  -49.9583,  4289, 3394.700,    2.375,   34.910,2,   34.909,2,  266.500,2,  268.000,2,   29.420,2,   17.970,2,    0.000,2,    1.220,2,    0.145,2,    0.066,2, -999.000,9, 2183.100,2, 2347.200,2
           NA,     A06,    130,   1,-999.0,       7,  2,19930215,1603,   7.5163,  -49.9583,  4289, 3593.700,    2.271,   34.903,2,   34.902,2,  266.700,2,  267.900,2,   31.750,2,   18.180,2,    0.000,2,    1.230,2,    0.138,2,    0.069,2, -999.000,9, -999.000,3, -999.000,3
           NA,     A06,    130,   1,-999.0,       6,  2,19930215,1603,   7.5163,  -49.9583,  4289, 3795.100,    2.243,   34.899,2,   34.897,2,  266.600,2,  267.500,2,   32.650,2,   18.150,2,    0.000,2,    1.250,2,    0.141,2,    0.071,2, -999.000,9, 2168.500,2, 2330.900,2
           NA,     A06,    130,   1,-999.0,       5,  2,19930215,1603,   7.5163,  -49.9583,  4289, 3894.000,    2.232,   34.897,2,   34.896,2,  265.800,2,  266.800,2,   33.580,2,   18.240,2,    0.000,2,    1.260,2,    0.137,2,    0.068,2, -999.000,9, -999.000,3, -999.000,3
           NA,     A06,    130,   1,-999.0,       4,  2,19930215,1603,   7.5163,  -49.9583,  4289, 3994.600,    2.215,   34.894,2,   34.895,2,  264.700,2,  265.300,2,   35.350,2,   18.370,2,    0.000,2,    1.270,2,    0.137,2,    0.069,2, -999.000,9, 2184.200,2, 2346.900,2
           NA,     A06,    130,   1,-999.0,       3,  2,19930215,1603,   7.5163,  -49.9583,  4289, 4094.100,    2.190,   34.890,2,   34.888,2,  263.700,2,  264.300,2,   37.120,2,   18.730,2,    0.000,2,    1.300,2,    0.091,2,    0.047,2, -999.000,9, 2180.200,2, 2341.300,2
           NA,     A06,    130,   1,-999.0,       2,  2,19930215,1603,   7.5163,  -49.9583,  4289, 4194.600,    2.095,   34.878,2,   34.876,2,  258.800,2,  259.700,2,   44.160,2,   19.690,2,    0.000,2,    1.380,2,    0.071,2,    0.041,2, -999.000,9, 2182.800,2, 2340.700,2
           NA,     A06,    130,   1,-999.0,       1,  2,19930215,1603,   7.5163,  -49.9583,  4289, 4310.100,    1.985,   34.862,2,   34.861,2,  252.500,2,  254.800,2,   52.180,2,   20.830,2,    0.000,2,    1.450,2,    0.027,2,    0.009,2, -999.000,9, 2193.200,2, 2348.300,2
           NA,     A06,    131,   1,-999.0,      32,  2,19930215,2222,   7.4995,  -49.5002,  4292,    1.000,   26.270,   36.141,2,   36.142,2,  203.800,2, -999.000,3,    1.910,2,    0.090,2,    0.000,2,    0.000,2,    1.852,2,    0.993,2, -999.000,9, -999.000,9, -999.000,9
           NA,     A06,    131,   1,-999.0,      31,  2,19930215,2222,   7.4995,  -49.5002,  4292,   68.400,   25.809,   36.758,2, -999.000,3,  206.500,2,  205.100,2,    1.670,2,    0.130,2,    0.050,2,    0.000,2,    1.908,2,    1.009,2, -999.000,9, -999.000,9, -999.000,9
           NA,     A06,    131,   1,-999.0,      30,  2,19930215,2222,   7.4995,  -49.5002,  4292,  118.100,   20.387,   36.780,2, -999.000,3,  155.200,2, -999.000,3,    2.520,2,    6.990,2,    0.020,2,    0.330,2,    1.863,2,    0.960,2, -999.000,9, -999.000,9, -999.000,9
           NA,     A06,    131,   1,-999.0,      29,  2,19930215,2222,   7.4995,  -49.5002,  4292,  194.100,   12.071,   35.318,2, -999.000,3,  119.500,2,  119.100,2,    9.670,2,   23.290,2,    0.000,2,    1.410,2,    0.872,2,    0.439,2, -999.000,9, -999.000,9, -999.000,9
           NA,     A06,    131,   1,-999.0,      28,  2,19930215,2222,   7.4995,  -49.5002,  4292,  392.600,    8.176,   34.778,2,   34.774,2,  116.500,2,  116.000,2,   16.730,2,   31.170,2,    0.000,2,    1.930,2,    0.295,2,    0.155,2, -999.000,9, -999.000,9, -999.000,9
           NA,     A06,    131,   1,-999.0,      27,  2,19930215,2222,   7.4995,  -49.5002,  4292,  492.200,    7.174,   34.675,2,   34.675,2,  132.500,2,  131.800,2,   19.590,2,   31.650,2,    0.000,2,    2.010,2,    0.266,2,    0.137,2, -999.000,9, -999.000,9, -999.000,9
           NA,     A06,    131,   1,-999.0,      26,  2,19930215,2222,   7.4995,  -49.5002,  4292,  592.100,    6.357,   34.610,2,   34.607,2,  129.700,2,  131.700,2,   22.720,2,   33.490,2,    0.000,2,    2.150,2,    0.136,2,    0.070,2, -999.000,9, -999.000,9, -999.000,9
           NA,     A06,    131,   1,-999.0,      25,  2,19930215,2222,   7.4995,  -49.5002,  4292,  791.400,    5.591,   34.628,2,   34.627,2,  134.000,2,  130.900,2,   26.800,2,   34.430,2,    0.000,2,    2.240,2,    0.032,2,    0.018,2, -999.000,9, -999.000,9, -999.000,9
           NA,     A06,    131,   1,-999.0,      24,  2,19930215,2222,   7.4995,  -49.5002,  4292,  992.000,    5.037,   34.716,2,   34.714,2,  148.400,2,  150.500,2,   27.490,2,   32.140,2,    0.000,2,    2.110,2,    0.014,2,    0.004,2, -999.000,9, -999.000,9, -999.000,9
           NA,     A06,    131,   1,-999.0,      23,  2,19930215,2222,   7.4995,  -49.5002,  4292, 1192.600,    4.963,   34.898,2,   34.897,2,  184.300,2,  185.400,2,   22.000,2,   26.440,2,    0.000,2,    1.730,2,    0.053,2,    0.022,2, -999.000,9, -999.000,9, -999.000,9
           NA,     A06,    131,   1,-999.0,      22,  2,19930215,2222,   7.4995,  -49.5002,  4292, 1392.500,    4.770,   35.005,2,   35.004,2,  227.400,2,  226.400,2,   16.420,2,   21.170,2,    0.000,2,    1.380,2,    0.205,2,    0.104,2, -999.000,9, -999.000,9, -999.000,9
           NA,     A06,    131,   1,-999.0,      21,  2,19930215,2222,   7.4995,  -49.5002,  4292, 1492.400,    4.474,   35.005,2,   35.003,2,  242.300,2,  240.400,2,   15.580,2,   20.040,2,    0.000,2,    1.290,2,    0.202,2,    0.101,2, -999.000,9, -999.000,9, -999.000,9
           NA,     A06,    131,   1,-999.0,      20,  2,19930215,2222,   7.4995,  -49.5002,  4292, 1492.700,    4.472,   35.006,2,   35.002,2,  242.500,2,  239.900,2,   15.390,2,   20.040,2,    0.000,2,    1.280,2,    0.204,2,    0.104,2, -999.000,9, -999.000,9, -999.000,9
           NA,     A06,    131,   1,-999.0,      19,  2,19930215,2222,   7.4995,  -49.5002,  4292, 1592.200,    4.248,   35.007,2,   35.004,2,  252.700,2,  250.300,2,   14.520,2,   19.010,2,    0.000,2,    1.210,2,    0.226,2,    0.114,2, -999.000,9, -999.000,9, -999.000,9
           NA,     A06,    131,   1,-999.0,      18,  2,19930215,2222,   7.4995,  -49.5002,  4292, 1693.300,    4.031,   34.999,2,   34.998,2,  258.400,2,  254.400,2,   15.020,2,   18.770,2,    0.000,2,    1.200,2,    0.149,2,    0.081,2, -999.000,9, -999.000,9, -999.000,9
           NA,     A06,    131,   1,-999.0,      17,  2,19930215,2222,   7.4995,  -49.5002,  4292, 1792.900,    3.773,   34.983,2,   34.983,2,  256.300,2,  254.700,2,   17.020,2,   19.130,2,    0.000,2,    1.230,2,    0.058,2,    0.031,2, -999.000,9, -999.000,9, -999.000,9
           NA,     A06,    131,   1,-999.0,      16,  2,19930215,2222,   7.4995,  -49.5002,  4292, 1893.800,    3.635,   34.979,2,   34.976,2,  257.600,2,  256.400,2,   18.010,2,   19.080,2,    0.000,2,    1.230,2,    0.039,2,    0.020,2, -999.000,9, -999.000,9, -999.000,9
           NA,     A06,    131,   1,-999.0,      15,  2,19930215,2222,   7.4995,  -49.5002,  4292, 1994.200,    3.546,   34.978,2,   34.977,2,  259.800,2,  259.600,2,   17.950,2,   18.710,2,    0.000,2,    1.210,2,    0.056,2,    0.026,2, -999.000,9, -999.000,9, -999.000,9
           NA,     A06,    131,   1,-999.0,      14,  2,19930215,2222,   7.4995,  -49.5002,  4292, 2194.600,    3.342,   34.969,2,   34.965,2,  261.100,2,  261.600,2,   19.550,2,   18.740,2,    0.000,2,    1.210,2,    0.053,2,    0.021,2, -999.000,9, -999.000,9, -999.000,9
           NA,     A06,    131,   1,-999.0,      13,  2,19930215,2222,   7.4995,  -49.5002,  4292, 2394.000,    3.135,   34.959,2,   34.957,2,  261.800,2,  262.300,2,   21.670,2,   18.800,2,    0.000,2,    1.210,2,    0.053,2,    0.026,2, -999.000,9, -999.000,9, -999.000,9
           NA,     A06,    131,   1,-999.0,      12,  2,19930215,2222,   7.4995,  -49.5002,  4292, 2695.000,    2.894,   34.947,2,   34.943,2,  263.100,2,  264.700,2,   24.250,2,   18.750,2,    0.000,2,    1.220,2,    0.076,2,    0.037,2, -999.000,9, -999.000,9, -999.000,9
           NA,     A06,    131,   1,-999.0,      11,  2,19930215,2222,   7.4995,  -49.5002,  4292, 2993.600,    2.653,   34.930,2,   34.926,2,  261.900,2,  263.900,2,   28.080,2,   19.100,2,    0.000,2,    1.240,2,    0.088,2,    0.040,2, -999.000,9, -999.000,9, -999.000,9
           NA,     A06,    131,   1,-999.0,      10,  2,19930215,2222,   7.4995,  -49.5002,  4292, 3194.600,    2.539,   34.921,2,   34.918,2,  263.100,2,  264.800,2,   29.460,2,   19.100,2,    0.000,2,    1.250,2,    0.096,2,    0.044,2, -999.000,9, -999.000,9, -999.000,9
           NA,     A06,    131,   1,-999.0,       9,  2,19930215,2222,   7.4995,  -49.5002,  4292, 3395.000,    2.399,   34.911,2,   34.908,2,  263.400,2,  265.100,2,   31.450,2,   19.190,2,    0.000,2,    1.260,2,    0.077,2,    0.036,2, -999.000,9, -999.000,9, -999.000,9
           NA,     A06,    131,   1,-999.0,       8,  2,19930215,2222,   7.4995,  -49.5002,  4292, 3594.300,    2.302,   34.906,2,   34.904,2,  265.400,2,  268.200,2,   30.600,2,   18.720,2,    0.000,2,    1.240,2,    0.122,2,    0.064,2, -999.000,9, -999.000,9, -999.000,9
           NA,     A06,    131,   1,-999.0,       7,  2,19930215,2222,   7.4995,  -49.5002,  4292, 3794.600,    2.252,   34.900,2,   34.897,2,  265.800,2,  262.700,2,   32.790,2,   18.990,2,    0.000,2,    1.250,2,    0.099,2,    0.053,2, -999.000,9, -999.000,9, -999.000,9
           NA,     A06,    131,   1,-999.0,       6,  2,19930215,2222,   7.4995,  -49.5002,  4292, 3895.200,    2.228,   34.896,2,   34.896,2,  265.300,2,  266.700,2,   33.840,2,   19.090,2,    0.000,2,    1.270,2,    0.101,2,    0.057,2, -999.000,9, -999.000,9, -999.000,9
           NA,     A06,    131,   1,-999.0,       5,  2,19930215,2222,   7.4995,  -49.5002,  4292, 3993.900,    2.201,   34.893,2,   34.890,2,  264.200,2,  265.000,2,   36.110,2,   19.420,2,    0.000,2,    1.290,2,    0.089,2,    0.050,2, -999.000,9, -999.000,9, -999.000,9
           NA,     A06,    131,   1,-999.0,       4,  2,19930215,2222,   7.4995,  -49.5002,  4292, 4094.400,    2.162,   34.887,2,   34.887,2,  262.800,2,  263.300,2,   38.560,2,   19.730,2,    0.000,2,    1.310,2,    0.093,2,    0.045,2, -999.000,9, -999.000,9, -999.000,9
           NA,     A06,    131,   1,-999.0,       3,  2,19930215,2222,   7.4995,  -49.5002,  4292, 4195.900,    2.146,   34.884,2,   34.883,2,  261.300,2,  261.900,2,   40.880,2,   20.150,2,    0.000,2,    1.340,2,    0.082,2,    0.045,2, -999.000,9, -999.000,9, -999.000,9
           NA,     A06,    131,   1,-999.0,       2,  2,19930215,2222,   7.4995,  -49.5002,  4292, 4195.900,    2.144,   34.884,2,   34.882,2,  261.300,2,  262.500,2,   41.110,2,   20.150,2,    0.000,2,    1.340,2,    0.080,2,    0.046,2, -999.000,9, -999.000,9, -999.000,9
           NA,     A06,    131,   1,-999.0,       1,  2,19930215,2222,   7.4995,  -49.5002,  4292, 4298.000,    2.143,   34.883,2,   34.881,2,  259.000,2,  261.300,2,   41.970,2,   20.270,2,    0.000,2,    1.350,2,    0.082,2,    0.044,2, -999.000,9, -999.000,9, -999.000,9