BOTTLE,20205402JOAExport
EXPOCODE,SECT_ID,STNNBR,CASTNO,SAMPNO,BTLNBR,BTLNBR_FLAG_W,DATE,TIME,LATITUDE,LONGITUDE,DEPTH,CTDPRS,CTDTMP,CTDSAL,CTDSAL_FLAG_W,SALNTY,SALNTY_FLAG_W,CTDOXY,CTDOXY_FLAG_W,OXYGEN,OXYGEN_FLAG_W,SILCAT,SILCAT_FLAG_W,NITRAT,NITRAT_FLAG_W,NITRIT,NITRIT_FLAG_W,PHSPHT,PHSPHT_FLAG_W,CFC-11,CFC-11_FLAG_W,CFC-12,CFC-12_FLAG_W,SF6,SF6_FLAG_W,TCARBN,TCARBN_FLAG_W,ALKALI,ALKALI_FLAG_W
,,,,,,,,,,,,,DB,DEG C,PSS-78,,PSS-78,,UMOL/KG,,UMOL/KG,,UMOL/KG,,UMOL/KG,,UMOL/KG,,UMOL/KG,,PMOL/KG,,PMOL/KG,,FMOL/KG,,UMOL/KG,,UMOL/KG
           NA,     A06,    160,   1,-999.0,      32,  2,19930223,2316,   7.4500,  -32.9993,  4186,    2.300,   26.218,   36.160,2,   36.159,2,  200.400,2,  202.700,2,    1.840,2,    0.040,2,    0.000,2,    0.010,2, -999.000,9, -999.000,9, -999.000,9, 2016.300,2, 2393.300,2
           NA,     A06,    160,   1,-999.0,      31,  2,19930223,2316,   7.4500,  -32.9993,  4186,   68.700,   24.300,   36.185,2, -999.000,3,  206.300,2, -999.000,3,    2.530,2,    1.290,2,    0.070,2,    0.140,2, -999.000,9, -999.000,9, -999.000,9, 2047.100,2, 2389.800,2
           NA,     A06,    160,   1,-999.0,      30,  2,19930223,2316,   7.4500,  -32.9993,  4186,  119.500,   13.419,   35.414,2,   35.409,2,  130.300,2,  126.900,2,    9.250,2,   20.380,2,    0.010,2,    1.260,2, -999.000,9, -999.000,9, -999.000,9, 2171.900,2, 2342.700,2
           NA,     A06,    160,   1,-999.0,      29,  2,19930223,2316,   7.4500,  -32.9993,  4186,  193.900,   10.207,   34.984,2,   34.980,2,  125.300,2,  121.400,2,   13.140,2,   26.240,2,    0.000,2,    1.660,2, -999.000,9, -999.000,9, -999.000,9, 2198.400,2, 2327.200,2
           NA,     A06,    160,   1,-999.0,      28,  2,19930223,2316,   7.4500,  -32.9993,  4186,  393.000,    8.147,   34.778,2,   34.772,2,   99.400,2,  102.600,2,   18.740,2,   32.360,2,    0.000,2,    2.020,2, -999.000,9, -999.000,9, -999.000,9, 2225.100,2, 2318.700,2
           NA,     A06,    160,   1,-999.0,      26,  2,19930223,2316,   7.4500,  -32.9993,  4186,  592.500,    6.636,   34.674,2,   34.671,2,  104.400,2,  109.900,2,   24.110,2,   34.500,2,    0.000,2,    2.220,2,    0.063,2,    0.028,2, -999.000,9, 2244.200,2, 2330.300,2
           NA,     A06,    160,   1,-999.0,      27,  2,19930223,2316,   7.4500,  -32.9993,  4186,  592.800,    6.626,   34.674,2,   34.672,2,  104.400,2, -999.000,3,   23.900,2,   34.890,2,    0.000,2,    2.210,2,    0.063,2,    0.035,2, -999.000,9, 2248.100,2, 2333.500,2
           NA,     A06,    160,   1,-999.0,      25,  2,19930223,2316,   7.4500,  -32.9993,  4186,  793.500,    5.465,   34.647,2,   34.645,2,  121.500,2,  122.500,2,   28.960,2,   35.150,2,    0.000,2,    2.280,2,    0.022,2,    0.013,2, -999.000,9, 2228.300,2, 2317.300,2
           NA,     A06,    160,   1,-999.0,      24,  2,19930223,2316,   7.4500,  -32.9993,  4186,  991.400,    4.966,   34.735,2,   34.732,2,  146.000,2,  145.700,2,   28.960,2,   32.020,2,    0.000,2,    2.120,2, -999.000,9, -999.000,9, -999.000,9, 2224.900,2, 2325.600,2
           NA,     A06,    160,   1,-999.0,      23,  2,19930223,2316,   7.4500,  -32.9993,  4186, 1192.600,    4.715,   34.901,2,   34.900,2,  193.300,2,  190.700,2,   23.470,2,   24.880,2,    0.000,2,    1.690,2,    0.022,2,    0.006,2, -999.000,9, 2209.500,2, 2341.300,2
           NA,     A06,    160,   1,-999.0,      22,  2,19930223,2316,   7.4500,  -32.9993,  4186, 1393.600,    4.455,   34.963,2,   34.963,2,  220.100,2,  219.700,2,   19.800,2,   21.270,2,    0.000,2,    1.450,2,    0.047,2,    0.028,2, -999.000,9, 2194.400,2, 2342.900,2
           NA,     A06,    160,   1,-999.0,      21,  2,19930223,2316,   7.4500,  -32.9993,  4186, 1493.600,    4.334,   34.976,2,   34.974,2,  230.800,2,  229.200,2,   18.850,2,   19.970,2,    0.000,2,    1.380,2,    0.051,2,    0.024,2, -999.000,9, 2181.600,2, 2334.900,2
           NA,     A06,    160,   1,-999.0,      20,  2,19930223,2316,   7.4500,  -32.9993,  4186, 1593.600,    4.177,   34.980,2,   34.978,2,  236.500,2,  235.700,2,   18.650,2,   19.310,2,    0.000,2,    1.340,2,    0.044,2,    0.019,2, -999.000,9, 2187.600,2, 2344.900,2
           NA,     A06,    160,   1,-999.0,      19,  2,19930223,2316,   7.4500,  -32.9993,  4186, 1694.100,    4.045,   34.981,2,   34.980,2,  244.500,2,  242.000,2,   18.480,2,   18.700,2,    0.000,2,    1.280,2,    0.045,2,    0.022,2, -999.000,9, 2182.500,2, 2342.300,2
           NA,     A06,    160,   1,-999.0,      18,  2,19930223,2316,   7.4500,  -32.9993,  4186, 1793.400,    3.888,   34.983,2,   34.982,2,  249.000,2,  247.200,2,   18.680,2,   17.910,2,    0.000,2,    1.260,2,    0.050,2,    0.026,2, -999.000,9, 2173.300,2, 2337.300,2
           NA,     A06,    160,   1,-999.0,      17,  2,19930223,2316,   7.4500,  -32.9993,  4186, 1892.700,    3.781,   34.978,2,   34.979,2,  250.400,2,  248.500,2,   19.500,2,   17.950,2,    0.000,2,    1.260,2,    0.036,2,    0.015,2, -999.000,9, 2170.300,2, 2333.200,2
           NA,     A06,    160,   1,-999.0,      16,  2,19930223,2316,   7.4500,  -32.9993,  4186, 1993.800,    3.644,   34.972,2,   34.972,2,  251.200,2,  248.500,2,   20.700,2,   18.000,2,    0.000,2,    1.260,2, -999.000,9, -999.000,9, -999.000,9, 2183.100,2, 2348.000,2
           NA,     A06,    160,   1,-999.0,      15,  2,19930223,2316,   7.4500,  -32.9993,  4186, 2093.900,    3.528,   34.967,2,   34.967,2,  252.400,2,  249.800,2,   21.940,2,   17.990,2,    0.000,2,    1.270,2,    0.018,2,    0.014,2, -999.000,9, -999.000,3, -999.000,3
           NA,     A06,    160,   1,-999.0,      14,  2,19930223,2316,   7.4500,  -32.9993,  4186, 2193.600,    3.414,   34.962,2,   34.961,2,  252.200,2,  250.400,2,   23.440,2,   17.670,2,    0.000,2,    1.270,2, -999.000,9, -999.000,9, -999.000,9, 2183.500,2, 2349.300,2
           NA,     A06,    160,   1,-999.0,      13,  2,19930223,2316,   7.4500,  -32.9993,  4186, 2394.900,    3.168,   34.950,2,   34.951,2,  252.000,2,  252.200,2,   26.840,2,   18.070,2,    0.000,2,    1.290,2,    0.007,2,    0.000,2, -999.000,9, -999.000,3, -999.000,3
           NA,     A06,    160,   1,-999.0,      12,  2,19930223,2316,   7.4500,  -32.9993,  4186, 2594.600,    2.976,   34.939,2,   34.938,2,  250.300,2,  251.300,2,   30.110,2,   18.340,2,    0.000,2,    1.310,2,    0.001,2,    0.000,2, -999.000,9, -999.000,3, -999.000,3
           NA,     A06,    160,   1,-999.0,      11,  2,19930223,2316,   7.4500,  -32.9993,  4186, 2794.100,    2.839,   34.932,2,   34.931,2,  252.600,2,  252.900,2,   32.120,2,   18.240,2,    0.000,2,    1.310,2,    0.004,2,    0.004,2, -999.000,9, -999.000,3, -999.000,3
           NA,     A06,    160,   1,-999.0,      10,  2,19930223,2316,   7.4500,  -32.9993,  4186, 2995.300,    2.737,   34.925,2,   34.924,2,  253.200,2,  253.500,2,   34.100,2,   18.200,2,    0.000,2,    1.300,2,    0.008,2,    0.001,2, -999.000,9, 2187.500,2, 2352.300,2
           NA,     A06,    160,   1,-999.0,       9,  2,19930223,2316,   7.4500,  -32.9993,  4186, 3194.600,    2.647,   34.919,2,   34.918,2,  253.600,2,  254.500,2,   35.720,2,   18.400,2,    0.000,2,    1.320,2,    0.007,2,    0.002,2, -999.000,9, 2199.600,2, 2363.600,2
           NA,     A06,    160,   1,-999.0,       8,  2,19930223,2316,   7.4500,  -32.9993,  4186, 3395.200,    2.549,   34.911,2,   34.911,2,  253.900,2,  253.600,2,   38.050,2,   18.320,2,    0.000,2,    1.330,2,    0.013,2,    0.004,2, -999.000,9, 2204.600,2, 2368.800,2
           NA,     A06,    160,   1,-999.0,       7,  2,19930223,2316,   7.4500,  -32.9993,  4186, 3594.600,    2.476,   34.905,2,   34.903,2,  254.100,2,  254.600,2,   39.580,2,   18.570,2,    0.010,2,    1.350,2,    0.007,2,    0.004,2, -999.000,9, 2198.500,2, 2362.800,2
           NA,     A06,    160,   1,-999.0,       6,  2,19930223,2316,   7.4500,  -32.9993,  4186, 3794.000,    2.417,   34.899,2,   34.898,2,  254.100,2,  253.900,2,   41.290,2,   18.750,2,    0.000,2,    1.360,2,    0.017,2,    0.004,2, -999.000,9, -999.000,3, -999.000,3
           NA,     A06,    160,   1,-999.0,       5,  2,19930223,2316,   7.4500,  -32.9993,  4186, 3794.600,    2.416,   34.900,2,   34.898,2,  254.000,2,  254.500,2,   41.420,2,   18.550,2,    0.000,2,    1.360,2,    0.015,2,    0.012,2, -999.000,9, 2201.100,2, 2365.100,2
           NA,     A06,    160,   1,-999.0,       4,  2,19930223,2316,   7.4500,  -32.9993,  4186, 3893.900,    2.380,   34.896,2,   34.895,2,  254.600,2,  254.700,2,   42.060,2,   18.700,2,    0.000,2,    1.370,2,    0.018,2,    0.006,2, -999.000,9, 2210.300,2, 2372.800,2
           NA,     A06,    160,   1,-999.0,       3,  2,19930223,2316,   7.4500,  -32.9993,  4186, 3994.700,    2.364,   34.894,2,   34.894,2,  254.500,2,  254.900,2,   42.770,2,   18.650,2,    0.000,2,    1.370,2,    0.016,2,    0.004,2, -999.000,9, 2213.700,2, 2376.400,2
           NA,     A06,    160,   1,-999.0,       2,  2,19930223,2316,   7.4500,  -32.9993,  4186, 4095.400,    2.369,   34.893,2,   34.893,2,  255.000,2,  254.700,2,   42.910,2,   18.570,2,    0.010,2,    1.350,2,    0.023,2,    0.017,2, -999.000,9, 2218.300,2, 2378.900,2
           NA,     A06,    160,   1,-999.0,       1,  2,19930223,2316,   7.4500,  -32.9993,  4186, 4207.700,    2.344,   34.890,2,   34.890,2,  254.700,2,  255.100,2,   43.740,2,   18.610,2,    0.020,2,    1.370,2,    0.038,2,    0.020,2, -999.000,9, 2209.500,2, 2377.200,2
           NA,     A06,    161,   1,-999.0,      27,  2,19930224,0410,   7.4553,  -32.6632,  3685,    2.200,   26.159,   36.164,2,   36.165,2,  204.300,2,  202.800,2,    1.760,2,    0.060,2,    0.000,2,    0.020,2,    1.856,2, -999.000,9, -999.000,9, -999.000,9, -999.000,9
           NA,     A06,    161,   1,-999.0,      28,  2,19930224,0410,   7.4553,  -32.6632,  3685,    2.300,   26.159,   36.164,2,   36.166,2,  204.300,2,  202.900,2,    1.810,2,    0.100,2,    0.000,2,    0.010,2,    1.851,2, -999.000,9, -999.000,9, -999.000,9, -999.000,9
           NA,     A06,    161,   1,-999.0,      26,  2,19930224,0410,   7.4553,  -32.6632,  3685,   23.100,   26.163,   36.165,2,   36.167,2,  205.700,2,  202.800,2,    1.760,2,    0.040,2,    0.000,2,    0.010,2,    1.783,2,    0.937,2, -999.000,9, -999.000,9, -999.000,9
           NA,     A06,    161,   1,-999.0,      25,  2,19930224,0410,   7.4553,  -32.6632,  3685,   68.800,   22.994,   36.222,2, -999.000,3,  203.600,2, -999.000,3,    2.910,2,    3.690,2,    0.150,2,    0.260,2,    1.701,2,    0.900,2, -999.000,9, -999.000,9, -999.000,9
           NA,     A06,    161,   1,-999.0,      24,  2,19930224,0410,   7.4553,  -32.6632,  3685,  120.000,   12.731,   35.322,2, -999.000,3,  137.000,2,  134.200,2,    9.530,2,   21.620,2,    0.010,2,    1.310,2,    1.070,2,    0.544,2, -999.000,9, -999.000,9, -999.000,9
           NA,     A06,    161,   1,-999.0,      23,  2,19930224,0410,   7.4553,  -32.6632,  3685,  193.400,   10.522,   35.015,2,   35.012,2,  116.100,2,  118.300,2,   12.410,2,   26.580,2,    0.000,2,    1.630,2,    0.693,2,    0.343,2, -999.000,9, -999.000,9, -999.000,9
           NA,     A06,    161,   1,-999.0,      22,  2,19930224,0410,   7.4553,  -32.6632,  3685,  293.000,    9.126,   34.878,2,   34.876,2,   99.100,2,   96.500,2,   15.820,2,   31.890,2,    0.000,2,    1.930,2,    0.325,2,    0.161,2, -999.000,9, -999.000,9, -999.000,9
           NA,     A06,    161,   1,-999.0,      21,  2,19930224,0410,   7.4553,  -32.6632,  3685,  389.100,    8.421,   34.827,2, -999.000,3,   91.600,2,   89.600,2,   17.980,2,   34.310,2,    0.000,2,    2.070,2,    0.172,2,    0.080,2, -999.000,9, -999.000,9, -999.000,9
           NA,     A06,    161,   1,-999.0,      20,  2,19930224,0410,   7.4553,  -32.6632,  3685,  492.000,    7.606,   34.747,2,   34.742,2,  101.100,2,  103.800,2,   20.000,2,   34.590,2,    0.000,2,    2.130,2,    0.126,2,    0.065,2, -999.000,9, -999.000,9, -999.000,9
           NA,     A06,    161,   1,-999.0,      19,  2,19930224,0410,   7.4553,  -32.6632,  3685,  593.100,    6.921,   34.689,2,   34.688,2,  109.600,2,  107.200,2,   22.220,2,   35.320,2,    0.000,2,    2.200,2, -999.000,3,    0.034,2, -999.000,9, -999.000,9, -999.000,9
           NA,     A06,    161,   1,-999.0,      18,  2,19930224,0410,   7.4553,  -32.6632,  3685,  791.300,    5.428,   34.631,2,   34.630,2,  125.500,2,  126.200,2,   28.150,2,   35.710,2,    0.000,2,    2.280,2,    0.017,2,    0.007,2, -999.000,9, -999.000,9, -999.000,9
           NA,     A06,    161,   1,-999.0,      17,  2,19930224,0410,   7.4553,  -32.6632,  3685,  991.700,    4.974,   34.738,2,   34.738,2,  140.400,2,  142.900,2,   28.050,2,   32.850,2,    0.000,2,    2.130,2,    0.011,2,    0.002,2, -999.000,9, -999.000,9, -999.000,9
           NA,     A06,    161,   1,-999.0,      16,  2,19930224,0410,   7.4553,  -32.6632,  3685, 1193.800,    4.758,   34.874,2,   34.874,2,  178.700,2,  181.000,2,   23.790,2,   27.300,2,    0.000,2,    1.780,2,    0.022,2,    0.008,2, -999.000,9, -999.000,9, -999.000,9
           NA,     A06,    161,   1,-999.0,      15,  2,19930224,0410,   7.4553,  -32.6632,  3685, 1393.100,    4.476,   34.962,2,   34.962,2,  218.800,2,  217.600,2,   19.300,2,   22.210,2,    0.000,2,    1.480,2,    0.046,2,    0.023,2, -999.000,9, -999.000,9, -999.000,9
           NA,     A06,    161,   1,-999.0,      14,  2,19930224,0410,   7.4553,  -32.6632,  3685, 1593.700,    4.134,   34.983,2,   34.983,2,  240.200,2,  238.000,2,   17.720,2,   20.000,2,    0.000,2,    1.310,2,    0.062,2,    0.031,2, -999.000,9, -999.000,9, -999.000,9
           NA,     A06,    161,   1,-999.0,      13,  2,19930224,0410,   7.4553,  -32.6632,  3685, 1793.100,    3.905,   34.983,2,   34.983,2,  249.000,2,  246.100,2,   17.980,2,   19.280,2,    0.000,2,    1.270,2,    0.054,2,    0.034,2, -999.000,9, -999.000,9, -999.000,9
           NA,     A06,    161,   1,-999.0,      12,  2,19930224,0410,   7.4553,  -32.6632,  3685, 1892.600,    3.786,   34.978,2,   34.979,2,  249.600,2,  247.500,2,   18.710,2,   19.060,2,    0.000,2,    1.260,2,    0.049,2,    0.025,2, -999.000,9, -999.000,9, -999.000,9
           NA,     A06,    161,   1,-999.0,      11,  2,19930224,0410,   7.4553,  -32.6632,  3685, 1994.000,    3.549,   34.968,2,   34.969,2,  251.000,2,  248.700,2,   20.910,2,   19.090,2,    0.000,2,    1.280,2,    0.027,2,    0.013,2, -999.000,9, -999.000,9, -999.000,9
           NA,     A06,    161,   1,-999.0,      10,  2,19930224,0410,   7.4553,  -32.6632,  3685, 1994.000,    3.549,   34.968,2,   34.970,2,  251.000,2,  249.000,2,   20.950,2,   19.070,2,    0.000,2,    1.270,2,    0.022,2,    0.008,2, -999.000,9, -999.000,9, -999.000,9
           NA,     A06,    161,   1,-999.0,       9,  2,19930224,0410,   7.4553,  -32.6632,  3685, 2394.100,    3.107,   34.947,2,   34.947,2,  249.900,2,  249.000,2,   27.230,2,   19.460,2,    0.000,2,    1.310,2,    0.008,2,    0.000,2, -999.000,9, -999.000,9, -999.000,9
           NA,     A06,    161,   1,-999.0,       8,  2,19930224,0410,   7.4553,  -32.6632,  3685, 2593.900,    2.952,   34.938,2,   34.936,2,  251.200,2,  250.700,2,   29.240,2,   19.580,2,    0.000,2,    1.320,2,    0.011,2,    0.002,2, -999.000,9, -999.000,9, -999.000,9
           NA,     A06,    161,   1,-999.0,       6,  2,19930224,0410,   7.4553,  -32.6632,  3685, 2794.200,    2.863,   34.935,2,   34.935,2,  252.100,2,  251.900,2,   30.330,2,   19.600,2,    0.000,2,    1.320,2,    0.017,2,    0.008,2, -999.000,9, -999.000,9, -999.000,9
           NA,     A06,    161,   1,-999.0,       7,  2,19930224,0410,   7.4553,  -32.6632,  3685, 2794.600,    2.863,   34.934,2,   34.934,2,  252.100,2,  251.900,2,   30.390,2,   19.480,2,    0.000,2,    1.310,2,    0.015,2,    0.005,2, -999.000,9, -999.000,9, -999.000,9
           NA,     A06,    161,   1,-999.0,       5,  2,19930224,0410,   7.4553,  -32.6632,  3685, 2995.700,    2.755,   34.927,2,   34.924,2,  249.500,2,  252.600,2,   32.210,2,   19.720,2,    0.000,2,    1.330,2,    0.015,2,    0.006,2, -999.000,9, -999.000,9, -999.000,9
           NA,     A06,    161,   1,-999.0,       4,  2,19930224,0410,   7.4553,  -32.6632,  3685, 3194.400,    2.621,   34.916,2,   34.917,2,  253.100,2,  253.100,2,   34.760,2,   19.650,2,    0.000,2,    1.320,2,    0.011,2,    0.006,2, -999.000,9, -999.000,9, -999.000,9
           NA,     A06,    161,   1,-999.0,       3,  2,19930224,0410,   7.4553,  -32.6632,  3685, 3393.900,    2.520,   34.909,2,   34.911,2,  253.400,2,  253.500,2,   37.390,2,   19.660,2,    0.000,2,    1.350,2,    0.009,2,    0.004,2, -999.000,9, -999.000,9, -999.000,9
           NA,     A06,    161,   1,-999.0,       2,  2,19930224,0410,   7.4553,  -32.6632,  3685, 3494.400,    2.467,   34.905,2,   34.905,2,  253.600,2,  253.700,2,   38.800,2,   19.750,2,    0.000,2,    1.360,2,    0.017,2,    0.008,2, -999.000,9, -999.000,9, -999.000,9
           NA,     A06,    161,   1,-999.0,       1,  2,19930224,0410,   7.4553,  -32.6632,  3685, 3566.100,    2.446,   34.903,2,   34.905,2, -999.000,9,  253.700,2,   39.190,2,   20.010,2,    0.000,2,    1.360,2,    0.018,2,    0.004,2, -999.000,9, -999.000,9, -999.000,9