BOTTLE,20205402JOAExport
EXPOCODE,SECT_ID,STNNBR,CASTNO,SAMPNO,BTLNBR,BTLNBR_FLAG_W,DATE,TIME,LATITUDE,LONGITUDE,DEPTH,CTDPRS,CTDTMP,CTDSAL,CTDSAL_FLAG_W,SALNTY,SALNTY_FLAG_W,CTDOXY,CTDOXY_FLAG_W,OXYGEN,OXYGEN_FLAG_W,SILCAT,SILCAT_FLAG_W,NITRAT,NITRAT_FLAG_W,NITRIT,NITRIT_FLAG_W,PHSPHT,PHSPHT_FLAG_W,CFC-11,CFC-11_FLAG_W,CFC-12,CFC-12_FLAG_W,SF6,SF6_FLAG_W,TCARBN,TCARBN_FLAG_W,ALKALI,ALKALI_FLAG_W
,,,,,,,,,,,,,DB,DEG C,PSS-78,,PSS-78,,UMOL/KG,,UMOL/KG,,UMOL/KG,,UMOL/KG,,UMOL/KG,,UMOL/KG,,PMOL/KG,,PMOL/KG,,FMOL/KG,,UMOL/KG,,UMOL/KG
           NA,     A06,    142,   1,-999.0,      32,  2,19930219,0432,   7.4497,  -42.6620,  4848,    0.800,   26.676,   36.140,2,   36.143,2,  198.200,2,  200.200,2,    1.600,2,    0.110,2,    0.000,2,    0.000,2,    1.773,2,    0.942,2, -999.000,9, -999.000,3, -999.000,3
           NA,     A06,    142,   1,-999.0,      31,  2,19930219,0432,   7.4497,  -42.6620,  4848,   69.800,   26.696,   36.140,2, -999.000,3,  201.600,2,  200.400,2,    1.610,2,    0.110,2,    0.000,2,    0.010,2,    1.788,2,    0.960,2, -999.000,9, -999.000,3, -999.000,3
           NA,     A06,    142,   1,-999.0,      30,  2,19930219,0432,   7.4497,  -42.6620,  4848,  118.200,   26.422,   36.354,2, -999.000,3,  200.800,2, -999.000,3,    1.750,2,    0.590,2,    0.170,2,    0.070,2,    1.757,2,    0.943,2, -999.000,9, 2048.000,2, 2406.500,2
           NA,     A06,    142,   1,-999.0,      29,  2,19930219,0432,   7.4497,  -42.6620,  4848,  193.700,   11.673,   35.223,2, -999.000,3,  116.900,2, -999.000,3,   10.640,2,   24.710,2,    0.000,2,    1.500,2,    0.800,2,    0.403,2, -999.000,9, 2179.500,2, 2320.100,2
           NA,     A06,    142,   1,-999.0,      28,  2,19930219,0432,   7.4497,  -42.6620,  4848,  393.100,    8.035,   34.743,2,   34.743,2,  119.100,2,  123.400,2,   17.480,2,   30.500,2,    0.000,2,    1.920,2,    0.339,2,    0.164,2, -999.000,9, 2215.100,2, 2318.700,2
           NA,     A06,    142,   1,-999.0,      27,  2,19930219,0432,   7.4497,  -42.6620,  4848,  591.600,    6.935,   34.724,2,   34.729,2,  103.500,2,  102.200,2,   22.200,2,   34.690,2,    0.000,2,    2.180,2,    0.089,2,    0.049,2, -999.000,9, 2234.300,2, 2317.000,2
           NA,     A06,    142,   1,-999.0,      26,  2,19930219,0432,   7.4497,  -42.6620,  4848,  793.100,    5.363,   34.630,2,   34.629,2,  130.000,2,  130.000,2,   28.110,2,   34.430,2,    0.000,2,    2.250,2,    0.024,2,    0.008,2, -999.000,9, 2228.100,2, 2313.700,2
           NA,     A06,    142,   1,-999.0,      25,  2,19930219,0432,   7.4497,  -42.6620,  4848,  992.300,    4.916,   34.755,2,   34.756,2,  153.100,2,  153.500,2,   27.420,2,   30.870,2,    0.000,2,    2.030,2,    0.028,2,    0.012,2, -999.000,9, 2220.000,2, 2324.600,2
           NA,     A06,    142,   1,-999.0,      24,  2,19930219,0432,   7.4497,  -42.6620,  4848, 1193.300,    4.741,   34.906,2,   34.909,2,  189.000,2,  189.700,2,   22.550,2,   25.040,2,    0.000,2,    1.670,2,    0.043,2,    0.021,2, -999.000,9, 2204.900,2, 2334.900,2
           NA,     A06,    142,   1,-999.0,      23,  2,19930219,0432,   7.4497,  -42.6620,  4848, 1392.700,    4.516,   34.966,2,   34.968,2,  220.400,2,  217.500,2,   19.100,2,   21.660,2,    0.000,2,    1.460,2,    0.062,2,    0.032,2, -999.000,9, 2192.600,2, 2338.400,2
           NA,     A06,    142,   1,-999.0,      22,  2,19930219,0432,   7.4497,  -42.6620,  4848, 1493.500,    4.400,   34.992,2,   34.986,2,  233.500,2,  234.200,2,   16.880,2,   19.820,2,    0.000,2,    1.340,2,    0.118,2,    0.063,2, -999.000,9, 2173.600,2, 2327.600,2
           NA,     A06,    142,   1,-999.0,      21,  2,19930219,0432,   7.4497,  -42.6620,  4848, 1593.200,    4.272,   35.001,2,   35.004,2,  245.800,2,  243.500,2,   15.920,2,   18.330,2,    0.050,2,    1.270,2,    0.169,2,    0.081,2, -999.000,9, 2166.000,2, 2326.000,2
           NA,     A06,    142,   1,-999.0,      19,  2,19930219,0432,   7.4497,  -42.6620,  4848, 1693.500,    4.087,   34.997,2,   35.000,2,  250.300,2,  248.800,2,   15.780,2,   18.110,2,    0.000,2,    1.240,2,    0.148,2,    0.072,2, -999.000,9, 2164.700,2, -999.000,4
           NA,     A06,    142,   1,-999.0,      20,  2,19930219,0432,   7.4497,  -42.6620,  4848, 1693.500,    4.092,   34.998,2,   35.000,2,  250.300,2,  250.000,2,   15.920,2,   18.040,2,    0.000,2,    1.250,2,    0.153,2,    0.078,2, -999.000,9, 2163.900,2, 2323.400,2
           NA,     A06,    142,   1,-999.0,      18,  2,19930219,0432,   7.4497,  -42.6620,  4848, 1793.400,    3.903,   34.995,2,   34.998,2,  255.200,2,  253.700,2,   16.200,2,   17.390,2,    0.000,2,    1.220,2,    0.123,2,    0.063,2, -999.000,9, 2165.800,2, 2329.000,2
           NA,     A06,    142,   1,-999.0,      17,  2,19930219,0432,   7.4497,  -42.6620,  4848, 1993.800,    3.535,   34.977,2,   34.980,2,  257.700,2,  254.900,2,   19.270,2,   17.710,2,    0.000,2,    1.230,2,    0.051,2,    0.027,2, -999.000,9, 2169.200,2, 2336.700,2
           NA,     A06,    142,   1,-999.0,      16,  2,19930219,0432,   7.4497,  -42.6620,  4848, 2194.800,    3.331,   34.968,2,   34.971,2,  258.800,2,  257.700,2,   20.500,2,   17.680,2,    0.000,2,    1.230,2,    0.052,2,    0.031,2, -999.000,9, 2175.600,2, 2339.200,2
           NA,     A06,    142,   1,-999.0,      15,  2,19930219,0432,   7.4497,  -42.6620,  4848, 2395.000,    3.166,   34.960,2,   34.963,2,  260.500,2,  262.800,2,   21.750,2,   17.350,2,    0.000,2,    1.220,2,    0.062,2,    0.031,2, -999.000,9, -999.000,3, -999.000,4
           NA,     A06,    142,   1,-999.0,      14,  2,19930219,0432,   7.4497,  -42.6620,  4848, 2693.700,    2.964,   34.949,2,   34.949,2,  260.000,2,  259.000,2,   24.730,2,   17.540,2,    0.000,2,    1.250,2,    0.058,2,    0.030,2, -999.000,9, 2185.900,2, 2350.800,2
           NA,     A06,    142,   1,-999.0,      13,  2,19930219,0432,   7.4497,  -42.6620,  4848, 2992.900,    2.797,   34.939,2,   34.938,2,  260.800,2,  260.500,2,   26.110,2,   17.680,2,    0.000,2,    1.250,2,    0.108,2,    0.052,2, -999.000,9, 2183.900,2, 2350.500,2
           NA,     A06,    142,   1,-999.0,      12,  2,19930219,0432,   7.4497,  -42.6620,  4848, 3193.300,    2.678,   34.927,2,   34.931,2,  259.500,2,  258.900,2,   29.170,2,   18.050,2,    0.000,2,    1.270,2,    0.060,2,    0.034,2, -999.000,9, -999.000,3, -999.000,3
           NA,     A06,    142,   1,-999.0,      11,  2,19930219,0432,   7.4497,  -42.6620,  4848, 3395.000,    2.539,   34.918,2,   34.923,2,  259.400,2,  259.700,2,   31.490,2,   17.970,2,    0.000,2,    1.280,2,    0.073,2,    0.035,2, -999.000,9, 2189.400,2, -999.000,4
           NA,     A06,    142,   1,-999.0,      10,  2,19930219,0432,   7.4497,  -42.6620,  4848, 3593.300,    2.433,   34.910,2,   34.910,2,  260.400,2,  261.900,2,   33.400,2,   18.270,2,    0.000,2,    1.300,2,    0.055,2,    0.028,2, -999.000,9, 2204.700,2, 2369.400,2
           NA,     A06,    142,   1,-999.0,       9,  2,19930219,0432,   7.4497,  -42.6620,  4848, 3785.100,    2.354,   34.905,2,   34.909,2,  263.700,2,  263.000,2,   31.860,2,   17.740,2,    0.000,2,    1.260,2,    0.093,2,    0.045,2, -999.000,9, -999.000,3, -999.000,3
           NA,     A06,    142,   1,-999.0,       8,  2,19930219,0432,   7.4497,  -42.6620,  4848, 3894.600,    2.308,   34.902,2,   34.907,2,  263.800,2,  262.900,2,   32.910,2,   17.730,2,    0.000,2,    1.270,2,    0.096,2,    0.050,2, -999.000,9, 2196.100,2, 2359.900,2
           NA,     A06,    142,   1,-999.0,       7,  2,19930219,0432,   7.4497,  -42.6620,  4848, 3995.400,    2.292,   34.899,2,   34.900,2,  263.900,2,  262.500,2,   33.730,2,   17.770,2,    0.000,2,    1.270,2,    0.095,2,    0.050,2, -999.000,9, 2207.300,2, 2372.100,2
           NA,     A06,    142,   1,-999.0,       6,  2,19930219,0432,   7.4497,  -42.6620,  4848, 4094.500,    2.260,   34.894,2,   34.896,2,  262.300,2,  260.800,2,   36.480,2,   18.340,2,    0.020,2,    1.300,2,    0.063,2,    0.038,2, -999.000,9, 2209.300,2, 2372.800,2
           NA,     A06,    142,   1,-999.0,       5,  2,19930219,0432,   7.4497,  -42.6620,  4848, 4194.300,    2.223,   34.888,2,   34.891,2,  260.800,2,  259.400,2,   39.410,2,   18.700,2,    0.000,2,    1.340,2,    0.065,2,    0.037,2, -999.000,9, 2212.600,2, 2376.700,2
           NA,     A06,    142,   1,-999.0,       4,  2,19930219,0432,   7.4497,  -42.6620,  4848, 4395.000,    2.028,   34.865,2,   34.866,2,  254.800,2,  253.400,2,   50.690,2,   20.220,2,    0.000,2,    1.450,2,    0.060,2,    0.036,2, -999.000,9, -999.000,3, -999.000,3
           NA,     A06,    142,   1,-999.0,       3,  2,19930219,0432,   7.4497,  -42.6620,  4848, 4594.300,    1.673,   34.821,2,   34.825,2,  244.800,2,  243.300,2,   70.380,2,   23.510,2,    0.000,2,    1.650,2,    0.032,2,    0.020,2, -999.000,9, -999.000,3, -999.000,3
           NA,     A06,    142,   1,-999.0,       2,  2,19930219,0432,   7.4497,  -42.6620,  4848, 4793.800,    1.532,   34.802,2,   34.804,2,  239.000,2,  239.300,2,   78.960,2,   24.780,2,    0.000,2,    1.740,2,    0.041,2,    0.024,2, -999.000,9, -999.000,3, -999.000,3
           NA,     A06,    142,   1,-999.0,       1,  2,19930219,0432,   7.4497,  -42.6620,  4848, 4876.200,    1.538,   34.800,2,   34.803,2,  238.200,2,  238.700,2,   78.890,2,   24.660,2,    0.020,2,    1.740,2,    0.027,2,    0.020,2, -999.000,9, -999.000,3, -999.000,3
           NA,     A06,    143,   1,-999.0,      32,  2,19930219,1201,   7.4423,  -41.9943,  4748,    3.800,   26.483,   36.297,2,   36.299,2,  197.700,2,  200.500,2,    1.740,2,    0.090,2,    0.000,2,    0.030,2,    1.831,2,    0.981,2, -999.000,9, -999.000,9, -999.000,9
           NA,     A06,    143,   1,-999.0,      31,  2,19930219,1201,   7.4423,  -41.9943,  4748,   66.000,   26.451,   36.297,2,   36.296,2,  201.100,2,  200.500,2,    1.730,2,    0.090,2,    0.000,2,    0.040,2,    1.803,2,    0.964,2, -999.000,9, -999.000,9, -999.000,9
           NA,     A06,    143,   1,-999.0,      30,  2,19930219,1201,   7.4423,  -41.9943,  4748,  118.400,   17.011,   35.862,2, -999.000,3,  140.100,2, -999.000,3,    6.470,2,   16.810,2,    0.070,2,    0.980,2,    1.318,2,    0.668,2, -999.000,9, -999.000,9, -999.000,9
           NA,     A06,    143,   1,-999.0,      29,  2,19930219,1201,   7.4423,  -41.9943,  4748,  194.100,   11.806,   35.199,2, -999.000,3,  128.900,2,  129.700,2,   10.720,2,   22.970,2,    0.000,2,    1.440,2,    0.942,2,    0.480,2, -999.000,9, -999.000,9, -999.000,9
           NA,     A06,    143,   1,-999.0,      28,  2,19930219,1201,   7.4423,  -41.9943,  4748,  393.200,    8.225,   34.782,2,   34.778,2,  110.500,2,  109.100,2,   17.830,2,   31.990,2,    0.000,2,    1.960,2,    0.262,2,    0.133,2, -999.000,9, -999.000,9, -999.000,9
           NA,     A06,    143,   1,-999.0,      27,  2,19930219,1201,   7.4423,  -41.9943,  4748,  592.300,    6.629,   34.675,2,   34.675,2,  112.800,2,  110.400,2,   23.590,2,   34.920,2,    0.000,2,    2.200,2,    0.058,2,    0.037,2, -999.000,9, -999.000,9, -999.000,9
           NA,     A06,    143,   1,-999.0,      26,  2,19930219,1201,   7.4423,  -41.9943,  4748,  792.700,    5.363,   34.634,2,   34.633,2,  130.400,2,  129.500,2,   28.590,2,   34.910,2,    0.000,2,    2.250,2,    0.013,2,    0.007,2, -999.000,9, -999.000,9, -999.000,9
           NA,     A06,    143,   1,-999.0,      25,  2,19930219,1201,   7.4423,  -41.9943,  4748,  992.300,    4.886,   34.732,2,   34.732,2,  151.300,2,  151.500,2,   28.300,2,   31.930,2,    0.000,2,    2.080,2,    0.005,2,    0.002,2, -999.000,9, -999.000,9, -999.000,9
           NA,     A06,    143,   1,-999.0,      24,  2,19930219,1201,   7.4423,  -41.9943,  4748, 1192.600,    4.787,   34.892,2,   34.891,2,  182.200,2,  185.200,2,   23.290,2,   26.470,2,    0.000,2,    1.720,2,    0.026,2,    0.012,2, -999.000,9, -999.000,9, -999.000,9
           NA,     A06,    143,   1,-999.0,      23,  2,19930219,1201,   7.4423,  -41.9943,  4748, 1393.100,    4.551,   34.971,2,   34.971,2,  219.700,2,  218.300,2,   19.020,2,   22.370,2,    0.000,2,    1.440,2,    0.061,2,    0.033,2, -999.000,9, -999.000,9, -999.000,9
           NA,     A06,    143,   1,-999.0,      22,  2,19930219,1201,   7.4423,  -41.9943,  4748, 1493.800,    4.354,   34.985,2,   34.987,2,  233.100,2,  231.600,2,   17.660,2,   20.940,2,    0.000,2,    1.340,2,    0.074,2,    0.043,2, -999.000,9, -999.000,9, -999.000,9
           NA,     A06,    143,   1,-999.0,      21,  2,19930219,1201,   7.4423,  -41.9943,  4748, 1592.900,    4.229,   34.996,2,   34.997,2,  243.400,2,  242.400,2,   16.690,2,   19.520,2,    0.000,2,    1.270,2,    0.109,2,    0.058,2, -999.000,9, -999.000,9, -999.000,9
           NA,     A06,    143,   1,-999.0,      20,  2,19930219,1201,   7.4423,  -41.9943,  4748, 1694.300,    4.053,   34.993,2,   34.994,2,  249.300,2,  247.700,2,   16.790,2,   19.260,2,    0.000,2,    1.240,2,    0.089,2,    0.050,2, -999.000,9, -999.000,9, -999.000,9
           NA,     A06,    143,   1,-999.0,      19,  2,19930219,1201,   7.4423,  -41.9943,  4748, 1793.800,    3.887,   34.987,2,   34.992,2,  252.200,2,  249.600,2,   17.550,2,   19.220,2,    0.000,2,    1.230,2,    0.079,2,    0.042,2, -999.000,9, -999.000,9, -999.000,9
           NA,     A06,    143,   1,-999.0,      18,  2,19930219,1201,   7.4423,  -41.9943,  4748, 1994.700,    3.629,   34.981,2,   34.984,2,  258.100,2,  255.600,2,   18.370,2,   18.570,2,    0.000,2,    1.200,2,    0.062,2,    0.028,2, -999.000,9, -999.000,9, -999.000,9
           NA,     A06,    143,   1,-999.0,      17,  2,19930219,1201,   7.4423,  -41.9943,  4748, 2194.000,    3.360,   34.970,2,   34.973,2,  258.700,2,  257.400,2,   20.690,2,   18.580,2,    0.000,2,    1.210,2,    0.044,2,    0.018,2, -999.000,9, -999.000,9, -999.000,9
           NA,     A06,    143,   1,-999.0,      16,  2,19930219,1201,   7.4423,  -41.9943,  4748, 2394.200,    3.145,   34.956,2,   34.957,2,  256.700,2,  255.800,2,   24.300,2,   18.980,2,    0.000,2,    1.240,2,    0.034,2,    0.016,2, -999.000,9, -999.000,9, -999.000,9
           NA,     A06,    143,   1,-999.0,      15,  2,19930219,1201,   7.4423,  -41.9943,  4748, 2694.200,    2.983,   34.950,2,   34.950,2,  260.600,2,  259.400,2,   24.630,2,   18.640,2,    0.000,2,    1.230,2,    0.053,2,    0.023,2, -999.000,9, -999.000,9, -999.000,9
           NA,     A06,    143,   1,-999.0,      14,  2,19930219,1201,   7.4423,  -41.9943,  4748, 2994.300,    2.803,   34.934,2,   34.935,2,  258.500,2,  256.800,2,   29.780,2,   19.210,2,    0.000,2,    1.280,2,    0.045,2,    0.022,2, -999.000,9, -999.000,9, -999.000,9
           NA,     A06,    143,   1,-999.0,      13,  2,19930219,1201,   7.4423,  -41.9943,  4748, 3195.100,    2.669,   34.926,2,   34.929,2,  258.900,2,  258.300,2,   30.740,2,   19.240,2,    0.000,2,    1.270,2,    0.046,2,    0.020,2, -999.000,9, -999.000,9, -999.000,9
           NA,     A06,    143,   1,-999.0,      12,  2,19930219,1201,   7.4423,  -41.9943,  4748, 3394.300,    2.553,   34.918,2,   34.919,2,  260.300,2,  259.600,2,   31.700,2,   19.150,2,    0.000,2,    1.270,2,    0.088,2,    0.040,2, -999.000,9, -999.000,9, -999.000,9
           NA,     A06,    143,   1,-999.0,      11,  2,19930219,1201,   7.4423,  -41.9943,  4748, 3394.900,    2.550,   34.919,2,   34.920,2,  260.300,2,  259.900,2,   31.600,2,   19.070,2,    0.000,2,    1.270,2,    0.078,2,    0.038,2, -999.000,9, -999.000,9, -999.000,9
           NA,     A06,    143,   1,-999.0,      10,  2,19930219,1201,   7.4423,  -41.9943,  4748, 3594.800,    2.417,   34.910,2,   34.912,2,  262.800,2,  262.700,2,   31.700,2,   18.720,2,    0.000,2,    1.250,2,    0.076,2,    0.037,2, -999.000,9, -999.000,9, -999.000,9
           NA,     A06,    143,   1,-999.0,       9,  2,19930219,1201,   7.4423,  -41.9943,  4748, 3794.900,    2.327,   34.903,2,   34.904,2,  263.700,2,  263.200,2,   33.020,2,   18.810,2,    0.000,2,    1.250,2,    0.079,2,    0.042,2, -999.000,9, -999.000,9, -999.000,9
           NA,     A06,    143,   1,-999.0,       8,  2,19930219,1201,   7.4423,  -41.9943,  4748, 3895.200,    2.287,   34.898,2,   34.898,2,  263.100,2,  262.600,2,   34.580,2,   18.970,2,    0.000,2,    1.270,2,    0.077,2,    0.046,2, -999.000,9, -999.000,9, -999.000,9
           NA,     A06,    143,   1,-999.0,       7,  2,19930219,1201,   7.4423,  -41.9943,  4748, 3994.800,    2.255,   34.897,2,   34.895,2,  262.600,2,  262.200,2,   35.330,2,   18.940,2,    0.000,2,    1.280,2,    0.077,2,    0.039,2, -999.000,9, -999.000,9, -999.000,9
           NA,     A06,    143,   1,-999.0,       6,  2,19930219,1201,   7.4423,  -41.9943,  4748, 4094.900,    2.227,   34.892,2,   34.894,2,  262.600,2,  262.000,2,   36.650,2,   19.240,2,    0.000,2,    1.300,2,    0.084,2,    0.041,2, -999.000,9, -999.000,9, -999.000,9
           NA,     A06,    143,   1,-999.0,       5,  2,19930219,1201,   7.4423,  -41.9943,  4748, 4193.900,    2.201,   34.888,2,   34.889,2,  261.500,2,  260.600,2,   38.720,2,   19.520,2,    0.000,2,    1.330,2,    0.095,2,    0.046,2, -999.000,9, -999.000,9, -999.000,9
           NA,     A06,    143,   1,-999.0,       4,  2,19930219,1201,   7.4423,  -41.9943,  4748, 4393.700,    1.947,   34.855,2,   34.857,2,  253.700,2,  251.600,2,   53.900,2,   21.840,2,    0.000,2,    1.480,2,    0.042,2,    0.018,2, -999.000,9, -999.000,9, -999.000,9
           NA,     A06,    143,   1,-999.0,       3,  2,19930219,1201,   7.4423,  -41.9943,  4748, 4594.600,    1.567,   34.807,2,   34.810,2,  242.300,2,  241.500,2,   76.650,2,   25.020,2,    0.020,2,    1.700,2,    0.054,2,    0.023,2, -999.000,9, -999.000,9, -999.000,9
           NA,     A06,    143,   1,-999.0,       2,  2,19930219,1201,   7.4423,  -41.9943,  4748, 4694.500,    1.545,   34.803,2,   34.807,2,  240.000,2,  240.000,2,   77.830,2,   25.210,2,    0.000,2,    1.720,2,    0.026,2,    0.015,2, -999.000,9, -999.000,9, -999.000,9
           NA,     A06,    143,   1,-999.0,       1,  2,19930219,1201,   7.4423,  -41.9943,  4748, 4781.500,    1.522,   34.801,2,   34.803,2,  237.300,2,  239.300,2,   80.070,2,   25.610,2,    0.000,2,    1.750,2,    0.021,2,    0.012,2, -999.000,9, -999.000,9, -999.000,9