BOTTLE,20205402JOAExport
EXPOCODE,SECT_ID,STNNBR,CASTNO,SAMPNO,BTLNBR,BTLNBR_FLAG_W,DATE,TIME,LATITUDE,LONGITUDE,DEPTH,CTDPRS,CTDTMP,CTDSAL,CTDSAL_FLAG_W,SALNTY,SALNTY_FLAG_W,CTDOXY,CTDOXY_FLAG_W,OXYGEN,OXYGEN_FLAG_W,SILCAT,SILCAT_FLAG_W,NITRAT,NITRAT_FLAG_W,NITRIT,NITRIT_FLAG_W,PHSPHT,PHSPHT_FLAG_W,CFC-11,CFC-11_FLAG_W,CFC-12,CFC-12_FLAG_W,SF6,SF6_FLAG_W,TCARBN,TCARBN_FLAG_W,ALKALI,ALKALI_FLAG_W
,,,,,,,,,,,,,DB,DEG C,PSS-78,,PSS-78,,UMOL/KG,,UMOL/KG,,UMOL/KG,,UMOL/KG,,UMOL/KG,,UMOL/KG,,PMOL/KG,,PMOL/KG,,FMOL/KG,,UMOL/KG,,UMOL/KG
           NA,     A06,    180,   1,-999.0,      30,  2,19930301,0444,   7.5840,  -22.0002,  3182,    2.500,   26.896,   36.127,2,   36.126,2,  202.600,2,  201.800,2,    1.780,2,    0.060,2,    0.000,2,    0.000,2,    1.774,2,    1.068,2, -999.000,9, 2022.100,2, 2420.800,2
           NA,     A06,    180,   1,-999.0,      29,  2,19930301,0444,   7.5840,  -22.0002,  3182,   44.700,   22.816,   36.127,2, -999.000,3,  208.400,2, -999.000,3,    3.110,2,    1.060,2,    0.080,2,    0.190,2,    1.622,2,    0.861,2, -999.000,9, 2105.700,2, 2425.400,2
           NA,     A06,    180,   1,-999.0,      28,  2,19930301,0444,   7.5840,  -22.0002,  3182,  118.700,   14.095,   35.439,2, -999.000,3,  101.000,2,   98.300,2,    8.380,2,   22.620,2,    0.000,2,    1.400,2,    1.059,2,    0.529,2, -999.000,9, 2211.800,2, 2374.800,2
           NA,     A06,    180,   1,-999.0,      27,  2,19930301,0444,   7.5840,  -22.0002,  3182,  193.400,   12.418,   35.235,2, -999.000,3,   85.100,2, -999.000,3,   10.170,2,   25.380,2,    0.000,2,    1.560,2,    0.763,2,    0.380,2, -999.000,9, 2232.500,2, 2372.300,2
           NA,     A06,    180,   1,-999.0,      26,  2,19930301,0444,   7.5840,  -22.0002,  3182,  292.800,   11.094,   35.115,2, -999.000,3,   70.900,2,   69.300,2,   13.040,2,   30.790,2,    0.000,2,    1.850,2,    0.407,2,    0.203,2, -999.000,9, 2244.200,2, 2350.100,2
           NA,     A06,    180,   1,-999.0,      25,  2,19930301,0444,   7.5840,  -22.0002,  3182,  393.100,    9.679,   35.000,2,   34.997,2,   54.900,2,   57.500,2,   16.030,2,   34.540,2,    0.000,2,    2.070,2,    0.185,2,    0.099,2, -999.000,9, 2270.000,2, 2353.300,2
           NA,     A06,    180,   1,-999.0,      23,  2,19930301,0444,   7.5840,  -22.0002,  3182,  592.400,    6.650,   34.674,2,   34.672,2,   99.600,2,  101.200,2,   23.580,2,   36.030,2,    0.000,2,    2.290,2,    0.051,2,    0.025,2, -999.000,9, -999.000,3, -999.000,3
           NA,     A06,    180,   1,-999.0,      24,  2,19930301,0444,   7.5840,  -22.0002,  3182,  592.500,    6.660,   34.674,2,   34.672,2,  100.000,2,  101.200,2,   23.660,2,   36.190,2,    0.000,2,    2.280,2, -999.000,9, -999.000,9, -999.000,9, 2277.100,2, 2359.700,2
           NA,     A06,    180,   1,-999.0,      22,  2,19930301,0444,   7.5840,  -22.0002,  3182,  792.500,    5.535,   34.651,2,   34.646,2,  109.300,2,  112.500,2,   28.300,2,   36.520,2,    0.000,2,    2.350,2,    0.011,2,    0.003,2, -999.000,9, 2273.800,2, 2357.800,2
           NA,     A06,    180,   1,-999.0,      21,  2,19930301,0444,   7.5840,  -22.0002,  3182,  992.800,    4.968,   34.747,2,   34.743,2,  137.200,2,  139.900,2,   28.480,2,   32.830,2,    0.000,2,    2.170,2,    0.005,2,   -0.001,2, -999.000,9, 2244.100,2, 2343.100,2
           NA,     A06,    180,   1,-999.0,      20,  2,19930301,0444,   7.5840,  -22.0002,  3182, 1093.100,    4.823,   34.788,2,   34.785,2,  146.100,2, -999.000,3,   27.780,2,   30.720,2,    0.000,2,    2.060,2,    0.003,2,    0.001,2, -999.000,9, -999.000,3, -999.000,3
           NA,     A06,    180,   1,-999.0,      19,  2,19930301,0444,   7.5840,  -22.0002,  3182, 1192.500,    4.729,   34.836,2,   34.833,2,  161.200,2,  162.700,2,   26.440,2,   29.410,2,    0.000,2,    1.950,2, -999.000,9, -999.000,9, -999.000,9, -999.000,3, -999.000,3
           NA,     A06,    180,   1,-999.0,      18,  2,19930301,0444,   7.5840,  -22.0002,  3182, 1292.400,    4.517,   34.882,2,   34.881,2,  180.600,2,  181.300,2,   24.710,2,   26.810,2,    0.000,2,    1.810,2,    0.011,2,    0.005,2, -999.000,9, 2232.300,2, 2361.100,2
           NA,     A06,    180,   1,-999.0,      17,  2,19930301,0444,   7.5840,  -22.0002,  3182, 1392.900,    4.289,   34.919,2,   34.918,2,  199.100,2,  198.800,2,   23.330,2,   24.540,2,    0.000,2,    1.660,2,    0.001,2,    0.001,2, -999.000,9, 2209.200,2, 2347.100,2
           NA,     A06,    180,   1,-999.0,      16,  2,19930301,0444,   7.5840,  -22.0002,  3182, 1492.800,    4.151,   34.934,2,   34.933,2,  212.800,2,  209.700,2,   22.720,2,   23.190,2,    0.000,2,    1.580,2,    0.004,2,    0.000,2, -999.000,9, 2206.100,2, 2351.400,2
           NA,     A06,    180,   1,-999.0,      15,  2,19930301,0444,   7.5840,  -22.0002,  3182, 1592.900,    3.973,   34.945,2,   34.945,2,  222.700,2,  220.300,2,   22.450,2,   22.090,2,    0.000,2,    1.500,2,    0.001,2,    0.001,2, -999.000,9, 2202.800,2, 2353.800,2
           NA,     A06,    180,   1,-999.0,      14,  2,19930301,0444,   7.5840,  -22.0002,  3182, 1693.300,    3.776,   34.953,2,   34.955,2,  230.700,2,  228.500,2,   22.820,2,   21.180,2,    0.000,2,    1.450,2,    0.006,2,   -0.001,2, -999.000,9, -999.000,3, -999.000,3
           NA,     A06,    180,   1,-999.0,      13,  2,19930301,0444,   7.5840,  -22.0002,  3182, 1793.300,    3.641,   34.953,2,   34.955,2,  235.400,2,  233.300,2,   23.700,2,   20.620,2,    0.000,2,    1.420,2,    0.015,2,    0.004,2, -999.000,9, 2196.100,2, 2356.000,2
           NA,     A06,    180,   1,-999.0,      12,  2,19930301,0444,   7.5840,  -22.0002,  3182, 1892.800,    3.501,   34.951,2,   34.955,2,  237.500,2,  236.300,2,   24.980,2,   20.670,2,    0.000,2,    1.410,2, -999.000,9, -999.000,9, -999.000,9, 2210.500,2, 2372.500,2
           NA,     A06,    180,   1,-999.0,      11,  2,19930301,0444,   7.5840,  -22.0002,  3182, 1993.600,    3.354,   34.949,2,   34.952,2,  240.100,2,  239.100,2,   26.380,2,   20.280,2,    0.000,2,    1.400,2,    0.001,2,   -0.002,2, -999.000,9, 2205.300,2, 2367.400,2
           NA,     A06,    180,   1,-999.0,      10,  2,19930301,0444,   7.5840,  -22.0002,  3182, 2093.900,    3.305,   34.949,2,   34.952,2,  242.200,2,  241.200,2,   26.410,2,   20.300,2,    0.000,2,    1.380,2, -999.000,9, -999.000,9, -999.000,9, 2206.100,2, 2372.000,2
           NA,     A06,    180,   1,-999.0,       9,  2,19930301,0444,   7.5840,  -22.0002,  3182, 2193.600,    3.241,   34.948,2,   34.951,2,  242.800,2,  241.800,2,   27.470,2,   20.070,2,    0.000,2,    1.390,2,   -0.004,2,   -0.001,2, -999.000,9, 2210.700,2, 2376.400,2
           NA,     A06,    180,   1,-999.0,       8,  2,19930301,0444,   7.5840,  -22.0002,  3182, 2394.400,    3.001,   34.941,2,   34.939,2,  244.100,2,  243.700,2,   30.710,2,   20.190,2,    0.000,2,    1.380,2, -999.000,9, -999.000,9, -999.000,9, 2208.200,2, 2373.700,2
           NA,     A06,    180,   1,-999.0,       7,  2,19930301,0444,   7.5840,  -22.0002,  3182, 2594.300,    2.839,   34.932,2,   34.932,2,  245.700,2,  245.300,2,   33.730,2,   20.190,2,    0.000,2,    1.390,2,    0.005,2,   -0.002,2, -999.000,9, 2209.400,2, 2375.900,2
           NA,     A06,    180,   1,-999.0,       6,  2,19930301,0444,   7.5840,  -22.0002,  3182, 2794.700,    2.725,   34.923,2, -999.000,3,  245.600,2,  245.200,2,   36.210,2,   20.340,2,    0.000,2,    1.400,2, -999.000,9, -999.000,9, -999.000,9, -999.000,3, -999.000,3
           NA,     A06,    180,   1,-999.0,       4,  2,19930301,0444,   7.5840,  -22.0002,  3182, 2994.500,    2.637,   34.916,2,   34.919,2,  245.200,2,  244.800,2,   38.150,2,   20.740,2,    0.000,2,    1.410,2,    0.006,2,    0.003,2, -999.000,9, 2203.800,2, 2369.500,2
           NA,     A06,    180,   1,-999.0,       5,  2,19930301,0444,   7.5840,  -22.0002,  3182, 2994.500,    2.637,   34.918,2,   34.919,2,  245.200,2,  245.200,2,   38.040,2,   20.740,2,    0.000,2,    1.400,2,    0.000,2,    0.001,2, -999.000,9, -999.000,3, -999.000,3
           NA,     A06,    180,   1,-999.0,       3,  2,19930301,0444,   7.5840,  -22.0002,  3182, 3094.500,    2.606,   34.914,2,   34.915,2,  245.100,2,  244.900,2,   39.260,2,   20.700,2,    0.000,2,    1.410,2, -999.000,9, -999.000,9, -999.000,9, -999.000,3, -999.000,3
           NA,     A06,    180,   1,-999.0,       2,  2,19930301,0444,   7.5840,  -22.0002,  3182, 3194.900,    2.584,   34.912,2,   34.914,2,  242.900,2,  244.300,2,   39.700,2,   20.940,2,    0.000,2,    1.410,2,    0.012,2,    0.000,2, -999.000,9, -999.000,3, -999.000,3
           NA,     A06,    180,   1,-999.0,       1,  2,19930301,0444,   7.5840,  -22.0002,  3182, 3222.900,    2.576,   34.912,2, -999.000,3,  241.900,2,  244.000,2,   40.500,2,   20.830,2,    0.000,2,    1.420,2, -999.000,3,    0.002,2, -999.000,9, 2215.300,2, 2381.900,2
           NA,     A06,    181,   1,-999.0,      28,  2,19930301,0953,   7.5838,  -21.5000,  3323,    2.200,   26.931,   36.062,2,   36.062,2,  194.100,2, -999.000,3,    1.850,2,    0.040,2,    0.000,2,    0.000,2,    1.778,2,    0.973,2, -999.000,9, -999.000,9, -999.000,9
           NA,     A06,    181,   1,-999.0,      27,  2,19930301,0953,   7.5838,  -21.5000,  3323,   44.300,   23.035,   36.061,2, -999.000,3,  202.200,2, -999.000,3,    3.000,2,    1.120,2,    0.160,2,    0.190,2,    1.621,2,    0.857,2, -999.000,9, -999.000,9, -999.000,9
           NA,     A06,    181,   1,-999.0,      26,  2,19930301,0953,   7.5838,  -21.5000,  3323,  119.000,   13.859,   35.409,2,   35.406,2,  102.500,2,   99.000,2,    8.850,2,   22.440,2,    0.010,2,    1.420,2,    1.033,2,    0.530,2, -999.000,9, -999.000,9, -999.000,9
           NA,     A06,    181,   1,-999.0,      24,  2,19930301,0953,   7.5838,  -21.5000,  3323,  193.800,   12.733,   35.272,2,   35.266,2,   89.300,2,   84.200,2,   10.340,2,   25.790,2,    0.000,2,    1.620,2,    0.746,2,    0.381,2, -999.000,9, -999.000,9, -999.000,9
           NA,     A06,    181,   1,-999.0,      25,  2,19930301,0953,   7.5838,  -21.5000,  3323,  194.500,   12.683,   35.265,2,   35.267,2,   89.300,2,   85.200,2,   10.330,2,   25.790,2,    0.000,2,    1.610,2,    0.753,2,    0.387,2, -999.000,9, -999.000,9, -999.000,9
           NA,     A06,    181,   1,-999.0,      23,  2,19930301,0953,   7.5838,  -21.5000,  3323,  293.400,   11.581,   35.154,2,   35.149,2,   73.900,2,   74.200,2,   12.360,2,   29.320,2,    0.000,2,    1.790,2,    0.495,2,    0.245,2, -999.000,9, -999.000,9, -999.000,9
           NA,     A06,    181,   1,-999.0,      22,  2,19930301,0953,   7.5838,  -21.5000,  3323,  393.000,    9.955,   35.026,2,   35.021,2,   54.900,2,   54.900,2,   16.030,2,   35.470,2,    0.000,2,    2.070,2,    0.195,2,    0.094,2, -999.000,9, -999.000,9, -999.000,9
           NA,     A06,    181,   1,-999.0,      21,  2,19930301,0953,   7.5838,  -21.5000,  3323,  592.800,    7.077,   34.734,2,   34.734,2,   75.000,2, -999.000,3,   23.130,2,   38.820,2,    0.000,2,    2.350,2,    0.032,2,    0.012,2, -999.000,9, -999.000,9, -999.000,9
           NA,     A06,    181,   1,-999.0,      20,  2,19930301,0953,   7.5838,  -21.5000,  3323,  793.100,    5.730,   34.664,2,   34.660,2,  100.600,2,  102.900,2,   28.120,2,   38.850,2,    0.000,2,    2.410,2,    0.001,2,    0.000,2, -999.000,9, -999.000,9, -999.000,9
           NA,     A06,    181,   1,-999.0,      19,  2,19930301,0953,   7.5838,  -21.5000,  3323,  992.600,    5.007,   34.732,2,   34.731,2,  133.400,2,  137.500,2,   29.040,2,   34.760,2,    0.000,2,    2.210,2,    0.001,2,   -0.002,2, -999.000,9, -999.000,9, -999.000,9
           NA,     A06,    181,   1,-999.0,      18,  2,19930301,0953,   7.5838,  -21.5000,  3323, 1092.300,    4.844,   34.786,2,   34.786,2,  144.400,2, -999.000,3,   27.950,2,   32.730,2,    0.000,2,    2.070,2,    0.001,2,   -0.002,2, -999.000,9, -999.000,9, -999.000,9
           NA,     A06,    181,   1,-999.0,      17,  2,19930301,0953,   7.5838,  -21.5000,  3323, 1192.700,    4.692,   34.843,2,   34.842,2,  160.200,2, -999.000,3,   26.460,2,   30.640,2,    0.000,2,    1.930,2,   -0.001,2,    0.000,2, -999.000,9, -999.000,9, -999.000,9
           NA,     A06,    181,   1,-999.0,      16,  2,19930301,0953,   7.5838,  -21.5000,  3323, 1294.000,    4.467,   34.897,2,   34.896,2,  181.100,2, -999.000,3,   24.470,2,   27.520,2,    0.000,2,    1.750,2,    0.001,2,    0.001,2, -999.000,9, -999.000,9, -999.000,9
           NA,     A06,    181,   1,-999.0,      15,  2,19930301,0953,   7.5838,  -21.5000,  3323, 1394.400,    4.315,   34.917,2,   34.917,2,  196.100,2,  198.900,2,   23.770,2,   26.300,2,    0.000,2,    1.660,2,    0.002,2,   -0.001,2, -999.000,9, -999.000,9, -999.000,9
           NA,     A06,    181,   1,-999.0,      14,  2,19930301,0953,   7.5838,  -21.5000,  3323, 1492.900,    4.152,   34.937,2,   34.936,2,  210.400,2,  212.100,2,   22.810,2,   24.820,2,    0.000,2,    1.560,2,    0.002,2,   -0.001,2, -999.000,9, -999.000,9, -999.000,9
           NA,     A06,    181,   1,-999.0,      13,  2,19930301,0953,   7.5838,  -21.5000,  3323, 1592.300,    3.994,   34.947,2,   34.945,2,  220.200,2,  220.500,2,   22.720,2,   24.010,2,    0.000,2,    1.510,2,   -0.001,2,    0.000,2, -999.000,9, -999.000,9, -999.000,9
           NA,     A06,    181,   1,-999.0,      12,  2,19930301,0953,   7.5838,  -21.5000,  3323, 1692.700,    3.918,   34.949,2,   34.946,2,  224.700,2,  223.500,2,   22.880,2,   23.620,2,    0.000,2,    1.490,2,    0.002,2,   -0.002,2, -999.000,9, -999.000,9, -999.000,9
           NA,     A06,    181,   1,-999.0,      11,  2,19930301,0953,   7.5838,  -21.5000,  3323, 1792.800,    3.721,   34.953,2,   34.951,2,  232.100,2,  230.600,2,   23.460,2,   22.920,2,    0.000,2,    1.450,2,    0.000,2,   -0.002,2, -999.000,9, -999.000,9, -999.000,9
           NA,     A06,    181,   1,-999.0,      10,  2,19930301,0953,   7.5838,  -21.5000,  3323, 1893.500,    3.537,   34.952,2,   34.952,2,  237.000,2,  237.000,2,   24.610,2,   22.470,2,    0.000,2,    1.410,2,    0.003,2,   -0.001,2, -999.000,9, -999.000,9, -999.000,9
           NA,     A06,    181,   1,-999.0,       9,  2,19930301,0953,   7.5838,  -21.5000,  3323, 1993.400,    3.461,   34.952,2,   34.952,2,  239.900,2,  237.800,2,   25.130,2,   22.210,2,    0.000,2,    1.400,2,    0.000,2,   -0.002,2, -999.000,9, -999.000,9, -999.000,9
           NA,     A06,    181,   1,-999.0,       8,  2,19930301,0953,   7.5838,  -21.5000,  3323, 2194.100,    3.281,   34.947,2,   34.947,2,  242.100,2,  240.700,2,   27.170,2,   22.290,2,    0.000,2,    1.390,2,   -0.004,2,    0.000,2, -999.000,9, -999.000,9, -999.000,9
           NA,     A06,    181,   1,-999.0,       7,  2,19930301,0953,   7.5838,  -21.5000,  3323, 2394.600,    3.080,   34.942,2,   34.941,2,  243.900,2,  243.200,2,   29.900,2,   22.180,2,    0.000,2,    1.390,2,   -0.001,2,    0.000,2, -999.000,9, -999.000,9, -999.000,9
           NA,     A06,    181,   1,-999.0,       6,  2,19930301,0953,   7.5838,  -21.5000,  3323, 2595.500,    2.868,   34.933,2,   34.929,2,  245.900,2,  245.000,2,   32.720,2,   22.140,2,    0.000,2,    1.380,2,    0.002,2,   -0.001,2, -999.000,9, -999.000,9, -999.000,9
           NA,     A06,    181,   1,-999.0,       5,  2,19930301,0953,   7.5838,  -21.5000,  3323, 2794.500,    2.765,   34.927,2,   34.926,2,  246.000,2,  245.700,2,   35.070,2,   22.320,2,    0.000,2,    1.400,2,   -0.001,2,   -0.002,2, -999.000,9, -999.000,9, -999.000,9
           NA,     A06,    181,   1,-999.0,       4,  2,19930301,0953,   7.5838,  -21.5000,  3323, 2995.000,    2.692,   34.920,2,   34.921,2,  245.600,2,  245.900,2,   37.180,2,   22.370,2,    0.000,2,    1.400,2,    0.001,2,   -0.001,2, -999.000,9, -999.000,9, -999.000,9
           NA,     A06,    181,   1,-999.0,       3,  2,19930301,0953,   7.5838,  -21.5000,  3323, 3196.200,    2.578,   34.913,2,   34.910,2,  244.600,2,  244.600,2,   39.960,2,   22.850,2,    0.000,2,    1.420,2,   -0.001,2,    0.000,2, -999.000,9, -999.000,9, -999.000,9
           NA,     A06,    181,   1,-999.0,       2,  2,19930301,0953,   7.5838,  -21.5000,  3323, 3348.500,    2.517,   34.907,2,   34.906,2,  242.900,2,  245.100,2,   41.440,2,   22.910,2,    0.000,2,    1.420,2,    0.002,2,    0.000,2, -999.000,9, -999.000,9, -999.000,9
           NA,     A06,    181,   1,-999.0,       1,  2,19930301,0953,   7.5838,  -21.5000,  3323, 3349.500,    2.517,   34.908,2,   34.906,2,  242.800,2,  244.400,2,   41.680,2,   22.810,2,    0.000,2,    1.430,2,    0.001,2,    0.000,2, -999.000,9, -999.000,9, -999.000,9