BOTTLE,20205402JOAExport
EXPOCODE,SECT_ID,STNNBR,CASTNO,SAMPNO,BTLNBR,BTLNBR_FLAG_W,DATE,TIME,LATITUDE,LONGITUDE,DEPTH,CTDPRS,CTDTMP,CTDSAL,CTDSAL_FLAG_W,SALNTY,SALNTY_FLAG_W,CTDOXY,CTDOXY_FLAG_W,OXYGEN,OXYGEN_FLAG_W,SILCAT,SILCAT_FLAG_W,NITRAT,NITRAT_FLAG_W,NITRIT,NITRIT_FLAG_W,PHSPHT,PHSPHT_FLAG_W,CFC-11,CFC-11_FLAG_W,CFC-12,CFC-12_FLAG_W,SF6,SF6_FLAG_W,TCARBN,TCARBN_FLAG_W,ALKALI,ALKALI_FLAG_W
,,,,,,,,,,,,,DB,DEG C,PSS-78,,PSS-78,,UMOL/KG,,UMOL/KG,,UMOL/KG,,UMOL/KG,,UMOL/KG,,UMOL/KG,,PMOL/KG,,PMOL/KG,,FMOL/KG,,UMOL/KG,,UMOL/KG
           NA,     A06,    188,   1,-999.0,      32,  2,19930303,0040,   7.5843,  -18.0025,  4842,    1.400,   26.917,   35.878,2,   35.880,2,  193.900,2, -999.000,3,    1.970,2,    0.140,2,    0.000,2,    0.000,2,    1.809,2,    0.986,2, -999.000,9, -999.000,3, -999.000,3
           NA,     A06,    188,   1,-999.0,      31,  2,19930303,0040,   7.5843,  -18.0025,  4842,   23.800,   26.921,   35.881,2, -999.000,3,  196.500,2, -999.000,3,    1.970,2,    0.190,2,    0.000,2,    0.000,2,    1.793,2,    0.964,2, -999.000,9, -999.000,3, -999.000,3
           NA,     A06,    188,   1,-999.0,      30,  2,19930303,0040,   7.5843,  -18.0025,  4842,   43.300,   19.001,   35.804,2, -999.000,3,  169.200,2,  167.200,2,    3.400,2,    1.820,2,    0.050,2,    0.270,2,    1.422,2,    0.730,2, -999.000,9, 2100.100,2, 2370.100,2
           NA,     A06,    188,   1,-999.0,      29,  2,19930303,0040,   7.5843,  -18.0025,  4842,   69.200,   15.955,   35.610,2, -999.000,3,   69.200,2,   67.700,2,    7.550,2,   22.380,2,    0.130,2,    1.440,2,    1.146,2,    0.577,2, -999.000,9, 2197.000,2, 2341.000,2
           NA,     A06,    188,   1,-999.0,      28,  2,19930303,0040,   7.5843,  -18.0025,  4842,   69.300,   15.707,   35.564,2, -999.000,3,   69.200,2,   67.600,2,    7.490,2,   22.150,2,    0.130,2,    1.450,2,    1.143,2,    0.573,2, -999.000,9, 2213.600,2, -999.000,4
           NA,     A06,    188,   1,-999.0,      27,  2,19930303,0040,   7.5843,  -18.0025,  4842,   92.800,   14.949,   35.524,2,   35.528,2,   68.000,2,   69.200,2,    8.450,2,   22.820,2,    0.020,2,    1.520,2,    1.049,2,    0.539,2, -999.000,9, 2218.100,2, -999.000,4
           NA,     A06,    188,   1,-999.0,      26,  2,19930303,0040,   7.5843,  -18.0025,  4842,  192.600,   12.937,   35.294,2,   35.296,2,   81.200,2,   81.200,2,   10.230,2,   24.220,2,    0.000,2,    1.600,2,    0.742,2,    0.380,2, -999.000,9, 2204.800,2, 2334.000,2
           NA,     A06,    188,   1,-999.0,      25,  2,19930303,0040,   7.5843,  -18.0025,  4842,  392.300,    9.250,   34.939,2,   34.938,2,   54.500,2,   59.700,2,   17.760,2,   33.580,2,    0.000,2,    2.110,2,    0.155,2,    0.077,2, -999.000,9, 2257.600,2, 2334.500,2
           NA,     A06,    188,   1,-999.0,      24,  2,19930303,0040,   7.5843,  -18.0025,  4842,  593.600,    7.076,   34.733,2,   34.734,2,   76.700,2,   78.400,2,   24.020,2,   36.060,2,    0.000,2,    2.340,2,    0.027,2,    0.009,2, -999.000,9, 2262.900,2, 2331.100,2
           NA,     A06,    188,   1,-999.0,      23,  2,19930303,0040,   7.5843,  -18.0025,  4842,  791.900,    5.813,   34.667,2,   34.666,2,  100.300,2,  100.900,2,   29.420,2,   35.760,2,    0.000,2,    2.390,2,    0.006,2,    0.003,2, -999.000,9, 2265.100,2, 2336.700,2
           NA,     A06,    188,   1,-999.0,      22,  2,19930303,0040,   7.5843,  -18.0025,  4842,  993.000,    4.981,   34.691,2,   34.693,2,  131.000,2,  132.300,2,   31.480,2,   32.640,2,    0.000,2,    2.260,2,    0.006,2,   -0.001,2, -999.000,9, 2239.800,2, 2327.700,2
           NA,     A06,    188,   1,-999.0,      21,  2,19930303,0040,   7.5843,  -18.0025,  4842, 1192.100,    4.710,   34.825,2,   34.824,2,  160.800,2,  160.800,2,   28.420,2,   28.300,2,    0.000,2,    1.970,2,    0.004,2,    0.001,2, -999.000,9, 2226.600,2, 2336.400,2
           NA,     A06,    188,   1,-999.0,      20,  2,19930303,0040,   7.5843,  -18.0025,  4842, 1392.800,    4.358,   34.913,2,   34.913,2,  193.200,2,  192.600,2,   25.680,2,   24.080,2,    0.000,2,    1.700,2,    0.005,2,    0.002,2, -999.000,9, 2210.300,2, 2338.800,2
           NA,     A06,    188,   1,-999.0,      19,  2,19930303,0040,   7.5843,  -18.0025,  4842, 1493.300,    4.123,   34.926,2,   34.928,2,  207.400,2,  206.200,2,   25.070,2,   22.630,2,    0.000,2,    1.590,2,    0.013,2,    0.003,2, -999.000,9, 2201.700,2, 2341.100,2
           NA,     A06,    188,   1,-999.0,      18,  2,19930303,0040,   7.5843,  -18.0025,  4842, 1594.000,    3.986,   34.946,2,   34.947,2,  218.900,2,  218.300,2,   24.050,2,   21.200,2,    0.000,2,    1.500,2,    0.008,2,    0.000,2, -999.000,9, 2198.800,2, 2344.800,2
           NA,     A06,    188,   1,-999.0,      17,  2,19930303,0040,   7.5843,  -18.0025,  4842, 1692.700,    3.836,   34.951,2,   34.954,2,  225.500,2,  225.200,2,   24.330,2,   20.460,2,    0.000,2,    1.450,2,    0.007,2,    0.001,2, -999.000,9, 2192.100,2, 2341.300,2
           NA,     A06,    188,   1,-999.0,      16,  2,19930303,0040,   7.5843,  -18.0025,  4842, 1793.900,    3.711,   34.953,2,   34.954,2,  229.700,2,  230.200,2,   24.940,2,   19.820,2,    0.000,2,    1.420,2,    0.002,2,    0.000,2, -999.000,9, 2202.700,2, 2354.600,2
           NA,     A06,    188,   1,-999.0,      15,  2,19930303,0040,   7.5843,  -18.0025,  4842, 1994.000,    3.460,   34.952,2,   34.948,2,  236.700,2,  236.600,2,   26.690,2,   19.460,2,    0.000,2,    1.420,2,    0.007,2,    0.001,2, -999.000,9, -999.000,3, -999.000,3
           NA,     A06,    188,   1,-999.0,      14,  2,19930303,0040,   7.5843,  -18.0025,  4842, 2193.300,    3.261,   34.949,2,   34.950,2,  239.900,2,  239.500,2,   28.960,2,   19.210,2,    0.000,2,    1.410,2,    0.017,2,    0.004,2, -999.000,9, 2193.200,2, 2349.700,2
           NA,     A06,    188,   1,-999.0,      13,  2,19930303,0040,   7.5843,  -18.0025,  4842, 2393.800,    3.055,   34.941,2,   34.942,2,  242.100,2,  242.000,2,   32.160,2,   18.980,2,    0.000,2,    1.400,2,    0.014,2,    0.006,2, -999.000,9, 2198.800,2, 2359.200,2
           NA,     A06,    188,   1,-999.0,      12,  2,19930303,0040,   7.5843,  -18.0025,  4842, 2593.500,    2.920,   34.935,2,   34.933,2,  243.800,2,  243.500,2,   34.610,2,   18.820,2,    0.000,2,    1.410,2,    0.012,2,    0.003,2, -999.000,9, 2210.100,2, 2370.000,2
           NA,     A06,    188,   1,-999.0,      11,  2,19930303,0040,   7.5843,  -18.0025,  4842, 2793.800,    2.785,   34.927,2,   34.928,2,  243.400,2,  242.800,2,   37.230,2,   19.220,2,    0.000,2,    1.410,2,    0.011,2,   -0.002,2, -999.000,9, 2211.800,2, 2371.400,2
           NA,     A06,    188,   1,-999.0,      10,  2,19930303,0040,   7.5843,  -18.0025,  4842, 2994.000,    2.683,   34.920,2,   34.920,2,  243.500,2,  243.400,2,   39.260,2,   19.240,2,    0.000,2,    1.420,2,    0.008,2,    0.002,2, -999.000,9, 2211.200,2, 2369.300,2
           NA,     A06,    188,   1,-999.0,       9,  2,19930303,0040,   7.5843,  -18.0025,  4842, 3194.400,    2.600,   34.913,2,   34.916,2,  243.200,2,  242.700,2,   41.690,2,   19.250,2,    0.000,2,    1.430,2,    0.005,2,   -0.001,2, -999.000,9, 2212.300,2, 2370.900,2
           NA,     A06,    188,   1,-999.0,       8,  2,19930303,0040,   7.5843,  -18.0025,  4842, 3395.700,    2.525,   34.908,2,   34.909,2,  243.000,2,  242.700,2,   43.560,2,   19.550,2,    0.000,2,    1.450,2,    0.004,2,    0.000,2, -999.000,9, -999.000,3, -999.000,3
           NA,     A06,    188,   1,-999.0,       7,  2,19930303,0040,   7.5843,  -18.0025,  4842, 3594.700,    2.467,   34.903,2,   34.901,2,  242.500,2,  242.200,2,   45.390,2,   19.660,2,    0.000,2,    1.450,2,    0.005,2,    0.003,2, -999.000,9, 2207.900,2, 2365.700,2
           NA,     A06,    188,   1,-999.0,       6,  2,19930303,0040,   7.5843,  -18.0025,  4842, 3793.000,    2.413,   34.898,2,   34.898,2,  242.100,2,  242.100,2,   47.230,2,   19.750,2,    0.000,2,    1.460,2,    0.004,2,    0.002,2, -999.000,9, 2217.700,2, 2375.500,2
           NA,     A06,    188,   1,-999.0,       5,  2,19930303,0040,   7.5843,  -18.0025,  4842, 3994.700,    2.369,   34.892,2,   34.893,2,  242.400,2,  242.000,2,   48.980,2,   19.790,2,    0.000,2,    1.470,2,    0.008,2,    0.001,2, -999.000,9, 2219.100,2, 2377.900,2
           NA,     A06,    188,   1,-999.0,       4,  2,19930303,0040,   7.5843,  -18.0025,  4842, 4195.600,    2.333,   34.888,2,   34.889,2,  242.600,2,  241.800,2,   50.720,2,   20.000,2,    0.000,2,    1.480,2,    0.006,2,    0.004,2, -999.000,9, 2218.300,2, 2374.300,2
           NA,     A06,    188,   1,-999.0,       3,  2,19930303,0040,   7.5843,  -18.0025,  4842, 4394.500,    2.307,   34.883,2,   34.884,2,  242.400,2,  241.500,2,   52.570,2,   20.190,2,    0.000,2,    1.490,2,    0.004,2,    0.002,2, -999.000,9, 2220.400,2, 2376.900,2
           NA,     A06,    188,   1,-999.0,       2,  2,19930303,0040,   7.5843,  -18.0025,  4842, 4593.900,    2.269,   34.877,2,   34.879,2,  243.600,2,  239.200,2,   53.640,2,   20.440,2,    0.000,2,    1.500,2,    0.014,2,    0.003,2, -999.000,9, 2232.700,2, 2388.400,2
           NA,     A06,    188,   1,-999.0,       1,  2,19930303,0040,   7.5843,  -18.0025,  4842, 4869.000,    2.240,   34.868,2,   34.873,2,  242.500,2,  242.000,2,   55.920,2,   20.610,2,    0.000,2,    1.520,2,    0.039,2,    0.012,2, -999.000,9, 2249.100,2, 2406.900,2
           NA,     A06,    189,   1,-999.0,      32,  2,19930303,0739,   7.5843,  -17.3342,  4831,    2.000,   26.397,   35.681,2,   35.684,2,  201.400,2,  204.900,2,    1.860,2,    0.070,2,    0.000,2,    0.000,2,    1.844,2, -999.000,9, -999.000,9, -999.000,9, -999.000,9
           NA,     A06,    189,   1,-999.0,      31,  2,19930303,0739,   7.5843,  -17.3342,  4831,   15.800,   26.390,   35.687,2,   35.687,2,  206.200,2,  204.200,2,    1.880,2,    0.090,2,    0.000,2,    0.000,2,    1.833,2,    0.993,2, -999.000,9, -999.000,9, -999.000,9
           NA,     A06,    189,   1,-999.0,      30,  2,19930303,0739,   7.5843,  -17.3342,  4831,   31.100,   22.010,   35.962,2, -999.000,3,  207.700,2, -999.000,3,    2.640,2,    0.600,2,    0.020,2,    0.170,2,    1.490,2,    0.780,2, -999.000,9, -999.000,9, -999.000,9
           NA,     A06,    189,   1,-999.0,      29,  2,19930303,0739,   7.5843,  -17.3342,  4831,   43.900,   18.101,   35.732,2, -999.000,3,  168.500,2, -999.000,3,    5.290,2,   14.350,2,    0.340,2,    1.000,2,    1.277,2,    0.656,2, -999.000,9, -999.000,9, -999.000,9
           NA,     A06,    189,   1,-999.0,      28,  2,19930303,0739,   7.5843,  -17.3342,  4831,  119.000,   14.355,   35.464,2, -999.000,3,   72.600,2,   74.600,2,    8.730,2,   23.160,2,    0.010,2,    1.530,2,    0.925,2,    0.468,2, -999.000,9, -999.000,9, -999.000,9
           NA,     A06,    189,   1,-999.0,      27,  2,19930303,0739,   7.5843,  -17.3342,  4831,  193.000,   13.011,   35.307,2,   35.312,2,   75.500,2, -999.000,3,    9.800,2,   23.750,2,    0.000,2,    1.580,2,    0.777,2,    0.416,2, -999.000,9, -999.000,9, -999.000,9
           NA,     A06,    189,   1,-999.0,      26,  2,19930303,0739,   7.5843,  -17.3342,  4831,  392.600,    9.819,   35.031,2, -999.000,3,   51.100,2,   48.900,2,   16.010,2,   33.170,2,    0.000,2,    2.070,2,    0.175,2,    0.090,2, -999.000,9, -999.000,9, -999.000,9
           NA,     A06,    189,   1,-999.0,      25,  2,19930303,0739,   7.5843,  -17.3342,  4831,  592.200,    7.200,   34.751,2,   34.749,2,   73.300,2,   74.100,2,   22.710,2,   36.080,2,    0.000,2,    2.350,2,    0.021,2,    0.007,2, -999.000,9, -999.000,9, -999.000,9
           NA,     A06,    189,   1,-999.0,      24,  2,19930303,0739,   7.5843,  -17.3342,  4831,  792.400,    5.704,   34.667,2,   34.667,2,  103.400,2,  104.600,2,   27.750,2,   35.110,2,    0.000,2,    2.370,2,    0.002,2,    0.001,2, -999.000,9, -999.000,9, -999.000,9
           NA,     A06,    189,   1,-999.0,      23,  2,19930303,0739,   7.5843,  -17.3342,  4831,  992.600,    4.993,   34.726,2,   34.728,2,  136.000,2,  137.300,2,   28.730,2,   31.410,2,    0.000,2,    2.190,2,    0.001,2,    0.000,2, -999.000,9, -999.000,9, -999.000,9
           NA,     A06,    189,   1,-999.0,      22,  2,19930303,0739,   7.5843,  -17.3342,  4831, 1193.000,    4.641,   34.850,2,   34.851,2,  166.900,2,  169.000,2,   26.270,2,   26.700,2,    0.000,2,    1.910,2,   -0.001,2,   -0.001,2, -999.000,9, -999.000,9, -999.000,9
           NA,     A06,    189,   1,-999.0,      21,  2,19930303,0739,   7.5843,  -17.3342,  4831, 1393.600,    4.204,   34.922,2,   34.921,2,  199.700,2,  201.800,2,   23.730,2,   22.570,2,    0.000,2,    1.630,2,    0.000,2,    0.000,2, -999.000,9, -999.000,9, -999.000,9
           NA,     A06,    189,   1,-999.0,      20,  2,19930303,0739,   7.5843,  -17.3342,  4831, 1492.900,    4.065,   34.935,2,   34.936,2,  210.100,2,  211.500,2,   23.250,2,   21.360,2,    0.000,2,    1.560,2,    0.001,2,    0.001,2, -999.000,9, -999.000,9, -999.000,9
           NA,     A06,    189,   1,-999.0,      19,  2,19930303,0739,   7.5843,  -17.3342,  4831, 1593.200,    3.920,   34.948,2,   34.947,2,  218.900,2,  222.500,2,   22.920,2,   20.240,2,    0.000,2,    1.490,2,   -0.002,2,   -0.001,2, -999.000,9, -999.000,9, -999.000,9
           NA,     A06,    189,   1,-999.0,      18,  2,19930303,0739,   7.5843,  -17.3342,  4831, 1692.800,    3.819,   34.953,2,   34.953,2,  226.500,2,  227.200,2,   22.750,2,   19.430,2,    0.000,2,    1.450,2,    0.001,2,   -0.001,2, -999.000,9, -999.000,9, -999.000,9
           NA,     A06,    189,   1,-999.0,      17,  2,19930303,0739,   7.5843,  -17.3342,  4831, 1792.500,    3.705,   34.956,2,   34.958,2,  231.500,2,  233.100,2,   22.990,2,   18.740,2,    0.000,2,    1.410,2,    0.003,2,   -0.001,2, -999.000,9, -999.000,9, -999.000,9
           NA,     A06,    189,   1,-999.0,      16,  2,19930303,0739,   7.5843,  -17.3342,  4831, 1993.400,    3.506,   34.956,2,   34.956,2,  238.300,2,  238.700,2,   24.340,2,   18.050,2,    0.000,2,    1.380,2,    0.001,2,   -0.001,2, -999.000,9, -999.000,9, -999.000,9
           NA,     A06,    189,   1,-999.0,      15,  2,19930303,0739,   7.5843,  -17.3342,  4831, 2193.300,    3.312,   34.948,2,   34.947,2,  239.500,2,  238.800,2,   27.220,2,   18.220,2,    0.000,2,    1.390,2,    0.001,2,    0.000,2, -999.000,9, -999.000,9, -999.000,9
           NA,     A06,    189,   1,-999.0,      14,  2,19930303,0739,   7.5843,  -17.3342,  4831, 2394.000,    3.144,   34.945,2,   34.940,2,  241.000,2,  240.500,2,   29.710,2,   18.030,2,    0.000,2,    1.390,2, -999.000,9, -999.000,9, -999.000,9, -999.000,9, -999.000,9
           NA,     A06,    189,   1,-999.0,      13,  2,19930303,0739,   7.5843,  -17.3342,  4831, 2594.100,    2.990,   34.938,2,   34.936,2,  242.400,2,  242.000,2,   32.170,2,   18.000,2,    0.000,2,    1.390,2, -999.000,9, -999.000,9, -999.000,9, -999.000,9, -999.000,9
           NA,     A06,    189,   1,-999.0,      12,  2,19930303,0739,   7.5843,  -17.3342,  4831, 2795.200,    2.868,   34.932,2,   34.935,2,  243.400,2,  243.500,2,   34.100,2,   17.990,2,    0.000,2,    1.390,2,   -0.002,2,   -0.002,2, -999.000,9, -999.000,9, -999.000,9
           NA,     A06,    189,   1,-999.0,      11,  2,19930303,0739,   7.5843,  -17.3342,  4831, 2994.700,    2.762,   34.924,2,   34.928,2,  243.500,2,  243.500,2,   36.410,2,   18.050,2,    0.000,2,    1.400,2, -999.000,9, -999.000,9, -999.000,9, -999.000,9, -999.000,9
           NA,     A06,    189,   1,-999.0,      10,  2,19930303,0739,   7.5843,  -17.3342,  4831, 3194.300,    2.646,   34.918,2,   34.920,2,  243.800,2,  243.400,2,   39.090,2,   18.220,2,    0.000,2,    1.410,2, -999.000,9, -999.000,9, -999.000,9, -999.000,9, -999.000,9
           NA,     A06,    189,   1,-999.0,       9,  2,19930303,0739,   7.5843,  -17.3342,  4831, 3394.100,    2.576,   34.911,2,   34.910,2,  243.000,2,  242.500,2,   41.240,2,   18.340,2,    0.000,2,    1.430,2,    0.002,2,   -0.002,2, -999.000,9, -999.000,9, -999.000,9
           NA,     A06,    189,   1,-999.0,       8,  2,19930303,0739,   7.5843,  -17.3342,  4831, 3593.800,    2.503,   34.905,2,   34.902,2,  242.200,2,  242.000,2,   43.720,2,   18.390,2,    0.000,2,    1.440,2, -999.000,9, -999.000,9, -999.000,9, -999.000,9, -999.000,9
           NA,     A06,    189,   1,-999.0,       7,  2,19930303,0739,   7.5843,  -17.3342,  4831, 3794.500,    2.455,   34.901,2,   34.899,2,  241.500,2,  241.200,2,   45.990,2,   18.370,2,    0.000,2,    1.460,2, -999.000,9, -999.000,9, -999.000,9, -999.000,9, -999.000,9
           NA,     A06,    189,   1,-999.0,       6,  2,19930303,0739,   7.5843,  -17.3342,  4831, 3994.700,    2.397,   34.895,2,   34.896,2,  240.800,2,  240.200,2,   48.140,2,   18.870,2,    0.000,2,    1.470,2,    0.003,2,    0.000,2, -999.000,9, -999.000,9, -999.000,9
           NA,     A06,    189,   1,-999.0,       5,  2,19930303,0739,   7.5843,  -17.3342,  4831, 4194.200,    2.354,   34.889,2,   34.890,2,  240.000,2,  239.900,2,   50.030,2,   19.050,2,    0.000,2,    1.490,2,    0.005,2,    0.005,2, -999.000,9, -999.000,9, -999.000,9
           NA,     A06,    189,   1,-999.0,       4,  2,19930303,0739,   7.5843,  -17.3342,  4831, 4394.000,    2.301,   34.883,2,   34.884,2,  240.600,2,  240.100,2,   51.880,2,   19.210,2,    0.000,2,    1.490,2, -999.000,9, -999.000,9, -999.000,9, -999.000,9, -999.000,9
           NA,     A06,    189,   1,-999.0,       3,  2,19930303,0739,   7.5843,  -17.3342,  4831, 4594.300,    2.261,   34.876,2,   34.879,2,  241.500,2,  241.800,2,   53.170,2,   19.060,2,    0.000,2,    1.490,2,    0.004,2,    0.003,2, -999.000,9, -999.000,9, -999.000,9
           NA,     A06,    189,   1,-999.0,       2,  2,19930303,0739,   7.5843,  -17.3342,  4831, 4795.200,    2.243,   34.872,2,   34.873,2,  241.300,2,  240.400,2,   55.030,2,   19.420,2,    0.000,2,    1.510,2,    0.002,2,    0.002,2, -999.000,9, -999.000,9, -999.000,9
           NA,     A06,    189,   1,-999.0,       1,  2,19930303,0739,   7.5843,  -17.3342,  4831, 4862.500,    2.251,   34.870,2,   34.873,2,  237.800,2,  239.900,2,   55.540,2,   19.440,2,    0.000,2,    1.510,2,    0.003,2,    0.002,2, -999.000,9, -999.000,9, -999.000,9