BOTTLE,20205402JOAExport
# Exported from JOA (5.5.0 Final January 13th, 2020) on 2020/11/02 15:53:48
#BOTTLE,20020819WHPSIOSE,,,,,,,,,,,,,,,,,,,,,,,,,,,,,,,,,,,,,,
#code : jjward hyd_to_exchange.pl ,,,,,,,,,,,,,,,,,,,,,,,,,,,,,,,,,,,,,,,
#original files copied from HTML directory: Aug. 19,2002,,,,,,,,,,,,,,,,,,,,,,,,,,,,,,,,,,,,,,
#original HYD file: a06hy.txt   Mon Aug 19 12:58:19 2002,,,,,,,,,,,,,,,,,,,,,,,,,,,,,,,,,,,,,,,
#original SUM file: a06su.txt   Mon Aug 19 13:04:08 2002,,,,,,,,,,,,,,,,,,,,,,,,,,,,,,,,,,,,,,,
EXPOCODE,SECT_ID,STNNBR,CASTNO,SAMPNO,BTLNBR,BTLNBR_FLAG_W,DATE,TIME,LATITUDE,LONGITUDE,DEPTH,CTDPRS,CTDTMP,CTDSAL,CTDSAL_FLAG_W,SALNTY,SALNTY_FLAG_W,CTDOXY,CTDOXY_FLAG_W,OXYGEN,OXYGEN_FLAG_W,SILCAT,SILCAT_FLAG_W,NITRAT,NITRAT_FLAG_W,NITRIT,NITRIT_FLAG_W,PHSPHT,PHSPHT_FLAG_W,CFC-11,CFC-11_FLAG_W,CFC-12,CFC-12_FLAG_W,SF6,SF6_FLAG_W,TCARBN,TCARBN_FLAG_W,ALKALI,ALKALI_FLAG_W
,,,,,,,,,,,,,DB,DEG C,PSS-78,,PSS-78,,UMOL/KG,,UMOL/KG,,UMOL/KG,,UMOL/KG,,UMOL/KG,,UMOL/KG,,PMOL/KG,,PMOL/KG,,FMOL/KG,,UMOL/KG,,UMOL/KG
           NA,     A06,    121,   1,-999.0,      12,  2,19930213,2213,   5.7942,  -51.3215,   499,    4.200,   26.799,   36.363,2, -999.000,3,  202.600,2, -999.000,3,    1.870,2,    0.000,2,    0.000,2,    0.060,2,    1.760,2,    0.943,2, -999.000,9, -999.000,9, -999.000,9
           NA,     A06,    121,   1,-999.0,      11,  2,19930213,2213,   5.7942,  -51.3215,   499,   24.700,   26.784,   36.369,2, -999.000,3,  203.900,2, -999.000,3,    1.850,2,    0.000,2,    0.000,2,    0.070,2,    1.754,2,    0.939,2, -999.000,9, -999.000,9, -999.000,9
           NA,     A06,    121,   1,-999.0,      10,  2,19930213,2213,   5.7942,  -51.3215,   499,   44.300,   26.773,   36.380,2,   36.384,2,  203.700,2,  206.400,2,    1.850,2,    0.000,2,    0.000,2,    0.070,2,    1.771,2,    0.953,2, -999.000,9, -999.000,9, -999.000,9
           NA,     A06,    121,   1,-999.0,       9,  2,19930213,2213,   5.7942,  -51.3215,   499,   67.900,   26.766,   36.390,2, -999.000,3,  205.200,2,  201.900,2,    1.880,2,    0.110,2,    0.000,2,    0.080,2,    1.763,2,    0.937,2, -999.000,9, -999.000,9, -999.000,9
           NA,     A06,    121,   1,-999.0,       8,  2,19930213,2213,   5.7942,  -51.3215,   499,   93.300,   24.132,   36.389,2, -999.000,3,  197.300,2, -999.000,3,    2.490,2,    2.270,2,    0.050,2,    0.260,2,    1.761,2,    0.927,2, -999.000,9, -999.000,9, -999.000,9
           NA,     A06,    121,   1,-999.0,       7,  2,19930213,2213,   5.7942,  -51.3215,   499,  143.800,   13.874,   35.504,2, -999.000,3,  167.200,2, -999.000,3,    8.400,2,   17.340,2,    0.000,2,    1.120,2,    1.290,2,    0.645,2, -999.000,9, -999.000,9, -999.000,9
           NA,     A06,    121,   1,-999.0,       5,  2,19930213,2213,   5.7942,  -51.3215,   499,  194.100,   10.888,   35.016,2,   35.012,2,  153.100,2,  154.500,2,   10.990,2,   21.380,2,    0.000,2,    1.430,2,    1.065,2,    0.532,2, -999.000,9, -999.000,9, -999.000,9
           NA,     A06,    121,   1,-999.0,       6,  2,19930213,2213,   5.7942,  -51.3215,   499,  194.600,   10.886,   35.015,2, -999.000,3,  152.900,2,  155.700,2,    8.400,2,   17.330,2,    0.000,2,    1.130,2,    1.077,2,    0.536,2, -999.000,9, -999.000,9, -999.000,9
           NA,     A06,    121,   1,-999.0,       4,  2,19930213,2213,   5.7942,  -51.3215,   499,  243.900,   10.236,   34.936,2,   34.932,2,  147.800,2,  150.500,2,   12.240,2,   23.360,2,    0.000,2,    1.540,2,    0.910,2,    0.452,2, -999.000,9, -999.000,9, -999.000,9
           NA,     A06,    121,   1,-999.0,       3,  2,19930213,2213,   5.7942,  -51.3215,   499,  293.800,    9.599,   34.875,2,   34.876,2,  144.900,2,  143.200,2,   13.820,2,   25.300,2,    0.000,2,    1.650,2,    0.762,2,    0.386,2, -999.000,9, -999.000,9, -999.000,9
           NA,     A06,    121,   1,-999.0,       2,  2,19930213,2213,   5.7942,  -51.3215,   499,  393.700,    7.924,   34.699,2,   34.702,2,  146.800,2,  143.100,2,   18.030,2,   29.060,2,    0.000,2,    1.890,2,    0.498,2,    0.250,2, -999.000,9, -999.000,9, -999.000,9
           NA,     A06,    121,   1,-999.0,       1,  2,19930213,2213,   5.7942,  -51.3215,   499,  466.100,    7.402,   34.660,2,   34.665,2, -999.000,9, -999.000,3,   19.920,2,   30.270,2,    0.000,2,    1.980,2,    0.408,2,    0.206,2, -999.000,9, -999.000,9, -999.000,9
           NA,     A06,    120,   1,-999.0,       9,  2,19930213,2032,   5.7605,  -51.3117,   194,    1.000,   26.881,   36.383,2, -999.000,3,  196.200,2, -999.000,3,    1.590,2,    0.020,2,    0.000,2,    0.060,2,    1.795,2,    0.951,2, -999.000,9, -999.000,3, -999.000,3
           NA,     A06,    120,   1,-999.0,       8,  2,19930213,2032,   5.7605,  -51.3117,   194,   25.100,   26.866,   36.376,2,   36.377,2,  203.000,2, -999.000,3,    1.610,2,    0.020,2,    0.000,2,    0.060,2,    1.791,2,    0.944,2, -999.000,9, 2037.200,2, 2401.200,2
           NA,     A06,    120,   1,-999.0,       7,  2,19930213,2032,   5.7605,  -51.3117,   194,   44.500,   26.828,   36.372,2,   36.372,2,  201.200,2, -999.000,3,    1.610,2,    0.020,2,    0.000,2,    0.070,2,    1.797,2,    0.957,2, -999.000,9, 2048.300,2, 2414.300,2
           NA,     A06,    120,   1,-999.0,       6,  2,19930213,2032,   5.7605,  -51.3117,   194,   68.200,   26.785,   36.387,2, -999.000,3,  201.700,2,  203.200,2,    1.610,2,    0.060,2,    0.000,2,    0.070,2, -999.000,9, -999.000,9, -999.000,9, 2043.600,2, 2410.000,2
           NA,     A06,    120,   1,-999.0,       5,  2,19930213,2032,   5.7605,  -51.3117,   194,  121.100,   19.983,   36.195,2, -999.000,3,  187.000,2,  181.700,2,    3.110,2,    6.230,2,    0.010,2,    0.540,2,    1.790,2,    0.908,2, -999.000,9, 2119.000,2, 2405.800,2
           NA,     A06,    120,   1,-999.0,       4,  2,19930213,2032,   5.7605,  -51.3117,   194,  146.200,   12.797,   35.347,2, -999.000,3,  171.000,2, -999.000,3,    7.720,2,   18.510,2,    0.000,2,    1.190,2,    1.275,2,    0.640,2, -999.000,9, 2182.500,2, 2366.200,2
           NA,     A06,    120,   1,-999.0,       3,  2,19930213,2032,   5.7605,  -51.3117,   194,  146.600,   13.202,   35.369,2, -999.000,3,  169.900,2, -999.000,3,    7.180,2,   17.500,2,    0.000,2,    1.150,2,    1.317,2,    0.666,2, -999.000,9, 2154.900,2, 2344.000,2
           NA,     A06,    120,   1,-999.0,       2,  2,19930213,2032,   5.7605,  -51.3117,   194,  174.200,   11.310,   35.083,2,   35.087,2, -999.000,9, -999.000,3,    9.050,2,   20.900,2,    0.000,2,    1.380,2,    1.140,2,    0.568,2, -999.000,9, 2171.100,2, 2334.100,2
           NA,     A06,    120,   1,-999.0,       1,  2,19930213,2032,   5.7605,  -51.3117,   194,  174.500,   11.338,   35.089,2,   35.093,2, -999.000,9, -999.000,3,    9.050,2,   20.870,2,    0.000,2,    1.420,2,    1.148,2,    0.563,2, -999.000,9, 2165.800,2, 2328.600,2
           NA,     A06,    122,   1,-999.0,      14,  2,19930214,0019,   5.8058,  -51.3023,   815,    1.000,   26.736,   36.337,2,   36.340,2,  204.800,2,  205.300,2,    1.780,2,    0.010,2,    0.000,2,    0.050,2,    1.809,2,    0.968,2, -999.000,9, 2027.600,2, 2391.600,2
           NA,     A06,    122,   1,-999.0,      13,  2,19930214,0019,   5.8058,  -51.3023,   815,   24.900,   26.750,   36.338,2, -999.000,3,  205.000,2,  202.400,2,    1.770,2,    0.000,2,    0.000,2,    0.050,2,    1.797,2,    0.962,2, -999.000,9, 2035.000,2, 2398.400,2
           NA,     A06,    122,   1,-999.0,      12,  2,19930214,0019,   5.8058,  -51.3023,   815,   44.600,   26.751,   36.349,2, -999.000,3,  203.900,2,  207.300,2,    1.780,2,    0.010,2,    0.000,2,    0.050,2,    1.799,2,    0.960,2, -999.000,9, 2032.100,2, 2396.800,2
           NA,     A06,    122,   1,-999.0,      11,  2,19930214,0019,   5.8058,  -51.3023,   815,   65.500,   26.756,   36.368,2,   36.370,2,  200.900,2,  201.800,2,    1.750,2,    0.010,2,    0.000,2,    0.060,2,    1.812,2,    0.967,2, -999.000,9, 2053.200,2, 2416.800,2
           NA,     A06,    122,   1,-999.0,      10,  2,19930214,0019,   5.8058,  -51.3023,   815,   94.000,   25.844,   36.431,2,   36.432,2,  194.800,2,  198.000,2,    2.010,2,    0.840,2,    0.140,2,    0.170,2,    1.806,2,    0.963,2, -999.000,9, 2082.000,2, 2429.400,2
           NA,     A06,    122,   1,-999.0,       9,  2,19930214,0019,   5.8058,  -51.3023,   815,  143.300,   17.703,   35.942,2, -999.000,3,  177.800,2, -999.000,3,    4.770,2,    9.510,2,    0.010,2,    0.680,2,    1.719,2,    0.881,2, -999.000,9, 2132.300,2, 2385.100,2
           NA,     A06,    122,   1,-999.0,       7,  2,19930214,0019,   5.8058,  -51.3023,   815,  194.200,   11.126,   35.050,2,   35.046,2,  154.300,2,  155.300,2,   10.050,2,   20.950,2,    0.000,2,    1.350,2,    1.141,2,    0.571,2, -999.000,9, 2167.700,2, 2331.300,2
           NA,     A06,    122,   1,-999.0,       8,  2,19930214,0019,   5.8058,  -51.3023,   815,  194.500,   11.101,   34.991,2, -999.000,9,  154.300,2,  158.500,2, -999.000,9, -999.000,9, -999.000,9, -999.000,9,    1.163,2,    0.585,2, -999.000,9, -999.000,9, -999.000,9
           NA,     A06,    122,   1,-999.0,       6,  2,19930214,0019,   5.8058,  -51.3023,   815,  292.300,    9.808,   34.899,2,   34.898,2,  143.300,2,  144.000,2,   12.680,2,   25.130,2,    0.000,2,    1.590,2,    0.816,2,    0.406,2, -999.000,9, 2182.000,2, 2320.900,2
           NA,     A06,    122,   1,-999.0,       5,  2,19930214,0019,   5.8058,  -51.3023,   815,  393.000,    8.493,   34.744,2,   34.739,2,  148.300,2,  145.000,2,   15.390,2,   27.780,2,    0.000,2,    1.770,2,    0.631,2,    0.320,2, -999.000,9, 2198.300,2, 2321.900,2
           NA,     A06,    122,   1,-999.0,       4,  2,19930214,0019,   5.8058,  -51.3023,   815,  493.600,    7.368,   34.656,2,   34.654,2,  144.800,2,  141.900,2,   18.820,2,   30.520,2,    0.000,2,    1.930,2,    0.407,2,    0.214,2, -999.000,9, 2206.100,2, 2316.600,2
           NA,     A06,    122,   1,-999.0,       3,  2,19930214,0019,   5.8058,  -51.3023,   815,  592.500,    6.365,   34.622,2,   34.620,2,  137.000,2,  136.700,2,   23.160,2,   33.210,2,    0.000,2,    2.120,2,    0.168,2,    0.082,2, -999.000,9, 2218.100,2, 2317.100,2
           NA,     A06,    122,   1,-999.0,       2,  2,19930214,0019,   5.8058,  -51.3023,   815,  692.400,    5.896,   34.612,2,   34.613,2,  137.400,2,  134.900,2,   25.580,2,   33.810,2,    0.000,2,    2.170,2,    0.107,2,    0.049,2, -999.000,9, 2236.300,2, 2331.100,2
           NA,     A06,    122,   1,-999.0,       1,  2,19930214,0019,   5.8058,  -51.3023,   815,  765.800,    5.399,   34.624,2,   34.626,2,  138.300,2,  141.100,2,   27.540,2,   33.880,2,    0.000,2,    2.200,2,    0.055,2,    0.025,2, -999.000,9, 2232.600,2, 2328.500,2
           NA,     A06,    125,   1,-999.0,      27,  2,19930214,1056,   6.0998,  -51.2635,  2543,    1.000,   26.701,   36.398,2,   36.400,2,  198.500,2,  202.200,2,    1.720,2,    0.010,2,    0.000,2,    0.050,2,    1.800,2,    0.976,2, -999.000,9, -999.000,9, -999.000,9
           NA,     A06,    125,   1,-999.0,      26,  2,19930214,1056,   6.0998,  -51.2635,  2543,   24.900,   26.703,   36.399,2,   36.401,2,  204.500,2,  202.100,2,    1.730,2,    0.010,2,    0.000,2,    0.060,2,    1.798,2,    0.979,2, -999.000,9, -999.000,9, -999.000,9
           NA,     A06,    125,   1,-999.0,      25,  2,19930214,1056,   6.0998,  -51.2635,  2543,   44.800,   26.710,   36.400,2,   36.401,2,  203.600,2,  202.200,2,    1.730,2,    0.010,2,    0.000,2,    0.060,2,    1.786,2,    0.955,2, -999.000,9, -999.000,9, -999.000,9
           NA,     A06,    125,   1,-999.0,      24,  2,19930214,1056,   6.0998,  -51.2635,  2543,   69.300,   26.713,   36.400,2,   36.401,2,  205.000,2,  201.800,2,    1.760,2,    0.010,2,    0.000,2,    0.090,2,    1.792,2,    0.965,2, -999.000,9, -999.000,9, -999.000,9
           NA,     A06,    125,   1,-999.0,      23,  2,19930214,1056,   6.0998,  -51.2635,  2543,   94.300,   26.711,   36.402,2,   36.402,2,  205.500,2,  201.800,2,    1.750,2,    0.030,2,    0.000,2,    0.070,2,    1.781,2,    0.976,2, -999.000,9, -999.000,9, -999.000,9
           NA,     A06,    125,   1,-999.0,      22,  2,19930214,1056,   6.0998,  -51.2635,  2543,  143.500,   20.990,   36.211,2,   36.214,2,  184.600,2, -999.000,3,    3.820,2,    6.110,2,    0.030,2,    0.490,2,    1.739,2,    0.914,2, -999.000,9, -999.000,9, -999.000,9
           NA,     A06,    125,   1,-999.0,      21,  2,19930214,1056,   6.0998,  -51.2635,  2543,  194.000,   14.903,   35.687,2, -999.000,3,  155.200,2, -999.000,3,    7.280,2,   16.570,2,    0.000,2,    1.030,2,    1.342,2,    0.700,2, -999.000,9, -999.000,9, -999.000,9
           NA,     A06,    125,   1,-999.0,      19,  2,19930214,1056,   6.0998,  -51.2635,  2543,  286.700,   11.070,   35.200,2,   35.198,2,  107.700,2,  108.300,2,   12.040,2,   26.060,2,    0.000,2,    1.590,2,    0.647,2,    0.331,2, -999.000,9, -999.000,9, -999.000,9
           NA,     A06,    125,   1,-999.0,      20,  2,19930214,1056,   6.0998,  -51.2635,  2543,  286.900,   11.069,   35.200,2,   35.198,2,  107.700,2,  106.500,2,   11.960,2,   26.000,2,    0.000,2,    1.580,2,    0.659,2,    0.345,2, -999.000,9, -999.000,9, -999.000,9
           NA,     A06,    125,   1,-999.0,      18,  2,19930214,1056,   6.0998,  -51.2635,  2543,  392.800,    8.971,   34.910,2, -999.000,3,  110.500,2,  112.600,2,   15.970,2,   29.660,2,    0.000,2,    1.850,2,    0.362,2,    0.185,2, -999.000,9, -999.000,9, -999.000,9
           NA,     A06,    125,   1,-999.0,      17,  2,19930214,1056,   6.0998,  -51.2635,  2543,  492.400,    7.077,   34.661,2,   34.660,2,  126.800,2, -999.000,3,   20.670,2,   31.880,2,    0.000,2,    2.040,2,    0.266,2,    0.136,2, -999.000,9, -999.000,9, -999.000,9
           NA,     A06,    125,   1,-999.0,      16,  2,19930214,1056,   6.0998,  -51.2635,  2543,  592.700,    6.183,   34.591,2,   34.591,2,  137.300,2,  137.200,2,   24.080,2,   33.390,2,    0.000,2,    2.160,2,    0.151,2,    0.078,2, -999.000,9, -999.000,9, -999.000,9
           NA,     A06,    125,   1,-999.0,      15,  2,19930214,1056,   6.0998,  -51.2635,  2543,  793.000,    5.355,   34.599,2,   34.596,2,  140.300,2,  137.500,2,   28.280,2,   34.520,2,    0.000,2,    2.260,2,    0.036,2,    0.016,2, -999.000,9, -999.000,9, -999.000,9
           NA,     A06,    125,   1,-999.0,      14,  2,19930214,1056,   6.0998,  -51.2635,  2543,  992.700,    4.935,   34.701,2,   34.699,2,  151.900,2,  152.600,2,   28.590,2,   32.190,2,    0.000,2,    2.110,2,    0.021,2,    0.008,2, -999.000,9, -999.000,9, -999.000,9
           NA,     A06,    125,   1,-999.0,      13,  2,19930214,1056,   6.0998,  -51.2635,  2543, 1192.500,    5.159,   34.953,2,   34.949,2,  186.600,2, -999.000,3,   20.690,2,   24.680,2,    0.000,2,    1.600,2,    0.120,2,    0.063,2, -999.000,9, -999.000,9, -999.000,9
           NA,     A06,    125,   1,-999.0,      12,  2,19930214,1056,   6.0998,  -51.2635,  2543, 1393.000,    4.582,   35.010,2,   35.010,2,  238.300,2,  236.600,2,   16.230,2,   20.090,2,    0.000,2,    1.300,2,    0.221,2,    0.122,2, -999.000,9, -999.000,9, -999.000,9
           NA,     A06,    125,   1,-999.0,      11,  2,19930214,1056,   6.0998,  -51.2635,  2543, 1493.500,    4.374,   35.007,2,   35.005,2,  244.800,2,  244.200,2,   15.860,2,   19.500,2,    0.000,2,    1.260,2,    0.186,2,    0.101,2, -999.000,9, -999.000,9, -999.000,9
           NA,     A06,    125,   1,-999.0,      10,  2,19930214,1056,   6.0998,  -51.2635,  2543, 1493.500,    4.371,   35.005,2,   35.005,2,  244.800,2,  244.700,2,   15.850,2,   19.490,2,    0.000,2,    1.250,2,    0.186,2,    0.100,2, -999.000,9, -999.000,9, -999.000,9
           NA,     A06,    125,   1,-999.0,       9,  2,19930214,1056,   6.0998,  -51.2635,  2543, 1593.000,    4.233,   35.007,2,   35.006,2,  254.900,2,  252.100,2,   15.020,2,   18.710,2,    0.000,2,    1.200,2,    0.242,2,    0.121,2, -999.000,9, -999.000,9, -999.000,9
           NA,     A06,    125,   1,-999.0,       8,  2,19930214,1056,   6.0998,  -51.2635,  2543, 1693.000,    4.003,   35.000,2,   35.002,2,  260.200,2,  257.700,2,   15.430,2,   18.340,2,    0.000,2,    1.180,2,    0.208,2,    0.111,2, -999.000,9, -999.000,9, -999.000,9
           NA,     A06,    125,   1,-999.0,       7,  2,19930214,1056,   6.0998,  -51.2635,  2543, 1793.100,    3.772,   34.991,2,   34.995,2,  264.100,2,  261.900,2,   16.060,2,   18.120,2,    0.000,2,    1.170,2,    0.161,2,    0.087,2, -999.000,9, -999.000,9, -999.000,9
           NA,     A06,    125,   1,-999.0,       6,  2,19930214,1056,   6.0998,  -51.2635,  2543, 1893.100,    3.620,   34.985,2,   34.987,2,  265.100,2,  263.100,2,   17.290,2,   18.150,2,    0.000,2,    1.170,2,    0.113,2,    0.060,2, -999.000,9, -999.000,9, -999.000,9
           NA,     A06,    125,   1,-999.0,       5,  2,19930214,1056,   6.0998,  -51.2635,  2543, 1993.100,    3.461,   34.979,2,   34.979,2,  264.400,2,  263.500,2,   18.730,2,   18.310,2,    0.000,2,    1.190,2,    0.073,2,    0.037,2, -999.000,9, -999.000,9, -999.000,9
           NA,     A06,    125,   1,-999.0,       4,  2,19930214,1056,   6.0998,  -51.2635,  2543, 2193.800,    3.277,   34.967,2,   34.968,2,  264.300,2,  263.000,2,   20.520,2,   18.390,2,    0.000,2,    1.200,2,    0.054,2,    0.032,2, -999.000,9, -999.000,9, -999.000,9
           NA,     A06,    125,   1,-999.0,       3,  2,19930214,1056,   6.0998,  -51.2635,  2543, 2394.200,    3.001,   34.953,2,   34.952,2,  264.600,2,  263.300,2,   23.200,2,   18.490,2,    0.000,2,    1.210,2,    0.064,2,    0.035,2, -999.000,9, -999.000,9, -999.000,9
           NA,     A06,    125,   1,-999.0,       2,  2,19930214,1056,   6.0998,  -51.2635,  2543, 2494.900,    2.969,   34.952,2,   34.950,2,  264.800,2,  264.400,2,   23.940,2,   18.490,2,    0.000,2,    1.220,2,    0.073,2,    0.033,2, -999.000,9, -999.000,9, -999.000,9
           NA,     A06,    125,   1,-999.0,       1,  2,19930214,1056,   6.0998,  -51.2635,  2543, 2560.000,    2.924,   34.947,2,   34.948,2,  261.200,2,  264.000,2,   24.530,2,   18.620,2,    0.000,2,    1.220,2,    0.077,2,    0.036,2, -999.000,9, -999.000,9, -999.000,9