BOTTLE,20205402JOAExport
EXPOCODE,SECT_ID,STNNBR,CASTNO,SAMPNO,BTLNBR,BTLNBR_FLAG_W,DATE,TIME,LATITUDE,LONGITUDE,DEPTH,CTDPRS,CTDTMP,CTDSAL,CTDSAL_FLAG_W,SALNTY,SALNTY_FLAG_W,CTDOXY,CTDOXY_FLAG_W,OXYGEN,OXYGEN_FLAG_W,SILCAT,SILCAT_FLAG_W,NITRAT,NITRAT_FLAG_W,NITRIT,NITRIT_FLAG_W,PHSPHT,PHSPHT_FLAG_W,CFC-11,CFC-11_FLAG_W,CFC-12,CFC-12_FLAG_W,SF6,SF6_FLAG_W,TCARBN,TCARBN_FLAG_W,ALKALI,ALKALI_FLAG_W
,,,,,,,,,,,,,DB,DEG C,PSS-78,,PSS-78,,UMOL/KG,,UMOL/KG,,UMOL/KG,,UMOL/KG,,UMOL/KG,,UMOL/KG,,PMOL/KG,,PMOL/KG,,FMOL/KG,,UMOL/KG,,UMOL/KG
           NA,     A06,    154,   1,-999.0,      32,  2,19930222,1132,   7.4510,  -36.0010,  5252,    2.300,   26.498,   36.204,2,   36.206,2,  198.000,2,  200.500,2,    1.630,2,    0.080,2,    0.000,2,    0.010,2,    1.836,2,    0.990,2, -999.000,9, -999.000,3, -999.000,3
           NA,     A06,    154,   1,-999.0,      31,  2,19930222,1132,   7.4510,  -36.0010,  5252,   69.300,   26.456,   36.205,2,   36.203,2,  200.300,2,  200.400,2,    1.640,2,    0.070,2,    0.000,2,    0.020,2,    1.816,2,    0.979,2, -999.000,9, -999.000,3, -999.000,3
           NA,     A06,    154,   1,-999.0,      30,  2,19930222,1132,   7.4510,  -36.0010,  5252,  118.600,   20.165,   36.133,2, -999.000,3,  178.700,2, -999.000,3,    4.260,2,   10.100,2,    0.080,2,    0.630,2,    1.512,2,    0.790,2, -999.000,9, 2117.400,2, 2372.400,2
           NA,     A06,    154,   1,-999.0,      29,  2,19930222,1132,   7.4510,  -36.0010,  5252,  194.600,   11.528,   35.135,2,   35.130,2,  122.000,2,  118.600,2,    9.890,2,   23.210,2,    0.000,2,    1.500,2,    0.855,2,    0.421,2, -999.000,9, 2171.800,2, 2313.900,2
           NA,     A06,    154,   1,-999.0,      28,  2,19930222,1132,   7.4510,  -36.0010,  5252,  393.200,    9.299,   34.916,2,   34.912,2,   89.600,2,   87.700,2,   14.870,2,   30.920,2,    0.000,2,    1.940,2,    0.276,2,    0.142,2, -999.000,9, 2223.600,2, 2320.000,2
           NA,     A06,    154,   1,-999.0,      27,  2,19930222,1132,   7.4510,  -36.0010,  5252,  592.000,    7.360,   34.737,2,   34.736,2,  100.600,2,   98.700,2,   20.210,2,   33.810,2,    0.000,2,    2.170,2,    0.083,2,    0.044,2, -999.000,9, 2218.900,2, 2301.700,2
           NA,     A06,    154,   1,-999.0,      26,  2,19930222,1132,   7.4510,  -36.0010,  5252,  792.800,    5.818,   34.668,2,   34.664,2,  110.400,2,  113.200,2,   26.170,2,   34.790,2,    0.000,2,    2.290,2,    0.011,2,    0.002,2, -999.000,9, -999.000,3, -999.000,3
           NA,     A06,    154,   1,-999.0,      25,  2,19930222,1132,   7.4510,  -36.0010,  5252,  992.900,    5.002,   34.725,2,   34.723,2,  145.100,2,  142.400,2,   27.650,2,   31.680,2,    0.000,2,    2.150,2,    0.004,2,    0.000,2, -999.000,9, 2210.500,2, -999.000,3
           NA,     A06,    154,   1,-999.0,      24,  2,19930222,1132,   7.4510,  -36.0010,  5252, 1192.000,    4.779,   34.882,2,   34.881,2,  178.700,2,  181.600,2,   22.840,2,   25.580,2,    0.000,2,    1.780,2,    0.019,2,    0.006,2, -999.000,9, 2188.100,2, 2313.600,2
           NA,     A06,    154,   1,-999.0,      23,  2,19930222,1132,   7.4510,  -36.0010,  5252, 1393.800,    4.414,   34.980,2,   34.980,2,  220.300,2,  225.600,2,   17.390,2,   19.930,2,    0.000,2,    1.410,2,    0.063,2,    0.034,2, -999.000,9, 2166.600,2, -999.000,3
           NA,     A06,    154,   1,-999.0,      22,  2,19930222,1132,   7.4510,  -36.0010,  5252, 1485.900,    4.275,   34.982,2,   34.983,2,  232.600,2,  231.900,2,   17.000,2,   19.350,2,    0.000,2,    1.370,2,    0.058,2,    0.030,2, -999.000,9, 2161.200,2, 2315.400,2
           NA,     A06,    154,   1,-999.0,      21,  2,19930222,1132,   7.4510,  -36.0010,  5252, 1591.900,    4.182,   34.986,2,   34.984,2,  239.100,2,  237.200,2,   16.690,2,   18.660,2,    0.000,2,    1.330,2,    0.057,2,    0.028,2, -999.000,9, 2169.000,2, -999.000,3
           NA,     A06,    154,   1,-999.0,      20,  2,19930222,1132,   7.4510,  -36.0010,  5252, 1695.000,    3.997,   34.984,2,   34.985,2,  246.900,2,  243.500,2,   16.790,2,   17.940,2,    0.000,2,    1.290,2,    0.049,2,    0.026,2, -999.000,9, 2170.900,2, 2331.600,2
           NA,     A06,    154,   1,-999.0,      19,  2,19930222,1132,   7.4510,  -36.0010,  5252, 1794.800,    3.807,   34.983,2,   34.984,2,  252.700,2,  250.400,2,   16.870,2,   17.310,2,    0.000,2,    1.240,2,    0.054,2,    0.022,2, -999.000,9, 2158.900,2, 2320.800,2
           NA,     A06,    154,   1,-999.0,      18,  2,19930222,1132,   7.4510,  -36.0010,  5252, 1993.200,    3.485,   34.970,2,   34.969,2,  254.300,2,  252.500,2,   19.750,2,   17.390,2,    0.000,2,    1.250,2,    0.027,2,    0.011,2, -999.000,9, -999.000,3, -999.000,3
           NA,     A06,    154,   1,-999.0,      17,  2,19930222,1132,   7.4510,  -36.0010,  5252, 2194.000,    3.254,   34.958,2,   34.957,2,  255.100,2,  253.100,2,   22.730,2,   17.370,2,    0.000,2,    1.270,2,    0.015,2,    0.006,2, -999.000,9, -999.000,3, -999.000,3
           NA,     A06,    154,   1,-999.0,      16,  2,19930222,1132,   7.4510,  -36.0010,  5252, 2394.000,    3.085,   34.949,2,   34.948,2,  254.300,2,  253.000,2,   25.700,2,   17.540,2,    0.000,2,    1.290,2,    0.021,2,    0.007,2, -999.000,9, -999.000,3, -999.000,3
           NA,     A06,    154,   1,-999.0,      15,  2,19930222,1132,   7.4510,  -36.0010,  5252, 2694.500,    2.883,   34.939,2,   34.938,2,  255.300,2,  254.700,2,   28.060,2,   17.610,2,    0.000,2,    1.290,2,    0.011,2,    0.004,2, -999.000,9, 2190.000,2, 2356.900,2
           NA,     A06,    154,   1,-999.0,      14,  2,19930222,1132,   7.4510,  -36.0010,  5252, 2993.600,    2.698,   34.926,2,   34.925,2,  256.100,2,  255.800,2,   31.270,2,   17.660,2,    0.000,2,    1.300,2,    0.014,2,    0.006,2, -999.000,9, -999.000,3, -999.000,3
           NA,     A06,    154,   1,-999.0,      13,  2,19930222,1132,   7.4510,  -36.0010,  5252, 3145.200,    2.647,   34.921,2,   34.922,2,  256.200,2,  255.500,2,   32.190,2,   17.580,2,    0.000,2,    1.310,2,    0.020,2,    0.008,2, -999.000,9, -999.000,3, -999.000,3
           NA,     A06,    154,   1,-999.0,      12,  2,19930222,1132,   7.4510,  -36.0010,  5252, 3245.100,    2.607,   34.917,2,   34.915,2,  256.000,2,  255.400,2,   33.260,2, -999.000,3,    0.000,2,    1.300,2,    0.019,2,    0.012,2, -999.000,9, 2180.300,2, 2345.300,2
           NA,     A06,    154,   1,-999.0,      11,  2,19930222,1132,   7.4510,  -36.0010,  5252, 3394.800,    2.476,   34.907,2,   34.907,2,  255.500,2,  255.800,2,   36.740,2,   17.970,2,    0.000,2,    1.330,2,    0.023,2,    0.014,2, -999.000,9, -999.000,3, -999.000,3
           NA,     A06,    154,   1,-999.0,      10,  2,19930222,1132,   7.4510,  -36.0010,  5252, 3594.800,    2.414,   34.902,2,   34.901,2,  255.500,2,  255.500,2,   38.580,2,   17.950,2,    0.000,2,    1.360,2,    0.019,2,    0.006,2, -999.000,9, -999.000,3, -999.000,3
           NA,     A06,    154,   1,-999.0,       9,  2,19930222,1132,   7.4510,  -36.0010,  5252, 3794.900,    2.303,   34.891,2,   34.891,2,  255.300,2,  255.100,2,   41.790,2,   18.460,2,    0.000,2,    1.370,2,    0.027,2,    0.011,2, -999.000,9, -999.000,3, -999.000,3
           NA,     A06,    154,   1,-999.0,       8,  2,19930222,1132,   7.4510,  -36.0010,  5252, 3894.100,    2.296,   34.889,2,   34.889,2,  255.200,2,  254.800,2,   42.120,2,   18.420,2,    0.000,2,    1.380,2,    0.030,2,    0.013,2, -999.000,9, -999.000,3, -999.000,3
           NA,     A06,    154,   1,-999.0,       7,  2,19930222,1132,   7.4510,  -36.0010,  5252, 3993.500,    2.250,   34.884,2,   34.885,2,  255.000,2,  254.200,2,   44.280,2,   18.300,2,    0.000,2,    1.380,2,    0.033,2,    0.014,2, -999.000,9, -999.000,3, -999.000,3
           NA,     A06,    154,   1,-999.0,       6,  2,19930222,1132,   7.4510,  -36.0010,  5252, 4194.800,    2.176,   34.877,2,   34.876,2,  253.900,2,  253.200,2,   47.360,2,   18.670,2,    0.000,2,    1.430,2,    0.025,2,    0.018,2, -999.000,9, -999.000,3, -999.000,3
           NA,     A06,    154,   1,-999.0,       5,  2,19930222,1132,   7.4510,  -36.0010,  5252, 4394.500,    2.166,   34.874,2,   34.873,2,  253.300,2,  253.000,2,   48.300,2,   18.830,2,    0.000,2,    1.440,2,    0.025,2, -999.000,9, -999.000,9, -999.000,3, -999.000,3
           NA,     A06,    154,   1,-999.0,       4,  2,19930222,1132,   7.4510,  -36.0010,  5252, 4594.700,    2.161,   34.871,2,   34.868,2,  253.300,2,  252.500,2,   49.220,2,   18.930,2,    0.000,2,    1.440,2,    0.031,2,    0.014,2, -999.000,9, -999.000,3, -999.000,3
           NA,     A06,    154,   1,-999.0,       3,  2,19930222,1132,   7.4510,  -36.0010,  5252, 4791.800,    2.171,   34.868,2,   34.868,2,  253.500,2,  252.100,2,   49.690,2,   18.850,2,    0.000,2,    1.440,2,    0.023,2,    0.011,2, -999.000,9, -999.000,3, -999.000,3
           NA,     A06,    154,   1,-999.0,       2,  2,19930222,1132,   7.4510,  -36.0010,  5252, 4994.300,    2.191,   34.867,2,   34.869,2,  253.800,2,  252.600,2,   49.940,2,   18.730,2,    0.000,2,    1.440,2,    0.031,2,    0.013,2, -999.000,9, -999.000,3, -999.000,3
           NA,     A06,    154,   1,-999.0,       1,  2,19930222,1132,   7.4510,  -36.0010,  5252, 5239.900,    2.220,   34.866,2,   34.867,2,  251.500,2,  251.800,2,   50.720,2,   18.680,2,    0.000,2,    1.450,2,    0.028,2,    0.018,2, -999.000,9, -999.000,3, -999.000,3
           NA,     A06,    155,   1,-999.0,      32,  2,19930222,1747,   7.4490,  -35.4988,  4167,    1.600,   26.588,   36.205,2,   36.209,2,  199.500,2,  201.500,2,    1.630,2,    0.060,2,    0.000,2,    0.020,2,    1.804,2,    0.971,2, -999.000,9, -999.000,9, -999.000,9
           NA,     A06,    155,   1,-999.0,      31,  2,19930222,1747,   7.4490,  -35.4988,  4167,   24.900,   26.537,   36.204,2,   36.204,2,  202.800,2,  201.100,2,    1.630,2,    0.070,2,    0.000,2,    0.020,2,    1.796,2,    0.965,2, -999.000,9, -999.000,9, -999.000,9
           NA,     A06,    155,   1,-999.0,      30,  2,19930222,1747,   7.4490,  -35.4988,  4167,   68.400,   26.470,   36.204,2,   36.208,2,  201.800,2,  201.000,2,    1.640,2,    0.060,2,    0.000,2,    0.030,2,    1.777,2,    0.968,2, -999.000,9, -999.000,9, -999.000,9
           NA,     A06,    155,   1,-999.0,      29,  2,19930222,1747,   7.4490,  -35.4988,  4167,  118.900,   17.195,   36.144,2, -999.000,3,  138.200,2, -999.000,3,    5.310,2,   14.060,2,    0.050,2,    0.890,2,    1.363,2,    0.702,2, -999.000,9, -999.000,9, -999.000,9
           NA,     A06,    155,   1,-999.0,      28,  2,19930222,1747,   7.4490,  -35.4988,  4167,  193.600,   11.018,   35.074,2, -999.000,3,  130.500,2,  132.100,2,   10.360,2,   23.750,2,    0.000,2,    1.520,2,    0.882,2,    0.464,2, -999.000,9, -999.000,9, -999.000,9
           NA,     A06,    155,   1,-999.0,      27,  2,19930222,1747,   7.4490,  -35.4988,  4167,  293.300,    9.845,   34.941,2,   34.941,2,  119.500,2,  121.300,2,   12.680,2,   27.310,2,    0.000,2,    1.730,2,    0.582,2,    0.304,2, -999.000,9, -999.000,9, -999.000,9
           NA,     A06,    155,   1,-999.0,      26,  2,19930222,1747,   7.4490,  -35.4988,  4167,  392.200,    8.957,   34.873,2,   34.870,2,   91.700,2,   94.100,2,   15.390,2,   32.140,2,    0.000,2,    1.980,2,    0.250,2,    0.133,2, -999.000,9, -999.000,9, -999.000,9
           NA,     A06,    155,   1,-999.0,      25,  2,19930222,1747,   7.4490,  -35.4988,  4167,  593.800,    7.827,   34.834,2,   34.835,2,   88.700,2,   90.700,2,   19.360,2,   35.050,2,    0.000,2,    2.190,2,    0.065,2,    0.035,2, -999.000,9, -999.000,9, -999.000,9
           NA,     A06,    155,   1,-999.0,      24,  2,19930222,1747,   7.4490,  -35.4988,  4167,  792.400,    5.736,   34.684,2,   34.684,2,  116.700,2,  120.300,2,   26.460,2,   35.690,2,    0.000,2,    2.310,2,    0.007,2,    0.002,2, -999.000,9, -999.000,9, -999.000,9
           NA,     A06,    155,   1,-999.0,      23,  2,19930222,1747,   7.4490,  -35.4988,  4167,  991.900,    4.993,   34.762,2,   34.762,2,  142.700,2, -999.000,3,   26.800,2,   31.480,2,    0.000,2,    2.100,2,    0.006,2,    0.001,2, -999.000,9, -999.000,9, -999.000,9
           NA,     A06,    155,   1,-999.0,      22,  2,19930222,1747,   7.4490,  -35.4988,  4167, 1193.600,    4.807,   34.867,2,   34.864,2,  181.100,2,  177.700,2,   23.570,2,   27.810,2,    0.000,2,    1.870,2,    0.016,2,    0.009,2, -999.000,9, -999.000,9, -999.000,9
           NA,     A06,    155,   1,-999.0,      21,  2,19930222,1747,   7.4490,  -35.4988,  4167, 1392.100,    4.535,   34.953,2,   34.954,2,  212.300,2,  211.200,2,   19.230,2,   22.740,2,    0.000,2,    1.540,2,    0.033,2,    0.017,2, -999.000,9, -999.000,9, -999.000,9
           NA,     A06,    155,   1,-999.0,      20,  2,19930222,1747,   7.4490,  -35.4988,  4167, 1493.000,    4.391,   34.980,2,   34.982,2,  227.600,2,  226.600,2,   17.360,2,   20.620,2,    0.000,2,    1.420,2,    0.054,2,    0.026,2, -999.000,9, -999.000,9, -999.000,9
           NA,     A06,    155,   1,-999.0,      19,  2,19930222,1747,   7.4490,  -35.4988,  4167, 1592.800,    4.190,   34.986,2,   34.986,2,  238.500,2,  237.100,2,   16.830,2,   19.410,2,    0.000,2,    1.350,2,    0.053,2,    0.028,2, -999.000,9, -999.000,9, -999.000,9
           NA,     A06,    155,   1,-999.0,      18,  2,19930222,1747,   7.4490,  -35.4988,  4167, 1693.700,    3.966,   34.987,2,   34.988,2,  247.300,2,  245.700,2,   16.550,2,   18.560,2,    0.000,2,    1.290,2,    0.061,2,    0.040,2, -999.000,9, -999.000,9, -999.000,9
           NA,     A06,    155,   1,-999.0,      17,  2,19930222,1747,   7.4490,  -35.4988,  4167, 1793.500,    3.781,   34.982,2,   34.984,2,  251.900,2,  251.300,2,   17.250,2,   18.110,2,    0.000,2,    1.270,2,    0.043,2,    0.024,2, -999.000,9, -999.000,9, -999.000,9
           NA,     A06,    155,   1,-999.0,      16,  2,19930222,1747,   7.4490,  -35.4988,  4167, 1894.900,    3.608,   34.975,2,   34.969,2,  252.400,2,  251.200,2,   18.840,2,   18.070,2,    0.000,2,    1.280,2,    0.032,2,    0.017,2, -999.000,9, -999.000,9, -999.000,9
           NA,     A06,    155,   1,-999.0,      15,  2,19930222,1747,   7.4490,  -35.4988,  4167, 1895.200,    3.595,   34.974,2,   34.974,2,  252.400,2,  251.100,2,   18.770,2,   18.150,2,    0.000,2,    1.280,2,    0.034,2,    0.015,2, -999.000,9, -999.000,9, -999.000,9
           NA,     A06,    155,   1,-999.0,      14,  2,19930222,1747,   7.4490,  -35.4988,  4167, 1994.200,    3.499,   34.970,2,   34.970,2,  253.000,2,  252.900,2,   19.650,2,   17.910,2,    0.000,2,    1.280,2,    0.025,2,    0.008,2, -999.000,9, -999.000,9, -999.000,9
           NA,     A06,    155,   1,-999.0,      13,  2,19930222,1747,   7.4490,  -35.4988,  4167, 2194.400,    3.232,   34.957,2,   34.951,2,  254.100,2,  253.000,2,   23.320,2,   18.060,2,    0.000,2,    1.290,2,    0.014,2,    0.004,2, -999.000,9, -999.000,9, -999.000,9
           NA,     A06,    155,   1,-999.0,      12,  2,19930222,1747,   7.4490,  -35.4988,  4167, 2394.900,    3.046,   34.947,2,   34.946,2,  254.200,2,  253.500,2,   25.860,2,   18.350,2,    0.000,2,    1.310,2,    0.015,2,    0.004,2, -999.000,9, -999.000,9, -999.000,9
           NA,     A06,    155,   1,-999.0,      11,  2,19930222,1747,   7.4490,  -35.4988,  4167, 2695.200,    2.858,   34.936,2,   34.935,2,  254.700,2,  254.700,2,   28.550,2,   18.420,2,    0.000,2,    1.320,2,    0.014,2,    0.006,2, -999.000,9, -999.000,9, -999.000,9
           NA,     A06,    155,   1,-999.0,      10,  2,19930222,1747,   7.4490,  -35.4988,  4167, 2994.100,    2.662,   34.923,2,   34.924,2,  255.100,2,  255.700,2,   32.070,2,   18.500,2,    0.000,2,    1.340,2,    0.031,2,    0.008,2, -999.000,9, -999.000,9, -999.000,9
           NA,     A06,    155,   1,-999.0,       9,  2,19930222,1747,   7.4490,  -35.4988,  4167, 3193.700,    2.598,   34.916,2,   34.912,2,  255.000,2,  256.200,2,   33.970,2,   18.600,2,    0.000,2,    1.350,2,    0.012,2,    0.003,2, -999.000,9, -999.000,9, -999.000,9
           NA,     A06,    155,   1,-999.0,       8,  2,19930222,1747,   7.4490,  -35.4988,  4167, 3395.100,    2.501,   34.909,2,   34.904,2,  255.500,2,  255.900,2,   35.900,2,   18.710,2,    0.010,2,    1.350,2,    0.017,2,    0.009,2, -999.000,9, -999.000,9, -999.000,9
           NA,     A06,    155,   1,-999.0,       7,  2,19930222,1747,   7.4490,  -35.4988,  4167, 3595.200,    2.382,   34.899,2,   34.893,2,  255.600,2,  255.500,2,   38.890,2,   18.960,2,    0.000,2,    1.380,2,    0.024,2,    0.011,2, -999.000,9, -999.000,9, -999.000,9
           NA,     A06,    155,   1,-999.0,       6,  2,19930222,1747,   7.4490,  -35.4988,  4167, 3795.400,    2.303,   34.890,2,   34.890,2,  255.500,2,  254.900,2,   42.070,2,   19.200,2,    0.000,2,    1.410,2,    0.028,2,    0.014,2, -999.000,9, -999.000,9, -999.000,9
           NA,     A06,    155,   1,-999.0,       5,  2,19930222,1747,   7.4490,  -35.4988,  4167, 3893.300,    2.280,   34.889,2,   34.885,2,  255.300,2,  254.600,2,   42.940,2,   19.410,2,    0.000,2,    1.410,2,    0.030,2,    0.011,2, -999.000,9, -999.000,9, -999.000,9
           NA,     A06,    155,   1,-999.0,       4,  2,19930222,1747,   7.4490,  -35.4988,  4167, 3993.900,    2.224,   34.882,2,   34.882,2,  254.400,2,  254.000,2,   44.930,2,   19.480,2,    0.010,2,    1.400,2,    0.034,2,    0.016,2, -999.000,9, -999.000,9, -999.000,9
           NA,     A06,    155,   1,-999.0,       3,  2,19930222,1747,   7.4490,  -35.4988,  4167, 4094.000,    2.231,   34.882,2,   34.882,2,  254.200,2,  254.300,2,   45.590,2,   19.150,2, -999.000,3,    1.410,2,    0.028,2,    0.015,2, -999.000,9, -999.000,9, -999.000,9
           NA,     A06,    155,   1,-999.0,       2,  2,19930222,1747,   7.4490,  -35.4988,  4167, 4168.300,    2.240,   34.882,2,   34.882,2,  254.000,2,  253.900,2,   45.460,2, -999.000,3,    0.000,2,    1.430,2,    0.040,2,    0.013,2, -999.000,9, -999.000,9, -999.000,9
           NA,     A06,    155,   1,-999.0,       1,  2,19930222,1747,   7.4490,  -35.4988,  4167, 4204.700,    2.244,   34.882,2,   34.881,2,  252.500,2,  254.200,2,   45.290,2,   19.830,2,    0.000,2,    1.430,2,    0.030,2,    0.014,2, -999.000,9, -999.000,9, -999.000,9