BOTTLE,20205402JOAExport
EXPOCODE,SECT_ID,STNNBR,CASTNO,SAMPNO,BTLNBR,BTLNBR_FLAG_W,DATE,TIME,LATITUDE,LONGITUDE,DEPTH,CTDPRS,CTDTMP,CTDSAL,CTDSAL_FLAG_W,SALNTY,SALNTY_FLAG_W,CTDOXY,CTDOXY_FLAG_W,OXYGEN,OXYGEN_FLAG_W,SILCAT,SILCAT_FLAG_W,NITRAT,NITRAT_FLAG_W,NITRIT,NITRIT_FLAG_W,PHSPHT,PHSPHT_FLAG_W,CFC-11,CFC-11_FLAG_W,CFC-12,CFC-12_FLAG_W,SF6,SF6_FLAG_W,TCARBN,TCARBN_FLAG_W,ALKALI,ALKALI_FLAG_W
,,,,,,,,,,,,,DB,DEG C,PSS-78,,PSS-78,,UMOL/KG,,UMOL/KG,,UMOL/KG,,UMOL/KG,,UMOL/KG,,UMOL/KG,,PMOL/KG,,PMOL/KG,,FMOL/KG,,UMOL/KG,,UMOL/KG
           NA,     A06,    126,   1,-999.0,      30,  2,19930214,1522,   6.2213,  -51.0495,  2996,    0.700,   26.803,   36.404,2,   36.405,2,  200.100,2,  202.300,2,    1.830,2,    0.000,2,    0.000,2,    0.080,2,    1.809,2,    0.963,2, -999.000,9, 2042.000,2, 2408.300,2
           NA,     A06,    126,   1,-999.0,      29,  2,19930214,1522,   6.2213,  -51.0495,  2996,   44.100,   26.732,   36.403,2,   36.405,2,  204.200,2,  202.200,2,    1.800,2,    0.000,2,    0.000,2,    0.070,2, -999.000,9, -999.000,9, -999.000,9, 2046.400,2, 2411.700,2
           NA,     A06,    126,   1,-999.0,      28,  2,19930214,1522,   6.2213,  -51.0495,  2996,   69.500,   26.732,   36.405,2,   36.403,2,  203.500,2,  202.000,2,    1.780,2,    0.000,2,    0.000,2,    0.070,2,    1.813,2,    0.984,2, -999.000,9, 2049.600,2, 2415.300,2
           NA,     A06,    126,   1,-999.0,      27,  2,19930214,1522,   6.2213,  -51.0495,  2996,  118.600,   24.687,   36.383,2, -999.000,3,  199.900,2, -999.000,3,    2.510,2,    2.240,2,    0.240,2,    0.240,2,    1.767,2,    0.950,2, -999.000,9, 2071.000,2, 2403.700,2
           NA,     A06,    126,   1,-999.0,      26,  2,19930214,1522,   6.2213,  -51.0495,  2996,  193.300,   14.077,   35.670,2,   35.672,2,  117.000,2,  113.100,2,    7.900,2,   20.370,2,    0.000,2,    1.200,2,    1.129,2,    0.579,2, -999.000,9, 2187.600,2, 2361.000,2
           NA,     A06,    126,   1,-999.0,      25,  2,19930214,1522,   6.2213,  -51.0495,  2996,  293.500,   10.024,   35.022,2, -999.000,3,  118.000,2,  119.300,2,   13.270,2,   26.920,2,    0.000,2,    1.690,2,    0.611,2,    0.306,2, -999.000,9, 2201.900,2, 2328.900,2
           NA,     A06,    126,   1,-999.0,      24,  2,19930214,1522,   6.2213,  -51.0495,  2996,  391.500,    8.064,   34.754,2,   34.756,2,  128.200,2,  133.500,2,   17.010,2,   29.440,2,    0.000,2,    1.890,2,    0.439,2,    0.226,2, -999.000,9, 2205.400,2, 2319.900,2
           NA,     A06,    126,   1,-999.0,      23,  2,19930214,1522,   6.2213,  -51.0495,  2996,  492.400,    6.736,   34.607,2,   34.606,2,  148.900,2,  144.800,2,   21.020,2,   31.470,2,    0.000,2,    2.030,2, -999.000,9, -999.000,9, -999.000,9, 2209.800,2, 2313.600,2
           NA,     A06,    126,   1,-999.0,      22,  2,19930214,1522,   6.2213,  -51.0495,  2996,  591.600,    6.263,   34.619,2,   34.618,2,  131.500,2,  130.500,2,   23.650,2,   33.620,2,    0.000,2,    2.180,2,    0.121,2,    0.063,2, -999.000,9, 2219.000,2, 2310.000,2
           NA,     A06,    126,   1,-999.0,      21,  2,19930214,1522,   6.2213,  -51.0495,  2996,  692.900,    5.618,   34.583,2,   34.580,2,  137.400,2,  134.900,2,   26.700,2,   34.450,2,    0.000,2,    2.250,2, -999.000,9, -999.000,9, -999.000,9, 2228.100,2, 2317.200,2
           NA,     A06,    126,   1,-999.0,      20,  2,19930214,1522,   6.2213,  -51.0495,  2996,  692.900,    5.602,   34.582,2,   34.580,2,  137.400,2,  134.900,2,   26.740,2,   34.400,2,    0.000,2,    2.250,2,    0.064,2,    0.030,2, -999.000,9, 2219.700,2, 2307.100,2
           NA,     A06,    126,   1,-999.0,      19,  2,19930214,1522,   6.2213,  -51.0495,  2996,  793.000,    5.248,   34.606,2,   34.600,2,  141.300,2,  139.800,2,   28.670,2,   34.270,2,    0.000,2,    2.250,2,    0.038,2,    0.017,2, -999.000,9, 2223.200,2, 2313.100,2
           NA,     A06,    126,   1,-999.0,      18,  2,19930214,1522,   6.2213,  -51.0495,  2996,  891.600,    5.065,   34.652,2,   34.651,2,  145.400,2,  143.400,2,   29.030,2,   33.480,2,    0.000,2,    2.210,2,    0.019,2,    0.007,2, -999.000,9, 2224.200,2, 2315.800,2
           NA,     A06,    126,   1,-999.0,      17,  2,19930214,1522,   6.2213,  -51.0495,  2996,  992.600,    5.005,   34.734,2,   34.730,2,  154.500,2,  153.700,2,   27.950,2,   31.640,2,    0.000,2,    2.080,2,    0.021,2,    0.008,2, -999.000,9, 2213.300,2, 2314.900,2
           NA,     A06,    126,   1,-999.0,      16,  2,19930214,1522,   6.2213,  -51.0495,  2996, 1193.200,    5.228,   34.944,2,   34.941,2,  184.700,2,  188.800,2,   21.060,2,   25.420,2,    0.000,2,    1.650,2,    0.106,2,    0.051,2, -999.000,9, 2201.800,2, 2333.500,2
           NA,     A06,    126,   1,-999.0,      15,  2,19930214,1522,   6.2213,  -51.0495,  2996, 1393.100,    4.719,   35.002,2,   35.001,2,  224.700,2,  226.500,2,   17.130,2,   21.240,2,    0.000,2,    1.380,2,    0.176,2,    0.091,2, -999.000,9, 2173.300,2, 2322.800,2
           NA,     A06,    126,   1,-999.0,      14,  2,19930214,1522,   6.2213,  -51.0495,  2996, 1492.500,    4.459,   35.009,2,   35.011,2,  242.500,2,  242.400,2,   15.650,2,   19.760,2,    0.000,2,    1.270,2,    0.221,2,    0.115,2, -999.000,9, 2165.400,2, 2322.300,2
           NA,     A06,    126,   1,-999.0,      13,  2,19930214,1522,   6.2213,  -51.0495,  2996, 1593.600,    4.114,   35.004,2,   35.004,2,  257.000,2,  254.700,2,   14.990,2,   18.800,2,    0.000,2,    1.200,2,    0.216,2,    0.106,2, -999.000,9, 2166.500,2, 2328.900,2
           NA,     A06,    126,   1,-999.0,      11,  2,19930214,1522,   6.2213,  -51.0495,  2996, 1692.600,    3.950,   34.998,2,   35.001,2,  260.500,2,  257.800,2,   15.550,2,   18.650,2,    0.000,2,    1.190,2,    0.166,2,    0.090,2, -999.000,9, 2173.400,2, 2337.000,2
           NA,     A06,    126,   1,-999.0,      12,  2,19930214,1522,   6.2213,  -51.0495,  2996, 1693.100,    3.948,   34.999,2,   35.001,2,  260.500,2,  257.600,2,   15.670,2,   18.650,2,    0.000,2,    1.190,2,    0.166,2,    0.084,2, -999.000,9, -999.000,3, -999.000,3
           NA,     A06,    126,   1,-999.0,      10,  2,19930214,1522,   6.2213,  -51.0495,  2996, 1793.800,    3.782,   34.992,2,   34.996,2,  263.300,2,  260.800,2,   16.010,2,   18.490,2,    0.000,2,    1.180,2,    0.155,2,    0.083,2, -999.000,9, 2169.900,2, 2334.700,2
           NA,     A06,    126,   1,-999.0,       9,  2,19930214,1522,   6.2213,  -51.0495,  2996, 1893.300,    3.636,   34.987,2,   34.988,2,  264.000,2,  262.000,2,   16.880,2,   18.410,2,    0.000,2,    1.180,2,    0.133,2,    0.066,2, -999.000,9, 2166.400,2, 2331.500,2
           NA,     A06,    126,   1,-999.0,       8,  2,19930214,1522,   6.2213,  -51.0495,  2996, 2093.600,    3.332,   34.972,2,   34.972,2,  264.100,2,  262.900,2,   19.490,2,   18.550,2,    0.000,2,    1.190,2,    0.084,2,    0.042,2, -999.000,9, 2165.700,2, 2331.100,2
           NA,     A06,    126,   1,-999.0,       7,  2,19930214,1522,   6.2213,  -51.0495,  2996, 2194.400,    3.213,   34.967,2,   34.967,2,  265.200,2,  263.300,2,   20.630,2,   18.610,2,    0.000,2,    1.190,2,    0.080,2,    0.039,2, -999.000,9, 2170.200,2, 2336.300,2
           NA,     A06,    126,   1,-999.0,       6,  2,19930214,1522,   6.2213,  -51.0495,  2996, 2393.800,    3.028,   34.955,2,   34.956,2,  264.600,2,  263.600,2,   22.640,2,   18.770,2,    0.000,2,    1.210,2,    0.075,2,    0.037,2, -999.000,9, 2162.900,2, 2327.700,2
           NA,     A06,    126,   1,-999.0,       5,  2,19930214,1522,   6.2213,  -51.0495,  2996, 2493.000,    2.940,   34.950,2,   34.951,2,  264.400,2,  263.400,2,   23.980,2,   18.920,2,    0.000,2,    1.220,2,    0.072,2,    0.033,2, -999.000,9, -999.000,3, -999.000,3
           NA,     A06,    126,   1,-999.0,       4,  2,19930214,1522,   6.2213,  -51.0495,  2996, 2694.700,    2.748,   34.938,2,   34.936,2,  263.200,2,  262.800,2,   27.250,2,   19.240,2,    0.000,2,    1.250,2,    0.070,2,    0.033,2, -999.000,9, -999.000,3, -999.000,3
           NA,     A06,    126,   1,-999.0,       3,  2,19930214,1522,   6.2213,  -51.0495,  2996, 2794.600,    2.708,   34.934,2,   34.932,2,  262.500,2,  262.000,2,   28.570,2,   19.420,2,    0.000,2,    1.260,2,    0.063,2,    0.030,2, -999.000,9, -999.000,3, -999.000,3
           NA,     A06,    126,   1,-999.0,       2,  2,19930214,1522,   6.2213,  -51.0495,  2996, 2992.700,    2.606,   34.927,2,   34.926,2,  263.000,2,  262.900,2,   29.460,2,   19.380,2,    0.000,2,    1.250,2,    0.087,2,    0.043,2, -999.000,9, -999.000,3, -999.000,3
           NA,     A06,    126,   1,-999.0,       1,  2,19930214,1522,   6.2213,  -51.0495,  2996, 3062.600,    2.537,   34.921,2,   34.922,2,  260.800,2,  263.000,2,   30.550,2,   19.440,2,    0.000,2,    1.270,2,    0.085,2,    0.038,2, -999.000,9, -999.000,3, -999.000,3
           NA,     A06,    127,   1,-999.0,      30,  2,19930214,2001,   6.3288,  -50.9032,  3397,    0.800,   26.745,   36.366,2,   36.366,2,  201.000,2,  203.100,2,    1.790,2,    0.090,2,    0.000,2,    0.040,2,    1.801,2,    0.964,2, -999.000,9, -999.000,9, -999.000,9
           NA,     A06,    127,   1,-999.0,      29,  2,19930214,2001,   6.3288,  -50.9032,  3397,   30.500,   26.694,   36.365,2,   36.365,2,  204.000,2,  203.300,2,    1.720,2,    0.080,2,    0.000,2,    0.040,2,    1.794,2,    0.953,2, -999.000,9, -999.000,9, -999.000,9
           NA,     A06,    127,   1,-999.0,      28,  2,19930214,2001,   6.3288,  -50.9032,  3397,   69.600,   26.689,   36.366,2,   36.365,2,  203.900,2,  203.000,2,    1.710,2,    0.060,2,    0.000,2,    0.040,2,    1.811,2,    0.965,2, -999.000,9, -999.000,9, -999.000,9
           NA,     A06,    127,   1,-999.0,      27,  2,19930214,2001,   6.3288,  -50.9032,  3397,  118.500,   26.332,   36.399,2,   36.400,2,  198.600,2,  196.400,2,    1.930,2,    0.590,2,    0.190,2,    0.100,2,    1.751,2,    0.940,2, -999.000,9, -999.000,9, -999.000,9
           NA,     A06,    127,   1,-999.0,      26,  2,19930214,2001,   6.3288,  -50.9032,  3397,  194.400,   15.224,   35.680,2, -999.000,3,  122.500,2,  123.400,2,    6.570,2,   17.360,2,    0.010,2,    0.970,2,    1.301,2,    0.662,2, -999.000,9, -999.000,9, -999.000,9
           NA,     A06,    127,   1,-999.0,      25,  2,19930214,2001,   6.3288,  -50.9032,  3397,  293.100,    9.681,   34.948,2, -999.000,3,  112.900,2,  116.400,2,   13.620,2,   27.740,2,    0.000,2,    1.700,2,    0.547,2,    0.268,2, -999.000,9, -999.000,9, -999.000,9
           NA,     A06,    127,   1,-999.0,      24,  2,19930214,2001,   6.3288,  -50.9032,  3397,  393.300,    8.121,   34.760,2,   34.761,2,  116.300,2,  119.100,2,   17.680,2,   31.230,2,    0.000,2,    1.940,2,    0.305,2,    0.142,2, -999.000,9, -999.000,9, -999.000,9
           NA,     A06,    127,   1,-999.0,      23,  2,19930214,2001,   6.3288,  -50.9032,  3397,  493.200,    7.146,   34.665,2,   34.661,2,  126.800,2,  127.000,2,   20.480,2,   32.640,2,    0.000,2,    2.060,2,    0.207,2,    0.099,2, -999.000,9, -999.000,9, -999.000,9
           NA,     A06,    127,   1,-999.0,      21,  2,19930214,2001,   6.3288,  -50.9032,  3397,  592.900,    6.245,   34.613,2,   34.608,2,  123.400,2,  128.500,2,   24.170,2,   34.260,2,    0.000,2,    2.190,2,    0.093,2,    0.050,2, -999.000,9, -999.000,9, -999.000,9
           NA,     A06,    127,   1,-999.0,      22,  2,19930214,2001,   6.3288,  -50.9032,  3397,  592.900,    6.240,   34.611,2,   34.608,2,  123.400,2, -999.000,3,   24.200,2,   34.210,2,    0.000,2,    2.180,2,    0.100,2,    0.051,2, -999.000,9, -999.000,9, -999.000,9
           NA,     A06,    127,   1,-999.0,      20,  2,19930214,2001,   6.3288,  -50.9032,  3397,  793.100,    5.177,   34.573,2,   34.574,2,  141.900,2,  141.800,2,   28.960,2,   34.400,2,    0.000,2,    2.250,2,    0.033,2,    0.014,2, -999.000,9, -999.000,9, -999.000,9
           NA,     A06,    127,   1,-999.0,      19,  2,19930214,2001,   6.3288,  -50.9032,  3397,  993.300,    4.823,   34.700,2,   34.695,2,  152.800,2,  156.900,2,   28.840,2,   32.000,2,    0.000,2,    2.090,2,    0.017,2,    0.006,2, -999.000,9, -999.000,9, -999.000,9
           NA,     A06,    127,   1,-999.0,      18,  2,19930214,2001,   6.3288,  -50.9032,  3397, 1193.300,    4.868,   34.849,2,   34.846,2,  178.000,2,  178.000,2,   24.550,2,   27.990,2,    0.000,2,    1.820,2,    0.040,2,    0.009,2, -999.000,9, -999.000,9, -999.000,9
           NA,     A06,    127,   1,-999.0,      17,  2,19930214,2001,   6.3288,  -50.9032,  3397, 1393.400,    4.825,   35.005,2, -999.000,3,  218.100,2,  223.000,2,   17.990,2,   21.950,2,    0.000,2,    1.410,2,    0.150,2,    0.072,2, -999.000,9, -999.000,9, -999.000,9
           NA,     A06,    127,   1,-999.0,      16,  2,19930214,2001,   6.3288,  -50.9032,  3397, 1493.000,    4.421,   35.012,2,   35.010,2,  243.800,2,  245.700,2,   15.320,2,   19.410,2,    0.000,2,    1.230,2,    0.250,2,    0.125,2, -999.000,9, -999.000,9, -999.000,9
           NA,     A06,    127,   1,-999.0,      15,  2,19930214,2001,   6.3288,  -50.9032,  3397, 1593.700,    4.186,   35.001,2,   35.000,2,  250.700,2,  249.000,2,   15.870,2,   19.360,2,    0.000,2,    1.230,2,    0.149,2,    0.074,2, -999.000,9, -999.000,9, -999.000,9
           NA,     A06,    127,   1,-999.0,      14,  2,19930214,2001,   6.3288,  -50.9032,  3397, 1693.400,    4.018,   35.000,2,   34.997,2,  256.900,2,  256.900,2,   15.550,2,   18.780,2,    0.000,2,    1.190,2,    0.156,2,    0.075,2, -999.000,9, -999.000,9, -999.000,9
           NA,     A06,    127,   1,-999.0,      12,  2,19930214,2001,   6.3288,  -50.9032,  3397, 1793.900,    3.870,   34.995,2,   34.993,2,  261.200,2,  261.800,2,   15.660,2,   18.340,2,    0.000,2,    1.170,2,    0.160,2,    0.077,2, -999.000,9, -999.000,9, -999.000,9
           NA,     A06,    127,   1,-999.0,      13,  2,19930214,2001,   6.3288,  -50.9032,  3397, 1794.200,    3.873,   34.995,2,   34.996,2,  261.200,2,  261.000,2,   15.700,2,   18.340,2,    0.000,2,    1.170,2,    0.162,2,    0.081,2, -999.000,9, -999.000,9, -999.000,9
           NA,     A06,    127,   1,-999.0,      11,  2,19930214,2001,   6.3288,  -50.9032,  3397, 1894.200,    3.679,   34.989,2,   34.988,2,  262.700,2,  263.100,2,   16.810,2,   18.300,2,    0.000,2,    1.170,2,    0.117,2,    0.058,2, -999.000,9, -999.000,9, -999.000,9
           NA,     A06,    127,   1,-999.0,      10,  2,19930214,2001,   6.3288,  -50.9032,  3397, 1993.700,    3.542,   34.982,2,   34.981,2,  263.600,2,  263.300,2,   17.630,2,   18.210,2,    0.000,2,    1.170,2,    0.107,2,    0.051,2, -999.000,9, -999.000,9, -999.000,9
           NA,     A06,    127,   1,-999.0,       9,  2,19930214,2001,   6.3288,  -50.9032,  3397, 2193.900,    3.283,   34.969,2,   34.971,2,  264.700,2, -999.000,9,   19.730,2,   18.450,2,    0.000,2,    1.180,2,    0.083,2,    0.041,2, -999.000,9, -999.000,9, -999.000,9
           NA,     A06,    127,   1,-999.0,       8,  2,19930214,2001,   6.3288,  -50.9032,  3397, 2394.000,    3.054,   34.958,2, -999.000,3,  263.700,2,  263.400,2,   22.670,2,   18.730,2,    0.000,2,    1.200,2,    0.064,2,    0.031,2, -999.000,9, -999.000,9, -999.000,9
           NA,     A06,    127,   1,-999.0,       7,  2,19930214,2001,   6.3288,  -50.9032,  3397, 2693.600,    2.742,   34.937,2, -999.000,3,  263.900,2,  264.700,2,   25.860,2,   18.750,2,    0.000,2,    1.210,2,    0.104,2,    0.047,2, -999.000,9, -999.000,9, -999.000,9
           NA,     A06,    127,   1,-999.0,       6,  2,19930214,2001,   6.3288,  -50.9032,  3397, 2994.300,    2.494,   34.919,2,   34.917,2,  263.400,2,  265.100,2,   30.740,2,   19.250,2,    0.000,2,    1.250,2,    0.100,2,    0.051,2, -999.000,9, -999.000,9, -999.000,9
           NA,     A06,    127,   1,-999.0,       5,  2,19930214,2001,   6.3288,  -50.9032,  3397, 3095.100,    2.424,   34.914,2,   34.914,2,  262.900,2,  263.700,2,   32.510,2,   19.450,2,    0.000,2,    1.280,2,    0.057,2,    0.031,2, -999.000,9, -999.000,9, -999.000,9
           NA,     A06,    127,   1,-999.0,       4,  2,19930214,2001,   6.3288,  -50.9032,  3397, 3194.500,    2.377,   34.911,2,   34.907,2,  264.900,2,  267.300,2,   31.330,2,   19.020,2,    0.000,2,    1.250,2,    0.094,2,    0.044,2, -999.000,9, -999.000,9, -999.000,9
           NA,     A06,    127,   1,-999.0,       3,  2,19930214,2001,   6.3288,  -50.9032,  3397, 3295.500,    2.353,   34.911,2,   34.909,2,  267.100,2,  268.500,2,   29.890,2,   18.710,2,    0.000,2,    1.230,2,    0.132,2,    0.068,2, -999.000,9, -999.000,9, -999.000,9
           NA,     A06,    127,   1,-999.0,       2,  2,19930214,2001,   6.3288,  -50.9032,  3397, 3394.800,    2.355,   34.911,2,   34.908,2,  267.300,2,  269.000,2,   29.590,2,   18.580,2,    0.000,2,    1.230,2,    0.142,2,    0.070,2, -999.000,9, -999.000,9, -999.000,9
           NA,     A06,    127,   1,-999.0,       1,  2,19930214,2001,   6.3288,  -50.9032,  3397, 3417.700,    2.353,   34.912,2,   34.910,2,  265.500,2,  269.100,2,   29.860,2,   18.530,2,    0.000,2,    1.230,2,    0.145,2,    0.072,2, -999.000,9, -999.000,9, -999.000,9