BOTTLE,20205402JOAExport
EXPOCODE,SECT_ID,STNNBR,CASTNO,SAMPNO,BTLNBR,BTLNBR_FLAG_W,DATE,TIME,LATITUDE,LONGITUDE,DEPTH,CTDPRS,CTDTMP,CTDSAL,CTDSAL_FLAG_W,SALNTY,SALNTY_FLAG_W,CTDOXY,CTDOXY_FLAG_W,OXYGEN,OXYGEN_FLAG_W,SILCAT,SILCAT_FLAG_W,NITRAT,NITRAT_FLAG_W,NITRIT,NITRIT_FLAG_W,PHSPHT,PHSPHT_FLAG_W,CFC-11,CFC-11_FLAG_W,CFC-12,CFC-12_FLAG_W,SF6,SF6_FLAG_W,TCARBN,TCARBN_FLAG_W,ALKALI,ALKALI_FLAG_W
,,,,,,,,,,,,,DB,DEG C,PSS-78,,PSS-78,,UMOL/KG,,UMOL/KG,,UMOL/KG,,UMOL/KG,,UMOL/KG,,UMOL/KG,,PMOL/KG,,PMOL/KG,,FMOL/KG,,UMOL/KG,,UMOL/KG
           NA,     A06,    128,   1,-999.0,      32,  2,19930215,0152,   6.6740,  -50.6685,  3816,    4.100,   26.629,   36.336,2,   36.335,2,  201.100,2,  202.900,2,    1.680,2,    0.080,2,    0.000,2,    0.050,2,    1.794,2,    0.961,2, -999.000,9, 2041.700,2, 2411.100,2
           NA,     A06,    128,   1,-999.0,      31,  2,19930215,0152,   6.6740,  -50.6685,  3816,   24.300,   26.636,   36.336,2,   36.335,2,  200.900,2,  203.200,2,    1.690,2,    0.070,2,    0.000,2,    0.060,2,    1.816,2,    0.977,2, -999.000,9, -999.000,3, -999.000,3
           NA,     A06,    128,   1,-999.0,      30,  2,19930215,0152,   6.6740,  -50.6685,  3816,   44.600,   26.643,   36.336,2,   36.335,2,  202.000,2,  202.900,2,    1.680,2,    0.110,2,    0.000,2,    0.060,2,    1.805,2,    0.980,2, -999.000,9, 2049.000,2, 2416.300,2
           NA,     A06,    128,   1,-999.0,      29,  2,19930215,0152,   6.6740,  -50.6685,  3816,   92.000,   26.627,   36.336,2,   36.332,2,  204.300,2,  202.200,2,    1.700,2,    0.080,2,    0.000,2,    0.060,2,    1.799,2,    0.988,2, -999.000,9, 2055.900,2, 2425.600,2
           NA,     A06,    128,   1,-999.0,      28,  2,19930215,0152,   6.6740,  -50.6685,  3816,  143.100,   23.299,   36.435,2,   36.433,2,  188.800,2,  184.200,2,    2.470,2,    3.180,2,    0.080,2,    0.300,2, -999.000,9, -999.000,9, -999.000,9, 2095.700,2, 2419.500,2
           NA,     A06,    128,   1,-999.0,      27,  2,19930215,0152,   6.6740,  -50.6685,  3816,  191.900,   17.406,   36.180,2, -999.000,3,  122.000,2,  122.300,2,    5.070,2,   14.710,2,    0.010,2,    0.820,2,    1.472,2,    0.767,2, -999.000,9, 2165.500,2, 2383.400,2
           NA,     A06,    128,   1,-999.0,      26,  2,19930215,0152,   6.6740,  -50.6685,  3816,  292.800,    9.609,   34.939,2, -999.000,3,  110.300,2,  111.800,2,   13.170,2,   28.580,2,    0.000,2,    1.760,2,    0.482,2,    0.240,2, -999.000,9, 2209.400,2, 2327.600,2
           NA,     A06,    128,   1,-999.0,      25,  2,19930215,0152,   6.6740,  -50.6685,  3816,  392.500,    8.488,   34.837,2, -999.000,3,  107.300,2,  107.500,2,   16.150,2,   31.510,2,    0.000,2,    1.950,2,    0.261,2,    0.128,2, -999.000,9, 2230.600,2, 2334.200,2
           NA,     A06,    128,   1,-999.0,      24,  2,19930215,0152,   6.6740,  -50.6685,  3816,  592.500,    6.355,   34.623,2,   34.619,2,  125.500,2,  125.700,2,   22.340,2,   34.160,2,    0.000,2,    2.190,2,    0.103,2,    0.055,2, -999.000,9, -999.000,3, -999.000,3
           NA,     A06,    128,   1,-999.0,      23,  2,19930215,0152,   6.6740,  -50.6685,  3816,  791.800,    5.257,   34.609,2,   34.607,2,  137.700,2,  136.800,2,   27.090,2,   34.410,2,    0.000,2,    2.250,2,    0.026,2,    0.013,2, -999.000,9, -999.000,3, -999.000,3
           NA,     A06,    128,   1,-999.0,      22,  2,19930215,0152,   6.6740,  -50.6685,  3816,  792.000,    5.221,   34.605,2,   34.604,2,  137.700,2,  138.100,2,   27.110,2,   34.380,2,    0.000,2,    2.250,2,    0.024,2,    0.012,2, -999.000,9, 2233.600,2, 2324.800,2
           NA,     A06,    128,   1,-999.0,      21,  2,19930215,0152,   6.6740,  -50.6685,  3816,  992.800,    4.812,   34.676,2,   34.672,2,  155.100,2,  153.300,2,   27.760,2,   32.440,2,    0.000,2,    2.150,2,    0.017,2,    0.004,2, -999.000,9, 2210.900,2, 2311.000,2
           NA,     A06,    128,   1,-999.0,      20,  2,19930215,0152,   6.6740,  -50.6685,  3816, 1192.000,    4.971,   34.864,2, -999.000,3,  177.900,2,  175.800,2,   22.770,2,   27.860,2,    0.000,2,    1.840,2,    0.045,2,    0.017,2, -999.000,9, 2193.700,2, 2313.500,2
           NA,     A06,    128,   1,-999.0,      19,  2,19930215,0152,   6.6740,  -50.6685,  3816, 1391.800,    4.804,   34.977,2,   34.974,2,  212.500,2,  214.400,2,   17.570,2,   22.640,2,    0.000,2,    1.470,2,    0.157,2,    0.069,2, -999.000,9, 2179.800,2, 2324.600,2
           NA,     A06,    128,   1,-999.0,      18,  2,19930215,0152,   6.6740,  -50.6685,  3816, 1492.500,    4.670,   35.004,2,   35.002,2,  231.700,2,  229.700,2,   15.860,2,   20.890,2,    0.000,2,    1.350,2,    0.181,2,    0.082,2, -999.000,9, 2178.800,2, 2332.200,2
           NA,     A06,    128,   1,-999.0,      17,  2,19930215,0152,   6.6740,  -50.6685,  3816, 1592.900,    4.407,   35.012,2,   35.010,2,  247.600,2,  245.900,2,   14.200,2,   19.330,2,    0.000,2,    1.240,2,    0.252,2,    0.126,2, -999.000,9, 2179.400,2, 2341.000,2
           NA,     A06,    128,   1,-999.0,      16,  2,19930215,0152,   6.6740,  -50.6685,  3816, 1692.700,    4.148,   35.004,2,   35.003,2,  254.200,2,  253.100,2,   14.450,2,   18.920,2,    0.000,2,    1.210,2,    0.217,2,    0.108,2, -999.000,9, 2176.100,2, 2338.900,2
           NA,     A06,    128,   1,-999.0,      15,  2,19930215,0152,   6.6740,  -50.6685,  3816, 1792.900,    3.986,   35.000,2,   34.998,2,  260.100,2,  258.000,2,   14.580,2,   18.730,2,    0.000,2,    1.190,2,    0.206,2,    0.099,2, -999.000,9, 2162.200,2, 2328.100,2
           NA,     A06,    128,   1,-999.0,      14,  2,19930215,0152,   6.6740,  -50.6685,  3816, 1894.000,    3.735,   34.990,2,   34.993,2,  262.500,2,  260.800,2,   15.600,2,   18.630,2,    0.000,2,    1.180,2,    0.136,2,    0.063,2, -999.000,9, 2161.700,2, 2327.500,2
           NA,     A06,    128,   1,-999.0,      13,  2,19930215,0152,   6.6740,  -50.6685,  3816, 1894.100,    3.732,   34.991,2,   34.990,2,  262.500,2,  260.900,2,   15.380,2,   18.430,2,    0.000,2,    1.170,2,    0.147,2,    0.068,2, -999.000,9, 2164.000,2, 2330.400,2
           NA,     A06,    128,   1,-999.0,      12,  2,19930215,0152,   6.6740,  -50.6685,  3816, 1993.700,    3.583,   34.983,2,   34.985,2,  263.200,2,  261.100,2,   16.820,2,   18.570,2,    0.000,2,    1.190,2,    0.095,2,    0.046,2, -999.000,9, 2173.200,2, 2339.600,2
           NA,     A06,    128,   1,-999.0,      11,  2,19930215,0152,   6.6740,  -50.6685,  3816, 2195.000,    3.339,   34.972,2,   34.975,2,  263.400,2,  262.000,2,   18.970,2,   18.740,2,    0.000,2,    1.200,2,    0.066,2,    0.026,2, -999.000,9, 2175.100,2, 2342.400,2
           NA,     A06,    128,   1,-999.0,      10,  2,19930215,0152,   6.6740,  -50.6685,  3816, 2394.100,    3.124,   34.961,2,   34.961,2,  263.700,2,  264.400,2,   20.430,2,   18.730,2,    0.000,2,    1.200,2,    0.074,2,    0.036,2, -999.000,9, -999.000,3, -999.000,3
           NA,     A06,    128,   1,-999.0,       9,  2,19930215,0152,   6.6740,  -50.6685,  3816, 2694.800,    2.855,   34.943,2,   34.943,2,  262.600,2,  262.600,2,   24.570,2,   19.160,2,    0.000,2,    1.230,2,    0.076,2,    0.030,2, -999.000,9, 2161.900,2, 2327.900,2
           NA,     A06,    128,   1,-999.0,       8,  2,19930215,0152,   6.6740,  -50.6685,  3816, 2994.300,    2.616,   34.927,2,   34.928,2,  263.700,2,  263.700,2,   27.390,2,   19.190,2,    0.000,2,    1.240,2,    0.094,2,    0.043,2, -999.000,9, -999.000,3, -999.000,3
           NA,     A06,    128,   1,-999.0,       7,  2,19930215,0152,   6.6740,  -50.6685,  3816, 3194.800,    2.424,   34.913,2,   34.913,2,  262.700,2,  263.200,2,   30.880,2,   19.490,2,    0.000,2,    1.260,2,    0.068,2,    0.032,2, -999.000,9, -999.000,3, -999.000,3
           NA,     A06,    128,   1,-999.0,       6,  2,19930215,0152,   6.6740,  -50.6685,  3816, 3294.200,    2.360,   34.909,2,   34.911,2,  265.000,2,  266.200,2,   30.240,2,   19.200,2,    0.000,2,    1.240,2,    0.100,2,    0.050,2, -999.000,9, 2181.300,2, 2346.700,2
           NA,     A06,    128,   1,-999.0,       5,  2,19930215,0152,   6.6740,  -50.6685,  3816, 3393.900,    2.309,   34.907,2,   34.907,2,  265.900,2,  267.200,2,   30.040,2,   19.130,2,    0.000,2,    1.240,2,    0.112,2,    0.058,2, -999.000,9, 2177.400,2, 2341.700,2
           NA,     A06,    128,   1,-999.0,       4,  2,19930215,0152,   6.6740,  -50.6685,  3816, 3493.400,    2.237,   34.900,2,   34.900,2,  267.100,2,  266.500,2,   31.460,2,   19.160,2,    0.000,2,    1.240,2,    0.101,2,    0.056,2, -999.000,9, 2169.300,2, 2332.200,2
           NA,     A06,    128,   1,-999.0,       3,  2,19930215,0152,   6.6740,  -50.6685,  3816, 3594.800,    2.209,   34.898,2,   34.900,2,  265.000,2,  265.600,2,   33.080,2,   19.380,2,    0.000,2,    1.260,2,    0.091,2,    0.046,2, -999.000,9, -999.000,9, -999.000,9
           NA,     A06,    128,   1,-999.0,       2,  2,19930215,0152,   6.6740,  -50.6685,  3816, 3696.200,    2.178,   34.894,2,   34.894,2,  264.800,2,  265.300,2,   34.400,2,   19.490,2,    0.000,2,    1.270,2,    0.119,2,    0.062,2, -999.000,9, 2179.500,2, 2342.900,2
           NA,     A06,    128,   1,-999.0,       1,  2,19930215,0152,   6.6740,  -50.6685,  3816, 3827.300,    2.141,   34.889,2,   34.889,2,  260.600,2,  263.400,2,   37.670,2,   20.030,2,    0.000,2,    1.310,2,    0.096,2,    0.051,2, -999.000,9, 2178.700,2, 2340.200,2
           NA,     A06,    129,   1,-999.0,      31,  2,19930215,0831,   7.0950,  -50.3378,  4165,    0.800,   26.488,   36.349,2,   36.349,2,  198.200,2, -999.000,3,    1.690,2,    0.070,2,    0.000,2,    0.060,2,    1.816,2,    0.977,2, -999.000,9, -999.000,9, -999.000,9
           NA,     A06,    129,   1,-999.0,      30,  2,19930215,0831,   7.0950,  -50.3378,  4165,   69.800,   26.510,   36.348,2,   36.347,2,  202.600,2,  202.800,2,    1.680,2,    0.050,2,    0.000,2,    0.050,2,    1.804,2,    0.963,2, -999.000,9, -999.000,9, -999.000,9
           NA,     A06,    129,   1,-999.0,      29,  2,19930215,0831,   7.0950,  -50.3378,  4165,  118.300,   26.184,   36.394,2, -999.000,3,  203.900,2,  199.100,2,    1.770,2,    0.360,2,    0.050,2,    0.100,2,    1.767,2,    0.954,2, -999.000,9, -999.000,9, -999.000,9
           NA,     A06,    129,   1,-999.0,      28,  2,19930215,0831,   7.0950,  -50.3378,  4165,  193.400,   13.799,   35.614,2, -999.000,3,  115.100,2,  113.800,2,    8.110,2,   21.510,2,    0.000,2,    1.280,2,    1.024,2,    0.520,2, -999.000,9, -999.000,9, -999.000,9
           NA,     A06,    129,   1,-999.0,      27,  2,19930215,0831,   7.0950,  -50.3378,  4165,  393.100,    7.848,   34.747,2,   34.743,2,  110.900,2,  114.900,2,   17.970,2,   32.500,2,    0.000,2,    2.020,2,    0.224,2,    0.114,2, -999.000,9, -999.000,9, -999.000,9
           NA,     A06,    129,   1,-999.0,      26,  2,19930215,0831,   7.0950,  -50.3378,  4165,  493.800,    6.926,   34.655,2,   34.657,2,  128.300,2,  130.000,2,   20.350,2,   32.860,2,    0.000,2,    2.090,2,    0.198,2,    0.102,2, -999.000,9, -999.000,9, -999.000,9
           NA,     A06,    129,   1,-999.0,      25,  2,19930215,0831,   7.0950,  -50.3378,  4165,  592.500,    6.179,   34.596,2,   34.593,2,  134.000,2,  134.100,2,   23.300,2,   33.880,2,    0.000,2,    2.180,2,    0.123,2,    0.063,2, -999.000,9, -999.000,9, -999.000,9
           NA,     A06,    129,   1,-999.0,      23,  2,19930215,0831,   7.0950,  -50.3378,  4165,  791.600,    5.163,   34.574,2,   34.577,2,  142.400,2,  141.500,2,   28.030,2,   34.750,2,    0.000,2,    2.270,2,    0.040,2,    0.016,2, -999.000,9, -999.000,9, -999.000,9
           NA,     A06,    129,   1,-999.0,      24,  2,19930215,0831,   7.0950,  -50.3378,  4165,  792.200,    5.200,   34.579,2,   34.577,2,  142.400,2,  141.500,2,   28.240,2,   34.760,2,    0.000,2,    2.270,2,    0.038,2,    0.019,2, -999.000,9, -999.000,9, -999.000,9
           NA,     A06,    129,   1,-999.0,      22,  2,19930215,0831,   7.0950,  -50.3378,  4165,  991.300,    4.940,   34.694,2,   34.692,2,  152.400,2,  156.900,2,   27.770,2,   32.410,2,    0.000,2,    2.140,2,    0.022,2,    0.008,2, -999.000,9, -999.000,9, -999.000,9
           NA,     A06,    129,   1,-999.0,      21,  2,19930215,0831,   7.0950,  -50.3378,  4165, 1192.500,    4.969,   34.884,2,   34.884,2,  180.200,2,  185.300,2,   22.370,2,   27.190,2,    0.000,2,    1.780,2,    0.045,2,    0.022,2, -999.000,9, -999.000,9, -999.000,9
           NA,     A06,    129,   1,-999.0,      20,  2,19930215,0831,   7.0950,  -50.3378,  4165, 1392.300,    4.759,   34.985,2,   34.985,2,  221.200,2,  220.300,2,   17.440,2,   22.290,2,    0.000,2,    1.450,2,    0.146,2,    0.066,2, -999.000,9, -999.000,9, -999.000,9
           NA,     A06,    129,   1,-999.0,      19,  2,19930215,0831,   7.0950,  -50.3378,  4165, 1492.000,    4.618,   35.013,2,   35.012,2,  239.100,2,  238.400,2,   15.320,2,   20.230,2,    0.000,2,    1.300,2,    0.254,2,    0.120,2, -999.000,9, -999.000,9, -999.000,9
           NA,     A06,    129,   1,-999.0,      18,  2,19930215,0831,   7.0950,  -50.3378,  4165, 1594.100,    4.365,   35.012,2,   35.012,2,  250.000,2,  249.200,2,   14.560,2,   19.290,2,    0.000,2,    1.230,2,    0.286,2,    0.138,2, -999.000,9, -999.000,9, -999.000,9
           NA,     A06,    129,   1,-999.0,      17,  2,19930215,0831,   7.0950,  -50.3378,  4165, 1694.100,    4.163,   35.005,2,   35.005,2,  256.100,2,  253.700,2,   14.310,2,   18.850,2,    0.000,2,    1.200,2,    0.240,2,    0.117,2, -999.000,9, -999.000,9, -999.000,9
           NA,     A06,    129,   1,-999.0,      16,  2,19930215,0831,   7.0950,  -50.3378,  4165, 1793.700,    4.032,   35.002,2,   35.003,2,  260.000,2,  260.600,2,   14.350,2,   18.420,2,    0.000,2,    1.180,2,    0.229,2,    0.109,2, -999.000,9, -999.000,9, -999.000,9
           NA,     A06,    129,   1,-999.0,      15,  2,19930215,0831,   7.0950,  -50.3378,  4165, 1893.300,    3.883,   34.996,2,   34.995,2,  259.600,2,  260.000,2,   15.180,2,   18.460,2,    0.000,2,    1.190,2,    0.172,2,    0.088,2, -999.000,9, -999.000,9, -999.000,9
           NA,     A06,    129,   1,-999.0,      14,  2,19930215,0831,   7.0950,  -50.3378,  4165, 1893.600,    3.873,   34.995,2,   34.991,2,  259.500,2,  261.500,2,   15.170,2,   18.460,2,    0.000,2,    1.190,2,    0.166,2,    0.089,2, -999.000,9, -999.000,9, -999.000,9
           NA,     A06,    129,   1,-999.0,      13,  2,19930215,0831,   7.0950,  -50.3378,  4165, 1994.100,    3.680,   34.985,2,   34.983,2,  260.500,2,  260.300,2,   16.820,2,   18.720,2,    0.000,2,    1.210,2,    0.063,2,    0.034,2, -999.000,9, -999.000,9, -999.000,9
           NA,     A06,    129,   1,-999.0,      12,  2,19930215,0831,   7.0950,  -50.3378,  4165, 2195.700,    3.421,   34.976,2,   34.977,2,  261.700,2,  262.900,2,   18.060,2,   18.310,2,    0.000,2,    1.190,2,    0.071,2,    0.037,2, -999.000,9, -999.000,9, -999.000,9
           NA,     A06,    129,   1,-999.0,      11,  2,19930215,0831,   7.0950,  -50.3378,  4165, 2394.800,    3.178,   34.963,2,   34.964,2,  265.400,2,  265.900,2,   19.490,2,   18.140,2,    0.000,2,    1.190,2,    0.110,2,    0.052,2, -999.000,9, -999.000,9, -999.000,9
           NA,     A06,    129,   1,-999.0,      10,  2,19930215,0831,   7.0950,  -50.3378,  4165, 2695.200,    2.843,   34.943,2,   34.940,2,  264.000,2,  265.200,2,   24.050,2,   18.550,2,    0.000,2,    1.220,2,    0.090,2,    0.042,2, -999.000,9, -999.000,9, -999.000,9
           NA,     A06,    129,   1,-999.0,       9,  2,19930215,0831,   7.0950,  -50.3378,  4165, 2996.100,    2.607,   34.925,2,   34.922,2,  259.600,2,  260.800,2,   30.260,2,   19.390,2,    0.000,2,    1.280,2,    0.053,2,    0.021,2, -999.000,9, -999.000,9, -999.000,9
           NA,     A06,    129,   1,-999.0,       8,  2,19930215,0831,   7.0950,  -50.3378,  4165, 3196.200,    2.477,   34.916,2,   34.913,2,  260.900,2,  263.000,2,   31.530,2,   19.260,2,    0.000,2,    1.280,2,    0.090,2,    0.040,2, -999.000,9, -999.000,9, -999.000,9
           NA,     A06,    129,   1,-999.0,       7,  2,19930215,0831,   7.0950,  -50.3378,  4165, 3396.200,    2.355,   34.910,2,   34.908,2,  266.100,2,  267.700,2,   29.980,2,   18.630,2,    0.000,2,    1.240,2,    0.121,2,    0.063,2, -999.000,9, -999.000,9, -999.000,9
           NA,     A06,    129,   1,-999.0,       6,  2,19930215,0831,   7.0950,  -50.3378,  4165, 3595.800,    2.251,   34.900,2,   34.900,2,  265.400,2,  269.000,2,   32.490,2,   18.890,2,    0.000,2,    1.260,2,    0.091,2,    0.043,2, -999.000,9, -999.000,9, -999.000,9
           NA,     A06,    129,   1,-999.0,       5,  2,19930215,0831,   7.0950,  -50.3378,  4165, 3796.200,    2.191,   34.895,2,   34.891,2,  265.400,2,  266.100,2,   34.130,2,   19.030,2,    0.000,2,    1.270,2,    0.139,2,    0.071,2, -999.000,9, -999.000,9, -999.000,9
           NA,     A06,    129,   1,-999.0,       4,  2,19930215,0831,   7.0950,  -50.3378,  4165, 3895.500,    2.154,   34.888,2,   34.887,2,  263.600,2,  265.100,2,   37.530,2,   19.440,2,    0.000,2,    1.310,2, -999.000,3, -999.000,3, -999.000,9, -999.000,9, -999.000,9
           NA,     A06,    129,   1,-999.0,       3,  2,19930215,0831,   7.0950,  -50.3378,  4165, 3994.900,    2.075,   34.878,2,   34.875,2,  259.900,2,  259.800,2,   43.910,2,   20.430,2,    0.000,2,    1.380,2,    0.058,2,    0.031,2, -999.000,9, -999.000,9, -999.000,9
           NA,     A06,    129,   1,-999.0,       2,  2,19930215,0831,   7.0950,  -50.3378,  4165, 4096.000,    2.014,   34.869,2,   34.868,2,  256.700,2,  258.900,2,   48.020,2,   21.000,2,    0.000,2,    1.430,2,    0.055,2,    0.040,2, -999.000,9, -999.000,9, -999.000,9
           NA,     A06,    129,   1,-999.0,       1,  2,19930215,0831,   7.0950,  -50.3378,  4165, 4184.200,    1.994,   34.864,2,   34.862,2,  253.200,2,  258.200,2,   50.130,2,   21.230,2,    0.000,2,    1.460,2,    0.046,2,    0.030,2, -999.000,9, -999.000,9, -999.000,9