BOTTLE,20205402JOAExport
EXPOCODE,SECT_ID,STNNBR,CASTNO,SAMPNO,BTLNBR,BTLNBR_FLAG_W,DATE,TIME,LATITUDE,LONGITUDE,DEPTH,CTDPRS,CTDTMP,CTDSAL,CTDSAL_FLAG_W,SALNTY,SALNTY_FLAG_W,CTDOXY,CTDOXY_FLAG_W,OXYGEN,OXYGEN_FLAG_W,SILCAT,SILCAT_FLAG_W,NITRAT,NITRAT_FLAG_W,NITRIT,NITRIT_FLAG_W,PHSPHT,PHSPHT_FLAG_W,CFC-11,CFC-11_FLAG_W,CFC-12,CFC-12_FLAG_W,SF6,SF6_FLAG_W,TCARBN,TCARBN_FLAG_W,ALKALI,ALKALI_FLAG_W
,,,,,,,,,,,,,DB,DEG C,PSS-78,,PSS-78,,UMOL/KG,,UMOL/KG,,UMOL/KG,,UMOL/KG,,UMOL/KG,,UMOL/KG,,PMOL/KG,,PMOL/KG,,FMOL/KG,,UMOL/KG,,UMOL/KG
           NA,     A06,    158,   1,-999.0,      32,  2,19930223,1054,   7.4498,  -33.9992,  4321,    2.300,   26.185,   36.201,2,   36.202,2,  201.700,2,  202.600,2,    1.740,2,    0.010,2,    0.000,2,    0.010,2,    1.856,2,    1.018,2, -999.000,9, -999.000,3, -999.000,3
           NA,     A06,    158,   1,-999.0,      31,  2,19930223,1054,   7.4498,  -33.9992,  4321,   69.800,   26.152,   36.203,2,   36.201,2,  204.400,2,  201.600,2,    1.780,2,    0.140,2,    0.000,2,    0.030,2,    1.847,2,    1.007,2, -999.000,9, 2025.900,2, 2400.600,2
           NA,     A06,    158,   1,-999.0,      30,  2,19930223,1054,   7.4498,  -33.9992,  4321,  118.900,   15.525,   35.671,2, -999.000,3,  128.600,2, -999.000,3,    7.570,2,   20.900,2,    0.020,2,    1.120,2,    1.286,2,    0.662,2, -999.000,9, 2159.400,2, 2349.900,2
           NA,     A06,    158,   1,-999.0,      29,  2,19930223,1054,   7.4498,  -33.9992,  4321,  194.300,   10.670,   35.058,2,   35.055,2,  115.300,2, -999.000,3,   12.200,2,   29.930,2,    0.000,2,    1.690,2,    0.686,2,    0.345,2, -999.000,9, 2189.000,2, 2314.500,2
           NA,     A06,    158,   1,-999.0,      28,  2,19930223,1054,   7.4498,  -33.9992,  4321,  392.700,    8.301,   34.768,2,   34.767,2,  122.000,2,  121.800,2,   16.860,2,   33.490,2,    0.000,2,    1.940,2,    0.409,2,    0.199,2, -999.000,9, 2201.300,2, 2309.400,2
           NA,     A06,    158,   1,-999.0,      27,  2,19930223,1054,   7.4498,  -33.9992,  4321,  593.100,    6.739,   34.672,2,   34.675,2,  112.700,2,  111.400,2,   22.560,2,   38.050,2,    0.000,2,    2.220,2,    0.099,2,    0.046,2, -999.000,9, -999.000,3, -999.000,3
           NA,     A06,    158,   1,-999.0,      26,  2,19930223,1054,   7.4498,  -33.9992,  4321,  792.400,    5.461,   34.647,2,   34.645,2,  120.500,2,  123.700,2,   27.820,2,   38.690,2,    0.000,2,    2.320,2,    0.011,2,    0.001,2, -999.000,9, 2229.000,2, 2313.200,2
           NA,     A06,    158,   1,-999.0,      24,  2,19930223,1054,   7.4498,  -33.9992,  4321,  992.000,    4.929,   34.744,2,   34.746,2,  147.000,2,  149.100,2,   27.650,2,   35.280,2,    0.000,2,    2.140,2,    0.003,2,    0.000,2, -999.000,9, 2216.500,2, 2317.100,2
           NA,     A06,    158,   1,-999.0,      25,  2,19930223,1054,   7.4498,  -33.9992,  4321,  992.200,    4.930,   34.743,2,   34.747,2,  147.000,2,  148.100,2,   27.650,2,   35.220,2,    0.000,2,    2.130,2,    0.008,2,    0.003,2, -999.000,9, 2217.000,2, 2318.400,2
           NA,     A06,    158,   1,-999.0,      23,  2,19930223,1054,   7.4498,  -33.9992,  4321, 1193.200,    4.699,   34.893,2,   34.894,2,  177.100,2, -999.000,3,   23.270,2,   29.770,2,    0.000,2,    1.780,2,    0.028,2,    0.015,2, -999.000,9, 2214.400,2, 2340.500,2
           NA,     A06,    158,   1,-999.0,      22,  2,19930223,1054,   7.4498,  -33.9992,  4321, 1393.200,    4.343,   34.956,2,   34.959,2,  211.200,2,  214.600,2,   20.150,2,   25.550,2,    0.000,2,    1.530,2,    0.016,2,    0.006,2, -999.000,9, -999.000,3, -999.000,3
           NA,     A06,    158,   1,-999.0,      21,  2,19930223,1054,   7.4498,  -33.9992,  4321, 1492.500,    4.156,   34.979,2,   34.980,2,  224.000,2, -999.000,3,   18.130,2,   23.280,2,    0.000,2,    1.380,2,    0.040,2,    0.024,2, -999.000,9, -999.000,3, -999.000,3
           NA,     A06,    158,   1,-999.0,      20,  2,19930223,1054,   7.4498,  -33.9992,  4321, 1593.800,    4.031,   34.988,2,   34.989,2,  239.200,2,  243.300,2,   17.170,2,   22.040,2,    0.000,2,    1.300,2,    0.062,2,    0.040,2, -999.000,9, -999.000,3, -999.000,3
           NA,     A06,    158,   1,-999.0,      19,  2,19930223,1054,   7.4498,  -33.9992,  4321, 1693.000,    3.899,   34.984,2,   34.984,2,  242.400,2,  246.000,2,   17.800,2,   21.850,2,    0.000,2,    1.290,2,    0.039,2,    0.017,2, -999.000,9, -999.000,9, -999.000,9
           NA,     A06,    158,   1,-999.0,      18,  2,19930223,1054,   7.4498,  -33.9992,  4321, 1793.900,    3.751,   34.977,2,   34.980,2,  249.200,2,  247.400,2,   18.720,2,   21.870,2,    0.000,2,    1.300,2,    0.018,2,    0.013,2, -999.000,9, 2162.700,2, 2325.700,2
           NA,     A06,    158,   1,-999.0,      17,  2,19930223,1054,   7.4498,  -33.9992,  4321, 1894.300,    3.627,   34.973,2,   34.977,2,  251.100,2,  250.500,2,   19.680,2,   21.830,2,    0.000,2,    1.290,2,    0.018,2,    0.011,2, -999.000,9, 2161.800,2, 2326.100,2
           NA,     A06,    158,   1,-999.0,      16,  2,19930223,1054,   7.4498,  -33.9992,  4321, 1994.100,    3.507,   34.968,2,   34.969,2,  251.300,2,  249.800,2,   20.940,2,   21.970,2,    0.000,2,    1.300,2,    0.009,2,    0.007,2, -999.000,9, 2168.800,2, 2333.900,2
           NA,     A06,    158,   1,-999.0,      15,  2,19930223,1054,   7.4498,  -33.9992,  4321, 2093.800,    3.377,   34.960,2,   34.961,2,  250.400,2,  249.400,2,   23.000,2,   22.040,2,    0.000,2,    1.320,2,    0.003,2,    0.005,2, -999.000,9, 2170.500,2, 2333.800,2
           NA,     A06,    158,   1,-999.0,      14,  2,19930223,1054,   7.4498,  -33.9992,  4321, 2193.700,    3.253,   34.955,2,   34.956,2,  250.400,2,  248.900,2,   24.470,2,   22.270,2,    0.000,2,    1.320,2,    0.000,2,    0.003,2, -999.000,9, 2180.500,2, 2344.300,2
           NA,     A06,    158,   1,-999.0,      13,  2,19930223,1054,   7.4498,  -33.9992,  4321, 2394.000,    3.054,   34.947,2,   34.943,2,  251.700,2,  251.000,2,   27.180,2,   22.230,2,    0.000,2,    1.340,2,    0.004,2,    0.001,2, -999.000,9, -999.000,3, -999.000,3
           NA,     A06,    158,   1,-999.0,      12,  2,19930223,1054,   7.4498,  -33.9992,  4321, 2694.300,    2.763,   34.931,2,   34.931,2,  253.300,2,  253.700,2,   31.230,2,   22.350,2,    0.000,2,    1.340,2,    0.006,2,    0.007,2, -999.000,9, -999.000,3, -999.000,3
           NA,     A06,    158,   1,-999.0,      11,  2,19930223,1054,   7.4498,  -33.9992,  4321, 2994.700,    2.620,   34.919,2,   34.921,2,  253.800,2,  255.200,2,   34.240,2,   22.710,2,    0.000,2,    1.360,2,    0.011,2,    0.005,2, -999.000,9, 2183.700,2, 2347.400,2
           NA,     A06,    158,   1,-999.0,      10,  2,19930223,1054,   7.4498,  -33.9992,  4321, 3195.100,    2.536,   34.912,2,   34.911,2,  254.200,2,  255.800,2,   36.120,2,   22.780,2,    0.000,2,    1.360,2,    0.013,2,    0.007,2, -999.000,9, -999.000,3, -999.000,3
           NA,     A06,    158,   1,-999.0,       9,  2,19930223,1054,   7.4498,  -33.9992,  4321, 3394.700,    2.505,   34.909,2,   34.908,2,  254.500,2,  254.500,2,   37.010,2,   22.910,2,    0.000,2,    1.370,2,    0.017,2,    0.005,2, -999.000,9, -999.000,3, -999.000,3
           NA,     A06,    158,   1,-999.0,       8,  2,19930223,1054,   7.4498,  -33.9992,  4321, 3594.500,    2.455,   34.904,2,   34.906,2,  254.600,2,  254.300,2,   38.500,2,   22.780,2,    0.000,2,    1.380,2,    0.012,2,    0.006,2, -999.000,9, 2198.600,2, 2361.100,2
           NA,     A06,    158,   1,-999.0,       7,  2,19930223,1054,   7.4498,  -33.9992,  4321, 3794.400,    2.345,   34.893,2,   34.893,2,  255.000,2,  255.000,2,   41.030,2,   23.340,2,    0.000,2,    1.400,2,    0.025,2,    0.011,2, -999.000,9, 2199.500,2, 2361.500,2
           NA,     A06,    158,   1,-999.0,       6,  2,19930223,1054,   7.4498,  -33.9992,  4321, 3894.700,    2.327,   34.891,2,   34.894,2,  254.800,2,  254.600,2,   41.840,2,   23.230,2,    0.000,2,    1.420,2,    0.018,2,    0.007,2, -999.000,9, 2202.100,2, 2365.200,2
           NA,     A06,    158,   1,-999.0,       5,  2,19930223,1054,   7.4498,  -33.9992,  4321, 3994.000,    2.325,   34.890,2,   34.894,2,  255.100,2,  255.300,2,   42.030,2,   23.270,2,    0.000,2,    1.410,2,    0.017,2,    0.011,2, -999.000,9, 2207.200,2, 2368.700,2
           NA,     A06,    158,   1,-999.0,       3,  2,19930223,1054,   7.4498,  -33.9992,  4321, 4095.300,    2.333,   34.891,2,   34.894,2,  255.100,2,  254.500,2,   42.300,2,   23.290,2,    0.000,2,    1.410,2,    0.021,2,    0.005,2, -999.000,9, 2212.500,2, 2371.000,2
           NA,     A06,    158,   1,-999.0,       4,  2,19930223,1054,   7.4498,  -33.9992,  4321, 4095.900,    2.332,   34.890,2,   34.893,2,  255.100,2,  255.100,2,   42.030,2,   23.520,2,    0.000,2,    1.410,2,    0.021,2,    0.002,2, -999.000,9, 2203.400,2, 2365.100,2
           NA,     A06,    158,   1,-999.0,       2,  2,19930223,1054,   7.4498,  -33.9992,  4321, 4195.100,    2.261,   34.882,2,   34.884,2,  255.200,2,  254.700,2,   44.390,2,   23.570,2,    0.000,2,    1.420,2,    0.020,2,    0.007,2, -999.000,9, 2223.300,2, 2384.100,2
           NA,     A06,    158,   1,-999.0,       1,  2,19930223,1054,   7.4498,  -33.9992,  4321, 4272.300,    2.250,   34.881,2,   34.884,2,  253.800,2,  254.200,2,   44.800,2,   23.810,2,    0.000,2,    1.440,2,    0.024,2,    0.009,2, -999.000,9, 2241.500,1, 2402.700,1
           NA,     A06,    159,   1,-999.0,      32,  2,19930223,1649,   7.4575,  -33.4963,  4747,    1.400,   26.323,   36.206,2,   36.208,2,  195.400,2, -999.000,3,    1.770,2,    0.130,2,    0.000,2,    0.020,2, -999.000,9, -999.000,9, -999.000,9, -999.000,9, -999.000,9
           NA,     A06,    159,   1,-999.0,      31,  2,19930223,1649,   7.4575,  -33.4963,  4747,   69.000,   20.347,   36.081,2, -999.000,3,  202.100,2, -999.000,3,    4.360,2,    8.940,2,    0.000,2,    0.610,2, -999.000,9, -999.000,9, -999.000,9, -999.000,9, -999.000,9
           NA,     A06,    159,   1,-999.0,      30,  2,19930223,1649,   7.4575,  -33.4963,  4747,  118.500,   14.861,   35.602,2,   35.600,2,  133.000,2,  128.600,2,    8.150,2,   17.650,2,    0.130,2,    1.150,2, -999.000,9, -999.000,9, -999.000,9, -999.000,9, -999.000,9
           NA,     A06,    159,   1,-999.0,      29,  2,19930223,1649,   7.4575,  -33.4963,  4747,  193.400,   10.471,   35.014,2, -999.000,3,  123.400,2,  123.100,2,   12.630,2,   25.050,2,    0.020,2,    1.630,2, -999.000,9, -999.000,9, -999.000,9, -999.000,9, -999.000,9
           NA,     A06,    159,   1,-999.0,      28,  2,19930223,1649,   7.4575,  -33.4963,  4747,  293.300,    9.257,   34.892,2,   34.890,2,   93.100,2,   98.600,2,   15.840,2,   30.780,2,    0.000,2,    1.930,2, -999.000,9, -999.000,9, -999.000,9, -999.000,9, -999.000,9
           NA,     A06,    159,   1,-999.0,      27,  2,19930223,1649,   7.4575,  -33.4963,  4747,  392.900,    8.673,   34.873,2,   34.873,2,   74.500,2,   77.400,2,   18.060,2,   34.370,2,    0.000,2,    2.130,2, -999.000,9, -999.000,9, -999.000,9, -999.000,9, -999.000,9
           NA,     A06,    159,   1,-999.0,      25,  2,19930223,1649,   7.4575,  -33.4963,  4747,  593.400,    7.019,   34.746,2,   34.751,2,   84.500,2,   86.800,2,   23.040,2,   36.620,2,    0.000,2, -999.000,4,    0.042,2,    0.023,2, -999.000,9, -999.000,9, -999.000,9
           NA,     A06,    159,   1,-999.0,      26,  2,19930223,1649,   7.4575,  -33.4963,  4747,  593.800,    7.026,   34.747,2,   34.749,2,   84.700,2,   84.400,2,   23.110,2,   36.720,2,    0.000,2,    2.320,2, -999.000,9, -999.000,9, -999.000,9, -999.000,9, -999.000,9
           NA,     A06,    159,   1,-999.0,      24,  2,19930223,1649,   7.4575,  -33.4963,  4747,  793.000,    5.737,   34.655,2,   34.653,2,  115.100,2,  116.400,2,   27.580,2,   35.420,2,    0.000,2,    2.260,2,    0.012,2,    0.006,2, -999.000,9, -999.000,9, -999.000,9
           NA,     A06,    159,   1,-999.0,      23,  2,19930223,1649,   7.4575,  -33.4963,  4747,  991.400,    5.000,   34.712,2,   34.708,2,  143.500,2,  141.300,2,   28.970,2,   32.700,2,    0.000,2,    2.150,2,    0.007,2,    0.003,2, -999.000,9, -999.000,9, -999.000,9
           NA,     A06,    159,   1,-999.0,      22,  2,19930223,1649,   7.4575,  -33.4963,  4747, 1192.600,    4.735,   34.855,2,   34.854,2,  172.000,2,  173.400,2,   25.620,2,   27.540,2,    0.000,2,    1.870,2,    0.024,2,    0.008,2, -999.000,9, -999.000,9, -999.000,9
           NA,     A06,    159,   1,-999.0,      21,  2,19930223,1649,   7.4575,  -33.4963,  4747, 1393.200,    4.573,   34.957,2,   34.959,2,  214.900,2,  209.900,2,   20.610,2,   22.140,2,    0.000,2,    1.510,2, -999.000,9,   -0.002,2, -999.000,9, -999.000,9, -999.000,9
           NA,     A06,    159,   1,-999.0,      20,  2,19930223,1649,   7.4575,  -33.4963,  4747, 1492.700,    4.272,   34.967,2,   34.970,2,  227.800,2, -999.000,3,   20.100,2,   21.030,2,    0.000,2,    1.450,2,    0.019,2,    0.007,2, -999.000,9, -999.000,9, -999.000,9
           NA,     A06,    159,   1,-999.0,      19,  2,19930223,1649,   7.4575,  -33.4963,  4747, 1593.200,    4.090,   34.977,2,   34.980,2,  236.200,2,  235.000,2,   19.420,2,   19.500,2,    0.000,2,    1.360,2,    0.019,2,    0.011,2, -999.000,9, -999.000,9, -999.000,9
           NA,     A06,    159,   1,-999.0,      18,  2,19930223,1649,   7.4575,  -33.4963,  4747, 1692.700,    3.935,   34.985,2,   34.986,2,  248.300,2,  244.900,2,   18.320,2,   18.140,2,    0.000,2,    1.300,2,    0.052,2,    0.027,2, -999.000,9, -999.000,9, -999.000,9
           NA,     A06,    159,   1,-999.0,      17,  2,19930223,1649,   7.4575,  -33.4963,  4747, 1794.400,    3.772,   34.979,2,   34.981,2,  250.700,2,  248.300,2,   19.290,2,   17.670,2,    0.000,2,    1.290,2,    0.039,2,    0.019,2, -999.000,9, -999.000,9, -999.000,9
           NA,     A06,    159,   1,-999.0,      16,  2,19930223,1649,   7.4575,  -33.4963,  4747, 2093.400,    3.383,   34.961,2,   34.962,2,  251.800,2,  249.800,2,   23.400,2,   17.870,2,    0.000,2,    1.310,2,    0.013,2,    0.003,2, -999.000,9, -999.000,9, -999.000,9
           NA,     A06,    159,   1,-999.0,      15,  2,19930223,1649,   7.4575,  -33.4963,  4747, 2393.400,    3.042,   34.945,2,   34.945,2,  252.100,2,  251.200,2,   28.320,2,   18.220,2,    0.000,2,    1.330,2,    0.008,2,    0.006,2, -999.000,9, -999.000,9, -999.000,9
           NA,     A06,    159,   1,-999.0,      14,  2,19930223,1649,   7.4575,  -33.4963,  4747, 2692.900,    2.796,   34.932,2,   34.932,2,  253.600,2,  253.800,2,   31.670,2,   18.050,2,    0.000,2,    1.340,2,    0.013,2,    0.009,2, -999.000,9, -999.000,9, -999.000,9
           NA,     A06,    159,   1,-999.0,      13,  2,19930223,1649,   7.4575,  -33.4963,  4747, 2994.300,    2.632,   34.918,2,   34.914,2,  253.900,2,  254.000,2,   35.450,2,   18.160,2,    0.000,2,    1.360,2,    0.013,2,    0.003,2, -999.000,9, -999.000,9, -999.000,9
           NA,     A06,    159,   1,-999.0,      12,  2,19930223,1649,   7.4575,  -33.4963,  4747, 3195.000,    2.571,   34.912,2,   34.919,2,  254.100,2,  253.800,2,   36.800,2,   18.330,2,    0.000,2,    1.370,2,    0.015,2,    0.005,2, -999.000,9, -999.000,9, -999.000,9
           NA,     A06,    159,   1,-999.0,      11,  2,19930223,1649,   7.4575,  -33.4963,  4747, 3393.600,    2.543,   34.910,2,   34.911,2,  254.100,2,  254.000,2,   37.660,2,   18.330,2,    0.000,2,    1.380,2,    0.009,2,    0.004,2, -999.000,9, -999.000,9, -999.000,9
           NA,     A06,    159,   1,-999.0,      10,  2,19930223,1649,   7.4575,  -33.4963,  4747, 3593.500,    2.502,   34.907,2,   34.907,2,  254.200,2,  254.000,2,   38.800,2,   18.300,2,    0.000,2,    1.380,2,    0.017,2,    0.007,2, -999.000,9, -999.000,9, -999.000,9
           NA,     A06,    159,   1,-999.0,       9,  2,19930223,1649,   7.4575,  -33.4963,  4747, 3794.700,    2.421,   34.899,2,   34.899,2,  254.600,2,  254.500,2,   40.590,2,   18.420,2,    0.010,2,    1.400,2,    0.018,2,    0.005,2, -999.000,9, -999.000,9, -999.000,9
           NA,     A06,    159,   1,-999.0,       8,  2,19930223,1649,   7.4575,  -33.4963,  4747, 3892.300,    2.367,   34.895,2,   34.896,2,  254.800,2,  254.600,2,   42.170,2,   18.360,2,    0.010,2,    1.400,2,    0.019,2,    0.008,2, -999.000,9, -999.000,9, -999.000,9
           NA,     A06,    159,   1,-999.0,       7,  2,19930223,1649,   7.4575,  -33.4963,  4747, 3993.900,    2.327,   34.892,2,   34.887,2,  255.000,2,  254.800,2,   43.160,2,   18.480,2,    0.030,2,    1.410,2,    0.025,2,    0.015,2, -999.000,9, -999.000,9, -999.000,9
           NA,     A06,    159,   1,-999.0,       6,  2,19930223,1649,   7.4575,  -33.4963,  4747, 4095.000,    2.331,   34.890,2,   34.893,2,  255.000,2,  254.300,2,   43.350,2,   18.610,2,    0.010,2,    1.420,2,    0.027,2,    0.013,2, -999.000,9, -999.000,9, -999.000,9
           NA,     A06,    159,   1,-999.0,       5,  2,19930223,1649,   7.4575,  -33.4963,  4747, 4194.500,    2.338,   34.890,2,   34.888,2,  255.000,2,  254.600,2,   43.490,2,   18.470,2,    0.000,2,    1.420,2,    0.074,2,    0.034,2, -999.000,9, -999.000,9, -999.000,9
           NA,     A06,    159,   1,-999.0,       4,  2,19930223,1649,   7.4575,  -33.4963,  4747, 4194.800,    2.338,   34.890,2,   34.890,2,  255.000,2,  254.400,2,   43.620,2,   18.330,2,    0.000,2,    1.410,2,    0.036,2,    0.013,2, -999.000,9, -999.000,9, -999.000,9
           NA,     A06,    159,   1,-999.0,       3,  2,19930223,1649,   7.4575,  -33.4963,  4747, 4394.300,    2.345,   34.888,2,   34.890,2,  255.500,2,  254.800,2,   44.130,2,   18.300,2,    0.030,2,    1.420,2,    0.023,2,    0.005,2, -999.000,9, -999.000,9, -999.000,9
           NA,     A06,    159,   1,-999.0,       2,  2,19930223,1649,   7.4575,  -33.4963,  4747, 4594.000,    2.356,   34.886,2,   34.888,2,  255.500,2,  254.500,2,   44.210,2,   18.490,2,    0.040,2,    1.420,2,    0.031,2,    0.007,2, -999.000,9, -999.000,9, -999.000,9
           NA,     A06,    159,   1,-999.0,       1,  2,19930223,1649,   7.4575,  -33.4963,  4747, 4753.300,    2.355,   34.885,2,   34.886,2,  254.800,2,  255.000,2,   45.030,2,   18.590,2,    0.000,2,    1.440,2,    0.030,2,    0.012,2, -999.000,9, -999.000,9, -999.000,9