BOTTLE,20205402JOAExport
EXPOCODE,SECT_ID,STNNBR,CASTNO,SAMPNO,BTLNBR,BTLNBR_FLAG_W,DATE,TIME,LATITUDE,LONGITUDE,DEPTH,CTDPRS,CTDTMP,CTDSAL,CTDSAL_FLAG_W,SALNTY,SALNTY_FLAG_W,CTDOXY,CTDOXY_FLAG_W,OXYGEN,OXYGEN_FLAG_W,SILCAT,SILCAT_FLAG_W,NITRAT,NITRAT_FLAG_W,NITRIT,NITRIT_FLAG_W,PHSPHT,PHSPHT_FLAG_W,CFC-11,CFC-11_FLAG_W,CFC-12,CFC-12_FLAG_W,SF6,SF6_FLAG_W,TCARBN,TCARBN_FLAG_W,ALKALI,ALKALI_FLAG_W
,,,,,,,,,,,,,DB,DEG C,PSS-78,,PSS-78,,UMOL/KG,,UMOL/KG,,UMOL/KG,,UMOL/KG,,UMOL/KG,,UMOL/KG,,PMOL/KG,,PMOL/KG,,FMOL/KG,,UMOL/KG,,UMOL/KG
           NA,     A06,    138,   1,-999.0,      32,  2,19930217,2235,   7.5123,  -45.3302,  4491,    2.700,   26.434,   36.220,2,   36.222,2,  197.000,2, -999.000,3,    1.980,2,    0.050,2,    0.000,2,    0.000,2,    1.842,2,    0.987,2, -999.000,9, -999.000,3, -999.000,3
           NA,     A06,    138,   1,-999.0,      31,  2,19930217,2235,   7.5123,  -45.3302,  4491,   24.200,   26.432,   36.222,2,   36.226,2,  198.800,2,  202.900,2,    1.980,2,    0.030,2,    0.000,2,    0.000,2,    1.844,2,    0.993,2, -999.000,9, 2038.300,2, 2415.600,2
           NA,     A06,    138,   1,-999.0,      30,  2,19930217,2235,   7.5123,  -45.3302,  4491,   70.100,   24.090,   36.275,2,   36.275,2,  196.400,2, -999.000,3,    1.990,2,    1.420,2,    0.110,2,    0.070,2,    1.758,2,    0.929,2, -999.000,9, 2069.600,2, 2415.100,2
           NA,     A06,    138,   1,-999.0,      29,  2,19930217,2235,   7.5123,  -45.3302,  4491,  118.600,   14.424,   35.603,2, -999.000,3,  118.500,2,  114.600,2,    8.610,2,   20.490,2,    0.050,2,    1.190,2,    1.126,2,    0.572,2, -999.000,9, 2175.900,2, 2349.700,2
           NA,     A06,    138,   1,-999.0,      28,  2,19930217,2235,   7.5123,  -45.3302,  4491,  193.300,   10.343,   35.032,2, -999.000,3,  116.300,2,  116.800,2,   13.040,2,   26.460,2,    0.000,2,    1.620,2,    0.644,2,    0.333,2, -999.000,9, 2190.700,2, 2319.900,2
           NA,     A06,    138,   1,-999.0,      27,  2,19930217,2235,   7.5123,  -45.3302,  4491,  294.100,    9.047,   34.869,2,   34.870,2,  101.200,2,  104.000,2,   16.070,2,   30.530,2,    0.000,2,    1.870,2,    0.337,2,    0.176,2, -999.000,9, 2216.300,2, 2323.600,2
           NA,     A06,    138,   1,-999.0,      26,  2,19930217,2235,   7.5123,  -45.3302,  4491,  394.200,    8.296,   34.812,2,   34.808,2,   99.900,2,  101.900,2,   18.170,2,   32.490,2,    0.000,2,    1.980,2,    0.192,2,    0.100,2, -999.000,9, 2222.400,2, 2321.800,2
           NA,     A06,    138,   1,-999.0,      25,  2,19930217,2235,   7.5123,  -45.3302,  4491,  596.100,    6.527,   34.643,2,   34.638,2,  122.400,2,  121.200,2,   23.520,2,   34.070,2,    0.000,2,    2.150,2,    0.099,2,    0.050,2, -999.000,9, 2223.100,2, 2316.500,2
           NA,     A06,    138,   1,-999.0,      24,  2,19930217,2235,   7.5123,  -45.3302,  4491,  794.800,    5.443,   34.615,2,   34.613,2,  131.100,2,  130.700,2,   28.440,2,   34.780,2,    0.000,2,    2.240,2,    0.021,2,    0.007,2, -999.000,9, 2227.400,2, -999.000,3
           NA,     A06,    138,   1,-999.0,      23,  2,19930217,2235,   7.5123,  -45.3302,  4491,  991.300,    5.049,   34.714,2,   34.715,2,  146.500,2,  147.900,2,   28.470,2,   32.380,2,    0.000,2,    2.100,2,    0.012,2,    0.005,2, -999.000,9, 2238.700,2, 2344.900,2
           NA,     A06,    138,   1,-999.0,      22,  2,19930217,2235,   7.5123,  -45.3302,  4491, 1192.900,    4.888,   34.862,2,   34.865,2,  174.000,2,  177.300,2,   24.420,2,   27.580,2,    0.000,2,    1.800,2,    0.027,2,    0.013,2, -999.000,9, 2226.200,2, 2349.700,2
           NA,     A06,    138,   1,-999.0,      21,  2,19930217,2235,   7.5123,  -45.3302,  4491, 1393.800,    4.634,   34.984,2,   34.986,2,  214.700,2, -999.000,3,   18.320,2,   21.340,2,    0.010,2,    1.390,2,    0.138,2,    0.077,2, -999.000,9, 2186.300,2, 2337.200,2
           NA,     A06,    138,   1,-999.0,      20,  2,19930217,2235,   7.5123,  -45.3302,  4491, 1492.400,    4.490,   35.000,2,   34.999,2,  232.000,2,  236.200,2,   16.830,2,   19.930,2,    0.000,2,    1.300,2,    0.160,2,    0.082,2, -999.000,9, 2174.100,2, 2330.900,2
           NA,     A06,    138,   1,-999.0,      19,  2,19930217,2235,   7.5123,  -45.3302,  4491, 1590.300,    4.267,   35.005,2,   35.006,2,  244.300,2,  249.500,2,   15.500,2,   18.590,2,    0.000,2,    1.190,2,    0.216,2,    0.113,2, -999.000,9, 2168.500,2, 2331.000,2
           NA,     A06,    138,   1,-999.0,      18,  2,19930217,2235,   7.5123,  -45.3302,  4491, 1693.300,    4.051,   35.001,2,   35.003,2,  254.900,2,  256.300,2,   15.410,2,   18.010,2,    0.000,2,    1.170,2,    0.197,2,    0.101,2, -999.000,9, 2170.200,2, 2339.300,2
           NA,     A06,    138,   1,-999.0,      17,  2,19930217,2235,   7.5123,  -45.3302,  4491, 1794.800,    3.893,   34.995,2,   34.998,2,  258.700,2,  259.100,2,   15.900,2,   17.820,2,    0.000,2,    1.150,2,    0.153,2,    0.077,2, -999.000,9, 2171.500,2, 2340.200,2
           NA,     A06,    138,   1,-999.0,      16,  2,19930217,2235,   7.5123,  -45.3302,  4491, 1994.300,    3.566,   34.976,2,   34.976,2,  255.900,2,  256.000,2,   19.840,2,   18.620,2,    0.000,2,    1.220,2,    0.026,2,    0.011,2, -999.000,9, -999.000,3, -999.000,3
           NA,     A06,    138,   1,-999.0,      15,  2,19930217,2235,   7.5123,  -45.3302,  4491, 2192.700,    3.355,   34.965,2,   34.967,2,  257.600,2,  258.300,2,   21.490,2,   18.600,2,    0.000,2,    1.210,2,    0.028,2,    0.008,2, -999.000,9, -999.000,3, -999.000,3
           NA,     A06,    138,   1,-999.0,      14,  2,19930217,2235,   7.5123,  -45.3302,  4491, 2393.700,    3.151,   34.957,2,   34.955,2,  259.700,2,  259.500,2,   23.590,2,   18.580,2,    0.000,2,    1.230,2,    0.026,2,    0.012,2, -999.000,9, 2187.300,2, 2357.000,2
           NA,     A06,    138,   1,-999.0,      13,  2,19930217,2235,   7.5123,  -45.3302,  4491, 2689.000,    2.967,   34.949,2,   34.952,2,  261.500,2,  263.600,2,   24.210,2,   18.240,2,    0.000,2,    1.210,2,    0.063,2,    0.030,2, -999.000,9, 2187.800,2, 2362.800,2
           NA,     A06,    138,   1,-999.0,      12,  2,19930217,2235,   7.5123,  -45.3302,  4491, 2994.100,    2.765,   34.932,2,   34.934,2,  257.400,2,  258.300,2,   30.300,2,   19.090,2,    0.000,2,    1.270,2,    0.023,2,    0.011,2, -999.000,9, -999.000,3, -999.000,3
           NA,     A06,    138,   1,-999.0,      11,  2,19930217,2235,   7.5123,  -45.3302,  4491, 3194.500,    2.646,   34.925,2,   34.925,2,  259.500,2,  261.100,2,   31.160,2,   19.000,2,    0.000,2,    1.270,2,    0.043,2,    0.019,2, -999.000,9, 2179.900,2, 2347.200,2
           NA,     A06,    138,   1,-999.0,      10,  2,19930217,2235,   7.5123,  -45.3302,  4491, 3394.200,    2.519,   34.914,2,   34.915,2,  259.000,2,  260.800,2,   33.680,2,   19.200,2,    0.000,2,    1.280,2,    0.032,2,    0.013,2, -999.000,9, 2186.000,2, 2352.600,2
           NA,     A06,    138,   1,-999.0,       9,  2,19930217,2235,   7.5123,  -45.3302,  4491, 3591.400,    2.436,   34.910,2,   34.912,2,  261.500,2,  263.500,2,   33.140,2,   18.880,2,    0.000,2,    1.260,2,    0.050,2,    0.026,2, -999.000,9, 2191.700,2, 2355.800,2
           NA,     A06,    138,   1,-999.0,       8,  2,19930217,2235,   7.5123,  -45.3302,  4491, 3593.600,    2.436,   34.909,2,   34.910,2,  261.500,2,  263.700,2,   33.210,2,   18.890,2,    0.000,2,    1.270,2,    0.043,2,    0.021,2, -999.000,9, 2187.700,2, 2353.000,2
           NA,     A06,    138,   1,-999.0,       7,  2,19930217,2235,   7.5123,  -45.3302,  4491, 3794.400,    2.348,   34.904,2,   34.901,2,  264.600,2,  266.900,2,   32.070,2,   18.440,2,    0.000,2,    1.240,2,    0.083,2,    0.045,2, -999.000,9, -999.000,3, -999.000,3
           NA,     A06,    138,   1,-999.0,       6,  2,19930217,2235,   7.5123,  -45.3302,  4491, 3893.100,    2.327,   34.903,2,   34.905,2,  265.100,2,  267.100,2,   32.340,2,   18.440,2,    0.000,2,    1.240,2,    0.087,2,    0.041,2, -999.000,9, -999.000,3, -999.000,3
           NA,     A06,    138,   1,-999.0,       5,  2,19930217,2235,   7.5123,  -45.3302,  4491, 3993.800,    2.288,   34.900,2,   34.900,2,  265.400,2,  267.200,2,   33.110,2,   18.450,2,    0.000,2,    1.250,2,    0.092,2,    0.053,2, -999.000,9, -999.000,3, -999.000,3
           NA,     A06,    138,   1,-999.0,       4,  2,19930217,2235,   7.5123,  -45.3302,  4491, 4094.900,    2.266,   34.896,2,   34.898,2,  265.300,2,  266.700,2,   33.810,2,   18.520,2,    0.000,2,    1.250,2,    0.099,2,    0.055,2, -999.000,9, 2198.500,2, 2362.400,2
           NA,     A06,    138,   1,-999.0,       3,  2,19930217,2235,   7.5123,  -45.3302,  4491, 4194.200,    2.242,   34.893,2,   34.894,2,  264.600,2,  265.700,2,   35.270,2,   18.740,2,    0.000,2,    1.270,2,    0.104,2,    0.056,2, -999.000,9, 2198.600,2, 2364.800,2
           NA,     A06,    138,   1,-999.0,       2,  2,19930217,2235,   7.5123,  -45.3302,  4491, 4395.400,    2.175,   34.883,2,   34.884,2,  261.700,2,  261.800,2,   40.540,2,   19.620,2,    0.000,2,    1.320,2,    0.079,2,    0.044,2, -999.000,9, 2198.500,2, 2361.800,2
           NA,     A06,    138,   1,-999.0,       1,  2,19930217,2235,   7.5123,  -45.3302,  4491, 4513.900,    2.112,   34.873,2,   34.876,2,  254.900,2,  257.500,2,   46.200,2,   20.370,2,    0.010,2,    1.390,2,    0.073,2,    0.042,2, -999.000,9, 2214.100,2, 2376.300,2
           NA,     A06,    139,   1,-999.0,      32,  2,19930218,0557,   7.5202,  -44.6532,  4590,    1.100,   26.577,   35.660,2, -999.000,3,  232.500,2, -999.000,3,    1.920,2,    0.060,2,    0.000,2,    0.000,2,    1.802,2,    0.969,2, -999.000,9, -999.000,9, -999.000,9
           NA,     A06,    139,   1,-999.0,      31,  2,19930218,0557,   7.5202,  -44.6532,  4590,   68.700,   26.774,   36.399,2,   36.397,2,  201.000,2,  201.800,2,    1.970,2,    0.050,2,    0.000,2,    0.040,2,    1.785,2,    0.988,2, -999.000,9, -999.000,9, -999.000,9
           NA,     A06,    139,   1,-999.0,      30,  2,19930218,0557,   7.5202,  -44.6532,  4590,  120.300,   20.444,   36.514,2, -999.000,3,  170.600,2, -999.000,3,    4.210,2,    9.160,2,    0.070,2,    0.500,2,    1.650,2,    0.849,2, -999.000,9, -999.000,9, -999.000,9
           NA,     A06,    139,   1,-999.0,      29,  2,19930218,0557,   7.5202,  -44.6532,  4590,  193.700,   11.305,   35.182,2, -999.000,3,  124.400,2,  125.400,2,   11.910,2,   23.910,2,    0.000,2,    1.450,2,    0.859,2,    0.441,2, -999.000,9, -999.000,9, -999.000,9
           NA,     A06,    139,   1,-999.0,      28,  2,19930218,0557,   7.5202,  -44.6532,  4590,  393.100,    8.340,   34.788,2,   34.784,2,  112.000,2,  110.000,2,   18.570,2,   31.970,2,    0.000,2,    1.940,2,    0.293,2,    0.150,2, -999.000,9, -999.000,9, -999.000,9
           NA,     A06,    139,   1,-999.0,      27,  2,19930218,0557,   7.5202,  -44.6532,  4590,  592.700,    7.103,   34.711,2,   34.709,2,  115.400,2, -999.000,3,   22.970,2,   34.540,2,    0.000,2,    2.130,2,    0.103,2,    0.051,2, -999.000,9, -999.000,9, -999.000,9
           NA,     A06,    139,   1,-999.0,      26,  2,19930218,0557,   7.5202,  -44.6532,  4590,  791.800,    5.694,   34.652,2,   34.651,2,  119.700,2,  124.200,2,   28.450,2,   35.440,2,    0.000,2,    2.240,2,    0.044,2,    0.013,2, -999.000,9, -999.000,9, -999.000,9
           NA,     A06,    139,   1,-999.0,      25,  2,19930218,0557,   7.5202,  -44.6532,  4590,  992.500,    5.141,   34.752,2,   34.750,2,  139.100,2,  143.400,2,   28.720,2,   32.900,2,    0.000,2,    2.100,2,    0.011,2,    0.005,2, -999.000,9, -999.000,9, -999.000,9
           NA,     A06,    139,   1,-999.0,      24,  2,19930218,0557,   7.5202,  -44.6532,  4590, 1192.600,    4.869,   34.907,2,   34.904,2,  188.300,2,  185.500,2,   23.870,2,   26.610,2,    0.000,2,    1.710,2,    0.040,2,    0.019,2, -999.000,9, -999.000,9, -999.000,9
           NA,     A06,    139,   1,-999.0,      23,  2,19930218,0557,   7.5202,  -44.6532,  4590, 1393.000,    4.581,   34.997,2,   34.996,2,  233.500,2,  231.600,2,   17.960,2,   20.780,2,    0.000,2,    1.340,2,    0.149,2,    0.073,2, -999.000,9, -999.000,9, -999.000,9
           NA,     A06,    139,   1,-999.0,      22,  2,19930218,0557,   7.5202,  -44.6532,  4590, 1492.800,    4.372,   35.008,2, -999.000,3,  248.000,2,  246.600,2,   16.340,2,   19.230,2,    0.000,2,    1.250,2,    0.223,2,    0.114,2, -999.000,9, -999.000,9, -999.000,9
           NA,     A06,    139,   1,-999.0,      21,  2,19930218,0557,   7.5202,  -44.6532,  4590, 1593.600,    4.167,   35.005,2, -999.000,3,  254.400,2,  253.700,2,   15.850,2,   18.490,2,    0.000,2,    1.190,2,    0.223,2,    0.108,2, -999.000,9, -999.000,9, -999.000,9
           NA,     A06,    139,   1,-999.0,      20,  2,19930218,0557,   7.5202,  -44.6532,  4590, 1693.300,    3.943,   34.996,2,   34.995,2,  255.500,2,  258.300,2,   16.570,2,   18.300,2,    0.000,2,    1.180,2,    0.142,2,    0.069,2, -999.000,9, -999.000,9, -999.000,9
           NA,     A06,    139,   1,-999.0,      19,  2,19930218,0557,   7.5202,  -44.6532,  4590, 1793.800,    3.775,   34.983,2,   34.981,2,  255.200,2,  255.400,2,   18.510,2,   18.690,2,    0.010,2,    1.220,2,    0.058,2,    0.031,2, -999.000,9, -999.000,9, -999.000,9
           NA,     A06,    139,   1,-999.0,      17,  2,19930218,0557,   7.5202,  -44.6532,  4590, 1993.400,    3.561,   34.974,2,   34.973,2,  255.600,2,  257.500,2,   20.270,2,   18.700,2,    0.000,2,    1.220,2,    0.031,2,    0.015,2, -999.000,9, -999.000,9, -999.000,9
           NA,     A06,    139,   1,-999.0,      18,  2,19930218,0557,   7.5202,  -44.6532,  4590, 1993.700,    3.562,   34.974,2,   34.973,2,  255.500,2,  256.400,2,   20.260,2,   18.710,2,    0.000,2,    1.220,2,    0.039,2,    0.017,2, -999.000,9, -999.000,9, -999.000,9
           NA,     A06,    139,   1,-999.0,      16,  2,19930218,0557,   7.5202,  -44.6532,  4590, 2194.000,    3.397,   34.970,2,   34.967,2,  259.800,2,  260.800,2,   20.870,2,   18.180,2,    0.000,2,    1.200,2,    0.057,2,    0.027,2, -999.000,9, -999.000,9, -999.000,9
           NA,     A06,    139,   1,-999.0,      15,  2,19930218,0557,   7.5202,  -44.6532,  4590, 2394.900,    3.217,   34.962,2, -999.000,3,  261.700,2,  262.300,2,   22.140,2,   18.010,2,    0.000,2,    1.210,2,    0.063,2,    0.030,2, -999.000,9, -999.000,9, -999.000,9
           NA,     A06,    139,   1,-999.0,      14,  2,19930218,0557,   7.5202,  -44.6532,  4590, 2694.300,    3.025,   34.952,2, -999.000,3,  261.900,2,  263.200,2,   24.030,2,   18.100,2,    0.000,2,    1.210,2,    0.076,2,    0.034,2, -999.000,9, -999.000,9, -999.000,9
           NA,     A06,    139,   1,-999.0,      13,  2,19930218,0557,   7.5202,  -44.6532,  4590, 2994.600,    2.787,   34.934,2,   34.930,2,  258.000,2,  259.600,2,   30.430,2,   18.970,2,    0.000,2,    1.270,2,    0.041,2,    0.017,2, -999.000,9, -999.000,9, -999.000,9
           NA,     A06,    139,   1,-999.0,      12,  2,19930218,0557,   7.5202,  -44.6532,  4590, 3192.900,    2.680,   34.925,2,   34.925,2,  257.000,2,  261.300,2,   32.200,2,   19.000,2,    0.000,2,    1.280,2,    0.024,2,    0.014,2, -999.000,9, -999.000,9, -999.000,9
           NA,     A06,    139,   1,-999.0,      11,  2,19930218,0557,   7.5202,  -44.6532,  4590, 3394.100,    2.579,   34.917,2,   34.916,2,  256.300,2,  259.700,2,   35.260,2,   19.330,2,    0.000,2,    1.300,2,    0.022,2,    0.009,2, -999.000,9, -999.000,9, -999.000,9
           NA,     A06,    139,   1,-999.0,       9,  2,19930218,0557,   7.5202,  -44.6532,  4590, 3595.100,    2.447,   34.910,2,   34.909,2,  259.900,2,  262.500,2,   34.860,2,   18.750,2,    0.000,2,    1.270,2,    0.056,2,    0.027,2, -999.000,9, -999.000,9, -999.000,9
           NA,     A06,    139,   1,-999.0,      10,  2,19930218,0557,   7.5202,  -44.6532,  4590, 3601.600,    2.448,   34.911,2,   34.909,2,  259.800,2,  263.900,2,   33.660,2,   18.540,2,    0.000,2,    1.270,2,    0.053,2,    0.023,2, -999.000,9, -999.000,9, -999.000,9
           NA,     A06,    139,   1,-999.0,       8,  2,19930218,0557,   7.5202,  -44.6532,  4590, 3795.900,    2.382,   34.905,2,   34.905,2,  263.100,2,  265.100,2,   33.840,2,   18.390,2,    0.000,2,    1.260,2,    0.057,2,    0.024,2, -999.000,9, -999.000,9, -999.000,9
           NA,     A06,    139,   1,-999.0,       7,  2,19930218,0557,   7.5202,  -44.6532,  4590, 3893.600,    2.350,   34.904,2, -999.000,3,  262.900,2,  265.300,2,   34.020,2,   18.340,2,    0.000,2,    1.260,2,    0.071,2,    0.039,2, -999.000,9, -999.000,9, -999.000,9
           NA,     A06,    139,   1,-999.0,       6,  2,19930218,0557,   7.5202,  -44.6532,  4590, 3992.800,    2.317,   34.899,2,   34.899,2,  263.000,2, -999.000,3,   35.960,2,   18.570,2,    0.000,2,    1.270,2,    0.047,2,    0.030,2, -999.000,9, -999.000,9, -999.000,9
           NA,     A06,    139,   1,-999.0,       5,  2,19930218,0557,   7.5202,  -44.6532,  4590, 4092.800,    2.296,   34.897,2,   34.895,2,  263.600,2,  266.300,2,   35.570,2,   18.490,2,    0.000,2,    1.270,2,    0.073,2,    0.040,2, -999.000,9, -999.000,9, -999.000,9
           NA,     A06,    139,   1,-999.0,       4,  2,19930218,0557,   7.5202,  -44.6532,  4590, 4192.800,    2.265,   34.893,2,   34.892,2,  261.100,2,  264.900,2,   37.370,2,   18.590,2,    0.000,2,    1.290,2,    0.062,2,    0.024,2, -999.000,9, -999.000,9, -999.000,9
           NA,     A06,    139,   1,-999.0,       3,  2,19930218,0557,   7.5202,  -44.6532,  4590, 4395.000,    2.152,   34.877,2,   34.876,2,  257.800,2,  260.500,2,   44.940,2,   19.760,2,    0.000,2,    1.370,2,    0.049,2,    0.021,2, -999.000,9, -999.000,9, -999.000,9
           NA,     A06,    139,   1,-999.0,       2,  2,19930218,0557,   7.5202,  -44.6532,  4590, 4489.800,    2.084,   34.870,2,   34.869,2,  256.300,2,  258.000,2,   48.310,2,   20.250,2,    0.000,2,    1.420,2,    0.075,2,    0.037,2, -999.000,9, -999.000,9, -999.000,9
           NA,     A06,    139,   1,-999.0,       1,  2,19930218,0557,   7.5202,  -44.6532,  4590, 4617.000,    1.490,   34.799,2,   34.798,2,  237.600,2,  241.900,2,   80.860,2,   24.950,2,    0.000,2,    1.750,2,    0.025,2,    0.014,2, -999.000,9, -999.000,9, -999.000,9