BOTTLE,20205402JOAExport
EXPOCODE,SECT_ID,STNNBR,CASTNO,SAMPNO,BTLNBR,BTLNBR_FLAG_W,DATE,TIME,LATITUDE,LONGITUDE,DEPTH,CTDPRS,CTDTMP,CTDSAL,CTDSAL_FLAG_W,SALNTY,SALNTY_FLAG_W,CTDOXY,CTDOXY_FLAG_W,OXYGEN,OXYGEN_FLAG_W,SILCAT,SILCAT_FLAG_W,NITRAT,NITRAT_FLAG_W,NITRIT,NITRIT_FLAG_W,PHSPHT,PHSPHT_FLAG_W,CFC-11,CFC-11_FLAG_W,CFC-12,CFC-12_FLAG_W,SF6,SF6_FLAG_W,TCARBN,TCARBN_FLAG_W,ALKALI,ALKALI_FLAG_W
,,,,,,,,,,,,,DB,DEG C,PSS-78,,PSS-78,,UMOL/KG,,UMOL/KG,,UMOL/KG,,UMOL/KG,,UMOL/KG,,UMOL/KG,,PMOL/KG,,PMOL/KG,,FMOL/KG,,UMOL/KG,,UMOL/KG
           NA,     A06,    197,   1,-999.0,      30,  2,19930304,2257,   8.2167,  -14.7003,  3280,    1.400,   26.322,   35.182,2,   35.182,2,  202.100,2,  203.800,2,    1.410,2,    0.040,2,    0.000,2,    0.010,2, -999.000,9, -999.000,9, -999.000,9, -999.000,9, -999.000,9
           NA,     A06,    197,   1,-999.0,      26,  2,19930304,2257,   8.2167,  -14.7003,  3280,   26.000,   22.199,   35.828,2, -999.000,3,  203.600,2, -999.000,3,    2.390,2,    0.320,2,    0.010,2,    0.140,2, -999.000,9, -999.000,9, -999.000,9, -999.000,9, -999.000,9
           NA,     A06,    197,   1,-999.0,      25,  2,19930304,2257,   8.2167,  -14.7003,  3280,   45.300,   17.469,   35.639,2, -999.000,3,  121.700,2, -999.000,3,    6.320,2,   17.120,2,    0.160,2,    1.200,2, -999.000,9, -999.000,9, -999.000,9, -999.000,9, -999.000,9
           NA,     A06,    197,   1,-999.0,      24,  2,19930304,2257,   8.2167,  -14.7003,  3280,   69.900,   16.471,   35.652,2, -999.000,3,   84.000,2,   79.800,2,    6.720,2,   20.250,2,    0.050,2,    1.360,2, -999.000,9, -999.000,9, -999.000,9, -999.000,9, -999.000,9
           NA,     A06,    197,   1,-999.0,      23,  2,19930304,2257,   8.2167,  -14.7003,  3280,   94.500,   15.643,   35.589,2,   35.586,2,   78.600,2,   78.300,2,    7.570,2,   21.670,2,    0.010,2,    1.450,2, -999.000,9, -999.000,9, -999.000,9, -999.000,9, -999.000,9
           NA,     A06,    197,   1,-999.0,      22,  2,19930304,2257,   8.2167,  -14.7003,  3280,  193.500,   13.925,   35.408,2,   35.404,2,   74.600,2,   74.100,2,    8.870,2,   24.410,2,    0.000,2,    1.570,2, -999.000,9, -999.000,9, -999.000,9, -999.000,9, -999.000,9
           NA,     A06,    197,   1,-999.0,      21,  2,19930304,2257,   8.2167,  -14.7003,  3280,  193.600,   13.921,   35.408,2, -999.000,3,   74.600,2,   74.200,2,    8.880,2,   24.420,2,    0.000,2,    1.570,2, -999.000,9, -999.000,9, -999.000,9, -999.000,9, -999.000,9
           NA,     A06,    197,   1,-999.0,      20,  2,19930304,2257,   8.2167,  -14.7003,  3280,  293.200,   11.781,   35.183,2,   35.178,2,   81.400,2,   80.400,2,   11.450,2,   27.200,2,    0.000,2,    1.720,2, -999.000,9, -999.000,9, -999.000,9, -999.000,9, -999.000,9
           NA,     A06,    197,   1,-999.0,      19,  2,19930304,2257,   8.2167,  -14.7003,  3280,  392.300,   10.011,   35.058,2, -999.000,3,   48.700,2,   48.000,2,   15.970,2,   34.670,2,    0.000,2,    2.100,2, -999.000,9, -999.000,9, -999.000,9, -999.000,9, -999.000,9
           NA,     A06,    197,   1,-999.0,      18,  2,19930304,2257,   8.2167,  -14.7003,  3280,  592.600,    7.195,   34.762,2,   34.758,2,   70.600,2,   71.300,2,   23.100,2,   38.140,2,    0.000,2,    2.390,2,    0.018,2,    0.006,2, -999.000,9, -999.000,9, -999.000,9
           NA,     A06,    197,   1,-999.0,      17,  2,19930304,2257,   8.2167,  -14.7003,  3280,  791.900,    5.833,   34.689,2,   34.689,2,  104.000,2,  100.800,2,   27.850,2,   36.860,2,    0.000,2,    2.390,2,    0.004,2,   -0.002,2, -999.000,9, -999.000,9, -999.000,9
           NA,     A06,    197,   1,-999.0,      16,  2,19930304,2257,   8.2167,  -14.7003,  3280,  992.500,    5.046,   34.746,2,   34.745,2,  135.500,2,  135.300,2,   28.940,2,   32.680,2,    0.000,2,    2.200,2,    0.000,2,    0.001,2, -999.000,9, -999.000,9, -999.000,9
           NA,     A06,    197,   1,-999.0,      15,  2,19930304,2257,   8.2167,  -14.7003,  3280, 1192.500,    4.626,   34.843,2,   34.841,2,  168.500,2,  167.700,2,   26.730,2,   28.050,2,    0.000,2,    1.930,2,    0.000,2,    0.002,2, -999.000,9, -999.000,9, -999.000,9
           NA,     A06,    197,   1,-999.0,      14,  2,19930304,2257,   8.2167,  -14.7003,  3280, 1292.600,    4.371,   34.891,2,   34.889,2,  188.000,2,  186.400,2,   25.400,2,   25.480,2,    0.000,2,    1.770,2, -999.000,9, -999.000,9, -999.000,9, -999.000,9, -999.000,9
           NA,     A06,    197,   1,-999.0,      13,  2,19930304,2257,   8.2167,  -14.7003,  3280, 1393.100,    4.178,   34.912,2,   34.907,2,  202.300,2,  200.300,2,   24.550,2,   23.760,2,    0.000,2,    1.670,2,    0.002,2,   -0.001,2, -999.000,9, -999.000,9, -999.000,9
           NA,     A06,    197,   1,-999.0,      12,  2,19930304,2257,   8.2167,  -14.7003,  3280, 1493.800,    4.027,   34.934,2,   34.934,2,  214.100,2,  212.200,2,   23.620,2,   22.250,2,    0.000,2,    1.570,2, -999.000,9, -999.000,9, -999.000,9, -999.000,9, -999.000,9
           NA,     A06,    197,   1,-999.0,      11,  2,19930304,2257,   8.2167,  -14.7003,  3280, 1593.700,    3.905,   34.943,2,   34.944,2,  222.000,2,  220.100,2,   23.290,2,   21.240,2,    0.000,2,    1.510,2,   -0.001,2,    0.001,2, -999.000,9, -999.000,9, -999.000,9
           NA,     A06,    197,   1,-999.0,      10,  2,19930304,2257,   8.2167,  -14.7003,  3280, 1693.900,    3.740,   34.944,2,   34.946,2,  227.200,2,  227.000,2,   24.220,2,   20.680,2,    0.000,2,    1.490,2,    0.001,2,   -0.001,2, -999.000,9, -999.000,9, -999.000,9
           NA,     A06,    197,   1,-999.0,       9,  2,19930304,2257,   8.2167,  -14.7003,  3280, 1793.100,    3.653,   34.949,2,   34.949,2,  230.600,2,  229.600,2,   24.390,2,   20.160,2,    0.000,2,    1.460,2,    0.000,2,    0.001,2, -999.000,9, -999.000,9, -999.000,9
           NA,     A06,    197,   1,-999.0,       8,  2,19930304,2257,   8.2167,  -14.7003,  3280, 1994.600,    3.429,   34.949,2,   34.948,2,  236.400,2,  235.100,2,   26.200,2,   19.740,2,    0.000,2,    1.430,2, -999.000,9, -999.000,9, -999.000,9, -999.000,9, -999.000,9
           NA,     A06,    197,   1,-999.0,       6,  2,19930304,2257,   8.2167,  -14.7003,  3280, 2194.500,    3.271,   34.945,2,   34.946,2,  238.400,2,  238.400,2,   28.300,2,   19.500,2,    0.000,2,    1.420,2,   -0.002,2,    0.002,2, -999.000,9, -999.000,9, -999.000,9
           NA,     A06,    197,   1,-999.0,       7,  2,19930304,2257,   8.2167,  -14.7003,  3280, 2194.500,    3.271,   34.945,2,   34.945,2,  238.400,2,  239.100,2,   28.230,2,   19.490,2,    0.000,2,    1.420,2,    0.001,2,    0.000,2, -999.000,9, -999.000,9, -999.000,9
           NA,     A06,    197,   1,-999.0,       5,  2,19930304,2257,   8.2167,  -14.7003,  3280, 2394.100,    3.077,   34.939,2,   34.938,2,  239.800,2,  239.900,2,   31.320,2,   19.610,2,    0.000,2,    1.430,2,    0.002,2,    0.002,2, -999.000,9, -999.000,9, -999.000,9
           NA,     A06,    197,   1,-999.0,       4,  2,19930304,2257,   8.2167,  -14.7003,  3280, 2595.000,    2.929,   34.933,2,   34.933,2,  240.500,2,  241.600,2,   33.730,2,   19.560,2,    0.000,2,    1.430,2,    0.002,2,    0.004,2, -999.000,9, -999.000,9, -999.000,9
           NA,     A06,    197,   1,-999.0,       3,  2,19930304,2257,   8.2167,  -14.7003,  3280, 2795.000,    2.796,   34.927,2,   34.928,2,  241.500,2,  242.800,2,   36.200,2,   19.660,2,    0.000,2,    1.430,2, -999.000,9, -999.000,9, -999.000,9, -999.000,9, -999.000,9
           NA,     A06,    197,   1,-999.0,       2,  2,19930304,2257,   8.2167,  -14.7003,  3280, 2993.600,    2.682,   34.920,2,   34.921,2,  241.200,2,  241.700,2,   38.840,2,   19.570,2,    0.000,2,    1.450,2,   -0.001,2,    0.000,2, -999.000,9, -999.000,9, -999.000,9
           NA,     A06,    197,   1,-999.0,       1,  2,19930304,2257,   8.2167,  -14.7003,  3280, 3298.900,    2.561,   34.910,2,   34.912,2,  239.000,2,  240.200,2,   42.380,2,   20.020,2,    0.000,2,    1.470,2,    0.000,2,    0.002,2, -999.000,9, -999.000,9, -999.000,9
           NA,     A06,    198,   1,-999.0,      26,  4,19930305,0313,   8.2332,  -14.6167,  2961,    1.700,   26.117,   35.222,2, -999.000,3,  201.000,2, -999.000,3, -999.000,3, -999.000,3, -999.000,3, -999.000,3, -999.000,9, -999.000,9, -999.000,9, -999.000,4, -999.000,4
           NA,     A06,    198,   1,-999.0,      25,  2,19930305,0313,   8.2332,  -14.6167,  2961,   13.800,   26.106,   35.228,2, -999.000,3,  205.800,2, -999.000,3,    1.020,2,    0.200,2,    0.020,2,    0.070,2, -999.000,9, -999.000,9, -999.000,9, 2020.900,2, 2368.800,2
           NA,     A06,    198,   1,-999.0,      24,  2,19930305,0313,   8.2332,  -14.6167,  2961,   29.000,   18.924,   35.642,2, -999.000,3,  182.000,2, -999.000,3,    4.150,2,   12.040,2,    0.430,2,    0.940,2, -999.000,9, -999.000,9, -999.000,9, 2176.700,2, 2370.600,2
           NA,     A06,    198,   1,-999.0,      22,  2,19930305,0313,   8.2332,  -14.6167,  2961,   44.200,   17.436,   35.649,2,   35.645,2,  102.100,2, -999.000,3,    6.090,2,   17.810,2,    0.120,2,    1.250,2, -999.000,9, -999.000,9, -999.000,9, 2228.000,2, 2394.700,2
           NA,     A06,    198,   1,-999.0,      23,  2,19930305,0313,   8.2332,  -14.6167,  2961,   44.300,   17.438,   35.648,2,   35.647,2,  102.100,2, -999.000,3,    6.020,2,   18.050,2,    0.130,2,    1.250,2, -999.000,9, -999.000,9, -999.000,9, 2222.000,2, 2390.300,2
           NA,     A06,    198,   1,-999.0,      21,  2,19930305,0313,   8.2332,  -14.6167,  2961,   63.700,   16.910,   35.648,2, -999.000,3,   80.100,2,   80.300,2,    6.340,2,   19.430,2,    0.070,2,    1.320,2,    1.313,2,    0.687,2, -999.000,9, 2228.800,2, 2393.200,2
           NA,     A06,    198,   1,-999.0,      20,  2,19930305,0313,   8.2332,  -14.6167,  2961,   93.300,   16.212,   35.641,2, -999.000,3,   81.600,2,   82.200,2,    6.740,2,   20.470,2,    0.030,2,    1.370,2, -999.000,9, -999.000,9, -999.000,9, 2232.100,2, 2394.700,2
           NA,     A06,    198,   1,-999.0,      19,  2,19930305,0313,   8.2332,  -14.6167,  2961,  192.800,   14.199,   35.439,2,   35.436,2,   72.700,2,   73.300,2,    8.260,2,   24.950,2,    0.010,2,    1.570,2,    0.923,2,    0.473,2, -999.000,9, 2234.800,2, 2371.700,2
           NA,     A06,    198,   1,-999.0,      18,  2,19930305,0313,   8.2332,  -14.6167,  2961,  291.100,   11.383,   35.152,2, -999.000,3,   76.200,2,   74.300,2,   11.640,2,   29.120,2,    0.000,2,    1.780,2,    0.536,2,    0.269,2, -999.000,9, 2262.100,2, 2370.700,2
           NA,     A06,    198,   1,-999.0,      17,  2,19930305,0313,   8.2332,  -14.6167,  2961,  392.500,    9.796,   35.025,2,   35.028,2,   49.300,2, -999.000,9,   15.710,2,   35.310,2,    0.000,2,    2.110,2,    0.193,2,    0.093,2, -999.000,9, -999.000,3, -999.000,3
           NA,     A06,    198,   1,-999.0,      16,  2,19930305,0313,   8.2332,  -14.6167,  2961,  592.100,    7.321,   34.781,2,   34.785,2,   64.500,2,   67.700,2,   22.150,2,   38.460,2,    0.000,2,    2.380,2,    0.025,2,    0.007,2, -999.000,9, 2270.200,2, 2331.800,2
           NA,     A06,    198,   1,-999.0,      15,  2,19930305,0313,   8.2332,  -14.6167,  2961,  792.200,    5.680,   34.688,2,   34.683,2,   99.800,2, -999.000,3,   27.660,2,   36.830,2,    0.000,2,    2.370,2,    0.012,2,    0.002,2, -999.000,9, 2256.100,2, 2331.300,2
           NA,     A06,    198,   1,-999.0,      14,  2,19930305,0313,   8.2332,  -14.6167,  2961,  992.500,    5.016,   34.753,2,   34.751,2,  135.100,2,  138.100,2,   28.050,2,   33.110,2,    0.000,2,    2.180,2,    0.007,2,   -0.001,2, -999.000,9, 2245.700,2, 2338.500,2
           NA,     A06,    198,   1,-999.0,      13,  2,19930305,0313,   8.2332,  -14.6167,  2961, 1192.400,    4.603,   34.847,2,   34.843,2,  169.400,2,  169.000,2,   26.100,2,   28.500,2,    0.000,2,    1.920,2, -999.000,9, -999.000,9, -999.000,9, 2236.500,2, 2351.600,2
           NA,     A06,    198,   1,-999.0,      12,  2,19930305,0313,   8.2332,  -14.6167,  2961, 1293.400,    4.301,   34.893,2,   34.897,2,  189.100,2,  191.000,2,   24.940,2,   25.680,2,    0.000,2,    1.740,2,    0.003,2,   -0.002,2, -999.000,9, 2224.500,2, 2352.700,2
           NA,     A06,    198,   1,-999.0,      11,  2,19930305,0313,   8.2332,  -14.6167,  2961, 1392.900,    4.176,   34.918,2,   34.919,2,  202.300,2,  202.000,2,   24.010,2,   24.460,2,    0.000,2,    1.650,2,    0.004,2,   -0.001,2, -999.000,9, 2217.500,2, 2354.500,2
           NA,     A06,    198,   1,-999.0,      10,  2,19930305,0313,   8.2332,  -14.6167,  2961, 1492.600,    4.006,   34.931,2,   34.926,2,  213.000,2,  211.800,2,   23.620,2,   23.340,2,    0.000,2,    1.570,2,    0.006,2,   -0.002,2, -999.000,9, 2213.500,2, 2354.300,2
           NA,     A06,    198,   1,-999.0,       9,  2,19930305,0313,   8.2332,  -14.6167,  2961, 1593.200,    3.856,   34.944,2,   34.947,2,  224.200,2,  220.300,2,   23.000,2,   22.010,2,    0.000,2,    1.500,2,   -0.001,2,    0.000,2, -999.000,9, 2213.400,2, 2362.200,2
           NA,     A06,    198,   1,-999.0,       8,  2,19930305,0313,   8.2332,  -14.6167,  2961, 1793.400,    3.630,   34.948,2,   34.949,2,  231.600,2,  230.300,2,   24.450,2,   21.160,2,    0.000,2,    1.460,2,   -0.001,2,    0.002,2, -999.000,9, -999.000,3, -999.000,3
           NA,     A06,    198,   1,-999.0,       7,  2,19930305,0313,   8.2332,  -14.6167,  2961, 1793.400,    3.624,   34.948,2,   34.949,2,  231.600,2,  230.400,2,   24.590,2,   21.200,2,    0.000,2,    1.460,2,   -0.001,2,   -0.002,2, -999.000,9, -999.000,3, -999.000,3
           NA,     A06,    198,   1,-999.0,       6,  2,19930305,0313,   8.2332,  -14.6167,  2961, 1993.400,    3.417,   34.947,2,   34.947,2,  236.300,2,  234.800,2,   26.750,2,   20.840,2,    0.000,2,    1.440,2, -999.000,9, -999.000,9, -999.000,9, -999.000,3, -999.000,3
           NA,     A06,    198,   1,-999.0,       5,  2,19930305,0313,   8.2332,  -14.6167,  2961, 2193.700,    3.232,   34.945,2,   34.943,2,  238.900,2,  237.700,2,   28.940,2,   20.920,2,    0.000,2,    1.420,2,   -0.001,2,    0.000,2, -999.000,9, 2201.800,2, 2358.200,2
           NA,     A06,    198,   1,-999.0,       4,  2,19930305,0313,   8.2332,  -14.6167,  2961, 2393.500,    3.081,   34.939,2,   34.934,2,  239.500,2,  240.600,2,   31.330,2,   20.890,2,    0.000,2,    1.430,2, -999.000,9, -999.000,9, -999.000,9, 2218.200,2, 2375.800,2
           NA,     A06,    198,   1,-999.0,       3,  2,19930305,0313,   8.2332,  -14.6167,  2961, 2595.700,    2.943,   34.934,2,   34.932,2,  240.400,2,  239.600,2,   33.770,2,   20.990,2,    0.000,2,    1.430,2,   -0.002,2,    0.002,2, -999.000,9, 2218.400,2, 2377.800,2
           NA,     A06,    198,   1,-999.0,       2,  2,19930305,0313,   8.2332,  -14.6167,  2961, 2794.900,    2.796,   34.926,2,   34.928,2,  241.200,2,  240.900,2,   36.270,2,   21.060,2,    0.000,2,    1.440,2, -999.000,9, -999.000,9, -999.000,9, 2214.300,2, 2372.600,2
           NA,     A06,    198,   1,-999.0,       1,  2,19930305,0313,   8.2332,  -14.6167,  2961, 2971.600,    2.677,   34.918,2,   34.919,2,  237.000,2,  240.400,2,   39.100,2,   21.210,2,    0.000,2,    1.450,2,    0.002,2,   -0.001,2, -999.000,9, -999.000,3, 2402.200,1