BOTTLE,20205402JOAExport
EXPOCODE,SECT_ID,STNNBR,CASTNO,SAMPNO,BTLNBR,BTLNBR_FLAG_W,DATE,TIME,LATITUDE,LONGITUDE,DEPTH,CTDPRS,CTDTMP,CTDSAL,CTDSAL_FLAG_W,SALNTY,SALNTY_FLAG_W,CTDOXY,CTDOXY_FLAG_W,OXYGEN,OXYGEN_FLAG_W,SILCAT,SILCAT_FLAG_W,NITRAT,NITRAT_FLAG_W,NITRIT,NITRIT_FLAG_W,PHSPHT,PHSPHT_FLAG_W,CFC-11,CFC-11_FLAG_W,CFC-12,CFC-12_FLAG_W,SF6,SF6_FLAG_W,TCARBN,TCARBN_FLAG_W,ALKALI,ALKALI_FLAG_W
,,,,,,,,,,,,,DB,DEG C,PSS-78,,PSS-78,,UMOL/KG,,UMOL/KG,,UMOL/KG,,UMOL/KG,,UMOL/KG,,UMOL/KG,,PMOL/KG,,PMOL/KG,,FMOL/KG,,UMOL/KG,,UMOL/KG
           NA,     A06,    172,   1,-999.0,      32,  2,19930227,0127,   7.4500,  -26.6647,  4802,    2.000,   26.146,   36.140,2,   36.141,2,  202.300,2,  203.900,2,    1.900,2,    0.050,2,    0.000,2,    0.000,2,    1.843,2,    1.005,2, -999.000,9, 2015.200,2, 2397.300,2
           NA,     A06,    172,   1,-999.0,      31,  2,19930227,0127,   7.4500,  -26.6647,  4802,   68.500,   18.335,   35.954,2, -999.000,3,  149.300,2, -999.000,3,    5.330,2,   11.000,2,    0.170,2,    0.710,2,    1.494,2,    0.759,2, -999.000,9, 2134.700,2, 2379.500,2
           NA,     A06,    172,   1,-999.0,      30,  2,19930227,0127,   7.4500,  -26.6647,  4802,  118.700,   13.380,   35.361,2,   35.358,2,  115.200,2,  116.900,2,    9.100,2,   20.390,2,    0.000,2,    1.330,2,    1.091,2,    0.533,2, -999.000,9, 2176.200,2, 2340.800,2
           NA,     A06,    172,   1,-999.0,      29,  2,19930227,0127,   7.4500,  -26.6647,  4802,  193.600,   11.852,   35.168,2,   35.163,2,   99.500,2,  101.600,2,   11.220,2,   24.630,2,    0.000,2,    1.570,2,    0.734,2,    0.349,2, -999.000,9, 2194.300,2, 2330.600,2
           NA,     A06,    172,   1,-999.0,      28,  2,19930227,0127,   7.4500,  -26.6647,  4802,  392.700,    9.711,   35.011,2,   35.008,2,   54.100,2,   54.000,2,   16.670,2,   34.200,2,    0.000,2,    2.070,2,    0.165,2,    0.066,2, -999.000,9, 2261.000,2, 2338.200,2
           NA,     A06,    172,   1,-999.0,      27,  2,19930227,0127,   7.4500,  -26.6647,  4802,  592.900,    7.074,   34.744,2,   34.744,2,   83.400,2,   85.200,2,   23.610,2,   35.970,2,    0.030,2,    2.300,2,    0.032,2,    0.008,2, -999.000,9, 2257.700,2, 2331.300,2
           NA,     A06,    172,   1,-999.0,      26,  2,19930227,0127,   7.4500,  -26.6647,  4802,  791.900,    5.537,   34.648,2,   34.645,2,  116.700,2,  117.000,2,   28.870,2,   35.290,2,    0.030,2,    2.310,2,    0.015,2,    0.000,2, -999.000,9, 2250.100,2, 2333.200,2
           NA,     A06,    172,   1,-999.0,      25,  2,19930227,0127,   7.4500,  -26.6647,  4802,  991.900,    4.910,   34.700,2,   34.703,2,  144.300,2,  145.300,2,   29.910,2,   32.130,2,    0.030,2,    2.160,2,    0.002,2,    0.001,2, -999.000,9, 2219.300,2, 2319.000,2
           NA,     A06,    172,   1,-999.0,      24,  2,19930227,0127,   7.4500,  -26.6647,  4802, 1191.900,    4.782,   34.829,2,   34.829,2,  176.900,2, -999.000,3,   26.690,2,   28.190,2,    0.000,2,    1.910,2,    0.012,2,    0.001,2, -999.000,9, 2210.000,2, 2324.200,2
           NA,     A06,    172,   1,-999.0,      23,  2,19930227,0127,   7.4500,  -26.6647,  4802, 1293.100,    4.658,   34.897,2,   34.897,2,  195.500,2, -999.000,3,   23.860,2,   25.140,2,    0.030,2,    1.710,2,    0.017,2,    0.004,2, -999.000,9, 2192.200,2, 2323.400,2
           NA,     A06,    172,   1,-999.0,      22,  2,19930227,0127,   7.4500,  -26.6647,  4802, 1392.300,    4.507,   34.944,2,   34.946,2,  211.700,2,  207.300,2,   21.650,2,   22.090,2,    0.020,2,    1.530,2,    0.026,2,    0.011,2, -999.000,9, 2195.300,2, 2338.500,2
           NA,     A06,    172,   1,-999.0,      21,  2,19930227,0127,   7.4500,  -26.6647,  4802, 1494.200,    4.341,   34.964,2,   34.965,2,  224.600,2,  220.700,2,   20.170,2,   20.800,2,    0.010,2,    1.450,2,    0.026,2,    0.006,2, -999.000,9, 2183.300,2, 2336.700,2
           NA,     A06,    172,   1,-999.0,      20,  2,19930227,0127,   7.4500,  -26.6647,  4802, 1592.700,    4.135,   34.977,2,   34.976,2,  236.200,2,  233.900,2,   19.310,2,   19.150,2,    0.010,2,    1.340,2,    0.030,2,    0.009,2, -999.000,9, 2171.400,2, 2328.800,2
           NA,     A06,    172,   1,-999.0,      19,  2,19930227,0127,   7.4500,  -26.6647,  4802, 1693.200,    3.968,   34.976,2,   34.976,2,  241.800,2,  238.900,2,   19.650,2,   18.750,2,    0.010,2,    1.320,2,    0.021,2,    0.006,2, -999.000,9, 2173.400,2, 2333.200,2
           NA,     A06,    172,   1,-999.0,      18,  2,19930227,0127,   7.4500,  -26.6647,  4802, 1792.000,    3.797,   34.970,2,   34.974,2,  244.200,2,  242.200,2,   20.390,2,   18.280,2,    0.030,2,    1.300,2,    0.013,2,    0.003,2, -999.000,9, 2187.900,2, 2349.300,2
           NA,     A06,    172,   1,-999.0,      17,  2,19930227,0127,   7.4500,  -26.6647,  4802, 1892.600,    3.638,   34.967,2,   34.973,2,  245.800,2,  244.700,2,   21.750,2,   18.230,2,    0.000,2,    1.310,2,    0.008,2,    0.002,2, -999.000,9, 2177.100,2, 2340.800,2
           NA,     A06,    172,   1,-999.0,      16,  2,19930227,0127,   7.4500,  -26.6647,  4802, 2093.700,    3.395,   34.959,2,   34.958,2,  249.000,2,  246.800,2,   24.250,2,   18.250,2,    0.010,2,    1.310,2,    0.009,2,    0.000,2, -999.000,9, 2176.100,2, 2339.700,2
           NA,     A06,    172,   1,-999.0,      15,  2,19930227,0127,   7.4500,  -26.6647,  4802, 2393.900,    3.102,   34.946,2,   34.947,2,  249.400,2,  247.900,2,   28.740,2,   18.420,2,    0.000,2,    1.330,2,    0.004,2,   -0.002,2, -999.000,9, 2180.100,2, 2346.100,2
           NA,     A06,    172,   1,-999.0,      14,  2,19930227,0127,   7.4500,  -26.6647,  4802, 2693.000,    2.854,   34.933,2,   34.930,2,  249.100,2,  248.400,2,   33.040,2,   18.440,2,    0.020,2,    1.330,2,    0.011,2,    0.001,2, -999.000,9, 2181.200,2, 2345.300,2
           NA,     A06,    172,   1,-999.0,      13,  2,19930227,0127,   7.4500,  -26.6647,  4802, 2994.900,    2.692,   34.921,2,   34.921,2,  248.300,2,  247.200,2,   36.820,2,   18.840,2,    0.010,2,    1.370,2,    0.002,2,   -0.002,2, -999.000,9, 2183.500,2, 2346.700,2
           NA,     A06,    172,   1,-999.0,      12,  2,19930227,0127,   7.4500,  -26.6647,  4802, 3190.600,    2.615,   34.915,2,   34.914,2,  247.100,2,  247.300,2,   39.120,2,   18.870,2,    0.040,2,    1.370,2,    0.016,2,    0.001,2, -999.000,9, 2189.600,2, 2352.200,2
           NA,     A06,    172,   1,-999.0,      11,  2,19930227,0127,   7.4500,  -26.6647,  4802, 3393.700,    2.542,   34.910,2,   34.906,2,  248.100,2,  248.200,2,   40.370,2,   18.700,2,    0.050,2,    1.370,2,    0.011,2,    0.000,2, -999.000,9, 2201.200,2, 2365.300,2
           NA,     A06,    172,   1,-999.0,      10,  2,19930227,0127,   7.4500,  -26.6647,  4802, 3595.700,    2.471,   34.904,2,   34.905,2,  250.300,2,  250.700,2,   41.240,2,   18.690,2,    0.050,2,    1.370,2,    0.004,2,   -0.002,2, -999.000,9, -999.000,3, -999.000,3
           NA,     A06,    172,   1,-999.0,       9,  2,19930227,0127,   7.4500,  -26.6647,  4802, 3794.100,    2.399,   34.897,2,   34.898,2,  252.000,2,  251.700,2,   42.450,2,   18.610,2,    0.040,2,    1.370,2,    0.007,2,    0.000,2, -999.000,9, 2204.000,2, 2368.200,2
           NA,     A06,    172,   1,-999.0,       8,  2,19930227,0127,   7.4500,  -26.6647,  4802, 3892.900,    2.371,   34.894,2,   34.897,2,  252.300,2,  251.500,2,   43.200,2,   18.420,2,    0.010,2,    1.370,2,    0.006,2,   -0.002,2, -999.000,9, 2207.800,2, 2371.200,2
           NA,     A06,    172,   1,-999.0,       7,  2,19930227,0127,   7.4500,  -26.6647,  4802, 3994.800,    2.342,   34.893,2,   34.893,2,  252.500,2,  252.000,2,   44.040,2,   18.680,2,    0.060,2,    1.390,2,    0.008,2,    0.000,2, -999.000,9, 2211.900,2, 2375.900,2
           NA,     A06,    172,   1,-999.0,       6,  2,19930227,0127,   7.4500,  -26.6647,  4802, 4094.500,    2.322,   34.889,2,   34.893,2,  252.300,2,  250.900,2,   44.740,2,   18.770,2,    0.020,2,    1.390,2,    0.008,2,    0.001,2, -999.000,9, 2205.300,2, 2368.500,2
           NA,     A06,    172,   1,-999.0,       5,  2,19930227,0127,   7.4500,  -26.6647,  4802, 4194.400,    2.319,   34.887,2,   34.889,2,  251.200,2,  251.000,2,   46.040,2,   18.710,2,    0.020,2,    1.400,2,    0.008,2,    0.001,2, -999.000,9, 2212.000,2, 2375.600,2
           NA,     A06,    172,   1,-999.0,       4,  2,19930227,0127,   7.4500,  -26.6647,  4802, 4393.200,    2.319,   34.886,2,   34.887,2,  250.500,2,  249.300,2,   47.070,2,   18.930,2,    0.050,2,    1.420,2,    0.012,2,    0.001,2, -999.000,9, 2212.200,2, 2375.300,2
           NA,     A06,    172,   1,-999.0,       3,  2,19930227,0127,   7.4500,  -26.6647,  4802, 4593.000,    2.320,   34.882,2,   34.887,2,  249.100,2,  247.200,2,   48.530,2,   19.260,2,    0.060,2,    1.430,2, -999.000,9, -999.000,9, -999.000,9, 2212.900,2, 2376.500,2
           NA,     A06,    172,   1,-999.0,       2,  2,19930227,0127,   7.4500,  -26.6647,  4802, 4794.600,    2.321,   34.881,2,   34.884,2,  246.300,2,  244.600,2,   50.810,2,   19.460,2,    0.040,2,    1.450,2,    0.013,2,    0.002,2, -999.000,9, 2202.500,2, 2366.000,2
           NA,     A06,    172,   1,-999.0,       1,  2,19930227,0127,   7.4500,  -26.6647,  4802, 4829.500,    2.317,   34.880,2,   34.883,2,  244.800,2,  243.700,2,   51.160,2,   19.590,2,    0.090,2,    1.450,2,    0.011,2,    0.000,2, -999.000,9, 2222.300,2, -999.000,9
           NA,     A06,    173,   1,-999.0,      32,  2,19930227,0809,   7.4492,  -25.9978,  4759,    1.200,   25.844,   36.140,2,   36.140,2,  219.000,2, -999.000,3,    1.910,2,    0.050,2,    0.000,2,    0.000,2,    1.857,2,    0.986,2, -999.000,9, -999.000,9, -999.000,9
           NA,     A06,    173,   1,-999.0,      31,  2,19930227,0809,   7.4492,  -25.9978,  4759,   68.900,   18.681,   35.956,2, -999.000,3,  141.600,2,  139.000,2,    5.330,2,   13.140,2,    0.190,2,    0.800,2,    1.534,2,    0.779,2, -999.000,9, -999.000,9, -999.000,9
           NA,     A06,    173,   1,-999.0,      30,  2,19930227,0809,   7.4492,  -25.9978,  4759,  118.900,   14.241,   35.454,2, -999.000,3,  116.900,2,  121.000,2,    7.800,2,   20.290,2,    0.000,2,    1.250,2,    1.237,2,    0.628,2, -999.000,9, -999.000,9, -999.000,9
           NA,     A06,    173,   1,-999.0,      29,  2,19930227,0809,   7.4492,  -25.9978,  4759,  195.000,   12.528,   35.241,2,   35.237,2,  105.500,2,  104.500,2,    9.790,2,   24.980,2,    0.000,2,    1.520,2,    0.860,2,    0.434,2, -999.000,9, -999.000,9, -999.000,9
           NA,     A06,    173,   1,-999.0,      28,  2,19930227,0809,   7.4492,  -25.9978,  4759,  391.600,    9.799,   35.018,2,   35.018,2,   62.800,2,   60.400,2,   15.620,2,   35.920,2,    0.000,2,    2.050,2,    0.197,2,    0.101,2, -999.000,9, -999.000,9, -999.000,9
           NA,     A06,    173,   1,-999.0,      27,  2,19930227,0809,   7.4492,  -25.9978,  4759,  593.200,    7.006,   34.720,2,   34.717,2,   93.800,2,   94.200,2,   22.770,2,   38.290,2,    0.000,2,    2.300,2,    0.039,2,    0.017,2, -999.000,9, -999.000,9, -999.000,9
           NA,     A06,    173,   1,-999.0,      26,  2,19930227,0809,   7.4492,  -25.9978,  4759,  793.300,    5.384,   34.608,2,   34.605,2,  126.500,2,  125.900,2,   28.610,2,   37.430,2,    0.000,2,    2.340,2,    0.018,2,    0.003,2, -999.000,9, -999.000,9, -999.000,9
           NA,     A06,    173,   1,-999.0,      25,  2,19930227,0809,   7.4492,  -25.9978,  4759,  992.200,    4.959,   34.697,2,   34.699,2,  140.900,2,  140.900,2,   29.080,2,   35.210,2,    0.000,2,    2.220,2,    0.002,2,    0.000,2, -999.000,9, -999.000,9, -999.000,9
           NA,     A06,    173,   1,-999.0,      24,  2,19930227,0809,   7.4492,  -25.9978,  4759, 1092.800,    4.846,   34.766,2,   34.769,2,  153.800,2,  153.400,2,   27.810,2,   33.110,2,    0.000,2,    2.090,2,    0.008,2,    0.000,2, -999.000,9, -999.000,9, -999.000,9
           NA,     A06,    173,   1,-999.0,      23,  2,19930227,0809,   7.4492,  -25.9978,  4759, 1193.000,    4.765,   34.844,2,   34.845,2,  170.100,2,  170.700,2,   25.450,2,   29.850,2,    0.000,2,    1.910,2,    0.012,2,    0.001,2, -999.000,9, -999.000,9, -999.000,9
           NA,     A06,    173,   1,-999.0,      22,  2,19930227,0809,   7.4492,  -25.9978,  4759, 1294.400,    4.620,   34.898,2,   34.901,2,  186.900,2,  188.000,2,   23.330,2,   27.620,2,    0.000,2,    1.760,2,    0.011,2,    0.006,2, -999.000,9, -999.000,9, -999.000,9
           NA,     A06,    173,   1,-999.0,      21,  2,19930227,0809,   7.4492,  -25.9978,  4759, 1393.000,    4.485,   34.935,2,   34.937,2,  201.900,2,  204.100,2,   21.420,2,   25.230,2,    0.000,2,    1.610,2,    0.012,2,    0.002,2, -999.000,9, -999.000,9, -999.000,9
           NA,     A06,    173,   1,-999.0,      20,  2,19930227,0809,   7.4492,  -25.9978,  4759, 1494.000,    4.233,   34.948,2,   34.950,2,  211.600,2,  215.800,2,   21.190,2,   24.210,2,    0.000,2,    1.550,2,    0.003,2,    0.000,2, -999.000,9, -999.000,9, -999.000,9
           NA,     A06,    173,   1,-999.0,      19,  2,19930227,0809,   7.4492,  -25.9978,  4759, 1591.900,    4.069,   34.966,2,   34.966,2,  224.300,2,  228.100,2,   19.910,2,   22.400,2,    0.000,2,    1.440,2,    0.001,2,    0.000,2, -999.000,9, -999.000,9, -999.000,9
           NA,     A06,    173,   1,-999.0,      18,  2,19930227,0809,   7.4492,  -25.9978,  4759, 1693.900,    3.930,   34.972,2,   34.975,2,  235.700,2,  238.300,2,   19.280,2,   21.410,2,    0.000,2,    1.370,2,    0.011,2,    0.000,2, -999.000,9, -999.000,9, -999.000,9
           NA,     A06,    173,   1,-999.0,      17,  2,19930227,0809,   7.4492,  -25.9978,  4759, 1794.100,    3.793,   34.966,2,   34.971,2,  240.800,2,  239.900,2,   20.420,2,   21.290,2,    0.000,2,    1.370,2,    0.007,2,    0.000,2, -999.000,9, -999.000,9, -999.000,9
           NA,     A06,    173,   1,-999.0,      16,  2,19930227,0809,   7.4492,  -25.9978,  4759, 1894.300,    3.645,   34.966,2,   34.966,2,  244.300,2,  244.300,2,   20.750,2,   21.010,2,    0.000,2,    1.340,2,    0.005,2,   -0.002,2, -999.000,9, -999.000,9, -999.000,9
           NA,     A06,    173,   1,-999.0,      15,  2,19930227,0809,   7.4492,  -25.9978,  4759, 1995.100,    3.499,   34.960,2,   34.961,2,  243.400,2,  243.800,2,   22.810,2,   21.140,2,    0.000,2,    1.350,2,    0.001,2,   -0.001,2, -999.000,9, -999.000,9, -999.000,9
           NA,     A06,    173,   1,-999.0,      14,  2,19930227,0809,   7.4492,  -25.9978,  4759, 2194.500,    3.297,   34.954,2,   34.957,2,  248.800,2,  247.800,2,   24.900,2,   20.790,2,    0.000,2,    1.340,2,    0.004,2,    0.000,2, -999.000,9, -999.000,9, -999.000,9
           NA,     A06,    173,   1,-999.0,      12,  2,19930227,0809,   7.4492,  -25.9978,  4759, 2393.500,    3.097,   34.946,2,   34.944,2,  245.500,2,  248.400,2,   27.680,2,   21.360,2,    0.000,2,    1.350,2,    0.001,2,   -0.001,2, -999.000,9, -999.000,9, -999.000,9
           NA,     A06,    173,   1,-999.0,      13,  2,19930227,0809,   7.4492,  -25.9978,  4759, 2393.900,    3.100,   34.946,2,   34.947,2,  245.500,2,  248.100,2,   27.850,2,   21.260,2,    0.000,2,    1.350,2,    0.000,2,    0.000,2, -999.000,9, -999.000,9, -999.000,9
           NA,     A06,    173,   1,-999.0,      11,  2,19930227,0809,   7.4492,  -25.9978,  4759, 2693.400,    2.856,   34.932,2,   34.935,2,  248.200,2,  248.400,2,   31.940,2,   21.600,2,    0.000,2,    1.370,2,    0.002,2,   -0.001,2, -999.000,9, -999.000,9, -999.000,9
           NA,     A06,    173,   1,-999.0,      10,  2,19930227,0809,   7.4492,  -25.9978,  4759, 2993.900,    2.705,   34.922,2,   34.920,2,  247.200,2,  247.800,2,   35.230,2,   21.890,2,    0.000,2,    1.400,2,   -0.001,2,   -0.001,2, -999.000,9, -999.000,9, -999.000,9
           NA,     A06,    173,   1,-999.0,       9,  2,19930227,0809,   7.4492,  -25.9978,  4759, 3194.600,    2.583,   34.912,2,   34.914,2,  247.300,2,  247.600,2,   38.360,2,   21.940,2,    0.000,2,    1.420,2,   -0.001,2,   -0.002,2, -999.000,9, -999.000,9, -999.000,9
           NA,     A06,    173,   1,-999.0,       8,  2,19930227,0809,   7.4492,  -25.9978,  4759, 3394.300,    2.524,   34.907,2,   34.909,2,  247.000,2,  248.500,2,   39.540,2,   22.220,2,    0.000,2,    1.420,2,    0.003,2,    0.000,2, -999.000,9, -999.000,9, -999.000,9
           NA,     A06,    173,   1,-999.0,       7,  2,19930227,0809,   7.4492,  -25.9978,  4759, 3593.800,    2.454,   34.903,2,   34.901,2,  248.800,2,  249.600,2,   40.880,2,   22.240,2,    0.000,2,    1.430,2,    0.003,2,    0.000,2, -999.000,9, -999.000,9, -999.000,9
           NA,     A06,    173,   1,-999.0,       6,  2,19930227,0809,   7.4492,  -25.9978,  4759, 3794.400,    2.382,   34.896,2,   34.897,2,  249.200,2,  249.700,2,   42.680,2,   22.550,2,    0.000,2,    1.430,2,    0.003,2,   -0.001,2, -999.000,9, -999.000,9, -999.000,9
           NA,     A06,    173,   1,-999.0,       5,  2,19930227,0809,   7.4492,  -25.9978,  4759, 3994.300,    2.336,   34.891,2,   34.893,2,  249.200,2,  249.400,2,   44.290,2,   22.630,2,    0.000,2,    1.450,2,    0.005,2,   -0.001,2, -999.000,9, -999.000,9, -999.000,9
           NA,     A06,    173,   1,-999.0,       4,  2,19930227,0809,   7.4492,  -25.9978,  4759, 4194.400,    2.338,   34.889,2,   34.889,2,  249.600,2,  249.700,2,   45.490,2,   22.490,2,    0.000,2,    1.450,2,    0.002,2,    0.003,2, -999.000,9, -999.000,9, -999.000,9
           NA,     A06,    173,   1,-999.0,       3,  2,19930227,0809,   7.4492,  -25.9978,  4759, 4394.400,    2.323,   34.886,2,   34.889,2,  249.900,2,  249.200,2,   46.330,2,   22.760,2,    0.000,2,    1.460,2,    0.005,2,   -0.001,2, -999.000,9, -999.000,9, -999.000,9
           NA,     A06,    173,   1,-999.0,       2,  2,19930227,0809,   7.4492,  -25.9978,  4759, 4596.200,    2.319,   34.882,2,   34.886,2,  247.700,2,  247.600,2,   48.080,2,   23.320,2,    0.000,2,    1.480,2,    0.012,2,    0.000,2, -999.000,9, -999.000,9, -999.000,9
           NA,     A06,    173,   1,-999.0,       1,  2,19930227,0809,   7.4492,  -25.9978,  4759, 4782.600,    2.319,   34.881,2,   34.886,2, -999.000,9, -999.000,9,   49.900,2,   23.600,2,    0.000,2,    1.490,2,    0.006,2,    0.000,2, -999.000,9, -999.000,9, -999.000,9