BOTTLE,20205402JOAExport
EXPOCODE,SECT_ID,STNNBR,CASTNO,SAMPNO,BTLNBR,BTLNBR_FLAG_W,DATE,TIME,LATITUDE,LONGITUDE,DEPTH,CTDPRS,CTDTMP,CTDSAL,CTDSAL_FLAG_W,SALNTY,SALNTY_FLAG_W,CTDOXY,CTDOXY_FLAG_W,OXYGEN,OXYGEN_FLAG_W,SILCAT,SILCAT_FLAG_W,NITRAT,NITRAT_FLAG_W,NITRIT,NITRIT_FLAG_W,PHSPHT,PHSPHT_FLAG_W,CFC-11,CFC-11_FLAG_W,CFC-12,CFC-12_FLAG_W,SF6,SF6_FLAG_W,TCARBN,TCARBN_FLAG_W,ALKALI,ALKALI_FLAG_W
,,,,,,,,,,,,,DB,DEG C,PSS-78,,PSS-78,,UMOL/KG,,UMOL/KG,,UMOL/KG,,UMOL/KG,,UMOL/KG,,UMOL/KG,,PMOL/KG,,PMOL/KG,,FMOL/KG,,UMOL/KG,,UMOL/KG
           NA,     A06,    178,   1,-999.0,      32,  2,19930228,1850,   7.5852,  -22.6610,  4353,    1.300,   26.704,   36.107,2,   36.107,2,  198.900,2, -999.000,3,    1.990,2,    0.040,2,    0.000,2,    0.010,2,    1.831,2, -999.000,9, -999.000,9, -999.000,3, -999.000,3
           NA,     A06,    178,   1,-999.0,      31,  2,19930228,1850,   7.5852,  -22.6610,  4353,   13.600,   26.693,   36.106,2,   36.105,2,  204.300,2,  204.400,2,    1.990,2,    0.020,2,    0.000,2,    0.010,2,    1.821,2,    0.982,2, -999.000,9, 2033.600,2, 2421.600,2
           NA,     A06,    178,   1,-999.0,      30,  2,19930228,1850,   7.5852,  -22.6610,  4353,   44.400,   25.173,   36.041,2, -999.000,3,  212.000,2, -999.000,3,    2.250,2,    0.270,2,    0.000,2,    0.060,2,    1.834,2,    0.971,2, -999.000,9, 2087.300,2, 2462.100,2
           NA,     A06,    178,   1,-999.0,      29,  2,19930228,1850,   7.5852,  -22.6610,  4353,   74.700,   16.925,   35.724,2, -999.000,3,  115.800,2, -999.000,3,    6.930,2,   17.510,2,    0.160,2,    1.180,2,    1.250,2,    0.633,2, -999.000,9, -999.000,9, -999.000,9
           NA,     A06,    178,   1,-999.0,      28,  2,19930228,1850,   7.5852,  -22.6610,  4353,  119.100,   14.223,   35.484,2, -999.000,3,   89.400,2,   93.700,2,    8.640,2,   22.090,2,    0.020,2,    1.440,2,    1.044,2,    0.539,2, -999.000,9, -999.000,9, -999.000,9
           NA,     A06,    178,   1,-999.0,      27,  2,19930228,1850,   7.5852,  -22.6610,  4353,  193.400,   12.631,   35.247,2, -999.000,3,   94.400,2,   98.200,2,   10.030,2,   23.780,2,    0.000,2,    1.530,2,    0.826,2,    0.421,2, -999.000,9, -999.000,9, -999.000,9
           NA,     A06,    178,   1,-999.0,      26,  2,19930228,1850,   7.5852,  -22.6610,  4353,  392.600,    9.936,   35.020,2, -999.000,3,   58.600,2,   59.800,2,   15.860,2,   34.210,2,    0.000,2,    2.030,2,    0.204,2,    0.104,2, -999.000,9, -999.000,9, -999.000,9
           NA,     A06,    178,   1,-999.0,      25,  2,19930228,1850,   7.5852,  -22.6610,  4353,  592.200,    7.269,   34.769,2,   34.767,2,   77.900,2,   79.000,2,   23.250,2,   37.620,2,    0.000,2,    2.330,2,    0.024,2,    0.013,2, -999.000,9, -999.000,9, -999.000,9
           NA,     A06,    178,   1,-999.0,      24,  2,19930228,1850,   7.5852,  -22.6610,  4353,  791.900,    5.543,   34.652,2,   34.647,2,  111.800,2,  112.600,2,   29.650,2,   36.830,2,    0.000,2,    2.360,2,    0.004,2,    0.000,2, -999.000,9, -999.000,9, -999.000,9
           NA,     A06,    178,   1,-999.0,      23,  2,19930228,1850,   7.5852,  -22.6610,  4353,  992.500,    4.906,   34.725,2,   34.726,2,  140.100,2,  140.700,2,   30.030,2,   33.710,2,    0.000,2,    2.190,2,    0.001,2,    0.001,2, -999.000,9, -999.000,9, -999.000,9
           NA,     A06,    178,   1,-999.0,      22,  2,19930228,1850,   7.5852,  -22.6610,  4353, 1192.400,    4.666,   34.829,2,   34.824,2,  165.900,2,  166.500,2,   27.700,2,   29.420,2,    0.000,2,    1.930,2,    0.004,2,    0.001,2, -999.000,9, -999.000,9, -999.000,9
           NA,     A06,    178,   1,-999.0,      21,  2,19930228,1850,   7.5852,  -22.6610,  4353, 1192.500,    4.665,   34.834,2,   34.831,2,  166.000,2,  167.300,2,   27.450,2,   29.660,2,    0.000,2,    1.920,2,    0.000,2,   -0.001,2, -999.000,9, -999.000,9, -999.000,9
           NA,     A06,    178,   1,-999.0,      20,  2,19930228,1850,   7.5852,  -22.6610,  4353, 1292.400,    4.518,   34.883,2,   34.881,2,  178.800,2,  181.300,2,   26.150,2,   27.520,2,    0.000,2,    1.800,2,   -0.002,2,   -0.001,2, -999.000,9, -999.000,9, -999.000,9
           NA,     A06,    178,   1,-999.0,      19,  2,19930228,1850,   7.5852,  -22.6610,  4353, 1392.200,    4.390,   34.907,2,   34.904,2,  194.200,2,  193.700,2,   25.140,2,   26.150,2,    0.000,2,    1.710,2,    0.000,2,   -0.001,2, -999.000,9, -999.000,9, -999.000,9
           NA,     A06,    178,   1,-999.0,      18,  2,19930228,1850,   7.5852,  -22.6610,  4353, 1493.000,    4.262,   34.925,2,   34.924,2,  203.600,2,  202.000,2,   24.070,2,   25.040,2,    0.000,2,    1.630,2,    0.006,2,   -0.001,2, -999.000,9, -999.000,9, -999.000,9
           NA,     A06,    178,   1,-999.0,      17,  2,19930228,1850,   7.5852,  -22.6610,  4353, 1592.700,    4.001,   34.945,2,   34.946,2,  218.900,2,  219.100,2,   23.480,2,   22.950,2,    0.000,2,    1.500,2,    0.001,2,    0.000,2, -999.000,9, -999.000,9, -999.000,9
           NA,     A06,    178,   1,-999.0,      16,  2,19930228,1850,   7.5852,  -22.6610,  4353, 1692.500,    3.860,   34.952,2,   34.952,2,  226.500,2,  226.400,2,   23.510,2,   21.980,2,    0.000,2,    1.460,2,    0.008,2,    0.002,2, -999.000,9, -999.000,9, -999.000,9
           NA,     A06,    178,   1,-999.0,      15,  2,19930228,1850,   7.5852,  -22.6610,  4353, 1792.600,    3.690,   34.953,2,   34.952,2,  232.700,2,  231.900,2,   24.350,2,   21.760,2,    0.000,2,    1.430,2,    0.002,2,    0.000,2, -999.000,9, 2200.400,2, 2358.600,2
           NA,     A06,    178,   1,-999.0,      14,  2,19930228,1850,   7.5852,  -22.6610,  4353, 1893.900,    3.570,   34.955,2,   34.955,2,  237.100,2,  235.300,2,   25.140,2,   21.220,2,    0.000,2,    1.400,2,    0.014,2,    0.003,2, -999.000,9, -999.000,3, -999.000,3
           NA,     A06,    178,   1,-999.0,      13,  2,19930228,1850,   7.5852,  -22.6610,  4353, 1994.100,    3.466,   34.953,2,   34.952,2,  240.300,2,  238.500,2,   25.740,2,   21.160,2,    0.000,2,    1.390,2,    0.003,2,    0.005,2, -999.000,9, -999.000,3, -999.000,3
           NA,     A06,    178,   1,-999.0,      12,  2,19930228,1850,   7.5852,  -22.6610,  4353, 2194.400,    3.287,   34.949,2,   34.948,2,  242.900,2,  242.000,2,   28.090,2,   20.810,2,    0.000,2,    1.380,2,    0.005,2,    0.000,2, -999.000,9, -999.000,3, -999.000,3
           NA,     A06,    178,   1,-999.0,      11,  2,19930228,1850,   7.5852,  -22.6610,  4353, 2394.100,    3.060,   34.942,2,   34.941,2,  245.200,2,  244.300,2,   30.830,2,   20.820,2,    0.000,2,    1.370,2,    0.005,2,   -0.001,2, -999.000,9, -999.000,3, -999.000,3
           NA,     A06,    178,   1,-999.0,      10,  2,19930228,1850,   7.5852,  -22.6610,  4353, 2694.800,    2.840,   34.931,2,   34.931,2,  246.500,2,  245.700,2,   34.700,2,   20.760,2,    0.000,2,    1.370,2,    0.008,2,    0.003,2, -999.000,9, 2205.800,2, 2372.500,2
           NA,     A06,    178,   1,-999.0,       9,  2,19930228,1850,   7.5852,  -22.6610,  4353, 2995.200,    2.675,   34.919,2,   34.920,2,  247.400,2,  246.800,2,   38.170,2,   20.850,2,    0.000,2,    1.390,2,    0.003,2,    0.002,2, -999.000,9, 2205.800,2, 2371.600,2
           NA,     A06,    178,   1,-999.0,       8,  2,19930228,1850,   7.5852,  -22.6610,  4353, 3194.000,    2.586,   34.914,2,   34.913,2,  246.700,2,  246.000,2,   40.370,2,   21.320,2,    0.000,2,    1.410,2,    0.005,2,   -0.002,2, -999.000,9, -999.000,3, -999.000,3
           NA,     A06,    178,   1,-999.0,       7,  2,19930228,1850,   7.5852,  -22.6610,  4353, 3394.800,    2.487,   34.905,2,   34.901,2,  246.500,2,  246.000,2,   43.620,2,   21.310,2,    0.000,2,    1.420,2,    0.007,2,    0.000,2, -999.000,9, -999.000,3, -999.000,3
           NA,     A06,    178,   1,-999.0,       6,  2,19930228,1850,   7.5852,  -22.6610,  4353, 3594.100,    2.437,   34.900,2,   34.899,2,  246.300,2,  246.400,2,   44.690,2,   21.500,2,    0.000,2,    1.420,2,    0.003,2,    0.002,2, -999.000,9, -999.000,3, -999.000,3
           NA,     A06,    178,   1,-999.0,       5,  2,19930228,1850,   7.5852,  -22.6610,  4353, 3794.000,    2.382,   34.895,2,   34.897,2,  247.400,2,  247.400,2,   46.360,2,   21.570,2,    0.000,2,    1.430,2,    0.006,2,    0.000,2, -999.000,9, -999.000,3, -999.000,3
           NA,     A06,    178,   1,-999.0,       4,  2,19930228,1850,   7.5852,  -22.6610,  4353, 3993.900,    2.345,   34.891,2,   34.891,2,  247.300,2,  246.400,2,   47.940,2,   21.640,2,    0.000,2,    1.440,2,    0.000,2,   -0.002,2, -999.000,9, -999.000,3, -999.000,3
           NA,     A06,    178,   1,-999.0,       2,  2,19930228,1850,   7.5852,  -22.6610,  4353, 4193.100,    2.326,   34.888,2,   34.888,2,  246.400,2,  245.600,2,   49.840,2,   21.800,2,    0.000,2,    1.450,2,    0.005,2,   -0.002,2, -999.000,9, -999.000,3, -999.000,3
           NA,     A06,    178,   1,-999.0,       3,  2,19930228,1850,   7.5852,  -22.6610,  4353, 4193.600,    2.326,   34.889,2,   34.887,2,  246.400,2,  245.800,2,   49.330,2,   21.930,2,    0.000,2,    1.440,2,    0.005,2,    0.001,2, -999.000,9, -999.000,3, -999.000,3
           NA,     A06,    178,   1,-999.0,       1,  2,19930228,1850,   7.5852,  -22.6610,  4353, 4382.400,    2.308,   34.884,2, -999.000,3,  242.400,2,  243.900,2,   51.100,2,   22.160,2,    0.000,2,    1.450,2,    0.009,2,    0.003,2, -999.000,9, -999.000,3, -999.000,3
           NA,     A06,    179,   1,-999.0,      32,  2,19930301,0000,   7.5832,  -22.3337,  4327,    2.300,   26.480,   36.117,2,   36.116,2,  201.400,2,  203.500,2,    1.860,2,    0.080,2,    0.000,2,    0.000,2,    1.835,2,    0.995,2, -999.000,9, -999.000,9, -999.000,9
           NA,     A06,    179,   1,-999.0,      31,  2,19930301,0000,   7.5832,  -22.3337,  4327,   44.400,   21.795,   36.055,2, -999.000,3,  207.700,2, -999.000,3,    3.660,2,    3.000,2,    0.110,2,    0.310,2,    1.605,2,    0.829,2, -999.000,9, -999.000,9, -999.000,9
           NA,     A06,    179,   1,-999.0,      30,  2,19930301,0000,   7.5832,  -22.3337,  4327,  118.600,   13.707,   35.388,2,   35.385,2,   97.700,2,   97.800,2,    8.610,2,   22.900,2,    0.010,2,    1.420,2,    1.055,2,    0.511,2, -999.000,9, -999.000,9, -999.000,9
           NA,     A06,    179,   1,-999.0,      29,  2,19930301,0000,   7.5832,  -22.3337,  4327,  194.000,   12.516,   35.247,2,   35.248,2,   93.200,2, -999.000,3,   10.300,2,   25.280,2,    0.000,2,    1.600,2,    0.765,2,    0.369,2, -999.000,9, -999.000,9, -999.000,9
           NA,     A06,    179,   1,-999.0,      28,  2,19930301,0000,   7.5832,  -22.3337,  4327,  392.500,    9.520,   34.980,2,   34.978,2,   54.400,2,   56.000,2,   16.520,2,   35.070,2,    0.000,2,    2.090,2,    0.194,2,    0.090,2, -999.000,9, -999.000,9, -999.000,9
           NA,     A06,    179,   1,-999.0,      27,  2,19930301,0000,   7.5832,  -22.3337,  4327,  592.200,    6.616,   34.689,2,   34.686,2,   90.400,2, -999.000,3,   24.430,2,   36.620,2,    0.000,2,    2.320,2,    0.030,2,    0.006,2, -999.000,9, -999.000,9, -999.000,9
           NA,     A06,    179,   1,-999.0,      26,  2,19930301,0000,   7.5832,  -22.3337,  4327,  792.000,    5.382,   34.631,2,   34.628,2,  114.100,2,  119.300,2,   29.370,2,   36.040,2,    0.000,2,    2.340,2,    0.008,2,    0.000,2, -999.000,9, -999.000,9, -999.000,9
           NA,     A06,    179,   1,-999.0,      25,  2,19930301,0000,   7.5832,  -22.3337,  4327,  991.700,    5.088,   34.710,2,   34.706,2,  131.900,2,  129.500,2,   29.630,2,   34.310,2,    0.000,2,    2.260,2,    0.006,2,    0.000,2, -999.000,9, -999.000,9, -999.000,9
           NA,     A06,    179,   1,-999.0,      24,  2,19930301,0000,   7.5832,  -22.3337,  4327, 1093.000,    4.810,   34.777,2,   34.774,2,  154.000,2,  152.100,2,   28.400,2,   30.960,2,    0.000,2,    2.080,2, -999.000,9, -999.000,9, -999.000,9, -999.000,9, -999.000,9
           NA,     A06,    179,   1,-999.0,      22,  2,19930301,0000,   7.5832,  -22.3337,  4327, 1192.400,    4.691,   34.844,2,   34.844,2,  164.800,2,  165.800,2,   26.540,2,   28.690,2,    0.000,2,    1.930,2, -999.000,9, -999.000,9, -999.000,9, -999.000,9, -999.000,9
           NA,     A06,    179,   1,-999.0,      23,  2,19930301,0000,   7.5832,  -22.3337,  4327, 1192.400,    4.698,   34.844,2,   34.845,2,  164.800,2,  166.000,2,   26.430,2,   28.840,2,    0.000,2,    1.920,2, -999.000,9, -999.000,9, -999.000,9, -999.000,9, -999.000,9
           NA,     A06,    179,   1,-999.0,      21,  2,19930301,0000,   7.5832,  -22.3337,  4327, 1292.600,    4.493,   34.887,2,   34.886,2,  182.700,2,  183.200,2,   25.090,2,   26.300,2,    0.000,2,    1.780,2,    0.012,2,    0.006,2, -999.000,9, -999.000,9, -999.000,9
           NA,     A06,    179,   1,-999.0,      20,  2,19930301,0000,   7.5832,  -22.3337,  4327, 1392.900,    4.348,   34.911,2,   34.909,2,  196.400,2,  195.100,2,   24.180,2,   24.740,2,    0.000,2,    1.690,2,    0.013,2,    0.003,2, -999.000,9, -999.000,9, -999.000,9
           NA,     A06,    179,   1,-999.0,      19,  2,19930301,0000,   7.5832,  -22.3337,  4327, 1492.600,    4.188,   34.934,2,   34.933,2,  211.400,2,  208.500,2,   23.080,2,   23.010,2,    0.000,2,    1.590,2,    0.006,2,   -0.001,2, -999.000,9, -999.000,9, -999.000,9
           NA,     A06,    179,   1,-999.0,      18,  2,19930301,0000,   7.5832,  -22.3337,  4327, 1593.000,    4.033,   34.944,2,   34.943,2,  219.300,2,  217.200,2,   22.630,2,   22.080,2,    0.000,2,    1.520,2,    0.013,2,    0.001,2, -999.000,9, -999.000,9, -999.000,9
           NA,     A06,    179,   1,-999.0,      17,  2,19930301,0000,   7.5832,  -22.3337,  4327, 1693.000,    3.903,   34.951,2,   34.952,2,  225.400,2,  223.900,2,   22.600,2,   21.290,2,    0.000,2,    1.480,2,    0.013,2,    0.003,2, -999.000,9, -999.000,9, -999.000,9
           NA,     A06,    179,   1,-999.0,      16,  2,19930301,0000,   7.5832,  -22.3337,  4327, 1794.100,    3.748,   34.953,2,   34.953,2,  232.200,2,  229.400,2,   23.390,2,   20.680,2,    0.000,2,    1.440,2,    0.002,2,    0.000,2, -999.000,9, -999.000,9, -999.000,9
           NA,     A06,    179,   1,-999.0,      15,  2,19930301,0000,   7.5832,  -22.3337,  4327, 1893.700,    3.615,   34.954,2,   34.954,2,  237.000,2,  234.500,2,   23.860,2,   20.230,2,    0.000,2,    1.410,2,    0.003,2,    0.006,2, -999.000,9, -999.000,9, -999.000,9
           NA,     A06,    179,   1,-999.0,      14,  2,19930301,0000,   7.5832,  -22.3337,  4327, 1993.100,    3.510,   34.953,2,   34.953,2,  238.900,2,  238.700,2,   24.730,2,   20.120,2,    0.000,2,    1.400,2,    0.003,2,    0.002,2, -999.000,9, -999.000,9, -999.000,9
           NA,     A06,    179,   1,-999.0,      13,  2,19930301,0000,   7.5832,  -22.3337,  4327, 2196.200,    3.272,   34.948,2,   34.947,2,  242.800,2,  241.400,2,   27.280,2,   19.720,2,    0.000,2,    1.380,2,    0.005,2,    0.000,2, -999.000,9, -999.000,9, -999.000,9
           NA,     A06,    179,   1,-999.0,      12,  2,19930301,0000,   7.5832,  -22.3337,  4327, 2393.700,    3.050,   34.942,2,   34.941,2,  244.400,2,  243.500,2,   30.360,2,   19.670,2,    0.000,2,    1.380,2, -999.000,9, -999.000,9, -999.000,9, -999.000,9, -999.000,9
           NA,     A06,    179,   1,-999.0,      11,  2,19930301,0000,   7.5832,  -22.3337,  4327, 2594.700,    2.923,   34.936,2,   34.936,2,  245.400,2,  244.300,2,   32.500,2,   19.750,2,    0.000,2,    1.380,2,    0.005,2,   -0.002,2, -999.000,9, -999.000,9, -999.000,9
           NA,     A06,    179,   1,-999.0,      10,  2,19930301,0000,   7.5832,  -22.3337,  4327, 2794.800,    2.795,   34.927,2,   34.927,2,  245.700,2,  244.000,2,   35.090,2,   19.980,2,    0.000,2,    1.390,2, -999.000,9, -999.000,9, -999.000,9, -999.000,9, -999.000,9
           NA,     A06,    179,   1,-999.0,       9,  2,19930301,0000,   7.5832,  -22.3337,  4327, 2993.900,    2.680,   34.920,2,   34.918,2,  246.100,2,  246.000,2,   36.880,2,   20.000,2,    0.000,2,    1.400,2,    0.000,2,   -0.002,2, -999.000,9, -999.000,9, -999.000,9
           NA,     A06,    179,   1,-999.0,       8,  2,19930301,0000,   7.5832,  -22.3337,  4327, 3194.000,    2.588,   34.913,2,   34.909,2,  246.100,2,  246.200,2,   39.070,2,   20.200,2,    0.000,2,    1.410,2, -999.000,9, -999.000,9, -999.000,9, -999.000,9, -999.000,9
           NA,     A06,    179,   1,-999.0,       7,  2,19930301,0000,   7.5832,  -22.3337,  4327, 3394.600,    2.493,   34.907,2,   34.906,2,  245.800,2,  245.800,2,   41.710,2,   20.260,2,    0.000,2,    1.430,2,    0.002,2,    0.002,2, -999.000,9, -999.000,9, -999.000,9
           NA,     A06,    179,   1,-999.0,       6,  2,19930301,0000,   7.5832,  -22.3337,  4327, 3593.900,    2.436,   34.902,2,   34.901,2,  246.400,2,  246.400,2,   43.350,2,   20.370,2,    0.000,2,    1.430,2, -999.000,9, -999.000,9, -999.000,9, -999.000,9, -999.000,9
           NA,     A06,    179,   1,-999.0,       5,  2,19930301,0000,   7.5832,  -22.3337,  4327, 3794.400,    2.366,   34.895,2,   34.891,2,  246.900,2,  246.500,2,   45.040,2,   20.690,2,    0.000,2,    1.440,2,    0.004,2,    0.004,2, -999.000,9, -999.000,9, -999.000,9
           NA,     A06,    179,   1,-999.0,       4,  2,19930301,0000,   7.5832,  -22.3337,  4327, 3994.400,    2.348,   34.891,2,   34.888,2,  246.600,2,  245.800,2,   46.230,2,   20.740,2,    0.000,2,    1.450,2,    0.006,2,    0.006,2, -999.000,9, -999.000,9, -999.000,9
           NA,     A06,    179,   1,-999.0,       3,  2,19930301,0000,   7.5832,  -22.3337,  4327, 3994.500,    2.347,   34.891,2,   34.893,2,  246.600,2,  246.100,2,   46.740,2,   20.590,2,    0.000,2,    1.450,2,    0.002,2,    0.003,2, -999.000,9, -999.000,9, -999.000,9
           NA,     A06,    179,   1,-999.0,       2,  2,19930301,0000,   7.5832,  -22.3337,  4327, 4194.100,    2.322,   34.888,2,   34.888,2,  246.500,2,  245.300,2,   48.170,2,   20.900,2,    0.000,2,    1.460,2, -999.000,9, -999.000,9, -999.000,9, -999.000,9, -999.000,9
           NA,     A06,    179,   1,-999.0,       1,  2,19930301,0000,   7.5832,  -22.3337,  4327, 4358.500,    2.305,   34.885,2,   34.887,2,  242.800,2,  242.400,2,   50.130,2,   21.310,2,    0.000,2,    1.470,2,    0.009,2,    0.002,2, -999.000,9, -999.000,9, -999.000,9