BOTTLE,20205402JOAExport
EXPOCODE,SECT_ID,STNNBR,CASTNO,SAMPNO,BTLNBR,BTLNBR_FLAG_W,DATE,TIME,LATITUDE,LONGITUDE,DEPTH,CTDPRS,CTDTMP,CTDSAL,CTDSAL_FLAG_W,SALNTY,SALNTY_FLAG_W,CTDOXY,CTDOXY_FLAG_W,OXYGEN,OXYGEN_FLAG_W,SILCAT,SILCAT_FLAG_W,NITRAT,NITRAT_FLAG_W,NITRIT,NITRIT_FLAG_W,PHSPHT,PHSPHT_FLAG_W,CFC-11,CFC-11_FLAG_W,CFC-12,CFC-12_FLAG_W,SF6,SF6_FLAG_W,TCARBN,TCARBN_FLAG_W,ALKALI,ALKALI_FLAG_W
,,,,,,,,,,,,,DB,DEG C,PSS-78,,PSS-78,,UMOL/KG,,UMOL/KG,,UMOL/KG,,UMOL/KG,,UMOL/KG,,UMOL/KG,,PMOL/KG,,PMOL/KG,,FMOL/KG,,UMOL/KG,,UMOL/KG
           NA,     A06,    193,   1,-999.0,      32,  2,19930304,0249,   7.8160,  -15.9500,  4464,    2.300,   27.234,   35.307,2,   35.308,2,  201.800,2,  201.700,2,    1.780,2,    0.070,2,    0.000,2,    0.000,2, -999.000,9, -999.000,9, -999.000,9, -999.000,9, -999.000,9
           NA,     A06,    193,   1,-999.0,      31,  2,19930304,0249,   7.8160,  -15.9500,  4464,   20.100,   26.217,   35.687,2, -999.000,3,  207.500,2, -999.000,3,    2.310,2,    0.040,2,    0.000,2,    0.000,2, -999.000,9, -999.000,9, -999.000,9, -999.000,9, -999.000,9
           NA,     A06,    193,   1,-999.0,      30,  2,19930304,0249,   7.8160,  -15.9500,  4464,   39.000,   19.361,   35.715,2, -999.000,3,  182.100,2, -999.000,3,    3.550,2,    2.770,2,    0.070,2,    0.410,2, -999.000,9, -999.000,9, -999.000,9, -999.000,9, -999.000,9
           NA,     A06,    193,   1,-999.0,      29,  2,19930304,0249,   7.8160,  -15.9500,  4464,   63.800,   16.213,   35.620,2,   35.618,2,  114.100,2, -999.000,3,    7.270,2,   22.390,2,    0.130,2,    1.450,2, -999.000,9, -999.000,9, -999.000,9, -999.000,9, -999.000,9
           NA,     A06,    193,   1,-999.0,      28,  2,19930304,0249,   7.8160,  -15.9500,  4464,   93.800,   14.870,   35.504,2, -999.000,3,   68.500,2,   67.500,2,    8.430,2,   24.410,2,    0.010,2,    1.530,2, -999.000,9, -999.000,9, -999.000,9, -999.000,9, -999.000,9
           NA,     A06,    193,   1,-999.0,      27,  2,19930304,0249,   7.8160,  -15.9500,  4464,  193.500,   13.254,   35.336,2, -999.000,3,   75.800,2,   78.900,2,    9.920,2,   25.230,2,    0.000,2,    1.580,2, -999.000,9, -999.000,9, -999.000,9, -999.000,9, -999.000,9
           NA,     A06,    193,   1,-999.0,      26,  2,19930304,0249,   7.8160,  -15.9500,  4464,  392.900,    9.786,   35.040,2, -999.000,3,   52.300,2,   47.800,2,   16.540,2,   35.210,2,    0.000,2,    2.100,2, -999.000,9, -999.000,9, -999.000,9, -999.000,9, -999.000,9
           NA,     A06,    193,   1,-999.0,      25,  2,19930304,0249,   7.8160,  -15.9500,  4464,  591.700,    7.100,   34.767,2, -999.000,3,   70.100,2,   70.300,2,   23.460,2,   38.150,2,    0.000,2,    2.370,2, -999.000,9, -999.000,9, -999.000,9, -999.000,9, -999.000,9
           NA,     A06,    193,   1,-999.0,      24,  2,19930304,0249,   7.8160,  -15.9500,  4464,  792.600,    5.591,   34.671,2,   34.672,2,  104.500,2,  107.200,2,   28.570,2,   36.670,2,    0.000,2,    2.360,2,    0.005,2,    0.000,2, -999.000,9, -999.000,9, -999.000,9
           NA,     A06,    193,   1,-999.0,      23,  2,19930304,0249,   7.8160,  -15.9500,  4464,  991.800,    4.991,   34.739,2,   34.735,2,  130.700,2,  136.000,2,   29.190,2,   33.410,2,    0.000,2,    2.200,2,    0.003,2,   -0.001,2, -999.000,9, -999.000,9, -999.000,9
           NA,     A06,    193,   1,-999.0,      22,  2,19930304,0249,   7.8160,  -15.9500,  4464, 1193.100,    4.640,   34.860,2,   34.862,2,  164.600,2,  168.200,2,   26.210,2,   28.520,2,    0.000,2,    1.900,2,    0.006,2,    0.000,2, -999.000,9, -999.000,9, -999.000,9
           NA,     A06,    193,   1,-999.0,      21,  2,19930304,0249,   7.8160,  -15.9500,  4464, 1392.300,    4.250,   34.914,2,   34.916,2,  196.400,2,  196.900,2,   24.460,2,   24.940,2,    0.000,2,    1.680,2,    0.001,2,    0.001,2, -999.000,9, -999.000,9, -999.000,9
           NA,     A06,    193,   1,-999.0,      20,  2,19930304,0249,   7.8160,  -15.9500,  4464, 1493.000,    4.119,   34.933,2,   34.931,2,  208.800,2,  207.700,2,   23.790,2,   23.650,2,    0.000,2,    1.590,2,    0.002,2,    0.001,2, -999.000,9, -999.000,9, -999.000,9
           NA,     A06,    193,   1,-999.0,      19,  2,19930304,0249,   7.8160,  -15.9500,  4464, 1583.700,    3.980,   34.940,2,   34.942,2,  216.300,2,  216.000,2,   23.480,2,   22.630,2,    0.000,2,    1.540,2,    0.011,2,    0.006,2, -999.000,9, -999.000,9, -999.000,9
           NA,     A06,    193,   1,-999.0,      17,  2,19930304,0249,   7.8160,  -15.9500,  4464, 1693.100,    3.828,   34.948,2,   34.952,2,  224.200,2,  223.200,2,   23.680,2,   21.730,2,    0.000,2,    1.480,2,    0.004,2,   -0.001,2, -999.000,9, -999.000,9, -999.000,9
           NA,     A06,    193,   1,-999.0,      18,  2,19930304,0249,   7.8160,  -15.9500,  4464, 1693.300,    3.833,   34.947,2,   34.950,2,  224.200,2,  223.300,2,   23.690,2,   21.780,2,    0.000,2,    1.490,2,    0.002,2,    0.001,2, -999.000,9, -999.000,9, -999.000,9
           NA,     A06,    193,   1,-999.0,      16,  2,19930304,0249,   7.8160,  -15.9500,  4464, 1793.000,    3.711,   34.950,2,   34.951,2,  229.100,2,  228.200,2,   24.400,2,   21.050,2,    0.000,2,    1.460,2,    0.008,2,    0.005,2, -999.000,9, -999.000,9, -999.000,9
           NA,     A06,    193,   1,-999.0,      15,  2,19930304,0249,   7.8160,  -15.9500,  4464, 1993.300,    3.474,   34.951,2,   34.949,2,  236.300,2,  235.500,2,   25.920,2,   20.350,2,    0.000,2,    1.420,2,    0.009,2,    0.008,2, -999.000,9, -999.000,9, -999.000,9
           NA,     A06,    193,   1,-999.0,      14,  2,19930304,0249,   7.8160,  -15.9500,  4464, 2193.800,    3.250,   34.947,2,   34.950,2,  240.200,2,  239.800,2,   28.200,2,   20.130,2,    0.000,2,    1.400,2,    0.007,2,    0.002,2, -999.000,9, -999.000,9, -999.000,9
           NA,     A06,    193,   1,-999.0,      13,  2,19930304,0249,   7.8160,  -15.9500,  4464, 2394.300,    3.057,   34.941,2,   34.938,2,  241.000,2,  240.900,2,   31.360,2,   20.100,2,    0.000,2,    1.400,2,    0.003,2,    0.002,2, -999.000,9, -999.000,9, -999.000,9
           NA,     A06,    193,   1,-999.0,      12,  2,19930304,0249,   7.8160,  -15.9500,  4464, 2593.800,    2.901,   34.933,2,   34.936,2,  241.400,2,  241.000,2,   34.520,2,   20.090,2,    0.000,2,    1.420,2,    0.003,2,   -0.001,2, -999.000,9, -999.000,9, -999.000,9
           NA,     A06,    193,   1,-999.0,      11,  2,19930304,0249,   7.8160,  -15.9500,  4464, 2794.600,    2.784,   34.926,2,   34.931,2,  241.300,2,  241.300,2,   36.710,2,   20.280,2,    0.000,2,    1.420,2,    0.004,2,    0.003,2, -999.000,9, -999.000,9, -999.000,9
           NA,     A06,    193,   1,-999.0,      10,  2,19930304,0249,   7.8160,  -15.9500,  4464, 2994.000,    2.683,   34.920,2,   34.916,2,  240.900,2,  241.300,2,   39.080,2,   20.350,2,    0.000,2,    1.440,2,    0.014,2,    0.001,2, -999.000,9, -999.000,9, -999.000,9
           NA,     A06,    193,   1,-999.0,       9,  2,19930304,0249,   7.8160,  -15.9500,  4464, 3194.400,    2.599,   34.913,2,   34.916,2,  241.100,2,  241.000,2,   41.020,2,   20.540,2,    0.000,2,    1.450,2,    0.003,2,    0.001,2, -999.000,9, -999.000,9, -999.000,9
           NA,     A06,    193,   1,-999.0,       8,  2,19930304,0249,   7.8160,  -15.9500,  4464, 3394.700,    2.529,   34.908,2,   34.912,2,  241.800,2,  242.200,2,   42.730,2,   20.500,2,    0.000,2,    1.450,2,    0.020,2,   -0.001,2, -999.000,9, -999.000,9, -999.000,9
           NA,     A06,    193,   1,-999.0,       7,  2,19930304,0249,   7.8160,  -15.9500,  4464, 3594.100,    2.479,   34.903,2,   34.903,2,  241.500,2,  241.700,2,   44.480,2,   20.670,2,    0.000,2,    1.450,2,    0.006,2,    0.000,2, -999.000,9, -999.000,9, -999.000,9
           NA,     A06,    193,   1,-999.0,       6,  2,19930304,0249,   7.8160,  -15.9500,  4464, 3794.700,    2.430,   34.898,2,   34.901,2,  241.200,2,  241.200,2,   46.800,2,   20.710,2,    0.000,2,    1.470,2,    0.006,2,    0.000,2, -999.000,9, -999.000,9, -999.000,9
           NA,     A06,    193,   1,-999.0,       5,  2,19930304,0249,   7.8160,  -15.9500,  4464, 3993.900,    2.384,   34.893,2,   34.895,2,  240.900,2,  240.600,2,   48.340,2,   21.100,2,    0.000,2,    1.480,2,    0.028,2,    0.008,2, -999.000,9, -999.000,9, -999.000,9
           NA,     A06,    193,   1,-999.0,       4,  2,19930304,0249,   7.8160,  -15.9500,  4464, 4193.700,    2.321,   34.886,2,   34.888,2,  240.300,2,  239.800,2,   50.810,2,   21.410,2,    0.000,2,    1.490,2, -999.000,9, -999.000,9, -999.000,9, -999.000,9, -999.000,9
           NA,     A06,    193,   1,-999.0,       2,  2,19930304,0249,   7.8160,  -15.9500,  4464, 4393.900,    2.274,   34.878,2,   34.880,2,  239.400,2,  237.600,2,   53.410,2,   21.700,2,    0.000,2,    1.520,2,    0.013,2,    0.000,2, -999.000,9, -999.000,9, -999.000,9
           NA,     A06,    193,   1,-999.0,       3,  2,19930304,0249,   7.8160,  -15.9500,  4464, 4394.100,    2.276,   34.879,2,   34.882,2,  239.400,2,  237.700,2,   53.480,2,   21.700,2,    0.000,2,    1.520,2,    0.003,2,    0.004,2, -999.000,9, -999.000,9, -999.000,9
           NA,     A06,    193,   1,-999.0,       1,  2,19930304,0249,   7.8160,  -15.9500,  4464, 4495.700,    2.221,   34.871,2,   34.874,2,  236.600,2,  237.200,2,   55.700,2,   21.920,2,    0.000,2,    1.540,2,    0.014,2,    0.003,2, -999.000,9, -999.000,9, -999.000,9
           NA,     A06,    194,   1,-999.0,      32,  2,19930304,0758,   7.9337,  -15.5998,  4288,    2.700,   26.967,   35.275,2,   35.271,2,  190.100,2, -999.000,3,    1.730,2,    0.050,2,    0.000,2,    0.000,2,    1.806,2,    0.995,2, -999.000,9, -999.000,9, -999.000,9
           NA,     A06,    194,   1,-999.0,      31,  2,19930304,0758,   7.9337,  -15.5998,  4288,   19.700,   25.827,   35.752,2, -999.000,3,  199.700,2,  196.300,2,    2.340,2,    0.080,2,    0.000,2,    0.010,2,    1.627,2,    0.856,2, -999.000,9, -999.000,9, -999.000,9
           NA,     A06,    194,   1,-999.0,      30,  2,19930304,0758,   7.9337,  -15.5998,  4288,   40.400,   18.619,   35.729,2, -999.000,3,  176.400,2, -999.000,3,    4.600,2,    8.990,2,    0.260,2,    0.730,2,    1.297,2,    0.657,2, -999.000,9, -999.000,9, -999.000,9
           NA,     A06,    194,   1,-999.0,      29,  2,19930304,0758,   7.9337,  -15.5998,  4288,   64.400,   16.392,   35.630,2, -999.000,3,   80.100,2,   74.800,2,    6.600,2,   21.360,2,    0.240,2,    1.340,2,    1.182,2,    0.592,2, -999.000,9, -999.000,9, -999.000,9
           NA,     A06,    194,   1,-999.0,      28,  2,19930304,0758,   7.9337,  -15.5998,  4288,   94.200,   14.904,   35.520,2, -999.000,3,   66.300,2,   67.700,2,    8.340,2,   24.680,2,    0.020,2,    1.530,2,    1.039,2,    0.531,2, -999.000,9, -999.000,9, -999.000,9
           NA,     A06,    194,   1,-999.0,      27,  2,19930304,0758,   7.9337,  -15.5998,  4288,  193.900,   13.081,   35.313,2,   35.309,2,   86.200,2,   87.700,2,    9.590,2,   24.860,2,    0.000,2,    1.550,2,    0.816,2,    0.414,2, -999.000,9, -999.000,9, -999.000,9
           NA,     A06,    194,   1,-999.0,      26,  2,19930304,0758,   7.9337,  -15.5998,  4288,  393.000,    9.774,   35.039,2,   35.036,2,   47.500,2,   48.000,2,   16.470,2,   36.610,2,    0.000,2,    2.100,2,    0.167,2,    0.085,2, -999.000,9, -999.000,9, -999.000,9
           NA,     A06,    194,   1,-999.0,      25,  2,19930304,0758,   7.9337,  -15.5998,  4288,  592.900,    7.015,   34.758,2,   34.754,2,   73.300,2,   73.500,2,   23.670,2,   39.780,2,    0.000,2,    2.370,2,    0.019,2,    0.009,2, -999.000,9, -999.000,9, -999.000,9
           NA,     A06,    194,   1,-999.0,      24,  2,19930304,0758,   7.9337,  -15.5998,  4288,  792.600,    5.685,   34.670,2,   34.670,2,  106.800,2,  105.500,2,   28.320,2,   38.470,2,    0.000,2,    2.370,2,    0.000,2,   -0.001,2, -999.000,9, -999.000,9, -999.000,9
           NA,     A06,    194,   1,-999.0,      23,  2,19930304,0758,   7.9337,  -15.5998,  4288,  993.100,    5.002,   34.730,2,   34.733,2,  135.800,2,  137.100,2,   29.030,2,   34.990,2,    0.000,2,    2.200,2,    0.000,2,    0.000,2, -999.000,9, -999.000,9, -999.000,9
           NA,     A06,    194,   1,-999.0,      22,  2,19930304,0758,   7.9337,  -15.5998,  4288, 1192.800,    4.685,   34.853,2,   34.855,2,  165.000,2,  167.000,2,   26.360,2,   30.290,2,    0.000,2,    1.920,2,    0.012,2,    0.003,2, -999.000,9, -999.000,9, -999.000,9
           NA,     A06,    194,   1,-999.0,      21,  2,19930304,0758,   7.9337,  -15.5998,  4288, 1292.100,    4.429,   34.893,2,   34.893,2,  182.300,2,  185.300,2,   25.350,2,   27.910,2,    0.000,2,    1.770,2,    0.005,2,    0.004,2, -999.000,9, -999.000,9, -999.000,9
           NA,     A06,    194,   1,-999.0,      20,  2,19930304,0758,   7.9337,  -15.5998,  4288, 1393.400,    4.220,   34.919,2,   34.919,2,  198.900,2,  200.400,2,   24.490,2,   26.030,2,    0.000,2,    1.650,2,    0.001,2,   -0.001,2, -999.000,9, -999.000,9, -999.000,9
           NA,     A06,    194,   1,-999.0,      19,  2,19930304,0758,   7.9337,  -15.5998,  4288, 1492.200,    4.053,   34.931,2,   34.933,2,  210.800,2,  211.000,2,   23.780,2,   24.880,2,    0.000,2,    1.570,2,    0.001,2,    0.000,2, -999.000,9, -999.000,9, -999.000,9
           NA,     A06,    194,   1,-999.0,      18,  2,19930304,0758,   7.9337,  -15.5998,  4288, 1492.600,    4.048,   34.932,2,   34.934,2,  210.900,2,  211.600,2,   23.850,2,   24.800,2,    0.000,2,    1.570,2,    0.001,2,    0.002,2, -999.000,9, -999.000,9, -999.000,9
           NA,     A06,    194,   1,-999.0,      17,  2,19930304,0758,   7.9337,  -15.5998,  4288, 1593.300,    3.925,   34.945,2,   34.947,2,  219.100,2,  220.000,2,   23.360,2,   23.850,2,    0.000,2,    1.500,2,   -0.001,2,    0.001,2, -999.000,9, -999.000,9, -999.000,9
           NA,     A06,    194,   1,-999.0,      16,  2,19930304,0758,   7.9337,  -15.5998,  4288, 1692.200,    3.802,   34.948,2,   34.951,2,  225.400,2,  225.200,2,   23.410,2,   23.280,2,    0.000,2,    1.470,2,   -0.002,2,   -0.002,2, -999.000,9, -999.000,9, -999.000,9
           NA,     A06,    194,   1,-999.0,      15,  2,19930304,0758,   7.9337,  -15.5998,  4288, 1792.900,    3.673,   34.951,2,   34.950,2,  229.700,2,  229.800,2,   24.250,2,   22.730,2,    0.000,2,    1.450,2,    0.001,2,    0.001,2, -999.000,9, -999.000,9, -999.000,9
           NA,     A06,    194,   1,-999.0,      14,  2,19930304,0758,   7.9337,  -15.5998,  4288, 1993.700,    3.439,   34.951,2,   34.953,2,  236.500,2,  236.900,2,   25.880,2,   22.210,2,    0.000,2,    1.410,2,   -0.002,2,   -0.001,2, -999.000,9, -999.000,9, -999.000,9
           NA,     A06,    194,   1,-999.0,      13,  2,19930304,0758,   7.9337,  -15.5998,  4288, 2192.700,    3.261,   34.947,2,   34.945,2,  239.500,2,  238.800,2,   28.030,2,   22.060,2,    0.000,2,    1.400,2,    0.001,2,    0.000,2, -999.000,9, -999.000,9, -999.000,9
           NA,     A06,    194,   1,-999.0,      12,  2,19930304,0758,   7.9337,  -15.5998,  4288, 2393.900,    3.082,   34.940,2,   34.939,2,  240.200,2,  239.200,2,   31.220,2,   22.160,2,    0.000,2,    1.410,2,   -0.002,2,   -0.001,2, -999.000,9, -999.000,9, -999.000,9
           NA,     A06,    194,   1,-999.0,      11,  2,19930304,0758,   7.9337,  -15.5998,  4288, 2595.000,    2.933,   34.935,2,   34.934,2,  241.600,2,  241.400,2,   33.410,2,   22.170,2,    0.000,2,    1.410,2,   -0.001,2,    0.001,2, -999.000,9, -999.000,9, -999.000,9
           NA,     A06,    194,   1,-999.0,      10,  2,19930304,0758,   7.9337,  -15.5998,  4288, 2793.700,    2.808,   34.927,2,   34.925,2,  241.600,2,  242.400,2,   35.900,2,   22.240,2,    0.000,2,    1.420,2,    0.004,2,   -0.001,2, -999.000,9, -999.000,9, -999.000,9
           NA,     A06,    194,   1,-999.0,       9,  2,19930304,0758,   7.9337,  -15.5998,  4288, 2994.000,    2.705,   34.919,2,   34.921,2,  241.100,2,  242.200,2,   38.190,2,   22.410,2,    0.000,2,    1.430,2,   -0.002,2,    0.000,2, -999.000,9, -999.000,9, -999.000,9
           NA,     A06,    194,   1,-999.0,       8,  2,19930304,0758,   7.9337,  -15.5998,  4288, 3193.800,    2.626,   34.915,2,   34.917,2,  241.400,2,  241.200,2,   39.940,2,   22.560,2,    0.000,2,    1.440,2,   -0.004,2,    0.001,2, -999.000,9, -999.000,9, -999.000,9
           NA,     A06,    194,   1,-999.0,       7,  2,19930304,0758,   7.9337,  -15.5998,  4288, 3394.400,    2.559,   34.910,2,   34.911,2,  240.900,2,  241.600,2,   42.140,2,   22.650,2,    0.000,2,    1.440,2,    0.003,2,    0.000,2, -999.000,9, -999.000,9, -999.000,9
           NA,     A06,    194,   1,-999.0,       6,  2,19930304,0758,   7.9337,  -15.5998,  4288, 3595.100,    2.488,   34.904,2,   34.905,2,  241.200,2,  241.300,2,   44.010,2,   22.790,2,    0.000,2,    1.460,2,    0.002,2,    0.000,2, -999.000,9, -999.000,9, -999.000,9
           NA,     A06,    194,   1,-999.0,       5,  2,19930304,0758,   7.9337,  -15.5998,  4288, 3794.300,    2.430,   34.898,2,   34.899,2,  241.000,2,  241.500,2,   46.040,2,   23.050,2,    0.000,2,    1.470,2,    0.009,2,    0.001,2, -999.000,9, -999.000,9, -999.000,9
           NA,     A06,    194,   1,-999.0,       4,  2,19930304,0758,   7.9337,  -15.5998,  4288, 3994.200,    2.374,   34.893,2,   34.894,2,  241.000,2,  240.800,2,   47.490,2,   23.240,2,    0.000,2,    1.480,2,    0.003,2,   -0.001,2, -999.000,9, -999.000,9, -999.000,9
           NA,     A06,    194,   1,-999.0,       3,  2,19930304,0758,   7.9337,  -15.5998,  4288, 3994.300,    2.373,   34.891,2,   34.896,2,  241.000,2,  241.100,2,   47.870,2,   23.230,2,    0.000,2,    1.480,2,    0.000,2,   -0.001,2, -999.000,9, -999.000,9, -999.000,9
           NA,     A06,    194,   1,-999.0,       2,  2,19930304,0758,   7.9337,  -15.5998,  4288, 4195.600,    2.320,   34.886,2,   34.887,2,  240.300,2,  240.100,2,   50.740,2,   23.410,2,    0.000,2,    1.500,2,    0.002,2,    0.001,2, -999.000,9, -999.000,9, -999.000,9
           NA,     A06,    194,   1,-999.0,       1,  2,19930304,0758,   7.9337,  -15.5998,  4288, 4317.300,    2.235,   34.874,2,   34.876,2,  232.800,2,  237.400,2,   54.580,2,   24.110,2,    0.000,2,    1.540,2,    0.001,2,    0.003,2, -999.000,9, -999.000,9, -999.000,9