BOTTLE,20205402JOAExport
EXPOCODE,SECT_ID,STNNBR,CASTNO,SAMPNO,BTLNBR,BTLNBR_FLAG_W,DATE,TIME,LATITUDE,LONGITUDE,DEPTH,CTDPRS,CTDTMP,CTDSAL,CTDSAL_FLAG_W,SALNTY,SALNTY_FLAG_W,CTDOXY,CTDOXY_FLAG_W,OXYGEN,OXYGEN_FLAG_W,SILCAT,SILCAT_FLAG_W,NITRAT,NITRAT_FLAG_W,NITRIT,NITRIT_FLAG_W,PHSPHT,PHSPHT_FLAG_W,CFC-11,CFC-11_FLAG_W,CFC-12,CFC-12_FLAG_W,SF6,SF6_FLAG_W,TCARBN,TCARBN_FLAG_W,ALKALI,ALKALI_FLAG_W
,,,,,,,,,,,,,DB,DEG C,PSS-78,,PSS-78,,UMOL/KG,,UMOL/KG,,UMOL/KG,,UMOL/KG,,UMOL/KG,,UMOL/KG,,PMOL/KG,,PMOL/KG,,FMOL/KG,,UMOL/KG,,UMOL/KG
           NA,     A06,    174,   1,-999.0,      32,  2,19930227,1511,   7.4498,  -25.3322,  4431,    3.100,   26.336,   36.124,2,   36.126,2,  206.700,2,  205.300,2,    2.040,2,    0.050,2,    0.000,2,    0.020,2,    1.872,2, -999.000,3, -999.000,9, 2011.000,2, 2398.700,2
           NA,     A06,    174,   1,-999.0,      31,  2,19930227,1511,   7.4498,  -25.3322,  4431,   23.900,   25.968,   36.123,2,   36.122,2,  206.500,2,  207.200,2,    1.970,2,    0.060,2,    0.000,2,    0.000,2,    1.819,2,    0.963,2, -999.000,9, 2000.900,2, 2384.800,2
           NA,     A06,    174,   1,-999.0,      30,  2,19930227,1511,   7.4498,  -25.3322,  4431,   70.300,   17.186,   36.023,2, -999.000,3,  116.000,2,  117.700,2,    6.190,2,   14.560,2,    0.210,2,    0.940,2,    1.371,2,    0.692,2, -999.000,9, 2149.500,2, 2362.800,2
           NA,     A06,    174,   1,-999.0,      29,  2,19930227,1511,   7.4498,  -25.3322,  4431,  117.400,   13.914,   35.419,2,   35.423,2,  109.500,2,  106.000,2,    8.760,2,   20.380,2,    0.020,2,    1.350,2,    1.097,2,    0.548,2, -999.000,9, 2179.100,2, 2344.200,2
           NA,     A06,    174,   1,-999.0,      28,  2,19930227,1511,   7.4498,  -25.3322,  4431,  194.100,   12.847,   35.283,2, -999.000,3,   90.000,2,   90.900,2,   10.080,2,   23.830,2,    0.000,2,    1.530,2,    0.828,2,    0.412,2, -999.000,9, 2196.000,2, 2336.800,2
           NA,     A06,    174,   1,-999.0,      27,  2,19930227,1511,   7.4498,  -25.3322,  4431,  293.300,   11.171,   35.092,2,   35.086,2,   91.900,2, -999.000,3,   12.150,2,   24.990,2,    0.000,2,    1.620,2,    0.688,2,    0.334,2, -999.000,9, 2187.800,2, 2321.400,2
           NA,     A06,    174,   1,-999.0,      26,  2,19930227,1511,   7.4498,  -25.3322,  4431,  392.300,    9.867,   35.012,2,   35.008,2,   57.800,2,   60.000,2,   16.170,2,   33.670,2,    0.000,2,    2.030,2,    0.204,2,    0.092,2, -999.000,9, 2259.300,2, 2346.900,2
           NA,     A06,    174,   1,-999.0,      25,  2,19930227,1511,   7.4498,  -25.3322,  4431,  592.500,    7.487,   34.815,2,   34.812,2,   78.700,2,   78.700,2,   22.790,2,   36.570,2,    0.000,2,    2.290,2,    0.034,2,    0.011,2, -999.000,9, 2246.900,2, 2320.900,2
           NA,     A06,    174,   1,-999.0,      24,  2,19930227,1511,   7.4498,  -25.3322,  4431,  792.100,    5.646,   34.655,2,   34.650,2,  112.700,2,  110.100,2,   28.870,2,   36.210,2,    0.000,2,    2.340,2,    0.018,2,    0.001,2, -999.000,9, 2235.600,2, 2317.300,2
           NA,     A06,    174,   1,-999.0,      23,  2,19930227,1511,   7.4498,  -25.3322,  4431,  992.400,    4.971,   34.704,2,   34.704,2,  142.000,2,  139.600,2,   30.030,2,   32.800,2,    0.000,2,    2.190,2,    0.009,2,    0.001,2, -999.000,9, 2215.200,2, 2311.700,2
           NA,     A06,    174,   1,-999.0,      22,  2,19930227,1511,   7.4498,  -25.3322,  4431, 1192.600,    4.769,   34.851,2,   34.852,2,  168.400,2,  167.600,2,   26.440,2,   27.900,2,    0.000,2,    1.900,2,    0.008,2,    0.000,2, -999.000,9, 2218.500,2, 2338.300,2
           NA,     A06,    174,   1,-999.0,      21,  2,19930227,1511,   7.4498,  -25.3322,  4431, 1392.200,    4.412,   34.935,2,   34.935,2,  206.700,2,  203.700,2,   22.600,2,   22.980,2,    0.000,2,    1.590,2,    0.012,2,    0.002,2, -999.000,9, 2183.200,2, 2323.600,2
           NA,     A06,    174,   1,-999.0,      20,  2,19930227,1511,   7.4498,  -25.3322,  4431, 1593.300,    4.093,   34.957,2,   34.958,2,  227.400,2,  222.700,2,   21.640,2,   20.800,2,    0.000,2,    1.470,2,    0.009,2,    0.002,2, -999.000,9, 2175.300,2, 2327.000,2
           NA,     A06,    174,   1,-999.0,      19,  2,19930227,1511,   7.4498,  -25.3322,  4431, 1795.000,    3.810,   34.968,2,   34.968,2,  243.700,2,  240.900,2,   20.830,2,   18.890,2,    0.000,2,    1.340,2,    0.012,2,    0.003,2, -999.000,9, 2172.300,2, 2332.500,2
           NA,     A06,    174,   1,-999.0,      18,  2,19930227,1511,   7.4498,  -25.3322,  4431, 1795.300,    3.807,   34.969,2,   34.970,2,  243.700,2,  240.100,2,   20.720,2,   18.890,2,    0.000,2,    1.340,2,    0.012,2,    0.002,2, -999.000,9, 2170.100,2, 2330.600,2
           NA,     A06,    174,   1,-999.0,      17,  2,19930227,1511,   7.4498,  -25.3322,  4431, 1893.800,    3.655,   34.962,2,   34.967,2,  244.300,2,  241.300,2,   22.130,2,   18.810,2,    0.000,2,    1.350,2,    0.013,2,    0.003,2, -999.000,9, 2162.600,2, 2322.800,2
           NA,     A06,    174,   1,-999.0,      16,  2,19930227,1511,   7.4498,  -25.3322,  4431, 1993.500,    3.519,   34.959,2,   34.959,2,  244.700,2,  242.200,2,   23.570,2,   18.790,2,    0.000,2,    1.350,2,    0.007,2,    0.002,2, -999.000,9, 2156.900,2, 2317.700,2
           NA,     A06,    174,   1,-999.0,      14,  2,19930227,1511,   7.4498,  -25.3322,  4431, 2194.500,    3.318,   34.951,2,   34.954,2,  246.700,2,  242.800,2,   26.310,2,   18.680,2,    0.000,2,    1.360,2,    0.005,2,   -0.002,2, -999.000,9, -999.000,3, -999.000,3
           NA,     A06,    174,   1,-999.0,      15,  2,19930227,1511,   7.4498,  -25.3322,  4431, 2194.700,    3.322,   34.953,2,   34.951,2,  246.700,2,  243.000,2,   26.120,2,   18.780,2,    0.000,2,    1.360,2,    0.015,2,    0.002,2, -999.000,9, 2166.700,2, 2327.400,2
           NA,     A06,    174,   1,-999.0,      13,  2,19930227,1511,   7.4498,  -25.3322,  4431, 2392.300,    3.143,   34.948,2,   34.947,2,  248.400,2,  246.900,2,   27.770,2,   18.490,2,    0.000,2,    1.350,2,    0.004,2,    0.000,2, -999.000,9, -999.000,3, -999.000,3
           NA,     A06,    174,   1,-999.0,      12,  2,19930227,1511,   7.4498,  -25.3322,  4431, 2694.100,    2.879,   34.935,2,   34.935,2,  250.000,2,  248.600,2,   31.950,2,   18.520,2,    0.000,2,    1.360,2,    0.002,2,   -0.001,2, -999.000,9, -999.000,3, -999.000,3
           NA,     A06,    174,   1,-999.0,      11,  2,19930227,1511,   7.4498,  -25.3322,  4431, 2993.900,    2.723,   34.922,2,   34.922,2,  248.600,2,  247.600,2,   35.740,2,   18.870,2,    0.000,2,    1.380,2,    0.006,2,   -0.001,2, -999.000,9, -999.000,3, -999.000,3
           NA,     A06,    174,   1,-999.0,      10,  2,19930227,1511,   7.4498,  -25.3322,  4431, 3194.000,    2.635,   34.915,2,   34.917,2,  247.900,2,  247.600,2,   38.100,2,   18.950,2,    0.000,2,    1.400,2,    0.003,2,   -0.001,2, -999.000,9, -999.000,3, -999.000,3
           NA,     A06,    174,   1,-999.0,       9,  2,19930227,1511,   7.4498,  -25.3322,  4431, 3393.500,    2.547,   34.910,2,   34.910,2,  248.000,2,  246.600,2,   40.470,2,   19.210,2,    0.000,2,    1.410,2,    0.002,2,   -0.002,2, -999.000,9, -999.000,3, -999.000,3
           NA,     A06,    174,   1,-999.0,       8,  2,19930227,1511,   7.4498,  -25.3322,  4431, 3594.500,    2.445,   34.900,2,   34.900,2,  248.300,2,  247.200,2,   42.650,2,   19.300,2,    0.000,2,    1.420,2,    0.005,2,   -0.001,2, -999.000,9, -999.000,3, -999.000,3
           NA,     A06,    174,   1,-999.0,       7,  2,19930227,1511,   7.4498,  -25.3322,  4431, 3794.000,    2.405,   34.897,2,   34.897,2,  250.500,2,  249.200,2,   42.950,2,   19.100,2,    0.000,2,    1.410,2,    0.011,2,    0.005,2, -999.000,9, -999.000,3, -999.000,3
           NA,     A06,    174,   1,-999.0,       6,  2,19930227,1511,   7.4498,  -25.3322,  4431, 3894.300,    2.381,   34.895,2, -999.000,3,  251.200,2,  250.900,2,   43.020,2,   19.010,2,    0.000,2,    1.410,2,    0.006,2,    0.002,2, -999.000,9, -999.000,3, -999.000,3
           NA,     A06,    174,   1,-999.0,       5,  2,19930227,1511,   7.4498,  -25.3322,  4431, 3994.100,    2.347,   34.892,2,   34.891,2,  252.900,2,  251.000,2,   44.100,2,   19.010,2,    0.000,2,    1.420,2,    0.017,2,    0.004,2, -999.000,9, -999.000,3, -999.000,3
           NA,     A06,    174,   1,-999.0,       4,  2,19930227,1511,   7.4498,  -25.3322,  4431, 4094.700,    2.332,   34.889,2,   34.889,2,  251.600,2,  249.900,2,   45.040,2,   19.230,2,    0.000,2,    1.430,2,    0.019,2,    0.003,2, -999.000,9, -999.000,3, -999.000,3
           NA,     A06,    174,   1,-999.0,       3,  2,19930227,1511,   7.4498,  -25.3322,  4431, 4194.700,    2.331,   34.888,2,   34.891,2,  251.800,2,  250.000,2,   45.470,2,   19.120,2,    0.000,2,    1.430,2,    0.009,2,    0.003,2, -999.000,9, 2212.900,2, 2375.100,2
           NA,     A06,    174,   1,-999.0,       2,  2,19930227,1511,   7.4498,  -25.3322,  4431, 4393.400,    2.315,   34.885,2,   34.889,2,  249.500,2,  247.300,2,   47.700,2,   19.510,2,    0.000,2,    1.450,2,    0.020,2,    0.004,2, -999.000,9, 2227.800,2, 2392.100,2
           NA,     A06,    174,   1,-999.0,       1,  2,19930227,1511,   7.4498,  -25.3322,  4431, 4460.400,    2.307,   34.885,2,   34.888,2,  246.300,2,  246.500,2,   48.560,2,   19.640,2,    0.000,2,    1.470,2,    0.025,2,    0.002,2, -999.000,9, 2215.400,2, 2376.800,2
           NA,     A06,    175,   1,-999.0,      32,  2,19930227,2206,   7.5848,  -24.6693,  4950,    1.800,   26.643,   36.106,2, -999.000,9,  200.300,2, -999.000,9,    1.770,2,    0.040,2,    0.000,2,    0.000,2,    1.819,2,    0.968,2, -999.000,9, -999.000,9, -999.000,9
           NA,     A06,    175,   1,-999.0,      31,  2,19930227,2206,   7.5848,  -24.6693,  4950,   69.200,   16.038,   35.642,2, -999.000,3,  124.200,2, -999.000,3,    6.920,2,   20.000,2,    0.130,2,    1.250,2,    1.193,2,    0.596,2, -999.000,9, -999.000,9, -999.000,9
           NA,     A06,    175,   1,-999.0,      30,  2,19930227,2206,   7.5848,  -24.6693,  4950,  118.800,   13.863,   35.409,2, -999.000,3,   76.000,2,   79.600,2,    8.630,2,   24.310,2,    0.010,2,    1.530,2,    0.934,2,    0.445,2, -999.000,9, -999.000,9, -999.000,9
           NA,     A06,    175,   1,-999.0,      29,  2,19930227,2206,   7.5848,  -24.6693,  4950,  193.700,   12.456,   35.239,2,   35.237,2,   86.600,2, -999.000,3,    9.950,2,   24.560,2,    0.000,2,    1.580,2,    0.779,2,    0.377,2, -999.000,9, -999.000,9, -999.000,9
           NA,     A06,    175,   1,-999.0,      28,  2,19930227,2206,   7.5848,  -24.6693,  4950,  393.700,    9.818,   35.008,2,   35.007,2,   66.400,2,   61.500,2,   15.370,2,   33.660,2,    0.000,2,    2.030,2,    0.212,2,    0.104,2, -999.000,9, -999.000,9, -999.000,9
           NA,     A06,    175,   1,-999.0,      27,  2,19930227,2206,   7.5848,  -24.6693,  4950,  591.800,    7.197,   34.763,2,   34.761,2,   75.800,2,   79.200,2,   22.570,2,   37.260,2,    0.000,2,    2.330,2,    0.024,2,    0.008,2, -999.000,9, -999.000,9, -999.000,9
           NA,     A06,    175,   1,-999.0,      26,  2,19930227,2206,   7.5848,  -24.6693,  4950,  792.500,    5.659,   34.668,2,   34.667,2,  108.200,2,  110.600,2,   27.850,2,   36.290,2,    0.000,2,    2.360,2,    0.006,2,    0.000,2, -999.000,9, -999.000,9, -999.000,9
           NA,     A06,    175,   1,-999.0,      25,  2,19930227,2206,   7.5848,  -24.6693,  4950,  993.100,    4.995,   34.719,2,   34.718,2,  141.300,2,  138.600,2,   29.040,2,   32.830,2,    0.000,2,    2.210,2,    0.001,2,   -0.001,2, -999.000,9, -999.000,9, -999.000,9
           NA,     A06,    175,   1,-999.0,      24,  2,19930227,2206,   7.5848,  -24.6693,  4950, 1093.200,    4.796,   34.769,2,   34.769,2,  157.300,2,  154.700,2,   27.880,2,   30.510,2,    0.000,2,    2.080,2,    0.011,2,   -0.001,2, -999.000,9, -999.000,9, -999.000,9
           NA,     A06,    175,   1,-999.0,      23,  2,19930227,2206,   7.5848,  -24.6693,  4950, 1193.700,    4.753,   34.844,2,   34.843,2,  169.000,2,  167.000,2,   25.660,2,   28.280,2,    0.000,2,    1.920,2,    0.001,2,   -0.001,2, -999.000,9, -999.000,9, -999.000,9
           NA,     A06,    175,   1,-999.0,      22,  2,19930227,2206,   7.5848,  -24.6693,  4950, 1294.000,    4.624,   34.892,2,   34.893,2,  185.000,2,  183.700,2,   23.750,2,   25.710,2,    0.000,2,    1.770,2,    0.002,2,    0.001,2, -999.000,9, -999.000,9, -999.000,9
           NA,     A06,    175,   1,-999.0,      21,  2,19930227,2206,   7.5848,  -24.6693,  4950, 1393.500,    4.448,   34.933,2,   34.933,2,  204.000,2,  202.200,2,   21.750,2,   23.130,2,    0.000,2,    1.610,2,    0.026,2, -999.000,3, -999.000,9, -999.000,9, -999.000,9
           NA,     A06,    175,   1,-999.0,      20,  2,19930227,2206,   7.5848,  -24.6693,  4950, 1493.900,    4.309,   34.956,2,   34.957,2,  218.200,2,  218.400,2,   20.210,2,   21.270,2,    0.000,2,    1.490,2, -999.000,3,    0.002,2, -999.000,9, -999.000,9, -999.000,9
           NA,     A06,    175,   1,-999.0,      19,  2,19930227,2206,   7.5848,  -24.6693,  4950, 1594.500,    4.110,   34.966,2,   34.963,2,  230.600,2,  228.100,2,   19.780,2,   20.090,2,    0.000,2,    1.430,2,    0.011,2,    0.004,2, -999.000,9, -999.000,9, -999.000,9
           NA,     A06,    175,   1,-999.0,      18,  2,19930227,2206,   7.5848,  -24.6693,  4950, 1694.500,    3.923,   34.966,2,   34.966,2,  236.600,2,  233.700,2,   20.170,2,   19.500,2,    0.000,2,    1.400,2,    0.008,2,   -0.001,2, -999.000,9, -999.000,9, -999.000,9
           NA,     A06,    175,   1,-999.0,      17,  2,19930227,2206,   7.5848,  -24.6693,  4950, 1793.400,    3.762,   34.964,2,   34.964,2,  240.500,2,  238.200,2,   21.320,2,   19.010,2,    0.000,2,    1.380,2,    0.004,2,   -0.002,2, -999.000,9, -999.000,9, -999.000,9
           NA,     A06,    175,   1,-999.0,      16,  2,19930227,2206,   7.5848,  -24.6693,  4950, 1893.500,    3.619,   34.960,2,   34.960,2,  242.000,2,  240.600,2,   22.290,2,   18.980,2,    0.000,2,    1.360,2,    0.002,2,   -0.001,2, -999.000,9, -999.000,9, -999.000,9
           NA,     A06,    175,   1,-999.0,      15,  2,19930227,2206,   7.5848,  -24.6693,  4950, 1994.500,    3.508,   34.958,2,   34.958,2,  243.600,2,  241.700,2,   23.230,2,   18.900,2,    0.000,2,    1.370,2,    0.002,2,   -0.001,2, -999.000,9, -999.000,9, -999.000,9
           NA,     A06,    175,   1,-999.0,      14,  2,19930227,2206,   7.5848,  -24.6693,  4950, 2094.100,    3.417,   34.957,2,   34.956,2,  245.600,2,  243.900,2,   23.960,2,   18.630,2,    0.000,2,    1.350,2,    0.002,2,   -0.002,2, -999.000,9, -999.000,9, -999.000,9
           NA,     A06,    175,   1,-999.0,      13,  2,19930227,2206,   7.5848,  -24.6693,  4950, 2194.100,    3.278,   34.952,2,   34.953,2,  246.900,2,  246.000,2,   25.530,2,   18.400,2,    0.000,2,    1.350,2,    0.001,2,   -0.001,2, -999.000,9, -999.000,9, -999.000,9
           NA,     A06,    175,   1,-999.0,      12,  2,19930227,2206,   7.5848,  -24.6693,  4950, 2394.900,    3.090,   34.945,2,   34.944,2,  247.700,2,  246.700,2,   28.190,2,   18.580,2,    0.000,2,    1.360,2,    0.000,2,   -0.001,2, -999.000,9, -999.000,9, -999.000,9
           NA,     A06,    175,   1,-999.0,      11,  2,19930227,2206,   7.5848,  -24.6693,  4950, 2694.900,    2.841,   34.930,2,   34.930,2,  246.600,2,  245.700,2,   33.500,2,   18.970,2,    0.000,2,    1.390,2,    0.003,2,   -0.002,2, -999.000,9, -999.000,9, -999.000,9
           NA,     A06,    175,   1,-999.0,      10,  2,19930227,2206,   7.5848,  -24.6693,  4950, 2995.900,    2.672,   34.920,2,   34.919,2,  247.400,2,  247.300,2,   36.750,2,   18.990,2,    0.000,2,    1.400,2,    0.004,2,   -0.001,2, -999.000,9, -999.000,9, -999.000,9
           NA,     A06,    175,   1,-999.0,       9,  2,19930227,2206,   7.5848,  -24.6693,  4950, 3196.500,    2.593,   34.913,2,   34.915,2,  246.800,2,  246.900,2,   38.770,2,   19.170,2,    0.000,2,    1.410,2,    0.000,2,   -0.002,2, -999.000,9, -999.000,9, -999.000,9
           NA,     A06,    175,   1,-999.0,       8,  2,19930227,2206,   7.5848,  -24.6693,  4950, 3395.200,    2.516,   34.907,2,   34.906,2,  246.400,2,  247.100,2,   40.530,2,   19.140,2,    0.000,2,    1.420,2,    0.000,2,   -0.002,2, -999.000,9, -999.000,9, -999.000,9
           NA,     A06,    175,   1,-999.0,       7,  2,19930227,2206,   7.5848,  -24.6693,  4950, 3595.000,    2.448,   34.902,2,   34.898,2,  247.500,2,  247.300,2,   42.420,2,   19.380,2,    0.000,2,    1.430,2,    0.001,2,   -0.001,2, -999.000,9, -999.000,9, -999.000,9
           NA,     A06,    175,   1,-999.0,       6,  2,19930227,2206,   7.5848,  -24.6693,  4950, 3795.000,    2.393,   34.896,2,   34.897,2,  249.200,2,  249.500,2,   42.860,2,   19.200,2,    0.000,2,    1.430,2,    0.005,2,    0.002,2, -999.000,9, -999.000,9, -999.000,9
           NA,     A06,    175,   1,-999.0,       5,  2,19930227,2206,   7.5848,  -24.6693,  4950, 3994.200,    2.345,   34.891,2,   34.892,2,  250.000,2,  249.200,2,   44.640,2,   19.320,2,    0.000,2,    1.430,2,    0.002,2,    0.000,2, -999.000,9, -999.000,9, -999.000,9
           NA,     A06,    175,   1,-999.0,       4,  2,19930227,2206,   7.5848,  -24.6693,  4950, 4194.700,    2.327,   34.888,2,   34.886,2,  248.200,2,  248.000,2,   46.580,2,   19.530,2,    0.000,2,    1.450,2,    0.002,2,    0.003,2, -999.000,9, -999.000,9, -999.000,9
           NA,     A06,    175,   1,-999.0,       3,  2,19930227,2206,   7.5848,  -24.6693,  4950, 4393.900,    2.325,   34.887,2,   34.887,2,  249.500,2,  249.100,2,   46.500,2,   19.570,2,    0.000,2,    1.450,2,    0.007,2,   -0.001,2, -999.000,9, -999.000,9, -999.000,9
           NA,     A06,    175,   1,-999.0,       2,  2,19930227,2206,   7.5848,  -24.6693,  4950, 4695.500,    2.315,   34.882,2,   34.882,2,  246.900,2,  245.100,2,   49.540,2,   20.080,2,    0.000,2,    1.470,2,    0.005,2,   -0.001,2, -999.000,9, -999.000,9, -999.000,9
           NA,     A06,    175,   1,-999.0,       1,  2,19930227,2206,   7.5848,  -24.6693,  4950, 4979.700,    2.325,   34.880,2,   34.882,2,  244.800,2,  243.100,2,   51.500,2,   20.180,2,    0.000,2,    1.480,2,    0.005,2,   -0.002,2, -999.000,9, -999.000,9, -999.000,9