BOTTLE,20205402JOAExport
EXPOCODE,SECT_ID,STNNBR,CASTNO,SAMPNO,BTLNBR,BTLNBR_FLAG_W,DATE,TIME,LATITUDE,LONGITUDE,DEPTH,CTDPRS,CTDTMP,CTDSAL,CTDSAL_FLAG_W,SALNTY,SALNTY_FLAG_W,CTDOXY,CTDOXY_FLAG_W,OXYGEN,OXYGEN_FLAG_W,SILCAT,SILCAT_FLAG_W,NITRAT,NITRAT_FLAG_W,NITRIT,NITRIT_FLAG_W,PHSPHT,PHSPHT_FLAG_W,CFC-11,CFC-11_FLAG_W,CFC-12,CFC-12_FLAG_W,SF6,SF6_FLAG_W,TCARBN,TCARBN_FLAG_W,ALKALI,ALKALI_FLAG_W
,,,,,,,,,,,,,DB,DEG C,PSS-78,,PSS-78,,UMOL/KG,,UMOL/KG,,UMOL/KG,,UMOL/KG,,UMOL/KG,,UMOL/KG,,PMOL/KG,,PMOL/KG,,FMOL/KG,,UMOL/KG,,UMOL/KG
           NA,     A06,    136,   1,-999.0,      32,  2,19930217,0833,   7.5108,  -46.6710,  4373,    2.100,   25.954,   36.109,2,   36.110,2,  198.800,2, -999.000,3,    1.830,2,    0.020,2,    0.000,2,    0.000,2,    1.843,2,    0.996,2, -999.000,9, -999.000,3, -999.000,3
           NA,     A06,    136,   1,-999.0,      31,  2,19930217,0833,   7.5108,  -46.6710,  4373,   67.800,   21.630,   36.426,2,   36.430,2,  175.200,2, -999.000,3,    2.660,2,    5.990,2,    0.540,2,    0.360,2,    1.692,2,    0.900,2, -999.000,9, 2118.000,2, 2398.600,2
           NA,     A06,    136,   1,-999.0,      29,  2,19930217,0833,   7.5108,  -46.6710,  4373,  118.700,   12.870,   35.405,2, -999.000,3,  120.300,2,  118.100,2,    9.590,2,   22.690,2,    0.010,2,    1.350,2, -999.000,9, -999.000,9, -999.000,9, 2197.800,2, 2358.300,2
           NA,     A06,    136,   1,-999.0,      30,  2,19930217,0833,   7.5108,  -46.6710,  4373,  119.700,   12.544,   35.372,2, -999.000,3,  120.500,2,  117.900,2,    9.560,2,   22.840,2,    0.010,2,    1.330,2,    0.987,2,    0.498,2, -999.000,9, 2199.400,2, 2357.600,2
           NA,     A06,    136,   1,-999.0,      28,  2,19930217,0833,   7.5108,  -46.6710,  4373,  194.000,    9.786,   34.941,2,   34.939,2,  118.700,2, -999.000,9,   13.390,2,   27.890,2,    0.000,2,    1.690,2,    0.595,2,    0.303,2, -999.000,9, 2213.500,2, 2336.800,2
           NA,     A06,    136,   1,-999.0,      27,  2,19930217,0833,   7.5108,  -46.6710,  4373,  394.300,    7.671,   34.720,2, -999.000,3,  113.200,2,  116.300,2,   19.110,2,   33.450,2,    0.000,2,    2.030,2,    0.222,2,    0.115,2, -999.000,9, 2221.200,2, 2319.100,2
           NA,     A06,    136,   1,-999.0,      26,  2,19930217,0833,   7.5108,  -46.6710,  4373,  493.100,    6.700,   34.634,2,   34.632,2,  127.400,2,  125.800,2,   22.440,2,   34.280,2,    0.000,2,    2.120,2,    0.156,2,    0.075,2, -999.000,9, 2230.300,2, 2323.500,2
           NA,     A06,    136,   1,-999.0,      25,  2,19930217,0833,   7.5108,  -46.6710,  4373,  593.200,    5.854,   34.556,2,   34.558,2,  150.600,2, -999.000,3,   25.530,2,   34.220,2,    0.000,2,    2.150,2, -999.000,3, -999.000,3, -999.000,9, 2221.000,2, 2314.100,2
           NA,     A06,    136,   1,-999.0,      24,  2,19930217,0833,   7.5108,  -46.6710,  4373,  791.800,    5.136,   34.557,2,   34.558,2,  142.400,2,  141.800,2,   29.700,2,   35.470,2,    0.000,2,    2.250,2,    0.043,2,    0.021,2, -999.000,9, 2242.800,2, 2331.800,2
           NA,     A06,    136,   1,-999.0,      23,  2,19930217,0833,   7.5108,  -46.6710,  4373,  991.900,    4.730,   34.598,2,   34.600,2,  152.600,2,  151.400,2,   31.320,2,   34.440,2,    0.000,2,    2.210,2,    0.021,2,    0.008,2, -999.000,9, 2244.000,2, 2340.900,2
           NA,     A06,    136,   1,-999.0,      22,  2,19930217,0833,   7.5108,  -46.6710,  4373, 1192.400,    4.970,   34.807,2,   34.809,2,  168.800,2,  166.500,2,   26.390,2,   30.190,2,    0.000,2,    1.920,2,    0.026,2,    0.005,2, -999.000,9, 2232.400,2, 2344.800,2
           NA,     A06,    136,   1,-999.0,      21,  2,19930217,0833,   7.5108,  -46.6710,  4373, 1392.600,    4.872,   34.961,2, -999.000,3,  205.700,2,  206.500,2,   19.990,2,   24.020,2,    0.000,2,    1.510,2,    0.100,2,    0.045,2, -999.000,9, 2187.200,2, 2328.600,2
           NA,     A06,    136,   1,-999.0,      20,  2,19930217,0833,   7.5108,  -46.6710,  4373, 1492.800,    4.649,   34.985,2,   34.987,2,  227.200,2,  222.600,2,   18.190,2,   22.370,2,    0.000,2,    1.400,2,    0.111,2,    0.057,2, -999.000,9, -999.000,3, -999.000,3
           NA,     A06,    136,   1,-999.0,      19,  2,19930217,0833,   7.5108,  -46.6710,  4373, 1593.000,    4.431,   35.002,2,   35.002,2,  241.000,2,  240.400,2,   16.280,2,   20.400,2,    0.000,2,    1.260,2,    0.175,2,    0.084,2, -999.000,9, 2174.100,2, 2330.900,2
           NA,     A06,    136,   1,-999.0,      18,  2,19930217,0833,   7.5108,  -46.6710,  4373, 1692.500,    4.233,   35.007,2,   35.002,2,  251.700,2,  256.500,2,   14.870,2,   19.050,2,    0.000,2,    1.180,2,    0.248,2,    0.118,2, -999.000,9, 2183.400,2, 2347.500,2
           NA,     A06,    136,   1,-999.0,      17,  2,19930217,0833,   7.5108,  -46.6710,  4373, 1793.200,    3.969,   34.998,2,   34.999,2,  257.400,2,  257.100,2,   15.750,2,   18.790,2,    0.000,2,    1.170,2,    0.156,2,    0.075,2, -999.000,9, 2179.600,2, 2345.400,2
           NA,     A06,    136,   1,-999.0,      16,  2,19930217,0833,   7.5108,  -46.6710,  4373, 1894.500,    3.745,   34.986,2,   34.989,2,  257.500,2,  258.500,2,   17.210,2,   18.860,2,    0.000,2,    1.170,2,    0.097,2,    0.047,2, -999.000,9, -999.000,3, -999.000,3
           NA,     A06,    136,   1,-999.0,      15,  2,19930217,0833,   7.5108,  -46.6710,  4373, 1994.200,    3.568,   34.975,2,   34.977,2,  256.300,2,  256.000,2,   19.830,2,   19.440,2,    0.000,2,    1.210,2,    0.035,2,    0.014,2, -999.000,9, 2177.700,2, 2344.200,2
           NA,     A06,    136,   1,-999.0,      14,  2,19930217,0833,   7.5108,  -46.6710,  4373, 2195.100,    3.327,   34.965,2,   34.966,2,  257.300,2,  257.000,2,   22.300,2,   19.460,2,    0.000,2,    1.240,2,    0.018,2,    0.011,2, -999.000,9, -999.000,3, -999.000,3
           NA,     A06,    136,   1,-999.0,      13,  2,19930217,0833,   7.5108,  -46.6710,  4373, 2394.800,    3.112,   34.953,2,   34.952,2,  258.000,2,  261.100,2,   24.890,2,   19.490,2,    0.000,2,    1.250,2,    0.021,2,    0.011,2, -999.000,9, -999.000,3, -999.000,3
           NA,     A06,    136,   1,-999.0,      12,  2,19930217,0833,   7.5108,  -46.6710,  4373, 2695.400,    2.894,   34.943,2,   34.943,2,  259.400,2,  260.800,2,   27.340,2,   19.450,2,    0.000,2,    1.240,2,    0.022,2,    0.009,2, -999.000,9, 2177.600,2, 2344.400,2
           NA,     A06,    136,   1,-999.0,      11,  2,19930217,0833,   7.5108,  -46.6710,  4373, 2994.100,    2.721,   34.930,2,   34.933,2,  258.300,2,  260.300,2,   31.380,2,   19.780,2,    0.000,2,    1.270,2,    0.031,2,    0.018,2, -999.000,9, 2174.900,2, 2342.000,2
           NA,     A06,    136,   1,-999.0,      10,  2,19930217,0833,   7.5108,  -46.6710,  4373, 3194.200,    2.585,   34.918,2,   34.920,2,  256.300,2,  258.500,2,   34.960,2,   20.140,2,    0.000,2,    1.300,2,    0.027,2,    0.007,2, -999.000,9, 2186.300,2, 2351.100,2
           NA,     A06,    136,   1,-999.0,       9,  2,19930217,0833,   7.5108,  -46.6710,  4373, 3393.800,    2.470,   34.913,2,   34.915,2,  258.300,2,  261.900,2,   34.700,2,   19.690,2,    0.000,2,    1.270,2,    0.047,2,    0.019,2, -999.000,9, 2192.200,2, 2358.200,2
           NA,     A06,    136,   1,-999.0,       8,  2,19930217,0833,   7.5108,  -46.6710,  4373, 3594.800,    2.359,   34.906,2,   34.908,2,  262.700,2,  265.200,2,   33.830,2,   19.180,2,    0.000,2,    1.260,2,    0.071,2,    0.039,2, -999.000,9, 2186.000,2, 2349.800,2
           NA,     A06,    136,   1,-999.0,       6,  2,19930217,0833,   7.5108,  -46.6710,  4373, 3794.700,    2.282,   34.900,2,   34.902,2,  264.900,2,  267.700,2,   33.670,2,   18.900,2,    0.000,2,    1.250,2,    0.100,2,    0.052,2, -999.000,9, -999.000,3, -999.000,3
           NA,     A06,    136,   1,-999.0,       7,  2,19930217,0833,   7.5108,  -46.6710,  4373, 3795.000,    2.282,   34.901,2,   34.900,2,  264.900,2,  267.600,2,   33.740,2,   19.030,2,    0.000,2,    1.240,2,    0.108,2,    0.053,2, -999.000,9, 2187.800,2, 2352.600,2
           NA,     A06,    136,   1,-999.0,       5,  2,19930217,0833,   7.5108,  -46.6710,  4373, 3895.300,    2.255,   34.899,2,   34.900,2,  264.700,2,  267.400,2,   34.120,2,   18.980,2,    0.000,2,    1.240,2,    0.055,2,    0.068,2, -999.000,9, 2187.600,2, 2354.200,2
           NA,     A06,    136,   1,-999.0,       4,  2,19930217,0833,   7.5108,  -46.6710,  4373, 3994.300,    2.239,   34.896,2,   34.901,2,  264.900,2,  263.900,2,   34.350,2,   19.040,2,    0.000,2,    1.260,2,    0.135,2,    0.063,2, -999.000,9, 2187.200,2, 2351.000,2
           NA,     A06,    136,   1,-999.0,       3,  2,19930217,0833,   7.5108,  -46.6710,  4373, 4095.400,    2.225,   34.893,2,   34.899,2,  264.400,2,  265.800,2,   36.110,2,   19.050,2,    0.000,2,    1.260,2,    0.130,2,    0.052,2, -999.000,9, 2195.000,2, 2358.200,2
           NA,     A06,    136,   1,-999.0,       2,  2,19930217,0833,   7.5108,  -46.6710,  4373, 4194.400,    2.210,   34.890,2,   34.890,2,  263.400,2,  264.800,2,   37.760,2,   19.260,2,    0.000,2,    1.280,2,    0.109,2,    0.051,2, -999.000,9, 2193.600,2, 2356.700,2
           NA,     A06,    136,   1,-999.0,       1,  2,19930217,0833,   7.5108,  -46.6710,  4373, 4398.900,    2.169,   34.883,2,   34.884,2,  258.800,2,  261.100,2,   42.980,2,   19.930,2,    0.000,2,    1.340,2,    0.091,2,    0.049,2, -999.000,9, 2190.200,2, 2353.100,2
           NA,     A06,    137,   1,-999.0,      32,  2,19930217,1529,   7.5145,  -45.9965,  4411,    2.500,   26.064,   36.182,2, -999.000,3,  200.400,2, -999.000,3,    1.860,2,    0.020,2,    0.000,2,    0.000,2,    1.859,2,    0.992,2, -999.000,9, -999.000,9, -999.000,9
           NA,     A06,    137,   1,-999.0,      31,  2,19930217,1529,   7.5145,  -45.9965,  4411,   69.200,   18.869,   36.254,2, -999.000,3,  184.500,2, -999.000,3,    4.390,2,   11.770,2,    0.220,2,    0.670,2,    1.614,2,    0.816,2, -999.000,9, -999.000,9, -999.000,9
           NA,     A06,    137,   1,-999.0,      30,  2,19930217,1529,   7.5145,  -45.9965,  4411,   69.500,   18.249,   36.247,2, -999.000,3,  181.300,2, -999.000,3,    4.460,2,   11.840,2,    0.210,2,    0.670,2,    1.568,2,    0.815,2, -999.000,9, -999.000,9, -999.000,9
           NA,     A06,    137,   1,-999.0,      29,  2,19930217,1529,   7.5145,  -45.9965,  4411,  117.700,   11.702,   35.218,2, -999.000,3,  118.600,2, -999.000,3,    9.900,2,   22.540,2,    0.010,2,    1.410,2,    0.952,2,    0.482,2, -999.000,9, -999.000,9, -999.000,9
           NA,     A06,    137,   1,-999.0,      28,  2,19930217,1529,   7.5145,  -45.9965,  4411,  188.400,   10.029,   34.965,2,   34.962,2,  121.600,2,  120.700,2,   12.460,2,   26.350,2,    0.000,2,    1.660,2,    0.635,2,    0.324,2, -999.000,9, -999.000,9, -999.000,9
           NA,     A06,    137,   1,-999.0,      27,  2,19930217,1529,   7.5145,  -45.9965,  4411,  394.200,    7.741,   34.725,2,   34.727,2,  115.900,2,  115.400,2,   18.250,2,   31.980,2,    0.000,2,    2.000,2,    0.241,2,    0.122,2, -999.000,9, -999.000,9, -999.000,9
           NA,     A06,    137,   1,-999.0,      26,  2,19930217,1529,   7.5145,  -45.9965,  4411,  597.500,    6.257,   34.609,2,   34.609,2,  125.700,2,  124.300,2,   23.620,2,   34.210,2,    0.000,2,    2.190,2,    0.087,2,    0.040,2, -999.000,9, -999.000,9, -999.000,9
           NA,     A06,    137,   1,-999.0,      25,  2,19930217,1529,   7.5145,  -45.9965,  4411,  792.900,    5.231,   34.557,2,   34.555,2,  138.800,2,  139.200,2,   28.440,2,   34.470,2,    0.000,2,    2.250,2,    0.045,2,    0.019,2, -999.000,9, -999.000,9, -999.000,9
           NA,     A06,    137,   1,-999.0,      24,  2,19930217,1529,   7.5145,  -45.9965,  4411,  991.800,    4.963,   34.646,2,   34.646,2,  143.800,2,  144.900,2,   29.220,2,   33.280,2,    0.000,2,    2.190,2,    0.011,2,    0.001,2, -999.000,9, -999.000,9, -999.000,9
           NA,     A06,    137,   1,-999.0,      23,  2,19930217,1529,   7.5145,  -45.9965,  4411, 1192.600,    4.920,   34.800,2,   34.800,2,  165.100,2,  166.100,2,   25.830,2,   29.290,2,    0.000,2,    1.920,2,    0.024,2,    0.006,2, -999.000,9, -999.000,9, -999.000,9
           NA,     A06,    137,   1,-999.0,      22,  2,19930217,1529,   7.5145,  -45.9965,  4411, 1393.700,    4.931,   34.962,2,   34.967,2,  201.400,2,  204.700,2,   19.260,2,   23.190,2,    0.000,2,    1.520,2,    0.117,2,    0.060,2, -999.000,9, -999.000,9, -999.000,9
           NA,     A06,    137,   1,-999.0,      21,  2,19930217,1529,   7.5145,  -45.9965,  4411, 1493.200,    4.678,   34.998,2,   34.998,2,  225.300,2,  226.500,2,   16.660,2,   20.650,2,    0.000,2,    1.360,2,    0.157,2,    0.077,2, -999.000,9, -999.000,9, -999.000,9
           NA,     A06,    137,   1,-999.0,      20,  2,19930217,1529,   7.5145,  -45.9965,  4411, 1593.000,    4.447,   35.008,2,   35.009,2,  239.800,2,  241.600,2,   15.080,2,   19.060,2,    0.000,2,    1.250,2,    0.207,2,    0.102,2, -999.000,9, -999.000,9, -999.000,9
           NA,     A06,    137,   1,-999.0,      19,  2,19930217,1529,   7.5145,  -45.9965,  4411, 1693.600,    4.142,   34.998,2,   34.999,2,  250.600,2,  249.300,2,   15.360,2,   18.470,2,    0.010,2,    1.220,2,    0.142,2,    0.066,2, -999.000,9, -999.000,9, -999.000,9
           NA,     A06,    137,   1,-999.0,      18,  2,19930217,1529,   7.5145,  -45.9965,  4411, 1794.000,    3.917,   34.990,2,   34.992,2,  252.300,2,  252.200,2,   16.390,2,   18.430,2,    0.000,2,    1.220,2,    0.066,2,    0.033,2, -999.000,9, -999.000,9, -999.000,9
           NA,     A06,    137,   1,-999.0,      17,  2,19930217,1529,   7.5145,  -45.9965,  4411, 1993.100,    3.599,   34.978,2,   34.981,2,  257.200,2,  255.800,2,   18.600,2,   18.400,2,    0.000,2,    1.210,2,    0.035,2,    0.015,2, -999.000,9, -999.000,9, -999.000,9
           NA,     A06,    137,   1,-999.0,      16,  2,19930217,1529,   7.5145,  -45.9965,  4411, 2194.500,    3.352,   34.967,2,   34.964,2,  258.000,2,  258.300,2,   20.680,2,   18.290,2,    0.000,2,    1.210,2,    0.026,2,    0.013,2, -999.000,9, -999.000,9, -999.000,9
           NA,     A06,    137,   1,-999.0,      15,  2,19930217,1529,   7.5145,  -45.9965,  4411, 2396.100,    3.154,   34.959,2,   34.958,2,  260.700,2,  261.000,2,   21.950,2,   18.090,2,    0.000,2,    1.210,2,    0.028,2,    0.015,2, -999.000,9, -999.000,9, -999.000,9
           NA,     A06,    137,   1,-999.0,      14,  2,19930217,1529,   7.5145,  -45.9965,  4411, 2594.500,    3.020,   34.953,2,   34.954,2,  261.200,2,  262.300,2,   23.120,2,   17.890,2,    0.000,2,    1.200,2,    0.051,2,    0.025,2, -999.000,9, -999.000,9, -999.000,9
           NA,     A06,    137,   1,-999.0,      13,  2,19930217,1529,   7.5145,  -45.9965,  4411, 2793.500,    2.869,   34.940,2, -999.000,3,  258.300,2,  259.000,2,   27.760,2,   18.600,2,    0.000,2,    1.250,2,    0.053,2,    0.023,2, -999.000,9, -999.000,9, -999.000,9
           NA,     A06,    137,   1,-999.0,      12,  2,19930217,1529,   7.5145,  -45.9965,  4411, 2995.400,    2.743,   34.933,2,   34.936,2,  256.900,2,  258.400,2,   30.690,2,   19.010,2,    0.000,2,    1.280,2,    0.017,2,    0.007,2, -999.000,9, -999.000,9, -999.000,9
           NA,     A06,    137,   1,-999.0,      11,  2,19930217,1529,   7.5145,  -45.9965,  4411, 3194.900,    2.611,   34.921,2,   34.920,2,  255.100,2,  255.600,2,   34.650,2,   19.400,2,    0.000,2,    1.310,2,    0.017,2,    0.002,2, -999.000,9, -999.000,9, -999.000,9
           NA,     A06,    137,   1,-999.0,      10,  2,19930217,1529,   7.5145,  -45.9965,  4411, 3394.600,    2.513,   34.917,2,   34.919,2,  259.900,2,  262.500,2,   31.540,2,   18.300,2,    0.000,2,    1.240,2,    0.058,2,    0.025,2, -999.000,9, -999.000,9, -999.000,9
           NA,     A06,    137,   1,-999.0,       9,  2,19930217,1529,   7.5145,  -45.9965,  4411, 3594.300,    2.412,   34.910,2,   34.908,2,  262.700,2,  264.800,2,   31.910,2,   18.210,2,    0.000,2,    1.240,2,    0.068,2,    0.031,2, -999.000,9, -999.000,9, -999.000,9
           NA,     A06,    137,   1,-999.0,       8,  2,19930217,1529,   7.5145,  -45.9965,  4411, 3794.500,    2.316,   34.903,2,   34.904,2,  264.900,2,  266.300,2,   32.400,2,   18.040,2,    0.000,2,    1.240,2,    0.074,2,    0.042,2, -999.000,9, -999.000,9, -999.000,9
           NA,     A06,    137,   1,-999.0,       7,  2,19930217,1529,   7.5145,  -45.9965,  4411, 3794.800,    2.316,   34.903,2,   34.899,2,  264.900,2,  265.900,2,   32.450,2,   18.050,2,    0.000,2,    1.240,2,    0.083,2,    0.042,2, -999.000,9, -999.000,9, -999.000,9
           NA,     A06,    137,   1,-999.0,       6,  2,19930217,1529,   7.5145,  -45.9965,  4411, 3894.100,    2.290,   34.902,2,   34.902,2,  265.500,2,  267.100,2,   32.410,2,   17.900,2,    0.000,2,    1.240,2,    0.096,2,    0.045,2, -999.000,9, -999.000,9, -999.000,9
           NA,     A06,    137,   1,-999.0,       5,  2,19930217,1529,   7.5145,  -45.9965,  4411, 3994.700,    2.257,   34.898,2,   34.899,2,  265.200,2,  266.400,2,   33.550,2,   18.080,2,    0.000,2,    1.250,2,    0.104,2,    0.053,2, -999.000,9, -999.000,9, -999.000,9
           NA,     A06,    137,   1,-999.0,       4,  2,19930217,1529,   7.5145,  -45.9965,  4411, 4095.200,    2.244,   34.895,2,   34.897,2,  264.700,2,  265.900,2,   34.300,2,   18.210,2,    0.000,2,    1.260,2,    0.104,2, -999.000,3, -999.000,9, -999.000,9, -999.000,9
           NA,     A06,    137,   1,-999.0,       3,  2,19930217,1529,   7.5145,  -45.9965,  4411, 4211.300,    2.225,   34.897,2,   34.893,2,  264.000,2,  265.400,2,   36.080,2,   18.290,2,    0.000,2,    1.270,2,    0.108,2,    0.059,2, -999.000,9, -999.000,9, -999.000,9
           NA,     A06,    137,   1,-999.0,       2,  2,19930217,1529,   7.5145,  -45.9965,  4411, 4383.300,    2.178,   34.883,2,   34.885,2,  261.800,2,  262.300,2,   40.540,2,   19.050,2,    0.000,2,    1.330,2,    0.079,2,    0.040,2, -999.000,9, -999.000,9, -999.000,9
           NA,     A06,    137,   1,-999.0,       1,  2,19930217,1529,   7.5145,  -45.9965,  4411, 4429.400,    2.163,   34.881,2,   34.884,2,  259.500,2,  261.400,2,   42.100,2,   19.220,2,    0.000,2,    1.340,2,    0.082,2,    0.051,2, -999.000,9, -999.000,9, -999.000,9