BOTTLE,20205402JOAExport
EXPOCODE,SECT_ID,STNNBR,CASTNO,SAMPNO,BTLNBR,BTLNBR_FLAG_W,DATE,TIME,LATITUDE,LONGITUDE,DEPTH,CTDPRS,CTDTMP,CTDSAL,CTDSAL_FLAG_W,SALNTY,SALNTY_FLAG_W,CTDOXY,CTDOXY_FLAG_W,OXYGEN,OXYGEN_FLAG_W,SILCAT,SILCAT_FLAG_W,NITRAT,NITRAT_FLAG_W,NITRIT,NITRIT_FLAG_W,PHSPHT,PHSPHT_FLAG_W,CFC-11,CFC-11_FLAG_W,CFC-12,CFC-12_FLAG_W,SF6,SF6_FLAG_W,TCARBN,TCARBN_FLAG_W,ALKALI,ALKALI_FLAG_W
,,,,,,,,,,,,,DB,DEG C,PSS-78,,PSS-78,,UMOL/KG,,UMOL/KG,,UMOL/KG,,UMOL/KG,,UMOL/KG,,UMOL/KG,,PMOL/KG,,PMOL/KG,,FMOL/KG,,UMOL/KG,,UMOL/KG
           NA,     A06,    199,   1,-999.0,      20,  2,19930305,0700,   8.2637,  -14.5232,  1984,    2.100,   25.697,   35.078,2,   35.078,2,  201.400,2,  205.300,2,    1.420,2,    0.000,2,    0.000,2,    0.100,2,    1.796,2,    0.975,2, -999.000,9, -999.000,9, -999.000,9
           NA,     A06,    199,   1,-999.0,      19,  2,19930305,0700,   8.2637,  -14.5232,  1984,   13.600,   25.706,   35.090,2, -999.000,3,  206.200,2,  201.600,2,    1.470,2,    0.090,2,    0.010,2,    0.110,2,    1.773,2,    0.962,2, -999.000,9, -999.000,9, -999.000,9
           NA,     A06,    199,   1,-999.0,      17,  2,19930305,0700,   8.2637,  -14.5232,  1984,   33.800,   20.454,   35.587,2,   35.588,2,  146.700,2, -999.000,3,    2.400,2,    5.270,2,    0.440,2,    0.550,2, -999.000,9, -999.000,9, -999.000,9, -999.000,9, -999.000,9
           NA,     A06,    199,   1,-999.0,      18,  2,19930305,0700,   8.2637,  -14.5232,  1984,   33.900,   20.570,   35.577,2, -999.000,3,  146.700,2,  146.200,2,    2.010,2,    4.070,2,    0.390,2,    0.460,2, -999.000,9, -999.000,9, -999.000,9, -999.000,9, -999.000,9
           NA,     A06,    199,   1,-999.0,      16,  2,19930305,0700,   8.2637,  -14.5232,  1984,   53.500,   17.271,   35.643,2,   35.644,2,   80.900,2,   78.700,2,    6.950,2,   19.310,2,    0.090,2,    1.300,2,    1.365,2,    0.721,2, -999.000,9, -999.000,9, -999.000,9
           NA,     A06,    199,   1,-999.0,      15,  2,19930305,0700,   8.2637,  -14.5232,  1984,   73.400,   16.071,   35.625,2, -999.000,3,   80.700,2,   80.300,2,    7.610,2,   21.580,2,    0.020,2,    1.390,2,    1.296,2,    0.671,2, -999.000,9, -999.000,9, -999.000,9
           NA,     A06,    199,   1,-999.0,      14,  2,19930305,0700,   8.2637,  -14.5232,  1984,   93.400,   15.538,   35.571,2,   35.572,2,   76.900,2,   76.500,2,    7.860,2,   22.940,2,    0.010,2,    1.450,2, -999.000,9, -999.000,9, -999.000,9, -999.000,9, -999.000,9
           NA,     A06,    199,   1,-999.0,      13,  2,19930305,0700,   8.2637,  -14.5232,  1984,  193.300,   14.082,   35.427,2,   35.424,2,   75.900,2,   75.900,2,    8.820,2,   25.420,2,    0.000,2,    1.530,2,    0.942,2,    0.472,2, -999.000,9, -999.000,9, -999.000,9
           NA,     A06,    199,   1,-999.0,      12,  2,19930305,0700,   8.2637,  -14.5232,  1984,  392.100,   10.142,   35.065,2,   35.063,2,   50.200,2,   49.500,2,   15.750,2,   35.560,2,    0.000,2,    2.050,2,    0.268,2,    0.128,2, -999.000,9, -999.000,9, -999.000,9
           NA,     A06,    199,   1,-999.0,      11,  2,19930305,0700,   8.2637,  -14.5232,  1984,  591.700,    7.246,   34.762,2,   34.763,2,   72.900,2,   73.000,2,   22.920,2,   38.950,2,    0.000,2,    2.360,2, -999.000,3,    0.016,2, -999.000,9, -999.000,9, -999.000,9
           NA,     A06,    199,   1,-999.0,      10,  2,19930305,0700,   8.2637,  -14.5232,  1984,  792.000,    5.783,   34.692,2,   34.690,2,  102.600,2,  102.300,2,   27.710,2,   37.810,2,    0.000,2,    2.360,2, -999.000,3, -999.000,3, -999.000,9, -999.000,9, -999.000,9
           NA,     A06,    199,   1,-999.0,       9,  2,19930305,0700,   8.2637,  -14.5232,  1984,  991.600,    5.126,   34.733,2,   34.735,2,  133.000,2,  132.100,2,   28.460,2,   34.530,2,    0.000,2,    2.200,2,    0.016,2, -999.000,3, -999.000,9, -999.000,9, -999.000,9
           NA,     A06,    199,   1,-999.0,       8,  2,19930305,0700,   8.2637,  -14.5232,  1984,  991.800,    5.121,   34.734,2,   34.735,2,  133.000,2,  132.700,2,   28.420,2,   34.280,2,    0.000,2,    2.200,2, -999.000,3,    0.001,2, -999.000,9, -999.000,9, -999.000,9
           NA,     A06,    199,   1,-999.0,       7,  2,19930305,0700,   8.2637,  -14.5232,  1984, 1192.600,    4.517,   34.849,2,   34.846,2,  169.600,2,  172.500,2,   26.200,2,   28.920,2,    0.000,2,    1.890,2, -999.000,9, -999.000,9, -999.000,9, -999.000,9, -999.000,9
           NA,     A06,    199,   1,-999.0,       6,  2,19930305,0700,   8.2637,  -14.5232,  1984, 1391.800,    4.264,   34.899,2,   34.900,2,  194.500,2,  194.700,2,   24.560,2,   25.920,2,    0.000,2,    1.700,2, -999.000,9, -999.000,9, -999.000,9, -999.000,9, -999.000,9
           NA,     A06,    199,   1,-999.0,       5,  2,19930305,0700,   8.2637,  -14.5232,  1984, 1492.900,    4.126,   34.920,2,   34.922,2,  205.000,2,  205.100,2,   23.820,2,   24.600,2,    0.000,2,    1.620,2, -999.000,9, -999.000,9, -999.000,9, -999.000,9, -999.000,9
           NA,     A06,    199,   1,-999.0,       4,  2,19930305,0700,   8.2637,  -14.5232,  1984, 1592.400,    3.894,   34.937,2,   34.936,2,  217.500,2,  218.900,2,   23.740,2,   23.020,2,    0.000,2,    1.520,2, -999.000,9, -999.000,9, -999.000,9, -999.000,9, -999.000,9
           NA,     A06,    199,   1,-999.0,       3,  2,19930305,0700,   8.2637,  -14.5232,  1984, 1693.100,    3.702,   34.944,2,   34.945,2,  226.200,2,  226.400,2,   24.420,2,   22.230,2,    0.000,2,    1.470,2, -999.000,9, -999.000,9, -999.000,9, -999.000,9, -999.000,9
           NA,     A06,    199,   1,-999.0,       2,  2,19930305,0700,   8.2637,  -14.5232,  1984, 1795.000,    3.590,   34.945,2,   34.945,2,  230.900,2,  230.000,2,   25.100,2,   21.800,2,    0.000,2,    1.460,2, -999.000,9, -999.000,9, -999.000,9, -999.000,9, -999.000,9
           NA,     A06,    199,   1,-999.0,       1,  2,19930305,0700,   8.2637,  -14.5232,  1984, 1983.500,    3.479,   34.945,2,   34.949,2,  227.300,2, -999.000,3,   25.910,2,   21.610,2,    0.000,2,    1.440,2, -999.000,9, -999.000,9, -999.000,9, -999.000,9, -999.000,9
           NA,     A06,    200,   1,-999.0,      32,  2,19930305,0957,   8.3102,  -14.4268,  1022,    2.000,   25.588,   35.093,2, -999.000,9,  201.100,2,  204.800,2, -999.000,9, -999.000,9, -999.000,9, -999.000,9,    1.740,2,    0.942,2, -999.000,9, 2027.000,2, 2369.100,2
           NA,     A06,    200,   1,-999.0,      31,  2,19930305,0957,   8.3102,  -14.4268,  1022,   48.600,   17.580,   35.657,2,   35.654,2,   87.400,2,   81.900,2,    6.490,2,   17.780,2,    0.130,2,    1.230,2,    1.353,2,    0.743,2, -999.000,9, 2242.500,2, 2414.300,2
           NA,     A06,    200,   1,-999.0,      30,  2,19930305,0957,   8.3102,  -14.4268,  1022,   68.700,   16.022,   35.618,2, -999.000,3,   74.300,2,   75.400,2,    7.730,2,   21.920,2,    0.020,2,    1.430,2,    1.231,2,    0.655,2, -999.000,9, 2233.500,2, 2387.200,2
           NA,     A06,    200,   1,-999.0,      29,  2,19930305,0957,   8.3102,  -14.4268,  1022,   94.600,   15.433,   35.561,2,   35.565,2,   71.800,2,   73.600,2,    8.040,2,   23.300,2,    0.010,2,    1.500,2,    1.133,2,    0.592,2, -999.000,9, 2245.900,2, 2395.600,2
           NA,     A06,    200,   1,-999.0,      28,  2,19930305,0957,   8.3102,  -14.4268,  1022,  193.600,   13.894,   35.403,2,   35.405,2,   71.500,2,   72.500,2,    9.140,2,   25.650,2,    0.000,2,    1.600,2,    0.860,2,    0.440,2, -999.000,9, -999.000,3, -999.000,3
           NA,     A06,    200,   1,-999.0,      27,  2,19930305,0957,   8.3102,  -14.4268,  1022,  391.900,   10.732,   35.148,2,   35.150,2,   58.900,2,   53.700,2,   13.920,2,   33.290,2,    0.000,2,    1.960,2,    0.326,2,    0.162,2, -999.000,9, -999.000,3, -999.000,3
           NA,     A06,    200,   1,-999.0,      26,  2,19930305,0957,   8.3102,  -14.4268,  1022,  592.200,    7.331,   34.774,2,   34.776,2,   66.900,2,   70.100,2,   22.260,2,   39.040,2,    0.000,2,    2.370,2,    0.027,2,    0.011,2, -999.000,9, 2283.600,2, 2349.300,2
           NA,     A06,    200,   1,-999.0,      25,  2,19930305,0957,   8.3102,  -14.4268,  1022,  791.900,    5.863,   34.695,2,   34.694,2,  100.000,2,  101.400,2,   27.220,2,   37.620,2,    0.000,2,    2.380,2,    0.017,2,    0.005,2, -999.000,9, 2274.100,2, 2349.000,2
           NA,     A06,    200,   1,-999.0,       1,  2,19930305,0957,   8.3102,  -14.4268,  1022,  997.500,    5.078,   34.746,2, -999.000,9,  134.600,2, -999.000,9,   28.130,2,   33.840,2,    0.000,2,    2.200,2,    0.007,2,    0.002,2, -999.000,9, -999.000,9, -999.000,9
           NA,     A06,    200,   1,-999.0,      23,  2,19930305,0957,   8.3102,  -14.4268,  1022,  997.500,    5.078,   34.746,2,   34.750,2,  134.600,2,  136.400,2,   28.130,2,   33.840,2,    0.000,2,    2.200,2,    0.004,2, -999.000,3, -999.000,9, 2269.300,2, 2363.500,2
           NA,     A06,    200,   1,-999.0,      24,  2,19930305,0957,   8.3102,  -14.4268,  1022,  997.800,    5.076,   34.747,2,   34.748,2,  134.600,2,  135.500,2,   28.220,2,   33.910,2,    0.000,2,    2.190,2,    0.003,2,    0.000,2, -999.000,9, 2270.800,2, 2371.600,2
           NA,     A06,    201,   1,-999.0,      10,  2,19930305,1242,   8.3317,  -14.4040,   767,    1.600,   25.734,   35.080,2, -999.000,3,  206.700,2,  205.500,2,    1.790,2,    0.000,2,    0.050,2,    0.060,2, -999.000,3, -999.000,3, -999.000,9, -999.000,9, -999.000,9
           NA,     A06,    201,   1,-999.0,       9,  2,19930305,1242,   8.3317,  -14.4040,   767,   14.800,   25.510,   35.090,2, -999.000,3,  201.400,2, -999.000,3,    1.790,2,    0.280,2,    0.300,2,    0.130,2, -999.000,3, -999.000,3, -999.000,9, -999.000,9, -999.000,9
           NA,     A06,    201,   1,-999.0,       8,  2,19930305,1242,   8.3317,  -14.4040,   767,   43.400,   18.272,   35.635,2,   35.636,2,   96.500,2, -999.000,3,    5.920,2,   15.640,2,    0.070,2,    1.100,2, -999.000,3, -999.000,3, -999.000,9, -999.000,9, -999.000,9
           NA,     A06,    201,   1,-999.0,       7,  2,19930305,1242,   8.3317,  -14.4040,   767,   68.200,   16.749,   35.640,2, -999.000,3,   77.200,2,   75.600,2,    7.350,2,   20.830,2,    0.010,2,    1.370,2,    1.296,2,    0.676,2, -999.000,9, -999.000,9, -999.000,9
           NA,     A06,    201,   1,-999.0,       6,  2,19930305,1242,   8.3317,  -14.4040,   767,   94.500,   15.586,   35.572,2, -999.000,3,   73.200,2,   72.900,2,    8.050,2,   22.980,2,    0.000,2,    1.480,2,    1.136,2,    0.595,2, -999.000,9, -999.000,9, -999.000,9
           NA,     A06,    201,   1,-999.0,       5,  2,19930305,1242,   8.3317,  -14.4040,   767,  193.800,   13.774,   35.397,2, -999.000,3,   72.000,2,   73.200,2,    9.240,2,   25.540,2,    0.000,2,    1.590,2,    0.857,2,    0.427,2, -999.000,9, -999.000,9, -999.000,9
           NA,     A06,    201,   1,-999.0,       4,  2,19930305,1242,   8.3317,  -14.4040,   767,  293.900,   12.009,   35.223,2, -999.000,3,   72.900,2,   70.800,2,   11.950,2,   29.030,2,    0.000,2,    1.770,2,    0.593,2,    0.293,2, -999.000,9, -999.000,9, -999.000,9
           NA,     A06,    201,   1,-999.0,       3,  2,19930305,1242,   8.3317,  -14.4040,   767,  393.400,   10.236,   35.080,2,   35.076,2,   54.300,2,   53.900,2,   15.540,2,   34.140,2,    0.000,2,    2.050,2,    0.269,2,    0.132,2, -999.000,9, -999.000,9, -999.000,9
           NA,     A06,    201,   1,-999.0,       2,  2,19930305,1242,   8.3317,  -14.4040,   767,  593.000,    6.946,   34.748,2,   34.743,2,   75.500,2,   78.200,2,   23.460,2,   38.430,2,    0.000,2,    2.390,2,    0.021,2,    0.006,2, -999.000,9, -999.000,9, -999.000,9
           NA,     A06,    201,   1,-999.0,       1,  2,19930305,1242,   8.3317,  -14.4040,   767,  747.200,    5.869,   34.695,2,   34.696,2,  100.600,2,  103.500,2,   27.040,2,   37.010,2,    0.000,2,    2.380,2,    0.007,2,    0.000,2, -999.000,9, -999.000,9, -999.000,9
           NA,     A06,    202,   1,-999.0,      10,  2,19930305,1421,   8.3322,  -14.3903,   491,    0.600,   25.693,   35.101,2, -999.000,3,  207.100,2,  205.600,2,    1.850,2,    0.040,2,    0.000,2,    0.090,2,    1.771,2,    0.957,2, -999.000,9, 2018.700,2, 2361.500,2
           NA,     A06,    202,   1,-999.0,       9,  2,19930305,1421,   8.3322,  -14.3903,   491,   15.500,   20.832,   35.536,2, -999.000,3,  192.400,2, -999.000,3,    2.400,2,    4.370,2,    0.440,2,    0.530,2,    1.410,2,    0.729,2, -999.000,9, 2153.600,2, 2404.900,2
           NA,     A06,    202,   1,-999.0,       8,  2,19930305,1421,   8.3322,  -14.3903,   491,   24.400,   18.660,   35.630,2,   35.630,2,  160.700,2, -999.000,3,    4.940,2,   12.590,2,    0.410,2,    0.990,2, -999.000,9, -999.000,9, -999.000,9, 2198.200,2, 2392.800,2
           NA,     A06,    202,   1,-999.0,       7,  2,19930305,1421,   8.3322,  -14.3903,   491,   34.500,   18.331,   35.627,2, -999.000,3,  118.600,2, -999.000,3,    5.810,2,   14.430,2,    0.320,2,    1.110,2,    1.350,2,    0.708,2, -999.000,9, 2217.100,2, 2398.300,2
           NA,     A06,    202,   1,-999.0,       6,  2,19930305,1421,   8.3322,  -14.3903,   491,   44.000,   17.366,   35.655,2,   35.651,2,   94.400,2, -999.000,3,    6.910,2,   18.080,2,    0.080,2,    1.310,2, -999.000,9, -999.000,9, -999.000,9, 2232.300,2, 2398.800,2
           NA,     A06,    202,   1,-999.0,       5,  2,19930305,1421,   8.3322,  -14.3903,   491,   93.900,   14.915,   35.509,2,   35.508,2,   73.100,2,   72.200,2,    8.460,2,   23.780,2,    0.010,2,    1.550,2,    1.051,2,    0.534,2, -999.000,9, 2240.100,2, 2383.700,2
           NA,     A06,    202,   1,-999.0,       4,  2,19930305,1421,   8.3322,  -14.3903,   491,  193.400,   13.714,   35.376,2, -999.000,3,   72.000,2,   72.600,2,    9.550,2,   25.630,2,    0.000,2,    1.630,2,    0.843,2,    0.419,2, -999.000,9, 2253.400,2, 2386.900,2
           NA,     A06,    202,   1,-999.0,       3,  2,19930305,1421,   8.3322,  -14.3903,   491,  293.500,   11.687,   35.185,2,   35.188,2,   71.400,2,   68.500,2,   12.590,2,   29.590,2,    0.000,2,    1.830,2,    0.552,2,    0.267,2, -999.000,9, 2260.600,2, 2368.500,2
           NA,     A06,    202,   1,-999.0,       2,  2,19930305,1421,   8.3322,  -14.3903,   491,  391.500,   10.058,   35.037,2, -999.000,3,   55.500,2,   54.200,2,   16.060,2,   34.250,2,    0.000,2,    2.090,2,    0.266,2,    0.116,2, -999.000,9, 2278.300,2, 2358.900,2
           NA,     A06,    202,   1,-999.0,       1,  2,19930305,1421,   8.3322,  -14.3903,   491,  454.900,    9.321,   34.950,2, -999.000,3,   54.400,2,   54.900,2,   17.720,2,   35.290,2,    0.000,2,    2.190,2,    0.164,2, -999.000,3, -999.000,9, 2286.200,2, 2360.300,2