BOTTLE,20214525JOAExport
EXPOCODE,SECT_ID,STNNBR,CASTNO,SAMPNO,BTLNBR,BTLNBR_FLAG_W,DATE,TIME,LATITUDE,LONGITUDE,DEPTH,CTDPRS,CTDTMP,CTDSAL,CTDSAL_FLAG_W,SALNTY,SALNTY_FLAG_W,CTDOXY,CTDOXY_FLAG_W,OXYGEN,OXYGEN_FLAG_W,SILCAT,SILCAT_FLAG_W,NITRAT,NITRAT_FLAG_W,NITRIT,NITRIT_FLAG_W,PHSPHT,PHSPHT_FLAG_W,CFC-11,CFC-11_FLAG_W,CFC-12,CFC-12_FLAG_W,SF6,SF6_FLAG_W,TCARBN,TCARBN_FLAG_W,ALKALI,ALKALI_FLAG_W
,,,,,,,,,,,,DB,ITS-90,PSS-78,,PSS-78,,UMOL/KG,,UMOL/KG,,UMOL/KG,,UMOL/KG,,UMOL/KG,,UMOL/KG,,PMOL/KG,,PMOL/KG,,FMOL/KG,,UMOL/KG,,UMOL/KG
           NA,    AR19,     34,   1,      24,  300842,  2,19980509,1918,  46.5433,  -29.1433,    10,     11.1,  13.9295,  35.8241,2,  35.8234,2, -999.000,9,    269.5,2, -999.000,9, -999.000,9, -999.000,9, -999.000,9, -999.000,9, -999.000,9, -999.000,9, -999.000,9, -999.000,9
           NA,    AR19,     34,   1,      23,  300841,  2,19980509,1918,  46.5433,  -29.1433,    10,     49.7,  13.6639,  35.7980,2,  35.7954,2, -999.000,9,    257.1,2, -999.000,9, -999.000,9, -999.000,9, -999.000,9, -999.000,9, -999.000,9, -999.000,9, -999.000,9, -999.000,9
           NA,    AR19,     34,   1,      22,  300840,  2,19980509,1918,  46.5433,  -29.1433,    10,    100.6,  13.3308,  35.7708,2,  35.7695,2, -999.000,9,    259.6,2, -999.000,9, -999.000,9, -999.000,9, -999.000,9, -999.000,9, -999.000,9, -999.000,9, -999.000,9, -999.000,9
           NA,    AR19,     34,   1,      21,  300839,  2,19980509,1918,  46.5433,  -29.1433,    10,    199.1,  12.6436,  35.6457,2,  35.6461,2, -999.000,9,    250.2,2, -999.000,9, -999.000,9, -999.000,9, -999.000,9, -999.000,9, -999.000,9, -999.000,9, -999.000,9, -999.000,9
           NA,    AR19,     34,   1,      20,  300838,  2,19980509,1918,  46.5433,  -29.1433,    10,    398.9,  10.6819,  35.3937,2,  35.3904,2, -999.000,9,    200.8,2, -999.000,9, -999.000,9, -999.000,9, -999.000,9, -999.000,9, -999.000,9, -999.000,9, -999.000,9, -999.000,9
           NA,    AR19,     34,   1,      19,  300837,  2,19980509,1918,  46.5433,  -29.1433,    10,    598.2,   8.2789,  35.1378,2,  35.1370,2, -999.000,9,    184.4,2, -999.000,9, -999.000,9, -999.000,9, -999.000,9, -999.000,9, -999.000,9, -999.000,9, -999.000,9, -999.000,9
           NA,    AR19,     34,   1,      18,  300836,  2,19980509,1918,  46.5433,  -29.1433,    10,    648.5,   7.7300,  35.1066,2,  35.1070,2, -999.000,9,    190.1,2, -999.000,9, -999.000,9, -999.000,9, -999.000,9, -999.000,9, -999.000,9, -999.000,9, -999.000,9, -999.000,9
           NA,    AR19,     34,   1,      17,  300835,  2,19980509,1918,  46.5433,  -29.1433,    10,    727.7,   7.2889,  35.1424,2,  35.1403,2, -999.000,9,    197.2,2, -999.000,9, -999.000,9, -999.000,9, -999.000,9, -999.000,9, -999.000,9, -999.000,9, -999.000,9, -999.000,9
           NA,    AR19,     34,   1,      16,  300834,  2,19980509,1918,  46.5433,  -29.1433,    10,    799.4,   6.3056,  35.0793,2,  35.0779,2, -999.000,9,    210.5,2, -999.000,9, -999.000,9, -999.000,9, -999.000,9, -999.000,9, -999.000,9, -999.000,9, -999.000,9, -999.000,9
           NA,    AR19,     34,   1,      15,  300833,  2,19980509,1918,  46.5433,  -29.1433,    10,    899.2,   5.6836,  35.0662,2,  35.0655,2, -999.000,9,    226.9,2, -999.000,9, -999.000,9, -999.000,9, -999.000,9, -999.000,9, -999.000,9, -999.000,9, -999.000,9, -999.000,9
           NA,    AR19,     34,   1,      14,  300832,  2,19980509,1918,  46.5433,  -29.1433,    10,    998.8,   4.9785,  35.0115,2,  35.0123,2, -999.000,9,    241.0,2, -999.000,9, -999.000,9, -999.000,9, -999.000,9, -999.000,9, -999.000,9, -999.000,9, -999.000,9, -999.000,9
           NA,    AR19,     34,   1,      13,  300831,  2,19980509,1918,  46.5433,  -29.1433,    10,   1197.2,   4.2663,  34.9618,2,  34.9617,2, -999.000,9,    259.3,2, -999.000,9, -999.000,9, -999.000,9, -999.000,9, -999.000,9, -999.000,9, -999.000,9, -999.000,9, -999.000,9
           NA,    AR19,     34,   1,      12,  300830,  2,19980509,1918,  46.5433,  -29.1433,    10,   1396.8,   3.8476,  34.9348,2,  34.9354,2, -999.000,9,    268.6,2, -999.000,9, -999.000,9, -999.000,9, -999.000,9, -999.000,9, -999.000,9, -999.000,9, -999.000,9, -999.000,9
           NA,    AR19,     34,   1,      11,  300829,  2,19980509,1918,  46.5433,  -29.1433,    10,   1496.2,   3.7058,  34.9210,2,  34.9212,2, -999.000,9,    272.3,2, -999.000,9, -999.000,9, -999.000,9, -999.000,9, -999.000,9, -999.000,9, -999.000,9, -999.000,9, -999.000,9
           NA,    AR19,     34,   1,      10,  300828,  2,19980509,1918,  46.5433,  -29.1433,    10,   1646.5,   3.5416,  34.9099,2,  34.9097,2, -999.000,9,    275.6,2, -999.000,9, -999.000,9, -999.000,9, -999.000,9, -999.000,9, -999.000,9, -999.000,9, -999.000,9, -999.000,9
           NA,    AR19,     34,   1,       9,  300827,  2,19980509,1918,  46.5433,  -29.1433,    10,   1796.2,   3.4812,  34.9145,2,  34.9155,2, -999.000,9,    274.8,2, -999.000,9, -999.000,9, -999.000,9, -999.000,9, -999.000,9, -999.000,9, -999.000,9, -999.000,9, -999.000,9
           NA,    AR19,     34,   1,       8,  300826,  2,19980509,1918,  46.5433,  -29.1433,    10,   1998.0,   3.4042,  34.9235,2,  34.9227,2, -999.000,9,    273.1,2, -999.000,9, -999.000,9, -999.000,9, -999.000,9, -999.000,9, -999.000,9, -999.000,9, -999.000,9, -999.000,9
           NA,    AR19,     34,   1,       7,  300825,  2,19980509,1918,  46.5433,  -29.1433,    10,   2197.9,   3.3084,  34.9223,2,  34.9223,2, -999.000,9,    273.5,2, -999.000,9, -999.000,9, -999.000,9, -999.000,9, -999.000,9, -999.000,9, -999.000,9, -999.000,9, -999.000,9
           NA,    AR19,     34,   1,       6,  300824,  2,19980509,1918,  46.5433,  -29.1433,    10,   2399.1,   3.2085,  34.9218,2,  34.9223,2, -999.000,9,    273.4,2, -999.000,9, -999.000,9, -999.000,9, -999.000,9, -999.000,9, -999.000,9, -999.000,9, -999.000,9, -999.000,9
           NA,    AR19,     34,   1,       5,  300823,  2,19980509,1918,  46.5433,  -29.1433,    10,   2597.3,   3.1254,  34.9262,2,  34.9258,2, -999.000,9,    271.6,2, -999.000,9, -999.000,9, -999.000,9, -999.000,9, -999.000,9, -999.000,9, -999.000,9, -999.000,9, -999.000,9
           NA,    AR19,     34,   1,       4,  300822,  2,19980509,1918,  46.5433,  -29.1433,    10,   2798.4,   3.0355,  34.9280,2,  34.9275,2, -999.000,9,    271.8,2, -999.000,9, -999.000,9, -999.000,9, -999.000,9, -999.000,9, -999.000,9, -999.000,9, -999.000,9, -999.000,9
           NA,    AR19,     34,   1,       3,  300821,  2,19980509,1918,  46.5433,  -29.1433,    10,   2937.7,   2.9748,  34.9282,2,  34.9280,2, -999.000,9,    272.1,2, -999.000,9, -999.000,9, -999.000,9, -999.000,9, -999.000,9, -999.000,9, -999.000,9, -999.000,9, -999.000,9
           NA,    AR19,     34,   1,       2,  300820,  2,19980509,1918,  46.5433,  -29.1433,    10,   3001.5,   2.9524,  34.9284,2,  34.9282,2, -999.000,9,    275.4,2, -999.000,9, -999.000,9, -999.000,9, -999.000,9, -999.000,9, -999.000,9, -999.000,9, -999.000,9, -999.000,9
           NA,    AR19,     34,   1,       1,  300819,  2,19980509,1918,  46.5433,  -29.1433,    10,   3035.8,   2.9530,  34.9288,2,  34.9304,2, -999.000,9,    271.8,2, -999.000,9, -999.000,9, -999.000,9, -999.000,9, -999.000,9, -999.000,9, -999.000,9, -999.000,9, -999.000,9
           NA,    AR19,     33,   1,      24,  300818,  2,19980509,1300,  46.7350,  -28.2583,    12,     10.8,  13.9353,  35.8278,2,  35.8265,2, -999.000,9,    260.0,2, -999.000,9, -999.000,9, -999.000,9, -999.000,9, -999.000,9, -999.000,9, -999.000,9, -999.000,9, -999.000,9
           NA,    AR19,     33,   1,      23,  300817,  2,19980509,1300,  46.7350,  -28.2583,    12,     51.2,  13.8588,  35.8301,2,  35.8285,2, -999.000,9,    260.0,2, -999.000,9, -999.000,9, -999.000,9, -999.000,9, -999.000,9, -999.000,9, -999.000,9, -999.000,9, -999.000,9
           NA,    AR19,     33,   1,      22,  300816,  2,19980509,1300,  46.7350,  -28.2583,    12,     99.5,  13.5331,  35.8012,2,  35.8002,2, -999.000,9,    241.9,2, -999.000,9, -999.000,9, -999.000,9, -999.000,9, -999.000,9, -999.000,9, -999.000,9, -999.000,9, -999.000,9
           NA,    AR19,     33,   1,      21,  300815,  2,19980509,1300,  46.7350,  -28.2583,    12,    200.1,  12.9163,  35.6978,2,  35.6974,2, -999.000,9,   -999.0,3, -999.000,9, -999.000,9, -999.000,9, -999.000,9, -999.000,9, -999.000,9, -999.000,9, -999.000,9, -999.000,9
           NA,    AR19,     33,   1,      20,  300814,  2,19980509,1300,  46.7350,  -28.2583,    12,    299.7,  12.1858,  35.5663,2,  35.5637,2, -999.000,9,    230.3,2, -999.000,9, -999.000,9, -999.000,9, -999.000,9, -999.000,9, -999.000,9, -999.000,9, -999.000,9, -999.000,9
           NA,    AR19,     33,   1,      19,  300813,  2,19980509,1300,  46.7350,  -28.2583,    12,    399.2,  11.1952,  35.4475,2,  35.4460,2, -999.000,9,    206.6,2, -999.000,9, -999.000,9, -999.000,9, -999.000,9, -999.000,9, -999.000,9, -999.000,9, -999.000,9, -999.000,9
           NA,    AR19,     33,   1,      18,  300812,  2,19980509,1300,  46.7350,  -28.2583,    12,    597.7,   9.0356,  35.2012,2,  35.1992,2, -999.000,9,    189.5,2, -999.000,9, -999.000,9, -999.000,9, -999.000,9, -999.000,9, -999.000,9, -999.000,9, -999.000,9, -999.000,9
           NA,    AR19,     33,   1,      17,  300811,  2,19980509,1300,  46.7350,  -28.2583,    12,    699.3,   7.8138,  35.1223,2,  35.1200,2, -999.000,9,    187.7,2, -999.000,9, -999.000,9, -999.000,9, -999.000,9, -999.000,9, -999.000,9, -999.000,9, -999.000,9, -999.000,9
           NA,    AR19,     33,   1,      16,  300810,  2,19980509,1300,  46.7350,  -28.2583,    12,    828.5,   6.8965,  35.1222,2,  35.1255,2, -999.000,9,    202.0,2, -999.000,9, -999.000,9, -999.000,9, -999.000,9, -999.000,9, -999.000,9, -999.000,9, -999.000,9, -999.000,9
           NA,    AR19,     33,   1,      15,  300809,  2,19980509,1300,  46.7350,  -28.2583,    12,    898.1,   6.2223,  35.0749,2,  35.0749,2, -999.000,9,    213.6,2, -999.000,9, -999.000,9, -999.000,9, -999.000,9, -999.000,9, -999.000,9, -999.000,9, -999.000,9, -999.000,9
           NA,    AR19,     33,   1,      14,  300808,  2,19980509,1300,  46.7350,  -28.2583,    12,    999.0,   5.4605,  35.0393,2,  35.0381,2, -999.000,9,    229.4,2, -999.000,9, -999.000,9, -999.000,9, -999.000,9, -999.000,9, -999.000,9, -999.000,9, -999.000,9, -999.000,9
           NA,    AR19,     33,   1,      13,  300807,  2,19980509,1300,  46.7350,  -28.2583,    12,   1096.7,   5.0059,  35.0177,2,  35.0173,2, -999.000,9,    240.3,2, -999.000,9, -999.000,9, -999.000,9, -999.000,9, -999.000,9, -999.000,9, -999.000,9, -999.000,9, -999.000,9
           NA,    AR19,     33,   1,      12,  300806,  2,19980509,1300,  46.7350,  -28.2583,    12,   1245.5,   4.4431,  34.9877,2,  34.9884,2, -999.000,9,    254.1,2, -999.000,9, -999.000,9, -999.000,9, -999.000,9, -999.000,9, -999.000,9, -999.000,9, -999.000,9, -999.000,9
           NA,    AR19,     33,   1,      11,  300805,  2,19980509,1300,  46.7350,  -28.2583,    12,   1495.3,   3.9597,  34.9525,2,  34.9533,2, -999.000,9,    266.3,2, -999.000,9, -999.000,9, -999.000,9, -999.000,9, -999.000,9, -999.000,9, -999.000,9, -999.000,9, -999.000,9
           NA,    AR19,     33,   1,      10,  300804,  2,19980509,1300,  46.7350,  -28.2583,    12,   1696.1,   3.6763,  34.9317,2,  34.9321,2, -999.000,9,    269.6,2, -999.000,9, -999.000,9, -999.000,9, -999.000,9, -999.000,9, -999.000,9, -999.000,9, -999.000,9, -999.000,9
           NA,    AR19,     33,   1,       9,  300803,  2,19980509,1300,  46.7350,  -28.2583,    12,   1998.0,   3.5015,  34.9285,2,  34.9285,2, -999.000,9,    269.7,2, -999.000,9, -999.000,9, -999.000,9, -999.000,9, -999.000,9, -999.000,9, -999.000,9, -999.000,9, -999.000,9
           NA,    AR19,     33,   1,       8,  300802,  2,19980509,1300,  46.7350,  -28.2583,    12,   2197.9,   3.4384,  34.9250,2,  34.9246,2, -999.000,9,    270.6,2, -999.000,9, -999.000,9, -999.000,9, -999.000,9, -999.000,9, -999.000,9, -999.000,9, -999.000,9, -999.000,9
           NA,    AR19,     33,   1,       7,  300801,  2,19980509,1300,  46.7350,  -28.2583,    12,   2397.5,   3.3355,  34.9212,2,  34.9214,2, -999.000,9,    272.0,2, -999.000,9, -999.000,9, -999.000,9, -999.000,9, -999.000,9, -999.000,9, -999.000,9, -999.000,9, -999.000,9
           NA,    AR19,     33,   1,       6,  300800,  2,19980509,1300,  46.7350,  -28.2583,    12,   2598.2,   3.2443,  34.9212,2,  34.9216,2, -999.000,9,    271.9,2, -999.000,9, -999.000,9, -999.000,9, -999.000,9, -999.000,9, -999.000,9, -999.000,9, -999.000,9, -999.000,9
           NA,    AR19,     33,   1,       5,  300799,  2,19980509,1300,  46.7350,  -28.2583,    12,   2800.1,   3.1228,  34.9268,2,  34.9267,2, -999.000,9,    271.1,2, -999.000,9, -999.000,9, -999.000,9, -999.000,9, -999.000,9, -999.000,9, -999.000,9, -999.000,9, -999.000,9
           NA,    AR19,     33,   1,       4,  300798,  2,19980509,1300,  46.7350,  -28.2583,    12,   3000.2,   3.0501,  34.9282,2,  34.9270,2, -999.000,9,    270.5,2, -999.000,9, -999.000,9, -999.000,9, -999.000,9, -999.000,9, -999.000,9, -999.000,9, -999.000,9, -999.000,9
           NA,    AR19,     33,   1,       3,  300797,  2,19980509,1300,  46.7350,  -28.2583,    12,   3329.9,   2.9936,  34.9306,2,  34.9279,2, -999.000,9,    270.0,2, -999.000,9, -999.000,9, -999.000,9, -999.000,9, -999.000,9, -999.000,9, -999.000,9, -999.000,9, -999.000,9
           NA,    AR19,     33,   1,       2,  300796,  2,19980509,1300,  46.7350,  -28.2583,    12,   3399.2,   3.0004,  34.9304,2,  34.9301,2, -999.000,9,    270.0,2, -999.000,9, -999.000,9, -999.000,9, -999.000,9, -999.000,9, -999.000,9, -999.000,9, -999.000,9, -999.000,9
           NA,    AR19,     33,   1,       1,  300795,  2,19980509,1300,  46.7350,  -28.2583,    12,   3420.9,   3.0020,  34.9302,2,  34.9308,2, -999.000,9,    270.0,2, -999.000,9, -999.000,9, -999.000,9, -999.000,9, -999.000,9, -999.000,9, -999.000,9, -999.000,9, -999.000,9