BOTTLE,20214525JOAExport
EXPOCODE,SECT_ID,STNNBR,CASTNO,SAMPNO,BTLNBR,BTLNBR_FLAG_W,DATE,TIME,LATITUDE,LONGITUDE,DEPTH,CTDPRS,CTDTMP,CTDSAL,CTDSAL_FLAG_W,SALNTY,SALNTY_FLAG_W,CTDOXY,CTDOXY_FLAG_W,OXYGEN,OXYGEN_FLAG_W,SILCAT,SILCAT_FLAG_W,NITRAT,NITRAT_FLAG_W,NITRIT,NITRIT_FLAG_W,PHSPHT,PHSPHT_FLAG_W,CFC-11,CFC-11_FLAG_W,CFC-12,CFC-12_FLAG_W,SF6,SF6_FLAG_W,TCARBN,TCARBN_FLAG_W,ALKALI,ALKALI_FLAG_W
,,,,,,,,,,,,DB,ITS-90,PSS-78,,PSS-78,,UMOL/KG,,UMOL/KG,,UMOL/KG,,UMOL/KG,,UMOL/KG,,UMOL/KG,,PMOL/KG,,PMOL/KG,,FMOL/KG,,UMOL/KG,,UMOL/KG
           NA,    AR19,     23,   1,      24,  300554,  2,19980507,0840,  47.5583,  -23.0883,    10,      9.0,  12.7775,  35.6317,2,  35.6314,2, -999.000,9,    268.5,2, -999.000,9, -999.000,9, -999.000,9, -999.000,9, -999.000,9, -999.000,9, -999.000,9, -999.000,9, -999.000,9
           NA,    AR19,     23,   1,      23,  300553,  2,19980507,0840,  47.5583,  -23.0883,    10,     45.7,  12.2104,  35.6171,2,  35.6153,2, -999.000,9,    263.3,2, -999.000,9, -999.000,9, -999.000,9, -999.000,9, -999.000,9, -999.000,9, -999.000,9, -999.000,9, -999.000,9
           NA,    AR19,     23,   1,      22,  300552,  2,19980507,0840,  47.5583,  -23.0883,    10,     98.9,  11.5548,  35.4891,2,  35.4893,2, -999.000,9,    257.3,2, -999.000,9, -999.000,9, -999.000,9, -999.000,9, -999.000,9, -999.000,9, -999.000,9, -999.000,9, -999.000,9
           NA,    AR19,     23,   1,      21,  300551,  2,19980507,0840,  47.5583,  -23.0883,    10,    198.8,  11.2401,  35.4551,2,  35.4567,2, -999.000,9,    251.1,2, -999.000,9, -999.000,9, -999.000,9, -999.000,9, -999.000,9, -999.000,9, -999.000,9, -999.000,9, -999.000,9
           NA,    AR19,     23,   1,      20,  300550,  2,19980507,0840,  47.5583,  -23.0883,    10,    398.7,  10.6281,  35.4132,2,  35.4118,2, -999.000,9,    220.9,2, -999.000,9, -999.000,9, -999.000,9, -999.000,9, -999.000,9, -999.000,9, -999.000,9, -999.000,9, -999.000,9
           NA,    AR19,     23,   1,      19,  300549,  2,19980507,0840,  47.5583,  -23.0883,    10,    598.8,   8.8259,  35.2391,2,  35.2399,2, -999.000,9,    203.1,2, -999.000,9, -999.000,9, -999.000,9, -999.000,9, -999.000,9, -999.000,9, -999.000,9, -999.000,9, -999.000,9
           NA,    AR19,     23,   1,      18,  300548,  2,19980507,0840,  47.5583,  -23.0883,    10,    796.5,   7.0917,  35.1880,2,  35.1895,2, -999.000,9,    206.6,2, -999.000,9, -999.000,9, -999.000,9, -999.000,9, -999.000,9, -999.000,9, -999.000,9, -999.000,9, -999.000,9
           NA,    AR19,     23,   1,      17,  300547,  2,19980507,0840,  47.5583,  -23.0883,    10,    997.1,   6.0369,  35.1901,2,-999.0000,3, -999.000,9,    227.7,2, -999.000,9, -999.000,9, -999.000,9, -999.000,9, -999.000,9, -999.000,9, -999.000,9, -999.000,9, -999.000,9
           NA,    AR19,     23,   1,      16,  300546,  2,19980507,0840,  47.5583,  -23.0883,    10,   1246.7,   4.2822,  34.9708,2,  34.9727,2, -999.000,9,    258.4,2, -999.000,9, -999.000,9, -999.000,9, -999.000,9, -999.000,9, -999.000,9, -999.000,9, -999.000,9, -999.000,9
           NA,    AR19,     23,   1,      15,  300545,  2,19980507,0840,  47.5583,  -23.0883,    10,   1488.4,   3.6981,  34.9106,2,  34.9112,2, -999.000,9,    274.0,2, -999.000,9, -999.000,9, -999.000,9, -999.000,9, -999.000,9, -999.000,9, -999.000,9, -999.000,9, -999.000,9
           NA,    AR19,     23,   1,      14,  300544,  2,19980507,0840,  47.5583,  -23.0883,    10,   1747.8,   3.4040,  34.8910,2,  34.8901,2, -999.000,9,    282.6,2, -999.000,9, -999.000,9, -999.000,9, -999.000,9, -999.000,9, -999.000,9, -999.000,9, -999.000,9, -999.000,9
           NA,    AR19,     23,   1,      13,  300543,  2,19980507,0840,  47.5583,  -23.0883,    10,   1997.8,   3.2649,  34.8873,2,  34.8869,2, -999.000,9,    288.4,2, -999.000,9, -999.000,9, -999.000,9, -999.000,9, -999.000,9, -999.000,9, -999.000,9, -999.000,9, -999.000,9
           NA,    AR19,     23,   1,      12,  300542,  2,19980507,0840,  47.5583,  -23.0883,    10,   2246.3,   3.2510,  34.9081,2,  34.9075,2, -999.000,9,    279.5,2, -999.000,9, -999.000,9, -999.000,9, -999.000,9, -999.000,9, -999.000,9, -999.000,9, -999.000,9, -999.000,9
           NA,    AR19,     23,   1,      11,  300541,  2,19980507,0840,  47.5583,  -23.0883,    10,   2499.7,   3.1520,  34.9286,2,  34.9285,2, -999.000,9,    277.6,2, -999.000,9, -999.000,9, -999.000,9, -999.000,9, -999.000,9, -999.000,9, -999.000,9, -999.000,9, -999.000,9
           NA,    AR19,     23,   1,      10,  300540,  2,19980507,0840,  47.5583,  -23.0883,    10,   2748.1,   3.0233,  34.9406,2,  34.9412,2, -999.000,9,    269.7,2, -999.000,9, -999.000,9, -999.000,9, -999.000,9, -999.000,9, -999.000,9, -999.000,9, -999.000,9, -999.000,9
           NA,    AR19,     23,   1,       9,  300539,  2,19980507,0840,  47.5583,  -23.0883,    10,   2997.0,   2.9116,  34.9421,2,  34.9417,2, -999.000,9,    262.8,2, -999.000,9, -999.000,9, -999.000,9, -999.000,9, -999.000,9, -999.000,9, -999.000,9, -999.000,9, -999.000,9
           NA,    AR19,     23,   1,       8,  300538,  2,19980507,0840,  47.5583,  -23.0883,    10,   3249.4,   2.8324,  34.9402,2,  34.9400,2, -999.000,9,    261.9,2, -999.000,9, -999.000,9, -999.000,9, -999.000,9, -999.000,9, -999.000,9, -999.000,9, -999.000,9, -999.000,9
           NA,    AR19,     23,   1,       7,  300537,  2,19980507,0840,  47.5583,  -23.0883,    10,   3499.1,   2.7497,  34.9345,2,  34.9347,2, -999.000,9,    255.4,2, -999.000,9, -999.000,9, -999.000,9, -999.000,9, -999.000,9, -999.000,9, -999.000,9, -999.000,9, -999.000,9
           NA,    AR19,     23,   1,       6,  300536,  2,19980507,0840,  47.5583,  -23.0883,    10,   3751.4,   2.6935,  34.9282,2,  34.9290,2, -999.000,9,    250.1,2, -999.000,9, -999.000,9, -999.000,9, -999.000,9, -999.000,9, -999.000,9, -999.000,9, -999.000,9, -999.000,9
           NA,    AR19,     23,   1,       4,  300534,  2,19980507,0840,  47.5583,  -23.0883,    10,   4102.9,   2.6133,  34.9176,2,  34.9183,2, -999.000,9,    244.2,2, -999.000,9, -999.000,9, -999.000,9, -999.000,9, -999.000,9, -999.000,9, -999.000,9, -999.000,9, -999.000,9
           NA,    AR19,     23,   1,       3,  300533,  2,19980507,0840,  47.5583,  -23.0883,    10,   4200.7,   2.5937,  34.9142,2,  34.9146,2, -999.000,9,    243.2,2, -999.000,9, -999.000,9, -999.000,9, -999.000,9, -999.000,9, -999.000,9, -999.000,9, -999.000,9, -999.000,9
           NA,    AR19,     23,   1,       2,  300532,  2,19980507,0840,  47.5583,  -23.0883,    10,   4252.6,   2.5845,  34.9129,2,  34.9122,2, -999.000,9,    242.8,2, -999.000,9, -999.000,9, -999.000,9, -999.000,9, -999.000,9, -999.000,9, -999.000,9, -999.000,9, -999.000,9
           NA,    AR19,     22,   1,      24,  300530,  2,19980507,0257,  47.6267,  -22.6167,    11,     11.4,  12.5520,  35.6168,2,  35.6171,2, -999.000,9,    274.4,2, -999.000,9, -999.000,9, -999.000,9, -999.000,9, -999.000,9, -999.000,9, -999.000,9, -999.000,9, -999.000,9
           NA,    AR19,     22,   1,      23,  300529,  2,19980507,0257,  47.6267,  -22.6167,    11,     50.0,  12.2006,  35.6433,2,-999.0000,4, -999.000,9,   -999.0,3, -999.000,9, -999.000,9, -999.000,9, -999.000,9, -999.000,9, -999.000,9, -999.000,9, -999.000,9, -999.000,9
           NA,    AR19,     22,   1,      22,  300528,  2,19980507,0257,  47.6267,  -22.6167,    11,    100.4,  11.9603,  35.6013,2,  35.6009,2, -999.000,9,    257.6,2, -999.000,9, -999.000,9, -999.000,9, -999.000,9, -999.000,9, -999.000,9, -999.000,9, -999.000,9, -999.000,9
           NA,    AR19,     22,   1,      21,  300527,  2,19980507,0257,  47.6267,  -22.6167,    11,    200.2,  11.6419,  35.5563,2,  35.5562,2, -999.000,9,    256.1,2, -999.000,9, -999.000,9, -999.000,9, -999.000,9, -999.000,9, -999.000,9, -999.000,9, -999.000,9, -999.000,9
           NA,    AR19,     22,   1,      20,  300526,  2,19980507,0257,  47.6267,  -22.6167,    11,    399.6,  10.8105,  35.4648,2,  35.4652,2, -999.000,9,    229.6,2, -999.000,9, -999.000,9, -999.000,9, -999.000,9, -999.000,9, -999.000,9, -999.000,9, -999.000,9, -999.000,9
           NA,    AR19,     22,   1,      19,  300525,  2,19980507,0257,  47.6267,  -22.6167,    11,    593.2,   9.2632,  35.2997,2,  35.3030,2, -999.000,9,    200.4,2, -999.000,9, -999.000,9, -999.000,9, -999.000,9, -999.000,9, -999.000,9, -999.000,9, -999.000,9, -999.000,9
           NA,    AR19,     22,   1,      18,  300524,  2,19980507,0257,  47.6267,  -22.6167,    11,    747.6,   7.8478,  35.2239,2,  35.2234,2, -999.000,9,    197.0,2, -999.000,9, -999.000,9, -999.000,9, -999.000,9, -999.000,9, -999.000,9, -999.000,9, -999.000,9, -999.000,9
           NA,    AR19,     22,   1,      17,  300523,  2,19980507,0257,  47.6267,  -22.6167,    11,    897.6,   6.9070,  35.2266,2,  35.2233,2, -999.000,9,    209.6,2, -999.000,9, -999.000,9, -999.000,9, -999.000,9, -999.000,9, -999.000,9, -999.000,9, -999.000,9, -999.000,9
           NA,    AR19,     22,   1,      16,  300522,  2,19980507,0257,  47.6267,  -22.6167,    11,    996.8,   5.8257,  35.1184,2,  35.1177,2, -999.000,9,    225.7,2, -999.000,9, -999.000,9, -999.000,9, -999.000,9, -999.000,9, -999.000,9, -999.000,9, -999.000,9, -999.000,9
           NA,    AR19,     22,   1,      15,  300521,  2,19980507,0257,  47.6267,  -22.6167,    11,   1098.0,   5.4518,  35.1162,2,  35.1167,2, -999.000,9,    235.0,2, -999.000,9, -999.000,9, -999.000,9, -999.000,9, -999.000,9, -999.000,9, -999.000,9, -999.000,9, -999.000,9
           NA,    AR19,     22,   1,      14,  300520,  2,19980507,0257,  47.6267,  -22.6167,    11,   1249.6,   4.7529,  35.0409,2,  35.0420,2, -999.000,9,    254.9,2, -999.000,9, -999.000,9, -999.000,9, -999.000,9, -999.000,9, -999.000,9, -999.000,9, -999.000,9, -999.000,9
           NA,    AR19,     22,   1,      13,  300519,  2,19980507,0257,  47.6267,  -22.6167,    11,   1497.8,   3.8632,  34.9345,2,  34.9346,2, -999.000,9,    268.1,2, -999.000,9, -999.000,9, -999.000,9, -999.000,9, -999.000,9, -999.000,9, -999.000,9, -999.000,9, -999.000,9
           NA,    AR19,     22,   1,      12,  300518,  2,19980507,0257,  47.6267,  -22.6167,    11,   1797.7,   3.5157,  34.9067,2,  34.9070,2, -999.000,9,    276.9,2, -999.000,9, -999.000,9, -999.000,9, -999.000,9, -999.000,9, -999.000,9, -999.000,9, -999.000,9, -999.000,9
           NA,    AR19,     22,   1,      11,  300517,  2,19980507,0257,  47.6267,  -22.6167,    11,   1998.3,   3.3917,  34.9054,2,  34.9061,2, -999.000,9,    279.2,2, -999.000,9, -999.000,9, -999.000,9, -999.000,9, -999.000,9, -999.000,9, -999.000,9, -999.000,9, -999.000,9
           NA,    AR19,     22,   1,      10,  300516,  2,19980507,0257,  47.6267,  -22.6167,    11,   2245.4,   3.3372,  34.9272,2,  34.9270,2, -999.000,9,    275.2,2, -999.000,9, -999.000,9, -999.000,9, -999.000,9, -999.000,9, -999.000,9, -999.000,9, -999.000,9, -999.000,9
           NA,    AR19,     22,   1,       9,  300515,  2,19980507,0257,  47.6267,  -22.6167,    11,   2496.1,   3.2184,  34.9448,2,  34.9449,2, -999.000,9,    270.0,2, -999.000,9, -999.000,9, -999.000,9, -999.000,9, -999.000,9, -999.000,9, -999.000,9, -999.000,9, -999.000,9
           NA,    AR19,     22,   1,       8,  300514,  2,19980507,0257,  47.6267,  -22.6167,    11,   2747.7,   3.0575,  34.9523,2,  34.9530,2, -999.000,9,    263.8,2, -999.000,9, -999.000,9, -999.000,9, -999.000,9, -999.000,9, -999.000,9, -999.000,9, -999.000,9, -999.000,9
           NA,    AR19,     22,   1,       7,  300513,  2,19980507,0257,  47.6267,  -22.6167,    11,   3000.3,   2.8704,  34.9492,2,  34.9483,2, -999.000,9,    257.5,2, -999.000,9, -999.000,9, -999.000,9, -999.000,9, -999.000,9, -999.000,9, -999.000,9, -999.000,9, -999.000,9
           NA,    AR19,     22,   1,       6,  300512,  2,19980507,0257,  47.6267,  -22.6167,    11,   3249.3,   2.7357,  34.9387,2,  34.9387,2, -999.000,9,    252.6,2, -999.000,9, -999.000,9, -999.000,9, -999.000,9, -999.000,9, -999.000,9, -999.000,9, -999.000,9, -999.000,9
           NA,    AR19,     22,   1,       5,  300511,  2,19980507,0257,  47.6267,  -22.6167,    11,   3500.3,   2.6152,  34.9264,2,  34.9299,2, -999.000,9,    246.9,2, -999.000,9, -999.000,9, -999.000,9, -999.000,9, -999.000,9, -999.000,9, -999.000,9, -999.000,9, -999.000,9
           NA,    AR19,     22,   1,       4,  300510,  2,19980507,0257,  47.6267,  -22.6167,    11,   3748.9,   2.5576,  34.9180,2,  34.9168,2, -999.000,9,    243.1,2, -999.000,9, -999.000,9, -999.000,9, -999.000,9, -999.000,9, -999.000,9, -999.000,9, -999.000,9, -999.000,9
           NA,    AR19,     22,   1,       3,  300509,  2,19980507,0257,  47.6267,  -22.6167,    11,   3969.2,   2.5422,  34.9129,2,  34.9124,2, -999.000,9,    242.4,2, -999.000,9, -999.000,9, -999.000,9, -999.000,9, -999.000,9, -999.000,9, -999.000,9, -999.000,9, -999.000,9
           NA,    AR19,     22,   1,       2,  300508,  2,19980507,0257,  47.6267,  -22.6167,    11,   4040.0,   2.5368,  34.9112,2,  34.9114,2, -999.000,9,    242.1,2, -999.000,9, -999.000,9, -999.000,9, -999.000,9, -999.000,9, -999.000,9, -999.000,9, -999.000,9, -999.000,9
           NA,    AR19,     22,   1,       1,  300507,  2,19980507,0257,  47.6267,  -22.6167,    11,   4063.1,   2.5387,  34.9113,2,  34.9100,2, -999.000,9,    242.1,2, -999.000,9, -999.000,9, -999.000,9, -999.000,9, -999.000,9, -999.000,9, -999.000,9, -999.000,9, -999.000,9
           NA,    AR19,     21,   1,      24,  300506,  2,19980506,1810,  47.7800,  -21.6083,    21,     20.4,  12.9832,  35.6269,2,  35.6254,2, -999.000,9,    269.2,2, -999.000,9, -999.000,9, -999.000,9, -999.000,9, -999.000,9, -999.000,9, -999.000,9, -999.000,9, -999.000,9
           NA,    AR19,     21,   1,      23,  300505,  2,19980506,1810,  47.7800,  -21.6083,    21,     49.8,  12.2032,  35.5962,2,  35.5945,2, -999.000,9,    257.1,2, -999.000,9, -999.000,9, -999.000,9, -999.000,9, -999.000,9, -999.000,9, -999.000,9, -999.000,9, -999.000,9
           NA,    AR19,     21,   1,      22,  300504,  2,19980506,1810,  47.7800,  -21.6083,    21,    104.6,  12.0137,  35.5798,2,  35.5819,2, -999.000,9,    248.3,2, -999.000,9, -999.000,9, -999.000,9, -999.000,9, -999.000,9, -999.000,9, -999.000,9, -999.000,9, -999.000,9
           NA,    AR19,     21,   1,      21,  300503,  2,19980506,1810,  47.7800,  -21.6083,    21,    255.0,  11.4077,  35.4874,2,-999.0000,3, -999.000,9,   -999.0,3, -999.000,9, -999.000,9, -999.000,9, -999.000,9, -999.000,9, -999.000,9, -999.000,9, -999.000,9, -999.000,9
           NA,    AR19,     21,   1,      20,  300502,  2,19980506,1810,  47.7800,  -21.6083,    21,    404.6,  10.6163,  35.4003,2,  35.3999,2, -999.000,9,    227.8,2, -999.000,9, -999.000,9, -999.000,9, -999.000,9, -999.000,9, -999.000,9, -999.000,9, -999.000,9, -999.000,9
           NA,    AR19,     21,   1,      19,  300501,  2,19980506,1810,  47.7800,  -21.6083,    21,    709.5,   8.6370,  35.3480,2,-999.0000,3, -999.000,9,    194.5,2, -999.000,9, -999.000,9, -999.000,9, -999.000,9, -999.000,9, -999.000,9, -999.000,9, -999.000,9, -999.000,9
           NA,    AR19,     21,   1,      17,  300499,  2,19980506,1810,  47.7800,  -21.6083,    21,   1002.0,   5.4840,  35.0655,2,  35.0662,2, -999.000,9,    231.4,2, -999.000,9, -999.000,9, -999.000,9, -999.000,9, -999.000,9, -999.000,9, -999.000,9, -999.000,9, -999.000,9
           NA,    AR19,     21,   1,      16,  300498,  2,19980506,1810,  47.7800,  -21.6083,    21,   1237.7,   4.5666,  35.0025,2,  35.0082,2, -999.000,9,    252.6,2, -999.000,9, -999.000,9, -999.000,9, -999.000,9, -999.000,9, -999.000,9, -999.000,9, -999.000,9, -999.000,9
           NA,    AR19,     21,   1,      15,  300497,  2,19980506,1810,  47.7800,  -21.6083,    21,   1499.9,   3.8101,  34.9235,2,  34.9244,2, -999.000,9,    270.5,2, -999.000,9, -999.000,9, -999.000,9, -999.000,9, -999.000,9, -999.000,9, -999.000,9, -999.000,9, -999.000,9
           NA,    AR19,     21,   1,      14,  300496,  2,19980506,1810,  47.7800,  -21.6083,    21,   1698.0,   3.5785,  34.9036,2,  34.9044,2, -999.000,9,    276.9,2, -999.000,9, -999.000,9, -999.000,9, -999.000,9, -999.000,9, -999.000,9, -999.000,9, -999.000,9, -999.000,9
           NA,    AR19,     21,   1,      13,  300495,  2,19980506,1810,  47.7800,  -21.6083,    21,   1900.5,   3.4344,  34.9011,2,  34.9019,2, -999.000,9,    279.3,2, -999.000,9, -999.000,9, -999.000,9, -999.000,9, -999.000,9, -999.000,9, -999.000,9, -999.000,9, -999.000,9
           NA,    AR19,     21,   1,      12,  300494,  2,19980506,1810,  47.7800,  -21.6083,    21,   2095.9,   3.3488,  34.9079,2,  34.9084,2, -999.000,9,    278.9,2, -999.000,9, -999.000,9, -999.000,9, -999.000,9, -999.000,9, -999.000,9, -999.000,9, -999.000,9, -999.000,9
           NA,    AR19,     21,   1,      11,  300493,  2,19980506,1810,  47.7800,  -21.6083,    21,   2305.3,   3.3104,  34.9290,2,  34.9302,2, -999.000,9,    274.0,2, -999.000,9, -999.000,9, -999.000,9, -999.000,9, -999.000,9, -999.000,9, -999.000,9, -999.000,9, -999.000,9
           NA,    AR19,     21,   1,      10,  300492,  2,19980506,1810,  47.7800,  -21.6083,    21,   2599.8,   3.1489,  34.9508,2,  34.9502,2, -999.000,9,    267.5,2, -999.000,9, -999.000,9, -999.000,9, -999.000,9, -999.000,9, -999.000,9, -999.000,9, -999.000,9, -999.000,9
           NA,    AR19,     21,   1,       9,  300491,  2,19980506,1810,  47.7800,  -21.6083,    21,   2898.5,   2.9288,  34.9502,2,  34.9500,2, -999.000,9,    260.0,2, -999.000,9, -999.000,9, -999.000,9, -999.000,9, -999.000,9, -999.000,9, -999.000,9, -999.000,9, -999.000,9
           NA,    AR19,     21,   1,       8,  300490,  2,19980506,1810,  47.7800,  -21.6083,    21,   3148.4,   2.7728,  34.9422,2,  34.9416,2, -999.000,9,    254.0,2, -999.000,9, -999.000,9, -999.000,9, -999.000,9, -999.000,9, -999.000,9, -999.000,9, -999.000,9, -999.000,9
           NA,    AR19,     21,   1,       7,  300489,  2,19980506,1810,  47.7800,  -21.6083,    21,   3298.2,   2.6957,  34.9357,2,  34.9342,2, -999.000,9,    249.9,2, -999.000,9, -999.000,9, -999.000,9, -999.000,9, -999.000,9, -999.000,9, -999.000,9, -999.000,9, -999.000,9
           NA,    AR19,     21,   1,       6,  300488,  2,19980506,1810,  47.7800,  -21.6083,    21,   3495.7,   2.6254,  34.9273,2,  34.9263,2, -999.000,9,    246.9,2, -999.000,9, -999.000,9, -999.000,9, -999.000,9, -999.000,9, -999.000,9, -999.000,9, -999.000,9, -999.000,9
           NA,    AR19,     21,   1,       5,  300487,  2,19980506,1810,  47.7800,  -21.6083,    21,   3728.2,   2.5617,  34.9190,2,  34.9180,2, -999.000,9,    243.8,2, -999.000,9, -999.000,9, -999.000,9, -999.000,9, -999.000,9, -999.000,9, -999.000,9, -999.000,9, -999.000,9
           NA,    AR19,     21,   1,       4,  300486,  2,19980506,1810,  47.7800,  -21.6083,    21,   3898.0,   2.5414,  34.9147,2,  34.9143,2, -999.000,9,    242.3,2, -999.000,9, -999.000,9, -999.000,9, -999.000,9, -999.000,9, -999.000,9, -999.000,9, -999.000,9, -999.000,9
           NA,    AR19,     21,   1,       3,  300485,  2,19980506,1810,  47.7800,  -21.6083,    21,   4060.2,   2.5398,  34.9114,2,  34.9114,2, -999.000,9,    241.2,2, -999.000,9, -999.000,9, -999.000,9, -999.000,9, -999.000,9, -999.000,9, -999.000,9, -999.000,9, -999.000,9
           NA,    AR19,     21,   1,       2,  300484,  2,19980506,1810,  47.7800,  -21.6083,    21,   4136.1,   2.5366,  34.9102,2,  34.9106,2, -999.000,9,    241.1,2, -999.000,9, -999.000,9, -999.000,9, -999.000,9, -999.000,9, -999.000,9, -999.000,9, -999.000,9, -999.000,9