BOTTLE,20214525JOAExport
EXPOCODE,SECT_ID,STNNBR,CASTNO,SAMPNO,BTLNBR,BTLNBR_FLAG_W,DATE,TIME,LATITUDE,LONGITUDE,DEPTH,CTDPRS,CTDTMP,CTDSAL,CTDSAL_FLAG_W,SALNTY,SALNTY_FLAG_W,CTDOXY,CTDOXY_FLAG_W,OXYGEN,OXYGEN_FLAG_W,SILCAT,SILCAT_FLAG_W,NITRAT,NITRAT_FLAG_W,NITRIT,NITRIT_FLAG_W,PHSPHT,PHSPHT_FLAG_W,CFC-11,CFC-11_FLAG_W,CFC-12,CFC-12_FLAG_W,SF6,SF6_FLAG_W,TCARBN,TCARBN_FLAG_W,ALKALI,ALKALI_FLAG_W
,,,,,,,,,,,,DB,ITS-90,PSS-78,,PSS-78,,UMOL/KG,,UMOL/KG,,UMOL/KG,,UMOL/KG,,UMOL/KG,,UMOL/KG,,PMOL/KG,,PMOL/KG,,FMOL/KG,,UMOL/KG,,UMOL/KG
           NA,    AR19,     44,  99,      24,  301082,  2,19980514,1058,  44.3317,  -36.8983,     8,     10.1,  15.4650,  36.0159,2,  36.0137,2, -999.000,9,    248.2,2, -999.000,9, -999.000,9, -999.000,9, -999.000,9, -999.000,9, -999.000,9, -999.000,9, -999.000,9, -999.000,9
           NA,    AR19,     44,  99,      23,  301081,  2,19980514,1058,  44.3317,  -36.8983,     8,     50.2,  15.4520,  36.0129,2,  36.0131,2, -999.000,9,    247.2,2, -999.000,9, -999.000,9, -999.000,9, -999.000,9, -999.000,9, -999.000,9, -999.000,9, -999.000,9, -999.000,9
           NA,    AR19,     44,  99,      22,  301080,  2,19980514,1058,  44.3317,  -36.8983,     8,    100.1,  14.2099,  35.7919,2,-999.0000,4, -999.000,9,    235.0,2, -999.000,9, -999.000,9, -999.000,9, -999.000,9, -999.000,9, -999.000,9, -999.000,9, -999.000,9, -999.000,9
           NA,    AR19,     44,  99,      21,  301079,  2,19980514,1058,  44.3317,  -36.8983,     8,    199.9,  13.7323,  35.8057,2,  35.8041,2, -999.000,9,    224.0,2, -999.000,9, -999.000,9, -999.000,9, -999.000,9, -999.000,9, -999.000,9, -999.000,9, -999.000,9, -999.000,9
           NA,    AR19,     44,  99,      20,  301078,  2,19980514,1058,  44.3317,  -36.8983,     8,    596.7,   8.8098,  35.1310,2,  35.1341,2, -999.000,9,    175.3,2, -999.000,9, -999.000,9, -999.000,9, -999.000,9, -999.000,9, -999.000,9, -999.000,9, -999.000,9, -999.000,9
           NA,    AR19,     44,  99,      19,  301077,  2,19980514,1058,  44.3317,  -36.8983,     8,    730.9,   7.3716,  35.1283,2,  35.1316,2, -999.000,9,    191.3,2, -999.000,9, -999.000,9, -999.000,9, -999.000,9, -999.000,9, -999.000,9, -999.000,9, -999.000,9, -999.000,9
           NA,    AR19,     44,  99,      18,  301076,  2,19980514,1058,  44.3317,  -36.8983,     8,    800.1,   6.1438,  35.0083,2,  35.0084,2, -999.000,9,   -999.0,4, -999.000,9, -999.000,9, -999.000,9, -999.000,9, -999.000,9, -999.000,9, -999.000,9, -999.000,9, -999.000,9
           NA,    AR19,     44,  99,      17,  301075,  2,19980514,1058,  44.3317,  -36.8983,     8,   1147.1,   4.2592,  34.9409,2,  34.9417,2, -999.000,9,    261.0,2, -999.000,9, -999.000,9, -999.000,9, -999.000,9, -999.000,9, -999.000,9, -999.000,9, -999.000,9, -999.000,9
           NA,    AR19,     44,  99,      16,  301074,  2,19980514,1058,  44.3317,  -36.8983,     8,   1299.1,   3.9991,  34.9349,2,  34.9329,2, -999.000,9,    267.1,2, -999.000,9, -999.000,9, -999.000,9, -999.000,9, -999.000,9, -999.000,9, -999.000,9, -999.000,9, -999.000,9
           NA,    AR19,     44,  99,      15,  301073,  2,19980514,1058,  44.3317,  -36.8983,     8,   1597.3,   3.5916,  34.9077,2,  34.9089,2, -999.000,9,    277.1,2, -999.000,9, -999.000,9, -999.000,9, -999.000,9, -999.000,9, -999.000,9, -999.000,9, -999.000,9, -999.000,9
           NA,    AR19,     44,  99,      14,  301072,  2,19980514,1058,  44.3317,  -36.8983,     8,   1898.1,   3.3135,  34.8885,2,  34.8880,2, -999.000,9,    284.6,2, -999.000,9, -999.000,9, -999.000,9, -999.000,9, -999.000,9, -999.000,9, -999.000,9, -999.000,9, -999.000,9
           NA,    AR19,     44,  99,      12,  301070,  2,19980514,1058,  44.3317,  -36.8983,     8,   2397.8,   3.2438,  34.9104,2,  34.9096,2, -999.000,9,    278.6,2, -999.000,9, -999.000,9, -999.000,9, -999.000,9, -999.000,9, -999.000,9, -999.000,9, -999.000,9, -999.000,9
           NA,    AR19,     44,  99,      11,  301069,  2,19980514,1058,  44.3317,  -36.8983,     8,   2598.2,   3.1665,  34.9151,2,  34.9149,2, -999.000,9,    277.7,2, -999.000,9, -999.000,9, -999.000,9, -999.000,9, -999.000,9, -999.000,9, -999.000,9, -999.000,9, -999.000,9
           NA,    AR19,     44,  99,      10,  301068,  2,19980514,1058,  44.3317,  -36.8983,     8,   2697.9,   3.1118,  34.9160,2,  34.9164,2, -999.000,9,    277.5,2, -999.000,9, -999.000,9, -999.000,9, -999.000,9, -999.000,9, -999.000,9, -999.000,9, -999.000,9, -999.000,9
           NA,    AR19,     44,  99,       9,  301067,  2,19980514,1058,  44.3317,  -36.8983,     8,   2899.1,   3.0293,  34.9221,2,  34.9219,2, -999.000,9,    275.9,2, -999.000,9, -999.000,9, -999.000,9, -999.000,9, -999.000,9, -999.000,9, -999.000,9, -999.000,9, -999.000,9
           NA,    AR19,     44,  99,      14,  301096,  2,19980514,1058,  44.3317,  -36.8983,     8,   2998.9,   2.9593,  34.9238,2,  34.9254,2, -999.000,9,    274.0,2, -999.000,9, -999.000,9, -999.000,9, -999.000,9, -999.000,9, -999.000,9, -999.000,9, -999.000,9, -999.000,9
           NA,    AR19,     44,  99,       8,  301066,  2,19980514,1058,  44.3317,  -36.8983,     8,   2999.0,   2.9528,  34.9210,2,  34.9223,2, -999.000,9,    276.4,2, -999.000,9, -999.000,9, -999.000,9, -999.000,9, -999.000,9, -999.000,9, -999.000,9, -999.000,9, -999.000,9
           NA,    AR19,     44,  99,      13,  301095,  2,19980514,1058,  44.3317,  -36.8983,     8,   2999.2,   2.9583,  34.9243,2,  34.9257,2, -999.000,9,    274.3,2, -999.000,9, -999.000,9, -999.000,9, -999.000,9, -999.000,9, -999.000,9, -999.000,9, -999.000,9, -999.000,9
           NA,    AR19,     44,  99,      15,  301097,  2,19980514,1058,  44.3317,  -36.8983,     8,   2999.4,   2.9583,  34.9242,2,  34.9258,2, -999.000,9,    273.3,2, -999.000,9, -999.000,9, -999.000,9, -999.000,9, -999.000,9, -999.000,9, -999.000,9, -999.000,9, -999.000,9
           NA,    AR19,     44,  99,      16,  301098,  2,19980514,1058,  44.3317,  -36.8983,     8,   2999.6,   2.9573,  34.9247,2,  34.9254,2, -999.000,9,    272.7,2, -999.000,9, -999.000,9, -999.000,9, -999.000,9, -999.000,9, -999.000,9, -999.000,9, -999.000,9, -999.000,9
           NA,    AR19,     44,  99,      17,  301099,  2,19980514,1058,  44.3317,  -36.8983,     8,   2999.8,   2.9583,  34.9238,2,  34.9254,2, -999.000,9,    272.4,2, -999.000,9, -999.000,9, -999.000,9, -999.000,9, -999.000,9, -999.000,9, -999.000,9, -999.000,9, -999.000,9
           NA,    AR19,     44,  99,      18,  301100,  2,19980514,1058,  44.3317,  -36.8983,     8,   2999.8,   2.9573,  34.9241,2,  34.9256,2, -999.000,9,    272.5,2, -999.000,9, -999.000,9, -999.000,9, -999.000,9, -999.000,9, -999.000,9, -999.000,9, -999.000,9, -999.000,9
           NA,    AR19,     44,  99,      24,  301106,  2,19980514,1058,  44.3317,  -36.8983,     8,   3000.1,   2.9563,  34.9246,2,  34.9252,2, -999.000,9,    272.0,2, -999.000,9, -999.000,9, -999.000,9, -999.000,9, -999.000,9, -999.000,9, -999.000,9, -999.000,9, -999.000,9
           NA,    AR19,     44,  99,      19,  301101,  2,19980514,1058,  44.3317,  -36.8983,     8,   3000.3,   2.9553,  34.9241,2,  34.9257,2, -999.000,9,    272.4,2, -999.000,9, -999.000,9, -999.000,9, -999.000,9, -999.000,9, -999.000,9, -999.000,9, -999.000,9, -999.000,9
           NA,    AR19,     44,  99,      21,  301103,  2,19980514,1058,  44.3317,  -36.8983,     8,   3000.4,   2.9543,  34.9245,2,  34.9249,2, -999.000,9,    272.2,2, -999.000,9, -999.000,9, -999.000,9, -999.000,9, -999.000,9, -999.000,9, -999.000,9, -999.000,9, -999.000,9
           NA,    AR19,     44,  99,      20,  301102,  2,19980514,1058,  44.3317,  -36.8983,     8,   3000.6,   2.9533,  34.9241,2,  34.9251,2, -999.000,9,    272.6,2, -999.000,9, -999.000,9, -999.000,9, -999.000,9, -999.000,9, -999.000,9, -999.000,9, -999.000,9, -999.000,9
           NA,    AR19,     44,  99,      23,  301105,  2,19980514,1058,  44.3317,  -36.8983,     8,   3000.6,   2.9563,  34.9243,2,  34.9253,2, -999.000,9,    272.6,2, -999.000,9, -999.000,9, -999.000,9, -999.000,9, -999.000,9, -999.000,9, -999.000,9, -999.000,9, -999.000,9
           NA,    AR19,     44,  99,      22,  301104,  2,19980514,1058,  44.3317,  -36.8983,     8,   3000.6,   2.9553,  34.9248,2,  34.9251,2, -999.000,9,    272.8,2, -999.000,9, -999.000,9, -999.000,9, -999.000,9, -999.000,9, -999.000,9, -999.000,9, -999.000,9, -999.000,9
           NA,    AR19,     44,  99,       7,  301065,  2,19980514,1058,  44.3317,  -36.8983,     8,   3250.0,   2.7816,  34.9226,2,  34.9213,2, -999.000,9,    276.5,2, -999.000,9, -999.000,9, -999.000,9, -999.000,9, -999.000,9, -999.000,9, -999.000,9, -999.000,9, -999.000,9
           NA,    AR19,     44,  99,       6,  301064,  2,19980514,1058,  44.3317,  -36.8983,     8,   3651.3,   2.4931,  34.9118,2,  34.9115,2, -999.000,9,    273.7,2, -999.000,9, -999.000,9, -999.000,9, -999.000,9, -999.000,9, -999.000,9, -999.000,9, -999.000,9, -999.000,9
           NA,    AR19,     44,  99,       1,  301083,  2,19980514,1058,  44.3317,  -36.8983,     8,   3799.5,   2.3636,  34.9032,2,  34.9033,2, -999.000,9,   -999.0,3, -999.000,9, -999.000,9, -999.000,9, -999.000,9, -999.000,9, -999.000,9, -999.000,9, -999.000,9, -999.000,9
           NA,    AR19,     44,  99,       2,  301084,  2,19980514,1058,  44.3317,  -36.8983,     8,   3800.5,   2.3636,  34.9036,2,  34.9027,2, -999.000,9,    273.8,2, -999.000,9, -999.000,9, -999.000,9, -999.000,9, -999.000,9, -999.000,9, -999.000,9, -999.000,9, -999.000,9
           NA,    AR19,     44,  99,       3,  301085,  2,19980514,1058,  44.3317,  -36.8983,     8,   3801.0,   2.3636,  34.9039,2,  34.9026,2, -999.000,9,    272.8,2, -999.000,9, -999.000,9, -999.000,9, -999.000,9, -999.000,9, -999.000,9, -999.000,9, -999.000,9, -999.000,9
           NA,    AR19,     44,  99,       4,  301086,  2,19980514,1058,  44.3317,  -36.8983,     8,   3801.7,   2.3636,  34.9044,2,  34.9028,2, -999.000,9,    273.0,2, -999.000,9, -999.000,9, -999.000,9, -999.000,9, -999.000,9, -999.000,9, -999.000,9, -999.000,9, -999.000,9
           NA,    AR19,     44,  99,       5,  301087,  2,19980514,1058,  44.3317,  -36.8983,     8,   3801.9,   2.3646,  34.9033,2,  34.9028,2, -999.000,9,    272.7,2, -999.000,9, -999.000,9, -999.000,9, -999.000,9, -999.000,9, -999.000,9, -999.000,9, -999.000,9, -999.000,9
           NA,    AR19,     44,  99,       7,  301089,  2,19980514,1058,  44.3317,  -36.8983,     8,   3801.9,   2.3646,  34.9034,2,  34.9026,2, -999.000,9,    273.2,2, -999.000,9, -999.000,9, -999.000,9, -999.000,9, -999.000,9, -999.000,9, -999.000,9, -999.000,9, -999.000,9
           NA,    AR19,     44,  99,       8,  301090,  2,19980514,1058,  44.3317,  -36.8983,     8,   3802.7,   2.3646,  34.9033,2,  34.9030,2, -999.000,9,    272.6,2, -999.000,9, -999.000,9, -999.000,9, -999.000,9, -999.000,9, -999.000,9, -999.000,9, -999.000,9, -999.000,9
           NA,    AR19,     44,  99,      10,  301092,  2,19980514,1058,  44.3317,  -36.8983,     8,   3803.4,   2.3646,  34.9037,2,  34.9026,2, -999.000,9,    273.7,2, -999.000,9, -999.000,9, -999.000,9, -999.000,9, -999.000,9, -999.000,9, -999.000,9, -999.000,9, -999.000,9
           NA,    AR19,     44,  99,       9,  301091,  2,19980514,1058,  44.3317,  -36.8983,     8,   3803.4,   2.3646,  34.9030,2,  34.9031,2, -999.000,9,    273.7,2, -999.000,9, -999.000,9, -999.000,9, -999.000,9, -999.000,9, -999.000,9, -999.000,9, -999.000,9, -999.000,9
           NA,    AR19,     44,  99,      11,  301093,  2,19980514,1058,  44.3317,  -36.8983,     8,   3804.0,   2.3646,  34.9037,2,  34.9028,2, -999.000,9,    272.6,2, -999.000,9, -999.000,9, -999.000,9, -999.000,9, -999.000,9, -999.000,9, -999.000,9, -999.000,9, -999.000,9
           NA,    AR19,     44,  99,      12,  301094,  2,19980514,1058,  44.3317,  -36.8983,     8,   3804.1,   2.3646,  34.9034,2,  34.9033,2, -999.000,9,   -999.0,3, -999.000,9, -999.000,9, -999.000,9, -999.000,9, -999.000,9, -999.000,9, -999.000,9, -999.000,9, -999.000,9
           NA,    AR19,     44,  99,       5,  301063,  2,19980514,1058,  44.3317,  -36.8983,     8,   3850.3,   2.4172,  34.9065,2,  34.9054,2, -999.000,9,    273.6,2, -999.000,9, -999.000,9, -999.000,9, -999.000,9, -999.000,9, -999.000,9, -999.000,9, -999.000,9, -999.000,9
           NA,    AR19,     44,  99,       4,  301062,  2,19980514,1058,  44.3317,  -36.8983,     8,   4000.2,   2.3803,  34.9036,2,  34.9024,2, -999.000,9,    273.7,2, -999.000,9, -999.000,9, -999.000,9, -999.000,9, -999.000,9, -999.000,9, -999.000,9, -999.000,9, -999.000,9
           NA,    AR19,     44,  99,       3,  301061,  2,19980514,1058,  44.3317,  -36.8983,     8,   4200.9,   2.2967,  34.8970,2,  34.8958,2, -999.000,9,    276.0,2, -999.000,9, -999.000,9, -999.000,9, -999.000,9, -999.000,9, -999.000,9, -999.000,9, -999.000,9, -999.000,9
           NA,    AR19,     44,  99,       2,  301060,  2,19980514,1058,  44.3317,  -36.8983,     8,   4284.6,   2.2765,  34.8953,2,  34.8942,2, -999.000,9,    277.3,2, -999.000,9, -999.000,9, -999.000,9, -999.000,9, -999.000,9, -999.000,9, -999.000,9, -999.000,9, -999.000,9
           NA,    AR19,     44,  99,       1,  301059,  2,19980514,1058,  44.3317,  -36.8983,     8,   4309.7,   2.2779,  34.8955,2,  34.8945,2, -999.000,9,    282.0,2, -999.000,9, -999.000,9, -999.000,9, -999.000,9, -999.000,9, -999.000,9, -999.000,9, -999.000,9, -999.000,9
           NA,    AR19,     43,   1,      24,  301058,  2,19980514,0356,  44.5683,  -36.0800,    10,     10.6,  14.1497,  35.7774,2,  35.7763,2, -999.000,9,   -999.0,3, -999.000,9, -999.000,9, -999.000,9, -999.000,9, -999.000,9, -999.000,9, -999.000,9, -999.000,9, -999.000,9
           NA,    AR19,     43,   1,      23,  301057,  2,19980514,0356,  44.5683,  -36.0800,    10,     50.2,  13.7854,  35.8015,2,  35.8010,2, -999.000,9,    246.5,2, -999.000,9, -999.000,9, -999.000,9, -999.000,9, -999.000,9, -999.000,9, -999.000,9, -999.000,9, -999.000,9
           NA,    AR19,     43,   1,      22,  301056,  2,19980514,0356,  44.5683,  -36.0800,    10,     99.9,  13.6356,  35.8103,2,  35.8102,2, -999.000,9,    246.6,2, -999.000,9, -999.000,9, -999.000,9, -999.000,9, -999.000,9, -999.000,9, -999.000,9, -999.000,9, -999.000,9
           NA,    AR19,     43,   1,      21,  301055,  2,19980514,0356,  44.5683,  -36.0800,    10,    198.7,  12.8584,  35.6608,2,  35.6604,2, -999.000,9,    235.5,2, -999.000,9, -999.000,9, -999.000,9, -999.000,9, -999.000,9, -999.000,9, -999.000,9, -999.000,9, -999.000,9
           NA,    AR19,     43,   1,      20,  301054,  2,19980514,0356,  44.5683,  -36.0800,    10,    398.7,  10.4385,  35.3472,2,  35.3471,2, -999.000,9,    187.4,2, -999.000,9, -999.000,9, -999.000,9, -999.000,9, -999.000,9, -999.000,9, -999.000,9, -999.000,9, -999.000,9
           NA,    AR19,     43,   1,      19,  301053,  2,19980514,0356,  44.5683,  -36.0800,    10,    597.6,   7.5042,  35.0773,2,-999.0000,3, -999.000,9,    191.3,2, -999.000,9, -999.000,9, -999.000,9, -999.000,9, -999.000,9, -999.000,9, -999.000,9, -999.000,9, -999.000,9
           NA,    AR19,     43,   1,      18,  301052,  2,19980514,0356,  44.5683,  -36.0800,    10,    748.4,   6.2676,  35.0861,2,  35.0871,2, -999.000,9,    212.3,2, -999.000,9, -999.000,9, -999.000,9, -999.000,9, -999.000,9, -999.000,9, -999.000,9, -999.000,9, -999.000,9
           NA,    AR19,     43,   1,      17,  301051,  2,19980514,0356,  44.5683,  -36.0800,    10,    997.3,   4.9589,  35.0323,2,  35.0330,2, -999.000,9,    242.1,2, -999.000,9, -999.000,9, -999.000,9, -999.000,9, -999.000,9, -999.000,9, -999.000,9, -999.000,9, -999.000,9
           NA,    AR19,     43,   1,      16,  301050,  2,19980514,0356,  44.5683,  -36.0800,    10,   1247.9,   4.1499,  34.9626,2,  34.9637,2, -999.000,9,    265.9,2, -999.000,9, -999.000,9, -999.000,9, -999.000,9, -999.000,9, -999.000,9, -999.000,9, -999.000,9, -999.000,9
           NA,    AR19,     43,   1,      15,  301049,  2,19980514,0356,  44.5683,  -36.0800,    10,   1498.8,   3.7320,  34.9267,2,  34.9275,2, -999.000,9,    276.6,2, -999.000,9, -999.000,9, -999.000,9, -999.000,9, -999.000,9, -999.000,9, -999.000,9, -999.000,9, -999.000,9
           NA,    AR19,     43,   1,      14,  301048,  2,19980514,0356,  44.5683,  -36.0800,    10,   1748.6,   3.4873,  34.9055,2,  34.9062,2, -999.000,9,    285.0,2, -999.000,9, -999.000,9, -999.000,9, -999.000,9, -999.000,9, -999.000,9, -999.000,9, -999.000,9, -999.000,9
           NA,    AR19,     43,   1,      13,  301047,  2,19980514,0356,  44.5683,  -36.0800,    10,   1898.4,   3.3562,  34.8956,2,-999.0000,3, -999.000,9,   -999.0,3, -999.000,9, -999.000,9, -999.000,9, -999.000,9, -999.000,9, -999.000,9, -999.000,9, -999.000,9, -999.000,9
           NA,    AR19,     43,   1,      12,  301046,  2,19980514,0356,  44.5683,  -36.0800,    10,   1997.8,   3.2703,  34.8902,2,  34.8906,2, -999.000,9,    290.4,2, -999.000,9, -999.000,9, -999.000,9, -999.000,9, -999.000,9, -999.000,9, -999.000,9, -999.000,9, -999.000,9
           NA,    AR19,     43,   1,      11,  301045,  2,19980514,0356,  44.5683,  -36.0800,    10,   2097.5,   3.2138,  34.8866,2,  34.8858,2, -999.000,9,   -999.0,3, -999.000,9, -999.000,9, -999.000,9, -999.000,9, -999.000,9, -999.000,9, -999.000,9, -999.000,9, -999.000,9
           NA,    AR19,     43,   1,      10,  301044,  2,19980514,0356,  44.5683,  -36.0800,    10,   2298.2,   3.1966,  34.9012,2,  34.9020,2, -999.000,9,    289.4,2, -999.000,9, -999.000,9, -999.000,9, -999.000,9, -999.000,9, -999.000,9, -999.000,9, -999.000,9, -999.000,9
           NA,    AR19,     43,   1,       9,  301043,  2,19980514,0356,  44.5683,  -36.0800,    10,   2397.7,   3.1974,  34.9095,2,  34.9105,2, -999.000,9,    279.0,2, -999.000,9, -999.000,9, -999.000,9, -999.000,9, -999.000,9, -999.000,9, -999.000,9, -999.000,9, -999.000,9
           NA,    AR19,     43,   1,       8,  301042,  2,19980514,0356,  44.5683,  -36.0800,    10,   2799.1,   3.0562,  34.9274,2,  34.9289,2, -999.000,9,    273.4,2, -999.000,9, -999.000,9, -999.000,9, -999.000,9, -999.000,9, -999.000,9, -999.000,9, -999.000,9, -999.000,9
           NA,    AR19,     43,   1,       7,  301041,  2,19980514,0356,  44.5683,  -36.0800,    10,   2998.1,   2.9184,  34.9277,2,  34.9288,2, -999.000,9,    272.9,2, -999.000,9, -999.000,9, -999.000,9, -999.000,9, -999.000,9, -999.000,9, -999.000,9, -999.000,9, -999.000,9
           NA,    AR19,     43,   1,       6,  301040,  2,19980514,0356,  44.5683,  -36.0800,    10,   3248.9,   2.7118,  34.9225,2,  34.9221,2, -999.000,9,    273.9,2, -999.000,9, -999.000,9, -999.000,9, -999.000,9, -999.000,9, -999.000,9, -999.000,9, -999.000,9, -999.000,9
           NA,    AR19,     43,   1,       5,  301039,  2,19980514,0356,  44.5683,  -36.0800,    10,   3497.5,   2.5152,  34.9128,2,  34.9118,2, -999.000,9,    275.2,2, -999.000,9, -999.000,9, -999.000,9, -999.000,9, -999.000,9, -999.000,9, -999.000,9, -999.000,9, -999.000,9
           NA,    AR19,     43,   1,       4,  301038,  2,19980514,0356,  44.5683,  -36.0800,    10,   3747.4,   2.3858,  34.9056,2,  34.9047,2, -999.000,9,    274.3,2, -999.000,9, -999.000,9, -999.000,9, -999.000,9, -999.000,9, -999.000,9, -999.000,9, -999.000,9, -999.000,9
           NA,    AR19,     43,   1,       3,  301037,  2,19980514,0356,  44.5683,  -36.0800,    10,   4064.5,   2.3030,  34.8989,2,  34.8979,2, -999.000,9,    274.6,2, -999.000,9, -999.000,9, -999.000,9, -999.000,9, -999.000,9, -999.000,9, -999.000,9, -999.000,9, -999.000,9
           NA,    AR19,     43,   1,       2,  301036,  2,19980514,0356,  44.5683,  -36.0800,    10,   4143.2,   2.2845,  34.8970,2,  34.8960,2, -999.000,9,   -999.0,3, -999.000,9, -999.000,9, -999.000,9, -999.000,9, -999.000,9, -999.000,9, -999.000,9, -999.000,9, -999.000,9
           NA,    AR19,     43,   1,       1,  301035,  2,19980514,0356,  44.5683,  -36.0800,    10,   4166.2,   2.2786,  34.8963,2,  34.8949,2, -999.000,9,   -999.0,3, -999.000,9, -999.000,9, -999.000,9, -999.000,9, -999.000,9, -999.000,9, -999.000,9, -999.000,9, -999.000,9