BOTTLE,20214525JOAExport
EXPOCODE,SECT_ID,STNNBR,CASTNO,SAMPNO,BTLNBR,BTLNBR_FLAG_W,DATE,TIME,LATITUDE,LONGITUDE,DEPTH,CTDPRS,CTDTMP,CTDSAL,CTDSAL_FLAG_W,SALNTY,SALNTY_FLAG_W,CTDOXY,CTDOXY_FLAG_W,OXYGEN,OXYGEN_FLAG_W,SILCAT,SILCAT_FLAG_W,NITRAT,NITRAT_FLAG_W,NITRIT,NITRIT_FLAG_W,PHSPHT,PHSPHT_FLAG_W,CFC-11,CFC-11_FLAG_W,CFC-12,CFC-12_FLAG_W,SF6,SF6_FLAG_W,TCARBN,TCARBN_FLAG_W,ALKALI,ALKALI_FLAG_W
,,,,,,,,,,,,DB,ITS-90,PSS-78,,PSS-78,,UMOL/KG,,UMOL/KG,,UMOL/KG,,UMOL/KG,,UMOL/KG,,UMOL/KG,,PMOL/KG,,PMOL/KG,,FMOL/KG,,UMOL/KG,,UMOL/KG
           NA,    AR19,     12,   1,      24,  300266,  2,19980503,2045,  48.7950,  -14.2700,    12,      9.1,  11.9007,  35.6262,2,  35.6267,2, -999.000,9,    270.6,2, -999.000,9, -999.000,9, -999.000,9, -999.000,9, -999.000,9, -999.000,9, -999.000,9, -999.000,9, -999.000,9
           NA,    AR19,     12,   1,      23,  300265,  2,19980503,2045,  48.7950,  -14.2700,    12,     50.1,  11.8579,  35.6226,2,  35.6234,2, -999.000,9,    271.0,2, -999.000,9, -999.000,9, -999.000,9, -999.000,9, -999.000,9, -999.000,9, -999.000,9, -999.000,9, -999.000,9
           NA,    AR19,     12,   1,      22,  300264,  2,19980503,2045,  48.7950,  -14.2700,    12,     99.1,  11.8297,  35.6215,2,  35.6229,2, -999.000,9,    274.9,2, -999.000,9, -999.000,9, -999.000,9, -999.000,9, -999.000,9, -999.000,9, -999.000,9, -999.000,9, -999.000,9
           NA,    AR19,     12,   1,      21,  300263,  2,19980503,2045,  48.7950,  -14.2700,    12,    199.0,  11.5330,  35.5953,2,  35.5972,2, -999.000,9,    256.6,2, -999.000,9, -999.000,9, -999.000,9, -999.000,9, -999.000,9, -999.000,9, -999.000,9, -999.000,9, -999.000,9
           NA,    AR19,     12,   1,      20,  300262,  2,19980503,2045,  48.7950,  -14.2700,    12,    298.4,  11.3750,  35.5741,2,  35.5757,2, -999.000,9,    252.6,2, -999.000,9, -999.000,9, -999.000,9, -999.000,9, -999.000,9, -999.000,9, -999.000,9, -999.000,9, -999.000,9
           NA,    AR19,     12,   1,      19,  300261,  2,19980503,2045,  48.7950,  -14.2700,    12,    495.4,  10.7527,  35.4864,2,  35.4842,2, -999.000,9,    231.5,2, -999.000,9, -999.000,9, -999.000,9, -999.000,9, -999.000,9, -999.000,9, -999.000,9, -999.000,9, -999.000,9
           NA,    AR19,     12,   1,      18,  300260,  2,19980503,2045,  48.7950,  -14.2700,    12,    698.4,   9.9466,  35.4522,2,-999.0000,3, -999.000,9,    207.7,2, -999.000,9, -999.000,9, -999.000,9, -999.000,9, -999.000,9, -999.000,9, -999.000,9, -999.000,9, -999.000,9
           NA,    AR19,     12,   1,      17,  300259,  2,19980503,2045,  48.7950,  -14.2700,    12,    798.5,   9.5753,  35.5165,2,  35.5155,2, -999.000,9,    198.2,2, -999.000,9, -999.000,9, -999.000,9, -999.000,9, -999.000,9, -999.000,9, -999.000,9, -999.000,9, -999.000,9
           NA,    AR19,     12,   1,      16,  300258,  2,19980503,2045,  48.7950,  -14.2700,    12,    899.5,   8.7775,  35.4744,2,  35.4736,2, -999.000,9,    195.7,2, -999.000,9, -999.000,9, -999.000,9, -999.000,9, -999.000,9, -999.000,9, -999.000,9, -999.000,9, -999.000,9
           NA,    AR19,     12,   1,      15,  300257,  2,19980503,2045,  48.7950,  -14.2700,    12,    997.7,   7.9277,  35.4131,2,  35.4114,2, -999.000,9,    202.7,2, -999.000,9, -999.000,9, -999.000,9, -999.000,9, -999.000,9, -999.000,9, -999.000,9, -999.000,9, -999.000,9
           NA,    AR19,     12,   1,      14,  300256,  2,19980503,2045,  48.7950,  -14.2700,    12,   1097.2,   7.3309,  35.3830,2,  35.3808,2, -999.000,9,    209.4,2, -999.000,9, -999.000,9, -999.000,9, -999.000,9, -999.000,9, -999.000,9, -999.000,9, -999.000,9, -999.000,9
           NA,    AR19,     12,   1,      13,  300255,  2,19980503,2045,  48.7950,  -14.2700,    12,   1397.7,   4.8191,  35.0449,2,  35.0471,2, -999.000,9,    246.1,2, -999.000,9, -999.000,9, -999.000,9, -999.000,9, -999.000,9, -999.000,9, -999.000,9, -999.000,9, -999.000,9
           NA,    AR19,     12,   1,      12,  300254,  2,19980503,2045,  48.7950,  -14.2700,    12,   1798.1,   3.6143,  34.9125,2,  34.9131,2, -999.000,9,    272.7,2, -999.000,9, -999.000,9, -999.000,9, -999.000,9, -999.000,9, -999.000,9, -999.000,9, -999.000,9, -999.000,9
           NA,    AR19,     12,   1,      11,  300253,  2,19980503,2045,  48.7950,  -14.2700,    12,   1997.9,   3.5192,  34.9207,2,  34.9223,2, -999.000,9,    272.8,2, -999.000,9, -999.000,9, -999.000,9, -999.000,9, -999.000,9, -999.000,9, -999.000,9, -999.000,9, -999.000,9
           NA,    AR19,     12,   1,      10,  300252,  2,19980503,2045,  48.7950,  -14.2700,    12,   2398.4,   3.2852,  34.9560,2,  34.9573,2, -999.000,9,   -999.0,3, -999.000,9, -999.000,9, -999.000,9, -999.000,9, -999.000,9, -999.000,9, -999.000,9, -999.000,9, -999.000,9
           NA,    AR19,     12,   1,       9,  300251,  2,19980503,2045,  48.7950,  -14.2700,    12,   2498.8,   3.1591,  34.9537,2,  34.9550,2, -999.000,9,    260.4,2, -999.000,9, -999.000,9, -999.000,9, -999.000,9, -999.000,9, -999.000,9, -999.000,9, -999.000,9, -999.000,9
           NA,    AR19,     12,   1,       8,  300250,  2,19980503,2045,  48.7950,  -14.2700,    12,   2799.3,   2.9321,  34.9519,2,  34.9510,2, -999.000,9,    246.5,2, -999.000,9, -999.000,9, -999.000,9, -999.000,9, -999.000,9, -999.000,9, -999.000,9, -999.000,9, -999.000,9
           NA,    AR19,     12,   1,       7,  300249,  2,19980503,2045,  48.7950,  -14.2700,    12,   3097.5,   2.7601,  34.9402,2,  34.9395,2, -999.000,9,    247.0,2, -999.000,9, -999.000,9, -999.000,9, -999.000,9, -999.000,9, -999.000,9, -999.000,9, -999.000,9, -999.000,9
           NA,    AR19,     12,   1,       6,  300248,  2,19980503,2045,  48.7950,  -14.2700,    12,   3399.9,   2.6425,  34.9289,2,  34.9281,2, -999.000,9,    244.0,2, -999.000,9, -999.000,9, -999.000,9, -999.000,9, -999.000,9, -999.000,9, -999.000,9, -999.000,9, -999.000,9
           NA,    AR19,     12,   1,       5,  300247,  2,19980503,2045,  48.7950,  -14.2700,    12,   3699.7,   2.5596,  34.9180,2,  34.9172,2, -999.000,9,    243.1,2, -999.000,9, -999.000,9, -999.000,9, -999.000,9, -999.000,9, -999.000,9, -999.000,9, -999.000,9, -999.000,9
           NA,    AR19,     12,   1,       4,  300246,  2,19980503,2045,  48.7950,  -14.2700,    12,   4098.9,   2.5190,  34.9084,2,  34.9094,2, -999.000,9,    243.1,2, -999.000,9, -999.000,9, -999.000,9, -999.000,9, -999.000,9, -999.000,9, -999.000,9, -999.000,9, -999.000,9
           NA,    AR19,     12,   1,       3,  300245,  2,19980503,2045,  48.7950,  -14.2700,    12,   4500.6,   2.5098,  34.9034,2,  34.9031,2, -999.000,9,    239.8,2, -999.000,9, -999.000,9, -999.000,9, -999.000,9, -999.000,9, -999.000,9, -999.000,9, -999.000,9, -999.000,9
           NA,    AR19,     12,   1,       2,  300244,  2,19980503,2045,  48.7950,  -14.2700,    12,   4606.9,   2.5161,  34.9030,2,  34.9021,2, -999.000,9,    240.4,2, -999.000,9, -999.000,9, -999.000,9, -999.000,9, -999.000,9, -999.000,9, -999.000,9, -999.000,9, -999.000,9
           NA,    AR19,     12,   1,       1,  300243,  2,19980503,2045,  48.7950,  -14.2700,    12,   4640.6,   2.5203,  34.9023,2,  34.9027,2, -999.000,9,    239.1,2, -999.000,9, -999.000,9, -999.000,9, -999.000,9, -999.000,9, -999.000,9, -999.000,9, -999.000,9, -999.000,9
           NA,    AR19,     11,   1,      24,  300242,  2,19980503,1525,  48.8600,  -13.7933,    13,     10.2,  11.7348,  35.5774,2,  35.5794,2, -999.000,9,    269.8,2, -999.000,9, -999.000,9, -999.000,9, -999.000,9, -999.000,9, -999.000,9, -999.000,9, -999.000,9, -999.000,9
           NA,    AR19,     11,   1,      23,  300241,  2,19980503,1525,  48.8600,  -13.7933,    13,     49.3,  11.6429,  35.5722,2,  35.5742,2, -999.000,9,    269.3,2, -999.000,9, -999.000,9, -999.000,9, -999.000,9, -999.000,9, -999.000,9, -999.000,9, -999.000,9, -999.000,9
           NA,    AR19,     11,   1,      22,  300240,  2,19980503,1525,  48.8600,  -13.7933,    13,     98.5,  11.3486,  35.5457,2,  35.5507,2, -999.000,9,    262.1,2, -999.000,9, -999.000,9, -999.000,9, -999.000,9, -999.000,9, -999.000,9, -999.000,9, -999.000,9, -999.000,9
           NA,    AR19,     11,   1,      21,  300239,  2,19980503,1525,  48.8600,  -13.7933,    13,    199.2,  11.3233,  35.5707,2,  35.5707,2, -999.000,9,    255.0,2, -999.000,9, -999.000,9, -999.000,9, -999.000,9, -999.000,9, -999.000,9, -999.000,9, -999.000,9, -999.000,9
           NA,    AR19,     11,   1,      20,  300238,  2,19980503,1525,  48.8600,  -13.7933,    13,    498.5,  10.5993,  35.4667,2,  35.4674,2, -999.000,9,    228.3,2, -999.000,9, -999.000,9, -999.000,9, -999.000,9, -999.000,9, -999.000,9, -999.000,9, -999.000,9, -999.000,9
           NA,    AR19,     11,   1,      19,  300237,  2,19980503,1525,  48.8600,  -13.7933,    13,    597.9,  10.0999,  35.4300,2,  35.4316,2, -999.000,9,    216.0,2, -999.000,9, -999.000,9, -999.000,9, -999.000,9, -999.000,9, -999.000,9, -999.000,9, -999.000,9, -999.000,9
           NA,    AR19,     11,   1,      18,  300236,  2,19980503,1525,  48.8600,  -13.7933,    13,    751.0,   9.3501,  35.4037,2,-999.0000,4, -999.000,9,    204.6,2, -999.000,9, -999.000,9, -999.000,9, -999.000,9, -999.000,9, -999.000,9, -999.000,9, -999.000,9, -999.000,9
           NA,    AR19,     11,   1,      17,  300235,  2,19980503,1525,  48.8600,  -13.7933,    13,   1041.6,   7.9764,  35.4441,2,  35.4429,2, -999.000,9,    201.0,2, -999.000,9, -999.000,9, -999.000,9, -999.000,9, -999.000,9, -999.000,9, -999.000,9, -999.000,9, -999.000,9
           NA,    AR19,     11,   1,      16,  300234,  2,19980503,1525,  48.8600,  -13.7933,    13,   1193.3,   7.1490,  35.3838,2,  35.3787,2, -999.000,9,    213.0,2, -999.000,9, -999.000,9, -999.000,9, -999.000,9, -999.000,9, -999.000,9, -999.000,9, -999.000,9, -999.000,9
           NA,    AR19,     11,   1,      15,  300233,  2,19980503,1525,  48.8600,  -13.7933,    13,   1397.6,   5.1116,  35.0811,2,  35.0824,2, -999.000,9,    241.1,2, -999.000,9, -999.000,9, -999.000,9, -999.000,9, -999.000,9, -999.000,9, -999.000,9, -999.000,9, -999.000,9
           NA,    AR19,     11,   1,      14,  300232,  2,19980503,1525,  48.8600,  -13.7933,    13,   1598.1,   4.0753,  34.9554,2,  34.9566,2, -999.000,9,    261.6,2, -999.000,9, -999.000,9, -999.000,9, -999.000,9, -999.000,9, -999.000,9, -999.000,9, -999.000,9, -999.000,9
           NA,    AR19,     11,   1,      13,  300231,  2,19980503,1525,  48.8600,  -13.7933,    13,   1742.2,   3.7171,  34.9186,2,  34.9190,2, -999.000,9,    270.3,2, -999.000,9, -999.000,9, -999.000,9, -999.000,9, -999.000,9, -999.000,9, -999.000,9, -999.000,9, -999.000,9
           NA,    AR19,     11,   1,      12,  300230,  2,19980503,1525,  48.8600,  -13.7933,    13,   1998.7,   3.4310,  34.9177,2,  34.9184,2, -999.000,9,    272.5,2, -999.000,9, -999.000,9, -999.000,9, -999.000,9, -999.000,9, -999.000,9, -999.000,9, -999.000,9, -999.000,9
           NA,    AR19,     11,   1,      11,  300229,  2,19980503,1525,  48.8600,  -13.7933,    13,   2398.6,   3.2019,  34.9579,2,  34.9587,2, -999.000,9,    258.1,2, -999.000,9, -999.000,9, -999.000,9, -999.000,9, -999.000,9, -999.000,9, -999.000,9, -999.000,9, -999.000,9
           NA,    AR19,     11,   1,      10,  300228,  2,19980503,1525,  48.8600,  -13.7933,    13,   2747.3,   2.9333,  34.9507,2,  34.9522,2, -999.000,9,    250.3,2, -999.000,9, -999.000,9, -999.000,9, -999.000,9, -999.000,9, -999.000,9, -999.000,9, -999.000,9, -999.000,9
           NA,    AR19,     11,   1,       9,  300227,  2,19980503,1525,  48.8600,  -13.7933,    13,   2998.3,   2.8061,  34.9434,2,  34.9439,2, -999.000,9,    246.5,2, -999.000,9, -999.000,9, -999.000,9, -999.000,9, -999.000,9, -999.000,9, -999.000,9, -999.000,9, -999.000,9
           NA,    AR19,     11,   1,       8,  300226,  2,19980503,1525,  48.8600,  -13.7933,    13,   3249.0,   2.7138,  34.9352,2,  34.9344,2, -999.000,9,    245.4,2, -999.000,9, -999.000,9, -999.000,9, -999.000,9, -999.000,9, -999.000,9, -999.000,9, -999.000,9, -999.000,9
           NA,    AR19,     11,   1,       7,  300225,  2,19980503,1525,  48.8600,  -13.7933,    13,   3498.6,   2.6161,  34.9254,2,  34.9243,2, -999.000,9,    242.9,2, -999.000,9, -999.000,9, -999.000,9, -999.000,9, -999.000,9, -999.000,9, -999.000,9, -999.000,9, -999.000,9
           NA,    AR19,     11,   1,       6,  300224,  2,19980503,1525,  48.8600,  -13.7933,    13,   3751.5,   2.5559,  34.9172,2,  34.9167,2, -999.000,9,    240.9,2, -999.000,9, -999.000,9, -999.000,9, -999.000,9, -999.000,9, -999.000,9, -999.000,9, -999.000,9, -999.000,9
           NA,    AR19,     11,   1,       5,  300223,  2,19980503,1525,  48.8600,  -13.7933,    13,   4002.4,   2.5225,  34.9100,2,  34.9103,2, -999.000,9,    239.9,2, -999.000,9, -999.000,9, -999.000,9, -999.000,9, -999.000,9, -999.000,9, -999.000,9, -999.000,9, -999.000,9
           NA,    AR19,     11,   1,       4,  300222,  2,19980503,1525,  48.8600,  -13.7933,    13,   4248.0,   2.5078,  34.9058,2,  34.9058,2, -999.000,9,    239.5,2, -999.000,9, -999.000,9, -999.000,9, -999.000,9, -999.000,9, -999.000,9, -999.000,9, -999.000,9, -999.000,9
           NA,    AR19,     11,   1,       3,  300221,  2,19980503,1525,  48.8600,  -13.7933,    13,   4401.3,   2.5057,  34.9036,2,  34.9034,2, -999.000,9,    239.1,2, -999.000,9, -999.000,9, -999.000,9, -999.000,9, -999.000,9, -999.000,9, -999.000,9, -999.000,9, -999.000,9
           NA,    AR19,     11,   1,       2,  300220,  2,19980503,1525,  48.8600,  -13.7933,    13,   4571.1,   2.5190,  34.9032,2,  34.9032,2, -999.000,9,    239.1,2, -999.000,9, -999.000,9, -999.000,9, -999.000,9, -999.000,9, -999.000,9, -999.000,9, -999.000,9, -999.000,9
           NA,    AR19,     11,   1,       1,  300219,  2,19980503,1525,  48.8600,  -13.7933,    13,   4591.5,   2.5215,  34.9035,2,  34.9027,2, -999.000,9,    237.8,2, -999.000,9, -999.000,9, -999.000,9, -999.000,9, -999.000,9, -999.000,9, -999.000,9, -999.000,9, -999.000,9