BOTTLE,20214525JOAExport
EXPOCODE,SECT_ID,STNNBR,CASTNO,SAMPNO,BTLNBR,BTLNBR_FLAG_W,DATE,TIME,LATITUDE,LONGITUDE,DEPTH,CTDPRS,CTDTMP,CTDSAL,CTDSAL_FLAG_W,SALNTY,SALNTY_FLAG_W,CTDOXY,CTDOXY_FLAG_W,OXYGEN,OXYGEN_FLAG_W,SILCAT,SILCAT_FLAG_W,NITRAT,NITRAT_FLAG_W,NITRIT,NITRIT_FLAG_W,PHSPHT,PHSPHT_FLAG_W,CFC-11,CFC-11_FLAG_W,CFC-12,CFC-12_FLAG_W,SF6,SF6_FLAG_W,TCARBN,TCARBN_FLAG_W,ALKALI,ALKALI_FLAG_W
,,,,,,,,,,,,DB,ITS-90,PSS-78,,PSS-78,,UMOL/KG,,UMOL/KG,,UMOL/KG,,UMOL/KG,,UMOL/KG,,UMOL/KG,,PMOL/KG,,PMOL/KG,,FMOL/KG,,UMOL/KG,,UMOL/KG
           NA,    AR19,     30,   1,      24,  300746,  2,19980508,2330,  46.8200,  -26.9950,     7,     10.6,  13.9222,  35.8253,2,  35.8238,2, -999.000,9,    264.1,2, -999.000,9, -999.000,9, -999.000,9, -999.000,9, -999.000,9, -999.000,9, -999.000,9, -999.000,9, -999.000,9
           NA,    AR19,     30,   1,      23,  300745,  2,19980508,2330,  46.8200,  -26.9950,     7,     49.2,  13.4467,  35.7709,2,  35.7688,2, -999.000,9,    258.0,2, -999.000,9, -999.000,9, -999.000,9, -999.000,9, -999.000,9, -999.000,9, -999.000,9, -999.000,9, -999.000,9
           NA,    AR19,     30,   1,      22,  300744,  2,19980508,2330,  46.8200,  -26.9950,     7,    100.8,  12.9499,  35.7091,2,  35.7071,2, -999.000,9,   -999.0,3, -999.000,9, -999.000,9, -999.000,9, -999.000,9, -999.000,9, -999.000,9, -999.000,9, -999.000,9, -999.000,9
           NA,    AR19,     30,   1,      21,  300743,  2,19980508,2330,  46.8200,  -26.9950,     7,    199.0,  12.5931,  35.6415,2,  35.6411,2, -999.000,9,    252.4,2, -999.000,9, -999.000,9, -999.000,9, -999.000,9, -999.000,9, -999.000,9, -999.000,9, -999.000,9, -999.000,9
           NA,    AR19,     30,   1,      20,  300742,  2,19980508,2330,  46.8200,  -26.9950,     7,    398.1,  11.3853,  35.4468,2,-999.0000,3, -999.000,9,    220.8,2, -999.000,9, -999.000,9, -999.000,9, -999.000,9, -999.000,9, -999.000,9, -999.000,9, -999.000,9, -999.000,9
           NA,    AR19,     30,   1,      19,  300741,  2,19980508,2330,  46.8200,  -26.9950,     7,    497.8,  10.5802,  35.3687,2,  35.3686,2, -999.000,9,    208.6,2, -999.000,9, -999.000,9, -999.000,9, -999.000,9, -999.000,9, -999.000,9, -999.000,9, -999.000,9, -999.000,9
           NA,    AR19,     30,   1,      18,  300740,  2,19980508,2330,  46.8200,  -26.9950,     7,    647.9,   8.9413,  35.2048,2,  35.2042,2, -999.000,9,    183.8,2, -999.000,9, -999.000,9, -999.000,9, -999.000,9, -999.000,9, -999.000,9, -999.000,9, -999.000,9, -999.000,9
           NA,    AR19,     30,   1,      17,  300739,  2,19980508,2330,  46.8200,  -26.9950,     7,    798.2,   7.8571,  35.2009,2,  35.2006,2, -999.000,9,    194.1,2, -999.000,9, -999.000,9, -999.000,9, -999.000,9, -999.000,9, -999.000,9, -999.000,9, -999.000,9, -999.000,9
           NA,    AR19,     30,   1,      16,  300738,  2,19980508,2330,  46.8200,  -26.9950,     7,    896.7,   7.3581,  35.2413,2,  35.2399,2, -999.000,9,    202.4,2, -999.000,9, -999.000,9, -999.000,9, -999.000,9, -999.000,9, -999.000,9, -999.000,9, -999.000,9, -999.000,9
           NA,    AR19,     30,   1,      15,  300737,  2,19980508,2330,  46.8200,  -26.9950,     7,   1098.0,   5.5123,  35.0799,2,  35.0830,2, -999.000,9,    244.1,2, -999.000,9, -999.000,9, -999.000,9, -999.000,9, -999.000,9, -999.000,9, -999.000,9, -999.000,9, -999.000,9
           NA,    AR19,     30,   1,      14,  300736,  2,19980508,2330,  46.8200,  -26.9950,     7,   1196.4,   5.1742,  35.0633,2,  35.0646,2, -999.000,9,   -999.0,3, -999.000,9, -999.000,9, -999.000,9, -999.000,9, -999.000,9, -999.000,9, -999.000,9, -999.000,9, -999.000,9
           NA,    AR19,     30,   1,      13,  300735,  2,19980508,2330,  46.8200,  -26.9950,     7,   1395.5,   4.3782,  34.9891,2,  34.9885,2, -999.000,9,    257.3,2, -999.000,9, -999.000,9, -999.000,9, -999.000,9, -999.000,9, -999.000,9, -999.000,9, -999.000,9, -999.000,9
           NA,    AR19,     30,   1,      12,  300734,  2,19980508,2330,  46.8200,  -26.9950,     7,   1496.8,   4.0190,  34.9540,2,  34.9543,2, -999.000,9,    265.5,2, -999.000,9, -999.000,9, -999.000,9, -999.000,9, -999.000,9, -999.000,9, -999.000,9, -999.000,9, -999.000,9
           NA,    AR19,     30,   1,      11,  300733,  2,19980508,2330,  46.8200,  -26.9950,     7,   1598.9,   3.8666,  34.9464,2,  34.9462,2, -999.000,9,    266.1,2, -999.000,9, -999.000,9, -999.000,9, -999.000,9, -999.000,9, -999.000,9, -999.000,9, -999.000,9, -999.000,9
           NA,    AR19,     30,   1,      10,  300732,  2,19980508,2330,  46.8200,  -26.9950,     7,   1697.7,   3.7293,  34.9338,2,  34.9328,2, -999.000,9,    269.0,2, -999.000,9, -999.000,9, -999.000,9, -999.000,9, -999.000,9, -999.000,9, -999.000,9, -999.000,9, -999.000,9
           NA,    AR19,     30,   1,       9,  300731,  2,19980508,2330,  46.8200,  -26.9950,     7,   1798.4,   3.6439,  34.9282,2,  34.9276,2, -999.000,9,    270.5,2, -999.000,9, -999.000,9, -999.000,9, -999.000,9, -999.000,9, -999.000,9, -999.000,9, -999.000,9, -999.000,9
           NA,    AR19,     30,   1,       8,  300730,  2,19980508,2330,  46.8200,  -26.9950,     7,   1898.4,   3.5818,  34.9262,2,  34.9257,2, -999.000,9,   -999.0,3, -999.000,9, -999.000,9, -999.000,9, -999.000,9, -999.000,9, -999.000,9, -999.000,9, -999.000,9, -999.000,9
           NA,    AR19,     30,   1,       7,  300729,  2,19980508,2330,  46.8200,  -26.9950,     7,   1999.2,   3.4907,  34.9226,2,  34.9221,2, -999.000,9,    272.2,2, -999.000,9, -999.000,9, -999.000,9, -999.000,9, -999.000,9, -999.000,9, -999.000,9, -999.000,9, -999.000,9
           NA,    AR19,     30,   1,       6,  300728,  2,19980508,2330,  46.8200,  -26.9950,     7,   2099.1,   3.4851,  34.9219,2,  34.9219,2, -999.000,9,    272.0,2, -999.000,9, -999.000,9, -999.000,9, -999.000,9, -999.000,9, -999.000,9, -999.000,9, -999.000,9, -999.000,9
           NA,    AR19,     30,   1,       5,  300727,  2,19980508,2330,  46.8200,  -26.9950,     7,   2198.7,   3.4645,  34.9207,2,  34.9202,2, -999.000,9,    273.1,2, -999.000,9, -999.000,9, -999.000,9, -999.000,9, -999.000,9, -999.000,9, -999.000,9, -999.000,9, -999.000,9
           NA,    AR19,     30,   1,       4,  300726,  2,19980508,2330,  46.8200,  -26.9950,     7,   2299.7,   3.4123,  34.9204,2,  34.9201,2, -999.000,9,    272.3,2, -999.000,9, -999.000,9, -999.000,9, -999.000,9, -999.000,9, -999.000,9, -999.000,9, -999.000,9, -999.000,9
           NA,    AR19,     30,   1,       3,  300725,  2,19980508,2330,  46.8200,  -26.9950,     7,   2442.4,   3.3981,  34.9199,2,  34.9202,2, -999.000,9,    272.9,2, -999.000,9, -999.000,9, -999.000,9, -999.000,9, -999.000,9, -999.000,9, -999.000,9, -999.000,9, -999.000,9
           NA,    AR19,     30,   1,       2,  300724,  2,19980508,2330,  46.8200,  -26.9950,     7,   2512.1,   3.3817,  34.9210,2,  34.9237,2, -999.000,9,    272.8,2, -999.000,9, -999.000,9, -999.000,9, -999.000,9, -999.000,9, -999.000,9, -999.000,9, -999.000,9, -999.000,9
           NA,    AR19,     30,   1,       1,  300723,  2,19980508,2330,  46.8200,  -26.9950,     7,   2544.9,   3.3730,  34.9213,2,  34.9220,2, -999.000,9,    272.3,2, -999.000,9, -999.000,9, -999.000,9, -999.000,9, -999.000,9, -999.000,9, -999.000,9, -999.000,9, -999.000,9
           NA,    AR19,     29,   1,      24,  300722,  2,19980508,1910,  47.0617,  -26.6667,     7,      8.3,  13.4137,  35.7286,2,  35.7263,2, -999.000,9,    266.9,2, -999.000,9, -999.000,9, -999.000,9, -999.000,9, -999.000,9, -999.000,9, -999.000,9, -999.000,9, -999.000,9
           NA,    AR19,     29,   1,      23,  300721,  2,19980508,1910,  47.0617,  -26.6667,     7,     49.5,  13.2165,  35.7243,2,  35.7222,2, -999.000,9,    263.5,2, -999.000,9, -999.000,9, -999.000,9, -999.000,9, -999.000,9, -999.000,9, -999.000,9, -999.000,9, -999.000,9
           NA,    AR19,     29,   1,      22,  300720,  2,19980508,1910,  47.0617,  -26.6667,     7,     99.1,  12.7858,  35.7115,2,  35.7101,2, -999.000,9,    255.4,2, -999.000,9, -999.000,9, -999.000,9, -999.000,9, -999.000,9, -999.000,9, -999.000,9, -999.000,9, -999.000,9
           NA,    AR19,     29,   1,      21,  300719,  2,19980508,1910,  47.0617,  -26.6667,     7,    198.3,  12.6337,  35.6947,2,  35.6927,2, -999.000,9,    249.4,2, -999.000,9, -999.000,9, -999.000,9, -999.000,9, -999.000,9, -999.000,9, -999.000,9, -999.000,9, -999.000,9
           NA,    AR19,     29,   1,      20,  300718,  2,19980508,1910,  47.0617,  -26.6667,     7,    298.2,  12.1256,  35.6293,2,  35.6287,2, -999.000,9,    237.6,2, -999.000,9, -999.000,9, -999.000,9, -999.000,9, -999.000,9, -999.000,9, -999.000,9, -999.000,9, -999.000,9
           NA,    AR19,     29,   1,      19,  300717,  2,19980508,1910,  47.0617,  -26.6667,     7,    398.9,  11.5467,  35.5513,2,  35.5488,2, -999.000,9,    229.8,2, -999.000,9, -999.000,9, -999.000,9, -999.000,9, -999.000,9, -999.000,9, -999.000,9, -999.000,9, -999.000,9
           NA,    AR19,     29,   1,      18,  300716,  2,19980508,1910,  47.0617,  -26.6667,     7,    596.2,  10.3932,  35.4233,2,  35.4237,2, -999.000,9,    217.6,2, -999.000,9, -999.000,9, -999.000,9, -999.000,9, -999.000,9, -999.000,9, -999.000,9, -999.000,9, -999.000,9
           NA,    AR19,     29,   1,      17,  300715,  2,19980508,1910,  47.0617,  -26.6667,     7,    797.2,   8.2065,  35.2142,2,  35.2127,2, -999.000,9,    192.5,2, -999.000,9, -999.000,9, -999.000,9, -999.000,9, -999.000,9, -999.000,9, -999.000,9, -999.000,9, -999.000,9
           NA,    AR19,     29,   1,      16,  300714,  2,19980508,1910,  47.0617,  -26.6667,     7,    898.2,   7.1424,  35.1475,2,  35.1472,2, -999.000,9,    201.0,2, -999.000,9, -999.000,9, -999.000,9, -999.000,9, -999.000,9, -999.000,9, -999.000,9, -999.000,9, -999.000,9
           NA,    AR19,     29,   1,      15,  300713,  2,19980508,1910,  47.0617,  -26.6667,     7,    978.8,   6.8204,  35.2057,2,  35.2060,2, -999.000,9,    211.1,2, -999.000,9, -999.000,9, -999.000,9, -999.000,9, -999.000,9, -999.000,9, -999.000,9, -999.000,9, -999.000,9
           NA,    AR19,     29,   1,      14,  300712,  2,19980508,1910,  47.0617,  -26.6667,     7,   1051.1,   6.6990,  35.2562,2,  35.2544,2, -999.000,9,    216.6,2, -999.000,9, -999.000,9, -999.000,9, -999.000,9, -999.000,9, -999.000,9, -999.000,9, -999.000,9, -999.000,9
           NA,    AR19,     29,   1,      13,  300711,  2,19980508,1910,  47.0617,  -26.6667,     7,   1278.5,   4.8482,  35.0229,2,  35.0219,2, -999.000,9,    246.4,2, -999.000,9, -999.000,9, -999.000,9, -999.000,9, -999.000,9, -999.000,9, -999.000,9, -999.000,9, -999.000,9
           NA,    AR19,     29,   1,      12,  300710,  2,19980508,1910,  47.0617,  -26.6667,     7,   1398.9,   4.4433,  34.9947,2,  34.9934,2, -999.000,9,    255.4,2, -999.000,9, -999.000,9, -999.000,9, -999.000,9, -999.000,9, -999.000,9, -999.000,9, -999.000,9, -999.000,9
           NA,    AR19,     29,   1,      11,  300709,  2,19980508,1910,  47.0617,  -26.6667,     7,   1597.5,   3.9039,  34.9402,2,  34.9387,2, -999.000,9,    267.9,2, -999.000,9, -999.000,9, -999.000,9, -999.000,9, -999.000,9, -999.000,9, -999.000,9, -999.000,9, -999.000,9
           NA,    AR19,     29,   1,      10,  300708,  2,19980508,1910,  47.0617,  -26.6667,     7,   1747.5,   3.7282,  34.9313,2,  34.9315,2, -999.000,9,    270.7,2, -999.000,9, -999.000,9, -999.000,9, -999.000,9, -999.000,9, -999.000,9, -999.000,9, -999.000,9, -999.000,9
           NA,    AR19,     29,   1,       9,  300707,  2,19980508,1910,  47.0617,  -26.6667,     7,   1792.1,   3.6159,  34.9201,2,  34.9199,2, -999.000,9,    272.6,2, -999.000,9, -999.000,9, -999.000,9, -999.000,9, -999.000,9, -999.000,9, -999.000,9, -999.000,9, -999.000,9
           NA,    AR19,     29,   1,       8,  300706,  2,19980508,1910,  47.0617,  -26.6667,     7,   1895.7,   3.5018,  34.9129,2,  34.9113,2, -999.000,9,    275.2,2, -999.000,9, -999.000,9, -999.000,9, -999.000,9, -999.000,9, -999.000,9, -999.000,9, -999.000,9, -999.000,9
           NA,    AR19,     29,   1,       7,  300705,  2,19980508,1910,  47.0617,  -26.6667,     7,   2046.5,   3.4381,  34.9139,2,  34.9139,2, -999.000,9,    275.5,2, -999.000,9, -999.000,9, -999.000,9, -999.000,9, -999.000,9, -999.000,9, -999.000,9, -999.000,9, -999.000,9
           NA,    AR19,     29,   1,       6,  300704,  2,19980508,1910,  47.0617,  -26.6667,     7,   2200.6,   3.3435,  34.9165,2,  34.9171,2, -999.000,9,    274.7,2, -999.000,9, -999.000,9, -999.000,9, -999.000,9, -999.000,9, -999.000,9, -999.000,9, -999.000,9, -999.000,9
           NA,    AR19,     29,   1,       5,  300703,  2,19980508,1910,  47.0617,  -26.6667,     7,   2296.0,   3.3101,  34.9201,2,  34.9198,2, -999.000,9,    273.8,2, -999.000,9, -999.000,9, -999.000,9, -999.000,9, -999.000,9, -999.000,9, -999.000,9, -999.000,9, -999.000,9
           NA,    AR19,     29,   1,       4,  300702,  2,19980508,1910,  47.0617,  -26.6667,     7,   2498.5,   3.2568,  34.9256,2,  34.9261,2, -999.000,9,    272.3,2, -999.000,9, -999.000,9, -999.000,9, -999.000,9, -999.000,9, -999.000,9, -999.000,9, -999.000,9, -999.000,9
           NA,    AR19,     29,   1,       3,  300701,  2,19980508,1910,  47.0617,  -26.6667,     7,   2640.9,   3.2142,  34.9304,2,  34.9308,2, -999.000,9,    270.2,2, -999.000,9, -999.000,9, -999.000,9, -999.000,9, -999.000,9, -999.000,9, -999.000,9, -999.000,9, -999.000,9
           NA,    AR19,     29,   1,       2,  300700,  2,19980508,1910,  47.0617,  -26.6667,     7,   2714.2,   3.2082,  34.9318,2,  34.9328,2, -999.000,9,    270.0,2, -999.000,9, -999.000,9, -999.000,9, -999.000,9, -999.000,9, -999.000,9, -999.000,9, -999.000,9, -999.000,9
           NA,    AR19,     29,   1,       1,  300699,  2,19980508,1910,  47.0617,  -26.6667,     7,   2739.5,   3.2065,  34.9320,2,  34.9328,2, -999.000,9,    269.3,2, -999.000,9, -999.000,9, -999.000,9, -999.000,9, -999.000,9, -999.000,9, -999.000,9, -999.000,9, -999.000,9