BOTTLE,20214525JOAExport
EXPOCODE,SECT_ID,STNNBR,CASTNO,SAMPNO,BTLNBR,BTLNBR_FLAG_W,DATE,TIME,LATITUDE,LONGITUDE,DEPTH,CTDPRS,CTDTMP,CTDSAL,CTDSAL_FLAG_W,SALNTY,SALNTY_FLAG_W,CTDOXY,CTDOXY_FLAG_W,OXYGEN,OXYGEN_FLAG_W,SILCAT,SILCAT_FLAG_W,NITRAT,NITRAT_FLAG_W,NITRIT,NITRIT_FLAG_W,PHSPHT,PHSPHT_FLAG_W,CFC-11,CFC-11_FLAG_W,CFC-12,CFC-12_FLAG_W,SF6,SF6_FLAG_W,TCARBN,TCARBN_FLAG_W,ALKALI,ALKALI_FLAG_W
,,,,,,,,,,,,DB,ITS-90,PSS-78,,PSS-78,,UMOL/KG,,UMOL/KG,,UMOL/KG,,UMOL/KG,,UMOL/KG,,UMOL/KG,,PMOL/KG,,PMOL/KG,,FMOL/KG,,UMOL/KG,,UMOL/KG
           NA,    AR19,     42,   1,      24,  301034,  2,19980513,2155,  44.7600,  -35.4350,    10,     11.1,  14.6063,  35.8981,2,  35.8948,2, -999.000,9,    254.9,2, -999.000,9, -999.000,9, -999.000,9, -999.000,9, -999.000,9, -999.000,9, -999.000,9, -999.000,9, -999.000,9
           NA,    AR19,     42,   1,      23,  301033,  2,19980513,2155,  44.7600,  -35.4350,    10,     50.0,  14.6110,  35.8977,2,  35.8969,2, -999.000,9,    259.7,2, -999.000,9, -999.000,9, -999.000,9, -999.000,9, -999.000,9, -999.000,9, -999.000,9, -999.000,9, -999.000,9
           NA,    AR19,     42,   1,      22,  301032,  2,19980513,2155,  44.7600,  -35.4350,    10,    104.9,  14.1143,  35.8736,2,  35.8754,2, -999.000,9,    242.7,2, -999.000,9, -999.000,9, -999.000,9, -999.000,9, -999.000,9, -999.000,9, -999.000,9, -999.000,9, -999.000,9
           NA,    AR19,     42,   1,      21,  301031,  2,19980513,2155,  44.7600,  -35.4350,    10,    198.5,  12.9199,  35.6728,2,  35.6725,2, -999.000,9,    205.7,2, -999.000,9, -999.000,9, -999.000,9, -999.000,9, -999.000,9, -999.000,9, -999.000,9, -999.000,9, -999.000,9
           NA,    AR19,     42,   1,      20,  301030,  2,19980513,2155,  44.7600,  -35.4350,    10,    403.4,  10.1019,  35.2912,2,-999.0000,3, -999.000,9,    183.9,2, -999.000,9, -999.000,9, -999.000,9, -999.000,9, -999.000,9, -999.000,9, -999.000,9, -999.000,9, -999.000,9
           NA,    AR19,     42,   1,      19,  301029,  2,19980513,2155,  44.7600,  -35.4350,    10,    627.9,   7.0646,  35.0723,2,  35.0741,2, -999.000,9,    197.3,2, -999.000,9, -999.000,9, -999.000,9, -999.000,9, -999.000,9, -999.000,9, -999.000,9, -999.000,9, -999.000,9
           NA,    AR19,     42,   1,      18,  301028,  2,19980513,2155,  44.7600,  -35.4350,    10,    804.0,   5.4537,  35.0142,2,  35.0161,2, -999.000,9,    236.4,2, -999.000,9, -999.000,9, -999.000,9, -999.000,9, -999.000,9, -999.000,9, -999.000,9, -999.000,9, -999.000,9
           NA,    AR19,     42,   1,      17,  301027,  2,19980513,2155,  44.7600,  -35.4350,    10,    899.4,   5.0702,  35.0046,2,  35.0016,2, -999.000,9,    238.1,2, -999.000,9, -999.000,9, -999.000,9, -999.000,9, -999.000,9, -999.000,9, -999.000,9, -999.000,9, -999.000,9
           NA,    AR19,     42,   1,      16,  301026,  2,19980513,2155,  44.7600,  -35.4350,    10,   1001.4,   4.7771,  35.0126,2,  35.0144,2, -999.000,9,    246.0,2, -999.000,9, -999.000,9, -999.000,9, -999.000,9, -999.000,9, -999.000,9, -999.000,9, -999.000,9, -999.000,9
           NA,    AR19,     42,   1,      15,  301025,  2,19980513,2155,  44.7600,  -35.4350,    10,   1250.2,   4.0779,  34.9526,2,  34.9552,2, -999.000,9,    262.0,2, -999.000,9, -999.000,9, -999.000,9, -999.000,9, -999.000,9, -999.000,9, -999.000,9, -999.000,9, -999.000,9
           NA,    AR19,     42,   1,      14,  301024,  2,19980513,2155,  44.7600,  -35.4350,    10,   1498.4,   3.6651,  34.9174,2,  34.9175,2, -999.000,9,    274.2,2, -999.000,9, -999.000,9, -999.000,9, -999.000,9, -999.000,9, -999.000,9, -999.000,9, -999.000,9, -999.000,9
           NA,    AR19,     42,   1,      13,  301023,  2,19980513,2155,  44.7600,  -35.4350,    10,   1746.7,   3.4404,  34.9038,2,-999.0000,3, -999.000,9,    280.7,2, -999.000,9, -999.000,9, -999.000,9, -999.000,9, -999.000,9, -999.000,9, -999.000,9, -999.000,9, -999.000,9
           NA,    AR19,     42,   1,      12,  301022,  2,19980513,2155,  44.7600,  -35.4350,    10,   1997.0,   3.2526,  34.8883,2,  34.8880,2, -999.000,9,    284.2,2, -999.000,9, -999.000,9, -999.000,9, -999.000,9, -999.000,9, -999.000,9, -999.000,9, -999.000,9, -999.000,9
           NA,    AR19,     42,   1,      11,  301021,  2,19980513,2155,  44.7600,  -35.4350,    10,   2052.3,   3.2108,  34.8858,2,  34.8862,2, -999.000,9,    284.6,2, -999.000,9, -999.000,9, -999.000,9, -999.000,9, -999.000,9, -999.000,9, -999.000,9, -999.000,9, -999.000,9
           NA,    AR19,     42,   1,      10,  301020,  2,19980513,2155,  44.7600,  -35.4350,    10,   2249.2,   3.1874,  34.8975,2,  34.8965,2, -999.000,9,    282.4,2, -999.000,9, -999.000,9, -999.000,9, -999.000,9, -999.000,9, -999.000,9, -999.000,9, -999.000,9, -999.000,9
           NA,    AR19,     42,   1,       9,  301019,  2,19980513,2155,  44.7600,  -35.4350,    10,   2496.9,   3.1843,  34.9221,2,  34.9225,2, -999.000,9,    275.0,2, -999.000,9, -999.000,9, -999.000,9, -999.000,9, -999.000,9, -999.000,9, -999.000,9, -999.000,9, -999.000,9
           NA,    AR19,     42,   1,       8,  301018,  2,19980513,2155,  44.7600,  -35.4350,    10,   2749.3,   3.0258,  34.9259,2,  34.9266,2, -999.000,9,    274.6,2, -999.000,9, -999.000,9, -999.000,9, -999.000,9, -999.000,9, -999.000,9, -999.000,9, -999.000,9, -999.000,9
           NA,    AR19,     42,   1,       7,  301017,  2,19980513,2155,  44.7600,  -35.4350,    10,   2897.2,   2.9382,  34.9285,2,  34.9286,2, -999.000,9,    274.2,2, -999.000,9, -999.000,9, -999.000,9, -999.000,9, -999.000,9, -999.000,9, -999.000,9, -999.000,9, -999.000,9
           NA,    AR19,     42,   1,       6,  301016,  2,19980513,2155,  44.7600,  -35.4350,    10,   3247.4,   2.6465,  34.9209,2,  34.9201,2, -999.000,9,    274.2,2, -999.000,9, -999.000,9, -999.000,9, -999.000,9, -999.000,9, -999.000,9, -999.000,9, -999.000,9, -999.000,9
           NA,    AR19,     42,   1,       5,  301015,  2,19980513,2155,  44.7600,  -35.4350,    10,   3494.3,   2.4731,  34.9127,2,  34.9123,2, -999.000,9,    274.2,2, -999.000,9, -999.000,9, -999.000,9, -999.000,9, -999.000,9, -999.000,9, -999.000,9, -999.000,9, -999.000,9
           NA,    AR19,     42,   1,       4,  301014,  2,19980513,2155,  44.7600,  -35.4350,    10,   3745.9,   2.3716,  34.9053,2,  34.9051,2, -999.000,9,    275.0,2, -999.000,9, -999.000,9, -999.000,9, -999.000,9, -999.000,9, -999.000,9, -999.000,9, -999.000,9, -999.000,9
           NA,    AR19,     42,   1,       3,  301013,  2,19980513,2155,  44.7600,  -35.4350,    10,   3916.8,   2.3200,  34.9011,2,  34.9016,2, -999.000,9,    275.0,2, -999.000,9, -999.000,9, -999.000,9, -999.000,9, -999.000,9, -999.000,9, -999.000,9, -999.000,9, -999.000,9
           NA,    AR19,     42,   1,       2,  301012,  2,19980513,2155,  44.7600,  -35.4350,    10,   4006.2,   2.2986,  34.8992,2,  34.8992,2, -999.000,9,    275.9,2, -999.000,9, -999.000,9, -999.000,9, -999.000,9, -999.000,9, -999.000,9, -999.000,9, -999.000,9, -999.000,9
           NA,    AR19,     42,   1,       1,  301011,  2,19980513,2155,  44.7600,  -35.4350,    10,   4023.6,   2.3009,  34.8995,2,  34.8996,2, -999.000,9,    275.0,2, -999.000,9, -999.000,9, -999.000,9, -999.000,9, -999.000,9, -999.000,9, -999.000,9, -999.000,9, -999.000,9
           NA,    AR19,     41,   1,      24,  301010,  2,19980513,1554,  44.9333,  -34.7933,    22,     12.0,  14.5065,  35.8589,2,  35.8592,2, -999.000,9,    255.2,2, -999.000,9, -999.000,9, -999.000,9, -999.000,9, -999.000,9, -999.000,9, -999.000,9, -999.000,9, -999.000,9
           NA,    AR19,     41,   1,      23,  301009,  2,19980513,1554,  44.9333,  -34.7933,    22,     49.5,  14.2557,  35.8406,2,  35.8411,2, -999.000,9,    253.5,2, -999.000,9, -999.000,9, -999.000,9, -999.000,9, -999.000,9, -999.000,9, -999.000,9, -999.000,9, -999.000,9
           NA,    AR19,     41,   1,      22,  301008,  2,19980513,1554,  44.9333,  -34.7933,    22,     98.7,  13.2066,  35.7309,2,  35.7305,2, -999.000,9,    246.2,2, -999.000,9, -999.000,9, -999.000,9, -999.000,9, -999.000,9, -999.000,9, -999.000,9, -999.000,9, -999.000,9
           NA,    AR19,     41,   1,      21,  301007,  2,19980513,1554,  44.9333,  -34.7933,    22,    201.4,  12.7339,  35.6587,2,-999.0000,3, -999.000,9,    237.7,2, -999.000,9, -999.000,9, -999.000,9, -999.000,9, -999.000,9, -999.000,9, -999.000,9, -999.000,9, -999.000,9
           NA,    AR19,     41,   1,      20,  301006,  2,19980513,1554,  44.9333,  -34.7933,    22,    398.5,  10.6872,  35.3831,2,-999.0000,3, -999.000,9,    185.5,2, -999.000,9, -999.000,9, -999.000,9, -999.000,9, -999.000,9, -999.000,9, -999.000,9, -999.000,9, -999.000,9
           NA,    AR19,     41,   1,      19,  301005,  2,19980513,1554,  44.9333,  -34.7933,    22,    601.8,   7.5428,  35.0800,2,-999.0000,3, -999.000,9,    184.4,2, -999.000,9, -999.000,9, -999.000,9, -999.000,9, -999.000,9, -999.000,9, -999.000,9, -999.000,9, -999.000,9
           NA,    AR19,     41,   1,      18,  301004,  2,19980513,1554,  44.9333,  -34.7933,    22,    751.2,   6.1058,  35.0578,2,  35.0591,2, -999.000,9,    212.3,2, -999.000,9, -999.000,9, -999.000,9, -999.000,9, -999.000,9, -999.000,9, -999.000,9, -999.000,9, -999.000,9
           NA,    AR19,     41,   1,      17,  301003,  2,19980513,1554,  44.9333,  -34.7933,    22,    902.4,   5.5467,  35.0882,2,  35.0889,2, -999.000,9,    228.7,2, -999.000,9, -999.000,9, -999.000,9, -999.000,9, -999.000,9, -999.000,9, -999.000,9, -999.000,9, -999.000,9
           NA,    AR19,     41,   1,      16,  301002,  2,19980513,1554,  44.9333,  -34.7933,    22,   1000.1,   4.8914,  35.0200,2,  35.0231,2, -999.000,9,    242.7,2, -999.000,9, -999.000,9, -999.000,9, -999.000,9, -999.000,9, -999.000,9, -999.000,9, -999.000,9, -999.000,9
           NA,    AR19,     41,   1,      15,  301001,  2,19980513,1554,  44.9333,  -34.7933,    22,   1103.3,   4.5381,  34.9937,2,-999.0000,3, -999.000,9,    253.5,2, -999.000,9, -999.000,9, -999.000,9, -999.000,9, -999.000,9, -999.000,9, -999.000,9, -999.000,9, -999.000,9
           NA,    AR19,     41,   1,      14,  301000,  2,19980513,1554,  44.9333,  -34.7933,    22,   1249.1,   4.1878,  34.9656,2,  34.9644,2, -999.000,9,    260.5,2, -999.000,9, -999.000,9, -999.000,9, -999.000,9, -999.000,9, -999.000,9, -999.000,9, -999.000,9, -999.000,9
           NA,    AR19,     41,   1,      12,  300998,  2,19980513,1554,  44.9333,  -34.7933,    22,   1747.6,   3.4197,  34.8950,2,  34.8970,2, -999.000,9,    279.3,2, -999.000,9, -999.000,9, -999.000,9, -999.000,9, -999.000,9, -999.000,9, -999.000,9, -999.000,9, -999.000,9
           NA,    AR19,     41,   1,      11,  300997,  2,19980513,1554,  44.9333,  -34.7933,    22,   1998.4,   3.2324,  34.8832,2,  34.8831,2, -999.000,9,    284.8,2, -999.000,9, -999.000,9, -999.000,9, -999.000,9, -999.000,9, -999.000,9, -999.000,9, -999.000,9, -999.000,9
           NA,    AR19,     41,   1,      10,  300996,  2,19980513,1554,  44.9333,  -34.7933,    22,   2195.9,   3.1568,  34.8810,2,  34.8808,2, -999.000,9,    285.8,2, -999.000,9, -999.000,9, -999.000,9, -999.000,9, -999.000,9, -999.000,9, -999.000,9, -999.000,9, -999.000,9
           NA,    AR19,     41,   1,       9,  300995,  2,19980513,1554,  44.9333,  -34.7933,    22,   2497.1,   3.1803,  34.9095,2,  34.9123,2, -999.000,9,    278.4,2, -999.000,9, -999.000,9, -999.000,9, -999.000,9, -999.000,9, -999.000,9, -999.000,9, -999.000,9, -999.000,9
           NA,    AR19,     41,   1,       8,  300994,  2,19980513,1554,  44.9333,  -34.7933,    22,   2750.7,   3.0832,  34.9242,2,  34.9243,2, -999.000,9,    274.1,2, -999.000,9, -999.000,9, -999.000,9, -999.000,9, -999.000,9, -999.000,9, -999.000,9, -999.000,9, -999.000,9
           NA,    AR19,     41,   1,       7,  300993,  2,19980513,1554,  44.9333,  -34.7933,    22,   2996.6,   2.9057,  34.9265,2,  34.9258,2, -999.000,9,    273.0,2, -999.000,9, -999.000,9, -999.000,9, -999.000,9, -999.000,9, -999.000,9, -999.000,9, -999.000,9, -999.000,9
           NA,    AR19,     41,   1,       6,  300992,  2,19980513,1554,  44.9333,  -34.7933,    22,   3254.2,   2.6792,  34.9201,2,  34.9207,2, -999.000,9,    272.6,2, -999.000,9, -999.000,9, -999.000,9, -999.000,9, -999.000,9, -999.000,9, -999.000,9, -999.000,9, -999.000,9
           NA,    AR19,     41,   1,       5,  300991,  2,19980513,1554,  44.9333,  -34.7933,    22,   3499.8,   2.4943,  34.9120,2,  34.9119,2, -999.000,9,    273.0,2, -999.000,9, -999.000,9, -999.000,9, -999.000,9, -999.000,9, -999.000,9, -999.000,9, -999.000,9, -999.000,9
           NA,    AR19,     41,   1,       4,  300990,  2,19980513,1554,  44.9333,  -34.7933,    22,   3749.5,   2.3782,  34.9036,2,  34.9038,2, -999.000,9,    273.9,2, -999.000,9, -999.000,9, -999.000,9, -999.000,9, -999.000,9, -999.000,9, -999.000,9, -999.000,9, -999.000,9
           NA,    AR19,     41,   1,       3,  300989,  2,19980513,1554,  44.9333,  -34.7933,    22,   4068.2,   2.2944,  34.8967,2,  34.8969,2, -999.000,9,    275.9,2, -999.000,9, -999.000,9, -999.000,9, -999.000,9, -999.000,9, -999.000,9, -999.000,9, -999.000,9, -999.000,9
           NA,    AR19,     41,   1,       2,  300988,  2,19980513,1554,  44.9333,  -34.7933,    22,   4122.9,   2.2829,  34.8959,2,  34.8951,2, -999.000,9,   -999.0,3, -999.000,9, -999.000,9, -999.000,9, -999.000,9, -999.000,9, -999.000,9, -999.000,9, -999.000,9, -999.000,9
           NA,    AR19,     41,   1,       1,  300987,  2,19980513,1554,  44.9333,  -34.7933,    22,   4150.2,   2.2801,  34.8952,2,  34.8959,2, -999.000,9,    276.8,2, -999.000,9, -999.000,9, -999.000,9, -999.000,9, -999.000,9, -999.000,9, -999.000,9, -999.000,9, -999.000,9
           NA,    AR19,     40,   1,      24,  300986,  2,19980513,0950,  45.1333,  -34.0967,    17,      9.8,  14.4001,  35.8530,2,  35.8505,2, -999.000,9,    257.9,2, -999.000,9, -999.000,9, -999.000,9, -999.000,9, -999.000,9, -999.000,9, -999.000,9, -999.000,9, -999.000,9
           NA,    AR19,     40,   1,      23,  300985,  2,19980513,0950,  45.1333,  -34.0967,    17,     50.0,  14.4096,  35.8547,2,  35.8512,2, -999.000,9,    258.3,2, -999.000,9, -999.000,9, -999.000,9, -999.000,9, -999.000,9, -999.000,9, -999.000,9, -999.000,9, -999.000,9
           NA,    AR19,     40,   1,      22,  300984,  2,19980513,0950,  45.1333,  -34.0967,    17,    100.5,  13.8981,  35.8374,2,  35.8340,2, -999.000,9,    244.0,2, -999.000,9, -999.000,9, -999.000,9, -999.000,9, -999.000,9, -999.000,9, -999.000,9, -999.000,9, -999.000,9
           NA,    AR19,     40,   1,      21,  300983,  2,19980513,0950,  45.1333,  -34.0967,    17,    198.6,  13.0347,  35.7150,2,  35.7124,2, -999.000,9,    241.7,2, -999.000,9, -999.000,9, -999.000,9, -999.000,9, -999.000,9, -999.000,9, -999.000,9, -999.000,9, -999.000,9
           NA,    AR19,     40,   1,      20,  300982,  2,19980513,0950,  45.1333,  -34.0967,    17,    400.8,  11.3968,  35.4524,2,  35.4495,2, -999.000,9,    214.2,2, -999.000,9, -999.000,9, -999.000,9, -999.000,9, -999.000,9, -999.000,9, -999.000,9, -999.000,9, -999.000,9
           NA,    AR19,     40,   1,      19,  300981,  2,19980513,0950,  45.1333,  -34.0967,    17,    597.2,   8.9745,  35.1926,2,  35.1902,2, -999.000,9,    190.5,2, -999.000,9, -999.000,9, -999.000,9, -999.000,9, -999.000,9, -999.000,9, -999.000,9, -999.000,9, -999.000,9
           NA,    AR19,     40,   1,      18,  300980,  2,19980513,0950,  45.1333,  -34.0967,    17,    735.3,   7.2380,  35.0863,2,  35.0851,2, -999.000,9,    195.6,2, -999.000,9, -999.000,9, -999.000,9, -999.000,9, -999.000,9, -999.000,9, -999.000,9, -999.000,9, -999.000,9
           NA,    AR19,     40,   1,      17,  300979,  2,19980513,0950,  45.1333,  -34.0967,    17,    837.4,   6.5495,  35.1120,2,  35.1101,2, -999.000,9,    207.9,2, -999.000,9, -999.000,9, -999.000,9, -999.000,9, -999.000,9, -999.000,9, -999.000,9, -999.000,9, -999.000,9
           NA,    AR19,     40,   1,      16,  300978,  2,19980513,0950,  45.1333,  -34.0967,    17,   1000.1,   4.9905,  34.9891,2,  34.9877,2, -999.000,9,    238.9,2, -999.000,9, -999.000,9, -999.000,9, -999.000,9, -999.000,9, -999.000,9, -999.000,9, -999.000,9, -999.000,9
           NA,    AR19,     40,   1,      15,  300977,  2,19980513,0950,  45.1333,  -34.0967,    17,   1089.2,   4.8800,  35.0204,2,  35.0202,2, -999.000,9,    243.4,2, -999.000,9, -999.000,9, -999.000,9, -999.000,9, -999.000,9, -999.000,9, -999.000,9, -999.000,9, -999.000,9
           NA,    AR19,     40,   1,      14,  300976,  2,19980513,0950,  45.1333,  -34.0967,    17,   1201.9,   4.4896,  34.9934,2,-999.0000,4, -999.000,9,    260.8,2, -999.000,9, -999.000,9, -999.000,9, -999.000,9, -999.000,9, -999.000,9, -999.000,9, -999.000,9, -999.000,9
           NA,    AR19,     40,   1,      13,  300975,  2,19980513,0950,  45.1333,  -34.0967,    17,   1385.8,   4.0122,  34.9510,2,  34.9501,2, -999.000,9,    264.0,2, -999.000,9, -999.000,9, -999.000,9, -999.000,9, -999.000,9, -999.000,9, -999.000,9, -999.000,9, -999.000,9
           NA,    AR19,     40,   1,      12,  300974,  2,19980513,0950,  45.1333,  -34.0967,    17,   1501.2,   3.7813,  34.9286,2,  34.9271,2, -999.000,9,    269.9,2, -999.000,9, -999.000,9, -999.000,9, -999.000,9, -999.000,9, -999.000,9, -999.000,9, -999.000,9, -999.000,9
           NA,    AR19,     40,   1,      11,  300973,  2,19980513,0950,  45.1333,  -34.0967,    17,   1746.7,   3.4898,  34.9042,2,  34.9024,2, -999.000,9,    277.1,2, -999.000,9, -999.000,9, -999.000,9, -999.000,9, -999.000,9, -999.000,9, -999.000,9, -999.000,9, -999.000,9
           NA,    AR19,     40,   1,      10,  300972,  2,19980513,0950,  45.1333,  -34.0967,    17,   2000.2,   3.2868,  34.8914,2,  34.8895,2, -999.000,9,    282.8,2, -999.000,9, -999.000,9, -999.000,9, -999.000,9, -999.000,9, -999.000,9, -999.000,9, -999.000,9, -999.000,9
           NA,    AR19,     40,   1,       9,  300971,  2,19980513,0950,  45.1333,  -34.0967,    17,   2248.3,   3.2163,  34.8951,2,  34.8927,2, -999.000,9,    282.8,2, -999.000,9, -999.000,9, -999.000,9, -999.000,9, -999.000,9, -999.000,9, -999.000,9, -999.000,9, -999.000,9
           NA,    AR19,     40,   1,       8,  300970,  2,19980513,0950,  45.1333,  -34.0967,    17,   2497.3,   3.2007,  34.9118,2,  34.9123,2, -999.000,9,    277.4,2, -999.000,9, -999.000,9, -999.000,9, -999.000,9, -999.000,9, -999.000,9, -999.000,9, -999.000,9, -999.000,9
           NA,    AR19,     40,   1,       6,  300968,  2,19980513,0950,  45.1333,  -34.0967,    17,   2999.4,   2.9263,  34.9250,2,  34.9249,2, -999.000,9,    274.6,2, -999.000,9, -999.000,9, -999.000,9, -999.000,9, -999.000,9, -999.000,9, -999.000,9, -999.000,9, -999.000,9
           NA,    AR19,     40,   1,       5,  300967,  2,19980513,0950,  45.1333,  -34.0967,    17,   3249.8,   2.7403,  34.9228,2,  34.9233,2, -999.000,9,    273.8,2, -999.000,9, -999.000,9, -999.000,9, -999.000,9, -999.000,9, -999.000,9, -999.000,9, -999.000,9, -999.000,9
           NA,    AR19,     40,   1,       4,  300966,  2,19980513,0950,  45.1333,  -34.0967,    17,   3498.4,   2.5118,  34.9140,2,  34.9144,2, -999.000,9,    273.7,2, -999.000,9, -999.000,9, -999.000,9, -999.000,9, -999.000,9, -999.000,9, -999.000,9, -999.000,9, -999.000,9
           NA,    AR19,     40,   1,       3,  300965,  2,19980513,0950,  45.1333,  -34.0967,    17,   3596.4,   2.4826,  34.9125,2,  34.9105,2, -999.000,9,    273.6,2, -999.000,9, -999.000,9, -999.000,9, -999.000,9, -999.000,9, -999.000,9, -999.000,9, -999.000,9, -999.000,9
           NA,    AR19,     40,   1,       2,  300964,  2,19980513,0950,  45.1333,  -34.0967,    17,   3681.8,   2.4631,  34.9106,2,  34.9121,2, -999.000,9,    274.2,2, -999.000,9, -999.000,9, -999.000,9, -999.000,9, -999.000,9, -999.000,9, -999.000,9, -999.000,9, -999.000,9
           NA,    AR19,     40,   1,       1,  300963,  2,19980513,0950,  45.1333,  -34.0967,    17,   3705.8,   2.4629,  34.9105,2,  34.9123,2, -999.000,9,    272.8,2, -999.000,9, -999.000,9, -999.000,9, -999.000,9, -999.000,9, -999.000,9, -999.000,9, -999.000,9, -999.000,9