BOTTLE,20214525JOAExport
EXPOCODE,SECT_ID,STNNBR,CASTNO,SAMPNO,BTLNBR,BTLNBR_FLAG_W,DATE,TIME,LATITUDE,LONGITUDE,DEPTH,CTDPRS,CTDTMP,CTDSAL,CTDSAL_FLAG_W,SALNTY,SALNTY_FLAG_W,CTDOXY,CTDOXY_FLAG_W,OXYGEN,OXYGEN_FLAG_W,SILCAT,SILCAT_FLAG_W,NITRAT,NITRAT_FLAG_W,NITRIT,NITRIT_FLAG_W,PHSPHT,PHSPHT_FLAG_W,CFC-11,CFC-11_FLAG_W,CFC-12,CFC-12_FLAG_W,SF6,SF6_FLAG_W,TCARBN,TCARBN_FLAG_W,ALKALI,ALKALI_FLAG_W
,,,,,,,,,,,,DB,ITS-90,PSS-78,,PSS-78,,UMOL/KG,,UMOL/KG,,UMOL/KG,,UMOL/KG,,UMOL/KG,,UMOL/KG,,PMOL/KG,,PMOL/KG,,FMOL/KG,,UMOL/KG,,UMOL/KG
           NA,    AR19,     58,   1,      24,  301466,  2,19980518,1824,  42.5333,  -46.5917,    12,     10.2,  16.2512,  35.3408,2,  35.3407,2, -999.000,9,    252.6,2, -999.000,9, -999.000,9, -999.000,9, -999.000,9, -999.000,9, -999.000,9, -999.000,9, -999.000,9, -999.000,9
           NA,    AR19,     58,   1,      23,  301465,  2,19980518,1824,  42.5333,  -46.5917,    12,     52.0,  13.5402,  34.9639,2,  34.9620,2, -999.000,9,    267.1,2, -999.000,9, -999.000,9, -999.000,9, -999.000,9, -999.000,9, -999.000,9, -999.000,9, -999.000,9, -999.000,9
           NA,    AR19,     58,   1,      22,  301464,  2,19980518,1824,  42.5333,  -46.5917,    12,    100.8,   8.1310,  34.4138,2,-999.0000,3, -999.000,9,    266.1,2, -999.000,9, -999.000,9, -999.000,9, -999.000,9, -999.000,9, -999.000,9, -999.000,9, -999.000,9, -999.000,9
           NA,    AR19,     58,   1,      21,  301463,  2,19980518,1824,  42.5333,  -46.5917,    12,    200.1,   9.8992,  35.2454,2,-999.0000,3, -999.000,9,    162.0,2, -999.000,9, -999.000,9, -999.000,9, -999.000,9, -999.000,9, -999.000,9, -999.000,9, -999.000,9, -999.000,9
           NA,    AR19,     58,   1,      20,  301462,  2,19980518,1824,  42.5333,  -46.5917,    12,    399.9,   6.5721,  35.0178,2,  35.0218,2, -999.000,9,    198.5,2, -999.000,9, -999.000,9, -999.000,9, -999.000,9, -999.000,9, -999.000,9, -999.000,9, -999.000,9, -999.000,9
           NA,    AR19,     58,   1,      19,  301461,  2,19980518,1824,  42.5333,  -46.5917,    12,    598.6,   4.9074,  34.9570,2,-999.0000,3, -999.000,9,    241.3,2, -999.000,9, -999.000,9, -999.000,9, -999.000,9, -999.000,9, -999.000,9, -999.000,9, -999.000,9, -999.000,9
           NA,    AR19,     58,   1,      17,  301459,  2,19980518,1824,  42.5333,  -46.5917,    12,    998.3,   4.3551,  34.9959,2,  34.9979,2, -999.000,9,    255.3,2, -999.000,9, -999.000,9, -999.000,9, -999.000,9, -999.000,9, -999.000,9, -999.000,9, -999.000,9, -999.000,9
           NA,    AR19,     58,   1,      16,  301458,  2,19980518,1824,  42.5333,  -46.5917,    12,   1253.0,   3.9175,  34.9561,2,  34.9598,2, -999.000,9,    265.4,2, -999.000,9, -999.000,9, -999.000,9, -999.000,9, -999.000,9, -999.000,9, -999.000,9, -999.000,9, -999.000,9
           NA,    AR19,     58,   1,      15,  301457,  2,19980518,1824,  42.5333,  -46.5917,    12,   1501.6,   3.5310,  34.9164,2,  34.9137,2, -999.000,9,    276.5,2, -999.000,9, -999.000,9, -999.000,9, -999.000,9, -999.000,9, -999.000,9, -999.000,9, -999.000,9, -999.000,9
           NA,    AR19,     58,   1,      14,  301456,  2,19980518,1824,  42.5333,  -46.5917,    12,   1753.3,   3.4508,  34.9212,2,  34.9225,2, -999.000,9,    275.3,2, -999.000,9, -999.000,9, -999.000,9, -999.000,9, -999.000,9, -999.000,9, -999.000,9, -999.000,9, -999.000,9
           NA,    AR19,     58,   1,      13,  301455,  2,19980518,1824,  42.5333,  -46.5917,    12,   1998.7,   3.1642,  34.8880,2,  34.8881,2, -999.000,9,    284.6,2, -999.000,9, -999.000,9, -999.000,9, -999.000,9, -999.000,9, -999.000,9, -999.000,9, -999.000,9, -999.000,9
           NA,    AR19,     58,   1,      12,  301454,  2,19980518,1824,  42.5333,  -46.5917,    12,   2251.7,   3.1349,  34.9044,2,  34.9036,2, -999.000,9,    280.0,2, -999.000,9, -999.000,9, -999.000,9, -999.000,9, -999.000,9, -999.000,9, -999.000,9, -999.000,9, -999.000,9
           NA,    AR19,     58,   1,      11,  301453,  2,19980518,1824,  42.5333,  -46.5917,    12,   2499.7,   3.0635,  34.9150,2,  34.9152,2, -999.000,9,    277.2,2, -999.000,9, -999.000,9, -999.000,9, -999.000,9, -999.000,9, -999.000,9, -999.000,9, -999.000,9, -999.000,9
           NA,    AR19,     58,   1,      10,  301452,  2,19980518,1824,  42.5333,  -46.5917,    12,   2744.6,   2.9951,  34.9330,2,  34.9315,2, -999.000,9,   -999.0,3, -999.000,9, -999.000,9, -999.000,9, -999.000,9, -999.000,9, -999.000,9, -999.000,9, -999.000,9, -999.000,9
           NA,    AR19,     58,   1,       8,  301450,  2,19980518,1824,  42.5333,  -46.5917,    12,   3249.0,   2.5772,  34.9142,2,  34.9142,2, -999.000,9,    274.3,2, -999.000,9, -999.000,9, -999.000,9, -999.000,9, -999.000,9, -999.000,9, -999.000,9, -999.000,9, -999.000,9
           NA,    AR19,     58,   1,       7,  301449,  2,19980518,1824,  42.5333,  -46.5917,    12,   3499.1,   2.4130,  34.9062,2,  34.9066,2, -999.000,9,    273.2,2, -999.000,9, -999.000,9, -999.000,9, -999.000,9, -999.000,9, -999.000,9, -999.000,9, -999.000,9, -999.000,9
           NA,    AR19,     58,   1,       6,  301448,  2,19980518,1824,  42.5333,  -46.5917,    12,   3750.6,   2.3187,  34.9002,2,  34.9002,2, -999.000,9,    273.6,2, -999.000,9, -999.000,9, -999.000,9, -999.000,9, -999.000,9, -999.000,9, -999.000,9, -999.000,9, -999.000,9
           NA,    AR19,     58,   1,       5,  301447,  2,19980518,1824,  42.5333,  -46.5917,    12,   3999.0,   2.2516,  34.8942,2,  34.8943,2, -999.000,9,    272.0,2, -999.000,9, -999.000,9, -999.000,9, -999.000,9, -999.000,9, -999.000,9, -999.000,9, -999.000,9, -999.000,9
           NA,    AR19,     58,   1,       4,  301446,  2,19980518,1824,  42.5333,  -46.5917,    12,   4247.6,   2.2076,  34.8884,2,  34.8885,2, -999.000,9,    270.8,2, -999.000,9, -999.000,9, -999.000,9, -999.000,9, -999.000,9, -999.000,9, -999.000,9, -999.000,9, -999.000,9
           NA,    AR19,     58,   1,       3,  301445,  2,19980518,1824,  42.5333,  -46.5917,    12,   4463.0,   2.1945,  34.8873,2,  34.8868,2, -999.000,9,    275.5,2, -999.000,9, -999.000,9, -999.000,9, -999.000,9, -999.000,9, -999.000,9, -999.000,9, -999.000,9, -999.000,9
           NA,    AR19,     58,   1,       2,  301444,  2,19980518,1824,  42.5333,  -46.5917,    12,   4536.6,   2.1967,  34.8878,2,  34.8874,2, -999.000,9,    280.0,2, -999.000,9, -999.000,9, -999.000,9, -999.000,9, -999.000,9, -999.000,9, -999.000,9, -999.000,9, -999.000,9
           NA,    AR19,     58,   1,       1,  301443,  2,19980518,1824,  42.5333,  -46.5917,    12,   4563.0,   2.1997,  34.8879,2,  34.8879,2, -999.000,9,    278.0,2, -999.000,9, -999.000,9, -999.000,9, -999.000,9, -999.000,9, -999.000,9, -999.000,9, -999.000,9, -999.000,9
           NA,    AR19,     57,  99,      24,  301418,  2,19980518,0903,  42.3717,  -46.0850,     9,     10.1,  17.6983,  35.9108,2,  35.9126,2, -999.000,9,    239.7,2, -999.000,9, -999.000,9, -999.000,9, -999.000,9, -999.000,9, -999.000,9, -999.000,9, -999.000,9, -999.000,9
           NA,    AR19,     57,  99,      23,  301417,  2,19980518,0903,  42.3717,  -46.0850,     9,     50.6,  15.5946,  35.6706,2,-999.0000,4, -999.000,9,    235.5,2, -999.000,9, -999.000,9, -999.000,9, -999.000,9, -999.000,9, -999.000,9, -999.000,9, -999.000,9, -999.000,9
           NA,    AR19,     57,  99,      22,  301416,  2,19980518,0903,  42.3717,  -46.0850,     9,    107.9,  14.9637,  35.6540,2,  35.6518,2, -999.000,9,    233.8,2, -999.000,9, -999.000,9, -999.000,9, -999.000,9, -999.000,9, -999.000,9, -999.000,9, -999.000,9, -999.000,9
           NA,    AR19,     57,  99,      21,  301415,  2,19980518,0903,  42.3717,  -46.0850,     9,    198.9,  14.0748,  35.6259,2,-999.0000,3, -999.000,9,    217.7,2, -999.000,9, -999.000,9, -999.000,9, -999.000,9, -999.000,9, -999.000,9, -999.000,9, -999.000,9, -999.000,9
           NA,    AR19,     57,  99,      20,  301414,  2,19980518,0903,  42.3717,  -46.0850,     9,    398.5,  10.9940,  35.3307,2,  35.3314,2, -999.000,9,    155.5,2, -999.000,9, -999.000,9, -999.000,9, -999.000,9, -999.000,9, -999.000,9, -999.000,9, -999.000,9, -999.000,9
           NA,    AR19,     57,  99,      18,  301412,  2,19980518,0903,  42.3717,  -46.0850,     9,    749.3,   5.9990,  35.0430,2,  35.0462,2, -999.000,9,    212.9,2, -999.000,9, -999.000,9, -999.000,9, -999.000,9, -999.000,9, -999.000,9, -999.000,9, -999.000,9, -999.000,9
           NA,    AR19,     57,  99,      17,  301411,  2,19980518,0903,  42.3717,  -46.0850,     9,    997.2,   4.8487,  35.0278,2,  35.0303,2, -999.000,9,    243.3,2, -999.000,9, -999.000,9, -999.000,9, -999.000,9, -999.000,9, -999.000,9, -999.000,9, -999.000,9, -999.000,9
           NA,    AR19,     57,  99,      16,  301410,  2,19980518,0903,  42.3717,  -46.0850,     9,   1246.8,   4.2236,  34.9776,2,  34.9802,2, -999.000,9,   -999.0,3, -999.000,9, -999.000,9, -999.000,9, -999.000,9, -999.000,9, -999.000,9, -999.000,9, -999.000,9, -999.000,9
           NA,    AR19,     57,  99,      15,  301409,  2,19980518,0903,  42.3717,  -46.0850,     9,   1499.4,   3.8277,  34.9428,2,  34.9446,2, -999.000,9,    268.9,2, -999.000,9, -999.000,9, -999.000,9, -999.000,9, -999.000,9, -999.000,9, -999.000,9, -999.000,9, -999.000,9
           NA,    AR19,     57,  99,      14,  301408,  2,19980518,0903,  42.3717,  -46.0850,     9,   1747.8,   3.5210,  34.9158,2,  34.9178,2, -999.000,9,    275.5,2, -999.000,9, -999.000,9, -999.000,9, -999.000,9, -999.000,9, -999.000,9, -999.000,9, -999.000,9, -999.000,9
           NA,    AR19,     57,  99,      13,  301407,  2,19980518,0903,  42.3717,  -46.0850,     9,   1998.3,   3.3440,  34.9049,2,  34.9059,2, -999.000,9,    280.0,2, -999.000,9, -999.000,9, -999.000,9, -999.000,9, -999.000,9, -999.000,9, -999.000,9, -999.000,9, -999.000,9
           NA,    AR19,     57,  99,      12,  301406,  2,19980518,0903,  42.3717,  -46.0850,     9,   2248.5,   3.3125,  34.9175,2,  34.9184,2, -999.000,9,    277.2,2, -999.000,9, -999.000,9, -999.000,9, -999.000,9, -999.000,9, -999.000,9, -999.000,9, -999.000,9, -999.000,9
           NA,    AR19,     57,  99,      11,  301405,  2,19980518,0903,  42.3717,  -46.0850,     9,   2501.6,   3.2123,  34.9224,2,  34.9235,2, -999.000,9,    274.0,2, -999.000,9, -999.000,9, -999.000,9, -999.000,9, -999.000,9, -999.000,9, -999.000,9, -999.000,9, -999.000,9
           NA,    AR19,     57,  99,      10,  301404,  2,19980518,0903,  42.3717,  -46.0850,     9,   2751.4,   3.1331,  34.9347,2,  34.9366,2, -999.000,9,    270.8,2, -999.000,9, -999.000,9, -999.000,9, -999.000,9, -999.000,9, -999.000,9, -999.000,9, -999.000,9, -999.000,9
           NA,    AR19,     57,  99,       9,  301403,  2,19980518,0903,  42.3717,  -46.0850,     9,   3002.4,   2.9563,  34.9278,2,  34.9305,2, -999.000,9,    271.4,2, -999.000,9, -999.000,9, -999.000,9, -999.000,9, -999.000,9, -999.000,9, -999.000,9, -999.000,9, -999.000,9
           NA,    AR19,     57,  99,       8,  301402,  2,19980518,0903,  42.3717,  -46.0850,     9,   3246.8,   2.7684,  34.9230,2,  34.9239,2, -999.000,9,    272.5,2, -999.000,9, -999.000,9, -999.000,9, -999.000,9, -999.000,9, -999.000,9, -999.000,9, -999.000,9, -999.000,9
           NA,    AR19,     57,  99,      24,  301442,  2,19980518,0903,  42.3717,  -46.0850,     9,   3492.7,   2.4851,  34.9128,2,  34.9121,2, -999.000,9,    270.9,2, -999.000,9, -999.000,9, -999.000,9, -999.000,9, -999.000,9, -999.000,9, -999.000,9, -999.000,9, -999.000,9
           NA,    AR19,     57,  99,      23,  301441,  2,19980518,0903,  42.3717,  -46.0850,     9,   3493.4,   2.4852,  34.9130,2,  34.9117,2, -999.000,9,    270.9,2, -999.000,9, -999.000,9, -999.000,9, -999.000,9, -999.000,9, -999.000,9, -999.000,9, -999.000,9, -999.000,9
           NA,    AR19,     57,  99,      22,  301440,  2,19980518,0903,  42.3717,  -46.0850,     9,   3494.6,   2.4849,  34.9130,2,  34.9123,2, -999.000,9,    272.3,2, -999.000,9, -999.000,9, -999.000,9, -999.000,9, -999.000,9, -999.000,9, -999.000,9, -999.000,9, -999.000,9
           NA,    AR19,     57,  99,      20,  301438,  2,19980518,0903,  42.3717,  -46.0850,     9,   3495.1,   2.4853,  34.9129,2,  34.9125,2, -999.000,9,    271.4,2, -999.000,9, -999.000,9, -999.000,9, -999.000,9, -999.000,9, -999.000,9, -999.000,9, -999.000,9, -999.000,9
           NA,    AR19,     57,  99,      19,  301437,  2,19980518,0903,  42.3717,  -46.0850,     9,   3495.4,   2.4853,  34.9129,2,  34.9122,2, -999.000,9,    271.0,2, -999.000,9, -999.000,9, -999.000,9, -999.000,9, -999.000,9, -999.000,9, -999.000,9, -999.000,9, -999.000,9
           NA,    AR19,     57,  99,      21,  301439,  2,19980518,0903,  42.3717,  -46.0850,     9,   3495.5,   2.4854,  34.9125,2,  34.9121,2, -999.000,9,    271.2,2, -999.000,9, -999.000,9, -999.000,9, -999.000,9, -999.000,9, -999.000,9, -999.000,9, -999.000,9, -999.000,9
           NA,    AR19,     57,  99,      18,  301436,  2,19980518,0903,  42.3717,  -46.0850,     9,   3495.7,   2.4858,  34.9129,2,  34.9124,2, -999.000,9,    271.7,2, -999.000,9, -999.000,9, -999.000,9, -999.000,9, -999.000,9, -999.000,9, -999.000,9, -999.000,9, -999.000,9
           NA,    AR19,     57,  99,      17,  301435,  2,19980518,0903,  42.3717,  -46.0850,     9,   3496.7,   2.4867,  34.9124,2,  34.9124,2, -999.000,9,    271.9,2, -999.000,9, -999.000,9, -999.000,9, -999.000,9, -999.000,9, -999.000,9, -999.000,9, -999.000,9, -999.000,9
           NA,    AR19,     57,  99,      16,  301434,  2,19980518,0903,  42.3717,  -46.0850,     9,   3497.9,   2.4875,  34.9129,2,  34.9120,2, -999.000,9,    271.6,2, -999.000,9, -999.000,9, -999.000,9, -999.000,9, -999.000,9, -999.000,9, -999.000,9, -999.000,9, -999.000,9
           NA,    AR19,     57,  99,      15,  301433,  2,19980518,0903,  42.3717,  -46.0850,     9,   3498.3,   2.4897,  34.9126,2,  34.9114,2, -999.000,9,    273.4,2, -999.000,9, -999.000,9, -999.000,9, -999.000,9, -999.000,9, -999.000,9, -999.000,9, -999.000,9, -999.000,9
           NA,    AR19,     57,  99,      14,  301432,  2,19980518,0903,  42.3717,  -46.0850,     9,   3499.3,   2.4910,  34.9125,2,  34.9104,2, -999.000,9,    273.4,2, -999.000,9, -999.000,9, -999.000,9, -999.000,9, -999.000,9, -999.000,9, -999.000,9, -999.000,9, -999.000,9
           NA,    AR19,     57,  99,       7,  301401,  2,19980518,0903,  42.3717,  -46.0850,     9,   3500.7,   2.5634,  34.9153,2,  34.9161,2, -999.000,9,    272.8,2, -999.000,9, -999.000,9, -999.000,9, -999.000,9, -999.000,9, -999.000,9, -999.000,9, -999.000,9, -999.000,9
           NA,    AR19,     57,  99,      13,  301431,  2,19980518,0903,  42.3717,  -46.0850,     9,   3500.9,   2.4905,  34.9121,2,  34.9112,2, -999.000,9,    273.2,2, -999.000,9, -999.000,9, -999.000,9, -999.000,9, -999.000,9, -999.000,9, -999.000,9, -999.000,9, -999.000,9
           NA,    AR19,     57,  99,       6,  301400,  2,19980518,0903,  42.3717,  -46.0850,     9,   3754.2,   2.4037,  34.9052,2,  34.9067,2, -999.000,9,    273.4,2, -999.000,9, -999.000,9, -999.000,9, -999.000,9, -999.000,9, -999.000,9, -999.000,9, -999.000,9, -999.000,9
           NA,    AR19,     57,  99,      12,  301430,  2,19980518,0903,  42.3717,  -46.0850,     9,   3974.9,   2.3051,  34.8997,2,  34.8984,2, -999.000,9,    273.6,2, -999.000,9, -999.000,9, -999.000,9, -999.000,9, -999.000,9, -999.000,9, -999.000,9, -999.000,9, -999.000,9
           NA,    AR19,     57,  99,      11,  301429,  2,19980518,0903,  42.3717,  -46.0850,     9,   3976.6,   2.3036,  34.8995,2,  34.8986,2, -999.000,9,    273.0,2, -999.000,9, -999.000,9, -999.000,9, -999.000,9, -999.000,9, -999.000,9, -999.000,9, -999.000,9, -999.000,9
           NA,    AR19,     57,  99,      10,  301428,  2,19980518,0903,  42.3717,  -46.0850,     9,   3978.8,   2.3021,  34.8997,2,  34.8981,2, -999.000,9,    272.6,2, -999.000,9, -999.000,9, -999.000,9, -999.000,9, -999.000,9, -999.000,9, -999.000,9, -999.000,9, -999.000,9
           NA,    AR19,     57,  99,       9,  301427,  2,19980518,0903,  42.3717,  -46.0850,     9,   3981.6,   2.3015,  34.8996,2,  34.8987,2, -999.000,9,    273.5,2, -999.000,9, -999.000,9, -999.000,9, -999.000,9, -999.000,9, -999.000,9, -999.000,9, -999.000,9, -999.000,9
           NA,    AR19,     57,  99,       8,  301426,  2,19980518,0903,  42.3717,  -46.0850,     9,   3984.6,   2.3011,  34.8989,2,  34.8982,2, -999.000,9,    272.6,2, -999.000,9, -999.000,9, -999.000,9, -999.000,9, -999.000,9, -999.000,9, -999.000,9, -999.000,9, -999.000,9
           NA,    AR19,     57,  99,       7,  301425,  2,19980518,0903,  42.3717,  -46.0850,     9,   3986.1,   2.3002,  34.8995,2,  34.8982,2, -999.000,9,    272.8,2, -999.000,9, -999.000,9, -999.000,9, -999.000,9, -999.000,9, -999.000,9, -999.000,9, -999.000,9, -999.000,9
           NA,    AR19,     57,  99,       6,  301424,  2,19980518,0903,  42.3717,  -46.0850,     9,   3988.4,   2.2991,  34.8994,2,  34.8983,2, -999.000,9,    275.2,2, -999.000,9, -999.000,9, -999.000,9, -999.000,9, -999.000,9, -999.000,9, -999.000,9, -999.000,9, -999.000,9
           NA,    AR19,     57,  99,       5,  301423,  2,19980518,0903,  42.3717,  -46.0850,     9,   3989.6,   2.2982,  34.8989,2,  34.8981,2, -999.000,9,    272.4,2, -999.000,9, -999.000,9, -999.000,9, -999.000,9, -999.000,9, -999.000,9, -999.000,9, -999.000,9, -999.000,9
           NA,    AR19,     57,  99,       4,  301422,  2,19980518,0903,  42.3717,  -46.0850,     9,   3991.7,   2.2976,  34.8995,2,  34.8983,2, -999.000,9,    273.2,2, -999.000,9, -999.000,9, -999.000,9, -999.000,9, -999.000,9, -999.000,9, -999.000,9, -999.000,9, -999.000,9
           NA,    AR19,     57,  99,       3,  301421,  2,19980518,0903,  42.3717,  -46.0850,     9,   3993.8,   2.2974,  34.8990,2,  34.8980,2, -999.000,9,    272.1,2, -999.000,9, -999.000,9, -999.000,9, -999.000,9, -999.000,9, -999.000,9, -999.000,9, -999.000,9, -999.000,9
           NA,    AR19,     57,  99,       2,  301420,  2,19980518,0903,  42.3717,  -46.0850,     9,   3996.1,   2.2968,  34.8989,2,  34.8980,2, -999.000,9,    272.4,2, -999.000,9, -999.000,9, -999.000,9, -999.000,9, -999.000,9, -999.000,9, -999.000,9, -999.000,9, -999.000,9
           NA,    AR19,     57,  99,       1,  301419,  2,19980518,0903,  42.3717,  -46.0850,     9,   3997.5,   2.2959,  34.8990,2,  34.8975,2, -999.000,9,    272.7,2, -999.000,9, -999.000,9, -999.000,9, -999.000,9, -999.000,9, -999.000,9, -999.000,9, -999.000,9, -999.000,9
           NA,    AR19,     57,  99,       5,  301399,  2,19980518,0903,  42.3717,  -46.0850,     9,   4001.5,   2.3268,  34.8995,2,  34.9008,2, -999.000,9,    273.4,2, -999.000,9, -999.000,9, -999.000,9, -999.000,9, -999.000,9, -999.000,9, -999.000,9, -999.000,9, -999.000,9
           NA,    AR19,     57,  99,       4,  301398,  2,19980518,0903,  42.3717,  -46.0850,     9,   4251.2,   2.2807,  34.8946,2,  34.8953,2, -999.000,9,    270.7,2, -999.000,9, -999.000,9, -999.000,9, -999.000,9, -999.000,9, -999.000,9, -999.000,9, -999.000,9, -999.000,9
           NA,    AR19,     57,  99,       3,  301397,  2,19980518,0903,  42.3717,  -46.0850,     9,   4682.2,   2.2415,  34.8894,2,  34.8899,2, -999.000,9,    273.3,2, -999.000,9, -999.000,9, -999.000,9, -999.000,9, -999.000,9, -999.000,9, -999.000,9, -999.000,9, -999.000,9
           NA,    AR19,     57,  99,       2,  301396,  2,19980518,0903,  42.3717,  -46.0850,     9,   4761.4,   2.2296,  34.8859,2,-999.0000,3, -999.000,9,    279.1,2, -999.000,9, -999.000,9, -999.000,9, -999.000,9, -999.000,9, -999.000,9, -999.000,9, -999.000,9, -999.000,9
           NA,    AR19,     57,  99,       1,  301395,  2,19980518,0903,  42.3717,  -46.0850,     9,   4782.9,   2.2323,  34.8902,2,  34.8900,2, -999.000,9,    280.0,2, -999.000,9, -999.000,9, -999.000,9, -999.000,9, -999.000,9, -999.000,9, -999.000,9, -999.000,9, -999.000,9