BOTTLE,20214525JOAExport
EXPOCODE,SECT_ID,STNNBR,CASTNO,SAMPNO,BTLNBR,BTLNBR_FLAG_W,DATE,TIME,LATITUDE,LONGITUDE,DEPTH,CTDPRS,CTDTMP,CTDSAL,CTDSAL_FLAG_W,SALNTY,SALNTY_FLAG_W,CTDOXY,CTDOXY_FLAG_W,OXYGEN,OXYGEN_FLAG_W,SILCAT,SILCAT_FLAG_W,NITRAT,NITRAT_FLAG_W,NITRIT,NITRIT_FLAG_W,PHSPHT,PHSPHT_FLAG_W,CFC-11,CFC-11_FLAG_W,CFC-12,CFC-12_FLAG_W,SF6,SF6_FLAG_W,TCARBN,TCARBN_FLAG_W,ALKALI,ALKALI_FLAG_W
,,,,,,,,,,,,DB,ITS-90,PSS-78,,PSS-78,,UMOL/KG,,UMOL/KG,,UMOL/KG,,UMOL/KG,,UMOL/KG,,UMOL/KG,,PMOL/KG,,PMOL/KG,,FMOL/KG,,UMOL/KG,,UMOL/KG
           NA,    AR19,     28,   1,      24,  300698,  2,19980508,1456,  47.1117,  -26.2850,    13,     10.2,  13.6428,  35.7394,2,  35.7350,2, -999.000,9,    270.7,2, -999.000,9, -999.000,9, -999.000,9, -999.000,9, -999.000,9, -999.000,9, -999.000,9, -999.000,9, -999.000,9
           NA,    AR19,     28,   1,      23,  300697,  2,19980508,1456,  47.1117,  -26.2850,    13,     51.2,  12.9219,  35.7319,2,  35.7279,2, -999.000,9,    252.4,2, -999.000,9, -999.000,9, -999.000,9, -999.000,9, -999.000,9, -999.000,9, -999.000,9, -999.000,9, -999.000,9
           NA,    AR19,     28,   1,      22,  300696,  2,19980508,1456,  47.1117,  -26.2850,    13,    102.9,  12.7921,  35.7090,2,  35.7065,2, -999.000,9,    252.4,2, -999.000,9, -999.000,9, -999.000,9, -999.000,9, -999.000,9, -999.000,9, -999.000,9, -999.000,9, -999.000,9
           NA,    AR19,     28,   1,      21,  300695,  2,19980508,1456,  47.1117,  -26.2850,    13,    197.7,  12.6160,  35.6766,2,  35.6734,2, -999.000,9,    251.5,2, -999.000,9, -999.000,9, -999.000,9, -999.000,9, -999.000,9, -999.000,9, -999.000,9, -999.000,9, -999.000,9
           NA,    AR19,     28,   1,      20,  300694,  2,19980508,1456,  47.1117,  -26.2850,    13,    399.0,  11.6287,  35.5005,2,  35.4999,2, -999.000,9,    247.0,2, -999.000,9, -999.000,9, -999.000,9, -999.000,9, -999.000,9, -999.000,9, -999.000,9, -999.000,9, -999.000,9
           NA,    AR19,     28,   1,      19,  300693,  2,19980508,1456,  47.1117,  -26.2850,    13,    498.3,  11.2574,  35.4642,2,  35.4604,2, -999.000,9,    247.2,2, -999.000,9, -999.000,9, -999.000,9, -999.000,9, -999.000,9, -999.000,9, -999.000,9, -999.000,9, -999.000,9
           NA,    AR19,     28,   1,      18,  300692,  2,19980508,1456,  47.1117,  -26.2850,    13,    597.9,  10.8951,  35.4588,2,  35.4539,2, -999.000,9,    222.3,2, -999.000,9, -999.000,9, -999.000,9, -999.000,9, -999.000,9, -999.000,9, -999.000,9, -999.000,9, -999.000,9
           NA,    AR19,     28,   1,      17,  300691,  2,19980508,1456,  47.1117,  -26.2850,    13,    698.4,  10.0888,  35.3778,2,  35.3721,2, -999.000,9,    209.9,2, -999.000,9, -999.000,9, -999.000,9, -999.000,9, -999.000,9, -999.000,9, -999.000,9, -999.000,9, -999.000,9
           NA,    AR19,     28,   1,      16,  300690,  2,19980508,1456,  47.1117,  -26.2850,    13,    799.0,   8.7934,  35.2447,2,  35.2425,2, -999.000,9,    192.1,2, -999.000,9, -999.000,9, -999.000,9, -999.000,9, -999.000,9, -999.000,9, -999.000,9, -999.000,9, -999.000,9
           NA,    AR19,     28,   1,      15,  300689,  2,19980508,1456,  47.1117,  -26.2850,    13,    899.8,   7.6692,  35.1763,2,  35.1731,2, -999.000,9,    196.0,2, -999.000,9, -999.000,9, -999.000,9, -999.000,9, -999.000,9, -999.000,9, -999.000,9, -999.000,9, -999.000,9
           NA,    AR19,     28,   1,      14,  300688,  2,19980508,1456,  47.1117,  -26.2850,    13,    994.0,   6.7812,  35.1524,2,-999.0000,3, -999.000,9,    208.5,2, -999.000,9, -999.000,9, -999.000,9, -999.000,9, -999.000,9, -999.000,9, -999.000,9, -999.000,9, -999.000,9
           NA,    AR19,     28,   1,      13,  300687,  2,19980508,1456,  47.1117,  -26.2850,    13,   1097.4,   5.9453,  35.1016,2,  35.0995,2, -999.000,9,    223.3,2, -999.000,9, -999.000,9, -999.000,9, -999.000,9, -999.000,9, -999.000,9, -999.000,9, -999.000,9, -999.000,9
           NA,    AR19,     28,   1,      12,  300686,  2,19980508,1456,  47.1117,  -26.2850,    13,   1197.4,   5.2844,  35.0550,2,-999.0000,3, -999.000,9,    237.1,2, -999.000,9, -999.000,9, -999.000,9, -999.000,9, -999.000,9, -999.000,9, -999.000,9, -999.000,9, -999.000,9
           NA,    AR19,     28,   1,      10,  300684,  2,19980508,1456,  47.1117,  -26.2850,    13,   1397.8,   4.4855,  34.9858,2,  34.9834,2, -999.000,9,    254.2,2, -999.000,9, -999.000,9, -999.000,9, -999.000,9, -999.000,9, -999.000,9, -999.000,9, -999.000,9, -999.000,9
           NA,    AR19,     28,   1,       9,  300683,  2,19980508,1456,  47.1117,  -26.2850,    13,   1497.1,   4.2358,  34.9683,2,  34.9678,2, -999.000,9,    260.7,2, -999.000,9, -999.000,9, -999.000,9, -999.000,9, -999.000,9, -999.000,9, -999.000,9, -999.000,9, -999.000,9
           NA,    AR19,     28,   1,       8,  300682,  2,19980508,1456,  47.1117,  -26.2850,    13,   1598.3,   3.9765,  34.9451,2,  34.9444,2, -999.000,9,    266.1,2, -999.000,9, -999.000,9, -999.000,9, -999.000,9, -999.000,9, -999.000,9, -999.000,9, -999.000,9, -999.000,9
           NA,    AR19,     28,   1,       7,  300681,  2,19980508,1456,  47.1117,  -26.2850,    13,   1697.8,   3.7918,  34.9309,2,  34.9315,2, -999.000,9,    269.7,2, -999.000,9, -999.000,9, -999.000,9, -999.000,9, -999.000,9, -999.000,9, -999.000,9, -999.000,9, -999.000,9
           NA,    AR19,     28,   1,       6,  300680,  2,19980508,1456,  47.1117,  -26.2850,    13,   1800.3,   3.6346,  34.9190,2,  34.9188,2, -999.000,9,    272.8,2, -999.000,9, -999.000,9, -999.000,9, -999.000,9, -999.000,9, -999.000,9, -999.000,9, -999.000,9, -999.000,9
           NA,    AR19,     28,   1,       5,  300679,  2,19980508,1456,  47.1117,  -26.2850,    13,   1894.4,   3.5564,  34.9159,2,  34.9156,2, -999.000,9,    273.5,2, -999.000,9, -999.000,9, -999.000,9, -999.000,9, -999.000,9, -999.000,9, -999.000,9, -999.000,9, -999.000,9
           NA,    AR19,     28,   1,       4,  300678,  2,19980508,1456,  47.1117,  -26.2850,    13,   1999.9,   3.5157,  34.9149,2,  34.9148,2, -999.000,9,    274.1,2, -999.000,9, -999.000,9, -999.000,9, -999.000,9, -999.000,9, -999.000,9, -999.000,9, -999.000,9, -999.000,9
           NA,    AR19,     28,   1,       3,  300677,  2,19980508,1456,  47.1117,  -26.2850,    13,   2229.6,   3.3352,  34.9182,2,  34.9171,2, -999.000,9,    274.1,2, -999.000,9, -999.000,9, -999.000,9, -999.000,9, -999.000,9, -999.000,9, -999.000,9, -999.000,9, -999.000,9
           NA,    AR19,     28,   1,       2,  300676,  2,19980508,1456,  47.1117,  -26.2850,    13,   2289.9,   3.3162,  34.9199,2,  34.9197,2, -999.000,9,    273.4,2, -999.000,9, -999.000,9, -999.000,9, -999.000,9, -999.000,9, -999.000,9, -999.000,9, -999.000,9, -999.000,9
           NA,    AR19,     28,   1,       1,  300675,  2,19980508,1456,  47.1117,  -26.2850,    13,   2305.9,   3.3076,  34.9207,2,  34.9203,2, -999.000,9,    273.3,2, -999.000,9, -999.000,9, -999.000,9, -999.000,9, -999.000,9, -999.000,9, -999.000,9, -999.000,9, -999.000,9
           NA,    AR19,     27,   1,      24,  300674,  2,19980508,1005,  47.1800,  -25.7117,    10,      8.8,  13.3734,  35.7406,2,  35.7396,2, -999.000,9,    267.1,2, -999.000,9, -999.000,9, -999.000,9, -999.000,9, -999.000,9, -999.000,9, -999.000,9, -999.000,9, -999.000,9
           NA,    AR19,     27,   1,      23,  300673,  2,19980508,1005,  47.1800,  -25.7117,    10,     49.3,  12.9259,  35.7339,2,  35.7330,2, -999.000,9,   -999.0,3, -999.000,9, -999.000,9, -999.000,9, -999.000,9, -999.000,9, -999.000,9, -999.000,9, -999.000,9, -999.000,9
           NA,    AR19,     27,   1,      22,  300672,  2,19980508,1005,  47.1800,  -25.7117,    10,     98.7,  12.8834,  35.7270,2,  35.7258,2, -999.000,9,   -999.0,3, -999.000,9, -999.000,9, -999.000,9, -999.000,9, -999.000,9, -999.000,9, -999.000,9, -999.000,9, -999.000,9
           NA,    AR19,     27,   1,      21,  300671,  2,19980508,1005,  47.1800,  -25.7117,    10,    247.8,  12.7570,  35.7032,2,  35.7020,2, -999.000,9,   -999.0,3, -999.000,9, -999.000,9, -999.000,9, -999.000,9, -999.000,9, -999.000,9, -999.000,9, -999.000,9, -999.000,9
           NA,    AR19,     27,   1,      20,  300670,  2,19980508,1005,  47.1800,  -25.7117,    10,    397.5,  12.1968,  35.6031,2,  35.5996,2, -999.000,9,    235.3,2, -999.000,9, -999.000,9, -999.000,9, -999.000,9, -999.000,9, -999.000,9, -999.000,9, -999.000,9, -999.000,9
           NA,    AR19,     27,   1,      19,  300669,  2,19980508,1005,  47.1800,  -25.7117,    10,    498.4,  11.5013,  35.5014,2,  35.4998,2, -999.000,9,    236.9,2, -999.000,9, -999.000,9, -999.000,9, -999.000,9, -999.000,9, -999.000,9, -999.000,9, -999.000,9, -999.000,9
           NA,    AR19,     27,   1,      18,  300668,  2,19980508,1005,  47.1800,  -25.7117,    10,    597.8,  10.9807,  35.4645,2,  35.4624,2, -999.000,9,    218.6,2, -999.000,9, -999.000,9, -999.000,9, -999.000,9, -999.000,9, -999.000,9, -999.000,9, -999.000,9, -999.000,9
           NA,    AR19,     27,   1,      17,  300667,  2,19980508,1005,  47.1800,  -25.7117,    10,    796.5,   8.7891,  35.2115,2,  35.2114,2, -999.000,9,    193.1,2, -999.000,9, -999.000,9, -999.000,9, -999.000,9, -999.000,9, -999.000,9, -999.000,9, -999.000,9, -999.000,9
           NA,    AR19,     27,   1,      16,  300666,  2,19980508,1005,  47.1800,  -25.7117,    10,    895.1,   8.1262,  35.2327,2,  35.2304,2, -999.000,9,    194.0,2, -999.000,9, -999.000,9, -999.000,9, -999.000,9, -999.000,9, -999.000,9, -999.000,9, -999.000,9, -999.000,9
           NA,    AR19,     27,   1,      15,  300665,  2,19980508,1005,  47.1800,  -25.7117,    10,    997.6,   7.2158,  35.2280,2,  35.2274,2, -999.000,9,    206.1,2, -999.000,9, -999.000,9, -999.000,9, -999.000,9, -999.000,9, -999.000,9, -999.000,9, -999.000,9, -999.000,9
           NA,    AR19,     27,   1,      14,  300664,  2,19980508,1005,  47.1800,  -25.7117,    10,   1096.0,   6.2942,  35.1438,2,  35.1435,2, -999.000,9,    218.1,2, -999.000,9, -999.000,9, -999.000,9, -999.000,9, -999.000,9, -999.000,9, -999.000,9, -999.000,9, -999.000,9
           NA,    AR19,     27,   1,      12,  300662,  2,19980508,1005,  47.1800,  -25.7117,    10,   1298.4,   5.0584,  35.0499,2,  35.0501,2, -999.000,9,    242.1,2, -999.000,9, -999.000,9, -999.000,9, -999.000,9, -999.000,9, -999.000,9, -999.000,9, -999.000,9, -999.000,9
           NA,    AR19,     27,   1,      11,  300661,  2,19980508,1005,  47.1800,  -25.7117,    10,   1398.0,   4.6056,  35.0022,2,  35.0028,2, -999.000,9,    252.9,2, -999.000,9, -999.000,9, -999.000,9, -999.000,9, -999.000,9, -999.000,9, -999.000,9, -999.000,9, -999.000,9
           NA,    AR19,     27,   1,      10,  300660,  2,19980508,1005,  47.1800,  -25.7117,    10,   1596.8,   4.0247,  34.9516,2,  34.9522,2, -999.000,9,    266.0,2, -999.000,9, -999.000,9, -999.000,9, -999.000,9, -999.000,9, -999.000,9, -999.000,9, -999.000,9, -999.000,9
           NA,    AR19,     27,   1,       9,  300659,  2,19980508,1005,  47.1800,  -25.7117,    10,   1698.2,   3.7651,  34.9229,2,  34.9227,2, -999.000,9,    271.6,2, -999.000,9, -999.000,9, -999.000,9, -999.000,9, -999.000,9, -999.000,9, -999.000,9, -999.000,9, -999.000,9
           NA,    AR19,     27,   1,       8,  300658,  2,19980508,1005,  47.1800,  -25.7117,    10,   1897.7,   3.5736,  34.9126,2,  34.9128,2, -999.000,9,    274.9,2, -999.000,9, -999.000,9, -999.000,9, -999.000,9, -999.000,9, -999.000,9, -999.000,9, -999.000,9, -999.000,9
           NA,    AR19,     27,   1,       7,  300657,  2,19980508,1005,  47.1800,  -25.7117,    10,   1996.0,   3.4717,  34.9037,2,  34.9036,2, -999.000,9,    277.2,2, -999.000,9, -999.000,9, -999.000,9, -999.000,9, -999.000,9, -999.000,9, -999.000,9, -999.000,9, -999.000,9
           NA,    AR19,     27,   1,       6,  300656,  2,19980508,1005,  47.1800,  -25.7117,    10,   2197.3,   3.3707,  34.9109,2,  34.9109,2, -999.000,9,    276.1,2, -999.000,9, -999.000,9, -999.000,9, -999.000,9, -999.000,9, -999.000,9, -999.000,9, -999.000,9, -999.000,9
           NA,    AR19,     27,   1,       5,  300655,  2,19980508,1005,  47.1800,  -25.7117,    10,   2447.5,   3.2332,  34.9289,2,  34.9269,2, -999.000,9,    271.7,2, -999.000,9, -999.000,9, -999.000,9, -999.000,9, -999.000,9, -999.000,9, -999.000,9, -999.000,9, -999.000,9
           NA,    AR19,     27,   1,       4,  300654,  2,19980508,1005,  47.1800,  -25.7117,    10,   2698.2,   3.1230,  34.9372,2,  34.9362,2, -999.000,9,    268.1,2, -999.000,9, -999.000,9, -999.000,9, -999.000,9, -999.000,9, -999.000,9, -999.000,9, -999.000,9, -999.000,9
           NA,    AR19,     27,   1,       3,  300653,  2,19980508,1005,  47.1800,  -25.7117,    10,   2900.1,   3.0512,  34.9406,2,  34.9383,2, -999.000,9,    265.5,2, -999.000,9, -999.000,9, -999.000,9, -999.000,9, -999.000,9, -999.000,9, -999.000,9, -999.000,9, -999.000,9
           NA,    AR19,     27,   1,       2,  300652,  2,19980508,1005,  47.1800,  -25.7117,    10,   2988.2,   3.0195,  34.9409,2,  34.9412,2, -999.000,9,   -999.0,3, -999.000,9, -999.000,9, -999.000,9, -999.000,9, -999.000,9, -999.000,9, -999.000,9, -999.000,9, -999.000,9
           NA,    AR19,     27,   1,       1,  300651,  2,19980508,1005,  47.1800,  -25.7117,    10,   2999.5,   3.0097,  34.9410,2,  34.9405,2, -999.000,9,    262.7,2, -999.000,9, -999.000,9, -999.000,9, -999.000,9, -999.000,9, -999.000,9, -999.000,9, -999.000,9, -999.000,9
           NA,    AR19,     26,   1,      23,  300649,  2,19980508,0415,  47.2733,  -25.0250,    11,     10.3,  13.3267,  35.7262,2,  35.7282,2, -999.000,9,    265.9,2, -999.000,9, -999.000,9, -999.000,9, -999.000,9, -999.000,9, -999.000,9, -999.000,9, -999.000,9, -999.000,9
           NA,    AR19,     26,   1,      22,  300648,  2,19980508,0415,  47.2733,  -25.0250,    11,     50.9,  13.2995,  35.7717,2,  35.7700,2, -999.000,9,    254.3,2, -999.000,9, -999.000,9, -999.000,9, -999.000,9, -999.000,9, -999.000,9, -999.000,9, -999.000,9, -999.000,9
           NA,    AR19,     26,   1,      21,  300647,  2,19980508,0415,  47.2733,  -25.0250,    11,     99.1,  12.9806,  35.7187,2,  35.7168,2, -999.000,9,    249.5,2, -999.000,9, -999.000,9, -999.000,9, -999.000,9, -999.000,9, -999.000,9, -999.000,9, -999.000,9, -999.000,9
           NA,    AR19,     26,   1,      20,  300646,  2,19980508,0415,  47.2733,  -25.0250,    11,    199.2,  12.6106,  35.6695,2,  35.6675,2, -999.000,9,    243.8,2, -999.000,9, -999.000,9, -999.000,9, -999.000,9, -999.000,9, -999.000,9, -999.000,9, -999.000,9, -999.000,9
           NA,    AR19,     26,   1,      19,  300645,  2,19980508,0415,  47.2733,  -25.0250,    11,    398.2,  11.7100,  35.5599,2,  35.5562,2, -999.000,9,    227.8,2, -999.000,9, -999.000,9, -999.000,9, -999.000,9, -999.000,9, -999.000,9, -999.000,9, -999.000,9, -999.000,9
           NA,    AR19,     26,   1,      18,  300644,  2,19980508,0415,  47.2733,  -25.0250,    11,    498.1,  10.4674,  35.3708,2,  35.3694,2, -999.000,9,    201.5,2, -999.000,9, -999.000,9, -999.000,9, -999.000,9, -999.000,9, -999.000,9, -999.000,9, -999.000,9, -999.000,9
           NA,    AR19,     26,   1,      17,  300643,  2,19980508,0415,  47.2733,  -25.0250,    11,    600.4,  10.0176,  35.3540,2,  35.3561,2, -999.000,9,    207.3,2, -999.000,9, -999.000,9, -999.000,9, -999.000,9, -999.000,9, -999.000,9, -999.000,9, -999.000,9, -999.000,9
           NA,    AR19,     26,   1,      16,  300642,  2,19980508,0415,  47.2733,  -25.0250,    11,    745.8,   8.5092,  35.2225,2,  35.2222,2, -999.000,9,    192.0,2, -999.000,9, -999.000,9, -999.000,9, -999.000,9, -999.000,9, -999.000,9, -999.000,9, -999.000,9, -999.000,9
           NA,    AR19,     26,   1,      15,  300641,  2,19980508,0415,  47.2733,  -25.0250,    11,    847.4,   7.1826,  35.1075,2,  35.1077,2, -999.000,9,    199.9,2, -999.000,9, -999.000,9, -999.000,9, -999.000,9, -999.000,9, -999.000,9, -999.000,9, -999.000,9, -999.000,9
           NA,    AR19,     26,   1,      14,  300640,  2,19980508,0415,  47.2733,  -25.0250,    11,    946.1,   6.7869,  35.1771,2,  35.1761,2, -999.000,9,    210.2,2, -999.000,9, -999.000,9, -999.000,9, -999.000,9, -999.000,9, -999.000,9, -999.000,9, -999.000,9, -999.000,9
           NA,    AR19,     26,   1,      13,  300639,  2,19980508,0415,  47.2733,  -25.0250,    11,    994.6,   6.0725,  35.1069,2,  35.1074,2, -999.000,9,    221.1,2, -999.000,9, -999.000,9, -999.000,9, -999.000,9, -999.000,9, -999.000,9, -999.000,9, -999.000,9, -999.000,9
           NA,    AR19,     26,   1,      12,  300638,  2,19980508,0415,  47.2733,  -25.0250,    11,   1146.4,   4.8106,  34.9915,2,  34.9913,2, -999.000,9,    244.8,2, -999.000,9, -999.000,9, -999.000,9, -999.000,9, -999.000,9, -999.000,9, -999.000,9, -999.000,9, -999.000,9
           NA,    AR19,     26,   1,      11,  300637,  2,19980508,0415,  47.2733,  -25.0250,    11,   1296.0,   4.4038,  34.9717,2,  34.9720,2, -999.000,9,    256.1,2, -999.000,9, -999.000,9, -999.000,9, -999.000,9, -999.000,9, -999.000,9, -999.000,9, -999.000,9, -999.000,9
           NA,    AR19,     26,   1,      10,  300636,  2,19980508,0415,  47.2733,  -25.0250,    11,   1448.3,   3.9701,  34.9343,2,  34.9349,2, -999.000,9,    266.4,2, -999.000,9, -999.000,9, -999.000,9, -999.000,9, -999.000,9, -999.000,9, -999.000,9, -999.000,9, -999.000,9
           NA,    AR19,     26,   1,       9,  300635,  2,19980508,0415,  47.2733,  -25.0250,    11,   1649.3,   3.6518,  34.9109,2,  34.9107,2, -999.000,9,    274.1,2, -999.000,9, -999.000,9, -999.000,9, -999.000,9, -999.000,9, -999.000,9, -999.000,9, -999.000,9, -999.000,9
           NA,    AR19,     26,   1,       8,  300634,  2,19980508,0415,  47.2733,  -25.0250,    11,   1848.8,   3.4335,  34.8980,2,  34.8960,2, -999.000,9,    279.5,2, -999.000,9, -999.000,9, -999.000,9, -999.000,9, -999.000,9, -999.000,9, -999.000,9, -999.000,9, -999.000,9
           NA,    AR19,     26,   1,       6,  300632,  2,19980508,0415,  47.2733,  -25.0250,    11,   2198.1,   3.2651,  34.9015,2,  34.8997,2, -999.000,9,    282.0,2, -999.000,9, -999.000,9, -999.000,9, -999.000,9, -999.000,9, -999.000,9, -999.000,9, -999.000,9, -999.000,9
           NA,    AR19,     26,   1,       5,  300631,  2,19980508,0415,  47.2733,  -25.0250,    11,   2599.5,   3.1997,  34.9364,2,  34.9355,2, -999.000,9,    274.4,2, -999.000,9, -999.000,9, -999.000,9, -999.000,9, -999.000,9, -999.000,9, -999.000,9, -999.000,9, -999.000,9
           NA,    AR19,     26,   1,       4,  300630,  2,19980508,0415,  47.2733,  -25.0250,    11,   2799.6,   3.1092,  34.9453,2,  34.9449,2, -999.000,9,    270.3,2, -999.000,9, -999.000,9, -999.000,9, -999.000,9, -999.000,9, -999.000,9, -999.000,9, -999.000,9, -999.000,9
           NA,    AR19,     26,   1,       3,  300629,  2,19980508,0415,  47.2733,  -25.0250,    11,   2941.2,   2.9776,  34.9471,2,  34.9464,2, -999.000,9,    264.5,2, -999.000,9, -999.000,9, -999.000,9, -999.000,9, -999.000,9, -999.000,9, -999.000,9, -999.000,9, -999.000,9
           NA,    AR19,     26,   1,       2,  300628,  2,19980508,0415,  47.2733,  -25.0250,    11,   3021.4,   2.9374,  34.9459,2,  34.9452,2, -999.000,9,    263.4,2, -999.000,9, -999.000,9, -999.000,9, -999.000,9, -999.000,9, -999.000,9, -999.000,9, -999.000,9, -999.000,9
           NA,    AR19,     26,   1,       1,  300627,  2,19980508,0415,  47.2733,  -25.0250,    11,   3044.1,   2.9037,  34.9444,2,  34.9407,2, -999.000,9,    265.6,2, -999.000,9, -999.000,9, -999.000,9, -999.000,9, -999.000,9, -999.000,9, -999.000,9, -999.000,9, -999.000,9