BOTTLE,20214525JOAExport
EXPOCODE,SECT_ID,STNNBR,CASTNO,SAMPNO,BTLNBR,BTLNBR_FLAG_W,DATE,TIME,LATITUDE,LONGITUDE,DEPTH,CTDPRS,CTDTMP,CTDSAL,CTDSAL_FLAG_W,SALNTY,SALNTY_FLAG_W,CTDOXY,CTDOXY_FLAG_W,OXYGEN,OXYGEN_FLAG_W,SILCAT,SILCAT_FLAG_W,NITRAT,NITRAT_FLAG_W,NITRIT,NITRIT_FLAG_W,PHSPHT,PHSPHT_FLAG_W,CFC-11,CFC-11_FLAG_W,CFC-12,CFC-12_FLAG_W,SF6,SF6_FLAG_W,TCARBN,TCARBN_FLAG_W,ALKALI,ALKALI_FLAG_W
,,,,,,,,,,,,DB,ITS-90,PSS-78,,PSS-78,,UMOL/KG,,UMOL/KG,,UMOL/KG,,UMOL/KG,,UMOL/KG,,UMOL/KG,,PMOL/KG,,PMOL/KG,,FMOL/KG,,UMOL/KG,,UMOL/KG
           NA,    AR19,     52,   1,      24,  301298,  2,19980517,0002,  42.3767,  -43.3300,    64,     11.3,  17.8619,  36.4623,2,  36.4589,2, -999.000,9,    233.9,2, -999.000,9, -999.000,9, -999.000,9, -999.000,9, -999.000,9, -999.000,9, -999.000,9, -999.000,9, -999.000,9
           NA,    AR19,     52,   1,      23,  301297,  2,19980517,0002,  42.3767,  -43.3300,    64,     50.0,  17.7625,  36.4692,2,  36.4667,2, -999.000,9,    231.6,2, -999.000,9, -999.000,9, -999.000,9, -999.000,9, -999.000,9, -999.000,9, -999.000,9, -999.000,9, -999.000,9
           NA,    AR19,     52,   1,      22,  301296,  2,19980517,0002,  42.3767,  -43.3300,    64,     98.1,  17.7423,  36.4701,2,  36.4666,2, -999.000,9,    227.7,2, -999.000,9, -999.000,9, -999.000,9, -999.000,9, -999.000,9, -999.000,9, -999.000,9, -999.000,9, -999.000,9
           NA,    AR19,     52,   1,      21,  301295,  2,19980517,0002,  42.3767,  -43.3300,    64,    197.1,  17.3919,  36.4169,2,-999.0000,4, -999.000,9,    214.1,2, -999.000,9, -999.000,9, -999.000,9, -999.000,9, -999.000,9, -999.000,9, -999.000,9, -999.000,9, -999.000,9
           NA,    AR19,     52,   1,      20,  301294,  2,19980517,0002,  42.3767,  -43.3300,    64,    299.5,  16.2098,  36.2253,2,  36.2213,2, -999.000,9,    224.4,2, -999.000,9, -999.000,9, -999.000,9, -999.000,9, -999.000,9, -999.000,9, -999.000,9, -999.000,9, -999.000,9
           NA,    AR19,     52,   1,      19,  301293,  2,19980517,0002,  42.3767,  -43.3300,    64,    598.7,  15.9376,  36.2322,2,  36.2280,2, -999.000,9,    230.4,2, -999.000,9, -999.000,9, -999.000,9, -999.000,9, -999.000,9, -999.000,9, -999.000,9, -999.000,9, -999.000,9
           NA,    AR19,     52,   1,      18,  301292,  2,19980517,0002,  42.3767,  -43.3300,    64,   1005.1,   9.2283,  35.1976,2,  35.1968,2, -999.000,9,    155.3,2, -999.000,9, -999.000,9, -999.000,9, -999.000,9, -999.000,9, -999.000,9, -999.000,9, -999.000,9, -999.000,9
           NA,    AR19,     52,   1,      17,  301291,  2,19980517,0002,  42.3767,  -43.3300,    64,   1249.2,   5.9253,  35.0491,2,  35.0505,2, -999.000,9,    207.4,2, -999.000,9, -999.000,9, -999.000,9, -999.000,9, -999.000,9, -999.000,9, -999.000,9, -999.000,9, -999.000,9
           NA,    AR19,     52,   1,      16,  301290,  2,19980517,0002,  42.3767,  -43.3300,    64,   1498.9,   4.9105,  35.0294,2,  35.0310,2, -999.000,9,    243.7,2, -999.000,9, -999.000,9, -999.000,9, -999.000,9, -999.000,9, -999.000,9, -999.000,9, -999.000,9, -999.000,9
           NA,    AR19,     52,   1,      15,  301289,  2,19980517,0002,  42.3767,  -43.3300,    64,   1748.3,   4.2742,  34.9853,2,  34.9841,2, -999.000,9,    258.9,2, -999.000,9, -999.000,9, -999.000,9, -999.000,9, -999.000,9, -999.000,9, -999.000,9, -999.000,9, -999.000,9
           NA,    AR19,     52,   1,      14,  301288,  2,19980517,0002,  42.3767,  -43.3300,    64,   2001.7,   3.7719,  34.9303,2,  34.9325,2, -999.000,9,    270.9,2, -999.000,9, -999.000,9, -999.000,9, -999.000,9, -999.000,9, -999.000,9, -999.000,9, -999.000,9, -999.000,9
           NA,    AR19,     52,   1,      13,  301287,  2,19980517,0002,  42.3767,  -43.3300,    64,   2300.5,   3.5043,  34.9137,2,  34.9148,2, -999.000,9,    277.0,2, -999.000,9, -999.000,9, -999.000,9, -999.000,9, -999.000,9, -999.000,9, -999.000,9, -999.000,9, -999.000,9
           NA,    AR19,     52,   1,      12,  301286,  2,19980517,0002,  42.3767,  -43.3300,    64,   2545.0,   3.5843,  34.9522,2,  34.9522,2, -999.000,9,    268.5,2, -999.000,9, -999.000,9, -999.000,9, -999.000,9, -999.000,9, -999.000,9, -999.000,9, -999.000,9, -999.000,9
           NA,    AR19,     52,   1,      11,  301285,  2,19980517,0002,  42.3767,  -43.3300,    64,   2601.2,   3.3785,  34.9146,2,  34.9157,2, -999.000,9,    277.0,2, -999.000,9, -999.000,9, -999.000,9, -999.000,9, -999.000,9, -999.000,9, -999.000,9, -999.000,9, -999.000,9
           NA,    AR19,     52,   1,      10,  301284,  2,19980517,0002,  42.3767,  -43.3300,    64,   2703.6,   3.2858,  34.9051,2,  34.9054,2, -999.000,9,    279.6,2, -999.000,9, -999.000,9, -999.000,9, -999.000,9, -999.000,9, -999.000,9, -999.000,9, -999.000,9, -999.000,9
           NA,    AR19,     52,   1,       9,  301283,  2,19980517,0002,  42.3767,  -43.3300,    64,   3000.0,   3.2542,  34.9316,2,  34.9315,2, -999.000,9,    272.1,2, -999.000,9, -999.000,9, -999.000,9, -999.000,9, -999.000,9, -999.000,9, -999.000,9, -999.000,9, -999.000,9
           NA,    AR19,     52,   1,       8,  301282,  2,19980517,0002,  42.3767,  -43.3300,    64,   3251.8,   3.0626,  34.9287,2,  34.9294,2, -999.000,9,    274.6,2, -999.000,9, -999.000,9, -999.000,9, -999.000,9, -999.000,9, -999.000,9, -999.000,9, -999.000,9, -999.000,9
           NA,    AR19,     52,   1,       7,  301281,  2,19980517,0002,  42.3767,  -43.3300,    64,   3498.4,   2.8445,  34.9224,2,  34.9229,2, -999.000,9,    271.2,2, -999.000,9, -999.000,9, -999.000,9, -999.000,9, -999.000,9, -999.000,9, -999.000,9, -999.000,9, -999.000,9
           NA,    AR19,     52,   1,       6,  301280,  2,19980517,0002,  42.3767,  -43.3300,    64,   3758.1,   2.6411,  34.9133,2,  34.9165,2, -999.000,9,    279.2,2, -999.000,9, -999.000,9, -999.000,9, -999.000,9, -999.000,9, -999.000,9, -999.000,9, -999.000,9, -999.000,9
           NA,    AR19,     52,   1,       5,  301279,  2,19980517,0002,  42.3767,  -43.3300,    64,   4002.5,   2.5048,  34.9081,2,  34.9079,2, -999.000,9,    274.6,2, -999.000,9, -999.000,9, -999.000,9, -999.000,9, -999.000,9, -999.000,9, -999.000,9, -999.000,9, -999.000,9
           NA,    AR19,     52,   1,       4,  301278,  2,19980517,0002,  42.3767,  -43.3300,    64,   4300.2,   2.3868,  34.9012,2,  34.9008,2, -999.000,9,    275.1,2, -999.000,9, -999.000,9, -999.000,9, -999.000,9, -999.000,9, -999.000,9, -999.000,9, -999.000,9, -999.000,9
           NA,    AR19,     52,   1,       3,  301277,  2,19980517,0002,  42.3767,  -43.3300,    64,   4599.2,   2.3203,  34.8949,2,  34.8954,2, -999.000,9,    276.9,2, -999.000,9, -999.000,9, -999.000,9, -999.000,9, -999.000,9, -999.000,9, -999.000,9, -999.000,9, -999.000,9
           NA,    AR19,     52,   1,       2,  301276,  2,19980517,0002,  42.3767,  -43.3300,    64,   4842.4,   2.2642,  34.8918,2,  34.8906,2, -999.000,9,    279.5,2, -999.000,9, -999.000,9, -999.000,9, -999.000,9, -999.000,9, -999.000,9, -999.000,9, -999.000,9, -999.000,9
           NA,    AR19,     52,   1,       1,  301275,  2,19980517,0002,  42.3767,  -43.3300,    64,   4900.8,   2.2274,  34.8910,2,  34.8902,2, -999.000,9,    283.2,2, -999.000,9, -999.000,9, -999.000,9, -999.000,9, -999.000,9, -999.000,9, -999.000,9, -999.000,9, -999.000,9
           NA,    AR19,     51,   1,      24,  301274,  2,19980516,1508,  42.6817,  -42.5633,    14,     14.8,  17.3785,  36.3780,2,  36.3740,2, -999.000,9,    236.5,2, -999.000,9, -999.000,9, -999.000,9, -999.000,9, -999.000,9, -999.000,9, -999.000,9, -999.000,9, -999.000,9
           NA,    AR19,     51,   1,      23,  301273,  2,19980516,1508,  42.6817,  -42.5633,    14,     49.5,  17.3689,  36.3773,2,  36.3743,2, -999.000,9,    236.1,2, -999.000,9, -999.000,9, -999.000,9, -999.000,9, -999.000,9, -999.000,9, -999.000,9, -999.000,9, -999.000,9
           NA,    AR19,     51,   1,      22,  301272,  2,19980516,1508,  42.6817,  -42.5633,    14,    101.2,  17.3418,  36.3875,2,  36.3843,2, -999.000,9,    233.4,2, -999.000,9, -999.000,9, -999.000,9, -999.000,9, -999.000,9, -999.000,9, -999.000,9, -999.000,9, -999.000,9
           NA,    AR19,     51,   1,      21,  301271,  2,19980516,1508,  42.6817,  -42.5633,    14,    201.1,  16.3425,  36.2243,2,-999.0000,3, -999.000,9,    215.2,2, -999.000,9, -999.000,9, -999.000,9, -999.000,9, -999.000,9, -999.000,9, -999.000,9, -999.000,9, -999.000,9
           NA,    AR19,     51,   1,      20,  301270,  2,19980516,1508,  42.6817,  -42.5633,    14,    399.2,  15.5333,  36.1249,2,-999.0000,3, -999.000,9,    219.1,2, -999.000,9, -999.000,9, -999.000,9, -999.000,9, -999.000,9, -999.000,9, -999.000,9, -999.000,9, -999.000,9
           NA,    AR19,     51,   1,      19,  301269,  2,19980516,1508,  42.6817,  -42.5633,    14,    598.7,  12.5911,  35.6226,2,  35.6222,2, -999.000,9,    181.8,2, -999.000,9, -999.000,9, -999.000,9, -999.000,9, -999.000,9, -999.000,9, -999.000,9, -999.000,9, -999.000,9
           NA,    AR19,     51,   1,      18,  301268,  2,19980516,1508,  42.6817,  -42.5633,    14,    914.4,   5.9584,  34.9072,2,  34.9086,2, -999.000,9,    209.6,2, -999.000,9, -999.000,9, -999.000,9, -999.000,9, -999.000,9, -999.000,9, -999.000,9, -999.000,9, -999.000,9
           NA,    AR19,     51,   1,      17,  301267,  2,19980516,1508,  42.6817,  -42.5633,    14,   1096.9,   5.3336,  35.0298,2,-999.0000,4, -999.000,9,    230.5,2, -999.000,9, -999.000,9, -999.000,9, -999.000,9, -999.000,9, -999.000,9, -999.000,9, -999.000,9, -999.000,9
           NA,    AR19,     51,   1,      16,  301266,  2,19980516,1508,  42.6817,  -42.5633,    14,   1246.8,   4.5523,  34.9660,2,  34.9660,2, -999.000,9,    252.2,2, -999.000,9, -999.000,9, -999.000,9, -999.000,9, -999.000,9, -999.000,9, -999.000,9, -999.000,9, -999.000,9
           NA,    AR19,     51,   1,      15,  301265,  2,19980516,1508,  42.6817,  -42.5633,    14,   1396.6,   3.7747,  34.8823,2,  34.8826,2, -999.000,9,    275.9,2, -999.000,9, -999.000,9, -999.000,9, -999.000,9, -999.000,9, -999.000,9, -999.000,9, -999.000,9, -999.000,9
           NA,    AR19,     51,   1,      14,  301264,  2,19980516,1508,  42.6817,  -42.5633,    14,   1754.3,   3.6266,  34.9062,2,  34.9068,2, -999.000,9,    275.4,2, -999.000,9, -999.000,9, -999.000,9, -999.000,9, -999.000,9, -999.000,9, -999.000,9, -999.000,9, -999.000,9
           NA,    AR19,     51,   1,      12,  301262,  2,19980516,1508,  42.6817,  -42.5633,    14,   2246.7,   3.1609,  34.8729,2,  34.8718,2, -999.000,9,    284.5,2, -999.000,9, -999.000,9, -999.000,9, -999.000,9, -999.000,9, -999.000,9, -999.000,9, -999.000,9, -999.000,9
           NA,    AR19,     51,   1,      11,  301261,  2,19980516,1508,  42.6817,  -42.5633,    14,   2497.3,   3.1640,  34.8867,2,  34.8863,2, -999.000,9,    283.0,2, -999.000,9, -999.000,9, -999.000,9, -999.000,9, -999.000,9, -999.000,9, -999.000,9, -999.000,9, -999.000,9
           NA,    AR19,     51,   1,      10,  301260,  2,19980516,1508,  42.6817,  -42.5633,    14,   2750.9,   3.1005,  34.8916,2,  34.8921,2, -999.000,9,    282.3,2, -999.000,9, -999.000,9, -999.000,9, -999.000,9, -999.000,9, -999.000,9, -999.000,9, -999.000,9, -999.000,9
           NA,    AR19,     51,   1,       9,  301259,  2,19980516,1508,  42.6817,  -42.5633,    14,   2998.5,   3.0834,  34.9186,2,  34.9181,2, -999.000,9,    275.0,2, -999.000,9, -999.000,9, -999.000,9, -999.000,9, -999.000,9, -999.000,9, -999.000,9, -999.000,9, -999.000,9
           NA,    AR19,     51,   1,       8,  301258,  2,19980516,1508,  42.6817,  -42.5633,    14,   3248.2,   2.8946,  34.9187,2,  34.9187,2, -999.000,9,    276.1,2, -999.000,9, -999.000,9, -999.000,9, -999.000,9, -999.000,9, -999.000,9, -999.000,9, -999.000,9, -999.000,9
           NA,    AR19,     51,   1,       7,  301257,  2,19980516,1508,  42.6817,  -42.5633,    14,   3498.1,   2.6991,  34.9180,2,  34.9164,2, -999.000,9,    274.1,2, -999.000,9, -999.000,9, -999.000,9, -999.000,9, -999.000,9, -999.000,9, -999.000,9, -999.000,9, -999.000,9
           NA,    AR19,     51,   1,       6,  301256,  2,19980516,1508,  42.6817,  -42.5633,    14,   3746.7,   2.5434,  34.9118,2,  34.9111,2, -999.000,9,    273.7,2, -999.000,9, -999.000,9, -999.000,9, -999.000,9, -999.000,9, -999.000,9, -999.000,9, -999.000,9, -999.000,9
           NA,    AR19,     51,   1,       5,  301255,  2,19980516,1508,  42.6817,  -42.5633,    14,   3995.4,   2.4118,  34.9052,2,  34.9045,2, -999.000,9,    272.6,2, -999.000,9, -999.000,9, -999.000,9, -999.000,9, -999.000,9, -999.000,9, -999.000,9, -999.000,9, -999.000,9
           NA,    AR19,     51,   1,       4,  301254,  2,19980516,1508,  42.6817,  -42.5633,    14,   4249.7,   2.3192,  34.8984,2,  34.8990,2, -999.000,9,    272.6,2, -999.000,9, -999.000,9, -999.000,9, -999.000,9, -999.000,9, -999.000,9, -999.000,9, -999.000,9, -999.000,9
           NA,    AR19,     51,   1,       3,  301253,  2,19980516,1508,  42.6817,  -42.5633,    14,   4857.3,   2.2633,  34.8913,2,  34.8902,2, -999.000,9,    275.6,2, -999.000,9, -999.000,9, -999.000,9, -999.000,9, -999.000,9, -999.000,9, -999.000,9, -999.000,9, -999.000,9
           NA,    AR19,     51,   1,       2,  301252,  2,19980516,1508,  42.6817,  -42.5633,    14,   4929.9,   2.2579,  34.8918,2,  34.8910,2, -999.000,9,    282.6,2, -999.000,9, -999.000,9, -999.000,9, -999.000,9, -999.000,9, -999.000,9, -999.000,9, -999.000,9, -999.000,9
           NA,    AR19,     51,   1,       1,  301251,  2,19980516,1508,  42.6817,  -42.5633,    14,   4961.2,   2.2572,  34.8922,2,  34.8906,2, -999.000,9,    282.8,2, -999.000,9, -999.000,9, -999.000,9, -999.000,9, -999.000,9, -999.000,9, -999.000,9, -999.000,9, -999.000,9