BOTTLE,20214525JOAExport
EXPOCODE,SECT_ID,STNNBR,CASTNO,SAMPNO,BTLNBR,BTLNBR_FLAG_W,DATE,TIME,LATITUDE,LONGITUDE,DEPTH,CTDPRS,CTDTMP,CTDSAL,CTDSAL_FLAG_W,SALNTY,SALNTY_FLAG_W,CTDOXY,CTDOXY_FLAG_W,OXYGEN,OXYGEN_FLAG_W,SILCAT,SILCAT_FLAG_W,NITRAT,NITRAT_FLAG_W,NITRIT,NITRIT_FLAG_W,PHSPHT,PHSPHT_FLAG_W,CFC-11,CFC-11_FLAG_W,CFC-12,CFC-12_FLAG_W,SF6,SF6_FLAG_W,TCARBN,TCARBN_FLAG_W,ALKALI,ALKALI_FLAG_W
,,,,,,,,,,,,DB,ITS-90,PSS-78,,PSS-78,,UMOL/KG,,UMOL/KG,,UMOL/KG,,UMOL/KG,,UMOL/KG,,UMOL/KG,,PMOL/KG,,PMOL/KG,,FMOL/KG,,UMOL/KG,,UMOL/KG
           NA,    AR19,     54,   1,      24,  301346,  2,19980517,1353,  42.2283,  -44.4650,    10,     10.7,  17.9432,  36.3510,2,  36.3498,2, -999.000,9,    239.0,2, -999.000,9, -999.000,9, -999.000,9, -999.000,9, -999.000,9, -999.000,9, -999.000,9, -999.000,9, -999.000,9
           NA,    AR19,     54,   1,      23,  301345,  2,19980517,1353,  42.2283,  -44.4650,    10,     49.7,  17.6648,  36.3663,2,  36.3647,2, -999.000,9,    233.1,2, -999.000,9, -999.000,9, -999.000,9, -999.000,9, -999.000,9, -999.000,9, -999.000,9, -999.000,9, -999.000,9
           NA,    AR19,     54,   1,      22,  301344,  2,19980517,1353,  42.2283,  -44.4650,    10,    100.2,  17.3008,  36.3514,2,-999.0000,4, -999.000,9,    227.4,2, -999.000,9, -999.000,9, -999.000,9, -999.000,9, -999.000,9, -999.000,9, -999.000,9, -999.000,9, -999.000,9
           NA,    AR19,     54,   1,      21,  301343,  2,19980517,1353,  42.2283,  -44.4650,    10,    300.0,  15.9838,  36.1979,2,  36.1972,2, -999.000,9,    224.8,2, -999.000,9, -999.000,9, -999.000,9, -999.000,9, -999.000,9, -999.000,9, -999.000,9, -999.000,9, -999.000,9
           NA,    AR19,     54,   1,      20,  301342,  2,19980517,1353,  42.2283,  -44.4650,    10,    498.3,  15.8656,  36.2136,2,  36.2111,2, -999.000,9,    228.3,2, -999.000,9, -999.000,9, -999.000,9, -999.000,9, -999.000,9, -999.000,9, -999.000,9, -999.000,9, -999.000,9
           NA,    AR19,     54,   1,      19,  301341,  2,19980517,1353,  42.2283,  -44.4650,    10,   1196.3,   5.4759,  34.9734,2,  34.9751,2, -999.000,9,    224.7,2, -999.000,9, -999.000,9, -999.000,9, -999.000,9, -999.000,9, -999.000,9, -999.000,9, -999.000,9, -999.000,9
           NA,    AR19,     54,   1,      18,  301340,  2,19980517,1353,  42.2283,  -44.4650,    10,   1346.6,   4.9568,  35.0070,2,  35.0082,2, -999.000,9,    241.0,2, -999.000,9, -999.000,9, -999.000,9, -999.000,9, -999.000,9, -999.000,9, -999.000,9, -999.000,9, -999.000,9
           NA,    AR19,     54,   1,      17,  301339,  2,19980517,1353,  42.2283,  -44.4650,    10,   1497.1,   4.4389,  34.9722,2,  34.9724,2, -999.000,9,    253.2,2, -999.000,9, -999.000,9, -999.000,9, -999.000,9, -999.000,9, -999.000,9, -999.000,9, -999.000,9, -999.000,9
           NA,    AR19,     54,   1,      16,  301338,  2,19980517,1353,  42.2283,  -44.4650,    10,   1745.4,   4.0465,  34.9602,2,  34.9612,2, -999.000,9,    261.0,2, -999.000,9, -999.000,9, -999.000,9, -999.000,9, -999.000,9, -999.000,9, -999.000,9, -999.000,9, -999.000,9
           NA,    AR19,     54,   1,      15,  301337,  2,19980517,1353,  42.2283,  -44.4650,    10,   2046.6,   3.4571,  34.8935,2,  34.8953,2, -999.000,9,    279.1,2, -999.000,9, -999.000,9, -999.000,9, -999.000,9, -999.000,9, -999.000,9, -999.000,9, -999.000,9, -999.000,9
           NA,    AR19,     54,   1,      14,  301336,  2,19980517,1353,  42.2283,  -44.4650,    10,   2248.5,   3.3451,  34.8902,2,  34.8899,2, -999.000,9,    281.8,2, -999.000,9, -999.000,9, -999.000,9, -999.000,9, -999.000,9, -999.000,9, -999.000,9, -999.000,9, -999.000,9
           NA,    AR19,     54,   1,      13,  301335,  2,19980517,1353,  42.2283,  -44.4650,    10,   2498.0,   3.1859,  34.8809,2,  34.8822,2, -999.000,9,    283.2,2, -999.000,9, -999.000,9, -999.000,9, -999.000,9, -999.000,9, -999.000,9, -999.000,9, -999.000,9, -999.000,9
           NA,    AR19,     54,   1,      12,  301334,  2,19980517,1353,  42.2283,  -44.4650,    10,   2747.9,   3.1357,  34.8896,2,  34.8907,2, -999.000,9,    280.8,2, -999.000,9, -999.000,9, -999.000,9, -999.000,9, -999.000,9, -999.000,9, -999.000,9, -999.000,9, -999.000,9
           NA,    AR19,     54,   1,      11,  301333,  2,19980517,1353,  42.2283,  -44.4650,    10,   2999.7,   3.1335,  34.9159,2,  34.9161,2, -999.000,9,    274.5,2, -999.000,9, -999.000,9, -999.000,9, -999.000,9, -999.000,9, -999.000,9, -999.000,9, -999.000,9, -999.000,9
           NA,    AR19,     54,   1,      10,  301332,  2,19980517,1353,  42.2283,  -44.4650,    10,   3247.3,   2.9750,  34.9221,2,  34.9226,2, -999.000,9,    273.5,2, -999.000,9, -999.000,9, -999.000,9, -999.000,9, -999.000,9, -999.000,9, -999.000,9, -999.000,9, -999.000,9
           NA,    AR19,     54,   1,       9,  301331,  2,19980517,1353,  42.2283,  -44.4650,    10,   3499.4,   2.7763,  34.9190,2,  34.9196,2, -999.000,9,    272.6,2, -999.000,9, -999.000,9, -999.000,9, -999.000,9, -999.000,9, -999.000,9, -999.000,9, -999.000,9, -999.000,9
           NA,    AR19,     54,   1,       8,  301330,  2,19980517,1353,  42.2283,  -44.4650,    10,   3749.8,   2.5849,  34.9129,2,  34.9117,2, -999.000,9,    271.2,2, -999.000,9, -999.000,9, -999.000,9, -999.000,9, -999.000,9, -999.000,9, -999.000,9, -999.000,9, -999.000,9
           NA,    AR19,     54,   1,       7,  301329,  2,19980517,1353,  42.2283,  -44.4650,    10,   3999.2,   2.4311,  34.9048,2,  34.9047,2, -999.000,9,    271.8,2, -999.000,9, -999.000,9, -999.000,9, -999.000,9, -999.000,9, -999.000,9, -999.000,9, -999.000,9, -999.000,9
           NA,    AR19,     54,   1,       6,  301328,  2,19980517,1353,  42.2283,  -44.4650,    10,   4249.4,   2.3452,  34.8985,2,  34.8989,2, -999.000,9,    271.9,2, -999.000,9, -999.000,9, -999.000,9, -999.000,9, -999.000,9, -999.000,9, -999.000,9, -999.000,9, -999.000,9
           NA,    AR19,     54,   1,       5,  301327,  2,19980517,1353,  42.2283,  -44.4650,    10,   4499.1,   2.3053,  34.8950,2,  34.8941,2, -999.000,9,    271.7,2, -999.000,9, -999.000,9, -999.000,9, -999.000,9, -999.000,9, -999.000,9, -999.000,9, -999.000,9, -999.000,9
           NA,    AR19,     54,   1,       4,  301326,  2,19980517,1353,  42.2283,  -44.4650,    10,   4749.1,   2.2794,  34.8909,2,  34.8904,2, -999.000,9,    271.1,2, -999.000,9, -999.000,9, -999.000,9, -999.000,9, -999.000,9, -999.000,9, -999.000,9, -999.000,9, -999.000,9
           NA,    AR19,     54,   1,       3,  301325,  2,19980517,1353,  42.2283,  -44.4650,    10,   4873.7,   2.2718,  34.8903,2,  34.8897,2, -999.000,9,    273.0,2, -999.000,9, -999.000,9, -999.000,9, -999.000,9, -999.000,9, -999.000,9, -999.000,9, -999.000,9, -999.000,9
           NA,    AR19,     54,   1,       2,  301324,  2,19980517,1353,  42.2283,  -44.4650,    10,   4953.2,   2.2635,  34.8903,2,  34.8898,2, -999.000,9,    276.4,2, -999.000,9, -999.000,9, -999.000,9, -999.000,9, -999.000,9, -999.000,9, -999.000,9, -999.000,9, -999.000,9
           NA,    AR19,     54,   1,       1,  301323,  2,19980517,1353,  42.2283,  -44.4650,    10,   4974.7,   2.2656,  34.8903,2,  34.8901,2, -999.000,9,    277.0,2, -999.000,9, -999.000,9, -999.000,9, -999.000,9, -999.000,9, -999.000,9, -999.000,9, -999.000,9, -999.000,9
           NA,    AR19,     53,   1,      24,  301322,  2,19980517,0655,  42.3483,  -43.9067,     9,      9.9,  17.8117,  36.3674,2,  36.3624,2, -999.000,9,    236.9,2, -999.000,9, -999.000,9, -999.000,9, -999.000,9, -999.000,9, -999.000,9, -999.000,9, -999.000,9, -999.000,9
           NA,    AR19,     53,   1,      23,  301321,  2,19980517,0655,  42.3483,  -43.9067,     9,     50.4,  17.4487,  36.3370,2,  36.3344,2, -999.000,9,    237.7,2, -999.000,9, -999.000,9, -999.000,9, -999.000,9, -999.000,9, -999.000,9, -999.000,9, -999.000,9, -999.000,9
           NA,    AR19,     53,   1,      22,  301320,  2,19980517,0655,  42.3483,  -43.9067,     9,     99.2,  16.8432,  36.3147,2,  36.3148,2, -999.000,9,    220.5,2, -999.000,9, -999.000,9, -999.000,9, -999.000,9, -999.000,9, -999.000,9, -999.000,9, -999.000,9, -999.000,9
           NA,    AR19,     53,   1,      21,  301319,  2,19980517,0655,  42.3483,  -43.9067,     9,    199.0,  16.2635,  36.2539,2,  36.2497,2, -999.000,9,    225.5,2, -999.000,9, -999.000,9, -999.000,9, -999.000,9, -999.000,9, -999.000,9, -999.000,9, -999.000,9, -999.000,9
           NA,    AR19,     53,   1,      20,  301318,  2,19980517,0655,  42.3483,  -43.9067,     9,    399.5,  15.9646,  36.2224,2,  36.2200,2, -999.000,9,    227.5,2, -999.000,9, -999.000,9, -999.000,9, -999.000,9, -999.000,9, -999.000,9, -999.000,9, -999.000,9, -999.000,9
           NA,    AR19,     53,   1,      19,  301317,  2,19980517,0655,  42.3483,  -43.9067,     9,    629.7,  15.7957,  36.2210,2,  36.2160,2, -999.000,9,    223.4,2, -999.000,9, -999.000,9, -999.000,9, -999.000,9, -999.000,9, -999.000,9, -999.000,9, -999.000,9, -999.000,9
           NA,    AR19,     53,   1,      18,  301316,  2,19980517,0655,  42.3483,  -43.9067,     9,    747.7,  14.3799,  35.9133,2,  35.9091,2, -999.000,9,    206.2,2, -999.000,9, -999.000,9, -999.000,9, -999.000,9, -999.000,9, -999.000,9, -999.000,9, -999.000,9, -999.000,9
           NA,    AR19,     53,   1,      17,  301315,  2,19980517,0655,  42.3483,  -43.9067,     9,    999.2,  10.0511,  35.3058,2,  35.3033,2, -999.000,9,    163.6,2, -999.000,9, -999.000,9, -999.000,9, -999.000,9, -999.000,9, -999.000,9, -999.000,9, -999.000,9, -999.000,9
           NA,    AR19,     53,   1,      16,  301314,  2,19980517,0655,  42.3483,  -43.9067,     9,   1198.6,   6.5438,  35.0402,2,  35.0409,2, -999.000,9,    198.8,2, -999.000,9, -999.000,9, -999.000,9, -999.000,9, -999.000,9, -999.000,9, -999.000,9, -999.000,9, -999.000,9
           NA,    AR19,     53,   1,      15,  301313,  2,19980517,0655,  42.3483,  -43.9067,     9,   1499.1,   4.8646,  35.0139,2,  35.0148,2, -999.000,9,    242.7,2, -999.000,9, -999.000,9, -999.000,9, -999.000,9, -999.000,9, -999.000,9, -999.000,9, -999.000,9, -999.000,9
           NA,    AR19,     53,   1,      14,  301312,  2,19980517,0655,  42.3483,  -43.9067,     9,   1751.5,   4.1620,  34.9635,2,  34.9611,2, -999.000,9,    261.2,2, -999.000,9, -999.000,9, -999.000,9, -999.000,9, -999.000,9, -999.000,9, -999.000,9, -999.000,9, -999.000,9
           NA,    AR19,     53,   1,      13,  301311,  2,19980517,0655,  42.3483,  -43.9067,     9,   1998.5,   3.7027,  34.9192,2,  34.9190,2, -999.000,9,    273.2,2, -999.000,9, -999.000,9, -999.000,9, -999.000,9, -999.000,9, -999.000,9, -999.000,9, -999.000,9, -999.000,9
           NA,    AR19,     53,   1,      12,  301310,  2,19980517,0655,  42.3483,  -43.9067,     9,   2248.4,   3.4586,  34.9001,2,  34.9015,2, -999.000,9,    277.6,2, -999.000,9, -999.000,9, -999.000,9, -999.000,9, -999.000,9, -999.000,9, -999.000,9, -999.000,9, -999.000,9
           NA,    AR19,     53,   1,      11,  301309,  2,19980517,0655,  42.3483,  -43.9067,     9,   2530.1,   3.2771,  34.8869,2,  34.8871,2, -999.000,9,    282.8,2, -999.000,9, -999.000,9, -999.000,9, -999.000,9, -999.000,9, -999.000,9, -999.000,9, -999.000,9, -999.000,9
           NA,    AR19,     53,   1,      10,  301308,  2,19980517,0655,  42.3483,  -43.9067,     9,   2800.4,   3.4669,  34.9530,2,  34.9547,2, -999.000,9,    266.1,2, -999.000,9, -999.000,9, -999.000,9, -999.000,9, -999.000,9, -999.000,9, -999.000,9, -999.000,9, -999.000,9
           NA,    AR19,     53,   1,       8,  301306,  2,19980517,0655,  42.3483,  -43.9067,     9,   3249.6,   3.0822,  34.9307,2,  34.9315,2, -999.000,9,    270.5,2, -999.000,9, -999.000,9, -999.000,9, -999.000,9, -999.000,9, -999.000,9, -999.000,9, -999.000,9, -999.000,9
           NA,    AR19,     53,   1,       7,  301305,  2,19980517,0655,  42.3483,  -43.9067,     9,   3500.2,   2.8852,  34.9270,2,  34.9269,2, -999.000,9,    270.1,2, -999.000,9, -999.000,9, -999.000,9, -999.000,9, -999.000,9, -999.000,9, -999.000,9, -999.000,9, -999.000,9
           NA,    AR19,     53,   1,       6,  301304,  2,19980517,0655,  42.3483,  -43.9067,     9,   3751.9,   2.6594,  34.9166,2,  34.9169,2, -999.000,9,    271.9,2, -999.000,9, -999.000,9, -999.000,9, -999.000,9, -999.000,9, -999.000,9, -999.000,9, -999.000,9, -999.000,9
           NA,    AR19,     53,   1,       5,  301303,  2,19980517,0655,  42.3483,  -43.9067,     9,   4000.3,   2.4746,  34.9079,2,  34.9072,2, -999.000,9,    273.4,2, -999.000,9, -999.000,9, -999.000,9, -999.000,9, -999.000,9, -999.000,9, -999.000,9, -999.000,9, -999.000,9
           NA,    AR19,     53,   1,       4,  301302,  2,19980517,0655,  42.3483,  -43.9067,     9,   4400.5,   2.3328,  34.8979,2,  34.8964,2, -999.000,9,    273.3,2, -999.000,9, -999.000,9, -999.000,9, -999.000,9, -999.000,9, -999.000,9, -999.000,9, -999.000,9, -999.000,9
           NA,    AR19,     53,   1,       3,  301301,  2,19980517,0655,  42.3483,  -43.9067,     9,   4899.2,   2.2602,  34.8903,2,  34.8886,2, -999.000,9,    275.6,2, -999.000,9, -999.000,9, -999.000,9, -999.000,9, -999.000,9, -999.000,9, -999.000,9, -999.000,9, -999.000,9
           NA,    AR19,     53,   1,       2,  301300,  2,19980517,0655,  42.3483,  -43.9067,     9,   4974.3,   2.2610,  34.8913,2,  34.8891,2, -999.000,9,    277.6,2, -999.000,9, -999.000,9, -999.000,9, -999.000,9, -999.000,9, -999.000,9, -999.000,9, -999.000,9, -999.000,9
           NA,    AR19,     53,   1,       1,  301299,  2,19980517,0655,  42.3483,  -43.9067,     9,   4996.2,   2.2630,  34.8913,2,  34.8893,2, -999.000,9,    278.1,2, -999.000,9, -999.000,9, -999.000,9, -999.000,9, -999.000,9, -999.000,9, -999.000,9, -999.000,9, -999.000,9