BOTTLE,20214525JOAExport
EXPOCODE,SECT_ID,STNNBR,CASTNO,SAMPNO,BTLNBR,BTLNBR_FLAG_W,DATE,TIME,LATITUDE,LONGITUDE,DEPTH,CTDPRS,CTDTMP,CTDSAL,CTDSAL_FLAG_W,SALNTY,SALNTY_FLAG_W,CTDOXY,CTDOXY_FLAG_W,OXYGEN,OXYGEN_FLAG_W,SILCAT,SILCAT_FLAG_W,NITRAT,NITRAT_FLAG_W,NITRIT,NITRIT_FLAG_W,PHSPHT,PHSPHT_FLAG_W,CFC-11,CFC-11_FLAG_W,CFC-12,CFC-12_FLAG_W,SF6,SF6_FLAG_W,TCARBN,TCARBN_FLAG_W,ALKALI,ALKALI_FLAG_W
,,,,,,,,,,,,DB,ITS-90,PSS-78,,PSS-78,,UMOL/KG,,UMOL/KG,,UMOL/KG,,UMOL/KG,,UMOL/KG,,UMOL/KG,,PMOL/KG,,PMOL/KG,,FMOL/KG,,UMOL/KG,,UMOL/KG
           NA,    AR19,     46,   1,      24,  301154,  2,19980515,0316,  43.8683,  -38.5583,     9,      9.5,  15.7083,  36.0978,2,  36.0960,2, -999.000,9,    250.1,2, -999.000,9, -999.000,9, -999.000,9, -999.000,9, -999.000,9, -999.000,9, -999.000,9, -999.000,9, -999.000,9
           NA,    AR19,     46,   1,      23,  301153,  2,19980515,0316,  43.8683,  -38.5583,     9,     50.0,  15.7150,  36.0999,2,  36.0973,2, -999.000,9,    249.6,2, -999.000,9, -999.000,9, -999.000,9, -999.000,9, -999.000,9, -999.000,9, -999.000,9, -999.000,9, -999.000,9
           NA,    AR19,     46,   1,      22,  301152,  2,19980515,0316,  43.8683,  -38.5583,     9,     99.1,  15.0671,  36.0366,2,  36.0357,2, -999.000,9,    239.2,2, -999.000,9, -999.000,9, -999.000,9, -999.000,9, -999.000,9, -999.000,9, -999.000,9, -999.000,9, -999.000,9
           NA,    AR19,     46,   1,      21,  301151,  2,19980515,0316,  43.8683,  -38.5583,     9,    199.9,  14.5443,  35.9727,2,  35.9721,2, -999.000,9,    238.9,2, -999.000,9, -999.000,9, -999.000,9, -999.000,9, -999.000,9, -999.000,9, -999.000,9, -999.000,9, -999.000,9
           NA,    AR19,     46,   1,      20,  301150,  2,19980515,0316,  43.8683,  -38.5583,     9,    399.0,  13.7020,  35.8061,2,  35.8052,2, -999.000,9,    228.6,2, -999.000,9, -999.000,9, -999.000,9, -999.000,9, -999.000,9, -999.000,9, -999.000,9, -999.000,9, -999.000,9
           NA,    AR19,     46,   1,      19,  301149,  2,19980515,0316,  43.8683,  -38.5583,     9,    598.1,  10.8190,  35.3919,2,  35.3908,2, -999.000,9,    181.1,2, -999.000,9, -999.000,9, -999.000,9, -999.000,9, -999.000,9, -999.000,9, -999.000,9, -999.000,9, -999.000,9
           NA,    AR19,     46,   1,      18,  301148,  2,19980515,0316,  43.8683,  -38.5583,     9,    748.7,   8.6001,  35.1630,2,  35.1628,2, -999.000,9,    172.9,2, -999.000,9, -999.000,9, -999.000,9, -999.000,9, -999.000,9, -999.000,9, -999.000,9, -999.000,9, -999.000,9
           NA,    AR19,     46,   1,      17,  301147,  2,19980515,0316,  43.8683,  -38.5583,     9,    996.9,   5.8483,  35.0406,2,  35.0411,2, -999.000,9,    217.7,2, -999.000,9, -999.000,9, -999.000,9, -999.000,9, -999.000,9, -999.000,9, -999.000,9, -999.000,9, -999.000,9
           NA,    AR19,     46,   1,      16,  301146,  2,19980515,0316,  43.8683,  -38.5583,     9,   1057.8,   5.8776,  35.0969,2,  35.0977,2, -999.000,9,    221.6,2, -999.000,9, -999.000,9, -999.000,9, -999.000,9, -999.000,9, -999.000,9, -999.000,9, -999.000,9, -999.000,9
           NA,    AR19,     46,   1,      15,  301145,  2,19980515,0316,  43.8683,  -38.5583,     9,   1247.7,   5.0691,  35.0628,2,  35.0640,2, -999.000,9,    241.5,2, -999.000,9, -999.000,9, -999.000,9, -999.000,9, -999.000,9, -999.000,9, -999.000,9, -999.000,9, -999.000,9
           NA,    AR19,     46,   1,      14,  301144,  2,19980515,0316,  43.8683,  -38.5583,     9,   1497.5,   4.2708,  34.9807,2,  34.9809,2, -999.000,9,    258.6,2, -999.000,9, -999.000,9, -999.000,9, -999.000,9, -999.000,9, -999.000,9, -999.000,9, -999.000,9, -999.000,9
           NA,    AR19,     46,   1,      13,  301143,  2,19980515,0316,  43.8683,  -38.5583,     9,   1747.3,   3.7825,  34.9305,2,  34.9324,2, -999.000,9,    270.4,2, -999.000,9, -999.000,9, -999.000,9, -999.000,9, -999.000,9, -999.000,9, -999.000,9, -999.000,9, -999.000,9
           NA,    AR19,     46,   1,      12,  301142,  2,19980515,0316,  43.8683,  -38.5583,     9,   2011.6,   3.4609,  34.9040,2,  34.9036,2, -999.000,9,    279.4,2, -999.000,9, -999.000,9, -999.000,9, -999.000,9, -999.000,9, -999.000,9, -999.000,9, -999.000,9, -999.000,9
           NA,    AR19,     46,   1,      11,  301141,  2,19980515,0316,  43.8683,  -38.5583,     9,   2175.3,   3.3908,  34.9060,2,  34.9067,2, -999.000,9,    277.3,2, -999.000,9, -999.000,9, -999.000,9, -999.000,9, -999.000,9, -999.000,9, -999.000,9, -999.000,9, -999.000,9
           NA,    AR19,     46,   1,      10,  301140,  2,19980515,0316,  43.8683,  -38.5583,     9,   2247.7,   3.3135,  34.8976,2,  34.8978,2, -999.000,9,    281.0,2, -999.000,9, -999.000,9, -999.000,9, -999.000,9, -999.000,9, -999.000,9, -999.000,9, -999.000,9, -999.000,9
           NA,    AR19,     46,   1,       9,  301139,  2,19980515,0316,  43.8683,  -38.5583,     9,   2547.2,   3.1901,  34.9093,2,  34.9099,2, -999.000,9,    279.1,2, -999.000,9, -999.000,9, -999.000,9, -999.000,9, -999.000,9, -999.000,9, -999.000,9, -999.000,9, -999.000,9
           NA,    AR19,     46,   1,       8,  301138,  2,19980515,0316,  43.8683,  -38.5583,     9,   2748.5,   3.1455,  34.9312,2,  34.9319,2, -999.000,9,    271.0,2, -999.000,9, -999.000,9, -999.000,9, -999.000,9, -999.000,9, -999.000,9, -999.000,9, -999.000,9, -999.000,9
           NA,    AR19,     46,   1,       7,  301137,  2,19980515,0316,  43.8683,  -38.5583,     9,   2999.0,   2.9463,  34.9283,2,  34.9290,2, -999.000,9,    274.0,2, -999.000,9, -999.000,9, -999.000,9, -999.000,9, -999.000,9, -999.000,9, -999.000,9, -999.000,9, -999.000,9
           NA,    AR19,     46,   1,       6,  301136,  2,19980515,0316,  43.8683,  -38.5583,     9,   3251.3,   2.7590,  34.9247,2,  34.9240,2, -999.000,9,    273.9,2, -999.000,9, -999.000,9, -999.000,9, -999.000,9, -999.000,9, -999.000,9, -999.000,9, -999.000,9, -999.000,9
           NA,    AR19,     46,   1,       5,  301135,  2,19980515,0316,  43.8683,  -38.5583,     9,   3601.6,   2.4941,  34.9113,2,  34.9110,2, -999.000,9,    273.6,2, -999.000,9, -999.000,9, -999.000,9, -999.000,9, -999.000,9, -999.000,9, -999.000,9, -999.000,9, -999.000,9
           NA,    AR19,     46,   1,       4,  301134,  2,19980515,0316,  43.8683,  -38.5583,     9,   3748.1,   2.4105,  34.9059,2,  34.9059,2, -999.000,9,    276.0,2, -999.000,9, -999.000,9, -999.000,9, -999.000,9, -999.000,9, -999.000,9, -999.000,9, -999.000,9, -999.000,9
           NA,    AR19,     46,   1,       3,  301133,  2,19980515,0316,  43.8683,  -38.5583,     9,   4016.0,   2.3131,  34.8989,2,  34.8992,2, -999.000,9,    275.9,2, -999.000,9, -999.000,9, -999.000,9, -999.000,9, -999.000,9, -999.000,9, -999.000,9, -999.000,9, -999.000,9
           NA,    AR19,     46,   1,       2,  301132,  2,19980515,0316,  43.8683,  -38.5583,     9,   4093.1,   2.2532,  34.8963,2,  34.8953,2, -999.000,9,    281.4,2, -999.000,9, -999.000,9, -999.000,9, -999.000,9, -999.000,9, -999.000,9, -999.000,9, -999.000,9, -999.000,9
           NA,    AR19,     46,   1,       1,  301131,  2,19980515,0316,  43.8683,  -38.5583,     9,   4116.2,   2.2095,  34.8931,2,  34.8938,2, -999.000,9,    281.9,2, -999.000,9, -999.000,9, -999.000,9, -999.000,9, -999.000,9, -999.000,9, -999.000,9, -999.000,9, -999.000,9
           NA,    AR19,     45,   1,      24,  301130,  2,19980514,2038,  44.0950,  -37.7233,    10,     11.0,  16.1963,  36.1331,2,  36.1297,2, -999.000,9,    248.3,2, -999.000,9, -999.000,9, -999.000,9, -999.000,9, -999.000,9, -999.000,9, -999.000,9, -999.000,9, -999.000,9
           NA,    AR19,     45,   1,      23,  301129,  2,19980514,2038,  44.0950,  -37.7233,    10,     50.3,  16.0727,  36.1340,2,  36.1339,2, -999.000,9,    242.3,2, -999.000,9, -999.000,9, -999.000,9, -999.000,9, -999.000,9, -999.000,9, -999.000,9, -999.000,9, -999.000,9
           NA,    AR19,     45,   1,      22,  301128,  2,19980514,2038,  44.0950,  -37.7233,    10,     99.2,  15.4647,  36.1225,2,  36.1205,2, -999.000,9,    228.8,2, -999.000,9, -999.000,9, -999.000,9, -999.000,9, -999.000,9, -999.000,9, -999.000,9, -999.000,9, -999.000,9
           NA,    AR19,     45,   1,      21,  301127,  2,19980514,2038,  44.0950,  -37.7233,    10,    197.9,  14.8044,  36.0086,2,  36.0095,2, -999.000,9,    229.6,2, -999.000,9, -999.000,9, -999.000,9, -999.000,9, -999.000,9, -999.000,9, -999.000,9, -999.000,9, -999.000,9
           NA,    AR19,     45,   1,      20,  301126,  2,19980514,2038,  44.0950,  -37.7233,    10,    297.9,  14.4577,  35.9553,2,  35.9513,2, -999.000,9,    235.8,2, -999.000,9, -999.000,9, -999.000,9, -999.000,9, -999.000,9, -999.000,9, -999.000,9, -999.000,9, -999.000,9
           NA,    AR19,     45,   1,      19,  301125,  2,19980514,2038,  44.0950,  -37.7233,    10,    618.0,  10.3663,  35.3314,2,  35.3313,2, -999.000,9,    181.2,2, -999.000,9, -999.000,9, -999.000,9, -999.000,9, -999.000,9, -999.000,9, -999.000,9, -999.000,9, -999.000,9
           NA,    AR19,     45,   1,      18,  301124,  2,19980514,2038,  44.0950,  -37.7233,    10,    693.4,   9.9187,  35.3944,2,  35.3908,2, -999.000,9,    183.8,2, -999.000,9, -999.000,9, -999.000,9, -999.000,9, -999.000,9, -999.000,9, -999.000,9, -999.000,9, -999.000,9
           NA,    AR19,     45,   1,      17,  301123,  2,19980514,2038,  44.0950,  -37.7233,    10,    890.5,   6.5277,  35.0575,2,  35.0580,2, -999.000,9,    203.1,2, -999.000,9, -999.000,9, -999.000,9, -999.000,9, -999.000,9, -999.000,9, -999.000,9, -999.000,9, -999.000,9
           NA,    AR19,     45,   1,      16,  301122,  2,19980514,2038,  44.0950,  -37.7233,    10,   1015.2,   6.6436,  35.2448,2,  35.2426,2, -999.000,9,    215.3,2, -999.000,9, -999.000,9, -999.000,9, -999.000,9, -999.000,9, -999.000,9, -999.000,9, -999.000,9, -999.000,9
           NA,    AR19,     45,   1,      15,  301121,  2,19980514,2038,  44.0950,  -37.7233,    10,   1246.1,   4.6552,  35.0100,2,  35.0098,2, -999.000,9,    249.9,2, -999.000,9, -999.000,9, -999.000,9, -999.000,9, -999.000,9, -999.000,9, -999.000,9, -999.000,9, -999.000,9
           NA,    AR19,     45,   1,      14,  301120,  2,19980514,2038,  44.0950,  -37.7233,    10,   1495.8,   4.0257,  34.9516,2,  34.9522,2, -999.000,9,    264.4,2, -999.000,9, -999.000,9, -999.000,9, -999.000,9, -999.000,9, -999.000,9, -999.000,9, -999.000,9, -999.000,9
           NA,    AR19,     45,   1,      13,  301119,  2,19980514,2038,  44.0950,  -37.7233,    10,   1746.6,   3.5840,  34.9106,2,  34.9106,2, -999.000,9,    275.8,2, -999.000,9, -999.000,9, -999.000,9, -999.000,9, -999.000,9, -999.000,9, -999.000,9, -999.000,9, -999.000,9
           NA,    AR19,     45,   1,      12,  301118,  2,19980514,2038,  44.0950,  -37.7233,    10,   1996.5,   3.3338,  34.8906,2,  34.8906,2, -999.000,9,    282.7,2, -999.000,9, -999.000,9, -999.000,9, -999.000,9, -999.000,9, -999.000,9, -999.000,9, -999.000,9, -999.000,9
           NA,    AR19,     45,   1,      11,  301117,  2,19980514,2038,  44.0950,  -37.7233,    10,   2247.7,   3.1988,  34.8822,2,  34.8821,2, -999.000,9,    285.6,2, -999.000,9, -999.000,9, -999.000,9, -999.000,9, -999.000,9, -999.000,9, -999.000,9, -999.000,9, -999.000,9
           NA,    AR19,     45,   1,      10,  301116,  2,19980514,2038,  44.0950,  -37.7233,    10,   2407.8,   3.1540,  34.8843,2,  34.8838,2, -999.000,9,    285.9,2, -999.000,9, -999.000,9, -999.000,9, -999.000,9, -999.000,9, -999.000,9, -999.000,9, -999.000,9, -999.000,9
           NA,    AR19,     45,   1,       9,  301115,  2,19980514,2038,  44.0950,  -37.7233,    10,   2498.2,   3.1392,  34.8893,2,  34.8893,2, -999.000,9,    284.8,2, -999.000,9, -999.000,9, -999.000,9, -999.000,9, -999.000,9, -999.000,9, -999.000,9, -999.000,9, -999.000,9
           NA,    AR19,     45,   1,       8,  301114,  2,19980514,2038,  44.0950,  -37.7233,    10,   2748.8,   3.1268,  34.9069,2,  34.9071,2, -999.000,9,    281.1,2, -999.000,9, -999.000,9, -999.000,9, -999.000,9, -999.000,9, -999.000,9, -999.000,9, -999.000,9, -999.000,9
           NA,    AR19,     45,   1,       7,  301113,  2,19980514,2038,  44.0950,  -37.7233,    10,   3028.9,   3.0330,  34.9271,2,  34.9268,2, -999.000,9,    273.5,2, -999.000,9, -999.000,9, -999.000,9, -999.000,9, -999.000,9, -999.000,9, -999.000,9, -999.000,9, -999.000,9
           NA,    AR19,     45,   1,       6,  301112,  2,19980514,2038,  44.0950,  -37.7233,    10,   3248.7,   2.8643,  34.9237,2,  34.9241,2, -999.000,9,    274.2,2, -999.000,9, -999.000,9, -999.000,9, -999.000,9, -999.000,9, -999.000,9, -999.000,9, -999.000,9, -999.000,9
           NA,    AR19,     45,   1,       5,  301111,  2,19980514,2038,  44.0950,  -37.7233,    10,   3512.6,   2.6473,  34.9171,2,  34.9167,2, -999.000,9,    276.4,2, -999.000,9, -999.000,9, -999.000,9, -999.000,9, -999.000,9, -999.000,9, -999.000,9, -999.000,9, -999.000,9
           NA,    AR19,     45,   1,       4,  301110,  2,19980514,2038,  44.0950,  -37.7233,    10,   3900.1,   2.3998,  34.9060,2,  34.9059,2, -999.000,9,    272.3,2, -999.000,9, -999.000,9, -999.000,9, -999.000,9, -999.000,9, -999.000,9, -999.000,9, -999.000,9, -999.000,9
           NA,    AR19,     45,   1,       3,  301109,  2,19980514,2038,  44.0950,  -37.7233,    10,   4162.4,   2.2987,  34.8988,2,  34.8989,2, -999.000,9,    274.7,2, -999.000,9, -999.000,9, -999.000,9, -999.000,9, -999.000,9, -999.000,9, -999.000,9, -999.000,9, -999.000,9
           NA,    AR19,     45,   1,       2,  301108,  2,19980514,2038,  44.0950,  -37.7233,    10,   4187.2,   2.2496,  34.8951,2,  34.8958,2, -999.000,9,    278.4,2, -999.000,9, -999.000,9, -999.000,9, -999.000,9, -999.000,9, -999.000,9, -999.000,9, -999.000,9, -999.000,9
           NA,    AR19,     45,   1,       1,  301107,  2,19980514,2038,  44.0950,  -37.7233,    10,   4210.9,   2.2517,  34.8959,2,  34.8955,2, -999.000,9,    278.6,2, -999.000,9, -999.000,9, -999.000,9, -999.000,9, -999.000,9, -999.000,9, -999.000,9, -999.000,9, -999.000,9