BOTTLE,20214525JOAExport
EXPOCODE,SECT_ID,STNNBR,CASTNO,SAMPNO,BTLNBR,BTLNBR_FLAG_W,DATE,TIME,LATITUDE,LONGITUDE,DEPTH,CTDPRS,CTDTMP,CTDSAL,CTDSAL_FLAG_W,SALNTY,SALNTY_FLAG_W,CTDOXY,CTDOXY_FLAG_W,OXYGEN,OXYGEN_FLAG_W,SILCAT,SILCAT_FLAG_W,NITRAT,NITRAT_FLAG_W,NITRIT,NITRIT_FLAG_W,PHSPHT,PHSPHT_FLAG_W,CFC-11,CFC-11_FLAG_W,CFC-12,CFC-12_FLAG_W,SF6,SF6_FLAG_W,TCARBN,TCARBN_FLAG_W,ALKALI,ALKALI_FLAG_W
,,,,,,,,,,,,DB,ITS-90,PSS-78,,PSS-78,,UMOL/KG,,UMOL/KG,,UMOL/KG,,UMOL/KG,,UMOL/KG,,UMOL/KG,,PMOL/KG,,PMOL/KG,,FMOL/KG,,UMOL/KG,,UMOL/KG
           NA,    AR19,     64,   1,      24,  301610,  2,19980519,2234,  43.0583,  -48.6167,     8,      8.9,   8.3576,  33.3294,2,  33.3320,2, -999.000,9,    311.0,2, -999.000,9, -999.000,9, -999.000,9, -999.000,9, -999.000,9, -999.000,9, -999.000,9, -999.000,9, -999.000,9
           NA,    AR19,     64,   1,      23,  301609,  2,19980519,2234,  43.0583,  -48.6167,     8,     49.5,   2.0271,  33.5422,2,-999.0000,3, -999.000,9,    337.5,2, -999.000,9, -999.000,9, -999.000,9, -999.000,9, -999.000,9, -999.000,9, -999.000,9, -999.000,9, -999.000,9
           NA,    AR19,     64,   1,      22,  301608,  2,19980519,2234,  43.0583,  -48.6167,     8,     99.0,   3.4619,  34.1771,2,  34.1838,2, -999.000,9,    282.4,2, -999.000,9, -999.000,9, -999.000,9, -999.000,9, -999.000,9, -999.000,9, -999.000,9, -999.000,9, -999.000,9
           NA,    AR19,     64,   1,      21,  301607,  2,19980519,2234,  43.0583,  -48.6167,     8,    198.5,   4.6731,  34.7235,2,-999.0000,3, -999.000,9,    243.0,2, -999.000,9, -999.000,9, -999.000,9, -999.000,9, -999.000,9, -999.000,9, -999.000,9, -999.000,9, -999.000,9
           NA,    AR19,     64,   1,      20,  301606,  2,19980519,2234,  43.0583,  -48.6167,     8,    299.1,   4.8344,  34.8966,2,  34.9016,2, -999.000,9,    241.5,2, -999.000,9, -999.000,9, -999.000,9, -999.000,9, -999.000,9, -999.000,9, -999.000,9, -999.000,9, -999.000,9
           NA,    AR19,     64,   1,      19,  301605,  2,19980519,2234,  43.0583,  -48.6167,     8,    396.1,   4.4577,  34.9133,2,  34.9187,2, -999.000,9,    255.0,2, -999.000,9, -999.000,9, -999.000,9, -999.000,9, -999.000,9, -999.000,9, -999.000,9, -999.000,9, -999.000,9
           NA,    AR19,     64,   1,      18,  301604,  2,19980519,2234,  43.0583,  -48.6167,     8,    500.4,   3.8353,  34.8650,2,  34.8703,2, -999.000,9,    273.3,2, -999.000,9, -999.000,9, -999.000,9, -999.000,9, -999.000,9, -999.000,9, -999.000,9, -999.000,9, -999.000,9
           NA,    AR19,     64,   1,      17,  301603,  2,19980519,2234,  43.0583,  -48.6167,     8,    596.5,   3.6825,  34.8606,2,  34.8650,2, -999.000,9,    277.8,2, -999.000,9, -999.000,9, -999.000,9, -999.000,9, -999.000,9, -999.000,9, -999.000,9, -999.000,9, -999.000,9
           NA,    AR19,     64,   1,      16,  301602,  2,19980519,2234,  43.0583,  -48.6167,     8,    677.8,   3.7546,  34.8878,2,  34.8911,2, -999.000,9,    275.0,2, -999.000,9, -999.000,9, -999.000,9, -999.000,9, -999.000,9, -999.000,9, -999.000,9, -999.000,9, -999.000,9
           NA,    AR19,     64,   1,      15,  301601,  2,19980519,2234,  43.0583,  -48.6167,     8,    798.5,   3.4100,  34.8538,2,  34.8571,2, -999.000,9,    285.5,2, -999.000,9, -999.000,9, -999.000,9, -999.000,9, -999.000,9, -999.000,9, -999.000,9, -999.000,9, -999.000,9
           NA,    AR19,     64,   1,      14,  301600,  2,19980519,2234,  43.0583,  -48.6167,     8,    898.9,   3.3341,  34.8518,2,  34.8549,2, -999.000,9,    287.0,2, -999.000,9, -999.000,9, -999.000,9, -999.000,9, -999.000,9, -999.000,9, -999.000,9, -999.000,9, -999.000,9
           NA,    AR19,     64,   1,      13,  301599,  2,19980519,2234,  43.0583,  -48.6167,     8,    999.2,   3.2902,  34.8541,2,  34.8563,2, -999.000,9,    287.1,2, -999.000,9, -999.000,9, -999.000,9, -999.000,9, -999.000,9, -999.000,9, -999.000,9, -999.000,9, -999.000,9
           NA,    AR19,     64,   1,      12,  301598,  2,19980519,2234,  43.0583,  -48.6167,     8,   1148.5,   3.2657,  34.8623,2,  34.8630,2, -999.000,9,    287.3,2, -999.000,9, -999.000,9, -999.000,9, -999.000,9, -999.000,9, -999.000,9, -999.000,9, -999.000,9, -999.000,9
           NA,    AR19,     64,   1,      11,  301597,  2,19980519,2234,  43.0583,  -48.6167,     8,   1297.4,   3.2363,  34.8699,2,  34.8701,2, -999.000,9,    286.6,2, -999.000,9, -999.000,9, -999.000,9, -999.000,9, -999.000,9, -999.000,9, -999.000,9, -999.000,9, -999.000,9
           NA,    AR19,     64,   1,      10,  301596,  2,19980519,2234,  43.0583,  -48.6167,     8,   1447.5,   3.1787,  34.8690,2,  34.8693,2, -999.000,9,    287.9,2, -999.000,9, -999.000,9, -999.000,9, -999.000,9, -999.000,9, -999.000,9, -999.000,9, -999.000,9, -999.000,9
           NA,    AR19,     64,   1,       9,  301595,  2,19980519,2234,  43.0583,  -48.6167,     8,   1600.3,   3.1155,  34.8662,2,  34.8664,2, -999.000,9,    288.9,2, -999.000,9, -999.000,9, -999.000,9, -999.000,9, -999.000,9, -999.000,9, -999.000,9, -999.000,9, -999.000,9
           NA,    AR19,     64,   1,       8,  301594,  2,19980519,2234,  43.0583,  -48.6167,     8,   1747.9,   3.0730,  34.8666,2,  34.8667,2, -999.000,9,    289.6,2, -999.000,9, -999.000,9, -999.000,9, -999.000,9, -999.000,9, -999.000,9, -999.000,9, -999.000,9, -999.000,9
           NA,    AR19,     64,   1,       7,  301593,  2,19980519,2234,  43.0583,  -48.6167,     8,   1846.0,   3.0623,  34.8691,2,  34.8691,2, -999.000,9,    289.5,2, -999.000,9, -999.000,9, -999.000,9, -999.000,9, -999.000,9, -999.000,9, -999.000,9, -999.000,9, -999.000,9
           NA,    AR19,     64,   1,       6,  301592,  2,19980519,2234,  43.0583,  -48.6167,     8,   1950.1,   3.0461,  34.8713,2,  34.8713,2, -999.000,9,    289.0,2, -999.000,9, -999.000,9, -999.000,9, -999.000,9, -999.000,9, -999.000,9, -999.000,9, -999.000,9, -999.000,9
           NA,    AR19,     64,   1,       5,  301591,  2,19980519,2234,  43.0583,  -48.6167,     8,   2095.2,   3.0503,  34.8803,2,  34.8804,2, -999.000,9,    286.3,2, -999.000,9, -999.000,9, -999.000,9, -999.000,9, -999.000,9, -999.000,9, -999.000,9, -999.000,9, -999.000,9
           NA,    AR19,     64,   1,       4,  301590,  2,19980519,2234,  43.0583,  -48.6167,     8,   2249.2,   3.0526,  34.8918,2,  34.8910,2, -999.000,9,    283.7,2, -999.000,9, -999.000,9, -999.000,9, -999.000,9, -999.000,9, -999.000,9, -999.000,9, -999.000,9, -999.000,9
           NA,    AR19,     64,   1,       3,  301589,  2,19980519,2234,  43.0583,  -48.6167,     8,   2412.4,   3.0251,  34.9025,2,  34.9020,2, -999.000,9,    279.8,2, -999.000,9, -999.000,9, -999.000,9, -999.000,9, -999.000,9, -999.000,9, -999.000,9, -999.000,9, -999.000,9
           NA,    AR19,     64,   1,       2,  301588,  2,19980519,2234,  43.0583,  -48.6167,     8,   2484.7,   3.0154,  34.9048,2,  34.9045,2, -999.000,9,    281.4,2, -999.000,9, -999.000,9, -999.000,9, -999.000,9, -999.000,9, -999.000,9, -999.000,9, -999.000,9, -999.000,9
           NA,    AR19,     64,   1,       1,  301587,  2,19980519,2234,  43.0583,  -48.6167,     8,   2512.3,   2.9958,  34.9062,2,  34.9046,2, -999.000,9,    279.6,2, -999.000,9, -999.000,9, -999.000,9, -999.000,9, -999.000,9, -999.000,9, -999.000,9, -999.000,9, -999.000,9
           NA,    AR19,     63,   1,      23,  301585,  2,19980519,1827,  42.9833,  -48.3083,     7,     49.2,  10.2017,  34.4571,2,  34.4567,2, -999.000,9,    292.0,2, -999.000,9, -999.000,9, -999.000,9, -999.000,9, -999.000,9, -999.000,9, -999.000,9, -999.000,9, -999.000,9
           NA,    AR19,     63,   1,      22,  301584,  2,19980519,1827,  42.9833,  -48.3083,     7,     97.3,  10.6575,  35.0778,2,-999.0000,3, -999.000,9,    212.2,2, -999.000,9, -999.000,9, -999.000,9, -999.000,9, -999.000,9, -999.000,9, -999.000,9, -999.000,9, -999.000,9
           NA,    AR19,     63,   1,      21,  301583,  2,19980519,1827,  42.9833,  -48.3083,     7,    198.2,   8.3326,  34.9967,2,-999.0000,3, -999.000,9,    172.7,2, -999.000,9, -999.000,9, -999.000,9, -999.000,9, -999.000,9, -999.000,9, -999.000,9, -999.000,9, -999.000,9
           NA,    AR19,     63,   1,      20,  301582,  2,19980519,1827,  42.9833,  -48.3083,     7,    300.2,   3.3291,  34.4730,2,  34.4823,2, -999.000,9,    276.3,2, -999.000,9, -999.000,9, -999.000,9, -999.000,9, -999.000,9, -999.000,9, -999.000,9, -999.000,9, -999.000,9
           NA,    AR19,     63,   1,      19,  301581,  2,19980519,1827,  42.9833,  -48.3083,     7,    401.1,   4.0337,  34.7329,2,  34.7387,2, -999.000,9,    266.3,2, -999.000,9, -999.000,9, -999.000,9, -999.000,9, -999.000,9, -999.000,9, -999.000,9, -999.000,9, -999.000,9
           NA,    AR19,     63,   1,      18,  301580,  2,19980519,1827,  42.9833,  -48.3083,     7,    499.0,   4.9781,  34.9708,2,  34.9737,2, -999.000,9,    238.1,2, -999.000,9, -999.000,9, -999.000,9, -999.000,9, -999.000,9, -999.000,9, -999.000,9, -999.000,9, -999.000,9
           NA,    AR19,     63,   1,      17,  301579,  2,19980519,1827,  42.9833,  -48.3083,     7,    599.4,   4.3300,  34.9197,2,  34.9170,2, -999.000,9,    259.6,2, -999.000,9, -999.000,9, -999.000,9, -999.000,9, -999.000,9, -999.000,9, -999.000,9, -999.000,9, -999.000,9
           NA,    AR19,     63,   1,      16,  301578,  2,19980519,1827,  42.9833,  -48.3083,     7,    747.8,   4.1149,  34.9376,2,  34.9399,2, -999.000,9,    263.7,2, -999.000,9, -999.000,9, -999.000,9, -999.000,9, -999.000,9, -999.000,9, -999.000,9, -999.000,9, -999.000,9
           NA,    AR19,     63,   1,      15,  301577,  2,19980519,1827,  42.9833,  -48.3083,     7,    799.0,   4.3023,  34.9784,2,-999.0000,4, -999.000,9,    256.0,2, -999.000,9, -999.000,9, -999.000,9, -999.000,9, -999.000,9, -999.000,9, -999.000,9, -999.000,9, -999.000,9
           NA,    AR19,     63,   1,      14,  301576,  2,19980519,1827,  42.9833,  -48.3083,     7,    949.1,   4.0944,  34.9706,2,  34.9741,2, -999.000,9,    260.6,2, -999.000,9, -999.000,9, -999.000,9, -999.000,9, -999.000,9, -999.000,9, -999.000,9, -999.000,9, -999.000,9
           NA,    AR19,     63,   1,      13,  301575,  2,19980519,1827,  42.9833,  -48.3083,     7,   1048.2,   3.9587,  34.9608,2,  34.9643,2, -999.000,9,    263.8,2, -999.000,9, -999.000,9, -999.000,9, -999.000,9, -999.000,9, -999.000,9, -999.000,9, -999.000,9, -999.000,9
           NA,    AR19,     63,   1,      12,  301574,  2,19980519,1827,  42.9833,  -48.3083,     7,   1198.9,   3.7419,  34.9394,2,  34.9420,2, -999.000,9,    268.0,2, -999.000,9, -999.000,9, -999.000,9, -999.000,9, -999.000,9, -999.000,9, -999.000,9, -999.000,9, -999.000,9
           NA,    AR19,     63,   1,      10,  301572,  2,19980519,1827,  42.9833,  -48.3083,     7,   1598.3,   3.1899,  34.8802,2,  34.8803,2, -999.000,9,    284.4,2, -999.000,9, -999.000,9, -999.000,9, -999.000,9, -999.000,9, -999.000,9, -999.000,9, -999.000,9, -999.000,9
           NA,    AR19,     63,   1,       9,  301571,  2,19980519,1827,  42.9833,  -48.3083,     7,   1799.2,   3.0681,  34.8708,2,  34.8712,2, -999.000,9,    288.5,2, -999.000,9, -999.000,9, -999.000,9, -999.000,9, -999.000,9, -999.000,9, -999.000,9, -999.000,9, -999.000,9
           NA,    AR19,     63,   1,       8,  301570,  2,19980519,1827,  42.9833,  -48.3083,     7,   1997.8,   3.0543,  34.8803,2,  34.8804,2, -999.000,9,    285.3,2, -999.000,9, -999.000,9, -999.000,9, -999.000,9, -999.000,9, -999.000,9, -999.000,9, -999.000,9, -999.000,9
           NA,    AR19,     63,   1,       7,  301569,  2,19980519,1827,  42.9833,  -48.3083,     7,   2196.4,   3.0562,  34.8957,2,  34.8960,2, -999.000,9,    282.3,2, -999.000,9, -999.000,9, -999.000,9, -999.000,9, -999.000,9, -999.000,9, -999.000,9, -999.000,9, -999.000,9
           NA,    AR19,     63,   1,       6,  301568,  2,19980519,1827,  42.9833,  -48.3083,     7,   2397.5,   3.0076,  34.9058,2,  34.9063,2, -999.000,9,    278.5,2, -999.000,9, -999.000,9, -999.000,9, -999.000,9, -999.000,9, -999.000,9, -999.000,9, -999.000,9, -999.000,9
           NA,    AR19,     63,   1,       5,  301567,  2,19980519,1827,  42.9833,  -48.3083,     7,   2598.8,   2.9233,  34.9096,2,  34.9092,2, -999.000,9,    281.6,2, -999.000,9, -999.000,9, -999.000,9, -999.000,9, -999.000,9, -999.000,9, -999.000,9, -999.000,9, -999.000,9
           NA,    AR19,     63,   1,       4,  301566,  2,19980519,1827,  42.9833,  -48.3083,     7,   2796.3,   2.8016,  34.9137,2,  34.9136,2, -999.000,9,    277.0,2, -999.000,9, -999.000,9, -999.000,9, -999.000,9, -999.000,9, -999.000,9, -999.000,9, -999.000,9, -999.000,9
           NA,    AR19,     63,   1,       3,  301565,  2,19980519,1827,  42.9833,  -48.3083,     7,   3019.3,   2.5219,  34.9077,2,  34.9069,2, -999.000,9,    279.5,2, -999.000,9, -999.000,9, -999.000,9, -999.000,9, -999.000,9, -999.000,9, -999.000,9, -999.000,9, -999.000,9
           NA,    AR19,     63,   1,       2,  301564,  2,19980519,1827,  42.9833,  -48.3083,     7,   3092.1,   2.2792,  34.8998,2,  34.9001,2, -999.000,9,    282.4,2, -999.000,9, -999.000,9, -999.000,9, -999.000,9, -999.000,9, -999.000,9, -999.000,9, -999.000,9, -999.000,9
           NA,    AR19,     63,   1,       1,  301563,  2,19980519,1827,  42.9833,  -48.3083,     7,   3118.6,   2.2465,  34.8989,2,  34.8988,2, -999.000,9,    282.5,2, -999.000,9, -999.000,9, -999.000,9, -999.000,9, -999.000,9, -999.000,9, -999.000,9, -999.000,9, -999.000,9
           NA,    AR19,     62,   1,      24,  301562,  2,19980519,1348,  42.9133,  -48.0200,    14,      9.7,  16.5987,  35.8194,2,  35.8169,2, -999.000,9,    243.8,2, -999.000,9, -999.000,9, -999.000,9, -999.000,9, -999.000,9, -999.000,9, -999.000,9, -999.000,9, -999.000,9
           NA,    AR19,     62,   1,      23,  301561,  2,19980519,1348,  42.9133,  -48.0200,    14,     49.6,  16.5017,  36.1636,2,-999.0000,3, -999.000,9,    215.3,2, -999.000,9, -999.000,9, -999.000,9, -999.000,9, -999.000,9, -999.000,9, -999.000,9, -999.000,9, -999.000,9
           NA,    AR19,     62,   1,      21,  301559,  2,19980519,1348,  42.9133,  -48.0200,    14,    248.8,   9.7211,  35.1147,2,-999.0000,4, -999.000,9,    181.9,2, -999.000,9, -999.000,9, -999.000,9, -999.000,9, -999.000,9, -999.000,9, -999.000,9, -999.000,9, -999.000,9
           NA,    AR19,     62,   1,      20,  301558,  2,19980519,1348,  42.9133,  -48.0200,    14,    347.0,   8.5683,  35.1748,2,-999.0000,3, -999.000,9,    160.9,2, -999.000,9, -999.000,9, -999.000,9, -999.000,9, -999.000,9, -999.000,9, -999.000,9, -999.000,9, -999.000,9
           NA,    AR19,     62,   1,      19,  301557,  2,19980519,1348,  42.9133,  -48.0200,    14,    526.0,   5.1383,  34.9092,2,  34.9105,2, -999.000,9,    234.0,2, -999.000,9, -999.000,9, -999.000,9, -999.000,9, -999.000,9, -999.000,9, -999.000,9, -999.000,9, -999.000,9
           NA,    AR19,     62,   1,      18,  301556,  2,19980519,1348,  42.9133,  -48.0200,    14,    597.4,   5.1617,  34.9869,2,  34.9836,2, -999.000,9,    235.8,2, -999.000,9, -999.000,9, -999.000,9, -999.000,9, -999.000,9, -999.000,9, -999.000,9, -999.000,9, -999.000,9
           NA,    AR19,     62,   1,      17,  301555,  2,19980519,1348,  42.9133,  -48.0200,    14,    847.5,   4.0390,  34.9242,2,  34.9234,2, -999.000,9,    265.3,2, -999.000,9, -999.000,9, -999.000,9, -999.000,9, -999.000,9, -999.000,9, -999.000,9, -999.000,9, -999.000,9
           NA,    AR19,     62,   1,      16,  301554,  2,19980519,1348,  42.9133,  -48.0200,    14,    998.5,   3.5930,  34.8743,2,  34.8765,2, -999.000,9,    280.2,2, -999.000,9, -999.000,9, -999.000,9, -999.000,9, -999.000,9, -999.000,9, -999.000,9, -999.000,9, -999.000,9
           NA,    AR19,     62,   1,      15,  301553,  2,19980519,1348,  42.9133,  -48.0200,    14,   1246.2,   3.7433,  34.9266,2,  34.9266,2, -999.000,9,    270.9,2, -999.000,9, -999.000,9, -999.000,9, -999.000,9, -999.000,9, -999.000,9, -999.000,9, -999.000,9, -999.000,9
           NA,    AR19,     62,   1,      12,  301550,  2,19980519,1348,  42.9133,  -48.0200,    14,   1598.1,   3.4625,  34.9131,2,  34.9140,2, -999.000,9,    276.6,2, -999.000,9, -999.000,9, -999.000,9, -999.000,9, -999.000,9, -999.000,9, -999.000,9, -999.000,9, -999.000,9
           NA,    AR19,     62,   1,      11,  301549,  2,19980519,1348,  42.9133,  -48.0200,    14,   1797.2,   3.3624,  34.9126,2,  34.9122,2, -999.000,9,    278.4,2, -999.000,9, -999.000,9, -999.000,9, -999.000,9, -999.000,9, -999.000,9, -999.000,9, -999.000,9, -999.000,9
           NA,    AR19,     62,   1,      10,  301548,  2,19980519,1348,  42.9133,  -48.0200,    14,   1999.1,   3.2037,  34.8997,2,  34.9002,2, -999.000,9,    281.7,2, -999.000,9, -999.000,9, -999.000,9, -999.000,9, -999.000,9, -999.000,9, -999.000,9, -999.000,9, -999.000,9
           NA,    AR19,     62,   1,       9,  301547,  2,19980519,1348,  42.9133,  -48.0200,    14,   2198.5,   3.2321,  34.9258,2,  34.9251,2, -999.000,9,    275.1,2, -999.000,9, -999.000,9, -999.000,9, -999.000,9, -999.000,9, -999.000,9, -999.000,9, -999.000,9, -999.000,9
           NA,    AR19,     62,   1,       8,  301546,  2,19980519,1348,  42.9133,  -48.0200,    14,   2398.3,   3.1138,  34.9237,2,  34.9235,2, -999.000,9,    274.8,2, -999.000,9, -999.000,9, -999.000,9, -999.000,9, -999.000,9, -999.000,9, -999.000,9, -999.000,9, -999.000,9
           NA,    AR19,     62,   1,       7,  301545,  2,19980519,1348,  42.9133,  -48.0200,    14,   2598.0,   2.9679,  34.9180,2,  34.9175,2, -999.000,9,    277.4,2, -999.000,9, -999.000,9, -999.000,9, -999.000,9, -999.000,9, -999.000,9, -999.000,9, -999.000,9, -999.000,9
           NA,    AR19,     62,   1,       6,  301544,  2,19980519,1348,  42.9133,  -48.0200,    14,   2798.3,   2.8352,  34.9169,2,  34.9171,2, -999.000,9,    278.3,2, -999.000,9, -999.000,9, -999.000,9, -999.000,9, -999.000,9, -999.000,9, -999.000,9, -999.000,9, -999.000,9
           NA,    AR19,     62,   1,       5,  301543,  2,19980519,1348,  42.9133,  -48.0200,    14,   3000.2,   2.6801,  34.9150,2,  34.9148,2, -999.000,9,    278.1,2, -999.000,9, -999.000,9, -999.000,9, -999.000,9, -999.000,9, -999.000,9, -999.000,9, -999.000,9, -999.000,9
           NA,    AR19,     62,   1,       4,  301542,  2,19980519,1348,  42.9133,  -48.0200,    14,   3198.1,   2.5231,  34.9098,2,  34.9095,2, -999.000,9,    281.3,2, -999.000,9, -999.000,9, -999.000,9, -999.000,9, -999.000,9, -999.000,9, -999.000,9, -999.000,9, -999.000,9
           NA,    AR19,     62,   1,       3,  301541,  2,19980519,1348,  42.9133,  -48.0200,    14,   3409.0,   2.2510,  34.8991,2,  34.8989,2, -999.000,9,    281.6,2, -999.000,9, -999.000,9, -999.000,9, -999.000,9, -999.000,9, -999.000,9, -999.000,9, -999.000,9, -999.000,9
           NA,    AR19,     62,   1,       2,  301540,  2,19980519,1348,  42.9133,  -48.0200,    14,   3487.6,   2.1327,  34.8930,2,  34.8931,2, -999.000,9,   -999.0,3, -999.000,9, -999.000,9, -999.000,9, -999.000,9, -999.000,9, -999.000,9, -999.000,9, -999.000,9, -999.000,9
           NA,    AR19,     62,   1,       1,  301539,  2,19980519,1348,  42.9133,  -48.0200,    14,   3514.9,   2.1356,  34.8928,2,  34.8934,2, -999.000,9,    281.9,2, -999.000,9, -999.000,9, -999.000,9, -999.000,9, -999.000,9, -999.000,9, -999.000,9, -999.000,9, -999.000,9