BOTTLE,20214525JOAExport
EXPOCODE,SECT_ID,STNNBR,CASTNO,SAMPNO,BTLNBR,BTLNBR_FLAG_W,DATE,TIME,LATITUDE,LONGITUDE,DEPTH,CTDPRS,CTDTMP,CTDSAL,CTDSAL_FLAG_W,SALNTY,SALNTY_FLAG_W,CTDOXY,CTDOXY_FLAG_W,OXYGEN,OXYGEN_FLAG_W,SILCAT,SILCAT_FLAG_W,NITRAT,NITRAT_FLAG_W,NITRIT,NITRIT_FLAG_W,PHSPHT,PHSPHT_FLAG_W,CFC-11,CFC-11_FLAG_W,CFC-12,CFC-12_FLAG_W,SF6,SF6_FLAG_W,TCARBN,TCARBN_FLAG_W,ALKALI,ALKALI_FLAG_W
,,,,,,,,,,,,DB,ITS-90,PSS-78,,PSS-78,,UMOL/KG,,UMOL/KG,,UMOL/KG,,UMOL/KG,,UMOL/KG,,UMOL/KG,,PMOL/KG,,PMOL/KG,,FMOL/KG,,UMOL/KG,,UMOL/KG
           NA,    AR19,     61,   1,      24,  301538,  2,19980519,0917,  42.8017,  -47.7550,    12,      9.7,  15.6763,  35.5360,2,  35.5397,2, -999.000,9,    250.1,2, -999.000,9, -999.000,9, -999.000,9, -999.000,9, -999.000,9, -999.000,9, -999.000,9, -999.000,9, -999.000,9
           NA,    AR19,     61,   1,      23,  301537,  2,19980519,0917,  42.8017,  -47.7550,    12,     48.9,  16.7162,  36.2136,2,  36.2130,2, -999.000,9,    214.6,2, -999.000,9, -999.000,9, -999.000,9, -999.000,9, -999.000,9, -999.000,9, -999.000,9, -999.000,9, -999.000,9
           NA,    AR19,     61,   1,      22,  301536,  2,19980519,0917,  42.8017,  -47.7550,    12,     96.5,  14.8956,  35.8841,2,  35.8833,2, -999.000,9,    216.9,2, -999.000,9, -999.000,9, -999.000,9, -999.000,9, -999.000,9, -999.000,9, -999.000,9, -999.000,9, -999.000,9
           NA,    AR19,     61,   1,      20,  301534,  2,19980519,0917,  42.8017,  -47.7550,    12,    404.2,   6.4081,  34.9024,2,-999.0000,3, -999.000,9,    196.1,2, -999.000,9, -999.000,9, -999.000,9, -999.000,9, -999.000,9, -999.000,9, -999.000,9, -999.000,9, -999.000,9
           NA,    AR19,     61,   1,      19,  301533,  2,19980519,0917,  42.8017,  -47.7550,    12,    598.1,   5.4480,  35.0259,2,-999.0000,3, -999.000,9,    225.8,2, -999.000,9, -999.000,9, -999.000,9, -999.000,9, -999.000,9, -999.000,9, -999.000,9, -999.000,9, -999.000,9
           NA,    AR19,     61,   1,      18,  301532,  2,19980519,0917,  42.8017,  -47.7550,    12,    752.4,   4.8774,  35.0224,2,  35.0242,2, -999.000,9,    240.8,2, -999.000,9, -999.000,9, -999.000,9, -999.000,9, -999.000,9, -999.000,9, -999.000,9, -999.000,9, -999.000,9
           NA,    AR19,     61,   1,      17,  301531,  2,19980519,0917,  42.8017,  -47.7550,    12,    999.9,   4.1433,  34.9624,2,  34.9647,2, -999.000,9,    259.0,2, -999.000,9, -999.000,9, -999.000,9, -999.000,9, -999.000,9, -999.000,9, -999.000,9, -999.000,9, -999.000,9
           NA,    AR19,     61,   1,      16,  301530,  2,19980519,0917,  42.8017,  -47.7550,    12,   1199.2,   3.8326,  34.9387,2,  34.9410,2, -999.000,9,    268.0,2, -999.000,9, -999.000,9, -999.000,9, -999.000,9, -999.000,9, -999.000,9, -999.000,9, -999.000,9, -999.000,9
           NA,    AR19,     61,   1,      15,  301529,  2,19980519,0917,  42.8017,  -47.7550,    12,   1396.5,   3.5940,  34.9220,2,  34.9231,2, -999.000,9,    272.5,2, -999.000,9, -999.000,9, -999.000,9, -999.000,9, -999.000,9, -999.000,9, -999.000,9, -999.000,9, -999.000,9
           NA,    AR19,     61,   1,      14,  301528,  2,19980519,0917,  42.8017,  -47.7550,    12,   1598.3,   3.4654,  34.9194,2,  34.9211,2, -999.000,9,    275.1,2, -999.000,9, -999.000,9, -999.000,9, -999.000,9, -999.000,9, -999.000,9, -999.000,9, -999.000,9, -999.000,9
           NA,    AR19,     61,   1,      13,  301527,  2,19980519,0917,  42.8017,  -47.7550,    12,   1799.5,   3.1915,  34.8869,2,  34.8864,2, -999.000,9,    283.0,2, -999.000,9, -999.000,9, -999.000,9, -999.000,9, -999.000,9, -999.000,9, -999.000,9, -999.000,9, -999.000,9
           NA,    AR19,     61,   1,      12,  301526,  2,19980519,0917,  42.8017,  -47.7550,    12,   1998.1,   3.1385,  34.8916,2,  34.8910,2, -999.000,9,    282.6,2, -999.000,9, -999.000,9, -999.000,9, -999.000,9, -999.000,9, -999.000,9, -999.000,9, -999.000,9, -999.000,9
           NA,    AR19,     61,   1,      11,  301525,  2,19980519,0917,  42.8017,  -47.7550,    12,   2197.6,   3.1392,  34.9107,2,  34.9107,2, -999.000,9,    277.7,2, -999.000,9, -999.000,9, -999.000,9, -999.000,9, -999.000,9, -999.000,9, -999.000,9, -999.000,9, -999.000,9
           NA,    AR19,     61,   1,      10,  301524,  2,19980519,0917,  42.8017,  -47.7550,    12,   2403.2,   3.0304,  34.9105,2,  34.9104,2, -999.000,9,    279.0,2, -999.000,9, -999.000,9, -999.000,9, -999.000,9, -999.000,9, -999.000,9, -999.000,9, -999.000,9, -999.000,9
           NA,    AR19,     61,   1,       9,  301523,  2,19980519,0917,  42.8017,  -47.7550,    12,   2599.0,   2.9225,  34.9160,2,  34.9155,2, -999.000,9,    276.9,2, -999.000,9, -999.000,9, -999.000,9, -999.000,9, -999.000,9, -999.000,9, -999.000,9, -999.000,9, -999.000,9
           NA,    AR19,     61,   1,       8,  301522,  2,19980519,0917,  42.8017,  -47.7550,    12,   2797.6,   2.7802,  34.9146,2,  34.9140,2, -999.000,9,    278.0,2, -999.000,9, -999.000,9, -999.000,9, -999.000,9, -999.000,9, -999.000,9, -999.000,9, -999.000,9, -999.000,9
           NA,    AR19,     61,   1,       7,  301521,  2,19980519,0917,  42.8017,  -47.7550,    12,   2995.6,   2.6004,  34.9106,2,  34.9102,2, -999.000,9,    279.3,2, -999.000,9, -999.000,9, -999.000,9, -999.000,9, -999.000,9, -999.000,9, -999.000,9, -999.000,9, -999.000,9
           NA,    AR19,     61,   1,       6,  301520,  2,19980519,0917,  42.8017,  -47.7550,    12,   3199.5,   2.4318,  34.9047,2,  34.9045,2, -999.000,9,    279.8,2, -999.000,9, -999.000,9, -999.000,9, -999.000,9, -999.000,9, -999.000,9, -999.000,9, -999.000,9, -999.000,9
           NA,    AR19,     61,   1,       5,  301519,  2,19980519,0917,  42.8017,  -47.7550,    12,   3397.4,   2.2745,  34.9002,2,  34.8997,2, -999.000,9,    277.3,2, -999.000,9, -999.000,9, -999.000,9, -999.000,9, -999.000,9, -999.000,9, -999.000,9, -999.000,9, -999.000,9
           NA,    AR19,     61,   1,       4,  301518,  2,19980519,0917,  42.8017,  -47.7550,    12,   3495.9,   2.2306,  34.8972,2,  34.8973,2, -999.000,9,    277.3,2, -999.000,9, -999.000,9, -999.000,9, -999.000,9, -999.000,9, -999.000,9, -999.000,9, -999.000,9, -999.000,9
           NA,    AR19,     61,   1,       3,  301517,  2,19980519,0917,  42.8017,  -47.7550,    12,   3662.6,   2.1345,  34.8910,2,  34.8910,2, -999.000,9,    280.3,2, -999.000,9, -999.000,9, -999.000,9, -999.000,9, -999.000,9, -999.000,9, -999.000,9, -999.000,9, -999.000,9
           NA,    AR19,     61,   1,       2,  301516,  2,19980519,0917,  42.8017,  -47.7550,    12,   3725.4,   2.0837,  34.8896,2,  34.8889,2, -999.000,9,   -999.0,3, -999.000,9, -999.000,9, -999.000,9, -999.000,9, -999.000,9, -999.000,9, -999.000,9, -999.000,9, -999.000,9
           NA,    AR19,     61,   1,       1,  301515,  2,19980519,0917,  42.8017,  -47.7550,    12,   3752.2,   2.0858,  34.8893,2,  34.8914,2, -999.000,9,    283.8,2, -999.000,9, -999.000,9, -999.000,9, -999.000,9, -999.000,9, -999.000,9, -999.000,9, -999.000,9, -999.000,9
           NA,    AR19,     60,   1,      24,  301514,  2,19980519,0450,  42.7217,  -47.4617,     9,     10.2,  14.3147,  35.0736,2,-999.0000,4, -999.000,9,    266.4,2, -999.000,9, -999.000,9, -999.000,9, -999.000,9, -999.000,9, -999.000,9, -999.000,9, -999.000,9, -999.000,9
           NA,    AR19,     60,   1,      23,  301513,  2,19980519,0450,  42.7217,  -47.4617,     9,     49.4,  11.8983,  35.0157,2,  35.0180,2, -999.000,9,    256.6,2, -999.000,9, -999.000,9, -999.000,9, -999.000,9, -999.000,9, -999.000,9, -999.000,9, -999.000,9, -999.000,9
           NA,    AR19,     60,   1,      22,  301512,  2,19980519,0450,  42.7217,  -47.4617,     9,     99.4,  10.7724,  35.0851,2,-999.0000,4, -999.000,9,    227.5,2, -999.000,9, -999.000,9, -999.000,9, -999.000,9, -999.000,9, -999.000,9, -999.000,9, -999.000,9, -999.000,9
           NA,    AR19,     60,   1,      21,  301511,  2,19980519,0450,  42.7217,  -47.4617,     9,    251.5,   6.9287,  34.7368,2,-999.0000,3, -999.000,9,    206.9,2, -999.000,9, -999.000,9, -999.000,9, -999.000,9, -999.000,9, -999.000,9, -999.000,9, -999.000,9, -999.000,9
           NA,    AR19,     60,   1,      20,  301510,  2,19980519,0450,  42.7217,  -47.4617,     9,    447.3,   7.3034,  35.2156,2,-999.0000,3, -999.000,9,    198.2,2, -999.000,9, -999.000,9, -999.000,9, -999.000,9, -999.000,9, -999.000,9, -999.000,9, -999.000,9, -999.000,9
           NA,    AR19,     60,   1,      19,  301509,  2,19980519,0450,  42.7217,  -47.4617,     9,    497.9,   6.0129,  35.0517,2,-999.0000,3, -999.000,9,    219.0,2, -999.000,9, -999.000,9, -999.000,9, -999.000,9, -999.000,9, -999.000,9, -999.000,9, -999.000,9, -999.000,9
           NA,    AR19,     60,   1,      18,  301508,  2,19980519,0450,  42.7217,  -47.4617,     9,    596.1,   5.0842,  34.9832,2,  34.9848,2, -999.000,9,    241.3,2, -999.000,9, -999.000,9, -999.000,9, -999.000,9, -999.000,9, -999.000,9, -999.000,9, -999.000,9, -999.000,9
           NA,    AR19,     60,   1,      17,  301507,  2,19980519,0450,  42.7217,  -47.4617,     9,    747.2,   4.8500,  35.0246,2,  35.0268,2, -999.000,9,    243.6,2, -999.000,9, -999.000,9, -999.000,9, -999.000,9, -999.000,9, -999.000,9, -999.000,9, -999.000,9, -999.000,9
           NA,    AR19,     60,   1,      16,  301506,  2,19980519,0450,  42.7217,  -47.4617,     9,    797.7,   4.6880,  35.0137,2,  35.0168,2, -999.000,9,    249.7,2, -999.000,9, -999.000,9, -999.000,9, -999.000,9, -999.000,9, -999.000,9, -999.000,9, -999.000,9, -999.000,9
           NA,    AR19,     60,   1,      15,  301505,  2,19980519,0450,  42.7217,  -47.4617,     9,    996.7,   4.1831,  34.9725,2,  34.9743,2, -999.000,9,    263.3,2, -999.000,9, -999.000,9, -999.000,9, -999.000,9, -999.000,9, -999.000,9, -999.000,9, -999.000,9, -999.000,9
           NA,    AR19,     60,   1,      14,  301504,  2,19980519,0450,  42.7217,  -47.4617,     9,   1102.6,   4.0188,  34.9618,2,  34.9630,2, -999.000,9,    269.6,2, -999.000,9, -999.000,9, -999.000,9, -999.000,9, -999.000,9, -999.000,9, -999.000,9, -999.000,9, -999.000,9
           NA,    AR19,     60,   1,      13,  301503,  2,19980519,0450,  42.7217,  -47.4617,     9,   1250.1,   3.8051,  34.9427,2,  34.9452,2, -999.000,9,    269.2,2, -999.000,9, -999.000,9, -999.000,9, -999.000,9, -999.000,9, -999.000,9, -999.000,9, -999.000,9, -999.000,9
           NA,    AR19,     60,   1,      12,  301502,  2,19980519,0450,  42.7217,  -47.4617,     9,   1496.8,   3.3725,  34.8949,2,  34.8960,2, -999.000,9,    281.6,2, -999.000,9, -999.000,9, -999.000,9, -999.000,9, -999.000,9, -999.000,9, -999.000,9, -999.000,9, -999.000,9
           NA,    AR19,     60,   1,      11,  301501,  2,19980519,0450,  42.7217,  -47.4617,     9,   1748.3,   3.2341,  34.8898,2,  34.8895,2, -999.000,9,    284.0,2, -999.000,9, -999.000,9, -999.000,9, -999.000,9, -999.000,9, -999.000,9, -999.000,9, -999.000,9, -999.000,9
           NA,    AR19,     60,   1,      10,  301500,  2,19980519,0450,  42.7217,  -47.4617,     9,   1998.6,   3.2301,  34.9073,2,  34.9080,2, -999.000,9,    279.5,2, -999.000,9, -999.000,9, -999.000,9, -999.000,9, -999.000,9, -999.000,9, -999.000,9, -999.000,9, -999.000,9
           NA,    AR19,     60,   1,       8,  301498,  2,19980519,0450,  42.7217,  -47.4617,     9,   2499.8,   3.0042,  34.9138,2,  34.9133,2, -999.000,9,    277.1,2, -999.000,9, -999.000,9, -999.000,9, -999.000,9, -999.000,9, -999.000,9, -999.000,9, -999.000,9, -999.000,9
           NA,    AR19,     60,   1,       7,  301497,  2,19980519,0450,  42.7217,  -47.4617,     9,   2747.6,   2.8739,  34.9182,2,  34.9182,2, -999.000,9,    278.7,2, -999.000,9, -999.000,9, -999.000,9, -999.000,9, -999.000,9, -999.000,9, -999.000,9, -999.000,9, -999.000,9
           NA,    AR19,     60,   1,       6,  301496,  2,19980519,0450,  42.7217,  -47.4617,     9,   2997.6,   2.6863,  34.9127,2,  34.9128,2, -999.000,9,    278.6,2, -999.000,9, -999.000,9, -999.000,9, -999.000,9, -999.000,9, -999.000,9, -999.000,9, -999.000,9, -999.000,9
           NA,    AR19,     60,   1,       4,  301494,  2,19980519,0450,  42.7217,  -47.4617,     9,   3497.2,   2.2761,  34.9004,2,  34.8995,2, -999.000,9,    277.2,2, -999.000,9, -999.000,9, -999.000,9, -999.000,9, -999.000,9, -999.000,9, -999.000,9, -999.000,9, -999.000,9
           NA,    AR19,     60,   1,       3,  301493,  2,19980519,0450,  42.7217,  -47.4617,     9,   3780.9,   2.1299,  34.8910,2,  34.8909,2, -999.000,9,    281.6,2, -999.000,9, -999.000,9, -999.000,9, -999.000,9, -999.000,9, -999.000,9, -999.000,9, -999.000,9, -999.000,9
           NA,    AR19,     60,   1,       1,  301491,  2,19980519,0450,  42.7217,  -47.4617,     9,   3883.9,   2.0790,  34.8887,2,  34.8910,2, -999.000,9,    291.8,2, -999.000,9, -999.000,9, -999.000,9, -999.000,9, -999.000,9, -999.000,9, -999.000,9, -999.000,9, -999.000,9
           NA,    AR19,     59,   1,      24,  301490,  2,19980519,0015,  42.6417,  -47.1267,    11,      9.7,  14.8851,  34.6101,2,  34.6117,2, -999.000,9,    263.5,2, -999.000,9, -999.000,9, -999.000,9, -999.000,9, -999.000,9, -999.000,9, -999.000,9, -999.000,9, -999.000,9
           NA,    AR19,     59,   1,      23,  301489,  2,19980519,0015,  42.6417,  -47.1267,    11,     51.0,  10.0062,  34.7169,2,  34.7206,2, -999.000,9,    255.9,2, -999.000,9, -999.000,9, -999.000,9, -999.000,9, -999.000,9, -999.000,9, -999.000,9, -999.000,9, -999.000,9
           NA,    AR19,     59,   1,      22,  301488,  2,19980519,0015,  42.6417,  -47.1267,    11,    102.7,   9.9278,  35.0294,2,  35.0303,2, -999.000,9,    205.1,2, -999.000,9, -999.000,9, -999.000,9, -999.000,9, -999.000,9, -999.000,9, -999.000,9, -999.000,9, -999.000,9
           NA,    AR19,     59,   1,      21,  301487,  2,19980519,0015,  42.6417,  -47.1267,    11,    199.6,   7.5914,  34.8848,2,-999.0000,3, -999.000,9,    190.9,2, -999.000,9, -999.000,9, -999.000,9, -999.000,9, -999.000,9, -999.000,9, -999.000,9, -999.000,9, -999.000,9
           NA,    AR19,     59,   1,      19,  301485,  2,19980519,0015,  42.6417,  -47.1267,    11,    597.8,   5.1032,  35.0353,2,  35.0389,2, -999.000,9,    236.9,2, -999.000,9, -999.000,9, -999.000,9, -999.000,9, -999.000,9, -999.000,9, -999.000,9, -999.000,9, -999.000,9
           NA,    AR19,     59,   1,      18,  301484,  2,19980519,0015,  42.6417,  -47.1267,    11,    802.1,   4.3409,  34.9756,2,  34.9799,2, -999.000,9,    258.6,2, -999.000,9, -999.000,9, -999.000,9, -999.000,9, -999.000,9, -999.000,9, -999.000,9, -999.000,9, -999.000,9
           NA,    AR19,     59,   1,      17,  301483,  2,19980519,0015,  42.6417,  -47.1267,    11,    998.8,   4.1084,  34.9678,2,  34.9713,2, -999.000,9,    258.3,2, -999.000,9, -999.000,9, -999.000,9, -999.000,9, -999.000,9, -999.000,9, -999.000,9, -999.000,9, -999.000,9
           NA,    AR19,     59,   1,      16,  301482,  2,19980519,0015,  42.6417,  -47.1267,    11,   1195.4,   3.8235,  34.9465,2,  34.9486,2, -999.000,9,    266.2,2, -999.000,9, -999.000,9, -999.000,9, -999.000,9, -999.000,9, -999.000,9, -999.000,9, -999.000,9, -999.000,9
           NA,    AR19,     59,   1,      15,  301481,  2,19980519,0015,  42.6417,  -47.1267,    11,   1396.0,   3.6060,  34.9285,2,  34.9295,2, -999.000,9,    272.9,2, -999.000,9, -999.000,9, -999.000,9, -999.000,9, -999.000,9, -999.000,9, -999.000,9, -999.000,9, -999.000,9
           NA,    AR19,     59,   1,      14,  301480,  2,19980519,0015,  42.6417,  -47.1267,    11,   1597.4,   3.4154,  34.9119,2,  34.9123,2, -999.000,9,    283.2,2, -999.000,9, -999.000,9, -999.000,9, -999.000,9, -999.000,9, -999.000,9, -999.000,9, -999.000,9, -999.000,9
           NA,    AR19,     59,   1,      12,  301478,  2,19980519,0015,  42.6417,  -47.1267,    11,   1998.3,   3.1435,  34.8902,2,  34.8912,2, -999.000,9,    284.9,2, -999.000,9, -999.000,9, -999.000,9, -999.000,9, -999.000,9, -999.000,9, -999.000,9, -999.000,9, -999.000,9
           NA,    AR19,     59,   1,      11,  301477,  2,19980519,0015,  42.6417,  -47.1267,    11,   2197.1,   3.2103,  34.9204,2,  34.9216,2, -999.000,9,    275.2,2, -999.000,9, -999.000,9, -999.000,9, -999.000,9, -999.000,9, -999.000,9, -999.000,9, -999.000,9, -999.000,9
           NA,    AR19,     59,   1,      10,  301476,  2,19980519,0015,  42.6417,  -47.1267,    11,   2393.9,   3.1056,  34.9231,2,  34.9236,2, -999.000,9,    274.7,2, -999.000,9, -999.000,9, -999.000,9, -999.000,9, -999.000,9, -999.000,9, -999.000,9, -999.000,9, -999.000,9
           NA,    AR19,     59,   1,       9,  301475,  2,19980519,0015,  42.6417,  -47.1267,    11,   2596.6,   3.0300,  34.9335,2,  34.9352,2, -999.000,9,    269.4,2, -999.000,9, -999.000,9, -999.000,9, -999.000,9, -999.000,9, -999.000,9, -999.000,9, -999.000,9, -999.000,9
           NA,    AR19,     59,   1,       8,  301474,  2,19980519,0015,  42.6417,  -47.1267,    11,   2799.2,   2.7992,  34.9177,2,  34.9180,2, -999.000,9,    276.4,2, -999.000,9, -999.000,9, -999.000,9, -999.000,9, -999.000,9, -999.000,9, -999.000,9, -999.000,9, -999.000,9
           NA,    AR19,     59,   1,       7,  301473,  2,19980519,0015,  42.6417,  -47.1267,    11,   3000.5,   2.6420,  34.9138,2,  34.9140,2, -999.000,9,    277.5,2, -999.000,9, -999.000,9, -999.000,9, -999.000,9, -999.000,9, -999.000,9, -999.000,9, -999.000,9, -999.000,9
           NA,    AR19,     59,   1,       6,  301472,  2,19980519,0015,  42.6417,  -47.1267,    11,   3246.4,   2.4415,  34.9082,2,  34.9079,2, -999.000,9,    281.3,2, -999.000,9, -999.000,9, -999.000,9, -999.000,9, -999.000,9, -999.000,9, -999.000,9, -999.000,9, -999.000,9
           NA,    AR19,     59,   1,       5,  301471,  2,19980519,0015,  42.6417,  -47.1267,    11,   3500.9,   2.3005,  34.9004,2,  34.8996,2, -999.000,9,    275.8,2, -999.000,9, -999.000,9, -999.000,9, -999.000,9, -999.000,9, -999.000,9, -999.000,9, -999.000,9, -999.000,9
           NA,    AR19,     59,   1,       4,  301470,  2,19980519,0015,  42.6417,  -47.1267,    11,   3748.7,   2.2094,  34.8937,2,  34.8931,2, -999.000,9,    278.0,2, -999.000,9, -999.000,9, -999.000,9, -999.000,9, -999.000,9, -999.000,9, -999.000,9, -999.000,9, -999.000,9
           NA,    AR19,     59,   1,       1,  301467,  2,19980519,0015,  42.6417,  -47.1267,    11,   4047.0,   2.1048,  34.8886,2,  34.8877,2, -999.000,9,    287.4,2, -999.000,9, -999.000,9, -999.000,9, -999.000,9, -999.000,9, -999.000,9, -999.000,9, -999.000,9, -999.000,9