BOTTLE,20214525JOAExport
EXPOCODE,SECT_ID,STNNBR,CASTNO,SAMPNO,BTLNBR,BTLNBR_FLAG_W,DATE,TIME,LATITUDE,LONGITUDE,DEPTH,CTDPRS,CTDTMP,CTDSAL,CTDSAL_FLAG_W,SALNTY,SALNTY_FLAG_W,CTDOXY,CTDOXY_FLAG_W,OXYGEN,OXYGEN_FLAG_W,SILCAT,SILCAT_FLAG_W,NITRAT,NITRAT_FLAG_W,NITRIT,NITRIT_FLAG_W,PHSPHT,PHSPHT_FLAG_W,CFC-11,CFC-11_FLAG_W,CFC-12,CFC-12_FLAG_W,SF6,SF6_FLAG_W,TCARBN,TCARBN_FLAG_W,ALKALI,ALKALI_FLAG_W
,,,,,,,,,,,,DB,ITS-90,PSS-78,,PSS-78,,UMOL/KG,,UMOL/KG,,UMOL/KG,,UMOL/KG,,UMOL/KG,,UMOL/KG,,PMOL/KG,,PMOL/KG,,FMOL/KG,,UMOL/KG,,UMOL/KG
           NA,    AR19,     18,   1,      23,  300409,  2,19980505,1133,  48.1617,  -18.6750,    15,     50.5,  11.9109,  35.6290,2,  35.6275,2, -999.000,9,    265.2,2, -999.000,9, -999.000,9, -999.000,9, -999.000,9, -999.000,9, -999.000,9, -999.000,9, -999.000,9, -999.000,9
           NA,    AR19,     18,   1,      22,  300408,  2,19980505,1133,  48.1617,  -18.6750,    15,    102.5,  11.8888,  35.6309,2,  35.6306,2, -999.000,9,    263.1,2, -999.000,9, -999.000,9, -999.000,9, -999.000,9, -999.000,9, -999.000,9, -999.000,9, -999.000,9, -999.000,9
           NA,    AR19,     18,   1,      21,  300407,  2,19980505,1133,  48.1617,  -18.6750,    15,    198.9,  11.8256,  35.6311,2,  35.6299,2, -999.000,9,    257.2,2, -999.000,9, -999.000,9, -999.000,9, -999.000,9, -999.000,9, -999.000,9, -999.000,9, -999.000,9, -999.000,9
           NA,    AR19,     18,   1,      20,  300406,  2,19980505,1133,  48.1617,  -18.6750,    15,    400.5,  11.2969,  35.5495,2,-999.0000,3, -999.000,9,    249.1,2, -999.000,9, -999.000,9, -999.000,9, -999.000,9, -999.000,9, -999.000,9, -999.000,9, -999.000,9, -999.000,9
           NA,    AR19,     18,   1,      19,  300405,  2,19980505,1133,  48.1617,  -18.6750,    15,    798.3,   8.9316,  35.4351,2,  35.4301,2, -999.000,9,    196.6,2, -999.000,9, -999.000,9, -999.000,9, -999.000,9, -999.000,9, -999.000,9, -999.000,9, -999.000,9, -999.000,9
           NA,    AR19,     18,   1,      18,  300404,  2,19980505,1133,  48.1617,  -18.6750,    15,    897.4,   8.6147,  35.4973,2,  35.4937,2, -999.000,9,    195.7,2, -999.000,9, -999.000,9, -999.000,9, -999.000,9, -999.000,9, -999.000,9, -999.000,9, -999.000,9, -999.000,9
           NA,    AR19,     18,   1,      17,  300403,  2,19980505,1133,  48.1617,  -18.6750,    15,    998.5,   7.2611,  35.3121,2,  35.3119,2, -999.000,9,    208.6,2, -999.000,9, -999.000,9, -999.000,9, -999.000,9, -999.000,9, -999.000,9, -999.000,9, -999.000,9, -999.000,9
           NA,    AR19,     18,   1,      16,  300402,  2,19980505,1133,  48.1617,  -18.6750,    15,   1247.1,   5.2802,  35.0884,2,  35.0879,2, -999.000,9,    240.4,2, -999.000,9, -999.000,9, -999.000,9, -999.000,9, -999.000,9, -999.000,9, -999.000,9, -999.000,9, -999.000,9
           NA,    AR19,     18,   1,      15,  300401,  2,19980505,1133,  48.1617,  -18.6750,    15,   1497.5,   4.2097,  34.9732,2,  34.9728,2, -999.000,9,    261.2,2, -999.000,9, -999.000,9, -999.000,9, -999.000,9, -999.000,9, -999.000,9, -999.000,9, -999.000,9, -999.000,9
           NA,    AR19,     18,   1,      14,  300400,  2,19980505,1133,  48.1617,  -18.6750,    15,   1748.1,   3.6511,  34.9131,2,  34.9135,2, -999.000,9,    275.1,2, -999.000,9, -999.000,9, -999.000,9, -999.000,9, -999.000,9, -999.000,9, -999.000,9, -999.000,9, -999.000,9
           NA,    AR19,     18,   1,      13,  300399,  2,19980505,1133,  48.1617,  -18.6750,    15,   1996.3,   3.4360,  34.9044,2,  34.9038,2, -999.000,9,    278.1,2, -999.000,9, -999.000,9, -999.000,9, -999.000,9, -999.000,9, -999.000,9, -999.000,9, -999.000,9, -999.000,9
           NA,    AR19,     18,   1,      12,  300398,  2,19980505,1133,  48.1617,  -18.6750,    15,   2248.0,   3.3990,  34.9359,2,  34.9398,2, -999.000,9,    275.0,2, -999.000,9, -999.000,9, -999.000,9, -999.000,9, -999.000,9, -999.000,9, -999.000,9, -999.000,9, -999.000,9
           NA,    AR19,     18,   1,      11,  300397,  2,19980505,1133,  48.1617,  -18.6750,    15,   2496.7,   3.2347,  34.9490,2,  34.9488,2, -999.000,9,    267.2,2, -999.000,9, -999.000,9, -999.000,9, -999.000,9, -999.000,9, -999.000,9, -999.000,9, -999.000,9, -999.000,9
           NA,    AR19,     18,   1,      10,  300396,  2,19980505,1133,  48.1617,  -18.6750,    15,   2750.1,   3.0432,  34.9526,2,  34.9533,2, -999.000,9,    260.0,2, -999.000,9, -999.000,9, -999.000,9, -999.000,9, -999.000,9, -999.000,9, -999.000,9, -999.000,9, -999.000,9
           NA,    AR19,     18,   1,       9,  300395,  2,19980505,1133,  48.1617,  -18.6750,    15,   2999.8,   2.8822,  34.9493,2,  34.9483,2, -999.000,9,    255.6,2, -999.000,9, -999.000,9, -999.000,9, -999.000,9, -999.000,9, -999.000,9, -999.000,9, -999.000,9, -999.000,9
           NA,    AR19,     18,   1,       7,  300393,  2,19980505,1133,  48.1617,  -18.6750,    15,   3249.9,   2.7431,  34.9390,2,  34.9380,2, -999.000,9,    254.0,2, -999.000,9, -999.000,9, -999.000,9, -999.000,9, -999.000,9, -999.000,9, -999.000,9, -999.000,9, -999.000,9
           NA,    AR19,     18,   1,       6,  300392,  2,19980505,1133,  48.1617,  -18.6750,    15,   3498.8,   2.6433,  34.9282,2,  34.9281,2, -999.000,9,    246.9,2, -999.000,9, -999.000,9, -999.000,9, -999.000,9, -999.000,9, -999.000,9, -999.000,9, -999.000,9, -999.000,9
           NA,    AR19,     18,   1,       5,  300391,  2,19980505,1133,  48.1617,  -18.6750,    15,   3754.3,   2.5682,  34.9185,2,  34.9187,2, -999.000,9,    243.5,2, -999.000,9, -999.000,9, -999.000,9, -999.000,9, -999.000,9, -999.000,9, -999.000,9, -999.000,9, -999.000,9
           NA,    AR19,     18,   1,       4,  300390,  2,19980505,1133,  48.1617,  -18.6750,    15,   4000.4,   2.5397,  34.9120,2,  34.9131,2, -999.000,9,    242.5,2, -999.000,9, -999.000,9, -999.000,9, -999.000,9, -999.000,9, -999.000,9, -999.000,9, -999.000,9, -999.000,9
           NA,    AR19,     18,   1,       3,  300389,  2,19980505,1133,  48.1617,  -18.6750,    15,   4369.6,   2.5422,  34.9081,2,  34.9088,2, -999.000,9,    240.5,2, -999.000,9, -999.000,9, -999.000,9, -999.000,9, -999.000,9, -999.000,9, -999.000,9, -999.000,9, -999.000,9
           NA,    AR19,     18,   1,       2,  300388,  2,19980505,1133,  48.1617,  -18.6750,    15,   4436.8,   2.5426,  34.9072,2,  34.9077,2, -999.000,9,    240.8,2, -999.000,9, -999.000,9, -999.000,9, -999.000,9, -999.000,9, -999.000,9, -999.000,9, -999.000,9, -999.000,9
           NA,    AR19,     18,   1,       1,  300387,  2,19980505,1133,  48.1617,  -18.6750,    15,   4471.2,   2.5416,  34.9071,2,  34.9098,2, -999.000,9,   -999.0,3, -999.000,9, -999.000,9, -999.000,9, -999.000,9, -999.000,9, -999.000,9, -999.000,9, -999.000,9, -999.000,9
           NA,    AR19,     17,   1,      24,  300386,  2,19980505,0404,  48.3050,  -17.7033,     9,     10.2,  12.1459,  35.6207,2,  35.6207,2, -999.000,9,    269.4,2, -999.000,9, -999.000,9, -999.000,9, -999.000,9, -999.000,9, -999.000,9, -999.000,9, -999.000,9, -999.000,9
           NA,    AR19,     17,   1,      23,  300385,  2,19980505,0404,  48.3050,  -17.7033,     9,     50.1,  12.0323,  35.6206,2,  35.6192,2, -999.000,9,    267.3,2, -999.000,9, -999.000,9, -999.000,9, -999.000,9, -999.000,9, -999.000,9, -999.000,9, -999.000,9, -999.000,9
           NA,    AR19,     17,   1,      22,  300384,  2,19980505,0404,  48.3050,  -17.7033,     9,     99.1,  11.8584,  35.6149,2,  35.6145,2, -999.000,9,    262.9,2, -999.000,9, -999.000,9, -999.000,9, -999.000,9, -999.000,9, -999.000,9, -999.000,9, -999.000,9, -999.000,9
           NA,    AR19,     17,   1,      21,  300383,  2,19980505,0404,  48.3050,  -17.7033,     9,    200.0,  11.7012,  35.6007,2,  35.6016,2, -999.000,9,    257.0,2, -999.000,9, -999.000,9, -999.000,9, -999.000,9, -999.000,9, -999.000,9, -999.000,9, -999.000,9, -999.000,9
           NA,    AR19,     17,   1,      20,  300382,  2,19980505,0404,  48.3050,  -17.7033,     9,    396.6,  11.1948,  35.5418,2,  35.5419,2, -999.000,9,    249.7,2, -999.000,9, -999.000,9, -999.000,9, -999.000,9, -999.000,9, -999.000,9, -999.000,9, -999.000,9, -999.000,9
           NA,    AR19,     17,   1,      19,  300381,  2,19980505,0404,  48.3050,  -17.7033,     9,    498.4,  10.8338,  35.4868,2,  35.4869,2, -999.000,9,    239.1,2, -999.000,9, -999.000,9, -999.000,9, -999.000,9, -999.000,9, -999.000,9, -999.000,9, -999.000,9, -999.000,9
           NA,    AR19,     17,   1,      18,  300380,  2,19980505,0404,  48.3050,  -17.7033,     9,    598.5,  10.3428,  35.4347,2,  35.4338,2, -999.000,9,    222.3,2, -999.000,9, -999.000,9, -999.000,9, -999.000,9, -999.000,9, -999.000,9, -999.000,9, -999.000,9, -999.000,9
           NA,    AR19,     17,   1,      17,  300379,  2,19980505,0404,  48.3050,  -17.7033,     9,    747.4,   9.7620,  35.4411,2,  35.4384,2, -999.000,9,    205.5,2, -999.000,9, -999.000,9, -999.000,9, -999.000,9, -999.000,9, -999.000,9, -999.000,9, -999.000,9, -999.000,9
           NA,    AR19,     17,   1,      16,  300378,  2,19980505,0404,  48.3050,  -17.7033,     9,    900.0,   9.0943,  35.5157,2,  35.5136,2, -999.000,9,    192.5,2, -999.000,9, -999.000,9, -999.000,9, -999.000,9, -999.000,9, -999.000,9, -999.000,9, -999.000,9, -999.000,9
           NA,    AR19,     17,   1,      15,  300377,  2,19980505,0404,  48.3050,  -17.7033,     9,   1081.4,   7.6418,  35.4060,2,  35.4038,2, -999.000,9,    207.1,2, -999.000,9, -999.000,9, -999.000,9, -999.000,9, -999.000,9, -999.000,9, -999.000,9, -999.000,9, -999.000,9
           NA,    AR19,     17,   1,      14,  300376,  2,19980505,0404,  48.3050,  -17.7033,     9,   1245.5,   6.1160,  35.2137,2,  35.2146,2, -999.000,9,    227.2,2, -999.000,9, -999.000,9, -999.000,9, -999.000,9, -999.000,9, -999.000,9, -999.000,9, -999.000,9, -999.000,9
           NA,    AR19,     17,   1,      13,  300375,  2,19980505,0404,  48.3050,  -17.7033,     9,   1497.3,   4.4661,  35.0059,2,  35.0056,2, -999.000,9,    256.9,2, -999.000,9, -999.000,9, -999.000,9, -999.000,9, -999.000,9, -999.000,9, -999.000,9, -999.000,9, -999.000,9
           NA,    AR19,     17,   1,      12,  300374,  2,19980505,0404,  48.3050,  -17.7033,     9,   1748.0,   3.7307,  34.9231,2,  34.9232,2, -999.000,9,    273.7,2, -999.000,9, -999.000,9, -999.000,9, -999.000,9, -999.000,9, -999.000,9, -999.000,9, -999.000,9, -999.000,9
           NA,    AR19,     17,   1,      11,  300373,  2,19980505,0404,  48.3050,  -17.7033,     9,   1996.9,   3.5049,  34.9141,2,  34.9150,2, -999.000,9,    276.9,2, -999.000,9, -999.000,9, -999.000,9, -999.000,9, -999.000,9, -999.000,9, -999.000,9, -999.000,9, -999.000,9
           NA,    AR19,     17,   1,      10,  300372,  2,19980505,0404,  48.3050,  -17.7033,     9,   2251.4,   3.3896,  34.9287,2,  34.9287,2, -999.000,9,    273.7,2, -999.000,9, -999.000,9, -999.000,9, -999.000,9, -999.000,9, -999.000,9, -999.000,9, -999.000,9, -999.000,9
           NA,    AR19,     17,   1,       8,  300370,  2,19980505,0404,  48.3050,  -17.7033,     9,   2769.0,   3.0083,  34.9513,2,  34.9526,2, -999.000,9,    260.3,2, -999.000,9, -999.000,9, -999.000,9, -999.000,9, -999.000,9, -999.000,9, -999.000,9, -999.000,9, -999.000,9
           NA,    AR19,     17,   1,       7,  300369,  2,19980505,0404,  48.3050,  -17.7033,     9,   2998.9,   2.8440,  34.9464,2,  34.9463,2, -999.000,9,    255.0,2, -999.000,9, -999.000,9, -999.000,9, -999.000,9, -999.000,9, -999.000,9, -999.000,9, -999.000,9, -999.000,9
           NA,    AR19,     17,   1,       6,  300368,  2,19980505,0404,  48.3050,  -17.7033,     9,   3242.6,   2.7070,  34.9356,2,  34.9350,2, -999.000,9,    250.2,2, -999.000,9, -999.000,9, -999.000,9, -999.000,9, -999.000,9, -999.000,9, -999.000,9, -999.000,9, -999.000,9
           NA,    AR19,     17,   1,       5,  300367,  2,19980505,0404,  48.3050,  -17.7033,     9,   3500.2,   2.5845,  34.9228,2,  34.9219,2, -999.000,9,    244.8,2, -999.000,9, -999.000,9, -999.000,9, -999.000,9, -999.000,9, -999.000,9, -999.000,9, -999.000,9, -999.000,9
           NA,    AR19,     17,   1,       4,  300366,  2,19980505,0404,  48.3050,  -17.7033,     9,   3750.4,   2.5388,  34.9155,2,  34.9146,2, -999.000,9,    241.9,2, -999.000,9, -999.000,9, -999.000,9, -999.000,9, -999.000,9, -999.000,9, -999.000,9, -999.000,9, -999.000,9
           NA,    AR19,     17,   1,       3,  300365,  2,19980505,0404,  48.3050,  -17.7033,     9,   3999.4,   2.5204,  34.9096,2,  34.9101,2, -999.000,9,    241.9,2, -999.000,9, -999.000,9, -999.000,9, -999.000,9, -999.000,9, -999.000,9, -999.000,9, -999.000,9, -999.000,9
           NA,    AR19,     17,   1,       2,  300364,  2,19980505,0404,  48.3050,  -17.7033,     9,   4074.5,   2.5188,  34.9086,2,  34.9076,2, -999.000,9,    241.8,2, -999.000,9, -999.000,9, -999.000,9, -999.000,9, -999.000,9, -999.000,9, -999.000,9, -999.000,9, -999.000,9
           NA,    AR19,     17,   1,       1,  300363,  2,19980505,0404,  48.3050,  -17.7033,     9,   4100.4,   2.5204,  34.9082,2,  34.9093,2, -999.000,9,    240.5,2, -999.000,9, -999.000,9, -999.000,9, -999.000,9, -999.000,9, -999.000,9, -999.000,9, -999.000,9, -999.000,9
           NA,    AR19,     16,   1,      24,  300362,  2,19980504,2203,  48.4100,  -16.9900,    20,      8.9,  12.0795,  35.6050,2,  35.5959,2, -999.000,9,    262.7,2, -999.000,9, -999.000,9, -999.000,9, -999.000,9, -999.000,9, -999.000,9, -999.000,9, -999.000,9, -999.000,9
           NA,    AR19,     16,   1,      23,  300361,  2,19980504,2203,  48.4100,  -16.9900,    20,     48.6,  11.8509,  35.6002,2,  35.6021,2, -999.000,9,    268.8,2, -999.000,9, -999.000,9, -999.000,9, -999.000,9, -999.000,9, -999.000,9, -999.000,9, -999.000,9, -999.000,9
           NA,    AR19,     16,   1,      22,  300360,  2,19980504,2203,  48.4100,  -16.9900,    20,    100.0,  11.8204,  35.6088,2,  35.6116,2, -999.000,9,    264.6,2, -999.000,9, -999.000,9, -999.000,9, -999.000,9, -999.000,9, -999.000,9, -999.000,9, -999.000,9, -999.000,9
           NA,    AR19,     16,   1,      21,  300359,  2,19980504,2203,  48.4100,  -16.9900,    20,    199.5,  11.6706,  35.5958,2,  35.5970,2, -999.000,9,    259.3,2, -999.000,9, -999.000,9, -999.000,9, -999.000,9, -999.000,9, -999.000,9, -999.000,9, -999.000,9, -999.000,9
           NA,    AR19,     16,   1,      20,  300358,  2,19980504,2203,  48.4100,  -16.9900,    20,    397.9,  11.0290,  35.5237,2,  35.5255,2, -999.000,9,    256.7,2, -999.000,9, -999.000,9, -999.000,9, -999.000,9, -999.000,9, -999.000,9, -999.000,9, -999.000,9, -999.000,9
           NA,    AR19,     16,   1,      19,  300357,  2,19980504,2203,  48.4100,  -16.9900,    20,    598.5,  10.2494,  35.4246,2,  35.4268,2, -999.000,9,    225.5,2, -999.000,9, -999.000,9, -999.000,9, -999.000,9, -999.000,9, -999.000,9, -999.000,9, -999.000,9, -999.000,9
           NA,    AR19,     16,   1,      18,  300356,  2,19980504,2203,  48.4100,  -16.9900,    20,    747.8,   9.4287,  35.3838,2,  35.3821,2, -999.000,9,    205.0,2, -999.000,9, -999.000,9, -999.000,9, -999.000,9, -999.000,9, -999.000,9, -999.000,9, -999.000,9, -999.000,9
           NA,    AR19,     16,   1,      17,  300355,  2,19980504,2203,  48.4100,  -16.9900,    20,    848.2,   8.3516,  35.2733,2,  35.2745,2, -999.000,9,    199.7,2, -999.000,9, -999.000,9, -999.000,9, -999.000,9, -999.000,9, -999.000,9, -999.000,9, -999.000,9, -999.000,9
           NA,    AR19,     16,   1,      16,  300354,  2,19980504,2203,  48.4100,  -16.9900,    20,    917.1,   8.3861,  35.3915,2,  35.3852,2, -999.000,9,    198.1,2, -999.000,9, -999.000,9, -999.000,9, -999.000,9, -999.000,9, -999.000,9, -999.000,9, -999.000,9, -999.000,9
           NA,    AR19,     16,   1,      15,  300353,  2,19980504,2203,  48.4100,  -16.9900,    20,    996.7,   7.7512,  35.3639,2,  35.3639,2, -999.000,9,    203.9,2, -999.000,9, -999.000,9, -999.000,9, -999.000,9, -999.000,9, -999.000,9, -999.000,9, -999.000,9, -999.000,9
           NA,    AR19,     16,   1,      14,  300352,  2,19980504,2203,  48.4100,  -16.9900,    20,   1097.5,   6.5118,  35.2027,2,  35.2033,2, -999.000,9,    217.6,2, -999.000,9, -999.000,9, -999.000,9, -999.000,9, -999.000,9, -999.000,9, -999.000,9, -999.000,9, -999.000,9
           NA,    AR19,     16,   1,      13,  300351,  2,19980504,2203,  48.4100,  -16.9900,    20,   1246.7,   5.4325,  35.0866,2,  35.0866,2, -999.000,9,    234.4,2, -999.000,9, -999.000,9, -999.000,9, -999.000,9, -999.000,9, -999.000,9, -999.000,9, -999.000,9, -999.000,9
           NA,    AR19,     16,   1,      12,  300350,  2,19980504,2203,  48.4100,  -16.9900,    20,   1498.0,   4.2470,  34.9745,2,  34.9770,2, -999.000,9,    261.6,2, -999.000,9, -999.000,9, -999.000,9, -999.000,9, -999.000,9, -999.000,9, -999.000,9, -999.000,9, -999.000,9
           NA,    AR19,     16,   1,      11,  300349,  2,19980504,2203,  48.4100,  -16.9900,    20,   1697.3,   3.8118,  34.9280,2,  34.9289,2, -999.000,9,    271.2,2, -999.000,9, -999.000,9, -999.000,9, -999.000,9, -999.000,9, -999.000,9, -999.000,9, -999.000,9, -999.000,9
           NA,    AR19,     16,   1,      10,  300348,  2,19980504,2203,  48.4100,  -16.9900,    20,   1849.4,   3.6100,  34.9119,2,  34.9120,2, -999.000,9,    274.9,2, -999.000,9, -999.000,9, -999.000,9, -999.000,9, -999.000,9, -999.000,9, -999.000,9, -999.000,9, -999.000,9
           NA,    AR19,     16,   1,       9,  300347,  2,19980504,2203,  48.4100,  -16.9900,    20,   1997.3,   3.4888,  34.9093,2,  34.9094,2, -999.000,9,    276.2,2, -999.000,9, -999.000,9, -999.000,9, -999.000,9, -999.000,9, -999.000,9, -999.000,9, -999.000,9, -999.000,9
           NA,    AR19,     16,   1,       8,  300346,  2,19980504,2203,  48.4100,  -16.9900,    20,   2397.1,   3.2916,  34.9491,2,  34.9491,2, -999.000,9,    266.0,2, -999.000,9, -999.000,9, -999.000,9, -999.000,9, -999.000,9, -999.000,9, -999.000,9, -999.000,9, -999.000,9
           NA,    AR19,     16,   1,       7,  300345,  2,19980504,2203,  48.4100,  -16.9900,    20,   2598.9,   3.1405,  34.9576,2,  34.9572,2, -999.000,9,    258.1,2, -999.000,9, -999.000,9, -999.000,9, -999.000,9, -999.000,9, -999.000,9, -999.000,9, -999.000,9, -999.000,9
           NA,    AR19,     16,   1,       6,  300344,  2,19980504,2203,  48.4100,  -16.9900,    20,   2998.1,   2.8640,  34.9473,2,  34.9466,2, -999.000,9,    252.4,2, -999.000,9, -999.000,9, -999.000,9, -999.000,9, -999.000,9, -999.000,9, -999.000,9, -999.000,9, -999.000,9
           NA,    AR19,     16,   1,       5,  300343,  2,19980504,2203,  48.4100,  -16.9900,    20,   3497.9,   2.6200,  34.9258,2,  34.9248,2, -999.000,9,    244.5,2, -999.000,9, -999.000,9, -999.000,9, -999.000,9, -999.000,9, -999.000,9, -999.000,9, -999.000,9, -999.000,9
           NA,    AR19,     16,   1,       4,  300342,  2,19980504,2203,  48.4100,  -16.9900,    20,   3999.0,   2.5189,  34.9090,2,  34.9099,2, -999.000,9,    241.4,2, -999.000,9, -999.000,9, -999.000,9, -999.000,9, -999.000,9, -999.000,9, -999.000,9, -999.000,9, -999.000,9
           NA,    AR19,     16,   1,       3,  300341,  2,19980504,2203,  48.4100,  -16.9900,    20,   4318.5,   2.5299,  34.9066,2,  34.9068,2, -999.000,9,    241.1,2, -999.000,9, -999.000,9, -999.000,9, -999.000,9, -999.000,9, -999.000,9, -999.000,9, -999.000,9, -999.000,9
           NA,    AR19,     16,   1,       2,  300340,  2,19980504,2203,  48.4100,  -16.9900,    20,   4388.7,   2.5375,  34.9069,2,  34.9073,2, -999.000,9,    245.2,2, -999.000,9, -999.000,9, -999.000,9, -999.000,9, -999.000,9, -999.000,9, -999.000,9, -999.000,9, -999.000,9
           NA,    AR19,     16,   1,       1,  300339,  2,19980504,2203,  48.4100,  -16.9900,    20,   4417.3,   2.5410,  34.9063,2,  34.9076,2, -999.000,9,    244.5,2, -999.000,9, -999.000,9, -999.000,9, -999.000,9, -999.000,9, -999.000,9, -999.000,9, -999.000,9, -999.000,9