BOTTLE,20214525JOAExport
EXPOCODE,SECT_ID,STNNBR,CASTNO,SAMPNO,BTLNBR,BTLNBR_FLAG_W,DATE,TIME,LATITUDE,LONGITUDE,DEPTH,CTDPRS,CTDTMP,CTDSAL,CTDSAL_FLAG_W,SALNTY,SALNTY_FLAG_W,CTDOXY,CTDOXY_FLAG_W,OXYGEN,OXYGEN_FLAG_W,SILCAT,SILCAT_FLAG_W,NITRAT,NITRAT_FLAG_W,NITRIT,NITRIT_FLAG_W,PHSPHT,PHSPHT_FLAG_W,CFC-11,CFC-11_FLAG_W,CFC-12,CFC-12_FLAG_W,SF6,SF6_FLAG_W,TCARBN,TCARBN_FLAG_W,ALKALI,ALKALI_FLAG_W
,,,,,,,,,,,,DB,ITS-90,PSS-78,,PSS-78,,UMOL/KG,,UMOL/KG,,UMOL/KG,,UMOL/KG,,UMOL/KG,,UMOL/KG,,PMOL/KG,,PMOL/KG,,FMOL/KG,,UMOL/KG,,UMOL/KG
           NA,    AR19,     15,   1,      24,  300338,  2,19980504,1514,  48.5283,  -16.2383,    10,     10.0,  12.1692,  35.6281,2,-999.0000,4, -999.000,9,    259.9,2, -999.000,9, -999.000,9, -999.000,9, -999.000,9, -999.000,9, -999.000,9, -999.000,9, -999.000,9, -999.000,9
           NA,    AR19,     15,   1,      23,  300337,  2,19980504,1514,  48.5283,  -16.2383,    10,     50.6,  11.9612,  35.6234,2,  35.6248,2, -999.000,9,    261.8,2, -999.000,9, -999.000,9, -999.000,9, -999.000,9, -999.000,9, -999.000,9, -999.000,9, -999.000,9, -999.000,9
           NA,    AR19,     15,   1,      22,  300336,  2,19980504,1514,  48.5283,  -16.2383,    10,     99.4,  11.8799,  35.6174,2,  35.6182,2, -999.000,9,    258.7,2, -999.000,9, -999.000,9, -999.000,9, -999.000,9, -999.000,9, -999.000,9, -999.000,9, -999.000,9, -999.000,9
           NA,    AR19,     15,   1,      21,  300335,  2,19980504,1514,  48.5283,  -16.2383,    10,    199.9,  11.5845,  35.5774,2,  35.5779,2, -999.000,9,    253.2,2, -999.000,9, -999.000,9, -999.000,9, -999.000,9, -999.000,9, -999.000,9, -999.000,9, -999.000,9, -999.000,9
           NA,    AR19,     15,   1,      20,  300334,  2,19980504,1514,  48.5283,  -16.2383,    10,    401.5,  11.0323,  35.5251,2,  35.5256,2, -999.000,9,    256.3,2, -999.000,9, -999.000,9, -999.000,9, -999.000,9, -999.000,9, -999.000,9, -999.000,9, -999.000,9, -999.000,9
           NA,    AR19,     15,   1,      19,  300333,  2,19980504,1514,  48.5283,  -16.2383,    10,    598.7,  10.5850,  35.4646,2,  35.4636,2, -999.000,9,    238.1,2, -999.000,9, -999.000,9, -999.000,9, -999.000,9, -999.000,9, -999.000,9, -999.000,9, -999.000,9, -999.000,9
           NA,    AR19,     15,   1,      18,  300332,  2,19980504,1514,  48.5283,  -16.2383,    10,    740.9,   9.5229,  35.3439,2,  35.3428,2, -999.000,9,    201.6,2, -999.000,9, -999.000,9, -999.000,9, -999.000,9, -999.000,9, -999.000,9, -999.000,9, -999.000,9, -999.000,9
           NA,    AR19,     15,   1,      17,  300331,  2,19980504,1514,  48.5283,  -16.2383,    10,   1018.2,   8.2498,  35.4564,2,  35.4536,2, -999.000,9,    198.1,2, -999.000,9, -999.000,9, -999.000,9, -999.000,9, -999.000,9, -999.000,9, -999.000,9, -999.000,9, -999.000,9
           NA,    AR19,     15,   1,      16,  300330,  2,19980504,1514,  48.5283,  -16.2383,    10,   1245.6,   6.2339,  35.2178,2,  35.2183,2, -999.000,9,    222.6,2, -999.000,9, -999.000,9, -999.000,9, -999.000,9, -999.000,9, -999.000,9, -999.000,9, -999.000,9, -999.000,9
           NA,    AR19,     15,   1,      15,  300329,  2,19980504,1514,  48.5283,  -16.2383,    10,   1497.9,   4.4879,  35.0051,2,  35.0066,2, -999.000,9,    252.5,2, -999.000,9, -999.000,9, -999.000,9, -999.000,9, -999.000,9, -999.000,9, -999.000,9, -999.000,9, -999.000,9
           NA,    AR19,     15,   1,      14,  300328,  2,19980504,1514,  48.5283,  -16.2383,    10,   1747.3,   3.7498,  34.9241,2,  34.9250,2, -999.000,9,    268.9,2, -999.000,9, -999.000,9, -999.000,9, -999.000,9, -999.000,9, -999.000,9, -999.000,9, -999.000,9, -999.000,9
           NA,    AR19,     15,   1,      13,  300327,  2,19980504,1514,  48.5283,  -16.2383,    10,   1895.3,   3.5571,  34.9095,2,  34.9133,2, -999.000,9,    272.5,2, -999.000,9, -999.000,9, -999.000,9, -999.000,9, -999.000,9, -999.000,9, -999.000,9, -999.000,9, -999.000,9
           NA,    AR19,     15,   1,      12,  300326,  2,19980504,1514,  48.5283,  -16.2383,    10,   2295.5,   3.3701,  34.9434,2,-999.0000,3, -999.000,9,    261.3,2, -999.000,9, -999.000,9, -999.000,9, -999.000,9, -999.000,9, -999.000,9, -999.000,9, -999.000,9, -999.000,9
           NA,    AR19,     15,   1,      11,  300325,  2,19980504,1514,  48.5283,  -16.2383,    10,   2651.1,   3.1172,  34.9576,2,  34.9584,2, -999.000,9,    257.6,2, -999.000,9, -999.000,9, -999.000,9, -999.000,9, -999.000,9, -999.000,9, -999.000,9, -999.000,9, -999.000,9
           NA,    AR19,     15,   1,      10,  300324,  2,19980504,1514,  48.5283,  -16.2383,    10,   2899.8,   2.9466,  34.9512,2,  34.9520,2, -999.000,9,    251.1,2, -999.000,9, -999.000,9, -999.000,9, -999.000,9, -999.000,9, -999.000,9, -999.000,9, -999.000,9, -999.000,9
           NA,    AR19,     15,   1,       9,  300323,  2,19980504,1514,  48.5283,  -16.2383,    10,   3152.0,   2.7923,  34.9426,2,  34.9419,2, -999.000,9,    248.4,2, -999.000,9, -999.000,9, -999.000,9, -999.000,9, -999.000,9, -999.000,9, -999.000,9, -999.000,9, -999.000,9
           NA,    AR19,     15,   1,       8,  300322,  2,19980504,1514,  48.5283,  -16.2383,    10,   3400.6,   2.6884,  34.9326,2,  34.9324,2, -999.000,9,    244.7,2, -999.000,9, -999.000,9, -999.000,9, -999.000,9, -999.000,9, -999.000,9, -999.000,9, -999.000,9, -999.000,9
           NA,    AR19,     15,   1,       7,  300321,  2,19980504,1514,  48.5283,  -16.2383,    10,   3601.0,   2.6218,  34.9245,2,  34.9236,2, -999.000,9,    243.4,2, -999.000,9, -999.000,9, -999.000,9, -999.000,9, -999.000,9, -999.000,9, -999.000,9, -999.000,9, -999.000,9
           NA,    AR19,     15,   1,       6,  300320,  2,19980504,1514,  48.5283,  -16.2383,    10,   3806.4,   2.5729,  34.9180,2,  34.9181,2, -999.000,9,    242.1,2, -999.000,9, -999.000,9, -999.000,9, -999.000,9, -999.000,9, -999.000,9, -999.000,9, -999.000,9, -999.000,9
           NA,    AR19,     15,   1,       5,  300319,  2,19980504,1514,  48.5283,  -16.2383,    10,   3998.7,   2.5530,  34.9129,2,  34.9117,2, -999.000,9,    240.8,2, -999.000,9, -999.000,9, -999.000,9, -999.000,9, -999.000,9, -999.000,9, -999.000,9, -999.000,9, -999.000,9
           NA,    AR19,     15,   1,       4,  300318,  2,19980504,1514,  48.5283,  -16.2383,    10,   4248.0,   2.5409,  34.9084,2,  34.9100,2, -999.000,9,    240.4,2, -999.000,9, -999.000,9, -999.000,9, -999.000,9, -999.000,9, -999.000,9, -999.000,9, -999.000,9, -999.000,9
           NA,    AR19,     15,   1,       3,  300317,  2,19980504,1514,  48.5283,  -16.2383,    10,   4829.1,   2.5615,  34.9057,2,  34.9047,2, -999.000,9,    240.2,2, -999.000,9, -999.000,9, -999.000,9, -999.000,9, -999.000,9, -999.000,9, -999.000,9, -999.000,9, -999.000,9
           NA,    AR19,     15,   1,       2,  300316,  2,19980504,1514,  48.5283,  -16.2383,    10,   4898.0,   2.5703,  34.9053,2,  34.9047,2, -999.000,9,    239.6,2, -999.000,9, -999.000,9, -999.000,9, -999.000,9, -999.000,9, -999.000,9, -999.000,9, -999.000,9, -999.000,9
           NA,    AR19,     15,   1,       1,  300315,  2,19980504,1514,  48.5283,  -16.2383,    10,   4920.0,   2.5731,  34.9060,2,  34.9049,2, -999.000,9,    238.1,2, -999.000,9, -999.000,9, -999.000,9, -999.000,9, -999.000,9, -999.000,9, -999.000,9, -999.000,9, -999.000,9
           NA,    AR19,     14,   1,      24,  300314,  2,19980504,0848,  48.6000,  -15.4900,     8,      9.8,  11.8831,  35.6096,2,-999.0000,3, -999.000,9,    256.4,2, -999.000,9, -999.000,9, -999.000,9, -999.000,9, -999.000,9, -999.000,9, -999.000,9, -999.000,9, -999.000,9
           NA,    AR19,     14,   1,      23,  300313,  2,19980504,0848,  48.6000,  -15.4900,     8,     49.5,  11.8862,  35.6173,2,  35.6170,2, -999.000,9,    258.8,2, -999.000,9, -999.000,9, -999.000,9, -999.000,9, -999.000,9, -999.000,9, -999.000,9, -999.000,9, -999.000,9
           NA,    AR19,     14,   1,      21,  300311,  2,19980504,0848,  48.6000,  -15.4900,     8,    198.6,  11.5663,  35.5866,2,  35.5872,2, -999.000,9,    249.8,2, -999.000,9, -999.000,9, -999.000,9, -999.000,9, -999.000,9, -999.000,9, -999.000,9, -999.000,9, -999.000,9
           NA,    AR19,     14,   1,      20,  300310,  2,19980504,0848,  48.6000,  -15.4900,     8,    498.4,  10.7399,  35.4853,2,  35.4854,2, -999.000,9,    238.4,2, -999.000,9, -999.000,9, -999.000,9, -999.000,9, -999.000,9, -999.000,9, -999.000,9, -999.000,9, -999.000,9
           NA,    AR19,     14,   1,      19,  300309,  2,19980504,0848,  48.6000,  -15.4900,     8,    698.5,   9.8022,  35.3925,2,  35.3929,2, -999.000,9,    215.2,2, -999.000,9, -999.000,9, -999.000,9, -999.000,9, -999.000,9, -999.000,9, -999.000,9, -999.000,9, -999.000,9
           NA,    AR19,     14,   1,      17,  300307,  2,19980504,0848,  48.6000,  -15.4900,     8,   1085.1,   7.2528,  35.3298,2,  35.3281,2, -999.000,9,    208.9,2, -999.000,9, -999.000,9, -999.000,9, -999.000,9, -999.000,9, -999.000,9, -999.000,9, -999.000,9, -999.000,9
           NA,    AR19,     14,   1,      16,  300306,  2,19980504,0848,  48.6000,  -15.4900,     8,   1246.6,   6.1677,  35.2164,2,  35.2186,2, -999.000,9,    223.0,2, -999.000,9, -999.000,9, -999.000,9, -999.000,9, -999.000,9, -999.000,9, -999.000,9, -999.000,9, -999.000,9
           NA,    AR19,     14,   1,      15,  300305,  2,19980504,0848,  48.6000,  -15.4900,     8,   1497.1,   4.4146,  34.9914,2,  34.9921,2, -999.000,9,    258.6,2, -999.000,9, -999.000,9, -999.000,9, -999.000,9, -999.000,9, -999.000,9, -999.000,9, -999.000,9, -999.000,9
           NA,    AR19,     14,   1,      14,  300304,  2,19980504,0848,  48.6000,  -15.4900,     8,   1749.1,   3.7696,  34.9245,2,  34.9253,2, -999.000,9,    269.7,2, -999.000,9, -999.000,9, -999.000,9, -999.000,9, -999.000,9, -999.000,9, -999.000,9, -999.000,9, -999.000,9
           NA,    AR19,     14,   1,      13,  300303,  2,19980504,0848,  48.6000,  -15.4900,     8,   1999.3,   3.4981,  34.9145,2,  34.9155,2, -999.000,9,    276.4,2, -999.000,9, -999.000,9, -999.000,9, -999.000,9, -999.000,9, -999.000,9, -999.000,9, -999.000,9, -999.000,9
           NA,    AR19,     14,   1,      12,  300302,  2,19980504,0848,  48.6000,  -15.4900,     8,   2247.8,   3.3869,  34.9336,2,  34.9347,2, -999.000,9,    272.2,2, -999.000,9, -999.000,9, -999.000,9, -999.000,9, -999.000,9, -999.000,9, -999.000,9, -999.000,9, -999.000,9
           NA,    AR19,     14,   1,      11,  300301,  2,19980504,0848,  48.6000,  -15.4900,     8,   2598.3,   3.1545,  34.9586,2,  34.9590,2, -999.000,9,   -999.0,3, -999.000,9, -999.000,9, -999.000,9, -999.000,9, -999.000,9, -999.000,9, -999.000,9, -999.000,9, -999.000,9
           NA,    AR19,     14,   1,      10,  300300,  2,19980504,0848,  48.6000,  -15.4900,     8,   2748.3,   3.0333,  34.9564,2,  34.9562,2, -999.000,9,   -999.0,3, -999.000,9, -999.000,9, -999.000,9, -999.000,9, -999.000,9, -999.000,9, -999.000,9, -999.000,9, -999.000,9
           NA,    AR19,     14,   1,       9,  300299,  2,19980504,0848,  48.6000,  -15.4900,     8,   2997.6,   2.8443,  34.9467,2,  34.9456,2, -999.000,9,    249.0,2, -999.000,9, -999.000,9, -999.000,9, -999.000,9, -999.000,9, -999.000,9, -999.000,9, -999.000,9, -999.000,9
           NA,    AR19,     14,   1,       8,  300298,  2,19980504,0848,  48.6000,  -15.4900,     8,   3249.9,   2.7211,  34.9364,2,  34.9349,2, -999.000,9,    245.5,2, -999.000,9, -999.000,9, -999.000,9, -999.000,9, -999.000,9, -999.000,9, -999.000,9, -999.000,9, -999.000,9
           NA,    AR19,     14,   1,       7,  300297,  2,19980504,0848,  48.6000,  -15.4900,     8,   3499.3,   2.6294,  34.9260,2,  34.9251,2, -999.000,9,    242.9,2, -999.000,9, -999.000,9, -999.000,9, -999.000,9, -999.000,9, -999.000,9, -999.000,9, -999.000,9, -999.000,9
           NA,    AR19,     14,   1,       6,  300296,  2,19980504,0848,  48.6000,  -15.4900,     8,   3750.9,   2.5825,  34.9196,2,  34.9181,2, -999.000,9,    241.5,2, -999.000,9, -999.000,9, -999.000,9, -999.000,9, -999.000,9, -999.000,9, -999.000,9, -999.000,9, -999.000,9
           NA,    AR19,     14,   1,       4,  300294,  2,19980504,0848,  48.6000,  -15.4900,     8,   4249.9,   2.5340,  34.9079,2,  34.9086,2, -999.000,9,    240.7,2, -999.000,9, -999.000,9, -999.000,9, -999.000,9, -999.000,9, -999.000,9, -999.000,9, -999.000,9, -999.000,9
           NA,    AR19,     14,   1,       3,  300293,  2,19980504,0848,  48.6000,  -15.4900,     8,   4786.6,   2.5415,  34.9038,2,  34.9025,2, -999.000,9,    240.9,2, -999.000,9, -999.000,9, -999.000,9, -999.000,9, -999.000,9, -999.000,9, -999.000,9, -999.000,9, -999.000,9
           NA,    AR19,     14,   1,       2,  300292,  2,19980504,0848,  48.6000,  -15.4900,     8,   4865.1,   2.5472,  34.9033,2,  34.9023,2, -999.000,9,    242.2,2, -999.000,9, -999.000,9, -999.000,9, -999.000,9, -999.000,9, -999.000,9, -999.000,9, -999.000,9, -999.000,9
           NA,    AR19,     14,   1,       1,  300291,  2,19980504,0848,  48.6000,  -15.4900,     8,   4886.3,   2.5495,  34.9040,2,  34.9025,2, -999.000,9,    240.6,2, -999.000,9, -999.000,9, -999.000,9, -999.000,9, -999.000,9, -999.000,9, -999.000,9, -999.000,9, -999.000,9
           NA,    AR19,     13,   1,      24,  300290,  2,19980504,0204,  48.7450,  -14.7383,    11,     14.9,  11.8981,  35.6153,2,  35.6177,2, -999.000,9,    271.1,2, -999.000,9, -999.000,9, -999.000,9, -999.000,9, -999.000,9, -999.000,9, -999.000,9, -999.000,9, -999.000,9
           NA,    AR19,     13,   1,      23,  300289,  2,19980504,0204,  48.7450,  -14.7383,    11,     49.9,  11.8350,  35.6143,2,  35.6136,2, -999.000,9,    268.6,2, -999.000,9, -999.000,9, -999.000,9, -999.000,9, -999.000,9, -999.000,9, -999.000,9, -999.000,9, -999.000,9
           NA,    AR19,     13,   1,      22,  300288,  2,19980504,0204,  48.7450,  -14.7383,    11,    101.1,  11.7844,  35.6118,2,  35.6139,2, -999.000,9,    264.5,2, -999.000,9, -999.000,9, -999.000,9, -999.000,9, -999.000,9, -999.000,9, -999.000,9, -999.000,9, -999.000,9
           NA,    AR19,     13,   1,      21,  300287,  2,19980504,0204,  48.7450,  -14.7383,    11,    199.3,  11.4672,  35.5861,2,  35.5874,2, -999.000,9,    250.0,2, -999.000,9, -999.000,9, -999.000,9, -999.000,9, -999.000,9, -999.000,9, -999.000,9, -999.000,9, -999.000,9
           NA,    AR19,     13,   1,      20,  300286,  2,19980504,0204,  48.7450,  -14.7383,    11,    399.8,  11.0543,  35.5286,2,  35.5298,2, -999.000,9,    243.4,2, -999.000,9, -999.000,9, -999.000,9, -999.000,9, -999.000,9, -999.000,9, -999.000,9, -999.000,9, -999.000,9
           NA,    AR19,     13,   1,      19,  300285,  2,19980504,0204,  48.7450,  -14.7383,    11,    646.6,   9.9966,  35.4507,2,  35.4498,2, -999.000,9,    210.8,2, -999.000,9, -999.000,9, -999.000,9, -999.000,9, -999.000,9, -999.000,9, -999.000,9, -999.000,9, -999.000,9
           NA,    AR19,     13,   1,      17,  300283,  2,19980504,0204,  48.7450,  -14.7383,    11,    999.1,   8.5196,  35.5178,2,  35.5162,2, -999.000,9,    196.4,2, -999.000,9, -999.000,9, -999.000,9, -999.000,9, -999.000,9, -999.000,9, -999.000,9, -999.000,9, -999.000,9
           NA,    AR19,     13,   1,      16,  300282,  2,19980504,0204,  48.7450,  -14.7383,    11,   1195.4,   6.8762,  35.3328,2,  35.3334,2, -999.000,9,    214.9,2, -999.000,9, -999.000,9, -999.000,9, -999.000,9, -999.000,9, -999.000,9, -999.000,9, -999.000,9, -999.000,9
           NA,    AR19,     13,   1,      15,  300281,  2,19980504,0204,  48.7450,  -14.7383,    11,   1495.9,   4.3385,  34.9884,2,  34.9873,2, -999.000,9,    256.2,2, -999.000,9, -999.000,9, -999.000,9, -999.000,9, -999.000,9, -999.000,9, -999.000,9, -999.000,9, -999.000,9
           NA,    AR19,     13,   1,      14,  300280,  2,19980504,0204,  48.7450,  -14.7383,    11,   1749.2,   3.7259,  34.9226,2,  34.9239,2, -999.000,9,    269.9,2, -999.000,9, -999.000,9, -999.000,9, -999.000,9, -999.000,9, -999.000,9, -999.000,9, -999.000,9, -999.000,9
           NA,    AR19,     13,   1,      13,  300279,  2,19980504,0204,  48.7450,  -14.7383,    11,   1945.8,   3.4571,  34.9043,2,  34.9057,2, -999.000,9,    274.8,2, -999.000,9, -999.000,9, -999.000,9, -999.000,9, -999.000,9, -999.000,9, -999.000,9, -999.000,9, -999.000,9
           NA,    AR19,     13,   1,      12,  300278,  2,19980504,0204,  48.7450,  -14.7383,    11,   2248.1,   3.3647,  34.9403,2,  34.9425,2, -999.000,9,    268.3,2, -999.000,9, -999.000,9, -999.000,9, -999.000,9, -999.000,9, -999.000,9, -999.000,9, -999.000,9, -999.000,9
           NA,    AR19,     13,   1,      11,  300277,  2,19980504,0204,  48.7450,  -14.7383,    11,   2498.1,   3.1813,  34.9583,2,  34.9595,2, -999.000,9,    257.8,2, -999.000,9, -999.000,9, -999.000,9, -999.000,9, -999.000,9, -999.000,9, -999.000,9, -999.000,9, -999.000,9
           NA,    AR19,     13,   1,      10,  300276,  2,19980504,0204,  48.7450,  -14.7383,    11,   2748.8,   2.9953,  34.9546,2,  34.9554,2, -999.000,9,    250.9,2, -999.000,9, -999.000,9, -999.000,9, -999.000,9, -999.000,9, -999.000,9, -999.000,9, -999.000,9, -999.000,9
           NA,    AR19,     13,   1,       9,  300275,  2,19980504,0204,  48.7450,  -14.7383,    11,   2997.3,   2.8446,  34.9463,2,  34.9458,2, -999.000,9,    247.2,2, -999.000,9, -999.000,9, -999.000,9, -999.000,9, -999.000,9, -999.000,9, -999.000,9, -999.000,9, -999.000,9
           NA,    AR19,     13,   1,       8,  300274,  2,19980504,0204,  48.7450,  -14.7383,    11,   3250.6,   2.7351,  34.9372,2,  34.9365,2, -999.000,9,    245.4,2, -999.000,9, -999.000,9, -999.000,9, -999.000,9, -999.000,9, -999.000,9, -999.000,9, -999.000,9, -999.000,9
           NA,    AR19,     13,   1,       7,  300273,  2,19980504,0204,  48.7450,  -14.7383,    11,   3498.4,   2.6455,  34.9274,2,  34.9272,2, -999.000,9,    243.4,2, -999.000,9, -999.000,9, -999.000,9, -999.000,9, -999.000,9, -999.000,9, -999.000,9, -999.000,9, -999.000,9
           NA,    AR19,     13,   1,       6,  300272,  2,19980504,0204,  48.7450,  -14.7383,    11,   3798.2,   2.5717,  34.9181,2,  34.9175,2, -999.000,9,    241.8,2, -999.000,9, -999.000,9, -999.000,9, -999.000,9, -999.000,9, -999.000,9, -999.000,9, -999.000,9, -999.000,9
           NA,    AR19,     13,   1,       5,  300271,  2,19980504,0204,  48.7450,  -14.7383,    11,   4200.2,   2.5428,  34.9098,2,  34.9116,2, -999.000,9,    240.0,2, -999.000,9, -999.000,9, -999.000,9, -999.000,9, -999.000,9, -999.000,9, -999.000,9, -999.000,9, -999.000,9
           NA,    AR19,     13,   1,       4,  300270,  2,19980504,0204,  48.7450,  -14.7383,    11,   4549.9,   2.5423,  34.9062,2,  34.9060,2, -999.000,9,    240.6,2, -999.000,9, -999.000,9, -999.000,9, -999.000,9, -999.000,9, -999.000,9, -999.000,9, -999.000,9, -999.000,9
           NA,    AR19,     13,   1,       3,  300269,  2,19980504,0204,  48.7450,  -14.7383,    11,   4708.9,   2.5372,  34.9040,2,  34.9044,2, -999.000,9,    239.5,2, -999.000,9, -999.000,9, -999.000,9, -999.000,9, -999.000,9, -999.000,9, -999.000,9, -999.000,9, -999.000,9
           NA,    AR19,     13,   1,       2,  300268,  2,19980504,0204,  48.7450,  -14.7383,    11,   4786.5,   2.5400,  34.9040,2,  34.9030,2, -999.000,9,    240.6,2, -999.000,9, -999.000,9, -999.000,9, -999.000,9, -999.000,9, -999.000,9, -999.000,9, -999.000,9, -999.000,9
           NA,    AR19,     13,   1,       1,  300267,  2,19980504,0204,  48.7450,  -14.7383,    11,   4807.8,   2.5430,  34.9037,2,  34.9033,2, -999.000,9,    241.1,2, -999.000,9, -999.000,9, -999.000,9, -999.000,9, -999.000,9, -999.000,9, -999.000,9, -999.000,9, -999.000,9