BOTTLE,20214525JOAExport
EXPOCODE,SECT_ID,STNNBR,CASTNO,SAMPNO,BTLNBR,BTLNBR_FLAG_W,DATE,TIME,LATITUDE,LONGITUDE,DEPTH,CTDPRS,CTDTMP,CTDSAL,CTDSAL_FLAG_W,SALNTY,SALNTY_FLAG_W,CTDOXY,CTDOXY_FLAG_W,OXYGEN,OXYGEN_FLAG_W,SILCAT,SILCAT_FLAG_W,NITRAT,NITRAT_FLAG_W,NITRIT,NITRIT_FLAG_W,PHSPHT,PHSPHT_FLAG_W,CFC-11,CFC-11_FLAG_W,CFC-12,CFC-12_FLAG_W,SF6,SF6_FLAG_W,TCARBN,TCARBN_FLAG_W,ALKALI,ALKALI_FLAG_W
,,,,,,,,,,,,DB,ITS-90,PSS-78,,PSS-78,,UMOL/KG,,UMOL/KG,,UMOL/KG,,UMOL/KG,,UMOL/KG,,UMOL/KG,,PMOL/KG,,PMOL/KG,,FMOL/KG,,UMOL/KG,,UMOL/KG
           NA,    AR19,     36,   1,      24,  300890,  2,19980511,1811,  45.3200,  -33.1483,     8,     10.3,  14.3693,  35.8675,2,  35.8684,2, -999.000,9,    272.1,2, -999.000,9, -999.000,9, -999.000,9, -999.000,9, -999.000,9, -999.000,9, -999.000,9, -999.000,9, -999.000,9
           NA,    AR19,     36,   1,      23,  300889,  2,19980511,1811,  45.3200,  -33.1483,     8,     48.7,  14.1464,  35.8933,2,  35.8922,2, -999.000,9,    257.3,2, -999.000,9, -999.000,9, -999.000,9, -999.000,9, -999.000,9, -999.000,9, -999.000,9, -999.000,9, -999.000,9
           NA,    AR19,     36,   1,      22,  300888,  2,19980511,1811,  45.3200,  -33.1483,     8,     99.6,  13.9406,  35.8914,2,  35.8894,2, -999.000,9,    244.4,2, -999.000,9, -999.000,9, -999.000,9, -999.000,9, -999.000,9, -999.000,9, -999.000,9, -999.000,9, -999.000,9
           NA,    AR19,     36,   1,      21,  300887,  2,19980511,1811,  45.3200,  -33.1483,     8,    198.3,  13.4431,  35.8110,2,  35.8106,2, -999.000,9,    244.6,2, -999.000,9, -999.000,9, -999.000,9, -999.000,9, -999.000,9, -999.000,9, -999.000,9, -999.000,9, -999.000,9
           NA,    AR19,     36,   1,      20,  300886,  2,19980511,1811,  45.3200,  -33.1483,     8,    397.5,  12.7359,  35.6684,2,-999.0000,4, -999.000,9,    242.1,2, -999.000,9, -999.000,9, -999.000,9, -999.000,9, -999.000,9, -999.000,9, -999.000,9, -999.000,9, -999.000,9
           NA,    AR19,     36,   1,      19,  300885,  2,19980511,1811,  45.3200,  -33.1483,     8,    597.7,  10.5063,  35.3502,2,  35.3476,2, -999.000,9,    190.0,2, -999.000,9, -999.000,9, -999.000,9, -999.000,9, -999.000,9, -999.000,9, -999.000,9, -999.000,9, -999.000,9
           NA,    AR19,     36,   1,      18,  300884,  2,19980511,1811,  45.3200,  -33.1483,     8,    745.3,   8.3658,  35.1391,2,  35.1383,2, -999.000,9,    182.1,2, -999.000,9, -999.000,9, -999.000,9, -999.000,9, -999.000,9, -999.000,9, -999.000,9, -999.000,9, -999.000,9
           NA,    AR19,     36,   1,      17,  300883,  2,19980511,1811,  45.3200,  -33.1483,     8,    796.8,   7.7646,  35.1249,2,  35.1240,2, -999.000,9,    191.4,2, -999.000,9, -999.000,9, -999.000,9, -999.000,9, -999.000,9, -999.000,9, -999.000,9, -999.000,9, -999.000,9
           NA,    AR19,     36,   1,      16,  300882,  2,19980511,1811,  45.3200,  -33.1483,     8,    895.9,   6.6528,  35.0769,2,  35.0723,2, -999.000,9,    204.7,2, -999.000,9, -999.000,9, -999.000,9, -999.000,9, -999.000,9, -999.000,9, -999.000,9, -999.000,9, -999.000,9
           NA,    AR19,     36,   1,      15,  300881,  2,19980511,1811,  45.3200,  -33.1483,     8,    997.4,   6.0401,  35.0778,2,  35.0785,2, -999.000,9,    218.3,2, -999.000,9, -999.000,9, -999.000,9, -999.000,9, -999.000,9, -999.000,9, -999.000,9, -999.000,9, -999.000,9
           NA,    AR19,     36,   1,      14,  300880,  2,19980511,1811,  45.3200,  -33.1483,     8,   1196.5,   4.9290,  35.0237,2,  35.0249,2, -999.000,9,    243.4,2, -999.000,9, -999.000,9, -999.000,9, -999.000,9, -999.000,9, -999.000,9, -999.000,9, -999.000,9, -999.000,9
           NA,    AR19,     36,   1,      13,  300879,  2,19980511,1811,  45.3200,  -33.1483,     8,   1391.6,   4.1492,  34.9525,2,  34.9537,2, -999.000,9,    262.7,2, -999.000,9, -999.000,9, -999.000,9, -999.000,9, -999.000,9, -999.000,9, -999.000,9, -999.000,9, -999.000,9
           NA,    AR19,     36,   1,      12,  300878,  2,19980511,1811,  45.3200,  -33.1483,     8,   1497.0,   3.9816,  34.9451,2,  34.9464,2, -999.000,9,    266.3,2, -999.000,9, -999.000,9, -999.000,9, -999.000,9, -999.000,9, -999.000,9, -999.000,9, -999.000,9, -999.000,9
           NA,    AR19,     36,   1,      11,  300877,  2,19980511,1811,  45.3200,  -33.1483,     8,   1795.8,   3.5309,  34.9034,2,  34.9037,2, -999.000,9,    277.1,2, -999.000,9, -999.000,9, -999.000,9, -999.000,9, -999.000,9, -999.000,9, -999.000,9, -999.000,9, -999.000,9
           NA,    AR19,     36,   1,      10,  300876,  2,19980511,1811,  45.3200,  -33.1483,     8,   1996.8,   3.3470,  34.8891,2,  34.8896,2, -999.000,9,    282.4,2, -999.000,9, -999.000,9, -999.000,9, -999.000,9, -999.000,9, -999.000,9, -999.000,9, -999.000,9, -999.000,9
           NA,    AR19,     36,   1,       9,  300875,  2,19980511,1811,  45.3200,  -33.1483,     8,   2218.4,   3.2356,  34.8850,2,  34.8846,2, -999.000,9,    284.8,2, -999.000,9, -999.000,9, -999.000,9, -999.000,9, -999.000,9, -999.000,9, -999.000,9, -999.000,9, -999.000,9
           NA,    AR19,     36,   1,       8,  300874,  2,19980511,1811,  45.3200,  -33.1483,     8,   2497.7,   3.2314,  34.9124,2,  34.9130,2, -999.000,9,    276.4,2, -999.000,9, -999.000,9, -999.000,9, -999.000,9, -999.000,9, -999.000,9, -999.000,9, -999.000,9, -999.000,9
           NA,    AR19,     36,   1,       7,  300873,  2,19980511,1811,  45.3200,  -33.1483,     8,   2748.4,   3.1188,  34.9224,2,  34.9228,2, -999.000,9,    275.1,2, -999.000,9, -999.000,9, -999.000,9, -999.000,9, -999.000,9, -999.000,9, -999.000,9, -999.000,9, -999.000,9
           NA,    AR19,     36,   1,       6,  300872,  2,19980511,1811,  45.3200,  -33.1483,     8,   2995.8,   2.9505,  34.9254,2,  34.9253,2, -999.000,9,    274.8,2, -999.000,9, -999.000,9, -999.000,9, -999.000,9, -999.000,9, -999.000,9, -999.000,9, -999.000,9, -999.000,9
           NA,    AR19,     36,   1,       4,  300870,  2,19980511,1811,  45.3200,  -33.1483,     8,   3499.4,   2.5273,  34.9151,2,  34.9151,2, -999.000,9,    274.3,2, -999.000,9, -999.000,9, -999.000,9, -999.000,9, -999.000,9, -999.000,9, -999.000,9, -999.000,9, -999.000,9
           NA,    AR19,     36,   1,       3,  300869,  2,19980511,1811,  45.3200,  -33.1483,     8,   3562.8,   2.5052,  34.9140,2,  34.9134,2, -999.000,9,    274.5,2, -999.000,9, -999.000,9, -999.000,9, -999.000,9, -999.000,9, -999.000,9, -999.000,9, -999.000,9, -999.000,9
           NA,    AR19,     36,   1,       2,  300868,  2,19980511,1811,  45.3200,  -33.1483,     8,   3604.4,   2.4682,  34.9114,2,  34.9105,2, -999.000,9,    275.0,2, -999.000,9, -999.000,9, -999.000,9, -999.000,9, -999.000,9, -999.000,9, -999.000,9, -999.000,9, -999.000,9
           NA,    AR19,     36,   1,       1,  300867,  2,19980511,1811,  45.3200,  -33.1483,     8,   3614.8,   2.4585,  34.9112,2,  34.9107,2, -999.000,9,    274.1,2, -999.000,9, -999.000,9, -999.000,9, -999.000,9, -999.000,9, -999.000,9, -999.000,9, -999.000,9, -999.000,9
           NA,    AR19,     39,   1,      24,  300962,  2,19980512,2224,  45.5717,  -32.3333,     5,      9.0,  14.3721,  35.8326,2,  35.8357,2, -999.000,9,    264.1,2, -999.000,9, -999.000,9, -999.000,9, -999.000,9, -999.000,9, -999.000,9, -999.000,9, -999.000,9, -999.000,9
           NA,    AR19,     39,   1,      23,  300961,  2,19980512,2224,  45.5717,  -32.3333,     5,     48.2,  13.7433,  35.8105,2,  35.8091,2, -999.000,9,    249.9,2, -999.000,9, -999.000,9, -999.000,9, -999.000,9, -999.000,9, -999.000,9, -999.000,9, -999.000,9, -999.000,9
           NA,    AR19,     39,   1,      22,  300960,  2,19980512,2224,  45.5717,  -32.3333,     5,     99.9,  13.4641,  35.7828,2,  35.7810,2, -999.000,9,    243.9,2, -999.000,9, -999.000,9, -999.000,9, -999.000,9, -999.000,9, -999.000,9, -999.000,9, -999.000,9, -999.000,9
           NA,    AR19,     39,   1,      21,  300959,  2,19980512,2224,  45.5717,  -32.3333,     5,    198.2,  13.1796,  35.7397,2,  35.7372,2, -999.000,9,    243.1,2, -999.000,9, -999.000,9, -999.000,9, -999.000,9, -999.000,9, -999.000,9, -999.000,9, -999.000,9, -999.000,9
           NA,    AR19,     39,   1,      20,  300958,  2,19980512,2224,  45.5717,  -32.3333,     5,    400.0,  12.0048,  35.5440,2,  35.5440,2, -999.000,9,    225.2,2, -999.000,9, -999.000,9, -999.000,9, -999.000,9, -999.000,9, -999.000,9, -999.000,9, -999.000,9, -999.000,9
           NA,    AR19,     39,   1,      19,  300957,  2,19980512,2224,  45.5717,  -32.3333,     5,    596.0,   9.7129,  35.2817,2,  35.2801,2, -999.000,9,    195.0,2, -999.000,9, -999.000,9, -999.000,9, -999.000,9, -999.000,9, -999.000,9, -999.000,9, -999.000,9, -999.000,9
           NA,    AR19,     39,   1,      18,  300956,  2,19980512,2224,  45.5717,  -32.3333,     5,    695.6,   8.1769,  35.1224,2,  35.1222,2, -999.000,9,    191.7,2, -999.000,9, -999.000,9, -999.000,9, -999.000,9, -999.000,9, -999.000,9, -999.000,9, -999.000,9, -999.000,9
           NA,    AR19,     39,   1,      17,  300955,  2,19980512,2224,  45.5717,  -32.3333,     5,    745.7,   7.6817,  35.1111,2,  35.1112,2, -999.000,9,    194.1,2, -999.000,9, -999.000,9, -999.000,9, -999.000,9, -999.000,9, -999.000,9, -999.000,9, -999.000,9, -999.000,9
           NA,    AR19,     39,   1,      16,  300954,  2,19980512,2224,  45.5717,  -32.3333,     5,    794.9,   6.8239,  35.0439,2,  35.0443,2, -999.000,9,    196.1,2, -999.000,9, -999.000,9, -999.000,9, -999.000,9, -999.000,9, -999.000,9, -999.000,9, -999.000,9, -999.000,9
           NA,    AR19,     39,   1,      15,  300953,  2,19980512,2224,  45.5717,  -32.3333,     5,    894.5,   5.8565,  35.0271,2,-999.0000,4, -999.000,9,   -999.0,3, -999.000,9, -999.000,9, -999.000,9, -999.000,9, -999.000,9, -999.000,9, -999.000,9, -999.000,9, -999.000,9
           NA,    AR19,     39,   1,      14,  300952,  2,19980512,2224,  45.5717,  -32.3333,     5,    996.6,   5.4867,  35.0584,2,-999.0000,4, -999.000,9,   -999.0,3, -999.000,9, -999.000,9, -999.000,9, -999.000,9, -999.000,9, -999.000,9, -999.000,9, -999.000,9, -999.000,9
           NA,    AR19,     39,   1,      11,  300949,  2,19980512,2224,  45.5717,  -32.3333,     5,   1496.4,   3.8567,  34.9306,2,  34.9339,2, -999.000,9,    277.4,2, -999.000,9, -999.000,9, -999.000,9, -999.000,9, -999.000,9, -999.000,9, -999.000,9, -999.000,9, -999.000,9
           NA,    AR19,     39,   1,      10,  300948,  2,19980512,2224,  45.5717,  -32.3333,     5,   1747.8,   3.4855,  34.9007,2,  34.9007,2, -999.000,9,    278.0,2, -999.000,9, -999.000,9, -999.000,9, -999.000,9, -999.000,9, -999.000,9, -999.000,9, -999.000,9, -999.000,9
           NA,    AR19,     39,   1,       9,  300947,  2,19980512,2224,  45.5717,  -32.3333,     5,   1999.9,   3.3163,  34.8915,2,  34.8910,2, -999.000,9,    281.3,2, -999.000,9, -999.000,9, -999.000,9, -999.000,9, -999.000,9, -999.000,9, -999.000,9, -999.000,9, -999.000,9
           NA,    AR19,     39,   1,       8,  300946,  2,19980512,2224,  45.5717,  -32.3333,     5,   2247.0,   3.1759,  34.8837,2,  34.8831,2, -999.000,9,    285.8,2, -999.000,9, -999.000,9, -999.000,9, -999.000,9, -999.000,9, -999.000,9, -999.000,9, -999.000,9, -999.000,9
           NA,    AR19,     39,   1,       7,  300945,  2,19980512,2224,  45.5717,  -32.3333,     5,   2496.0,   3.2102,  34.9133,2,  34.9136,2, -999.000,9,    276.9,2, -999.000,9, -999.000,9, -999.000,9, -999.000,9, -999.000,9, -999.000,9, -999.000,9, -999.000,9, -999.000,9
           NA,    AR19,     39,   1,       6,  300944,  2,19980512,2224,  45.5717,  -32.3333,     5,   2749.9,   3.0945,  34.9222,2,  34.9227,2, -999.000,9,    275.0,2, -999.000,9, -999.000,9, -999.000,9, -999.000,9, -999.000,9, -999.000,9, -999.000,9, -999.000,9, -999.000,9
           NA,    AR19,     39,   1,       5,  300943,  2,19980512,2224,  45.5717,  -32.3333,     5,   2999.4,   2.9399,  34.9260,2,  34.9273,2, -999.000,9,    278.2,2, -999.000,9, -999.000,9, -999.000,9, -999.000,9, -999.000,9, -999.000,9, -999.000,9, -999.000,9, -999.000,9
           NA,    AR19,     39,   1,       4,  300942,  2,19980512,2224,  45.5717,  -32.3333,     5,   3247.9,   2.7209,  34.9221,2,  34.9214,2, -999.000,9,    276.3,2, -999.000,9, -999.000,9, -999.000,9, -999.000,9, -999.000,9, -999.000,9, -999.000,9, -999.000,9, -999.000,9
           NA,    AR19,     39,   1,       3,  300941,  2,19980512,2224,  45.5717,  -32.3333,     5,   3500.1,   2.4473,  34.9112,2,  34.9100,2, -999.000,9,    276.0,2, -999.000,9, -999.000,9, -999.000,9, -999.000,9, -999.000,9, -999.000,9, -999.000,9, -999.000,9, -999.000,9
           NA,    AR19,     39,   1,       2,  300940,  2,19980512,2224,  45.5717,  -32.3333,     5,   3550.9,   2.4184,  34.9092,2,  34.9094,2, -999.000,9,    276.4,2, -999.000,9, -999.000,9, -999.000,9, -999.000,9, -999.000,9, -999.000,9, -999.000,9, -999.000,9, -999.000,9
           NA,    AR19,     39,   1,       1,  300939,  2,19980512,2224,  45.5717,  -32.3333,     5,   3584.6,   2.4148,  34.9093,2,  34.9099,2, -999.000,9,    277.3,2, -999.000,9, -999.000,9, -999.000,9, -999.000,9, -999.000,9, -999.000,9, -999.000,9, -999.000,9, -999.000,9
           NA,    AR19,     38,   1,      24,  300938,  2,19980512,1348,  45.8300,  -31.5983,    12,     10.6,  13.2258,  35.5860,2,  35.5877,2, -999.000,9,    277.3,2, -999.000,9, -999.000,9, -999.000,9, -999.000,9, -999.000,9, -999.000,9, -999.000,9, -999.000,9, -999.000,9
           NA,    AR19,     38,   1,      23,  300937,  2,19980512,1348,  45.8300,  -31.5983,    12,     49.5,  12.0829,  35.4997,2,  35.4993,2, -999.000,9,    262.1,2, -999.000,9, -999.000,9, -999.000,9, -999.000,9, -999.000,9, -999.000,9, -999.000,9, -999.000,9, -999.000,9
           NA,    AR19,     38,   1,      22,  300936,  2,19980512,1348,  45.8300,  -31.5983,    12,     99.3,  11.7681,  35.4524,2,  35.4551,2, -999.000,9,    260.7,2, -999.000,9, -999.000,9, -999.000,9, -999.000,9, -999.000,9, -999.000,9, -999.000,9, -999.000,9, -999.000,9
           NA,    AR19,     38,   1,      21,  300935,  2,19980512,1348,  45.8300,  -31.5983,    12,    198.9,  10.8583,  35.3261,2,  35.3298,2, -999.000,9,    249.8,2, -999.000,9, -999.000,9, -999.000,9, -999.000,9, -999.000,9, -999.000,9, -999.000,9, -999.000,9, -999.000,9
           NA,    AR19,     38,   1,      20,  300934,  2,19980512,1348,  45.8300,  -31.5983,    12,    298.5,  10.1642,  35.2682,2,  35.2657,2, -999.000,9,    215.0,2, -999.000,9, -999.000,9, -999.000,9, -999.000,9, -999.000,9, -999.000,9, -999.000,9, -999.000,9, -999.000,9
           NA,    AR19,     38,   1,      19,  300933,  2,19980512,1348,  45.8300,  -31.5983,    12,    398.6,   9.0398,  35.1583,2,  35.1549,2, -999.000,9,    178.2,2, -999.000,9, -999.000,9, -999.000,9, -999.000,9, -999.000,9, -999.000,9, -999.000,9, -999.000,9, -999.000,9
           NA,    AR19,     38,   1,      18,  300932,  2,19980512,1348,  45.8300,  -31.5983,    12,    501.2,   7.8451,  35.0793,2,  35.0820,2, -999.000,9,    185.0,2, -999.000,9, -999.000,9, -999.000,9, -999.000,9, -999.000,9, -999.000,9, -999.000,9, -999.000,9, -999.000,9
           NA,    AR19,     38,   1,      17,  300931,  2,19980512,1348,  45.8300,  -31.5983,    12,    599.6,   6.3070,  34.9647,2,  34.9669,2, -999.000,9,    208.8,2, -999.000,9, -999.000,9, -999.000,9, -999.000,9, -999.000,9, -999.000,9, -999.000,9, -999.000,9, -999.000,9
           NA,    AR19,     38,   1,      16,  300930,  2,19980512,1348,  45.8300,  -31.5983,    12,    698.6,   5.9770,  35.0253,2,  35.0292,2, -999.000,9,    216.4,2, -999.000,9, -999.000,9, -999.000,9, -999.000,9, -999.000,9, -999.000,9, -999.000,9, -999.000,9, -999.000,9
           NA,    AR19,     38,   1,      15,  300929,  2,19980512,1348,  45.8300,  -31.5983,    12,    797.1,   5.6924,  35.0766,2,  35.0793,2, -999.000,9,    227.4,2, -999.000,9, -999.000,9, -999.000,9, -999.000,9, -999.000,9, -999.000,9, -999.000,9, -999.000,9, -999.000,9
           NA,    AR19,     38,   1,      14,  300928,  2,19980512,1348,  45.8300,  -31.5983,    12,    898.1,   5.0442,  35.0238,2,  35.0259,2, -999.000,9,    240.1,2, -999.000,9, -999.000,9, -999.000,9, -999.000,9, -999.000,9, -999.000,9, -999.000,9, -999.000,9, -999.000,9
           NA,    AR19,     38,   1,      13,  300927,  2,19980512,1348,  45.8300,  -31.5983,    12,    999.7,   4.7060,  35.0043,2,  35.0060,2, -999.000,9,    248.5,2, -999.000,9, -999.000,9, -999.000,9, -999.000,9, -999.000,9, -999.000,9, -999.000,9, -999.000,9, -999.000,9
           NA,    AR19,     38,   1,      12,  300926,  2,19980512,1348,  45.8300,  -31.5983,    12,   1248.1,   3.9848,  34.9413,2,  34.9441,2, -999.000,9,    265.9,2, -999.000,9, -999.000,9, -999.000,9, -999.000,9, -999.000,9, -999.000,9, -999.000,9, -999.000,9, -999.000,9
           NA,    AR19,     38,   1,      11,  300925,  2,19980512,1348,  45.8300,  -31.5983,    12,   1498.3,   3.6297,  34.9138,2,  34.9147,2, -999.000,9,    274.4,2, -999.000,9, -999.000,9, -999.000,9, -999.000,9, -999.000,9, -999.000,9, -999.000,9, -999.000,9, -999.000,9
           NA,    AR19,     38,   1,      10,  300924,  2,19980512,1348,  45.8300,  -31.5983,    12,   1797.7,   3.3818,  34.8963,2,  34.8960,2, -999.000,9,    279.8,2, -999.000,9, -999.000,9, -999.000,9, -999.000,9, -999.000,9, -999.000,9, -999.000,9, -999.000,9, -999.000,9
           NA,    AR19,     38,   1,       9,  300923,  2,19980512,1348,  45.8300,  -31.5983,    12,   2097.2,   3.1564,  34.8791,2,  34.8787,2, -999.000,9,   -999.0,3, -999.000,9, -999.000,9, -999.000,9, -999.000,9, -999.000,9, -999.000,9, -999.000,9, -999.000,9, -999.000,9
           NA,    AR19,     38,   1,       8,  300922,  2,19980512,1348,  45.8300,  -31.5983,    12,   2248.6,   3.2467,  34.9097,2,  34.9098,2, -999.000,9,    276.9,2, -999.000,9, -999.000,9, -999.000,9, -999.000,9, -999.000,9, -999.000,9, -999.000,9, -999.000,9, -999.000,9
           NA,    AR19,     38,   1,       7,  300921,  2,19980512,1348,  45.8300,  -31.5983,    12,   2499.6,   3.1366,  34.9179,2,  34.9190,2, -999.000,9,    275.9,2, -999.000,9, -999.000,9, -999.000,9, -999.000,9, -999.000,9, -999.000,9, -999.000,9, -999.000,9, -999.000,9
           NA,    AR19,     38,   1,       6,  300920,  2,19980512,1348,  45.8300,  -31.5983,    12,   2749.4,   2.9819,  34.9266,2,  34.9261,2, -999.000,9,    274.1,2, -999.000,9, -999.000,9, -999.000,9, -999.000,9, -999.000,9, -999.000,9, -999.000,9, -999.000,9, -999.000,9
           NA,    AR19,     38,   1,       5,  300919,  2,19980512,1348,  45.8300,  -31.5983,    12,   2999.7,   2.8749,  34.9269,2,  34.9265,2, -999.000,9,    275.9,2, -999.000,9, -999.000,9, -999.000,9, -999.000,9, -999.000,9, -999.000,9, -999.000,9, -999.000,9, -999.000,9
           NA,    AR19,     38,   1,       4,  300918,  2,19980512,1348,  45.8300,  -31.5983,    12,   3248.7,   2.6885,  34.9219,2,  34.9224,2, -999.000,9,    273.7,2, -999.000,9, -999.000,9, -999.000,9, -999.000,9, -999.000,9, -999.000,9, -999.000,9, -999.000,9, -999.000,9
           NA,    AR19,     38,   1,       3,  300917,  2,19980512,1348,  45.8300,  -31.5983,    12,   3568.2,   2.5445,  34.9159,2,  34.9160,2, -999.000,9,    274.9,2, -999.000,9, -999.000,9, -999.000,9, -999.000,9, -999.000,9, -999.000,9, -999.000,9, -999.000,9, -999.000,9
           NA,    AR19,     38,   1,       2,  300916,  2,19980512,1348,  45.8300,  -31.5983,    12,   3656.6,   2.5275,  34.9146,2,  34.9139,2, -999.000,9,    275.3,2, -999.000,9, -999.000,9, -999.000,9, -999.000,9, -999.000,9, -999.000,9, -999.000,9, -999.000,9, -999.000,9
           NA,    AR19,     38,   1,       1,  300915,  2,19980512,1348,  45.8300,  -31.5983,    12,   3676.2,   2.5259,  34.9145,2,  34.9141,2, -999.000,9,    274.6,2, -999.000,9, -999.000,9, -999.000,9, -999.000,9, -999.000,9, -999.000,9, -999.000,9, -999.000,9, -999.000,9