BOTTLE,20214525JOAExport
EXPOCODE,SECT_ID,STNNBR,CASTNO,SAMPNO,BTLNBR,BTLNBR_FLAG_W,DATE,TIME,LATITUDE,LONGITUDE,DEPTH,CTDPRS,CTDTMP,CTDSAL,CTDSAL_FLAG_W,SALNTY,SALNTY_FLAG_W,CTDOXY,CTDOXY_FLAG_W,OXYGEN,OXYGEN_FLAG_W,SILCAT,SILCAT_FLAG_W,NITRAT,NITRAT_FLAG_W,NITRIT,NITRIT_FLAG_W,PHSPHT,PHSPHT_FLAG_W,CFC-11,CFC-11_FLAG_W,CFC-12,CFC-12_FLAG_W,SF6,SF6_FLAG_W,TCARBN,TCARBN_FLAG_W,ALKALI,ALKALI_FLAG_W
,,,,,,,,,,,,DB,ITS-90,PSS-78,,PSS-78,,UMOL/KG,,UMOL/KG,,UMOL/KG,,UMOL/KG,,UMOL/KG,,UMOL/KG,,PMOL/KG,,PMOL/KG,,FMOL/KG,,UMOL/KG,,UMOL/KG
           NA,    AR19,     10,   1,      24,  300218,  2,19980503,1025,  48.9283,  -13.2850,     8,      9.4,  11.6698,  35.5950,2,  35.5956,2, -999.000,9,    274.4,2, -999.000,9, -999.000,9, -999.000,9, -999.000,9, -999.000,9, -999.000,9, -999.000,9, -999.000,9, -999.000,9
           NA,    AR19,     10,   1,      23,  300217,  2,19980503,1025,  48.9283,  -13.2850,     8,     50.1,  11.6283,  35.5937,2,  35.5950,2, -999.000,9,    270.9,2, -999.000,9, -999.000,9, -999.000,9, -999.000,9, -999.000,9, -999.000,9, -999.000,9, -999.000,9, -999.000,9
           NA,    AR19,     10,   1,      22,  300216,  2,19980503,1025,  48.9283,  -13.2850,     8,    100.2,  11.5314,  35.5921,2,  35.5933,2, -999.000,9,   -999.0,3, -999.000,9, -999.000,9, -999.000,9, -999.000,9, -999.000,9, -999.000,9, -999.000,9, -999.000,9, -999.000,9
           NA,    AR19,     10,   1,      21,  300215,  2,19980503,1025,  48.9283,  -13.2850,     8,    198.3,  11.3272,  35.5801,2,  35.5800,2, -999.000,9,    237.0,2, -999.000,9, -999.000,9, -999.000,9, -999.000,9, -999.000,9, -999.000,9, -999.000,9, -999.000,9, -999.000,9
           NA,    AR19,     10,   1,      20,  300214,  2,19980503,1025,  48.9283,  -13.2850,     8,    398.1,  10.9660,  35.5285,2,  35.5274,2, -999.000,9,   -999.0,3, -999.000,9, -999.000,9, -999.000,9, -999.000,9, -999.000,9, -999.000,9, -999.000,9, -999.000,9, -999.000,9
           NA,    AR19,     10,   1,      19,  300213,  2,19980503,1025,  48.9283,  -13.2850,     8,    518.8,  10.5624,  35.4964,2,  35.4967,2, -999.000,9,    223.9,2, -999.000,9, -999.000,9, -999.000,9, -999.000,9, -999.000,9, -999.000,9, -999.000,9, -999.000,9, -999.000,9
           NA,    AR19,     10,   1,      18,  300212,  2,19980503,1025,  48.9283,  -13.2850,     8,    668.2,  10.1294,  35.5225,2,-999.0000,3, -999.000,9,    204.8,2, -999.000,9, -999.000,9, -999.000,9, -999.000,9, -999.000,9, -999.000,9, -999.000,9, -999.000,9, -999.000,9
           NA,    AR19,     10,   1,      17,  300211,  2,19980503,1025,  48.9283,  -13.2850,     8,    698.4,   9.9067,  35.5122,2,  35.5101,2, -999.000,9,    203.4,2, -999.000,9, -999.000,9, -999.000,9, -999.000,9, -999.000,9, -999.000,9, -999.000,9, -999.000,9, -999.000,9
           NA,    AR19,     10,   1,      16,  300210,  2,19980503,1025,  48.9283,  -13.2850,     8,    788.3,   9.3879,  35.4981,2,  35.4956,2, -999.000,9,    194.3,2, -999.000,9, -999.000,9, -999.000,9, -999.000,9, -999.000,9, -999.000,9, -999.000,9, -999.000,9, -999.000,9
           NA,    AR19,     10,   1,      15,  300209,  2,19980503,1025,  48.9283,  -13.2850,     8,    978.1,   8.6498,  35.5253,2,  35.5231,2, -999.000,9,    196.4,2, -999.000,9, -999.000,9, -999.000,9, -999.000,9, -999.000,9, -999.000,9, -999.000,9, -999.000,9, -999.000,9
           NA,    AR19,     10,   1,      14,  300208,  2,19980503,1025,  48.9283,  -13.2850,     8,   1245.4,   7.0237,  35.3717,2,  35.3698,2, -999.000,9,    214.7,2, -999.000,9, -999.000,9, -999.000,9, -999.000,9, -999.000,9, -999.000,9, -999.000,9, -999.000,9, -999.000,9
           NA,    AR19,     10,   1,      13,  300207,  2,19980503,1025,  48.9283,  -13.2850,     8,   1496.8,   4.9913,  35.0874,2,  35.0886,2, -999.000,9,    242.9,2, -999.000,9, -999.000,9, -999.000,9, -999.000,9, -999.000,9, -999.000,9, -999.000,9, -999.000,9, -999.000,9
           NA,    AR19,     10,   1,      12,  300206,  2,19980503,1025,  48.9283,  -13.2850,     8,   1677.6,   4.2599,  35.0130,2,  35.0137,2, -999.000,9,    257.2,2, -999.000,9, -999.000,9, -999.000,9, -999.000,9, -999.000,9, -999.000,9, -999.000,9, -999.000,9, -999.000,9
           NA,    AR19,     10,   1,      11,  300205,  2,19980503,1025,  48.9283,  -13.2850,     8,   1897.7,   3.7708,  34.9691,2,  34.9693,2, -999.000,9,    261.6,2, -999.000,9, -999.000,9, -999.000,9, -999.000,9, -999.000,9, -999.000,9, -999.000,9, -999.000,9, -999.000,9
           NA,    AR19,     10,   1,      10,  300204,  2,19980503,1025,  48.9283,  -13.2850,     8,   1997.0,   3.4565,  34.9431,2,  34.9435,2, -999.000,9,   -999.0,3, -999.000,9, -999.000,9, -999.000,9, -999.000,9, -999.000,9, -999.000,9, -999.000,9, -999.000,9, -999.000,9
           NA,    AR19,     10,   1,       9,  300203,  2,19980503,1025,  48.9283,  -13.2850,     8,   2097.5,   3.2956,  34.9478,2,  34.9486,2, -999.000,9,    261.6,2, -999.000,9, -999.000,9, -999.000,9, -999.000,9, -999.000,9, -999.000,9, -999.000,9, -999.000,9, -999.000,9
           NA,    AR19,     10,   1,       8,  300202,  2,19980503,1025,  48.9283,  -13.2850,     8,   2297.9,   3.1294,  34.9588,2,  34.9580,2, -999.000,9,    253.3,2, -999.000,9, -999.000,9, -999.000,9, -999.000,9, -999.000,9, -999.000,9, -999.000,9, -999.000,9, -999.000,9
           NA,    AR19,     10,   1,       7,  300201,  2,19980503,1025,  48.9283,  -13.2850,     8,   2496.3,   2.9739,  34.9542,2,  34.9536,2, -999.000,9,    249.8,2, -999.000,9, -999.000,9, -999.000,9, -999.000,9, -999.000,9, -999.000,9, -999.000,9, -999.000,9, -999.000,9
           NA,    AR19,     10,   1,       6,  300200,  2,19980503,1025,  48.9283,  -13.2850,     8,   2798.2,   2.8007,  34.9428,2,  34.9417,2, -999.000,9,   -999.0,3, -999.000,9, -999.000,9, -999.000,9, -999.000,9, -999.000,9, -999.000,9, -999.000,9, -999.000,9, -999.000,9
           NA,    AR19,     10,   1,       5,  300199,  2,19980503,1025,  48.9283,  -13.2850,     8,   2998.5,   2.7454,  34.9376,2,  34.9353,2, -999.000,9,    244.6,2, -999.000,9, -999.000,9, -999.000,9, -999.000,9, -999.000,9, -999.000,9, -999.000,9, -999.000,9, -999.000,9
           NA,    AR19,     10,   1,       4,  300198,  2,19980503,1025,  48.9283,  -13.2850,     8,   3298.3,   2.6576,  34.9294,2,  34.9283,2, -999.000,9,    243.3,2, -999.000,9, -999.000,9, -999.000,9, -999.000,9, -999.000,9, -999.000,9, -999.000,9, -999.000,9, -999.000,9
           NA,    AR19,     10,   1,       3,  300197,  2,19980503,1025,  48.9283,  -13.2850,     8,   3678.6,   2.5295,  34.9156,2,  34.9144,2, -999.000,9,    241.1,2, -999.000,9, -999.000,9, -999.000,9, -999.000,9, -999.000,9, -999.000,9, -999.000,9, -999.000,9, -999.000,9
           NA,    AR19,     10,   1,       2,  300196,  2,19980503,1025,  48.9283,  -13.2850,     8,   3762.6,   2.5006,  34.9114,2,  34.9117,2, -999.000,9,    240.7,2, -999.000,9, -999.000,9, -999.000,9, -999.000,9, -999.000,9, -999.000,9, -999.000,9, -999.000,9, -999.000,9
           NA,    AR19,     10,   1,       1,  300195,  2,19980503,1025,  48.9283,  -13.2850,     8,   3778.4,   2.4998,  34.9113,2,  34.9104,2, -999.000,9,    240.3,2, -999.000,9, -999.000,9, -999.000,9, -999.000,9, -999.000,9, -999.000,9, -999.000,9, -999.000,9, -999.000,9
           NA,    AR19,      9,   1,      24,  300194,  2,19980503,0617,  49.0117,  -13.0417,    12,      9.6,  11.6309,  35.5843,2,  35.5839,2, -999.000,9,    276.2,2, -999.000,9, -999.000,9, -999.000,9, -999.000,9, -999.000,9, -999.000,9, -999.000,9, -999.000,9, -999.000,9
           NA,    AR19,      9,   1,      23,  300193,  2,19980503,0617,  49.0117,  -13.0417,    12,     48.3,  11.5817,  35.5857,2,  35.5864,2, -999.000,9,    271.0,2, -999.000,9, -999.000,9, -999.000,9, -999.000,9, -999.000,9, -999.000,9, -999.000,9, -999.000,9, -999.000,9
           NA,    AR19,      9,   1,      22,  300192,  2,19980503,0617,  49.0117,  -13.0417,    12,    100.3,  11.3711,  35.5786,2,  35.5795,2, -999.000,9,    259.8,2, -999.000,9, -999.000,9, -999.000,9, -999.000,9, -999.000,9, -999.000,9, -999.000,9, -999.000,9, -999.000,9
           NA,    AR19,      9,   1,      21,  300191,  2,19980503,0617,  49.0117,  -13.0417,    12,    199.0,  11.2655,  35.5708,2,  35.5716,2, -999.000,9,    257.4,2, -999.000,9, -999.000,9, -999.000,9, -999.000,9, -999.000,9, -999.000,9, -999.000,9, -999.000,9, -999.000,9
           NA,    AR19,      9,   1,      20,  300190,  2,19980503,0617,  49.0117,  -13.0417,    12,    298.5,  11.2383,  35.5671,2,  35.5678,2, -999.000,9,    257.2,2, -999.000,9, -999.000,9, -999.000,9, -999.000,9, -999.000,9, -999.000,9, -999.000,9, -999.000,9, -999.000,9
           NA,    AR19,      9,   1,      19,  300189,  2,19980503,0617,  49.0117,  -13.0417,    12,    594.9,  10.0873,  35.4546,2,  35.4541,2, -999.000,9,    214.3,2, -999.000,9, -999.000,9, -999.000,9, -999.000,9, -999.000,9, -999.000,9, -999.000,9, -999.000,9, -999.000,9
           NA,    AR19,      9,   1,      18,  300188,  2,19980503,0617,  49.0117,  -13.0417,    12,    716.1,   9.9084,  35.5252,2,-999.0000,4, -999.000,9,    204.0,2, -999.000,9, -999.000,9, -999.000,9, -999.000,9, -999.000,9, -999.000,9, -999.000,9, -999.000,9, -999.000,9
           NA,    AR19,      9,   1,      17,  300187,  2,19980503,0617,  49.0117,  -13.0417,    12,    747.1,   9.8134,  35.5437,2,  35.5408,2, -999.000,9,    199.1,2, -999.000,9, -999.000,9, -999.000,9, -999.000,9, -999.000,9, -999.000,9, -999.000,9, -999.000,9, -999.000,9
           NA,    AR19,      9,   1,      16,  300186,  2,19980503,0617,  49.0117,  -13.0417,    12,    897.8,   9.3696,  35.5970,2,  35.5949,2, -999.000,9,    195.3,2, -999.000,9, -999.000,9, -999.000,9, -999.000,9, -999.000,9, -999.000,9, -999.000,9, -999.000,9, -999.000,9
           NA,    AR19,      9,   1,      15,  300185,  2,19980503,0617,  49.0117,  -13.0417,    12,    997.7,   8.5248,  35.5194,2,  35.5174,2, -999.000,9,    198.4,2, -999.000,9, -999.000,9, -999.000,9, -999.000,9, -999.000,9, -999.000,9, -999.000,9, -999.000,9, -999.000,9
           NA,    AR19,      9,   1,      14,  300184,  2,19980503,0617,  49.0117,  -13.0417,    12,   1248.7,   6.7322,  35.3055,2,  35.3046,2, -999.000,9,    217.7,2, -999.000,9, -999.000,9, -999.000,9, -999.000,9, -999.000,9, -999.000,9, -999.000,9, -999.000,9, -999.000,9
           NA,    AR19,      9,   1,      13,  300183,  2,19980503,0617,  49.0117,  -13.0417,    12,   1498.2,   4.5448,  35.0109,2,  35.0098,2, -999.000,9,    251.6,2, -999.000,9, -999.000,9, -999.000,9, -999.000,9, -999.000,9, -999.000,9, -999.000,9, -999.000,9, -999.000,9
           NA,    AR19,      9,   1,      12,  300182,  2,19980503,0617,  49.0117,  -13.0417,    12,   1572.6,   4.2465,  34.9820,2,  34.9818,2, -999.000,9,    257.1,2, -999.000,9, -999.000,9, -999.000,9, -999.000,9, -999.000,9, -999.000,9, -999.000,9, -999.000,9, -999.000,9
           NA,    AR19,      9,   1,      11,  300181,  2,19980503,0617,  49.0117,  -13.0417,    12,   1697.9,   3.8245,  34.9337,2,  34.9370,2, -999.000,9,   -999.0,3, -999.000,9, -999.000,9, -999.000,9, -999.000,9, -999.000,9, -999.000,9, -999.000,9, -999.000,9, -999.000,9
           NA,    AR19,      9,   1,      10,  300180,  2,19980503,0617,  49.0117,  -13.0417,    12,   1800.0,   3.7048,  34.9330,2,  34.9341,2, -999.000,9,    268.1,2, -999.000,9, -999.000,9, -999.000,9, -999.000,9, -999.000,9, -999.000,9, -999.000,9, -999.000,9, -999.000,9
           NA,    AR19,      9,   1,       9,  300179,  2,19980503,0617,  49.0117,  -13.0417,    12,   1897.6,   3.7554,  34.9625,2,  34.9636,2, -999.000,9,    262.3,2, -999.000,9, -999.000,9, -999.000,9, -999.000,9, -999.000,9, -999.000,9, -999.000,9, -999.000,9, -999.000,9
           NA,    AR19,      9,   1,       8,  300178,  2,19980503,0617,  49.0117,  -13.0417,    12,   1996.0,   3.6235,  34.9692,2,  34.9696,2, -999.000,9,    258.8,2, -999.000,9, -999.000,9, -999.000,9, -999.000,9, -999.000,9, -999.000,9, -999.000,9, -999.000,9, -999.000,9
           NA,    AR19,      9,   1,       7,  300177,  2,19980503,0617,  49.0117,  -13.0417,    12,   2248.4,   3.3328,  34.9627,2,  34.9639,2, -999.000,9,    252.6,2, -999.000,9, -999.000,9, -999.000,9, -999.000,9, -999.000,9, -999.000,9, -999.000,9, -999.000,9, -999.000,9
           NA,    AR19,      9,   1,       6,  300176,  2,19980503,0617,  49.0117,  -13.0417,    12,   2496.2,   3.0638,  34.9536,2,  34.9529,2, -999.000,9,    249.2,2, -999.000,9, -999.000,9, -999.000,9, -999.000,9, -999.000,9, -999.000,9, -999.000,9, -999.000,9, -999.000,9
           NA,    AR19,      9,   1,       5,  300175,  2,19980503,0617,  49.0117,  -13.0417,    12,   2748.9,   2.8831,  34.9427,2,  34.9424,2, -999.000,9,    247.6,2, -999.000,9, -999.000,9, -999.000,9, -999.000,9, -999.000,9, -999.000,9, -999.000,9, -999.000,9, -999.000,9
           NA,    AR19,      9,   1,       4,  300174,  2,19980503,0617,  49.0117,  -13.0417,    12,   2997.6,   2.8114,  34.9369,2,  34.9364,2, -999.000,9,    246.3,2, -999.000,9, -999.000,9, -999.000,9, -999.000,9, -999.000,9, -999.000,9, -999.000,9, -999.000,9, -999.000,9
           NA,    AR19,      9,   1,       3,  300173,  2,19980503,0617,  49.0117,  -13.0417,    12,   3236.2,   2.6519,  34.9243,2,  34.9225,2, -999.000,9,    244.5,2, -999.000,9, -999.000,9, -999.000,9, -999.000,9, -999.000,9, -999.000,9, -999.000,9, -999.000,9, -999.000,9
           NA,    AR19,      9,   1,       2,  300172,  2,19980503,0617,  49.0117,  -13.0417,    12,   3291.1,   2.6257,  34.9218,2,  34.9222,2, -999.000,9,    244.5,2, -999.000,9, -999.000,9, -999.000,9, -999.000,9, -999.000,9, -999.000,9, -999.000,9, -999.000,9, -999.000,9
           NA,    AR19,      9,   1,       1,  300171,  2,19980503,0617,  49.0117,  -13.0417,    12,   3312.5,   2.5937,  34.9188,2,  34.9185,2, -999.000,9,    243.0,2, -999.000,9, -999.000,9, -999.000,9, -999.000,9, -999.000,9, -999.000,9, -999.000,9, -999.000,9, -999.000,9