BOTTLE,20214525JOAExport
EXPOCODE,SECT_ID,STNNBR,CASTNO,SAMPNO,BTLNBR,BTLNBR_FLAG_W,DATE,TIME,LATITUDE,LONGITUDE,DEPTH,CTDPRS,CTDTMP,CTDSAL,CTDSAL_FLAG_W,SALNTY,SALNTY_FLAG_W,CTDOXY,CTDOXY_FLAG_W,OXYGEN,OXYGEN_FLAG_W,SILCAT,SILCAT_FLAG_W,NITRAT,NITRAT_FLAG_W,NITRIT,NITRIT_FLAG_W,PHSPHT,PHSPHT_FLAG_W,CFC-11,CFC-11_FLAG_W,CFC-12,CFC-12_FLAG_W,SF6,SF6_FLAG_W,TCARBN,TCARBN_FLAG_W,ALKALI,ALKALI_FLAG_W
,,,,,,,,,,,,DB,ITS-90,PSS-78,,PSS-78,,UMOL/KG,,UMOL/KG,,UMOL/KG,,UMOL/KG,,UMOL/KG,,UMOL/KG,,PMOL/KG,,PMOL/KG,,FMOL/KG,,UMOL/KG,,UMOL/KG
           NA,    AR19,      4,   1,       1,  300097,  2,19980502,1217,  49.1850,  -11.4367,     8,      9.1,  11.5027,  35.5691,2,  35.5697,2, -999.000,9,    278.7,2, -999.000,9, -999.000,9, -999.000,9, -999.000,9, -999.000,9, -999.000,9, -999.000,9, -999.000,9, -999.000,9
           NA,    AR19,      4,   1,      24,  300096,  2,19980502,1217,  49.1850,  -11.4367,     8,     48.8,  11.3751,  35.5724,2,  35.5726,2, -999.000,9,    271.0,2, -999.000,9, -999.000,9, -999.000,9, -999.000,9, -999.000,9, -999.000,9, -999.000,9, -999.000,9, -999.000,9
           NA,    AR19,      4,   1,      23,  300095,  2,19980502,1217,  49.1850,  -11.4367,     8,    100.2,  11.2816,  35.5742,2,  35.5750,2, -999.000,9,    260.3,2, -999.000,9, -999.000,9, -999.000,9, -999.000,9, -999.000,9, -999.000,9, -999.000,9, -999.000,9, -999.000,9
           NA,    AR19,      4,   1,      22,  300094,  2,19980502,1217,  49.1850,  -11.4367,     8,    148.7,  11.2550,  35.5704,2,  35.5711,2, -999.000,9,    258.4,2, -999.000,9, -999.000,9, -999.000,9, -999.000,9, -999.000,9, -999.000,9, -999.000,9, -999.000,9, -999.000,9
           NA,    AR19,      4,   1,      21,  300093,  2,19980502,1217,  49.1850,  -11.4367,     8,    198.8,  11.2241,  35.5684,2,  35.5683,2, -999.000,9,    257.1,2, -999.000,9, -999.000,9, -999.000,9, -999.000,9, -999.000,9, -999.000,9, -999.000,9, -999.000,9, -999.000,9
           NA,    AR19,      4,   1,      20,  300092,  2,19980502,1217,  49.1850,  -11.4367,     8,    249.0,  11.1966,  35.5654,2,  35.5651,2, -999.000,9,    255.0,2, -999.000,9, -999.000,9, -999.000,9, -999.000,9, -999.000,9, -999.000,9, -999.000,9, -999.000,9, -999.000,9
           NA,    AR19,      4,   1,      19,  300091,  2,19980502,1217,  49.1850,  -11.4367,     8,    298.9,  11.0984,  35.5553,2,  35.5557,2, -999.000,9,    251.2,2, -999.000,9, -999.000,9, -999.000,9, -999.000,9, -999.000,9, -999.000,9, -999.000,9, -999.000,9, -999.000,9
           NA,    AR19,      4,   1,      18,  300090,  2,19980502,1217,  49.1850,  -11.4367,     8,    349.3,  11.0555,  35.5513,2,  35.5508,2, -999.000,9,    248.7,2, -999.000,9, -999.000,9, -999.000,9, -999.000,9, -999.000,9, -999.000,9, -999.000,9, -999.000,9, -999.000,9
           NA,    AR19,      4,   1,      17,  300089,  2,19980502,1217,  49.1850,  -11.4367,     8,    398.9,  11.0043,  35.5457,2,  35.5461,2, -999.000,9,    246.8,2, -999.000,9, -999.000,9, -999.000,9, -999.000,9, -999.000,9, -999.000,9, -999.000,9, -999.000,9, -999.000,9
           NA,    AR19,      4,   1,      16,  300088,  2,19980502,1217,  49.1850,  -11.4367,     8,    448.5,  10.9395,  35.5366,2,  35.5351,2, -999.000,9,    243.0,2, -999.000,9, -999.000,9, -999.000,9, -999.000,9, -999.000,9, -999.000,9, -999.000,9, -999.000,9, -999.000,9
           NA,    AR19,      4,   1,      15,  300087,  2,19980502,1217,  49.1850,  -11.4367,     8,    485.7,  10.9182,  35.5337,2,  35.5332,2, -999.000,9,    242.2,2, -999.000,9, -999.000,9, -999.000,9, -999.000,9, -999.000,9, -999.000,9, -999.000,9, -999.000,9, -999.000,9
           NA,    AR19,      3,   1,      14,  300086,  2,19980502,1014,  49.2050,  -11.1850,     5,      9.9,  11.4464,  35.5756,2,  35.5729,2, -999.000,9,    277.8,2, -999.000,9, -999.000,9, -999.000,9, -999.000,9, -999.000,9, -999.000,9, -999.000,9, -999.000,9, -999.000,9
           NA,    AR19,      3,   1,      13,  300085,  2,19980502,1014,  49.2050,  -11.1850,     5,     40.4,  11.4209,  35.5746,2,  35.5737,2, -999.000,9,    276.5,2, -999.000,9, -999.000,9, -999.000,9, -999.000,9, -999.000,9, -999.000,9, -999.000,9, -999.000,9, -999.000,9
           NA,    AR19,      3,   1,      12,  300084,  2,19980502,1014,  49.2050,  -11.1850,     5,     59.1,  11.4046,  35.5739,2,  35.5731,2, -999.000,9,    271.8,2, -999.000,9, -999.000,9, -999.000,9, -999.000,9, -999.000,9, -999.000,9, -999.000,9, -999.000,9, -999.000,9
           NA,    AR19,      3,   1,      11,  300083,  2,19980502,1014,  49.2050,  -11.1850,     5,     89.0,  11.3690,  35.5732,2,  35.5731,2, -999.000,9,    270.9,2, -999.000,9, -999.000,9, -999.000,9, -999.000,9, -999.000,9, -999.000,9, -999.000,9, -999.000,9, -999.000,9
           NA,    AR19,      3,   1,      10,  300082,  2,19980502,1014,  49.2050,  -11.1850,     5,    129.0,  11.2181,  35.5805,2,  35.5816,2, -999.000,9,   -999.0,3, -999.000,9, -999.000,9, -999.000,9, -999.000,9, -999.000,9, -999.000,9, -999.000,9, -999.000,9, -999.000,9
           NA,    AR19,      3,   1,       9,  300081,  2,19980502,1014,  49.2050,  -11.1850,     5,    158.8,  11.1988,  35.5793,2,  35.5793,2, -999.000,9,    254.8,2, -999.000,9, -999.000,9, -999.000,9, -999.000,9, -999.000,9, -999.000,9, -999.000,9, -999.000,9, -999.000,9
           NA,    AR19,      3,   1,       8,  300080,  2,19980502,1014,  49.2050,  -11.1850,     5,    186.9,  11.1940,  35.5814,2,  35.5818,2, -999.000,9,    254.3,2, -999.000,9, -999.000,9, -999.000,9, -999.000,9, -999.000,9, -999.000,9, -999.000,9, -999.000,9, -999.000,9
           NA,    AR19,      2,   2,       7,  300079,  2,19980502,0714,  49.2400,  -10.6633,     5,     10.1,  11.1614,  35.5358,2,  35.5355,2, -999.000,9,    281.7,2, -999.000,9, -999.000,9, -999.000,9, -999.000,9, -999.000,9, -999.000,9, -999.000,9, -999.000,9, -999.000,9
           NA,    AR19,      2,   2,       6,  300078,  2,19980502,0714,  49.2400,  -10.6633,     5,     23.2,  11.1603,  35.5353,2,  35.5356,2, -999.000,9,    281.4,2, -999.000,9, -999.000,9, -999.000,9, -999.000,9, -999.000,9, -999.000,9, -999.000,9, -999.000,9, -999.000,9
           NA,    AR19,      2,   2,       5,  300077,  2,19980502,0714,  49.2400,  -10.6633,     5,     50.3,  11.1655,  35.5518,2,  35.5549,2, -999.000,9,    274.8,2, -999.000,9, -999.000,9, -999.000,9, -999.000,9, -999.000,9, -999.000,9, -999.000,9, -999.000,9, -999.000,9
           NA,    AR19,      2,   2,       3,  300075,  2,19980502,0714,  49.2400,  -10.6633,     5,     98.8,  11.0335,  35.5693,2,  35.5690,2, -999.000,9,    261.6,2, -999.000,9, -999.000,9, -999.000,9, -999.000,9, -999.000,9, -999.000,9, -999.000,9, -999.000,9, -999.000,9
           NA,    AR19,      2,   2,       2,  300074,  2,19980502,0714,  49.2400,  -10.6633,     5,    118.7,  11.0347,  35.5694,2,  35.5696,2, -999.000,9,   -999.0,3, -999.000,9, -999.000,9, -999.000,9, -999.000,9, -999.000,9, -999.000,9, -999.000,9, -999.000,9, -999.000,9
           NA,    AR19,      2,   2,       4,  300076,  2,19980502,0714,  49.2400,  -10.6633,     5,    151.0,  11.0364,  35.5696,2,  35.5697,2, -999.000,9,    262.3,2, -999.000,9, -999.000,9, -999.000,9, -999.000,9, -999.000,9, -999.000,9, -999.000,9, -999.000,9, -999.000,9