BOTTLE,20214525JOAExport
EXPOCODE,SECT_ID,STNNBR,CASTNO,SAMPNO,BTLNBR,BTLNBR_FLAG_W,DATE,TIME,LATITUDE,LONGITUDE,DEPTH,CTDPRS,CTDTMP,CTDSAL,CTDSAL_FLAG_W,SALNTY,SALNTY_FLAG_W,CTDOXY,CTDOXY_FLAG_W,OXYGEN,OXYGEN_FLAG_W,SILCAT,SILCAT_FLAG_W,NITRAT,NITRAT_FLAG_W,NITRIT,NITRIT_FLAG_W,PHSPHT,PHSPHT_FLAG_W,CFC-11,CFC-11_FLAG_W,CFC-12,CFC-12_FLAG_W,SF6,SF6_FLAG_W,TCARBN,TCARBN_FLAG_W,ALKALI,ALKALI_FLAG_W
,,,,,,,,,,,,DB,ITS-90,PSS-78,,PSS-78,,UMOL/KG,,UMOL/KG,,UMOL/KG,,UMOL/KG,,UMOL/KG,,UMOL/KG,,PMOL/KG,,PMOL/KG,,FMOL/KG,,UMOL/KG,,UMOL/KG
           NA,    AR19,     50,   1,      24,  301250,  2,19980516,0742,  42.9300,  -41.7933,    12,      9.6,  16.5161,  36.0831,2,  36.0825,2, -999.000,9,    239.3,2, -999.000,9, -999.000,9, -999.000,9, -999.000,9, -999.000,9, -999.000,9, -999.000,9, -999.000,9, -999.000,9
           NA,    AR19,     50,   1,      23,  301249,  2,19980516,0742,  42.9300,  -41.7933,    12,     49.1,  16.6839,  36.1468,2,  36.1490,2, -999.000,9,    236.2,2, -999.000,9, -999.000,9, -999.000,9, -999.000,9, -999.000,9, -999.000,9, -999.000,9, -999.000,9, -999.000,9
           NA,    AR19,     50,   1,      22,  301248,  2,19980516,0742,  42.9300,  -41.7933,    12,     95.1,  15.7153,  36.0077,2,-999.0000,3, -999.000,9,    215.3,2, -999.000,9, -999.000,9, -999.000,9, -999.000,9, -999.000,9, -999.000,9, -999.000,9, -999.000,9, -999.000,9
           NA,    AR19,     50,   1,      21,  301247,  2,19980516,0742,  42.9300,  -41.7933,    12,    197.9,  14.8050,  35.9331,2,  35.9327,2, -999.000,9,   -999.0,3, -999.000,9, -999.000,9, -999.000,9, -999.000,9, -999.000,9, -999.000,9, -999.000,9, -999.000,9, -999.000,9
           NA,    AR19,     50,   1,      20,  301246,  2,19980516,0742,  42.9300,  -41.7933,    12,    397.8,  13.1463,  35.7072,2,  35.7069,2, -999.000,9,    215.4,2, -999.000,9, -999.000,9, -999.000,9, -999.000,9, -999.000,9, -999.000,9, -999.000,9, -999.000,9, -999.000,9
           NA,    AR19,     50,   1,      19,  301245,  2,19980516,0742,  42.9300,  -41.7933,    12,    597.3,   9.6819,  35.2394,2,-999.0000,4, -999.000,9,    170.7,2, -999.000,9, -999.000,9, -999.000,9, -999.000,9, -999.000,9, -999.000,9, -999.000,9, -999.000,9, -999.000,9
           NA,    AR19,     50,   1,      18,  301244,  2,19980516,0742,  42.9300,  -41.7933,    12,    747.8,   7.4693,  35.0944,2,  35.0954,2, -999.000,9,    186.3,2, -999.000,9, -999.000,9, -999.000,9, -999.000,9, -999.000,9, -999.000,9, -999.000,9, -999.000,9, -999.000,9
           NA,    AR19,     50,   1,      17,  301243,  2,19980516,0742,  42.9300,  -41.7933,    12,    998.3,   5.4893,  35.0757,2,  35.0764,2, -999.000,9,    229.6,2, -999.000,9, -999.000,9, -999.000,9, -999.000,9, -999.000,9, -999.000,9, -999.000,9, -999.000,9, -999.000,9
           NA,    AR19,     50,   1,      16,  301242,  2,19980516,0742,  42.9300,  -41.7933,    12,   1245.5,   4.1952,  34.9414,2,  34.9425,2, -999.000,9,    260.3,2, -999.000,9, -999.000,9, -999.000,9, -999.000,9, -999.000,9, -999.000,9, -999.000,9, -999.000,9, -999.000,9
           NA,    AR19,     50,   1,      15,  301241,  2,19980516,0742,  42.9300,  -41.7933,    12,   1497.0,   3.8145,  34.9228,2,  34.9248,2, -999.000,9,    270.9,2, -999.000,9, -999.000,9, -999.000,9, -999.000,9, -999.000,9, -999.000,9, -999.000,9, -999.000,9, -999.000,9
           NA,    AR19,     50,   1,      14,  301240,  2,19980516,0742,  42.9300,  -41.7933,    12,   1744.1,   3.5501,  34.9043,2,  34.9051,2, -999.000,9,    276.8,2, -999.000,9, -999.000,9, -999.000,9, -999.000,9, -999.000,9, -999.000,9, -999.000,9, -999.000,9, -999.000,9
           NA,    AR19,     50,   1,      13,  301239,  2,19980516,0742,  42.9300,  -41.7933,    12,   1997.0,   3.3936,  34.8994,2,  34.8998,2, -999.000,9,    279.8,2, -999.000,9, -999.000,9, -999.000,9, -999.000,9, -999.000,9, -999.000,9, -999.000,9, -999.000,9, -999.000,9
           NA,    AR19,     50,   1,      12,  301238,  2,19980516,0742,  42.9300,  -41.7933,    12,   2327.4,   3.1962,  34.8887,2,  34.8897,2, -999.000,9,    283.0,2, -999.000,9, -999.000,9, -999.000,9, -999.000,9, -999.000,9, -999.000,9, -999.000,9, -999.000,9, -999.000,9
           NA,    AR19,     50,   1,      11,  301237,  2,19980516,0742,  42.9300,  -41.7933,    12,   2497.8,   3.1863,  34.8973,2,  34.8984,2, -999.000,9,   -999.0,4, -999.000,9, -999.000,9, -999.000,9, -999.000,9, -999.000,9, -999.000,9, -999.000,9, -999.000,9, -999.000,9
           NA,    AR19,     50,   1,      10,  301236,  2,19980516,0742,  42.9300,  -41.7933,    12,   2748.6,   3.1175,  34.9126,2,  34.9134,2, -999.000,9,    277.7,2, -999.000,9, -999.000,9, -999.000,9, -999.000,9, -999.000,9, -999.000,9, -999.000,9, -999.000,9, -999.000,9
           NA,    AR19,     50,   1,       9,  301235,  2,19980516,0742,  42.9300,  -41.7933,    12,   2999.1,   2.9944,  34.9199,2,  34.9210,2, -999.000,9,    275.0,2, -999.000,9, -999.000,9, -999.000,9, -999.000,9, -999.000,9, -999.000,9, -999.000,9, -999.000,9, -999.000,9
           NA,    AR19,     50,   1,       8,  301234,  2,19980516,0742,  42.9300,  -41.7933,    12,   3248.4,   2.8221,  34.9216,2,  34.9222,2, -999.000,9,    273.8,2, -999.000,9, -999.000,9, -999.000,9, -999.000,9, -999.000,9, -999.000,9, -999.000,9, -999.000,9, -999.000,9
           NA,    AR19,     50,   1,       7,  301233,  2,19980516,0742,  42.9300,  -41.7933,    12,   3500.9,   2.6723,  34.9206,2,  34.9203,2, -999.000,9,    270.8,2, -999.000,9, -999.000,9, -999.000,9, -999.000,9, -999.000,9, -999.000,9, -999.000,9, -999.000,9, -999.000,9
           NA,    AR19,     50,   1,       6,  301232,  2,19980516,0742,  42.9300,  -41.7933,    12,   3744.7,   2.5273,  34.9119,2,  34.9115,2, -999.000,9,    271.9,2, -999.000,9, -999.000,9, -999.000,9, -999.000,9, -999.000,9, -999.000,9, -999.000,9, -999.000,9, -999.000,9
           NA,    AR19,     50,   1,       5,  301231,  2,19980516,0742,  42.9300,  -41.7933,    12,   3999.0,   2.4106,  34.9045,2,  34.9043,2, -999.000,9,    271.5,2, -999.000,9, -999.000,9, -999.000,9, -999.000,9, -999.000,9, -999.000,9, -999.000,9, -999.000,9, -999.000,9
           NA,    AR19,     50,   1,       4,  301230,  2,19980516,0742,  42.9300,  -41.7933,    12,   4499.8,   2.3123,  34.8955,2,  34.8968,2, -999.000,9,    272.8,2, -999.000,9, -999.000,9, -999.000,9, -999.000,9, -999.000,9, -999.000,9, -999.000,9, -999.000,9, -999.000,9
           NA,    AR19,     50,   1,       3,  301229,  2,19980516,0742,  42.9300,  -41.7933,    12,   4817.8,   2.2801,  34.8904,2,  34.8907,2, -999.000,9,    273.0,2, -999.000,9, -999.000,9, -999.000,9, -999.000,9, -999.000,9, -999.000,9, -999.000,9, -999.000,9, -999.000,9
           NA,    AR19,     50,   1,       2,  301228,  2,19980516,0742,  42.9300,  -41.7933,    12,   4904.0,   2.2698,  34.8903,2,  34.8894,2, -999.000,9,    276.7,2, -999.000,9, -999.000,9, -999.000,9, -999.000,9, -999.000,9, -999.000,9, -999.000,9, -999.000,9, -999.000,9
           NA,    AR19,     50,   1,       1,  301227,  2,19980516,0742,  42.9300,  -41.7933,    12,   4920.3,   2.2711,  34.8901,2,  34.8893,2, -999.000,9,    275.1,2, -999.000,9, -999.000,9, -999.000,9, -999.000,9, -999.000,9, -999.000,9, -999.000,9, -999.000,9, -999.000,9
           NA,    AR19,     49,   1,      24,  301226,  2,19980516,0057,  43.1717,  -41.0483,    12,      9.3,  16.5523,  36.0779,2,  36.0750,2, -999.000,9,    247.1,2, -999.000,9, -999.000,9, -999.000,9, -999.000,9, -999.000,9, -999.000,9, -999.000,9, -999.000,9, -999.000,9
           NA,    AR19,     49,   1,      23,  301225,  2,19980516,0057,  43.1717,  -41.0483,    12,     49.0,  16.4142,  36.0617,2,  36.0611,2, -999.000,9,    245.2,2, -999.000,9, -999.000,9, -999.000,9, -999.000,9, -999.000,9, -999.000,9, -999.000,9, -999.000,9, -999.000,9
           NA,    AR19,     49,   1,      22,  301224,  2,19980516,0057,  43.1717,  -41.0483,    12,     99.5,  14.4927,  35.7867,2,  35.7908,2, -999.000,9,    240.5,2, -999.000,9, -999.000,9, -999.000,9, -999.000,9, -999.000,9, -999.000,9, -999.000,9, -999.000,9, -999.000,9
           NA,    AR19,     49,   1,      21,  301223,  2,19980516,0057,  43.1717,  -41.0483,    12,    497.8,  10.3866,  35.2784,2,-999.0000,4, -999.000,9,    188.7,2, -999.000,9, -999.000,9, -999.000,9, -999.000,9, -999.000,9, -999.000,9, -999.000,9, -999.000,9, -999.000,9
           NA,    AR19,     49,   1,      20,  301222,  2,19980516,0057,  43.1717,  -41.0483,    12,    746.4,   7.0993,  35.0851,2,  35.0846,2, -999.000,9,    196.3,2, -999.000,9, -999.000,9, -999.000,9, -999.000,9, -999.000,9, -999.000,9, -999.000,9, -999.000,9, -999.000,9
           NA,    AR19,     49,   1,      19,  301221,  2,19980516,0057,  43.1717,  -41.0483,    12,    998.3,   5.0437,  34.9974,2,  34.9981,2, -999.000,9,    245.5,2, -999.000,9, -999.000,9, -999.000,9, -999.000,9, -999.000,9, -999.000,9, -999.000,9, -999.000,9, -999.000,9
           NA,    AR19,     49,   1,      18,  301220,  4,19980516,0057,  43.1717,  -41.0483,    12,   1246.9,   4.2795,  34.9649,2,-999.0000,2, -999.000,9,   -999.0,3, -999.000,9, -999.000,9, -999.000,9, -999.000,9, -999.000,9, -999.000,9, -999.000,9, -999.000,9, -999.000,9
           NA,    AR19,     49,   1,      17,  301219,  2,19980516,0057,  43.1717,  -41.0483,    12,   1246.9,   4.3039,  34.9687,2,-999.0000,3, -999.000,9,    257.9,2, -999.000,9, -999.000,9, -999.000,9, -999.000,9, -999.000,9, -999.000,9, -999.000,9, -999.000,9, -999.000,9
           NA,    AR19,     49,   1,      16,  301218,  2,19980516,0057,  43.1717,  -41.0483,    12,   1496.5,   3.7670,  34.9172,2,  34.9178,2, -999.000,9,    257.6,2, -999.000,9, -999.000,9, -999.000,9, -999.000,9, -999.000,9, -999.000,9, -999.000,9, -999.000,9, -999.000,9
           NA,    AR19,     49,   1,      15,  301217,  2,19980516,0057,  43.1717,  -41.0483,    12,   1747.6,   3.4751,  34.8963,2,  34.8959,2, -999.000,9,    270.6,2, -999.000,9, -999.000,9, -999.000,9, -999.000,9, -999.000,9, -999.000,9, -999.000,9, -999.000,9, -999.000,9
           NA,    AR19,     49,   1,      14,  301216,  2,19980516,0057,  43.1717,  -41.0483,    12,   1997.0,   3.2646,  34.8804,2,  34.8803,2, -999.000,9,    279.9,2, -999.000,9, -999.000,9, -999.000,9, -999.000,9, -999.000,9, -999.000,9, -999.000,9, -999.000,9, -999.000,9
           NA,    AR19,     49,   1,      13,  301215,  2,19980516,0057,  43.1717,  -41.0483,    12,   2272.1,   3.1946,  34.8857,2,  34.8871,2, -999.000,9,    285.0,2, -999.000,9, -999.000,9, -999.000,9, -999.000,9, -999.000,9, -999.000,9, -999.000,9, -999.000,9, -999.000,9
           NA,    AR19,     49,   1,      12,  301214,  2,19980516,0057,  43.1717,  -41.0483,    12,   2498.4,   3.1903,  34.9039,2,  34.9047,2, -999.000,9,    279.2,2, -999.000,9, -999.000,9, -999.000,9, -999.000,9, -999.000,9, -999.000,9, -999.000,9, -999.000,9, -999.000,9
           NA,    AR19,     49,   1,      11,  301213,  2,19980516,0057,  43.1717,  -41.0483,    12,   2747.3,   3.1286,  34.9221,2,  34.9225,2, -999.000,9,    274.3,2, -999.000,9, -999.000,9, -999.000,9, -999.000,9, -999.000,9, -999.000,9, -999.000,9, -999.000,9, -999.000,9
           NA,    AR19,     49,   1,      10,  301212,  2,19980516,0057,  43.1717,  -41.0483,    12,   2999.3,   2.9736,  34.9271,2,  34.9285,2, -999.000,9,    273.8,2, -999.000,9, -999.000,9, -999.000,9, -999.000,9, -999.000,9, -999.000,9, -999.000,9, -999.000,9, -999.000,9
           NA,    AR19,     49,   1,       9,  301211,  2,19980516,0057,  43.1717,  -41.0483,    12,   3248.3,   2.7998,  34.9234,2,  34.9228,2, -999.000,9,    274.1,2, -999.000,9, -999.000,9, -999.000,9, -999.000,9, -999.000,9, -999.000,9, -999.000,9, -999.000,9, -999.000,9
           NA,    AR19,     49,   1,       8,  301210,  2,19980516,0057,  43.1717,  -41.0483,    12,   3500.1,   2.6223,  34.9167,2,  34.9165,2, -999.000,9,    272.7,2, -999.000,9, -999.000,9, -999.000,9, -999.000,9, -999.000,9, -999.000,9, -999.000,9, -999.000,9, -999.000,9
           NA,    AR19,     49,   1,       7,  301209,  2,19980516,0057,  43.1717,  -41.0483,    12,   3749.5,   2.5034,  34.9109,2,  34.9105,2, -999.000,9,    273.4,2, -999.000,9, -999.000,9, -999.000,9, -999.000,9, -999.000,9, -999.000,9, -999.000,9, -999.000,9, -999.000,9
           NA,    AR19,     49,   1,       6,  301208,  2,19980516,0057,  43.1717,  -41.0483,    12,   3999.1,   2.4003,  34.9046,2,  34.9049,2, -999.000,9,    274.2,2, -999.000,9, -999.000,9, -999.000,9, -999.000,9, -999.000,9, -999.000,9, -999.000,9, -999.000,9, -999.000,9
           NA,    AR19,     49,   1,       5,  301207,  2,19980516,0057,  43.1717,  -41.0483,    12,   4248.7,   2.3553,  34.9005,2,  34.9003,2, -999.000,9,    271.1,2, -999.000,9, -999.000,9, -999.000,9, -999.000,9, -999.000,9, -999.000,9, -999.000,9, -999.000,9, -999.000,9
           NA,    AR19,     49,   1,       4,  301206,  2,19980516,0057,  43.1717,  -41.0483,    12,   4499.5,   2.3241,  34.8964,2,  34.8962,2, -999.000,9,    270.8,2, -999.000,9, -999.000,9, -999.000,9, -999.000,9, -999.000,9, -999.000,9, -999.000,9, -999.000,9, -999.000,9
           NA,    AR19,     49,   1,       3,  301205,  2,19980516,0057,  43.1717,  -41.0483,    12,   4809.2,   2.2944,  34.8922,2,  34.8919,2, -999.000,9,    271.9,2, -999.000,9, -999.000,9, -999.000,9, -999.000,9, -999.000,9, -999.000,9, -999.000,9, -999.000,9, -999.000,9
           NA,    AR19,     49,   1,       2,  301204,  2,19980516,0057,  43.1717,  -41.0483,    12,   4879.2,   2.2556,  34.8910,2,  34.8903,2, -999.000,9,    281.1,2, -999.000,9, -999.000,9, -999.000,9, -999.000,9, -999.000,9, -999.000,9, -999.000,9, -999.000,9, -999.000,9
           NA,    AR19,     49,   1,       1,  301203,  2,19980516,0057,  43.1717,  -41.0483,    12,   4908.8,   2.2563,  34.8908,2,  34.8898,2, -999.000,9,    279.2,2, -999.000,9, -999.000,9, -999.000,9, -999.000,9, -999.000,9, -999.000,9, -999.000,9, -999.000,9, -999.000,9