BOTTLE,20214525JOAExport
EXPOCODE,SECT_ID,STNNBR,CASTNO,SAMPNO,BTLNBR,BTLNBR_FLAG_W,DATE,TIME,LATITUDE,LONGITUDE,DEPTH,CTDPRS,CTDTMP,CTDSAL,CTDSAL_FLAG_W,SALNTY,SALNTY_FLAG_W,CTDOXY,CTDOXY_FLAG_W,OXYGEN,OXYGEN_FLAG_W,SILCAT,SILCAT_FLAG_W,NITRAT,NITRAT_FLAG_W,NITRIT,NITRIT_FLAG_W,PHSPHT,PHSPHT_FLAG_W,CFC-11,CFC-11_FLAG_W,CFC-12,CFC-12_FLAG_W,SF6,SF6_FLAG_W,TCARBN,TCARBN_FLAG_W,ALKALI,ALKALI_FLAG_W
,,,,,,,,,,,,DB,ITS-90,PSS-78,,PSS-78,,UMOL/KG,,UMOL/KG,,UMOL/KG,,UMOL/KG,,UMOL/KG,,UMOL/KG,,PMOL/KG,,PMOL/KG,,FMOL/KG,,UMOL/KG,,UMOL/KG
           NA,    AR19,     32,   1,      24,  300794,  2,19980509,0718,  46.8733,  -27.5117,     7,      9.1,  13.8016,  35.8193,2,  35.8187,2, -999.000,9,    261.5,2, -999.000,9, -999.000,9, -999.000,9, -999.000,9, -999.000,9, -999.000,9, -999.000,9, -999.000,9, -999.000,9
           NA,    AR19,     32,   1,      23,  300793,  2,19980509,0718,  46.8733,  -27.5117,     7,     48.8,  13.7981,  35.8190,2,  35.8188,2, -999.000,9,    267.5,2, -999.000,9, -999.000,9, -999.000,9, -999.000,9, -999.000,9, -999.000,9, -999.000,9, -999.000,9, -999.000,9
           NA,    AR19,     32,   1,      22,  300792,  2,19980509,0718,  46.8733,  -27.5117,     7,    100.9,  13.4124,  35.7863,2,  35.7852,2, -999.000,9,    248.3,2, -999.000,9, -999.000,9, -999.000,9, -999.000,9, -999.000,9, -999.000,9, -999.000,9, -999.000,9, -999.000,9
           NA,    AR19,     32,   1,      21,  300791,  2,19980509,0718,  46.8733,  -27.5117,     7,    199.3,  12.8778,  35.6923,2,  35.6910,2, -999.000,9,    243.9,2, -999.000,9, -999.000,9, -999.000,9, -999.000,9, -999.000,9, -999.000,9, -999.000,9, -999.000,9, -999.000,9
           NA,    AR19,     32,   1,      20,  300790,  2,19980509,0718,  46.8733,  -27.5117,     7,    394.6,  11.5115,  35.4565,2,-999.0000,4, -999.000,9,    230.7,2, -999.000,9, -999.000,9, -999.000,9, -999.000,9, -999.000,9, -999.000,9, -999.000,9, -999.000,9, -999.000,9
           NA,    AR19,     32,   1,      19,  300789,  2,19980509,0718,  46.8733,  -27.5117,     7,    447.6,  10.9867,  35.3972,2,-999.0000,3, -999.000,9,    212.8,2, -999.000,9, -999.000,9, -999.000,9, -999.000,9, -999.000,9, -999.000,9, -999.000,9, -999.000,9, -999.000,9
           NA,    AR19,     32,   1,      18,  300788,  2,19980509,0718,  46.8733,  -27.5117,     7,    598.6,   9.3689,  35.2382,2,  35.2354,2, -999.000,9,    193.3,2, -999.000,9, -999.000,9, -999.000,9, -999.000,9, -999.000,9, -999.000,9, -999.000,9, -999.000,9, -999.000,9
           NA,    AR19,     32,   1,      17,  300787,  2,19980509,0718,  46.8733,  -27.5117,     7,    696.7,   8.2872,  35.1844,2,  35.1769,2, -999.000,9,    189.8,2, -999.000,9, -999.000,9, -999.000,9, -999.000,9, -999.000,9, -999.000,9, -999.000,9, -999.000,9, -999.000,9
           NA,    AR19,     32,   1,      16,  300786,  2,19980509,0718,  46.8733,  -27.5117,     7,    795.8,   7.5260,  35.1643,2,  35.1643,2, -999.000,9,    194.0,2, -999.000,9, -999.000,9, -999.000,9, -999.000,9, -999.000,9, -999.000,9, -999.000,9, -999.000,9, -999.000,9
           NA,    AR19,     32,   1,      15,  300785,  2,19980509,0718,  46.8733,  -27.5117,     7,    896.9,   6.7735,  35.1684,2,  35.1660,2, -999.000,9,    207.6,2, -999.000,9, -999.000,9, -999.000,9, -999.000,9, -999.000,9, -999.000,9, -999.000,9, -999.000,9, -999.000,9
           NA,    AR19,     32,   1,      14,  300784,  2,19980509,0718,  46.8733,  -27.5117,     7,    943.6,   6.5328,  35.1614,2,  35.1612,2, -999.000,9,    212.1,2, -999.000,9, -999.000,9, -999.000,9, -999.000,9, -999.000,9, -999.000,9, -999.000,9, -999.000,9, -999.000,9
           NA,    AR19,     32,   1,      13,  300783,  2,19980509,0718,  46.8733,  -27.5117,     7,   1096.5,   5.3113,  35.0666,2,  35.0637,2, -999.000,9,    235.2,2, -999.000,9, -999.000,9, -999.000,9, -999.000,9, -999.000,9, -999.000,9, -999.000,9, -999.000,9, -999.000,9
           NA,    AR19,     32,   1,      12,  300782,  2,19980509,0718,  46.8733,  -27.5117,     7,   1197.7,   4.8234,  35.0162,2,  35.0166,2, -999.000,9,    245.1,2, -999.000,9, -999.000,9, -999.000,9, -999.000,9, -999.000,9, -999.000,9, -999.000,9, -999.000,9, -999.000,9
           NA,    AR19,     32,   1,      11,  300781,  2,19980509,0718,  46.8733,  -27.5117,     7,   1291.0,   4.7095,  35.0221,2,  35.0210,2, -999.000,9,    252.6,2, -999.000,9, -999.000,9, -999.000,9, -999.000,9, -999.000,9, -999.000,9, -999.000,9, -999.000,9, -999.000,9
           NA,    AR19,     32,   1,      10,  300780,  2,19980509,0718,  46.8733,  -27.5117,     7,   1496.0,   4.0479,  34.9651,2,  34.9661,2, -999.000,9,    262.5,2, -999.000,9, -999.000,9, -999.000,9, -999.000,9, -999.000,9, -999.000,9, -999.000,9, -999.000,9, -999.000,9
           NA,    AR19,     32,   1,       9,  300779,  2,19980509,0718,  46.8733,  -27.5117,     7,   1597.3,   3.8156,  34.9390,2,  34.9386,2, -999.000,9,    267.4,2, -999.000,9, -999.000,9, -999.000,9, -999.000,9, -999.000,9, -999.000,9, -999.000,9, -999.000,9, -999.000,9
           NA,    AR19,     32,   1,       8,  300778,  2,19980509,0718,  46.8733,  -27.5117,     7,   1747.2,   3.6263,  34.9273,2,  34.9268,2, -999.000,9,    270.5,2, -999.000,9, -999.000,9, -999.000,9, -999.000,9, -999.000,9, -999.000,9, -999.000,9, -999.000,9, -999.000,9
           NA,    AR19,     32,   1,       7,  300777,  2,19980509,0718,  46.8733,  -27.5117,     7,   1998.6,   3.4905,  34.9228,2,  34.9230,2, -999.000,9,    271.8,2, -999.000,9, -999.000,9, -999.000,9, -999.000,9, -999.000,9, -999.000,9, -999.000,9, -999.000,9, -999.000,9
           NA,    AR19,     32,   1,       6,  300776,  2,19980509,0718,  46.8733,  -27.5117,     7,   2098.1,   3.4431,  34.9231,2,  34.9232,2, -999.000,9,    271.4,2, -999.000,9, -999.000,9, -999.000,9, -999.000,9, -999.000,9, -999.000,9, -999.000,9, -999.000,9, -999.000,9
           NA,    AR19,     32,   1,       5,  300775,  2,19980509,0718,  46.8733,  -27.5117,     7,   2197.5,   3.4060,  34.9242,2,  34.9239,2, -999.000,9,    271.0,2, -999.000,9, -999.000,9, -999.000,9, -999.000,9, -999.000,9, -999.000,9, -999.000,9, -999.000,9, -999.000,9
           NA,    AR19,     32,   1,       4,  300774,  2,19980509,0718,  46.8733,  -27.5117,     7,   2297.1,   3.3836,  34.9254,2,  34.9247,2, -999.000,9,    271.0,2, -999.000,9, -999.000,9, -999.000,9, -999.000,9, -999.000,9, -999.000,9, -999.000,9, -999.000,9, -999.000,9
           NA,    AR19,     32,   1,       3,  300773,  2,19980509,0718,  46.8733,  -27.5117,     7,   2431.5,   3.3690,  34.9256,2,  34.9255,2, -999.000,9,    270.8,2, -999.000,9, -999.000,9, -999.000,9, -999.000,9, -999.000,9, -999.000,9, -999.000,9, -999.000,9, -999.000,9
           NA,    AR19,     32,   1,       1,  300771,  2,19980509,0718,  46.8733,  -27.5117,     7,   2559.1,   3.3687,  34.9258,2,  34.9259,2, -999.000,9,    270.2,2, -999.000,9, -999.000,9, -999.000,9, -999.000,9, -999.000,9, -999.000,9, -999.000,9, -999.000,9, -999.000,9
           NA,    AR19,     31,   1,      24,  300770,  2,19980509,0333,  46.9133,  -27.3033,    13,     10.3,  14.0711,  35.8438,2,  35.8409,2, -999.000,9,    263.4,2, -999.000,9, -999.000,9, -999.000,9, -999.000,9, -999.000,9, -999.000,9, -999.000,9, -999.000,9, -999.000,9
           NA,    AR19,     31,   1,      23,  300769,  2,19980509,0333,  46.9133,  -27.3033,    13,     50.2,  13.4863,  35.7766,2,-999.0000,3, -999.000,9,    256.3,2, -999.000,9, -999.000,9, -999.000,9, -999.000,9, -999.000,9, -999.000,9, -999.000,9, -999.000,9, -999.000,9
           NA,    AR19,     31,   1,      22,  300768,  2,19980509,0333,  46.9133,  -27.3033,    13,    100.7,  13.0933,  35.7302,2,  35.7287,2, -999.000,9,    252.1,2, -999.000,9, -999.000,9, -999.000,9, -999.000,9, -999.000,9, -999.000,9, -999.000,9, -999.000,9, -999.000,9
           NA,    AR19,     31,   1,      21,  300767,  2,19980509,0333,  46.9133,  -27.3033,    13,    201.8,  12.5385,  35.6305,2,  35.6294,2, -999.000,9,    241.1,2, -999.000,9, -999.000,9, -999.000,9, -999.000,9, -999.000,9, -999.000,9, -999.000,9, -999.000,9, -999.000,9
           NA,    AR19,     31,   1,      20,  300766,  2,19980509,0333,  46.9133,  -27.3033,    13,    399.8,  11.0249,  35.4118,2,  35.4107,2, -999.000,9,    209.3,2, -999.000,9, -999.000,9, -999.000,9, -999.000,9, -999.000,9, -999.000,9, -999.000,9, -999.000,9, -999.000,9
           NA,    AR19,     31,   1,      19,  300765,  2,19980509,0333,  46.9133,  -27.3033,    13,    498.8,  10.5197,  35.3644,2,  35.3636,2, -999.000,9,    197.5,2, -999.000,9, -999.000,9, -999.000,9, -999.000,9, -999.000,9, -999.000,9, -999.000,9, -999.000,9, -999.000,9
           NA,    AR19,     31,   1,      18,  300764,  2,19980509,0333,  46.9133,  -27.3033,    13,    598.1,   9.5083,  35.2601,2,  35.2590,2, -999.000,9,    183.9,2, -999.000,9, -999.000,9, -999.000,9, -999.000,9, -999.000,9, -999.000,9, -999.000,9, -999.000,9, -999.000,9
           NA,    AR19,     31,   1,      17,  300763,  2,19980509,0333,  46.9133,  -27.3033,    13,    746.7,   7.9499,  35.1821,2,  35.1814,2, -999.000,9,    190.5,2, -999.000,9, -999.000,9, -999.000,9, -999.000,9, -999.000,9, -999.000,9, -999.000,9, -999.000,9, -999.000,9
           NA,    AR19,     31,   1,      16,  300762,  2,19980509,0333,  46.9133,  -27.3033,    13,   1000.2,   5.9352,  35.1178,2,  35.1199,2, -999.000,9,    222.1,2, -999.000,9, -999.000,9, -999.000,9, -999.000,9, -999.000,9, -999.000,9, -999.000,9, -999.000,9, -999.000,9
           NA,    AR19,     31,   1,      15,  300761,  2,19980509,0333,  46.9133,  -27.3033,    13,   1247.1,   4.8587,  35.0360,2,  35.0371,2, -999.000,9,    245.4,2, -999.000,9, -999.000,9, -999.000,9, -999.000,9, -999.000,9, -999.000,9, -999.000,9, -999.000,9, -999.000,9
           NA,    AR19,     31,   1,      14,  300760,  2,19980509,0333,  46.9133,  -27.3033,    13,   1503.9,   4.0685,  34.9569,2,  34.9574,2, -999.000,9,    262.6,2, -999.000,9, -999.000,9, -999.000,9, -999.000,9, -999.000,9, -999.000,9, -999.000,9, -999.000,9, -999.000,9
           NA,    AR19,     31,   1,      13,  300759,  2,19980509,0333,  46.9133,  -27.3033,    13,   1747.4,   3.7116,  34.9275,2,  34.9278,2, -999.000,9,    269.6,2, -999.000,9, -999.000,9, -999.000,9, -999.000,9, -999.000,9, -999.000,9, -999.000,9, -999.000,9, -999.000,9
           NA,    AR19,     31,   1,      12,  300758,  2,19980509,0333,  46.9133,  -27.3033,    13,   1998.3,   3.5240,  34.9194,2,  34.9202,2, -999.000,9,    271.0,2, -999.000,9, -999.000,9, -999.000,9, -999.000,9, -999.000,9, -999.000,9, -999.000,9, -999.000,9, -999.000,9
           NA,    AR19,     31,   1,      11,  300757,  2,19980509,0333,  46.9133,  -27.3033,    13,   2198.8,   3.4405,  34.9221,2,  34.9237,2, -999.000,9,    270.8,2, -999.000,9, -999.000,9, -999.000,9, -999.000,9, -999.000,9, -999.000,9, -999.000,9, -999.000,9, -999.000,9
           NA,    AR19,     31,   1,      10,  300756,  2,19980509,0333,  46.9133,  -27.3033,    13,   2199.2,   3.4403,  34.9221,2,  34.9233,2, -999.000,9,    271.0,2, -999.000,9, -999.000,9, -999.000,9, -999.000,9, -999.000,9, -999.000,9, -999.000,9, -999.000,9, -999.000,9
           NA,    AR19,     31,   1,       9,  300755,  2,19980509,0333,  46.9133,  -27.3033,    13,   2298.6,   3.4138,  34.9245,2,  34.9254,2, -999.000,9,    270.0,2, -999.000,9, -999.000,9, -999.000,9, -999.000,9, -999.000,9, -999.000,9, -999.000,9, -999.000,9, -999.000,9
           NA,    AR19,     31,   1,       8,  300754,  2,19980509,0333,  46.9133,  -27.3033,    13,   2397.2,   3.3644,  34.9252,2,  34.9263,2, -999.000,9,    269.8,2, -999.000,9, -999.000,9, -999.000,9, -999.000,9, -999.000,9, -999.000,9, -999.000,9, -999.000,9, -999.000,9
           NA,    AR19,     31,   1,       7,  300753,  2,19980509,0333,  46.9133,  -27.3033,    13,   2497.3,   3.2957,  34.9279,2,  34.9282,2, -999.000,9,    268.8,2, -999.000,9, -999.000,9, -999.000,9, -999.000,9, -999.000,9, -999.000,9, -999.000,9, -999.000,9, -999.000,9
           NA,    AR19,     31,   1,       6,  300752,  2,19980509,0333,  46.9133,  -27.3033,    13,   2598.4,   3.2178,  34.9297,2,  34.9302,2, -999.000,9,    268.0,2, -999.000,9, -999.000,9, -999.000,9, -999.000,9, -999.000,9, -999.000,9, -999.000,9, -999.000,9, -999.000,9
           NA,    AR19,     31,   1,       5,  300751,  2,19980509,0333,  46.9133,  -27.3033,    13,   2748.0,   3.1407,  34.9327,2,  34.9309,2, -999.000,9,    267.1,2, -999.000,9, -999.000,9, -999.000,9, -999.000,9, -999.000,9, -999.000,9, -999.000,9, -999.000,9, -999.000,9
           NA,    AR19,     31,   1,       4,  300750,  2,19980509,0333,  46.9133,  -27.3033,    13,   2999.4,   3.1162,  34.9347,2,  34.9343,2, -999.000,9,    266.2,2, -999.000,9, -999.000,9, -999.000,9, -999.000,9, -999.000,9, -999.000,9, -999.000,9, -999.000,9, -999.000,9
           NA,    AR19,     31,   1,       3,  300749,  2,19980509,0333,  46.9133,  -27.3033,    13,   3390.0,   3.1522,  34.9359,2,  34.9354,2, -999.000,9,    265.8,2, -999.000,9, -999.000,9, -999.000,9, -999.000,9, -999.000,9, -999.000,9, -999.000,9, -999.000,9, -999.000,9
           NA,    AR19,     31,   1,       2,  300748,  2,19980509,0333,  46.9133,  -27.3033,    13,   3463.3,   3.1602,  34.9363,2,  34.9352,2, -999.000,9,    265.9,2, -999.000,9, -999.000,9, -999.000,9, -999.000,9, -999.000,9, -999.000,9, -999.000,9, -999.000,9, -999.000,9
           NA,    AR19,     31,   1,       1,  300747,  2,19980509,0333,  46.9133,  -27.3033,    13,   3485.2,   3.1633,  34.9358,2,  34.9346,2, -999.000,9,    265.9,2, -999.000,9, -999.000,9, -999.000,9, -999.000,9, -999.000,9, -999.000,9, -999.000,9, -999.000,9, -999.000,9