BOTTLE,20214525JOAExport
EXPOCODE,SECT_ID,STNNBR,CASTNO,SAMPNO,BTLNBR,BTLNBR_FLAG_W,DATE,TIME,LATITUDE,LONGITUDE,DEPTH,CTDPRS,CTDTMP,CTDSAL,CTDSAL_FLAG_W,SALNTY,SALNTY_FLAG_W,CTDOXY,CTDOXY_FLAG_W,OXYGEN,OXYGEN_FLAG_W,SILCAT,SILCAT_FLAG_W,NITRAT,NITRAT_FLAG_W,NITRIT,NITRIT_FLAG_W,PHSPHT,PHSPHT_FLAG_W,CFC-11,CFC-11_FLAG_W,CFC-12,CFC-12_FLAG_W,SF6,SF6_FLAG_W,TCARBN,TCARBN_FLAG_W,ALKALI,ALKALI_FLAG_W
,,,,,,,,,,,,DB,ITS-90,PSS-78,,PSS-78,,UMOL/KG,,UMOL/KG,,UMOL/KG,,UMOL/KG,,UMOL/KG,,UMOL/KG,,PMOL/KG,,PMOL/KG,,FMOL/KG,,UMOL/KG,,UMOL/KG
           NA,    AR19,      8,   1,      24,  300170,  2,19980503,0155,  49.0133,  -12.9900,    10,     16.2,  11.6291,  35.5880,2,  35.5874,2, -999.000,9,    270.9,2, -999.000,9, -999.000,9, -999.000,9, -999.000,9, -999.000,9, -999.000,9, -999.000,9, -999.000,9, -999.000,9
           NA,    AR19,      8,   1,      23,  300169,  2,19980503,0155,  49.0133,  -12.9900,    10,     63.8,  11.5674,  35.5861,2,  35.5859,2, -999.000,9,    269.4,2, -999.000,9, -999.000,9, -999.000,9, -999.000,9, -999.000,9, -999.000,9, -999.000,9, -999.000,9, -999.000,9
           NA,    AR19,      8,   1,      22,  300168,  2,19980503,0155,  49.0133,  -12.9900,    10,     95.7,  11.5335,  35.5857,2,  35.5843,2, -999.000,9,    266.2,2, -999.000,9, -999.000,9, -999.000,9, -999.000,9, -999.000,9, -999.000,9, -999.000,9, -999.000,9, -999.000,9
           NA,    AR19,      8,   1,      21,  300167,  2,19980503,0155,  49.0133,  -12.9900,    10,    202.9,  11.3352,  35.5804,2,  35.5795,2, -999.000,9,    256.4,2, -999.000,9, -999.000,9, -999.000,9, -999.000,9, -999.000,9, -999.000,9, -999.000,9, -999.000,9, -999.000,9
           NA,    AR19,      8,   1,      20,  300166,  2,19980503,0155,  49.0133,  -12.9900,    10,    399.4,  11.0847,  35.5392,2,  35.5386,2, -999.000,9,    244.4,2, -999.000,9, -999.000,9, -999.000,9, -999.000,9, -999.000,9, -999.000,9, -999.000,9, -999.000,9, -999.000,9
           NA,    AR19,      8,   1,      19,  300165,  2,19980503,0155,  49.0133,  -12.9900,    10,    582.1,  10.3402,  35.4696,2,-999.0000,3, -999.000,9,    219.3,2, -999.000,9, -999.000,9, -999.000,9, -999.000,9, -999.000,9, -999.000,9, -999.000,9, -999.000,9, -999.000,9
           NA,    AR19,      8,   1,      18,  300164,  2,19980503,0155,  49.0133,  -12.9900,    10,    697.7,  10.0408,  35.5165,2,-999.0000,4, -999.000,9,    200.5,2, -999.000,9, -999.000,9, -999.000,9, -999.000,9, -999.000,9, -999.000,9, -999.000,9, -999.000,9, -999.000,9
           NA,    AR19,      8,   1,      17,  300163,  2,19980503,0155,  49.0133,  -12.9900,    10,    864.5,   9.5148,  35.5936,2,  35.5893,2, -999.000,9,    195.5,2, -999.000,9, -999.000,9, -999.000,9, -999.000,9, -999.000,9, -999.000,9, -999.000,9, -999.000,9, -999.000,9
           NA,    AR19,      8,   1,      16,  300162,  2,19980503,0155,  49.0133,  -12.9900,    10,    894.3,   9.3630,  35.5935,2,  35.5926,2, -999.000,9,    193.7,2, -999.000,9, -999.000,9, -999.000,9, -999.000,9, -999.000,9, -999.000,9, -999.000,9, -999.000,9, -999.000,9
           NA,    AR19,      8,   1,      15,  300161,  2,19980503,0155,  49.0133,  -12.9900,    10,    999.1,   8.9095,  35.5893,2,  35.5861,2, -999.000,9,    196.4,2, -999.000,9, -999.000,9, -999.000,9, -999.000,9, -999.000,9, -999.000,9, -999.000,9, -999.000,9, -999.000,9
           NA,    AR19,      8,   1,      14,  300160,  2,19980503,0155,  49.0133,  -12.9900,    10,   1190.0,   6.9238,  35.3378,2,  35.3371,2, -999.000,9,    214.9,2, -999.000,9, -999.000,9, -999.000,9, -999.000,9, -999.000,9, -999.000,9, -999.000,9, -999.000,9, -999.000,9
           NA,    AR19,      8,   1,      13,  300159,  2,19980503,0155,  49.0133,  -12.9900,    10,   1394.0,   5.3698,  35.1344,2,  35.1310,2, -999.000,9,    237.6,2, -999.000,9, -999.000,9, -999.000,9, -999.000,9, -999.000,9, -999.000,9, -999.000,9, -999.000,9, -999.000,9
           NA,    AR19,      8,   1,      12,  300158,  2,19980503,0155,  49.0133,  -12.9900,    10,   1501.5,   4.6278,  35.0296,2,  35.0294,2, -999.000,9,    250.5,2, -999.000,9, -999.000,9, -999.000,9, -999.000,9, -999.000,9, -999.000,9, -999.000,9, -999.000,9, -999.000,9
           NA,    AR19,      8,   1,      11,  300157,  2,19980503,0155,  49.0133,  -12.9900,    10,   1595.4,   4.2269,  34.9834,2,-999.0000,4, -999.000,9,    260.3,2, -999.000,9, -999.000,9, -999.000,9, -999.000,9, -999.000,9, -999.000,9, -999.000,9, -999.000,9, -999.000,9
           NA,    AR19,      8,   1,      10,  300156,  2,19980503,0155,  49.0133,  -12.9900,    10,   1694.2,   3.8700,  34.9464,2,-999.0000,3, -999.000,9,    264.4,2, -999.000,9, -999.000,9, -999.000,9, -999.000,9, -999.000,9, -999.000,9, -999.000,9, -999.000,9, -999.000,9
           NA,    AR19,      8,   1,       9,  300155,  2,19980503,0155,  49.0133,  -12.9900,    10,   1798.4,   3.6940,  34.9352,2,  34.9344,2, -999.000,9,   -999.0,3, -999.000,9, -999.000,9, -999.000,9, -999.000,9, -999.000,9, -999.000,9, -999.000,9, -999.000,9, -999.000,9
           NA,    AR19,      8,   1,       8,  300154,  2,19980503,0155,  49.0133,  -12.9900,    10,   1871.9,   3.8103,  34.9731,2,-999.0000,3, -999.000,9,    262.4,2, -999.000,9, -999.000,9, -999.000,9, -999.000,9, -999.000,9, -999.000,9, -999.000,9, -999.000,9, -999.000,9
           NA,    AR19,      8,   1,       7,  300153,  2,19980503,0155,  49.0133,  -12.9900,    10,   1938.2,   3.6663,  34.9623,2,-999.0000,3, -999.000,9,    264.8,2, -999.000,9, -999.000,9, -999.000,9, -999.000,9, -999.000,9, -999.000,9, -999.000,9, -999.000,9, -999.000,9
           NA,    AR19,      8,   1,       6,  300152,  2,19980503,0155,  49.0133,  -12.9900,    10,   1989.9,   3.6627,  34.9738,2,  34.9748,2, -999.000,9,    259.2,2, -999.000,9, -999.000,9, -999.000,9, -999.000,9, -999.000,9, -999.000,9, -999.000,9, -999.000,9, -999.000,9
           NA,    AR19,      8,   1,       5,  300151,  2,19980503,0155,  49.0133,  -12.9900,    10,   2103.6,   3.4324,  34.9605,2,  34.9609,2, -999.000,9,    262.3,2, -999.000,9, -999.000,9, -999.000,9, -999.000,9, -999.000,9, -999.000,9, -999.000,9, -999.000,9, -999.000,9
           NA,    AR19,      8,   1,       4,  300150,  2,19980503,0155,  49.0133,  -12.9900,    10,   2306.1,   3.2192,  34.9631,2,  34.9629,2, -999.000,9,    252.9,2, -999.000,9, -999.000,9, -999.000,9, -999.000,9, -999.000,9, -999.000,9, -999.000,9, -999.000,9, -999.000,9
           NA,    AR19,      8,   1,       3,  300149,  2,19980503,0155,  49.0133,  -12.9900,    10,   2499.3,   3.0904,  34.9582,2,  34.9583,2, -999.000,9,    249.8,2, -999.000,9, -999.000,9, -999.000,9, -999.000,9, -999.000,9, -999.000,9, -999.000,9, -999.000,9, -999.000,9
           NA,    AR19,      8,   1,       2,  300148,  2,19980503,0155,  49.0133,  -12.9900,    10,   2590.4,   3.0716,  34.9562,2,  34.9578,2, -999.000,9,    250.2,2, -999.000,9, -999.000,9, -999.000,9, -999.000,9, -999.000,9, -999.000,9, -999.000,9, -999.000,9, -999.000,9
           NA,    AR19,      8,   1,       1,  300147,  2,19980503,0155,  49.0133,  -12.9900,    10,   2623.1,   3.0762,  34.9563,2,  34.9566,2, -999.000,9,    249.8,2, -999.000,9, -999.000,9, -999.000,9, -999.000,9, -999.000,9, -999.000,9, -999.000,9, -999.000,9, -999.000,9
           NA,    AR19,      7,   1,       1,  300146,  2,19980502,2231,  49.0217,  -12.8717,    10,      9.8,  11.6556,  35.5897,2,  35.5894,2, -999.000,9,    279.0,2, -999.000,9, -999.000,9, -999.000,9, -999.000,9, -999.000,9, -999.000,9, -999.000,9, -999.000,9, -999.000,9
           NA,    AR19,      7,   1,      24,  300145,  2,19980502,2231,  49.0217,  -12.8717,    10,     49.5,  11.4256,  35.5832,2,  35.5823,2, -999.000,9,    263.6,2, -999.000,9, -999.000,9, -999.000,9, -999.000,9, -999.000,9, -999.000,9, -999.000,9, -999.000,9, -999.000,9
           NA,    AR19,      7,   1,      23,  300144,  2,19980502,2231,  49.0217,  -12.8717,    10,     99.6,  11.3694,  35.5832,2,  35.5837,2, -999.000,9,    260.1,2, -999.000,9, -999.000,9, -999.000,9, -999.000,9, -999.000,9, -999.000,9, -999.000,9, -999.000,9, -999.000,9
           NA,    AR19,      7,   1,      22,  300143,  2,19980502,2231,  49.0217,  -12.8717,    10,    200.9,  11.3316,  35.5778,2,  35.5778,2, -999.000,9,    259.0,2, -999.000,9, -999.000,9, -999.000,9, -999.000,9, -999.000,9, -999.000,9, -999.000,9, -999.000,9, -999.000,9
           NA,    AR19,      7,   1,      21,  300142,  2,19980502,2231,  49.0217,  -12.8717,    10,    299.5,  11.2809,  35.5681,2,  35.5681,2, -999.000,9,    257.2,2, -999.000,9, -999.000,9, -999.000,9, -999.000,9, -999.000,9, -999.000,9, -999.000,9, -999.000,9, -999.000,9
           NA,    AR19,      7,   1,      20,  300141,  2,19980502,2231,  49.0217,  -12.8717,    10,    398.8,  11.0827,  35.5350,2,  35.5339,2, -999.000,9,    249.7,2, -999.000,9, -999.000,9, -999.000,9, -999.000,9, -999.000,9, -999.000,9, -999.000,9, -999.000,9, -999.000,9
           NA,    AR19,      7,   1,      19,  300140,  2,19980502,2231,  49.0217,  -12.8717,    10,    497.2,  10.8208,  35.5148,2,  35.5135,2, -999.000,9,    232.3,2, -999.000,9, -999.000,9, -999.000,9, -999.000,9, -999.000,9, -999.000,9, -999.000,9, -999.000,9, -999.000,9
           NA,    AR19,      7,   1,      18,  300139,  2,19980502,2231,  49.0217,  -12.8717,    10,    598.2,  10.3954,  35.5008,2,  35.4994,2, -999.000,9,    215.4,2, -999.000,9, -999.000,9, -999.000,9, -999.000,9, -999.000,9, -999.000,9, -999.000,9, -999.000,9, -999.000,9
           NA,    AR19,      7,   1,      17,  300138,  2,19980502,2231,  49.0217,  -12.8717,    10,    697.8,   9.9779,  35.5174,2,-999.0000,3, -999.000,9,    205.7,2, -999.000,9, -999.000,9, -999.000,9, -999.000,9, -999.000,9, -999.000,9, -999.000,9, -999.000,9, -999.000,9
           NA,    AR19,      7,   1,      16,  300137,  2,19980502,2231,  49.0217,  -12.8717,    10,    798.1,   9.3250,  35.4773,2,  35.4768,2, -999.000,9,    195.7,2, -999.000,9, -999.000,9, -999.000,9, -999.000,9, -999.000,9, -999.000,9, -999.000,9, -999.000,9, -999.000,9
           NA,    AR19,      7,   1,      15,  300136,  2,19980502,2231,  49.0217,  -12.8717,    10,    897.8,   8.8232,  35.4867,2,  35.4848,2, -999.000,9,    196.8,2, -999.000,9, -999.000,9, -999.000,9, -999.000,9, -999.000,9, -999.000,9, -999.000,9, -999.000,9, -999.000,9
           NA,    AR19,      7,   1,      13,  300134,  2,19980502,2231,  49.0217,  -12.8717,    10,    997.4,   8.2118,  35.4650,2,  35.4634,2, -999.000,9,    202.3,2, -999.000,9, -999.000,9, -999.000,9, -999.000,9, -999.000,9, -999.000,9, -999.000,9, -999.000,9, -999.000,9
           NA,    AR19,      7,   1,      12,  300133,  2,19980502,2231,  49.0217,  -12.8717,    10,   1098.1,   7.7397,  35.4448,2,  35.4433,2, -999.000,9,    207.0,2, -999.000,9, -999.000,9, -999.000,9, -999.000,9, -999.000,9, -999.000,9, -999.000,9, -999.000,9, -999.000,9
           NA,    AR19,      7,   1,      11,  300132,  2,19980502,2231,  49.0217,  -12.8717,    10,   1197.3,   6.9202,  35.3364,2,  35.3362,2, -999.000,9,    215.5,2, -999.000,9, -999.000,9, -999.000,9, -999.000,9, -999.000,9, -999.000,9, -999.000,9, -999.000,9, -999.000,9
           NA,    AR19,      7,   1,      10,  300131,  2,19980502,2231,  49.0217,  -12.8717,    10,   1297.2,   6.0109,  35.2116,2,  35.2124,2, -999.000,9,    228.1,2, -999.000,9, -999.000,9, -999.000,9, -999.000,9, -999.000,9, -999.000,9, -999.000,9, -999.000,9, -999.000,9
           NA,    AR19,      7,   1,       9,  300130,  2,19980502,2231,  49.0217,  -12.8717,    10,   1395.9,   5.3816,  35.1200,2,  35.1214,2, -999.000,9,    237.7,2, -999.000,9, -999.000,9, -999.000,9, -999.000,9, -999.000,9, -999.000,9, -999.000,9, -999.000,9, -999.000,9
           NA,    AR19,      7,   1,       8,  300129,  2,19980502,2231,  49.0217,  -12.8717,    10,   1448.0,   4.9451,  35.0628,2,  35.0621,2, -999.000,9,    244.8,2, -999.000,9, -999.000,9, -999.000,9, -999.000,9, -999.000,9, -999.000,9, -999.000,9, -999.000,9, -999.000,9
           NA,    AR19,      7,   1,       7,  300128,  2,19980502,2231,  49.0217,  -12.8717,    10,   1496.9,   4.9327,  35.0719,2,  35.0710,2, -999.000,9,    245.7,2, -999.000,9, -999.000,9, -999.000,9, -999.000,9, -999.000,9, -999.000,9, -999.000,9, -999.000,9, -999.000,9
           NA,    AR19,      7,   1,       6,  300127,  2,19980502,2231,  49.0217,  -12.8717,    10,   1597.2,   4.1260,  34.9638,2,  34.9621,2, -999.000,9,    261.1,2, -999.000,9, -999.000,9, -999.000,9, -999.000,9, -999.000,9, -999.000,9, -999.000,9, -999.000,9, -999.000,9
           NA,    AR19,      7,   1,       5,  300126,  2,19980502,2231,  49.0217,  -12.8717,    10,   1697.9,   3.8746,  34.9449,2,  34.9446,2, -999.000,9,    265.6,2, -999.000,9, -999.000,9, -999.000,9, -999.000,9, -999.000,9, -999.000,9, -999.000,9, -999.000,9, -999.000,9
           NA,    AR19,      7,   1,       3,  300124,  2,19980502,2231,  49.0217,  -12.8717,    10,   2019.1,   3.5154,  34.9553,2,  34.9557,2, -999.000,9,    262.8,2, -999.000,9, -999.000,9, -999.000,9, -999.000,9, -999.000,9, -999.000,9, -999.000,9, -999.000,9, -999.000,9
           NA,    AR19,      7,   1,       2,  300123,  2,19980502,2231,  49.0217,  -12.8717,    10,   2041.7,   3.5018,  34.9564,2,  34.9569,2, -999.000,9,    262.8,2, -999.000,9, -999.000,9, -999.000,9, -999.000,9, -999.000,9, -999.000,9, -999.000,9, -999.000,9, -999.000,9
           NA,    AR19,      6,   1,       1,  300122,  2,19980502,1945,  49.0600,  -12.6750,     8,      8.6,  11.7073,  35.5979,2,  35.5987,2, -999.000,9,    276.7,2, -999.000,9, -999.000,9, -999.000,9, -999.000,9, -999.000,9, -999.000,9, -999.000,9, -999.000,9, -999.000,9
           NA,    AR19,      6,   1,      24,  300121,  2,19980502,1945,  49.0600,  -12.6750,     8,     48.8,  11.6841,  35.6004,2,  35.6006,2, -999.000,9,   -999.0,3, -999.000,9, -999.000,9, -999.000,9, -999.000,9, -999.000,9, -999.000,9, -999.000,9, -999.000,9, -999.000,9
           NA,    AR19,      6,   1,      23,  300120,  2,19980502,1945,  49.0600,  -12.6750,     8,    149.8,  11.5522,  35.6065,2,  35.6058,2, -999.000,9,    258.0,2, -999.000,9, -999.000,9, -999.000,9, -999.000,9, -999.000,9, -999.000,9, -999.000,9, -999.000,9, -999.000,9
           NA,    AR19,      6,   1,      22,  300119,  2,19980502,1945,  49.0600,  -12.6750,     8,    210.9,  11.4562,  35.5912,2,  35.5921,2, -999.000,9,    258.9,2, -999.000,9, -999.000,9, -999.000,9, -999.000,9, -999.000,9, -999.000,9, -999.000,9, -999.000,9, -999.000,9
           NA,    AR19,      6,   1,      21,  300118,  2,19980502,1945,  49.0600,  -12.6750,     8,    347.5,  11.2927,  35.5725,2,  35.5734,2, -999.000,9,    255.7,2, -999.000,9, -999.000,9, -999.000,9, -999.000,9, -999.000,9, -999.000,9, -999.000,9, -999.000,9, -999.000,9
           NA,    AR19,      6,   1,      20,  300117,  2,19980502,1945,  49.0600,  -12.6750,     8,    698.8,   9.7477,  35.4570,2,  35.4564,2, -999.000,9,    202.5,2, -999.000,9, -999.000,9, -999.000,9, -999.000,9, -999.000,9, -999.000,9, -999.000,9, -999.000,9, -999.000,9
           NA,    AR19,      6,   1,      19,  300116,  2,19980502,1945,  49.0600,  -12.6750,     8,    919.1,   9.2551,  35.5958,2,  35.5944,2, -999.000,9,    194.3,2, -999.000,9, -999.000,9, -999.000,9, -999.000,9, -999.000,9, -999.000,9, -999.000,9, -999.000,9, -999.000,9
           NA,    AR19,      6,   1,      18,  300115,  2,19980502,1945,  49.0600,  -12.6750,     8,   1045.9,   8.2777,  35.5325,2,  35.5305,2, -999.000,9,    202.4,2, -999.000,9, -999.000,9, -999.000,9, -999.000,9, -999.000,9, -999.000,9, -999.000,9, -999.000,9, -999.000,9
           NA,    AR19,      6,   1,      17,  300114,  2,19980502,1945,  49.0600,  -12.6750,     8,   1126.3,   7.5818,  35.4481,2,  35.4478,2, -999.000,9,    210.2,2, -999.000,9, -999.000,9, -999.000,9, -999.000,9, -999.000,9, -999.000,9, -999.000,9, -999.000,9, -999.000,9
           NA,    AR19,      6,   1,      16,  300113,  2,19980502,1945,  49.0600,  -12.6750,     8,   1337.6,   6.0696,  35.2507,2,  35.2509,2, -999.000,9,    229.0,2, -999.000,9, -999.000,9, -999.000,9, -999.000,9, -999.000,9, -999.000,9, -999.000,9, -999.000,9, -999.000,9
           NA,    AR19,      6,   1,      15,  300112,  2,19980502,1945,  49.0600,  -12.6750,     8,   1396.5,   6.0034,  35.2425,2,  35.2426,2, -999.000,9,    230.1,2, -999.000,9, -999.000,9, -999.000,9, -999.000,9, -999.000,9, -999.000,9, -999.000,9, -999.000,9, -999.000,9
           NA,    AR19,      6,   1,      14,  300111,  2,19980502,1945,  49.0600,  -12.6750,     8,   1452.6,   5.8566,  35.2231,2,  35.2233,2, -999.000,9,    228.9,2, -999.000,9, -999.000,9, -999.000,9, -999.000,9, -999.000,9, -999.000,9, -999.000,9, -999.000,9, -999.000,9
           NA,    AR19,      5,   1,      13,  300110,  2,19980502,1625,  49.1100,  -12.1983,    12,      9.9,  11.6942,  35.5920,2,  35.5919,2, -999.000,9,    277.1,2, -999.000,9, -999.000,9, -999.000,9, -999.000,9, -999.000,9, -999.000,9, -999.000,9, -999.000,9, -999.000,9
           NA,    AR19,      5,   1,      12,  300109,  2,19980502,1625,  49.1100,  -12.1983,    12,     50.4,  11.5609,  35.5883,2,  35.5895,2, -999.000,9,    272.3,2, -999.000,9, -999.000,9, -999.000,9, -999.000,9, -999.000,9, -999.000,9, -999.000,9, -999.000,9, -999.000,9
           NA,    AR19,      5,   1,      11,  300108,  2,19980502,1625,  49.1100,  -12.1983,    12,     99.7,  11.4654,  35.5826,2,  35.5851,2, -999.000,9,    269.3,2, -999.000,9, -999.000,9, -999.000,9, -999.000,9, -999.000,9, -999.000,9, -999.000,9, -999.000,9, -999.000,9
           NA,    AR19,      5,   1,       9,  300106,  2,19980502,1625,  49.1100,  -12.1983,    12,    298.7,  11.1611,  35.5629,2,  35.5629,2, -999.000,9,    257.2,2, -999.000,9, -999.000,9, -999.000,9, -999.000,9, -999.000,9, -999.000,9, -999.000,9, -999.000,9, -999.000,9
           NA,    AR19,      5,   1,       8,  300105,  2,19980502,1625,  49.1100,  -12.1983,    12,    418.8,  11.0862,  35.5522,2,  35.5525,2, -999.000,9,    253.6,2, -999.000,9, -999.000,9, -999.000,9, -999.000,9, -999.000,9, -999.000,9, -999.000,9, -999.000,9, -999.000,9
           NA,    AR19,      5,   1,       7,  300104,  2,19980502,1625,  49.1100,  -12.1983,    12,    498.9,  10.7012,  35.4990,2,  35.4981,2, -999.000,9,    235.3,2, -999.000,9, -999.000,9, -999.000,9, -999.000,9, -999.000,9, -999.000,9, -999.000,9, -999.000,9, -999.000,9
           NA,    AR19,      5,   1,       6,  300103,  2,19980502,1625,  49.1100,  -12.1983,    12,    697.8,  10.0130,  35.5194,2,  35.5202,2, -999.000,9,    206.1,2, -999.000,9, -999.000,9, -999.000,9, -999.000,9, -999.000,9, -999.000,9, -999.000,9, -999.000,9, -999.000,9
           NA,    AR19,      5,   1,       5,  300102,  2,19980502,1625,  49.1100,  -12.1983,    12,    846.6,   9.4431,  35.5908,2,  35.5887,2, -999.000,9,    200.5,2, -999.000,9, -999.000,9, -999.000,9, -999.000,9, -999.000,9, -999.000,9, -999.000,9, -999.000,9, -999.000,9
           NA,    AR19,      5,   1,       4,  300101,  2,19980502,1625,  49.1100,  -12.1983,    12,    965.2,   8.9647,  35.5937,2,  35.5907,2, -999.000,9,    198.5,2, -999.000,9, -999.000,9, -999.000,9, -999.000,9, -999.000,9, -999.000,9, -999.000,9, -999.000,9, -999.000,9
           NA,    AR19,      5,   1,       3,  300100,  2,19980502,1625,  49.1100,  -12.1983,    12,    986.5,   8.8601,  35.5869,2,  35.5847,2, -999.000,9,    199.2,2, -999.000,9, -999.000,9, -999.000,9, -999.000,9, -999.000,9, -999.000,9, -999.000,9, -999.000,9, -999.000,9
           NA,    AR19,      5,   1,       2,  300099,  2,19980502,1625,  49.1100,  -12.1983,    12,    999.9,   8.8421,  35.5854,2,  35.5835,2, -999.000,9,    199.1,2, -999.000,9, -999.000,9, -999.000,9, -999.000,9, -999.000,9, -999.000,9, -999.000,9, -999.000,9, -999.000,9