BOTTLE,20214525JOAExport
EXPOCODE,SECT_ID,STNNBR,CASTNO,SAMPNO,BTLNBR,BTLNBR_FLAG_W,DATE,TIME,LATITUDE,LONGITUDE,DEPTH,CTDPRS,CTDTMP,CTDSAL,CTDSAL_FLAG_W,SALNTY,SALNTY_FLAG_W,CTDOXY,CTDOXY_FLAG_W,OXYGEN,OXYGEN_FLAG_W,SILCAT,SILCAT_FLAG_W,NITRAT,NITRAT_FLAG_W,NITRIT,NITRIT_FLAG_W,PHSPHT,PHSPHT_FLAG_W,CFC-11,CFC-11_FLAG_W,CFC-12,CFC-12_FLAG_W,SF6,SF6_FLAG_W,TCARBN,TCARBN_FLAG_W,ALKALI,ALKALI_FLAG_W
,,,,,,,,,,,,DB,ITS-90,PSS-78,,PSS-78,,UMOL/KG,,UMOL/KG,,UMOL/KG,,UMOL/KG,,UMOL/KG,,UMOL/KG,,PMOL/KG,,PMOL/KG,,FMOL/KG,,UMOL/KG,,UMOL/KG
           NA,    AR19,     48,   1,      24,  301202,  2,19980515,1722,  43.4150,  -40.1700,    13,     11.3,  16.0487,  36.0206,2,-999.0000,3, -999.000,9,    252.6,2, -999.000,9, -999.000,9, -999.000,9, -999.000,9, -999.000,9, -999.000,9, -999.000,9, -999.000,9, -999.000,9
           NA,    AR19,     48,   1,      23,  301201,  2,19980515,1722,  43.4150,  -40.1700,    13,     52.3,  15.9316,  36.0712,2,  36.0693,2, -999.000,9,    249.1,2, -999.000,9, -999.000,9, -999.000,9, -999.000,9, -999.000,9, -999.000,9, -999.000,9, -999.000,9, -999.000,9
           NA,    AR19,     48,   1,      22,  301200,  2,19980515,1722,  43.4150,  -40.1700,    13,    100.3,  15.3386,  36.0736,2,  36.0725,2, -999.000,9,    237.9,2, -999.000,9, -999.000,9, -999.000,9, -999.000,9, -999.000,9, -999.000,9, -999.000,9, -999.000,9, -999.000,9
           NA,    AR19,     48,   1,      21,  301199,  2,19980515,1722,  43.4150,  -40.1700,    13,    200.9,  14.4849,  35.9475,2,  35.9453,2, -999.000,9,    229.6,2, -999.000,9, -999.000,9, -999.000,9, -999.000,9, -999.000,9, -999.000,9, -999.000,9, -999.000,9, -999.000,9
           NA,    AR19,     48,   1,      20,  301198,  2,19980515,1722,  43.4150,  -40.1700,    13,    396.8,  12.4955,  35.6096,2,-999.0000,3, -999.000,9,    190.8,2, -999.000,9, -999.000,9, -999.000,9, -999.000,9, -999.000,9, -999.000,9, -999.000,9, -999.000,9, -999.000,9
           NA,    AR19,     48,   1,      19,  301197,  2,19980515,1722,  43.4150,  -40.1700,    13,    598.1,   9.5216,  35.2449,2,-999.0000,3, -999.000,9,    178.9,2, -999.000,9, -999.000,9, -999.000,9, -999.000,9, -999.000,9, -999.000,9, -999.000,9, -999.000,9, -999.000,9
           NA,    AR19,     48,   1,      18,  301196,  2,19980515,1722,  43.4150,  -40.1700,    13,    751.2,   7.4258,  35.0929,2,  35.0932,2, -999.000,9,    187.3,2, -999.000,9, -999.000,9, -999.000,9, -999.000,9, -999.000,9, -999.000,9, -999.000,9, -999.000,9, -999.000,9
           NA,    AR19,     48,   1,      17,  301195,  2,19980515,1722,  43.4150,  -40.1700,    13,    999.5,   5.0558,  34.9937,2,  34.9937,2, -999.000,9,    237.8,2, -999.000,9, -999.000,9, -999.000,9, -999.000,9, -999.000,9, -999.000,9, -999.000,9, -999.000,9, -999.000,9
           NA,    AR19,     48,   1,      16,  301194,  2,19980515,1722,  43.4150,  -40.1700,    13,   1248.0,   4.3199,  34.9662,2,  34.9661,2, -999.000,9,    256.6,2, -999.000,9, -999.000,9, -999.000,9, -999.000,9, -999.000,9, -999.000,9, -999.000,9, -999.000,9, -999.000,9
           NA,    AR19,     48,   1,      15,  301193,  2,19980515,1722,  43.4150,  -40.1700,    13,   1547.6,   3.5943,  34.8960,2,  34.8972,2, -999.000,9,    278.5,2, -999.000,9, -999.000,9, -999.000,9, -999.000,9, -999.000,9, -999.000,9, -999.000,9, -999.000,9, -999.000,9
           NA,    AR19,     48,   1,      14,  301192,  2,19980515,1722,  43.4150,  -40.1700,    13,   1747.4,   3.4613,  34.8943,2,  34.8941,2, -999.000,9,    280.8,2, -999.000,9, -999.000,9, -999.000,9, -999.000,9, -999.000,9, -999.000,9, -999.000,9, -999.000,9, -999.000,9
           NA,    AR19,     48,   1,      13,  301191,  2,19980515,1722,  43.4150,  -40.1700,    13,   1999.4,   3.2232,  34.8750,2,  34.8746,2, -999.000,9,    287.7,2, -999.000,9, -999.000,9, -999.000,9, -999.000,9, -999.000,9, -999.000,9, -999.000,9, -999.000,9, -999.000,9
           NA,    AR19,     48,   1,      12,  301190,  2,19980515,1722,  43.4150,  -40.1700,    13,   2249.2,   3.1259,  34.8731,2,  34.8729,2, -999.000,9,    288.8,2, -999.000,9, -999.000,9, -999.000,9, -999.000,9, -999.000,9, -999.000,9, -999.000,9, -999.000,9, -999.000,9
           NA,    AR19,     48,   1,      11,  301189,  2,19980515,1722,  43.4150,  -40.1700,    13,   2499.9,   3.1332,  34.8907,2,  34.8903,2, -999.000,9,    284.2,2, -999.000,9, -999.000,9, -999.000,9, -999.000,9, -999.000,9, -999.000,9, -999.000,9, -999.000,9, -999.000,9
           NA,    AR19,     48,   1,      10,  301188,  2,19980515,1722,  43.4150,  -40.1700,    13,   2753.2,   3.0952,  34.9136,2,  34.9142,2, -999.000,9,    279.2,2, -999.000,9, -999.000,9, -999.000,9, -999.000,9, -999.000,9, -999.000,9, -999.000,9, -999.000,9, -999.000,9
           NA,    AR19,     48,   1,       9,  301187,  2,19980515,1722,  43.4150,  -40.1700,    13,   3000.1,   2.9970,  34.9286,2,  34.9286,2, -999.000,9,    272.3,2, -999.000,9, -999.000,9, -999.000,9, -999.000,9, -999.000,9, -999.000,9, -999.000,9, -999.000,9, -999.000,9
           NA,    AR19,     48,   1,       8,  301186,  2,19980515,1722,  43.4150,  -40.1700,    13,   3248.2,   2.8094,  34.9253,2,  34.9261,2, -999.000,9,    271.1,2, -999.000,9, -999.000,9, -999.000,9, -999.000,9, -999.000,9, -999.000,9, -999.000,9, -999.000,9, -999.000,9
           NA,    AR19,     48,   1,       7,  301185,  2,19980515,1722,  43.4150,  -40.1700,    13,   3499.8,   2.6077,  34.9174,2,  34.9181,2, -999.000,9,    271.8,2, -999.000,9, -999.000,9, -999.000,9, -999.000,9, -999.000,9, -999.000,9, -999.000,9, -999.000,9, -999.000,9
           NA,    AR19,     48,   1,       6,  301184,  2,19980515,1722,  43.4150,  -40.1700,    13,   3750.0,   2.4634,  34.9088,2,  34.9082,2, -999.000,9,    272.1,2, -999.000,9, -999.000,9, -999.000,9, -999.000,9, -999.000,9, -999.000,9, -999.000,9, -999.000,9, -999.000,9
           NA,    AR19,     48,   1,       5,  301183,  2,19980515,1722,  43.4150,  -40.1700,    13,   3999.5,   2.3742,  34.9021,2,  34.9022,2, -999.000,9,    271.7,2, -999.000,9, -999.000,9, -999.000,9, -999.000,9, -999.000,9, -999.000,9, -999.000,9, -999.000,9, -999.000,9
           NA,    AR19,     48,   1,       4,  301182,  2,19980515,1722,  43.4150,  -40.1700,    13,   4248.1,   2.3179,  34.8968,2,  34.8984,2, -999.000,9,    271.8,2, -999.000,9, -999.000,9, -999.000,9, -999.000,9, -999.000,9, -999.000,9, -999.000,9, -999.000,9, -999.000,9
           NA,    AR19,     48,   1,       3,  301181,  2,19980515,1722,  43.4150,  -40.1700,    13,   4798.9,   2.2761,  34.8897,2,  34.8893,2, -999.000,9,    272.3,2, -999.000,9, -999.000,9, -999.000,9, -999.000,9, -999.000,9, -999.000,9, -999.000,9, -999.000,9, -999.000,9
           NA,    AR19,     48,   1,       2,  301180,  2,19980515,1722,  43.4150,  -40.1700,    13,   4874.1,   2.2808,  34.8904,2,  34.8888,2, -999.000,9,    273.3,2, -999.000,9, -999.000,9, -999.000,9, -999.000,9, -999.000,9, -999.000,9, -999.000,9, -999.000,9, -999.000,9
           NA,    AR19,     48,   1,       1,  301179,  2,19980515,1722,  43.4150,  -40.1700,    13,   4897.2,   2.2831,  34.8904,2,  34.8892,2, -999.000,9,    273.0,2, -999.000,9, -999.000,9, -999.000,9, -999.000,9, -999.000,9, -999.000,9, -999.000,9, -999.000,9, -999.000,9
           NA,    AR19,     47,   1,      24,  301178,  2,19980515,1020,  43.6367,  -39.3683,    10,      8.3,  16.1405,  36.0923,2,  36.0908,2, -999.000,9,    248.5,2, -999.000,9, -999.000,9, -999.000,9, -999.000,9, -999.000,9, -999.000,9, -999.000,9, -999.000,9, -999.000,9
           NA,    AR19,     47,   1,      23,  301177,  2,19980515,1020,  43.6367,  -39.3683,    10,     48.4,  16.1403,  36.0921,2,  36.0909,2, -999.000,9,    248.4,2, -999.000,9, -999.000,9, -999.000,9, -999.000,9, -999.000,9, -999.000,9, -999.000,9, -999.000,9, -999.000,9
           NA,    AR19,     47,   1,      22,  301176,  2,19980515,1020,  43.6367,  -39.3683,    10,     99.3,  15.4584,  36.1125,2,  36.1113,2, -999.000,9,    217.5,2, -999.000,9, -999.000,9, -999.000,9, -999.000,9, -999.000,9, -999.000,9, -999.000,9, -999.000,9, -999.000,9
           NA,    AR19,     47,   1,      21,  301175,  2,19980515,1020,  43.6367,  -39.3683,    10,    297.8,  13.7133,  35.8052,2,  35.8018,2, -999.000,9,    216.9,2, -999.000,9, -999.000,9, -999.000,9, -999.000,9, -999.000,9, -999.000,9, -999.000,9, -999.000,9, -999.000,9
           NA,    AR19,     47,   1,      20,  301174,  2,19980515,1020,  43.6367,  -39.3683,    10,    394.9,  12.2913,  35.5771,2,  35.5757,2, -999.000,9,    186.2,2, -999.000,9, -999.000,9, -999.000,9, -999.000,9, -999.000,9, -999.000,9, -999.000,9, -999.000,9, -999.000,9
           NA,    AR19,     47,   1,      19,  301173,  2,19980515,1020,  43.6367,  -39.3683,    10,    599.2,   9.1611,  35.2068,2,  35.2067,2, -999.000,9,    170.6,2, -999.000,9, -999.000,9, -999.000,9, -999.000,9, -999.000,9, -999.000,9, -999.000,9, -999.000,9, -999.000,9
           NA,    AR19,     47,   1,      18,  301172,  2,19980515,1020,  43.6367,  -39.3683,    10,    796.9,   6.9341,  35.1098,2,  35.1107,2, -999.000,9,    199.1,2, -999.000,9, -999.000,9, -999.000,9, -999.000,9, -999.000,9, -999.000,9, -999.000,9, -999.000,9, -999.000,9
           NA,    AR19,     47,   1,      17,  301171,  2,19980515,1020,  43.6367,  -39.3683,    10,    999.8,   5.9408,  35.1385,2,  35.1405,2, -999.000,9,    222.6,2, -999.000,9, -999.000,9, -999.000,9, -999.000,9, -999.000,9, -999.000,9, -999.000,9, -999.000,9, -999.000,9
           NA,    AR19,     47,   1,      16,  301170,  2,19980515,1020,  43.6367,  -39.3683,    10,   1215.0,   4.6894,  35.0201,2,  35.0209,2, -999.000,9,    248.9,2, -999.000,9, -999.000,9, -999.000,9, -999.000,9, -999.000,9, -999.000,9, -999.000,9, -999.000,9, -999.000,9
           NA,    AR19,     47,   1,      15,  301169,  2,19980515,1020,  43.6367,  -39.3683,    10,   1497.6,   4.0943,  34.9715,2,  34.9719,2, -999.000,9,    262.5,2, -999.000,9, -999.000,9, -999.000,9, -999.000,9, -999.000,9, -999.000,9, -999.000,9, -999.000,9, -999.000,9
           NA,    AR19,     47,   1,      14,  301168,  2,19980515,1020,  43.6367,  -39.3683,    10,   1747.6,   3.6697,  34.9312,2,  34.9328,2, -999.000,9,    270.9,2, -999.000,9, -999.000,9, -999.000,9, -999.000,9, -999.000,9, -999.000,9, -999.000,9, -999.000,9, -999.000,9
           NA,    AR19,     47,   1,      13,  301167,  2,19980515,1020,  43.6367,  -39.3683,    10,   2131.1,   3.2994,  34.9020,2,  34.9013,2, -999.000,9,    279.9,2, -999.000,9, -999.000,9, -999.000,9, -999.000,9, -999.000,9, -999.000,9, -999.000,9, -999.000,9, -999.000,9
           NA,    AR19,     47,   1,      12,  301166,  2,19980515,1020,  43.6367,  -39.3683,    10,   2338.5,   3.1799,  34.8987,2,  34.8982,2, -999.000,9,    281.5,2, -999.000,9, -999.000,9, -999.000,9, -999.000,9, -999.000,9, -999.000,9, -999.000,9, -999.000,9, -999.000,9
           NA,    AR19,     47,   1,      11,  301165,  2,19980515,1020,  43.6367,  -39.3683,    10,   2599.4,   3.1599,  34.9278,2,  34.9278,2, -999.000,9,    272.2,2, -999.000,9, -999.000,9, -999.000,9, -999.000,9, -999.000,9, -999.000,9, -999.000,9, -999.000,9, -999.000,9
           NA,    AR19,     47,   1,      10,  301164,  2,19980515,1020,  43.6367,  -39.3683,    10,   2750.9,   3.0615,  34.9291,2,  34.9297,2, -999.000,9,    275.2,2, -999.000,9, -999.000,9, -999.000,9, -999.000,9, -999.000,9, -999.000,9, -999.000,9, -999.000,9, -999.000,9
           NA,    AR19,     47,   1,       9,  301163,  2,19980515,1020,  43.6367,  -39.3683,    10,   2996.7,   2.8468,  34.9256,2,  34.9257,2, -999.000,9,    273.5,2, -999.000,9, -999.000,9, -999.000,9, -999.000,9, -999.000,9, -999.000,9, -999.000,9, -999.000,9, -999.000,9
           NA,    AR19,     47,   1,       8,  301162,  2,19980515,1020,  43.6367,  -39.3683,    10,   3247.9,   2.6826,  34.9219,2,  34.9216,2, -999.000,9,    272.0,2, -999.000,9, -999.000,9, -999.000,9, -999.000,9, -999.000,9, -999.000,9, -999.000,9, -999.000,9, -999.000,9
           NA,    AR19,     47,   1,       7,  301161,  2,19980515,1020,  43.6367,  -39.3683,    10,   3498.2,   2.5118,  34.9141,2,  34.9135,2, -999.000,9,    272.3,2, -999.000,9, -999.000,9, -999.000,9, -999.000,9, -999.000,9, -999.000,9, -999.000,9, -999.000,9, -999.000,9
           NA,    AR19,     47,   1,       6,  301160,  2,19980515,1020,  43.6367,  -39.3683,    10,   3750.1,   2.3953,  34.9063,2,-999.0000,3, -999.000,9,    271.7,2, -999.000,9, -999.000,9, -999.000,9, -999.000,9, -999.000,9, -999.000,9, -999.000,9, -999.000,9, -999.000,9
           NA,    AR19,     47,   1,       5,  301159,  2,19980515,1020,  43.6367,  -39.3683,    10,   3999.3,   2.3181,  34.8998,2,-999.0000,3, -999.000,9,    270.9,2, -999.000,9, -999.000,9, -999.000,9, -999.000,9, -999.000,9, -999.000,9, -999.000,9, -999.000,9, -999.000,9
           NA,    AR19,     47,   1,       4,  301158,  2,19980515,1020,  43.6367,  -39.3683,    10,   4296.4,   2.2850,  34.8946,2,  34.8910,2, -999.000,9,    267.6,2, -999.000,9, -999.000,9, -999.000,9, -999.000,9, -999.000,9, -999.000,9, -999.000,9, -999.000,9, -999.000,9
           NA,    AR19,     47,   1,       3,  301157,  2,19980515,1020,  43.6367,  -39.3683,    10,   4647.5,   2.2907,  34.8915,2,  34.8883,2, -999.000,9,    268.0,2, -999.000,9, -999.000,9, -999.000,9, -999.000,9, -999.000,9, -999.000,9, -999.000,9, -999.000,9, -999.000,9
           NA,    AR19,     47,   1,       2,  301156,  2,19980515,1020,  43.6367,  -39.3683,    10,   4718.5,   2.2956,  34.8918,2,  34.8890,2, -999.000,9,    272.3,2, -999.000,9, -999.000,9, -999.000,9, -999.000,9, -999.000,9, -999.000,9, -999.000,9, -999.000,9, -999.000,9
           NA,    AR19,     47,   1,       1,  301155,  2,19980515,1020,  43.6367,  -39.3683,    10,   4745.5,   2.2954,  34.8912,2,  34.8889,2, -999.000,9,    268.9,2, -999.000,9, -999.000,9, -999.000,9, -999.000,9, -999.000,9, -999.000,9, -999.000,9, -999.000,9, -999.000,9