BOTTLE,20214525JOAExport
EXPOCODE,SECT_ID,STNNBR,CASTNO,SAMPNO,BTLNBR,BTLNBR_FLAG_W,DATE,TIME,LATITUDE,LONGITUDE,DEPTH,CTDPRS,CTDTMP,CTDSAL,CTDSAL_FLAG_W,SALNTY,SALNTY_FLAG_W,CTDOXY,CTDOXY_FLAG_W,OXYGEN,OXYGEN_FLAG_W,SILCAT,SILCAT_FLAG_W,NITRAT,NITRAT_FLAG_W,NITRIT,NITRIT_FLAG_W,PHSPHT,PHSPHT_FLAG_W,CFC-11,CFC-11_FLAG_W,CFC-12,CFC-12_FLAG_W,SF6,SF6_FLAG_W,TCARBN,TCARBN_FLAG_W,ALKALI,ALKALI_FLAG_W
,,,,,,,,,,,,DB,ITS-90,PSS-78,,PSS-78,,UMOL/KG,,UMOL/KG,,UMOL/KG,,UMOL/KG,,UMOL/KG,,UMOL/KG,,PMOL/KG,,PMOL/KG,,FMOL/KG,,UMOL/KG,,UMOL/KG
           NA,    AR19,     56,   1,      24,  301394,  2,19980518,0250,  42.2150,  -45.5317,     1,     12.7,  18.1574,  36.3227,2,-999.0000,3, -999.000,9,    240.2,2, -999.000,9, -999.000,9, -999.000,9, -999.000,9, -999.000,9, -999.000,9, -999.000,9, -999.000,9, -999.000,9
           NA,    AR19,     56,   1,      23,  301393,  2,19980518,0250,  42.2150,  -45.5317,     1,     49.6,  17.2111,  36.2770,2,-999.0000,3, -999.000,9,    237.5,2, -999.000,9, -999.000,9, -999.000,9, -999.000,9, -999.000,9, -999.000,9, -999.000,9, -999.000,9, -999.000,9
           NA,    AR19,     56,   1,      22,  301392,  2,19980518,0250,  42.2150,  -45.5317,     1,    100.8,  16.8061,  36.2361,2,-999.0000,3, -999.000,9,    228.8,2, -999.000,9, -999.000,9, -999.000,9, -999.000,9, -999.000,9, -999.000,9, -999.000,9, -999.000,9, -999.000,9
           NA,    AR19,     56,   1,      21,  301391,  2,19980518,0250,  42.2150,  -45.5317,     1,    196.5,  15.7940,  36.0859,2,-999.0000,3, -999.000,9,    212.0,2, -999.000,9, -999.000,9, -999.000,9, -999.000,9, -999.000,9, -999.000,9, -999.000,9, -999.000,9, -999.000,9
           NA,    AR19,     56,   1,      20,  301390,  2,19980518,0250,  42.2150,  -45.5317,     1,    400.0,  14.5935,  35.9350,2,  35.9360,2, -999.000,9,   -999.0,4, -999.000,9, -999.000,9, -999.000,9, -999.000,9, -999.000,9, -999.000,9, -999.000,9, -999.000,9, -999.000,9
           NA,    AR19,     56,   1,      19,  301389,  2,19980518,0250,  42.2150,  -45.5317,     1,    591.4,  11.5675,  35.4549,2,  35.4548,2, -999.000,9,    180.8,2, -999.000,9, -999.000,9, -999.000,9, -999.000,9, -999.000,9, -999.000,9, -999.000,9, -999.000,9, -999.000,9
           NA,    AR19,     56,   1,      18,  301388,  2,19980518,0250,  42.2150,  -45.5317,     1,    750.5,   9.0387,  35.2037,2,  35.2043,2, -999.000,9,    167.9,2, -999.000,9, -999.000,9, -999.000,9, -999.000,9, -999.000,9, -999.000,9, -999.000,9, -999.000,9, -999.000,9
           NA,    AR19,     56,   1,      17,  301387,  2,19980518,0250,  42.2150,  -45.5317,     1,   1000.1,   6.4543,  35.1478,2,-999.0000,4, -999.000,9,    213.5,2, -999.000,9, -999.000,9, -999.000,9, -999.000,9, -999.000,9, -999.000,9, -999.000,9, -999.000,9, -999.000,9
           NA,    AR19,     56,   1,      16,  301386,  2,19980518,0250,  42.2150,  -45.5317,     1,   1253.6,   4.7334,  35.0033,2,-999.0000,4, -999.000,9,    245.6,2, -999.000,9, -999.000,9, -999.000,9, -999.000,9, -999.000,9, -999.000,9, -999.000,9, -999.000,9, -999.000,9
           NA,    AR19,     56,   1,      15,  301385,  2,19980518,0250,  42.2150,  -45.5317,     1,   1496.4,   4.0785,  34.9510,2,  34.9516,2, -999.000,9,    263.9,2, -999.000,9, -999.000,9, -999.000,9, -999.000,9, -999.000,9, -999.000,9, -999.000,9, -999.000,9, -999.000,9
           NA,    AR19,     56,   1,      14,  301384,  2,19980518,0250,  42.2150,  -45.5317,     1,   1744.5,   3.6908,  34.9210,2,  34.9222,2, -999.000,9,    273.5,2, -999.000,9, -999.000,9, -999.000,9, -999.000,9, -999.000,9, -999.000,9, -999.000,9, -999.000,9, -999.000,9
           NA,    AR19,     56,   1,      13,  301383,  2,19980518,0250,  42.2150,  -45.5317,     1,   1994.2,   3.4204,  34.8991,2,  34.9010,2, -999.000,9,    281.0,2, -999.000,9, -999.000,9, -999.000,9, -999.000,9, -999.000,9, -999.000,9, -999.000,9, -999.000,9, -999.000,9
           NA,    AR19,     56,   1,      12,  301382,  2,19980518,0250,  42.2150,  -45.5317,     1,   2246.0,   3.2506,  34.8903,2,  34.8906,2, -999.000,9,    283.2,2, -999.000,9, -999.000,9, -999.000,9, -999.000,9, -999.000,9, -999.000,9, -999.000,9, -999.000,9, -999.000,9
           NA,    AR19,     56,   1,      11,  301381,  2,19980518,0250,  42.2150,  -45.5317,     1,   2493.4,   3.2049,  34.8969,2,  34.8981,2, -999.000,9,    281.8,2, -999.000,9, -999.000,9, -999.000,9, -999.000,9, -999.000,9, -999.000,9, -999.000,9, -999.000,9, -999.000,9
           NA,    AR19,     56,   1,      10,  301380,  2,19980518,0250,  42.2150,  -45.5317,     1,   2748.4,   3.1641,  34.9165,2,  34.9179,2, -999.000,9,    275.9,2, -999.000,9, -999.000,9, -999.000,9, -999.000,9, -999.000,9, -999.000,9, -999.000,9, -999.000,9, -999.000,9
           NA,    AR19,     56,   1,       9,  301379,  2,19980518,0250,  42.2150,  -45.5317,     1,   2998.3,   3.0664,  34.9290,2,  34.9308,2, -999.000,9,    271.5,2, -999.000,9, -999.000,9, -999.000,9, -999.000,9, -999.000,9, -999.000,9, -999.000,9, -999.000,9, -999.000,9
           NA,    AR19,     56,   1,       8,  301378,  2,19980518,0250,  42.2150,  -45.5317,     1,   3247.4,   2.8683,  34.9234,2,  34.9246,2, -999.000,9,    272.3,2, -999.000,9, -999.000,9, -999.000,9, -999.000,9, -999.000,9, -999.000,9, -999.000,9, -999.000,9, -999.000,9
           NA,    AR19,     56,   1,       7,  301377,  2,19980518,0250,  42.2150,  -45.5317,     1,   3498.8,   2.6662,  34.9175,2,  34.9178,2, -999.000,9,    272.5,2, -999.000,9, -999.000,9, -999.000,9, -999.000,9, -999.000,9, -999.000,9, -999.000,9, -999.000,9, -999.000,9
           NA,    AR19,     56,   1,       6,  301376,  2,19980518,0250,  42.2150,  -45.5317,     1,   3748.7,   2.4830,  34.9087,2,  34.9091,2, -999.000,9,    276.4,2, -999.000,9, -999.000,9, -999.000,9, -999.000,9, -999.000,9, -999.000,9, -999.000,9, -999.000,9, -999.000,9
           NA,    AR19,     56,   1,       5,  301375,  2,19980518,0250,  42.2150,  -45.5317,     1,   3997.7,   2.3655,  34.9003,2,  34.9013,2, -999.000,9,    273.2,2, -999.000,9, -999.000,9, -999.000,9, -999.000,9, -999.000,9, -999.000,9, -999.000,9, -999.000,9, -999.000,9
           NA,    AR19,     56,   1,       4,  301374,  2,19980518,0250,  42.2150,  -45.5317,     1,   4247.1,   2.3109,  34.8959,2,  34.8958,2, -999.000,9,    273.3,2, -999.000,9, -999.000,9, -999.000,9, -999.000,9, -999.000,9, -999.000,9, -999.000,9, -999.000,9, -999.000,9
           NA,    AR19,     56,   1,       3,  301373,  2,19980518,0250,  42.2150,  -45.5317,     1,   4732.0,   2.2342,  34.8889,2,  34.8877,2, -999.000,9,    276.4,2, -999.000,9, -999.000,9, -999.000,9, -999.000,9, -999.000,9, -999.000,9, -999.000,9, -999.000,9, -999.000,9
           NA,    AR19,     56,   1,       2,  301372,  2,19980518,0250,  42.2150,  -45.5317,     1,   4809.6,   2.2401,  34.8879,2,  34.8874,2, -999.000,9,    280.9,2, -999.000,9, -999.000,9, -999.000,9, -999.000,9, -999.000,9, -999.000,9, -999.000,9, -999.000,9, -999.000,9
           NA,    AR19,     56,   1,       1,  301371,  2,19980518,0250,  42.2150,  -45.5317,     1,   4834.7,   2.2435,  34.8880,2,  34.8869,2, -999.000,9,    273.7,2, -999.000,9, -999.000,9, -999.000,9, -999.000,9, -999.000,9, -999.000,9, -999.000,9, -999.000,9, -999.000,9
           NA,    AR19,     55,   1,      24,  301370,  2,19980517,2059,  42.0100,  -45.0100,     7,      9.0,  17.8646,  36.3930,2,  36.3901,2, -999.000,9,    244.3,2, -999.000,9, -999.000,9, -999.000,9, -999.000,9, -999.000,9, -999.000,9, -999.000,9, -999.000,9, -999.000,9
           NA,    AR19,     55,   1,      23,  301369,  2,19980517,2059,  42.0100,  -45.0100,     7,     47.4,  17.4460,  36.3659,2,  36.3634,2, -999.000,9,    231.3,2, -999.000,9, -999.000,9, -999.000,9, -999.000,9, -999.000,9, -999.000,9, -999.000,9, -999.000,9, -999.000,9
           NA,    AR19,     55,   1,      22,  301368,  2,19980517,2059,  42.0100,  -45.0100,     7,     99.3,  17.3293,  36.3943,2,  36.3921,2, -999.000,9,    228.0,2, -999.000,9, -999.000,9, -999.000,9, -999.000,9, -999.000,9, -999.000,9, -999.000,9, -999.000,9, -999.000,9
           NA,    AR19,     55,   1,      21,  301367,  2,19980517,2059,  42.0100,  -45.0100,     7,    197.9,  17.0484,  36.3788,2,-999.0000,3, -999.000,9,    220.0,2, -999.000,9, -999.000,9, -999.000,9, -999.000,9, -999.000,9, -999.000,9, -999.000,9, -999.000,9, -999.000,9
           NA,    AR19,     55,   1,      20,  301366,  2,19980517,2059,  42.0100,  -45.0100,     7,    397.1,  15.8658,  36.1993,2,  36.1968,2, -999.000,9,    227.8,2, -999.000,9, -999.000,9, -999.000,9, -999.000,9, -999.000,9, -999.000,9, -999.000,9, -999.000,9, -999.000,9
           NA,    AR19,     55,   1,      19,  301365,  2,19980517,2059,  42.0100,  -45.0100,     7,    596.5,  14.4453,  35.9261,2,-999.0000,3, -999.000,9,    206.9,2, -999.000,9, -999.000,9, -999.000,9, -999.000,9, -999.000,9, -999.000,9, -999.000,9, -999.000,9, -999.000,9
           NA,    AR19,     55,   1,      18,  301364,  2,19980517,2059,  42.0100,  -45.0100,     7,    746.3,  11.7036,  35.5020,2,  35.4995,2, -999.000,9,    167.4,2, -999.000,9, -999.000,9, -999.000,9, -999.000,9, -999.000,9, -999.000,9, -999.000,9, -999.000,9, -999.000,9
           NA,    AR19,     55,   1,      17,  301363,  2,19980517,2059,  42.0100,  -45.0100,     7,   1017.9,   6.5062,  34.9954,2,-999.0000,4, -999.000,9,    200.9,2, -999.000,9, -999.000,9, -999.000,9, -999.000,9, -999.000,9, -999.000,9, -999.000,9, -999.000,9, -999.000,9
           NA,    AR19,     55,   1,      16,  301362,  2,19980517,2059,  42.0100,  -45.0100,     7,   1247.0,   5.3819,  35.0700,2,  35.0702,2, -999.000,9,    231.9,2, -999.000,9, -999.000,9, -999.000,9, -999.000,9, -999.000,9, -999.000,9, -999.000,9, -999.000,9, -999.000,9
           NA,    AR19,     55,   1,      15,  301361,  2,19980517,2059,  42.0100,  -45.0100,     7,   1497.1,   4.5592,  35.0144,2,  35.0154,2, -999.000,9,    251.4,2, -999.000,9, -999.000,9, -999.000,9, -999.000,9, -999.000,9, -999.000,9, -999.000,9, -999.000,9, -999.000,9
           NA,    AR19,     55,   1,      14,  301360,  2,19980517,2059,  42.0100,  -45.0100,     7,   1748.5,   3.9579,  34.9559,2,  34.9573,2, -999.000,9,    264.7,2, -999.000,9, -999.000,9, -999.000,9, -999.000,9, -999.000,9, -999.000,9, -999.000,9, -999.000,9, -999.000,9
           NA,    AR19,     55,   1,      13,  301359,  2,19980517,2059,  42.0100,  -45.0100,     7,   1997.8,   3.5749,  34.9150,2,  34.9164,2, -999.000,9,    275.1,2, -999.000,9, -999.000,9, -999.000,9, -999.000,9, -999.000,9, -999.000,9, -999.000,9, -999.000,9, -999.000,9
           NA,    AR19,     55,   1,      12,  301358,  2,19980517,2059,  42.0100,  -45.0100,     7,   2249.3,   3.3111,  34.8894,2,  34.8904,2, -999.000,9,    282.8,2, -999.000,9, -999.000,9, -999.000,9, -999.000,9, -999.000,9, -999.000,9, -999.000,9, -999.000,9, -999.000,9
           NA,    AR19,     55,   1,      11,  301357,  2,19980517,2059,  42.0100,  -45.0100,     7,   2447.0,   3.1862,  34.8818,2,  34.8826,2, -999.000,9,    284.8,2, -999.000,9, -999.000,9, -999.000,9, -999.000,9, -999.000,9, -999.000,9, -999.000,9, -999.000,9, -999.000,9
           NA,    AR19,     55,   1,      10,  301356,  2,19980517,2059,  42.0100,  -45.0100,     7,   2872.8,   3.2478,  34.9354,2,  34.9350,2, -999.000,9,    266.7,2, -999.000,9, -999.000,9, -999.000,9, -999.000,9, -999.000,9, -999.000,9, -999.000,9, -999.000,9, -999.000,9
           NA,    AR19,     55,   1,       8,  301354,  2,19980517,2059,  42.0100,  -45.0100,     7,   3249.6,   2.9373,  34.9213,2,  34.9213,2, -999.000,9,    274.1,2, -999.000,9, -999.000,9, -999.000,9, -999.000,9, -999.000,9, -999.000,9, -999.000,9, -999.000,9, -999.000,9
           NA,    AR19,     55,   1,       7,  301353,  2,19980517,2059,  42.0100,  -45.0100,     7,   3499.5,   2.7424,  34.9174,2,  34.9178,2, -999.000,9,    274.0,2, -999.000,9, -999.000,9, -999.000,9, -999.000,9, -999.000,9, -999.000,9, -999.000,9, -999.000,9, -999.000,9
           NA,    AR19,     55,   1,       6,  301352,  2,19980517,2059,  42.0100,  -45.0100,     7,   3749.8,   2.5427,  34.9107,2,  34.9092,2, -999.000,9,    270.4,2, -999.000,9, -999.000,9, -999.000,9, -999.000,9, -999.000,9, -999.000,9, -999.000,9, -999.000,9, -999.000,9
           NA,    AR19,     55,   1,       5,  301351,  2,19980517,2059,  42.0100,  -45.0100,     7,   3999.6,   2.4071,  34.9024,2,  34.9012,2, -999.000,9,    270.0,2, -999.000,9, -999.000,9, -999.000,9, -999.000,9, -999.000,9, -999.000,9, -999.000,9, -999.000,9, -999.000,9
           NA,    AR19,     55,   1,       4,  301350,  2,19980517,2059,  42.0100,  -45.0100,     7,   4399.0,   2.3056,  34.8946,2,  34.8924,2, -999.000,9,    271.3,2, -999.000,9, -999.000,9, -999.000,9, -999.000,9, -999.000,9, -999.000,9, -999.000,9, -999.000,9, -999.000,9
           NA,    AR19,     55,   1,       3,  301349,  2,19980517,2059,  42.0100,  -45.0100,     7,   4822.7,   2.2539,  34.8887,2,  34.8874,2, -999.000,9,    275.6,2, -999.000,9, -999.000,9, -999.000,9, -999.000,9, -999.000,9, -999.000,9, -999.000,9, -999.000,9, -999.000,9
           NA,    AR19,     55,   1,       2,  301348,  2,19980517,2059,  42.0100,  -45.0100,     7,   4901.4,   2.2466,  34.8886,2,  34.8867,2, -999.000,9,    279.2,2, -999.000,9, -999.000,9, -999.000,9, -999.000,9, -999.000,9, -999.000,9, -999.000,9, -999.000,9, -999.000,9
           NA,    AR19,     55,   1,       1,  301347,  2,19980517,2059,  42.0100,  -45.0100,     7,   4928.3,   2.2505,  34.8887,2,  34.8866,2, -999.000,9,    277.5,2, -999.000,9, -999.000,9, -999.000,9, -999.000,9, -999.000,9, -999.000,9, -999.000,9, -999.000,9, -999.000,9