BOTTLE,20214525JOAExport
EXPOCODE,SECT_ID,STNNBR,CASTNO,SAMPNO,BTLNBR,BTLNBR_FLAG_W,DATE,TIME,LATITUDE,LONGITUDE,DEPTH,CTDPRS,CTDTMP,CTDSAL,CTDSAL_FLAG_W,SALNTY,SALNTY_FLAG_W,CTDOXY,CTDOXY_FLAG_W,OXYGEN,OXYGEN_FLAG_W,SILCAT,SILCAT_FLAG_W,NITRAT,NITRAT_FLAG_W,NITRIT,NITRIT_FLAG_W,PHSPHT,PHSPHT_FLAG_W,CFC-11,CFC-11_FLAG_W,CFC-12,CFC-12_FLAG_W,SF6,SF6_FLAG_W,TCARBN,TCARBN_FLAG_W,ALKALI,ALKALI_FLAG_W
,,,,,,,,,,,,DB,ITS-90,PSS-78,,PSS-78,,UMOL/KG,,UMOL/KG,,UMOL/KG,,UMOL/KG,,UMOL/KG,,UMOL/KG,,PMOL/KG,,PMOL/KG,,FMOL/KG,,UMOL/KG,,UMOL/KG
           NA,    AR19,     37,   1,      23,  300913,  2,19980512,0538,  46.0800,  -30.7683,     9,      9.9,  13.8186,  35.7876,2,  35.7852,2, -999.000,9,    267.0,2, -999.000,9, -999.000,9, -999.000,9, -999.000,9, -999.000,9, -999.000,9, -999.000,9, -999.000,9, -999.000,9
           NA,    AR19,     37,   1,      22,  300912,  2,19980512,0538,  46.0800,  -30.7683,     9,     49.2,  13.5893,  35.7857,2,  35.7850,2, -999.000,9,    255.5,2, -999.000,9, -999.000,9, -999.000,9, -999.000,9, -999.000,9, -999.000,9, -999.000,9, -999.000,9, -999.000,9
           NA,    AR19,     37,   1,      21,  300911,  2,19980512,0538,  46.0800,  -30.7683,     9,    100.7,  13.1318,  35.7339,2,  35.7348,2, -999.000,9,    245.6,2, -999.000,9, -999.000,9, -999.000,9, -999.000,9, -999.000,9, -999.000,9, -999.000,9, -999.000,9, -999.000,9
           NA,    AR19,     37,   1,      20,  300910,  2,19980512,0538,  46.0800,  -30.7683,     9,    198.5,  12.3792,  35.5990,2,  35.5957,2, -999.000,9,    238.0,2, -999.000,9, -999.000,9, -999.000,9, -999.000,9, -999.000,9, -999.000,9, -999.000,9, -999.000,9, -999.000,9
           NA,    AR19,     37,   1,      19,  300909,  2,19980512,0538,  46.0800,  -30.7683,     9,    398.7,  10.4534,  35.3662,2,  35.3640,2, -999.000,9,    201.5,2, -999.000,9, -999.000,9, -999.000,9, -999.000,9, -999.000,9, -999.000,9, -999.000,9, -999.000,9, -999.000,9
           NA,    AR19,     37,   1,      18,  300908,  2,19980512,0538,  46.0800,  -30.7683,     9,    599.5,   7.4368,  35.0288,2,  35.0279,2, -999.000,9,    197.0,2, -999.000,9, -999.000,9, -999.000,9, -999.000,9, -999.000,9, -999.000,9, -999.000,9, -999.000,9, -999.000,9
           NA,    AR19,     37,   1,      17,  300907,  2,19980512,0538,  46.0800,  -30.7683,     9,    679.3,   6.5260,  35.0276,2,  35.0283,2, -999.000,9,    205.9,2, -999.000,9, -999.000,9, -999.000,9, -999.000,9, -999.000,9, -999.000,9, -999.000,9, -999.000,9, -999.000,9
           NA,    AR19,     37,   1,      16,  300906,  2,19980512,0538,  46.0800,  -30.7683,     9,    758.8,   5.5579,  34.9704,2,  34.9710,2, -999.000,9,    224.8,2, -999.000,9, -999.000,9, -999.000,9, -999.000,9, -999.000,9, -999.000,9, -999.000,9, -999.000,9, -999.000,9
           NA,    AR19,     37,   1,      15,  300905,  2,19980512,0538,  46.0800,  -30.7683,     9,    898.0,   5.0923,  35.0124,2,  35.0125,2, -999.000,9,    235.8,2, -999.000,9, -999.000,9, -999.000,9, -999.000,9, -999.000,9, -999.000,9, -999.000,9, -999.000,9, -999.000,9
           NA,    AR19,     37,   1,      14,  300904,  2,19980512,0538,  46.0800,  -30.7683,     9,    998.5,   4.6255,  34.9831,2,  34.9831,2, -999.000,9,    249.8,2, -999.000,9, -999.000,9, -999.000,9, -999.000,9, -999.000,9, -999.000,9, -999.000,9, -999.000,9, -999.000,9
           NA,    AR19,     37,   1,      13,  300903,  2,19980512,0538,  46.0800,  -30.7683,     9,   1200.8,   4.0982,  34.9486,2,  34.9488,2, -999.000,9,    263.0,2, -999.000,9, -999.000,9, -999.000,9, -999.000,9, -999.000,9, -999.000,9, -999.000,9, -999.000,9, -999.000,9
           NA,    AR19,     37,   1,      12,  300902,  2,19980512,0538,  46.0800,  -30.7683,     9,   1397.3,   3.7564,  34.9210,2,  34.9214,2, -999.000,9,    271.2,2, -999.000,9, -999.000,9, -999.000,9, -999.000,9, -999.000,9, -999.000,9, -999.000,9, -999.000,9, -999.000,9
           NA,    AR19,     37,   1,      11,  300901,  2,19980512,0538,  46.0800,  -30.7683,     9,   1496.3,   3.6412,  34.9128,2,  34.9127,2, -999.000,9,    273.7,2, -999.000,9, -999.000,9, -999.000,9, -999.000,9, -999.000,9, -999.000,9, -999.000,9, -999.000,9, -999.000,9
           NA,    AR19,     37,   1,      10,  300900,  2,19980512,0538,  46.0800,  -30.7683,     9,   1598.5,   3.5244,  34.9050,2,  34.9042,2, -999.000,9,    277.1,2, -999.000,9, -999.000,9, -999.000,9, -999.000,9, -999.000,9, -999.000,9, -999.000,9, -999.000,9, -999.000,9
           NA,    AR19,     37,   1,       9,  300899,  2,19980512,0538,  46.0800,  -30.7683,     9,   1797.7,   3.3534,  34.8949,2,  34.8951,2, -999.000,9,    280.9,2, -999.000,9, -999.000,9, -999.000,9, -999.000,9, -999.000,9, -999.000,9, -999.000,9, -999.000,9, -999.000,9
           NA,    AR19,     37,   1,       8,  300898,  2,19980512,0538,  46.0800,  -30.7683,     9,   1998.5,   3.2562,  34.8954,2,  34.8946,2, -999.000,9,    281.1,2, -999.000,9, -999.000,9, -999.000,9, -999.000,9, -999.000,9, -999.000,9, -999.000,9, -999.000,9, -999.000,9
           NA,    AR19,     37,   1,       7,  300897,  2,19980512,0538,  46.0800,  -30.7683,     9,   2198.2,   3.2222,  34.9022,2,  34.9024,2, -999.000,9,    279.0,2, -999.000,9, -999.000,9, -999.000,9, -999.000,9, -999.000,9, -999.000,9, -999.000,9, -999.000,9, -999.000,9
           NA,    AR19,     37,   1,       6,  300896,  2,19980512,0538,  46.0800,  -30.7683,     9,   2397.7,   3.1819,  34.9164,2,  34.9179,2, -999.000,9,    274.8,2, -999.000,9, -999.000,9, -999.000,9, -999.000,9, -999.000,9, -999.000,9, -999.000,9, -999.000,9, -999.000,9
           NA,    AR19,     37,   1,       5,  300895,  2,19980512,0538,  46.0800,  -30.7683,     9,   2600.1,   3.1125,  34.9233,2,  34.9267,2, -999.000,9,    273.0,2, -999.000,9, -999.000,9, -999.000,9, -999.000,9, -999.000,9, -999.000,9, -999.000,9, -999.000,9, -999.000,9
           NA,    AR19,     37,   1,       4,  300894,  2,19980512,0538,  46.0800,  -30.7683,     9,   2800.8,   3.0035,  34.9264,2,  34.9256,2, -999.000,9,    273.3,2, -999.000,9, -999.000,9, -999.000,9, -999.000,9, -999.000,9, -999.000,9, -999.000,9, -999.000,9, -999.000,9
           NA,    AR19,     37,   1,       3,  300893,  2,19980512,0538,  46.0800,  -30.7683,     9,   2999.9,   2.8383,  34.9266,2,-999.0000,3, -999.000,9,    274.2,2, -999.000,9, -999.000,9, -999.000,9, -999.000,9, -999.000,9, -999.000,9, -999.000,9, -999.000,9, -999.000,9
           NA,    AR19,     37,   1,       2,  300892,  2,19980512,0538,  46.0800,  -30.7683,     9,   3200.3,   2.6978,  34.9230,2,  34.9202,2, -999.000,9,    273.8,2, -999.000,9, -999.000,9, -999.000,9, -999.000,9, -999.000,9, -999.000,9, -999.000,9, -999.000,9, -999.000,9
           NA,    AR19,     37,   1,       1,  300891,  2,19980512,0538,  46.0800,  -30.7683,     9,   3283.4,   2.6457,  34.9208,2,  34.9191,2, -999.000,9,    273.1,2, -999.000,9, -999.000,9, -999.000,9, -999.000,9, -999.000,9, -999.000,9, -999.000,9, -999.000,9, -999.000,9
           NA,    AR19,     35,   1,      24,  300866,  2,19980510,0050,  46.3700,  -29.7933,    31,      9.7,  13.7856,  35.7930,2,  35.7915,2, -999.000,9,    268.9,2, -999.000,9, -999.000,9, -999.000,9, -999.000,9, -999.000,9, -999.000,9, -999.000,9, -999.000,9, -999.000,9
           NA,    AR19,     35,   1,      23,  300865,  2,19980510,0050,  46.3700,  -29.7933,    31,     50.2,  13.5754,  35.8019,2,  35.8007,2, -999.000,9,    258.3,2, -999.000,9, -999.000,9, -999.000,9, -999.000,9, -999.000,9, -999.000,9, -999.000,9, -999.000,9, -999.000,9
           NA,    AR19,     35,   1,      22,  300864,  2,19980510,0050,  46.3700,  -29.7933,    31,     99.9,  13.3517,  35.7738,2,  35.7705,2, -999.000,9,    252.4,2, -999.000,9, -999.000,9, -999.000,9, -999.000,9, -999.000,9, -999.000,9, -999.000,9, -999.000,9, -999.000,9
           NA,    AR19,     35,   1,      21,  300863,  2,19980510,0050,  46.3700,  -29.7933,    31,    199.4,  12.5423,  35.6305,2,  35.6295,2, -999.000,9,    241.7,2, -999.000,9, -999.000,9, -999.000,9, -999.000,9, -999.000,9, -999.000,9, -999.000,9, -999.000,9, -999.000,9
           NA,    AR19,     35,   1,      20,  300862,  2,19980510,0050,  46.3700,  -29.7933,    31,    398.4,  10.8760,  35.4106,2,  35.4080,2, -999.000,9,    203.4,2, -999.000,9, -999.000,9, -999.000,9, -999.000,9, -999.000,9, -999.000,9, -999.000,9, -999.000,9, -999.000,9
           NA,    AR19,     35,   1,      19,  300861,  2,19980510,0050,  46.3700,  -29.7933,    31,    597.6,   8.5001,  35.1895,2,  35.1861,2, -999.000,9,    191.8,2, -999.000,9, -999.000,9, -999.000,9, -999.000,9, -999.000,9, -999.000,9, -999.000,9, -999.000,9, -999.000,9
           NA,    AR19,     35,   1,      18,  300860,  2,19980510,0050,  46.3700,  -29.7933,    31,    697.8,   6.9244,  35.0744,2,  35.0734,2, -999.000,9,    201.3,2, -999.000,9, -999.000,9, -999.000,9, -999.000,9, -999.000,9, -999.000,9, -999.000,9, -999.000,9, -999.000,9
           NA,    AR19,     35,   1,      17,  300859,  2,19980510,0050,  46.3700,  -29.7933,    31,    798.7,   6.2228,  35.0839,2,  35.0836,2, -999.000,9,    216.9,2, -999.000,9, -999.000,9, -999.000,9, -999.000,9, -999.000,9, -999.000,9, -999.000,9, -999.000,9, -999.000,9
           NA,    AR19,     35,   1,      16,  300858,  2,19980510,0050,  46.3700,  -29.7933,    31,    898.2,   5.6131,  35.0586,2,  35.0563,2, -999.000,9,    230.2,2, -999.000,9, -999.000,9, -999.000,9, -999.000,9, -999.000,9, -999.000,9, -999.000,9, -999.000,9, -999.000,9
           NA,    AR19,     35,   1,      15,  300857,  2,19980510,0050,  46.3700,  -29.7933,    31,    995.4,   5.3035,  35.0534,2,  35.0563,2, -999.000,9,    234.9,2, -999.000,9, -999.000,9, -999.000,9, -999.000,9, -999.000,9, -999.000,9, -999.000,9, -999.000,9, -999.000,9
           NA,    AR19,     35,   1,      14,  300856,  2,19980510,0050,  46.3700,  -29.7933,    31,   1195.7,   4.2796,  34.9622,2,  34.9627,2, -999.000,9,    261.6,2, -999.000,9, -999.000,9, -999.000,9, -999.000,9, -999.000,9, -999.000,9, -999.000,9, -999.000,9, -999.000,9
           NA,    AR19,     35,   1,      13,  300855,  2,19980510,0050,  46.3700,  -29.7933,    31,   1397.4,   3.8834,  34.9305,2,  34.9317,2, -999.000,9,    268.9,2, -999.000,9, -999.000,9, -999.000,9, -999.000,9, -999.000,9, -999.000,9, -999.000,9, -999.000,9, -999.000,9
           NA,    AR19,     35,   1,      12,  300854,  2,19980510,0050,  46.3700,  -29.7933,    31,   1497.9,   3.6793,  34.9140,2,  34.9141,2, -999.000,9,    277.4,2, -999.000,9, -999.000,9, -999.000,9, -999.000,9, -999.000,9, -999.000,9, -999.000,9, -999.000,9, -999.000,9
           NA,    AR19,     35,   1,      11,  300853,  2,19980510,0050,  46.3700,  -29.7933,    31,   1596.1,   3.6114,  34.9116,2,  34.9122,2, -999.000,9,    274.2,2, -999.000,9, -999.000,9, -999.000,9, -999.000,9, -999.000,9, -999.000,9, -999.000,9, -999.000,9, -999.000,9
           NA,    AR19,     35,   1,      10,  300852,  2,19980510,0050,  46.3700,  -29.7933,    31,   1796.8,   3.4500,  34.9046,2,  34.9051,2, -999.000,9,    277.7,2, -999.000,9, -999.000,9, -999.000,9, -999.000,9, -999.000,9, -999.000,9, -999.000,9, -999.000,9, -999.000,9
           NA,    AR19,     35,   1,       9,  300851,  2,19980510,0050,  46.3700,  -29.7933,    31,   1998.2,   3.3102,  34.9028,2,  34.9030,2, -999.000,9,    279.5,2, -999.000,9, -999.000,9, -999.000,9, -999.000,9, -999.000,9, -999.000,9, -999.000,9, -999.000,9, -999.000,9
           NA,    AR19,     35,   1,       8,  300850,  2,19980510,0050,  46.3700,  -29.7933,    31,   2198.4,   3.2314,  34.9134,2,  34.9112,2, -999.000,9,    277.0,2, -999.000,9, -999.000,9, -999.000,9, -999.000,9, -999.000,9, -999.000,9, -999.000,9, -999.000,9, -999.000,9
           NA,    AR19,     35,   1,       7,  300849,  2,19980510,0050,  46.3700,  -29.7933,    31,   2397.5,   3.1494,  34.9225,2,  34.9225,2, -999.000,9,    273.8,2, -999.000,9, -999.000,9, -999.000,9, -999.000,9, -999.000,9, -999.000,9, -999.000,9, -999.000,9, -999.000,9
           NA,    AR19,     35,   1,       6,  300848,  2,19980510,0050,  46.3700,  -29.7933,    31,   2597.2,   3.0363,  34.9278,2,  34.9276,2, -999.000,9,    272.4,2, -999.000,9, -999.000,9, -999.000,9, -999.000,9, -999.000,9, -999.000,9, -999.000,9, -999.000,9, -999.000,9
           NA,    AR19,     35,   1,       5,  300847,  2,19980510,0050,  46.3700,  -29.7933,    31,   2799.0,   2.8990,  34.9281,2,  34.9280,2, -999.000,9,    275.3,2, -999.000,9, -999.000,9, -999.000,9, -999.000,9, -999.000,9, -999.000,9, -999.000,9, -999.000,9, -999.000,9
           NA,    AR19,     35,   1,       4,  300846,  2,19980510,0050,  46.3700,  -29.7933,    31,   2900.2,   2.8425,  34.9278,2,  34.9270,2, -999.000,9,    273.3,2, -999.000,9, -999.000,9, -999.000,9, -999.000,9, -999.000,9, -999.000,9, -999.000,9, -999.000,9, -999.000,9
           NA,    AR19,     35,   1,       3,  300845,  2,19980510,0050,  46.3700,  -29.7933,    31,   3034.6,   2.7903,  34.9263,2,  34.9260,2, -999.000,9,   -999.0,3, -999.000,9, -999.000,9, -999.000,9, -999.000,9, -999.000,9, -999.000,9, -999.000,9, -999.000,9, -999.000,9
           NA,    AR19,     35,   1,       2,  300844,  2,19980510,0050,  46.3700,  -29.7933,    31,   3099.5,   2.7840,  34.9260,2,  34.9252,2, -999.000,9,    275.2,2, -999.000,9, -999.000,9, -999.000,9, -999.000,9, -999.000,9, -999.000,9, -999.000,9, -999.000,9, -999.000,9
           NA,    AR19,     35,   1,       1,  300843,  2,19980510,0050,  46.3700,  -29.7933,    31,   3127.7,   2.7770,  34.9256,2,  34.9245,2, -999.000,9,    275.5,2, -999.000,9, -999.000,9, -999.000,9, -999.000,9, -999.000,9, -999.000,9, -999.000,9, -999.000,9, -999.000,9