BOTTLE,20214525JOAExport
# Exported from JOA (5.5.0 Final September 29th, 2020) on 2021/03/25 02:45:36
#BOTTLE,20010918WHPSIOKJU,,,,,,,,,,,,,,,,,,,,,,,,,,,,,,,,,,,,,,
#code : jjward hyd_to_exchange.pl ,,,,,,,,,,,,,,,,,,,,,,,,,,,,,,,,,,,,,,,
#original files copied from HTML directory: 20010918,,,,,,,,,,,,,,,,,,,,,,,,,,,,,,,,,,,,,,,
#original HYD file: ar19_dhy.txt   Tue Sep 18 10:30:12 2001,,,,,,,,,,,,,,,,,,,,,,,,,,,,,,,,,,,,,,,
#original SUM file: ar19_dsu.txt   Tue Sep 18 10:31:33 2001,,,,,,,,,,,,,,,,,,,,,,,,,,,,,,,,,,,,,,,
EXPOCODE,SECT_ID,STNNBR,CASTNO,SAMPNO,BTLNBR,BTLNBR_FLAG_W,DATE,TIME,LATITUDE,LONGITUDE,DEPTH,CTDPRS,CTDTMP,CTDSAL,CTDSAL_FLAG_W,SALNTY,SALNTY_FLAG_W,CTDOXY,CTDOXY_FLAG_W,OXYGEN,OXYGEN_FLAG_W,SILCAT,SILCAT_FLAG_W,NITRAT,NITRAT_FLAG_W,NITRIT,NITRIT_FLAG_W,PHSPHT,PHSPHT_FLAG_W,CFC-11,CFC-11_FLAG_W,CFC-12,CFC-12_FLAG_W,SF6,SF6_FLAG_W,TCARBN,TCARBN_FLAG_W,ALKALI,ALKALI_FLAG_W
,,,,,,,,,,,,DB,ITS-90,PSS-78,,PSS-78,,UMOL/KG,,UMOL/KG,,UMOL/KG,,UMOL/KG,,UMOL/KG,,UMOL/KG,,PMOL/KG,,PMOL/KG,,FMOL/KG,,UMOL/KG,,UMOL/KG
           NA,    AR19,     70,   1,      22,  301680,  2,19980520,1355,  43.5033,  -50.0050,     6,      4.5,   6.8389,  32.8598,2,-999.0000,3, -999.000,9,    322.8,2, -999.000,9, -999.000,9, -999.000,9, -999.000,9, -999.000,9, -999.000,9, -999.000,9, -999.000,9, -999.000,9
           NA,    AR19,     70,   1,      21,  301679,  2,19980520,1355,  43.5033,  -50.0050,     6,     20.1,   5.3700,  32.8160,2,-999.0000,4, -999.000,9,    347.5,2, -999.000,9, -999.000,9, -999.000,9, -999.000,9, -999.000,9, -999.000,9, -999.000,9, -999.000,9, -999.000,9
           NA,    AR19,     70,   1,      20,  301678,  2,19980520,1355,  43.5033,  -50.0050,     6,     34.9,   2.5179,  32.9857,2,  32.9863,2, -999.000,9,    329.4,2, -999.000,9, -999.000,9, -999.000,9, -999.000,9, -999.000,9, -999.000,9, -999.000,9, -999.000,9, -999.000,9
           NA,    AR19,     70,   1,      19,  301677,  2,19980520,1355,  43.5033,  -50.0050,     6,     45.2,   2.4689,  32.9975,2,  32.9980,2, -999.000,9,    321.2,2, -999.000,9, -999.000,9, -999.000,9, -999.000,9, -999.000,9, -999.000,9, -999.000,9, -999.000,9, -999.000,9
           NA,    AR19,     70,   1,      18,  301676,  2,19980520,1355,  43.5033,  -50.0050,     6,     60.7,   2.5257,  33.0098,2,  33.0087,2, -999.000,9,    316.7,2, -999.000,9, -999.000,9, -999.000,9, -999.000,9, -999.000,9, -999.000,9, -999.000,9, -999.000,9, -999.000,9
           NA,    AR19,     69,   1,      17,  301675,  2,19980520,1119,  43.3350,  -49.5817,     5,      8.8,   3.6520,  32.5343,2,-999.0000,3, -999.000,9,    356.9,2, -999.000,9, -999.000,9, -999.000,9, -999.000,9, -999.000,9, -999.000,9, -999.000,9, -999.000,9, -999.000,9
           NA,    AR19,     69,   1,      16,  301674,  2,19980520,1119,  43.3350,  -49.5817,     5,     19.1,   1.8874,  32.6149,2,  32.6164,2, -999.000,9,    392.2,2, -999.000,9, -999.000,9, -999.000,9, -999.000,9, -999.000,9, -999.000,9, -999.000,9, -999.000,9, -999.000,9
           NA,    AR19,     69,   1,      14,  301672,  2,19980520,1119,  43.3350,  -49.5817,     5,     39.5,   0.4665,  32.8693,2,  32.8674,2, -999.000,9,    369.3,2, -999.000,9, -999.000,9, -999.000,9, -999.000,9, -999.000,9, -999.000,9, -999.000,9, -999.000,9, -999.000,9
           NA,    AR19,     69,   1,      13,  301671,  2,19980520,1119,  43.3350,  -49.5817,     5,     59.3,   0.4631,  32.9163,2,  32.9148,2, -999.000,9,    358.0,2, -999.000,9, -999.000,9, -999.000,9, -999.000,9, -999.000,9, -999.000,9, -999.000,9, -999.000,9, -999.000,9
           NA,    AR19,     69,   1,      12,  301670,  2,19980520,1119,  43.3350,  -49.5817,     5,     72.9,   0.4646,  32.9242,2,  32.9260,2, -999.000,9,    355.0,2, -999.000,9, -999.000,9, -999.000,9, -999.000,9, -999.000,9, -999.000,9, -999.000,9, -999.000,9, -999.000,9
           NA,    AR19,     69,   1,      11,  301669,  2,19980520,1119,  43.3350,  -49.5817,     5,     84.9,   0.3241,  32.9884,2,-999.0000,3, -999.000,9,    345.1,2, -999.000,9, -999.000,9, -999.000,9, -999.000,9, -999.000,9, -999.000,9, -999.000,9, -999.000,9, -999.000,9
           NA,    AR19,     68,   1,      10,  301668,  2,19980520,0923,  43.2533,  -49.3700,     9,     10.9,   2.3966,  32.6383,2,-999.0000,3, -999.000,9,    379.5,2, -999.000,9, -999.000,9, -999.000,9, -999.000,9, -999.000,9, -999.000,9, -999.000,9, -999.000,9, -999.000,9
           NA,    AR19,     68,   1,       9,  301667,  2,19980520,0923,  43.2533,  -49.3700,     9,     51.9,  -0.4561,  32.9405,2,  32.9434,2, -999.000,9,    361.5,2, -999.000,9, -999.000,9, -999.000,9, -999.000,9, -999.000,9, -999.000,9, -999.000,9, -999.000,9, -999.000,9
           NA,    AR19,     68,   1,       8,  301666,  2,19980520,0923,  43.2533,  -49.3700,     9,    100.1,  -0.7304,  33.1410,2,-999.0000,3, -999.000,9,    334.0,2, -999.000,9, -999.000,9, -999.000,9, -999.000,9, -999.000,9, -999.000,9, -999.000,9, -999.000,9, -999.000,9
           NA,    AR19,     68,   1,       7,  301665,  2,19980520,0923,  43.2533,  -49.3700,     9,    199.6,   0.9957,  33.7878,2,  33.7865,2, -999.000,9,    307.6,2, -999.000,9, -999.000,9, -999.000,9, -999.000,9, -999.000,9, -999.000,9, -999.000,9, -999.000,9, -999.000,9
           NA,    AR19,     68,   1,       5,  301663,  2,19980520,0923,  43.2533,  -49.3700,     9,    299.2,   3.0394,  34.4975,2,  34.5002,2, -999.000,9,    284.9,2, -999.000,9, -999.000,9, -999.000,9, -999.000,9, -999.000,9, -999.000,9, -999.000,9, -999.000,9, -999.000,9
           NA,    AR19,     68,   1,       4,  301662,  2,19980520,0923,  43.2533,  -49.3700,     9,    348.9,   3.3569,  34.6230,2,  34.6222,2, -999.000,9,    287.0,2, -999.000,9, -999.000,9, -999.000,9, -999.000,9, -999.000,9, -999.000,9, -999.000,9, -999.000,9, -999.000,9
           NA,    AR19,     68,   1,       3,  301661,  2,19980520,0923,  43.2533,  -49.3700,     9,    433.7,   3.5538,  34.7725,2,  34.7730,2, -999.000,9,    287.0,2, -999.000,9, -999.000,9, -999.000,9, -999.000,9, -999.000,9, -999.000,9, -999.000,9, -999.000,9, -999.000,9
           NA,    AR19,     68,   1,       2,  301660,  2,19980520,0923,  43.2533,  -49.3700,     9,    506.9,   3.5928,  34.8032,2,  34.7973,2, -999.000,9,    274.6,2, -999.000,9, -999.000,9, -999.000,9, -999.000,9, -999.000,9, -999.000,9, -999.000,9, -999.000,9, -999.000,9
           NA,    AR19,     68,   1,       1,  301659,  2,19980520,0923,  43.2533,  -49.3700,     9,    526.8,   3.6091,  34.8136,2,  34.8099,2, -999.000,9,    285.5,2, -999.000,9, -999.000,9, -999.000,9, -999.000,9, -999.000,9, -999.000,9, -999.000,9, -999.000,9, -999.000,9
           NA,    AR19,     67,   1,      24,  301658,  2,19980520,0720,  43.1900,  -49.1567,    12,     10.0,   4.0310,  32.6052,2,-999.0000,3, -999.000,9,    359.6,2, -999.000,9, -999.000,9, -999.000,9, -999.000,9, -999.000,9, -999.000,9, -999.000,9, -999.000,9, -999.000,9
           NA,    AR19,     67,   1,      23,  301657,  2,19980520,0720,  43.1900,  -49.1567,    12,     49.1,   3.7389,  33.7131,2,  33.7122,2, -999.000,9,    326.3,2, -999.000,9, -999.000,9, -999.000,9, -999.000,9, -999.000,9, -999.000,9, -999.000,9, -999.000,9, -999.000,9
           NA,    AR19,     67,   1,      22,  301656,  2,19980520,0720,  43.1900,  -49.1567,    12,    113.2,   5.0084,  34.4572,2,-999.0000,3, -999.000,9,    254.9,2, -999.000,9, -999.000,9, -999.000,9, -999.000,9, -999.000,9, -999.000,9, -999.000,9, -999.000,9, -999.000,9
           NA,    AR19,     67,   1,      21,  301655,  2,19980520,0720,  43.1900,  -49.1567,    12,    199.0,   2.9645,  34.4949,2,  34.4984,2, -999.000,9,    286.9,2, -999.000,9, -999.000,9, -999.000,9, -999.000,9, -999.000,9, -999.000,9, -999.000,9, -999.000,9, -999.000,9
           NA,    AR19,     67,   1,      20,  301654,  2,19980520,0720,  43.1900,  -49.1567,    12,    397.3,   3.5229,  34.7307,2,  34.7329,2, -999.000,9,    290.6,2, -999.000,9, -999.000,9, -999.000,9, -999.000,9, -999.000,9, -999.000,9, -999.000,9, -999.000,9, -999.000,9
           NA,    AR19,     67,   1,      19,  301653,  2,19980520,0720,  43.1900,  -49.1567,    12,    597.0,   3.5948,  34.8458,2,  34.8466,2, -999.000,9,    282.4,2, -999.000,9, -999.000,9, -999.000,9, -999.000,9, -999.000,9, -999.000,9, -999.000,9, -999.000,9, -999.000,9
           NA,    AR19,     67,   1,      18,  301652,  2,19980520,0720,  43.1900,  -49.1567,    12,    795.3,   3.4101,  34.8548,2,  34.8537,2, -999.000,9,    284.6,2, -999.000,9, -999.000,9, -999.000,9, -999.000,9, -999.000,9, -999.000,9, -999.000,9, -999.000,9, -999.000,9
           NA,    AR19,     67,   1,      17,  301651,  2,19980520,0720,  43.1900,  -49.1567,    12,    916.1,   3.3896,  34.8603,2,  34.8579,2, -999.000,9,    284.0,2, -999.000,9, -999.000,9, -999.000,9, -999.000,9, -999.000,9, -999.000,9, -999.000,9, -999.000,9, -999.000,9
           NA,    AR19,     67,   1,      16,  301650,  2,19980520,0720,  43.1900,  -49.1567,    12,    995.8,   3.3161,  34.8614,2,-999.0000,3, -999.000,9,    286.6,2, -999.000,9, -999.000,9, -999.000,9, -999.000,9, -999.000,9, -999.000,9, -999.000,9, -999.000,9, -999.000,9
           NA,    AR19,     67,   1,      15,  301649,  2,19980520,0720,  43.1900,  -49.1567,    12,   1012.2,   3.3136,  34.8612,2,  34.8582,2, -999.000,9,    286.2,2, -999.000,9, -999.000,9, -999.000,9, -999.000,9, -999.000,9, -999.000,9, -999.000,9, -999.000,9, -999.000,9
           NA,    AR19,     66,   1,      14,  301648,  2,19980520,0452,  43.1250,  -48.9833,     8,      9.5,   8.3235,  33.5413,2,  33.5468,2, -999.000,9,    306.2,2, -999.000,9, -999.000,9, -999.000,9, -999.000,9, -999.000,9, -999.000,9, -999.000,9, -999.000,9, -999.000,9
           NA,    AR19,     66,   1,      13,  301647,  2,19980520,0452,  43.1250,  -48.9833,     8,     50.4,   1.0507,  33.6305,2,  33.6341,2, -999.000,9,    335.0,2, -999.000,9, -999.000,9, -999.000,9, -999.000,9, -999.000,9, -999.000,9, -999.000,9, -999.000,9, -999.000,9
           NA,    AR19,     66,   1,      12,  301646,  2,19980520,0452,  43.1250,  -48.9833,     8,    101.3,   3.2768,  34.3338,2,  34.3285,2, -999.000,9,    282.8,2, -999.000,9, -999.000,9, -999.000,9, -999.000,9, -999.000,9, -999.000,9, -999.000,9, -999.000,9, -999.000,9
           NA,    AR19,     66,   1,      11,  301645,  2,19980520,0452,  43.1250,  -48.9833,     8,    200.8,   4.4199,  34.7400,2,-999.0000,3, -999.000,9,    253.9,2, -999.000,9, -999.000,9, -999.000,9, -999.000,9, -999.000,9, -999.000,9, -999.000,9, -999.000,9, -999.000,9
           NA,    AR19,     66,   1,      10,  301644,  2,19980520,0452,  43.1250,  -48.9833,     8,    308.8,   4.3965,  34.8526,2,  34.8587,2, -999.000,9,    258.5,2, -999.000,9, -999.000,9, -999.000,9, -999.000,9, -999.000,9, -999.000,9, -999.000,9, -999.000,9, -999.000,9
           NA,    AR19,     66,   1,       9,  301643,  2,19980520,0452,  43.1250,  -48.9833,     8,    380.4,   3.8597,  34.8216,2,  34.8275,2, -999.000,9,   -999.0,3, -999.000,9, -999.000,9, -999.000,9, -999.000,9, -999.000,9, -999.000,9, -999.000,9, -999.000,9, -999.000,9
           NA,    AR19,     66,   1,       8,  301642,  2,19980520,0452,  43.1250,  -48.9833,     8,    499.4,   3.9897,  34.8889,2,  34.8923,2, -999.000,9,    268.1,2, -999.000,9, -999.000,9, -999.000,9, -999.000,9, -999.000,9, -999.000,9, -999.000,9, -999.000,9, -999.000,9
           NA,    AR19,     66,   1,       7,  301641,  2,19980520,0452,  43.1250,  -48.9833,     8,    598.9,   3.8897,  34.8997,2,  34.9024,2, -999.000,9,    269.6,2, -999.000,9, -999.000,9, -999.000,9, -999.000,9, -999.000,9, -999.000,9, -999.000,9, -999.000,9, -999.000,9
           NA,    AR19,     66,   1,       6,  301640,  2,19980520,0452,  43.1250,  -48.9833,     8,    749.9,   3.5427,  34.8726,2,  34.8760,2, -999.000,9,    280.4,2, -999.000,9, -999.000,9, -999.000,9, -999.000,9, -999.000,9, -999.000,9, -999.000,9, -999.000,9, -999.000,9
           NA,    AR19,     66,   1,       5,  301639,  2,19980520,0452,  43.1250,  -48.9833,     8,    901.0,   3.5512,  34.8918,2,  34.8932,2, -999.000,9,    278.1,2, -999.000,9, -999.000,9, -999.000,9, -999.000,9, -999.000,9, -999.000,9, -999.000,9, -999.000,9, -999.000,9
           NA,    AR19,     66,   1,       4,  301638,  2,19980520,0452,  43.1250,  -48.9833,     8,   1241.7,   3.2851,  34.8781,2,  34.8781,2, -999.000,9,    284.8,2, -999.000,9, -999.000,9, -999.000,9, -999.000,9, -999.000,9, -999.000,9, -999.000,9, -999.000,9, -999.000,9
           NA,    AR19,     66,   1,       3,  301637,  2,19980520,0452,  43.1250,  -48.9833,     8,   1477.0,   3.1596,  34.8667,2,  34.8663,2, -999.000,9,    287.9,2, -999.000,9, -999.000,9, -999.000,9, -999.000,9, -999.000,9, -999.000,9, -999.000,9, -999.000,9, -999.000,9
           NA,    AR19,     66,   1,       2,  301636,  2,19980520,0452,  43.1250,  -48.9833,     8,   1543.5,   3.1548,  34.8675,2,  34.8679,2, -999.000,9,    288.7,2, -999.000,9, -999.000,9, -999.000,9, -999.000,9, -999.000,9, -999.000,9, -999.000,9, -999.000,9, -999.000,9
           NA,    AR19,     66,   1,       1,  301635,  2,19980520,0452,  43.1250,  -48.9833,     8,   1568.4,   3.1348,  34.8609,2,-999.0000,3, -999.000,9,    292.7,2, -999.000,9, -999.000,9, -999.000,9, -999.000,9, -999.000,9, -999.000,9, -999.000,9, -999.000,9, -999.000,9
           NA,    AR19,     65,   1,      23,  301633,  2,19980520,0152,  43.0883,  -48.8417,     8,      9.1,   8.0965,  33.2874,2,  33.2928,2, -999.000,9,    304.8,2, -999.000,9, -999.000,9, -999.000,9, -999.000,9, -999.000,9, -999.000,9, -999.000,9, -999.000,9, -999.000,9
           NA,    AR19,     65,   1,      22,  301632,  2,19980520,0152,  43.0883,  -48.8417,     8,     48.1,   3.8699,  33.8719,2,-999.0000,4, -999.000,9,    314.5,2, -999.000,9, -999.000,9, -999.000,9, -999.000,9, -999.000,9, -999.000,9, -999.000,9, -999.000,9, -999.000,9
           NA,    AR19,     65,   1,      21,  301631,  2,19980520,0152,  43.0883,  -48.8417,     8,     99.5,   3.5056,  34.3851,2,  34.3944,2, -999.000,9,    277.5,2, -999.000,9, -999.000,9, -999.000,9, -999.000,9, -999.000,9, -999.000,9, -999.000,9, -999.000,9, -999.000,9
           NA,    AR19,     65,   1,      20,  301630,  2,19980520,0152,  43.0883,  -48.8417,     8,    197.9,   4.2946,  34.7811,2,-999.0000,4, -999.000,9,    247.5,2, -999.000,9, -999.000,9, -999.000,9, -999.000,9, -999.000,9, -999.000,9, -999.000,9, -999.000,9, -999.000,9
           NA,    AR19,     65,   1,      19,  301629,  2,19980520,0152,  43.0883,  -48.8417,     8,    298.3,   3.5856,  34.7564,2,  34.7634,2, -999.000,9,    288.0,2, -999.000,9, -999.000,9, -999.000,9, -999.000,9, -999.000,9, -999.000,9, -999.000,9, -999.000,9, -999.000,9
           NA,    AR19,     65,   1,      18,  301628,  2,19980520,0152,  43.0883,  -48.8417,     8,    399.0,   3.7304,  34.8240,2,  34.8305,2, -999.000,9,    282.5,2, -999.000,9, -999.000,9, -999.000,9, -999.000,9, -999.000,9, -999.000,9, -999.000,9, -999.000,9, -999.000,9
           NA,    AR19,     65,   1,      17,  301627,  2,19980520,0152,  43.0883,  -48.8417,     8,    497.8,   3.6036,  34.8385,2,  34.8439,2, -999.000,9,    282.2,2, -999.000,9, -999.000,9, -999.000,9, -999.000,9, -999.000,9, -999.000,9, -999.000,9, -999.000,9, -999.000,9
           NA,    AR19,     65,   1,      16,  301626,  2,19980520,0152,  43.0883,  -48.8417,     8,    598.5,   3.7443,  34.8797,2,  34.8807,2, -999.000,9,    276.5,2, -999.000,9, -999.000,9, -999.000,9, -999.000,9, -999.000,9, -999.000,9, -999.000,9, -999.000,9, -999.000,9
           NA,    AR19,     65,   1,      15,  301625,  2,19980520,0152,  43.0883,  -48.8417,     8,    697.7,   3.4366,  34.8532,2,-999.0000,3, -999.000,9,    285.5,2, -999.000,9, -999.000,9, -999.000,9, -999.000,9, -999.000,9, -999.000,9, -999.000,9, -999.000,9, -999.000,9
           NA,    AR19,     65,   1,      14,  301624,  2,19980520,0152,  43.0883,  -48.8417,     8,    792.8,   3.5729,  34.8883,2,  34.8900,2, -999.000,9,    282.9,2, -999.000,9, -999.000,9, -999.000,9, -999.000,9, -999.000,9, -999.000,9, -999.000,9, -999.000,9, -999.000,9
           NA,    AR19,     65,   1,      13,  301623,  2,19980520,0152,  43.0883,  -48.8417,     8,    897.0,   3.3667,  34.8662,2,  34.8689,2, -999.000,9,    285.6,2, -999.000,9, -999.000,9, -999.000,9, -999.000,9, -999.000,9, -999.000,9, -999.000,9, -999.000,9, -999.000,9
           NA,    AR19,     65,   1,      12,  301622,  2,19980520,0152,  43.0883,  -48.8417,     8,    998.0,   3.3026,  34.8675,2,  34.8698,2, -999.000,9,    285.2,2, -999.000,9, -999.000,9, -999.000,9, -999.000,9, -999.000,9, -999.000,9, -999.000,9, -999.000,9, -999.000,9
           NA,    AR19,     65,   1,      11,  301621,  2,19980520,0152,  43.0883,  -48.8417,     8,   1097.9,   3.2373,  34.8624,2,  34.8637,2, -999.000,9,    287.0,2, -999.000,9, -999.000,9, -999.000,9, -999.000,9, -999.000,9, -999.000,9, -999.000,9, -999.000,9, -999.000,9
           NA,    AR19,     65,   1,      10,  301620,  2,19980520,0152,  43.0883,  -48.8417,     8,   1197.0,   3.2029,  34.8597,2,  34.8618,2, -999.000,9,    287.8,2, -999.000,9, -999.000,9, -999.000,9, -999.000,9, -999.000,9, -999.000,9, -999.000,9, -999.000,9, -999.000,9
           NA,    AR19,     65,   1,       9,  301619,  2,19980520,0152,  43.0883,  -48.8417,     8,   1297.4,   3.1885,  34.8626,2,  34.8631,2, -999.000,9,    288.1,2, -999.000,9, -999.000,9, -999.000,9, -999.000,9, -999.000,9, -999.000,9, -999.000,9, -999.000,9, -999.000,9
           NA,    AR19,     65,   1,       8,  301618,  2,19980520,0152,  43.0883,  -48.8417,     8,   1398.2,   3.1641,  34.8652,2,  34.8656,2, -999.000,9,    288.8,2, -999.000,9, -999.000,9, -999.000,9, -999.000,9, -999.000,9, -999.000,9, -999.000,9, -999.000,9, -999.000,9
           NA,    AR19,     65,   1,       7,  301617,  2,19980520,0152,  43.0883,  -48.8417,     8,   1496.4,   3.1311,  34.8656,2,  34.8660,2, -999.000,9,    289.3,2, -999.000,9, -999.000,9, -999.000,9, -999.000,9, -999.000,9, -999.000,9, -999.000,9, -999.000,9, -999.000,9
           NA,    AR19,     65,   1,       6,  301616,  2,19980520,0152,  43.0883,  -48.8417,     8,   1597.2,   3.1056,  34.8672,2,  34.8674,2, -999.000,9,    289.1,2, -999.000,9, -999.000,9, -999.000,9, -999.000,9, -999.000,9, -999.000,9, -999.000,9, -999.000,9, -999.000,9
           NA,    AR19,     65,   1,       5,  301615,  2,19980520,0152,  43.0883,  -48.8417,     8,   1699.2,   3.0922,  34.8680,2,  34.8685,2, -999.000,9,    289.3,2, -999.000,9, -999.000,9, -999.000,9, -999.000,9, -999.000,9, -999.000,9, -999.000,9, -999.000,9, -999.000,9
           NA,    AR19,     65,   1,       4,  301614,  2,19980520,0152,  43.0883,  -48.8417,     8,   1797.5,   3.0862,  34.8698,2,  34.8696,2, -999.000,9,    290.0,2, -999.000,9, -999.000,9, -999.000,9, -999.000,9, -999.000,9, -999.000,9, -999.000,9, -999.000,9, -999.000,9
           NA,    AR19,     65,   1,       3,  301613,  2,19980520,0152,  43.0883,  -48.8417,     8,   1897.9,   3.0850,  34.8713,2,  34.8704,2, -999.000,9,    292.8,2, -999.000,9, -999.000,9, -999.000,9, -999.000,9, -999.000,9, -999.000,9, -999.000,9, -999.000,9, -999.000,9
           NA,    AR19,     65,   1,       2,  301612,  2,19980520,0152,  43.0883,  -48.8417,     8,   1957.6,   3.0802,  34.8726,2,  34.8728,2, -999.000,9,    289.8,2, -999.000,9, -999.000,9, -999.000,9, -999.000,9, -999.000,9, -999.000,9, -999.000,9, -999.000,9, -999.000,9
           NA,    AR19,     65,   1,       1,  301611,  2,19980520,0152,  43.0883,  -48.8417,     8,   2038.1,   3.0757,  34.8742,2,  34.8761,2, -999.000,9,    293.7,2, -999.000,9, -999.000,9, -999.000,9, -999.000,9, -999.000,9, -999.000,9, -999.000,9, -999.000,9, -999.000,9