BOTTLE,20214525JOAExport
EXPOCODE,SECT_ID,STNNBR,CASTNO,SAMPNO,BTLNBR,BTLNBR_FLAG_W,DATE,TIME,LATITUDE,LONGITUDE,DEPTH,CTDPRS,CTDTMP,CTDSAL,CTDSAL_FLAG_W,SALNTY,SALNTY_FLAG_W,CTDOXY,CTDOXY_FLAG_W,OXYGEN,OXYGEN_FLAG_W,SILCAT,SILCAT_FLAG_W,NITRAT,NITRAT_FLAG_W,NITRIT,NITRIT_FLAG_W,PHSPHT,PHSPHT_FLAG_W,CFC-11,CFC-11_FLAG_W,CFC-12,CFC-12_FLAG_W,SF6,SF6_FLAG_W,TCARBN,TCARBN_FLAG_W,ALKALI,ALKALI_FLAG_W
,,,,,,,,,,,,DB,ITS-90,PSS-78,,PSS-78,,UMOL/KG,,UMOL/KG,,UMOL/KG,,UMOL/KG,,UMOL/KG,,UMOL/KG,,PMOL/KG,,PMOL/KG,,FMOL/KG,,UMOL/KG,,UMOL/KG
           NA,    AR19,     20,  99,      24,  300458,  2,19980506,0410,  47.9000,  -20.6583,    19,     10.9,  12.9817,  35.6683,2,-999.0000,9, -999.000,9,    268.4,2, -999.000,9, -999.000,9, -999.000,9, -999.000,9, -999.000,9, -999.000,9, -999.000,9, -999.000,9, -999.000,9
           NA,    AR19,     20,  99,      23,  300457,  2,19980506,0410,  47.9000,  -20.6583,    19,     42.2,  12.4913,  35.6587,2,  35.6613,2, -999.000,9,    257.0,2, -999.000,9, -999.000,9, -999.000,9, -999.000,9, -999.000,9, -999.000,9, -999.000,9, -999.000,9, -999.000,9
           NA,    AR19,     20,  99,      22,  300456,  2,19980506,0410,  47.9000,  -20.6583,    19,     98.4,  12.5934,  35.6902,2,  35.6949,2, -999.000,9,    256.6,2, -999.000,9, -999.000,9, -999.000,9, -999.000,9, -999.000,9, -999.000,9, -999.000,9, -999.000,9, -999.000,9
           NA,    AR19,     20,  99,      21,  300455,  2,19980506,0410,  47.9000,  -20.6583,    19,    200.8,  12.1784,  35.6205,2,  35.6217,2, -999.000,9,    247.5,2, -999.000,9, -999.000,9, -999.000,9, -999.000,9, -999.000,9, -999.000,9, -999.000,9, -999.000,9, -999.000,9
           NA,    AR19,     20,  99,      20,  300454,  2,19980506,0410,  47.9000,  -20.6583,    19,    400.7,  11.1248,  35.4564,2,  35.4588,2, -999.000,9,    244.3,2, -999.000,9, -999.000,9, -999.000,9, -999.000,9, -999.000,9, -999.000,9, -999.000,9, -999.000,9, -999.000,9
           NA,    AR19,     20,  99,      19,  300453,  2,19980506,0410,  47.9000,  -20.6583,    19,    596.9,   9.7442,  35.3525,2,  35.3550,2, -999.000,9,    206.2,2, -999.000,9, -999.000,9, -999.000,9, -999.000,9, -999.000,9, -999.000,9, -999.000,9, -999.000,9, -999.000,9
           NA,    AR19,     20,  99,      18,  300452,  2,19980506,0410,  47.9000,  -20.6583,    19,    748.8,   7.8008,  35.1668,2,  35.1701,2, -999.000,9,    198.3,2, -999.000,9, -999.000,9, -999.000,9, -999.000,9, -999.000,9, -999.000,9, -999.000,9, -999.000,9, -999.000,9
           NA,    AR19,     20,  99,      17,  300451,  2,19980506,0410,  47.9000,  -20.6583,    19,    846.2,   7.3709,  35.2310,2,  35.2228,2, -999.000,9,    204.8,2, -999.000,9, -999.000,9, -999.000,9, -999.000,9, -999.000,9, -999.000,9, -999.000,9, -999.000,9, -999.000,9
           NA,    AR19,     20,  99,      16,  300450,  2,19980506,0410,  47.9000,  -20.6583,    19,    988.7,   6.1795,  35.1385,2,  35.1395,2, -999.000,9,    221.4,2, -999.000,9, -999.000,9, -999.000,9, -999.000,9, -999.000,9, -999.000,9, -999.000,9, -999.000,9, -999.000,9
           NA,    AR19,     20,  99,      15,  300449,  2,19980506,0410,  47.9000,  -20.6583,    19,   1245.9,   4.5992,  34.9983,2,  34.9992,2, -999.000,9,    250.6,2, -999.000,9, -999.000,9, -999.000,9, -999.000,9, -999.000,9, -999.000,9, -999.000,9, -999.000,9, -999.000,9
           NA,    AR19,     20,  99,      14,  300448,  2,19980506,0410,  47.9000,  -20.6583,    19,   1496.9,   3.8294,  34.9207,2,-999.0000,4, -999.000,9,    266.9,2, -999.000,9, -999.000,9, -999.000,9, -999.000,9, -999.000,9, -999.000,9, -999.000,9, -999.000,9, -999.000,9
           NA,    AR19,     20,  99,      13,  300447,  2,19980506,0410,  47.9000,  -20.6583,    19,   1747.5,   3.5315,  34.8975,2,  34.8996,2, -999.000,9,    278.1,2, -999.000,9, -999.000,9, -999.000,9, -999.000,9, -999.000,9, -999.000,9, -999.000,9, -999.000,9, -999.000,9
           NA,    AR19,     20,  99,      14,  300472,  2,19980506,0410,  47.9000,  -20.6583,    19,   1777.8,   3.4659,  34.8936,2,  34.8935,2, -999.000,9,    279.8,2, -999.000,9, -999.000,9, -999.000,9, -999.000,9, -999.000,9, -999.000,9, -999.000,9, -999.000,9, -999.000,9
           NA,    AR19,     20,  99,      15,  300473,  2,19980506,0410,  47.9000,  -20.6583,    19,   1779.4,   3.4659,  34.8937,2,  34.8936,2, -999.000,9,    279.9,2, -999.000,9, -999.000,9, -999.000,9, -999.000,9, -999.000,9, -999.000,9, -999.000,9, -999.000,9, -999.000,9
           NA,    AR19,     20,  99,      13,  300471,  2,19980506,0410,  47.9000,  -20.6583,    19,   1780.2,   3.4658,  34.8930,2,  34.8934,2, -999.000,9,    280.3,2, -999.000,9, -999.000,9, -999.000,9, -999.000,9, -999.000,9, -999.000,9, -999.000,9, -999.000,9, -999.000,9
           NA,    AR19,     20,  99,      16,  300474,  2,19980506,0410,  47.9000,  -20.6583,    19,   1784.3,   3.4636,  34.8894,2,  34.8945,2, -999.000,9,    279.7,2, -999.000,9, -999.000,9, -999.000,9, -999.000,9, -999.000,9, -999.000,9, -999.000,9, -999.000,9, -999.000,9
           NA,    AR19,     20,  99,      17,  300475,  2,19980506,0410,  47.9000,  -20.6583,    19,   1791.0,   3.4579,  34.8941,2,  34.8946,2, -999.000,9,    279.5,2, -999.000,9, -999.000,9, -999.000,9, -999.000,9, -999.000,9, -999.000,9, -999.000,9, -999.000,9, -999.000,9
           NA,    AR19,     20,  99,      18,  300476,  2,19980506,0410,  47.9000,  -20.6583,    19,   1798.8,   3.4507,  34.8933,2,  34.8935,2, -999.000,9,    279.5,2, -999.000,9, -999.000,9, -999.000,9, -999.000,9, -999.000,9, -999.000,9, -999.000,9, -999.000,9, -999.000,9
           NA,    AR19,     20,  99,      19,  300477,  2,19980506,0410,  47.9000,  -20.6583,    19,   1807.2,   3.4441,  34.8927,2,  34.8924,2, -999.000,9,   -999.0,3, -999.000,9, -999.000,9, -999.000,9, -999.000,9, -999.000,9, -999.000,9, -999.000,9, -999.000,9, -999.000,9
           NA,    AR19,     20,  99,      20,  300478,  2,19980506,0410,  47.9000,  -20.6583,    19,   1815.7,   3.4365,  34.8926,2,  34.8918,2, -999.000,9,   -999.0,3, -999.000,9, -999.000,9, -999.000,9, -999.000,9, -999.000,9, -999.000,9, -999.000,9, -999.000,9, -999.000,9
           NA,    AR19,     20,  99,      21,  300479,  2,19980506,0410,  47.9000,  -20.6583,    19,   1823.7,   3.4314,  34.8922,2,  34.8914,2, -999.000,9,    277.7,2, -999.000,9, -999.000,9, -999.000,9, -999.000,9, -999.000,9, -999.000,9, -999.000,9, -999.000,9, -999.000,9
           NA,    AR19,     20,  99,      22,  300480,  2,19980506,0410,  47.9000,  -20.6583,    19,   1830.3,   3.4251,  34.8919,2,  34.8927,2, -999.000,9,    278.5,2, -999.000,9, -999.000,9, -999.000,9, -999.000,9, -999.000,9, -999.000,9, -999.000,9, -999.000,9, -999.000,9
           NA,    AR19,     20,  99,      23,  300481,  2,19980506,0410,  47.9000,  -20.6583,    19,   1835.5,   3.4215,  34.8920,2,  34.8917,2, -999.000,9,    278.4,2, -999.000,9, -999.000,9, -999.000,9, -999.000,9, -999.000,9, -999.000,9, -999.000,9, -999.000,9, -999.000,9
           NA,    AR19,     20,  99,      24,  300482,  2,19980506,0410,  47.9000,  -20.6583,    19,   1835.7,   3.4220,  34.8919,2,  34.8918,2, -999.000,9,    279.5,2, -999.000,9, -999.000,9, -999.000,9, -999.000,9, -999.000,9, -999.000,9, -999.000,9, -999.000,9, -999.000,9
           NA,    AR19,     20,  99,      12,  300446,  2,19980506,0410,  47.9000,  -20.6583,    19,   2048.5,   3.3253,  34.8956,2,  34.8964,2, -999.000,9,    280.8,2, -999.000,9, -999.000,9, -999.000,9, -999.000,9, -999.000,9, -999.000,9, -999.000,9, -999.000,9, -999.000,9
           NA,    AR19,     20,  99,      11,  300445,  2,19980506,0410,  47.9000,  -20.6583,    19,   2250.1,   3.2919,  34.9135,2,  34.9153,2, -999.000,9,    277.3,2, -999.000,9, -999.000,9, -999.000,9, -999.000,9, -999.000,9, -999.000,9, -999.000,9, -999.000,9, -999.000,9
           NA,    AR19,     20,  99,      10,  300444,  2,19980506,0410,  47.9000,  -20.6583,    19,   2499.5,   3.2136,  34.9390,2,  34.9419,2, -999.000,9,    272.0,2, -999.000,9, -999.000,9, -999.000,9, -999.000,9, -999.000,9, -999.000,9, -999.000,9, -999.000,9, -999.000,9
           NA,    AR19,     20,  99,      12,  300470,  2,19980506,0410,  47.9000,  -20.6583,    19,   2651.5,   3.1195,  34.9491,2,  34.9492,2, -999.000,9,    267.2,2, -999.000,9, -999.000,9, -999.000,9, -999.000,9, -999.000,9, -999.000,9, -999.000,9, -999.000,9, -999.000,9
           NA,    AR19,     20,  99,      11,  300469,  2,19980506,0410,  47.9000,  -20.6583,    19,   2658.9,   3.1118,  34.9493,2,  34.9495,2, -999.000,9,    267.1,2, -999.000,9, -999.000,9, -999.000,9, -999.000,9, -999.000,9, -999.000,9, -999.000,9, -999.000,9, -999.000,9
           NA,    AR19,     20,  99,      10,  300468,  2,19980506,0410,  47.9000,  -20.6583,    19,   2665.8,   3.1090,  34.9494,2,  34.9494,2, -999.000,9,    266.5,2, -999.000,9, -999.000,9, -999.000,9, -999.000,9, -999.000,9, -999.000,9, -999.000,9, -999.000,9, -999.000,9
           NA,    AR19,     20,  99,       9,  300467,  2,19980506,0410,  47.9000,  -20.6583,    19,   2672.1,   3.1068,  34.9491,2,  34.9497,2, -999.000,9,    267.2,2, -999.000,9, -999.000,9, -999.000,9, -999.000,9, -999.000,9, -999.000,9, -999.000,9, -999.000,9, -999.000,9
           NA,    AR19,     20,  99,       8,  300466,  2,19980506,0410,  47.9000,  -20.6583,    19,   2678.8,   3.1032,  34.9491,2,  34.9494,2, -999.000,9,    266.3,2, -999.000,9, -999.000,9, -999.000,9, -999.000,9, -999.000,9, -999.000,9, -999.000,9, -999.000,9, -999.000,9
           NA,    AR19,     20,  99,       4,  300462,  2,19980506,0410,  47.9000,  -20.6583,    19,   2681.2,   3.1033,  34.9494,2,  34.9493,2, -999.000,9,    266.5,2, -999.000,9, -999.000,9, -999.000,9, -999.000,9, -999.000,9, -999.000,9, -999.000,9, -999.000,9, -999.000,9
           NA,    AR19,     20,  99,       7,  300465,  2,19980506,0410,  47.9000,  -20.6583,    19,   2684.0,   3.0998,  34.9491,2,  34.9493,2, -999.000,9,    266.5,2, -999.000,9, -999.000,9, -999.000,9, -999.000,9, -999.000,9, -999.000,9, -999.000,9, -999.000,9, -999.000,9
           NA,    AR19,     20,  99,       5,  300463,  2,19980506,0410,  47.9000,  -20.6583,    19,   2686.6,   3.0997,  34.9495,2,  34.9489,2, -999.000,9,    266.2,2, -999.000,9, -999.000,9, -999.000,9, -999.000,9, -999.000,9, -999.000,9, -999.000,9, -999.000,9, -999.000,9
           NA,    AR19,     20,  99,       6,  300464,  2,19980506,0410,  47.9000,  -20.6583,    19,   2688.0,   3.0990,  34.9498,2,  34.9499,2, -999.000,9,    266.4,2, -999.000,9, -999.000,9, -999.000,9, -999.000,9, -999.000,9, -999.000,9, -999.000,9, -999.000,9, -999.000,9
           NA,    AR19,     20,  99,       3,  300461,  2,19980506,0410,  47.9000,  -20.6583,    19,   2688.9,   3.1003,  34.9492,2,  34.9497,2, -999.000,9,    266.4,2, -999.000,9, -999.000,9, -999.000,9, -999.000,9, -999.000,9, -999.000,9, -999.000,9, -999.000,9, -999.000,9
           NA,    AR19,     20,  99,       2,  300460,  2,19980506,0410,  47.9000,  -20.6583,    19,   2693.7,   3.0988,  34.9498,2,  34.9492,2, -999.000,9,    266.8,2, -999.000,9, -999.000,9, -999.000,9, -999.000,9, -999.000,9, -999.000,9, -999.000,9, -999.000,9, -999.000,9
           NA,    AR19,     20,  99,       1,  300459,  2,19980506,0410,  47.9000,  -20.6583,    19,   2696.0,   3.0986,  34.9492,2,  34.9490,2, -999.000,9,    266.4,2, -999.000,9, -999.000,9, -999.000,9, -999.000,9, -999.000,9, -999.000,9, -999.000,9, -999.000,9, -999.000,9
           NA,    AR19,     20,  99,       9,  300443,  2,19980506,0410,  47.9000,  -20.6583,    19,   2751.1,   3.0763,  34.9495,2,  34.9532,2, -999.000,9,    264.4,2, -999.000,9, -999.000,9, -999.000,9, -999.000,9, -999.000,9, -999.000,9, -999.000,9, -999.000,9, -999.000,9
           NA,    AR19,     20,  99,       8,  300442,  2,19980506,0410,  47.9000,  -20.6583,    19,   2997.6,   2.8805,  34.9468,2,  34.9486,2, -999.000,9,    258.4,2, -999.000,9, -999.000,9, -999.000,9, -999.000,9, -999.000,9, -999.000,9, -999.000,9, -999.000,9, -999.000,9
           NA,    AR19,     20,  99,       7,  300441,  2,19980506,0410,  47.9000,  -20.6583,    19,   3249.2,   2.7280,  34.9377,2,  34.9374,2, -999.000,9,    252.4,2, -999.000,9, -999.000,9, -999.000,9, -999.000,9, -999.000,9, -999.000,9, -999.000,9, -999.000,9, -999.000,9
           NA,    AR19,     20,  99,       6,  300440,  2,19980506,0410,  47.9000,  -20.6583,    19,   3504.1,   2.6314,  34.9269,2,  34.9274,2, -999.000,9,    247.1,2, -999.000,9, -999.000,9, -999.000,9, -999.000,9, -999.000,9, -999.000,9, -999.000,9, -999.000,9, -999.000,9
           NA,    AR19,     20,  99,       5,  300439,  2,19980506,0410,  47.9000,  -20.6583,    19,   3750.8,   2.5759,  34.9189,2,  34.9193,2, -999.000,9,    243.4,2, -999.000,9, -999.000,9, -999.000,9, -999.000,9, -999.000,9, -999.000,9, -999.000,9, -999.000,9, -999.000,9
           NA,    AR19,     20,  99,       4,  300438,  2,19980506,0410,  47.9000,  -20.6583,    19,   3999.4,   2.5485,  34.9118,2,  34.9135,2, -999.000,9,    239.4,2, -999.000,9, -999.000,9, -999.000,9, -999.000,9, -999.000,9, -999.000,9, -999.000,9, -999.000,9, -999.000,9
           NA,    AR19,     20,  99,       3,  300437,  2,19980506,0410,  47.9000,  -20.6583,    19,   4305.9,   2.5464,  34.9083,2,  34.9100,2, -999.000,9,    240.3,2, -999.000,9, -999.000,9, -999.000,9, -999.000,9, -999.000,9, -999.000,9, -999.000,9, -999.000,9, -999.000,9
           NA,    AR19,     20,  99,       2,  300436,  2,19980506,0410,  47.9000,  -20.6583,    19,   4379.7,   2.5489,  34.9080,2,  34.9089,2, -999.000,9,    240.9,2, -999.000,9, -999.000,9, -999.000,9, -999.000,9, -999.000,9, -999.000,9, -999.000,9, -999.000,9, -999.000,9
           NA,    AR19,     20,  99,       1,  300435,  2,19980506,0410,  47.9000,  -20.6583,    19,   4404.0,   2.5520,  34.9080,2,  34.9088,2, -999.000,9,    240.4,2, -999.000,9, -999.000,9, -999.000,9, -999.000,9, -999.000,9, -999.000,9, -999.000,9, -999.000,9, -999.000,9
           NA,    AR19,     19,   1,      24,  300434,  2,19980505,1930,  48.0333,  -19.6600,    10,     11.6,  12.3811,  35.5622,2,-999.0000,4, -999.000,9,    260.4,2, -999.000,9, -999.000,9, -999.000,9, -999.000,9, -999.000,9, -999.000,9, -999.000,9, -999.000,9, -999.000,9
           NA,    AR19,     19,   1,      23,  300433,  2,19980505,1930,  48.0333,  -19.6600,    10,     51.4,  11.5749,  35.5431,2,  35.5400,2, -999.000,9,    262.0,2, -999.000,9, -999.000,9, -999.000,9, -999.000,9, -999.000,9, -999.000,9, -999.000,9, -999.000,9, -999.000,9
           NA,    AR19,     19,   1,      22,  300432,  2,19980505,1930,  48.0333,  -19.6600,    10,    101.3,  11.4873,  35.5327,2,  35.5317,2, -999.000,9,    260.9,2, -999.000,9, -999.000,9, -999.000,9, -999.000,9, -999.000,9, -999.000,9, -999.000,9, -999.000,9, -999.000,9
           NA,    AR19,     19,   1,      21,  300431,  2,19980505,1930,  48.0333,  -19.6600,    10,    198.2,  11.4504,  35.5339,2,  35.5350,2, -999.000,9,    258.6,2, -999.000,9, -999.000,9, -999.000,9, -999.000,9, -999.000,9, -999.000,9, -999.000,9, -999.000,9, -999.000,9
           NA,    AR19,     19,   1,      20,  300430,  2,19980505,1930,  48.0333,  -19.6600,    10,    350.7,  10.8344,  35.4480,2,  35.4459,2, -999.000,9,    237.0,2, -999.000,9, -999.000,9, -999.000,9, -999.000,9, -999.000,9, -999.000,9, -999.000,9, -999.000,9, -999.000,9
           NA,    AR19,     19,   1,      19,  300429,  2,19980505,1930,  48.0333,  -19.6600,    10,    401.0,  10.6680,  35.4357,2,  35.4358,2, -999.000,9,   -999.0,3, -999.000,9, -999.000,9, -999.000,9, -999.000,9, -999.000,9, -999.000,9, -999.000,9, -999.000,9, -999.000,9
           NA,    AR19,     19,   1,      18,  300428,  2,19980505,1930,  48.0333,  -19.6600,    10,    600.6,   9.1702,  35.2580,2,  35.2589,2, -999.000,9,    208.6,2, -999.000,9, -999.000,9, -999.000,9, -999.000,9, -999.000,9, -999.000,9, -999.000,9, -999.000,9, -999.000,9
           NA,    AR19,     19,   1,      17,  300427,  2,19980505,1930,  48.0333,  -19.6600,    10,    698.5,   8.0697,  35.2016,2,  35.2030,2, -999.000,9,    199.9,2, -999.000,9, -999.000,9, -999.000,9, -999.000,9, -999.000,9, -999.000,9, -999.000,9, -999.000,9, -999.000,9
           NA,    AR19,     19,   1,      16,  300426,  2,19980505,1930,  48.0333,  -19.6600,    10,    798.6,   7.4449,  35.2330,2,  35.2327,2, -999.000,9,    204.1,2, -999.000,9, -999.000,9, -999.000,9, -999.000,9, -999.000,9, -999.000,9, -999.000,9, -999.000,9, -999.000,9
           NA,    AR19,     19,   1,      15,  300425,  2,19980505,1930,  48.0333,  -19.6600,    10,    999.1,   5.9252,  35.1421,2,  35.1428,2, -999.000,9,    229.2,2, -999.000,9, -999.000,9, -999.000,9, -999.000,9, -999.000,9, -999.000,9, -999.000,9, -999.000,9, -999.000,9
           NA,    AR19,     19,   1,      14,  300424,  2,19980505,1930,  48.0333,  -19.6600,    10,   1296.3,   4.3355,  34.9752,2,  34.9761,2, -999.000,9,    257.6,2, -999.000,9, -999.000,9, -999.000,9, -999.000,9, -999.000,9, -999.000,9, -999.000,9, -999.000,9, -999.000,9
           NA,    AR19,     19,   1,      13,  300423,  2,19980505,1930,  48.0333,  -19.6600,    10,   1657.4,   3.5387,  34.8971,2,  34.8969,2, -999.000,9,    278.0,2, -999.000,9, -999.000,9, -999.000,9, -999.000,9, -999.000,9, -999.000,9, -999.000,9, -999.000,9, -999.000,9
           NA,    AR19,     19,   1,      12,  300422,  2,19980505,1930,  48.0333,  -19.6600,    10,   1797.1,   3.4088,  34.8917,2,  34.8901,2, -999.000,9,    280.9,2, -999.000,9, -999.000,9, -999.000,9, -999.000,9, -999.000,9, -999.000,9, -999.000,9, -999.000,9, -999.000,9
           NA,    AR19,     19,   1,      10,  300420,  2,19980505,1930,  48.0333,  -19.6600,    10,   2247.3,   3.2699,  34.9133,2,  34.9137,2, -999.000,9,    278.8,2, -999.000,9, -999.000,9, -999.000,9, -999.000,9, -999.000,9, -999.000,9, -999.000,9, -999.000,9, -999.000,9
           NA,    AR19,     19,   1,       9,  300419,  2,19980505,1930,  48.0333,  -19.6600,    10,   2496.0,   3.2125,  34.9371,2,  34.9374,2, -999.000,9,    275.5,2, -999.000,9, -999.000,9, -999.000,9, -999.000,9, -999.000,9, -999.000,9, -999.000,9, -999.000,9, -999.000,9
           NA,    AR19,     19,   1,       7,  300417,  2,19980505,1930,  48.0333,  -19.6600,    10,   3250.2,   2.7483,  34.9383,2,  34.9373,2, -999.000,9,    253.8,2, -999.000,9, -999.000,9, -999.000,9, -999.000,9, -999.000,9, -999.000,9, -999.000,9, -999.000,9, -999.000,9
           NA,    AR19,     19,   1,       6,  300416,  2,19980505,1930,  48.0333,  -19.6600,    10,   3499.9,   2.6429,  34.9269,2,  34.9266,2, -999.000,9,    248.3,2, -999.000,9, -999.000,9, -999.000,9, -999.000,9, -999.000,9, -999.000,9, -999.000,9, -999.000,9, -999.000,9
           NA,    AR19,     19,   1,       5,  300415,  2,19980505,1930,  48.0333,  -19.6600,    10,   3749.1,   2.5725,  34.9181,2,  34.9173,2, -999.000,9,    244.2,2, -999.000,9, -999.000,9, -999.000,9, -999.000,9, -999.000,9, -999.000,9, -999.000,9, -999.000,9, -999.000,9
           NA,    AR19,     19,   1,       4,  300414,  2,19980505,1930,  48.0333,  -19.6600,    10,   4001.8,   2.5564,  34.9125,2,  34.9124,2, -999.000,9,    243.5,2, -999.000,9, -999.000,9, -999.000,9, -999.000,9, -999.000,9, -999.000,9, -999.000,9, -999.000,9, -999.000,9
           NA,    AR19,     19,   1,       3,  300413,  2,19980505,1930,  48.0333,  -19.6600,    10,   4420.4,   2.5639,  34.9082,2,  34.9087,2, -999.000,9,    241.2,2, -999.000,9, -999.000,9, -999.000,9, -999.000,9, -999.000,9, -999.000,9, -999.000,9, -999.000,9, -999.000,9
           NA,    AR19,     19,   1,       2,  300412,  2,19980505,1930,  48.0333,  -19.6600,    10,   4497.5,   2.5649,  34.9077,2,  34.9082,2, -999.000,9,    241.4,2, -999.000,9, -999.000,9, -999.000,9, -999.000,9, -999.000,9, -999.000,9, -999.000,9, -999.000,9, -999.000,9