BOTTLE,20214525JOAExport
EXPOCODE,SECT_ID,STNNBR,CASTNO,SAMPNO,BTLNBR,BTLNBR_FLAG_W,DATE,TIME,LATITUDE,LONGITUDE,DEPTH,CTDPRS,CTDTMP,CTDSAL,CTDSAL_FLAG_W,SALNTY,SALNTY_FLAG_W,CTDOXY,CTDOXY_FLAG_W,OXYGEN,OXYGEN_FLAG_W,SILCAT,SILCAT_FLAG_W,NITRAT,NITRAT_FLAG_W,NITRIT,NITRIT_FLAG_W,PHSPHT,PHSPHT_FLAG_W,CFC-11,CFC-11_FLAG_W,CFC-12,CFC-12_FLAG_W,SF6,SF6_FLAG_W,TCARBN,TCARBN_FLAG_W,ALKALI,ALKALI_FLAG_W
,,,,,,,,,,,,DB,ITS-90,PSS-78,,PSS-78,,UMOL/KG,,UMOL/KG,,UMOL/KG,,UMOL/KG,,UMOL/KG,,UMOL/KG,,PMOL/KG,,PMOL/KG,,FMOL/KG,,UMOL/KG,,UMOL/KG
           NA,    AR19,     25,  99,      24,  300602,  2,19980507,1930,  47.3817,  -24.2700,     5,      9.2,  13.2612,  35.7333,2,  35.7329,2, -999.000,9,    265.2,2, -999.000,9, -999.000,9, -999.000,9, -999.000,9, -999.000,9, -999.000,9, -999.000,9, -999.000,9, -999.000,9
           NA,    AR19,     25,  99,      23,  300601,  2,19980507,1930,  47.3817,  -24.2700,     5,     49.7,  13.1800,  35.7318,2,  35.7323,2, -999.000,9,    262.5,2, -999.000,9, -999.000,9, -999.000,9, -999.000,9, -999.000,9, -999.000,9, -999.000,9, -999.000,9, -999.000,9
           NA,    AR19,     25,  99,      22,  300600,  2,19980507,1930,  47.3817,  -24.2700,     5,     97.4,  12.9446,  35.7243,2,  35.7276,2, -999.000,9,    251.9,2, -999.000,9, -999.000,9, -999.000,9, -999.000,9, -999.000,9, -999.000,9, -999.000,9, -999.000,9, -999.000,9
           NA,    AR19,     25,  99,      21,  300599,  2,19980507,1930,  47.3817,  -24.2700,     5,    198.9,  12.6112,  35.6791,2,  35.6811,2, -999.000,9,    248.5,2, -999.000,9, -999.000,9, -999.000,9, -999.000,9, -999.000,9, -999.000,9, -999.000,9, -999.000,9, -999.000,9
           NA,    AR19,     25,  99,      20,  300598,  2,19980507,1930,  47.3817,  -24.2700,     5,    398.3,  11.6439,  35.5692,2,-999.0000,3, -999.000,9,    228.3,2, -999.000,9, -999.000,9, -999.000,9, -999.000,9, -999.000,9, -999.000,9, -999.000,9, -999.000,9, -999.000,9
           NA,    AR19,     25,  99,      19,  300597,  2,19980507,1930,  47.3817,  -24.2700,     5,    597.5,   9.4819,  35.2854,2,  35.2841,2, -999.000,9,    195.3,2, -999.000,9, -999.000,9, -999.000,9, -999.000,9, -999.000,9, -999.000,9, -999.000,9, -999.000,9, -999.000,9
           NA,    AR19,     25,  99,      18,  300596,  2,19980507,1930,  47.3817,  -24.2700,     5,    700.9,   7.9444,  35.1302,2,  35.1302,2, -999.000,9,    192.3,2, -999.000,9, -999.000,9, -999.000,9, -999.000,9, -999.000,9, -999.000,9, -999.000,9, -999.000,9, -999.000,9
           NA,    AR19,     25,  99,      17,  300595,  2,19980507,1930,  47.3817,  -24.2700,     5,    820.3,   7.2184,  35.1792,2,  35.1795,2, -999.000,9,    201.6,2, -999.000,9, -999.000,9, -999.000,9, -999.000,9, -999.000,9, -999.000,9, -999.000,9, -999.000,9, -999.000,9
           NA,    AR19,     25,  99,      16,  300594,  2,19980507,1930,  47.3817,  -24.2700,     5,    995.9,   5.4543,  35.0298,2,  35.0291,2, -999.000,9,    230.0,2, -999.000,9, -999.000,9, -999.000,9, -999.000,9, -999.000,9, -999.000,9, -999.000,9, -999.000,9, -999.000,9
           NA,    AR19,     25,  99,      15,  300593,  2,19980507,1930,  47.3817,  -24.2700,     5,   1096.4,   4.7381,  34.9738,2,  34.9744,2, -999.000,9,    246.3,2, -999.000,9, -999.000,9, -999.000,9, -999.000,9, -999.000,9, -999.000,9, -999.000,9, -999.000,9, -999.000,9
           NA,    AR19,     25,  99,      14,  300592,  2,19980507,1930,  47.3817,  -24.2700,     5,   1195.2,   4.4567,  34.9666,2,  34.9679,2, -999.000,9,    253.0,2, -999.000,9, -999.000,9, -999.000,9, -999.000,9, -999.000,9, -999.000,9, -999.000,9, -999.000,9, -999.000,9
           NA,    AR19,     25,  99,      13,  300591,  2,19980507,1930,  47.3817,  -24.2700,     5,   1397.1,   3.9521,  34.9297,2,  34.9308,2, -999.000,9,    268.7,2, -999.000,9, -999.000,9, -999.000,9, -999.000,9, -999.000,9, -999.000,9, -999.000,9, -999.000,9, -999.000,9
           NA,    AR19,     25,  99,      12,  300590,  2,19980507,1930,  47.3817,  -24.2700,     5,   1496.4,   3.7947,  34.9186,2,  34.9201,2, -999.000,9,    270.7,2, -999.000,9, -999.000,9, -999.000,9, -999.000,9, -999.000,9, -999.000,9, -999.000,9, -999.000,9, -999.000,9
           NA,    AR19,     25,  99,      11,  300589,  2,19980507,1930,  47.3817,  -24.2700,     5,   1594.4,   3.6951,  34.9128,2,  34.9125,2, -999.000,9,    273.8,2, -999.000,9, -999.000,9, -999.000,9, -999.000,9, -999.000,9, -999.000,9, -999.000,9, -999.000,9, -999.000,9
           NA,    AR19,     25,  99,      23,  300625,  2,19980507,1930,  47.3817,  -24.2700,     5,   1696.5,   3.4978,  34.8979,2,  34.8980,2, -999.000,9,    277.6,2, -999.000,9, -999.000,9, -999.000,9, -999.000,9, -999.000,9, -999.000,9, -999.000,9, -999.000,9, -999.000,9
           NA,    AR19,     25,  99,      15,  300617,  2,19980507,1930,  47.3817,  -24.2700,     5,   1696.6,   3.4975,  34.8982,2,  34.8981,2, -999.000,9,    278.1,2, -999.000,9, -999.000,9, -999.000,9, -999.000,9, -999.000,9, -999.000,9, -999.000,9, -999.000,9, -999.000,9
           NA,    AR19,     25,  99,      16,  300618,  2,19980507,1930,  47.3817,  -24.2700,     5,   1696.6,   3.4977,  34.8982,2,  34.8979,2, -999.000,9,    279.2,2, -999.000,9, -999.000,9, -999.000,9, -999.000,9, -999.000,9, -999.000,9, -999.000,9, -999.000,9, -999.000,9
           NA,    AR19,     25,  99,      17,  300619,  2,19980507,1930,  47.3817,  -24.2700,     5,   1696.8,   3.4974,  34.8979,2,  34.8982,2, -999.000,9,    278.1,2, -999.000,9, -999.000,9, -999.000,9, -999.000,9, -999.000,9, -999.000,9, -999.000,9, -999.000,9, -999.000,9
           NA,    AR19,     25,  99,      20,  300622,  2,19980507,1930,  47.3817,  -24.2700,     5,   1697.0,   3.4974,  34.8983,2,  34.8989,2, -999.000,9,   -999.0,3, -999.000,9, -999.000,9, -999.000,9, -999.000,9, -999.000,9, -999.000,9, -999.000,9, -999.000,9, -999.000,9
           NA,    AR19,     25,  99,      19,  300621,  2,19980507,1930,  47.3817,  -24.2700,     5,   1697.2,   3.4966,  34.8982,2,  34.8985,2, -999.000,9,    278.5,2, -999.000,9, -999.000,9, -999.000,9, -999.000,9, -999.000,9, -999.000,9, -999.000,9, -999.000,9, -999.000,9
           NA,    AR19,     25,  99,      21,  300623,  2,19980507,1930,  47.3817,  -24.2700,     5,   1697.3,   3.4976,  34.8979,2,  34.8960,2, -999.000,9,    278.7,2, -999.000,9, -999.000,9, -999.000,9, -999.000,9, -999.000,9, -999.000,9, -999.000,9, -999.000,9, -999.000,9
           NA,    AR19,     25,  99,      13,  300615,  2,19980507,1930,  47.3817,  -24.2700,     5,   1697.4,   3.4956,  34.8982,2,  34.8975,2, -999.000,9,    278.6,2, -999.000,9, -999.000,9, -999.000,9, -999.000,9, -999.000,9, -999.000,9, -999.000,9, -999.000,9, -999.000,9
           NA,    AR19,     25,  99,      14,  300616,  2,19980507,1930,  47.3817,  -24.2700,     5,   1697.4,   3.4966,  34.8981,2,  34.8985,2, -999.000,9,    279.1,2, -999.000,9, -999.000,9, -999.000,9, -999.000,9, -999.000,9, -999.000,9, -999.000,9, -999.000,9, -999.000,9
           NA,    AR19,     25,  99,      24,  300626,  2,19980507,1930,  47.3817,  -24.2700,     5,   1697.5,   3.4975,  34.8979,2,  34.8983,2, -999.000,9,    276.6,2, -999.000,9, -999.000,9, -999.000,9, -999.000,9, -999.000,9, -999.000,9, -999.000,9, -999.000,9, -999.000,9
           NA,    AR19,     25,  99,      22,  300624,  2,19980507,1930,  47.3817,  -24.2700,     5,   1697.5,   3.4979,  34.8982,2,  34.8983,2, -999.000,9,    278.9,2, -999.000,9, -999.000,9, -999.000,9, -999.000,9, -999.000,9, -999.000,9, -999.000,9, -999.000,9, -999.000,9
           NA,    AR19,     25,  99,      10,  300588,  2,19980507,1930,  47.3817,  -24.2700,     5,   1796.6,   3.4794,  34.8982,2,  34.8999,2, -999.000,9,    279.0,2, -999.000,9, -999.000,9, -999.000,9, -999.000,9, -999.000,9, -999.000,9, -999.000,9, -999.000,9, -999.000,9
           NA,    AR19,     25,  99,       9,  300587,  2,19980507,1930,  47.3817,  -24.2700,     5,   1997.8,   3.3213,  34.8964,2,  34.8968,2, -999.000,9,    281.5,2, -999.000,9, -999.000,9, -999.000,9, -999.000,9, -999.000,9, -999.000,9, -999.000,9, -999.000,9, -999.000,9
           NA,    AR19,     25,  99,       8,  300586,  2,19980507,1930,  47.3817,  -24.2700,     5,   2197.6,   3.2740,  34.9120,2,  34.9138,2, -999.000,9,    278.6,2, -999.000,9, -999.000,9, -999.000,9, -999.000,9, -999.000,9, -999.000,9, -999.000,9, -999.000,9, -999.000,9
           NA,    AR19,     25,  99,       7,  300585,  2,19980507,1930,  47.3817,  -24.2700,     5,   2397.6,   3.2420,  34.9341,2,  34.9352,2, -999.000,9,    273.1,2, -999.000,9, -999.000,9, -999.000,9, -999.000,9, -999.000,9, -999.000,9, -999.000,9, -999.000,9, -999.000,9
           NA,    AR19,     25,  99,       2,  300604,  2,19980507,1930,  47.3817,  -24.2700,     5,   2698.6,   3.0947,  34.9431,2,  34.9436,2, -999.000,9,    268.0,2, -999.000,9, -999.000,9, -999.000,9, -999.000,9, -999.000,9, -999.000,9, -999.000,9, -999.000,9, -999.000,9
           NA,    AR19,     25,  99,       1,  300603,  2,19980507,1930,  47.3817,  -24.2700,     5,   2698.8,   3.0938,  34.9431,2,  34.9411,2, -999.000,9,    269.3,2, -999.000,9, -999.000,9, -999.000,9, -999.000,9, -999.000,9, -999.000,9, -999.000,9, -999.000,9, -999.000,9
           NA,    AR19,     25,  99,       3,  300605,  2,19980507,1930,  47.3817,  -24.2700,     5,   2699.1,   3.0949,  34.9426,2,  34.9418,2, -999.000,9,    267.6,2, -999.000,9, -999.000,9, -999.000,9, -999.000,9, -999.000,9, -999.000,9, -999.000,9, -999.000,9, -999.000,9
           NA,    AR19,     25,  99,       4,  300606,  2,19980507,1930,  47.3817,  -24.2700,     5,   2699.2,   3.0950,  34.9425,2,  34.9435,2, -999.000,9,    268.5,2, -999.000,9, -999.000,9, -999.000,9, -999.000,9, -999.000,9, -999.000,9, -999.000,9, -999.000,9, -999.000,9
           NA,    AR19,     25,  99,       5,  300607,  2,19980507,1930,  47.3817,  -24.2700,     5,   2699.6,   3.0948,  34.9427,2,  34.9431,2, -999.000,9,    268.9,2, -999.000,9, -999.000,9, -999.000,9, -999.000,9, -999.000,9, -999.000,9, -999.000,9, -999.000,9, -999.000,9
           NA,    AR19,     25,  99,      11,  300613,  2,19980507,1930,  47.3817,  -24.2700,     5,   2700.7,   3.0939,  34.9430,2,  34.9422,2, -999.000,9,    268.1,2, -999.000,9, -999.000,9, -999.000,9, -999.000,9, -999.000,9, -999.000,9, -999.000,9, -999.000,9, -999.000,9
           NA,    AR19,     25,  99,       6,  300608,  2,19980507,1930,  47.3817,  -24.2700,     5,   2701.1,   3.0952,  34.9428,2,  34.9436,2, -999.000,9,    268.2,2, -999.000,9, -999.000,9, -999.000,9, -999.000,9, -999.000,9, -999.000,9, -999.000,9, -999.000,9, -999.000,9
           NA,    AR19,     25,  99,       9,  300611,  2,19980507,1930,  47.3817,  -24.2700,     5,   2701.3,   3.0945,  34.9429,2,  34.9430,2, -999.000,9,    268.3,2, -999.000,9, -999.000,9, -999.000,9, -999.000,9, -999.000,9, -999.000,9, -999.000,9, -999.000,9, -999.000,9
           NA,    AR19,     25,  99,      10,  300612,  2,19980507,1930,  47.3817,  -24.2700,     5,   2701.3,   3.0942,  34.9427,2,  34.9426,2, -999.000,9,   -999.0,3, -999.000,9, -999.000,9, -999.000,9, -999.000,9, -999.000,9, -999.000,9, -999.000,9, -999.000,9, -999.000,9
           NA,    AR19,     25,  99,       8,  300610,  2,19980507,1930,  47.3817,  -24.2700,     5,   2701.4,   3.0945,  34.9427,2,  34.9429,2, -999.000,9,    268.4,2, -999.000,9, -999.000,9, -999.000,9, -999.000,9, -999.000,9, -999.000,9, -999.000,9, -999.000,9, -999.000,9
           NA,    AR19,     25,  99,      12,  300614,  2,19980507,1930,  47.3817,  -24.2700,     5,   2701.5,   3.0942,  34.9423,2,  34.9423,2, -999.000,9,    268.9,2, -999.000,9, -999.000,9, -999.000,9, -999.000,9, -999.000,9, -999.000,9, -999.000,9, -999.000,9, -999.000,9
           NA,    AR19,     25,  99,       7,  300609,  2,19980507,1930,  47.3817,  -24.2700,     5,   2701.8,   3.0947,  34.9432,2,  34.9433,2, -999.000,9,    268.5,2, -999.000,9, -999.000,9, -999.000,9, -999.000,9, -999.000,9, -999.000,9, -999.000,9, -999.000,9, -999.000,9
           NA,    AR19,     25,  99,       5,  300583,  2,19980507,1930,  47.3817,  -24.2700,     5,   2798.0,   2.9917,  34.9443,2,  34.9449,2, -999.000,9,    266.5,2, -999.000,9, -999.000,9, -999.000,9, -999.000,9, -999.000,9, -999.000,9, -999.000,9, -999.000,9, -999.000,9
           NA,    AR19,     25,  99,       4,  300582,  2,19980507,1930,  47.3817,  -24.2700,     5,   2997.9,   2.8871,  34.9438,2,  34.9425,2, -999.000,9,    262.4,2, -999.000,9, -999.000,9, -999.000,9, -999.000,9, -999.000,9, -999.000,9, -999.000,9, -999.000,9, -999.000,9
           NA,    AR19,     25,  99,       3,  300581,  2,19980507,1930,  47.3817,  -24.2700,     5,   3242.8,   2.8023,  34.9391,2,  34.9381,2, -999.000,9,    257.5,2, -999.000,9, -999.000,9, -999.000,9, -999.000,9, -999.000,9, -999.000,9, -999.000,9, -999.000,9, -999.000,9
           NA,    AR19,     25,  99,       1,  300579,  2,19980507,1930,  47.3817,  -24.2700,     5,   3347.4,   2.7289,  34.9351,2,  34.9348,2, -999.000,9,    253.1,2, -999.000,9, -999.000,9, -999.000,9, -999.000,9, -999.000,9, -999.000,9, -999.000,9, -999.000,9, -999.000,9
           NA,    AR19,     24,   1,      24,  300578,  2,19980507,1340,  47.5033,  -23.5817,    10,     14.1,  13.1660,  35.6756,2,  35.6759,2, -999.000,9,    267.0,2, -999.000,9, -999.000,9, -999.000,9, -999.000,9, -999.000,9, -999.000,9, -999.000,9, -999.000,9, -999.000,9
           NA,    AR19,     24,   1,      23,  300577,  2,19980507,1340,  47.5033,  -23.5817,    10,     49.9,  12.4233,  35.6382,2,  35.6382,2, -999.000,9,    257.6,2, -999.000,9, -999.000,9, -999.000,9, -999.000,9, -999.000,9, -999.000,9, -999.000,9, -999.000,9, -999.000,9
           NA,    AR19,     24,   1,      22,  300576,  2,19980507,1340,  47.5033,  -23.5817,    10,    100.2,  12.2751,  35.6171,2,  35.6175,2, -999.000,9,    253.6,2, -999.000,9, -999.000,9, -999.000,9, -999.000,9, -999.000,9, -999.000,9, -999.000,9, -999.000,9, -999.000,9
           NA,    AR19,     24,   1,      21,  300575,  2,19980507,1340,  47.5033,  -23.5817,    10,    200.7,  11.2474,  35.4464,2,  35.4478,2, -999.000,9,    250.1,2, -999.000,9, -999.000,9, -999.000,9, -999.000,9, -999.000,9, -999.000,9, -999.000,9, -999.000,9, -999.000,9
           NA,    AR19,     24,   1,      20,  300574,  2,19980507,1340,  47.5033,  -23.5817,    10,    298.8,  11.1325,  35.4800,2,  35.4771,2, -999.000,9,    232.2,2, -999.000,9, -999.000,9, -999.000,9, -999.000,9, -999.000,9, -999.000,9, -999.000,9, -999.000,9, -999.000,9
           NA,    AR19,     24,   1,      19,  300573,  2,19980507,1340,  47.5033,  -23.5817,    10,    398.9,  10.3588,  35.3607,2,  35.3615,2, -999.000,9,    229.6,2, -999.000,9, -999.000,9, -999.000,9, -999.000,9, -999.000,9, -999.000,9, -999.000,9, -999.000,9, -999.000,9
           NA,    AR19,     24,   1,      18,  300572,  2,19980507,1340,  47.5033,  -23.5817,    10,    498.9,   9.4180,  35.2562,2,  35.2584,2, -999.000,9,    198.0,2, -999.000,9, -999.000,9, -999.000,9, -999.000,9, -999.000,9, -999.000,9, -999.000,9, -999.000,9, -999.000,9
           NA,    AR19,     24,   1,      17,  300571,  2,19980507,1340,  47.5033,  -23.5817,    10,    597.4,   8.3151,  35.1573,2,  35.1577,2, -999.000,9,    197.2,2, -999.000,9, -999.000,9, -999.000,9, -999.000,9, -999.000,9, -999.000,9, -999.000,9, -999.000,9, -999.000,9
           NA,    AR19,     24,   1,      16,  300570,  2,19980507,1340,  47.5033,  -23.5817,    10,    748.0,   6.8020,  35.0951,2,  35.0958,2, -999.000,9,    207.9,2, -999.000,9, -999.000,9, -999.000,9, -999.000,9, -999.000,9, -999.000,9, -999.000,9, -999.000,9, -999.000,9
           NA,    AR19,     24,   1,      15,  300569,  2,19980507,1340,  47.5033,  -23.5817,    10,    999.2,   5.1497,  35.0356,2,  35.0372,2, -999.000,9,    238.2,2, -999.000,9, -999.000,9, -999.000,9, -999.000,9, -999.000,9, -999.000,9, -999.000,9, -999.000,9, -999.000,9
           NA,    AR19,     24,   1,      14,  300568,  2,19980507,1340,  47.5033,  -23.5817,    10,   1248.6,   4.2052,  34.9548,2,  34.9570,2, -999.000,9,    260.5,2, -999.000,9, -999.000,9, -999.000,9, -999.000,9, -999.000,9, -999.000,9, -999.000,9, -999.000,9, -999.000,9
           NA,    AR19,     24,   1,      13,  300567,  2,19980507,1340,  47.5033,  -23.5817,    10,   1496.0,   3.7724,  34.9272,2,  34.9278,2, -999.000,9,    271.8,2, -999.000,9, -999.000,9, -999.000,9, -999.000,9, -999.000,9, -999.000,9, -999.000,9, -999.000,9, -999.000,9
           NA,    AR19,     24,   1,      12,  300566,  2,19980507,1340,  47.5033,  -23.5817,    10,   1797.8,   3.4409,  34.9018,2,  34.9008,2, -999.000,9,    278.2,2, -999.000,9, -999.000,9, -999.000,9, -999.000,9, -999.000,9, -999.000,9, -999.000,9, -999.000,9, -999.000,9
           NA,    AR19,     24,   1,      11,  300565,  2,19980507,1340,  47.5033,  -23.5817,    10,   1998.3,   3.3208,  34.9042,2,  34.9035,2, -999.000,9,    280.8,2, -999.000,9, -999.000,9, -999.000,9, -999.000,9, -999.000,9, -999.000,9, -999.000,9, -999.000,9, -999.000,9
           NA,    AR19,     24,   1,      10,  300564,  2,19980507,1340,  47.5033,  -23.5817,    10,   2252.3,   3.2152,  34.9178,2,  34.9166,2, -999.000,9,    277.6,2, -999.000,9, -999.000,9, -999.000,9, -999.000,9, -999.000,9, -999.000,9, -999.000,9, -999.000,9, -999.000,9
           NA,    AR19,     24,   1,       7,  300561,  2,19980507,1340,  47.5033,  -23.5817,    10,   3000.9,   2.9128,  34.9457,2,  34.9446,2, -999.000,9,    264.3,2, -999.000,9, -999.000,9, -999.000,9, -999.000,9, -999.000,9, -999.000,9, -999.000,9, -999.000,9, -999.000,9
           NA,    AR19,     24,   1,       6,  300560,  2,19980507,1340,  47.5033,  -23.5817,    10,   3249.6,   2.8163,  34.9399,2,  34.9404,2, -999.000,9,    260.0,2, -999.000,9, -999.000,9, -999.000,9, -999.000,9, -999.000,9, -999.000,9, -999.000,9, -999.000,9, -999.000,9
           NA,    AR19,     24,   1,       5,  300559,  2,19980507,1340,  47.5033,  -23.5817,    10,   3499.2,   2.7553,  34.9346,2,  34.9341,2, -999.000,9,    254.9,2, -999.000,9, -999.000,9, -999.000,9, -999.000,9, -999.000,9, -999.000,9, -999.000,9, -999.000,9, -999.000,9
           NA,    AR19,     24,   1,       4,  300558,  2,19980507,1340,  47.5033,  -23.5817,    10,   3748.9,   2.6789,  34.9263,2,  34.9259,2, -999.000,9,    250.0,2, -999.000,9, -999.000,9, -999.000,9, -999.000,9, -999.000,9, -999.000,9, -999.000,9, -999.000,9, -999.000,9
           NA,    AR19,     24,   1,       3,  300557,  2,19980507,1340,  47.5033,  -23.5817,    10,   3961.1,   2.6500,  34.9215,2,  34.9222,2, -999.000,9,    246.6,2, -999.000,9, -999.000,9, -999.000,9, -999.000,9, -999.000,9, -999.000,9, -999.000,9, -999.000,9, -999.000,9
           NA,    AR19,     24,   1,       2,  300556,  2,19980507,1340,  47.5033,  -23.5817,    10,   4029.5,   2.6360,  34.9192,2,  34.9186,2, -999.000,9,    246.9,2, -999.000,9, -999.000,9, -999.000,9, -999.000,9, -999.000,9, -999.000,9, -999.000,9, -999.000,9, -999.000,9
           NA,    AR19,     24,   1,       1,  300555,  2,19980507,1340,  47.5033,  -23.5817,    10,   4055.9,   2.6353,  34.9173,2,  34.9194,2, -999.000,9,    248.2,2, -999.000,9, -999.000,9, -999.000,9, -999.000,9, -999.000,9, -999.000,9, -999.000,9, -999.000,9, -999.000,9