BOTTLE,20210419PRINUNIVRMK
EXPOCODE,SECT_ID,STNNBR,CASTNO,SAMPNO,BTLNBR,BTLNBR_FLAG_W,DATE,TIME,LATITUDE,LONGITUDE,DEPTH,CTDPRS,CTDTMP,SBE35,SBE35_FLAG_W,CTDSAL,CTDSAL_FLAG_W,SALNTY,SALNTY_FLAG_W,CTDOXY,CTDOXY_FLAG_W,OXYGEN,OXYGEN_FLAG_W,SILCAT,SILCAT_FLAG_W,NITRAT,NITRAT_FLAG_W,NITRIT,NITRIT_FLAG_W,PHSPHT,PHSPHT_FLAG_W,CFC-11,CFC-11_FLAG_W,CFC-12,CFC-12_FLAG_W,TCARBN,TCARBN_FLAG_W,ALKALI,ALKALI_FLAG_W,PH_TOT,PH_TOT_FLAG_W,PH_TMP,CHLORA,CHLORA_FLAG_W,PPHYTN,PPHYTN_FLAG_W,SBE35,SBE35_FLAG_W,BTL_TIME
,,,,,,,,,,,METERS,DBAR,ITS-90,,,PSS-78,,PSS-78,,UMOL/KG,,UMOL/KG,,UMOL/KG,,UMOL/KG,,UMOL/KG,,UMOL/KG,,PMOL/KG,,PMOL/KG,,UMOL/KG,,UMOL/KG,,,,DEG C,UG/KG,,UG/KG,,,,
  49RY20120726,   40N,    24,  1,     36,    109,2,20120803,1547, 39.9682, 155.0157, 5642,     10.4,  21.8842,  21.8910,2,  34.0279,2,  34.0566,4,    224.7,2,    225.9,2,     1.72,2,     0.07,2,     0.00,2,     0.03,2,    2.069,2,    1.232,2,   1977.9,2,   2248.5,2,   8.0255,2,    25.00,     0.13,2,     0.01,2,  21.8910,2,     1900
  49RY20120726,   40N,    24,  1,     35,    112,4,20120803,1547, 39.9682, 155.0157, 5642,     50.1,  14.1944,  14.1956,2,  34.3840,2,-999.0000,9,    202.3,2,   -999.0,9,  -999.00,9,  -999.00,9,  -999.00,9,  -999.00,9, -999.000,9, -999.000,9,   -999.0,9,   -999.0,9,-999.0000,9,  -999.00,  -999.00,9,  -999.00,9,  14.1956,2,     1858
  49RY20120726,   40N,    24,  1,     34,     83,2,20120803,1547, 39.9682, 155.0157, 5642,    100.0,  11.1474,  11.1451,2,  34.3172,2,  34.3010,2,    178.6,2,    184.9,2,    26.23,2,    16.77,2,     0.02,2,     1.19,2,    2.550,2,    1.424,2,   2126.3,2,   2276.3,2,   7.7628,6,    25.00,     0.02,2,     0.03,2,  11.1451,2,     1855
  49RY20120726,   40N,    24,  1,     33,     86,2,20120803,1547, 39.9682, 155.0157, 5642,    151.5,   8.6760,   8.6717,2,  34.0605,2,  34.0607,2,    222.4,2,    223.4,2,    26.49,2,    16.77,2,     0.01,2,     1.21,2,    3.141,2,    1.737,2,   2126.6,6,   2267.7,6,   7.7458,2,    25.00,     0.01,2,     0.03,2,   8.6717,2,     1853
  49RY20120726,   40N,    24,  1,     32,    105,2,20120803,1547, 39.9682, 155.0157, 5642,    203.6,   6.4436,   6.4436,2,  33.7894,2,  33.7901,2,    272.9,2,    273.3,2,    27.89,2,    17.42,2,     0.01,2,     1.31,2,    3.907,2,    2.204,2,   2124.0,2,   2257.3,2,   7.7268,2,    25.00,     0.01,2,     0.05,2,   6.4436,2,     1849
  49RY20120726,   40N,    24,  1,     31,     76,2,20120803,1547, 39.9682, 155.0157, 5642,    250.6,   6.5263,   6.5281,2,  33.8634,2,  33.8617,2,    266.9,2,    266.5,6,    29.50,6,    17.91,6,     0.01,6,     1.33,6,    3.748,2,    2.155,2,   2131.6,2,   2260.7,2,   7.7244,2,    25.00,  -999.00,9,  -999.00,9,   6.5281,2,     1843
  49RY20120726,   40N,    24,  1,     30,    103,3,20120803,1547, 39.9682, 155.0157, 5642,    334.1,   5.8687,   5.8662,2,  33.9744,2,  33.9488,4,    145.2,2,    151.9,2,  -999.00,5,  -999.00,5,  -999.00,5,  -999.00,5,    2.597,6,    1.403,6,   2223.5,2,   2283.7,2,   7.5369,2,    25.00,  -999.00,9,  -999.00,9,   5.8662,2,     1841
  49RY20120726,   40N,    24,  1,     29,    102,2,20120803,1547, 39.9682, 155.0157, 5642,    435.0,   4.9703,   4.9728,2,  34.0395,2,  34.0409,2,    104.2,2,    103.4,2,  -999.00,5,  -999.00,5,  -999.00,5,  -999.00,5,    1.954,2,    0.971,2,   2268.9,6,   2301.2,6,   7.4481,2,    25.00,  -999.00,9,  -999.00,9,   4.9728,2,     1837
  49RY20120726,   40N,    24,  1,     28,     91,2,20120803,1547, 39.9682, 155.0157, 5642,    535.3,   4.4561,   4.4535,2,  34.1339,2,  34.1304,2,     72.7,2,     71.9,2,    95.85,2,    38.46,2,     0.00,2,     2.76,2,    1.335,2,    0.643,2,   2305.0,2,   2319.3,2,   7.3916,6,    25.00,  -999.00,9,  -999.00,9,   4.4535,2,     1830
  49RY20120726,   40N,    24,  1,     27,    998,2,20120803,1547, 39.9682, 155.0157, 5642,    636.6,   4.0807,   4.0808,2,  34.2058,2,  34.2036,2,     56.8,2,     56.2,2,   107.64,2,    40.19,2,     0.00,2,     2.87,2,    0.899,6,    0.414,6,   2327.9,2,   2332.8,2,   7.3680,2,    25.00,  -999.00,9,  -999.00,9,   4.0808,2,     1827
  49RY20120726,   40N,    24,  1,     26,     99,2,20120803,1547, 39.9682, 155.0157, 5642,    736.6,   3.7916,   3.7922,2,  34.2786,2,  34.2785,2,     49.1,2,     48.6,6,   117.26,6,    41.13,6,     0.01,6,     2.94,6,    0.544,2,    0.256,2,   2338.3,2,   2346.3,2,   7.3630,2,    25.00,  -999.00,9,  -999.00,9,   3.7922,2,     1822
  49RY20120726,   40N,    24,  1,     25,     98,2,20120803,1547, 39.9682, 155.0157, 5642,    837.7,   3.4396,   3.4403,2,  34.3275,2,  34.3261,2,     43.8,2,     43.4,2,   126.80,2,    41.93,2,     0.00,2,     2.99,2,    0.390,2,    0.175,2,   2355.5,2,   2357.5,2,   7.3550,2,    25.00,  -999.00,9,  -999.00,9,   3.4403,2,     1813
  49RY20120726,   40N,    24,  1,     24,    110,2,20120803,1547, 39.9682, 155.0157, 5642,    941.0,   3.1745,   3.1746,2,  34.3667,2,  34.3657,2,     40.1,2,     39.6,2,   134.35,2,    42.59,2,     0.00,2,     3.02,2,    0.269,2,    0.115,2,   2362.3,2,   2365.7,2,   7.3508,2,    25.00,  -999.00,9,  -999.00,9,   3.1746,2,     1810
  49RY20120726,   40N,    24,  1,     23,     96,2,20120803,1547, 39.9682, 155.0157, 5642,   1081.5,   2.8617,   2.8621,2,  34.4167,2,  34.4157,2,     38.3,2,     38.2,2,   143.33,2,    42.94,2,     0.00,2,     3.06,2,    0.164,2,    0.060,2,   2373.2,2,   2375.1,2,   7.3503,2,    25.00,  -999.00,9,  -999.00,9,   2.8621,2,     1803
  49RY20120726,   40N,    24,  1,     22,    111,2,20120803,1547, 39.9682, 155.0157, 5642,   1283.5,   2.5731,   2.5732,2,  34.4711,2,  34.4711,2,     39.5,2,     39.4,2,   151.79,2,    43.34,2,     0.00,2,     3.06,2,    0.072,2,    0.028,2,   2382.7,2,   2385.8,2,   7.3575,2,    25.00,  -999.00,9,  -999.00,9,   2.5732,2,     1754
  49RY20120726,   40N,    24,  1,     21,     78,2,20120803,1547, 39.9682, 155.0157, 5642,   1488.3,   2.3138,   2.3137,2,  34.5182,2,  34.5179,2,     47.0,2,     46.8,2,   158.29,2,    42.72,2,     0.00,2,     3.03,2,    0.030,2,    0.017,2,   2384.6,2,   2396.2,2,   7.3745,2,    25.00,  -999.00,9,  -999.00,9,   2.3137,2,     1748
  49RY20120726,   40N,    24,  1,     20,     93,2,20120803,1547, 39.9682, 155.0157, 5642,   1689.9,   2.1488,   2.1488,2,  34.5516,2,  34.5514,6,     56.6,2,     56.4,2,   161.27,2,    42.19,2,     0.00,2,     2.98,2,    0.018,2,    0.000,2,   2382.2,2,   2400.4,2,   7.3938,2,    25.00,  -999.00,9,  -999.00,9,   2.1488,2,     1740
  49RY20120726,   40N,    24,  1,     19,     92,2,20120803,1547, 39.9682, 155.0157, 5642,   1892.7,   2.0121,   2.0121,2,  34.5791,2,  34.5790,2,     66.6,2,     66.7,2,  -999.00,5,  -999.00,5,  -999.00,5,  -999.00,5,    0.000,2,    0.000,2,   2379.2,6,   2404.7,6,   7.4171,2,    25.00,  -999.00,9,  -999.00,9,   2.0121,2,     1733
  49RY20120726,   40N,    24,  1,     18,    101,2,20120803,1547, 39.9682, 155.0157, 5642,   2096.6,   1.8798,   1.8799,2,  34.6026,2,  34.6030,2,     78.4,2,     78.2,2,  -999.00,5,  -999.00,5,  -999.00,5,  -999.00,5,    0.000,2,    0.000,2,   2371.5,2,   2407.1,2,   7.4368,6,    25.00,  -999.00,9,  -999.00,9,   1.8799,2,     1724
  49RY20120726,   40N,    24,  1,     17,     90,2,20120803,1547, 39.9682, 155.0157, 5642,   2301.0,   1.7795,   1.7797,2,  34.6218,2,  34.6222,2,     92.0,2,     91.8,2,   162.32,2,    40.13,2,     0.00,2,     2.81,3,    0.000,2,    0.000,2,   2369.1,2,   2408.9,2,   7.4638,2,    25.00,  -999.00,9,  -999.00,9,   1.7797,2,     1709
  49RY20120726,   40N,    24,  1,     16,     89,2,20120803,1547, 39.9682, 155.0157, 5642,   2503.9,   1.7014,   1.7014,2,  34.6355,2,  34.6357,2,    102.4,2,    102.4,2,   161.40,2,    39.47,2,     0.00,2,     2.79,2,    0.000,2,    0.000,2,   2359.6,2,   2411.3,2,   7.4827,2,    25.00,  -999.00,9,  -999.00,9,   1.7014,2,     1703
  49RY20120726,   40N,    24,  1,     15,     88,2,20120803,1547, 39.9682, 155.0157, 5642,   2707.8,   1.6264,   1.6265,2,  34.6482,2,  34.6486,6,    113.6,2,    113.7,2,   159.47,2,    38.78,2,     0.00,2,     2.72,2,    0.000,2,    0.000,2,   2352.0,2,   2411.3,2,   7.5064,2,    25.00,  -999.00,9,  -999.00,9,   1.6265,2,     1657
  49RY20120726,   40N,    24,  1,     14,    999,2,20120803,1547, 39.9682, 155.0157, 5642,   2911.8,   1.5801,   1.5802,2,  34.6568,2,  34.6575,2,    121.8,2,    122.1,6,   157.58,6,    38.16,6,     0.00,6,     2.69,6,    0.000,2,    0.000,2,   2344.3,2,   2410.0,2,   7.5211,2,    25.00,  -999.00,9,  -999.00,9,   1.5802,2,     1653
  49RY20120726,   40N,    24,  1,     13,    996,2,20120803,1547, 39.9682, 155.0157, 5642,   3125.0,   1.5378,   1.5377,2,  34.6644,2,  34.6644,2,    129.7,2,    129.6,2,   155.42,2,    37.60,2,     0.00,2,     2.63,2,    0.000,2,    0.000,2,   2342.4,2,   2410.4,2,   7.5367,2,    25.00,  -999.00,9,  -999.00,9,   1.5377,2,     1648
  49RY20120726,   40N,    24,  1,     12,     74,2,20120803,1547, 39.9682, 155.0157, 5642,   3125.0,   1.5378,   1.5377,2,  34.6644,2,  34.6648,2,    129.7,2,    129.5,2,   155.93,2,    37.66,2,     0.00,2,     2.64,2,    0.000,2,    0.000,2,   2348.7,3,   2414.0,2,   7.5375,2,    25.00,  -999.00,9,  -999.00,9,   1.5377,2,     1648
  49RY20120726,   40N,    24,  1,     11,     97,2,20120803,1547, 39.9682, 155.0157, 5642,   3383.0,   1.5066,   1.5066,2,  34.6708,2,  34.6712,2,    136.7,2,    137.4,2,   154.34,2,    37.17,2,     0.00,2,     2.60,2,    0.000,2,    0.000,2,   2338.9,2,   2409.3,2,   7.5477,2,    25.00,  -999.00,9,  -999.00,9,   1.5066,2,     1642
  49RY20120726,   40N,    24,  1,     10,    107,2,20120803,1547, 39.9682, 155.0157, 5642,   3638.8,   1.4883,   1.4885,2,  34.6757,2,  34.6753,2,    142.1,2,    141.9,2,   153.14,2,    36.84,2,     0.00,2,     2.57,2,    0.000,2,    0.000,2,   2336.9,2,   2411.1,2,   7.5562,2,    25.00,  -999.00,9,  -999.00,9,   1.4885,2,     1637
  49RY20120726,   40N,    24,  1,      9,    108,2,20120803,1547, 39.9682, 155.0157, 5642,   3897.6,   1.4783,   1.4784,2,  34.6796,2,  34.6783,2,    146.7,2,    145.9,2,   151.58,2,    36.51,2,     0.00,2,     2.54,2,    0.000,2,    0.000,2,   2327.2,2,   2409.2,2,   7.5647,2,    25.00,  -999.00,9,  -999.00,9,   1.4784,2,     1630
  49RY20120726,   40N,    24,  1,      8,     81,2,20120803,1547, 39.9682, 155.0157, 5642,   4152.1,   1.4726,   1.4727,2,  34.6831,2,  34.6834,2,    151.0,2,    151.0,2,   150.46,2,    36.20,2,     0.00,2,     2.53,2,    0.000,2,    0.000,2,   2326.2,2,   2411.3,2,   7.5723,2,    25.00,  -999.00,9,  -999.00,9,   1.4727,2,     1624
  49RY20120726,   40N,    24,  1,      7,    106,2,20120803,1547, 39.9682, 155.0157, 5642,   4407.5,   1.4777,   1.4779,2,  34.6858,2,  34.6855,2,    154.1,2,    154.6,2,   149.86,2,    35.94,2,     0.00,2,     2.51,2,    0.000,2,    0.000,2,   2323.9,2,   2408.8,2,   7.5756,2,    25.00,  -999.00,9,  -999.00,9,   1.4779,2,     1618
  49RY20120726,   40N,    24,  1,      6,    113,2,20120803,1547, 39.9682, 155.0157, 5642,   4667.0,   1.4906,   1.4908,2,  34.6876,2,  34.6876,2,    156.1,2,    156.6,2,   149.93,2,    35.89,2,     0.00,2,     2.49,2,    0.000,2,    0.000,2,   2326.6,2,   2407.1,2,   7.5915,3,    25.00,  -999.00,9,  -999.00,9,   1.4908,2,     1612
  49RY20120726,   40N,    24,  1,      5,     94,2,20120803,1547, 39.9682, 155.0157, 5642,   4922.5,   1.5068,   1.5068,2,  34.6891,2,  34.6883,2,    158.8,2,    158.4,2,   147.92,2,    35.65,2,     0.00,2,     2.48,2,    0.000,2,    0.000,2,   2321.8,2,   2409.0,2,   7.5822,2,    25.00,  -999.00,9,  -999.00,9,   1.5068,2,     1607
  49RY20120726,   40N,    24,  1,      4,     77,2,20120803,1547, 39.9682, 155.0157, 5642,   5181.0,   1.5274,   1.5275,2,  34.6906,2,  34.6892,2,    160.3,2,    160.3,2,   147.63,2,    35.48,2,     0.00,2,     2.47,2,    0.009,2,    0.000,2,   2325.9,6,   2407.6,6,   7.5870,2,    25.00,  -999.00,9,  -999.00,9,   1.5275,2,     1601
  49RY20120726,   40N,    24,  1,      3,    104,2,20120803,1547, 39.9682, 155.0157, 5642,   5439.3,   1.5514,   1.5515,2,  34.6914,2,  34.6893,4,    162.3,2,    162.5,2,   145.02,2,    35.38,2,     0.00,2,     2.45,2,    0.005,2,    0.000,2,   2321.8,2,   2404.2,2,   7.5886,6,    25.00,  -999.00,9,  -999.00,9,   1.5515,2,     1556
  49RY20120726,   40N,    24,  1,      2,     75,2,20120803,1547, 39.9682, 155.0157, 5642,   5696.1,   1.5794,   1.5792,2,  34.6920,2,  34.6918,2,    163.2,2,    163.1,2,   145.21,2,    35.37,2,     0.00,2,     2.45,2,    0.013,2,    0.000,2,   2317.9,2,   2405.7,2,   7.5912,2,    25.00,  -999.00,9,  -999.00,9,   1.5792,2,     1549
  49RY20120726,   40N,    24,  1,      1,    997,2,20120803,1547, 39.9682, 155.0157, 5642,   5720.9,   1.5828,   1.5827,2,  34.6921,2,  34.6921,2,    163.3,2,    163.4,6,   145.09,6,    35.33,6,     0.00,6,     2.47,6,    0.017,2,    0.000,2,   2316.3,2,   2407.2,2,   7.5873,2,    25.00,  -999.00,9,  -999.00,9,   1.5827,2,     1547