BOTTLE,20210419PRINUNIVRMK
EXPOCODE,SECT_ID,STNNBR,CASTNO,SAMPNO,BTLNBR,BTLNBR_FLAG_W,DATE,TIME,LATITUDE,LONGITUDE,DEPTH,CTDPRS,CTDTMP,SBE35,SBE35_FLAG_W,CTDSAL,CTDSAL_FLAG_W,SALNTY,SALNTY_FLAG_W,CTDOXY,CTDOXY_FLAG_W,OXYGEN,OXYGEN_FLAG_W,SILCAT,SILCAT_FLAG_W,NITRAT,NITRAT_FLAG_W,NITRIT,NITRIT_FLAG_W,PHSPHT,PHSPHT_FLAG_W,CFC-11,CFC-11_FLAG_W,CFC-12,CFC-12_FLAG_W,TCARBN,TCARBN_FLAG_W,ALKALI,ALKALI_FLAG_W,PH_TOT,PH_TOT_FLAG_W,PH_TMP,CHLORA,CHLORA_FLAG_W,PPHYTN,PPHYTN_FLAG_W,SBE35,SBE35_FLAG_W,BTL_TIME
,,,,,,,,,,,METERS,DBAR,ITS-90,,,PSS-78,,PSS-78,,UMOL/KG,,UMOL/KG,,UMOL/KG,,UMOL/KG,,UMOL/KG,,UMOL/KG,,PMOL/KG,,PMOL/KG,,UMOL/KG,,UMOL/KG,,,,DEG C,UG/KG,,UG/KG,,,,
  49RY20120726,   40N,    19,  1,     36,    109,3,20120801,1533, 40.0303, 151.6808, 5668,     10.7,  21.4589,  21.4026,2,  33.8519,2,  33.8573,4,    230.3,2,    230.1,6,     1.35,6,     0.00,6,     0.00,6,     0.09,6, -999.000,9, -999.000,9,   1988.6,2,   2252.7,2,   8.0029,2,    25.00,     0.13,2,     0.00,2,  21.4026,2,     1800
  49RY20120726,   40N,    19,  1,     35,    112,2,20120801,1533, 40.0303, 151.6808, 5668,     50.8,   9.3379,   9.3424,2,  33.6704,2,  33.7064,4,    265.8,2,    262.0,2,    14.73,2,    11.40,2,     0.31,2,     0.97,2, -999.000,9, -999.000,9,   2084.4,2,   2259.7,2,   7.8231,2,    25.00,     0.39,2,     0.23,2,   9.3424,2,     1756
  49RY20120726,   40N,    19,  1,     34,     83,3,20120801,1533, 40.0303, 151.6808, 5668,     98.6,   8.0043,   8.0023,2,  33.9209,2,  33.9204,2,    246.0,2,    246.3,2,    21.91,2,    15.03,2,     0.01,2,     1.14,2, -999.000,9, -999.000,9,   2118.9,2,   2268.4,2,   7.7613,2,    25.00,     0.03,2,     0.05,2,   8.0023,2,     1754
  49RY20120726,   40N,    19,  1,     33,     86,2,20120801,1533, 40.0303, 151.6808, 5668,    151.1,   8.2889,   8.2946,2,  34.1338,2,  34.1282,2,    163.9,2,    165.1,2,    42.94,2,    22.95,2,     0.00,2,     1.67,2, -999.000,9, -999.000,9,   2184.8,2,   2287.3,2,   7.6501,2,    25.00,     0.00,2,     0.03,2,   8.2946,2,     1752
  49RY20120726,   40N,    19,  1,     32,    105,2,20120801,1533, 40.0303, 151.6808, 5668,    201.7,   5.2094,   5.2063,2,  33.7334,2,  33.7339,2,    221.7,2,    221.3,2,    43.66,2,    23.20,2,     0.01,2,     1.76,2, -999.000,9, -999.000,9,   2170.2,2,   2270.5,2,   7.6265,2,    25.00,     0.00,2,     0.05,2,   5.2063,2,     1750
  49RY20120726,   40N,    19,  1,     31,     76,2,20120801,1533, 40.0303, 151.6808, 5668,    252.9,   3.0890,   3.0895,2,  33.5493,2,  33.5530,2,    210.5,2,    209.9,2,    58.95,2,    29.09,2,     0.00,2,     2.21,2, -999.000,9, -999.000,9,   2214.3,2,   2269.4,2,   7.5160,2,    25.00,  -999.00,9,  -999.00,9,   3.0895,2,     1748
  49RY20120726,   40N,    19,  1,     30,    103,2,20120801,1533, 40.0303, 151.6808, 5668,    284.1,   3.0792,   3.0792,2,  33.6083,2,  33.6069,2,    176.4,2,    175.8,2,    68.68,2,    32.47,2,     0.00,2,     2.43,2, -999.000,9, -999.000,9,   2241.9,6,   2276.8,6,   7.4537,2,    25.00,  -999.00,9,  -999.00,9,   3.0792,2,     1746
  49RY20120726,   40N,    19,  1,     29,    102,2,20120801,1533, 40.0303, 151.6808, 5668,    373.5,   5.0307,   5.0312,2,  34.0256,2,  34.0271,2,    111.2,2,    110.2,2,    76.74,2,    34.09,2,     0.00,2,     2.49,2, -999.000,9, -999.000,9,   2268.1,2,   2307.5,2,   7.4553,6,    25.00,  -999.00,9,  -999.00,9,   5.0312,2,     1743
  49RY20120726,   40N,    19,  1,     28,     91,2,20120801,1533, 40.0303, 151.6808, 5668,    475.0,   4.5815,   4.5814,2,  34.1183,2,  34.1167,2,     79.1,2,     79.2,2,    92.18,2,    37.37,2,     0.00,2,     2.71,2, -999.000,9, -999.000,9,   2293.9,2,   2322.2,2,   7.4029,2,    25.00,  -999.00,9,  -999.00,9,   4.5814,2,     1740
  49RY20120726,   40N,    19,  1,     27,    998,2,20120801,1533, 40.0303, 151.6808, 5668,    575.3,   3.8839,   3.8859,2,  34.1555,2,  34.1572,2,     55.1,2,     55.0,2,   108.12,2,    40.25,2,     0.00,2,     2.91,2, -999.000,9, -999.000,9,   2329.7,2,   2334.3,2,   7.3505,2,    25.00,  -999.00,9,  -999.00,9,   3.8859,2,     1737
  49RY20120726,   40N,    19,  1,     26,     99,2,20120801,1533, 40.0303, 151.6808, 5668,    679.0,   3.3001,   3.3030,2,  34.1954,2,  34.1937,2,     37.9,2,     38.0,2,   124.10,2,    42.36,2,     0.00,2,     3.05,2, -999.000,9, -999.000,9,   2358.1,2,   2348.5,2,   7.3101,2,    25.00,  -999.00,9,  -999.00,9,   3.3030,2,     1734
  49RY20120726,   40N,    19,  1,     25,     98,2,20120801,1533, 40.0303, 151.6808, 5668,    777.6,   3.2915,   3.2939,2,  34.2798,2,  34.2786,2,     39.1,2,     38.2,2,   129.03,2,    42.19,2,     0.00,2,     3.03,2, -999.000,9, -999.000,9,   2365.2,2,   2357.7,2,   7.3303,2,    25.00,  -999.00,9,  -999.00,9,   3.2939,2,     1731
  49RY20120726,   40N,    19,  1,     24,    110,2,20120801,1533, 40.0303, 151.6808, 5668,    880.1,   3.2209,   3.2197,2,  34.3436,2,  34.3444,2,     40.1,2,     39.8,2,   132.75,2,    42.19,2,     0.00,2,     3.03,2, -999.000,9, -999.000,9,   2367.2,2,   2370.1,2,   7.3463,2,    25.00,  -999.00,9,  -999.00,9,   3.2197,2,     1728
  49RY20120726,   40N,    19,  1,     23,     96,2,20120801,1533, 40.0303, 151.6808, 5668,    981.1,   2.9944,   2.9946,2,  34.3835,2,  34.3834,2,     39.0,2,     38.6,6,   139.43,6,    42.55,6,     0.00,6,     3.05,6, -999.000,9, -999.000,9,   2373.9,2,   2379.1,2,   7.3463,2,    25.00,  -999.00,9,  -999.00,9,   2.9946,2,     1725
  49RY20120726,   40N,    19,  1,     22,    111,2,20120801,1533, 40.0303, 151.6808, 5668,   1143.7,   2.7605,   2.7604,2,  34.4410,2,  34.4402,2,     40.0,2,     39.6,2,   146.14,2,    42.73,2,     0.00,2,     3.06,2, -999.000,9, -999.000,9,   2377.5,2,   2387.5,2,   7.3546,2,    25.00,  -999.00,9,  -999.00,9,   2.7604,2,     1721
  49RY20120726,   40N,    19,  1,     21,     78,2,20120801,1533, 40.0303, 151.6808, 5668,   1345.6,   2.4617,   2.4621,2,  34.4909,2,  34.4905,2,     42.6,2,     42.8,2,   154.56,2,    42.65,2,     0.00,2,     3.05,2, -999.000,9, -999.000,9,   2386.3,6,   2399.3,2,   7.3650,2,    25.00,  -999.00,9,  -999.00,9,   2.4621,2,     1716
  49RY20120726,   40N,    19,  1,     20,     93,2,20120801,1533, 40.0303, 151.6808, 5668,   1549.0,   2.2552,   2.2551,2,  34.5320,2,  34.5300,4,     50.2,2,     50.2,2,   159.21,2,    42.36,2,     0.00,2,     3.02,2, -999.000,9, -999.000,9,   2383.5,2,   2403.2,2,   7.3798,2,    25.00,  -999.00,9,  -999.00,9,   2.2551,2,     1712
  49RY20120726,   40N,    19,  1,     19,     92,3,20120801,1533, 40.0303, 151.6808, 5668,   1751.5,   2.0865,   2.0865,2,  34.5642,2,  34.5636,2,     61.8,2,     61.6,2,   161.77,2,    41.76,2,     0.00,2,     2.96,2, -999.000,9, -999.000,9,   2381.9,2,   2410.9,2,   7.4047,2,    25.00,  -999.00,9,  -999.00,9,   2.0865,2,     1707
  49RY20120726,   40N,    19,  1,     18,    101,2,20120801,1533, 40.0303, 151.6808, 5668,   1954.5,   1.9544,   1.9547,2,  34.5899,2,  34.5906,2,     72.5,2,     71.9,2,   162.74,2,    41.13,2,     0.00,2,     2.91,2, -999.000,9, -999.000,9,   2376.2,2,   2413.2,2,   7.4225,2,    25.00,  -999.00,9,  -999.00,9,   1.9547,2,     1702
  49RY20120726,   40N,    19,  1,     17,     90,3,20120801,1533, 40.0303, 151.6808, 5668,   2158.2,   1.8340,   1.8339,2,  34.6122,2,  34.6094,4,     86.1,2,     85.6,2,   161.99,2,    40.39,2,     0.00,2,     2.84,2, -999.000,9, -999.000,9,   2373.2,2,   2417.8,2,   7.4527,2,    25.00,  -999.00,9,  -999.00,9,   1.8339,2,     1657
  49RY20120726,   40N,    19,  1,     16,     89,3,20120801,1533, 40.0303, 151.6808, 5668,   2362.1,   1.7323,   1.7323,2,  34.6297,2,  34.6299,2,     98.4,2,     98.2,2,   161.42,2,    39.67,2,     0.00,2,     2.79,2, -999.000,9, -999.000,9,   2363.5,2,   2417.8,2,   7.4768,2,    25.00,  -999.00,9,  -999.00,9,   1.7323,2,     1652
  49RY20120726,   40N,    19,  1,     15,     88,2,20120801,1533, 40.0303, 151.6808, 5668,   2565.7,   1.6565,   1.6566,2,  34.6426,2,  34.6425,2,    108.8,2,    108.5,2,   160.00,2,    38.86,2,     0.00,2,     2.74,2, -999.000,9, -999.000,9,   2360.1,6,   2419.7,6,   7.4947,2,    25.00,  -999.00,9,  -999.00,9,   1.6566,2,     1648
  49RY20120726,   40N,    19,  1,     14,    999,2,20120801,1533, 40.0303, 151.6808, 5668,   2769.8,   1.5982,   1.5982,2,  34.6528,2,  34.6534,6,    117.9,2,    117.8,2,   158.26,2,    38.35,2,     0.00,2,     2.70,2, -999.000,9, -999.000,9,   2357.4,2,   2420.9,2,   7.5124,6,    25.00,  -999.00,9,  -999.00,9,   1.5982,2,     1644
  49RY20120726,   40N,    19,  1,     13,    996,2,20120801,1533, 40.0303, 151.6808, 5668,   2974.3,   1.5564,   1.5564,2,  34.6603,2,  34.6604,2,    125.3,2,    125.4,2,   156.80,2,    37.71,2,     0.00,2,     2.65,2, -999.000,9, -999.000,9,   2347.2,2,   2419.9,2,   7.5255,2,    25.00,  -999.00,9,  -999.00,9,   1.5564,2,     1639
  49RY20120726,   40N,    19,  1,     12,     74,2,20120801,1533, 40.0303, 151.6808, 5668,   2974.3,   1.5564,   1.5564,2,  34.6603,2,  34.6610,2,    125.3,2,    125.4,6,   156.76,6,    37.84,6,     0.00,6,     2.65,6, -999.000,9, -999.000,9,   2344.0,2,   2420.3,2,   7.5269,2,    25.00,  -999.00,9,  -999.00,9,   1.5564,2,     1639
  49RY20120726,   40N,    19,  1,     11,     97,2,20120801,1533, 40.0303, 151.6808, 5668,   3218.2,   1.5195,   1.5194,2,  34.6674,2,  34.6666,2,    132.6,2,    132.6,2,   155.07,2,    37.30,2,     0.00,2,     2.62,2, -999.000,9, -999.000,9,   2344.8,2,   2422.3,2,   7.5394,2,    25.00,  -999.00,9,  -999.00,9,   1.5194,2,     1632
  49RY20120726,   40N,    19,  1,     10,    107,2,20120801,1533, 40.0303, 151.6808, 5668,   3474.7,   1.4949,   1.4949,2,  34.6729,2,  34.6713,4,    138.8,2,    138.2,2,   153.76,2,    36.92,2,     0.00,2,     2.58,2, -999.000,9, -999.000,9,   2347.1,2,   2421.2,2,   7.5494,2,    25.00,  -999.00,9,  -999.00,9,   1.4949,2,     1626
  49RY20120726,   40N,    19,  1,      9,    108,2,20120801,1533, 40.0303, 151.6808, 5668,   3731.4,   1.4769,   1.4770,2,  34.6777,2,  34.6767,2,    144.3,2,    144.1,2,   152.35,2,    36.44,2,     0.00,2,     2.56,2, -999.000,9, -999.000,9,   2340.3,2,   2419.4,2,   7.5572,2,    25.00,  -999.00,9,  -999.00,9,   1.4770,2,     1620
  49RY20120726,   40N,    19,  1,      8,     81,2,20120801,1533, 40.0303, 151.6808, 5668,   3988.1,   1.4727,   1.4729,2,  34.6811,2,  34.6808,2,    148.3,2,    148.1,2,   151.46,2,    36.19,2,     0.00,2,     2.54,2, -999.000,9, -999.000,9,   2328.7,3,   2416.9,2,   7.5655,2,    25.00,  -999.00,9,  -999.00,9,   1.4729,2,     1615
  49RY20120726,   40N,    19,  1,      7,    106,2,20120801,1533, 40.0303, 151.6808, 5668,   4244.5,   1.4721,   1.4721,2,  34.6841,2,  34.6836,2,    152.1,2,    151.7,2,   150.33,2,    35.84,2,     0.00,2,     2.52,2, -999.000,9, -999.000,9,   2334.8,6,   2416.3,6,   7.5724,2,    25.00,  -999.00,9,  -999.00,9,   1.4721,2,     1609
  49RY20120726,   40N,    19,  1,      6,    113,3,20120801,1533, 40.0303, 151.6808, 5668,   4502.1,   1.4780,   1.4781,2,  34.6867,2,  34.6853,2,    155.1,2,    155.0,2,   149.66,2,    35.65,2,     0.00,2,     2.50,2, -999.000,9, -999.000,9,   2335.0,2,   2417.8,2,   7.5745,2,    25.00,  -999.00,9,  -999.00,9,   1.4781,2,     1604
  49RY20120726,   40N,    19,  1,      5,     94,2,20120801,1533, 40.0303, 151.6808, 5668,   4759.2,   1.4935,   1.4934,2,  34.6884,2,  34.6875,2,    157.1,2,    157.2,6,   149.44,6,    35.55,6,     0.00,6,     2.49,6, -999.000,9, -999.000,9,   2329.8,2,   2416.8,2,   7.5784,2,    25.00,  -999.00,9,  -999.00,9,   1.4934,2,     1558
  49RY20120726,   40N,    19,  1,      4,     77,2,20120801,1533, 40.0303, 151.6808, 5668,   5018.3,   1.5148,   1.5148,2,  34.6896,2,  34.6882,2,    158.2,2,    158.6,2,   149.48,2,    35.47,2,     0.00,2,     2.48,2, -999.000,9, -999.000,9,   2329.7,2,   2414.9,2,   7.5836,2,    25.00,  -999.00,9,  -999.00,9,   1.5148,2,     1553
  49RY20120726,   40N,    19,  1,      3,    104,2,20120801,1533, 40.0303, 151.6808, 5668,   5272.5,   1.5416,   1.5416,2,  34.6904,2,  34.6901,2,    159.2,2,    159.3,2,   148.97,2,    35.47,2,     0.00,2,     2.48,2, -999.000,9, -999.000,9,   2323.8,2,   2416.8,2,   7.5793,2,    25.00,  -999.00,9,  -999.00,9,   1.5416,2,     1547
  49RY20120726,   40N,    19,  1,      2,     75,2,20120801,1533, 40.0303, 151.6808, 5668,   5532.6,   1.5703,   1.5702,2,  34.6909,2,  34.6904,6,    160.1,2,    160.1,2,   148.20,2,    35.35,2,     0.00,2,     2.47,2, -999.000,9, -999.000,9,   2326.3,2,   2416.0,2,   7.5830,2,    25.00,  -999.00,9,  -999.00,9,   1.5702,2,     1542
  49RY20120726,   40N,    19,  1,      1,    997,2,20120801,1533, 40.0303, 151.6808, 5668,   5793.2,   1.6026,   1.6023,2,  34.6910,2,  34.6895,4,    160.7,2,    160.6,2,   147.73,2,    35.32,2,     0.00,2,     2.47,2, -999.000,9, -999.000,9,   2321.0,2,   2415.9,2,   7.5799,2,    25.00,  -999.00,9,  -999.00,9,   1.6023,2,     1534