BOTTLE,20210419PRINUNIVRMK
EXPOCODE,SECT_ID,STNNBR,CASTNO,SAMPNO,BTLNBR,BTLNBR_FLAG_W,DATE,TIME,LATITUDE,LONGITUDE,DEPTH,CTDPRS,CTDTMP,SBE35,SBE35_FLAG_W,CTDSAL,CTDSAL_FLAG_W,SALNTY,SALNTY_FLAG_W,CTDOXY,CTDOXY_FLAG_W,OXYGEN,OXYGEN_FLAG_W,SILCAT,SILCAT_FLAG_W,NITRAT,NITRAT_FLAG_W,NITRIT,NITRIT_FLAG_W,PHSPHT,PHSPHT_FLAG_W,CFC-11,CFC-11_FLAG_W,CFC-12,CFC-12_FLAG_W,TCARBN,TCARBN_FLAG_W,ALKALI,ALKALI_FLAG_W,PH_TOT,PH_TOT_FLAG_W,PH_TMP,CHLORA,CHLORA_FLAG_W,PPHYTN,PPHYTN_FLAG_W,SBE35,SBE35_FLAG_W,BTL_TIME
,,,,,,,,,,,METERS,DBAR,ITS-90,,,PSS-78,,PSS-78,,UMOL/KG,,UMOL/KG,,UMOL/KG,,UMOL/KG,,UMOL/KG,,UMOL/KG,,PMOL/KG,,PMOL/KG,,UMOL/KG,,UMOL/KG,,,,DEG C,UG/KG,,UG/KG,,,,
  49RY20120726,   40N,    25,  1,     36,    109,3,20120803,2343, 39.9710, 155.6678, 5528,      9.6,  20.4220,  19.6374,2,  33.6280,2,  33.7137,4,    256.7,2,    267.7,2,     0.74,2,     0.10,2,     0.01,2,     0.06,2, -999.000,9, -999.000,9,   1976.9,2,   2246.8,2,   8.0165,2,    25.00,     0.30,2,     0.06,2,  19.6374,2,      408
  49RY20120726,   40N,    25,  1,     35,    112,2,20120803,2343, 39.9710, 155.6678, 5528,     50.9,  11.3293,  11.3059,2,  34.0077,2,  34.0104,2,    273.5,2,    275.8,2,    15.07,2,     7.98,2,     0.16,2,     0.74,2, -999.000,9, -999.000,9,   2063.0,2,   2268.5,2,   7.8676,2,    25.00,     0.43,2,     0.16,2,  11.3059,2,      404
  49RY20120726,   40N,    25,  1,     34,     83,3,20120803,2343, 39.9710, 155.6678, 5528,    100.7,   7.8478,   7.8393,2,  33.9470,2,  33.9461,2,    264.1,2,    265.7,2,    23.00,2,    15.18,4,     0.02,2,     1.14,2, -999.000,9, -999.000,9,   2110.1,2,   2266.4,2,   7.7657,2,    25.00,     0.06,2,     0.05,2,   7.8393,2,      402
  49RY20120726,   40N,    25,  1,     33,     86,2,20120803,2343, 39.9710, 155.6678, 5528,    150.9,   6.3829,   6.3830,2,  33.7982,2,  33.7967,2,    274.0,2,    275.4,2,    27.88,2,    17.28,2,     0.01,2,     1.32,2, -999.000,9, -999.000,9,   2114.4,2,   2262.8,2,   7.7306,2,    25.00,     0.02,2,     0.04,2,   6.3830,2,      400
  49RY20120726,   40N,    25,  1,     32,    105,2,20120803,2343, 39.9710, 155.6678, 5528,    201.3,   6.2620,   6.2617,2,  33.8296,2,  33.8266,2,    268.9,2,    270.1,2,    29.93,2,    17.99,2,     0.01,2,     1.36,2, -999.000,9, -999.000,9,   2120.7,2,   2264.0,2,   7.7207,2,    25.00,     0.01,2,     0.03,2,   6.2617,2,      353
  49RY20120726,   40N,    25,  1,     31,     76,2,20120803,2343, 39.9710, 155.6678, 5528,    252.6,   5.4166,   5.4109,2,  33.7773,2,  33.7793,2,    214.1,2,    212.5,2,    45.54,2,    24.45,2,     0.01,2,     1.84,2, -999.000,9, -999.000,9,   2177.8,2,   2271.0,2,   7.6138,2,    25.00,  -999.00,9,  -999.00,9,   5.4109,2,      347
  49RY20120726,   40N,    25,  1,     30,    103,2,20120803,2343, 39.9710, 155.6678, 5528,    282.1,   5.2907,   5.2916,2,  33.8190,2,  33.8263,2,    176.4,2,    174.7,6,    55.08,6,    28.13,6,     0.00,6,     2.09,6, -999.000,9, -999.000,9,   2205.6,2,   2280.5,2,   7.5547,2,    25.00,  -999.00,9,  -999.00,9,   5.2916,2,      346
  49RY20120726,   40N,    25,  1,     29,    102,2,20120803,2343, 39.9710, 155.6678, 5528,    373.5,   4.5882,   4.5884,2,  33.9016,2,  33.9047,2,    125.2,2,    124.1,2,    73.65,2,    33.92,2,     0.00,2,     2.49,2, -999.000,9, -999.000,9,   2257.4,2,   2293.2,6,   7.4506,2,    25.00,  -999.00,9,  -999.00,9,   4.5884,2,      344
  49RY20120726,   40N,    25,  1,     28,     91,2,20120803,2343, 39.9710, 155.6678, 5528,    474.5,   4.2057,   4.2050,2,  34.0134,2,  34.0138,2,     84.5,2,     84.1,2,    90.46,2,    37.86,2,     0.00,2,     2.75,2, -999.000,9, -999.000,9,   2294.6,2,   2308.7,2,   7.3825,6,    25.00,  -999.00,9,  -999.00,9,   4.2050,2,      341
  49RY20120726,   40N,    25,  1,     27,    998,2,20120803,2343, 39.9710, 155.6678, 5528,    575.7,   4.2881,   4.2882,2,  34.1630,2,  34.1639,2,     64.5,2,     64.2,2,   100.93,2,    39.17,2,     0.00,2,     2.83,2, -999.000,9, -999.000,9,   2316.1,2,   2330.9,2,   7.3776,2,    25.00,  -999.00,9,  -999.00,9,   4.2882,2,      335
  49RY20120726,   40N,    25,  1,     26,     99,3,20120803,2343, 39.9710, 155.6678, 5528,    675.9,   3.9080,   3.9080,2,  34.2235,2,  34.2225,2,     51.3,2,     51.3,2,   112.14,2,    40.61,2,     0.00,2,     2.93,2, -999.000,9, -999.000,9,   2332.4,2,   2340.6,2,   7.3569,2,    25.00,  -999.00,9,  -999.00,9,   3.9080,2,      333
  49RY20120726,   40N,    25,  1,     25,     98,2,20120803,2343, 39.9710, 155.6678, 5528,    777.8,   3.5520,   3.5521,2,  34.2714,2,  34.2732,2,     42.6,2,     42.3,6,   122.30,6,    41.68,6,     0.00,6,     3.00,6, -999.000,9, -999.000,9,   2343.4,2,   2351.0,2,   7.3469,2,    25.00,  -999.00,9,  -999.00,9,   3.5521,2,      328
  49RY20120726,   40N,    25,  1,     24,    110,3,20120803,2343, 39.9710, 155.6678, 5528,    878.2,   3.2735,   3.2738,2,  34.3277,2,  34.3275,2,     39.1,2,     38.4,2,   131.17,2,    42.22,2,     0.00,2,     3.04,2, -999.000,9, -999.000,9,   2351.2,2,   2361.6,2,   7.3418,2,    25.00,  -999.00,9,  -999.00,9,   3.2738,2,      317
  49RY20120726,   40N,    25,  1,     23,     96,2,20120803,2343, 39.9710, 155.6678, 5528,    979.3,   3.0697,   3.0694,2,  34.3770,2,  34.3772,2,     38.4,2,     38.7,2,   137.06,2,    42.52,2,     0.00,2,     3.05,2, -999.000,9, -999.000,9,   2371.6,2,   2371.7,2,   7.3473,2,    25.00,  -999.00,9,  -999.00,9,   3.0694,2,      314
  49RY20120726,   40N,    25,  1,     22,    111,2,20120803,2343, 39.9710, 155.6678, 5528,   1142.7,   2.7026,   2.7018,2,  34.4316,2,  34.4315,2,     37.3,2,     37.2,2,   148.05,2,    42.93,2,     0.00,2,     3.08,2, -999.000,9, -999.000,9,   2376.2,6,   2385.0,6,   7.3485,2,    25.00,  -999.00,9,  -999.00,9,   2.7018,2,      307
  49RY20120726,   40N,    25,  1,     21,     78,2,20120803,2343, 39.9710, 155.6678, 5528,   1347.3,   2.4334,   2.4334,2,  34.4823,2,  34.4811,2,     41.0,2,     41.2,2,   155.58,2,    42.92,2,     0.00,2,     3.06,2, -999.000,9, -999.000,9,   2380.3,2,   2392.6,2,   7.3619,6,    25.00,  -999.00,9,  -999.00,9,   2.4334,2,      257
  49RY20120726,   40N,    25,  1,     20,     93,3,20120803,2343, 39.9710, 155.6678, 5528,   1550.8,   2.2371,   2.2372,2,  34.5252,2,  34.5261,2,     49.0,2,     49.2,2,   160.08,2,    42.40,4,     0.00,2,     3.03,2, -999.000,9, -999.000,9,   2372.3,3,   2402.5,2,   7.3790,2,    25.00,  -999.00,9,  -999.00,9,   2.2372,2,      243
  49RY20120726,   40N,    25,  1,     19,     92,2,20120803,2343, 39.9710, 155.6678, 5528,   1752.3,   2.0805,   2.0805,2,  34.5623,2,  34.5629,6,     59.5,2,     59.6,2,   162.28,2,    41.90,2,     0.00,2,     2.98,2, -999.000,9, -999.000,9,   2383.4,2,   2408.4,2,   7.4012,2,    25.00,  -999.00,9,  -999.00,9,   2.0805,2,      237
  49RY20120726,   40N,    25,  1,     18,    101,2,20120803,2343, 39.9710, 155.6678, 5528,   1955.8,   1.9466,   1.9465,2,  34.5892,2,  34.5908,2,     71.1,2,     71.3,6,   163.35,6,    41.20,6,     0.00,6,     2.93,6, -999.000,9, -999.000,9,   2375.1,2,   2409.8,2,   7.4239,2,    25.00,  -999.00,9,  -999.00,9,   1.9465,2,      222
  49RY20120726,   40N,    25,  1,     17,     90,2,20120803,2343, 39.9710, 155.6678, 5528,   2158.7,   1.8303,   1.8304,2,  34.6110,2,  34.6114,2,     83.3,2,     83.9,2,   163.29,2,    40.51,2,     0.00,2,     2.87,2, -999.000,9, -999.000,9,   2370.4,2,   2415.0,2,   7.4485,2,    25.00,  -999.00,9,  -999.00,9,   1.8304,2,      216
  49RY20120726,   40N,    25,  1,     16,     89,2,20120803,2343, 39.9710, 155.6678, 5528,   2363.7,   1.7500,   1.7500,2,  34.6271,2,  34.6281,2,     95.6,2,     96.1,2,   161.28,2,    39.69,2,     0.00,2,     2.81,2, -999.000,9, -999.000,9,   2360.3,2,   2415.1,2,   7.4728,2,    25.00,  -999.00,9,  -999.00,9,   1.7500,2,      205
  49RY20120726,   40N,    25,  1,     15,     88,2,20120803,2343, 39.9710, 155.6678, 5528,   2567.8,   1.6763,   1.6765,2,  34.6398,2,  34.6410,2,    105.4,2,    105.7,2,   160.22,2,    39.26,2,     0.00,2,     2.77,2, -999.000,9, -999.000,9,   2349.1,2,   2416.6,2,   7.4913,2,    25.00,  -999.00,9,  -999.00,9,   1.6765,2,      137
  49RY20120726,   40N,    25,  1,     14,    999,3,20120803,2343, 39.9710, 155.6678, 5528,   2771.7,   1.6109,   1.6108,2,  34.6510,2,  34.6518,2,    115.5,2,    115.5,2,   158.87,2,    38.66,2,     0.00,2,     2.71,2, -999.000,9, -999.000,9,   2346.2,2,   2416.6,2,   7.5116,2,    25.00,  -999.00,9,  -999.00,9,   1.6108,2,      126
  49RY20120726,   40N,    25,  1,     13,    996,2,20120803,2343, 39.9710, 155.6678, 5528,   2976.6,   1.5641,   1.5641,2,  34.6595,2,  34.6598,2,    123.8,2,    124.0,2,   156.65,2,    37.99,2,     0.00,2,     2.67,2, -999.000,9, -999.000,9,   2342.0,2,   2418.4,2,   7.5272,2,    25.00,  -999.00,9,  -999.00,9,   1.5641,2,      117
  49RY20120726,   40N,    25,  1,     12,     74,2,20120803,2343, 39.9710, 155.6678, 5528,   2976.6,   1.5641,   1.5641,2,  34.6595,2,  34.6609,6,    123.8,2,    123.9,2,   156.46,2,    37.97,2,     0.00,2,     2.68,2, -999.000,9, -999.000,9,   2347.6,2,   2416.9,2,   7.5229,3,    25.00,  -999.00,9,  -999.00,9,   1.5641,2,      117
  49RY20120726,   40N,    25,  1,     11,     97,2,20120803,2343, 39.9710, 155.6678, 5528,   3221.1,   1.5201,   1.5201,2,  34.6674,2,  34.6663,2,    132.3,2,    132.0,2,   154.30,2,    37.30,2,     0.00,2,     2.62,2, -999.000,9, -999.000,9,   2341.5,2,   2416.3,6,   7.5386,2,    25.00,  -999.00,9,  -999.00,9,   1.5201,2,      108
  49RY20120726,   40N,    25,  1,     10,    107,2,20120803,2343, 39.9710, 155.6678, 5528,   3477.4,   1.4945,   1.4945,2,  34.6730,2,  34.6733,2,    138.5,2,    138.5,2,   152.70,2,    37.04,2,     0.00,2,     2.60,2, -999.000,9, -999.000,9,   2328.3,3,   2414.6,2,   7.5517,6,    25.00,  -999.00,9,  -999.00,9,   1.4945,2,       57
  49RY20120726,   40N,    25,  1,      9,    108,2,20120803,2343, 39.9710, 155.6678, 5528,   3732.7,   1.4775,   1.4776,2,  34.6777,2,  34.6779,2,    143.9,2,    144.1,6,   151.32,6,    36.75,6,     0.00,6,     2.57,6, -999.000,9, -999.000,9,   2332.1,2,   2417.2,2,   7.5632,2,    25.00,  -999.00,9,  -999.00,9,   1.4776,2,       47
  49RY20120726,   40N,    25,  1,      8,     81,2,20120803,2343, 39.9710, 155.6678, 5528,   3988.9,   1.4720,   1.4721,2,  34.6813,2,  34.6820,2,    148.3,2,    148.3,2,   150.46,2,    36.47,2,     0.00,2,     2.55,2, -999.000,9, -999.000,9,   2318.6,3,   2415.5,2,   7.5676,2,    25.00,  -999.00,9,  -999.00,9,   1.4721,2,       37
  49RY20120726,   40N,    25,  1,      7,    106,2,20120803,2343, 39.9710, 155.6678, 5528,   4246.3,   1.4702,   1.4703,2,  34.6843,2,  34.6845,2,    152.1,2,    152.3,2,   149.62,2,    36.24,3,     0.00,2,     2.52,2, -999.000,9, -999.000,9,   2323.3,2,   2415.8,2,   7.5726,2,    25.00,  -999.00,9,  -999.00,9,   1.4703,2,       29
  49RY20120726,   40N,    25,  1,      6,    113,2,20120803,2343, 39.9710, 155.6678, 5528,   4503.3,   1.4792,   1.4792,2,  34.6866,2,  34.6870,2,    154.9,2,    155.0,2,   148.81,2,    35.87,2,     0.00,2,     2.51,2, -999.000,9, -999.000,9,   2325.4,2,   2413.2,2,   7.5750,2,    25.00,  -999.00,9,  -999.00,9,   1.4792,2,       21
  49RY20120726,   40N,    25,  1,      5,     94,2,20120803,2343, 39.9710, 155.6678, 5528,   4759.8,   1.4937,   1.4938,2,  34.6884,2,  34.6881,2,    157.0,2,    157.4,2,   148.59,2,    35.79,2,     0.00,2,     2.50,2, -999.000,9, -999.000,9,   2318.6,2,   2412.7,2,   7.5810,2,    25.00,  -999.00,9,  -999.00,9,   1.4938,2,       13
  49RY20120726,   40N,    25,  1,      4,     77,2,20120803,2343, 39.9710, 155.6678, 5528,   5017.3,   1.5153,   1.5155,2,  34.6897,2,  34.6905,2,    158.1,2,    158.3,2,   149.25,2,    35.60,2,     0.00,2,     2.49,2, -999.000,9, -999.000,9,   2319.4,6,   2410.8,2,   7.5801,2,    25.00,  -999.00,9,  -999.00,9,   1.5155,2,        5
  49RY20120726,   40N,    25,  1,      3,    104,2,20120803,2343, 39.9710, 155.6678, 5528,   5276.3,   1.5380,   1.5382,2,  34.6907,2,  34.6906,2,    159.8,2,    159.8,2,   147.73,2,    35.60,2,     0.00,2,     2.48,2, -999.000,9, -999.000,9,   2318.6,2,   2411.4,2,   7.5864,6,    25.00,  -999.00,9,  -999.00,9,   1.5382,2,     2357
  49RY20120726,   40N,    25,  1,      2,     75,2,20120803,2343, 39.9710, 155.6678, 5528,   5537.1,   1.5612,   1.5612,2,  34.6917,2,  34.6919,6,    162.4,2,    162.6,2,   144.61,2,    35.44,2,     0.00,2,     2.47,2, -999.000,9, -999.000,9,   2313.7,2,   2410.6,2,   7.5916,2,    25.00,  -999.00,9,  -999.00,9,   1.5612,2,     2347
  49RY20120726,   40N,    25,  1,      1,    997,2,20120803,2343, 39.9710, 155.6678, 5528,   5644.0,   1.5721,   1.5719,2,  34.6919,2,  34.6932,2,    163.1,2,    163.2,2,   143.91,2,    35.44,2,     0.00,2,     2.47,2, -999.000,9, -999.000,9,   2318.7,2,   2411.5,2,   7.5907,2,    25.00,  -999.00,9,  -999.00,9,   1.5719,2,     2343