BOTTLE,20210419PRINUNIVRMK
EXPOCODE,SECT_ID,STNNBR,CASTNO,SAMPNO,BTLNBR,BTLNBR_FLAG_W,DATE,TIME,LATITUDE,LONGITUDE,DEPTH,CTDPRS,CTDTMP,SBE35,SBE35_FLAG_W,CTDSAL,CTDSAL_FLAG_W,SALNTY,SALNTY_FLAG_W,CTDOXY,CTDOXY_FLAG_W,OXYGEN,OXYGEN_FLAG_W,SILCAT,SILCAT_FLAG_W,NITRAT,NITRAT_FLAG_W,NITRIT,NITRIT_FLAG_W,PHSPHT,PHSPHT_FLAG_W,CFC-11,CFC-11_FLAG_W,CFC-12,CFC-12_FLAG_W,TCARBN,TCARBN_FLAG_W,ALKALI,ALKALI_FLAG_W,PH_TOT,PH_TOT_FLAG_W,PH_TMP,CHLORA,CHLORA_FLAG_W,PPHYTN,PPHYTN_FLAG_W,SBE35,SBE35_FLAG_W,BTL_TIME
,,,,,,,,,,,METERS,DBAR,ITS-90,,,PSS-78,,PSS-78,,UMOL/KG,,UMOL/KG,,UMOL/KG,,UMOL/KG,,UMOL/KG,,UMOL/KG,,PMOL/KG,,PMOL/KG,,UMOL/KG,,UMOL/KG,,,,DEG C,UG/KG,,UG/KG,,,,
  49RY20120726,   40N,    11,  1,     36,    109,2,20120730,0859, 40.0240, 147.0135, 5290,     12.4,  15.4952,  15.4619,2,  32.8921,2,  32.9207,4,    279.7,2,    287.5,2,     7.68,2,     4.70,2,     0.08,2,     0.63,2, -999.000,9, -999.000,9,   2001.5,2,   2227.5,2,   7.9436,2,    25.00,     0.35,2,     0.04,2,  15.4619,2,     1115
  49RY20120726,   40N,    11,  1,     35,    112,3,20120730,0859, 40.0240, 147.0135, 5290,     51.6,   2.0733,   2.0625,2,  33.0873,2,  33.0925,2,    324.4,2,    324.1,2,    32.35,2,    21.41,2,     0.66,2,     1.84,2, -999.000,9, -999.000,9,   2134.6,2,   2244.5,2,   7.6584,2,    25.00,     0.62,2,     0.26,2,   2.0625,2,     1111
  49RY20120726,   40N,    11,  1,     34,     83,3,20120730,0859, 40.0240, 147.0135, 5290,    103.2,   3.0573,   3.0573,2,  33.3761,2,  33.3753,2,    289.9,2,    290.6,6,    37.96,6,    22.38,6,     0.00,6,     1.76,6, -999.000,9, -999.000,9,   2146.0,2,   2251.6,2,   7.6414,2,    25.00,     0.04,2,     0.06,2,   3.0573,2,     1109
  49RY20120726,   40N,    11,  1,     33,     86,2,20120730,0859, 40.0240, 147.0135, 5290,    154.2,   2.4527,   2.4501,2,  33.4309,2,  33.4229,2,    237.9,2,    238.6,2,    55.36,2,    28.01,2,     0.00,2,     2.14,2, -999.000,9, -999.000,9,   2198.1,6,   2265.9,2,   7.5304,2,    25.00,     0.01,2,     0.07,2,   2.4501,2,     1107
  49RY20120726,   40N,    11,  1,     32,    105,2,20120730,0859, 40.0240, 147.0135, 5290,    204.4,   3.1311,   3.1425,2,  33.6289,2,  33.6242,2,    166.2,2,    165.6,2,    70.90,2,    33.41,2,     0.00,2,     2.49,2, -999.000,9, -999.000,9,   2250.8,2,   2282.4,2,   7.4336,6,    25.00,     0.01,2,     0.06,2,   3.1425,2,     1105
  49RY20120726,   40N,    11,  1,     31,     76,2,20120730,0859, 40.0240, 147.0135, 5290,    255.5,   3.8381,   3.8380,2,  33.7892,2,  33.7868,2,    137.6,2,    137.3,2,    74.32,2,    34.22,2,     0.00,2,     2.53,2, -999.000,9, -999.000,9,   2257.5,2,   2288.1,2,   7.4267,2,    25.00,  -999.00,9,  -999.00,9,   3.8380,2,     1103
  49RY20120726,   40N,    11,  1,     30,    103,2,20120730,0859, 40.0240, 147.0135, 5290,    305.6,   3.8578,   3.8554,2,  33.8847,2,  33.8800,2,    105.8,2,    105.8,2,    83.97,2,    36.90,2,     0.00,2,     2.68,2, -999.000,9, -999.000,9,   2283.6,2,   2300.9,2,   7.3842,2,    25.00,  -999.00,9,  -999.00,9,   3.8554,2,     1101
  49RY20120726,   40N,    11,  1,     29,    102,2,20120730,0859, 40.0240, 147.0135, 5290,    407.1,   3.3726,   3.3728,2,  33.9713,2,  33.9675,2,     61.4,2,     61.3,2,   104.06,2,    41.25,2,     0.00,2,     2.97,2, -999.000,9, -999.000,9,   2329.3,2,   2321.1,2,   7.3010,2,    25.00,  -999.00,9,  -999.00,9,   3.3728,2,     1059
  49RY20120726,   40N,    11,  1,     28,     91,3,20120730,0859, 40.0240, 147.0135, 5290,    507.0,   3.4973,   3.4974,2,  34.1127,2,  34.1076,2,     44.9,2,     45.0,2,   113.31,2,    41.65,2,     0.00,2,     3.00,2, -999.000,9, -999.000,9,   2341.7,2,   2329.9,2,   7.3032,2,    25.00,  -999.00,9,  -999.00,9,   3.4974,2,     1056
  49RY20120726,   40N,    11,  1,     27,    998,2,20120730,0859, 40.0240, 147.0135, 5290,    609.8,   3.2629,   3.2626,2,  34.2086,2,  34.2068,2,     34.7,2,     34.6,2,   126.28,2,    42.68,2,     0.00,2,     3.07,2, -999.000,9, -999.000,9,   2358.7,6,   2344.0,2,   7.2991,2,    25.00,  -999.00,9,  -999.00,9,   3.2626,2,     1053
  49RY20120726,   40N,    11,  1,     26,     99,3,20120730,0859, 40.0240, 147.0135, 5290,    710.1,   3.1337,   3.1339,2,  34.2808,2,  34.2774,2,     34.0,2,     34.1,2,   133.15,2,    42.62,2,     0.00,2,     3.07,2, -999.000,9, -999.000,9,   2369.9,2,   2353.4,2,   7.3115,6,    25.00,  -999.00,9,  -999.00,9,   3.1339,2,     1050
  49RY20120726,   40N,    11,  1,     25,     98,2,20120730,0859, 40.0240, 147.0135, 5290,    810.5,   2.8916,   2.8923,2,  34.3278,2,  34.3235,2,     30.4,2,     29.5,2,   142.44,2,    43.45,2,     0.00,2,     3.10,2, -999.000,9, -999.000,9,   2378.3,2,   2367.4,2,   7.3005,2,    25.00,  -999.00,9,  -999.00,9,   2.8923,2,     1047
  49RY20120726,   40N,    11,  1,     24,    110,3,20120730,0859, 40.0240, 147.0135, 5290,    913.3,   2.8457,   2.8458,2,  34.3893,2,  34.3814,4,     36.8,2,     37.0,2,   143.63,2,    42.45,2,     0.00,2,     3.06,2, -999.000,9, -999.000,9,   2379.2,2,   2369.8,2,   7.3335,2,    25.00,  -999.00,9,  -999.00,9,   2.8458,2,     1043
  49RY20120726,   40N,    11,  1,     23,     96,2,20120730,0859, 40.0240, 147.0135, 5290,   1014.8,   2.6279,   2.6281,2,  34.4071,2,  34.4045,2,     34.6,2,     34.5,2,   150.69,2,    42.86,2,     0.00,2,     3.09,2, -999.000,9, -999.000,9,   2383.5,2,   2375.8,2,   7.3241,2,    25.00,  -999.00,9,  -999.00,9,   2.6281,2,     1039
  49RY20120726,   40N,    11,  1,     22,    111,4,20120730,0859, 40.0240, 147.0135, 5290,   1215.3,   2.4066,   2.4067,2,  34.4686,2,  34.6625,4,     41.5,2,    128.2,4,   156.13,4,    37.59,4,     0.00,4,     2.64,4, -999.000,9, -999.000,9,   2348.0,4,   2416.6,4,   7.5227,4,    25.00,  -999.00,9,  -999.00,9,   2.4067,2,     1033
  49RY20120726,   40N,    11,  1,     21,     78,3,20120730,0859, 40.0240, 147.0135, 5290,   1415.9,   2.2539,   2.2539,2,  34.5127,2,  34.5070,4,     48.5,2,     50.6,4,   159.89,2,    42.23,2,     0.00,2,     3.02,2, -999.000,9, -999.000,9,   2383.7,2,   2398.6,2,   7.3703,2,    25.00,  -999.00,9,  -999.00,9,   2.2539,2,     1028
  49RY20120726,   40N,    11,  1,     20,     93,2,20120730,0859, 40.0240, 147.0135, 5290,   1618.0,   2.0956,   2.0956,2,  34.5507,2,  34.5475,4,     57.8,2,     58.5,2,   163.16,2,    41.80,2,     0.00,2,     2.98,2, -999.000,9, -999.000,9,   2388.2,2,   2407.9,2,   7.3904,2,    25.00,  -999.00,9,  -999.00,9,   2.0956,2,     1023
  49RY20120726,   40N,    11,  1,     19,     92,3,20120730,0859, 40.0240, 147.0135, 5290,   1823.0,   1.9703,   1.9702,2,  34.5819,2,  34.5823,2,     69.4,2,     69.1,6,   163.65,6,    41.26,6,     0.00,6,     2.92,6, -999.000,9, -999.000,9,   2381.5,2,   2409.8,2,   7.4158,2,    25.00,  -999.00,9,  -999.00,9,   1.9702,2,     1018
  49RY20120726,   40N,    11,  1,     18,    101,2,20120730,0859, 40.0240, 147.0135, 5290,   2027.1,   1.8553,   1.8554,2,  34.6068,2,  34.6068,2,     83.6,2,     83.7,2,   162.12,2,    40.39,2,     0.00,2,     2.85,2, -999.000,9, -999.000,9,   2372.3,2,   2408.9,2,   7.4410,2,    25.00,  -999.00,9,  -999.00,9,   1.8554,2,     1013
  49RY20120726,   40N,    11,  1,     17,     90,3,20120730,0859, 40.0240, 147.0135, 5290,   2230.1,   1.7443,   1.7443,2,  34.6264,2,  34.6226,4,     96.6,2,     96.3,2,   160.88,2,    39.58,2,     0.00,2,     2.79,2, -999.000,9, -999.000,9,   2365.3,6,   2415.5,6,   7.4685,2,    25.00,  -999.00,9,  -999.00,9,   1.7443,2,     1007
  49RY20120726,   40N,    11,  1,     16,     89,3,20120730,0859, 40.0240, 147.0135, 5290,   2433.0,   1.6702,   1.6702,2,  34.6394,2,  34.6372,4,    106.9,2,    106.8,2,   159.69,2,    38.96,2,     0.00,2,     2.75,2, -999.000,9, -999.000,9,   2362.1,2,   2414.2,2,   7.4881,6,    25.00,  -999.00,9,  -999.00,9,   1.6702,2,     1002
  49RY20120726,   40N,    11,  1,     15,     88,2,20120730,0859, 40.0240, 147.0135, 5290,   2638.1,   1.6056,   1.6056,2,  34.6502,2,  34.6502,2,    116.2,2,    116.2,2,   158.39,2,    38.52,2,     0.00,2,     2.70,2, -999.000,9, -999.000,9,   2354.1,2,   2417.7,2,   7.5061,2,    25.00,  -999.00,9,  -999.00,9,   1.6056,2,      957
  49RY20120726,   40N,    11,  1,     14,    999,2,20120730,0859, 40.0240, 147.0135, 5290,   2842.8,   1.5608,   1.5608,2,  34.6584,2,  34.6590,2,    124.1,2,    124.0,6,   156.53,6,    38.02,6,     0.00,6,     2.66,6, -999.000,9, -999.000,9,   2352.3,2,   2411.4,3,   7.5210,2,    25.00,  -999.00,9,  -999.00,9,   1.5608,2,      953
  49RY20120726,   40N,    11,  1,     13,    996,2,20120730,0859, 40.0240, 147.0135, 5290,   3046.6,   1.5318,   1.5319,2,  34.6641,2,  34.6635,2,    130.0,2,    129.9,2,   155.17,2,    37.39,2,     0.00,2,     2.63,2, -999.000,9, -999.000,9,   2346.5,2,   2417.6,2,   7.5326,2,    25.00,  -999.00,9,  -999.00,9,   1.5319,2,      948
  49RY20120726,   40N,    11,  1,     12,     74,2,20120730,0859, 40.0240, 147.0135, 5290,   3046.6,   1.5318,   1.5319,2,  34.6641,2,  34.6614,4,    130.0,2,    130.0,2,   155.01,2,    37.59,2,     0.00,4,     2.62,2, -999.000,9, -999.000,9,   2344.1,2,   2417.7,2,   7.5331,2,    25.00,  -999.00,9,  -999.00,9,   1.5319,2,      948
  49RY20120726,   40N,    11,  1,     11,     97,2,20120730,0859, 40.0240, 147.0135, 5290,   3302.4,   1.4999,   1.4999,2,  34.6703,2,  34.6699,2,    136.1,2,    135.8,2,   154.16,2,    37.21,2,     0.00,2,     2.59,2, -999.000,9, -999.000,9,   2338.0,2,   2411.5,3,   7.5439,2,    25.00,  -999.00,9,  -999.00,9,   1.4999,2,      943
  49RY20120726,   40N,    11,  1,     10,    107,2,20120730,0859, 40.0240, 147.0135, 5290,   3557.6,   1.4777,   1.4776,2,  34.6753,2,  34.6703,4,    141.8,2,    141.5,2,   153.07,2,    36.76,2,     0.00,2,     2.57,2, -999.000,9, -999.000,9,   2337.6,2,   2410.5,3,   7.5547,2,    25.00,  -999.00,9,  -999.00,9,   1.4776,2,      938
  49RY20120726,   40N,    11,  1,      9,    108,2,20120730,0859, 40.0240, 147.0135, 5290,   3813.1,   1.4604,   1.4605,2,  34.6802,2,  34.6784,4,    147.3,2,    146.9,2,   151.29,2,    36.34,2,     0.00,2,     2.54,2, -999.000,9, -999.000,9,   2334.8,2,   2417.1,2,   7.5595,2,    25.00,  -999.00,9,  -999.00,9,   1.4605,2,      933
  49RY20120726,   40N,    11,  1,      8,     81,2,20120730,0859, 40.0240, 147.0135, 5290,   4071.1,   1.4562,   1.4561,2,  34.6834,2,  34.6824,2,    151.5,2,    151.2,2,   150.34,2,    36.06,2,     0.00,2,     2.52,2, -999.000,9, -999.000,9,   2330.3,6,   2413.0,2,   7.5689,2,    25.00,  -999.00,9,  -999.00,9,   1.4561,2,      928
  49RY20120726,   40N,    11,  1,      7,    106,3,20120730,0859, 40.0240, 147.0135, 5290,   4327.3,   1.4603,   1.4602,2,  34.6861,2,  34.6856,2,    154.7,2,    154.2,2,   149.70,2,    35.98,2,     0.00,2,     2.50,2, -999.000,9, -999.000,9,   2328.1,2,   2413.9,2,   7.5709,6,    25.00,  -999.00,9,  -999.00,9,   1.4602,2,      922
  49RY20120726,   40N,    11,  1,      6,    113,2,20120730,0859, 40.0240, 147.0135, 5290,   4585.0,   1.4727,   1.4728,2,  34.6880,2,  34.6873,2,    157.2,2,    157.1,2,   148.44,2,    35.78,2,     0.00,2,     2.48,2, -999.000,9, -999.000,9,   2323.7,2,   2412.8,2,   7.5765,2,    25.00,  -999.00,9,  -999.00,9,   1.4728,2,      917
  49RY20120726,   40N,    11,  1,      5,     94,3,20120730,0859, 40.0240, 147.0135, 5290,   4585.0,   1.4727,   1.4728,2,  34.6880,2,  34.6850,4,    157.2,2,    159.0,4,   148.12,2,    35.71,2,     0.00,2,     2.48,2, -999.000,9, -999.000,9,   2320.5,2,   2412.4,2,   7.5794,2,    25.00,  -999.00,9,  -999.00,9,   1.4728,2,      917
  49RY20120726,   40N,    11,  1,      4,     77,2,20120730,0859, 40.0240, 147.0135, 5290,   4842.3,   1.4919,   1.4919,2,  34.6894,2,  34.6860,4,    158.8,2,    158.8,2,   147.99,6,    35.51,6,     0.00,6,     2.48,6, -999.000,9, -999.000,9,   2321.5,2,   2411.0,2,   7.5812,2,    25.00,  -999.00,9,  -999.00,9,   1.4919,2,      911
  49RY20120726,   40N,    11,  1,      3,    104,2,20120730,0859, 40.0240, 147.0135, 5290,   5099.9,   1.5148,   1.5149,2,  34.6903,2,  34.6857,4,    160.7,2,    159.2,3,   146.31,2,    35.56,2,     0.00,2,     2.47,2, -999.000,9, -999.000,9,   2320.1,2,   2412.6,2,   7.5815,2,    25.00,  -999.00,9,  -999.00,9,   1.5149,2,      906
  49RY20120726,   40N,    11,  1,      2,     75,2,20120730,0859, 40.0240, 147.0135, 5290,   5357.4,   1.5359,   1.5358,2,  34.6915,2,  34.6912,2,    162.0,2,    161.8,2,   145.79,2,    35.35,2,     0.00,2,     2.46,2, -999.000,9, -999.000,9,   2317.6,2,   2409.9,2,   7.5826,2,    25.00,  -999.00,9,  -999.00,9,   1.5358,2,      901
  49RY20120726,   40N,    11,  1,      1,    997,2,20120730,0859, 40.0240, 147.0135, 5290,   5376.8,   1.5386,   1.5384,2,  34.6913,2,  34.6915,2,    161.9,2,    161.8,2,   146.07,2,    35.09,2,     0.00,2,     2.46,2, -999.000,9, -999.000,9,   2315.2,2,   2411.5,2,   7.5854,2,    25.00,  -999.00,9,  -999.00,9,   1.5384,2,      859