BOTTLE,20210419PRINUNIVRMK
EXPOCODE,SECT_ID,STNNBR,CASTNO,SAMPNO,BTLNBR,BTLNBR_FLAG_W,DATE,TIME,LATITUDE,LONGITUDE,DEPTH,CTDPRS,CTDTMP,SBE35,SBE35_FLAG_W,CTDSAL,CTDSAL_FLAG_W,SALNTY,SALNTY_FLAG_W,CTDOXY,CTDOXY_FLAG_W,OXYGEN,OXYGEN_FLAG_W,SILCAT,SILCAT_FLAG_W,NITRAT,NITRAT_FLAG_W,NITRIT,NITRIT_FLAG_W,PHSPHT,PHSPHT_FLAG_W,CFC-11,CFC-11_FLAG_W,CFC-12,CFC-12_FLAG_W,TCARBN,TCARBN_FLAG_W,ALKALI,ALKALI_FLAG_W,PH_TOT,PH_TOT_FLAG_W,PH_TMP,CHLORA,CHLORA_FLAG_W,PPHYTN,PPHYTN_FLAG_W,SBE35,SBE35_FLAG_W,BTL_TIME
,,,,,,,,,,,METERS,DBAR,ITS-90,,,PSS-78,,PSS-78,,UMOL/KG,,UMOL/KG,,UMOL/KG,,UMOL/KG,,UMOL/KG,,UMOL/KG,,PMOL/KG,,PMOL/KG,,UMOL/KG,,UMOL/KG,,,,DEG C,UG/KG,,UG/KG,,,,
  49RY20120726,   40N,    64,  1,     36,    109,2,20120901,2347, 34.5052, 168.9460, 5607,     11.7,  25.9300,  25.9267,2,  34.2175,2,-999.0000,9,    208.4,2,    208.9,2,     1.24,2,     0.02,2,     0.00,2,     0.02,2, -999.000,9, -999.000,9,   -999.0,9,   -999.0,9,-999.0000,9,  -999.00,  -999.00,9,  -999.00,9,  25.9267,2,      207
  49RY20120726,   40N,    64,  1,     35,    112,2,20120901,2347, 34.5052, 168.9460, 5607,     51.2,  20.3406,  20.3412,2,  34.6546,2,-999.0000,9,    228.4,2,    230.6,2,     2.13,2,     0.01,2,     0.00,2,     0.03,2, -999.000,9, -999.000,9,   -999.0,9,   -999.0,9,-999.0000,9,  -999.00,  -999.00,9,  -999.00,9,  20.3412,2,      204
  49RY20120726,   40N,    64,  1,     34,     83,2,20120901,2347, 34.5052, 168.9460, 5607,    105.3,  18.2888,  18.2896,2,  34.7339,2,-999.0000,9,    202.5,2,    204.8,2,     3.88,2,     3.53,2,     0.06,2,     0.25,2, -999.000,9, -999.000,9,   -999.0,9,   -999.0,9,-999.0000,9,  -999.00,  -999.00,9,  -999.00,9,  18.2896,2,      203
  49RY20120726,   40N,    64,  1,     33,     86,2,20120901,2347, 34.5052, 168.9460, 5607,    153.4,  17.3337,  17.3346,2,  34.7141,2,-999.0000,9,    210.6,2,    209.5,2,     4.40,2,     4.36,2,     0.02,2,     0.30,2, -999.000,9, -999.000,9,   -999.0,9,   -999.0,9,-999.0000,9,  -999.00,  -999.00,9,  -999.00,9,  17.3346,2,      201
  49RY20120726,   40N,    64,  1,     32,    105,2,20120901,2347, 34.5052, 168.9460, 5607,    202.8,  16.7645,  16.7656,2,  34.6724,2,-999.0000,9,    200.9,2,    200.1,6,     6.56,6,     6.20,6,     0.01,6,     0.42,6, -999.000,9, -999.000,9,   -999.0,9,   -999.0,9,-999.0000,9,  -999.00,  -999.00,9,  -999.00,9,  16.7656,2,      157
  49RY20120726,   40N,    64,  1,     31,     76,2,20120901,2347, 34.5052, 168.9460, 5607,    251.6,  15.7516,  15.7514,2,  34.6102,2,-999.0000,9,    186.1,2,    185.2,2,    10.12,2,     9.19,2,     0.01,2,     0.62,2, -999.000,9, -999.000,9,   -999.0,9,   -999.0,9,-999.0000,9,  -999.00,  -999.00,9,  -999.00,9,  15.7514,2,      155
  49RY20120726,   40N,    64,  1,     30,     97,2,20120901,2347, 34.5052, 168.9460, 5607,    305.0,  13.5620,  13.5588,2,  34.4747,2,-999.0000,9,    173.0,2,    172.6,2,    19.08,2,    13.81,2,     0.00,2,     0.96,2, -999.000,9, -999.000,9,   -999.0,9,   -999.0,9,-999.0000,9,  -999.00,  -999.00,9,  -999.00,9,  13.5588,2,      153
  49RY20120726,   40N,    64,  1,     29,    102,2,20120901,2347, 34.5052, 168.9460, 5607,    408.1,  10.4190,  10.4206,2,  34.2303,2,-999.0000,9,    192.0,2,    191.8,2,    24.90,2,    16.91,2,     0.00,2,     1.20,2, -999.000,9, -999.000,9,   -999.0,9,   -999.0,9,-999.0000,9,  -999.00,  -999.00,9,  -999.00,9,  10.4206,2,      151
  49RY20120726,   40N,    64,  1,     28,     91,2,20120901,2347, 34.5052, 168.9460, 5607,    506.0,   7.6380,   7.6360,2,  34.0333,2,-999.0000,9,    181.8,2,    184.0,2,    39.42,2,    22.26,2,     0.00,2,     1.62,2, -999.000,9, -999.000,9,   -999.0,9,   -999.0,9,-999.0000,9,  -999.00,  -999.00,9,  -999.00,9,   7.6360,2,      148
  49RY20120726,   40N,    64,  1,     27,    998,2,20120901,2347, 34.5052, 168.9460, 5607,    606.6,   5.6761,   5.6759,2,  33.9764,2,-999.0000,9,    137.5,2,    134.6,6,    64.04,6,    30.81,6,     0.00,6,     2.25,6, -999.000,9, -999.000,9,   -999.0,9,   -999.0,9,-999.0000,9,  -999.00,  -999.00,9,  -999.00,9,   5.6759,2,      146
  49RY20120726,   40N,    64,  1,     26,     84,2,20120901,2347, 34.5052, 168.9460, 5607,    708.2,   4.9136,   4.9138,2,  34.0673,2,-999.0000,9,     93.2,2,     93.3,2,    82.23,2,    35.74,2,     0.00,2,     2.58,2, -999.000,9, -999.000,9,   -999.0,9,   -999.0,9,-999.0000,9,  -999.00,  -999.00,9,  -999.00,9,   4.9138,2,      143
  49RY20120726,   40N,    64,  1,     25,     98,2,20120901,2347, 34.5052, 168.9460, 5607,    812.3,   4.3801,   4.3816,2,  34.1576,2,-999.0000,9,     67.4,2,     67.3,2,    98.28,2,    38.60,2,     0.00,2,     2.78,2, -999.000,9, -999.000,9,   -999.0,9,   -999.0,9,-999.0000,9,  -999.00,  -999.00,9,  -999.00,9,   4.3816,2,      138
  49RY20120726,   40N,    64,  1,     24,    110,2,20120901,2347, 34.5052, 168.9460, 5607,    912.5,   3.9544,   3.9542,2,  34.2296,2,-999.0000,9,     50.3,2,     50.1,2,   111.48,2,    40.54,2,     0.00,2,     2.90,2, -999.000,9, -999.000,9,   -999.0,9,   -999.0,9,-999.0000,9,  -999.00,  -999.00,9,  -999.00,9,   3.9542,2,      135
  49RY20120726,   40N,    64,  1,     23,     96,2,20120901,2347, 34.5052, 168.9460, 5607,   1013.8,   3.5873,   3.5870,2,  34.3044,2,-999.0000,9,     43.6,2,     43.6,2,   122.51,2,    41.38,2,     0.00,2,     2.97,2, -999.000,9, -999.000,9,   -999.0,9,   -999.0,9,-999.0000,9,  -999.00,  -999.00,9,  -999.00,9,   3.5870,2,      132
  49RY20120726,   40N,    64,  1,     22,    111,2,20120901,2347, 34.5052, 168.9460, 5607,   1215.4,   3.0370,   3.0366,2,  34.3973,2,-999.0000,9,     35.2,2,     35.1,2,   138.71,2,    42.71,2,     0.00,2,     3.05,2, -999.000,9, -999.000,9,   -999.0,9,   -999.0,9,-999.0000,9,  -999.00,  -999.00,9,  -999.00,9,   3.0366,2,      127
  49RY20120726,   40N,    64,  1,     21,     78,2,20120901,2347, 34.5052, 168.9460, 5607,   1417.0,   2.6039,   2.6041,2,  34.4653,2,-999.0000,9,     34.7,2,     34.3,6,   151.56,6,    43.16,6,     0.00,6,     3.07,6, -999.000,9, -999.000,9,   -999.0,9,   -999.0,9,-999.0000,9,  -999.00,  -999.00,9,  -999.00,9,   2.6041,2,      121
  49RY20120726,   40N,    64,  1,     20,     93,2,20120901,2347, 34.5052, 168.9460, 5607,   1618.8,   2.3625,   2.3625,2,  34.5145,2,-999.0000,9,     42.0,2,     41.4,2,   158.12,2,    42.90,2,     0.00,2,     3.04,2, -999.000,9, -999.000,9,   -999.0,9,   -999.0,9,-999.0000,9,  -999.00,  -999.00,9,  -999.00,9,   2.3625,2,      117
  49RY20120726,   40N,    64,  1,     19,     92,2,20120901,2347, 34.5052, 168.9460, 5607,   1821.7,   2.1378,   2.1379,2,  34.5542,2,-999.0000,9,     53.7,2,     53.4,2,   162.76,2,    42.25,2,     0.00,2,     2.98,2, -999.000,9, -999.000,9,   -999.0,9,   -999.0,9,-999.0000,9,  -999.00,  -999.00,9,  -999.00,9,   2.1379,2,      112
  49RY20120726,   40N,    64,  1,     18,    101,2,20120901,2347, 34.5052, 168.9460, 5607,   2026.1,   1.9647,   1.9646,2,  34.5883,2,-999.0000,9,     69.0,2,     68.6,2,   163.99,2,    41.36,2,     0.00,2,     2.91,2, -999.000,9, -999.000,9,   -999.0,9,   -999.0,9,-999.0000,9,  -999.00,  -999.00,9,  -999.00,9,   1.9646,2,      106
  49RY20120726,   40N,    64,  1,     17,     90,2,20120901,2347, 34.5052, 168.9460, 5607,   2229.8,   1.8613,   1.8611,2,  34.6066,2,-999.0000,9,     79.9,2,     79.7,2,   164.21,2,    40.68,2,     0.00,2,     2.86,2, -999.000,9, -999.000,9,   -999.0,9,   -999.0,9,-999.0000,9,  -999.00,  -999.00,9,  -999.00,9,   1.8611,2,      102
  49RY20120726,   40N,    64,  1,     16,     89,2,20120901,2347, 34.5052, 168.9460, 5607,   2433.1,   1.7524,   1.7523,2,  34.6254,2,-999.0000,9,     92.8,2,     92.6,2,   163.16,2,    39.85,2,     0.00,2,     2.80,2, -999.000,9, -999.000,9,   -999.0,9,   -999.0,9,-999.0000,9,  -999.00,  -999.00,9,  -999.00,9,   1.7523,2,       58
  49RY20120726,   40N,    64,  1,     15,     88,4,20120901,2347, 34.5052, 168.9460, 5607,   2636.6,   1.6629,   1.6627,2,  34.6402,2,-999.0000,9,    105.1,2,     36.1,4,   153.14,4,    43.15,4,     0.00,4,     3.06,4, -999.000,9, -999.000,9,   -999.0,9,   -999.0,9,-999.0000,9,  -999.00,  -999.00,9,  -999.00,9,   1.6627,2,       52
  49RY20120726,   40N,    64,  1,     14,    999,2,20120901,2347, 34.5052, 168.9460, 5607,   2841.2,   1.6000,   1.5999,2,  34.6514,2,-999.0000,9,    115.2,2,    116.8,3,   159.88,2,    38.40,2,     0.00,2,     2.70,2, -999.000,9, -999.000,9,   -999.0,9,   -999.0,9,-999.0000,9,  -999.00,  -999.00,9,  -999.00,9,   1.5999,2,       47
  49RY20120726,   40N,    64,  1,     13,    667,3,20120901,2347, 34.5052, 168.9460, 5607,   3046.1,   1.5508,   1.5509,2,  34.6602,2,-999.0000,9,    124.0,2,    124.2,2,   157.98,2,    37.81,2,     0.00,2,     2.64,2, -999.000,9, -999.000,9,   -999.0,9,   -999.0,9,-999.0000,9,  -999.00,  -999.00,9,  -999.00,9,   1.5509,2,       42
  49RY20120726,   40N,    64,  1,     12,     74,2,20120901,2347, 34.5052, 168.9460, 5607,   3300.8,   1.5113,   1.5113,2,  34.6680,2,-999.0000,9,    132.4,2,    132.7,2,   155.86,2,    37.28,2,     0.00,2,     2.60,2, -999.000,9, -999.000,9,   -999.0,9,   -999.0,9,-999.0000,9,  -999.00,  -999.00,9,  -999.00,9,   1.5113,2,       37
  49RY20120726,   40N,    64,  1,     11,    996,2,20120901,2347, 34.5052, 168.9460, 5607,   3557.1,   1.4826,   1.4826,2,  34.6743,2,-999.0000,9,    139.6,2,    139.9,2,   154.31,2,    36.80,2,     0.00,2,     2.56,2, -999.000,9, -999.000,9,   -999.0,9,   -999.0,9,-999.0000,9,  -999.00,  -999.00,9,  -999.00,9,   1.4826,2,       32
  49RY20120726,   40N,    64,  1,     10,    107,2,20120901,2347, 34.5052, 168.9460, 5607,   3813.0,   1.4686,   1.4686,2,  34.6788,2,-999.0000,9,    145.0,2,    145.3,2,   152.77,2,    36.48,2,     0.00,2,     2.54,2, -999.000,9, -999.000,9,   -999.0,9,   -999.0,9,-999.0000,9,  -999.00,  -999.00,9,  -999.00,9,   1.4686,2,       26
  49RY20120726,   40N,    64,  1,      9,    108,2,20120901,2347, 34.5052, 168.9460, 5607,   4069.2,   1.4630,   1.4630,2,  34.6825,2,-999.0000,9,    149.6,2,    149.6,2,   151.44,2,    36.12,2,     0.00,2,     2.51,2, -999.000,9, -999.000,9,   -999.0,9,   -999.0,9,-999.0000,9,  -999.00,  -999.00,9,  -999.00,9,   1.4630,2,       21
  49RY20120726,   40N,    64,  1,      8,     81,3,20120901,2347, 34.5052, 168.9460, 5607,   4326.1,   1.4686,   1.4687,2,  34.6851,2,-999.0000,9,    153.0,2,    152.5,6,   150.33,6,    35.92,6,     0.00,6,     2.49,6, -999.000,9, -999.000,9,   -999.0,9,   -999.0,9,-999.0000,9,  -999.00,  -999.00,9,  -999.00,9,   1.4687,2,       16
  49RY20120726,   40N,    64,  1,      7,    106,2,20120901,2347, 34.5052, 168.9460, 5607,   4584.2,   1.4804,   1.4806,2,  34.6871,2,-999.0000,9,    155.3,2,    154.4,2,   150.39,2,    35.79,2,     0.00,2,     2.48,2, -999.000,9, -999.000,9,   -999.0,9,   -999.0,9,-999.0000,9,  -999.00,  -999.00,9,  -999.00,9,   1.4806,2,       11
  49RY20120726,   40N,    64,  1,      5,     94,2,20120901,2347, 34.5052, 168.9460, 5607,   4839.9,   1.4963,   1.4962,2,  34.6884,2,-999.0000,9,    157.6,2,    157.9,2,   149.05,2,    35.60,2,     0.00,2,     2.48,2, -999.000,9, -999.000,9,   -999.0,9,   -999.0,9,-999.0000,9,  -999.00,  -999.00,9,  -999.00,9,   1.4962,2,        5
  49RY20120726,   40N,    64,  1,      6,    113,4,20120901,2347, 34.5052, 168.9460, 5607,   4840.3,   1.4962,   1.4962,2,  34.6887,2,-999.0000,9,    157.6,2,   -999.0,9,  -999.00,9,  -999.00,9,  -999.00,9,  -999.00,9, -999.000,9, -999.000,9,   -999.0,9,   -999.0,9,-999.0000,9,  -999.00,  -999.00,9,  -999.00,9,   1.4962,2,        6
  49RY20120726,   40N,    64,  1,      4,     77,2,20120901,2347, 34.5052, 168.9460, 5607,   5098.0,   1.5052,   1.5052,2,  34.6906,2,-999.0000,9,    162.0,2,    162.0,2,   144.60,2,    35.26,2,     0.00,2,     2.45,2, -999.000,9, -999.000,9,   -999.0,9,   -999.0,9,-999.0000,9,  -999.00,  -999.00,9,  -999.00,9,   1.5052,2,        0
  49RY20120726,   40N,    64,  1,      3,    104,2,20120901,2347, 34.5052, 168.9460, 5607,   5354.9,   1.5107,   1.5108,2,  34.6929,2,-999.0000,9,    166.9,2,    166.0,2,   140.74,2,    34.98,2,     0.00,2,     2.42,2, -999.000,9, -999.000,9,   -999.0,9,   -999.0,9,-999.0000,9,  -999.00,  -999.00,9,  -999.00,9,   1.5108,2,     2355
  49RY20120726,   40N,    64,  1,      2,     75,2,20120901,2347, 34.5052, 168.9460, 5607,   5612.8,   1.5234,   1.5233,2,  34.6944,2,-999.0000,9,    170.3,2,    171.2,2,   137.15,2,    34.67,2,     0.00,2,     2.40,2, -999.000,9, -999.000,9,   -999.0,9,   -999.0,9,-999.0000,9,  -999.00,  -999.00,9,  -999.00,9,   1.5233,2,     2350
  49RY20120726,   40N,    64,  1,      1,    997,2,20120901,2347, 34.5052, 168.9460, 5607,   5709.3,   1.5324,   1.5321,2,  34.6948,2,-999.0000,9,    171.0,2,    171.1,2,   136.46,2,    34.61,2,     0.00,2,     2.40,2, -999.000,9, -999.000,9,   -999.0,9,   -999.0,9,-999.0000,9,  -999.00,  -999.00,9,  -999.00,9,   1.5321,2,     2347