BOTTLE,20210419PRINUNIVRMK
EXPOCODE,SECT_ID,STNNBR,CASTNO,SAMPNO,BTLNBR,BTLNBR_FLAG_W,DATE,TIME,LATITUDE,LONGITUDE,DEPTH,CTDPRS,CTDTMP,SBE35,SBE35_FLAG_W,CTDSAL,CTDSAL_FLAG_W,SALNTY,SALNTY_FLAG_W,CTDOXY,CTDOXY_FLAG_W,OXYGEN,OXYGEN_FLAG_W,SILCAT,SILCAT_FLAG_W,NITRAT,NITRAT_FLAG_W,NITRIT,NITRIT_FLAG_W,PHSPHT,PHSPHT_FLAG_W,CFC-11,CFC-11_FLAG_W,CFC-12,CFC-12_FLAG_W,TCARBN,TCARBN_FLAG_W,ALKALI,ALKALI_FLAG_W,PH_TOT,PH_TOT_FLAG_W,PH_TMP,CHLORA,CHLORA_FLAG_W,PPHYTN,PPHYTN_FLAG_W,SBE35,SBE35_FLAG_W,BTL_TIME
,,,,,,,,,,,METERS,DBAR,ITS-90,,,PSS-78,,PSS-78,,UMOL/KG,,UMOL/KG,,UMOL/KG,,UMOL/KG,,UMOL/KG,,UMOL/KG,,PMOL/KG,,PMOL/KG,,UMOL/KG,,UMOL/KG,,,,DEG C,UG/KG,,UG/KG,,,,
  49RY20120726,   40N,     3,  1,     32,    105,2,20120728,0908, 40.0038, 142.9775, 1291,     11.9,  15.7890,  15.8013,2,  33.7936,2,  33.8278,4,    271.0,2,    277.5,2,     1.28,2,     0.09,2,     0.01,2,     0.06,2, -999.000,9, -999.000,9,   1990.8,2,   2254.6,2,   7.9992,2,    25.00,     0.25,2,     0.04,2,  15.8013,2,      951
  49RY20120726,   40N,     3,  1,     29,    102,2,20120728,0908, 40.0038, 142.9775, 1291,     27.4,  11.9480,  11.9498,2,  34.0865,2,  34.0832,2,    266.9,2,    266.7,2,     4.99,2,     3.14,2,     0.32,2,     0.28,2, -999.000,9, -999.000,9,   2035.9,6,   2262.4,6,   7.9238,2,    25.00,     0.99,2,     0.19,2,  11.9498,2,      949
  49RY20120726,   40N,     3,  1,     28,     91,2,20120728,0908, 40.0038, 142.9775, 1291,     52.0,  11.2271,  11.2303,2,  34.1330,2,  34.1501,2,    263.7,2,    263.8,2,     6.06,2,     4.47,2,     0.12,2,     0.35,2, -999.000,9, -999.000,9,   2046.6,2,   2270.3,3,   7.9095,6,    25.00,     0.68,2,     0.21,2,  11.2303,2,      947
  49RY20120726,   40N,     3,  1,     26,     99,3,20120728,0908, 40.0038, 142.9775, 1291,     76.7,   9.6190,   9.6180,2,  34.0735,2,-999.0000,9,    261.3,2,    261.1,2,     8.14,2,     6.49,2,     0.06,2,     0.49,2, -999.000,9, -999.000,9,   2060.8,2,   2261.0,2,   7.8706,2,    25.00,     0.18,2,     0.15,2,   9.6180,2,      945
  49RY20120726,   40N,     3,  1,     25,     98,2,20120728,0908, 40.0038, 142.9775, 1291,    103.0,   8.5617,   8.5612,2,  34.0049,2,  34.0018,2,    267.3,2,    267.0,6,    15.69,6,    11.31,6,     0.03,6,     0.83,6, -999.000,9, -999.000,9,   2084.7,2,   2266.3,2,   7.8084,2,    25.00,     0.16,2,     0.16,2,   8.5612,2,      944
  49RY20120726,   40N,     3,  1,     22,    111,2,20120728,0908, 40.0038, 142.9775, 1291,    127.6,   8.3635,   8.3643,2,  33.9812,2,-999.0000,9,    270.6,2,    270.8,2,    15.71,2,    11.07,2,     0.02,2,     0.81,2, -999.000,9, -999.000,9,   2081.8,2,   2262.4,2,   7.8118,2,    25.00,     0.07,2,     0.10,2,   8.3643,2,      943
  49RY20120726,   40N,     3,  1,     20,     93,2,20120728,0908, 40.0038, 142.9775, 1291,    152.3,   8.2739,   8.2739,2,  33.9672,2,  33.9672,6,    272.5,2,    272.1,2,    15.49,2,    10.93,2,     0.02,2,     0.80,2, -999.000,9, -999.000,9,   2083.7,2,   2265.9,2,   7.8124,2,    25.00,     0.03,2,     0.08,2,   8.2739,2,      941
  49RY20120726,   40N,     3,  1,     18,    101,2,20120728,0908, 40.0038, 142.9775, 1291,    203.5,   8.2521,   8.2516,2,  33.9623,2,  33.9608,2,    273.4,2,    273.2,2,    15.49,2,    10.85,2,     0.01,2,     0.79,2, -999.000,9, -999.000,9,   2084.1,2,   2259.0,2,   7.8142,2,    25.00,     0.00,2,     0.09,2,   8.2516,2,      939
  49RY20120726,   40N,     3,  1,     17,     90,2,20120728,0908, 40.0038, 142.9775, 1291,    253.9,   8.2436,   8.2434,2,  33.9603,2,-999.0000,9,    273.7,2,    273.3,2,    15.58,2,    10.86,2,     0.02,2,     0.80,2, -999.000,9, -999.000,9,   2083.6,2,   2259.5,2,   7.8137,2,    25.00,  -999.00,9,  -999.00,9,   8.2434,2,      938
  49RY20120726,   40N,     3,  1,     16,     89,2,20120728,0908, 40.0038, 142.9775, 1291,    335.0,   7.7484,   7.7528,2,  33.8889,2,  33.8952,2,    269.0,2,    268.8,2,    18.07,2,    12.00,2,     0.03,2,     0.90,2, -999.000,9, -999.000,9,   2092.0,2,   2261.2,2,   7.7948,2,    25.00,  -999.00,9,  -999.00,9,   7.7528,2,      935
  49RY20120726,   40N,     3,  1,     15,     88,3,20120728,0908, 40.0038, 142.9775, 1291,    436.5,   4.5538,   4.5556,2,  33.5643,2,  33.5644,2,    260.8,2,    260.1,2,    35.42,2,    19.75,2,     0.01,2,     1.53,2, -999.000,9, -999.000,9,   2138.3,2,   2261.8,2,   7.6679,2,    25.00,  -999.00,9,  -999.00,9,   4.5556,2,      932
  49RY20120726,   40N,     3,  1,     14,    999,2,20120728,0908, 40.0038, 142.9775, 1291,    436.5,   4.5538,   4.5556,2,  33.5643,2,  33.5649,2,    260.8,2,    261.0,2,    35.28,2,    19.63,2,     0.01,2,     1.52,2, -999.000,9, -999.000,9,   2141.3,2,   2255.8,3,   7.6675,2,    25.00,  -999.00,9,  -999.00,9,   4.5556,2,      932
  49RY20120726,   40N,     3,  1,     13,    996,2,20120728,0908, 40.0038, 142.9775, 1291,    538.0,   3.0561,   3.0552,2,  33.6012,2,  33.6000,2,    184.4,2,    183.7,2,    67.11,2,    31.44,2,     0.00,2,     2.37,2, -999.000,9, -999.000,9,   2229.3,2,   2279.9,2,   7.4704,2,    25.00,  -999.00,9,  -999.00,9,   3.0552,2,      929
  49RY20120726,   40N,     3,  1,     12,     74,2,20120728,0908, 40.0038, 142.9775, 1291,    638.5,   3.2480,   3.2519,2,  33.8296,2,  33.8284,2,    104.8,2,    105.2,2,    90.23,2,    37.92,2,     0.00,2,     2.78,2, -999.000,9, -999.000,9,   2285.6,2,   2302.7,2,   7.3547,2,    25.00,  -999.00,9,  -999.00,9,   3.2519,2,      927
  49RY20120726,   40N,     3,  1,     10,    107,2,20120728,0908, 40.0038, 142.9775, 1291,    739.8,   3.3917,   3.3910,2,  34.0128,2,  34.0089,2,     58.0,2,     57.8,6,   108.24,6,    41.08,6,     0.00,6,     3.00,6, -999.000,9, -999.000,9,   2322.7,6,   2322.2,6,   7.3044,2,    25.00,  -999.00,9,  -999.00,9,   3.3910,2,      924
  49RY20120726,   40N,     3,  1,      8,     81,2,20120728,0908, 40.0038, 142.9775, 1291,    841.6,   3.4255,   3.4251,2,  34.1572,2,  34.1574,2,     38.3,2,     38.2,2,   120.10,2,    42.33,2,     0.00,2,     3.06,2, -999.000,9, -999.000,9,   2347.2,2,   2333.5,2,   7.2997,6,    25.00,  -999.00,9,  -999.00,9,   3.4251,2,      921
  49RY20120726,   40N,     3,  1,      6,    113,2,20120728,0908, 40.0038, 142.9775, 1291,    941.3,   3.2759,   3.2753,2,  34.2572,2,  34.2579,2,     34.1,2,     34.1,2,   130.71,2,    42.14,2,     0.00,2,     3.09,2, -999.000,9, -999.000,9,   2357.2,2,   2357.4,2,   7.3070,2,    25.00,  -999.00,9,  -999.00,9,   3.2753,2,      918
  49RY20120726,   40N,     3,  1,      5,     94,2,20120728,0908, 40.0038, 142.9775, 1291,    941.3,   3.2759,   3.2753,2,  34.2572,2,  34.2574,2,     34.1,2,     34.2,2,   130.77,2,    42.42,2,     0.00,2,     3.08,2, -999.000,9, -999.000,9,   2365.8,4,   2131.5,4,   7.3117,2,    25.00,  -999.00,9,  -999.00,9,   3.2753,2,      918
  49RY20120726,   40N,     3,  1,      4,     77,2,20120728,0908, 40.0038, 142.9775, 1291,   1083.9,   3.0555,   3.0551,2,  34.3482,2,  34.3490,2,     36.1,2,     36.1,2,   138.66,2,    42.49,2,     0.00,2,     3.07,2, -999.000,9, -999.000,9,   2366.5,2,   2368.4,2,   7.3286,2,    25.00,  -999.00,9,  -999.00,9,   3.0551,2,      914
  49RY20120726,   40N,     3,  1,      2,     75,2,20120728,0908, 40.0038, 142.9775, 1291,   1285.1,   2.5138,   2.5136,2,  34.4642,2,  34.4645,2,     39.2,2,     39.0,2,   156.24,2,    42.63,2,     0.01,2,     3.09,2, -999.000,9, -999.000,9,   2380.0,2,   2392.7,2,   7.3474,2,    25.00,  -999.00,9,  -999.00,9,   2.5136,2,      910
  49RY20120726,   40N,     3,  1,      1,    997,2,20120728,0908, 40.0038, 142.9775, 1291,   1296.6,   2.5090,   2.5081,2,  34.4654,2,  34.4656,2,     39.2,2,     39.2,2,   156.46,2,    42.46,2,     0.01,2,     3.09,2, -999.000,9, -999.000,9,   2381.5,2,   2393.5,2,   7.3480,2,    25.00,  -999.00,9,  -999.00,9,   2.5081,2,      908
  49RY20120726,   40N,     4,  1,     36,    109,3,20120728,1322, 40.0088, 143.4980, 1712,     11.6,  17.1279,  17.1729,2,  33.7057,2,-999.0000,9,    260.4,2,   -999.0,9,     0.74,2,     0.06,2,     0.00,2,     0.06,2, -999.000,9, -999.000,9,   -999.0,9,   -999.0,9,-999.0000,9,  -999.00,  -999.00,9,  -999.00,9,  17.1729,2,     1421
  49RY20120726,   40N,     4,  1,     35,    112,2,20120728,1322, 40.0088, 143.4980, 1712,     27.2,  13.4147,  13.4524,2,  33.8186,2,-999.0000,9,    300.7,2,   -999.0,9,     0.88,2,     0.12,2,     0.00,2,     0.11,2, -999.000,9, -999.000,9,   -999.0,9,   -999.0,9,-999.0000,9,  -999.00,  -999.00,9,  -999.00,9,  13.4524,2,     1419
  49RY20120726,   40N,     4,  1,     34,     83,2,20120728,1322, 40.0088, 143.4980, 1712,     52.2,  10.2420,  10.2431,2,  33.9465,2,-999.0000,9,    292.9,2,   -999.0,9,     6.38,2,     4.36,2,     0.09,2,     0.44,2, -999.000,9, -999.000,9,   -999.0,9,   -999.0,9,-999.0000,9,  -999.00,  -999.00,9,  -999.00,9,  10.2431,2,     1415
  49RY20120726,   40N,     4,  1,     33,     86,2,20120728,1322, 40.0088, 143.4980, 1712,     78.7,   8.9497,   8.9516,2,  34.0005,2,-999.0000,9,    264.7,2,   -999.0,9,    13.04,2,     9.89,2,     0.05,2,     0.73,2, -999.000,9, -999.000,9,   -999.0,9,   -999.0,9,-999.0000,9,  -999.00,  -999.00,9,  -999.00,9,   8.9516,2,     1414
  49RY20120726,   40N,     4,  1,     32,    105,2,20120728,1322, 40.0088, 143.4980, 1712,    103.4,   8.7034,   8.7038,2,  34.0259,2,-999.0000,9,    264.9,2,   -999.0,9,    15.14,2,    11.17,2,     0.02,2,     0.82,2, -999.000,9, -999.000,9,   -999.0,9,   -999.0,9,-999.0000,9,  -999.00,  -999.00,9,  -999.00,9,   8.7038,2,     1412
  49RY20120726,   40N,     4,  1,     30,    103,2,20120728,1322, 40.0088, 143.4980, 1712,    130.0,   8.4337,   8.4352,2,  33.9928,2,-999.0000,9,    268.7,2,   -999.0,9,    15.78,2,    11.33,2,     0.02,2,     0.83,2, -999.000,9, -999.000,9,   -999.0,9,   -999.0,9,-999.0000,9,  -999.00,  -999.00,9,  -999.00,9,   8.4352,2,     1410
  49RY20120726,   40N,     4,  1,     28,     91,2,20120728,1322, 40.0088, 143.4980, 1712,    155.2,   8.3202,   8.3203,2,  33.9750,2,-999.0000,9,    270.5,2,   -999.0,9,    15.79,6,    11.24,6,     0.02,6,     0.83,6, -999.000,9, -999.000,9,   -999.0,9,   -999.0,9,-999.0000,9,  -999.00,  -999.00,9,  -999.00,9,   8.3203,2,     1408
  49RY20120726,   40N,     4,  1,     27,    998,3,20120728,1322, 40.0088, 143.4980, 1712,    209.6,   8.2641,   8.2641,2,  33.9651,2,-999.0000,9,    271.6,2,   -999.0,9,    15.71,2,    11.19,2,     0.02,2,     0.82,2, -999.000,9, -999.000,9,   -999.0,9,   -999.0,9,-999.0000,9,  -999.00,  -999.00,9,  -999.00,9,   8.2641,2,     1406
  49RY20120726,   40N,     4,  1,     25,     98,2,20120728,1322, 40.0088, 143.4980, 1712,    255.8,   8.2380,   8.2380,2,  33.9598,2,-999.0000,9,    271.1,2,   -999.0,9,    15.95,2,    11.30,2,     0.02,2,     0.83,2, -999.000,9, -999.000,9,   -999.0,9,   -999.0,9,-999.0000,9,  -999.00,  -999.00,9,  -999.00,9,   8.2380,2,     1403
  49RY20120726,   40N,     4,  1,     22,    111,2,20120728,1322, 40.0088, 143.4980, 1712,    286.8,   8.1555,   8.1556,2,  33.9456,2,-999.0000,9,    270.2,2,   -999.0,9,    16.41,2,    11.51,2,     0.01,2,     0.84,2, -999.000,9, -999.000,9,   -999.0,9,   -999.0,9,-999.0000,9,  -999.00,  -999.00,9,  -999.00,9,   8.1556,2,     1401
  49RY20120726,   40N,     4,  1,     20,     93,4,20120728,1322, 40.0088, 143.4980, 1712,    376.2,   5.4159,   5.4161,2,  33.6459,2,-999.0000,9,    264.5,2,   -999.0,9,     1.18,4,     0.09,4,     0.00,4,     0.07,4, -999.000,9, -999.000,9,   -999.0,9,   -999.0,9,-999.0000,9,  -999.00,  -999.00,9,  -999.00,9,   5.4161,2,     1358
  49RY20120726,   40N,     4,  1,     18,    101,2,20120728,1322, 40.0088, 143.4980, 1712,    477.2,   2.9693,   2.9754,2,  33.5522,2,-999.0000,9,    204.2,2,   -999.0,9,    62.25,2,    29.94,2,     0.01,2,     2.27,2, -999.000,9, -999.000,9,   -999.0,9,   -999.0,9,-999.0000,9,  -999.00,  -999.00,9,  -999.00,9,   2.9754,2,     1355
  49RY20120726,   40N,     4,  1,     17,     90,3,20120728,1322, 40.0088, 143.4980, 1712,    477.2,   2.9693,   2.9754,2,  33.5522,2,-999.0000,9,    204.2,2,   -999.0,9,    62.06,2,    29.96,2,     0.01,2,     2.27,2, -999.000,9, -999.000,9,   -999.0,9,   -999.0,9,-999.0000,9,  -999.00,  -999.00,9,  -999.00,9,   2.9754,2,     1355
  49RY20120726,   40N,     4,  1,     16,     89,2,20120728,1322, 40.0088, 143.4980, 1712,    577.3,   3.0453,   3.0429,2,  33.7359,2,-999.0000,9,    132.8,2,   -999.0,9,    82.48,2,    35.95,2,     0.00,2,     2.66,2, -999.000,9, -999.000,9,   -999.0,9,   -999.0,9,-999.0000,9,  -999.00,  -999.00,9,  -999.00,9,   3.0429,2,     1352
  49RY20120726,   40N,     4,  1,     15,     88,2,20120728,1322, 40.0088, 143.4980, 1712,    678.4,   3.6188,   3.6186,2,  33.9770,2,-999.0000,9,     73.6,2,   -999.0,9,    99.32,2,    39.89,2,     0.00,2,     2.89,2, -999.000,9, -999.000,9,   -999.0,9,   -999.0,9,-999.0000,9,  -999.00,  -999.00,9,  -999.00,9,   3.6186,2,     1350
  49RY20120726,   40N,     4,  1,     14,    999,2,20120728,1322, 40.0088, 143.4980, 1712,    779.5,   3.3818,   3.3818,2,  34.0885,2,-999.0000,9,     45.2,2,   -999.0,9,   116.06,6,    42.01,2,     0.00,6,     3.05,6, -999.000,9, -999.000,9,   -999.0,9,   -999.0,9,-999.0000,9,  -999.00,  -999.00,9,  -999.00,9,   3.3818,2,     1347
  49RY20120726,   40N,     4,  1,     13,    996,2,20120728,1322, 40.0088, 143.4980, 1712,    880.1,   3.3542,   3.3539,2,  34.2203,2,-999.0000,9,     36.7,2,   -999.0,9,   125.29,2,    42.64,2,     0.00,2,     3.06,2, -999.000,9, -999.000,9,   -999.0,9,   -999.0,9,-999.0000,9,  -999.00,  -999.00,9,  -999.00,9,   3.3539,2,     1344
  49RY20120726,   40N,     4,  1,     12,     74,2,20120728,1322, 40.0088, 143.4980, 1712,    880.1,   3.3542,   3.3539,2,  34.2203,2,-999.0000,9,     36.7,2,   -999.0,9,   125.44,2,    42.77,2,     0.00,2,     3.06,2, -999.000,9, -999.000,9,   -999.0,9,   -999.0,9,-999.0000,9,  -999.00,  -999.00,9,  -999.00,9,   3.3539,2,     1344
  49RY20120726,   40N,     4,  1,     10,    107,2,20120728,1322, 40.0088, 143.4980, 1712,    982.3,   3.1887,   3.1882,2,  34.2961,2,-999.0000,9,     35.5,2,   -999.0,9,   133.33,2,    42.62,2,     0.00,2,     3.06,2, -999.000,9, -999.000,9,   -999.0,9,   -999.0,9,-999.0000,9,  -999.00,  -999.00,9,  -999.00,9,   3.1882,2,     1341
  49RY20120726,   40N,     4,  1,      8,     81,2,20120728,1322, 40.0088, 143.4980, 1712,   1145.1,   2.9309,   2.9304,2,  34.3853,2,-999.0000,9,     37.5,2,   -999.0,9,   141.97,2,    42.76,2,     0.00,2,     3.06,2, -999.000,9, -999.000,9,   -999.0,9,   -999.0,9,-999.0000,9,  -999.00,  -999.00,9,  -999.00,9,   2.9304,2,     1337
  49RY20120726,   40N,     4,  1,      6,    113,2,20120728,1322, 40.0088, 143.4980, 1712,   1347.6,   2.4977,   2.4975,2,  34.4699,2,-999.0000,9,     38.6,2,   -999.0,9,   158.76,6,    42.23,6,     0.05,6,     3.10,6, -999.000,9, -999.000,9,   -999.0,9,   -999.0,9,-999.0000,9,  -999.00,  -999.00,9,  -999.00,9,   2.4975,2,     1332
  49RY20120726,   40N,     4,  1,      5,     94,2,20120728,1322, 40.0088, 143.4980, 1712,   1548.7,   2.2801,   2.2797,2,  34.5241,2,-999.0000,9,     49.5,2,   -999.0,9,   159.67,2,    42.37,2,     0.01,2,     3.03,2, -999.000,9, -999.000,9,   -999.0,9,   -999.0,9,-999.0000,9,  -999.00,  -999.00,9,  -999.00,9,   2.2797,2,     1328
  49RY20120726,   40N,     4,  1,      4,     77,2,20120728,1322, 40.0088, 143.4980, 1712,   1548.7,   2.2801,   2.2797,2,  34.5241,2,-999.0000,9,     49.5,2,   -999.0,9,   159.92,2,    42.30,2,     0.01,2,     3.03,2, -999.000,9, -999.000,9,   -999.0,9,   -999.0,9,-999.0000,9,  -999.00,  -999.00,9,  -999.00,9,   2.2797,2,     1328
  49RY20120726,   40N,     4,  1,      1,    997,2,20120728,1322, 40.0088, 143.4980, 1712,   1725.1,   2.2244,   2.2239,2,  34.5376,2,-999.0000,9,     52.8,2,   -999.0,9,   161.55,2,  -999.00,2,  -999.00,5,     3.02,2, -999.000,9, -999.000,9,   -999.0,9,   -999.0,9,-999.0000,9,  -999.00,  -999.00,9,  -999.00,9,   2.2239,2,     1323
  49RY20120726,   40N,     4,  1,      2,     75,3,20120728,1322, 40.0088, 143.4980, 1712,   1725.3,   2.2247,   2.2243,2,  34.5376,2,-999.0000,9,     52.8,2,   -999.0,9,   161.47,2,    42.14,2,     0.02,2,     3.02,2, -999.000,9, -999.000,9,   -999.0,9,   -999.0,9,-999.0000,9,  -999.00,  -999.00,9,  -999.00,9,   2.2243,2,     1323