BOTTLE,20210419PRINUNIVRMK
EXPOCODE,SECT_ID,STNNBR,CASTNO,SAMPNO,BTLNBR,BTLNBR_FLAG_W,DATE,TIME,LATITUDE,LONGITUDE,DEPTH,CTDPRS,CTDTMP,SBE35,SBE35_FLAG_W,CTDSAL,CTDSAL_FLAG_W,SALNTY,SALNTY_FLAG_W,CTDOXY,CTDOXY_FLAG_W,OXYGEN,OXYGEN_FLAG_W,SILCAT,SILCAT_FLAG_W,NITRAT,NITRAT_FLAG_W,NITRIT,NITRIT_FLAG_W,PHSPHT,PHSPHT_FLAG_W,CFC-11,CFC-11_FLAG_W,CFC-12,CFC-12_FLAG_W,TCARBN,TCARBN_FLAG_W,ALKALI,ALKALI_FLAG_W,PH_TOT,PH_TOT_FLAG_W,PH_TMP,CHLORA,CHLORA_FLAG_W,PPHYTN,PPHYTN_FLAG_W,SBE35,SBE35_FLAG_W,BTL_TIME
,,,,,,,,,,,METERS,DBAR,ITS-90,,,PSS-78,,PSS-78,,UMOL/KG,,UMOL/KG,,UMOL/KG,,UMOL/KG,,UMOL/KG,,UMOL/KG,,PMOL/KG,,PMOL/KG,,UMOL/KG,,UMOL/KG,,,,DEG C,UG/KG,,UG/KG,,,,
  49RY20120726,   40N,    29,  1,     36,    109,2,20120805,1130, 39.9888, 158.3360, 5498,     10.4,  21.9150,  21.9115,2,  33.9802,2,  33.9801,2,    224.1,2,    224.0,2,     2.43,2,     0.00,2,     0.00,2,     0.06,2, -999.000,9, -999.000,9,   1974.0,2,   2249.2,6,   8.0206,2,    25.00,     0.14,2,     0.01,2,  21.9115,2,     1632
  49RY20120726,   40N,    29,  1,     35,    112,2,20120805,1130, 39.9888, 158.3360, 5498,     51.6,  14.5292,  14.5316,2,  34.3936,2,  34.3881,2,    197.6,2,    196.5,2,    13.63,2,     9.91,2,     0.14,2,     0.71,2, -999.000,9, -999.000,9,   2066.3,2,   2276.6,2,   7.8700,6,    25.00,     0.69,2,     0.26,2,  14.5316,2,     1630
  49RY20120726,   40N,    29,  1,     34,     83,2,20120805,1130, 39.9888, 158.3360, 5498,    101.1,  10.4130,  10.4132,2,  34.2282,2,  34.2255,2,    216.4,2,    219.1,2,    21.45,2,    14.46,2,     0.01,2,     1.04,2, -999.000,9, -999.000,9,   2108.6,2,   2275.5,2,   7.7850,2,    25.00,     0.03,2,     0.04,2,  10.4132,2,     1628
  49RY20120726,   40N,    29,  1,     33,     86,2,20120805,1130, 39.9888, 158.3360, 5498,    152.0,   8.3902,   8.3913,2,  34.0352,2,  34.0352,2,    230.8,2,    232.9,2,    26.44,2,    16.74,2,     0.01,2,     1.22,2, -999.000,9, -999.000,9,   2125.2,2,   2270.7,2,   7.7447,2,    25.00,     0.02,2,     0.04,2,   8.3913,2,     1626
  49RY20120726,   40N,    29,  1,     32,    105,2,20120805,1130, 39.9888, 158.3360, 5498,    201.5,   6.6216,   6.6200,2,  33.8299,2,  33.8210,2,    266.6,2,    269.5,2,    28.31,2,    17.54,2,     0.01,2,     1.32,2, -999.000,9, -999.000,9,   2125.9,2,   2262.6,2,   7.7256,2,    25.00,     0.01,2,     0.04,2,   6.6200,2,     1620
  49RY20120726,   40N,    29,  1,     31,     76,2,20120805,1130, 39.9888, 158.3360, 5498,    252.7,   6.2619,   6.2572,2,  33.8240,2,  33.8200,2,    263.9,2,    264.6,2,    31.12,2,    18.70,2,     0.01,2,     1.40,2, -999.000,9, -999.000,9,   2133.4,2,   2263.3,2,   7.7097,2,    25.00,  -999.00,9,  -999.00,9,   6.2572,2,     1613
  49RY20120726,   40N,    29,  1,     30,    103,2,20120805,1130, 39.9888, 158.3360, 5498,    303.1,   5.2206,   5.2234,2,  33.7544,2,  33.7588,2,    212.0,2,    211.2,2,    46.93,2,    25.11,2,     0.01,2,     1.86,2, -999.000,9, -999.000,9,   2177.0,2,   2272.9,2,   7.6028,2,    25.00,  -999.00,9,  -999.00,9,   5.2234,2,     1611
  49RY20120726,   40N,    29,  1,     29,    102,2,20120805,1130, 39.9888, 158.3360, 5498,    404.0,   5.0531,   5.0559,2,  33.9805,2,  33.9804,2,    118.8,2,    118.2,6,    72.93,6,    33.56,6,     0.00,6,     2.44,6, -999.000,9, -999.000,9,   2250.3,2,   2301.0,2,   7.4637,2,    25.00,  -999.00,9,  -999.00,9,   5.0559,2,     1609
  49RY20120726,   40N,    29,  1,     28,     91,2,20120805,1130, 39.9888, 158.3360, 5498,    504.5,   4.5458,   4.5467,2,  34.0733,2,  34.0738,2,     83.8,2,     83.4,2,    89.30,2,    37.32,2,     0.00,2,     2.70,2, -999.000,9, -999.000,9,   2288.0,6,   2315.8,6,   7.4037,2,    25.00,  -999.00,9,  -999.00,9,   4.5467,2,     1602
  49RY20120726,   40N,    29,  1,     27,    998,2,20120805,1130, 39.9888, 158.3360, 5498,    605.2,   4.0536,   4.0532,2,  34.1540,2,  34.1590,2,     58.2,2,     58.0,2,   105.12,2,    39.92,2,     0.00,2,     2.88,2, -999.000,9, -999.000,9,   2320.6,2,   2332.4,2,   7.3616,6,    25.00,  -999.00,9,  -999.00,9,   4.0532,2,     1552
  49RY20120726,   40N,    29,  1,     26,     99,2,20120805,1130, 39.9888, 158.3360, 5498,    706.9,   3.6360,   3.6361,2,  34.2148,2,  34.2122,2,     43.9,2,     44.4,2,   117.52,2,    41.55,2,     0.00,2,     2.99,2, -999.000,9, -999.000,9,   2347.0,2,   2343.1,2,   7.3337,2,    25.00,  -999.00,9,  -999.00,9,   3.6361,2,     1550
  49RY20120726,   40N,    29,  1,     25,     98,2,20120805,1130, 39.9888, 158.3360, 5498,    807.5,   3.4112,   3.4094,2,  34.2824,2,  34.2816,2,     39.4,2,     39.2,2,   125.91,2,    42.06,2,     0.00,2,     3.02,2, -999.000,9, -999.000,9,   2353.4,2,   2356.8,2,   7.3367,2,    25.00,  -999.00,9,  -999.00,9,   3.4094,2,     1542
  49RY20120726,   40N,    29,  1,     24,    110,2,20120805,1130, 39.9888, 158.3360, 5498,    910.0,   3.1572,   3.1573,2,  34.3312,2,  34.3320,2,     36.5,2,     36.4,6,   134.04,6,    42.48,6,     0.00,6,     3.06,6, -999.000,9, -999.000,9,   2366.8,2,   2367.7,2,   7.3440,2,    25.00,  -999.00,9,  -999.00,9,   3.1573,2,     1533
  49RY20120726,   40N,    29,  1,     23,     96,2,20120805,1130, 39.9888, 158.3360, 5498,   1010.9,   3.0101,   3.0103,2,  34.3759,2,  34.3768,2,     36.9,2,     36.8,2,   138.98,2,    42.63,2,     0.00,2,     3.06,2, -999.000,9, -999.000,9,   2368.0,2,   2375.3,2,   7.3427,2,    25.00,  -999.00,9,  -999.00,9,   3.0103,2,     1531
  49RY20120726,   40N,    29,  1,     22,    111,2,20120805,1130, 39.9888, 158.3360, 5498,   1212.2,   2.6795,   2.6812,2,  34.4428,2,  34.4436,6,     37.1,2,     37.0,2,   148.96,2,    43.00,2,     0.00,2,     3.08,2, -999.000,9, -999.000,9,   2382.8,2,   2389.5,2,   7.3494,2,    25.00,  -999.00,9,  -999.00,9,   2.6812,2,     1522
  49RY20120726,   40N,    29,  1,     21,     78,2,20120805,1130, 39.9888, 158.3360, 5498,   1415.7,   2.4019,   2.4012,2,  34.4907,2,  34.4909,2,     42.0,2,     42.2,2,   156.85,2,    42.81,2,     0.00,2,     3.06,2, -999.000,9, -999.000,9,   2386.9,2,   2394.9,2,   7.3606,2,    25.00,  -999.00,9,  -999.00,9,   2.4012,2,     1512
  49RY20120726,   40N,    29,  1,     20,     93,2,20120805,1130, 39.9888, 158.3360, 5498,   1618.2,   2.2260,   2.2256,2,  34.5317,2,  34.5326,2,     49.7,2,     49.9,2,   160.62,2,    42.50,2,     0.00,2,     3.02,2, -999.000,9, -999.000,9,   2380.5,6,   2404.2,6,   7.3788,2,    25.00,  -999.00,9,  -999.00,9,   2.2256,2,     1504
  49RY20120726,   40N,    29,  1,     19,     92,2,20120805,1130, 39.9888, 158.3360, 5498,   1821.6,   2.0767,   2.0765,2,  34.5636,2,  34.5645,2,     59.3,2,     59.9,2,   163.06,2,    41.98,2,     0.00,2,     2.98,2, -999.000,9, -999.000,9,   2376.6,2,   2409.8,2,   7.3980,6,    25.00,  -999.00,9,  -999.00,9,   2.0765,2,     1455
  49RY20120726,   40N,    29,  1,     18,    101,2,20120805,1130, 39.9888, 158.3360, 5498,   2025.9,   1.9381,   1.9378,2,  34.5907,2,  34.5915,2,     71.2,2,     72.0,2,   164.26,2,    41.19,2,     0.00,2,     2.93,2, -999.000,9, -999.000,9,   2378.7,2,   2412.6,2,   7.4240,2,    25.00,  -999.00,9,  -999.00,9,   1.9378,2,     1437
  49RY20120726,   40N,    29,  1,     17,     90,2,20120805,1130, 39.9888, 158.3360, 5498,   2229.4,   1.8084,   1.8085,2,  34.6153,2,  34.6154,2,     85.6,2,     86.2,6,   163.61,6,    40.29,6,     0.00,6,     2.85,6, -999.000,9, -999.000,9,   2371.8,2,   2416.2,2,   7.4544,2,    25.00,  -999.00,9,  -999.00,9,   1.8085,2,     1432
  49RY20120726,   40N,    29,  1,     16,     89,2,20120805,1130, 39.9888, 158.3360, 5498,   2433.2,   1.7241,   1.7241,2,  34.6309,2,  34.6314,2,     96.8,2,     98.2,2,   162.59,2,    39.70,2,     0.00,2,     2.80,2, -999.000,9, -999.000,9,   2361.9,2,   2417.6,2,   7.4747,2,    25.00,  -999.00,9,  -999.00,9,   1.7241,2,     1419
  49RY20120726,   40N,    29,  1,     15,     88,2,20120805,1130, 39.9888, 158.3360, 5498,   2637.1,   1.6481,   1.6482,2,  34.6443,2,  34.6449,6,    108.1,2,    108.7,2,   160.97,2,    38.98,2,     0.00,2,     2.74,2, -999.000,9, -999.000,9,   2352.6,2,   2416.7,2,   7.4943,2,    25.00,  -999.00,9,  -999.00,9,   1.6482,2,     1353
  49RY20120726,   40N,    29,  1,     14,    999,2,20120805,1130, 39.9888, 158.3360, 5498,   2840.7,   1.5932,   1.5937,2,  34.6541,2,  34.6541,2,    117.1,2,    117.9,2,   159.27,2,    38.32,2,     0.00,2,     2.69,2, -999.000,9, -999.000,9,   2346.9,2,   2417.5,2,   7.5112,2,    25.00,  -999.00,9,  -999.00,9,   1.5937,2,     1342
  49RY20120726,   40N,    29,  1,     13,    996,2,20120805,1130, 39.9888, 158.3360, 5498,   3045.8,   1.5540,   1.5544,2,  34.6614,2,  34.6621,2,    124.6,2,    125.0,2,   157.78,2,    37.79,2,     0.00,2,     2.66,2, -999.000,9, -999.000,9,   2347.1,2,   2418.8,2,   7.5264,2,    25.00,  -999.00,9,  -999.00,9,   1.5544,2,     1334
  49RY20120726,   40N,    29,  1,     12,     74,2,20120805,1130, 39.9888, 158.3360, 5498,   3045.8,   1.5540,   1.5544,2,  34.6614,2,  34.6616,2,    124.6,2,    125.1,2,   157.70,2,    37.82,2,     0.00,2,     2.66,2, -999.000,9, -999.000,9,   2348.1,2,   2417.2,2,   7.5276,2,    25.00,  -999.00,9,  -999.00,9,   1.5544,2,     1334
  49RY20120726,   40N,    29,  1,     11,     97,2,20120805,1130, 39.9888, 158.3360, 5498,   3301.2,   1.5110,   1.5110,2,  34.6690,2,  34.6693,2,    133.2,2,    133.7,2,   155.74,2,    37.30,2,     0.00,2,     2.61,2, -999.000,9, -999.000,9,   2340.1,2,   2417.1,2,   7.5410,2,    25.00,  -999.00,9,  -999.00,9,   1.5110,2,     1322
  49RY20120726,   40N,    29,  1,     10,    107,2,20120805,1130, 39.9888, 158.3360, 5498,   3557.8,   1.4865,   1.4866,2,  34.6747,2,  34.6746,2,    139.6,2,    140.0,2,   154.29,2,    36.89,2,     0.00,2,     2.58,2, -999.000,9, -999.000,9,   2339.8,2,   2419.2,2,   7.5512,2,    25.00,  -999.00,9,  -999.00,9,   1.4866,2,     1312
  49RY20120726,   40N,    29,  1,      9,    108,2,20120805,1130, 39.9888, 158.3360, 5498,   3813.6,   1.4735,   1.4737,2,  34.6789,2,  34.6783,2,    144.7,2,    145.5,2,   152.76,2,    36.49,2,     0.00,2,     2.55,2, -999.000,9, -999.000,9,   2336.6,2,   2420.7,2,   7.5601,2,    25.00,  -999.00,9,  -999.00,9,   1.4737,2,     1300
  49RY20120726,   40N,    29,  1,      8,     81,2,20120805,1130, 39.9888, 158.3360, 5498,   4070.4,   1.4672,   1.4673,2,  34.6825,2,  34.6831,2,    149.2,2,    150.2,2,   151.43,2,    36.27,2,     0.00,2,     2.53,2, -999.000,9, -999.000,9,   2332.0,2,   2417.1,6,   7.5683,2,    25.00,  -999.00,9,  -999.00,9,   1.4673,2,     1250
  49RY20120726,   40N,    29,  1,      7,    106,2,20120805,1130, 39.9888, 158.3360, 5498,   4327.5,   1.4689,   1.4690,2,  34.6854,2,  34.6852,2,    152.9,2,    153.5,2,   150.68,2,    35.98,2,     0.00,2,     2.51,2, -999.000,9, -999.000,9,   2326.9,2,   2418.0,2,   7.5753,6,    25.00,  -999.00,9,  -999.00,9,   1.4690,2,     1237
  49RY20120726,   40N,    29,  1,      6,    113,2,20120805,1130, 39.9888, 158.3360, 5498,   4583.6,   1.4794,   1.4794,2,  34.6876,2,  34.6874,2,    155.6,2,    156.2,6,   150.18,6,    35.76,6,     0.00,6,     2.50,6, -999.000,9, -999.000,9,   2325.8,2,   2412.9,2,   7.5775,2,    25.00,  -999.00,9,  -999.00,9,   1.4794,2,     1223
  49RY20120726,   40N,    29,  1,      5,     94,2,20120805,1130, 39.9888, 158.3360, 5498,   4841.5,   1.4978,   1.4979,2,  34.6890,2,  34.6889,2,    157.4,2,    158.4,2,   149.98,2,    35.73,2,     0.00,2,     2.49,2, -999.000,9, -999.000,9,   2323.4,2,   2415.3,2,   7.5834,2,    25.00,  -999.00,9,  -999.00,9,   1.4979,2,     1209
  49RY20120726,   40N,    29,  1,      4,     77,2,20120805,1130, 39.9888, 158.3360, 5498,   5100.0,   1.5224,   1.5225,2,  34.6900,2,  34.6903,2,    158.6,2,    159.5,2,   149.41,2,    35.69,2,     0.00,2,     2.49,2, -999.000,9, -999.000,9,   2324.5,2,   2413.9,2,   7.5833,2,    25.00,  -999.00,9,  -999.00,9,   1.5225,2,     1150
  49RY20120726,   40N,    29,  1,      3,    104,2,20120805,1130, 39.9888, 158.3360, 5498,   5100.0,   1.5224,   1.5225,2,  34.6900,2,  34.6902,2,    158.6,2,    159.4,2,   149.61,2,    35.71,2,     0.00,2,     2.48,2, -999.000,9, -999.000,9,   2323.4,2,   2415.5,2,   7.5828,2,    25.00,  -999.00,9,  -999.00,9,   1.5225,2,     1150
  49RY20120726,   40N,    29,  1,      2,     75,2,20120805,1130, 39.9888, 158.3360, 5498,   5356.8,   1.5468,   1.5467,2,  34.6909,2,  34.6908,2,    159.8,2,    160.5,2,   149.02,2,    35.55,2,     0.00,2,     2.48,2, -999.000,9, -999.000,9,   2322.0,2,   2415.4,2,   7.5845,2,    25.00,  -999.00,9,  -999.00,9,   1.5467,2,     1141
  49RY20120726,   40N,    29,  1,      1,    997,2,20120805,1130, 39.9888, 158.3360, 5498,   5588.1,   1.5711,   1.5709,2,  34.6916,2,  34.6919,2,    161.0,2,    161.4,2,   147.84,2,    35.47,2,     0.00,2,     2.47,2, -999.000,9, -999.000,9,   2323.4,2,   2413.2,2,   7.5844,2,    25.00,  -999.00,9,  -999.00,9,   1.5709,2,     1130