BOTTLE,20210419PRINUNIVRMK
EXPOCODE,SECT_ID,STNNBR,CASTNO,SAMPNO,BTLNBR,BTLNBR_FLAG_W,DATE,TIME,LATITUDE,LONGITUDE,DEPTH,CTDPRS,CTDTMP,SBE35,SBE35_FLAG_W,CTDSAL,CTDSAL_FLAG_W,SALNTY,SALNTY_FLAG_W,CTDOXY,CTDOXY_FLAG_W,OXYGEN,OXYGEN_FLAG_W,SILCAT,SILCAT_FLAG_W,NITRAT,NITRAT_FLAG_W,NITRIT,NITRIT_FLAG_W,PHSPHT,PHSPHT_FLAG_W,CFC-11,CFC-11_FLAG_W,CFC-12,CFC-12_FLAG_W,TCARBN,TCARBN_FLAG_W,ALKALI,ALKALI_FLAG_W,PH_TOT,PH_TOT_FLAG_W,PH_TMP,CHLORA,CHLORA_FLAG_W,PPHYTN,PPHYTN_FLAG_W,SBE35,SBE35_FLAG_W,BTL_TIME
,,,,,,,,,,,METERS,DBAR,ITS-90,,,PSS-78,,PSS-78,,UMOL/KG,,UMOL/KG,,UMOL/KG,,UMOL/KG,,UMOL/KG,,UMOL/KG,,PMOL/KG,,PMOL/KG,,UMOL/KG,,UMOL/KG,,,,DEG C,UG/KG,,UG/KG,,,,
  49RY20120726,   40N,    13,  1,     36,    109,2,20120730,2205, 40.0292, 147.9943, 5314,     12.1,  15.4228,  15.3707,2,  33.1204,2,  33.1308,2,    284.2,2,    286.8,2,     3.85,2,     1.99,2,     0.05,2,     0.45,2,    3.036,2,    1.725,2,   1996.5,2,   2237.2,2,   7.9751,2,    25.00,     0.46,2,     0.03,2,  15.3707,2,       22
  49RY20120726,   40N,    13,  1,     35,    112,2,20120730,2205, 40.0292, 147.9943, 5314,     52.4,   5.1098,   5.1150,2,  33.3360,2,  33.3372,2,    293.7,2,    294.5,2,    24.61,2,    17.96,3,     0.10,2,     1.48,2,    4.561,2,    2.565,2,   2112.2,2,   2248.1,2,   7.7253,2,    25.00,     0.43,2,     0.19,2,   5.1150,2,       17
  49RY20120726,   40N,    13,  1,     34,     83,3,20120730,2205, 40.0292, 147.9943, 5314,    102.8,   3.1653,   3.1645,2,  33.3816,2,  33.3815,2,    288.9,2,    289.3,2,    36.39,2,    21.81,2,     0.01,2,     1.72,2,    4.796,2,    2.619,2,   2149.9,6,   2250.8,6,   7.6477,2,    25.00,     0.04,2,     0.06,2,   3.1645,2,       16
  49RY20120726,   40N,    13,  1,     33,     86,2,20120730,2205, 40.0292, 147.9943, 5314,    152.9,   2.9013,   2.9052,2,  33.4461,2,  33.4461,2,    250.9,2,    251.6,2,    50.10,2,    26.27,2,     0.00,2,     2.03,2,    4.453,2,    2.379,2,   2182.8,2,   2259.9,2,   7.5680,6,    25.00,     0.01,2,     0.06,2,   2.9052,2,       14
  49RY20120726,   40N,    13,  1,     32,    105,2,20120730,2205, 40.0292, 147.9943, 5314,    204.1,   3.2000,   3.2076,2,  33.6145,2,  33.6082,2,    177.1,2,    177.7,6,    67.85,6,    32.25,6,     0.01,6,     2.42,6,    3.637,2,    1.925,2,   2227.8,2,   2275.4,2,   7.4564,2,    25.00,     0.01,2,     0.06,2,   3.2076,2,       12
  49RY20120726,   40N,    13,  1,     31,     76,2,20120730,2205, 40.0292, 147.9943, 5314,    253.7,   2.4172,   2.4180,2,  33.6015,2,  33.6003,2,    147.8,2,    147.2,2,    81.87,2,    36.50,2,     0.00,2,     2.71,2,    3.504,2,    1.843,2,   2270.5,2,   2282.3,2,   7.3695,2,    25.00,  -999.00,9,  -999.00,9,   2.4180,2,       10
  49RY20120726,   40N,    13,  1,     30,    103,2,20120730,2205, 40.0292, 147.9943, 5314,    284.4,   2.6886,   2.6881,2,  33.6715,2,  33.6686,2,    124.4,2,    125.0,2,    85.79,2,    37.84,2,     0.00,2,     2.79,2,    3.122,6,    1.646,6,   2284.1,2,   2287.5,2,   7.3477,2,    25.00,  -999.00,9,  -999.00,9,   2.6881,2,        9
  49RY20120726,   40N,    13,  1,     29,    102,2,20120730,2205, 40.0292, 147.9943, 5314,    374.9,   3.2310,   3.2307,2,  33.8822,2,  33.8779,2,     73.9,2,     74.8,2,    98.62,2,    40.75,2,     0.00,2,     2.95,2,    2.232,2,    1.136,2,   2308.4,3,   2306.9,2,   7.3036,2,    25.00,  -999.00,9,  -999.00,9,   3.2307,2,        6
  49RY20120726,   40N,    13,  1,     28,     91,2,20120730,2205, 40.0292, 147.9943, 5314,    374.9,   3.2310,   3.2307,2,  33.8822,2,  33.8812,2,     73.9,2,     74.7,2,    98.75,2,    40.51,2,     0.00,2,     2.95,2,    2.236,2,    1.136,2,   2315.6,2,   2307.8,2,   7.3020,2,    25.00,  -999.00,9,  -999.00,9,   3.2307,2,        6
  49RY20120726,   40N,    13,  1,     27,    998,2,20120730,2205, 40.0292, 147.9943, 5314,    478.0,   3.3572,   3.3540,2,  34.0403,2,  34.0162,4,     47.8,2,     48.0,2,   112.67,6,    42.40,6,     0.00,6,     3.05,6,    1.572,2,    0.790,2,   2327.8,2,   2325.4,2,   7.2805,2,    25.00,  -999.00,9,  -999.00,9,   3.3540,2,        3
  49RY20120726,   40N,    13,  1,     26,     99,3,20120730,2205, 40.0292, 147.9943, 5314,    577.4,   3.5596,   3.5599,2,  34.1815,2,  34.1787,2,     43.1,2,     48.6,2,   117.39,2,    41.57,2,     0.00,2,     2.99,2,    0.947,6,    0.455,6,   2340.2,2,   2341.0,2,   7.3186,3,    25.00,  -999.00,9,  -999.00,9,   3.5599,2,        0
  49RY20120726,   40N,    13,  1,     25,     98,2,20120730,2205, 40.0292, 147.9943, 5314,    681.5,   3.1600,   3.1600,2,  34.2407,2,  34.2402,2,     32.3,2,     33.4,2,   131.44,2,    42.89,2,     0.00,2,     3.08,2,    0.672,2,    0.315,2,   2357.4,6,   2353.2,6,   7.2983,2,    25.00,  -999.00,9,  -999.00,9,   3.1600,2,     2356
  49RY20120726,   40N,    13,  1,     24,    110,2,20120730,2205, 40.0292, 147.9943, 5314,    781.7,   2.9456,   2.9440,2,  34.3056,2,  34.3030,2,     28.3,2,     29.0,6,   139.81,2,    43.19,2,     0.00,2,     3.10,2,    0.000,4,    0.000,4,   2369.9,2,   2365.7,2,   7.3046,6,    25.00,  -999.00,9,  -999.00,9,   2.9440,2,     2353
  49RY20120726,   40N,    13,  1,     23,     96,2,20120730,2205, 40.0292, 147.9943, 5314,    881.0,   2.7814,   2.7813,2,  34.3479,2,  34.3442,2,     30.7,2,     30.6,2,   145.78,2,    43.36,2,     0.00,2,     3.10,2,    0.374,2,    0.161,2,   2363.2,2,   2372.6,2,   7.3125,2,    25.00,  -999.00,9,  -999.00,9,   2.7813,2,     2350
  49RY20120726,   40N,    13,  1,     22,    111,2,20120730,2205, 40.0292, 147.9943, 5314,    982.4,   2.6679,   2.6680,2,  34.3919,2,  34.3904,2,     34.6,2,     34.4,2,   149.63,2,    42.98,2,     0.00,2,     3.08,2,    0.289,2,    0.126,2,   2376.2,2,   2380.5,2,   7.3248,2,    25.00,  -999.00,9,  -999.00,9,   2.6680,2,     2347
  49RY20120726,   40N,    13,  1,     21,     78,2,20120730,2205, 40.0292, 147.9943, 5314,   1147.4,   2.4883,   2.4881,2,  34.4489,2,  34.4489,2,     39.6,2,     39.8,2,   155.22,2,    42.67,2,     0.00,2,     3.06,2,    0.170,2,    0.077,2,   2384.6,2,   2390.1,2,   7.3533,2,    25.00,  -999.00,9,  -999.00,9,   2.4881,2,     2342
  49RY20120726,   40N,    13,  1,     20,     93,2,20120730,2205, 40.0292, 147.9943, 5314,   1350.4,   2.3600,   2.3599,2,  34.5106,2,  34.5071,4,     46.9,2,     46.8,2,   157.00,2,    42.45,2,     0.00,2,     3.03,2,    0.046,2,    0.011,2,   2383.2,2,   2400.4,2,   7.3652,2,    25.00,  -999.00,9,  -999.00,9,   2.3599,2,     2336
  49RY20120726,   40N,    13,  1,     19,     92,2,20120730,2205, 40.0292, 147.9943, 5314,   1551.5,   2.1575,   2.1574,2,  34.5439,2,  34.5439,2,     55.6,2,      1.0,4,   161.86,2,    42.24,2,     0.00,2,     2.99,2,    0.033,2,    0.000,2,   2385.3,2,   2404.7,2,   7.3842,2,    25.00,  -999.00,9,  -999.00,9,   2.1574,2,     2331
  49RY20120726,   40N,    13,  1,     18,    101,2,20120730,2205, 40.0292, 147.9943, 5314,   1756.4,   2.0311,   2.0310,2,  34.5754,2,  34.5735,4,     66.8,2,     66.4,2,   162.17,2,    41.48,2,     0.00,2,     2.94,2,    0.008,2,    0.000,2,   2376.5,2,   2411.2,2,   7.4101,2,    25.00,  -999.00,9,  -999.00,9,   2.0310,2,     2326
  49RY20120726,   40N,    13,  1,     17,     90,2,20120730,2205, 40.0292, 147.9943, 5314,   1957.0,   1.9023,   1.9023,2,  34.5994,2,  34.5990,6,     78.7,2,     78.2,2,   162.76,2,    40.72,2,     0.00,2,     2.89,2,    0.006,2,    0.000,2,   2377.0,2,   2414.3,2,   7.4345,2,    25.00,  -999.00,9,  -999.00,9,   1.9023,2,     2321
  49RY20120726,   40N,    13,  1,     16,     89,2,20120730,2205, 40.0292, 147.9943, 5314,   2162.4,   1.7794,   1.7795,2,  34.6205,2,  34.6203,2,     92.0,2,     91.8,2,   162.08,2,    40.00,2,     0.00,2,     2.82,2,    0.000,2,    0.000,2,   2368.2,2,   2416.9,2,   7.4620,2,    25.00,  -999.00,9,  -999.00,9,   1.7795,2,     2316
  49RY20120726,   40N,    13,  1,     15,     88,2,20120730,2205, 40.0292, 147.9943, 5314,   2362.0,   1.6961,   1.6960,2,  34.6348,2,  34.6352,2,    102.7,2,    102.4,2,   161.03,2,    39.33,2,     0.00,2,     2.77,2,    0.015,2,    0.000,2,   2365.1,2,   2417.1,2,   7.4799,2,    25.00,  -999.00,9,  -999.00,9,   1.6960,2,     2311
  49RY20120726,   40N,    13,  1,     14,    999,2,20120730,2205, 40.0292, 147.9943, 5314,   2567.6,   1.6289,   1.6288,2,  34.6463,2,  34.6457,2,    112.3,2,    112.2,2,   159.61,2,    38.67,2,     0.00,2,     2.72,2,    0.000,2,    0.000,2,   2356.6,2,   2418.5,2,   7.5006,2,    25.00,  -999.00,9,  -999.00,9,   1.6288,2,     2307
  49RY20120726,   40N,    13,  1,     13,    996,2,20120730,2205, 40.0292, 147.9943, 5314,   2770.8,   1.5783,   1.5782,2,  34.6550,2,  34.6541,2,    120.4,2,    120.4,2,   158.18,2,    38.15,2,     0.00,2,     2.68,2,    0.003,2,    0.000,2,   2347.6,6,   2419.6,6,   7.5144,2,    25.00,  -999.00,9,  -999.00,9,   1.5782,2,     2303
  49RY20120726,   40N,    13,  1,     12,     74,3,20120730,2205, 40.0292, 147.9943, 5314,   2771.2,   1.5781,   1.5781,2,  34.6551,2,  34.6540,2,    120.5,2,    122.3,4,   158.01,2,    38.08,2,     0.00,2,     2.67,2,    0.000,2,    0.000,2,   2345.8,2,   2419.3,2,   7.5147,6,    25.00,  -999.00,9,  -999.00,9,   1.5781,2,     2303
  49RY20120726,   40N,    13,  1,     11,     97,2,20120730,2205, 40.0292, 147.9943, 5314,   2973.7,   1.5399,   1.5399,2,  34.6620,2,  34.6619,6,    127.3,2,    127.0,2,   156.79,2,    37.63,2,     0.00,2,     2.64,2,    0.000,2,    0.000,2,   2346.8,2,   2420.2,2,   7.5257,2,    25.00,  -999.00,9,  -999.00,9,   1.5399,2,     2259
  49RY20120726,   40N,    13,  1,     10,    107,3,20120730,2205, 40.0292, 147.9943, 5314,   3218.4,   1.5023,   1.5023,2,  34.6690,2,  34.6659,4,    134.5,2,    134.3,2,   155.13,6,    37.10,2,     0.00,6,     2.61,6,    0.009,2,    0.000,4,   2331.2,3,   2418.2,2,   7.5403,2,    25.00,  -999.00,9,  -999.00,9,   1.5023,2,     2254
  49RY20120726,   40N,    13,  1,      9,    108,2,20120730,2205, 40.0292, 147.9943, 5314,   3474.6,   1.4749,   1.4748,2,  34.6747,2,  34.6748,2,    141.3,2,    141.5,2,   153.54,2,    36.79,2,     0.00,2,     2.57,2,    0.000,2,    0.000,4,   2333.6,2,   2419.6,2,   7.5521,2,    25.00,  -999.00,9,  -999.00,9,   1.4748,2,     2249
  49RY20120726,   40N,    13,  1,      8,     81,2,20120730,2205, 40.0292, 147.9943, 5314,   3729.7,   1.4618,   1.4618,2,  34.6789,2,  34.6781,2,    146.0,2,    146.0,2,   152.48,2,    36.44,2,     0.00,2,     2.55,2,    0.008,2,    0.000,2,   2334.4,2,   2417.3,2,   7.5604,2,    25.00,  -999.00,9,  -999.00,9,   1.4618,2,     2244
  49RY20120726,   40N,    13,  1,      7,    106,2,20120730,2205, 40.0292, 147.9943, 5314,   3984.4,   1.4542,   1.4541,2,  34.6826,2,  34.6821,2,    150.4,2,    150.1,2,   151.06,2,    36.22,2,     0.00,2,     2.53,2,    0.000,2,    0.000,2,   2324.2,2,   2416.9,2,   7.5674,2,    25.00,  -999.00,9,  -999.00,9,   1.4541,2,     2239
  49RY20120726,   40N,    13,  1,      6,    113,2,20120730,2205, 40.0292, 147.9943, 5314,   4243.8,   1.4564,   1.4564,2,  34.6854,2,  34.6833,4,    153.8,2,    153.8,2,   150.17,2,    35.95,2,     0.00,2,     2.51,2,    0.001,2,    0.000,2,   2326.2,6,   2415.3,6,   7.5738,2,    25.00,  -999.00,9,  -999.00,9,   1.4564,2,     2233
  49RY20120726,   40N,    13,  1,      5,     94,2,20120730,2205, 40.0292, 147.9943, 5314,   4501.0,   1.4673,   1.4674,2,  34.6875,2,  34.6835,4,    156.4,2,    156.3,2,   149.46,2,    35.58,2,     0.00,2,     2.49,2,    0.002,2,    0.000,2,   2323.1,2,   2415.8,2,   7.5790,6,    25.00,  -999.00,9,  -999.00,9,   1.4674,2,     2227
  49RY20120726,   40N,    13,  1,      4,     77,2,20120730,2205, 40.0292, 147.9943, 5314,   4757.0,   1.4844,   1.4844,2,  34.6891,2,  34.6885,2,    158.0,2,    158.2,6,   149.55,6,    35.60,6,     0.00,6,     2.48,6,    0.003,2,    0.000,2,   2326.5,2,   2415.6,2,   7.5799,2,    25.00,  -999.00,9,  -999.00,9,   1.4844,2,     2221
  49RY20120726,   40N,    13,  1,      3,    104,2,20120730,2205, 40.0292, 147.9943, 5314,   5016.7,   1.5080,   1.5080,2,  34.6899,2,  34.6900,6,    159.6,2,    159.9,2,   148.24,2,    35.25,2,     0.00,2,     2.48,2,    0.000,2,    0.000,2,   2323.4,2,   2414.7,2,   7.5805,2,    25.00,  -999.00,9,  -999.00,9,   1.5080,2,     2216
  49RY20120726,   40N,    13,  1,      2,     75,2,20120730,2205, 40.0292, 147.9943, 5314,   5273.2,   1.5298,   1.5296,2,  34.6910,2,  34.6900,2,    161.8,2,    162.1,2,   145.73,2,    35.41,2,     0.00,2,     2.46,2,    0.000,2,    0.000,4,   2323.6,3,   2412.7,2,   7.5836,2,    25.00,  -999.00,9,  -999.00,9,   1.5296,2,     2210
  49RY20120726,   40N,    13,  1,      1,    997,2,20120730,2205, 40.0292, 147.9943, 5314,   5408.1,   1.5433,   1.5432,2,  34.6914,2,  34.6912,2,    161.1,2,    161.1,2,   147.26,2,    35.10,2,     0.00,2,     2.48,2, -999.000,9, -999.000,9,   2314.3,2,   2413.7,2,   7.5825,2,    25.00,  -999.00,9,  -999.00,9,   1.5432,2,     2205