BOTTLE,20210419PRINUNIVRMK
EXPOCODE,SECT_ID,STNNBR,CASTNO,SAMPNO,BTLNBR,BTLNBR_FLAG_W,DATE,TIME,LATITUDE,LONGITUDE,DEPTH,CTDPRS,CTDTMP,SBE35,SBE35_FLAG_W,CTDSAL,CTDSAL_FLAG_W,SALNTY,SALNTY_FLAG_W,CTDOXY,CTDOXY_FLAG_W,OXYGEN,OXYGEN_FLAG_W,SILCAT,SILCAT_FLAG_W,NITRAT,NITRAT_FLAG_W,NITRIT,NITRIT_FLAG_W,PHSPHT,PHSPHT_FLAG_W,CFC-11,CFC-11_FLAG_W,CFC-12,CFC-12_FLAG_W,TCARBN,TCARBN_FLAG_W,ALKALI,ALKALI_FLAG_W,PH_TOT,PH_TOT_FLAG_W,PH_TMP,CHLORA,CHLORA_FLAG_W,PPHYTN,PPHYTN_FLAG_W,SBE35,SBE35_FLAG_W,BTL_TIME
,,,,,,,,,,,METERS,DBAR,ITS-90,,,PSS-78,,PSS-78,,UMOL/KG,,UMOL/KG,,UMOL/KG,,UMOL/KG,,UMOL/KG,,UMOL/KG,,PMOL/KG,,PMOL/KG,,UMOL/KG,,UMOL/KG,,,,DEG C,UG/KG,,UG/KG,,,,
  49RY20120726,   40N,    56,  1,     13,    667,2,20120830,1249, 35.9917, 169.9877, 5219,     11.4,  24.7657,  24.7643,2,  34.2925,2,  34.2927,2,    211.2,2,    211.4,2,     1.69,2,     0.02,2,     0.00,2,     0.02,2,    1.838,2,    1.129,2,   1965.9,2,   2253.5,2,   8.0342,4,    25.00,     0.06,2,     0.01,2,  24.7643,2,     1518
  49RY20120726,   40N,    56,  1,     36,    109,2,20120830,1249, 35.9917, 169.9877, 5219,     55.8,  17.1766,  17.2117,2,  34.5075,2,  34.5040,2,    261.4,2,    260.6,6,     2.07,6,     0.01,6,     0.00,6,     0.07,6,    2.658,2,    1.468,2,   1995.7,2,   2274.7,2,   7.9977,4,    25.00,     0.20,2,     0.11,2,  17.2117,2,     1514
  49RY20120726,   40N,    56,  1,     35,    112,2,20120830,1249, 35.9917, 169.9877, 5219,    101.8,  13.8956,  13.8977,2,  34.4790,2,  34.4767,2,    206.8,2,    204.6,2,    12.61,2,     9.95,2,     0.01,2,     0.69,2,    2.611,2,    1.498,2,   2077.8,2,   2276.5,2,   7.8552,4,    25.00,     0.05,2,     0.05,2,  13.8977,2,     1513
  49RY20120726,   40N,    56,  1,     34,     83,2,20120830,1249, 35.9917, 169.9877, 5219,    152.0,  12.0143,  12.0134,2,  34.3587,2,  34.3535,4,    201.8,2,    202.3,2,    18.72,2,    13.31,2,     0.01,2,     0.94,2,    2.717,2,    1.566,2,   2091.6,6,   2274.1,6,   7.8015,4,    25.00,     0.01,2,     0.02,2,  12.0134,2,     1511
  49RY20120726,   40N,    56,  1,     33,     86,2,20120830,1249, 35.9917, 169.9877, 5219,    202.5,  10.5443,  10.5457,2,  34.2172,2,  34.2170,2,    220.1,2,    220.5,2,    19.94,2,    13.83,2,     0.00,2,     0.99,2,    3.020,2,    1.708,2,   2098.0,2,   2270.4,2,   7.7833,4,    25.00,     0.00,2,     0.02,2,  10.5457,2,     1507
  49RY20120726,   40N,    56,  1,     32,    105,2,20120830,1249, 35.9917, 169.9877, 5219,    253.5,   9.2374,   9.2131,2,  34.0985,2,  34.0970,2,    216.2,2,    216.2,2,    25.31,2,    16.42,2,     0.00,2,     1.19,2,    3.066,2,    1.703,2,   2120.1,2,   2270.0,2,   7.7411,4,    25.00,  -999.00,9,  -999.00,9,   9.2131,2,     1504
  49RY20120726,   40N,    56,  1,     31,     76,2,20120830,1249, 35.9917, 169.9877, 5219,    304.5,   8.4267,   8.4278,2,  34.0783,2,  34.0823,4,    186.5,2,    186.5,2,    34.71,2,    20.54,2,     0.00,2,     1.49,2,    2.821,2,    1.555,2,   2149.6,2,   2277.7,2,   7.6777,4,    25.00,  -999.00,9,  -999.00,9,   8.4278,2,     1502
  49RY20120726,   40N,    56,  1,     30,     97,2,20120830,1249, 35.9917, 169.9877, 5219,    403.7,   6.7067,   6.7061,2,  33.9976,2,  33.9968,2,    158.3,2,    158.5,2,    51.12,2,    26.79,2,     0.00,2,     1.95,2,    2.658,6,    1.402,6,   2194.2,2,   2284.3,2,   7.5735,4,    25.00,  -999.00,9,  -999.00,9,   6.7061,2,     1459
  49RY20120726,   40N,    56,  1,     29,    102,2,20120830,1249, 35.9917, 169.9877, 5219,    403.7,   6.7067,   6.7061,2,  33.9976,2,  33.9979,2,    158.3,2,    157.9,2,    51.20,2,    26.79,2,     0.00,2,     1.95,2,    2.648,2,    1.404,2,   2198.0,2,   2288.6,2,   7.5718,4,    25.00,  -999.00,9,  -999.00,9,   6.7061,2,     1459
  49RY20120726,   40N,    56,  1,     28,     91,2,20120830,1249, 35.9917, 169.9877, 5219,    505.6,   5.3442,   5.3444,2,  34.0037,2,  34.0038,2,    118.5,2,    119.8,2,    70.68,2,    32.95,2,     0.00,2,     2.38,2,    2.215,2,    1.130,2,   2243.4,6,   2298.3,6,   7.4673,4,    25.00,  -999.00,9,  -999.00,9,   5.3444,2,     1456
  49RY20120726,   40N,    56,  1,     27,    998,2,20120830,1249, 35.9917, 169.9877, 5219,    606.5,   4.6694,   4.6689,2,  34.0911,2,  34.0902,2,     83.1,2,     84.6,2,    88.37,2,    36.98,2,     0.00,2,     2.67,2,    1.532,6,    0.765,6,   2282.7,2,   2314.5,2,   7.3978,4,    25.00,  -999.00,9,  -999.00,9,   4.6689,2,     1454
  49RY20120726,   40N,    56,  1,     26,     84,2,20120830,1249, 35.9917, 169.9877, 5219,    708.2,   4.2268,   4.2266,2,  34.1747,2,  34.1743,2,     60.6,2,     61.9,2,   102.83,2,    39.39,2,     0.00,2,     2.84,2,    1.013,2,    0.497,2,   2314.5,2,   2333.3,2,   7.3621,4,    25.00,  -999.00,9,  -999.00,9,   4.2266,2,     1451
  49RY20120726,   40N,    56,  1,     25,     98,2,20120830,1249, 35.9917, 169.9877, 5219,    809.2,   3.8995,   3.8993,2,  34.2463,2,  34.2457,2,     49.6,2,     49.6,2,   113.48,2,    40.57,2,     0.00,2,     2.91,2,    0.672,2,    0.323,2,   2322.1,2,   2346.8,2,   7.3491,4,    25.00,  -999.00,9,  -999.00,9,   3.8993,2,     1444
  49RY20120726,   40N,    56,  1,     24,    110,2,20120830,1249, 35.9917, 169.9877, 5219,    910.0,   3.5867,   3.5868,2,  34.3017,2,  34.3013,2,     41.9,2,     41.7,2,   122.82,2,    41.78,2,     0.00,2,     2.98,2,    0.426,2,    0.197,2,   2344.7,2,   2357.4,2,   7.3366,4,    25.00,  -999.00,9,  -999.00,9,   3.5868,2,     1441
  49RY20120726,   40N,    56,  1,     23,     96,2,20120830,1249, 35.9917, 169.9877, 5219,   1011.6,   3.2679,   3.2679,2,  34.3569,2,  34.3564,6,     36.8,2,     37.2,2,   131.82,2,    42.23,2,     0.00,2,     3.03,2,    0.244,2,    0.114,2,   2348.4,2,   2370.0,2,   7.3319,4,    25.00,  -999.00,9,  -999.00,9,   3.2679,2,     1437
  49RY20120726,   40N,    56,  1,     22,    111,2,20120830,1249, 35.9917, 169.9877, 5219,   1213.6,   2.8061,   2.8060,2,  34.4372,2,  34.4370,2,     34.8,2,     34.9,2,   145.69,2,    43.01,2,     0.00,2,     3.07,2,    0.107,2,    0.050,2,   2372.9,2,   2386.2,2,   7.3341,4,    25.00,  -999.00,9,  -999.00,9,   2.8060,2,     1432
  49RY20120726,   40N,    56,  1,     21,     78,2,20120830,1249, 35.9917, 169.9877, 5219,   1415.3,   2.5018,   2.5017,2,  34.4893,2,  34.4892,2,     40.2,2,     40.4,6,   154.38,6,    42.92,6,     0.00,6,     3.05,6,    0.051,2,    0.025,2,   2383.5,2,   2396.9,2,   7.3465,4,    25.00,  -999.00,9,  -999.00,9,   2.5017,2,     1423
  49RY20120726,   40N,    56,  1,     20,     93,2,20120830,1249, 35.9917, 169.9877, 5219,   1619.6,   2.2676,   2.2672,2,  34.5314,2,  34.5311,2,     46.3,2,     49.4,3,   160.44,2,    42.74,2,     0.00,2,     3.02,2,    0.022,2,    0.008,2,   2376.3,3,   2404.7,2,   7.3627,4,    25.00,  -999.00,9,  -999.00,9,   2.2672,2,     1418
  49RY20120726,   40N,    56,  1,     19,     92,2,20120830,1249, 35.9917, 169.9877, 5219,   1822.8,   2.0690,   2.0689,2,  34.5679,2,  34.5671,2,     59.0,2,     59.0,2,   163.81,2,    42.02,2,     0.00,2,     2.96,2,    0.022,2,    0.002,2,   2379.1,2,   2408.6,2,   7.3844,4,    25.00,  -999.00,9,  -999.00,9,   2.0689,2,     1413
  49RY20120726,   40N,    56,  1,     18,    101,2,20120830,1249, 35.9917, 169.9877, 5219,   2026.1,   1.9174,   1.9173,2,  34.5958,2,  34.5957,2,     72.8,2,     73.0,2,   164.97,2,    41.15,2,     0.00,2,     2.90,2,    0.010,2,    0.003,2,   2374.0,6,   2413.6,6,   7.4127,4,    25.00,  -999.00,9,  -999.00,9,   1.9173,2,     1407
  49RY20120726,   40N,    56,  1,     17,     90,4,20120830,1249, 35.9917, 169.9877, 5219,   2228.4,   1.7983,   1.7982,2,  34.6163,2,  34.6241,4,     86.0,2,     92.1,4,   164.17,4,    40.02,4,     0.00,4,     2.80,4, -999.000,9, -999.000,9,   2361.0,4,   2416.1,4,   7.4553,4,    25.00,  -999.00,9,  -999.00,9,   1.7982,2,     1403
  49RY20120726,   40N,    56,  1,     16,     89,2,20120830,1249, 35.9917, 169.9877, 5219,   2433.2,   1.7014,   1.7013,2,  34.6329,2,  34.6320,2,     98.7,2,     98.6,2,   162.94,2,    39.57,2,     0.00,2,     2.78,2, -999.000,9, -999.000,9,   2353.8,2,   2418.7,2,   7.4651,4,    25.00,  -999.00,9,  -999.00,9,   1.7013,2,     1356
  49RY20120726,   40N,    56,  1,     15,     88,2,20120830,1249, 35.9917, 169.9877, 5219,   2636.5,   1.6288,   1.6289,2,  34.6447,2,  34.6447,6,    109.1,2,    109.0,2,   161.77,2,    38.92,2,     0.00,2,     2.72,2, -999.000,9, -999.000,9,   2352.5,2,   2419.1,2,   7.4820,4,    25.00,  -999.00,9,  -999.00,9,   1.6289,2,     1351
  49RY20120726,   40N,    56,  1,     14,    999,2,20120830,1249, 35.9917, 169.9877, 5219,   2841.6,   1.5753,   1.5753,2,  34.6546,2,  34.6546,2,    118.2,2,    118.1,2,   159.72,2,    38.25,2,     0.00,2,     2.68,2, -999.000,9, -999.000,9,   2345.7,2,   2418.6,2,   7.5036,4,    25.00,  -999.00,9,  -999.00,9,   1.5753,2,     1346
  49RY20120726,   40N,    56,  1,     12,     74,2,20120830,1249, 35.9917, 169.9877, 5219,   3044.9,   1.5366,   1.5365,2,  34.6618,2,  34.6618,2,    125.6,2,    125.4,2,   158.08,2,    37.78,2,     0.00,2,     2.64,2,    0.000,2,    0.000,2,   2341.8,2,   2418.7,2,   7.5165,4,    25.00,  -999.00,9,  -999.00,9,   1.5365,2,     1340
  49RY20120726,   40N,    56,  1,     11,    996,2,20120830,1249, 35.9917, 169.9877, 5219,   3299.6,   1.4977,   1.4977,2,  34.6695,2,  34.6699,2,    134.1,2,    133.8,6,   156.28,6,    37.33,6,     0.00,6,     2.60,6, -999.000,9, -999.000,9,   2339.4,2,   2417.4,6,   7.5302,4,    25.00,  -999.00,9,  -999.00,9,   1.4977,2,     1335
  49RY20120726,   40N,    56,  1,     10,    107,2,20120830,1249, 35.9917, 169.9877, 5219,   3555.5,   1.4763,   1.4763,2,  34.6750,2,  34.6729,4,    140.5,2,    139.6,2,   154.36,2,    36.87,2,     0.00,2,     2.56,2, -999.000,9, -999.000,9,   2333.3,2,   2416.9,2,   7.5385,4,    25.00,  -999.00,9,  -999.00,9,   1.4763,2,     1329
  49RY20120726,   40N,    56,  1,      9,    108,2,20120830,1249, 35.9917, 169.9877, 5219,   3555.5,   1.4763,   1.4763,2,  34.6750,2,  34.6733,4,    140.5,2,    140.2,2,   154.48,2,    36.88,2,     0.00,2,     2.56,2, -999.000,9, -999.000,9,   2328.9,2,   2418.6,2,   7.5412,4,    25.00,  -999.00,9,  -999.00,9,   1.4763,2,     1329
  49RY20120726,   40N,    56,  1,      8,     81,2,20120830,1249, 35.9917, 169.9877, 5219,   3812.8,   1.4645,   1.4645,2,  34.6794,2,  34.6785,2,    145.6,2,    145.4,2,   153.03,2,    36.39,2,     0.00,2,     2.53,2,    0.006,2,    0.001,2,   2321.3,3,   2417.3,2,   7.5527,4,    25.00,  -999.00,9,  -999.00,9,   1.4645,2,     1323
  49RY20120726,   40N,    56,  1,      7,    106,2,20120830,1249, 35.9917, 169.9877, 5219,   4069.5,   1.4622,   1.4622,2,  34.6826,2,  34.6814,2,    149.6,2,    149.6,2,   151.95,2,    36.42,2,     0.00,2,     2.51,2, -999.000,9, -999.000,9,   2326.4,2,   2416.7,2,   7.5596,4,    25.00,  -999.00,9,  -999.00,9,   1.4622,2,     1317
  49RY20120726,   40N,    56,  1,      6,    113,2,20120830,1249, 35.9917, 169.9877, 5219,   4069.5,   1.4622,   1.4622,2,  34.6826,2,  34.6824,2,    149.6,2,    149.6,6,   151.66,6,    36.20,6,     0.00,6,     2.51,6, -999.000,9, -999.000,9,   2324.1,2,   2415.1,2,   7.5599,4,    25.00,  -999.00,9,  -999.00,9,   1.4622,2,     1317
  49RY20120726,   40N,    56,  1,      5,     94,2,20120830,1249, 35.9917, 169.9877, 5219,   4324.8,   1.4648,   1.4648,2,  34.6856,2,  34.6855,2,    153.2,2,    153.1,2,   151.24,2,    35.94,2,     0.00,2,     2.49,2, -999.000,9, -999.000,9,   2312.5,3,   2415.3,2,   7.5639,4,    25.00,  -999.00,9,  -999.00,9,   1.4648,2,     1311
  49RY20120726,   40N,    56,  1,      4,     77,2,20120830,1249, 35.9917, 169.9877, 5219,   4583.3,   1.4769,   1.4771,2,  34.6875,2,  34.6875,2,    155.6,2,    155.4,2,   150.96,2,    35.84,2,     0.00,2,     2.48,2,    0.005,2,    0.006,2,   2324.3,2,   2416.1,2,   7.5696,4,    25.00,  -999.00,9,  -999.00,9,   1.4771,2,     1305
  49RY20120726,   40N,    56,  1,      3,    104,2,20120830,1249, 35.9917, 169.9877, 5219,   4842.4,   1.4981,   1.4981,2,  34.6886,2,  34.6887,2,    156.9,2,    156.7,2,   150.83,2,    35.79,2,     0.00,2,     2.47,2, -999.000,9, -999.000,9,   2310.8,3,   2416.1,2,   7.5728,4,    25.00,  -999.00,9,  -999.00,9,   1.4981,2,     1259
  49RY20120726,   40N,    56,  1,      2,     75,2,20120830,1249, 35.9917, 169.9877, 5219,   5098.0,   1.5053,   1.5051,2,  34.6905,2,  34.6903,2,    161.6,2,    161.6,2,   145.68,2,    35.50,2,     0.00,2,     2.45,2, -999.000,9, -999.000,9,   2320.1,2,   2412.3,2,   7.5777,4,    25.00,  -999.00,9,  -999.00,9,   1.5051,2,     1254
  49RY20120726,   40N,    56,  1,      1,    997,2,20120830,1249, 35.9917, 169.9877, 5219,   5327.4,   1.5011,   1.5009,2,  34.6933,2,  34.6938,2,    167.6,2,    167.6,2,   140.02,2,    34.93,2,     0.00,2,     2.41,2,    0.010,2,    0.006,2,   2302.1,2,   2410.0,2,   7.5845,4,    25.00,  -999.00,9,  -999.00,9,   1.5009,2,     1249