BOTTLE,20210419PRINUNIVRMK
EXPOCODE,SECT_ID,STNNBR,CASTNO,SAMPNO,BTLNBR,BTLNBR_FLAG_W,DATE,TIME,LATITUDE,LONGITUDE,DEPTH,CTDPRS,CTDTMP,SBE35,SBE35_FLAG_W,CTDSAL,CTDSAL_FLAG_W,SALNTY,SALNTY_FLAG_W,CTDOXY,CTDOXY_FLAG_W,OXYGEN,OXYGEN_FLAG_W,SILCAT,SILCAT_FLAG_W,NITRAT,NITRAT_FLAG_W,NITRIT,NITRIT_FLAG_W,PHSPHT,PHSPHT_FLAG_W,CFC-11,CFC-11_FLAG_W,CFC-12,CFC-12_FLAG_W,TCARBN,TCARBN_FLAG_W,ALKALI,ALKALI_FLAG_W,PH_TOT,PH_TOT_FLAG_W,PH_TMP,CHLORA,CHLORA_FLAG_W,PPHYTN,PPHYTN_FLAG_W,SBE35,SBE35_FLAG_W,BTL_TIME
,,,,,,,,,,,METERS,DBAR,ITS-90,,,PSS-78,,PSS-78,,UMOL/KG,,UMOL/KG,,UMOL/KG,,UMOL/KG,,UMOL/KG,,UMOL/KG,,PMOL/KG,,PMOL/KG,,UMOL/KG,,UMOL/KG,,,,DEG C,UG/KG,,UG/KG,,,,
  49RY20120726,   40N,    61,  1,     36,    109,2,20120831,2315, 33.4892, 169.9848, 5731,     11.3,  26.2793,  26.2875,2,  34.7679,2,-999.0000,9,    206.3,2,    207.0,2,     1.67,2,     0.03,2,     0.00,2,     0.02,2, -999.000,9, -999.000,9,   -999.0,9,   -999.0,9,-999.0000,9,  -999.00,  -999.00,9,  -999.00,9,  26.2875,2,      204
  49RY20120726,   40N,    61,  1,     35,    112,2,20120831,2315, 33.4892, 169.9848, 5731,     52.6,  21.5605,  21.5391,2,  34.9581,2,-999.0000,9,    238.5,2,    239.2,2,     1.80,2,     0.03,2,     0.00,2,     0.01,2, -999.000,9, -999.000,9,   -999.0,9,   -999.0,9,-999.0000,9,  -999.00,  -999.00,9,  -999.00,9,  21.5391,2,      201
  49RY20120726,   40N,    61,  1,     34,     83,2,20120831,2315, 33.4892, 169.9848, 5731,    102.4,  18.6469,  18.6471,2,  34.7464,2,-999.0000,9,    228.4,2,    228.2,6,     2.40,6,     0.04,6,     0.00,6,     0.05,6, -999.000,9, -999.000,9,   -999.0,9,   -999.0,9,-999.0000,9,  -999.00,  -999.00,9,  -999.00,9,  18.6471,2,      200
  49RY20120726,   40N,    61,  1,     33,     86,2,20120831,2315, 33.4892, 169.9848, 5731,    153.1,  17.3285,  17.3274,2,  34.6848,2,-999.0000,9,    215.9,2,    215.7,2,     3.43,2,     3.34,2,     0.02,2,     0.24,2, -999.000,9, -999.000,9,   -999.0,9,   -999.0,9,-999.0000,9,  -999.00,  -999.00,9,  -999.00,9,  17.3274,2,      158
  49RY20120726,   40N,    61,  1,     32,    105,2,20120831,2315, 33.4892, 169.9848, 5731,    203.2,  16.7747,  16.7745,2,  34.6811,2,-999.0000,9,    219.4,2,    220.1,2,     4.10,2,     4.30,2,     0.01,2,     0.29,2, -999.000,9, -999.000,9,   -999.0,9,   -999.0,9,-999.0000,9,  -999.00,  -999.00,9,  -999.00,9,  16.7745,2,      154
  49RY20120726,   40N,    61,  1,     31,     76,2,20120831,2315, 33.4892, 169.9848, 5731,    254.9,  16.1800,  16.1802,2,  34.6417,2,-999.0000,9,    221.7,2,    221.6,2,     5.10,2,     4.95,2,     0.01,2,     0.33,2, -999.000,9, -999.000,9,   -999.0,9,   -999.0,9,-999.0000,9,  -999.00,  -999.00,9,  -999.00,9,  16.1802,2,      146
  49RY20120726,   40N,    61,  1,     30,     97,2,20120831,2315, 33.4892, 169.9848, 5731,    287.3,  15.8791,  15.8783,2,  34.6232,2,-999.0000,9,    221.6,2,    221.2,2,     5.77,2,     5.42,2,     0.01,2,     0.37,2, -999.000,9, -999.000,9,   -999.0,9,   -999.0,9,-999.0000,9,  -999.00,  -999.00,9,  -999.00,9,  15.8783,2,      145
  49RY20120726,   40N,    61,  1,     29,    102,2,20120831,2315, 33.4892, 169.9848, 5731,    377.7,  14.1970,  14.1996,2,  34.4783,2,-999.0000,9,    205.3,2,    205.2,2,     9.96,2,     9.31,2,     0.00,2,     0.64,2, -999.000,9, -999.000,9,   -999.0,9,   -999.0,9,-999.0000,9,  -999.00,  -999.00,9,  -999.00,9,  14.1996,2,      142
  49RY20120726,   40N,    61,  1,     28,     91,2,20120831,2315, 33.4892, 169.9848, 5731,    477.9,  11.9997,  12.0000,2,  34.3604,2,-999.0000,9,    183.4,2,    183.7,6,    21.08,6,    15.21,6,     0.00,6,     1.06,6, -999.000,9, -999.000,9,   -999.0,9,   -999.0,9,-999.0000,9,  -999.00,  -999.00,9,  -999.00,9,  12.0000,2,      139
  49RY20120726,   40N,    61,  1,     27,    998,2,20120831,2315, 33.4892, 169.9848, 5731,    576.2,   9.1598,   9.1612,2,  34.1243,2,-999.0000,9,    191.0,2,    190.6,2,    30.72,2,    19.32,2,     0.00,2,     1.38,2, -999.000,9, -999.000,9,   -999.0,9,   -999.0,9,-999.0000,9,  -999.00,  -999.00,9,  -999.00,9,   9.1612,2,      137
  49RY20120726,   40N,    61,  1,     26,     84,2,20120831,2315, 33.4892, 169.9848, 5731,    676.3,   6.5584,   6.5586,2,  34.0018,2,-999.0000,9,    150.3,2,    150.4,2,    53.77,2,    27.97,2,     0.00,2,     2.02,2, -999.000,9, -999.000,9,   -999.0,9,   -999.0,9,-999.0000,9,  -999.00,  -999.00,9,  -999.00,9,   6.5586,2,      134
  49RY20120726,   40N,    61,  1,     25,     98,2,20120831,2315, 33.4892, 169.9848, 5731,    778.8,   5.1576,   5.1576,2,  34.0191,2,-999.0000,9,    110.6,2,    109.9,2,    75.10,2,    34.09,2,     0.00,2,     2.47,2, -999.000,9, -999.000,9,   -999.0,9,   -999.0,9,-999.0000,9,  -999.00,  -999.00,9,  -999.00,9,   5.1576,2,      128
  49RY20120726,   40N,    61,  1,     24,    110,2,20120831,2315, 33.4892, 169.9848, 5731,    881.1,   4.5366,   4.5377,2,  34.1242,2,-999.0000,9,     72.4,2,     72.7,2,    93.50,2,    38.06,2,     0.00,2,     2.74,2, -999.000,9, -999.000,9,   -999.0,9,   -999.0,9,-999.0000,9,  -999.00,  -999.00,9,  -999.00,9,   4.5377,2,      116
  49RY20120726,   40N,    61,  1,     23,     96,3,20120831,2315, 33.4892, 169.9848, 5731,    981.6,   4.0111,   4.0147,2,  34.2196,2,-999.0000,9,     51.6,2,     51.9,2,   109.89,2,    40.36,2,     0.00,2,     2.89,2, -999.000,9, -999.000,9,   -999.0,9,   -999.0,9,-999.0000,9,  -999.00,  -999.00,9,  -999.00,9,   4.0147,2,      113
  49RY20120726,   40N,    61,  1,     22,    111,2,20120831,2315, 33.4892, 169.9848, 5731,   1144.2,   3.4086,   3.4087,2,  34.3231,2,-999.0000,9,     35.9,2,     36.0,2,   127.99,2,    42.21,2,     0.00,2,     3.03,2, -999.000,9, -999.000,9,   -999.0,9,   -999.0,9,-999.0000,9,  -999.00,  -999.00,9,  -999.00,9,   3.4087,2,      109
  49RY20120726,   40N,    61,  1,     21,     78,2,20120831,2315, 33.4892, 169.9848, 5731,   1345.7,   2.9153,   2.9153,2,  34.4190,2,-999.0000,9,     31.8,2,     31.4,2,   143.58,2,    43.03,2,     0.00,2,     3.07,2, -999.000,9, -999.000,9,   -999.0,9,   -999.0,9,-999.0000,9,  -999.00,  -999.00,9,  -999.00,9,   2.9153,2,      104
  49RY20120726,   40N,    61,  1,     20,     93,2,20120831,2315, 33.4892, 169.9848, 5731,   1549.9,   2.5423,   2.5423,2,  34.4861,2,-999.0000,9,     35.9,2,     35.7,2,   153.65,2,    43.17,2,     0.00,2,     3.06,2, -999.000,9, -999.000,9,   -999.0,9,   -999.0,9,-999.0000,9,  -999.00,  -999.00,9,  -999.00,9,   2.5423,2,       58
  49RY20120726,   40N,    61,  1,     19,     92,2,20120831,2315, 33.4892, 169.9848, 5731,   1752.1,   2.2562,   2.2565,2,  34.5344,2,-999.0000,9,     47.5,2,     47.2,6,   160.80,6,    42.61,6,     0.00,6,     3.02,6, -999.000,9, -999.000,9,   -999.0,9,   -999.0,9,-999.0000,9,  -999.00,  -999.00,9,  -999.00,9,   2.2565,2,       54
  49RY20120726,   40N,    61,  1,     18,    101,2,20120831,2315, 33.4892, 169.9848, 5731,   1955.6,   2.0467,   2.0466,2,  34.5719,2,-999.0000,9,     61.0,2,     60.7,2,   164.27,2,    41.72,2,     0.00,2,     2.95,2, -999.000,9, -999.000,9,   -999.0,9,   -999.0,9,-999.0000,9,  -999.00,  -999.00,9,  -999.00,9,   2.0466,2,       47
  49RY20120726,   40N,    61,  1,     17,     90,2,20120831,2315, 33.4892, 169.9848, 5731,   2158.1,   1.8939,   1.8937,2,  34.6008,2,-999.0000,9,     75.9,2,     75.4,2,   164.82,2,    40.97,2,     0.00,2,     2.88,2, -999.000,9, -999.000,9,   -999.0,9,   -999.0,9,-999.0000,9,  -999.00,  -999.00,9,  -999.00,9,   1.8937,2,       42
  49RY20120726,   40N,    61,  1,     16,     89,3,20120831,2315, 33.4892, 169.9848, 5731,   2361.1,   1.7744,   1.7744,2,  34.6216,2,-999.0000,9,     89.9,2,     89.3,2,   163.82,2,    40.02,2,     0.00,2,     2.82,2, -999.000,9, -999.000,9,   -999.0,9,   -999.0,9,-999.0000,9,  -999.00,  -999.00,9,  -999.00,9,   1.7744,2,       38
  49RY20120726,   40N,    61,  1,     15,     88,2,20120831,2315, 33.4892, 169.9848, 5731,   2567.0,   1.6761,   1.6761,2,  34.6378,2,-999.0000,9,    102.8,2,    102.1,2,   162.46,2,    39.23,2,     0.00,2,     2.76,2, -999.000,9, -999.000,9,   -999.0,9,   -999.0,9,-999.0000,9,  -999.00,  -999.00,9,  -999.00,9,   1.6761,2,       32
  49RY20120726,   40N,    61,  1,     14,    999,2,20120831,2315, 33.4892, 169.9848, 5731,   2769.3,   1.6130,   1.6129,2,  34.6492,2,-999.0000,9,    113.0,2,    112.8,2,   160.52,2,    38.62,2,     0.00,2,     2.71,2, -999.000,9, -999.000,9,   -999.0,9,   -999.0,9,-999.0000,9,  -999.00,  -999.00,9,  -999.00,9,   1.6129,2,       27
  49RY20120726,   40N,    61,  1,     13,    667,3,20120831,2315, 33.4892, 169.9848, 5731,   2975.2,   1.5577,   1.5578,2,  34.6591,2,-999.0000,9,    122.7,2,    122.4,2,   158.44,2,    37.93,2,     0.00,2,     2.65,2, -999.000,9, -999.000,9,   -999.0,9,   -999.0,9,-999.0000,9,  -999.00,  -999.00,9,  -999.00,9,   1.5578,2,       22
  49RY20120726,   40N,    61,  1,     12,     74,2,20120831,2315, 33.4892, 169.9848, 5731,   3218.3,   1.5145,   1.5144,2,  34.6671,2,-999.0000,9,    131.2,2,    130.9,2,   156.20,2,    37.32,2,     0.00,2,     2.60,2, -999.000,9, -999.000,9,   -999.0,9,   -999.0,9,-999.0000,9,  -999.00,  -999.00,9,  -999.00,9,   1.5144,2,       16
  49RY20120726,   40N,    61,  1,     11,    996,2,20120831,2315, 33.4892, 169.9848, 5731,   3473.8,   1.4846,   1.4844,2,  34.6735,2,-999.0000,9,    138.6,2,    138.7,2,   154.56,2,    36.86,2,     0.00,2,     2.57,2, -999.000,9, -999.000,9,   -999.0,9,   -999.0,9,-999.0000,9,  -999.00,  -999.00,9,  -999.00,9,   1.4844,2,       11
  49RY20120726,   40N,    61,  1,     10,    107,2,20120831,2315, 33.4892, 169.9848, 5731,   3731.1,   1.4665,   1.4666,2,  34.6786,2,-999.0000,9,    144.6,2,    144.1,2,   152.78,2,    36.45,2,     0.00,2,     2.54,2, -999.000,9, -999.000,9,   -999.0,9,   -999.0,9,-999.0000,9,  -999.00,  -999.00,9,  -999.00,9,   1.4666,2,        4
  49RY20120726,   40N,    61,  1,      9,    108,2,20120831,2315, 33.4892, 169.9848, 5731,   3986.9,   1.4593,   1.4594,2,  34.6823,2,-999.0000,9,    149.2,2,    149.9,2,   151.57,2,    36.09,2,     0.00,2,     2.51,2, -999.000,9, -999.000,9,   -999.0,9,   -999.0,9,-999.0000,9,  -999.00,  -999.00,9,  -999.00,9,   1.4594,2,     2359
  49RY20120726,   40N,    61,  1,      8,     81,2,20120831,2315, 33.4892, 169.9848, 5731,   4243.7,   1.4613,   1.4614,2,  34.6850,2,-999.0000,9,    152.8,2,    153.0,6,   150.38,6,    35.88,6,     0.00,6,     2.49,6, -999.000,9, -999.000,9,   -999.0,9,   -999.0,9,-999.0000,9,  -999.00,  -999.00,9,  -999.00,9,   1.4614,2,     2352
  49RY20120726,   40N,    61,  1,      7,    106,2,20120831,2315, 33.4892, 169.9848, 5731,   4500.5,   1.4687,   1.4688,2,  34.6873,2,-999.0000,9,    156.1,2,    155.1,3,   149.20,2,    35.73,2,     0.00,2,     2.48,2, -999.000,9, -999.000,9,   -999.0,9,   -999.0,9,-999.0000,9,  -999.00,  -999.00,9,  -999.00,9,   1.4688,2,     2347
  49RY20120726,   40N,    61,  1,      6,    113,2,20120831,2315, 33.4892, 169.9848, 5731,   4757.5,   1.4753,   1.4755,2,  34.6896,2,-999.0000,9,    160.1,2,    160.2,2,   146.04,2,    35.46,2,     0.00,2,     2.46,2, -999.000,9, -999.000,9,   -999.0,9,   -999.0,9,-999.0000,9,  -999.00,  -999.00,9,  -999.00,9,   1.4755,2,     2341
  49RY20120726,   40N,    61,  1,      5,     94,2,20120831,2315, 33.4892, 169.9848, 5731,   5014.4,   1.4805,   1.4805,2,  34.6920,2,-999.0000,9,    164.8,2,    164.7,2,   142.40,2,    34.97,2,     0.00,2,     2.43,2, -999.000,9, -999.000,9,   -999.0,9,   -999.0,9,-999.0000,9,  -999.00,  -999.00,9,  -999.00,9,   1.4805,2,     2335
  49RY20120726,   40N,    61,  1,      4,     77,2,20120831,2315, 33.4892, 169.9848, 5731,   5272.4,   1.4903,   1.4904,2,  34.6938,2,-999.0000,9,    168.7,2,    168.7,2,   138.51,2,    34.79,2,     0.00,2,     2.40,2, -999.000,9, -999.000,9,   -999.0,9,   -999.0,9,-999.0000,9,  -999.00,  -999.00,9,  -999.00,9,   1.4904,2,     2330
  49RY20120726,   40N,    61,  1,      3,    104,2,20120831,2315, 33.4892, 169.9848, 5731,   5529.7,   1.5095,   1.5096,2,  34.6949,2,-999.0000,9,    171.2,2,    170.6,2,   136.68,2,    34.65,2,     0.00,2,     2.39,2, -999.000,9, -999.000,9,   -999.0,9,   -999.0,9,-999.0000,9,  -999.00,  -999.00,9,  -999.00,9,   1.5096,2,     2324
  49RY20120726,   40N,    61,  1,      2,     75,2,20120831,2315, 33.4892, 169.9848, 5731,   5788.8,   1.5291,   1.5289,2,  34.6957,2,-999.0000,9,    173.6,2,    173.4,2,   134.59,2,    34.40,2,     0.00,2,     2.37,2, -999.000,9, -999.000,9,   -999.0,9,   -999.0,9,-999.0000,9,  -999.00,  -999.00,9,  -999.00,9,   1.5289,2,     2318
  49RY20120726,   40N,    61,  1,      1,    997,2,20120831,2315, 33.4892, 169.9848, 5731,   5844.1,   1.5355,   1.5355,2,  34.6958,2,-999.0000,9,    173.9,2,    173.7,2,   134.27,2,    34.46,2,     0.00,2,     2.38,2, -999.000,9, -999.000,9,   -999.0,9,   -999.0,9,-999.0000,9,  -999.00,  -999.00,9,  -999.00,9,   1.5355,2,     2316