BOTTLE,20210419PRINUNIVRMK
EXPOCODE,SECT_ID,STNNBR,CASTNO,SAMPNO,BTLNBR,BTLNBR_FLAG_W,DATE,TIME,LATITUDE,LONGITUDE,DEPTH,CTDPRS,CTDTMP,SBE35,SBE35_FLAG_W,CTDSAL,CTDSAL_FLAG_W,SALNTY,SALNTY_FLAG_W,CTDOXY,CTDOXY_FLAG_W,OXYGEN,OXYGEN_FLAG_W,SILCAT,SILCAT_FLAG_W,NITRAT,NITRAT_FLAG_W,NITRIT,NITRIT_FLAG_W,PHSPHT,PHSPHT_FLAG_W,CFC-11,CFC-11_FLAG_W,CFC-12,CFC-12_FLAG_W,TCARBN,TCARBN_FLAG_W,ALKALI,ALKALI_FLAG_W,PH_TOT,PH_TOT_FLAG_W,PH_TMP,CHLORA,CHLORA_FLAG_W,PPHYTN,PPHYTN_FLAG_W,SBE35,SBE35_FLAG_W,BTL_TIME
,,,,,,,,,,,METERS,DBAR,ITS-90,,,PSS-78,,PSS-78,,UMOL/KG,,UMOL/KG,,UMOL/KG,,UMOL/KG,,UMOL/KG,,UMOL/KG,,PMOL/KG,,PMOL/KG,,UMOL/KG,,UMOL/KG,,,,DEG C,UG/KG,,UG/KG,,,,
  49RY20120726,   40N,     6,  1,     36,    109,2,20120729,0020, 40.0170, 144.5152, 6524,     12.3,  15.9381,  15.9257,2,  33.7232,2,  33.7866,4,    261.4,2,    259.2,2,     1.29,2,     0.00,2,     0.00,2,     0.05,2, -999.000,9, -999.000,9,   1996.8,2,   2252.3,2,   7.9894,2,    25.00,  -999.00,9,  -999.00,9,  15.9257,2,      249
  49RY20120726,   40N,     6,  1,     35,    112,2,20120729,0020, 40.0170, 144.5152, 6524,     52.3,   7.8764,   7.8792,2,  33.6076,2,  33.6425,4,    287.7,2,    287.1,2,    10.20,2,     8.30,2,     0.19,2,     0.79,2, -999.000,9, -999.000,9,   2072.1,2,   2255.5,2,   7.8435,2,    25.00,  -999.00,9,  -999.00,9,   7.8792,2,      243
  49RY20120726,   40N,     6,  1,     34,     83,2,20120729,0020, 40.0170, 144.5152, 6524,    104.8,   3.5634,   3.6887,2,  33.2959,2,  33.2694,2,    293.2,2,    295.0,2,    29.31,2,    18.73,2,     0.19,2,     1.59,2, -999.000,9, -999.000,9,   2131.1,2,   2245.3,2,   7.6725,2,    25.00,  -999.00,9,  -999.00,9,   3.6887,2,      241
  49RY20120726,   40N,     6,  1,     33,     86,3,20120729,0020, 40.0170, 144.5152, 6524,    153.1,   2.7168,   2.7167,2,  33.3292,2,  33.3273,2,    281.1,2,    282.2,2,    37.40,2,    22.01,2,     0.01,2,     1.75,2, -999.000,9, -999.000,9,   2154.8,2,   2246.0,2,   7.6174,2,    25.00,  -999.00,9,  -999.00,9,   2.7167,2,      239
  49RY20120726,   40N,     6,  1,     32,    105,2,20120729,0020, 40.0170, 144.5152, 6524,    203.4,   2.5256,   2.5271,2,  33.3749,2,  33.3673,2,    270.7,2,    271.1,2,    45.07,2,    24.50,2,     0.01,2,     1.90,2, -999.000,9, -999.000,9,   2169.2,6,   2252.3,6,   7.5875,2,    25.00,  -999.00,9,  -999.00,9,   2.5271,2,      237
  49RY20120726,   40N,     6,  1,     31,     76,2,20120729,0020, 40.0170, 144.5152, 6524,    253.7,   2.2794,   2.2821,2,  33.4213,2,  33.4205,2,    239.8,2,    240.3,2,    55.73,2,    28.06,2,     0.02,2,     2.16,2, -999.000,9, -999.000,9,   2192.7,2,   2260.0,2,   7.5269,6,    25.00,  -999.00,9,  -999.00,9,   2.2821,2,      234
  49RY20120726,   40N,     6,  1,     30,    103,2,20120729,0020, 40.0170, 144.5152, 6524,    338.0,   4.2593,   4.2633,2,  33.8042,2,  33.8074,2,    150.6,2,    150.0,6,    68.99,6,    32.15,6,     0.02,6,     2.39,6, -999.000,9, -999.000,9,   2241.1,2,   2285.2,2,   7.4721,2,    25.00,  -999.00,9,  -999.00,9,   4.2633,2,      232
  49RY20120726,   40N,     6,  1,     29,    102,2,20120729,0020, 40.0170, 144.5152, 6524,    434.7,   4.1625,   4.1648,2,  33.9335,2,  33.9385,2,    106.5,2,    104.7,2,    83.95,2,    36.10,2,     0.01,2,     2.65,2, -999.000,9, -999.000,9,   2271.2,2,   2301.8,2,   7.3994,2,    25.00,  -999.00,9,  -999.00,9,   4.1648,2,      229
  49RY20120726,   40N,     6,  1,     28,     91,2,20120729,0020, 40.0170, 144.5152, 6524,    538.1,   4.2179,   4.2204,2,  34.0988,2,  34.1001,2,     70.9,2,     70.3,2,    98.11,2,    38.84,2,     0.00,2,     2.81,2, -999.000,9, -999.000,9,   2306.4,2,   2321.7,2,   7.3702,2,    25.00,  -999.00,9,  -999.00,9,   4.2204,2,      226
  49RY20120726,   40N,     6,  1,     27,    998,2,20120729,0020, 40.0170, 144.5152, 6524,    639.1,   3.9403,   3.9147,2,  34.1797,2,  34.1591,4,     54.5,2,     53.0,2,   110.40,2,    40.62,2,     0.00,2,     2.94,2, -999.000,9, -999.000,9,   2330.6,2,   2333.7,2,   7.3382,3,    25.00,  -999.00,9,  -999.00,9,   3.9147,2,      223
  49RY20120726,   40N,     6,  1,     26,     99,3,20120729,0020, 40.0170, 144.5152, 6524,    739.3,   3.8456,   3.8452,2,  34.2737,2,  34.2695,2,     50.8,2,     50.6,2,   116.48,2,    40.57,2,     0.00,2,     2.92,2, -999.000,9, -999.000,9,   2329.4,3,   2348.2,2,   7.3621,2,    25.00,  -999.00,9,  -999.00,9,   3.8452,2,      220
  49RY20120726,   40N,     6,  1,     25,     98,2,20120729,0020, 40.0170, 144.5152, 6524,    839.5,   3.5307,   3.5308,2,  34.3230,2,  34.3237,2,     46.3,2,     45.7,2,   125.07,2,    41.46,2,     0.00,2,     2.99,2, -999.000,9, -999.000,9,   2349.0,6,   2360.7,6,   7.3565,2,    25.00,  -999.00,9,  -999.00,9,   3.5308,2,      217
  49RY20120726,   40N,     6,  1,     24,    110,3,20120729,0020, 40.0170, 144.5152, 6524,    941.5,   3.2773,   3.2775,2,  34.3588,2,  34.3595,2,     43.7,2,     43.4,2,   131.95,2,    41.52,2,     0.00,2,     3.01,2, -999.000,9, -999.000,9,   2339.7,3,   2368.3,2,   7.3531,6,    25.00,  -999.00,9,  -999.00,9,   3.2775,2,      214
  49RY20120726,   40N,     6,  1,     23,     96,2,20120729,0020, 40.0170, 144.5152, 6524,   1083.5,   2.9517,   2.9517,2,  34.4097,2,  34.4087,2,     40.4,2,     40.2,6,   141.18,6,    42.31,6,     0.00,6,     3.05,6, -999.000,9, -999.000,9,   2354.5,3,   2379.9,2,   7.3523,2,    25.00,  -999.00,9,  -999.00,9,   2.9517,2,      210
  49RY20120726,   40N,     6,  1,     22,    111,2,20120729,0020, 40.0170, 144.5152, 6524,   1286.4,   2.6195,   2.6195,2,  34.4628,2,  34.4632,6,     41.2,2,     40.8,2,   151.33,2,    42.87,2,     0.00,2,     3.06,2, -999.000,9, -999.000,9,   2376.3,2,   2390.4,2,   7.3539,2,    25.00,  -999.00,9,  -999.00,9,   2.6195,2,      206
  49RY20120726,   40N,     6,  1,     21,     78,2,20120729,0020, 40.0170, 144.5152, 6524,   1488.7,   2.3846,   2.3840,2,  34.5081,2,  34.5094,2,     46.4,2,     46.3,2,   156.96,2,    42.39,2,     0.00,2,     3.04,2, -999.000,9, -999.000,9,   2376.5,2,   2396.0,2,   7.3685,2,    25.00,  -999.00,9,  -999.00,9,   2.3840,2,      202
  49RY20120726,   40N,     6,  1,     20,     93,2,20120729,0020, 40.0170, 144.5152, 6524,   1692.2,   2.1936,   2.1936,2,  34.5461,2,  34.5460,2,     55.4,2,     55.3,2,   160.65,2,    42.11,2,     0.00,2,     3.00,2, -999.000,9, -999.000,9,   2384.7,2,   2402.7,6,   7.3912,2,    25.00,  -999.00,9,  -999.00,9,   2.1936,2,      157
  49RY20120726,   40N,     6,  1,     19,     92,3,20120729,0020, 40.0170, 144.5152, 6524,   1896.1,   2.0504,   2.0504,2,  34.5758,2,  34.5745,2,     67.9,2,     67.4,2,   161.14,2,    41.34,2,     0.00,2,     2.94,2, -999.000,9, -999.000,9,   2364.7,3,   2407.2,2,   7.4168,6,    25.00,  -999.00,9,  -999.00,9,   2.0504,2,      152
  49RY20120726,   40N,     6,  1,     18,    101,2,20120729,0020, 40.0170, 144.5152, 6524,   2098.4,   1.9350,   1.9349,2,  34.5980,2,  34.5974,2,     80.4,2,     80.5,6,   160.74,6,    40.68,6,     0.00,6,     2.88,6, -999.000,9, -999.000,9,   2372.3,2,   2411.3,2,   7.4389,2,    25.00,  -999.00,9,  -999.00,9,   1.9349,2,      147
  49RY20120726,   40N,     6,  1,     17,     90,2,20120729,0020, 40.0170, 144.5152, 6524,   2302.8,   1.8197,   1.8197,2,  34.6181,2,  34.6184,6,     93.0,2,     92.6,2,   160.24,2,    39.87,2,     0.00,2,     2.82,2, -999.000,9, -999.000,9,   2364.8,2,   2412.7,2,   7.4632,2,    25.00,  -999.00,9,  -999.00,9,   1.8197,2,      143
  49RY20120726,   40N,     6,  1,     16,     89,3,20120729,0020, 40.0170, 144.5152, 6524,   2506.5,   1.7391,   1.7391,2,  34.6319,2,  34.6323,2,    102.3,2,    101.9,2,   159.82,2,    39.30,2,     0.00,2,     2.78,2, -999.000,9, -999.000,9,   2354.4,2,   2415.8,2,   7.4834,2,    25.00,  -999.00,9,  -999.00,9,   1.7391,2,      138
  49RY20120726,   40N,     6,  1,     15,     88,2,20120729,0020, 40.0170, 144.5152, 6524,   2710.3,   1.6759,   1.6759,2,  34.6428,2,  34.6436,2,    111.1,2,    110.8,2,   158.61,2,    38.84,2,     0.00,2,     2.73,2, -999.000,9, -999.000,9,   2351.6,2,   2416.5,2,   7.4967,2,    25.00,  -999.00,9,  -999.00,9,   1.6759,2,      133
  49RY20120726,   40N,     6,  1,     14,    999,2,20120729,0020, 40.0170, 144.5152, 6524,   2914.4,   1.6275,   1.6276,2,  34.6515,2,  34.6526,2,    118.5,2,    118.4,2,   157.49,2,    38.11,2,     0.00,2,     2.69,2, -999.000,9, -999.000,9,   2349.7,6,   2416.6,6,   7.5096,2,    25.00,  -999.00,9,  -999.00,9,   1.6276,2,      129
  49RY20120726,   40N,     6,  1,     13,    996,4,20120729,0020, 40.0170, 144.5152, 6524,   3129.5,   1.5938,   1.5939,2,  34.6582,2,  34.3533,4,    124.7,2,     43.9,4,   130.61,4,    41.61,4,     0.00,4,     3.01,4, -999.000,9, -999.000,9,   2359.8,4,   2362.5,4,   7.3584,4,    25.00,  -999.00,9,  -999.00,9,   1.5939,2,      124
  49RY20120726,   40N,     6,  1,     12,     74,2,20120729,0020, 40.0170, 144.5152, 6524,   3383.8,   1.5572,   1.5574,2,  34.6653,2,  34.6652,2,    131.3,2,    131.4,2,   155.05,2,    37.72,2,     0.00,2,     2.63,2, -999.000,9, -999.000,9,   2338.9,2,   2416.1,2,   7.5348,2,    25.00,  -999.00,9,  -999.00,9,   1.5574,2,      118
  49RY20120726,   40N,     6,  1,     11,     97,3,20120729,0020, 40.0170, 144.5152, 6524,   3641.6,   1.5266,   1.5267,2,  34.6716,2,  34.6696,4,    137.8,2,    136.9,2,   153.89,2,    37.18,2,     0.00,2,     2.60,2, -999.000,9, -999.000,9,   2337.3,2,   2418.2,2,   7.5418,2,    25.00,  -999.00,9,  -999.00,9,   1.5267,2,      113
  49RY20120726,   40N,     6,  1,     10,    107,2,20120729,0020, 40.0170, 144.5152, 6524,   3897.1,   1.5106,   1.5107,2,  34.6762,2,  34.6765,2,    143.2,2,    142.9,2,   152.07,2,    36.92,2,     0.00,2,     2.57,2, -999.000,9, -999.000,9,   2333.9,2,   2418.0,2,   7.5568,2,    25.00,  -999.00,9,  -999.00,9,   1.5107,2,      107
  49RY20120726,   40N,     6,  1,      9,    108,2,20120729,0020, 40.0170, 144.5152, 6524,   4154.9,   1.5021,   1.5022,2,  34.6800,2,  34.6794,6,    147.7,2,    147.6,2,   150.76,2,    36.29,2,     0.00,2,     2.54,2, -999.000,9, -999.000,9,   2320.5,3,   2414.0,2,   7.5601,2,    25.00,  -999.00,9,  -999.00,9,   1.5022,2,      102
  49RY20120726,   40N,     6,  1,      8,     81,2,20120729,0020, 40.0170, 144.5152, 6524,   4410.6,   1.5091,   1.5092,2,  34.6824,2,  34.6822,2,    150.5,2,    150.5,2,   150.07,2,    36.23,2,     0.00,2,     2.53,2, -999.000,9, -999.000,9,   2318.8,3,   2415.0,2,   7.5650,2,    25.00,  -999.00,9,  -999.00,9,   1.5092,2,       57
  49RY20120726,   40N,     6,  1,      7,    106,2,20120729,0020, 40.0170, 144.5152, 6524,   4668.3,   1.5169,   1.5169,2,  34.6847,2,  34.6850,2,    153.5,2,    153.3,2,   148.94,2,    36.08,2,     0.00,2,     2.51,2, -999.000,9, -999.000,9,   2324.6,2,   2414.5,2,   7.5718,2,    25.00,  -999.00,9,  -999.00,9,   1.5169,2,       51
  49RY20120726,   40N,     6,  1,      6,    113,2,20120729,0020, 40.0170, 144.5152, 6524,   4925.5,   1.5280,   1.5281,2,  34.6868,2,  34.6868,2,    156.1,2,    156.1,2,   147.88,2,    35.94,2,     0.00,2,     2.50,2, -999.000,9, -999.000,9,   2312.5,3,   2412.4,2,   7.5759,2,    25.00,  -999.00,9,  -999.00,9,   1.5281,2,       46
  49RY20120726,   40N,     6,  1,      5,     94,2,20120729,0020, 40.0170, 144.5152, 6524,   5183.9,   1.5466,   1.5468,2,  34.6883,2,  34.6873,2,    158.0,2,    157.7,2,   146.70,2,    35.83,2,     0.00,2,     2.50,2, -999.000,9, -999.000,9,   2320.1,2,   2411.3,2,   7.5775,2,    25.00,  -999.00,9,  -999.00,9,   1.5468,2,       41
  49RY20120726,   40N,     6,  1,      4,     77,2,20120729,0020, 40.0170, 144.5152, 6524,   5442.3,   1.5700,   1.5701,2,  34.6893,2,  34.6886,2,    159.6,2,    160.0,2,   145.74,2,    35.64,2,     0.00,2,     2.47,2, -999.000,9, -999.000,9,   2317.5,2,   2409.9,2,   7.5810,2,    25.00,  -999.00,9,  -999.00,9,   1.5701,2,       35
  49RY20120726,   40N,     6,  1,      3,    104,2,20120729,0020, 40.0170, 144.5152, 6524,   5700.0,   1.5950,   1.5950,2,  34.6902,2,  34.6934,4,    161.0,2,    161.5,2,   144.64,2,    35.61,2,     0.00,2,     2.47,2, -999.000,9, -999.000,9,   2316.5,2,   2410.3,2,   7.5804,2,    25.00,  -999.00,9,  -999.00,9,   1.5950,2,       30
  49RY20120726,   40N,     6,  1,      2,     75,2,20120729,0020, 40.0170, 144.5152, 6524,   5958.4,   1.6246,   1.6246,2,  34.6910,2,  34.6910,2,    162.0,2,    162.2,2,   144.16,2,    35.49,2,     0.00,2,     2.47,2, -999.000,9, -999.000,9,   2307.1,2,   2411.2,2,   7.5813,2,    25.00,  -999.00,9,  -999.00,9,   1.6246,2,       25
  49RY20120726,   40N,     6,  1,      1,    997,2,20120729,0020, 40.0170, 144.5152, 6524,   6144.7,   1.6481,   1.6480,2,  34.6912,2,  34.6915,2,    162.6,2,    162.8,6,   143.87,6,    35.55,6,     0.00,4,     2.47,6, -999.000,9, -999.000,9,   2318.6,2,   2409.7,2,   7.5865,2,    25.00,  -999.00,9,  -999.00,9,   1.6480,2,       20