BOTTLE,20210419PRINUNIVRMK
EXPOCODE,SECT_ID,STNNBR,CASTNO,SAMPNO,BTLNBR,BTLNBR_FLAG_W,DATE,TIME,LATITUDE,LONGITUDE,DEPTH,CTDPRS,CTDTMP,SBE35,SBE35_FLAG_W,CTDSAL,CTDSAL_FLAG_W,SALNTY,SALNTY_FLAG_W,CTDOXY,CTDOXY_FLAG_W,OXYGEN,OXYGEN_FLAG_W,SILCAT,SILCAT_FLAG_W,NITRAT,NITRAT_FLAG_W,NITRIT,NITRIT_FLAG_W,PHSPHT,PHSPHT_FLAG_W,CFC-11,CFC-11_FLAG_W,CFC-12,CFC-12_FLAG_W,TCARBN,TCARBN_FLAG_W,ALKALI,ALKALI_FLAG_W,PH_TOT,PH_TOT_FLAG_W,PH_TMP,CHLORA,CHLORA_FLAG_W,PPHYTN,PPHYTN_FLAG_W,SBE35,SBE35_FLAG_W,BTL_TIME
,,,,,,,,,,,METERS,DBAR,ITS-90,,,PSS-78,,PSS-78,,UMOL/KG,,UMOL/KG,,UMOL/KG,,UMOL/KG,,UMOL/KG,,UMOL/KG,,PMOL/KG,,PMOL/KG,,UMOL/KG,,UMOL/KG,,,,DEG C,UG/KG,,UG/KG,,,,
  49RY20120726,   40N,    50,  1,     13,    667,3,20120828,1655, 38.9768, 170.0270, 5952,      9.7,  22.7738,  22.7729,2,  34.2683,2,  34.2713,4,    218.7,2,    220.2,2,     1.59,2,     0.03,2,     0.00,2,     0.03,2,    2.060,2,    1.199,2,   1983.2,2,   2256.1,2,   8.0041,4,    25.00,     0.10,2,     0.02,2,  22.7729,2,     1942
  49RY20120726,   40N,    50,  1,     36,    109,2,20120828,1655, 38.9768, 170.0270, 5952,     50.0,  16.0213,  16.0211,2,  34.5323,2,  34.5422,4,    254.5,2,    252.3,2,     3.99,2,     1.51,2,     0.12,2,     0.18,3,    2.736,2,    1.494,2,   2020.5,2,   2277.4,2,   7.9671,4,    25.00,     0.83,2,     0.33,2,  16.0211,2,     1939
  49RY20120726,   40N,    50,  1,     35,    112,2,20120828,1655, 38.9768, 170.0270, 5952,    100.5,  13.7217,  13.7262,2,  34.4616,2,  34.4636,2,    219.2,2,    219.6,2,    10.36,2,     8.66,2,     0.02,2,     0.61,2,    2.805,2,    1.577,2,   2066.6,6,   2272.2,6,   7.8662,4,    25.00,     0.10,2,     0.05,2,  13.7262,2,     1937
  49RY20120726,   40N,    50,  1,     34,     83,2,20120828,1655, 38.9768, 170.0270, 5952,    151.1,  12.3249,  12.3211,2,  34.3812,2,  34.3799,2,    222.6,2,    223.3,2,    14.19,2,    10.77,2,     0.02,2,     0.76,2,    2.977,2,    1.664,2,   2084.1,2,   2272.1,2,   7.8324,4,    25.00,     0.01,2,     0.02,2,  12.3211,2,     1935
  49RY20120726,   40N,    50,  1,     33,     86,2,20120828,1655, 38.9768, 170.0270, 5952,    201.4,  11.3210,  11.3201,2,  34.2831,2,  34.2828,2,    241.6,2,    243.0,2,    14.15,2,    10.39,2,     0.02,2,     0.75,2,    3.151,2,    1.768,2,   2080.9,2,   2265.0,2,   7.8243,4,    25.00,  -999.00,5,  -999.00,5,  11.3201,2,     1931
  49RY20120726,   40N,    50,  1,     32,    105,2,20120828,1655, 38.9768, 170.0270, 5952,    251.5,  10.4417,  10.4438,2,  34.1929,2,  34.1952,2,    226.8,2,    228.0,2,    19.30,2,    13.36,2,     0.01,2,     0.97,2,    3.115,2,    1.744,2,   2099.0,2,   2267.6,2,   7.7807,4,    25.00,  -999.00,9,  -999.00,9,  10.4438,2,     1927
  49RY20120726,   40N,    50,  1,     31,     76,2,20120828,1655, 38.9768, 170.0270, 5952,    302.5,   9.3343,   9.3347,2,  34.1043,2,  34.1045,2,    222.6,2,    224.4,2,    24.06,2,    15.71,2,     0.01,2,     1.14,2,    3.203,2,    1.802,2,   2114.1,2,   2266.9,2,   7.7432,4,    25.00,  -999.00,9,  -999.00,9,   9.3347,2,     1925
  49RY20120726,   40N,    50,  1,     30,     97,2,20120828,1655, 38.9768, 170.0270, 5952,    403.9,   6.9024,   6.9004,2,  33.9322,2,  33.9348,2,    191.9,2,    190.4,2,    41.84,2,    23.47,2,     0.01,2,     1.72,2,    3.160,6,    1.724,6,   2174.2,6,   2273.7,6,   7.6203,4,    25.00,  -999.00,9,  -999.00,9,   6.9004,2,     1922
  49RY20120726,   40N,    50,  1,     29,    102,2,20120828,1655, 38.9768, 170.0270, 5952,    504.9,   5.4556,   5.4544,2,  33.9944,2,  33.9942,2,    124.5,2,    124.7,2,    68.82,2,    32.10,2,     0.00,2,     2.33,2,    2.296,2,    1.235,2,   2246.7,2,   2295.4,2,   7.4689,4,    25.00,  -999.00,9,  -999.00,9,   5.4544,2,     1919
  49RY20120726,   40N,    50,  1,     28,     91,2,20120828,1655, 38.9768, 170.0270, 5952,    602.4,   4.6223,   4.6228,2,  34.0346,2,  34.0327,2,     91.2,2,     91.4,6,    85.19,6,    36.40,6,     0.00,6,     2.63,6,    1.771,2,    0.954,2,   2278.1,2,   2309.4,2,   7.3975,4,    25.00,  -999.00,9,  -999.00,9,   4.6228,2,     1917
  49RY20120726,   40N,    50,  1,     27,    998,2,20120828,1655, 38.9768, 170.0270, 5952,    709.1,   4.1980,   4.1973,2,  34.1270,2,  34.1278,2,     63.5,2,     63.6,2,   100.57,2,    39.29,2,     0.00,2,     2.82,2,    1.265,6,    0.630,6,   2311.0,2,   2324.5,2,   7.3526,4,    25.00,  -999.00,9,  -999.00,9,   4.1973,2,     1914
  49RY20120726,   40N,    50,  1,     26,     84,2,20120828,1655, 38.9768, 170.0270, 5952,    809.0,   3.8099,   3.8115,2,  34.2114,2,  34.2114,2,     46.0,2,     46.0,2,   114.32,2,    41.04,2,     0.00,2,     2.94,2,    0.794,2,    0.400,2,   2332.0,2,   2340.7,2,   7.3282,4,    25.00,  -999.00,9,  -999.00,9,   3.8115,2,     1907
  49RY20120726,   40N,    50,  1,     25,     98,2,20120828,1655, 38.9768, 170.0270, 5952,    910.6,   3.4320,   3.4313,2,  34.2810,2,  34.2808,2,     36.6,2,     36.5,2,   126.72,2,    42.12,2,     0.00,2,     3.02,2,    0.508,2,    0.242,2,   2351.2,2,   2354.4,2,   7.3164,4,    25.00,  -999.00,9,  -999.00,9,   3.4313,2,     1904
  49RY20120726,   40N,    50,  1,     24,    110,2,20120828,1655, 38.9768, 170.0270, 5952,   1013.8,   3.2054,   3.2053,2,  34.3302,2,  34.3326,4,     33.5,2,     33.5,2,   134.29,2,    42.40,3,     0.00,2,     3.05,2,    0.344,2,    0.168,2,   2364.9,2,   2363.2,2,   7.3097,4,    25.00,  -999.00,9,  -999.00,9,   3.2053,2,     1901
  49RY20120726,   40N,    50,  1,     23,     96,3,20120828,1655, 38.9768, 170.0270, 5952,   1214.7,   2.8236,   2.8236,2,  34.4065,2,  34.4056,2,     32.4,2,     32.6,2,   146.26,2,    42.99,2,     0.00,2,     3.06,2,    0.169,2,    0.083,2,   2376.8,2,   2379.4,2,   7.3168,4,    25.00,  -999.00,9,  -999.00,9,   2.8236,2,     1856
  49RY20120726,   40N,    50,  1,     22,    111,2,20120828,1655, 38.9768, 170.0270, 5952,   1418.7,   2.5000,   2.4998,2,  34.4736,2,  34.4735,2,     35.4,2,     35.2,2,   156.61,2,    43.17,2,     0.00,2,     3.07,2,    0.075,2,    0.034,2,   2385.8,2,   2392.5,2,   7.3258,4,    25.00,  -999.00,9,  -999.00,9,   2.4998,2,     1846
  49RY20120726,   40N,    50,  1,     21,     78,2,20120828,1655, 38.9768, 170.0270, 5952,   1621.2,   2.2902,   2.2900,2,  34.5135,2,  34.5131,2,     43.1,2,     42.8,2,   161.69,2,    42.70,2,     0.00,2,     3.03,2,    0.039,2,    0.027,2,   2388.8,2,   2400.1,2,   7.3418,4,    25.00,  -999.00,9,  -999.00,9,   2.2900,2,     1840
  49RY20120726,   40N,    50,  1,     20,     93,2,20120828,1655, 38.9768, 170.0270, 5952,   1823.3,   2.1351,   2.1350,2,  34.5476,2,  34.5476,6,     52.4,2,     52.2,2,   164.65,2,    42.19,2,     0.00,2,     2.99,2,    0.013,2,    0.010,2,   2389.0,6,   2404.8,6,   7.3645,4,    25.00,  -999.00,9,  -999.00,9,   2.1350,2,     1836
  49RY20120726,   40N,    50,  1,     19,     92,2,20120828,1655, 38.9768, 170.0270, 5952,   2026.4,   2.0142,   2.0141,2,  34.5731,2,  34.5732,2,     62.0,2,     61.8,2,   166.21,2,    41.69,2,     0.00,2,     2.95,2,    0.000,2,    0.008,2,   2383.2,2,   2409.5,2,   7.3849,4,    25.00,  -999.00,9,  -999.00,9,   2.0141,2,     1824
  49RY20120726,   40N,    50,  1,     18,    101,2,20120828,1655, 38.9768, 170.0270, 5952,   2229.8,   1.8931,   1.8930,2,  34.5976,2,  34.5982,2,     73.1,2,     73.4,6,   167.27,6,    41.12,6,     0.00,6,     2.89,6, -999.000,9, -999.000,9,   2380.1,2,   2411.3,2,   7.4080,4,    25.00,  -999.00,9,  -999.00,9,   1.8930,2,     1820
  49RY20120726,   40N,    50,  1,     17,     90,2,20120828,1655, 38.9768, 170.0270, 5952,   2433.9,   1.7776,   1.7775,2,  34.6192,2,  34.6194,2,     87.2,2,     87.0,2,   166.34,2,    40.23,2,     0.00,2,     2.83,2, -999.000,9, -999.000,9,   2373.0,2,   2414.2,2,   7.4366,4,    25.00,  -999.00,9,  -999.00,9,   1.7775,2,     1811
  49RY20120726,   40N,    50,  1,     16,     89,2,20120828,1655, 38.9768, 170.0270, 5952,   2636.7,   1.6868,   1.6867,2,  34.6355,2,  34.6353,2,    100.4,2,    100.4,2,   164.55,2,    39.43,2,     0.00,2,     2.76,2, -999.000,9, -999.000,9,   2360.7,2,   2414.5,2,   7.4626,4,    25.00,  -999.00,9,  -999.00,9,   1.6867,2,     1806
  49RY20120726,   40N,    50,  1,     15,     88,2,20120828,1655, 38.9768, 170.0270, 5952,   2843.5,   1.6082,   1.6080,2,  34.6493,2,  34.6494,2,    112.2,2,    112.5,2,   162.89,2,    38.65,2,     0.00,2,     2.70,2,    0.000,2,    0.000,2,   2355.5,2,   2417.0,2,   7.4878,4,    25.00,  -999.00,9,  -999.00,9,   1.6080,2,     1802
  49RY20120726,   40N,    50,  1,     14,    999,2,20120828,1655, 38.9768, 170.0270, 5952,   3049.5,   1.5544,   1.5543,2,  34.6588,2,  34.6590,6,    122.4,2,    123.3,2,   160.04,2,    37.97,2,     0.00,2,     2.65,2, -999.000,9, -999.000,9,   2349.0,2,   2415.8,2,   7.5021,4,    25.00,  -999.00,9,  -999.00,9,   1.5543,2,     1756
  49RY20120726,   40N,    50,  1,     12,     74,2,20120828,1655, 38.9768, 170.0270, 5952,   3303.8,   1.5108,   1.5107,2,  34.6675,2,  34.6678,2,    131.7,2,    132.3,2,   158.07,2,    37.46,2,     0.00,2,     2.60,2, -999.000,9, -999.000,9,   2342.5,2,   2417.5,2,   7.5200,4,    25.00,  -999.00,9,  -999.00,9,   1.5107,2,     1750
  49RY20120726,   40N,    50,  1,     11,    996,4,20120828,1655, 38.9768, 170.0270, 5952,   3558.9,   1.4848,   1.4848,2,  34.6738,2,  34.6628,4,    138.5,2,    127.2,4,   159.06,4,    37.71,4,     0.00,4,     2.66,4, -999.000,9, -999.000,9,   2341.2,4,   2416.5,4,   7.5121,4,    25.00,  -999.00,9,  -999.00,9,   1.4848,2,     1745
  49RY20120726,   40N,    50,  1,     10,    107,2,20120828,1655, 38.9768, 170.0270, 5952,   3813.0,   1.4719,   1.4719,2,  34.6784,2,  34.6779,2,    144.0,2,    144.0,6,   154.87,6,    36.60,6,     0.00,6,     2.54,6, -999.000,9, -999.000,9,   2332.4,2,   2415.7,2,   7.5412,4,    25.00,  -999.00,9,  -999.00,9,   1.4719,2,     1740
  49RY20120726,   40N,    50,  1,      9,    108,2,20120828,1655, 38.9768, 170.0270, 5952,   4069.0,   1.4724,   1.4725,2,  34.6816,2,  34.6820,2,    147.6,2,    147.5,2,   153.75,2,    36.40,2,     0.00,2,     2.52,2, -999.000,9, -999.000,9,   2331.2,2,   2417.2,2,   7.5477,4,    25.00,  -999.00,9,  -999.00,9,   1.4725,2,     1735
  49RY20120726,   40N,    50,  1,      8,     81,2,20120828,1655, 38.9768, 170.0270, 5952,   4325.5,   1.4773,   1.4774,2,  34.6843,2,  34.6840,2,    150.7,2,    150.5,2,   153.20,2,    36.23,2,     0.00,2,     2.51,2,    0.000,2,    0.002,2,   2331.0,2,   2418.2,2,   7.5572,4,    25.00,  -999.00,9,  -999.00,9,   1.4774,2,     1730
  49RY20120726,   40N,    50,  1,      7,    106,2,20120828,1655, 38.9768, 170.0270, 5952,   4583.4,   1.4948,   1.4949,2,  34.6857,2,  34.6844,2,    152.5,2,    151.8,6,   153.04,6,    36.10,6,     0.00,6,     2.50,2, -999.000,9, -999.000,9,   2331.5,2,   2417.2,2,   7.5582,4,    25.00,  -999.00,9,  -999.00,9,   1.4949,2,     1725
  49RY20120726,   40N,    50,  1,      6,    113,2,20120828,1655, 38.9768, 170.0270, 5952,   4841.4,   1.5147,   1.5147,2,  34.6870,2,  34.6869,2,    154.1,2,    154.4,2,   152.65,2,    35.84,2,     0.00,2,     2.49,2, -999.000,9, -999.000,9,   2328.5,2,   2417.4,2,   7.5619,4,    25.00,  -999.00,9,  -999.00,9,   1.5147,2,     1720
  49RY20120726,   40N,    50,  1,      5,     94,2,20120828,1655, 38.9768, 170.0270, 5952,   5099.1,   1.5393,   1.5394,2,  34.6880,2,  34.6879,2,    155.3,2,    155.6,2,   152.50,2,    35.89,2,     0.00,2,     2.48,2, -999.000,9, -999.000,9,   2327.0,6,   2417.0,6,   7.5653,4,    25.00,  -999.00,9,  -999.00,9,   1.5394,2,     1715
  49RY20120726,   40N,    50,  1,      4,     77,2,20120828,1655, 38.9768, 170.0270, 5952,   5357.8,   1.5681,   1.5682,2,  34.6885,2,  34.6881,2,    155.6,2,    155.8,2,   152.63,2,    35.73,2,     0.00,2,     2.48,2,    0.000,2,    0.000,2,   2330.2,2,   2417.7,2,   7.5640,4,    25.00,  -999.00,9,  -999.00,9,   1.5682,2,     1710
  49RY20120726,   40N,    50,  1,      3,    104,2,20120828,1655, 38.9768, 170.0270, 5952,   5615.3,   1.6003,   1.6003,2,  34.6887,2,  34.6903,4,    156.0,2,    156.0,2,   152.74,2,    35.84,2,     0.00,2,     2.48,2, -999.000,9, -999.000,9,   2327.4,2,   2417.1,2,   7.5659,4,    25.00,  -999.00,9,  -999.00,9,   1.6003,2,     1705
  49RY20120726,   40N,    50,  1,      2,     75,2,20120828,1655, 38.9768, 170.0270, 5952,   5873.6,   1.6321,   1.6322,2,  34.6889,2,  34.6899,2,    156.6,2,    156.5,2,   152.56,2,    35.81,2,     0.00,2,     2.47,2, -999.000,9, -999.000,9,   2327.3,2,   2415.9,2,   7.5670,4,    25.00,  -999.00,9,  -999.00,9,   1.6322,2,     1700
  49RY20120726,   40N,    50,  1,      1,    997,2,20120828,1655, 38.9768, 170.0270, 5952,   6079.8,   1.6606,   1.6605,2,  34.6888,2,  34.6886,2,    156.9,2,    156.9,2,   152.41,2,    35.80,2,     0.00,2,     2.47,2,    0.002,2,    0.001,2,   2327.1,2,   2417.9,2,   7.5658,4,    25.00,  -999.00,9,  -999.00,9,   1.6605,2,     1655