BOTTLE,20210419PRINUNIVRMK
EXPOCODE,SECT_ID,STNNBR,CASTNO,SAMPNO,BTLNBR,BTLNBR_FLAG_W,DATE,TIME,LATITUDE,LONGITUDE,DEPTH,CTDPRS,CTDTMP,SBE35,SBE35_FLAG_W,CTDSAL,CTDSAL_FLAG_W,SALNTY,SALNTY_FLAG_W,CTDOXY,CTDOXY_FLAG_W,OXYGEN,OXYGEN_FLAG_W,SILCAT,SILCAT_FLAG_W,NITRAT,NITRAT_FLAG_W,NITRIT,NITRIT_FLAG_W,PHSPHT,PHSPHT_FLAG_W,CFC-11,CFC-11_FLAG_W,CFC-12,CFC-12_FLAG_W,TCARBN,TCARBN_FLAG_W,ALKALI,ALKALI_FLAG_W,PH_TOT,PH_TOT_FLAG_W,PH_TMP,CHLORA,CHLORA_FLAG_W,PPHYTN,PPHYTN_FLAG_W,SBE35,SBE35_FLAG_W,BTL_TIME
,,,,,,,,,,,METERS,DBAR,ITS-90,,,PSS-78,,PSS-78,,UMOL/KG,,UMOL/KG,,UMOL/KG,,UMOL/KG,,UMOL/KG,,UMOL/KG,,PMOL/KG,,PMOL/KG,,UMOL/KG,,UMOL/KG,,,,DEG C,UG/KG,,UG/KG,,,,
  49RY20120726,   40N,    35,  1,     36,    109,3,20120807,1624, 40.0103, 162.3228, 5418,     11.3,  22.0727,  22.0717,2,  33.8348,2,  33.8356,2,    225.3,2,    223.7,2,     1.69,2,     0.05,2,     0.00,2,     0.04,2,    2.087,2,    1.180,2,   1962.8,2,   2230.1,2,   8.0068,2,    25.00,     0.11,2,     0.03,2,  22.0717,2,     1910
  49RY20120726,   40N,    35,  1,     35,    112,2,20120807,1624, 40.0103, 162.3228, 5418,     51.4,  15.4898,  15.5084,2,  34.5573,2,  34.5626,2,    236.2,2,    236.6,6,     5.51,6,     4.01,6,     0.23,6,     0.31,6,    2.608,2,    1.432,2,   2033.0,2,   2279.7,2,   7.9523,2,    25.00,     0.55,2,     0.34,2,  15.5084,2,     1906
  49RY20120726,   40N,    35,  1,     34,     83,3,20120807,1624, 40.0103, 162.3228, 5418,    101.5,  13.0917,  13.0851,2,  34.4315,2,  34.4313,2,    217.5,2,    217.8,2,    12.73,2,    10.22,2,     0.02,2,     0.72,2,    2.785,2,    1.537,2,   2075.2,6,   2277.6,6,   7.8573,2,    25.00,     0.10,2,     0.04,2,  13.0851,2,     1904
  49RY20120726,   40N,    35,  1,     33,     86,2,20120807,1624, 40.0103, 162.3228, 5418,    151.7,  11.5724,  11.5713,2,  34.3227,2,  34.3239,2,    230.6,2,    230.5,2,    15.19,2,    11.30,2,     0.01,2,     0.81,2,    2.960,2,    1.625,2,   2086.0,2,   2275.1,2,   7.8343,6,    25.00,     0.01,2,     0.02,2,  11.5713,2,     1900
  49RY20120726,   40N,    35,  1,     32,    105,2,20120807,1624, 40.0103, 162.3228, 5418,    202.9,  10.4097,  10.4288,2,  34.2182,2,  34.2197,2,    225.7,2,    227.8,2,    19.38,2,    13.46,2,     0.02,2,     0.97,2,    3.036,2,    1.736,2,   2101.8,2,   2273.0,2,   7.8019,2,    25.00,     0.00,2,     0.02,2,  10.4288,2,     1857
  49RY20120726,   40N,    35,  1,     31,     76,2,20120807,1624, 40.0103, 162.3228, 5418,    252.4,   8.6542,   8.6500,2,  33.9919,2,  33.9922,2,    249.7,2,    250.4,2,    21.97,2,    14.65,2,     0.01,2,     1.09,2,    3.396,2,    1.930,2,   2108.1,2,   2267.8,2,   7.7724,2,    25.00,  -999.00,9,  -999.00,9,   8.6500,2,     1854
  49RY20120726,   40N,    35,  1,     30,    103,2,20120807,1624, 40.0103, 162.3228, 5418,    300.4,   7.8517,   7.8520,2,  33.9685,2,  33.9716,2,    228.7,2,    229.7,2,    28.95,2,    18.00,2,     0.01,2,     1.34,2,    3.290,6,    1.836,6,   2136.5,2,   2271.3,2,   7.7225,2,    25.00,  -999.00,9,  -999.00,9,   7.8520,2,     1852
  49RY20120726,   40N,    35,  1,     29,    102,2,20120807,1624, 40.0103, 162.3228, 5418,    404.6,   6.2534,   6.2354,2,  33.9824,2,  33.9809,2,    151.0,2,    151.6,2,    55.82,2,    28.47,2,     0.00,2,     2.07,2,    2.659,2,    1.426,2,   2213.7,2,   2287.8,2,   7.5569,2,    25.00,  -999.00,9,  -999.00,9,   6.2354,2,     1849
  49RY20120726,   40N,    35,  1,     28,     91,2,20120807,1624, 40.0103, 162.3228, 5418,    505.9,   5.0389,   5.0392,2,  34.0342,2,  34.0333,2,    106.5,2,    106.0,2,    77.78,2,    34.62,2,     0.00,2,     2.50,2,    1.979,2,    1.010,2,   2265.2,2,   2307.5,2,   7.4530,2,    25.00,  -999.00,9,  -999.00,9,   5.0392,2,     1844
  49RY20120726,   40N,    35,  1,     27,    998,2,20120807,1624, 40.0103, 162.3228, 5418,    505.9,   5.0389,   5.0392,2,  34.0342,2,  34.0336,2,    106.5,2,    105.9,2,    77.84,2,    34.54,2,     0.00,2,     2.51,2,    1.959,6,    1.016,6,   2265.1,2,   2308.8,2,   7.4496,2,    25.00,  -999.00,9,  -999.00,9,   5.0392,2,     1844
  49RY20120726,   40N,    35,  1,     26,     99,2,20120807,1624, 40.0103, 162.3228, 5418,    607.4,   4.3876,   4.3911,2,  34.1241,2,  34.1225,2,     71.9,2,     72.1,2,    95.90,2,    38.41,2,     0.00,2,     2.76,2,    1.339,2,    0.676,2,   2306.5,6,   2325.4,6,   7.3887,2,    25.00,  -999.00,9,  -999.00,9,   4.3911,2,     1841
  49RY20120726,   40N,    35,  1,     25,     98,2,20120807,1624, 40.0103, 162.3228, 5418,    707.7,   3.9064,   3.9064,2,  34.1976,2,  34.1963,2,     51.0,2,     50.6,2,   110.77,2,    40.71,2,     0.00,2,     2.92,2,    0.827,3,    0.415,2,   2338.7,2,   2342.0,2,   7.3543,6,    25.00,  -999.00,9,  -999.00,9,   3.9064,2,     1838
  49RY20120726,   40N,    35,  1,     24,    110,2,20120807,1624, 40.0103, 162.3228, 5418,    807.6,   3.7625,   3.7590,2,  34.2700,2,  34.2706,6,     46.8,2,     48.6,2,   117.58,2,    40.98,2,     0.00,2,     2.94,2,    0.520,3,    0.257,2,   2344.2,2,   2350.7,2,   7.3570,2,    25.00,  -999.00,9,  -999.00,9,   3.7590,2,     1832
  49RY20120726,   40N,    35,  1,     23,     96,2,20120807,1624, 40.0103, 162.3228, 5418,    907.8,   3.4246,   3.4244,2,  34.3293,2,  34.3299,2,     42.1,2,     42.0,2,   127.57,2,    41.74,2,     0.00,2,     3.00,2,    0.358,2,    0.158,2,   2357.5,2,   2365.8,2,   7.3502,2,    25.00,  -999.00,9,  -999.00,9,   3.4244,2,     1829
  49RY20120726,   40N,    35,  1,     22,    111,2,20120807,1624, 40.0103, 162.3228, 5418,   1011.4,   3.1536,   3.1535,2,  34.3726,2,  34.3727,2,     39.0,2,     39.1,6,   135.06,6,    42.33,6,     0.00,6,     3.03,6,    0.226,2,    0.084,2,   2366.3,2,   2375.7,2,   7.3498,2,    25.00,  -999.00,9,  -999.00,9,   3.1535,2,     1825
  49RY20120726,   40N,    35,  1,     21,     78,2,20120807,1624, 40.0103, 162.3228, 5418,   1212.9,   2.7823,   2.7824,2,  34.4408,2,  34.4405,2,     40.5,2,     40.4,2,   145.76,2,    42.67,2,     0.00,2,     3.05,2,    0.114,2,    0.027,2,   2377.2,2,   2387.1,2,   7.3565,2,    25.00,  -999.00,9,  -999.00,9,   2.7824,2,     1820
  49RY20120726,   40N,    35,  1,     20,     93,2,20120807,1624, 40.0103, 162.3228, 5418,   1417.3,   2.4754,   2.4755,2,  34.4933,2,  34.4937,2,     44.1,2,     44.2,2,   154.28,2,    42.51,2,     0.00,2,     3.04,2,    0.050,2,    0.000,2,   2378.3,2,   2397.5,2,   7.3657,2,    25.00,  -999.00,9,  -999.00,9,   2.4755,2,     1812
  49RY20120726,   40N,    35,  1,     19,     92,2,20120807,1624, 40.0103, 162.3228, 5418,   1620.3,   2.2707,   2.2698,2,  34.5331,2,  34.5330,2,     51.5,2,     51.4,2,   158.71,2,    42.34,2,     0.00,2,     3.01,2,    0.014,2,    0.000,2,   2382.8,6,   2403.8,2,   7.3823,2,    25.00,  -999.00,9,  -999.00,9,   2.2698,2,     1806
  49RY20120726,   40N,    35,  1,     18,    101,2,20120807,1624, 40.0103, 162.3228, 5418,   1822.9,   2.1119,   2.1118,2,  34.5646,2,  34.5655,2,     62.6,2,     62.1,2,   160.39,2,    41.80,2,     0.00,2,     2.96,2,    0.000,2,    0.000,2,   2379.1,2,   2407.3,2,   7.4068,6,    25.00,  -999.00,9,  -999.00,9,   2.1118,2,     1800
  49RY20120726,   40N,    35,  1,     17,     90,3,20120807,1624, 40.0103, 162.3228, 5418,   2029.2,   1.9742,   1.9746,2,  34.5885,2,  34.5875,6,     72.2,2,     75.1,4,   162.43,2,    41.23,2,     0.00,2,     2.91,2,    0.000,2,    0.000,2,   2375.3,2,   2409.7,2,   7.4273,2,    25.00,  -999.00,9,  -999.00,9,   1.9746,2,     1754
  49RY20120726,   40N,    35,  1,     16,     89,2,20120807,1624, 40.0103, 162.3228, 5418,   2230.4,   1.8602,   1.8602,2,  34.6086,2,  34.6089,2,     83.3,2,     83.2,2,   162.40,2,    40.61,2,     0.00,2,     2.86,2, -999.000,9, -999.000,9,   2370.5,2,   2412.9,2,   7.4492,2,    25.00,  -999.00,9,  -999.00,9,   1.8602,2,     1748
  49RY20120726,   40N,    35,  1,     15,     88,2,20120807,1624, 40.0103, 162.3228, 5418,   2434.4,   1.7595,   1.7595,2,  34.6259,2,  34.6260,2,     94.7,2,     95.0,6,   162.12,6,    39.75,6,     0.00,6,     2.80,6, -999.000,9, -999.000,9,   2363.8,2,   2415.5,2,   7.4691,2,    25.00,  -999.00,9,  -999.00,9,   1.7595,2,     1740
  49RY20120726,   40N,    35,  1,     14,    999,2,20120807,1624, 40.0103, 162.3228, 5418,   2637.9,   1.6915,   1.6915,2,  34.6378,2,  34.6389,2,    104.0,2,    104.3,2,   161.51,2,    39.19,2,     0.00,2,     2.76,2,    0.000,2,    0.000,2,   2361.1,2,   2416.1,2,   7.4880,2,    25.00,  -999.00,9,  -999.00,9,   1.6915,2,     1734
  49RY20120726,   40N,    35,  1,     13,    996,2,20120807,1624, 40.0103, 162.3228, 5418,   2839.7,   1.6260,   1.6262,2,  34.6494,2,  34.6511,2,    114.5,2,    114.4,2,   159.36,2,    38.52,2,     0.00,2,     2.70,2, -999.000,9, -999.000,9,   2352.1,2,   2416.7,2,   7.5049,2,    25.00,  -999.00,9,  -999.00,9,   1.6262,2,     1729
  49RY20120726,   40N,    35,  1,     12,     74,2,20120807,1624, 40.0103, 162.3228, 5418,   2839.7,   1.6260,   1.6262,2,  34.6494,2,  34.6493,2,    114.5,2,    114.6,2,   159.11,2,    38.54,2,     0.00,2,     2.70,2,    0.000,2,    0.000,2,   2353.2,2,   2417.0,2,   7.5080,2,    25.00,  -999.00,9,  -999.00,9,   1.6262,2,     1729
  49RY20120726,   40N,    35,  1,     11,     97,2,20120807,1624, 40.0103, 162.3228, 5418,   3046.4,   1.5798,   1.5797,2,  34.6576,2,  34.6581,2,    122.3,2,    121.8,2,   157.94,2,    37.89,2,     0.00,2,     2.66,2, -999.000,9, -999.000,9,   2348.5,2,   2415.1,2,   7.5212,2,    25.00,  -999.00,9,  -999.00,9,   1.5797,2,     1722
  49RY20120726,   40N,    35,  1,     10,    107,2,20120807,1624, 40.0103, 162.3228, 5418,   3300.7,   1.5298,   1.5299,2,  34.6667,2,  34.6672,6,    131.6,2,    131.2,2,   155.89,2,    37.48,2,     0.00,2,     2.62,2,    0.004,2,    0.000,2,   2340.9,2,   2417.9,2,   7.5373,2,    25.00,  -999.00,9,  -999.00,9,   1.5299,2,     1714
  49RY20120726,   40N,    35,  1,      9,    108,2,20120807,1624, 40.0103, 162.3228, 5418,   3556.0,   1.4968,   1.4968,2,  34.6733,2,  34.6725,2,    139.1,2,    139.1,2,   154.12,2,    36.91,2,     0.00,2,     2.58,2, -999.000,9, -999.000,9,   2336.8,2,   2415.0,2,   7.5522,2,    25.00,  -999.00,9,  -999.00,9,   1.4968,2,     1708
  49RY20120726,   40N,    35,  1,      8,     81,2,20120807,1624, 40.0103, 162.3228, 5418,   3811.6,   1.4823,   1.4824,2,  34.6779,2,  34.6793,2,    144.4,2,    144.8,2,   152.54,2,    36.69,2,     0.00,2,     2.55,2, -999.000,9, -999.000,9,   2333.6,2,   2414.2,2,   7.5607,2,    25.00,  -999.00,9,  -999.00,9,   1.4824,2,     1702
  49RY20120726,   40N,    35,  1,      7,    106,2,20120807,1624, 40.0103, 162.3228, 5418,   4071.7,   1.4738,   1.4738,2,  34.6817,2,  34.6822,2,    149.1,2,    149.2,2,   151.17,2,    36.12,2,     0.00,2,     2.53,2, -999.000,9, -999.000,9,   2328.0,6,   2414.4,6,   7.5684,2,    25.00,  -999.00,9,  -999.00,9,   1.4738,2,     1656
  49RY20120726,   40N,    35,  1,      6,    113,3,20120807,1624, 40.0103, 162.3228, 5418,   4584.0,   1.4900,   1.4902,2,  34.6863,2,  34.6851,2,    154.6,2,    154.3,2,   150.13,2,    35.85,2,     0.00,2,     2.49,2, -999.000,9, -999.000,9,   2325.2,2,   2414.4,2,   7.5765,6,    25.00,  -999.00,9,  -999.00,9,   1.4902,2,     1646
  49RY20120726,   40N,    35,  1,      5,     94,2,20120807,1624, 40.0103, 162.3228, 5418,   4840.0,   1.5069,   1.5070,2,  34.6879,2,  34.6888,2,    156.6,2,    157.4,2,   148.78,2,    35.70,2,     0.00,2,     2.48,2, -999.000,9, -999.000,9,   2322.4,2,   2413.2,2,   7.5776,2,    25.00,  -999.00,9,  -999.00,9,   1.5070,2,     1641
  49RY20120726,   40N,    35,  1,      4,     77,2,20120807,1624, 40.0103, 162.3228, 5418,   5098.6,   1.5242,   1.5243,2,  34.6897,2,  34.6897,2,    158.6,2,    159.2,2,   148.60,2,    35.66,2,     0.00,2,     2.47,2,    0.024,4,    0.000,2,   2317.6,2,   2412.2,2,   7.5825,2,    25.00,  -999.00,9,  -999.00,9,   1.5243,2,     1635
  49RY20120726,   40N,    35,  1,      3,    104,2,20120807,1624, 40.0103, 162.3228, 5418,   5357.8,   1.5468,   1.5468,2,  34.6908,2,  34.6925,4,    160.0,2,    160.3,6,   148.23,6,    35.55,6,     0.00,6,     2.47,6, -999.000,9, -999.000,9,   2317.9,2,   2411.8,2,   7.5850,2,    25.00,  -999.00,9,  -999.00,9,   1.5468,2,     1629
  49RY20120726,   40N,    35,  1,      1,    997,2,20120807,1624, 40.0103, 162.3228, 5418,   5514.0,   1.5639,   1.5637,2,  34.6911,2,  34.6920,2,    160.7,2,    161.4,2,   148.27,2,    35.43,2,     0.00,2,     2.46,2,    0.031,4,    0.000,2,   2317.2,2,   2412.9,2,   7.5837,2,    25.00,  -999.00,9,  -999.00,9,   1.5637,2,     1624
  49RY20120726,   40N,    35,  1,      2,     75,2,20120807,1624, 40.0103, 162.3228, 5418,   5514.3,   1.5637,   1.5635,2,  34.6911,2,  34.6920,2,    160.6,2,    160.8,2,   148.09,2,    35.48,2,     0.00,2,     2.46,2,    0.000,2,    0.000,2,   2319.4,2,   2414.2,2,   7.5874,2,    25.00,  -999.00,9,  -999.00,9,   1.5635,2,     1624