BOTTLE,20210419PRINUNIVRMK
EXPOCODE,SECT_ID,STNNBR,CASTNO,SAMPNO,BTLNBR,BTLNBR_FLAG_W,DATE,TIME,LATITUDE,LONGITUDE,DEPTH,CTDPRS,CTDTMP,SBE35,SBE35_FLAG_W,CTDSAL,CTDSAL_FLAG_W,SALNTY,SALNTY_FLAG_W,CTDOXY,CTDOXY_FLAG_W,OXYGEN,OXYGEN_FLAG_W,SILCAT,SILCAT_FLAG_W,NITRAT,NITRAT_FLAG_W,NITRIT,NITRIT_FLAG_W,PHSPHT,PHSPHT_FLAG_W,CFC-11,CFC-11_FLAG_W,CFC-12,CFC-12_FLAG_W,TCARBN,TCARBN_FLAG_W,ALKALI,ALKALI_FLAG_W,PH_TOT,PH_TOT_FLAG_W,PH_TMP,CHLORA,CHLORA_FLAG_W,PPHYTN,PPHYTN_FLAG_W,SBE35,SBE35_FLAG_W,BTL_TIME
,,,,,,,,,,,METERS,DBAR,ITS-90,,,PSS-78,,PSS-78,,UMOL/KG,,UMOL/KG,,UMOL/KG,,UMOL/KG,,UMOL/KG,,UMOL/KG,,PMOL/KG,,PMOL/KG,,UMOL/KG,,UMOL/KG,,,,DEG C,UG/KG,,UG/KG,,,,
  49RY20120726,   40N,    75,  1,      7,    106,2,20120905,1557, 39.9913, 164.9887, 5479,     11.0,  23.4083,  23.4069,2,  34.3310,2,  34.3325,2,    215.4,2,    216.6,2,     1.61,2,     0.00,2,     0.00,2,     0.04,2,    2.082,2,    1.221,2,   1972.5,2,   2264.2,2,   8.0203,4,    25.00,     0.10,2,     0.03,2,  23.4069,2,     1859
  49RY20120726,   40N,    75,  1,     36,    109,2,20120905,1557, 39.9913, 164.9887, 5479,     50.7,  17.3992,  17.3842,2,  34.5816,2,  34.5845,2,    231.8,2,    233.7,2,     4.02,2,     1.30,2,     0.13,2,     0.18,2,    2.595,2,    1.452,2,   2014.0,2,   2281.6,2,   7.9780,4,    25.00,     0.47,2,     0.27,2,  17.3842,2,     1857
  49RY20120726,   40N,    75,  1,     35,    112,2,20120905,1557, 39.9913, 164.9887, 5479,     50.7,  17.3992,  17.3842,2,  34.5816,2,  34.5858,4,    231.8,2,    233.1,2,     4.01,2,     1.36,2,     0.14,2,     0.19,2,    2.583,2,    1.422,2,   2016.6,2,   2281.9,2,   7.9763,4,    25.00,     0.47,2,     0.26,2,  17.3842,2,     1857
  49RY20120726,   40N,    75,  1,     34,     83,2,20120905,1557, 39.9913, 164.9887, 5479,    102.0,  14.5550,  14.5754,2,  34.4692,2,  34.4745,4,    206.3,2,    205.9,2,    11.20,2,     8.78,2,     0.03,2,     0.65,2,    2.634,2,    1.513,2,   2072.0,6,   2279.2,6,   7.8719,4,    25.00,     0.12,2,     0.07,2,  14.5754,2,     1854
  49RY20120726,   40N,    75,  1,     33,     86,2,20120905,1557, 39.9913, 164.9887, 5479,    151.7,  13.0359,  13.0363,2,  34.4269,2,  34.4260,2,    220.8,2,    221.3,6,    12.20,6,     9.79,6,     0.01,6,     0.72,6,    2.819,2,    1.630,2,   2077.4,2,   2275.4,2,   7.8527,4,    25.00,     0.02,2,     0.01,2,  13.0363,2,     1852
  49RY20120726,   40N,    75,  1,     32,    105,2,20120905,1557, 39.9913, 164.9887, 5479,    202.9,  12.0825,  12.0706,2,  34.3558,2,  34.3574,2,    215.0,2,    215.7,2,    15.59,2,    11.82,2,     0.01,2,     0.92,4,    2.892,2,    1.660,2,   2093.0,2,   2276.4,2,   7.8206,4,    25.00,  -999.00,9,  -999.00,9,  12.0706,2,     1847
  49RY20120726,   40N,    75,  1,     31,     76,2,20120905,1557, 39.9913, 164.9887, 5479,    253.7,  10.7831,  10.7846,2,  34.2254,2,  34.2281,2,    233.1,2,    234.2,2,    16.97,2,    12.10,2,     0.01,2,     0.96,4,    3.134,2,    1.784,2,   2095.1,2,   2272.0,2,   7.8055,4,    25.00,  -999.00,9,  -999.00,9,  10.7846,2,     1844
  49RY20120726,   40N,    75,  1,     30,     97,2,20120905,1557, 39.9913, 164.9887, 5479,    304.6,   9.1376,   9.1449,2,  34.0497,2,  34.0544,4,    229.0,2,    230.3,2,    22.89,2,    15.40,2,     0.01,2,     1.15,2,    3.273,6,    1.806,6,   2114.2,2,   2270.3,2,   7.7532,4,    25.00,  -999.00,9,  -999.00,9,   9.1449,2,     1841
  49RY20120726,   40N,    75,  1,     29,    102,2,20120905,1557, 39.9913, 164.9887, 5479,    404.1,   7.1764,   7.1738,2,  33.9542,2,  33.9557,2,    193.6,2,    195.5,2,    39.26,2,    22.56,2,     0.00,2,     1.67,2,    3.126,2,    1.678,2,   2165.4,2,   2276.0,2,   7.6399,4,    25.00,  -999.00,9,  -999.00,9,   7.1738,2,     1838
  49RY20120726,   40N,    75,  1,     28,     91,2,20120905,1557, 39.9913, 164.9887, 5479,    505.6,   5.3073,   5.3075,2,  33.9190,2,  33.9194,2,    138.4,2,    139.2,2,    64.04,2,    31.22,2,     0.00,2,     2.36,4,    2.702,2,    1.428,2,   2236.0,6,   2290.3,6,   7.4872,4,    25.00,  -999.00,9,  -999.00,9,   5.3075,2,     1835
  49RY20120726,   40N,    75,  1,     27,    998,2,20120905,1557, 39.9913, 164.9887, 5479,    606.0,   4.6199,   4.6196,2,  34.0003,2,  33.9998,2,     97.0,2,     97.4,2,    82.79,2,    36.05,2,     0.00,2,     2.71,4,    2.046,6,    1.033,6,   2282.3,2,   2308.5,2,   7.4020,4,    25.00,  -999.00,9,  -999.00,9,   4.6196,2,     1832
  49RY20120726,   40N,    75,  1,     26,     84,2,20120905,1557, 39.9913, 164.9887, 5479,    706.3,   4.3007,   4.3027,2,  34.1121,2,  34.1114,2,     68.5,2,     68.8,2,    97.92,2,    38.65,2,     0.00,2,     2.88,4,    1.416,2,    0.686,2,   2312.0,2,   2325.8,2,   7.3643,4,    25.00,  -999.00,9,  -999.00,9,   4.3027,2,     1829
  49RY20120726,   40N,    75,  1,     25,     98,2,20120905,1557, 39.9913, 164.9887, 5479,    808.3,   4.0768,   4.0766,2,  34.2152,2,  34.2129,2,     53.9,2,     54.1,2,   109.05,2,    39.95,2,     0.00,2,     2.94,4,    0.828,2,    0.401,2,   2330.5,2,   2343.6,2,   7.3561,4,    25.00,  -999.00,9,  -999.00,9,   4.0766,2,     1820
  49RY20120726,   40N,    75,  1,     24,    110,2,20120905,1557, 39.9913, 164.9887, 5479,    909.5,   3.6964,   3.6961,2,  34.2780,2,  34.2786,2,     43.5,2,     43.7,2,   120.29,2,    41.18,2,     0.00,2,     2.98,4,    0.538,2,    0.266,2,   2347.4,2,   2356.1,2,   7.3415,4,    25.00,  -999.00,9,  -999.00,9,   3.6961,2,     1816
  49RY20120726,   40N,    75,  1,     23,     96,2,20120905,1557, 39.9913, 164.9887, 5479,   1012.2,   3.4381,   3.4390,2,  34.3251,2,  34.3239,2,     40.6,2,     40.9,2,   127.85,2,    41.66,2,     0.00,2,     3.01,2,    0.379,2,    0.179,2,   2357.1,2,   2364.7,2,   7.3383,4,    25.00,  -999.00,9,  -999.00,9,   3.4390,2,     1813
  49RY20120726,   40N,    75,  1,     22,    111,2,20120905,1557, 39.9913, 164.9887, 5479,   1212.0,   2.9959,   2.9957,2,  34.4043,2,  34.4044,2,     38.5,2,     38.7,2,   140.83,2,    42.32,2,     0.00,2,     3.05,2,    0.179,2,    0.095,2,   2372.1,2,   2381.9,2,   7.3357,4,    25.00,  -999.00,9,  -999.00,9,   2.9957,2,     1809
  49RY20120726,   40N,    75,  1,     21,     78,2,20120905,1557, 39.9913, 164.9887, 5479,   1417.1,   2.6540,   2.6538,2,  34.4632,2,  34.4659,4,     38.3,2,     38.7,2,   150.80,2,    42.68,2,     0.00,2,     3.07,2,    0.085,2,    0.045,2,   2380.7,2,   2394.6,2,   7.3437,4,    25.00,  -999.00,9,  -999.00,9,   2.6538,2,     1756
  49RY20120726,   40N,    75,  1,     20,     93,2,20120905,1557, 39.9913, 164.9887, 5479,   1618.7,   2.3890,   2.3889,2,  34.5091,2,  34.5089,2,     42.4,2,     42.9,6,   158.40,6,    42.73,6,     0.00,6,     3.06,2,    0.033,2,    0.026,2,   2387.9,2,   2403.8,2,   7.3505,4,    25.00,  -999.00,9,  -999.00,9,   2.3889,2,     1751
  49RY20120726,   40N,    75,  1,     19,     92,2,20120905,1557, 39.9913, 164.9887, 5479,   1823.0,   2.1726,   2.1728,2,  34.5440,2,  34.5435,6,     50.7,2,     51.1,2,   163.44,2,    42.29,2,     0.00,2,     3.01,2,    0.023,2,    0.021,2,   2391.1,2,   2407.1,2,   7.3691,4,    25.00,  -999.00,9,  -999.00,9,   2.1728,2,     1746
  49RY20120726,   40N,    75,  1,     18,    101,2,20120905,1557, 39.9913, 164.9887, 5479,   2025.8,   2.0070,   2.0072,2,  34.5754,2,  34.5746,2,     61.9,2,     62.4,2,   166.30,2,    41.57,2,     0.00,2,     2.96,2,    0.017,2,    0.015,2,   2386.6,2,   2413.1,2,   7.3911,4,    25.00,  -999.00,9,  -999.00,9,   2.0072,2,     1736
  49RY20120726,   40N,    75,  1,     17,     90,2,20120905,1557, 39.9913, 164.9887, 5479,   2229.7,   1.8860,   1.8859,2,  34.6009,2,  34.6006,2,     75.1,2,     75.2,2,   166.41,2,    40.78,2,     0.00,2,     2.90,2,    0.004,2,    0.011,2,   2382.6,2,   2414.7,2,   7.4188,4,    25.00,  -999.00,9,  -999.00,9,   1.8859,2,     1731
  49RY20120726,   40N,    75,  1,     16,     89,2,20120905,1557, 39.9913, 164.9887, 5479,   2432.1,   1.7812,   1.7811,2,  34.6207,2,  34.6200,2,     88.2,2,     88.3,2,   165.65,2,    40.06,2,     0.00,2,     2.85,2,    0.007,2,    0.012,2,   2370.7,6,   2419.0,6,   7.4431,4,    25.00,  -999.00,9,  -999.00,9,   1.7811,2,     1726
  49RY20120726,   40N,    75,  1,     15,     88,2,20120905,1557, 39.9913, 164.9887, 5479,   2637.1,   1.7018,   1.7018,2,  34.6356,2,  34.6356,2,     99.9,2,    100.3,2,   163.61,2,    39.28,2,     0.00,2,     2.79,2,    0.012,2,    0.012,2,   2360.7,2,   2418.5,2,   7.4673,4,    25.00,  -999.00,9,  -999.00,9,   1.7018,2,     1711
  49RY20120726,   40N,    75,  1,     14,    999,2,20120905,1557, 39.9913, 164.9887, 5479,   2841.6,   1.6371,   1.6371,2,  34.6475,2,  34.6482,2,    110.3,2,    110.6,2,   161.95,2,    38.68,2,     0.00,2,     2.74,2,    0.008,2,    0.014,2,   2353.6,2,   2420.0,2,   7.4861,4,    25.00,  -999.00,9,  -999.00,9,   1.6371,2,     1706
  49RY20120726,   40N,    75,  1,     13,    667,4,20120905,1557, 39.9913, 164.9887, 5479,   3047.1,   1.5838,   1.5837,2,  34.6564,2,-999.0000,9,    119.2,2,   -999.0,9,  -999.00,9,  -999.00,9,  -999.00,9,  -999.00,9, -999.000,9, -999.000,9,   -999.0,9,   -999.0,9,-999.0000,9,  -999.00,  -999.00,9,  -999.00,9,   1.5837,2,     1655
  49RY20120726,   40N,    75,  1,     12,     74,2,20120905,1557, 39.9913, 164.9887, 5479,   3302.3,   1.5379,   1.5382,2,  34.6656,2,  34.6649,2,    128.9,2,    128.9,6,   157.61,6,    37.50,6,     0.00,6,     2.65,6,    0.007,2,    0.013,2,   2341.9,2,   2422.4,3,   7.5195,4,    25.00,  -999.00,9,  -999.00,9,   1.5382,2,     1649
  49RY20120726,   40N,    75,  1,     11,    996,2,20120905,1557, 39.9913, 164.9887, 5479,   3555.9,   1.5076,   1.5076,2,  34.6720,2,  34.6719,6,    136.5,2,    136.8,2,   155.47,2,    36.99,2,     0.00,2,     2.61,2,    0.003,2,    0.013,2,   2335.2,2,   2418.6,2,   7.5308,4,    25.00,  -999.00,9,  -999.00,9,   1.5076,2,     1643
  49RY20120726,   40N,    75,  1,     10,    107,2,20120905,1557, 39.9913, 164.9887, 5479,   3812.6,   1.4905,   1.4905,2,  34.6769,2,  34.6762,2,    142.2,2,    141.8,2,   153.79,2,    36.64,2,     0.00,2,     2.57,2,    0.009,2,    0.013,2,   2337.0,2,   2419.4,2,   7.5438,4,    25.00,  -999.00,9,  -999.00,9,   1.4905,2,     1637
  49RY20120726,   40N,    75,  1,      9,    108,2,20120905,1557, 39.9913, 164.9887, 5479,   4069.9,   1.4803,   1.4803,2,  34.6809,2,  34.6805,2,    147.1,2,    147.5,2,   152.73,2,    36.35,2,     0.00,2,     2.55,2,    0.003,2,    0.008,2,   2333.4,2,   2420.0,2,   7.5510,4,    25.00,  -999.00,9,  -999.00,9,   1.4803,2,     1630
  49RY20120726,   40N,    75,  1,      8,     81,2,20120905,1557, 39.9913, 164.9887, 5479,   4326.7,   1.4815,   1.4816,2,  34.6840,2,  34.6816,4,    150.7,2,    150.6,2,   151.99,2,    36.15,2,     0.00,2,     2.54,2,    0.019,2,    0.018,2,   2335.4,3,   2418.5,2,   7.5582,4,    25.00,  -999.00,9,  -999.00,9,   1.4816,2,     1625
  49RY20120726,   40N,    75,  1,      6,    113,3,20120905,1557, 39.9913, 164.9887, 5479,   4584.1,   1.4909,   1.4911,2,  34.6862,2,  34.6851,2,    153.5,2,    153.7,2,   151.32,2,    35.91,2,     0.00,2,     2.53,2,    0.010,2,    0.013,2,   2328.9,6,   2419.2,6,   7.5636,4,    25.00,  -999.00,9,  -999.00,9,   1.4911,2,     1619
  49RY20120726,   40N,    75,  1,      5,     94,2,20120905,1557, 39.9913, 164.9887, 5479,   4841.7,   1.5086,   1.5086,2,  34.6876,2,  34.6864,2,    155.3,2,    154.9,2,   151.30,2,    35.82,2,     0.00,2,     2.51,2,    0.005,2,    0.013,2,   2329.5,2,   2416.9,2,   7.5641,4,    25.00,  -999.00,9,  -999.00,9,   1.5086,2,     1614
  49RY20120726,   40N,    75,  1,      4,     77,2,20120905,1557, 39.9913, 164.9887, 5479,   5098.9,   1.5320,   1.5320,2,  34.6887,2,  34.6898,2,    156.5,2,    156.7,2,   151.24,2,    35.70,2,     0.00,2,     2.50,2,    0.003,2,    0.019,2,   2323.8,2,   2416.3,2,   7.5693,4,    25.00,  -999.00,9,  -999.00,9,   1.5320,2,     1608
  49RY20120726,   40N,    75,  1,      3,    104,2,20120905,1557, 39.9913, 164.9887, 5479,   5356.2,   1.5589,   1.5589,2,  34.6893,2,  34.6889,2,    157.2,2,    157.6,2,   151.73,2,    35.71,2,     0.00,2,     2.51,2,    0.004,2,    0.009,2,   2324.5,2,   2417.4,2,   7.5709,4,    25.00,  -999.00,9,  -999.00,9,   1.5589,2,     1603
  49RY20120726,   40N,    75,  1,      2,     75,2,20120905,1557, 39.9913, 164.9887, 5479,   5356.2,   1.5589,   1.5589,2,  34.6893,2,  34.6892,2,    157.2,2,    157.7,6,   151.36,6,    35.67,6,     0.00,6,     2.49,6,    0.014,2,    0.010,2,   2329.2,2,   2418.8,2,   7.5691,4,    25.00,  -999.00,9,  -999.00,9,   1.5589,2,     1603
  49RY20120726,   40N,    75,  1,      1,    997,2,20120905,1557, 39.9913, 164.9887, 5479,   5580.5,   1.5868,   1.5866,2,  34.6894,2,  34.6898,6,    157.4,2,    157.5,2,   152.33,2,    35.69,2,     0.00,2,     2.50,2,    0.011,2,    0.036,4,   2325.5,2,   2420.2,2,   7.5710,4,    25.00,  -999.00,9,  -999.00,9,   1.5866,2,     1557