BOTTLE,20210419PRINUNIVRMK
EXPOCODE,SECT_ID,STNNBR,CASTNO,SAMPNO,BTLNBR,BTLNBR_FLAG_W,DATE,TIME,LATITUDE,LONGITUDE,DEPTH,CTDPRS,CTDTMP,SBE35,SBE35_FLAG_W,CTDSAL,CTDSAL_FLAG_W,SALNTY,SALNTY_FLAG_W,CTDOXY,CTDOXY_FLAG_W,OXYGEN,OXYGEN_FLAG_W,SILCAT,SILCAT_FLAG_W,NITRAT,NITRAT_FLAG_W,NITRIT,NITRIT_FLAG_W,PHSPHT,PHSPHT_FLAG_W,CFC-11,CFC-11_FLAG_W,CFC-12,CFC-12_FLAG_W,TCARBN,TCARBN_FLAG_W,ALKALI,ALKALI_FLAG_W,PH_TOT,PH_TOT_FLAG_W,PH_TMP,CHLORA,CHLORA_FLAG_W,PPHYTN,PPHYTN_FLAG_W,SBE35,SBE35_FLAG_W,BTL_TIME
,,,,,,,,,,,METERS,DBAR,ITS-90,,,PSS-78,,PSS-78,,UMOL/KG,,UMOL/KG,,UMOL/KG,,UMOL/KG,,UMOL/KG,,UMOL/KG,,PMOL/KG,,PMOL/KG,,UMOL/KG,,UMOL/KG,,,,DEG C,UG/KG,,UG/KG,,,,
  49RY20120726,   40N,    70,  1,     36,    109,2,20120903,2348, 37.5173, 166.7973, 5422,     11.2,  25.0191,  25.0148,2,  34.2045,2,-999.0000,9,    212.0,2,    212.8,2,     1.24,2,     0.00,2,     0.00,2,     0.02,2, -999.000,9, -999.000,9,   -999.0,9,   -999.0,9,-999.0000,9,  -999.00,  -999.00,9,  -999.00,9,  25.0148,2,      231
  49RY20120726,   40N,    70,  1,     35,    112,2,20120903,2348, 37.5173, 166.7973, 5422,     51.7,  17.8662,  17.8607,2,  34.4141,2,-999.0000,9,    254.6,2,    252.4,2,     2.92,2,     0.15,2,     0.01,2,     0.09,2, -999.000,9, -999.000,9,   -999.0,9,   -999.0,9,-999.0000,9,  -999.00,  -999.00,9,  -999.00,9,  17.8607,2,      228
  49RY20120726,   40N,    70,  1,     34,     83,2,20120903,2348, 37.5173, 166.7973, 5422,    102.1,  13.6453,  13.6446,2,  34.4162,2,-999.0000,9,    201.5,2,    204.1,2,    13.96,2,    10.60,2,     0.07,2,     0.76,2, -999.000,9, -999.000,9,   -999.0,9,   -999.0,9,-999.0000,9,  -999.00,  -999.00,9,  -999.00,9,  13.6446,2,      226
  49RY20120726,   40N,    70,  1,     33,     86,2,20120903,2348, 37.5173, 166.7973, 5422,    152.5,  11.7688,  11.7630,2,  34.3264,2,-999.0000,9,    215.2,2,    215.7,6,    17.09,6,    12.56,6,     0.01,6,     0.88,6, -999.000,9, -999.000,9,   -999.0,9,   -999.0,9,-999.0000,9,  -999.00,  -999.00,9,  -999.00,9,  11.7630,2,      223
  49RY20120726,   40N,    70,  1,     32,    105,2,20120903,2348, 37.5173, 166.7973, 5422,    203.2,  10.3212,  10.3227,2,  34.1994,2,-999.0000,9,    217.5,2,    217.4,2,    21.51,2,    14.64,2,     0.00,2,     1.05,2, -999.000,9, -999.000,9,   -999.0,9,   -999.0,9,-999.0000,9,  -999.00,  -999.00,9,  -999.00,9,  10.3227,2,      217
  49RY20120726,   40N,    70,  1,     31,     76,2,20120903,2348, 37.5173, 166.7973, 5422,    256.2,   9.1901,   9.1885,2,  34.1162,2,-999.0000,9,    197.2,2,    197.4,2,    29.17,2,    18.50,2,     0.00,2,     1.33,2, -999.000,9, -999.000,9,   -999.0,9,   -999.0,9,-999.0000,9,  -999.00,  -999.00,9,  -999.00,9,   9.1885,2,      211
  49RY20120726,   40N,    70,  1,     30,     97,2,20120903,2348, 37.5173, 166.7973, 5422,    303.0,   7.9358,   7.9376,2,  34.0208,2,-999.0000,9,    192.3,2,    193.2,2,    36.21,2,    21.22,2,     0.00,2,     1.54,2, -999.000,9, -999.000,9,   -999.0,9,   -999.0,9,-999.0000,9,  -999.00,  -999.00,9,  -999.00,9,   7.9376,2,      208
  49RY20120726,   40N,    70,  1,     29,    102,2,20120903,2348, 37.5173, 166.7973, 5422,    404.4,   5.8511,   5.8522,2,  33.9411,2,-999.0000,9,    151.3,2,    151.4,2,    57.90,2,    29.12,2,     0.00,2,     2.13,2, -999.000,9, -999.000,9,   -999.0,9,   -999.0,9,-999.0000,9,  -999.00,  -999.00,9,  -999.00,9,   5.8522,2,      205
  49RY20120726,   40N,    70,  1,     28,     91,2,20120903,2348, 37.5173, 166.7973, 5422,    504.4,   5.0420,   5.0413,2,  34.0108,2,-999.0000,9,    110.4,2,    110.6,6,    75.29,6,    34.04,6,     0.00,6,     2.47,6, -999.000,9, -999.000,9,   -999.0,9,   -999.0,9,-999.0000,9,  -999.00,  -999.00,9,  -999.00,9,   5.0413,2,      201
  49RY20120726,   40N,    70,  1,     27,    998,2,20120903,2348, 37.5173, 166.7973, 5422,    606.4,   4.3803,   4.3786,2,  34.1045,2,-999.0000,9,     73.3,2,     73.3,2,    94.60,2,    38.10,2,     0.00,2,     2.75,2, -999.000,9, -999.000,9,   -999.0,9,   -999.0,9,-999.0000,9,  -999.00,  -999.00,9,  -999.00,9,   4.3786,2,      158
  49RY20120726,   40N,    70,  1,     26,     84,2,20120903,2348, 37.5173, 166.7973, 5422,    708.1,   4.0849,   4.0823,2,  34.1957,2,-999.0000,9,     55.8,2,     56.0,2,   106.87,2,    39.82,2,     0.00,2,     2.87,2, -999.000,9, -999.000,9,   -999.0,9,   -999.0,9,-999.0000,9,  -999.00,  -999.00,9,  -999.00,9,   4.0823,2,      155
  49RY20120726,   40N,    70,  1,     25,     98,3,20120903,2348, 37.5173, 166.7973, 5422,    808.6,   3.7881,   3.7881,2,  34.2722,2,-999.0000,9,     48.0,2,     48.4,2,   116.95,2,    40.77,2,     0.00,2,     2.93,2, -999.000,9, -999.000,9,   -999.0,9,   -999.0,9,-999.0000,9,  -999.00,  -999.00,9,  -999.00,9,   3.7881,2,      148
  49RY20120726,   40N,    70,  1,     24,    110,2,20120903,2348, 37.5173, 166.7973, 5422,    910.2,   3.4549,   3.4549,2,  34.3232,2,-999.0000,9,     40.6,2,     42.0,2,   126.22,2,    41.75,2,     0.00,2,     3.00,2, -999.000,9, -999.000,9,   -999.0,9,   -999.0,9,-999.0000,9,  -999.00,  -999.00,9,  -999.00,9,   3.4549,2,      144
  49RY20120726,   40N,    70,  1,     23,     96,2,20120903,2348, 37.5173, 166.7973, 5422,   1012.4,   3.1927,   3.1928,2,  34.3638,2,-999.0000,9,     38.6,2,     40.5,3,   133.77,2,    42.09,2,     0.00,2,     3.02,2, -999.000,9, -999.000,9,   -999.0,9,   -999.0,9,-999.0000,9,  -999.00,  -999.00,9,  -999.00,9,   3.1928,2,      141
  49RY20120726,   40N,    70,  1,     22,    111,2,20120903,2348, 37.5173, 166.7973, 5422,   1215.7,   2.7695,   2.7694,2,  34.4314,2,-999.0000,9,     35.3,2,     34.9,6,   146.40,6,    42.86,6,     0.00,6,     3.07,6, -999.000,9, -999.000,9,   -999.0,9,   -999.0,9,-999.0000,9,  -999.00,  -999.00,9,  -999.00,9,   2.7694,2,      137
  49RY20120726,   40N,    70,  1,     21,     78,2,20120903,2348, 37.5173, 166.7973, 5422,   1417.0,   2.4750,   2.4749,2,  34.4903,2,-999.0000,9,     40.0,2,     39.7,2,   154.69,2,    42.87,2,     0.00,2,     3.05,2, -999.000,9, -999.000,9,   -999.0,9,   -999.0,9,-999.0000,9,  -999.00,  -999.00,9,  -999.00,9,   2.4749,2,      130
  49RY20120726,   40N,    70,  1,     20,     93,2,20120903,2348, 37.5173, 166.7973, 5422,   1619.8,   2.2344,   2.2344,2,  34.5329,2,-999.0000,9,     47.9,2,     47.7,2,   160.98,2,    42.57,2,     0.00,2,     3.01,2, -999.000,9, -999.000,9,   -999.0,9,   -999.0,9,-999.0000,9,  -999.00,  -999.00,9,  -999.00,9,   2.2344,2,      124
  49RY20120726,   40N,    70,  1,     19,     92,2,20120903,2348, 37.5173, 166.7973, 5422,   1619.8,   2.2344,   2.2344,2,  34.5329,2,-999.0000,9,     47.9,2,     47.7,2,   160.85,2,    42.51,2,     0.00,2,     3.01,2, -999.000,9, -999.000,9,   -999.0,9,   -999.0,9,-999.0000,9,  -999.00,  -999.00,9,  -999.00,9,   2.2344,2,      124
  49RY20120726,   40N,    70,  1,     18,    101,2,20120903,2348, 37.5173, 166.7973, 5422,   1824.3,   2.0709,   2.0709,2,  34.5635,2,-999.0000,9,     58.6,2,     58.1,2,   163.58,2,    41.85,2,     0.00,2,     2.96,2, -999.000,9, -999.000,9,   -999.0,9,   -999.0,9,-999.0000,9,  -999.00,  -999.00,9,  -999.00,9,   2.0709,2,      119
  49RY20120726,   40N,    70,  1,     17,     90,3,20120903,2348, 37.5173, 166.7973, 5422,   2025.0,   1.9265,   1.9264,2,  34.5921,2,-999.0000,9,     71.5,2,     71.6,2,   164.51,2,    41.12,2,     0.00,2,     2.90,2, -999.000,9, -999.000,9,   -999.0,9,   -999.0,9,-999.0000,9,  -999.00,  -999.00,9,  -999.00,9,   1.9264,2,      111
  49RY20120726,   40N,    70,  1,     16,     89,3,20120903,2348, 37.5173, 166.7973, 5422,   2228.9,   1.8086,   1.8086,2,  34.6133,2,-999.0000,9,     83.7,2,     83.4,2,   164.68,2,    40.31,2,     0.00,2,     2.85,2, -999.000,9, -999.000,9,   -999.0,9,   -999.0,9,-999.0000,9,  -999.00,  -999.00,9,  -999.00,9,   1.8086,2,      106
  49RY20120726,   40N,    70,  1,     15,     88,2,20120903,2348, 37.5173, 166.7973, 5422,   2433.1,   1.7029,   1.7028,2,  34.6319,2,-999.0000,9,     97.4,2,     97.3,2,   163.84,2,    39.52,2,     0.00,2,     2.78,2, -999.000,9, -999.000,9,   -999.0,9,   -999.0,9,-999.0000,9,  -999.00,  -999.00,9,  -999.00,9,   1.7028,2,      102
  49RY20120726,   40N,    70,  1,     14,    999,2,20120903,2348, 37.5173, 166.7973, 5422,   2637.5,   1.6288,   1.6289,2,  34.6452,2,-999.0000,9,    108.9,2,    109.8,2,   161.66,2,    38.78,2,     0.00,2,     2.72,2, -999.000,9, -999.000,9,   -999.0,9,   -999.0,9,-999.0000,9,  -999.00,  -999.00,9,  -999.00,9,   1.6289,2,       54
  49RY20120726,   40N,    70,  1,     13,    667,2,20120903,2348, 37.5173, 166.7973, 5422,   2842.5,   1.5752,   1.5752,2,  34.6548,2,-999.0000,9,    118.2,2,    118.6,2,   159.81,2,    38.22,2,     0.00,2,     2.68,2, -999.000,9, -999.000,9,   -999.0,9,   -999.0,9,-999.0000,9,  -999.00,  -999.00,9,  -999.00,9,   1.5752,2,       49
  49RY20120726,   40N,    70,  1,     12,     74,2,20120903,2348, 37.5173, 166.7973, 5422,   3047.0,   1.5287,   1.5288,2,  34.6631,2,-999.0000,9,    127.0,2,    127.0,2,   157.40,2,    37.64,2,     0.00,2,     2.63,2, -999.000,9, -999.000,9,   -999.0,9,   -999.0,9,-999.0000,9,  -999.00,  -999.00,9,  -999.00,9,   1.5288,2,       43
  49RY20120726,   40N,    70,  1,     11,    996,2,20120903,2348, 37.5173, 166.7973, 5422,   3301.8,   1.4899,   1.4898,2,  34.6706,2,-999.0000,9,    135.4,2,    136.5,3,   155.34,2,    37.07,2,     0.00,2,     2.59,2, -999.000,9, -999.000,9,   -999.0,9,   -999.0,9,-999.0000,9,  -999.00,  -999.00,9,  -999.00,9,   1.4898,2,       37
  49RY20120726,   40N,    70,  1,     10,    107,2,20120903,2348, 37.5173, 166.7973, 5422,   3560.7,   1.4667,   1.4668,2,  34.6762,2,-999.0000,9,    141.9,2,    142.6,2,   153.76,2,    36.70,2,     0.00,2,     2.55,2, -999.000,9, -999.000,9,   -999.0,9,   -999.0,9,-999.0000,9,  -999.00,  -999.00,9,  -999.00,9,   1.4668,2,       32
  49RY20120726,   40N,    70,  1,      9,    108,2,20120903,2348, 37.5173, 166.7973, 5422,   3814.3,   1.4478,   1.4478,2,  34.6811,2,-999.0000,9,    147.8,2,    148.2,2,   152.28,2,    36.31,2,     0.00,2,     2.52,2, -999.000,9, -999.000,9,   -999.0,9,   -999.0,9,-999.0000,9,  -999.00,  -999.00,9,  -999.00,9,   1.4478,2,       26
  49RY20120726,   40N,    70,  1,      8,     81,3,20120903,2348, 37.5173, 166.7973, 5422,   4070.7,   1.4483,   1.4482,2,  34.6841,2,-999.0000,9,    151.5,2,    151.8,2,   151.30,2,    36.02,2,     0.00,2,     2.50,2, -999.000,9, -999.000,9,   -999.0,9,   -999.0,9,-999.0000,9,  -999.00,  -999.00,9,  -999.00,9,   1.4482,2,       21
  49RY20120726,   40N,    70,  1,      7,    106,2,20120903,2348, 37.5173, 166.7973, 5422,   4327.4,   1.4575,   1.4576,2,  34.6864,2,-999.0000,9,    154.1,2,    152.9,3,   151.04,2,    35.89,2,     0.00,2,     2.49,2, -999.000,9, -999.000,9,   -999.0,9,   -999.0,9,-999.0000,9,  -999.00,  -999.00,9,  -999.00,9,   1.4576,2,       15
  49RY20120726,   40N,    70,  1,      6,    113,3,20120903,2348, 37.5173, 166.7973, 5422,   4583.9,   1.4774,   1.4775,2,  34.6875,2,-999.0000,9,    155.5,2,    155.3,2,   150.92,2,    35.79,2,     0.00,2,     2.49,2, -999.000,9, -999.000,9,   -999.0,9,   -999.0,9,-999.0000,9,  -999.00,  -999.00,9,  -999.00,9,   1.4775,2,        9
  49RY20120726,   40N,    70,  1,      5,     94,2,20120903,2348, 37.5173, 166.7973, 5422,   4584.2,   1.4774,   1.4776,2,  34.6875,2,-999.0000,9,    155.5,2,    155.6,2,   150.93,2,    35.78,2,     0.00,2,     2.49,2, -999.000,9, -999.000,9,   -999.0,9,   -999.0,9,-999.0000,9,  -999.00,  -999.00,9,  -999.00,9,   1.4776,2,        9
  49RY20120726,   40N,    70,  1,      4,     77,2,20120903,2348, 37.5173, 166.7973, 5422,   4842.5,   1.5031,   1.5032,2,  34.6881,2,-999.0000,9,    156.2,2,    156.4,2,   150.98,2,    35.73,2,     0.00,2,     2.48,2, -999.000,9, -999.000,9,   -999.0,9,   -999.0,9,-999.0000,9,  -999.00,  -999.00,9,  -999.00,9,   1.5032,2,        4
  49RY20120726,   40N,    70,  1,      3,    104,2,20120903,2348, 37.5173, 166.7973, 5422,   5099.5,   1.5293,   1.5295,2,  34.6889,2,-999.0000,9,    157.0,2,    156.9,6,   151.16,6,    35.75,6,     0.00,6,     2.48,6, -999.000,9, -999.000,9,   -999.0,9,   -999.0,9,-999.0000,9,  -999.00,  -999.00,9,  -999.00,9,   1.5295,2,     2358
  49RY20120726,   40N,    70,  1,      2,     75,2,20120903,2348, 37.5173, 166.7973, 5422,   5356.9,   1.5608,   1.5607,2,  34.6890,2,-999.0000,9,    157.2,2,    157.4,2,   151.36,2,    35.70,2,     0.00,2,     2.47,2, -999.000,9, -999.000,9,   -999.0,9,   -999.0,9,-999.0000,9,  -999.00,  -999.00,9,  -999.00,9,   1.5607,2,     2353
  49RY20120726,   40N,    70,  1,      1,    997,2,20120903,2348, 37.5173, 166.7973, 5422,   5536.5,   1.5844,   1.5843,2,  34.6888,2,-999.0000,9,    157.3,2,    157.2,2,   151.38,2,    35.69,2,     0.00,2,     2.48,2, -999.000,9, -999.000,9,   -999.0,9,   -999.0,9,-999.0000,9,  -999.00,  -999.00,9,  -999.00,9,   1.5843,2,     2348