BOTTLE,20210419PRINUNIVRMK
EXPOCODE,SECT_ID,STNNBR,CASTNO,SAMPNO,BTLNBR,BTLNBR_FLAG_W,DATE,TIME,LATITUDE,LONGITUDE,DEPTH,CTDPRS,CTDTMP,SBE35,SBE35_FLAG_W,CTDSAL,CTDSAL_FLAG_W,SALNTY,SALNTY_FLAG_W,CTDOXY,CTDOXY_FLAG_W,OXYGEN,OXYGEN_FLAG_W,SILCAT,SILCAT_FLAG_W,NITRAT,NITRAT_FLAG_W,NITRIT,NITRIT_FLAG_W,PHSPHT,PHSPHT_FLAG_W,CFC-11,CFC-11_FLAG_W,CFC-12,CFC-12_FLAG_W,TCARBN,TCARBN_FLAG_W,ALKALI,ALKALI_FLAG_W,PH_TOT,PH_TOT_FLAG_W,PH_TMP,CHLORA,CHLORA_FLAG_W,PPHYTN,PPHYTN_FLAG_W,SBE35,SBE35_FLAG_W,BTL_TIME
,,,,,,,,,,,METERS,DBAR,ITS-90,,,PSS-78,,PSS-78,,UMOL/KG,,UMOL/KG,,UMOL/KG,,UMOL/KG,,UMOL/KG,,UMOL/KG,,PMOL/KG,,PMOL/KG,,UMOL/KG,,UMOL/KG,,,,DEG C,UG/KG,,UG/KG,,,,
  49RY20120726,   40N,    47,  1,     13,    667,2,20120827,1937, 39.9773, 168.9883, 5886,     10.1,  23.4202,  23.4296,2,  34.1853,2,  34.1898,4,    216.5,2,    217.1,2,     1.61,2,     0.02,2,     0.00,2,     0.04,2, -999.000,9, -999.000,9,   1975.9,2,   2254.9,2,   8.0200,4,    25.00,     0.10,2,     0.02,2,  23.4296,2,     2209
  49RY20120726,   40N,    47,  1,     36,    109,2,20120827,1937, 39.9773, 168.9883, 5886,     49.7,  16.0834,  16.0859,2,  34.5825,2,  34.5829,2,    228.8,2,    228.5,2,     5.30,2,     3.69,2,     0.32,2,     0.31,2, -999.000,9, -999.000,9,   2030.2,2,   2275.1,2,   7.9482,4,    25.00,     0.59,2,     0.57,2,  16.0859,2,     2205
  49RY20120726,   40N,    47,  1,     35,    112,2,20120827,1937, 39.9773, 168.9883, 5886,    101.0,  14.2343,  14.2385,2,  34.5131,2,  34.5132,2,    219.6,2,    220.2,2,     8.92,2,     7.79,3,     0.02,2,     0.55,2, -999.000,9, -999.000,9,   2064.1,2,   2273.0,2,   7.8915,4,    25.00,     0.09,2,     0.04,2,  14.2385,2,     2204
  49RY20120726,   40N,    47,  1,     34,     83,4,20120827,1937, 39.9773, 168.9883, 5886,    151.4,  13.0381,  13.0402,2,  34.4330,2,-999.0000,9,    220.0,2,   -999.0,9,  -999.00,9,  -999.00,9,  -999.00,9,  -999.00,9, -999.000,9, -999.000,9,   -999.0,9,   -999.0,9,-999.0000,9,  -999.00,  -999.00,9,  -999.00,9,  13.0402,2,     2202
  49RY20120726,   40N,    47,  1,     33,     86,2,20120827,1937, 39.9773, 168.9883, 5886,    202.3,  11.8754,  11.8723,2,  34.3434,2,  34.3430,2,    228.9,2,    228.8,2,    14.68,2,    10.97,2,     0.02,2,     0.78,2, -999.000,9, -999.000,9,   2082.8,2,   2271.6,2,   7.8381,4,    25.00,     0.01,2,     0.01,2,  11.8723,2,     2200
  49RY20120726,   40N,    47,  1,     32,    105,2,20120827,1937, 39.9773, 168.9883, 5886,    252.5,  10.9461,  10.9486,2,  34.2385,2,  34.2382,2,    236.7,2,    236.6,6,    16.08,6,    11.69,6,     0.01,6,     0.85,6, -999.000,9, -999.000,9,   2083.0,2,   2268.7,2,   7.8205,4,    25.00,  -999.00,9,  -999.00,9,  10.9486,2,     2158
  49RY20120726,   40N,    47,  1,     31,     76,2,20120827,1937, 39.9773, 168.9883, 5886,    301.2,   9.9745,   9.9763,2,  34.1572,2,  34.1581,2,    218.0,2,    218.0,2,    22.54,2,    15.18,2,     0.01,2,     1.10,2, -999.000,9, -999.000,9,   2111.2,2,   2271.7,2,   7.7696,4,    25.00,  -999.00,9,  -999.00,9,   9.9763,2,     2157
  49RY20120726,   40N,    47,  1,     30,     97,2,20120827,1937, 39.9773, 168.9883, 5886,    403.6,   7.8668,   7.8701,2,  33.9769,2,  33.9781,2,    221.2,2,    222.2,2,    30.12,2,    18.58,2,     0.01,2,     1.36,2, -999.000,9, -999.000,9,   2132.4,6,   2269.9,6,   7.7098,4,    25.00,  -999.00,9,  -999.00,9,   7.8701,2,     2154
  49RY20120726,   40N,    47,  1,     29,    102,2,20120827,1937, 39.9773, 168.9883, 5886,    503.8,   6.3259,   6.3259,2,  33.9834,2,  33.9836,2,    150.0,2,    149.7,2,    55.23,2,    28.42,2,     0.00,2,     2.07,2, -999.000,9, -999.000,9,   2206.7,2,   2286.8,2,   7.5499,4,    25.00,  -999.00,9,  -999.00,9,   6.3259,2,     2152
  49RY20120726,   40N,    47,  1,     28,     91,2,20120827,1937, 39.9773, 168.9883, 5886,    605.0,   4.8667,   4.8667,2,  33.9785,2,  33.9789,2,    111.1,2,    111.3,2,    75.80,2,    34.59,2,     0.00,2,     2.51,2, -999.000,9, -999.000,9,   2258.4,2,   2301.3,2,   7.4388,4,    25.00,  -999.00,9,  -999.00,9,   4.8667,2,     2149
  49RY20120726,   40N,    47,  1,     27,    998,2,20120827,1937, 39.9773, 168.9883, 5886,    706.6,   4.3966,   4.3972,2,  34.0817,2,  34.0827,2,     74.9,2,     74.9,2,    92.60,2,    38.13,2,     0.00,2,     2.76,2, -999.000,9, -999.000,9,   2290.8,2,   2319.6,2,   7.3764,4,    25.00,  -999.00,9,  -999.00,9,   4.3972,2,     2147
  49RY20120726,   40N,    47,  1,     26,     84,2,20120827,1937, 39.9773, 168.9883, 5886,    809.0,   3.9708,   3.9717,2,  34.1486,2,  34.1478,2,     54.0,2,     54.7,2,   105.86,2,    40.41,2,     0.00,2,     2.91,2, -999.000,9, -999.000,9,   2319.0,2,   2333.4,2,   7.3406,4,    25.00,  -999.00,9,  -999.00,9,   3.9717,2,     2139
  49RY20120726,   40N,    47,  1,     25,     98,2,20120827,1937, 39.9773, 168.9883, 5886,    910.4,   3.5744,   3.5746,2,  34.2195,2,  34.2182,2,     39.2,2,     39.0,2,   119.49,2,    41.99,2,     0.00,2,     3.02,2, -999.000,9, -999.000,9,   2348.7,2,   2347.0,6,   7.3149,4,    25.00,  -999.00,9,  -999.00,9,   3.5746,2,     2136
  49RY20120726,   40N,    47,  1,     24,    110,2,20120827,1937, 39.9773, 168.9883, 5886,   1010.8,   3.4635,   3.4633,2,  34.2948,2,  34.2957,2,     37.4,2,     37.2,2,   125.54,2,    42.17,2,     0.00,2,     3.02,2, -999.000,9, -999.000,9,   2352.2,2,   2358.9,2,   7.3290,4,    25.00,  -999.00,9,  -999.00,9,   3.4633,2,     2134
  49RY20120726,   40N,    47,  1,     23,     96,2,20120827,1937, 39.9773, 168.9883, 5886,   1213.6,   2.9921,   2.9917,2,  34.3831,2,  34.3827,2,     31.8,2,     31.9,2,   140.32,2,    43.00,2,     0.00,2,     3.08,2, -999.000,9, -999.000,9,   2373.9,2,   2377.8,2,   7.3248,4,    25.00,  -999.00,9,  -999.00,9,   2.9917,2,     2129
  49RY20120726,   40N,    47,  1,     22,    111,2,20120827,1937, 39.9773, 168.9883, 5886,   1415.5,   2.6666,   2.6664,2,  34.4435,2,  34.4436,2,     33.1,2,     33.1,2,   150.39,2,    43.19,2,     0.00,2,     3.08,2, -999.000,9, -999.000,9,   2375.9,2,   2389.8,2,   7.3290,4,    25.00,  -999.00,9,  -999.00,9,   2.6664,2,     2123
  49RY20120726,   40N,    47,  1,     21,     78,2,20120827,1937, 39.9773, 168.9883, 5886,   1618.2,   2.4013,   2.4012,2,  34.4918,2,  34.4917,2,     39.2,2,     38.9,2,   158.21,2,    42.95,2,     0.00,2,     3.05,2, -999.000,9, -999.000,9,   2381.3,2,   2398.7,2,   7.3417,4,    25.00,  -999.00,9,  -999.00,9,   2.4012,2,     2119
  49RY20120726,   40N,    47,  1,     20,     93,2,20120827,1937, 39.9773, 168.9883, 5886,   1822.7,   2.1901,   2.1902,2,  34.5375,2,  34.5370,2,     48.6,2,     48.8,6,   162.92,6,    42.43,6,     0.00,6,     3.01,6, -999.000,9, -999.000,9,   2389.3,3,   2403.4,2,   7.3647,4,    25.00,  -999.00,9,  -999.00,9,   2.1902,2,     2115
  49RY20120726,   40N,    47,  1,     19,     92,2,20120827,1937, 39.9773, 168.9883, 5886,   2025.9,   2.0446,   2.0444,2,  34.5682,2,  34.5695,2,     59.0,2,     59.2,2,   165.25,2,    41.88,2,     0.00,2,     2.97,2, -999.000,9, -999.000,9,   2380.5,2,   2409.5,2,   7.3917,4,    25.00,  -999.00,9,  -999.00,9,   2.0444,2,     2109
  49RY20120726,   40N,    47,  1,     18,    101,2,20120827,1937, 39.9773, 168.9883, 5886,   2228.6,   1.9188,   1.9188,2,  34.5931,2,  34.5935,6,     70.9,2,     70.9,2,   166.30,2,    41.11,2,     0.00,2,     2.91,2, -999.000,9, -999.000,9,   2379.9,2,   2413.8,2,   7.4123,4,    25.00,  -999.00,9,  -999.00,9,   1.9188,2,     2105
  49RY20120726,   40N,    47,  1,     17,     90,2,20120827,1937, 39.9773, 168.9883, 5886,   2431.6,   1.7956,   1.7957,2,  34.6163,2,  34.6162,2,     83.9,2,     83.4,2,   166.68,2,    40.27,2,     0.00,2,     2.85,2, -999.000,9, -999.000,9,   2369.6,2,   2415.9,6,   7.4398,4,    25.00,  -999.00,9,  -999.00,9,   1.7957,2,     2058
  49RY20120726,   40N,    47,  1,     16,     89,2,20120827,1937, 39.9773, 168.9883, 5886,   2636.4,   1.6888,   1.6887,2,  34.6349,2,  34.6346,2,     98.6,2,     98.0,2,   165.11,2,    39.40,2,     0.00,2,     2.78,2, -999.000,9, -999.000,9,   2357.3,2,   2416.6,2,   7.4678,4,    25.00,  -999.00,9,  -999.00,9,   1.6887,2,     2053
  49RY20120726,   40N,    47,  1,     15,     88,2,20120827,1937, 39.9773, 168.9883, 5886,   2841.1,   1.6097,   1.6097,2,  34.6487,2,  34.6493,2,    112.0,2,    112.1,2,   162.18,2,    38.44,2,     0.00,2,     2.72,2, -999.000,9, -999.000,9,   2355.1,2,   2417.0,2,   7.4924,4,    25.00,  -999.00,9,  -999.00,9,   1.6097,2,     2048
  49RY20120726,   40N,    47,  1,     14,    999,2,20120827,1937, 39.9773, 168.9883, 5886,   3046.7,   1.5608,   1.5606,2,  34.6578,2,  34.6580,2,    121.3,2,    121.1,2,   159.87,2,    37.97,2,     0.00,2,     2.67,2, -999.000,9, -999.000,9,   2332.8,3,   2417.5,2,   7.5105,4,    25.00,  -999.00,9,  -999.00,9,   1.5606,2,     2044
  49RY20120726,   40N,    47,  1,     12,     74,2,20120827,1937, 39.9773, 168.9883, 5886,   3300.7,   1.5181,   1.5181,2,  34.6667,2,  34.6674,2,    130.5,2,    130.6,6,   157.57,6,    37.27,6,     0.00,6,     2.63,6, -999.000,9, -999.000,9,   2345.0,2,   2419.7,2,   7.5304,4,    25.00,  -999.00,9,  -999.00,9,   1.5181,2,     2039
  49RY20120726,   40N,    47,  1,     11,    996,2,20120827,1937, 39.9773, 168.9883, 5886,   3556.2,   1.4896,   1.4896,2,  34.6731,2,  34.6733,2,    137.9,2,    138.0,2,   155.94,2,    36.76,2,     0.00,2,     2.58,2, -999.000,9, -999.000,9,   2338.6,2,   2417.6,2,   7.5423,4,    25.00,  -999.00,9,  -999.00,9,   1.4896,2,     2034
  49RY20120726,   40N,    47,  1,     10,    107,2,20120827,1937, 39.9773, 168.9883, 5886,   3815.7,   1.4778,   1.4779,2,  34.6778,2,  34.6765,6,    143.3,2,    143.1,2,   154.66,2,    36.38,2,     0.00,2,     2.55,2, -999.000,9, -999.000,9,   2335.1,2,   2418.0,2,   7.5491,4,    25.00,  -999.00,9,  -999.00,9,   1.4779,2,     2025
  49RY20120726,   40N,    47,  1,      9,    108,2,20120827,1937, 39.9773, 168.9883, 5886,   4069.3,   1.4800,   1.4800,2,  34.6808,2,  34.6813,2,    146.8,2,    146.9,2,   153.94,2,    36.24,2,     0.00,2,     2.53,2, -999.000,9, -999.000,9,   2331.5,2,   2418.1,2,   7.5580,4,    25.00,  -999.00,9,  -999.00,9,   1.4800,2,     2020
  49RY20120726,   40N,    47,  1,      8,     81,2,20120827,1937, 39.9773, 168.9883, 5886,   4325.5,   1.4885,   1.4886,2,  34.6831,2,  34.6827,2,    149.5,2,    149.5,2,   153.51,2,    36.22,2,     0.00,2,     2.52,2, -999.000,9, -999.000,9,   2332.7,2,   2416.2,2,   7.5604,4,    25.00,  -999.00,9,  -999.00,9,   1.4886,2,     2015
  49RY20120726,   40N,    47,  1,      7,    106,2,20120827,1937, 39.9773, 168.9883, 5886,   4582.9,   1.5016,   1.5018,2,  34.6851,2,  34.6838,2,    151.9,2,    150.4,4,   152.93,2,    36.01,2,     0.00,2,     2.51,2, -999.000,9, -999.000,9,   2322.4,3,   2417.7,6,   7.5648,4,    25.00,  -999.00,9,  -999.00,9,   1.5018,2,     2008
  49RY20120726,   40N,    47,  1,      6,    113,2,20120827,1937, 39.9773, 168.9883, 5886,   4841.1,   1.5214,   1.5215,2,  34.6864,2,  34.6865,2,    153.5,2,    153.4,2,   152.48,2,    35.76,2,     0.00,2,     2.49,2, -999.000,9, -999.000,9,   2327.0,2,   2416.8,2,   7.5687,4,    25.00,  -999.00,9,  -999.00,9,   1.5215,2,     2003
  49RY20120726,   40N,    47,  1,      5,     94,2,20120827,1937, 39.9773, 168.9883, 5886,   5097.7,   1.5452,   1.5453,2,  34.6873,2,  34.6865,2,    154.6,2,    155.4,2,   152.40,2,    35.80,2,     0.00,2,     2.49,2, -999.000,9, -999.000,9,   2326.6,2,   2416.0,2,   7.5721,4,    25.00,  -999.00,9,  -999.00,9,   1.5453,2,     1958
  49RY20120726,   40N,    47,  1,      4,     77,2,20120827,1937, 39.9773, 168.9883, 5886,   5356.7,   1.5732,   1.5734,2,  34.6880,2,  34.6878,2,    155.3,2,    155.7,2,   152.56,2,    35.71,2,     0.00,2,     2.48,2, -999.000,9, -999.000,9,   2327.3,2,   2417.6,2,   7.5745,4,    25.00,  -999.00,9,  -999.00,9,   1.5734,2,     1953
  49RY20120726,   40N,    47,  1,      3,    104,2,20120827,1937, 39.9773, 168.9883, 5886,   5615.3,   1.6029,   1.6030,2,  34.6884,2,  34.6882,6,    155.9,2,    156.4,2,   152.44,2,    35.68,2,     0.00,2,     2.49,2, -999.000,9, -999.000,9,   2322.7,2,   2418.6,2,   7.5748,4,    25.00,  -999.00,9,  -999.00,9,   1.6030,2,     1948
  49RY20120726,   40N,    47,  1,      2,     75,2,20120827,1937, 39.9773, 168.9883, 5886,   5874.0,   1.6332,   1.6332,2,  34.6887,2,  34.6881,2,    156.9,2,    156.4,6,   151.78,6,    35.64,6,     0.00,6,     2.49,6, -999.000,9, -999.000,9,   2326.7,2,   2419.5,2,   7.5734,4,    25.00,  -999.00,9,  -999.00,9,   1.6332,2,     1942
  49RY20120726,   40N,    47,  1,      1,    997,2,20120827,1937, 39.9773, 168.9883, 5886,   6008.7,   1.6507,   1.6505,2,  34.6888,2,  34.6893,2,    157.0,2,    156.8,2,   152.16,2,    35.59,2,     0.00,2,     2.49,2, -999.000,9, -999.000,9,   2326.5,2,   2418.6,2,   7.5778,4,    25.00,  -999.00,9,  -999.00,9,   1.6505,2,     1937