BOTTLE,20210419PRINUNIVRMK
EXPOCODE,SECT_ID,STNNBR,CASTNO,SAMPNO,BTLNBR,BTLNBR_FLAG_W,DATE,TIME,LATITUDE,LONGITUDE,DEPTH,CTDPRS,CTDTMP,SBE35,SBE35_FLAG_W,CTDSAL,CTDSAL_FLAG_W,SALNTY,SALNTY_FLAG_W,CTDOXY,CTDOXY_FLAG_W,OXYGEN,OXYGEN_FLAG_W,SILCAT,SILCAT_FLAG_W,NITRAT,NITRAT_FLAG_W,NITRIT,NITRIT_FLAG_W,PHSPHT,PHSPHT_FLAG_W,CFC-11,CFC-11_FLAG_W,CFC-12,CFC-12_FLAG_W,TCARBN,TCARBN_FLAG_W,ALKALI,ALKALI_FLAG_W,PH_TOT,PH_TOT_FLAG_W,PH_TMP,CHLORA,CHLORA_FLAG_W,PPHYTN,PPHYTN_FLAG_W,SBE35,SBE35_FLAG_W,BTL_TIME
,,,,,,,,,,,METERS,DBAR,ITS-90,,,PSS-78,,PSS-78,,UMOL/KG,,UMOL/KG,,UMOL/KG,,UMOL/KG,,UMOL/KG,,UMOL/KG,,PMOL/KG,,PMOL/KG,,UMOL/KG,,UMOL/KG,,,,DEG C,UG/KG,,UG/KG,,,,
  49RY20120726,   40N,    53,  1,     36,    109,2,20120829,1506, 37.5197, 170.0078, 5324,     11.1,  24.9385,  24.9397,2,  34.3305,2,-999.0000,9,    209.6,2,    210.1,2,     1.39,2,     0.00,2,     0.00,2,     0.02,2, -999.000,9, -999.000,9,   -999.0,9,   -999.0,9,-999.0000,9,  -999.00,  -999.00,9,  -999.00,9,  24.9397,2,     1746
  49RY20120726,   40N,    53,  1,     35,    112,2,20120829,1506, 37.5197, 170.0078, 5324,     56.2,  16.9511,  16.9697,2,  34.5385,2,-999.0000,9,    252.5,2,    249.9,2,     3.09,2,     0.20,2,     0.01,2,     0.10,2, -999.000,9, -999.000,9,   -999.0,9,   -999.0,9,-999.0000,9,  -999.00,  -999.00,9,  -999.00,9,  16.9697,2,     1737
  49RY20120726,   40N,    53,  1,     34,     83,2,20120829,1506, 37.5197, 170.0078, 5324,    103.9,  14.3240,  14.3085,2,  34.5083,2,-999.0000,9,    217.5,2,    218.3,2,     9.54,2,     7.94,2,     0.16,2,     0.57,2, -999.000,9, -999.000,9,   -999.0,9,   -999.0,9,-999.0000,9,  -999.00,  -999.00,9,  -999.00,9,  14.3085,2,     1735
  49RY20120726,   40N,    53,  1,     33,     86,2,20120829,1506, 37.5197, 170.0078, 5324,    152.1,  13.0413,  13.0630,2,  34.4270,2,-999.0000,9,    220.4,2,    220.5,6,    12.02,6,     9.70,6,     0.02,6,     0.69,6, -999.000,9, -999.000,9,   -999.0,9,   -999.0,9,-999.0000,9,  -999.00,  -999.00,9,  -999.00,9,  13.0630,2,     1733
  49RY20120726,   40N,    53,  1,     32,    105,2,20120829,1506, 37.5197, 170.0078, 5324,    203.4,  12.1123,  12.1168,2,  34.3552,2,-999.0000,9,    220.6,2,    220.7,2,    14.89,2,    11.30,2,     0.00,2,     0.81,2, -999.000,9, -999.000,9,   -999.0,9,   -999.0,9,-999.0000,9,  -999.00,  -999.00,9,  -999.00,9,  12.1168,2,     1731
  49RY20120726,   40N,    53,  1,     31,     76,2,20120829,1506, 37.5197, 170.0078, 5324,    255.8,  11.0120,  11.0064,2,  34.2535,2,-999.0000,9,    218.4,2,    218.9,2,    18.16,2,    13.11,2,     0.00,2,     0.95,2, -999.000,9, -999.000,9,   -999.0,9,   -999.0,9,-999.0000,9,  -999.00,  -999.00,9,  -999.00,9,  11.0064,2,     1729
  49RY20120726,   40N,    53,  1,     30,     97,2,20120829,1506, 37.5197, 170.0078, 5324,    303.4,   9.8739,   9.8761,2,  34.1603,2,-999.0000,9,    204.9,2,    205.8,2,    24.69,2,    16.54,2,     0.00,2,     1.19,2, -999.000,9, -999.000,9,   -999.0,9,   -999.0,9,-999.0000,9,  -999.00,  -999.00,9,  -999.00,9,   9.8761,2,     1727
  49RY20120726,   40N,    53,  1,     29,    102,2,20120829,1506, 37.5197, 170.0078, 5324,    404.2,   7.8885,   7.8875,2,  34.0454,2,-999.0000,9,    174.3,2,    174.2,2,    40.20,2,    23.17,2,     0.00,2,     1.68,2, -999.000,9, -999.000,9,   -999.0,9,   -999.0,9,-999.0000,9,  -999.00,  -999.00,9,  -999.00,9,   7.8875,2,     1725
  49RY20120726,   40N,    53,  1,     28,     91,2,20120829,1506, 37.5197, 170.0078, 5324,    506.3,   5.9723,   5.9743,2,  34.0008,2,-999.0000,9,    137.0,2,    137.2,6,    61.02,6,    30.07,6,     0.00,6,     2.20,6, -999.000,9, -999.000,9,   -999.0,9,   -999.0,9,-999.0000,9,  -999.00,  -999.00,9,  -999.00,9,   5.9743,2,     1722
  49RY20120726,   40N,    53,  1,     27,    998,2,20120829,1506, 37.5197, 170.0078, 5324,    606.6,   5.0607,   5.0604,2,  34.0413,2,-999.0000,9,    103.4,2,    102.7,2,    77.89,2,    34.76,2,     0.00,2,     2.52,2, -999.000,9, -999.000,9,   -999.0,9,   -999.0,9,-999.0000,9,  -999.00,  -999.00,9,  -999.00,9,   5.0604,2,     1719
  49RY20120726,   40N,    53,  1,     26,     84,2,20120829,1506, 37.5197, 170.0078, 5324,    708.1,   4.4414,   4.4413,2,  34.1398,2,-999.0000,9,     69.6,2,     69.7,2,    95.82,2,    38.44,2,     0.00,2,     2.77,2, -999.000,9, -999.000,9,   -999.0,9,   -999.0,9,-999.0000,9,  -999.00,  -999.00,9,  -999.00,9,   4.4413,2,     1717
  49RY20120726,   40N,    53,  1,     25,     98,2,20120829,1506, 37.5197, 170.0078, 5324,    808.7,   4.0395,   4.0397,2,  34.2140,2,-999.0000,9,     52.2,2,     51.6,2,   108.51,2,    40.39,2,     0.00,2,     2.90,2, -999.000,9, -999.000,9,   -999.0,9,   -999.0,9,-999.0000,9,  -999.00,  -999.00,9,  -999.00,9,   4.0397,2,     1709
  49RY20120726,   40N,    53,  1,     24,    110,2,20120829,1506, 37.5197, 170.0078, 5324,    910.2,   3.7151,   3.7149,2,  34.2655,2,-999.0000,9,     42.5,2,     42.8,2,   117.84,2,    41.43,2,     0.00,2,     2.97,2, -999.000,9, -999.000,9,   -999.0,9,   -999.0,9,-999.0000,9,  -999.00,  -999.00,9,  -999.00,9,   3.7149,2,     1705
  49RY20120726,   40N,    53,  1,     23,     96,2,20120829,1506, 37.5197, 170.0078, 5324,   1009.8,   3.4464,   3.4462,2,  34.3270,2,-999.0000,9,     39.9,2,     39.8,2,   126.27,2,    42.09,2,     0.00,2,     3.01,2, -999.000,9, -999.000,9,   -999.0,9,   -999.0,9,-999.0000,9,  -999.00,  -999.00,9,  -999.00,9,   3.4462,2,     1703
  49RY20120726,   40N,    53,  1,     22,    111,2,20120829,1506, 37.5197, 170.0078, 5324,   1213.8,   2.9605,   2.9603,2,  34.4040,2,-999.0000,9,     30.9,2,     30.8,2,   141.26,2,    43.21,2,     0.00,2,     3.08,2, -999.000,9, -999.000,9,   -999.0,9,   -999.0,9,-999.0000,9,  -999.00,  -999.00,9,  -999.00,9,   2.9603,2,     1659
  49RY20120726,   40N,    53,  1,     21,     78,2,20120829,1506, 37.5197, 170.0078, 5324,   1417.7,   2.6094,   2.6091,2,  34.4690,2,-999.0000,9,     34.1,2,     33.8,2,   151.07,2,    43.20,2,     0.00,2,     3.08,2, -999.000,9, -999.000,9,   -999.0,9,   -999.0,9,-999.0000,9,  -999.00,  -999.00,9,  -999.00,9,   2.6091,2,     1642
  49RY20120726,   40N,    53,  1,     20,     93,2,20120829,1506, 37.5197, 170.0078, 5324,   1620.1,   2.3520,   2.3518,2,  34.5160,2,-999.0000,9,     42.3,2,     42.6,2,   157.82,2,    42.95,2,     0.00,2,     3.04,2, -999.000,9, -999.000,9,   -999.0,9,   -999.0,9,-999.0000,9,  -999.00,  -999.00,9,  -999.00,9,   2.3518,2,     1638
  49RY20120726,   40N,    53,  1,     19,     92,2,20120829,1506, 37.5197, 170.0078, 5324,   1822.4,   2.1487,   2.1487,2,  34.5467,2,-999.0000,9,     51.9,2,     51.8,2,   162.85,2,    42.36,2,     0.00,2,     3.00,2, -999.000,9, -999.000,9,   -999.0,9,   -999.0,9,-999.0000,9,  -999.00,  -999.00,9,  -999.00,9,   2.1487,2,     1633
  49RY20120726,   40N,    53,  1,     18,    101,2,20120829,1506, 37.5197, 170.0078, 5324,   2026.4,   2.0022,   2.0019,2,  34.5762,2,-999.0000,9,     63.0,2,     63.1,2,   164.68,2,    41.78,2,     0.00,2,     2.95,2, -999.000,9, -999.000,9,   -999.0,9,   -999.0,9,-999.0000,9,  -999.00,  -999.00,9,  -999.00,9,   2.0019,2,     1624
  49RY20120726,   40N,    53,  1,     17,     90,2,20120829,1506, 37.5197, 170.0078, 5324,   2230.0,   1.8844,   1.8843,2,  34.5997,2,-999.0000,9,     74.9,2,     75.5,2,   164.81,2,    41.24,2,     0.00,2,     2.90,2, -999.000,9, -999.000,9,   -999.0,9,   -999.0,9,-999.0000,9,  -999.00,  -999.00,9,  -999.00,9,   1.8843,2,     1619
  49RY20120726,   40N,    53,  1,     16,     89,2,20120829,1506, 37.5197, 170.0078, 5324,   2230.0,   1.8844,   1.8843,2,  34.5997,2,-999.0000,9,     74.9,2,     74.7,2,   164.88,2,    41.09,2,     0.00,2,     2.90,2, -999.000,9, -999.000,9,   -999.0,9,   -999.0,9,-999.0000,9,  -999.00,  -999.00,9,  -999.00,9,   1.8843,2,     1619
  49RY20120726,   40N,    53,  1,     15,     88,2,20120829,1506, 37.5197, 170.0078, 5324,   2434.1,   1.7612,   1.7613,2,  34.6224,2,-999.0000,9,     90.0,2,     89.9,2,   163.63,2,    39.97,2,     0.00,2,     2.82,2, -999.000,9, -999.000,9,   -999.0,9,   -999.0,9,-999.0000,9,  -999.00,  -999.00,9,  -999.00,9,   1.7613,2,     1615
  49RY20120726,   40N,    53,  1,     14,    999,2,20120829,1506, 37.5197, 170.0078, 5324,   2637.6,   1.6627,   1.6626,2,  34.6399,2,-999.0000,9,    104.2,2,    104.7,6,   161.77,6,    39.11,6,     0.00,6,     2.75,6, -999.000,9, -999.000,9,   -999.0,9,   -999.0,9,-999.0000,9,  -999.00,  -999.00,9,  -999.00,9,   1.6626,2,     1605
  49RY20120726,   40N,    53,  1,     12,     74,2,20120829,1506, 37.5197, 170.0078, 5324,   2842.0,   1.5973,   1.5972,2,  34.6515,2,-999.0000,9,    114.9,2,    114.7,2,   159.44,2,    38.68,2,     0.00,2,     2.70,2, -999.000,9, -999.000,9,   -999.0,9,   -999.0,9,-999.0000,9,  -999.00,  -999.00,9,  -999.00,9,   1.5972,2,     1600
  49RY20120726,   40N,    53,  1,     13,    667,3,20120829,1506, 37.5197, 170.0078, 5324,   2842.6,   1.5973,   1.5972,2,  34.6514,2,-999.0000,9,    114.9,2,    114.9,2,   160.01,2,    38.61,2,     0.00,2,     2.70,2, -999.000,9, -999.000,9,   -999.0,9,   -999.0,9,-999.0000,9,  -999.00,  -999.00,9,  -999.00,9,   1.5972,2,     1600
  49RY20120726,   40N,    53,  1,     11,    996,4,20120829,1506, 37.5197, 170.0078, 5324,   3046.7,   1.5482,   1.5481,2,  34.6604,2,-999.0000,9,    123.9,2,    112.0,4,   160.40,4,    38.74,4,     0.00,4,     2.72,4, -999.000,9, -999.000,9,   -999.0,9,   -999.0,9,-999.0000,9,  -999.00,  -999.00,9,  -999.00,9,   1.5481,2,     1556
  49RY20120726,   40N,    53,  1,     10,    107,2,20120829,1506, 37.5197, 170.0078, 5324,   3301.7,   1.5097,   1.5096,2,  34.6681,2,-999.0000,9,    132.4,2,    132.2,2,   155.42,2,    37.27,2,     0.00,2,     2.61,2, -999.000,9, -999.000,9,   -999.0,9,   -999.0,9,-999.0000,9,  -999.00,  -999.00,9,  -999.00,9,   1.5096,2,     1550
  49RY20120726,   40N,    53,  1,      9,    108,2,20120829,1506, 37.5197, 170.0078, 5324,   3557.1,   1.4841,   1.4840,2,  34.6741,2,-999.0000,9,    139.4,2,    139.4,2,   153.61,2,    36.97,2,     0.00,2,     2.57,2, -999.000,9, -999.000,9,   -999.0,9,   -999.0,9,-999.0000,9,  -999.00,  -999.00,9,  -999.00,9,   1.4840,2,     1545
  49RY20120726,   40N,    53,  1,      8,     81,2,20120829,1506, 37.5197, 170.0078, 5324,   3813.9,   1.4658,   1.4658,2,  34.6792,2,-999.0000,9,    145.2,2,    145.0,2,   152.45,2,    36.58,2,     0.00,2,     2.55,2, -999.000,9, -999.000,9,   -999.0,9,   -999.0,9,-999.0000,9,  -999.00,  -999.00,9,  -999.00,9,   1.4658,2,     1540
  49RY20120726,   40N,    53,  1,      7,    106,2,20120829,1506, 37.5197, 170.0078, 5324,   4069.7,   1.4602,   1.4602,2,  34.6830,2,-999.0000,9,    149.7,2,    149.4,2,   151.27,2,    36.33,2,     0.00,2,     2.52,2, -999.000,9, -999.000,9,   -999.0,9,   -999.0,9,-999.0000,9,  -999.00,  -999.00,9,  -999.00,9,   1.4602,2,     1534
  49RY20120726,   40N,    53,  1,      6,    113,2,20120829,1506, 37.5197, 170.0078, 5324,   4327.3,   1.4646,   1.4646,2,  34.6856,2,-999.0000,9,    153.0,2,    152.8,2,   150.61,2,    36.18,2,     0.00,2,     2.51,2, -999.000,9, -999.000,9,   -999.0,9,   -999.0,9,-999.0000,9,  -999.00,  -999.00,9,  -999.00,9,   1.4646,2,     1529
  49RY20120726,   40N,    53,  1,      5,     94,2,20120829,1506, 37.5197, 170.0078, 5324,   4583.4,   1.4784,   1.4784,2,  34.6874,2,-999.0000,9,    155.2,2,    155.0,2,   150.25,2,    35.90,2,     0.00,2,     2.49,2, -999.000,9, -999.000,9,   -999.0,9,   -999.0,9,-999.0000,9,  -999.00,  -999.00,9,  -999.00,9,   1.4784,2,     1524
  49RY20120726,   40N,    53,  1,      4,     77,2,20120829,1506, 37.5197, 170.0078, 5324,   4839.9,   1.4990,   1.4990,2,  34.6885,2,-999.0000,9,    156.7,2,    156.8,2,   149.57,2,    35.84,2,     0.00,2,     2.48,2, -999.000,9, -999.000,9,   -999.0,9,   -999.0,9,-999.0000,9,  -999.00,  -999.00,9,  -999.00,9,   1.4990,2,     1519
  49RY20120726,   40N,    53,  1,      3,    104,2,20120829,1506, 37.5197, 170.0078, 5324,   5099.1,   1.5240,   1.5241,2,  34.6893,2,-999.0000,9,    157.8,2,    157.6,2,   149.16,2,    35.67,2,     0.00,2,     2.48,2, -999.000,9, -999.000,9,   -999.0,9,   -999.0,9,-999.0000,9,  -999.00,  -999.00,9,  -999.00,9,   1.5241,2,     1514
  49RY20120726,   40N,    53,  1,      2,     75,2,20120829,1506, 37.5197, 170.0078, 5324,   5356.2,   1.5294,   1.5293,2,  34.6913,2,-999.0000,9,    163.1,2,    162.9,2,   143.28,2,    35.40,2,     0.00,2,     2.44,2, -999.000,9, -999.000,9,   -999.0,9,   -999.0,9,-999.0000,9,  -999.00,  -999.00,9,  -999.00,9,   1.5293,2,     1509
  49RY20120726,   40N,    53,  1,      1,    997,2,20120829,1506, 37.5197, 170.0078, 5324,   5414.8,   1.5339,   1.5336,2,  34.6915,2,-999.0000,9,    163.7,2,    163.8,6,   142.95,6,    35.36,6,     0.00,6,     2.45,6, -999.000,9, -999.000,9,   -999.0,9,   -999.0,9,-999.0000,9,  -999.00,  -999.00,9,  -999.00,9,   1.5336,2,     1507