BOTTLE,20210419PRINUNIVRMK
EXPOCODE,SECT_ID,STNNBR,CASTNO,SAMPNO,BTLNBR,BTLNBR_FLAG_W,DATE,TIME,LATITUDE,LONGITUDE,DEPTH,CTDPRS,CTDTMP,SBE35,SBE35_FLAG_W,CTDSAL,CTDSAL_FLAG_W,SALNTY,SALNTY_FLAG_W,CTDOXY,CTDOXY_FLAG_W,OXYGEN,OXYGEN_FLAG_W,SILCAT,SILCAT_FLAG_W,NITRAT,NITRAT_FLAG_W,NITRIT,NITRIT_FLAG_W,PHSPHT,PHSPHT_FLAG_W,CFC-11,CFC-11_FLAG_W,CFC-12,CFC-12_FLAG_W,TCARBN,TCARBN_FLAG_W,ALKALI,ALKALI_FLAG_W,PH_TOT,PH_TOT_FLAG_W,PH_TMP,CHLORA,CHLORA_FLAG_W,PPHYTN,PPHYTN_FLAG_W,SBE35,SBE35_FLAG_W,BTL_TIME
,,,,,,,,,,,METERS,DBAR,ITS-90,,,PSS-78,,PSS-78,,UMOL/KG,,UMOL/KG,,UMOL/KG,,UMOL/KG,,UMOL/KG,,UMOL/KG,,PMOL/KG,,PMOL/KG,,UMOL/KG,,UMOL/KG,,,,DEG C,UG/KG,,UG/KG,,,,
  49RY20120726,   40N,    63,  1,     36,    109,4,20120901,1624, 33.9925, 169.2827, 5589,     11.1,  26.0423,  26.0423,2,  34.8166,2,-999.0000,9,    207.6,2,   -999.0,9,  -999.00,9,  -999.00,9,  -999.00,9,  -999.00,9, -999.000,9, -999.000,9,   -999.0,9,   -999.0,9,-999.0000,9,  -999.00,  -999.00,9,  -999.00,9,  26.0423,2,     1844
  49RY20120726,   40N,    63,  1,     35,    112,2,20120901,1624, 33.9925, 169.2827, 5589,     50.7,  21.7252,  21.7287,2,  34.9372,2,  34.9392,2,    240.8,2,    240.2,6,     1.96,6,     0.02,6,     0.00,6,     0.01,6, -999.000,9, -999.000,9,   1996.6,2,   2294.3,2,   8.0380,4,    25.00,     0.09,2,     0.01,2,  21.7287,2,     1840
  49RY20120726,   40N,    63,  1,     34,     83,2,20120901,1624, 33.9925, 169.2827, 5589,    101.3,  18.4748,  18.4772,2,  34.7616,2,  34.7623,2,    223.8,2,    223.1,2,     2.60,2,     0.00,2,     0.00,2,     0.06,2, -999.000,9, -999.000,9,   2019.1,6,   2284.2,6,   7.9807,4,    25.00,     0.17,2,     0.25,2,  18.4772,2,     1838
  49RY20120726,   40N,    63,  1,     33,     86,2,20120901,1624, 33.9925, 169.2827, 5589,    151.3,  17.1392,  17.1413,2,  34.6948,2,  34.6939,2,    225.1,2,    224.0,2,     3.35,2,     2.16,2,     0.32,2,     0.19,2, -999.000,9, -999.000,9,   -999.0,9,   -999.0,9,   7.9544,4,    25.00,     0.05,2,     0.16,2,  17.1413,2,     1837
  49RY20120726,   40N,    63,  1,     32,    105,4,20120901,1624, 33.9925, 169.2827, 5589,    202.0,  16.7013,  16.7020,2,  34.6872,2,-999.0000,9,    221.4,2,   -999.0,9,  -999.00,9,  -999.00,9,  -999.00,9,  -999.00,9, -999.000,9, -999.000,9,   -999.0,9,   -999.0,9,-999.0000,9,  -999.00,  -999.00,9,  -999.00,9,  16.7020,2,     1834
  49RY20120726,   40N,    63,  1,     31,     76,2,20120901,1624, 33.9925, 169.2827, 5589,    253.8,  16.1809,  16.1678,2,  34.6386,2,  34.6409,2,    218.0,2,    217.3,2,     5.45,2,     5.26,2,     0.01,2,     0.36,2, -999.000,9, -999.000,9,   2042.9,2,   2275.7,2,   7.9319,4,    25.00,  -999.00,9,  -999.00,9,  16.1678,2,     1825
  49RY20120726,   40N,    63,  1,     30,     97,2,20120901,1624, 33.9925, 169.2827, 5589,    282.7,  15.8023,  15.8017,2,  34.6062,2,  34.6048,2,    213.9,2,    213.1,2,     6.50,2,     6.22,2,     0.01,2,     0.42,2, -999.000,9, -999.000,9,   2043.3,2,   2274.5,2,   7.9131,4,    25.00,  -999.00,9,  -999.00,9,  15.8017,2,     1824
  49RY20120726,   40N,    63,  1,     29,    102,2,20120901,1624, 33.9925, 169.2827, 5589,    374.4,  13.7586,  13.7578,2,  34.4481,2,  34.4497,2,    204.3,2,    203.7,2,    11.19,2,    10.12,2,     0.00,2,     0.70,2, -999.000,9, -999.000,9,   2081.4,2,   2269.0,2,   7.8427,4,    25.00,  -999.00,9,  -999.00,9,  13.7578,2,     1822
  49RY20120726,   40N,    63,  1,     28,     91,2,20120901,1624, 33.9925, 169.2827, 5589,    475.7,  10.6823,  10.6815,2,  34.2460,2,  34.2436,2,    195.4,2,    195.5,2,    23.60,2,    16.13,2,     0.00,2,     1.14,2, -999.000,9, -999.000,9,   2120.5,2,   2273.2,2,   7.7525,4,    25.00,  -999.00,9,  -999.00,9,  10.6815,2,     1819
  49RY20120726,   40N,    63,  1,     27,    998,2,20120901,1624, 33.9925, 169.2827, 5589,    576.1,   8.0802,   8.0792,2,  34.0732,2,  34.0729,2,    170.5,2,    169.9,2,    39.81,2,  -999.00,2,  -999.00,5,     1.66,2, -999.000,9, -999.000,9,   2171.1,2,   2278.1,2,   7.6334,4,    25.00,  -999.00,9,  -999.00,9,   8.0792,2,     1817
  49RY20120726,   40N,    63,  1,     26,     84,2,20120901,1624, 33.9925, 169.2827, 5589,    677.2,   5.7922,   5.7888,2,  34.0028,2,  34.0032,2,    132.9,2,    131.6,2,    64.12,2,    30.82,2,     0.00,4,     2.23,2, -999.000,9, -999.000,9,   2231.0,2,   2293.2,2,   7.5028,4,    25.00,  -999.00,9,  -999.00,9,   5.7888,2,     1814
  49RY20120726,   40N,    63,  1,     25,     98,2,20120901,1624, 33.9925, 169.2827, 5589,    778.1,   4.9197,   4.9194,2,  34.0562,2,  34.0594,4,     96.5,2,     95.0,2,    82.10,2,    35.56,2,     0.00,2,     2.56,2, -999.000,9, -999.000,9,   2277.7,2,   2308.8,2,   7.4201,4,    25.00,  -999.00,9,  -999.00,9,   4.9194,2,     1811
  49RY20120726,   40N,    63,  1,     24,    110,2,20120901,1624, 33.9925, 169.2827, 5589,    879.1,   4.3916,   4.3917,2,  34.1554,2,  34.1572,2,     67.4,2,     66.6,2,    98.86,2,    38.64,2,     0.00,2,     2.77,2, -999.000,9, -999.000,9,   2310.0,2,   2328.1,2,   7.3729,4,    25.00,  -999.00,9,  -999.00,9,   4.3917,2,     1808
  49RY20120726,   40N,    63,  1,     23,     96,2,20120901,1624, 33.9925, 169.2827, 5589,    980.8,   3.9267,   3.9268,2,  34.2420,2,  34.2427,2,     49.5,2,     48.9,2,   113.00,2,    40.54,2,     0.00,2,     2.91,2, -999.000,9, -999.000,9,   2333.0,2,   2344.3,2,   7.3464,4,    25.00,  -999.00,9,  -999.00,9,   3.9268,2,     1806
  49RY20120726,   40N,    63,  1,     22,    111,3,20120901,1624, 33.9925, 169.2827, 5589,   1144.2,   3.3788,   3.3794,2,  34.3417,2,  34.3415,2,     41.2,2,     42.8,4,   129.05,2,    41.77,2,     0.00,2,     2.99,2, -999.000,9, -999.000,9,   2358.2,2,   2364.1,2,   7.3326,4,    25.00,  -999.00,9,  -999.00,9,   3.3794,2,     1802
  49RY20120726,   40N,    63,  1,     21,     78,2,20120901,1624, 33.9925, 169.2827, 5589,   1344.9,   2.8891,   2.8892,2,  34.4247,2,  34.4248,2,     32.1,2,     31.6,6,   143.75,6,    43.03,6,     0.00,6,     3.06,6, -999.000,9, -999.000,9,   2374.4,2,   2382.2,2,   7.3250,4,    25.00,  -999.00,9,  -999.00,9,   2.8892,2,     1758
  49RY20120726,   40N,    63,  1,     20,     93,2,20120901,1624, 33.9925, 169.2827, 5589,   1548.2,   2.4779,   2.4778,2,  34.4890,2,  34.4898,6,     37.6,2,     37.0,2,   155.92,2,    43.01,2,     0.00,2,     3.05,2, -999.000,9, -999.000,9,   2385.1,6,   2396.7,6,   7.3339,4,    25.00,  -999.00,9,  -999.00,9,   2.4778,2,     1750
  49RY20120726,   40N,    63,  1,     19,     92,2,20120901,1624, 33.9925, 169.2827, 5589,   1750.5,   2.2628,   2.2626,2,  34.5377,2,  34.5377,2,     47.7,2,     47.2,2,   160.59,2,    42.55,2,     0.00,2,     3.01,2, -999.000,9, -999.000,9,   2388.7,2,   2407.8,2,   7.3609,4,    25.00,  -999.00,9,  -999.00,9,   2.2626,2,     1746
  49RY20120726,   40N,    63,  1,     18,    101,2,20120901,1624, 33.9925, 169.2827, 5589,   1954.7,   2.0552,   2.0552,2,  34.5731,2,  34.5736,2,     61.4,2,     60.9,2,   163.83,2,    41.76,2,     0.00,2,     2.94,2, -999.000,9, -999.000,9,   2386.0,2,   2408.8,2,   7.3885,4,    25.00,  -999.00,9,  -999.00,9,   2.0552,2,     1740
  49RY20120726,   40N,    63,  1,     17,     90,2,20120901,1624, 33.9925, 169.2827, 5589,   2158.2,   1.9123,   1.9123,2,  34.5976,2,  34.5980,2,     74.0,2,     74.0,2,   164.88,2,    40.98,2,     0.00,2,     2.88,2, -999.000,9, -999.000,9,   2373.1,2,   2413.6,2,   7.4121,4,    25.00,  -999.00,9,  -999.00,9,   1.9123,2,     1735
  49RY20120726,   40N,    63,  1,     16,     89,2,20120901,1624, 33.9925, 169.2827, 5589,   2361.0,   1.7970,   1.7970,2,  34.6183,2,  34.6184,2,     87.4,2,     87.1,2,   164.38,2,    40.14,2,     0.00,2,     2.82,2, -999.000,9, -999.000,9,   2375.4,2,   2415.4,2,   7.4410,4,    25.00,  -999.00,9,  -999.00,9,   1.7970,2,     1731
  49RY20120726,   40N,    63,  1,     15,     88,2,20120901,1624, 33.9925, 169.2827, 5589,   2565.1,   1.6995,   1.6995,2,  34.6344,2,  34.6349,2,     99.9,2,     99.8,2,   163.19,2,    39.31,2,     0.00,2,     2.75,2, -999.000,9, -999.000,9,   2359.7,6,   2416.4,6,   7.4642,4,    25.00,  -999.00,9,  -999.00,9,   1.6995,2,     1727
  49RY20120726,   40N,    63,  1,     14,    999,2,20120901,1624, 33.9925, 169.2827, 5589,   2768.5,   1.6251,   1.6255,2,  34.6473,2,  34.6475,2,    111.4,2,    112.3,2,   161.13,2,    38.65,2,     0.00,2,     2.70,2, -999.000,9, -999.000,9,   2351.9,2,   2416.9,2,   7.4836,4,    25.00,  -999.00,9,  -999.00,9,   1.6255,2,     1723
  49RY20120726,   40N,    63,  1,     13,    667,2,20120901,1624, 33.9925, 169.2827, 5589,   2973.4,   1.5731,   1.5730,2,  34.6566,2,  34.6568,2,    120.2,2,    120.0,2,   159.52,2,    38.05,2,     0.00,2,     2.66,2, -999.000,9, -999.000,9,   2350.7,2,   2417.5,2,   7.4954,4,    25.00,  -999.00,9,  -999.00,9,   1.5730,2,     1718
  49RY20120726,   40N,    63,  1,     12,     74,2,20120901,1624, 33.9925, 169.2827, 5589,   3218.2,   1.5233,   1.5232,2,  34.6658,2,  34.6662,2,    129.9,2,    129.9,6,   157.06,6,    37.41,6,     0.00,6,     2.61,6, -999.000,9, -999.000,9,   2342.5,2,   2417.9,2,   7.5211,4,    25.00,  -999.00,9,  -999.00,9,   1.5232,2,     1714
  49RY20120726,   40N,    63,  1,     11,    996,2,20120901,1624, 33.9925, 169.2827, 5589,   3473.4,   1.4904,   1.4905,2,  34.6725,2,  34.6731,2,    137.5,2,    137.4,2,   155.49,2,    36.92,2,     0.00,2,     2.57,2, -999.000,9, -999.000,9,   2338.1,2,   2418.2,2,   7.5360,4,    25.00,  -999.00,9,  -999.00,9,   1.4905,2,     1708
  49RY20120726,   40N,    63,  1,     10,    107,2,20120901,1624, 33.9925, 169.2827, 5589,   3729.4,   1.4744,   1.4746,2,  34.6775,2,  34.6768,6,    143.2,2,    143.1,2,   153.66,2,    36.64,2,     0.00,2,     2.54,2, -999.000,9, -999.000,9,   2337.7,3,   2417.9,2,   7.5443,4,    25.00,  -999.00,9,  -999.00,9,   1.4746,2,     1703
  49RY20120726,   40N,    63,  1,      9,    108,2,20120901,1624, 33.9925, 169.2827, 5589,   3729.4,   1.4744,   1.4746,2,  34.6775,2,  34.6781,2,    143.2,2,    142.7,2,   153.73,2,    36.49,2,     0.00,2,     2.54,2, -999.000,9, -999.000,9,   2330.0,2,   2418.2,2,   7.5464,4,    25.00,  -999.00,9,  -999.00,9,   1.4746,2,     1703
  49RY20120726,   40N,    63,  1,      8,     81,3,20120901,1624, 33.9925, 169.2827, 5589,   3986.9,   1.4693,   1.4694,2,  34.6811,2,  34.6796,2,    147.6,2,    146.6,2,   152.42,2,    36.33,2,     0.00,2,     2.51,2, -999.000,9, -999.000,9,   2328.1,2,   2417.4,2,   7.5473,4,    25.00,  -999.00,9,  -999.00,9,   1.4694,2,     1658
  49RY20120726,   40N,    63,  1,      7,    106,2,20120901,1624, 33.9925, 169.2827, 5589,   4242.0,   1.4677,   1.4678,2,  34.6844,2,  34.6840,2,    151.6,2,    151.0,6,   151.50,6,    35.97,6,     0.00,6,     2.49,6, -999.000,9, -999.000,9,   2322.3,2,   2415.7,2,   7.5560,4,    25.00,  -999.00,9,  -999.00,9,   1.4678,2,     1653
  49RY20120726,   40N,    63,  1,      6,    113,4,20120901,1624, 33.9925, 169.2827, 5589,   4500.7,   1.4741,   1.4741,2,  34.6869,2,-999.0000,9,    154.8,2,   -999.0,9,  -999.00,9,  -999.00,9,  -999.00,9,  -999.00,9, -999.000,9, -999.000,9,   -999.0,9,   -999.0,9,-999.0000,9,  -999.00,  -999.00,9,  -999.00,9,   1.4741,2,     1648
  49RY20120726,   40N,    63,  1,      5,     94,2,20120901,1624, 33.9925, 169.2827, 5589,   4756.8,   1.4868,   1.4867,2,  34.6886,2,  34.6886,6,    157.6,2,    157.2,2,   149.05,2,    35.58,2,     0.00,2,     2.46,2, -999.000,9, -999.000,9,   2318.5,2,   2415.4,2,   7.5670,4,    25.00,  -999.00,9,  -999.00,9,   1.4867,2,     1643
  49RY20120726,   40N,    63,  1,      4,     77,2,20120901,1624, 33.9925, 169.2827, 5589,   5013.8,   1.4965,   1.4965,2,  34.6906,2,  34.6908,2,    161.6,2,    161.3,2,   145.49,2,    35.26,2,     0.00,2,     2.44,2, -999.000,9, -999.000,9,   2319.4,2,   2411.6,2,   7.5725,4,    25.00,  -999.00,9,  -999.00,9,   1.4965,2,     1638
  49RY20120726,   40N,    63,  1,      3,    104,2,20120901,1624, 33.9925, 169.2827, 5589,   5272.2,   1.5017,   1.5018,2,  34.6930,2,  34.6930,2,    166.6,2,    165.9,2,   141.06,2,    34.99,2,     0.00,2,     2.41,2, -999.000,9, -999.000,9,   2312.8,2,   2409.2,6,   7.5748,4,    25.00,  -999.00,9,  -999.00,9,   1.5018,2,     1633
  49RY20120726,   40N,    63,  1,      2,     75,2,20120901,1624, 33.9925, 169.2827, 5589,   5528.9,   1.5157,   1.5157,2,  34.6944,2,  34.6946,2,    169.9,2,    169.6,2,   137.80,2,    34.73,2,     0.00,2,     2.39,2, -999.000,9, -999.000,9,   2309.7,2,   2405.8,2,   7.5816,4,    25.00,  -999.00,9,  -999.00,9,   1.5157,2,     1628
  49RY20120726,   40N,    63,  1,      1,    997,2,20120901,1624, 33.9925, 169.2827, 5589,   5684.5,   1.5296,   1.5296,2,  34.6948,2,  34.6950,2,    171.0,2,    170.5,2,   137.21,2,    34.66,2,     0.00,2,     2.38,2, -999.000,9, -999.000,9,   2309.8,2,   2404.2,2,   7.5826,4,    25.00,  -999.00,9,  -999.00,9,   1.5296,2,     1624