BOTTLE,20210419PRINUNIVRMK
EXPOCODE,SECT_ID,STNNBR,CASTNO,SAMPNO,BTLNBR,BTLNBR_FLAG_W,DATE,TIME,LATITUDE,LONGITUDE,DEPTH,CTDPRS,CTDTMP,SBE35,SBE35_FLAG_W,CTDSAL,CTDSAL_FLAG_W,SALNTY,SALNTY_FLAG_W,CTDOXY,CTDOXY_FLAG_W,OXYGEN,OXYGEN_FLAG_W,SILCAT,SILCAT_FLAG_W,NITRAT,NITRAT_FLAG_W,NITRIT,NITRIT_FLAG_W,PHSPHT,PHSPHT_FLAG_W,CFC-11,CFC-11_FLAG_W,CFC-12,CFC-12_FLAG_W,TCARBN,TCARBN_FLAG_W,ALKALI,ALKALI_FLAG_W,PH_TOT,PH_TOT_FLAG_W,PH_TMP,CHLORA,CHLORA_FLAG_W,PPHYTN,PPHYTN_FLAG_W,SBE35,SBE35_FLAG_W,BTL_TIME
,,,,,,,,,,,METERS,DBAR,ITS-90,,,PSS-78,,PSS-78,,UMOL/KG,,UMOL/KG,,UMOL/KG,,UMOL/KG,,UMOL/KG,,UMOL/KG,,PMOL/KG,,PMOL/KG,,UMOL/KG,,UMOL/KG,,,,DEG C,UG/KG,,UG/KG,,,,
  49RY20120726,   40N,    15,  1,     36,    109,2,20120731,1119, 40.0147, 149.0178, 5513,     11.5,  15.7658,  15.7599,2,  33.1641,2,  33.1878,4,    274.8,2,    279.5,2,     1.38,2,     0.06,2,     0.00,2,     0.23,2, -999.000,9, -999.000,9,   1985.2,2,   2235.5,3,   7.9914,2,    25.00,     0.23,2,     0.07,2,  15.7599,2,     1343
  49RY20120726,   40N,    15,  1,     35,    112,2,20120731,1119, 40.0147, 149.0178, 5513,     52.4,   6.5275,   6.5520,2,  33.6731,2,  33.7345,4,    271.9,2,    280.7,4,    18.33,2,    13.54,2,     0.04,2,     1.06,2, -999.000,9, -999.000,9,   2104.8,2,   2253.8,3,   7.7663,2,    25.00,     0.21,2,     0.12,2,   6.5520,2,     1339
  49RY20120726,   40N,    15,  1,     34,     83,3,20120731,1119, 40.0147, 149.0178, 5513,    103.0,   5.1762,   5.1760,2,  33.5862,2,  33.5871,2,    276.1,2,    276.4,2,    25.93,2,    16.51,2,     0.01,2,     1.31,2, -999.000,9, -999.000,9,   2125.5,2,   2250.4,3,   7.7143,2,    25.00,     0.02,2,     0.07,2,   5.1760,2,     1337
  49RY20120726,   40N,    15,  1,     33,     86,2,20120731,1119, 40.0147, 149.0178, 5513,    153.5,   3.7338,   3.7274,2,  33.4884,2,  33.4910,2,    274.3,2,    274.2,2,    35.92,2,    20.35,2,     0.01,2,     1.60,2, -999.000,9, -999.000,9,   2144.9,2,   2249.6,3,   7.6524,2,    25.00,     0.01,2,     0.08,2,   3.7274,2,     1335
  49RY20120726,   40N,    15,  1,     32,    105,2,20120731,1119, 40.0147, 149.0178, 5513,    202.6,   2.8761,   2.8901,2,  33.4563,2,  33.4579,2,    251.7,2,    252.1,2,    47.75,2,    24.72,2,     0.01,2,     1.93,2, -999.000,9, -999.000,9,   2183.5,2,   2254.3,3,   7.5777,2,    25.00,  -999.00,5,  -999.00,5,   2.8901,2,     1333
  49RY20120726,   40N,    15,  1,     31,     76,2,20120731,1119, 40.0147, 149.0178, 5513,    253.4,   2.7809,   2.7661,2,  33.5634,2,  33.5570,2,    188.4,2,    189.2,2,    67.49,2,    31.81,2,     0.01,2,     2.40,2, -999.000,9, -999.000,9,   2232.0,2,   2266.7,3,   7.4585,2,    25.00,  -999.00,9,  -999.00,9,   2.7661,2,     1331
  49RY20120726,   40N,    15,  1,     30,    103,2,20120731,1119, 40.0147, 149.0178, 5513,    335.5,   2.8904,   2.8908,2,  33.7309,2,  33.7295,2,    104.9,2,    104.4,6,    89.79,6,    39.13,6,     0.01,6,     2.86,6, -999.000,9, -999.000,9,   2299.2,2,   2283.5,3,   7.3247,2,    25.00,  -999.00,9,  -999.00,9,   2.8908,2,     1328
  49RY20120726,   40N,    15,  1,     29,    102,2,20120731,1119, 40.0147, 149.0178, 5513,    435.7,   3.3682,   3.3685,2,  33.9313,2,  33.9340,2,     70.7,2,     69.4,2,   100.78,2,    40.51,2,     0.00,2,     2.95,2, -999.000,9, -999.000,9,   2319.0,6,   2305.9,3,   7.3075,2,    25.00,  -999.00,9,  -999.00,9,   3.3685,2,     1326
  49RY20120726,   40N,    15,  1,     28,     91,3,20120731,1119, 40.0147, 149.0178, 5513,    537.1,   3.4202,   3.4174,2,  34.0709,2,  34.0680,2,     45.8,2,     45.3,2,   113.67,2,    42.21,2,     0.00,2,     3.04,2, -999.000,9, -999.000,9,   2340.5,2,   2321.9,3,   7.2850,2,    25.00,  -999.00,9,  -999.00,9,   3.4174,2,     1323
  49RY20120726,   40N,    15,  1,     27,    998,2,20120731,1119, 40.0147, 149.0178, 5513,    639.7,   3.3500,   3.3507,2,  34.1887,2,  34.1885,2,     35.9,2,     35.2,2,   124.10,2,    42.50,2,     0.00,2,     3.07,2, -999.000,9, -999.000,9,   2360.9,2,   2337.0,3,   7.3088,2,    25.00,  -999.00,9,  -999.00,9,   3.3507,2,     1320
  49RY20120726,   40N,    15,  1,     26,     99,3,20120731,1119, 40.0147, 149.0178, 5513,    739.6,   3.2572,   3.2572,2,  34.2628,2,  34.2628,2,     36.3,2,     35.9,2,   129.99,2,    42.31,4,     0.00,2,     3.06,2, -999.000,9, -999.000,9,   2363.4,2,   2348.5,3,   7.3126,2,    25.00,  -999.00,9,  -999.00,9,   3.2572,2,     1317
  49RY20120726,   40N,    15,  1,     25,     98,2,20120731,1119, 40.0147, 149.0178, 5513,    840.0,   3.1836,   3.1831,2,  34.3344,2,  34.3357,2,     39.4,2,     39.2,6,   133.98,6,    42.08,6,     0.00,6,     3.04,6, -999.000,9, -999.000,9,   2364.1,2,   2358.1,3,   7.3368,3,    25.00,  -999.00,9,  -999.00,9,   3.1831,2,     1314
  49RY20120726,   40N,    15,  1,     24,    110,3,20120731,1119, 40.0147, 149.0178, 5513,    940.6,   2.8383,   2.8384,2,  34.3567,2,  34.3553,2,     35.3,2,     35.3,2,   143.85,2,    42.69,2,     0.00,2,     3.08,2, -999.000,9, -999.000,9,   2366.1,2,   2365.0,3,   7.3201,2,    25.00,  -999.00,9,  -999.00,9,   2.8384,2,     1311
  49RY20120726,   40N,    15,  1,     23,     96,2,20120731,1119, 40.0147, 149.0178, 5513,   1083.3,   2.7267,   2.7251,2,  34.4235,2,  34.4234,2,     38.9,2,     38.2,2,   147.97,2,    42.45,2,     0.00,2,     3.07,2, -999.000,9, -999.000,9,   2370.7,2,   2373.6,3,   7.3429,2,    25.00,  -999.00,9,  -999.00,9,   2.7251,2,     1307
  49RY20120726,   40N,    15,  1,     22,    111,2,20120731,1119, 40.0147, 149.0178, 5513,   1286.7,   2.5100,   2.5098,2,  34.4787,2,  34.4791,2,     42.4,2,     41.8,2,   154.37,2,    42.67,2,     0.00,2,     3.06,2, -999.000,9, -999.000,9,   2378.1,6,   2385.6,3,   7.3589,2,    25.00,  -999.00,9,  -999.00,9,   2.5098,2,     1302
  49RY20120726,   40N,    15,  1,     21,     78,2,20120731,1119, 40.0147, 149.0178, 5513,   1490.2,   2.3003,   2.3002,2,  34.5195,2,  34.5189,2,     48.7,2,     48.2,2,   159.24,2,    42.44,2,     0.00,2,     3.03,2, -999.000,9, -999.000,9,   2381.7,2,   2390.3,3,   7.3715,6,    25.00,  -999.00,9,  -999.00,9,   2.3002,2,     1257
  49RY20120726,   40N,    15,  1,     20,     93,2,20120731,1119, 40.0147, 149.0178, 5513,   1691.3,   2.1493,   2.1492,2,  34.5526,2,  34.5511,2,     57.7,2,     57.4,2,   161.54,2,    42.03,2,     0.00,2,     2.99,2, -999.000,9, -999.000,9,   2378.9,2,   2399.9,3,   7.3941,2,    25.00,  -999.00,9,  -999.00,9,   2.1492,2,     1253
  49RY20120726,   40N,    15,  1,     19,     92,3,20120731,1119, 40.0147, 149.0178, 5513,   1895.6,   2.0128,   2.0129,2,  34.5787,2,  34.5785,2,     68.3,2,     67.9,2,   163.33,2,    41.33,2,     0.00,2,     2.94,2, -999.000,9, -999.000,9,   2382.9,2,   2400.5,3,   7.4119,2,    25.00,  -999.00,9,  -999.00,9,   2.0129,2,     1248
  49RY20120726,   40N,    15,  1,     18,    101,2,20120731,1119, 40.0147, 149.0178, 5513,   2098.8,   1.8974,   1.8974,2,  34.6013,2,  34.6018,2,     79.9,2,     79.9,6,   163.36,6,    40.61,6,     0.00,6,     2.89,6, -999.000,9, -999.000,9,   2377.1,2,   2404.8,3,   7.4370,2,    25.00,  -999.00,9,  -999.00,9,   1.8974,2,     1243
  49RY20120726,   40N,    15,  1,     17,     90,2,20120731,1119, 40.0147, 149.0178, 5513,   2302.1,   1.7938,   1.7936,2,  34.6201,2,  34.6179,4,     92.0,2,     94.2,4,   162.19,2,    40.06,2,     0.00,2,     2.83,2, -999.000,9, -999.000,9,   2363.5,2,   2406.1,3,   7.4640,2,    25.00,  -999.00,9,  -999.00,9,   1.7936,2,     1238
  49RY20120726,   40N,    15,  1,     16,     89,3,20120731,1119, 40.0147, 149.0178, 5513,   2506.5,   1.7169,   1.7165,2,  34.6337,2,  34.6294,4,    102.0,2,    101.9,2,   160.56,2,    39.11,2,     0.00,2,     2.77,2, -999.000,9, -999.000,9,   2361.4,2,   2406.4,3,   7.4784,2,    25.00,  -999.00,9,  -999.00,9,   1.7165,2,     1233
  49RY20120726,   40N,    15,  1,     15,     88,3,20120731,1119, 40.0147, 149.0178, 5513,   2709.8,   1.6458,   1.6457,2,  34.6457,2,  34.6459,2,    111.7,2,    111.5,2,   159.80,2,    38.38,2,     0.00,2,     2.72,2, -999.000,9, -999.000,9,   2352.3,6,   2411.5,3,   7.4992,2,    25.00,  -999.00,9,  -999.00,9,   1.6457,2,     1229
  49RY20120726,   40N,    15,  1,     14,    999,2,20120731,1119, 40.0147, 149.0178, 5513,   2914.4,   1.5918,   1.5919,2,  34.6552,2,  34.6564,2,    120.2,2,    120.0,2,   158.55,2,    38.23,2,     0.00,2,     2.68,2, -999.000,9, -999.000,9,   2350.2,2,   2412.4,3,   7.5139,6,    25.00,  -999.00,9,  -999.00,9,   1.5919,2,     1224
  49RY20120726,   40N,    15,  1,     13,    996,2,20120731,1119, 40.0147, 149.0178, 5513,   3130.4,   1.5547,   1.5547,2,  34.6620,2,  34.6616,2,    127.0,2,    126.7,2,   157.35,2,    37.62,2,     0.00,2,     2.65,2, -999.000,9, -999.000,9,   2349.9,2,   2413.7,3,   7.5221,2,    25.00,  -999.00,9,  -999.00,9,   1.5547,2,     1219
  49RY20120726,   40N,    15,  1,     12,     74,3,20120731,1119, 40.0147, 149.0178, 5513,   3130.4,   1.5547,   1.5547,2,  34.6620,2,  34.6578,4,    127.0,2,    126.8,2,   156.89,2,    37.59,2,     0.00,2,     2.65,2, -999.000,9, -999.000,9,   2343.7,2,   2412.3,3,   7.5263,2,    25.00,  -999.00,9,  -999.00,9,   1.5547,2,     1219
  49RY20120726,   40N,    15,  1,     11,     97,2,20120731,1119, 40.0147, 149.0178, 5513,   3384.0,   1.5190,   1.5189,2,  34.6690,2,  34.6694,2,    134.8,2,    134.7,2,   155.07,2,    37.23,2,     0.00,2,     2.61,2, -999.000,9, -999.000,9,   2343.2,2,   2414.7,3,   7.5370,2,    25.00,  -999.00,9,  -999.00,9,   1.5189,2,     1213
  49RY20120726,   40N,    15,  1,     10,    107,2,20120731,1119, 40.0147, 149.0178, 5513,   3640.7,   1.4946,   1.4946,2,  34.6746,2,  34.6713,4,    141.2,2,    140.6,2,   153.27,2,    36.71,2,     0.00,2,     2.59,2, -999.000,9, -999.000,9,   2335.4,2,   2415.3,3,   7.5508,2,    25.00,  -999.00,9,  -999.00,9,   1.4946,2,     1208
  49RY20120726,   40N,    15,  1,      9,    108,2,20120731,1119, 40.0147, 149.0178, 5513,   3896.2,   1.4843,   1.4844,2,  34.6786,2,  34.6791,2,    145.8,2,    145.6,6,   152.17,6,    36.40,6,     0.00,6,     2.56,6, -999.000,9, -999.000,9,   2329.0,2,   2413.8,3,   7.5477,3,    25.00,  -999.00,9,  -999.00,9,   1.4844,2,     1202
  49RY20120726,   40N,    15,  1,      8,     81,2,20120731,1119, 40.0147, 149.0178, 5513,   4154.4,   1.4786,   1.4786,2,  34.6822,2,  34.6818,2,    150.0,2,    149.8,2,   151.22,2,    36.16,2,     0.00,2,     2.51,2, -999.000,9, -999.000,9,   2329.4,2,   2413.7,3,   7.5626,2,    25.00,  -999.00,9,  -999.00,9,   1.4786,2,     1156
  49RY20120726,   40N,    15,  1,      7,    106,3,20120731,1119, 40.0147, 149.0178, 5513,   4409.9,   1.4817,   1.4817,2,  34.6849,2,  34.6852,2,    153.3,2,    153.2,2,   150.08,2,    35.79,2,     0.00,2,     2.50,2, -999.000,9, -999.000,9,   2326.4,2,   2410.3,3,   7.5700,2,    25.00,  -999.00,9,  -999.00,9,   1.4817,2,     1151
  49RY20120726,   40N,    15,  1,      6,    113,2,20120731,1119, 40.0147, 149.0178, 5513,   4409.9,   1.4817,   1.4817,2,  34.6849,2,  34.6842,2,    153.3,2,    153.4,2,   150.11,2,    35.82,2,     0.00,2,     2.49,2, -999.000,9, -999.000,9,   2325.0,2,   2414.4,3,   7.5721,2,    25.00,  -999.00,9,  -999.00,9,   1.4817,2,     1151
  49RY20120726,   40N,    15,  1,      5,     94,2,20120731,1119, 40.0147, 149.0178, 5513,   4668.0,   1.4920,   1.4922,2,  34.6872,2,  34.6850,4,    155.9,2,    155.5,2,   149.20,2,    35.68,2,     0.00,2,     2.48,2, -999.000,9, -999.000,9,   2325.6,2,   2410.6,3,   7.5776,2,    25.00,  -999.00,9,  -999.00,9,   1.4922,2,     1145
  49RY20120726,   40N,    15,  1,      4,     77,2,20120731,1119, 40.0147, 149.0178, 5513,   4926.0,   1.5066,   1.5068,2,  34.6889,2,  34.6893,2,    158.6,2,    158.3,2,   147.85,2,    35.42,2,     0.00,2,     2.47,2, -999.000,9, -999.000,9,   2322.8,2,   2411.9,3,   7.5762,6,    25.00,  -999.00,9,  -999.00,9,   1.5068,2,     1139
  49RY20120726,   40N,    15,  1,      3,    104,2,20120731,1119, 40.0147, 149.0178, 5513,   5183.7,   1.5293,   1.5294,2,  34.6901,2,  34.6902,6,    159.5,2,    159.4,2,   148.19,2,    35.45,2,     0.00,2,     2.46,2, -999.000,9, -999.000,9,   2320.4,2,   2409.1,3,   7.5811,2,    25.00,  -999.00,9,  -999.00,9,   1.5294,2,     1133
  49RY20120726,   40N,    15,  1,      2,     75,2,20120731,1119, 40.0147, 149.0178, 5513,   5440.6,   1.5551,   1.5550,2,  34.6906,2,  34.6914,2,    161.2,2,    161.2,2,   146.25,2,    35.29,2,     0.00,2,     2.45,2, -999.000,9, -999.000,9,   2317.2,2,   2408.7,3,   7.5816,2,    25.00,  -999.00,9,  -999.00,9,   1.5550,2,     1128
  49RY20120726,   40N,    15,  1,      1,    997,2,20120731,1119, 40.0147, 149.0178, 5513,   5636.4,   1.5750,   1.5746,2,  34.6911,2,  34.6917,2,    162.3,2,    162.2,2,   145.34,2,    35.15,2,     0.00,2,     2.45,2, -999.000,9, -999.000,9,   2316.5,2,   2410.9,3,   7.5821,2,    25.00,  -999.00,9,  -999.00,9,   1.5746,2,     1119