BOTTLE,20210419PRINUNIVRMK
EXPOCODE,SECT_ID,STNNBR,CASTNO,SAMPNO,BTLNBR,BTLNBR_FLAG_W,DATE,TIME,LATITUDE,LONGITUDE,DEPTH,CTDPRS,CTDTMP,SBE35,SBE35_FLAG_W,CTDSAL,CTDSAL_FLAG_W,SALNTY,SALNTY_FLAG_W,CTDOXY,CTDOXY_FLAG_W,OXYGEN,OXYGEN_FLAG_W,SILCAT,SILCAT_FLAG_W,NITRAT,NITRAT_FLAG_W,NITRIT,NITRIT_FLAG_W,PHSPHT,PHSPHT_FLAG_W,CFC-11,CFC-11_FLAG_W,CFC-12,CFC-12_FLAG_W,TCARBN,TCARBN_FLAG_W,ALKALI,ALKALI_FLAG_W,PH_TOT,PH_TOT_FLAG_W,PH_TMP,CHLORA,CHLORA_FLAG_W,PPHYTN,PPHYTN_FLAG_W,SBE35,SBE35_FLAG_W,BTL_TIME
,,,,,,,,,,,METERS,DBAR,ITS-90,,,PSS-78,,PSS-78,,UMOL/KG,,UMOL/KG,,UMOL/KG,,UMOL/KG,,UMOL/KG,,UMOL/KG,,PMOL/KG,,PMOL/KG,,UMOL/KG,,UMOL/KG,,,,DEG C,UG/KG,,UG/KG,,,,
  49RY20120726,   40N,    48,  1,     36,    109,2,20120828,0256, 39.9543, 169.6538, 4527,     11.8,  22.8620,  22.8620,2,  34.3583,2,  34.3615,4,    219.2,2,    220.7,2,     1.60,2,     0.00,2,     0.00,2,     0.03,2,    2.143,2,    1.186,2,   1988.5,2,   2258.0,2,   8.0169,4,    25.00,     0.07,2,     0.02,2,  22.8620,2,      508
  49RY20120726,   40N,    48,  1,     35,    112,2,20120828,0256, 39.9543, 169.6538, 4527,     51.3,  15.6494,  15.6486,2,  34.5661,2,  34.5658,2,    219.0,2,    219.0,6,     6.63,6,     5.46,6,     0.12,6,     0.41,6,    2.618,2,    1.484,2,   2043.8,2,   2272.1,2,   7.9263,4,    25.00,     0.64,2,     0.53,2,  15.6486,2,      503
  49RY20120726,   40N,    48,  1,     34,     83,2,20120828,0256, 39.9543, 169.6538, 4527,    102.0,  14.0375,  14.0397,2,  34.4940,2,  34.4947,6,    216.6,2,    216.9,2,     9.78,2,     8.39,2,     0.02,2,     0.59,2,    2.730,2,    1.550,2,   2064.5,2,   2269.7,2,   7.8835,4,    25.00,     0.09,2,     0.05,2,  14.0397,2,      501
  49RY20120726,   40N,    48,  1,     33,     86,2,20120828,0256, 39.9543, 169.6538, 4527,    152.3,  12.5636,  12.5632,2,  34.3992,2,  34.3984,2,    219.9,2,    220.2,2,    13.87,2,    10.69,2,     0.02,2,     0.76,2,    2.896,2,    1.617,2,   2082.3,6,   2272.6,2,   7.8434,4,    25.00,     0.02,2,     0.01,2,  12.5632,2,      500
  49RY20120726,   40N,    48,  1,     32,    105,2,20120828,0256, 39.9543, 169.6538, 4527,    201.2,  11.4156,  11.4163,2,  34.2942,2,  34.2970,2,    241.4,2,    241.1,2,    14.01,2,    10.38,2,     0.01,2,     0.75,2,    3.129,2,    1.757,2,   2081.2,2,   2264.4,2,   7.8417,4,    25.00,     0.00,2,     0.02,2,  11.4163,2,      456
  49RY20120726,   40N,    48,  1,     31,     76,2,20120828,0256, 39.9543, 169.6538, 4527,    253.6,  10.8991,  10.8972,2,  34.2380,2,  34.2411,2,    234.0,2,    235.2,2,    16.42,2,    11.85,2,     0.01,2,     0.86,2,    3.091,2,    1.750,2,   2089.7,2,   2248.9,3,   7.8185,4,    25.00,  -999.00,9,  -999.00,9,  10.8972,2,      453
  49RY20120726,   40N,    48,  1,     30,     97,2,20120828,0256, 39.9543, 169.6538, 4527,    336.3,   8.7461,   8.7482,2,  34.0280,2,  34.0329,4,    225.1,2,    225.7,2,    25.49,2,    16.52,2,     0.01,2,     1.21,3,    3.219,6,    1.821,6,   2126.7,2,   2261.1,2,   7.7367,4,    25.00,  -999.00,9,  -999.00,9,   8.7482,2,      450
  49RY20120726,   40N,    48,  1,     28,     91,2,20120828,0256, 39.9543, 169.6538, 4527,    437.1,   6.7158,   6.7200,2,  33.9848,2,  33.9931,4,    160.0,2,    161.0,2,    49.12,2,    26.33,2,     0.00,2,     1.91,2,    2.830,2,    1.507,2,   2194.4,2,   2281.7,2,   7.5777,4,    25.00,  -999.00,9,  -999.00,9,   6.7200,2,      446
  49RY20120726,   40N,    48,  1,     29,    102,2,20120828,0256, 39.9543, 169.6538, 4527,    439.5,   6.6294,   6.6323,2,  33.9788,2,  33.9860,4,    159.8,2,    160.2,2,    49.98,2,    26.54,2,     0.00,2,     1.94,2,    2.808,2,    1.494,2,   2198.4,2,   2279.0,2,   7.5839,4,    25.00,  -999.00,9,  -999.00,9,   6.6323,2,      447
  49RY20120726,   40N,    48,  1,     27,    998,2,20120828,0256, 39.9543, 169.6538, 4527,    538.3,   5.1574,   5.1595,2,  33.9862,2,  33.9859,2,    119.0,2,    119.0,2,    71.75,2,    33.22,2,     0.00,2,     2.41,2,    2.331,6,    1.205,6,   2253.0,2,   2287.8,2,   7.4613,4,    25.00,  -999.00,9,  -999.00,9,   5.1595,2,      443
  49RY20120726,   40N,    48,  1,     26,     84,2,20120828,0256, 39.9543, 169.6538, 4527,    638.0,   4.6275,   4.6281,2,  34.0492,2,  34.0464,2,     88.9,2,     89.9,2,    85.48,2,    36.55,2,     0.00,2,     2.64,2,    1.787,2,    0.930,2,   2284.6,6,   2308.6,2,   7.4078,4,    25.00,  -999.00,9,  -999.00,9,   4.6281,2,      439
  49RY20120726,   40N,    48,  1,     25,     98,2,20120828,0256, 39.9543, 169.6538, 4527,    740.6,   4.2005,   4.2005,2,  34.1770,2,  34.1772,2,     60.1,2,     60.5,2,   103.25,2,    39.05,3,     0.00,2,     2.83,2,    1.058,2,    0.533,3,   2315.9,2,   2333.2,2,   7.3642,4,    25.00,  -999.00,9,  -999.00,9,   4.2005,2,      436
  49RY20120726,   40N,    48,  1,     24,    110,2,20120828,0256, 39.9543, 169.6538, 4527,    840.8,   3.7918,   3.7919,2,  34.2341,2,  34.2321,2,     44.9,2,     44.8,2,   115.18,2,    40.96,3,     0.00,2,     2.96,2,    0.732,2,    0.366,3,   2336.8,2,   2339.9,2,   7.3360,4,    25.00,  -999.00,9,  -999.00,9,   3.7919,2,      432
  49RY20120726,   40N,    48,  1,     23,     96,2,20120828,0256, 39.9543, 169.6538, 4527,    939.2,   3.4869,   3.4868,2,  34.2852,2,  34.2838,2,     37.7,2,     37.7,2,   124.59,2,    42.10,2,     0.00,2,     3.01,2, -999.000,9, -999.000,9,   2353.0,2,   2355.7,2,   7.3266,4,    25.00,  -999.00,9,  -999.00,9,   3.4868,2,      429
  49RY20120726,   40N,    48,  1,     22,    111,2,20120828,0256, 39.9543, 169.6538, 4527,    939.2,   3.4869,   3.4868,2,  34.2852,2,  34.2841,6,     37.7,2,     37.8,2,   124.75,2,    41.97,2,     0.00,2,     3.02,2,    0.523,2,    0.266,3,   2352.0,2,   2350.3,2,   7.3224,4,    25.00,  -999.00,9,  -999.00,9,   3.4868,2,      429
  49RY20120726,   40N,    48,  1,     21,     78,2,20120828,0256, 39.9543, 169.6538, 4527,   1083.5,   3.1396,   3.1392,2,  34.3587,2,  34.3582,2,     33.7,2,     33.6,2,   135.98,2,    42.59,2,     0.00,2,     3.05,2,    0.266,2,    0.156,3,   2366.1,2,   2361.2,2,   7.3282,4,    25.00,  -999.00,9,  -999.00,9,   3.1392,2,      423
  49RY20120726,   40N,    48,  1,     20,     93,2,20120828,0256, 39.9543, 169.6538, 4527,   1286.4,   2.7192,   2.7189,2,  34.4287,2,  34.4279,2,     32.6,2,     32.6,2,   148.97,2,    43.18,2,     0.00,2,     3.08,2,    0.141,2,    0.074,3,   2379.0,2,   2382.3,2,   7.3290,4,    25.00,  -999.00,9,  -999.00,9,   2.7189,2,      418
  49RY20120726,   40N,    48,  1,     19,     92,2,20120828,0256, 39.9543, 169.6538, 4527,   1489.0,   2.4712,   2.4711,2,  34.4792,2,  34.4785,2,     37.2,2,     37.5,2,   156.07,6,    43.02,6,     0.00,6,     3.06,6,    0.092,2,    0.054,2,   2386.6,2,   2391.2,2,   7.3409,4,    25.00,  -999.00,9,  -999.00,9,   2.4711,2,      409
  49RY20120726,   40N,    48,  1,     18,    101,2,20120828,0256, 39.9543, 169.6538, 4527,   1693.3,   2.2441,   2.2442,2,  34.5243,2,  34.5238,2,     45.9,2,     46.0,2,   161.95,2,    42.39,3,     0.00,2,     3.02,2,    0.038,2,    0.032,2,   2391.7,2,   2400.0,2,   7.3617,4,    25.00,  -999.00,9,  -999.00,9,   2.2442,2,      404
  49RY20120726,   40N,    48,  1,     17,     90,2,20120828,0256, 39.9543, 169.6538, 4527,   1894.4,   2.0872,   2.0870,2,  34.5570,2,  34.5567,2,     56.3,2,     55.9,2,   164.63,2,    42.02,2,     0.00,2,     2.98,2,    0.021,2,    0.021,2,   2385.1,2,   2403.1,2,   7.3816,4,    25.00,  -999.00,9,  -999.00,9,   2.0870,2,      359
  49RY20120726,   40N,    48,  1,     16,     89,2,20120828,0256, 39.9543, 169.6538, 4527,   2098.3,   1.9696,   1.9694,2,  34.5818,2,  34.5812,2,     66.7,2,     66.5,2,   165.82,2,    41.30,2,     0.00,2,     2.92,2,    0.006,2,    0.018,2,   2375.5,2,   2400.5,3,   7.4068,4,    25.00,  -999.00,9,  -999.00,9,   1.9694,2,      353
  49RY20120726,   40N,    48,  1,     15,     88,2,20120828,0256, 39.9543, 169.6538, 4527,   2300.4,   1.8634,   1.8631,2,  34.6031,2,  34.6032,2,     78.2,2,     78.4,2,   165.75,2,    40.75,2,     0.00,2,     2.87,2, -999.000,9, -999.000,9,   2377.9,6,   2408.8,2,   7.4318,4,    25.00,  -999.00,9,  -999.00,9,   1.8631,2,      348
  49RY20120726,   40N,    48,  1,     14,    999,2,20120828,0256, 39.9543, 169.6538, 4527,   2505.4,   1.7603,   1.7602,2,  34.6226,2,  34.6231,2,     91.0,2,     90.9,2,   164.96,2,    39.81,2,     0.00,2,     2.81,2, -999.000,9, -999.000,9,   2366.5,2,   2412.9,2,   7.4540,4,    25.00,  -999.00,9,  -999.00,9,   1.7602,2,      342
  49RY20120726,   40N,    48,  1,     12,     74,2,20120828,0256, 39.9543, 169.6538, 4527,   2708.1,   1.6857,   1.6853,2,  34.6363,2,  34.6360,2,    101.9,2,    101.8,2,   163.68,2,    39.16,2,     0.00,2,     2.75,2,    0.002,2,    0.018,2,   2363.1,2,   2410.3,2,   7.4752,4,    25.00,  -999.00,9,  -999.00,9,   1.6853,2,      337
  49RY20120726,   40N,    48,  1,     13,    667,3,20120828,0256, 39.9543, 169.6538, 4527,   2709.4,   1.6844,   1.6843,2,  34.6365,2,  34.6292,4,    102.0,2,    107.8,4,   162.47,4,    39.05,2,     0.00,2,     2.75,2, -999.000,9, -999.000,9,   2366.1,2,   2414.0,2,   7.4748,4,    25.00,  -999.00,9,  -999.00,9,   1.6843,2,      337
  49RY20120726,   40N,    48,  1,     11,    996,2,20120828,0256, 39.9543, 169.6538, 4527,   2912.9,   1.6289,   1.6288,2,  34.6472,2,  34.6464,2,    111.6,2,    111.1,2,   162.16,2,    38.61,2,     0.00,2,     2.71,2, -999.000,9, -999.000,9,   2360.7,2,   2410.6,2,   7.4900,4,    25.00,  -999.00,9,  -999.00,9,   1.6288,2,      332
  49RY20120726,   40N,    48,  1,      9,    108,2,20120828,0256, 39.9543, 169.6538, 4527,   3130.9,   1.5604,   1.5602,2,  34.6591,2,  34.6597,2,    123.1,2,    123.1,6,   159.89,6,    37.85,6,     0.00,6,     2.65,6,    0.000,2,    0.015,2,   2351.0,2,   2406.1,3,   7.5133,4,    25.00,  -999.00,9,  -999.00,9,   1.5602,2,      326
  49RY20120726,   40N,    48,  1,     10,    107,2,20120828,0256, 39.9543, 169.6538, 4527,   3132.5,   1.5603,   1.5601,2,  34.6591,2,  34.6581,2,    123.2,2,    123.0,2,   159.50,2,    37.64,4,     0.00,2,     2.65,2, -999.000,9, -999.000,9,   2349.0,2,   2408.5,3,   7.5134,4,    25.00,  -999.00,9,  -999.00,9,   1.5601,2,      327
  49RY20120726,   40N,    48,  1,      8,     81,2,20120828,0256, 39.9543, 169.6538, 4527,   3385.2,   1.5215,   1.5212,2,  34.6672,2,  34.6667,2,    131.2,2,    131.0,2,   158.07,2,    37.34,2,     0.00,2,     2.61,2, -999.000,9, -999.000,9,   2346.5,2,   2414.5,2,   7.5304,4,    25.00,  -999.00,9,  -999.00,9,   1.5212,2,      320
  49RY20120726,   40N,    48,  1,      7,    106,2,20120828,0256, 39.9543, 169.6538, 4527,   3639.2,   1.5059,   1.5058,2,  34.6723,2,  34.6704,4,    136.9,2,    135.6,3,   156.96,6,    37.00,6,     0.00,6,     2.59,6, -999.000,9, -999.000,9,   2343.3,2,   2409.5,3,   7.5394,4,    25.00,  -999.00,9,  -999.00,9,   1.5058,2,      315
  49RY20120726,   40N,    48,  1,      6,    113,2,20120828,0256, 39.9543, 169.6538, 4527,   3893.9,   1.4943,   1.4943,2,  34.6769,2,  34.6770,2,    142.2,2,    142.0,2,   155.50,2,    36.51,3,     0.00,2,     2.55,2, -999.000,9, -999.000,9,   2341.0,2,   2407.3,3,   7.5505,4,    25.00,  -999.00,9,  -999.00,9,   1.4943,2,      310
  49RY20120726,   40N,    48,  1,      5,     94,2,20120828,0256, 39.9543, 169.6538, 4527,   3895.0,   1.4934,   1.4933,2,  34.6769,2,  34.6773,2,    142.3,2,    142.7,2,   155.51,2,    36.64,2,     0.00,2,     2.55,2, -999.000,9, -999.000,9,   2332.4,3,   2415.4,2,   7.5475,4,    25.00,  -999.00,9,  -999.00,9,   1.4933,2,      310
  49RY20120726,   40N,    48,  1,      4,     77,2,20120828,0256, 39.9543, 169.6538, 4527,   4152.9,   1.4988,   1.4987,2,  34.6797,2,  34.6803,2,    145.5,2,    145.9,2,   154.32,2,    36.45,2,     0.00,2,     2.53,2,    0.008,2,    0.019,2,   2333.5,2,   2409.5,3,   7.5521,4,    25.00,  -999.00,9,  -999.00,9,   1.4987,2,      305
  49RY20120726,   40N,    48,  1,      3,    104,2,20120828,0256, 39.9543, 169.6538, 4527,   4407.3,   1.5077,   1.5076,2,  34.6820,2,  34.6821,2,    148.1,2,    148.0,2,   154.02,2,    36.36,2,     0.00,2,     2.53,2, -999.000,9, -999.000,9,   2332.6,6,   2405.0,3,   7.5564,4,    25.00,  -999.00,9,  -999.00,9,   1.5076,2,      300
  49RY20120726,   40N,    48,  1,      2,     75,2,20120828,0256, 39.9543, 169.6538, 4527,   4580.1,   1.5148,   1.5146,2,  34.6831,2,  34.6833,2,    149.9,2,    150.3,2,   153.66,2,    36.18,2,     0.00,2,     2.51,2, -999.000,9, -999.000,9,   2334.6,2,   2417.1,2,   7.5639,4,    25.00,  -999.00,9,  -999.00,9,   1.5146,2,      257
  49RY20120726,   40N,    48,  1,      1,    997,2,20120828,0256, 39.9543, 169.6538, 4527,   4580.2,   1.5149,   1.5146,2,  34.6832,2,  34.6845,4,    150.0,2,    150.1,2,   153.47,2,    36.14,2,     0.00,2,     2.51,2,    0.021,2,    0.013,2,   2334.3,2,   2416.3,2,   7.5624,4,    25.00,  -999.00,9,  -999.00,9,   1.5146,2,      257