BOTTLE,20210419PRINUNIVRMK
EXPOCODE,SECT_ID,STNNBR,CASTNO,SAMPNO,BTLNBR,BTLNBR_FLAG_W,DATE,TIME,LATITUDE,LONGITUDE,DEPTH,CTDPRS,CTDTMP,SBE35,SBE35_FLAG_W,CTDSAL,CTDSAL_FLAG_W,SALNTY,SALNTY_FLAG_W,CTDOXY,CTDOXY_FLAG_W,OXYGEN,OXYGEN_FLAG_W,SILCAT,SILCAT_FLAG_W,NITRAT,NITRAT_FLAG_W,NITRIT,NITRIT_FLAG_W,PHSPHT,PHSPHT_FLAG_W,CFC-11,CFC-11_FLAG_W,CFC-12,CFC-12_FLAG_W,TCARBN,TCARBN_FLAG_W,ALKALI,ALKALI_FLAG_W,PH_TOT,PH_TOT_FLAG_W,PH_TMP,CHLORA,CHLORA_FLAG_W,PPHYTN,PPHYTN_FLAG_W,SBE35,SBE35_FLAG_W,BTL_TIME
,,,,,,,,,,,METERS,DBAR,ITS-90,,,PSS-78,,PSS-78,,UMOL/KG,,UMOL/KG,,UMOL/KG,,UMOL/KG,,UMOL/KG,,UMOL/KG,,PMOL/KG,,PMOL/KG,,UMOL/KG,,UMOL/KG,,,,DEG C,UG/KG,,UG/KG,,,,
  49RY20120726,   40N,    33,  1,     36,    109,3,20120806,2320, 39.9997, 160.9780, 5494,     10.6,  20.1703,  20.1661,2,  33.7820,2,  33.7889,4,    237.1,2,    237.3,2,     3.46,2,     0.05,2,     0.00,2,     0.11,2, -999.000,9, -999.000,9,   1984.2,2,   2247.5,2,   7.9998,2,    25.00,     0.23,2,     0.06,2,  20.1661,2,      216
  49RY20120726,   40N,    33,  1,     35,    112,2,20120806,2320, 39.9997, 160.9780, 5494,     50.9,  10.9611,  10.9130,2,  34.1234,2,  34.0886,4,    257.9,2,    260.3,2,    16.50,2,     9.83,2,     0.32,2,     0.81,2, -999.000,9, -999.000,9,   2082.9,2,   2268.2,2,   7.8437,2,    25.00,     0.33,2,     0.13,2,  10.9130,2,      213
  49RY20120726,   40N,    33,  1,     34,     83,2,20120806,2320, 39.9997, 160.9780, 5494,    101.4,   8.2423,   8.2437,2,  33.9477,2,  33.9481,2,    259.1,2,    259.6,2,    21.92,2,    14.68,2,     0.02,2,     1.10,2, -999.000,9, -999.000,9,   2109.4,2,   2262.0,2,   7.7688,2,    25.00,     0.06,2,     0.06,2,   8.2437,2,      210
  49RY20120726,   40N,    33,  1,     33,     86,2,20120806,2320, 39.9997, 160.9780, 5494,    152.5,   6.7645,   6.7669,2,  33.7861,2,  33.7889,2,    270.3,2,    271.2,2,    25.24,2,    16.45,2,     0.02,2,     1.25,2, -999.000,9, -999.000,9,   2118.7,2,   2259.3,2,   7.7387,2,    25.00,     0.01,2,     0.04,2,   6.7669,2,      208
  49RY20120726,   40N,    33,  1,     32,    105,2,20120806,2320, 39.9997, 160.9780, 5494,    202.7,   6.2593,   6.2593,2,  33.7945,2,  33.7968,2,    257.8,2,    258.1,2,    31.34,2,    19.08,2,     0.01,2,     1.44,2, -999.000,9, -999.000,9,   2139.9,2,   2265.0,2,   7.7038,2,    25.00,     0.00,2,     0.03,2,   6.2593,2,      203
  49RY20120726,   40N,    33,  1,     31,     76,2,20120806,2320, 39.9997, 160.9780, 5494,    252.9,   6.0993,   6.1063,2,  33.8368,2,  33.8319,2,    229.4,2,    231.4,2,    38.35,2,    21.74,2,     0.01,2,     1.63,2, -999.000,9, -999.000,9,   2157.7,6,   2269.2,6,   7.6619,2,    25.00,  -999.00,9,  -999.00,9,   6.1063,2,      157
  49RY20120726,   40N,    33,  1,     30,    103,2,20120806,2320, 39.9997, 160.9780, 5494,    335.0,   4.6578,   4.6549,2,  33.8182,2,  33.8255,2,    152.5,2,    151.6,2,    63.79,2,    31.23,2,     0.01,2,     2.30,2, -999.000,9, -999.000,9,   2234.4,2,   2284.2,2,   7.4909,6,    25.00,  -999.00,9,  -999.00,9,   4.6549,2,      155
  49RY20120726,   40N,    33,  1,     29,    102,2,20120806,2320, 39.9997, 160.9780, 5494,    434.9,   4.2917,   4.2940,2,  33.9542,2,  33.9535,2,     98.3,2,     98.1,2,    83.51,2,    36.73,2,     0.00,2,     2.67,2, -999.000,9, -999.000,9,   2282.6,2,   2303.0,2,   7.3982,2,    25.00,  -999.00,9,  -999.00,9,   4.2940,2,      152
  49RY20120726,   40N,    33,  1,     28,     91,4,20120806,2320, 39.9997, 160.9780, 5494,    535.1,   3.9831,   3.9835,2,  34.0557,2,  34.2087,4,     67.6,2,    289.4,4,     4.22,4,     0.50,4,     0.02,4,     0.17,4, -999.000,9, -999.000,9,   2011.9,4,   2286.9,4,   7.9979,4,    25.00,  -999.00,9,  -999.00,9,   3.9835,2,      148
  49RY20120726,   40N,    33,  1,     27,    998,2,20120806,2320, 39.9997, 160.9780, 5494,    636.9,   3.8951,   3.8954,2,  34.1680,2,  34.1673,2,     53.1,2,     52.6,2,   108.71,2,    40.51,2,     0.00,2,     2.92,2, -999.000,9, -999.000,9,   2326.3,2,   2335.8,2,   7.3537,2,    25.00,  -999.00,9,  -999.00,9,   3.8954,2,      145
  49RY20120726,   40N,    33,  1,     26,     99,2,20120806,2320, 39.9997, 160.9780, 5494,    737.9,   3.6335,   3.6337,2,  34.2527,2,  34.2526,2,     44.2,2,     43.7,2,   119.13,2,    41.34,2,     0.00,2,     2.97,2, -999.000,9, -999.000,9,   2345.4,2,   2350.2,2,   7.3437,2,    25.00,  -999.00,9,  -999.00,9,   3.6337,2,      143
  49RY20120726,   40N,    33,  1,     25,     98,2,20120806,2320, 39.9997, 160.9780, 5494,    839.9,   3.4267,   3.4268,2,  34.3194,2,  34.3168,2,     41.5,2,     41.1,2,   126.87,2,    41.70,2,     0.00,2,     3.00,2, -999.000,9, -999.000,9,   2354.0,2,   2363.4,2,   7.3466,2,    25.00,  -999.00,9,  -999.00,9,   3.4268,2,      132
  49RY20120726,   40N,    33,  1,     24,    110,3,20120806,2320, 39.9997, 160.9780, 5494,    940.0,   3.2205,   3.2199,2,  34.3587,2,  34.3580,2,     40.8,2,     40.4,2,   132.76,2,    41.99,2,     0.00,2,     3.02,2, -999.000,9, -999.000,9,   2362.9,2,   2371.6,2,   7.3503,2,    25.00,  -999.00,9,  -999.00,9,   3.2199,2,      129
  49RY20120726,   40N,    33,  1,     23,     96,2,20120806,2320, 39.9997, 160.9780, 5494,   1085.5,   2.8752,   2.8749,2,  34.4089,2,  34.4080,2,     36.7,2,     36.5,6,   143.05,6,    42.67,6,     0.00,6,     3.06,6, -999.000,9, -999.000,9,   2372.7,2,   2382.5,2,   7.3451,2,    25.00,  -999.00,9,  -999.00,9,   2.8749,2,      125
  49RY20120726,   40N,    33,  1,     22,    111,2,20120806,2320, 39.9997, 160.9780, 5494,   1284.0,   2.5204,   2.5202,2,  34.4644,2,  34.4647,2,     38.7,2,     38.3,2,   153.70,2,    42.80,2,     0.00,2,     3.06,2, -999.000,9, -999.000,9,   2380.6,2,   2391.8,2,   7.3520,2,    25.00,  -999.00,9,  -999.00,9,   2.5202,2,      120
  49RY20120726,   40N,    33,  1,     21,     78,2,20120806,2320, 39.9997, 160.9780, 5494,   1486.6,   2.3007,   2.3008,2,  34.5084,2,  34.5076,2,     44.7,2,     44.4,2,   159.51,2,    42.63,2,     0.00,2,     3.03,2, -999.000,9, -999.000,9,   2383.9,2,   2402.1,6,   7.3632,2,    25.00,  -999.00,9,  -999.00,9,   2.3008,2,      113
  49RY20120726,   40N,    33,  1,     20,     93,2,20120806,2320, 39.9997, 160.9780, 5494,   1690.3,   2.1379,   2.1377,2,  34.5430,2,  34.5441,2,     53.4,2,     53.2,2,   163.09,2,    42.08,2,     0.00,2,     3.00,2, -999.000,9, -999.000,9,   2379.3,2,   2407.2,2,   7.3833,6,    25.00,  -999.00,9,  -999.00,9,   2.1377,2,      107
  49RY20120726,   40N,    33,  1,     19,     92,2,20120806,2320, 39.9997, 160.9780, 5494,   1893.1,   2.0038,   2.0037,2,  34.5728,2,  34.5733,6,     64.2,2,     64.1,2,   164.42,2,    41.63,2,     0.00,2,     2.95,2, -999.000,9, -999.000,9,   2376.8,2,   2413.3,2,   7.4082,2,    25.00,  -999.00,9,  -999.00,9,   2.0037,2,      102
  49RY20120726,   40N,    33,  1,     18,    101,2,20120806,2320, 39.9997, 160.9780, 5494,   2097.4,   1.8838,   1.8837,2,  34.5989,2,  34.5994,2,     76.5,2,     76.4,2,   164.43,2,    40.78,2,     0.00,2,     2.89,2, -999.000,9, -999.000,9,   2376.2,2,   2415.4,2,   7.4319,2,    25.00,  -999.00,9,  -999.00,9,   1.8837,2,       56
  49RY20120726,   40N,    33,  1,     17,     90,2,20120806,2320, 39.9997, 160.9780, 5494,   2301.4,   1.7849,   1.7848,2,  34.6195,2,  34.6196,2,     89.2,2,     88.9,2,   163.45,2,    39.89,2,     0.00,2,     2.83,2, -999.000,9, -999.000,9,   2360.1,3,   2417.9,2,   7.4580,2,    25.00,  -999.00,9,  -999.00,9,   1.7848,2,       50
  49RY20120726,   40N,    33,  1,     16,     89,2,20120806,2320, 39.9997, 160.9780, 5494,   2504.5,   1.7037,   1.7036,2,  34.6346,2,  34.6347,2,    100.9,2,    100.8,6,   161.97,6,    39.32,6,     0.00,6,     2.78,6, -999.000,9, -999.000,9,   2356.5,2,   2418.6,2,   7.4818,2,    25.00,  -999.00,9,  -999.00,9,   1.7036,2,       41
  49RY20120726,   40N,    33,  1,     15,     88,2,20120806,2320, 39.9997, 160.9780, 5494,   2708.7,   1.6324,   1.6323,2,  34.6468,2,  34.6478,2,    111.0,2,    111.2,2,   160.56,2,    38.77,2,     0.00,2,     2.72,2, -999.000,9, -999.000,9,   2354.3,2,   2420.5,2,   7.4993,2,    25.00,  -999.00,9,  -999.00,9,   1.6323,2,       36
  49RY20120726,   40N,    33,  1,     14,    999,2,20120806,2320, 39.9997, 160.9780, 5494,   2912.4,   1.5847,   1.5846,2,  34.6554,2,  34.6558,6,    119.5,2,    120.1,2,   158.73,2,    38.22,2,     0.00,2,     2.68,2, -999.000,9, -999.000,9,   2351.6,2,   2419.8,2,   7.5179,2,    25.00,  -999.00,9,  -999.00,9,   1.5846,2,       31
  49RY20120726,   40N,    33,  1,     13,    996,2,20120806,2320, 39.9997, 160.9780, 5494,   3128.0,   1.5380,   1.5381,2,  34.6639,2,  34.6642,2,    128.5,2,    128.8,2,   156.29,2,    37.49,2,     0.00,2,     2.64,2, -999.000,9, -999.000,9,   2340.5,2,   2418.3,2,   7.5313,2,    25.00,  -999.00,9,  -999.00,9,   1.5381,2,       23
  49RY20120726,   40N,    33,  1,     12,     74,2,20120806,2320, 39.9997, 160.9780, 5494,   3128.0,   1.5380,   1.5381,2,  34.6639,2,  34.6642,2,    128.5,2,    128.5,2,   156.32,2,    37.63,2,     0.00,2,     2.64,2, -999.000,9, -999.000,9,   2338.9,2,   2419.5,2,   7.5307,2,    25.00,  -999.00,9,  -999.00,9,   1.5381,2,       23
  49RY20120726,   40N,    33,  1,     11,     97,2,20120806,2320, 39.9997, 160.9780, 5494,   3382.1,   1.5006,   1.5006,2,  34.6707,2,  34.6689,4,    136.0,2,    134.9,3,   154.52,2,    37.11,2,     0.00,2,     2.60,2, -999.000,9, -999.000,9,   2336.9,2,   2418.4,6,   7.5415,2,    25.00,  -999.00,9,  -999.00,9,   1.5006,2,       17
  49RY20120726,   40N,    33,  1,     10,    107,2,20120806,2320, 39.9997, 160.9780, 5494,   3640.3,   1.4779,   1.4780,2,  34.6762,2,  34.6758,2,    142.4,2,    142.1,2,   152.94,2,    36.67,2,     0.00,2,     2.56,2, -999.000,9, -999.000,9,   2331.7,2,   2418.2,2,   7.5562,6,    25.00,  -999.00,9,  -999.00,9,   1.4780,2,       10
  49RY20120726,   40N,    33,  1,      9,    108,2,20120806,2320, 39.9997, 160.9780, 5494,   3896.3,   1.4687,   1.4687,2,  34.6802,2,  34.6793,2,    147.1,2,    146.6,2,   151.50,2,    36.27,2,     0.00,2,     2.54,2, -999.000,9, -999.000,9,   2327.1,2,   2417.9,2,   7.5641,2,    25.00,  -999.00,9,  -999.00,9,   1.4687,2,        4
  49RY20120726,   40N,    33,  1,      8,     81,2,20120806,2320, 39.9997, 160.9780, 5494,   4151.5,   1.4679,   1.4678,2,  34.6832,2,  34.6834,6,    150.9,2,    150.9,2,   150.72,2,    36.01,2,     0.00,2,     2.52,2, -999.000,9, -999.000,9,   2320.6,3,   2417.9,2,   7.5713,2,    25.00,  -999.00,9,  -999.00,9,   1.4678,2,     2358
  49RY20120726,   40N,    33,  1,      7,    106,2,20120806,2320, 39.9997, 160.9780, 5494,   4409.1,   1.4718,   1.4718,2,  34.6860,2,  34.6861,2,    154.3,2,    154.3,2,   149.80,2,    35.91,2,     0.00,2,     2.50,2, -999.000,9, -999.000,9,   2329.4,2,   2416.2,2,   7.5770,2,    25.00,  -999.00,9,  -999.00,9,   1.4718,2,     2352
  49RY20120726,   40N,    33,  1,      6,    113,2,20120806,2320, 39.9997, 160.9780, 5494,   4666.1,   1.4869,   1.4869,2,  34.6876,2,  34.6882,2,    156.3,2,    156.5,2,   149.43,2,    35.84,2,     0.00,2,     2.49,2, -999.000,9, -999.000,9,   2327.7,2,   2417.2,2,   7.5854,3,    25.00,  -999.00,9,  -999.00,9,   1.4869,2,     2346
  49RY20120726,   40N,    33,  1,      5,     94,2,20120806,2320, 39.9997, 160.9780, 5494,   4923.6,   1.5064,   1.5065,2,  34.6891,2,  34.6909,2,    157.8,2,    157.9,6,   149.57,6,    35.67,6,     0.00,6,     2.48,6, -999.000,9, -999.000,9,   2314.7,3,   2415.8,2,   7.5817,2,    25.00,  -999.00,9,  -999.00,9,   1.5065,2,     2339
  49RY20120726,   40N,    33,  1,      4,     77,2,20120806,2320, 39.9997, 160.9780, 5494,   5182.0,   1.5301,   1.5301,2,  34.6902,2,  34.6897,2,    159.0,2,    158.9,2,   148.86,2,    35.50,2,     0.00,2,     2.47,2, -999.000,9, -999.000,9,   2325.4,6,   2416.6,6,   7.5862,2,    25.00,  -999.00,9,  -999.00,9,   1.5301,2,     2332
  49RY20120726,   40N,    33,  1,      3,    104,2,20120806,2320, 39.9997, 160.9780, 5494,   5438.8,   1.5538,   1.5537,2,  34.6910,2,  34.6909,2,    160.9,2,    160.7,2,   146.66,2,    35.43,2,     0.00,2,     2.46,2, -999.000,9, -999.000,9,   2322.6,2,   2414.7,2,   7.5872,2,    25.00,  -999.00,9,  -999.00,9,   1.5537,2,     2325
  49RY20120726,   40N,    33,  1,      2,     75,2,20120806,2320, 39.9997, 160.9780, 5494,   5597.0,   1.5720,   1.5718,2,  34.6916,2,  34.6922,2,    161.2,2,    161.3,2,   147.52,2,    35.42,2,     0.00,2,     2.46,2, -999.000,9, -999.000,9,   2314.9,3,   2414.2,2,   7.5858,2,    25.00,  -999.00,9,  -999.00,9,   1.5718,2,     2320
  49RY20120726,   40N,    33,  1,      1,    997,2,20120806,2320, 39.9997, 160.9780, 5494,   5597.0,   1.5720,   1.5718,2,  34.6916,2,  34.6921,2,    161.2,2,    161.0,2,   147.40,2,    35.45,2,     0.00,2,     2.46,2, -999.000,9, -999.000,9,   2322.7,2,   2415.9,2,   7.5873,2,    25.00,  -999.00,9,  -999.00,9,   1.5718,2,     2320