BOTTLE,20210419PRINUNIVRMK
EXPOCODE,SECT_ID,STNNBR,CASTNO,SAMPNO,BTLNBR,BTLNBR_FLAG_W,DATE,TIME,LATITUDE,LONGITUDE,DEPTH,CTDPRS,CTDTMP,SBE35,SBE35_FLAG_W,CTDSAL,CTDSAL_FLAG_W,SALNTY,SALNTY_FLAG_W,CTDOXY,CTDOXY_FLAG_W,OXYGEN,OXYGEN_FLAG_W,SILCAT,SILCAT_FLAG_W,NITRAT,NITRAT_FLAG_W,NITRIT,NITRIT_FLAG_W,PHSPHT,PHSPHT_FLAG_W,CFC-11,CFC-11_FLAG_W,CFC-12,CFC-12_FLAG_W,TCARBN,TCARBN_FLAG_W,ALKALI,ALKALI_FLAG_W,PH_TOT,PH_TOT_FLAG_W,PH_TMP,CHLORA,CHLORA_FLAG_W,PPHYTN,PPHYTN_FLAG_W,SBE35,SBE35_FLAG_W,BTL_TIME
,,,,,,,,,,,METERS,DBAR,ITS-90,,,PSS-78,,PSS-78,,UMOL/KG,,UMOL/KG,,UMOL/KG,,UMOL/KG,,UMOL/KG,,UMOL/KG,,PMOL/KG,,PMOL/KG,,UMOL/KG,,UMOL/KG,,,,DEG C,UG/KG,,UG/KG,,,,
  49RY20120726,   40N,    17,  1,     36,    109,2,20120801,0117, 40.0035, 150.3435, 5360,     10.3,  18.6027,  18.5418,2,  33.4054,2,  33.4239,2,    252.0,2,    253.0,2,     1.32,2,     0.00,2,     0.00,2,     0.10,2,    2.566,2,    1.480,2,   1975.0,2,   2243.0,2,   7.9997,2,    25.00,     0.25,2,     0.02,2,  18.5418,2,      322
  49RY20120726,   40N,    17,  1,     35,    112,2,20120801,0117, 40.0035, 150.3435, 5360,     50.2,  10.9198,  10.9130,2,  34.1145,2,  34.0522,4,    231.8,2,    231.7,2,    15.00,2,    10.92,2,     0.24,2,     0.86,2,    3.156,2,    1.772,2,   2083.1,2,   2266.6,2,   7.8333,2,    25.00,     0.92,2,     0.34,2,  10.9130,2,      318
  49RY20120726,   40N,    17,  1,     34,     83,2,20120801,0117, 40.0035, 150.3435, 5360,    100.9,   8.8590,   8.8554,2,  34.0750,2,  34.0740,2,    237.6,2,    238.6,2,    21.90,2,    14.51,2,     0.03,2,     1.08,2,    3.330,2,    1.867,2,   2108.3,2,   2272.5,2,   7.7745,2,    25.00,     0.01,2,     0.04,2,   8.8554,2,      316
  49RY20120726,   40N,    17,  1,     33,     86,2,20120801,0117, 40.0035, 150.3435, 5360,    150.7,   6.4905,   6.4763,2,  33.7838,2,  33.7845,2,    244.8,2,    243.6,2,    29.98,2,    18.51,2,     0.01,2,     1.41,2,    3.699,2,    2.056,2,   2134.2,2,   2261.2,3,   7.7053,2,    25.00,     0.01,2,     0.04,2,   6.4763,2,      314
  49RY20120726,   40N,    17,  1,     32,    105,2,20120801,0117, 40.0035, 150.3435, 5360,    201.3,   5.7980,   5.8006,2,  33.8077,2,  33.8085,2,    209.3,2,    206.6,2,    44.53,2,    24.11,2,     0.01,2,     1.81,2,    3.367,2,    1.847,2,   2174.5,6,   2278.7,6,   7.6194,2,    25.00,     0.00,2,     0.04,2,   5.8006,2,      313
  49RY20120726,   40N,    17,  1,     31,     76,2,20120801,0117, 40.0035, 150.3435, 5360,    253.0,   5.1997,   5.1963,2,  33.8346,2,  33.8389,2,    170.7,2,    165.0,2,    58.05,2,    29.14,2,     0.01,2,     2.16,2,    3.036,2,    1.618,2,   2207.9,2,   2280.6,2,   7.5296,6,    25.00,  -999.00,9,  -999.00,9,   5.1963,2,      311
  49RY20120726,   40N,    17,  1,     30,    103,2,20120801,0117, 40.0035, 150.3435, 5360,    303.6,   4.9067,   4.9068,2,  33.9074,2,  33.9062,2,    134.5,2,    133.8,2,    68.80,2,    32.39,2,     0.00,2,     2.39,2,    2.560,6,    1.365,6,   2237.8,2,   2295.7,2,   7.4754,2,    25.00,  -999.00,9,  -999.00,9,   4.9068,2,      309
  49RY20120726,   40N,    17,  1,     29,    102,2,20120801,0117, 40.0035, 150.3435, 5360,    403.1,   4.3773,   4.3774,2,  34.0038,2,  34.0110,2,     90.6,2,     89.4,2,    87.02,2,    37.32,2,     0.01,2,     2.70,2,    1.908,2,    0.974,2,   2283.8,2,   2306.5,2,   7.3973,2,    25.00,  -999.00,9,  -999.00,9,   4.3774,2,      307
  49RY20120726,   40N,    17,  1,     28,     91,2,20120801,0117, 40.0035, 150.3435, 5360,    505.1,   4.1179,   4.1122,2,  34.1215,2,  34.1224,2,     62.8,2,     64.0,6,   102.01,6,    39.81,6,     0.00,6,     2.87,6,    1.280,2,    0.622,2,   2311.4,2,   2334.2,3,   7.3599,2,    25.00,  -999.00,9,  -999.00,9,   4.1122,2,      304
  49RY20120726,   40N,    17,  1,     27,    998,2,20120801,0117, 40.0035, 150.3435, 5360,    605.4,   3.7494,   3.7485,2,  34.1965,2,  34.1922,2,     49.0,2,     49.8,2,   114.25,2,    41.17,2,     0.00,2,     2.97,2,    0.902,2,    0.434,2,   2330.8,2,   2333.9,2,   7.3418,2,    25.00,  -999.00,9,  -999.00,9,   3.7485,2,      302
  49RY20120726,   40N,    17,  1,     26,     99,3,20120801,0117, 40.0035, 150.3435, 5360,    605.4,   3.7494,   3.7485,2,  34.1965,2,  34.1910,2,     49.0,2,     51.7,2,   113.76,2,    40.93,2,     0.00,4,     2.96,2,    0.925,6,    0.433,6,   2329.0,2,   2338.1,3,   7.3410,2,    25.00,  -999.00,9,  -999.00,9,   3.7485,2,      301
  49RY20120726,   40N,    17,  1,     25,     98,2,20120801,0117, 40.0035, 150.3435, 5360,    706.9,   3.6546,   3.6546,2,  34.2822,2,  34.2830,2,     46.4,2,     45.6,2,   120.42,2,    41.46,2,     0.00,2,     2.98,2,    0.537,2,    0.246,2,   2341.6,2,   2354.5,2,   7.3538,2,    25.00,  -999.00,9,  -999.00,9,   3.6546,2,      259
  49RY20120726,   40N,    17,  1,     24,    110,2,20120801,0117, 40.0035, 150.3435, 5360,    809.1,   3.3731,   3.3825,2,  34.3351,2,  34.3328,2,     43.3,2,     42.5,2,   128.31,2,    41.77,2,     0.00,2,     3.01,2,    0.348,2,    0.160,2,   2352.1,2,   2363.7,2,   7.3527,6,    25.00,  -999.00,9,  -999.00,9,   3.3825,2,      256
  49RY20120726,   40N,    17,  1,     23,     96,2,20120801,0117, 40.0035, 150.3435, 5360,    911.9,   3.0919,   3.0919,2,  34.3816,2,  34.3819,2,     40.1,2,     39.5,6,   136.71,6,    42.26,6,     0.00,6,     3.05,6,    0.228,2,    0.095,2,   2360.4,2,   2372.4,2,   7.3501,2,    25.00,  -999.00,9,  -999.00,9,   3.0919,2,      254
  49RY20120726,   40N,    17,  1,     22,    111,2,20120801,0117, 40.0035, 150.3435, 5360,   1012.0,   2.9388,   2.9397,2,  34.4119,2,  34.4128,6,     40.6,2,     39.9,2,   141.10,2,    42.40,2,     0.00,2,     3.06,2,    0.179,2,    0.057,2,   2364.8,2,   2373.4,2,   7.3546,2,    25.00,  -999.00,9,  -999.00,9,   2.9397,2,      251
  49RY20120726,   40N,    17,  1,     21,     78,2,20120801,0117, 40.0035, 150.3435, 5360,   1214.3,   2.5620,   2.5627,2,  34.4626,2,  34.4615,2,     40.6,2,     40.4,2,   152.04,2,    42.81,2,     0.00,2,     3.07,2,    0.111,2,    0.041,2,   2375.8,2,   2389.4,2,   7.3558,2,    25.00,  -999.00,9,  -999.00,9,   2.5627,2,      247
  49RY20120726,   40N,    17,  1,     20,     93,2,20120801,0117, 40.0035, 150.3435, 5360,   1418.3,   2.3315,   2.3307,2,  34.5062,2,  34.5062,2,     46.7,2,     46.3,2,   158.37,2,    42.72,2,     0.00,2,     3.05,2,    0.068,2,    0.016,2,   2376.9,2,   2392.4,2,   7.3697,2,    25.00,  -999.00,9,  -999.00,9,   2.3307,2,      243
  49RY20120726,   40N,    17,  1,     19,     92,2,20120801,0117, 40.0035, 150.3435, 5360,   1620.9,   2.1740,   2.1738,2,  34.5440,2,  34.5449,2,     55.0,2,     54.5,2,   161.33,2,    42.08,3,     0.00,2,     3.02,2,    0.023,2,    0.003,2,   2378.1,2,   2409.1,2,   7.3904,2,    25.00,  -999.00,9,  -999.00,9,   2.1738,2,      239
  49RY20120726,   40N,    17,  1,     18,    101,2,20120801,0117, 40.0035, 150.3435, 5360,   1823.7,   2.0376,   2.0377,2,  34.5757,2,  34.5750,2,     67.1,2,     67.1,2,   161.67,2,    41.41,2,     0.00,2,     2.95,2, -999.000,9, -999.000,9,   2373.9,2,   2411.9,2,   7.4136,2,    25.00,  -999.00,9,  -999.00,9,   2.0377,2,      234
  49RY20120726,   40N,    17,  1,     17,     90,3,20120801,0117, 40.0035, 150.3435, 5360,   2027.8,   1.8828,   1.8828,2,  34.6037,2,  34.6030,2,     81.9,2,     82.4,6,   161.52,6,    40.59,6,     0.00,6,     2.88,6, -999.000,9, -999.000,9,   2365.4,2,   2415.0,2,   7.4464,2,    25.00,  -999.00,9,  -999.00,9,   1.8828,2,      230
  49RY20120726,   40N,    17,  1,     16,     89,3,20120801,0117, 40.0035, 150.3435, 5360,   2231.7,   1.7819,   1.7819,2,  34.6213,2,  34.6190,4,     93.4,2,     93.0,2,   161.27,2,    39.80,2,     0.00,2,     2.82,2,    0.001,2,    0.000,2,   2359.0,2,   2407.1,3,   7.4670,2,    25.00,  -999.00,9,  -999.00,9,   1.7819,2,      226
  49RY20120726,   40N,    17,  1,     15,     88,2,20120801,0117, 40.0035, 150.3435, 5360,   2434.5,   1.7014,   1.7017,2,  34.6348,2,  34.6361,2,    103.0,2,    102.7,2,   160.86,2,    39.43,2,     0.00,2,     2.78,2, -999.000,9, -999.000,9,   2357.2,6,   2416.8,6,   7.4844,2,    25.00,  -999.00,9,  -999.00,9,   1.7017,2,      222
  49RY20120726,   40N,    17,  1,     14,    999,2,20120801,0117, 40.0035, 150.3435, 5360,   2639.3,   1.6404,   1.6404,2,  34.6456,2,  34.6465,2,    111.9,2,    111.6,2,   159.49,2,    38.71,2,     0.00,2,     2.73,2,    0.007,2,    0.000,2,   2352.4,2,   2407.1,3,   7.5024,6,    25.00,  -999.00,9,  -999.00,9,   1.6404,2,      217
  49RY20120726,   40N,    17,  1,     13,    996,2,20120801,0117, 40.0035, 150.3435, 5360,   2843.0,   1.5773,   1.5774,2,  34.6559,2,  34.6561,6,    120.9,2,    120.6,2,   158.08,2,    38.20,2,     0.00,2,     2.69,2, -999.000,9, -999.000,9,   2345.5,2,   2418.2,2,   7.5189,2,    25.00,  -999.00,9,  -999.00,9,   1.5774,2,      213
  49RY20120726,   40N,    17,  1,     12,     74,2,20120801,0117, 40.0035, 150.3435, 5360,   2843.0,   1.5773,   1.5774,2,  34.6559,2,  34.6570,2,    120.9,2,    120.7,2,   158.23,2,    38.16,2,     0.00,2,     2.69,2, -999.000,9, -999.000,9,   2347.0,2,   2412.7,3,   7.5166,2,    25.00,  -999.00,9,  -999.00,9,   1.5774,2,      213
  49RY20120726,   40N,    17,  1,     11,     97,3,20120801,0117, 40.0035, 150.3435, 5360,   3046.6,   1.5361,   1.5364,2,  34.6632,2,  34.6605,4,    128.3,2,    127.9,2,   156.28,2,    37.55,2,     0.00,2,     2.65,2, -999.000,9, -999.000,9,   2343.8,2,   2416.9,2,   7.5305,2,    25.00,  -999.00,9,  -999.00,9,   1.5364,2,      208
  49RY20120726,   40N,    17,  1,     10,    107,2,20120801,0117, 40.0035, 150.3435, 5360,   3302.9,   1.5066,   1.5066,2,  34.6693,2,  34.6689,2,    135.0,2,    134.5,2,   155.09,2,    37.33,2,     0.00,2,     2.61,2,    0.009,2,    0.000,2,   2332.9,2,   2415.0,2,   7.5429,2,    25.00,  -999.00,9,  -999.00,9,   1.5066,2,      203
  49RY20120726,   40N,    17,  1,      9,    108,2,20120801,0117, 40.0035, 150.3435, 5360,   3557.5,   1.4796,   1.4794,2,  34.6750,2,  34.6765,2,    141.5,2,    141.2,2,   153.38,2,    36.82,2,     0.00,2,     2.58,2, -999.000,9, -999.000,9,   2329.6,6,   2417.5,2,   7.5554,2,    25.00,  -999.00,9,  -999.00,9,   1.4794,2,      158
  49RY20120726,   40N,    17,  1,      8,     81,2,20120801,0117, 40.0035, 150.3435, 5360,   3814.1,   1.4657,   1.4658,2,  34.6796,2,  34.6801,2,    146.9,2,    146.6,2,   151.82,2,    36.46,2,     0.00,2,     2.55,2,    0.005,2,    0.000,2,   2329.5,2,   2415.5,2,   7.5652,6,    25.00,  -999.00,9,  -999.00,9,   1.4658,2,      153
  49RY20120726,   40N,    17,  1,      7,    106,2,20120801,0117, 40.0035, 150.3435, 5360,   4070.8,   1.4585,   1.4585,2,  34.6831,2,  34.6836,2,    151.3,2,    151.4,6,   150.42,6,    36.24,6,     0.00,6,     2.53,6, -999.000,9, -999.000,9,   2325.7,2,   2418.3,2,   7.5713,2,    25.00,  -999.00,9,  -999.00,9,   1.4585,2,      148
  49RY20120726,   40N,    17,  1,      6,    113,2,20120801,0117, 40.0035, 150.3435, 5360,   4328.5,   1.4617,   1.4618,2,  34.6858,2,  34.6856,6,    154.6,2,    154.9,2,   149.81,2,    35.89,2,     0.00,2,     2.51,2, -999.000,9, -999.000,9,   2321.5,2,   2417.3,2,   7.5760,2,    25.00,  -999.00,9,  -999.00,9,   1.4618,2,      142
  49RY20120726,   40N,    17,  1,      5,     94,2,20120801,0117, 40.0035, 150.3435, 5360,   4584.7,   1.4738,   1.4738,2,  34.6878,2,  34.6862,2,    156.8,2,    157.0,2,   149.31,2,    35.76,2,     0.00,2,     2.50,2, -999.000,9, -999.000,9,   2319.4,2,   2408.0,3,   7.5801,2,    25.00,  -999.00,9,  -999.00,9,   1.4738,2,      137
  49RY20120726,   40N,    17,  1,      4,     77,2,20120801,0117, 40.0035, 150.3435, 5360,   4843.2,   1.4929,   1.4929,2,  34.6891,2,  34.6874,4,    158.7,2,    158.8,2,   147.99,2,    35.47,2,     0.00,2,     2.49,2, -999.000,9, -999.000,9,   2318.1,2,   2414.7,2,   7.5856,2,    25.00,  -999.00,9,  -999.00,9,   1.4929,2,      132
  49RY20120726,   40N,    17,  1,      3,    104,2,20120801,0117, 40.0035, 150.3435, 5360,   5101.0,   1.5156,   1.5157,2,  34.6903,2,  34.6912,2,    160.1,2,    160.0,2,   147.69,2,    35.45,3,     0.00,2,     2.48,2,    0.004,2,    0.000,2,   2317.6,2,   2411.7,2,   7.5855,2,    25.00,  -999.00,9,  -999.00,9,   1.5157,2,      126
  49RY20120726,   40N,    17,  1,      2,     75,2,20120801,0117, 40.0035, 150.3435, 5360,   5356.7,   1.5397,   1.5396,2,  34.6911,2,  34.6916,2,    161.9,2,    161.7,2,   145.38,2,    35.26,2,     0.00,2,     2.47,2, -999.000,9, -999.000,9,   2323.6,3,   2413.6,2,   7.5875,2,    25.00,  -999.00,9,  -999.00,9,   1.5396,2,      120
  49RY20120726,   40N,    17,  1,      1,    997,2,20120801,0117, 40.0035, 150.3435, 5360,   5449.6,   1.5504,   1.5503,2,  34.6911,2,  34.6941,4,    162.2,2,    162.0,2,   145.34,2,    35.28,2,     0.00,2,     2.47,2,    0.001,2,    0.000,2,   2319.1,2,   2418.3,3,   7.5859,2,    25.00,  -999.00,9,  -999.00,9,   1.5503,2,      117