BOTTLE,20210419PRINUNIVRMK
EXPOCODE,SECT_ID,STNNBR,CASTNO,SAMPNO,BTLNBR,BTLNBR_FLAG_W,DATE,TIME,LATITUDE,LONGITUDE,DEPTH,CTDPRS,CTDTMP,SBE35,SBE35_FLAG_W,CTDSAL,CTDSAL_FLAG_W,SALNTY,SALNTY_FLAG_W,CTDOXY,CTDOXY_FLAG_W,OXYGEN,OXYGEN_FLAG_W,SILCAT,SILCAT_FLAG_W,NITRAT,NITRAT_FLAG_W,NITRIT,NITRIT_FLAG_W,PHSPHT,PHSPHT_FLAG_W,CFC-11,CFC-11_FLAG_W,CFC-12,CFC-12_FLAG_W,TCARBN,TCARBN_FLAG_W,ALKALI,ALKALI_FLAG_W,PH_TOT,PH_TOT_FLAG_W,PH_TMP,CHLORA,CHLORA_FLAG_W,PPHYTN,PPHYTN_FLAG_W,SBE35,SBE35_FLAG_W,BTL_TIME
,,,,,,,,,,,METERS,DBAR,ITS-90,,,PSS-78,,PSS-78,,UMOL/KG,,UMOL/KG,,UMOL/KG,,UMOL/KG,,UMOL/KG,,UMOL/KG,,PMOL/KG,,PMOL/KG,,UMOL/KG,,UMOL/KG,,,,DEG C,UG/KG,,UG/KG,,,,
  49RY20120726,   40N,    38,  1,     36,    109,3,20120810,2243, 40.0048, 164.3345, 5248,     11.4,  23.5142,  23.5210,2,  33.8321,2,  33.8537,4,    223.4,2,    224.5,2,     2.46,2,     0.05,2,     0.00,2,     0.06,2, -999.000,9, -999.000,9,   -999.0,9,   -999.0,9,-999.0000,9,  -999.00,  -999.00,9,  -999.00,9,  23.5210,2,      144
  49RY20120726,   40N,    38,  1,     35,    112,2,20120810,2243, 40.0048, 164.3345, 5248,     51.9,  14.3173,  14.3285,2,  34.3725,2,  34.3774,2,    247.3,2,    246.8,2,     8.28,2,     4.88,2,     0.21,2,     0.44,2, -999.000,9, -999.000,9,   -999.0,9,   -999.0,9,-999.0000,9,  -999.00,  -999.00,9,  -999.00,9,  14.3285,2,      140
  49RY20120726,   40N,    38,  1,     34,     83,2,20120810,2243, 40.0048, 164.3345, 5248,    102.3,  11.1303,  11.1363,2,  34.2650,2,  34.2654,2,    227.6,2,    227.5,2,    17.36,2,    12.46,2,     0.03,2,     0.91,2, -999.000,9, -999.000,9,   -999.0,9,   -999.0,9,-999.0000,9,  -999.00,  -999.00,9,  -999.00,9,  11.1363,2,      138
  49RY20120726,   40N,    38,  1,     33,     86,2,20120810,2243, 40.0048, 164.3345, 5248,    152.7,   9.6566,   9.6583,2,  34.1507,2,  34.1482,2,    229.7,2,    229.8,2,    21.95,2,    14.62,2,     0.02,2,     1.07,2, -999.000,9, -999.000,9,   -999.0,9,   -999.0,9,-999.0000,9,  -999.00,  -999.00,9,  -999.00,9,   9.6583,2,      136
  49RY20120726,   40N,    38,  1,     32,    105,2,20120810,2243, 40.0048, 164.3345, 5248,    202.5,   8.4663,   8.4672,2,  34.0243,2,  34.0257,2,    247.8,2,    247.8,2,    23.17,2,    15.10,2,     0.01,2,     1.12,2, -999.000,9, -999.000,9,   -999.0,9,   -999.0,9,-999.0000,9,  -999.00,  -999.00,9,  -999.00,9,   8.4672,2,      131
  49RY20120726,   40N,    38,  1,     31,     76,2,20120810,2243, 40.0048, 164.3345, 5248,    253.8,   7.0900,   7.0895,2,  33.8948,2,  33.8958,2,    252.2,2,    252.5,2,    28.59,2,    17.61,2,     0.01,2,     1.33,2, -999.000,9, -999.000,9,   -999.0,9,   -999.0,9,-999.0000,9,  -999.00,  -999.00,9,  -999.00,9,   7.0895,2,      124
  49RY20120726,   40N,    38,  1,     30,    103,2,20120810,2243, 40.0048, 164.3345, 5248,    253.8,   7.0900,   7.0895,2,  33.8948,2,  33.8951,6,    252.2,2,    252.9,6,    28.71,6,    17.61,6,     0.01,6,     1.33,6, -999.000,9, -999.000,9,   -999.0,9,   -999.0,9,-999.0000,9,  -999.00,  -999.00,9,  -999.00,9,   7.0895,2,      124
  49RY20120726,   40N,    38,  1,     29,    102,2,20120810,2243, 40.0048, 164.3345, 5248,    333.2,   5.8775,   5.8785,2,  33.8886,2,  33.8916,2,    174.3,2,    171.7,2,    52.61,2,    27.25,2,     0.00,2,     2.01,2, -999.000,9, -999.000,9,   -999.0,9,   -999.0,9,-999.0000,9,  -999.00,  -999.00,9,  -999.00,9,   5.8785,2,      121
  49RY20120726,   40N,    38,  1,     28,     91,2,20120810,2243, 40.0048, 164.3345, 5248,    434.2,   4.2322,   4.2317,2,  33.8739,2,  33.8725,2,    116.8,2,    115.9,2,    77.25,2,    35.46,2,     0.00,2,     2.59,2, -999.000,9, -999.000,9,   -999.0,9,   -999.0,9,-999.0000,9,  -999.00,  -999.00,9,  -999.00,9,   4.2317,2,      118
  49RY20120726,   40N,    38,  1,     27,    998,2,20120810,2243, 40.0048, 164.3345, 5248,    536.2,   4.3008,   4.3008,2,  34.0339,2,  34.0343,2,     81.1,2,     80.2,2,    90.86,2,    37.97,2,     0.00,2,     2.76,2, -999.000,9, -999.000,9,   -999.0,9,   -999.0,9,-999.0000,9,  -999.00,  -999.00,9,  -999.00,9,   4.3008,2,      114
  49RY20120726,   40N,    38,  1,     26,     99,2,20120810,2243, 40.0048, 164.3345, 5248,    635.8,   3.9153,   3.9158,2,  34.1270,2,  34.1276,2,     55.2,2,     55.3,2,   106.00,2,    40.42,2,     0.00,2,     2.92,2, -999.000,9, -999.000,9,   -999.0,9,   -999.0,9,-999.0000,9,  -999.00,  -999.00,9,  -999.00,9,   3.9158,2,      112
  49RY20120726,   40N,    38,  1,     25,     98,2,20120810,2243, 40.0048, 164.3345, 5248,    737.6,   3.9584,   3.9584,2,  34.2485,2,  34.2502,2,     52.6,2,     51.8,2,   112.88,2,    40.34,2,     0.00,2,     2.92,2, -999.000,9, -999.000,9,   -999.0,9,   -999.0,9,-999.0000,9,  -999.00,  -999.00,9,  -999.00,9,   3.9584,2,      109
  49RY20120726,   40N,    38,  1,     24,    110,2,20120810,2243, 40.0048, 164.3345, 5248,    839.0,   3.5961,   3.5963,2,  34.3023,2,  34.3017,2,     44.7,2,     44.0,2,   122.53,2,    41.36,2,     0.00,2,     2.98,2, -999.000,9, -999.000,9,   -999.0,9,   -999.0,9,-999.0000,9,  -999.00,  -999.00,9,  -999.00,9,   3.5963,2,       54
  49RY20120726,   40N,    38,  1,     23,     96,2,20120810,2243, 40.0048, 164.3345, 5248,    839.0,   3.5961,   3.5963,2,  34.3023,2,  34.3022,2,     44.7,2,     43.8,2,   122.54,2,    41.37,2,     0.00,2,     2.98,2, -999.000,9, -999.000,9,   -999.0,9,   -999.0,9,-999.0000,9,  -999.00,  -999.00,9,  -999.00,9,   3.5963,2,       54
  49RY20120726,   40N,    38,  1,     22,    111,2,20120810,2243, 40.0048, 164.3345, 5248,    939.0,   3.3252,   3.3252,2,  34.3403,2,  34.3405,2,     35.6,2,     35.3,2,   130.80,2,    42.47,2,     0.00,2,     3.06,2, -999.000,9, -999.000,9,   -999.0,9,   -999.0,9,-999.0000,9,  -999.00,  -999.00,9,  -999.00,9,   3.3252,2,       49
  49RY20120726,   40N,    38,  1,     21,     78,2,20120810,2243, 40.0048, 164.3345, 5248,   1082.8,   2.9837,   2.9837,2,  34.3974,2,  34.3964,2,     35.7,2,     35.4,2,   140.49,2,    42.74,2,     0.00,2,     3.07,2, -999.000,9, -999.000,9,   -999.0,9,   -999.0,9,-999.0000,9,  -999.00,  -999.00,9,  -999.00,9,   2.9837,2,       46
  49RY20120726,   40N,    38,  1,     20,     93,2,20120810,2243, 40.0048, 164.3345, 5248,   1284.6,   2.6852,   2.6851,2,  34.4526,2,  34.4522,2,     37.3,2,     37.1,2,   149.22,2,    42.94,2,     0.00,2,     3.07,2, -999.000,9, -999.000,9,   -999.0,9,   -999.0,9,-999.0000,9,  -999.00,  -999.00,9,  -999.00,9,   2.6851,2,       41
  49RY20120726,   40N,    38,  1,     19,     92,2,20120810,2243, 40.0048, 164.3345, 5248,   1487.6,   2.3851,   2.3851,2,  34.4996,2,  34.4999,6,     40.6,2,     40.5,6,   158.24,6,    42.96,6,     0.00,6,     3.07,6, -999.000,9, -999.000,9,   -999.0,9,   -999.0,9,-999.0000,9,  -999.00,  -999.00,9,  -999.00,9,   2.3851,2,       29
  49RY20120726,   40N,    38,  1,     18,    101,2,20120810,2243, 40.0048, 164.3345, 5248,   1690.6,   2.1786,   2.1786,2,  34.5388,2,  34.5391,2,     49.7,2,     49.7,2,   163.02,2,    42.50,2,     0.00,2,     3.02,2, -999.000,9, -999.000,9,   -999.0,9,   -999.0,9,-999.0000,9,  -999.00,  -999.00,9,  -999.00,9,   2.1786,2,       25
  49RY20120726,   40N,    38,  1,     17,     90,2,20120810,2243, 40.0048, 164.3345, 5248,   1893.6,   2.0285,   2.0284,2,  34.5691,2,  34.5704,2,     60.2,2,     59.8,2,   165.55,2,    41.85,2,     0.00,2,     2.97,2, -999.000,9, -999.000,9,   -999.0,9,   -999.0,9,-999.0000,9,  -999.00,  -999.00,9,  -999.00,9,   2.0284,2,       20
  49RY20120726,   40N,    38,  1,     16,     89,2,20120810,2243, 40.0048, 164.3345, 5248,   2097.6,   1.9019,   1.9019,2,  34.5961,2,  34.5966,2,     73.2,2,     74.0,2,   165.71,2,    41.03,2,     0.00,2,     2.91,2, -999.000,9, -999.000,9,   -999.0,9,   -999.0,9,-999.0000,9,  -999.00,  -999.00,9,  -999.00,9,   1.9019,2,        9
  49RY20120726,   40N,    38,  1,     15,     88,2,20120810,2243, 40.0048, 164.3345, 5248,   2299.6,   1.7765,   1.7763,2,  34.6188,2,  34.6190,2,     87.2,2,     87.0,2,   165.57,2,    40.15,2,     0.00,2,     2.84,2, -999.000,9, -999.000,9,   -999.0,9,   -999.0,9,-999.0000,9,  -999.00,  -999.00,9,  -999.00,9,   1.7763,2,        3
  49RY20120726,   40N,    38,  1,     14,    999,2,20120810,2243, 40.0048, 164.3345, 5248,   2504.6,   1.6979,   1.6978,2,  34.6337,2,  34.6341,2,     98.8,2,     98.9,2,   164.18,2,    39.44,2,     0.00,2,     2.79,2, -999.000,9, -999.000,9,   -999.0,9,   -999.0,9,-999.0000,9,  -999.00,  -999.00,9,  -999.00,9,   1.6978,2,     2359
  49RY20120726,   40N,    38,  1,     13,    996,2,20120810,2243, 40.0048, 164.3345, 5248,   2708.8,   1.6316,   1.6318,2,  34.6458,2,  34.6466,2,    109.7,2,    109.6,2,   161.68,2,    38.74,2,     0.00,2,     2.74,2, -999.000,9, -999.000,9,   -999.0,9,   -999.0,9,-999.0000,9,  -999.00,  -999.00,9,  -999.00,9,   1.6318,2,     2348
  49RY20120726,   40N,    38,  1,     12,     74,2,20120810,2243, 40.0048, 164.3345, 5248,   2708.8,   1.6316,   1.6318,2,  34.6458,2,  34.6465,2,    109.7,2,    109.8,2,   161.71,2,    38.72,2,     0.00,2,     2.74,2, -999.000,9, -999.000,9,   -999.0,9,   -999.0,9,-999.0000,9,  -999.00,  -999.00,9,  -999.00,9,   1.6318,2,     2348
  49RY20120726,   40N,    38,  1,     11,     97,2,20120810,2243, 40.0048, 164.3345, 5248,   2913.4,   1.5805,   1.5805,2,  34.6554,2,  34.6561,2,    119.0,2,    119.0,6,   159.58,6,    38.17,6,     0.00,6,     2.69,6, -999.000,9, -999.000,9,   -999.0,9,   -999.0,9,-999.0000,9,  -999.00,  -999.00,9,  -999.00,9,   1.5805,2,     2343
  49RY20120726,   40N,    38,  1,     10,    107,2,20120810,2243, 40.0048, 164.3345, 5248,   3128.6,   1.5424,   1.5424,2,  34.6625,2,  34.6629,2,    126.7,2,    126.7,2,   157.98,2,    37.66,2,     0.00,2,     2.65,2, -999.000,9, -999.000,9,   -999.0,9,   -999.0,9,-999.0000,9,  -999.00,  -999.00,9,  -999.00,9,   1.5424,2,     2335
  49RY20120726,   40N,    38,  1,      9,    108,2,20120810,2243, 40.0048, 164.3345, 5248,   3382.7,   1.4969,   1.4969,2,  34.6709,2,  34.6704,2,    135.9,2,    135.6,2,   155.42,2,    37.05,2,     0.00,2,     2.61,2, -999.000,9, -999.000,9,   -999.0,9,   -999.0,9,-999.0000,9,  -999.00,  -999.00,9,  -999.00,9,   1.4969,2,     2330
  49RY20120726,   40N,    38,  1,      8,     81,2,20120810,2243, 40.0048, 164.3345, 5248,   3639.3,   1.4775,   1.4776,2,  34.6759,2,  34.6764,2,    141.9,2,    141.8,2,   153.75,2,    36.64,2,     0.00,2,     2.57,2, -999.000,9, -999.000,9,   -999.0,9,   -999.0,9,-999.0000,9,  -999.00,  -999.00,9,  -999.00,9,   1.4776,2,     2322
  49RY20120726,   40N,    38,  1,      7,    106,2,20120810,2243, 40.0048, 164.3345, 5248,   3895.7,   1.4670,   1.4672,2,  34.6801,2,  34.6807,6,    146.7,2,    146.5,6,   152.58,6,    36.38,6,     0.00,6,     2.55,6, -999.000,9, -999.000,9,   -999.0,9,   -999.0,9,-999.0000,9,  -999.00,  -999.00,9,  -999.00,9,   1.4672,2,     2316
  49RY20120726,   40N,    38,  1,      6,    113,2,20120810,2243, 40.0048, 164.3345, 5248,   4153.1,   1.4628,   1.4628,2,  34.6835,2,  34.6836,2,    151.0,2,    151.0,2,   151.65,2,    36.05,2,     0.00,2,     2.53,2, -999.000,9, -999.000,9,   -999.0,9,   -999.0,9,-999.0000,9,  -999.00,  -999.00,9,  -999.00,9,   1.4628,2,     2310
  49RY20120726,   40N,    38,  1,      5,     94,2,20120810,2243, 40.0048, 164.3345, 5248,   4409.7,   1.4688,   1.4691,2,  34.6861,2,  34.6859,2,    154.1,2,    154.7,2,   151.19,2,    35.87,2,     0.00,2,     2.50,2, -999.000,9, -999.000,9,   -999.0,9,   -999.0,9,-999.0000,9,  -999.00,  -999.00,9,  -999.00,9,   1.4691,2,     2305
  49RY20120726,   40N,    38,  1,      4,     77,2,20120810,2243, 40.0048, 164.3345, 5248,   4666.9,   1.4856,   1.4857,2,  34.6877,2,  34.6876,2,    155.8,2,    156.0,2,   151.11,2,    35.79,2,     0.00,2,     2.50,2, -999.000,9, -999.000,9,   -999.0,9,   -999.0,9,-999.0000,9,  -999.00,  -999.00,9,  -999.00,9,   1.4857,2,     2259
  49RY20120726,   40N,    38,  1,      3,    104,2,20120810,2243, 40.0048, 164.3345, 5248,   4925.6,   1.5096,   1.5095,2,  34.6887,2,  34.6889,2,    156.7,2,    157.1,2,   151.02,2,    35.68,2,     0.00,2,     2.49,2, -999.000,9, -999.000,9,   -999.0,9,   -999.0,9,-999.0000,9,  -999.00,  -999.00,9,  -999.00,9,   1.5095,2,     2253
  49RY20120726,   40N,    38,  1,      2,     75,2,20120810,2243, 40.0048, 164.3345, 5248,   5183.3,   1.5364,   1.5363,2,  34.6895,2,  34.6894,2,    157.3,2,    157.7,2,   151.80,2,    35.62,2,     0.00,2,     2.49,2, -999.000,9, -999.000,9,   -999.0,9,   -999.0,9,-999.0000,9,  -999.00,  -999.00,9,  -999.00,9,   1.5363,2,     2248
  49RY20120726,   40N,    38,  1,      1,    997,2,20120810,2243, 40.0048, 164.3345, 5248,   5335.0,   1.5540,   1.5538,2,  34.6896,2,  34.6902,2,    157.6,2,    157.5,2,   152.13,2,    35.61,2,     0.00,2,     2.49,2, -999.000,9, -999.000,9,   -999.0,9,   -999.0,9,-999.0000,9,  -999.00,  -999.00,9,  -999.00,9,   1.5538,2,     2243