BOTTLE,20210419PRINUNIVRMK
EXPOCODE,SECT_ID,STNNBR,CASTNO,SAMPNO,BTLNBR,BTLNBR_FLAG_W,DATE,TIME,LATITUDE,LONGITUDE,DEPTH,CTDPRS,CTDTMP,SBE35,SBE35_FLAG_W,CTDSAL,CTDSAL_FLAG_W,SALNTY,SALNTY_FLAG_W,CTDOXY,CTDOXY_FLAG_W,OXYGEN,OXYGEN_FLAG_W,SILCAT,SILCAT_FLAG_W,NITRAT,NITRAT_FLAG_W,NITRIT,NITRIT_FLAG_W,PHSPHT,PHSPHT_FLAG_W,CFC-11,CFC-11_FLAG_W,CFC-12,CFC-12_FLAG_W,TCARBN,TCARBN_FLAG_W,ALKALI,ALKALI_FLAG_W,PH_TOT,PH_TOT_FLAG_W,PH_TMP,CHLORA,CHLORA_FLAG_W,PPHYTN,PPHYTN_FLAG_W,SBE35,SBE35_FLAG_W,BTL_TIME
,,,,,,,,,,,METERS,DBAR,ITS-90,,,PSS-78,,PSS-78,,UMOL/KG,,UMOL/KG,,UMOL/KG,,UMOL/KG,,UMOL/KG,,UMOL/KG,,PMOL/KG,,PMOL/KG,,UMOL/KG,,UMOL/KG,,,,DEG C,UG/KG,,UG/KG,,,,
  49RY20120726,   40N,    41,  1,     36,    109,3,20120809,2343, 40.0128, 166.3545, 5464,     11.7,  23.2598,  23.3760,2,  34.3996,2,  34.4031,2,    223.6,2,    220.7,2,     1.43,2,     0.02,2,     0.00,2,     0.02,2, -999.000,9, -999.000,9,   1986.7,2,   2265.0,2,-999.0000,5,  -999.00,     0.10,2,     0.01,2,  23.3760,2,      244
  49RY20120726,   40N,    41,  1,     35,    112,2,20120809,2343, 40.0128, 166.3545, 5464,     51.2,  15.9575,  15.9755,2,  34.5898,2,  34.5881,2,    231.4,2,    230.3,2,     5.59,2,     3.64,2,     0.18,2,     0.29,2, -999.000,9, -999.000,9,   2033.4,2,   2277.0,2,   7.9562,2,    25.00,     0.62,2,     0.43,2,  15.9755,2,      240
  49RY20120726,   40N,    41,  1,     34,     83,3,20120809,2343, 40.0128, 166.3545, 5464,    101.4,  14.4863,  14.4928,2,  34.5313,2,  34.5317,2,    225.1,2,    224.0,2,     7.60,2,     6.84,2,     0.03,2,     0.49,2, -999.000,9, -999.000,9,   2056.4,2,   2275.5,2,   7.9105,2,    25.00,     0.07,2,     0.04,2,  14.4928,2,      238
  49RY20120726,   40N,    41,  1,     33,     86,2,20120809,2343, 40.0128, 166.3545, 5464,    152.7,  13.6413,  13.6416,2,  34.4846,2,  34.4840,6,    229.8,2,    228.5,2,     9.99,2,     8.09,2,     0.02,2,     0.56,2, -999.000,9, -999.000,9,   2061.4,6,   2273.8,6,   7.8901,2,    25.00,     0.01,2,     0.02,2,  13.6416,2,      236
  49RY20120726,   40N,    41,  1,     32,    105,2,20120809,2343, 40.0128, 166.3545, 5464,    204.1,  12.5770,  12.5786,2,  34.4018,2,  34.4011,2,    231.7,2,    230.5,2,    12.46,2,     9.62,2,     0.01,2,     0.68,2, -999.000,9, -999.000,9,   2075.0,2,   2272.1,2,   7.8634,6,    25.00,     0.01,2,     0.02,2,  12.5786,2,      231
  49RY20120726,   40N,    41,  1,     31,     76,2,20120809,2343, 40.0128, 166.3545, 5464,    254.3,  11.6154,  11.6144,2,  34.3124,2,  34.3118,2,    253.3,2,    252.2,2,    11.80,2,     8.92,2,     0.01,2,     0.65,2, -999.000,9, -999.000,9,   2071.2,2,   2268.2,2,   7.8631,2,    25.00,  -999.00,9,  -999.00,9,  11.6144,2,      225
  49RY20120726,   40N,    41,  1,     30,    103,3,20120809,2343, 40.0128, 166.3545, 5464,    283.5,  11.3704,  11.3743,2,  34.2843,2,  34.2855,2,    255.1,2,    254.2,2,    12.31,2,     9.22,2,     0.01,2,     0.67,2, -999.000,9, -999.000,9,   2065.4,2,   2264.0,2,   7.8580,2,    25.00,  -999.00,9,  -999.00,9,  11.3743,2,      223
  49RY20120726,   40N,    41,  1,     29,    102,2,20120809,2343, 40.0128, 166.3545, 5464,    373.4,  10.5653,  10.5659,2,  34.1851,2,  34.1851,2,    242.0,2,    240.6,6,    16.61,6,    11.96,6,     0.01,6,     0.87,6, -999.000,9, -999.000,9,   2091.8,2,   2266.4,2,   7.8173,2,    25.00,  -999.00,9,  -999.00,9,  10.5659,2,      219
  49RY20120726,   40N,    41,  1,     28,     91,2,20120809,2343, 40.0128, 166.3545, 5464,    477.7,   8.4682,   8.4659,2,  34.0558,2,  34.0527,2,    195.6,2,    196.0,2,    32.85,2,    19.91,2,     0.00,2,     1.44,2, -999.000,9, -999.000,9,   2142.2,2,   2274.9,2,   7.6973,2,    25.00,  -999.00,9,  -999.00,9,   8.4659,2,      215
  49RY20120726,   40N,    41,  1,     27,    998,2,20120809,2343, 40.0128, 166.3545, 5464,    573.2,   6.4005,   6.3901,2,  33.9898,2,  33.9905,2,    149.9,2,    150.3,6,    55.19,6,    28.27,6,     0.00,6,     2.05,6, -999.000,9, -999.000,9,   2210.5,2,   2287.8,2,   7.5594,2,    25.00,  -999.00,9,  -999.00,9,   6.3901,2,      212
  49RY20120726,   40N,    41,  1,     26,     99,2,20120809,2343, 40.0128, 166.3545, 5464,    676.8,   5.0746,   5.0750,2,  34.0222,2,  34.0225,2,    109.6,2,    110.2,2,    76.73,2,    34.31,2,     0.00,2,     2.49,2, -999.000,9, -999.000,9,   2260.9,6,   2303.3,6,   7.4567,2,    25.00,  -999.00,9,  -999.00,9,   5.0750,2,      209
  49RY20120726,   40N,    41,  1,     25,     98,2,20120809,2343, 40.0128, 166.3545, 5464,    777.9,   4.3696,   4.3706,2,  34.1068,2,  34.1055,2,     72.0,2,     71.3,2,    95.26,2,    38.50,2,     0.00,2,     2.78,2, -999.000,9, -999.000,9,   2303.6,2,   2322.9,2,   7.3849,6,    25.00,  -999.00,9,  -999.00,9,   4.3706,2,      204
  49RY20120726,   40N,    41,  1,     24,    110,2,20120809,2343, 40.0128, 166.3545, 5464,    880.0,   3.9887,   3.9868,2,  34.2001,2,  34.1997,2,     52.0,2,     51.6,2,   109.52,2,    40.54,2,     0.00,2,     2.90,2, -999.000,9, -999.000,9,   2327.8,2,   2338.9,2,   7.3607,2,    25.00,  -999.00,9,  -999.00,9,   3.9868,2,      154
  49RY20120726,   40N,    41,  1,     23,     96,2,20120809,2343, 40.0128, 166.3545, 5464,    980.6,   3.6116,   3.6116,2,  34.2642,2,  34.2622,2,     41.2,2,     40.7,2,   121.36,2,    41.72,2,     0.00,2,     3.00,2, -999.000,9, -999.000,9,   2347.9,2,   2351.9,2,   7.3401,2,    25.00,  -999.00,9,  -999.00,9,   3.6116,2,      151
  49RY20120726,   40N,    41,  1,     22,    111,2,20120809,2343, 40.0128, 166.3545, 5464,   1143.6,   3.2036,   3.2037,2,  34.3385,2,  34.3392,2,     35.4,2,     34.3,2,   134.20,2,    42.53,2,     0.00,2,     3.06,2, -999.000,9, -999.000,9,   2357.1,2,   2368.3,2,   7.3394,2,    25.00,  -999.00,9,  -999.00,9,   3.2037,2,      146
  49RY20120726,   40N,    41,  1,     21,     78,2,20120809,2343, 40.0128, 166.3545, 5464,   1344.3,   2.8956,   2.8950,2,  34.4104,2,  34.4113,2,     33.7,2,     33.1,2,   143.91,2,    43.18,2,     0.00,2,     3.07,2, -999.000,9, -999.000,9,   2377.0,2,   2383.5,2,   7.3412,2,    25.00,  -999.00,9,  -999.00,9,   2.8950,2,      141
  49RY20120726,   40N,    41,  1,     20,     93,2,20120809,2343, 40.0128, 166.3545, 5464,   1344.3,   2.8956,   2.8950,2,  34.4104,2,  34.4125,6,     33.7,2,     32.9,2,   144.54,2,    43.12,2,     0.00,2,     3.08,2, -999.000,9, -999.000,9,   2370.8,3,   2382.7,2,   7.3412,2,    25.00,  -999.00,9,  -999.00,9,   2.8950,2,      141
  49RY20120726,   40N,    41,  1,     19,     92,2,20120809,2343, 40.0128, 166.3545, 5464,   1549.6,   2.5608,   2.5616,2,  34.4712,2,  34.4714,2,     36.4,2,     35.4,2,   154.18,2,    43.26,2,     0.00,2,     3.08,2, -999.000,9, -999.000,9,   2372.4,3,   2394.2,2,   7.3482,2,    25.00,  -999.00,9,  -999.00,9,   2.5616,2,      130
  49RY20120726,   40N,    41,  1,     18,    101,2,20120809,2343, 40.0128, 166.3545, 5464,   1750.6,   2.3155,   2.3153,2,  34.5225,2,  34.5223,2,     44.6,2,     46.2,3,   160.18,2,    42.90,2,     0.00,2,     3.04,2, -999.000,9, -999.000,9,   2380.8,2,   2402.3,2,   7.3698,2,    25.00,  -999.00,9,  -999.00,9,   2.3153,2,      125
  49RY20120726,   40N,    41,  1,     17,     90,3,20120809,2343, 40.0128, 166.3545, 5464,   1954.7,   2.1086,   2.1085,2,  34.5593,2,  34.5598,2,     56.3,2,     56.0,2,   163.88,2,    42.24,2,     0.00,2,     2.99,2, -999.000,9, -999.000,9,   2384.2,6,   2408.6,6,   7.3951,2,    25.00,  -999.00,9,  -999.00,9,   2.1085,2,      114
  49RY20120726,   40N,    41,  1,     16,     89,3,20120809,2343, 40.0128, 166.3545, 5464,   2158.0,   1.9889,   1.9890,2,  34.5812,2,  34.5805,2,     65.5,2,     65.1,2,   166.20,2,    41.75,2,     0.00,2,     2.94,2, -999.000,9, -999.000,9,   2378.6,2,   2411.1,2,   7.4107,6,    25.00,  -999.00,9,  -999.00,9,   1.9890,2,      108
  49RY20120726,   40N,    41,  1,     15,     88,2,20120809,2343, 40.0128, 166.3545, 5464,   2361.3,   1.8644,   1.8643,2,  34.6050,2,  34.6056,2,     78.5,2,     79.0,2,   166.62,2,    41.00,2,     0.00,2,     2.88,2, -999.000,9, -999.000,9,   2375.3,2,   2415.7,2,   7.4364,2,    25.00,  -999.00,9,  -999.00,9,   1.8643,2,      103
  49RY20120726,   40N,    41,  1,     14,    999,2,20120809,2343, 40.0128, 166.3545, 5464,   2566.5,   1.7616,   1.7615,2,  34.6244,2,  34.6265,2,     91.9,2,     91.7,2,   165.29,2,    39.92,2,     0.00,2,     2.82,2, -999.000,9, -999.000,9,   2363.5,2,   2415.8,2,   7.4627,2,    25.00,  -999.00,9,  -999.00,9,   1.7615,2,       55
  49RY20120726,   40N,    41,  1,     13,    996,2,20120809,2343, 40.0128, 166.3545, 5464,   2769.8,   1.6763,   1.6766,2,  34.6401,2,  34.6407,2,    104.5,2,    104.3,2,   163.39,2,    39.39,2,     0.00,2,     2.76,2, -999.000,9, -999.000,9,   2359.7,2,   2418.0,2,   7.4883,2,    25.00,  -999.00,9,  -999.00,9,   1.6766,2,       50
  49RY20120726,   40N,    41,  1,     12,     74,2,20120809,2343, 40.0128, 166.3545, 5464,   2973.5,   1.6172,   1.6173,2,  34.6507,2,  34.6512,2,    114.5,2,    114.4,2,   161.32,2,    38.50,2,     0.00,2,     2.71,2, -999.000,9, -999.000,9,   2356.5,2,   2418.7,2,   7.5055,2,    25.00,  -999.00,9,  -999.00,9,   1.6173,2,       46
  49RY20120726,   40N,    41,  1,     11,     97,2,20120809,2343, 40.0128, 166.3545, 5464,   3219.9,   1.5587,   1.5586,2,  34.6618,2,  34.6567,4,    125.9,2,    122.4,4,   158.36,6,    37.96,6,     0.00,6,     2.66,6, -999.000,9, -999.000,9,   2340.6,3,   2415.9,2,   7.5242,2,    25.00,  -999.00,9,  -999.00,9,   1.5586,2,       39
  49RY20120726,   40N,    41,  1,     10,    107,2,20120809,2343, 40.0128, 166.3545, 5464,   3219.9,   1.5587,   1.5586,2,  34.6618,2,  34.6606,2,    125.9,2,    124.9,2,   158.42,2,    37.89,2,     0.00,2,     2.65,2, -999.000,9, -999.000,9,   2348.5,2,   2416.2,2,   7.5282,2,    25.00,  -999.00,9,  -999.00,9,   1.5586,2,       39
  49RY20120726,   40N,    41,  1,      9,    108,2,20120809,2343, 40.0128, 166.3545, 5464,   3476.5,   1.5255,   1.5256,2,  34.6686,2,  34.6678,2,    133.4,2,    133.0,2,   156.38,2,    37.43,2,     0.00,2,     2.61,2, -999.000,9, -999.000,9,   2340.2,2,   2416.9,2,   7.5391,2,    25.00,  -999.00,9,  -999.00,9,   1.5256,2,       32
  49RY20120726,   40N,    41,  1,      8,     81,2,20120809,2343, 40.0128, 166.3545, 5464,   3730.6,   1.4899,   1.4900,2,  34.6757,2,  34.6763,2,    141.6,2,    141.7,2,   154.47,2,    36.65,2,     0.00,2,     2.57,2, -999.000,9, -999.000,9,   2335.4,6,   2419.6,6,   7.5554,6,    25.00,  -999.00,9,  -999.00,9,   1.4900,2,       25
  49RY20120726,   40N,    41,  1,      7,    106,3,20120809,2343, 40.0128, 166.3545, 5464,   3988.7,   1.4857,   1.4858,2,  34.6792,2,  34.6793,2,    145.9,2,    146.0,6,   153.18,6,    36.66,6,     0.00,6,     2.55,2, -999.000,9, -999.000,9,   2333.9,2,   2420.4,2,   7.5639,2,    25.00,  -999.00,9,  -999.00,9,   1.4858,2,       18
  49RY20120726,   40N,    41,  1,      6,    113,2,20120809,2343, 40.0128, 166.3545, 5464,   4244.4,   1.4783,   1.4784,2,  34.6831,2,  34.6827,6,    149.9,2,    149.7,2,   153.54,3,    36.30,2,     0.00,2,     2.52,2, -999.000,9, -999.000,9,   2327.8,2,   2418.4,2,   7.5685,2,    25.00,  -999.00,9,  -999.00,9,   1.4784,2,       12
  49RY20120726,   40N,    41,  1,      5,     94,2,20120809,2343, 40.0128, 166.3545, 5464,   4502.8,   1.4871,   1.4871,2,  34.6855,2,  34.6859,2,    153.2,2,    153.0,2,   151.79,2,    36.09,2,     0.00,2,     2.51,2, -999.000,9, -999.000,9,   2323.9,2,   2418.6,2,   7.5760,2,    25.00,  -999.00,9,  -999.00,9,   1.4871,2,        6
  49RY20120726,   40N,    41,  1,      4,     77,2,20120809,2343, 40.0128, 166.3545, 5464,   4758.8,   1.5034,   1.5035,2,  34.6871,2,  34.6871,2,    155.1,2,    154.9,2,   151.47,2,    35.90,2,     0.00,2,     2.50,2, -999.000,9, -999.000,9,   2316.0,3,   2418.4,2,   7.5805,2,    25.00,  -999.00,9,  -999.00,9,   1.5035,2,        0
  49RY20120726,   40N,    41,  1,      3,    104,2,20120809,2343, 40.0128, 166.3545, 5464,   5015.4,   1.5230,   1.5231,2,  34.6884,2,  34.6884,2,    156.7,2,    156.2,2,   151.56,2,    35.69,2,     0.00,2,     2.49,2, -999.000,9, -999.000,9,   2317.5,3,   2415.1,2,   7.5806,2,    25.00,  -999.00,9,  -999.00,9,   1.5231,2,     2354
  49RY20120726,   40N,    41,  1,      2,     75,2,20120809,2343, 40.0128, 166.3545, 5464,   5274.0,   1.5490,   1.5490,2,  34.6894,2,  34.6890,2,    157.5,2,    156.9,2,   151.70,2,    35.63,2,     0.00,2,     2.48,2, -999.000,9, -999.000,9,   2327.6,2,   2416.9,2,   7.5846,2,    25.00,  -999.00,9,  -999.00,9,   1.5490,2,     2349
  49RY20120726,   40N,    41,  1,      1,    997,2,20120809,2343, 40.0128, 166.3545, 5464,   5505.2,   1.5774,   1.5773,2,  34.6896,2,  34.6899,2,    157.8,2,    157.3,2,   152.52,2,    35.72,3,     0.00,2,     2.48,2, -999.000,9, -999.000,9,   2325.7,2,   2417.8,2,   7.5849,2,    25.00,  -999.00,9,  -999.00,9,   1.5773,2,     2343