BOTTLE,20210419PRINUNIVRMK
EXPOCODE,SECT_ID,STNNBR,CASTNO,SAMPNO,BTLNBR,BTLNBR_FLAG_W,DATE,TIME,LATITUDE,LONGITUDE,DEPTH,CTDPRS,CTDTMP,SBE35,SBE35_FLAG_W,CTDSAL,CTDSAL_FLAG_W,SALNTY,SALNTY_FLAG_W,CTDOXY,CTDOXY_FLAG_W,OXYGEN,OXYGEN_FLAG_W,SILCAT,SILCAT_FLAG_W,NITRAT,NITRAT_FLAG_W,NITRIT,NITRIT_FLAG_W,PHSPHT,PHSPHT_FLAG_W,CFC-11,CFC-11_FLAG_W,CFC-12,CFC-12_FLAG_W,TCARBN,TCARBN_FLAG_W,ALKALI,ALKALI_FLAG_W,PH_TOT,PH_TOT_FLAG_W,PH_TMP,CHLORA,CHLORA_FLAG_W,PPHYTN,PPHYTN_FLAG_W,SBE35,SBE35_FLAG_W,BTL_TIME
,,,,,,,,,,,METERS,DBAR,ITS-90,,,PSS-78,,PSS-78,,UMOL/KG,,UMOL/KG,,UMOL/KG,,UMOL/KG,,UMOL/KG,,UMOL/KG,,PMOL/KG,,PMOL/KG,,UMOL/KG,,UMOL/KG,,,,DEG C,UG/KG,,UG/KG,,,,
  49RY20120726,   40N,    65,  1,     36,    109,2,20120902,0717, 35.0020, 168.5757, 5618,     10.3,  26.1907,  26.1923,2,  34.1844,2,  34.1832,2,    207.8,2,    208.2,2,     1.37,2,     0.00,2,     0.00,2,     0.02,2,    1.831,2,    1.081,2,   1944.3,2,   2242.6,2,   8.0691,4,    25.00,     0.09,2,     0.03,2,  26.1923,2,      949
  49RY20120726,   40N,    65,  1,     35,    112,2,20120902,0717, 35.0020, 168.5757, 5618,     47.1,  21.2809,  21.2807,2,  34.5851,2,  34.5817,2,    234.8,2,    235.5,2,     2.08,2,     0.01,2,     0.00,2,     0.03,2,    2.385,2,    1.266,2,   1979.6,2,   2267.1,2,   8.0361,4,    25.00,     0.29,2,     0.17,2,  21.2807,2,      945
  49RY20120726,   40N,    65,  1,     34,     83,2,20120902,0717, 35.0020, 168.5757, 5618,     96.3,  18.2916,  18.2911,2,  34.6733,2,  34.6705,2,    197.5,2,    197.1,2,     5.15,2,     4.71,2,     0.06,2,     0.33,2,    2.287,2,    1.358,2,   2034.6,2,   2274.7,2,   7.9534,4,    25.00,     0.12,2,     0.28,2,  18.2911,2,      943
  49RY20120726,   40N,    65,  1,     33,     86,2,20120902,0717, 35.0020, 168.5757, 5618,    152.5,  16.5956,  16.5856,2,  34.6329,2,  34.6432,4,    192.9,2,    193.7,2,     7.92,2,     7.04,2,     0.01,2,     0.49,2,    2.370,2,    1.399,2,   2056.2,2,   2275.1,2,   7.9097,4,    25.00,     0.01,2,     0.02,2,  16.5856,2,      940
  49RY20120726,   40N,    65,  1,     32,    105,2,20120902,0717, 35.0020, 168.5757, 5618,    205.4,  14.6839,  14.6872,2,  34.5297,2,  34.5334,4,    175.9,2,    175.0,2,    15.33,2,    11.71,2,     0.01,2,     0.82,2,    2.300,2,    1.320,2,   2090.6,2,   2274.6,2,   7.8339,4,    25.00,     0.00,2,     0.03,2,  14.6872,2,      936
  49RY20120726,   40N,    65,  1,     31,     76,2,20120902,0717, 35.0020, 168.5757, 5618,    250.4,  13.2397,  13.2400,2,  34.4482,2,  34.4471,2,    170.4,2,    170.0,2,    21.34,2,    14.57,2,     0.00,2,     1.03,2,    2.465,2,    1.295,2,   2116.0,2,   2274.7,2,   7.7881,4,    25.00,  -999.00,9,  -999.00,9,  13.2400,2,      933
  49RY20120726,   40N,    65,  1,     30,     97,2,20120902,0717, 35.0020, 168.5757, 5618,    332.4,  10.9593,  10.9648,2,  34.2537,2,  34.2483,4,    216.5,2,    216.0,2,    19.80,2,    13.78,2,     0.00,2,     1.00,2,    2.927,6,    1.635,6,   2108.0,2,   2268.4,2,   7.7840,4,    25.00,  -999.00,9,  -999.00,9,  10.9648,2,      931
  49RY20120726,   40N,    65,  1,     29,    102,2,20120902,0717, 35.0020, 168.5757, 5618,    431.8,   8.4896,   8.4851,2,  34.0903,2,  34.0877,2,    177.5,2,    177.3,2,    36.64,2,    21.86,2,     0.00,2,     1.58,2,    2.799,4,    1.541,4,   2164.3,6,   2273.2,6,   7.6555,4,    25.00,  -999.00,9,  -999.00,9,   8.4851,2,      928
  49RY20120726,   40N,    65,  1,     28,     91,2,20120902,0717, 35.0020, 168.5757, 5618,    535.2,   6.1929,   6.1930,2,  33.9888,2,  33.9914,2,    146.9,2,    147.1,2,    57.61,2,    28.79,2,     0.00,2,     2.11,2,    2.527,2,    1.326,2,   2215.7,2,   2286.4,2,   7.5353,4,    25.00,  -999.00,9,  -999.00,9,   6.1930,2,      925
  49RY20120726,   40N,    65,  1,     27,    998,2,20120902,0717, 35.0020, 168.5757, 5618,    636.0,   5.0086,   5.0095,2,  34.0323,2,  34.0344,2,    102.2,2,    101.4,2,    79.11,2,    35.02,2,     0.00,2,     2.54,2,    1.893,6,    0.972,6,   2271.9,2,   2301.6,2,   7.4297,4,    25.00,  -999.00,9,  -999.00,9,   5.0095,2,      922
  49RY20120726,   40N,    65,  1,     26,     84,2,20120902,0717, 35.0020, 168.5757, 5618,    737.0,   4.4453,   4.4453,2,  34.1254,2,  34.1247,2,     69.8,2,     70.5,2,    95.23,2,    38.33,2,     0.00,2,     2.77,2,    1.252,2,    0.630,2,   2305.6,2,   2319.0,2,   7.3753,4,    25.00,  -999.00,9,  -999.00,9,   4.4453,2,      919
  49RY20120726,   40N,    65,  1,     25,     98,2,20120902,0717, 35.0020, 168.5757, 5618,    837.7,   4.0148,   4.0149,2,  34.2071,2,  34.2068,2,     51.2,2,     52.5,2,   109.02,2,    40.41,2,     0.00,2,     2.91,2,    0.799,2,    0.383,2,   2317.0,3,   2336.4,2,   7.3424,4,    25.00,  -999.00,9,  -999.00,9,   4.0149,2,      911
  49RY20120726,   40N,    65,  1,     24,    110,2,20120902,0717, 35.0020, 168.5757, 5618,    938.5,   3.6526,   3.6534,2,  34.2829,2,  34.2841,2,     40.6,2,     41.0,6,   120.77,6,    41.61,6,     0.00,6,     2.99,6,    0.448,2,    0.204,2,   2346.7,2,   2352.4,2,   7.3297,4,    25.00,  -999.00,9,  -999.00,9,   3.6534,2,      908
  49RY20120726,   40N,    65,  1,     23,     96,2,20120902,0717, 35.0020, 168.5757, 5618,   1080.9,   3.2347,   3.2346,2,  34.3571,2,  34.3582,6,     32.2,2,     34.2,3,   133.60,2,    42.73,2,     0.00,2,     3.06,2,    0.209,2,    0.097,2,   2369.3,2,   2365.4,2,   7.3226,4,    25.00,  -999.00,9,  -999.00,9,   3.2346,2,      904
  49RY20120726,   40N,    65,  1,     22,    111,2,20120902,0717, 35.0020, 168.5757, 5618,   1283.1,   2.7878,   2.7879,2,  34.4390,2,  34.4391,2,     30.9,2,     30.7,2,   146.97,2,    43.38,2,     0.00,2,     3.09,2,    0.077,2,    0.037,2,   2387.6,6,   2383.4,6,   7.3223,4,    25.00,  -999.00,9,  -999.00,9,   2.7879,2,      900
  49RY20120726,   40N,    65,  1,     21,     78,2,20120902,0717, 35.0020, 168.5757, 5618,   1486.5,   2.4600,   2.4602,2,  34.4894,2,  34.4896,2,     37.8,2,     37.5,2,   156.34,2,    43.08,2,     0.00,2,     3.06,2,    0.044,2,    0.024,2,   2391.5,2,   2393.2,2,   7.3382,4,    25.00,  -999.00,9,  -999.00,9,   2.4602,2,      852
  49RY20120726,   40N,    65,  1,     20,     93,2,20120902,0717, 35.0020, 168.5757, 5618,   1688.2,   2.2420,   2.2421,2,  34.5398,2,  34.5405,2,     48.0,2,     48.1,2,   160.45,2,    42.64,2,     0.00,2,     3.02,2,    0.009,2,    0.006,2,   2389.0,2,   2401.2,2,   7.3610,4,    25.00,  -999.00,9,  -999.00,9,   2.2421,2,      848
  49RY20120726,   40N,    65,  1,     19,     92,2,20120902,0717, 35.0020, 168.5757, 5618,   1891.7,   2.0384,   2.0382,2,  34.5747,2,  34.5753,2,     61.9,2,     61.9,2,   163.90,2,    41.82,2,     0.00,2,     2.95,2,    0.001,2,    0.003,2,   2385.6,2,   2405.7,2,   7.3900,4,    25.00,  -999.00,9,  -999.00,9,   2.0382,2,      844
  49RY20120726,   40N,    65,  1,     18,    101,2,20120902,0717, 35.0020, 168.5757, 5618,   2095.2,   1.8996,   1.8996,2,  34.5989,2,  34.6002,2,     74.7,2,     74.4,2,   164.67,2,    41.06,2,     0.00,2,     2.90,2,    0.000,2,    0.006,2,   2382.9,2,   2407.1,2,   7.4163,4,    25.00,  -999.00,9,  -999.00,9,   1.8996,2,      836
  49RY20120726,   40N,    65,  1,     17,     90,2,20120902,0717, 35.0020, 168.5757, 5618,   2298.9,   1.7806,   1.7805,2,  34.6194,2,  34.6196,2,     88.4,2,     88.3,2,   164.13,2,    40.12,2,     0.00,2,     2.83,2, -999.000,9, -999.000,9,   2374.0,2,   2411.6,2,   7.4410,4,    25.00,  -999.00,9,  -999.00,9,   1.7805,2,      832
  49RY20120726,   40N,    65,  1,     16,     89,2,20120902,0717, 35.0020, 168.5757, 5618,   2502.8,   1.6949,   1.6948,2,  34.6343,2,  34.6345,2,     99.9,2,    100.0,6,   162.91,6,    39.46,6,     0.00,6,     2.78,6,    0.000,2,    0.001,2,   2378.8,3,   2412.1,2,   7.4650,4,    25.00,  -999.00,9,  -999.00,9,   1.6948,2,      828
  49RY20120726,   40N,    65,  1,     15,     88,2,20120902,0717, 35.0020, 168.5757, 5618,   2707.0,   1.6288,   1.6287,2,  34.6458,2,  34.6463,6,    110.1,2,    110.1,2,   161.32,2,    38.80,2,     0.00,2,     2.72,2, -999.000,9, -999.000,9,   2362.0,6,   2412.9,6,   7.4837,4,    25.00,  -999.00,9,  -999.00,9,   1.6287,2,      821
  49RY20120726,   40N,    65,  1,     14,    999,3,20120902,0717, 35.0020, 168.5757, 5618,   2910.5,   1.5774,   1.5774,2,  34.6552,2,  34.6562,2,    118.9,2,    119.0,2,   159.61,2,    38.22,2,     0.00,2,     2.68,2, -999.000,9, -999.000,9,   2353.2,2,   2412.3,2,   7.5012,4,    25.00,  -999.00,9,  -999.00,9,   1.5774,2,      817
  49RY20120726,   40N,    65,  1,     13,    667,2,20120902,0717, 35.0020, 168.5757, 5618,   3124.8,   1.5330,   1.5331,2,  34.6631,2,  34.6632,2,    127.2,2,    127.2,2,   157.86,2,    37.71,2,     0.00,2,     2.64,2,    0.000,2,    0.003,2,   2346.4,2,   2413.9,2,   7.5158,4,    25.00,  -999.00,9,  -999.00,9,   1.5331,2,      810
  49RY20120726,   40N,    65,  1,     12,     74,2,20120902,0717, 35.0020, 168.5757, 5618,   3380.7,   1.4969,   1.4969,2,  34.6705,2,  34.6706,2,    135.2,2,    135.3,2,   155.74,2,    37.20,2,     0.00,2,     2.60,2, -999.000,9, -999.000,9,   2341.3,2,   2413.1,2,   7.5309,4,    25.00,  -999.00,9,  -999.00,9,   1.4969,2,      805
  49RY20120726,   40N,    65,  1,     11,    996,2,20120902,0717, 35.0020, 168.5757, 5618,   3637.2,   1.4760,   1.4761,2,  34.6760,2,  34.6760,2,    141.6,2,    142.0,2,   154.21,2,    36.74,2,     0.00,2,     2.57,2, -999.000,9, -999.000,9,   2334.5,2,   2412.3,2,   7.5401,4,    25.00,  -999.00,9,  -999.00,9,   1.4761,2,      800
  49RY20120726,   40N,    65,  1,     10,    107,2,20120902,0717, 35.0020, 168.5757, 5618,   3892.8,   1.4675,   1.4676,2,  34.6799,2,  34.6796,2,    146.3,2,    146.5,2,   152.70,2,    36.52,2,     0.00,2,     2.54,2, -999.000,9, -999.000,9,   2335.2,2,   2413.0,2,   7.5493,4,    25.00,  -999.00,9,  -999.00,9,   1.4676,2,      755
  49RY20120726,   40N,    65,  1,      9,    108,2,20120902,0717, 35.0020, 168.5757, 5618,   4149.4,   1.4649,   1.4649,2,  34.6833,2,  34.6832,2,    150.6,2,    150.2,2,   151.75,2,    36.23,2,     0.00,2,     2.52,2, -999.000,9, -999.000,9,   2329.8,2,   2411.4,2,   7.5568,4,    25.00,  -999.00,9,  -999.00,9,   1.4649,2,      750
  49RY20120726,   40N,    65,  1,      8,     81,3,20120902,0717, 35.0020, 168.5757, 5618,   4406.9,   1.4717,   1.4717,2,  34.6859,2,  34.6757,4,    153.6,2,    152.2,4,   150.40,6,    35.94,6,     0.00,6,     2.50,6,    0.005,2,    0.006,2,   2337.3,2,   2411.4,2,   7.5618,4,    25.00,  -999.00,9,  -999.00,9,   1.4717,2,      745
  49RY20120726,   40N,    65,  1,      7,    106,2,20120902,0717, 35.0020, 168.5757, 5618,   4664.2,   1.4830,   1.4831,2,  34.6879,2,  34.6876,6,    156.3,2,    155.9,2,   150.60,2,    35.84,2,     0.00,2,     2.49,2, -999.000,9, -999.000,9,   2329.6,2,   2410.4,2,   7.5631,4,    25.00,  -999.00,9,  -999.00,9,   1.4831,2,      739
  49RY20120726,   40N,    65,  1,      5,     94,2,20120902,0717, 35.0020, 168.5757, 5618,   4921.2,   1.4979,   1.4979,2,  34.6895,2,  34.6890,2,    159.0,2,    158.6,2,   148.33,2,    35.59,2,     0.00,2,     2.47,2, -999.000,9, -999.000,9,   2323.7,6,   2409.0,6,   7.5707,4,    25.00,  -999.00,9,  -999.00,9,   1.4979,2,      734
  49RY20120726,   40N,    65,  1,      6,    113,3,20120902,0717, 35.0020, 168.5757, 5618,   4921.4,   1.4980,   1.4981,2,  34.6894,2,  34.6897,2,    159.0,2,    158.9,2,   148.41,2,    35.54,2,     0.00,2,     2.47,2, -999.000,9, -999.000,9,   2324.0,2,   2408.1,2,   7.5610,4,    25.00,  -999.00,9,  -999.00,9,   1.4981,2,      734
  49RY20120726,   40N,    65,  1,      4,     77,2,20120902,0717, 35.0020, 168.5757, 5618,   5179.3,   1.5023,   1.5022,2,  34.6916,2,  34.6916,2,    164.3,2,    164.5,2,   142.97,2,    35.16,2,     0.00,2,     2.44,2, -999.000,9, -999.000,9,   2314.7,2,   2405.0,2,   7.5772,4,    25.00,  -999.00,9,  -999.00,9,   1.5022,2,      729
  49RY20120726,   40N,    65,  1,      3,    104,2,20120902,0717, 35.0020, 168.5757, 5618,   5437.2,   1.5161,   1.5160,2,  34.6932,2,  34.6935,2,    167.8,2,    167.8,2,   139.90,2,    34.93,2,     0.00,2,     2.42,2,    0.000,2,    0.000,2,   2317.8,2,   2405.0,2,   7.5788,4,    25.00,  -999.00,9,  -999.00,9,   1.5160,2,      724
  49RY20120726,   40N,    65,  1,      2,     75,2,20120902,0717, 35.0020, 168.5757, 5618,   5694.4,   1.5329,   1.5327,2,  34.6947,2,  34.6951,2,    170.5,2,    170.5,2,   137.68,2,    34.80,2,     0.00,2,     2.40,2, -999.000,9, -999.000,9,   2311.8,2,   2402.5,2,   7.5833,4,    25.00,  -999.00,9,  -999.00,9,   1.5327,2,      719
  49RY20120726,   40N,    65,  1,      1,    997,2,20120902,0717, 35.0020, 168.5757, 5618,   5712.3,   1.5352,   1.5349,2,  34.6946,2,  34.6953,2,    170.6,2,    170.4,6,   137.91,6,    34.79,6,     0.00,6,     2.41,6,    0.000,2,    0.000,2,   2313.1,2,   2403.3,2,   7.5852,4,    25.00,  -999.00,9,  -999.00,9,   1.5349,2,      717