BOTTLE,20210419PRINUNIVRMK
EXPOCODE,SECT_ID,STNNBR,CASTNO,SAMPNO,BTLNBR,BTLNBR_FLAG_W,DATE,TIME,LATITUDE,LONGITUDE,DEPTH,CTDPRS,CTDTMP,SBE35,SBE35_FLAG_W,CTDSAL,CTDSAL_FLAG_W,SALNTY,SALNTY_FLAG_W,CTDOXY,CTDOXY_FLAG_W,OXYGEN,OXYGEN_FLAG_W,SILCAT,SILCAT_FLAG_W,NITRAT,NITRAT_FLAG_W,NITRIT,NITRIT_FLAG_W,PHSPHT,PHSPHT_FLAG_W,CFC-11,CFC-11_FLAG_W,CFC-12,CFC-12_FLAG_W,TCARBN,TCARBN_FLAG_W,ALKALI,ALKALI_FLAG_W,PH_TOT,PH_TOT_FLAG_W,PH_TMP,CHLORA,CHLORA_FLAG_W,PPHYTN,PPHYTN_FLAG_W,SBE35,SBE35_FLAG_W,BTL_TIME
,,,,,,,,,,,METERS,DBAR,ITS-90,,,PSS-78,,PSS-78,,UMOL/KG,,UMOL/KG,,UMOL/KG,,UMOL/KG,,UMOL/KG,,UMOL/KG,,PMOL/KG,,PMOL/KG,,UMOL/KG,,UMOL/KG,,,,DEG C,UG/KG,,UG/KG,,,,
  49RY20120726,   40N,    51,  1,     36,    109,2,20120828,2344, 38.5050, 169.9985, 3714,     11.6,  24.3210,  24.3181,2,  34.3416,2,-999.0000,9,    212.1,2,    213.3,6,     1.81,6,     0.00,6,     0.00,6,     0.01,6, -999.000,9, -999.000,9,   -999.0,9,   -999.0,9,-999.0000,9,  -999.00,  -999.00,9,  -999.00,9,  24.3181,2,      149
  49RY20120726,   40N,    51,  1,     35,    112,2,20120828,2344, 38.5050, 169.9985, 3714,     25.8,  19.6069,  19.5744,2,  34.4195,2,-999.0000,9,    249.7,2,    251.3,2,     2.13,2,     0.04,2,     0.00,2,     0.02,2, -999.000,9, -999.000,9,   -999.0,9,   -999.0,9,-999.0000,9,  -999.00,  -999.00,9,  -999.00,9,  19.5744,2,      148
  49RY20120726,   40N,    51,  1,     34,     83,3,20120828,2344, 38.5050, 169.9985, 3714,     50.2,  17.0251,  17.0239,2,  34.6581,2,-999.0000,9,    197.2,2,    197.1,2,     6.79,2,     6.02,2,     0.03,2,     0.40,2, -999.000,9, -999.000,9,   -999.0,9,   -999.0,9,-999.0000,9,  -999.00,  -999.00,9,  -999.00,9,  17.0239,2,      144
  49RY20120726,   40N,    51,  1,     33,     86,2,20120828,2344, 38.5050, 169.9985, 3714,     74.5,  16.0877,  16.0983,2,  34.6200,2,-999.0000,9,    200.2,2,    199.8,2,     7.66,2,     7.00,2,     0.02,2,     0.46,2, -999.000,9, -999.000,9,   -999.0,9,   -999.0,9,-999.0000,9,  -999.00,  -999.00,9,  -999.00,9,  16.0983,2,      143
  49RY20120726,   40N,    51,  1,     32,    105,2,20120828,2344, 38.5050, 169.9985, 3714,    101.8,  15.5747,  15.5554,2,  34.5856,2,-999.0000,9,    195.9,2,    197.5,2,     9.35,2,     8.29,2,     0.01,2,     0.55,2, -999.000,9, -999.000,9,   -999.0,9,   -999.0,9,-999.0000,9,  -999.00,  -999.00,9,  -999.00,9,  15.5554,2,      141
  49RY20120726,   40N,    51,  1,     31,     76,2,20120828,2344, 38.5050, 169.9985, 3714,    127.0,  14.6851,  14.6062,2,  34.5256,2,-999.0000,9,    222.3,2,    223.7,2,     8.01,2,     6.95,2,     0.15,2,     0.48,2, -999.000,9, -999.000,9,   -999.0,9,   -999.0,9,-999.0000,9,  -999.00,  -999.00,9,  -999.00,9,  14.6062,2,      140
  49RY20120726,   40N,    51,  1,     30,     97,2,20120828,2344, 38.5050, 169.9985, 3714,    153.1,  13.7744,  13.7761,2,  34.4739,2,-999.0000,9,    219.3,2,    219.3,2,    10.63,2,     8.80,2,     0.01,2,     0.60,2, -999.000,9, -999.000,9,   -999.0,9,   -999.0,9,-999.0000,9,  -999.00,  -999.00,9,  -999.00,9,  13.7761,2,      138
  49RY20120726,   40N,    51,  1,     29,    102,2,20120828,2344, 38.5050, 169.9985, 3714,    202.4,  12.8543,  12.8577,2,  34.4114,2,-999.0000,9,    221.2,2,    221.9,2,    12.61,2,    10.05,2,     0.00,2,     0.69,2, -999.000,9, -999.000,9,   -999.0,9,   -999.0,9,-999.0000,9,  -999.00,  -999.00,9,  -999.00,9,  12.8577,2,      135
  49RY20120726,   40N,    51,  1,     28,     91,2,20120828,2344, 38.5050, 169.9985, 3714,    202.4,  12.8543,  12.8577,2,  34.4114,2,-999.0000,9,    221.2,2,    221.8,2,    12.64,2,    10.04,2,     0.00,2,     0.69,2, -999.000,9, -999.000,9,   -999.0,9,   -999.0,9,-999.0000,9,  -999.00,  -999.00,9,  -999.00,9,  12.8577,2,      135
  49RY20120726,   40N,    51,  1,     27,    998,2,20120828,2344, 38.5050, 169.9985, 3714,    255.6,  11.9319,  11.9345,2,  34.3411,2,-999.0000,9,    213.6,2,    214.0,6,    16.38,6,    12.26,6,     0.00,6,     0.85,6, -999.000,9, -999.000,9,   -999.0,9,   -999.0,9,-999.0000,9,  -999.00,  -999.00,9,  -999.00,9,  11.9345,2,      133
  49RY20120726,   40N,    51,  1,     26,     84,2,20120828,2344, 38.5050, 169.9985, 3714,    335.4,   9.9702,   9.9729,2,  34.1525,2,-999.0000,9,    212.0,2,    212.7,2,    22.73,2,    15.82,2,     0.00,2,     1.12,2, -999.000,9, -999.000,9,   -999.0,9,   -999.0,9,-999.0000,9,  -999.00,  -999.00,9,  -999.00,9,   9.9729,2,      131
  49RY20120726,   40N,    51,  1,     25,     98,2,20120828,2344, 38.5050, 169.9985, 3714,    437.2,   7.8293,   7.8309,2,  34.0429,2,-999.0000,9,    173.8,2,    174.6,2,    40.24,2,    23.41,2,     0.00,2,     1.67,2, -999.000,9, -999.000,9,   -999.0,9,   -999.0,9,-999.0000,9,  -999.00,  -999.00,9,  -999.00,9,   7.8309,2,      127
  49RY20120726,   40N,    51,  1,     24,    110,2,20120828,2344, 38.5050, 169.9985, 3714,    537.0,   5.8571,   5.8561,2,  33.9857,2,-999.0000,9,    136.0,2,    136.2,2,    61.85,2,    30.50,2,     0.00,2,     2.20,2, -999.000,9, -999.000,9,   -999.0,9,   -999.0,9,-999.0000,9,  -999.00,  -999.00,9,  -999.00,9,   5.8561,2,      124
  49RY20120726,   40N,    51,  1,     23,     96,2,20120828,2344, 38.5050, 169.9985, 3714,    636.3,   4.9234,   4.9220,2,  34.0274,2,-999.0000,9,    101.0,2,    101.3,6,    79.43,6,    35.13,6,     0.00,6,     2.53,6, -999.000,9, -999.000,9,   -999.0,9,   -999.0,9,-999.0000,9,  -999.00,  -999.00,9,  -999.00,9,   4.9220,2,      121
  49RY20120726,   40N,    51,  1,     22,    111,2,20120828,2344, 38.5050, 169.9985, 3714,    738.5,   4.4155,   4.4156,2,  34.1235,2,-999.0000,9,     69.9,2,     69.3,2,    95.99,2,    38.52,2,     0.00,2,     2.76,2, -999.000,9, -999.000,9,   -999.0,9,   -999.0,9,-999.0000,9,  -999.00,  -999.00,9,  -999.00,9,   4.4156,2,      118
  49RY20120726,   40N,    51,  1,     21,     78,2,20120828,2344, 38.5050, 169.9985, 3714,    841.8,   3.9997,   3.9994,2,  34.2038,2,-999.0000,9,     50.9,2,     51.2,2,   109.36,2,    40.52,2,     0.00,2,     2.89,2, -999.000,9, -999.000,9,   -999.0,9,   -999.0,9,-999.0000,9,  -999.00,  -999.00,9,  -999.00,9,   3.9994,2,      113
  49RY20120726,   40N,    51,  1,     20,     93,2,20120828,2344, 38.5050, 169.9985, 3714,    941.0,   3.6842,   3.6840,2,  34.2642,2,-999.0000,9,     40.4,2,     40.7,2,   119.35,2,    41.66,2,     0.00,2,     2.97,2, -999.000,9, -999.000,9,   -999.0,9,   -999.0,9,-999.0000,9,  -999.00,  -999.00,9,  -999.00,9,   3.6840,2,      110
  49RY20120726,   40N,    51,  1,     19,     92,2,20120828,2344, 38.5050, 169.9985, 3714,   1083.5,   3.2557,   3.2556,2,  34.3423,2,-999.0000,9,     33.7,2,     34.1,2,   132.75,2,    42.59,2,     0.00,2,     3.03,2, -999.000,9, -999.000,9,   -999.0,9,   -999.0,9,-999.0000,9,  -999.00,  -999.00,9,  -999.00,9,   3.2556,2,      106
  49RY20120726,   40N,    51,  1,     18,    101,2,20120828,2344, 38.5050, 169.9985, 3714,   1286.4,   2.8285,   2.8283,2,  34.4175,2,-999.0000,9,     32.0,2,     31.9,2,   145.96,2,    43.14,2,     0.00,2,     3.07,2, -999.000,9, -999.000,9,   -999.0,9,   -999.0,9,-999.0000,9,  -999.00,  -999.00,9,  -999.00,9,   2.8283,2,      101
  49RY20120726,   40N,    51,  1,     17,     90,2,20120828,2344, 38.5050, 169.9985, 3714,   1489.0,   2.4995,   2.4996,2,  34.4784,2,-999.0000,9,     36.5,2,     36.4,2,   155.30,2,    43.15,2,     0.00,2,     3.06,2, -999.000,9, -999.000,9,   -999.0,9,   -999.0,9,-999.0000,9,  -999.00,  -999.00,9,  -999.00,9,   2.4996,2,       48
  49RY20120726,   40N,    51,  1,     16,     89,2,20120828,2344, 38.5050, 169.9985, 3714,   1690.3,   2.2761,   2.2773,2,  34.5216,2,-999.0000,9,     42.4,2,     42.2,2,   161.84,2,    42.95,2,     0.00,2,     3.03,2, -999.000,9, -999.000,9,   -999.0,9,   -999.0,9,-999.0000,9,  -999.00,  -999.00,9,  -999.00,9,   2.2773,2,       43
  49RY20120726,   40N,    51,  1,     15,     88,2,20120828,2344, 38.5050, 169.9985, 3714,   1894.5,   2.0916,   2.0912,2,  34.5585,2,-999.0000,9,     53.5,2,     53.5,2,   165.31,2,    42.31,2,     0.00,2,     2.98,2, -999.000,9, -999.000,9,   -999.0,9,   -999.0,9,-999.0000,9,  -999.00,  -999.00,9,  -999.00,9,   2.0912,2,       39
  49RY20120726,   40N,    51,  1,     14,    999,2,20120828,2344, 38.5050, 169.9985, 3714,   1894.5,   2.0916,   2.0912,2,  34.5585,2,-999.0000,9,     53.5,2,     53.6,2,   165.34,2,    42.29,2,     0.00,2,     2.98,2, -999.000,9, -999.000,9,   -999.0,9,   -999.0,9,-999.0000,9,  -999.00,  -999.00,9,  -999.00,9,   2.0912,2,       39
  49RY20120726,   40N,    51,  1,     12,     74,2,20120828,2344, 38.5050, 169.9985, 3714,   2097.7,   1.9246,   1.9245,2,  34.5909,2,-999.0000,9,     66.6,2,     66.8,2,   167.62,2,    41.48,2,     0.00,2,     2.91,2, -999.000,9, -999.000,9,   -999.0,9,   -999.0,9,-999.0000,9,  -999.00,  -999.00,9,  -999.00,9,   1.9245,2,       31
  49RY20120726,   40N,    51,  1,     13,    667,3,20120828,2344, 38.5050, 169.9985, 3714,   2098.3,   1.9243,   1.9246,2,  34.5909,2,-999.0000,9,     66.6,2,     66.4,2,   167.72,2,    41.48,2,     0.00,2,     2.91,2, -999.000,9, -999.000,9,   -999.0,9,   -999.0,9,-999.0000,9,  -999.00,  -999.00,9,  -999.00,9,   1.9246,2,       31
  49RY20120726,   40N,    51,  1,     11,    996,2,20120828,2344, 38.5050, 169.9985, 3714,   2302.2,   1.8311,   1.8314,2,  34.6091,2,-999.0000,9,     79.7,2,     79.5,2,   166.56,2,    40.64,2,     0.00,2,     2.86,2, -999.000,9, -999.000,9,   -999.0,9,   -999.0,9,-999.0000,9,  -999.00,  -999.00,9,  -999.00,9,   1.8314,2,       26
  49RY20120726,   40N,    51,  1,     10,    107,2,20120828,2344, 38.5050, 169.9985, 3714,   2505.0,   1.7326,   1.7328,2,  34.6271,2,-999.0000,9,     93.2,2,     91.8,3,   164.65,2,    39.77,2,     0.00,2,     2.79,2, -999.000,9, -999.000,9,   -999.0,9,   -999.0,9,-999.0000,9,  -999.00,  -999.00,9,  -999.00,9,   1.7328,2,       21
  49RY20120726,   40N,    51,  1,      9,    108,2,20120828,2344, 38.5050, 169.9985, 3714,   2709.9,   1.6384,   1.6382,2,  34.6434,2,-999.0000,9,    107.3,2,    108.0,2,   163.09,2,    38.86,2,     0.00,2,     2.72,2, -999.000,9, -999.000,9,   -999.0,9,   -999.0,9,-999.0000,9,  -999.00,  -999.00,9,  -999.00,9,   1.6382,2,       16
  49RY20120726,   40N,    51,  1,      8,     81,2,20120828,2344, 38.5050, 169.9985, 3714,   2914.4,   1.5571,   1.5570,2,  34.6570,2,-999.0000,9,    120.3,2,    120.6,2,   160.07,2,    38.05,2,     0.00,2,     2.66,2, -999.000,9, -999.000,9,   -999.0,9,   -999.0,9,-999.0000,9,  -999.00,  -999.00,9,  -999.00,9,   1.5570,2,       12
  49RY20120726,   40N,    51,  1,      7,    106,2,20120828,2344, 38.5050, 169.9985, 3714,   3128.6,   1.5591,   1.5590,2,  34.6594,2,-999.0000,9,    122.8,2,    122.2,2,   159.66,2,    37.90,2,     0.00,2,     2.65,2, -999.000,9, -999.000,9,   -999.0,9,   -999.0,9,-999.0000,9,  -999.00,  -999.00,9,  -999.00,9,   1.5590,2,        7
  49RY20120726,   40N,    51,  1,      6,    113,2,20120828,2344, 38.5050, 169.9985, 3714,   3383.1,   1.5569,   1.5567,2,  34.6629,2,-999.0000,9,    126.6,2,    127.0,6,   158.66,6,    37.64,6,     0.00,6,     2.63,6, -999.000,9, -999.000,9,   -999.0,9,   -999.0,9,-999.0000,9,  -999.00,  -999.00,9,  -999.00,9,   1.5567,2,        1
  49RY20120726,   40N,    51,  1,      5,     94,2,20120828,2344, 38.5050, 169.9985, 3714,   3640.4,   1.4692,   1.4691,2,  34.6765,2,-999.0000,9,    141.8,2,    142.3,2,   154.73,2,    36.64,2,     0.00,2,     2.54,2, -999.000,9, -999.000,9,   -999.0,9,   -999.0,9,-999.0000,9,  -999.00,  -999.00,9,  -999.00,9,   1.4691,2,     2355
  49RY20120726,   40N,    51,  1,      4,     77,2,20120828,2344, 38.5050, 169.9985, 3714,   3896.1,   1.4472,   1.4470,2,  34.6820,2,-999.0000,9,    148.3,2,    149.1,2,   153.23,2,    36.24,2,     0.00,2,     2.51,2, -999.000,9, -999.000,9,   -999.0,9,   -999.0,9,-999.0000,9,  -999.00,  -999.00,9,  -999.00,9,   1.4470,2,     2350
  49RY20120726,   40N,    51,  1,      3,    104,2,20120828,2344, 38.5050, 169.9985, 3714,   3896.1,   1.4472,   1.4470,2,  34.6820,2,-999.0000,9,    148.3,2,    148.4,2,   153.27,2,    36.20,2,     0.00,2,     2.51,2, -999.000,9, -999.000,9,   -999.0,9,   -999.0,9,-999.0000,9,  -999.00,  -999.00,9,  -999.00,9,   1.4470,2,     2349
  49RY20120726,   40N,    51,  1,      1,    997,2,20120828,2344, 38.5050, 169.9985, 3714,   4145.1,   1.4627,   1.4626,2,  34.6833,2,-999.0000,9,    150.1,2,    150.6,2,   152.93,2,    36.10,2,     0.00,2,     2.50,2, -999.000,9, -999.000,9,   -999.0,9,   -999.0,9,-999.0000,9,  -999.00,  -999.00,9,  -999.00,9,   1.4626,2,     2344
  49RY20120726,   40N,    51,  1,      2,     75,2,20120828,2344, 38.5050, 169.9985, 3714,   4145.9,   1.4628,   1.4626,2,  34.6832,2,-999.0000,9,    150.1,2,    149.1,3,   152.99,2,    36.19,2,     0.00,2,     2.51,2, -999.000,9, -999.000,9,   -999.0,9,   -999.0,9,-999.0000,9,  -999.00,  -999.00,9,  -999.00,9,   1.4626,2,     2344