BOTTLE,20210419PRINUNIVRMK
EXPOCODE,SECT_ID,STNNBR,CASTNO,SAMPNO,BTLNBR,BTLNBR_FLAG_W,DATE,TIME,LATITUDE,LONGITUDE,DEPTH,CTDPRS,CTDTMP,SBE35,SBE35_FLAG_W,CTDSAL,CTDSAL_FLAG_W,SALNTY,SALNTY_FLAG_W,CTDOXY,CTDOXY_FLAG_W,OXYGEN,OXYGEN_FLAG_W,SILCAT,SILCAT_FLAG_W,NITRAT,NITRAT_FLAG_W,NITRIT,NITRIT_FLAG_W,PHSPHT,PHSPHT_FLAG_W,CFC-11,CFC-11_FLAG_W,CFC-12,CFC-12_FLAG_W,TCARBN,TCARBN_FLAG_W,ALKALI,ALKALI_FLAG_W,PH_TOT,PH_TOT_FLAG_W,PH_TMP,CHLORA,CHLORA_FLAG_W,PPHYTN,PPHYTN_FLAG_W,SBE35,SBE35_FLAG_W,BTL_TIME
,,,,,,,,,,,METERS,DBAR,ITS-90,,,PSS-78,,PSS-78,,UMOL/KG,,UMOL/KG,,UMOL/KG,,UMOL/KG,,UMOL/KG,,UMOL/KG,,PMOL/KG,,PMOL/KG,,UMOL/KG,,UMOL/KG,,,,DEG C,UG/KG,,UG/KG,,,,
  49RY20120726,   40N,    62,  1,     36,    109,2,20120901,0639, 33.0005, 169.9755, 5732,     10.3,  26.0732,  26.0572,2,  34.7610,2,  34.7685,4,    208.7,2,    208.8,2,     1.87,2,     0.00,2,     0.00,2,     0.02,2,    1.819,2,    1.028,2,   1977.3,2,   2281.4,2,   8.0406,4,    25.00,     0.05,2,     0.01,2,  26.0572,2,      906
  49RY20120726,   40N,    62,  1,     35,    112,2,20120901,0639, 33.0005, 169.9755, 5732,     49.8,  20.9078,  20.8958,2,  34.5888,2,  34.6233,4,    231.4,2,    230.5,2,     1.89,2,     0.00,2,     0.00,2,     0.04,2,    2.314,2,    1.286,2,   1993.3,2,   2272.4,2,   8.0234,4,    25.00,     0.18,2,     0.07,2,  20.8958,2,      903
  49RY20120726,   40N,    62,  1,     34,     83,2,20120901,0639, 33.0005, 169.9755, 5732,    100.4,  17.7778,  17.7797,2,  34.6780,2,  34.6801,2,    199.6,2,    200.2,2,     5.44,2,     4.69,2,     0.02,2,     0.33,2,    2.291,2,    1.359,2,   2034.9,2,   2274.3,2,   7.9428,4,    25.00,     0.16,2,     0.06,2,  17.7797,2,      901
  49RY20120726,   40N,    62,  1,     33,     86,2,20120901,0639, 33.0005, 169.9755, 5732,    150.8,  17.1736,  17.1726,2,  34.7158,2,  34.7146,2,    215.9,2,    215.3,2,     4.22,2,     4.00,2,     0.01,2,     0.29,2,    2.336,2,    1.387,2,   2027.1,6,   2273.4,6,   7.9543,4,    25.00,     0.02,2,     0.02,2,  17.1726,2,      859
  49RY20120726,   40N,    62,  1,     32,    105,4,20120901,0639, 33.0005, 169.9755, 5732,    202.3,  16.4605,  16.4606,2,  34.6531,2,-999.0000,9,    219.4,2,   -999.0,9,  -999.00,9,  -999.00,9,  -999.00,9,  -999.00,9, -999.000,9, -999.000,9,   -999.0,9,   -999.0,9,-999.0000,9,  -999.00,  -999.00,9,  -999.00,9,  16.4606,2,      855
  49RY20120726,   40N,    62,  1,     31,     76,2,20120901,0639, 33.0005, 169.9755, 5732,    253.8,  16.0043,  16.0022,2,  34.6221,2,  34.6219,2,    218.9,2,    218.7,2,     5.70,2,     5.41,2,     0.00,2,     0.36,2,    2.477,2,    1.444,2,   2039.9,2,   2267.6,2,   7.9240,4,    25.00,  -999.00,9,  -999.00,9,  16.0022,2,      852
  49RY20120726,   40N,    62,  1,     30,     97,2,20120901,0639, 33.0005, 169.9755, 5732,    301.9,  15.1049,  15.1018,2,  34.5600,2,  34.5541,4,    203.6,2,    206.7,6,     9.14,6,     8.06,6,     0.00,6,     0.55,6,    2.513,6,    1.461,6,   2057.8,2,   2272.3,2,   7.8851,4,    25.00,  -999.00,9,  -999.00,9,  15.1018,2,      850
  49RY20120726,   40N,    62,  1,     29,    102,2,20120901,0639, 33.0005, 169.9755, 5732,    404.2,  12.9787,  12.9787,2,  34.4106,2,  34.4081,6,    212.4,2,    213.1,2,    13.40,2,    10.66,2,     0.00,2,     0.74,2,    2.699,2,    1.555,2,   2080.1,2,   2267.0,2,   7.8375,4,    25.00,  -999.00,9,  -999.00,9,  12.9787,2,      848
  49RY20120726,   40N,    62,  1,     28,     91,2,20120901,0639, 33.0005, 169.9755, 5732,    503.2,  10.9454,  10.9449,2,  34.2489,2,  34.2428,4,    207.1,2,    207.3,2,    20.77,2,    14.69,2,     0.00,2,     1.03,2,    2.877,2,    1.629,2,   2112.7,2,   2257.2,2,   7.7706,4,    25.00,  -999.00,9,  -999.00,9,  10.9449,2,      845
  49RY20120726,   40N,    62,  1,     27,    998,2,20120901,0639, 33.0005, 169.9755, 5732,    605.6,   8.5196,   8.5194,2,  34.0824,2,  34.0814,2,    183.9,2,    183.0,2,    34.43,2,    21.26,2,     0.00,2,     1.51,2,    3.001,6,    1.580,6,   2159.4,2,   2268.3,2,   7.6618,4,    25.00,  -999.00,9,  -999.00,9,   8.5194,2,      843
  49RY20120726,   40N,    62,  1,     26,     84,2,20120901,0639, 33.0005, 169.9755, 5732,    706.2,   6.3464,   6.3739,2,  34.0077,2,  34.0078,2,    143.7,2,    143.6,2,    56.85,2,    28.79,2,     0.00,2,     2.07,2,    2.517,2,    1.330,2,   2215.9,6,   2283.5,6,   7.5398,4,    25.00,  -999.00,9,  -999.00,9,   6.3739,2,      840
  49RY20120726,   40N,    62,  1,     25,     98,2,20120901,0639, 33.0005, 169.9755, 5732,    806.7,   4.9605,   4.9606,2,  34.0520,2,  34.0519,2,     95.4,2,     95.4,2,    81.05,2,    35.38,2,     0.00,2,     2.55,2,    1.794,2,    0.916,2,   2271.2,2,   2301.3,2,   7.4197,4,    25.00,  -999.00,9,  -999.00,9,   4.9606,2,      835
  49RY20120726,   40N,    62,  1,     24,    110,2,20120901,0639, 33.0005, 169.9755, 5732,    908.3,   4.3465,   4.3466,2,  34.1438,2,  34.1432,2,     65.3,2,     65.0,2,    98.81,2,    38.99,2,     0.00,2,     2.78,2,    1.154,2,    0.561,2,   2312.9,2,   2320.9,2,   7.3610,4,    25.00,  -999.00,9,  -999.00,9,   4.3466,2,      832
  49RY20120726,   40N,    62,  1,     23,     96,2,20120901,0639, 33.0005, 169.9755, 5732,   1010.2,   3.9118,   3.9120,2,  34.2304,2,  34.2301,2,     45.5,2,     45.7,2,   112.57,2,    40.95,2,     0.00,2,     2.93,2,    0.634,2,    0.290,2,   2338.1,2,   2342.5,2,   7.3398,4,    25.00,  -999.00,9,  -999.00,9,   3.9120,2,      829
  49RY20120726,   40N,    62,  1,     22,    111,3,20120901,0639, 33.0005, 169.9755, 5732,   1212.1,   3.2935,   3.2933,2,  34.3464,2,  34.3467,2,     30.7,2,     30.9,2,   132.45,2,    42.74,2,     0.00,2,     3.06,2,    0.204,2,    0.080,2,   2366.3,2,   2362.8,2,   7.3224,4,    25.00,  -999.00,9,  -999.00,9,   3.2933,2,      825
  49RY20120726,   40N,    62,  1,     21,     78,2,20120901,0639, 33.0005, 169.9755, 5732,   1414.3,   2.7600,   2.7604,2,  34.4474,2,  34.4484,2,     27.4,2,     27.6,2,   148.98,2,    43.66,2,     0.00,2,     3.10,2,    0.029,2,    0.008,2,   2385.2,6,   2384.4,6,   7.3222,4,    25.00,  -999.00,9,  -999.00,9,   2.7604,2,      817
  49RY20120726,   40N,    62,  1,     20,     93,2,20120901,0639, 33.0005, 169.9755, 5732,   1616.9,   2.4524,   2.4524,2,  34.5020,2,  34.5029,2,     38.5,2,     38.3,2,   156.88,2,    43.07,2,     0.00,2,     3.05,2,    0.003,2,    0.003,2,   2387.0,2,   2396.0,2,   7.3431,4,    25.00,  -999.00,9,  -999.00,9,   2.4524,2,      813
  49RY20120726,   40N,    62,  1,     19,     92,2,20120901,0639, 33.0005, 169.9755, 5732,   1819.9,   2.1979,   2.1975,2,  34.5460,2,  34.5461,2,     50.9,2,     50.6,6,   162.11,6,    42.24,2,     0.00,6,     3.00,6,    0.000,2,    0.000,2,   2385.8,2,   2401.4,2,   7.3664,4,    25.00,  -999.00,9,  -999.00,9,   2.1975,2,      808
  49RY20120726,   40N,    62,  1,     18,    101,2,20120901,0639, 33.0005, 169.9755, 5732,   2022.5,   2.0087,   2.0087,2,  34.5813,2,  34.5768,4,     65.1,2,     62.8,3,   164.54,2,    41.66,2,     0.00,2,     2.95,2,    0.000,2,    0.000,2,   2384.5,2,   2405.3,2,   7.3908,4,    25.00,  -999.00,9,  -999.00,9,   2.0087,2,      801
  49RY20120726,   40N,    62,  1,     17,     90,2,20120901,0639, 33.0005, 169.9755, 5732,   2227.1,   1.8567,   1.8566,2,  34.6080,2,  34.6075,2,     80.2,2,     79.9,2,   165.01,2,    40.60,2,     0.00,2,     2.85,2,    0.000,2,    0.000,2,   2375.5,2,   2409.2,2,   7.4272,4,    25.00,  -999.00,9,  -999.00,9,   1.8566,2,      757
  49RY20120726,   40N,    62,  1,     16,     89,2,20120901,0639, 33.0005, 169.9755, 5732,   2429.4,   1.7401,   1.7400,2,  34.6284,2,  34.6274,2,     94.7,2,     94.6,2,   163.73,2,    39.79,2,     0.00,2,     2.78,2,    0.000,2,    0.000,4,   2366.5,2,   2411.3,2,   7.4539,4,    25.00,  -999.00,9,  -999.00,9,   1.7400,2,      753
  49RY20120726,   40N,    62,  1,     15,     88,4,20120901,0639, 33.0005, 169.9755, 5732,   2635.7,   1.6654,   1.6654,2,  34.6410,2,  34.4119,4,    104.9,2,     28.0,4,   142.92,4,    43.40,4,     0.00,4,     3.09,4,    0.084,4,    0.027,4,   2383.4,4,   2375.1,4,   7.3174,4,    25.00,  -999.00,9,  -999.00,9,   1.6654,2,      746
  49RY20120726,   40N,    62,  1,     14,    999,2,20120901,0639, 33.0005, 169.9755, 5732,   2838.5,   1.6029,   1.6029,2,  34.6511,2,  34.6615,4,    114.7,2,    114.9,2,   160.63,2,    38.49,2,     0.00,2,     2.67,2,    0.000,2,    0.000,2,   2355.5,2,   2410.2,2,   7.4869,4,    25.00,  -999.00,9,  -999.00,9,   1.6029,2,      742
  49RY20120726,   40N,    62,  1,     12,     74,2,20120901,0639, 33.0005, 169.9755, 5732,   3043.2,   1.5615,   1.5615,2,  34.6589,2,  34.6590,2,    122.2,2,    122.0,2,   159.55,2,    37.99,2,     0.00,2,     2.64,2,    0.000,2,    0.000,2,   2349.0,2,   2412.4,2,   7.5096,4,    25.00,  -999.00,9,  -999.00,9,   1.5615,2,      736
  49RY20120726,   40N,    62,  1,     13,    667,2,20120901,0639, 33.0005, 169.9755, 5732,   3043.3,   1.5614,   1.5615,2,  34.6589,2,  34.6591,2,    122.2,2,    122.4,2,   159.62,2,    37.88,2,     0.00,2,     2.64,2,    0.000,2,    0.000,2,   2352.2,2,   2412.0,2,   7.5084,4,    25.00,  -999.00,9,  -999.00,9,   1.5615,2,      736
  49RY20120726,   40N,    62,  1,     11,    996,2,20120901,0639, 33.0005, 169.9755, 5732,   3298.6,   1.5147,   1.5146,2,  34.6676,2,  34.6680,2,    131.8,2,    131.5,6,   156.87,6,    37.28,6,     0.00,6,     2.59,6,    0.000,2,    0.000,2,   2341.9,2,   2411.1,2,   7.5233,4,    25.00,  -999.00,9,  -999.00,9,   1.5146,2,      730
  49RY20120726,   40N,    62,  1,     10,    107,2,20120901,0639, 33.0005, 169.9755, 5732,   3554.6,   1.4880,   1.4881,2,  34.6739,2,  34.6724,4,    139.0,2,    138.1,2,   154.74,2,    36.95,2,     0.00,2,     2.55,2,    0.000,2,    0.009,4,   2334.8,2,   2412.0,2,   7.5363,4,    25.00,  -999.00,9,  -999.00,9,   1.4881,2,      725
  49RY20120726,   40N,    62,  1,      9,    108,2,20120901,0639, 33.0005, 169.9755, 5732,   3810.6,   1.4726,   1.4727,2,  34.6788,2,  34.6787,2,    144.7,2,    144.8,2,   152.80,2,    36.40,2,     0.00,2,     2.53,2,    0.000,2,    0.000,2,   2335.4,2,   2410.1,2,   7.5453,4,    25.00,  -999.00,9,  -999.00,9,   1.4727,2,      720
  49RY20120726,   40N,    62,  1,      8,     81,3,20120901,0639, 33.0005, 169.9755, 5732,   4067.4,   1.4710,   1.4712,2,  34.6819,2,  34.6812,2,    148.8,2,    148.4,2,   151.60,2,    36.23,2,     0.00,2,     2.50,2,    0.000,2,    0.000,2,   2332.7,2,   2409.9,2,   7.5493,4,    25.00,  -999.00,9,  -999.00,9,   1.4712,2,      715
  49RY20120726,   40N,    62,  1,      7,    106,2,20120901,0639, 33.0005, 169.9755, 5732,   4324.8,   1.4700,   1.4701,2,  34.6851,2,  34.6836,4,    152.8,2,    152.0,2,   150.85,2,    36.07,2,     0.00,2,     2.48,2,    0.000,2,    0.000,2,   2329.1,6,   2410.1,6,   7.5588,4,    25.00,  -999.00,9,  -999.00,9,   1.4701,2,      710
  49RY20120726,   40N,    62,  1,      6,    113,2,20120901,0639, 33.0005, 169.9755, 5732,   4580.3,   1.4776,   1.4779,2,  34.6875,2,  34.6866,2,    155.9,2,    155.6,2,   149.81,2,    35.77,2,     0.00,2,     2.46,2,    0.000,2,    0.000,2,   2326.0,2,   2409.6,2,   7.5615,4,    25.00,  -999.00,9,  -999.00,9,   1.4779,2,      705
  49RY20120726,   40N,    62,  1,      5,     94,2,20120901,0639, 33.0005, 169.9755, 5732,   4838.9,   1.4850,   1.4851,2,  34.6897,2,  34.6905,2,    160.0,2,    159.7,2,   146.99,2,    35.60,2,     0.00,2,     2.44,2,    0.000,2,    0.000,2,   2321.2,2,   2406.0,2,   7.5732,4,    25.00,  -999.00,9,  -999.00,9,   1.4851,2,      700
  49RY20120726,   40N,    62,  1,      4,     77,2,20120901,0639, 33.0005, 169.9755, 5732,   5097.2,   1.4914,   1.4916,2,  34.6919,2,  34.6911,2,    164.8,2,    164.5,2,   142.07,2,    35.14,2,     0.00,2,     2.41,2,    0.000,2,    0.000,2,   2319.3,2,   2401.1,2,   7.5765,4,    25.00,  -999.00,9,  -999.00,9,   1.4916,2,      654
  49RY20120726,   40N,    62,  1,      3,    104,2,20120901,0639, 33.0005, 169.9755, 5732,   5354.7,   1.5026,   1.5026,2,  34.6936,2,  34.6928,2,    168.5,2,    167.9,2,   139.22,2,    34.79,2,     0.00,2,     2.39,2,    0.000,4,    0.000,2,   2314.0,2,   2400.0,2,   7.5773,4,    25.00,  -999.00,9,  -999.00,9,   1.5026,2,      649
  49RY20120726,   40N,    62,  1,      2,     75,2,20120901,0639, 33.0005, 169.9755, 5732,   5612.6,   1.5176,   1.5176,2,  34.6950,2,  34.6952,2,    171.4,2,    171.4,6,   136.72,6,    34.59,6,     0.00,6,     2.37,6,    0.000,2,    0.000,2,   2309.5,2,   2401.7,2,   7.5821,4,    25.00,  -999.00,9,  -999.00,9,   1.5176,2,      644
  49RY20120726,   40N,    62,  1,      1,    997,2,20120901,0639, 33.0005, 169.9755, 5732,   5845.2,   1.5442,   1.5441,2,  34.6952,2,  34.6954,2,    172.3,2,    172.6,2,   136.14,2,    34.55,2,     0.00,2,     2.38,2,    0.000,2,    0.000,2,   2306.7,2,   2398.9,2,   7.5865,4,    25.00,  -999.00,9,  -999.00,9,   1.5441,2,      639