BOTTLE,20210419PRINUNIVRMK
EXPOCODE,SECT_ID,STNNBR,CASTNO,SAMPNO,BTLNBR,BTLNBR_FLAG_W,DATE,TIME,LATITUDE,LONGITUDE,DEPTH,CTDPRS,CTDTMP,SBE35,SBE35_FLAG_W,CTDSAL,CTDSAL_FLAG_W,SALNTY,SALNTY_FLAG_W,CTDOXY,CTDOXY_FLAG_W,OXYGEN,OXYGEN_FLAG_W,SILCAT,SILCAT_FLAG_W,NITRAT,NITRAT_FLAG_W,NITRIT,NITRIT_FLAG_W,PHSPHT,PHSPHT_FLAG_W,CFC-11,CFC-11_FLAG_W,CFC-12,CFC-12_FLAG_W,TCARBN,TCARBN_FLAG_W,ALKALI,ALKALI_FLAG_W,PH_TOT,PH_TOT_FLAG_W,PH_TMP,CHLORA,CHLORA_FLAG_W,PPHYTN,PPHYTN_FLAG_W,SBE35,SBE35_FLAG_W,BTL_TIME
,,,,,,,,,,,METERS,DBAR,ITS-90,,,PSS-78,,PSS-78,,UMOL/KG,,UMOL/KG,,UMOL/KG,,UMOL/KG,,UMOL/KG,,UMOL/KG,,PMOL/KG,,PMOL/KG,,UMOL/KG,,UMOL/KG,,,,DEG C,UG/KG,,UG/KG,,,,
  49RY20120726,   40N,    31,  1,     36,    109,3,20120806,0659, 40.0182, 159.6432, 5524,     12.4,  20.8720,-999.0000,5,  33.5604,2,  33.6819,4,    233.8,2,    247.6,2,     3.22,2,     0.16,2,     0.01,2,     0.09,2,    2.368,2,    1.347,2,   1977.8,2,   2241.1,2,   8.0157,2,    25.00,     0.32,2,     0.15,2,-999.0000,5,     1039
  49RY20120726,   40N,    31,  1,     35,    112,3,20120806,0659, 40.0182, 159.6432, 5524,     51.7,  11.1351,-999.0000,5,  34.0167,2,  34.0202,2,    260.8,2,    261.1,2,    15.96,2,     8.95,2,     0.44,2,     0.81,2,    3.340,2,    1.814,2,   2078.2,2,   2268.4,2,   7.8470,2,    25.00,     0.35,2,     0.15,2,-999.0000,5,     1036
  49RY20120726,   40N,    31,  1,     34,     83,3,20120806,0659, 40.0182, 159.6432, 5524,    102.6,   7.9493,-999.0000,5,  33.9740,2,  33.9748,2,    256.2,2,    257.2,2,    24.13,2,    15.49,2,     0.02,2,     1.16,2,    3.542,2,    1.930,2,   2117.9,2,   2266.7,2,   7.7604,2,    25.00,     0.03,2,     0.04,2,-999.0000,5,     1034
  49RY20120726,   40N,    31,  1,     33,     86,2,20120806,0659, 40.0182, 159.6432, 5524,    152.8,   6.9216,-999.0000,5,  33.8900,2,  33.8952,2,    247.8,2,    246.9,2,    30.37,2,    18.39,2,     0.01,2,     1.38,2,    3.588,2,    1.948,2,   2135.9,6,   2266.3,6,   7.7135,2,    25.00,     0.01,2,     0.03,2,-999.0000,5,     1031
  49RY20120726,   40N,    31,  1,     32,    105,2,20120806,0659, 40.0182, 159.6432, 5524,    203.8,   6.1279,-999.0000,5,  33.8072,2,  33.8048,2,    253.3,2,    254.0,2,    33.01,2,    19.49,2,     0.02,2,     1.47,2,    3.740,2,    2.074,2,   2140.6,2,   2265.4,2,   7.6956,6,    25.00,     0.00,2,     0.04,2,-999.0000,5,     1024
  49RY20120726,   40N,    31,  1,     31,     76,2,20120806,0659, 40.0182, 159.6432, 5524,    253.0,   5.7115,-999.0000,5,  33.8446,2,  33.8437,2,    184.7,2,    187.0,2,    49.70,2,    26.37,2,     0.01,2,     1.95,2,    3.214,2,    1.687,2,   2194.3,2,   2274.3,2,   7.5829,2,    25.00,  -999.00,9,  -999.00,9,-999.0000,5,     1019
  49RY20120726,   40N,    31,  1,     30,    103,2,20120806,0659, 40.0182, 159.6432, 5524,    285.8,   5.2425,-999.0000,5,  33.8539,2,  33.8569,2,    161.4,2,    161.2,2,    58.44,2,    29.54,2,     0.01,2,     2.17,2,    2.992,6,    1.556,6,   2218.9,2,   2285.7,2,   7.5292,2,    25.00,  -999.00,9,  -999.00,9,-999.0000,5,     1017
  49RY20120726,   40N,    31,  1,     29,    102,3,20120806,0659, 40.0182, 159.6432, 5524,    373.7,   4.4266,-999.0000,5,  33.8911,2,  33.8888,2,    121.5,2,    121.8,2,    75.12,2,    34.47,2,     0.01,2,     2.52,2,    2.577,2,    1.315,2,   2257.2,2,   2297.0,2,   7.4372,2,    25.00,  -999.00,9,  -999.00,9,-999.0000,5,     1013
  49RY20120726,   40N,    31,  1,     28,     91,2,20120806,0659, 40.0182, 159.6432, 5524,    476.3,   4.0933,-999.0000,5,  34.0112,2,  34.0109,2,     80.1,2,     81.2,6,    92.44,6,    38.54,6,     0.01,6,     2.79,6,    1.835,2,    0.918,2,   2294.7,2,   2311.7,2,   7.3721,2,    25.00,  -999.00,9,  -999.00,9,-999.0000,5,     1009
  49RY20120726,   40N,    31,  1,     27,    998,2,20120806,0659, 40.0182, 159.6432, 5524,    576.9,   3.9530,-999.0000,5,  34.1347,2,  34.1336,2,     56.7,2,     57.9,2,   105.59,2,    40.39,2,     0.00,2,     2.91,2,    1.202,6,    0.591,6,   2321.6,2,   2328.5,2,   7.3523,2,    25.00,  -999.00,9,  -999.00,9,-999.0000,5,     1006
  49RY20120726,   40N,    31,  1,     26,     99,3,20120806,0659, 40.0182, 159.6432, 5524,    678.4,   3.7290,-999.0000,5,  34.2090,2,  34.2055,2,     46.3,2,     54.5,4,   114.71,2,    41.13,2,     0.00,2,     2.96,2,    0.826,2,    0.382,2,   2337.3,2,   2342.3,2,   7.3620,3,    25.00,  -999.00,9,  -999.00,9,-999.0000,5,     1002
  49RY20120726,   40N,    31,  1,     25,     98,2,20120806,0659, 40.0182, 159.6432, 5524,    779.5,   3.4528,-999.0000,5,  34.2716,2,  34.2703,2,     39.8,2,     39.8,2,   124.75,2,    41.89,2,     0.00,2,     3.02,2,    0.559,2,    0.252,2,   2351.2,2,   2353.3,2,   7.3371,2,    25.00,  -999.00,9,  -999.00,9,-999.0000,5,      956
  49RY20120726,   40N,    31,  1,     24,    110,2,20120806,0659, 40.0182, 159.6432, 5524,    880.1,   3.2089,-999.0000,5,  34.3187,2,  34.3177,2,     36.8,2,     36.9,2,   132.57,2,    42.33,2,     0.00,2,     3.05,2,    0.400,2,    0.183,2,   2360.2,6,   2361.7,6,   7.3367,2,    25.00,  -999.00,9,  -999.00,9,-999.0000,5,      947
  49RY20120726,   40N,    31,  1,     23,     96,2,20120806,0659, 40.0182, 159.6432, 5524,    982.3,   3.0205,-999.0000,5,  34.3665,2,  34.3656,2,     35.8,2,     35.8,6,   138.62,6,    42.64,6,     0.01,6,     3.07,6,    0.267,2,    0.101,2,   2367.0,2,   2370.7,2,   7.3362,6,    25.00,  -999.00,9,  -999.00,9,-999.0000,5,      943
  49RY20120726,   40N,    31,  1,     22,    111,2,20120806,0659, 40.0182, 159.6432, 5524,   1144.5,   2.7197,-999.0000,5,  34.4204,2,  34.4193,2,     35.8,2,     35.8,2,   147.88,2,    42.91,2,     0.00,2,     3.08,2,    0.170,2,    0.061,2,   2374.2,2,   2382.8,2,   7.3431,2,    25.00,  -999.00,9,  -999.00,9,-999.0000,5,      937
  49RY20120726,   40N,    31,  1,     21,     78,2,20120806,0659, 40.0182, 159.6432, 5524,   1347.9,   2.4784,-999.0000,5,  34.4721,2,  34.4722,2,     39.5,2,     39.7,2,   155.04,2,    42.81,2,     0.00,2,     3.07,2,    0.091,2,    0.030,2,   2387.2,2,   2391.6,2,   7.3536,2,    25.00,  -999.00,9,  -999.00,9,-999.0000,5,      929
  49RY20120726,   40N,    31,  1,     20,     93,2,20120806,0659, 40.0182, 159.6432, 5524,   1549.2,   2.2781,-999.0000,5,  34.5172,2,  34.5163,6,     46.4,2,     46.5,2,   159.70,2,    42.58,2,     0.00,2,     3.03,2,    0.041,2,    0.005,2,   2382.3,2,   2401.1,2,   7.3866,2,    25.00,  -999.00,9,  -999.00,9,-999.0000,5,      918
  49RY20120726,   40N,    31,  1,     19,     92,2,20120806,0659, 40.0182, 159.6432, 5524,   1752.9,   2.1240,-999.0000,5,  34.5532,2,  34.5525,2,     55.8,2,     56.3,2,   162.61,2,    42.12,2,     0.00,2,     2.99,2,    0.006,2,    0.000,2,   2383.1,2,   2405.0,2,   7.3935,2,    25.00,  -999.00,9,  -999.00,9,-999.0000,5,      911
  49RY20120726,   40N,    31,  1,     18,    101,2,20120806,0659, 40.0182, 159.6432, 5524,   1957.5,   1.9679,-999.0000,5,  34.5855,2,  34.5854,2,     69.4,2,     70.0,2,   163.68,2,    41.20,2,     0.00,2,     2.93,2, -999.000,9, -999.000,9,   2382.7,2,   2408.7,2,   7.4205,2,    25.00,  -999.00,9,  -999.00,9,-999.0000,5,      859
  49RY20120726,   40N,    31,  1,     17,     90,3,20120806,0659, 40.0182, 159.6432, 5524,   2159.6,   1.8533,-999.0000,5,  34.6075,2,  34.6064,2,     81.4,2,     81.9,2,   163.45,2,    40.51,2,     0.00,2,     2.87,2, -999.000,9, -999.000,9,   2374.2,6,   2410.7,6,   7.4426,2,    25.00,  -999.00,9,  -999.00,9,-999.0000,5,      849
  49RY20120726,   40N,    31,  1,     16,     89,3,20120806,0659, 40.0182, 159.6432, 5524,   2364.4,   1.7514,-999.0000,5,  34.6258,2,  34.6246,2,     93.9,2,     94.6,6,   162.51,6,    39.75,2,     0.00,6,     2.81,6, -999.000,9, -999.000,9,   2368.1,2,   2414.7,2,   7.4700,6,    25.00,  -999.00,9,  -999.00,9,-999.0000,5,      838
  49RY20120726,   40N,    31,  1,     15,     88,2,20120806,0659, 40.0182, 159.6432, 5524,   2567.6,   1.6759,-999.0000,5,  34.6393,2,  34.6397,2,    104.8,2,    105.1,2,   161.35,2,    39.17,2,     0.00,2,     2.76,2,    0.003,2,    0.000,2,   2364.5,2,   2417.0,2,   7.4892,2,    25.00,  -999.00,9,  -999.00,9,-999.0000,5,      825
  49RY20120726,   40N,    31,  1,     14,    999,2,20120806,0659, 40.0182, 159.6432, 5524,   2771.3,   1.6107,-999.0000,5,  34.6506,2,  34.6511,2,    114.8,2,    115.1,2,   159.84,2,    38.39,2,     0.00,2,     2.71,2, -999.000,9, -999.000,9,   2356.5,2,   2417.8,2,   7.5059,2,    25.00,  -999.00,9,  -999.00,9,-999.0000,5,      817
  49RY20120726,   40N,    31,  1,     13,    996,2,20120806,0659, 40.0182, 159.6432, 5524,   2975.9,   1.5653,-999.0000,5,  34.6588,2,  34.6590,2,    122.9,2,    123.4,2,   158.00,2,    37.87,2,     0.00,2,     2.67,2,    0.000,2,    0.000,2,   2350.0,2,   2417.5,2,   7.5217,2,    25.00,  -999.00,9,  -999.00,9,-999.0000,5,      805
  49RY20120726,   40N,    31,  1,     12,     74,2,20120806,0659, 40.0182, 159.6432, 5524,   2975.9,   1.5653,-999.0000,5,  34.6588,2,  34.6597,2,    122.9,2,    123.5,2,   158.12,2,    37.86,2,     0.00,2,     2.67,2, -999.000,9, -999.000,9,   2347.3,2,   2418.6,2,   7.5232,2,    25.00,  -999.00,9,  -999.00,9,-999.0000,5,      804
  49RY20120726,   40N,    31,  1,     11,     97,2,20120806,0659, 40.0182, 159.6432, 5524,   3220.2,   1.5308,-999.0000,5,  34.6657,2,  34.6634,2,    130.2,2,    129.6,2,   156.37,2,    37.44,2,     0.00,2,     2.63,2, -999.000,9, -999.000,9,   2344.3,2,   2416.5,2,   7.5337,2,    25.00,  -999.00,9,  -999.00,9,-999.0000,5,      758
  49RY20120726,   40N,    31,  1,     10,    107,2,20120806,0659, 40.0182, 159.6432, 5524,   3476.4,   1.4952,-999.0000,5,  34.6725,2,  34.6722,2,    137.9,2,    137.9,2,   154.86,2,    36.92,2,     0.00,2,     2.59,2, -999.000,9, -999.000,9,   2339.0,6,   2416.7,6,   7.5489,2,    25.00,  -999.00,9,  -999.00,9,-999.0000,5,      752
  49RY20120726,   40N,    31,  1,      9,    108,2,20120806,0659, 40.0182, 159.6432, 5524,   3733.3,   1.4738,-999.0000,5,  34.6778,2,  34.6756,4,    144.0,2,    143.4,2,   153.06,2,    36.57,2,     0.00,2,     2.56,2,    0.000,2,    0.000,2,   2333.3,2,   2416.2,2,   7.5561,6,    25.00,  -999.00,9,  -999.00,9,-999.0000,5,      746
  49RY20120726,   40N,    31,  1,      8,     81,2,20120806,0659, 40.0182, 159.6432, 5524,   3989.7,   1.4668,-999.0000,5,  34.6815,2,  34.6813,2,    148.5,2,    148.7,2,   151.83,2,    36.25,2,     0.00,2,     2.54,2, -999.000,9, -999.000,9,   2327.2,2,   2417.2,2,   7.5661,2,    25.00,  -999.00,9,  -999.00,9,-999.0000,5,      739
  49RY20120726,   40N,    31,  1,      7,    106,2,20120806,0659, 40.0182, 159.6432, 5524,   4246.9,   1.4684,-999.0000,5,  34.6844,2,  34.6840,2,    152.1,2,    152.5,2,   150.65,2,    35.99,2,     0.00,2,     2.51,2, -999.000,9, -999.000,9,   2326.6,2,   2414.5,2,   7.5722,2,    25.00,  -999.00,9,  -999.00,9,-999.0000,5,      733
  49RY20120726,   40N,    31,  1,      6,    113,2,20120806,0659, 40.0182, 159.6432, 5524,   4503.3,   1.4779,-999.0000,5,  34.6867,2,  34.6871,6,    154.8,2,    154.9,2,   150.32,2,    35.84,2,     0.00,2,     2.50,2,    0.000,2,    0.000,2,   2327.2,2,   2415.8,2,   7.5771,2,    25.00,  -999.00,9,  -999.00,9,-999.0000,5,      726
  49RY20120726,   40N,    31,  1,      5,     94,2,20120806,0659, 40.0182, 159.6432, 5524,   4758.8,   1.4926,-999.0000,5,  34.6885,2,  34.6869,4,    156.8,2,    156.6,6,   149.97,6,    35.69,6,     0.00,6,     2.49,6, -999.000,9, -999.000,9,   2324.7,2,   2414.7,2,   7.5805,2,    25.00,  -999.00,9,  -999.00,9,-999.0000,5,      720
  49RY20120726,   40N,    31,  1,      4,     77,2,20120806,0659, 40.0182, 159.6432, 5524,   5019.5,   1.5153,-999.0000,5,  34.6896,2,  34.6881,2,    157.9,2,    158.0,2,   150.04,2,    35.53,2,     0.00,2,     2.48,2, -999.000,9, -999.000,9,   2322.6,2,   2414.3,2,   7.5826,2,    25.00,  -999.00,9,  -999.00,9,-999.0000,5,      714
  49RY20120726,   40N,    31,  1,      3,    104,2,20120806,0659, 40.0182, 159.6432, 5524,   5275.2,   1.5393,-999.0000,5,  34.6905,2,  34.6905,2,    159.2,2,    159.1,2,   149.55,2,    35.49,2,     0.00,2,     2.48,2, -999.000,9, -999.000,9,   2322.5,2,   2414.0,2,   7.5869,2,    25.00,  -999.00,9,  -999.00,9,-999.0000,5,      708
  49RY20120726,   40N,    31,  1,      2,     75,2,20120806,0659, 40.0182, 159.6432, 5524,   5532.8,   1.5679,-999.0000,5,  34.6912,2,  34.6910,2,    159.8,2,    159.8,2,   149.69,2,    35.48,2,     0.00,2,     2.47,2, -999.000,9, -999.000,9,   2322.1,2,   2414.8,2,   7.5866,2,    25.00,  -999.00,9,  -999.00,9,-999.0000,5,      702
  49RY20120726,   40N,    31,  1,      1,    997,4,20120806,0659, 40.0182, 159.6432, 5524,   5623.3,   1.5735,-999.0000,5,  34.6916,2,  34.6860,4,    161.8,2,    154.0,4,   150.14,4,    35.92,4,     0.00,4,     2.51,4,    0.000,4,    0.000,4,   2327.3,4,   2415.0,4,   7.5769,4,    25.00,  -999.00,9,  -999.00,9,-999.0000,5,      700