BOTTLE,20210419PRINUNIVRMK
EXPOCODE,SECT_ID,STNNBR,CASTNO,SAMPNO,BTLNBR,BTLNBR_FLAG_W,DATE,TIME,LATITUDE,LONGITUDE,DEPTH,CTDPRS,CTDTMP,SBE35,SBE35_FLAG_W,CTDSAL,CTDSAL_FLAG_W,SALNTY,SALNTY_FLAG_W,CTDOXY,CTDOXY_FLAG_W,OXYGEN,OXYGEN_FLAG_W,SILCAT,SILCAT_FLAG_W,NITRAT,NITRAT_FLAG_W,NITRIT,NITRIT_FLAG_W,PHSPHT,PHSPHT_FLAG_W,CFC-11,CFC-11_FLAG_W,CFC-12,CFC-12_FLAG_W,TCARBN,TCARBN_FLAG_W,ALKALI,ALKALI_FLAG_W,PH_TOT,PH_TOT_FLAG_W,PH_TMP,CHLORA,CHLORA_FLAG_W,PPHYTN,PPHYTN_FLAG_W,SBE35,SBE35_FLAG_W,BTL_TIME
,,,,,,,,,,,METERS,DBAR,ITS-90,,,PSS-78,,PSS-78,,UMOL/KG,,UMOL/KG,,UMOL/KG,,UMOL/KG,,UMOL/KG,,UMOL/KG,,PMOL/KG,,PMOL/KG,,UMOL/KG,,UMOL/KG,,,,DEG C,UG/KG,,UG/KG,,,,
  49RY20120726,   40N,    71,  1,      7,    106,2,20120904,0951, 37.9828, 166.4618, 5380,     11.8,  24.4695,  24.4577,2,  34.0763,2,  34.0828,4,    212.5,2,    215.1,6,     1.57,6,     0.03,6,     0.00,6,     0.04,6,    1.974,2,    1.118,2,   1967.6,2,   2246.7,2,   8.0269,4,    25.00,  -999.00,9,  -999.00,9,  24.4577,2,     1214
  49RY20120726,   40N,    71,  1,     36,    109,2,20120904,0951, 37.9828, 166.4618, 5380,     51.4,  14.0848,  14.1008,2,  34.4116,2,  34.4147,2,    211.2,2,    210.4,2,    11.93,2,     8.69,2,     0.46,2,     0.68,2,    2.748,2,    1.499,2,   2074.2,2,   2271.6,2,   7.8669,4,    25.00,     0.70,2,     0.50,2,  14.1008,2,     1211
  49RY20120726,   40N,    71,  1,     35,    112,2,20120904,0951, 37.9828, 166.4618, 5380,    100.1,  11.8424,  11.8550,2,  34.3455,2,  34.3508,4,    202.5,2,    201.3,2,    19.00,2,    13.64,2,     0.02,2,     0.98,2,    2.760,2,    1.538,2,   2105.6,2,   2272.5,2,   7.7950,4,    25.00,     0.03,2,     0.04,2,  11.8550,2,     1210
  49RY20120726,   40N,    71,  1,     34,     83,2,20120904,0951, 37.9828, 166.4618, 5380,    152.3,  10.2040,  10.1867,2,  34.1843,2,  34.1866,2,    227.5,2,    227.8,2,    20.00,2,    13.91,2,     0.02,2,     1.01,2,    3.098,2,    1.714,2,   2101.8,2,   2266.3,2,   7.7786,4,    25.00,     0.01,2,     0.02,2,  10.1867,2,     1208
  49RY20120726,   40N,    71,  1,     33,     86,2,20120904,0951, 37.9828, 166.4618, 5380,    203.5,   8.3282,   8.3285,2,  33.9890,2,  33.9891,2,    235.7,2,    237.2,2,    25.36,2,    16.43,2,     0.01,2,     1.22,2,    3.413,2,    1.875,2,   2120.7,2,   2262.3,2,   7.7338,4,    25.00,     0.00,2,     0.03,2,   8.3285,2,     1204
  49RY20120726,   40N,    71,  1,     32,    105,2,20120904,0951, 37.9828, 166.4618, 5380,    253.7,   6.9497,   6.9507,2,  33.8830,2,  33.8831,2,    234.0,2,    236.5,2,    32.05,2,    19.46,2,     0.01,2,     1.45,2,    3.596,2,    1.988,2,   2139.7,6,   2264.6,6,   7.6850,4,    25.00,     0.00,2,     0.03,2,   6.9507,2,     1200
  49RY20120726,   40N,    71,  1,     31,     76,2,20120904,0951, 37.9828, 166.4618, 5380,    333.8,   5.8407,   5.8423,2,  33.8570,2,  33.8601,2,    188.4,2,    186.0,2,    49.04,2,    26.12,2,     0.01,2,     1.94,2,    3.245,2,    1.745,2,   2193.8,2,   2274.2,2,   7.5763,4,    25.00,  -999.00,9,  -999.00,9,   5.8423,2,     1157
  49RY20120726,   40N,    71,  1,     30,     97,2,20120904,0951, 37.9828, 166.4618, 5380,    436.9,   5.2237,   5.2253,2,  34.0017,2,  34.0020,2,    117.1,2,    116.5,2,    71.95,2,    33.34,2,     0.01,2,     2.43,2,    2.232,6,    1.171,6,   2255.9,2,   2298.2,2,   7.4571,4,    25.00,  -999.00,9,  -999.00,9,   5.2253,2,     1155
  49RY20120726,   40N,    71,  1,     29,    102,2,20120904,0951, 37.9828, 166.4618, 5380,    535.9,   4.6683,   4.6683,2,  34.0995,2,  34.1004,2,     82.3,2,     83.6,2,    89.12,2,    37.08,2,     0.01,2,     2.68,2,    1.552,2,    0.784,2,   2288.7,2,   2316.0,2,   7.3951,4,    25.00,  -999.00,9,  -999.00,9,   4.6683,2,     1152
  49RY20120726,   40N,    71,  1,     28,     91,2,20120904,0951, 37.9828, 166.4618, 5380,    637.3,   4.1446,   4.1447,2,  34.1490,2,  34.1554,4,     60.8,2,     60.9,2,   102.38,2,    39.63,2,     0.01,2,     2.86,2,    1.139,2,    0.569,2,   2315.8,2,   2328.4,2,   7.3532,4,    25.00,  -999.00,9,  -999.00,9,   4.1447,2,     1150
  49RY20120726,   40N,    71,  1,     27,    998,2,20120904,0951, 37.9828, 166.4618, 5380,    737.4,   3.8713,   3.8716,2,  34.2500,2,  34.2499,2,     47.0,2,     46.8,2,   114.17,2,    40.93,2,     0.01,2,     2.95,2,    0.617,6,    0.293,6,   2335.4,2,   2343.6,2,   7.3403,4,    25.00,  -999.00,9,  -999.00,9,   3.8716,2,     1147
  49RY20120726,   40N,    71,  1,     26,     84,2,20120904,0951, 37.9828, 166.4618, 5380,    839.9,   3.4662,   3.4663,2,  34.2954,2,  34.2955,2,     37.4,2,     37.1,2,   125.18,2,    42.29,2,     0.00,2,     3.03,2,    0.422,2,    0.185,2,   2352.2,6,   2353.7,6,   7.3226,4,    25.00,  -999.00,9,  -999.00,9,   3.4663,2,     1139
  49RY20120726,   40N,    71,  1,     25,     98,2,20120904,0951, 37.9828, 166.4618, 5380,    940.1,   3.2135,   3.2150,2,  34.3420,2,  34.3439,2,     32.7,2,     32.4,2,   133.20,2,    42.85,2,     0.01,2,     3.07,2,    0.277,2,    0.116,2,   2369.5,2,   2364.4,2,   7.3151,4,    25.00,  -999.00,9,  -999.00,9,   3.2150,2,     1136
  49RY20120726,   40N,    71,  1,     24,    110,2,20120904,0951, 37.9828, 166.4618, 5380,   1082.3,   2.8770,   2.8770,2,  34.4024,2,  34.4028,2,     31.5,2,     31.2,2,   143.42,2,    43.21,2,     0.00,2,     3.09,2,    0.152,2,    0.062,2,   2378.5,2,   2376.7,2,   7.3195,4,    25.00,  -999.00,9,  -999.00,9,   2.8770,2,     1133
  49RY20120726,   40N,    71,  1,     23,     96,2,20120904,0951, 37.9828, 166.4618, 5380,   1284.4,   2.5813,   2.5812,2,  34.4589,2,  34.4602,2,     33.9,2,     34.0,2,   152.29,2,    43.23,2,     0.01,2,     3.10,2,    0.083,2,    0.028,2,   2382.8,2,   2386.3,2,   7.3278,4,    25.00,  -999.00,9,  -999.00,9,   2.5812,2,     1128
  49RY20120726,   40N,    71,  1,     22,    111,3,20120904,0951, 37.9828, 166.4618, 5380,   1488.2,   2.3455,   2.3456,2,  34.5110,2,  34.5110,2,     42.1,2,     41.8,6,   158.13,6,    42.87,6,     0.00,6,     3.06,6,    0.043,2,    0.002,2,   2387.1,2,   2398.0,2,   7.3484,4,    25.00,  -999.00,9,  -999.00,9,   2.3456,2,     1120
  49RY20120726,   40N,    71,  1,     21,     78,2,20120904,0951, 37.9828, 166.4618, 5380,   1690.9,   2.1417,   2.1434,2,  34.5480,2,  34.5481,6,     52.4,2,     52.2,2,   162.88,2,    42.31,2,     0.00,2,     3.01,2,    0.015,2,    0.000,2,   2385.5,2,   2406.8,2,   7.3693,4,    25.00,  -999.00,9,  -999.00,9,   2.1434,2,     1116
  49RY20120726,   40N,    71,  1,     20,     93,2,20120904,0951, 37.9828, 166.4618, 5380,   1893.3,   1.9936,   1.9938,2,  34.5761,2,  34.5759,2,     63.0,2,     62.9,2,   165.49,2,    41.64,2,     0.00,2,     2.96,2,    0.003,2,    0.000,2,   2380.1,2,   2405.7,2,   7.3941,4,    25.00,  -999.00,9,  -999.00,9,   1.9938,2,     1112
  49RY20120726,   40N,    71,  1,     19,     92,2,20120904,0951, 37.9828, 166.4618, 5380,   2098.5,   1.8539,   1.8539,2,  34.6033,2,  34.6032,2,     76.9,2,     77.6,2,   165.72,2,    40.79,2,     0.00,2,     2.90,2,    0.001,2,    0.000,2,   2374.7,2,   2410.9,2,   7.4190,4,    25.00,  -999.00,9,  -999.00,9,   1.8539,2,     1105
  49RY20120726,   40N,    71,  1,     18,    101,3,20120904,0951, 37.9828, 166.4618, 5380,   2098.5,   1.8539,   1.8539,2,  34.6033,2,  34.6034,2,     76.9,2,     77.3,2,   166.19,2,    40.82,2,     0.00,2,     2.90,2,    0.001,2,    0.000,2,   2373.1,6,   2409.1,6,   7.4188,4,    25.00,  -999.00,9,  -999.00,9,   1.8539,2,     1105
  49RY20120726,   40N,    71,  1,     17,     90,3,20120904,0951, 37.9828, 166.4618, 5380,   2301.0,   1.7470,   1.7470,2,  34.6236,2,  34.6235,2,     90.6,2,     90.9,2,   164.70,2,    39.93,2,     0.00,2,     2.83,2, -999.000,9, -999.000,9,   2366.7,2,   2411.3,2,   7.4458,4,    25.00,  -999.00,9,  -999.00,9,   1.7470,2,     1101
  49RY20120726,   40N,    71,  1,     16,     89,2,20120904,0951, 37.9828, 166.4618, 5380,   2505.1,   1.6606,   1.6607,2,  34.6388,2,  34.6391,2,    103.2,2,    103.5,2,   162.86,2,    39.19,2,     0.00,2,     2.76,2, -999.000,9, -999.000,9,   2363.0,2,   2414.7,2,   7.4697,4,    25.00,  -999.00,9,  -999.00,9,   1.6607,2,     1055
  49RY20120726,   40N,    71,  1,     15,     88,2,20120904,0951, 37.9828, 166.4618, 5380,   2706.7,   1.5965,   1.5964,2,  34.6503,2,  34.6504,2,    113.7,2,    114.0,2,   161.15,2,    38.49,2,     0.00,2,     2.72,2, -999.000,9, -999.000,9,   2352.6,2,   2415.0,2,   7.4871,4,    25.00,  -999.00,9,  -999.00,9,   1.5964,2,     1051
  49RY20120726,   40N,    71,  1,     14,    999,2,20120904,0951, 37.9828, 166.4618, 5380,   2910.8,   1.5424,   1.5420,2,  34.6600,2,  34.6602,2,    123.4,2,    123.6,2,   158.63,2,    37.84,2,     0.00,2,     2.67,2, -999.000,9, -999.000,9,   2351.7,2,   2417.0,2,   7.5084,4,    25.00,  -999.00,9,  -999.00,9,   1.5420,2,     1047
  49RY20120726,   40N,    71,  1,     13,    667,2,20120904,0951, 37.9828, 166.4618, 5380,   3125.7,   1.5068,   1.5068,2,  34.6667,2,  34.6663,2,    130.7,2,    130.4,6,   157.09,6,    37.37,6,     0.00,6,     2.63,6, -999.000,9, -999.000,9,   2349.2,2,   2413.7,2,   7.5202,4,    25.00,  -999.00,9,  -999.00,9,   1.5068,2,     1040
  49RY20120726,   40N,    71,  1,     12,     74,2,20120904,0951, 37.9828, 166.4618, 5380,   3382.1,   1.4747,   1.4747,2,  34.6734,2,  34.6736,6,    138.3,2,    138.5,2,   155.36,2,    36.87,2,     0.00,2,     2.59,2,    0.000,2,    0.000,2,   2342.4,2,   2414.5,2,   7.5346,4,    25.00,  -999.00,9,  -999.00,9,   1.4747,2,     1035
  49RY20120726,   40N,    71,  1,     11,    996,2,20120904,0951, 37.9828, 166.4618, 5380,   3637.6,   1.4557,   1.4559,2,  34.6784,2,  34.6792,2,    144.1,2,    144.1,2,   153.96,2,    36.53,2,     0.00,2,     2.56,2, -999.000,9, -999.000,9,   2338.5,2,   2415.8,2,   7.5463,4,    25.00,  -999.00,9,  -999.00,9,   1.4559,2,     1029
  49RY20120726,   40N,    71,  1,     10,    107,2,20120904,0951, 37.9828, 166.4618, 5380,   3893.5,   1.4496,   1.4497,2,  34.6819,2,  34.6814,2,    148.5,2,    148.2,2,   153.25,2,    36.24,2,     0.00,2,     2.54,2, -999.000,9, -999.000,9,   2333.8,2,   2414.2,2,   7.5517,4,    25.00,  -999.00,9,  -999.00,9,   1.4497,2,     1024
  49RY20120726,   40N,    71,  1,      9,    108,2,20120904,0951, 37.9828, 166.4618, 5380,   4149.8,   1.4531,   1.4532,2,  34.6848,2,  34.6850,2,    151.8,2,    151.9,2,   152.02,2,    35.97,2,     0.00,2,     2.51,2, -999.000,9, -999.000,9,   2331.2,2,   2412.2,2,   7.5570,4,    25.00,  -999.00,9,  -999.00,9,   1.4532,2,     1019
  49RY20120726,   40N,    71,  1,      8,     81,3,20120904,0951, 37.9828, 166.4618, 5380,   4407.8,   1.4678,   1.4678,2,  34.6864,2,  34.6849,2,    153.7,2,    153.3,2,   152.23,2,    35.93,2,     0.00,2,     2.51,2,    0.000,2,    0.000,2,   2324.8,6,   2412.7,6,   7.5572,4,    25.00,  -999.00,9,  -999.00,9,   1.4678,2,     1014
  49RY20120726,   40N,    71,  1,      5,     94,2,20120904,0951, 37.9828, 166.4618, 5380,   4665.2,   1.4854,   1.4855,2,  34.6878,2,  34.6874,2,    155.4,2,    155.5,2,   151.73,2,    35.75,2,     0.00,2,     2.50,2,    0.004,2,    0.000,2,   2320.8,2,   2412.4,2,   7.5631,4,    25.00,  -999.00,9,  -999.00,9,   1.4855,2,     1008
  49RY20120726,   40N,    71,  1,      6,    113,2,20120904,0951, 37.9828, 166.4618, 5380,   4665.7,   1.4855,   1.4856,2,  34.6879,2,  34.6887,2,    155.5,2,    155.4,2,   152.00,2,    35.76,2,     0.00,2,     2.50,2, -999.000,9, -999.000,9,   2324.1,2,   2411.9,2,   7.5697,4,    25.00,  -999.00,9,  -999.00,9,   1.4856,2,     1009
  49RY20120726,   40N,    71,  1,      4,     77,2,20120904,0951, 37.9828, 166.4618, 5380,   4922.2,   1.5112,   1.5113,2,  34.6885,2,  34.6884,2,    156.3,2,    156.4,6,   151.70,6,    35.71,6,     0.00,6,     2.49,6, -999.000,9, -999.000,9,   2326.9,2,   2413.0,2,   7.5687,4,    25.00,  -999.00,9,  -999.00,9,   1.5113,2,     1003
  49RY20120726,   40N,    71,  1,      3,    104,2,20120904,0951, 37.9828, 166.4618, 5380,   5179.7,   1.5390,   1.5391,2,  34.6891,2,  34.6893,6,    156.8,2,    156.8,2,   151.90,2,    35.71,2,     0.00,2,     2.49,2, -999.000,9, -999.000,9,   2330.3,2,   2412.0,2,   7.5658,4,    25.00,  -999.00,9,  -999.00,9,   1.5391,2,      958
  49RY20120726,   40N,    71,  1,      2,     75,2,20120904,0951, 37.9828, 166.4618, 5380,   5438.0,   1.5722,   1.5721,2,  34.6888,2,  34.6885,2,    156.9,2,    157.0,2,   152.06,2,    35.68,2,     0.00,2,     2.49,2, -999.000,9, -999.000,9,   2325.3,2,   2413.1,2,   7.5695,4,    25.00,  -999.00,9,  -999.00,9,   1.5721,2,      953
  49RY20120726,   40N,    71,  1,      1,    997,2,20120904,0951, 37.9828, 166.4618, 5380,   5504.3,   1.5810,   1.5809,2,  34.6888,2,  34.6894,2,    157.0,2,    156.9,2,   152.16,2,    35.69,2,     0.00,2,     2.50,2,    0.007,2,    0.000,2,   2327.1,2,   2416.6,2,   7.5648,4,    25.00,  -999.00,9,  -999.00,9,   1.5809,2,      951