BOTTLE,20210419PRINUNIVRMK
EXPOCODE,SECT_ID,STNNBR,CASTNO,SAMPNO,BTLNBR,BTLNBR_FLAG_W,DATE,TIME,LATITUDE,LONGITUDE,DEPTH,CTDPRS,CTDTMP,SBE35,SBE35_FLAG_W,CTDSAL,CTDSAL_FLAG_W,SALNTY,SALNTY_FLAG_W,CTDOXY,CTDOXY_FLAG_W,OXYGEN,OXYGEN_FLAG_W,SILCAT,SILCAT_FLAG_W,NITRAT,NITRAT_FLAG_W,NITRIT,NITRIT_FLAG_W,PHSPHT,PHSPHT_FLAG_W,CFC-11,CFC-11_FLAG_W,CFC-12,CFC-12_FLAG_W,TCARBN,TCARBN_FLAG_W,ALKALI,ALKALI_FLAG_W,PH_TOT,PH_TOT_FLAG_W,PH_TMP,CHLORA,CHLORA_FLAG_W,PPHYTN,PPHYTN_FLAG_W,SBE35,SBE35_FLAG_W,BTL_TIME
,,,,,,,,,,,METERS,DBAR,ITS-90,,,PSS-78,,PSS-78,,UMOL/KG,,UMOL/KG,,UMOL/KG,,UMOL/KG,,UMOL/KG,,UMOL/KG,,PMOL/KG,,PMOL/KG,,UMOL/KG,,UMOL/KG,,,,DEG C,UG/KG,,UG/KG,,,,
  49RY20120726,   40N,    74,  1,      7,    106,2,20120905,0821, 39.4852, 165.3157, 5377,     10.7,  22.1751,  22.1754,2,  34.4970,2,-999.0000,9,    224.0,2,    225.4,2,     1.31,2,     0.02,2,     0.00,2,     0.03,2, -999.000,9, -999.000,9,   -999.0,9,   -999.0,9,-999.0000,9,  -999.00,  -999.00,9,  -999.00,9,  22.1754,2,     1051
  49RY20120726,   40N,    74,  1,     36,    109,2,20120905,0821, 39.4852, 165.3157, 5377,     50.9,  15.7854,  15.7901,2,  34.5873,2,-999.0000,9,    256.8,2,    257.0,2,     1.39,2,     0.14,2,     0.02,2,     0.11,2, -999.000,9, -999.000,9,   -999.0,9,   -999.0,9,-999.0000,9,  -999.00,  -999.00,9,  -999.00,9,  15.7901,2,     1047
  49RY20120726,   40N,    74,  1,     35,    112,2,20120905,0821, 39.4852, 165.3157, 5377,    100.5,  14.5723,  14.5734,2,  34.5591,2,-999.0000,9,    225.8,2,    226.1,2,     6.96,2,     6.66,2,     0.02,2,     0.48,2, -999.000,9, -999.000,9,   -999.0,9,   -999.0,9,-999.0000,9,  -999.00,  -999.00,9,  -999.00,9,  14.5734,2,     1045
  49RY20120726,   40N,    74,  1,     34,     83,2,20120905,0821, 39.4852, 165.3157, 5377,    100.5,  14.5723,  14.5734,2,  34.5591,2,-999.0000,9,    225.8,2,    225.7,2,     6.93,2,     6.63,2,     0.02,2,     0.48,2, -999.000,9, -999.000,9,   -999.0,9,   -999.0,9,-999.0000,9,  -999.00,  -999.00,9,  -999.00,9,  14.5734,2,     1045
  49RY20120726,   40N,    74,  1,     33,     86,2,20120905,0821, 39.4852, 165.3157, 5377,    152.7,  14.1397,  14.1404,2,  34.5493,2,-999.0000,9,    237.0,2,    236.9,2,     7.78,2,     6.39,2,     0.01,2,     0.46,2, -999.000,9, -999.000,9,   -999.0,9,   -999.0,9,-999.0000,9,  -999.00,  -999.00,9,  -999.00,9,  14.1404,2,     1043
  49RY20120726,   40N,    74,  1,     32,    105,2,20120905,0821, 39.4852, 165.3157, 5377,    202.0,  13.5717,  13.5707,2,  34.4839,2,-999.0000,9,    231.5,2,    231.6,6,     9.70,6,     7.89,6,     0.01,6,     0.56,6, -999.000,9, -999.000,9,   -999.0,9,   -999.0,9,-999.0000,9,  -999.00,  -999.00,9,  -999.00,9,  13.5707,2,     1038
  49RY20120726,   40N,    74,  1,     31,     76,2,20120905,0821, 39.4852, 165.3157, 5377,    251.6,  12.7043,  12.7044,2,  34.4137,2,-999.0000,9,    230.7,2,    231.1,2,    11.73,2,     9.39,2,     0.01,2,     0.67,2, -999.000,9, -999.000,9,   -999.0,9,   -999.0,9,-999.0000,9,  -999.00,  -999.00,9,  -999.00,9,  12.7044,2,     1034
  49RY20120726,   40N,    74,  1,     30,     97,2,20120905,0821, 39.4852, 165.3157, 5377,    332.9,  11.3962,  11.3976,2,  34.2863,2,-999.0000,9,    251.3,2,    252.2,2,    12.42,2,     9.48,2,     0.01,4,     0.71,2, -999.000,9, -999.000,9,   -999.0,9,   -999.0,9,-999.0000,9,  -999.00,  -999.00,9,  -999.00,9,  11.3976,2,     1032
  49RY20120726,   40N,    74,  1,     29,    102,2,20120905,0821, 39.4852, 165.3157, 5377,    433.3,   9.6050,   9.6038,2,  34.1028,2,-999.0000,9,    226.0,2,    226.5,6,    22.14,6,    15.05,6,     0.00,6,     1.11,6, -999.000,9, -999.000,9,   -999.0,9,   -999.0,9,-999.0000,9,  -999.00,  -999.00,9,  -999.00,9,   9.6038,2,     1029
  49RY20120726,   40N,    74,  1,     28,     91,2,20120905,0821, 39.4852, 165.3157, 5377,    534.7,   7.3685,   7.3673,2,  34.0180,2,-999.0000,9,    167.7,2,    167.6,2,    45.15,2,    25.01,2,     0.00,2,     1.82,2, -999.000,9, -999.000,9,   -999.0,9,   -999.0,9,-999.0000,9,  -999.00,  -999.00,9,  -999.00,9,   7.3673,2,     1027
  49RY20120726,   40N,    74,  1,     27,    998,2,20120905,0821, 39.4852, 165.3157, 5377,    635.7,   5.2460,   5.2458,2,  33.9935,2,-999.0000,9,    119.7,2,    119.4,2,    71.03,2,    33.10,2,     0.00,2,     2.42,2, -999.000,9, -999.000,9,   -999.0,9,   -999.0,9,-999.0000,9,  -999.00,  -999.00,9,  -999.00,9,   5.2458,2,     1024
  49RY20120726,   40N,    74,  1,     26,     84,2,20120905,0821, 39.4852, 165.3157, 5377,    737.7,   4.6485,   4.6501,2,  34.0765,2,-999.0000,9,     84.5,2,     84.5,6,    87.98,6,    37.02,6,     0.00,6,     2.68,6, -999.000,9, -999.000,9,   -999.0,9,   -999.0,9,-999.0000,9,  -999.00,  -999.00,9,  -999.00,9,   4.6501,2,     1020
  49RY20120726,   40N,    74,  1,     25,     98,2,20120905,0821, 39.4852, 165.3157, 5377,    837.5,   4.0792,   4.0790,2,  34.1593,2,-999.0000,9,     56.5,2,     56.5,2,   104.60,2,    40.10,2,     0.00,2,     2.88,2, -999.000,9, -999.000,9,   -999.0,9,   -999.0,9,-999.0000,9,  -999.00,  -999.00,9,  -999.00,9,   4.0790,2,     1014
  49RY20120726,   40N,    74,  1,     24,    110,2,20120905,0821, 39.4852, 165.3157, 5377,    940.0,   3.7565,   3.7572,2,  34.2369,2,-999.0000,9,     44.3,2,     44.4,2,   115.95,2,    41.30,2,     0.00,2,     2.97,2, -999.000,9, -999.000,9,   -999.0,9,   -999.0,9,-999.0000,9,  -999.00,  -999.00,9,  -999.00,9,   3.7572,2,     1011
  49RY20120726,   40N,    74,  1,     23,     96,2,20120905,0821, 39.4852, 165.3157, 5377,   1081.8,   3.3598,   3.3594,2,  34.3266,2,-999.0000,9,     36.1,2,     36.2,2,   129.04,2,    42.42,2,     0.00,2,     3.04,2, -999.000,9, -999.000,9,   -999.0,9,   -999.0,9,-999.0000,9,  -999.00,  -999.00,9,  -999.00,9,   3.3594,2,     1007
  49RY20120726,   40N,    74,  1,     22,    111,2,20120905,0821, 39.4852, 165.3157, 5377,   1283.2,   2.9071,   2.9070,2,  34.4030,2,-999.0000,9,     32.7,2,     32.6,2,   142.87,2,    43.09,2,     0.00,2,     3.08,2, -999.000,9, -999.000,9,   -999.0,9,   -999.0,9,-999.0000,9,  -999.00,  -999.00,9,  -999.00,9,   2.9070,2,     1003
  49RY20120726,   40N,    74,  1,     21,     78,2,20120905,0821, 39.4852, 165.3157, 5377,   1485.0,   2.5963,   2.5964,2,  34.4718,2,-999.0000,9,     35.0,2,     35.1,2,   152.20,2,    43.37,2,     0.00,2,     3.08,2, -999.000,9, -999.000,9,   -999.0,9,   -999.0,9,-999.0000,9,  -999.00,  -999.00,9,  -999.00,9,   2.5964,2,      955
  49RY20120726,   40N,    74,  1,     20,     93,2,20120905,0821, 39.4852, 165.3157, 5377,   1689.7,   2.3524,   2.3526,2,  34.5131,2,-999.0000,9,     42.6,2,     42.8,2,   158.30,2,    42.98,2,     0.00,2,     3.05,2, -999.000,9, -999.000,9,   -999.0,9,   -999.0,9,-999.0000,9,  -999.00,  -999.00,9,  -999.00,9,   2.3526,2,      951
  49RY20120726,   40N,    74,  1,     19,     92,2,20120905,0821, 39.4852, 165.3157, 5377,   1892.6,   2.1611,   2.1609,2,  34.5500,2,-999.0000,9,     52.4,2,     52.3,2,   162.26,2,    42.45,2,     0.00,2,     3.01,2, -999.000,9, -999.000,9,   -999.0,9,   -999.0,9,-999.0000,9,  -999.00,  -999.00,9,  -999.00,9,   2.1609,2,      944
  49RY20120726,   40N,    74,  1,     18,    101,2,20120905,0821, 39.4852, 165.3157, 5377,   2096.1,   1.9988,   1.9986,2,  34.5790,2,-999.0000,9,     64.0,2,     64.0,2,   164.99,2,    41.79,2,     0.00,2,     2.95,2, -999.000,9, -999.000,9,   -999.0,9,   -999.0,9,-999.0000,9,  -999.00,  -999.00,9,  -999.00,9,   1.9986,2,      939
  49RY20120726,   40N,    74,  1,     17,     90,2,20120905,0821, 39.4852, 165.3157, 5377,   2300.5,   1.8792,   1.8791,2,  34.6024,2,-999.0000,9,     76.5,2,     76.5,2,   165.11,2,    40.96,2,     0.00,2,     2.89,2, -999.000,9, -999.000,9,   -999.0,9,   -999.0,9,-999.0000,9,  -999.00,  -999.00,9,  -999.00,9,   1.8791,2,      934
  49RY20120726,   40N,    74,  1,     16,     89,2,20120905,0821, 39.4852, 165.3157, 5377,   2503.1,   1.7734,   1.7732,2,  34.6221,2,-999.0000,9,     89.6,2,     89.6,2,   164.36,2,    40.00,2,     0.00,2,     2.83,2, -999.000,9, -999.000,9,   -999.0,9,   -999.0,9,-999.0000,9,  -999.00,  -999.00,9,  -999.00,9,   1.7732,2,      927
  49RY20120726,   40N,    74,  1,     15,     88,2,20120905,0821, 39.4852, 165.3157, 5377,   2707.4,   1.6817,   1.6815,2,  34.6385,2,-999.0000,9,    102.8,2,    103.0,2,   162.34,2,    39.31,2,     0.00,2,     2.77,3, -999.000,9, -999.000,9,   -999.0,9,   -999.0,9,-999.0000,9,  -999.00,  -999.00,9,  -999.00,9,   1.6815,2,      923
  49RY20120726,   40N,    74,  1,     14,    999,2,20120905,0821, 39.4852, 165.3157, 5377,   2911.4,   1.6185,   1.6186,2,  34.6500,2,-999.0000,9,    113.2,2,    113.8,2,   160.49,2,    38.68,2,     0.00,2,     2.72,2, -999.000,9, -999.000,9,   -999.0,9,   -999.0,9,-999.0000,9,  -999.00,  -999.00,9,  -999.00,9,   1.6186,2,      918
  49RY20120726,   40N,    74,  1,     13,    667,2,20120905,0821, 39.4852, 165.3157, 5377,   3125.4,   1.5730,   1.5729,2,  34.6587,2,-999.0000,9,    121.9,2,    122.3,2,   158.46,2,    38.10,2,     0.00,2,     2.68,2, -999.000,9, -999.000,9,   -999.0,9,   -999.0,9,-999.0000,9,  -999.00,  -999.00,9,  -999.00,9,   1.5729,2,      913
  49RY20120726,   40N,    74,  1,     12,     74,2,20120905,0821, 39.4852, 165.3157, 5377,   3382.0,   1.5324,   1.5325,2,  34.6669,2,-999.0000,9,    130.6,2,    131.1,2,   155.96,2,    37.55,2,     0.00,2,     2.63,2, -999.000,9, -999.000,9,   -999.0,9,   -999.0,9,-999.0000,9,  -999.00,  -999.00,9,  -999.00,9,   1.5325,2,      908
  49RY20120726,   40N,    74,  1,     11,    996,2,20120905,0821, 39.4852, 165.3157, 5377,   3637.2,   1.5033,   1.5034,2,  34.6732,2,-999.0000,9,    138.0,2,    138.3,2,   153.99,2,    37.08,2,     0.00,2,     2.60,2, -999.000,9, -999.000,9,   -999.0,9,   -999.0,9,-999.0000,9,  -999.00,  -999.00,9,  -999.00,9,   1.5034,2,      902
  49RY20120726,   40N,    74,  1,     10,    107,2,20120905,0821, 39.4852, 165.3157, 5377,   3637.2,   1.5033,   1.5034,2,  34.6732,2,-999.0000,9,    138.0,2,    137.8,2,   154.12,2,    37.13,2,     0.00,2,     2.60,2, -999.000,9, -999.000,9,   -999.0,9,   -999.0,9,-999.0000,9,  -999.00,  -999.00,9,  -999.00,9,   1.5034,2,      902
  49RY20120726,   40N,    74,  1,      9,    108,2,20120905,0821, 39.4852, 165.3157, 5377,   3897.4,   1.4842,   1.4843,2,  34.6784,2,-999.0000,9,    144.0,2,    144.0,2,   152.69,2,    36.64,2,     0.00,2,     2.56,2, -999.000,9, -999.000,9,   -999.0,9,   -999.0,9,-999.0000,9,  -999.00,  -999.00,9,  -999.00,9,   1.4843,2,      856
  49RY20120726,   40N,    74,  1,      8,     81,2,20120905,0821, 39.4852, 165.3157, 5377,   4153.4,   1.4823,   1.4823,2,  34.6815,2,-999.0000,9,    148.1,2,    148.4,6,   151.40,6,    36.39,6,     0.00,6,     2.54,6, -999.000,9, -999.000,9,   -999.0,9,   -999.0,9,-999.0000,9,  -999.00,  -999.00,9,  -999.00,9,   1.4823,2,      850
  49RY20120726,   40N,    74,  1,      6,    113,2,20120905,0821, 39.4852, 165.3157, 5377,   4409.7,   1.4811,   1.4811,2,  34.6850,2,-999.0000,9,    152.1,2,    152.4,2,   150.89,2,    36.15,2,     0.00,2,     2.53,2, -999.000,9, -999.000,9,   -999.0,9,   -999.0,9,-999.0000,9,  -999.00,  -999.00,9,  -999.00,9,   1.4811,2,      844
  49RY20120726,   40N,    74,  1,      5,     94,2,20120905,0821, 39.4852, 165.3157, 5377,   4665.9,   1.4939,   1.4939,2,  34.6867,2,-999.0000,9,    154.4,2,    154.7,2,   150.54,2,    35.96,2,     0.00,2,     2.51,2, -999.000,9, -999.000,9,   -999.0,9,   -999.0,9,-999.0000,9,  -999.00,  -999.00,9,  -999.00,9,   1.4939,2,      838
  49RY20120726,   40N,    74,  1,      4,     77,2,20120905,0821, 39.4852, 165.3157, 5377,   4922.8,   1.5126,   1.5126,2,  34.6882,2,-999.0000,9,    156.1,2,    156.5,2,   149.67,3,    35.81,2,     0.00,2,     2.50,2, -999.000,9, -999.000,9,   -999.0,9,   -999.0,9,-999.0000,9,  -999.00,  -999.00,9,  -999.00,9,   1.5126,2,      833
  49RY20120726,   40N,    74,  1,      3,    104,2,20120905,0821, 39.4852, 165.3157, 5377,   5179.6,   1.5373,   1.5373,2,  34.6891,2,-999.0000,9,    156.9,2,    156.4,2,   150.74,2,    35.81,2,     0.00,2,     2.50,2, -999.000,9, -999.000,9,   -999.0,9,   -999.0,9,-999.0000,9,  -999.00,  -999.00,9,  -999.00,9,   1.5373,2,      828
  49RY20120726,   40N,    74,  1,      2,     75,2,20120905,0821, 39.4852, 165.3157, 5377,   5437.1,   1.5703,   1.5702,2,  34.6890,2,-999.0000,9,    157.2,2,    157.4,2,   150.52,2,    35.77,2,     0.00,2,     2.50,2, -999.000,9, -999.000,9,   -999.0,9,   -999.0,9,-999.0000,9,  -999.00,  -999.00,9,  -999.00,9,   1.5702,2,      823
  49RY20120726,   40N,    74,  1,      1,    997,2,20120905,0821, 39.4852, 165.3157, 5377,   5479.4,   1.5751,   1.5749,2,  34.6890,2,-999.0000,9,    157.2,2,    157.3,2,   150.76,2,    35.73,2,     0.00,2,     2.51,2, -999.000,9, -999.000,9,   -999.0,9,   -999.0,9,-999.0000,9,  -999.00,  -999.00,9,  -999.00,9,   1.5749,2,      822