BOTTLE,20210419PRINUNIVRMK
EXPOCODE,SECT_ID,STNNBR,CASTNO,SAMPNO,BTLNBR,BTLNBR_FLAG_W,DATE,TIME,LATITUDE,LONGITUDE,DEPTH,CTDPRS,CTDTMP,SBE35,SBE35_FLAG_W,CTDSAL,CTDSAL_FLAG_W,SALNTY,SALNTY_FLAG_W,CTDOXY,CTDOXY_FLAG_W,OXYGEN,OXYGEN_FLAG_W,SILCAT,SILCAT_FLAG_W,NITRAT,NITRAT_FLAG_W,NITRIT,NITRIT_FLAG_W,PHSPHT,PHSPHT_FLAG_W,CFC-11,CFC-11_FLAG_W,CFC-12,CFC-12_FLAG_W,TCARBN,TCARBN_FLAG_W,ALKALI,ALKALI_FLAG_W,PH_TOT,PH_TOT_FLAG_W,PH_TMP,CHLORA,CHLORA_FLAG_W,PPHYTN,PPHYTN_FLAG_W,SBE35,SBE35_FLAG_W,BTL_TIME
,,,,,,,,,,,METERS,DBAR,ITS-90,,,PSS-78,,PSS-78,,UMOL/KG,,UMOL/KG,,UMOL/KG,,UMOL/KG,,UMOL/KG,,UMOL/KG,,PMOL/KG,,PMOL/KG,,UMOL/KG,,UMOL/KG,,,,DEG C,UG/KG,,UG/KG,,,,
  49RY20120726,   40N,    57,  1,     36,    109,2,20120830,1943, 35.4942, 169.9730, 5424,     10.7,  25.0221,  25.0168,2,  34.3093,2,-999.0000,9,    209.5,2,    211.3,2,     1.39,2,     0.00,2,     0.00,2,     0.01,2, -999.000,9, -999.000,9,   -999.0,9,   -999.0,9,-999.0000,9,  -999.00,  -999.00,9,  -999.00,9,  25.0168,2,     2204
  49RY20120726,   40N,    57,  1,     35,    112,2,20120830,1943, 35.4942, 169.9730, 5424,     50.9,  16.5829,  16.5748,2,  34.5556,2,-999.0000,9,    234.2,2,    218.5,2,     6.66,2,     4.42,2,     0.11,2,     0.34,2, -999.000,9, -999.000,9,   -999.0,9,   -999.0,9,-999.0000,9,  -999.00,  -999.00,9,  -999.00,9,  16.5748,2,     2200
  49RY20120726,   40N,    57,  1,     34,     83,2,20120830,1943, 35.4942, 169.9730, 5424,     98.0,  14.1758,  14.1763,2,  34.4807,2,-999.0000,9,    225.8,2,    222.6,2,     9.34,2,     7.83,2,     0.03,2,     0.55,2, -999.000,9, -999.000,9,   -999.0,9,   -999.0,9,-999.0000,9,  -999.00,  -999.00,9,  -999.00,9,  14.1763,2,     2159
  49RY20120726,   40N,    57,  1,     33,     86,2,20120830,1943, 35.4942, 169.9730, 5424,    150.4,  12.9823,  12.9831,2,  34.4174,2,-999.0000,9,    224.8,2,    224.4,6,    11.88,6,     9.39,6,     0.01,6,     0.66,6, -999.000,9, -999.000,9,   -999.0,9,   -999.0,9,-999.0000,9,  -999.00,  -999.00,9,  -999.00,9,  12.9831,2,     2157
  49RY20120726,   40N,    57,  1,     32,    105,2,20120830,1943, 35.4942, 169.9730, 5424,    201.6,  12.0356,  12.0233,2,  34.3494,2,-999.0000,9,    220.1,2,    219.6,2,    15.36,2,    11.33,2,     0.00,2,     0.80,2, -999.000,9, -999.000,9,   -999.0,9,   -999.0,9,-999.0000,9,  -999.00,  -999.00,9,  -999.00,9,  12.0233,2,     2153
  49RY20120726,   40N,    57,  1,     31,     76,2,20120830,1943, 35.4942, 169.9730, 5424,    252.4,  10.7954,  10.7948,2,  34.2386,2,-999.0000,9,    210.7,2,    210.5,2,    20.73,2,    14.37,2,     0.00,2,     1.02,2, -999.000,9, -999.000,9,   -999.0,9,   -999.0,9,-999.0000,9,  -999.00,  -999.00,9,  -999.00,9,  10.7948,2,     2147
  49RY20120726,   40N,    57,  1,     30,     97,2,20120830,1943, 35.4942, 169.9730, 5424,    332.1,   8.7344,   8.7307,2,  34.0742,2,-999.0000,9,    197.8,2,    197.4,2,    31.18,2,    19.16,2,     0.00,2,     1.38,2, -999.000,9, -999.000,9,   -999.0,9,   -999.0,9,-999.0000,9,  -999.00,  -999.00,9,  -999.00,9,   8.7307,2,     2144
  49RY20120726,   40N,    57,  1,     29,    102,2,20120830,1943, 35.4942, 169.9730, 5424,    432.8,   6.5579,   6.5469,2,  34.0031,2,-999.0000,9,    150.0,2,    149.5,6,    54.36,6,    27.91,6,     0.00,6,     2.02,6, -999.000,9, -999.000,9,   -999.0,9,   -999.0,9,-999.0000,9,  -999.00,  -999.00,9,  -999.00,9,   6.5469,2,     2142
  49RY20120726,   40N,    57,  1,     28,     91,3,20120830,1943, 35.4942, 169.9730, 5424,    534.3,   5.1925,   5.1935,2,  34.0148,2,-999.0000,9,    111.7,2,    110.8,2,    74.47,2,    33.69,2,     0.00,2,     2.44,2, -999.000,9, -999.000,9,   -999.0,9,   -999.0,9,-999.0000,9,  -999.00,  -999.00,9,  -999.00,9,   5.1935,2,     2139
  49RY20120726,   40N,    57,  1,     27,    998,2,20120830,1943, 35.4942, 169.9730, 5424,    634.7,   4.5442,   4.5440,2,  34.1022,2,-999.0000,9,     76.3,2,     76.0,2,    91.87,2,    37.59,2,     0.00,2,     2.71,2, -999.000,9, -999.000,9,   -999.0,9,   -999.0,9,-999.0000,9,  -999.00,  -999.00,9,  -999.00,9,   4.5440,2,     2137
  49RY20120726,   40N,    57,  1,     26,     84,2,20120830,1943, 35.4942, 169.9730, 5424,    736.4,   4.0776,   4.0776,2,  34.1832,2,-999.0000,9,     55.6,2,     55.3,2,   106.58,2,    39.94,2,     0.00,2,     2.86,2, -999.000,9, -999.000,9,   -999.0,9,   -999.0,9,-999.0000,9,  -999.00,  -999.00,9,  -999.00,9,   4.0776,2,     2134
  49RY20120726,   40N,    57,  1,     25,     98,2,20120830,1943, 35.4942, 169.9730, 5424,    838.1,   3.7310,   3.7320,2,  34.2607,2,-999.0000,9,     42.9,2,     43.2,2,   117.91,2,    41.28,2,     0.00,2,     2.96,2, -999.000,9, -999.000,9,   -999.0,9,   -999.0,9,-999.0000,9,  -999.00,  -999.00,9,  -999.00,9,   3.7320,2,     2129
  49RY20120726,   40N,    57,  1,     24,    110,2,20120830,1943, 35.4942, 169.9730, 5424,    938.6,   3.4243,   3.4246,2,  34.3150,2,-999.0000,9,     36.3,2,     35.9,2,   127.33,2,    42.12,2,     0.00,2,     3.01,2, -999.000,9, -999.000,9,   -999.0,9,   -999.0,9,-999.0000,9,  -999.00,  -999.00,9,  -999.00,9,   3.4246,2,     2126
  49RY20120726,   40N,    57,  1,     23,     96,2,20120830,1943, 35.4942, 169.9730, 5424,   1080.4,   3.0538,   3.0538,2,  34.3826,2,-999.0000,9,     32.2,2,     32.2,2,   139.04,2,    42.80,2,     0.00,2,     3.06,2, -999.000,9, -999.000,9,   -999.0,9,   -999.0,9,-999.0000,9,  -999.00,  -999.00,9,  -999.00,9,   3.0538,2,     2123
  49RY20120726,   40N,    57,  1,     22,    111,2,20120830,1943, 35.4942, 169.9730, 5424,   1284.5,   2.6500,   2.6493,2,  34.4579,2,-999.0000,9,     33.4,2,     33.2,2,   150.95,2,    43.13,2,     0.00,2,     3.07,2, -999.000,9, -999.000,9,   -999.0,9,   -999.0,9,-999.0000,9,  -999.00,  -999.00,9,  -999.00,9,   2.6493,2,     2116
  49RY20120726,   40N,    57,  1,     21,     78,2,20120830,1943, 35.4942, 169.9730, 5424,   1486.3,   2.3729,   2.3731,2,  34.5068,2,-999.0000,9,     40.7,2,     40.3,2,   158.57,2,    42.89,2,     0.00,2,     3.04,2, -999.000,9, -999.000,9,   -999.0,9,   -999.0,9,-999.0000,9,  -999.00,  -999.00,9,  -999.00,9,   2.3731,2,     2111
  49RY20120726,   40N,    57,  1,     20,     93,2,20120830,1943, 35.4942, 169.9730, 5424,   1688.9,   2.1493,   2.1492,2,  34.5510,2,-999.0000,9,     52.3,2,     52.4,2,   163.00,2,    42.28,2,     0.00,2,     2.98,2, -999.000,9, -999.000,9,   -999.0,9,   -999.0,9,-999.0000,9,  -999.00,  -999.00,9,  -999.00,9,   2.1492,2,     2107
  49RY20120726,   40N,    57,  1,     19,     92,2,20120830,1943, 35.4942, 169.9730, 5424,   1891.6,   1.9785,   1.9784,2,  34.5812,2,-999.0000,9,     65.4,2,     65.2,2,   165.28,2,    41.51,2,     0.00,2,     2.92,2, -999.000,9, -999.000,9,   -999.0,9,   -999.0,9,-999.0000,9,  -999.00,  -999.00,9,  -999.00,9,   1.9784,2,     2100
  49RY20120726,   40N,    57,  1,     18,    101,2,20120830,1943, 35.4942, 169.9730, 5424,   2095.6,   1.8392,   1.8392,2,  34.6065,2,-999.0000,9,     79.4,2,     79.7,2,   165.36,2,    40.58,2,     0.00,2,     2.86,2, -999.000,9, -999.000,9,   -999.0,9,   -999.0,9,-999.0000,9,  -999.00,  -999.00,9,  -999.00,9,   1.8392,2,     2055
  49RY20120726,   40N,    57,  1,     17,     90,2,20120830,1943, 35.4942, 169.9730, 5424,   2298.6,   1.7367,   1.7367,2,  34.6253,2,-999.0000,9,     92.6,2,     92.3,2,   164.50,2,    39.79,2,     0.00,2,     2.79,2, -999.000,9, -999.000,9,   -999.0,9,   -999.0,9,-999.0000,9,  -999.00,  -999.00,9,  -999.00,9,   1.7367,2,     2049
  49RY20120726,   40N,    57,  1,     16,     89,2,20120830,1943, 35.4942, 169.9730, 5424,   2502.3,   1.6501,   1.6499,2,  34.6402,2,-999.0000,9,    105.2,2,    105.2,6,   162.59,6,    39.02,6,     0.00,6,     2.74,6, -999.000,9, -999.000,9,   -999.0,9,   -999.0,9,-999.0000,9,  -999.00,  -999.00,9,  -999.00,9,   1.6499,2,     2044
  49RY20120726,   40N,    57,  1,     15,     88,2,20120830,1943, 35.4942, 169.9730, 5424,   2708.2,   1.5888,   1.5887,2,  34.6508,2,-999.0000,9,    114.8,2,    115.2,2,   160.86,2,    38.43,2,     0.00,2,     2.69,2, -999.000,9, -999.000,9,   -999.0,9,   -999.0,9,-999.0000,9,  -999.00,  -999.00,9,  -999.00,9,   1.5887,2,     2040
  49RY20120726,   40N,    57,  1,     14,    999,2,20120830,1943, 35.4942, 169.9730, 5424,   2912.0,   1.5404,   1.5403,2,  34.6596,2,-999.0000,9,    123.5,2,    123.5,2,   158.95,2,    37.89,2,     0.00,2,     2.64,2, -999.000,9, -999.000,9,   -999.0,9,   -999.0,9,-999.0000,9,  -999.00,  -999.00,9,  -999.00,9,   1.5403,2,     2034
  49RY20120726,   40N,    57,  1,     13,    667,3,20120830,1943, 35.4942, 169.9730, 5424,   3126.1,   1.4988,   1.4989,2,  34.6675,2,-999.0000,9,    131.6,2,    130.0,4,   157.07,2,    37.42,2,     0.00,2,     2.61,2, -999.000,9, -999.000,9,   -999.0,9,   -999.0,9,-999.0000,9,  -999.00,  -999.00,9,  -999.00,9,   1.4989,2,     2030
  49RY20120726,   40N,    57,  1,     12,     74,2,20120830,1943, 35.4942, 169.9730, 5424,   3380.4,   1.4761,   1.4761,2,  34.6730,2,-999.0000,9,    138.0,2,    138.2,2,   155.78,2,    36.94,2,     0.00,2,     2.57,2, -999.000,9, -999.000,9,   -999.0,9,   -999.0,9,-999.0000,9,  -999.00,  -999.00,9,  -999.00,9,   1.4761,2,     2025
  49RY20120726,   40N,    57,  1,     11,    996,2,20120830,1943, 35.4942, 169.9730, 5424,   3636.9,   1.4591,   1.4592,2,  34.6779,2,-999.0000,9,    143.7,2,    144.0,2,   153.68,2,    36.50,2,     0.00,2,     2.54,2, -999.000,9, -999.000,9,   -999.0,9,   -999.0,9,-999.0000,9,  -999.00,  -999.00,9,  -999.00,9,   1.4592,2,     2020
  49RY20120726,   40N,    57,  1,     10,    107,2,20120830,1943, 35.4942, 169.9730, 5424,   3636.9,   1.4591,   1.4592,2,  34.6779,2,-999.0000,9,    143.7,2,    142.9,3,   153.89,2,    36.63,2,     0.00,2,     2.54,2, -999.000,9, -999.000,9,   -999.0,9,   -999.0,9,-999.0000,9,  -999.00,  -999.00,9,  -999.00,9,   1.4592,2,     2020
  49RY20120726,   40N,    57,  1,      9,    108,2,20120830,1943, 35.4942, 169.9730, 5424,   3894.5,   1.4519,   1.4519,2,  34.6817,2,-999.0000,9,    148.4,2,    148.8,2,   152.75,2,    36.27,2,     0.00,2,     2.52,2, -999.000,9, -999.000,9,   -999.0,9,   -999.0,9,-999.0000,9,  -999.00,  -999.00,9,  -999.00,9,   1.4519,2,     2015
  49RY20120726,   40N,    57,  1,      8,     81,2,20120830,1943, 35.4942, 169.9730, 5424,   4149.3,   1.4537,   1.4536,2,  34.6845,2,-999.0000,9,    152.0,2,    152.4,2,   151.60,2,    36.03,2,     0.00,2,     2.50,2, -999.000,9, -999.000,9,   -999.0,9,   -999.0,9,-999.0000,9,  -999.00,  -999.00,9,  -999.00,9,   1.4536,2,     2010
  49RY20120726,   40N,    57,  1,      7,    106,2,20120830,1943, 35.4942, 169.9730, 5424,   4406.0,   1.4600,   1.4600,2,  34.6871,2,-999.0000,9,    155.1,2,    154.8,2,   151.30,2,    35.81,2,     0.00,2,     2.48,2, -999.000,9, -999.000,9,   -999.0,9,   -999.0,9,-999.0000,9,  -999.00,  -999.00,9,  -999.00,9,   1.4600,2,     2005
  49RY20120726,   40N,    57,  1,      6,    113,2,20120830,1943, 35.4942, 169.9730, 5424,   4406.0,   1.4600,   1.4600,2,  34.6871,2,-999.0000,9,    155.1,2,    155.2,2,   151.48,2,    35.80,2,     0.00,2,     2.48,2, -999.000,9, -999.000,9,   -999.0,9,   -999.0,9,-999.0000,9,  -999.00,  -999.00,9,  -999.00,9,   1.4600,2,     2005
  49RY20120726,   40N,    57,  1,      5,     94,2,20120830,1943, 35.4942, 169.9730, 5424,   4662.9,   1.4748,   1.4749,2,  34.6888,2,-999.0000,9,    157.2,2,    157.6,6,   150.53,6,    35.70,6,     0.00,6,     2.47,6, -999.000,9, -999.000,9,   -999.0,9,   -999.0,9,-999.0000,9,  -999.00,  -999.00,9,  -999.00,9,   1.4749,2,     2000
  49RY20120726,   40N,    57,  1,      4,     77,2,20120830,1943, 35.4942, 169.9730, 5424,   4921.1,   1.4776,   1.4776,2,  34.6911,2,-999.0000,9,    162.9,2,    163.1,2,   144.59,2,    35.34,2,     0.00,2,     2.44,2, -999.000,9, -999.000,9,   -999.0,9,   -999.0,9,-999.0000,9,  -999.00,  -999.00,9,  -999.00,9,   1.4776,2,     1955
  49RY20120726,   40N,    57,  1,      3,    104,2,20120830,1943, 35.4942, 169.9730, 5424,   5178.9,   1.4874,   1.4874,2,  34.6929,2,-999.0000,9,    166.9,2,    167.2,2,   140.81,2,    35.00,2,     0.00,2,     2.41,2, -999.000,9, -999.000,9,   -999.0,9,   -999.0,9,-999.0000,9,  -999.00,  -999.00,9,  -999.00,9,   1.4874,2,     1950
  49RY20120726,   40N,    57,  1,      2,     75,2,20120830,1943, 35.4942, 169.9730, 5424,   5438.1,   1.5024,   1.5023,2,  34.6943,2,-999.0000,9,    169.9,2,    170.2,2,   138.15,2,    34.80,2,     0.00,2,     2.39,2, -999.000,9, -999.000,9,   -999.0,9,   -999.0,9,-999.0000,9,  -999.00,  -999.00,9,  -999.00,9,   1.5023,2,     1945
  49RY20120726,   40N,    57,  1,      1,    997,2,20120830,1943, 35.4942, 169.9730, 5424,   5517.9,   1.5107,   1.5106,2,  34.6945,2,-999.0000,9,    170.1,2,    169.8,2,   138.69,2,    34.85,2,     0.00,2,     2.40,2, -999.000,9, -999.000,9,   -999.0,9,   -999.0,9,-999.0000,9,  -999.00,  -999.00,9,  -999.00,9,   1.5106,2,     1943