BOTTLE,20210419PRINUNIVRMK
EXPOCODE,SECT_ID,STNNBR,CASTNO,SAMPNO,BTLNBR,BTLNBR_FLAG_W,DATE,TIME,LATITUDE,LONGITUDE,DEPTH,CTDPRS,CTDTMP,SBE35,SBE35_FLAG_W,CTDSAL,CTDSAL_FLAG_W,SALNTY,SALNTY_FLAG_W,CTDOXY,CTDOXY_FLAG_W,OXYGEN,OXYGEN_FLAG_W,SILCAT,SILCAT_FLAG_W,NITRAT,NITRAT_FLAG_W,NITRIT,NITRIT_FLAG_W,PHSPHT,PHSPHT_FLAG_W,CFC-11,CFC-11_FLAG_W,CFC-12,CFC-12_FLAG_W,TCARBN,TCARBN_FLAG_W,ALKALI,ALKALI_FLAG_W,PH_TOT,PH_TOT_FLAG_W,PH_TMP,CHLORA,CHLORA_FLAG_W,PPHYTN,PPHYTN_FLAG_W,SBE35,SBE35_FLAG_W,BTL_TIME
,,,,,,,,,,,METERS,DBAR,ITS-90,,,PSS-78,,PSS-78,,UMOL/KG,,UMOL/KG,,UMOL/KG,,UMOL/KG,,UMOL/KG,,UMOL/KG,,PMOL/KG,,PMOL/KG,,UMOL/KG,,UMOL/KG,,,,DEG C,UG/KG,,UG/KG,,,,
  49RY20120726,   40N,    54,  1,     36,    109,2,20120829,2243, 37.0250, 169.9998, 5225,     11.1,  25.2105,  25.2104,2,  34.3961,2,  34.3959,2,    209.7,2,    210.0,2,     1.47,2,     0.06,2,     0.00,2,     0.02,2,    1.821,2,    1.054,2,   1963.5,2,   2263.7,2,   8.0466,4,    25.00,     0.08,2,     0.02,2,  25.2104,2,       57
  49RY20120726,   40N,    54,  1,     35,    112,2,20120829,2243, 37.0250, 169.9998, 5225,     57.5,  18.5180,  18.5693,2,  34.4754,2,  34.4789,4,    258.9,2,    257.0,2,     1.70,2,     0.08,2,     0.00,2,     0.05,2,    2.677,2,    1.462,2,   1993.6,2,   2276.5,2,   8.0044,4,    25.00,     0.18,2,     0.05,2,  18.5693,2,       52
  49RY20120726,   40N,    54,  1,     34,     83,2,20120829,2243, 37.0250, 169.9998, 5225,    101.9,  15.1245,  15.1235,2,  34.5141,2,  34.5130,2,    228.7,2,    228.8,2,     6.07,2,     4.72,2,     0.28,2,     0.40,2,    2.675,2,    1.513,2,   2044.0,2,   2279.4,2,   7.9222,4,    25.00,     0.26,2,     0.30,2,  15.1235,2,       50
  49RY20120726,   40N,    54,  1,     33,     86,2,20120829,2243, 37.0250, 169.9998, 5225,    153.1,  13.6851,  13.6859,2,  34.4781,2,  34.4789,2,    178.6,2,    177.7,2,    17.55,2,    12.86,2,     0.00,2,     0.91,2,    2.456,2,    1.382,2,   2096.2,2,   2282.6,2,   7.8119,4,    25.00,     0.01,2,     0.02,2,  13.6859,2,       48
  49RY20120726,   40N,    54,  1,     32,    105,2,20120829,2243, 37.0250, 169.9998, 5225,    203.8,  12.4438,  12.4432,2,  34.3938,2,  34.3941,2,    197.0,2,    196.4,6,    18.09,6,    13.11,6,     0.00,6,     0.93,6,    2.659,2,    1.484,2,   2097.0,2,   2279.2,2,   7.8069,4,    25.00,     0.00,2,     0.02,2,  12.4432,2,       45
  49RY20120726,   40N,    54,  1,     31,     76,2,20120829,2243, 37.0250, 169.9998, 5225,    252.8,  11.2776,  11.2759,2,  34.2862,2,  34.2872,2,    211.6,2,    211.6,2,    18.99,2,    13.41,2,     0.00,2,     0.96,2,    2.866,2,    1.601,2,   2100.2,6,   2275.1,6,   7.7938,4,    25.00,  -999.00,9,  -999.00,9,  11.2759,2,       44
  49RY20120726,   40N,    54,  1,     30,     97,2,20120829,2243, 37.0250, 169.9998, 5225,    333.1,   9.3526,   9.3512,2,  34.1259,2,  34.1263,2,    194.7,2,    195.2,2,    28.92,2,    18.37,2,     0.00,2,     1.32,2,    2.932,6,    1.611,6,   2134.3,2,   2277.7,2,   7.7119,4,    25.00,  -999.00,9,  -999.00,9,   9.3512,2,       41
  49RY20120726,   40N,    54,  1,     29,    102,2,20120829,2243, 37.0250, 169.9998, 5225,    436.7,   6.9829,   6.9827,2,  34.0232,2,  34.0243,2,    156.1,2,    156.3,2,    49.63,2,    26.40,2,     0.00,2,     1.91,2,    2.663,2,    1.397,2,   2193.8,2,   2287.6,2,   7.5809,4,    25.00,  -999.00,9,  -999.00,9,   6.9827,2,       39
  49RY20120726,   40N,    54,  1,     28,     91,2,20120829,2243, 37.0250, 169.9998, 5225,    536.4,   5.4402,   5.4399,2,  34.0107,2,  34.0107,2,    121.3,2,    121.3,2,    69.88,2,    32.34,2,     0.00,2,     2.35,2,    2.232,2,    1.159,2,   2245.3,2,   2300.4,2,   7.4770,4,    25.00,  -999.00,9,  -999.00,9,   5.4399,2,       36
  49RY20120726,   40N,    54,  1,     27,    998,2,20120829,2243, 37.0250, 169.9998, 5225,    635.6,   4.7394,   4.7402,2,  34.0841,2,  34.0850,2,     86.4,2,     86.7,2,    86.76,2,    36.60,2,     0.00,2,     2.64,2,    1.591,6,    0.807,6,   2280.3,2,   2318.7,2,   7.4082,4,    25.00,  -999.00,9,  -999.00,9,   4.7402,2,       34
  49RY20120726,   40N,    54,  1,     26,     84,2,20120829,2243, 37.0250, 169.9998, 5225,    635.6,   4.7394,   4.7402,2,  34.0841,2,  34.0848,2,     86.4,2,     86.4,2,    87.05,2,    36.59,2,     0.00,2,     2.65,2,    1.582,2,    0.810,2,   2283.3,2,   2316.8,2,   7.4008,4,    25.00,  -999.00,9,  -999.00,9,   4.7402,2,       33
  49RY20120726,   40N,    54,  1,     25,     98,2,20120829,2243, 37.0250, 169.9998, 5225,    738.1,   4.2546,   4.2546,2,  34.1702,2,  34.1699,2,     61.4,2,     61.2,2,   101.89,2,    39.26,2,     0.00,2,     2.82,2,    1.042,2,    0.517,2,   2312.5,6,   2332.7,6,   7.3648,4,    25.00,  -999.00,9,  -999.00,9,   4.2546,2,       31
  49RY20120726,   40N,    54,  1,     24,    110,2,20120829,2243, 37.0250, 169.9998, 5225,    837.7,   3.9136,   3.9138,2,  34.2360,2,  34.2358,2,     48.1,2,     48.1,2,   112.08,2,    40.92,2,     0.00,2,     2.92,2,    0.666,2,    0.314,2,   2329.5,2,   2347.4,2,   7.3445,4,    25.00,  -999.00,9,  -999.00,9,   3.9138,2,       26
  49RY20120726,   40N,    54,  1,     23,     96,2,20120829,2243, 37.0250, 169.9998, 5225,    941.0,   3.6013,   3.6020,2,  34.2938,2,  34.2928,2,     39.9,2,     40.0,2,   121.89,2,    41.86,2,     0.00,2,     2.99,2,    0.414,2,    0.188,2,   2345.8,2,   2357.4,2,   7.3316,4,    25.00,  -999.00,9,  -999.00,9,   3.6020,2,       23
  49RY20120726,   40N,    54,  1,     22,    111,2,20120829,2243, 37.0250, 169.9998, 5225,   1082.4,   3.2267,   3.2268,2,  34.3587,2,  34.3585,2,     32.7,2,     32.8,2,   133.37,2,    42.86,2,     0.00,2,     3.05,2,    0.212,2,    0.093,2,   2362.2,2,   2372.0,2,   7.3222,4,    25.00,  -999.00,9,  -999.00,9,   3.2268,2,       19
  49RY20120726,   40N,    54,  1,     21,     78,2,20120829,2243, 37.0250, 169.9998, 5225,   1285.0,   2.8185,   2.8182,2,  34.4334,2,  34.4340,2,     35.8,2,     35.7,2,   145.47,2,    43.00,2,     0.00,2,     3.05,2,    0.104,2,    0.045,2,   2373.0,2,   2386.7,2,   7.3372,4,    25.00,  -999.00,9,  -999.00,9,   2.8182,2,       15
  49RY20120726,   40N,    54,  1,     20,     93,2,20120829,2243, 37.0250, 169.9998, 5225,   1488.6,   2.4956,   2.4943,2,  34.4941,2,  34.4933,6,     37.0,2,     37.4,2,   154.34,2,    43.31,2,     0.00,2,     3.06,2,    0.017,2,    0.017,2,   2389.3,2,   2400.8,3,   7.3384,4,    25.00,  -999.00,9,  -999.00,9,   2.4943,2,        9
  49RY20120726,   40N,    54,  1,     19,     92,2,20120829,2243, 37.0250, 169.9998, 5225,   1692.1,   2.2564,   2.2563,2,  34.5325,2,  34.5321,2,     46.8,2,     46.8,6,   160.38,6,    42.54,6,     0.00,6,     3.02,6,    0.009,2,    0.011,2,   2386.5,2,   2402.0,2,   7.3592,4,    25.00,  -999.00,9,  -999.00,9,   2.2563,2,        5
  49RY20120726,   40N,    54,  1,     18,    101,2,20120829,2243, 37.0250, 169.9998, 5225,   1894.5,   2.0747,   2.0746,2,  34.5610,2,  34.5615,2,     56.6,2,     56.5,2,   164.68,2,    41.96,2,     0.00,2,     2.97,2,    0.010,2,    0.000,2,   2383.7,2,   2408.3,2,   7.3790,4,    25.00,  -999.00,9,  -999.00,9,   2.0746,2,        0
  49RY20120726,   40N,    54,  1,     17,     90,2,20120829,2243, 37.0250, 169.9998, 5225,   2097.8,   1.9236,   1.9235,2,  34.5916,2,  34.5916,2,     70.2,2,     70.6,2,   165.72,2,    41.30,2,     0.00,2,     2.91,2,    0.002,2,    0.000,2,   2377.0,2,   2411.2,2,   7.4076,4,    25.00,  -999.00,9,  -999.00,9,   1.9235,2,     2354
  49RY20120726,   40N,    54,  1,     16,     89,2,20120829,2243, 37.0250, 169.9998, 5225,   2301.6,   1.8104,   1.8103,2,  34.6135,2,  34.6130,2,     83.5,2,     83.8,2,   164.85,2,    40.38,2,     0.00,2,     2.85,2, -999.000,9, -999.000,9,   2367.6,2,   2417.1,2,   7.4346,4,    25.00,  -999.00,9,  -999.00,9,   1.8103,2,     2350
  49RY20120726,   40N,    54,  1,     15,     88,4,20120829,2243, 37.0250, 169.9998, 5225,   2506.5,   1.7152,   1.7151,2,  34.6307,2,  34.1707,4,     96.6,2,     62.0,4,   101.70,4,    39.14,4,     0.00,4,     2.83,4, -999.000,9, -999.000,9,   2310.8,4,   2326.1,4,   7.3589,4,    25.00,  -999.00,9,  -999.00,9,   1.7151,2,     2344
  49RY20120726,   40N,    54,  1,     14,    999,3,20120829,2243, 37.0250, 169.9998, 5225,   2709.1,   1.6370,   1.6368,2,  34.6445,2,  34.6450,2,    108.5,2,    109.2,2,   161.56,2,    38.77,2,     0.00,2,     2.72,2,    0.000,2,    0.000,2,   2352.8,2,   2415.2,2,   7.4825,4,    25.00,  -999.00,9,  -999.00,9,   1.6368,2,     2340
  49RY20120726,   40N,    54,  1,     13,    667,3,20120829,2243, 37.0250, 169.9998, 5225,   2914.5,   1.5770,   1.5769,2,  34.6553,2,  34.6539,2,    118.7,2,    118.3,2,   159.34,2,    38.20,2,     0.00,2,     2.68,2, -999.000,9, -999.000,9,   2347.0,2,   2420.9,2,   7.5002,4,    25.00,  -999.00,9,  -999.00,9,   1.5769,2,     2335
  49RY20120726,   40N,    54,  1,     12,     74,2,20120829,2243, 37.0250, 169.9998, 5225,   2914.5,   1.5769,   1.5768,2,  34.6552,2,  34.6551,2,    118.7,2,    119.1,2,   159.41,2,    38.29,2,     0.00,2,     2.68,2, -999.000,9, -999.000,9,   2355.4,3,   2419.5,2,   7.5020,4,    25.00,  -999.00,9,  -999.00,9,   1.5768,2,     2334
  49RY20120726,   40N,    54,  1,     11,    996,4,20120829,2243, 37.0250, 169.9998, 5225,   3129.0,   1.5348,   1.5348,2,  34.6632,2,-999.0000,9,    126.9,2,   -999.0,9,  -999.00,9,  -999.00,9,  -999.00,9,  -999.00,9, -999.000,9, -999.000,9,   -999.0,9,   -999.0,9,-999.0000,9,  -999.00,  -999.00,9,  -999.00,9,   1.5348,2,     2330
  49RY20120726,   40N,    54,  1,     10,    107,2,20120829,2243, 37.0250, 169.9998, 5225,   3383.5,   1.4939,   1.4939,2,  34.6711,2,  34.6698,2,    135.7,2,    135.5,6,   155.45,6,    37.15,6,     0.00,6,     2.59,6, -999.000,9, -999.000,9,   2340.0,2,   2418.6,2,   7.5326,4,    25.00,  -999.00,9,  -999.00,9,   1.4939,2,     2324
  49RY20120726,   40N,    54,  1,      9,    108,2,20120829,2243, 37.0250, 169.9998, 5225,   3641.1,   1.4754,   1.4754,2,  34.6762,2,  34.6763,6,    141.7,2,    141.9,2,   154.17,2,    36.78,2,     0.00,2,     2.55,2,    0.000,2,    0.000,2,   2335.0,2,   2420.5,2,   7.5439,4,    25.00,  -999.00,9,  -999.00,9,   1.4754,2,     2319
  49RY20120726,   40N,    54,  1,      8,     81,3,20120829,2243, 37.0250, 169.9998, 5225,   3895.9,   1.4626,   1.4625,2,  34.6806,2,  34.6799,2,    146.8,2,    146.6,2,   153.10,2,    36.43,2,     0.00,2,     2.53,2, -999.000,9, -999.000,9,   2329.1,2,   2422.9,3,   7.5527,4,    25.00,  -999.00,9,  -999.00,9,   1.4625,2,     2313
  49RY20120726,   40N,    54,  1,      7,    106,2,20120829,2243, 37.0250, 169.9998, 5225,   4151.3,   1.4614,   1.4613,2,  34.6837,2,  34.6838,2,    150.9,2,    151.0,2,   151.96,2,    35.93,2,     0.00,2,     2.51,2, -999.000,9, -999.000,9,   2326.7,2,   2420.2,2,   7.5620,4,    25.00,  -999.00,9,  -999.00,9,   1.4613,2,     2308
  49RY20120726,   40N,    54,  1,      6,    113,2,20120829,2243, 37.0250, 169.9998, 5225,   4409.3,   1.4679,   1.4679,2,  34.6864,2,  34.6861,2,    153.8,2,    153.4,2,   151.70,2,    35.75,2,     0.00,2,     2.49,2, -999.000,9, -999.000,9,   2327.1,2,   2415.8,2,   7.5673,4,    25.00,  -999.00,9,  -999.00,9,   1.4679,2,     2303
  49RY20120726,   40N,    54,  1,      5,     94,2,20120829,2243, 37.0250, 169.9998, 5225,   4409.3,   1.4679,   1.4679,2,  34.6864,2,  34.6855,2,    153.8,2,    154.2,2,   151.52,2,    35.76,2,     0.00,2,     2.49,2, -999.000,9, -999.000,9,   2325.2,2,   2414.2,2,   7.5658,4,    25.00,  -999.00,9,  -999.00,9,   1.4679,2,     2302
  49RY20120726,   40N,    54,  1,      4,     77,2,20120829,2243, 37.0250, 169.9998, 5225,   4665.1,   1.4838,   1.4838,2,  34.6879,2,  34.6873,2,    155.8,2,    156.4,2,   151.26,2,    35.58,2,     0.00,2,     2.47,2, -999.000,9, -999.000,9,   2327.1,6,   2416.4,6,   7.5705,4,    25.00,  -999.00,9,  -999.00,9,   1.4838,2,     2257
  49RY20120726,   40N,    54,  1,      3,    104,2,20120829,2243, 37.0250, 169.9998, 5225,   4922.1,   1.5073,   1.5073,2,  34.6888,2,  34.6893,2,    156.8,2,    157.2,2,   151.31,2,    35.52,2,     0.00,2,     2.47,2,    0.003,2,    0.000,2,   2326.2,2,   2418.4,2,   7.5730,4,    25.00,  -999.00,9,  -999.00,9,   1.5073,2,     2252
  49RY20120726,   40N,    54,  1,      2,     75,2,20120829,2243, 37.0250, 169.9998, 5225,   5179.9,   1.5312,   1.5311,2,  34.6896,2,  34.6897,2,    158.4,2,    158.5,6,   149.46,6,    35.55,6,     0.00,6,     2.46,6, -999.000,9, -999.000,9,   2325.6,2,   2420.6,2,   7.5738,4,    25.00,  -999.00,9,  -999.00,9,   1.5311,2,     2247
  49RY20120726,   40N,    54,  1,      1,    997,2,20120829,2243, 37.0250, 169.9998, 5225,   5315.7,   1.5342,   1.5341,2,  34.6908,2,  34.6904,6,    161.1,2,    162.5,2,   146.92,2,    35.29,2,     0.00,2,     2.45,2,    0.000,2,    0.013,4,   2319.5,2,   2415.7,2,   7.5786,4,    25.00,  -999.00,9,  -999.00,9,   1.5341,2,     2243