BOTTLE,20210419PRINUNIVRMK
EXPOCODE,SECT_ID,STNNBR,CASTNO,SAMPNO,BTLNBR,BTLNBR_FLAG_W,DATE,TIME,LATITUDE,LONGITUDE,DEPTH,CTDPRS,CTDTMP,SBE35,SBE35_FLAG_W,CTDSAL,CTDSAL_FLAG_W,SALNTY,SALNTY_FLAG_W,CTDOXY,CTDOXY_FLAG_W,OXYGEN,OXYGEN_FLAG_W,SILCAT,SILCAT_FLAG_W,NITRAT,NITRAT_FLAG_W,NITRIT,NITRIT_FLAG_W,PHSPHT,PHSPHT_FLAG_W,CFC-11,CFC-11_FLAG_W,CFC-12,CFC-12_FLAG_W,TCARBN,TCARBN_FLAG_W,ALKALI,ALKALI_FLAG_W,PH_TOT,PH_TOT_FLAG_W,PH_TMP,CHLORA,CHLORA_FLAG_W,PPHYTN,PPHYTN_FLAG_W,SBE35,SBE35_FLAG_W,BTL_TIME
,,,,,,,,,,,METERS,DBAR,ITS-90,,,PSS-78,,PSS-78,,UMOL/KG,,UMOL/KG,,UMOL/KG,,UMOL/KG,,UMOL/KG,,UMOL/KG,,PMOL/KG,,PMOL/KG,,UMOL/KG,,UMOL/KG,,,,DEG C,UG/KG,,UG/KG,,,,
  49RY20120726,   40N,    60,  1,     36,    109,2,20120831,1612, 33.9888, 169.9992, 5646,     10.7,  26.0634,  26.0580,2,  34.7808,2,  34.7800,2,    207.2,2,    207.4,2,     1.86,2,     0.02,2,     0.00,2,     0.02,2,    1.776,2,    1.054,2,   1981.9,2,   2283.8,2,   8.0419,4,    25.00,     0.07,2,     0.01,2,  26.0580,2,     1841
  49RY20120726,   40N,    60,  1,     35,    112,2,20120831,1612, 33.9888, 169.9992, 5646,     53.0,  20.1468,  20.1445,2,  34.6892,2,  34.6867,4,    244.1,2,    243.5,2,     2.20,2,     0.02,2,     0.00,2,     0.02,2,    2.537,2,    1.359,2,   1990.1,2,   2278.1,2,   8.0198,4,    25.00,     0.12,2,     0.03,2,  20.1445,2,     1837
  49RY20120726,   40N,    60,  1,     34,     83,2,20120831,1612, 33.9888, 169.9992, 5646,    100.4,  17.7167,  17.7201,2,  34.7273,2,  34.7267,2,    239.3,2,    238.3,2,     2.53,2,     0.02,2,     0.01,2,     0.07,2,    2.483,2,    1.438,2,   2012.7,2,   2283.9,2,   7.9934,4,    25.00,     0.21,2,     0.28,2,  17.7201,2,     1835
  49RY20120726,   40N,    60,  1,     33,     86,2,20120831,1612, 33.9888, 169.9992, 5646,    152.9,  17.0370,  17.0369,2,  34.7135,2,  34.7129,2,    220.0,2,    219.5,2,     3.79,2,     3.81,2,     0.02,2,     0.26,2,    2.371,2,    1.409,2,   2027.0,2,   2279.8,2,   7.9557,4,    25.00,     0.06,2,     0.13,2,  17.0369,2,     1834
  49RY20120726,   40N,    60,  1,     32,    105,2,20120831,1612, 33.9888, 169.9992, 5646,    203.1,  16.7580,  16.7574,2,  34.6988,2,  34.6983,2,    221.9,2,    221.4,2,     4.24,2,     4.10,2,     0.01,2,     0.28,2,    2.401,2,    1.429,2,   2029.4,2,   2281.1,2,   7.9526,4,    25.00,     0.01,2,     0.01,2,  16.7574,2,     1821
  49RY20120726,   40N,    60,  1,     31,     76,2,20120831,1612, 33.9888, 169.9992, 5646,    252.2,  16.3273,  16.3272,2,  34.6589,2,  34.6581,2,    215.4,2,    214.9,2,     5.57,2,     5.39,2,     0.01,2,     0.37,2,    2.431,2,    1.441,2,   2037.4,6,   2279.0,6,   7.9340,4,    25.00,  -999.00,9,  -999.00,9,  16.3272,2,     1816
  49RY20120726,   40N,    60,  1,     30,     97,2,20120831,1612, 33.9888, 169.9992, 5646,    335.8,  14.6707,  14.6698,2,  34.5379,2,  34.5424,4,    193.7,2,    193.3,2,    11.43,2,     9.89,2,     0.00,2,     0.69,2,    2.524,6,    1.472,6,   2073.4,2,   2278.2,2,   7.8568,4,    25.00,  -999.00,9,  -999.00,9,  14.6698,2,     1814
  49RY20120726,   40N,    60,  1,     29,    102,2,20120831,1612, 33.9888, 169.9992, 5646,    437.0,  12.0812,  12.0649,2,  34.3545,2,  34.3567,2,    205.2,2,    205.4,6,    17.09,6,    12.78,6,     0.00,6,     0.91,6,    2.757,2,    1.573,2,   2096.9,2,   2276.4,2,   7.8081,4,    25.00,  -999.00,9,  -999.00,9,  12.0649,2,     1811
  49RY20120726,   40N,    60,  1,     28,     91,2,20120831,1612, 33.9888, 169.9992, 5646,    536.2,   9.2185,   9.2181,2,  34.1417,2,  34.1367,4,    242.7,2,    237.6,2,    22.49,2,    14.60,2,     0.00,2,     1.08,2,    3.233,2,    1.820,2,   2114.0,2,   2272.1,2,   7.7684,4,    25.00,  -999.00,9,  -999.00,9,   9.2181,2,     1809
  49RY20120726,   40N,    60,  1,     27,    998,2,20120831,1612, 33.9888, 169.9992, 5646,    636.4,   6.7400,   6.7383,2,  34.0161,2,  34.0152,2,    152.6,2,    150.7,2,    53.13,2,    27.57,2,     0.00,2,     2.01,2,    2.573,6,    1.386,6,   2203.3,2,   2287.4,2,   7.5630,4,    25.00,  -999.00,9,  -999.00,9,   6.7383,2,     1806
  49RY20120726,   40N,    60,  1,     26,     84,2,20120831,1612, 33.9888, 169.9992, 5646,    636.4,   6.7400,   6.7383,2,  34.0161,2,  34.0153,2,    152.6,2,    150.6,2,    53.30,2,    27.60,2,     0.00,2,     2.02,2,    2.564,2,    1.367,2,   2207.2,2,   2287.2,2,   7.5588,4,    25.00,  -999.00,9,  -999.00,9,   6.7383,2,     1806
  49RY20120726,   40N,    60,  1,     25,     98,2,20120831,1612, 33.9888, 169.9992, 5646,    737.2,   5.0979,   5.0981,2,  34.0071,2,  34.0082,2,    114.5,2,    114.0,2,    75.04,2,    33.75,2,     0.00,2,     2.45,2,    2.147,2,    1.137,2,   2255.9,2,   2302.8,2,   7.4494,4,    25.00,  -999.00,9,  -999.00,9,   5.0981,2,     1804
  49RY20120726,   40N,    60,  1,     24,    110,2,20120831,1612, 33.9888, 169.9992, 5646,    839.2,   4.4994,   4.4994,2,  34.1316,2,  34.1320,2,     73.0,2,     72.9,2,    95.35,2,    38.08,2,     0.00,2,     2.74,2,    1.317,2,    0.670,2,   2299.5,2,   2325.9,2,   7.3848,4,    25.00,  -999.00,9,  -999.00,9,   4.4994,2,     1759
  49RY20120726,   40N,    60,  1,     23,     96,3,20120831,1612, 33.9888, 169.9992, 5646,    939.7,   4.0348,   4.0348,2,  34.2283,2,  34.2293,2,     53.5,2,     53.5,2,   110.05,2,    40.16,2,     0.00,2,     2.89,2,    0.763,2,    0.381,2,   2329.4,2,   2341.9,2,   7.3573,4,    25.00,  -999.00,9,  -999.00,9,   4.0348,2,     1757
  49RY20120726,   40N,    60,  1,     22,    111,2,20120831,1612, 33.9888, 169.9992, 5646,   1082.0,   3.5120,   3.5114,2,  34.3139,2,  34.3139,2,     38.8,2,     38.9,2,   125.32,2,    42.06,2,     0.00,2,     3.01,2,    0.357,2,    0.172,2,   2355.6,6,   2361.4,6,   7.3326,4,    25.00,  -999.00,9,  -999.00,9,   3.5114,2,     1753
  49RY20120726,   40N,    60,  1,     21,     78,2,20120831,1612, 33.9888, 169.9992, 5646,   1284.5,   2.9390,   2.9389,2,  34.4102,2,  34.4120,2,     31.9,2,     32.9,2,   142.97,2,    43.18,2,     0.00,2,     3.08,2,    0.125,2,    0.062,2,   2377.7,2,   2381.7,2,   7.3266,4,    25.00,  -999.00,9,  -999.00,9,   2.9389,2,     1749
  49RY20120726,   40N,    60,  1,     20,     93,2,20120831,1612, 33.9888, 169.9992, 5646,   1486.4,   2.5780,   2.5780,2,  34.4785,2,  34.4789,2,     35.2,2,     35.8,2,   153.08,2,    43.28,2,     0.00,2,     3.08,2,    0.055,2,    0.037,2,   2382.0,2,   2395.6,2,   7.3364,4,    25.00,  -999.00,9,  -999.00,9,   2.5780,2,     1743
  49RY20120726,   40N,    60,  1,     19,     92,2,20120831,1612, 33.9888, 169.9992, 5646,   1690.0,   2.3154,   2.3152,2,  34.5266,2,  34.5267,2,     44.9,2,     45.3,2,   159.62,2,    42.83,2,     0.00,2,     3.04,2,    0.030,2,    0.026,2,   2382.0,2,   2403.6,2,   7.3576,4,    25.00,  -999.00,9,  -999.00,9,   2.3152,2,     1738
  49RY20120726,   40N,    60,  1,     18,    101,2,20120831,1612, 33.9888, 169.9992, 5646,   1892.7,   2.1180,   2.1182,2,  34.5600,2,  34.5612,2,     55.6,2,     56.3,2,   163.73,2,    42.19,2,     0.00,2,     2.99,2,    0.017,2,    0.016,2,   2377.5,2,   2408.9,2,   7.3761,4,    25.00,  -999.00,9,  -999.00,9,   2.1182,2,     1734
  49RY20120726,   40N,    60,  1,     17,     90,2,20120831,1612, 33.9888, 169.9992, 5646,   2096.4,   1.9569,   1.9570,2,  34.5885,2,  34.5888,6,     69.1,2,     69.4,6,   165.14,6,    41.42,6,     0.00,6,     2.93,6,    0.007,2,    0.013,2,   2378.6,2,   2413.5,2,   7.4057,4,    25.00,  -999.00,9,  -999.00,9,   1.9570,2,     1728
  49RY20120726,   40N,    60,  1,     16,     89,2,20120831,1612, 33.9888, 169.9992, 5646,   2299.6,   1.8140,   1.8140,2,  34.6137,2,  34.6141,2,     84.3,2,     84.4,2,   164.98,2,    40.46,2,     0.00,2,     2.85,2,    0.009,2,    0.009,2,   2369.4,2,   2415.7,2,   7.4356,4,    25.00,  -999.00,9,  -999.00,9,   1.8140,2,     1724
  49RY20120726,   40N,    60,  1,     15,     88,2,20120831,1612, 33.9888, 169.9992, 5646,   2503.9,   1.7197,   1.7202,2,  34.6308,2,  34.6307,2,     97.1,2,     97.3,2,   163.27,2,    39.61,2,     0.00,2,     2.79,2, -999.000,9, -999.000,9,   2363.0,2,   2417.7,2,   7.4574,4,    25.00,  -999.00,9,  -999.00,9,   1.7202,2,     1718
  49RY20120726,   40N,    60,  1,     14,    999,2,20120831,1612, 33.9888, 169.9992, 5646,   2707.1,   1.6520,   1.6519,2,  34.6426,2,  34.6435,2,    107.3,2,    107.9,2,   161.89,2,    38.98,2,     0.00,2,     2.74,2, -999.000,9, -999.000,9,   2356.1,2,   2420.0,2,   7.4809,4,    25.00,  -999.00,9,  -999.00,9,   1.6519,2,     1713
  49RY20120726,   40N,    60,  1,     13,    667,2,20120831,1612, 33.9888, 169.9992, 5646,   2912.0,   1.5926,   1.5926,2,  34.6533,2,  34.6536,6,    117.1,2,    117.5,2,   159.97,2,    38.31,2,     0.00,2,     2.69,2, -999.000,9, -999.000,9,   2351.7,2,   2419.1,2,   7.5003,4,    25.00,  -999.00,9,  -999.00,9,   1.5926,2,     1709
  49RY20120726,   40N,    60,  1,     12,     74,2,20120831,1612, 33.9888, 169.9992, 5646,   3125.8,   1.5441,   1.5441,2,  34.6620,2,  34.6621,2,    125.9,2,    126.2,2,   158.10,2,    37.73,2,     0.00,2,     2.65,2, -999.000,9, -999.000,9,   2347.2,2,   2419.8,2,   7.5113,4,    25.00,  -999.00,9,  -999.00,9,   1.5441,2,     1705
  49RY20120726,   40N,    60,  1,     11,    996,2,20120831,1612, 33.9888, 169.9992, 5646,   3381.9,   1.5112,   1.5114,2,  34.6690,2,  34.6686,2,    133.5,2,    133.9,2,   156.11,2,    37.31,2,     0.00,2,     2.60,2,    0.002,2,    0.007,2,   2340.6,6,   2419.8,6,   7.5285,4,    25.00,  -999.00,9,  -999.00,9,   1.5114,2,     1700
  49RY20120726,   40N,    60,  1,     10,    107,2,20120831,1612, 33.9888, 169.9992, 5646,   3636.9,   1.4845,   1.4847,2,  34.6752,2,  34.6753,2,    140.7,2,    140.4,2,   154.44,2,    36.80,2,     0.00,2,     2.57,2, -999.000,9, -999.000,9,   2336.8,2,   2419.5,2,   7.5410,4,    25.00,  -999.00,9,  -999.00,9,   1.4847,2,     1655
  49RY20120726,   40N,    60,  1,      9,    108,2,20120831,1612, 33.9888, 169.9992, 5646,   3636.9,   1.4845,   1.4847,2,  34.6752,2,  34.6756,2,    140.7,2,    141.3,6,   154.45,6,    36.80,6,     0.00,6,     2.57,6, -999.000,9, -999.000,9,   2341.3,2,   2418.1,2,   7.5392,4,    25.00,  -999.00,9,  -999.00,9,   1.4847,2,     1655
  49RY20120726,   40N,    60,  1,      8,     81,2,20120831,1612, 33.9888, 169.9992, 5646,   3894.4,   1.4685,   1.4685,2,  34.6800,2,  34.6785,4,    146.3,2,    146.0,2,   153.01,2,    36.45,2,     0.00,2,     2.54,2, -999.000,9, -999.000,9,   2333.5,2,   2418.3,2,   7.5516,4,    25.00,  -999.00,9,  -999.00,9,   1.4685,2,     1649
  49RY20120726,   40N,    60,  1,      7,    106,2,20120831,1612, 33.9888, 169.9992, 5646,   4151.2,   1.4650,   1.4652,2,  34.6834,2,  34.6819,4,    150.7,2,    149.8,2,   151.77,2,    36.19,2,     0.00,2,     2.52,2,    0.010,2,    0.008,2,   2328.2,2,   2417.6,2,   7.5571,4,    25.00,  -999.00,9,  -999.00,9,   1.4652,2,     1644
  49RY20120726,   40N,    60,  1,      6,    113,2,20120831,1612, 33.9888, 169.9992, 5646,   4407.6,   1.4709,   1.4711,2,  34.6859,2,  34.6860,6,    153.8,2,    154.3,2,   151.10,2,    35.87,2,     0.00,2,     2.50,2, -999.000,9, -999.000,9,   2330.4,2,   2417.6,6,   7.5631,4,    25.00,  -999.00,9,  -999.00,9,   1.4711,2,     1639
  49RY20120726,   40N,    60,  1,      5,     94,2,20120831,1612, 33.9888, 169.9992, 5646,   4663.6,   1.4810,   1.4811,2,  34.6880,2,  34.6877,2,    156.7,2,    157.4,2,   150.14,2,    35.66,2,     0.00,2,     2.48,2, -999.000,9, -999.000,9,   2326.9,2,   2416.6,2,   7.5685,4,    25.00,  -999.00,9,  -999.00,9,   1.4811,2,     1634
  49RY20120726,   40N,    60,  1,      4,     77,2,20120831,1612, 33.9888, 169.9992, 5646,   4922.5,   1.4914,   1.4915,2,  34.6899,2,  34.6901,2,    160.5,2,    160.8,6,   146.87,6,    35.35,6,     0.00,6,     2.46,6, -999.000,9, -999.000,9,   2326.9,2,   2416.7,2,   7.5715,4,    25.00,  -999.00,9,  -999.00,9,   1.4915,2,     1629
  49RY20120726,   40N,    60,  1,      3,    104,2,20120831,1612, 33.9888, 169.9992, 5646,   5179.6,   1.4934,   1.4934,2,  34.6925,2,  34.6918,2,    165.9,2,    166.0,2,   141.76,2,    34.97,2,     0.00,2,     2.43,2, -999.000,9, -999.000,9,   2315.9,2,   2411.4,2,   7.5823,4,    25.00,  -999.00,9,  -999.00,9,   1.4934,2,     1624
  49RY20120726,   40N,    60,  1,      2,     75,2,20120831,1612, 33.9888, 169.9992, 5646,   5436.5,   1.5068,   1.5070,2,  34.6941,2,  34.6943,2,    169.3,2,    169.7,2,   138.54,2,    34.72,2,     0.00,2,     2.40,2,    0.014,2,    0.010,2,   2309.0,2,   2409.3,2,   7.5683,4,    25.00,  -999.00,9,  -999.00,9,   1.5070,2,     1619
  49RY20120726,   40N,    60,  1,      1,    997,2,20120831,1612, 33.9888, 169.9992, 5646,   5755.1,   1.5369,   1.5366,2,  34.6948,2,  34.6953,2,    171.4,2,    171.9,2,   136.48,2,    34.57,2,     0.00,2,     2.40,2,    0.006,2,    0.000,2,   2297.8,2,   2404.9,2,   7.5884,4,    25.00,  -999.00,9,  -999.00,9,   1.5366,2,     1613