BOTTLE,20210419PRINUNIVRMK
EXPOCODE,SECT_ID,STNNBR,CASTNO,SAMPNO,BTLNBR,BTLNBR_FLAG_W,DATE,TIME,LATITUDE,LONGITUDE,DEPTH,CTDPRS,CTDTMP,SBE35,SBE35_FLAG_W,CTDSAL,CTDSAL_FLAG_W,SALNTY,SALNTY_FLAG_W,CTDOXY,CTDOXY_FLAG_W,OXYGEN,OXYGEN_FLAG_W,SILCAT,SILCAT_FLAG_W,NITRAT,NITRAT_FLAG_W,NITRIT,NITRIT_FLAG_W,PHSPHT,PHSPHT_FLAG_W,CFC-11,CFC-11_FLAG_W,CFC-12,CFC-12_FLAG_W,TCARBN,TCARBN_FLAG_W,ALKALI,ALKALI_FLAG_W,PH_TOT,PH_TOT_FLAG_W,PH_TMP,CHLORA,CHLORA_FLAG_W,PPHYTN,PPHYTN_FLAG_W,SBE35,SBE35_FLAG_W,BTL_TIME
,,,,,,,,,,,METERS,DBAR,ITS-90,,,PSS-78,,PSS-78,,UMOL/KG,,UMOL/KG,,UMOL/KG,,UMOL/KG,,UMOL/KG,,UMOL/KG,,PMOL/KG,,PMOL/KG,,UMOL/KG,,UMOL/KG,,,,DEG C,UG/KG,,UG/KG,,,,
  49RY20120726,   40N,    49,  1,     13,    667,2,20120828,0944, 39.4878, 169.9967, 5816,     11.2,  22.4092,  22.5548,2,  34.2056,2,  34.2076,2,    220.9,2,    223.5,2,     1.50,2,     0.10,2,     0.00,2,     0.07,2, -999.000,9, -999.000,9,   -999.0,9,   -999.0,9,-999.0000,9,  -999.00,  -999.00,9,  -999.00,9,  22.5548,2,     1228
  49RY20120726,   40N,    49,  1,     36,    109,2,20120828,0944, 39.4878, 169.9967, 5816,     53.7,  13.1310,  13.1240,2,  34.3401,2,  34.3415,2,    253.4,2,    255.3,2,     7.66,2,     5.81,2,     0.24,2,     0.49,2, -999.000,9, -999.000,9,   -999.0,9,   -999.0,9,-999.0000,9,  -999.00,  -999.00,9,  -999.00,9,  13.1240,2,     1224
  49RY20120726,   40N,    49,  1,     35,    112,2,20120828,0944, 39.4878, 169.9967, 5816,    102.6,  11.1863,  11.1813,2,  34.2377,2,  34.2374,2,    237.7,2,    238.5,6,    14.94,6,    11.31,6,     0.03,6,     0.81,6, -999.000,9, -999.000,9,   -999.0,9,   -999.0,9,-999.0000,9,  -999.00,  -999.00,9,  -999.00,9,  11.1813,2,     1222
  49RY20120726,   40N,    49,  1,     34,     83,2,20120828,0944, 39.4878, 169.9967, 5816,    152.2,  10.2245,  10.2250,2,  34.1463,2,  34.1464,2,    236.6,2,    237.4,2,    17.88,2,    12.92,2,     0.02,2,     0.94,2, -999.000,9, -999.000,9,   -999.0,9,   -999.0,9,-999.0000,9,  -999.00,  -999.00,9,  -999.00,9,  10.2250,2,     1221
  49RY20120726,   40N,    49,  1,     33,     86,2,20120828,0944, 39.4878, 169.9967, 5816,    202.2,   9.5687,   9.5683,2,  34.0902,2,  34.0876,2,    228.3,2,    229.3,2,    21.40,2,    14.82,2,     0.01,2,     1.11,2, -999.000,9, -999.000,9,   -999.0,9,   -999.0,9,-999.0000,9,  -999.00,  -999.00,9,  -999.00,9,   9.5683,2,     1216
  49RY20120726,   40N,    49,  1,     32,    105,2,20120828,0944, 39.4878, 169.9967, 5816,    253.0,   8.6549,   8.6546,2,  34.0396,2,  34.0394,2,    207.8,2,    208.3,2,    28.78,2,    18.44,2,     0.01,2,     1.33,2, -999.000,9, -999.000,9,   -999.0,9,   -999.0,9,-999.0000,9,  -999.00,  -999.00,9,  -999.00,9,   8.6546,2,     1214
  49RY20120726,   40N,    49,  1,     31,     76,2,20120828,0944, 39.4878, 169.9967, 5816,    287.6,   7.7809,   7.7799,2,  33.9819,2,  33.9826,2,    195.4,2,    196.7,2,    35.00,2,    21.23,2,     0.01,2,     1.54,2, -999.000,9, -999.000,9,   -999.0,9,   -999.0,9,-999.0000,9,  -999.00,  -999.00,9,  -999.00,9,   7.7799,2,     1212
  49RY20120726,   40N,    49,  1,     30,     97,2,20120828,0944, 39.4878, 169.9967, 5816,    377.3,   6.1656,   6.1668,2,  33.9493,2,  33.9496,2,    153.4,2,    153.9,6,    54.42,6,    28.31,6,     0.01,6,     2.06,6, -999.000,9, -999.000,9,   -999.0,9,   -999.0,9,-999.0000,9,  -999.00,  -999.00,9,  -999.00,9,   6.1668,2,     1210
  49RY20120726,   40N,    49,  1,     29,    102,2,20120828,0944, 39.4878, 169.9967, 5816,    477.3,   5.1060,   5.1062,2,  33.9767,2,  33.9759,2,    117.1,2,    117.2,2,    72.10,2,    33.45,2,     0.00,2,     2.43,2, -999.000,9, -999.000,9,   -999.0,9,   -999.0,9,-999.0000,9,  -999.00,  -999.00,9,  -999.00,9,   5.1062,2,     1207
  49RY20120726,   40N,    49,  1,     28,     91,2,20120828,0944, 39.4878, 169.9967, 5816,    577.1,   4.5153,   4.5153,2,  34.0628,2,  34.0634,2,     80.5,2,     80.5,2,    89.38,2,    37.46,2,     0.00,2,     2.70,2, -999.000,9, -999.000,9,   -999.0,9,   -999.0,9,-999.0000,9,  -999.00,  -999.00,9,  -999.00,9,   4.5153,2,     1204
  49RY20120726,   40N,    49,  1,     27,    998,2,20120828,0944, 39.4878, 169.9967, 5816,    677.7,   4.0976,   4.0979,2,  34.1531,2,  34.1523,2,     55.7,2,     56.1,2,   104.10,2,    39.93,2,     0.00,2,     2.87,2, -999.000,9, -999.000,9,   -999.0,9,   -999.0,9,-999.0000,9,  -999.00,  -999.00,9,  -999.00,9,   4.0979,2,     1202
  49RY20120726,   40N,    49,  1,     26,     84,2,20120828,0944, 39.4878, 169.9967, 5816,    778.4,   3.7492,   3.7495,2,  34.2162,2,  34.2153,2,     42.8,2,     43.2,2,   115.75,2,    41.29,2,     0.00,2,     2.97,2, -999.000,9, -999.000,9,   -999.0,9,   -999.0,9,-999.0000,9,  -999.00,  -999.00,9,  -999.00,9,   3.7495,2,     1155
  49RY20120726,   40N,    49,  1,     25,     98,2,20120828,0944, 39.4878, 169.9967, 5816,    880.9,   3.4725,   3.4739,2,  34.2758,2,  34.2753,2,     36.4,2,     36.4,6,   125.24,6,    41.99,6,     0.00,6,     3.02,6, -999.000,9, -999.000,9,   -999.0,9,   -999.0,9,-999.0000,9,  -999.00,  -999.00,9,  -999.00,9,   3.4739,2,     1152
  49RY20120726,   40N,    49,  1,     24,    110,2,20120828,0944, 39.4878, 169.9967, 5816,    982.0,   3.1642,   3.1651,2,  34.3255,2,  34.3246,2,     32.8,2,     32.8,2,   135.16,2,    42.52,2,     0.00,2,     3.05,2, -999.000,9, -999.000,9,   -999.0,9,   -999.0,9,-999.0000,9,  -999.00,  -999.00,9,  -999.00,9,   3.1651,2,     1149
  49RY20120726,   40N,    49,  1,     23,     96,3,20120828,0944, 39.4878, 169.9967, 5816,   1144.1,   2.9127,   2.9125,2,  34.3879,2,  34.3878,2,     32.4,2,     32.1,2,   143.69,2,    42.78,2,     0.00,2,     3.06,2, -999.000,9, -999.000,9,   -999.0,9,   -999.0,9,-999.0000,9,  -999.00,  -999.00,9,  -999.00,9,   2.9125,2,     1144
  49RY20120726,   40N,    49,  1,     22,    111,2,20120828,0944, 39.4878, 169.9967, 5816,   1346.4,   2.6122,   2.6118,2,  34.4508,2,  34.4503,2,     34.2,2,     34.4,2,   153.11,2,    42.96,2,     0.00,2,     3.06,2, -999.000,9, -999.000,9,   -999.0,9,   -999.0,9,-999.0000,9,  -999.00,  -999.00,9,  -999.00,9,   2.6118,2,     1140
  49RY20120726,   40N,    49,  1,     21,     78,2,20120828,0944, 39.4878, 169.9967, 5816,   1549.9,   2.3427,   2.3428,2,  34.5034,2,  34.5037,6,     41.0,2,     41.1,2,   160.44,2,    42.69,2,     0.00,2,     3.03,2, -999.000,9, -999.000,9,   -999.0,9,   -999.0,9,-999.0000,9,  -999.00,  -999.00,9,  -999.00,9,   2.3428,2,     1121
  49RY20120726,   40N,    49,  1,     20,     93,2,20120828,0944, 39.4878, 169.9967, 5816,   1753.6,   2.1570,   2.1583,2,  34.5420,2,  34.5410,2,     50.6,2,     51.0,2,   164.23,2,    42.29,2,     0.00,2,     2.99,2, -999.000,9, -999.000,9,   -999.0,9,   -999.0,9,-999.0000,9,  -999.00,  -999.00,9,  -999.00,9,   2.1583,2,     1117
  49RY20120726,   40N,    49,  1,     19,     92,2,20120828,0944, 39.4878, 169.9967, 5816,   1958.2,   2.0083,   2.0082,2,  34.5730,2,  34.5730,2,     62.2,2,     62.0,2,   166.29,2,    41.52,2,     0.00,2,     2.94,2, -999.000,9, -999.000,9,   -999.0,9,   -999.0,9,-999.0000,9,  -999.00,  -999.00,9,  -999.00,9,   2.0082,2,     1110
  49RY20120726,   40N,    49,  1,     18,    101,2,20120828,0944, 39.4878, 169.9967, 5816,   2160.2,   1.8774,   1.8777,2,  34.5989,2,  34.5991,2,     75.3,2,     75.5,2,   166.76,2,    40.79,2,     0.00,2,     2.88,2, -999.000,9, -999.000,9,   -999.0,9,   -999.0,9,-999.0000,9,  -999.00,  -999.00,9,  -999.00,9,   1.8777,2,     1104
  49RY20120726,   40N,    49,  1,     17,     90,2,20120828,0944, 39.4878, 169.9967, 5816,   2363.6,   1.7654,   1.7655,2,  34.6202,2,  34.6202,2,     87.2,2,     86.6,2,   166.88,2,    40.09,2,     0.00,2,     2.82,2, -999.000,9, -999.000,9,   -999.0,9,   -999.0,9,-999.0000,9,  -999.00,  -999.00,9,  -999.00,9,   1.7655,2,     1100
  49RY20120726,   40N,    49,  1,     16,     89,2,20120828,0944, 39.4878, 169.9967, 5816,   2569.1,   1.6825,   1.6822,2,  34.6353,2,  34.6346,2,     98.8,2,     98.7,2,   165.67,2,    39.38,2,     0.00,2,     2.76,2, -999.000,9, -999.000,9,   -999.0,9,   -999.0,9,-999.0000,9,  -999.00,  -999.00,9,  -999.00,9,   1.6822,2,     1053
  49RY20120726,   40N,    49,  1,     15,     88,2,20120828,0944, 39.4878, 169.9967, 5816,   2769.7,   1.6245,   1.6245,2,  34.6462,2,  34.6467,2,    108.9,2,    108.8,2,   163.51,2,    38.82,2,     0.00,2,     2.75,3, -999.000,9, -999.000,9,   -999.0,9,   -999.0,9,-999.0000,9,  -999.00,  -999.00,9,  -999.00,9,   1.6245,2,     1049
  49RY20120726,   40N,    49,  1,     14,    999,2,20120828,0944, 39.4878, 169.9967, 5816,   2973.8,   1.5713,   1.5713,2,  34.6561,2,  34.6561,2,    118.8,2,    119.1,2,   161.19,2,    38.11,2,     0.00,2,     2.67,2, -999.000,9, -999.000,9,   -999.0,9,   -999.0,9,-999.0000,9,  -999.00,  -999.00,9,  -999.00,9,   1.5713,2,     1045
  49RY20120726,   40N,    49,  1,     12,     74,2,20120828,0944, 39.4878, 169.9967, 5816,   3219.7,   1.5263,   1.5263,2,  34.6649,2,  34.6652,2,    128.4,2,    128.9,6,   158.39,6,    37.47,6,     0.00,6,     2.62,6, -999.000,9, -999.000,9,   -999.0,9,   -999.0,9,-999.0000,9,  -999.00,  -999.00,9,  -999.00,9,   1.5263,2,     1040
  49RY20120726,   40N,    49,  1,     11,    996,2,20120828,0944, 39.4878, 169.9967, 5816,   3474.5,   1.4932,   1.4932,2,  34.6718,2,  34.6722,2,    136.3,2,    136.4,2,   156.47,2,    37.03,2,     0.00,2,     2.58,2, -999.000,9, -999.000,9,   -999.0,9,   -999.0,9,-999.0000,9,  -999.00,  -999.00,9,  -999.00,9,   1.4932,2,     1034
  49RY20120726,   40N,    49,  1,     10,    107,2,20120828,0944, 39.4878, 169.9967, 5816,   3730.5,   1.4766,   1.4766,2,  34.6769,2,  34.6749,4,    142.1,2,    141.5,2,   154.75,2,    36.68,2,     0.00,2,     2.56,2, -999.000,9, -999.000,9,   -999.0,9,   -999.0,9,-999.0000,9,  -999.00,  -999.00,9,  -999.00,9,   1.4766,2,     1029
  49RY20120726,   40N,    49,  1,      9,    108,2,20120828,0944, 39.4878, 169.9967, 5816,   3987.8,   1.4763,   1.4764,2,  34.6801,2,  34.6794,2,    146.0,2,    146.0,2,   153.85,2,    36.42,2,     0.00,2,     2.53,2, -999.000,9, -999.000,9,   -999.0,9,   -999.0,9,-999.0000,9,  -999.00,  -999.00,9,  -999.00,9,   1.4764,2,     1024
  49RY20120726,   40N,    49,  1,      8,     81,2,20120828,0944, 39.4878, 169.9967, 5816,   4242.9,   1.4797,   1.4798,2,  34.6829,2,  34.6816,2,    149.4,2,    149.1,2,   153.11,2,    36.17,2,     0.00,2,     2.52,2, -999.000,9, -999.000,9,   -999.0,9,   -999.0,9,-999.0000,9,  -999.00,  -999.00,9,  -999.00,9,   1.4798,2,     1019
  49RY20120726,   40N,    49,  1,      7,    106,2,20120828,0944, 39.4878, 169.9967, 5816,   4501.3,   1.4918,   1.4919,2,  34.6849,2,  34.6845,2,    151.8,2,    152.3,2,   152.36,2,    36.03,2,     0.00,2,     2.54,3, -999.000,9, -999.000,9,   -999.0,9,   -999.0,9,-999.0000,9,  -999.00,  -999.00,9,  -999.00,9,   1.4919,2,     1013
  49RY20120726,   40N,    49,  1,      6,    113,2,20120828,0944, 39.4878, 169.9967, 5816,   4757.4,   1.5089,   1.5090,2,  34.6865,2,  34.6866,2,    153.7,2,    154.2,2,   152.19,2,    35.91,2,     0.00,2,     2.49,2, -999.000,9, -999.000,9,   -999.0,9,   -999.0,9,-999.0000,9,  -999.00,  -999.00,9,  -999.00,9,   1.5090,2,     1008
  49RY20120726,   40N,    49,  1,      5,     94,2,20120828,0944, 39.4878, 169.9967, 5816,   5016.1,   1.5319,   1.5319,2,  34.6875,2,  34.6876,2,    154.9,2,    155.2,2,   151.81,2,    35.84,2,     0.00,2,     2.49,2, -999.000,9, -999.000,9,   -999.0,9,   -999.0,9,-999.0000,9,  -999.00,  -999.00,9,  -999.00,9,   1.5319,2,     1003
  49RY20120726,   40N,    49,  1,      4,     77,2,20120828,0944, 39.4878, 169.9967, 5816,   5272.8,   1.5588,   1.5589,2,  34.6883,2,  34.6892,2,    155.6,2,    156.1,2,   151.97,2,    35.84,2,     0.00,2,     2.49,2, -999.000,9, -999.000,9,   -999.0,9,   -999.0,9,-999.0000,9,  -999.00,  -999.00,9,  -999.00,9,   1.5589,2,      958
  49RY20120726,   40N,    49,  1,      3,    104,2,20120828,0944, 39.4878, 169.9967, 5816,   5531.0,   1.5901,   1.5901,2,  34.6886,2,  34.6886,2,    155.8,2,    155.6,2,   152.31,2,    35.80,2,     0.00,2,     2.48,2, -999.000,9, -999.000,9,   -999.0,9,   -999.0,9,-999.0000,9,  -999.00,  -999.00,9,  -999.00,9,   1.5901,2,      952
  49RY20120726,   40N,    49,  1,      2,     75,2,20120828,0944, 39.4878, 169.9967, 5816,   5790.7,   1.6242,   1.6241,2,  34.6884,2,  34.6884,6,    156.1,2,    155.9,2,   152.22,2,    35.78,2,     0.00,2,     2.48,2, -999.000,9, -999.000,9,   -999.0,9,   -999.0,9,-999.0000,9,  -999.00,  -999.00,9,  -999.00,9,   1.6241,2,      947
  49RY20120726,   40N,    49,  1,      1,    997,2,20120828,0944, 39.4878, 169.9967, 5816,   5919.3,   1.6418,   1.6417,2,  34.6884,2,  34.6892,2,    156.2,2,    156.4,2,   152.10,2,    35.79,2,     0.00,2,     2.47,2, -999.000,9, -999.000,9,   -999.0,9,   -999.0,9,-999.0000,9,  -999.00,  -999.00,9,  -999.00,9,   1.6417,2,      944