BOTTLE,20210419PRINUNIVRMK
EXPOCODE,SECT_ID,STNNBR,CASTNO,SAMPNO,BTLNBR,BTLNBR_FLAG_W,DATE,TIME,LATITUDE,LONGITUDE,DEPTH,CTDPRS,CTDTMP,SBE35,SBE35_FLAG_W,CTDSAL,CTDSAL_FLAG_W,SALNTY,SALNTY_FLAG_W,CTDOXY,CTDOXY_FLAG_W,OXYGEN,OXYGEN_FLAG_W,SILCAT,SILCAT_FLAG_W,NITRAT,NITRAT_FLAG_W,NITRIT,NITRIT_FLAG_W,PHSPHT,PHSPHT_FLAG_W,CFC-11,CFC-11_FLAG_W,CFC-12,CFC-12_FLAG_W,TCARBN,TCARBN_FLAG_W,ALKALI,ALKALI_FLAG_W,PH_TOT,PH_TOT_FLAG_W,PH_TMP,CHLORA,CHLORA_FLAG_W,PPHYTN,PPHYTN_FLAG_W,SBE35,SBE35_FLAG_W,BTL_TIME
,,,,,,,,,,,METERS,DBAR,ITS-90,,,PSS-78,,PSS-78,,UMOL/KG,,UMOL/KG,,UMOL/KG,,UMOL/KG,,UMOL/KG,,UMOL/KG,,PMOL/KG,,PMOL/KG,,UMOL/KG,,UMOL/KG,,,,DEG C,UG/KG,,UG/KG,,,,
  49RY20120726,   40N,    43,  1,     36,    109,2,20120809,0621, 40.0128, 167.6633, 5630,     11.2,  23.2841,  23.2309,2,  34.3584,2,  34.3569,2,    222.8,2,    222.8,2,     1.25,2,     0.03,2,     0.00,2,     0.03,2,    2.003,2,    1.208,2,   1989.7,2,   2266.8,2,   8.0163,2,    25.00,     0.11,2,     0.01,2,  23.2309,2,      925
  49RY20120726,   40N,    43,  1,     35,    112,2,20120809,0621, 40.0128, 167.6633, 5630,     51.9,  16.0030,  15.9976,2,  34.5872,2,  34.5866,2,    243.1,2,    241.8,2,     3.90,2,     2.51,2,     0.18,2,     0.23,2,    2.509,2,    1.518,2,   2030.0,2,   2279.8,2,   7.9726,2,    25.00,     0.35,2,     0.26,2,  15.9976,2,      922
  49RY20120726,   40N,    43,  1,     34,     83,3,20120809,0621, 40.0128, 167.6633, 5630,    102.5,  14.3964,  14.3967,2,  34.5127,2,  34.5125,2,    217.5,2,    216.2,2,     9.33,2,     8.09,2,     0.03,2,     0.57,2,    2.619,2,    1.453,2,   2062.3,2,   2277.2,2,   7.8925,2,    25.00,     0.19,2,     0.07,2,  14.3967,2,      917
  49RY20120726,   40N,    43,  1,     33,     86,2,20120809,0621, 40.0128, 167.6633, 5630,    151.5,  13.3596,  13.3545,2,  34.4514,2,  34.4514,2,    218.9,2,    217.7,2,    11.66,2,     9.69,2,     0.02,2,     0.68,2,    2.685,2,    1.577,2,   2074.8,6,   2274.9,6,   7.8682,2,    25.00,     0.04,2,     0.03,2,  13.3545,2,      915
  49RY20120726,   40N,    43,  1,     32,    105,2,20120809,0621, 40.0128, 167.6633, 5630,    203.7,  11.8766,  11.8793,2,  34.3468,2,  34.3469,2,    216.7,2,    215.5,2,    16.88,2,    12.41,2,     0.02,2,     0.88,2,    2.814,2,    1.539,2,   2095.6,2,   2274.9,2,   7.8241,6,    25.00,     0.01,2,     0.02,2,  11.8793,2,      909
  49RY20120726,   40N,    43,  1,     31,     76,2,20120809,0621, 40.0128, 167.6633, 5630,    254.5,  10.7717,  10.7722,2,  34.2228,2,  34.2230,2,    234.2,2,    233.6,2,    16.87,2,    12.29,2,     0.01,2,     0.89,2,    3.000,2,    1.624,2,   2096.0,2,   2269.4,2,   7.8159,2,    25.00,  -999.00,9,  -999.00,9,  10.7722,2,      902
  49RY20120726,   40N,    43,  1,     30,    103,2,20120809,0621, 40.0128, 167.6633, 5630,    338.4,   9.1587,   9.1571,2,  34.1081,2,  34.1108,2,    226.7,2,    224.2,6,    24.47,6,    15.97,6,     0.01,6,     1.16,6,    3.080,6,    1.722,6,   2118.3,2,   2270.3,2,   7.7574,2,    25.00,  -999.00,9,  -999.00,9,   9.1571,2,      859
  49RY20120726,   40N,    43,  1,     29,    102,2,20120809,0621, 40.0128, 167.6633, 5630,    435.9,   7.4615,   7.4585,2,  34.0179,2,  34.0199,2,    172.5,2,    171.4,2,    43.34,2,    24.35,2,     0.00,2,     1.76,2,    2.802,2,    1.426,2,   2177.0,2,   2282.6,2,   7.6287,2,    25.00,  -999.00,9,  -999.00,9,   7.4585,2,      856
  49RY20120726,   40N,    43,  1,     28,     91,2,20120809,0621, 40.0128, 167.6633, 5630,    537.8,   5.7155,   5.7164,2,  33.9756,2,  33.9753,2,    137.3,2,    136.6,2,    62.78,2,    30.75,2,     0.00,2,     2.24,2,    2.485,2,    1.310,2,   2228.8,2,   2292.3,2,   7.5166,2,    25.00,  -999.00,9,  -999.00,9,   5.7164,2,      854
  49RY20120726,   40N,    43,  1,     27,    998,2,20120809,0621, 40.0128, 167.6633, 5630,    636.2,   4.7390,   4.7399,2,  34.0113,2,  34.0120,2,     99.2,2,     98.5,6,    81.34,6,    35.95,6,     0.00,6,     2.60,6,    1.965,6,    0.991,6,   2275.1,2,   2308.8,2,   7.4243,2,    25.00,  -999.00,9,  -999.00,9,   4.7399,2,      851
  49RY20120726,   40N,    43,  1,     26,     99,3,20120809,0621, 40.0128, 167.6633, 5630,    739.7,   4.4113,   4.4113,2,  34.1294,2,  34.1291,2,     70.6,2,     81.4,2,    95.68,2,    38.62,2,     0.00,2,     2.76,2,    1.283,2,    0.649,2,   2302.1,2,   2323.0,2,   7.3952,3,    25.00,  -999.00,9,  -999.00,9,   4.4113,2,      848
  49RY20120726,   40N,    43,  1,     25,     98,2,20120809,0621, 40.0128, 167.6633, 5630,    840.1,   3.9107,   3.9086,2,  34.1956,2,  34.1958,2,     50.3,2,     49.5,2,   110.75,2,    40.96,2,     0.00,2,     2.93,2,    0.869,2,    0.416,2,   2329.5,6,   2335.4,6,   7.3508,2,    25.00,  -999.00,9,  -999.00,9,   3.9086,2,      832
  49RY20120726,   40N,    43,  1,     24,    110,2,20120809,0621, 40.0128, 167.6633, 5630,    941.2,   3.6025,   3.6015,2,  34.2646,2,  34.2624,2,     42.3,2,     41.7,2,   120.99,2,    41.75,2,     0.00,2,     2.99,2,    0.577,2,    0.275,2,   2343.9,2,   2350.4,2,   7.3412,6,    25.00,  -999.00,9,  -999.00,9,   3.6015,2,      829
  49RY20120726,   40N,    43,  1,     23,     96,2,20120809,0621, 40.0128, 167.6633, 5630,   1083.9,   3.3432,   3.3434,2,  34.3422,2,  34.3414,6,     40.4,2,     39.7,2,   130.14,2,    42.30,2,     0.00,2,     3.02,2,    0.305,2,    0.142,2,   2355.4,2,   2365.8,2,   7.3474,2,    25.00,  -999.00,9,  -999.00,9,   3.3434,2,      825
  49RY20120726,   40N,    43,  1,     22,    111,2,20120809,0621, 40.0128, 167.6633, 5630,   1282.8,   2.8640,   2.8637,2,  34.4054,2,  34.4056,2,     32.8,2,     32.3,2,   144.89,2,    43.26,2,     0.00,2,     3.08,2,    0.161,2,    0.098,2,   2372.8,2,   2379.2,2,   7.3369,2,    25.00,  -999.00,9,  -999.00,9,   2.8637,2,      820
  49RY20120726,   40N,    43,  1,     21,     78,2,20120809,0621, 40.0128, 167.6633, 5630,   1488.2,   2.5650,   2.5650,2,  34.4678,2,  34.4679,2,     35.9,2,     35.5,2,   153.63,2,    43.37,2,     0.00,2,     3.07,2,    0.067,2,    0.036,2,   2381.9,2,   2390.7,2,   7.3476,2,    25.00,  -999.00,9,  -999.00,9,   2.5650,2,      812
  49RY20120726,   40N,    43,  1,     20,     93,2,20120809,0621, 40.0128, 167.6633, 5630,   1692.1,   2.3194,   2.3193,2,  34.5136,2,  34.5134,2,     43.3,2,     43.2,2,   160.43,2,    42.93,2,     0.00,2,     3.04,2,    0.027,2,    0.025,2,   2380.6,2,   2398.2,2,   7.3664,2,    25.00,  -999.00,9,  -999.00,9,   2.3193,2,      807
  49RY20120726,   40N,    43,  1,     19,     92,2,20120809,0621, 40.0128, 167.6633, 5630,   1895.8,   2.1410,   2.1410,2,  34.5514,2,  34.5512,2,     53.8,2,     53.3,2,   163.29,2,    42.51,2,     0.00,2,     2.99,2,    0.014,2,    0.005,2,   2384.7,2,   2404.8,2,   7.3873,2,    25.00,  -999.00,9,  -999.00,9,   2.1410,2,      802
  49RY20120726,   40N,    43,  1,     18,    101,2,20120809,0621, 40.0128, 167.6633, 5630,   2099.1,   1.9885,   1.9885,2,  34.5804,2,  34.5813,2,     65.3,2,     65.3,2,   165.65,2,    41.80,2,     0.00,2,     2.94,2,    0.016,2,    0.003,2,   2379.0,6,   2409.8,6,   7.4107,2,    25.00,  -999.00,9,  -999.00,9,   1.9885,2,      756
  49RY20120726,   40N,    43,  1,     17,     90,2,20120809,0621, 40.0128, 167.6633, 5630,   2303.6,   1.8674,   1.8669,2,  34.6042,2,  34.6038,2,     78.0,2,     77.9,2,   165.80,2,    40.96,2,     0.00,2,     2.88,2, -999.000,9, -999.000,9,   2372.0,2,   2411.3,2,   7.4365,6,    25.00,  -999.00,9,  -999.00,9,   1.8669,2,      750
  49RY20120726,   40N,    43,  1,     16,     89,2,20120809,0621, 40.0128, 167.6633, 5630,   2508.1,   1.7523,   1.7526,2,  34.6251,2,  34.6245,6,     92.6,2,     92.4,2,   164.51,2,    40.16,2,     0.00,2,     2.82,2, -999.000,9, -999.000,9,   2364.4,2,   2416.5,2,   7.4623,2,    25.00,  -999.00,9,  -999.00,9,   1.7526,2,      744
  49RY20120726,   40N,    43,  1,     15,     88,2,20120809,0621, 40.0128, 167.6633, 5630,   2707.9,   1.6843,   1.6843,2,  34.6380,2,  34.6371,2,    103.0,2,    102.8,2,   162.99,2,    39.54,2,     0.00,2,     2.77,2, -999.000,9, -999.000,9,   2358.6,2,   2416.7,2,   7.4844,2,    25.00,  -999.00,9,  -999.00,9,   1.6843,2,      738
  49RY20120726,   40N,    43,  1,     14,    999,2,20120809,0621, 40.0128, 167.6633, 5630,   2914.3,   1.6166,   1.6167,2,  34.6498,2,  34.6512,2,    113.8,2,    114.1,6,   161.33,6,    38.78,6,     0.00,6,     2.71,6,    0.000,2,    0.000,2,   2351.6,2,   2414.8,2,   7.5012,2,    25.00,  -999.00,9,  -999.00,9,   1.6167,2,      732
  49RY20120726,   40N,    43,  1,     13,    996,2,20120809,0621, 40.0128, 167.6633, 5630,   3128.9,   1.5654,   1.5654,2,  34.6592,2,  34.6595,2,    123.4,2,    123.3,2,   158.96,2,    38.03,2,     0.00,2,     2.66,2, -999.000,9, -999.000,9,   2351.5,2,   2415.3,2,   7.5213,2,    25.00,  -999.00,9,  -999.00,9,   1.5654,2,      726
  49RY20120726,   40N,    43,  1,     12,     74,2,20120809,0621, 40.0128, 167.6633, 5630,   3128.9,   1.5654,   1.5654,2,  34.6592,2,  34.6590,2,    123.4,2,    123.4,2,   159.09,2,    38.08,2,     0.00,2,     2.67,2, -999.000,9, -999.000,9,   2347.2,2,   2415.4,2,   7.5217,2,    25.00,  -999.00,9,  -999.00,9,   1.5654,2,      726
  49RY20120726,   40N,    43,  1,     11,     97,2,20120809,0621, 40.0128, 167.6633, 5630,   3386.6,   1.5288,   1.5288,2,  34.6669,2,  34.6663,4,    131.6,2,    129.3,4,   157.11,2,    37.70,2,     0.00,2,     2.63,2, -999.000,9, -999.000,9,   2344.2,6,   2415.3,6,   7.5313,2,    25.00,  -999.00,9,  -999.00,9,   1.5288,2,      720
  49RY20120726,   40N,    43,  1,     10,    107,2,20120809,0621, 40.0128, 167.6633, 5630,   3641.4,   1.5004,   1.5006,2,  34.6732,2,  34.6715,4,    138.9,2,    138.6,2,   155.01,2,    37.14,2,     0.00,2,     2.58,2, -999.000,9, -999.000,9,   2339.3,2,   2414.7,2,   7.5484,6,    25.00,  -999.00,9,  -999.00,9,   1.5006,2,      713
  49RY20120726,   40N,    43,  1,      9,    108,2,20120809,0621, 40.0128, 167.6633, 5630,   3895.3,   1.4868,   1.4869,2,  34.6778,2,  34.6781,2,    144.2,2,    143.6,6,   153.55,6,    36.74,6,     0.00,6,     2.56,6,    0.000,2,    0.003,2,   2335.1,2,   2415.7,2,   7.5575,2,    25.00,  -999.00,9,  -999.00,9,   1.4869,2,      707
  49RY20120726,   40N,    43,  1,      8,     81,2,20120809,0621, 40.0128, 167.6633, 5630,   4152.5,   1.4765,   1.4766,2,  34.6821,2,  34.6813,2,    149.4,2,    149.4,2,   152.54,2,    36.38,2,     0.00,2,     2.52,2, -999.000,9, -999.000,9,   2328.2,2,   2416.3,2,   7.5705,2,    25.00,  -999.00,9,  -999.00,9,   1.4766,2,      701
  49RY20120726,   40N,    43,  1,      7,    106,2,20120809,0621, 40.0128, 167.6633, 5630,   4409.6,   1.4824,   1.4825,2,  34.6847,2,  34.6844,6,    152.5,2,    152.7,2,   151.93,2,    36.34,2,     0.00,2,     2.51,2,    0.000,2,    0.004,2,   2331.8,2,   2416.6,2,   7.5731,2,    25.00,  -999.00,9,  -999.00,9,   1.4825,2,      656
  49RY20120726,   40N,    43,  1,      6,    113,2,20120809,0621, 40.0128, 167.6633, 5630,   4665.2,   1.4983,   1.4986,2,  34.6864,2,  34.6865,2,    154.4,2,    144.6,4,   151.24,2,    36.08,2,     0.00,2,     2.50,2, -999.000,9, -999.000,9,   2325.4,2,   2416.9,2,   7.5762,2,    25.00,  -999.00,9,  -999.00,9,   1.4986,2,      650
  49RY20120726,   40N,    43,  1,      5,     94,2,20120809,0621, 40.0128, 167.6633, 5630,   4924.3,   1.5159,   1.5163,2,  34.6881,2,  34.6871,2,    156.3,2,    155.8,2,   151.53,2,    35.93,2,     0.00,2,     2.49,2, -999.000,9, -999.000,9,   2321.8,2,   2414.4,2,   7.5786,2,    25.00,  -999.00,9,  -999.00,9,   1.5163,2,      643
  49RY20120726,   40N,    43,  1,      4,     77,2,20120809,0621, 40.0128, 167.6633, 5630,   5181.4,   1.5435,   1.5436,2,  34.6888,2,  34.6885,2,    156.9,2,    156.6,2,   151.44,2,    35.87,2,     0.00,2,     2.49,2,    0.000,2,    0.005,2,   2323.6,2,   2414.6,2,   7.5821,2,    25.00,  -999.00,9,  -999.00,9,   1.5436,2,      637
  49RY20120726,   40N,    43,  1,      3,    104,2,20120809,0621, 40.0128, 167.6633, 5630,   5437.5,   1.5718,   1.5720,2,  34.6895,2,  34.6879,4,    157.3,2,    156.9,2,   152.42,2,    36.10,2,     0.00,2,     2.48,2, -999.000,9, -999.000,9,   2329.0,2,   2414.3,2,   7.5843,2,    25.00,  -999.00,9,  -999.00,9,   1.5720,2,      631
  49RY20120726,   40N,    43,  1,      2,     75,2,20120809,0621, 40.0128, 167.6633, 5630,   5697.4,   1.6065,   1.6066,2,  34.6895,2,  34.6895,2,    157.3,2,    156.9,2,   152.22,2,    35.98,2,     0.00,2,     2.48,2,    0.000,2,    0.008,2,   2326.8,2,   2413.5,2,   7.5797,2,    25.00,  -999.00,9,  -999.00,9,   1.6066,2,      624
  49RY20120726,   40N,    43,  1,      1,    997,2,20120809,0621, 40.0128, 167.6633, 5630,   5796.6,   1.6201,   1.6203,2,  34.6895,2,  34.6885,4,    157.4,2,    156.7,2,   152.25,2,    36.02,2,     0.00,2,     2.48,2,    0.008,2,    0.007,2,   2325.6,2,   2416.4,2,   7.5850,2,    25.00,  -999.00,9,  -999.00,9,   1.6203,2,      621