BOTTLE,20210419PRINUNIVRMK
EXPOCODE,SECT_ID,STNNBR,CASTNO,SAMPNO,BTLNBR,BTLNBR_FLAG_W,DATE,TIME,LATITUDE,LONGITUDE,DEPTH,CTDPRS,CTDTMP,SBE35,SBE35_FLAG_W,CTDSAL,CTDSAL_FLAG_W,SALNTY,SALNTY_FLAG_W,CTDOXY,CTDOXY_FLAG_W,OXYGEN,OXYGEN_FLAG_W,SILCAT,SILCAT_FLAG_W,NITRAT,NITRAT_FLAG_W,NITRIT,NITRIT_FLAG_W,PHSPHT,PHSPHT_FLAG_W,CFC-11,CFC-11_FLAG_W,CFC-12,CFC-12_FLAG_W,TCARBN,TCARBN_FLAG_W,ALKALI,ALKALI_FLAG_W,PH_TOT,PH_TOT_FLAG_W,PH_TMP,CHLORA,CHLORA_FLAG_W,PPHYTN,PPHYTN_FLAG_W,SBE35,SBE35_FLAG_W,BTL_TIME
,,,,,,,,,,,METERS,DBAR,ITS-90,,,PSS-78,,PSS-78,,UMOL/KG,,UMOL/KG,,UMOL/KG,,UMOL/KG,,UMOL/KG,,UMOL/KG,,PMOL/KG,,PMOL/KG,,UMOL/KG,,UMOL/KG,,,,DEG C,UG/KG,,UG/KG,,,,
  49RY20120726,   40N,    21,  1,     36,    109,3,20120802,0548, 40.0047, 153.0077, 5680,     12.3,  21.5479,  21.5590,2,  34.0584,2,  34.1032,4,    231.0,2,    232.6,2,     1.53,2,     0.00,2,     0.00,2,     0.06,2,    2.149,2,    1.310,2,   1977.4,6,   2253.0,2,   8.0221,2,    25.00,     0.11,2,     0.00,2,  21.5590,2,      817
  49RY20120726,   40N,    21,  1,     35,    112,2,20120802,0548, 40.0047, 153.0077, 5680,     52.7,  15.5211,  15.5132,2,  34.4267,2,  34.4310,2,    210.9,2,    208.5,2,    10.35,2,     7.44,2,     0.13,2,     0.56,2,    2.464,2,    1.449,2,   2048.1,3,   2280.7,2,   7.9077,6,    25.00,     0.87,2,     0.31,2,  15.5132,2,      813
  49RY20120726,   40N,    21,  1,     34,     83,2,20120802,0548, 40.0047, 153.0077, 5680,    104.6,  12.9757,  12.9831,2,  34.4240,2,  34.4256,2,    169.8,2,    169.0,6,    22.32,6,    14.77,2,     0.02,6,     1.07,6,    2.339,2,    1.340,2,   1918.6,4,   -999.0,5,   7.7922,2,    25.00,     0.06,2,     0.05,2,  12.9831,2,      811
  49RY20120726,   40N,    21,  1,     33,     86,2,20120802,0548, 40.0047, 153.0077, 5680,    153.7,  10.1640,  10.1664,2,  34.1965,2,  34.1984,2,    214.0,2,    212.8,2,    22.70,2,    15.12,2,     0.01,2,     1.12,2,    2.897,2,    1.615,2,   2117.6,2,   2279.6,2,   7.7749,2,    25.00,     0.01,2,     0.04,2,  10.1664,2,      809
  49RY20120726,   40N,    21,  1,     32,    105,2,20120802,0548, 40.0047, 153.0077, 5680,    203.5,   8.1820,   8.1832,2,  34.0052,2,  34.0065,2,    230.6,2,    229.9,2,    26.75,2,    16.62,2,     0.01,2,     1.24,2,    3.237,2,    1.807,2,   2127.2,2,   2270.3,2,   7.7409,2,    25.00,     0.00,2,     0.04,2,   8.1832,2,      805
  49RY20120726,   40N,    21,  1,     31,     76,2,20120802,0548, 40.0047, 153.0077, 5680,    254.8,   6.7659,   6.7688,2,  33.8518,2,  33.8481,2,    226.9,2,    227.0,2,    33.96,2,    19.64,2,     0.01,2,     1.49,2,    3.477,2,    1.930,2,   2146.3,2,   2273.9,2,   7.6858,2,    25.00,  -999.00,9,  -999.00,9,   6.7688,2,      803
  49RY20120726,   40N,    21,  1,     30,    103,2,20120802,0548, 40.0047, 153.0077, 5680,    335.6,   4.1988,   4.2012,2,  33.6492,2,  33.6436,2,    215.3,2,    217.0,2,    49.75,2,    25.65,2,     0.01,2,     1.96,2,    3.781,6,    2.086,6,   2187.9,2,   2272.7,2,   7.5785,2,    25.00,  -999.00,9,  -999.00,9,   4.2012,2,      801
  49RY20120726,   40N,    21,  1,     29,    102,2,20120802,0548, 40.0047, 153.0077, 5680,    435.3,   5.0913,   5.0912,2,  33.9942,2,  33.9973,2,    119.1,2,    118.7,2,    73.54,2,    33.39,2,     0.00,2,     2.45,2,    2.177,2,    1.147,2,   2248.1,2,   2301.2,2,   7.4669,2,    25.00,  -999.00,9,  -999.00,9,   5.0912,2,      758
  49RY20120726,   40N,    21,  1,     28,     91,3,20120802,0548, 40.0047, 153.0077, 5680,    538.2,   4.7295,   4.7273,2,  34.1152,2,  34.1119,2,     84.3,2,     87.6,2,    88.54,2,    36.48,2,     0.00,2,     2.66,2,    1.489,2,    0.762,2,   2280.2,2,   2319.0,2,   7.4196,2,    25.00,  -999.00,9,  -999.00,9,   4.7273,2,      756
  49RY20120726,   40N,    21,  1,     27,    998,2,20120802,0548, 40.0047, 153.0077, 5680,    638.3,   4.2581,   4.2588,2,  34.1834,2,  34.1822,2,     63.2,2,     62.8,2,   102.52,2,    39.03,2,     0.00,2,     2.83,2,    1.020,2,    0.518,2,   2312.9,6,   2333.2,6,   7.3826,2,    25.00,  -999.00,9,  -999.00,9,   4.2588,2,      753
  49RY20120726,   40N,    21,  1,     26,     99,3,20120802,0548, 40.0047, 153.0077, 5680,    740.8,   3.9152,   3.9160,2,  34.2621,2,  34.2614,2,     52.9,2,     52.9,2,   113.72,2,    40.17,2,     0.00,2,     2.91,2,    0.652,6,    0.330,6,   2329.2,2,   2346.2,2,   7.3691,6,    25.00,  -999.00,9,  -999.00,9,   3.9160,2,      750
  49RY20120726,   40N,    21,  1,     25,     98,2,20120802,0548, 40.0047, 153.0077, 5680,    842.9,   3.4565,   3.4504,2,  34.2942,2,  34.2846,4,     41.6,2,     40.6,2,   126.36,2,    41.85,2,     0.00,2,     3.02,2,    0.523,2,    0.259,2,   2351.9,2,   2355.0,2,   7.3370,2,    25.00,  -999.00,9,  -999.00,9,   3.4504,2,      748
  49RY20120726,   40N,    21,  1,     24,    110,2,20120802,0548, 40.0047, 153.0077, 5680,    940.3,   3.2247,   3.2249,2,  34.3467,2,  34.3450,2,     40.4,2,     40.4,2,   132.94,2,    42.27,2,     0.00,2,     3.03,2,    0.341,2,    0.171,2,   2365.9,2,   2366.6,2,   7.3480,2,    25.00,  -999.00,9,  -999.00,9,   3.2249,2,      745
  49RY20120726,   40N,    21,  1,     23,     96,2,20120802,0548, 40.0047, 153.0077, 5680,   1082.7,   2.9553,   2.9557,2,  34.4023,2,  34.4021,2,     38.8,2,     38.2,2,   140.87,2,    42.48,2,     0.00,2,     3.06,2,    0.195,2,    0.095,2,   2369.5,2,   2380.1,2,   7.3490,2,    25.00,  -999.00,9,  -999.00,9,   2.9557,2,      741
  49RY20120726,   40N,    21,  1,     22,    111,2,20120802,0548, 40.0047, 153.0077, 5680,   1286.8,   2.6160,   2.6157,2,  34.4631,2,  34.4628,2,     39.3,2,     40.0,2,   151.16,2,    42.84,3,     0.00,2,     3.07,2,    0.107,2,    0.052,2,   2379.6,2,   2389.6,2,   7.3529,2,    25.00,  -999.00,9,  -999.00,9,   2.6157,2,      736
  49RY20120726,   40N,    21,  1,     21,     78,2,20120802,0548, 40.0047, 153.0077, 5680,   1488.9,   2.3542,   2.3540,2,  34.5110,2,  34.5111,2,     45.7,2,     45.8,2,   157.99,2,    42.51,2,     0.00,2,     3.04,2,    0.062,2,    0.023,2,   2383.2,2,   2396.7,2,   7.3725,2,    25.00,  -999.00,9,  -999.00,9,   2.3540,2,      732
  49RY20120726,   40N,    21,  1,     20,     93,2,20120802,0548, 40.0047, 153.0077, 5680,   1691.8,   2.1727,   2.1727,2,  34.5480,2,  34.5488,6,     55.1,2,     54.8,2,   161.59,2,    42.20,2,     0.00,2,     3.01,2,    0.039,2,    0.014,2,   2380.2,2,   2407.9,2,   7.3910,2,    25.00,  -999.00,9,  -999.00,9,   2.1727,2,      728
  49RY20120726,   40N,    21,  1,     19,     92,2,20120802,0548, 40.0047, 153.0077, 5680,   1895.4,   2.0292,   2.0291,2,  34.5769,2,  34.5771,2,     66.3,2,     65.7,6,   162.79,6,    41.59,6,     0.00,6,     2.95,6, -999.000,9, -999.000,9,   2375.2,2,   2409.8,2,   7.4117,2,    25.00,  -999.00,9,  -999.00,9,   2.0291,2,      723
  49RY20120726,   40N,    21,  1,     18,    101,2,20120802,0548, 40.0047, 153.0077, 5680,   2097.8,   1.9039,   1.9039,2,  34.6000,2,  34.6010,2,     77.8,2,     77.7,2,   163.42,2,    40.76,2,     0.00,2,     2.89,2, -999.000,9, -999.000,9,   2377.9,2,   2413.0,2,   7.4367,2,    25.00,  -999.00,9,  -999.00,9,   1.9039,2,      719
  49RY20120726,   40N,    21,  1,     17,     90,3,20120802,0548, 40.0047, 153.0077, 5680,   2301.7,   1.7967,   1.7968,2,  34.6193,2,  34.6176,4,     90.4,2,     90.4,2,   161.89,2,    39.84,2,     0.00,2,     2.82,2,    0.025,2,    0.005,2,   2366.2,2,   2413.1,2,   7.4608,2,    25.00,  -999.00,9,  -999.00,9,   1.7968,2,      714
  49RY20120726,   40N,    21,  1,     16,     89,3,20120802,0548, 40.0047, 153.0077, 5680,   2503.1,   1.7133,   1.7131,2,  34.6338,2,  34.6338,2,    101.4,2,    101.2,2,   160.91,2,    39.22,2,     0.00,2,     2.78,2, -999.000,9, -999.000,9,   2362.2,6,   2416.9,6,   7.4825,2,    25.00,  -999.00,9,  -999.00,9,   1.7131,2,      702
  49RY20120726,   40N,    21,  1,     15,     88,2,20120802,0548, 40.0047, 153.0077, 5680,   2708.0,   1.6514,   1.6516,2,  34.6447,2,  34.6433,4,    110.4,2,    108.7,4,   160.42,2,    38.82,2,     0.00,2,     2.74,2, -999.000,9, -999.000,9,   2354.9,2,   2416.7,2,   7.4934,2,    25.00,  -999.00,9,  -999.00,9,   1.6516,2,      657
  49RY20120726,   40N,    21,  1,     14,    999,2,20120802,0548, 40.0047, 153.0077, 5680,   2911.8,   1.6068,   1.6068,2,  34.6528,2,  34.6543,6,    117.7,2,    117.7,2,   159.10,2,    38.41,2,     0.00,2,     2.70,2, -999.000,9, -999.000,9,   2354.1,2,   2417.7,2,   7.5096,2,    25.00,  -999.00,9,  -999.00,9,   1.6068,2,      653
  49RY20120726,   40N,    21,  1,     13,    996,2,20120802,0548, 40.0047, 153.0077, 5680,   3126.9,   1.5603,   1.5603,2,  34.6615,2,  34.6619,2,    126.6,2,    126.3,2,   156.83,2,    37.89,3,     0.00,2,     2.66,2,    0.018,2,    0.007,2,   2344.3,2,   2416.7,2,   7.5296,2,    25.00,  -999.00,9,  -999.00,9,   1.5603,2,      648
  49RY20120726,   40N,    21,  1,     12,     74,2,20120802,0548, 40.0047, 153.0077, 5680,   3126.9,   1.5603,   1.5603,2,  34.6615,2,  34.6616,2,    126.6,2,    127.0,2,   156.63,2,    37.74,2,     0.00,2,     2.66,2, -999.000,9, -999.000,9,   2345.1,2,   2417.9,2,   7.5287,2,    25.00,  -999.00,9,  -999.00,9,   1.5603,2,      648
  49RY20120726,   40N,    21,  1,     11,     97,2,20120802,0548, 40.0047, 153.0077, 5680,   3383.1,   1.5307,   1.5307,2,  34.6679,2,  34.6679,2,    133.5,2,    133.3,6,   155.12,6,    37.38,2,     0.00,6,     2.62,6, -999.000,9, -999.000,9,   2334.8,2,   2416.6,2,   7.5405,2,    25.00,  -999.00,9,  -999.00,9,   1.5307,2,      643
  49RY20120726,   40N,    21,  1,     10,    107,3,20120802,0548, 40.0047, 153.0077, 5680,   3638.8,   1.5064,   1.5065,2,  34.6737,2,  34.6728,2,    139.8,2,    139.0,2,   153.66,2,    36.97,3,     0.00,2,     2.59,2, -999.000,9, -999.000,9,   2333.7,2,   2415.9,2,   7.5497,2,    25.00,  -999.00,9,  -999.00,9,   1.5065,2,      637
  49RY20120726,   40N,    21,  1,      9,    108,2,20120802,0548, 40.0047, 153.0077, 5680,   3895.3,   1.4946,   1.4947,2,  34.6777,2,  34.6764,2,    144.4,2,    143.6,2,   152.25,2,    36.40,2,     0.00,2,     2.56,2, -999.000,9, -999.000,9,   2330.4,2,   2415.5,2,   7.5577,2,    25.00,  -999.00,9,  -999.00,9,   1.4947,2,      632
  49RY20120726,   40N,    21,  1,      8,     81,2,20120802,0548, 40.0047, 153.0077, 5680,   4152.4,   1.4879,   1.4879,2,  34.6813,2,  34.6818,2,    148.5,2,    148.4,2,   151.65,2,    36.12,2,     0.00,2,     2.54,2,    0.021,2,    0.010,2,   2327.4,2,   2416.9,2,   7.5666,2,    25.00,  -999.00,9,  -999.00,9,   1.4879,2,      626
  49RY20120726,   40N,    21,  1,      7,    106,2,20120802,0548, 40.0047, 153.0077, 5680,   4409.5,   1.4874,   1.4875,2,  34.6845,2,  34.6844,2,    152.7,2,    152.4,2,   150.27,2,    35.88,2,     0.00,2,     2.52,2, -999.000,9, -999.000,9,   2321.7,2,   2409.1,3,   7.5742,2,    25.00,  -999.00,9,  -999.00,9,   1.4875,2,      620
  49RY20120726,   40N,    21,  1,      6,    113,2,20120802,0548, 40.0047, 153.0077, 5680,   4666.8,   1.4984,   1.4986,2,  34.6866,2,  34.6860,2,    155.2,2,    155.1,6,   149.50,6,    35.80,6,     0.00,6,     2.51,6, -999.000,9, -999.000,9,   2321.3,2,   2412.3,2,   7.5774,2,    25.00,  -999.00,9,  -999.00,9,   1.4986,2,      615
  49RY20120726,   40N,    21,  1,      5,     94,2,20120802,0548, 40.0047, 153.0077, 5680,   4923.2,   1.5154,   1.5155,2,  34.6882,2,  34.6873,6,    156.9,2,    157.2,2,   149.38,2,    35.81,2,     0.00,2,     2.50,2,    0.028,2,    0.010,2,   2327.2,3,   2413.8,2,   7.5803,2,    25.00,  -999.00,9,  -999.00,9,   1.5155,2,      609
  49RY20120726,   40N,    21,  1,      4,     77,2,20120802,0548, 40.0047, 153.0077, 5680,   5181.2,   1.5363,   1.5364,2,  34.6896,2,  34.6885,2,    158.4,2,    158.5,2,   149.26,2,    35.53,2,     0.00,2,     2.49,2, -999.000,9, -999.000,9,   2322.3,6,   2412.3,6,   7.5833,2,    25.00,  -999.00,9,  -999.00,9,   1.5364,2,      604
  49RY20120726,   40N,    21,  1,      3,    104,2,20120802,0548, 40.0047, 153.0077, 5680,   5438.4,   1.5614,   1.5615,2,  34.6906,2,  34.6888,4,    159.7,2,    159.0,2,   148.47,2,    35.58,2,     0.00,2,     2.49,2, -999.000,9, -999.000,9,   2321.9,2,   2412.2,2,   7.5830,6,    25.00,  -999.00,9,  -999.00,9,   1.5615,2,      558
  49RY20120726,   40N,    21,  1,      2,     75,2,20120802,0548, 40.0047, 153.0077, 5680,   5698.0,   1.5891,   1.5890,2,  34.6912,2,  34.6912,2,    160.7,2,    160.9,2,   147.68,2,    35.35,2,     0.00,2,     2.47,2,    0.030,2,    0.008,2,   2321.9,2,   2412.1,2,   7.5836,2,    25.00,  -999.00,9,  -999.00,9,   1.5890,2,      551
  49RY20120726,   40N,    21,  1,      1,    997,2,20120802,0548, 40.0047, 153.0077, 5680,   5805.2,   1.6037,   1.6036,2,  34.6912,2,  34.6907,2,    160.6,2,    160.5,2,   148.11,2,    35.46,2,     0.00,2,     2.48,2,    0.032,2,    0.010,2,   2326.9,2,   2412.2,2,   7.5845,2,    25.00,  -999.00,9,  -999.00,9,   1.6036,2,      548