BOTTLE,20210419PRINUNIVRMK
EXPOCODE,SECT_ID,STNNBR,CASTNO,SAMPNO,BTLNBR,BTLNBR_FLAG_W,DATE,TIME,LATITUDE,LONGITUDE,DEPTH,CTDPRS,CTDTMP,SBE35,SBE35_FLAG_W,CTDSAL,CTDSAL_FLAG_W,SALNTY,SALNTY_FLAG_W,CTDOXY,CTDOXY_FLAG_W,OXYGEN,OXYGEN_FLAG_W,SILCAT,SILCAT_FLAG_W,NITRAT,NITRAT_FLAG_W,NITRIT,NITRIT_FLAG_W,PHSPHT,PHSPHT_FLAG_W,CFC-11,CFC-11_FLAG_W,CFC-12,CFC-12_FLAG_W,TCARBN,TCARBN_FLAG_W,ALKALI,ALKALI_FLAG_W,PH_TOT,PH_TOT_FLAG_W,PH_TMP,CHLORA,CHLORA_FLAG_W,PPHYTN,PPHYTN_FLAG_W,SBE35,SBE35_FLAG_W,BTL_TIME
,,,,,,,,,,,METERS,DBAR,ITS-90,,,PSS-78,,PSS-78,,UMOL/KG,,UMOL/KG,,UMOL/KG,,UMOL/KG,,UMOL/KG,,UMOL/KG,,PMOL/KG,,PMOL/KG,,UMOL/KG,,UMOL/KG,,,,DEG C,UG/KG,,UG/KG,,,,
  49RY20120726,   40N,    69,  1,     36,    109,2,20120903,1341, 37.0053, 167.1808, 4842,     11.1,  24.7387,  24.7431,2,  34.4241,2,  34.4245,2,    211.8,2,    297.5,4,     1.39,2,     0.00,2,     0.00,2,     0.02,2,    1.969,2,    1.070,2,   1972.4,2,   2265.7,2,   8.0313,4,    25.00,     0.06,2,     0.02,2,  24.7431,2,     1606
  49RY20120726,   40N,    69,  1,     35,    112,2,20120903,1341, 37.0053, 167.1808, 4842,     51.8,  19.1976,  19.1978,2,  34.6102,2,  34.6113,2,    243.1,2,    242.9,2,     1.84,2,     0.00,2,     0.00,2,     0.04,2,    2.578,2,    1.366,2,   1997.1,6,   2278.8,6,   8.0077,4,    25.00,     0.15,2,     0.08,2,  19.1978,2,     1603
  49RY20120726,   40N,    69,  1,     34,     83,2,20120903,1341, 37.0053, 167.1808, 4842,    100.9,  16.7653,  16.7660,2,  34.6266,2,  34.6283,2,    214.3,2,    215.5,2,     4.99,2,     4.00,2,     0.12,2,     0.32,2,    2.503,2,    1.478,2,   2033.5,2,   2278.6,2,   7.9411,4,    25.00,     0.12,2,     0.17,2,  16.7660,2,     1601
  49RY20120726,   40N,    69,  1,     33,     86,2,20120903,1341, 37.0053, 167.1808, 4842,    151.5,  15.6371,  15.6338,2,  34.6165,2,  34.6131,2,    216.6,2,    215.6,2,     6.78,2,     6.28,2,     0.01,2,     0.43,2,    2.546,2,    1.487,2,   2043.6,2,   2279.2,2,   7.9127,4,    25.00,     0.04,2,     0.02,2,  15.6338,2,     1559
  49RY20120726,   40N,    69,  1,     32,    105,2,20120903,1341, 37.0053, 167.1808, 4842,    202.3,  14.0942,  14.0965,2,  34.4975,2,  34.4974,2,    192.0,2,    191.4,2,    14.02,2,    11.03,2,     0.01,2,     0.77,2,    2.582,2,    1.464,2,   2078.9,2,   2279.3,2,   7.8384,4,    25.00,     0.00,2,     0.01,2,  14.0965,2,     1555
  49RY20120726,   40N,    69,  1,     31,     76,2,20120903,1341, 37.0053, 167.1808, 4842,    253.4,  12.6429,  12.6433,2,  34.4048,2,  34.4019,2,    215.3,2,    215.8,2,    14.35,2,    10.93,2,     0.00,2,     0.76,2,    2.814,2,    1.647,2,   2086.0,2,   2276.0,2,   7.8322,4,    25.00,  -999.00,9,  -999.00,9,  12.6433,2,     1548
  49RY20120726,   40N,    69,  1,     30,     97,2,20120903,1341, 37.0053, 167.1808, 4842,    281.9,  11.8689,  11.8735,2,  34.3465,2,  34.3458,2,    205.3,2,    205.2,2,    18.61,2,    13.16,2,     0.00,2,     0.94,3,    2.759,6,    1.523,6,   2098.0,2,   2278.3,2,   7.7996,4,    25.00,  -999.00,9,  -999.00,9,  11.8735,2,     1546
  49RY20120726,   40N,    69,  1,     29,    102,2,20120903,1341, 37.0053, 167.1808, 4842,    377.0,   9.0293,   9.0114,2,  34.0884,2,  34.0902,2,    227.5,2,    225.9,6,    24.83,6,    16.06,6,     0.01,6,     1.16,2,    3.190,2,    1.787,2,   2123.2,2,   2271.4,2,   7.7410,4,    25.00,  -999.00,9,  -999.00,9,   9.0114,2,     1544
  49RY20120726,   40N,    69,  1,     28,     91,2,20120903,1341, 37.0053, 167.1808, 4842,    475.0,   7.2747,   7.2752,2,  34.0235,2,  34.0234,6,    163.2,2,    163.0,2,    45.90,2,    25.34,2,     0.00,2,     1.82,2,    2.748,2,    1.439,2,   2193.6,2,   2281.7,2,   7.5925,4,    25.00,  -999.00,9,  -999.00,9,   7.2752,2,     1541
  49RY20120726,   40N,    69,  1,     27,    998,2,20120903,1341, 37.0053, 167.1808, 4842,    475.0,   7.2747,   7.2752,2,  34.0235,2,  34.0227,2,    163.2,2,    162.7,2,    46.02,2,    25.45,2,     0.00,2,     1.83,2,    2.751,6,    1.450,6,   2188.5,2,   2283.3,2,   7.5914,4,    25.00,  -999.00,9,  -999.00,9,   7.2752,2,     1541
  49RY20120726,   40N,    69,  1,     26,     84,2,20120903,1341, 37.0053, 167.1808, 4842,    577.9,   5.5462,   5.5477,2,  34.0116,2,  34.0105,2,    122.3,2,    122.2,2,    67.66,2,    32.07,2,     0.00,2,     2.32,2,    2.236,2,    1.145,2,   2244.2,6,   2298.9,6,   7.4764,4,    25.00,  -999.00,9,  -999.00,9,   5.5477,2,     1538
  49RY20120726,   40N,    69,  1,     25,     98,2,20120903,1341, 37.0053, 167.1808, 4842,    676.6,   4.6902,   4.6903,2,  34.0817,2,  34.0791,2,     84.1,2,     84.1,2,    87.23,2,    36.75,2,     0.00,2,     2.65,2,    1.579,2,    0.789,2,   2291.7,2,   2316.3,2,   7.3942,4,    25.00,  -999.00,9,  -999.00,9,   4.6903,2,     1535
  49RY20120726,   40N,    69,  1,     24,    110,2,20120903,1341, 37.0053, 167.1808, 4842,    780.6,   4.2478,   4.2478,2,  34.1901,2,  34.1888,2,     60.7,2,     60.6,2,   103.09,2,    39.20,2,     0.00,2,     2.82,2,    0.992,2,    0.481,2,   2316.0,2,   2334.5,2,   7.3582,4,    25.00,  -999.00,9,  -999.00,9,   4.2478,2,     1530
  49RY20120726,   40N,    69,  1,     23,     96,2,20120903,1341, 37.0053, 167.1808, 4842,    880.9,   3.8323,   3.8337,2,  34.2612,2,  34.2588,2,     48.4,2,     48.4,2,   114.98,2,    40.67,2,     0.00,2,     2.92,2,    0.637,2,    0.302,2,   2333.4,2,   2348.7,2,   7.3430,4,    25.00,  -999.00,9,  -999.00,9,   3.8337,2,     1527
  49RY20120726,   40N,    69,  1,     22,    111,2,20120903,1341, 37.0053, 167.1808, 4842,    984.2,   3.4692,   3.4684,2,  34.3180,2,  34.3171,2,     40.5,2,     40.1,2,   125.70,2,    41.76,2,     0.00,2,     2.99,2,    0.391,2,    0.181,2,   2354.5,2,   2363.8,2,   7.3328,4,    25.00,  -999.00,9,  -999.00,9,   3.4684,2,     1524
  49RY20120726,   40N,    69,  1,     21,     78,2,20120903,1341, 37.0053, 167.1808, 4842,   1144.0,   3.0821,   3.0813,2,  34.3817,2,  34.3810,2,     35.9,2,     35.6,2,   137.26,2,    42.50,2,     0.00,2,     3.04,2,    0.208,2,    0.091,2,   2364.5,2,   2376.2,2,   7.3272,4,    25.00,  -999.00,9,  -999.00,9,   3.0813,2,     1520
  49RY20120726,   40N,    69,  1,     20,     93,2,20120903,1341, 37.0053, 167.1808, 4842,   1346.8,   2.6735,   2.6734,2,  34.4529,2,  34.4526,2,     36.1,2,     36.1,6,   149.31,2,    42.99,2,     0.00,2,     3.06,3,    0.091,2,    0.043,2,   2381.3,2,   2391.0,2,   7.3322,4,    25.00,  -999.00,9,  -999.00,9,   2.6734,2,     1511
  49RY20120726,   40N,    69,  1,     19,     92,2,20120903,1341, 37.0053, 167.1808, 4842,   1550.3,   2.4017,   2.4020,2,  34.5091,2,  34.5086,2,     40.3,2,     40.1,2,   156.92,6,    42.97,6,     0.00,6,     3.05,6,    0.027,2,    0.011,2,   2386.4,2,   2402.6,2,   7.3429,4,    25.00,  -999.00,9,  -999.00,9,   2.4020,2,     1507
  49RY20120726,   40N,    69,  1,     18,    101,2,20120903,1341, 37.0053, 167.1808, 4842,   1752.0,   2.1557,   2.1557,2,  34.5480,2,  34.5482,2,     51.8,2,     51.6,6,   162.42,6,    42.31,6,     0.00,6,     2.99,6,    0.017,2,    0.002,2,   2387.5,2,   2407.6,2,   7.3676,4,    25.00,  -999.00,9,  -999.00,9,   2.1557,2,     1459
  49RY20120726,   40N,    69,  1,     17,     90,2,20120903,1341, 37.0053, 167.1808, 4842,   1954.1,   2.0110,   2.0108,2,  34.5754,2,  34.5757,6,     63.3,2,     63.1,2,   164.03,2,    41.61,2,     0.00,2,     2.94,2,    0.011,2,    0.006,2,   2379.1,2,   2412.3,2,   7.3889,4,    25.00,  -999.00,9,  -999.00,9,   2.0108,2,     1455
  49RY20120726,   40N,    69,  1,     16,     89,2,20120903,1341, 37.0053, 167.1808, 4842,   2156.1,   1.8714,   1.8715,2,  34.6011,2,  34.6010,2,     75.7,2,     75.4,2,   165.48,2,    40.79,2,     0.00,2,     2.87,2,    0.010,2,    0.000,2,   2377.9,2,   2413.4,2,   7.4137,4,    25.00,  -999.00,9,  -999.00,9,   1.8715,2,     1451
  49RY20120726,   40N,    69,  1,     15,     88,2,20120903,1341, 37.0053, 167.1808, 4842,   2156.3,   1.8712,   1.8711,2,  34.6011,2,  34.6008,2,     75.7,2,     76.0,2,   165.50,2,    40.84,2,     0.00,2,     2.87,2, -999.000,9, -999.000,9,   2373.1,2,   2416.9,2,   7.4138,4,    25.00,  -999.00,9,  -999.00,9,   1.8711,2,     1451
  49RY20120726,   40N,    69,  1,     14,    999,2,20120903,1341, 37.0053, 167.1808, 4842,   2360.7,   1.7639,   1.7638,2,  34.6216,2,  34.6220,2,     89.3,2,     89.4,2,   164.36,2,    40.01,2,     0.00,2,     2.81,2,    0.004,2,    0.000,2,   2366.8,2,   2417.0,2,   7.4427,4,    25.00,  -999.00,9,  -999.00,9,   1.7638,2,     1444
  49RY20120726,   40N,    69,  1,     13,    667,2,20120903,1341, 37.0053, 167.1808, 4842,   2562.5,   1.6629,   1.6629,2,  34.6394,2,  34.6399,2,    103.6,2,    103.6,2,   162.53,2,    39.09,2,     0.00,2,     2.75,2, -999.000,9, -999.000,9,   2357.9,2,   2418.2,2,   7.4664,4,    25.00,  -999.00,9,  -999.00,9,   1.6629,2,     1439
  49RY20120726,   40N,    69,  1,     12,     74,2,20120903,1341, 37.0053, 167.1808, 4842,   2766.3,   1.5928,   1.5928,2,  34.6517,2,  34.6518,2,    114.9,2,    115.4,2,   159.97,2,    38.37,2,     0.00,2,     2.68,2, -999.000,9, -999.000,9,   2356.3,2,   2417.7,2,   7.4904,4,    25.00,  -999.00,9,  -999.00,9,   1.5928,2,     1434
  49RY20120726,   40N,    69,  1,     11,    996,2,20120903,1341, 37.0053, 167.1808, 4842,   2973.0,   1.5388,   1.5388,2,  34.6612,2,  34.6618,2,    124.7,2,    124.5,2,   157.97,2,    37.82,2,     0.00,2,     2.63,2, -999.000,9, -999.000,9,   2345.6,6,   2419.0,6,   7.5069,4,    25.00,  -999.00,9,  -999.00,9,   1.5388,2,     1428
  49RY20120726,   40N,    69,  1,     10,    107,2,20120903,1341, 37.0053, 167.1808, 4842,   3218.0,   1.4896,   1.4896,2,  34.6696,2,  34.6681,4,    134.0,2,    133.5,2,   155.45,2,    37.22,2,     0.00,2,     2.59,2, -999.000,9, -999.000,9,   2341.5,2,   2417.9,2,   7.5263,4,    25.00,  -999.00,9,  -999.00,9,   1.4896,2,     1422
  49RY20120726,   40N,    69,  1,      9,    108,2,20120903,1341, 37.0053, 167.1808, 4842,   3218.0,   1.4896,   1.4896,2,  34.6696,2,  34.6697,2,    134.0,2,    133.9,6,   155.50,6,    37.16,6,     0.00,6,     2.58,6,    0.001,2,    0.000,2,   2335.1,3,   2420.8,2,   7.5278,4,    25.00,  -999.00,9,  -999.00,9,   1.4896,2,     1422
  49RY20120726,   40N,    69,  1,      8,     81,3,20120903,1341, 37.0053, 167.1808, 4842,   3476.4,   1.4644,   1.4644,2,  34.6754,2,  34.6747,6,    140.8,2,    140.4,2,   153.76,2,    36.77,2,     0.00,2,     2.55,2, -999.000,9, -999.000,9,   2341.2,2,   2417.3,2,   7.5360,4,    25.00,  -999.00,9,  -999.00,9,   1.4644,2,     1415
  49RY20120726,   40N,    69,  1,      7,    106,2,20120903,1341, 37.0053, 167.1808, 4842,   3734.2,   1.4488,   1.4484,2,  34.6802,2,  34.6798,2,    146.3,2,    146.1,2,   152.42,2,    36.35,2,     0.00,2,     2.52,2, -999.000,9, -999.000,9,   2331.9,2,   2418.4,2,   7.5485,4,    25.00,  -999.00,9,  -999.00,9,   1.4484,2,     1408
  49RY20120726,   40N,    69,  1,      5,     94,2,20120903,1341, 37.0053, 167.1808, 4842,   3989.3,   1.4421,   1.4421,2,  34.6838,2,  34.6840,2,    150.9,2,    150.9,2,   151.39,2,    36.01,2,     0.00,2,     2.49,2, -999.000,9, -999.000,9,   2326.5,2,   2417.3,2,   7.5590,4,    25.00,  -999.00,9,  -999.00,9,   1.4421,2,     1400
  49RY20120726,   40N,    69,  1,      6,    113,2,20120903,1341, 37.0053, 167.1808, 4842,   3990.3,   1.4415,   1.4413,2,  34.6839,2,  34.6839,2,    150.9,2,    151.0,2,   151.36,2,    36.06,2,     0.00,2,     2.50,2, -999.000,9, -999.000,9,   2324.7,2,   2416.7,2,   7.5551,4,    25.00,  -999.00,9,  -999.00,9,   1.4413,2,     1401
  49RY20120726,   40N,    69,  1,      4,     77,2,20120903,1341, 37.0053, 167.1808, 4842,   4246.5,   1.4456,   1.4454,2,  34.6865,2,  34.6864,2,    154.2,2,    154.2,2,   150.76,2,    35.84,2,     0.00,2,     2.47,2,    0.009,2,    0.006,2,   2328.6,2,   2417.5,6,   7.5639,4,    25.00,  -999.00,9,  -999.00,9,   1.4454,2,     1354
  49RY20120726,   40N,    69,  1,      3,    104,2,20120903,1341, 37.0053, 167.1808, 4842,   4503.0,   1.4639,   1.4638,2,  34.6877,2,  34.6881,2,    155.9,2,    155.6,2,   150.81,2,    35.70,2,     0.00,2,     2.47,2, -999.000,9, -999.000,9,   2330.4,2,   2415.8,2,   7.5642,4,    25.00,  -999.00,9,  -999.00,9,   1.4638,2,     1348
  49RY20120726,   40N,    69,  1,      2,     75,2,20120903,1341, 37.0053, 167.1808, 4842,   4753.3,   1.4850,   1.4848,2,  34.6885,2,  34.6889,2,    157.2,2,    157.1,2,   150.49,2,    35.58,2,     0.00,2,     2.46,2, -999.000,9, -999.000,9,   2317.8,3,   2414.7,2,   7.5659,4,    25.00,  -999.00,9,  -999.00,9,   1.4848,2,     1342
  49RY20120726,   40N,    69,  1,      1,    997,2,20120903,1341, 37.0053, 167.1808, 4842,   4754.1,   1.4850,   1.4848,2,  34.6885,2,  34.6887,2,    157.2,2,    156.9,2,   150.68,2,    35.64,2,     0.00,2,     2.46,2,    0.020,2,    0.003,2,   2325.9,2,   2417.7,2,   7.5677,4,    25.00,  -999.00,9,  -999.00,9,   1.4848,2,     1342