BOTTLE,20210419PRINUNIVRMK
EXPOCODE,SECT_ID,STNNBR,CASTNO,SAMPNO,BTLNBR,BTLNBR_FLAG_W,DATE,TIME,LATITUDE,LONGITUDE,DEPTH,CTDPRS,CTDTMP,SBE35,SBE35_FLAG_W,CTDSAL,CTDSAL_FLAG_W,SALNTY,SALNTY_FLAG_W,CTDOXY,CTDOXY_FLAG_W,OXYGEN,OXYGEN_FLAG_W,SILCAT,SILCAT_FLAG_W,NITRAT,NITRAT_FLAG_W,NITRIT,NITRIT_FLAG_W,PHSPHT,PHSPHT_FLAG_W,CFC-11,CFC-11_FLAG_W,CFC-12,CFC-12_FLAG_W,TCARBN,TCARBN_FLAG_W,ALKALI,ALKALI_FLAG_W,PH_TOT,PH_TOT_FLAG_W,PH_TMP,CHLORA,CHLORA_FLAG_W,PPHYTN,PPHYTN_FLAG_W,SBE35,SBE35_FLAG_W,BTL_TIME
,,,,,,,,,,,METERS,DBAR,ITS-90,,,PSS-78,,PSS-78,,UMOL/KG,,UMOL/KG,,UMOL/KG,,UMOL/KG,,UMOL/KG,,UMOL/KG,,PMOL/KG,,PMOL/KG,,UMOL/KG,,UMOL/KG,,,,DEG C,UG/KG,,UG/KG,,,,
  49RY20120726,   40N,    68,  1,     36,    109,2,20120903,0541, 36.4832, 167.4980, 5627,     10.5,  24.8039,  24.8036,2,  34.3910,2,-999.0000,9,    212.7,2,    213.3,2,     1.53,2,     0.00,2,     0.00,2,     0.02,2, -999.000,9, -999.000,9,   -999.0,9,   -999.0,9,-999.0000,9,  -999.00,  -999.00,9,  -999.00,9,  24.8036,2,      805
  49RY20120726,   40N,    68,  1,     35,    112,2,20120903,0541, 36.4832, 167.4980, 5627,     49.2,  19.4530,  19.4761,2,  34.6292,2,-999.0000,9,    236.5,2,    236.8,2,     2.83,2,     0.01,2,     0.00,2,     0.05,2, -999.000,9, -999.000,9,   -999.0,9,   -999.0,9,-999.0000,9,  -999.00,  -999.00,9,  -999.00,9,  19.4761,2,      801
  49RY20120726,   40N,    68,  1,     34,     83,2,20120903,0541, 36.4832, 167.4980, 5627,    100.6,  17.3225,  17.3232,2,  34.6776,2,-999.0000,9,    208.5,2,    209.2,6,     4.96,6,     4.40,6,     0.03,6,     0.30,6, -999.000,9, -999.000,9,   -999.0,9,   -999.0,9,-999.0000,9,  -999.00,  -999.00,9,  -999.00,9,  17.3232,2,      759
  49RY20120726,   40N,    68,  1,     33,     86,2,20120903,0541, 36.4832, 167.4980, 5627,    152.2,  16.2218,  16.2285,2,  34.6321,2,-999.0000,9,    203.0,2,    204.6,2,     6.98,2,     6.55,2,     0.01,2,     0.43,3, -999.000,9, -999.000,9,   -999.0,9,   -999.0,9,-999.0000,9,  -999.00,  -999.00,9,  -999.00,9,  16.2285,2,      757
  49RY20120726,   40N,    68,  1,     32,    105,2,20120903,0541, 36.4832, 167.4980, 5627,    202.4,  14.9333,  14.9039,2,  34.5642,2,-999.0000,9,    216.7,2,    217.6,2,     8.05,2,     7.20,2,     0.01,2,     0.49,2, -999.000,9, -999.000,9,   -999.0,9,   -999.0,9,-999.0000,9,  -999.00,  -999.00,9,  -999.00,9,  14.9039,2,      753
  49RY20120726,   40N,    68,  1,     31,     76,2,20120903,0541, 36.4832, 167.4980, 5627,    254.5,  13.5400,  13.5393,2,  34.4732,2,-999.0000,9,    202.9,2,    207.6,6,    13.16,6,    10.27,6,     0.01,6,     0.71,6, -999.000,9, -999.000,9,   -999.0,9,   -999.0,9,-999.0000,9,  -999.00,  -999.00,9,  -999.00,9,  13.5393,2,      750
  49RY20120726,   40N,    68,  1,     30,     97,2,20120903,0541, 36.4832, 167.4980, 5627,    333.0,  11.5718,  11.5691,2,  34.3097,2,-999.0000,9,    223.0,2,    222.8,2,    16.39,2,    11.96,2,     0.01,2,     0.84,2, -999.000,9, -999.000,9,   -999.0,9,   -999.0,9,-999.0000,9,  -999.00,  -999.00,9,  -999.00,9,  11.5691,2,      748
  49RY20120726,   40N,    68,  1,     29,    102,2,20120903,0541, 36.4832, 167.4980, 5627,    433.8,   9.1119,   9.1134,2,  34.1093,2,-999.0000,9,    224.1,2,    225.6,2,    25.04,2,    16.08,2,     0.01,2,     1.16,2, -999.000,9, -999.000,9,   -999.0,9,   -999.0,9,-999.0000,9,  -999.00,  -999.00,9,  -999.00,9,   9.1134,2,      745
  49RY20120726,   40N,    68,  1,     28,     91,2,20120903,0541, 36.4832, 167.4980, 5627,    535.1,   6.8963,   6.8986,2,  34.0193,2,-999.0000,9,    155.7,2,    155.2,2,    50.97,2,    26.77,2,     0.00,2,     1.94,2, -999.000,9, -999.000,9,   -999.0,9,   -999.0,9,-999.0000,9,  -999.00,  -999.00,9,  -999.00,9,   6.8986,2,      743
  49RY20120726,   40N,    68,  1,     27,    998,2,20120903,0541, 36.4832, 167.4980, 5627,    635.1,   5.1947,   5.1987,2,  34.0048,2,-999.0000,9,    116.8,2,    116.1,6,    73.29,6,    33.42,6,     0.00,6,     2.41,6, -999.000,9, -999.000,9,   -999.0,9,   -999.0,9,-999.0000,9,  -999.00,  -999.00,9,  -999.00,9,   5.1987,2,      740
  49RY20120726,   40N,    68,  1,     26,     84,2,20120903,0541, 36.4832, 167.4980, 5627,    736.7,   4.4984,   4.4991,2,  34.0819,2,-999.0000,9,     79.9,2,     79.0,2,    91.41,2,    37.68,2,     0.00,2,     2.71,2, -999.000,9, -999.000,9,   -999.0,9,   -999.0,9,-999.0000,9,  -999.00,  -999.00,9,  -999.00,9,   4.4991,2,      738
  49RY20120726,   40N,    68,  1,     25,     98,2,20120903,0541, 36.4832, 167.4980, 5627,    837.9,   4.1865,   4.1865,2,  34.1939,2,-999.0000,9,     58.8,2,     57.8,2,   105.37,2,    39.64,2,     0.00,2,     2.83,2, -999.000,9, -999.000,9,   -999.0,9,   -999.0,9,-999.0000,9,  -999.00,  -999.00,9,  -999.00,9,   4.1865,2,      733
  49RY20120726,   40N,    68,  1,     24,    110,2,20120903,0541, 36.4832, 167.4980, 5627,    941.8,   3.7440,   3.7441,2,  34.2730,2,-999.0000,9,     46.0,2,     45.3,2,   118.29,2,    41.11,2,     0.00,2,     2.94,2, -999.000,9, -999.000,9,   -999.0,9,   -999.0,9,-999.0000,9,  -999.00,  -999.00,9,  -999.00,9,   3.7441,2,      730
  49RY20120726,   40N,    68,  1,     23,     96,3,20120903,0541, 36.4832, 167.4980, 5627,   1081.3,   3.3428,   3.3429,2,  34.3429,2,-999.0000,9,     38.8,2,     38.6,2,   129.87,2,    42.07,2,     0.00,2,     3.01,2, -999.000,9, -999.000,9,   -999.0,9,   -999.0,9,-999.0000,9,  -999.00,  -999.00,9,  -999.00,9,   3.3429,2,      727
  49RY20120726,   40N,    68,  1,     22,    111,2,20120903,0541, 36.4832, 167.4980, 5627,   1284.0,   2.8810,   2.8806,2,  34.4240,2,-999.0000,9,     31.5,2,     31.2,2,   144.23,2,    43.29,2,     0.00,2,     3.08,2, -999.000,9, -999.000,9,   -999.0,9,   -999.0,9,-999.0000,9,  -999.00,  -999.00,9,  -999.00,9,   2.8806,2,      723
  49RY20120726,   40N,    68,  1,     21,     78,2,20120903,0541, 36.4832, 167.4980, 5627,   1486.2,   2.5524,   2.5536,2,  34.4821,2,-999.0000,9,     35.9,2,     35.3,2,   153.86,2,    43.27,2,     0.00,2,     3.06,2, -999.000,9, -999.000,9,   -999.0,9,   -999.0,9,-999.0000,9,  -999.00,  -999.00,9,  -999.00,9,   2.5536,2,      716
  49RY20120726,   40N,    68,  1,     20,     93,2,20120903,0541, 36.4832, 167.4980, 5627,   1689.3,   2.2785,   2.2774,2,  34.5253,2,-999.0000,9,     45.4,2,     45.4,2,   160.80,2,    42.68,2,     0.00,2,     3.01,2, -999.000,9, -999.000,9,   -999.0,9,   -999.0,9,-999.0000,9,  -999.00,  -999.00,9,  -999.00,9,   2.2774,2,      712
  49RY20120726,   40N,    68,  1,     19,     92,2,20120903,0541, 36.4832, 167.4980, 5627,   1891.7,   2.0867,   2.0864,2,  34.5598,2,-999.0000,9,     56.4,2,     56.3,2,   164.17,2,    42.09,2,     0.00,2,     2.96,2, -999.000,9, -999.000,9,   -999.0,9,   -999.0,9,-999.0000,9,  -999.00,  -999.00,9,  -999.00,9,   2.0864,2,      708
  49RY20120726,   40N,    68,  1,     18,    101,2,20120903,0541, 36.4832, 167.4980, 5627,   2097.1,   1.9336,   1.9337,2,  34.5898,2,-999.0000,9,     69.5,2,     69.4,2,   165.76,2,    41.31,2,     0.00,2,     2.90,2, -999.000,9, -999.000,9,   -999.0,9,   -999.0,9,-999.0000,9,  -999.00,  -999.00,9,  -999.00,9,   1.9337,2,      700
  49RY20120726,   40N,    68,  1,     17,     90,2,20120903,0541, 36.4832, 167.4980, 5627,   2300.1,   1.8151,   1.8151,2,  34.6128,2,-999.0000,9,     83.4,2,     83.2,2,   164.71,2,    40.42,2,     0.00,2,     2.84,2, -999.000,9, -999.000,9,   -999.0,9,   -999.0,9,-999.0000,9,  -999.00,  -999.00,9,  -999.00,9,   1.8151,2,      656
  49RY20120726,   40N,    68,  1,     16,     89,3,20120903,0541, 36.4832, 167.4980, 5627,   2504.6,   1.7158,   1.7157,2,  34.6305,2,-999.0000,9,     96.6,2,     96.4,2,   163.68,2,    39.64,2,     0.00,2,     2.77,2, -999.000,9, -999.000,9,   -999.0,9,   -999.0,9,-999.0000,9,  -999.00,  -999.00,9,  -999.00,9,   1.7157,2,      651
  49RY20120726,   40N,    68,  1,     15,     88,2,20120903,0541, 36.4832, 167.4980, 5627,   2707.7,   1.6393,   1.6392,2,  34.6441,2,-999.0000,9,    108.1,2,    107.7,6,   162.05,6,    38.91,6,     0.00,6,     2.72,6, -999.000,9, -999.000,9,   -999.0,9,   -999.0,9,-999.0000,9,  -999.00,  -999.00,9,  -999.00,9,   1.6392,2,      644
  49RY20120726,   40N,    68,  1,     14,    999,3,20120903,0541, 36.4832, 167.4980, 5627,   2912.2,   1.5764,   1.5764,2,  34.6551,2,-999.0000,9,    118.7,2,    118.6,2,   159.85,2,    38.22,2,     0.00,2,     2.67,2, -999.000,9, -999.000,9,   -999.0,9,   -999.0,9,-999.0000,9,  -999.00,  -999.00,9,  -999.00,9,   1.5764,2,      640
  49RY20120726,   40N,    68,  1,     13,    667,3,20120903,0541, 36.4832, 167.4980, 5627,   3126.7,   1.5321,   1.5321,2,  34.6635,2,-999.0000,9,    127.3,2,    127.2,2,   157.75,2,    37.67,2,     0.00,2,     2.63,2, -999.000,9, -999.000,9,   -999.0,9,   -999.0,9,-999.0000,9,  -999.00,  -999.00,9,  -999.00,9,   1.5321,2,      634
  49RY20120726,   40N,    68,  1,     12,     74,2,20120903,0541, 36.4832, 167.4980, 5627,   3383.0,   1.4946,   1.4945,2,  34.6709,2,-999.0000,9,    135.7,2,    135.2,2,   155.57,2,    37.11,2,     0.00,2,     2.58,2, -999.000,9, -999.000,9,   -999.0,9,   -999.0,9,-999.0000,9,  -999.00,  -999.00,9,  -999.00,9,   1.4945,2,      629
  49RY20120726,   40N,    68,  1,     11,    996,2,20120903,0541, 36.4832, 167.4980, 5627,   3637.7,   1.4718,   1.4719,2,  34.6765,2,-999.0000,9,    142.1,2,    142.6,2,   153.98,2,    36.71,2,     0.00,2,     2.55,2, -999.000,9, -999.000,9,   -999.0,9,   -999.0,9,-999.0000,9,  -999.00,  -999.00,9,  -999.00,9,   1.4719,2,      623
  49RY20120726,   40N,    68,  1,     10,    107,2,20120903,0541, 36.4832, 167.4980, 5627,   3894.7,   1.4573,   1.4572,2,  34.6809,2,-999.0000,9,    147.7,2,    146.7,2,   152.71,2,    36.33,2,     0.00,2,     2.52,2, -999.000,9, -999.000,9,   -999.0,9,   -999.0,9,-999.0000,9,  -999.00,  -999.00,9,  -999.00,9,   1.4572,2,      618
  49RY20120726,   40N,    68,  1,      9,    108,2,20120903,0541, 36.4832, 167.4980, 5627,   4151.3,   1.4557,   1.4557,2,  34.6843,2,-999.0000,9,    151.6,2,    151.4,2,   151.67,2,    36.02,2,     0.00,2,     2.49,2, -999.000,9, -999.000,9,   -999.0,9,   -999.0,9,-999.0000,9,  -999.00,  -999.00,9,  -999.00,9,   1.4557,2,      613
  49RY20120726,   40N,    68,  1,      8,     81,2,20120903,0541, 36.4832, 167.4980, 5627,   4408.3,   1.4666,   1.4666,2,  34.6864,2,-999.0000,9,    154.1,2,    153.6,2,   151.13,2,    35.86,2,     0.00,2,     2.48,2, -999.000,9, -999.000,9,   -999.0,9,   -999.0,9,-999.0000,9,  -999.00,  -999.00,9,  -999.00,9,   1.4666,2,      608
  49RY20120726,   40N,    68,  1,      7,    106,2,20120903,0541, 36.4832, 167.4980, 5627,   4408.3,   1.4666,   1.4666,2,  34.6864,2,-999.0000,9,    154.1,2,    153.2,2,   151.25,2,    35.89,2,     0.00,2,     2.48,2, -999.000,9, -999.000,9,   -999.0,9,   -999.0,9,-999.0000,9,  -999.00,  -999.00,9,  -999.00,9,   1.4666,2,      608
  49RY20120726,   40N,    68,  1,      6,    113,3,20120903,0541, 36.4832, 167.4980, 5627,   4664.8,   1.4834,   1.4835,2,  34.6879,2,-999.0000,9,    156.0,2,    155.8,2,   150.61,2,    35.74,2,     0.00,2,     2.47,2, -999.000,9, -999.000,9,   -999.0,9,   -999.0,9,-999.0000,9,  -999.00,  -999.00,9,  -999.00,9,   1.4835,2,      603
  49RY20120726,   40N,    68,  1,      5,     94,2,20120903,0541, 36.4832, 167.4980, 5627,   4922.4,   1.4996,   1.4997,2,  34.6892,2,-999.0000,9,    159.0,2,    158.7,2,   147.85,2,    35.55,2,     0.00,2,     2.45,2, -999.000,9, -999.000,9,   -999.0,9,   -999.0,9,-999.0000,9,  -999.00,  -999.00,9,  -999.00,9,   1.4997,2,      558
  49RY20120726,   40N,    68,  1,      4,     77,2,20120903,0541, 36.4832, 167.4980, 5627,   5181.0,   1.5033,   1.5035,2,  34.6917,2,-999.0000,9,    164.3,2,    164.9,2,   142.60,2,    35.17,2,     0.00,2,     2.42,2, -999.000,9, -999.000,9,   -999.0,9,   -999.0,9,-999.0000,9,  -999.00,  -999.00,9,  -999.00,9,   1.5035,2,      552
  49RY20120726,   40N,    68,  1,      3,    104,2,20120903,0541, 36.4832, 167.4980, 5627,   5438.2,   1.5146,   1.5146,2,  34.6933,2,-999.0000,9,    168.2,2,    167.9,2,   139.18,2,    34.93,2,     0.00,2,     2.40,2, -999.000,9, -999.000,9,   -999.0,9,   -999.0,9,-999.0000,9,  -999.00,  -999.00,9,  -999.00,9,   1.5146,2,      547
  49RY20120726,   40N,    68,  1,      2,     75,2,20120903,0541, 36.4832, 167.4980, 5627,   5696.7,   1.5349,   1.5347,2,  34.6942,2,-999.0000,9,    170.5,2,    170.6,2,   137.11,2,    34.69,2,     0.00,2,     2.38,2, -999.000,9, -999.000,9,   -999.0,9,   -999.0,9,-999.0000,9,  -999.00,  -999.00,9,  -999.00,9,   1.5347,2,      542
  49RY20120726,   40N,    68,  1,      1,    997,2,20120903,0541, 36.4832, 167.4980, 5627,   5720.6,   1.5382,   1.5380,2,  34.6943,2,-999.0000,9,    170.6,2,    170.6,2,   137.17,2,    34.73,2,     0.00,2,     2.40,2, -999.000,9, -999.000,9,   -999.0,9,   -999.0,9,-999.0000,9,  -999.00,  -999.00,9,  -999.00,9,   1.5380,2,      541