BOTTLE,20210419PRINUNIVRMK
EXPOCODE,SECT_ID,STNNBR,CASTNO,SAMPNO,BTLNBR,BTLNBR_FLAG_W,DATE,TIME,LATITUDE,LONGITUDE,DEPTH,CTDPRS,CTDTMP,SBE35,SBE35_FLAG_W,CTDSAL,CTDSAL_FLAG_W,SALNTY,SALNTY_FLAG_W,CTDOXY,CTDOXY_FLAG_W,OXYGEN,OXYGEN_FLAG_W,SILCAT,SILCAT_FLAG_W,NITRAT,NITRAT_FLAG_W,NITRIT,NITRIT_FLAG_W,PHSPHT,PHSPHT_FLAG_W,CFC-11,CFC-11_FLAG_W,CFC-12,CFC-12_FLAG_W,TCARBN,TCARBN_FLAG_W,ALKALI,ALKALI_FLAG_W,PH_TOT,PH_TOT_FLAG_W,PH_TMP,CHLORA,CHLORA_FLAG_W,PPHYTN,PPHYTN_FLAG_W,SBE35,SBE35_FLAG_W,BTL_TIME
,,,,,,,,,,,METERS,DBAR,ITS-90,,,PSS-78,,PSS-78,,UMOL/KG,,UMOL/KG,,UMOL/KG,,UMOL/KG,,UMOL/KG,,UMOL/KG,,PMOL/KG,,PMOL/KG,,UMOL/KG,,UMOL/KG,,,,DEG C,UG/KG,,UG/KG,,,,
  49RY20120726,   40N,    37,  1,     36,    109,2,20120808,0755, 40.0160, 163.6415, 5375,     11.2,  19.5318,  19.5178,2,  34.0898,2,  34.0882,2,    242.9,2,    243.0,2,     2.29,2,     0.00,2,     0.00,2,     0.08,2,    2.340,2,    1.343,2,   1976.3,6,   2253.6,6,   8.0094,2,    25.00,     0.15,2,     0.08,2,  19.5178,2,     1159
  49RY20120726,   40N,    37,  1,     35,    112,2,20120808,0755, 40.0160, 163.6415, 5375,     51.0,  13.6178,  13.6119,2,  34.4141,2,  34.4139,2,    221.7,2,    222.2,2,    11.38,2,     8.57,2,     0.24,2,     0.64,2,    2.699,2,    1.544,2,   2066.5,2,   2274.8,2,   7.8804,6,    25.00,     0.48,2,     0.22,2,  13.6119,2,     1155
  49RY20120726,   40N,    37,  1,     34,     83,3,20120808,0755, 40.0160, 163.6415, 5375,    102.3,  11.1479,  11.1595,2,  34.2840,2,  34.2857,2,    228.5,2,    229.2,2,    16.88,2,    12.10,2,     0.03,2,     0.88,2,    2.930,2,    1.665,2,   2090.7,2,   2271.9,2,   7.8256,2,    25.00,     0.03,2,     0.03,2,  11.1595,2,     1153
  49RY20120726,   40N,    37,  1,     33,     86,2,20120808,0755, 40.0160, 163.6415, 5375,    151.7,   9.7930,   9.8142,2,  34.1543,2,  34.1627,2,    227.9,2,    227.7,6,    21.65,6,    14.47,6,     0.01,6,     1.06,6,    3.045,2,    1.715,2,   2105.0,2,   2270.7,2,   7.7823,2,    25.00,     0.00,2,     0.02,2,   9.8142,2,     1150
  49RY20120726,   40N,    37,  1,     32,    105,2,20120808,0755, 40.0160, 163.6415, 5375,    202.4,   8.2737,   8.2649,2,  34.0062,2,  34.0203,2,    241.4,2,    239.7,2,    25.14,2,    16.00,2,     0.01,2,     1.19,2,    3.268,2,    1.829,2,   2123.1,2,   2269.8,2,   7.7513,2,    25.00,     0.00,2,     0.02,2,   8.2649,2,     1144
  49RY20120726,   40N,    37,  1,     31,     76,2,20120808,0755, 40.0160, 163.6415, 5375,    253.6,   6.6939,   6.6708,2,  33.8459,2,  33.8488,2,    242.2,2,    242.9,2,    31.93,2,    19.20,2,     0.01,2,     1.44,2,    3.526,2,    1.947,2,   2136.2,2,   2265.9,2,   7.7051,2,    25.00,  -999.00,9,  -999.00,9,   6.6708,2,     1137
  49RY20120726,   40N,    37,  1,     30,    103,2,20120808,0755, 40.0160, 163.6415, 5375,    282.9,   6.2728,   6.2732,2,  33.8306,2,  33.8303,2,    234.8,2,    235.9,2,    36.02,2,    20.82,2,     0.01,2,     1.57,2,    3.560,6,    1.981,6,   2150.5,2,   2267.1,2,   7.6761,2,    25.00,  -999.00,9,  -999.00,9,   6.2732,2,     1135
  49RY20120726,   40N,    37,  1,     29,    102,2,20120808,0755, 40.0160, 163.6415, 5375,    374.2,   5.0216,   5.0200,2,  33.8795,2,  33.8781,2,    144.1,2,    143.7,2,    64.78,2,    31.57,2,     0.00,2,     2.32,2,    2.783,2,    1.480,2,   2234.1,2,   2288.5,2,   7.4899,2,    25.00,  -999.00,9,  -999.00,9,   5.0200,2,     1132
  49RY20120726,   40N,    37,  1,     28,     91,2,20120808,0755, 40.0160, 163.6415, 5375,    374.2,   5.0216,   5.0200,2,  33.8795,2,  33.8780,2,    144.1,2,    143.5,2,    64.85,2,    31.51,2,     0.00,2,     2.31,2,    2.745,2,    1.462,2,   2233.4,2,   2289.2,2,   7.4901,2,    25.00,  -999.00,9,  -999.00,9,   5.0200,2,     1132
  49RY20120726,   40N,    37,  1,     27,    998,2,20120808,0755, 40.0160, 163.6415, 5375,    474.5,   4.7973,   4.7981,2,  34.0350,2,  34.0337,2,     98.4,2,     98.5,2,    81.86,2,    35.47,2,     0.00,2,     2.58,2,    1.901,6,    0.950,6,   2275.1,2,   2306.4,2,   7.4303,2,    25.00,  -999.00,9,  -999.00,9,   4.7981,2,     1129
  49RY20120726,   40N,    37,  1,     26,     99,3,20120808,0755, 40.0160, 163.6415, 5375,    577.5,   4.0712,   4.0702,2,  34.0732,2,  34.0722,6,     67.0,2,     68.2,2,    97.93,2,    39.25,2,     0.00,2,     2.83,2,    1.526,2,    0.769,2,   2309.5,2,   2320.0,2,   7.3669,2,    25.00,  -999.00,9,  -999.00,9,   4.0702,2,     1124
  49RY20120726,   40N,    37,  1,     25,     98,2,20120808,0755, 40.0160, 163.6415, 5375,    678.3,   3.8757,   3.8765,2,  34.1789,2,  34.1783,2,     50.6,2,     50.5,2,   110.65,2,    40.74,2,     0.00,2,     2.93,2,    0.933,2,    0.451,2,   2328.3,6,   2337.6,6,   7.3477,2,    25.00,  -999.00,9,  -999.00,9,   3.8765,2,     1121
  49RY20120726,   40N,    37,  1,     24,    110,2,20120808,0755, 40.0160, 163.6415, 5375,    779.2,   3.5807,   3.5806,2,  34.2447,2,  34.2441,2,     40.6,2,     40.4,2,   121.00,2,    41.84,2,     0.00,2,     3.00,2,    0.620,2,    0.290,2,   2346.7,2,   2351.0,2,   7.3348,2,    25.00,  -999.00,9,  -999.00,9,   3.5806,2,     1115
  49RY20120726,   40N,    37,  1,     23,     96,2,20120808,0755, 40.0160, 163.6415, 5375,    879.9,   3.2771,   3.2771,2,  34.2990,2,  34.2996,2,     35.8,2,     35.9,2,   130.86,2,    42.43,2,     0.00,2,     3.05,2,    0.449,2,    0.198,2,   2360.2,2,   2363.4,2,   7.3333,2,    25.00,  -999.00,9,  -999.00,9,   3.2771,2,     1104
  49RY20120726,   40N,    37,  1,     22,    111,2,20120808,0755, 40.0160, 163.6415, 5375,    981.4,   3.0973,   3.0980,2,  34.3458,2,  34.3449,2,     34.6,2,     34.2,2,   137.09,2,    42.77,2,     0.00,2,     3.07,2,    0.311,2,    0.141,2,   2363.6,2,   2369.8,2,   7.3363,2,    25.00,  -999.00,9,  -999.00,9,   3.0980,2,     1101
  49RY20120726,   40N,    37,  1,     21,     78,2,20120808,0755, 40.0160, 163.6415, 5375,   1145.5,   2.7786,   2.7784,2,  34.4136,2,  34.4018,4,     33.7,2,     33.8,2,   145.57,2,    43.06,2,     0.00,2,     3.08,2,    0.179,2,    0.072,2,   2367.7,2,   2379.2,2,   7.3348,2,    25.00,  -999.00,9,  -999.00,9,   2.7784,2,     1052
  49RY20120726,   40N,    37,  1,     20,     93,2,20120808,0755, 40.0160, 163.6415, 5375,   1347.1,   2.5060,   2.5060,2,  34.4716,2,  34.4714,2,     36.2,2,     36.4,6,   155.58,6,    43.15,6,     0.00,6,     3.08,6,    0.061,2,    0.037,2,   2381.6,2,   2394.1,2,   7.3517,2,    25.00,  -999.00,9,  -999.00,9,   2.5060,2,     1046
  49RY20120726,   40N,    37,  1,     19,     92,2,20120808,0755, 40.0160, 163.6415, 5375,   1552.4,   2.2844,   2.2842,2,  34.5145,2,  34.5132,6,     43.0,2,     43.4,2,   161.46,2,    42.94,2,     0.00,2,     3.05,2,    0.041,2,    0.013,2,   2381.0,2,   2401.6,2,   7.3634,2,    25.00,  -999.00,9,  -999.00,9,   2.2842,2,     1027
  49RY20120726,   40N,    37,  1,     18,    101,2,20120808,0755, 40.0160, 163.6415, 5375,   1753.2,   2.1169,   2.1169,2,  34.5490,2,  34.5497,2,     52.7,2,     52.8,2,   165.11,2,    42.20,2,     0.00,2,     3.00,2,    0.012,2,    0.004,2,   2377.8,2,   2407.8,2,   7.3852,2,    25.00,  -999.00,9,  -999.00,9,   2.1169,2,     1022
  49RY20120726,   40N,    37,  1,     17,     90,2,20120808,0755, 40.0160, 163.6415, 5375,   1957.1,   1.9891,   1.9892,2,  34.5777,2,  34.5777,2,     63.8,2,     64.4,2,   166.06,2,    41.61,2,     0.00,2,     2.95,2, -999.000,9, -999.000,9,   2381.9,2,   2412.3,2,   7.4061,2,    25.00,  -999.00,9,  -999.00,9,   1.9892,2,      951
  49RY20120726,   40N,    37,  1,     16,     89,3,20120808,0755, 40.0160, 163.6415, 5375,   2162.0,   1.8651,   1.8650,2,  34.6029,2,  34.5979,4,     76.9,2,     76.3,2,   165.61,2,    40.83,2,     0.00,2,     2.89,2,    0.000,2,    0.008,2,   2369.9,2,   2415.5,2,   7.4349,2,    25.00,  -999.00,9,  -999.00,9,   1.8650,2,      940
  49RY20120726,   40N,    37,  1,     15,     88,2,20120808,0755, 40.0160, 163.6415, 5375,   2364.5,   1.7534,   1.7534,2,  34.6236,2,  34.6220,4,     91.2,2,     91.0,2,   164.84,2,    39.90,2,     0.00,2,     2.82,2,    0.000,2,    0.006,2,   2374.6,3,   2417.8,2,   7.4590,2,    25.00,  -999.00,9,  -999.00,9,   1.7534,2,      935
  49RY20120726,   40N,    37,  1,     14,    999,2,20120808,0755, 40.0160, 163.6415, 5375,   2569.4,   1.6741,   1.6739,2,  34.6389,2,  34.6394,2,    104.0,2,    104.3,2,   162.33,2,    39.21,2,     0.00,2,     2.76,2, -999.000,9, -999.000,9,   2357.3,2,   2417.8,2,   7.4893,2,    25.00,  -999.00,9,  -999.00,9,   1.6739,2,      914
  49RY20120726,   40N,    37,  1,     13,    996,2,20120808,0755, 40.0160, 163.6415, 5375,   2774.4,   1.6121,   1.6120,2,  34.6500,2,  34.6512,2,    114.5,2,    114.7,2,   160.71,2,    38.37,2,     0.00,2,     2.71,2, -999.000,9, -999.000,9,   2352.9,2,   2419.2,2,   7.5072,2,    25.00,  -999.00,9,  -999.00,9,   1.6120,2,      908
  49RY20120726,   40N,    37,  1,     12,     74,2,20120808,0755, 40.0160, 163.6415, 5375,   2774.4,   1.6121,   1.6120,2,  34.6500,2,  34.6495,2,    114.5,2,    114.4,6,   160.18,6,    38.47,6,     0.00,6,     2.71,6, -999.000,9, -999.000,9,   2350.0,2,   2418.7,2,   7.5072,2,    25.00,  -999.00,9,  -999.00,9,   1.6120,2,      908
  49RY20120726,   40N,    37,  1,      2,     75,2,20120808,0755, 40.0160, 163.6415, 5375,   2975.6,   1.5682,   1.5682,2,  34.6580,2,  34.6581,6,    122.3,2,    122.5,2,   158.70,2,    37.82,2,     0.00,2,     2.66,2,    0.000,2,    0.000,3,   2337.4,3,   2418.3,2,   7.5231,6,    25.00,  -999.00,9,  -999.00,9,   1.5682,2,      900
  49RY20120726,   40N,    37,  1,      1,    997,2,20120808,0755, 40.0160, 163.6415, 5375,   3219.2,   1.5205,   1.5203,2,  34.6664,2,  34.6669,2,    131.3,2,    146.2,4,   156.52,2,    37.44,2,     0.00,2,     2.62,2,    0.000,2,    0.002,3,   2333.0,3,   2417.8,2,   7.5370,2,    25.00,  -999.00,9,  -999.00,9,   1.5203,2,      853
  49RY20120726,   40N,    37,  1,      9,    108,2,20120808,0755, 40.0160, 163.6415, 5375,   3476.1,   1.4910,   1.4911,2,  34.6727,2,  34.6720,2,    138.4,2,    137.9,2,   154.86,2,    36.92,2,     0.00,2,     2.59,2,    0.000,2,    0.002,2,   2341.1,2,   2418.0,6,   7.5518,2,    25.00,  -999.00,9,  -999.00,9,   1.4911,2,      845
  49RY20120726,   40N,    37,  1,      8,     81,2,20120808,0755, 40.0160, 163.6415, 5375,   3730.7,   1.4787,   1.4787,2,  34.6770,2,  34.6781,2,    143.5,2,    143.3,2,   153.64,2,    36.49,2,     0.00,2,     2.56,2, -999.000,9, -999.000,9,   2334.5,2,   2417.8,2,   7.5587,6,    25.00,  -999.00,9,  -999.00,9,   1.4787,2,      839
  49RY20120726,   40N,    37,  1,      7,    106,2,20120808,0755, 40.0160, 163.6415, 5375,   3990.9,   1.4739,   1.4742,2,  34.6806,2,  34.6805,2,    147.5,2,    147.6,6,   152.45,6,    36.27,6,     0.00,6,     2.54,6, -999.000,9, -999.000,9,   2316.9,3,   2418.2,2,   7.5652,2,    25.00,  -999.00,9,  -999.00,9,   1.4742,2,      832
  49RY20120726,   40N,    37,  1,      6,    113,3,20120808,0755, 40.0160, 163.6415, 5375,   4245.5,   1.4756,   1.4756,2,  34.6835,2,  34.6811,4,    151.2,2,    149.9,4,   151.31,2,    36.05,2,     0.00,2,     2.52,2, -999.000,9, -999.000,9,   2322.4,2,   2418.6,2,   7.5694,2,    25.00,  -999.00,9,  -999.00,9,   1.4756,2,      825
  49RY20120726,   40N,    37,  1,      5,     94,2,20120808,0755, 40.0160, 163.6415, 5375,   4502.0,   1.4904,   1.4904,2,  34.6853,2,  34.6844,2,    153.2,2,    154.9,4,   150.59,2,    35.87,2,     0.00,2,     2.51,2,    0.000,2,    0.000,2,   2328.9,2,   2356.8,4,   7.5760,2,    25.00,  -999.00,9,  -999.00,9,   1.4904,2,      819
  49RY20120726,   40N,    37,  1,      4,     77,2,20120808,0755, 40.0160, 163.6415, 5375,   4759.3,   1.5088,   1.5089,2,  34.6866,2,  34.6862,2,    154.7,2,    155.0,2,   150.15,2,    35.68,2,     0.00,2,     2.49,2, -999.000,9, -999.000,9,   2321.5,2,   2415.1,2,   7.5771,2,    25.00,  -999.00,9,  -999.00,9,   1.5089,2,      813
  49RY20120726,   40N,    37,  1,      3,    104,2,20120808,0755, 40.0160, 163.6415, 5375,   5017.9,   1.5319,   1.5317,2,  34.6875,2,  34.6870,2,    156.1,2,    155.6,2,   149.68,2,    35.63,2,     0.00,2,     2.49,2, -999.000,9, -999.000,9,   2323.1,2,   2416.3,6,   7.5783,2,    25.00,  -999.00,9,  -999.00,9,   1.5317,2,      807
  49RY20120726,   40N,    37,  1,     11,     97,3,20120808,0755, 40.0160, 163.6415, 5375,   5277.6,   1.5537,   1.5536,2,  34.6887,2,  34.6790,4,    158.0,2,    153.0,4,   148.96,2,    35.78,2,     0.00,2,     2.50,2,    0.000,2,    0.000,3,   2314.9,2,   2416.5,2,   7.5733,3,    25.00,  -999.00,9,  -999.00,9,   1.5536,2,      801
  49RY20120726,   40N,    37,  1,     10,    107,2,20120808,0755, 40.0160, 163.6415, 5375,   5444.7,   1.5656,   1.5654,2,  34.6898,2,  34.6835,4,    159.6,2,    155.2,4,   148.26,2,    35.63,2,     0.00,2,     2.50,2,    0.000,2,    0.013,3,   2314.2,2,   2416.3,2,   7.5799,2,    25.00,  -999.00,9,  -999.00,9,   1.5654,2,      756