BOTTLE,20210419PRINUNIVRMK
EXPOCODE,SECT_ID,STNNBR,CASTNO,SAMPNO,BTLNBR,BTLNBR_FLAG_W,DATE,TIME,LATITUDE,LONGITUDE,DEPTH,CTDPRS,CTDTMP,SBE35,SBE35_FLAG_W,CTDSAL,CTDSAL_FLAG_W,SALNTY,SALNTY_FLAG_W,CTDOXY,CTDOXY_FLAG_W,OXYGEN,OXYGEN_FLAG_W,SILCAT,SILCAT_FLAG_W,NITRAT,NITRAT_FLAG_W,NITRIT,NITRIT_FLAG_W,PHSPHT,PHSPHT_FLAG_W,CFC-11,CFC-11_FLAG_W,CFC-12,CFC-12_FLAG_W,TCARBN,TCARBN_FLAG_W,ALKALI,ALKALI_FLAG_W,PH_TOT,PH_TOT_FLAG_W,PH_TMP,CHLORA,CHLORA_FLAG_W,PPHYTN,PPHYTN_FLAG_W,SBE35,SBE35_FLAG_W,BTL_TIME
,,,,,,,,,,,METERS,DBAR,ITS-90,,,PSS-78,,PSS-78,,UMOL/KG,,UMOL/KG,,UMOL/KG,,UMOL/KG,,UMOL/KG,,UMOL/KG,,PMOL/KG,,PMOL/KG,,UMOL/KG,,UMOL/KG,,,,DEG C,UG/KG,,UG/KG,,,,
  49RY20120726,   40N,    39,  1,     36,    109,2,20120810,1532, 40.0147, 164.9972, 5489,      9.8,  24.2496,  24.2342,2,  34.0519,2,  34.0573,4,    218.4,2,    216.5,2,     1.41,2,     0.00,2,     0.00,2,     0.05,2,    1.876,2,    1.172,2,   1979.1,2,   2248.1,2,   8.0230,2,    25.00,     0.11,2,     0.01,2,  24.2342,2,     1810
  49RY20120726,   40N,    39,  1,     35,    112,2,20120810,1532, 40.0147, 164.9972, 5489,     50.3,  15.6257,  15.6555,2,  34.5285,2,  34.5264,2,    259.6,2,    262.2,2,     2.49,2,     0.91,2,     0.07,2,     0.15,2,    2.629,2,    1.444,2,   2018.0,6,   2280.3,6,   7.9860,2,    25.00,     0.38,2,     0.29,2,  15.6555,2,     1807
  49RY20120726,   40N,    39,  1,     34,     83,3,20120810,1532, 40.0147, 164.9972, 5489,    100.7,  12.7451,  12.7440,2,  34.3973,2,  34.3904,2,    218.3,2,    218.4,2,    13.94,2,    10.82,2,     0.04,2,     0.78,2,    2.715,2,    1.551,2,   2082.7,2,   2275.3,2,   7.8470,6,    25.00,     0.14,2,     0.06,2,  12.7440,2,     1804
  49RY20120726,   40N,    39,  1,     33,     86,2,20120810,1532, 40.0147, 164.9972, 5489,    151.5,  11.0144,  10.9947,2,  34.2566,2,  34.2597,2,    228.2,2,    228.4,2,    17.43,2,    12.28,2,     0.02,2,     0.89,2,    2.901,2,    1.596,2,   2091.7,2,   2274.5,2,   7.8180,2,    25.00,     0.01,2,     0.02,2,  10.9947,2,     1802
  49RY20120726,   40N,    39,  1,     32,    105,2,20120810,1532, 40.0147, 164.9972, 5489,    201.4,   9.8780,   9.8787,2,  34.1389,2,  34.1559,2,    220.4,2,    216.6,2,    23.09,2,    15.29,2,     0.01,2,     1.12,2,    2.942,2,    1.620,2,   2114.6,2,   2272.8,2,   7.7702,2,    25.00,     0.00,2,     0.02,2,   9.8787,2,     1758
  49RY20120726,   40N,    39,  1,     31,     76,2,20120810,1532, 40.0147, 164.9972, 5489,    201.4,   9.8780,   9.8787,2,  34.1389,2,  34.1545,2,    220.4,2,    218.0,6,    22.91,6,    15.21,6,     0.01,6,     1.11,6,    2.944,2,    1.589,2,   2116.9,2,   2273.2,2,   7.7700,2,    25.00,  -999.00,9,  -999.00,9,   9.8787,2,     1758
  49RY20120726,   40N,    39,  1,     30,    103,2,20120810,1532, 40.0147, 164.9972, 5489,    252.7,   8.9250,   8.9250,2,  34.0772,2,  34.0771,2,    226.5,2,    226.6,2,    25.22,2,    16.18,2,     0.00,2,     1.19,2,    3.063,6,    1.727,6,   2127.2,2,   2272.3,2,   7.7544,2,    25.00,  -999.00,9,  -999.00,9,   8.9250,2,     1754
  49RY20120726,   40N,    39,  1,     29,    102,2,20120810,1532, 40.0147, 164.9972, 5489,    302.4,   7.9080,   7.9082,2,  34.0056,2,  34.0043,2,    216.2,2,    215.3,2,    32.50,2,    19.20,2,     0.00,2,     1.42,2,    3.090,2,    1.697,2,   2144.6,6,   2273.7,6,   7.7052,2,    25.00,  -999.00,9,  -999.00,9,   7.9082,2,     1752
  49RY20120726,   40N,    39,  1,     28,     91,2,20120810,1532, 40.0147, 164.9972, 5489,    404.8,   6.1198,   6.1088,2,  33.9588,2,  33.9607,2,    156.1,2,    154.5,2,    56.40,2,    28.24,2,     0.00,2,     2.07,2,    2.618,2,    1.363,2,   2211.6,2,   2288.3,2,   7.5576,6,    25.00,  -999.00,9,  -999.00,9,   6.1088,2,     1749
  49RY20120726,   40N,    39,  1,     27,    998,2,20120810,1532, 40.0147, 164.9972, 5489,    504.2,   5.1711,   5.1709,2,  34.0229,2,  34.0239,2,    111.5,2,    110.5,2,    75.80,2,    33.83,2,     0.00,2,     2.46,2,    2.001,6,    0.996,6,   2259.7,2,   2304.1,2,   7.4617,2,    25.00,  -999.00,9,  -999.00,9,   5.1709,2,     1747
  49RY20120726,   40N,    39,  1,     26,     99,3,20120810,1532, 40.0147, 164.9972, 5489,    605.6,   4.5311,   4.5278,2,  34.1137,2,  34.1120,6,     76.8,2,     79.4,2,    93.96,2,    37.64,2,     0.00,2,     2.73,2,    1.384,2,    0.694,2,   2301.0,2,   2322.4,2,   7.3969,2,    25.00,  -999.00,9,  -999.00,9,   4.5278,2,     1744
  49RY20120726,   40N,    39,  1,     25,     98,2,20120810,1532, 40.0147, 164.9972, 5489,    706.5,   4.1285,   4.1290,2,  34.1856,2,  34.1861,2,     56.6,2,     56.1,2,   106.35,2,    39.81,2,     0.00,2,     2.87,2,    0.904,2,    0.432,2,   2326.2,2,   2336.5,2,   7.3709,2,    25.00,  -999.00,9,  -999.00,9,   4.1290,2,     1741
  49RY20120726,   40N,    39,  1,     24,    110,3,20120810,1532, 40.0147, 164.9972, 5489,    806.5,   3.8160,   3.8158,2,  34.2568,2,  34.2571,2,     46.9,2,     46.9,2,   116.38,2,    40.81,2,     0.00,2,     2.94,2,    0.584,2,    0.298,2,   2340.4,2,   2347.8,2,   7.3568,2,    25.00,  -999.00,9,  -999.00,9,   3.8158,2,     1735
  49RY20120726,   40N,    39,  1,     23,     96,2,20120810,1532, 40.0147, 164.9972, 5489,    909.1,   3.4894,   3.4872,2,  34.3087,2,  34.3091,2,     40.5,2,     39.8,2,   126.24,2,    41.76,2,     0.00,2,     3.00,2,    0.397,2,    0.232,2,   2354.0,2,   2359.2,2,   7.3417,2,    25.00,  -999.00,9,  -999.00,9,   3.4872,2,     1728
  49RY20120726,   40N,    39,  1,     22,    111,2,20120810,1532, 40.0147, 164.9972, 5489,   1010.6,   3.2496,   3.2496,2,  34.3541,2,  34.3550,2,     34.9,2,     34.2,2,   133.74,2,    42.48,2,     0.00,2,     3.05,2,    0.230,2,    0.128,2,   2370.5,2,   2369.9,2,   7.3387,2,    25.00,  -999.00,9,  -999.00,9,   3.2496,2,     1725
  49RY20120726,   40N,    39,  1,     21,     78,2,20120810,1532, 40.0147, 164.9972, 5489,   1214.4,   2.8287,   2.8287,2,  34.4261,2,  34.4255,2,     36.6,2,     36.2,2,   145.35,2,    42.76,2,     0.00,2,     3.06,2,    0.116,2,    0.084,2,   2379.3,2,   2382.0,2,   7.3480,2,    25.00,  -999.00,9,  -999.00,9,   2.8287,2,     1721
  49RY20120726,   40N,    39,  1,     20,     93,2,20120810,1532, 40.0147, 164.9972, 5489,   1417.5,   2.5365,   2.5361,2,  34.4711,2,  34.4711,2,     36.8,2,     37.2,6,   154.63,6,    43.06,6,     0.00,6,     3.07,6,    0.068,2,    0.039,2,   2383.3,2,   2394.8,2,   7.3473,2,    25.00,  -999.00,9,  -999.00,9,   2.5361,2,     1714
  49RY20120726,   40N,    39,  1,     19,     92,2,20120810,1532, 40.0147, 164.9972, 5489,   1619.5,   2.3048,   2.3052,2,  34.5151,2,  34.5152,6,     43.4,2,     43.3,2,   160.98,2,    42.78,2,     0.00,2,     3.05,2,    0.037,2,    0.048,2,   2383.8,2,   2399.7,2,   7.3661,2,    25.00,  -999.00,9,  -999.00,9,   2.3052,2,     1709
  49RY20120726,   40N,    39,  1,     18,    101,2,20120810,1532, 40.0147, 164.9972, 5489,   1822.7,   2.1109,   2.1108,2,  34.5534,2,  34.5540,2,     54.4,2,     54.7,2,   164.65,2,    42.15,2,     0.00,2,     2.99,2,    0.013,2,    0.042,2,   2385.5,2,   2405.1,6,   7.3905,2,    25.00,  -999.00,9,  -999.00,9,   2.1108,2,     1705
  49RY20120726,   40N,    39,  1,     17,     90,2,20120810,1532, 40.0147, 164.9972, 5489,   2024.0,   1.9717,   1.9718,2,  34.5813,2,  34.5810,2,     65.4,2,     65.9,2,   166.25,2,    41.46,2,     0.00,2,     2.94,2,    0.008,2,    0.014,2,   2384.7,2,   2408.3,2,   7.4111,6,    25.00,  -999.00,9,  -999.00,9,   1.9718,2,     1656
  49RY20120726,   40N,    39,  1,     16,     89,2,20120810,1532, 40.0147, 164.9972, 5489,   2229.0,   1.8618,   1.8619,2,  34.6034,2,  34.6035,2,     77.2,2,     77.2,6,   166.56,6,    40.83,6,     0.00,6,     2.89,6,    0.000,2,    0.031,2,   2377.8,2,   2412.4,2,   7.4350,2,    25.00,  -999.00,9,  -999.00,9,   1.8619,2,     1652
  49RY20120726,   40N,    39,  1,     15,     88,2,20120810,1532, 40.0147, 164.9972, 5489,   2432.5,   1.7675,   1.7675,2,  34.6218,2,  34.6218,2,     89.8,2,     89.9,2,   165.36,2,    40.01,2,     0.00,2,     2.83,2,    0.000,2,    0.018,2,   2372.4,2,   2415.2,2,   7.4582,2,    25.00,  -999.00,9,  -999.00,9,   1.7675,2,     1647
  49RY20120726,   40N,    39,  1,     14,    999,2,20120810,1532, 40.0147, 164.9972, 5489,   2637.4,   1.6792,   1.6791,2,  34.6382,2,  34.6390,6,    102.9,2,    103.2,2,   163.19,2,    39.22,2,     0.00,2,     2.77,2,    0.000,2,    0.007,2,   2362.2,2,   2416.6,2,   7.4822,2,    25.00,  -999.00,9,  -999.00,9,   1.6791,2,     1641
  49RY20120726,   40N,    39,  1,     13,    996,2,20120810,1532, 40.0147, 164.9972, 5489,   2839.3,   1.6127,   1.6127,2,  34.6501,2,  34.6508,2,    113.7,2,    113.8,2,   161.26,2,    38.54,2,     0.00,2,     2.71,2,    0.000,2,    0.010,2,   2354.5,2,   2418.5,2,   7.5044,2,    25.00,  -999.00,9,  -999.00,9,   1.6127,2,     1636
  49RY20120726,   40N,    39,  1,     12,     74,2,20120810,1532, 40.0147, 164.9972, 5489,   2839.3,   1.6127,   1.6127,2,  34.6501,2,  34.6512,2,    113.7,2,    114.0,2,   161.43,2,    38.50,2,     0.00,2,     2.71,2,    0.002,2,    0.014,2,   2359.1,2,   2417.4,2,   7.5067,2,    25.00,  -999.00,9,  -999.00,9,   1.6127,2,     1636
  49RY20120726,   40N,    39,  1,      3,    104,2,20120810,1532, 40.0147, 164.9972, 5489,   3045.7,   1.5640,   1.5642,2,  34.6586,2,  34.6593,2,    122.3,2,    122.3,2,   159.43,2,    38.01,2,     0.00,2,     2.66,2,    0.000,2,    0.020,2,   2352.1,2,   2416.8,2,   7.5211,2,    25.00,  -999.00,9,  -999.00,9,   1.5642,2,     1631
  49RY20120726,   40N,    39,  1,      2,     75,2,20120810,1532, 40.0147, 164.9972, 5489,   3301.2,   1.5235,   1.5235,2,  34.6666,2,  34.6672,2,    131.0,2,    130.9,2,   157.31,2,    37.45,2,     0.00,2,     2.62,2,    0.000,2,    0.008,2,   2341.6,6,   2416.7,6,   7.5347,2,    25.00,  -999.00,9,  -999.00,9,   1.5235,2,     1626
  49RY20120726,   40N,    39,  1,      1,    997,2,20120810,1532, 40.0147, 164.9972, 5489,   3557.3,   1.4986,   1.4986,2,  34.6725,2,  34.6731,2,    137.7,2,    137.7,2,   155.81,2,    36.95,2,     0.00,2,     2.59,2,    0.000,4,    0.013,2,   2334.9,2,   2416.9,2,   7.5501,6,    25.00,  -999.00,9,  -999.00,9,   1.4986,2,     1620
  49RY20120726,   40N,    39,  1,      8,     81,2,20120810,1532, 40.0147, 164.9972, 5489,   3813.2,   1.4811,   1.4811,2,  34.6775,2,  34.6781,2,    143.7,2,    144.2,6,   153.88,6,    36.63,6,     0.00,6,     2.56,6,    0.018,2,    0.017,2,   2328.0,3,   2417.2,2,   7.5587,2,    25.00,  -999.00,9,  -999.00,9,   1.4811,2,     1615
  49RY20120726,   40N,    39,  1,      7,    106,2,20120810,1532, 40.0147, 164.9972, 5489,   4070.7,   1.4747,   1.4747,2,  34.6813,2,  34.6814,2,    148.3,2,    148.3,2,   152.96,2,    36.34,2,     0.00,2,     2.53,2,    0.000,2,    0.022,2,   2332.8,2,   2414.3,2,   7.5659,2,    25.00,  -999.00,9,  -999.00,9,   1.4747,2,     1609
  49RY20120726,   40N,    39,  1,      6,    113,2,20120810,1532, 40.0147, 164.9972, 5489,   4326.4,   1.4786,   1.4787,2,  34.6841,2,  34.6841,2,    151.4,2,    151.6,2,   152.10,2,    36.15,2,     0.00,2,     2.52,2,    0.000,2,    0.016,2,   2329.3,2,   2414.5,2,   7.5721,2,    25.00,  -999.00,9,  -999.00,9,   1.4787,2,     1604
  49RY20120726,   40N,    39,  1,      5,     94,2,20120810,1532, 40.0147, 164.9972, 5489,   4583.8,   1.4905,   1.4907,2,  34.6861,2,  34.6862,2,    153.9,2,    154.3,2,   151.54,2,    35.78,2,     0.00,2,     2.49,2,    0.012,4,    0.020,2,   2323.5,2,   2414.3,2,   7.5782,2,    25.00,  -999.00,9,  -999.00,9,   1.4907,2,     1558
  49RY20120726,   40N,    39,  1,      4,     77,2,20120810,1532, 40.0147, 164.9972, 5489,   4842.3,   1.5085,   1.5086,2,  34.6877,2,  34.6876,2,    155.7,2,    159.0,4,   151.85,2,    35.94,2,     0.00,2,     2.50,2,    0.017,4,    0.018,2,   2321.6,2,   2414.4,2,   7.5802,2,    25.00,  -999.00,9,  -999.00,9,   1.5086,2,     1553
  49RY20120726,   40N,    39,  1,     11,     97,2,20120810,1532, 40.0147, 164.9972, 5489,   5098.2,   1.5319,   1.5320,2,  34.6888,2,  34.6849,4,    156.7,2,    154.2,4,   152.00,2,    35.93,2,     0.00,2,     2.50,2,    0.021,4,    0.020,2,   2325.0,2,   2414.2,2,   7.5791,2,    25.00,  -999.00,9,  -999.00,9,   1.5320,2,     1547
  49RY20120726,   40N,    39,  1,     10,    107,2,20120810,1532, 40.0147, 164.9972, 5489,   5357.5,   1.5602,   1.5603,2,  34.6894,2,  34.6891,2,    157.3,2,    157.1,2,   152.02,2,    35.77,2,     0.00,2,     2.49,2,    0.000,2,    0.021,2,   2323.0,2,   2415.0,2,   7.5823,2,    25.00,  -999.00,9,  -999.00,9,   1.5603,2,     1538
  49RY20120726,   40N,    39,  1,      9,    108,2,20120810,1532, 40.0147, 164.9972, 5489,   5583.5,   1.5874,   1.5873,2,  34.6897,2,  34.6895,2,    157.7,2,    157.2,2,   152.50,2,    35.76,2,     0.00,2,     2.50,2,    0.003,2,    0.021,2,   2324.7,2,   2413.9,2,   7.5829,2,    25.00,  -999.00,9,  -999.00,9,   1.5873,2,     1533