BOTTLE,20210419PRINUNIVRMK
EXPOCODE,SECT_ID,STNNBR,CASTNO,SAMPNO,BTLNBR,BTLNBR_FLAG_W,DATE,TIME,LATITUDE,LONGITUDE,DEPTH,CTDPRS,CTDTMP,SBE35,SBE35_FLAG_W,CTDSAL,CTDSAL_FLAG_W,SALNTY,SALNTY_FLAG_W,CTDOXY,CTDOXY_FLAG_W,OXYGEN,OXYGEN_FLAG_W,SILCAT,SILCAT_FLAG_W,NITRAT,NITRAT_FLAG_W,NITRIT,NITRIT_FLAG_W,PHSPHT,PHSPHT_FLAG_W,CFC-11,CFC-11_FLAG_W,CFC-12,CFC-12_FLAG_W,TCARBN,TCARBN_FLAG_W,ALKALI,ALKALI_FLAG_W,PH_TOT,PH_TOT_FLAG_W,PH_TMP,CHLORA,CHLORA_FLAG_W,PPHYTN,PPHYTN_FLAG_W,SBE35,SBE35_FLAG_W,BTL_TIME
,,,,,,,,,,,METERS,DBAR,ITS-90,,,PSS-78,,PSS-78,,UMOL/KG,,UMOL/KG,,UMOL/KG,,UMOL/KG,,UMOL/KG,,UMOL/KG,,PMOL/KG,,PMOL/KG,,UMOL/KG,,UMOL/KG,,,,DEG C,UG/KG,,UG/KG,,,,
  49RY20120726,   40N,    73,  1,      7,    106,2,20120905,0036, 38.9838, 165.6900, 5460,     10.9,  24.2628,  24.2606,2,  34.3148,2,  34.3140,2,    213.2,2,    213.8,2,     1.30,2,     0.03,2,     0.00,2,     0.03,2,    2.011,2,    1.130,2,   1970.6,2,   2258.0,2,   8.0299,4,    25.00,     0.10,2,     0.03,2,  24.2606,2,      318
  49RY20120726,   40N,    73,  1,     36,    109,2,20120905,0036, 38.9838, 165.6900, 5460,     50.9,  18.3485,  18.3447,2,  34.5190,2,  34.5233,4,    250.7,2,    251.6,2,     2.25,2,     0.03,2,     0.00,2,     0.07,2,    2.749,2,    1.387,2,   1999.6,2,   2276.5,2,   8.0080,4,    25.00,     0.23,2,     0.10,2,  18.3447,2,      314
  49RY20120726,   40N,    73,  1,     35,    112,2,20120905,0036, 38.9838, 165.6900, 5460,    102.3,  14.5587,  14.5554,2,  34.5135,2,  34.5137,2,    208.7,2,    209.7,2,     9.63,2,     8.39,2,     0.02,2,     0.59,3,    2.669,2,    1.505,2,   2068.1,2,   2276.5,2,   7.8785,4,    25.00,     0.11,2,     0.06,2,  14.5554,2,      312
  49RY20120726,   40N,    73,  1,     34,     83,2,20120905,0036, 38.9838, 165.6900, 5460,    151.3,  12.2853,  12.2846,2,  34.3800,2,  34.3788,2,    197.8,2,    197.8,2,    18.47,2,    13.39,2,     0.01,2,     0.95,2,    2.687,2,    1.492,2,   2100.9,2,   2274.9,2,   7.7999,4,    25.00,     0.01,2,     0.03,2,  12.2846,2,      309
  49RY20120726,   40N,    73,  1,     33,     86,2,20120905,0036, 38.9838, 165.6900, 5460,    202.9,  11.1930,  11.1934,2,  34.2711,2,  34.2708,2,    240.2,2,    240.2,2,    14.63,2,    10.89,2,     0.01,2,     0.79,2,    3.103,2,    1.772,2,   2084.4,2,   2266.1,2,   7.8208,4,    25.00,     0.00,2,     0.01,2,  11.1934,2,      302
  49RY20120726,   40N,    73,  1,     32,    105,2,20120905,0036, 38.9838, 165.6900, 5460,    256.1,   9.7365,   9.7383,2,  34.0924,2,  34.0983,4,    237.4,2,    238.0,2,    19.13,2,    13.59,2,     0.01,2,     1.00,2,    3.247,2,    1.839,2,   2102.3,2,   2265.2,2,   7.7742,4,    25.00,  -999.00,9,  -999.00,9,   9.7383,2,      257
  49RY20120726,   40N,    73,  1,     31,     76,3,20120905,0036, 38.9838, 165.6900, 5460,    309.9,   8.3779,   8.3787,2,  33.9754,2,  33.9796,4,    226.9,2,    227.6,6,    25.75,6,    16.98,6,     0.01,6,     1.25,6,    3.365,2,    1.844,2,   2124.6,2,   2264.6,2,   7.7192,4,    25.00,  -999.00,9,  -999.00,9,   8.3787,2,      254
  49RY20120726,   40N,    73,  1,     30,     97,2,20120905,0036, 38.9838, 165.6900, 5460,    409.1,   6.6999,   6.7031,2,  33.9752,2,  33.9758,2,    162.3,2,    162.5,2,    49.02,2,    26.58,2,     0.01,2,     1.95,2,    2.840,6,    1.495,6,   2197.5,6,   2280.9,6,   7.5720,4,    25.00,  -999.00,9,  -999.00,9,   6.7031,2,      250
  49RY20120726,   40N,    73,  1,     29,    102,2,20120905,0036, 38.9838, 165.6900, 5460,    509.6,   5.1307,   5.1304,2,  33.9516,2,  33.9513,2,    125.2,2,    125.5,2,    69.11,2,    32.82,2,     0.00,2,     2.40,2,    2.491,2,    1.284,2,   2248.2,2,   2292.8,2,   7.4573,4,    25.00,  -999.00,9,  -999.00,9,   5.1304,2,      247
  49RY20120726,   40N,    73,  1,     28,     91,2,20120905,0036, 38.9838, 165.6900, 5460,    607.7,   4.5556,   4.5555,2,  34.0384,2,  34.0363,2,     88.1,2,     88.4,2,    86.22,2,    36.88,2,     0.00,2,     2.68,2,    1.816,2,    0.921,2,   2285.5,2,   2309.8,2,   7.3889,4,    25.00,  -999.00,9,  -999.00,9,   4.5555,2,      244
  49RY20120726,   40N,    73,  1,     27,    998,2,20120905,0036, 38.9838, 165.6900, 5460,    709.3,   4.1793,   4.1791,2,  34.1348,2,  34.1278,4,     61.8,2,     61.8,2,   100.27,2,    39.61,2,     0.00,2,     2.85,2,    1.243,6,    0.607,6,   2314.5,6,   2327.5,6,   7.3465,4,    25.00,  -999.00,9,  -999.00,9,   4.1791,2,      232
  49RY20120726,   40N,    73,  1,     26,     84,2,20120905,0036, 38.9838, 165.6900, 5460,    808.7,   3.8969,   3.8980,2,  34.2128,2,  34.2136,2,     48.4,2,     48.8,2,   110.80,2,    40.85,2,     0.00,2,     2.94,2,    0.796,2,    0.380,2,   2337.6,2,   2339.1,2,   7.3329,4,    25.00,  -999.00,9,  -999.00,9,   3.8980,2,      229
  49RY20120726,   40N,    73,  1,     25,     98,2,20120905,0036, 38.9838, 165.6900, 5460,    913.7,   3.5235,   3.5238,2,  34.2835,2,  34.2825,2,     38.8,2,     41.3,3,   123.54,2,    41.93,2,     0.00,2,     3.02,2,    0.481,2,    0.226,2,   2355.6,2,   2356.6,2,   7.3202,4,    25.00,  -999.00,9,  -999.00,9,   3.5238,2,      225
  49RY20120726,   40N,    73,  1,     24,    110,2,20120905,0036, 38.9838, 165.6900, 5460,   1013.9,   3.2376,   3.2377,2,  34.3362,2,  34.3361,2,     35.5,2,     37.2,3,   132.16,2,    42.46,2,     0.00,2,     3.05,2,    0.318,2,    0.149,2,   2361.8,2,   2366.0,2,   7.3144,4,    25.00,  -999.00,9,  -999.00,9,   3.2377,2,      222
  49RY20120726,   40N,    73,  1,     23,     96,2,20120905,0036, 38.9838, 165.6900, 5460,   1215.5,   2.8654,   2.8653,2,  34.4104,2,  34.4099,2,     32.6,2,     32.9,2,   144.26,2,    43.06,2,     0.00,2,     3.08,2,    0.146,2,    0.071,2,   2375.2,2,   2381.2,2,   7.3173,4,    25.00,  -999.00,9,  -999.00,9,   2.8653,2,      214
  49RY20120726,   40N,    73,  1,     22,    111,2,20120905,0036, 38.9838, 165.6900, 5460,   1215.5,   2.8654,   2.8653,2,  34.4104,2,  34.4105,2,     32.6,2,     32.8,2,   144.29,2,    43.08,2,     0.00,2,     3.08,2,    0.152,2,    0.070,2,   2379.0,6,   2381.6,6,   7.3188,4,    25.00,  -999.00,9,  -999.00,9,   2.8653,2,      214
  49RY20120726,   40N,    73,  1,     21,     78,2,20120905,0036, 38.9838, 165.6900, 5460,   1418.8,   2.5454,   2.5455,2,  34.4707,2,  34.4699,2,     36.3,2,     36.6,2,   152.40,2,    43.14,2,     0.00,2,     3.07,2,    0.066,2,    0.032,2,   2385.3,2,   2392.2,2,   7.3268,4,    25.00,  -999.00,9,  -999.00,9,   2.5455,2,      210
  49RY20120726,   40N,    73,  1,     20,     93,2,20120905,0036, 38.9838, 165.6900, 5460,   1619.6,   2.3026,   2.3027,2,  34.5157,2,  34.5138,4,     43.6,2,     45.1,3,   159.84,2,    42.75,2,     0.00,2,     3.05,2,    0.035,2,    0.011,2,   2388.0,2,   2399.0,2,   7.3449,4,    25.00,  -999.00,9,  -999.00,9,   2.3027,2,      205
  49RY20120726,   40N,    73,  1,     19,     92,2,20120905,0036, 38.9838, 165.6900, 5460,   1821.8,   2.1380,   2.1379,2,  34.5529,2,  34.5526,2,     53.5,2,     54.8,3,   162.99,6,    42.32,6,     0.00,6,     3.00,6,    0.017,2,    0.002,2,   2387.3,2,   2406.3,2,   7.3678,4,    25.00,  -999.00,9,  -999.00,9,   2.1379,2,      159
  49RY20120726,   40N,    73,  1,     18,    101,2,20120905,0036, 38.9838, 165.6900, 5460,   2025.2,   1.9858,   1.9857,2,  34.5807,2,  34.5804,2,     65.0,2,     65.1,2,   165.23,2,    41.66,2,     0.00,2,     2.95,2, -999.000,9, -999.000,9,   2385.5,2,   2411.4,2,   7.3923,4,    25.00,  -999.00,9,  -999.00,9,   1.9857,2,      155
  49RY20120726,   40N,    73,  1,     17,     90,2,20120905,0036, 38.9838, 165.6900, 5460,   2227.8,   1.8803,   1.8802,2,  34.6018,2,  34.5989,4,     76.4,2,     76.0,2,   164.54,2,    40.89,2,     0.00,2,     2.89,2, -999.000,9, -999.000,9,   2376.4,2,   2413.4,2,   7.4168,4,    25.00,  -999.00,9,  -999.00,9,   1.8802,2,      150
  49RY20120726,   40N,    73,  1,     16,     89,2,20120905,0036, 38.9838, 165.6900, 5460,   2432.2,   1.7751,   1.7751,2,  34.6208,2,  34.6200,2,     88.9,2,     88.7,2,   163.82,2,    40.04,2,     0.00,2,     2.82,3,    0.000,2,    0.000,2,   2371.3,2,   2416.1,2,   7.4421,4,    25.00,  -999.00,9,  -999.00,9,   1.7751,2,      144
  49RY20120726,   40N,    73,  1,     15,     88,2,20120905,0036, 38.9838, 165.6900, 5460,   2634.1,   1.6936,   1.6934,2,  34.6355,2,  34.6362,2,    100.5,2,    100.9,2,   162.75,2,    39.42,2,     0.00,2,     2.77,2, -999.000,9, -999.000,9,   2364.6,2,   2417.4,2,   7.4610,4,    25.00,  -999.00,9,  -999.00,9,   1.6934,2,      140
  49RY20120726,   40N,    73,  1,     14,    999,3,20120905,0036, 38.9838, 165.6900, 5460,   2835.3,   1.6181,   1.6181,2,  34.6489,2,  34.6483,2,    112.3,2,    112.3,2,   160.47,2,    38.66,2,     0.00,2,     2.71,2, -999.000,9, -999.000,9,   2360.2,2,   2418.2,2,   7.4835,4,    25.00,  -999.00,9,  -999.00,9,   1.6181,2,      136
  49RY20120726,   40N,    73,  1,     13,    667,3,20120905,0036, 38.9838, 165.6900, 5460,   3045.6,   1.5698,   1.5698,2,  34.6580,2,  34.6576,2,    121.3,2,    121.3,2,   158.30,2,    38.05,2,     0.00,2,     2.66,2, -999.000,9, -999.000,9,   2351.1,2,   2417.9,2,   7.5007,4,    25.00,  -999.00,9,  -999.00,9,   1.5698,2,      128
  49RY20120726,   40N,    73,  1,     12,     74,2,20120905,0036, 38.9838, 165.6900, 5460,   3300.8,   1.5275,   1.5274,2,  34.6661,2,  34.6657,2,    130.2,2,    130.0,6,   155.85,6,    37.44,6,     0.00,6,     2.63,6,    0.001,2,    0.000,2,   2344.4,2,   2418.0,2,   7.5161,4,    25.00,  -999.00,9,  -999.00,9,   1.5274,2,      123
  49RY20120726,   40N,    73,  1,     11,    996,2,20120905,0036, 38.9838, 165.6900, 5460,   3559.7,   1.4997,   1.4996,2,  34.6725,2,  34.6728,6,    137.3,2,    137.3,2,   153.95,2,    37.07,2,     0.00,2,     2.60,2, -999.000,9, -999.000,9,   2342.7,2,   2416.3,2,   7.5309,4,    25.00,  -999.00,9,  -999.00,9,   1.4996,2,      118
  49RY20120726,   40N,    73,  1,     10,    107,2,20120905,0036, 38.9838, 165.6900, 5460,   3813.0,   1.4832,   1.4833,2,  34.6774,2,  34.6767,2,    143.0,2,    142.6,2,   152.32,2,    36.70,2,     0.00,2,     2.57,2, -999.000,9, -999.000,9,   2331.1,3,   2418.6,2,   7.5404,4,    25.00,  -999.00,9,  -999.00,9,   1.4833,2,      112
  49RY20120726,   40N,    73,  1,      9,    108,2,20120905,0036, 38.9838, 165.6900, 5460,   4069.5,   1.4768,   1.4767,2,  34.6811,2,  34.6811,2,    147.6,2,    147.6,2,   151.51,2,    36.34,2,     0.00,2,     2.54,2, -999.000,9, -999.000,9,   2334.0,2,   2417.0,2,   7.5499,4,    25.00,  -999.00,9,  -999.00,9,   1.4767,2,      107
  49RY20120726,   40N,    73,  1,      8,     81,2,20120905,0036, 38.9838, 165.6900, 5460,   4326.1,   1.4803,   1.4805,2,  34.6839,2,  34.6838,2,    150.9,2,    151.3,2,   150.45,2,    36.16,2,     0.00,2,     2.52,2, -999.000,9, -999.000,9,   2334.4,2,   2417.6,2,   7.5545,4,    25.00,  -999.00,9,  -999.00,9,   1.4805,2,      102
  49RY20120726,   40N,    73,  1,      6,    113,2,20120905,0036, 38.9838, 165.6900, 5460,   4584.5,   1.4915,   1.4916,2,  34.6860,2,  34.6856,2,    153.5,2,    153.5,2,   150.08,2,    36.00,2,     0.00,2,     2.52,2,    0.000,2,    0.000,2,   2330.0,2,   2418.3,2,   7.5576,4,    25.00,  -999.00,9,  -999.00,9,   1.4916,2,       56
  49RY20120726,   40N,    73,  1,      5,     94,2,20120905,0036, 38.9838, 165.6900, 5460,   4839.6,   1.5088,   1.5088,2,  34.6874,2,  34.6877,2,    155.2,2,    155.1,2,   150.17,2,    35.87,2,     0.00,2,     2.49,2, -999.000,9, -999.000,9,   2333.9,2,   2419.4,2,   7.5643,4,    25.00,  -999.00,9,  -999.00,9,   1.5088,2,       51
  49RY20120726,   40N,    73,  1,      4,     77,2,20120905,0036, 38.9838, 165.6900, 5460,   5099.1,   1.5325,   1.5326,2,  34.6885,2,  34.6889,2,    156.3,2,    156.2,2,   150.28,2,    35.80,2,     0.00,2,     2.49,2, -999.000,9, -999.000,9,   2331.7,6,   2416.3,6,   7.5671,4,    25.00,  -999.00,9,  -999.00,9,   1.5326,2,       46
  49RY20120726,   40N,    73,  1,      3,    104,2,20120905,0036, 38.9838, 165.6900, 5460,   5358.3,   1.5621,   1.5620,2,  34.6887,2,  34.6891,6,    156.8,2,    156.8,2,   150.71,2,    35.78,2,     0.00,2,     2.49,2, -999.000,9, -999.000,9,   2323.8,2,   2417.7,2,   7.5652,4,    25.00,  -999.00,9,  -999.00,9,   1.5620,2,       40
  49RY20120726,   40N,    73,  1,      1,    997,2,20120905,0036, 38.9838, 165.6900, 5460,   5557.3,   1.5870,   1.5868,2,  34.6888,2,  34.6897,2,    157.0,2,    157.1,6,   150.96,6,    35.81,6,     0.00,6,     2.49,6,    0.002,2,    0.000,2,   2327.9,2,   2417.2,2,   7.5687,4,    25.00,  -999.00,9,  -999.00,9,   1.5868,2,       36
  49RY20120726,   40N,    73,  1,      2,     75,2,20120905,0036, 38.9838, 165.6900, 5460,   5557.8,   1.5871,   1.5869,2,  34.6888,2,  34.6892,2,    157.0,2,    156.9,2,   150.67,2,    35.72,2,     0.00,2,     2.48,2, -999.000,9, -999.000,9,   2324.3,2,   2417.8,2,   7.5672,4,    25.00,  -999.00,9,  -999.00,9,   1.5869,2,       36