BOTTLE,20210419PRINUNIVRMK
EXPOCODE,SECT_ID,STNNBR,CASTNO,SAMPNO,BTLNBR,BTLNBR_FLAG_W,DATE,TIME,LATITUDE,LONGITUDE,DEPTH,CTDPRS,CTDTMP,SBE35,SBE35_FLAG_W,CTDSAL,CTDSAL_FLAG_W,SALNTY,SALNTY_FLAG_W,CTDOXY,CTDOXY_FLAG_W,OXYGEN,OXYGEN_FLAG_W,SILCAT,SILCAT_FLAG_W,NITRAT,NITRAT_FLAG_W,NITRIT,NITRIT_FLAG_W,PHSPHT,PHSPHT_FLAG_W,CFC-11,CFC-11_FLAG_W,CFC-12,CFC-12_FLAG_W,TCARBN,TCARBN_FLAG_W,ALKALI,ALKALI_FLAG_W,PH_TOT,PH_TOT_FLAG_W,PH_TMP,CHLORA,CHLORA_FLAG_W,PPHYTN,PPHYTN_FLAG_W,SBE35,SBE35_FLAG_W,BTL_TIME
,,,,,,,,,,,METERS,DBAR,ITS-90,,,PSS-78,,PSS-78,,UMOL/KG,,UMOL/KG,,UMOL/KG,,UMOL/KG,,UMOL/KG,,UMOL/KG,,PMOL/KG,,PMOL/KG,,UMOL/KG,,UMOL/KG,,,,DEG C,UG/KG,,UG/KG,,,,
  49RY20120726,   40N,     7,  1,     36,    109,2,20120729,0656, 40.0080, 145.0192, 5623,     12.1,  12.9853,  12.9648,2,  32.6828,2,  32.7070,4,    313.8,2,    316.1,2,     1.99,2,     0.00,2,     0.00,2,     0.29,2,    3.585,2,    2.012,2,   1971.8,2,   2229.5,2,   8.0125,2,    25.00,     0.51,2,     0.04,2,  12.9648,2,      922
  49RY20120726,   40N,     7,  1,     35,    112,2,20120729,0656, 40.0080, 145.0192, 5623,     49.9,   3.8660,   3.8793,2,  33.1352,2,  33.1394,2,    315.3,2,    316.6,2,    19.76,2,    15.31,2,     0.28,2,     1.45,2,    4.974,2,    2.770,2,   2106.8,6,   2240.1,2,   7.7324,2,    25.00,     0.35,2,     0.21,2,   3.8793,2,      920
  49RY20120726,   40N,     7,  1,     34,     83,2,20120729,0656, 40.0080, 145.0192, 5623,    102.0,   3.2148,   3.1393,2,  33.3698,2,  33.3465,2,    285.0,2,    288.9,2,    36.24,2,    21.67,2,     0.01,2,     1.70,2,    4.822,2,    2.649,2,   2140.0,2,   2245.1,2,   7.6473,6,    25.00,     0.04,2,     0.08,2,   3.1393,2,      918
  49RY20120726,   40N,     7,  1,     33,     86,2,20120729,0656, 40.0080, 145.0192, 5623,    153.1,   1.8694,   1.8747,2,  33.3102,2,  33.3081,2,    271.5,2,    271.5,2,    49.62,2,    26.35,2,     0.01,2,     2.04,2,    4.796,2,    2.634,2,   2175.5,2,   2253.6,2,   7.5676,2,    25.00,     0.03,2,     0.09,2,   1.8747,2,      916
  49RY20120726,   40N,     7,  1,     32,    105,2,20120729,0656, 40.0080, 145.0192, 5623,    202.1,   1.6975,   1.6972,2,  33.3713,2,  33.3719,2,    240.0,2,    240.2,2,    60.72,2,    30.10,2,     0.02,2,     2.29,2,    4.479,2,    2.461,2,   2203.7,2,   2259.4,2,   7.5015,2,    25.00,     0.03,2,     0.09,2,   1.6972,2,      914
  49RY20120726,   40N,     7,  1,     31,     76,3,20120729,0656, 40.0080, 145.0192, 5623,    253.4,   1.9747,   1.9762,2,  33.4929,2,  33.4887,2,    193.6,2,    197.9,2,    72.98,2,    33.44,2,     0.01,2,     2.52,2,    3.991,2,    2.127,2,   2237.8,2,   2275.4,2,   7.4368,2,    25.00,  -999.00,9,  -999.00,9,   1.9762,2,      913
  49RY20120726,   40N,     7,  1,     30,    103,3,20120729,0656, 40.0080, 145.0192, 5623,    285.4,   2.1001,   2.1019,2,  33.5461,2,  33.5375,2,    176.5,2,    181.6,2,    77.20,2,    34.60,2,     0.01,2,     2.59,2,    3.786,6,    2.030,6,   2248.9,2,   2279.2,2,   7.4117,2,    25.00,  -999.00,9,  -999.00,9,   2.1019,2,      911
  49RY20120726,   40N,     7,  1,     29,    102,3,20120729,0656, 40.0080, 145.0192, 5623,    372.9,   3.0225,   3.0207,2,  33.7715,2,  33.7709,2,    107.8,2,    112.4,2,    90.81,6,    38.94,6,     0.00,6,     2.84,6,    2.739,2,    1.435,2,   2289.3,2,   2295.8,2,   7.3397,2,    25.00,  -999.00,9,  -999.00,9,   3.0207,2,      909
  49RY20120726,   40N,     7,  1,     28,     91,3,20120729,0656, 40.0080, 145.0192, 5623,    476.1,   3.3583,   3.3599,2,  33.9702,2,  33.9685,2,     63.0,2,     67.6,2,   105.26,2,    41.13,2,     0.00,2,     2.98,2,    1.855,2,    0.929,2,   2321.2,6,   2318.0,2,   7.3106,2,    25.00,  -999.00,9,  -999.00,9,   3.3599,2,      906
  49RY20120726,   40N,     7,  1,     27,    998,2,20120729,0656, 40.0080, 145.0192, 5623,    577.0,   3.4318,   3.4318,2,  34.0946,2,  34.0952,2,     42.7,2,     42.8,2,   116.07,2,    42.48,2,     0.00,2,     3.04,2,    1.271,2,    0.618,2,   2341.8,2,   2334.0,2,   7.2932,6,    25.00,  -999.00,9,  -999.00,9,   3.4318,2,      903
  49RY20120726,   40N,     7,  1,     26,     99,3,20120729,0656, 40.0080, 145.0192, 5623,    679.5,   3.3024,   3.3010,2,  34.1905,2,  34.1874,2,     35.1,2,     52.4,4,   125.23,2,    42.86,2,     0.00,2,     3.07,2,    0.887,2,    0.419,2,   2350.7,2,   2344.5,2,   7.2976,2,    25.00,  -999.00,9,  -999.00,9,   3.3010,2,      901
  49RY20120726,   40N,     7,  1,     25,     98,2,20120729,0656, 40.0080, 145.0192, 5623,    779.8,   3.1952,   3.1948,2,  34.2801,2,  34.2802,2,     35.7,2,     35.4,2,   132.88,2,    42.62,2,     0.00,2,     3.07,2,    0.574,2,    0.272,2,   2357.6,2,   2358.8,2,   7.3151,2,    25.00,  -999.00,9,  -999.00,9,   3.1948,2,      858
  49RY20120726,   40N,     7,  1,     24,    110,2,20120729,0656, 40.0080, 145.0192, 5623,    881.0,   3.1161,   3.1160,2,  34.3444,2,  34.3431,2,     38.2,2,     37.9,2,   136.58,2,    42.53,2,     0.00,2,     3.05,2,    0.378,2,    0.174,2,   2358.1,2,   2368.0,2,   7.3305,2,    25.00,  -999.00,9,  -999.00,9,   3.1160,2,      855
  49RY20120726,   40N,     7,  1,     23,     96,2,20120729,0656, 40.0080, 145.0192, 5623,    980.6,   2.9383,   2.9390,2,  34.3816,2,  34.3817,2,     38.2,2,     38.4,2,   142.18,2,    42.58,2,     0.00,2,     3.07,2,    0.284,2,    0.125,2,   2368.6,2,   2374.9,2,   7.3344,2,    25.00,  -999.00,9,  -999.00,9,   2.9390,2,      852
  49RY20120726,   40N,     7,  1,     22,    111,2,20120729,0656, 40.0080, 145.0192, 5623,   1143.4,   2.6936,   2.6934,2,  34.4363,2,  34.4358,2,     39.0,2,     39.3,6,   149.54,6,    42.83,6,     0.00,6,     3.07,6, -999.000,9, -999.000,9,   2377.8,2,   2385.5,2,   7.3395,2,    25.00,  -999.00,9,  -999.00,9,   2.6934,2,      849
  49RY20120726,   40N,     7,  1,     21,     78,2,20120729,0656, 40.0080, 145.0192, 5623,   1345.6,   2.4324,   2.4327,2,  34.4892,2,  34.4887,6,     43.4,2,     43.7,2,   156.95,2,    42.68,2,     0.00,2,     3.06,2, -999.000,9, -999.000,9,   2382.6,6,   2396.0,6,   7.3577,2,    25.00,  -999.00,9,  -999.00,9,   2.4327,2,      844
  49RY20120726,   40N,     7,  1,     20,     93,2,20120729,0656, 40.0080, 145.0192, 5623,   1548.8,   2.2580,   2.2580,2,  34.5300,2,  34.5272,4,     50.9,2,     51.2,2,   160.26,2,    42.53,2,     0.00,2,     3.02,2,    0.047,2,    0.009,2,   2381.2,2,   2400.2,2,   7.3759,6,    25.00,  -999.00,9,  -999.00,9,   2.2580,2,      839
  49RY20120726,   40N,     7,  1,     19,     92,3,20120729,0656, 40.0080, 145.0192, 5623,   1751.4,   2.0956,   2.0956,2,  34.5638,2,  34.5639,2,     61.4,2,     61.2,2,   162.72,2,    42.04,2,     0.00,2,     2.97,2, -999.000,9, -999.000,9,   2379.8,2,   2403.5,2,   7.3995,2,    25.00,  -999.00,9,  -999.00,9,   2.0956,2,      834
  49RY20120726,   40N,     7,  1,     18,    101,2,20120729,0656, 40.0080, 145.0192, 5623,   1955.7,   1.9651,   1.9646,2,  34.5890,2,  34.5892,2,     72.8,2,     73.5,2,   163.45,2,    41.28,2,     0.00,2,     2.92,2, -999.000,9, -999.000,9,   2373.1,2,   2410.7,2,   7.4218,2,    25.00,  -999.00,9,  -999.00,9,   1.9646,2,      829
  49RY20120726,   40N,     7,  1,     17,     90,3,20120729,0656, 40.0080, 145.0192, 5623,   2159.4,   1.8447,   1.8449,2,  34.6107,2,  34.6098,2,     85.9,2,     86.9,2,   162.58,6,    40.50,6,     0.00,6,     2.85,6,    0.000,2,    0.000,2,   2366.1,2,   2408.8,2,   7.4496,2,    25.00,  -999.00,9,  -999.00,9,   1.8449,2,      824
  49RY20120726,   40N,     7,  1,     16,     89,3,20120729,0656, 40.0080, 145.0192, 5623,   2362.7,   1.7480,   1.7480,2,  34.6278,2,  34.6280,2,     98.2,2,    103.1,4,   161.55,2,    39.54,2,     0.00,2,     2.80,2, -999.000,9, -999.000,9,   2357.3,2,   2415.8,2,   7.4724,2,    25.00,  -999.00,9,  -999.00,9,   1.7480,2,      819
  49RY20120726,   40N,     7,  1,     15,     88,2,20120729,0656, 40.0080, 145.0192, 5623,   2566.3,   1.6646,   1.6645,2,  34.6417,2,  34.6428,2,    108.9,2,    109.4,2,   160.30,2,    39.01,2,     0.00,2,     2.74,2,    0.002,2,    0.000,4,   2356.0,2,   2416.0,2,   7.4952,2,    25.00,  -999.00,9,  -999.00,9,   1.6645,2,      814
  49RY20120726,   40N,     7,  1,     14,    999,2,20120729,0656, 40.0080, 145.0192, 5623,   2769.6,   1.6083,   1.6083,2,  34.6515,2,  34.6520,2,    117.3,2,    117.7,2,   159.12,2,    38.49,2,     0.00,2,     2.70,2, -999.000,9, -999.000,9,   2350.3,2,   2416.1,2,   7.5096,2,    25.00,  -999.00,9,  -999.00,9,   1.6083,2,      808
  49RY20120726,   40N,     7,  1,     13,    996,4,20120729,0656, 40.0080, 145.0192, 5623,   2974.6,   1.5649,   1.5649,2,  34.6592,2,  34.6511,4,    124.8,2,    116.8,4,   159.04,4,    38.58,4,     0.00,4,     2.71,4, -999.000,9, -999.000,9,   2351.1,4,   2414.2,4,   7.5099,4,    25.00,  -999.00,9,  -999.00,9,   1.5649,2,      804
  49RY20120726,   40N,     7,  1,     12,     74,2,20120729,0656, 40.0080, 145.0192, 5623,   3221.3,   1.5226,   1.5228,2,  34.6669,2,  34.6676,6,    132.5,2,    132.9,2,   155.70,2,    37.48,2,     0.00,2,     2.62,2,    0.000,2,    0.000,2,   2342.4,2,   2417.0,2,   7.5371,2,    25.00,  -999.00,9,  -999.00,9,   1.5228,2,      758
  49RY20120726,   40N,     7,  1,     11,     97,2,20120729,0656, 40.0080, 145.0192, 5623,   3476.2,   1.4966,   1.4966,2,  34.6725,2,  34.6694,4,    138.7,2,    138.1,2,   154.22,2,    37.05,2,     0.00,2,     2.59,2,    0.000,2,    0.000,2,   2335.2,2,   2415.4,2,   7.5480,2,    25.00,  -999.00,9,  -999.00,9,   1.4966,2,      752
  49RY20120726,   40N,     7,  1,     10,    107,2,20120729,0656, 40.0080, 145.0192, 5623,   3732.3,   1.4779,   1.4779,2,  34.6773,2,  34.6758,4,    144.2,2,    150.8,4,   152.63,2,    36.64,2,     0.00,2,     2.56,2,    0.034,3,    0.003,2,   2333.2,2,   2414.1,2,   7.5579,2,    25.00,  -999.00,9,  -999.00,9,   1.4779,2,      746
  49RY20120726,   40N,     7,  1,      9,    108,2,20120729,0656, 40.0080, 145.0192, 5623,   3989.0,   1.4640,   1.4641,2,  34.6816,2,  34.6734,4,    149.4,2,    148.7,2,   151.34,2,    36.42,2,     0.00,2,     2.53,2,    0.000,2,    0.000,2,   2327.3,2,   2414.9,2,   7.5649,2,    25.00,  -999.00,9,  -999.00,9,   1.4641,2,      740
  49RY20120726,   40N,     7,  1,      8,     81,2,20120729,0656, 40.0080, 145.0192, 5623,   4246.7,   1.4657,   1.4658,2,  34.6844,2,  34.6831,4,    153.0,2,    153.2,6,   150.10,6,    36.14,6,     0.00,6,     2.52,2, -999.000,9, -999.000,9,   2325.2,2,   2409.0,3,   7.5717,2,    25.00,  -999.00,9,  -999.00,9,   1.4658,2,      735
  49RY20120726,   40N,     7,  1,      7,    106,2,20120729,0656, 40.0080, 145.0192, 5623,   4502.3,   1.4731,   1.4732,2,  34.6868,2,  34.6843,4,    155.7,2,    158.0,4,   149.32,2,    35.87,2,     0.00,2,     2.50,2, -999.000,9, -999.000,9,   2329.6,3,   2406.8,3,   7.5757,2,    25.00,  -999.00,9,  -999.00,9,   1.4732,2,      729
  49RY20120726,   40N,     7,  1,      6,    113,2,20120729,0656, 40.0080, 145.0192, 5623,   4502.3,   1.4731,   1.4732,2,  34.6868,2,  34.6871,2,    155.7,2,    156.4,2,   149.61,2,    35.93,2,     0.00,2,     2.51,2, -999.000,9, -999.000,9,   2321.5,3,   2417.2,2,   7.5769,2,    25.00,  -999.00,9,  -999.00,9,   1.4732,2,      729
  49RY20120726,   40N,     7,  1,      5,     94,2,20120729,0656, 40.0080, 145.0192, 5623,   4758.6,   1.4923,   1.4924,2,  34.6881,2,  34.6860,4,    157.2,2,    157.7,2,   148.94,2,    35.75,2,     0.00,2,     2.50,2, -999.000,9, -999.000,9,   2323.0,6,   2412.9,6,   7.5807,2,    25.00,  -999.00,9,  -999.00,9,   1.4924,2,      724
  49RY20120726,   40N,     7,  1,      4,     77,2,20120729,0656, 40.0080, 145.0192, 5623,   5016.8,   1.5110,   1.5110,2,  34.6894,2,  34.6869,4,    159.3,2,    159.8,2,   147.86,2,    35.64,2,     0.00,2,     2.49,2,    0.000,2,    0.000,2,   2320.4,2,   2409.2,2,   7.5824,6,    25.00,  -999.00,9,  -999.00,9,   1.5110,2,      718
  49RY20120726,   40N,     7,  1,      3,    104,2,20120729,0656, 40.0080, 145.0192, 5623,   5275.1,   1.5349,   1.5350,2,  34.6906,2,  34.6875,4,    160.7,2,    160.8,2,   146.55,2,    35.56,2,     0.00,2,     2.48,2, -999.000,9, -999.000,9,   2328.5,3,   2412.5,2,   7.5862,2,    25.00,  -999.00,9,  -999.00,9,   1.5350,2,      713
  49RY20120726,   40N,     7,  1,      2,     75,2,20120729,0656, 40.0080, 145.0192, 5623,   5533.6,   1.5607,   1.5607,2,  34.6913,2,  34.6906,2,    162.2,2,    162.2,2,   145.11,2,    35.43,2,     0.00,2,     2.48,2, -999.000,9, -999.000,9,   2322.8,2,   2412.7,2,   7.5855,2,    25.00,  -999.00,9,  -999.00,9,   1.5607,2,      707
  49RY20120726,   40N,     7,  1,      1,    997,2,20120729,0656, 40.0080, 145.0192, 5623,   5714.9,   1.5820,   1.5818,2,  34.6917,2,  34.6916,2,    162.6,2,    162.5,2,   145.73,2,    35.21,3,     0.00,2,     2.48,2,    0.016,2,    0.000,2,   2323.5,2,   2410.8,2,   7.5857,2,    25.00,  -999.00,9,  -999.00,9,   1.5818,2,      657