BOTTLE,20210419PRINUNIVRMK
EXPOCODE,SECT_ID,STNNBR,CASTNO,SAMPNO,BTLNBR,BTLNBR_FLAG_W,DATE,TIME,LATITUDE,LONGITUDE,DEPTH,CTDPRS,CTDTMP,SBE35,SBE35_FLAG_W,CTDSAL,CTDSAL_FLAG_W,SALNTY,SALNTY_FLAG_W,CTDOXY,CTDOXY_FLAG_W,OXYGEN,OXYGEN_FLAG_W,SILCAT,SILCAT_FLAG_W,NITRAT,NITRAT_FLAG_W,NITRIT,NITRIT_FLAG_W,PHSPHT,PHSPHT_FLAG_W,CFC-11,CFC-11_FLAG_W,CFC-12,CFC-12_FLAG_W,TCARBN,TCARBN_FLAG_W,ALKALI,ALKALI_FLAG_W,PH_TOT,PH_TOT_FLAG_W,PH_TMP,CHLORA,CHLORA_FLAG_W,PPHYTN,PPHYTN_FLAG_W,SBE35,SBE35_FLAG_W,BTL_TIME
,,,,,,,,,,,METERS,DBAR,ITS-90,,,PSS-78,,PSS-78,,UMOL/KG,,UMOL/KG,,UMOL/KG,,UMOL/KG,,UMOL/KG,,UMOL/KG,,PMOL/KG,,PMOL/KG,,UMOL/KG,,UMOL/KG,,,,DEG C,UG/KG,,UG/KG,,,,
  49RY20120726,   40N,    27,  1,     36,    109,2,20120804,1830, 40.0060, 157.0023, 5582,     11.6,  21.8375,  21.8357,2,  34.0253,2,  34.0286,2,    226.3,2,    225.7,2,     2.30,2,     0.03,2,     0.00,2,     0.05,2,    2.095,2,    1.209,2,   1975.8,2,   2245.8,2,   8.0222,2,    25.00,     0.17,2,     0.03,2,  21.8357,2,     2205
  49RY20120726,   40N,    27,  1,     35,    112,2,20120804,1830, 40.0060, 157.0023, 5582,     52.3,  14.0559,  14.0617,2,  34.3731,2,  34.3752,2,    242.6,2,    244.0,2,     7.36,2,     4.55,2,     0.37,2,     0.45,2,    2.789,2,    1.572,2,   2046.4,2,   2272.9,2,   7.9265,2,    25.00,     0.88,2,     0.44,2,  14.0617,2,     2202
  49RY20120726,   40N,    27,  1,     34,     83,2,20120804,1830, 40.0060, 157.0023, 5582,    102.2,  11.5108,  11.5116,2,  34.3178,2,  34.3189,2,    225.6,2,    225.9,2,    16.28,2,    11.86,2,     0.03,2,     0.84,2,    2.924,2,    1.643,2,   2088.4,2,   2270.7,2,   7.8264,2,    25.00,     0.04,2,     0.04,2,  11.5116,2,     2200
  49RY20120726,   40N,    27,  1,     33,     86,2,20120804,1830, 40.0060, 157.0023, 5582,    152.2,   9.8093,   9.8064,2,  34.1676,2,  34.1679,2,    237.9,2,    238.8,2,    20.00,2,    13.51,2,     0.02,2,     0.99,2,    3.129,2,    1.737,2,   2106.3,6,   2266.4,6,   7.7972,2,    25.00,     0.01,2,     0.03,2,   9.8064,2,     2158
  49RY20120726,   40N,    27,  1,     32,    105,2,20120804,1830, 40.0060, 157.0023, 5582,    204.4,   8.4283,   8.4312,2,  34.0282,2,  34.0278,2,    254.9,2,    255.9,2,    22.31,2,    14.48,2,     0.02,2,     1.08,2,    3.447,2,    1.954,2,   2110.5,2,   2263.3,2,   7.7743,6,    25.00,     0.01,2,     0.03,2,   8.4312,2,     2150
  49RY20120726,   40N,    27,  1,     31,     76,2,20120804,1830, 40.0060, 157.0023, 5582,    253.9,   7.4690,   7.4705,2,  33.9379,2,  33.9399,2,    246.9,2,    248.5,2,    27.79,2,    17.15,2,     0.02,2,     1.28,2,    3.500,2,    1.925,2,   2128.9,2,   2263.3,2,   7.7333,2,    25.00,  -999.00,9,  -999.00,9,   7.4705,2,     2145
  49RY20120726,   40N,    27,  1,     30,    103,2,20120804,1830, 40.0060, 157.0023, 5582,    334.7,   6.2424,   6.2408,2,  33.9053,2,  33.9075,2,    184.4,2,    185.2,6,    47.52,6,    25.27,6,     0.01,6,     1.86,6,    3.041,6,    1.610,6,   2192.2,2,   2274.6,2,   7.6028,2,    25.00,  -999.00,9,  -999.00,9,   6.2408,2,     2142
  49RY20120726,   40N,    27,  1,     29,    102,2,20120804,1830, 40.0060, 157.0023, 5582,    436.1,   4.8093,   4.8101,2,  33.9198,2,  33.9282,2,    129.9,2,    129.1,2,    71.33,2,    33.15,2,     0.01,2,     2.42,2,    2.461,2,    1.293,2,   2254.0,2,   2290.3,2,   7.4695,2,    25.00,  -999.00,9,  -999.00,9,   4.8101,2,     2140
  49RY20120726,   40N,    27,  1,     28,     91,2,20120804,1830, 40.0060, 157.0023, 5582,    536.3,   4.5313,   4.5369,2,  34.0678,2,  34.0699,2,     84.2,2,     84.6,2,    89.94,2,    37.19,2,     0.00,2,     2.70,2,    1.638,2,    0.825,2,   2296.6,2,   2309.8,2,   7.4040,2,    25.00,  -999.00,9,  -999.00,9,   4.5369,2,     2133
  49RY20120726,   40N,    27,  1,     27,    998,2,20120804,1830, 40.0060, 157.0023, 5582,    637.2,   4.1852,   4.1856,2,  34.1672,2,  34.1706,2,     61.5,2,     60.9,2,   103.97,2,    39.47,2,     0.00,2,     2.85,2,    1.081,6,    0.519,6,   2321.6,2,   2328.1,2,   7.3677,2,    25.00,  -999.00,9,  -999.00,9,   4.1856,2,     2130
  49RY20120726,   40N,    27,  1,     26,     99,2,20120804,1830, 40.0060, 157.0023, 5582,    738.8,   3.6857,   3.6853,2,  34.2336,2,  34.2342,2,     44.6,2,     45.0,6,   118.13,6,    41.33,6,     0.00,6,     2.98,6,    0.711,2,    0.333,2,   2342.6,2,   2339.7,2,   7.3441,2,    25.00,  -999.00,9,  -999.00,9,   3.6853,2,     2127
  49RY20120726,   40N,    27,  1,     25,     98,2,20120804,1830, 40.0060, 157.0023, 5582,    840.0,   3.4377,   3.4364,2,  34.2985,2,  34.2983,2,     40.4,2,     40.5,2,   127.00,2,    41.87,2,     0.00,2,     3.01,2,    0.473,2,    0.220,2,   2354.2,6,   2353.4,6,   7.3435,2,    25.00,  -999.00,9,  -999.00,9,   3.4364,2,     2115
  49RY20120726,   40N,    27,  1,     24,    110,2,20120804,1830, 40.0060, 157.0023, 5582,    941.2,   3.2254,   3.2239,2,  34.3514,2,  34.3551,2,     39.4,2,     41.6,2,   133.50,2,    42.19,2,     0.00,2,     3.03,2,    0.291,2,    0.122,2,   2365.4,2,   2362.7,2,   7.3501,6,    25.00,  -999.00,9,  -999.00,9,   3.2239,2,     2111
  49RY20120726,   40N,    27,  1,     23,     96,2,20120804,1830, 40.0060, 157.0023, 5582,   1083.2,   2.9915,   2.9915,2,  34.4068,2,  34.4087,6,     40.7,2,     40.7,2,   140.62,2,    42.23,2,     0.00,2,     3.04,2,    0.164,2,    0.069,2,   2367.8,2,   2372.7,2,   7.3541,2,    25.00,  -999.00,9,  -999.00,9,   2.9915,2,     2107
  49RY20120726,   40N,    27,  1,     22,    111,2,20120804,1830, 40.0060, 157.0023, 5582,   1285.6,   2.6322,   2.6322,2,  34.4579,2,  34.4602,2,     37.8,2,     37.9,2,   151.62,2,    42.91,2,     0.00,2,     3.06,2,    0.079,2,    0.022,2,   2381.1,2,   2384.7,2,   7.3536,2,    25.00,  -999.00,9,  -999.00,9,   2.6322,2,     2057
  49RY20120726,   40N,    27,  1,     21,     78,2,20120804,1830, 40.0060, 157.0023, 5582,   1489.0,   2.3881,   2.3884,2,  34.5014,2,  34.5026,2,     42.9,2,     43.0,2,   158.14,2,    42.71,2,     0.00,2,     3.04,2,    0.037,2,    0.005,2,   2388.9,2,   2390.1,2,   7.3658,2,    25.00,  -999.00,9,  -999.00,9,   2.3884,2,     2044
  49RY20120726,   40N,    27,  1,     20,     93,2,20120804,1830, 40.0060, 157.0023, 5582,   1691.9,   2.2149,   2.2142,2,  34.5374,2,  34.5367,2,     52.8,2,     53.0,2,   161.58,2,    42.19,2,     0.00,2,     3.00,2,    0.026,2,    0.000,2,   2387.2,2,   2396.4,2,   7.3842,2,    25.00,  -999.00,9,  -999.00,9,   2.2142,2,     2038
  49RY20120726,   40N,    27,  1,     19,     92,2,20120804,1830, 40.0060, 157.0023, 5582,   1894.3,   2.0395,   2.0395,2,  34.5710,2,  34.5739,2,     63.1,2,     63.5,6,   164.49,6,    41.60,2,     0.00,6,     2.95,6,    0.003,2,    0.000,2,   2383.4,2,   2403.4,2,   7.4069,2,    25.00,  -999.00,9,  -999.00,9,   2.0395,2,     2030
  49RY20120726,   40N,    27,  1,     18,    101,2,20120804,1830, 40.0060, 157.0023, 5582,   2098.0,   1.9210,   1.9214,2,  34.5944,2,  34.5957,2,     73.6,2,     74.1,2,   165.51,2,    40.74,2,     0.00,2,     2.90,2, -999.000,9, -999.000,9,   2376.9,2,   2406.2,2,   7.4291,2,    25.00,  -999.00,9,  -999.00,9,   1.9214,2,     2018
  49RY20120726,   40N,    27,  1,     17,     90,2,20120804,1830, 40.0060, 157.0023, 5582,   2302.5,   1.8079,   1.8073,2,  34.6155,2,  34.6169,2,     85.8,2,     86.0,2,   165.78,2,    40.19,2,     0.00,2,     2.85,2, -999.000,9, -999.000,9,   2376.4,2,   2408.7,2,   7.4530,2,    25.00,  -999.00,9,  -999.00,9,   1.8073,2,     2012
  49RY20120726,   40N,    27,  1,     16,     89,3,20120804,1830, 40.0060, 157.0023, 5582,   2505.9,   1.7169,   1.7173,2,  34.6318,2,  34.6310,2,     97.4,2,     97.6,2,   165.05,2,    39.39,2,     0.00,2,     2.79,2, -999.000,9, -999.000,9,   2365.6,2,   2409.0,2,   7.4738,2,    25.00,  -999.00,9,  -999.00,9,   1.7173,2,     2005
  49RY20120726,   40N,    27,  1,     15,     88,4,20120804,1830, 40.0060, 157.0023, 5582,   2709.7,   1.6498,   1.6497,2,  34.6448,2,  34.6401,4,    109.2,2,    104.2,4,   163.33,4,    39.00,4,     0.00,4,     2.76,4,    0.000,4,    0.000,4,   2360.7,4,   2412.5,4,   7.4861,4,    25.00,  -999.00,9,  -999.00,9,   1.6497,2,     1956
  49RY20120726,   40N,    27,  1,     14,    999,2,20120804,1830, 40.0060, 157.0023, 5582,   2913.5,   1.5995,   1.5984,2,  34.6540,2,  34.6545,2,    118.3,2,    118.7,2,   159.57,2,    38.18,2,     0.00,2,     2.68,2, -999.000,9, -999.000,9,   2352.8,2,   2410.6,2,   7.5127,2,    25.00,  -999.00,9,  -999.00,9,   1.5984,2,     1949
  49RY20120726,   40N,    27,  1,     13,    996,2,20120804,1830, 40.0060, 157.0023, 5582,   3130.6,   1.5590,   1.5589,2,  34.6616,2,  34.6622,2,    125.9,2,    126.2,2,   158.02,2,    37.76,2,     0.00,2,     2.65,2, -999.000,9, -999.000,9,   2346.8,2,   2410.5,2,   7.5288,2,    25.00,  -999.00,9,  -999.00,9,   1.5589,2,     1938
  49RY20120726,   40N,    27,  1,     12,     74,2,20120804,1830, 40.0060, 157.0023, 5582,   3130.6,   1.5590,   1.5589,2,  34.6616,2,  34.6623,6,    125.9,2,    126.2,2,   157.88,2,    37.68,2,     0.00,2,     2.65,2, -999.000,9, -999.000,9,   2350.9,2,   2409.9,2,   7.5287,2,    25.00,  -999.00,9,  -999.00,9,   1.5589,2,     1938
  49RY20120726,   40N,    27,  1,     11,     97,2,20120804,1830, 40.0060, 157.0023, 5582,   3384.0,   1.5234,   1.5234,2,  34.6686,2,  34.6678,2,    133.3,2,    133.6,2,   156.45,2,    37.23,2,     0.00,2,     2.61,2,    0.000,2,    0.000,2,   2344.5,6,   2410.0,6,   7.5417,2,    25.00,  -999.00,9,  -999.00,9,   1.5234,2,     1931
  49RY20120726,   40N,    27,  1,     10,    107,2,20120804,1830, 40.0060, 157.0023, 5582,   3640.8,   1.4931,   1.4932,2,  34.6749,2,  34.6757,2,    140.2,2,    140.4,2,   154.77,2,    36.77,2,     0.00,2,     2.57,2, -999.000,9, -999.000,9,   2334.9,2,   2409.0,2,   7.5524,6,    25.00,  -999.00,9,  -999.00,9,   1.4932,2,     1924
  49RY20120726,   40N,    27,  1,      9,    108,2,20120804,1830, 40.0060, 157.0023, 5582,   3897.3,   1.4821,   1.4823,2,  34.6790,2,  34.6791,2,    145.2,2,    145.3,2,   153.01,2,    36.41,2,     0.00,2,     2.55,2, -999.000,9, -999.000,9,   2327.5,2,   2409.9,2,   7.5640,2,    25.00,  -999.00,9,  -999.00,9,   1.4823,2,     1918
  49RY20120726,   40N,    27,  1,      8,     81,2,20120804,1830, 40.0060, 157.0023, 5582,   4153.3,   1.4767,   1.4767,2,  34.6825,2,  34.6827,2,    149.5,2,    149.7,2,   151.61,2,    36.05,2,     0.00,2,     2.51,2, -999.000,9, -999.000,9,   2335.0,3,   2409.4,2,   7.5701,2,    25.00,  -999.00,9,  -999.00,9,   1.4767,2,     1911
  49RY20120726,   40N,    27,  1,      7,    106,2,20120804,1830, 40.0060, 157.0023, 5582,   4410.1,   1.4804,   1.4806,2,  34.6853,2,  34.6851,2,    152.8,2,    152.9,6,   150.83,6,    35.99,6,     0.00,6,     2.50,6,    0.000,2,    0.000,2,   2329.0,2,   2408.6,2,   7.5761,2,    25.00,  -999.00,9,  -999.00,9,   1.4806,2,     1904
  49RY20120726,   40N,    27,  1,      6,    113,2,20120804,1830, 40.0060, 157.0023, 5582,   4666.3,   1.4916,   1.4918,2,  34.6873,2,  34.6859,2,    155.2,2,    155.4,2,   150.58,2,    35.71,2,     0.00,2,     2.49,2, -999.000,9, -999.000,9,   2326.0,6,   2407.7,6,   7.5799,2,    25.00,  -999.00,9,  -999.00,9,   1.4918,2,     1858
  49RY20120726,   40N,    27,  1,      5,     94,2,20120804,1830, 40.0060, 157.0023, 5582,   4922.4,   1.5098,   1.5099,2,  34.6889,2,  34.6884,2,    156.9,2,    156.9,2,   150.39,2,    35.61,2,     0.00,2,     2.48,2, -999.000,9, -999.000,9,   2322.4,2,   2405.8,2,   7.5812,6,    25.00,  -999.00,9,  -999.00,9,   1.5099,2,     1852
  49RY20120726,   40N,    27,  1,      4,     77,2,20120804,1830, 40.0060, 157.0023, 5582,   5181.2,   1.5357,   1.5358,2,  34.6898,2,  34.6897,6,    157.7,2,    157.8,2,   151.10,2,    35.58,2,     0.00,2,     2.48,2, -999.000,9, -999.000,9,   2324.3,2,   2405.7,2,   7.5824,2,    25.00,  -999.00,9,  -999.00,9,   1.5358,2,     1846
  49RY20120726,   40N,    27,  1,      3,    104,2,20120804,1830, 40.0060, 157.0023, 5582,   5439.3,   1.5614,   1.5614,2,  34.6905,2,  34.6904,2,    159.5,2,    159.2,2,   148.84,2,    35.60,2,     0.00,2,     2.47,2,    0.000,2,    0.066,3,   2321.9,2,   2406.0,2,   7.5847,2,    25.00,  -999.00,9,  -999.00,9,   1.5614,2,     1840
  49RY20120726,   40N,    27,  1,      1,    997,2,20120804,1830, 40.0060, 157.0023, 5582,   5691.7,   1.5814,   1.5811,2,  34.6918,2,  34.6915,2,    162.2,2,    162.0,2,   145.73,2,    35.35,2,     0.00,2,     2.46,2,    0.005,2,    0.000,2,   2322.4,2,   2403.1,2,   7.5900,2,    25.00,  -999.00,9,  -999.00,9,   1.5811,2,     1831
  49RY20120726,   40N,    27,  1,      2,     75,2,20120804,1830, 40.0060, 157.0023, 5582,   5692.3,   1.5815,   1.5813,2,  34.6917,2,  34.6924,2,    162.1,2,    162.1,2,   145.92,2,    35.36,2,     0.00,2,     2.45,2, -999.000,9, -999.000,9,   2324.8,2,   2405.3,2,   7.5907,2,    25.00,  -999.00,9,  -999.00,9,   1.5813,2,     1831