BOTTLE,20210419PRINUNIVRMK
EXPOCODE,SECT_ID,STNNBR,CASTNO,SAMPNO,BTLNBR,BTLNBR_FLAG_W,DATE,TIME,LATITUDE,LONGITUDE,DEPTH,CTDPRS,CTDTMP,SBE35,SBE35_FLAG_W,CTDSAL,CTDSAL_FLAG_W,SALNTY,SALNTY_FLAG_W,CTDOXY,CTDOXY_FLAG_W,OXYGEN,OXYGEN_FLAG_W,SILCAT,SILCAT_FLAG_W,NITRAT,NITRAT_FLAG_W,NITRIT,NITRIT_FLAG_W,PHSPHT,PHSPHT_FLAG_W,CFC-11,CFC-11_FLAG_W,CFC-12,CFC-12_FLAG_W,TCARBN,TCARBN_FLAG_W,ALKALI,ALKALI_FLAG_W,PH_TOT,PH_TOT_FLAG_W,PH_TMP,CHLORA,CHLORA_FLAG_W,PPHYTN,PPHYTN_FLAG_W,SBE35,SBE35_FLAG_W,BTL_TIME
,,,,,,,,,,,METERS,DBAR,ITS-90,,,PSS-78,,PSS-78,,UMOL/KG,,UMOL/KG,,UMOL/KG,,UMOL/KG,,UMOL/KG,,UMOL/KG,,PMOL/KG,,PMOL/KG,,UMOL/KG,,UMOL/KG,,,,DEG C,UG/KG,,UG/KG,,,,
  49RY20120726,   40N,     5,  1,     36,    109,2,20120728,1809, 40.0088, 144.0100, 4218,     11.7,  16.1965,  16.1895,2,  33.7420,2,  33.7660,4,    261.2,2,    259.0,2,     0.81,2,     0.03,2,     0.00,2,     0.05,2, -999.000,9, -999.000,9,   1996.8,2,   2251.5,2,   7.9930,2,    25.00,     0.20,2,     0.03,2,  16.1895,2,     2017
  49RY20120726,   40N,     5,  1,     35,    112,2,20120728,1809, 40.0088, 144.0100, 4218,     51.8,   6.5910,   6.5703,2,  32.9540,2,  32.9780,4,    332.5,2,    337.6,2,     5.93,2,     6.04,2,     0.13,2,     0.84,2, -999.000,9, -999.000,9,   2043.3,2,   2243.0,2,   7.8898,2,    25.00,     1.55,2,     0.41,2,   6.5703,2,     2012
  49RY20120726,   40N,     5,  1,     34,     83,2,20120728,1809, 40.0088, 144.0100, 4218,    102.4,   2.9641,   2.9724,2,  33.1604,2,  33.1540,2,    290.9,2,    291.4,2,    29.00,2,    17.40,2,     0.17,2,     1.62,2, -999.000,9, -999.000,9,   2141.1,6,   2246.6,6,   7.6624,2,    25.00,     0.08,2,     0.19,2,   2.9724,2,     2010
  49RY20120726,   40N,     5,  1,     33,     86,2,20120728,1809, 40.0088, 144.0100, 4218,    152.7,   2.3551,   2.3564,2,  33.2340,2,  33.2357,2,    289.8,2,    289.9,2,    36.29,2,    22.26,2,     0.04,2,     1.78,2, -999.000,9, -999.000,9,   2148.9,2,   2241.9,2,   7.6259,6,    25.00,     0.04,2,     0.16,2,   2.3564,2,     2007
  49RY20120726,   40N,     5,  1,     32,    105,2,20120728,1809, 40.0088, 144.0100, 4218,    203.1,   2.3901,   2.3917,2,  33.3057,2,  33.3158,2,    284.2,2,    283.0,6,    39.43,6,    22.88,6,     0.02,6,     1.81,6, -999.000,9, -999.000,9,   2156.4,2,   2248.4,2,   7.6110,2,    25.00,     0.03,2,     0.13,2,   2.3917,2,     2005
  49RY20120726,   40N,     5,  1,     31,     76,2,20120728,1809, 40.0088, 144.0100, 4218,    254.0,   2.3475,   2.3463,2,  33.3824,2,  33.4213,4,    263.4,2,    256.9,2,    48.46,2,    25.63,2,     0.02,2,     1.98,2, -999.000,9, -999.000,9,   2177.8,2,   2258.9,2,   7.5768,2,    25.00,  -999.00,9,  -999.00,9,   2.3463,2,     2002
  49RY20120726,   40N,     5,  1,     30,    103,3,20120728,1809, 40.0088, 144.0100, 4218,    303.9,   2.6626,   2.6768,2,  33.5010,2,  33.5014,2,    217.2,2,    219.2,2,    59.04,2,    29.07,2,     0.02,2,     2.22,2, -999.000,9, -999.000,9,   2210.3,2,   2268.8,2,   7.5104,2,    25.00,  -999.00,9,  -999.00,9,   2.6768,2,     2000
  49RY20120726,   40N,     5,  1,     29,    102,2,20120728,1809, 40.0088, 144.0100, 4218,    405.8,   3.2046,   3.2039,2,  33.7153,2,  33.7146,2,    142.5,2,    141.1,2,    78.64,2,    35.10,3,     0.01,2,     2.61,2, -999.000,9, -999.000,9,   2264.3,2,   2287.0,2,   7.4011,2,    25.00,  -999.00,9,  -999.00,9,   3.2039,2,     1955
  49RY20120726,   40N,     5,  1,     28,     91,3,20120728,1809, 40.0088, 144.0100, 4218,    505.8,   4.0455,   4.0446,2,  33.9704,2,  33.9690,2,     93.6,2,     93.5,2,    89.22,2,    37.40,2,     0.01,2,     2.73,2, -999.000,9, -999.000,9,   2289.7,2,   2309.1,2,   7.3884,3,    25.00,  -999.00,9,  -999.00,9,   4.0446,2,     1951
  49RY20120726,   40N,     5,  1,     27,    998,2,20120728,1809, 40.0088, 144.0100, 4218,    505.8,   4.0455,   4.0446,2,  33.9704,2,  33.9706,2,     93.6,2,     93.5,6,    89.26,6,    37.48,6,     0.01,6,     2.74,6, -999.000,9, -999.000,9,   2293.1,2,   2308.9,2,   7.3826,2,    25.00,  -999.00,9,  -999.00,9,   4.0446,2,     1951
  49RY20120726,   40N,     5,  1,     26,     99,2,20120728,1809, 40.0088, 144.0100, 4218,    607.4,   4.4291,   4.4290,2,  34.1764,2,  34.1738,2,     68.4,2,     68.9,2,    99.28,2,    38.66,2,     0.01,2,     2.79,2, -999.000,9, -999.000,9,   2306.0,2,   2328.3,2,   7.3853,2,    25.00,  -999.00,9,  -999.00,9,   4.4290,2,     1947
  49RY20120726,   40N,     5,  1,     25,     98,2,20120728,1809, 40.0088, 144.0100, 4218,    707.1,   3.7751,   3.7754,2,  34.2237,2,  34.2168,2,     48.6,2,     48.3,2,   115.07,2,    41.04,2,     0.01,2,     2.97,2, -999.000,9, -999.000,9,   2338.2,2,   2342.6,2,   7.3424,2,    25.00,  -999.00,9,  -999.00,9,   3.7754,2,     1944
  49RY20120726,   40N,     5,  1,     24,    110,2,20120728,1809, 40.0088, 144.0100, 4218,    809.0,   3.4517,   3.4504,2,  34.2776,2,  34.2756,2,     40.9,2,     40.7,2,   125.93,2,    42.13,4,     0.01,2,     3.03,2, -999.000,9, -999.000,9,   2354.6,2,   2358.3,2,   7.3350,2,    25.00,  -999.00,9,  -999.00,9,   3.4504,2,     1940
  49RY20120726,   40N,     5,  1,     23,     96,2,20120728,1809, 40.0088, 144.0100, 4218,    809.0,   3.4517,   3.4504,2,  34.2776,2,  34.2782,2,     40.9,2,     41.2,2,   125.77,2,    41.76,2,     0.01,2,     3.03,2, -999.000,9, -999.000,9,   2353.4,2,   2357.2,2,   7.3335,2,    25.00,  -999.00,9,  -999.00,9,   3.4504,2,     1940
  49RY20120726,   40N,     5,  1,     22,    111,2,20120728,1809, 40.0088, 144.0100, 4218,    910.9,   3.2488,   3.2493,2,  34.3354,2,  34.3368,2,     40.2,2,     40.2,2,   132.34,2,    42.15,2,     0.01,2,     3.05,2, -999.000,9, -999.000,9,   2362.9,6,   2364.3,6,   7.3449,2,    25.00,  -999.00,9,  -999.00,9,   3.2493,2,     1936
  49RY20120726,   40N,     5,  1,     20,     93,2,20120728,1809, 40.0088, 144.0100, 4218,   1012.0,   3.1118,   3.1118,2,  34.3894,2,  34.3895,6,     43.1,2,     43.6,2,   136.34,2,    41.79,2,     0.01,2,     3.03,2, -999.000,9, -999.000,9,   2364.9,2,   2375.0,2,   7.3560,6,    25.00,  -999.00,9,  -999.00,9,   3.1118,2,     1931
  49RY20120726,   40N,     5,  1,     18,    101,2,20120728,1809, 40.0088, 144.0100, 4218,   1214.1,   2.7299,   2.7300,2,  34.4572,2,  34.4566,2,     44.2,2,     45.6,3,   146.74,2,    42.32,2,     0.01,2,     3.05,2, -999.000,9, -999.000,9,   2355.1,3,   2388.6,2,   7.3611,2,    25.00,  -999.00,9,  -999.00,9,   2.7300,2,     1926
  49RY20120726,   40N,     5,  1,     17,     90,2,20120728,1809, 40.0088, 144.0100, 4218,   1417.5,   2.4773,   2.4780,2,  34.4981,2,  34.4988,2,     47.2,2,     47.2,6,   153.79,6,    42.33,6,     0.00,6,     3.05,6, -999.000,9, -999.000,9,   2359.9,3,   2394.4,2,   7.3724,2,    25.00,  -999.00,9,  -999.00,9,   2.4780,2,     1920
  49RY20120726,   40N,     5,  1,     16,     89,2,20120728,1809, 40.0088, 144.0100, 4218,   1620.1,   2.3010,   2.3015,2,  34.5319,2,  34.5331,2,     54.6,2,     55.5,2,   157.09,2,    42.29,2,     0.00,2,     3.01,2, -999.000,9, -999.000,9,   2362.9,3,   2403.0,6,   7.3881,2,    25.00,  -999.00,9,  -999.00,9,   2.3015,2,     1915
  49RY20120726,   40N,     5,  1,     15,     88,2,20120728,1809, 40.0088, 144.0100, 4218,   1824.1,   2.1306,   2.1308,2,  34.5637,2,  34.5648,2,     64.1,2,     64.3,2,   159.83,2,    41.59,2,     0.00,2,     2.97,2, -999.000,9, -999.000,9,   2356.5,3,   2406.1,2,   7.4070,6,    25.00,  -999.00,9,  -999.00,9,   2.1308,2,     1909
  49RY20120726,   40N,     5,  1,     14,    999,2,20120728,1809, 40.0088, 144.0100, 4218,   2024.1,   1.9832,   1.9832,2,  34.5891,2,  34.5893,6,     75.0,2,     75.0,2,   161.42,2,    40.88,2,     0.00,2,     2.92,2, -999.000,9, -999.000,9,   2374.9,2,   2409.8,2,   7.4287,2,    25.00,  -999.00,9,  -999.00,9,   1.9832,2,     1903
  49RY20120726,   40N,     5,  1,     13,    996,4,20120728,1809, 40.0088, 144.0100, 4218,   2280.3,   1.8385,   1.8382,2,  34.6149,2,  33.3796,4,     90.3,2,    244.0,4,     1.13,4,     0.00,4,     0.00,4,     0.11,4, -999.000,9, -999.000,9,   1980.6,4,   2220.4,4,   7.9947,4,    25.00,  -999.00,9,  -999.00,9,   1.8382,2,     1857
  49RY20120726,   40N,     5,  1,     12,     74,2,20120728,1809, 40.0088, 144.0100, 4218,   2534.5,   1.7254,   1.7253,2,  34.6342,2,  34.6306,4,    105.0,2,    104.7,2,   159.28,2,    38.88,2,     0.00,2,     2.77,2, -999.000,9, -999.000,9,   2357.1,2,   2416.1,2,   7.4931,2,    25.00,  -999.00,9,  -999.00,9,   1.7253,2,     1851
  49RY20120726,   40N,     5,  1,     10,    107,2,20120728,1809, 40.0088, 144.0100, 4218,   2789.6,   1.6345,   1.6344,2,  34.6489,2,  34.6494,2,    116.5,2,    116.5,2,   157.93,2,    38.37,2,     0.00,2,     2.72,2, -999.000,9, -999.000,9,   2355.5,2,   2416.1,2,   7.5121,2,    25.00,  -999.00,9,  -999.00,9,   1.6344,2,     1845
  49RY20120726,   40N,     5,  1,      9,    108,2,20120728,1809, 40.0088, 144.0100, 4218,   3045.2,   1.5749,   1.5749,2,  34.6592,2,  34.6590,2,    125.5,2,    125.9,2,   156.52,2,    38.01,2,     0.00,2,     2.67,2, -999.000,9, -999.000,9,   2346.0,2,   2417.6,2,   7.5301,2,    25.00,  -999.00,9,  -999.00,9,   1.5749,2,     1839
  49RY20120726,   40N,     5,  1,      8,     81,2,20120728,1809, 40.0088, 144.0100, 4218,   3045.2,   1.5749,   1.5749,2,  34.6592,2,  34.6601,2,    125.5,2,    125.5,2,   156.58,2,    37.87,2,     0.00,2,     2.67,2, -999.000,9, -999.000,9,   2346.1,2,   2417.5,2,   7.5272,2,    25.00,  -999.00,9,  -999.00,9,   1.5749,2,     1839
  49RY20120726,   40N,     5,  1,      7,    106,3,20120728,1809, 40.0088, 144.0100, 4218,   3301.1,   1.5334,   1.5333,2,  34.6668,2,  34.6660,2,    133.3,2,    133.4,2,   154.85,2,    37.42,2,     0.00,2,     2.64,2, -999.000,9, -999.000,9,   2343.4,2,   2417.4,2,   7.5401,2,    25.00,  -999.00,9,  -999.00,9,   1.5333,2,     1833
  49RY20120726,   40N,     5,  1,      6,    113,2,20120728,1809, 40.0088, 144.0100, 4218,   3557.0,   1.5033,   1.5030,2,  34.6729,2,  34.6723,2,    139.7,2,    140.5,2,   153.31,2,    36.85,2,     0.00,2,     2.60,2, -999.000,9, -999.000,9,   2339.9,6,   2416.0,6,   7.5506,2,    25.00,  -999.00,9,  -999.00,9,   1.5030,2,     1827
  49RY20120726,   40N,     5,  1,      5,     94,4,20120728,1809, 40.0088, 144.0100, 4218,   3814.6,   1.4842,   1.4841,2,  34.6777,2,  34.6718,4,    145.2,2,    139.7,4,   153.21,4,    36.98,4,     0.00,4,     2.60,4, -999.000,9, -999.000,9,   2341.0,4,   2416.3,4,   7.5523,4,    25.00,  -999.00,9,  -999.00,9,   1.4841,2,     1822
  49RY20120726,   40N,     5,  1,      4,     77,3,20120728,1809, 40.0088, 144.0100, 4218,   4071.8,   1.4609,   1.4607,2,  34.6826,2,  34.6796,4,    150.9,2,    151.6,6,   150.70,6,    36.06,6,     0.00,6,     2.53,6, -999.000,9, -999.000,9,   2330.5,2,   2413.6,2,   7.5729,2,    25.00,  -999.00,9,  -999.00,9,   1.4607,2,     1816
  49RY20120726,   40N,     5,  1,      2,     75,2,20120728,1809, 40.0088, 144.0100, 4218,   4309.2,   1.4658,   1.4656,2,  34.6848,2,  34.6842,2,    153.7,2,    153.8,2,   150.25,2,    35.86,2,     0.00,2,     2.53,2, -999.000,9, -999.000,9,   2328.5,2,   2413.5,2,   7.5721,2,    25.00,  -999.00,9,  -999.00,9,   1.4656,2,     1811
  49RY20120726,   40N,     5,  1,      1,    997,2,20120728,1809, 40.0088, 144.0100, 4218,   4309.2,   1.4658,   1.4656,2,  34.6848,2,  34.6849,2,    153.7,2,    153.9,2,   150.09,2,    35.98,2,     0.00,2,     2.52,2, -999.000,9, -999.000,9,   2320.5,3,   2413.8,2,   7.5735,2,    25.00,  -999.00,9,  -999.00,9,   1.4656,2,     1810
  49RY20120726,   40N,     5,  1,      3,    104,3,20120728,1809, 40.0088, 144.0100, 4218,   4310.8,   1.4661,   1.4660,2,  34.6849,2,  34.6827,4,    153.8,2,    153.4,2,   150.04,2,    35.99,2,     0.00,2,     2.52,2, -999.000,9, -999.000,9,   2326.1,2,   2414.8,2,   7.5750,2,    25.00,  -999.00,9,  -999.00,9,   1.4660,2,     1811