BOTTLE,20210419PRINUNIVRMK
EXPOCODE,SECT_ID,STNNBR,CASTNO,SAMPNO,BTLNBR,BTLNBR_FLAG_W,DATE,TIME,LATITUDE,LONGITUDE,DEPTH,CTDPRS,CTDTMP,SBE35,SBE35_FLAG_W,CTDSAL,CTDSAL_FLAG_W,SALNTY,SALNTY_FLAG_W,CTDOXY,CTDOXY_FLAG_W,OXYGEN,OXYGEN_FLAG_W,SILCAT,SILCAT_FLAG_W,NITRAT,NITRAT_FLAG_W,NITRIT,NITRIT_FLAG_W,PHSPHT,PHSPHT_FLAG_W,CFC-11,CFC-11_FLAG_W,CFC-12,CFC-12_FLAG_W,TCARBN,TCARBN_FLAG_W,ALKALI,ALKALI_FLAG_W,PH_TOT,PH_TOT_FLAG_W,PH_TMP,CHLORA,CHLORA_FLAG_W,PPHYTN,PPHYTN_FLAG_W,SBE35,SBE35_FLAG_W,BTL_TIME
,,,,,,,,,,,METERS,DBAR,ITS-90,,,PSS-78,,PSS-78,,UMOL/KG,,UMOL/KG,,UMOL/KG,,UMOL/KG,,UMOL/KG,,UMOL/KG,,PMOL/KG,,PMOL/KG,,UMOL/KG,,UMOL/KG,,,,DEG C,UG/KG,,UG/KG,,,,
  49RY20120726,   40N,    23,  1,     36,    109,3,20120802,2034, 40.0177, 154.3478, 5565,     11.6,  22.3164,  22.3552,2,  34.0468,2,  34.0593,2,    225.2,2,    224.8,2,     1.72,2,     0.00,2,     0.00,2,     0.05,2, -999.000,9, -999.000,9,   1973.8,2,   2248.7,2,   8.0250,2,    25.00,     0.13,2,     0.01,2,  22.3552,2,      104
  49RY20120726,   40N,    23,  1,     35,    112,2,20120802,2034, 40.0177, 154.3478, 5565,     52.4,  14.1452,  14.1463,2,  34.3637,2,  34.3626,2,    229.4,2,    231.2,2,    10.80,2,     6.92,2,     0.29,2,     0.56,2, -999.000,9, -999.000,9,   2055.2,2,   2274.4,2,   7.9047,2,    25.00,     0.78,2,     0.23,2,  14.1463,2,       58
  49RY20120726,   40N,    23,  1,     34,     83,2,20120802,2034, 40.0177, 154.3478, 5565,    102.3,  11.0066,  11.0110,2,  34.2406,2,  34.2351,2,    218.8,2,    220.5,2,    19.46,2,    13.37,2,     0.15,2,     0.99,2, -999.000,9, -999.000,9,   2098.0,2,   2270.0,2,   7.8020,2,    25.00,     0.19,2,     0.11,2,  11.0110,2,       56
  49RY20120726,   40N,    23,  1,     33,     86,2,20120802,2034, 40.0177, 154.3478, 5565,    152.6,   7.8943,   7.8938,2,  33.9650,2,  33.9623,2,    264.0,2,    264.5,2,    23.04,2,    15.02,2,     0.02,2,     1.13,3, -999.000,9, -999.000,9,   2118.8,2,   2261.5,2,   7.7658,2,    25.00,     0.06,2,     0.06,2,   7.8938,2,       54
  49RY20120726,   40N,    23,  1,     32,    105,2,20120802,2034, 40.0177, 154.3478, 5565,    202.5,   6.7999,   6.7978,2,  33.8672,2,  33.8683,2,    271.9,2,    272.5,6,    26.72,6,    16.63,6,     0.00,6,     1.26,6, -999.000,9, -999.000,9,   2124.4,2,   2262.1,2,   7.7440,2,    25.00,     0.01,2,     0.04,2,   6.7978,2,       52
  49RY20120726,   40N,    23,  1,     31,     76,2,20120802,2034, 40.0177, 154.3478, 5565,    254.0,   6.6743,   6.6746,2,  33.8870,2,  33.8872,2,    278.3,2,    278.8,2,    26.48,2,    16.38,2,     0.01,2,     1.24,2, -999.000,9, -999.000,9,   2123.0,6,   2262.1,6,   7.7473,2,    25.00,  -999.00,9,  -999.00,9,   6.6746,2,       50
  49RY20120726,   40N,    23,  1,     30,    103,2,20120802,2034, 40.0177, 154.3478, 5565,    303.8,   5.7609,   5.7527,2,  33.8080,2,  33.8080,2,    227.9,2,    227.8,2,    40.80,2,    22.40,2,     0.01,2,     1.68,2, -999.000,9, -999.000,9,   2164.2,2,   2269.4,2,   7.6499,6,    25.00,  -999.00,9,  -999.00,9,   5.7527,2,       43
  49RY20120726,   40N,    23,  1,     29,    102,2,20120802,2034, 40.0177, 154.3478, 5565,    407.7,   5.0704,   5.0698,2,  33.9815,2,  33.9715,6,    120.1,2,    120.3,2,    72.42,2,    33.20,2,     0.00,2,     2.44,2, -999.000,9, -999.000,9,   2249.1,2,   2299.3,2,   7.4685,2,    25.00,  -999.00,9,  -999.00,9,   5.0698,2,       40
  49RY20120726,   40N,    23,  1,     28,     91,2,20120802,2034, 40.0177, 154.3478, 5565,    505.8,   4.3133,   4.3144,2,  34.0441,2,  34.0426,2,     81.7,2,     83.8,2,    91.54,2,    37.72,2,     0.00,2,     2.74,2, -999.000,9, -999.000,9,   2297.4,2,   2312.7,2,   7.3870,2,    25.00,  -999.00,9,  -999.00,9,   4.3144,2,       37
  49RY20120726,   40N,    23,  1,     27,    998,2,20120802,2034, 40.0177, 154.3478, 5565,    609.5,   3.8456,   3.8469,2,  34.1097,2,  34.1114,2,     56.7,2,     56.8,6,   106.03,6,    40.24,6,     0.00,6,     2.92,6, -999.000,9, -999.000,9,   2323.3,2,   2326.8,2,   7.3409,2,    25.00,  -999.00,9,  -999.00,9,   3.8469,2,       32
  49RY20120726,   40N,    23,  1,     26,     99,3,20120802,2034, 40.0177, 154.3478, 5565,    709.7,   3.7970,   3.7966,2,  34.2334,2,  34.2335,2,     48.9,2,     48.7,2,   115.08,2,    40.69,2,     0.00,2,     2.95,2, -999.000,9, -999.000,9,   2338.4,2,   2344.6,2,   7.3518,2,    25.00,  -999.00,9,  -999.00,9,   3.7966,2,       29
  49RY20120726,   40N,    23,  1,     25,     98,2,20120802,2034, 40.0177, 154.3478, 5565,    810.4,   3.5487,   3.5489,2,  34.3030,2,  34.3027,2,     44.3,2,     44.0,2,   123.92,2,    41.24,2,     0.00,2,     2.99,2, -999.000,9, -999.000,9,   2347.5,2,   2358.4,2,   7.3541,2,    25.00,  -999.00,9,  -999.00,9,   3.5489,2,       25
  49RY20120726,   40N,    23,  1,     24,    110,2,20120802,2034, 40.0177, 154.3478, 5565,    911.3,   3.2624,   3.2626,2,  34.3519,2,  34.3515,2,     41.0,2,     41.0,2,   132.11,2,    41.85,2,     0.00,2,     3.02,2, -999.000,9, -999.000,9,   2361.0,2,   2369.2,2,   7.3556,2,    25.00,  -999.00,9,  -999.00,9,   3.2626,2,       17
  49RY20120726,   40N,    23,  1,     23,     96,2,20120802,2034, 40.0177, 154.3478, 5565,   1015.2,   3.0451,   3.0460,2,  34.3916,2,  34.3907,2,     39.8,2,     39.9,2,   138.07,2,    42.25,2,     0.00,2,     3.04,2, -999.000,9, -999.000,9,   2360.5,6,   2376.5,6,   7.3543,2,    25.00,  -999.00,9,  -999.00,9,   3.0460,2,       14
  49RY20120726,   40N,    23,  1,     22,    111,2,20120802,2034, 40.0177, 154.3478, 5565,   1216.1,   2.6278,   2.6279,2,  34.4587,2,  34.4582,2,     38.8,2,     38.6,2,   150.75,2,    42.99,2,     0.00,2,     3.07,2, -999.000,9, -999.000,9,   2379.7,2,   2390.7,2,   7.3545,6,    25.00,  -999.00,9,  -999.00,9,   2.6279,2,        6
  49RY20120726,   40N,    23,  1,     21,     78,2,20120802,2034, 40.0177, 154.3478, 5565,   1417.1,   2.3847,   2.3848,2,  34.5049,2,  34.5045,2,     44.0,2,     44.2,2,   157.26,2,    42.53,2,     0.00,2,     3.05,2, -999.000,9, -999.000,9,   2382.6,2,   2398.8,2,   7.3692,2,    25.00,  -999.00,9,  -999.00,9,   2.3848,2,     2353
  49RY20120726,   40N,    23,  1,     20,     93,2,20120802,2034, 40.0177, 154.3478, 5565,   1622.8,   2.1813,   2.1813,2,  34.5439,2,  34.5432,2,     52.2,2,     52.4,2,   161.56,2,    42.12,2,     0.00,2,     3.01,2, -999.000,9, -999.000,9,   2386.3,2,   2403.3,2,   7.3863,2,    25.00,  -999.00,9,  -999.00,9,   2.1813,2,     2342
  49RY20120726,   40N,    23,  1,     19,     92,2,20120802,2034, 40.0177, 154.3478, 5565,   1824.0,   2.0429,   2.0428,2,  34.5723,2,  34.5726,2,     63.4,2,     63.3,2,   163.25,2,    41.56,2,     0.00,2,     2.96,2, -999.000,9, -999.000,9,   2376.6,2,   2412.9,2,   7.4129,2,    25.00,  -999.00,9,  -999.00,9,   2.0428,2,     2333
  49RY20120726,   40N,    23,  1,     18,    101,2,20120802,2034, 40.0177, 154.3478, 5565,   2027.1,   1.8954,   1.8954,2,  34.5996,2,  34.6012,2,     77.2,2,     77.5,2,   163.73,2,    40.65,2,     0.00,2,     2.90,2, -999.000,9, -999.000,9,   2375.6,2,   2412.4,2,   7.4374,2,    25.00,  -999.00,9,  -999.00,9,   1.8954,2,     2234
  49RY20120726,   40N,    23,  1,     17,     90,3,20120802,2034, 40.0177, 154.3478, 5565,   2230.8,   1.7955,   1.7955,2,  34.6180,2,  34.6176,2,     88.9,2,     88.8,2,   163.15,2,    39.92,2,     0.00,2,     2.84,2, -999.000,9, -999.000,9,   2372.2,2,   2421.8,3,   7.4589,2,    25.00,  -999.00,9,  -999.00,9,   1.7955,2,     2228
  49RY20120726,   40N,    23,  1,     16,     89,3,20120802,2034, 40.0177, 154.3478, 5565,   2433.7,   1.7082,   1.7084,2,  34.6334,2,  34.6332,2,    100.5,2,    100.6,2,   161.88,2,    39.21,2,     0.00,2,     2.79,2, -999.000,9, -999.000,9,   2361.4,6,   2418.5,6,   7.4797,2,    25.00,  -999.00,9,  -999.00,9,   1.7084,2,     2218
  49RY20120726,   40N,    23,  1,     15,     88,2,20120802,2034, 40.0177, 154.3478, 5565,   2637.3,   1.6326,   1.6327,2,  34.6461,2,  34.6465,2,    111.3,2,    111.3,2,   160.49,2,    38.69,2,     0.00,2,     2.73,2, -999.000,9, -999.000,9,   2353.0,2,   2418.5,2,   7.5007,6,    25.00,  -999.00,9,  -999.00,9,   1.6327,2,     2213
  49RY20120726,   40N,    23,  1,     14,    999,2,20120802,2034, 40.0177, 154.3478, 5565,   2842.4,   1.5802,   1.5802,2,  34.6555,2,  34.6561,2,    120.1,2,    119.8,2,   158.62,2,    38.05,2,     0.00,2,     2.69,2, -999.000,9, -999.000,9,   2350.5,2,   2419.8,2,   7.5170,2,    25.00,  -999.00,9,  -999.00,9,   1.5802,2,     2207
  49RY20120726,   40N,    23,  1,     13,    996,2,20120802,2034, 40.0177, 154.3478, 5565,   3047.6,   1.5448,   1.5448,2,  34.6622,2,  34.6608,4,    127.0,2,    126.7,2,   157.10,2,    37.64,2,     0.00,2,     2.65,2, -999.000,9, -999.000,9,   2347.8,2,   2418.2,2,   7.5277,2,    25.00,  -999.00,9,  -999.00,9,   1.5448,2,     2202
  49RY20120726,   40N,    23,  1,     12,     74,2,20120802,2034, 40.0177, 154.3478, 5565,   3047.6,   1.5448,   1.5448,2,  34.6622,2,  34.6625,2,    127.0,2,    126.6,2,   157.02,2,    37.54,2,     0.00,2,     2.65,2, -999.000,9, -999.000,9,   2348.3,2,   2416.3,2,   7.5297,2,    25.00,  -999.00,9,  -999.00,9,   1.5448,2,     2202
  49RY20120726,   40N,    23,  1,     11,     97,2,20120802,2034, 40.0177, 154.3478, 5565,   3303.2,   1.5055,   1.5055,2,  34.6697,2,  34.6699,6,    135.1,2,    134.9,2,   155.37,2,    37.04,2,     0.00,2,     2.61,2, -999.000,9, -999.000,9,   2341.2,2,   2416.3,2,   7.5459,2,    25.00,  -999.00,9,  -999.00,9,   1.5055,2,     2155
  49RY20120726,   40N,    23,  1,     10,    107,2,20120802,2034, 40.0177, 154.3478, 5565,   3609.5,   1.4784,   1.4785,2,  34.6761,2,  34.6761,2,    142.4,2,    141.7,6,   153.19,6,    36.62,6,     0.00,6,     2.57,6, -999.000,9, -999.000,9,   2308.1,3,   2419.2,2,   7.5568,2,    25.00,  -999.00,9,  -999.00,9,   1.4785,2,     2148
  49RY20120726,   40N,    23,  1,      9,    108,2,20120802,2034, 40.0177, 154.3478, 5565,   3813.9,   1.4704,   1.4706,2,  34.6793,2,  34.6746,4,    146.3,2,    145.8,2,   151.95,2,    36.33,2,     0.00,2,     2.55,2, -999.000,9, -999.000,9,   2329.8,2,   2418.1,2,   7.5646,2,    25.00,  -999.00,9,  -999.00,9,   1.4706,2,     2142
  49RY20120726,   40N,    23,  1,      8,     81,2,20120802,2034, 40.0177, 154.3478, 5565,   4070.1,   1.4633,   1.4634,2,  34.6828,2,  34.6830,2,    150.6,2,    150.6,2,   151.09,2,    36.03,2,     0.00,2,     2.53,2, -999.000,9, -999.000,9,   2312.1,3,   2417.9,2,   7.5721,2,    25.00,  -999.00,9,  -999.00,9,   1.4634,2,     2133
  49RY20120726,   40N,    23,  1,      7,    106,2,20120802,2034, 40.0177, 154.3478, 5565,   4327.2,   1.4689,   1.4690,2,  34.6854,2,  34.6855,2,    153.9,2,    153.5,2,   149.76,2,    35.95,2,     0.00,2,     2.51,2, -999.000,9, -999.000,9,   2326.6,6,   2413.5,6,   7.5738,2,    25.00,  -999.00,9,  -999.00,9,   1.4690,2,     2126
  49RY20120726,   40N,    23,  1,      6,    113,2,20120802,2034, 40.0177, 154.3478, 5565,   4585.0,   1.4800,   1.4800,2,  34.6874,2,  34.6873,2,    156.7,2,    156.4,2,   148.45,2,    35.62,2,     0.00,2,     2.49,2, -999.000,9, -999.000,9,   2321.2,2,   2412.8,2,   7.5821,6,    25.00,  -999.00,9,  -999.00,9,   1.4800,2,     2121
  49RY20120726,   40N,    23,  1,      5,     94,2,20120802,2034, 40.0177, 154.3478, 5565,   4843.3,   1.4954,   1.4955,2,  34.6890,2,  34.6886,2,    159.1,2,    158.8,2,   147.09,2,    35.40,2,     0.00,2,     2.48,2, -999.000,9, -999.000,9,   2323.9,2,   2413.0,2,   7.5857,2,    25.00,  -999.00,9,  -999.00,9,   1.4955,2,     2114
  49RY20120726,   40N,    23,  1,      4,     77,2,20120802,2034, 40.0177, 154.3478, 5565,   5099.6,   1.5142,   1.5143,2,  34.6904,2,  34.6896,2,    161.0,2,    160.5,6,   146.48,6,    35.41,6,     0.00,6,     2.47,6, -999.000,9, -999.000,9,   2314.0,2,   2412.7,2,   7.5854,2,    25.00,  -999.00,9,  -999.00,9,   1.5143,2,     2108
  49RY20120726,   40N,    23,  1,      3,    104,2,20120802,2034, 40.0177, 154.3478, 5565,   5358.2,   1.5378,   1.5378,2,  34.6914,2,  34.6931,4,    163.1,2,    162.8,2,   144.33,2,    35.14,2,     0.00,2,     2.47,2, -999.000,9, -999.000,9,   2318.0,2,   2412.0,2,   7.5882,2,    25.00,  -999.00,9,  -999.00,9,   1.5378,2,     2045
  49RY20120726,   40N,    23,  1,      2,     75,2,20120802,2034, 40.0177, 154.3478, 5565,   5617.1,   1.5670,   1.5669,2,  34.6919,2,  34.6912,2,    163.7,2,    163.0,2,   144.10,2,    35.14,2,     0.00,2,     2.46,2, -999.000,9, -999.000,9,   2317.6,2,   2410.9,2,   7.5879,2,    25.00,  -999.00,9,  -999.00,9,   1.5669,2,     2038
  49RY20120726,   40N,    23,  1,      1,    997,2,20120802,2034, 40.0177, 154.3478, 5565,   5664.9,   1.5737,   1.5735,2,  34.6918,2,  34.6929,2,    163.7,2,    163.2,2,   144.27,2,    35.18,2,     0.00,2,     2.46,2, -999.000,9, -999.000,9,   2314.3,2,   2412.5,2,   7.5878,2,    25.00,  -999.00,9,  -999.00,9,   1.5735,2,     2036