BOTTLE,20210419PRINUNIVRMK
EXPOCODE,SECT_ID,STNNBR,CASTNO,SAMPNO,BTLNBR,BTLNBR_FLAG_W,DATE,TIME,LATITUDE,LONGITUDE,DEPTH,CTDPRS,CTDTMP,SBE35,SBE35_FLAG_W,CTDSAL,CTDSAL_FLAG_W,SALNTY,SALNTY_FLAG_W,CTDOXY,CTDOXY_FLAG_W,OXYGEN,OXYGEN_FLAG_W,SILCAT,SILCAT_FLAG_W,NITRAT,NITRAT_FLAG_W,NITRIT,NITRIT_FLAG_W,PHSPHT,PHSPHT_FLAG_W,CFC-11,CFC-11_FLAG_W,CFC-12,CFC-12_FLAG_W,TCARBN,TCARBN_FLAG_W,ALKALI,ALKALI_FLAG_W,PH_TOT,PH_TOT_FLAG_W,PH_TMP,CHLORA,CHLORA_FLAG_W,PPHYTN,PPHYTN_FLAG_W,SBE35,SBE35_FLAG_W,BTL_TIME
,,,,,,,,,,,METERS,DBAR,ITS-90,,,PSS-78,,PSS-78,,UMOL/KG,,UMOL/KG,,UMOL/KG,,UMOL/KG,,UMOL/KG,,UMOL/KG,,PMOL/KG,,PMOL/KG,,UMOL/KG,,UMOL/KG,,,,DEG C,UG/KG,,UG/KG,,,,
  49RY20120726,   40N,    44,  1,     36,    109,2,20120825,0410, 40.0097, 167.6783, 5704,      9.8,  24.4313,  24.4248,2,  34.2459,2,  34.2491,2,    211.6,2,    214.3,2,     2.00,2,     0.05,2,     0.00,2,     0.04,2,    2.004,2,    1.104,2,   1970.1,2,   2257.1,2,   8.0285,4,    25.00,     0.06,2,     0.01,2,  24.4248,2,      814
  49RY20120726,   40N,    44,  1,     35,    112,2,20120825,0410, 40.0097, 167.6783, 5704,     49.9,  16.3691,  16.3738,2,  34.5527,2,  34.5550,2,    264.5,2,    264.5,2,     2.99,2,     0.12,2,     0.01,2,     0.08,2,    2.684,2,    1.499,2,   2006.2,2,   2280.4,2,   7.9982,4,    25.00,     0.30,2,     0.20,2,  16.3738,2,      811
  49RY20120726,   40N,    44,  1,     34,     83,2,20120825,0410, 40.0097, 167.6783, 5704,    100.4,  14.1776,  14.1725,2,  34.4938,2,  34.4952,2,    219.8,2,    220.7,2,     9.54,2,     8.09,2,     0.02,2,     0.56,2,    2.704,2,    1.545,2,   2059.8,2,   2278.4,2,   7.8903,4,    25.00,     0.11,2,     0.05,2,  14.1725,2,      809
  49RY20120726,   40N,    44,  1,     33,     86,2,20120825,0410, 40.0097, 167.6783, 5704,    151.3,  13.1110,  13.1098,2,  34.4330,2,  34.4334,2,    219.5,2,    220.0,2,    12.50,2,     9.78,2,     0.01,2,     0.70,2,    2.756,2,    1.569,2,   2069.2,2,   2277.9,2,   7.8637,4,    25.00,     0.01,2,     0.02,2,  13.1098,2,      807
  49RY20120726,   40N,    44,  1,     32,    105,2,20120825,0410, 40.0097, 167.6783, 5704,    202.2,  12.2820,  12.2821,2,  34.3683,2,  34.3673,2,    219.6,2,    219.6,2,    14.69,2,    11.16,2,     0.01,2,     0.79,2,    2.865,2,    1.605,2,   2081.8,2,   2277.5,2,   7.8390,4,    25.00,     0.01,2,     0.01,2,  12.2821,2,      805
  49RY20120726,   40N,    44,  1,     31,     76,2,20120825,0410, 40.0097, 167.6783, 5704,    254.9,  11.3103,  11.3110,2,  34.2726,2,  34.2736,2,    221.7,2,    221.8,2,    16.96,2,    12.53,2,     0.01,2,     0.90,2,    2.912,2,    1.643,2,   2099.6,2,   2274.2,2,   7.8135,4,    25.00,  -999.00,9,  -999.00,9,  11.3110,2,      758
  49RY20120726,   40N,    44,  1,     30,     97,2,20120825,0410, 40.0097, 167.6783, 5704,    333.2,   9.6493,   9.6457,2,  34.1444,2,  34.1424,2,    200.7,2,    199.5,2,    26.43,2,    17.74,2,     0.00,2,     1.29,2,    3.015,6,    1.640,6,   2132.7,6,   2276.1,6,   7.7312,4,    25.00,  -999.00,9,  -999.00,9,   9.6457,2,      610
  49RY20120726,   40N,    44,  1,     29,    102,2,20120825,0410, 40.0097, 167.6783, 5704,    434.1,   7.0466,   7.0501,2,  33.9620,2,  33.9631,2,    184.5,2,    183.7,6,    42.46,6,    23.76,6,     0.00,6,     1.76,6,    3.029,2,    1.616,2,   2176.0,2,   2281.0,2,   7.6270,4,    25.00,  -999.00,9,  -999.00,9,   7.0501,2,      607
  49RY20120726,   40N,    44,  1,     28,     91,2,20120825,0410, 40.0097, 167.6783, 5704,    535.1,   5.3951,   5.3866,2,  33.9272,2,  33.9296,2,    137.4,2,    136.2,2,    64.69,2,    31.47,2,     0.00,2,     2.31,2,    2.652,2,    1.386,2,   2236.2,2,   2291.9,2,   7.4897,4,    25.00,  -999.00,9,  -999.00,9,   5.3866,2,      603
  49RY20120726,   40N,    44,  1,     27,    998,2,20120825,0410, 40.0097, 167.6783, 5704,    636.1,   4.6173,   4.6176,2,  33.9979,2,  33.9970,2,     97.9,2,     97.5,2,    81.82,2,    36.01,2,     0.00,2,     2.62,2,    2.031,6,    1.050,6,   2275.6,6,   2307.8,6,   7.4087,4,    25.00,  -999.00,9,  -999.00,9,   4.6176,2,      600
  49RY20120726,   40N,    44,  1,     26,     99,2,20120825,0410, 40.0097, 167.6783, 5704,    737.4,   4.2784,   4.2788,2,  34.1054,2,  34.1071,2,     68.8,2,     68.5,2,    97.06,2,    38.67,3,     0.00,2,     2.80,2,    1.355,2,    0.688,2,   2306.3,2,   2326.4,2,   7.3631,4,    25.00,  -999.00,9,  -999.00,9,   4.2788,2,      558
  49RY20120726,   40N,    44,  1,     25,     98,2,20120825,0410, 40.0097, 167.6783, 5704,    836.8,   3.9376,   3.9378,2,  34.1911,2,  34.1917,2,     50.9,2,     51.0,2,   109.68,2,    40.59,2,     0.00,2,     2.92,2,    0.906,2,    0.450,2,   2331.2,2,   2341.0,2,   7.3408,4,    25.00,  -999.00,9,  -999.00,9,   3.9378,2,      554
  49RY20120726,   40N,    44,  1,     24,    110,2,20120825,0410, 40.0097, 167.6783, 5704,    939.6,   3.6154,   3.6156,2,  34.2578,2,  34.2617,4,     39.2,2,     39.3,2,   120.65,2,    41.70,2,     0.00,2,     3.01,2,    0.557,2,    0.285,2,   2349.0,2,   2355.0,2,   7.3290,4,    25.00,  -999.00,9,  -999.00,9,   3.6156,2,      552
  49RY20120726,   40N,    44,  1,     23,     96,2,20120825,0410, 40.0097, 167.6783, 5704,   1081.7,   3.2714,   3.2716,2,  34.3386,2,  34.3399,2,     35.2,2,     34.9,2,   131.93,2,    42.43,2,     0.00,2,     3.06,2,    0.288,2,    0.159,2,   2361.1,2,   2369.3,2,   7.3283,4,    25.00,  -999.00,9,  -999.00,9,   3.2716,2,      549
  49RY20120726,   40N,    44,  1,     22,    111,2,20120825,0410, 40.0097, 167.6783, 5704,   1284.2,   2.8390,   2.8393,2,  34.4122,2,  34.4138,2,     31.6,2,     31.6,2,   145.69,2,    43.14,2,     0.00,2,     3.09,2,    0.124,2,    0.074,2,   2375.4,2,   2384.6,2,   7.3274,4,    25.00,  -999.00,9,  -999.00,9,   2.8393,2,      544
  49RY20120726,   40N,    44,  1,     21,     78,2,20120825,0410, 40.0097, 167.6783, 5704,   1487.6,   2.5473,   2.5474,2,  34.4719,2,  34.4732,2,     35.8,2,     35.5,2,   153.65,2,    43.05,2,     0.00,2,     3.09,2,    0.043,2,    0.037,2,   2385.4,2,   2396.4,2,   7.3394,4,    25.00,  -999.00,9,  -999.00,9,   2.5474,2,      540
  49RY20120726,   40N,    44,  1,     20,     93,2,20120825,0410, 40.0097, 167.6783, 5704,   1690.4,   2.3227,   2.3227,2,  34.5150,2,  34.5165,2,     43.4,2,     43.1,2,   159.70,2,    42.66,2,     0.00,2,     3.04,2,    0.007,2,    0.028,2,   2383.7,2,   2405.6,2,   7.3528,4,    25.00,  -999.00,9,  -999.00,9,   2.3227,2,      536
  49RY20120726,   40N,    44,  1,     19,     92,2,20120825,0410, 40.0097, 167.6783, 5704,   1894.3,   2.1521,   2.1521,2,  34.5470,2,  34.5481,2,     52.2,2,     52.1,6,   163.68,6,    42.28,6,     0.00,6,     3.01,6, -999.000,5, -999.000,5,   2383.2,2,   2407.9,2,   7.3772,4,    25.00,  -999.00,9,  -999.00,9,   2.1521,2,      532
  49RY20120726,   40N,    44,  1,     18,    101,2,20120825,0410, 40.0097, 167.6783, 5704,   2097.2,   2.0006,   2.0013,2,  34.5782,2,  34.5797,6,     63.9,2,     64.1,2,   165.35,2,    41.56,2,     0.00,2,     2.95,2,    0.000,2,    0.015,2,   2385.4,3,   2413.4,2,   7.3996,4,    25.00,  -999.00,9,  -999.00,9,   2.0013,2,      527
  49RY20120726,   40N,    44,  1,     17,     90,2,20120825,0410, 40.0097, 167.6783, 5704,   2300.4,   1.8712,   1.8716,2,  34.6028,2,  34.6030,2,     77.1,2,     76.8,2,   165.77,2,    40.65,2,     0.00,2,     2.90,2,    0.000,2,    0.017,2,   2375.0,2,   2412.8,2,   7.4261,4,    25.00,  -999.00,9,  -999.00,9,   1.8716,2,      523
  49RY20120726,   40N,    44,  1,     16,     89,2,20120825,0410, 40.0097, 167.6783, 5704,   2504.9,   1.7732,   1.7731,2,  34.6216,2,  34.6221,2,     89.6,2,     89.7,2,   165.06,2,    40.13,2,     0.00,2,     2.84,2,    0.000,2,    0.010,2,   2368.3,2,   2418.4,2,   7.4507,4,    25.00,  -999.00,9,  -999.00,9,   1.7731,2,      519
  49RY20120726,   40N,    44,  1,     15,     88,2,20120825,0410, 40.0097, 167.6783, 5704,   2708.3,   1.6829,   1.6829,2,  34.6380,2,  34.6388,2,    102.7,2,    102.4,2,   163.11,2,    39.16,2,     0.00,2,     2.77,2,    0.000,2,    0.011,2,   2361.1,2,   2420.5,2,   7.4760,4,    25.00,  -999.00,9,  -999.00,9,   1.6829,2,      515
  49RY20120726,   40N,    44,  1,     14,    999,2,20120825,0410, 40.0097, 167.6783, 5704,   2913.7,   1.6172,   1.6172,2,  34.6500,2,  34.6512,2,    113.6,2,    114.1,2,   160.96,2,    38.42,2,     0.00,2,     2.72,2,    0.000,2,    0.011,2,   2349.5,2,   2421.0,2,   7.4983,4,    25.00,  -999.00,9,  -999.00,9,   1.6172,2,      510
  49RY20120726,   40N,    44,  1,     13,    667,4,20120825,0410, 40.0097, 167.6783, 5704,   3127.6,   1.5671,   1.5672,2,  34.6588,2,-999.0000,9,    122.4,2,   -999.0,9,  -999.00,9,  -999.00,9,  -999.00,9,  -999.00,9, -999.000,9, -999.000,9,   -999.0,9,   -999.0,9,-999.0000,9,  -999.00,  -999.00,9,  -999.00,9,   1.5672,2,      506
  49RY20120726,   40N,    44,  1,     12,     74,2,20120825,0410, 40.0097, 167.6783, 5704,   3127.6,   1.5671,   1.5672,2,  34.6588,2,  34.6593,6,    122.4,2,    122.1,2,   159.31,2,    37.94,2,     0.00,2,     2.68,2,    0.000,2,    0.012,2,   2345.1,2,   2419.2,2,   7.5140,4,    25.00,  -999.00,9,  -999.00,9,   1.5672,2,      506
  49RY20120726,   40N,    44,  1,     11,    996,2,20120825,0410, 40.0097, 167.6783, 5704,   3383.0,   1.5250,   1.5251,2,  34.6671,2,  34.6677,2,    131.3,2,    131.6,2,   157.40,2,    37.32,2,     0.00,2,     2.64,2,    0.000,2,    0.012,2,   2339.1,2,   2419.1,2,   7.5312,4,    25.00,  -999.00,9,  -999.00,9,   1.5251,2,      501
  49RY20120726,   40N,    44,  1,     10,    107,2,20120825,0410, 40.0097, 167.6783, 5704,   3640.2,   1.5027,   1.5026,2,  34.6734,2,  34.6737,2,    138.5,2,    138.6,6,   154.79,6,    36.82,6,     0.00,6,     2.60,6,    0.000,2,    0.009,2,   2338.2,2,   2419.0,2,   7.5427,4,    25.00,  -999.00,9,  -999.00,9,   1.5026,2,      456
  49RY20120726,   40N,    44,  1,      9,    108,2,20120825,0410, 40.0097, 167.6783, 5704,   3895.4,   1.4894,   1.4894,2,  34.6778,2,  34.6782,2,    143.8,2,    143.2,2,   153.50,2,    36.57,2,     0.00,2,     2.58,2,    0.000,2,    0.012,2,   2333.6,6,   2420.7,6,   7.5530,4,    25.00,  -999.00,9,  -999.00,9,   1.4894,2,      450
  49RY20120726,   40N,    44,  1,      8,     81,2,20120825,0410, 40.0097, 167.6783, 5704,   4152.7,   1.4823,   1.4821,2,  34.6815,2,  34.6821,2,    148.5,2,    148.2,2,   152.32,2,    36.13,2,     0.00,2,     2.55,2,    0.000,2,    0.013,2,   2328.5,2,   2421.6,2,   7.5599,4,    25.00,  -999.00,9,  -999.00,9,   1.4821,2,      445
  49RY20120726,   40N,    44,  1,      7,    106,2,20120825,0410, 40.0097, 167.6783, 5704,   4410.8,   1.4853,   1.4856,2,  34.6846,2,  34.6854,2,    152.0,2,    150.5,4,   151.76,2,    36.09,2,     0.00,2,     2.54,2,    0.000,2,    0.012,2,   2322.7,3,   2417.5,2,   7.5633,4,    25.00,  -999.00,9,  -999.00,9,   1.4856,2,      440
  49RY20120726,   40N,    44,  1,      6,    113,2,20120825,0410, 40.0097, 167.6783, 5704,   4667.3,   1.4973,   1.4974,2,  34.6865,2,  34.6883,4,    154.3,2,    153.5,2,   151.58,2,    35.84,2,     0.00,2,     2.52,2,    0.000,2,    0.013,2,   2326.7,2,   2416.9,2,   7.5724,4,    25.00,  -999.00,9,  -999.00,9,   1.4974,2,      435
  49RY20120726,   40N,    44,  1,      5,     94,2,20120825,0410, 40.0097, 167.6783, 5704,   4923.9,   1.5190,   1.5191,2,  34.6877,2,  34.6866,2,    155.7,2,    154.0,4,   151.43,2,    35.81,2,     0.00,2,     2.53,2,    0.000,2,    0.012,2,   2325.0,2,   2419.8,2,   7.5731,4,    25.00,  -999.00,9,  -999.00,9,   1.5191,2,      430
  49RY20120726,   40N,    44,  1,      4,     77,2,20120825,0410, 40.0097, 167.6783, 5704,   5182.5,   1.5441,   1.5443,2,  34.6885,2,  34.6893,6,    156.7,2,    156.2,2,   151.23,2,    35.57,2,     0.00,2,     2.51,2,    0.002,2,    0.013,2,   2326.0,2,   2420.2,2,   7.5760,4,    25.00,  -999.00,9,  -999.00,9,   1.5443,2,      424
  49RY20120726,   40N,    44,  1,      3,    104,2,20120825,0410, 40.0097, 167.6783, 5704,   5440.3,   1.5737,   1.5737,2,  34.6889,2,  34.6914,4,    157.1,2,    156.5,2,   151.34,2,    35.64,2,     0.00,2,     2.51,2,    0.000,2,    0.011,2,   2324.8,6,   2419.0,6,   7.5752,4,    25.00,  -999.00,9,  -999.00,9,   1.5737,2,      419
  49RY20120726,   40N,    44,  1,      2,     75,2,20120825,0410, 40.0097, 167.6783, 5704,   5700.0,   1.6068,   1.6066,2,  34.6890,2,  34.6906,4,    157.4,2,    156.9,2,   151.73,2,    35.57,2,     0.00,2,     2.52,2,    0.000,2,    0.011,2,   2321.6,2,   2418.1,2,   7.5788,4,    25.00,  -999.00,9,  -999.00,9,   1.6066,2,      414
  49RY20120726,   40N,    44,  1,      1,    997,2,20120825,0410, 40.0097, 167.6783, 5704,   5817.4,   1.6195,   1.6195,2,  34.6894,2,  34.6921,4,    157.9,2,    157.4,6,   151.91,6,    35.61,6,     0.00,6,     2.51,6,    0.016,2,    0.011,2,   2322.9,2,   2419.9,2,   7.5819,4,    25.00,  -999.00,9,  -999.00,9,   1.6195,2,      410