BOTTLE,20210419PRINUNIVRMK
EXPOCODE,SECT_ID,STNNBR,CASTNO,SAMPNO,BTLNBR,BTLNBR_FLAG_W,DATE,TIME,LATITUDE,LONGITUDE,DEPTH,CTDPRS,CTDTMP,SBE35,SBE35_FLAG_W,CTDSAL,CTDSAL_FLAG_W,SALNTY,SALNTY_FLAG_W,CTDOXY,CTDOXY_FLAG_W,OXYGEN,OXYGEN_FLAG_W,SILCAT,SILCAT_FLAG_W,NITRAT,NITRAT_FLAG_W,NITRIT,NITRIT_FLAG_W,PHSPHT,PHSPHT_FLAG_W,CFC-11,CFC-11_FLAG_W,CFC-12,CFC-12_FLAG_W,TCARBN,TCARBN_FLAG_W,ALKALI,ALKALI_FLAG_W,PH_TOT,PH_TOT_FLAG_W,PH_TMP,CHLORA,CHLORA_FLAG_W,PPHYTN,PPHYTN_FLAG_W,SBE35,SBE35_FLAG_W,BTL_TIME
,,,,,,,,,,,METERS,DBAR,ITS-90,,,PSS-78,,PSS-78,,UMOL/KG,,UMOL/KG,,UMOL/KG,,UMOL/KG,,UMOL/KG,,UMOL/KG,,PMOL/KG,,PMOL/KG,,UMOL/KG,,UMOL/KG,,,,DEG C,UG/KG,,UG/KG,,,,
  49RY20120726,   40N,    59,  1,     36,    109,2,20120831,0923, 34.4888, 170.0352, 5435,     12.0,  26.0087,  26.0084,2,  34.3829,2,-999.0000,9,    208.0,2,    208.4,6,     1.52,6,     0.06,6,     0.00,6,     0.01,6, -999.000,9, -999.000,9,   -999.0,9,   -999.0,9,-999.0000,9,  -999.00,  -999.00,9,  -999.00,9,  26.0084,2,     1149
  49RY20120726,   40N,    59,  1,     35,    112,2,20120831,0923, 34.4888, 170.0352, 5435,     52.1,  21.5486,  21.5458,2,  34.5403,2,-999.0000,9,    226.3,2,    225.0,2,     2.02,2,     0.07,2,     0.00,2,     0.03,2, -999.000,9, -999.000,9,   -999.0,9,   -999.0,9,-999.0000,9,  -999.00,  -999.00,9,  -999.00,9,  21.5458,2,     1144
  49RY20120726,   40N,    59,  1,     34,     83,2,20120831,0923, 34.4888, 170.0352, 5435,    104.8,  17.8984,  17.9007,2,  34.5678,2,-999.0000,9,    177.5,2,    178.6,2,     8.62,2,     7.20,2,     0.05,2,     0.49,2, -999.000,9, -999.000,9,   -999.0,9,   -999.0,9,-999.0000,9,  -999.00,  -999.00,9,  -999.00,9,  17.9007,2,     1143
  49RY20120726,   40N,    59,  1,     33,     86,2,20120831,0923, 34.4888, 170.0352, 5435,    153.0,  16.1127,  16.1135,2,  34.6280,2,-999.0000,9,    197.6,2,    197.7,2,     8.13,2,     7.43,2,     0.01,2,     0.50,2, -999.000,9, -999.000,9,   -999.0,9,   -999.0,9,-999.0000,9,  -999.00,  -999.00,9,  -999.00,9,  16.1135,2,     1141
  49RY20120726,   40N,    59,  1,     32,    105,2,20120831,0923, 34.4888, 170.0352, 5435,    203.3,  15.0645,  15.0638,2,  34.5692,2,-999.0000,9,    207.7,2,    206.4,2,     9.21,2,     8.17,2,     0.01,2,     0.55,2, -999.000,9, -999.000,9,   -999.0,9,   -999.0,9,-999.0000,9,  -999.00,  -999.00,9,  -999.00,9,  15.0638,2,     1137
  49RY20120726,   40N,    59,  1,     31,     76,2,20120831,0923, 34.4888, 170.0352, 5435,    254.6,  13.4944,  13.5077,2,  34.4565,2,-999.0000,9,    206.0,2,    209.3,6,    13.50,6,    10.36,6,     0.01,6,     0.72,6, -999.000,9, -999.000,9,   -999.0,9,   -999.0,9,-999.0000,9,  -999.00,  -999.00,9,  -999.00,9,  13.5077,2,     1131
  49RY20120726,   40N,    59,  1,     30,     97,2,20120831,0923, 34.4888, 170.0352, 5435,    303.9,  11.9910,  11.9912,2,  34.3405,2,-999.0000,9,    220.1,2,    220.7,2,    15.40,2,    11.56,2,     0.01,2,     0.81,2, -999.000,9, -999.000,9,   -999.0,9,   -999.0,9,-999.0000,9,  -999.00,  -999.00,9,  -999.00,9,  11.9912,2,     1130
  49RY20120726,   40N,    59,  1,     29,    102,2,20120831,0923, 34.4888, 170.0352, 5435,    404.1,   9.7343,   9.7259,2,  34.1497,2,-999.0000,9,    201.4,2,    202.0,6,    26.26,6,    17.24,6,     0.01,6,     1.23,6, -999.000,9, -999.000,9,   -999.0,9,   -999.0,9,-999.0000,9,  -999.00,  -999.00,9,  -999.00,9,   9.7259,2,     1127
  49RY20120726,   40N,    59,  1,     28,     91,4,20120831,0923, 34.4888, 170.0352, 5435,    507.7,   7.3658,   7.3562,2,  34.0206,2,-999.0000,9,    167.8,2,   -999.0,9,  -999.00,9,  -999.00,9,  -999.00,9,  -999.00,9, -999.000,9, -999.000,9,   -999.0,9,   -999.0,9,-999.0000,9,  -999.00,  -999.00,9,  -999.00,9,   7.3562,2,     1124
  49RY20120726,   40N,    59,  1,     27,    998,2,20120831,0923, 34.4888, 170.0352, 5435,    607.2,   5.5197,   5.5194,2,  33.9939,2,-999.0000,9,    125.7,2,    125.7,2,    67.32,2,    32.07,2,     0.00,2,     2.32,2, -999.000,9, -999.000,9,   -999.0,9,   -999.0,9,-999.0000,9,  -999.00,  -999.00,9,  -999.00,9,   5.5194,2,     1122
  49RY20120726,   40N,    59,  1,     26,     84,2,20120831,0923, 34.4888, 170.0352, 5435,    708.9,   4.8083,   4.8083,2,  34.0588,2,-999.0000,9,     91.7,2,     92.2,2,    83.67,2,    36.05,2,     0.00,2,     2.60,2, -999.000,9, -999.000,9,   -999.0,9,   -999.0,9,-999.0000,9,  -999.00,  -999.00,9,  -999.00,9,   4.8083,2,     1119
  49RY20120726,   40N,    59,  1,     25,     98,2,20120831,0923, 34.4888, 170.0352, 5435,    810.2,   4.2971,   4.2975,2,  34.1681,2,-999.0000,9,     63.4,2,     63.1,2,   100.96,2,    39.00,2,     0.00,2,     2.82,2, -999.000,9, -999.000,9,   -999.0,9,   -999.0,9,-999.0000,9,  -999.00,  -999.00,9,  -999.00,9,   4.2975,2,     1114
  49RY20120726,   40N,    59,  1,     24,    110,2,20120831,0923, 34.4888, 170.0352, 5435,    912.4,   3.8548,   3.8547,2,  34.2510,2,-999.0000,9,     48.2,2,     48.6,2,   114.43,2,    40.59,2,     0.00,2,     2.92,2, -999.000,9, -999.000,9,   -999.0,9,   -999.0,9,-999.0000,9,  -999.00,  -999.00,9,  -999.00,9,   3.8547,2,     1112
  49RY20120726,   40N,    59,  1,     23,     96,2,20120831,0923, 34.4888, 170.0352, 5435,   1015.9,   3.5315,   3.5315,2,  34.3178,2,-999.0000,9,     43.6,2,     44.2,2,   123.99,2,    41.36,2,     0.00,2,     2.97,2, -999.000,9, -999.000,9,   -999.0,9,   -999.0,9,-999.0000,9,  -999.00,  -999.00,9,  -999.00,9,   3.5315,2,     1108
  49RY20120726,   40N,    59,  1,     22,    111,2,20120831,0923, 34.4888, 170.0352, 5435,   1214.5,   3.0007,   3.0007,2,  34.3996,2,-999.0000,9,     32.2,2,     32.5,2,   140.15,2,    42.89,2,     0.00,2,     3.07,2, -999.000,9, -999.000,9,   -999.0,9,   -999.0,9,-999.0000,9,  -999.00,  -999.00,9,  -999.00,9,   3.0007,2,     1103
  49RY20120726,   40N,    59,  1,     21,     78,2,20120831,0923, 34.4888, 170.0352, 5435,   1415.4,   2.6194,   2.6195,2,  34.4695,2,-999.0000,9,     34.6,2,     34.7,2,   151.18,2,    43.15,2,     0.00,2,     3.08,2, -999.000,9, -999.000,9,   -999.0,9,   -999.0,9,-999.0000,9,  -999.00,  -999.00,9,  -999.00,9,   2.6195,2,     1057
  49RY20120726,   40N,    59,  1,     20,     93,2,20120831,0923, 34.4888, 170.0352, 5435,   1619.3,   2.3128,   2.3129,2,  34.5209,2,-999.0000,9,     43.7,2,     43.8,2,   159.24,2,    42.70,2,     0.00,2,     3.03,2, -999.000,9, -999.000,9,   -999.0,9,   -999.0,9,-999.0000,9,  -999.00,  -999.00,9,  -999.00,9,   2.3129,2,     1052
  49RY20120726,   40N,    59,  1,     19,     92,2,20120831,0923, 34.4888, 170.0352, 5435,   1820.8,   2.0993,   2.0992,2,  34.5635,2,-999.0000,9,     56.9,2,     57.5,2,   163.05,2,    42.02,2,     0.00,2,     2.98,2, -999.000,9, -999.000,9,   -999.0,9,   -999.0,9,-999.0000,9,  -999.00,  -999.00,9,  -999.00,9,   2.0992,2,     1045
  49RY20120726,   40N,    59,  1,     18,    101,2,20120831,0923, 34.4888, 170.0352, 5435,   2024.1,   1.9416,   1.9415,2,  34.5913,2,-999.0000,9,     70.4,2,     70.7,2,   164.36,2,    41.22,2,     0.00,2,     2.91,2, -999.000,9, -999.000,9,   -999.0,9,   -999.0,9,-999.0000,9,  -999.00,  -999.00,9,  -999.00,9,   1.9415,2,     1039
  49RY20120726,   40N,    59,  1,     17,     90,2,20120831,0923, 34.4888, 170.0352, 5435,   2227.5,   1.8148,   1.8147,2,  34.6129,2,-999.0000,9,     83.8,2,     84.1,2,   164.38,2,    40.34,2,     0.00,2,     2.84,2, -999.000,9, -999.000,9,   -999.0,9,   -999.0,9,-999.0000,9,  -999.00,  -999.00,9,  -999.00,9,   1.8147,2,     1032
  49RY20120726,   40N,    59,  1,     16,     89,2,20120831,0923, 34.4888, 170.0352, 5435,   2431.0,   1.7211,   1.7212,2,  34.6291,2,-999.0000,9,     95.9,2,     96.1,2,   163.62,2,    39.58,2,     0.00,2,     2.79,2, -999.000,9, -999.000,9,   -999.0,9,   -999.0,9,-999.0000,9,  -999.00,  -999.00,9,  -999.00,9,   1.7212,2,     1027
  49RY20120726,   40N,    59,  1,     15,     88,2,20120831,0923, 34.4888, 170.0352, 5435,   2635.5,   1.6373,   1.6373,2,  34.6432,2,-999.0000,9,    108.0,2,    108.4,2,   161.57,2,    38.89,2,     0.00,2,     2.73,2, -999.000,9, -999.000,9,   -999.0,9,   -999.0,9,-999.0000,9,  -999.00,  -999.00,9,  -999.00,9,   1.6373,2,     1022
  49RY20120726,   40N,    59,  1,     14,    999,2,20120831,0923, 34.4888, 170.0352, 5435,   2840.1,   1.5857,   1.5858,2,  34.6531,2,-999.0000,9,    116.7,2,    117.1,2,   160.32,2,    38.38,2,     0.00,2,     2.69,2, -999.000,9, -999.000,9,   -999.0,9,   -999.0,9,-999.0000,9,  -999.00,  -999.00,9,  -999.00,9,   1.5858,2,     1016
  49RY20120726,   40N,    59,  1,     13,    667,2,20120831,0923, 34.4888, 170.0352, 5435,   3044.4,   1.5395,   1.5396,2,  34.6614,2,-999.0000,9,    125.2,2,    125.7,2,   158.62,2,    37.76,2,     0.00,2,     2.64,2, -999.000,9, -999.000,9,   -999.0,9,   -999.0,9,-999.0000,9,  -999.00,  -999.00,9,  -999.00,9,   1.5396,2,     1012
  49RY20120726,   40N,    59,  1,     12,     74,2,20120831,0923, 34.4888, 170.0352, 5435,   3044.6,   1.5395,   1.5394,2,  34.6613,2,-999.0000,9,    125.3,2,    125.4,2,   158.08,2,    37.74,2,     0.00,2,     2.64,2, -999.000,9, -999.000,9,   -999.0,9,   -999.0,9,-999.0000,9,  -999.00,  -999.00,9,  -999.00,9,   1.5394,2,     1012
  49RY20120726,   40N,    59,  1,     11,    996,2,20120831,0923, 34.4888, 170.0352, 5435,   3300.9,   1.5001,   1.5000,2,  34.6691,2,-999.0000,9,    133.7,2,    134.7,2,   155.89,2,    37.21,2,     0.00,2,     2.60,2, -999.000,9, -999.000,9,   -999.0,9,   -999.0,9,-999.0000,9,  -999.00,  -999.00,9,  -999.00,9,   1.5000,2,     1006
  49RY20120726,   40N,    59,  1,     10,    107,2,20120831,0923, 34.4888, 170.0352, 5435,   3555.5,   1.4762,   1.4762,2,  34.6748,2,-999.0000,9,    140.4,2,    140.2,2,   154.45,2,    36.79,2,     0.00,2,     2.56,2, -999.000,9, -999.000,9,   -999.0,9,   -999.0,9,-999.0000,9,  -999.00,  -999.00,9,  -999.00,9,   1.4762,2,     1001
  49RY20120726,   40N,    59,  1,      9,    108,2,20120831,0923, 34.4888, 170.0352, 5435,   3555.5,   1.4762,   1.4762,2,  34.6748,2,-999.0000,9,    140.4,2,    140.3,2,   154.68,2,    36.86,2,     0.00,2,     2.57,2, -999.000,9, -999.000,9,   -999.0,9,   -999.0,9,-999.0000,9,  -999.00,  -999.00,9,  -999.00,9,   1.4762,2,     1001
  49RY20120726,   40N,    59,  1,      8,     81,3,20120831,0923, 34.4888, 170.0352, 5435,   3811.5,   1.4624,   1.4623,2,  34.6796,2,-999.0000,9,    145.8,2,    145.1,2,   152.81,2,    36.42,2,     0.00,2,     2.53,2, -999.000,9, -999.000,9,   -999.0,9,   -999.0,9,-999.0000,9,  -999.00,  -999.00,9,  -999.00,9,   1.4623,2,      956
  49RY20120726,   40N,    59,  1,      7,    106,2,20120831,0923, 34.4888, 170.0352, 5435,   4069.4,   1.4626,   1.4626,2,  34.6826,2,-999.0000,9,    149.5,2,    149.3,2,   152.36,2,    36.18,2,     0.00,2,     2.52,2, -999.000,9, -999.000,9,   -999.0,9,   -999.0,9,-999.0000,9,  -999.00,  -999.00,9,  -999.00,9,   1.4626,2,      951
  49RY20120726,   40N,    59,  1,      6,    113,2,20120831,0923, 34.4888, 170.0352, 5435,   4324.6,   1.4620,   1.4620,2,  34.6858,2,-999.0000,9,    153.6,2,    153.7,2,   151.12,2,    35.85,2,     0.00,2,     2.49,2, -999.000,9, -999.000,9,   -999.0,9,   -999.0,9,-999.0000,9,  -999.00,  -999.00,9,  -999.00,9,   1.4620,2,      946
  49RY20120726,   40N,    59,  1,      5,     94,2,20120831,0923, 34.4888, 170.0352, 5435,   4581.8,   1.4680,   1.4680,2,  34.6883,2,-999.0000,9,    157.1,2,    157.6,6,   149.63,6,    35.63,6,     0.00,6,     2.47,6, -999.000,9, -999.000,9,   -999.0,9,   -999.0,9,-999.0000,9,  -999.00,  -999.00,9,  -999.00,9,   1.4680,2,      941
  49RY20120726,   40N,    59,  1,      4,     77,2,20120831,0923, 34.4888, 170.0352, 5435,   4838.6,   1.4707,   1.4707,2,  34.6907,2,-999.0000,9,    162.1,2,    162.7,2,   145.16,2,    35.31,2,     0.00,2,     2.44,2, -999.000,9, -999.000,9,   -999.0,9,   -999.0,9,-999.0000,9,  -999.00,  -999.00,9,  -999.00,9,   1.4707,2,      936
  49RY20120726,   40N,    59,  1,      3,    104,2,20120831,0923, 34.4888, 170.0352, 5435,   5094.3,   1.4803,   1.4803,2,  34.6926,2,-999.0000,9,    166.1,2,    165.4,2,   141.85,2,    35.07,2,     0.00,2,     2.42,2, -999.000,9, -999.000,9,   -999.0,9,   -999.0,9,-999.0000,9,  -999.00,  -999.00,9,  -999.00,9,   1.4803,2,      932
  49RY20120726,   40N,    59,  1,      2,     75,2,20120831,0923, 34.4888, 170.0352, 5435,   5353.6,   1.5004,   1.5004,2,  34.6935,2,-999.0000,9,    168.7,2,    169.0,2,   138.84,2,    34.79,2,     0.00,2,     2.40,2, -999.000,9, -999.000,9,   -999.0,9,   -999.0,9,-999.0000,9,  -999.00,  -999.00,9,  -999.00,9,   1.5004,2,      927
  49RY20120726,   40N,    59,  1,      1,    997,2,20120831,0923, 34.4888, 170.0352, 5435,   5525.6,   1.5070,   1.5068,2,  34.6948,2,-999.0000,9,    171.2,2,    171.6,2,   136.90,2,    34.62,2,     0.00,2,     2.39,2, -999.000,9, -999.000,9,   -999.0,9,   -999.0,9,-999.0000,9,  -999.00,  -999.00,9,  -999.00,9,   1.5068,2,      924