BOTTLE,20210419PRINUNIVRMK
EXPOCODE,SECT_ID,STNNBR,CASTNO,SAMPNO,BTLNBR,BTLNBR_FLAG_W,DATE,TIME,LATITUDE,LONGITUDE,DEPTH,CTDPRS,CTDTMP,SBE35,SBE35_FLAG_W,CTDSAL,CTDSAL_FLAG_W,SALNTY,SALNTY_FLAG_W,CTDOXY,CTDOXY_FLAG_W,OXYGEN,OXYGEN_FLAG_W,SILCAT,SILCAT_FLAG_W,NITRAT,NITRAT_FLAG_W,NITRIT,NITRIT_FLAG_W,PHSPHT,PHSPHT_FLAG_W,CFC-11,CFC-11_FLAG_W,CFC-12,CFC-12_FLAG_W,TCARBN,TCARBN_FLAG_W,ALKALI,ALKALI_FLAG_W,PH_TOT,PH_TOT_FLAG_W,PH_TMP,CHLORA,CHLORA_FLAG_W,PPHYTN,PPHYTN_FLAG_W,SBE35,SBE35_FLAG_W,BTL_TIME
,,,,,,,,,,,METERS,DBAR,ITS-90,,,PSS-78,,PSS-78,,UMOL/KG,,UMOL/KG,,UMOL/KG,,UMOL/KG,,UMOL/KG,,UMOL/KG,,PMOL/KG,,PMOL/KG,,UMOL/KG,,UMOL/KG,,,,DEG C,UG/KG,,UG/KG,,,,
  49RY20120726,   40N,     9,  1,     36,    109,2,20120729,1947, 39.9867, 146.0288, 5153,     11.9,  15.7756,  15.8200,2,  33.1541,2,  33.1723,2,    272.1,2,    274.8,6,     4.15,6,     1.49,6,     0.03,6,     0.37,6,    2.973,2,    1.674,2,   1992.7,2,   2237.6,2,   7.9750,2,    25.00,     0.33,2,     0.04,2,  15.8200,2,     2208
  49RY20120726,   40N,     9,  1,     35,    112,2,20120729,1947, 39.9867, 146.0288, 5153,     51.9,   4.6893,   4.6968,2,  33.0613,2,  33.0637,2,    317.7,2,    319.8,2,    20.09,2,    14.96,2,     0.52,2,     1.48,2,    4.858,2,    2.631,2,   2101.2,2,   2245.0,2,   7.7645,2,    25.00,     0.46,2,     0.20,2,   4.6968,2,     2203
  49RY20120726,   40N,     9,  1,     34,     83,3,20120729,1947, 39.9867, 146.0288, 5153,    102.4,   2.3242,   2.3300,2,  33.2596,2,  33.2744,2,    304.1,2,    303.4,2,    39.15,2,    22.97,2,     0.00,2,     1.81,2,    5.003,2,    2.777,2,   2149.1,2,   2251.0,2,   7.6342,2,    25.00,     0.04,2,     0.06,2,   2.3300,2,     2201
  49RY20120726,   40N,     9,  1,     33,     86,2,20120729,1947, 39.9867, 146.0288, 5153,    152.3,   3.0116,   3.0114,2,  33.4304,2,  33.4320,2,    264.7,2,    265.2,2,    44.53,2,    24.40,2,     0.01,2,     1.88,2,    4.510,2,    2.506,2,   2172.2,6,   2256.9,6,   7.5996,2,    25.00,     0.01,2,     0.06,2,   3.0114,2,     2159
  49RY20120726,   40N,     9,  1,     32,    105,2,20120729,1947, 39.9867, 146.0288, 5153,    203.3,   2.4786,   2.4789,2,  33.4834,2,  33.4851,2,    209.5,2,    208.8,2,    62.87,2,    30.49,2,     0.01,2,     2.32,2,    4.099,2,    2.217,2,   2213.7,2,   2268.1,2,   7.4805,6,    25.00,     0.01,2,     0.06,2,   2.4789,2,     2157
  49RY20120726,   40N,     9,  1,     31,     76,2,20120729,1947, 39.9867, 146.0288, 5153,    252.9,   2.7530,   2.7595,2,  33.6054,2,  33.6025,2,    162.6,2,    160.7,2,    75.14,2,    34.57,2,     0.01,2,     2.58,2,    3.551,2,    1.877,2,   2256.6,2,   2279.1,2,   7.4095,2,    25.00,  -999.00,9,  -999.00,9,   2.7595,2,     2155
  49RY20120726,   40N,     9,  1,     30,    103,2,20120729,1947, 39.9867, 146.0288, 5153,    252.9,   2.7530,   2.7595,2,  33.6054,2,  33.6035,2,    162.6,2,    162.4,2,    75.03,2,    34.57,2,     0.01,2,     2.58,2,    3.528,6,    1.888,6,   2258.0,2,   2283.1,2,   7.4075,2,    25.00,  -999.00,9,  -999.00,9,   2.7595,2,     2155
  49RY20120726,   40N,     9,  1,     29,    102,2,20120729,1947, 39.9867, 146.0288, 5153,    334.3,   3.3265,   3.3266,2,  33.8123,2,  33.8038,2,     99.3,2,     93.7,2,    91.23,2,    39.30,2,     0.01,2,     2.86,2,    2.585,2,    1.327,2,   2299.4,2,   2299.2,2,   7.3245,2,    25.00,  -999.00,9,  -999.00,9,   3.3266,2,     2152
  49RY20120726,   40N,     9,  1,     28,     91,3,20120729,1947, 39.9867, 146.0288, 5153,    434.7,   3.6457,   3.6460,2,  34.0089,2,  34.0072,2,     63.7,2,     64.8,2,   103.23,2,    40.89,2,     0.00,2,     2.95,2,    1.744,2,    0.869,2,   2323.8,2,   2319.7,2,   7.3138,2,    25.00,  -999.00,9,  -999.00,9,   3.6460,2,     2149
  49RY20120726,   40N,     9,  1,     27,    998,2,20120729,1947, 39.9867, 146.0288, 5153,    535.8,   3.6453,   3.6455,2,  34.1506,2,  34.1576,2,     47.3,2,     49.7,2,   113.93,2,    41.30,2,     0.00,2,     2.98,2,    1.065,2,    0.511,2,   2333.9,6,   2338.0,6,   7.3252,2,    25.00,  -999.00,9,  -999.00,9,   3.6455,2,     2146
  49RY20120726,   40N,     9,  1,     26,     99,3,20120729,1947, 39.9867, 146.0288, 5153,    637.5,   3.4557,   3.4555,2,  34.2415,2,  34.2404,2,     40.5,2,     45.1,2,   124.03,2,    42.16,2,     0.00,2,     3.02,2,    0.724,6,    0.336,6,   2350.3,2,   2351.3,2,   7.3273,2,    25.00,  -999.00,9,  -999.00,9,   3.4555,2,     2143
  49RY20120726,   40N,     9,  1,     25,     98,2,20120729,1947, 39.9867, 146.0288, 5153,    738.2,   3.1629,   3.1618,2,  34.2796,2,  34.2801,2,     35.7,2,     36.5,2,   132.59,2,    42.55,2,     0.00,2,     3.07,2,    0.570,2,    0.266,2,   2355.4,2,   2359.8,2,   7.3182,2,    25.00,  -999.00,9,  -999.00,9,   3.1618,2,     2140
  49RY20120726,   40N,     9,  1,     24,    110,2,20120729,1947, 39.9867, 146.0288, 5153,    839.6,   2.8857,   2.8856,2,  34.3213,2,  34.3197,2,     29.6,2,     29.9,2,   142.48,2,    43.36,2,     0.00,2,     3.11,2,    0.444,2,    0.199,2,   2376.5,2,   2371.8,2,   7.3056,2,    25.00,  -999.00,9,  -999.00,9,   2.8856,2,     2137
  49RY20120726,   40N,     9,  1,     23,     96,2,20120729,1947, 39.9867, 146.0288, 5153,    940.4,   2.7309,   2.7314,2,  34.3787,2,  34.3793,2,     33.6,2,     33.8,2,   147.82,2,    42.86,2,     0.00,2,     3.09,2,    0.322,2,    0.137,2,   2374.3,2,   2378.7,2,   7.3250,2,    25.00,  -999.00,9,  -999.00,9,   2.7314,2,     2133
  49RY20120726,   40N,     9,  1,     22,    111,2,20120729,1947, 39.9867, 146.0288, 5153,   1083.2,   2.5288,   2.5280,2,  34.4278,2,  34.4292,2,     37.3,2,     37.2,6,   153.94,6,    42.88,6,     0.00,6,     3.08,6, -999.000,9, -999.000,9,   2380.9,2,   2384.8,2,   7.3358,2,    25.00,  -999.00,9,  -999.00,9,   2.5280,2,     2130
  49RY20120726,   40N,     9,  1,     21,     78,2,20120729,1947, 39.9867, 146.0288, 5153,   1284.9,   2.3057,   2.3058,2,  34.4875,2,  34.4883,2,     44.8,2,     45.0,2,   159.94,2,    42.38,3,     0.00,2,     3.05,2, -999.000,9, -999.000,9,   2387.5,2,   2396.5,2,   7.3570,2,    25.00,  -999.00,9,  -999.00,9,   2.3058,2,     2124
  49RY20120726,   40N,     9,  1,     20,     93,2,20120729,1947, 39.9867, 146.0288, 5153,   1489.2,   2.1737,   2.1738,2,  34.5328,2,  34.5306,4,     53.8,2,     54.5,2,   161.84,2,    42.11,2,     0.00,2,     3.01,2,    0.060,2,    0.013,2,   2387.7,2,   2406.5,2,   7.3805,2,    25.00,  -999.00,9,  -999.00,9,   2.1738,2,     2120
  49RY20120726,   40N,     9,  1,     19,     92,2,20120729,1947, 39.9867, 146.0288, 5153,   1691.4,   2.0561,   2.0560,2,  34.5687,2,  34.5693,6,     63.8,2,     63.5,2,   162.37,2,    41.85,2,     0.00,2,     2.96,2, -999.000,9, -999.000,9,   2374.2,3,   2408.7,2,   7.4040,2,    25.00,  -999.00,9,  -999.00,9,   2.0560,2,     2114
  49RY20120726,   40N,     9,  1,     18,    101,2,20120729,1947, 39.9867, 146.0288, 5153,   1895.7,   1.9164,   1.9164,2,  34.5952,2,  34.5959,2,     76.3,2,     78.1,4,   162.87,2,    40.81,2,     0.00,2,     2.90,2, -999.000,9, -999.000,9,   2375.5,2,   2413.3,2,   7.4329,2,    25.00,  -999.00,9,  -999.00,9,   1.9164,2,     2110
  49RY20120726,   40N,     9,  1,     17,     90,3,20120729,1947, 39.9867, 146.0288, 5153,   2098.5,   1.7849,   1.7849,2,  34.6186,2,  34.6171,2,     90.7,2,     91.2,2,   161.65,2,    39.88,2,     0.00,2,     2.83,2,    0.000,2,    0.000,2,   2367.4,6,   2416.1,2,   7.4633,2,    25.00,  -999.00,9,  -999.00,9,   1.7849,2,     2106
  49RY20120726,   40N,     9,  1,     16,     89,3,20120729,1947, 39.9867, 146.0288, 5153,   2303.2,   1.7081,   1.7079,2,  34.6322,2,  34.6322,2,    100.9,2,    105.6,4,   160.83,2,    39.38,2,     0.00,2,     2.78,2, -999.000,9, -999.000,9,   2351.6,3,   2420.1,2,   7.4829,6,    25.00,  -999.00,9,  -999.00,9,   1.7079,2,     2101
  49RY20120726,   40N,     9,  1,     15,     88,2,20120729,1947, 39.9867, 146.0288, 5153,   2505.9,   1.6246,   1.6246,2,  34.6459,2,  34.6459,2,    112.0,2,    112.1,6,   159.42,6,    38.66,2,     0.00,6,     2.72,6,    0.001,2,    0.000,2,   2359.7,2,   2420.6,2,   7.4998,2,    25.00,  -999.00,9,  -999.00,9,   1.6246,2,     2057
  49RY20120726,   40N,     9,  1,     14,    999,2,20120729,1947, 39.9867, 146.0288, 5153,   2712.1,   1.5680,   1.5680,2,  34.6555,2,  34.6561,6,    120.5,2,    120.7,2,   158.12,2,    38.08,2,     0.00,2,     2.68,2, -999.000,9, -999.000,9,   2352.9,2,   2420.8,2,   7.5179,2,    25.00,  -999.00,9,  -999.00,9,   1.5680,2,     2052
  49RY20120726,   40N,     9,  1,     12,     74,2,20120729,1947, 39.9867, 146.0288, 5153,   2915.2,   1.5230,   1.5230,2,  34.6632,2,  34.6626,2,    128.3,2,    128.4,2,   156.49,2,    37.42,2,     0.00,2,     2.64,2,    0.005,2,    0.000,2,   2351.1,2,   2420.9,2,   7.5309,2,    25.00,  -999.00,9,  -999.00,9,   1.5230,2,     2047
  49RY20120726,   40N,     9,  1,     13,    996,4,20120729,1947, 39.9867, 146.0288, 5153,   2915.9,   1.5231,   1.5230,2,  34.6631,2,  34.6614,4,    128.3,2,    125.7,4,   157.07,4,    37.85,4,     0.00,4,     2.65,4, -999.000,9, -999.000,9,   2345.2,4,   2420.2,4,   7.5253,4,    25.00,  -999.00,9,  -999.00,9,   1.5230,2,     2047
  49RY20120726,   40N,     9,  1,     11,     97,2,20120729,1947, 39.9867, 146.0288, 5153,   3129.8,   1.4949,   1.4949,2,  34.6688,2,  34.6687,2,    134.2,2,    134.2,2,   155.00,2,    37.13,2,     0.00,2,     2.61,2, -999.000,9, -999.000,9,   2342.9,2,   2418.3,2,   7.5419,2,    25.00,  -999.00,9,  -999.00,9,   1.4949,2,     2042
  49RY20120726,   40N,     9,  1,     10,    107,2,20120729,1947, 39.9867, 146.0288, 5153,   3385.6,   1.4680,   1.4680,2,  34.6744,2,  34.6727,4,    140.7,2,    140.6,2,   153.18,2,    36.60,2,     0.00,2,     2.58,2,    0.004,2,    0.000,2,   2332.6,2,   2419.2,2,   7.5554,2,    25.00,  -999.00,9,  -999.00,9,   1.4680,2,     2036
  49RY20120726,   40N,     9,  1,      9,    108,2,20120729,1947, 39.9867, 146.0288, 5153,   3642.8,   1.4545,   1.4546,2,  34.6788,2,  34.6808,2,    145.8,2,    146.0,2,   151.79,2,    36.49,2,     0.00,2,     2.55,2,    0.000,2,    0.000,2,   2327.0,2,   2418.9,2,   7.5625,2,    25.00,  -999.00,9,  -999.00,9,   1.4546,2,     2031
  49RY20120726,   40N,     9,  1,      8,     81,2,20120729,1947, 39.9867, 146.0288, 5153,   3895.9,   1.4409,   1.4409,2,  34.6828,2,  34.6846,2,    150.8,2,    150.9,2,   150.34,2,    36.15,2,     0.00,2,     2.52,2,    0.009,6,    0.000,2,   2332.0,2,   2419.1,2,   7.5693,2,    25.00,  -999.00,9,  -999.00,9,   1.4409,2,     2025
  49RY20120726,   40N,     9,  1,      7,    106,3,20120729,1947, 39.9867, 146.0288, 5153,   4149.4,   1.4357,   1.4357,2,  34.6863,2,  34.6864,2,    155.1,2,    155.0,2,   149.54,2,    35.87,2,     0.00,2,     2.50,2, -999.000,9, -999.000,9,   2323.6,2,   2416.4,2,   7.5747,2,    25.00,  -999.00,9,  -999.00,9,   1.4357,2,     2020
  49RY20120726,   40N,     9,  1,      6,    113,2,20120729,1947, 39.9867, 146.0288, 5153,   4410.3,   1.4515,   1.4516,2,  34.6880,2,  34.6875,2,    156.7,2,    157.2,6,   149.39,6,    35.75,6,     0.00,6,     2.49,6, -999.000,9, -999.000,9,   2325.6,2,   2414.5,2,   7.5773,2,    25.00,  -999.00,9,  -999.00,9,   1.4516,2,     2011
  49RY20120726,   40N,     9,  1,      5,     94,2,20120729,1947, 39.9867, 146.0288, 5153,   4667.2,   1.4739,   1.4740,2,  34.6889,2,  34.6851,4,    157.8,2,    157.2,3,   149.28,2,    35.56,2,     0.00,2,     2.48,2,    0.017,2,    0.000,2,   2315.4,3,   2416.9,2,   7.5801,2,    25.00,  -999.00,9,  -999.00,9,   1.4740,2,     2004
  49RY20120726,   40N,     9,  1,      4,     77,2,20120729,1947, 39.9867, 146.0288, 5153,   4667.2,   1.4739,   1.4740,2,  34.6889,2,  34.6860,4,    157.8,2,    158.1,2,   149.38,2,    35.63,2,     0.00,2,     2.48,2, -999.000,9, -999.000,9,   2322.2,2,   2415.9,2,   7.5799,2,    25.00,  -999.00,9,  -999.00,9,   1.4740,2,     2004
  49RY20120726,   40N,     9,  1,      3,    104,3,20120729,1947, 39.9867, 146.0288, 5153,   4925.1,   1.4980,   1.4979,2,  34.6897,2,  34.6899,2,    158.8,2,    158.9,2,   149.06,2,    35.54,2,     0.00,2,     2.48,2, -999.000,9, -999.000,9,   2323.1,6,   2415.6,6,   7.5801,2,    25.00,  -999.00,9,  -999.00,9,   1.4979,2,     1958
  49RY20120726,   40N,     9,  1,      2,     75,2,20120729,1947, 39.9867, 146.0288, 5153,   5183.0,   1.5235,   1.5233,2,  34.6903,2,  34.6879,4,    159.7,2,    159.8,2,   148.53,2,    35.58,2,     0.00,2,     2.47,2, -999.000,9, -999.000,9,   2322.0,2,   2415.5,2,   7.5841,6,    25.00,  -999.00,9,  -999.00,9,   1.5233,2,     1951
  49RY20120726,   40N,     9,  1,      1,    997,2,20120729,1947, 39.9867, 146.0288, 5153,   5243.5,   1.5299,   1.5298,2,  34.6906,2,  34.6909,2,    159.8,2,    159.9,2,   148.83,2,    35.29,3,     0.00,2,     2.47,2, -999.000,9, -999.000,9,   2323.6,2,   2416.1,2,   7.5824,2,    25.00,  -999.00,9,  -999.00,9,   1.5298,2,     1948