BOTTLE,20210419PRINUNIVRMK
EXPOCODE,SECT_ID,STNNBR,CASTNO,SAMPNO,BTLNBR,BTLNBR_FLAG_W,DATE,TIME,LATITUDE,LONGITUDE,DEPTH,CTDPRS,CTDTMP,SBE35,SBE35_FLAG_W,CTDSAL,CTDSAL_FLAG_W,SALNTY,SALNTY_FLAG_W,CTDOXY,CTDOXY_FLAG_W,OXYGEN,OXYGEN_FLAG_W,SILCAT,SILCAT_FLAG_W,NITRAT,NITRAT_FLAG_W,NITRIT,NITRIT_FLAG_W,PHSPHT,PHSPHT_FLAG_W,CFC-11,CFC-11_FLAG_W,CFC-12,CFC-12_FLAG_W,TCARBN,TCARBN_FLAG_W,ALKALI,ALKALI_FLAG_W,PH_TOT,PH_TOT_FLAG_W,PH_TMP,CHLORA,CHLORA_FLAG_W,PPHYTN,PPHYTN_FLAG_W,SBE35,SBE35_FLAG_W,BTL_TIME
,,,,,,,,,,,METERS,DBAR,ITS-90,,,PSS-78,,PSS-78,,UMOL/KG,,UMOL/KG,,UMOL/KG,,UMOL/KG,,UMOL/KG,,UMOL/KG,,PMOL/KG,,PMOL/KG,,UMOL/KG,,UMOL/KG,,,,DEG C,UG/KG,,UG/KG,,,,
  49RY20120726,   40N,    52,  1,     36,    109,2,20120829,0834, 37.9902, 169.9830, 4805,     10.1,  24.2829,  24.2847,2,  34.3439,2,  34.3453,2,    212.7,2,    213.3,2,     1.61,2,     0.08,2,     0.00,2,     0.03,2,    1.988,2,    1.135,2,   1978.9,2,   2258.5,6,   8.0193,4,    25.00,     0.06,2,     0.01,2,  24.2847,2,     1038
  49RY20120726,   40N,    52,  1,     35,    112,2,20120829,0834, 37.9902, 169.9830, 4805,     46.7,  17.9372,  17.9540,2,  34.4570,2,  34.4773,4,    262.9,2,    263.3,2,     2.38,2,     0.07,2,     0.00,2,     0.05,2,    2.829,2,    1.510,2,   1991.3,2,   2268.7,2,   8.0020,4,    25.00,     0.14,2,     0.06,2,  17.9540,2,     1035
  49RY20120726,   40N,    52,  1,     34,     83,2,20120829,0834, 37.9902, 169.9830, 4805,    101.4,  14.0894,  14.0833,2,  34.4989,2,  34.4991,2,    221.0,2,    221.0,2,     9.68,2,     8.15,2,     0.03,2,     0.57,2,    2.725,2,    1.574,2,   2061.5,2,   2274.8,2,   7.8846,4,    25.00,     0.08,2,     0.08,2,  14.0833,2,     1033
  49RY20120726,   40N,    52,  1,     33,     86,2,20120829,0834, 37.9902, 169.9830, 4805,    151.6,  12.8863,  12.8865,2,  34.4151,2,  34.4143,2,    217.0,2,    216.6,2,    13.49,2,    10.39,2,     0.02,2,     0.74,2,    2.834,2,    1.649,2,   2072.3,2,   2273.0,2,   7.8508,4,    25.00,     0.01,2,     0.02,2,  12.8865,2,     1031
  49RY20120726,   40N,    52,  1,     32,    105,2,20120829,0834, 37.9902, 169.9830, 4805,    202.3,  11.8569,  11.8571,2,  34.3346,2,  34.3358,2,    206.8,2,    207.5,2,    18.18,2,    13.02,2,     0.01,2,     0.93,2,    2.891,2,    1.666,2,   2093.4,2,   2273.4,2,   7.8097,4,    25.00,     0.00,2,     0.01,2,  11.8571,2,     1028
  49RY20120726,   40N,    52,  1,     31,     76,2,20120829,0834, 37.9902, 169.9830, 4805,    252.1,  10.7677,  10.7802,2,  34.2432,2,  34.2412,2,    216.0,2,    215.1,2,    20.41,2,    14.05,2,     0.01,2,     1.01,2,    3.037,2,    1.703,2,   2107.0,2,   2270.2,2,   7.7863,4,    25.00,  -999.00,9,  -999.00,9,  10.7802,2,     1026
  49RY20120726,   40N,    52,  1,     30,     97,2,20120829,0834, 37.9902, 169.9830, 4805,    281.3,  10.1107,  10.1102,2,  34.1913,2,  34.1906,2,    204.2,2,    204.4,2,    24.46,2,    16.25,2,     0.01,2,     1.17,2,    2.998,6,    1.673,6,   2121.6,2,   2273.4,2,   7.7551,4,    25.00,  -999.00,9,  -999.00,9,  10.1102,2,     1024
  49RY20120726,   40N,    52,  1,     29,    102,2,20120829,0834, 37.9902, 169.9830, 4805,    372.3,   8.1790,   8.1826,2,  34.0704,2,  34.0709,2,    179.7,2,    179.4,6,    38.15,6,    22.12,6,     0.01,6,     1.60,6,    2.868,2,    1.576,2,   2164.5,2,   2278.6,2,   7.6541,4,    25.00,  -999.00,9,  -999.00,9,   8.1826,2,     1021
  49RY20120726,   40N,    52,  1,     28,     91,2,20120829,0834, 37.9902, 169.9830, 4805,    477.4,   6.2267,   6.2277,2,  34.0021,2,  34.0034,2,    143.2,2,    143.8,2,    57.73,2,    28.99,2,     0.00,2,     2.11,2,    2.590,2,    1.371,2,   2215.7,2,   2289.2,2,   7.5399,4,    25.00,  -999.00,9,  -999.00,9,   6.2277,2,     1019
  49RY20120726,   40N,    52,  1,     27,    998,2,20120829,0834, 37.9902, 169.9830, 4805,    477.4,   6.2267,   6.2277,2,  34.0021,2,  34.0024,2,    143.2,2,    143.5,2,    57.75,2,    29.07,2,     0.00,2,     2.11,2,    2.598,6,    1.356,6,   2216.5,2,   2289.3,2,   7.5366,4,    25.00,  -999.00,9,  -999.00,9,   6.2277,2,     1019
  49RY20120726,   40N,    52,  1,     26,     84,2,20120829,0834, 37.9902, 169.9830, 4805,    574.5,   5.1410,   5.1415,2,  34.0246,2,  34.0256,2,    108.8,2,    108.9,2,    75.94,2,    34.25,2,     0.00,2,     2.48,2,    2.111,3,    1.058,3,   2259.7,6,   2302.4,6,   7.4485,4,    25.00,  -999.00,9,  -999.00,9,   5.1415,2,     1016
  49RY20120726,   40N,    52,  1,     25,     98,2,20120829,0834, 37.9902, 169.9830, 4805,    675.3,   4.5187,   4.5192,2,  34.1218,2,  34.1223,2,     74.0,2,     74.1,2,    94.32,2,    38.00,2,     0.00,2,     2.74,2,    1.391,2,    0.686,2,   2293.0,2,   2321.4,2,   7.3881,4,    25.00,  -999.00,9,  -999.00,9,   4.5192,2,     1013
  49RY20120726,   40N,    52,  1,     24,    110,2,20120829,0834, 37.9902, 169.9830, 4805,    776.9,   4.1252,   4.1255,2,  34.1979,2,  34.1984,2,     55.7,2,     55.4,2,   106.75,2,    39.86,2,     0.00,2,     2.86,2,    0.892,2,    0.456,2,   2324.9,2,   2336.2,2,   7.3581,4,    25.00,  -999.00,9,  -999.00,9,   4.1255,2,     1009
  49RY20120726,   40N,    52,  1,     23,     96,3,20120829,0834, 37.9902, 169.9830, 4805,    879.2,   3.7130,   3.7130,2,  34.2679,2,  34.2677,2,     42.3,2,     44.4,2,   119.09,2,    41.36,2,     0.00,2,     2.97,2,    0.536,2,    0.277,2,   2341.0,2,   2350.3,2,   7.3390,4,    25.00,  -999.00,9,  -999.00,9,   3.7130,2,     1006
  49RY20120726,   40N,    52,  1,     22,    111,2,20120829,0834, 37.9902, 169.9830, 4805,    979.5,   3.4462,   3.4460,2,  34.3179,2,  34.3180,2,     35.3,2,     35.4,2,   127.62,2,    42.25,2,     0.00,2,     3.03,2,    0.334,2,    0.176,2,   2355.5,2,   2362.9,2,   7.3312,4,    25.00,  -999.00,9,  -999.00,9,   3.4460,2,     1003
  49RY20120726,   40N,    52,  1,     21,     78,2,20120829,0834, 37.9902, 169.9830, 4805,   1141.9,   3.0923,   3.0927,2,  34.3895,2,  34.3897,2,     36.0,2,     35.7,2,   137.90,2,    42.49,2,     0.00,2,     3.05,2,    0.196,2,    0.085,2,   2360.7,2,   2376.2,2,   7.3341,4,    25.00,  -999.00,9,  -999.00,9,   3.0927,2,      959
  49RY20120726,   40N,    52,  1,     20,     93,2,20120829,0834, 37.9902, 169.9830, 4805,   1345.6,   2.6946,   2.6943,2,  34.4540,2,  34.4544,2,     33.0,2,     32.9,2,   150.52,2,    43.16,2,     0.00,2,     3.08,2,    0.092,2,    0.034,2,   2381.2,6,   2391.0,6,   7.3341,4,    25.00,  -999.00,9,  -999.00,9,   2.6943,2,      954
  49RY20120726,   40N,    52,  1,     19,     92,2,20120829,0834, 37.9902, 169.9830, 4805,   1547.5,   2.4372,   2.4372,2,  34.4949,2,  34.4951,2,     37.3,2,     37.3,2,   158.27,2,    43.02,2,     0.00,2,     3.08,2,    0.059,2,    0.016,2,   2378.3,3,   2398.1,2,   7.3429,4,    25.00,  -999.00,9,  -999.00,9,   2.4372,2,      948
  49RY20120726,   40N,    52,  1,     18,    101,2,20120829,0834, 37.9902, 169.9830, 4805,   1750.0,   2.2261,   2.2259,2,  34.5343,2,  34.5355,2,     46.9,2,     46.7,6,   163.28,6,    42.61,6,     0.00,6,     3.02,6,    0.047,2,    0.007,2,   2380.5,3,   2403.2,2,   7.3592,4,    25.00,  -999.00,9,  -999.00,9,   2.2259,2,      944
  49RY20120726,   40N,    52,  1,     17,     90,2,20120829,0834, 37.9902, 169.9830, 4805,   1954.2,   2.0819,   2.0820,2,  34.5635,2,  34.5643,2,     56.3,2,     56.1,2,   165.77,2,    42.06,2,     0.00,2,     2.97,2,    0.021,2,    0.000,2,   2386.5,2,   2409.7,2,   7.3819,4,    25.00,  -999.00,9,  -999.00,9,   2.0820,2,      937
  49RY20120726,   40N,    52,  1,     16,     89,2,20120829,0834, 37.9902, 169.9830, 4805,   2158.0,   1.9472,   1.9472,2,  34.5882,2,  34.5889,2,     68.4,2,     68.7,2,   166.76,2,    41.27,2,     0.00,2,     2.92,2,    0.031,2,    0.000,2,   2380.5,2,   2412.8,2,   7.4012,4,    25.00,  -999.00,9,  -999.00,9,   1.9472,2,      933
  49RY20120726,   40N,    52,  1,     15,     88,2,20120829,0834, 37.9902, 169.9830, 4805,   2361.6,   1.8175,   1.8174,2,  34.6124,2,  34.6124,2,     83.3,2,     83.2,2,   166.53,2,    40.36,2,     0.00,2,     2.85,2, -999.000,9, -999.000,9,   2366.7,2,   2413.8,2,   7.4372,4,    25.00,  -999.00,9,  -999.00,9,   1.8174,2,      928
  49RY20120726,   40N,    52,  1,     14,    999,2,20120829,0834, 37.9902, 169.9830, 4805,   2565.7,   1.7305,   1.7308,2,  34.6283,2,  34.6285,6,     95.1,2,     95.0,2,   165.13,2,    39.67,2,     0.00,2,     2.79,2, -999.000,9, -999.000,9,   2349.3,3,   2416.3,2,   7.4588,4,    25.00,  -999.00,9,  -999.00,9,   1.7308,2,      922
  49RY20120726,   40N,    52,  1,     13,    667,3,20120829,0834, 37.9902, 169.9830, 4805,   2769.2,   1.6316,   1.6318,2,  34.6452,2,  34.6373,4,    109.6,2,    110.6,4,   161.22,4,    38.62,2,     0.00,2,     2.72,2, -999.000,9, -999.000,9,   2351.8,2,   2414.1,3,   7.4849,4,    25.00,  -999.00,9,  -999.00,9,   1.6318,2,      918
  49RY20120726,   40N,    52,  1,     12,     74,2,20120829,0834, 37.9902, 169.9830, 4805,   2769.2,   1.6316,   1.6318,2,  34.6452,2,  34.6465,2,    109.6,2,    109.5,2,   162.80,2,    38.68,2,     0.00,2,     2.72,2, -999.000,9, -999.000,9,   2338.7,3,   2417.9,2,   7.4867,4,    25.00,  -999.00,9,  -999.00,9,   1.6318,2,      918
  49RY20120726,   40N,    52,  1,     11,    996,2,20120829,0834, 37.9902, 169.9830, 4805,   2974.3,   1.5809,   1.5808,2,  34.6549,2,  34.6554,2,    118.7,2,    118.6,2,   160.83,2,    38.03,2,     0.00,2,     2.68,2,    0.007,2,    0.000,2,   2351.0,2,   2417.5,2,   7.5030,4,    25.00,  -999.00,9,  -999.00,9,   1.5808,2,      912
  49RY20120726,   40N,    52,  1,     10,    107,2,20120829,0834, 37.9902, 169.9830, 4805,   2974.3,   1.5809,   1.5808,2,  34.6549,2,  34.6540,2,    118.7,2,    118.1,2,   160.69,2,    38.13,2,     0.00,2,     2.68,2, -999.000,9, -999.000,9,   2347.2,2,   2417.1,2,   7.5041,4,    25.00,  -999.00,9,  -999.00,9,   1.5808,2,      912
  49RY20120726,   40N,    52,  1,      9,    108,2,20120829,0834, 37.9902, 169.9830, 4805,   3218.8,   1.5261,   1.5261,2,  34.6650,2,  34.6653,2,    128.9,2,    129.0,2,   158.44,6,    37.48,6,     0.00,6,     2.62,6, -999.000,9, -999.000,9,   2341.6,2,   2419.1,2,   7.5221,4,    25.00,  -999.00,9,  -999.00,9,   1.5261,2,      907
  49RY20120726,   40N,    52,  1,      8,     81,2,20120829,0834, 37.9902, 169.9830, 4805,   3474.7,   1.4967,   1.4966,2,  34.6715,2,  34.6713,6,    136.2,2,    136.2,2,   156.78,2,    37.00,2,     0.00,2,     2.59,2, -999.000,9, -999.000,9,   2337.5,2,   2417.3,2,   7.5333,4,    25.00,  -999.00,9,  -999.00,9,   1.4966,2,      901
  49RY20120726,   40N,    52,  1,      7,    106,2,20120829,0834, 37.9902, 169.9830, 4805,   3729.9,   1.4798,   1.4798,2,  34.6766,2,  34.6742,4,    141.9,2,    140.7,3,   155.41,2,    36.74,2,     0.00,2,     2.56,2, -999.000,9, -999.000,9,   2337.3,2,   2417.5,6,   7.5425,4,    25.00,  -999.00,9,  -999.00,9,   1.4798,2,      856
  49RY20120726,   40N,    52,  1,      6,    113,2,20120829,0834, 37.9902, 169.9830, 4805,   3985.6,   1.4751,   1.4749,2,  34.6802,2,  34.6807,2,    146.2,2,    146.4,2,   154.02,2,    36.41,2,     0.00,2,     2.54,2,    0.014,2,    0.000,2,   2328.4,2,   2417.3,2,   7.5531,4,    25.00,  -999.00,9,  -999.00,9,   1.4749,2,      851
  49RY20120726,   40N,    52,  1,      5,     94,2,20120829,0834, 37.9902, 169.9830, 4805,   4242.9,   1.4786,   1.4785,2,  34.6829,2,  34.6833,2,    149.6,2,    150.4,2,   153.34,2,    36.12,2,     0.00,2,     2.51,2, -999.000,9, -999.000,9,   2333.6,2,   2416.0,2,   7.5621,4,    25.00,  -999.00,9,  -999.00,9,   1.4785,2,      846
  49RY20120726,   40N,    52,  1,      4,     77,2,20120829,0834, 37.9902, 169.9830, 4805,   4500.0,   1.4877,   1.4875,2,  34.6853,2,  34.6855,2,    152.4,2,    153.3,2,   152.72,2,    35.60,4,     0.00,2,     2.50,2, -999.000,9, -999.000,9,   2326.7,2,   2417.4,2,   7.5649,4,    25.00,  -999.00,9,  -999.00,9,   1.4875,2,      841
  49RY20120726,   40N,    52,  1,      3,    104,2,20120829,0834, 37.9902, 169.9830, 4805,   4500.0,   1.4877,   1.4875,2,  34.6853,2,  34.6856,2,    152.4,2,    152.7,2,   152.65,2,    35.97,2,     0.00,2,     2.50,2, -999.000,9, -999.000,9,   2322.9,2,   2416.7,2,   7.5660,4,    25.00,  -999.00,9,  -999.00,9,   1.4875,2,      841
  49RY20120726,   40N,    52,  1,      2,     75,4,20120829,0834, 37.9902, 169.9830, 4805,   4755.8,   1.5013,   1.5010,2,  34.6870,2,  34.5663,4,    154.7,2,     60.5,4,   164.52,4,    41.81,4,     0.00,4,     2.95,4,    0.034,4,    0.010,4,   2373.8,4,   2407.6,4,   7.3949,4,    25.00,  -999.00,9,  -999.00,9,   1.5010,2,      836
  49RY20120726,   40N,    52,  1,      1,    997,2,20120829,0834, 37.9902, 169.9830, 4805,   4806.0,   1.5023,   1.5020,2,  34.6876,2,  34.6878,2,    155.5,2,    155.7,6,   152.23,6,    35.76,6,     0.00,6,     2.49,6,    0.033,2,    0.004,2,   2315.2,3,   2416.9,2,   7.5684,4,    25.00,  -999.00,9,  -999.00,9,   1.5020,2,      834