BOTTLE,20210419PRINUNIVRMK
EXPOCODE,SECT_ID,STNNBR,CASTNO,SAMPNO,BTLNBR,BTLNBR_FLAG_W,DATE,TIME,LATITUDE,LONGITUDE,DEPTH,CTDPRS,CTDTMP,SBE35,SBE35_FLAG_W,CTDSAL,CTDSAL_FLAG_W,SALNTY,SALNTY_FLAG_W,CTDOXY,CTDOXY_FLAG_W,OXYGEN,OXYGEN_FLAG_W,SILCAT,SILCAT_FLAG_W,NITRAT,NITRAT_FLAG_W,NITRIT,NITRIT_FLAG_W,PHSPHT,PHSPHT_FLAG_W,CFC-11,CFC-11_FLAG_W,CFC-12,CFC-12_FLAG_W,TCARBN,TCARBN_FLAG_W,ALKALI,ALKALI_FLAG_W,PH_TOT,PH_TOT_FLAG_W,PH_TMP,CHLORA,CHLORA_FLAG_W,PPHYTN,PPHYTN_FLAG_W,SBE35,SBE35_FLAG_W,BTL_TIME
,,,,,,,,,,,METERS,DBAR,ITS-90,,,PSS-78,,PSS-78,,UMOL/KG,,UMOL/KG,,UMOL/KG,,UMOL/KG,,UMOL/KG,,UMOL/KG,,PMOL/KG,,PMOL/KG,,UMOL/KG,,UMOL/KG,,,,DEG C,UG/KG,,UG/KG,,,,
  49RY20120726,   40N,    58,  1,     36,    109,2,20120831,0235, 34.9917, 170.0010, 5485,     11.1,  24.8358,  24.8333,2,  34.2960,2,  34.2949,2,    212.2,2,    212.5,2,     1.54,2,     0.01,2,     0.00,2,     0.02,2,    1.900,2,    1.121,2,   1969.4,6,   2252.3,6,   8.0246,4,    25.00,     0.07,2,     0.01,2,  24.8333,2,      500
  49RY20120726,   40N,    58,  1,     35,    112,2,20120831,0235, 34.9917, 170.0010, 5485,     52.1,  16.5172,  16.4833,2,  34.5316,2,  34.5354,4,    262.8,2,    262.1,2,     3.34,2,     0.67,2,     0.03,2,     0.11,2,    2.671,2,    1.493,2,   2010.0,2,   2270.3,2,   7.9859,4,    25.00,     0.54,2,     0.26,2,  16.4833,2,      455
  49RY20120726,   40N,    58,  1,     34,     83,2,20120831,0235, 34.9917, 170.0010, 5485,    101.2,  14.2751,  14.2655,2,  34.5177,2,  34.5193,2,    212.5,2,    211.6,2,    10.65,2,     8.80,2,     0.02,2,     0.61,2,    2.629,2,    1.510,2,   2064.5,2,   2272.8,2,   7.8751,4,    25.00,     0.05,2,     0.03,2,  14.2655,2,      454
  49RY20120726,   40N,    58,  1,     33,     86,2,20120831,0235, 34.9917, 170.0010, 5485,    152.2,  13.0717,  13.0702,2,  34.4378,2,  34.4347,2,    221.1,2,    221.6,2,    12.43,2,     9.74,2,     0.01,2,     0.68,2,    2.766,2,    1.589,2,   2077.2,2,   2265.2,2,   7.8565,4,    25.00,     0.00,2,     0.02,2,  13.0702,2,      452
  49RY20120726,   40N,    58,  1,     32,    105,2,20120831,0235, 34.9917, 170.0010, 5485,    203.0,  11.7934,  11.7934,2,  34.3236,2,  34.3209,2,    218.6,2,    218.4,2,    15.96,2,    12.16,2,     0.00,2,     0.85,2,    2.876,2,    1.643,2,   2094.3,2,   2270.6,2,   7.8159,4,    25.00,     0.00,2,     0.02,2,  11.7934,2,      447
  49RY20120726,   40N,    58,  1,     31,     76,2,20120831,0235, 34.9917, 170.0010, 5485,    252.9,  10.6710,  10.6729,2,  34.2280,2,  34.2287,2,    211.4,2,    211.0,2,    20.87,2,    14.63,2,     0.00,2,     1.04,2,    2.924,2,    1.664,2,   2111.5,2,   2270.1,2,   7.7755,4,    25.00,  -999.00,9,  -999.00,9,  10.6729,2,      444
  49RY20120726,   40N,    58,  1,     30,     97,2,20120831,0235, 34.9917, 170.0010, 5485,    282.7,   9.9639,   9.9634,2,  34.1668,2,  34.1632,2,    206.9,2,    207.1,2,    24.52,2,    16.40,2,     0.00,2,     1.17,2,    2.929,6,    1.634,6,   2125.6,2,   2266.1,2,   7.7457,4,    25.00,  -999.00,9,  -999.00,9,   9.9634,2,      443
  49RY20120726,   40N,    58,  1,     29,    102,2,20120831,0235, 34.9917, 170.0010, 5485,    372.7,   8.1126,   8.1133,2,  34.0532,2,  34.0543,2,    180.8,2,    181.6,2,    37.44,2,    22.10,2,     0.00,2,     1.58,2,    2.869,2,    1.531,2,   2161.1,6,   2274.7,6,   7.6543,4,    25.00,  -999.00,9,  -999.00,9,   8.1133,2,      440
  49RY20120726,   40N,    58,  1,     28,     91,2,20120831,0235, 34.9917, 170.0010, 5485,    473.5,   6.2111,   6.2126,2,  34.0017,2,  34.0005,2,    142.0,2,    142.4,2,    58.45,2,    29.55,2,     0.00,2,     2.12,2,    2.513,2,    1.345,2,   2218.1,2,   2284.7,2,   7.5280,4,    25.00,  -999.00,9,  -999.00,9,   6.2126,2,      438
  49RY20120726,   40N,    58,  1,     27,    998,2,20120831,0235, 34.9917, 170.0010, 5485,    575.6,   5.0007,   5.0007,2,  34.0477,2,  34.0492,2,     99.3,2,     99.9,2,    80.04,2,    35.33,2,     0.00,2,     2.54,2,    1.820,6,    0.920,6,   2267.7,2,   2304.0,2,   7.4286,4,    25.00,  -999.00,9,  -999.00,9,   5.0007,2,      435
  49RY20120726,   40N,    58,  1,     26,     84,2,20120831,0235, 34.9917, 170.0010, 5485,    675.7,   4.4058,   4.4037,2,  34.1475,2,  34.1464,2,     66.9,2,     69.7,2,    97.40,2,    38.79,2,     0.00,2,     2.78,2,    1.163,2,    0.578,2,   2310.0,2,   2321.3,2,   7.3748,4,    25.00,  -999.00,9,  -999.00,9,   4.4037,2,      432
  49RY20120726,   40N,    58,  1,     25,     98,2,20120831,0235, 34.9917, 170.0010, 5485,    778.6,   4.0196,   4.0195,2,  34.2193,2,  34.2190,2,     52.5,2,     52.7,6,   109.48,6,    40.39,6,     0.00,6,     2.88,6,    0.786,2,    0.379,2,   2327.6,2,   2340.6,2,   7.3531,4,    25.00,  -999.00,9,  -999.00,9,   4.0195,2,      429
  49RY20120726,   40N,    58,  1,     24,    110,2,20120831,0235, 34.9917, 170.0010, 5485,    877.9,   3.6683,   3.6687,2,  34.2821,2,  34.2838,2,     40.6,2,     41.9,2,   120.49,2,    41.74,2,     0.00,2,     2.98,2,    0.435,2,    0.208,2,   2347.5,2,   2351.7,2,   7.3361,4,    25.00,  -999.00,9,  -999.00,9,   3.6687,2,      422
  49RY20120726,   40N,    58,  1,     23,     96,3,20120831,0235, 34.9917, 170.0010, 5485,    980.4,   3.4128,   3.4101,2,  34.3280,2,  34.3285,2,     37.3,2,     39.4,2,   127.79,2,    42.25,2,     0.00,2,     3.02,2,    0.312,2,    0.150,2,   2353.9,2,   2358.4,2,   7.3302,4,    25.00,  -999.00,9,  -999.00,9,   3.4101,2,      419
  49RY20120726,   40N,    58,  1,     22,    111,2,20120831,0235, 34.9917, 170.0010, 5485,   1141.7,   3.0161,   3.0159,2,  34.3968,2,  34.3967,2,     32.3,2,     32.4,2,   140.00,2,    43.05,2,     0.00,2,     3.07,2,    0.141,2,    0.076,2,   2372.2,2,   2373.6,2,   7.3251,4,    25.00,  -999.00,9,  -999.00,9,   3.0159,2,      415
  49RY20120726,   40N,    58,  1,     21,     78,2,20120831,0235, 34.9917, 170.0010, 5485,   1343.8,   2.6040,   2.6041,2,  34.4660,2,  34.4668,2,     34.6,2,     34.5,2,   152.18,2,    43.34,2,     0.00,2,     3.07,2,    0.062,2,    0.029,2,   2384.3,2,   2385.9,2,   7.3321,4,    25.00,  -999.00,9,  -999.00,9,   2.6041,2,      411
  49RY20120726,   40N,    58,  1,     20,     93,2,20120831,0235, 34.9917, 170.0010, 5485,   1548.3,   2.3407,   2.3406,2,  34.5175,2,  34.5174,2,     43.3,2,     43.4,2,   158.72,2,    42.92,2,     0.00,2,     3.03,2,    0.026,2,    0.012,2,   2389.9,2,   2397.8,2,   7.3485,4,    25.00,  -999.00,9,  -999.00,9,   2.3406,2,      405
  49RY20120726,   40N,    58,  1,     19,     92,2,20120831,0235, 34.9917, 170.0010, 5485,   1749.9,   2.1501,   2.1501,2,  34.5501,2,  34.5496,6,     52.4,2,     53.0,2,   162.77,2,    42.40,2,     0.00,2,     2.99,2,    0.025,2,    0.013,2,   2385.3,2,   2403.9,2,   7.3729,4,    25.00,  -999.00,9,  -999.00,9,   2.1501,2,      400
  49RY20120726,   40N,    58,  1,     18,    101,2,20120831,0235, 34.9917, 170.0010, 5485,   1953.4,   1.9709,   1.9709,2,  34.5832,2,  34.5840,2,     66.3,2,     66.3,2,   165.07,2,    41.56,2,     0.00,2,     2.93,2,    0.015,2,    0.005,2,   2379.9,6,   2405.2,6,   7.4031,4,    25.00,  -999.00,9,  -999.00,9,   1.9709,2,      353
  49RY20120726,   40N,    58,  1,     17,     90,2,20120831,0235, 34.9917, 170.0010, 5485,   2156.7,   1.8297,   1.8306,2,  34.6104,2,  34.6110,2,     81.6,2,     81.5,2,   164.60,2,    40.65,2,     0.00,2,     2.85,2,    0.012,2,    0.009,2,   2373.7,2,   2413.4,2,   7.4279,4,    25.00,  -999.00,9,  -999.00,9,   1.8306,2,      349
  49RY20120726,   40N,    58,  1,     16,     89,2,20120831,0235, 34.9917, 170.0010, 5485,   2360.3,   1.7152,   1.7151,2,  34.6292,2,  34.6287,2,     96.0,2,     95.6,6,   163.58,6,    39.73,6,     0.00,6,     2.78,6, -999.000,9, -999.000,9,   2360.9,2,   2411.3,2,   7.4596,4,    25.00,  -999.00,9,  -999.00,9,   1.7151,2,      345
  49RY20120726,   40N,    58,  1,     15,     88,2,20120831,0235, 34.9917, 170.0010, 5485,   2564.8,   1.6365,   1.6367,2,  34.6429,2,  34.6428,2,    107.4,2,    107.3,2,   162.11,2,    38.96,2,     0.00,2,     2.72,2, -999.000,9, -999.000,9,   2355.2,2,   2410.4,2,   7.4830,4,    25.00,  -999.00,9,  -999.00,9,   1.6367,2,      339
  49RY20120726,   40N,    58,  1,     14,    999,2,20120831,0235, 34.9917, 170.0010, 5485,   2771.0,   1.5832,   1.5830,2,  34.6525,2,  34.6522,2,    116.4,2,    116.3,2,   160.20,2,    38.38,2,     0.00,2,     2.68,2,    0.000,2,    0.004,2,   2351.8,2,   2413.5,2,   7.4966,4,    25.00,  -999.00,9,  -999.00,9,   1.5830,2,      335
  49RY20120726,   40N,    58,  1,     13,    667,2,20120831,0235, 34.9917, 170.0010, 5485,   2972.5,   1.5282,   1.5281,2,  34.6619,2,  34.6625,6,    125.9,2,    125.8,2,   158.24,2,    37.81,2,     0.00,2,     2.64,2, -999.000,9, -999.000,9,   2356.8,3,   2408.3,3,   7.5150,4,    25.00,  -999.00,9,  -999.00,9,   1.5281,2,      330
  49RY20120726,   40N,    58,  1,     12,     74,2,20120831,0235, 34.9917, 170.0010, 5485,   2973.1,   1.5280,   1.5280,2,  34.6619,2,  34.6618,2,    125.9,2,    126.2,2,   158.33,2,    37.78,2,     0.00,2,     2.63,2, -999.000,9, -999.000,9,   2348.9,2,   2414.5,2,   7.5171,4,    25.00,  -999.00,9,  -999.00,9,   1.5280,2,      330
  49RY20120726,   40N,    58,  1,     11,    996,2,20120831,0235, 34.9917, 170.0010, 5485,   3218.6,   1.4910,   1.4911,2,  34.6694,2,  34.6692,2,    133.9,2,    135.1,3,   156.06,2,    37.20,2,     0.00,2,     2.59,2, -999.000,9, -999.000,9,   2343.9,2,   2413.4,2,   7.5303,4,    25.00,  -999.00,9,  -999.00,9,   1.4911,2,      325
  49RY20120726,   40N,    58,  1,     10,    107,2,20120831,0235, 34.9917, 170.0010, 5485,   3473.9,   1.4669,   1.4672,2,  34.6750,2,  34.6742,2,    140.5,2,    139.9,2,   154.23,2,    36.86,2,     0.00,2,     2.55,2,    0.011,2,    0.005,2,   2339.6,2,   2410.9,2,   7.5419,4,    25.00,  -999.00,9,  -999.00,9,   1.4672,2,      320
  49RY20120726,   40N,    58,  1,      9,    108,2,20120831,0235, 34.9917, 170.0010, 5485,   3730.2,   1.4567,   1.4567,2,  34.6792,2,  34.6792,2,    145.4,2,    144.9,2,   153.07,2,    36.51,2,     0.00,2,     2.53,2, -999.000,9, -999.000,9,   2335.7,2,   2410.6,2,   7.5519,4,    25.00,  -999.00,9,  -999.00,9,   1.4567,2,      315
  49RY20120726,   40N,    58,  1,      8,     81,2,20120831,0235, 34.9917, 170.0010, 5485,   3986.7,   1.4536,   1.4537,2,  34.6825,2,  34.6817,2,    149.5,2,    149.5,6,   151.85,6,    36.27,6,     0.00,6,     2.51,6, -999.000,9, -999.000,9,   2332.7,2,   2413.3,2,   7.5586,4,    25.00,  -999.00,9,  -999.00,9,   1.4537,2,      310
  49RY20120726,   40N,    58,  1,      7,    106,2,20120831,0235, 34.9917, 170.0010, 5485,   4243.4,   1.4556,   1.4555,2,  34.6854,2,  34.6839,4,    153.2,2,    152.0,3,   151.32,2,    36.11,2,     0.00,2,     2.49,2, -999.000,9, -999.000,9,   2327.1,2,   2410.7,2,   7.5588,4,    25.00,  -999.00,9,  -999.00,9,   1.4555,2,      305
  49RY20120726,   40N,    58,  1,      6,    113,2,20120831,0235, 34.9917, 170.0010, 5485,   4498.7,   1.4651,   1.4652,2,  34.6877,2,  34.6870,6,    156.0,2,    156.0,2,   150.50,2,    35.85,2,     0.00,2,     2.47,2,    0.006,2,    0.006,2,   2324.0,2,   2411.7,2,   7.5661,4,    25.00,  -999.00,9,  -999.00,9,   1.4652,2,      300
  49RY20120726,   40N,    58,  1,      5,     94,2,20120831,0235, 34.9917, 170.0010, 5485,   4757.1,   1.4755,   1.4756,2,  34.6895,2,  34.6898,2,    159.5,2,    159.8,2,   147.55,2,    35.56,2,     0.00,2,     2.45,2, -999.000,9, -999.000,9,   2326.7,2,   2407.3,2,   7.5735,4,    25.00,  -999.00,9,  -999.00,9,   1.4756,2,      255
  49RY20120726,   40N,    58,  1,      4,     77,3,20120831,0235, 34.9917, 170.0010, 5485,   5015.5,   1.4799,   1.4799,2,  34.6918,2,  34.6908,2,    164.6,2,    164.7,2,   142.53,2,    35.16,2,     0.00,2,     2.42,2, -999.000,9, -999.000,9,   2321.2,6,   2409.9,6,   7.5789,4,    25.00,  -999.00,9,  -999.00,9,   1.4799,2,      250
  49RY20120726,   40N,    58,  1,      3,    104,2,20120831,0235, 34.9917, 170.0010, 5485,   5272.0,   1.4917,   1.4917,2,  34.6934,2,  34.6931,2,    168.3,2,    167.8,2,   139.50,2,    34.96,2,     0.00,2,     2.41,2, -999.000,9, -999.000,9,   2317.0,2,   2401.4,3,   7.5834,4,    25.00,  -999.00,9,  -999.00,9,   1.4917,2,      244
  49RY20120726,   40N,    58,  1,      2,     75,2,20120831,0235, 34.9917, 170.0010, 5485,   5530.8,   1.5078,   1.5077,2,  34.6948,2,  34.6948,2,    171.1,2,    171.1,2,   136.87,2,    34.72,2,     0.00,2,     2.38,2, -999.000,9, -999.000,9,   2314.6,2,   2405.2,2,   7.5867,4,    25.00,  -999.00,9,  -999.00,9,   1.5077,2,      238
  49RY20120726,   40N,    58,  1,      1,    997,2,20120831,0235, 34.9917, 170.0010, 5485,   5598.8,   1.5168,   1.5167,2,  34.6948,2,  34.6963,4,    171.2,2,    171.2,6,   136.92,6,    34.71,6,     0.00,6,     2.39,6,    0.007,2,    0.008,2,   2310.2,2,   2402.9,2,   7.5846,4,    25.00,  -999.00,9,  -999.00,9,   1.5167,2,      235