BOTTLE,20210419PRINUNIVRMK
EXPOCODE,SECT_ID,STNNBR,CASTNO,SAMPNO,BTLNBR,BTLNBR_FLAG_W,DATE,TIME,LATITUDE,LONGITUDE,DEPTH,CTDPRS,CTDTMP,SBE35,SBE35_FLAG_W,CTDSAL,CTDSAL_FLAG_W,SALNTY,SALNTY_FLAG_W,CTDOXY,CTDOXY_FLAG_W,OXYGEN,OXYGEN_FLAG_W,SILCAT,SILCAT_FLAG_W,NITRAT,NITRAT_FLAG_W,NITRIT,NITRIT_FLAG_W,PHSPHT,PHSPHT_FLAG_W,CFC-11,CFC-11_FLAG_W,CFC-12,CFC-12_FLAG_W,TCARBN,TCARBN_FLAG_W,ALKALI,ALKALI_FLAG_W,PH_TOT,PH_TOT_FLAG_W,PH_TMP,CHLORA,CHLORA_FLAG_W,PPHYTN,PPHYTN_FLAG_W,SBE35,SBE35_FLAG_W,BTL_TIME
,,,,,,,,,,,METERS,DBAR,ITS-90,,,PSS-78,,PSS-78,,UMOL/KG,,UMOL/KG,,UMOL/KG,,UMOL/KG,,UMOL/KG,,UMOL/KG,,PMOL/KG,,PMOL/KG,,UMOL/KG,,UMOL/KG,,,,DEG C,UG/KG,,UG/KG,,,,
  49RY20120726,   40N,    67,  1,     36,    109,2,20120902,2205, 36.0050, 167.8582, 5454,     11.7,  24.9166,  24.9197,2,  34.3554,2,  34.3534,2,    211.0,2,    211.6,2,     1.47,2,     0.00,2,     0.00,2,     0.03,2, -999.000,9, -999.000,9,   1964.7,2,   2258.7,2,   8.0390,4,    25.00,     0.08,2,     0.03,2,  24.9197,2,       35
  49RY20120726,   40N,    67,  1,     35,    112,2,20120902,2205, 36.0050, 167.8582, 5454,     51.4,  18.5344,  18.5347,2,  34.6299,2,  34.6287,2,    234.3,2,    241.1,2,     2.49,2,     0.10,2,     0.01,2,     0.06,2, -999.000,9, -999.000,9,   1997.7,2,   2276.9,2,   8.0073,4,    25.00,     0.29,2,     0.16,2,  18.5347,2,       32
  49RY20120726,   40N,    67,  1,     34,     83,2,20120902,2205, 36.0050, 167.8582, 5454,    102.8,  16.5292,  16.5370,2,  34.6293,2,  34.6317,2,    211.3,2,    211.4,2,     5.79,2,     5.17,2,     0.03,2,     0.36,2, -999.000,9, -999.000,9,   2036.5,2,   2278.1,2,   7.9393,4,    25.00,     0.09,2,     0.11,2,  16.5370,2,       30
  49RY20120726,   40N,    67,  1,     33,     86,2,20120902,2205, 36.0050, 167.8582, 5454,    153.0,  15.4727,  15.4690,2,  34.5938,2,  34.5905,2,    206.5,2,    205.2,2,     8.59,2,     7.62,2,     0.01,2,     0.52,2, -999.000,9, -999.000,9,   2056.8,2,   2277.3,2,   7.8951,4,    25.00,     0.02,2,     0.02,2,  15.4690,2,       28
  49RY20120726,   40N,    67,  1,     32,    105,2,20120902,2205, 36.0050, 167.8582, 5454,    202.6,  14.3848,  14.3851,2,  34.5348,2,  34.5271,4,    221.8,2,    222.1,2,     9.26,2,     7.79,2,     0.01,2,     0.54,2, -999.000,9, -999.000,9,   2057.2,6,   2274.3,6,   7.8855,4,    25.00,     0.00,2,     0.02,2,  14.3851,2,       23
  49RY20120726,   40N,    67,  1,     31,     76,2,20120902,2205, 36.0050, 167.8582, 5454,    256.3,  13.1319,  13.1331,2,  34.4394,2,  34.4394,2,    218.8,2,    218.6,2,    12.55,2,     9.89,2,     0.01,2,     0.69,2, -999.000,9, -999.000,9,   2073.5,2,   2274.1,2,   7.8538,4,    25.00,  -999.00,9,  -999.00,9,  13.1331,2,       17
  49RY20120726,   40N,    67,  1,     30,     97,2,20120902,2205, 36.0050, 167.8582, 5454,    306.6,  12.0417,  12.0412,2,  34.3563,2,  34.3549,2,    222.2,2,    222.0,2,    15.27,2,    11.36,2,     0.01,2,     0.80,2, -999.000,9, -999.000,9,   2083.8,2,   2272.4,2,   7.8260,4,    25.00,  -999.00,9,  -999.00,9,  12.0412,2,       15
  49RY20120726,   40N,    67,  1,     29,    102,2,20120902,2205, 36.0050, 167.8582, 5454,    404.9,   9.3809,   9.3797,2,  34.1305,2,  34.1279,2,    213.9,2,    213.4,2,    25.84,2,    16.62,2,     0.01,2,     1.19,2, -999.000,9, -999.000,9,   2123.8,2,   2274.5,2,   7.7358,4,    25.00,  -999.00,9,  -999.00,9,   9.3797,2,       12
  49RY20120726,   40N,    67,  1,     28,     91,2,20120902,2205, 36.0050, 167.8582, 5454,    506.3,   6.9901,   6.9866,2,  33.9941,2,  33.9851,4,    167.7,2,    168.5,6,    47.76,6,    25.68,6,     0.00,6,     1.86,6, -999.000,9, -999.000,9,   2189.1,2,   2280.6,2,   7.5931,4,    25.00,  -999.00,9,  -999.00,9,   6.9866,2,       10
  49RY20120726,   40N,    67,  1,     27,    998,2,20120902,2205, 36.0050, 167.8582, 5454,    606.7,   5.2645,   5.2734,2,  33.9903,2,  33.9899,2,    121.7,2,    121.8,2,    70.65,2,    32.83,2,     0.00,2,     2.38,2, -999.000,9, -999.000,9,   2247.6,2,   2298.3,2,   7.4652,4,    25.00,  -999.00,9,  -999.00,9,   5.2734,2,        7
  49RY20120726,   40N,    67,  1,     26,     84,2,20120902,2205, 36.0050, 167.8582, 5454,    707.5,   4.5401,   4.5407,2,  34.0876,2,  34.0877,2,     79.4,2,     79.5,2,    90.82,2,    37.55,2,     0.00,2,     2.70,2, -999.000,9, -999.000,9,   2297.7,6,   2317.2,6,   7.3851,4,    25.00,  -999.00,9,  -999.00,9,   4.5407,2,        5
  49RY20120726,   40N,    67,  1,     25,     98,2,20120902,2205, 36.0050, 167.8582, 5454,    808.0,   4.1093,   4.1092,2,  34.1791,2,  34.1810,2,     56.2,2,     56.1,2,   105.25,2,    40.05,2,     0.00,2,     2.86,2, -999.000,9, -999.000,9,   2321.9,2,   2336.6,2,   7.3495,4,    25.00,  -999.00,9,  -999.00,9,   4.1092,2,        0
  49RY20120726,   40N,    67,  1,     24,    110,2,20120902,2205, 36.0050, 167.8582, 5454,    909.7,   3.7624,   3.7656,2,  34.2468,2,  34.2472,2,     43.9,2,     43.5,2,   116.66,2,    41.40,2,     0.00,2,     2.95,2, -999.000,9, -999.000,9,   2343.3,2,   2347.9,2,   7.3290,4,    25.00,  -999.00,9,  -999.00,9,   3.7656,2,     2357
  49RY20120726,   40N,    67,  1,     23,     96,3,20120902,2205, 36.0050, 167.8582, 5454,   1010.5,   3.4476,   3.4421,2,  34.3129,2,  34.3122,2,     35.8,2,     36.1,2,   126.55,2,    42.28,2,     0.00,2,     3.02,2, -999.000,9, -999.000,9,   2357.5,2,   2358.2,2,   7.3260,4,    25.00,  -999.00,9,  -999.00,9,   3.4421,2,     2354
  49RY20120726,   40N,    67,  1,     22,    111,2,20120902,2205, 36.0050, 167.8582, 5454,   1214.9,   2.9260,   2.9245,2,  34.4097,2,  34.4091,2,     31.8,2,     31.4,2,   142.53,2,    43.13,2,     0.00,2,     3.07,2, -999.000,9, -999.000,9,   2376.1,2,   2379.6,2,   7.3222,4,    25.00,  -999.00,9,  -999.00,9,   2.9245,2,     2349
  49RY20120726,   40N,    67,  1,     21,     78,2,20120902,2205, 36.0050, 167.8582, 5454,   1416.7,   2.6077,   2.6042,2,  34.4715,2,  34.4716,2,     35.2,2,     34.9,2,   151.50,2,    43.25,2,     0.00,2,     3.07,2, -999.000,9, -999.000,9,   2384.5,2,   2392.8,2,   7.3336,4,    25.00,  -999.00,9,  -999.00,9,   2.6042,2,     2342
  49RY20120726,   40N,    67,  1,     20,     93,2,20120902,2205, 36.0050, 167.8582, 5454,   1619.7,   2.3244,   2.3247,2,  34.5208,2,  34.5204,2,     43.4,2,     43.2,6,   159.12,6,    42.91,6,     0.00,6,     3.03,6, -999.000,9, -999.000,9,   2392.2,2,   2403.5,2,   7.3517,4,    25.00,  -999.00,9,  -999.00,9,   2.3247,2,     2337
  49RY20120726,   40N,    67,  1,     19,     92,2,20120902,2205, 36.0050, 167.8582, 5454,   1822.4,   2.1415,   2.1411,2,  34.5540,2,  34.5538,6,     53.5,2,     53.4,2,   162.73,2,    42.30,2,     0.00,2,     2.99,2, -999.000,9, -999.000,9,   2387.8,2,   2408.1,2,   7.3731,4,    25.00,  -999.00,9,  -999.00,9,   2.1411,2,     2332
  49RY20120726,   40N,    67,  1,     18,    101,2,20120902,2205, 36.0050, 167.8582, 5454,   2026.3,   1.9619,   1.9619,2,  34.5853,2,  34.5860,2,     67.3,2,     67.7,2,   165.24,2,    41.52,2,     0.00,2,     2.92,2, -999.000,9, -999.000,9,   2384.9,2,   2410.6,2,   7.4006,4,    25.00,  -999.00,9,  -999.00,9,   1.9619,2,     2324
  49RY20120726,   40N,    67,  1,     17,     90,2,20120902,2205, 36.0050, 167.8582, 5454,   2229.6,   1.8300,   1.8298,2,  34.6099,2,  34.6101,2,     81.4,2,     81.1,2,   164.89,2,    40.60,2,     0.00,2,     2.85,2, -999.000,9, -999.000,9,   2376.7,6,   2414.3,6,   7.4274,4,    25.00,  -999.00,9,  -999.00,9,   1.8298,2,     2319
  49RY20120726,   40N,    67,  1,     16,     89,2,20120902,2205, 36.0050, 167.8582, 5454,   2432.6,   1.7279,   1.7283,2,  34.6283,2,  34.6284,2,     94.7,2,     94.8,2,   163.64,2,    39.75,2,     0.00,2,     2.79,2, -999.000,9, -999.000,9,   2380.7,3,   2415.8,2,   7.4569,4,    25.00,  -999.00,9,  -999.00,9,   1.7283,2,     2315
  49RY20120726,   40N,    67,  1,     15,     88,2,20120902,2205, 36.0050, 167.8582, 5454,   2636.7,   1.6386,   1.6386,2,  34.6435,2,  34.6432,2,    107.5,2,    107.3,2,   161.75,2,    38.97,2,     0.00,2,     2.73,2, -999.000,9, -999.000,9,   2359.7,2,   2413.7,2,   7.4792,4,    25.00,  -999.00,9,  -999.00,9,   1.6386,2,     2309
  49RY20120726,   40N,    67,  1,     14,    999,2,20120902,2205, 36.0050, 167.8582, 5454,   2636.7,   1.6384,   1.6384,2,  34.6435,2,  34.6440,2,    107.6,2,    109.2,4,   161.82,2,    38.97,2,     0.00,2,     2.73,2, -999.000,9, -999.000,9,   2362.7,2,   2415.6,2,   7.4836,4,    25.00,  -999.00,9,  -999.00,9,   1.6384,2,     2308
  49RY20120726,   40N,    67,  1,     13,    667,3,20120902,2205, 36.0050, 167.8582, 5454,   2841.3,   1.5819,   1.5815,2,  34.6536,2,  34.6492,4,    117.2,2,    117.9,2,   159.65,2,    38.33,2,     0.00,2,     2.68,2, -999.000,9, -999.000,9,   2354.6,2,   2415.2,2,   7.4949,4,    25.00,  -999.00,9,  -999.00,9,   1.5815,2,     2304
  49RY20120726,   40N,    67,  1,     12,     74,2,20120902,2205, 36.0050, 167.8582, 5454,   3043.3,   1.5307,   1.5304,2,  34.6628,2,  34.6630,2,    126.4,2,    126.6,2,   157.83,2,    37.72,2,     0.00,2,     2.63,2, -999.000,9, -999.000,9,   2348.9,2,   2414.2,2,   7.5149,4,    25.00,  -999.00,9,  -999.00,9,   1.5304,2,     2259
  49RY20120726,   40N,    67,  1,     11,    996,2,20120902,2205, 36.0050, 167.8582, 5454,   3300.2,   1.4943,   1.4940,2,  34.6700,2,  34.6701,2,    134.5,2,    134.9,2,   155.79,2,    37.20,2,     0.00,2,     2.59,2, -999.000,9, -999.000,9,   2343.4,2,   2417.1,2,   7.5296,4,    25.00,  -999.00,9,  -999.00,9,   1.4940,2,     2253
  49RY20120726,   40N,    67,  1,     10,    107,2,20120902,2205, 36.0050, 167.8582, 5454,   3555.0,   1.4687,   1.4686,2,  34.6759,2,  34.6756,2,    141.4,2,    141.2,6,   154.02,6,    36.77,6,     0.00,6,     2.56,6, -999.000,9, -999.000,9,   2338.7,2,   2417.2,2,   7.5414,4,    25.00,  -999.00,9,  -999.00,9,   1.4686,2,     2248
  49RY20120726,   40N,    67,  1,      9,    108,2,20120902,2205, 36.0050, 167.8582, 5454,   3811.5,   1.4581,   1.4581,2,  34.6803,2,  34.6803,6,    146.6,2,    146.9,2,   152.06,2,    36.41,2,     0.00,2,     2.52,2, -999.000,9, -999.000,9,   2332.6,2,   2417.2,2,   7.5531,4,    25.00,  -999.00,9,  -999.00,9,   1.4581,2,     2240
  49RY20120726,   40N,    67,  1,      8,     81,2,20120902,2205, 36.0050, 167.8582, 5454,   4068.3,   1.4543,   1.4544,2,  34.6836,2,  34.6823,2,    150.8,2,    150.3,2,   151.19,2,    36.13,2,     0.00,2,     2.51,2, -999.000,9, -999.000,9,   2330.8,6,   2415.3,6,   7.5567,4,    25.00,  -999.00,9,  -999.00,9,   1.4544,2,     2235
  49RY20120726,   40N,    67,  1,      7,    106,2,20120902,2205, 36.0050, 167.8582, 5454,   4325.5,   1.4612,   1.4613,2,  34.6861,2,  34.6856,2,    153.6,2,    153.8,2,   151.02,2,    35.95,2,     0.00,2,     2.49,2, -999.000,9, -999.000,9,   2334.6,2,   2413.7,2,   7.5637,4,    25.00,  -999.00,9,  -999.00,9,   1.4613,2,     2230
  49RY20120726,   40N,    67,  1,      5,     94,2,20120902,2205, 36.0050, 167.8582, 5454,   4581.8,   1.4762,   1.4763,2,  34.6877,2,  34.6879,2,    155.7,2,    155.9,2,   150.07,2,    35.78,2,     0.00,2,     2.48,2, -999.000,9, -999.000,9,   2331.5,2,   2415.1,2,   7.5657,4,    25.00,  -999.00,9,  -999.00,9,   1.4763,2,     2225
  49RY20120726,   40N,    67,  1,      6,    113,3,20120902,2205, 36.0050, 167.8582, 5454,   4582.4,   1.4766,   1.4766,2,  34.6876,2,  34.6877,2,    155.7,2,    155.6,2,   150.25,2,    35.79,2,     0.00,2,     2.48,2, -999.000,9, -999.000,9,   2328.8,2,   2415.6,2,   7.5656,4,    25.00,  -999.00,9,  -999.00,9,   1.4766,2,     2225
  49RY20120726,   40N,    67,  1,      4,     77,2,20120902,2205, 36.0050, 167.8582, 5454,   4839.3,   1.4942,   1.4944,2,  34.6889,2,  34.6892,2,    157.8,2,    158.2,2,   148.95,2,    35.63,2,     0.00,2,     2.46,2, -999.000,9, -999.000,9,   2330.2,2,   2414.4,2,   7.5645,4,    25.00,  -999.00,9,  -999.00,9,   1.4944,2,     2220
  49RY20120726,   40N,    67,  1,      3,    104,2,20120902,2205, 36.0050, 167.8582, 5454,   5096.4,   1.5015,   1.5016,2,  34.6910,2,  34.6913,2,    162.4,2,    162.3,2,   144.42,2,    35.32,2,     0.00,2,     2.44,2, -999.000,9, -999.000,9,   2323.5,2,   2408.9,2,   7.5720,4,    25.00,  -999.00,9,  -999.00,9,   1.5016,2,     2215
  49RY20120726,   40N,    67,  1,      2,     75,2,20120902,2205, 36.0050, 167.8582, 5454,   5354.3,   1.5078,   1.5075,2,  34.6929,2,  34.6933,2,    167.2,2,    167.8,6,   139.81,6,    34.90,6,     0.00,6,     2.41,6, -999.000,9, -999.000,9,   2316.3,2,   2407.2,2,   7.5761,4,    25.00,  -999.00,9,  -999.00,9,   1.5075,2,     2210
  49RY20120726,   40N,    67,  1,      1,    997,2,20120902,2205, 36.0050, 167.8582, 5454,   5551.3,   1.5193,   1.5191,2,  34.6941,2,  34.6949,6,    169.6,2,    169.6,2,   138.32,2,    34.80,2,     0.00,2,     2.40,2, -999.000,9, -999.000,9,   2311.6,2,   2405.3,2,   7.5833,4,    25.00,  -999.00,9,  -999.00,9,   1.5191,2,     2205