BOTTLE,20210419PRINUNIVRMK
EXPOCODE,SECT_ID,STNNBR,CASTNO,SAMPNO,BTLNBR,BTLNBR_FLAG_W,DATE,TIME,LATITUDE,LONGITUDE,DEPTH,CTDPRS,CTDTMP,SBE35,SBE35_FLAG_W,CTDSAL,CTDSAL_FLAG_W,SALNTY,SALNTY_FLAG_W,CTDOXY,CTDOXY_FLAG_W,OXYGEN,OXYGEN_FLAG_W,SILCAT,SILCAT_FLAG_W,NITRAT,NITRAT_FLAG_W,NITRIT,NITRIT_FLAG_W,PHSPHT,PHSPHT_FLAG_W,CFC-11,CFC-11_FLAG_W,CFC-12,CFC-12_FLAG_W,TCARBN,TCARBN_FLAG_W,ALKALI,ALKALI_FLAG_W,PH_TOT,PH_TOT_FLAG_W,PH_TMP,CHLORA,CHLORA_FLAG_W,PPHYTN,PPHYTN_FLAG_W,SBE35,SBE35_FLAG_W,BTL_TIME
,,,,,,,,,,,METERS,DBAR,ITS-90,,,PSS-78,,PSS-78,,UMOL/KG,,UMOL/KG,,UMOL/KG,,UMOL/KG,,UMOL/KG,,UMOL/KG,,PMOL/KG,,PMOL/KG,,UMOL/KG,,UMOL/KG,,,,DEG C,UG/KG,,UG/KG,,,,
  49RY20120726,   40N,    55,  1,     36,    109,2,20120830,0555, 36.5117, 169.9587, 4252,     10.6,  25.0312,  25.0283,2,  34.3222,2,-999.0000,9,    210.7,2,    211.1,2,     1.67,2,     0.08,2,     0.00,2,     0.03,2, -999.000,9, -999.000,9,   -999.0,9,   -999.0,9,-999.0000,9,  -999.00,  -999.00,9,  -999.00,9,  25.0283,2,      806
  49RY20120726,   40N,    55,  1,     35,    112,2,20120830,0555, 36.5117, 169.9587, 4252,     50.3,  17.7060,  17.7064,2,  34.7212,2,-999.0000,9,    241.5,2,    239.9,6,     2.73,6,     0.27,6,     0.02,6,     0.08,6, -999.000,9, -999.000,9,   -999.0,9,   -999.0,9,-999.0000,9,  -999.00,  -999.00,9,  -999.00,9,  17.7064,2,      802
  49RY20120726,   40N,    55,  1,     34,     83,2,20120830,0555, 36.5117, 169.9587, 4252,    100.7,  16.4932,  16.5030,2,  34.6749,2,-999.0000,9,    218.2,2,    218.3,2,     4.92,2,     4.68,2,     0.01,2,     0.32,2, -999.000,9, -999.000,9,   -999.0,9,   -999.0,9,-999.0000,9,  -999.00,  -999.00,9,  -999.00,9,  16.5030,2,      800
  49RY20120726,   40N,    55,  1,     33,     86,2,20120830,0555, 36.5117, 169.9587, 4252,    151.4,  14.9861,  14.9891,2,  34.5392,2,-999.0000,9,    189.0,2,    185.6,2,    12.68,2,    10.33,2,     0.01,2,     0.71,2, -999.000,9, -999.000,9,   -999.0,9,   -999.0,9,-999.0000,9,  -999.00,  -999.00,9,  -999.00,9,  14.9891,2,      759
  49RY20120726,   40N,    55,  1,     32,    105,2,20120830,0555, 36.5117, 169.9587, 4252,    201.9,  13.4002,  13.3938,2,  34.4680,2,-999.0000,9,    173.3,2,    172.5,2,    19.53,2,    14.00,2,     0.01,2,     0.98,2, -999.000,9, -999.000,9,   -999.0,9,   -999.0,9,-999.0000,9,  -999.00,  -999.00,9,  -999.00,9,  13.3938,2,      756
  49RY20120726,   40N,    55,  1,     31,     76,2,20120830,0555, 36.5117, 169.9587, 4252,    252.1,  11.7871,  11.7860,2,  34.3594,2,-999.0000,9,    182.5,2,    177.8,2,    24.00,2,    16.10,2,     0.00,4,     1.13,2, -999.000,9, -999.000,9,   -999.0,9,   -999.0,9,-999.0000,9,  -999.00,  -999.00,9,  -999.00,9,  11.7860,2,      748
  49RY20120726,   40N,    55,  1,     30,     97,2,20120830,0555, 36.5117, 169.9587, 4252,    280.7,  10.9518,  10.9537,2,  34.2872,2,-999.0000,9,    187.6,2,    187.6,6,    24.58,6,    16.45,6,     0.01,2,     1.16,6, -999.000,9, -999.000,9,   -999.0,9,   -999.0,9,-999.0000,9,  -999.00,  -999.00,9,  -999.00,9,  10.9537,2,      746
  49RY20120726,   40N,    55,  1,     29,    102,2,20120830,0555, 36.5117, 169.9587, 4252,    372.3,   8.4813,   8.4857,2,  34.0728,2,-999.0000,9,    191.1,2,    193.4,2,    33.67,2,    20.33,2,     0.01,2,     1.46,2, -999.000,9, -999.000,9,   -999.0,9,   -999.0,9,-999.0000,9,  -999.00,  -999.00,9,  -999.00,9,   8.4857,2,      744
  49RY20120726,   40N,    55,  1,     28,     91,2,20120830,0555, 36.5117, 169.9587, 4252,    473.3,   6.3815,   6.3802,2,  33.9931,2,-999.0000,9,    147.6,2,    147.1,2,    55.39,2,    28.68,2,     0.00,2,     2.07,2, -999.000,9, -999.000,9,   -999.0,9,   -999.0,9,-999.0000,9,  -999.00,  -999.00,9,  -999.00,9,   6.3802,2,      741
  49RY20120726,   40N,    55,  1,     27,    998,2,20120830,0555, 36.5117, 169.9587, 4252,    573.0,   4.9831,   4.9845,2,  34.0386,2,-999.0000,9,    101.5,2,    100.0,6,    79.49,6,    35.19,6,     0.00,6,     2.55,6, -999.000,9, -999.000,9,   -999.0,9,   -999.0,9,-999.0000,9,  -999.00,  -999.00,9,  -999.00,9,   4.9845,2,      739
  49RY20120726,   40N,    55,  1,     26,     84,2,20120830,0555, 36.5117, 169.9587, 4252,    674.5,   4.4542,   4.4543,2,  34.1321,2,-999.0000,9,     70.0,2,     69.7,2,    95.38,2,    38.56,2,     0.00,2,     2.77,2, -999.000,9, -999.000,9,   -999.0,9,   -999.0,9,-999.0000,9,  -999.00,  -999.00,9,  -999.00,9,   4.4543,2,      736
  49RY20120726,   40N,    55,  1,     25,     98,2,20120830,0555, 36.5117, 169.9587, 4252,    777.0,   4.0792,   4.0792,2,  34.2041,2,-999.0000,9,     53.2,2,     53.1,2,   107.29,2,    40.40,2,     0.00,2,     2.89,2, -999.000,9, -999.000,9,   -999.0,9,   -999.0,9,-999.0000,9,  -999.00,  -999.00,9,  -999.00,9,   4.0792,2,      732
  49RY20120726,   40N,    55,  1,     24,    110,2,20120830,0555, 36.5117, 169.9587, 4252,    877.6,   3.7455,   3.7456,2,  34.2720,2,-999.0000,9,     44.5,2,     44.1,2,   117.61,2,    41.38,2,     0.00,2,     2.96,2, -999.000,9, -999.000,9,   -999.0,9,   -999.0,9,-999.0000,9,  -999.00,  -999.00,9,  -999.00,9,   3.7456,2,      724
  49RY20120726,   40N,    55,  1,     23,     96,3,20120830,0555, 36.5117, 169.9587, 4252,    979.6,   3.4086,   3.4086,2,  34.3263,2,-999.0000,9,     36.0,2,     35.8,2,   127.49,2,    42.34,2,     0.00,2,     3.04,2, -999.000,9, -999.000,9,   -999.0,9,   -999.0,9,-999.0000,9,  -999.00,  -999.00,9,  -999.00,9,   3.4086,2,      721
  49RY20120726,   40N,    55,  1,     22,    111,2,20120830,0555, 36.5117, 169.9587, 4252,   1141.8,   3.0220,   3.0219,2,  34.3962,2,-999.0000,9,     32.0,2,     31.7,2,   139.33,2,    43.30,2,     0.00,2,     3.08,2, -999.000,9, -999.000,9,   -999.0,9,   -999.0,9,-999.0000,9,  -999.00,  -999.00,9,  -999.00,9,   3.0219,2,      718
  49RY20120726,   40N,    55,  1,     21,     78,2,20120830,0555, 36.5117, 169.9587, 4252,   1141.8,   3.0220,   3.0219,2,  34.3962,2,-999.0000,9,     32.0,2,     32.0,2,   139.38,2,    43.19,2,     0.00,2,     3.08,2, -999.000,9, -999.000,9,   -999.0,9,   -999.0,9,-999.0000,9,  -999.00,  -999.00,9,  -999.00,9,   3.0219,2,      718
  49RY20120726,   40N,    55,  1,     20,     93,2,20120830,0555, 36.5117, 169.9587, 4252,   1344.1,   2.6635,   2.6634,2,  34.4603,2,-999.0000,9,     36.3,2,     36.2,2,   149.77,2,    43.11,2,     0.00,2,     3.08,2, -999.000,9, -999.000,9,   -999.0,9,   -999.0,9,-999.0000,9,  -999.00,  -999.00,9,  -999.00,9,   2.6634,2,      711
  49RY20120726,   40N,    55,  1,     19,     92,2,20120830,0555, 36.5117, 169.9587, 4252,   1547.8,   2.3763,   2.3762,2,  34.5097,2,-999.0000,9,     40.8,2,     40.6,2,   158.09,2,    43.06,2,     0.00,2,     3.05,2, -999.000,9, -999.000,9,   -999.0,9,   -999.0,9,-999.0000,9,  -999.00,  -999.00,9,  -999.00,9,   2.3762,2,      707
  49RY20120726,   40N,    55,  1,     18,    101,2,20120830,0555, 36.5117, 169.9587, 4252,   1753.9,   2.1696,   2.1695,2,  34.5514,2,-999.0000,9,     51.9,2,     51.5,2,   162.04,2,    42.42,2,     0.00,2,     3.01,2, -999.000,9, -999.000,9,   -999.0,9,   -999.0,9,-999.0000,9,  -999.00,  -999.00,9,  -999.00,9,   2.1695,2,      702
  49RY20120726,   40N,    55,  1,     17,     90,2,20120830,0555, 36.5117, 169.9587, 4252,   1957.8,   1.9906,   1.9909,2,  34.5817,2,-999.0000,9,     65.3,2,     64.7,2,   164.46,2,    41.72,2,     0.00,2,     2.94,2, -999.000,9, -999.000,9,   -999.0,9,   -999.0,9,-999.0000,9,  -999.00,  -999.00,9,  -999.00,9,   1.9909,2,      654
  49RY20120726,   40N,    55,  1,     16,     89,2,20120830,0555, 36.5117, 169.9587, 4252,   2160.1,   1.8521,   1.8521,2,  34.6062,2,-999.0000,9,     79.5,2,     79.3,2,   164.58,2,    40.80,2,     0.00,2,     2.88,2, -999.000,9, -999.000,9,   -999.0,9,   -999.0,9,-999.0000,9,  -999.00,  -999.00,9,  -999.00,9,   1.8521,2,      649
  49RY20120726,   40N,    55,  1,     15,     88,2,20120830,0555, 36.5117, 169.9587, 4252,   2364.5,   1.7462,   1.7461,2,  34.6244,2,-999.0000,9,     92.0,2,     91.7,2,   164.30,2,    40.29,2,     0.00,2,     2.82,2, -999.000,9, -999.000,9,   -999.0,9,   -999.0,9,-999.0000,9,  -999.00,  -999.00,9,  -999.00,9,   1.7461,2,      641
  49RY20120726,   40N,    55,  1,     14,    999,2,20120830,0555, 36.5117, 169.9587, 4252,   2567.5,   1.6605,   1.6604,2,  34.6392,2,-999.0000,9,    104.0,2,    103.7,2,   162.65,2,    39.24,2,     0.00,2,     2.76,2, -999.000,9, -999.000,9,   -999.0,9,   -999.0,9,-999.0000,9,  -999.00,  -999.00,9,  -999.00,9,   1.6604,2,      637
  49RY20120726,   40N,    55,  1,     13,    667,2,20120830,0555, 36.5117, 169.9587, 4252,   2767.1,   1.6006,   1.6004,2,  34.6497,2,-999.0000,9,    113.7,2,    112.5,3,   160.65,2,    38.86,2,     0.00,2,     2.72,2, -999.000,9, -999.000,9,   -999.0,9,   -999.0,9,-999.0000,9,  -999.00,  -999.00,9,  -999.00,9,   1.6004,2,      631
  49RY20120726,   40N,    55,  1,     12,     74,2,20120830,0555, 36.5117, 169.9587, 4252,   2768.0,   1.6007,   1.6004,2,  34.6497,2,-999.0000,9,    113.7,2,    113.5,2,   160.85,2,    38.68,2,     0.00,2,     2.71,2, -999.000,9, -999.000,9,   -999.0,9,   -999.0,9,-999.0000,9,  -999.00,  -999.00,9,  -999.00,9,   1.6004,2,      631
  49RY20120726,   40N,    55,  1,     10,    107,2,20120830,0555, 36.5117, 169.9587, 4252,   2976.1,   1.5512,   1.5511,2,  34.6587,2,-999.0000,9,    122.6,2,    121.9,2,   158.79,2,    38.21,2,     0.00,2,     2.67,2, -999.000,9, -999.000,9,   -999.0,9,   -999.0,9,-999.0000,9,  -999.00,  -999.00,9,  -999.00,9,   1.5511,2,      626
  49RY20120726,   40N,    55,  1,     11,    996,2,20120830,0555, 36.5117, 169.9587, 4252,   2977.8,   1.5510,   1.5509,2,  34.6589,2,-999.0000,9,    122.7,2,    122.5,2,   158.87,2,    38.15,2,     0.00,2,     2.67,2, -999.000,9, -999.000,9,   -999.0,9,   -999.0,9,-999.0000,9,  -999.00,  -999.00,9,  -999.00,9,   1.5509,2,      626
  49RY20120726,   40N,    55,  1,      9,    108,2,20120830,0555, 36.5117, 169.9587, 4252,   3220.0,   1.5062,   1.5062,2,  34.6674,2,-999.0000,9,    131.7,2,    131.7,2,   156.42,2,    37.59,3,     0.00,2,     2.62,2, -999.000,9, -999.000,9,   -999.0,9,   -999.0,9,-999.0000,9,  -999.00,  -999.00,9,  -999.00,9,   1.5062,2,      621
  49RY20120726,   40N,    55,  1,      8,     81,3,20120830,0555, 36.5117, 169.9587, 4252,   3474.2,   1.4750,   1.4748,2,  34.6740,2,-999.0000,9,    139.2,2,    139.4,2,   155.06,2,    37.07,2,     0.00,2,     2.58,2, -999.000,9, -999.000,9,   -999.0,9,   -999.0,9,-999.0000,9,  -999.00,  -999.00,9,  -999.00,9,   1.4748,2,      616
  49RY20120726,   40N,    55,  1,      7,    106,2,20120830,0555, 36.5117, 169.9587, 4252,   3732.1,   1.4604,   1.4604,2,  34.6788,2,-999.0000,9,    144.7,2,    145.1,2,   153.15,2,    36.64,2,     0.00,2,     2.55,2, -999.000,9, -999.000,9,   -999.0,9,   -999.0,9,-999.0000,9,  -999.00,  -999.00,9,  -999.00,9,   1.4604,2,      611
  49RY20120726,   40N,    55,  1,      6,    113,2,20120830,0555, 36.5117, 169.9587, 4252,   3985.9,   1.4557,   1.4555,2,  34.6823,2,-999.0000,9,    149.1,2,    149.8,2,   152.03,2,    36.20,2,     0.00,2,     2.53,2, -999.000,9, -999.000,9,   -999.0,9,   -999.0,9,-999.0000,9,  -999.00,  -999.00,9,  -999.00,9,   1.4555,2,      607
  49RY20120726,   40N,    55,  1,      5,     94,2,20120830,0555, 36.5117, 169.9587, 4252,   4240.9,   1.4605,   1.4603,2,  34.6849,2,-999.0000,9,    152.3,2,    152.1,6,   151.60,6,    35.99,6,     0.00,6,     2.51,6, -999.000,9, -999.000,9,   -999.0,9,   -999.0,9,-999.0000,9,  -999.00,  -999.00,9,  -999.00,9,   1.4603,2,      602
  49RY20120726,   40N,    55,  1,      1,    997,2,20120830,0555, 36.5117, 169.9587, 4252,   4505.9,   1.4665,   1.4663,2,  34.6874,2,-999.0000,9,    155.6,2,    155.9,2,   150.50,2,    35.76,2,     0.00,2,     2.50,2, -999.000,9, -999.000,9,   -999.0,9,   -999.0,9,-999.0000,9,  -999.00,  -999.00,9,  -999.00,9,   1.4663,2,      556