BOTTLE,20210419PRINUNIVRMK
EXPOCODE,SECT_ID,STNNBR,CASTNO,SAMPNO,BTLNBR,BTLNBR_FLAG_W,DATE,TIME,LATITUDE,LONGITUDE,DEPTH,CTDPRS,CTDTMP,SBE35,SBE35_FLAG_W,CTDSAL,CTDSAL_FLAG_W,SALNTY,SALNTY_FLAG_W,CTDOXY,CTDOXY_FLAG_W,OXYGEN,OXYGEN_FLAG_W,SILCAT,SILCAT_FLAG_W,NITRAT,NITRAT_FLAG_W,NITRIT,NITRIT_FLAG_W,PHSPHT,PHSPHT_FLAG_W,CFC-11,CFC-11_FLAG_W,CFC-12,CFC-12_FLAG_W,TCARBN,TCARBN_FLAG_W,ALKALI,ALKALI_FLAG_W,PH_TOT,PH_TOT_FLAG_W,PH_TMP,CHLORA,CHLORA_FLAG_W,PPHYTN,PPHYTN_FLAG_W,SBE35,SBE35_FLAG_W,BTL_TIME
,,,,,,,,,,,METERS,DBAR,ITS-90,,,PSS-78,,PSS-78,,UMOL/KG,,UMOL/KG,,UMOL/KG,,UMOL/KG,,UMOL/KG,,UMOL/KG,,PMOL/KG,,PMOL/KG,,UMOL/KG,,UMOL/KG,,,,DEG C,UG/KG,,UG/KG,,,,
  49RY20120726,   40N,    72,  1,      7,    106,2,20120904,1720, 38.4872, 166.0755, 5527,     10.8,  23.8777,  23.8782,2,  34.3416,2,-999.0000,9,    214.4,2,    216.1,6,     1.40,6,     0.01,6,     0.00,6,     0.03,6, -999.000,9, -999.000,9,   -999.0,9,   -999.0,9,-999.0000,9,  -999.00,  -999.00,9,  -999.00,9,  23.8782,2,     1946
  49RY20120726,   40N,    72,  1,     36,    109,2,20120904,1720, 38.4872, 166.0755, 5527,     50.4,  14.4511,  14.4526,2,  34.3174,2,-999.0000,9,    277.2,2,    275.1,2,     3.46,2,     2.56,2,     0.11,2,     0.29,2, -999.000,9, -999.000,9,   -999.0,9,   -999.0,9,-999.0000,9,  -999.00,  -999.00,9,  -999.00,9,  14.4526,2,     1942
  49RY20120726,   40N,    72,  1,     35,    112,2,20120904,1720, 38.4872, 166.0755, 5527,    101.2,  11.8808,  11.8779,2,  34.2914,2,-999.0000,9,    234.7,2,    234.3,2,    14.00,2,    10.52,2,     0.06,2,     0.77,2, -999.000,9, -999.000,9,   -999.0,9,   -999.0,9,-999.0000,9,  -999.00,  -999.00,9,  -999.00,9,  11.8779,2,     1941
  49RY20120726,   40N,    72,  1,     34,     83,2,20120904,1720, 38.4872, 166.0755, 5527,    151.9,  10.4900,  10.4899,2,  34.1833,2,-999.0000,9,    233.0,2,    233.5,2,    18.13,2,    12.87,2,     0.01,2,     0.93,2, -999.000,9, -999.000,9,   -999.0,9,   -999.0,9,-999.0000,9,  -999.00,  -999.00,9,  -999.00,9,  10.4899,2,     1939
  49RY20120726,   40N,    72,  1,     33,     86,2,20120904,1720, 38.4872, 166.0755, 5527,    202.0,   9.0453,   9.0482,2,  34.0126,2,-999.0000,9,    241.4,2,    241.6,2,    20.99,2,    14.51,2,     0.01,2,     1.08,2, -999.000,9, -999.000,9,   -999.0,9,   -999.0,9,-999.0000,9,  -999.00,  -999.00,9,  -999.00,9,   9.0482,2,     1935
  49RY20120726,   40N,    72,  1,     32,    105,2,20120904,1720, 38.4872, 166.0755, 5527,    252.9,   7.9702,   7.9701,2,  33.9531,2,-999.0000,9,    219.5,2,    218.7,6,    29.86,6,    18.63,6,     0.01,6,     1.37,6, -999.000,9, -999.000,9,   -999.0,9,   -999.0,9,-999.0000,9,  -999.00,  -999.00,9,  -999.00,9,   7.9701,2,     1928
  49RY20120726,   40N,    72,  1,     31,     76,2,20120904,1720, 38.4872, 166.0755, 5527,    281.6,   7.5723,   7.5711,2,  33.9747,2,-999.0000,9,    195.8,2,    192.1,2,    37.76,2,    21.89,2,     0.00,2,     1.61,2, -999.000,9, -999.000,9,   -999.0,9,   -999.0,9,-999.0000,9,  -999.00,  -999.00,9,  -999.00,9,   7.5711,2,     1927
  49RY20120726,   40N,    72,  1,     30,     97,2,20120904,1720, 38.4872, 166.0755, 5527,    373.6,   5.9339,   5.9353,2,  33.9530,2,-999.0000,9,    147.1,2,    146.8,2,    58.36,2,    29.44,2,     0.00,2,     2.15,2, -999.000,9, -999.000,9,   -999.0,9,   -999.0,9,-999.0000,9,  -999.00,  -999.00,9,  -999.00,9,   5.9353,2,     1924
  49RY20120726,   40N,    72,  1,     29,    102,2,20120904,1720, 38.4872, 166.0755, 5527,    474.9,   4.8026,   4.8123,2,  33.9747,2,-999.0000,9,    110.0,2,    108.4,2,    77.36,2,    34.72,2,     0.00,2,     2.53,2, -999.000,9, -999.000,9,   -999.0,9,   -999.0,9,-999.0000,9,  -999.00,  -999.00,9,  -999.00,9,   4.8123,2,     1922
  49RY20120726,   40N,    72,  1,     28,     91,2,20120904,1720, 38.4872, 166.0755, 5527,    575.4,   4.3116,   4.3132,2,  34.0729,2,-999.0000,9,     73.7,2,     73.5,2,    94.02,2,    38.43,2,     0.00,2,     2.79,2, -999.000,9, -999.000,9,   -999.0,9,   -999.0,9,-999.0000,9,  -999.00,  -999.00,9,  -999.00,9,   4.3132,2,     1919
  49RY20120726,   40N,    72,  1,     27,    998,2,20120904,1720, 38.4872, 166.0755, 5527,    676.5,   3.9867,   3.9863,2,  34.2018,2,-999.0000,9,     51.1,2,     50.8,6,   109.72,6,    40.42,6,     0.00,6,     2.92,6, -999.000,9, -999.000,9,   -999.0,9,   -999.0,9,-999.0000,9,  -999.00,  -999.00,9,  -999.00,9,   3.9863,2,     1916
  49RY20120726,   40N,    72,  1,     26,     84,2,20120904,1720, 38.4872, 166.0755, 5527,    777.7,   3.6990,   3.6987,2,  34.2549,2,-999.0000,9,     43.7,2,     44.0,2,   118.97,2,    41.33,2,     0.00,2,     2.98,2, -999.000,9, -999.000,9,   -999.0,9,   -999.0,9,-999.0000,9,  -999.00,  -999.00,9,  -999.00,9,   3.6987,2,     1912
  49RY20120726,   40N,    72,  1,     25,     98,2,20120904,1720, 38.4872, 166.0755, 5527,    877.5,   3.4474,   3.4477,2,  34.3073,2,-999.0000,9,     36.6,2,     36.5,2,   126.94,2,    42.16,2,     0.00,2,     3.03,3, -999.000,9, -999.000,9,   -999.0,9,   -999.0,9,-999.0000,9,  -999.00,  -999.00,9,  -999.00,9,   3.4477,2,     1908
  49RY20120726,   40N,    72,  1,     24,    110,2,20120904,1720, 38.4872, 166.0755, 5527,    979.1,   3.2697,   3.2702,2,  34.3387,2,-999.0000,9,     34.7,2,     34.8,2,   132.38,2,    42.44,2,     0.00,2,     3.05,2, -999.000,9, -999.000,9,   -999.0,9,   -999.0,9,-999.0000,9,  -999.00,  -999.00,9,  -999.00,9,   3.2702,2,     1905
  49RY20120726,   40N,    72,  1,     23,     96,2,20120904,1720, 38.4872, 166.0755, 5527,   1142.5,   2.8975,   2.9015,2,  34.4048,2,-999.0000,9,     33.9,2,     33.7,2,   143.41,2,    42.84,2,     0.00,2,     3.08,2, -999.000,9, -999.000,9,   -999.0,9,   -999.0,9,-999.0000,9,  -999.00,  -999.00,9,  -999.00,9,   2.9015,2,     1902
  49RY20120726,   40N,    72,  1,     22,    111,2,20120904,1720, 38.4872, 166.0755, 5527,   1345.7,   2.5809,   2.5805,2,  34.4656,2,-999.0000,9,     35.1,2,     34.8,2,   153.29,2,    43.16,2,     0.00,2,     3.08,2, -999.000,9, -999.000,9,   -999.0,9,   -999.0,9,-999.0000,9,  -999.00,  -999.00,9,  -999.00,9,   2.5805,2,     1856
  49RY20120726,   40N,    72,  1,     21,     78,2,20120904,1720, 38.4872, 166.0755, 5527,   1549.5,   2.3350,   2.3350,2,  34.5081,2,-999.0000,9,     40.1,2,     40.0,2,   160.47,2,    42.93,2,     0.00,2,     3.06,2, -999.000,9, -999.000,9,   -999.0,9,   -999.0,9,-999.0000,9,  -999.00,  -999.00,9,  -999.00,9,   2.3350,2,     1849
  49RY20120726,   40N,    72,  1,     20,     93,2,20120904,1720, 38.4872, 166.0755, 5527,   1751.2,   2.1481,   2.1479,2,  34.5456,2,-999.0000,9,     48.2,2,     48.3,2,   164.74,2,    42.58,2,     0.00,2,     3.02,2, -999.000,9, -999.000,9,   -999.0,9,   -999.0,9,-999.0000,9,  -999.00,  -999.00,9,  -999.00,9,   2.1479,2,     1844
  49RY20120726,   40N,    72,  1,     19,     92,2,20120904,1720, 38.4872, 166.0755, 5527,   1955.0,   1.9960,   1.9958,2,  34.5762,2,-999.0000,9,     61.2,2,     61.0,2,   166.71,2,    41.83,2,     0.00,2,     2.96,2, -999.000,9, -999.000,9,   -999.0,9,   -999.0,9,-999.0000,9,  -999.00,  -999.00,9,  -999.00,9,   1.9958,2,     1838
  49RY20120726,   40N,    72,  1,     18,    101,2,20120904,1720, 38.4872, 166.0755, 5527,   2157.8,   1.8663,   1.8661,2,  34.6011,2,-999.0000,9,     75.1,2,     75.5,2,   166.76,2,    41.00,2,     0.00,2,     2.90,2, -999.000,9, -999.000,9,   -999.0,9,   -999.0,9,-999.0000,9,  -999.00,  -999.00,9,  -999.00,9,   1.8661,2,     1834
  49RY20120726,   40N,    72,  1,     17,     90,2,20120904,1720, 38.4872, 166.0755, 5527,   2361.8,   1.7551,   1.7551,2,  34.6218,2,-999.0000,9,     89.0,2,     88.9,2,   165.85,2,    40.07,2,     0.00,2,     2.83,2, -999.000,9, -999.000,9,   -999.0,9,   -999.0,9,-999.0000,9,  -999.00,  -999.00,9,  -999.00,9,   1.7551,2,     1830
  49RY20120726,   40N,    72,  1,     16,     89,3,20120904,1720, 38.4872, 166.0755, 5527,   2566.2,   1.6714,   1.6713,2,  34.6371,2,-999.0000,9,    101.5,2,    102.2,2,   163.68,2,    39.28,2,     0.00,2,     2.77,2, -999.000,9, -999.000,9,   -999.0,9,   -999.0,9,-999.0000,9,  -999.00,  -999.00,9,  -999.00,9,   1.6713,2,     1823
  49RY20120726,   40N,    72,  1,     15,     88,2,20120904,1720, 38.4872, 166.0755, 5527,   2770.1,   1.6129,   1.6129,2,  34.6486,2,-999.0000,9,    112.0,2,    112.0,2,   161.51,2,    38.57,2,     0.00,2,     2.72,2, -999.000,9, -999.000,9,   -999.0,9,   -999.0,9,-999.0000,9,  -999.00,  -999.00,9,  -999.00,9,   1.6129,2,     1819
  49RY20120726,   40N,    72,  1,     14,    999,3,20120904,1720, 38.4872, 166.0755, 5527,   2974.7,   1.5648,   1.5648,2,  34.6577,2,-999.0000,9,    120.9,2,    120.9,2,   159.56,2,    37.97,2,     0.00,2,     2.68,2, -999.000,9, -999.000,9,   -999.0,9,   -999.0,9,-999.0000,9,  -999.00,  -999.00,9,  -999.00,9,   1.5648,2,     1815
  49RY20120726,   40N,    72,  1,     13,    667,3,20120904,1720, 38.4872, 166.0755, 5527,   3220.1,   1.5194,   1.5195,2,  34.6663,2,-999.0000,9,    130.3,2,    129.7,2,   157.19,2,    37.43,2,     0.00,2,     2.63,2, -999.000,9, -999.000,9,   -999.0,9,   -999.0,9,-999.0000,9,  -999.00,  -999.00,9,  -999.00,9,   1.5195,2,     1808
  49RY20120726,   40N,    72,  1,     12,     74,2,20120904,1720, 38.4872, 166.0755, 5527,   3475.9,   1.4950,   1.4950,2,  34.6721,2,-999.0000,9,    136.8,2,    137.0,2,   155.58,2,    36.99,2,     0.00,2,     2.59,2, -999.000,9, -999.000,9,   -999.0,9,   -999.0,9,-999.0000,9,  -999.00,  -999.00,9,  -999.00,9,   1.4950,2,     1803
  49RY20120726,   40N,    72,  1,     11,    996,2,20120904,1720, 38.4872, 166.0755, 5527,   3732.0,   1.4739,   1.4741,2,  34.6774,2,-999.0000,9,    143.1,2,    143.2,2,   153.77,2,    36.58,2,     0.00,2,     2.56,2, -999.000,9, -999.000,9,   -999.0,9,   -999.0,9,-999.0000,9,  -999.00,  -999.00,9,  -999.00,9,   1.4741,2,     1758
  49RY20120726,   40N,    72,  1,     10,    107,2,20120904,1720, 38.4872, 166.0755, 5527,   3988.7,   1.4708,   1.4708,2,  34.6808,2,-999.0000,9,    147.1,2,    146.9,2,   152.75,2,    36.29,2,     0.00,2,     2.54,2, -999.000,9, -999.000,9,   -999.0,9,   -999.0,9,-999.0000,9,  -999.00,  -999.00,9,  -999.00,9,   1.4708,2,     1753
  49RY20120726,   40N,    72,  1,      9,    108,2,20120904,1720, 38.4872, 166.0755, 5527,   3988.7,   1.4708,   1.4708,2,  34.6808,2,-999.0000,9,    147.1,2,    147.0,2,   152.99,2,    36.30,2,     0.00,2,     2.54,2, -999.000,9, -999.000,9,   -999.0,9,   -999.0,9,-999.0000,9,  -999.00,  -999.00,9,  -999.00,9,   1.4708,2,     1753
  49RY20120726,   40N,    72,  1,      8,     81,2,20120904,1720, 38.4872, 166.0755, 5527,   4244.8,   1.4694,   1.4695,2,  34.6841,2,-999.0000,9,    151.1,2,    151.1,2,   151.93,2,    36.03,2,     0.00,2,     2.52,2, -999.000,9, -999.000,9,   -999.0,9,   -999.0,9,-999.0000,9,  -999.00,  -999.00,9,  -999.00,9,   1.4695,2,     1748
  49RY20120726,   40N,    72,  1,      6,    113,2,20120904,1720, 38.4872, 166.0755, 5527,   4501.9,   1.4802,   1.4803,2,  34.6861,2,-999.0000,9,    153.6,2,    153.6,2,   151.56,2,    35.91,2,     0.00,2,     2.50,2, -999.000,9, -999.000,9,   -999.0,9,   -999.0,9,-999.0000,9,  -999.00,  -999.00,9,  -999.00,9,   1.4803,2,     1742
  49RY20120726,   40N,    72,  1,      5,     94,2,20120904,1720, 38.4872, 166.0755, 5527,   4758.8,   1.4984,   1.4984,2,  34.6875,2,-999.0000,9,    155.3,2,    155.6,2,   151.30,2,    35.76,2,     0.00,2,     2.50,2, -999.000,9, -999.000,9,   -999.0,9,   -999.0,9,-999.0000,9,  -999.00,  -999.00,9,  -999.00,9,   1.4984,2,     1738
  49RY20120726,   40N,    72,  1,      4,     77,2,20120904,1720, 38.4872, 166.0755, 5527,   5015.9,   1.5233,   1.5235,2,  34.6883,2,-999.0000,9,    156.3,2,    156.7,2,   151.30,2,    35.66,2,     0.00,2,     2.49,2, -999.000,9, -999.000,9,   -999.0,9,   -999.0,9,-999.0000,9,  -999.00,  -999.00,9,  -999.00,9,   1.5235,2,     1733
  49RY20120726,   40N,    72,  1,      3,    104,2,20120904,1720, 38.4872, 166.0755, 5527,   5274.8,   1.5510,   1.5511,2,  34.6889,2,-999.0000,9,    157.0,2,    157.1,2,   151.54,2,    35.65,2,     0.00,2,     2.49,2, -999.000,9, -999.000,9,   -999.0,9,   -999.0,9,-999.0000,9,  -999.00,  -999.00,9,  -999.00,9,   1.5511,2,     1728
  49RY20120726,   40N,    72,  1,      2,     75,2,20120904,1720, 38.4872, 166.0755, 5527,   5532.8,   1.5827,   1.5828,2,  34.6889,2,-999.0000,9,    157.3,2,    157.4,6,   151.46,6,    35.63,6,     0.00,6,     2.48,6, -999.000,9, -999.000,9,   -999.0,9,   -999.0,9,-999.0000,9,  -999.00,  -999.00,9,  -999.00,9,   1.5828,2,     1723
  49RY20120726,   40N,    72,  1,      1,    997,2,20120904,1720, 38.4872, 166.0755, 5527,   5622.0,   1.5941,   1.5938,2,  34.6888,2,-999.0000,9,    157.5,2,    157.4,2,   151.27,2,    35.61,2,     0.00,2,     2.48,2, -999.000,9, -999.000,9,   -999.0,9,   -999.0,9,-999.0000,9,  -999.00,  -999.00,9,  -999.00,9,   1.5938,2,     1720