BOTTLE,20210419PRINUNIVRMK
# 2/6/2014 Initialized README file  
# Data source: cchdo.ucsd.edu/cruise/49RY20120726/20131206_40n_hy1.csv. Dated as received on 2020-10-15 
# SHIP: Ryofu Maru 
# Cruise: RF12_06 
# Region: NW Pacific on 40N 
# EXPOCODE: 49RY20120726 
# DATES: 7/26 - 9/13/2012 
# Chief Scientist: Kamiyaa/JMA 
# 74 stations with 36 place Rosette 
# Bucket samples assigned bottle number 999 and bottle flag of 2 
# Leg 1: 7/26 - 8/16 
# Leg 2: 8/21 - 9/13 
# Hydro: Who - K.Nemoto; Status - final 
# 	Notes: 	 
# Nuts: Who - K.Nemoto; Status - final 
# 	Notes: Reported NO3+NO2 converted to nitrate by subtraction 
# O2: Who - K.Nemoto; Status - final 
# 	Notes: 
# TCO2: Who - K.Nemoto; Status - final 
# 	Notes:  
# TA: Who - K.Nemoto; Status - final 
# 	Notes:  
# pH: Who - K.Nemoto; Status - final 
# 	Notes: Total scale at 25C 
# 	Flag value of 1 reset to 2 
# CFC: Who - K.Nemoto; Status - no data in file 
# 	Notes: CFC-11 and CFC-12 measured 
# Other: ChloroA and Phaeophytin  
# References: 
EXPOCODE,SECT_ID,STNNBR,CASTNO,SAMPNO,BTLNBR,BTLNBR_FLAG_W,DATE,TIME,LATITUDE,LONGITUDE,DEPTH,CTDPRS,CTDTMP,SBE35,SBE35_FLAG_W,CTDSAL,CTDSAL_FLAG_W,SALNTY,SALNTY_FLAG_W,CTDOXY,CTDOXY_FLAG_W,OXYGEN,OXYGEN_FLAG_W,SILCAT,SILCAT_FLAG_W,NITRAT,NITRAT_FLAG_W,NITRIT,NITRIT_FLAG_W,PHSPHT,PHSPHT_FLAG_W,CFC-11,CFC-11_FLAG_W,CFC-12,CFC-12_FLAG_W,TCARBN,TCARBN_FLAG_W,ALKALI,ALKALI_FLAG_W,PH_TOT,PH_TOT_FLAG_W,PH_TMP,CHLORA,CHLORA_FLAG_W,PPHYTN,PPHYTN_FLAG_W,SBE35,SBE35_FLAG_W,BTL_TIME
,,,,,,,,,,,METERS,DBAR,ITS-90,,,PSS-78,,PSS-78,,UMOL/KG,,UMOL/KG,,UMOL/KG,,UMOL/KG,,UMOL/KG,,UMOL/KG,,PMOL/KG,,PMOL/KG,,UMOL/KG,,UMOL/KG,,,,DEG C,UG/KG,,UG/KG,,,,
  49RY20120726,   40N,     1,  1,     36,    109,2,20120728,0200, 39.9995, 142.3222,  514,     12.1,  17.2967,  17.2984,2,  33.7397,2,  33.7527,2,    259.9,2,    259.2,6,     0.47,6,     0.00,6,     0.00,6,     0.04,6, -999.000,9, -999.000,9,   1982.9,2,   2252.9,2,   8.0120,2,    25.00,     0.20,2,     0.05,2,  17.2984,2,      229
  49RY20120726,   40N,     1,  1,     35,    112,2,20120728,0200, 39.9995, 142.3222,  514,     27.1,  16.4226,  16.4066,2,  33.8256,2,  33.8292,2,    269.4,2,    269.6,2,     0.39,2,     0.00,2,     0.00,2,     0.03,2, -999.000,9, -999.000,9,   1986.8,6,   2258.5,2,   8.0154,2,    25.00,     0.32,2,     0.11,2,  16.4066,2,      227
  49RY20120726,   40N,     1,  1,     34,     83,4,20120728,0200, 39.9995, 142.3222,  514,     52.6,  11.1283,  11.1461,2,  33.6542,2,-999.0000,9,    293.5,2,   -999.0,9,  -999.00,9,  -999.00,9,  -999.00,9,  -999.00,9, -999.000,9, -999.000,9,   -999.0,9,   -999.0,9,-999.0000,9,  -999.00,  -999.00,9,  -999.00,9,  11.1461,2,      224
  49RY20120726,   40N,     1,  1,     33,     86,2,20120728,0200, 39.9995, 142.3222,  514,     77.1,   8.9978,   8.9946,2,  33.8015,2,  33.7773,2,    261.1,2,    262.8,2,    10.73,2,     8.70,2,     0.23,2,     0.75,2, -999.000,9, -999.000,9,   2080.8,2,   2253.7,2,   7.8323,6,    25.00,     0.25,2,     0.23,2,   8.9946,2,      222
  49RY20120726,   40N,     1,  1,     32,    105,2,20120728,0200, 39.9995, 142.3222,  514,    103.6,   8.4459,   8.4476,2,  33.9458,2,  33.9461,2,    253.3,2,    252.9,2,    15.68,2,    11.31,2,     0.07,2,     0.87,2, -999.000,9, -999.000,9,   2099.5,2,   2268.4,2,   7.8037,2,    25.00,  -999.00,9,  -999.00,9,   8.4476,2,      220
  49RY20120726,   40N,     1,  1,     31,     76,2,20120728,0200, 39.9995, 142.3222,  514,    103.6,   8.4459,   8.4476,2,  33.9458,2,  33.9458,6,    253.3,2,    253.2,2,    15.57,2,    11.23,2,     0.07,2,     0.86,2, -999.000,9, -999.000,9,   2099.8,2,   2267.4,2,   7.8054,2,    25.00,     0.05,2,     0.09,2,   8.4476,2,      220
  49RY20120726,   40N,     1,  1,     30,    103,2,20120728,0200, 39.9995, 142.3222,  514,    129.0,   8.3707,   8.3695,2,  33.9793,2,  33.9778,2,    252.9,2,    252.4,2,    17.73,2,    12.35,2,     0.02,2,     0.93,3, -999.000,9, -999.000,9,   2102.8,2,   2266.4,2,   7.7944,2,    25.00,     0.02,2,     0.06,2,   8.3695,2,      219
  49RY20120726,   40N,     1,  1,     29,    102,3,20120728,0200, 39.9995, 142.3222,  514,    153.2,   7.8867,   7.8939,2,  33.9177,2,  33.9070,2,    254.1,2,    253.5,2,    18.69,2,    12.82,2,     0.02,2,     0.97,2, -999.000,9, -999.000,9,   2106.8,2,   2268.8,2,   7.7821,2,    25.00,     0.02,2,     0.06,2,   7.8939,2,      217
  49RY20120726,   40N,     1,  1,     28,     91,2,20120728,0200, 39.9995, 142.3222,  514,    203.9,   2.6113,   2.6108,2,  33.2860,2,  33.2881,2,    303.3,2,    301.6,2,    35.85,2,    21.92,2,     0.01,2,     1.74,2, -999.000,9, -999.000,9,   2141.5,2,   2254.7,2,   7.6496,2,    25.00,     0.06,2,     0.07,2,   2.6108,2,      215
  49RY20120726,   40N,     1,  1,     27,    998,2,20120728,0200, 39.9995, 142.3222,  514,    254.4,   2.9403,   2.9005,2,  33.3813,2,  33.3661,2,    285.5,2,    284.5,2,    40.29,2,    22.66,2,     0.01,2,     1.77,2, -999.000,9, -999.000,9,   2155.4,2,   2251.8,2,   7.6244,2,    25.00,  -999.00,9,  -999.00,9,   2.9005,2,      214
  49RY20120726,   40N,     1,  1,     26,     99,3,20120728,0200, 39.9995, 142.3222,  514,    285.5,   2.1349,   2.1347,2,  33.3469,2,  33.3484,2,    270.4,2,    268.0,2,    48.57,2,    25.61,2,     0.01,2,     1.99,2, -999.000,9, -999.000,9,   2172.3,2,   2255.1,2,   7.5700,2,    25.00,  -999.00,9,  -999.00,9,   2.1347,2,      212
  49RY20120726,   40N,     1,  1,     25,     98,2,20120728,0200, 39.9995, 142.3222,  514,    376.4,   2.8604,   2.8536,2,  33.5948,2,  33.5964,2,    181.8,2,    179.9,2,    69.85,2,    32.31,2,     0.01,2,     2.43,2, -999.000,9, -999.000,9,   2238.6,2,   2280.9,6,   7.4542,2,    25.00,  -999.00,9,  -999.00,9,   2.8536,2,      209
  49RY20120726,   40N,     1,  1,     24,    110,2,20120728,0200, 39.9995, 142.3222,  514,    476.3,   3.3115,   3.3116,2,  33.8067,2,  33.8066,2,    114.4,2,    113.3,2,    86.90,2,    37.11,2,     0.00,2,     2.72,2, -999.000,9, -999.000,9,   2281.6,2,   2305.0,2,   7.3699,6,    25.00,  -999.00,9,  -999.00,9,   3.3116,2,      207
  49RY20120726,   40N,     1,  1,      1,    997,2,20120728,0200, 39.9995, 142.3222,  514,    498.4,   3.2927,   3.2926,2,  33.8239,2,  33.8351,2,    108.6,2,   -999.0,9,  -999.00,9,  -999.00,9,  -999.00,9,  -999.00,9, -999.000,9, -999.000,9,   -999.0,9,   -999.0,9,-999.0000,9,  -999.00,  -999.00,9,  -999.00,9,   3.2926,2,      201
  49RY20120726,   40N,     1,  1,     23,     96,2,20120728,0200, 39.9995, 142.3222,  514,    500.0,   3.3049,   3.3038,2,  33.8454,2,  33.8373,2,    102.4,2,    102.1,6,    91.72,6,    37.89,6,     0.01,6,     2.80,6, -999.000,9, -999.000,9,   2298.3,2,   2307.9,2,   7.3527,2,    25.00,  -999.00,9,  -999.00,9,   3.3038,2,      205
  49RY20120726,   40N,     1,  1,     22,    111,2,20120728,0200, 39.9995, 142.3222,  514,    500.0,   3.3049,   3.3038,2,  33.8454,2,  33.8382,6,    102.4,2,    101.7,2,    91.86,2,    37.93,2,     0.01,2,     2.80,2, -999.000,9, -999.000,9,   2299.9,2,   2308.0,2,   7.3518,2,    25.00,  -999.00,9,  -999.00,9,   3.3038,2,      205
  49RY20120726,   40N,     2,  1,     36,    109,2,20120728,0536, 40.0158, 142.6353,  944,     10.3,  16.9938,  16.9921,2,  33.7389,2,-999.0000,9,    259.2,2,   -999.0,9,     1.02,2,     0.00,2,     0.00,2,     0.05,2, -999.000,9, -999.000,9,   -999.0,9,   -999.0,9,-999.0000,9,  -999.00,     0.20,2,     0.03,2,  16.9921,2,      615
  49RY20120726,   40N,     2,  1,     35,    112,2,20120728,0536, 40.0158, 142.6353,  944,     25.0,  13.8371,  13.7366,2,  33.8708,2,-999.0000,9,    292.0,2,   -999.0,9,     2.82,2,     0.50,2,     0.04,2,     0.18,2, -999.000,9, -999.000,9,   -999.0,9,   -999.0,9,-999.0000,9,  -999.00,     1.30,2,     0.47,2,  13.7366,2,      614
  49RY20120726,   40N,     2,  1,     34,     83,2,20120728,0536, 40.0158, 142.6353,  944,     52.3,  10.0548,  10.0688,2,  33.9476,2,-999.0000,9,    262.4,2,   -999.0,9,     8.08,6,     6.47,6,     0.11,6,     0.53,6, -999.000,9, -999.000,9,   -999.0,9,   -999.0,9,-999.0000,9,  -999.00,     0.15,2,     0.10,2,  10.0688,2,      610
  49RY20120726,   40N,     2,  1,     33,     86,2,20120728,0536, 40.0158, 142.6353,  944,     78.8,   9.9962,  10.0060,2,  34.1079,2,-999.0000,9,    259.8,2,   -999.0,9,     9.62,2,     7.57,2,     0.03,2,     0.58,2, -999.000,9, -999.000,9,   -999.0,9,   -999.0,9,-999.0000,9,  -999.00,     0.12,2,     0.12,2,  10.0060,2,      609
  49RY20120726,   40N,     2,  1,     32,    105,2,20120728,0536, 40.0158, 142.6353,  944,    100.2,   9.1229,   9.1225,2,  34.0243,2,-999.0000,9,    261.5,2,   -999.0,9,    10.41,2,     8.25,2,     0.02,2,     0.63,2, -999.000,9, -999.000,9,   -999.0,9,   -999.0,9,-999.0000,9,  -999.00,     0.05,2,     0.11,2,   9.1225,2,      604
  49RY20120726,   40N,     2,  1,     31,     76,2,20120728,0536, 40.0158, 142.6353,  944,    126.4,   8.7945,   8.7953,2,  34.0268,2,-999.0000,9,    264.2,2,   -999.0,9,    13.33,2,    10.16,2,     0.01,2,     0.74,2, -999.000,9, -999.000,9,   -999.0,9,   -999.0,9,-999.0000,9,  -999.00,     0.04,2,     0.11,2,   8.7953,2,      603
  49RY20120726,   40N,     2,  1,     30,    103,2,20120728,0536, 40.0158, 142.6353,  944,    152.5,   8.4170,   8.4171,2,  33.9895,2,-999.0000,9,    267.7,2,   -999.0,9,    15.25,2,    11.14,2,     0.01,2,     0.81,2, -999.000,9, -999.000,9,   -999.0,9,   -999.0,9,-999.0000,9,  -999.00,  -999.00,9,  -999.00,9,   8.4171,2,      602
  49RY20120726,   40N,     2,  1,     29,    102,3,20120728,0536, 40.0158, 142.6353,  944,    152.5,   8.4170,   8.4171,2,  33.9895,2,-999.0000,9,    267.7,2,   -999.0,9,    15.19,2,    11.13,2,     0.01,2,     0.82,2, -999.000,9, -999.000,9,   -999.0,9,   -999.0,9,-999.0000,9,  -999.00,     0.01,2,     0.08,2,   8.4171,2,      602
  49RY20120726,   40N,     2,  1,     28,     91,2,20120728,0536, 40.0158, 142.6353,  944,    199.4,   8.2288,   8.2275,2,  33.9588,2,-999.0000,9,    270.3,2,   -999.0,9,    15.91,2,    11.34,2,     0.01,2,     0.83,2, -999.000,9, -999.000,9,   -999.0,9,   -999.0,9,-999.0000,9,  -999.00,     0.01,2,     0.05,2,   8.2275,2,      600
  49RY20120726,   40N,     2,  1,     27,    998,2,20120728,0536, 40.0158, 142.6353,  944,    251.6,   6.7684,   6.7708,2,  33.7685,2,-999.0000,9,    266.3,2,   -999.0,9,    20.44,2,    13.71,2,     0.02,2,     1.05,2, -999.000,9, -999.000,9,   -999.0,9,   -999.0,9,-999.0000,9,  -999.00,  -999.00,9,  -999.00,9,   6.7708,2,      559
  49RY20120726,   40N,     2,  1,     26,     99,3,20120728,0536, 40.0158, 142.6353,  944,    302.2,   4.0773,   4.0775,2,  33.4795,2,-999.0000,9,    278.3,2,   -999.0,9,    32.35,2,    19.44,2,     0.01,2,     1.52,2, -999.000,9, -999.000,9,   -999.0,9,   -999.0,9,-999.0000,9,  -999.00,  -999.00,9,  -999.00,9,   4.0775,2,      557
  49RY20120726,   40N,     2,  1,     25,     98,2,20120728,0536, 40.0158, 142.6353,  944,    406.3,   3.1022,   3.1005,2,  33.5422,2,-999.0000,9,    214.9,2,   -999.0,9,    57.24,2,    28.45,2,     0.01,2,     2.16,2, -999.000,9, -999.000,9,   -999.0,9,   -999.0,9,-999.0000,9,  -999.00,  -999.00,9,  -999.00,9,   3.1005,2,      554
  49RY20120726,   40N,     2,  1,     24,    110,2,20120728,0536, 40.0158, 142.6353,  944,    506.5,   3.2048,   3.2052,2,  33.6997,2,-999.0000,9,    152.1,2,   -999.0,9,    75.68,2,    34.28,2,     0.00,2,     2.54,3, -999.000,9, -999.000,9,   -999.0,9,   -999.0,9,-999.0000,9,  -999.00,  -999.00,9,  -999.00,9,   3.2052,2,      551
  49RY20120726,   40N,     2,  1,     23,     96,2,20120728,0536, 40.0158, 142.6353,  944,    607.1,   3.0637,   3.0629,2,  33.8402,2,-999.0000,9,     88.9,2,   -999.0,9,    96.37,6,    40.00,6,     0.00,6,     2.91,6, -999.000,9, -999.000,9,   -999.0,9,   -999.0,9,-999.0000,9,  -999.00,  -999.00,9,  -999.00,9,   3.0629,2,      548
  49RY20120726,   40N,     2,  1,     22,    111,2,20120728,0536, 40.0158, 142.6353,  944,    709.6,   3.4566,   3.4579,2,  34.0499,2,-999.0000,9,     49.9,2,   -999.0,9,   110.03,2,    41.83,2,     0.00,2,     3.02,2, -999.000,9, -999.000,9,   -999.0,9,   -999.0,9,-999.0000,9,  -999.00,  -999.00,9,  -999.00,9,   3.4579,2,      546
  49RY20120726,   40N,     2,  1,     21,     78,2,20120728,0536, 40.0158, 142.6353,  944,    709.6,   3.4566,   3.4579,2,  34.0499,2,-999.0000,9,     49.9,2,   -999.0,9,   109.78,2,    41.78,2,     0.00,2,     3.02,2, -999.000,9, -999.000,9,   -999.0,9,   -999.0,9,-999.0000,9,  -999.00,  -999.00,9,  -999.00,9,   3.4579,2,      546
  49RY20120726,   40N,     2,  1,     20,     93,2,20120728,0536, 40.0158, 142.6353,  944,    810.1,   3.5141,   3.5162,2,  34.1780,2,-999.0000,9,     40.8,2,   -999.0,9,   119.42,2,    42.02,2,     0.00,2,     3.05,2, -999.000,9, -999.000,9,   -999.0,9,   -999.0,9,-999.0000,9,  -999.00,  -999.00,9,  -999.00,9,   3.5162,2,      543
  49RY20120726,   40N,     2,  1,     19,     92,2,20120728,0536, 40.0158, 142.6353,  944,    910.3,   3.1261,   3.1259,2,  34.3160,2,-999.0000,9,     33.9,2,   -999.0,9,   137.09,2,    42.18,2,     0.01,2,     3.10,2, -999.000,9, -999.000,9,   -999.0,9,   -999.0,9,-999.0000,9,  -999.00,  -999.00,9,  -999.00,9,   3.1259,2,      540
  49RY20120726,   40N,     2,  1,      1,    997,2,20120728,0536, 40.0158, 142.6353,  944,    932.4,   3.0854,   3.0851,2,  34.3271,2,-999.0000,9,     33.7,2,   -999.0,9,   139.33,2,    42.03,2,     0.02,2,     3.11,2, -999.000,9, -999.000,9,   -999.0,9,   -999.0,9,-999.0000,9,  -999.00,  -999.00,9,  -999.00,9,   3.0851,2,      536