BOTTLE,20210419PRINUNIVRMK
EXPOCODE,SECT_ID,STNNBR,CASTNO,SAMPNO,BTLNBR,BTLNBR_FLAG_W,DATE,TIME,LATITUDE,LONGITUDE,DEPTH,CTDPRS,CTDTMP,SBE35,SBE35_FLAG_W,CTDSAL,CTDSAL_FLAG_W,SALNTY,SALNTY_FLAG_W,CTDOXY,CTDOXY_FLAG_W,OXYGEN,OXYGEN_FLAG_W,SILCAT,SILCAT_FLAG_W,NITRAT,NITRAT_FLAG_W,NITRIT,NITRIT_FLAG_W,PHSPHT,PHSPHT_FLAG_W,CFC-11,CFC-11_FLAG_W,CFC-12,CFC-12_FLAG_W,TCARBN,TCARBN_FLAG_W,ALKALI,ALKALI_FLAG_W,PH_TOT,PH_TOT_FLAG_W,PH_TMP,CHLORA,CHLORA_FLAG_W,PPHYTN,PPHYTN_FLAG_W,SBE35,SBE35_FLAG_W,BTL_TIME
,,,,,,,,,,,METERS,DBAR,ITS-90,,,PSS-78,,PSS-78,,UMOL/KG,,UMOL/KG,,UMOL/KG,,UMOL/KG,,UMOL/KG,,UMOL/KG,,PMOL/KG,,PMOL/KG,,UMOL/KG,,UMOL/KG,,,,DEG C,UG/KG,,UG/KG,,,,
  49RY20120726,   40N,    66,  1,     36,    109,2,20120902,1444, 35.4935, 168.2240, 5613,     11.1,  25.1063,  25.1057,2,  34.3635,2,-999.0000,9,    210.1,2,    211.2,2,     1.55,2,     0.03,2,     0.00,2,     0.03,2, -999.000,9, -999.000,9,   -999.0,9,   -999.0,9,-999.0000,9,  -999.00,  -999.00,9,  -999.00,9,  25.1057,2,     1710
  49RY20120726,   40N,    66,  1,     35,    112,2,20120902,1444, 35.4935, 168.2240, 5613,     52.1,  19.7614,  19.8181,2,  34.5827,2,-999.0000,9,    240.9,2,    239.0,2,     2.14,2,     0.03,2,     0.00,2,     0.05,2, -999.000,9, -999.000,9,   -999.0,9,   -999.0,9,-999.0000,9,  -999.00,  -999.00,9,  -999.00,9,  19.8181,2,     1708
  49RY20120726,   40N,    66,  1,     34,     83,2,20120902,1444, 35.4935, 168.2240, 5613,    102.2,  16.7583,  16.7510,2,  34.6258,2,-999.0000,9,    206.6,2,    205.9,6,     6.42,6,     5.53,6,     0.03,6,     0.39,6, -999.000,9, -999.000,9,   -999.0,9,   -999.0,9,-999.0000,9,  -999.00,  -999.00,9,  -999.00,9,  16.7510,2,     1701
  49RY20120726,   40N,    66,  1,     33,     86,2,20120902,1444, 35.4935, 168.2240, 5613,    152.7,  15.0369,  15.0218,2,  34.5431,2,-999.0000,9,    203.0,2,    202.2,2,    10.01,2,     8.47,2,     0.01,2,     0.60,2, -999.000,9, -999.000,9,   -999.0,9,   -999.0,9,-999.0000,9,  -999.00,  -999.00,9,  -999.00,9,  15.0218,2,     1658
  49RY20120726,   40N,    66,  1,     32,    105,2,20120902,1444, 35.4935, 168.2240, 5613,    202.8,  13.9521,  13.9513,2,  34.5114,2,-999.0000,9,    224.3,2,    222.4,2,    10.47,2,     8.41,2,     0.01,2,     0.60,2, -999.000,9, -999.000,9,   -999.0,9,   -999.0,9,-999.0000,9,  -999.00,  -999.00,9,  -999.00,9,  13.9513,2,     1655
  49RY20120726,   40N,    66,  1,     31,     76,2,20120902,1444, 35.4935, 168.2240, 5613,    252.8,  12.9487,  12.9553,2,  34.4261,2,-999.0000,9,    223.5,2,    223.9,2,    12.65,2,     9.83,2,     0.01,2,     0.70,2, -999.000,9, -999.000,9,   -999.0,9,   -999.0,9,-999.0000,9,  -999.00,  -999.00,9,  -999.00,9,  12.9553,2,     1651
  49RY20120726,   40N,    66,  1,     30,     97,2,20120902,1444, 35.4935, 168.2240, 5613,    283.4,  12.2776,  12.2726,2,  34.3704,2,-999.0000,9,    221.0,2,    220.8,2,    15.01,2,    11.23,2,     0.01,2,     0.80,2, -999.000,9, -999.000,9,   -999.0,9,   -999.0,9,-999.0000,9,  -999.00,  -999.00,9,  -999.00,9,  12.2726,2,     1650
  49RY20120726,   40N,    66,  1,     29,    102,2,20120902,1444, 35.4935, 168.2240, 5613,    375.3,   9.8460,   9.8482,2,  34.1674,2,-999.0000,9,    210.9,2,    211.1,6,    24.30,6,    16.03,6,     0.01,6,     1.16,6, -999.000,9, -999.000,9,   -999.0,9,   -999.0,9,-999.0000,9,  -999.00,  -999.00,9,  -999.00,9,   9.8482,2,     1647
  49RY20120726,   40N,    66,  1,     28,     91,2,20120902,1444, 35.4935, 168.2240, 5613,    474.7,   7.3698,   7.3408,2,  34.0176,2,-999.0000,9,    173.1,2,    174.4,2,    44.25,2,    24.52,2,     0.00,2,     1.79,2, -999.000,9, -999.000,9,   -999.0,9,   -999.0,9,-999.0000,9,  -999.00,  -999.00,9,  -999.00,9,   7.3408,2,     1645
  49RY20120726,   40N,    66,  1,     27,    998,2,20120902,1444, 35.4935, 168.2240, 5613,    575.4,   5.1873,   5.1865,2,  33.9396,2,-999.0000,9,    129.6,2,    129.5,2,    68.33,2,    32.40,2,     0.00,2,     2.36,2, -999.000,9, -999.000,9,   -999.0,9,   -999.0,9,-999.0000,9,  -999.00,  -999.00,9,  -999.00,9,   5.1865,2,     1642
  49RY20120726,   40N,    66,  1,     26,     84,2,20120902,1444, 35.4935, 168.2240, 5613,    676.6,   4.7497,   4.7492,2,  34.0914,2,-999.0000,9,     85.3,2,     85.7,6,    87.55,6,    36.64,6,     0.00,6,     2.65,6, -999.000,9, -999.000,9,   -999.0,9,   -999.0,9,-999.0000,9,  -999.00,  -999.00,9,  -999.00,9,   4.7492,2,     1640
  49RY20120726,   40N,    66,  1,     25,     98,2,20120902,1444, 35.4935, 168.2240, 5613,    778.9,   4.0237,   4.0241,2,  34.1474,2,-999.0000,9,     56.4,2,     56.2,2,   105.44,2,    40.17,2,     0.00,2,     2.88,2, -999.000,9, -999.000,9,   -999.0,9,   -999.0,9,-999.0000,9,  -999.00,  -999.00,9,  -999.00,9,   4.0241,2,     1636
  49RY20120726,   40N,    66,  1,     24,    110,2,20120902,1444, 35.4935, 168.2240, 5613,    879.3,   3.7442,   3.7444,2,  34.2409,2,-999.0000,9,     44.0,2,     43.4,2,   116.69,2,    41.40,2,     0.00,2,     2.96,2, -999.000,9, -999.000,9,   -999.0,9,   -999.0,9,-999.0000,9,  -999.00,  -999.00,9,  -999.00,9,   3.7444,2,     1631
  49RY20120726,   40N,    66,  1,     23,     96,2,20120902,1444, 35.4935, 168.2240, 5613,    979.9,   3.4447,   3.4447,2,  34.3123,2,-999.0000,9,     36.8,2,     36.8,2,   127.34,2,    42.22,2,     0.00,2,     3.02,2, -999.000,9, -999.000,9,   -999.0,9,   -999.0,9,-999.0000,9,  -999.00,  -999.00,9,  -999.00,9,   3.4447,2,     1629
  49RY20120726,   40N,    66,  1,     22,    111,2,20120902,1444, 35.4935, 168.2240, 5613,   1142.5,   3.0617,   3.0609,2,  34.3889,2,-999.0000,9,     33.1,2,     33.0,2,   139.19,2,    42.92,2,     0.00,2,     3.07,2, -999.000,9, -999.000,9,   -999.0,9,   -999.0,9,-999.0000,9,  -999.00,  -999.00,9,  -999.00,9,   3.0609,2,     1625
  49RY20120726,   40N,    66,  1,     21,     78,2,20120902,1444, 35.4935, 168.2240, 5613,   1344.8,   2.6655,   2.6633,2,  34.4617,2,-999.0000,9,     33.9,2,     33.8,2,   150.99,2,    43.27,2,     0.00,2,     3.08,2, -999.000,9, -999.000,9,   -999.0,9,   -999.0,9,-999.0000,9,  -999.00,  -999.00,9,  -999.00,9,   2.6633,2,     1621
  49RY20120726,   40N,    66,  1,     20,     93,2,20120902,1444, 35.4935, 168.2240, 5613,   1547.1,   2.3567,   2.3569,2,  34.5118,2,-999.0000,9,     41.7,2,     41.2,2,   159.05,2,    42.95,2,     0.00,2,     3.05,2, -999.000,9, -999.000,9,   -999.0,9,   -999.0,9,-999.0000,9,  -999.00,  -999.00,9,  -999.00,9,   2.3569,2,     1614
  49RY20120726,   40N,    66,  1,     19,     92,2,20120902,1444, 35.4935, 168.2240, 5613,   1750.3,   2.1468,   2.1467,2,  34.5494,2,-999.0000,9,     52.4,2,     52.0,2,   163.01,2,    42.32,2,     0.00,2,     3.00,2, -999.000,9, -999.000,9,   -999.0,9,   -999.0,9,-999.0000,9,  -999.00,  -999.00,9,  -999.00,9,   2.1467,2,     1610
  49RY20120726,   40N,    66,  1,     18,    101,2,20120902,1444, 35.4935, 168.2240, 5613,   1954.3,   1.9797,   1.9796,2,  34.5814,2,-999.0000,9,     65.3,2,     65.4,2,   164.64,2,    41.54,2,     0.00,2,     2.94,2, -999.000,9, -999.000,9,   -999.0,9,   -999.0,9,-999.0000,9,  -999.00,  -999.00,9,  -999.00,9,   1.9796,2,     1605
  49RY20120726,   40N,    66,  1,     17,     90,2,20120902,1444, 35.4935, 168.2240, 5613,   2156.9,   1.8523,   1.8523,2,  34.6060,2,-999.0000,9,     79.1,2,     78.8,2,   163.17,4,    40.68,2,     0.00,2,     2.88,2, -999.000,9, -999.000,9,   -999.0,9,   -999.0,9,-999.0000,9,  -999.00,  -999.00,9,  -999.00,9,   1.8523,2,     1600
  49RY20120726,   40N,    66,  1,     16,     89,2,20120902,1444, 35.4935, 168.2240, 5613,   2361.3,   1.7423,   1.7423,2,  34.6259,2,-999.0000,9,     93.1,2,     93.0,2,   161.10,4,    39.82,2,     0.00,2,     2.81,2, -999.000,9, -999.000,9,   -999.0,9,   -999.0,9,-999.0000,9,  -999.00,  -999.00,9,  -999.00,9,   1.7423,2,     1556
  49RY20120726,   40N,    66,  1,     14,    999,2,20120902,1444, 35.4935, 168.2240, 5613,   2564.8,   1.6591,   1.6591,2,  34.6402,2,-999.0000,9,    104.9,2,    105.0,2,   159.19,4,    39.09,2,     0.00,2,     2.75,2, -999.000,9, -999.000,9,   -999.0,9,   -999.0,9,-999.0000,9,  -999.00,  -999.00,9,  -999.00,9,   1.6591,2,     1549
  49RY20120726,   40N,    66,  1,     15,     88,2,20120902,1444, 35.4935, 168.2240, 5613,   2565.7,   1.6586,   1.6586,2,  34.6402,2,-999.0000,9,    104.9,2,    104.8,2,   159.18,4,    39.06,2,     0.00,2,     2.75,2, -999.000,9, -999.000,9,   -999.0,9,   -999.0,9,-999.0000,9,  -999.00,  -999.00,9,  -999.00,9,   1.6586,2,     1549
  49RY20120726,   40N,    66,  1,     13,    667,2,20120902,1444, 35.4935, 168.2240, 5613,   2768.5,   1.5900,   1.5901,2,  34.6518,2,-999.0000,9,    115.6,2,    123.0,4,   157.02,4,    38.42,2,     0.00,2,     2.70,2, -999.000,9, -999.000,9,   -999.0,9,   -999.0,9,-999.0000,9,  -999.00,  -999.00,9,  -999.00,9,   1.5901,2,     1545
  49RY20120726,   40N,    66,  1,     12,     74,2,20120902,1444, 35.4935, 168.2240, 5613,   2972.8,   1.5475,   1.5474,2,  34.6607,2,-999.0000,9,    124.8,2,    124.9,2,   154.21,4,    37.85,2,     0.00,2,     2.66,2, -999.000,9, -999.000,9,   -999.0,9,   -999.0,9,-999.0000,9,  -999.00,  -999.00,9,  -999.00,9,   1.5474,2,     1540
  49RY20120726,   40N,    66,  1,     11,    996,2,20120902,1444, 35.4935, 168.2240, 5613,   3218.3,   1.5050,   1.5050,2,  34.6679,2,-999.0000,9,    132.2,2,    132.2,2,   155.20,4,    37.35,2,     0.00,2,     2.61,2, -999.000,9, -999.000,9,   -999.0,9,   -999.0,9,-999.0000,9,  -999.00,  -999.00,9,  -999.00,9,   1.5050,2,     1534
  49RY20120726,   40N,    66,  1,     10,    107,2,20120902,1444, 35.4935, 168.2240, 5613,   3474.2,   1.4761,   1.4761,2,  34.6742,2,-999.0000,9,    139.3,2,    138.6,2,   153.70,4,    36.96,2,     0.00,2,     2.58,2, -999.000,9, -999.000,9,   -999.0,9,   -999.0,9,-999.0000,9,  -999.00,  -999.00,9,  -999.00,9,   1.4761,2,     1529
  49RY20120726,   40N,    66,  1,      9,    108,2,20120902,1444, 35.4935, 168.2240, 5613,   3730.7,   1.4656,   1.4657,2,  34.6783,2,-999.0000,9,    144.3,2,    144.0,2,   152.46,2,    36.59,2,     0.00,2,     2.54,2, -999.000,9, -999.000,9,   -999.0,9,   -999.0,9,-999.0000,9,  -999.00,  -999.00,9,  -999.00,9,   1.4657,2,     1524
  49RY20120726,   40N,    66,  1,      8,     81,2,20120902,1444, 35.4935, 168.2240, 5613,   3986.5,   1.4573,   1.4574,2,  34.6823,2,-999.0000,9,    149.3,2,    148.5,2,   151.11,2,    36.22,2,     0.00,2,     2.52,2, -999.000,9, -999.000,9,   -999.0,9,   -999.0,9,-999.0000,9,  -999.00,  -999.00,9,  -999.00,9,   1.4574,2,     1519
  49RY20120726,   40N,    66,  1,      7,    106,2,20120902,1444, 35.4935, 168.2240, 5613,   4242.7,   1.4593,   1.4593,2,  34.6851,2,-999.0000,9,    153.1,2,    151.8,3,   149.95,6,    36.03,6,     0.00,6,     2.50,6, -999.000,9, -999.000,9,   -999.0,9,   -999.0,9,-999.0000,9,  -999.00,  -999.00,9,  -999.00,9,   1.4593,2,     1514
  49RY20120726,   40N,    66,  1,      6,    113,2,20120902,1444, 35.4935, 168.2240, 5613,   4500.7,   1.4692,   1.4693,2,  34.6873,2,-999.0000,9,    155.6,2,    155.3,2,   149.33,2,    35.81,2,     0.00,2,     2.48,2, -999.000,9, -999.000,9,   -999.0,9,   -999.0,9,-999.0000,9,  -999.00,  -999.00,9,  -999.00,9,   1.4693,2,     1509
  49RY20120726,   40N,    66,  1,      5,     94,3,20120902,1444, 35.4935, 168.2240, 5613,   4757.3,   1.4852,   1.4853,2,  34.6889,2,-999.0000,9,    157.7,2,    157.6,2,   148.74,2,    35.64,2,     0.00,2,     2.48,2, -999.000,9, -999.000,9,   -999.0,9,   -999.0,9,-999.0000,9,  -999.00,  -999.00,9,  -999.00,9,   1.4853,2,     1504
  49RY20120726,   40N,    66,  1,      4,     77,2,20120902,1444, 35.4935, 168.2240, 5613,   5015.2,   1.4923,   1.4924,2,  34.6908,2,-999.0000,9,    162.4,2,    162.4,2,   143.89,2,    35.30,2,     0.00,2,     2.44,2, -999.000,9, -999.000,9,   -999.0,9,   -999.0,9,-999.0000,9,  -999.00,  -999.00,9,  -999.00,9,   1.4924,2,     1459
  49RY20120726,   40N,    66,  1,      3,    104,2,20120902,1444, 35.4935, 168.2240, 5613,   5272.4,   1.4994,   1.4997,2,  34.6930,2,-999.0000,9,    167.0,2,    166.6,2,   139.89,2,    35.00,2,     0.00,2,     2.42,2, -999.000,9, -999.000,9,   -999.0,9,   -999.0,9,-999.0000,9,  -999.00,  -999.00,9,  -999.00,9,   1.4997,2,     1454
  49RY20120726,   40N,    66,  1,      2,     75,2,20120902,1444, 35.4935, 168.2240, 5613,   5530.7,   1.5152,   1.5152,2,  34.6944,2,-999.0000,9,    169.6,2,    169.7,2,   137.75,2,    34.80,2,     0.00,2,     2.40,2, -999.000,9, -999.000,9,   -999.0,9,   -999.0,9,-999.0000,9,  -999.00,  -999.00,9,  -999.00,9,   1.5152,2,     1448
  49RY20120726,   40N,    66,  1,      1,    997,2,20120902,1444, 35.4935, 168.2240, 5613,   5714.9,   1.5272,   1.5270,2,  34.6952,2,-999.0000,9,    171.9,2,    171.7,2,   136.06,2,    34.68,2,     0.00,2,     2.40,2, -999.000,9, -999.000,9,   -999.0,9,   -999.0,9,-999.0000,9,  -999.00,  -999.00,9,  -999.00,9,   1.5270,2,     1444