BOTTLE,20210419PRINUNIVRMK
EXPOCODE,SECT_ID,STNNBR,CASTNO,SAMPNO,BTLNBR,BTLNBR_FLAG_W,DATE,TIME,LATITUDE,LONGITUDE,DEPTH,CTDPRS,CTDTMP,SBE35_FLAG_W,REFTMP,CTDSAL,CTDSAL_FLAG_W,SALNTY,SALNTY_FLAG_W,CTDOXY,CTDOXY_FLAG_W,OXYGEN,OXYGEN_FLAG_W,SILCAT,SILCAT_FLAG_W,NITRAT,NITRAT_FLAG_W,NITRIT,NITRIT_FLAG_W,PHSPHT,PHSPHT_FLAG_W,TCARBN,TCARBN_FLAG_W,ALKALI,ALKALI_FLAG_W,DELC14,DELC14_FLAG_W,C14ERR,DELC13,DELC13_FLAG_W,SBE35_FLAG_W
,,,,,,,,,,,METERS,DBAR,ITS-90,,,PSS-78,,PSS-78,,UMOL/KG,,UMOL/KG,,UMOL/KG,,UMOL/KG,,UMOL/KG,,UMOL/KG,,UMOL/KG,,UMOL/KG,,/MILLE,,/MILLE,/MILLE,,
  74JC20181103, SR01b,    50,  1,      1,      1,2,20181117,1931,-58.6833, -56.0541, 3752,   1719.7,   0.8849,2,   0.8848,  34.7089,2,-999.0000,9,    202.8,2,    203.1,2,  -999.00,9,  -999.00,9,  -999.00,9,  -999.00,9,   -999.0,9,   -999.0,9,   -999.0,9,   -999.0,  -999.00,9,2
  74JC20181103, SR01b,    50,  1,      2,      2,2,20181117,1931,-58.6833, -56.0541, 3752,   1721.8,   0.8846,2,   0.8838,  34.7088,2,-999.0000,9,    203.0,2,    202.2,2,  -999.00,9,  -999.00,9,  -999.00,9,  -999.00,9,   -999.0,9,   -999.0,9,   -999.0,9,   -999.0,  -999.00,9,2
  74JC20181103, SR01b,    50,  1,      3,      3,2,20181117,1931,-58.6833, -56.0541, 3752,   1722.2,   0.8845,2,   0.8840,  34.7090,2,-999.0000,9,    202.8,2,    201.9,2,  -999.00,9,  -999.00,9,  -999.00,9,  -999.00,9,   -999.0,9,   -999.0,9,   -999.0,9,   -999.0,  -999.00,9,2
  74JC20181103, SR01b,    50,  1,      4,      4,2,20181117,1931,-58.6833, -56.0541, 3752,   1722.6,   0.8833,2,   0.8829,  34.7089,2,-999.0000,9,    203.0,2,    212.3,2,  -999.00,9,  -999.00,9,  -999.00,9,  -999.00,9,   -999.0,9,   -999.0,9,   -999.0,9,   -999.0,  -999.00,9,2
  74JC20181103, SR01b,    50,  1,      5,      5,2,20181117,1931,-58.6833, -56.0541, 3752,   1722.1,   0.8830,2,   0.8833,  34.7090,2,-999.0000,9,    202.7,2,    202.2,2,  -999.00,9,  -999.00,9,  -999.00,9,  -999.00,9,   -999.0,9,   -999.0,9,   -999.0,9,   -999.0,  -999.00,9,2
  74JC20181103, SR01b,    50,  1,      6,      6,2,20181117,1931,-58.6833, -56.0541, 3752,   1722.1,   0.8827,2,   0.8824,  34.7090,2,-999.0000,9,    203.0,2,    202.6,2,  -999.00,9,  -999.00,9,  -999.00,9,  -999.00,9,   -999.0,9,   -999.0,9,   -999.0,9,   -999.0,  -999.00,9,2
  74JC20181103, SR01b,    50,  1,      7,      7,2,20181117,1931,-58.6833, -56.0541, 3752,   1719.8,   0.8823,2,   0.8818,  34.7089,2,-999.0000,9,    202.5,2,    202.6,2,  -999.00,9,  -999.00,9,  -999.00,9,  -999.00,9,   -999.0,9,   -999.0,9,   -999.0,9,   -999.0,  -999.00,9,2
  74JC20181103, SR01b,    50,  1,      8,      8,2,20181117,1931,-58.6833, -56.0541, 3752,   1720.3,   0.8816,2,   0.8813,  34.7090,2,-999.0000,9,    202.8,2,    202.4,2,  -999.00,9,  -999.00,9,  -999.00,9,  -999.00,9,   -999.0,9,   -999.0,9,   -999.0,9,   -999.0,  -999.00,9,2
  74JC20181103, SR01b,    50,  1,      9,      9,2,20181117,1931,-58.6833, -56.0541, 3752,   1724.0,   0.8811,2,   0.8809,  34.7089,2,-999.0000,9,    203.0,2,    202.3,2,  -999.00,9,  -999.00,9,  -999.00,9,  -999.00,9,   -999.0,9,   -999.0,9,   -999.0,9,   -999.0,  -999.00,9,2
  74JC20181103, SR01b,    50,  1,     10,     10,2,20181117,1931,-58.6833, -56.0541, 3752,   1721.5,   0.8810,2,   0.8810,  34.7089,2,-999.0000,9,    202.7,2,    202.9,2,  -999.00,9,  -999.00,9,  -999.00,9,  -999.00,9,   -999.0,9,   -999.0,9,   -999.0,9,   -999.0,  -999.00,9,2
  74JC20181103, SR01b,    50,  1,     11,     11,2,20181117,1931,-58.6833, -56.0541, 3752,   1721.1,   0.8813,2,   0.8808,  34.7088,2,-999.0000,9,    202.5,2,    203.0,2,  -999.00,9,  -999.00,9,  -999.00,9,  -999.00,9,   -999.0,9,   -999.0,9,   -999.0,9,   -999.0,  -999.00,9,2
  74JC20181103, SR01b,    50,  1,     12,     12,2,20181117,1931,-58.6833, -56.0541, 3752,   1722.1,   0.8816,2,   0.8809,  34.7090,2,-999.0000,9,    202.9,2,    200.0,2,  -999.00,9,  -999.00,9,  -999.00,9,  -999.00,9,   -999.0,9,   -999.0,9,   -999.0,9,   -999.0,  -999.00,9,2
  74JC20181103, SR01b,    50,  1,     13,     13,2,20181117,1931,-58.6833, -56.0541, 3752,   1723.4,   0.8816,2,   0.8812,  34.7090,2,-999.0000,9,    203.0,2,    202.3,2,  -999.00,9,  -999.00,9,  -999.00,9,  -999.00,9,   -999.0,9,   -999.0,9,   -999.0,9,   -999.0,  -999.00,9,2
  74JC20181103, SR01b,    50,  1,     14,     14,2,20181117,1931,-58.6833, -56.0541, 3752,   1723.0,   0.8817,2,   0.8815,  34.7089,2,-999.0000,9,    202.9,2,    204.6,2,  -999.00,9,  -999.00,9,  -999.00,9,  -999.00,9,   -999.0,9,   -999.0,9,   -999.0,9,   -999.0,  -999.00,9,2
  74JC20181103, SR01b,    50,  1,     15,     15,3,20181117,1931,-58.6833, -56.0541, 3752,   1722.0,   0.8816,2,   0.8810,  34.7089,2,-999.0000,9,    202.9,2,    200.1,3,  -999.00,9,  -999.00,9,  -999.00,9,  -999.00,9,   -999.0,9,   -999.0,9,   -999.0,9,   -999.0,  -999.00,9,2
  74JC20181103, SR01b,    50,  1,     16,     16,2,20181117,1931,-58.6833, -56.0541, 3752,   1722.8,   0.8816,2,   0.8814,  34.7091,2,-999.0000,9,    202.9,2,    199.2,2,  -999.00,9,  -999.00,9,  -999.00,9,  -999.00,9,   -999.0,9,   -999.0,9,   -999.0,9,   -999.0,  -999.00,9,2
  74JC20181103, SR01b,    50,  1,     17,     17,2,20181117,1931,-58.6833, -56.0541, 3752,   1721.7,   0.8814,2,   0.8812,  34.7090,2,-999.0000,9,    203.0,2,    202.4,2,  -999.00,9,  -999.00,9,  -999.00,9,  -999.00,9,   -999.0,9,   -999.0,9,   -999.0,9,   -999.0,  -999.00,9,2
  74JC20181103, SR01b,    50,  1,     18,     18,2,20181117,1931,-58.6833, -56.0541, 3752,   1722.3,   0.8815,2,   0.8809,  34.7090,2,-999.0000,9,    203.0,2,    196.8,2,  -999.00,9,  -999.00,9,  -999.00,9,  -999.00,9,   -999.0,9,   -999.0,9,   -999.0,9,   -999.0,  -999.00,9,2
  74JC20181103, SR01b,    50,  1,     19,     26,2,20181117,1931,-58.6833, -56.0541, 3752,   1723.2,   0.8811,2,   0.8810,  34.7090,2,-999.0000,9,    203.2,2,    202.7,2,  -999.00,9,  -999.00,9,  -999.00,9,  -999.00,9,   -999.0,9,   -999.0,9,   -999.0,9,   -999.0,  -999.00,9,2
  74JC20181103, SR01b,    50,  1,     20,     20,2,20181117,1931,-58.6833, -56.0541, 3752,   1722.8,   0.8804,2,   0.8805,  34.7090,2,-999.0000,9,    202.8,2,    201.7,2,  -999.00,9,  -999.00,9,  -999.00,9,  -999.00,9,   -999.0,9,   -999.0,9,   -999.0,9,   -999.0,  -999.00,9,2
  74JC20181103, SR01b,    50,  1,     21,     21,2,20181117,1931,-58.6833, -56.0541, 3752,   1722.1,   0.8805,2,   0.8806,  34.7091,2,-999.0000,9,    203.3,2,    202.5,2,  -999.00,9,  -999.00,9,  -999.00,9,  -999.00,9,   -999.0,9,   -999.0,9,   -999.0,9,   -999.0,  -999.00,9,2
  74JC20181103, SR01b,    50,  1,     22,     22,2,20181117,1931,-58.6833, -56.0541, 3752,   1722.4,   0.8804,2,   0.8810,  34.7090,2,-999.0000,9,    202.9,2,    202.9,2,  -999.00,9,  -999.00,9,  -999.00,9,  -999.00,9,   -999.0,9,   -999.0,9,   -999.0,9,   -999.0,  -999.00,9,2
  74JC20181103, SR01b,    50,  1,     23,     23,2,20181117,1931,-58.6833, -56.0541, 3752,   1723.1,   0.8811,2,   0.8803,  34.7091,2,-999.0000,9,    203.0,2,    202.1,2,  -999.00,9,  -999.00,9,  -999.00,9,  -999.00,9,   -999.0,9,   -999.0,9,   -999.0,9,   -999.0,  -999.00,9,2
  74JC20181103, SR01b,    50,  1,     24,     24,2,20181117,1931,-58.6833, -56.0541, 3752,   1721.7,   0.8804,2,   0.8803,  34.7091,2,-999.0000,9,    202.7,2,    202.1,2,  -999.00,9,  -999.00,9,  -999.00,9,  -999.00,9,   -999.0,9,   -999.0,9,   -999.0,9,   -999.0,  -999.00,9,2
  74JC20181103, SR01b,    51,  1,      1,      1,2,20181117,2256,-58.6834, -56.0541, 3752,   3811.0,  -0.0221,2,  -0.0222,  34.6545,2,-999.0000,9,    234.9,2,   -999.0,9,  -999.00,9,  -999.00,9,  -999.00,9,  -999.00,9,   -999.0,9,   -999.0,9,   -999.0,9,   -999.0,  -999.00,9,2
  74JC20181103, SR01b,    51,  1,      2,      2,2,20181117,2256,-58.6834, -56.0541, 3752,   3811.6,  -0.0222,2,  -0.0220,  34.6543,2,-999.0000,9,    235.1,2,   -999.0,9,  -999.00,9,  -999.00,9,  -999.00,9,  -999.00,9,   -999.0,9,   -999.0,9,   -999.0,9,   -999.0,  -999.00,9,2
  74JC20181103, SR01b,    51,  1,      3,      3,2,20181117,2256,-58.6834, -56.0541, 3752,   3809.5,  -0.0220,2,  -0.0221,  34.6545,2,-999.0000,9,    234.1,2,   -999.0,9,  -999.00,9,  -999.00,9,  -999.00,9,  -999.00,9,   -999.0,9,   -999.0,9,   -999.0,9,   -999.0,  -999.00,9,2
  74JC20181103, SR01b,    51,  1,      4,      4,2,20181117,2256,-58.6834, -56.0541, 3752,   3811.4,  -0.0222,2,  -0.0223,  34.6544,2,-999.0000,9,    234.9,2,   -999.0,9,  -999.00,9,  -999.00,9,  -999.00,9,  -999.00,9,   -999.0,9,   -999.0,9,   -999.0,9,   -999.0,  -999.00,9,2
  74JC20181103, SR01b,    51,  1,      5,      5,2,20181117,2256,-58.6834, -56.0541, 3752,   3810.0,  -0.0220,2,  -0.0221,  34.6544,2,-999.0000,9,    234.7,2,   -999.0,9,  -999.00,9,  -999.00,9,  -999.00,9,  -999.00,9,   -999.0,9,   -999.0,9,   -999.0,9,   -999.0,  -999.00,9,2
  74JC20181103, SR01b,    51,  1,      6,      6,2,20181117,2256,-58.6834, -56.0541, 3752,   3810.7,  -0.0221,2,  -0.0218,  34.6545,2,-999.0000,9,    235.2,2,   -999.0,9,  -999.00,9,  -999.00,9,  -999.00,9,  -999.00,9,   -999.0,9,   -999.0,9,   -999.0,9,   -999.0,  -999.00,9,2
  74JC20181103, SR01b,    51,  1,      7,      7,2,20181117,2256,-58.6834, -56.0541, 3752,   3812.2,  -0.0216,2,  -0.0215,  34.6544,2,-999.0000,9,    235.2,2,   -999.0,9,  -999.00,9,  -999.00,9,  -999.00,9,  -999.00,9,   -999.0,9,   -999.0,9,   -999.0,9,   -999.0,  -999.00,9,2
  74JC20181103, SR01b,    51,  1,      8,      8,2,20181117,2256,-58.6834, -56.0541, 3752,   3811.4,  -0.0212,2,  -0.0212,  34.6544,2,-999.0000,9,    235.1,2,   -999.0,9,  -999.00,9,  -999.00,9,  -999.00,9,  -999.00,9,   -999.0,9,   -999.0,9,   -999.0,9,   -999.0,  -999.00,9,2
  74JC20181103, SR01b,    51,  1,      9,      9,2,20181117,2256,-58.6834, -56.0541, 3752,   3809.2,  -0.0215,2,  -0.0213,  34.6544,2,-999.0000,9,    235.0,2,   -999.0,9,  -999.00,9,  -999.00,9,  -999.00,9,  -999.00,9,   -999.0,9,   -999.0,9,   -999.0,9,   -999.0,  -999.00,9,2
  74JC20181103, SR01b,    51,  1,     10,     10,2,20181117,2256,-58.6834, -56.0541, 3752,   3660.4,  -0.0091,2,  -0.0090,  34.6553,2,-999.0000,9,    233.6,2,   -999.0,9,  -999.00,9,  -999.00,9,  -999.00,9,  -999.00,9,   -999.0,9,   -999.0,9,   -999.0,9,   -999.0,  -999.00,9,2
  74JC20181103, SR01b,    51,  1,     11,     11,2,20181117,2256,-58.6834, -56.0541, 3752,   3661.2,  -0.0089,2,  -0.0091,  34.6554,2,-999.0000,9,    233.9,2,   -999.0,9,  -999.00,9,  -999.00,9,  -999.00,9,  -999.00,9,   -999.0,9,   -999.0,9,   -999.0,9,   -999.0,  -999.00,9,2
  74JC20181103, SR01b,    51,  1,     12,     12,2,20181117,2256,-58.6834, -56.0541, 3752,   3660.6,  -0.0091,2,  -0.0092,  34.6554,2,-999.0000,9,    233.8,2,   -999.0,9,  -999.00,9,  -999.00,9,  -999.00,9,  -999.00,9,   -999.0,9,   -999.0,9,   -999.0,9,   -999.0,  -999.00,9,2
  74JC20181103, SR01b,    51,  1,     13,     13,2,20181117,2256,-58.6834, -56.0541, 3752,   3663.1,  -0.0091,2,  -0.0091,  34.6554,2,-999.0000,9,    234.3,2,   -999.0,9,  -999.00,9,  -999.00,9,  -999.00,9,  -999.00,9,   -999.0,9,   -999.0,9,   -999.0,9,   -999.0,  -999.00,9,2
  74JC20181103, SR01b,    51,  1,     14,     14,2,20181117,2256,-58.6834, -56.0541, 3752,   3662.1,  -0.0091,2,  -0.0090,  34.6554,2,-999.0000,9,    233.7,2,   -999.0,9,  -999.00,9,  -999.00,9,  -999.00,9,  -999.00,9,   -999.0,9,   -999.0,9,   -999.0,9,   -999.0,  -999.00,9,2
  74JC20181103, SR01b,    51,  1,     15,     15,2,20181117,2256,-58.6834, -56.0541, 3752,   3660.3,  -0.0088,2,  -0.0089,  34.6555,2,-999.0000,9,    233.8,2,   -999.0,9,  -999.00,9,  -999.00,9,  -999.00,9,  -999.00,9,   -999.0,9,   -999.0,9,   -999.0,9,   -999.0,  -999.00,9,2
  74JC20181103, SR01b,    51,  1,     16,     16,2,20181117,2256,-58.6834, -56.0541, 3752,   3660.9,  -0.0093,2,  -0.0091,  34.6554,2,-999.0000,9,    233.8,2,   -999.0,9,  -999.00,9,  -999.00,9,  -999.00,9,  -999.00,9,   -999.0,9,   -999.0,9,   -999.0,9,   -999.0,  -999.00,9,2
  74JC20181103, SR01b,    51,  1,     17,     17,2,20181117,2256,-58.6834, -56.0541, 3752,   3659.5,  -0.0093,2,  -0.0093,  34.6554,2,-999.0000,9,    233.3,2,   -999.0,9,  -999.00,9,  -999.00,9,  -999.00,9,  -999.00,9,   -999.0,9,   -999.0,9,   -999.0,9,   -999.0,  -999.00,9,2
  74JC20181103, SR01b,    51,  1,     18,     18,2,20181117,2256,-58.6834, -56.0541, 3752,   3661.2,  -0.0097,2,  -0.0094,  34.6555,2,-999.0000,9,    233.6,2,   -999.0,9,  -999.00,9,  -999.00,9,  -999.00,9,  -999.00,9,   -999.0,9,   -999.0,9,   -999.0,9,   -999.0,  -999.00,9,2
  74JC20181103, SR01b,    51,  1,     19,     26,2,20181117,2256,-58.6834, -56.0541, 3752,   3516.8,   0.0121,2,   0.0122,  34.6567,2,-999.0000,9,    232.6,2,   -999.0,9,  -999.00,9,  -999.00,9,  -999.00,9,  -999.00,9,   -999.0,9,   -999.0,9,   -999.0,9,   -999.0,  -999.00,9,2
  74JC20181103, SR01b,    51,  1,     20,     20,2,20181117,2256,-58.6834, -56.0541, 3752,   3516.9,   0.0122,2,   0.0125,  34.6565,2,-999.0000,9,    232.7,2,   -999.0,9,  -999.00,9,  -999.00,9,  -999.00,9,  -999.00,9,   -999.0,9,   -999.0,9,   -999.0,9,   -999.0,  -999.00,9,2
  74JC20181103, SR01b,    51,  1,     21,     21,2,20181117,2256,-58.6834, -56.0541, 3752,   3518.7,   0.0121,2,   0.0125,  34.6566,2,-999.0000,9,    233.0,2,   -999.0,9,  -999.00,9,  -999.00,9,  -999.00,9,  -999.00,9,   -999.0,9,   -999.0,9,   -999.0,9,   -999.0,  -999.00,9,2
  74JC20181103, SR01b,    51,  1,     22,     22,2,20181117,2256,-58.6834, -56.0541, 3752,   3518.4,   0.0129,2,   0.0129,  34.6566,2,-999.0000,9,    232.6,2,   -999.0,9,  -999.00,9,  -999.00,9,  -999.00,9,  -999.00,9,   -999.0,9,   -999.0,9,   -999.0,9,   -999.0,  -999.00,9,2
  74JC20181103, SR01b,    51,  1,     23,     23,2,20181117,2256,-58.6834, -56.0541, 3752,   3517.4,   0.0127,2,   0.0129,  34.6567,2,-999.0000,9,    232.1,2,   -999.0,9,  -999.00,9,  -999.00,9,  -999.00,9,  -999.00,9,   -999.0,9,   -999.0,9,   -999.0,9,   -999.0,  -999.00,9,2
  74JC20181103, SR01b,    51,  1,     24,     24,2,20181117,2256,-58.6834, -56.0541, 3752,   3516.9,   0.0125,2,   0.0130,  34.6566,2,-999.0000,9,    232.8,2,   -999.0,9,  -999.00,9,  -999.00,9,  -999.00,9,  -999.00,9,   -999.0,9,   -999.0,9,   -999.0,9,   -999.0,  -999.00,9,2