BOTTLE,20210419PRINUNIVRMK
EXPOCODE,SECT_ID,STNNBR,CASTNO,SAMPNO,BTLNBR,BTLNBR_FLAG_W,DATE,TIME,LATITUDE,LONGITUDE,DEPTH,CTDPRS,CTDTMP,SBE35_FLAG_W,REFTMP,CTDSAL,CTDSAL_FLAG_W,SALNTY,SALNTY_FLAG_W,CTDOXY,CTDOXY_FLAG_W,OXYGEN,OXYGEN_FLAG_W,SILCAT,SILCAT_FLAG_W,NITRAT,NITRAT_FLAG_W,NITRIT,NITRIT_FLAG_W,PHSPHT,PHSPHT_FLAG_W,TCARBN,TCARBN_FLAG_W,ALKALI,ALKALI_FLAG_W,DELC14,DELC14_FLAG_W,C14ERR,DELC13,DELC13_FLAG_W,SBE35_FLAG_W
,,,,,,,,,,,METERS,DBAR,ITS-90,,,PSS-78,,PSS-78,,UMOL/KG,,UMOL/KG,,UMOL/KG,,UMOL/KG,,UMOL/KG,,UMOL/KG,,UMOL/KG,,UMOL/KG,,/MILLE,,/MILLE,/MILLE,,
  74JC20181103, SR01b,    31,  1,      1,      1,2,20181114,1725,-60.7995, -54.7426, 2607,   2626.9,  -0.0241,2,  -0.0252,  34.6595,2,  34.6579,2,    230.0,2,    230.2,2,   117.55,2,    32.77,2,     0.01,2,     2.30,2,   2254.8,6,   2353.6,6,   -999.0,9,   -999.0,  -999.00,9,2
  74JC20181103, SR01b,    31,  1,      2,      2,2,20181114,1725,-60.7995, -54.7426, 2607,   2585.6,  -0.0300,2,  -0.0292,  34.6592,2,  34.6574,2,    230.2,2,    229.5,2,   117.58,2,    32.79,2,     0.02,2,     2.31,2,   2254.5,2,   2352.2,2,   -999.0,9,   -999.0,  -999.00,9,2
  74JC20181103, SR01b,    31,  1,      3,      3,2,20181114,1725,-60.7995, -54.7426, 2607,   2282.3,   0.0092,2,   0.0091,  34.6618,2,  34.6594,2,    228.2,2,    227.8,2,   117.48,2,    32.83,2,     0.01,2,     2.30,2,   2257.9,2,   2351.8,2,   -999.0,9,   -999.0,  -999.00,9,2
  74JC20181103, SR01b,    31,  1,      4,      4,2,20181114,1725,-60.7995, -54.7426, 2607,   2028.4,   0.1434,2,   0.1444,  34.6720,2,  34.6745,2,    223.1,2,    221.8,2,   120.21,2,    32.81,2,     0.01,2,     2.30,2,   2259.6,2,   2354.0,2,   -999.0,9,   -999.0,  -999.00,9,2
  74JC20181103, SR01b,    31,  1,      5,      5,2,20181114,1725,-60.7995, -54.7426, 2607,   1773.1,   0.2630,2,   0.2619,  34.6796,2,  34.7012,2,    218.9,2,    217.8,2,   121.82,2,    32.84,2,     0.02,2,     2.30,2,   2261.1,2,   2356.0,2,   -999.0,9,   -999.0,  -999.00,9,2
  74JC20181103, SR01b,    31,  1,      6,      6,2,20181114,1725,-60.7995, -54.7426, 2607,   1519.5,   0.2418,2,   0.2420,  34.6691,2,  34.6868,2,    222.1,2,    221.2,2,   116.91,2,    32.67,2,     0.02,2,     2.28,2,   2257.2,2,   2354.3,2,   -999.0,9,   -999.0,  -999.00,9,2
  74JC20181103, SR01b,    31,  1,      7,      7,4,20181114,1725,-60.7995, -54.7426, 2607,   1266.9,   0.4060,2,   0.4059,  34.6775,2,-999.0000,9,    217.8,2,   -999.0,9,  -999.00,9,  -999.00,9,  -999.00,9,  -999.00,9,   -999.0,9,   -999.0,9,   -999.0,9,   -999.0,  -999.00,9,2
  74JC20181103, SR01b,    31,  1,      8,      8,2,20181114,1725,-60.7995, -54.7426, 2607,   1062.4,   0.4738,2,   0.4620,  34.6735,2,  34.7099,2,    218.5,2,    217.9,2,   111.90,2,    32.47,2,     0.02,2,     2.27,2,   2259.0,2,   2352.6,2,   -999.0,9,   -999.0,  -999.00,9,2
  74JC20181103, SR01b,    31,  1,      9,      9,3,20181114,1725,-60.7995, -54.7426, 2607,    971.4,   0.0735,2,   0.0762,  34.6245,2,  34.7055,3,    238.0,2,    236.4,3,   102.30,3,    32.26,3,     0.03,3,     2.25,3,   2250.4,3,   2349.3,3,   -999.0,9,   -999.0,  -999.00,9,2
  74JC20181103, SR01b,    31,  1,     10,     10,2,20181114,1725,-60.7995, -54.7426, 2607,    870.9,   0.6926,2,   0.6839,  34.6764,2,  34.6659,2,    215.2,2,    219.5,2,   108.82,2,    32.45,2,     0.02,2,     2.26,2,   2256.6,2,   2354.2,2,   -999.0,9,   -999.0,  -999.00,9,2
  74JC20181103, SR01b,    31,  1,     11,     11,2,20181114,1725,-60.7995, -54.7426, 2607,    730.1,   1.1253,2,   1.1229,  34.7082,2,  34.7064,2,    201.3,2,    199.8,2,   103.63,2,    32.28,2,     0.02,2,     2.25,2,   2257.7,2,   2356.4,2,   -999.0,9,   -999.0,  -999.00,9,2
  74JC20181103, SR01b,    31,  1,     12,     12,2,20181114,1725,-60.7995, -54.7426, 2607,    608.5,   1.2272,2,   1.2266,  34.6977,2,  34.6970,2,    200.6,2,    199.7,2,    97.42,2,    32.26,2,     0.02,2,     2.24,2,   2254.9,2,   2352.4,2,   -999.0,9,   -999.0,  -999.00,9,2
  74JC20181103, SR01b,    31,  1,     13,     13,2,20181114,1725,-60.7995, -54.7426, 2607,    607.9,   1.2234,2,   1.2230,  34.6974,2,  34.6914,2,    201.2,2,    199.2,2,    97.44,2,    32.30,2,     0.01,2,     2.24,2,   -999.0,9,   -999.0,9,   -999.0,9,   -999.0,  -999.00,9,2
  74JC20181103, SR01b,    31,  1,     14,     14,2,20181114,1725,-60.7995, -54.7426, 2607,    517.8,   1.4490,2,   1.4094,  34.7106,2,  34.6467,2,    193.1,2,    191.6,2,    96.03,2,    32.30,2,     0.02,2,     2.24,2,   2256.9,6,   2351.5,6,   -999.0,9,   -999.0,  -999.00,9,2
  74JC20181103, SR01b,    31,  1,     15,     15,2,20181114,1725,-60.7995, -54.7426, 2607,    377.1,   1.2954,2,   1.3110,  34.6572,2,  34.6561,2,    202.4,2,    201.7,2,    88.89,2,    32.60,2,     0.02,2,     2.25,2,   2252.7,2,   2344.4,2,   -999.0,9,   -999.0,  -999.00,9,2
  74JC20181103, SR01b,    31,  1,     16,     16,2,20181114,1725,-60.7995, -54.7426, 2607,    256.4,   0.3679,2,   0.3626,  34.5102,2,  34.6044,2,    249.6,2,    248.9,2,    83.61,2,    32.50,2,     0.06,2,     2.25,2,   2245.8,2,   2332.1,2,   -999.0,9,   -999.0,  -999.00,9,2
  74JC20181103, SR01b,    31,  1,     17,     17,2,20181114,1725,-60.7995, -54.7426, 2607,    215.2,   0.8355,2,   0.8223,  34.5325,2,  34.5782,2,    229.7,2,    228.6,2,    82.10,2,    33.02,2,     0.06,2,     2.28,2,   2244.9,2,   2333.0,2,   -999.0,9,   -999.0,  -999.00,9,2
  74JC20181103, SR01b,    31,  1,     18,     18,2,20181114,1725,-60.7995, -54.7426, 2607,    164.5,   0.0584,2,   0.0334,  34.4436,2,  34.4271,2,    274.4,2,    273.1,2,    81.19,2,    32.27,2,     0.09,2,     2.24,2,   2237.1,2,   2327.1,2,   -999.0,9,   -999.0,  -999.00,9,2
  74JC20181103, SR01b,    31,  1,     19,     25,2,20181114,1725,-60.7995, -54.7426, 2607,    105.9,  -0.1656,2,  -0.1609,  34.3475,2,  34.3474,2,    313.1,2,    307.6,2,    76.99,2,    30.96,2,     0.11,2,     2.15,2,   -999.0,9,   -999.0,9,   -999.0,9,   -999.0,  -999.00,9,2
  74JC20181103, SR01b,    31,  1,     20,     20,2,20181114,1725,-60.7995, -54.7426, 2607,    106.3,  -0.1745,2,  -0.1721,  34.3455,2,  34.1745,2,    313.3,2,    313.3,2,    77.16,2,    30.89,2,     0.12,2,     2.15,2,   -999.0,9,   -999.0,9,   -999.0,9,   -999.0,  -999.00,9,2
  74JC20181103, SR01b,    31,  1,     21,     21,4,20181114,1725,-60.7995, -54.7426, 2607,     70.8,  -0.1226,2,  -0.1224,  34.3368,2,  34.3360,4,    313.2,2,   -999.0,9,  -999.00,9,  -999.00,9,  -999.00,9,  -999.00,9,   2223.7,4,   -999.0,9,   -999.0,9,   -999.0,  -999.00,9,2
  74JC20181103, SR01b,    31,  1,     22,     22,2,20181114,1725,-60.7995, -54.7426, 2607,     70.1,  -0.1221,2,  -0.1221,  34.3368,2,  34.0527,2,    312.7,2,    318.2,3,    76.16,2,    30.94,2,     0.11,2,     2.15,2,   -999.0,9,   -999.0,9,   -999.0,9,   -999.0,  -999.00,9,2
  74JC20181103, SR01b,    31,  1,     23,     23,2,20181114,1725,-60.7995, -54.7426, 2607,     10.6,  -0.2177,2,  -0.2081,  34.2006,2,  34.0442,2,    329.0,2,    329.6,2,    67.34,2,    29.97,2,     0.13,2,     2.07,2,   2207.5,2,   2305.5,2,   -999.0,9,   -999.0,  -999.00,9,2
  74JC20181103, SR01b,    31,  1,     24,     24,2,20181114,1725,-60.7995, -54.7426, 2607,      9.8,  -0.2051,2,  -0.2009,  34.1955,2,  34.1798,2,    329.0,2,    333.4,2,    66.87,2,    29.78,2,     0.14,2,     2.05,2,   -999.0,9,   -999.0,9,   -999.0,9,   -999.0,  -999.00,9,2
  74JC20181103, SR01b,    32,  1,      1,      1,2,20181114,2119,-60.6667, -54.8248, 3104,   3146.5,  -0.1090,2,  -0.1091,  34.6546,2,  34.6558,2,    234.2,2,    234.5,2,   118.10,2,    32.52,2,     0.02,2,     2.29,2,   2251.5,6,   2348.7,6,   -152.7,2,      1.8,     0.43,2,2
  74JC20181103, SR01b,    32,  1,      2,      2,2,20181114,2119,-60.6667, -54.8248, 3104,   3106.6,  -0.1075,2,  -0.1076,  34.6549,2,  34.6533,2,    234.6,2,    233.3,2,   118.23,2,    32.49,2,     0.02,2,     2.29,2,   2255.7,2,   2351.4,2,   -999.0,9,   -999.0,  -999.00,9,2
  74JC20181103, SR01b,    32,  1,      3,      3,2,20181114,2119,-60.6667, -54.8248, 3104,   2778.3,  -0.0163,2,  -0.0161,  34.6590,2,  34.6585,2,    230.4,2,    229.5,2,   118.10,2,    32.49,2,     0.01,2,     2.30,2,   2253.2,2,   2347.2,2,   -154.9,2,      1.6,     0.47,2,2
  74JC20181103, SR01b,    32,  1,      4,      4,2,20181114,2119,-60.6667, -54.8248, 3104,   2526.1,   0.0461,2,   0.0475,  34.6628,2,  34.6619,2,    227.9,2,    226.7,2,   118.24,2,    32.51,2,     0.02,2,     2.29,2,   2257.2,2,   2349.3,2,   -156.0,2,      2.1,     0.47,2,2
  74JC20181103, SR01b,    32,  1,      5,      5,2,20181114,2119,-60.6667, -54.8248, 3104,   2272.4,   0.1188,2,   0.1190,  34.6677,2,  34.6677,2,    224.7,2,    223.2,2,   119.44,2,    32.50,2,     0.02,2,     2.29,2,   2256.1,6,   2351.1,2,   -159.0,2,      1.7,     0.43,2,2
  74JC20181103, SR01b,    32,  1,      6,      6,2,20181114,2119,-60.6667, -54.8248, 3104,   2017.5,   0.3390,2,   0.3464,  34.6894,2,  34.6905,2,    215.1,2,    214.0,2,   127.53,2,    32.64,2,     0.02,2,     2.29,2,   2261.1,2,   2354.0,2,   -162.0,2,      1.8,     0.38,2,2
  74JC20181103, SR01b,    32,  1,      7,      7,3,20181114,2119,-60.6667, -54.8248, 3104,   1765.0,   0.4435,2,   0.4449,  34.6957,2,  34.6956,3,    211.7,2,    211.6,3,   127.41,3,    32.54,3,     0.01,3,     2.28,3,   2261.1,2,   2358.9,3,   -162.0,2,      1.7,     0.42,2,2
  74JC20181103, SR01b,    32,  1,      8,      8,2,20181114,2119,-60.6667, -54.8248, 3104,   1554.6,   0.5460,2,   0.5460,  34.7046,2,  34.6969,2,    208.0,2,    208.7,2,   119.19,2,    32.42,2,     0.02,2,     2.27,2,   2257.4,6,   2358.5,6,   -165.1,2,      1.8,     0.41,2,2
  74JC20181103, SR01b,    32,  1,      9,      9,2,20181114,2119,-60.6667, -54.8248, 3104,   1260.1,   0.6185,2,   0.6187,  34.6946,2,  34.6956,2,    210.5,2,    209.0,2,   118.56,2,    32.43,2,     0.01,2,     2.28,2,   2258.5,2,   2365.9,3,   -156.8,2,      1.8,     0.38,2,2
  74JC20181103, SR01b,    32,  1,     10,     10,2,20181114,2119,-60.6667, -54.8248, 3104,   1009.2,   0.7152,2,   0.7154,  34.6868,2,-999.0000,9,    211.2,2,   -999.0,9,  -999.00,9,  -999.00,9,  -999.00,9,  -999.00,9,   -999.0,9,   -999.0,9,   -999.0,9,   -999.0,  -999.00,9,2
  74JC20181103, SR01b,    32,  1,     11,     11,2,20181114,2119,-60.6667, -54.8248, 3104,    883.6,   0.6959,2,   0.6951,  34.6751,2,  34.6741,2,    214.4,2,    213.7,3,   106.17,2,    32.31,2,     0.02,2,     2.25,2,   2260.3,2,   2307.5,3,   -158.3,2,      2.0,     0.41,2,2
  74JC20181103, SR01b,    32,  1,     12,     12,3,20181114,2119,-60.6667, -54.8248, 3104,    883.0,   0.6939,2,   0.6932,  34.6749,2,-999.0000,9,    214.6,2,   -999.0,9,  -999.00,9,  -999.00,9,  -999.00,9,  -999.00,9,   -999.0,9,   -999.0,9,   -999.0,9,   -999.0,  -999.00,9,2
  74JC20181103, SR01b,    32,  1,     13,     13,2,20181114,2119,-60.6667, -54.8248, 3104,    768.0,   0.5961,2,   0.5961,  34.6524,2,  34.6530,2,    220.6,2,    219.1,2,   101.23,2,    32.24,2,     0.02,2,     2.24,2,   2254.0,2,   2360.5,3,   -156.9,2,      1.9,     0.44,2,2
  74JC20181103, SR01b,    32,  1,     14,     14,2,20181114,2119,-60.6667, -54.8248, 3104,    633.2,   0.5099,2,   0.5094,  34.6308,2,  34.6319,2,    226.1,2,    224.9,2,    97.09,2,    32.23,2,     0.02,2,     2.25,2,   2251.7,2,   2348.3,2,   -999.0,9,   -999.0,  -999.00,9,2
  74JC20181103, SR01b,    32,  1,     15,     15,2,20181114,2119,-60.6667, -54.8248, 3104,    507.0,   0.3733,2,   0.3731,  34.5954,2,  34.5948,2,    234.2,2,    233.2,2,    92.25,2,    32.28,2,     0.02,2,     2.23,2,   2251.2,2,   2344.6,2,   -146.1,2,      1.9,     0.52,2,2
  74JC20181103, SR01b,    32,  1,     16,     16,2,20181114,2119,-60.6667, -54.8248, 3104,    381.7,   0.2606,2,   0.2622,  34.5532,2,  34.5527,2,    241.2,2,    239.6,2,    87.93,2,    32.44,2,     0.02,2,     2.24,2,   2242.7,6,   2341.1,2,   -999.0,9,   -999.0,  -999.00,9,2
  74JC20181103, SR01b,    32,  1,     17,     17,2,20181114,2119,-60.6667, -54.8248, 3104,    266.2,   0.2355,2,   0.2352,  34.5225,2,  34.5225,2,    243.8,2,    242.6,2,    85.31,2,    32.56,2,     0.02,2,     2.25,2,   2244.4,2,   2342.5,3,   -140.9,2,      2.2,     0.59,2,2
  74JC20181103, SR01b,    32,  1,     18,     18,2,20181114,2119,-60.6667, -54.8248, 3104,    179.9,   0.0657,2,   0.0605,  34.4399,2,  34.4394,2,    258.2,2,    258.2,2,    81.60,2,    32.53,2,     0.05,2,     2.25,2,   2239.8,2,   2329.7,2,   -999.0,9,   -999.0,  -999.00,9,2
  74JC20181103, SR01b,    32,  1,     19,     25,2,20181114,2119,-60.6667, -54.8248, 3104,    106.0,  -0.5822,2,  -0.5814,  34.2863,2,-999.0000,9,    320.2,2,   -999.0,9,    75.35,2,    30.71,2,     0.12,2,     2.11,2,   -999.0,9,   -999.0,9,   -129.2,2,      1.7,     0.82,2,2
  74JC20181103, SR01b,    32,  1,     20,     20,2,20181114,2119,-60.6667, -54.8248, 3104,    105.3,  -0.5854,2,  -0.5858,  34.2844,2,  34.2861,2,    321.5,2,    320.0,2,    76.11,2,    30.87,2,     0.12,2,     2.15,2,   -999.0,9,   -999.0,9,   -999.0,9,   -999.0,  -999.00,9,2
  74JC20181103, SR01b,    32,  1,     21,     21,3,20181114,2119,-60.6667, -54.8248, 3104,     55.3,  -0.5277,2,  -0.5297,  34.1978,2,-999.0000,9,    347.2,2,   -999.0,9,     0.00,9,  -999.00,9,     0.00,9,     0.00,9,   2203.0,2,   2315.4,3,   -129.2,2,      2.8,     0.84,2,2
  74JC20181103, SR01b,    32,  1,     22,     22,2,20181114,2119,-60.6667, -54.8248, 3104,     56.0,  -0.5229,2,  -0.5249,  34.1970,2,  34.1966,2,    347.5,2,    346.6,2,    70.88,2,    29.29,2,     0.14,2,     2.01,2,   -999.0,9,   -999.0,9,   -999.0,9,   -999.0,  -999.00,9,2
  74JC20181103, SR01b,    32,  1,     23,     23,2,20181114,2119,-60.6667, -54.8248, 3104,     15.0,  -0.4573,2,  -0.4575,  34.1881,2,  34.1885,2,    350.0,2,    348.6,2,    69.95,2,    28.91,2,     0.15,2,     2.00,2,   2202.3,2,   2323.7,2,   -999.0,9,   -999.0,  -999.00,9,2
  74JC20181103, SR01b,    32,  1,     24,     24,4,20181114,2119,-60.6667, -54.8248, 3104,     14.8,  -0.4530,2,  -0.4520,  34.1875,2,-999.0000,9,    349.9,2,   -999.0,9,  -999.00,9,  -999.00,9,  -999.00,9,  -999.00,9,   -999.0,9,   -999.0,9,   -999.0,9,   -999.0,  -999.00,9,2
  74JC20181103, SR01b,    33,  1,      1,      1,2,20181115,0045,-60.6667, -54.8248, 3104,   1260.7,   0.5520,2,   0.5516,  34.6928,2,-999.0000,9,    210.2,2,   -999.0,9,  -999.00,5,  -999.00,9,  -999.00,5,  -999.00,5,   -999.0,9,   -999.0,9,   -999.0,9,   -999.0,  -999.00,9,2
  74JC20181103, SR01b,    33,  1,      2,      2,2,20181115,0045,-60.6667, -54.8248, 3104,   1261.5,   0.5515,2,   0.5516,  34.6929,2,-999.0000,9,    210.3,2,   -999.0,9,  -999.00,5,  -999.00,9,  -999.00,5,  -999.00,5,   -999.0,9,   -999.0,9,   -999.0,9,   -999.0,  -999.00,9,2
  74JC20181103, SR01b,    33,  1,      3,      3,2,20181115,0045,-60.6667, -54.8248, 3104,   1262.1,   0.5517,2,   0.5522,  34.6927,2,-999.0000,9,    210.5,2,   -999.0,9,  -999.00,5,  -999.00,9,  -999.00,5,  -999.00,5,   -999.0,9,   -999.0,9,   -999.0,9,   -999.0,  -999.00,9,2
  74JC20181103, SR01b,    33,  1,      4,      4,2,20181115,0045,-60.6667, -54.8248, 3104,   1262.1,   0.5521,2,   0.5522,  34.6926,2,-999.0000,9,    210.7,2,   -999.0,9,  -999.00,5,  -999.00,9,  -999.00,5,  -999.00,5,   -999.0,9,   -999.0,9,   -999.0,9,   -999.0,  -999.00,9,2
  74JC20181103, SR01b,    33,  1,      5,      5,2,20181115,0045,-60.6667, -54.8248, 3104,   1262.6,   0.5516,2,   0.5517,  34.6925,2,-999.0000,9,    210.6,2,   -999.0,9,  -999.00,5,  -999.00,9,  -999.00,5,  -999.00,5,   -999.0,9,   -999.0,9,   -999.0,9,   -999.0,  -999.00,9,2
  74JC20181103, SR01b,    33,  1,      6,      6,2,20181115,0045,-60.6667, -54.8248, 3104,   1160.5,   0.6053,2,   0.6049,  34.6934,2,-999.0000,9,    209.6,2,   -999.0,9,  -999.00,5,  -999.00,9,  -999.00,5,  -999.00,5,   -999.0,9,   -999.0,9,   -999.0,9,   -999.0,  -999.00,9,2
  74JC20181103, SR01b,    33,  1,      7,      7,4,20181115,0045,-60.6667, -54.8248, 3104,   1161.2,   0.6048,2,   0.6049,  34.6935,2,-999.0000,9,    209.6,2,   -999.0,9,  -999.00,5,  -999.00,9,  -999.00,5,  -999.00,5,   -999.0,9,   -999.0,9,   -999.0,9,   -999.0,  -999.00,9,2
  74JC20181103, SR01b,    33,  1,      8,      8,2,20181115,0045,-60.6667, -54.8248, 3104,   1161.3,   0.6038,2,   0.6039,  34.6936,2,-999.0000,9,    209.5,2,   -999.0,9,  -999.00,5,  -999.00,9,  -999.00,5,  -999.00,5,   -999.0,9,   -999.0,9,   -999.0,9,   -999.0,  -999.00,9,2
  74JC20181103, SR01b,    33,  1,      9,      9,2,20181115,0045,-60.6667, -54.8248, 3104,   1160.1,   0.6041,2,   0.6038,  34.6935,2,-999.0000,9,    209.7,2,   -999.0,9,  -999.00,5,  -999.00,9,  -999.00,5,  -999.00,5,   -999.0,9,   -999.0,9,   -999.0,9,   -999.0,  -999.00,9,2
  74JC20181103, SR01b,    33,  1,     11,     11,2,20181115,0045,-60.6667, -54.8248, 3104,   1160.8,   0.6026,2,   0.6027,  34.6936,2,-999.0000,9,    209.6,2,   -999.0,9,  -999.00,5,  -999.00,9,  -999.00,5,  -999.00,5,   -999.0,9,   -999.0,9,   -999.0,9,   -999.0,  -999.00,9,2
  74JC20181103, SR01b,    33,  1,     12,     12,4,20181115,0045,-60.6667, -54.8248, 3104,   1159.7,   0.6032,2,   0.6030,  34.6935,2,-999.0000,9,    209.6,2,   -999.0,9,  -999.00,5,  -999.00,9,  -999.00,5,  -999.00,5,   -999.0,9,   -999.0,9,   -999.0,9,   -999.0,  -999.00,9,2
  74JC20181103, SR01b,    33,  1,     13,     13,2,20181115,0045,-60.6667, -54.8248, 3104,   1160.8,   0.6026,2,   0.6028,  34.6935,2,-999.0000,9,    209.5,2,   -999.0,9,  -999.00,5,  -999.00,9,  -999.00,5,  -999.00,5,   -999.0,9,   -999.0,9,   -999.0,9,   -999.0,  -999.00,9,2
  74JC20181103, SR01b,    33,  1,     14,     14,2,20181115,0045,-60.6667, -54.8248, 3104,   1160.9,   0.6035,2,   0.6032,  34.6934,2,-999.0000,9,    209.5,2,   -999.0,9,  -999.00,5,  -999.00,9,  -999.00,5,  -999.00,5,   -999.0,9,   -999.0,9,   -999.0,9,   -999.0,  -999.00,9,2
  74JC20181103, SR01b,    33,  1,     15,     15,2,20181115,0045,-60.6667, -54.8248, 3104,    807.5,   0.6221,2,   0.6224,  34.6658,2,-999.0000,9,    217.0,2,   -999.0,9,  -999.00,5,  -999.00,9,  -999.00,5,  -999.00,5,   -999.0,9,   -999.0,9,   -999.0,9,   -999.0,  -999.00,9,2
  74JC20181103, SR01b,    33,  1,     16,     16,2,20181115,0045,-60.6667, -54.8248, 3104,    808.0,   0.6224,2,   0.6224,  34.6658,2,-999.0000,9,    217.1,2,   -999.0,9,  -999.00,5,  -999.00,9,  -999.00,5,  -999.00,5,   -999.0,9,   -999.0,9,   -999.0,9,   -999.0,  -999.00,9,2
  74JC20181103, SR01b,    33,  1,     17,     17,2,20181115,0045,-60.6667, -54.8248, 3104,    807.3,   0.6227,2,   0.6224,  34.6658,2,-999.0000,9,    216.7,2,   -999.0,9,  -999.00,5,  -999.00,9,  -999.00,5,  -999.00,5,   -999.0,9,   -999.0,9,   -999.0,9,   -999.0,  -999.00,9,2
  74JC20181103, SR01b,    33,  1,     18,     18,2,20181115,0045,-60.6667, -54.8248, 3104,    806.1,   0.6228,2,   0.6227,  34.6658,2,-999.0000,9,    217.4,2,   -999.0,9,  -999.00,5,  -999.00,9,  -999.00,5,  -999.00,5,   -999.0,9,   -999.0,9,   -999.0,9,   -999.0,  -999.00,9,2
  74JC20181103, SR01b,    33,  1,     20,     20,2,20181115,0045,-60.6667, -54.8248, 3104,    809.3,   0.6259,2,   0.6248,  34.6665,2,-999.0000,9,    217.6,2,   -999.0,9,  -999.00,5,  -999.00,9,  -999.00,5,  -999.00,5,   -999.0,9,   -999.0,9,   -999.0,9,   -999.0,  -999.00,9,2
  74JC20181103, SR01b,    33,  1,     21,     21,2,20181115,0045,-60.6667, -54.8248, 3104,    806.1,   0.6265,2,   0.6263,  34.6665,2,-999.0000,9,    217.1,2,   -999.0,9,  -999.00,5,  -999.00,9,  -999.00,5,  -999.00,5,   -999.0,9,   -999.0,9,   -999.0,9,   -999.0,  -999.00,9,2
  74JC20181103, SR01b,    33,  1,     22,     22,2,20181115,0045,-60.6667, -54.8248, 3104,    808.0,   0.6265,2,   0.6262,  34.6667,2,-999.0000,9,    216.8,2,   -999.0,9,  -999.00,5,  -999.00,9,  -999.00,5,  -999.00,5,   -999.0,9,   -999.0,9,   -999.0,9,   -999.0,  -999.00,9,2
  74JC20181103, SR01b,    33,  1,     23,     23,2,20181115,0045,-60.6667, -54.8248, 3104,    808.0,   0.6269,2,   0.6265,  34.6667,2,-999.0000,9,    217.1,2,   -999.0,9,  -999.00,5,  -999.00,9,  -999.00,5,  -999.00,5,   -999.0,9,   -999.0,9,   -999.0,9,   -999.0,  -999.00,9,2