BOTTLE,20210419PRINUNIVRMK
# 02/28/2018 Initialized README file  
# Data source: via Y.Firing 1/21/2020 with updates listed 
# SHIP: James Clark Ross 
# Cruise: JR18002 
# Region: Drake Passage, SR01b 
# EXPOCODE:  74JC20181103 
# DATES: 20181103 - 20181123 
# Chief Scientist: Y.Firing, NOC 
# 71 stations with 24 place Rosette 
# CTD: Who - Y.Firing; Status - final 
# 	Includes: CTDSAL, CTDOXY  
# 	calibrated, but noisy 
# Optical profile: Who - A.Marzocchi; Status -unknown 
# 	Includes: CTDFLUOR 
# SALNTY: Who - Y.Firing; Status - final 
# 	Notes:  
# Nutrients: Who - E.Mawji; Status - final 
# 	Includes: silicate, phosphate, nitrate,nitrate 
# 	Final update from P.Brown 4/19/21 with total file replacement 
# 		same date and file 
# OXYGEN: Who - E.Mawji; Status - final 
# 	Notes: 
# TCARBN: Who - P.Brown; Status - final 
# 	Notes: rcd from P. Brown and merged 10/8/20 
# ALKALI: Who - P.Brown; Status - final 
# 	Notes: rcd from P. Brown and merged 10/8/20 
# CFC: Who - M.Messias; Status - final, but not reported 
# 	Notes: Also includes CFC-113 and SF6 
# C14/C13: Who - R.Key,A.McNichol; Status - final 
# 	Notes: merge and QC by Key 10/5/2020 
# O18/C13: Who - M.Leng; Status - collected 
# 	Notes:  
# N15: Who - R.Tuerena; Status - collected 
# 	Notes: 
# These data should be cited as:  "Data were collected and made publicly available by the international Global Ship-based Hydrographic Investigations Program (GO-SHIP; http://www.go-ship.org/) with National Capability funding from the UK Natural Environment Research Council to the National Oceanography Centre." 
# References that have used data from this cruise: 
EXPOCODE,SECT_ID,STNNBR,CASTNO,SAMPNO,BTLNBR,BTLNBR_FLAG_W,DATE,TIME,LATITUDE,LONGITUDE,DEPTH,CTDPRS,CTDTMP,SBE35_FLAG_W,REFTMP,CTDSAL,CTDSAL_FLAG_W,SALNTY,SALNTY_FLAG_W,CTDOXY,CTDOXY_FLAG_W,OXYGEN,OXYGEN_FLAG_W,SILCAT,SILCAT_FLAG_W,NITRAT,NITRAT_FLAG_W,NITRIT,NITRIT_FLAG_W,PHSPHT,PHSPHT_FLAG_W,TCARBN,TCARBN_FLAG_W,ALKALI,ALKALI_FLAG_W,DELC14,DELC14_FLAG_W,C14ERR,DELC13,DELC13_FLAG_W,SBE35_FLAG_W
,,,,,,,,,,,METERS,DBAR,ITS-90,,,PSS-78,,PSS-78,,UMOL/KG,,UMOL/KG,,UMOL/KG,,UMOL/KG,,UMOL/KG,,UMOL/KG,,UMOL/KG,,UMOL/KG,,/MILLE,,/MILLE,/MILLE,,
  74JC20181103, SR01b,     1,  1,      1,      1,3,20181105,2222,-55.8257, -57.8044, 4703,   4838.3,   0.5038,2,   0.5053,  34.6764,2,  34.6881,3,    222.6,2,    215.9,3,  -999.00,9,  -999.00,9,  -999.00,9,  -999.00,9,   -999.0,9,   -999.0,9,   -999.0,9,   -999.0,  -999.00,9,2
  74JC20181103, SR01b,     1,  1,      2,      2,2,20181105,2222,-55.8257, -57.8044, 4703,   4837.7,   0.5041,2,   0.5045,  34.6764,2,  34.6783,2,    222.7,2,    222.5,2,  -999.00,9,  -999.00,9,  -999.00,9,  -999.00,9,   -999.0,9,   -999.0,9,   -999.0,9,   -999.0,  -999.00,9,2
  74JC20181103, SR01b,     1,  1,      3,      3,2,20181105,2222,-55.8257, -57.8044, 4703,   4837.8,   0.5058,2,   0.5049,  34.6765,2,  34.6807,2,    222.6,2,    222.4,2,  -999.00,9,  -999.00,9,  -999.00,9,  -999.00,9,   -999.0,9,   -999.0,9,   -999.0,9,   -999.0,  -999.00,9,2
  74JC20181103, SR01b,     1,  1,      4,      4,3,20181105,2222,-55.8257, -57.8044, 4703,   4790.3,   0.5121,2,   0.5116,  34.6780,2,  34.6783,3,    221.4,2,    222.2,3,  -999.00,9,  -999.00,9,  -999.00,9,  -999.00,9,   -999.0,9,   -999.0,9,   -999.0,9,   -999.0,  -999.00,9,2
  74JC20181103, SR01b,     1,  1,      5,      5,2,20181105,2222,-55.8257, -57.8044, 4703,   4585.6,   0.5257,2,   0.5258,  34.6809,2,  34.6847,2,    219.9,2,    218.9,2,  -999.00,9,  -999.00,9,  -999.00,9,  -999.00,9,   -999.0,9,   -999.0,9,   -999.0,9,   -999.0,  -999.00,9,2
  74JC20181103, SR01b,     2,  1,      1,      1,2,20181106,1947,-55.5163, -57.9834, 5000,    713.5,   3.8574,2,   3.8638,  34.1710,2,  34.1691,2,    268.1,2,    272.0,3,    19.96,2,    27.38,2,     0.01,2,     1.87,2,   2169.3,2,   2285.4,6,   -999.0,9,   -999.0,  -999.00,9,2
  74JC20181103, SR01b,     2,  1,      2,      2,2,20181106,1947,-55.5163, -57.9834, 5000,    713.8,   3.8552,2,   3.8540,  34.1716,2,  34.1685,2,    267.3,2,    271.8,3,    20.08,2,    27.48,2,     0.02,2,     1.86,2,   -999.0,9,   -999.0,9,   -999.0,9,   -999.0,  -999.00,9,2
  74JC20181103, SR01b,     2,  1,      3,      3,2,20181106,1947,-55.5163, -57.9834, 5000,    714.0,   3.8573,2,   3.8613,  34.1711,2,  34.1701,2,    267.5,2,    271.9,3,    19.89,2,    27.46,2,     0.01,2,     1.86,2,   -999.0,9,   -999.0,9,   -999.0,9,   -999.0,  -999.00,9,2
  74JC20181103, SR01b,     2,  1,      4,      4,2,20181106,1947,-55.5163, -57.9834, 5000,    604.2,   3.9030,2,   3.9032,  34.1224,2,  34.1227,2,    298.4,2,    302.8,3,    12.97,2,    25.04,2,     0.10,2,     1.71,2,   2158.9,2,   2279.9,6,   -999.0,9,   -999.0,  -999.00,9,2
  74JC20181103, SR01b,     2,  1,      5,      5,2,20181106,1947,-55.5163, -57.9834, 5000,    604.0,   3.9022,2,   3.9027,  34.1224,2,  34.1192,2,    298.3,2,    303.1,3,    12.90,2,    25.05,2,     0.10,2,     1.71,2,   -999.0,9,   -999.0,9,   -999.0,9,   -999.0,  -999.00,9,2
  74JC20181103, SR01b,     2,  1,      6,      6,2,20181106,1947,-55.5163, -57.9834, 5000,    603.9,   3.9045,2,   3.9048,  34.1225,2,  34.1212,2,    297.8,2,    302.3,3,    12.91,2,    25.05,2,     0.10,2,     1.71,2,   -999.0,9,   -999.0,9,   -999.0,9,   -999.0,  -999.00,9,2
  74JC20181103, SR01b,     2,  1,      7,      7,2,20181106,1947,-55.5163, -57.9834, 5000,    504.5,   4.3251,2,   4.3249,  34.1510,2,  34.1542,2,    291.0,2,    295.0,3,    12.14,2,    24.58,2,     0.06,2,     1.68,2,   2152.0,6,   2280.5,6,   -999.0,9,   -999.0,  -999.00,9,2
  74JC20181103, SR01b,     2,  1,      8,      8,4,20181106,1947,-55.5163, -57.9834, 5000,    504.9,   4.3255,2,   4.3249,  34.1511,2,-999.0000,9,    290.6,2,   -999.0,9,  -999.00,9,  -999.00,9,  -999.00,9,  -999.00,9,   -999.0,9,   -999.0,9,   -999.0,9,   -999.0,  -999.00,9,2
  74JC20181103, SR01b,     2,  1,      9,      9,2,20181106,1947,-55.5163, -57.9834, 5000,    504.2,   4.3257,2,   4.3250,  34.1512,2,  34.1482,2,    290.5,2,    294.6,3,    12.15,2,    24.62,2,     0.05,2,     1.67,2,   -999.0,9,   -999.0,9,   -999.0,9,   -999.0,  -999.00,9,2
  74JC20181103, SR01b,     2,  1,     10,     10,2,20181106,1947,-55.5163, -57.9834, 5000,    402.9,   4.4400,2,   4.4390,  34.1485,2,  34.1461,2,    300.3,2,    305.1,3,    10.10,2,    23.42,2,     0.13,2,     1.60,2,   2151.7,2,   2276.6,6,   -999.0,9,   -999.0,  -999.00,9,2
  74JC20181103, SR01b,     2,  1,     11,     11,2,20181106,1947,-55.5163, -57.9834, 5000,    404.2,   4.4391,2,   4.4391,  34.1485,2,  34.1469,2,    299.7,2,    304.4,3,    10.11,2,    23.47,2,     0.12,2,     1.61,2,   -999.0,9,   -999.0,9,   -999.0,9,   -999.0,  -999.00,9,2
  74JC20181103, SR01b,     2,  1,     12,     12,2,20181106,1947,-55.5163, -57.9834, 5000,    404.2,   4.4398,2,   4.4387,  34.1485,2,  34.1444,2,    300.5,2,    305.3,3,    10.12,2,    23.48,2,     0.12,2,     1.61,2,   -999.0,9,   -999.0,9,   -999.0,9,   -999.0,  -999.00,9,2
  74JC20181103, SR01b,     2,  1,     13,     13,2,20181106,1947,-55.5163, -57.9834, 5000,    304.4,   4.5823,2,   4.5831,  34.1547,2,  34.1501,2,    299.0,2,    303.4,3,     9.44,2,    23.13,2,     0.09,2,     1.58,2,   2143.1,6,   2278.4,6,   -999.0,9,   -999.0,  -999.00,9,2
  74JC20181103, SR01b,     2,  1,     14,     14,2,20181106,1947,-55.5163, -57.9834, 5000,    304.2,   4.5867,2,   4.5868,  34.1550,2,  34.1545,2,    298.7,2,    303.4,3,     9.46,2,    23.13,2,     0.10,2,     1.59,2,   -999.0,9,   -999.0,9,   -999.0,9,   -999.0,  -999.00,9,2
  74JC20181103, SR01b,     2,  1,     15,     15,2,20181106,1947,-55.5163, -57.9834, 5000,    303.8,   4.5900,2,   4.5891,  34.1552,2,  34.1551,2,    298.7,2,    303.1,3,     9.41,2,    23.07,2,     0.09,2,     1.58,2,   -999.0,9,   -999.0,9,   -999.0,9,   -999.0,  -999.00,9,2
  74JC20181103, SR01b,     2,  1,     16,     16,2,20181106,1947,-55.5163, -57.9834, 5000,    203.1,   4.7090,2,   4.7086,  34.1557,2,  34.1570,2,    300.9,2,    307.2,3,     8.55,2,    22.55,2,     0.13,2,     1.56,2,   2143.4,2,   2275.0,2,   -999.0,9,   -999.0,  -999.00,9,2
  74JC20181103, SR01b,     2,  1,     17,     17,2,20181106,1947,-55.5163, -57.9834, 5000,    203.0,   4.7090,2,   4.7082,  34.1556,2,  34.1580,2,    301.1,2,    305.1,3,     8.55,2,    22.57,2,     0.12,2,     1.56,2,   -999.0,9,   -999.0,9,   -999.0,9,   -999.0,  -999.00,9,2
  74JC20181103, SR01b,     2,  1,     18,     18,2,20181106,1947,-55.5163, -57.9834, 5000,    201.8,   4.7103,2,   4.7095,  34.1557,2,  34.1577,2,    300.6,2,    306.3,3,     8.55,2,    22.54,2,     0.13,2,     1.55,2,   -999.0,9,   -999.0,9,   -999.0,9,   -999.0,  -999.00,9,2
  74JC20181103, SR01b,     2,  1,     19,     19,2,20181106,1947,-55.5163, -57.9834, 5000,     62.0,   5.1820,2,   5.1810,  34.1073,2,  34.1095,2,    311.4,2,    316.6,3,     5.87,2,    20.15,2,     0.14,2,     1.38,2,   2124.8,2,   2271.0,6,   -999.0,9,   -999.0,  -999.00,9,2
  74JC20181103, SR01b,     2,  1,     20,     20,2,20181106,1947,-55.5163, -57.9834, 5000,     63.4,   5.1834,2,   5.1883,  34.1068,2,  34.1087,2,    312.1,2,    318.0,3,     5.85,2,    20.07,2,     0.14,2,     1.37,2,   -999.0,9,   -999.0,9,   -999.0,9,   -999.0,  -999.00,9,2
  74JC20181103, SR01b,     2,  1,     21,     21,2,20181106,1947,-55.5163, -57.9834, 5000,     62.7,   5.1901,2,   5.1937,  34.1055,2,  34.1065,2,    311.4,2,    317.5,3,     5.86,2,    20.06,2,     0.14,2,     1.38,2,   -999.0,9,   -999.0,9,   -999.0,9,   -999.0,  -999.00,9,2
  74JC20181103, SR01b,     2,  1,     22,     22,2,20181106,1947,-55.5163, -57.9834, 5000,     12.1,   5.2965,2,   5.2964,  34.0816,2,  34.0832,2,    313.1,2,    319.4,3,     5.45,2,    19.54,2,     0.14,2,     1.33,2,   2120.9,6,   2270.5,6,   -999.0,9,   -999.0,  -999.00,9,2
  74JC20181103, SR01b,     2,  1,     23,     23,2,20181106,1947,-55.5163, -57.9834, 5000,     12.8,   5.2928,2,   5.2930,  34.0818,2,  34.0841,2,    313.3,2,    320.6,3,     5.46,2,    19.51,2,     0.15,2,     1.32,2,   -999.0,9,   -999.0,9,   -999.0,9,   -999.0,  -999.00,9,2
  74JC20181103, SR01b,     2,  1,     24,     24,2,20181106,1947,-55.5163, -57.9834, 5000,     12.4,   5.2928,2,   5.2932,  34.0818,2,  34.0829,2,    313.6,2,    318.5,3,     5.47,2,    19.54,2,     0.14,2,     1.33,2,   -999.0,9,   -999.0,9,   -999.0,9,   -999.0,  -999.00,9,2
  74JC20181103, SR01b,     3,  1,      1,      1,2,20181107,2053,-54.6668, -57.9833,  168,    159.7,   4.8273,2,   4.8266,  34.0963,2,  34.0982,2,    306.1,2,    307.5,2,     7.83,2,    21.37,2,     0.19,2,     1.53,2,   2135.4,6,   2272.8,6,   -999.0,9,   -999.0,  -999.00,9,2
  74JC20181103, SR01b,     3,  1,      2,      2,2,20181107,2053,-54.6668, -57.9833,  168,    160.2,   4.8271,2,   4.8264,  34.0964,2,  34.0972,2,    306.4,2,    306.4,2,     7.91,2,    21.37,2,     0.19,2,     1.53,2,   -999.0,9,   -999.0,9,   -999.0,9,   -999.0,  -999.00,9,2
  74JC20181103, SR01b,     3,  1,      3,      3,2,20181107,2053,-54.6668, -57.9833,  168,    124.4,   4.8251,2,   4.8242,  34.0963,2,  34.0981,2,    306.2,2,    306.6,2,     7.85,2,    21.34,2,     0.19,2,     1.53,2,   2113.9,3,   2273.0,2,   -999.0,9,   -999.0,  -999.00,9,2
  74JC20181103, SR01b,     3,  1,      4,      4,2,20181107,2053,-54.6668, -57.9833,  168,    124.3,   4.8254,2,   4.8244,  34.0962,2,  34.0966,2,    305.7,2,    306.6,2,     7.80,2,    21.37,2,     0.19,2,     1.53,2,   -999.0,9,   -999.0,9,   -999.0,9,   -999.0,  -999.00,9,2
  74JC20181103, SR01b,     3,  1,      5,      5,2,20181107,2053,-54.6668, -57.9833,  168,    103.8,   4.8347,2,   4.8324,  34.0956,2,  34.0967,2,    306.4,2,    307.1,2,     7.71,2,    21.32,2,     0.19,2,     1.52,2,   2137.1,3,   2275.6,2,   -999.0,9,   -999.0,  -999.00,9,2
  74JC20181103, SR01b,     3,  1,      6,      6,2,20181107,2053,-54.6668, -57.9833,  168,     79.3,   5.0956,2,   5.0957,  34.0919,2,  34.0932,2,    312.5,2,    312.5,2,     7.23,2,    20.25,2,     0.18,2,     1.43,2,   2126.4,2,   -999.0,9,   -999.0,9,   -999.0,  -999.00,9,2
  74JC20181103, SR01b,     3,  1,      7,      7,2,20181107,2053,-54.6668, -57.9833,  168,     53.7,   5.1244,2,   5.1221,  34.0914,2,  34.0929,2,    313.8,2,    314.5,2,     7.17,2,    20.06,2,     0.17,2,     1.41,2,   2279.9,4,   2270.5,2,   -999.0,9,   -999.0,  -999.00,9,2
  74JC20181103, SR01b,     3,  1,      8,      8,4,20181107,2053,-54.6668, -57.9833,  168,     54.6,   5.1559,2,   5.1509,  34.0909,2,-999.0000,9,    314.1,2,   -999.0,9,  -999.00,9,  -999.00,9,  -999.00,9,  -999.00,9,   -999.0,9,   -999.0,9,   -999.0,9,   -999.0,  -999.00,9,2
  74JC20181103, SR01b,     3,  1,      9,      9,3,20181107,2053,-54.6668, -57.9833,  168,     27.9,   5.1737,2,   5.1685,  34.0901,2,  34.0926,3,    314.8,2,    315.4,3,     7.20,3,    19.94,3,     0.18,3,     1.41,3,   2122.3,2,   -999.0,9,   -999.0,9,   -999.0,  -999.00,9,2
  74JC20181103, SR01b,     3,  1,     10,     10,4,20181107,2053,-54.6668, -57.9833,  168,     10.1,   5.1949,2,   5.1941,  34.0877,2,-999.0000,9,    313.9,2,   -999.0,9,  -999.00,9,  -999.00,9,  -999.00,9,  -999.00,9,   -999.0,9,   -999.0,9,   -999.0,9,   -999.0,  -999.00,9,2
  74JC20181103, SR01b,     4,  1,      1,      1,2,20181108,0028,-54.9224, -57.9834,  711,    712.5,   4.1950,2,   4.1936,  34.1576,2,  34.1561,2,    282.9,2,    284.5,2,    14.79,2,    25.43,2,     0.03,2,     1.72,2,   2152.7,2,   2279.0,6,   -999.0,9,   -999.0,  -999.00,9,2
  74JC20181103, SR01b,     4,  1,      2,      2,2,20181108,0028,-54.9224, -57.9834,  711,    712.2,   4.1990,2,   4.1958,  34.1574,2,  34.1576,2,    283.1,2,    283.9,2,    14.84,2,    25.41,2,     0.04,2,     1.72,2,   -999.0,9,   -999.0,9,   -999.0,9,   -999.0,  -999.00,9,2
  74JC20181103, SR01b,     4,  1,      3,      3,2,20181108,0028,-54.9224, -57.9834,  711,    711.3,   4.1990,2,   4.1982,  34.1574,2,  34.1585,2,    283.0,2,    284.3,2,    14.80,2,    25.49,2,     0.04,2,     1.73,2,   -999.0,9,   -999.0,9,   -999.0,9,   -999.0,  -999.00,9,2
  74JC20181103, SR01b,     4,  1,      4,      4,2,20181108,0028,-54.9224, -57.9834,  711,    687.5,   4.2217,2,   4.2226,  34.1574,2,  34.1588,2,    283.8,2,    284.3,2,    14.51,2,    25.37,2,     0.04,2,     1.72,2,   2155.7,2,   2277.6,2,   -999.0,9,   -999.0,  -999.00,9,2
  74JC20181103, SR01b,     4,  1,      5,      5,2,20181108,0028,-54.9224, -57.9834,  711,    687.3,   4.2356,2,   4.2319,  34.1571,2,  34.1574,2,    283.9,2,    284.9,2,    14.42,2,    25.32,2,     0.03,2,     1.72,2,   -999.0,9,   -999.0,9,   -999.0,9,   -999.0,  -999.00,9,2
  74JC20181103, SR01b,     4,  1,      6,      6,2,20181108,0028,-54.9224, -57.9834,  711,    686.9,   4.2526,2,   4.2524,  34.1570,2,  34.1563,2,    284.1,2,    284.7,2,    14.04,2,    25.27,2,     0.03,2,     1.71,2,   -999.0,9,   -999.0,9,   -999.0,9,   -999.0,  -999.00,9,2
  74JC20181103, SR01b,     4,  1,      7,      7,2,20181108,0028,-54.9224, -57.9834,  711,    506.0,   4.3887,2,   4.3912,  34.1581,2,  34.1593,2,    287.6,2,    288.3,2,    12.80,2,    24.66,2,     0.04,2,     1.67,2,   2154.1,2,   2279.3,2,   -999.0,9,   -999.0,  -999.00,9,2
  74JC20181103, SR01b,     4,  1,      8,      8,2,20181108,0028,-54.9224, -57.9834,  711,    506.6,   4.3914,2,   4.3987,  34.1584,2,  34.1589,2,    287.8,2,    288.0,2,    12.74,2,    24.53,2,     0.04,2,     1.67,2,   -999.0,9,   -999.0,9,   -999.0,9,   -999.0,  -999.00,9,2
  74JC20181103, SR01b,     4,  1,      9,      9,2,20181108,0028,-54.9224, -57.9834,  711,    507.1,   4.4000,2,   4.3996,  34.1584,2,  34.1589,2,    287.4,2,    287.8,2,    12.71,2,    24.56,2,     0.04,2,     1.67,2,   -999.0,9,   -999.0,9,   -999.0,9,   -999.0,  -999.00,9,2
  74JC20181103, SR01b,     4,  1,     10,     10,2,20181108,0028,-54.9224, -57.9834,  711,    329.4,   4.5980,2,   4.5971,  34.1570,2,  34.1588,2,    292.5,2,    294.9,2,  -999.00,9,  -999.00,9,  -999.00,9,  -999.00,9,   2181.9,4,   -999.0,9,   -999.0,9,   -999.0,  -999.00,9,2
  74JC20181103, SR01b,     4,  1,     11,     11,2,20181108,0028,-54.9224, -57.9834,  711,    330.5,   4.5973,2,   4.5985,  34.1571,2,  34.1579,2,    293.0,2,    294.3,2,    10.50,2,    23.53,2,     0.05,2,     1.60,2,   -999.0,9,   -999.0,9,   -999.0,9,   -999.0,  -999.00,9,2
  74JC20181103, SR01b,     4,  1,     12,     12,4,20181108,0028,-54.9224, -57.9834,  711,    330.1,   4.5984,2,   4.5976,  34.1571,2,-999.0000,9,    293.5,2,   -999.0,9,  -999.00,9,  -999.00,9,  -999.00,9,  -999.00,9,   -999.0,9,   -999.0,9,   -999.0,9,   -999.0,  -999.00,9,2
  74JC20181103, SR01b,     4,  1,     13,     13,2,20181108,0028,-54.9224, -57.9834,  711,    205.6,   4.7598,2,   4.7606,  34.1498,2,  34.1469,2,    299.4,2,    300.0,2,     8.51,2,    22.44,2,     0.12,2,     1.54,2,   2141.9,2,   2277.0,2,   -999.0,9,   -999.0,  -999.00,9,2
  74JC20181103, SR01b,     4,  1,     14,     14,4,20181108,0028,-54.9224, -57.9834,  711,    203.3,   4.7608,2,   4.7603,  34.1497,2,-999.0000,9,    299.4,2,   -999.0,9,  -999.00,9,  -999.00,9,  -999.00,9,  -999.00,9,   -999.0,9,   -999.0,9,   -999.0,9,   -999.0,  -999.00,9,2
  74JC20181103, SR01b,     4,  1,     15,     15,4,20181108,0028,-54.9224, -57.9834,  711,    203.4,   4.7610,2,   4.7604,  34.1498,2,-999.0000,9,    299.3,2,   -999.0,9,  -999.00,9,  -999.00,9,  -999.00,9,  -999.00,9,   -999.0,9,   -999.0,9,   -999.0,9,   -999.0,  -999.00,9,2
  74JC20181103, SR01b,     4,  1,     16,     16,2,20181108,0028,-54.9224, -57.9834,  711,    102.9,   4.8212,2,   4.8393,  34.1289,2,  34.1266,2,    303.0,2,    303.8,2,     8.01,2,    21.69,2,     0.19,2,     1.51,2,   2136.3,2,   2273.1,6,   -999.0,9,   -999.0,  -999.00,9,2
  74JC20181103, SR01b,     4,  1,     17,     17,4,20181108,0028,-54.9224, -57.9834,  711,    104.5,   4.8326,2,   4.8367,  34.1273,2,-999.0000,9,    302.9,2,   -999.0,9,  -999.00,9,  -999.00,9,  -999.00,9,  -999.00,9,   -999.0,9,   -999.0,9,   -999.0,9,   -999.0,  -999.00,9,2
  74JC20181103, SR01b,     4,  1,     18,     18,2,20181108,0028,-54.9224, -57.9834,  711,    100.9,   4.8317,2,   4.8325,  34.1278,2,  34.1261,2,    302.3,2,    304.2,2,     7.90,2,    21.56,2,     0.19,2,     1.50,2,   -999.0,9,   -999.0,9,   -999.0,9,   -999.0,  -999.00,9,2
  74JC20181103, SR01b,     4,  1,     19,     19,2,20181108,0028,-54.9224, -57.9834,  711,     54.2,   5.1301,2,   5.1315,  34.1126,2,  34.1130,2,    311.2,2,    309.3,2,     5.91,2,    20.03,2,     0.16,2,     1.36,2,   2128.5,2,   2263.5,2,   -999.0,9,   -999.0,  -999.00,9,2
  74JC20181103, SR01b,     4,  1,     20,     20,2,20181108,0028,-54.9224, -57.9834,  711,     52.5,   5.1286,2,   5.1283,  34.1127,2,  34.1090,2,    311.0,2,    312.2,2,     5.91,2,    20.09,2,     0.16,2,     1.36,2,   -999.0,9,   -999.0,9,   -999.0,9,   -999.0,  -999.00,9,2
  74JC20181103, SR01b,     4,  1,     21,     21,2,20181108,0028,-54.9224, -57.9834,  711,     53.6,   5.1347,2,   5.1341,  34.1125,2,  34.1113,2,    311.5,2,    300.0,3,     5.88,2,    20.05,2,     0.16,2,     1.37,2,   -999.0,9,   -999.0,9,   -999.0,9,   -999.0,  -999.00,9,2
  74JC20181103, SR01b,     4,  1,     22,     22,2,20181108,0028,-54.9224, -57.9834,  711,      8.7,   5.2108,2,   5.2100,  34.1042,2,  34.0992,2,    311.2,2,    312.2,2,     5.71,2,    19.83,2,     0.17,2,     1.35,2,   2286.7,4,   2329.0,4,   -999.0,9,   -999.0,  -999.00,9,2
  74JC20181103, SR01b,     4,  1,     23,     23,2,20181108,0028,-54.9224, -57.9834,  711,      8.6,   5.2107,2,   5.2091,  34.1046,2,-999.0000,9,    312.0,2,    312.0,2,     5.72,2,    19.89,2,     0.17,2,     1.35,2,   -999.0,9,   -999.0,9,   -999.0,9,   -999.0,  -999.00,9,2
  74JC20181103, SR01b,     4,  1,     24,     24,2,20181108,0028,-54.9224, -57.9834,  711,      7.8,   5.2104,2,   5.2088,  34.1047,2,-999.0000,9,    311.3,2,    312.3,2,     5.74,2,    19.82,2,     0.17,2,     1.35,2,   -999.0,9,   -999.0,9,   -999.0,9,   -999.0,  -999.00,9,2