BOTTLE,20210419PRINUNIVRMK
EXPOCODE,SECT_ID,STNNBR,CASTNO,SAMPNO,BTLNBR,BTLNBR_FLAG_W,DATE,TIME,LATITUDE,LONGITUDE,DEPTH,CTDPRS,CTDTMP,SBE35_FLAG_W,REFTMP,CTDSAL,CTDSAL_FLAG_W,SALNTY,SALNTY_FLAG_W,CTDOXY,CTDOXY_FLAG_W,OXYGEN,OXYGEN_FLAG_W,SILCAT,SILCAT_FLAG_W,NITRAT,NITRAT_FLAG_W,NITRIT,NITRIT_FLAG_W,PHSPHT,PHSPHT_FLAG_W,TCARBN,TCARBN_FLAG_W,ALKALI,ALKALI_FLAG_W,DELC14,DELC14_FLAG_W,C14ERR,DELC13,DELC13_FLAG_W,SBE35_FLAG_W
,,,,,,,,,,,METERS,DBAR,ITS-90,,,PSS-78,,PSS-78,,UMOL/KG,,UMOL/KG,,UMOL/KG,,UMOL/KG,,UMOL/KG,,UMOL/KG,,UMOL/KG,,UMOL/KG,,/MILLE,,/MILLE,/MILLE,,
  74JC20181103, SR01b,     7,  1,      1,      1,2,20181109,1030,-55.0950, -57.9835, 2421,   2445.4,   1.9488,2,   1.9501,  34.7037,2,  34.7043,2,    178.5,2,    178.2,2,    95.74,2,    32.93,2,     0.01,2,     2.24,2,   2264.7,6,   2360.7,6,   -170.7,2,      1.8,     0.29,2,2
  74JC20181103, SR01b,     7,  1,      2,      2,2,20181109,1030,-55.0950, -57.9835, 2421,   2446.4,   1.9409,2,   1.9498,  34.7043,2,  34.7059,2,    178.6,2,   -999.0,9,  -999.00,9,  -999.00,9,  -999.00,9,  -999.00,9,   -999.0,9,   -999.0,9,   -999.0,9,   -999.0,  -999.00,9,2
  74JC20181103, SR01b,     7,  1,      3,      3,2,20181109,1030,-55.0950, -57.9835, 2421,   2402.3,   2.0187,2,   2.0167,  34.6998,2,  34.7013,2,    176.3,2,    176.8,2,    93.76,2,    33.07,2,     0.02,2,     2.26,2,   2265.3,2,   2359.7,2,   -170.0,2,      1.9,     0.30,2,2
  74JC20181103, SR01b,     7,  1,      4,      4,2,20181109,1030,-55.0950, -57.9835, 2421,   2281.5,   2.1204,2,   2.1212,  34.6870,2,  34.6874,2,    174.2,2,    173.7,2,    90.61,2,    33.38,2,     0.01,2,     2.28,2,   2264.9,2,   2360.8,2,   -162.6,2,      1.7,     0.31,2,2
  74JC20181103, SR01b,     7,  1,      5,      5,2,20181109,1030,-55.0950, -57.9835, 2421,   2027.4,   2.3451,2,   2.3446,  34.6366,2,  34.6368,2,    169.1,2,    168.3,2,    83.62,2,    34.14,2,     0.02,2,     2.33,2,   2262.6,2,   2350.4,2,   -158.5,2,      1.8,     0.33,2,2
  74JC20181103, SR01b,     7,  1,      6,      6,2,20181109,1030,-55.0950, -57.9835, 2421,   1875.2,   2.4488,2,   2.4483,  34.6019,2,  34.6040,2,    166.7,2,    165.8,2,    80.59,2,    34.68,2,     0.01,2,     2.38,2,   2261.6,2,   2348.1,2,   -157.7,2,      1.8,     0.31,2,2
  74JC20181103, SR01b,     7,  1,      7,      7,3,20181109,1030,-55.0950, -57.9835, 2421,   1876.4,   2.4494,2,   2.4494,  34.6016,2,  34.5990,3,    166.9,2,   -999.0,9,  -999.00,9,  -999.00,9,  -999.00,9,  -999.00,9,   -999.0,9,   -999.0,9,   -999.0,9,   -999.0,  -999.00,9,2
  74JC20181103, SR01b,     7,  1,      8,      8,2,20181109,1030,-55.0950, -57.9835, 2421,   1621.3,   2.6293,2,   2.6286,  34.5265,2,  34.5276,2,    170.1,2,    169.4,2,    72.14,2,    35.11,2,     0.01,2,     2.40,2,   2254.6,2,   2335.2,2,   -141.8,2,      1.7,     0.38,2,2
  74JC20181103, SR01b,     7,  1,      9,      9,2,20181109,1030,-55.0950, -57.9835, 2421,   1417.4,   2.8207,2,   2.8209,  34.4579,2,-999.0000,9,    177.1,2,   -999.0,9,  -999.00,9,  -999.00,9,  -999.00,9,  -999.00,9,   -999.0,9,   -999.0,9,   -999.0,9,   -999.0,  -999.00,9,2
  74JC20181103, SR01b,     7,  1,     10,     10,2,20181109,1030,-55.0950, -57.9835, 2421,   1267.2,   2.9920,2,   2.9921,  34.4101,2,  34.4116,2,    185.1,2,    182.8,2,    57.08,2,    34.54,2,     0.01,2,     2.36,2,   2238.7,2,   2322.4,2,   -119.9,2,      1.8,     0.53,2,2
  74JC20181103, SR01b,     7,  1,     11,     11,2,20181109,1030,-55.0950, -57.9835, 2421,   1265.9,   2.9926,2,   2.9929,  34.4101,2,  34.4135,2,    185.0,2,   -999.0,9,  -999.00,9,  -999.00,9,  -999.00,9,  -999.00,9,   -999.0,9,   -999.0,9,   -999.0,9,   -999.0,  -999.00,9,2
  74JC20181103, SR01b,     7,  1,     12,     12,2,20181109,1030,-55.0950, -57.9835, 2421,   1013.1,   3.2950,2,   3.3074,  34.2810,2,  34.2826,2,    218.1,2,    217.0,2,    39.05,2,    32.40,2,     0.01,2,     2.19,2,   2207.8,2,   2300.7,2,   -999.0,9,   -999.0,  -999.00,9,2
  74JC20181103, SR01b,     7,  1,     13,     13,2,20181109,1030,-55.0950, -57.9835, 2421,    861.3,   3.6566,2,   3.6560,  34.2031,2,  34.2043,2,    248.6,2,    248.1,2,    26.12,2,    29.78,2,     0.01,2,     2.02,2,   2183.0,2,   2290.1,2,   -999.0,9,   -999.0,  -999.00,9,2
  74JC20181103, SR01b,     7,  1,     14,     14,2,20181109,1030,-55.0950, -57.9835, 2421,    711.1,   3.7887,2,   3.7889,  34.1356,2,  34.1352,2,    282.8,2,    279.4,2,    16.45,2,    27.10,2,     0.03,2,     1.84,2,   2161.2,2,   2283.1,2,   -999.0,9,   -999.0,  -999.00,9,2
  74JC20181103, SR01b,     7,  1,     15,     15,2,20181109,1030,-55.0950, -57.9835, 2421,    712.7,   3.7864,2,   3.7910,  34.1355,2,  34.1184,2,    282.4,2,   -999.0,9,  -999.00,9,  -999.00,9,  -999.00,9,  -999.00,9,   -999.0,9,   -999.0,9,   -999.0,9,   -999.0,  -999.00,9,2
  74JC20181103, SR01b,     7,  1,     16,     16,2,20181109,1030,-55.0950, -57.9835, 2421,    510.0,   4.4194,2,   4.4205,  34.1547,2,  34.1544,2,    291.4,2,    289.3,2,    11.65,2,    24.59,2,     0.04,2,     1.68,2,   2150.2,2,   2278.9,2,   -999.0,9,   -999.0,  -999.00,9,2
  74JC20181103, SR01b,     7,  1,     17,     17,2,20181109,1030,-55.0950, -57.9835, 2421,    382.0,   4.6115,2,   4.6106,  34.1578,2,  34.1559,2,    297.9,2,    294.1,2,     9.54,2,    23.42,2,     0.05,2,     1.62,2,   2142.9,6,   2276.4,6,   -999.0,9,   -999.0,  -999.00,9,2
  74JC20181103, SR01b,     7,  1,     18,     18,2,20181109,1030,-55.0950, -57.9835, 2421,    254.8,   4.7216,2,   4.7219,  34.1566,2,  34.1586,2,    300.3,2,    297.2,2,     8.73,2,    22.85,2,     0.12,2,     1.59,2,   2138.0,2,   2275.6,2,    -15.4,2,      2.2,     1.06,2,2
  74JC20181103, SR01b,     7,  1,     19,     19,2,20181109,1030,-55.0950, -57.9835, 2421,    182.5,   4.8036,2,   4.8016,  34.1533,2,  34.1545,2,    304.4,2,    303.2,2,     8.43,2,    22.38,2,     0.14,2,     1.56,2,   2141.2,2,   2298.0,3,   -999.0,9,   -999.0,  -999.00,9,2
  74JC20181103, SR01b,     7,  1,     20,     20,2,20181109,1030,-55.0950, -57.9835, 2421,    131.6,   4.8736,2,   4.8734,  34.1470,2,  34.1470,2,    306.7,2,    302.9,2,     8.23,2,    22.05,2,     0.14,2,     1.55,2,   2135.0,2,   2280.9,2,    -17.4,2,      2.1,     1.24,2,2
  74JC20181103, SR01b,     7,  1,     21,     21,2,20181109,1030,-55.0950, -57.9835, 2421,     55.2,   5.3587,2,   5.3581,  34.0333,2,-999.0000,9,    308.7,2,   -999.0,9,  -999.00,9,  -999.00,9,  -999.00,9,  -999.00,9,   2117.5,2,   -999.0,9,   -999.0,9,   -999.0,  -999.00,9,2
  74JC20181103, SR01b,     7,  1,     22,     22,2,20181109,1030,-55.0950, -57.9835, 2421,     55.1,   5.3596,2,   5.3585,  34.0338,2,  34.0343,2,    308.9,2,    306.7,2,     5.41,2,    19.63,2,     0.19,2,     1.38,2,   -999.0,9,   -999.0,9,    -12.4,2,      2.1,     1.27,2,2
  74JC20181103, SR01b,     7,  1,     23,     23,2,20181109,1030,-55.0950, -57.9835, 2421,     10.6,   5.3580,2,   5.3582,  34.0320,2,  34.0325,2,    309.0,2,    306.1,2,     5.39,2,    19.42,2,     0.20,2,     1.37,2,   2119.5,2,   2265.3,2,     -9.6,2,      2.1,     1.30,2,2
  74JC20181103, SR01b,     7,  1,     24,     24,2,20181109,1030,-55.0950, -57.9835, 2421,     11.5,   5.3580,2,   5.3581,  34.0320,2,  34.0316,2,    308.4,2,   -999.0,9,  -999.00,9,  -999.00,9,  -999.00,9,  -999.00,9,   -999.0,9,   -999.0,9,   -999.0,9,   -999.0,  -999.00,9,2
  74JC20181103, SR01b,     8,  1,      1,      1,2,20181109,1441,-55.1700, -57.9831, 3107,   3147.2,   1.4238,9,-999.0000,  34.7196,2,  34.7215,2,    193.7,2,    194.9,2,   108.28,2,    32.24,2,     0.03,2,     2.21,2,   -999.0,9,   -999.0,9,   -999.0,9,   -999.0,  -999.00,9,9
  74JC20181103, SR01b,     8,  1,      2,      2,2,20181109,1441,-55.1700, -57.9831, 3107,   3104.9,   1.4675,9,-999.0000,  34.7205,2,  34.7203,2,    192.5,2,    195.7,2,   107.94,2,    32.25,2,     0.01,2,     2.21,2,   2261.7,2,   2364.6,2,   -999.0,9,   -999.0,  -999.00,9,9
  74JC20181103, SR01b,     8,  1,      3,      3,2,20181109,1441,-55.1700, -57.9831, 3107,   2942.3,   1.5663,9,-999.0000,  34.7210,2,  34.7215,2,    190.5,2,    192.3,2,   105.26,2,    32.30,2,     0.02,2,     2.21,2,   2260.3,2,   2364.7,2,   -999.0,9,   -999.0,  -999.00,9,9
  74JC20181103, SR01b,     8,  1,      4,      4,2,20181109,1441,-55.1700, -57.9831, 3107,   2789.6,   1.7131,9,-999.0000,  34.7182,2,  34.7188,2,    186.1,2,    192.1,3,   101.84,2,    32.45,2,     0.02,2,     2.21,2,   2262.1,2,   2361.0,2,   -999.0,9,   -999.0,  -999.00,9,9
  74JC20181103, SR01b,     8,  1,      5,      5,2,20181109,1441,-55.1700, -57.9831, 3107,   2534.4,   1.9135,9,-999.0000,  34.7093,2,  34.7104,2,    180.1,2,    181.9,3,    96.93,2,    32.65,2,     0.02,2,     2.24,2,   2264.2,2,   2360.1,2,   -999.0,9,   -999.0,  -999.00,9,9
  74JC20181103, SR01b,     8,  1,      6,      6,2,20181109,1441,-55.1700, -57.9831, 3107,   2431.9,   1.9959,9,-999.0000,  34.7017,2,  34.7001,2,    177.6,2,    179.5,2,    95.01,2,    32.89,2,     0.01,2,     2.26,2,   2262.8,2,   2359.7,2,   -999.0,9,   -999.0,  -999.00,9,9
  74JC20181103, SR01b,     8,  1,      7,      7,2,20181109,1441,-55.1700, -57.9831, 3107,   2279.6,   2.1229,9,-999.0000,  34.6880,2,  34.6912,2,    174.5,2,    177.0,2,    90.38,2,    33.01,2,     0.02,2,     2.27,2,   2263.3,2,   2357.2,2,   -999.0,9,   -999.0,  -999.00,9,9
  74JC20181103, SR01b,     8,  1,      8,      8,2,20181109,1441,-55.1700, -57.9831, 3107,   2026.6,   2.3093,9,-999.0000,  34.6475,2,  34.6485,2,    170.6,2,    173.5,2,    84.89,2,    33.76,2,     0.02,2,     2.32,2,   2262.0,2,   2348.7,2,   -999.0,9,   -999.0,  -999.00,9,9
  74JC20181103, SR01b,     8,  1,      9,      9,2,20181109,1441,-55.1700, -57.9831, 3107,   1771.6,   2.5005,9,-999.0000,  34.5825,2,  34.5795,2,    166.4,2,    167.1,2,    79.57,2,    34.62,2,     0.03,2,     2.38,2,   2261.0,2,   2344.7,2,   -999.0,9,   -999.0,  -999.00,9,9
  74JC20181103, SR01b,     8,  1,     10,     10,2,20181109,1441,-55.1700, -57.9831, 3107,   1671.8,   2.5476,9,-999.0000,  34.5640,2,  34.5643,2,    166.8,2,    169.3,2,    77.67,2,    34.80,2,     0.02,2,     2.39,2,   2254.9,2,   2341.8,2,   -999.0,9,   -999.0,  -999.00,9,9
  74JC20181103, SR01b,     8,  1,     11,     11,2,20181109,1441,-55.1700, -57.9831, 3107,   1518.2,   2.7127,9,-999.0000,  34.5138,2,  34.5152,2,    167.2,2,    169.6,2,    72.49,2,    35.13,2,     0.02,2,     2.41,2,   2255.1,2,   2336.6,2,   -999.0,9,   -999.0,  -999.00,9,9
  74JC20181103, SR01b,     8,  1,     12,     12,2,20181109,1441,-55.1700, -57.9831, 3107,   1266.1,   2.8789,9,-999.0000,  34.3700,2,  34.3705,2,    196.4,2,    201.2,2,    54.01,2,    34.02,2,     0.02,2,     2.32,2,   2227.4,2,   2315.5,2,   -999.0,9,   -999.0,  -999.00,9,9
  74JC20181103, SR01b,     8,  1,     13,     13,4,20181109,1441,-55.1700, -57.9831, 3107,   1114.9,   3.1793,9,-999.0000,  34.2954,2,  34.1535,4,    213.9,2,    225.2,4,    23.42,4,    27.43,4,     0.07,4,     1.87,4,   2177.3,4,   2289.9,4,   -999.0,9,   -999.0,  -999.00,9,9
  74JC20181103, SR01b,     8,  1,     14,     14,2,20181109,1441,-55.1700, -57.9831, 3107,   1012.1,   3.2796,9,-999.0000,  34.2303,2,  34.2337,2,    235.0,2,    237.0,2,    33.69,2,    31.31,2,     0.01,2,     2.12,2,   2194.7,2,   2297.7,4,   -999.0,9,   -999.0,  -999.00,9,9
  74JC20181103, SR01b,     8,  1,     15,     15,2,20181109,1441,-55.1700, -57.9831, 3107,    885.9,   3.6684,9,-999.0000,  34.2090,2,  34.2109,2,    245.7,2,    247.6,2,    26.99,2,    29.88,2,     0.02,2,     2.01,2,   2184.4,2,   2291.2,2,   -999.0,9,   -999.0,  -999.00,9,9
  74JC20181103, SR01b,     8,  1,     16,     16,2,20181109,1441,-55.1700, -57.9831, 3107,    760.0,   3.9069,9,-999.0000,  34.1757,2,  34.1735,2,    264.0,2,    265.4,2,    20.13,2,    28.01,2,     0.02,2,     1.89,2,   2168.7,2,   2283.8,2,   -999.0,9,   -999.0,  -999.00,9,9
  74JC20181103, SR01b,     8,  1,     17,     17,2,20181109,1441,-55.1700, -57.9831, 3107,    634.7,   4.1220,9,-999.0000,  34.1454,2,  34.1431,2,    286.0,2,    287.3,2,    13.94,2,    25.83,2,     0.03,2,     1.75,2,   2154.5,2,   2280.2,2,   -999.0,9,   -999.0,  -999.00,9,9
  74JC20181103, SR01b,     8,  1,     18,     18,2,20181109,1441,-55.1700, -57.9831, 3107,    459.3,   4.5203,9,-999.0000,  34.1517,2,  34.1532,2,    299.4,2,    300.7,2,     9.88,2,    23.51,2,     0.13,2,     1.63,2,   2140.8,2,   2276.0,2,   -999.0,9,   -999.0,  -999.00,9,9
  74JC20181103, SR01b,     8,  1,     19,     19,2,20181109,1441,-55.1700, -57.9831, 3107,    381.8,   4.6448,9,-999.0000,  34.1600,2,  34.1593,2,    297.5,2,    298.8,2,     9.56,2,    23.40,2,     0.09,2,     1.61,2,   -999.0,9,   -999.0,9,   -999.0,9,   -999.0,  -999.00,9,9
  74JC20181103, SR01b,     8,  1,     20,     20,2,20181109,1441,-55.1700, -57.9831, 3107,    257.2,   4.7174,9,-999.0000,  34.1566,2,  34.1557,2,    303.4,2,    304.4,2,     8.49,2,    22.59,2,     0.16,2,     1.57,2,   2136.4,2,   2274.4,2,   -999.0,9,   -999.0,  -999.00,9,9
  74JC20181103, SR01b,     8,  1,     21,     21,3,20181109,1441,-55.1700, -57.9831, 3107,    182.1,   4.8046,9,-999.0000,  34.1488,2,  34.0752,3,    305.1,2,    311.1,3,     6.34,3,    20.53,3,     0.19,3,     1.44,3,   -999.0,9,   -999.0,9,   -999.0,9,   -999.0,  -999.00,9,9
  74JC20181103, SR01b,     8,  1,     22,     22,2,20181109,1441,-55.1700, -57.9831, 3107,    106.2,   4.9850,9,-999.0000,  34.1284,2,  34.1295,2,    306.8,2,    309.1,2,     7.51,2,    21.47,2,     0.17,2,     1.50,2,   2130.6,2,   2269.3,2,   -999.0,9,   -999.0,  -999.00,9,9
  74JC20181103, SR01b,     8,  1,     23,     23,2,20181109,1441,-55.1700, -57.9831, 3107,     56.5,   5.4312,9,-999.0000,  34.0058,2,  34.0046,2,    308.7,2,    310.3,2,     5.02,2,    19.29,2,     0.21,2,     1.36,2,   -999.0,9,   -999.0,9,   -999.0,9,   -999.0,  -999.00,9,9
  74JC20181103, SR01b,     8,  1,     24,     24,2,20181109,1441,-55.1700, -57.9831, 3107,     10.7,   5.5005,9,-999.0000,  34.0018,2,  34.0018,2,    307.8,2,    309.8,2,     4.99,2,    19.07,2,     0.21,2,     1.35,2,   -999.0,9,   -999.0,9,   -999.0,9,   -999.0,  -999.00,9,9