BOTTLE,20210419PRINUNIVRMK
EXPOCODE,SECT_ID,STNNBR,CASTNO,SAMPNO,BTLNBR,BTLNBR_FLAG_W,DATE,TIME,LATITUDE,LONGITUDE,DEPTH,CTDPRS,CTDTMP,SBE35_FLAG_W,REFTMP,CTDSAL,CTDSAL_FLAG_W,SALNTY,SALNTY_FLAG_W,CTDOXY,CTDOXY_FLAG_W,OXYGEN,OXYGEN_FLAG_W,SILCAT,SILCAT_FLAG_W,NITRAT,NITRAT_FLAG_W,NITRIT,NITRIT_FLAG_W,PHSPHT,PHSPHT_FLAG_W,TCARBN,TCARBN_FLAG_W,ALKALI,ALKALI_FLAG_W,DELC14,DELC14_FLAG_W,C14ERR,DELC13,DELC13_FLAG_W,SBE35_FLAG_W
,,,,,,,,,,,METERS,DBAR,ITS-90,,,PSS-78,,PSS-78,,UMOL/KG,,UMOL/KG,,UMOL/KG,,UMOL/KG,,UMOL/KG,,UMOL/KG,,UMOL/KG,,UMOL/KG,,/MILLE,,/MILLE,/MILLE,,
  74JC20181103, SR01b,    13,  1,      1,      1,2,20181110,1927,-56.4658, -57.4246, 3719,   3769.3,   0.6471,9,-999.0000,  34.6929,2,  34.6921,2,    212.6,2,    214.1,2,   121.51,2,    31.89,2,     0.01,2,     2.18,2,   2261.0,6,   2364.0,6,   -158.6,2,      1.9,     0.55,2,9
  74JC20181103, SR01b,    13,  1,      2,      2,3,20181110,1927,-56.4658, -57.4246, 3719,   3730.8,   0.6479,9,-999.0000,  34.6931,2,  34.6935,3,    213.1,2,   -999.0,9,  -999.00,9,  -999.00,9,  -999.00,9,  -999.00,9,   -999.0,9,   -999.0,9,   -999.0,9,   -999.0,  -999.00,9,9
  74JC20181103, SR01b,    13,  1,      3,      3,2,20181110,1927,-56.4658, -57.4246, 3719,   3557.4,   0.7107,9,-999.0000,  34.6965,2,  34.6964,2,    210.7,2,    210.8,2,   120.29,2,    31.76,2,     0.02,2,     2.18,2,   2262.3,2,   2363.5,2,   -161.8,2,      1.9,     0.53,2,9
  74JC20181103, SR01b,    13,  1,      4,      4,2,20181110,1927,-56.4658, -57.4246, 3719,   3045.1,   0.9493,9,-999.0000,  34.7090,2,  34.7078,2,    203.9,2,    204.1,2,   116.90,2,    31.54,2,     0.02,2,     2.16,2,   2267.7,2,   2368.5,2,   -164.9,2,      1.9,     0.49,2,9
  74JC20181103, SR01b,    13,  1,      5,      5,2,20181110,1927,-56.4658, -57.4246, 3719,   2535.3,   1.3547,9,-999.0000,  34.7217,2,  34.7184,2,    194.8,2,    195.0,2,   106.85,2,    31.22,2,     0.02,2,     2.17,2,   2262.1,2,   2363.8,2,   -169.8,2,      2.9,     0.49,2,9
  74JC20181103, SR01b,    13,  1,      6,      6,2,20181110,1927,-56.4658, -57.4246, 3719,   2280.2,   1.5527,9,-999.0000,  34.7250,2,  34.7258,2,    190.8,2,    193.2,2,   101.22,2,    31.09,2,     0.01,2,     2.14,2,   2267.8,2,   2365.4,2,   -164.8,2,      2.1,     0.50,2,9
  74JC20181103, SR01b,    13,  1,      7,      7,2,20181110,1927,-56.4658, -57.4246, 3719,   2025.8,   1.7339,9,-999.0000,  34.7183,2,  34.7169,2,    185.2,2,    185.1,2,    97.77,2,    31.25,2,     0.01,2,     2.16,2,   2264.7,2,   2363.9,2,   -165.9,2,      1.8,     0.48,2,9
  74JC20181103, SR01b,    13,  1,      8,      8,2,20181110,1927,-56.4658, -57.4246, 3719,   1769.9,   1.8937,9,-999.0000,  34.7073,2,  34.7066,2,    179.4,2,    180.2,2,    94.42,2,    31.58,2,     0.03,2,     2.19,2,   2271.3,2,   2367.3,2,   -167.4,2,      1.9,     0.48,2,9
  74JC20181103, SR01b,    13,  1,      9,      9,2,20181110,1927,-56.4658, -57.4246, 3719,   1519.5,   2.0794,9,-999.0000,  34.6873,2,  34.6858,2,    175.8,2,    175.4,2,    88.29,2,    31.91,2,     0.01,2,     2.20,2,   2264.5,2,   2356.5,2,   -163.2,2,      2.2,     0.33,2,9
  74JC20181103, SR01b,    13,  1,     10,     10,2,20181110,1927,-56.4658, -57.4246, 3719,   1266.0,   2.2231,9,-999.0000,  34.6527,2,  34.6511,2,    171.9,2,    172.1,2,    83.99,2,    32.41,2,     0.02,2,     2.25,2,   2268.1,2,   2359.2,2,   -162.7,2,      1.8,     0.26,2,9
  74JC20181103, SR01b,    13,  1,     11,     11,2,20181110,1927,-56.4658, -57.4246, 3719,   1266.0,   2.2230,9,-999.0000,  34.6526,2,  34.6518,2,    171.7,2,    171.6,2,    83.87,2,    32.40,2,     0.01,2,     2.25,2,   -999.0,9,   -999.0,9,   -163.2,2,      1.8,     0.30,2,9
  74JC20181103, SR01b,    13,  1,     12,     12,2,20181110,1927,-56.4658, -57.4246, 3719,   1012.4,   2.4162,9,-999.0000,  34.5852,2,  34.5815,2,    170.0,2,    169.5,2,    76.75,2,    33.10,2,     0.01,2,     2.30,2,   2261.1,2,   2345.3,2,   -153.2,2,      2.3,     0.33,2,9
  74JC20181103, SR01b,    13,  1,     13,     13,2,20181110,1927,-56.4658, -57.4246, 3719,    886.0,   2.5383,9,-999.0000,  34.5293,2,  34.5275,2,    172.7,2,    172.0,2,    70.86,2,    33.29,2,     0.01,2,     2.32,2,   2258.3,2,   2333.7,2,   -143.5,2,      2.0,     0.37,2,9
  74JC20181103, SR01b,    13,  1,     14,     14,2,20181110,1927,-56.4658, -57.4246, 3719,    761.5,   2.6717,9,-999.0000,  34.4748,2,  34.2440,2,    177.7,2,    182.1,2,    54.70,2,    32.04,2,     0.03,2,     2.22,2,   2243.3,2,   2376.8,3,   -123.4,2,      1.8,     0.48,2,9
  74JC20181103, SR01b,    13,  1,     15,     15,2,20181110,1927,-56.4658, -57.4246, 3719,    558.4,   2.8613,9,-999.0000,  34.3673,2,  34.3617,2,    197.5,2,    209.1,3,    51.97,2,    32.49,2,     0.02,2,     2.26,2,   2233.4,2,   2318.4,2,   -111.2,2,      2.0,     0.52,2,9
  74JC20181103, SR01b,    13,  1,     16,     16,2,20181110,1927,-56.4658, -57.4246, 3719,    458.1,   2.6638,9,-999.0000,  34.2724,2,  34.1773,2,    226.0,2,    252.0,4,    33.19,2,    29.25,2,     0.05,2,     2.02,2,   2189.7,3,   2295.4,6,    -88.5,2,      1.9,     0.82,2,9
  74JC20181103, SR01b,    13,  1,     17,     17,2,20181110,1927,-56.4658, -57.4246, 3719,    383.1,   2.0690,9,-999.0000,  34.1542,2,  34.1136,2,    263.9,2,    264.9,2,    33.55,2,    29.74,2,     0.02,2,     2.06,2,   -999.0,9,   -999.0,9,   -999.0,9,   -999.0,  -999.00,9,9
  74JC20181103, SR01b,    13,  1,     18,     18,2,20181110,1927,-56.4658, -57.4246, 3719,    257.7,   2.3558,9,-999.0000,  34.1162,2,  34.0343,2,    279.4,2,    278.6,2,    26.57,2,    28.43,2,     0.03,2,     1.98,2,   2184.2,2,   2291.4,2,    -66.8,2,      1.9,     0.90,2,9
  74JC20181103, SR01b,    13,  1,     19,     19,2,20181110,1927,-56.4658, -57.4246, 3719,    183.8,   1.9636,9,-999.0000,  34.0389,2,  34.0121,2,    321.2,2,    320.5,2,    19.56,2,    26.27,2,     0.16,2,     1.84,2,   2158.9,2,   2283.6,2,    -62.1,2,      2.5,     1.05,2,9
  74JC20181103, SR01b,    13,  1,     20,     20,2,20181110,1927,-56.4658, -57.4246, 3719,    108.1,   2.3072,9,-999.0000,  34.0147,2,  34.0394,2,    326.6,2,    325.5,2,    17.85,2,    25.33,2,     0.14,2,     1.75,2,   2158.2,2,   2284.5,2,    -78.0,2,      2.0,     1.31,2,9
  74JC20181103, SR01b,    13,  1,     21,     21,3,20181110,1927,-56.4658, -57.4246, 3719,     27.9,   2.8623,9,-999.0000,  34.0446,2,  34.0417,3,    324.6,2,   -999.0,9,  -999.00,9,  -999.00,9,  -999.00,9,  -999.00,9,   2153.6,2,   -999.0,9,   -999.0,5,   -999.0,  -999.00,5,9
  74JC20181103, SR01b,    13,  1,     22,     22,2,20181110,1927,-56.4658, -57.4246, 3719,     27.9,   2.8584,9,-999.0000,  34.0445,2,-999.0000,9,    324.7,2,    324.2,2,    16.41,2,    24.75,2,     0.14,2,     1.70,2,   -999.0,9,   -999.0,9,    -55.2,2,      2.1,     1.35,2,9
  74JC20181103, SR01b,    13,  1,     23,     23,2,20181110,1927,-56.4658, -57.4246, 3719,     12.7,   2.8716,9,-999.0000,  34.0449,2,-999.0000,9,    325.3,2,    324.4,2,    16.44,2,    24.73,2,     0.13,2,     1.70,2,   2149.2,2,   2283.0,2,    -69.6,2,      2.1,     1.39,2,9
  74JC20181103, SR01b,    14,  1,      1,      1,2,20181111,0051,-56.7826, -57.2280, 3146,   3168.8,   0.8631,9,-999.0000,  34.7060,2,  34.7037,3,    205.6,2,    207.6,2,   121.18,2,    31.83,2,     0.02,2,     2.20,2,   2258.5,2,   2382.4,4,   -999.0,9,   -999.0,  -999.00,9,9
  74JC20181103, SR01b,    14,  1,      2,      2,2,20181111,0051,-56.7826, -57.2280, 3146,   3128.8,   0.8639,9,-999.0000,  34.7062,2,  34.7066,3,    205.6,2,    206.2,2,   121.37,2,    31.82,2,     0.02,2,     2.19,2,   2259.8,2,   2369.7,2,   -999.0,9,   -999.0,  -999.00,9,9
  74JC20181103, SR01b,    14,  1,      3,      3,2,20181111,0051,-56.7826, -57.2280, 3146,   2787.5,   1.2014,9,-999.0000,  34.7190,2,  34.7134,3,    198.5,2,    198.9,2,   113.72,2,    31.55,2,     0.01,2,     2.17,2,   2262.2,2,   2368.7,2,   -999.0,9,   -999.0,  -999.00,9,9
  74JC20181103, SR01b,    14,  1,      4,      4,2,20181111,0051,-56.7826, -57.2280, 3146,   2531.5,   1.2455,9,-999.0000,  34.7209,2,  34.7204,3,    197.3,2,    196.9,2,   111.59,2,    31.43,2,     0.02,2,     2.17,2,   2260.8,2,   2366.1,2,   -999.0,9,   -999.0,  -999.00,9,9
  74JC20181103, SR01b,    14,  1,      5,      5,2,20181111,0051,-56.7826, -57.2280, 3146,   2277.6,   1.2991,9,-999.0000,  34.7228,2,  34.7219,3,    196.0,2,    195.7,2,   109.29,2,    31.56,2,     0.02,2,     2.17,2,   2261.5,2,   2370.2,2,   -999.0,9,   -999.0,  -999.00,9,9
  74JC20181103, SR01b,    14,  1,      6,      6,2,20181111,0051,-56.7826, -57.2280, 3146,   2022.0,   1.5053,9,-999.0000,  34.7216,2,  34.7166,3,    190.1,2,    190.6,2,   104.43,2,    31.61,2,     0.02,2,     2.18,2,   2261.9,2,   2395.4,3,   -999.0,9,   -999.0,  -999.00,9,9
  74JC20181103, SR01b,    14,  1,      7,      7,2,20181111,0051,-56.7826, -57.2280, 3146,   1769.8,   1.6864,9,-999.0000,  34.7188,2,  34.7167,3,    185.2,2,    186.7,3,   100.06,2,    31.73,2,     0.02,2,     2.18,2,   2264.5,2,   2363.5,2,   -999.0,9,   -999.0,  -999.00,9,9
  74JC20181103, SR01b,    14,  1,      8,      8,2,20181111,0051,-56.7826, -57.2280, 3146,   1514.9,   1.8523,9,-999.0000,  34.7085,2,-999.0000,4,    179.7,2,    179.7,2,    96.51,2,    32.07,2,     0.02,2,     2.22,2,   2265.4,2,   2363.8,2,   -999.0,9,   -999.0,  -999.00,9,9
  74JC20181103, SR01b,    14,  1,      9,      9,2,20181111,0051,-56.7826, -57.2280, 3146,   1260.3,   2.0826,9,-999.0000,  34.6833,2,  34.7078,3,    174.8,2,    174.4,2,    89.27,2,    32.52,2,     0.02,2,     2.24,2,   2262.5,2,   2357.7,2,   -999.0,9,   -999.0,  -999.00,9,9
  74JC20181103, SR01b,    14,  1,     10,     10,2,20181111,0051,-56.7826, -57.2280, 3146,   1007.9,   2.2644,9,-999.0000,  34.6369,2,  34.6816,3,    171.3,2,    170.6,3,    83.13,2,    33.16,2,     0.02,2,     2.29,2,   2261.1,2,   2357.5,2,   -999.0,9,   -999.0,  -999.00,9,9
  74JC20181103, SR01b,    14,  1,     11,     11,2,20181111,0051,-56.7826, -57.2280, 3146,    881.4,   2.3478,9,-999.0000,  34.6047,2,  34.6375,3,    171.0,2,    170.4,2,    79.37,2,    33.44,2,     0.02,2,     2.32,2,   2260.0,2,   2361.0,3,   -999.0,9,   -999.0,  -999.00,9,9
  74JC20181103, SR01b,    14,  1,     12,     12,2,20181111,0051,-56.7826, -57.2280, 3146,    754.2,   2.4683,9,-999.0000,  34.5564,2,  34.6005,3,    170.2,2,    169.5,2,    75.30,2,    34.01,2,     0.02,2,     2.35,2,   2256.8,2,   2341.4,2,   -999.0,9,   -999.0,  -999.00,9,9
  74JC20181103, SR01b,    14,  1,     13,     13,2,20181111,0051,-56.7826, -57.2280, 3146,    627.8,   2.5861,9,-999.0000,  34.4973,2,  34.5534,3,    176.1,2,    175.2,2,    68.54,2,    34.08,2,     0.03,2,     2.35,2,   2250.4,2,   2330.5,2,   -999.0,9,   -999.0,  -999.00,9,9
  74JC20181103, SR01b,    14,  1,     14,     14,2,20181111,0051,-56.7826, -57.2280, 3146,    562.5,   2.6450,9,-999.0000,  34.4539,2,  34.4942,3,    181.1,2,    180.4,2,    64.24,2,    33.92,2,     0.02,2,     2.34,2,   2246.4,2,   2328.3,2,   -999.0,9,   -999.0,  -999.00,9,9
  74JC20181103, SR01b,    14,  1,     15,     15,2,20181111,0051,-56.7826, -57.2280, 3146,    502.1,   2.6571,9,-999.0000,  34.4071,2,  34.4509,3,    189.8,2,    189.4,2,    59.68,2,    33.81,2,     0.02,2,     2.32,2,   2238.6,2,   2320.2,2,   -999.0,9,   -999.0,  -999.00,9,9
  74JC20181103, SR01b,    14,  1,     16,     16,2,20181111,0051,-56.7826, -57.2280, 3146,    443.1,   2.7914,9,-999.0000,  34.3742,2,  34.4030,3,    196.4,2,    196.7,2,    54.42,2,    33.38,2,     0.02,2,     2.29,2,   2229.5,6,   2313.9,2,   -999.0,9,   -999.0,  -999.00,9,9
  74JC20181103, SR01b,    14,  1,     17,     17,2,20181111,0051,-56.7826, -57.2280, 3146,    378.4,   2.2770,9,-999.0000,  34.2563,2,  34.3706,3,    233.3,2,    233.1,2,    45.11,2,    32.33,2,     0.02,2,     2.21,2,   -999.0,9,   -999.0,9,   -999.0,9,   -999.0,  -999.00,9,9
  74JC20181103, SR01b,    14,  1,     18,     18,2,20181111,0051,-56.7826, -57.2280, 3146,    253.4,   1.5419,9,-999.0000,  34.0775,2,  34.2520,3,    291.6,2,    291.2,2,    29.37,2,    29.53,2,     0.03,2,     2.01,2,   -999.0,9,   -999.0,9,   -999.0,9,   -999.0,  -999.00,9,9
  74JC20181103, SR01b,    14,  1,     19,     19,2,20181111,0051,-56.7826, -57.2280, 3146,    179.8,   1.5400,9,-999.0000,  34.0263,2,  34.0773,3,    312.2,2,   -999.0,9,    23.13,2,    28.09,2,     0.08,2,     1.93,2,   2168.7,2,   2281.7,2,   -999.0,9,   -999.0,  -999.00,9,9
  74JC20181103, SR01b,    14,  1,     20,     20,2,20181111,0051,-56.7826, -57.2280, 3146,    105.4,   1.8695,9,-999.0000,  34.0348,2,  34.0234,3,    319.2,2,    319.3,2,    20.48,2,    27.30,2,     0.19,2,     1.88,2,   -999.0,9,   -999.0,9,   -999.0,9,   -999.0,  -999.00,9,9
  74JC20181103, SR01b,    14,  1,     21,     21,4,20181111,0051,-56.7826, -57.2280, 3146,     55.7,   1.5944,9,-999.0000,  33.9559,2,  34.0339,4,    338.7,2,   -999.0,9,  -999.00,9,  -999.00,9,  -999.00,9,  -999.00,9,   2157.0,4,   -999.0,9,   -999.0,9,   -999.0,  -999.00,9,9
  74JC20181103, SR01b,    14,  1,     22,     22,2,20181111,0051,-56.7826, -57.2280, 3146,     55.7,   1.5912,9,-999.0000,  33.9559,2,  33.9557,3,    338.7,2,    338.9,2,    19.45,2,    26.05,2,     0.18,2,     1.78,2,   -999.0,9,   -999.0,9,   -999.0,9,   -999.0,  -999.00,9,9
  74JC20181103, SR01b,    14,  1,     23,     23,2,20181111,0051,-56.7826, -57.2280, 3146,     10.0,   1.6073,9,-999.0000,  33.9557,2,  33.9560,3,    338.7,2,    339.2,2,    19.47,2,    25.98,2,     0.19,2,     1.81,2,   2154.8,2,   2284.3,2,   -999.0,9,   -999.0,  -999.00,9,9
  74JC20181103, SR01b,    14,  1,     24,     24,4,20181111,0051,-56.7826, -57.2280, 3146,     10.1,   1.6021,9,-999.0000,  33.9558,2,-999.0000,4,    338.7,2,   -999.0,9,  -999.00,9,  -999.00,9,  -999.00,9,  -999.00,9,   -999.0,9,   -999.0,9,   -999.0,9,   -999.0,  -999.00,9,9