BOTTLE,20210419PRINUNIVRMK
EXPOCODE,SECT_ID,STNNBR,CASTNO,SAMPNO,BTLNBR,BTLNBR_FLAG_W,DATE,TIME,LATITUDE,LONGITUDE,DEPTH,CTDPRS,CTDTMP,SBE35_FLAG_W,REFTMP,CTDSAL,CTDSAL_FLAG_W,SALNTY,SALNTY_FLAG_W,CTDOXY,CTDOXY_FLAG_W,OXYGEN,OXYGEN_FLAG_W,SILCAT,SILCAT_FLAG_W,NITRAT,NITRAT_FLAG_W,NITRIT,NITRIT_FLAG_W,PHSPHT,PHSPHT_FLAG_W,TCARBN,TCARBN_FLAG_W,ALKALI,ALKALI_FLAG_W,DELC14,DELC14_FLAG_W,C14ERR,DELC13,DELC13_FLAG_W,SBE35_FLAG_W
,,,,,,,,,,,METERS,DBAR,ITS-90,,,PSS-78,,PSS-78,,UMOL/KG,,UMOL/KG,,UMOL/KG,,UMOL/KG,,UMOL/KG,,UMOL/KG,,UMOL/KG,,UMOL/KG,,/MILLE,,/MILLE,/MILLE,,
  74JC20181103, SR01b,    25,  1,      1,      1,2,20181114,0358,-60.9810, -54.6299,  581,    577.5,  -0.5990,2,  -0.5991,  34.5513,2,  34.5489,2,    269.2,2,    266.0,3,  -999.00,5,  -999.00,9,  -999.00,5,  -999.00,5,   2246.0,6,   -999.0,9,   -142.6,2,      2.3,     0.55,2,2
  74JC20181103, SR01b,    25,  1,      2,      2,2,20181114,0358,-60.9810, -54.6299,  581,    576.6,  -0.5984,2,  -0.5988,  34.5514,2,-999.0000,9,    268.6,2,   -999.0,9,  -999.00,5,  -999.00,9,  -999.00,5,  -999.00,5,   -999.0,9,   -999.0,9,   -999.0,9,   -999.0,  -999.00,9,2
  74JC20181103, SR01b,    25,  1,      3,      3,2,20181114,0358,-60.9810, -54.6299,  581,    577.7,  -0.5986,2,  -0.5993,  34.5514,2,-999.0000,9,    269.1,2,   -999.0,9,  -999.00,5,  -999.00,9,  -999.00,5,  -999.00,5,   -999.0,9,   -999.0,9,   -999.0,9,   -999.0,  -999.00,9,2
  74JC20181103, SR01b,    25,  1,      4,      4,2,20181114,0358,-60.9810, -54.6299,  581,    537.1,  -0.6054,2,  -0.6057,  34.5500,2,  34.5449,2,    269.2,2,    266.7,3,  -999.00,5,  -999.00,9,  -999.00,5,  -999.00,5,   2247.4,2,   -999.0,9,   -144.8,2,      1.8,     0.51,2,2
  74JC20181103, SR01b,    25,  1,      5,      5,2,20181114,0358,-60.9810, -54.6299,  581,    537.5,  -0.6056,2,  -0.6059,  34.5500,2,-999.0000,9,    269.7,2,   -999.0,9,  -999.00,5,  -999.00,9,  -999.00,5,  -999.00,5,   -999.0,9,   -999.0,9,   -134.5,3,      1.7,     0.78,3,2
  74JC20181103, SR01b,    25,  1,      6,      6,2,20181114,0358,-60.9810, -54.6299,  581,    538.6,  -0.6054,2,  -0.6057,  34.5498,2,-999.0000,9,    269.8,2,   -999.0,9,  -999.00,5,  -999.00,9,  -999.00,5,  -999.00,5,   -999.0,9,   -999.0,9,   -999.0,9,   -999.0,  -999.00,9,2
  74JC20181103, SR01b,    25,  1,      7,      7,3,20181114,0358,-60.9810, -54.6299,  581,    379.3,  -0.7194,2,  -0.7197,  34.5256,2,-999.0000,9,    279.3,2,   -999.0,9,  -999.00,5,  -999.00,9,  -999.00,5,  -999.00,5,   2245.8,2,   -999.0,9,   -999.0,9,   -999.0,  -999.00,9,2
  74JC20181103, SR01b,    25,  1,      8,      8,2,20181114,0358,-60.9810, -54.6299,  581,    380.4,  -0.7205,2,  -0.7201,  34.5245,2,  34.5222,2,    279.4,2,    277.1,3,  -999.00,5,  -999.00,9,  -999.00,5,  -999.00,5,   -999.0,9,   -999.0,9,   -138.4,2,      1.9,     0.51,2,2
  74JC20181103, SR01b,    25,  1,      9,      9,2,20181114,0358,-60.9810, -54.6299,  581,    380.4,  -0.7202,2,  -0.7203,  34.5244,2,-999.0000,9,    279.8,2,   -999.0,9,  -999.00,5,  -999.00,9,  -999.00,5,  -999.00,5,   -999.0,9,   -999.0,9,   -999.0,9,   -999.0,  -999.00,9,2
  74JC20181103, SR01b,    25,  1,     10,     10,2,20181114,0358,-60.9810, -54.6299,  581,    252.0,  -0.7026,2,  -0.7034,  34.4701,2,  34.4662,2,    296.2,2,    294.9,3,  -999.00,5,  -999.00,9,  -999.00,5,  -999.00,5,   2239.1,2,   -999.0,9,   -139.4,2,      2.5,     0.55,2,2
  74JC20181103, SR01b,    25,  1,     11,     11,3,20181114,0358,-60.9810, -54.6299,  581,    253.7,  -0.7042,2,  -0.7039,  34.4698,2,-999.0000,9,    297.9,2,   -999.0,9,  -999.00,5,  -999.00,9,  -999.00,5,  -999.00,5,   -999.0,9,   -999.0,9,   -999.0,9,   -999.0,  -999.00,9,2
  74JC20181103, SR01b,    25,  1,     12,     12,3,20181114,0358,-60.9810, -54.6299,  581,    253.7,  -0.7041,2,  -0.7041,  34.4698,2,-999.0000,9,    298.2,2,   -999.0,9,  -999.00,5,  -999.00,9,  -999.00,5,  -999.00,5,   -999.0,9,   -999.0,9,   -999.0,9,   -999.0,  -999.00,9,2
  74JC20181103, SR01b,    25,  1,     13,     13,2,20181114,0358,-60.9810, -54.6299,  581,    178.8,  -0.7307,2,  -0.7307,  34.4489,2,  34.4477,2,    307.9,2,    304.0,3,  -999.00,5,  -999.00,9,  -999.00,5,  -999.00,5,   2230.9,2,   -999.0,9,   -136.5,2,      1.8,     0.56,2,2
  74JC20181103, SR01b,    25,  1,     14,     14,2,20181114,0358,-60.9810, -54.6299,  581,    177.9,  -0.7308,2,  -0.7310,  34.4486,2,-999.0000,9,    306.9,2,   -999.0,9,  -999.00,5,  -999.00,9,  -999.00,5,  -999.00,5,   -999.0,9,   -999.0,9,   -999.0,9,   -999.0,  -999.00,9,2
  74JC20181103, SR01b,    25,  1,     15,     15,2,20181114,0358,-60.9810, -54.6299,  581,    177.4,  -0.7310,2,  -0.7309,  34.4487,2,-999.0000,9,    306.6,2,   -999.0,9,  -999.00,5,  -999.00,9,  -999.00,5,  -999.00,5,   -999.0,9,   -999.0,9,   -999.0,9,   -999.0,  -999.00,9,2
  74JC20181103, SR01b,    25,  1,     16,     16,2,20181114,0358,-60.9810, -54.6299,  581,    102.1,  -0.7186,2,  -0.7185,  34.4043,2,  34.4041,2,    328.2,2,    324.7,3,  -999.00,5,  -999.00,9,  -999.00,5,  -999.00,5,   2222.5,2,   -999.0,9,   -136.2,2,      1.9,     0.68,2,2
  74JC20181103, SR01b,    25,  1,     17,     17,2,20181114,0358,-60.9810, -54.6299,  581,    103.5,  -0.7176,2,  -0.7173,  34.4040,2,-999.0000,9,    329.2,2,   -999.0,9,  -999.00,5,  -999.00,9,  -999.00,5,  -999.00,5,   -999.0,9,   -999.0,9,   -999.0,9,   -999.0,  -999.00,9,2
  74JC20181103, SR01b,    25,  1,     18,     18,2,20181114,0358,-60.9810, -54.6299,  581,    103.0,  -0.7178,2,  -0.7171,  34.4040,2,-999.0000,9,    329.1,2,   -999.0,9,  -999.00,5,  -999.00,9,  -999.00,5,  -999.00,5,   -999.0,9,   -999.0,9,   -999.0,9,   -999.0,  -999.00,9,2
  74JC20181103, SR01b,    25,  1,     19,     25,4,20181114,0358,-60.9810, -54.6299,  581,     52.3,  -0.6887,2,  -0.6881,  34.3915,2,-999.0000,9,    333.0,2,   -999.0,9,  -999.00,5,  -999.00,9,  -999.00,5,  -999.00,5,   -999.0,9,   -999.0,9,   -999.0,9,   -999.0,  -999.00,9,2
  74JC20181103, SR01b,    25,  1,     20,     20,2,20181114,0358,-60.9810, -54.6299,  581,     52.2,  -0.6883,2,  -0.6884,  34.3909,2,  34.3913,2,    333.8,2,    322.4,3,  -999.00,5,  -999.00,9,  -999.00,5,  -999.00,5,   -999.0,9,   -999.0,9,   -133.4,2,      2.3,     0.79,2,2
  74JC20181103, SR01b,    25,  1,     21,     21,3,20181114,0358,-60.9810, -54.6299,  581,     52.8,  -0.6907,2,  -0.6899,  34.3904,2,-999.0000,9,    333.8,2,   -999.0,9,  -999.00,5,  -999.00,9,  -999.00,5,  -999.00,5,   -999.0,9,   -999.0,9,   -999.0,9,   -999.0,  -999.00,9,2
  74JC20181103, SR01b,    25,  1,     22,     22,2,20181114,0358,-60.9810, -54.6299,  581,      6.8,  -0.6318,2,  -0.6314,  34.3327,2,  34.3355,2,    347.8,2,    343.1,3,  -999.00,5,  -999.00,9,  -999.00,5,  -999.00,5,   2214.4,2,   -999.0,9,   -999.0,9,   -999.0,  -999.00,9,2
  74JC20181103, SR01b,    25,  1,     23,     23,2,20181114,0358,-60.9810, -54.6299,  581,      7.2,  -0.6303,2,  -0.6304,  34.3304,2,-999.0000,9,    346.2,2,   -999.0,9,  -999.00,5,  -999.00,9,  -999.00,5,  -999.00,5,   -999.0,9,   -999.0,9,   -999.0,9,   -999.0,  -999.00,9,2
  74JC20181103, SR01b,    25,  1,     24,     24,3,20181114,0358,-60.9810, -54.6299,  581,      6.8,  -0.6306,2,  -0.6307,  34.3307,2,-999.0000,9,    346.9,2,   -999.0,9,  -999.00,5,  -999.00,9,  -999.00,5,  -999.00,5,   -999.0,9,   -999.0,9,   -999.0,9,   -999.0,  -999.00,9,2
  74JC20181103, SR01b,    26,  1,      1,      1,2,20181114,0614,-60.8503, -54.7111, 1006,   1009.9,   0.0897,2,   0.1019,  34.6349,2,  34.6341,2,    234.9,2,    234.5,2,   106.57,2,    31.86,2,     0.02,2,     2.24,2,   2251.6,6,   2352.0,6,   -999.0,9,   -999.0,  -999.00,9,2
  74JC20181103, SR01b,    26,  1,      2,      2,2,20181114,0614,-60.8503, -54.7111, 1006,   1008.9,   0.1110,2,   0.1015,  34.6359,2,-999.0000,9,    233.5,2,   -999.0,9,  -999.00,9,  -999.00,9,  -999.00,9,  -999.00,9,   -999.0,9,   -999.0,9,   -999.0,9,   -999.0,  -999.00,9,2
  74JC20181103, SR01b,    26,  1,      3,      3,2,20181114,0614,-60.8503, -54.7111, 1006,   1008.9,   0.0929,2,   0.0933,  34.6348,2,-999.0000,9,    234.6,2,   -999.0,9,  -999.00,9,  -999.00,9,  -999.00,9,  -999.00,9,   -999.0,9,   -999.0,9,   -999.0,9,   -999.0,  -999.00,9,2
  74JC20181103, SR01b,    26,  1,      4,      4,2,20181114,0614,-60.8503, -54.7111, 1006,    969.8,   0.0938,2,   0.0776,  34.6337,2,  34.6315,2,    234.8,2,    233.3,2,   105.88,2,    31.93,2,     0.03,2,     2.24,2,   2255.3,2,   2345.5,3,   -999.0,9,   -999.0,  -999.00,9,2
  74JC20181103, SR01b,    26,  1,      5,      5,2,20181114,0614,-60.8503, -54.7111, 1006,    971.0,   0.0842,2,   0.0709,  34.6326,2,-999.0000,9,    235.3,2,   -999.0,9,  -999.00,9,  -999.00,9,  -999.00,9,  -999.00,9,   -999.0,9,   -999.0,9,   -999.0,9,   -999.0,  -999.00,9,2
  74JC20181103, SR01b,    26,  1,      6,      6,2,20181114,0614,-60.8503, -54.7111, 1006,    969.7,   0.0723,2,   0.0740,  34.6316,2,-999.0000,9,    235.8,2,   -999.0,9,  -999.00,9,  -999.00,9,  -999.00,9,  -999.00,9,   -999.0,9,   -999.0,9,   -999.0,9,   -999.0,  -999.00,9,2
  74JC20181103, SR01b,    26,  1,      7,      7,3,20181114,0614,-60.8503, -54.7111, 1006,    758.0,   0.0701,2,   0.0732,  34.6273,2,-999.0000,9,    237.5,2,   -999.0,9,   104.38,3,    31.89,3,     0.03,3,     2.23,3,   2253.9,6,   2348.9,4,   -999.0,9,   -999.0,  -999.00,9,2
  74JC20181103, SR01b,    26,  1,      8,      8,2,20181114,0614,-60.8503, -54.7111, 1006,    758.0,   0.0801,2,   0.0794,  34.6295,2,  34.6278,2,    236.9,2,    237.6,2,  -999.00,9,  -999.00,9,  -999.00,9,  -999.00,9,   -999.0,9,   -999.0,9,   -999.0,9,   -999.0,  -999.00,9,2
  74JC20181103, SR01b,    26,  1,      9,      9,2,20181114,0614,-60.8503, -54.7111, 1006,    757.7,   0.0761,2,   0.0758,  34.6302,2,-999.0000,9,    236.3,2,   -999.0,9,  -999.00,9,  -999.00,9,  -999.00,9,  -999.00,9,   -999.0,9,   -999.0,9,   -999.0,9,   -999.0,  -999.00,9,2
  74JC20181103, SR01b,    26,  1,     10,     10,2,20181114,0614,-60.8503, -54.7111, 1006,    504.7,  -0.5586,2,  -0.5592,  34.5222,2,-999.0000,9,    275.6,2,    273.7,2,    89.39,2,    31.34,2,     0.04,2,     2.20,2,   2241.3,2,   2337.3,2,   -999.0,9,   -999.0,  -999.00,9,2
  74JC20181103, SR01b,    26,  1,     11,     11,2,20181114,0614,-60.8503, -54.7111, 1006,    504.4,  -0.5595,2,  -0.5599,  34.5219,2,-999.0000,9,    276.0,2,   -999.0,9,  -999.00,9,  -999.00,9,  -999.00,9,  -999.00,9,   -999.0,9,   -999.0,9,   -999.0,9,   -999.0,  -999.00,9,2
  74JC20181103, SR01b,    26,  1,     12,     12,3,20181114,0614,-60.8503, -54.7111, 1006,    505.7,  -0.5618,2,  -0.5608,  34.5215,2,-999.0000,9,    276.1,2,   -999.0,9,  -999.00,9,  -999.00,9,  -999.00,9,  -999.00,9,   -999.0,9,   -999.0,9,   -999.0,9,   -999.0,  -999.00,9,2
  74JC20181103, SR01b,    26,  1,     13,     13,2,20181114,0614,-60.8503, -54.7111, 1006,    254.5,  -0.5383,2,  -0.5379,  34.4534,2,  34.4531,2,    296.0,2,    294.2,2,    84.40,2,    30.86,2,     0.08,2,     2.16,2,   2236.8,2,   2330.7,2,   -999.0,9,   -999.0,  -999.00,9,2
  74JC20181103, SR01b,    26,  1,     14,     14,2,20181114,0614,-60.8503, -54.7111, 1006,    252.9,  -0.5393,2,  -0.5400,  34.4534,2,-999.0000,9,    296.2,2,   -999.0,9,  -999.00,9,  -999.00,9,  -999.00,9,  -999.00,9,   -999.0,9,   -999.0,9,   -999.0,9,   -999.0,  -999.00,9,2
  74JC20181103, SR01b,    26,  1,     15,     15,2,20181114,0614,-60.8503, -54.7111, 1006,    252.4,  -0.5395,2,  -0.5399,  34.4533,2,-999.0000,9,    297.0,2,   -999.0,9,  -999.00,9,  -999.00,9,  -999.00,9,  -999.00,9,   -999.0,9,   -999.0,9,   -999.0,9,   -999.0,  -999.00,9,2
  74JC20181103, SR01b,    26,  1,     16,     16,2,20181114,0614,-60.8503, -54.7111, 1006,    103.3,  -0.4002,2,  -0.4006,  34.3710,2,  34.3708,2,    325.9,2,    323.4,2,    78.78,2,    29.17,2,     0.11,2,     2.06,2,   2218.8,2,   2325.4,2,   -999.0,9,   -999.0,  -999.00,9,2
  74JC20181103, SR01b,    26,  1,     17,     17,2,20181114,0614,-60.8503, -54.7111, 1006,    102.0,  -0.3995,2,  -0.3978,  34.3710,2,-999.0000,9,    325.2,2,   -999.0,9,  -999.00,9,  -999.00,9,  -999.00,9,  -999.00,9,   -999.0,9,   -999.0,9,   -999.0,9,   -999.0,  -999.00,9,2
  74JC20181103, SR01b,    26,  1,     18,     18,2,20181114,0614,-60.8503, -54.7111, 1006,    103.1,  -0.3937,2,  -0.3945,  34.3702,2,-999.0000,9,    326.0,2,   -999.0,9,  -999.00,9,  -999.00,9,  -999.00,9,  -999.00,9,   -999.0,9,   -999.0,9,   -999.0,9,   -999.0,  -999.00,9,2
  74JC20181103, SR01b,    26,  1,     19,     25,2,20181114,0614,-60.8503, -54.7111, 1006,     51.5,  -0.2815,2,  -0.2786,  34.3561,2,  34.3546,2,    329.7,2,    327.3,2,  -999.00,9,  -999.00,9,  -999.00,9,  -999.00,9,   -999.0,9,   -999.0,9,   -999.0,9,   -999.0,  -999.00,9,2
  74JC20181103, SR01b,    26,  1,     20,     20,2,20181114,0614,-60.8503, -54.7111, 1006,     51.9,  -0.2791,2,  -0.2789,  34.3559,2,-999.0000,9,    329.3,2,   -999.0,9,  -999.00,9,  -999.00,9,  -999.00,9,  -999.00,9,   -999.0,9,   -999.0,9,   -999.0,9,   -999.0,  -999.00,9,2
  74JC20181103, SR01b,    26,  1,     21,     21,3,20181114,0614,-60.8503, -54.7111, 1006,     52.1,  -0.2814,2,  -0.2808,  34.3562,2,-999.0000,9,    329.8,2,   -999.0,9,  -999.00,9,  -999.00,9,  -999.00,9,  -999.00,9,   -999.0,9,   -999.0,9,   -999.0,9,   -999.0,  -999.00,9,2
  74JC20181103, SR01b,    26,  1,     22,     22,2,20181114,0614,-60.8503, -54.7111, 1006,      7.6,  -0.2545,2,  -0.2528,  34.3517,2,  34.3488,2,    329.6,2,    330.4,2,  -999.00,9,  -999.00,9,  -999.00,9,  -999.00,9,   2216.9,2,   -999.0,9,   -999.0,9,   -999.0,  -999.00,9,2
  74JC20181103, SR01b,    26,  1,     23,     23,2,20181114,0614,-60.8503, -54.7111, 1006,      7.1,  -0.2505,2,  -0.2520,  34.3515,2,-999.0000,9,    329.4,2,   -999.0,9,  -999.00,9,  -999.00,9,  -999.00,9,  -999.00,9,   -999.0,9,   -999.0,9,   -999.0,9,   -999.0,  -999.00,9,2
  74JC20181103, SR01b,    26,  1,     24,     24,4,20181114,0614,-60.8503, -54.7111, 1006,      7.1,  -0.2521,2,  -0.2519,  34.3519,2,-999.0000,9,    329.9,2,   -999.0,9,  -999.00,9,  -999.00,9,  -999.00,9,  -999.00,9,   -999.0,9,   -999.0,9,   -999.0,9,   -999.0,  -999.00,9,2