BOTTLE,20210419PRINUNIVRMK
EXPOCODE,SECT_ID,STNNBR,CASTNO,SAMPNO,BTLNBR,BTLNBR_FLAG_W,DATE,TIME,LATITUDE,LONGITUDE,DEPTH,CTDPRS,CTDTMP,SBE35_FLAG_W,REFTMP,CTDSAL,CTDSAL_FLAG_W,SALNTY,SALNTY_FLAG_W,CTDOXY,CTDOXY_FLAG_W,OXYGEN,OXYGEN_FLAG_W,SILCAT,SILCAT_FLAG_W,NITRAT,NITRAT_FLAG_W,NITRIT,NITRIT_FLAG_W,PHSPHT,PHSPHT_FLAG_W,TCARBN,TCARBN_FLAG_W,ALKALI,ALKALI_FLAG_W,DELC14,DELC14_FLAG_W,C14ERR,DELC13,DELC13_FLAG_W,SBE35_FLAG_W
,,,,,,,,,,,METERS,DBAR,ITS-90,,,PSS-78,,PSS-78,,UMOL/KG,,UMOL/KG,,UMOL/KG,,UMOL/KG,,UMOL/KG,,UMOL/KG,,UMOL/KG,,UMOL/KG,,/MILLE,,/MILLE,/MILLE,,
  74JC20181103, SR01b,    23,  1,      1,      1,2,20181113,2336,-61.0500, -54.5873,  361,    352.2,  -0.6038,2,  -0.6047,  34.5328,2,-999.0000,9,    274.9,2,   -999.0,9,  -999.00,9,  -999.00,9,  -999.00,9,  -999.00,9,   -999.0,9,   -999.0,9,   -999.0,9,   -999.0,  -999.00,9,2
  74JC20181103, SR01b,    23,  1,      2,      2,2,20181113,2336,-61.0500, -54.5873,  361,    352.2,  -0.6059,2,  -0.6052,  34.5329,2,-999.0000,9,    275.2,2,   -999.0,9,  -999.00,9,  -999.00,9,  -999.00,9,  -999.00,9,   -999.0,9,   -999.0,9,   -999.0,9,   -999.0,  -999.00,9,2
  74JC20181103, SR01b,    23,  1,      3,      3,2,20181113,2336,-61.0500, -54.5873,  361,    353.7,  -0.6034,2,  -0.6041,  34.5322,2,-999.0000,9,    274.3,2,   -999.0,9,  -999.00,9,  -999.00,9,  -999.00,9,  -999.00,9,   -999.0,9,   -999.0,9,   -999.0,9,   -999.0,  -999.00,9,2
  74JC20181103, SR01b,    23,  1,      4,      4,2,20181113,2336,-61.0500, -54.5873,  361,    353.3,  -0.6057,2,  -0.6065,  34.5330,2,-999.0000,9,    274.5,2,   -999.0,9,  -999.00,9,  -999.00,9,  -999.00,9,  -999.00,9,   -999.0,9,   -999.0,9,   -999.0,9,   -999.0,  -999.00,9,2
  74JC20181103, SR01b,    23,  1,      5,      5,2,20181113,2336,-61.0500, -54.5873,  361,    353.9,  -0.6065,2,  -0.6066,  34.5330,2,-999.0000,9,    275.1,2,   -999.0,9,  -999.00,9,  -999.00,9,  -999.00,9,  -999.00,9,   -999.0,9,   -999.0,9,   -999.0,9,   -999.0,  -999.00,9,2
  74JC20181103, SR01b,    23,  1,      6,      6,2,20181113,2336,-61.0500, -54.5873,  361,    354.9,  -0.6040,2,  -0.6040,  34.5326,2,-999.0000,9,    274.8,2,   -999.0,9,  -999.00,9,  -999.00,9,  -999.00,9,  -999.00,9,   -999.0,9,   -999.0,9,   -999.0,9,   -999.0,  -999.00,9,2
  74JC20181103, SR01b,    23,  1,      7,      7,2,20181113,2336,-61.0500, -54.5873,  361,    353.9,  -0.6057,2,  -0.6048,  34.5329,2,-999.0000,9,    274.5,2,   -999.0,9,  -999.00,9,  -999.00,9,  -999.00,9,  -999.00,9,   -999.0,9,   -999.0,9,   -999.0,9,   -999.0,  -999.00,9,2
  74JC20181103, SR01b,    23,  1,      8,      8,2,20181113,2336,-61.0500, -54.5873,  361,    353.9,  -0.6053,2,  -0.6041,  34.5327,2,-999.0000,9,    274.6,2,   -999.0,9,  -999.00,9,  -999.00,9,  -999.00,9,  -999.00,9,   -999.0,9,   -999.0,9,   -999.0,9,   -999.0,  -999.00,9,2
  74JC20181103, SR01b,    23,  1,      9,      9,2,20181113,2336,-61.0500, -54.5873,  361,    353.1,  -0.6051,2,  -0.6047,  34.5322,2,  34.5316,2,    274.7,2,    275.0,3,    87.21,2,    31.17,2,     0.04,2,     2.18,2,   2242.0,6,   2335.8,6,   -999.0,9,   -999.0,  -999.00,9,2
  74JC20181103, SR01b,    23,  1,     10,     10,2,20181113,2336,-61.0500, -54.5873,  361,    353.3,  -0.6054,2,  -0.6048,  34.5323,2,-999.0000,9,    274.1,2,   -999.0,9,  -999.00,9,  -999.00,9,  -999.00,9,  -999.00,9,   -999.0,9,   -999.0,9,   -999.0,9,   -999.0,  -999.00,9,2
  74JC20181103, SR01b,    23,  1,     11,     11,2,20181113,2336,-61.0500, -54.5873,  361,    314.2,  -0.5392,2,  -0.5399,  34.5231,2,  34.5233,2,    274.6,2,    276.8,3,    86.81,2,    31.16,2,     0.04,2,     2.18,2,   2243.7,6,   2334.7,2,   -999.0,9,   -999.0,  -999.00,9,2
  74JC20181103, SR01b,    23,  1,     12,     12,4,20181113,2336,-61.0500, -54.5873,  361,    315.0,  -0.5434,2,  -0.5447,  34.5237,2,-999.0000,9,    274.5,2,   -999.0,9,  -999.00,9,  -999.00,9,  -999.00,9,  -999.00,9,   -999.0,9,   -999.0,9,   -999.0,9,   -999.0,  -999.00,9,2
  74JC20181103, SR01b,    23,  1,     13,     13,2,20181113,2336,-61.0500, -54.5873,  361,    253.9,  -0.2797,2,  -0.2796,  34.4593,2,  34.4583,2,    283.5,2,    283.2,3,    83.73,2,    30.87,2,     0.07,2,     2.17,2,   2236.8,6,   2329.7,6,   -999.0,9,   -999.0,  -999.00,9,2
  74JC20181103, SR01b,    23,  1,     14,     14,2,20181113,2336,-61.0500, -54.5873,  361,    254.2,  -0.2789,2,  -0.2792,  34.4566,2,-999.0000,9,    283.7,2,    284.0,3,  -999.00,9,  -999.00,9,  -999.00,9,  -999.00,9,   -999.0,9,   -999.0,9,   -999.0,9,   -999.0,  -999.00,9,2
  74JC20181103, SR01b,    23,  1,     15,     15,2,20181113,2336,-61.0500, -54.5873,  361,    179.4,  -0.2685,2,  -0.2685,  34.3646,2,  34.3642,2,    322.0,2,    321.3,3,    78.51,2,    29.62,2,     0.11,2,     2.06,2,   2220.2,6,   2322.7,6,   -999.0,9,   -999.0,  -999.00,9,2
  74JC20181103, SR01b,    23,  1,     16,     16,2,20181113,2336,-61.0500, -54.5873,  361,    177.6,  -0.2681,2,  -0.2681,  34.3645,2,-999.0000,9,    321.6,2,    320.5,3,  -999.00,9,  -999.00,9,  -999.00,9,  -999.00,9,   -999.0,9,   -999.0,9,   -999.0,9,   -999.0,  -999.00,9,2
  74JC20181103, SR01b,    23,  1,     17,     17,2,20181113,2336,-61.0500, -54.5873,  361,    101.9,  -0.2630,2,  -0.2632,  34.3550,2,  34.3561,2,    324.3,2,    324.3,3,    78.31,2,    29.56,2,     0.12,2,     2.06,2,   2218.5,6,   2324.9,6,   -999.0,9,   -999.0,  -999.00,9,2
  74JC20181103, SR01b,    23,  1,     18,     18,2,20181113,2336,-61.0500, -54.5873,  361,    102.9,  -0.2632,2,  -0.2634,  34.3551,2,-999.0000,9,    323.6,2,    324.8,3,  -999.00,9,  -999.00,9,  -999.00,9,  -999.00,9,   -999.0,9,   -999.0,9,   -999.0,9,   -999.0,  -999.00,9,2
  74JC20181103, SR01b,    23,  1,     19,     19,4,20181113,2336,-61.0500, -54.5873,  361,     53.5,  -0.2781,2,  -0.2785,  34.3463,2,-999.0000,9,    327.1,2,   -999.0,9,    77.66,4,    29.44,4,     0.13,4,     2.05,4,   2219.5,4,   2325.3,4,   -999.0,9,   -999.0,  -999.00,9,2
  74JC20181103, SR01b,    23,  1,     20,     20,2,20181113,2336,-61.0500, -54.5873,  361,     52.5,  -0.2786,2,  -0.2784,  34.3468,2,  34.3471,2,    326.9,2,    326.7,3,  -999.00,9,  -999.00,9,  -999.00,9,  -999.00,9,   -999.0,9,   -999.0,9,   -999.0,9,   -999.0,  -999.00,9,2
  74JC20181103, SR01b,    23,  1,     21,     21,4,20181113,2336,-61.0500, -54.5873,  361,     27.3,  -0.2643,2,  -0.2646,  34.3398,2,  34.3404,4,    329.6,2,   -999.0,9,    77.18,4,    29.28,4,     0.13,4,     2.03,4,   2218.6,4,   2322.1,4,   -999.0,9,   -999.0,  -999.00,9,2
  74JC20181103, SR01b,    23,  1,     22,     22,2,20181113,2336,-61.0500, -54.5873,  361,     26.6,  -0.2656,2,  -0.2654,  34.3405,2,-999.0000,9,    330.1,2,    330.0,3,  -999.00,2,  -999.00,9,  -999.00,2,  -999.00,2,   -999.0,9,   -999.0,9,   -999.0,9,   -999.0,  -999.00,9,2
  74JC20181103, SR01b,    23,  1,     23,     23,2,20181113,2336,-61.0500, -54.5873,  361,      8.0,  -0.2650,2,  -0.2651,  34.3401,2,  34.3400,2,    330.5,2,    331.2,3,    76.96,2,    29.12,2,     0.13,2,     2.03,2,   2217.3,6,   2325.1,6,   -999.0,9,   -999.0,  -999.00,9,2
  74JC20181103, SR01b,    23,  1,     24,     24,4,20181113,2336,-61.0500, -54.5873,  361,      6.0,  -0.2638,2,  -0.2644,  34.3399,2,-999.0000,9,    329.8,2,   -999.0,9,  -999.00,9,  -999.00,9,  -999.00,9,  -999.00,9,   -999.0,9,   -999.0,9,   -999.0,9,   -999.0,  -999.00,9,2
  74JC20181103, SR01b,    24,  1,      1,      1,2,20181114,0239,-60.9810, -54.6299,  580,    573.8,  -0.6035,2,  -0.6037,  34.5502,2,-999.0000,9,    269.2,2,   -999.0,9,    90.61,2,    30.80,2,     0.00,2,     2.15,2,   -999.0,9,   -999.0,9,   -999.0,9,   -999.0,  -999.00,9,2
  74JC20181103, SR01b,    24,  1,      2,      2,2,20181114,0239,-60.9810, -54.6299,  580,    574.3,  -0.6037,2,  -0.6038,  34.5503,2,-999.0000,9,    269.4,2,   -999.0,9,  -999.00,9,  -999.00,9,  -999.00,9,  -999.00,9,   -999.0,9,   -999.0,9,   -999.0,9,   -999.0,  -999.00,9,2
  74JC20181103, SR01b,    24,  1,      3,      3,2,20181114,0239,-60.9810, -54.6299,  580,    575.5,  -0.6033,2,  -0.6034,  34.5502,2,-999.0000,9,    269.7,2,   -999.0,9,  -999.00,9,  -999.00,9,  -999.00,9,  -999.00,9,   -999.0,9,   -999.0,9,   -999.0,9,   -999.0,  -999.00,9,2
  74JC20181103, SR01b,    24,  1,      4,      4,2,20181114,0239,-60.9810, -54.6299,  580,    576.7,  -0.6041,2,  -0.6040,  34.5501,2,-999.0000,9,    269.6,2,   -999.0,9,    90.64,2,    30.75,2,     0.04,2,     2.16,2,   -999.0,9,   -999.0,9,   -999.0,9,   -999.0,  -999.00,9,2
  74JC20181103, SR01b,    24,  1,      5,      5,2,20181114,0239,-60.9810, -54.6299,  580,    574.1,  -0.6041,2,  -0.6043,  34.5500,2,-999.0000,9,    269.6,2,   -999.0,9,  -999.00,9,  -999.00,9,  -999.00,9,  -999.00,9,   -999.0,9,   -999.0,9,   -999.0,9,   -999.0,  -999.00,9,2
  74JC20181103, SR01b,    24,  1,      6,      6,2,20181114,0239,-60.9810, -54.6299,  580,    576.0,  -0.6039,2,  -0.6042,  34.5501,2,-999.0000,9,    269.3,2,   -999.0,9,  -999.00,9,  -999.00,9,  -999.00,9,  -999.00,9,   -999.0,9,   -999.0,9,   -999.0,9,   -999.0,  -999.00,9,2
  74JC20181103, SR01b,    24,  1,      7,      7,2,20181114,0239,-60.9810, -54.6299,  580,    575.0,  -0.6041,2,  -0.6045,  34.5500,2,-999.0000,9,    269.6,2,   -999.0,9,    87.25,2,    30.67,2,     0.03,2,     2.13,2,   -999.0,9,   -999.0,9,   -999.0,9,   -999.0,  -999.00,9,2
  74JC20181103, SR01b,    24,  1,      8,      8,2,20181114,0239,-60.9810, -54.6299,  580,    405.3,  -0.7238,2,  -0.7236,  34.5219,2,-999.0000,9,    279.8,2,   -999.0,9,  -999.00,9,  -999.00,9,  -999.00,9,  -999.00,9,   -999.0,9,   -999.0,9,   -999.0,9,   -999.0,  -999.00,9,2
  74JC20181103, SR01b,    24,  1,      9,      9,2,20181114,0239,-60.9810, -54.6299,  580,    404.0,  -0.7236,2,  -0.7234,  34.5217,2,-999.0000,9,    279.5,2,   -999.0,9,  -999.00,9,  -999.00,9,  -999.00,9,  -999.00,9,   -999.0,9,   -999.0,9,   -999.0,9,   -999.0,  -999.00,9,2
  74JC20181103, SR01b,    24,  1,     10,     10,2,20181114,0239,-60.9810, -54.6299,  580,    403.7,  -0.7231,2,  -0.7226,  34.5215,2,-999.0000,9,    280.2,2,   -999.0,9,    83.87,2,    30.22,2,     0.06,2,     2.10,2,   -999.0,9,   -999.0,9,   -999.0,9,   -999.0,  -999.00,9,2
  74JC20181103, SR01b,    24,  1,     11,     11,2,20181114,0239,-60.9810, -54.6299,  580,    405.5,  -0.7228,2,  -0.7221,  34.5214,2,-999.0000,9,    280.3,2,   -999.0,9,  -999.00,9,  -999.00,9,  -999.00,9,  -999.00,9,   -999.0,9,   -999.0,9,   -999.0,9,   -999.0,  -999.00,9,2
  74JC20181103, SR01b,    24,  1,     12,     12,2,20181114,0239,-60.9810, -54.6299,  580,    404.2,  -0.7218,2,  -0.7213,  34.5211,2,-999.0000,9,    280.5,2,   -999.0,9,  -999.00,9,  -999.00,9,  -999.00,9,  -999.00,9,   -999.0,9,   -999.0,9,   -999.0,9,   -999.0,  -999.00,9,2
  74JC20181103, SR01b,    24,  1,     13,     13,2,20181114,0239,-60.9810, -54.6299,  580,    406.0,  -0.7226,2,  -0.7209,  34.5211,2,-999.0000,9,    280.7,2,   -999.0,9,    81.28,2,    29.92,2,     0.09,2,     2.12,2,   -999.0,9,   -999.0,9,   -999.0,9,   -999.0,  -999.00,9,2
  74JC20181103, SR01b,    24,  1,     14,     14,2,20181114,0239,-60.9810, -54.6299,  580,    405.0,  -0.7211,2,  -0.7207,  34.5211,2,-999.0000,9,    280.7,2,   -999.0,9,  -999.00,9,  -999.00,9,  -999.00,9,  -999.00,9,   -999.0,9,   -999.0,9,   -999.0,9,   -999.0,  -999.00,9,2
  74JC20181103, SR01b,    24,  1,     15,     15,2,20181114,0239,-60.9810, -54.6299,  580,    404.7,  -0.7205,2,  -0.7203,  34.5210,2,-999.0000,9,    280.4,2,   -999.0,9,  -999.00,9,  -999.00,9,  -999.00,9,  -999.00,9,   -999.0,9,   -999.0,9,   -999.0,9,   -999.0,  -999.00,9,2
  74JC20181103, SR01b,    24,  1,     16,     16,2,20181114,0239,-60.9810, -54.6299,  580,    203.0,  -0.7188,2,  -0.7189,  34.4437,2,-999.0000,9,    309.1,2,   -999.0,9,    77.51,2,    29.08,2,     0.10,2,     2.02,2,   -999.0,9,   -999.0,9,   -999.0,9,   -999.0,  -999.00,9,2
  74JC20181103, SR01b,    24,  1,     17,     17,2,20181114,0239,-60.9810, -54.6299,  580,    203.8,  -0.7187,2,  -0.7192,  34.4433,2,-999.0000,9,    310.0,2,   -999.0,9,  -999.00,9,  -999.00,9,  -999.00,9,  -999.00,9,   -999.0,9,   -999.0,9,   -999.0,9,   -999.0,  -999.00,9,2
  74JC20181103, SR01b,    24,  1,     18,     18,2,20181114,0239,-60.9810, -54.6299,  580,    203.1,  -0.7202,2,  -0.7207,  34.4427,2,-999.0000,9,    309.4,2,   -999.0,9,  -999.00,9,  -999.00,9,  -999.00,9,  -999.00,9,   -999.0,9,   -999.0,9,   -999.0,9,   -999.0,  -999.00,9,2
  74JC20181103, SR01b,    24,  1,     19,     25,2,20181114,0239,-60.9810, -54.6299,  580,    203.9,  -0.7202,2,  -0.7210,  34.4429,2,-999.0000,9,    309.4,2,   -999.0,9,  -999.00,9,  -999.00,9,  -999.00,9,  -999.00,9,   -999.0,9,   -999.0,9,   -999.0,9,   -999.0,  -999.00,9,2
  74JC20181103, SR01b,    24,  1,     20,     20,2,20181114,0239,-60.9810, -54.6299,  580,    203.4,  -0.7202,2,  -0.7207,  34.4427,2,-999.0000,9,    309.9,2,   -999.0,9,    76.45,2,    28.75,2,     0.11,2,     1.99,2,   -999.0,9,   -999.0,9,   -999.0,9,   -999.0,  -999.00,9,2
  74JC20181103, SR01b,    24,  1,     21,     21,2,20181114,0239,-60.9810, -54.6299,  580,    203.8,  -0.7209,2,  -0.7215,  34.4425,2,-999.0000,9,    310.2,2,   -999.0,9,  -999.00,9,  -999.00,9,  -999.00,9,  -999.00,9,   -999.0,9,   -999.0,9,   -999.0,9,   -999.0,  -999.00,9,2
  74JC20181103, SR01b,    24,  1,     22,     22,2,20181114,0239,-60.9810, -54.6299,  580,    203.5,  -0.7208,2,  -0.7211,  34.4429,2,-999.0000,9,    309.9,2,   -999.0,9,    73.14,9,    27.80,9,     0.12,9,     1.93,9,   -999.0,9,   -999.0,9,   -999.0,9,   -999.0,  -999.00,9,2
  74JC20181103, SR01b,    24,  1,     23,     23,2,20181114,0239,-60.9810, -54.6299,  580,    202.7,  -0.7205,2,  -0.7208,  34.4431,2,-999.0000,9,    309.1,2,   -999.0,9,  -999.00,9,  -999.00,9,  -999.00,9,  -999.00,9,   -999.0,9,   -999.0,9,   -999.0,9,   -999.0,  -999.00,9,2
  74JC20181103, SR01b,    24,  1,     24,     24,2,20181114,0239,-60.9810, -54.6299,  580,    202.7,  -0.7205,2,  -0.7207,  34.4433,2,-999.0000,9,    309.4,2,   -999.0,9,  -999.00,9,  -999.00,9,  -999.00,9,  -999.00,9,   -999.0,9,   -999.0,9,   -999.0,9,   -999.0,  -999.00,9,2