BOTTLE,20210419PRINUNIVRMK
EXPOCODE,SECT_ID,STNNBR,CASTNO,SAMPNO,BTLNBR,BTLNBR_FLAG_W,DATE,TIME,LATITUDE,LONGITUDE,DEPTH,CTDPRS,CTDTMP,SBE35_FLAG_W,REFTMP,CTDSAL,CTDSAL_FLAG_W,SALNTY,SALNTY_FLAG_W,CTDOXY,CTDOXY_FLAG_W,OXYGEN,OXYGEN_FLAG_W,SILCAT,SILCAT_FLAG_W,NITRAT,NITRAT_FLAG_W,NITRIT,NITRIT_FLAG_W,PHSPHT,PHSPHT_FLAG_W,TCARBN,TCARBN_FLAG_W,ALKALI,ALKALI_FLAG_W,DELC14,DELC14_FLAG_W,C14ERR,DELC13,DELC13_FLAG_W,SBE35_FLAG_W
,,,,,,,,,,,METERS,DBAR,ITS-90,,,PSS-78,,PSS-78,,UMOL/KG,,UMOL/KG,,UMOL/KG,,UMOL/KG,,UMOL/KG,,UMOL/KG,,UMOL/KG,,UMOL/KG,,/MILLE,,/MILLE,/MILLE,,
  74JC20181103, SR01b,    21,  1,      1,      1,2,20181112,1612,-59.0045, -55.8475, 3772,   3830.0,  -0.0316,9,-999.0000,  34.6547,2,  34.6524,2,    235.1,2,    234.4,2,   118.31,2,    32.75,2,     0.02,2,     2.25,2,   2255.1,6,   2352.6,6,   -151.7,2,      1.8,     0.55,2,9
  74JC20181103, SR01b,    21,  1,      2,      2,2,20181112,1612,-59.0045, -55.8475, 3772,   3788.4,  -0.0228,9,-999.0000,  34.6552,2,  34.6565,2,    234.2,2,    237.1,2,   118.25,2,    32.74,2,     0.01,2,     2.24,2,   2260.8,2,   2351.0,2,   -156.0,2,      1.7,     0.52,2,9
  74JC20181103, SR01b,    21,  1,      3,      3,2,20181112,1612,-59.0045, -55.8475, 3772,   3551.4,   0.0607,9,-999.0000,  34.6593,2,  34.6615,2,    230.5,2,    230.3,2,   118.95,2,    32.79,2,     0.01,2,     2.25,2,   2257.2,6,   2354.9,6,   -151.1,2,      1.7,     0.53,2,9
  74JC20181103, SR01b,    21,  1,      4,      4,2,20181112,1612,-59.0045, -55.8475, 3772,   3040.5,   0.2419,9,-999.0000,  34.6718,2,  34.6730,2,    222.8,2,    223.4,2,   120.92,2,    32.77,2,     0.01,2,     2.25,2,   2262.9,2,   2353.3,2,   -155.8,2,      1.7,     0.44,2,9
  74JC20181103, SR01b,    21,  1,      5,      5,2,20181112,1612,-59.0045, -55.8475, 3772,   2530.3,   0.5405,9,-999.0000,  34.7017,2,  34.7033,2,    209.5,2,    209.1,2,   131.69,2,    32.90,2,     0.01,2,     2.24,2,   2262.1,2,   2363.2,2,   -163.7,2,      1.9,     0.39,2,9
  74JC20181103, SR01b,    21,  1,      6,      6,2,20181112,1612,-59.0045, -55.8475, 3772,   2022.5,   0.7320,9,-999.0000,  34.7089,2,  34.7107,2,    205.2,2,    204.6,2,   125.13,2,    32.66,2,     0.02,2,     2.23,2,   2266.7,2,   2363.4,2,   -161.9,2,      1.7,     0.44,2,9
  74JC20181103, SR01b,    21,  1,      7,      7,2,20181112,1612,-59.0045, -55.8475, 3772,   1516.7,   1.0225,9,-999.0000,  34.7178,2,  34.7189,2,    200.1,2,    200.9,2,   114.74,2,    32.42,2,     0.01,2,     2.20,2,   2261.4,2,   2361.4,2,   -159.5,2,      1.7,     0.41,2,9
  74JC20181103, SR01b,    21,  1,      8,      8,2,20181112,1612,-59.0045, -55.8475, 3772,   1365.6,   1.1008,9,-999.0000,  34.7203,2,  34.7218,2,    198.4,2,    197.6,2,   113.00,2,    32.32,2,     0.01,2,     2.20,2,   2265.6,2,   2360.0,2,   -159.5,2,      1.7,     0.41,2,9
  74JC20181103, SR01b,    21,  1,      9,      9,2,20181112,1612,-59.0045, -55.8475, 3772,   1137.6,   1.2444,9,-999.0000,  34.7206,2,  34.7205,2,    197.0,2,    196.1,2,   107.13,2,    32.27,2,     0.01,2,     2.18,2,   2260.2,2,   2365.7,2,   -157.8,2,      1.7,     0.40,2,9
  74JC20181103, SR01b,    21,  1,     10,     10,2,20181112,1612,-59.0045, -55.8475, 3772,   1061.7,   1.3158,9,-999.0000,  34.7229,2,  34.7252,2,    195.2,2,   -999.0,9,   105.51,2,    32.16,2,     0.01,2,     2.18,2,   2261.5,2,   2359.8,2,   -157.5,2,      2.3,     0.40,2,9
  74JC20181103, SR01b,    21,  1,     11,     11,2,20181112,1612,-59.0045, -55.8475, 3772,    907.0,   1.3159,9,-999.0000,  34.7027,2,  34.7024,2,    198.2,2,    198.0,2,    99.10,2,    32.15,2,     0.01,2,     2.19,2,   2256.7,2,   2354.1,2,   -999.0,9,   -999.0,  -999.00,9,9
  74JC20181103, SR01b,    21,  1,     12,     12,4,20181112,1612,-59.0045, -55.8475, 3772,    906.2,   1.3206,9,-999.0000,  34.7029,2,-999.0000,9,    198.3,2,   -999.0,9,  -999.00,9,  -999.00,9,  -999.00,9,  -999.00,9,   -999.0,9,   -999.0,9,   -999.0,9,   -999.0,  -999.00,9,9
  74JC20181103, SR01b,    21,  1,     13,     13,2,20181112,1612,-59.0045, -55.8475, 3772,    755.2,   1.6443,9,-999.0000,  34.7191,2,  34.7201,2,    188.1,2,    187.1,2,    96.37,2,    32.21,2,     0.01,2,     2.20,2,   2260.6,2,   2353.0,2,   -156.0,2,      1.7,     0.35,2,9
  74JC20181103, SR01b,    21,  1,     14,     14,2,20181112,1612,-59.0045, -55.8475, 3772,    605.9,   1.8197,9,-999.0000,  34.7099,2,  34.7096,2,    183.8,2,    183.3,2,    91.49,2,    32.44,2,     0.01,2,     2.21,2,   2257.8,2,   2349.3,2,   -999.0,9,   -999.0,  -999.00,9,9
  74JC20181103, SR01b,    21,  1,     15,     15,2,20181112,1612,-59.0045, -55.8475, 3772,    506.6,   1.9313,9,-999.0000,  34.6973,2,  34.6966,2,    180.4,2,    180.1,2,    88.10,2,    32.77,2,     0.02,2,     2.23,2,   2258.3,2,   2346.6,2,   -148.8,2,      1.8,     0.42,2,9
  74JC20181103, SR01b,    21,  1,     16,     16,2,20181112,1612,-59.0045, -55.8475, 3772,    366.3,   1.8637,9,-999.0000,  34.6330,2,  34.6328,2,    180.3,2,    180.1,2,    83.99,2,    33.69,2,     0.02,2,     2.29,2,   2255.8,6,   2340.4,6,   -999.0,9,   -999.0,  -999.00,9,9
  74JC20181103, SR01b,    21,  1,     17,     17,2,20181112,1612,-59.0045, -55.8475, 3772,    306.8,   1.9870,9,-999.0000,  34.6248,2,  34.6248,2,    174.5,2,    175.3,2,    82.54,2,    34.07,2,     0.02,2,     2.31,2,   -999.0,9,   -999.0,9,   -142.9,2,      1.8,     0.40,2,9
  74JC20181103, SR01b,    21,  1,     18,     18,2,20181112,1612,-59.0045, -55.8475, 3772,    231.9,   1.9370,9,-999.0000,  34.5633,2,  34.5638,2,    177.3,2,    177.5,2,    78.76,2,    34.65,2,     0.03,2,     2.37,2,   2253.3,2,   2333.2,2,   -999.0,9,   -999.0,  -999.00,9,9
  74JC20181103, SR01b,    21,  1,     19,     19,2,20181112,1612,-59.0045, -55.8475, 3772,    182.2,   1.7115,9,-999.0000,  34.5009,2,  34.4992,2,    188.0,2,    188.3,2,    75.73,2,    34.71,2,     0.03,2,     2.36,2,   2252.1,2,   2330.6,2,   -136.7,2,      2.2,     0.43,2,9
  74JC20181103, SR01b,    21,  1,     20,     20,2,20181112,1612,-59.0045, -55.8475, 3772,    105.9,   0.1854,9,-999.0000,  34.2569,2,  34.2462,2,    262.9,2,    268.7,2,    66.74,2,    32.32,2,     0.11,2,     2.21,2,   2225.0,2,   2310.8,2,   -999.0,9,   -999.0,  -999.00,9,9
  74JC20181103, SR01b,    21,  1,     21,     21,4,20181112,1612,-59.0045, -55.8475, 3772,     66.2,  -0.5455,9,-999.0000,  34.0938,2,-999.0000,9,    337.5,2,   -999.0,9,  -999.00,9,  -999.00,9,  -999.00,9,  -999.00,9,   2197.2,4,   -999.0,9,   -999.0,9,   -999.0,  -999.00,9,9
  74JC20181103, SR01b,    21,  1,     22,     22,2,20181112,1612,-59.0045, -55.8475, 3772,     65.9,  -0.5295,9,-999.0000,  34.0952,2,  34.0941,2,    337.4,2,    336.7,2,    58.78,2,    28.97,2,     0.17,2,     1.95,2,   -999.0,9,   -999.0,9,   -114.4,2,      2.0,     0.96,2,9
  74JC20181103, SR01b,    21,  1,     23,     23,2,20181112,1612,-59.0045, -55.8475, 3772,     10.5,  -0.3410,9,-999.0000,  34.0547,2,  34.0571,2,    358.7,2,    358.2,2,    52.51,2,    25.92,2,     0.21,2,     1.60,2,   2177.1,2,   2306.1,2,   -113.0,2,      1.7,     1.16,2,9
  74JC20181103, SR01b,    21,  1,     24,     24,4,20181112,1612,-59.0045, -55.8475, 3772,     10.6,  -0.3449,9,-999.0000,  34.0555,2,-999.0000,9,    359.5,2,   -999.0,9,  -999.00,9,  -999.00,9,  -999.00,9,  -999.00,9,   -999.0,9,   -999.0,9,   -999.0,9,   -999.0,  -999.00,9,9
  74JC20181103, SR01b,    22,  1,      1,      1,2,20181112,2114,-59.3333, -55.6512, 3754,   3810.9,  -0.0400,9,-999.0000,  34.6545,2,  34.6542,2,    235.3,2,    236.1,3,   114.65,2,    32.01,2,     0.02,2,     2.24,2,   2253.8,6,   2353.7,6,   -999.0,9,   -999.0,  -999.00,9,9
  74JC20181103, SR01b,    22,  1,      2,      2,2,20181112,2114,-59.3333, -55.6512, 3754,   3780.8,  -0.0412,9,-999.0000,  34.6546,2,  34.6543,2,    235.4,2,    235.1,3,   114.41,2,    32.08,2,     0.02,2,     2.24,2,   2253.6,2,   2357.0,3,   -999.0,9,   -999.0,  -999.00,9,9
  74JC20181103, SR01b,    22,  1,      3,      3,2,20181112,2114,-59.3333, -55.6512, 3754,   3300.8,   0.1149,9,-999.0000,  34.6631,2,  34.6625,2,    227.8,2,    228.9,3,   114.75,2,    32.05,2,     0.02,2,     2.24,2,   2257.7,2,   2354.4,2,   -999.0,9,   -999.0,  -999.00,9,9
  74JC20181103, SR01b,    22,  1,      4,      4,2,20181112,2114,-59.3333, -55.6512, 3754,   2789.9,   0.2814,9,-999.0000,  34.6765,2,  34.6763,2,    220.7,2,    221.5,3,   118.25,2,    32.09,2,     0.02,2,     2.25,2,   2258.4,2,   2357.5,2,   -999.0,9,   -999.0,  -999.00,9,9
  74JC20181103, SR01b,    22,  1,      5,      5,2,20181112,2114,-59.3333, -55.6512, 3754,   2281.5,   0.5034,9,-999.0000,  34.6946,2,  34.6929,2,    211.7,2,    212.2,3,   121.64,2,    32.07,2,     0.02,2,     2.24,2,   2263.9,2,   2361.1,2,   -999.0,9,   -999.0,  -999.00,9,9
  74JC20181103, SR01b,    22,  1,      6,      6,2,20181112,2114,-59.3333, -55.6512, 3754,   2028.7,   0.6468,9,-999.0000,  34.7038,2,  34.7028,2,    207.6,2,    207.9,3,   122.39,2,    32.01,2,     0.01,2,     2.22,2,   2262.4,2,   2362.2,2,   -999.0,9,   -999.0,  -999.00,9,9
  74JC20181103, SR01b,    22,  1,      7,      7,2,20181112,2114,-59.3333, -55.6512, 3754,   1774.4,   0.7500,9,-999.0000,  34.7071,2,  34.7083,2,    205.3,2,    206.4,3,   119.99,2,    31.98,2,     0.02,2,     2.22,2,   2262.6,2,   2361.8,2,   -999.0,9,   -999.0,  -999.00,9,9
  74JC20181103, SR01b,    22,  1,      8,      8,2,20181112,2114,-59.3333, -55.6512, 3754,   1521.2,   0.9238,9,-999.0000,  34.7147,2,  34.7153,2,    201.4,2,    201.8,3,   116.18,2,    31.84,2,     0.01,2,     2.21,2,   2262.3,6,   2362.5,6,   -999.0,9,   -999.0,  -999.00,9,9
  74JC20181103, SR01b,    22,  1,      9,      9,2,20181112,2114,-59.3333, -55.6512, 3754,   1269.2,   1.0532,9,-999.0000,  34.7191,2,  34.7192,2,    199.3,2,    199.5,3,   112.03,2,    31.67,2,     0.01,2,     2.20,2,   2254.2,2,   2360.1,2,   -999.0,9,   -999.0,  -999.00,9,9
  74JC20181103, SR01b,    22,  1,     10,     10,2,20181112,2114,-59.3333, -55.6512, 3754,   1014.7,   1.2081,9,-999.0000,  34.7171,2,  34.7165,2,    197.3,2,    197.1,3,   105.29,2,    31.60,2,     0.01,2,     2.20,2,   2259.2,2,   2356.3,2,   -999.0,9,   -999.0,  -999.00,9,9
  74JC20181103, SR01b,    22,  1,     11,     11,2,20181112,2114,-59.3333, -55.6512, 3754,    914.3,   1.3200,9,-999.0000,  34.7207,2,  34.7199,2,    194.8,2,    194.6,3,   102.91,2,    31.52,2,     0.01,2,     2.19,2,   2259.4,2,   2356.1,2,   -999.0,9,   -999.0,  -999.00,9,9
  74JC20181103, SR01b,    22,  1,     12,     12,4,20181112,2114,-59.3333, -55.6512, 3754,    788.6,   1.3500,9,-999.0000,  34.7124,2,-999.0000,9,    196.3,2,   -999.0,9,  -999.00,9,  -999.00,9,  -999.00,9,  -999.00,9,   2258.7,4,   -999.0,9,   -999.0,9,   -999.0,  -999.00,9,9
  74JC20181103, SR01b,    22,  1,     13,     13,2,20181112,2114,-59.3333, -55.6512, 3754,    787.5,   1.3488,9,-999.0000,  34.7120,2,  34.7126,2,    196.1,2,    196.5,3,    99.79,2,    31.49,2,     0.02,2,     2.20,2,   -999.0,9,   -999.0,9,   -999.0,9,   -999.0,  -999.00,9,9
  74JC20181103, SR01b,    22,  1,     14,     14,2,20181112,2114,-59.3333, -55.6512, 3754,    671.4,   1.5708,9,-999.0000,  34.7193,2,  34.7207,2,    190.6,2,    190.3,3,    95.73,2,    31.48,2,     0.02,2,     2.19,2,   2259.4,2,   2353.8,2,   -999.0,9,   -999.0,  -999.00,9,9
  74JC20181103, SR01b,    22,  1,     15,     15,2,20181112,2114,-59.3333, -55.6512, 3754,    611.4,   1.4504,9,-999.0000,  34.6976,2,  34.6965,2,    196.6,2,    197.4,3,    92.49,2,    31.60,2,     0.01,2,     2.18,2,   2255.5,2,   2353.5,2,   -999.0,9,   -999.0,  -999.00,9,9
  74JC20181103, SR01b,    22,  1,     16,     16,2,20181112,2114,-59.3333, -55.6512, 3754,    439.7,   1.7605,9,-999.0000,  34.6882,2,  34.6878,2,    186.0,2,    186.0,3,    85.63,2,    32.13,2,     0.02,2,     2.22,2,   2253.1,6,   2342.9,6,   -999.0,9,   -999.0,  -999.00,9,9
  74JC20181103, SR01b,    22,  1,     17,     17,3,20181112,2114,-59.3333, -55.6512, 3754,    360.2,   1.6535,9,-999.0000,  34.6497,2,  34.6489,3,    189.8,2,    191.2,3,    82.74,3,    32.46,3,     0.02,3,     2.24,3,   2255.5,2,   2345.8,3,   -999.0,9,   -999.0,  -999.00,9,9
  74JC20181103, SR01b,    22,  1,     18,     18,2,20181112,2114,-59.3333, -55.6512, 3754,    258.7,   1.4361,9,-999.0000,  34.5821,2,  34.5801,2,    198.2,2,    199.8,3,    80.32,2,    33.02,2,     0.03,2,     2.28,2,   2250.8,6,   2337.7,6,   -999.0,9,   -999.0,  -999.00,9,9
  74JC20181103, SR01b,    22,  1,     19,     19,2,20181112,2114,-59.3333, -55.6512, 3754,    183.8,   1.5734,9,-999.0000,  34.5434,2,  34.5422,2,    191.3,2,    197.0,3,    77.21,2,    33.62,2,     0.03,2,     2.32,2,   2254.5,2,   2335.1,2,   -999.0,9,   -999.0,  -999.00,9,9
  74JC20181103, SR01b,    22,  1,     20,     20,2,20181112,2114,-59.3333, -55.6512, 3754,    129.9,   1.0484,9,-999.0000,  34.4338,2,  34.4323,2,    215.7,2,    219.1,3,    72.52,2,    33.47,2,     0.06,2,     2.31,2,   -999.0,9,   -999.0,9,   -999.0,9,   -999.0,  -999.00,9,9
  74JC20181103, SR01b,    22,  1,     21,     21,2,20181112,2114,-59.3333, -55.6512, 3754,     58.0,  -0.4329,9,-999.0000,  34.1072,2,  34.1063,2,    329.9,2,    331.4,3,    55.25,2,    27.66,2,     0.20,2,     1.84,2,   2197.1,2,   2306.8,2,   -999.0,9,   -999.0,  -999.00,9,9
  74JC20181103, SR01b,    22,  1,     22,     22,2,20181112,2114,-59.3333, -55.6512, 3754,     57.5,  -0.4351,9,-999.0000,  34.1088,2,  34.1093,2,    329.2,2,    330.7,3,    55.48,2,    27.67,2,     0.21,2,     1.89,2,   -999.0,9,   -999.0,9,   -999.0,9,   -999.0,  -999.00,9,9
  74JC20181103, SR01b,    22,  1,     23,     23,2,20181112,2114,-59.3333, -55.6512, 3754,     18.0,  -0.4210,9,-999.0000,  34.0372,2,  34.0415,2,    364.6,2,   -999.0,9,    48.52,2,    24.70,2,     0.23,2,     1.52,2,   2174.0,2,   2305.0,2,   -999.0,9,   -999.0,  -999.00,9,9
  74JC20181103, SR01b,    22,  1,     24,     24,4,20181112,2114,-59.3333, -55.6512, 3754,     18.0,  -0.4198,9,-999.0000,  34.0372,2,-999.0000,9,    365.0,2,    358.5,4,  -999.00,9,  -999.00,9,  -999.00,9,  -999.00,9,   -999.0,9,   -999.0,9,   -999.0,9,   -999.0,  -999.00,9,9