BOTTLE,20210419PRINUNIVRMK
EXPOCODE,SECT_ID,STNNBR,CASTNO,SAMPNO,BTLNBR,BTLNBR_FLAG_W,DATE,TIME,LATITUDE,LONGITUDE,DEPTH,CTDPRS,CTDTMP,SBE35_FLAG_W,REFTMP,CTDSAL,CTDSAL_FLAG_W,SALNTY,SALNTY_FLAG_W,CTDOXY,CTDOXY_FLAG_W,OXYGEN,OXYGEN_FLAG_W,SILCAT,SILCAT_FLAG_W,NITRAT,NITRAT_FLAG_W,NITRIT,NITRIT_FLAG_W,PHSPHT,PHSPHT_FLAG_W,TCARBN,TCARBN_FLAG_W,ALKALI,ALKALI_FLAG_W,DELC14,DELC14_FLAG_W,C14ERR,DELC13,DELC13_FLAG_W,SBE35_FLAG_W
,,,,,,,,,,,METERS,DBAR,ITS-90,,,PSS-78,,PSS-78,,UMOL/KG,,UMOL/KG,,UMOL/KG,,UMOL/KG,,UMOL/KG,,UMOL/KG,,UMOL/KG,,UMOL/KG,,/MILLE,,/MILLE,/MILLE,,
  74JC20181103, SR01b,    11,  1,      1,      1,2,20181110,0817,-55.8389, -57.7924, 4789,   4368.7,   0.7848,9,-999.0000,  34.6944,2,  34.6938,2,    212.7,2,    212.5,2,   120.11,2,    32.15,2,     0.02,2,     2.19,2,   2258.1,6,   2364.8,2,   -160.9,2,      1.8,     0.52,2,9
  74JC20181103, SR01b,    11,  1,      2,      2,2,20181110,0817,-55.8389, -57.7924, 4789,   4323.1,   0.8388,9,-999.0000,  34.6975,2,  34.6973,2,    210.6,2,    211.9,2,   120.24,2,    32.18,2,     0.02,2,     2.19,2,   -999.0,9,   -999.0,9,   -238.0,4,      1.9,    -2.36,4,9
  74JC20181103, SR01b,    11,  1,      3,      3,2,20181110,0817,-55.8389, -57.7924, 4789,   3992.0,   0.9331,9,-999.0000,  34.7045,2,  34.7039,2,    206.9,2,    207.0,2,   119.87,2,    32.13,2,     0.02,2,     2.18,2,   2264.9,2,   2365.8,2,   -999.0,9,   -999.0,  -999.00,9,9
  74JC20181103, SR01b,    11,  1,      4,      4,2,20181110,0817,-55.8389, -57.7924, 4789,   3376.4,   1.2136,9,-999.0000,  34.7165,2,  34.7182,2,    198.9,2,    199.2,2,   114.62,2,    32.01,2,     0.02,2,     2.17,2,   2265.7,2,   2364.8,2,   -165.0,2,      1.6,     0.41,2,9
  74JC20181103, SR01b,    11,  1,      5,      5,2,20181110,0817,-55.8389, -57.7924, 4789,   3173.3,   1.3894,9,-999.0000,  34.7204,2,  34.7173,2,    195.4,2,    196.2,2,   109.46,2,    31.86,2,     0.01,2,     2.16,2,   -999.0,9,   -999.0,9,   -166.7,2,      1.7,     0.45,2,9
  74JC20181103, SR01b,    11,  1,      6,      6,2,20181110,0817,-55.8389, -57.7924, 4789,   2970.0,   1.5508,9,-999.0000,  34.7207,2,  34.7161,2,    190.5,2,    190.3,2,   105.40,2,    32.01,2,     0.01,2,     2.17,2,   2265.9,2,   2364.1,2,   -169.7,2,      1.7,     0.44,2,9
  74JC20181103, SR01b,    11,  1,      7,      7,2,20181110,0817,-55.8389, -57.7924, 4789,   2487.6,   1.8732,9,-999.0000,  34.7116,2,  34.7112,2,    180.7,2,    181.8,2,    97.33,2,    32.36,2,     0.01,2,     2.20,2,   2267.1,2,   2362.5,2,   -169.5,2,      1.6,     0.28,2,9
  74JC20181103, SR01b,    11,  1,      8,      8,4,20181110,0817,-55.8389, -57.7924, 4789,   2244.1,   2.0119,9,-999.0000,  34.7001,2,  34.5363,4,    176.7,2,    168.6,4,    74.15,4,    34.58,4,     0.02,4,     2.35,4,   2261.3,4,   2339.7,4,   -146.7,4,      1.8,     0.42,4,9
  74JC20181103, SR01b,    11,  1,      9,      9,2,20181110,0817,-55.8389, -57.7924, 4789,   2000.0,   2.1746,9,-999.0000,  34.6738,2,  34.6761,2,    170.7,2,    173.9,2,    89.46,2,    33.21,2,     0.02,2,     2.26,2,   2268.1,2,   2358.6,2,   -168.9,2,      1.7,     0.41,2,9
  74JC20181103, SR01b,    11,  1,     10,     10,2,20181110,0817,-55.8389, -57.7924, 4789,   1759.2,   2.3673,9,-999.0000,  34.6219,2,  34.6187,2,    167.4,2,    169.1,2,    82.58,2,    34.05,2,     0.02,2,     2.31,2,   2265.4,2,   2347.4,2,   -160.8,2,      1.8,     0.36,2,9
  74JC20181103, SR01b,    11,  1,     11,     11,2,20181110,0817,-55.8389, -57.7924, 4789,   1612.1,   2.4851,9,-999.0000,  34.5828,2,  34.5810,2,    163.9,2,    165.5,4,    80.37,2,    34.74,2,     0.01,2,     2.37,2,   2267.9,2,   2346.2,2,   -162.6,2,      1.6,     0.36,2,9
  74JC20181103, SR01b,    11,  1,     12,     12,2,20181110,0817,-55.8389, -57.7924, 4789,   1269.8,   2.8738,9,-999.0000,  34.4432,2,  34.4387,2,    180.3,2,    182.0,2,    61.31,2,    34.50,2,     0.01,2,     2.33,2,   2243.0,2,   2324.8,2,   -130.2,2,      1.9,     0.48,2,9
  74JC20181103, SR01b,    11,  1,     13,     13,2,20181110,0817,-55.8389, -57.7924, 4789,    966.3,   3.3736,9,-999.0000,  34.3122,2,  34.2149,2,    213.8,2,    215.3,2,    41.67,2,    32.04,2,     0.01,2,     2.15,2,   2210.3,2,   2306.1,2,    -94.1,2,      1.9,     0.72,2,9
  74JC20181103, SR01b,    11,  1,     14,     14,2,20181110,0817,-55.8389, -57.7924, 4789,    890.2,   3.0470,9,-999.0000,  34.2155,2,  34.3068,2,    243.2,2,    244.4,2,    33.11,2,    30.95,2,     0.01,2,     2.07,2,   2196.7,2,   2297.1,2,    -81.5,2,      1.9,     0.84,2,9
  74JC20181103, SR01b,    11,  1,     15,     15,2,20181110,0817,-55.8389, -57.7924, 4789,    761.8,   3.4064,9,-999.0000,  34.1926,2,  34.1953,2,    254.9,2,    256.7,2,    26.81,2,    29.54,2,     0.01,2,     1.98,2,   2183.9,2,   2295.1,2,    -60.7,2,      1.9,     0.93,2,9
  74JC20181103, SR01b,    11,  1,     16,     16,2,20181110,0817,-55.8389, -57.7924, 4789,    635.8,   3.6698,9,-999.0000,  34.1685,2,  34.1704,2,    268.7,2,    269.6,2,    21.38,2,    28.03,2,     0.02,2,     1.88,2,   2173.0,2,   2287.2,2,    -54.2,2,      1.9,     1.00,2,9
  74JC20181103, SR01b,    11,  1,     17,     17,2,20181110,0817,-55.8389, -57.7924, 4789,    512.1,   3.9385,9,-999.0000,  34.1488,2,  34.1482,2,    279.9,2,    280.1,2,    16.28,2,    26.65,2,     0.03,2,     1.79,2,   2162.0,2,   2287.3,2,    -41.4,2,      2.1,     0.99,2,9
  74JC20181103, SR01b,    11,  1,     18,     18,2,20181110,0817,-55.8389, -57.7924, 4789,    386.6,   4.3653,9,-999.0000,  34.1570,2,  34.1583,2,    287.8,2,    288.7,2,    12.55,2,    24.92,2,     0.03,2,     1.69,2,   2151.7,6,   2280.7,2,    -27.6,2,      2.6,     1.03,2,9
  74JC20181103, SR01b,    11,  1,     19,     19,2,20181110,0817,-55.8389, -57.7924, 4789,    261.4,   4.6292,9,-999.0000,  34.1586,2,  34.1573,2,    296.5,2,    297.9,2,     9.55,2,    23.33,2,     0.06,2,     1.59,2,   2143.9,2,   2280.3,2,    -19.3,2,      2.0,     1.06,2,9
  74JC20181103, SR01b,    11,  1,     20,     20,2,20181110,0817,-55.8389, -57.7924, 4789,    185.2,   4.7127,9,-999.0000,  34.1601,2,  34.1593,2,    297.3,2,    298.3,2,     8.84,2,    22.99,2,     0.05,2,     1.58,2,   2143.8,2,   2277.4,2,    -24.6,2,      2.2,     1.00,2,9
  74JC20181103, SR01b,    11,  1,     21,     21,4,20181110,0817,-55.8389, -57.7924, 4789,    110.3,   4.9743,9,-999.0000,  34.1477,2,-999.0000,9,    307.1,2,   -999.0,9,  -999.00,9,  -999.00,9,  -999.00,9,  -999.00,9,   -999.0,9,   -999.0,9,   -999.0,9,   -999.0,  -999.00,9,9
  74JC20181103, SR01b,    11,  1,     22,     22,2,20181110,0817,-55.8389, -57.7924, 4789,     59.4,   5.0579,9,-999.0000,  34.1317,2,  34.1339,2,    308.7,2,    298.1,3,  -999.00,9,  -999.00,9,  -999.00,9,  -999.00,9,   2130.8,2,   -999.0,9,    -14.9,2,      2.0,     1.21,2,9
  74JC20181103, SR01b,    11,  1,     23,     23,2,20181110,0817,-55.8389, -57.7924, 4789,     15.3,   5.0761,9,-999.0000,  34.1209,2,  34.1218,2,    309.5,2,    310.2,2,     6.39,2,    20.64,2,     0.16,2,     1.40,2,   2128.5,2,   2276.4,2,    -12.5,2,      2.1,     1.36,2,9
  74JC20181103, SR01b,    11,  1,     24,     24,3,20181110,0817,-55.8389, -57.7924, 4789,     14.6,   5.0770,9,-999.0000,  34.1201,2,  34.1150,3,    309.4,2,    309.1,3,     6.38,3,    20.48,3,     0.16,3,     1.40,3,   -999.0,9,   -999.0,9,   -999.0,9,   -999.0,  -999.00,9,9
  74JC20181103, SR01b,    12,  1,      1,      1,2,20181110,1409,-56.1479, -57.6132, 3382,   3423.0,   0.9036,9,-999.0000,  34.7052,2,-999.0000,4,    205.8,2,    208.6,3,   119.10,2,    32.03,2,     0.02,2,     2.19,2,   2266.6,2,   2361.7,3,   -999.0,9,   -999.0,  -999.00,9,9
  74JC20181103, SR01b,    12,  1,      2,      2,2,20181110,1409,-56.1479, -57.6132, 3382,   3424.9,   0.9040,9,-999.0000,  34.7053,2,-999.0000,4,    206.3,2,    205.0,2,   119.44,2,    32.09,2,     0.01,2,     2.18,2,   -999.0,9,   -999.0,9,   -999.0,9,   -999.0,  -999.00,9,9
  74JC20181103, SR01b,    12,  1,      3,      3,2,20181110,1409,-56.1479, -57.6132, 3382,   3383.5,   0.9856,9,-999.0000,  34.7087,2,-999.0000,4,    204.2,2,    203.5,2,   118.47,2,    32.14,2,     0.01,2,     2.19,2,   2262.3,6,   2365.9,2,   -999.0,9,   -999.0,  -999.00,9,9
  74JC20181103, SR01b,    12,  1,      4,      4,2,20181110,1409,-56.1479, -57.6132, 3382,   3300.4,   1.0344,9,-999.0000,  34.7112,2,-999.0000,4,    202.8,2,    201.6,2,   117.68,2,    32.09,2,     0.01,2,     2.18,2,   2265.1,2,   2362.0,2,   -999.0,9,   -999.0,  -999.00,9,9
  74JC20181103, SR01b,    12,  1,      5,      5,2,20181110,1409,-56.1479, -57.6132, 3382,   3044.1,   1.2512,9,-999.0000,  34.7184,2,-999.0000,4,    197.8,2,    197.2,3,   112.46,2,    31.96,2,     0.01,2,     2.17,2,   2265.2,2,   2363.5,2,   -999.0,9,   -999.0,  -999.00,9,9
  74JC20181103, SR01b,    12,  1,      6,      6,2,20181110,1409,-56.1479, -57.6132, 3382,   2791.3,   1.4287,9,-999.0000,  34.7213,2,-999.0000,4,    193.6,2,    192.3,2,   107.88,2,    31.90,2,     0.02,2,     2.17,2,   2262.5,2,   2361.6,2,   -999.0,9,   -999.0,  -999.00,9,9
  74JC20181103, SR01b,    12,  1,      7,      7,2,20181110,1409,-56.1479, -57.6132, 3382,   2535.6,   1.6160,9,-999.0000,  34.7209,2,-999.0000,4,    188.3,2,    188.1,2,   103.34,2,    31.92,2,     0.02,2,     2.17,2,   2264.6,2,   2364.8,2,   -999.0,9,   -999.0,  -999.00,9,9
  74JC20181103, SR01b,    12,  1,      8,      8,2,20181110,1409,-56.1479, -57.6132, 3382,   2277.9,   1.7907,9,-999.0000,  34.7134,2,-999.0000,4,    181.5,2,    180.9,2,   100.41,2,    32.26,2,     0.02,2,     2.19,2,   2268.8,2,   2360.1,2,   -999.0,9,   -999.0,  -999.00,9,9
  74JC20181103, SR01b,    12,  1,      9,      9,2,20181110,1409,-56.1479, -57.6132, 3382,   2027.0,   1.9442,9,-999.0000,  34.7033,2,-999.0000,4,    177.3,2,    177.1,2,    96.68,2,    32.56,2,     0.01,2,     2.21,2,   2270.0,2,   2362.9,2,   -999.0,9,   -999.0,  -999.00,9,9
  74JC20181103, SR01b,    12,  1,     10,     10,3,20181110,1409,-56.1479, -57.6132, 3382,   1770.3,   2.1070,9,-999.0000,  34.6822,2,-999.0000,9,    172.5,2,   -999.0,9,  -999.00,9,  -999.00,9,  -999.00,9,  -999.00,9,   -999.0,9,   -999.0,9,   -999.0,9,   -999.0,  -999.00,9,9
  74JC20181103, SR01b,    12,  1,     11,     11,2,20181110,1409,-56.1479, -57.6132, 3382,   1519.3,   2.2722,9,-999.0000,  34.6444,2,-999.0000,4,    169.8,2,    170.1,2,    85.64,2,    33.60,2,     0.02,2,     2.27,2,   2265.0,2,   2345.9,2,   -999.0,9,   -999.0,  -999.00,9,9
  74JC20181103, SR01b,    12,  1,     12,     12,2,20181110,1409,-56.1479, -57.6132, 3382,   1013.2,   2.7397,9,-999.0000,  34.4895,2,-999.0000,4,    172.8,2,    171.7,2,    68.41,2,    34.60,2,     0.02,2,     2.34,2,   2253.3,2,   2337.3,2,   -999.0,9,   -999.0,  -999.00,9,9
  74JC20181103, SR01b,    12,  1,     13,     13,2,20181110,1409,-56.1479, -57.6132, 3382,    887.2,   2.8228,9,-999.0000,  34.4481,2,-999.0000,4,    180.6,2,    179.4,2,    62.36,2,    34.33,2,     0.02,2,     2.32,2,   2243.5,2,   2327.0,2,   -999.0,9,   -999.0,  -999.00,9,9
  74JC20181103, SR01b,    12,  1,     14,     14,2,20181110,1409,-56.1479, -57.6132, 3382,    759.8,   2.9841,9,-999.0000,  34.3976,2,-999.0000,4,    189.3,2,    188.4,2,    55.06,2,    33.91,2,     0.02,2,     2.28,2,   2235.5,2,   3515.4,4,   -999.0,9,   -999.0,  -999.00,9,9
  74JC20181103, SR01b,    12,  1,     15,     15,2,20181110,1409,-56.1479, -57.6132, 3382,    638.8,   2.7046,9,-999.0000,  34.2921,2,-999.0000,4,    219.8,2,    218.1,2,    45.05,2,    32.91,2,     0.02,2,     2.20,2,   2217.9,2,   2302.3,2,   -999.0,9,   -999.0,  -999.00,9,9
  74JC20181103, SR01b,    12,  1,     16,     16,2,20181110,1409,-56.1479, -57.6132, 3382,    567.0,   3.2139,9,-999.0000,  34.2795,2,-999.0000,4,    219.7,2,    217.5,2,    39.15,2,    32.15,2,     0.02,2,     2.15,2,   2209.0,2,   2300.1,2,   -999.0,9,   -999.0,  -999.00,9,9
  74JC20181103, SR01b,    12,  1,     17,     17,2,20181110,1409,-56.1479, -57.6132, 3382,    405.9,   2.6141,9,-999.0000,  34.1016,2,-999.0000,4,    289.2,2,    286.6,2,    22.58,2,    28.68,2,     0.03,2,     1.91,2,   2169.0,2,   2283.3,2,   -999.0,9,   -999.0,  -999.00,9,9
  74JC20181103, SR01b,    12,  1,     18,     18,2,20181110,1409,-56.1479, -57.6132, 3382,    255.5,   3.0532,9,-999.0000,  34.1008,2,-999.0000,4,    297.1,2,    294.4,2,    18.11,2,    27.36,2,     0.07,2,     1.83,2,   2161.2,2,   2282.4,2,   -999.0,9,   -999.0,  -999.00,9,9
  74JC20181103, SR01b,    12,  1,     19,     19,2,20181110,1409,-56.1479, -57.6132, 3382,    181.8,   3.5334,9,-999.0000,  34.1044,2,-999.0000,4,    309.7,2,    308.9,2,    14.35,2,    25.43,2,     0.14,2,     1.72,2,   -999.0,9,   -999.0,9,   -999.0,9,   -999.0,  -999.00,9,9
  74JC20181103, SR01b,    12,  1,     20,     20,2,20181110,1409,-56.1479, -57.6132, 3382,    136.9,   3.8707,9,-999.0000,  34.1031,2,-999.0000,4,    313.5,2,    312.2,2,    13.03,2,    24.54,2,     0.13,2,     1.66,2,   2150.6,2,   2277.0,2,   -999.0,9,   -999.0,  -999.00,9,9
  74JC20181103, SR01b,    12,  1,     21,     21,2,20181110,1409,-56.1479, -57.6132, 3382,    102.0,   4.2236,9,-999.0000,  34.1015,2,-999.0000,4,    316.7,2,    314.8,2,    11.91,2,    23.65,2,     0.13,2,     1.58,2,   2141.7,2,   2276.9,2,   -999.0,9,   -999.0,  -999.00,9,9
  74JC20181103, SR01b,    12,  1,     22,     22,3,20181110,1409,-56.1479, -57.6132, 3382,     57.5,   4.2465,9,-999.0000,  34.1018,2,-999.0000,9,    317.1,2,   -999.0,9,  -999.00,9,  -999.00,9,  -999.00,9,  -999.00,9,   -999.0,9,   -999.0,9,   -999.0,9,   -999.0,  -999.00,9,9
  74JC20181103, SR01b,    12,  1,     23,     23,2,20181110,1409,-56.1479, -57.6132, 3382,     10.9,   4.2552,9,-999.0000,  34.1022,2,-999.0000,4,    317.2,2,    316.8,2,    11.80,2,    23.57,2,     0.13,2,     1.56,2,   2140.6,6,   2278.8,6,   -999.0,9,   -999.0,  -999.00,9,9
  74JC20181103, SR01b,    12,  1,     24,     24,2,20181110,1409,-56.1479, -57.6132, 3382,     11.3,   4.2547,9,-999.0000,  34.1023,2,-999.0000,4,    318.0,2,    315.8,2,    11.86,2,    23.51,2,     0.13,2,     1.56,2,   -999.0,9,   -999.0,9,   -999.0,9,   -999.0,  -999.00,9,9