BOTTLE,20210419PRINUNIVRMK
EXPOCODE,SECT_ID,STNNBR,CASTNO,SAMPNO,BTLNBR,BTLNBR_FLAG_W,DATE,TIME,LATITUDE,LONGITUDE,DEPTH,CTDPRS,CTDTMP,SBE35_FLAG_W,REFTMP,CTDSAL,CTDSAL_FLAG_W,SALNTY,SALNTY_FLAG_W,CTDOXY,CTDOXY_FLAG_W,OXYGEN,OXYGEN_FLAG_W,SILCAT,SILCAT_FLAG_W,NITRAT,NITRAT_FLAG_W,NITRIT,NITRIT_FLAG_W,PHSPHT,PHSPHT_FLAG_W,TCARBN,TCARBN_FLAG_W,ALKALI,ALKALI_FLAG_W,DELC14,DELC14_FLAG_W,C14ERR,DELC13,DELC13_FLAG_W,SBE35_FLAG_W
,,,,,,,,,,,METERS,DBAR,ITS-90,,,PSS-78,,PSS-78,,UMOL/KG,,UMOL/KG,,UMOL/KG,,UMOL/KG,,UMOL/KG,,UMOL/KG,,UMOL/KG,,UMOL/KG,,/MILLE,,/MILLE,/MILLE,,
  74JC20181103, SR01b,    15,  1,      1,      1,3,20181111,0703,-57.0990, -57.0358, 4210,   4277.8,   0.4977,9,-999.0000,  34.6819,2,  34.6821,3,    219.6,2,    220.3,3,   122.13,3,    31.79,3,     0.02,3,     2.21,3,   2259.3,2,   2359.7,4,   -164.8,2,      1.6,     0.42,2,9
  74JC20181103, SR01b,    15,  1,      2,      2,2,20181111,0703,-57.0990, -57.0358, 4210,   4233.5,   0.4940,9,-999.0000,  34.6821,2,  34.6823,2,    219.0,2,    221.6,2,   122.49,2,    31.94,2,     0.01,2,     2.21,2,   2259.3,2,   2362.4,2,   -161.6,2,      1.7,     0.38,2,9
  74JC20181103, SR01b,    15,  1,      3,      3,2,20181111,0703,-57.0990, -57.0358, 4210,   4121.7,   0.4837,9,-999.0000,  34.6824,2,  34.6820,2,    218.5,2,    220.3,2,   122.43,2,    31.88,2,     0.02,2,     2.22,2,   2263.1,2,   2363.6,2,   -232.4,4,      1.6,    -2.26,4,9
  74JC20181103, SR01b,    15,  1,      4,      4,2,20181111,0703,-57.0990, -57.0358, 4210,   3557.7,   0.7056,9,-999.0000,  34.7004,2,  34.7000,2,    209.6,2,    209.3,2,   125.17,2,    31.87,2,     0.02,2,     2.21,2,   2262.5,2,   2363.3,2,   -165.3,2,      2.3,     0.37,2,9
  74JC20181103, SR01b,    15,  1,      5,      5,2,20181111,0703,-57.0990, -57.0358, 4210,   3046.4,   0.8341,9,-999.0000,  34.7067,2,  34.7072,2,    205.5,2,    207.0,2,   121.81,2,    31.73,2,     0.02,2,     2.19,2,   2255.9,3,   2366.4,2,   -164.1,2,      1.7,     0.46,2,9
  74JC20181103, SR01b,    15,  1,      6,      6,2,20181111,0703,-57.0990, -57.0358, 4210,   2584.5,   1.0291,9,-999.0000,  34.7157,2,  34.7173,2,    200.8,2,    202.9,2,   117.23,2,    31.55,2,     0.01,2,     2.18,2,   -999.0,9,   -999.0,9,   -165.3,2,      1.6,     0.43,2,9
  74JC20181103, SR01b,    15,  1,      7,      7,4,20181111,0703,-57.0990, -57.0358, 4210,   2278.3,   1.2048,9,-999.0000,  34.7206,2,  34.7218,4,    197.2,2,   -999.0,9,   111.42,4,    31.42,4,     0.01,4,     2.17,4,   -999.0,9,   -999.0,9,   -999.0,9,   -999.0,  -999.00,9,9
  74JC20181103, SR01b,    15,  1,      8,      8,2,20181111,0703,-57.0990, -57.0358, 4210,   2023.1,   1.4104,9,-999.0000,  34.7255,2,  34.7257,2,    193.4,2,    194.1,2,   105.57,2,    31.27,2,     0.03,2,     2.17,2,   2260.5,2,   2353.8,3,   -165.9,2,      2.0,     0.48,2,9
  74JC20181103, SR01b,    15,  1,      9,      9,2,20181111,0703,-57.0990, -57.0358, 4210,   1717.4,   1.6364,9,-999.0000,  34.7248,2,  34.7243,2,    188.2,2,    189.0,2,    99.87,2,    31.29,2,     0.02,2,     2.17,2,   2259.8,2,   2362.0,2,   -165.4,2,      1.6,     0.46,2,9
  74JC20181103, SR01b,    15,  1,     10,     10,2,20181111,0703,-57.0990, -57.0358, 4210,   1513.6,   1.8105,9,-999.0000,  34.7194,2,  34.7178,2,    184.2,2,    184.9,2,    95.54,2,    31.47,2,     0.02,2,     2.18,2,   2259.8,2,   2360.1,2,   -164.6,2,      1.6,     0.44,2,9
  74JC20181103, SR01b,    15,  1,     11,     11,3,20181111,0703,-57.0990, -57.0358, 4210,   1261.0,   1.9825,9,-999.0000,  34.7060,2,  34.7052,3,    179.9,2,    181.1,3,    90.51,3,    31.72,3,     0.02,3,     2.20,3,   2258.2,2,   2353.9,3,   -999.0,5,   -999.0,  -999.00,5,9
  74JC20181103, SR01b,    15,  1,     12,     12,4,20181111,0703,-57.0990, -57.0358, 4210,   1007.8,   2.1753,9,-999.0000,  34.6671,2,  34.1309,4,    174.1,2,   -999.0,9,  -999.00,9,  -999.00,9,  -999.00,9,  -999.00,9,   -999.0,9,   -999.0,9,   -999.0,9,   -999.0,  -999.00,9,9
  74JC20181103, SR01b,    15,  1,     13,     13,2,20181111,0703,-57.0990, -57.0358, 4210,    882.3,   2.2728,9,-999.0000,  34.6349,2,  34.6356,2,    172.2,2,    174.5,2,    81.26,2,    33.01,2,     0.02,2,     2.29,2,   2256.1,2,   2341.1,3,   -999.0,5,   -999.0,  -999.00,5,9
  74JC20181103, SR01b,    15,  1,     14,     14,2,20181111,0703,-57.0990, -57.0358, 4210,    757.0,   2.3577,9,-999.0000,  34.5906,2,  34.5895,2,    171.6,2,    171.2,2,    77.38,2,    33.49,2,     0.02,2,     2.32,2,   2255.8,2,   2346.4,2,   -149.0,2,      1.7,     0.41,2,9
  74JC20181103, SR01b,    15,  1,     15,     15,3,20181111,0703,-57.0990, -57.0358, 4210,    633.4,   2.4883,9,-999.0000,  34.5490,2,  34.3353,3,    171.8,2,   -999.0,9,    63.22,3,    32.99,3,     0.03,3,     2.28,3,   2236.1,3,   2321.5,3,   -999.0,9,   -999.0,  -999.00,9,9
  74JC20181103, SR01b,    15,  1,     16,     16,2,20181111,0703,-57.0990, -57.0358, 4210,    536.6,   2.4582,9,-999.0000,  34.4812,2,  34.4835,2,    178.2,2,    179.7,2,    68.49,2,    34.26,2,     0.02,2,     2.35,2,   2247.3,6,   2336.9,2,   -132.3,2,      1.8,     0.48,2,9
  74JC20181103, SR01b,    15,  1,     17,     17,2,20181111,0703,-57.0990, -57.0358, 4210,    381.4,   2.2432,9,-999.0000,  34.3287,2,  34.3277,2,    210.5,2,    211.2,2,    54.55,2,    33.53,2,     0.02,2,     2.30,2,   -999.0,9,   -999.0,9,   -999.0,9,   -999.0,  -999.00,9,9
  74JC20181103, SR01b,    15,  1,     18,     18,2,20181111,0703,-57.0990, -57.0358, 4210,    256.5,   1.6748,9,-999.0000,  34.1690,2,  34.2359,2,    264.2,2,    220.0,4,    53.75,2,    32.53,2,     0.02,2,     2.23,2,   2225.4,2,   2309.6,2,   -999.0,9,   -999.0,  -999.00,9,9
  74JC20181103, SR01b,    15,  1,     19,     19,2,20181111,0703,-57.0990, -57.0358, 4210,    182.2,   1.7242,9,-999.0000,  34.1333,2,-999.0000,9,    276.0,2,    219.5,4,    33.52,2,    30.47,2,     0.03,2,     2.09,2,   2222.5,2,   2315.3,3,   -999.0,9,   -999.0,  -999.00,9,9
  74JC20181103, SR01b,    15,  1,     20,     20,2,20181111,0703,-57.0990, -57.0358, 4210,    107.0,   0.8124,9,-999.0000,  33.9638,2,  33.9674,2,    328.9,2,    293.6,4,    22.31,2,    27.59,2,     0.15,2,     1.89,2,   2191.7,2,   2289.0,2,   -999.0,9,   -999.0,  -999.00,9,9
  74JC20181103, SR01b,    15,  1,     21,     21,4,20181111,0703,-57.0990, -57.0358, 4210,     56.8,   0.1847,9,-999.0000,  33.8242,2,-999.0000,9,    351.3,2,   -999.0,9,  -999.00,9,  -999.00,9,  -999.00,9,  -999.00,9,   2154.1,4,   -999.0,9,   -999.0,9,   -999.0,  -999.00,9,9
  74JC20181103, SR01b,    15,  1,     22,     22,2,20181111,0703,-57.0990, -57.0358, 4210,     56.1,   0.1883,9,-999.0000,  33.8260,2,  33.8267,2,    351.4,2,    204.7,4,    21.32,2,    26.13,2,     0.23,2,     1.80,2,   -999.0,9,   -999.0,9,    -68.1,2,      1.9,     1.33,2,9
  74JC20181103, SR01b,    15,  1,     23,     23,3,20181111,0703,-57.0990, -57.0358, 4210,     13.0,   0.3242,9,-999.0000,  33.8233,2,  33.8255,3,    351.2,2,    355.4,3,    21.02,3,    26.04,3,     0.23,3,     1.78,3,   2150.4,2,   2272.5,3,   -999.0,9,   -999.0,  -999.00,9,9
  74JC20181103, SR01b,    15,  1,     24,     24,3,20181111,0703,-57.0990, -57.0358, 4210,     12.2,   0.3302,9,-999.0000,  33.8237,2,  33.8264,3,    351.4,2,    352.8,3,    21.02,3,    25.98,3,     0.23,3,     1.78,3,   -999.0,9,   -999.0,9,   -999.0,9,   -999.0,  -999.00,9,9
  74JC20181103, SR01b,    16,  1,      1,      1,3,20181111,1236,-57.4166, -56.8391, 3468,   3512.1,   0.4217,9,-999.0000,  34.6825,2,  34.6833,3,    217.9,2,   -999.0,9,   122.58,3,    31.95,3,     0.01,3,     2.19,3,   2256.9,6,   2360.1,4,   -999.0,9,   -999.0,  -999.00,9,9
  74JC20181103, SR01b,    16,  1,      2,      2,2,20181111,1236,-57.4166, -56.8391, 3468,   3461.7,   0.5211,9,-999.0000,  34.6891,2,  34.6879,2,    215.2,2,    267.0,4,   123.26,2,    31.94,2,     0.02,2,     2.19,2,   -999.0,9,   2360.7,2,   -999.0,9,   -999.0,  -999.00,9,9
  74JC20181103, SR01b,    16,  1,      3,      3,2,20181111,1236,-57.4166, -56.8391, 3468,   3298.2,   0.6620,9,-999.0000,  34.6983,2,  34.6932,2,    210.2,2,    209.6,2,   124.07,2,    31.81,2,     0.02,2,     2.20,2,   2259.5,2,   2365.2,2,   -999.0,9,   -999.0,  -999.00,9,9
  74JC20181103, SR01b,    16,  1,      4,      4,2,20181111,1236,-57.4166, -56.8391, 3468,   2789.4,   0.9021,9,-999.0000,  34.7080,2,  34.7027,2,    204.4,2,    204.9,2,   119.37,2,    31.76,2,     0.01,2,     2.18,2,   2254.0,2,   2362.4,2,   -999.0,9,   -999.0,  -999.00,9,9
  74JC20181103, SR01b,    16,  1,      5,      5,2,20181111,1236,-57.4166, -56.8391, 3468,   2532.6,   1.0062,9,-999.0000,  34.7138,2,  34.7105,2,    201.7,2,    202.0,2,   117.31,2,    31.74,2,     0.02,2,     2.17,2,   2262.0,2,   2363.0,2,   -999.0,9,   -999.0,  -999.00,9,9
  74JC20181103, SR01b,    16,  1,      6,      6,2,20181111,1236,-57.4166, -56.8391, 3468,   2277.8,   1.1849,9,-999.0000,  34.7196,2,  34.7160,2,    197.5,2,    197.7,2,   112.44,2,    31.74,2,     0.01,2,     2.16,2,   2251.0,3,   2360.7,2,   -999.0,9,   -999.0,  -999.00,9,9
  74JC20181103, SR01b,    16,  1,      7,      7,4,20181111,1236,-57.4166, -56.8391, 3468,   2024.7,   1.3516,9,-999.0000,  34.7244,2,-999.0000,9,    194.6,2,   -999.0,9,  -999.00,9,  -999.00,9,  -999.00,9,  -999.00,9,   2257.4,4,   -999.0,9,   -999.0,9,   -999.0,  -999.00,9,9
  74JC20181103, SR01b,    16,  1,      8,      8,2,20181111,1236,-57.4166, -56.8391, 3468,   1769.0,   1.5277,9,-999.0000,  34.7224,2,  34.7182,2,    189.4,2,   -999.0,9,   103.30,2,    31.70,2,     0.01,2,     2.16,2,   2258.9,2,   2361.3,2,   -999.0,9,   -999.0,  -999.00,9,9
  74JC20181103, SR01b,    16,  1,      9,      9,2,20181111,1236,-57.4166, -56.8391, 3468,   1517.0,   1.7494,9,-999.0000,  34.7206,2,  34.7195,2,    185.4,2,    184.8,2,    96.84,2,    31.71,2,     0.01,2,     2.16,2,   2256.8,2,   2357.1,2,   -999.0,9,   -999.0,  -999.00,9,9
  74JC20181103, SR01b,    16,  1,     10,     10,2,20181111,1236,-57.4166, -56.8391, 3468,   1263.4,   1.9057,9,-999.0000,  34.7053,2,  34.7042,2,    178.7,2,    178.3,2,    94.60,2,    32.16,2,     0.01,2,     2.20,2,   2260.4,2,   2358.4,2,   -999.0,9,   -999.0,  -999.00,9,9
  74JC20181103, SR01b,    16,  1,     11,     11,4,20181111,1236,-57.4166, -56.8391, 3468,   1010.7,   2.1088,9,-999.0000,  34.6746,2,-999.0000,9,    172.7,2,   -999.0,9,  -999.00,9,  -999.00,9,  -999.00,9,  -999.00,9,   -999.0,9,   -999.0,9,   -999.0,9,   -999.0,  -999.00,9,9
  74JC20181103, SR01b,    16,  1,     12,     12,4,20181111,1236,-57.4166, -56.8391, 3468,    885.2,   2.2112,9,-999.0000,  34.6559,2,-999.0000,9,    173.1,2,   -999.0,9,  -999.00,9,  -999.00,9,  -999.00,9,  -999.00,9,   -999.0,9,   -999.0,9,   -999.0,9,   -999.0,  -999.00,9,9
  74JC20181103, SR01b,    16,  1,     13,     13,2,20181111,1236,-57.4166, -56.8391, 3468,    758.2,   2.2960,9,-999.0000,  34.6216,2,  34.6197,2,    172.1,2,    171.3,2,    79.92,2,    33.33,2,     0.01,2,     2.28,2,   2252.9,2,   2342.4,2,   -999.0,9,   -999.0,  -999.00,9,9
  74JC20181103, SR01b,    16,  1,     14,     14,2,20181111,1236,-57.4166, -56.8391, 3468,    617.4,   2.3995,9,-999.0000,  34.5702,2,  34.5688,2,    171.9,2,    171.0,2,    75.92,2,    33.89,2,     0.01,2,     2.32,2,   2251.6,2,   2334.2,2,   -999.0,9,   -999.0,  -999.00,9,9
  74JC20181103, SR01b,    16,  1,     15,     15,2,20181111,1236,-57.4166, -56.8391, 3468,    443.9,   2.3329,9,-999.0000,  34.4102,2,  34.4052,2,    191.1,2,    190.7,2,    62.80,2,    34.27,2,     0.02,2,     2.33,2,   2237.0,2,   2317.3,2,   -999.0,9,   -999.0,  -999.00,9,9
  74JC20181103, SR01b,    16,  1,     16,     16,2,20181111,1236,-57.4166, -56.8391, 3468,    336.7,   2.0117,9,-999.0000,  34.2925,2,  34.2241,2,    221.5,2,   -999.0,9,    46.90,2,    32.42,2,     0.03,2,     2.19,2,   2209.4,2,   2303.3,2,   -999.0,9,   -999.0,  -999.00,9,9
  74JC20181103, SR01b,    16,  1,     17,     17,2,20181111,1236,-57.4166, -56.8391, 3468,    256.0,   2.2511,9,-999.0000,  34.2429,2,  34.2383,2,    236.5,2,    237.1,2,    43.28,2,    32.28,2,     0.03,2,     2.18,2,   2205.0,2,   2301.4,2,   -999.0,9,   -999.0,  -999.00,9,9
  74JC20181103, SR01b,    16,  1,     18,     18,2,20181111,1236,-57.4166, -56.8391, 3468,    255.9,   2.2563,9,-999.0000,  34.2444,2,  34.2400,2,    236.3,2,    236.1,2,    43.23,2,    32.32,2,     0.02,2,     2.19,2,   -999.0,9,   -999.0,9,   -999.0,9,   -999.0,  -999.00,9,9
  74JC20181103, SR01b,    16,  1,     19,     19,2,20181111,1236,-57.4166, -56.8391, 3468,    186.1,   2.0405,9,-999.0000,  34.1651,2,  34.1611,2,    265.3,2,    265.4,2,    35.08,2,    30.96,2,     0.02,2,     2.09,2,   2192.8,6,   2292.9,6,   -999.0,9,   -999.0,  -999.00,9,9
  74JC20181103, SR01b,    16,  1,     20,     20,2,20181111,1236,-57.4166, -56.8391, 3468,     85.7,   0.2412,9,-999.0000,  33.8924,2,  33.8840,2,    344.8,2,   -999.0,9,    21.54,2,    26.86,2,     0.19,2,     1.84,2,   2154.3,2,   2274.3,2,   -999.0,9,   -999.0,  -999.00,9,9
  74JC20181103, SR01b,    16,  1,     21,     21,2,20181111,1236,-57.4166, -56.8391, 3468,     55.4,   0.6129,9,-999.0000,  33.8508,2,  33.8486,2,    348.6,2,    348.9,2,    20.29,2,    26.16,2,     0.21,2,     1.76,2,   2149.0,2,   2275.4,2,   -999.0,9,   -999.0,  -999.00,9,9
  74JC20181103, SR01b,    16,  1,     22,     22,2,20181111,1236,-57.4166, -56.8391, 3468,     55.1,   0.6084,9,-999.0000,  33.8503,2,  33.8472,2,    349.2,2,    347.7,2,    20.34,2,    26.13,2,     0.23,2,     1.75,2,   -999.0,9,   -999.0,9,   -999.0,9,   -999.0,  -999.00,9,9
  74JC20181103, SR01b,    16,  1,     23,     23,2,20181111,1236,-57.4166, -56.8391, 3468,     10.6,   0.4877,9,-999.0000,  33.8386,2,  33.8368,2,    350.1,2,    349.9,2,    20.71,2,    25.96,2,     0.23,2,     1.76,2,   2148.3,2,   2274.5,2,   -999.0,9,   -999.0,  -999.00,9,9
  74JC20181103, SR01b,    16,  1,     24,     24,4,20181111,1236,-57.4166, -56.8391, 3468,     10.3,   0.4897,9,-999.0000,  33.8390,2,-999.0000,9,    349.8,2,   -999.0,9,  -999.00,9,  -999.00,9,  -999.00,9,  -999.00,9,   -999.0,9,   -999.0,9,   -999.0,9,   -999.0,  -999.00,9,9