BOTTLE,20210419PRINUNIVRMK
EXPOCODE,SECT_ID,STNNBR,CASTNO,SAMPNO,BTLNBR,BTLNBR_FLAG_W,DATE,TIME,LATITUDE,LONGITUDE,DEPTH,CTDPRS,CTDTMP,SBE35_FLAG_W,REFTMP,CTDSAL,CTDSAL_FLAG_W,SALNTY,SALNTY_FLAG_W,CTDOXY,CTDOXY_FLAG_W,OXYGEN,OXYGEN_FLAG_W,SILCAT,SILCAT_FLAG_W,NITRAT,NITRAT_FLAG_W,NITRIT,NITRIT_FLAG_W,PHSPHT,PHSPHT_FLAG_W,TCARBN,TCARBN_FLAG_W,ALKALI,ALKALI_FLAG_W,DELC14,DELC14_FLAG_W,C14ERR,DELC13,DELC13_FLAG_W,SBE35_FLAG_W
,,,,,,,,,,,METERS,DBAR,ITS-90,,,PSS-78,,PSS-78,,UMOL/KG,,UMOL/KG,,UMOL/KG,,UMOL/KG,,UMOL/KG,,UMOL/KG,,UMOL/KG,,UMOL/KG,,/MILLE,,/MILLE,/MILLE,,
  74JC20181103, SR01b,    17,  1,      1,      1,2,20181111,1757,-57.7333, -56.6429, 3458,   3505.0,   0.4101,9,-999.0000,  34.6811,2,  34.6818,3,    218.9,2,    219.5,2,   122.06,2,    31.87,2,     0.02,2,     2.17,2,   2262.9,6,   2357.4,6,   -159.8,2,      1.7,     0.51,2,9
  74JC20181103, SR01b,    17,  1,      2,      2,2,20181111,1757,-57.7333, -56.6429, 3458,   3465.2,   0.4113,9,-999.0000,  34.6816,2,  34.6814,3,    218.6,2,    218.8,2,   122.27,2,    31.89,2,     0.01,2,     2.16,2,   2260.1,6,   2360.3,2,   -163.2,2,      1.7,     0.56,2,9
  74JC20181103, SR01b,    17,  1,      3,      3,2,20181111,1757,-57.7333, -56.6429, 3458,   3142.7,   0.5580,9,-999.0000,  34.6935,2,  34.6929,3,    212.5,2,    212.3,2,   123.56,2,    31.91,2,     0.01,2,     2.17,2,   2263.6,2,   2377.5,3,   -164.4,2,      1.6,     0.52,2,9
  74JC20181103, SR01b,    17,  1,      4,      4,3,20181111,1757,-57.7333, -56.6429, 3458,   2629.8,   0.8299,9,-999.0000,  34.7086,2,  34.7084,3,    204.7,2,    204.7,3,   120.79,3,    31.66,3,     0.02,3,     2.14,3,   2263.9,2,   2363.4,3,   -165.2,2,      1.9,     0.48,2,9
  74JC20181103, SR01b,    17,  1,      5,      5,2,20181111,1757,-57.7333, -56.6429, 3458,   2272.7,   1.0206,9,-999.0000,  34.7151,2,  34.7155,3,    200.3,2,    201.6,2,   115.45,2,    31.56,2,     0.02,2,     2.14,2,   2259.1,2,   2366.2,2,   -167.1,2,      1.7,     0.46,2,9
  74JC20181103, SR01b,    17,  1,      6,      6,2,20181111,1757,-57.7333, -56.6429, 3458,   2018.4,   1.2116,9,-999.0000,  34.7206,2,  34.7207,3,    196.9,2,    197.1,2,   109.92,2,    31.50,2,     0.02,2,     2.13,2,   2263.6,2,   2363.3,2,   -167.2,2,      1.6,     0.57,2,9
  74JC20181103, SR01b,    17,  1,      7,      7,4,20181111,1757,-57.7333, -56.6429, 3458,   1765.4,   1.3879,9,-999.0000,  34.7228,2,-999.0000,9,    192.9,2,   -999.0,9,  -999.00,9,  -999.00,9,  -999.00,9,  -999.00,9,   -999.0,9,   -999.0,9,   -999.0,9,   -999.0,  -999.00,9,9
  74JC20181103, SR01b,    17,  1,      8,      8,2,20181111,1757,-57.7333, -56.6429, 3458,   1562.5,   1.5582,9,-999.0000,  34.7221,2,  34.7222,3,    188.4,2,    188.5,2,   101.26,2,    31.51,2,     0.01,2,     2.13,2,   2258.5,2,   2362.4,2,   -167.3,2,      1.6,     0.44,2,9
  74JC20181103, SR01b,    17,  1,      9,      9,2,20181111,1757,-57.7333, -56.6429, 3458,   1461.9,   1.6106,9,-999.0000,  34.7203,2,  34.7198,3,    187.5,2,    186.4,2,    99.94,2,    31.56,2,     0.01,2,     2.13,2,   2259.5,2,   2363.5,2,   -166.9,2,      2.0,     0.51,2,9
  74JC20181103, SR01b,    17,  1,     10,     10,2,20181111,1757,-57.7333, -56.6429, 3458,   1309.3,   1.7351,9,-999.0000,  34.7164,2,  34.7155,3,    183.4,2,    183.2,2,    97.49,2,    31.57,2,     0.02,2,     2.14,2,   2257.8,2,   2366.2,2,   -166.4,2,      2.1,     0.49,2,9
  74JC20181103, SR01b,    17,  1,     11,     11,2,20181111,1757,-57.7333, -56.6429, 3458,   1158.7,   1.8587,9,-999.0000,  34.7044,2,  34.7046,3,    177.1,2,    176.2,2,    96.77,2,    32.15,2,     0.02,2,     2.19,2,   2270.3,2,   2362.0,2,   -172.4,2,      1.6,     0.46,2,9
  74JC20181103, SR01b,    17,  1,     12,     12,4,20181111,1757,-57.7333, -56.6429, 3458,   1007.5,   2.0060,9,-999.0000,  34.6952,2,-999.0000,9,    176.3,2,   -999.0,9,  -999.00,9,  -999.00,9,  -999.00,9,  -999.00,9,   -999.0,9,   -999.0,9,   -999.0,9,   -999.0,  -999.00,9,9
  74JC20181103, SR01b,    17,  1,     13,     13,2,20181111,1757,-57.7333, -56.6429, 3458,    755.7,   2.1825,9,-999.0000,  34.6634,2,  34.6642,3,    174.8,2,    174.5,2,    82.24,2,    32.45,2,     0.02,2,     2.21,2,   2254.9,2,   2340.0,3,   -152.3,2,      1.7,     0.51,2,9
  74JC20181103, SR01b,    17,  1,     14,     14,2,20181111,1757,-57.7333, -56.6429, 3458,    605.7,   2.2837,9,-999.0000,  34.6243,2,  34.6242,3,    172.3,2,    172.0,2,    79.42,2,    33.09,2,     0.02,2,     2.24,2,   2259.5,2,   2340.5,2,   -149.9,2,      2.2,     0.50,2,9
  74JC20181103, SR01b,    17,  1,     15,     15,2,20181111,1757,-57.7333, -56.6429, 3458,    455.2,   2.3985,9,-999.0000,  34.5628,2,  34.5619,3,    172.0,2,    172.7,2,    74.48,2,    33.77,2,     0.02,2,     2.28,2,   2252.6,2,   2337.7,2,   -143.5,2,      1.8,     0.40,2,9
  74JC20181103, SR01b,    17,  1,     16,     16,2,20181111,1757,-57.7333, -56.6429, 3458,    354.5,   2.4984,9,-999.0000,  34.4873,2,  34.4880,3,    177.4,2,    177.6,2,    67.70,2,    34.09,2,     0.02,2,     2.30,2,   2247.0,6,   2326.5,6,   -131.9,2,      1.8,     0.41,2,9
  74JC20181103, SR01b,    17,  1,     17,     17,2,20181111,1757,-57.7333, -56.6429, 3458,    264.3,   2.3967,9,-999.0000,  34.3863,2,  34.3855,3,    194.3,2,    195.1,2,    59.19,2,    33.96,2,     0.03,2,     2.28,2,   -999.0,9,   -999.0,9,   -119.5,2,      1.8,     0.50,2,9
  74JC20181103, SR01b,    17,  1,     18,     18,2,20181111,1757,-57.7333, -56.6429, 3458,    226.2,   2.2515,9,-999.0000,  34.3279,2,  34.3266,3,    209.2,2,    210.3,2,    54.26,2,    33.51,2,     0.03,2,     2.25,2,   2228.7,2,   2310.8,2,   -113.6,2,      2.7,     0.55,2,9
  74JC20181103, SR01b,    17,  1,     19,     19,2,20181111,1757,-57.7333, -56.6429, 3458,    154.6,   1.7258,9,-999.0000,  34.2066,2,  34.2062,3,    249.7,2,    250.2,2,    43.17,2,    31.86,2,     0.03,2,     2.13,2,   2208.1,6,   2296.1,2,   -999.0,9,   -999.0,  -999.00,9,9
  74JC20181103, SR01b,    17,  1,     20,     20,2,20181111,1757,-57.7333, -56.6429, 3458,    115.9,   1.2404,9,-999.0000,  34.1204,2,  34.1200,2,    281.2,2,    281.2,2,    35.68,2,    30.58,2,     0.04,2,     2.04,2,   -999.0,9,   -999.0,9,   -999.0,9,   -999.0,  -999.00,9,9
  74JC20181103, SR01b,    17,  1,     21,     21,4,20181111,1757,-57.7333, -56.6429, 3458,     85.8,   1.3037,9,-999.0000,  34.0830,2,-999.0000,9,    289.8,2,   -999.0,9,  -999.00,9,  -999.00,9,  -999.00,9,  -999.00,9,   -999.0,9,   -999.0,9,   -999.0,9,   -999.0,  -999.00,9,9
  74JC20181103, SR01b,    17,  1,     22,     22,2,20181111,1757,-57.7333, -56.6429, 3458,     45.6,  -0.5236,9,-999.0000,  33.8430,2,  33.8408,2,    354.5,2,    354.7,2,    27.35,2,    26.60,2,     0.26,2,     1.81,2,   2167.8,2,   2271.2,2,   -999.0,9,   -999.0,  -999.00,9,9
  74JC20181103, SR01b,    17,  1,     23,     23,2,20181111,1757,-57.7333, -56.6429, 3458,     11.2,  -0.4727,9,-999.0000,  33.8373,2,  33.8377,2,    355.9,2,    357.4,2,    27.22,2,    26.49,2,     0.26,2,     1.79,2,   2166.5,2,   2284.5,2,   -999.0,9,   -999.0,  -999.00,9,9
  74JC20181103, SR01b,    17,  1,     24,     24,4,20181111,1757,-57.7333, -56.6429, 3458,     10.5,  -0.4927,9,-999.0000,  33.8382,2,-999.0000,9,    355.7,2,   -999.0,9,  -999.00,9,  -999.00,9,  -999.00,9,  -999.00,9,   -999.0,9,   -999.0,9,   -999.0,9,   -999.0,  -999.00,9,9
  74JC20181103, SR01b,    18,  1,      1,      1,2,20181111,2300,-58.0500, -56.4465, 3957,   4019.2,   0.0632,9,-999.0000,  34.6575,2,-999.0000,4,    233.1,2,    232.3,2,   119.54,2,    32.38,2,     0.02,2,     2.23,2,   2254.2,6,   2354.1,2,   -999.0,9,   -999.0,  -999.00,9,9
  74JC20181103, SR01b,    18,  1,      2,      2,2,20181111,2300,-58.0500, -56.4465, 3957,   3975.0,   0.0633,9,-999.0000,  34.6579,2,-999.0000,4,    232.5,2,    233.0,2,   119.19,2,    32.45,2,     0.02,2,     2.23,2,   2254.9,2,   2354.4,2,   -999.0,9,   -999.0,  -999.00,9,9
  74JC20181103, SR01b,    18,  1,      3,      3,2,20181111,2300,-58.0500, -56.4465, 3957,   3657.2,   0.2122,9,-999.0000,  34.6668,2,-999.0000,4,    226.1,2,    225.7,2,   119.41,2,    32.40,2,     0.01,2,     2.23,2,   2258.0,2,   2362.0,3,   -999.0,9,   -999.0,  -999.00,9,9
  74JC20181103, SR01b,    18,  1,      4,      4,2,20181111,2300,-58.0500, -56.4465, 3957,   3044.6,   0.4991,9,-999.0000,  34.6898,2,-999.0000,4,    214.3,2,    214.4,2,   124.42,2,    32.41,2,     0.01,2,     2.23,2,   2261.5,2,   2361.4,2,   -999.0,9,   -999.0,  -999.00,9,9
  74JC20181103, SR01b,    18,  1,      5,      5,2,20181111,2300,-58.0500, -56.4465, 3957,   2534.1,   0.7361,9,-999.0000,  34.7067,2,-999.0000,4,    205.9,2,    206.8,2,   125.19,2,    32.35,2,     0.01,2,     2.21,2,   2263.5,2,   2361.9,2,   -999.0,9,   -999.0,  -999.00,9,9
  74JC20181103, SR01b,    18,  1,      6,      6,2,20181111,2300,-58.0500, -56.4465, 3957,   2281.7,   0.7853,9,-999.0000,  34.7038,2,-999.0000,4,    206.4,2,    206.8,2,   120.14,2,    32.15,2,     0.01,2,     2.20,2,   2263.0,2,   2362.4,2,   -999.0,9,   -999.0,  -999.00,9,9
  74JC20181103, SR01b,    18,  1,      7,      7,2,20181111,2300,-58.0500, -56.4465, 3957,   2281.2,   0.7872,9,-999.0000,  34.7037,2,-999.0000,4,    205.8,2,    207.2,2,   119.93,2,    32.17,2,     0.01,2,     2.20,2,   -999.0,9,   -999.0,9,   -999.0,9,   -999.0,  -999.00,9,9
  74JC20181103, SR01b,    18,  1,      8,      8,2,20181111,2300,-58.0500, -56.4465, 3957,   2028.7,   0.9035,9,-999.0000,  34.7073,2,-999.0000,4,    203.8,2,    204.4,2,   116.77,2,    32.09,2,     0.01,2,     2.19,2,   2260.4,2,   2362.2,2,   -999.0,9,   -999.0,  -999.00,9,9
  74JC20181103, SR01b,    18,  1,      9,      9,2,20181111,2300,-58.0500, -56.4465, 3957,   1772.6,   1.0815,9,-999.0000,  34.7134,2,-999.0000,4,    199.7,2,    200.3,2,   111.70,2,    31.92,2,     0.01,2,     2.18,2,   2264.1,2,   2363.8,2,   -999.0,9,   -999.0,  -999.00,9,9
  74JC20181103, SR01b,    18,  1,     10,     10,4,20181111,2300,-58.0500, -56.4465, 3957,   1521.2,   1.2755,9,-999.0000,  34.7225,2,-999.0000,9,    195.7,2,   -999.0,9,  -999.00,9,  -999.00,9,  -999.00,9,  -999.00,9,   -999.0,9,   -999.0,9,   -999.0,9,   -999.0,  -999.00,9,9
  74JC20181103, SR01b,    18,  1,     11,     11,2,20181111,2300,-58.0500, -56.4465, 3957,   1215.7,   1.4842,9,-999.0000,  34.7214,2,-999.0000,4,    191.8,2,    192.3,2,   100.18,2,    31.82,2,     0.01,2,     2.17,2,   2257.4,2,   2360.2,2,   -999.0,9,   -999.0,  -999.00,9,9
  74JC20181103, SR01b,    18,  1,     12,     12,3,20181111,2300,-58.0500, -56.4465, 3957,   1114.6,   1.5534,9,-999.0000,  34.7170,2,-999.0000,9,    191.1,2,   -999.0,9,  -999.00,9,  -999.00,9,  -999.00,9,  -999.00,9,   -999.0,9,   -999.0,9,   -999.0,9,   -999.0,  -999.00,9,9
  74JC20181103, SR01b,    18,  1,     13,     13,2,20181111,2300,-58.0500, -56.4465, 3957,    963.4,   1.7746,9,-999.0000,  34.7213,2,-999.0000,4,    185.2,2,    185.1,2,    92.66,2,    31.88,2,     0.01,2,     2.18,2,   2259.7,2,   2353.4,2,   -999.0,9,   -999.0,  -999.00,9,9
  74JC20181103, SR01b,    18,  1,     14,     14,2,20181111,2300,-58.0500, -56.4465, 3957,    759.4,   1.9813,9,-999.0000,  34.7012,2,-999.0000,4,    179.5,2,    178.9,2,    87.16,2,    32.40,2,     0.01,2,     2.21,2,   2255.8,2,   2347.1,2,   -999.0,9,   -999.0,  -999.00,9,9
  74JC20181103, SR01b,    18,  1,     15,     15,2,20181111,2300,-58.0500, -56.4465, 3957,    635.2,   2.0559,9,-999.0000,  34.6748,2,-999.0000,4,    175.9,2,    176.6,2,    84.34,2,    32.98,2,     0.02,2,     2.25,2,   2258.0,2,   2272.0,3,   -999.0,9,   -999.0,  -999.00,9,9
  74JC20181103, SR01b,    18,  1,     16,     16,2,20181111,2300,-58.0500, -56.4465, 3957,    507.9,   2.1225,9,-999.0000,  34.6332,2,-999.0000,4,    173.1,2,    173.1,2,    80.92,2,    33.72,2,     0.01,2,     2.31,2,   2258.1,2,   2340.4,2,   -999.0,9,   -999.0,  -999.00,9,9
  74JC20181103, SR01b,    18,  1,     17,     17,2,20181111,2300,-58.0500, -56.4465, 3957,    382.9,   2.1538,9,-999.0000,  34.5814,2,-999.0000,4,    173.1,2,    173.4,2,    77.83,2,    34.31,2,     0.03,2,     2.34,2,   2252.8,6,   2336.4,2,   -999.0,9,   -999.0,  -999.00,9,9
  74JC20181103, SR01b,    18,  1,     18,     18,2,20181111,2300,-58.0500, -56.4465, 3957,    257.4,   2.0715,9,-999.0000,  34.4738,2,-999.0000,4,    183.2,2,    183.5,2,    70.97,2,    34.77,2,     0.02,2,     2.39,2,   2246.7,2,   2325.4,2,   -999.0,9,   -999.0,  -999.00,9,9
  74JC20181103, SR01b,    18,  1,     19,     19,2,20181111,2300,-58.0500, -56.4465, 3957,    180.7,   1.7303,9,-999.0000,  34.3568,2,-999.0000,4,    206.9,2,    209.9,2,    62.29,2,    34.44,2,     0.02,2,     2.35,2,   2236.3,2,   2314.1,2,   -999.0,9,   -999.0,  -999.00,9,9
  74JC20181103, SR01b,    18,  1,     20,     20,2,20181111,2300,-58.0500, -56.4465, 3957,    106.5,  -0.3397,9,-999.0000,  34.0468,2,-999.0000,4,    301.1,2,    301.9,2,    46.17,2,    30.62,2,     0.11,2,     2.11,2,   -999.0,9,   -999.0,9,   -999.0,9,   -999.0,  -999.00,9,9
  74JC20181103, SR01b,    18,  1,     21,     21,3,20181111,2300,-58.0500, -56.4465, 3957,     55.7,  -0.6839,9,-999.0000,  33.9186,2,-999.0000,9,    349.2,2,   -999.0,9,  -999.00,9,  -999.00,9,  -999.00,9,  -999.00,9,   2178.5,2,   -999.0,9,   -999.0,9,   -999.0,  -999.00,9,9
  74JC20181103, SR01b,    18,  1,     22,     22,2,20181111,2300,-58.0500, -56.4465, 3957,     55.5,  -0.6735,9,-999.0000,  33.9171,2,-999.0000,4,    350.2,2,    350.9,2,    38.76,2,    27.68,2,     0.23,2,     1.91,2,   -999.0,9,   -999.0,9,   -999.0,9,   -999.0,  -999.00,9,9
  74JC20181103, SR01b,    18,  1,     23,     23,2,20181111,2300,-58.0500, -56.4465, 3957,     11.4,  -0.4770,9,-999.0000,  33.8929,2,-999.0000,4,    355.4,2,    356.6,2,    37.03,2,    27.21,2,     0.24,2,     1.90,2,   2172.3,2,   2287.2,2,   -999.0,9,   -999.0,  -999.00,9,9
  74JC20181103, SR01b,    18,  1,     24,     24,2,20181111,2300,-58.0500, -56.4465, 3957,     10.5,  -0.4816,9,-999.0000,  33.8934,2,-999.0000,9,    354.5,2,   -999.0,9,    37.16,2,    27.10,2,     0.24,2,     1.88,2,   -999.0,9,   -999.0,9,   -999.0,9,   -999.0,  -999.00,9,9