BOTTLE,20210419PRINUNIVRMK
EXPOCODE,SECT_ID,STNNBR,CASTNO,SAMPNO,BTLNBR,BTLNBR_FLAG_W,DATE,TIME,LATITUDE,LONGITUDE,DEPTH,CTDPRS,CTDTMP,SBE35_FLAG_W,REFTMP,CTDSAL,CTDSAL_FLAG_W,SALNTY,SALNTY_FLAG_W,CTDOXY,CTDOXY_FLAG_W,OXYGEN,OXYGEN_FLAG_W,SILCAT,SILCAT_FLAG_W,NITRAT,NITRAT_FLAG_W,NITRIT,NITRIT_FLAG_W,PHSPHT,PHSPHT_FLAG_W,TCARBN,TCARBN_FLAG_W,ALKALI,ALKALI_FLAG_W,DELC14,DELC14_FLAG_W,C14ERR,DELC13,DELC13_FLAG_W,SBE35_FLAG_W
,,,,,,,,,,,METERS,DBAR,ITS-90,,,PSS-78,,PSS-78,,UMOL/KG,,UMOL/KG,,UMOL/KG,,UMOL/KG,,UMOL/KG,,UMOL/KG,,UMOL/KG,,UMOL/KG,,/MILLE,,/MILLE,/MILLE,,
  74JC20181103, SR01b,    44,  1,      1,      1,2,20181116,2021,-59.6667, -55.4444, 3674,   3730.5,  -0.0311,2,  -0.0315,  34.6545,2,-999.0000,9,    234.5,2,    234.8,2,   118.13,2,    32.80,2,     0.01,2,     2.23,2,   2248.6,6,   2351.3,6,   -159.0,2,      1.7,     0.48,2,2
  74JC20181103, SR01b,    44,  1,      2,      2,2,20181116,2021,-59.6667, -55.4444, 3674,   3689.7,  -0.0061,2,  -0.0062,  34.6553,2,-999.0000,9,    233.5,2,    233.5,2,   118.18,2,    32.80,2,     0.01,2,     2.23,2,   2254.4,2,   2347.9,2,   -156.3,2,      1.6,     0.49,2,2
  74JC20181103, SR01b,    44,  1,      3,      3,2,20181116,2021,-59.6667, -55.4444, 3674,   3300.7,   0.0831,2,   0.0834,  34.6607,2,-999.0000,9,    229.0,2,    228.3,2,   118.16,2,    32.77,2,     0.02,2,     2.23,2,   2253.3,2,   2352.0,2,   -188.5,3,      1.6,    -0.75,3,2
  74JC20181103, SR01b,    44,  1,      4,      4,2,20181116,2021,-59.6667, -55.4444, 3674,   2789.6,   0.2497,2,   0.2501,  34.6747,2,-999.0000,9,    221.3,2,    221.7,2,   121.46,2,    32.85,2,     0.01,2,     2.22,2,   2251.2,2,   2354.3,2,   -220.0,3,      1.6,    -1.90,3,2
  74JC20181103, SR01b,    44,  1,      5,      5,2,20181116,2021,-59.6667, -55.4444, 3674,   2279.5,   0.4922,2,   0.4921,  34.6925,2,-999.0000,9,    212.1,2,    212.0,2,   124.71,2,    32.92,2,     0.01,2,     2.22,2,   2257.4,2,   2356.1,2,   -189.8,3,      1.7,    -0.64,3,2
  74JC20181103, SR01b,    44,  1,      6,      6,2,20181116,2021,-59.6667, -55.4444, 3674,   1772.5,   0.6060,2,   0.6052,  34.6860,2,-999.0000,9,    212.1,2,    213.0,2,   116.20,2,    32.53,2,     0.01,2,     2.20,2,   2258.0,2,   2354.4,2,   -166.5,2,      1.7,     0.37,2,2
  74JC20181103, SR01b,    44,  1,      7,      7,4,20181116,2021,-59.6667, -55.4444, 3674,   1518.6,   0.7994,2,   0.7997,  34.6982,2,-999.0000,9,    207.1,2,   -999.0,9,  -999.00,9,  -999.00,9,  -999.00,9,  -999.00,9,   2259.5,4,   -999.0,9,   -999.0,9,   -999.0,  -999.00,9,2
  74JC20181103, SR01b,    44,  1,      8,      8,2,20181116,2021,-59.6667, -55.4444, 3674,   1266.8,   1.0543,2,   1.0548,  34.7086,2,-999.0000,9,    201.9,2,    203.1,2,   108.47,2,    32.27,2,     0.01,2,     2.18,2,   2255.8,2,   2356.9,2,   -169.0,2,      1.7,     0.26,2,2
  74JC20181103, SR01b,    44,  1,      9,      9,2,20181116,2021,-59.6667, -55.4444, 3674,   1064.4,   1.1393,2,   1.1393,  34.7052,2,-999.0000,9,    201.5,2,    201.3,3,   103.75,2,    32.18,2,     0.01,2,     2.16,2,   2257.5,6,   2355.3,6,   -164.7,2,      1.7,     0.38,2,2
  74JC20181103, SR01b,    44,  1,     10,     10,4,20181116,2021,-59.6667, -55.4444, 3674,   1064.0,   1.1419,2,   1.1411,  34.7053,2,-999.0000,9,    200.7,2,   -999.0,9,  -999.00,9,  -999.00,9,  -999.00,9,  -999.00,9,   -999.0,9,   -999.0,9,   -999.0,9,   -999.0,  -999.00,9,2
  74JC20181103, SR01b,    44,  1,     11,     11,2,20181116,2021,-59.6667, -55.4444, 3674,    964.2,   1.2316,2,   1.2310,  34.7070,2,-999.0000,9,    199.3,2,    203.3,2,   101.10,2,    32.08,2,     0.01,2,     2.16,2,   2255.7,2,   2353.6,2,   -157.6,2,      1.7,     0.50,2,2
  74JC20181103, SR01b,    44,  1,     12,     12,4,20181116,2021,-59.6667, -55.4444, 3674,    812.7,   1.1309,2,   1.1317,  34.6785,2,-999.0000,9,    207.1,2,   -999.0,9,  -999.00,9,  -999.00,9,  -999.00,9,  -999.00,9,   -999.0,9,   -999.0,9,   -999.0,9,   -999.0,  -999.00,9,2
  74JC20181103, SR01b,    44,  1,     13,     13,2,20181116,2021,-59.6667, -55.4444, 3674,    625.9,   1.5357,2,   1.5418,  34.6913,2,-999.0000,9,    193.9,2,    194.0,2,    91.35,2,    32.35,2,     0.01,2,     2.18,2,   2253.0,2,   2348.7,2,   -156.0,2,      1.6,     0.45,2,2
  74JC20181103, SR01b,    44,  1,     14,     14,2,20181116,2021,-59.6667, -55.4444, 3674,    490.3,   1.4452,2,   1.4322,  34.6536,2,-999.0000,9,    199.3,2,    200.9,2,    87.11,2,    32.69,2,     0.01,2,     2.21,2,   2264.3,3,   2346.5,2,   -148.6,2,      1.7,     0.42,2,2
  74JC20181103, SR01b,    44,  1,     15,     15,2,20181116,2021,-59.6667, -55.4444, 3674,    409.3,   1.7049,2,   1.7003,  34.6553,2,-999.0000,9,    187.8,2,    189.3,2,    85.56,2,    33.15,2,     0.01,2,     2.23,2,   2251.3,6,   2343.5,6,   -143.5,2,      2.2,     0.37,2,2
  74JC20181103, SR01b,    44,  1,     16,     16,2,20181116,2021,-59.6667, -55.4444, 3674,    328.8,   1.5545,2,   1.5563,  34.6060,2,-999.0000,9,    193.3,2,    194.1,2,    83.17,2,    33.60,2,     0.02,2,     2.26,2,   2251.0,2,   2338.9,2,   -147.4,6,      1.8,     0.42,6,2
  74JC20181103, SR01b,    44,  1,     17,     17,2,20181116,2021,-59.6667, -55.4444, 3674,    256.7,   1.0126,2,   0.9961,  34.5064,2,-999.0000,9,    218.1,2,    202.4,4,    83.85,2,    33.37,2,     0.02,2,     2.25,2,   -999.0,9,   -999.0,9,   -140.3,6,      1.6,     0.49,6,2
  74JC20181103, SR01b,    44,  1,     18,     18,2,20181116,2021,-59.6667, -55.4444, 3674,    182.6,   0.8586,2,   0.8183,  34.4281,2,-999.0000,9,    227.9,2,    229.8,2,    76.09,2,    33.67,2,     0.06,2,     2.27,2,   2239.8,2,   2335.4,2,   -138.3,6,      3.8,     0.55,6,2
  74JC20181103, SR01b,    44,  1,     19,     25,4,20181116,2021,-59.6667, -55.4444, 3674,    107.7,  -0.2722,2,  -0.2836,  34.1802,2,-999.0000,9,    314.5,2,   -999.0,9,  -999.00,9,  -999.00,9,  -999.00,9,  -999.00,9,   -999.0,9,   -999.0,9,   -999.0,9,   -999.0,  -999.00,9,2
  74JC20181103, SR01b,    44,  1,     20,     20,2,20181116,2021,-59.6667, -55.4444, 3674,    108.6,  -0.2852,2,  -0.2950,  34.1765,2,-999.0000,9,    316.2,2,    317.8,2,    64.29,2,    30.53,2,     0.15,2,     2.07,2,   -999.0,9,   -999.0,9,   -126.9,6,      5.0,     0.75,6,2
  74JC20181103, SR01b,    44,  1,     21,     21,4,20181116,2021,-59.6667, -55.4444, 3674,     48.0,  -0.2678,2,  -0.2634,  34.0550,2,-999.0000,9,    355.9,2,   -999.0,9,  -999.00,9,  -999.00,9,  -999.00,9,  -999.00,9,   2182.5,4,   -999.0,9,   -999.0,9,   -999.0,  -999.00,9,2
  74JC20181103, SR01b,    44,  1,     22,     22,2,20181116,2021,-59.6667, -55.4444, 3674,     46.5,  -0.2606,2,  -0.2587,  34.0547,2,-999.0000,9,    355.5,2,    355.3,2,    50.98,2,    26.67,2,     0.21,2,     1.66,2,   -999.0,9,   -999.0,9,   -126.7,6,     15.4,     1.11,6,2
  74JC20181103, SR01b,    44,  1,     23,     23,2,20181116,2021,-59.6667, -55.4444, 3674,     12.3,  -0.1791,2,  -0.1790,  34.0445,2,-999.0000,9,    359.8,2,   -999.0,9,    49.49,2,    26.04,2,     0.22,2,     1.59,2,   2175.8,2,   2302.2,2,   -117.7,2,      2.1,     1.15,2,2
  74JC20181103, SR01b,    44,  1,     24,     24,4,20181116,2021,-59.6667, -55.4444, 3674,     12.6,  -0.1791,2,  -0.1804,  34.0447,2,-999.0000,9,    359.2,2,    359.0,4,  -999.00,9,  -999.00,9,  -999.00,9,  -999.00,9,   -999.0,9,   -999.0,9,   -999.0,9,   -999.0,  -999.00,9,2
  74JC20181103, SR01b,    45,  1,      1,      1,2,20181117,0135,-59.3375, -55.6561, 3754,   3809.8,  -0.0251,2,  -0.0254,  34.6542,2,  34.6552,2,    234.4,2,    234.4,2,   118.95,2,    32.81,2,     0.02,2,     2.23,2,   2251.6,6,   2352.1,6,   -999.0,9,   -999.0,  -999.00,9,2
  74JC20181103, SR01b,    45,  1,      2,      2,2,20181117,0135,-59.3375, -55.6561, 3754,   3771.2,  -0.0312,2,  -0.0310,  34.6543,2,  34.6545,2,    234.7,2,    234.5,2,   118.89,2,    32.71,2,     0.02,2,     2.23,2,   2255.4,2,   2353.4,2,   -999.0,9,   -999.0,  -999.00,9,2
  74JC20181103, SR01b,    45,  1,      3,      3,2,20181117,0135,-59.3375, -55.6561, 3754,   3546.9,   0.0305,2,   0.0309,  34.6574,2,  34.6597,2,    231.7,2,    231.9,2,   119.00,2,    32.84,2,     0.01,2,     2.23,2,   2256.0,2,   2354.3,2,   -999.0,9,   -999.0,  -999.00,9,2
  74JC20181103, SR01b,    45,  1,      4,      4,2,20181117,0135,-59.3375, -55.6561, 3754,   3039.1,   0.1212,2,   0.1219,  34.6643,2,  34.6649,2,    226.9,2,    227.0,2,   119.46,2,    32.79,2,     0.01,2,     2.23,2,   2256.9,2,   2355.2,2,   -999.0,9,   -999.0,  -999.00,9,2
  74JC20181103, SR01b,    45,  1,      5,      5,2,20181117,0135,-59.3375, -55.6561, 3754,   2527.8,   0.3867,2,   0.3865,  34.6854,2,  34.6852,2,    215.8,2,    217.3,2,   124.45,2,    32.80,2,     0.02,2,     2.23,2,   2260.4,2,   2359.3,2,   -999.0,9,   -999.0,  -999.00,9,2
  74JC20181103, SR01b,    45,  1,      6,      6,2,20181117,0135,-59.3375, -55.6561, 3754,   2272.9,   0.4745,2,   0.4747,  34.6925,2,  34.6926,2,    212.3,2,    213.0,2,   125.71,2,    32.82,2,     0.01,2,     2.23,2,   2261.0,2,   2359.8,2,   -999.0,9,   -999.0,  -999.00,9,2
  74JC20181103, SR01b,    45,  1,      7,      7,2,20181117,0135,-59.3375, -55.6561, 3754,   2021.9,   0.5313,2,   0.5316,  34.6939,2,  34.6947,2,    211.4,2,    211.7,2,   124.64,2,    32.71,2,     0.02,2,     2.22,2,   2260.6,2,   2360.2,2,   -999.0,9,   -999.0,  -999.00,9,2
  74JC20181103, SR01b,    45,  1,      8,      8,2,20181117,0135,-59.3375, -55.6561, 3754,   1768.9,   0.5611,2,   0.5616,  34.6852,2,  34.6850,2,    213.1,2,    213.4,2,   118.80,2,    32.63,2,     0.02,2,     2.21,2,   2258.1,6,   2357.5,6,   -999.0,9,   -999.0,  -999.00,9,2
  74JC20181103, SR01b,    45,  1,      9,      9,2,20181117,0135,-59.3375, -55.6561, 3754,   1415.3,   0.6124,2,   0.6122,  34.6775,2,  34.6767,2,    214.7,2,    215.0,2,   112.06,2,    32.48,2,     0.02,2,     2.19,2,   2255.9,2,   2357.6,2,   -999.0,9,   -999.0,  -999.00,9,2
  74JC20181103, SR01b,    45,  1,     10,     10,2,20181117,0135,-59.3375, -55.6561, 3754,   1262.7,   0.5880,2,   0.5885,  34.6653,2,  34.6628,2,    218.2,2,    219.3,2,   104.45,2,    32.27,2,     0.01,2,     2.18,2,   2255.0,2,   2353.5,2,   -999.0,9,   -999.0,  -999.00,9,2
  74JC20181103, SR01b,    45,  1,     11,     11,2,20181117,0135,-59.3375, -55.6561, 3754,   1111.5,   0.6665,2,   0.6663,  34.6607,2,  34.6581,2,    218.4,2,    218.9,2,   102.55,2,    32.23,2,     0.01,2,     2.17,2,   2252.8,2,   2351.2,2,   -999.0,9,   -999.0,  -999.00,9,2
  74JC20181103, SR01b,    45,  1,     12,     12,2,20181117,0135,-59.3375, -55.6561, 3754,    885.5,   0.5929,2,   0.5938,  34.6368,2,  34.6364,2,    225.1,2,    225.2,2,    97.04,2,    32.16,2,     0.02,2,     2.17,2,   2248.4,2,   2347.3,2,   -999.0,9,   -999.0,  -999.00,9,2
  74JC20181103, SR01b,    45,  1,     13,     13,2,20181117,0135,-59.3375, -55.6561, 3754,    759.7,   0.5134,2,   0.5131,  34.6151,2,-999.0000,9,    231.3,2,   -999.0,9,  -999.00,9,  -999.00,9,  -999.00,9,  -999.00,9,   -999.0,9,   -999.0,9,   -999.0,9,   -999.0,  -999.00,9,2
  74JC20181103, SR01b,    45,  1,     14,     14,2,20181117,0135,-59.3375, -55.6561, 3754,    632.6,   0.2252,2,   0.2213,  34.5708,2,  34.5712,2,    247.4,2,    247.3,2,    89.77,2,    32.13,2,     0.03,2,     2.17,2,   2244.1,2,   2339.7,2,   -999.0,9,   -999.0,  -999.00,9,2
  74JC20181103, SR01b,    45,  1,     15,     15,4,20181117,0135,-59.3375, -55.6561, 3754,    506.9,   0.0378,2,   0.0347,  34.5318,2,  34.5307,4,    258.9,2,    274.1,4,    87.25,4,    32.17,4,     0.03,4,     2.18,4,   2240.5,4,   2336.9,4,   -999.0,9,   -999.0,  -999.00,9,2
  74JC20181103, SR01b,    45,  1,     16,     16,3,20181117,0135,-59.3375, -55.6561, 3754,    383.1,  -0.1796,2,  -0.1785,  34.4866,2,  34.4863,3,    271.7,2,    274.0,3,    85.08,3,    32.20,3,     0.03,3,     2.17,3,   2236.5,2,   2329.7,3,   -999.0,9,   -999.0,  -999.00,9,2
  74JC20181103, SR01b,    45,  1,     17,     17,2,20181117,0135,-59.3375, -55.6561, 3754,    256.6,   0.7868,2,   0.8002,  34.5253,2,  34.5267,2,    229.4,2,    228.7,2,    83.09,2,    33.29,2,     0.04,2,     2.24,2,   -999.0,9,   -999.0,9,   -999.0,9,   -999.0,  -999.00,9,2
  74JC20181103, SR01b,    45,  1,     18,     18,2,20181117,0135,-59.3375, -55.6561, 3754,    182.1,   1.2500,2,   1.2470,  34.5223,2,  34.5226,2,    209.7,2,    210.4,2,    80.15,2,    34.15,2,     0.05,2,     2.28,2,   2246.4,6,   2326.9,6,   -999.0,9,   -999.0,  -999.00,9,2
  74JC20181103, SR01b,    45,  1,     19,     26,2,20181117,0135,-59.3375, -55.6561, 3754,    183.2,   1.2421,2,   1.2452,  34.5224,2,-999.0000,9,    210.0,2,   -999.0,9,  -999.00,9,  -999.00,9,  -999.00,9,  -999.00,9,   -999.0,9,   -999.0,9,   -999.0,9,   -999.0,  -999.00,9,2
  74JC20181103, SR01b,    45,  1,     20,     20,2,20181117,0135,-59.3375, -55.6561, 3754,    105.6,   0.0307,2,   0.0256,  34.2949,2,  34.2930,2,    289.6,2,    291.8,2,    70.69,2,    31.06,2,     0.13,2,     2.09,2,   2216.8,2,   2313.6,2,   -999.0,9,   -999.0,  -999.00,9,2
  74JC20181103, SR01b,    45,  1,     21,     21,3,20181117,0135,-59.3375, -55.6561, 3754,     66.5,  -0.3222,2,  -0.3207,  34.1125,2,-999.0000,9,    342.3,2,   -999.0,9,  -999.00,9,  -999.00,9,  -999.00,9,  -999.00,9,   2191.0,2,   -999.0,9,   -999.0,9,   -999.0,  -999.00,9,2
  74JC20181103, SR01b,    45,  1,     22,     22,2,20181117,0135,-59.3375, -55.6561, 3754,     67.5,  -0.3219,2,  -0.3222,  34.1148,2,  34.1113,2,    341.6,2,    342.5,2,    57.60,2,    27.64,2,     0.19,2,     1.77,2,   -999.0,9,   -999.0,9,   -999.0,9,   -999.0,  -999.00,9,2
  74JC20181103, SR01b,    45,  1,     23,     23,2,20181117,0135,-59.3375, -55.6561, 3754,     11.7,  -0.1865,2,  -0.1843,  34.0627,2,  34.0665,2,    361.0,2,    355.6,2,    51.11,2,    25.68,2,     0.22,2,     1.50,2,   2173.7,2,   2303.5,2,   -999.0,9,   -999.0,  -999.00,9,2
  74JC20181103, SR01b,    45,  1,     24,     24,3,20181117,0135,-59.3375, -55.6561, 3754,     11.4,  -0.1909,2,  -0.1908,  34.0613,2,-999.0000,9,    360.8,2,   -999.0,9,  -999.00,9,  -999.00,9,  -999.00,9,  -999.00,9,   -999.0,9,   -999.0,9,   -999.0,9,   -999.0,  -999.00,9,2