BOTTLE,20210419PRINUNIVRMK
EXPOCODE,SECT_ID,STNNBR,CASTNO,SAMPNO,BTLNBR,BTLNBR_FLAG_W,DATE,TIME,LATITUDE,LONGITUDE,DEPTH,CTDPRS,CTDTMP,SBE35_FLAG_W,REFTMP,CTDSAL,CTDSAL_FLAG_W,SALNTY,SALNTY_FLAG_W,CTDOXY,CTDOXY_FLAG_W,OXYGEN,OXYGEN_FLAG_W,SILCAT,SILCAT_FLAG_W,NITRAT,NITRAT_FLAG_W,NITRIT,NITRIT_FLAG_W,PHSPHT,PHSPHT_FLAG_W,TCARBN,TCARBN_FLAG_W,ALKALI,ALKALI_FLAG_W,DELC14,DELC14_FLAG_W,C14ERR,DELC13,DELC13_FLAG_W,SBE35_FLAG_W
,,,,,,,,,,,METERS,DBAR,ITS-90,,,PSS-78,,PSS-78,,UMOL/KG,,UMOL/KG,,UMOL/KG,,UMOL/KG,,UMOL/KG,,UMOL/KG,,UMOL/KG,,UMOL/KG,,/MILLE,,/MILLE,/MILLE,,
  74JC20181103, SR01b,    19,  1,      1,      1,2,20181112,0501,-58.3667, -56.2504, 3890,   3950.5,  -0.0328,9,-999.0000,  34.6541,2,  34.6624,2,    236.2,2,    233.8,3,   120.15,2,    32.57,2,     0.02,2,     2.24,2,   2252.9,6,   2353.1,6,   -155.6,2,      2.0,     0.53,2,9
  74JC20181103, SR01b,    19,  1,      2,      2,2,20181112,0501,-58.3667, -56.2504, 3890,   3910.7,  -0.0368,9,-999.0000,  34.6543,2,  34.6599,2,    235.6,2,    234.0,3,   120.24,2,    32.63,2,     0.02,2,     2.24,2,   2253.9,2,   2357.9,3,   -152.8,2,      1.8,     0.50,2,9
  74JC20181103, SR01b,    19,  1,      3,      3,2,20181112,0501,-58.3667, -56.2504, 3890,   3560.9,   0.0845,9,-999.0000,  34.6603,2,  34.6625,2,    230.3,2,    227.8,3,   119.13,2,    32.59,2,     0.02,2,     2.24,2,   2256.8,2,   2351.4,2,   -158.2,2,      1.7,     0.48,2,9
  74JC20181103, SR01b,    19,  1,      4,      4,2,20181112,0501,-58.3667, -56.2504, 3890,   3049.2,   0.2636,9,-999.0000,  34.6732,2,  34.6760,2,    222.6,2,    220.8,3,   121.00,2,    32.49,2,     0.02,2,     2.22,2,   2260.9,2,   2353.8,3,   -157.6,2,      1.7,     0.50,2,9
  74JC20181103, SR01b,    19,  1,      5,      5,2,20181112,0501,-58.3667, -56.2504, 3890,   2539.4,   0.5515,9,-999.0000,  34.6944,2,  34.6960,2,    211.8,2,    210.3,3,   124.97,2,    32.50,2,     0.02,2,     2.21,2,   2252.3,3,   2358.8,2,   -161.6,2,      1.7,     0.40,2,9
  74JC20181103, SR01b,    19,  1,      6,      6,2,20181112,0501,-58.3667, -56.2504, 3890,   2284.4,   0.7039,9,-999.0000,  34.7042,2,  34.7062,2,    207.1,2,    206.2,3,   124.52,2,    32.41,2,     0.02,2,     2.20,2,   2264.4,2,   2363.9,3,   -161.6,2,      1.6,     0.45,2,9
  74JC20181103, SR01b,    19,  1,      7,      7,2,20181112,0501,-58.3667, -56.2504, 3890,   2029.4,   0.8155,9,-999.0000,  34.7075,2,  34.7081,2,    204.9,2,    205.0,3,   120.97,2,    32.28,2,     0.02,2,     2.19,2,   2260.0,2,   2357.7,2,   -161.6,2,      1.6,     0.48,2,9
  74JC20181103, SR01b,    19,  1,      8,      8,2,20181112,0501,-58.3667, -56.2504, 3890,   1776.0,   0.9672,9,-999.0000,  34.7119,2,  34.7139,2,    202.1,2,    201.0,3,   116.24,2,    32.11,2,     0.03,2,     2.19,2,   2264.8,2,   2364.4,2,   -167.4,2,      1.7,     0.34,2,9
  74JC20181103, SR01b,    19,  1,      9,      9,2,20181112,0501,-58.3667, -56.2504, 3890,   1522.7,   1.1226,9,-999.0000,  34.7155,2,  34.7184,2,    199.3,2,    197.6,3,   111.15,2,    32.00,2,     0.02,2,     2.18,2,   -999.0,9,   -999.0,9,   -161.9,2,      1.7,     0.39,2,9
  74JC20181103, SR01b,    19,  1,     10,     10,2,20181112,0501,-58.3667, -56.2504, 3890,   1522.7,   1.1222,9,-999.0000,  34.7155,2,  34.7175,2,    199.5,2,    198.4,3,   111.18,2,    31.97,2,     0.01,2,     2.18,2,   -999.0,9,   -999.0,9,   -999.0,9,   -999.0,  -999.00,9,9
  74JC20181103, SR01b,    19,  1,     11,     11,4,20181112,0501,-58.3667, -56.2504, 3890,   1268.5,   1.2801,9,-999.0000,  34.7131,2,-999.0000,9,    197.3,2,   -999.0,9,  -999.00,9,  -999.00,9,  -999.00,9,  -999.00,9,   2258.5,4,   -999.0,9,   -999.0,9,   -999.0,  -999.00,9,9
  74JC20181103, SR01b,    19,  1,     12,     12,4,20181112,0501,-58.3667, -56.2504, 3890,   1016.7,   1.5656,9,-999.0000,  34.7194,2,-999.0000,9,    190.3,2,   -999.0,9,  -999.00,9,  -999.00,9,  -999.00,9,  -999.00,9,   -999.0,9,   -999.0,9,   -999.0,9,   -999.0,  -999.00,9,9
  74JC20181103, SR01b,    19,  1,     13,     13,2,20181112,0501,-58.3667, -56.2504, 3890,    889.5,   1.6967,9,-999.0000,  34.7170,2,  34.7186,2,    187.5,2,    185.6,3,    96.14,2,    31.98,2,     0.02,2,     2.17,2,   2256.7,2,   2350.0,2,   -161.4,2,      2.0,     0.38,2,9
  74JC20181103, SR01b,    19,  1,     14,     14,2,20181112,0501,-58.3667, -56.2504, 3890,    764.1,   1.8522,9,-999.0000,  34.7130,2,  34.7168,2,    183.0,2,    181.6,3,    91.43,2,    32.17,2,     0.02,2,     2.19,2,   2256.4,6,   2349.9,2,   -146.1,2,      1.7,     0.39,2,9
  74JC20181103, SR01b,    19,  1,     15,     15,2,20181112,0501,-58.3667, -56.2504, 3890,    636.9,   1.9481,9,-999.0000,  34.6928,2,  34.6954,2,    179.8,2,    179.3,3,    87.63,2,    32.67,2,     0.01,2,     2.23,2,   -999.0,9,   -999.0,9,   -999.0,9,   -999.0,  -999.00,9,9
  74JC20181103, SR01b,    19,  1,     16,     16,2,20181112,0501,-58.3667, -56.2504, 3890,    440.2,   2.0375,9,-999.0000,  34.6342,2,  34.6381,2,    174.6,2,    174.4,3,    82.32,2,    33.66,2,     0.03,2,     2.29,2,   2256.4,2,   2343.5,2,   -140.7,2,      1.7,     0.40,2,9
  74JC20181103, SR01b,    19,  1,     17,     17,2,20181112,0501,-58.3667, -56.2504, 3890,    350.9,   2.0554,9,-999.0000,  34.5884,2,  34.3956,2,    175.7,2,    183.7,3,    76.87,2,    34.03,2,     0.02,2,     2.31,2,   2253.3,2,   2328.3,2,   -999.0,9,   -999.0,  -999.00,9,9
  74JC20181103, SR01b,    19,  1,     18,     18,2,20181112,0501,-58.3667, -56.2504, 3890,    259.2,   1.8258,9,-999.0000,  34.4984,2,  34.4991,2,    187.9,2,    188.0,3,    74.19,2,    34.44,2,     0.02,2,     2.35,2,   2249.2,2,   2326.3,2,    -87.2,2,      1.9,     1.31,2,9
  74JC20181103, SR01b,    19,  1,     19,     19,2,20181112,0501,-58.3667, -56.2504, 3890,    183.1,   1.0245,9,-999.0000,  34.3186,2,  34.3194,2,    229.4,2,    229.0,3,    65.30,2,    33.62,2,     0.03,2,     2.29,2,   2229.3,2,   2312.6,2,   -999.0,9,   -999.0,  -999.00,9,9
  74JC20181103, SR01b,    19,  1,     20,     20,2,20181112,0501,-58.3667, -56.2504, 3890,    118.8,  -0.5041,9,-999.0000,  34.0435,2,  34.0477,2,    314.7,2,    313.3,3,    51.80,2,    29.95,2,     0.18,2,     2.08,2,   2200.9,2,   2293.6,2,    -90.2,2,      2.0,     1.30,2,9
  74JC20181103, SR01b,    19,  1,     21,     21,2,20181112,0501,-58.3667, -56.2504, 3890,     56.5,   0.0375,9,-999.0000,  33.8655,2,  33.8686,2,    355.6,2,    358.4,3,    29.69,2,    25.05,2,     0.27,2,     1.61,2,   2156.0,2,   2286.8,2,   -999.0,5,   -999.0,  -999.00,5,9
  74JC20181103, SR01b,    19,  1,     22,     22,2,20181112,0501,-58.3667, -56.2504, 3890,     58.1,   0.0586,9,-999.0000,  33.8637,2,  33.8668,2,    356.9,2,   -999.0,9,    29.37,2,    25.07,2,     0.26,2,     1.62,2,   -999.0,9,   -999.0,9,   -999.0,9,   -999.0,  -999.00,9,9
  74JC20181103, SR01b,    19,  1,     23,     23,2,20181112,0501,-58.3667, -56.2504, 3890,     12.0,   0.1331,9,-999.0000,  33.8578,2,  33.8566,2,    360.5,2,    358.2,3,    28.83,2,    24.93,2,     0.27,2,     1.62,2,   2160.7,2,   2277.2,2,   -999.0,9,   -999.0,  -999.00,9,9
  74JC20181103, SR01b,    19,  1,     24,     24,2,20181112,0501,-58.3667, -56.2504, 3890,     12.1,   0.1408,9,-999.0000,  33.8568,2,-999.0000,9,    359.6,2,   -999.0,9,  -999.00,9,  -999.00,9,  -999.00,9,  -999.00,9,   -999.0,9,   -999.0,9,   -999.0,9,   -999.0,  -999.00,9,9
  74JC20181103, SR01b,    20,  1,      1,      1,2,20181112,1041,-58.6833, -56.0539, 3753,   3811.2,   0.0390,9,-999.0000,  34.6572,2,  34.6580,2,    232.5,2,    235.9,2,   120.12,2,    32.81,2,     0.01,2,     2.25,2,   2252.9,6,   2351.7,6,   -999.0,9,   -999.0,  -999.00,9,9
  74JC20181103, SR01b,    20,  1,      2,      2,2,20181112,1041,-58.6833, -56.0539, 3753,   3753.9,   0.0545,9,-999.0000,  34.6581,2,  34.6607,2,    231.3,2,    231.2,2,   120.08,2,    32.78,2,     0.01,2,     2.26,2,   2255.2,2,   2354.1,2,   -999.0,9,   -999.0,  -999.00,9,9
  74JC20181103, SR01b,    20,  1,      3,      3,2,20181112,1041,-58.6833, -56.0539, 3753,   3303.9,   0.2224,9,-999.0000,  34.6697,2,  34.6697,2,    224.1,2,    324.5,4,   121.18,2,    32.81,2,     0.02,2,     2.24,2,   2257.1,2,   2357.3,2,   -999.0,9,   -999.0,  -999.00,9,9
  74JC20181103, SR01b,    20,  1,      4,      4,2,20181112,1041,-58.6833, -56.0539, 3753,   2793.0,   0.4914,9,-999.0000,  34.6915,2,  34.6911,2,    213.2,2,    212.7,2,   126.35,2,    32.82,2,     0.02,2,     2.24,2,   2260.1,2,   2360.4,2,   -999.0,9,   -999.0,  -999.00,9,9
  74JC20181103, SR01b,    20,  1,      5,      5,2,20181112,1041,-58.6833, -56.0539, 3753,   2537.7,   0.6192,9,-999.0000,  34.6995,2,  34.7017,2,    209.1,2,    209.6,2,   125.85,2,    32.71,2,     0.01,2,     2.23,2,   2261.8,2,   2361.4,2,   -999.0,9,   -999.0,  -999.00,9,9
  74JC20181103, SR01b,    20,  1,      6,      6,2,20181112,1041,-58.6833, -56.0539, 3753,   2284.0,   0.7069,9,-999.0000,  34.7025,2,  34.7041,2,    207.1,2,    199.0,3,   123.47,2,    32.65,2,     0.02,2,     2.23,2,   2266.4,2,   2361.2,2,   -999.0,9,   -999.0,  -999.00,9,9
  74JC20181103, SR01b,    20,  1,      7,      7,3,20181112,1041,-58.6833, -56.0539, 3753,   2028.9,   0.8268,9,-999.0000,  34.7059,2,  34.7055,3,    204.8,2,    205.8,3,   119.69,3,    32.57,3,     0.01,3,     2.22,3,   2261.3,2,   2357.5,3,   -999.0,9,   -999.0,  -999.00,9,9
  74JC20181103, SR01b,    20,  1,      8,      8,2,20181112,1041,-58.6833, -56.0539, 3753,   1772.1,   0.9880,9,-999.0000,  34.7125,2,  34.7126,2,    201.3,2,    193.6,3,   115.78,2,    32.41,2,     0.01,2,     2.22,2,   2267.2,2,   2360.3,2,   -999.0,9,   -999.0,  -999.00,9,9
  74JC20181103, SR01b,    20,  1,      9,      9,2,20181112,1041,-58.6833, -56.0539, 3753,   1520.9,   1.1646,9,-999.0000,  34.7183,2,  34.7212,2,    197.2,2,    197.8,2,   110.86,2,    32.29,2,     0.01,2,     2.20,2,   -999.0,9,   -999.0,9,   -999.0,9,   -999.0,  -999.00,9,9
  74JC20181103, SR01b,    20,  1,     10,     10,2,20181112,1041,-58.6833, -56.0539, 3753,   1267.8,   1.3368,9,-999.0000,  34.7201,2,  34.7245,2,    194.1,2,    195.1,2,   105.19,2,    32.16,2,     0.02,2,     2.19,2,   2256.4,2,   2351.5,3,   -999.0,9,   -999.0,  -999.00,9,9
  74JC20181103, SR01b,    20,  1,     11,     11,3,20181112,1041,-58.6833, -56.0539, 3753,   1015.9,   1.5618,9,-999.0000,  34.7211,2,  34.7226,3,    189.5,2,   -999.0,9,    99.31,3,    32.20,3,     0.01,3,     2.20,3,   2264.5,2,   2357.9,3,   -999.0,9,   -999.0,  -999.00,9,9
  74JC20181103, SR01b,    20,  1,     12,     12,4,20181112,1041,-58.6833, -56.0539, 3753,   1014.7,   1.5637,9,-999.0000,  34.7212,2,  34.7219,4,    189.3,2,   -999.0,9,  -999.00,9,  -999.00,9,  -999.00,9,  -999.00,9,   -999.0,9,   -999.0,9,   -999.0,9,   -999.0,  -999.00,9,9
  74JC20181103, SR01b,    20,  1,     13,     13,2,20181112,1041,-58.6833, -56.0539, 3753,    888.5,   1.6784,9,-999.0000,  34.7194,2,  34.7104,2,    186.5,2,   -999.0,9,    96.11,2,    32.26,2,     0.02,2,     2.21,2,   2258.6,2,   2355.0,2,   -999.0,9,   -999.0,  -999.00,9,9
  74JC20181103, SR01b,    20,  1,     14,     14,2,20181112,1041,-58.6833, -56.0539, 3753,    762.4,   1.8078,9,-999.0000,  34.7080,2,  34.6959,2,    183.5,2,    172.9,4,    91.65,2,    32.50,2,     0.02,2,     2.22,2,   2263.0,2,   2349.7,2,   -999.0,9,   -999.0,  -999.00,9,9
  74JC20181103, SR01b,    20,  1,     15,     15,3,20181112,1041,-58.6833, -56.0539, 3753,    636.5,   1.9075,9,-999.0000,  34.6939,2,  34.6316,3,    180.1,2,    180.5,3,    88.58,3,    32.80,3,     0.03,3,     2.25,3,   2256.9,2,   2344.8,3,   -999.0,9,   -999.0,  -999.00,9,9
  74JC20181103, SR01b,    20,  1,     16,     16,2,20181112,1041,-58.6833, -56.0539, 3753,    408.7,   2.0525,9,-999.0000,  34.6272,2,  34.5077,2,    173.6,2,    175.0,2,    82.76,2,    34.14,2,     0.02,2,     2.33,2,   2259.0,6,   2338.5,6,   -999.0,9,   -999.0,  -999.00,9,9
  74JC20181103, SR01b,    20,  1,     17,     17,2,20181112,1041,-58.6833, -56.0539, 3753,    257.9,   1.9124,9,-999.0000,  34.5084,2,  34.3781,2,    183.6,2,    183.8,2,    75.21,2,    34.94,2,     0.02,2,     2.38,2,   2250.2,2,   2324.3,2,   -999.0,9,   -999.0,  -999.00,9,9
  74JC20181103, SR01b,    20,  1,     18,     18,2,20181112,1041,-58.6833, -56.0539, 3753,    182.5,   1.4756,9,-999.0000,  34.3753,2,  34.1476,2,    208.6,2,    209.1,2,    67.20,2,    34.62,2,     0.03,2,     2.36,2,   2243.4,2,   2317.0,2,   -999.0,9,   -999.0,  -999.00,9,9
  74JC20181103, SR01b,    20,  1,     19,     19,2,20181112,1041,-58.6833, -56.0539, 3753,    126.0,   0.0360,9,-999.0000,  34.1507,2,  34.0005,2,    279.2,2,    281.6,2,    56.45,2,    32.00,2,     0.13,2,     2.21,2,   2213.5,2,   2300.2,2,   -999.0,9,   -999.0,  -999.00,9,9
  74JC20181103, SR01b,    20,  1,     20,     20,2,20181112,1041,-58.6833, -56.0539, 3753,     97.5,  -0.6067,9,-999.0000,  34.0026,2,  33.9127,2,    330.8,2,    332.6,2,    47.48,2,    28.81,2,     0.21,2,     2.00,2,   2194.2,2,   2291.1,2,   -999.0,9,   -999.0,  -999.00,9,9
  74JC20181103, SR01b,    20,  1,     21,     21,2,20181112,1041,-58.6833, -56.0539, 3753,     55.1,  -0.4223,9,-999.0000,  33.9120,2,  33.9026,2,    359.7,2,    358.3,2,    37.15,2,    26.19,2,     0.25,2,     1.71,2,   2170.7,2,   2288.3,2,   -999.0,9,   -999.0,  -999.00,9,9
  74JC20181103, SR01b,    20,  1,     22,     22,4,20181112,1041,-58.6833, -56.0539, 3753,     56.9,  -0.4210,9,-999.0000,  33.9117,2,  33.9046,4,    358.3,2,   -999.0,9,  -999.00,9,  -999.00,9,  -999.00,9,  -999.00,9,   -999.0,9,   -999.0,9,   -999.0,9,   -999.0,  -999.00,9,9
  74JC20181103, SR01b,    20,  1,     23,     23,2,20181112,1041,-58.6833, -56.0539, 3753,     11.6,  -0.4730,9,-999.0000,  33.9024,2,-999.0000,9,    359.1,2,    358.9,2,    37.07,2,    26.76,2,     0.25,2,     1.77,2,   2175.2,2,   2287.0,2,   -999.0,9,   -999.0,  -999.00,9,9
  74JC20181103, SR01b,    20,  1,     24,     24,2,20181112,1041,-58.6833, -56.0539, 3753,     11.3,  -0.4724,9,-999.0000,  33.9029,2,-999.0000,9,    359.0,2,    357.3,2,    37.04,2,    26.54,2,     0.26,2,     1.76,2,   -999.0,9,   -999.0,9,   -999.0,9,   -999.0,  -999.00,9,9