BOTTLE,20210419PRINUNIVRMK
EXPOCODE,SECT_ID,STNNBR,CASTNO,SAMPNO,BTLNBR,BTLNBR_FLAG_W,DATE,TIME,LATITUDE,LONGITUDE,DEPTH,CTDPRS,CTDTMP,SBE35_FLAG_W,REFTMP,CTDSAL,CTDSAL_FLAG_W,SALNTY,SALNTY_FLAG_W,CTDOXY,CTDOXY_FLAG_W,OXYGEN,OXYGEN_FLAG_W,SILCAT,SILCAT_FLAG_W,NITRAT,NITRAT_FLAG_W,NITRIT,NITRIT_FLAG_W,PHSPHT,PHSPHT_FLAG_W,TCARBN,TCARBN_FLAG_W,ALKALI,ALKALI_FLAG_W,DELC14,DELC14_FLAG_W,C14ERR,DELC13,DELC13_FLAG_W,SBE35_FLAG_W
,,,,,,,,,,,METERS,DBAR,ITS-90,,,PSS-78,,PSS-78,,UMOL/KG,,UMOL/KG,,UMOL/KG,,UMOL/KG,,UMOL/KG,,UMOL/KG,,UMOL/KG,,UMOL/KG,,/MILLE,,/MILLE,/MILLE,,
  74JC20181103, SR01b,    27,  1,      1,      1,2,20181114,0844,-60.8332, -54.7216, 1789,   1793.8,   0.1917,2,   0.1908,  34.6650,2,  34.6621,2,    224.0,2,    311.1,3,   117.75,2,    32.40,2,     0.02,2,     2.28,2,   2259.5,6,   2353.5,6,   -153.7,2,      1.8,     0.50,2,2
  74JC20181103, SR01b,    27,  1,      2,      2,2,20181114,0844,-60.8332, -54.7216, 1789,   1794.9,   0.1918,2,   0.1909,  34.6652,2,-999.0000,9,    223.9,2,   -999.0,9,  -999.00,9,  -999.00,9,  -999.00,9,  -999.00,9,   -999.0,9,   -999.0,9,   -999.0,9,   -999.0,  -999.00,9,2
  74JC20181103, SR01b,    27,  1,      3,      3,2,20181114,0844,-60.8332, -54.7216, 1789,   1749.9,   0.1979,2,   0.1986,  34.6631,2,  34.6589,2,    224.7,2,    223.0,2,   117.06,2,    32.37,2,     0.02,2,     2.27,2,   2257.7,2,   2352.8,2,   -187.8,4,      1.6,    -0.64,4,2
  74JC20181103, SR01b,    27,  1,      4,      4,2,20181114,0844,-60.8332, -54.7216, 1789,   1750.6,   0.1977,2,   0.1966,  34.6630,2,-999.0000,9,    224.3,2,   -999.0,9,  -999.00,9,  -999.00,9,  -999.00,9,  -999.00,9,   -999.0,9,   -999.0,9,   -158.4,2,      1.8,     0.44,2,2
  74JC20181103, SR01b,    27,  1,      5,      5,2,20181114,0844,-60.8332, -54.7216, 1789,   1466.1,   0.2836,2,   0.2668,  34.6757,2,  34.6708,2,    219.1,2,    219.1,2,   119.59,2,    32.40,2,     0.02,2,     2.28,2,   2261.9,2,   2356.1,2,   -999.0,9,   -999.0,  -999.00,9,2
  74JC20181103, SR01b,    27,  1,      6,      6,2,20181114,0844,-60.8332, -54.7216, 1789,   1466.4,   0.2517,2,   0.2433,  34.6713,2,-999.0000,9,    221.2,2,   -999.0,9,  -999.00,9,  -999.00,9,  -999.00,9,  -999.00,9,   -999.0,9,   -999.0,9,   -999.0,9,   -999.0,  -999.00,9,2
  74JC20181103, SR01b,    27,  1,      7,      7,2,20181114,0844,-60.8332, -54.7216, 1789,   1099.7,   0.3127,2,   0.3117,  34.6675,2,  34.6643,2,    221.5,2,    220.7,2,   115.18,2,    32.29,2,     0.02,2,     2.26,2,   2258.9,2,   2353.9,2,   -156.2,2,      2.0,     0.41,2,2
  74JC20181103, SR01b,    27,  1,      8,      8,2,20181114,0844,-60.8332, -54.7216, 1789,   1100.8,   0.3144,2,   0.3147,  34.6679,2,-999.0000,9,    221.5,2,   -999.0,9,  -999.00,9,  -999.00,9,  -999.00,9,  -999.00,9,   -999.0,9,   -999.0,9,   -999.0,9,   -999.0,  -999.00,9,2
  74JC20181103, SR01b,    27,  1,      9,      9,2,20181114,0844,-60.8332, -54.7216, 1789,    940.1,   0.4458,2,   0.4456,  34.6791,2,  34.6772,2,    216.8,2,    215.1,2,   116.23,2,    32.12,2,     0.01,2,     2.27,2,   2260.3,6,   2357.0,6,   -162.3,2,      1.8,     0.37,2,2
  74JC20181103, SR01b,    27,  1,     10,     10,2,20181114,0844,-60.8332, -54.7216, 1789,    940.6,   0.4402,2,   0.4374,  34.6785,2,-999.0000,9,    217.2,2,   -999.0,9,  -999.00,9,  -999.00,9,  -999.00,9,  -999.00,9,   -999.0,9,   -999.0,9,   -999.0,9,   -999.0,  -999.00,9,2
  74JC20181103, SR01b,    27,  1,     11,     11,2,20181114,0844,-60.8332, -54.7216, 1789,    710.4,  -0.0249,2,  -0.0239,  34.6165,2,  34.6147,2,    241.6,2,    239.2,2,   102.94,2,    31.85,2,     0.06,2,     2.24,2,   2253.5,2,   2346.8,2,   -150.7,2,      1.8,     0.40,2,2
  74JC20181103, SR01b,    27,  1,     12,     12,3,20181114,0844,-60.8332, -54.7216, 1789,    708.4,  -0.0240,2,  -0.0800,  34.6167,2,-999.0000,9,    241.5,2,   -999.0,9,  -999.00,9,  -999.00,9,  -999.00,9,  -999.00,9,   -999.0,9,   -999.0,9,   -999.0,9,   -999.0,  -999.00,9,2
  74JC20181103, SR01b,    27,  1,     13,     13,2,20181114,0844,-60.8332, -54.7216, 1789,    609.9,  -0.4433,2,  -0.4455,  34.5523,2,  34.5493,2,    265.2,2,    262.2,2,    92.50,2,    31.68,2,     0.02,2,     2.22,2,   2247.3,2,   2341.1,2,   -143.9,2,      1.9,     0.65,3,2
  74JC20181103, SR01b,    27,  1,     14,     14,2,20181114,0844,-60.8332, -54.7216, 1789,    609.5,  -0.4427,2,  -0.4462,  34.5523,2,-999.0000,9,    265.4,2,   -999.0,9,  -999.00,9,  -999.00,9,  -999.00,9,  -999.00,9,   -999.0,9,   -999.0,9,   -999.0,9,   -999.0,  -999.00,9,2
  74JC20181103, SR01b,    27,  1,     15,     15,3,20181114,0844,-60.8332, -54.7216, 1789,    458.6,  -0.5956,2,  -0.5957,  34.5068,2,  34.4484,3,    281.3,2,    282.5,3,    84.56,3,    30.94,3,     0.07,3,     2.17,3,   2235.3,2,   2332.6,3,   -143.4,2,      1.8,     0.45,2,2
  74JC20181103, SR01b,    27,  1,     16,     16,2,20181114,0844,-60.8332, -54.7216, 1789,    458.6,  -0.5956,2,  -0.5958,  34.5070,2,-999.0000,9,    281.7,2,   -999.0,9,  -999.00,9,  -999.00,9,  -999.00,9,  -999.00,9,   -999.0,9,   -999.0,9,   -999.0,9,   -999.0,  -999.00,9,2
  74JC20181103, SR01b,    27,  1,     17,     17,2,20181114,0844,-60.8332, -54.7216, 1789,    271.5,  -0.2192,2,  -0.1498,  34.4721,2,  34.4668,2,    278.1,2,    275.2,2,    84.82,2,    31.55,2,     0.07,2,     2.21,2,   2241.0,2,   2332.7,2,   -141.4,2,      1.8,     0.48,2,2
  74JC20181103, SR01b,    27,  1,     18,     18,2,20181114,0844,-60.8332, -54.7216, 1789,    271.8,  -0.1420,2,  -0.0994,  34.4765,2,-999.0000,9,    274.5,2,   -999.0,9,  -999.00,9,  -999.00,9,  -999.00,9,  -999.00,9,   -999.0,9,   -999.0,9,   -999.0,9,   -999.0,  -999.00,9,2
  74JC20181103, SR01b,    27,  1,     19,     25,2,20181114,0844,-60.8332, -54.7216, 1789,    103.5,  -0.4114,2,  -0.4115,  34.3761,2,  34.3708,2,    323.9,2,    320.3,2,    80.08,2,    30.08,2,     0.11,2,     2.11,2,   -999.0,9,   -999.0,9,   -164.8,3,      1.6,    -0.44,4,2
  74JC20181103, SR01b,    27,  1,     20,     20,2,20181114,0844,-60.8332, -54.7216, 1789,    104.5,  -0.4121,2,  -0.4120,  34.3762,2,-999.0000,9,    323.6,2,   -999.0,9,  -999.00,9,  -999.00,9,  -999.00,9,  -999.00,9,   -999.0,9,   -999.0,9,   -999.0,9,   -999.0,  -999.00,9,2
  74JC20181103, SR01b,    27,  1,     21,     21,2,20181114,0844,-60.8332, -54.7216, 1789,     54.7,  -0.2945,2,  -0.2941,  34.3752,2,  34.3693,2,    325.2,2,    323.1,2,    79.78,2,    29.75,2,     0.10,2,     2.09,2,   2223.8,6,   2325.4,6,   -136.4,2,      1.8,     0.67,2,2
  74JC20181103, SR01b,    27,  1,     22,     22,2,20181114,0844,-60.8332, -54.7216, 1789,     52.6,  -0.2938,2,  -0.2945,  34.3751,2,-999.0000,9,    324.8,2,   -999.0,9,  -999.00,9,  -999.00,9,  -999.00,9,  -999.00,9,   -999.0,9,   -999.0,9,   -999.0,9,   -999.0,  -999.00,9,2
  74JC20181103, SR01b,    27,  1,     23,     23,3,20181114,0844,-60.8332, -54.7216, 1789,      8.7,  -0.2464,2,  -0.2464,  34.3514,2,  34.3524,3,    331.2,2,    328.3,3,    77.55,3,    28.99,3,     0.11,3,     2.05,3,   2218.4,2,   2324.8,3,   -999.0,9,   -999.0,  -999.00,9,2
  74JC20181103, SR01b,    27,  1,     24,     24,4,20181114,0844,-60.8332, -54.7216, 1789,      9.7,  -0.2525,2,  -0.2500,  34.3527,2,-999.0000,9,    330.2,2,   -999.0,9,  -999.00,9,  -999.00,9,  -999.00,9,  -999.00,9,   -999.0,9,   -999.0,9,   -999.0,9,   -999.0,  -999.00,9,2
  74JC20181103, SR01b,    28,  1,      1,      1,2,20181114,1137,-60.8332, -54.7216, 1789,    809.1,  -0.1734,2,  -0.1758,  34.5994,2,-999.0000,9,    247.4,2,   -999.0,9,  -999.00,5,  -999.00,9,  -999.00,5,  -999.00,5,   -999.0,9,   -999.0,9,   -999.0,9,   -999.0,  -999.00,9,2
  74JC20181103, SR01b,    28,  1,      2,      2,2,20181114,1137,-60.8332, -54.7216, 1789,    807.3,  -0.1730,2,  -0.1803,  34.5996,2,-999.0000,9,    247.7,2,   -999.0,9,  -999.00,5,  -999.00,9,  -999.00,5,  -999.00,5,   -999.0,9,   -999.0,9,   -999.0,9,   -999.0,  -999.00,9,2
  74JC20181103, SR01b,    28,  1,      3,      3,2,20181114,1137,-60.8332, -54.7216, 1789,    808.7,  -0.1780,2,  -0.1799,  34.5990,2,-999.0000,9,    247.4,2,   -999.0,9,  -999.00,5,  -999.00,9,  -999.00,5,  -999.00,5,   -999.0,9,   -999.0,9,   -999.0,9,   -999.0,  -999.00,9,2
  74JC20181103, SR01b,    28,  1,      4,      4,2,20181114,1137,-60.8332, -54.7216, 1789,    807.3,  -0.1803,2,  -0.1830,  34.5988,2,-999.0000,9,    247.6,2,   -999.0,9,  -999.00,5,  -999.00,9,  -999.00,5,  -999.00,5,   -999.0,9,   -999.0,9,   -999.0,9,   -999.0,  -999.00,9,2
  74JC20181103, SR01b,    28,  1,      5,      5,2,20181114,1137,-60.8332, -54.7216, 1789,    807.5,  -0.1861,2,  -0.1915,  34.5980,2,-999.0000,9,    247.9,2,   -999.0,9,  -999.00,5,  -999.00,9,  -999.00,5,  -999.00,5,   -999.0,9,   -999.0,9,   -999.0,9,   -999.0,  -999.00,9,2
  74JC20181103, SR01b,    28,  1,      6,      6,2,20181114,1137,-60.8332, -54.7216, 1789,    606.9,  -0.4732,2,  -0.4732,  34.5394,2,-999.0000,9,    268.2,2,   -999.0,9,  -999.00,5,  -999.00,9,  -999.00,5,  -999.00,5,   -999.0,9,   -999.0,9,   -999.0,9,   -999.0,  -999.00,9,2
  74JC20181103, SR01b,    28,  1,      7,      7,2,20181114,1137,-60.8332, -54.7216, 1789,    607.0,  -0.4735,2,  -0.4739,  34.5391,2,-999.0000,9,    268.5,2,   -999.0,9,  -999.00,5,  -999.00,9,  -999.00,5,  -999.00,5,   -999.0,9,   -999.0,9,   -999.0,9,   -999.0,  -999.00,9,2
  74JC20181103, SR01b,    28,  1,      8,      8,2,20181114,1137,-60.8332, -54.7216, 1789,    605.6,  -0.4737,2,  -0.4738,  34.5389,2,-999.0000,9,    268.1,2,   -999.0,9,  -999.00,5,  -999.00,9,  -999.00,5,  -999.00,5,   -999.0,9,   -999.0,9,   -999.0,9,   -999.0,  -999.00,9,2
  74JC20181103, SR01b,    28,  1,      9,      9,2,20181114,1137,-60.8332, -54.7216, 1789,    607.8,  -0.4746,2,  -0.4742,  34.5389,2,-999.0000,9,    269.0,2,   -999.0,9,  -999.00,5,  -999.00,9,  -999.00,5,  -999.00,5,   -999.0,9,   -999.0,9,   -999.0,9,   -999.0,  -999.00,9,2
  74JC20181103, SR01b,    28,  1,     10,     10,2,20181114,1137,-60.8332, -54.7216, 1789,    607.5,  -0.4748,2,  -0.4755,  34.5388,2,-999.0000,9,    269.0,2,   -999.0,9,  -999.00,5,  -999.00,9,  -999.00,5,  -999.00,5,   -999.0,9,   -999.0,9,   -999.0,9,   -999.0,  -999.00,9,2
  74JC20181103, SR01b,    28,  1,     11,     11,2,20181114,1137,-60.8332, -54.7216, 1789,    608.4,  -0.4746,2,  -0.4765,  34.5387,2,-999.0000,9,    268.6,2,   -999.0,9,  -999.00,5,  -999.00,9,  -999.00,5,  -999.00,5,   -999.0,9,   -999.0,9,   -999.0,9,   -999.0,  -999.00,9,2
  74JC20181103, SR01b,    28,  1,     12,     12,2,20181114,1137,-60.8332, -54.7216, 1789,    605.3,  -0.4744,2,  -0.4761,  34.5388,2,-999.0000,9,    268.1,2,   -999.0,9,  -999.00,5,  -999.00,9,  -999.00,5,  -999.00,5,   -999.0,9,   -999.0,9,   -999.0,9,   -999.0,  -999.00,9,2
  74JC20181103, SR01b,    28,  1,     13,     13,2,20181114,1137,-60.8332, -54.7216, 1789,    607.9,  -0.4747,2,  -0.4749,  34.5389,2,-999.0000,9,    268.3,2,   -999.0,9,  -999.00,5,  -999.00,9,  -999.00,5,  -999.00,5,   -999.0,9,   -999.0,9,   -999.0,9,   -999.0,  -999.00,9,2
  74JC20181103, SR01b,    28,  1,     14,     14,2,20181114,1137,-60.8332, -54.7216, 1789,    606.0,  -0.4737,2,  -0.4749,  34.5390,2,-999.0000,9,    268.3,2,   -999.0,9,  -999.00,5,  -999.00,9,  -999.00,5,  -999.00,5,   -999.0,9,   -999.0,9,   -999.0,9,   -999.0,  -999.00,9,2
  74JC20181103, SR01b,    28,  1,     15,     15,2,20181114,1137,-60.8332, -54.7216, 1789,    504.7,  -0.5730,2,  -0.5714,  34.5121,2,-999.0000,9,    248.9,3,   -999.0,9,  -999.00,5,  -999.00,9,  -999.00,5,  -999.00,5,   -999.0,9,   -999.0,9,   -999.0,9,   -999.0,  -999.00,9,2
  74JC20181103, SR01b,    28,  1,     16,     16,2,20181114,1137,-60.8332, -54.7216, 1789,    504.9,  -0.5711,2,  -0.5685,  34.5129,2,-999.0000,9,    260.9,3,   -999.0,9,  -999.00,5,  -999.00,9,  -999.00,5,  -999.00,5,   -999.0,9,   -999.0,9,   -999.0,9,   -999.0,  -999.00,9,2
  74JC20181103, SR01b,    28,  1,     17,     17,2,20181114,1137,-60.8332, -54.7216, 1789,    503.6,  -0.5678,2,  -0.5679,  34.5127,2,-999.0000,9,    271.0,2,   -999.0,9,  -999.00,5,  -999.00,9,  -999.00,5,  -999.00,5,   -999.0,9,   -999.0,9,   -999.0,9,   -999.0,  -999.00,9,2
  74JC20181103, SR01b,    28,  1,     18,     18,2,20181114,1137,-60.8332, -54.7216, 1789,    506.2,  -0.5684,2,  -0.5667,  34.5129,2,-999.0000,9,    272.0,2,   -999.0,9,  -999.00,5,  -999.00,9,  -999.00,5,  -999.00,5,   -999.0,9,   -999.0,9,   -999.0,9,   -999.0,  -999.00,9,2
  74JC20181103, SR01b,    28,  1,     19,     25,2,20181114,1137,-60.8332, -54.7216, 1789,    504.7,  -0.5674,2,  -0.5666,  34.5124,2,-999.0000,9,    273.3,2,   -999.0,9,  -999.00,5,  -999.00,9,  -999.00,5,  -999.00,5,   -999.0,9,   -999.0,9,   -999.0,9,   -999.0,  -999.00,9,2
  74JC20181103, SR01b,    28,  1,     20,     20,2,20181114,1137,-60.8332, -54.7216, 1789,    505.7,  -0.5689,2,  -0.5678,  34.5128,2,-999.0000,9,    274.2,2,   -999.0,9,  -999.00,5,  -999.00,9,  -999.00,5,  -999.00,5,   -999.0,9,   -999.0,9,   -999.0,9,   -999.0,  -999.00,9,2
  74JC20181103, SR01b,    28,  1,     21,     21,2,20181114,1137,-60.8332, -54.7216, 1789,    506.4,  -0.5715,2,  -0.5684,  34.5131,2,-999.0000,9,    274.2,2,   -999.0,9,  -999.00,5,  -999.00,9,  -999.00,5,  -999.00,5,   -999.0,9,   -999.0,9,   -999.0,9,   -999.0,  -999.00,9,2
  74JC20181103, SR01b,    28,  1,     22,     22,2,20181114,1137,-60.8332, -54.7216, 1789,    506.0,  -0.5687,2,  -0.5668,  34.5129,2,-999.0000,9,    274.1,2,   -999.0,9,  -999.00,5,  -999.00,9,  -999.00,5,  -999.00,5,   -999.0,9,   -999.0,9,   -999.0,9,   -999.0,  -999.00,9,2
  74JC20181103, SR01b,    28,  1,     23,     23,2,20181114,1137,-60.8332, -54.7216, 1789,    506.3,  -0.5711,2,  -0.5667,  34.5133,2,-999.0000,9,    274.3,2,   -999.0,9,  -999.00,5,  -999.00,9,  -999.00,5,  -999.00,5,   -999.0,9,   -999.0,9,   -999.0,9,   -999.0,  -999.00,9,2
  74JC20181103, SR01b,    28,  1,     24,     24,2,20181114,1137,-60.8332, -54.7216, 1789,    507.1,  -0.5700,2,  -0.5658,  34.5122,2,-999.0000,9,    274.3,2,   -999.0,9,  -999.00,5,  -999.00,9,  -999.00,5,  -999.00,5,   -999.0,9,   -999.0,9,   -999.0,9,   -999.0,  -999.00,9,2