BOTTLE,20210419PRINUNIVRMK
EXPOCODE,SECT_ID,STNNBR,CASTNO,SAMPNO,BTLNBR,BTLNBR_FLAG_W,DATE,TIME,LATITUDE,LONGITUDE,DEPTH,CTDPRS,CTDTMP,SBE35_FLAG_W,REFTMP,CTDSAL,CTDSAL_FLAG_W,SALNTY,SALNTY_FLAG_W,CTDOXY,CTDOXY_FLAG_W,OXYGEN,OXYGEN_FLAG_W,SILCAT,SILCAT_FLAG_W,NITRAT,NITRAT_FLAG_W,NITRIT,NITRIT_FLAG_W,PHSPHT,PHSPHT_FLAG_W,TCARBN,TCARBN_FLAG_W,ALKALI,ALKALI_FLAG_W,DELC14,DELC14_FLAG_W,C14ERR,DELC13,DELC13_FLAG_W,SBE35_FLAG_W
,,,,,,,,,,,METERS,DBAR,ITS-90,,,PSS-78,,PSS-78,,UMOL/KG,,UMOL/KG,,UMOL/KG,,UMOL/KG,,UMOL/KG,,UMOL/KG,,UMOL/KG,,UMOL/KG,,/MILLE,,/MILLE,/MILLE,,
  74JC20181103, SR01b,     9,  1,      1,      1,2,20181109,1918,-55.2143, -57.9834, 3996,   4055.9,   0.6852,2,   0.6840,  34.6916,2,  34.6876,2,    213.7,2,    213.1,2,   120.99,2,    32.60,2,     0.02,2,     2.24,2,   2262.1,6,   2361.5,6,   -160.1,2,      2.2,     0.41,2,2
  74JC20181103, SR01b,     9,  1,      2,      2,2,20181109,1918,-55.2143, -57.9834, 3996,   4015.4,   0.7782,2,   0.7810,  34.6963,2,  34.6920,2,    210.6,2,    210.6,2,   120.85,2,    32.63,2,     0.02,2,     2.23,2,   2264.8,2,   2361.6,2,   -160.3,2,      2.1,     0.44,2,2
  74JC20181103, SR01b,     9,  1,      3,      3,2,20181109,1918,-55.2143, -57.9834, 3996,   3559.6,   1.1112,2,   1.1108,  34.7129,2,  34.7097,2,    201.7,2,    201.2,2,   116.93,2,    32.39,2,     0.02,2,     2.23,2,   2264.2,2,   2364.4,2,   -159.5,2,      2.6,     0.41,2,2
  74JC20181103, SR01b,     9,  1,      4,      4,2,20181109,1918,-55.2143, -57.9834, 3996,   3045.4,   1.5510,2,   1.5520,  34.7212,2,  34.7171,2,    190.8,2,    190.7,2,   105.63,2,    32.26,2,     0.02,2,     2.22,2,   2266.0,2,   2365.9,2,   -161.2,2,      2.1,     0.41,2,2
  74JC20181103, SR01b,     9,  1,      5,      5,2,20181109,1918,-55.2143, -57.9834, 3996,   2536.6,   1.9280,2,   1.9289,  34.7085,2,  34.7044,2,    179.8,2,    186.2,2,    97.05,2,    32.75,2,     0.02,2,     2.25,2,   2270.2,2,   2364.5,2,   -167.5,2,      1.9,     0.46,2,2
  74JC20181103, SR01b,     9,  1,      6,      6,2,20181109,1918,-55.2143, -57.9834, 3996,   2283.4,   2.1108,2,   2.1114,  34.6895,2,  34.6870,2,    174.4,2,    174.2,2,    92.12,2,    33.15,2,     0.02,2,     2.28,2,   2268.5,2,   2359.5,2,   -166.8,2,      2.0,     0.29,2,2
  74JC20181103, SR01b,     9,  1,      7,      7,4,20181109,1918,-55.2143, -57.9834, 3996,   2028.4,   2.2913,2,   2.2934,  34.6512,2,  34.1308,4,    170.2,2,    270.4,4,    16.40,4,    23.69,4,     0.12,4,     1.65,4,   2163.2,4,   2286.5,4,    -31.6,4,      2.4,     1.02,4,2
  74JC20181103, SR01b,     9,  1,      8,      8,2,20181109,1918,-55.2143, -57.9834, 3996,   1725.2,   2.4808,2,   2.4811,  34.5874,2,  34.5833,2,    166.9,2,    167.2,2,    80.26,2,    34.67,2,     0.02,2,     2.38,2,   2265.0,2,   2345.0,2,   -155.0,2,      2.1,     0.28,2,2
  74JC20181103, SR01b,     9,  1,      9,      9,2,20181109,1918,-55.2143, -57.9834, 3996,   1522.0,   2.7010,2,   2.7018,  34.5184,2,  34.5134,2,    166.3,2,    166.4,2,  -999.00,9,  -999.00,9,  -999.00,9,  -999.00,9,   2260.1,2,   -999.0,9,   -157.8,2,      1.8,     0.49,2,2
  74JC20181103, SR01b,     9,  1,     10,     10,2,20181109,1918,-55.2143, -57.9834, 3996,   1422.4,   2.7862,2,   2.7866,  34.4710,2,-999.0000,9,    174.9,2,    198.0,4,    73.22,2,    35.22,2,     0.02,2,     2.42,2,   -999.0,9,   -999.0,9,   -999.0,9,   -999.0,  -999.00,9,2
  74JC20181103, SR01b,     9,  1,     11,     11,2,20181109,1918,-55.2143, -57.9834, 3996,   1269.1,   2.9143,2,   2.9155,  34.3945,2,  34.3931,2,    189.4,2,    189.8,2,    56.51,2,    34.36,2,     0.02,2,     2.34,2,   -999.0,9,   -999.0,9,   -122.7,2,      1.9,     0.66,2,2
  74JC20181103, SR01b,     9,  1,     12,     12,2,20181109,1918,-55.2143, -57.9834, 3996,   1116.7,   3.1786,2,   3.1757,  34.3213,2,  34.3095,2,    206.9,2,    207.8,2,    44.86,2,    33.04,2,     0.02,2,     2.26,2,   -999.0,9,   -999.0,9,    -94.9,2,      2.1,     0.78,2,2
  74JC20181103, SR01b,     9,  1,     13,     13,2,20181109,1918,-55.2143, -57.9834, 3996,   1016.2,   3.2753,2,   3.2779,  34.2529,2,  34.2484,2,    227.2,2,    226.8,2,    36.49,2,    31.83,2,     0.02,2,     2.17,2,   2205.1,2,   2300.5,2,    -88.7,2,      2.3,     0.92,2,2
  74JC20181103, SR01b,     9,  1,     14,     14,2,20181109,1918,-55.2143, -57.9834, 3996,    889.5,   3.3662,2,   3.3976,  34.1725,2,  34.1688,2,    260.2,2,    260.6,2,    25.29,2,    29.40,2,     0.02,2,     2.01,2,   2180.5,2,   2288.6,2,    -64.7,2,      2.0,     0.90,2,2
  74JC20181103, SR01b,     9,  1,     15,     15,2,20181109,1918,-55.2143, -57.9834, 3996,    764.4,   3.8050,2,   3.8100,  34.1696,2,  34.1642,2,    266.1,2,    266.2,2,    20.50,2,    28.04,2,     0.02,2,     1.91,2,   2172.3,2,   2284.0,2,    -61.0,2,      2.0,     1.09,2,2
  74JC20181103, SR01b,     9,  1,     16,     16,2,20181109,1918,-55.2143, -57.9834, 3996,    662.6,   4.0125,2,   4.0080,  34.1497,2,  34.1451,2,    281.2,2,    280.7,2,    15.77,2,    26.42,2,     0.03,2,     1.81,2,   2158.4,2,   2281.5,2,    -42.3,2,      2.0,     1.08,2,2
  74JC20181103, SR01b,     9,  1,     17,     17,2,20181109,1918,-55.2143, -57.9834, 3996,    571.4,   4.2956,2,   4.3027,  34.1547,2,  34.1518,2,    285.6,2,    276.7,4,    13.33,2,    25.25,2,     0.04,2,     1.74,2,   -999.0,9,   -999.0,9,    -33.5,2,      2.0,     1.04,2,2
  74JC20181103, SR01b,     9,  1,     18,     18,2,20181109,1918,-55.2143, -57.9834, 3996,    511.6,   4.4690,2,   4.4696,  34.1571,2,  34.1528,2,    291.9,2,    299.8,4,    11.43,2,    24.28,2,     0.06,2,     1.68,2,   2152.2,2,   2278.8,2,    -26.7,2,      2.1,     1.10,2,2
  74JC20181103, SR01b,     9,  1,     19,     19,2,20181109,1918,-55.2143, -57.9834, 3996,    385.3,   4.6378,2,   4.6376,  34.1575,2,  34.1531,2,    298.3,2,    302.7,4,     9.27,2,    23.10,2,     0.07,2,     1.60,2,   2140.7,6,   2277.9,6,    -28.8,2,      1.9,     1.10,2,2
  74JC20181103, SR01b,     9,  1,     20,     20,2,20181109,1918,-55.2143, -57.9834, 3996,    259.8,   4.7354,2,   4.7360,  34.1576,2,  34.1525,2,    299.6,2,    298.9,2,     8.75,2,    22.76,2,     0.10,2,     1.58,2,   2140.4,2,   2276.8,2,    -17.2,2,      2.0,     1.10,2,2
  74JC20181103, SR01b,     9,  1,     21,     21,2,20181109,1918,-55.2143, -57.9834, 3996,    184.3,   4.8024,2,   4.8024,  34.1486,2,  34.1441,2,    302.0,2,    302.4,2,     8.31,2,    22.27,2,     0.19,2,     1.56,2,   2137.9,2,   2274.7,2,    -23.5,2,      1.9,     1.12,2,2
  74JC20181103, SR01b,     9,  1,     22,     22,3,20181109,1918,-55.2143, -57.9834, 3996,    107.8,   5.1765,2,   5.1912,  34.0826,2,-999.0000,9,    308.5,2,    303.3,3,  -999.00,9,  -999.00,9,  -999.00,9,  -999.00,9,   -999.0,9,   -999.0,9,   -999.0,9,   -999.0,  -999.00,9,2
  74JC20181103, SR01b,     9,  1,     23,     23,2,20181109,1918,-55.2143, -57.9834, 3996,     58.6,   5.4688,2,   5.4676,  33.9938,2,  33.9895,2,    309.1,2,    308.4,2,     4.93,2,    19.01,2,     0.21,2,     1.36,2,   2116.5,2,   2265.7,2,    -12.0,2,      2.0,     1.22,2,2
  74JC20181103, SR01b,     9,  1,     24,     24,2,20181109,1918,-55.2143, -57.9834, 3996,     13.5,   5.5616,2,   5.5617,  33.9933,2,  33.9881,2,    308.6,2,    308.4,2,     4.95,2,    18.87,2,     0.21,2,     1.35,2,   2115.5,2,   2266.3,2,   -999.0,9,   -999.0,  -999.00,9,2
  74JC20181103, SR01b,    10,  1,      1,      1,2,20181110,0047,-55.5167, -57.9833, 4216,   4284.9,   0.6901,2,   0.6876,  34.6903,2,  34.6858,2,    214.7,2,    213.1,2,   119.73,2,    32.29,2,     0.02,2,     2.22,2,   2261.5,6,   2360.4,6,   -999.0,9,   -999.0,  -999.00,9,2
  74JC20181103, SR01b,    10,  1,      2,      2,2,20181110,0047,-55.5167, -57.9833, 4216,   4243.2,   0.7465,2,   0.7464,  34.6935,2,  34.6898,2,    212.5,2,    211.5,2,   119.67,2,    32.20,2,     0.02,2,     2.20,2,   2260.4,2,   2365.8,2,   -999.0,9,   -999.0,  -999.00,9,2
  74JC20181103, SR01b,    10,  1,      3,      3,2,20181110,0047,-55.5167, -57.9833, 4216,   3814.7,   0.9870,2,   0.9880,  34.7080,2,  34.7052,2,    204.6,2,    203.6,2,   118.62,2,    32.16,2,     0.02,2,     2.20,2,   2262.2,2,   2367.6,3,   -999.0,9,   -999.0,  -999.00,9,2
  74JC20181103, SR01b,    10,  1,      4,      4,2,20181110,0047,-55.5167, -57.9833, 4216,   3304.8,   1.3180,2,   1.3181,  34.7187,2,  34.7151,2,    196.8,2,    196.5,2,   110.73,2,    32.05,2,     0.02,2,     2.18,2,   2261.0,2,   2363.5,2,   -999.0,9,   -999.0,  -999.00,9,2
  74JC20181103, SR01b,    10,  1,      5,      5,2,20181110,0047,-55.5167, -57.9833, 4216,   2792.0,   1.7576,2,   1.7595,  34.7170,2,  34.7134,2,    184.3,2,    183.5,2,   100.40,2,    32.28,2,     0.02,2,     2.21,2,   2266.8,2,   2364.8,3,   -999.0,9,   -999.0,  -999.00,9,2
  74JC20181103, SR01b,    10,  1,      6,      6,2,20181110,0047,-55.5167, -57.9833, 4216,   2538.6,   1.8863,2,   1.8871,  34.7087,2,  34.7058,2,    178.9,2,    178.3,2,    98.33,2,    32.61,2,     0.02,2,     2.23,2,   2270.5,2,   2364.6,2,   -999.0,9,   -999.0,  -999.00,9,2
  74JC20181103, SR01b,    10,  1,      7,      7,2,20181110,0047,-55.5167, -57.9833, 4216,   2283.5,   2.0133,2,   2.0135,  34.6957,2,  34.6926,2,    174.0,2,    173.4,2,    95.67,2,    32.98,2,     0.01,2,     2.25,2,   2269.5,2,   2366.4,3,   -999.0,9,   -999.0,  -999.00,9,2
  74JC20181103, SR01b,    10,  1,      8,      8,4,20181110,0047,-55.5167, -57.9833, 4216,   2030.9,   2.2146,2,   2.2163,  34.6650,2,-999.0000,9,    169.8,2,   -999.0,9,  -999.00,9,  -999.00,9,  -999.00,9,  -999.00,9,   -999.0,9,   -999.0,9,   -999.0,9,   -999.0,  -999.00,9,2
  74JC20181103, SR01b,    10,  1,      9,      9,2,20181110,0047,-55.5167, -57.9833, 4216,   1775.0,   2.4394,2,   2.4395,  34.6010,2,  34.5982,2,    168.4,2,    168.4,2,    79.38,2,    34.20,2,     0.02,2,     2.33,2,   2262.3,2,   2344.1,2,   -999.0,9,   -999.0,  -999.00,9,2
  74JC20181103, SR01b,    10,  1,     10,     10,4,20181110,0047,-55.5167, -57.9833, 4216,   1622.0,   2.5488,2,   2.5497,  34.5606,2,-999.0000,9,    167.0,2,   -999.0,9,  -999.00,9,  -999.00,9,  -999.00,9,  -999.00,9,   -999.0,9,   -999.0,9,   -999.0,9,   -999.0,  -999.00,9,2
  74JC20181103, SR01b,    10,  1,     11,     11,2,20181110,0047,-55.5167, -57.9833, 4216,   1444.7,   2.7052,2,   2.7048,  34.4775,2,  34.4744,2,    175.4,2,    176.4,2,    66.61,2,    34.78,2,     0.02,2,     2.36,2,   2249.3,2,   2336.0,2,   -999.0,9,   -999.0,  -999.00,9,2
  74JC20181103, SR01b,    10,  1,     12,     12,2,20181110,0047,-55.5167, -57.9833, 4216,   1317.1,   2.9133,2,   2.9131,  34.4278,2,  34.4257,2,    181.3,2,    181.3,2,    59.72,2,    34.47,2,     0.02,2,     2.34,2,   2242.0,2,   2327.6,2,   -999.0,9,   -999.0,  -999.00,9,2
  74JC20181103, SR01b,    10,  1,     13,     13,2,20181110,0047,-55.5167, -57.9833, 4216,   1015.0,   3.2533,2,   3.2541,  34.2521,2,  34.2512,2,    227.9,2,    227.2,2,    36.15,2,    31.67,2,     0.02,2,     2.14,2,   2201.9,2,   2301.2,2,   -999.0,9,   -999.0,  -999.00,9,2
  74JC20181103, SR01b,    10,  1,     14,     14,2,20181110,0047,-55.5167, -57.9833, 4216,    887.8,   3.3964,2,   3.3995,  34.1813,2,  34.1794,2,    258.4,2,    257.0,2,  -999.00,9,  -999.00,9,  -999.00,9,  -999.00,9,   2181.9,2,   -999.0,9,   -999.0,9,   -999.0,  -999.00,9,2
  74JC20181103, SR01b,    10,  1,     15,     15,2,20181110,0047,-55.5167, -57.9833, 4216,    734.6,   3.6638,2,   3.6631,  34.1450,2,  34.1401,2,    276.9,2,   -999.0,9,    18.66,2,    27.45,2,     0.03,2,     1.86,2,   2165.0,2,   2285.4,2,   -999.0,9,   -999.0,  -999.00,9,2
  74JC20181103, SR01b,    10,  1,     16,     16,2,20181110,0047,-55.5167, -57.9833, 4216,    611.0,   4.0258,2,   4.0219,  34.1492,2,  34.1486,2,    284.3,2,   -999.0,9,    15.36,2,    26.10,2,     0.03,2,     1.77,2,   2159.6,2,   2281.6,2,   -999.0,9,   -999.0,  -999.00,9,2
  74JC20181103, SR01b,    10,  1,     17,     17,2,20181110,0047,-55.5167, -57.9833, 4216,    510.6,   4.3547,2,   4.3581,  34.1599,2,  34.1580,2,    286.4,2,    283.4,2,    13.19,2,    24.97,2,     0.03,2,     1.70,2,   2153.0,2,   2282.1,2,   -999.0,9,   -999.0,  -999.00,9,2
  74JC20181103, SR01b,    10,  1,     18,     18,2,20181110,0047,-55.5167, -57.9833, 4216,    430.6,   4.4750,2,   4.4748,  34.1572,2,  34.1558,2,    291.0,2,    288.4,2,    11.34,2,    24.25,2,     0.04,2,     1.66,2,   -999.0,9,   -999.0,9,   -999.0,9,   -999.0,  -999.00,9,2
  74JC20181103, SR01b,    10,  1,     19,     19,2,20181110,0047,-55.5167, -57.9833, 4216,    360.3,   4.5942,2,   4.5954,  34.1601,2,  34.1600,2,    291.8,2,    288.4,2,    10.71,2,    23.89,2,     0.03,2,     1.64,2,   2145.2,6,   2279.3,2,   -999.0,9,   -999.0,  -999.00,9,2
  74JC20181103, SR01b,    10,  1,     20,     20,2,20181110,0047,-55.5167, -57.9833, 4216,    260.5,   4.6884,2,   4.6864,  34.1574,2,  34.1571,2,    297.1,2,    294.6,2,     9.14,2,    23.05,2,     0.05,2,     1.59,2,   2139.5,2,   2280.0,2,   -999.0,9,   -999.0,  -999.00,9,2
  74JC20181103, SR01b,    10,  1,     21,     21,2,20181110,0047,-55.5167, -57.9833, 4216,    183.9,   4.8106,2,   4.8125,  34.1509,2,  34.1495,2,    298.6,2,    295.4,2,     8.30,2,    22.50,2,     0.08,2,     1.56,2,   2140.8,2,   2277.4,2,   -999.0,9,   -999.0,  -999.00,9,2
  74JC20181103, SR01b,    10,  1,     22,     22,2,20181110,0047,-55.5167, -57.9833, 4216,    108.3,   5.0829,2,   5.0840,  34.1397,2,  34.1390,2,    306.8,2,    304.1,2,     7.46,2,    21.20,2,     0.14,2,     1.45,2,   2131.3,2,   2276.6,2,   -999.0,9,   -999.0,  -999.00,9,2
  74JC20181103, SR01b,    10,  1,     23,     23,2,20181110,0047,-55.5167, -57.9833, 4216,     59.1,   5.0907,2,   5.0956,  34.1395,2,  34.1400,2,    307.2,2,    304.5,2,     7.45,2,    20.99,2,     0.15,2,     1.44,2,   2132.8,2,   2278.7,2,   -999.0,9,   -999.0,  -999.00,9,2
  74JC20181103, SR01b,    10,  1,     24,     24,2,20181110,0047,-55.5167, -57.9833, 4216,     12.6,   5.1239,2,   5.1228,  34.1413,2,-999.0000,9,    307.5,2,   -999.0,9,  -999.00,9,  -999.00,9,  -999.00,9,  -999.00,9,   -999.0,9,   -999.0,9,   -999.0,9,   -999.0,  -999.00,9,2