BOTTLE,20210419PRINUNIVRMK
EXPOCODE,SECT_ID,STNNBR,CASTNO,SAMPNO,BTLNBR,BTLNBR_FLAG_W,DATE,TIME,LATITUDE,LONGITUDE,DEPTH,CTDPRS,CTDTMP,SBE35_FLAG_W,REFTMP,CTDSAL,CTDSAL_FLAG_W,SALNTY,SALNTY_FLAG_W,CTDOXY,CTDOXY_FLAG_W,OXYGEN,OXYGEN_FLAG_W,SILCAT,SILCAT_FLAG_W,NITRAT,NITRAT_FLAG_W,NITRIT,NITRIT_FLAG_W,PHSPHT,PHSPHT_FLAG_W,TCARBN,TCARBN_FLAG_W,ALKALI,ALKALI_FLAG_W,DELC14,DELC14_FLAG_W,C14ERR,DELC13,DELC13_FLAG_W,SBE35_FLAG_W
,,,,,,,,,,,METERS,DBAR,ITS-90,,,PSS-78,,PSS-78,,UMOL/KG,,UMOL/KG,,UMOL/KG,,UMOL/KG,,UMOL/KG,,UMOL/KG,,UMOL/KG,,UMOL/KG,,/MILLE,,/MILLE,/MILLE,,
  74JC20181103, SR01b,    40,  1,      1,      1,2,20181116,0822,-59.9999, -55.2380, 3500,   3550.9,   0.0332,2,   0.0332,  34.6575,2,  34.6611,2,    231.7,2,    231.7,2,   117.59,2,    32.28,2,     0.02,2,     2.27,2,   2253.6,6,   2353.2,6,   -999.0,9,   -999.0,  -999.00,9,2
  74JC20181103, SR01b,    40,  1,      2,      2,2,20181116,0822,-59.9999, -55.2380, 3500,   3488.8,   0.0271,2,   0.0270,  34.6575,2,  34.6586,2,    232.0,2,    232.3,2,   117.59,2,    32.32,2,     0.02,2,     2.27,2,   2253.9,2,   2358.5,2,   -999.0,9,   -999.0,  -999.00,9,2
  74JC20181103, SR01b,    40,  1,      3,      3,2,20181116,0822,-59.9999, -55.2380, 3500,   3036.6,   0.1446,2,   0.1455,  34.6659,2,  34.6666,2,    226.3,2,   -999.0,9,   118.70,2,    32.30,2,     0.02,2,     2.26,2,   2258.2,2,   2355.7,2,   -999.0,9,   -999.0,  -999.00,9,2
  74JC20181103, SR01b,    40,  1,      4,      4,2,20181116,0822,-59.9999, -55.2380, 3500,   2525.7,   0.3599,2,   0.3603,  34.6823,2,  34.6858,2,    217.4,2,    219.7,2,   123.16,2,    32.38,2,     0.01,2,     2.26,2,   2257.2,2,   2357.7,2,   -999.0,9,   -999.0,  -999.00,9,2
  74JC20181103, SR01b,    40,  1,      5,      5,2,20181116,0822,-59.9999, -55.2380, 3500,   2273.3,   0.4637,2,   0.4613,  34.6883,2,  34.6898,2,    213.9,2,    214.3,2,   123.01,2,    32.31,2,     0.01,2,     2.26,2,   2259.8,2,   2355.4,2,   -999.0,9,   -999.0,  -999.00,9,2
  74JC20181103, SR01b,    40,  1,      6,      6,2,20181116,0822,-59.9999, -55.2380, 3500,   2019.0,   0.5233,2,   0.5235,  34.6887,2,  34.6907,2,    213.0,2,    212.7,2,   120.88,2,    32.22,2,     0.02,2,     2.25,2,   2259.1,2,   2359.7,2,   -999.0,9,   -999.0,  -999.00,9,2
  74JC20181103, SR01b,    40,  1,      7,      7,2,20181116,0822,-59.9999, -55.2380, 3500,   1764.5,   0.5805,2,   0.5812,  34.6826,2,  34.6875,2,    214.6,2,    217.2,2,   115.17,2,    32.02,2,     0.02,2,     2.24,2,   2257.8,6,   2355.1,6,   -999.0,9,   -999.0,  -999.00,9,2
  74JC20181103, SR01b,    40,  1,      8,      8,2,20181116,0822,-59.9999, -55.2380, 3500,   1513.9,   0.9476,2,   0.9481,  34.7150,2,  34.7165,2,    202.2,2,    201.5,2,   116.46,2,    32.10,2,     0.01,2,     2.24,2,   2258.6,2,   2359.0,2,   -999.0,9,   -999.0,  -999.00,9,2
  74JC20181103, SR01b,    40,  1,      9,      9,2,20181116,0822,-59.9999, -55.2380, 3500,   1261.6,   1.1084,2,   1.1098,  34.7199,2,  34.7220,2,    199.1,2,    198.1,2,   111.29,2,    31.95,2,     0.02,2,     2.23,2,   2258.0,2,   2358.7,2,   -999.0,9,   -999.0,  -999.00,9,2
  74JC20181103, SR01b,    40,  1,     10,     10,4,20181116,0822,-59.9999, -55.2380, 3500,   1010.9,   1.3122,2,   1.3116,  34.7249,2,  34.7268,4,    195.5,2,   -999.0,9,  -999.00,9,  -999.00,9,  -999.00,9,  -999.00,9,   2257.8,4,   -999.0,9,   -999.0,9,   -999.0,  -999.00,9,2
  74JC20181103, SR01b,    40,  1,     11,     11,2,20181116,0822,-59.9999, -55.2380, 3500,   1011.3,   1.3118,2,   1.3123,  34.7249,2,  34.7266,2,    195.5,2,    195.8,2,   105.39,2,    31.89,2,     0.01,2,     2.22,2,   -999.0,9,   -999.0,9,   -999.0,9,   -999.0,  -999.00,9,2
  74JC20181103, SR01b,    40,  1,     12,     12,2,20181116,0822,-59.9999, -55.2380, 3500,    885.8,   1.4028,2,   1.4027,  34.7245,2,-999.0000,9,    194.3,2,    193.2,2,   102.06,2,    31.71,2,     0.01,2,     2.21,2,   2255.6,2,   2355.8,2,   -999.0,9,   -999.0,  -999.00,9,2
  74JC20181103, SR01b,    40,  1,     13,     13,2,20181116,0822,-59.9999, -55.2380, 3500,    759.8,   1.3845,2,   1.3857,  34.7058,2,  34.7076,2,    197.9,2,    197.3,2,    96.93,2,    31.78,2,     0.02,2,     2.22,2,   2251.6,6,   2355.1,6,   -999.0,9,   -999.0,  -999.00,9,2
  74JC20181103, SR01b,    40,  1,     14,     14,2,20181116,0822,-59.9999, -55.2380, 3500,    634.9,   0.9396,2,   0.9441,  34.6455,2,  34.6482,2,    219.5,2,    217.8,2,    92.21,2,    31.87,2,     0.03,2,     2.24,2,   2243.0,2,   2345.2,2,   -999.0,9,   -999.0,  -999.00,9,2
  74JC20181103, SR01b,    40,  1,     15,     15,2,20181116,0822,-59.9999, -55.2380, 3500,    510.0,   1.3251,2,   1.3466,  34.6578,2,  34.6645,2,    205.2,2,    203.1,2,    89.17,2,    32.24,2,     0.03,2,     2.25,2,   2249.7,2,   2342.9,2,   -999.0,9,   -999.0,  -999.00,9,2
  74JC20181103, SR01b,    40,  1,     16,     16,2,20181116,0822,-59.9999, -55.2380, 3500,    383.6,   1.9008,2,   1.9022,  34.6821,2,  34.6803,2,    179.0,2,    180.0,2,    86.23,2,    33.00,2,     0.02,2,     2.29,2,   2256.5,2,   2341.9,2,   -999.0,9,   -999.0,  -999.00,9,2
  74JC20181103, SR01b,    40,  1,     17,     17,2,20181116,0822,-59.9999, -55.2380, 3500,    258.5,   1.8040,2,   1.7983,  34.6093,2,  34.6091,2,    181.9,2,    181.5,2,    82.11,2,    33.77,2,     0.02,2,     2.35,2,   2260.0,2,   2343.0,2,   -999.0,9,   -999.0,  -999.00,9,2
  74JC20181103, SR01b,    40,  1,     18,     18,2,20181116,0822,-59.9999, -55.2380, 3500,    182.5,   1.1593,2,   1.1647,  34.4941,2,  34.4980,2,    216.5,2,    215.6,2,    78.63,2,    33.54,2,     0.05,2,     2.34,2,   2243.9,2,   2328.0,2,   -999.0,9,   -999.0,  -999.00,9,2
  74JC20181103, SR01b,    40,  1,     19,     25,4,20181116,0822,-59.9999, -55.2380, 3500,    182.2,   1.1583,2,   1.1579,  34.4938,2,-999.0000,9,    216.6,2,   -999.0,9,  -999.00,9,  -999.00,9,  -999.00,9,  -999.00,9,   -999.0,9,   -999.0,9,   -999.0,9,   -999.0,  -999.00,9,2
  74JC20181103, SR01b,    40,  1,     20,     20,2,20181116,0822,-59.9999, -55.2380, 3500,    107.0,  -0.0574,2,  -0.0583,  34.2348,2,  34.2350,2,    322.0,2,    320.2,2,    68.95,2,    30.07,2,     0.13,2,     2.10,2,   2217.9,2,   2316.2,2,   -999.0,9,   -999.0,  -999.00,9,2
  74JC20181103, SR01b,    40,  1,     21,     21,4,20181116,0822,-59.9999, -55.2380, 3500,     56.4,  -0.1056,2,  -0.1116,  34.1985,2,-999.0000,9,    330.6,2,   -999.0,9,  -999.00,9,  -999.00,9,  -999.00,9,  -999.00,9,   2206.3,4,   -999.0,9,   -999.0,9,   -999.0,  -999.00,9,2
  74JC20181103, SR01b,    40,  1,     22,     22,2,20181116,0822,-59.9999, -55.2380, 3500,     56.1,  -0.0966,2,  -0.1004,  34.1995,2,  34.1984,2,    330.2,2,    328.4,2,    66.52,2,    29.67,2,     0.14,2,     2.07,2,   -999.0,9,   -999.0,9,   -999.0,9,   -999.0,  -999.00,9,2
  74JC20181103, SR01b,    40,  1,     23,     23,2,20181116,0822,-59.9999, -55.2380, 3500,     11.3,  -0.1043,2,  -0.1034,  34.1942,2,  34.1931,2,    330.9,2,    329.4,2,    65.98,2,    29.32,2,     0.14,2,     2.05,2,   2210.6,2,   2312.9,2,   -999.0,9,   -999.0,  -999.00,9,2
  74JC20181103, SR01b,    40,  1,     24,     24,4,20181116,0822,-59.9999, -55.2380, 3500,     11.2,  -0.0988,2,  -0.0997,  34.1939,2,-999.0000,9,    330.8,2,    329.4,4,  -999.00,9,  -999.00,9,  -999.00,9,  -999.00,9,   -999.0,9,   -999.0,9,   -999.0,9,   -999.0,  -999.00,9,2
  74JC20181103, SR01b,    41,  1,      1,      1,2,20181116,1233,-59.9999, -55.2380, 3500,   1262.3,   1.0767,2,   1.0673,  34.7160,2,-999.0000,9,    199.3,2,   -999.0,9,  -999.00,5,  -999.00,9,  -999.00,5,  -999.00,5,   -999.0,9,   -999.0,9,   -999.0,9,   -999.0,  -999.00,9,2
  74JC20181103, SR01b,    41,  1,      2,      2,2,20181116,1233,-59.9999, -55.2380, 3500,   1262.0,   1.0745,2,   1.0732,  34.7159,2,-999.0000,9,    198.9,2,   -999.0,9,  -999.00,5,  -999.00,9,  -999.00,5,  -999.00,5,   -999.0,9,   -999.0,9,   -999.0,9,   -999.0,  -999.00,9,2
  74JC20181103, SR01b,    41,  1,      3,      3,2,20181116,1233,-59.9999, -55.2380, 3500,   1261.7,   1.0817,2,   1.0796,  34.7168,2,-999.0000,9,    198.8,2,   -999.0,9,  -999.00,5,  -999.00,9,  -999.00,5,  -999.00,5,   -999.0,9,   -999.0,9,   -999.0,9,   -999.0,  -999.00,9,2
  74JC20181103, SR01b,    41,  1,      4,      4,2,20181116,1233,-59.9999, -55.2380, 3500,   1261.2,   1.0825,2,   1.0823,  34.7167,2,-999.0000,9,    198.6,2,   -999.0,9,  -999.00,5,  -999.00,9,  -999.00,5,  -999.00,5,   -999.0,9,   -999.0,9,   -999.0,9,   -999.0,  -999.00,9,2
  74JC20181103, SR01b,    41,  1,      5,      5,2,20181116,1233,-59.9999, -55.2380, 3500,   1260.8,   1.0834,2,   1.0837,  34.7170,2,-999.0000,9,    198.5,2,   -999.0,9,  -999.00,5,  -999.00,9,  -999.00,5,  -999.00,5,   -999.0,9,   -999.0,9,   -999.0,9,   -999.0,  -999.00,9,2
  74JC20181103, SR01b,    41,  1,      6,      6,2,20181116,1233,-59.9999, -55.2380, 3500,    808.3,   1.3847,2,   1.3837,  34.7183,2,-999.0000,9,    194.0,2,   -999.0,9,  -999.00,5,  -999.00,9,  -999.00,5,  -999.00,5,   -999.0,9,   -999.0,9,   -999.0,9,   -999.0,  -999.00,9,2
  74JC20181103, SR01b,    41,  1,      7,      7,2,20181116,1233,-59.9999, -55.2380, 3500,    808.6,   1.3854,2,   1.3846,  34.7184,2,-999.0000,9,    194.2,2,   -999.0,9,  -999.00,5,  -999.00,9,  -999.00,5,  -999.00,5,   -999.0,9,   -999.0,9,   -999.0,9,   -999.0,  -999.00,9,2
  74JC20181103, SR01b,    41,  1,      8,      8,2,20181116,1233,-59.9999, -55.2380, 3500,    807.9,   1.3860,2,   1.3853,  34.7183,2,-999.0000,9,    193.8,2,   -999.0,9,  -999.00,5,  -999.00,9,  -999.00,5,  -999.00,5,   -999.0,9,   -999.0,9,   -999.0,9,   -999.0,  -999.00,9,2
  74JC20181103, SR01b,    41,  1,      9,      9,4,20181116,1233,-59.9999, -55.2380, 3500,    808.6,   1.3865,2,   1.3864,  34.7184,2,-999.0000,9,    193.9,2,   -999.0,9,  -999.00,5,  -999.00,9,  -999.00,5,  -999.00,5,   -999.0,9,   -999.0,9,   -999.0,9,   -999.0,  -999.00,9,2
  74JC20181103, SR01b,    41,  1,     10,     10,2,20181116,1233,-59.9999, -55.2380, 3500,    809.2,   1.3873,2,   1.3870,  34.7187,2,-999.0000,9,    194.1,2,   -999.0,9,  -999.00,5,  -999.00,9,  -999.00,5,  -999.00,5,   -999.0,9,   -999.0,9,   -999.0,9,   -999.0,  -999.00,9,2
  74JC20181103, SR01b,    41,  1,     11,     11,2,20181116,1233,-59.9999, -55.2380, 3500,    808.7,   1.3873,2,   1.3873,  34.7191,2,-999.0000,9,    194.2,2,   -999.0,9,  -999.00,5,  -999.00,9,  -999.00,5,  -999.00,5,   -999.0,9,   -999.0,9,   -999.0,9,   -999.0,  -999.00,9,2
  74JC20181103, SR01b,    41,  1,     12,     12,2,20181116,1233,-59.9999, -55.2380, 3500,    809.4,   1.3916,2,   1.3878,  34.7198,2,-999.0000,9,    193.6,2,   -999.0,9,  -999.00,5,  -999.00,9,  -999.00,5,  -999.00,5,   -999.0,9,   -999.0,9,   -999.0,9,   -999.0,  -999.00,9,2
  74JC20181103, SR01b,    41,  1,     13,     13,2,20181116,1233,-59.9999, -55.2380, 3500,    808.6,   1.3906,2,   1.3898,  34.7196,2,-999.0000,9,    193.5,2,   -999.0,9,  -999.00,5,  -999.00,9,  -999.00,5,  -999.00,5,   -999.0,9,   -999.0,9,   -999.0,9,   -999.0,  -999.00,9,2
  74JC20181103, SR01b,    41,  1,     14,     14,2,20181116,1233,-59.9999, -55.2380, 3500,    808.3,   1.3905,2,   1.3901,  34.7194,2,-999.0000,9,    193.7,2,   -999.0,9,  -999.00,5,  -999.00,9,  -999.00,5,  -999.00,5,   -999.0,9,   -999.0,9,   -999.0,9,   -999.0,  -999.00,9,2
  74JC20181103, SR01b,    41,  1,     15,     15,2,20181116,1233,-59.9999, -55.2380, 3500,    707.1,   1.5127,2,   1.5145,  34.7232,2,-999.0000,9,    191.3,2,   -999.0,9,  -999.00,5,  -999.00,9,  -999.00,5,  -999.00,5,   -999.0,9,   -999.0,9,   -999.0,9,   -999.0,  -999.00,9,2
  74JC20181103, SR01b,    41,  1,     16,     16,2,20181116,1233,-59.9999, -55.2380, 3500,    707.8,   1.5136,2,   1.5147,  34.7232,2,-999.0000,9,    191.1,2,   -999.0,9,  -999.00,5,  -999.00,9,  -999.00,5,  -999.00,5,   -999.0,9,   -999.0,9,   -999.0,9,   -999.0,  -999.00,9,2
  74JC20181103, SR01b,    41,  1,     17,     17,2,20181116,1233,-59.9999, -55.2380, 3500,    707.8,   1.5157,2,   1.5152,  34.7234,2,-999.0000,9,    190.8,2,   -999.0,9,  -999.00,5,  -999.00,9,  -999.00,5,  -999.00,5,   -999.0,9,   -999.0,9,   -999.0,9,   -999.0,  -999.00,9,2
  74JC20181103, SR01b,    41,  1,     18,     18,2,20181116,1233,-59.9999, -55.2380, 3500,    707.8,   1.5159,2,   1.5171,  34.7235,2,-999.0000,9,    191.5,2,   -999.0,9,  -999.00,5,  -999.00,9,  -999.00,5,  -999.00,5,   -999.0,9,   -999.0,9,   -999.0,9,   -999.0,  -999.00,9,2
  74JC20181103, SR01b,    41,  1,     19,     25,4,20181116,1233,-59.9999, -55.2380, 3500,    707.9,   1.5173,2,   1.5157,  34.7237,2,-999.0000,9,    191.7,2,   -999.0,9,  -999.00,5,  -999.00,9,  -999.00,5,  -999.00,5,   -999.0,9,   -999.0,9,   -999.0,9,   -999.0,  -999.00,9,2
  74JC20181103, SR01b,    41,  1,     20,     20,2,20181116,1233,-59.9999, -55.2380, 3500,    708.0,   1.5160,2,   1.5141,  34.7234,2,-999.0000,9,    191.3,2,   -999.0,9,  -999.00,5,  -999.00,9,  -999.00,5,  -999.00,5,   -999.0,9,   -999.0,9,   -999.0,9,   -999.0,  -999.00,9,2
  74JC20181103, SR01b,    41,  1,     21,     21,2,20181116,1233,-59.9999, -55.2380, 3500,    708.8,   1.5161,2,   1.5142,  34.7230,2,-999.0000,9,    191.2,2,   -999.0,9,  -999.00,5,  -999.00,9,  -999.00,5,  -999.00,5,   -999.0,9,   -999.0,9,   -999.0,9,   -999.0,  -999.00,9,2
  74JC20181103, SR01b,    41,  1,     22,     22,2,20181116,1233,-59.9999, -55.2380, 3500,    708.1,   1.5132,2,   1.5013,  34.7230,2,-999.0000,9,    191.3,2,   -999.0,9,  -999.00,5,  -999.00,9,  -999.00,5,  -999.00,5,   -999.0,9,   -999.0,9,   -999.0,9,   -999.0,  -999.00,9,2
  74JC20181103, SR01b,    41,  1,     23,     23,2,20181116,1233,-59.9999, -55.2380, 3500,    707.9,   1.4911,2,   1.4810,  34.7210,2,-999.0000,9,    192.0,2,   -999.0,9,  -999.00,5,  -999.00,9,  -999.00,5,  -999.00,5,   -999.0,9,   -999.0,9,   -999.0,9,   -999.0,  -999.00,9,2
  74JC20181103, SR01b,    41,  1,     24,     24,3,20181116,1233,-59.9999, -55.2380, 3500,    708.0,   1.4999,2,   1.5019,  34.7217,2,-999.0000,9,    191.3,2,   -999.0,9,  -999.00,5,  -999.00,9,  -999.00,5,  -999.00,5,   -999.0,9,   -999.0,9,   -999.0,9,   -999.0,  -999.00,9,2