BOTTLE,20210419PRINUNIVRMK
EXPOCODE,SECT_ID,STNNBR,CASTNO,SAMPNO,BTLNBR,BTLNBR_FLAG_W,DATE,TIME,LATITUDE,LONGITUDE,DEPTH,CTDPRS,CTDTMP,SBE35_FLAG_W,REFTMP,CTDSAL,CTDSAL_FLAG_W,SALNTY,SALNTY_FLAG_W,CTDOXY,CTDOXY_FLAG_W,OXYGEN,OXYGEN_FLAG_W,SILCAT,SILCAT_FLAG_W,NITRAT,NITRAT_FLAG_W,NITRIT,NITRIT_FLAG_W,PHSPHT,PHSPHT_FLAG_W,TCARBN,TCARBN_FLAG_W,ALKALI,ALKALI_FLAG_W,DELC14,DELC14_FLAG_W,C14ERR,DELC13,DELC13_FLAG_W,SBE35_FLAG_W
,,,,,,,,,,,METERS,DBAR,ITS-90,,,PSS-78,,PSS-78,,UMOL/KG,,UMOL/KG,,UMOL/KG,,UMOL/KG,,UMOL/KG,,UMOL/KG,,UMOL/KG,,UMOL/KG,,/MILLE,,/MILLE,/MILLE,,
  74JC20181103, SR01b,     5,  1,      1,      1,2,20181108,0819,-54.9778, -57.9834, 1045,   1048.5,   3.3680,2,   3.3694,  34.2439,2,-999.0000,9,    236.1,2,    236.2,2,    33.73,2,    30.26,2,     0.01,2,     2.04,2,   2177.6,4,   -999.0,9,   -999.0,9,   -999.0,  -999.00,9,2
  74JC20181103, SR01b,     5,  1,      2,      2,2,20181108,0819,-54.9778, -57.9834, 1045,   1048.8,   3.3682,2,   3.3697,  34.2440,2,  34.2428,2,    236.0,2,   -999.0,9,    33.83,2,    30.26,2,     0.01,2,     2.05,2,   -999.0,9,   -999.0,9,   -999.0,9,   -999.0,  -999.00,9,2
  74JC20181103, SR01b,     5,  1,      3,      3,2,20181108,0819,-54.9778, -57.9834, 1045,   1006.5,   3.3672,2,   3.3668,  34.2409,2,  34.2427,2,    237.0,2,    236.5,2,    33.44,2,    30.23,2,     0.01,2,     2.05,2,   2077.1,4,   2266.4,4,   -999.0,9,   -999.0,  -999.00,9,2
  74JC20181103, SR01b,     5,  1,      4,      4,2,20181108,0819,-54.9778, -57.9834, 1045,   1005.7,   3.3677,2,   3.3691,  34.2409,2,  34.2388,2,    237.1,2,   -999.0,9,    33.21,2,    30.23,2,     0.01,2,     2.04,2,   -999.0,9,   -999.0,9,   -999.0,9,   -999.0,  -999.00,9,2
  74JC20181103, SR01b,     5,  1,      5,      5,2,20181108,0819,-54.9778, -57.9834, 1045,    758.7,   3.8540,2,   3.8549,  34.1590,2,  34.1055,2,    275.8,2,    275.4,2,    18.31,2,    26.59,2,     0.01,2,     1.81,2,   1999.4,4,   2265.3,4,   -999.0,9,   -999.0,  -999.00,9,2
  74JC20181103, SR01b,     5,  1,      6,      6,2,20181108,0819,-54.9778, -57.9834, 1045,    556.4,   4.1954,2,   4.2066,  34.1560,2,  34.1580,2,    285.0,2,    284.8,2,    14.28,2,    25.06,2,     0.03,2,     1.72,2,   2153.3,2,   -999.0,9,   -999.0,9,   -999.0,  -999.00,9,2
  74JC20181103, SR01b,     5,  1,      7,      7,4,20181108,0819,-54.9778, -57.9834, 1045,    380.7,   4.6327,2,   4.6343,  34.1606,2,-999.0000,9,    294.1,2,   -999.0,9,  -999.00,9,  -999.00,9,  -999.00,9,  -999.00,9,   -999.0,9,   -999.0,9,   -999.0,9,   -999.0,  -999.00,9,2
  74JC20181103, SR01b,     5,  1,      8,      8,2,20181108,0819,-54.9778, -57.9834, 1045,    204.2,   4.7384,2,   4.7384,  34.1488,2,  34.1469,2,    299.7,2,    299.2,2,     8.63,2,    22.19,2,     0.11,2,     1.55,2,   2138.0,2,   -999.0,9,   -999.0,9,   -999.0,  -999.00,9,2
  74JC20181103, SR01b,     5,  1,      9,      9,3,20181108,0819,-54.9778, -57.9834, 1045,     28.4,   5.1673,2,   5.1669,  34.1094,2,  34.1308,3,    311.9,2,    304.2,3,     9.30,3,    22.10,3,     0.11,3,     1.51,3,   2134.0,2,   -999.0,9,   -999.0,9,   -999.0,  -999.00,9,2
  74JC20181103, SR01b,     5,  1,     10,     10,2,20181108,0819,-54.9778, -57.9834, 1045,     28.0,   5.1675,2,   5.1675,  34.1092,2,-999.0000,9,    311.5,2,   -999.0,9,     5.87,2,    19.87,2,     0.16,2,     1.36,2,   -999.0,9,   -999.0,9,   -999.0,9,   -999.0,  -999.00,9,2
  74JC20181103, SR01b,     5,  1,     11,     11,4,20181108,0819,-54.9778, -57.9834, 1045,      7.5,   5.1844,2,   5.1808,  34.1068,2,-999.0000,9,    311.7,2,   -999.0,9,  -999.00,9,  -999.00,9,  -999.00,9,  -999.00,9,   2122.1,4,   -999.0,9,   -999.0,9,   -999.0,  -999.00,9,2
  74JC20181103, SR01b,     5,  1,     12,     12,4,20181108,0819,-54.9778, -57.9834, 1045,      7.7,   5.1800,2,   5.1805,  34.1076,2,-999.0000,9,    311.0,2,   -999.0,9,  -999.00,9,  -999.00,9,  -999.00,9,  -999.00,9,   -999.0,9,   -999.0,9,   -999.0,9,   -999.0,  -999.00,9,2
  74JC20181103, SR01b,     5,  1,     13,     13,2,20181108,0819,-54.9778, -57.9834, 1045,      8.6,   5.1790,2,   5.1770,  34.1078,2,  34.1035,2,    312.1,2,    311.8,2,     5.86,2,    19.65,2,     0.16,2,     1.35,2,   -999.0,9,   -999.0,9,   -999.0,9,   -999.0,  -999.00,9,2
  74JC20181103, SR01b,     5,  1,     14,     14,4,20181108,0819,-54.9778, -57.9834, 1045,      8.3,   5.1782,2,   5.1770,  34.1079,2,-999.0000,9,    311.9,2,   -999.0,9,  -999.00,9,  -999.00,9,  -999.00,9,  -999.00,9,   -999.0,9,   -999.0,9,   -999.0,9,   -999.0,  -999.00,9,2
  74JC20181103, SR01b,     5,  1,     15,     15,4,20181108,0819,-54.9778, -57.9834, 1045,      8.8,   5.1780,2,   5.1792,  34.1078,2,-999.0000,9,    311.9,2,   -999.0,9,  -999.00,9,  -999.00,9,  -999.00,9,  -999.00,9,   -999.0,9,   -999.0,9,   -999.0,9,   -999.0,  -999.00,9,2
  74JC20181103, SR01b,     5,  1,     16,     16,3,20181108,0819,-54.9778, -57.9834, 1045,      8.1,   5.1884,2,   5.1978,  34.1062,2,-999.0000,9,    311.2,2,   -999.0,9,  -999.00,9,  -999.00,9,  -999.00,9,  -999.00,9,   -999.0,9,   -999.0,9,   -999.0,9,   -999.0,  -999.00,9,2
  74JC20181103, SR01b,     5,  1,     17,     17,4,20181108,0819,-54.9778, -57.9834, 1045,      8.2,   5.1911,2,   5.1917,  34.1065,2,-999.0000,9,    311.8,2,   -999.0,9,  -999.00,9,  -999.00,9,  -999.00,9,  -999.00,9,   -999.0,9,   -999.0,9,   -999.0,9,   -999.0,  -999.00,9,2
  74JC20181103, SR01b,     5,  1,     18,     18,2,20181108,0819,-54.9778, -57.9834, 1045,      7.4,   5.1931,2,   5.1958,  34.1059,2,  34.1030,2,    311.9,2,   -999.0,9,  -999.00,9,  -999.00,9,  -999.00,9,  -999.00,9,   -999.0,9,   -999.0,9,   -999.0,9,   -999.0,  -999.00,9,2
  74JC20181103, SR01b,     5,  1,     19,     19,2,20181108,0819,-54.9778, -57.9834, 1045,      7.5,   5.1940,2,   5.1945,  34.1060,2,-999.0000,9,    311.8,2,   -999.0,9,  -999.00,9,  -999.00,9,  -999.00,9,  -999.00,9,   -999.0,9,   -999.0,9,   -999.0,9,   -999.0,  -999.00,9,2
  74JC20181103, SR01b,     5,  1,     20,     20,2,20181108,0819,-54.9778, -57.9834, 1045,      8.2,   5.1921,2,   5.1857,  34.1062,2,-999.0000,9,    311.9,2,   -999.0,9,  -999.00,9,  -999.00,9,  -999.00,9,  -999.00,9,   -999.0,9,   -999.0,9,   -999.0,9,   -999.0,  -999.00,9,2
  74JC20181103, SR01b,     5,  1,     21,     21,3,20181108,0819,-54.9778, -57.9834, 1045,      8.1,   5.1824,2,   5.1836,  34.1073,2,-999.0000,9,    311.8,2,   -999.0,9,  -999.00,9,  -999.00,9,  -999.00,9,  -999.00,9,   -999.0,9,   -999.0,9,   -999.0,9,   -999.0,  -999.00,9,2
  74JC20181103, SR01b,     5,  1,     22,     22,2,20181108,0819,-54.9778, -57.9834, 1045,      8.2,   5.1856,2,   5.1831,  34.1070,2,-999.0000,9,    312.1,2,   -999.0,9,  -999.00,9,  -999.00,9,  -999.00,9,  -999.00,9,   -999.0,9,   -999.0,9,   -999.0,9,   -999.0,  -999.00,9,2
  74JC20181103, SR01b,     5,  1,     23,     23,2,20181108,0819,-54.9778, -57.9834, 1045,      6.2,   5.1871,2,   5.1872,  34.1068,2,-999.0000,9,    312.2,2,   -999.0,9,  -999.00,9,  -999.00,9,  -999.00,9,  -999.00,9,   -999.0,9,   -999.0,9,   -999.0,9,   -999.0,  -999.00,9,2
  74JC20181103, SR01b,     5,  1,     24,     24,3,20181108,0819,-54.9778, -57.9834, 1045,      0.4,   5.2034,2,   5.2253,  34.1051,2,-999.0000,9,    375.6,3,   -999.0,9,  -999.00,9,  -999.00,9,  -999.00,9,  -999.00,9,   -999.0,9,   -999.0,9,   -999.0,9,   -999.0,  -999.00,9,2
  74JC20181103, SR01b,     6,  1,      1,      1,2,20181108,1117,-55.0066, -57.9833, 1668,   1670.3,   2.5554,2,   2.5535,  34.5599,2,  34.5541,2,    167.8,2,    171.0,3,    76.40,2,    34.38,2,     0.01,2,     2.33,2,   2258.9,6,   2341.6,2,   -999.0,9,   -999.0,  -999.00,9,2
  74JC20181103, SR01b,     6,  1,      2,      2,2,20181108,1117,-55.0066, -57.9833, 1668,   1669.9,   2.5550,2,   2.5546,  34.5600,2,-999.0000,9,    167.8,2,   -999.0,9,    76.48,2,    34.39,2,     0.01,2,     2.34,2,   -999.0,9,   -999.0,9,   -999.0,9,   -999.0,  -999.00,9,2
  74JC20181103, SR01b,     6,  1,      3,      3,2,20181108,1117,-55.0066, -57.9833, 1668,   1631.9,   2.5922,2,   2.5972,  34.5466,2,  34.5454,2,    168.4,2,    168.8,2,    74.87,2,    34.46,2,     0.01,2,     2.34,2,   2254.8,2,   2340.0,2,   -999.0,9,   -999.0,  -999.00,9,2
  74JC20181103, SR01b,     6,  1,      4,      4,2,20181108,1117,-55.0066, -57.9833, 1668,   1632.9,   2.5926,2,   2.6033,  34.5465,2,-999.0000,9,    168.4,2,   -999.0,9,    74.76,2,    34.43,2,     0.01,2,     2.34,2,   -999.0,9,   -999.0,9,   -999.0,9,   -999.0,  -999.00,9,2
  74JC20181103, SR01b,     6,  1,      5,      5,2,20181108,1117,-55.0066, -57.9833, 1668,   1418.1,   2.7755,2,   2.7763,  34.4800,2,  34.4772,2,    173.5,2,    175.7,2,    66.75,2,    34.58,2,     0.01,2,     2.34,2,   2194.3,4,   2306.9,4,   -999.0,9,   -999.0,  -999.00,9,2
  74JC20181103, SR01b,     6,  1,      6,      6,2,20181108,1117,-55.0066, -57.9833, 1668,   1418.3,   2.7769,2,   2.7770,  34.4798,2,-999.0000,9,    173.5,2,   -999.0,9,    66.69,2,    34.54,2,     0.01,2,     2.34,2,   -999.0,9,   -999.0,9,   -999.0,9,   -999.0,  -999.00,9,2
  74JC20181103, SR01b,     6,  1,      7,      7,2,20181108,1117,-55.0066, -57.9833, 1668,   1266.1,   2.9104,2,   2.9107,  34.4030,2,  34.4015,2,    187.1,2,    188.0,2,    56.87,2,    33.94,2,     0.01,2,     2.30,2,   2235.6,2,   2322.5,2,   -999.0,9,   -999.0,  -999.00,9,2
  74JC20181103, SR01b,     6,  1,      8,      8,2,20181108,1117,-55.0066, -57.9833, 1668,   1266.4,   2.9135,2,   2.9122,  34.4030,2,-999.0000,9,    187.5,2,   -999.0,9,    56.93,2,    33.98,2,     0.01,2,     2.30,2,   -999.0,9,   -999.0,9,   -999.0,9,   -999.0,  -999.00,9,2
  74JC20181103, SR01b,     6,  1,      9,      9,2,20181108,1117,-55.0066, -57.9833, 1668,    990.0,   3.3315,2,   3.3338,  34.1958,2,  34.1977,2,    249.9,2,    250.2,2,    28.43,2,    29.87,2,     0.01,2,     2.01,2,   2184.9,2,   2290.6,2,   -999.0,9,   -999.0,  -999.00,9,2
  74JC20181103, SR01b,     6,  1,     10,     10,2,20181108,1117,-55.0066, -57.9833, 1668,    987.7,   3.3362,2,   3.3353,  34.1960,2,-999.0000,9,    249.4,2,   -999.0,9,    28.40,2,    29.82,2,     0.01,2,     2.01,2,   -999.0,9,   -999.0,9,   -999.0,9,   -999.0,  -999.00,9,2
  74JC20181103, SR01b,     6,  1,     11,     11,2,20181108,1117,-55.0066, -57.9833, 1668,    861.6,   3.6740,2,   3.6725,  34.1796,2,  34.1807,2,    261.1,2,    260.5,2,    23.03,2,    28.38,2,     0.01,2,     1.92,2,   2176.2,2,   2287.8,2,   -999.0,9,   -999.0,  -999.00,9,2
  74JC20181103, SR01b,     6,  1,     12,     12,2,20181108,1117,-55.0066, -57.9833, 1668,    861.8,   3.6731,2,   3.6718,  34.1782,2,-999.0000,9,    261.5,2,   -999.0,9,    22.84,2,    28.27,2,     0.02,2,     1.91,2,   -999.0,9,   -999.0,9,   -999.0,9,   -999.0,  -999.00,9,2
  74JC20181103, SR01b,     6,  1,     13,     13,2,20181108,1117,-55.0066, -57.9833, 1668,    584.3,   4.2475,2,   4.2475,  34.1581,2,  34.1568,2,    284.4,2,    283.3,2,    14.21,2,    25.19,2,     0.03,2,     1.71,2,   2155.7,2,   2282.7,2,   -999.0,9,   -999.0,  -999.00,9,2
  74JC20181103, SR01b,     6,  1,     14,     14,2,20181108,1117,-55.0066, -57.9833, 1668,    585.5,   4.2495,2,   4.2479,  34.1579,2,-999.0000,9,    284.6,2,   -999.0,9,    14.18,2,    25.16,2,     0.03,2,     1.71,2,   -999.0,9,   -999.0,9,   -999.0,9,   -999.0,  -999.00,9,2
  74JC20181103, SR01b,     6,  1,     15,     15,2,20181108,1117,-55.0066, -57.9833, 1668,    357.6,   4.6070,2,   4.6089,  34.1588,2,  34.1567,2,    293.9,2,    292.8,2,    10.25,2,    23.34,2,     0.04,2,     1.60,2,   2148.0,2,   2277.4,2,   -999.0,9,   -999.0,  -999.00,9,2
  74JC20181103, SR01b,     6,  1,     16,     16,2,20181108,1117,-55.0066, -57.9833, 1668,    358.3,   4.6064,2,   4.6063,  34.1589,2,-999.0000,9,    293.9,2,   -999.0,9,    10.22,2,    23.38,2,     0.04,2,     1.60,2,   -999.0,9,   -999.0,9,   -999.0,9,   -999.0,  -999.00,9,2
  74JC20181103, SR01b,     6,  1,     17,     17,2,20181108,1117,-55.0066, -57.9833, 1668,    181.5,   4.7635,2,   4.7624,  34.1499,2,  34.1484,2,    300.2,2,    299.5,2,     8.39,2,    22.25,2,     0.12,2,     1.53,2,   2143.8,2,   -999.0,9,   -999.0,9,   -999.0,  -999.00,9,2
  74JC20181103, SR01b,     6,  1,     18,     18,2,20181108,1117,-55.0066, -57.9833, 1668,    181.2,   4.7635,2,   4.7625,  34.1500,2,-999.0000,9,    300.1,2,   -999.0,9,     8.40,2,    22.20,2,     0.12,2,     1.53,2,   -999.0,9,   -999.0,9,   -999.0,9,   -999.0,  -999.00,9,2
  74JC20181103, SR01b,     6,  1,     19,     19,2,20181108,1117,-55.0066, -57.9833, 1668,    105.6,   4.8893,2,   4.8880,  34.1295,2,  34.1281,2,    304.7,2,    304.1,2,     7.54,2,    21.39,2,     0.17,2,     1.49,2,   2099.4,4,   -999.0,9,   -999.0,9,   -999.0,  -999.00,9,2
  74JC20181103, SR01b,     6,  1,     20,     20,2,20181108,1117,-55.0066, -57.9833, 1668,    105.2,   4.8851,2,   4.8885,  34.1299,2,-999.0000,9,    304.1,2,   -999.0,9,     7.46,2,    21.30,2,     0.17,2,     1.48,2,   -999.0,9,   -999.0,9,   -999.0,9,   -999.0,  -999.00,9,2
  74JC20181103, SR01b,     6,  1,     21,     21,2,20181108,1117,-55.0066, -57.9833, 1668,     45.3,   5.1496,2,   5.1510,  34.1104,2,  34.1084,2,    311.1,2,    310.6,2,     6.26,2,    20.05,2,     0.16,2,     1.38,2,   2120.8,2,   -999.0,9,   -999.0,9,   -999.0,  -999.00,9,2
  74JC20181103, SR01b,     6,  1,     22,     22,2,20181108,1117,-55.0066, -57.9833, 1668,     45.3,   5.1506,2,   5.1498,  34.1103,2,-999.0000,9,    310.8,2,   -999.0,9,     6.28,2,    20.06,2,     0.16,2,     1.37,2,   -999.0,9,   -999.0,9,   -999.0,9,   -999.0,  -999.00,9,2
  74JC20181103, SR01b,     6,  1,     23,     23,2,20181108,1117,-55.0066, -57.9833, 1668,     10.4,   5.2964,2,   5.2963,  34.0737,2,  34.0724,2,    313.0,2,    312.5,2,     4.33,2,    18.87,2,     0.19,2,     1.31,2,   2124.5,2,   -999.0,9,   -999.0,9,   -999.0,  -999.00,9,2
  74JC20181103, SR01b,     6,  1,     24,     24,2,20181108,1117,-55.0066, -57.9833, 1668,      9.7,   5.2934,2,   5.2940,  34.0749,2,-999.0000,9,    312.0,2,   -999.0,9,     4.49,2,    18.96,2,     0.19,2,     1.31,2,   -999.0,9,   -999.0,9,   -999.0,9,   -999.0,  -999.00,9,2