BOTTLE,20210419PRINUNIVRMK
EXPOCODE,SECT_ID,STNNBR,CASTNO,SAMPNO,BTLNBR,BTLNBR_FLAG_W,DATE,TIME,LATITUDE,LONGITUDE,DEPTH,CTDPRS,CTDTMP,SBE35_FLAG_W,REFTMP,CTDSAL,CTDSAL_FLAG_W,SALNTY,SALNTY_FLAG_W,CTDOXY,CTDOXY_FLAG_W,OXYGEN,OXYGEN_FLAG_W,SILCAT,SILCAT_FLAG_W,NITRAT,NITRAT_FLAG_W,NITRIT,NITRIT_FLAG_W,PHSPHT,PHSPHT_FLAG_W,TCARBN,TCARBN_FLAG_W,ALKALI,ALKALI_FLAG_W,DELC14,DELC14_FLAG_W,C14ERR,DELC13,DELC13_FLAG_W,SBE35_FLAG_W
,,,,,,,,,,,METERS,DBAR,ITS-90,,,PSS-78,,PSS-78,,UMOL/KG,,UMOL/KG,,UMOL/KG,,UMOL/KG,,UMOL/KG,,UMOL/KG,,UMOL/KG,,UMOL/KG,,/MILLE,,/MILLE,/MILLE,,
  74JC20181103, SR01b,    34,  1,      1,      1,2,20181115,0237,-60.6667, -54.8248, 3104,   2022.5,   0.3205,2,   0.3202,  34.6861,2,-999.0000,9,    215.3,2,   -999.0,9,  -999.00,5,  -999.00,9,  -999.00,5,  -999.00,5,   -999.0,9,   -999.0,9,   -999.0,9,   -999.0,  -999.00,9,2
  74JC20181103, SR01b,    34,  1,      2,      2,2,20181115,0237,-60.6667, -54.8248, 3104,   2023.3,   0.3202,2,   0.3188,  34.6861,2,-999.0000,9,    215.6,2,   -999.0,9,  -999.00,5,  -999.00,9,  -999.00,5,  -999.00,5,   -999.0,9,   -999.0,9,   -999.0,9,   -999.0,  -999.00,9,2
  74JC20181103, SR01b,    34,  1,      3,      3,2,20181115,0237,-60.6667, -54.8248, 3104,   2022.7,   0.3195,2,   0.3194,  34.6860,2,-999.0000,9,    215.5,2,   -999.0,9,  -999.00,5,  -999.00,9,  -999.00,5,  -999.00,5,   -999.0,9,   -999.0,9,   -999.0,9,   -999.0,  -999.00,9,2
  74JC20181103, SR01b,    34,  1,      4,      4,2,20181115,0237,-60.6667, -54.8248, 3104,   2022.5,   0.3192,2,   0.3185,  34.6859,2,-999.0000,9,    215.3,2,   -999.0,9,  -999.00,5,  -999.00,9,  -999.00,5,  -999.00,5,   -999.0,9,   -999.0,9,   -999.0,9,   -999.0,  -999.00,9,2
  74JC20181103, SR01b,    34,  1,      5,      5,2,20181115,0237,-60.6667, -54.8248, 3104,   2023.2,   0.3165,2,   0.3159,  34.6857,2,-999.0000,9,    215.6,2,   -999.0,9,  -999.00,5,  -999.00,9,  -999.00,5,  -999.00,5,   -999.0,9,   -999.0,9,   -999.0,9,   -999.0,  -999.00,9,2
  74JC20181103, SR01b,    34,  1,      6,      6,2,20181115,0237,-60.6667, -54.8248, 3104,   2022.3,   0.3166,2,   0.3163,  34.6856,2,-999.0000,9,    215.7,2,   -999.0,9,  -999.00,5,  -999.00,9,  -999.00,5,  -999.00,5,   -999.0,9,   -999.0,9,   -999.0,9,   -999.0,  -999.00,9,2
  74JC20181103, SR01b,    34,  1,      7,      7,3,20181115,0237,-60.6667, -54.8248, 3104,   2023.7,   0.3163,2,   0.3161,  34.6856,2,-999.0000,9,    215.5,2,   -999.0,9,  -999.00,5,  -999.00,9,  -999.00,5,  -999.00,5,   -999.0,9,   -999.0,9,   -999.0,9,   -999.0,  -999.00,9,2
  74JC20181103, SR01b,    34,  1,      8,      8,2,20181115,0237,-60.6667, -54.8248, 3104,   2023.7,   0.3179,2,   0.3169,  34.6858,2,-999.0000,9,    215.3,2,   -999.0,9,  -999.00,5,  -999.00,9,  -999.00,5,  -999.00,5,   -999.0,9,   -999.0,9,   -999.0,9,   -999.0,  -999.00,9,2
  74JC20181103, SR01b,    34,  1,      9,      9,2,20181115,0237,-60.6667, -54.8248, 3104,   1616.7,   0.4746,2,   0.4754,  34.7019,2,-999.0000,9,    208.7,2,   -999.0,9,  -999.00,5,  -999.00,9,  -999.00,5,  -999.00,5,   -999.0,9,   -999.0,9,   -999.0,9,   -999.0,  -999.00,9,2
  74JC20181103, SR01b,    34,  1,     11,     11,2,20181115,0237,-60.6667, -54.8248, 3104,   1616.9,   0.4741,2,   0.4766,  34.7017,2,-999.0000,9,    209.2,2,   -999.0,9,  -999.00,5,  -999.00,9,  -999.00,5,  -999.00,5,   -999.0,9,   -999.0,9,   -999.0,9,   -999.0,  -999.00,9,2
  74JC20181103, SR01b,    34,  1,     12,     12,2,20181115,0237,-60.6667, -54.8248, 3104,   1616.5,   0.4750,2,   0.4750,  34.7019,2,-999.0000,9,    208.7,2,   -999.0,9,  -999.00,5,  -999.00,9,  -999.00,5,  -999.00,5,   -999.0,9,   -999.0,9,   -999.0,9,   -999.0,  -999.00,9,2
  74JC20181103, SR01b,    34,  1,     13,     13,2,20181115,0237,-60.6667, -54.8248, 3104,   1617.9,   0.4614,2,   0.4690,  34.7008,2,-999.0000,9,    209.3,2,   -999.0,9,  -999.00,5,  -999.00,9,  -999.00,5,  -999.00,5,   -999.0,9,   -999.0,9,   -999.0,9,   -999.0,  -999.00,9,2
  74JC20181103, SR01b,    34,  1,     14,     14,2,20181115,0237,-60.6667, -54.8248, 3104,   1617.6,   0.4610,2,   0.4635,  34.7005,2,-999.0000,9,    209.6,2,   -999.0,9,  -999.00,5,  -999.00,9,  -999.00,5,  -999.00,5,   -999.0,9,   -999.0,9,   -999.0,9,   -999.0,  -999.00,9,2
  74JC20181103, SR01b,    34,  1,     15,     15,2,20181115,0237,-60.6667, -54.8248, 3104,   1616.8,   0.4650,2,   0.4645,  34.7010,2,-999.0000,9,    209.5,2,   -999.0,9,  -999.00,5,  -999.00,9,  -999.00,5,  -999.00,5,   -999.0,9,   -999.0,9,   -999.0,9,   -999.0,  -999.00,9,2
  74JC20181103, SR01b,    34,  1,     16,     16,2,20181115,0237,-60.6667, -54.8248, 3104,   1616.8,   0.4673,2,   0.4673,  34.7014,2,-999.0000,9,    209.0,2,   -999.0,9,  -999.00,5,  -999.00,9,  -999.00,5,  -999.00,5,   -999.0,9,   -999.0,9,   -999.0,9,   -999.0,  -999.00,9,2
  74JC20181103, SR01b,    34,  1,     17,     17,2,20181115,0237,-60.6667, -54.8248, 3104,   1617.5,   0.4697,2,   0.4692,  34.7016,2,-999.0000,9,    209.4,2,   -999.0,9,  -999.00,5,  -999.00,9,  -999.00,5,  -999.00,5,   -999.0,9,   -999.0,9,   -999.0,9,   -999.0,  -999.00,9,2
  74JC20181103, SR01b,    34,  1,     18,     18,2,20181115,0237,-60.6667, -54.8248, 3104,   1617.8,   0.4685,2,   0.4682,  34.7013,2,-999.0000,9,    209.2,2,   -999.0,9,  -999.00,5,  -999.00,9,  -999.00,5,  -999.00,5,   -999.0,9,   -999.0,9,   -999.0,9,   -999.0,  -999.00,9,2
  74JC20181103, SR01b,    34,  1,     20,     20,2,20181115,0237,-60.6667, -54.8248, 3104,   1262.9,   0.5244,2,   0.5240,  34.6946,2,-999.0000,9,    210.7,2,   -999.0,9,  -999.00,5,  -999.00,9,  -999.00,5,  -999.00,5,   -999.0,9,   -999.0,9,   -999.0,9,   -999.0,  -999.00,9,2
  74JC20181103, SR01b,    34,  1,     21,     21,2,20181115,0237,-60.6667, -54.8248, 3104,   1263.7,   0.5255,2,   0.5253,  34.6946,2,-999.0000,9,    210.6,2,   -999.0,9,  -999.00,5,  -999.00,9,  -999.00,5,  -999.00,5,   -999.0,9,   -999.0,9,   -999.0,9,   -999.0,  -999.00,9,2
  74JC20181103, SR01b,    34,  1,     22,     22,2,20181115,0237,-60.6667, -54.8248, 3104,   1261.9,   0.5246,2,   0.5243,  34.6947,2,-999.0000,9,    210.6,2,   -999.0,9,  -999.00,5,  -999.00,9,  -999.00,5,  -999.00,5,   -999.0,9,   -999.0,9,   -999.0,9,   -999.0,  -999.00,9,2
  74JC20181103, SR01b,    34,  1,     23,     23,2,20181115,0237,-60.6667, -54.8248, 3104,   1262.6,   0.5242,2,   0.5237,  34.6945,2,-999.0000,9,    211.2,2,   -999.0,9,  -999.00,5,  -999.00,9,  -999.00,5,  -999.00,5,   -999.0,9,   -999.0,9,   -999.0,9,   -999.0,  -999.00,9,2
  74JC20181103, SR01b,    35,  1,      1,      1,2,20181115,0425,-60.6667, -54.8248, 3104,    504.1,   0.6972,2,   0.6918,  34.6253,2,-999.0000,9,    221.1,2,   -999.0,9,  -999.00,5,  -999.00,9,  -999.00,5,  -999.00,5,   -999.0,9,   -999.0,9,   -999.0,9,   -999.0,  -999.00,9,2
  74JC20181103, SR01b,    35,  1,      2,      2,2,20181115,0425,-60.6667, -54.8248, 3104,    503.0,   0.6932,2,   0.6906,  34.6250,2,-999.0000,9,    221.4,2,   -999.0,9,  -999.00,5,  -999.00,9,  -999.00,5,  -999.00,5,   -999.0,9,   -999.0,9,   -999.0,9,   -999.0,  -999.00,9,2
  74JC20181103, SR01b,    35,  1,      3,      3,2,20181115,0425,-60.6667, -54.8248, 3104,    503.1,   0.6925,2,   0.6915,  34.6255,2,-999.0000,9,    220.8,2,   -999.0,9,  -999.00,5,  -999.00,9,  -999.00,5,  -999.00,5,   -999.0,9,   -999.0,9,   -999.0,9,   -999.0,  -999.00,9,2
  74JC20181103, SR01b,    35,  1,      4,      4,2,20181115,0425,-60.6667, -54.8248, 3104,    503.8,   0.6937,2,   0.6925,  34.6260,2,-999.0000,9,    220.9,2,   -999.0,9,  -999.00,5,  -999.00,9,  -999.00,5,  -999.00,5,   -999.0,9,   -999.0,9,   -999.0,9,   -999.0,  -999.00,9,2
  74JC20181103, SR01b,    35,  1,      5,      5,2,20181115,0425,-60.6667, -54.8248, 3104,    504.2,   0.6936,2,   0.6918,  34.6257,2,-999.0000,9,    221.4,2,   -999.0,9,  -999.00,5,  -999.00,9,  -999.00,5,  -999.00,5,   -999.0,9,   -999.0,9,   -999.0,9,   -999.0,  -999.00,9,2
  74JC20181103, SR01b,    35,  1,      6,      6,2,20181115,0425,-60.6667, -54.8248, 3104,    503.6,   0.6923,2,   0.6921,  34.6258,2,-999.0000,9,    221.2,2,   -999.0,9,  -999.00,5,  -999.00,9,  -999.00,5,  -999.00,5,   -999.0,9,   -999.0,9,   -999.0,9,   -999.0,  -999.00,9,2
  74JC20181103, SR01b,    35,  1,      7,      7,3,20181115,0425,-60.6667, -54.8248, 3104,    503.2,   0.6920,2,   0.6915,  34.6257,2,-999.0000,9,    221.0,2,   -999.0,9,  -999.00,5,  -999.00,9,  -999.00,5,  -999.00,5,   -999.0,9,   -999.0,9,   -999.0,9,   -999.0,  -999.00,9,2
  74JC20181103, SR01b,    35,  1,      8,      8,2,20181115,0425,-60.6667, -54.8248, 3104,    503.7,   0.6913,2,   0.6881,  34.6256,2,-999.0000,9,    221.5,2,   -999.0,9,  -999.00,5,  -999.00,9,  -999.00,5,  -999.00,5,   -999.0,9,   -999.0,9,   -999.0,9,   -999.0,  -999.00,9,2
  74JC20181103, SR01b,    35,  1,      9,      9,2,20181115,0425,-60.6667, -54.8248, 3104,    502.9,   0.6900,2,   0.6889,  34.6255,2,-999.0000,9,    220.9,2,   -999.0,9,  -999.00,5,  -999.00,9,  -999.00,5,  -999.00,5,   -999.0,9,   -999.0,9,   -999.0,9,   -999.0,  -999.00,9,2
  74JC20181103, SR01b,    35,  1,     11,     11,2,20181115,0425,-60.6667, -54.8248, 3104,    504.0,   0.6757,2,   0.6762,  34.6237,2,-999.0000,9,    221.4,2,   -999.0,9,  -999.00,5,  -999.00,9,  -999.00,5,  -999.00,5,   -999.0,9,   -999.0,9,   -999.0,9,   -999.0,  -999.00,9,2
  74JC20181103, SR01b,    35,  1,     12,     12,2,20181115,0425,-60.6667, -54.8248, 3104,    503.6,   0.6772,2,   0.6739,  34.6241,2,-999.0000,9,    221.3,2,   -999.0,9,  -999.00,5,  -999.00,9,  -999.00,5,  -999.00,5,   -999.0,9,   -999.0,9,   -999.0,9,   -999.0,  -999.00,9,2
  74JC20181103, SR01b,    35,  1,     13,     13,2,20181115,0425,-60.6667, -54.8248, 3104,    302.7,   0.1510,2,   0.1541,  34.5009,2,-999.0000,9,    247.4,2,   -999.0,9,  -999.00,5,  -999.00,9,  -999.00,5,  -999.00,5,   -999.0,9,   -999.0,9,   -999.0,9,   -999.0,  -999.00,9,2
  74JC20181103, SR01b,    35,  1,     14,     14,2,20181115,0425,-60.6667, -54.8248, 3104,    302.8,   0.1359,2,   0.1547,  34.5006,2,-999.0000,9,    248.2,2,   -999.0,9,  -999.00,5,  -999.00,9,  -999.00,5,  -999.00,5,   -999.0,9,   -999.0,9,   -999.0,9,   -999.0,  -999.00,9,2
  74JC20181103, SR01b,    35,  1,     15,     15,2,20181115,0425,-60.6667, -54.8248, 3104,    302.1,   0.1445,2,   0.1517,  34.5005,2,-999.0000,9,    248.0,2,   -999.0,9,  -999.00,5,  -999.00,9,  -999.00,5,  -999.00,5,   -999.0,9,   -999.0,9,   -999.0,9,   -999.0,  -999.00,9,2
  74JC20181103, SR01b,    35,  1,     16,     16,2,20181115,0425,-60.6667, -54.8248, 3104,    303.0,   0.1376,2,   0.1507,  34.5004,2,-999.0000,9,    248.2,2,   -999.0,9,  -999.00,5,  -999.00,9,  -999.00,5,  -999.00,5,   -999.0,9,   -999.0,9,   -999.0,9,   -999.0,  -999.00,9,2
  74JC20181103, SR01b,    35,  1,     17,     17,2,20181115,0425,-60.6667, -54.8248, 3104,    301.8,   0.1501,2,   0.1518,  34.5008,2,-999.0000,9,    247.1,2,   -999.0,9,  -999.00,5,  -999.00,9,  -999.00,5,  -999.00,5,   -999.0,9,   -999.0,9,   -999.0,9,   -999.0,  -999.00,9,2
  74JC20181103, SR01b,    35,  1,     18,     18,2,20181115,0425,-60.6667, -54.8248, 3104,    302.2,   0.1518,2,   0.1546,  34.5005,2,-999.0000,9,    247.2,2,   -999.0,9,  -999.00,5,  -999.00,9,  -999.00,5,  -999.00,5,   -999.0,9,   -999.0,9,   -999.0,9,   -999.0,  -999.00,9,2
  74JC20181103, SR01b,    35,  1,     20,     20,2,20181115,0425,-60.6667, -54.8248, 3104,    302.4,   0.1609,2,   0.1667,  34.5004,2,-999.0000,9,    247.3,2,   -999.0,9,  -999.00,5,  -999.00,9,  -999.00,5,  -999.00,5,   -999.0,9,   -999.0,9,   -999.0,9,   -999.0,  -999.00,9,2
  74JC20181103, SR01b,    35,  1,     21,     21,2,20181115,0425,-60.6667, -54.8248, 3104,    301.9,   0.1690,2,   0.1727,  34.5002,2,-999.0000,9,    247.3,2,   -999.0,9,  -999.00,5,  -999.00,9,  -999.00,5,  -999.00,5,   -999.0,9,   -999.0,9,   -999.0,9,   -999.0,  -999.00,9,2
  74JC20181103, SR01b,    35,  1,     22,     22,2,20181115,0425,-60.6667, -54.8248, 3104,    302.0,   0.1591,2,   0.1796,  34.5012,2,-999.0000,9,    247.4,2,   -999.0,9,  -999.00,5,  -999.00,9,  -999.00,5,  -999.00,5,   -999.0,9,   -999.0,9,   -999.0,9,   -999.0,  -999.00,9,2
  74JC20181103, SR01b,    35,  1,     23,     23,2,20181115,0425,-60.6667, -54.8248, 3104,    303.2,   0.1655,2,   0.1696,  34.5009,2,-999.0000,9,    247.0,2,   -999.0,9,  -999.00,5,  -999.00,9,  -999.00,5,  -999.00,5,   -999.0,9,   -999.0,9,   -999.0,9,   -999.0,  -999.00,9,2
  74JC20181103, SR01b,    36,  1,      1,      1,2,20181115,0838,-60.3334, -55.0313, 3437,   3487.2,  -0.0380,2,  -0.0380,  34.6557,2,  34.6528,2,    233.7,2,    233.2,2,   116.64,2,    32.73,2,     0.02,2,     2.29,2,   2250.3,6,   2361.3,6,   -155.4,2,      1.9,     0.60,2,2
  74JC20181103, SR01b,    36,  1,      2,      2,2,20181115,0838,-60.3334, -55.0313, 3437,   3449.2,  -0.0372,2,  -0.0360,  34.6559,2,  34.6597,2,    233.7,2,    233.6,2,   116.79,2,    32.77,2,     0.01,2,     2.29,2,   2252.9,2,   2359.7,2,   -156.5,2,      1.8,     0.60,2,2
  74JC20181103, SR01b,    36,  1,      3,      3,2,20181115,0838,-60.3334, -55.0313, 3437,   3303.3,   0.0090,2,   0.0091,  34.6584,2,  34.6611,2,    230.8,2,    232.7,2,   116.93,2,    32.83,2,     0.01,2,     2.29,2,   2253.9,2,   2375.8,3,   -156.3,2,      2.2,     0.60,2,2
  74JC20181103, SR01b,    36,  1,      4,      4,2,20181115,0838,-60.3334, -55.0313, 3437,   3047.9,   0.0836,2,   0.0841,  34.6625,2,  34.6664,2,    228.3,2,    227.7,2,   116.98,2,    32.75,2,     0.01,2,     2.29,2,   2253.7,2,   2373.7,3,   -163.0,2,      1.6,     0.58,2,2
  74JC20181103, SR01b,    36,  1,      5,      5,2,20181115,0838,-60.3334, -55.0313, 3437,   2794.0,   0.1877,2,   0.1866,  34.6702,2,  34.6698,2,    223.8,2,    223.5,2,   118.80,2,    32.81,2,     0.01,2,     2.28,2,   2255.2,2,   2356.2,2,   -161.6,2,      1.8,     0.55,2,2
  74JC20181103, SR01b,    36,  1,      6,      6,2,20181115,0838,-60.3334, -55.0313, 3437,   2537.8,   0.3205,2,   0.3207,  34.6831,2,  34.6820,2,    217.9,2,    217.7,2,   123.66,2,    32.92,2,     0.01,2,     2.29,2,   2257.5,2,   2360.9,2,   -160.5,2,      1.7,     0.51,2,2
  74JC20181103, SR01b,    36,  1,      7,      7,2,20181115,0838,-60.3334, -55.0313, 3437,   2284.7,   0.4732,2,   0.4732,  34.6951,2,  34.6954,2,    211.7,2,    216.0,3,   125.81,2,    32.69,2,     0.00,2,     2.29,2,   2258.2,2,   2394.6,3,   -165.2,2,      1.7,     0.52,2,2
  74JC20181103, SR01b,    36,  1,      8,      8,2,20181115,0838,-60.3334, -55.0313, 3437,   2028.2,   0.5810,2,   0.5824,  34.6990,2,  34.6992,2,    209.4,2,    209.5,2,   123.73,2,    32.58,2,     0.01,2,     2.29,2,   2260.4,2,   2354.5,3,   -163.6,2,      1.7,     0.34,2,2
  74JC20181103, SR01b,    36,  1,      9,      9,2,20181115,0838,-60.3334, -55.0313, 3437,   1775.3,   0.7556,2,   0.7562,  34.7096,2,  34.7094,2,    204.8,2,    205.4,2,   122.17,2,    32.38,2,     0.01,2,     2.27,2,   2258.2,6,   2364.8,6,   -164.0,2,      1.7,     0.42,2,2
  74JC20181103, SR01b,    36,  1,     10,     10,4,20181115,0838,-60.3334, -55.0313, 3437,   1521.0,   0.9304,2,   0.9307,  34.7147,2,-999.0000,9,    201.4,2,   -999.0,9,  -999.00,9,  -999.00,9,  -999.00,9,  -999.00,9,   -999.0,9,   -999.0,9,   -999.0,9,   -999.0,  -999.00,9,2
  74JC20181103, SR01b,    36,  1,     11,     11,2,20181115,0838,-60.3334, -55.0313, 3437,   1268.0,   1.0987,2,   1.0994,  34.7192,2,  34.7179,2,    198.1,2,    199.7,2,   111.50,2,    32.14,2,     0.01,2,     2.24,2,   2258.3,2,   2369.7,2,   -160.3,2,      1.6,     0.38,2,2
  74JC20181103, SR01b,    36,  1,     12,     12,4,20181115,0838,-60.3334, -55.0313, 3437,   1015.3,   1.3628,2,   1.3643,  34.7247,2,-999.0000,9,    193.5,2,   -999.0,9,  -999.00,9,  -999.00,9,  -999.00,9,  -999.00,9,   -999.0,9,   -999.0,9,   -999.0,9,   -999.0,  -999.00,9,2
  74JC20181103, SR01b,    36,  1,     13,     13,2,20181115,0838,-60.3334, -55.0313, 3437,    888.8,   1.5301,2,   1.5271,  34.7264,2,  34.7249,2,    190.1,2,    190.5,2,    99.72,2,    32.02,2,     0.01,2,     2.22,2,   2251.9,2,   2360.9,2,   -999.0,5,   -999.0,  -999.00,5,2
  74JC20181103, SR01b,    36,  1,     14,     14,2,20181115,0838,-60.3334, -55.0313, 3437,    762.2,   1.6553,2,   1.6562,  34.7285,2,  34.7259,2,    188.9,2,    190.0,2,    95.29,2,    31.89,2,     0.02,2,     2.21,2,   2254.5,2,   2359.2,2,   -999.0,9,   -999.0,  -999.00,9,2
  74JC20181103, SR01b,    36,  1,     15,     15,2,20181115,0838,-60.3334, -55.0313, 3437,    610.3,   1.8329,2,   1.8334,  34.7193,2,  34.7163,2,    184.3,2,    185.0,2,    90.19,2,    32.35,2,     0.02,2,     2.23,2,   2253.8,2,   2352.2,2,   -999.0,5,   -999.0,  -999.00,5,2
  74JC20181103, SR01b,    36,  1,     16,     16,2,20181115,0838,-60.3334, -55.0313, 3437,    509.8,   1.9258,2,   1.9271,  34.7100,2,  34.7088,2,    181.3,2,    182.2,2,    87.21,2,    32.46,2,     0.01,2,     2.24,2,   2254.6,2,   2353.0,2,   -999.0,9,   -999.0,  -999.00,9,2
  74JC20181103, SR01b,    36,  1,     17,     17,2,20181115,0838,-60.3334, -55.0313, 3437,    409.9,   2.0071,2,   2.0069,  34.6860,2,  34.6838,2,    176.7,2,    177.0,2,    84.25,2,    33.30,2,     0.02,2,     2.29,2,   2272.3,4,   2345.3,2,   -151.5,2,      1.6,     0.36,2,2
  74JC20181103, SR01b,    36,  1,     18,     18,2,20181115,0838,-60.3334, -55.0313, 3437,    277.8,   2.1413,2,   2.1417,  34.6379,2,  34.6352,2,    172.4,2,    174.8,2,    80.13,2,    34.06,2,     0.01,2,     2.33,2,   2253.2,6,   2346.0,2,   -149.6,2,      1.9,     0.34,2,2
  74JC20181103, SR01b,    36,  1,     19,     25,4,20181115,0838,-60.3334, -55.0313, 3437,    106.8,   1.4438,2,   1.4339,  34.3833,2,-999.0000,9,    207.4,2,   -999.0,9,  -999.00,9,  -999.00,9,  -999.00,9,  -999.00,9,   -999.0,9,   -999.0,9,   -999.0,9,   -999.0,  -999.00,9,2
  74JC20181103, SR01b,    36,  1,     20,     20,2,20181115,0838,-60.3334, -55.0313, 3437,    107.0,   1.4288,2,   1.4255,  34.3784,2,  34.3773,2,    207.7,2,    208.8,2,    65.27,2,    34.71,2,     0.02,2,     2.38,2,   -999.0,9,   -999.0,9,   -124.6,2,      1.8,     0.48,2,2
  74JC20181103, SR01b,    36,  1,     21,     21,2,20181115,0838,-60.3334, -55.0313, 3437,     56.4,  -0.8027,2,  -0.8041,  34.0227,2,  34.0209,2,    348.9,2,    348.3,2,    54.58,2,    28.85,2,     0.19,2,     1.99,2,   2190.5,6,   2298.7,2,   -999.0,9,   -999.0,  -999.00,9,2
  74JC20181103, SR01b,    36,  1,     22,     22,2,20181115,0838,-60.3334, -55.0313, 3437,     55.8,  -0.8075,2,  -0.8070,  34.0231,2,  34.0210,2,    349.9,2,    346.9,2,    54.73,2,    28.80,2,     0.19,2,     1.99,2,   -999.0,9,   -999.0,9,   -999.0,9,   -999.0,  -999.00,9,2
  74JC20181103, SR01b,    36,  1,     23,     23,2,20181115,0838,-60.3334, -55.0313, 3437,     11.6,  -0.7417,2,  -0.7256,  34.0081,2,  34.1789,2,    351.1,2,    177.4,4,    52.70,4,    28.22,4,     0.20,4,     1.97,4,   2254.7,4,   2340.0,3,   -999.0,9,   -999.0,  -999.00,9,2