BOTTLE,20210412PRINUNIVRMK
# 04/08/2021 Initialized README file  
# Data source: file "MR190402-20200325-034845-CO2-CDOM-CFC-DOC-FDOM.csv" from 
# 	https://cchdo.ucsd.edu/cruise/49NZ20191205 on 4/5/2021 
# SHIP: Mirai 
# Cruise: MR19-04 (Leg 2) 
# Region: I08N; north central Inidan 
# 	Colombo/Port Louis 
# EXPOCODE: 49NZ20191205 
# DATES: 20191205 - 20191227 
# Chief Scientist: Akihiko Murata 
# 44 stations with 36 place Rosette 
# CTD: Who - K.Katsumata; Status - final 
# 	Includes: CTDSAL, CTDOXY 
# Salinty: Who - H.Uchida; Status - final 
# 	Notes: 	 
# Nutrients: Who - T.Tanaka,P.Croot; Status - 
# 	Includes: nitrate, nitrite, silicate, phopshpate, ammonium, iodate, urea 
# O2: Who - ; Status - 
# 	Notes: 
# TCO2: Who - A.Murata; Status - final 
# 	Notes:  
# ALKALI: Who - A.Murata; Status - final 
# 	Notes:  
# CFC: Who - M.Shigemitsu,; Status - 
# 	Notes:  
# C14/C13: Who - Y.Kumamoto; Status - collected 
# 	Notes: shore analysis 
# Other: Who - ; Status - 
# 	Notes:  
# These data should be cited as: 
# References that have used data from this cruise: 
EXPOCODE,SECT_ID,STNNBR,CASTNO,SAMPNO,BTLNBR,BTLNBR_FLAG_W,DATE,TIME,LATITUDE,LONGITUDE,DEPTH,CTDPRS,CTDTMP,SBE35,SBE35_FLAG_W,CTDSAL,CTDSAL_FLAG_W,SALNTY,SALNTY_FLAG_W,CTDOXY,CTDOXY_FLAG_W,OXYGEN,OXYGEN_FLAG_W,SILCAT,SILCAT_FLAG_W,NITRAT,NITRAT_FLAG_W,NITRIT,NITRIT_FLAG_W,PHSPHT,PHSPHT_FLAG_W,NH4,NH4_FLAG_W,CFC-11,CFC-11_FLAG_W,CFC-12,CFC-12_FLAG_W,CFC113,CFC113_FLAG_W,SF6,SF6_FLAG_W,TCARBN,TCARBN_FLAG_W,ALKALI,ALKALI_FLAG_W,DOC,DOC_FLAG_W,CHLWELSH,CHLWELSH_FLAG_W,UREA,UREA_FLAG_W,IODATE,IODATE_FLAG_W,PAR,PAR_FLAG_W,PAR,PAR_FLAG_W,CDOM,CDOM_FLAG_W,CDOM300,CDOM300_FLAG_W,CDOM325,CDOM325_FLAG_W,CDOM443,CDOM443_FLAG_W,CTDFLUOR,CTDFLUOR_FLAG_W,CTDXMISS,CTDXMISS_FLAG_W,SBE35,SBE35_FLAG_W
,,,,,,,,,,,METERS,DBAR,ITS-90,,,PSS-78,,PSS-78,,UMOL/KG,,UMOL/KG,,UMOL/KG,,UMOL/KG,,UMOL/KG,,UMOL/KG,,UMOL/KG,,PMOL/KG,,PMOL/KG,,PMOL/KG,,FMOL/KG,,UMOL/KG,,UMOL/KG,,UMOL/KG,,UG/KG,,nMOL/L,,nMOL/L,,VOLTS,,VOLTS,,MG/M^3,,1/M,,1/M,,1/M,,MG/M^3,,%TRANS,,,
  49NZ20191205,  I08N,     2,  1,     36,   1236,2,20191205,1324,  5.8719,  79.9870,  824,     10.2,  28.9854,  28.9849,2,  33.3528,2,  33.3572,2,    194.4,2,    195.6,2,     1.70,2,     0.04,2,     0.02,2,     0.07,2,     0.06,2,    1.343,2,    0.900,2,    0.103,2,    1.686,2,   1907.3, 2,   2207.7,2,     80.1,2,     0.97,2,     72.7,2,    158.6,2,    0.433,2,    0.433,2,   1.2950,1,   0.3770,2,   0.1960,2,   0.0230,2,    1.042,2,   95.733,2,  28.9849,2
  49NZ20191205,  I08N,     2,  1,     35,   1235,2,20191205,1324,  5.8719,  79.9870,  824,     49.6,  27.9675,  27.9653,2,  34.4119,2,  34.4133,2,    152.4,2,    153.6,2,     3.69,2,     3.70,2,     0.42,2,     0.40,2,     0.04,2,    1.321,2,    0.890,2,    0.083,2,    1.507,2,   1993.2, 2,   2256.6,2,     72.9,2,     0.56,2,     38.3,2,    281.3,2,    0.000,2,    0.000,2,   1.4370,1,   0.4210,2,   0.2330,2,   0.0350,2,    0.690,2,   98.198,2,  27.9653,2
  49NZ20191205,  I08N,     2,  1,     34,   1234,2,20191205,1324,  5.8719,  79.9870,  824,     99.6,  21.7518,  21.7494,2,  34.9119,2,  34.9142,2,     39.1,2,     39.5,2,    15.32,2,    21.86,2,     0.03,2,     1.58,2,     0.05,2,    1.324,2,    0.820,2,    0.023,2,    0.982,2,   2154.3, 2,   2280.3,2,     61.0,2,     0.10,2,     36.3,2,    371.9,2,    0.000,2,    0.000,2,   1.6070,1,   0.4100,2,   0.2370,2,   0.0420,2,    0.124,2,   99.380,2,  21.7494,2
  49NZ20191205,  I08N,     2,  1,     33,   1233,2,20191205,1324,  5.8719,  79.9870,  824,    150.1,  16.3523,  16.3511,2,  34.9442,2,  34.9458,2,     15.1,2,     15.0,2,    26.06,2,    28.81,2,     0.01,2,     2.08,2,     0.04,2,    1.129,2,    0.679,2,    0.011,2,     0.57,2,   2223.2, 2,   2295.6,2,     55.0,2,     0.02,2,     -999,9,    410.6,2,    0.000,2,    0.000,2,   1.6500,1,   0.4080,2,   0.2380,2,   0.0440,2,    0.001,2,   99.565,2,  16.3511,2
  49NZ20191205,  I08N,     2,  1,     32,   1232,2,20191205,1324,  5.8719,  79.9870,  824,    200.1,  14.2253,  14.2093,2,  35.0118,2,  35.0183,2,     15.2,2,     15.8,2,    29.19,2,    30.74,2,     0.00,2,     2.21,2,     0.05,2,    1.107,2,    0.644,2,    0.010,2,    0.404,2,   2247.0, 2,   2303.7,2,     48.6,2,     0.01,2,     81.3,2,    416.7,2,    0.000,2,    0.000,2,   1.6770,1,   0.3870,2,   0.2230,2,   0.0430,2,   -0.003,2,   99.565,2,  14.2093,2
  49NZ20191205,  I08N,     2,  1,     31,   1231,2,20191205,1324,  5.8719,  79.9870,  824,    248.5,  12.8624,  12.8592,2,  35.0705,2,  35.0778,2,     21.5,2,     23.0,2,    29.43,2,    31.16,2,     0.00,2,     2.21,2,     0.03,2,    1.187,2,    0.671,2,    0.003,2,    0.392,2,   2252.0, 2,   2314.9,2,     48.1,2,     0.01,2,       39,2,    444.7,2,    0.000,2,    0.000,2,   1.6530,1,-999.0000,9,-999.0000,9,-999.0000,9,    0.000,2,   99.530,2,  12.8592,2
  49NZ20191205,  I08N,     2,  1,     30,   1230,2,20191205,1324,  5.8719,  79.9870,  824,    299.5,  11.7352,  11.7372,2,  35.1124,2,  35.1124,2,     29.7,2,     30.0,2,    31.01,2,    31.85,2,     0.00,2,     2.22,2,     0.02,2,    1.189,2,    0.662,2,    0.007,2,    0.363,2,   2263.6, 2,   2315.9,2,     53.4,2,  -999.00,9,     25.8,2,    414.6,2,    0.000,2,    0.000,2,   1.6430,1,   0.3830,2,   0.2190,2,   0.0430,2,    0.004,2,   99.435,2,  11.7372,2
  49NZ20191205,  I08N,     2,  1,     29,   1229,2,20191205,1324,  5.8719,  79.9870,  824,    399.3,  10.6964,  10.7020,2,  35.0795,2,  35.0794,2,     22.8,2,     23.0,2,    39.80,2,    34.16,2,     0.00,2,     2.41,2,     0.04,2,    0.751,2,    0.417,2,    0.004,2,    0.205,2,   2275.9, 2,   2325.3,2,     50.2,2,  -999.00,9,     10.6,2,    414.6,2,    0.000,2,    0.000,2,   1.6750,1,   0.3850,2,   0.2250,2,   0.0460,2,    0.004,2,   99.572,2,  10.7020,2
  49NZ20191205,  I08N,     2,  1,     28,   1228,2,20191205,1324,  5.8719,  79.9870,  824,    500.5,  10.0334,  10.0332,2,  35.0612,2,  35.0603,2,     20.0,2,     20.6,2,    47.04,2,    35.40,2,     0.01,2,     2.54,2,     0.04,2,    0.485,2,    0.273,2,    0.000,2,     0.12,2,   2290.2, 2,   2328.8,2,     49.3,2,  -999.00,9,     53.5,2,    431.7,2,    0.000,2,    0.000,2,   1.6840,1,   0.3860,2,   0.2230,2,   0.0460,2,    0.004,2,   99.599,2,  10.0332,2
  49NZ20191205,  I08N,     2,  1,     27,   1227,2,20191205,1324,  5.8719,  79.9870,  824,    599.3,   9.5990,   9.5994,2,  35.0522,2,  35.0526,2,     20.2,2,     19.9,2,    51.61,2,    36.12,2,     0.00,2,     2.61,2,     0.05,2,    0.354,2,    0.203,2,    0.001,2,    0.063,2,   2291.3, 2,   2332.4,2,     50.1,2,  -999.00,9,     19.8,2,    431.7,2,    0.000,2,    0.000,2,   1.6870,1,   0.3930,2,   0.2350,2,   0.0540,2,    0.004,2,   99.641,2,   9.5994,2
  49NZ20191205,  I08N,     2,  1,     26,   1226,2,20191205,1324,  5.8719,  79.9870,  824,    698.8,   8.3887,   8.3946,2,  35.0097,2,  35.0092,2,     27.1,2,     27.2,2,    64.99,2,    37.15,2,     0.00,2,     2.72,2,     0.04,2,    0.166,2,    0.097,2,    0.000,2,    0.034,2,   2304.1, 6,   2348.9,2,     48.9,2,  -999.00,9,     33.7,2,    450.3,2,    0.000,2,    0.000,2,   1.7210,1,-999.0000,9,-999.0000,9,-999.0000,9,    0.002,2,   99.673,2,   8.3946,2
  49NZ20191205,  I08N,     2,  1,     15,   1215,2,20191205,1324,  5.8719,  79.9870,  824,     10.1,  28.9899,  28.9896,2,  33.3544,2,-999.0000,9,    194.4,2,   -999.0,9,  -999.00,9,  -999.00,9,  -999.00,9,  -999.00,9,     -999,9, -999.000,9, -999.000,9, -999.000,9,     -999,9,   -999.0, 9,   -999.0,9,   -999.0,9,  -999.00,9,     -999,9,   -999.0,9,    0.347,2,    0.347,2,   1.3030,1,-999.0000,9,-999.0000,9,-999.0000,9,    1.090,2,   95.682,2,  28.9896,2
  49NZ20191205,  I08N,     2,  1,     14,   1214,2,20191205,1324,  5.8719,  79.9870,  824,     50.3,  27.9555,  27.9538,2,  34.4142,2,-999.0000,9,    152.2,2,   -999.0,9,  -999.00,9,  -999.00,9,  -999.00,9,  -999.00,9,     -999,9, -999.000,9, -999.000,9, -999.000,9,     -999,9,   -999.0, 9,   -999.0,9,   -999.0,9,  -999.00,9,     -999,9,   -999.0,9,    0.000,2,    0.000,2,   1.4320,1,-999.0000,9,-999.0000,9,-999.0000,9,    0.659,2,   98.198,2,  27.9538,2
  49NZ20191205,  I08N,     2,  1,      2,  12046,2,20191205,1324,  5.8719,  79.9870,  824,     12.0,  28.9974,  28.9958,2,  33.3614,2,  33.3689,2,    193.8,2,    195.1,2,     1.70,2,     0.03,2,     0.03,2,     0.06,2,     0.02,2, -999.000,9, -999.000,9, -999.000,9,     -999,9,   1910.8, 2,   2212.5,2,     88.9,2,     1.06,2,     41.4,2,   -999.0,9,    0.005,2,    0.005,2,   1.3170,1,   0.3990,2,   0.2210,2,   0.0390,2,    1.107,2,   95.867,2,  28.9958,2
  49NZ20191205,  I08N,     2,  1,      1,   1201,2,20191205,1324,  5.8719,  79.9870,  824,    820.0,   7.9047,   7.9053,2,  34.9893,2,  34.9888,2,     31.4,2,     31.1,2,    71.05,2,    37.46,2,     0.00,2,     2.74,2,     0.03,2,    0.116,2,    0.065,2,    0.001,2,    0.016,2,   2311.7, 2,   2353.0,2,     44.3,2,  -999.00,9,     26.1,2,   -999.0,9,    0.000,2,    0.000,2,   1.7280,1,   0.3750,2,   0.2240,2,   0.0480,2,    0.002,2,   99.681,2,   7.9053,2
  49NZ20191205,  I08N,     3,  1,     36,   1236,2,20191205,1733,  5.7919,  79.9940, 1390,     10.3,  28.9133,  28.9142,2,  32.7067,2,  32.6824,2,    195.2,2,    196.0,2,     2.14,2,     0.01,2,     0.02,2,     0.04,2,     0.03,2,    1.436,2,    0.901,2,    0.120,2,    1.653,2,   1885.7, 2,   2182.0,2,   -999.0,9,     0.63,2,     -999,9,   -999.0,9,    0.001,2,    0.001,2,   1.3040,1,-999.0000,9,-999.0000,9,-999.0000,9,    0.662,2,   97.050,2,  28.9142,2
  49NZ20191205,  I08N,     3,  1,     35,   1235,2,20191205,1733,  5.7919,  79.9940, 1390,     50.6,  27.5274,  27.5281,2,  34.5252,2,  34.5287,2,    139.9,2,    140.7,2,     4.38,2,     5.28,2,     0.43,2,     0.51,2,     0.04,2,    1.404,2,    0.887,2,    0.093,2,    1.279,2,   2016.2, 2,   2265.3,2,   -999.0,9,     0.52,2,     -999,9,   -999.0,9,    0.000,2,    0.000,2,   1.4670,1,-999.0000,9,-999.0000,9,-999.0000,9,    0.611,2,   98.293,2,  27.5281,2
  49NZ20191205,  I08N,     3,  1,     34,   1234,2,20191205,1733,  5.7919,  79.9940, 1390,    100.7,  21.3340,  21.3423,2,  34.9195,2,  34.9199,2,     35.8,2,     36.4,2,    16.20,2,    22.56,2,     0.02,2,     1.63,2,     0.04,2,    1.315,2,    0.809,2,    0.016,2,    0.922,2,   2176.3, 2,   2286.9,2,   -999.0,9,     0.07,2,     -999,9,   -999.0,9,    0.000,2,    0.000,2,   1.6070,1,-999.0000,9,-999.0000,9,-999.0000,9,    0.110,2,   99.444,2,  21.3423,2
  49NZ20191205,  I08N,     3,  1,     33,   1233,2,20191205,1733,  5.7919,  79.9940, 1390,    150.1,  16.0523,  16.0587,2,  34.9502,2,  34.9504,2,     14.9,2,     14.8,2,    26.23,2,    28.98,2,     0.00,2,     2.10,2,     0.02,2,    1.138,2,    0.664,2,    0.004,2,    0.515,2,   2230.9, 2,   2295.2,2,   -999.0,9,     0.01,2,     -999,9,   -999.0,9,    0.000,2,    0.000,2,   1.6600,1,-999.0000,9,-999.0000,9,-999.0000,9,   -0.003,2,   99.561,2,  16.0587,2
  49NZ20191205,  I08N,     3,  1,     32,   1232,2,20191205,1733,  5.7919,  79.9940, 1390,    199.5,  13.6664,  13.6697,2,  35.0534,2,  35.0551,2,     11.3,2,     11.0,2,    29.28,2,    31.36,2,     0.00,2,     2.26,2,     0.03,2,    1.147,2,    0.645,2,    0.010,2,    0.388,2,   2259.1, 2,   2309.1,2,   -999.0,9,     0.01,2,     -999,9,   -999.0,9,    0.000,2,    0.000,2,   1.6720,1,-999.0000,9,-999.0000,9,-999.0000,9,   -0.002,2,   99.635,2,  13.6697,2
  49NZ20191205,  I08N,     3,  1,     31,   1231,2,20191205,1733,  5.7919,  79.9940, 1390,    248.5,  12.6181,  12.6185,2,  35.1167,2,  35.1166,2,     27.2,2,     27.2,2,    27.77,2,    30.81,2,     0.00,2,     2.17,2,     0.04,2,    1.341,2,    0.749,2,    0.014,2,    0.381,2,   2262.2, 2,   2310.1,2,   -999.0,9,     0.01,2,     -999,9,   -999.0,9,    0.000,2,    0.000,2,   1.6270,1,-999.0000,9,-999.0000,9,-999.0000,9,    0.003,2,   99.564,2,  12.6185,2
  49NZ20191205,  I08N,     3,  1,     30,   1230,2,20191205,1733,  5.7919,  79.9940, 1390,    328.5,  11.3821,  11.3883,2,  35.1205,2,  35.1193,2,     27.3,2,     27.3,2,    32.96,2,    32.57,2,     0.00,2,     2.29,2,     0.02,2,    1.086,2,    0.601,2,    0.007,2,    0.301,2,   2274.0, 2,   2321.3,2,   -999.0,9,  -999.00,9,     -999,9,   -999.0,9,    0.000,2,    0.000,2,   1.6470,1,-999.0000,9,-999.0000,9,-999.0000,9,    0.006,2,   99.549,2,  11.3883,2
  49NZ20191205,  I08N,     3,  1,     29,   1229,2,20191205,1733,  5.7919,  79.9940, 1390,    430.0,  10.5630,  10.5643,2,  35.0692,2,  35.0685,2,     22.1,2,     21.7,2,    42.17,2,    34.79,2,     0.00,2,     2.47,2,     0.02,2,    0.638,2,    0.363,2,    0.005,2,    0.102,2,   2282.5, 2,   2325.3,2,   -999.0,9,  -999.00,9,     -999,9,   -999.0,9,    0.000,2,    0.000,2,   1.6680,1,-999.0000,9,-999.0000,9,-999.0000,9,    0.005,2,   99.549,2,  10.5643,2
  49NZ20191205,  I08N,     3,  1,     28,   1228,2,20191205,1733,  5.7919,  79.9940, 1390,    528.6,   9.6994,   9.7007,2,  35.0429,2,  35.0431,2,     18.8,2,     19.0,2,    50.64,2,    36.07,2,     0.00,2,     2.59,2,     0.03,2,    0.388,2,    0.213,2,    0.005,2,    0.105,2,   2298.0, 2,   2333.3,2,   -999.0,9,  -999.00,9,     -999,9,   -999.0,9,    0.000,2,    0.000,2,   1.6920,1,-999.0000,9,-999.0000,9,-999.0000,9,    0.005,2,   99.641,2,   9.7007,2
  49NZ20191205,  I08N,     3,  1,     27,   1227,2,20191205,1733,  5.7919,  79.9940, 1390,    632.9,   9.3357,   9.3355,2,  35.0498,2,  35.0476,2,     19.4,2,     19.7,2,    55.57,2,    36.52,2,     0.00,2,     2.65,2,     0.03,2,    0.273,2,    0.161,2,    0.004,2,    0.075,2,   2300.9, 2,   2337.1,2,   -999.0,9,  -999.00,9,     -999,9,   -999.0,9,    0.000,2,    0.000,2,   1.6980,1,-999.0000,9,-999.0000,9,-999.0000,9,    0.004,2,   99.677,2,   9.3355,2
  49NZ20191205,  I08N,     3,  1,     26,   1226,2,20191205,1733,  5.7919,  79.9940, 1390,    729.9,   8.3113,   8.3098,2,  35.0078,2,  35.0073,2,     27.1,2,     27.1,2,    66.32,2,    37.16,2,     0.00,2,     2.72,2,     0.03,2,    0.161,2,    0.087,2,    0.002,2,    0.035,2,   2317.6, 6,   2347.5,2,   -999.0,9,  -999.00,9,     -999,9,   -999.0,9,    0.000,2,    0.000,2,   1.7110,1,-999.0000,9,-999.0000,9,-999.0000,9,    0.003,2,   99.681,2,   8.3098,2
  49NZ20191205,  I08N,     3,  1,     25,   1225,2,20191205,1733,  5.7919,  79.9940, 1390,    829.9,   7.5536,   7.5558,2,  34.9757,2,  34.9757,2,     34.2,2,     34.6,2,    74.80,2,    37.69,2,     0.00,2,     2.74,2,     0.03,2,    0.095,2,    0.050,2,    0.000,2,    0.025,2,   2324.3, 3,   2356.3,2,   -999.0,9,  -999.00,9,     -999,9,   -999.0,9,    0.000,2,    0.000,2,   1.7200,1,-999.0000,9,-999.0000,9,-999.0000,9,    0.002,2,   99.768,2,   7.5558,2
  49NZ20191205,  I08N,     3,  1,     24,   1224,2,20191205,1733,  5.7919,  79.9940, 1390,    930.1,   6.9987,   7.0041,2,  34.9517,2,  34.9505,2,     40.5,2,     41.3,2,    81.52,2,    37.81,2,     0.00,2,     2.76,2,     0.02,2,    0.069,2,    0.035,2,    0.000,2,    0.006,2,   2324.5, 2,   2362.4,2,   -999.0,9,  -999.00,9,     -999,9,   -999.0,9,    0.000,2,    0.000,2,   1.7280,1,-999.0000,9,-999.0000,9,-999.0000,9,    0.002,2,   99.787,2,   7.0041,2
  49NZ20191205,  I08N,     3,  1,     23,   1223,2,20191205,1733,  5.7919,  79.9940, 1390,   1069.1,   6.4331,   6.4335,2,  34.9317,2,  34.9316,2,     49.1,2,     49.2,2,    86.88,2,    37.56,2,     0.00,2,     2.75,2,     0.02,2,    0.051,2,    0.024,2,    0.002,2,    0.008,2,   2325.1, 2,   2369.7,2,   -999.0,9,  -999.00,9,     -999,9,   -999.0,9,    0.000,2,    0.000,2,   1.7300,1,-999.0000,9,-999.0000,9,-999.0000,9,    0.001,2,   99.848,2,   6.4335,2
  49NZ20191205,  I08N,     3,  1,     22,   1222,2,20191205,1733,  5.7919,  79.9940, 1390,   1269.2,   5.5872,   5.5889,2,  34.8924,2,  34.8919,2,     60.9,2,     61.6,2,    97.37,2,    37.78,2,     0.00,2,     2.76,2,     0.02,2,    0.034,2,    0.017,2,    0.000,2,    0.002,2,   2330.9, 2,   2378.4,6,   -999.0,9,  -999.00,9,     -999,9,   -999.0,9,    0.000,2,    0.000,2,   1.7310,1,-999.0000,9,-999.0000,9,-999.0000,9,    0.002,2,   99.867,2,   5.5889,2
  49NZ20191205,  I08N,     3,  1,      2,  12046,2,20191205,1733,  5.7919,  79.9940, 1390,     23.6,  29.0611,  29.0642,2,  33.4865,2,  33.4364,2,    187.7,2,    190.6,2,     1.85,2,     0.24,2,     0.07,2,     0.08,2,     0.05,2, -999.000,9, -999.000,9, -999.000,9,     -999,9,   1916.1, 2,   2216.0,2,   -999.0,9,     0.94,2,     -999,9,   -999.0,9,    0.000,2,    0.000,2,   1.2990,1,-999.0000,9,-999.0000,9,-999.0000,9,    0.930,2,   96.679,2,  29.0642,2
  49NZ20191205,  I08N,     3,  1,      1,   1201,2,20191205,1733,  5.7919,  79.9940, 1390,   1393.9,   5.0603,   5.0607,2,  34.8729,2,  34.8730,2,     69.5,2,     69.2,2,   103.05,2,    37.86,2,     0.00,2,     2.75,2,     0.03,2,    0.028,2,    0.018,2,    0.002,2,    0.049,2,   2333.7, 2,   2380.6,2,   -999.0,9,  -999.00,9,     -999,9,   -999.0,9,    0.000,2,    0.000,2,   1.7360,1,-999.0000,9,-999.0000,9,-999.0000,9,    0.001,2,   99.894,2,   5.0607,2