BOTTLE,20210412PRINUNIVRMK
EXPOCODE,SECT_ID,STNNBR,CASTNO,SAMPNO,BTLNBR,BTLNBR_FLAG_W,DATE,TIME,LATITUDE,LONGITUDE,DEPTH,CTDPRS,CTDTMP,SBE35,SBE35_FLAG_W,CTDSAL,CTDSAL_FLAG_W,SALNTY,SALNTY_FLAG_W,CTDOXY,CTDOXY_FLAG_W,OXYGEN,OXYGEN_FLAG_W,SILCAT,SILCAT_FLAG_W,NITRAT,NITRAT_FLAG_W,NITRIT,NITRIT_FLAG_W,PHSPHT,PHSPHT_FLAG_W,NH4,NH4_FLAG_W,CFC-11,CFC-11_FLAG_W,CFC-12,CFC-12_FLAG_W,CFC113,CFC113_FLAG_W,SF6,SF6_FLAG_W,TCARBN,TCARBN_FLAG_W,ALKALI,ALKALI_FLAG_W,DOC,DOC_FLAG_W,CHLWELSH,CHLWELSH_FLAG_W,UREA,UREA_FLAG_W,IODATE,IODATE_FLAG_W,PAR,PAR_FLAG_W,PAR,PAR_FLAG_W,CDOM,CDOM_FLAG_W,CDOM300,CDOM300_FLAG_W,CDOM325,CDOM325_FLAG_W,CDOM443,CDOM443_FLAG_W,CTDFLUOR,CTDFLUOR_FLAG_W,CTDXMISS,CTDXMISS_FLAG_W,SBE35,SBE35_FLAG_W
,,,,,,,,,,,METERS,DBAR,ITS-90,,,PSS-78,,PSS-78,,UMOL/KG,,UMOL/KG,,UMOL/KG,,UMOL/KG,,UMOL/KG,,UMOL/KG,,UMOL/KG,,PMOL/KG,,PMOL/KG,,PMOL/KG,,FMOL/KG,,UMOL/KG,,UMOL/KG,,UMOL/KG,,UG/KG,,nMOL/L,,nMOL/L,,VOLTS,,VOLTS,,MG/M^3,,1/M,,1/M,,1/M,,MG/M^3,,%TRANS,,,
  49NZ20191205,  I08N,    19,  1,     36,   1236,2,20191208,2204,  1.3341,  80.0002, 4569,     10.3,  29.2472,  29.2390,2,  33.8137,2,  33.7907,2,    196.8,2,    196.2,2,     1.79,2,     0.02,2,     0.01,2,     0.09,2,     0.04,2,    1.367,2,    0.908,2,    0.108,2,    1.646,2,   1917.1, 2,   2227.4,2,   -999.0,9,     0.14,2,     -999,9,   -999.0,9,    0.000,2,    0.000,2,   1.1880,1,-999.0000,9,-999.0000,9,-999.0000,9,    0.096,2,   98.473,2,  29.2390,2
  49NZ20191205,  I08N,    19,  1,     35,   1235,2,20191208,2204,  1.3341,  80.0002, 4569,     51.9,  28.7655,  28.7641,2,  34.7254,2,  34.7218,2,    190.9,2,    190.7,2,     1.31,2,     0.02,2,     0.02,2,     0.16,2,     0.09,2,    1.360,2,    0.905,2,    0.103,2,    1.508,2,   1965.6, 2,   2278.8,2,   -999.0,9,     0.40,2,     -999,9,   -999.0,9,    0.000,2,    0.000,2,   1.3170,1,-999.0000,9,-999.0000,9,-999.0000,9,    0.447,2,   97.829,2,  28.7641,2
  49NZ20191205,  I08N,    19,  1,     34,   1234,2,20191208,2204,  1.3341,  80.0002, 4569,    101.1,  20.1639,  20.1649,2,  35.1965,2,  35.1902,2,     52.0,2,     52.1,2,    15.09,2,    21.65,2,     0.06,2,     1.56,2,     0.02,2,    1.393,2,    0.895,2,    0.019,2,    0.946,2,   2167.4, 2,   2304.4,2,   -999.0,9,     0.16,2,     -999,9,   -999.0,9,    0.000,2,    0.000,2,   1.5390,1,-999.0000,9,-999.0000,9,-999.0000,9,    0.205,2,   99.324,2,  20.1649,2
  49NZ20191205,  I08N,    19,  1,     33,   1233,2,20191208,2204,  1.3341,  80.0002, 4569,    150.6,  15.7557,  15.7731,2,  35.1200,2,  35.1211,2,     42.7,2,     42.7,2,    21.06,2,    26.20,2,     0.02,2,     1.86,2,     0.02,2,    1.494,2,    0.906,2,    0.006,2,    0.737,2,   2211.0, 2,   2309.9,2,   -999.0,9,     0.02,2,     -999,9,   -999.0,9,    0.000,2,    0.000,2,   1.5890,1,-999.0000,9,-999.0000,9,-999.0000,9,    0.013,2,   99.570,2,  15.7731,2
  49NZ20191205,  I08N,    19,  1,     32,   1232,2,20191208,2204,  1.3341,  80.0002, 4569,    200.3,  13.7182,  13.7186,2,  35.1196,2,  35.1189,2,     62.0,2,     61.8,2,    20.71,2,    26.23,2,     0.02,2,     1.82,2,     0.03,2,    1.764,2,    1.009,2,    0.007,2,    0.706,2,   2217.7, 2,   2316.8,2,   -999.0,9,     0.01,2,     -999,9,   -999.0,9,    0.000,2,    0.000,2,   1.5490,1,-999.0000,9,-999.0000,9,-999.0000,9,   -0.002,2,   99.560,2,  13.7186,2
  49NZ20191205,  I08N,    19,  1,     31,   1231,2,20191208,2204,  1.3341,  80.0002, 4569,    250.4,  12.6303,  12.6286,2,  35.0948,2,  35.0963,2,     75.5,2,     74.9,2,    21.18,2,    26.22,2,     0.02,2,     1.80,2,     0.02,2,    1.848,2,    1.036,2,    0.014,2,    0.619,2,   2217.4, 2,   2315.4,2,   -999.0,9,     0.01,2,     -999,9,   -999.0,9,    0.000,2,    0.000,2,   1.5220,1,-999.0000,9,-999.0000,9,-999.0000,9,    0.001,2,   99.545,2,  12.6286,2
  49NZ20191205,  I08N,    19,  1,     30,   1230,2,20191208,2204,  1.3341,  80.0002, 4569,    279.9,  11.9894,  11.9896,2,  35.0665,2,  35.0683,2,     81.1,2,     80.3,2,    21.97,2,    26.50,2,     0.02,2,     1.81,2,     0.01,2,    1.822,2,    1.022,2,    0.016,2,    0.628,2,   2221.3, 2,   2317.6,2,   -999.0,9,  -999.00,9,     -999,9,   -999.0,9,    0.000,2,    0.000,2,   1.5140,1,-999.0000,9,-999.0000,9,-999.0000,9,    0.002,2,   99.554,2,  11.9896,2
  49NZ20191205,  I08N,    19,  1,     29,   1229,2,20191208,2204,  1.3341,  80.0002, 4569,    371.0,  11.2045,  11.2044,2,  35.0514,2,  35.0512,2,     69.3,2,     68.7,2,    26.73,2,    29.04,2,     0.01,2,     1.99,2,     0.02,2,    1.505,2,    0.833,2,    0.018,2,    0.487,2,   2233.1, 2,   2317.2,2,   -999.0,9,  -999.00,9,     -999,9,   -999.0,9,    0.000,2,    0.000,2,   1.5270,1,-999.0000,9,-999.0000,9,-999.0000,9,    0.004,2,   99.549,2,  11.2044,2
  49NZ20191205,  I08N,    19,  1,     28,   1228,2,20191208,2204,  1.3341,  80.0002, 4569,    470.5,  10.2865,  10.2861,2,  35.0108,2,  35.0104,2,     67.7,2,     67.5,2,    32.59,2,    30.76,2,     0.01,2,     2.13,2,     0.03,2,    1.154,2,    0.640,2,    0.013,2,    0.321,2,   2241.7, 2,   2320.6,2,   -999.0,9,  -999.00,9,     -999,9,   -999.0,9,    0.000,2,    0.000,2,   1.5360,1,-999.0000,9,-999.0000,9,-999.0000,9,    0.004,2,   99.648,2,  10.2861,2
  49NZ20191205,  I08N,    19,  1,     27,   1227,2,20191208,2204,  1.3341,  80.0002, 4569,    567.9,   9.7210,   9.7207,2,  35.0213,2,  35.0195,2,     57.7,2,     58.0,2,    40.87,2,    32.71,2,     0.01,2,     2.32,4,     0.02,2,    0.784,2,    0.441,2,    0.009,2,    0.204,2,   2258.2, 2,   2327.6,2,   -999.0,9,  -999.00,9,     -999,9,   -999.0,9,    0.000,2,    0.000,2,   1.5680,1,-999.0000,9,-999.0000,9,-999.0000,9,    0.004,2,   99.709,2,   9.7207,2
  49NZ20191205,  I08N,    19,  1,     26,   1226,2,20191208,2204,  1.3341,  80.0002, 4569,    670.1,   9.1767,   9.1760,2,  35.0420,2,  35.0437,2,     41.9,2,     41.3,2,    51.77,2,    34.83,2,     0.01,2,     2.53,4,     0.04,2,    0.411,2,    0.236,2,    0.010,2,    0.077,2,   2276.4, 6,   2333.7,2,   -999.0,9,  -999.00,9,     -999,9,   -999.0,9,    0.000,2,    0.000,2,   1.6270,1,-999.0000,9,-999.0000,9,-999.0000,9,    0.003,2,   99.737,2,   9.1760,2
  49NZ20191205,  I08N,    19,  1,     25,   1225,2,20191208,2204,  1.3341,  80.0002, 4569,    770.1,   8.3371,   8.3369,2,  35.0124,2,  35.0146,2,     40.5,2,     40.3,2,    62.47,2,    36.08,2,     0.02,2,     2.63,4,     0.03,2,    0.217,2,    0.125,2,    0.001,2,    0.033,2,   2289.9, 2,   2343.3,2,   -999.0,9,  -999.00,9,     -999,9,   -999.0,9,    0.000,2,    0.000,2,   1.6460,1,-999.0000,9,-999.0000,9,-999.0000,9,    0.002,2,   99.758,2,   8.3369,2
  49NZ20191205,  I08N,    19,  1,     24,   1224,2,20191208,2204,  1.3341,  80.0002, 4569,    869.2,   7.7173,   7.7169,2,  34.9933,2,  34.9917,2,     42.2,2,     42.1,2,    70.75,2,    36.88,2,     0.02,2,     2.69,4,     0.05,2,    0.124,2,    0.070,2,    0.001,2,    0.019,2,   2298.8, 2,   2350.7,2,   -999.0,9,  -999.00,9,     -999,9,   -999.0,9,    0.000,2,    0.000,2,   1.6480,1,-999.0000,9,-999.0000,9,-999.0000,9,    0.003,2,   99.777,2,   7.7169,2
  49NZ20191205,  I08N,    19,  1,     23,   1223,2,20191208,2204,  1.3341,  80.0002, 4569,    970.3,   7.1456,   7.1466,2,  34.9665,2,  34.9648,2,     43.7,2,     43.8,2,    78.55,2,    37.41,2,     0.02,2,     2.74,4,     0.04,2,    0.072,2,    0.040,2,    0.001,2,     0.01,2,   2307.8, 2,   2359.4,2,   -999.0,9,  -999.00,9,     -999,9,   -999.0,9,    0.000,2,    0.000,2,   1.6690,1,-999.0000,9,-999.0000,9,-999.0000,9,    0.002,2,   99.798,2,   7.1466,2
  49NZ20191205,  I08N,    19,  1,     22,   1222,2,20191208,2204,  1.3341,  80.0002, 4569,   1130.0,   6.0952,   6.0958,2,  34.9077,2,  34.9077,2,     59.6,2,     59.5,2,    88.60,2,    37.43,2,     0.02,2,     2.73,4,     0.03,2,    0.046,2,    0.023,2,    0.000,2,    0.003,2,   2312.4, 2,   2369.4,6,   -999.0,9,  -999.00,9,     -999,9,   -999.0,9,    0.000,2,    0.000,2,   1.6710,1,-999.0000,9,-999.0000,9,-999.0000,9,    0.001,2,   99.836,2,   6.0958,2
  49NZ20191205,  I08N,    19,  1,     21,   1221,2,20191208,2204,  1.3341,  80.0002, 4569,   1329.0,   5.1383,   5.1370,2,  34.8743,2,  34.8737,2,     74.2,2,     74.2,2,    98.20,2,    37.30,2,     0.02,2,     2.72,4,     0.03,2,    0.025,2,    0.010,2,    0.000,2,    0.002,2,   2319.3, 2,   2378.5,2,   -999.0,9,  -999.00,9,     -999,9,   -999.0,9,    0.000,2,    0.000,2,   1.6490,1,-999.0000,9,-999.0000,9,-999.0000,9,    0.001,2,   99.831,2,   5.1370,2
  49NZ20191205,  I08N,    19,  1,     20,   1220,2,20191208,2204,  1.3341,  80.0002, 4569,   1528.8,   4.4371,   4.4351,2,  34.8523,2,  34.8516,2,     86.4,2,     86.9,2,   106.52,2,    36.94,2,     0.02,2,     2.70,4,     0.03,2,    0.019,2,    0.009,2,    0.004,2,    0.017,2,   2321.7, 2,   2386.2,2,   -999.0,9,  -999.00,9,     -999,9,   -999.0,9,    0.000,2,    0.000,2,   1.6540,1,-999.0000,9,-999.0000,9,-999.0000,9,    0.001,2,   99.850,2,   4.4351,2
  49NZ20191205,  I08N,    19,  1,     19,   1219,2,20191208,2204,  1.3341,  80.0002, 4569,   1729.9,   3.3829,   3.3838,2,  34.8045,2,  34.8042,2,    110.1,2,    110.0,2,   116.27,4,    36.41,2,     0.01,2,     2.62,4,     0.02,2,    0.014,2,    0.006,2,    0.000,2,    0.004,2,   2325.4, 2,   2394.4,2,   -999.0,9,  -999.00,9,     -999,9,   -999.0,9,    0.000,2,    0.000,2,   1.6270,1,-999.0000,9,-999.0000,9,-999.0000,9,    0.000,2,   99.865,2,   3.3838,2
  49NZ20191205,  I08N,    19,  1,     18,   1218,2,20191208,2204,  1.3341,  80.0002, 4569,   1929.6,   2.9380,   2.9377,2,  34.7847,2,  34.7833,2,    121.2,2,    121.3,2,   121.12,4,    36.00,2,     0.02,2,     2.58,4,     0.02,2,    0.012,2,    0.005,2,    0.002,2,    0.005,2,   2321.2, 2,   2403.5,2,   -999.0,9,  -999.00,9,     -999,9,   -999.0,9,    0.000,2,    0.000,2,   1.6210,1,-999.0000,9,-999.0000,9,-999.0000,9,    0.000,2,   99.850,2,   2.9377,2
  49NZ20191205,  I08N,    19,  1,     17,   1217,2,20191208,2204,  1.3341,  80.0002, 4569,   2129.4,   2.4775,   2.4777,2,  34.7639,2,  34.7628,2,    135.4,2,    135.4,2,   124.85,2,    35.59,2,     0.02,2,     2.52,2,     0.05,2,    0.021,2,    0.008,2,    0.002,2,    0.008,2,   2317.7, 2,   2403.4,2,   -999.0,9,  -999.00,9,     -999,9,   -999.0,9,    0.000,2,    0.000,2,   1.6050,1,-999.0000,9,-999.0000,9,-999.0000,9,   -0.001,2,   99.874,2,   2.4777,2
  49NZ20191205,  I08N,    19,  1,     16,   1216,2,20191208,2204,  1.3341,  80.0002, 4569,   2332.3,   2.2993,   2.2991,2,  34.7560,2,  34.7550,2,    140.5,2,    140.6,2,   126.34,4,    35.22,2,     0.02,2,     2.48,4,     0.05,2,    0.014,2,    0.006,2,    0.000,2,    0.002,2,   2319.0, 6,   2406.3,2,   -999.0,9,  -999.00,9,     -999,9,   -999.0,9,    0.000,2,    0.000,2,   1.5950,1,-999.0000,9,-999.0000,9,-999.0000,9,    0.000,2,   99.874,2,   2.2991,2
  49NZ20191205,  I08N,    19,  1,     15,   1215,2,20191208,2204,  1.3341,  80.0002, 4569,   2530.3,   2.0371,   2.0374,2,  34.7447,2,  34.7431,2,    147.8,2,    147.8,2,   129.39,4,    35.09,2,     0.02,2,     2.45,2,     0.04,2,    0.015,2,    0.006,2,    0.000,2,     0.02,2,   2317.2, 2,   2411.6,2,   -999.0,9,  -999.00,9,     -999,9,   -999.0,9,    0.000,2,    0.000,2,   1.5750,1,-999.0000,9,-999.0000,9,-999.0000,9,    0.000,2,   99.893,2,   2.0374,2
  49NZ20191205,  I08N,    19,  1,     14,   1214,2,20191208,2204,  1.3341,  80.0002, 4569,   2729.7,   1.8575,   1.8582,2,  34.7367,2,  34.7360,2,    155.2,2,    155.2,2,   130.76,4,    34.76,2,     0.02,2,     2.42,2,     0.04,2,    0.016,2,    0.006,2,    0.004,2,    0.007,2,   2314.8, 2,   2408.7,2,   -999.0,9,  -999.00,9,     -999,9,   -999.0,9,    0.000,2,    0.000,2,   1.5590,1,-999.0000,9,-999.0000,9,-999.0000,9,   -0.001,2,   99.905,2,   1.8582,2
  49NZ20191205,  I08N,    19,  1,     13,   1213,2,20191208,2204,  1.3341,  80.0002, 4569,   2931.1,   1.7609,   1.7610,2,  34.7326,2,  34.7319,2,    156.7,2,    156.2,2,   133.30,2,    34.81,2,     0.02,2,     2.42,2,     0.02,2,    0.014,2,    0.005,2,    0.003,2,    0.005,2,   2317.3, 2,   2410.4,2,   -999.0,9,  -999.00,9,     -999,9,   -999.0,9,    0.000,2,    0.000,2,   1.5680,1,-999.0000,9,-999.0000,9,-999.0000,9,    0.000,2,   99.897,2,   1.7610,2
  49NZ20191205,  I08N,    19,  1,     12,   1212,2,20191208,2204,  1.3341,  80.0002, 4569,   3170.1,   1.6155,   1.6160,2,  34.7275,2,  34.7265,2,    158.3,2,    158.2,2,   137.52,4,    35.08,2,     0.02,2,     2.43,2,     0.04,2,    0.017,2,    0.006,2,    0.005,2,    0.007,2,   2321.3, 2,   2415.9,6,   -999.0,9,  -999.00,9,     -999,9,   -999.0,9,    0.000,2,    0.000,2,   1.5880,1,-999.0000,9,-999.0000,9,-999.0000,9,   -0.001,2,   99.899,2,   1.6160,2
  49NZ20191205,  I08N,    19,  1,     11,   1211,2,20191208,2204,  1.3341,  80.0002, 4569,   3420.3,   1.5137,   1.5136,2,  34.7236,2,  34.7224,2,    159.4,2,    159.4,2,   141.02,4,    34.90,2,     0.02,2,     2.41,2,     0.04,2,    0.017,2,    0.006,2,    0.002,2,    0.004,2,   2327.8, 2,   2425.1,2,   -999.0,9,  -999.00,9,     -999,9,   -999.0,9,    0.000,2,    0.000,2,   1.6020,1,-999.0000,9,-999.0000,9,-999.0000,9,   -0.001,2,   99.903,2,   1.5136,2
  49NZ20191205,  I08N,    19,  1,     10,   1210,2,20191208,2204,  1.3341,  80.0002, 4569,   3669.5,   1.4282,   1.4284,2,  34.7201,2,  34.7192,2,    164.8,2,    164.6,2,   140.80,2,    34.94,2,     0.02,2,     2.40,2,     0.04,2,    0.018,2,    0.006,2,    0.002,2,    0.009,2,   2323.1, 2,   2425.9,2,   -999.0,9,  -999.00,9,     -999,9,   -999.0,9,    0.000,2,    0.000,2,   1.5780,1,-999.0000,9,-999.0000,9,-999.0000,9,   -0.001,2,   99.909,2,   1.4284,2
  49NZ20191205,  I08N,    19,  1,      9,   1209,2,20191208,2204,  1.3341,  80.0002, 4569,   3921.3,   1.3875,   1.3875,2,  34.7182,2,  34.7178,2,    171.1,2,    171.1,2,   138.17,4,    34.64,2,     0.03,2,     2.38,3,     0.06,2,    0.018,2,    0.007,2,    0.002,2,    0.005,2,   2318.6, 2,   2421.7,2,   -999.0,9,  -999.00,9,     -999,9,   -999.0,9,    0.000,2,    0.000,2,   1.5370,1,-999.0000,9,-999.0000,9,-999.0000,9,   -0.001,2,   99.920,2,   1.3875,2
  49NZ20191205,  I08N,    19,  1,      8,   1208,2,20191208,2204,  1.3341,  80.0002, 4569,   4171.5,   1.3928,   1.3928,2,  34.7176,2,  34.7171,2,    173.7,2,    174.0,2,   136.46,4,    34.12,2,     0.01,2,     2.34,2,     0.05,2,    0.016,2,    0.006,2,    0.002,2,    0.019,2,   2313.7, 6,   2419.9,2,   -999.0,9,  -999.00,9,     -999,9,   -999.0,9,    0.000,2,    0.000,2,   1.5180,1,-999.0000,9,-999.0000,9,-999.0000,9,   -0.001,2,   99.939,2,   1.3928,2
  49NZ20191205,  I08N,    19,  1,      7,   1207,2,20191208,2204,  1.3341,  80.0002, 4569,   4419.4,   1.4062,   1.4062,2,  34.7172,2,  34.7170,2,    175.8,2,    175.9,2,   135.41,4,    33.85,2,     0.01,2,     2.33,2,     0.03,2,    0.019,2,    0.007,2,    0.002,2,    0.001,2,   2309.6, 2,   2414.7,2,   -999.0,9,  -999.00,9,     -999,9,   -999.0,9,    0.000,2,    0.000,2,   1.5110,1,-999.0000,9,-999.0000,9,-999.0000,9,   -0.001,2,   99.937,2,   1.4062,2
  49NZ20191205,  I08N,    19,  1,      2,  12046,2,20191208,2204,  1.3341,  80.0002, 4569,     59.7,  28.7564,  28.7560,2,  34.7441,2,  34.7483,2,    188.7,2,    188.9,2,     1.33,2,     0.08,2,     0.03,2,     0.16,2,     0.15,2, -999.000,9, -999.000,9, -999.000,9,     -999,9,   1970.5, 2,   2280.8,2,   -999.0,9,     0.49,2,     -999,9,   -999.0,9,    0.000,2,    0.000,2,   1.3420,1,-999.0000,9,-999.0000,9,-999.0000,9,    0.446,2,   97.985,2,  28.7560,2
  49NZ20191205,  I08N,    19,  1,      1,   1201,2,20191208,2204,  1.3341,  80.0002, 4569,   4624.6,   1.4223,   1.4222,2,  34.7169,2,  34.7176,2,    176.6,2,    176.7,2,   135.49,2,    33.91,2,     0.01,2,     2.32,2,     0.01,2,    0.019,2,    0.006,2,    0.002,2,    0.012,2,   2309.5, 2,   2415.9,2,   -999.0,9,  -999.00,9,     -999,9,   -999.0,9,    0.000,2,    0.000,2,   1.5050,1,-999.0000,9,-999.0000,9,-999.0000,9,    0.000,2,   99.918,2,   1.4222,2