BOTTLE,20210412PRINUNIVRMK
EXPOCODE,SECT_ID,STNNBR,CASTNO,SAMPNO,BTLNBR,BTLNBR_FLAG_W,DATE,TIME,LATITUDE,LONGITUDE,DEPTH,CTDPRS,CTDTMP,SBE35,SBE35_FLAG_W,CTDSAL,CTDSAL_FLAG_W,SALNTY,SALNTY_FLAG_W,CTDOXY,CTDOXY_FLAG_W,OXYGEN,OXYGEN_FLAG_W,SILCAT,SILCAT_FLAG_W,NITRAT,NITRAT_FLAG_W,NITRIT,NITRIT_FLAG_W,PHSPHT,PHSPHT_FLAG_W,NH4,NH4_FLAG_W,CFC-11,CFC-11_FLAG_W,CFC-12,CFC-12_FLAG_W,CFC113,CFC113_FLAG_W,SF6,SF6_FLAG_W,TCARBN,TCARBN_FLAG_W,ALKALI,ALKALI_FLAG_W,DOC,DOC_FLAG_W,CHLWELSH,CHLWELSH_FLAG_W,UREA,UREA_FLAG_W,IODATE,IODATE_FLAG_W,PAR,PAR_FLAG_W,PAR,PAR_FLAG_W,CDOM,CDOM_FLAG_W,CDOM300,CDOM300_FLAG_W,CDOM325,CDOM325_FLAG_W,CDOM443,CDOM443_FLAG_W,CTDFLUOR,CTDFLUOR_FLAG_W,CTDXMISS,CTDXMISS_FLAG_W,SBE35,SBE35_FLAG_W
,,,,,,,,,,,METERS,DBAR,ITS-90,,,PSS-78,,PSS-78,,UMOL/KG,,UMOL/KG,,UMOL/KG,,UMOL/KG,,UMOL/KG,,UMOL/KG,,UMOL/KG,,PMOL/KG,,PMOL/KG,,PMOL/KG,,FMOL/KG,,UMOL/KG,,UMOL/KG,,UMOL/KG,,UG/KG,,nMOL/L,,nMOL/L,,VOLTS,,VOLTS,,MG/M^3,,1/M,,1/M,,1/M,,MG/M^3,,%TRANS,,,
  49NZ20191205,  I08N,    44,  1,     36,   1236,2,20191215,1124, -8.0022,  80.0027, 5416,     10.2,  28.1369,  28.1380,2,  34.5164,2,  34.5205,2,    200.0,2,    199.9,2,     1.42,2,     0.03,2,     0.00,2,     0.10,2,     0.04,2,    1.454,2,    0.938,2,    0.120,2,    1.559,2,   1963.8, 2,   2267.6,2,     67.5,2,     0.07,2,     -999,9,   -999.0,9,    0.000,2,    0.000,2,   1.1200,1,   0.2130,2,   0.1070,2,   0.0150,2,    0.060,2,   98.650,2,  28.1380,2
  49NZ20191205,  I08N,    44,  1,     35,   1235,2,20191215,1124, -8.0022,  80.0027, 5416,     50.0,  27.8998,  27.8983,2,  34.5530,2,  34.5527,2,    200.2,2,    200.3,2,     1.41,2,     0.06,2,     0.00,2,     0.10,2,     0.03,2,    1.460,2,    0.940,2,    0.128,2,    1.605,2,   1962.5, 2,   2268.7,2,     69.5,2,     0.13,2,     -999,9,   -999.0,9,    0.000,2,    0.000,2,   1.1270,1,   0.2110,2,   0.0920,2,   0.0120,2,    0.124,2,   98.623,2,  27.8983,2
  49NZ20191205,  I08N,    44,  1,     34,   1234,2,20191215,1124, -8.0022,  80.0027, 5416,    100.0,  26.2643,  26.2524,2,  34.4694,2,  34.4730,2,    189.3,2,    190.7,2,     2.87,2,     0.63,2,     0.02,2,     0.17,2,      0.1,2,    1.426,2,    0.978,2,    0.105,2,    1.479,2,   1978.8, 2,   2268.0,2,     69.3,2,     0.41,2,     -999,9,   -999.0,9,    0.000,2,    0.000,2,   1.2340,1,   0.2850,2,   0.1560,2,   0.0220,2,    0.405,2,   98.638,2,  26.2524,2
  49NZ20191205,  I08N,    44,  1,     33,   1233,2,20191215,1124, -8.0022,  80.0027, 5416,    151.0,  17.4835,  17.4795,2,  34.6658,2,  34.6644,2,     92.6,2,     92.4,2,    21.83,2,    19.71,2,     0.02,2,     1.36,2,     0.03,2,    1.580,2,    0.975,2,    0.012,2,    1.028,2,   2145.0, 2,   2286.9,2,     52.9,2,     0.08,2,     -999,9,   -999.0,9,    0.000,2,    0.000,2,   1.4580,1,   0.2980,2,   0.1760,2,   0.0250,2,    0.107,2,   99.509,2,  17.4795,2
  49NZ20191205,  I08N,    44,  1,     32,   1232,2,20191215,1124, -8.0022,  80.0027, 5416,    199.6,  13.0231,  13.0358,2,  34.7516,2,  34.7515,2,     68.5,2,     68.3,2,    32.05,2,    27.00,2,     0.01,2,     1.86,2,     0.03,2,    1.418,2,    0.822,2,    0.007,2,    0.621,2,   2205.9, 2,   2301.4,2,     51.5,2,     0.01,2,     -999,9,   -999.0,9,    0.000,2,    0.000,2,   1.5220,1,   0.3150,2,   0.1830,2,   0.0330,2,   -0.005,2,   99.639,2,  13.0358,2
  49NZ20191205,  I08N,    44,  1,     31,   1231,2,20191215,1124, -8.0022,  80.0027, 5416,    249.9,  12.1647,  12.1677,2,  34.8626,2,  34.8682,2,     58.9,2,     58.7,2,    30.03,2,    28.84,2,     0.00,2,     1.96,2,     0.04,2,    1.389,2,    0.780,2,    0.010,2,    0.393,2,   2223.5, 2,   2305.8,2,     48.7,2,     0.01,2,     -999,9,   -999.0,9,    0.000,2,    0.000,2,   1.5230,1,-999.0000,9,-999.0000,9,-999.0000,9,   -0.001,2,   99.623,2,  12.1677,2
  49NZ20191205,  I08N,    44,  1,     30,   1230,2,20191215,1124, -8.0022,  80.0027, 5416,    331.2,  10.8584,  10.8620,2,  34.8984,2,  34.8976,2,     81.0,2,     80.8,2,    26.23,2,    28.61,2,     0.01,2,     1.90,2,     0.03,2,    1.526,2,    0.831,2,    0.023,2,    0.448,2,   2218.0, 2,   2307.1,2,     49.3,2,  -999.00,9,     -999,9,   -999.0,9,    0.000,2,    0.000,2,   1.4650,1,   0.2920,2,   0.1680,2,   0.0310,2,    0.003,2,   99.671,2,  10.8620,2
  49NZ20191205,  I08N,    44,  1,     29,   1229,2,20191215,1124, -8.0022,  80.0027, 5416,    430.7,   9.6473,   9.6508,2,  34.8288,2,  34.8281,2,     94.0,2,     93.8,2,    30.68,2,    29.70,2,     0.01,2,     2.00,2,     0.01,2,    1.342,2,    0.716,2,    0.019,2,    0.341,2,   2221.4, 2,   2310.1,2,     46.9,2,  -999.00,9,     -999,9,   -999.0,9,    0.000,2,    0.000,2,   1.4310,1,   0.2970,2,   0.1670,2,   0.0320,2,    0.003,2,   99.726,2,   9.6508,2
  49NZ20191205,  I08N,    44,  1,     28,   1228,2,20191215,1124, -8.0022,  80.0027, 5416,    529.6,   8.6947,   8.6944,2,  34.7961,2,  34.7958,2,     82.7,2,     82.8,2,    42.44,2,    32.35,2,     0.01,2,     2.24,2,     0.03,2,    0.789,2,    0.421,2,    0.017,2,    0.149,2,   2244.2, 2,   2318.9,2,     47.9,2,  -999.00,9,     -999,9,   -999.0,9,    0.000,2,    0.000,2,   1.4740,1,   0.2980,2,   0.1680,2,   0.0300,2,    0.001,2,   99.768,2,   8.6944,2
  49NZ20191205,  I08N,    44,  1,     27,   1227,2,20191215,1124, -8.0022,  80.0027, 5416,    630.6,   7.8753,   7.8754,2,  34.7826,2,  34.7819,2,     71.1,2,     71.0,2,    56.58,2,    34.74,2,     0.00,2,     2.46,2,     0.05,2,    0.365,2,    0.200,2,    0.013,2,    0.065,2,   2263.2, 2,   2332.1,2,     46.2,2,  -999.00,9,     -999,9,   -999.0,9,    0.000,2,    0.000,2,   1.5070,1,   0.3090,2,   0.1790,2,   0.0340,2,    0.002,2,   99.806,2,   7.8754,2
  49NZ20191205,  I08N,    44,  1,     26,   1226,2,20191215,1124, -8.0022,  80.0027, 5416,    729.7,   7.1704,   7.1705,2,  34.7709,2,  34.7690,2,     64.6,2,     65.0,2,    69.08,2,    36.12,2,     0.00,2,     2.59,2,     0.05,2,    0.162,2,    0.091,2,    0.004,2,    0.026,2,   2280.6, 6,   2344.0,2,     46.0,2,  -999.00,9,     -999,9,   -999.0,9,    0.000,2,    0.000,2,   1.5360,1,-999.0000,9,-999.0000,9,-999.0000,9,    0.002,2,   99.831,2,   7.1705,2
  49NZ20191205,  I08N,    44,  1,     25,   1225,2,20191215,1124, -8.0022,  80.0027, 5416,    830.2,   6.4396,   6.4399,2,  34.7403,2,  34.7393,2,     68.0,2,     68.4,2,    79.86,2,    36.53,2,     0.00,2,     2.62,2,     0.02,2,    0.102,2,    0.058,2,    0.002,2,    0.033,2,   2290.5, 2,   2353.5,2,     44.0,2,  -999.00,9,     -999,9,   -999.0,9,    0.000,2,    0.000,2,   1.5430,1,   0.3240,2,   0.1850,2,   0.0370,2,    0.002,2,   99.842,2,   6.4399,2
  49NZ20191205,  I08N,    44,  1,     24,   1224,2,20191215,1124, -8.0022,  80.0027, 5416,    929.6,   5.8072,   5.8076,2,  34.7213,2,  34.7222,2,     73.4,2,     73.8,2,    88.34,2,    36.77,2,     0.00,2,     2.64,2,     0.01,2,    0.075,2,    0.040,2,    0.001,2,    0.005,2,   2297.8, 2,   2363.9,2,     39.5,2,  -999.00,9,     -999,9,   -999.0,9,    0.000,2,    0.000,2,   1.5700,1,-999.0000,9,-999.0000,9,-999.0000,9,    0.000,2,   99.859,2,   5.8076,2
  49NZ20191205,  I08N,    44,  1,     23,   1223,2,20191215,1124, -8.0022,  80.0027, 5416,   1070.5,   5.1692,   5.1686,2,  34.7180,2,  34.7206,2,     80.3,2,     80.3,2,    96.15,2,    37.02,2,     0.01,2,     2.66,2,        0,2,    0.049,2,    0.026,2,    0.004,2,    0.025,2,   2306.0, 2,   2372.6,2,     44.4,2,  -999.00,9,     -999,9,   -999.0,9,    0.000,2,    0.000,2,   1.5620,1,   0.3730,2,   0.2040,2,   0.0470,2,    0.000,2,   99.871,2,   5.1686,2
  49NZ20191205,  I08N,    44,  1,     22,   1222,2,20191215,1124, -8.0022,  80.0027, 5416,   1269.8,   4.4910,   4.4910,2,  34.7343,2,  34.7345,2,     89.3,2,     89.6,2,   103.60,2,    37.02,2,     0.00,2,     2.67,2,     0.01,2,    0.025,2,    0.012,2,    0.001,2,    0.036,2,   2312.7, 2,   2380.0,6,     39.8,2,  -999.00,9,     -999,9,   -999.0,9,    0.000,2,    0.000,2,   1.5720,1,-999.0000,9,-999.0000,9,-999.0000,9,    0.001,2,   99.869,2,   4.4910,2
  49NZ20191205,  I08N,    44,  1,     21,   1221,2,20191215,1124, -8.0022,  80.0027, 5416,   1471.3,   3.8856,   3.8852,2,  34.7616,2,  34.7614,2,    102.7,2,    103.0,2,   107.12,2,    36.63,2,     0.00,2,     2.63,2,     0.02,2,    0.015,2,    0.006,2,    0.003,2,    0.006,2,   2309.1, 2,   2385.6,2,     39.1,2,  -999.00,9,     -999,9,   -999.0,9,    0.000,2,    0.000,2,   1.5640,1,   0.3600,2,   0.1960,2,   0.0410,2,    0.000,2,   99.871,2,   3.8852,2
  49NZ20191205,  I08N,    44,  1,     20,   1220,2,20191215,1124, -8.0022,  80.0027, 5416,   1670.0,   3.2983,   3.3030,2,  34.7604,2,  34.7597,2,    117.3,2,    117.5,2,   111.78,2,    36.18,2,     0.00,2,     2.57,2,     0.03,2,    0.014,2,    0.005,2,    0.002,2,    0.005,2,   2309.6, 2,   2390.0,2,     42.3,2,  -999.00,9,     -999,9,   -999.0,9,    0.000,2,    0.000,2,   1.5420,1,-999.0000,9,-999.0000,9,-999.0000,9,    0.001,2,   99.882,2,   3.3030,2
  49NZ20191205,  I08N,    44,  1,     19,   1219,2,20191215,1124, -8.0022,  80.0027, 5416,   1869.4,   2.7763,   2.7793,2,  34.7516,2,  34.7520,2,    131.0,2,    131.1,2,   116.48,2,    35.61,2,     0.00,2,     2.52,2,     0.04,2,    0.012,2,    0.004,2,    0.004,2,    0.005,2,   2309.3, 2,   2392.9,2,     38.8,2,  -999.00,9,     -999,9,   -999.0,9,    0.000,2,    0.000,2,   1.5250,1,   0.3410,2,   0.1820,2,   0.0370,2,    0.000,2,   99.876,2,   2.7793,2
  49NZ20191205,  I08N,    44,  1,     18,   1218,2,20191215,1124, -8.0022,  80.0027, 5416,   2071.1,   2.4533,   2.4530,2,  34.7469,2,  34.7476,2,    140.9,2,    141.0,2,   119.18,2,    35.16,2,     0.00,2,     2.47,2,     0.04,2,    0.012,2,    0.003,2,    0.000,2,    0.003,2,   2306.6, 2,   2395.6,2,     39.4,2,  -999.00,9,     -999,9,   -999.0,9,    0.000,2,    0.000,2,   1.5210,1,-999.0000,9,-999.0000,9,-999.0000,9,   -0.001,2,   99.880,2,   2.4530,2
  49NZ20191205,  I08N,    44,  1,     17,   1217,2,20191215,1124, -8.0022,  80.0027, 5416,   2270.3,   2.1905,   2.1905,2,  34.7424,2,  34.7430,2,    148.9,2,    148.8,2,   121.83,2,    34.91,2,     0.00,2,     2.44,2,     0.03,2,    0.011,2,    0.004,2,    0.000,2,    0.007,2,   2305.8, 2,   2397.5,2,     37.8,2,  -999.00,9,     -999,9,   -999.0,9,    0.000,2,    0.000,2,   1.5000,1,   0.3330,2,   0.1770,2,   0.0360,2,    0.000,2,   99.886,2,   2.1905,2
  49NZ20191205,  I08N,    44,  1,     16,   1216,2,20191215,1124, -8.0022,  80.0027, 5416,   2469.9,   2.0038,   2.0040,2,  34.7373,2,  34.7378,2,    155.6,2,    155.7,2,   123.54,2,    34.67,2,     0.00,2,     2.41,2,     0.03,2,    0.014,2,    0.004,2,    0.001,2,    0.009,2,   2302.4, 6,   2401.7,2,     38.7,2,  -999.00,9,     -999,9,   -999.0,9,    0.000,2,    0.000,2,   1.4840,1,-999.0000,9,-999.0000,9,-999.0000,9,    0.000,2,   99.897,2,   2.0040,2
  49NZ20191205,  I08N,    44,  1,     15,   1215,2,20191215,1124, -8.0022,  80.0027, 5416,   2670.7,   1.8561,   1.8556,2,  34.7335,2,  34.7338,2,    161.2,2,    161.4,2,   125.02,2,    34.41,2,     0.00,2,     2.38,2,     0.02,2,    0.012,2,    0.005,2,    0.002,2,    0.005,2,   2301.6, 2,   2402.1,2,     40.3,2,  -999.00,9,     -999,9,   -999.0,9,    0.000,2,    0.000,2,   1.4690,1,   0.3420,2,   0.1850,2,   0.0430,2,    0.000,2,   99.899,2,   1.8556,2
  49NZ20191205,  I08N,    44,  1,     12,   1212,2,20191215,1124, -8.0022,  80.0027, 5416,   3330.6,   1.5247,   1.5245,2,  34.7240,2,  34.7239,2,    167.5,2,    167.6,2,   133.45,2,    34.25,2,     0.00,2,     2.36,2,     0.05,2,    0.017,2,    0.007,2,    0.003,2,    0.007,2,   2310.2, 3,   2413.3,6,     40.8,2,  -999.00,9,     -999,9,   -999.0,9,    0.000,2,    0.000,2,   1.4830,1,   0.3340,2,   0.1730,2,   0.0340,2,    0.001,2,   99.897,2,   1.5245,2
  49NZ20191205,  I08N,    44,  1,     11,   1211,2,20191215,1124, -8.0022,  80.0027, 5416,   3580.4,   1.4498,   1.4497,2,  34.7213,2,  34.7216,2,    170.4,2,    170.3,2,   135.08,2,    34.26,2,     0.00,2,     2.36,2,     0.05,2,    0.014,2,    0.005,2,    0.003,2,    0.001,2,   2308.5, 2,   2415.5,2,     39.8,2,  -999.00,9,     -999,9,   -999.0,9,    0.000,2,    0.000,2,   1.4800,1,   0.3450,2,   0.1840,2,   0.0390,2,    0.000,2,   99.901,2,   1.4497,2
  49NZ20191205,  I08N,    44,  1,     10,   1210,2,20191215,1124, -8.0022,  80.0027, 5416,   3830.2,   1.4093,   1.4092,2,  34.7195,2,  34.7195,2,    173.8,2,    173.6,2,   134.80,2,    34.08,2,     0.00,2,     2.34,2,     0.05,2,    0.013,2,    0.004,2,    0.010,2,    0.005,2,   2306.1, 2,   2417.4,2,     38.3,2,  -999.00,9,     -999,9,   -999.0,9,    0.000,2,    0.000,2,   1.4710,1,-999.0000,9,-999.0000,9,-999.0000,9,   -0.001,2,   99.909,2,   1.4092,2
  49NZ20191205,  I08N,    44,  1,      9,   1209,2,20191215,1124, -8.0022,  80.0027, 5416,   4079.8,   1.3855,   1.3854,2,  34.7182,2,  34.7183,2,    176.7,2,    176.7,2,   134.32,2,    34.02,2,     0.00,2,     2.33,2,     0.05,2,    0.012,2,    0.004,2,    0.003,2,    0.009,2,   2303.1, 2,   2415.3,2,     43.2,2,  -999.00,9,     -999,9,   -999.0,9,    0.000,2,    0.000,2,   1.4680,1,   0.3230,2,   0.1630,2,   0.0330,2,    0.000,2,   99.901,2,   1.3854,2
  49NZ20191205,  I08N,    44,  1,      8,  12103,2,20191215,1124, -8.0022,  80.0027, 5416,   4331.2,   1.3772,   1.3772,2,  34.7175,2,  34.7176,2,    179.9,2,    179.6,2,   133.40,2,    33.85,2,     0.00,2,     2.32,2,     0.04,2,    0.014,2,    0.005,2,    0.006,2,    0.005,2,   2300.8, 6,   2409.0,2,     41.9,2,  -999.00,9,     -999,9,   -999.0,9,    0.000,2,    0.000,2,   1.4430,1,-999.0000,9,-999.0000,9,-999.0000,9,    0.000,2,   99.920,2,   1.3772,2
  49NZ20191205,  I08N,    44,  1,      7,   1207,2,20191215,1124, -8.0022,  80.0027, 5416,   4581.6,   1.3811,   1.3810,2,  34.7169,2,  34.7174,2,    181.2,2,    181.0,2,   132.97,2,    33.85,2,     0.00,2,     2.31,2,     0.03,2,    0.012,2,    0.004,2,    0.003,2,    0.001,2,   2299.7, 2,   2410.6,2,     39.8,2,  -999.00,9,     -999,9,   -999.0,9,    0.000,2,    0.000,2,   1.4550,1,   0.3170,2,   0.1590,2,   0.0340,2,    0.000,2,   99.909,2,   1.3810,2
  49NZ20191205,  I08N,    44,  1,      6,   1206,2,20191215,1124, -8.0022,  80.0027, 5416,   4832.4,   1.3948,   1.3950,2,  34.7166,2,  34.7171,2,    182.4,2,    182.4,2,   132.26,2,    33.79,2,     0.00,2,     2.30,2,     0.03,2,    0.015,2,    0.006,2,    0.001,2,    0.017,2,   2297.7, 2,   2409.0,6,     41.1,2,  -999.00,9,     -999,9,   -999.0,9,    0.000,2,    0.000,2,   1.4430,1,-999.0000,9,-999.0000,9,-999.0000,9,   -0.001,2,   99.911,2,   1.3950,2
  49NZ20191205,  I08N,    44,  1,      5,   1205,2,20191215,1124, -8.0022,  80.0027, 5416,   5080.1,   1.4108,   1.4108,2,  34.7164,2,  34.7163,2,    183.4,2,    183.4,2,   131.80,2,    33.69,2,     0.00,2,     2.30,2,     0.02,2,    0.015,2,    0.006,2,    0.002,2,    0.018,2,   2299.2, 2,   2404.8,2,     42.2,2,  -999.00,9,     -999,9,   -999.0,9,    0.000,2,    0.000,2,   1.4420,1,   0.3350,2,   0.1820,2,   0.0440,2,   -0.001,2,   99.911,2,   1.4108,2
  49NZ20191205,  I08N,    44,  1,      4,   1204,2,20191215,1124, -8.0022,  80.0027, 5416,   5329.2,   1.4366,   1.4365,2,  34.7163,2,  34.7160,2,    183.7,2,    183.7,2,   131.56,2,    33.62,2,     0.00,2,     2.30,2,     0.02,2,    0.017,2,    0.006,2,    0.002,2,    0.003,2,   2298.0, 2,   2405.2,2,     40.5,2,  -999.00,9,     -999,9,   -999.0,9,    0.000,2,    0.000,2,   1.4460,1,   0.2970,2,   0.1600,2,   0.0270,2,   -0.001,2,   99.882,2,   1.4365,2
  49NZ20191205,  I08N,    44,  1,      3,   1203,2,20191215,1124, -8.0022,  80.0027, 5416,   5497.7,   1.4573,   1.4573,2,  34.7164,2,-999.0000,9,    183.8,2,   -999.0,9,  -999.00,9,  -999.00,9,  -999.00,9,  -999.00,9,     -999,9, -999.000,9, -999.000,9, -999.000,9,     -999,9,   -999.0, 9,   -999.0,9,   -999.0,9,  -999.00,9,     -999,9,   -999.0,9,    0.000,2,    0.000,2,   1.4430,1,-999.0000,9,-999.0000,9,-999.0000,9,    0.000,2,   99.886,2,   1.4573,2
  49NZ20191205,  I08N,    44,  1,      1,   1201,2,20191215,1124, -8.0022,  80.0027, 5416,   5497.1,   1.4573,   1.4573,2,  34.7163,2,  34.7161,2,    183.8,2,    184.0,2,   131.53,2,    33.59,2,     0.00,2,     2.30,2,     0.01,2,    0.015,2,    0.004,2,    0.001,2,    0.008,2,   2296.0, 2,   2403.9,2,     43.3,2,  -999.00,9,     -999,9,   -999.0,9,    0.000,2,    0.000,2,   1.4410,1,   0.2930,2,   0.1680,2,   0.0350,2,    0.000,2,   99.884,2,   1.4573,2