BOTTLE,20210412PRINUNIVRMK
EXPOCODE,SECT_ID,STNNBR,CASTNO,SAMPNO,BTLNBR,BTLNBR_FLAG_W,DATE,TIME,LATITUDE,LONGITUDE,DEPTH,CTDPRS,CTDTMP,SBE35,SBE35_FLAG_W,CTDSAL,CTDSAL_FLAG_W,SALNTY,SALNTY_FLAG_W,CTDOXY,CTDOXY_FLAG_W,OXYGEN,OXYGEN_FLAG_W,SILCAT,SILCAT_FLAG_W,NITRAT,NITRAT_FLAG_W,NITRIT,NITRIT_FLAG_W,PHSPHT,PHSPHT_FLAG_W,NH4,NH4_FLAG_W,CFC-11,CFC-11_FLAG_W,CFC-12,CFC-12_FLAG_W,CFC113,CFC113_FLAG_W,SF6,SF6_FLAG_W,TCARBN,TCARBN_FLAG_W,ALKALI,ALKALI_FLAG_W,DOC,DOC_FLAG_W,CHLWELSH,CHLWELSH_FLAG_W,UREA,UREA_FLAG_W,IODATE,IODATE_FLAG_W,PAR,PAR_FLAG_W,PAR,PAR_FLAG_W,CDOM,CDOM_FLAG_W,CDOM300,CDOM300_FLAG_W,CDOM325,CDOM325_FLAG_W,CDOM443,CDOM443_FLAG_W,CTDFLUOR,CTDFLUOR_FLAG_W,CTDXMISS,CTDXMISS_FLAG_W,SBE35,SBE35_FLAG_W
,,,,,,,,,,,METERS,DBAR,ITS-90,,,PSS-78,,PSS-78,,UMOL/KG,,UMOL/KG,,UMOL/KG,,UMOL/KG,,UMOL/KG,,UMOL/KG,,UMOL/KG,,PMOL/KG,,PMOL/KG,,PMOL/KG,,FMOL/KG,,UMOL/KG,,UMOL/KG,,UMOL/KG,,UG/KG,,nMOL/L,,nMOL/L,,VOLTS,,VOLTS,,MG/M^3,,1/M,,1/M,,1/M,,MG/M^3,,%TRANS,,,
  49NZ20191205,  I08N,    14,  1,     36,   1236,2,20191207,2224,  3.0007,  80.0007, 4340,     10.2,  28.9936,  28.9930,2,  33.8096,2,  33.8034,2,    197.0,2,    196.8,2,     1.64,2,     0.06,2,     0.01,2,     0.08,2,     0.02,2,    1.332,2,    0.865,2,    0.109,2,     1.49,2,   1914.0, 2,   2226.0,2,   -999.0,9,     0.13,2,     -999,9,   -999.0,9,    1.973,2,    1.973,2,   1.1930,1,-999.0000,9,-999.0000,9,-999.0000,9,    0.102,2,   98.524,2,  28.9930,2
  49NZ20191205,  I08N,    14,  1,     35,   1235,2,20191207,2224,  3.0007,  80.0007, 4340,     49.9,  29.1828,  29.1820,2,  34.5655,2,  34.5670,2,    194.2,2,    194.2,2,     1.50,2,     0.01,2,     0.01,2,     0.12,2,     0.02,2,    1.319,2,    0.862,2,    0.106,2,    1.508,2,   1949.2, 2,   2268.0,2,   -999.0,9,     0.28,2,     -999,9,   -999.0,9,    0.000,2,    0.000,2,   1.2240,1,-999.0000,9,-999.0000,9,-999.0000,9,    0.212,2,   98.639,2,  29.1820,2
  49NZ20191205,  I08N,    14,  1,     34,   1234,2,20191207,2224,  3.0007,  80.0007, 4340,    100.3,  18.2461,  18.2614,2,  34.9160,2,  34.9162,2,     19.1,2,     19.4,2,    22.30,2,    26.77,2,     0.03,2,     1.94,2,     0.01,2,    1.119,2,    0.705,2,    0.008,2,    0.636,2,   2196.8, 2,   2297.5,2,   -999.0,9,     0.13,2,     -999,9,   -999.0,9,    0.000,2,    0.000,2,   1.6190,1,-999.0000,9,-999.0000,9,-999.0000,9,    0.166,2,   99.431,2,  18.2614,2
  49NZ20191205,  I08N,    14,  1,     33,   1233,2,20191207,2224,  3.0007,  80.0007, 4340,    151.0,  13.8092,  13.8167,2,  35.0990,2,  35.0986,2,     41.5,2,     41.1,2,    23.77,2,    28.23,2,     0.02,2,     1.99,2,     0.01,2, -999.000,9, -999.000,9, -999.000,9,     -999,9,   2228.6, 2,   2311.7,2,   -999.0,9,     0.01,2,     -999,9,   -999.0,9,    0.000,2,    0.000,2,   1.5990,1,-999.0000,9,-999.0000,9,-999.0000,9,   -0.003,2,   99.559,2,  13.8167,2
  49NZ20191205,  I08N,    14,  1,     32,   1232,2,20191207,2224,  3.0007,  80.0007, 4340,    199.1,  12.7882,  12.7894,2,  35.1061,2,  35.1069,2,     50.9,2,     52.6,2,    23.98,2,    28.24,2,     0.01,2,     1.97,2,     0.01,2,    1.429,2,    0.859,2,    0.011,2,    0.529,2,   2230.8, 2,   2310.8,2,   -999.0,9,     0.01,2,     -999,9,   -999.0,9,    0.000,2,    0.000,2,   1.5950,1,-999.0000,9,-999.0000,9,-999.0000,9,    0.000,2,   99.542,2,  12.7894,2
  49NZ20191205,  I08N,    14,  1,     31,   1231,2,20191207,2224,  3.0007,  80.0007, 4340,    250.5,  11.8899,  11.8918,2,  35.0899,2,  35.0879,2,     53.7,2,     54.4,2,    25.88,2,    29.27,2,     0.01,2,     2.03,2,     0.01,2,    1.412,2,    0.804,2,    0.007,2,    0.492,2,   2236.8, 2,   2314.8,2,   -999.0,9,     0.01,2,     -999,9,   -999.0,9,    0.000,2,    0.000,2,   1.5730,1,-999.0000,9,-999.0000,9,-999.0000,9,    0.004,2,   99.496,2,  11.8918,2
  49NZ20191205,  I08N,    14,  1,     30,   1230,2,20191207,2224,  3.0007,  80.0007, 4340,    298.5,  11.4202,  11.4206,2,  35.0638,2,  35.0637,2,     59.1,2,     58.6,2,    26.99,2,    29.64,2,     0.01,2,     2.04,2,     0.01,2,    1.361,2,    0.768,2,    0.015,2,    0.433,2,   2237.8, 2,   2312.0,2,   -999.0,9,  -999.00,9,     -999,9,   -999.0,9,    0.000,2,    0.000,2,   1.5570,1,-999.0000,9,-999.0000,9,-999.0000,9,    0.004,2,   99.538,2,  11.4206,2
  49NZ20191205,  I08N,    14,  1,     29,   1229,2,20191207,2224,  3.0007,  80.0007, 4340,    400.2,  10.8488,  10.8481,2,  35.0604,2,  35.0587,2,     40.5,2,     42.4,2,    33.29,2,    32.29,2,     0.02,2,     2.25,2,     0.01,2,    0.983,2,    0.553,2,    0.007,2,    0.375,2,   2253.7, 2,   2317.0,2,   -999.0,9,  -999.00,9,     -999,9,   -999.0,9,    0.000,2,    0.000,2,   1.5990,1,-999.0000,9,-999.0000,9,-999.0000,9,    0.004,2,   99.576,2,  10.8481,2
  49NZ20191205,  I08N,    14,  1,     28,   1228,2,20191207,2224,  3.0007,  80.0007, 4340,    499.8,  10.2214,  10.2202,2,  35.0542,2,  35.0631,2,     37.6,2,     36.8,2,    39.80,2,    33.64,2,     0.01,2,     2.40,2,     0.02,2,    0.700,2,    0.390,2,    0.006,2,    0.086,2,   2267.8, 2,   2320.1,2,   -999.0,9,  -999.00,9,     -999,9,   -999.0,9,    0.000,2,    0.000,2,   1.6150,1,-999.0000,9,-999.0000,9,-999.0000,9,    0.005,2,   99.665,2,  10.2202,2
  49NZ20191205,  I08N,    14,  1,     27,   1227,2,20191207,2224,  3.0007,  80.0007, 4340,    599.4,   9.4888,   9.4884,2,  35.0464,2,  35.0466,2,     39.3,2,     39.2,2,    47.72,2,    34.46,2,     0.01,2,     2.50,2,     0.01,2,    0.474,2,    0.268,2,    0.008,2,    0.092,2,   2273.1, 2,   2329.3,2,   -999.0,9,  -999.00,9,     -999,9,   -999.0,9,    0.000,2,    0.000,2,   1.6370,1,-999.0000,9,-999.0000,9,-999.0000,9,    0.003,2,   99.713,2,   9.4884,2
  49NZ20191205,  I08N,    14,  1,     26,   1226,2,20191207,2224,  3.0007,  80.0007, 4340,    699.7,   8.8727,   8.8729,2,  35.0334,2,  35.0339,2,     35.4,2,     35.6,2,    55.87,2,    35.45,2,     0.01,2,     2.60,2,     0.03,2,    0.291,2,    0.167,2,    0.001,2,    0.083,2,   2284.3, 6,   2334.3,2,   -999.0,9,  -999.00,9,     -999,9,   -999.0,9,    0.000,2,    0.000,2,   1.6480,1,-999.0000,9,-999.0000,9,-999.0000,9,    0.003,2,   99.747,2,   8.8729,2
  49NZ20191205,  I08N,    14,  1,     25,   1225,2,20191207,2224,  3.0007,  80.0007, 4340,    799.1,   8.0499,   8.0511,2,  35.0024,2,  35.0025,2,     34.9,2,     34.8,2,    67.44,2,    36.81,2,     0.01,2,     2.70,2,     0.02,2,    0.129,2,    0.077,2,    0.002,2,    0.026,2,   2297.8, 2,   2347.9,2,   -999.0,9,  -999.00,9,     -999,9,   -999.0,9,    0.000,2,    0.000,2,   1.6670,1,-999.0000,9,-999.0000,9,-999.0000,9,    0.003,2,   99.776,2,   8.0511,2
  49NZ20191205,  I08N,    14,  1,     24,   1224,2,20191207,2224,  3.0007,  80.0007, 4340,    899.6,   7.3855,   7.3859,2,  34.9793,2,  34.9794,2,     42.2,2,     42.2,2,    74.78,2,    37.13,2,     0.01,2,     2.72,2,     0.03,2,    0.081,2,    0.050,2,    0.000,2,    0.004,2,   2300.6, 2,   2355.6,2,   -999.0,9,  -999.00,9,     -999,9,   -999.0,9,    0.000,2,    0.000,2,   1.6770,1,-999.0000,9,-999.0000,9,-999.0000,9,    0.002,2,   99.801,2,   7.3859,2
  49NZ20191205,  I08N,    14,  1,     23,   1223,2,20191207,2224,  3.0007,  80.0007, 4340,   1000.2,   6.7791,   6.7789,2,  34.9467,2,  34.9464,2,     47.0,2,     47.0,2,    82.17,2,    37.39,2,     0.01,2,     2.75,2,     0.02,2,    0.056,2,    0.031,2,    0.003,2,    0.014,2,   2309.1, 2,   2363.2,2,   -999.0,9,  -999.00,9,     -999,9,   -999.0,9,    0.000,2,    0.000,2,   1.6960,1,-999.0000,9,-999.0000,9,-999.0000,9,    0.001,2,   99.812,2,   6.7789,2
  49NZ20191205,  I08N,    14,  1,     22,   1222,2,20191207,2224,  3.0007,  80.0007, 4340,   1200.0,   5.8152,   5.8152,2,  34.9034,2,  34.9034,2,     58.1,2,     57.9,2,    93.65,2,    37.62,2,     0.01,2,     2.76,2,     0.03,2,    0.032,2,    0.016,2,    0.001,2,        0,2,   2317.0, 2,   2374.2,6,   -999.0,9,  -999.00,9,     -999,9,   -999.0,9,    0.000,2,    0.000,2,   1.6970,1,-999.0000,9,-999.0000,9,-999.0000,9,    0.001,2,   99.816,2,   5.8152,2
  49NZ20191205,  I08N,    14,  1,     21,   1221,2,20191207,2224,  3.0007,  80.0007, 4340,   1400.9,   4.9044,   4.9041,2,  34.8723,2,  34.8724,2,     74.5,2,     74.6,2,   102.14,2,    37.37,2,     0.01,2,     2.74,2,     0.02,2,    0.022,2,    0.010,2,    0.001,2,    0.024,2,   2319.3, 2,   2383.3,2,   -999.0,9,  -999.00,9,     -999,9,   -999.0,9,    0.000,2,    0.000,2,   1.6880,1,-999.0000,9,-999.0000,9,-999.0000,9,    0.001,2,   99.841,2,   4.9041,2
  49NZ20191205,  I08N,    14,  1,     20,   1220,2,20191207,2224,  3.0007,  80.0007, 4340,   1600.0,   4.0498,   4.0498,2,  34.8341,2,  34.8341,2,     94.6,2,     94.4,2,   108.96,2,    36.87,2,     0.01,2,     2.68,2,     0.02,2,    0.018,2,    0.006,2,    0.001,2,    0.041,2,   2319.6, 2,   2386.6,2,   -999.0,9,  -999.00,9,     -999,9,   -999.0,9,    0.000,2,    0.000,2,   1.6700,1,-999.0000,9,-999.0000,9,-999.0000,9,    0.001,2,   99.873,2,   4.0498,2
  49NZ20191205,  I08N,    14,  1,     19,   1219,2,20191207,2224,  3.0007,  80.0007, 4340,   1798.9,   3.3520,   3.3519,2,  34.8087,2,  34.8085,2,    107.5,2,    107.5,2,   118.20,2,    36.43,2,     0.01,2,     2.64,2,     0.02,2,    0.013,2,    0.006,2,    0.001,2,    0.005,2,   2323.5, 2,   2399.2,2,   -999.0,9,  -999.00,9,     -999,9,   -999.0,9,    0.000,2,    0.000,2,   1.6580,1,-999.0000,9,-999.0000,9,-999.0000,9,    0.001,2,   99.873,2,   3.3519,2
  49NZ20191205,  I08N,    14,  1,     18,   1218,2,20191207,2224,  3.0007,  80.0007, 4340,   1999.2,   2.7321,   2.7304,2,  34.7778,2,  34.7769,2,    120.3,2,    120.2,2,   126.43,2,    36.18,2,     0.01,2,     2.60,2,        0,2,    0.015,2,    0.006,2,    0.001,2,        0,2,   2325.6, 2,   2406.8,2,   -999.0,9,  -999.00,9,     -999,9,   -999.0,9,    0.000,2,    0.000,2,   1.6670,1,-999.0000,9,-999.0000,9,-999.0000,9,    0.000,2,   99.869,2,   2.7304,2
  49NZ20191205,  I08N,    14,  1,     17,   1217,2,20191207,2224,  3.0007,  80.0007, 4340,   2200.6,   2.3469,   2.3471,2,  34.7597,2,-999.0000,9,    132.1,2,    132.0,2,   129.95,2,    35.88,2,     0.01,2,     2.54,2,     0.02,2,    0.016,2,    0.006,2,    0.000,2,    0.002,2,   2324.5, 2,   2410.2,2,   -999.0,9,  -999.00,9,     -999,9,   -999.0,9,    0.000,2,    0.000,2,   1.6520,1,-999.0000,9,-999.0000,9,-999.0000,9,    0.000,2,   99.869,2,   2.3471,2
  49NZ20191205,  I08N,    14,  1,     16,   1216,2,20191207,2224,  3.0007,  80.0007, 4340,   2399.6,   2.1579,   2.1583,2,  34.7508,2,  34.7504,2,    138.4,2,    138.4,2,   131.17,2,    35.37,2,     0.01,2,     2.50,2,     0.02,2,    0.015,2,    0.005,2,    0.004,2,    0.009,2,   2321.8, 6,   2409.9,2,   -999.0,9,  -999.00,9,     -999,9,   -999.0,9,    0.000,2,    0.000,2,   1.6280,1,-999.0000,9,-999.0000,9,-999.0000,9,    0.001,2,   99.890,2,   2.1583,2
  49NZ20191205,  I08N,    14,  1,     15,   1215,2,20191207,2224,  3.0007,  80.0007, 4340,   2600.2,   1.9729,   1.9728,2,  34.7422,2,  34.7412,2,    146.4,2,    146.5,2,   131.77,2,    35.05,2,     0.01,2,     2.46,2,     0.02,2,    0.017,2,    0.007,2,    0.000,2,    0.004,2,   2321.2, 2,   2410.7,2,   -999.0,9,  -999.00,9,     -999,9,   -999.0,9,    0.000,2,    0.000,2,   1.6070,1,-999.0000,9,-999.0000,9,-999.0000,9,    0.001,2,   99.900,2,   1.9728,2
  49NZ20191205,  I08N,    14,  1,     14,   1214,2,20191207,2224,  3.0007,  80.0007, 4340,   2799.9,   1.8160,   1.8154,2,  34.7357,2,  34.7357,2,    150.3,2,    150.4,2,   134.68,2,    34.99,2,     0.00,2,     2.46,2,     0.01,2,    0.015,2,    0.006,2,    0.003,2,    0.028,2,   2319.2, 2,   2415.9,2,   -999.0,9,  -999.00,9,     -999,9,   -999.0,9,    0.000,2,    0.000,2,   1.6080,1,-999.0000,9,-999.0000,9,-999.0000,9,    0.000,2,   99.896,2,   1.8154,2
  49NZ20191205,  I08N,    14,  1,     13,   1213,2,20191207,2224,  3.0007,  80.0007, 4340,   2999.8,   1.7119,   1.7116,2,  34.7316,2,  34.7308,2,    150.1,2,    150.3,2,   138.61,2,    35.14,2,     0.01,2,     2.46,2,     0.01,2,    0.016,2,    0.005,2,    0.001,2,    0.007,2,   2324.3, 2,   2418.6,2,   -999.0,9,  -999.00,9,     -999,9,   -999.0,9,    0.000,2,    0.000,2,   1.6370,1,-999.0000,9,-999.0000,9,-999.0000,9,    0.000,2,   99.892,2,   1.7116,2
  49NZ20191205,  I08N,    14,  1,     12,   1212,2,20191207,2224,  3.0007,  80.0007, 4340,   3250.3,   1.5757,   1.5755,2,  34.7263,2,  34.7256,2,    153.2,2,    153.1,2,   141.74,2,    35.13,2,     0.01,2,     2.45,2,     0.02,2,    0.018,2,    0.008,2,    0.001,2,    0.025,2,   2330.9, 2,   2426.2,6,   -999.0,9,  -999.00,9,     -999,9,   -999.0,9,    0.000,2,    0.000,2,   1.6280,1,-999.0000,9,-999.0000,9,-999.0000,9,    0.000,2,   99.898,2,   1.5755,2
  49NZ20191205,  I08N,    14,  1,     11,   1211,2,20191207,2224,  3.0007,  80.0007, 4340,   3500.8,   1.4832,   1.4831,2,  34.7225,2,  34.7219,2,    157.8,2,    157.6,2,   142.62,2,    35.06,2,     0.01,2,     2.44,2,     0.01,2,    0.020,2,    0.009,2,    0.004,2,    0.028,2,   2326.1, 2,   2429.2,2,   -999.0,9,  -999.00,9,     -999,9,   -999.0,9,    0.000,2,    0.000,2,   1.6170,1,-999.0000,9,-999.0000,9,-999.0000,9,    0.000,2,   99.877,2,   1.4831,2
  49NZ20191205,  I08N,    14,  1,     10,   1210,2,20191207,2224,  3.0007,  80.0007, 4340,   3750.4,   1.4343,   1.4342,2,  34.7202,2,  34.7199,2,    162.1,2,    162.1,2,   141.66,2,    34.60,2,     0.01,2,     2.41,2,     0.02,2,    0.021,2,    0.007,2,    0.003,2,    0.007,2,   2326.4, 2,   2429.5,2,   -999.0,9,  -999.00,9,     -999,9,   -999.0,9,    0.000,2,    0.000,2,   1.6090,1,-999.0000,9,-999.0000,9,-999.0000,9,   -0.001,2,   99.854,2,   1.4342,2
  49NZ20191205,  I08N,    14,  1,      9,   1209,2,20191207,2224,  3.0007,  80.0007, 4340,   4000.7,   1.4234,   1.4233,2,  34.7191,2,  34.7190,2,    166.1,2,    166.0,2,   140.22,2,    34.57,2,     0.01,2,     2.39,2,     0.01,2,    0.022,2,    0.009,2,    0.004,2,     0.01,2,   2320.7, 2,   2426.7,2,   -999.0,9,  -999.00,9,     -999,9,   -999.0,9,    0.000,2,    0.000,2,   1.5930,1,-999.0000,9,-999.0000,9,-999.0000,9,   -0.001,2,   99.904,2,   1.4233,2
  49NZ20191205,  I08N,    14,  1,      8,   1208,2,20191207,2224,  3.0007,  80.0007, 4340,   4252.0,   1.4145,   1.4145,2,  34.7181,2,  34.7188,2,    171.0,2,    171.1,2,   137.90,2,    34.21,2,     0.01,2,     2.37,2,     0.02,2,    0.021,2,    0.008,2,    0.005,2,    0.005,2,   2310.2, 6,   2422.2,2,   -999.0,9,  -999.00,9,     -999,9,   -999.0,9,    0.000,2,    0.000,2,   1.5530,1,-999.0000,9,-999.0000,9,-999.0000,9,   -0.001,2,   99.886,2,   1.4145,2
  49NZ20191205,  I08N,    14,  1,      2,  12046,2,20191207,2224,  3.0007,  80.0007, 4340,     64.1,  28.2310,  28.2355,2,  35.0061,2,  34.9976,2,    166.3,2,    167.8,2,     2.04,2,     1.93,2,     0.22,2,     0.31,2,     0.09,2, -999.000,9, -999.000,9, -999.000,9,     -999,9,   1995.1, 2,   2293.2,2,   -999.0,9,     0.49,2,     -999,9,   -999.0,9,    0.000,2,    0.000,2,   1.3960,1,-999.0000,9,-999.0000,9,-999.0000,9,    0.470,2,   98.414,2,  28.2355,2
  49NZ20191205,  I08N,    14,  1,      1,   1201,2,20191207,2224,  3.0007,  80.0007, 4340,   4384.6,   1.4165,   1.4165,2,  34.7177,2,  34.7181,2,    171.5,2,    171.6,2,   137.89,2,    34.14,2,     0.01,2,     2.37,2,     0.02,2,    0.020,2,    0.008,2,    0.000,2,    0.029,2,   2311.9, 2,   2423.5,2,   -999.0,9,  -999.00,9,     -999,9,   -999.0,9,    0.000,2,    0.000,2,   1.5550,1,-999.0000,9,-999.0000,9,-999.0000,9,    0.000,2,   99.822,2,   1.4165,2