BOTTLE,20210412PRINUNIVRMK
EXPOCODE,SECT_ID,STNNBR,CASTNO,SAMPNO,BTLNBR,BTLNBR_FLAG_W,DATE,TIME,LATITUDE,LONGITUDE,DEPTH,CTDPRS,CTDTMP,SBE35,SBE35_FLAG_W,CTDSAL,CTDSAL_FLAG_W,SALNTY,SALNTY_FLAG_W,CTDOXY,CTDOXY_FLAG_W,OXYGEN,OXYGEN_FLAG_W,SILCAT,SILCAT_FLAG_W,NITRAT,NITRAT_FLAG_W,NITRIT,NITRIT_FLAG_W,PHSPHT,PHSPHT_FLAG_W,NH4,NH4_FLAG_W,CFC-11,CFC-11_FLAG_W,CFC-12,CFC-12_FLAG_W,CFC113,CFC113_FLAG_W,SF6,SF6_FLAG_W,TCARBN,TCARBN_FLAG_W,ALKALI,ALKALI_FLAG_W,DOC,DOC_FLAG_W,CHLWELSH,CHLWELSH_FLAG_W,UREA,UREA_FLAG_W,IODATE,IODATE_FLAG_W,PAR,PAR_FLAG_W,PAR,PAR_FLAG_W,CDOM,CDOM_FLAG_W,CDOM300,CDOM300_FLAG_W,CDOM325,CDOM325_FLAG_W,CDOM443,CDOM443_FLAG_W,CTDFLUOR,CTDFLUOR_FLAG_W,CTDXMISS,CTDXMISS_FLAG_W,SBE35,SBE35_FLAG_W
,,,,,,,,,,,METERS,DBAR,ITS-90,,,PSS-78,,PSS-78,,UMOL/KG,,UMOL/KG,,UMOL/KG,,UMOL/KG,,UMOL/KG,,UMOL/KG,,UMOL/KG,,PMOL/KG,,PMOL/KG,,PMOL/KG,,FMOL/KG,,UMOL/KG,,UMOL/KG,,UMOL/KG,,UG/KG,,nMOL/L,,nMOL/L,,VOLTS,,VOLTS,,MG/M^3,,1/M,,1/M,,1/M,,MG/M^3,,%TRANS,,,
  49NZ20191205,  I08N,     7,  1,     36,   1236,2,20191206,1151,  5.3329,  79.9959, 4147,      9.9,  29.1539,  29.1516,2,  33.1960,2,  33.2063,2,    196.8,2,    196.5,2,     1.67,2,     0.01,2,     0.02,2,     0.03,2,     0.05,2,    1.371,2,    0.899,2,    0.113,2,    1.638,2,   1891.0, 2,   2201.6,2,   -999.0,9,     0.20,2,     58.1,2,    271.4,2,    0.000,2,    0.000,2,   1.2180,1,-999.0000,9,-999.0000,9,-999.0000,9,    0.176,2,   97.873,2,  29.1516,2
  49NZ20191205,  I08N,     7,  1,     35,   1235,2,20191206,1151,  5.3329,  79.9959, 4147,     50.0,  25.9627,  25.9438,2,  34.6953,2,  34.6917,2,     71.6,2,     72.5,2,     7.19,2,    14.03,2,     0.19,2,     1.06,2,     0.02,2,    1.385,2,    0.871,2,    0.081,2,    1.226,2,   2080.8, 2,   2275.1,2,   -999.0,9,     0.46,2,     76.4,2,    325.5,2,    0.000,2,    0.000,2,   1.6400,1,-999.0000,9,-999.0000,9,-999.0000,9,    0.683,2,   98.533,2,  25.9438,2
  49NZ20191205,  I08N,     7,  1,     34,   1234,2,20191206,1151,  5.3329,  79.9959, 4147,    100.5,  20.1077,  20.1065,2,  34.9054,2,  34.9068,2,     28.0,2,     28.1,2,    18.60,2,    24.24,2,     0.02,2,     1.76,2,     0.05,2,    1.240,2,    0.775,2,    0.018,2,    0.825,2,   2172.6, 2,   2290.4,2,   -999.0,9,     0.04,2,     89.4,2,    409.5,2,    0.000,2,    0.000,2,   1.6550,1,-999.0000,9,-999.0000,9,-999.0000,9,    0.038,2,   99.484,2,  20.1065,2
  49NZ20191205,  I08N,     7,  1,     33,   1233,2,20191206,1151,  5.3329,  79.9959, 4147,    150.3,  15.9388,  15.9398,2,  34.9467,2,  34.9557,2,     13.2,2,     13.1,2,    27.18,2,    29.51,2,     0.01,2,     2.15,2,     0.02,2,    1.114,2,    0.650,2,    0.003,2,    0.521,2,   2224.9, 2,   2303.3,2,   -999.0,9,     0.01,2,     71.1,2,    449.5,2,    0.000,2,    0.000,2,   1.6780,1,-999.0000,9,-999.0000,9,-999.0000,9,   -0.006,2,   99.575,2,  15.9398,2
  49NZ20191205,  I08N,     7,  1,     32,   1232,2,20191206,1151,  5.3329,  79.9959, 4147,    199.1,  13.3815,  13.3843,2,  35.0439,2,  35.0468,2,     17.2,2,     16.9,2,    29.77,2,    31.21,2,     0.01,2,     2.24,2,     0.02,2,    1.122,2,    0.626,2,    0.011,2,    0.409,2,   2247.2, 2,   2310.4,2,   -999.0,9,     0.01,2,     66.5,2,    454.1,2,    0.000,2,    0.000,2,   1.6690,1,-999.0000,9,-999.0000,9,-999.0000,9,   -0.002,2,   99.568,2,  13.3843,2
  49NZ20191205,  I08N,     7,  1,     31,   1231,2,20191206,1151,  5.3329,  79.9959, 4147,    250.2,  12.4111,  12.4106,2,  35.1419,2,  35.1405,2,     40.1,2,     40.4,2,    25.81,2,    29.65,2,     0.01,2,     2.08,2,     0.02,2,    1.493,2,    0.820,2,    0.015,2,    0.492,2,   2242.9, 2,   2310.5,2,   -999.0,9,     0.01,2,     71.8,2,    450.9,2,    0.000,2,    0.000,2,   1.6320,1,-999.0000,9,-999.0000,9,-999.0000,9,    0.003,2,   99.524,2,  12.4106,2
  49NZ20191205,  I08N,     7,  1,     30,   1230,2,20191206,1151,  5.3329,  79.9959, 4147,    298.1,  11.9016,  11.9020,2,  35.1160,2,  35.1165,2,     53.5,2,     52.4,2,    26.11,2,    29.34,2,     0.01,2,     2.04,2,     0.03,2,    1.542,2,    0.836,2,    0.010,2,    0.476,2,   2238.3, 2,   2313.8,2,   -999.0,9,  -999.00,9,     77.2,2,    413.0,2,    0.000,2,    0.000,2,   1.6010,1,-999.0000,9,-999.0000,9,-999.0000,9,    0.004,2,   99.495,2,  11.9020,2
  49NZ20191205,  I08N,     7,  1,     29,   1229,2,20191206,1151,  5.3329,  79.9959, 4147,    400.2,  10.9782,  10.9781,2,  35.1004,2,  35.0996,2,     45.9,2,     45.3,2,    32.46,2,    31.65,2,     0.01,2,     2.22,2,     0.04,2,    1.164,2,    0.620,2,    0.015,2,    0.323,2,   2249.3, 2,   2317.0,2,   -999.0,9,  -999.00,9,    107.7,2,    439.1,2,    0.000,2,    0.000,2,   1.6120,1,-999.0000,9,-999.0000,9,-999.0000,9,    0.005,2,   99.573,2,  10.9781,2
  49NZ20191205,  I08N,     7,  1,     28,   1228,2,20191206,1151,  5.3329,  79.9959, 4147,    499.4,  10.3271,  10.3275,2,  35.0821,2,  35.0826,2,     35.5,2,     35.6,2,    39.95,2,    33.66,2,     0.01,2,     2.41,2,     0.04,2,    0.769,2,    0.409,2,    0.010,2,    0.204,2,   2263.4, 2,   2323.8,2,   -999.0,9,  -999.00,9,    105.4,2,    449.8,2,    0.000,2,    0.000,2,   1.6420,1,-999.0000,9,-999.0000,9,-999.0000,9,    0.006,2,   99.667,2,  10.3275,2
  49NZ20191205,  I08N,     7,  1,     27,   1227,2,20191206,1151,  5.3329,  79.9959, 4147,    600.3,   9.3766,   9.3770,2,  35.0392,2,  35.0373,2,     20.2,2,     19.6,2,    54.31,2,    36.56,2,     0.01,2,     2.65,2,     0.05,2,    0.297,2,    0.163,2,    0.006,2,    0.089,2,   2286.9, 2,   2334.6,2,   -999.0,9,  -999.00,9,     68.8,2,    491.7,2,    0.000,2,    0.000,2,   1.7020,1,-999.0000,9,-999.0000,9,-999.0000,9,    0.005,2,   99.701,2,   9.3770,2
  49NZ20191205,  I08N,     7,  1,     26,   1226,2,20191206,1151,  5.3329,  79.9959, 4147,    700.9,   8.4847,   8.4845,2,  35.0081,2,  35.0104,2,     25.6,2,     25.6,2,    63.90,2,    37.10,2,     0.01,2,     2.71,2,     0.07,2,    0.165,2,    0.090,2,    0.005,2,    0.026,2,   2295.2, 6,   2345.3,2,   -999.0,9,  -999.00,9,     61.9,2,    479.4,2,    0.000,2,    0.000,2,   1.7020,1,-999.0000,9,-999.0000,9,-999.0000,9,    0.005,2,   99.733,2,   8.4845,2
  49NZ20191205,  I08N,     7,  1,     25,   1225,2,20191206,1151,  5.3329,  79.9959, 4147,    799.1,   7.9550,   7.9569,2,  34.9926,2,  34.9922,2,     31.6,2,     31.7,2,    69.93,2,    37.20,2,     0.01,2,     2.72,2,     0.06,2,    0.122,2,    0.066,2,    0.006,2,    0.051,2,   2301.9, 2,   2352.3,2,   -999.0,9,  -999.00,9,     68.8,2,    479.1,2,    0.000,2,    0.000,2,   1.7240,1,-999.0000,9,-999.0000,9,-999.0000,9,    0.003,2,   99.754,2,   7.9569,2
  49NZ20191205,  I08N,     7,  1,     24,   1224,2,20191206,1151,  5.3329,  79.9959, 4147,    899.4,   7.3237,   7.3254,2,  34.9632,2,  34.9644,2,     36.4,2,     35.7,2,    77.06,2,    37.83,2,     0.01,2,     2.76,2,     0.15,2,    0.077,2,    0.042,2,    0.011,2,    0.024,2,   2306.9, 2,   2353.5,2,   -999.0,9,  -999.00,9,     75.6,2,    413.8,2,    0.000,2,    0.000,2,   1.7210,1,-999.0000,9,-999.0000,9,-999.0000,9,    0.003,2,   99.783,2,   7.3254,2
  49NZ20191205,  I08N,     7,  1,     23,   1223,2,20191206,1151,  5.3329,  79.9959, 4147,    999.6,   6.8465,   6.8452,2,  34.9540,2,  34.9539,2,     44.2,2,     44.0,2,    82.15,2,    37.81,2,     0.01,2,     2.76,2,     0.05,2,    0.062,2,    0.034,2,    0.001,2,    0.028,2,   2309.4, 2,   2362.7,2,   -999.0,9,  -999.00,9,     87.1,2,    444.5,2,    0.000,2,    0.000,2,   1.7180,1,-999.0000,9,-999.0000,9,-999.0000,9,    0.002,2,   99.834,2,   6.8452,2
  49NZ20191205,  I08N,     7,  1,     22,   1222,2,20191206,1151,  5.3329,  79.9959, 4147,   1199.1,   5.8483,   5.8488,2,  34.9099,2,  34.9103,2,     56.6,2,     56.2,2,    93.94,2,    37.82,2,     0.01,2,     2.77,2,     0.02,2,    0.037,2,    0.016,2,    0.002,2,    0.016,2,   2316.4, 2,   2373.4,6,   -999.0,9,  -999.00,9,    144.4,2,    471.7,2,    0.000,2,    0.000,2,   1.7220,1,-999.0000,9,-999.0000,9,-999.0000,9,    0.002,2,   99.840,2,   5.8488,2
  49NZ20191205,  I08N,     7,  1,     21,   1221,2,20191206,1151,  5.3329,  79.9959, 4147,   1398.6,   4.7769,   4.7843,2,  34.8630,2,  34.8638,2,     74.0,2,     73.7,2,   105.54,2,    37.70,2,     0.01,2,     2.76,2,     0.03,2,    0.026,2,    0.010,2,    0.000,2,    0.018,2,   2322.4, 2,   2383.8,2,   -999.0,9,  -999.00,9,     98.6,2,    493.8,2,    0.000,2,    0.000,2,   1.7270,1,-999.0000,9,-999.0000,9,-999.0000,9,    0.001,2,   99.874,2,   4.7843,2
  49NZ20191205,  I08N,     7,  1,     20,   1220,2,20191206,1151,  5.3329,  79.9959, 4147,   1599.7,   3.8368,   3.8362,2,  34.8254,2,  34.8257,2,     92.2,2,     91.8,2,   115.76,2,    37.36,2,     0.01,2,     2.71,2,     0.03,2,    0.021,2,    0.009,2,    0.001,2,    0.014,2,   2336.9, 3,   2393.4,2,   -999.0,9,  -999.00,9,     62.7,2,    460.7,2,    0.000,2,    0.000,2,   1.7170,1,-999.0000,9,-999.0000,9,-999.0000,9,    0.001,2,   99.880,2,   3.8362,2
  49NZ20191205,  I08N,     7,  1,     19,   1219,2,20191206,1151,  5.3329,  79.9959, 4147,   1800.4,   3.3364,   3.3362,2,  34.8055,2,  34.8061,2,    104.4,2,    104.2,2,   120.57,2,    36.90,2,     0.01,2,     2.66,2,     0.03,2,    0.017,2,    0.008,2,    0.001,2,     0.02,2,   2324.9, 2,   2398.9,2,   -999.0,9,  -999.00,9,     60.4,2,    485.0,2,    0.000,2,    0.000,2,   1.7150,1,-999.0000,9,-999.0000,9,-999.0000,9,    0.001,2,   99.897,2,   3.3362,2
  49NZ20191205,  I08N,     7,  1,     18,   1218,2,20191206,1151,  5.3329,  79.9959, 4147,   1998.5,   2.8426,   2.8435,2,  34.7832,2,  34.7838,2,    119.6,2,    119.4,2,   124.11,2,    36.17,2,     0.01,2,     2.59,2,     0.01,2,    0.019,2,    0.008,2,    0.004,2,    0.028,2,   2322.9, 2,   2405.8,2,   -999.0,9,  -999.00,9,     -999,9,   -999.0,9,    0.000,2,    0.000,2,   1.6890,1,-999.0000,9,-999.0000,9,-999.0000,9,    0.000,2,   99.909,2,   2.8435,2
  49NZ20191205,  I08N,     7,  1,     17,   1217,2,20191206,1151,  5.3329,  79.9959, 4147,   2200.0,   2.4951,   2.4935,2,  34.7661,2,  34.7658,2,    124.1,2,    124.2,2,   131.22,2,    36.20,2,     0.01,2,     2.60,2,     0.05,2,    0.020,2,    0.007,2,    0.007,2,     0.01,2,   2328.0, 2,   2412.5,2,   -999.0,9,  -999.00,9,     -999,9,   -999.0,9,    0.000,2,    0.000,2,   1.6960,1,-999.0000,9,-999.0000,9,-999.0000,9,    0.000,2,   99.901,2,   2.4935,2
  49NZ20191205,  I08N,     7,  1,     16,   1216,2,20191206,1151,  5.3329,  79.9959, 4147,   2400.4,   2.2207,   2.2208,2,  34.7537,2,  34.7537,2,    132.5,2,    132.3,2,   133.86,2,    36.23,2,     0.01,2,     2.56,2,     0.03,2,    0.021,2,    0.010,2,    0.003,2,    0.017,2,   2326.8, 6,   2415.2,2,   -999.0,9,  -999.00,9,     -999,9,   -999.0,9,    0.000,2,    0.000,2,   1.6810,1,-999.0000,9,-999.0000,9,-999.0000,9,    0.001,2,   99.901,2,   2.2208,2
  49NZ20191205,  I08N,     7,  1,     15,   1215,2,20191206,1151,  5.3329,  79.9959, 4147,   2600.0,   2.0259,   2.0261,2,  34.7448,2,  34.7448,2,    139.4,2,    139.4,2,   135.36,2,    35.72,2,     0.01,2,     2.52,2,     0.04,2,    0.023,2,    0.010,2,    0.002,2,    0.016,2,   2326.3, 2,   2418.3,2,   -999.0,9,  -999.00,9,     -999,9,   -999.0,9,    0.000,2,    0.000,2,   1.6730,1,-999.0000,9,-999.0000,9,-999.0000,9,    0.000,2,   99.911,2,   2.0261,2
  49NZ20191205,  I08N,     7,  1,     14,   1214,2,20191206,1151,  5.3329,  79.9959, 4147,   2802.2,   1.8573,   1.8586,2,  34.7377,2,  34.7379,2,    145.0,2,    145.5,2,   137.00,2,    35.56,2,     0.01,2,     2.50,2,     0.04,2,    0.020,2,    0.008,2,    0.001,2,    0.021,2,   2324.6, 2,   2418.3,2,   -999.0,9,  -999.00,9,     -999,9,   -999.0,9,    0.000,2,    0.000,2,   1.6610,1,-999.0000,9,-999.0000,9,-999.0000,9,    0.000,2,   99.924,2,   1.8586,2
  49NZ20191205,  I08N,     7,  1,     13,   1213,2,20191206,1151,  5.3329,  79.9959, 4147,   2997.4,   1.7213,   1.7217,2,  34.7320,2,  34.7328,2,    148.4,2,    148.4,2,   139.74,2,    35.25,2,     0.02,2,     2.48,2,     0.05,2,    0.025,2,    0.009,2,    0.006,2,     0.01,2,   2326.0, 2,   2421.5,2,   -999.0,9,  -999.00,9,     -999,9,   -999.0,9,    0.000,2,    0.000,2,   1.6750,1,-999.0000,9,-999.0000,9,-999.0000,9,   -0.001,2,   99.922,2,   1.7217,2
  49NZ20191205,  I08N,     7,  1,     12,   1212,2,20191206,1151,  5.3329,  79.9959, 4147,   3249.2,   1.5880,   1.5882,2,  34.7267,2,  34.7272,2,    151.0,2,    150.8,2,   142.86,2,    35.31,2,     0.01,2,     2.47,2,     0.03,2,    0.020,2,    0.007,2,    0.003,2,    0.006,2,   2329.6, 2,   2427.4,6,   -999.0,9,  -999.00,9,     -999,9,   -999.0,9,    0.000,2,    0.000,2,   1.6690,1,-999.0000,9,-999.0000,9,-999.0000,9,    0.000,2,   99.928,2,   1.5882,2
  49NZ20191205,  I08N,     7,  1,     11,   1211,2,20191206,1151,  5.3329,  79.9959, 4147,   3498.9,   1.4664,   1.4666,2,  34.7219,2,  34.7223,2,    157.2,2,    157.2,2,   143.47,2,    35.18,2,     0.01,2,     2.45,2,     0.04,2,    0.024,2,    0.009,2,    0.005,2,    0.033,2,   2329.7, 2,   2432.2,2,   -999.0,9,  -999.00,9,     -999,9,   -999.0,9,    0.000,2,    0.000,2,   1.6490,1,-999.0000,9,-999.0000,9,-999.0000,9,    0.000,2,   99.922,2,   1.4666,2
  49NZ20191205,  I08N,     7,  1,     10,   1210,2,20191206,1151,  5.3329,  79.9959, 4147,   3749.5,   1.4226,   1.4227,2,  34.7196,2,  34.7195,2,    161.7,2,    162.1,2,   143.02,2,    35.06,2,     0.01,2,     2.42,2,     0.04,2,    0.030,2,    0.011,2,    0.008,2,    0.038,2,   2324.6, 2,   2429.8,2,   -999.0,9,  -999.00,9,     -999,9,   -999.0,9,    0.000,2,    0.000,2,   1.6300,1,-999.0000,9,-999.0000,9,-999.0000,9,    0.000,2,   99.909,2,   1.4227,2
  49NZ20191205,  I08N,     7,  1,      9,   1209,2,20191206,1151,  5.3329,  79.9959, 4147,   4000.0,   1.4204,   1.4204,2,  34.7188,2,  34.7183,2,    163.4,2,    163.6,2,   143.00,2,    35.06,2,     0.01,2,     2.42,2,     0.03,2,    0.030,2,    0.011,2,    0.004,2,    0.025,2,   2324.9, 2,   2430.0,2,   -999.0,9,  -999.00,9,     -999,9,   -999.0,9,    0.000,2,    0.000,2,   1.6350,1,-999.0000,9,-999.0000,9,-999.0000,9,    0.000,2,   99.861,2,   1.4204,2
  49NZ20191205,  I08N,     7,  1,      8,   1208,2,20191206,1151,  5.3329,  79.9959, 4147,    297.4,  11.9015,  11.9019,2,  35.1160,2,-999.0000,9,     53.5,2,   -999.0,9,  -999.00,9,  -999.00,9,  -999.00,9,  -999.00,9,     -999,9, -999.000,9, -999.000,9, -999.000,9,     -999,9,   -999.0, 9,   -999.0,9,   -999.0,9,  -999.00,9,     -999,9,   -999.0,9,    0.000,2,    0.000,2,   1.5930,1,-999.0000,9,-999.0000,9,-999.0000,9,    0.005,2,   99.501,2,  11.9019,2
  49NZ20191205,  I08N,     7,  1,      7,   1207,2,20191206,1151,  5.3329,  79.9959, 4147,    499.2,  10.3274,  10.3276,2,  35.0822,2,-999.0000,9,     35.4,2,   -999.0,9,  -999.00,9,  -999.00,9,  -999.00,9,  -999.00,9,     -999,9, -999.000,9, -999.000,9, -999.000,9,     -999,9,   -999.0, 9,   -999.0,9,   -999.0,9,  -999.00,9,     -999,9,   -999.0,9,    0.000,2,    0.000,2,   1.6390,1,-999.0000,9,-999.0000,9,-999.0000,9,    0.006,2,   99.678,2,  10.3276,2
  49NZ20191205,  I08N,     7,  1,      6,   1206,2,20191206,1151,  5.3329,  79.9959, 4147,    998.7,   6.8479,   6.8478,2,  34.9541,2,-999.0000,9,     44.2,2,   -999.0,9,  -999.00,9,  -999.00,9,  -999.00,9,  -999.00,9,     -999,9, -999.000,9, -999.000,9, -999.000,9,     -999,9,   -999.0, 9,   -999.0,9,   -999.0,9,  -999.00,9,     -999,9,   -999.0,9,    0.000,2,    0.000,2,   1.7130,1,-999.0000,9,-999.0000,9,-999.0000,9,    0.003,2,   99.815,2,   6.8478,2
  49NZ20191205,  I08N,     7,  1,      5,   1205,2,20191206,1151,  5.3329,  79.9959, 4147,   1998.3,   2.8470,   2.8471,2,  34.7834,2,-999.0000,9,    119.5,2,   -999.0,9,  -999.00,9,  -999.00,9,  -999.00,9,  -999.00,9,     -999,9, -999.000,9, -999.000,9, -999.000,9,     -999,9,   -999.0, 9,   -999.0,9,   -999.0,9,  -999.00,9,     -999,9,   -999.0,9,    0.000,2,    0.000,2,   1.6890,1,-999.0000,9,-999.0000,9,-999.0000,9,    0.000,2,   99.909,2,   2.8471,2
  49NZ20191205,  I08N,     7,  1,      4,   1204,2,20191206,1151,  5.3329,  79.9959, 4147,   2997.5,   1.7268,   1.7273,2,  34.7321,2,-999.0000,9,    148.2,2,   -999.0,9,  -999.00,9,  -999.00,9,  -999.00,9,  -999.00,9,     -999,9, -999.000,9, -999.000,9, -999.000,9,     -999,9,   -999.0, 9,   -999.0,9,   -999.0,9,  -999.00,9,     -999,9,   -999.0,9,    0.000,2,    0.000,2,   1.6690,1,-999.0000,9,-999.0000,9,-999.0000,9,    0.000,2,   99.924,2,   1.7273,2
  49NZ20191205,  I08N,     7,  1,      3,   1203,2,20191206,1151,  5.3329,  79.9959, 4147,   4002.5,   1.4208,   1.4208,2,  34.7188,2,-999.0000,9,    163.4,2,   -999.0,9,  -999.00,9,  -999.00,9,  -999.00,9,  -999.00,9,     -999,9, -999.000,9, -999.000,9, -999.000,9,     -999,9,   -999.0, 9,   -999.0,9,   -999.0,9,  -999.00,9,     -999,9,   -999.0,9,    0.000,2,    0.000,2,   1.6270,1,-999.0000,9,-999.0000,9,-999.0000,9,    0.000,2,   99.863,2,   1.4208,2
  49NZ20191205,  I08N,     7,  1,      2,  12046,2,20191206,1151,  5.3329,  79.9959, 4147,   4195.5,   1.3987,   1.3987,2,  34.7176,2,-999.0000,9,    169.7,2,   -999.0,9,  -999.00,9,  -999.00,9,  -999.00,9,  -999.00,9,     -999,9, -999.000,9, -999.000,9, -999.000,9,     -999,9,   -999.0, 9,   -999.0,9,   -999.0,9,  -999.00,9,     -999,9,   -999.0,9,    0.000,2,    0.000,2,   1.5860,1,-999.0000,9,-999.0000,9,-999.0000,9,    0.001,2,   99.831,2,   1.3987,2
  49NZ20191205,  I08N,     7,  1,      1,   1201,2,20191206,1151,  5.3329,  79.9959, 4147,   4195.2,   1.3987,   1.3988,2,  34.7176,2,  34.7190,2,    169.7,2,    169.4,2,   139.73,2,    34.86,2,     0.01,2,     2.40,2,     0.02,2,    0.022,2,    0.009,2,    0.005,2,    0.024,2,   2315.7, 2,   2425.2,2,   -999.0,9,  -999.00,9,     -999,9,   -999.0,9,    0.000,2,    0.000,2,   1.5850,1,-999.0000,9,-999.0000,9,-999.0000,9,    0.001,2,   99.844,2,   1.3988,2