BOTTLE,20210412PRINUNIVRMK
EXPOCODE,SECT_ID,STNNBR,CASTNO,SAMPNO,BTLNBR,BTLNBR_FLAG_W,DATE,TIME,LATITUDE,LONGITUDE,DEPTH,CTDPRS,CTDTMP,SBE35,SBE35_FLAG_W,CTDSAL,CTDSAL_FLAG_W,SALNTY,SALNTY_FLAG_W,CTDOXY,CTDOXY_FLAG_W,OXYGEN,OXYGEN_FLAG_W,SILCAT,SILCAT_FLAG_W,NITRAT,NITRAT_FLAG_W,NITRIT,NITRIT_FLAG_W,PHSPHT,PHSPHT_FLAG_W,NH4,NH4_FLAG_W,CFC-11,CFC-11_FLAG_W,CFC-12,CFC-12_FLAG_W,CFC113,CFC113_FLAG_W,SF6,SF6_FLAG_W,TCARBN,TCARBN_FLAG_W,ALKALI,ALKALI_FLAG_W,DOC,DOC_FLAG_W,CHLWELSH,CHLWELSH_FLAG_W,UREA,UREA_FLAG_W,IODATE,IODATE_FLAG_W,PAR,PAR_FLAG_W,PAR,PAR_FLAG_W,CDOM,CDOM_FLAG_W,CDOM300,CDOM300_FLAG_W,CDOM325,CDOM325_FLAG_W,CDOM443,CDOM443_FLAG_W,CTDFLUOR,CTDFLUOR_FLAG_W,CTDXMISS,CTDXMISS_FLAG_W,SBE35,SBE35_FLAG_W
,,,,,,,,,,,METERS,DBAR,ITS-90,,,PSS-78,,PSS-78,,UMOL/KG,,UMOL/KG,,UMOL/KG,,UMOL/KG,,UMOL/KG,,UMOL/KG,,UMOL/KG,,PMOL/KG,,PMOL/KG,,PMOL/KG,,FMOL/KG,,UMOL/KG,,UMOL/KG,,UMOL/KG,,UG/KG,,nMOL/L,,nMOL/L,,VOLTS,,VOLTS,,MG/M^3,,1/M,,1/M,,1/M,,MG/M^3,,%TRANS,,,
  49NZ20191205,  I08N,    46,  1,     36,   1236,2,20191216,0029, -9.0004,  79.9991, 5207,      9.9,  27.9567,  27.9567,2,  34.5079,2,  34.5071,2,    200.1,2,    199.9,2,     1.60,2,     0.04,2,     0.00,2,     0.07,2,     0.03,2,    1.381,2,    0.944,2,    0.117,2,    1.581,2,   1962.4, 2,   2266.0,2,   -999.0,9,     0.08,2,     -999,9,    300.0,2,  547.016,2,  547.016,2,   1.0670,1,-999.0000,9,-999.0000,9,-999.0000,9,    0.032,2,   98.735,2,  27.9567,2
  49NZ20191205,  I08N,    46,  1,     35,   1235,2,20191216,0029, -9.0004,  79.9991, 5207,     50.2,  27.8676,  27.8660,2,  34.5125,2,  34.5114,2,    200.4,2,    200.4,2,     1.61,2,     0.03,2,     0.00,2,     0.07,2,     0.02,2,    1.360,2,    0.948,2,    0.114,2,    1.601,2,   1959.5, 2,   2270.3,2,   -999.0,9,     0.12,2,     -999,9,    299.7,2,   81.328,2,   81.328,2,   1.1040,1,-999.0000,9,-999.0000,9,-999.0000,9,    0.098,2,   98.743,2,  27.8660,2
  49NZ20191205,  I08N,    46,  1,     34,   1234,2,20191216,0029, -9.0004,  79.9991, 5207,     99.1,  26.8622,  26.8653,2,  34.5056,2,  34.5066,2,    195.6,2,    195.5,2,     2.12,2,     0.08,2,     0.01,2,     0.12,2,     0.04,2,    1.339,2,    0.968,2,    0.092,2,    1.663,2,   1967.9, 2,   2265.4,2,   -999.0,9,     0.34,2,     -999,9,    314.0,2,    9.762,2,    9.762,2,   1.2240,1,-999.0000,9,-999.0000,9,-999.0000,9,    0.329,2,   98.745,2,  26.8653,2
  49NZ20191205,  I08N,    46,  1,     33,   1233,2,20191216,0029, -9.0004,  79.9991, 5207,    149.5,  18.5534,  18.5596,2,  34.7020,2,  34.6910,2,     83.5,2,     86.9,2,    20.46,2,    19.61,2,     0.02,2,     1.36,2,     0.03,2,    1.296,2,    0.978,2,    0.009,2,    1.056,2,   2140.8, 2,   2285.1,2,   -999.0,9,     0.09,2,     -999,9,    416.7,2,    0.000,2,    0.000,2,   1.4710,1,-999.0000,9,-999.0000,9,-999.0000,9,    0.162,2,   99.439,2,  18.5596,2
  49NZ20191205,  I08N,    46,  1,     32,   1232,2,20191216,0029, -9.0004,  79.9991, 5207,    200.1,  14.0403,  14.0559,2,  34.6607,2,  34.6613,2,     79.3,2,     79.7,2,    31.11,2,    24.74,2,     0.00,2,     1.73,2,     0.02,2,    1.408,2,    0.871,2,    0.008,2,    0.726,2,   2186.7, 2,   2296.0,2,   -999.0,9,     0.01,2,     -999,9,    440.0,2,    0.000,2,    0.000,2,   1.5020,1,-999.0000,9,-999.0000,9,-999.0000,9,    0.000,2,   99.631,2,  14.0559,2
  49NZ20191205,  I08N,    46,  1,     31,   1231,2,20191216,0029, -9.0004,  79.9991, 5207,    250.2,  12.8595,  12.8590,2,  34.8176,2,  34.8207,2,     64.1,2,     64.1,2,    30.84,2,    27.43,2,     0.00,2,     1.90,2,     0.01,2,    1.447,2,    0.828,2,    0.010,2,    0.532,2,   2210.2, 2,   2307.5,2,   -999.0,9,     0.01,2,     -999,9,    416.5,2,    0.000,2,    0.000,2,   1.5130,1,-999.0000,9,-999.0000,9,-999.0000,9,   -0.004,2,   99.635,2,  12.8590,2
  49NZ20191205,  I08N,    46,  1,     30,   1230,2,20191216,0029, -9.0004,  79.9991, 5207,    280.1,  12.2800,  12.2797,2,  34.8841,2,  34.8906,2,     60.9,2,     61.7,2,    29.09,2,    28.34,2,     0.00,2,     1.94,2,     0.02,2,    1.435,2,    0.814,2,    0.007,2,    0.432,2,   2223.4, 2,   2307.8,2,   -999.0,9,  -999.00,9,     -999,9,    435.5,2,    0.000,2,    0.000,2,   1.5200,1,-999.0000,9,-999.0000,9,-999.0000,9,   -0.002,2,   99.631,2,  12.2797,2
  49NZ20191205,  I08N,    46,  1,     29,   1229,2,20191216,0029, -9.0004,  79.9991, 5207,    371.9,  10.6699,  10.6747,2,  34.8794,2,  34.8749,2,    106.4,2,    106.5,2,    24.63,2,    26.42,2,     0.00,2,     1.79,2,     0.01,2,    1.849,2,    1.007,2,    0.028,2,    0.604,2,   2203.1, 2,   2305.3,2,   -999.0,9,  -999.00,9,     -999,9,    447.0,2,    0.000,2,    0.000,2,   1.4220,1,-999.0000,9,-999.0000,9,-999.0000,9,    0.002,2,   99.684,2,  10.6747,2
  49NZ20191205,  I08N,    46,  1,     28,   1228,2,20191216,0029, -9.0004,  79.9991, 5207,    470.4,   9.3281,   9.3283,2,  34.7996,2,  34.7978,2,    102.4,2,    101.0,2,    33.27,2,    29.66,2,     0.00,2,     2.03,2,     0.01,2,    1.338,2,    0.721,2,    0.021,2,    0.356,2,   2220.6, 2,   2311.8,2,   -999.0,9,  -999.00,9,     -999,9,    433.5,2,    0.000,2,    0.000,2,   1.4270,1,-999.0000,9,-999.0000,9,-999.0000,9,    0.001,2,   99.743,2,   9.3283,2
  49NZ20191205,  I08N,    46,  1,     27,   1227,2,20191216,0029, -9.0004,  79.9991, 5207,    570.9,   8.3617,   8.3687,2,  34.7884,2,  34.7886,2,     82.4,2,     81.1,2,    48.00,2,    32.97,2,     0.01,2,     2.33,2,     0.01,2,    0.618,2,    0.349,2,    0.014,2,    0.142,2,   2248.6, 2,   2324.6,2,   -999.0,9,  -999.00,9,     -999,9,    445.7,2,    0.000,2,    0.000,2,   1.4750,1,-999.0000,9,-999.0000,9,-999.0000,9,    0.002,2,   99.776,2,   8.3687,2
  49NZ20191205,  I08N,    46,  1,     26,   1226,2,20191216,0029, -9.0004,  79.9991, 5207,    671.3,   7.6077,   7.6109,2,  34.7756,2,  34.7766,2,     73.6,2,     72.6,2,    59.82,2,    34.71,2,     0.00,2,     2.48,2,        0,2,    0.326,2,    0.189,2,    0.005,2,    0.071,2,   2266.2, 6,   2335.2,2,   -999.0,9,  -999.00,9,     -999,9,    456.0,2,    0.000,2,    0.000,2,   1.5270,1,-999.0000,9,-999.0000,9,-999.0000,9,    0.000,2,   99.812,2,   7.6109,2
  49NZ20191205,  I08N,    46,  1,     25,   1225,2,20191216,0029, -9.0004,  79.9991, 5207,    768.4,   6.8665,   6.8719,2,  34.7609,2,  34.7611,2,     69.1,2,     69.0,2,    72.61,2,    36.03,2,     0.01,2,     2.59,2,     0.06,2,    0.160,2,    0.091,2,    0.001,2,    0.013,2,   2284.6, 2,   2348.1,2,   -999.0,9,  -999.00,9,     -999,9,    444.1,2,    0.000,2,    0.000,2,   1.5440,1,-999.0000,9,-999.0000,9,-999.0000,9,    0.001,2,   99.821,2,   6.8719,2
  49NZ20191205,  I08N,    46,  1,     24,   1224,2,20191216,0029, -9.0004,  79.9991, 5207,    869.9,   6.2190,   6.2167,2,  34.7367,2,  34.7374,2,     72.0,2,     71.9,2,    82.10,2,    36.51,2,     0.01,2,     2.64,2,     0.04,2,    0.101,2,    0.059,2,    0.003,2,    0.002,2,   2290.3, 2,   2356.1,2,   -999.0,9,  -999.00,9,     -999,9,    461.5,2,    0.000,2,    0.000,2,   1.5510,1,-999.0000,9,-999.0000,9,-999.0000,9,    0.000,2,   99.842,2,   6.2167,2
  49NZ20191205,  I08N,    46,  1,     23,   1223,2,20191216,0029, -9.0004,  79.9991, 5207,    969.8,   5.5998,   5.6080,2,  34.7261,2,  34.7275,2,     77.6,2,     78.0,2,    89.98,2,    36.75,2,     0.00,2,     2.66,2,     0.03,2,    0.068,2,    0.038,2,    0.002,2,    0.017,2,   2298.6, 2,   2363.7,2,   -999.0,9,  -999.00,9,     -999,9,    459.8,2,    0.000,2,    0.000,2,   1.5610,1,-999.0000,9,-999.0000,9,-999.0000,9,    0.000,2,   99.848,2,   5.6080,2
  49NZ20191205,  I08N,    46,  1,     22,   1222,2,20191216,0029, -9.0004,  79.9991, 5207,   1128.1,   5.0335,   5.0328,2,  34.7268,2,  34.7283,2,     82.6,2,     82.7,2,    98.22,2,    37.00,2,     0.00,2,     2.68,2,     0.03,2,    0.035,2,    0.019,2,    0.006,2,    0.007,2,   2306.3, 2,   2371.4,6,   -999.0,9,  -999.00,9,     -999,9,    466.3,2,    0.000,2,    0.000,2,   1.5760,1,-999.0000,9,-999.0000,9,-999.0000,9,    0.000,2,   99.861,2,   5.0328,2
  49NZ20191205,  I08N,    46,  1,     21,   1221,2,20191216,0029, -9.0004,  79.9991, 5207,   1330.2,   4.3599,   4.3628,2,  34.7444,2,  34.7433,2,     93.3,2,     93.5,2,   104.11,2,    36.91,2,     0.00,2,     2.66,2,     0.01,2,    0.018,2,    0.008,2,    0.001,2,    0.007,2,   2309.9, 2,   2379.4,2,   -999.0,9,  -999.00,9,     -999,9,    464.5,2,    0.000,2,    0.000,2,   1.5660,1,-999.0000,9,-999.0000,9,-999.0000,9,    0.000,2,   99.871,2,   4.3628,2
  49NZ20191205,  I08N,    46,  1,     19,   1219,2,20191216,0029, -9.0004,  79.9991, 5207,   1728.2,   3.1501,   3.1498,2,  34.7483,2,  34.7480,2,    121.2,2,    121.0,2,   113.82,2,    36.05,2,     0.01,2,     2.59,2,     0.01,2,    0.010,2,    0.004,2,    0.000,2,    0.007,2,   2313.1, 2,   2386.7,2,   -999.0,9,  -999.00,9,     -999,9,   -999.0,9,    0.000,2,    0.000,2,   1.5340,1,-999.0000,9,-999.0000,9,-999.0000,9,    0.001,2,   99.886,2,   3.1498,2
  49NZ20191205,  I08N,    46,  1,     18,   1218,2,20191216,0029, -9.0004,  79.9991, 5207,   1930.1,   2.7123,   2.7140,2,  34.7480,2,  34.7479,2,    133.4,2,    133.5,2,   117.59,2,    35.49,2,     0.01,2,     2.53,2,     0.01,2,    0.011,2,    0.004,2,    0.001,2,    0.005,2,   2308.5, 2,   2391.6,2,   -999.0,9,  -999.00,9,     -999,9,   -999.0,9,    0.000,2,    0.000,2,   1.5260,1,-999.0000,9,-999.0000,9,-999.0000,9,    0.000,2,   99.878,2,   2.7140,2
  49NZ20191205,  I08N,    46,  1,     17,   1217,2,20191216,0029, -9.0004,  79.9991, 5207,   2129.9,   2.3877,   2.3874,2,  34.7424,2,  34.7423,2,    143.9,2,    144.3,2,   120.35,2,    35.05,2,     0.00,2,     2.48,2,     0.01,2,    0.016,2,    0.005,2,    0.001,2,    0.002,2,   2303.6, 2,   2393.0,2,   -999.0,9,  -999.00,9,     -999,9,   -999.0,9,    0.000,2,    0.000,2,   1.5010,1,-999.0000,9,-999.0000,9,-999.0000,9,    0.000,2,   99.884,2,   2.3874,2
  49NZ20191205,  I08N,    46,  1,     16,   1216,2,20191216,0029, -9.0004,  79.9991, 5207,   2329.7,   2.1403,   2.1403,2,  34.7388,2,  34.7386,2,    152.0,2,    152.3,2,   122.47,2,    34.67,2,     0.00,2,     2.44,2,     0.01,2,    0.012,2,    0.003,2,    0.009,2,    0.006,2,   2303.7, 6,   2395.8,2,   -999.0,9,  -999.00,9,     -999,9,   -999.0,9,    0.000,2,    0.000,2,   1.4900,1,-999.0000,9,-999.0000,9,-999.0000,9,    0.000,2,   99.897,2,   2.1403,2
  49NZ20191205,  I08N,    46,  1,     15,   1215,2,20191216,0029, -9.0004,  79.9991, 5207,   2531.3,   1.9771,   1.9791,2,  34.7353,2,  34.7343,2,    157.6,2,    157.8,2,   123.92,2,    34.43,2,     0.00,2,     2.42,2,        0,2,    0.013,2,    0.005,2,    0.001,2,    0.006,2,   2302.0, 2,   2395.6,2,   -999.0,9,  -999.00,9,     -999,9,   -999.0,9,    0.000,2,    0.000,2,   1.4880,1,-999.0000,9,-999.0000,9,-999.0000,9,   -0.001,2,   99.897,2,   1.9791,2
  49NZ20191205,  I08N,    46,  1,     14,   1214,2,20191216,0029, -9.0004,  79.9991, 5207,   2730.1,   1.8407,   1.8419,2,  34.7324,2,  34.7315,2,    162.1,2,    162.2,2,   125.66,2,    34.27,2,     0.00,2,     2.40,2,     0.01,2,    0.012,2,    0.005,2,    0.001,2,     0.01,2,   2302.0, 2,   2398.9,2,   -999.0,9,  -999.00,9,     -999,9,   -999.0,9,    0.000,2,    0.000,2,   1.4750,1,-999.0000,9,-999.0000,9,-999.0000,9,   -0.001,2,   99.897,2,   1.8419,2
  49NZ20191205,  I08N,    46,  1,     13,   1213,2,20191216,0029, -9.0004,  79.9991, 5207,   2929.9,   1.7453,   1.7453,2,  34.7300,2,  34.7292,2,    164.1,2,    164.4,2,   127.61,2,    34.22,2,     0.01,2,     2.38,2,     0.06,2,    0.010,2,    0.004,2,    0.001,2,    0.004,2,   2305.1, 2,   2402.9,2,   -999.0,9,  -999.00,9,     -999,9,   -999.0,9,    0.000,2,    0.000,2,   1.4690,1,-999.0000,9,-999.0000,9,-999.0000,9,    0.000,2,   99.897,2,   1.7453,2
  49NZ20191205,  I08N,    46,  1,     12,   1212,2,20191216,0029, -9.0004,  79.9991, 5207,   3169.2,   1.6301,   1.6300,2,  34.7264,2,  34.7258,2,    167.4,2,    167.6,2,   130.39,2,    34.10,2,     0.00,2,     2.37,2,     0.02,2,    0.011,2,    0.004,2,    0.005,2,    0.003,2,   2304.1, 2,   2404.4,6,   -999.0,9,  -999.00,9,     -999,9,   -999.0,9,    0.000,2,    0.000,2,   1.4770,1,-999.0000,9,-999.0000,9,-999.0000,9,    0.000,2,   99.897,2,   1.6300,2
  49NZ20191205,  I08N,    46,  1,     11,   1211,2,20191216,0029, -9.0004,  79.9991, 5207,   3420.8,   1.5016,   1.5020,2,  34.7226,2,  34.7226,2,    171.5,2,    171.5,2,   132.39,2,    34.05,2,     0.01,2,     2.36,2,     0.02,2,    0.014,2,    0.004,2,    0.004,2,    0.018,2,   2304.3, 2,   2407.1,2,   -999.0,9,  -999.00,9,     -999,9,   -999.0,9,    0.000,2,    0.000,2,   1.4700,1,-999.0000,9,-999.0000,9,-999.0000,9,   -0.001,2,   99.905,2,   1.5020,2
  49NZ20191205,  I08N,    46,  1,     10,   1210,2,20191216,0029, -9.0004,  79.9991, 5207,   3669.9,   1.3926,   1.3930,2,  34.7193,2,  34.7193,2,    175.9,2,    176.1,2,   134.08,2,    34.04,2,     0.00,2,     2.35,2,     0.01,2,    0.013,2,    0.005,2,    0.001,2,    0.004,2,   2302.9, 2,   2409.2,2,   -999.0,9,  -999.00,9,     -999,9,   -999.0,9,    0.000,2,    0.000,2,   1.4570,1,-999.0000,9,-999.0000,9,-999.0000,9,    0.000,2,   99.918,2,   1.3930,2
  49NZ20191205,  I08N,    46,  1,      9,   1209,2,20191216,0029, -9.0004,  79.9991, 5207,   3920.1,   1.3575,   1.3574,2,  34.7177,2,  34.7179,2,    178.8,2,    178.9,2,   134.33,2,    33.88,2,     0.00,2,     2.34,2,     0.02,2,    0.010,2,    0.004,2,    0.001,2,    0.012,2,   2303.0, 2,   2408.3,2,   -999.0,9,  -999.00,9,     -999,9,   -999.0,9,    0.000,2,    0.000,2,   1.4490,1,-999.0000,9,-999.0000,9,-999.0000,9,   -0.001,2,   99.916,2,   1.3574,2
  49NZ20191205,  I08N,    46,  1,      8,  12103,2,20191216,0029, -9.0004,  79.9991, 5207,   4170.8,   1.3543,   1.3542,2,  34.7169,2,  34.7174,2,    180.3,2,    180.3,2,   134.25,2,    33.97,2,     0.01,2,     2.33,2,     0.03,2,    0.012,2,    0.005,2,    0.006,2,    0.022,2,   2302.8, 6,   2408.7,2,   -999.0,9,  -999.00,9,     -999,9,   -999.0,9,    0.000,2,    0.000,2,   1.4460,1,-999.0000,9,-999.0000,9,-999.0000,9,    0.000,2,   99.914,2,   1.3542,2
  49NZ20191205,  I08N,    46,  1,      7,   1207,2,20191216,0029, -9.0004,  79.9991, 5207,   4420.3,   1.3613,   1.3614,2,  34.7167,2,  34.7172,2,    181.5,2,    181.6,2,   133.74,2,    33.73,2,     0.01,2,     2.33,2,     0.02,2,    0.014,2,    0.008,2,    0.000,2,    0.008,2,   2300.4, 2,   2407.8,2,   -999.0,9,  -999.00,9,     -999,9,   -999.0,9,    0.000,2,    0.000,2,   1.4450,1,-999.0000,9,-999.0000,9,-999.0000,9,    0.000,2,   99.914,2,   1.3614,2
  49NZ20191205,  I08N,    46,  1,      6,   1206,2,20191216,0029, -9.0004,  79.9991, 5207,   4669.3,   1.3788,   1.3788,2,  34.7164,2,  34.7164,2,    182.0,2,    181.9,2,   133.72,2,    33.73,2,     0.01,2,     2.32,2,     0.02,2,    0.011,2,    0.006,2,    0.001,2,    0.006,2,   2299.6, 2,   2407.9,6,   -999.0,9,  -999.00,9,     -999,9,   -999.0,9,    0.000,2,    0.000,2,   1.4420,1,-999.0000,9,-999.0000,9,-999.0000,9,   -0.001,2,   99.916,2,   1.3788,2
  49NZ20191205,  I08N,    46,  1,      5,   1205,2,20191216,0029, -9.0004,  79.9991, 5207,   4922.1,   1.4014,   1.4014,2,  34.7163,2,  34.7160,2,    182.4,2,    182.6,2,   133.32,2,    33.72,2,     0.00,2,     2.32,2,     0.02,2,    0.015,2,    0.006,2,    0.002,2,    0.005,2,   2298.5, 2,   2404.8,2,   -999.0,9,  -999.00,9,     -999,9,   -999.0,9,    0.000,2,    0.000,2,   1.4440,1,-999.0000,9,-999.0000,9,-999.0000,9,   -0.001,2,   99.922,2,   1.4014,2
  49NZ20191205,  I08N,    46,  1,      4,   1204,2,20191216,0029, -9.0004,  79.9991, 5207,   5170.1,   1.4267,   1.4267,2,  34.7162,2,  34.7160,2,    182.7,2,    183.0,2,   133.35,2,    33.62,2,     0.00,2,     2.32,2,     0.02,2,    0.013,2,    0.007,2,    0.001,2,    0.004,2,   2296.8, 2,   2403.6,2,   -999.0,9,  -999.00,9,     -999,9,   -999.0,9,    0.000,2,    0.000,2,   1.4450,1,-999.0000,9,-999.0000,9,-999.0000,9,   -0.001,2,   99.897,2,   1.4267,2
  49NZ20191205,  I08N,    46,  1,      2,  12046,2,20191216,0029, -9.0004,  79.9991, 5207,    104.9,  25.9796,  25.9978,2,  34.6424,2,  34.6511,2,    173.8,2,    170.8,2,     4.29,2,     1.67,2,     0.13,2,     0.32,2,     0.07,2, -999.000,9, -999.000,9, -999.000,9,     -999,9,   2001.8, 2,   2275.2,2,   -999.0,9,     0.42,2,     -999,9,    304.1,2,    7.137,2,    7.137,2,   1.3360,1,-999.0000,9,-999.0000,9,-999.0000,9,    0.438,2,   98.661,2,  25.9978,2
  49NZ20191205,  I08N,    46,  1,      1,   1201,2,20191216,0029, -9.0004,  79.9991, 5207,   5285.0,   1.4362,   1.4363,2,  34.7161,2,  34.7153,2,    183.0,2,    183.2,2,   132.91,2,    33.67,2,     0.01,2,     2.32,2,     0.02,2,    0.011,2,    0.006,2,    0.003,2,    0.015,2,   2300.6, 2,   2406.3,2,   -999.0,9,  -999.00,9,     -999,9,   -999.0,9,    0.000,2,    0.000,2,   1.4350,1,-999.0000,9,-999.0000,9,-999.0000,9,    0.000,2,   99.886,2,   1.4363,2