BOTTLE,20210412PRINUNIVRMK
EXPOCODE,SECT_ID,STNNBR,CASTNO,SAMPNO,BTLNBR,BTLNBR_FLAG_W,DATE,TIME,LATITUDE,LONGITUDE,DEPTH,CTDPRS,CTDTMP,SBE35,SBE35_FLAG_W,CTDSAL,CTDSAL_FLAG_W,SALNTY,SALNTY_FLAG_W,CTDOXY,CTDOXY_FLAG_W,OXYGEN,OXYGEN_FLAG_W,SILCAT,SILCAT_FLAG_W,NITRAT,NITRAT_FLAG_W,NITRIT,NITRIT_FLAG_W,PHSPHT,PHSPHT_FLAG_W,NH4,NH4_FLAG_W,CFC-11,CFC-11_FLAG_W,CFC-12,CFC-12_FLAG_W,CFC113,CFC113_FLAG_W,SF6,SF6_FLAG_W,TCARBN,TCARBN_FLAG_W,ALKALI,ALKALI_FLAG_W,DOC,DOC_FLAG_W,CHLWELSH,CHLWELSH_FLAG_W,UREA,UREA_FLAG_W,IODATE,IODATE_FLAG_W,PAR,PAR_FLAG_W,PAR,PAR_FLAG_W,CDOM,CDOM_FLAG_W,CDOM300,CDOM300_FLAG_W,CDOM325,CDOM325_FLAG_W,CDOM443,CDOM443_FLAG_W,CTDFLUOR,CTDFLUOR_FLAG_W,CTDXMISS,CTDXMISS_FLAG_W,SBE35,SBE35_FLAG_W
,,,,,,,,,,,METERS,DBAR,ITS-90,,,PSS-78,,PSS-78,,UMOL/KG,,UMOL/KG,,UMOL/KG,,UMOL/KG,,UMOL/KG,,UMOL/KG,,UMOL/KG,,PMOL/KG,,PMOL/KG,,PMOL/KG,,FMOL/KG,,UMOL/KG,,UMOL/KG,,UMOL/KG,,UG/KG,,nMOL/L,,nMOL/L,,VOLTS,,VOLTS,,MG/M^3,,1/M,,1/M,,1/M,,MG/M^3,,%TRANS,,,
  49NZ20191205,  I08N,    40,  1,     36,   1236,2,20191214,1104, -5.9998,  79.9996, 5202,     10.1,  28.0568,  28.0547,2,  34.4746,2,  34.4744,2,    199.8,2,    200.0,2,     1.57,2,     0.03,2,     0.00,2,     0.09,2,     0.05,2,    1.472,2,    0.935,2,    0.129,2,    1.578,2,   1957.8, 2,   2263.0,2,     72.5,2,     0.07,2,     -999,9,   -999.0,9,    0.000,2,    0.000,2,   1.1150,1,   0.2130,3,   0.1040,3,   0.0190,3,    0.074,2,   98.617,2,  28.0547,2
  49NZ20191205,  I08N,    40,  1,     35,   1235,2,20191214,1104, -5.9998,  79.9996, 5202,     50.5,  28.0148,  28.0130,2,  34.5375,2,  34.5362,2,    199.6,2,    199.9,2,     1.58,2,     0.02,2,     0.00,2,     0.09,2,     0.03,2,    1.464,2,    0.942,2,    0.124,2,    1.533,2,   1958.8, 2,   2267.6,2,     71.6,2,     0.14,2,     -999,9,   -999.0,9,    0.000,2,    0.000,2,   1.1280,1,   0.1920,3,   0.0880,3,   0.0140,3,    0.146,2,   98.648,2,  28.0130,2
  49NZ20191205,  I08N,    40,  1,     34,   1234,2,20191214,1104, -5.9998,  79.9996, 5202,    100.9,  20.8145,  20.8451,2,  34.7628,2,  34.7513,2,     96.2,2,    101.0,2,    13.58,2,    15.00,2,     0.34,2,     1.08,2,     0.04,2,    1.625,2,    1.009,2,    0.041,2,    1.248,2,   2104.1, 2,   2280.2,2,     59.3,2,     0.25,2,     -999,9,   -999.0,9,    0.000,2,    0.000,2,   1.4370,1,   0.3300,3,   0.1860,3,   0.0250,3,    0.268,2,   99.076,2,  20.8451,2
  49NZ20191205,  I08N,    40,  1,     33,   1233,2,20191214,1104, -5.9998,  79.9996, 5202,    149.7,  15.1218,  15.1057,2,  34.7191,2,  34.7197,2,     74.8,2,     74.7,2,    27.61,2,    24.05,2,     0.01,2,     1.66,2,     0.02,2,    1.550,2,    0.913,2,    0.007,2,    0.813,2,   2178.7, 2,   2293.8,2,     52.5,2,     0.04,2,     -999,9,   -999.0,9,    0.000,2,    0.000,2,   1.5070,1,   0.2910,3,   0.1590,3,   0.0240,3,    0.052,2,   99.534,2,  15.1057,2
  49NZ20191205,  I08N,    40,  1,     32,   1232,2,20191214,1104, -5.9998,  79.9996, 5202,    199.5,  12.9681,  12.9699,2,  34.8657,2,  34.8650,2,     61.2,2,     61.4,2,    29.12,2,    27.64,2,     0.01,2,     1.91,2,     0.02,2,    1.478,2,    0.839,2,    0.004,2,    0.528,2,   2214.8, 2,   2302.1,2,     49.3,2,     0.01,2,     -999,9,   -999.0,9,    0.000,2,    0.000,2,   1.5340,1,   0.3010,3,   0.1660,3,   0.0300,3,   -0.005,2,   99.589,2,  12.9699,2
  49NZ20191205,  I08N,    40,  1,     31,   1231,2,20191214,1104, -5.9998,  79.9996, 5202,    249.5,  12.1755,  12.1776,2,  34.9711,2,  34.9728,2,     60.5,2,     61.1,2,    25.28,2,    28.38,2,     0.01,2,     1.92,2,     0.02,2,    1.537,2,    0.847,2,    0.012,2,    0.453,2,   2223.2, 2,   2307.1,2,     47.1,2,     0.01,2,     -999,9,   -999.0,9,    0.000,2,    0.000,2,   1.5240,1,-999.0000,9,-999.0000,9,-999.0000,9,    0.001,2,   99.586,2,  12.1776,2
  49NZ20191205,  I08N,    40,  1,     30,   1230,2,20191214,1104, -5.9998,  79.9996, 5202,    278.2,  11.5272,  11.5267,2,  34.9661,2,  34.9649,2,     69.1,2,     69.2,2,    24.67,2,    28.64,2,     0.01,2,     1.91,2,     0.02,2,    1.543,2,    0.841,2,    0.019,2,    0.379,2,   2221.3, 2,   2308.2,2,     38.5,3,  -999.00,9,     -999,9,   -999.0,9,    0.000,2,    0.000,2,   1.4970,1,   0.2910,3,   0.1580,3,   0.0310,3,    0.003,2,   99.608,2,  11.5267,2
  49NZ20191205,  I08N,    40,  1,     29,   1229,2,20191214,1104, -5.9998,  79.9996, 5202,    369.7,  10.3848,  10.3853,2,  34.8997,2,  34.8990,2,     86.6,2,     86.7,2,    26.64,2,    29.14,2,     0.00,2,     1.94,2,     0.01,2,    1.507,2,    0.810,2,    0.019,2,    0.467,2,   2217.9, 2,   2308.7,2,     43.1,2,  -999.00,9,     -999,9,   -999.0,9,    0.000,2,    0.000,2,   1.4520,1,   0.2590,3,   0.1420,3,   0.0280,3,    0.004,2,   99.641,2,  10.3853,2
  49NZ20191205,  I08N,    40,  1,     28,   1228,2,20191214,1104, -5.9998,  79.9996, 5202,    469.5,   9.5082,   9.5082,2,  34.8687,2,  34.8670,2,     86.3,2,     85.8,2,    34.27,2,    30.78,2,     0.00,2,     2.11,2,     0.02,2,    1.133,2,    0.607,2,    0.019,2,     0.26,2,   2230.8, 2,   2310.2,2,     40.8,2,  -999.00,9,     -999,9,   -999.0,9,    0.000,2,    0.000,2,   1.4730,1,   0.2630,3,   0.1440,3,   0.0250,3,    0.002,2,   99.700,2,   9.5082,2
  49NZ20191205,  I08N,    40,  1,     27,   1227,2,20191214,1104, -5.9998,  79.9996, 5202,    570.4,   8.7821,   8.7819,2,  34.8510,2,  34.8504,2,     77.2,2,     76.4,2,    44.18,2,    32.75,2,     0.01,2,     2.30,2,     0.01,2,    0.719,2,    0.385,2,    0.012,2,    0.172,2,   2246.7, 2,   2321.5,2,     40.3,2,  -999.00,9,     -999,9,   -999.0,9,    0.000,2,    0.000,2,   1.4900,1,   0.2910,3,   0.1620,3,   0.0340,3,    0.003,2,   99.766,2,   8.7819,2
  49NZ20191205,  I08N,    40,  1,     26,   1226,2,20191214,1104, -5.9998,  79.9996, 5202,    670.0,   8.0806,   8.0812,2,  34.8354,2,  34.8347,2,     70.8,2,     70.6,2,    54.91,2,    34.30,2,     0.00,2,     2.44,2,     0.02,2,    0.441,2,    0.239,2,    0.011,2,    0.146,2,   2261.2, 6,   2328.3,2,     42.5,2,  -999.00,9,     -999,9,   -999.0,9,    0.000,2,    0.000,2,   1.5100,1,-999.0000,9,-999.0000,9,-999.0000,9,    0.002,2,   99.783,2,   8.0812,2
  49NZ20191205,  I08N,    40,  1,     25,   1225,2,20191214,1104, -5.9998,  79.9996, 5202,    770.7,   7.4227,   7.4226,2,  34.8324,2,  34.8335,2,     66.6,2,     66.5,2,    65.43,2,    35.49,2,     0.01,2,     2.56,2,     0.07,2,    0.251,2,    0.141,2,    0.004,2,    0.056,2,   2277.2, 2,   2342.6,2,     39.5,2,  -999.00,9,     -999,9,   -999.0,9,    0.000,2,    0.000,2,   1.5400,1,   0.2960,3,   0.1590,3,   0.0320,3,    0.002,2,   99.808,2,   7.4226,2
  49NZ20191205,  I08N,    40,  1,     24,   1224,2,20191214,1104, -5.9998,  79.9996, 5202,    867.6,   6.7568,   6.7567,2,  34.8060,2,  34.8052,2,     61.7,2,     62.1,2,    77.06,2,    36.82,2,     0.00,2,     2.66,2,     0.05,2,    0.083,2,    0.045,2,    0.004,2,    0.009,2,   2295.3, 2,   2354.2,2,     36.8,2,  -999.00,9,     -999,9,   -999.0,9,    0.000,2,    0.000,2,   1.5670,1,-999.0000,9,-999.0000,9,-999.0000,9,    0.002,2,   99.829,2,   6.7567,2
  49NZ20191205,  I08N,    40,  1,     23,   1223,2,20191214,1104, -5.9998,  79.9996, 5202,    968.9,   6.2877,   6.2898,2,  34.8187,2,  34.8165,2,     67.2,2,     67.9,2,    82.92,2,    36.90,2,     0.00,2,     2.67,2,     0.05,2,    0.082,2,    0.044,2,    0.001,2,    0.006,2,   2297.0, 2,   2360.5,2,     38.7,2,  -999.00,9,     -999,9,   -999.0,9,    0.000,2,    0.000,2,   1.5810,1,   0.3290,3,   0.1930,3,   0.0430,3,    0.001,2,   99.846,2,   6.2898,2
  49NZ20191205,  I08N,    40,  1,     22,   1222,2,20191214,1104, -5.9998,  79.9996, 5202,   1131.9,   5.3340,   5.3336,2,  34.7669,2,  34.7680,2,     78.6,2,     78.8,2,    93.78,2,    37.06,2,     0.00,2,     2.68,2,     0.04,2,    0.045,2,    0.023,2,    0.002,2,        0,2,   2303.9, 2,   2370.2,6,     35.2,2,  -999.00,9,     -999,9,   -999.0,9,    0.000,2,    0.000,2,   1.5740,1,-999.0000,9,-999.0000,9,-999.0000,9,    0.001,2,   99.871,2,   5.3336,2
  49NZ20191205,  I08N,    40,  1,     21,   1221,2,20191214,1104, -5.9998,  79.9996, 5202,   1329.6,   4.5521,   4.5518,2,  34.7827,2,  34.7828,2,     90.4,2,     90.4,2,   100.87,2,    36.94,2,     0.00,2,     2.67,2,     0.04,2,    0.020,2,    0.009,2,    0.001,2,    0.022,2,   2311.8, 2,   2378.4,2,     35.1,2,  -999.00,9,     -999,9,   -999.0,9,    0.000,2,    0.000,2,   1.5680,1,   0.3150,3,   0.1760,3,   0.0300,3,    0.001,2,   99.863,2,   4.5518,2
  49NZ20191205,  I08N,    40,  1,     20,   1220,2,20191214,1104, -5.9998,  79.9996, 5202,   1529.0,   3.8721,   3.8717,2,  34.7781,2,  34.7786,2,    105.6,2,    105.4,2,   106.50,2,    36.51,2,     0.01,2,     2.63,2,     0.02,2,    0.021,2,    0.008,2,    0.002,2,    0.015,2,   2308.4, 2,   2383.3,2,     34.3,2,  -999.00,9,     -999,9,   -999.0,9,    0.000,2,    0.000,2,   1.5670,1,-999.0000,9,-999.0000,9,-999.0000,9,    0.000,2,   99.871,2,   3.8717,2
  49NZ20191205,  I08N,    40,  1,     19,   1219,2,20191214,1104, -5.9998,  79.9996, 5202,   1730.8,   3.2829,   3.2834,2,  34.7698,2,  34.7703,2,    118.4,2,    118.1,2,   112.69,2,    36.14,2,     0.00,2,     2.58,2,     0.03,2,    0.017,2,    0.006,2,    0.005,2,    0.003,2,   2309.7, 2,   2391.0,2,     35.1,2,  -999.00,9,     -999,9,   -999.0,9,    0.000,2,    0.000,2,   1.5490,1,   0.2580,3,   0.1290,3,   0.0120,3,    0.000,2,   99.882,2,   3.2834,2
  49NZ20191205,  I08N,    40,  1,     18,   1218,2,20191214,1104, -5.9998,  79.9996, 5202,   1930.9,   2.8316,   2.8313,2,  34.7609,2,  34.7609,2,    130.3,2,    129.9,2,   117.48,2,    35.76,2,     0.01,2,     2.54,2,     0.01,2,    0.014,2,    0.005,2,    0.003,2,    0.001,2,   2309.8, 2,   2394.6,2,     32.4,2,  -999.00,9,     -999,9,   -999.0,9,    0.000,2,    0.000,2,   1.5370,1,-999.0000,9,-999.0000,9,-999.0000,9,    0.001,2,   99.875,2,   2.8313,2
  49NZ20191205,  I08N,    40,  1,     17,   1217,2,20191214,1104, -5.9998,  79.9996, 5202,   2129.7,   2.4820,   2.4819,2,  34.7525,2,  34.7525,2,    139.9,2,    140.2,2,   120.75,2,    35.29,2,     0.01,2,     2.49,2,     0.01,2,    0.017,2,    0.006,2,    0.005,2,    0.012,2,   2307.6, 2,   2396.7,2,     32.1,2,  -999.00,9,     -999,9,   -999.0,9,    0.000,2,    0.000,2,   1.5320,1,   0.2400,3,   0.1160,3,   0.0090,3,   -0.001,2,   99.888,2,   2.4819,2
  49NZ20191205,  I08N,    40,  1,     16,   1216,2,20191214,1104, -5.9998,  79.9996, 5202,   2330.2,   2.1920,   2.1922,2,  34.7439,2,  34.7438,2,    149.2,2,    149.3,2,   123.40,2,    34.91,2,     0.01,2,     2.45,2,     0.02,2,    0.016,2,    0.006,2,    0.000,2,    0.001,2,   2305.6, 6,   2400.2,2,     35.1,2,  -999.00,9,     -999,9,   -999.0,9,    0.000,2,    0.000,2,   1.5130,1,-999.0000,9,-999.0000,9,-999.0000,9,    0.000,2,   99.894,2,   2.1922,2
  49NZ20191205,  I08N,    40,  1,     15,   1215,2,20191214,1104, -5.9998,  79.9996, 5202,   2529.4,   1.9683,   1.9679,2,  34.7374,2,  34.7361,2,    156.4,2,    156.6,2,   125.15,2,    34.53,2,     0.01,2,     2.42,2,     0.02,2,    0.018,2,    0.005,2,    0.003,2,    0.008,2,   2302.6, 2,   2400.4,2,     31.9,2,  -999.00,9,     -999,9,   -999.0,9,    0.000,2,    0.000,2,   1.4950,1,   0.2320,3,   0.1080,3,   0.0070,3,    0.000,2,   99.894,2,   1.9679,2
  49NZ20191205,  I08N,    40,  1,     14,   1214,2,20191214,1104, -5.9998,  79.9996, 5202,   2730.7,   1.8236,   1.8238,2,  34.7329,2,  34.7327,2,    161.4,2,    161.5,2,   126.39,2,    34.30,2,     0.01,2,     2.39,2,     0.07,2,    0.015,2,    0.004,2,    0.002,2,    0.007,2,   2301.6, 2,   2399.1,2,     33.0,2,  -999.00,9,     -999,9,   -999.0,9,    0.000,2,    0.000,2,   1.4930,1,-999.0000,9,-999.0000,9,-999.0000,9,    0.000,2,   99.894,2,   1.8238,2
  49NZ20191205,  I08N,    40,  1,     13,   1213,2,20191214,1104, -5.9998,  79.9996, 5202,   2929.4,   1.7193,   1.7201,2,  34.7302,2,  34.7301,2,    162.5,2,    162.6,2,   129.74,2,    34.39,2,     0.01,2,     2.40,2,     0.05,2,    0.015,2,    0.005,2,    0.001,2,    0.005,2,   2304.1, 2,   2405.7,2,     34.1,2,  -999.00,9,     -999,9,   -999.0,9,    0.000,2,    0.000,2,   1.4930,1,   0.2470,3,   0.1200,3,   0.0120,3,    0.000,2,   99.890,2,   1.7201,2
  49NZ20191205,  I08N,    40,  1,     12,   1212,2,20191214,1104, -5.9998,  79.9996, 5202,   3170.8,   1.5830,   1.5828,2,  34.7259,2,  34.7256,2,    165.9,2,    166.0,2,   132.95,2,    34.39,2,     0.00,2,     2.39,2,     0.03,2,    0.013,2,    0.004,2,    0.004,2,    0.022,2,   2308.3, 2,   2409.6,6,     33.9,2,  -999.00,9,     -999,9,   -999.0,9,    0.000,2,    0.000,2,   1.4960,1,-999.0000,9,-999.0000,9,-999.0000,9,    0.000,2,   99.896,2,   1.5828,2
  49NZ20191205,  I08N,    40,  1,     11,   1211,2,20191214,1104, -5.9998,  79.9996, 5202,   3422.3,   1.4945,   1.4942,2,  34.7230,2,  34.7229,2,    167.4,2,    167.4,2,   135.96,2,    34.48,2,     0.01,2,     2.39,2,     0.03,2,    0.015,2,    0.005,2,    0.002,2,    0.003,2,   2313.8, 3,   2415.5,2,     32.0,2,  -999.00,9,     -999,9,   -999.0,9,    0.000,2,    0.000,2,   1.5060,1,   0.2810,3,   0.1440,3,   0.0180,3,    0.000,2,   99.896,2,   1.4942,2
  49NZ20191205,  I08N,    40,  1,     10,   1210,2,20191214,1104, -5.9998,  79.9996, 5202,   3668.8,   1.4400,   1.4405,2,  34.7209,2,  34.7212,2,    169.9,2,    169.8,2,   137.19,2,    34.43,2,     0.01,2,     2.38,2,     0.02,2,    0.016,2,    0.005,2,    0.006,2,    0.017,2,   2308.4, 2,   2417.0,2,     34.0,2,  -999.00,9,     -999,9,   -999.0,9,    0.000,2,    0.000,2,   1.5000,1,-999.0000,9,-999.0000,9,-999.0000,9,    0.000,2,   99.901,2,   1.4405,2
  49NZ20191205,  I08N,    40,  1,      9,   1209,2,20191214,1104, -5.9998,  79.9996, 5202,   3919.9,   1.4052,   1.4053,2,  34.7191,2,  34.7182,2,    173.3,2,    173.2,2,   136.48,2,    34.26,2,     0.01,2,     2.37,2,     0.01,2,    0.013,2,    0.005,2,    0.003,2,    0.009,2,   2309.0, 2,   2415.3,2,     43.2,2,  -999.00,9,     -999,9,   -999.0,9,    0.000,2,    0.000,2,   1.4780,1,   0.2350,3,   0.1180,3,   0.0100,3,   -0.001,2,   99.905,2,   1.4053,2
  49NZ20191205,  I08N,    40,  1,      8,  12103,2,20191214,1104, -5.9998,  79.9996, 5202,   4169.1,   1.3906,   1.3905,2,  34.7181,2,  34.7186,2,    176.8,2,    176.7,2,   135.11,2,    34.02,2,     0.00,2,     2.35,2,     0.01,2,    0.016,2,    0.005,2,    0.004,2,    0.017,2,   2303.6, 6,   2413.2,2,     39.0,2,  -999.00,9,     -999,9,   -999.0,9,    0.000,2,    0.000,2,   1.4630,1,-999.0000,9,-999.0000,9,-999.0000,9,    0.000,2,   99.907,2,   1.3905,2
  49NZ20191205,  I08N,    40,  1,      7,   1207,2,20191214,1104, -5.9998,  79.9996, 5202,   4419.6,   1.3859,   1.3862,2,  34.7174,2,  34.7178,2,    179.2,2,    179.1,2,   134.54,2,    33.87,2,     0.00,2,     2.34,2,        0,2,    0.016,2,    0.005,2,    0.004,2,    0.015,2,   2302.4, 2,   2409.4,2,     41.9,2,  -999.00,9,     -999,9,   -999.0,9,    0.000,2,    0.000,2,   1.4560,1,   0.2240,3,   0.1060,3,   0.0060,3,   -0.001,2,   99.913,2,   1.3862,2
  49NZ20191205,  I08N,    40,  1,      6,   1206,2,20191214,1104, -5.9998,  79.9996, 5202,   4670.5,   1.3922,   1.3923,2,  34.7169,2,  34.7169,2,    180.8,2,    180.8,2,   133.73,2,    33.76,2,     0.00,2,     2.33,2,     0.01,2,    0.022,2,    0.008,2,    0.005,2,    0.007,2,   2298.6, 2,   2405.8,6,     35.3,2,  -999.00,9,     -999,9,   -999.0,9,    0.000,2,    0.000,2,   1.4680,1,-999.0000,9,-999.0000,9,-999.0000,9,   -0.001,2,   99.920,2,   1.3923,2
  49NZ20191205,  I08N,    40,  1,      5,   1205,2,20191214,1104, -5.9998,  79.9996, 5202,   4922.2,   1.3982,   1.3981,2,  34.7165,2,  34.7166,2,    182.8,2,    182.8,2,   132.46,2,    33.66,2,     0.01,2,     2.32,2,     0.02,2,    0.017,2,    0.008,2,    0.000,2,    0.019,2,   2295.5, 2,   2404.3,2,     37.2,2,  -999.00,9,     -999,9,   -999.0,9,    0.000,2,    0.000,2,   1.4540,1,   0.2220,3,   0.1020,3,   0.0020,3,    0.000,2,   99.922,2,   1.3981,2
  49NZ20191205,  I08N,    40,  1,      4,   1204,2,20191214,1104, -5.9998,  79.9996, 5202,   5170.3,   1.4158,   1.4158,2,  34.7162,2,  34.7159,2,    183.6,2,    183.7,2,   132.38,2,    33.60,2,     0.01,2,     2.31,2,     0.03,2,    0.022,2,    0.008,2,    0.001,2,    0.013,2,   2298.4, 3,   2404.4,2,     40.0,2,  -999.00,9,     -999,9,   -999.0,9,    0.000,2,    0.000,2,   1.4500,1,   0.2340,3,   0.1060,3,   0.0090,3,   -0.001,2,   99.898,2,   1.4158,2
  49NZ20191205,  I08N,    40,  1,      3,   1203,9,20191214,1104, -5.9998,  79.9996, 5202,   -999.0,-999.0000,-999.0000,9,-999.0000,9,-999.0000,9,   -999.0,9,   -999.0,9,  -999.00,9,  -999.00,9,  -999.00,9,  -999.00,9,     -999,9, -999.000,9, -999.000,9, -999.000,9,     -999,9,   -999.0, 9,   -999.0,9,   -999.0,9,  -999.00,9,     -999,9,   -999.0,9, -999.000,9, -999.000,9,-999.0000,9,-999.0000,9,-999.0000,9,-999.0000,9, -999.000,9, -999.000,9,-999.0000,9
  49NZ20191205,  I08N,    40,  1,      2,  12046,2,20191214,1104, -5.9998,  79.9996, 5202,     82.1,  24.0253,  24.0216,2,  34.5142,2,  34.5382,2,    147.9,2,    154.6,2,     6.36,2,     4.95,2,     0.26,2,     0.49,2,     0.12,2, -999.000,9, -999.000,9, -999.000,9,     -999,9,   2023.6, 2,   2269.0,2,     34.4,3,     0.44,2,     -999,9,   -999.0,9,    0.000,2,    0.000,2,   1.3780,1,   0.2810,3,   0.1440,3,   0.0090,3,    0.514,2,   98.126,2,  24.0216,2
  49NZ20191205,  I08N,    40,  1,      1,   1201,2,20191214,1104, -5.9998,  79.9996, 5202,   5275.8,   1.4217,   1.4219,2,  34.7161,2,  34.7162,2,    184.5,2,    185.0,2,   131.74,2,    33.55,2,     0.00,2,     2.31,2,     0.03,2,    0.018,2,    0.009,2,    0.001,2,     0.11,2,   2294.0, 2,   2403.8,2,     24.2,4,  -999.00,9,     -999,9,   -999.0,9,    0.000,2,    0.000,2,   1.4430,1,   0.2240,3,   0.1050,3,   0.0080,3,   -0.001,2,   99.892,2,   1.4219,2