BOTTLE,20210412PRINUNIVRMK
EXPOCODE,SECT_ID,STNNBR,CASTNO,SAMPNO,BTLNBR,BTLNBR_FLAG_W,DATE,TIME,LATITUDE,LONGITUDE,DEPTH,CTDPRS,CTDTMP,SBE35,SBE35_FLAG_W,CTDSAL,CTDSAL_FLAG_W,SALNTY,SALNTY_FLAG_W,CTDOXY,CTDOXY_FLAG_W,OXYGEN,OXYGEN_FLAG_W,SILCAT,SILCAT_FLAG_W,NITRAT,NITRAT_FLAG_W,NITRIT,NITRIT_FLAG_W,PHSPHT,PHSPHT_FLAG_W,NH4,NH4_FLAG_W,CFC-11,CFC-11_FLAG_W,CFC-12,CFC-12_FLAG_W,CFC113,CFC113_FLAG_W,SF6,SF6_FLAG_W,TCARBN,TCARBN_FLAG_W,ALKALI,ALKALI_FLAG_W,DOC,DOC_FLAG_W,CHLWELSH,CHLWELSH_FLAG_W,UREA,UREA_FLAG_W,IODATE,IODATE_FLAG_W,PAR,PAR_FLAG_W,PAR,PAR_FLAG_W,CDOM,CDOM_FLAG_W,CDOM300,CDOM300_FLAG_W,CDOM325,CDOM325_FLAG_W,CDOM443,CDOM443_FLAG_W,CTDFLUOR,CTDFLUOR_FLAG_W,CTDXMISS,CTDXMISS_FLAG_W,SBE35,SBE35_FLAG_W
,,,,,,,,,,,METERS,DBAR,ITS-90,,,PSS-78,,PSS-78,,UMOL/KG,,UMOL/KG,,UMOL/KG,,UMOL/KG,,UMOL/KG,,UMOL/KG,,UMOL/KG,,PMOL/KG,,PMOL/KG,,PMOL/KG,,FMOL/KG,,UMOL/KG,,UMOL/KG,,UMOL/KG,,UG/KG,,nMOL/L,,nMOL/L,,VOLTS,,VOLTS,,MG/M^3,,1/M,,1/M,,1/M,,MG/M^3,,%TRANS,,,
  49NZ20191205,  I08N,    12,  1,     36,   1236,2,20191207,1216,  3.6719,  80.0007, 4358,     10.1,  29.2149,  29.2138,2,  34.0695,2,  34.0702,2,    196.6,2,    196.6,2,     1.48,2,     0.01,2,     0.00,2,     0.09,2,     0.02,2,    1.400,2,    0.910,2,    0.117,2,    1.558,2,   1926.9, 2,   2245.3,2,     66.2,2,     0.10,2,     63.7,2,    283.7,2,    0.000,2,    0.000,2,   1.1830,1,   0.2120,2,   0.0930,2,   0.0080,2,    0.083,2,   98.353,2,  29.2138,2
  49NZ20191205,  I08N,    12,  1,     35,   1235,2,20191207,1216,  3.6719,  80.0007, 4358,     49.8,  29.4545,  29.4517,2,  34.4934,2,  34.4826,2,    195.5,2,    195.5,2,     1.47,2,     0.01,2,     0.00,2,     0.10,2,     0.05,2,    1.370,2,    0.893,2,    0.108,2,    1.478,2,   1940.5, 2,   2263.9,2,     65.1,2,     0.15,2,     78.7,2,    296.7,2,    0.000,2,    0.000,2,   1.1440,1,   0.1980,2,   0.0980,2,   0.0070,2,    0.163,2,   98.542,2,  29.4517,2
  49NZ20191205,  I08N,    12,  1,     34,   1234,2,20191207,1216,  3.6719,  80.0007, 4358,    100.5,  17.2971,  17.3083,2,  34.8977,2,  34.8980,2,     14.3,2,     14.5,2,    24.49,2,    28.03,2,     0.01,2,     2.02,2,     0.04,2,    1.124,2,    0.684,2,    0.005,2,    0.614,2,   2209.2, 2,   2298.7,2,     46.2,2,     0.02,2,     71.7,2,    439.1,2,    0.000,2,    0.000,2,   1.6680,1,   0.3370,2,   0.1930,2,   0.0330,2,    0.012,2,   99.523,2,  17.3083,2
  49NZ20191205,  I08N,    12,  1,     33,   1233,2,20191207,1216,  3.6719,  80.0007, 4358,    149.6,  13.9541,  13.9497,2,  34.9926,2,  34.9957,2,      7.8,2,      7.8,2,    31.37,2,    31.48,2,     0.00,2,     2.29,2,     0.03,2,    0.937,2,    0.540,2,    0.012,2,    0.358,2,   2251.2, 2,   2311.4,2,     41.6,2,     0.01,2,     33.5,2,    457.0,2,    0.000,2,    0.000,2,   1.7110,1,   0.3360,2,   0.1930,2,   0.0330,2,   -0.005,2,   99.546,2,  13.9497,2
  49NZ20191205,  I08N,    12,  1,     32,   1232,2,20191207,1216,  3.6719,  80.0007, 4358,    199.6,  12.5762,  12.5760,2,  35.0392,2,  35.0396,2,     12.9,2,     12.4,2,    33.09,2,    32.59,2,     0.00,2,     2.32,2,     0.04,2,    0.919,2,    0.524,2,    0.015,2,    0.298,2,   2264.1, 2,   2314.4,2,     42.9,2,     0.01,2,     71.8,2,    426.9,2,    0.000,2,    0.000,2,   1.6920,1,   0.3480,2,   0.1990,2,   0.0360,2,    0.001,2,   99.546,2,  12.5760,2
  49NZ20191205,  I08N,    12,  1,     31,   1231,2,20191207,1216,  3.6719,  80.0007, 4358,    249.9,  11.9795,  11.9798,2,  35.0864,2,  35.0864,2,     63.4,2,     60.8,2,    24.60,2,    28.56,2,     0.00,2,     1.96,2,     0.07,2,    1.600,2,    0.887,2,    0.017,2,    0.504,2,   2232.6, 2,   2314.6,2,     43.0,2,     0.01,2,     68.8,2,    449.5,2,    0.000,2,    0.000,2,   1.5660,1,-999.0000,9,-999.0000,9,-999.0000,9,    0.002,2,   99.527,2,  11.9798,2
  49NZ20191205,  I08N,    12,  1,     30,   1230,2,20191207,1216,  3.6719,  80.0007, 4358,    279.4,  11.6165,  11.6162,2,  35.0643,2,  35.0657,2,     70.9,2,     66.8,2,    25.20,2,    28.70,2,     0.01,2,     1.96,2,     0.05,2,    1.591,2,    0.878,2,    0.016,2,    0.531,2,   2231.0, 2,   2312.3,2,     45.0,2,  -999.00,9,     58.9,2,    447.4,2,    0.000,2,    0.000,2,   1.5460,1,   0.2970,2,   0.1650,2,   0.0270,2,    0.003,2,   99.559,2,  11.6162,2
  49NZ20191205,  I08N,    12,  1,     29,   1229,2,20191207,1216,  3.6719,  80.0007, 4358,    370.4,  11.0441,  11.0439,2,  35.0656,2,  35.0636,2,     56.6,2,     55.9,2,    30.03,2,    30.90,2,     0.01,2,     2.12,2,     0.04,2,    1.303,2,    0.715,2,    0.015,2,    0.327,2,   2244.9, 2,   2315.6,2,     45.2,2,  -999.00,9,     65.7,2,    444.5,2,    0.000,2,    0.000,2,   1.5810,1,   0.3130,2,   0.1790,2,   0.0350,2,    0.004,2,   99.565,2,  11.0439,2
  49NZ20191205,  I08N,    12,  1,     28,   1228,2,20191207,1216,  3.6719,  80.0007, 4358,    469.9,  10.5991,  10.5990,2,  35.1138,2,  35.1184,2,     37.7,2,     37.4,2,    37.22,2,    33.19,2,     0.01,2,     2.34,2,     0.05,2,    0.862,2,    0.474,2,    0.011,2,      0.2,2,   2264.6, 2,   2324.0,2,     43.6,2,  -999.00,9,     85.3,2,    458.3,2,    0.000,2,    0.000,2,   1.6220,1,   0.3230,2,   0.1870,2,   0.0390,2,    0.005,2,   99.641,2,  10.5990,2
  49NZ20191205,  I08N,    12,  1,     27,   1227,2,20191207,1216,  3.6719,  80.0007, 4358,    569.5,   9.6084,   9.6084,2,  35.0379,2,  35.0392,2,     31.3,2,     29.9,2,    48.19,2,    35.34,2,     0.01,2,     2.53,2,     0.07,2,    0.436,2,    0.237,2,    0.007,2,    0.071,2,   2280.0, 2,   2328.1,2,     42.0,2,  -999.00,9,     83.1,2,    454.9,2,    0.000,2,    0.000,2,   1.6400,1,   0.3690,2,   0.2280,2,   0.0510,2,    0.004,2,   99.713,2,   9.6084,2
  49NZ20191205,  I08N,    12,  1,     26,   1226,2,20191207,1216,  3.6719,  80.0007, 4358,    671.3,   9.1376,   9.1376,2,  35.0323,2,  35.0327,2,     33.8,2,     33.6,2,    53.01,2,    35.72,2,     0.01,2,     2.57,2,     0.06,2,    0.346,2,    0.187,2,    0.004,2,    0.065,2,   2283.0, 6,   2335.6,2,     45.9,3,  -999.00,9,     58.3,2,    419.9,2,    0.000,2,    0.000,2,   1.6470,1,-999.0000,9,-999.0000,9,-999.0000,9,    0.004,2,   99.753,2,   9.1376,2
  49NZ20191205,  I08N,    12,  1,     25,   1225,2,20191207,1216,  3.6719,  80.0007, 4358,    768.4,   8.3764,   8.3760,2,  35.0075,2,  35.0076,2,     27.8,2,     27.6,2,    64.87,2,    37.25,2,     0.03,2,     2.70,2,     0.08,2,    0.154,2,    0.084,2,    0.006,2,     0.03,2,   2301.5, 2,   2348.3,2,     40.4,2,  -999.00,9,     65.7,2,    451.7,2,    0.000,2,    0.000,2,   1.6950,1,   0.3900,2,   0.2360,2,   0.0560,2,    0.003,2,   99.742,2,   8.3760,2
  49NZ20191205,  I08N,    12,  1,     24,   1224,2,20191207,1216,  3.6719,  80.0007, 4358,    868.3,   7.6558,   7.6560,2,  34.9729,2,  34.9728,2,     33.4,2,     33.2,2,    73.52,2,    37.18,2,     0.01,2,     2.73,2,     0.08,2,    0.094,2,    0.052,2,    0.002,2,    0.008,2,   2309.1, 2,   2357.1,2,     41.9,2,  -999.00,9,     62.2,2,    447.1,2,    0.000,2,    0.000,2,   1.7040,1,-999.0000,9,-999.0000,9,-999.0000,9,    0.003,2,   99.761,2,   7.6560,2
  49NZ20191205,  I08N,    12,  1,     23,   1223,2,20191207,1216,  3.6719,  80.0007, 4358,    971.0,   6.8703,   6.8701,2,  34.9429,2,  34.9438,2,     42.8,2,     42.8,2,    82.41,2,    37.86,2,     0.01,2,     2.76,2,     0.06,2,    0.073,2,    0.039,2,    0.008,2,    0.049,2,   2316.4, 2,   2363.3,2,     42.9,2,  -999.00,9,     67.5,2,    447.7,2,    0.000,2,    0.000,2,   1.7130,1,   0.3840,2,   0.2260,2,   0.0500,2,    0.001,2,   99.797,2,   6.8701,2
  49NZ20191205,  I08N,    12,  1,     22,   1222,2,20191207,1216,  3.6719,  80.0007, 4358,   1128.1,   6.1079,   6.1081,2,  34.9145,2,  34.9149,2,     53.6,2,     54.0,2,    90.81,2,    37.51,2,     0.01,2,     2.75,2,     0.09,2,    0.040,2,    0.021,2,    0.002,2,        0,2,   2319.8, 2,   2371.9,6,     41.9,2,  -999.00,9,     76.3,2,    471.1,2,    0.000,2,    0.000,2,   1.7080,1,-999.0000,9,-999.0000,9,-999.0000,9,    0.002,2,   99.807,2,   6.1081,2
  49NZ20191205,  I08N,    12,  1,     21,   1221,2,20191207,1216,  3.6719,  80.0007, 4358,   1329.4,   5.4250,   5.4256,2,  34.8899,2,  34.8901,2,     65.0,2,     64.9,2,    97.65,2,    37.68,2,     0.01,2,     2.74,2,     0.06,2,    0.027,2,    0.012,2,    0.000,2,    0.029,2,   2320.3, 2,   2377.3,2,     40.8,2,  -999.00,9,    118.9,2,    472.7,2,    0.000,2,    0.000,2,   1.7050,1,   0.3820,2,   0.2310,2,   0.0530,2,    0.001,2,   99.835,2,   5.4256,2
  49NZ20191205,  I08N,    12,  1,     20,   1220,2,20191207,1216,  3.6719,  80.0007, 4358,   1529.1,   4.5111,   4.5135,2,  34.8566,2,  34.8577,2,     83.9,2,     83.2,2,   105.36,2,    37.20,2,     0.01,2,     2.69,2,     0.07,2,    0.021,2,    0.010,2,    0.001,2,    0.013,2,   2326.4, 2,   2385.4,2,     38.2,2,  -999.00,9,     91.5,2,    469.0,2,    0.000,2,    0.000,2,   1.6780,1,-999.0000,9,-999.0000,9,-999.0000,9,    0.001,2,   99.877,2,   4.5135,2
  49NZ20191205,  I08N,    12,  1,     19,   1219,2,20191207,1216,  3.6719,  80.0007, 4358,   1730.7,   3.6954,   3.6950,2,  34.8242,2,  34.8236,2,     99.9,2,    100.0,2,   114.66,2,    36.87,2,     0.00,2,     2.65,2,     0.07,2,    0.016,2,    0.007,2,    0.005,2,    0.007,2,   2325.7, 2,   2394.1,2,     43.2,2,  -999.00,9,     -999,9,   -999.0,9,    0.000,2,    0.000,2,   1.6780,1,   0.3680,2,   0.2140,2,   0.0450,2,    0.000,2,   99.877,2,   3.6950,2
  49NZ20191205,  I08N,    12,  1,     18,   1218,2,20191207,1216,  3.6719,  80.0007, 4358,   1928.8,   2.9768,   2.9734,2,  34.7912,2,  34.7908,2,    115.1,2,    114.4,2,   123.29,2,    36.56,2,     0.00,2,     2.60,2,     0.06,2,    0.020,2,    0.010,2,    0.001,2,    0.015,2,   2328.2, 2,   2404.1,2,     39.4,2,  -999.00,9,     -999,9,   -999.0,9,    0.000,2,    0.000,2,   1.6650,1,-999.0000,9,-999.0000,9,-999.0000,9,    0.001,2,   99.881,2,   2.9734,2
  49NZ20191205,  I08N,    12,  1,     17,   1217,2,20191207,1216,  3.6719,  80.0007, 4358,   2131.2,   2.5467,   2.5462,2,  34.7685,2,  34.7696,2,    128.0,2,    126.9,2,   126.04,2,    35.97,2,     0.01,2,     2.54,2,     0.09,2,    0.012,2,    0.006,2,    0.006,2,    0.002,2,   2325.7, 2,   2405.9,2,     41.7,2,  -999.00,9,     -999,9,   -999.0,9,    0.000,2,    0.000,2,   1.6500,1,   0.3620,2,   0.2130,2,   0.0470,2,    0.001,2,   99.883,2,   2.5462,2
  49NZ20191205,  I08N,    12,  1,     16,   1216,2,20191207,1216,  3.6719,  80.0007, 4358,   2330.3,   2.2940,   2.2940,2,  34.7570,2,  34.7569,2,    133.4,2,    133.2,2,   130.47,2,    35.72,2,     0.01,2,     2.52,2,     0.07,2,    0.013,2,    0.006,2,    0.003,2,    0.001,2,   2327.2, 6,   2412.2,2,     42.2,2,  -999.00,9,     -999,9,   -999.0,9,    0.000,2,    0.000,2,   1.6520,1,-999.0000,9,-999.0000,9,-999.0000,9,    0.000,2,   99.889,2,   2.2940,2
  49NZ20191205,  I08N,    12,  1,     14,   1214,2,20191207,1216,  3.6719,  80.0007, 4358,   2729.3,   1.9067,   1.9070,2,  34.7399,2,  34.7409,2,    141.3,2,    141.2,2,   137.65,2,    35.64,2,     0.01,2,     2.50,2,     0.06,2,    0.013,2,    0.005,2,    0.003,2,    0.003,2,   2330.3, 2,   2420.4,2,     40.4,2,  -999.00,9,     -999,9,   -999.0,9,    0.000,2,    0.000,2,   1.6660,1,-999.0000,9,-999.0000,9,-999.0000,9,    0.001,2,   99.889,2,   1.9070,2
  49NZ20191205,  I08N,    12,  1,     13,   1213,2,20191207,1216,  3.6719,  80.0007, 4358,   2930.1,   1.7437,   1.7441,2,  34.7328,2,  34.7338,2,    149.0,2,    149.0,2,   137.86,2,    35.19,2,     0.00,2,     2.45,2,     0.04,2,    0.016,2,    0.008,2,    0.005,2,    0.019,2,   2329.0, 2,   2419.9,2,     38.9,2,  -999.00,9,     -999,9,   -999.0,9,    0.000,2,    0.000,2,   1.6390,1,   0.3790,2,   0.2290,2,   0.0520,2,    0.000,2,   99.894,2,   1.7441,2
  49NZ20191205,  I08N,    12,  1,     12,   1212,2,20191207,1216,  3.6719,  80.0007, 4358,   3169.6,   1.5940,   1.5938,2,  34.7271,2,  34.7274,2,    150.8,2,    150.9,2,   142.39,2,    35.31,2,     0.01,2,     2.45,2,     0.06,2,    0.016,2,    0.007,2,    0.000,2,    0.001,2,   2332.8, 2,   2427.0,6,     38.0,2,  -999.00,9,     -999,9,   -999.0,9,    0.000,2,    0.000,2,   1.6530,1,-999.0000,9,-999.0000,9,-999.0000,9,    0.000,2,   99.889,2,   1.5938,2
  49NZ20191205,  I08N,    12,  1,     11,   1211,2,20191207,1216,  3.6719,  80.0007, 4358,   3420.9,   1.5151,   1.5150,2,  34.7237,2,  34.7237,2,    156.3,2,    156.5,2,   142.22,2,    35.10,2,     0.01,2,     2.42,2,     0.06,2,    0.018,2,    0.008,2,    0.002,2,    0.012,2,   2332.4, 2,   2426.4,2,     34.8,2,  -999.00,9,     -999,9,   -999.0,9,    0.000,2,    0.000,2,   1.6300,1,   0.3510,2,   0.2020,2,   0.0420,2,    0.000,2,   99.877,2,   1.5150,2
  49NZ20191205,  I08N,    12,  1,     10,   1210,2,20191207,1216,  3.6719,  80.0007, 4358,   3669.2,   1.4611,   1.4610,2,  34.7212,2,  34.7207,2,    158.4,2,    158.7,2,   143.46,2,    35.13,2,     0.01,2,     2.43,2,     0.06,2,    0.023,2,    0.009,2,    0.000,2,    0.006,2,   2333.8, 2,   2430.6,2,     40.4,2,  -999.00,9,     -999,9,   -999.0,9,    0.000,2,    0.000,2,   1.6360,1,-999.0000,9,-999.0000,9,-999.0000,9,   -0.001,2,   99.830,2,   1.4610,2
  49NZ20191205,  I08N,    12,  1,      9,   1209,2,20191207,1216,  3.6719,  80.0007, 4358,   3918.1,   1.4328,   1.4328,2,  34.7196,2,  34.7195,2,    164.6,2,    164.9,2,   141.21,2,    34.75,2,     0.00,2,     2.38,2,     0.06,2,    0.031,2,    0.013,2,    0.004,2,    0.049,2,   2323.7, 2,   2424.2,2,     38.0,2,  -999.00,9,     -999,9,   -999.0,9,    0.000,2,    0.000,2,   1.6030,1,   0.3460,2,   0.1960,2,   0.0360,2,    0.000,2,   99.902,2,   1.4328,2
  49NZ20191205,  I08N,    12,  1,      8,   1208,2,20191207,1216,  3.6719,  80.0007, 4358,   4171.8,   1.4229,   1.4229,2,  34.7183,2,  34.7191,2,    167.7,2,    167.8,2,   140.08,2,    34.57,2,     0.00,2,     2.37,2,     0.06,2,    0.023,2,    0.009,2,    0.003,2,    0.021,2,   2320.8, 6,   2419.8,2,     39.1,2,  -999.00,9,     -999,9,   -999.0,9,    0.000,2,    0.000,2,   1.5780,1,-999.0000,9,-999.0000,9,-999.0000,9,    0.000,2,   99.917,2,   1.4229,2
  49NZ20191205,  I08N,    12,  1,      2,  12046,2,20191207,1216,  3.6719,  80.0007, 4358,     57.2,  29.1567,  29.1588,2,  34.8545,2,  34.7632,2,    192.9,2,    194.8,2,     1.49,2,     0.01,2,     0.01,2,     0.12,2,     0.03,2, -999.000,9, -999.000,9, -999.000,9,     -999,9,   1959.1, 2,   2276.1,2,     72.3,2,     0.27,2,     51.9,2,    160.7,2,    0.000,2,    0.000,2,   1.2530,1,   0.3180,2,   0.1710,2,   0.0330,2,    0.241,2,   98.511,2,  29.1588,2
  49NZ20191205,  I08N,    12,  1,      1,   1201,2,20191207,1216,  3.6719,  80.0007, 4358,   4410.0,   1.4204,   1.4203,2,  34.7176,2,  34.7183,2,    171.6,2,    172.3,2,   138.02,2,    34.46,2,     0.01,2,     2.35,2,     0.08,2,    0.016,2,    0.007,2,    0.002,2,        0,2,   2319.1, 2,   2423.8,2,     39.3,2,  -999.00,9,     -999,9,   -999.0,9,    0.000,2,    0.000,2,   1.5570,1,   0.3370,2,   0.1910,2,   0.0410,2,    0.000,2,   99.793,2,   1.4203,2