BOTTLE,20210412PRINUNIVRMK
EXPOCODE,SECT_ID,STNNBR,CASTNO,SAMPNO,BTLNBR,BTLNBR_FLAG_W,DATE,TIME,LATITUDE,LONGITUDE,DEPTH,CTDPRS,CTDTMP,SBE35,SBE35_FLAG_W,CTDSAL,CTDSAL_FLAG_W,SALNTY,SALNTY_FLAG_W,CTDOXY,CTDOXY_FLAG_W,OXYGEN,OXYGEN_FLAG_W,SILCAT,SILCAT_FLAG_W,NITRAT,NITRAT_FLAG_W,NITRIT,NITRIT_FLAG_W,PHSPHT,PHSPHT_FLAG_W,NH4,NH4_FLAG_W,CFC-11,CFC-11_FLAG_W,CFC-12,CFC-12_FLAG_W,CFC113,CFC113_FLAG_W,SF6,SF6_FLAG_W,TCARBN,TCARBN_FLAG_W,ALKALI,ALKALI_FLAG_W,DOC,DOC_FLAG_W,CHLWELSH,CHLWELSH_FLAG_W,UREA,UREA_FLAG_W,IODATE,IODATE_FLAG_W,PAR,PAR_FLAG_W,PAR,PAR_FLAG_W,CDOM,CDOM_FLAG_W,CDOM300,CDOM300_FLAG_W,CDOM325,CDOM325_FLAG_W,CDOM443,CDOM443_FLAG_W,CTDFLUOR,CTDFLUOR_FLAG_W,CTDXMISS,CTDXMISS_FLAG_W,SBE35,SBE35_FLAG_W
,,,,,,,,,,,METERS,DBAR,ITS-90,,,PSS-78,,PSS-78,,UMOL/KG,,UMOL/KG,,UMOL/KG,,UMOL/KG,,UMOL/KG,,UMOL/KG,,UMOL/KG,,PMOL/KG,,PMOL/KG,,PMOL/KG,,FMOL/KG,,UMOL/KG,,UMOL/KG,,UMOL/KG,,UG/KG,,nMOL/L,,nMOL/L,,VOLTS,,VOLTS,,MG/M^3,,1/M,,1/M,,1/M,,MG/M^3,,%TRANS,,,
  49NZ20191205,  I08N,    17,  1,     36,   1236,2,20191208,1209,  2.0011,  80.0008, 3875,     10.2,  29.3122,  29.3161,2,  33.8384,2,  33.7971,2,    197.2,2,    196.8,2,     1.74,2,     0.03,2,     0.01,2,     0.08,2,     0.03,2,    1.401,2,    0.903,2,    0.116,2,    1.549,2,   1909.7, 2,   2219.6,2,     69.8,2,     0.10,2,     23.6,2,    270.6,2,    0.000,2,    0.000,2,   1.1880,1,   0.2100,2,   0.1060,2,   0.0080,2,    0.100,2,   98.329,2,  29.3161,2
  49NZ20191205,  I08N,    17,  1,     35,   1235,2,20191208,1209,  2.0011,  80.0008, 3875,     49.9,  29.1105,  29.1100,2,  34.5150,2,  34.5218,2,    194.5,2,    194.1,2,     1.52,2,     0.01,2,     0.01,2,     0.12,2,     0.02,2,    1.403,2,    0.897,2,    0.116,2,    1.536,2,   1948.2, 2,   2264.5,2,     70.4,2,     0.46,2,     72.1,2,    291.7,2,    0.000,2,    0.000,2,   1.2570,1,   0.3330,2,   0.1930,2,   0.0350,2,    0.363,2,   97.754,2,  29.1100,2
  49NZ20191205,  I08N,    17,  1,     34,   1234,2,20191208,1209,  2.0011,  80.0008, 3875,     99.2,  19.6561,  19.6641,2,  35.2775,2,  35.2776,2,     41.2,2,     41.3,2,    15.83,2,    23.52,2,     0.05,2,     1.70,2,     0.03,2,    1.470,2,    0.901,2,    0.014,2,    0.919,2,   2182.2, 2,   2311.3,2,     51.9,2,     0.14,2,     37.1,2,    422.1,2,    0.000,2,    0.000,2,   1.5940,1,   0.3470,2,   0.2090,2,   0.0300,2,    0.189,2,   99.413,2,  19.6641,2
  49NZ20191205,  I08N,    17,  1,     33,   1233,2,20191208,1209,  2.0011,  80.0008, 3875,    150.1,  14.1565,  14.1550,2,  35.1209,2,  35.1201,2,     49.9,2,     49.1,2,    22.02,2,    27.24,2,     0.01,2,     1.91,2,     0.03,2,    1.596,2,    0.919,2,    0.011,2,     0.66,2,   2216.3, 2,   2312.2,2,     47.9,2,     0.01,2,     67.1,2,    447.7,2,    0.000,2,    0.000,2,   1.5860,1,   0.3430,2,   0.2140,2,   0.0400,2,   -0.002,2,   99.560,2,  14.1550,2
  49NZ20191205,  I08N,    17,  1,     32,   1232,2,20191208,1209,  2.0011,  80.0008, 3875,    199.3,  13.4825,  13.4830,2,  35.1239,2,  35.1227,2,     61.4,2,     62.3,2,    21.41,2,    26.67,2,     0.01,2,     1.86,2,     0.02,2,    1.741,2,    0.987,2,    0.021,2,    0.666,2,   2218.1, 2,   2312.9,2,     47.1,2,     0.01,2,     26.5,2,    481.5,2,    0.000,2,    0.000,2,   1.5660,1,   0.3100,2,   0.1900,2,   0.0330,2,   -0.002,2,   99.562,2,  13.4830,2
  49NZ20191205,  I08N,    17,  1,     31,   1231,2,20191208,1209,  2.0011,  80.0008, 3875,    250.3,  11.7701,  11.7700,2,  35.0700,2,  35.0697,2,     74.7,2,     74.2,2,    23.68,2,    27.84,2,     0.01,2,     1.90,2,     0.03,2,    1.695,2,    0.946,2,    0.015,2,    0.549,2,   2219.4, 2,   2314.3,2,     42.6,2,     0.01,2,     32.9,2,    435.7,2,    0.000,2,    0.000,2,   1.5220,1,-999.0000,9,-999.0000,9,-999.0000,9,    0.003,2,   99.552,2,  11.7700,2
  49NZ20191205,  I08N,    17,  1,     30,   1230,2,20191208,1209,  2.0011,  80.0008, 3875,    329.7,  11.1276,  11.1288,2,  35.0306,2,  35.0304,2,     76.8,2,     76.4,2,    25.70,2,    28.75,2,     0.01,2,     1.96,2,     0.02,2,    1.585,2,    0.870,2,    0.014,2,     0.46,2,   2224.5, 2,   2315.0,2,     43.9,2,  -999.00,9,     23.2,2,    452.7,2,    0.000,2,    0.000,2,   1.5230,1,   0.3180,2,   0.1920,2,   0.0370,2,    0.004,2,   99.585,2,  11.1288,2
  49NZ20191205,  I08N,    17,  1,     29,   1229,2,20191208,1209,  2.0011,  80.0008, 3875,    430.3,  10.6474,  10.6469,2,  35.0182,2,  35.0169,2,     75.6,2,     75.5,2,    28.72,2,    29.86,2,     0.02,2,     2.04,2,     0.04,2,    1.450,2,    0.785,2,    0.022,2,     0.44,2,   2228.8, 2,   2321.6,2,     41.0,2,  -999.00,9,     76.6,2,    448.5,2,    0.000,2,    0.000,2,   1.5200,1,   0.2900,2,   0.1780,2,   0.0310,2,    0.004,2,   99.625,2,  10.6469,2
  49NZ20191205,  I08N,    17,  1,     28,   1228,2,20191208,1209,  2.0011,  80.0008, 3875,    528.9,  10.0779,  10.0776,2,  35.0154,2,  35.0151,2,     60.7,2,     59.9,2,    36.50,2,    32.17,2,     0.01,2,     2.26,2,     0.03,2,    0.991,2,    0.527,2,    0.014,2,    0.263,2,   2245.6, 2,   2322.4,2,     42.4,2,  -999.00,9,     35.3,2,    448.2,2,    0.000,2,    0.000,2,   1.5570,1,   0.3040,2,   0.1820,2,   0.0350,2,    0.004,2,   99.705,2,  10.0776,2
  49NZ20191205,  I08N,    17,  1,     27,   1227,2,20191208,1209,  2.0011,  80.0008, 3875,    630.7,   9.4515,   9.4515,2,  35.0268,2,  35.0280,2,     55.3,2,     54.0,2,    45.07,2,    33.36,2,     0.01,2,     2.39,2,     0.04,2,    0.670,2,    0.364,2,    0.007,2,    0.191,2,   2259.1, 2,   2329.5,2,     40.3,2,  -999.00,9,       99,2,    459.4,2,    0.000,2,    0.000,2,   1.5750,1,   0.3170,2,   0.1930,2,   0.0360,2,    0.003,2,   99.739,2,   9.4515,2
  49NZ20191205,  I08N,    17,  1,     26,   1226,2,20191208,1209,  2.0011,  80.0008, 3875,    729.1,   8.7488,   8.7499,2,  35.0379,2,  35.0345,2,     39.0,2,     38.4,2,    57.95,2,    35.85,2,     0.01,2,     2.60,2,     0.04,2,    0.291,2,    0.162,2,    0.005,2,    0.055,2,   2281.4, 6,   2339.1,2,     35.9,2,  -999.00,9,     63.2,2,    465.5,2,    0.000,2,    0.000,2,   1.6440,1,-999.0000,9,-999.0000,9,-999.0000,9,    0.003,2,   99.762,2,   8.7499,2
  49NZ20191205,  I08N,    17,  1,     25,   1225,2,20191208,1209,  2.0011,  80.0008, 3875,    828.9,   8.0761,   8.0768,2,  35.0082,2,  35.0055,2,     41.1,2,     41.2,2,    66.25,2,    36.63,2,     0.01,2,     2.66,2,     0.03,2,    0.173,2,    0.096,2,    0.007,2,     0.04,2,   2290.5, 2,   2353.4,2,     36.8,2,  -999.00,9,     22.5,2,    422.9,2,    0.000,2,    0.000,2,   1.6490,1,   0.3770,2,   0.2370,2,   0.0480,2,    0.003,2,   99.788,2,   8.0768,2
  49NZ20191205,  I08N,    17,  1,     24,   1224,2,20191208,1209,  2.0011,  80.0008, 3875,    930.1,   7.2536,   7.2619,2,  34.9690,2,  34.9668,2,     43.5,2,     43.8,2,    77.02,2,    37.34,2,     0.01,2,     2.72,2,     0.03,2,    0.084,2,    0.046,2,    0.003,2,    0.007,2,   2301.3, 2,   2363.2,2,     34.4,2,  -999.00,9,     26.2,2,    430.6,2,    0.000,2,    0.000,2,   1.6730,1,-999.0000,9,-999.0000,9,-999.0000,9,    0.002,2,   99.813,2,   7.2619,2
  49NZ20191205,  I08N,    17,  1,     23,   1223,2,20191208,1209,  2.0011,  80.0008, 3875,   1069.8,   6.2942,   6.2997,2,  34.9248,2,  34.9244,2,     54.6,2,     54.6,2,    87.23,2,    37.61,2,     0.01,2,     2.74,2,     0.03,2,    0.051,2,    0.026,2,    0.003,2,    0.024,2,   2308.8, 2,   2374.8,2,     35.8,2,  -999.00,9,     18.2,2,    444.2,2,    0.000,2,    0.000,2,   1.6860,1,   0.3480,2,   0.2140,2,   0.0350,2,    0.002,2,   99.815,2,   6.2997,2
  49NZ20191205,  I08N,    17,  1,     22,   1222,2,20191208,1209,  2.0011,  80.0008, 3875,   1267.5,   5.5948,   5.5928,2,  34.8990,2,  34.8995,2,     65.1,2,     64.4,2,    94.11,2,    37.64,2,     0.01,2,     2.74,2,     0.03,2,    0.036,2,    0.017,2,    0.002,2,    0.006,2,   2314.2, 2,   2381.4,6,     39.7,2,  -999.00,9,    105.5,2,    459.4,2,    0.000,2,    0.000,2,   1.6660,1,-999.0000,9,-999.0000,9,-999.0000,9,    0.001,2,   99.836,2,   5.5928,2
  49NZ20191205,  I08N,    17,  1,     21,   1221,2,20191208,1209,  2.0011,  80.0008, 3875,   1469.4,   4.6866,   4.6873,2,  34.8627,2,  34.8627,2,     81.4,2,     81.5,2,   102.93,2,    37.30,2,     0.01,2,     2.72,2,     0.03,2,    0.028,2,    0.011,2,    0.001,2,    0.005,2,   2316.8, 2,   2382.9,2,     37.0,2,  -999.00,9,     16.1,2,    439.7,2,    0.000,2,    0.000,2,   1.6630,1,   0.3490,2,   0.2220,2,   0.0390,2,    0.001,2,   99.853,2,   4.6873,2
  49NZ20191205,  I08N,    17,  1,     20,   1220,2,20191208,1209,  2.0011,  80.0008, 3875,   1668.1,   3.8396,   3.8402,2,  34.8257,2,  34.8263,2,     99.2,2,     98.4,2,   111.12,2,    36.84,2,     0.01,2,     2.66,2,     0.03,2,    0.025,2,    0.013,2,    0.000,2,    0.022,2,   2318.6, 2,   2392.9,2,     38.7,2,  -999.00,9,     18.7,2,    483.7,2,    0.000,2,    0.000,2,   1.6620,1,-999.0000,9,-999.0000,9,-999.0000,9,    0.001,2,   99.868,2,   3.8402,2
  49NZ20191205,  I08N,    17,  1,     19,   1219,2,20191208,1209,  2.0011,  80.0008, 3875,   1869.5,   3.1341,   3.1347,2,  34.7956,2,  34.7954,2,    114.2,2,    114.1,2,   119.65,2,    36.50,2,     0.01,2,     2.62,2,     0.04,2,    0.017,2,    0.007,2,    0.001,2,    0.008,2,   2320.6, 2,   2397.4,2,     38.5,2,  -999.00,9,     -999,9,   -999.0,9,    0.000,2,    0.000,2,   1.6350,1,   0.3590,2,   0.2280,2,   0.0370,2,    0.000,2,   99.878,2,   3.1347,2
  49NZ20191205,  I08N,    17,  1,     18,   1218,2,20191208,1209,  2.0011,  80.0008, 3875,   2069.3,   2.6671,   2.6679,2,  34.7734,2,  34.7732,2,    127.7,2,    127.3,2,   123.65,2,    36.03,2,     0.01,2,     2.56,2,     0.03,2,    0.014,2,    0.006,2,    0.001,2,    0.007,2,   2321.3, 2,   2402.7,2,     37.4,2,  -999.00,9,     -999,9,   -999.0,9,    0.000,2,    0.000,2,   1.6110,1,-999.0000,9,-999.0000,9,-999.0000,9,    0.000,2,   99.893,2,   2.6679,2
  49NZ20191205,  I08N,    17,  1,     17,   1217,2,20191208,1209,  2.0011,  80.0008, 3875,   2269.7,   2.3163,   2.3167,2,  34.7577,2,  34.7581,2,    137.0,2,    136.7,2,   127.57,2,    35.72,2,     0.01,2,     2.50,2,     0.04,2,    0.017,2,    0.007,2,    0.002,2,    0.005,2,   2318.8, 2,   2406.0,2,     40.0,2,  -999.00,9,     -999,9,   -999.0,9,    0.000,2,    0.000,2,   1.6130,1,   0.3300,2,   0.2030,2,   0.0260,2,    0.000,2,   99.895,2,   2.3167,2
  49NZ20191205,  I08N,    17,  1,     16,   1216,2,20191208,1209,  2.0011,  80.0008, 3875,   2472.0,   2.1131,   2.1125,2,  34.7480,2,  34.7484,2,    145.3,2,    145.2,2,   128.56,2,    35.35,2,     0.01,2,     2.47,2,     0.04,2,    0.017,2,    0.007,2,    0.001,2,    0.006,2,   2314.5, 6,   2407.1,2,     36.8,2,  -999.00,9,     -999,9,   -999.0,9,    0.000,2,    0.000,2,   1.5830,1,-999.0000,9,-999.0000,9,-999.0000,9,    0.000,2,   99.905,2,   2.1125,2
  49NZ20191205,  I08N,    17,  1,     15,   1215,2,20191208,1209,  2.0011,  80.0008, 3875,   2669.0,   1.9278,   1.9278,2,  34.7398,2,  34.7393,2,    152.7,2,    152.3,2,   129.51,2,    35.03,2,     0.02,2,     2.44,2,     0.05,2,    0.015,2,    0.007,2,    0.002,2,        0,2,   2312.3, 2,   2403.7,2,     41.5,2,  -999.00,9,     -999,9,   -999.0,9,    0.000,2,    0.000,2,   1.5620,1,   0.3210,2,   0.1930,2,   0.0230,2,    0.000,2,   99.924,2,   1.9278,2
  49NZ20191205,  I08N,    17,  1,     14,   1214,2,20191208,1209,  2.0011,  80.0008, 3875,   2869.7,   1.7873,   1.7872,2,  34.7342,2,  34.7341,2,    153.9,2,    153.8,2,   133.37,2,    35.09,2,     0.01,2,     2.44,2,     0.02,2,    0.018,2,    0.006,2,    0.004,2,    0.031,2,   2317.5, 2,   2408.0,2,     38.6,2,  -999.00,9,     -999,9,   -999.0,9,    0.000,2,    0.000,2,   1.5860,1,-999.0000,9,-999.0000,9,-999.0000,9,    0.000,2,   99.916,2,   1.7872,2
  49NZ20191205,  I08N,    17,  1,     13,   1213,2,20191208,1209,  2.0011,  80.0008, 3875,   3081.9,   1.6843,   1.6843,2,  34.7300,2,  34.7305,2,    157.0,2,    157.0,2,   135.03,2,    35.07,2,     0.01,2,     2.43,2,     0.04,2,    0.013,2,    0.005,2,    0.001,2,    0.006,2,   2316.4, 2,   2415.7,2,     38.8,2,  -999.00,9,     -999,9,   -999.0,9,    0.000,2,    0.000,2,   1.5570,1,   0.3010,2,   0.1760,2,   0.0200,2,    0.001,2,   99.931,2,   1.6843,2
  49NZ20191205,  I08N,    17,  1,     12,   1212,2,20191208,1209,  2.0011,  80.0008, 3875,   3329.1,   1.5695,   1.5700,2,  34.7257,2,  34.7259,2,    158.9,2,    158.9,2,   138.16,2,    34.96,2,     0.01,2,     2.43,2,     0.04,2,    0.021,2,    0.008,2,    0.004,2,    0.005,2,   2321.2, 2,   2414.0,6,     38.1,2,  -999.00,9,     -999,9,   -999.0,9,    0.000,2,    0.000,2,   1.5820,1,-999.0000,9,-999.0000,9,-999.0000,9,    0.000,2,   99.941,2,   1.5700,2
  49NZ20191205,  I08N,    17,  1,     11,   1211,2,20191208,1209,  2.0011,  80.0008, 3875,   3580.3,   1.4438,   1.4438,2,  34.7210,2,  34.7211,2,    163.8,2,    163.8,2,   139.80,2,    34.82,2,     0.02,2,     2.40,2,     0.04,2,    0.016,2,    0.007,2,    0.001,2,    0.024,2,   2320.9, 2,   2419.5,2,     36.2,2,  -999.00,9,     -999,9,   -999.0,9,    0.000,2,    0.000,2,   1.5830,1,   0.3260,2,   0.1900,2,   0.0300,2,   -0.001,2,   99.954,2,   1.4438,2
  49NZ20191205,  I08N,    17,  1,     10,   1210,2,20191208,1209,  2.0011,  80.0008, 3875,   3828.9,   1.3878,   1.3878,2,  34.7185,2,  34.7190,2,    169.6,2,    169.6,2,   138.50,2,    34.68,2,     0.01,2,     2.38,2,     0.04,2,    0.021,2,    0.008,2,    0.002,2,    0.023,2,   2317.2, 2,   2423.7,2,     34.8,2,  -999.00,9,     -999,9,   -999.0,9,    0.000,2,    0.000,2,   1.5430,1,-999.0000,9,-999.0000,9,-999.0000,9,   -0.001,2,   99.941,2,   1.3878,2
  49NZ20191205,  I08N,    17,  1,      2,  12046,2,20191208,1209,  2.0011,  80.0008, 3875,     59.2,  29.0904,  29.0887,2,  34.6788,2,  34.6805,2,    192.0,2,    192.1,2,     1.55,2,     0.12,2,     0.02,2,     0.14,2,     0.08,2, -999.000,9, -999.000,9, -999.000,9,     -999,9,   1961.5, 2,   2273.0,2,     61.9,2,     0.53,2,     11.6,2,    266.1,2,    0.000,2,    0.000,2,   1.2740,1,   0.3190,2,   0.1760,2,   0.0230,2,    0.489,2,   97.971,2,  29.0887,2
  49NZ20191205,  I08N,    17,  1,      1,   1201,2,20191208,1209,  2.0011,  80.0008, 3875,   3910.6,   1.3899,   1.3898,2,  34.7185,2,  34.7185,2,    170.4,2,    170.5,2,   138.57,2,    34.68,2,     0.01,2,     2.39,2,     0.03,2,    0.019,2,    0.007,2,    0.004,2,    0.001,2,   2315.8, 2,   2422.3,2,     33.6,2,  -999.00,9,     -999,9,   -999.0,9,    0.000,2,    0.000,2,   1.5360,1,   0.3220,2,   0.1870,2,   0.0340,2,    0.000,2,   99.962,2,   1.3898,2