BOTTLE,20210412PRINUNIVRMK
EXPOCODE,SECT_ID,STNNBR,CASTNO,SAMPNO,BTLNBR,BTLNBR_FLAG_W,DATE,TIME,LATITUDE,LONGITUDE,DEPTH,CTDPRS,CTDTMP,SBE35,SBE35_FLAG_W,CTDSAL,CTDSAL_FLAG_W,SALNTY,SALNTY_FLAG_W,CTDOXY,CTDOXY_FLAG_W,OXYGEN,OXYGEN_FLAG_W,SILCAT,SILCAT_FLAG_W,NITRAT,NITRAT_FLAG_W,NITRIT,NITRIT_FLAG_W,PHSPHT,PHSPHT_FLAG_W,NH4,NH4_FLAG_W,CFC-11,CFC-11_FLAG_W,CFC-12,CFC-12_FLAG_W,CFC113,CFC113_FLAG_W,SF6,SF6_FLAG_W,TCARBN,TCARBN_FLAG_W,ALKALI,ALKALI_FLAG_W,DOC,DOC_FLAG_W,CHLWELSH,CHLWELSH_FLAG_W,UREA,UREA_FLAG_W,IODATE,IODATE_FLAG_W,PAR,PAR_FLAG_W,PAR,PAR_FLAG_W,CDOM,CDOM_FLAG_W,CDOM300,CDOM300_FLAG_W,CDOM325,CDOM325_FLAG_W,CDOM443,CDOM443_FLAG_W,CTDFLUOR,CTDFLUOR_FLAG_W,CTDXMISS,CTDXMISS_FLAG_W,SBE35,SBE35_FLAG_W
,,,,,,,,,,,METERS,DBAR,ITS-90,,,PSS-78,,PSS-78,,UMOL/KG,,UMOL/KG,,UMOL/KG,,UMOL/KG,,UMOL/KG,,UMOL/KG,,UMOL/KG,,PMOL/KG,,PMOL/KG,,PMOL/KG,,FMOL/KG,,UMOL/KG,,UMOL/KG,,UMOL/KG,,UG/KG,,nMOL/L,,nMOL/L,,VOLTS,,VOLTS,,MG/M^3,,1/M,,1/M,,1/M,,MG/M^3,,%TRANS,,,
  49NZ20191205,  I08N,    25,  1,     36,   1236,2,20191210,0221, -0.2511,  80.0055, 4683,     10.1,  28.7441,  28.7417,2,  34.5586,2,  34.5581,2,    196.2,2,    195.4,2,     0.99,2,     0.20,2,     0.01,2,     0.15,2,     0.09,2,    1.341,2,    0.866,2,    0.108,2,    1.495,2,   1956.1, 2,   2268.7,2,     80.1,2,     0.21,2,     22.7,2,    290.3,2,  671.146,2,  671.146,2,   1.1730,1,   0.2860,2,   0.1610,2,   0.0180,2,    0.148,2,   97.753,2,  28.7417,2
  49NZ20191205,  I08N,    25,  1,     35,   1235,2,20191210,0221, -0.2511,  80.0055, 4683,     49.6,  27.3151,  27.3196,2,  34.8154,2,  34.8046,2,    181.0,2,    181.5,2,     2.61,2,     1.20,2,     0.23,2,     0.26,2,     0.22,2,    1.417,2,    0.910,2,    0.095,2,    1.538,2,   1987.9, 2,   2282.1,2,     72.2,2,     0.44,2,       28,2,    306.6,2,   51.502,2,   51.502,2,   1.3330,1,   0.3150,2,   0.1910,2,   0.0250,2,    0.477,2,   98.038,2,  27.3196,2
  49NZ20191205,  I08N,    25,  1,     34,   1234,2,20191210,0221, -0.2511,  80.0055, 4683,     98.9,  22.0121,  21.9864,2,  35.2927,2,  35.2929,2,    114.7,2,    114.9,2,     8.08,2,    12.91,2,     0.07,2,     0.96,2,     0.03,2,    1.544,2,    1.025,2,    0.050,2,    1.262,2,   2108.1, 2,   2306.9,2,     60.2,2,     0.22,2,     20.6,2,    392.7,2,    0.428,2,    0.428,2,   1.4150,1,   0.3520,2,   0.2140,2,   0.0370,2,    0.220,2,   99.107,2,  21.9864,2
  49NZ20191205,  I08N,    25,  1,     33,   1233,2,20191210,0221, -0.2511,  80.0055, 4683,    151.2,  16.6750,  16.7030,2,  35.2076,2,  35.2030,2,     71.9,2,     73.9,2,    15.49,2,    21.59,2,     0.01,2,     1.51,2,     0.03,2,    1.730,2,    1.042,2,    0.009,2,    0.923,2,   2178.5, 2,   2307.5,2,     50.7,2,     0.03,2,     22.5,2,    433.3,2,    0.000,2,    0.000,2,   1.4980,1,   0.3970,2,   0.2470,2,   0.0510,2,    0.026,2,   99.581,2,  16.7030,2
  49NZ20191205,  I08N,    25,  1,     32,   1232,2,20191210,0221, -0.2511,  80.0055, 4683,    200.4,  13.3585,  13.3667,2,  35.1157,2,  35.1160,2,     67.9,2,     65.6,2,    20.66,2,    26.08,2,     0.01,2,     1.81,2,     0.02,2,    1.607,2,    0.963,2,    0.013,2,     0.65,2,   2211.4, 2,   2309.9,2,     50.5,2,     0.01,2,     45.4,2,    447.1,2,    0.000,2,    0.000,2,   1.5340,1,   0.3790,2,   0.2290,2,   0.0500,2,   -0.002,2,   99.537,2,  13.3667,2
  49NZ20191205,  I08N,    25,  1,     31,   1231,2,20191210,0221, -0.2511,  80.0055, 4683,    250.9,  12.6466,  12.6472,2,  35.0965,2,  35.0961,2,     77.6,2,     77.9,2,    20.72,2,    25.81,2,     0.01,2,     1.78,2,     0.04,2,    1.741,2,    0.993,2,    0.017,2,     0.65,2,   2210.3, 2,   2309.3,2,     45.6,2,     0.01,2,     13.6,2,    393.8,2,    0.000,2,    0.000,2,   1.5250,1,-999.0000,9,-999.0000,9,-999.0000,9,    0.000,2,   99.567,2,  12.6472,2
  49NZ20191205,  I08N,    25,  1,     30,   1230,2,20191210,0221, -0.2511,  80.0055, 4683,    327.2,  11.6868,  11.6903,2,  35.0481,2,  35.0486,2,     82.4,2,     82.1,2,    22.32,2,    26.81,2,     0.01,2,     1.83,2,     0.02,2,    1.694,2,    0.960,2,    0.019,2,    0.562,2,   2213.8, 2,   2309.1,2,     46.0,2,  -999.00,9,     19.1,2,    414.3,2,    0.000,2,    0.000,2,   1.4890,1,   0.4130,2,   0.2490,2,   0.0580,2,    0.003,2,   99.537,2,  11.6903,2
  49NZ20191205,  I08N,    25,  1,     29,   1229,2,20191210,0221, -0.2511,  80.0055, 4683,    429.5,  10.4497,  10.4493,2,  35.0153,2,  35.0155,2,     63.7,2,     63.4,2,    31.54,2,    30.84,2,     0.00,2,     2.14,2,     0.05,2,    1.100,2,    0.618,2,    0.015,2,    0.277,2,   2236.3, 2,   2316.1,2,     45.0,2,  -999.00,9,     16.3,2,    400.5,2,    0.000,2,    0.000,2,   1.5290,1,   0.3500,2,   0.2040,2,   0.0440,2,    0.004,2,   99.607,2,  10.4493,2
  49NZ20191205,  I08N,    25,  1,     28,   1228,2,20191210,0221, -0.2511,  80.0055, 4683,    530.7,   9.9721,   9.9677,2,  35.0154,2,  35.0161,2,     57.4,2,     57.3,2,    37.38,2,    32.26,2,     0.00,2,     2.28,2,     0.04,2,    0.840,2,    0.465,2,    0.008,2,    0.189,2,   2249.7, 2,   2320.3,2,     44.1,2,  -999.00,9,     12.5,2,    421.5,2,    0.000,2,    0.000,2,   1.5460,1,   0.3410,2,   0.1940,2,   0.0600,2,    0.005,2,   99.674,2,   9.9677,2
  49NZ20191205,  I08N,    25,  1,     27,   1227,2,20191210,0221, -0.2511,  80.0055, 4683,    630.4,   9.0738,   9.0740,2,  35.0148,2,  35.0154,2,     45.0,2,     44.9,2,    50.55,2,    34.82,2,     0.00,2,     2.52,2,     0.04,2,    0.381,2,    0.219,2,    0.005,2,    0.074,2,   2269.6, 2,   2332.0,2,     42.8,2,  -999.00,9,     15.3,2,    435.1,2,    0.000,2,    0.000,2,   1.5930,1,   0.4250,2,   0.2660,2,   0.0640,2,    0.004,2,   99.712,2,   9.0740,2
  49NZ20191205,  I08N,    25,  1,     26,   1226,2,20191210,0221, -0.2511,  80.0055, 4683,    731.5,   8.5511,   8.5509,2,  35.0065,2,  35.0062,2,     44.6,2,     44.5,2,    57.67,2,    35.42,2,     0.00,2,     2.57,2,     0.06,2,    0.270,2,    0.154,2,    0.000,2,    0.052,2,   2279.2, 6,   2339.6,2,     43.0,2,  -999.00,9,     23.1,2,    427.7,2,    0.000,2,    0.000,2,   1.6130,1,-999.0000,9,-999.0000,9,-999.0000,9,    0.002,2,   99.729,2,   8.5509,2
  49NZ20191205,  I08N,    25,  1,     25,   1225,2,20191210,0221, -0.2511,  80.0055, 4683,    829.5,   7.9991,   7.9978,2,  34.9915,2,  34.9914,2,     42.7,2,     42.8,2,    65.61,2,    36.34,2,     0.00,2,     2.66,2,     0.05,2,    0.148,2,    0.086,2,    0.002,2,    0.026,2,   2288.4, 2,   2345.6,2,     41.7,2,  -999.00,9,       45,2,    421.3,2,    0.000,2,    0.000,2,   1.6340,1,   0.3730,2,   0.2210,2,   0.0470,2,    0.002,2,   99.756,2,   7.9978,2
  49NZ20191205,  I08N,    25,  1,     24,   1224,2,20191210,0221, -0.2511,  80.0055, 4683,    930.7,   7.1841,   7.1835,2,  34.9526,2,  34.9514,2,     53.2,2,     53.0,2,    74.18,2,    36.51,2,     0.00,2,     2.67,2,     0.06,2,    0.109,2,    0.063,2,    0.000,2,    0.004,2,   2292.3, 2,   2351.8,2,     43.7,2,  -999.00,9,     23.8,2,    433.0,2,    0.000,2,    0.000,2,   1.6230,1,-999.0000,9,-999.0000,9,-999.0000,9,    0.002,2,   99.765,2,   7.1835,2
  49NZ20191205,  I08N,    25,  1,     23,   1223,2,20191210,0221, -0.2511,  80.0055, 4683,   1067.4,   6.4804,   6.4804,2,  34.9200,2,  34.9193,2,     56.1,2,     56.0,2,    83.26,2,    37.18,2,     0.00,2,     2.72,2,     0.03,2,    0.049,2,    0.028,2,    0.004,2,    0.001,2,   2302.0, 2,   2361.9,2,     40.9,2,  -999.00,9,       26,2,    438.1,2,    0.000,2,    0.000,2,   1.6260,1,   0.3570,2,   0.2070,2,   0.0440,2,    0.002,2,   99.792,2,   6.4804,2
  49NZ20191205,  I08N,    25,  1,     22,   1222,2,20191210,0221, -0.2511,  80.0055, 4683,   1270.3,   5.4779,   5.4738,2,  34.8852,2,  34.8857,2,     69.0,2,     69.0,2,    94.50,2,    37.30,2,     0.00,2,     2.72,2,     0.02,2,    0.024,2,    0.014,2,    0.003,2,    0.003,2,   2309.2, 2,   2374.0,6,     39.3,2,  -999.00,9,     24.6,2,    444.2,2,    0.000,2,    0.000,2,   1.6440,1,-999.0000,9,-999.0000,9,-999.0000,9,    0.001,2,   99.807,2,   5.4738,2
  49NZ20191205,  I08N,    25,  1,     21,   1221,2,20191210,0221, -0.2511,  80.0055, 4683,   1470.9,   4.5263,   4.5269,2,  34.8450,2,  34.8447,2,     86.8,2,     87.6,2,   103.00,2,    36.80,2,     0.00,2,     2.68,2,     0.05,2,    0.013,2,    0.007,2,    0.000,2,    0.008,2,   2311.1, 2,   2383.0,2,     37.7,2,  -999.00,9,      5.5,2,    441.0,2,    0.000,2,    0.000,2,   1.6290,1,   0.3540,2,   0.2030,2,   0.0400,2,    0.001,2,   99.851,2,   4.5269,2
  49NZ20191205,  I08N,    25,  1,     20,   1220,2,20191210,0221, -0.2511,  80.0055, 4683,   1668.5,   3.6074,   3.6094,2,  34.8099,2,  34.8107,2,    106.7,2,    106.2,2,   112.14,2,    36.45,2,     0.01,2,     2.62,2,     0.03,2,    0.009,2,    0.004,2,    0.001,2,    0.001,2,   2315.2, 2,   2391.1,2,     36.2,2,  -999.00,9,     35.4,2,    455.9,2,    0.000,2,    0.000,2,   1.6150,1,-999.0000,9,-999.0000,9,-999.0000,9,    0.000,2,   99.855,2,   3.6094,2
  49NZ20191205,  I08N,    25,  1,     19,   1219,2,20191210,0221, -0.2511,  80.0055, 4683,   1867.5,   2.9728,   2.9710,2,  34.7838,2,  34.7839,2,    122.0,2,    121.9,2,   118.76,2,    35.95,2,     0.00,2,     2.56,2,     0.01,2,    0.007,2,    0.003,2,    0.006,2,    0.009,2,   2312.7, 2,   2398.9,2,     37.8,2,  -999.00,9,     -999,9,   -999.0,9,    0.000,2,    0.000,2,   1.6020,1,   0.3560,2,   0.2120,2,   0.0470,2,    0.000,2,   99.855,2,   2.9710,2
  49NZ20191205,  I08N,    25,  1,     18,   1218,2,20191210,0221, -0.2511,  80.0055, 4683,   2070.7,   2.6926,   2.6923,2,  34.7730,2,  34.7734,2,    129.3,2,    129.3,2,   121.89,4,    35.63,2,     0.01,2,     2.54,2,     0.04,2,    0.006,2,    0.003,2,    0.000,2,    0.014,2,   2314.2, 2,   2400.8,2,     40.5,2,  -999.00,9,     -999,9,   -999.0,9,    0.000,2,    0.000,2,   1.5950,1,-999.0000,9,-999.0000,9,-999.0000,9,    0.000,2,   99.847,2,   2.6923,2
  49NZ20191205,  I08N,    25,  1,     17,   1217,2,20191210,0221, -0.2511,  80.0055, 4683,   2269.1,   2.3212,   2.3210,2,  34.7569,2,  34.7575,2,    139.6,2,    139.4,2,   125.69,4,    35.29,2,     0.00,2,     2.50,2,     0.04,2,    0.008,2,    0.003,2,    0.000,2,    0.017,2,   2311.1, 2,   2405.4,2,     38.3,2,  -999.00,9,     -999,9,   -999.0,9,    0.000,2,    0.000,2,   1.5800,1,   0.3700,2,   0.2200,2,   0.0440,2,   -0.001,2,   99.870,2,   2.3210,2
  49NZ20191205,  I08N,    25,  1,     16,   1216,2,20191210,0221, -0.2511,  80.0055, 4683,   2469.9,   2.0701,   2.0699,2,  34.7463,2,  34.7467,2,    149.0,2,    148.9,2,   127.97,2,    35.10,2,     0.00,2,     2.45,2,     0.02,2,    0.010,2,    0.003,2,    0.000,2,    0.005,2,   2307.4, 6,   2407.1,2,     39.2,2,  -999.00,9,     -999,9,   -999.0,9,    0.000,2,    0.000,2,   1.5570,1,-999.0000,9,-999.0000,9,-999.0000,9,   -0.001,2,   99.883,2,   2.0699,2
  49NZ20191205,  I08N,    25,  1,     15,   1215,2,20191210,0221, -0.2511,  80.0055, 4683,   2668.9,   1.9490,   1.9494,2,  34.7405,2,  34.7410,2,    152.6,2,    152.5,2,   128.70,2,    34.75,2,     0.01,2,     2.44,2,     0.06,2,    0.009,2,    0.004,2,    0.000,2,    0.012,2,   2308.4, 2,   2406.9,2,     34.1,2,  -999.00,9,     -999,9,   -999.0,9,    0.000,2,    0.000,2,   1.5440,1,   0.3650,2,   0.2110,2,   0.0460,2,    0.000,2,   99.883,2,   1.9494,2
  49NZ20191205,  I08N,    25,  1,     14,   1214,2,20191210,0221, -0.2511,  80.0055, 4683,   2872.5,   1.7800,   1.7800,2,  34.7339,2,  34.7345,2,    157.7,2,    157.8,2,   130.64,2,    34.55,2,     0.00,2,     2.42,2,     0.04,2,    0.012,2,    0.004,2,    0.000,2,    0.015,2,   2308.7, 2,   2408.6,2,     33.8,2,  -999.00,9,     -999,9,   -999.0,9,    0.000,2,    0.000,2,   1.5390,1,-999.0000,9,-999.0000,9,-999.0000,9,    0.000,2,   99.885,2,   1.7800,2
  49NZ20191205,  I08N,    25,  1,     13,   1213,2,20191210,0221, -0.2511,  80.0055, 4683,   3081.8,   1.7238,   1.7237,2,  34.7313,2,  34.7315,2,    159.2,2,    159.0,2,   132.35,4,    34.61,2,     0.01,2,     2.42,2,     0.06,2,    0.013,2,    0.004,2,    0.000,2,    0.005,2,   2308.9, 2,   2406.6,2,     38.8,2,  -999.00,9,     -999,9,   -999.0,9,    0.000,2,    0.000,2,   1.5450,1,   0.3390,2,   0.1920,2,   0.0370,2,   -0.001,2,   99.895,2,   1.7237,2
  49NZ20191205,  I08N,    25,  1,     12,   1212,2,20191210,0221, -0.2511,  80.0055, 4683,   3331.5,   1.5723,   1.5722,2,  34.7259,2,  34.7260,2,    162.2,2,    162.1,2,   135.65,4,    34.52,2,     0.00,2,     2.40,2,     0.02,2,    0.008,2,    0.004,2,    0.006,2,    0.003,2,   2310.9, 2,   2415.4,6,     36.8,2,  -999.00,9,     -999,9,   -999.0,9,    0.000,2,    0.000,2,   1.5570,1,-999.0000,9,-999.0000,9,-999.0000,9,   -0.001,2,   99.904,2,   1.5722,2
  49NZ20191205,  I08N,    25,  1,     11,   1211,2,20191210,0221, -0.2511,  80.0055, 4683,   3579.7,   1.4138,   1.4138,2,  34.7204,2,  34.7205,2,    169.2,2,    169.2,2,   136.72,2,    34.25,2,     0.00,2,     2.38,2,     0.04,2,    0.010,2,    0.004,2,    0.004,2,    0.006,2,   2308.1, 2,   2419.3,2,     40.2,2,  -999.00,9,     -999,9,   -999.0,9,    0.000,2,    0.000,2,   1.5270,1,   0.3420,2,   0.1910,2,   0.0390,2,   -0.001,2,   99.912,2,   1.4138,2
  49NZ20191205,  I08N,    25,  1,     10,   1210,2,20191210,0221, -0.2511,  80.0055, 4683,   3830.8,   1.3863,   1.3862,2,  34.7187,2,  34.7186,2,    172.8,2,    172.9,2,   136.26,2,    34.19,2,     0.00,2,     2.36,2,     0.03,2,    0.009,2,    0.004,2,    0.002,2,    0.034,2,   2305.3, 2,   2415.0,2,     37.6,2,  -999.00,9,     -999,9,   -999.0,9,    0.000,2,    0.000,2,   1.5150,1,-999.0000,9,-999.0000,9,-999.0000,9,    0.000,2,   99.914,2,   1.3862,2
  49NZ20191205,  I08N,    25,  1,      9,   1209,2,20191210,0221, -0.2511,  80.0055, 4683,   4080.0,   1.3757,   1.3756,2,  34.7176,2,  34.7177,2,    175.1,2,    174.9,2,   136.26,2,    34.14,2,     0.01,2,     2.34,2,     0.02,2,    0.011,2,    0.005,2,    0.002,2,    0.004,2,   2303.9, 2,   2414.8,2,     36.9,2,  -999.00,9,     -999,9,   -999.0,9,    0.000,2,    0.000,2,   1.4990,1,   0.3250,2,   0.1900,2,   0.0370,2,    0.000,2,   99.929,2,   1.3756,2
  49NZ20191205,  I08N,    25,  1,      8,   1208,2,20191210,0221, -0.2511,  80.0055, 4683,   4330.7,   1.3963,   1.3962,2,  34.7175,2,  34.7157,2,    175.8,2,    175.8,2,   135.47,2,    33.80,2,     0.00,2,     2.34,2,     0.05,2,    0.010,2,    0.004,2,    0.003,2,    0.007,2,   2304.2, 6,   2415.7,2,     35.0,2,  -999.00,9,     -999,9,   -999.0,9,    0.000,2,    0.000,2,   1.4890,1,-999.0000,9,-999.0000,9,-999.0000,9,    0.000,2,   99.931,2,   1.3962,2
  49NZ20191205,  I08N,    25,  1,      7,   1207,2,20191210,0221, -0.2511,  80.0055, 4683,   4579.1,   1.4131,   1.4131,2,  34.7174,2,  34.7171,2,    177.0,2,    177.0,2,   135.70,2,    34.06,2,     0.00,2,     2.34,2,     0.05,2,    0.010,2,    0.004,2,    0.005,2,    0.008,2,   2302.9, 2,   2413.3,2,     38.0,2,  -999.00,9,     -999,9,   -999.0,9,    0.000,2,    0.000,2,   1.4820,1,   0.3200,2,   0.1820,2,   0.0340,2,    0.000,2,   99.923,2,   1.4131,2
  49NZ20191205,  I08N,    25,  1,      3,   1203,5,20191210,0221, -0.2511,  80.0055, 4683,   4745.5,   1.4325,   1.4324,2,  34.7172,2,-999.0000,9,    176.9,2,   -999.0,9,  -999.00,9,  -999.00,9,  -999.00,9,  -999.00,9,     -999,9, -999.000,9, -999.000,9, -999.000,9,     -999,9,   -999.0, 9,   -999.0,9,   -999.0,9,  -999.00,9,     -999,9,   -999.0,9,    0.000,2,    0.000,2,   1.5030,1,-999.0000,9,-999.0000,9,-999.0000,9,   -0.001,2,   99.906,2,   1.4324,2
  49NZ20191205,  I08N,    25,  1,      2,  12046,2,20191210,0221, -0.2511,  80.0055, 4683,     58.7,  26.4193,  26.4205,2,  35.0330,2,  35.0248,2,    169.8,2,    170.5,2,     3.47,2,     2.88,2,     0.38,2,     0.38,2,     0.11,2, -999.000,9, -999.000,9, -999.000,9,     -999,9,   2011.9, 2,   2293.1,2,     74.8,2,     0.45,2,     16.7,2,    297.0,2,   26.504,2,   26.504,2,   1.3310,1,   0.3180,2,   0.1770,2,   0.0280,2,    0.477,2,   98.368,2,  26.4205,2
  49NZ20191205,  I08N,    25,  1,      1,   1201,2,20191210,0221, -0.2511,  80.0055, 4683,   4745.3,   1.4326,   1.4326,2,  34.7172,2,  34.7179,2,    176.9,2,    177.1,2,   135.66,2,    34.08,2,     0.00,2,     2.35,2,     0.03,2,    0.012,2,    0.005,2,    0.003,2,    0.003,2,   2304.3, 2,   2413.5,2,     42.0,2,  -999.00,9,     -999,9,   -999.0,9,    0.000,2,    0.000,2,   1.4940,1,   0.3260,2,   0.1830,2,   0.0340,2,   -0.001,2,   99.908,2,   1.4326,2