BOTTLE,20210412PRINUNIVRMK
EXPOCODE,SECT_ID,STNNBR,CASTNO,SAMPNO,BTLNBR,BTLNBR_FLAG_W,DATE,TIME,LATITUDE,LONGITUDE,DEPTH,CTDPRS,CTDTMP,SBE35,SBE35_FLAG_W,CTDSAL,CTDSAL_FLAG_W,SALNTY,SALNTY_FLAG_W,CTDOXY,CTDOXY_FLAG_W,OXYGEN,OXYGEN_FLAG_W,SILCAT,SILCAT_FLAG_W,NITRAT,NITRAT_FLAG_W,NITRIT,NITRIT_FLAG_W,PHSPHT,PHSPHT_FLAG_W,NH4,NH4_FLAG_W,CFC-11,CFC-11_FLAG_W,CFC-12,CFC-12_FLAG_W,CFC113,CFC113_FLAG_W,SF6,SF6_FLAG_W,TCARBN,TCARBN_FLAG_W,ALKALI,ALKALI_FLAG_W,DOC,DOC_FLAG_W,CHLWELSH,CHLWELSH_FLAG_W,UREA,UREA_FLAG_W,IODATE,IODATE_FLAG_W,PAR,PAR_FLAG_W,PAR,PAR_FLAG_W,CDOM,CDOM_FLAG_W,CDOM300,CDOM300_FLAG_W,CDOM325,CDOM325_FLAG_W,CDOM443,CDOM443_FLAG_W,CTDFLUOR,CTDFLUOR_FLAG_W,CTDXMISS,CTDXMISS_FLAG_W,SBE35,SBE35_FLAG_W
,,,,,,,,,,,METERS,DBAR,ITS-90,,,PSS-78,,PSS-78,,UMOL/KG,,UMOL/KG,,UMOL/KG,,UMOL/KG,,UMOL/KG,,UMOL/KG,,UMOL/KG,,PMOL/KG,,PMOL/KG,,PMOL/KG,,FMOL/KG,,UMOL/KG,,UMOL/KG,,UMOL/KG,,UG/KG,,nMOL/L,,nMOL/L,,VOLTS,,VOLTS,,MG/M^3,,1/M,,1/M,,1/M,,MG/M^3,,%TRANS,,,
  49NZ20191205,  I08N,    66,  1,     36,   1236,2,20191221,0955,-18.9970,  79.9999, 4946,     10.7,  28.1575,  28.1554,2,  35.0162,2,  35.0156,2,    200.0,2,    199.5,2,     1.68,2,     0.02,2,     0.01,2,     0.10,2,     0.02,2,    1.462,2,    0.951,2,    0.132,2,    1.706,2,   1972.0, 2,   2294.5,2,   -999.0,9,     0.09,2,       22,2,    303.5,2,   69.996,2,   69.996,2,   1.0600,1,-999.0000,9,-999.0000,9,-999.0000,9,    0.062,2,   98.486,2,  28.1554,2
  49NZ20191205,  I08N,    66,  1,     35,   1235,2,20191221,0955,-18.9970,  79.9999, 4946,     51.1,  25.7370,  25.7190,2,  34.9388,2,  34.9430,2,    214.3,2,    213.8,2,     1.95,2,     0.05,2,     0.01,2,     0.08,2,     0.02,2,    1.663,2,    1.049,2,    0.145,2,    1.801,2,   1982.0, 2,   2293.5,2,   -999.0,9,     0.14,2,     18.8,2,    302.8,2,   12.538,2,   12.538,2,   1.0510,1,-999.0000,9,-999.0000,9,-999.0000,9,    0.166,2,   98.214,2,  25.7190,2
  49NZ20191205,  I08N,    66,  1,     34,   1234,2,20191221,0955,-18.9970,  79.9999, 4946,    100.6,  22.6454,  22.6485,2,  35.1835,2,  35.1983,2,    189.5,2,    193.0,2,     3.62,2,     1.07,2,     0.05,2,     0.21,2,     0.11,2,    1.813,2,    1.141,2,    0.123,2,     1.81,2,   2032.5, 2,   2310.5,2,   -999.0,9,     0.32,2,     27.8,2,    331.9,2,    0.559,2,    0.559,2,   1.1840,1,-999.0000,9,-999.0000,9,-999.0000,9,    0.350,2,   98.613,2,  22.6485,2
  49NZ20191205,  I08N,    66,  1,     28,   1228,2,20191221,0955,-18.9970,  79.9999, 4946,    501.0,  10.2418,  10.2428,2,  34.8079,2,  34.8013,2,    234.8,2,    234.8,2,     3.89,2,    14.08,2,     0.00,2,     1.00,2,     0.06,2,    3.597,2,    2.008,2,    0.138,2,    2.052,2,   2134.2, 2,   2298.6,2,   -999.0,9,  -999.00,9,     20.3,2,    435.9,2,    0.000,2,    0.000,2,   1.1550,1,-999.0000,9,-999.0000,9,-999.0000,9,   -0.001,2,   99.842,2,  10.2428,2
  49NZ20191205,  I08N,    66,  1,     27,   1227,2,20191221,0955,-18.9970,  79.9999, 4946,    599.8,   8.9605,   8.9636,2,  34.6432,2,  34.6400,2,    220.8,2,    220.0,2,     7.83,2,    19.06,2,     0.00,2,     1.31,2,     0.05,2,    3.556,2,    1.916,2,    0.126,2,    1.572,2,   2147.6, 2,   2294.7,2,   -999.0,9,  -999.00,9,     28.8,2,    447.8,2,    0.000,2,    0.000,2,   1.1830,1,-999.0000,9,-999.0000,9,-999.0000,9,   -0.001,2,   99.871,2,   8.9636,2
  49NZ20191205,  I08N,    66,  1,     26,   1226,2,20191221,0955,-18.9970,  79.9999, 4946,    699.5,   7.2173,   7.2184,2,  34.5226,2,  34.5215,2,    181.8,2,    180.1,2,    23.97,2,    26.72,2,     0.01,2,     1.82,2,     0.04,2,    2.304,2,    1.162,2,    0.067,2,    0.671,2,   2186.0, 6,   2300.3,2,   -999.0,9,  -999.00,9,     28.9,2,    437.4,2,    0.000,2,    0.000,2,   1.2490,1,-999.0000,9,-999.0000,9,-999.0000,9,   -0.001,2,   99.880,2,   7.2184,2
  49NZ20191205,  I08N,    66,  1,     25,   1225,2,20191221,0955,-18.9970,  79.9999, 4946,    801.2,   5.9304,   5.9312,2,  34.5565,2,  34.5585,2,    131.9,2,    130.7,2,    53.35,2,    33.16,2,     0.01,2,     2.32,2,     0.04,2,    0.627,2,    0.330,2,    0.019,2,    0.155,2,   2241.1, 2,   2323.7,2,   -999.0,9,  -999.00,9,     15.7,2,    433.6,2,    0.000,2,    0.000,2,   1.3620,1,-999.0000,9,-999.0000,9,-999.0000,9,    0.000,2,   99.846,2,   5.9312,2
  49NZ20191205,  I08N,    66,  1,     24,   1224,2,20191221,0955,-18.9970,  79.9999, 4946,    900.8,   5.2870,   5.2875,2,  34.5938,2,  34.5950,2,    116.4,2,    116.1,2,    69.17,2,    35.08,2,     0.01,2,     2.48,2,     0.07,2,    0.236,2,    0.128,2,    0.005,2,     0.03,2,   2264.2, 2,   2342.6,2,   -999.0,9,  -999.00,9,     20.2,2,    438.7,2,    0.000,2,    0.000,2,   1.4220,1,-999.0000,9,-999.0000,9,-999.0000,9,    0.000,2,   99.850,2,   5.2875,2
  49NZ20191205,  I08N,    66,  1,     23,   1223,2,20191221,0955,-18.9970,  79.9999, 4946,   1000.0,   4.9365,   4.9361,2,  34.6321,2,  34.6324,2,    110.2,2,    110.0,2,    79.06,2,    35.79,2,     0.01,2,     2.54,2,     0.07,2,    0.106,2,    0.057,2,    0.003,2,    0.027,2,   2281.7, 2,   2352.3,2,   -999.0,9,  -999.00,9,     25.8,2,    447.0,2,    0.000,2,    0.000,2,   1.4570,1,-999.0000,9,-999.0000,9,-999.0000,9,   -0.001,2,   99.859,2,   4.9361,2
  49NZ20191205,  I08N,    66,  1,     22,   1222,2,20191221,0955,-18.9970,  79.9999, 4946,   1201.2,   4.2842,   4.2846,2,  34.6585,2,  34.6588,2,    113.6,2,    113.4,2,    89.11,2,    36.09,2,     0.01,2,     2.56,2,     0.07,2,    0.039,2,    0.020,2,    0.002,2,    0.007,2,   2289.6, 2,   2362.2,6,   -999.0,9,  -999.00,9,     16.9,2,    449.5,2,    0.000,2,    0.000,2,   1.4610,1,-999.0000,9,-999.0000,9,-999.0000,9,    0.000,2,   99.869,2,   4.2846,2
  49NZ20191205,  I08N,    66,  1,     21,   1221,2,20191221,0955,-18.9970,  79.9999, 4946,   1400.9,   3.8229,   3.8232,2,  34.7016,2,  34.7019,2,    117.7,2,    117.5,2,    98.03,2,    35.96,2,     0.01,2,     2.56,2,     0.08,2,    0.022,2,    0.010,2,    0.000,2,    0.005,2,   2296.0, 2,   2371.3,2,   -999.0,9,  -999.00,9,     12.5,2,    466.7,2,    0.000,2,    0.000,2,   1.4860,1,-999.0000,9,-999.0000,9,-999.0000,9,    0.000,2,   99.871,2,   3.8232,2
  49NZ20191205,  I08N,    66,  1,     20,   1220,2,20191221,0955,-18.9970,  79.9999, 4946,   1600.7,   3.3063,   3.3070,2,  34.7110,2,  34.7095,2,    130.0,2,    130.0,2,   101.73,2,    35.46,2,     0.01,2,     2.51,2,     0.06,2,    0.015,2,    0.006,2,    0.002,2,    0.002,2,   2295.4, 2,   2375.3,2,   -999.0,9,  -999.00,9,     13.3,2,    459.8,2,    0.000,2,    0.000,2,   1.4670,1,-999.0000,9,-999.0000,9,-999.0000,9,   -0.001,2,   99.876,2,   3.3070,2
  49NZ20191205,  I08N,    66,  1,     19,   1219,2,20191221,0955,-18.9970,  79.9999, 4946,   1801.3,   2.8865,   2.8858,2,  34.7208,2,  34.7199,2,    140.0,2,    140.2,2,   106.43,2,    34.99,2,     0.01,2,     2.46,2,     0.06,2,    0.015,2,    0.004,2,    0.000,2,    0.005,2,   2295.7, 2,   2378.8,2,   -999.0,9,  -999.00,9,     -999,9,   -999.0,9,    0.000,2,    0.000,2,   1.4690,1,-999.0000,9,-999.0000,9,-999.0000,9,   -0.001,2,   99.886,2,   2.8858,2
  49NZ20191205,  I08N,    66,  1,     18,   1218,2,20191221,0955,-18.9970,  79.9999, 4946,   2000.1,   2.5221,   2.5227,2,  34.7255,2,  34.7250,2,    150.1,2,    150.1,2,   110.13,2,    34.45,2,     0.01,2,     2.42,2,     0.06,2,    0.013,2,    0.004,2,    0.000,2,    0.015,2,   2293.0, 2,   2382.2,2,   -999.0,9,  -999.00,9,     -999,9,   -999.0,9,    0.000,2,    0.000,2,   1.4530,1,-999.0000,9,-999.0000,9,-999.0000,9,    0.000,2,   99.878,2,   2.5227,2
  49NZ20191205,  I08N,    66,  1,     17,   1217,2,20191221,0955,-18.9970,  79.9999, 4946,   2200.0,   2.2506,   2.2513,2,  34.7263,2,  34.7260,2,    159.1,2,    159.3,2,   111.92,2,    34.07,2,     0.00,2,     2.38,2,     0.05,2,    0.015,2,    0.005,2,    0.003,2,    0.005,2,   2293.2, 2,   2384.5,2,   -999.0,9,  -999.00,9,     -999,9,   -999.0,9,    0.000,2,    0.000,2,   1.4390,1,-999.0000,9,-999.0000,9,-999.0000,9,   -0.001,2,   99.890,2,   2.2513,2
  49NZ20191205,  I08N,    66,  1,     16,   1216,2,20191221,0955,-18.9970,  79.9999, 4946,   2399.8,   2.0413,   2.0416,2,  34.7270,2,  34.7264,2,    165.6,2,    165.8,2,   113.63,2,    33.71,2,     0.00,2,     2.35,2,     0.06,2,    0.014,2,    0.004,2,    0.001,2,    0.004,2,   2290.1, 6,   2386.4,2,   -999.0,9,  -999.00,9,     -999,9,   -999.0,9,    0.000,2,    0.000,2,   1.4230,1,-999.0000,9,-999.0000,9,-999.0000,9,   -0.001,2,   99.876,2,   2.0416,2
  49NZ20191205,  I08N,    66,  1,     15,   1215,2,20191221,0955,-18.9970,  79.9999, 4946,   2602.6,   1.8840,   1.8837,2,  34.7274,2,  34.7264,2,    170.2,2,    170.2,2,   115.87,2,    33.56,2,     0.01,2,     2.32,2,     0.04,2,    0.013,2,    0.005,2,    0.003,2,    0.016,2,   2293.0, 2,   2385.5,2,   -999.0,9,  -999.00,9,     -999,9,   -999.0,9,    0.000,2,    0.000,2,   1.4180,1,-999.0000,9,-999.0000,9,-999.0000,9,   -0.001,2,   99.886,2,   1.8837,2
  49NZ20191205,  I08N,    66,  1,     14,   1214,2,20191221,0955,-18.9970,  79.9999, 4946,   2799.9,   1.7855,   1.7848,2,  34.7273,2,  34.7262,2,    172.8,2,    173.0,2,   117.96,2,    33.55,2,     0.01,2,     2.31,2,     0.06,2,    0.014,2,    0.003,2,    0.000,2,    0.005,2,   2291.5, 2,   2388.9,2,   -999.0,9,  -999.00,9,     -999,9,   -999.0,9,    0.000,2,    0.000,2,   1.4070,1,-999.0000,9,-999.0000,9,-999.0000,9,   -0.001,2,   99.892,2,   1.7848,2
  49NZ20191205,  I08N,    66,  1,     13,   1213,2,20191221,0955,-18.9970,  79.9999, 4946,   3002.6,   1.6747,   1.6745,2,  34.7263,2,  34.7259,2,    174.8,2,    175.0,2,   121.13,2,    33.51,2,     0.01,2,     2.32,2,     0.05,2,    0.016,2,    0.005,2,    0.002,2,    0.002,2,   2290.8, 2,   2393.8,2,   -999.0,9,  -999.00,9,     -999,9,   -999.0,9,    0.000,2,    0.000,2,   1.4080,1,-999.0000,9,-999.0000,9,-999.0000,9,    0.000,2,   99.895,2,   1.6745,2
  49NZ20191205,  I08N,    66,  1,     12,   1212,2,20191221,0955,-18.9970,  79.9999, 4946,   3252.2,   1.5640,   1.5640,2,  34.7248,2,  34.7241,2,    177.5,2,    177.7,2,   123.99,2,    33.56,2,     0.01,2,     2.31,2,     0.03,2,    0.014,2,    0.003,2,    0.002,2,    0.009,2,   2293.7, 2,   2395.2,6,   -999.0,9,  -999.00,9,     -999,9,   -999.0,9,    0.000,2,    0.000,2,   1.4050,1,-999.0000,9,-999.0000,9,-999.0000,9,    0.000,2,   99.897,2,   1.5640,2
  49NZ20191205,  I08N,    66,  1,     11,   1211,2,20191221,0955,-18.9970,  79.9999, 4946,   3500.4,   1.4844,   1.4844,2,  34.7232,2,  34.7232,2,    179.9,2,    179.9,2,   125.83,2,    33.53,2,     0.01,2,     2.31,2,     0.03,2,    0.011,2,    0.003,2,    0.003,2,    0.008,2,   2293.2, 2,   2395.5,2,   -999.0,9,  -999.00,9,     -999,9,   -999.0,9,    0.000,2,    0.000,2,   1.4000,1,-999.0000,9,-999.0000,9,-999.0000,9,    0.000,2,   99.892,2,   1.4844,2
  49NZ20191205,  I08N,    66,  1,     10,   1210,2,20191221,0955,-18.9970,  79.9999, 4946,   3749.3,   1.4172,   1.4170,2,  34.7213,2,  34.7208,2,    183.3,2,    183.2,2,   126.24,2,    33.41,2,     0.01,2,     2.29,2,     0.04,2,    0.011,2,    0.003,2,    0.000,2,    0.004,2,   2292.6, 2,   2397.3,2,   -999.0,9,  -999.00,9,     -999,9,   -999.0,9,    0.000,2,    0.000,2,   1.3940,1,-999.0000,9,-999.0000,9,-999.0000,9,    0.000,2,   99.897,2,   1.4170,2
  49NZ20191205,  I08N,    66,  1,      9,   1209,2,20191221,0955,-18.9970,  79.9999, 4946,   3998.0,   1.3843,   1.3846,2,  34.7194,2,  34.7192,2,    183.4,2,    183.5,2,   128.97,2,    33.45,2,     0.01,2,     2.30,2,     0.04,2,    0.017,2,    0.005,2,    0.000,2,    0.009,2,   2295.4, 2,   2401.6,2,   -999.0,9,  -999.00,9,     -999,9,   -999.0,9,    0.000,2,    0.000,2,   1.4030,1,-999.0000,9,-999.0000,9,-999.0000,9,    0.000,2,   99.897,2,   1.3846,2
  49NZ20191205,  I08N,    66,  1,      8,  12103,2,20191221,0955,-18.9970,  79.9999, 4946,   4249.9,   1.3768,   1.3768,2,  34.7181,2,  34.7182,2,    183.3,2,    183.2,2,   130.48,2,    33.57,2,     0.00,2,     2.30,2,     0.05,2,    0.015,2,    0.005,2,    0.000,2,        0,2,   2297.4, 6,   2402.3,2,   -999.0,9,  -999.00,9,     -999,9,   -999.0,9,    0.000,2,    0.000,2,   1.4140,1,-999.0000,9,-999.0000,9,-999.0000,9,    0.000,2,   99.895,2,   1.3768,2
  49NZ20191205,  I08N,    66,  1,      7,   1207,2,20191221,0955,-18.9970,  79.9999, 4946,   4499.8,   1.3812,   1.3813,2,  34.7173,2,  34.7176,2,    183.3,2,    183.5,2,   131.54,2,    33.53,2,     0.00,2,     2.31,2,     0.06,2,    0.015,2,    0.004,2,    0.002,2,    0.014,2,   2298.0, 2,   2402.9,2,   -999.0,9,  -999.00,9,     -999,9,   -999.0,9,    0.000,2,    0.000,2,   1.4140,1,-999.0000,9,-999.0000,9,-999.0000,9,    0.000,2,   99.890,2,   1.3813,2
  49NZ20191205,  I08N,    66,  1,      6,   1206,2,20191221,0955,-18.9970,  79.9999, 4946,   4752.2,   1.3986,   1.3986,2,  34.7169,2,  34.7172,2,    183.6,2,    183.7,2,   131.83,2,    33.55,2,     0.00,2,     2.30,2,     0.06,2,    0.015,2,    0.003,2,    0.000,2,    0.005,2,   2297.6, 2,   2405.2,6,   -999.0,9,  -999.00,9,     -999,9,   -999.0,9,    0.000,2,    0.000,2,   1.4180,1,-999.0000,9,-999.0000,9,-999.0000,9,   -0.001,2,   99.873,2,   1.3986,2
  49NZ20191205,  I08N,    66,  1,      2,  12046,2,20191221,0955,-18.9970,  79.9999, 4946,     68.5,  23.9402,  23.9408,2,  35.0915,2,  35.0880,2,    212.6,2,    212.7,2,     1.83,2,     0.02,2,     0.01,2,     0.08,2,     0.03,2, -999.000,9, -999.000,9, -999.000,9,     -999,9,   1994.6, 2,   2302.5,2,   -999.0,9,     0.71,2,     13.1,2,    279.5,2,    3.662,2,    3.662,2,   1.0890,1,-999.0000,9,-999.0000,9,-999.0000,9,    0.750,2,   96.980,2,  23.9408,2
  49NZ20191205,  I08N,    66,  1,      1,   1201,2,20191221,0955,-18.9970,  79.9999, 4946,   5016.5,   1.4234,   1.4234,2,  34.7167,2,  34.7165,2,    184.0,2,    184.0,2,   131.45,2,    33.46,2,     0.00,2,     2.31,2,     0.07,2,    0.019,2,    0.005,2,    0.002,2,    0.004,2,   2297.3, 2,   2405.6,2,   -999.0,9,  -999.00,9,     -999,9,   -999.0,9,    0.000,2,    0.000,2,   1.4260,1,-999.0000,9,-999.0000,9,-999.0000,9,   -0.001,2,   99.873,2,   1.4234,2