BOTTLE,20210412PRINUNIVRMK
EXPOCODE,SECT_ID,STNNBR,CASTNO,SAMPNO,BTLNBR,BTLNBR_FLAG_W,DATE,TIME,LATITUDE,LONGITUDE,DEPTH,CTDPRS,CTDTMP,SBE35,SBE35_FLAG_W,CTDSAL,CTDSAL_FLAG_W,SALNTY,SALNTY_FLAG_W,CTDOXY,CTDOXY_FLAG_W,OXYGEN,OXYGEN_FLAG_W,SILCAT,SILCAT_FLAG_W,NITRAT,NITRAT_FLAG_W,NITRIT,NITRIT_FLAG_W,PHSPHT,PHSPHT_FLAG_W,NH4,NH4_FLAG_W,CFC-11,CFC-11_FLAG_W,CFC-12,CFC-12_FLAG_W,CFC113,CFC113_FLAG_W,SF6,SF6_FLAG_W,TCARBN,TCARBN_FLAG_W,ALKALI,ALKALI_FLAG_W,DOC,DOC_FLAG_W,CHLWELSH,CHLWELSH_FLAG_W,UREA,UREA_FLAG_W,IODATE,IODATE_FLAG_W,PAR,PAR_FLAG_W,PAR,PAR_FLAG_W,CDOM,CDOM_FLAG_W,CDOM300,CDOM300_FLAG_W,CDOM325,CDOM325_FLAG_W,CDOM443,CDOM443_FLAG_W,CTDFLUOR,CTDFLUOR_FLAG_W,CTDXMISS,CTDXMISS_FLAG_W,SBE35,SBE35_FLAG_W
,,,,,,,,,,,METERS,DBAR,ITS-90,,,PSS-78,,PSS-78,,UMOL/KG,,UMOL/KG,,UMOL/KG,,UMOL/KG,,UMOL/KG,,UMOL/KG,,UMOL/KG,,PMOL/KG,,PMOL/KG,,PMOL/KG,,FMOL/KG,,UMOL/KG,,UMOL/KG,,UMOL/KG,,UG/KG,,nMOL/L,,nMOL/L,,VOLTS,,VOLTS,,MG/M^3,,1/M,,1/M,,1/M,,MG/M^3,,%TRANS,,,
  49NZ20191205,  I08N,    68,  1,     36,   1236,2,20191221,2132,-20.0001,  80.0002, 4866,     10.7,  26.7716,  26.7718,2,  35.2491,2,  35.2470,2,    204.3,2,    204.5,2,     1.95,2,     0.03,2,     0.01,2,     0.06,2,     0.03,2,    1.602,2,    0.995,2,    0.140,2,    1.669,2,   2001.4, 2,   2315.2,2,     71.1,2,     0.07,2,       31,2,    300.7,2,    0.420,2,    0.420,2,   1.0600,1,   0.1850,2,   0.0970,2,   0.0260,2,    0.049,2,   98.868,2,  26.7718,2
  49NZ20191205,  I08N,    68,  1,     35,   1235,2,20191221,2132,-20.0001,  80.0002, 4866,     50.9,  24.9588,  24.9650,2,  35.2495,2,  35.2503,2,    216.9,2,    216.1,2,     1.91,2,     0.04,2,     0.00,2,     0.05,2,     0.03,2,    1.731,2,    1.072,2,    0.151,2,    1.732,2,   2001.4, 2,   2314.4,2,     74.9,2,     0.09,2,     22.7,2,    297.3,2,    0.000,2,    0.000,2,   1.0470,1,   0.1790,2,   0.0940,2,   0.0140,2,    0.115,2,   98.467,2,  24.9650,2
  49NZ20191205,  I08N,    68,  1,     34,   1234,2,20191221,2132,-20.0001,  80.0002, 4866,     99.7,  22.2527,  22.2528,2,  35.4572,2,  35.4596,2,    216.1,2,    215.7,2,     2.05,2,     0.03,2,     0.00,2,     0.09,2,     0.03,2,    1.880,2,    1.162,2,    0.151,2,    1.755,2,   2026.2, 2,   2326.3,2,     70.7,2,     0.17,2,     21.6,2,    315.6,2,    0.000,2,    0.000,2,   1.0910,1,   0.2520,2,   0.1350,2,   0.0250,2,    0.185,2,   98.838,2,  22.2528,2
  49NZ20191205,  I08N,    68,  1,     33,   1233,2,20191221,2132,-20.0001,  80.0002, 4866,    150.1,  21.1361,  21.1365,2,  35.6381,2,  35.6489,2,    205.7,2,    205.7,2,     2.15,2,     0.30,2,     0.19,2,     0.14,2,     0.03,2,    1.973,2,    1.211,2,    0.144,2,    1.773,2,   2058.8, 2,   2339.8,2,     62.3,2,     0.19,2,     26.1,2,    346.5,2,    0.000,2,    0.000,2,   1.1500,1,   0.2130,2,   0.1190,2,   0.0220,2,    0.226,2,   99.163,2,  21.1365,2
  49NZ20191205,  I08N,    68,  1,     32,   1232,2,20191221,2132,-20.0001,  80.0002, 4866,    198.3,  19.8950,  19.8912,2,  35.7687,2,  35.7687,2,    200.2,2,    200.7,2,     2.38,2,     1.49,2,     0.02,2,     0.20,2,     0.02,2,    2.067,2,    1.272,2,    0.087,2,    1.834,2,   2079.6, 2,   2348.1,2,     58.8,2,     0.03,2,     29.2,2,    412.5,2,    0.000,2,    0.000,2,   1.1880,1,   0.2150,2,   0.1190,2,   0.0270,2,    0.033,2,   99.540,2,  19.8912,2
  49NZ20191205,  I08N,    68,  1,     31,   1231,2,20191221,2132,-20.0001,  80.0002, 4866,    249.5,  18.1355,  18.1345,2,  35.7420,2,  35.7430,2,    200.2,2,    200.5,2,     2.49,2,     2.61,2,     0.01,2,     0.29,2,     0.03,2,    2.244,2,    1.371,2,    0.037,2,    1.855,2,   2102.7, 2,   2347.5,2,     52.6,2,     0.01,2,     35.1,2,    413.9,2,    0.000,2,    0.000,2,   1.2260,1,-999.0000,9,-999.0000,9,-999.0000,9,    0.002,2,   99.677,2,  18.1345,2
  49NZ20191205,  I08N,    68,  1,     30,   1230,2,20191221,2132,-20.0001,  80.0002, 4866,    330.1,  15.3609,  15.3611,2,  35.5481,2,  35.5340,2,    215.0,2,    215.9,2,     2.01,2,     4.45,2,     0.01,2,     0.42,2,     0.03,2,    2.575,2,    1.558,2,    0.054,2,     1.95,2,   2115.7, 2,   2338.5,2,     50.2,2,  -999.00,9,     15.9,2,    424.0,2,    0.000,2,    0.000,2,   1.2050,1,   0.2050,2,   0.1160,2,   0.0240,2,   -0.002,2,   99.768,2,  15.3611,2
  49NZ20191205,  I08N,    68,  1,     29,   1229,2,20191221,2132,-20.0001,  80.0002, 4866,    430.6,  11.9537,  11.9531,2,  35.0627,2,  35.0592,2,    226.9,2,    227.4,2,     3.23,2,    10.27,2,     0.01,2,     0.77,2,     0.03,2,    3.045,2,    1.800,2,    0.100,2,    1.972,2,   2128.2, 2,   2313.4,2,     44.9,2,  -999.00,9,     21.6,2,    428.2,2,    0.000,2,    0.000,2,   1.1640,1,   0.1930,2,   0.1090,2,   0.0210,2,   -0.001,2,   99.793,2,  11.9531,2
  49NZ20191205,  I08N,    68,  1,     28,   1228,2,20191221,2132,-20.0001,  80.0002, 4866,    530.2,  10.0997,  10.0938,2,  34.7876,2,  34.7915,2,    233.9,2,    234.2,2,     4.07,2,    14.48,2,     0.01,2,     1.02,2,     0.04,2,    3.367,2,    1.933,2,    0.134,2,    1.921,2,   2135.8, 2,   2297.8,2,     45.8,2,  -999.00,9,     24.1,2,    433.8,2,    0.000,2,    0.000,2,   1.1530,1,   0.1850,2,   0.1040,2,   0.0220,2,   -0.001,2,   99.827,2,  10.0938,2
  49NZ20191205,  I08N,    68,  1,     27,   1227,2,20191221,2132,-20.0001,  80.0002, 4866,    630.0,   8.8244,   8.8253,2,  34.6289,2,  34.6245,2,    217.8,2,    216.5,2,     8.84,2,    19.97,2,     0.00,2,     1.36,2,     0.05,2,    3.273,2,    1.819,2,    0.120,2,    1.394,2,   2151.0, 2,   2293.3,2,     44.0,2,  -999.00,9,     25.3,2,    440.9,2,    0.000,2,    0.000,2,   1.1750,1,   0.2010,2,   0.1050,2,   0.0210,2,   -0.001,2,   99.857,2,   8.8253,2
  49NZ20191205,  I08N,    68,  1,     26,   1226,2,20191221,2132,-20.0001,  80.0002, 4866,    729.1,   7.3810,   7.3743,2,  34.5295,2,  34.5272,2,    185.0,2,    184.0,2,    22.07,2,    26.25,2,     0.00,2,     1.78,2,     0.03,2,    2.296,2,    1.191,2,    0.077,2,    0.655,2,   2183.8, 6,   2299.9,2,     41.6,2,  -999.00,9,     25.1,2,    431.5,2,    0.000,2,    0.000,2,   1.2420,1,-999.0000,9,-999.0000,9,-999.0000,9,    0.000,2,   99.871,2,   7.3743,2
  49NZ20191205,  I08N,    68,  1,     25,   1225,2,20191221,2132,-20.0001,  80.0002, 4866,    829.3,   5.8720,   5.8715,2,  34.5003,2,  34.5015,2,    154.1,2,    153.7,2,    42.88,2,    31.74,2,     0.01,2,     2.18,2,     0.08,2,    1.109,2,    0.546,2,    0.041,2,    0.229,2,   2222.7, 2,   2317.3,2,     39.3,2,  -999.00,9,     26.4,2,    433.9,2,    0.000,2,    0.000,2,   1.3190,1,   0.2620,2,   0.1440,2,   0.0290,2,    0.000,2,   99.871,2,   5.8715,2
  49NZ20191205,  I08N,    68,  1,     24,   1224,2,20191221,2132,-20.0001,  80.0002, 4866,    928.1,   5.0976,   5.0976,2,  34.5371,2,  34.5401,2,    134.5,2,    133.5,2,    61.67,2,    34.37,2,     0.00,2,     2.40,2,     0.03,2,    0.440,2,    0.219,2,    0.019,2,    0.084,2,   2252.0, 2,   2333.7,2,     41.5,2,  -999.00,9,       24,2,    440.5,2,    0.000,2,    0.000,2,   1.3760,1,-999.0000,9,-999.0000,9,-999.0000,9,    0.000,2,   99.871,2,   5.0976,2
  49NZ20191205,  I08N,    68,  1,     23,   1223,2,20191221,2132,-20.0001,  80.0002, 4866,   1070.8,   4.4734,   4.4746,2,  34.5901,2,  34.5902,2,    123.9,2,    123.7,2,    76.68,2,    35.70,2,     0.00,2,     2.50,2,     0.01,2,    0.129,2,    0.066,2,    0.004,2,    0.011,2,   2272.1, 2,   2350.4,2,     40.7,2,  -999.00,9,     18.9,2,    439.2,2,    0.000,2,    0.000,2,   1.4200,1,   0.2970,2,   0.1530,2,   0.0270,2,   -0.001,2,   99.871,2,   4.4746,2
  49NZ20191205,  I08N,    68,  1,     22,   1222,2,20191221,2132,-20.0001,  80.0002, 4866,   1270.3,   3.9499,   3.9481,2,  34.6584,2,  34.6607,2,    122.0,2,    122.2,2,    90.02,2,    35.86,2,     0.01,2,     2.53,2,     0.05,2,    0.036,2,    0.018,2,    0.002,2,    0.004,2,   2287.8, 2,   2365.4,6,     37.3,2,  -999.00,9,     12.9,2,    446.6,2,    0.000,2,    0.000,2,   1.4540,1,-999.0000,9,-999.0000,9,-999.0000,9,   -0.001,2,   99.865,2,   3.9481,2
  49NZ20191205,  I08N,    68,  1,     21,   1221,2,20191221,2132,-20.0001,  80.0002, 4866,   1470.8,   3.5401,   3.5404,2,  34.7015,2,  34.7019,2,    126.0,2,    126.0,2,    98.44,2,    35.64,2,     0.00,2,     2.51,2,     0.04,2,    0.021,2,    0.009,2,    0.001,2,    0.018,2,   2294.9, 2,   2373.0,2,     37.9,2,  -999.00,9,     26.5,2,    448.8,2,    0.000,2,    0.000,2,   1.4720,1,   0.3180,2,   0.1670,2,   0.0300,2,   -0.001,2,   99.871,2,   3.5404,2
  49NZ20191205,  I08N,    68,  1,     20,   1220,2,20191221,2132,-20.0001,  80.0002, 4866,   1669.3,   3.1140,   3.1145,2,  34.7178,2,  34.7181,2,    134.6,2,    134.8,2,   104.16,2,    35.37,2,     0.01,2,     2.48,2,     0.04,2,    0.019,2,    0.007,2,    0.001,2,    0.015,2,   2296.4, 2,   2378.1,2,     36.1,2,  -999.00,9,     -999,9,    456.1,2,    0.000,2,    0.000,2,   1.4620,1,-999.0000,9,-999.0000,9,-999.0000,9,   -0.001,2,   99.871,2,   3.1145,2
  49NZ20191205,  I08N,    68,  1,     19,   1219,2,20191221,2132,-20.0001,  80.0002, 4866,   1870.4,   2.7032,   2.7035,2,  34.7246,2,  34.7254,2,    144.7,2,    144.6,2,   108.64,2,    34.93,2,     0.01,2,     2.44,2,     0.04,2,    0.015,2,    0.006,2,    0.001,2,    0.008,2,   2295.7, 2,   2382.0,2,     39.0,2,  -999.00,9,     -999,9,   -999.0,9,    0.000,2,    0.000,2,   1.4610,1,   0.2980,2,   0.1590,2,   0.0230,2,   -0.001,2,   99.871,2,   2.7035,2
  49NZ20191205,  I08N,    68,  1,     18,   1218,2,20191221,2132,-20.0001,  80.0002, 4866,   2070.5,   2.4121,   2.4130,2,  34.7264,2,  34.7273,2,    153.4,2,    153.2,2,   111.16,2,    34.51,2,     0.00,2,     2.40,2,     0.05,2,    0.014,2,    0.005,2,    0.002,2,    0.027,2,   2295.9, 2,   2383.9,2,     29.8,4,  -999.00,9,     -999,9,   -999.0,9,    0.000,2,    0.000,2,   1.4500,1,-999.0000,9,-999.0000,9,-999.0000,9,   -0.001,2,   99.871,2,   2.4130,2
  49NZ20191205,  I08N,    68,  1,     17,   1217,2,20191221,2132,-20.0001,  80.0002, 4866,   2270.9,   2.1663,   2.1661,2,  34.7264,2,  34.7266,2,    161.8,2,    161.8,2,   112.50,2,    34.05,2,     0.01,2,     2.36,2,     0.04,2,    0.015,2,    0.005,2,    0.001,2,    0.002,2,   2291.8, 2,   2385.0,2,     40.6,2,  -999.00,9,     -999,9,   -999.0,9,    0.000,2,    0.000,2,   1.4220,1,   0.3210,2,   0.1740,2,   0.0330,2,    0.000,2,   99.880,2,   2.1661,2
  49NZ20191205,  I08N,    68,  1,     16,   1216,2,20191221,2132,-20.0001,  80.0002, 4866,   2470.4,   1.9701,   1.9700,2,  34.7261,2,  34.7263,2,    169.3,2,    169.2,2,   113.43,2,    33.61,2,     0.01,2,     2.32,2,     0.04,2,    0.015,2,    0.005,2,    0.001,2,    0.014,2,   2290.2, 6,   2384.8,2,     39.9,2,  -999.00,9,     -999,9,   -999.0,9,    0.000,2,    0.000,2,   1.4140,1,-999.0000,9,-999.0000,9,-999.0000,9,    0.000,2,   99.873,2,   1.9700,2
  49NZ20191205,  I08N,    68,  1,     15,   1215,2,20191221,2132,-20.0001,  80.0002, 4866,   2671.0,   1.8239,   1.8238,2,  34.7258,2,  34.7257,2,    175.8,2,    175.8,2,   113.31,2,    33.07,2,     0.00,2,     2.28,2,     0.04,2,    0.016,2,    0.007,2,    0.000,2,    0.013,2,   2282.8, 2,   2381.5,2,     40.1,2,  -999.00,9,     -999,9,   -999.0,9,    0.000,2,    0.000,2,   1.4020,1,   0.2830,2,   0.1440,2,   0.0220,2,   -0.001,2,   99.897,2,   1.8238,2
  49NZ20191205,  I08N,    68,  1,     14,   1214,2,20191221,2132,-20.0001,  80.0002, 4866,   2870.8,   1.7039,   1.7036,2,  34.7261,2,  34.7265,2,    179.5,2,    179.6,2,   115.38,2,    33.14,2,     0.01,2,     2.27,2,     0.05,2,    0.019,2,    0.007,2,    0.008,2,    0.009,2,   2286.0, 2,   2387.8,2,     32.2,4,  -999.00,9,     -999,9,   -999.0,9,    0.000,2,    0.000,2,   1.3910,1,-999.0000,9,-999.0000,9,-999.0000,9,    0.000,2,   99.895,2,   1.7036,2
  49NZ20191205,  I08N,    68,  1,     13,   1213,2,20191221,2132,-20.0001,  80.0002, 4866,   3080.9,   1.6028,   1.6029,2,  34.7259,2,  34.7259,2,    180.5,2,    180.7,2,   118.73,2,    33.21,2,     0.00,2,     2.28,2,     0.05,2,    0.015,2,    0.006,2,    0.003,2,    0.006,2,   2288.1, 2,   2389.2,2,     37.6,2,  -999.00,9,     -999,9,   -999.0,9,    0.000,2,    0.000,2,   1.3920,1,   0.2980,2,   0.1600,2,   0.0260,2,    0.000,2,   99.895,2,   1.6029,2
  49NZ20191205,  I08N,    68,  1,     12,   1212,2,20191221,2132,-20.0001,  80.0002, 4866,   3330.6,   1.4964,   1.4964,2,  34.7248,2,  34.7247,2,    183.3,2,    183.3,2,   121.31,2,    33.19,2,     0.00,2,     2.27,2,     0.02,2,    0.013,2,    0.004,2,    0.000,2,    0.009,2,   2288.4, 2,   2391.5,6,     39.2,2,  -999.00,9,     -999,9,   -999.0,9,    0.000,2,    0.000,2,   1.3870,1,-999.0000,9,-999.0000,9,-999.0000,9,    0.000,2,   99.897,2,   1.4964,2
  49NZ20191205,  I08N,    68,  1,     11,   1211,2,20191221,2132,-20.0001,  80.0002, 4866,   3581.1,   1.4085,   1.4085,2,  34.7221,2,  34.7212,2,    184.4,2,    184.4,2,   124.79,2,    33.35,2,     0.00,2,     2.28,2,     0.04,2,    0.012,2,    0.004,2,    0.001,2,    0.018,2,   2290.8, 2,   2396.6,2,     39.8,2,  -999.00,9,     -999,9,   -999.0,9,    0.000,2,    0.000,2,   1.3910,1,   0.2800,2,   0.1390,2,   0.0170,2,    0.000,2,   99.897,2,   1.4085,2
  49NZ20191205,  I08N,    68,  1,     10,   1210,2,20191221,2132,-20.0001,  80.0002, 4866,   3830.3,   1.3755,   1.3756,2,  34.7203,2,  34.7205,2,    185.0,2,    185.0,2,   126.75,2,    33.46,2,     0.00,2,     2.28,2,     0.03,2,    0.013,2,    0.003,2,    0.001,2,    0.004,2,   2294.5, 2,   2399.9,2,     39.5,2,  -999.00,9,     -999,9,   -999.0,9,    0.000,2,    0.000,2,   1.3920,1,-999.0000,9,-999.0000,9,-999.0000,9,    0.000,2,   99.897,2,   1.3756,2
  49NZ20191205,  I08N,    68,  1,      9,   1209,2,20191221,2132,-20.0001,  80.0002, 4866,   4080.8,   1.3652,   1.3652,2,  34.7185,2,  34.7183,2,    183.9,2,    183.9,2,   129.64,2,    33.64,2,     0.00,2,     2.30,2,     0.04,2,    0.015,2,    0.004,2,    0.000,2,    0.018,2,   2298.0, 2,   2402.3,2,     38.7,2,  -999.00,9,     -999,9,   -999.0,9,    0.000,2,    0.000,2,   1.3990,1,   0.2880,2,   0.1570,2,   0.0230,2,   -0.001,2,   99.897,2,   1.3652,2
  49NZ20191205,  I08N,    68,  1,      8,  12103,2,20191221,2132,-20.0001,  80.0002, 4866,   4333.5,   1.3714,   1.3715,2,  34.7177,2,  34.7178,2,    183.5,2,    183.5,2,   131.03,2,    33.54,2,     0.00,2,     2.30,2,     0.04,2,    0.018,2,    0.005,2,    0.003,2,    0.005,2,   2301.8, 6,   2404.9,2,     39.2,2,  -999.00,9,     -999,9,   -999.0,9,    0.000,2,    0.000,2,   1.4090,1,-999.0000,9,-999.0000,9,-999.0000,9,    0.000,2,   99.886,2,   1.3715,2
  49NZ20191205,  I08N,    68,  1,      7,   1207,2,20191221,2132,-20.0001,  80.0002, 4866,   4580.8,   1.3907,   1.3908,2,  34.7172,2,  34.7174,2,    183.5,2,    183.4,2,   131.57,2,    33.74,2,     0.00,2,     2.31,2,     0.04,2,    0.019,2,    0.005,2,    0.010,2,    0.018,2,   2299.5, 2,   2407.2,2,     42.2,2,  -999.00,9,     -999,9,   -999.0,9,    0.000,2,    0.000,2,   1.4050,1,   0.2720,2,   0.1430,2,   0.0180,2,   -0.001,2,   99.871,2,   1.3908,2
  49NZ20191205,  I08N,    68,  1,      6,   1206,2,20191221,2132,-20.0001,  80.0002, 4866,   4829.9,   1.4169,   1.4169,2,  34.7171,2,  34.7169,2,    183.4,2,    183.4,2,   131.72,2,    33.68,2,     0.01,2,     2.31,2,     0.05,2,    0.022,2,    0.006,2,    0.001,2,    0.024,2,   2300.5, 2,   2406.0,6,     40.0,2,  -999.00,9,     -999,9,   -999.0,9,    0.000,2,    0.000,2,   1.4280,1,-999.0000,9,-999.0000,9,-999.0000,9,   -0.001,2,   99.871,2,   1.4169,2
  49NZ20191205,  I08N,    68,  1,      5,   1205,2,20191221,2132,-20.0001,  80.0002, 4866,     10.5,  26.7721,  26.7693,2,  35.2492,2,-999.0000,9,    204.2,2,   -999.0,9,  -999.00,9,  -999.00,9,  -999.00,9,  -999.00,9,     -999,9, -999.000,9, -999.000,9, -999.000,9,     -999,9,   -999.0, 9,   -999.0,9,   -999.0,9,  -999.00,9,     -999,9,   -999.0,9,    0.435,2,    0.435,2,   1.0640,1,-999.0000,9,-999.0000,9,-999.0000,9,    0.043,2,   98.853,2,  26.7693,2
  49NZ20191205,  I08N,    68,  1,      3,   1203,2,20191221,2132,-20.0001,  80.0002, 4866,   4934.1,   1.4291,   1.4292,2,  34.7172,2,-999.0000,9,    183.5,2,   -999.0,9,  -999.00,9,  -999.00,9,  -999.00,9,  -999.00,9,     -999,9, -999.000,9, -999.000,9, -999.000,9,     -999,9,   -999.0, 9,   -999.0,9,   -999.0,9,  -999.00,9,     -999,9,   -999.0,9,    0.000,2,    0.000,2,   1.4220,1,-999.0000,9,-999.0000,9,-999.0000,9,    0.000,2,   99.871,2,   1.4292,2
  49NZ20191205,  I08N,    68,  1,      2,  12046,2,20191221,2132,-20.0001,  80.0002, 4866,    141.1,  21.3689,  21.3690,2,  35.6021,2,  35.6025,2,    210.1,2,    210.0,2,     2.00,2,     0.10,2,     0.09,2,     0.11,2,     0.03,2, -999.000,9, -999.000,9, -999.000,9,     -999,9,   2046.1, 2,   2336.3,2,     66.2,2,     0.27,2,     23.5,2,    322.5,2,    0.000,2,    0.000,2,   1.1390,1,   0.2050,2,   0.1050,2,   0.0130,2,    0.290,2,   98.982,2,  21.3690,2
  49NZ20191205,  I08N,    68,  1,      1,   1201,2,20191221,2132,-20.0001,  80.0002, 4866,   4934.3,   1.4291,   1.4291,2,  34.7171,2,  34.7174,2,    183.5,2,    183.5,2,   131.60,2,    33.62,2,     0.01,2,     2.31,2,     0.02,2,    0.016,2,    0.004,2,    0.002,2,    0.009,2,   2300.0, 2,   2407.2,2,     42.7,2,  -999.00,9,     -999,9,   -999.0,9,    0.000,2,    0.000,2,   1.4130,1,   0.3140,2,   0.1800,2,   0.0300,2,    0.000,2,   99.871,2,   1.4291,2