BOTTLE,20210412PRINUNIVRMK
EXPOCODE,SECT_ID,STNNBR,CASTNO,SAMPNO,BTLNBR,BTLNBR_FLAG_W,DATE,TIME,LATITUDE,LONGITUDE,DEPTH,CTDPRS,CTDTMP,SBE35,SBE35_FLAG_W,CTDSAL,CTDSAL_FLAG_W,SALNTY,SALNTY_FLAG_W,CTDOXY,CTDOXY_FLAG_W,OXYGEN,OXYGEN_FLAG_W,SILCAT,SILCAT_FLAG_W,NITRAT,NITRAT_FLAG_W,NITRIT,NITRIT_FLAG_W,PHSPHT,PHSPHT_FLAG_W,NH4,NH4_FLAG_W,CFC-11,CFC-11_FLAG_W,CFC-12,CFC-12_FLAG_W,CFC113,CFC113_FLAG_W,SF6,SF6_FLAG_W,TCARBN,TCARBN_FLAG_W,ALKALI,ALKALI_FLAG_W,DOC,DOC_FLAG_W,CHLWELSH,CHLWELSH_FLAG_W,UREA,UREA_FLAG_W,IODATE,IODATE_FLAG_W,PAR,PAR_FLAG_W,PAR,PAR_FLAG_W,CDOM,CDOM_FLAG_W,CDOM300,CDOM300_FLAG_W,CDOM325,CDOM325_FLAG_W,CDOM443,CDOM443_FLAG_W,CTDFLUOR,CTDFLUOR_FLAG_W,CTDXMISS,CTDXMISS_FLAG_W,SBE35,SBE35_FLAG_W
,,,,,,,,,,,METERS,DBAR,ITS-90,,,PSS-78,,PSS-78,,UMOL/KG,,UMOL/KG,,UMOL/KG,,UMOL/KG,,UMOL/KG,,UMOL/KG,,UMOL/KG,,PMOL/KG,,PMOL/KG,,PMOL/KG,,FMOL/KG,,UMOL/KG,,UMOL/KG,,UMOL/KG,,UG/KG,,nMOL/L,,nMOL/L,,VOLTS,,VOLTS,,MG/M^3,,1/M,,1/M,,1/M,,MG/M^3,,%TRANS,,,
  49NZ20191205,  I08N,    50,  1,     36,   1236,2,20191217,0123,-11.0000,  79.9972, 5347,     10.4,  28.1003,  28.0997,2,  34.6820,2,  34.6820,2,    199.6,2,    199.5,2,     1.85,2,     0.01,2,     0.00,2,     0.09,2,     0.02,2,    1.405,2,    0.914,2,    0.129,2,    1.531,2,   1958.7, 2,   2274.6,2,     71.6,2,     0.06,2,     -999,9,   -999.0,9,  680.206,2,  680.206,2,   1.0460,1,   0.1470,2,   0.0680,2,   0.0050,2,    0.024,2,   98.735,2,  28.0997,2
  49NZ20191205,  I08N,    50,  1,     35,   1235,2,20191217,0123,-11.0000,  79.9972, 5347,     49.8,  28.0984,  28.0982,2,  34.7241,2,  34.7234,2,    199.4,2,    199.4,2,     1.85,2,     0.05,2,     0.01,2,     0.09,2,     0.03,2,    1.462,2,    0.921,2,    0.121,2,    1.568,2,   1958.1, 2,   2277.1,2,     69.3,2,     0.08,2,     -999,9,   -999.0,9,  136.826,2,  136.826,2,   1.0970,1,   0.1670,2,   0.0830,2,   0.0090,2,    0.069,2,   98.760,2,  28.0982,2
  49NZ20191205,  I08N,    50,  1,     34,   1234,2,20191217,0123,-11.0000,  79.9972, 5347,     99.4,  28.0442,  28.0439,2,  34.8022,2,  34.8001,2,    198.2,2,    198.5,2,     1.88,2,     0.03,2,     0.00,2,     0.10,2,     0.04,2,    1.453,2,    0.919,2,    0.115,2,    1.564,2,   1958.2, 2,   2281.0,2,     69.6,2,     0.19,2,     -999,9,   -999.0,9,   23.533,2,   23.533,2,   1.1040,1,   0.1780,2,   0.0900,2,   0.0080,2,    0.179,2,   98.887,2,  28.0439,2
  49NZ20191205,  I08N,    50,  1,     33,   1233,2,20191217,0123,-11.0000,  79.9972, 5347,    149.7,  19.9950,  19.9140,2,  34.7312,2,  34.7301,2,     92.0,2,     92.4,2,    16.66,2,    17.50,2,     0.03,2,     1.20,2,     0.05,2,    1.587,2,    0.958,2,    0.018,2,    1.101,2,   2121.5, 2,   2284.8,2,     49.7,2,     0.15,2,     -999,9,   -999.0,9,    1.072,2,    1.072,2,   1.4290,1,   0.3140,2,   0.1850,2,   0.0240,2,    0.185,2,   99.298,2,  19.9140,2
  49NZ20191205,  I08N,    50,  1,     32,   1232,2,20191217,0123,-11.0000,  79.9972, 5347,    200.0,  16.7260,  16.7260,2,  35.1570,2,  35.1547,2,    134.0,2,    134.1,2,    17.01,2,    14.09,2,     0.01,2,     1.00,2,     0.06,2,    1.661,2,    1.055,2,    0.014,2,    1.167,2,   2134.9, 2,   2317.7,2,     49.1,2,     0.01,2,     -999,9,   -999.0,9,    0.000,2,    0.000,2,   1.3750,1,   0.2420,2,   0.1430,2,   0.0240,2,   -0.003,2,   99.686,2,  16.7260,2
  49NZ20191205,  I08N,    50,  1,     31,   1231,2,20191217,0123,-11.0000,  79.9972, 5347,    251.8,  12.9809,  12.9851,2,  34.8753,2,  34.8533,2,     99.8,2,     94.4,2,    29.31,2,    23.83,2,     0.00,2,     1.65,2,     0.06,2,    1.484,2,    0.873,2,    0.011,2,    0.696,2,   2191.4, 2,   2310.3,2,     47.5,2,     0.01,2,     -999,9,   -999.0,9,    0.000,2,    0.000,2,   1.4600,1,-999.0000,9,-999.0000,9,-999.0000,9,   -0.004,2,   99.684,2,  12.9851,2
  49NZ20191205,  I08N,    50,  1,     30,   1230,2,20191217,0123,-11.0000,  79.9972, 5347,    329.1,  11.1240,  11.1239,2,  34.8094,2,  34.8101,2,     96.2,2,     96.9,2,    31.46,2,    26.29,2,     0.00,2,     1.81,2,     0.05,2,    1.607,2,    0.892,2,    0.019,2,    0.595,2,   2206.2, 2,   2309.7,2,     45.7,2,  -999.00,9,     -999,9,   -999.0,9,    0.000,2,    0.000,2,   1.4480,1,   0.2810,2,   0.1610,2,   0.0270,2,    0.000,2,   99.692,2,  11.1239,2
  49NZ20191205,  I08N,    50,  1,     29,   1229,2,20191217,0123,-11.0000,  79.9972, 5347,    431.0,   9.4122,   9.4114,2,  34.7403,2,  34.7366,2,    111.5,2,    105.1,2,    35.00,2,    29.02,2,     0.00,2,     1.97,2,     0.03,2,    1.485,2,    0.796,2,    0.026,2,    0.458,2,   2215.8, 2,   2311.7,2,     41.9,2,  -999.00,9,     -999,9,   -999.0,9,    0.000,2,    0.000,2,   1.4100,1,   0.2690,2,   0.1490,2,   0.0250,2,    0.001,2,   99.749,2,   9.4114,2
  49NZ20191205,  I08N,    50,  1,     28,   1228,2,20191217,0123,-11.0000,  79.9972, 5347,    530.4,   8.4115,   8.4134,2,  34.7260,2,  34.7253,2,     80.9,2,     80.6,2,    48.45,2,    33.11,2,     0.00,2,     2.29,2,     0.03,2,    0.656,2,    0.371,2,    0.007,2,    0.127,2,   2244.6, 2,   2322.2,2,     36.2,3,  -999.00,9,     -999,9,   -999.0,9,    0.000,2,    0.000,2,   1.4760,1,   0.3130,2,   0.1830,2,   0.0350,2,    0.001,2,   99.749,2,   8.4134,2
  49NZ20191205,  I08N,    50,  1,     27,   1227,2,20191217,0123,-11.0000,  79.9972, 5347,    631.3,   7.5760,   7.5758,2,  34.7066,2,  34.7071,2,     72.8,2,     72.8,2,    61.61,2,    35.01,2,     0.00,2,     2.47,2,     0.02,2,    0.304,2,    0.184,2,    0.004,2,    0.063,2,   2268.8, 2,   2333.1,2,     43.7,2,  -999.00,9,     -999,9,   -999.0,9,    0.000,2,    0.000,2,   1.4970,1,   0.3380,2,   0.2080,2,   0.0470,2,    0.001,2,   99.793,2,   7.5758,2
  49NZ20191205,  I08N,    50,  1,     26,   1226,2,20191217,0123,-11.0000,  79.9972, 5347,    728.1,   6.8437,   6.8450,2,  34.6867,2,  34.6871,2,     72.8,2,     73.0,2,    72.85,2,    35.92,2,     0.01,2,     2.55,2,     0.03,2,    0.195,2,    0.113,2,    0.001,2,    0.038,2,   2278.4, 6,   2344.4,2,     41.6,2,  -999.00,9,     -999,9,   -999.0,9,    0.000,2,    0.000,2,   1.5200,1,-999.0000,9,-999.0000,9,-999.0000,9,    0.000,2,   99.806,2,   6.8450,2
  49NZ20191205,  I08N,    50,  1,     25,   1225,2,20191217,0123,-11.0000,  79.9972, 5347,    830.9,   6.2271,   6.2273,2,  34.6692,2,  34.6686,2,     77.3,2,     77.6,2,    81.43,2,    36.13,2,     0.01,2,     2.58,2,     0.05,2,    0.145,2,    0.084,2,    0.018,2,    0.025,2,   2288.3, 2,   2353.4,2,     43.5,2,  -999.00,9,     -999,9,   -999.0,9,    0.000,2,    0.000,2,   1.5260,1,   0.3100,2,   0.1760,2,   0.0340,2,    0.000,2,   99.821,2,   6.2273,2
  49NZ20191205,  I08N,    50,  1,     24,   1224,2,20191217,0123,-11.0000,  79.9972, 5347,    928.4,   5.6724,   5.6719,2,  34.6560,2,  34.6566,2,     81.2,2,     81.5,2,    89.62,2,    36.49,2,     0.01,2,     2.61,2,     0.05,2,    0.107,2,    0.067,2,    0.006,2,     0.02,2,   2294.2, 2,   2361.0,2,     43.2,2,  -999.00,9,     -999,9,   -999.0,9,    0.000,2,    0.000,2,   1.5380,1,-999.0000,9,-999.0000,9,-999.0000,9,    0.000,2,   99.842,2,   5.6719,2
  49NZ20191205,  I08N,    50,  1,     23,   1223,2,20191217,0123,-11.0000,  79.9972, 5347,   1068.9,   4.9836,   4.9836,2,  34.6559,2,  34.6561,2,     86.9,2,     87.3,2,    99.12,2,    36.94,2,     0.01,2,     2.64,2,     0.05,2,    0.073,2,    0.042,2,    0.000,2,     0.01,2,   2302.3, 2,   2371.5,2,     39.7,2,  -999.00,9,     -999,9,   -999.0,9,    0.000,2,    0.000,2,   1.5430,1,   0.3200,2,   0.1920,2,   0.0340,2,    0.000,2,   99.838,2,   4.9836,2
  49NZ20191205,  I08N,    50,  1,     22,   1222,2,20191217,0123,-11.0000,  79.9972, 5347,   1271.0,   4.7058,   4.7055,2,  34.7419,2,  34.7426,2,     89.4,2,     89.8,2,    98.94,2,    36.96,2,     0.00,2,     2.65,2,     0.05,2,    0.029,2,    0.013,2,    0.000,2,    0.017,2,   2307.1, 2,   2374.8,6,     40.1,2,  -999.00,9,     -999,9,   -999.0,9,    0.000,2,    0.000,2,   1.5590,1,-999.0000,9,-999.0000,9,-999.0000,9,    0.000,2,   99.850,2,   4.7055,2
  49NZ20191205,  I08N,    50,  1,     21,   1221,2,20191217,0123,-11.0000,  79.9972, 5347,   1470.4,   3.9334,   3.9312,2,  34.7492,2,  34.7476,2,    105.8,2,    106.5,2,   104.47,2,    36.50,2,     0.01,2,     2.60,2,     0.03,2,    0.016,2,    0.005,2,    0.000,2,    0.004,2,   2304.0, 2,   2379.8,2,     41.7,2,  -999.00,9,     -999,9,   -999.0,9,    0.000,2,    0.000,2,   1.5370,1,   0.3760,2,   0.1880,2,   0.0440,2,    0.000,2,   99.861,2,   3.9312,2
  49NZ20191205,  I08N,    50,  1,     20,   1220,2,20191217,0123,-11.0000,  79.9972, 5347,   1670.9,   3.2796,   3.2803,2,  34.7440,2,  34.7433,2,    121.7,2,    122.2,2,   109.22,2,    36.06,2,     0.01,2,     2.55,2,     0.03,2,    0.010,2,    0.003,2,    0.000,2,    0.008,2,   2303.1, 2,   2384.4,2,     39.3,2,  -999.00,9,     -999,9,   -999.0,9,    0.000,2,    0.000,2,   1.5140,1,-999.0000,9,-999.0000,9,-999.0000,9,    0.000,2,   99.865,2,   3.2803,2
  49NZ20191205,  I08N,    50,  1,     19,   1219,2,20191217,0123,-11.0000,  79.9972, 5347,   1870.0,   2.8204,   2.8204,2,  34.7447,2,  34.7451,2,    134.4,2,    134.5,2,   113.34,2,    35.48,2,     0.00,2,     2.50,2,     0.02,2,    0.011,2,    0.004,2,    0.000,2,    0.004,2,   2301.3, 2,   2387.7,2,     36.3,2,  -999.00,9,     -999,9,   -999.0,9,    0.000,2,    0.000,2,   1.4970,1,   0.3640,2,   0.1800,2,   0.0430,2,    0.000,2,   99.869,2,   2.8204,2
  49NZ20191205,  I08N,    50,  1,     18,   1218,2,20191217,0123,-11.0000,  79.9972, 5347,   2069.3,   2.4646,   2.4648,2,  34.7428,2,  34.7430,2,    144.6,2,    144.6,2,   116.62,2,    35.03,2,     0.01,2,     2.45,2,     0.02,2,    0.012,2,    0.003,2,    0.000,2,    0.006,2,   2299.6, 2,   2392.3,2,     37.8,2,  -999.00,9,     -999,9,   -999.0,9,    0.000,2,    0.000,2,   1.4990,1,-999.0000,9,-999.0000,9,-999.0000,9,   -0.001,2,   99.876,2,   2.4648,2
  49NZ20191205,  I08N,    50,  1,     17,   1217,2,20191217,0123,-11.0000,  79.9972, 5347,   2270.4,   2.2157,   2.2155,2,  34.7387,2,  34.7382,2,    153.1,2,    153.4,2,   118.46,2,    34.64,2,     0.01,2,     2.41,2,     0.02,2,    0.013,2,    0.004,2,    0.000,2,    0.004,2,   2298.3, 2,   2393.5,2,     39.1,2,  -999.00,9,     -999,9,   -999.0,9,    0.000,2,    0.000,2,   1.4790,1,   0.3500,2,   0.1690,2,   0.0380,2,    0.000,2,   99.876,2,   2.2155,2
  49NZ20191205,  I08N,    50,  1,     16,   1216,2,20191217,0123,-11.0000,  79.9972, 5347,   2470.8,   2.0185,   2.0185,2,  34.7346,2,  34.7341,2,    159.8,2,    160.0,2,   120.35,2,    34.35,2,     0.00,2,     2.39,2,     0.03,2,    0.012,2,    0.003,2,    0.000,2,    0.003,2,   2296.1, 1,   2392.7,2,     39.8,2,  -999.00,9,     -999,9,   -999.0,9,    0.000,2,    0.000,2,   1.4690,1,-999.0000,9,-999.0000,9,-999.0000,9,    0.000,2,   99.886,2,   2.0185,2
  49NZ20191205,  I08N,    50,  1,     15,   1215,2,20191217,0123,-11.0000,  79.9972, 5347,   2671.9,   1.8762,   1.8766,2,  34.7314,2,  34.7315,2,    164.9,2,    165.2,2,   121.43,2,    34.02,2,     0.01,2,     2.37,2,     0.03,2,    0.017,2,    0.005,2,    0.000,2,    0.007,2,   2294.7, 2,   2395.7,2,     37.8,2,  -999.00,9,     -999,9,   -999.0,9,    0.000,2,    0.000,2,   1.4510,1,   0.3560,2,   0.1700,2,   0.0370,2,   -0.001,2,   99.886,2,   1.8766,2
  49NZ20191205,  I08N,    50,  1,     14,   1214,2,20191217,0123,-11.0000,  79.9972, 5347,   2868.9,   1.7546,   1.7549,2,  34.7290,2,  34.7294,2,    167.6,2,    167.9,2,   123.62,2,    33.99,2,     0.00,2,     2.35,2,     0.02,2,    0.016,2,    0.005,2,    0.000,2,    0.002,2,   2295.0, 2,   2398.4,2,     38.4,2,  -999.00,9,     -999,9,   -999.0,9,    0.000,2,    0.000,2,   1.4600,1,-999.0000,9,-999.0000,9,-999.0000,9,   -0.001,2,   99.878,2,   1.7549,2
  49NZ20191205,  I08N,    50,  1,     13,   1213,2,20191217,0123,-11.0000,  79.9972, 5347,   3080.8,   1.6340,   1.6342,2,  34.7260,2,  34.7269,2,    169.5,2,    169.7,2,   126.97,2,    34.10,2,     0.00,2,     2.35,2,     0.01,2,    0.016,2,    0.004,2,    0.001,2,    0.005,2,   2297.1, 2,   2400.6,2,     37.4,2,  -999.00,9,     -999,9,   -999.0,9,    0.000,2,    0.000,2,   1.4460,1,   0.3590,2,   0.1730,2,   0.0370,2,    0.000,2,   99.873,2,   1.6342,2
  49NZ20191205,  I08N,    50,  1,     12,   1212,2,20191217,0123,-11.0000,  79.9972, 5347,   3330.2,   1.5205,   1.5215,2,  34.7233,2,  34.7232,2,    171.8,2,    171.8,2,   130.07,2,    34.04,2,     0.01,2,     2.35,2,     0.02,2,    0.013,2,    0.004,2,    0.004,2,    0.006,2,   2299.9, 2,   2405.0,6,     41.0,2,  -999.00,9,     -999,9,   -999.0,9,    0.000,2,    0.000,2,   1.4570,1,-999.0000,9,-999.0000,9,-999.0000,9,    0.000,2,   99.888,2,   1.5215,2
  49NZ20191205,  I08N,    50,  1,     11,   1211,2,20191217,0123,-11.0000,  79.9972, 5347,   3580.4,   1.4193,   1.4192,2,  34.7204,2,  34.7208,2,    176.1,2,    176.0,2,   131.32,2,    34.04,2,     0.00,2,     2.33,2,     0.02,2,    0.013,2,    0.003,2,    0.003,2,    0.006,2,   2300.2, 2,   2406.0,2,     37.9,2,  -999.00,9,     -999,9,   -999.0,9,    0.000,2,    0.000,2,   1.4580,1,   0.3980,2,   0.2090,2,   0.0520,2,   -0.001,2,   99.895,2,   1.4192,2
  49NZ20191205,  I08N,    50,  1,     10,   1210,2,20191217,0123,-11.0000,  79.9972, 5347,   3829.7,   1.3621,   1.3618,2,  34.7185,2,  34.7187,2,    179.9,2,    179.9,2,   131.73,2,    33.86,2,     0.00,2,     2.32,2,     0.02,2,    0.012,2,    0.003,2,    0.000,2,    0.007,2,   2301.0, 2,   2405.0,2,     40.9,2,  -999.00,9,     -999,9,   -999.0,9,    0.000,2,    0.000,2,   1.4350,1,-999.0000,9,-999.0000,9,-999.0000,9,    0.000,2,   99.897,2,   1.3618,2
  49NZ20191205,  I08N,    50,  1,      9,   1209,2,20191217,0123,-11.0000,  79.9972, 5347,   4081.2,   1.3457,   1.3457,2,  34.7174,2,  34.7180,2,    181.5,2,    181.4,2,   132.45,2,    33.81,2,     0.00,2,     2.31,2,     0.02,2,    0.010,2,    0.003,2,    0.000,2,    0.007,2,   2296.9, 3,   2405.4,2,     38.9,2,  -999.00,9,     -999,9,   -999.0,9,    0.000,2,    0.000,2,   1.4310,1,   0.3690,2,   0.1880,2,   0.0440,2,   -0.001,2,   99.897,2,   1.3457,2
  49NZ20191205,  I08N,    50,  1,      8,  12103,2,20191217,0123,-11.0000,  79.9972, 5347,   4331.0,   1.3630,   1.3630,2,  34.7172,2,  34.7171,2,    181.6,2,    181.5,2,   132.96,2,    33.84,2,     0.00,2,     2.32,2,     0.03,2,    0.013,2,    0.004,2,    0.001,2,    0.005,2,   2297.6, 6,   2409.3,2,     39.4,2,  -999.00,9,     -999,9,   -999.0,9,    0.000,2,    0.000,2,   1.4320,1,-999.0000,9,-999.0000,9,-999.0000,9,   -0.001,2,   99.899,2,   1.3630,2
  49NZ20191205,  I08N,    50,  1,      7,   1207,2,20191217,0123,-11.0000,  79.9972, 5347,   4580.4,   1.3786,   1.3786,2,  34.7169,2,  34.7171,2,    181.7,2,    181.6,2,   133.15,2,    33.83,2,     0.00,2,     2.32,2,     0.02,2,    0.012,2,    0.005,2,    0.000,2,    0.002,2,   2299.2, 2,   2406.1,2,     42.6,2,  -999.00,9,     -999,9,   -999.0,9,    0.000,2,    0.000,2,   1.4410,1,   0.3630,2,   0.1830,2,   0.0420,2,   -0.001,2,   99.895,2,   1.3786,2
  49NZ20191205,  I08N,    50,  1,      6,   1206,2,20191217,0123,-11.0000,  79.9972, 5347,   4830.7,   1.3964,   1.3964,2,  34.7167,2,  34.7165,2,    182.0,2,    182.1,2,   133.21,2,    33.72,2,     0.00,2,     2.32,2,     0.02,2,    0.014,2,    0.006,2,    0.000,2,    0.002,2,   2297.1, 2,   2407.5,6,     47.4,3,  -999.00,9,     -999,9,   -999.0,9,    0.000,2,    0.000,2,   1.4540,1,-999.0000,9,-999.0000,9,-999.0000,9,   -0.001,2,   99.897,2,   1.3964,2
  49NZ20191205,  I08N,    50,  1,      5,   1205,2,20191217,0123,-11.0000,  79.9972, 5347,   5079.1,   1.4248,   1.4248,2,  34.7167,2,  34.7168,2,    182.1,2,    182.1,2,   132.94,2,    33.77,2,     0.00,2,     2.31,2,     0.01,2,    0.015,2,    0.005,2,    0.008,2,        0,2,   2295.3, 2,   2406.9,2,     41.9,2,  -999.00,9,     -999,9,   -999.0,9,    0.000,2,    0.000,2,   1.4340,1,   0.3680,2,   0.1810,2,   0.0410,2,    0.000,2,   99.873,2,   1.4248,2
  49NZ20191205,  I08N,    50,  1,      4,   1204,2,20191217,0123,-11.0000,  79.9972, 5347,   5330.2,   1.4523,   1.4523,2,  34.7167,2,  34.7166,2,    182.3,2,    182.4,2,   132.84,2,    33.81,2,     0.00,2,     2.31,2,     0.01,2,    0.013,2,    0.005,2,    0.001,2,    0.011,2,   2296.0, 2,   2405.1,2,     40.9,2,  -999.00,9,     -999,9,   -999.0,9,    0.000,2,    0.000,2,   1.4350,1,   0.3430,2,   0.1670,2,   0.0340,2,    0.000,2,   99.873,2,   1.4523,2
  49NZ20191205,  I08N,    50,  1,      2,  12046,2,20191217,0123,-11.0000,  79.9972, 5347,    119.2,  27.0191,  27.0297,2,  34.7799,2,  34.7992,2,    193.2,2,    189.0,2,     2.62,2,     0.51,2,     0.06,2,     0.18,2,     0.05,2, -999.000,9, -999.000,9, -999.000,9,     -999,9,   1976.3, 2,   2281.7,2,     68.7,2,     0.45,2,     -999,9,   -999.0,9,    8.929,2,    8.929,2,   1.2110,1,   0.2750,2,   0.1410,2,   0.0290,2,    0.423,2,   98.680,2,  27.0297,2
  49NZ20191205,  I08N,    50,  1,      1,   1201,2,20191217,0123,-11.0000,  79.9972, 5347,   5425.6,   1.4648,   1.4649,2,  34.7168,2,  34.7168,2,    182.3,2,    182.5,2,   132.90,2,    33.83,2,     0.00,2,     2.32,2,     0.02,2,    0.013,2,    0.004,2,    0.000,2,    0.004,2,   2297.6, 2,   2408.4,2,     37.7,2,  -999.00,9,     -999,9,   -999.0,9,    0.000,2,    0.000,2,   1.4410,1,   0.2980,2,   0.1590,2,   0.0340,2,    0.000,2,   99.869,2,   1.4649,2