BOTTLE,20210412PRINUNIVRMK
EXPOCODE,SECT_ID,STNNBR,CASTNO,SAMPNO,BTLNBR,BTLNBR_FLAG_W,DATE,TIME,LATITUDE,LONGITUDE,DEPTH,CTDPRS,CTDTMP,SBE35,SBE35_FLAG_W,CTDSAL,CTDSAL_FLAG_W,SALNTY,SALNTY_FLAG_W,CTDOXY,CTDOXY_FLAG_W,OXYGEN,OXYGEN_FLAG_W,SILCAT,SILCAT_FLAG_W,NITRAT,NITRAT_FLAG_W,NITRIT,NITRIT_FLAG_W,PHSPHT,PHSPHT_FLAG_W,NH4,NH4_FLAG_W,CFC-11,CFC-11_FLAG_W,CFC-12,CFC-12_FLAG_W,CFC113,CFC113_FLAG_W,SF6,SF6_FLAG_W,TCARBN,TCARBN_FLAG_W,ALKALI,ALKALI_FLAG_W,DOC,DOC_FLAG_W,CHLWELSH,CHLWELSH_FLAG_W,UREA,UREA_FLAG_W,IODATE,IODATE_FLAG_W,PAR,PAR_FLAG_W,PAR,PAR_FLAG_W,CDOM,CDOM_FLAG_W,CDOM300,CDOM300_FLAG_W,CDOM325,CDOM325_FLAG_W,CDOM443,CDOM443_FLAG_W,CTDFLUOR,CTDFLUOR_FLAG_W,CTDXMISS,CTDXMISS_FLAG_W,SBE35,SBE35_FLAG_W
,,,,,,,,,,,METERS,DBAR,ITS-90,,,PSS-78,,PSS-78,,UMOL/KG,,UMOL/KG,,UMOL/KG,,UMOL/KG,,UMOL/KG,,UMOL/KG,,UMOL/KG,,PMOL/KG,,PMOL/KG,,PMOL/KG,,FMOL/KG,,UMOL/KG,,UMOL/KG,,UMOL/KG,,UG/KG,,nMOL/L,,nMOL/L,,VOLTS,,VOLTS,,MG/M^3,,1/M,,1/M,,1/M,,MG/M^3,,%TRANS,,,
  49NZ20191205,  I08N,     5,  1,     36,   1236,2,20191206,0036,  5.6659,  80.0067, 3233,     10.4,  28.7944,  28.7945,2,  32.7733,2,  32.7628,2,    196.5,2,    197.0,2,     1.79,2,     0.02,2,     0.01,2,     0.03,2,     0.02,2,    1.315,2,    0.846,2,    0.112,2,    1.452,2,   1879.9, 2,   2179.6,2,     72.2,2,     0.25,2,     51.4,2,    184.7,2,  146.826,2,  146.826,2,   1.2150,1,   0.2650,2,   0.1330,2,   0.0200,2,    0.149,2,   98.360,2,  28.7945,2
  49NZ20191205,  I08N,     5,  1,     35,   1235,2,20191206,0036,  5.6659,  80.0067, 3233,     50.2,  26.2486,  26.2468,2,  34.6910,2,  34.6942,2,    107.0,2,    107.0,2,     6.83,2,    10.24,2,     0.25,2,     0.82,2,     0.03,2,    1.273,2,    0.811,2,    0.065,2,    1.279,2,   2057.3, 2,   2272.5,2,     57.6,2,     0.29,2,     30.6,2,    359.4,2,    6.556,2,    6.556,2,   1.5520,1,   0.3730,2,   0.2290,2,   0.0310,2,    0.497,2,   98.705,2,  26.2468,2
  49NZ20191205,  I08N,     5,  1,     34,   1234,2,20191206,0036,  5.6659,  80.0067, 3233,     99.6,  21.2734,  21.2910,2,  34.9072,2,  34.9073,2,     36.6,2,     39.1,2,    16.23,2,    22.26,2,     0.03,2,     1.62,2,     0.03,2,    1.203,2,    0.753,2,    0.022,2,    0.905,2,   2164.2, 2,   2287.0,2,     48.9,2,     0.07,2,     16.7,2,    438.1,2,    0.067,2,    0.067,2,   1.6250,1,   0.3580,2,   0.2120,2,   0.0380,2,    0.091,2,   99.414,2,  21.2910,2
  49NZ20191205,  I08N,     5,  1,     33,   1233,2,20191206,0036,  5.6659,  80.0067, 3233,    150.3,  16.0809,  16.2029,2,  34.9788,2,  34.9740,2,     14.5,2,     14.6,2,    25.40,2,    28.80,2,     0.01,2,     2.09,2,     0.01,2,    1.072,2,    0.644,2,    0.005,2,    0.529,2,   2229.7, 2,   2300.9,2,     38.9,2,     0.01,2,     36.1,2,    462.1,2,    0.000,2,    0.000,2,   1.6820,1,   0.3450,2,   0.2040,2,   0.0380,2,   -0.006,2,   99.612,2,  16.2029,2
  49NZ20191205,  I08N,     5,  1,     32,   1232,2,20191206,0036,  5.6659,  80.0067, 3233,    199.4,  13.5063,  13.5128,2,  35.0647,2,  35.0671,2,     13.0,2,     13.1,2,    28.79,2,    31.16,2,     0.01,2,     2.25,2,        0,2,    1.066,2,    0.621,2,    0.009,2,    0.407,2,   2254.7, 2,   2310.1,2,     41.5,2,     0.01,2,     92.4,2,    481.0,2,    0.000,2,    0.000,2,   1.6790,1,   0.3540,2,   0.2100,2,   0.0440,2,   -0.001,2,   99.614,2,  13.5128,2
  49NZ20191205,  I08N,     5,  1,     31,   1231,2,20191206,0036,  5.6659,  80.0067, 3233,    248.8,  12.3580,  12.3587,2,  35.1215,2,  35.1222,2,     29.6,2,     29.9,2,    27.68,2,    30.95,2,     0.01,2,     2.18,2,     0.01,2,    1.233,2,    0.705,2,    0.006,2,    0.398,2,   2256.3, 2,   2309.1,2,     37.6,2,     0.01,2,     44.5,2,    410.9,2,    0.000,2,    0.000,2,   1.6520,1,-999.0000,9,-999.0000,9,-999.0000,9,    0.003,2,   99.509,2,  12.3587,2
  49NZ20191205,  I08N,     5,  1,     30,   1230,2,20191206,0036,  5.6659,  80.0067, 3233,    279.9,  12.0298,  12.0324,2,  35.1266,2,  35.1269,2,     30.4,2,     30.3,2,    28.88,2,    31.44,2,     0.01,2,     2.20,2,     0.02,2,    1.179,2,    0.671,2,    0.013,2,    0.341,2,   2260.1, 2,   2314.1,2,     38.6,2,  -999.00,9,     39.6,2,    421.8,2,    0.000,2,    0.000,2,   1.6590,1,   0.3450,2,   0.2040,2,   0.0440,2,    0.004,2,   99.519,2,  12.0324,2
  49NZ20191205,  I08N,     5,  1,     29,   1229,2,20191206,0036,  5.6659,  80.0067, 3233,    372.2,  11.0809,  11.0806,2,  35.0972,2,  35.0980,2,     26.4,2,     26.0,2,    35.64,2,    33.57,2,     0.01,2,     2.35,2,     0.01,2,    0.853,2,    0.487,2,    0.003,2,    0.224,2,   2269.9, 2,   2317.4,2,     37.2,2,  -999.00,9,     14.6,2,    429.0,2,    0.000,2,    0.000,2,   1.6760,1,   0.3580,2,   0.2100,2,   0.0460,2,    0.006,2,   99.534,2,  11.0806,2
  49NZ20191205,  I08N,     5,  1,     28,   1228,2,20191206,0036,  5.6659,  80.0067, 3233,    469.6,  10.3105,  10.3102,2,  35.0842,2,  35.0838,2,     22.2,2,     21.7,2,    43.49,2,    34.78,2,     0.01,2,     2.50,2,     0.03,2,    0.540,2,    0.310,2,    0.003,2,    0.121,2,   2280.9, 2,   2324.8,2,     41.8,2,  -999.00,9,      7.6,2,    442.6,2,    0.000,2,    0.000,2,   1.6930,1,   0.3760,2,   0.2280,2,   0.0500,2,    0.005,2,   99.583,2,  10.3102,2
  49NZ20191205,  I08N,     5,  1,     27,   1227,2,20191206,0036,  5.6659,  80.0067, 3233,    569.7,   9.5502,   9.5505,2,  35.0633,2,  35.0645,2,     19.8,2,     19.7,2,    51.92,2,    36.11,2,     0.01,2,     2.62,2,     0.03,2,    0.306,2,    0.178,2,    0.007,2,    0.045,2,   2292.8, 2,   2332.6,2,     39.5,2,  -999.00,9,      5.6,2,    437.0,2,    0.000,2,    0.000,2,   1.7190,1,   0.3620,2,   0.2150,2,   0.0460,2,    0.004,2,   99.644,2,   9.5505,2
  49NZ20191205,  I08N,     5,  1,     26,   1226,2,20191206,0036,  5.6659,  80.0067, 3233,    670.0,   8.8067,   8.8066,2,  35.0297,2,  35.0292,2,     26.1,2,     25.8,2,    59.44,2,    36.87,2,     0.01,2,     2.68,2,     0.05,2,    0.192,2,    0.112,2,    0.000,2,     0.02,2,   2294.2, 6,   2340.3,2,     36.5,2,  -999.00,9,      1.4,2,    447.4,2,    0.000,2,    0.000,2,   1.7000,1,-999.0000,9,-999.0000,9,-999.0000,9,    0.004,2,   99.753,2,   8.8066,2
  49NZ20191205,  I08N,     5,  1,     25,   1225,2,20191206,0036,  5.6659,  80.0067, 3233,    770.2,   8.1523,   8.1522,2,  34.9975,2,  34.9972,2,     29.4,2,     28.9,2,    67.60,2,    37.33,2,     0.01,2,     2.73,2,     0.02,2,    0.111,2,    0.067,2,    0.000,2,    0.001,2,   2300.6, 2,   2346.8,2,     42.4,2,  -999.00,9,     56.3,2,    393.3,2,    0.000,2,    0.000,2,   1.7120,1,   0.4240,2,   0.2240,2,   0.0420,2,    0.002,2,   99.772,2,   8.1522,2
  49NZ20191205,  I08N,     5,  1,     24,   1224,2,20191206,0036,  5.6659,  80.0067, 3233,    871.6,   7.4147,   7.4149,2,  34.9723,2,  34.9734,2,     36.0,2,     36.0,2,    75.91,2,    37.62,2,     0.01,2,     2.76,2,     0.03,2,    0.073,2,    0.040,2,    0.004,2,    0.006,2,   2310.3, 2,   2355.0,2,     38.7,2,  -999.00,9,     76.4,2,    459.9,2,    0.000,2,    0.000,2,   1.7290,1,-999.0000,9,-999.0000,9,-999.0000,9,    0.002,2,   99.793,2,   7.4149,2
  49NZ20191205,  I08N,     5,  1,     23,   1223,2,20191206,0036,  5.6659,  80.0067, 3233,    969.8,   6.8881,   6.8882,2,  34.9454,2,  34.9450,2,     41.5,2,     41.2,2,    82.24,2,    37.74,2,     0.01,2,     2.77,2,     0.03,2,    0.050,2,    0.027,2,    0.002,2,    0.006,2,   2314.7, 2,   2358.3,2,     40.0,2,  -999.00,9,     63.9,2,    450.3,2,    0.000,2,    0.000,2,   1.7330,1,   0.4210,2,   0.2230,2,   0.0420,2,    0.002,2,   99.816,2,   6.8882,2
  49NZ20191205,  I08N,     5,  1,     22,   1222,2,20191206,0036,  5.6659,  80.0067, 3233,   1129.0,   6.0939,   6.0956,2,  34.9206,2,  34.9206,2,     52.5,2,     53.1,2,    91.02,2,    37.72,2,     0.01,2,     2.77,2,     0.03,2,    0.038,2,    0.019,2,    0.000,2,    0.002,2,   2325.8, 3,   2371.9,6,     44.9,2,  -999.00,9,       25,2,    468.7,2,    0.000,2,    0.000,2,   1.7320,1,-999.0000,9,-999.0000,9,-999.0000,9,    0.002,2,   99.825,2,   6.0956,2
  49NZ20191205,  I08N,     5,  1,     21,   1221,2,20191206,0036,  5.6659,  80.0067, 3233,   1328.5,   5.1665,   5.1666,2,  34.8779,2,  34.8780,2,     67.9,2,     67.9,2,   100.98,2,    37.61,2,     0.00,2,     2.76,2,     0.02,2,    0.025,2,    0.011,2,    0.001,2,    0.004,2,   2321.2, 2,   2372.2,2,     40.3,2,  -999.00,9,     36.1,2,    452.5,2,    0.000,2,    0.000,2,   1.7290,1,   0.4130,2,   0.2170,2,   0.0400,2,    0.001,2,   99.877,2,   5.1666,2
  49NZ20191205,  I08N,     5,  1,     20,   1220,2,20191206,0036,  5.6659,  80.0067, 3233,   1534.0,   4.3436,   4.3437,2,  34.8458,2,  34.8469,2,     82.1,2,     81.8,2,   109.98,2,    37.63,2,     0.01,2,     2.74,2,     0.01,2,    0.020,2,    0.008,2,    0.000,2,    0.021,2,   2325.0, 2,   2389.1,2,     37.3,2,  -999.00,9,      7.6,2,    460.2,2,    0.000,2,    0.000,2,   1.7200,1,-999.0000,9,-999.0000,9,-999.0000,9,    0.001,2,   99.896,2,   4.3437,2
  49NZ20191205,  I08N,     5,  1,     19,   1219,2,20191206,0036,  5.6659,  80.0067, 3233,   1732.5,   3.5098,   3.5097,2,  34.8122,2,  34.8131,2,    100.4,2,    100.2,2,   118.36,2,    36.68,2,     0.00,2,     2.66,2,     0.03,2,    0.014,2,    0.005,2,    0.001,2,    0.002,2,   2329.7, 2,   2398.4,2,     35.4,2,  -999.00,9,     -999,9,   -999.0,9,    0.000,2,    0.000,2,   1.7040,1,   0.4130,2,   0.2200,2,   0.0420,2,    0.001,2,   99.909,2,   3.5097,2
  49NZ20191205,  I08N,     5,  1,     18,   1218,2,20191206,0036,  5.6659,  80.0067, 3233,   1927.8,   2.9459,   2.9457,2,  34.7878,2,  34.7875,2,    112.7,2,    113.0,2,   125.71,2,    36.45,2,     0.00,2,     2.61,2,     0.01,2,    0.013,2,    0.006,2,    0.002,2,    0.017,2,   2326.8, 2,   2405.9,2,     38.9,2,  -999.00,9,     -999,9,   -999.0,9,    0.000,2,    0.000,2,   1.7310,1,-999.0000,9,-999.0000,9,-999.0000,9,    0.001,2,   99.865,2,   2.9457,2
  49NZ20191205,  I08N,     5,  1,     17,   1217,2,20191206,0036,  5.6659,  80.0067, 3233,   2129.5,   2.4702,   2.4705,2,  34.7656,2,  34.7654,2,    124.9,2,    124.8,2,   130.83,2,    36.02,2,     0.00,2,     2.57,2,     0.01,2,    0.013,2,    0.005,2,    0.000,2,        0,2,   2328.3, 2,   2411.3,2,     37.4,2,  -999.00,9,     -999,9,   -999.0,9,    0.000,2,    0.000,2,   1.6990,1,   0.4010,2,   0.2090,2,   0.0390,2,    0.001,2,   99.892,2,   2.4705,2
  49NZ20191205,  I08N,     5,  1,     16,   1216,2,20191206,0036,  5.6659,  80.0067, 3233,   2328.8,   2.1735,   2.1730,2,  34.7520,2,  34.7529,2,    133.2,2,    133.1,2,   134.47,2,    35.84,2,     0.01,2,     2.54,2,     0.01,2,    0.018,2,    0.007,2,    0.000,2,    0.003,2,   2328.0, 6,   2415.4,2,     41.5,2,  -999.00,9,     -999,9,   -999.0,9,    0.000,2,    0.000,2,   1.6880,1,-999.0000,9,-999.0000,9,-999.0000,9,    0.000,2,   99.923,2,   2.1730,2
  49NZ20191205,  I08N,     5,  1,     15,   1215,2,20191206,0036,  5.6659,  80.0067, 3233,   2531.2,   2.0581,   2.0585,2,  34.7466,2,  34.7469,2,    136.9,2,    136.8,2,   135.67,2,    35.67,2,     0.01,2,     2.53,2,     0.02,2,    0.016,2,    0.007,2,    0.001,2,    0.007,2,   2328.7, 2,   2415.2,2,     38.7,2,  -999.00,9,     -999,9,   -999.0,9,    0.000,2,    0.000,2,   1.6770,1,   0.3930,2,   0.2060,2,   0.0390,2,    0.000,2,   99.917,2,   2.0585,2
  49NZ20191205,  I08N,     5,  1,     14,   1214,2,20191206,0036,  5.6659,  80.0067, 3233,   2730.6,   1.8241,   1.8241,2,  34.7368,2,  34.7372,2,    144.9,2,    144.7,2,   138.12,2,    35.41,2,     0.01,2,     2.49,2,     0.03,2,    0.014,2,    0.007,2,    0.002,2,    0.002,2,   2325.3, 2,   2416.8,2,     40.7,2,  -999.00,9,     -999,9,   -999.0,9,    0.000,2,    0.000,2,   1.6860,1,-999.0000,9,-999.0000,9,-999.0000,9,    0.000,2,   99.928,2,   1.8241,2
  49NZ20191205,  I08N,     5,  1,     13,   1213,2,20191206,0036,  5.6659,  80.0067, 3233,   2930.9,   1.7408,   1.7408,2,  34.7330,2,  34.7344,2,    146.8,2,    147.0,2,   139.86,2,    35.30,2,     0.01,2,     2.48,2,     0.02,2,    0.016,2,    0.008,2,    0.006,2,    0.002,2,   2329.7, 2,   2421.4,2,     41.8,2,  -999.00,9,     -999,9,   -999.0,9,    0.000,2,    0.000,2,   1.6820,1,   0.4040,2,   0.2160,2,   0.0390,2,    0.000,2,   99.951,2,   1.7408,2
  49NZ20191205,  I08N,     5,  1,     12,   1212,2,20191206,0036,  5.6659,  80.0067, 3233,   3169.1,   1.6192,   1.6193,2,  34.7281,2,  34.7288,2,    149.3,2,    149.6,2,   142.89,2,    35.39,2,     0.01,2,     2.47,2,     0.03,2,    0.018,2,    0.008,2,    0.001,2,        0,2,   2332.4, 2,   2426.5,6,     38.8,2,  -999.00,9,     -999,9,   -999.0,9,    0.000,2,    0.000,2,   1.6820,1,-999.0000,9,-999.0000,9,-999.0000,9,    0.000,2,   99.928,2,   1.6193,2
  49NZ20191205,  I08N,     5,  1,     10,   1210,5,20191206,0036,  5.6659,  80.0067, 3233,     10.2,  28.7927,  28.7916,2,  32.7741,2,-999.0000,9,    196.3,2,   -999.0,9,  -999.00,9,  -999.00,9,  -999.00,9,  -999.00,9,     -999,9, -999.000,9, -999.000,9, -999.000,9,     -999,9,   -999.0, 9,   -999.0,9,   -999.0,9,  -999.00,9,     -999,9,   -999.0,9,  150.936,2,  150.936,2,   1.2120,1,-999.0000,9,-999.0000,9,-999.0000,9,    0.156,2,   98.356,2,  28.7916,2
  49NZ20191205,  I08N,     5,  1,      9,   1209,5,20191206,0036,  5.6659,  80.0067, 3233,    100.2,  21.4353,  21.4562,2,  34.9077,2,-999.0000,9,     38.4,2,   -999.0,9,  -999.00,9,  -999.00,9,  -999.00,9,  -999.00,9,     -999,9, -999.000,9, -999.000,9, -999.000,9,     -999,9,   -999.0, 9,   -999.0,9,   -999.0,9,  -999.00,9,     -999,9,   -999.0,9,    0.061,2,    0.061,2,   1.6130,1,-999.0000,9,-999.0000,9,-999.0000,9,    0.104,2,   99.395,2,  21.4562,2
  49NZ20191205,  I08N,     5,  1,      2,  12046,2,20191206,0036,  5.6659,  80.0067, 3233,     32.3,  28.8558,  28.9164,2,  33.7990,2,  33.8023,2,    172.5,2,    174.6,2,     2.61,2,     1.58,2,     0.30,2,     0.20,2,     0.08,2, -999.000,9, -999.000,9, -999.000,9,     -999,9,   1937.0, 2,   2226.7,2,     76.3,2,     0.59,2,     39.1,2,    160.7,2,   25.695,2,   25.695,2,   1.3470,1,   0.3820,2,   0.2000,2,   0.0290,2,    0.605,2,   97.860,2,  28.9164,2
  49NZ20191205,  I08N,     5,  1,      1,   1201,2,20191206,0036,  5.6659,  80.0067, 3233,   3261.8,   1.5957,   1.5959,2,  34.7271,2,  34.7278,2,    150.0,2,    150.0,2,   143.79,2,    35.48,2,     0.01,2,     2.48,2,     0.03,2,    0.017,2,    0.007,2,    0.008,2,    0.001,2,   2330.3, 2,   2426.9,2,     40.6,2,  -999.00,9,     -999,9,   -999.0,9,    0.000,2,    0.000,2,   1.6950,1,   0.3820,2,   0.2110,2,   0.0380,2,    0.000,2,   99.953,2,   1.5959,2