BOTTLE,20210412PRINUNIVRMK
EXPOCODE,SECT_ID,STNNBR,CASTNO,SAMPNO,BTLNBR,BTLNBR_FLAG_W,DATE,TIME,LATITUDE,LONGITUDE,DEPTH,CTDPRS,CTDTMP,SBE35,SBE35_FLAG_W,CTDSAL,CTDSAL_FLAG_W,SALNTY,SALNTY_FLAG_W,CTDOXY,CTDOXY_FLAG_W,OXYGEN,OXYGEN_FLAG_W,SILCAT,SILCAT_FLAG_W,NITRAT,NITRAT_FLAG_W,NITRIT,NITRIT_FLAG_W,PHSPHT,PHSPHT_FLAG_W,NH4,NH4_FLAG_W,CFC-11,CFC-11_FLAG_W,CFC-12,CFC-12_FLAG_W,CFC113,CFC113_FLAG_W,SF6,SF6_FLAG_W,TCARBN,TCARBN_FLAG_W,ALKALI,ALKALI_FLAG_W,DOC,DOC_FLAG_W,CHLWELSH,CHLWELSH_FLAG_W,UREA,UREA_FLAG_W,IODATE,IODATE_FLAG_W,PAR,PAR_FLAG_W,PAR,PAR_FLAG_W,CDOM,CDOM_FLAG_W,CDOM300,CDOM300_FLAG_W,CDOM325,CDOM325_FLAG_W,CDOM443,CDOM443_FLAG_W,CTDFLUOR,CTDFLUOR_FLAG_W,CTDXMISS,CTDXMISS_FLAG_W,SBE35,SBE35_FLAG_W
,,,,,,,,,,,METERS,DBAR,ITS-90,,,PSS-78,,PSS-78,,UMOL/KG,,UMOL/KG,,UMOL/KG,,UMOL/KG,,UMOL/KG,,UMOL/KG,,UMOL/KG,,PMOL/KG,,PMOL/KG,,PMOL/KG,,FMOL/KG,,UMOL/KG,,UMOL/KG,,UMOL/KG,,UG/KG,,nMOL/L,,nMOL/L,,VOLTS,,VOLTS,,MG/M^3,,1/M,,1/M,,1/M,,MG/M^3,,%TRANS,,,
  49NZ20191205,  I08N,    34,  1,     36,   1236,2,20191212,0151, -2.9993,  79.9978, 4967,      9.8,  28.8325,  28.8321,2,  33.9912,2,  33.9912,2,    197.4,2,    196.8,2,     1.62,2,     0.02,2,     0.00,2,     0.10,2,     0.06,2,    1.360,2,    0.863,2,    0.112,2,     1.49,2,   1927.8, 2,   2238.5,2,   -999.0,9,     0.13,2,     -999,9,   -999.0,9,  122.386,2,  122.386,2,   1.1510,1,-999.0000,9,-999.0000,9,-999.0000,9,    0.098,2,   98.820,2,  28.8321,2
  49NZ20191205,  I08N,    34,  1,     35,   1235,2,20191212,0151, -2.9993,  79.9978, 4967,     50.1,  28.6350,  28.6344,2,  34.1581,2,  34.1318,2,    197.7,2,    197.1,2,     1.58,2,     0.01,2,     0.01,2,     0.10,2,     0.07,2,    1.366,2,    0.869,2,    0.112,2,    1.526,2,   1930.8, 2,   2244.2,2,   -999.0,9,     0.27,2,     -999,9,   -999.0,9,   16.366,2,   16.366,2,   1.1860,1,-999.0000,9,-999.0000,9,-999.0000,9,    0.205,2,   98.854,2,  28.6344,2
  49NZ20191205,  I08N,    34,  1,     34,   1234,2,20191212,0151, -2.9993,  79.9978, 4967,     99.7,  18.8168,  18.8249,2,  35.0667,2,  35.0590,2,     60.6,2,     60.7,2,    16.42,2,    22.09,2,     0.08,2,     1.51,2,     0.08,2,    1.617,2,    0.967,2,    0.018,2,    0.943,2,   2166.0, 2,   2297.2,2,   -999.0,9,     0.21,2,     -999,9,   -999.0,9,    0.563,2,    0.563,2,   1.4760,1,-999.0000,9,-999.0000,9,-999.0000,9,    0.232,2,   99.220,2,  18.8249,2
  49NZ20191205,  I08N,    34,  1,     33,   1233,2,20191212,0151, -2.9993,  79.9978, 4967,    150.2,  14.5427,  14.5434,2,  34.9737,2,  34.9880,2,     57.2,2,     59.5,2,    23.38,2,    26.37,2,     0.01,2,     1.79,2,     0.09,2,    1.611,2,    0.917,2,    0.005,2,    0.654,2,   2205.7, 2,   2301.1,2,   -999.0,9,     0.03,2,     -999,9,   -999.0,9,    0.000,2,    0.000,2,   1.5250,1,-999.0000,9,-999.0000,9,-999.0000,9,    0.041,2,   99.530,2,  14.5434,2
  49NZ20191205,  I08N,    34,  1,     32,   1232,2,20191212,0151, -2.9993,  79.9978, 4967,    198.6,  12.5710,  12.5768,2,  35.0506,2,  35.0506,2,     83.2,2,     83.1,2,    20.35,2,    25.49,2,     0.01,2,     1.72,2,     0.07,2,    1.809,2,    1.002,2,    0.010,2,    0.628,2,   2208.7, 2,   2308.4,2,   -999.0,9,     0.01,2,     -999,9,   -999.0,9,    0.000,2,    0.000,2,   1.4830,1,-999.0000,9,-999.0000,9,-999.0000,9,    0.000,2,   99.579,2,  12.5768,2
  49NZ20191205,  I08N,    34,  1,     31,   1231,2,20191212,0151, -2.9993,  79.9978, 4967,    252.1,  11.7348,  11.7348,2,  35.0211,2,  35.0213,2,    101.7,2,    101.0,2,    19.89,2,    24.98,2,     0.01,2,     1.68,2,     0.07,2,    1.937,2,    1.071,2,    0.019,2,    0.667,2,   2200.5, 2,   2305.8,2,   -999.0,9,     0.01,2,     -999,9,   -999.0,9,    0.000,2,    0.000,2,   1.4580,1,-999.0000,9,-999.0000,9,-999.0000,9,    0.001,2,   99.583,2,  11.7348,2
  49NZ20191205,  I08N,    34,  1,     30,   1230,2,20191212,0151, -2.9993,  79.9978, 4967,    280.6,  11.3797,  11.3796,2,  34.9952,2,  34.9933,2,     95.9,2,     95.5,2,    21.29,2,    26.22,2,     0.01,2,     1.76,2,     0.06,2,    1.819,2,    0.998,2,    0.019,2,    0.637,2,   2207.7, 2,   2304.8,2,   -999.0,9,  -999.00,9,     -999,9,   -999.0,9,    0.000,2,    0.000,2,   1.4580,1,-999.0000,9,-999.0000,9,-999.0000,9,    0.004,2,   99.608,2,  11.3796,2
  49NZ20191205,  I08N,    34,  1,     29,   1229,2,20191212,0151, -2.9993,  79.9978, 4967,    370.2,  10.3315,  10.3314,2,  34.9336,2,  34.9338,2,     91.0,2,     90.5,2,    26.66,2,    28.69,2,     0.01,2,     1.94,2,     0.08,2,    1.480,2,    0.801,2,    0.019,2,    0.388,2,   2219.8, 2,   2305.7,2,   -999.0,9,  -999.00,9,     -999,9,   -999.0,9,    0.000,2,    0.000,2,   1.4630,1,-999.0000,9,-999.0000,9,-999.0000,9,    0.003,2,   99.646,2,  10.3314,2
  49NZ20191205,  I08N,    34,  1,     28,   1228,2,20191212,0151, -2.9993,  79.9978, 4967,    470.5,   9.7452,   9.7452,2,  34.9213,2,  34.9211,2,     82.3,2,     81.6,2,    33.43,2,    30.63,2,     0.01,2,     2.12,2,     0.07,2,    1.089,2,    0.601,2,    0.017,2,    0.223,2,   2235.4, 2,   2311.4,2,   -999.0,9,  -999.00,9,     -999,9,   -999.0,9,    0.000,2,    0.000,2,   1.4780,1,-999.0000,9,-999.0000,9,-999.0000,9,    0.003,2,   99.697,2,   9.7452,2
  49NZ20191205,  I08N,    34,  1,     27,   1227,2,20191212,0151, -2.9993,  79.9978, 4967,    569.7,   9.2620,   9.2619,2,  34.9311,2,  34.9310,2,     68.4,2,     68.2,2,    40.94,2,    32.68,2,     0.01,2,     2.30,2,     0.08,2,    0.690,2,    0.385,2,    0.008,2,    0.139,2,   2247.5, 2,   2318.2,2,   -999.0,9,  -999.00,9,     -999,9,   -999.0,9,    0.000,2,    0.000,2,   1.5110,1,-999.0000,9,-999.0000,9,-999.0000,9,    0.003,2,   99.730,2,   9.2619,2
  49NZ20191205,  I08N,    34,  1,     26,   1226,2,20191212,0151, -2.9993,  79.9978, 4967,    667.9,   8.5733,   8.5765,2,  34.9323,2,  34.9274,2,     57.9,2,     58.1,2,    52.24,2,    34.64,2,     0.01,2,     2.48,2,     0.07,2,    0.355,2,    0.200,2,    0.004,2,    0.055,2,   2265.8, 6,   2332.3,2,   -999.0,9,  -999.00,9,     -999,9,   -999.0,9,    0.000,2,    0.000,2,   1.5420,1,-999.0000,9,-999.0000,9,-999.0000,9,    0.003,2,   99.768,2,   8.5765,2
  49NZ20191205,  I08N,    34,  1,     25,   1225,2,20191212,0151, -2.9993,  79.9978, 4967,    770.0,   7.8241,   7.8274,2,  34.9280,2,  34.9286,2,     52.2,2,     52.1,2,    64.15,2,    36.06,2,     0.01,2,     2.61,2,     0.07,2,    0.162,2,    0.091,2,    0.002,2,    0.017,2,   2283.3, 2,   2342.0,2,   -999.0,9,  -999.00,9,     -999,9,   -999.0,9,    0.000,2,    0.000,2,   1.5810,1,-999.0000,9,-999.0000,9,-999.0000,9,    0.001,2,   99.783,2,   7.8274,2
  49NZ20191205,  I08N,    34,  1,     24,   1224,2,20191212,0151, -2.9993,  79.9978, 4967,    867.7,   7.2142,   7.2128,2,  34.9097,2,  34.9098,2,     53.4,2,     53.5,2,    72.71,2,    36.64,2,     0.00,2,     2.67,2,     0.07,2,    0.093,2,    0.053,2,    0.002,2,    0.001,2,   2290.7, 2,   2348.3,2,   -999.0,9,  -999.00,9,     -999,9,   -999.0,9,    0.000,2,    0.000,2,   1.6020,1,-999.0000,9,-999.0000,9,-999.0000,9,    0.002,2,   99.808,2,   7.2128,2
  49NZ20191205,  I08N,    34,  1,     23,   1223,2,20191212,0151, -2.9993,  79.9978, 4967,    968.3,   6.4371,   6.4366,2,  34.8674,2,  34.8669,2,     61.4,2,     61.5,2,    81.30,2,    37.01,2,     0.00,2,     2.69,2,     0.06,2,    0.063,2,    0.034,2,    0.003,2,    0.009,2,   2297.8, 2,   2358.5,2,   -999.0,9,  -999.00,9,     -999,9,   -999.0,9,    0.000,2,    0.000,2,   1.6060,1,-999.0000,9,-999.0000,9,-999.0000,9,    0.000,2,   99.817,2,   6.4366,2
  49NZ20191205,  I08N,    34,  1,     22,   1222,2,20191212,0151, -2.9993,  79.9978, 4967,   1129.1,   5.6558,   5.6554,2,  34.8453,2,  34.8449,2,     69.6,2,     69.9,2,    90.66,2,    37.35,2,     0.01,2,     2.71,2,     0.06,2,    0.024,2,    0.015,2,    0.000,2,    0.013,2,   2312.6, 3,   2364.9,6,   -999.0,9,  -999.00,9,     -999,9,   -999.0,9,    0.000,2,    0.000,2,   1.6190,1,-999.0000,9,-999.0000,9,-999.0000,9,    0.000,2,   99.834,2,   5.6554,2
  49NZ20191205,  I08N,    34,  1,     21,   1221,2,20191212,0151, -2.9993,  79.9978, 4967,   1330.3,   4.8156,   4.8154,2,  34.8203,2,  34.8207,2,     85.0,2,     85.0,2,    98.13,2,    37.02,2,     0.01,2,     2.68,2,     0.07,2,    0.020,2,    0.010,2,    0.000,2,    0.004,2,   2308.8, 2,   2373.3,2,   -999.0,9,  -999.00,9,     -999,9,   -999.0,9,    0.000,2,    0.000,2,   1.5970,1,-999.0000,9,-999.0000,9,-999.0000,9,    0.001,2,   99.842,2,   4.8154,2
  49NZ20191205,  I08N,    34,  1,     20,   1220,2,20191212,0151, -2.9993,  79.9978, 4967,   1531.2,   4.0457,   4.0457,2,  34.8026,2,  34.8027,2,    100.8,2,    100.8,2,   104.91,2,    36.50,2,     0.01,2,     2.63,2,     0.06,2,    0.020,2,    0.007,2,    0.000,2,        0,2,   2309.6, 2,   2377.8,2,   -999.0,9,  -999.00,9,     -999,9,   -999.0,9,    0.000,2,    0.000,2,   1.5790,1,-999.0000,9,-999.0000,9,-999.0000,9,    0.001,2,   99.857,2,   4.0457,2
  49NZ20191205,  I08N,    34,  1,     19,   1219,2,20191212,0151, -2.9993,  79.9978, 4967,   1730.7,   3.4526,   3.4524,2,  34.7884,2,  34.7885,2,    112.4,2,    112.3,2,   111.72,2,    36.42,2,     0.01,2,     2.62,2,     0.07,2,    0.016,2,    0.006,2,    0.001,2,    0.004,2,   2312.1, 2,   2386.5,2,   -999.0,9,  -999.00,9,     -999,9,   -999.0,9,    0.000,2,    0.000,2,   1.5830,1,-999.0000,9,-999.0000,9,-999.0000,9,    0.001,2,   99.863,2,   3.4524,2
  49NZ20191205,  I08N,    34,  1,     18,   1218,2,20191212,0151, -2.9993,  79.9978, 4967,   1930.2,   2.9413,   2.9410,2,  34.7757,2,  34.7754,2,    124.8,2,    124.6,2,   117.48,2,    35.93,2,     0.00,2,     2.56,2,     0.06,2,    0.018,2,    0.007,2,    0.003,2,    0.001,2,   2311.9, 2,   2391.2,2,   -999.0,9,  -999.00,9,     -999,9,   -999.0,9,    0.000,2,    0.000,2,   1.5730,1,-999.0000,9,-999.0000,9,-999.0000,9,    0.000,2,   99.859,2,   2.9410,2
  49NZ20191205,  I08N,    34,  1,     17,   1217,2,20191212,0151, -2.9993,  79.9978, 4967,   2131.0,   2.5293,   2.5293,2,  34.7615,2,  34.7616,2,    135.9,2,    135.7,2,   122.16,2,    35.41,2,     0.00,2,     2.52,2,     0.06,2,    0.015,2,    0.006,2,    0.005,2,    0.003,2,   2312.0, 2,   2398.8,2,   -999.0,9,  -999.00,9,     -999,9,   -999.0,9,    0.000,2,    0.000,2,   1.5630,1,-999.0000,9,-999.0000,9,-999.0000,9,    0.000,2,   99.867,2,   2.5293,2
  49NZ20191205,  I08N,    34,  1,     16,   1216,2,20191212,0151, -2.9993,  79.9978, 4967,   2330.6,   2.2643,   2.2644,2,  34.7513,2,  34.7513,2,    143.8,2,    143.5,2,   124.83,2,    35.22,2,     0.00,2,     2.48,2,     0.06,2,    0.013,2,    0.004,2,    0.001,2,    0.006,2,   2309.9, 6,   2399.4,2,   -999.0,9,  -999.00,9,     -999,9,   -999.0,9,    0.000,2,    0.000,2,   1.5560,1,-999.0000,9,-999.0000,9,-999.0000,9,   -0.001,2,   99.882,2,   2.2644,2
  49NZ20191205,  I08N,    34,  1,     15,   1215,2,20191212,0151, -2.9993,  79.9978, 4967,   2530.2,   2.0549,   2.0545,2,  34.7430,2,  34.7429,2,    151.2,2,    150.8,2,   126.12,2,    34.71,2,     0.01,2,     2.44,2,     0.08,2,    0.009,2,    0.003,2,    0.001,2,    0.001,2,   2308.1, 2,   2401.7,2,   -999.0,9,  -999.00,9,     -999,9,   -999.0,9,    0.000,2,    0.000,2,   1.5250,1,-999.0000,9,-999.0000,9,-999.0000,9,    0.000,2,   99.886,2,   2.0545,2
  49NZ20191205,  I08N,    34,  1,     14,   1214,2,20191212,0151, -2.9993,  79.9978, 4967,   2730.2,   1.8806,   1.8808,2,  34.7370,2,  34.7373,2,    156.0,2,    155.8,2,   128.45,2,    34.68,2,     0.01,2,     2.43,2,     0.08,2,    0.013,2,    0.003,2,    0.005,2,    0.002,2,   2311.4, 2,   2404.7,2,   -999.0,9,  -999.00,9,     -999,9,   -999.0,9,    0.000,2,    0.000,2,   1.5070,1,-999.0000,9,-999.0000,9,-999.0000,9,    0.000,2,   99.882,2,   1.8808,2
  49NZ20191205,  I08N,    34,  1,     13,   1213,2,20191212,0151, -2.9993,  79.9978, 4967,   2929.4,   1.7212,   1.7216,2,  34.7313,2,  34.7316,2,    160.4,2,    160.2,2,   130.87,2,    34.62,2,     0.01,2,     2.41,2,     0.08,2,    0.015,2,    0.004,2,    0.000,2,     0.01,2,   2310.0, 2,   2408.1,2,   -999.0,9,  -999.00,9,     -999,9,   -999.0,9,    0.000,2,    0.000,2,   1.5100,1,-999.0000,9,-999.0000,9,-999.0000,9,    0.000,2,   99.893,2,   1.7216,2
  49NZ20191205,  I08N,    34,  1,     12,   1212,2,20191212,0151, -2.9993,  79.9978, 4967,   3169.7,   1.6101,   1.6100,2,  34.7271,2,  34.7274,2,    162.9,2,    162.7,2,   133.89,2,    34.55,2,     0.01,2,     2.40,2,     0.07,2,    0.020,2,    0.007,2,    0.005,2,    0.018,2,   2312.2, 2,   2411.6,6,   -999.0,9,  -999.00,9,     -999,9,   -999.0,9,    0.000,2,    0.000,2,   1.5180,1,-999.0000,9,-999.0000,9,-999.0000,9,   -0.001,2,   99.893,2,   1.6100,2
  49NZ20191205,  I08N,    34,  1,     11,   1211,2,20191212,0151, -2.9993,  79.9978, 4967,   3420.7,   1.5192,   1.5191,2,  34.7237,2,  34.7241,2,    166.3,2,    166.0,2,   135.06,2,    34.43,2,     0.00,2,     2.38,2,     0.06,2,    0.013,2,    0.004,2,    0.007,2,    0.004,2,   2316.4, 3,   2410.3,2,   -999.0,9,  -999.00,9,     -999,9,   -999.0,9,    0.000,2,    0.000,2,   1.5210,1,-999.0000,9,-999.0000,9,-999.0000,9,    0.000,2,   99.905,2,   1.5191,2
  49NZ20191205,  I08N,    34,  1,     10,   1210,2,20191212,0151, -2.9993,  79.9978, 4967,   3669.7,   1.4251,   1.4251,2,  34.7203,2,  34.7198,2,    170.4,2,    170.1,2,   136.04,2,    34.26,2,     0.01,2,     2.37,2,     0.06,2,    0.013,2,    0.004,2,    0.000,2,    0.008,2,   2312.7, 2,   2414.2,3,   -999.0,9,  -999.00,9,     -999,9,   -999.0,9,    0.000,2,    0.000,2,   1.5100,1,-999.0000,9,-999.0000,9,-999.0000,9,    0.000,2,   99.924,2,   1.4251,2
  49NZ20191205,  I08N,    34,  1,      9,   1209,2,20191212,0151, -2.9993,  79.9978, 4967,   3920.1,   1.3947,   1.3947,2,  34.7189,2,  34.7185,2,    173.4,2,    173.2,2,   136.11,2,    34.33,2,     0.01,2,     2.36,2,     0.09,2,    0.014,2,    0.005,2,    0.004,2,    0.011,2,   2310.4, 2,   2414.0,2,   -999.0,9,  -999.00,9,     -999,9,   -999.0,9,    0.000,2,    0.000,2,   1.5050,1,-999.0000,9,-999.0000,9,-999.0000,9,   -0.001,2,   99.914,2,   1.3947,2
  49NZ20191205,  I08N,    34,  1,      8,  12103,2,20191212,0151, -2.9993,  79.9978, 4967,   4169.1,   1.3974,   1.3974,2,  34.7181,2,  34.7181,2,    175.3,2,    175.1,2,   135.83,2,    34.03,2,     0.00,2,     2.36,2,     0.07,2,    0.016,2,    0.005,2,    0.004,2,     0.02,2,   2308.8, 6,   2420.1,2,   -999.0,9,  -999.00,9,     -999,9,   -999.0,9,    0.000,2,    0.000,2,   1.4750,1,-999.0000,9,-999.0000,9,-999.0000,9,    0.000,2,   99.912,2,   1.3974,2
  49NZ20191205,  I08N,    34,  1,      7,   1207,2,20191212,0151, -2.9993,  79.9978, 4967,   4420.2,   1.4058,   1.4058,2,  34.7176,2,  34.7179,2,    177.3,2,    177.2,2,   134.59,2,    33.92,2,     0.01,2,     2.34,2,     0.06,2,    0.013,2,    0.005,2,    0.002,2,    0.009,2,   2305.3, 2,   2416.3,2,   -999.0,9,  -999.00,9,     -999,9,   -999.0,9,    0.000,2,    0.000,2,   1.4740,1,-999.0000,9,-999.0000,9,-999.0000,9,   -0.001,2,   99.907,2,   1.4058,2
  49NZ20191205,  I08N,    34,  1,      6,   1206,2,20191212,0151, -2.9993,  79.9978, 4967,   4663.3,   1.4127,   1.4128,2,  34.7173,2,  34.7172,2,    179.1,2,    179.0,2,   133.83,2,    33.95,2,     0.01,2,     2.34,2,     0.09,2,    0.015,2,    0.005,2,    0.002,2,        0,2,   2304.0, 2,   2412.2,6,   -999.0,9,  -999.00,9,     -999,9,   -999.0,9,    0.000,2,    0.000,2,   1.4610,1,-999.0000,9,-999.0000,9,-999.0000,9,   -0.001,2,   99.931,2,   1.4128,2
  49NZ20191205,  I08N,    34,  1,      5,   1205,2,20191212,0151, -2.9993,  79.9978, 4967,   4919.9,   1.4261,   1.4263,2,  34.7167,2,  34.7165,2,    180.0,2,    180.0,2,   133.76,2,    33.87,2,     0.01,2,     2.34,2,     0.08,2,    0.013,2,    0.004,2,    0.002,2,    0.003,2,   2305.6, 2,   2406.5,2,   -999.0,9,  -999.00,9,     -999,9,   -999.0,9,    0.000,2,    0.000,2,   1.4720,1,-999.0000,9,-999.0000,9,-999.0000,9,   -0.001,2,   99.935,2,   1.4263,2
  49NZ20191205,  I08N,    34,  1,      4,   1204,9,20191212,0151, -2.9993,  79.9978, 4967,   -999.0,-999.0000,-999.0000,9,-999.0000,9,-999.0000,9,   -999.0,9,   -999.0,9,  -999.00,9,  -999.00,9,  -999.00,9,  -999.00,9,     -999,9, -999.000,9, -999.000,9, -999.000,9,     -999,9,   -999.0, 9,   -999.0,9,   -999.0,9,  -999.00,9,     -999,9,   -999.0,9, -999.000,9, -999.000,9,-999.0000,9,-999.0000,9,-999.0000,9,-999.0000,9, -999.000,9, -999.000,9,-999.0000,9
  49NZ20191205,  I08N,    34,  1,      3,   1203,9,20191212,0151, -2.9993,  79.9978, 4967,   -999.0,-999.0000,-999.0000,9,-999.0000,9,-999.0000,9,   -999.0,9,   -999.0,9,  -999.00,9,  -999.00,9,  -999.00,9,  -999.00,9,     -999,9, -999.000,9, -999.000,9, -999.000,9,     -999,9,   -999.0, 9,   -999.0,9,   -999.0,9,  -999.00,9,     -999,9,   -999.0,9, -999.000,9, -999.000,9,-999.0000,9,-999.0000,9,-999.0000,9,-999.0000,9, -999.000,9, -999.000,9,-999.0000,9
  49NZ20191205,  I08N,    34,  1,      2,  12046,2,20191212,0151, -2.9993,  79.9978, 4967,     72.9,  26.9116,  26.9034,2,  34.6659,2,  34.6668,2,    175.0,2,    176.4,2,     2.76,2,     1.60,2,     0.40,2,     0.32,2,     0.32,2, -999.000,9, -999.000,9, -999.000,9,     -999,9,   1995.0, 2,   2273.0,2,   -999.0,9,     0.45,2,     -999,9,   -999.0,9,    4.383,2,    4.383,2,   1.3860,1,-999.0000,9,-999.0000,9,-999.0000,9,    0.472,2,   98.470,2,  26.9034,2
  49NZ20191205,  I08N,    34,  1,      1,   1201,2,20191212,0151, -2.9993,  79.9978, 4967,   5030.1,   1.4274,   1.4275,2,  34.7164,2,  34.7168,2,    180.7,2,    180.8,2,   133.38,2,    33.74,2,     0.01,2,     2.33,2,     0.08,2,    0.019,2,    0.004,2,    0.001,2,        0,2,   2302.8, 2,   2405.8,2,   -999.0,9,  -999.00,9,     -999,9,   -999.0,9,    0.000,2,    0.000,2,   1.4700,1,-999.0000,9,-999.0000,9,-999.0000,9,   -0.001,2,   99.884,2,   1.4275,2