BOTTLE,20210412PRINUNIVRMK
EXPOCODE,SECT_ID,STNNBR,CASTNO,SAMPNO,BTLNBR,BTLNBR_FLAG_W,DATE,TIME,LATITUDE,LONGITUDE,DEPTH,CTDPRS,CTDTMP,SBE35,SBE35_FLAG_W,CTDSAL,CTDSAL_FLAG_W,SALNTY,SALNTY_FLAG_W,CTDOXY,CTDOXY_FLAG_W,OXYGEN,OXYGEN_FLAG_W,SILCAT,SILCAT_FLAG_W,NITRAT,NITRAT_FLAG_W,NITRIT,NITRIT_FLAG_W,PHSPHT,PHSPHT_FLAG_W,NH4,NH4_FLAG_W,CFC-11,CFC-11_FLAG_W,CFC-12,CFC-12_FLAG_W,CFC113,CFC113_FLAG_W,SF6,SF6_FLAG_W,TCARBN,TCARBN_FLAG_W,ALKALI,ALKALI_FLAG_W,DOC,DOC_FLAG_W,CHLWELSH,CHLWELSH_FLAG_W,UREA,UREA_FLAG_W,IODATE,IODATE_FLAG_W,PAR,PAR_FLAG_W,PAR,PAR_FLAG_W,CDOM,CDOM_FLAG_W,CDOM300,CDOM300_FLAG_W,CDOM325,CDOM325_FLAG_W,CDOM443,CDOM443_FLAG_W,CTDFLUOR,CTDFLUOR_FLAG_W,CTDXMISS,CTDXMISS_FLAG_W,SBE35,SBE35_FLAG_W
,,,,,,,,,,,METERS,DBAR,ITS-90,,,PSS-78,,PSS-78,,UMOL/KG,,UMOL/KG,,UMOL/KG,,UMOL/KG,,UMOL/KG,,UMOL/KG,,UMOL/KG,,PMOL/KG,,PMOL/KG,,PMOL/KG,,FMOL/KG,,UMOL/KG,,UMOL/KG,,UMOL/KG,,UG/KG,,nMOL/L,,nMOL/L,,VOLTS,,VOLTS,,MG/M^3,,1/M,,1/M,,1/M,,MG/M^3,,%TRANS,,,
  49NZ20191205,  I08N,    38,  1,     36,   1236,2,20191213,0048, -4.9993,  79.9982, 5140,     10.3,  28.4870,  28.4848,2,  34.5461,2,  34.5451,2,    197.2,2,    197.2,2,     1.55,2,     0.03,2,     0.00,2,     0.10,2,     0.02,2,    1.424,2,    0.919,2,    0.116,2,    1.597,2,   1948.2, 2,   2267.6,2,   -999.0,9,     0.14,2,     45.1,2,    281.9,2,  297.726,2,  297.726,2,   1.0820,1,-999.0000,9,-999.0000,9,-999.0000,9,    0.079,2,   98.633,2,  28.4848,2
  49NZ20191205,  I08N,    38,  1,     35,   1235,2,20191213,0048, -4.9993,  79.9982, 5140,     49.9,  28.4725,  28.4737,2,  34.6953,2,  34.6989,2,    196.8,2,    197.0,2,     1.61,2,     0.01,2,     0.00,2,     0.11,2,     0.02,2,    1.436,2,    0.922,2,    0.121,2,    1.617,2,   1959.3, 2,   2276.4,2,   -999.0,9,     0.18,2,       50,2,    294.3,2,   40.325,2,   40.325,2,   1.1530,1,-999.0000,9,-999.0000,9,-999.0000,9,    0.170,2,   98.743,2,  28.4737,2
  49NZ20191205,  I08N,    38,  1,     34,   1234,2,20191213,0048, -4.9993,  79.9982, 5140,    100.3,  19.4210,  19.4241,2,  34.5213,2,  34.5216,2,    105.3,2,    105.0,2,    19.05,2,    16.75,2,     0.11,2,     1.17,2,     0.02,2,    1.577,2,    0.952,2,    0.020,2,    1.146,2,   2109.3, 2,   2277.0,2,   -999.0,9,     0.32,2,     45.9,2,    399.8,2,    1.894,2,    1.894,2,   1.4020,1,-999.0000,9,-999.0000,9,-999.0000,9,    0.294,2,   98.924,2,  19.4241,2
  49NZ20191205,  I08N,    38,  1,     33,   1233,2,20191213,0048, -4.9993,  79.9982, 5140,    149.8,  15.3968,  15.3956,2,  34.5477,2,  34.5871,2,    102.2,2,     96.6,2,    27.64,2,    21.56,2,     0.01,2,     1.51,2,     0.01,2,    1.499,2,    0.920,2,    0.011,2,    0.871,2,   2155.7, 2,   2289.8,2,   -999.0,9,     0.04,2,     29.9,2,    427.7,2,    0.000,2,    0.000,2,   1.4860,1,-999.0000,9,-999.0000,9,-999.0000,9,    0.029,2,   99.489,2,  15.3956,2
  49NZ20191205,  I08N,    38,  1,     32,   1232,2,20191213,0048, -4.9993,  79.9982, 5140,    198.4,  12.5110,  12.5118,2,  34.8815,2,  34.8952,2,     58.8,2,     58.8,2,    28.73,2,    28.29,2,     0.01,2,     1.94,2,     0.03,2,    1.460,2,    0.822,2,    0.008,2,    0.488,2,   2218.3, 2,   2307.2,2,   -999.0,9,     0.01,2,     41.4,2,    442.3,2,    0.000,2,    0.000,2,   1.5270,1,-999.0000,9,-999.0000,9,-999.0000,9,   -0.002,2,   99.590,2,  12.5118,2
  49NZ20191205,  I08N,    38,  1,     31,   1231,2,20191213,0048, -4.9993,  79.9982, 5140,    250.8,  11.7630,  11.7620,2,  34.9965,2,  34.9956,2,     82.9,2,     82.4,2,    22.21,2,    26.70,2,     0.01,2,     1.79,2,     0.04,2,    1.728,2,    0.980,2,    0.014,2,    0.592,2,   2209.5, 2,   2309.1,2,   -999.0,9,     0.01,2,     42.2,2,    432.9,2,    0.000,2,    0.000,2,   1.4700,1,-999.0000,9,-999.0000,9,-999.0000,9,    0.002,2,   99.578,2,  11.7620,2
  49NZ20191205,  I08N,    38,  1,     30,   1230,2,20191213,0048, -4.9993,  79.9982, 5140,    330.6,  10.5441,  10.5436,2,  34.9088,2,  34.9087,2,     85.0,2,     84.7,2,    25.89,2,    28.91,2,     0.01,2,     1.92,2,     0.05,2,    1.519,2,    0.829,2,    0.017,2,     0.41,2,   2219.6, 2,   2306.9,2,   -999.0,9,  -999.00,9,     85.9,2,    444.9,2,    0.000,2,    0.000,2,   1.4650,1,-999.0000,9,-999.0000,9,-999.0000,9,    0.003,2,   99.626,2,  10.5436,2
  49NZ20191205,  I08N,    38,  1,     29,   1229,2,20191213,0048, -4.9993,  79.9982, 5140,    429.3,   9.7665,   9.7671,2,  34.8775,2,  34.8772,2,     90.8,2,     90.4,2,    30.76,2,    29.84,2,     0.00,2,     2.02,2,     0.03,2,    1.325,2,    0.711,2,    0.019,2,     0.34,2,   2226.6, 2,   2311.4,2,   -999.0,9,  -999.00,9,     45.4,2,    440.1,2,    0.000,2,    0.000,2,   1.4340,1,-999.0000,9,-999.0000,9,-999.0000,9,    0.004,2,   99.681,2,   9.7671,2
  49NZ20191205,  I08N,    38,  1,     28,   1228,2,20191213,0048, -4.9993,  79.9982, 5140,    529.3,   8.9344,   8.9342,2,  34.8477,2,  34.8490,2,     81.9,2,     81.6,2,    41.10,2,    31.91,2,     0.00,2,     2.23,2,     0.01,2,    0.841,2,    0.460,2,    0.008,2,    0.218,2,   2239.4, 2,   2320.2,2,   -999.0,9,  -999.00,9,     38.3,2,    454.6,2,    0.000,2,    0.000,2,   1.4810,1,-999.0000,9,-999.0000,9,-999.0000,9,    0.002,2,   99.732,2,   8.9342,2
  49NZ20191205,  I08N,    38,  1,     27,   1227,2,20191213,0048, -4.9993,  79.9982, 5140,    630.8,   8.2641,   8.2636,2,  34.8338,2,  34.8343,2,     69.6,2,     69.1,2,    52.34,2,    34.26,2,     0.01,2,     2.43,2,     0.03,2,    0.423,2,    0.242,2,    0.005,2,    0.095,2,   2263.1, 2,   2328.9,2,   -999.0,9,  -999.00,9,     26.4,2,    476.1,2,    0.000,2,    0.000,2,   1.5190,1,-999.0000,9,-999.0000,9,-999.0000,9,    0.001,2,   99.761,2,   8.2636,2
  49NZ20191205,  I08N,    38,  1,     26,   1226,2,20191213,0048, -4.9993,  79.9982, 5140,    729.8,   7.5242,   7.5242,2,  34.8229,2,  34.8208,2,     65.9,2,     66.1,2,    64.10,2,    35.33,2,     0.00,2,     2.53,2,     0.02,2,    0.238,2,    0.138,2,    0.006,2,    0.067,2,   2273.4, 6,   2340.9,2,   -999.0,9,  -999.00,9,     32.9,2,    454.5,2,    0.000,2,    0.000,2,   1.5460,1,-999.0000,9,-999.0000,9,-999.0000,9,    0.002,2,   99.782,2,   7.5242,2
  49NZ20191205,  I08N,    38,  1,     25,   1225,2,20191213,0048, -4.9993,  79.9982, 5140,    829.9,   7.0480,   7.0482,2,  34.8443,2,  34.8403,2,     64.2,2,     64.8,2,    72.17,2,    36.11,2,     0.00,2,     2.60,2,     0.02,2,    0.163,2,    0.095,2,    0.003,2,    0.025,2,   2284.3, 2,   2352.0,2,   -999.0,9,  -999.00,9,     39.2,2,    448.7,2,    0.000,2,    0.000,2,   1.5630,1,-999.0000,9,-999.0000,9,-999.0000,9,    0.001,2,   99.801,2,   7.0482,2
  49NZ20191205,  I08N,    38,  1,     24,   1224,2,20191213,0048, -4.9993,  79.9982, 5140,    930.2,   6.5042,   6.5035,2,  34.8401,2,  34.8430,2,     64.9,2,     64.9,2,    79.34,2,    36.76,2,     0.00,2,     2.65,2,     0.02,2,    0.098,2,    0.055,2,    0.003,2,     0.01,2,   2291.7, 2,   2359.3,2,   -999.0,9,  -999.00,9,     60.6,2,    462.4,2,    0.000,2,    0.000,2,   1.5840,1,-999.0000,9,-999.0000,9,-999.0000,9,    0.001,2,   99.810,2,   6.5035,2
  49NZ20191205,  I08N,    38,  1,     23,   1223,2,20191213,0048, -4.9993,  79.9982, 5140,   1069.3,   5.9027,   5.9024,2,  34.8431,2,  34.8426,2,     67.8,2,     68.2,2,    87.73,2,    37.02,2,     0.00,2,     2.70,2,     0.02,2,    0.055,2,    0.030,2,    0.002,2,    0.016,2,   2304.1, 2,   2367.1,2,   -999.0,9,  -999.00,9,     52.5,2,    459.7,2,    0.000,2,    0.000,2,   1.5940,1,-999.0000,9,-999.0000,9,-999.0000,9,    0.001,2,   99.833,2,   5.9024,2
  49NZ20191205,  I08N,    38,  1,     22,   1222,2,20191213,0048, -4.9993,  79.9982, 5140,   1270.1,   4.9262,   4.9261,2,  34.7977,2,  34.7978,2,     83.0,2,     83.2,2,    97.22,2,    36.99,2,     0.00,2,     2.68,2,        0,2,    0.025,2,    0.011,2,    0.001,2,    0.006,2,   2305.5, 2,   2374.8,6,   -999.0,9,  -999.00,9,     51.1,2,    470.2,2,    0.000,2,    0.000,2,   1.5840,1,-999.0000,9,-999.0000,9,-999.0000,9,    0.002,2,   99.845,2,   4.9261,2
  49NZ20191205,  I08N,    38,  1,     21,   1221,2,20191213,0048, -4.9993,  79.9982, 5140,   1469.5,   4.2155,   4.2150,2,  34.7912,2,  34.7922,2,     95.8,2,     95.8,2,   104.17,2,    36.87,2,     0.00,2,     2.66,2,     0.03,2,    0.016,2,    0.008,2,    0.001,2,    0.005,2,   2308.8, 2,   2381.7,2,   -999.0,9,  -999.00,9,       46,2,    463.2,2,    0.000,2,    0.000,2,   1.5790,1,-999.0000,9,-999.0000,9,-999.0000,9,    0.001,2,   99.856,2,   4.2150,2
  49NZ20191205,  I08N,    38,  1,     20,   1220,2,20191213,0048, -4.9993,  79.9982, 5140,   1667.0,   3.5635,   3.5630,2,  34.7798,2,  34.7811,2,    111.8,2,    111.8,2,   109.64,2,    36.31,2,     0.00,2,     2.60,2,     0.03,2,    0.014,2,    0.005,2,    0.002,2,    0.001,2,   2307.9, 2,   2388.4,2,   -999.0,9,  -999.00,9,     32.1,2,    492.9,2,    0.000,2,    0.000,2,   1.5660,1,-999.0000,9,-999.0000,9,-999.0000,9,    0.000,2,   99.860,2,   3.5630,2
  49NZ20191205,  I08N,    38,  1,     19,   1219,2,20191213,0048, -4.9993,  79.9982, 5140,   1868.8,   3.0826,   3.0871,2,  34.7726,2,  34.7724,2,    123.4,2,    123.4,3,   114.86,2,    35.77,2,     0.00,2,     2.55,2,     0.05,2,    0.013,2,    0.005,2,    0.003,2,    0.003,2,   2305.7, 2,   2393.9,2,   -999.0,9,  -999.00,9,     -999,9,   -999.0,9,    0.000,2,    0.000,2,   1.5810,1,-999.0000,9,-999.0000,9,-999.0000,9,   -0.001,2,   99.862,2,   3.0871,2
  49NZ20191205,  I08N,    38,  1,     18,   1218,2,20191213,0048, -4.9993,  79.9982, 5140,   2069.3,   2.6601,   2.6610,2,  34.7597,2,  34.7598,2,    134.4,2,    134.2,3,   119.27,2,    35.52,2,     0.00,2,     2.51,2,     0.03,2,    0.011,2,    0.005,2,    0.001,2,    0.005,2,   2307.5, 2,   2398.0,2,   -999.0,9,  -999.00,9,     -999,9,   -999.0,9,    0.000,2,    0.000,2,   1.5550,1,-999.0000,9,-999.0000,9,-999.0000,9,   -0.001,2,   99.877,2,   2.6610,2
  49NZ20191205,  I08N,    38,  1,     17,   1217,2,20191213,0048, -4.9993,  79.9982, 5140,   2268.2,   2.3648,   2.3643,2,  34.7511,2,  34.7511,2,    142.3,2,    142.7,3,   122.82,2,    35.35,2,     0.00,2,     2.48,2,     0.02,2,    0.013,2,    0.005,2,    0.000,2,    0.016,2,   2305.3, 2,   2400.0,2,   -999.0,9,  -999.00,9,     -999,9,   -999.0,9,    0.000,2,    0.000,2,   1.5380,1,-999.0000,9,-999.0000,9,-999.0000,9,    0.000,2,   99.879,2,   2.3643,2
  49NZ20191205,  I08N,    38,  1,     16,   1216,2,20191213,0048, -4.9993,  79.9982, 5140,   2469.5,   2.1183,   2.1189,2,  34.7435,2,  34.7434,2,    150.8,2,    150.7,3,   124.72,2,    34.90,2,     0.00,2,     2.44,2,     0.02,2,    0.015,2,    0.005,2,    0.004,2,    0.002,2,   2304.7, 6,   2401.8,2,   -999.0,9,  -999.00,9,     -999,9,   -999.0,9,    0.000,2,    0.000,2,   1.5170,1,-999.0000,9,-999.0000,9,-999.0000,9,    0.000,2,   99.883,2,   2.1189,2
  49NZ20191205,  I08N,    38,  1,     15,   1215,2,20191213,0048, -4.9993,  79.9982, 5140,   2671.1,   1.9408,   1.9407,2,  34.7374,2,  34.7376,2,    156.7,2,    156.5,3,   126.21,2,    34.49,2,     0.00,2,     2.40,2,     0.04,2,    0.012,2,    0.005,2,    0.001,2,    0.032,2,   2305.1, 2,   2402.1,2,   -999.0,9,  -999.00,9,     -999,9,   -999.0,9,    0.000,2,    0.000,2,   1.5040,1,-999.0000,9,-999.0000,9,-999.0000,9,   -0.001,2,   99.883,2,   1.9407,2
  49NZ20191205,  I08N,    38,  1,     14,   1214,2,20191213,0048, -4.9993,  79.9982, 5140,   2870.2,   1.8102,   1.8113,2,  34.7330,2,  34.7322,2,    160.9,2,    160.8,3,   127.98,2,    34.39,2,     0.00,2,     2.39,2,     0.02,2,    0.011,2,    0.005,2,    0.001,2,    0.004,2,   2303.1, 2,   2401.7,2,   -999.0,9,  -999.00,9,     -999,9,   -999.0,9,    0.000,2,    0.000,2,   1.4890,1,-999.0000,9,-999.0000,9,-999.0000,9,   -0.001,2,   99.883,2,   1.8113,2
  49NZ20191205,  I08N,    38,  1,     13,   1213,2,20191213,0048, -4.9993,  79.9982, 5140,   3079.4,   1.6824,   1.6831,2,  34.7291,2,  34.7282,2,    162.8,2,    162.9,3,   131.29,2,    34.47,2,     0.00,2,     2.39,2,     0.02,2,    0.014,2,    0.006,2,    0.001,2,    0.001,2,   2310.0, 3,   2407.9,2,   -999.0,9,  -999.00,9,     -999,9,   -999.0,9,    0.000,2,    0.000,2,   1.4980,1,-999.0000,9,-999.0000,9,-999.0000,9,    0.000,2,   99.883,2,   1.6831,2
  49NZ20191205,  I08N,    38,  1,     12,   1212,2,20191213,0048, -4.9993,  79.9982, 5140,   3327.6,   1.5495,   1.5498,2,  34.7246,2,  34.7234,2,    165.9,2,    165.8,3,   134.51,2,    34.65,2,     0.01,2,     2.38,2,     0.02,2,    0.015,2,    0.005,2,    0.003,2,    0.017,2,   2308.0, 2,   2411.4,6,   -999.0,9,  -999.00,9,     -999,9,   -999.0,9,    0.000,2,    0.000,2,   1.5060,1,-999.0000,9,-999.0000,9,-999.0000,9,    0.000,2,   99.883,2,   1.5498,2
  49NZ20191205,  I08N,    38,  1,     11,   1211,2,20191213,0048, -4.9993,  79.9982, 5140,   3580.4,   1.4713,   1.4712,2,  34.7219,2,  34.7213,2,    168.4,2,    168.2,3,   136.34,2,    34.56,2,     0.00,2,     2.38,2,     0.01,2,    0.013,2,    0.005,2,    0.001,2,    0.007,2,   2310.9, 2,   2415.0,2,   -999.0,9,  -999.00,9,     -999,9,   -999.0,9,    0.000,2,    0.000,2,   1.4990,1,-999.0000,9,-999.0000,9,-999.0000,9,    0.000,2,   99.902,2,   1.4712,2
  49NZ20191205,  I08N,    38,  1,     10,   1210,2,20191213,0048, -4.9993,  79.9982, 5140,   3828.3,   1.4248,   1.4246,2,  34.7199,2,  34.7190,2,    171.7,2,    171.4,3,   136.67,2,    34.29,2,     0.00,2,     2.37,2,     0.02,2,    0.018,2,    0.007,2,    0.001,2,    0.001,2,   2310.0, 2,   2416.3,2,   -999.0,9,  -999.00,9,     -999,9,   -999.0,9,    0.000,2,    0.000,2,   1.4990,1,-999.0000,9,-999.0000,9,-999.0000,9,   -0.001,2,   99.907,2,   1.4246,2
  49NZ20191205,  I08N,    38,  1,      9,   1209,2,20191213,0048, -4.9993,  79.9982, 5140,   4079.3,   1.4089,   1.4087,2,  34.7186,2,  34.7190,2,    174.7,2,    174.5,3,   135.68,2,    34.12,2,     0.00,2,     2.36,2,     0.04,2,    0.015,2,    0.004,2,    0.001,2,    0.001,2,   2306.2, 2,   2413.3,2,   -999.0,9,  -999.00,9,     -999,9,   -999.0,9,    0.000,2,    0.000,2,   1.4770,1,-999.0000,9,-999.0000,9,-999.0000,9,   -0.001,2,   99.904,2,   1.4087,2
  49NZ20191205,  I08N,    38,  1,      8,  12103,2,20191213,0048, -4.9993,  79.9982, 5140,   4329.9,   1.3981,   1.3981,2,  34.7177,2,  34.7183,2,    177.4,2,    177.3,3,   134.82,2,    34.11,2,     0.01,2,     2.33,2,     0.05,2,    0.014,2,    0.005,2,    0.003,2,    0.006,2,   2304.0, 6,   2410.7,2,   -999.0,9,  -999.00,9,     -999,9,   -999.0,9,    0.000,2,    0.000,2,   1.4580,1,-999.0000,9,-999.0000,9,-999.0000,9,    0.000,2,   99.911,2,   1.3981,2
  49NZ20191205,  I08N,    38,  1,      7,   1207,2,20191213,0048, -4.9993,  79.9982, 5140,   4579.5,   1.3963,   1.3963,2,  34.7170,2,  34.7168,2,    179.7,2,    179.6,3,   134.29,2,    33.91,2,     0.00,2,     2.33,2,     0.04,2,    0.015,2,    0.007,2,    0.001,2,    0.002,2,   2301.7, 2,   2409.2,2,   -999.0,9,  -999.00,9,     -999,9,   -999.0,9,    0.000,2,    0.000,2,   1.4500,1,-999.0000,9,-999.0000,9,-999.0000,9,    0.000,2,   99.911,2,   1.3963,2
  49NZ20191205,  I08N,    38,  1,      6,   1206,2,20191213,0048, -4.9993,  79.9982, 5140,   4832.1,   1.4098,   1.4098,2,  34.7167,2,  34.7163,2,    180.6,2,    180.6,3,   133.86,2,    33.87,2,     0.00,2,     2.33,2,     0.02,2,    0.015,2,    0.006,2,    0.000,2,    0.003,2,   2300.5, 2,   2407.8,6,   -999.0,9,  -999.00,9,     -999,9,   -999.0,9,    0.000,2,    0.000,2,   1.4540,1,-999.0000,9,-999.0000,9,-999.0000,9,    0.000,2,   99.911,2,   1.4098,2
  49NZ20191205,  I08N,    38,  1,      5,   1205,2,20191213,0048, -4.9993,  79.9982, 5140,   5080.5,   1.4250,   1.4250,2,  34.7164,2,  34.7169,2,    181.9,2,    182.0,3,   133.07,2,    33.86,2,     0.00,2,     2.32,2,     0.03,2,    0.017,2,    0.006,2,    0.004,2,    0.001,2,   2298.6, 2,   2406.9,2,   -999.0,9,  -999.00,9,     -999,9,   -999.0,9,    0.000,2,    0.000,2,   1.4570,1,-999.0000,9,-999.0000,9,-999.0000,9,    0.000,2,   99.919,2,   1.4250,2
  49NZ20191205,  I08N,    38,  1,      2,  12046,2,20191213,0048, -4.9993,  79.9982, 5140,     88.3,  23.0798,  23.0606,2,  34.6034,2,  34.6070,2,    136.1,2,    132.9,3,     9.89,2,     9.18,2,     0.24,2,     0.74,2,     0.13,2, -999.000,9, -999.000,9, -999.000,9,     -999,9,   2064.2, 2,   2275.8,2,   -999.0,9,     0.47,2,     62.3,2,    339.3,2,    5.066,2,    5.066,2,   1.4270,1,-999.0000,9,-999.0000,9,-999.0000,9,    0.441,2,   98.412,2,  23.0606,2
  49NZ20191205,  I08N,    38,  1,      1,   1201,2,20191213,0048, -4.9993,  79.9982, 5140,   5215.1,   1.4359,   1.4359,2,  34.7163,2,  34.7167,2,    182.3,2,    182.3,3,   132.77,2,    33.84,2,     0.00,2,     2.32,2,     0.01,2,    0.014,2,    0.005,2,    0.000,2,    0.013,2,   2298.1, 2,   2407.7,2,   -999.0,9,  -999.00,9,     -999,9,   -999.0,9,    0.000,2,    0.000,2,   1.4610,1,-999.0000,9,-999.0000,9,-999.0000,9,   -0.001,2,   99.907,2,   1.4359,2
  49NZ20191205,  I08N,    39,  1,     25,   1225,2,20191214,0528, -5.5014,  80.0004, 5170,   5000.0,   1.4146,   1.4146,2,  34.7166,2,  34.7172,2,    182.1,2,    182.2,2,  -999.00,9,  -999.00,9,  -999.00,9,  -999.00,9,     -999,9, -999.000,9, -999.000,9, -999.000,9,     -999,9,   -999.0, 9,   -999.0,9,   -999.0,9,  -999.00,9,     -999,9,   -999.0,9,    0.000,2,    0.000,2,   1.4550,1,-999.0000,9,-999.0000,9,-999.0000,9,    0.000,2,   99.929,2,   1.4146,2
  49NZ20191205,  I08N,    39,  1,     18,   1218,2,20191214,0528, -5.5014,  80.0004, 5170,   4999.6,   1.4144,   1.4144,2,  34.7166,2,  34.7161,2,    182.0,2,    182.3,2,  -999.00,9,  -999.00,9,  -999.00,9,  -999.00,9,     -999,9, -999.000,9, -999.000,9, -999.000,9,     -999,9,   -999.0, 9,   -999.0,9,   -999.0,9,  -999.00,9,     -999,9,   -999.0,9,    0.000,2,    0.000,2,   1.4600,1,-999.0000,9,-999.0000,9,-999.0000,9,    0.000,2,   99.931,2,   1.4144,2
  49NZ20191205,  I08N,    39,  1,     12,   1212,2,20191214,0528, -5.5014,  80.0004, 5170,   4999.6,   1.4142,   1.4143,2,  34.7167,2,  34.7165,2,    182.1,2,    182.3,2,  -999.00,9,  -999.00,9,  -999.00,9,  -999.00,9,     -999,9, -999.000,9, -999.000,9, -999.000,9,     -999,9,   -999.0, 9,   -999.0,9,   -999.0,9,  -999.00,9,     -999,9,   -999.0,9,    0.000,2,    0.000,2,   1.4530,1,-999.0000,9,-999.0000,9,-999.0000,9,    0.000,2,   99.927,2,   1.4143,2
  49NZ20191205,  I08N,    39,  1,      6,   1206,2,20191214,0528, -5.5014,  80.0004, 5170,   4999.7,   1.4141,   1.4141,2,  34.7166,2,  34.7162,2,    182.0,2,    182.5,2,  -999.00,9,  -999.00,9,  -999.00,9,  -999.00,9,     -999,9, -999.000,9, -999.000,9, -999.000,9,     -999,9,   -999.0, 9,   -999.0,9,   -999.0,9,  -999.00,9,     -999,9,   -999.0,9,    0.000,2,    0.000,2,   1.4580,1,-999.0000,9,-999.0000,9,-999.0000,9,    0.000,2,   99.933,2,   1.4141,2