BOTTLE,20210412PRINUNIVRMK
EXPOCODE,SECT_ID,STNNBR,CASTNO,SAMPNO,BTLNBR,BTLNBR_FLAG_W,DATE,TIME,LATITUDE,LONGITUDE,DEPTH,CTDPRS,CTDTMP,SBE35,SBE35_FLAG_W,CTDSAL,CTDSAL_FLAG_W,SALNTY,SALNTY_FLAG_W,CTDOXY,CTDOXY_FLAG_W,OXYGEN,OXYGEN_FLAG_W,SILCAT,SILCAT_FLAG_W,NITRAT,NITRAT_FLAG_W,NITRIT,NITRIT_FLAG_W,PHSPHT,PHSPHT_FLAG_W,NH4,NH4_FLAG_W,CFC-11,CFC-11_FLAG_W,CFC-12,CFC-12_FLAG_W,CFC113,CFC113_FLAG_W,SF6,SF6_FLAG_W,TCARBN,TCARBN_FLAG_W,ALKALI,ALKALI_FLAG_W,DOC,DOC_FLAG_W,CHLWELSH,CHLWELSH_FLAG_W,UREA,UREA_FLAG_W,IODATE,IODATE_FLAG_W,PAR,PAR_FLAG_W,PAR,PAR_FLAG_W,CDOM,CDOM_FLAG_W,CDOM300,CDOM300_FLAG_W,CDOM325,CDOM325_FLAG_W,CDOM443,CDOM443_FLAG_W,CTDFLUOR,CTDFLUOR_FLAG_W,CTDXMISS,CTDXMISS_FLAG_W,SBE35,SBE35_FLAG_W
,,,,,,,,,,,METERS,DBAR,ITS-90,,,PSS-78,,PSS-78,,UMOL/KG,,UMOL/KG,,UMOL/KG,,UMOL/KG,,UMOL/KG,,UMOL/KG,,UMOL/KG,,PMOL/KG,,PMOL/KG,,PMOL/KG,,FMOL/KG,,UMOL/KG,,UMOL/KG,,UMOL/KG,,UG/KG,,nMOL/L,,nMOL/L,,VOLTS,,VOLTS,,MG/M^3,,1/M,,1/M,,1/M,,MG/M^3,,%TRANS,,,
  49NZ20191205,  I08N,    30,  1,     36,   1236,2,20191211,0612, -1.6659,  79.9997, 4904,   4751.1,   1.4316,   1.4317,2,  34.7173,2,  34.7170,2,    177.5,2,    177.5,2,  -999.00,9,  -999.00,9,  -999.00,9,  -999.00,9,     -999,9, -999.000,9, -999.000,9, -999.000,9,     -999,9,   -999.0, 9,   -999.0,9,   -999.0,9,  -999.00,9,     -999,9,   -999.0,9,    0.000,2,    0.000,2,   1.4850,1,-999.0000,9,-999.0000,9,-999.0000,9,    0.000,2,   99.914,2,   1.4317,2
  49NZ20191205,  I08N,    30,  1,     35,   1235,2,20191211,0612, -1.6659,  79.9997, 4904,   4750.4,   1.4318,   1.4317,2,  34.7172,2,  34.7170,2,    177.5,2,    177.4,2,  -999.00,9,  -999.00,9,  -999.00,9,  -999.00,9,     -999,9, -999.000,9, -999.000,9, -999.000,9,     -999,9,   -999.0, 9,   -999.0,9,   -999.0,9,  -999.00,9,     -999,9,   -999.0,9,    0.000,2,    0.000,2,   1.4940,1,-999.0000,9,-999.0000,9,-999.0000,9,   -0.001,2,   99.916,2,   1.4317,2
  49NZ20191205,  I08N,    30,  1,     34,   1234,2,20191211,0612, -1.6659,  79.9997, 4904,   4750.2,   1.4318,   1.4318,2,  34.7172,2,  34.7168,2,    177.5,2,    177.4,2,  -999.00,9,  -999.00,9,  -999.00,9,  -999.00,9,     -999,9, -999.000,9, -999.000,9, -999.000,9,     -999,9,   -999.0, 9,   -999.0,9,   -999.0,9,  -999.00,9,     -999,9,   -999.0,9,    0.000,2,    0.000,2,   1.4830,1,-999.0000,9,-999.0000,9,-999.0000,9,    0.000,2,   99.914,2,   1.4318,2
  49NZ20191205,  I08N,    30,  1,     33,   1233,2,20191211,0612, -1.6659,  79.9997, 4904,   4750.9,   1.4318,   1.4318,2,  34.7172,2,  34.7171,2,    177.5,2,    177.4,2,  -999.00,9,  -999.00,9,  -999.00,9,  -999.00,9,     -999,9, -999.000,9, -999.000,9, -999.000,9,     -999,9,   -999.0, 9,   -999.0,9,   -999.0,9,  -999.00,9,     -999,9,   -999.0,9,    0.000,2,    0.000,2,   1.4790,1,-999.0000,9,-999.0000,9,-999.0000,9,    0.000,2,   99.912,2,   1.4318,2
  49NZ20191205,  I08N,    30,  1,     32,   1232,2,20191211,0612, -1.6659,  79.9997, 4904,   4751.7,   1.4318,   1.4319,2,  34.7172,2,  34.7170,2,    177.5,2,    177.4,2,  -999.00,9,  -999.00,9,  -999.00,9,  -999.00,9,     -999,9, -999.000,9, -999.000,9, -999.000,9,     -999,9,   -999.0, 9,   -999.0,9,   -999.0,9,  -999.00,9,     -999,9,   -999.0,9,    0.000,2,    0.000,2,   1.4830,1,-999.0000,9,-999.0000,9,-999.0000,9,    0.000,2,   99.914,2,   1.4319,2
  49NZ20191205,  I08N,    30,  1,     31,   1231,2,20191211,0612, -1.6659,  79.9997, 4904,   4749.9,   1.4318,   1.4318,2,  34.7172,2,  34.7170,2,    177.5,2,    177.4,2,  -999.00,9,  -999.00,9,  -999.00,9,  -999.00,9,     -999,9, -999.000,9, -999.000,9, -999.000,9,     -999,9,   -999.0, 9,   -999.0,9,   -999.0,9,  -999.00,9,     -999,9,   -999.0,9,    0.000,2,    0.000,2,   1.4820,1,-999.0000,9,-999.0000,9,-999.0000,9,    0.000,2,   99.914,2,   1.4318,2
  49NZ20191205,  I08N,    30,  1,     30,   1230,2,20191211,0612, -1.6659,  79.9997, 4904,   4751.1,   1.4318,   1.4318,2,  34.7172,2,  34.7172,2,    177.5,2,    177.3,2,  -999.00,9,  -999.00,9,  -999.00,9,  -999.00,9,     -999,9, -999.000,9, -999.000,9, -999.000,9,     -999,9,   -999.0, 9,   -999.0,9,   -999.0,9,  -999.00,9,     -999,9,   -999.0,9,    0.000,2,    0.000,2,   1.4730,1,-999.0000,9,-999.0000,9,-999.0000,9,    0.000,2,   99.912,2,   1.4318,2
  49NZ20191205,  I08N,    30,  1,     29,   1229,2,20191211,0612, -1.6659,  79.9997, 4904,   4751.1,   1.4317,   1.4317,2,  34.7172,2,  34.7170,2,    177.4,2,    177.5,2,  -999.00,9,  -999.00,9,  -999.00,9,  -999.00,9,     -999,9, -999.000,9, -999.000,9, -999.000,9,     -999,9,   -999.0, 9,   -999.0,9,   -999.0,9,  -999.00,9,     -999,9,   -999.0,9,    0.000,2,    0.000,2,   1.4730,1,-999.0000,9,-999.0000,9,-999.0000,9,    0.000,2,   99.914,2,   1.4317,2
  49NZ20191205,  I08N,    30,  1,     28,   1228,2,20191211,0612, -1.6659,  79.9997, 4904,   4750.3,   1.4318,   1.4318,2,  34.7171,2,  34.7171,2,    177.4,2,    177.4,2,  -999.00,9,  -999.00,9,  -999.00,9,  -999.00,9,     -999,9, -999.000,9, -999.000,9, -999.000,9,     -999,9,   -999.0, 9,   -999.0,9,   -999.0,9,  -999.00,9,     -999,9,   -999.0,9,    0.000,2,    0.000,2,   1.4890,1,-999.0000,9,-999.0000,9,-999.0000,9,   -0.001,2,   99.914,2,   1.4318,2
  49NZ20191205,  I08N,    30,  1,     27,   1227,2,20191211,0612, -1.6659,  79.9997, 4904,   4751.3,   1.4317,   1.4318,2,  34.7172,2,  34.7164,2,    177.4,2,    177.4,2,  -999.00,9,  -999.00,9,  -999.00,9,  -999.00,9,     -999,9, -999.000,9, -999.000,9, -999.000,9,     -999,9,   -999.0, 9,   -999.0,9,   -999.0,9,  -999.00,9,     -999,9,   -999.0,9,    0.000,2,    0.000,2,   1.4990,1,-999.0000,9,-999.0000,9,-999.0000,9,   -0.001,2,   99.916,2,   1.4318,2
  49NZ20191205,  I08N,    30,  1,     26,   1226,2,20191211,0612, -1.6659,  79.9997, 4904,   4750.4,   1.4317,   1.4316,2,  34.7172,2,  34.7168,2,    177.4,2,    177.3,2,  -999.00,9,  -999.00,9,  -999.00,9,  -999.00,9,     -999,9, -999.000,9, -999.000,9, -999.000,9,     -999,9,   -999.0, 9,   -999.0,9,   -999.0,9,  -999.00,9,     -999,9,   -999.0,9,    0.000,2,    0.000,2,   1.4830,1,-999.0000,9,-999.0000,9,-999.0000,9,    0.000,2,   99.916,2,   1.4316,2
  49NZ20191205,  I08N,    30,  1,     24,   1224,2,20191211,0612, -1.6659,  79.9997, 4904,   4751.3,   1.4317,   1.4318,2,  34.7172,2,  34.7169,2,    177.5,2,    177.5,2,  -999.00,9,  -999.00,9,  -999.00,9,  -999.00,9,     -999,9, -999.000,9, -999.000,9, -999.000,9,     -999,9,   -999.0, 9,   -999.0,9,   -999.0,9,  -999.00,9,     -999,9,   -999.0,9,    0.000,2,    0.000,2,   1.4880,1,-999.0000,9,-999.0000,9,-999.0000,9,   -0.001,2,   99.920,2,   1.4318,2
  49NZ20191205,  I08N,    30,  1,     23,   1223,2,20191211,0612, -1.6659,  79.9997, 4904,   4750.4,   1.4317,   1.4317,2,  34.7173,2,  34.7166,2,    177.5,2,    177.4,2,  -999.00,9,  -999.00,9,  -999.00,9,  -999.00,9,     -999,9, -999.000,9, -999.000,9, -999.000,9,     -999,9,   -999.0, 9,   -999.0,9,   -999.0,9,  -999.00,9,     -999,9,   -999.0,9,    0.000,2,    0.000,2,   1.4800,1,-999.0000,9,-999.0000,9,-999.0000,9,    0.000,2,   99.918,2,   1.4317,2
  49NZ20191205,  I08N,    30,  1,     22,   1222,2,20191211,0612, -1.6659,  79.9997, 4904,   4750.3,   1.4317,   1.4316,2,  34.7172,2,  34.7169,2,    177.4,2,    177.4,2,  -999.00,9,  -999.00,9,  -999.00,9,  -999.00,9,     -999,9, -999.000,9, -999.000,9, -999.000,9,     -999,9,   -999.0, 9,   -999.0,9,   -999.0,9,  -999.00,9,     -999,9,   -999.0,9,    0.000,2,    0.000,2,   1.4880,1,-999.0000,9,-999.0000,9,-999.0000,9,   -0.001,2,   99.916,2,   1.4316,2
  49NZ20191205,  I08N,    30,  1,     21,   1221,2,20191211,0612, -1.6659,  79.9997, 4904,   4750.5,   1.4318,   1.4317,2,  34.7171,2,  34.7174,2,    177.5,2,    177.4,2,  -999.00,9,  -999.00,9,  -999.00,9,  -999.00,9,     -999,9, -999.000,9, -999.000,9, -999.000,9,     -999,9,   -999.0, 9,   -999.0,9,   -999.0,9,  -999.00,9,     -999,9,   -999.0,9,    0.000,2,    0.000,2,   1.4880,1,-999.0000,9,-999.0000,9,-999.0000,9,   -0.001,2,   99.916,2,   1.4317,2
  49NZ20191205,  I08N,    30,  1,     20,   1220,2,20191211,0612, -1.6659,  79.9997, 4904,   4750.8,   1.4317,   1.4318,2,  34.7172,2,  34.7173,2,    177.5,2,    177.4,2,  -999.00,9,  -999.00,9,  -999.00,9,  -999.00,9,     -999,9, -999.000,9, -999.000,9, -999.000,9,     -999,9,   -999.0, 9,   -999.0,9,   -999.0,9,  -999.00,9,     -999,9,   -999.0,9,    0.000,2,    0.000,2,   1.4790,1,-999.0000,9,-999.0000,9,-999.0000,9,    0.000,2,   99.916,2,   1.4318,2
  49NZ20191205,  I08N,    30,  1,     19,   1219,2,20191211,0612, -1.6659,  79.9997, 4904,   4750.8,   1.4317,   1.4318,2,  34.7172,2,  34.7172,2,    177.5,2,    177.4,2,  -999.00,9,  -999.00,9,  -999.00,9,  -999.00,9,     -999,9, -999.000,9, -999.000,9, -999.000,9,     -999,9,   -999.0, 9,   -999.0,9,   -999.0,9,  -999.00,9,     -999,9,   -999.0,9,    0.000,2,    0.000,2,   1.4920,1,-999.0000,9,-999.0000,9,-999.0000,9,   -0.001,2,   99.916,2,   1.4318,2
  49NZ20191205,  I08N,    30,  1,     18,   1218,2,20191211,0612, -1.6659,  79.9997, 4904,   4750.4,   1.4317,   1.4317,2,  34.7172,2,  34.7167,2,    177.5,2,    177.6,2,  -999.00,9,  -999.00,9,  -999.00,9,  -999.00,9,     -999,9, -999.000,9, -999.000,9, -999.000,9,     -999,9,   -999.0, 9,   -999.0,9,   -999.0,9,  -999.00,9,     -999,9,   -999.0,9,    0.000,2,    0.000,2,   1.4820,1,-999.0000,9,-999.0000,9,-999.0000,9,    0.000,2,   99.920,2,   1.4317,2
  49NZ20191205,  I08N,    30,  1,     17,   1217,2,20191211,0612, -1.6659,  79.9997, 4904,   4750.6,   1.4316,   1.4317,2,  34.7173,2,  34.7175,2,    177.5,2,    177.5,2,  -999.00,9,  -999.00,9,  -999.00,9,  -999.00,9,     -999,9, -999.000,9, -999.000,9, -999.000,9,     -999,9,   -999.0, 9,   -999.0,9,   -999.0,9,  -999.00,9,     -999,9,   -999.0,9,    0.000,2,    0.000,2,   1.4790,1,-999.0000,9,-999.0000,9,-999.0000,9,    0.000,2,   99.920,2,   1.4317,2
  49NZ20191205,  I08N,    30,  1,     16,   1216,2,20191211,0612, -1.6659,  79.9997, 4904,   4750.7,   1.4317,   1.4317,2,  34.7172,2,  34.7166,2,    177.5,2,    177.5,2,  -999.00,9,  -999.00,9,  -999.00,9,  -999.00,9,     -999,9, -999.000,9, -999.000,9, -999.000,9,     -999,9,   -999.0, 9,   -999.0,9,   -999.0,9,  -999.00,9,     -999,9,   -999.0,9,    0.000,2,    0.000,2,   1.4820,1,-999.0000,9,-999.0000,9,-999.0000,9,    0.000,2,   99.920,2,   1.4317,2
  49NZ20191205,  I08N,    30,  1,     15,   1215,2,20191211,0612, -1.6659,  79.9997, 4904,   4750.4,   1.4318,   1.4318,2,  34.7172,2,  34.7167,2,    177.4,2,    177.4,2,  -999.00,9,  -999.00,9,  -999.00,9,  -999.00,9,     -999,9, -999.000,9, -999.000,9, -999.000,9,     -999,9,   -999.0, 9,   -999.0,9,   -999.0,9,  -999.00,9,     -999,9,   -999.0,9,    0.000,2,    0.000,2,   1.4910,1,-999.0000,9,-999.0000,9,-999.0000,9,   -0.001,2,   99.916,2,   1.4318,2
  49NZ20191205,  I08N,    30,  1,     14,   1214,2,20191211,0612, -1.6659,  79.9997, 4904,   4748.9,   1.4316,   1.4316,2,  34.7171,2,  34.7168,2,    177.4,2,    177.6,2,  -999.00,9,  -999.00,9,  -999.00,9,  -999.00,9,     -999,9, -999.000,9, -999.000,9, -999.000,9,     -999,9,   -999.0, 9,   -999.0,9,   -999.0,9,  -999.00,9,     -999,9,   -999.0,9,    0.000,2,    0.000,2,   1.4850,1,-999.0000,9,-999.0000,9,-999.0000,9,    0.000,2,   99.918,2,   1.4316,2
  49NZ20191205,  I08N,    30,  1,     13,   1213,2,20191211,0612, -1.6659,  79.9997, 4904,   4749.2,   1.4316,   1.4316,2,  34.7172,2,  34.7163,2,    177.5,2,    177.4,2,  -999.00,9,  -999.00,9,  -999.00,9,  -999.00,9,     -999,9, -999.000,9, -999.000,9, -999.000,9,     -999,9,   -999.0, 9,   -999.0,9,   -999.0,9,  -999.00,9,     -999,9,   -999.0,9,    0.000,2,    0.000,2,   1.4910,1,-999.0000,9,-999.0000,9,-999.0000,9,   -0.001,2,   99.916,2,   1.4316,2
  49NZ20191205,  I08N,    30,  1,     11,   1211,2,20191211,0612, -1.6659,  79.9997, 4904,   4749.7,   1.4316,   1.4316,2,  34.7171,2,  34.7168,2,    177.5,2,    177.4,2,  -999.00,9,  -999.00,9,  -999.00,9,  -999.00,9,     -999,9, -999.000,9, -999.000,9, -999.000,9,     -999,9,   -999.0, 9,   -999.0,9,   -999.0,9,  -999.00,9,     -999,9,   -999.0,9,    0.000,2,    0.000,2,   1.4920,1,-999.0000,9,-999.0000,9,-999.0000,9,   -0.001,2,   99.918,2,   1.4316,2
  49NZ20191205,  I08N,    30,  1,     10,   1210,2,20191211,0612, -1.6659,  79.9997, 4904,   4749.7,   1.4316,   1.4316,2,  34.7171,2,  34.7167,2,    177.4,2,    177.4,2,  -999.00,9,  -999.00,9,  -999.00,9,  -999.00,9,     -999,9, -999.000,9, -999.000,9, -999.000,9,     -999,9,   -999.0, 9,   -999.0,9,   -999.0,9,  -999.00,9,     -999,9,   -999.0,9,    0.000,2,    0.000,2,   1.4860,1,-999.0000,9,-999.0000,9,-999.0000,9,    0.000,2,   99.918,2,   1.4316,2
  49NZ20191205,  I08N,    30,  1,      9,   1209,2,20191211,0612, -1.6659,  79.9997, 4904,   4750.1,   1.4315,   1.4316,2,  34.7172,2,  34.7170,2,    177.4,2,    177.5,2,  -999.00,9,  -999.00,9,  -999.00,9,  -999.00,9,     -999,9, -999.000,9, -999.000,9, -999.000,9,     -999,9,   -999.0, 9,   -999.0,9,   -999.0,9,  -999.00,9,     -999,9,   -999.0,9,    0.000,2,    0.000,2,   1.4960,1,-999.0000,9,-999.0000,9,-999.0000,9,   -0.001,2,   99.918,2,   1.4316,2
  49NZ20191205,  I08N,    30,  1,      8,  12103,2,20191211,0612, -1.6659,  79.9997, 4904,   4749.8,   1.4316,   1.4316,2,  34.7172,2,  34.7170,2,    177.4,2,    177.4,2,  -999.00,9,  -999.00,9,  -999.00,9,  -999.00,9,     -999,9, -999.000,9, -999.000,9, -999.000,9,     -999,9,   -999.0, 9,   -999.0,9,   -999.0,9,  -999.00,9,     -999,9,   -999.0,9,    0.000,2,    0.000,2,   1.4810,1,-999.0000,9,-999.0000,9,-999.0000,9,    0.000,2,   99.918,2,   1.4316,2
  49NZ20191205,  I08N,    30,  1,      7,   1207,2,20191211,0612, -1.6659,  79.9997, 4904,   4749.6,   1.4315,   1.4315,2,  34.7172,2,  34.7174,2,    177.4,2,    177.4,2,  -999.00,9,  -999.00,9,  -999.00,9,  -999.00,9,     -999,9, -999.000,9, -999.000,9, -999.000,9,     -999,9,   -999.0, 9,   -999.0,9,   -999.0,9,  -999.00,9,     -999,9,   -999.0,9,    0.000,2,    0.000,2,   1.4790,1,-999.0000,9,-999.0000,9,-999.0000,9,    0.000,2,   99.918,2,   1.4315,2
  49NZ20191205,  I08N,    30,  1,      6,   1206,2,20191211,0612, -1.6659,  79.9997, 4904,   4750.0,   1.4315,   1.4316,2,  34.7173,2,  34.7171,2,    177.4,2,    177.3,2,  -999.00,9,  -999.00,9,  -999.00,9,  -999.00,9,     -999,9, -999.000,9, -999.000,9, -999.000,9,     -999,9,   -999.0, 9,   -999.0,9,   -999.0,9,  -999.00,9,     -999,9,   -999.0,9,    0.000,2,    0.000,2,   1.4870,1,-999.0000,9,-999.0000,9,-999.0000,9,    0.000,2,   99.918,2,   1.4316,2
  49NZ20191205,  I08N,    30,  1,      5,   1205,2,20191211,0612, -1.6659,  79.9997, 4904,   4749.7,   1.4316,   1.4316,2,  34.7171,2,  34.7173,2,    177.4,2,    177.4,2,  -999.00,9,  -999.00,9,  -999.00,9,  -999.00,9,     -999,9, -999.000,9, -999.000,9, -999.000,9,     -999,9,   -999.0, 9,   -999.0,9,   -999.0,9,  -999.00,9,     -999,9,   -999.0,9,    0.000,2,    0.000,2,   1.5000,1,-999.0000,9,-999.0000,9,-999.0000,9,   -0.001,2,   99.920,2,   1.4316,2
  49NZ20191205,  I08N,    30,  1,      4,   1204,2,20191211,0612, -1.6659,  79.9997, 4904,   4750.4,   1.4316,   1.4316,2,  34.7171,2,  34.7173,2,    177.4,2,    177.4,2,  -999.00,9,  -999.00,9,  -999.00,9,  -999.00,9,     -999,9, -999.000,9, -999.000,9, -999.000,9,     -999,9,   -999.0, 9,   -999.0,9,   -999.0,9,  -999.00,9,     -999,9,   -999.0,9,    0.000,2,    0.000,2,   1.4810,1,-999.0000,9,-999.0000,9,-999.0000,9,    0.000,2,   99.912,2,   1.4316,2
  49NZ20191205,  I08N,    30,  1,      3,   1203,2,20191211,0612, -1.6659,  79.9997, 4904,   4749.4,   1.4316,   1.4316,2,  34.7172,2,  34.7170,2,    177.4,2,    177.1,2,  -999.00,9,  -999.00,9,  -999.00,9,  -999.00,9,     -999,9, -999.000,9, -999.000,9, -999.000,9,     -999,9,   -999.0, 9,   -999.0,9,   -999.0,9,  -999.00,9,     -999,9,   -999.0,9,    0.000,2,    0.000,2,   1.4960,1,-999.0000,9,-999.0000,9,-999.0000,9,   -0.001,2,   99.918,2,   1.4316,2
  49NZ20191205,  I08N,    30,  1,      2,  12046,2,20191211,0612, -1.6659,  79.9997, 4904,   4748.6,   1.4314,   1.4316,2,  34.7172,2,  34.7173,2,    177.4,2,    177.4,2,  -999.00,9,  -999.00,9,  -999.00,9,  -999.00,9,     -999,9, -999.000,9, -999.000,9, -999.000,9,     -999,9,   -999.0, 9,   -999.0,9,   -999.0,9,  -999.00,9,     -999,9,   -999.0,9,    0.000,2,    0.000,2,   1.4750,1,-999.0000,9,-999.0000,9,-999.0000,9,    0.000,2,   99.916,2,   1.4316,2
  49NZ20191205,  I08N,    30,  1,      1,   1201,2,20191211,0612, -1.6659,  79.9997, 4904,   4749.2,   1.4314,   1.4314,2,  34.7172,2,  34.7175,2,    177.4,2,    177.3,2,  -999.00,9,  -999.00,9,  -999.00,9,  -999.00,9,     -999,9, -999.000,9, -999.000,9, -999.000,9,     -999,9,   -999.0, 9,   -999.0,9,   -999.0,9,  -999.00,9,     -999,9,   -999.0,9,    0.000,2,    0.000,2,   1.4790,1,-999.0000,9,-999.0000,9,-999.0000,9,    0.000,2,   99.918,2,   1.4314,2