BOTTLE,20210412PRINUNIVRMK
EXPOCODE,SECT_ID,STNNBR,CASTNO,SAMPNO,BTLNBR,BTLNBR_FLAG_W,DATE,TIME,LATITUDE,LONGITUDE,DEPTH,CTDPRS,CTDTMP,SBE35,SBE35_FLAG_W,CTDSAL,CTDSAL_FLAG_W,SALNTY,SALNTY_FLAG_W,CTDOXY,CTDOXY_FLAG_W,OXYGEN,OXYGEN_FLAG_W,SILCAT,SILCAT_FLAG_W,NITRAT,NITRAT_FLAG_W,NITRIT,NITRIT_FLAG_W,PHSPHT,PHSPHT_FLAG_W,NH4,NH4_FLAG_W,CFC-11,CFC-11_FLAG_W,CFC-12,CFC-12_FLAG_W,CFC113,CFC113_FLAG_W,SF6,SF6_FLAG_W,TCARBN,TCARBN_FLAG_W,ALKALI,ALKALI_FLAG_W,DOC,DOC_FLAG_W,CHLWELSH,CHLWELSH_FLAG_W,UREA,UREA_FLAG_W,IODATE,IODATE_FLAG_W,PAR,PAR_FLAG_W,PAR,PAR_FLAG_W,CDOM,CDOM_FLAG_W,CDOM300,CDOM300_FLAG_W,CDOM325,CDOM325_FLAG_W,CDOM443,CDOM443_FLAG_W,CTDFLUOR,CTDFLUOR_FLAG_W,CTDXMISS,CTDXMISS_FLAG_W,SBE35,SBE35_FLAG_W
,,,,,,,,,,,METERS,DBAR,ITS-90,,,PSS-78,,PSS-78,,UMOL/KG,,UMOL/KG,,UMOL/KG,,UMOL/KG,,UMOL/KG,,UMOL/KG,,UMOL/KG,,PMOL/KG,,PMOL/KG,,PMOL/KG,,FMOL/KG,,UMOL/KG,,UMOL/KG,,UMOL/KG,,UG/KG,,nMOL/L,,nMOL/L,,VOLTS,,VOLTS,,MG/M^3,,1/M,,1/M,,1/M,,MG/M^3,,%TRANS,,,
  49NZ20191205,  I08N,    32,  1,     36,   1236,2,20191211,1520, -2.3331,  79.9999, 4909,     10.3,  28.8400,  28.8400,2,  34.0430,2,  34.0459,2,    198.0,2,    197.3,2,     1.42,2,     0.05,2,     0.01,2,     0.10,2,     0.06,2,    1.424,2,    0.918,2,    0.112,2,    1.535,2,   1931.9, 2,   2242.8,2,     62.5,2,     0.11,2,     -999,9,   -999.0,9,    0.000,2,    0.000,2,   1.1750,1,   0.2470,2,   0.1190,2,   0.0120,2,    0.076,2,   98.391,2,  28.8400,2
  49NZ20191205,  I08N,    32,  1,     35,   1235,2,20191211,1520, -2.3331,  79.9999, 4909,     50.6,  28.6059,  28.6056,2,  34.2269,2,  34.2275,2,    197.0,2,    196.4,2,     1.19,2,     0.01,2,     0.01,2,     0.12,2,     0.06,2,    1.421,2,    0.920,2,    0.116,2,     1.55,2,   1942.6, 2,   2247.8,2,     64.7,2,     0.26,2,     -999,9,   -999.0,9,    0.000,2,    0.000,2,   1.2330,1,   0.2630,2,   0.1400,2,   0.0130,2,    0.239,2,   98.197,2,  28.6056,2
  49NZ20191205,  I08N,    32,  1,     34,   1234,2,20191211,1520, -2.3331,  79.9999, 4909,    100.2,  20.6093,  20.6262,2,  35.0509,2,  35.0529,2,     71.1,2,     72.1,2,    13.48,2,    18.97,2,     0.29,2,     1.33,2,     0.03,2,    1.594,2,    1.013,2,    0.039,2,    1.055,2,   2144.8, 2,   2295.3,2,     49.3,2,     0.25,2,     -999,9,   -999.0,9,    0.000,2,    0.000,2,   1.4640,1,   0.3470,2,   0.2000,2,   0.0250,2,    0.261,2,   99.120,2,  20.6262,2
  49NZ20191205,  I08N,    32,  1,     33,   1233,2,20191211,1520, -2.3331,  79.9999, 4909,    151.2,  14.3210,  14.3266,2,  35.0624,2,  35.0576,2,     71.9,2,     71.6,2,    20.72,2,    24.49,2,     0.01,2,     1.68,2,     0.02,2,    1.713,2,    1.037,2,    0.008,2,    0.739,2,   2200.7, 2,   2308.4,2,     43.9,2,     0.02,2,     -999,9,   -999.0,9,    0.000,2,    0.000,2,   1.4970,1,   0.2820,2,   0.1590,2,   0.0240,2,    0.005,2,   99.562,2,  14.3266,2
  49NZ20191205,  I08N,    32,  1,     32,   1232,2,20191211,1520, -2.3331,  79.9999, 4909,    201.0,  12.6204,  12.6200,2,  35.0520,2,  35.0534,2,    100.8,2,    100.2,2,    19.04,2,    23.44,2,     0.01,2,     1.61,2,     0.01,2,    1.972,2,    1.163,2,    0.019,2,    0.755,2,   2195.8, 2,   2310.2,2,     47.2,2,     0.01,2,     -999,9,   -999.0,9,    0.000,2,    0.000,2,   1.4700,1,   0.2930,2,   0.1710,2,   0.0280,2,   -0.001,2,   99.586,2,  12.6200,2
  49NZ20191205,  I08N,    32,  1,     31,   1231,2,20191211,1520, -2.3331,  79.9999, 4909,    248.4,  11.8576,  11.8567,2,  35.0224,2,  35.0224,2,    123.3,2,    123.6,2,    17.68,2,    22.27,2,     0.01,2,     1.54,2,     0.02,2,    2.154,2,    1.255,2,    0.029,2,    0.906,2,   2189.3, 2,   2309.4,2,     40.5,2,     0.01,2,     -999,9,   -999.0,9,    0.000,2,    0.000,2,   1.4110,1,-999.0000,9,-999.0000,9,-999.0000,9,    0.001,2,   99.577,2,  11.8567,2
  49NZ20191205,  I08N,    32,  1,     30,   1230,2,20191211,1520, -2.3331,  79.9999, 4909,    329.4,  10.7605,  10.7600,2,  34.9435,2,  34.9450,2,    132.2,2,    130.2,2,    19.65,2,    23.62,2,     0.01,2,     1.62,2,     0.04,2,    2.173,2,    1.233,2,    0.039,2,    0.814,2,   2193.6, 2,   2308.8,2,     41.8,2,  -999.00,9,     -999,9,   -999.0,9,    0.000,2,    0.000,2,   1.4000,1,   0.2990,2,   0.1760,2,   0.0330,2,    0.002,2,   99.617,2,  10.7600,2
  49NZ20191205,  I08N,    32,  1,     29,   1229,2,20191211,1520, -2.3331,  79.9999, 4909,    432.4,  10.0464,  10.0442,2,  34.9354,2,  34.9350,2,     88.6,2,     88.9,2,    29.22,2,    29.10,2,     0.01,2,     2.00,2,     0.06,2,    1.431,2,    0.765,2,    0.020,2,    0.442,2,   2225.9, 2,   2314.3,2,     40.4,2,  -999.00,9,     -999,9,   -999.0,9,    0.000,2,    0.000,2,   1.4760,1,   0.3200,2,   0.1860,2,   0.0370,2,    0.003,2,   99.670,2,  10.0442,2
  49NZ20191205,  I08N,    32,  1,     28,   1228,2,20191211,1520, -2.3331,  79.9999, 4909,    530.4,   9.5912,   9.5925,2,  34.9479,2,  34.9500,2,     77.2,2,     75.4,2,    36.59,2,    31.14,2,     0.01,2,     2.20,2,     0.07,2,    1.039,2,    0.554,2,    0.016,2,    0.157,2,   2240.2, 2,   2320.5,2,     44.5,2,  -999.00,9,     -999,9,   -999.0,9,    0.000,2,    0.000,2,   1.4990,1,   0.3630,2,   0.2240,2,   0.0470,2,    0.003,2,   99.710,2,   9.5925,2
  49NZ20191205,  I08N,    32,  1,     27,   1227,2,20191211,1520, -2.3331,  79.9999, 4909,    631.2,   8.8434,   8.8432,2,  34.9201,2,  34.9222,2,     68.4,2,     67.9,2,    46.26,2,    33.10,2,     0.01,2,     2.38,2,     0.05,2,    0.652,2,    0.348,2,    0.009,2,    0.113,2,   2255.0, 2,   2327.2,2,     46.1,2,  -999.00,9,     -999,9,   -999.0,9,    0.000,2,    0.000,2,   1.5310,1,   0.3030,2,   0.1700,2,   0.0250,2,    0.003,2,   99.744,2,   8.8432,2
  49NZ20191205,  I08N,    32,  1,     26,   1226,2,20191211,1520, -2.3331,  79.9999, 4909,    729.7,   8.2188,   8.2187,2,  34.9239,2,  34.9221,2,     54.1,2,     54.6,2,    57.65,2,    35.08,2,     0.01,2,     2.53,2,     0.07,2,    0.263,2,    0.142,2,    0.006,2,    0.073,2,   2275.0, 6,   2341.2,2,     38.2,2,  -999.00,9,     -999,9,   -999.0,9,    0.000,2,    0.000,2,   1.5740,1,-999.0000,9,-999.0000,9,-999.0000,9,    0.001,2,   99.779,2,   8.2187,2
  49NZ20191205,  I08N,    32,  1,     25,   1225,2,20191211,1520, -2.3331,  79.9999, 4909,    830.6,   7.5140,   7.5134,2,  34.9075,2,  34.9067,2,     55.0,2,     54.8,2,    68.13,2,    36.02,2,     0.01,2,     2.62,2,     0.07,2,    0.151,2,    0.082,2,    0.002,2,    0.045,2,   2286.7, 2,   2350.6,2,     42.1,2,  -999.00,9,     -999,9,   -999.0,9,    0.000,2,    0.000,2,   1.5850,1,   0.3160,2,   0.1840,2,   0.0280,2,    0.002,2,   99.800,2,   7.5134,2
  49NZ20191205,  I08N,    32,  1,     24,   1224,2,20191211,1520, -2.3331,  79.9999, 4909,    930.8,   6.7515,   6.7515,2,  34.8802,2,  34.8837,2,     57.0,2,     56.7,2,    78.29,2,    36.75,2,     0.01,2,     2.68,2,     0.04,2,    0.074,2,    0.039,2,    0.003,2,    0.024,2,   2299.4, 2,   2360.5,2,     38.2,2,  -999.00,9,     -999,9,   -999.0,9,    0.000,2,    0.000,2,   1.6030,1,-999.0000,9,-999.0000,9,-999.0000,9,    0.002,2,   99.822,2,   6.7515,2
  49NZ20191205,  I08N,    32,  1,     23,   1223,2,20191211,1520, -2.3331,  79.9999, 4909,   1070.8,   6.1317,   6.1313,2,  34.8780,2,  34.8782,2,     63.5,2,     63.5,2,    85.80,2,    36.95,2,     0.01,2,     2.70,2,     0.03,2,    0.055,2,    0.030,2,    0.001,2,    0.003,2,   2303.0, 2,   2369.3,2,     39.1,2,  -999.00,9,     -999,9,   -999.0,9,    0.000,2,    0.000,2,   1.6120,1,   0.3540,2,   0.1870,2,   0.0370,2,    0.001,2,   99.819,2,   6.1313,2
  49NZ20191205,  I08N,    32,  1,     22,   1222,2,20191211,1520, -2.3331,  79.9999, 4909,   1268.7,   5.1676,   5.1678,2,  34.8402,2,  34.8407,2,     75.2,2,     75.2,2,    96.36,2,    37.24,2,     0.00,2,     2.71,2,     0.03,2,    0.023,2,    0.009,2,    0.001,2,    0.001,2,   2314.2, 2,   2377.2,6,     39.8,2,  -999.00,9,     -999,9,   -999.0,9,    0.000,2,    0.000,2,   1.6140,1,-999.0000,9,-999.0000,9,-999.0000,9,    0.001,2,   99.828,2,   5.1678,2
  49NZ20191205,  I08N,    32,  1,     21,   1221,2,20191211,1520, -2.3331,  79.9999, 4909,   1469.5,   4.4154,   4.4150,2,  34.8254,2,  34.8256,2,     90.4,2,     90.7,2,   103.22,2,    36.91,2,     0.00,2,     2.68,2,     0.02,2,    0.018,2,    0.006,2,    0.000,2,    0.003,2,   2313.8, 2,   2380.3,2,     40.0,2,  -999.00,9,     -999,9,   -999.0,9,    0.000,2,    0.000,2,   1.6120,1,   0.3510,2,   0.1880,2,   0.0350,2,    0.001,2,   99.847,2,   4.4150,2
  49NZ20191205,  I08N,    32,  1,     20,   1220,2,20191211,1520, -2.3331,  79.9999, 4909,   1670.4,   3.6836,   3.6827,2,  34.8043,2,  34.8050,2,    105.9,2,    105.9,2,   110.16,2,    36.33,2,     0.01,2,     2.63,2,     0.03,2,    0.016,2,    0.006,2,    0.006,2,    0.004,2,   2315.9, 2,   2387.5,2,     42.8,2,  -999.00,9,     -999,9,   -999.0,9,    0.000,2,    0.000,2,   1.5930,1,-999.0000,9,-999.0000,9,-999.0000,9,    0.000,2,   99.847,2,   3.6827,2
  49NZ20191205,  I08N,    32,  1,     19,   1219,2,20191211,1520, -2.3331,  79.9999, 4909,   1870.3,   3.0936,   3.0932,2,  34.7817,2,  34.7823,2,    120.7,2,    120.5,2,   116.05,2,    35.81,2,     0.00,2,     2.58,2,     0.05,2,    0.014,2,    0.006,2,    0.002,2,    0.004,2,   2316.0, 2,   2394.3,2,     38.7,2,  -999.00,9,     -999,9,   -999.0,9,    0.000,2,    0.000,2,   1.5800,1,   0.3770,2,   0.2000,2,   0.0410,2,    0.000,2,   99.872,2,   3.0932,2
  49NZ20191205,  I08N,    32,  1,     18,   1218,2,20191211,1520, -2.3331,  79.9999, 4909,   2072.0,   2.6319,   2.6324,2,  34.7653,2,  34.7654,2,    132.3,2,    132.3,2,   120.94,2,    35.37,2,     0.00,2,     2.53,2,     0.06,2,    0.013,2,    0.005,2,    0.003,2,    0.009,2,   2314.2, 2,   2398.1,2,     38.5,2,  -999.00,9,     -999,9,   -999.0,9,    0.000,2,    0.000,2,   1.5750,1,-999.0000,9,-999.0000,9,-999.0000,9,   -0.001,2,   99.872,2,   2.6324,2
  49NZ20191205,  I08N,    32,  1,     17,   1217,2,20191211,1520, -2.3331,  79.9999, 4909,   2269.7,   2.3218,   2.3222,2,  34.7538,2,  34.7541,2,    141.4,2,    141.2,2,   124.40,2,    35.07,2,     0.00,2,     2.49,2,     0.07,2,    0.014,2,    0.004,2,    0.002,2,        0,2,   2313.4, 2,   2404.9,2,     34.4,2,  -999.00,9,     -999,9,   -999.0,9,    0.000,2,    0.000,2,   1.5560,1,   0.3310,2,   0.1710,2,   0.0300,2,   -0.001,2,   99.872,2,   2.3222,2
  49NZ20191205,  I08N,    32,  1,     16,   1216,2,20191211,1520, -2.3331,  79.9999, 4909,   2470.0,   2.1051,   2.1058,2,  34.7456,2,  34.7455,2,    148.0,2,    148.1,2,   126.83,2,    34.90,2,     0.01,2,     2.47,2,     0.05,2,    0.015,2,    0.005,2,    0.000,2,        0,2,   2314.0, 6,   2406.4,2,     39.2,2,  -999.00,9,     -999,9,   -999.0,9,    0.000,2,    0.000,2,   1.5410,1,-999.0000,9,-999.0000,9,-999.0000,9,    0.000,2,   99.893,2,   2.1058,2
  49NZ20191205,  I08N,    32,  1,     15,   1215,2,20191211,1520, -2.3331,  79.9999, 4909,   2671.1,   1.9607,   1.9605,2,  34.7396,2,  34.7405,2,    152.8,2,    152.7,2,   128.01,2,    34.53,2,     0.00,2,     2.43,2,     0.05,2,    0.020,2,    0.007,2,    0.000,2,     0.01,2,   2312.1, 2,   2406.1,2,     35.9,2,  -999.00,9,     -999,9,   -999.0,9,    0.000,2,    0.000,2,   1.5310,1,   0.3390,2,   0.1770,2,   0.0320,2,   -0.001,2,   99.900,2,   1.9605,2
  49NZ20191205,  I08N,    32,  1,     14,   1214,2,20191211,1520, -2.3331,  79.9999, 4909,   2871.4,   1.7824,   1.7824,2,  34.7334,2,  34.7341,2,    158.9,2,    158.8,2,   129.91,2,    34.48,2,     0.01,2,     2.41,2,     0.06,2,    0.015,2,    0.005,2,    0.003,2,    0.007,2,   2310.8, 2,   2411.2,2,     37.3,2,  -999.00,9,     -999,9,   -999.0,9,    0.000,2,    0.000,2,   1.5180,1,-999.0000,9,-999.0000,9,-999.0000,9,    0.000,2,   99.900,2,   1.7824,2
  49NZ20191205,  I08N,    32,  1,     13,   1213,2,20191211,1520, -2.3331,  79.9999, 4909,   3081.8,   1.6223,   1.6222,2,  34.7276,2,  34.7280,2,    162.5,2,    162.4,2,   133.19,2,    34.38,2,     0.01,2,     2.40,2,     0.05,2,    0.016,2,    0.005,2,    0.000,2,        0,2,   2313.3, 2,   2416.8,2,     37.9,2,  -999.00,9,     -999,9,   -999.0,9,    0.000,2,    0.000,2,   1.5110,1,   0.3320,2,   0.1640,2,   0.0270,2,   -0.001,2,   99.897,2,   1.6222,2
  49NZ20191205,  I08N,    32,  1,     12,   1212,2,20191211,1520, -2.3331,  79.9999, 4909,   3330.3,   1.5491,   1.5487,2,  34.7251,2,  34.7258,2,    163.2,2,    163.0,2,   136.01,2,    34.46,2,     0.01,2,     2.40,2,     0.05,2,    0.017,2,    0.005,2,    0.001,2,    0.012,2,   2317.0, 2,   2418.6,6,     37.7,2,  -999.00,9,     -999,9,   -999.0,9,    0.000,2,    0.000,2,   1.5290,1,-999.0000,9,-999.0000,9,-999.0000,9,   -0.001,2,   99.893,2,   1.5487,2
  49NZ20191205,  I08N,    32,  1,     11,   1211,2,20191211,1520, -2.3331,  79.9999, 4909,   3581.3,   1.4846,   1.4846,2,  34.7222,2,  34.7225,2,    168.3,2,    168.4,2,   135.00,2,    34.33,2,     0.01,2,     2.38,2,     0.04,2,    0.016,2,    0.006,2,    0.006,2,    0.002,2,   2314.5, 2,   2411.0,2,     33.9,2,  -999.00,9,     -999,9,   -999.0,9,    0.000,2,    0.000,2,   1.5140,1,   0.3200,2,   0.1580,2,   0.0270,2,    0.000,2,   99.908,2,   1.4846,2
  49NZ20191205,  I08N,    32,  1,     10,   1210,2,20191211,1520, -2.3331,  79.9999, 4909,   3829.3,   1.4146,   1.4145,2,  34.7195,2,  34.7197,2,    171.5,2,    171.4,2,   136.28,2,    34.30,2,     0.00,2,     2.37,2,     0.02,2,    0.015,2,    0.006,2,    0.000,2,        0,2,   2312.2, 2,   2417.3,2,     35.0,2,  -999.00,9,     -999,9,   -999.0,9,    0.000,2,    0.000,2,   1.5020,1,-999.0000,9,-999.0000,9,-999.0000,9,   -0.001,2,   99.927,2,   1.4145,2
  49NZ20191205,  I08N,    32,  1,      9,   1209,2,20191211,1520, -2.3331,  79.9999, 4909,   4081.0,   1.3961,   1.3960,2,  34.7183,2,  34.7184,2,    174.3,2,    174.3,2,   135.92,2,    34.10,2,     0.01,2,     2.35,2,     0.04,2,    0.015,2,    0.007,2,    0.001,2,        0,2,   2309.7, 2,   2411.8,2,     39.7,2,  -999.00,9,     -999,9,   -999.0,9,    0.000,2,    0.000,2,   1.4890,1,   0.3240,2,   0.1680,2,   0.0280,2,    0.000,2,   99.918,2,   1.3960,2
  49NZ20191205,  I08N,    32,  1,      8,  12103,2,20191211,1520, -2.3331,  79.9999, 4909,   4330.5,   1.4006,   1.4006,2,  34.7177,2,  34.7189,2,    176.2,2,    176.3,2,   135.38,2,    34.03,2,     0.00,2,     2.34,2,     0.03,2,    0.014,2,    0.004,2,    0.001,2,        0,2,   2308.4, 6,   2413.3,2,     37.9,2,  -999.00,9,     -999,9,   -999.0,9,    0.000,2,    0.000,2,   1.4850,1,-999.0000,9,-999.0000,9,-999.0000,9,   -0.001,2,   99.925,2,   1.4006,2
  49NZ20191205,  I08N,    32,  1,      7,   1207,2,20191211,1520, -2.3331,  79.9999, 4909,   4580.5,   1.4133,   1.4132,2,  34.7172,2,  34.7178,2,    177.5,2,    177.5,2,   134.72,2,    33.91,2,     0.01,2,     2.34,2,     0.05,2,    0.017,2,    0.006,2,    0.003,2,        0,2,   2306.1, 2,   2410.3,2,     39.1,2,  -999.00,9,     -999,9,   -999.0,9,    0.000,2,    0.000,2,   1.4780,1,   0.3360,2,   0.1800,2,   0.0350,2,    0.000,2,   99.925,2,   1.4132,2
  49NZ20191205,  I08N,    32,  1,      6,   1206,2,20191211,1520, -2.3331,  79.9999, 4909,   4829.3,   1.4331,   1.4332,2,  34.7171,2,  34.7177,2,    178.2,2,    178.2,2,   134.34,2,    33.75,2,     0.01,2,     2.33,2,     0.06,2,    0.019,2,    0.007,2,    0.001,2,        0,2,   2306.1, 2,   2412.0,6,     35.7,2,  -999.00,9,     -999,9,   -999.0,9,    0.000,2,    0.000,2,   1.4810,1,-999.0000,9,-999.0000,9,-999.0000,9,    0.000,2,   99.925,2,   1.4332,2
  49NZ20191205,  I08N,    32,  1,      2,  12046,2,20191211,1520, -2.3331,  79.9999, 4909,     76.2,  27.7288,  27.7303,2,  34.5899,2,  34.5996,2,    191.7,2,    192.2,2,     1.84,2,     0.06,2,     0.01,2,     0.16,2,     0.15,2, -999.000,9, -999.000,9, -999.000,9,     -999,9,   1965.3, 2,   2272.7,2,     65.0,2,     0.47,2,     -999,9,   -999.0,9,    0.000,2,    0.000,2,   1.2860,1,   0.3310,2,   0.1650,2,   0.0250,2,    0.482,2,   98.389,2,  27.7303,2
  49NZ20191205,  I08N,    32,  1,      1,   1201,2,20191211,1520, -2.3331,  79.9999, 4909,   4973.4,   1.4473,   1.4473,2,  34.7170,2,  34.7179,2,    178.4,2,    178.6,2,   134.68,2,    33.80,2,     0.01,2,     2.34,2,     0.04,2,    0.017,2,    0.006,2,    0.001,2,     0.02,2,   2305.8, 2,   2414.3,2,     35.3,2,  -999.00,9,     -999,9,   -999.0,9,    0.000,2,    0.000,2,   1.4770,1,   0.3480,2,   0.1830,2,   0.0350,2,    0.000,2,   99.912,2,   1.4473,2