BOTTLE,20210412PRINUNIVRMK
EXPOCODE,SECT_ID,STNNBR,CASTNO,SAMPNO,BTLNBR,BTLNBR_FLAG_W,DATE,TIME,LATITUDE,LONGITUDE,DEPTH,CTDPRS,CTDTMP,SBE35,SBE35_FLAG_W,CTDSAL,CTDSAL_FLAG_W,SALNTY,SALNTY_FLAG_W,CTDOXY,CTDOXY_FLAG_W,OXYGEN,OXYGEN_FLAG_W,SILCAT,SILCAT_FLAG_W,NITRAT,NITRAT_FLAG_W,NITRIT,NITRIT_FLAG_W,PHSPHT,PHSPHT_FLAG_W,NH4,NH4_FLAG_W,CFC-11,CFC-11_FLAG_W,CFC-12,CFC-12_FLAG_W,CFC113,CFC113_FLAG_W,SF6,SF6_FLAG_W,TCARBN,TCARBN_FLAG_W,ALKALI,ALKALI_FLAG_W,DOC,DOC_FLAG_W,CHLWELSH,CHLWELSH_FLAG_W,UREA,UREA_FLAG_W,IODATE,IODATE_FLAG_W,PAR,PAR_FLAG_W,PAR,PAR_FLAG_W,CDOM,CDOM_FLAG_W,CDOM300,CDOM300_FLAG_W,CDOM325,CDOM325_FLAG_W,CDOM443,CDOM443_FLAG_W,CTDFLUOR,CTDFLUOR_FLAG_W,CTDXMISS,CTDXMISS_FLAG_W,SBE35,SBE35_FLAG_W
,,,,,,,,,,,METERS,DBAR,ITS-90,,,PSS-78,,PSS-78,,UMOL/KG,,UMOL/KG,,UMOL/KG,,UMOL/KG,,UMOL/KG,,UMOL/KG,,UMOL/KG,,PMOL/KG,,PMOL/KG,,PMOL/KG,,FMOL/KG,,UMOL/KG,,UMOL/KG,,UMOL/KG,,UG/KG,,nMOL/L,,nMOL/L,,VOLTS,,VOLTS,,MG/M^3,,1/M,,1/M,,1/M,,MG/M^3,,%TRANS,,,
  49NZ20191205,  I08N,    64,  1,     36,   1236,2,20191220,2137,-17.9988,  80.0008, 5100,     10.5,  28.7386,  28.7370,2,  35.0850,2,  35.0852,2,    196.5,2,    196.5,2,     1.66,2,     0.02,2,     0.00,2,     0.10,2,     0.02,2,    1.411,2,    0.909,2,    0.125,2,    1.548,2,   1970.8, 2,   2299.2,2,     60.3,2,     0.08,2,     -999,9,   -999.0,9,    2.152,2,    2.152,2,   1.1000,1,   0.1920,2,   0.0900,2,   0.0140,2,    0.058,2,   98.777,2,  28.7370,2
  49NZ20191205,  I08N,    64,  1,     35,   1235,2,20191220,2137,-17.9988,  80.0008, 5100,     49.5,  27.8399,  27.8397,2,  35.0021,2,  35.0016,2,    202.6,2,    202.9,2,     1.70,2,     0.05,2,     0.00,2,     0.12,2,     0.03,2,    1.479,2,    0.943,2,    0.131,2,    1.583,2,   1971.1, 2,   2295.3,2,     78.1,2,     0.11,2,     -999,9,   -999.0,9,    0.102,2,    0.102,2,   1.0830,1,   0.2020,2,   0.1010,2,   0.0160,2,    0.097,2,   98.750,2,  27.8397,2
  49NZ20191205,  I08N,    64,  1,     34,   1234,2,20191220,2137,-17.9988,  80.0008, 5100,    100.1,  23.8470,  23.8470,2,  35.2136,2,  35.2094,2,    214.5,2,    214.6,2,     1.98,2,     0.04,2,     0.00,2,     0.08,2,     0.06,2,    1.739,2,    1.089,2,    0.150,2,    1.742,2,   2002.0, 2,   2309.4,2,     75.3,2,     0.22,2,     -999,9,   -999.0,9,    0.000,2,    0.000,2,   1.0700,1,   0.2440,2,   0.1290,2,   0.0160,2,    0.191,2,   98.840,2,  23.8470,2
  49NZ20191205,  I08N,    64,  1,     33,   1233,2,20191220,2137,-17.9988,  80.0008, 5100,    149.7,  22.5951,  22.5958,2,  35.3713,2,  35.3715,2,    206.1,2,    206.3,2,     2.32,2,     0.08,2,     0.02,2,     0.12,2,     0.09,2,    1.794,2,    1.120,2,    0.149,2,    1.678,2,   2023.9, 2,   2319.8,2,     70.5,2,     0.25,2,     -999,9,   -999.0,9,    0.000,2,    0.000,2,   1.1880,1,   0.2520,2,   0.1440,2,   0.0220,2,    0.224,2,   99.001,2,  22.5958,2
  49NZ20191205,  I08N,    64,  1,     32,   1232,2,20191220,2137,-17.9988,  80.0008, 5100,    201.0,  20.5789,  20.5807,2,  35.6174,2,  35.6178,2,    186.2,2,    186.3,2,     3.28,2,     2.78,2,     0.02,2,     0.28,2,     0.05,2,    1.956,2,    1.216,2,    0.062,2,    1.643,2,   2073.5, 2,   2335.4,2,     56.2,2,     0.06,2,     -999,9,   -999.0,9,    0.000,2,    0.000,2,   1.2420,1,   0.2770,2,   0.1700,2,   0.0290,2,    0.070,2,   99.477,2,  20.5807,2
  49NZ20191205,  I08N,    64,  1,     31,   1231,2,20191220,2137,-17.9988,  80.0008, 5100,    249.4,  18.5521,  18.5816,2,  35.5718,2,  35.5666,2,    172.9,2,    172.9,2,     7.17,2,     6.36,2,     0.01,2,     0.51,2,     0.03,2,    1.999,2,    1.234,2,    0.020,2,    1.529,2,   2104.2, 2,   2337.4,2,     54.5,2,     0.01,2,     -999,9,   -999.0,9,    0.000,2,    0.000,2,   1.2820,1,-999.0000,9,-999.0000,9,-999.0000,9,   -0.003,2,   99.625,2,  18.5816,2
  49NZ20191205,  I08N,    64,  1,     30,   1230,2,20191220,2137,-17.9988,  80.0008, 5100,    280.7,  17.0832,  17.0841,2,  35.5222,2,  35.5322,2,    173.9,2,    176.4,2,     7.88,2,     7.31,2,     0.01,2,     0.57,2,     0.04,2,    2.123,2,    1.296,2,    0.022,2,    1.612,2,   2116.4, 2,   2338.6,2,     56.6,2,  -999.00,9,     -999,9,   -999.0,9,    0.000,2,    0.000,2,   1.3070,1,   0.2400,2,   0.1410,2,   0.0250,2,   -0.005,2,   99.690,2,  17.0841,2
  49NZ20191205,  I08N,    64,  1,     29,   1229,2,20191220,2137,-17.9988,  80.0008, 5100,    370.4,  14.0743,  14.0718,2,  35.3504,2,  35.3337,2,    208.7,2,    209.9,2,     4.05,2,     7.68,2,     0.00,2,     0.61,2,     0.03,2,    2.614,2,    1.600,2,    0.056,2,    1.889,2,   2122.6, 2,   2326.2,2,     48.3,2,  -999.00,9,     -999,9,   -999.0,9,    0.000,2,    0.000,2,   1.2270,1,   0.2070,2,   0.1230,2,   0.0180,2,   -0.003,2,   99.764,2,  14.0718,2
  49NZ20191205,  I08N,    64,  1,     28,   1228,2,20191220,2137,-17.9988,  80.0008, 5100,    469.4,  10.9527,  10.9571,2,  34.9128,2,  34.9053,2,    219.4,2,    219.3,2,     5.60,2,    13.76,2,     0.01,2,     0.98,2,     0.03,2,    3.066,2,    1.800,2,    0.107,2,    1.707,2,   2135.2, 2,   2304.5,2,     45.1,2,  -999.00,9,     -999,9,   -999.0,9,    0.000,2,    0.000,2,   1.1980,1,   0.2030,2,   0.1160,2,   0.0200,2,   -0.002,2,   99.812,2,  10.9571,2
  49NZ20191205,  I08N,    64,  1,     27,   1227,2,20191220,2137,-17.9988,  80.0008, 5100,    571.9,   9.3983,   9.4021,2,  34.6957,2,  34.6940,2,    225.8,2,    225.9,2,     6.02,2,    17.38,2,     0.01,2,     1.20,2,     0.04,2,    3.288,2,    1.908,2,    0.125,2,    1.639,2,   2143.2, 2,   2297.3,2,     46.0,2,  -999.00,9,     -999,9,   -999.0,9,    0.000,2,    0.000,2,   1.1650,1,   0.1970,2,   0.1070,2,   0.0200,2,    0.000,2,   99.861,2,   9.4021,2
  49NZ20191205,  I08N,    64,  1,     26,   1226,2,20191220,2137,-17.9988,  80.0008, 5100,    669.7,   7.7610,   7.7617,2,  34.5482,2,  34.5452,2,    195.6,2,    194.6,2,    17.22,2,    24.49,2,     0.00,2,     1.65,2,     0.05,2,    2.607,2,    1.378,2,    0.085,2,    0.804,2,   2168.8, 6,   2293.3,2,     44.0,2,  -999.00,9,     -999,9,   -999.0,9,    0.000,2,    0.000,2,   1.2100,1,-999.0000,9,-999.0000,9,-999.0000,9,    0.000,2,   99.878,2,   7.7617,2
  49NZ20191205,  I08N,    64,  1,     25,   1225,2,20191220,2137,-17.9988,  80.0008, 5100,    769.7,   6.0858,   6.0877,2,  34.5167,2,  34.5187,2,    150.2,2,    149.2,2,    43.57,2,    31.76,2,     0.01,2,     2.19,2,     0.03,2,    1.057,2,    0.529,2,    0.039,2,     0.21,2,   2220.1, 2,   2316.9,2,     47.4,2,  -999.00,9,     -999,9,   -999.0,9,    0.000,2,    0.000,2,   1.3350,1,   0.2610,2,   0.1500,2,   0.0240,2,   -0.001,2,   99.857,2,   6.0877,2
  49NZ20191205,  I08N,    64,  1,     24,   1224,2,20191220,2137,-17.9988,  80.0008, 5100,    869.6,   5.4085,   5.4117,2,  34.5737,2,  34.5744,2,    124.1,2,    123.8,2,    63.71,2,    34.68,2,     0.00,2,     2.42,2,     0.04,2,    0.359,2,    0.183,2,    0.013,2,     0.05,2,   2254.2, 2,   2334.7,2,     40.7,2,  -999.00,9,     -999,9,   -999.0,9,    0.000,2,    0.000,2,   1.3930,1,-999.0000,9,-999.0000,9,-999.0000,9,    0.000,2,   99.842,2,   5.4117,2
  49NZ20191205,  I08N,    64,  1,     23,   1223,2,20191220,2137,-17.9988,  80.0008, 5100,    969.9,   5.0025,   5.0025,2,  34.6249,2,  34.6287,2,    114.1,2,    113.0,2,    76.61,2,    35.70,2,     0.00,2,     2.52,2,     0.04,2,    0.155,2,    0.081,2,    0.005,2,    0.001,2,   2271.4, 2,   2348.6,2,     39.5,2,  -999.00,9,     -999,9,   -999.0,9,    0.000,2,    0.000,2,   1.4420,1,   0.3050,2,   0.1580,2,   0.0250,2,   -0.001,2,   99.857,2,   5.0025,2
  49NZ20191205,  I08N,    64,  1,     22,   1222,2,20191220,2137,-17.9988,  80.0008, 5100,   1130.4,   4.7086,   4.7080,2,  34.6830,2,  34.6836,2,    104.2,2,    104.0,2,    89.22,2,    36.29,2,     0.00,2,     2.58,2,     0.03,2,    0.062,2,    0.031,2,    0.004,2,    0.024,2,   2289.3, 2,   2363.6,6,     40.5,2,  -999.00,9,     -999,9,   -999.0,9,    0.000,2,    0.000,2,   1.4840,1,-999.0000,9,-999.0000,9,-999.0000,9,    0.000,2,   99.857,2,   4.7080,2
  49NZ20191205,  I08N,    64,  1,     21,   1221,2,20191220,2137,-17.9988,  80.0008, 5100,   1332.0,   4.0617,   4.0615,2,  34.6990,2,  34.6993,2,    113.1,2,    113.0,2,    96.35,2,    36.17,2,     0.00,2,     2.57,2,     0.05,2,    0.026,2,    0.012,2,    0.001,2,        0,2,   2293.0, 2,   2370.3,2,     39.6,2,  -999.00,9,     -999,9,   -999.0,9,    0.000,2,    0.000,2,   1.4950,1,   0.3250,2,   0.1770,2,   0.0270,2,    0.000,2,   99.863,2,   4.0615,2
  49NZ20191205,  I08N,    64,  1,     20,   1220,2,20191220,2137,-17.9988,  80.0008, 5100,   1529.3,   3.5177,   3.5188,2,  34.7066,2,  34.7065,2,    125.0,2,    125.0,2,   100.44,2,    35.85,2,     0.00,2,     2.52,2,     0.04,2,    0.018,2,    0.007,2,    0.001,2,    0.006,2,   2293.1, 2,   2375.0,2,     42.6,2,  -999.00,9,     -999,9,   -999.0,9,    0.000,2,    0.000,2,   1.4830,1,-999.0000,9,-999.0000,9,-999.0000,9,   -0.001,2,   99.867,2,   3.5188,2
  49NZ20191205,  I08N,    64,  1,     19,   1219,2,20191220,2137,-17.9988,  80.0008, 5100,   1728.7,   3.0342,   3.0354,2,  34.7160,2,  34.7161,2,    135.3,2,    135.2,2,   105.62,2,    35.41,2,     0.00,2,     2.48,2,     0.01,2,    0.014,2,    0.006,2,    0.003,2,    0.012,2,   2294.7, 2,   2379.8,2,     37.5,2,  -999.00,9,     -999,9,   -999.0,9,    0.000,2,    0.000,2,   1.4580,1,   0.3200,2,   0.1690,2,   0.0310,2,   -0.001,2,   99.878,2,   3.0354,2
  49NZ20191205,  I08N,    64,  1,     18,   1218,2,20191220,2137,-17.9988,  80.0008, 5100,   1929.2,   2.6665,   2.6660,2,  34.7247,2,  34.7244,2,    144.1,2,    143.9,2,   110.23,2,    35.00,2,     0.00,2,     2.45,2,     0.04,2,    0.010,2,    0.003,2,    0.000,2,        0,2,   2293.5, 2,   2383.3,2,     37.9,2,  -999.00,9,     -999,9,   -999.0,9,    0.000,2,    0.000,2,   1.4670,1,-999.0000,9,-999.0000,9,-999.0000,9,   -0.001,2,   99.886,2,   2.6660,2
  49NZ20191205,  I08N,    64,  1,     17,   1217,2,20191220,2137,-17.9988,  80.0008, 5100,   2130.1,   2.3548,   2.3560,2,  34.7263,2,  34.7257,2,    154.9,2,    154.8,2,   111.93,2,    34.49,2,     0.00,2,     2.40,2,     0.05,2,    0.014,2,    0.005,2,    0.005,2,    0.021,2,   2290.7, 2,   2385.7,2,     35.3,2,  -999.00,9,     -999,9,   -999.0,9,    0.000,2,    0.000,2,   1.4460,1,   0.3250,2,   0.1770,2,   0.0310,2,   -0.001,2,   99.890,2,   2.3560,2
  49NZ20191205,  I08N,    64,  1,     16,   1216,2,20191220,2137,-17.9988,  80.0008, 5100,   2331.3,   2.1196,   2.1197,2,  34.7271,2,  34.7266,2,    162.5,2,    162.4,2,   113.90,2,    34.01,2,     0.01,2,     2.36,2,     0.05,2,    0.014,2,    0.004,2,    0.002,2,        0,2,   2290.2, 6,   2385.4,2,     38.7,2,  -999.00,9,     -999,9,   -999.0,9,    0.000,2,    0.000,2,   1.4160,1,-999.0000,9,-999.0000,9,-999.0000,9,   -0.001,2,   99.878,2,   2.1197,2
  49NZ20191205,  I08N,    64,  1,     15,   1215,2,20191220,2137,-17.9988,  80.0008, 5100,   2531.1,   1.9234,   1.9246,2,  34.7275,2,  34.7269,2,    169.0,2,    168.9,2,   115.54,2,    33.77,2,     0.00,2,     2.32,2,     0.05,2,    0.016,2,    0.007,2,    0.003,2,        0,2,   2287.6, 2,   2387.0,2,     35.8,2,  -999.00,9,     -999,9,   -999.0,9,    0.000,2,    0.000,2,   1.4060,1,   0.3010,2,   0.1530,2,   0.0230,2,    0.000,2,   99.892,2,   1.9246,2
  49NZ20191205,  I08N,    64,  1,     14,   1214,2,20191220,2137,-17.9988,  80.0008, 5100,   2730.8,   1.7821,   1.7822,2,  34.7273,2,  34.7269,2,    172.5,2,    172.6,2,   118.47,2,    33.72,2,     0.00,2,     2.31,2,     0.06,2,    0.013,2,    0.004,2,    0.004,2,    0.024,2,   2287.6, 2,   2390.7,2,     38.7,2,  -999.00,9,     -999,9,   -999.0,9,    0.000,2,    0.000,2,   1.4060,1,-999.0000,9,-999.0000,9,-999.0000,9,    0.000,2,   99.882,2,   1.7822,2
  49NZ20191205,  I08N,    64,  1,     13,   1213,2,20191220,2137,-17.9988,  80.0008, 5100,   2929.8,   1.6818,   1.6818,2,  34.7265,2,  34.7259,2,    174.1,2,    174.2,2,   121.49,2,    33.64,2,     0.00,2,     2.31,2,     0.06,2,    0.013,2,    0.003,2,    0.000,2,    0.003,2,   2295.1, 2,   2393.5,2,     39.7,2,  -999.00,9,     -999,9,   -999.0,9,    0.000,2,    0.000,2,   1.4120,1,   0.3030,2,   0.1550,2,   0.0240,2,    0.000,2,   99.873,2,   1.6818,2
  49NZ20191205,  I08N,    64,  1,     12,   1212,2,20191220,2137,-17.9988,  80.0008, 5100,   3170.6,   1.5628,   1.5632,2,  34.7248,2,  34.7246,2,    176.0,2,    175.9,2,   125.00,2,    33.77,2,     0.00,2,     2.32,2,     0.05,2,    0.016,2,    0.006,2,    0.005,2,    0.011,2,   2296.0, 2,   2396.9,6,     36.5,2,  -999.00,9,     -999,9,   -999.0,9,    0.000,2,    0.000,2,   1.4120,1,-999.0000,9,-999.0000,9,-999.0000,9,    0.000,2,   99.884,2,   1.5632,2
  49NZ20191205,  I08N,    64,  1,     11,   1211,2,20191220,2137,-17.9988,  80.0008, 5100,   3420.9,   1.4615,   1.4613,2,  34.7227,2,  34.7227,2,    179.1,2,    179.1,2,   127.15,2,    33.83,2,     0.00,2,     2.31,2,     0.05,2,    0.014,2,    0.006,2,    0.003,2,        0,2,   2295.3, 2,   2401.5,2,     35.1,2,  -999.00,9,     -999,9,   -999.0,9,    0.000,2,    0.000,2,   1.4230,1,   0.3060,2,   0.1550,2,   0.0240,2,    0.000,2,   99.886,2,   1.4613,2
  49NZ20191205,  I08N,    64,  1,     10,   1210,2,20191220,2137,-17.9988,  80.0008, 5100,   3670.4,   1.4016,   1.4015,2,  34.7209,2,  34.7210,2,    182.1,2,    182.0,2,   127.96,2,    33.69,2,     0.00,2,     2.30,2,     0.05,2,    0.017,2,    0.005,2,    0.003,2,        0,2,   2297.7, 2,   2401.3,2,     39.2,2,  -999.00,9,     -999,9,   -999.0,9,    0.000,2,    0.000,2,   1.3980,1,-999.0000,9,-999.0000,9,-999.0000,9,    0.000,2,   99.892,2,   1.4015,2
  49NZ20191205,  I08N,    64,  1,      9,   1209,2,20191220,2137,-17.9988,  80.0008, 5100,   3920.7,   1.3739,   1.3736,2,  34.7192,2,  34.7192,2,    183.0,2,    182.9,2,   129.56,2,    33.65,2,     0.00,2,     2.30,2,     0.05,2,    0.013,2,    0.004,2,    0.002,2,        0,2,   2298.7, 2,   2403.5,2,     37.8,2,  -999.00,9,     -999,9,   -999.0,9,    0.000,2,    0.000,2,   1.4090,1,   0.3220,2,   0.1630,2,   0.0300,2,    0.000,2,   99.895,2,   1.3736,2
  49NZ20191205,  I08N,    64,  1,      8,  12103,2,20191220,2137,-17.9988,  80.0008, 5100,   4168.7,   1.3683,   1.3683,2,  34.7181,2,  34.7184,2,    183.0,2,    182.8,2,   130.90,2,    33.70,2,     0.00,2,     2.30,2,     0.07,2,    0.011,2,    0.003,2,    0.001,2,    0.005,2,   2296.6, 6,   2405.6,2,     39.0,2,  -999.00,9,     -999,9,   -999.0,9,    0.000,2,    0.000,2,   1.4100,1,-999.0000,9,-999.0000,9,-999.0000,9,    0.000,2,   99.892,2,   1.3683,2
  49NZ20191205,  I08N,    64,  1,      7,   1207,2,20191220,2137,-17.9988,  80.0008, 5100,   4422.3,   1.3784,   1.3783,2,  34.7174,2,  34.7176,2,    183.0,2,    182.8,2,   132.01,2,    33.87,2,     0.00,2,     2.31,2,     0.03,2,    0.018,2,    0.005,2,    0.002,2,    0.009,2,   2302.7, 2,   2405.4,2,     38.4,2,  -999.00,9,     -999,9,   -999.0,9,    0.000,2,    0.000,2,   1.4100,1,   0.3060,2,   0.1530,2,   0.0240,2,    0.000,2,   99.880,2,   1.3783,2
  49NZ20191205,  I08N,    64,  1,      6,   1206,2,20191220,2137,-17.9988,  80.0008, 5100,   4672.7,   1.3981,   1.3982,2,  34.7172,2,  34.7176,2,    183.0,2,    183.0,2,   132.46,2,    33.66,2,     0.00,2,     2.31,2,     0.02,2,    0.014,2,    0.004,2,    0.001,2,    0.003,2,   2299.0, 2,   2407.2,6,     21.7,4,  -999.00,9,     -999,9,   -999.0,9,    0.000,2,    0.000,2,   1.4180,1,-999.0000,9,-999.0000,9,-999.0000,9,    0.000,2,   99.871,2,   1.3982,2
  49NZ20191205,  I08N,    64,  1,      5,   1205,2,20191220,2137,-17.9988,  80.0008, 5100,   4920.8,   1.4199,   1.4200,2,  34.7171,2,  34.7173,2,    183.4,2,    183.7,2,   132.28,2,    33.61,2,     0.01,2,     2.31,2,     0.04,2,    0.017,2,    0.005,2,    0.003,2,     0.02,2,   2297.7, 2,   2405.7,2,     36.2,2,  -999.00,9,     -999,9,   -999.0,9,    0.000,2,    0.000,2,   1.4180,1,   0.3580,2,   0.1950,2,   0.0360,2,    0.000,2,   99.865,2,   1.4200,2