BOTTLE,20210412PRINUNIVRMK
EXPOCODE,SECT_ID,STNNBR,CASTNO,SAMPNO,BTLNBR,BTLNBR_FLAG_W,DATE,TIME,LATITUDE,LONGITUDE,DEPTH,CTDPRS,CTDTMP,SBE35,SBE35_FLAG_W,CTDSAL,CTDSAL_FLAG_W,SALNTY,SALNTY_FLAG_W,CTDOXY,CTDOXY_FLAG_W,OXYGEN,OXYGEN_FLAG_W,SILCAT,SILCAT_FLAG_W,NITRAT,NITRAT_FLAG_W,NITRIT,NITRIT_FLAG_W,PHSPHT,PHSPHT_FLAG_W,NH4,NH4_FLAG_W,CFC-11,CFC-11_FLAG_W,CFC-12,CFC-12_FLAG_W,CFC113,CFC113_FLAG_W,SF6,SF6_FLAG_W,TCARBN,TCARBN_FLAG_W,ALKALI,ALKALI_FLAG_W,DOC,DOC_FLAG_W,CHLWELSH,CHLWELSH_FLAG_W,UREA,UREA_FLAG_W,IODATE,IODATE_FLAG_W,PAR,PAR_FLAG_W,PAR,PAR_FLAG_W,CDOM,CDOM_FLAG_W,CDOM300,CDOM300_FLAG_W,CDOM325,CDOM325_FLAG_W,CDOM443,CDOM443_FLAG_W,CTDFLUOR,CTDFLUOR_FLAG_W,CTDXMISS,CTDXMISS_FLAG_W,SBE35,SBE35_FLAG_W
,,,,,,,,,,,METERS,DBAR,ITS-90,,,PSS-78,,PSS-78,,UMOL/KG,,UMOL/KG,,UMOL/KG,,UMOL/KG,,UMOL/KG,,UMOL/KG,,UMOL/KG,,PMOL/KG,,PMOL/KG,,PMOL/KG,,FMOL/KG,,UMOL/KG,,UMOL/KG,,UMOL/KG,,UG/KG,,nMOL/L,,nMOL/L,,VOLTS,,VOLTS,,MG/M^3,,1/M,,1/M,,1/M,,MG/M^3,,%TRANS,,,
  49NZ20191205,  I08N,    36,  1,     36,   1236,2,20191212,1332, -4.0020,  79.9974, 4630,      9.9,  28.7149,  28.7134,2,  34.0426,2,  34.0445,2,    197.7,2,    197.2,2,     1.47,2,     0.03,2,     0.00,2,     0.09,2,     0.05,2,    1.417,2,    0.911,2,    0.120,2,    1.589,2,   1927.2, 2,   2237.7,2,     81.5,2,     0.11,2,     50.5,2,    287.8,2,    0.000,2,    0.000,2,   1.1330,1,   0.2000,2,   0.0940,2,   0.0130,2,    0.108,2,   98.571,2,  28.7134,2
  49NZ20191205,  I08N,    36,  1,     35,   1235,2,20191212,1332, -4.0020,  79.9974, 4630,     50.0,  28.3691,  28.3680,2,  34.6029,2,  34.6017,2,    198.7,2,    198.6,2,     1.74,2,     0.01,2,     0.02,2,     0.19,2,     0.07,2,    1.440,2,    0.931,2,    0.125,2,    1.645,2,   1958.7, 2,   2272.7,2,     80.7,2,     0.21,2,     53.5,2,    296.9,2,    0.000,2,    0.000,2,   1.1680,1,   0.2520,2,   0.1240,2,   0.0170,2,    0.218,2,   98.586,2,  28.3680,2
  49NZ20191205,  I08N,    36,  1,     34,   1234,2,20191212,1332, -4.0020,  79.9974, 4630,     99.9,  19.9491,  19.9546,2,  34.7081,2,  34.7038,2,     97.9,2,     97.8,2,    16.47,2,    16.73,2,     0.11,2,     1.16,2,     0.04,2,    1.630,2,    1.010,2,    0.028,2,    1.119,2,   2116.8, 2,   2285.9,2,     57.6,2,     0.32,2,     59.8,2,    404.5,2,    0.000,2,    0.000,2,   1.4370,1,   0.3230,2,   0.1920,2,   0.0260,2,    0.328,2,   98.892,2,  19.9546,2
  49NZ20191205,  I08N,    36,  1,     33,   1233,2,20191212,1332, -4.0020,  79.9974, 4630,    149.6,  14.3916,  14.3939,2,  34.9102,2,  34.9094,2,     54.9,2,     55.1,2,    25.65,2,    26.82,2,     0.01,2,     1.84,2,     0.04,2,    1.485,2,    0.903,2,    0.012,2,    4.216,3,   2206.9, 2,   2304.6,2,     53.8,2,     0.05,2,     30.4,2,    439.5,2,    0.000,2,    0.000,2,   1.5240,1,   0.3370,2,   0.2010,2,   0.0350,2,    0.076,2,   99.526,2,  14.3939,2
  49NZ20191205,  I08N,    36,  1,     32,   1232,2,20191212,1332, -4.0020,  79.9974, 4630,    200.0,  12.4256,  12.4377,2,  35.0351,2,  35.0336,2,     80.9,2,     80.5,2,    21.20,2,    25.88,2,     0.00,2,     1.75,2,     0.04,2,    1.803,2,    1.022,2,    0.014,2,     0.56,2,   2210.9, 2,   2311.8,2,     51.2,2,     0.01,2,      6.6,2,    455.5,2,    0.000,2,    0.000,2,   1.4990,1,   0.3320,2,   0.1960,2,   0.0440,2,    0.000,2,   99.564,2,  12.4377,2
  49NZ20191205,  I08N,    36,  1,     31,   1231,2,20191212,1332, -4.0020,  79.9974, 4630,    249.7,  11.5024,  11.5025,2,  34.9905,2,  34.9907,2,     96.3,2,     95.7,2,    21.15,2,    25.72,2,     0.01,2,     1.74,2,     0.02,2,    1.773,2,    1.049,2,    0.023,2,    0.627,2,   2207.2, 2,   2310.1,2,     53.2,2,     0.01,2,     21.6,2,    412.9,2,    0.000,2,    0.000,2,   1.4620,1,-999.0000,9,-999.0000,9,-999.0000,9,    0.002,2,   99.585,2,  11.5025,2
  49NZ20191205,  I08N,    36,  1,     30,   1230,2,20191212,1332, -4.0020,  79.9974, 4630,    297.8,  10.9832,  10.9902,2,  34.9633,2,  34.9588,2,    102.1,2,    101.1,2,    22.20,2,    26.33,2,     0.01,2,     1.77,2,     0.03,2,    1.805,2,    1.034,2,    0.024,2,    0.596,2,   2212.9, 2,   2311.3,2,     47.8,2,  -999.00,9,     48.5,2,    424.2,2,    0.000,2,    0.000,2,   1.4480,1,   0.2860,2,   0.1630,2,   0.0300,2,    0.003,2,   99.612,2,  10.9902,2
  49NZ20191205,  I08N,    36,  1,     29,   1229,2,20191212,1332, -4.0020,  79.9974, 4630,    399.1,   9.9477,   9.9445,2,  34.9010,2,  34.9128,2,     92.6,2,     90.9,2,    29.23,2,    29.27,2,     0.01,2,     2.01,2,     0.01,2,    1.340,2,    0.757,2,    0.021,2,    0.382,2,   2226.0, 2,   2312.9,2,     47.2,2,  -999.00,9,     38.1,2,    424.1,2,    0.000,2,    0.000,2,   1.4520,1,   0.3430,2,   0.2070,2,   0.0480,2,    0.003,2,   99.659,2,   9.9445,2
  49NZ20191205,  I08N,    36,  1,     28,   1228,2,20191212,1332, -4.0020,  79.9974, 4630,    501.5,   9.3157,   9.3169,2,  34.8730,2,  34.8715,2,     82.5,2,     81.5,2,    36.92,2,    31.39,2,     0.01,2,     2.17,2,     0.01,2,    1.001,2,    0.530,2,    0.016,2,    0.251,2,   2238.6, 2,   2318.1,2,     45.8,2,  -999.00,9,     38.3,2,    442.1,2,    0.000,2,    0.000,2,   1.4770,1,   0.3070,2,   0.1770,2,   0.0360,2,    0.003,2,   99.714,2,   9.3169,2
  49NZ20191205,  I08N,    36,  1,     27,   1227,2,20191212,1332, -4.0020,  79.9974, 4630,    600.6,   8.4626,   8.4683,2,  34.8599,2,  34.8640,2,     72.7,2,     71.6,2,    49.22,2,    33.65,2,     0.01,2,     2.38,2,     0.02,2,    0.578,2,    0.309,2,    0.012,2,    0.139,2,   2258.5, 2,   2329.9,2,     47.0,2,  -999.00,9,     29.8,2,    453.7,2,    0.000,2,    0.000,2,   1.5160,1,   0.3420,2,   0.2060,2,   0.0430,2,    0.002,2,   99.743,2,   8.4683,2
  49NZ20191205,  I08N,    36,  1,     26,   1226,2,20191212,1332, -4.0020,  79.9974, 4630,    699.9,   7.9580,   7.9574,2,  34.8733,2,  34.8768,2,     63.9,2,     63.0,2,    58.27,2,    34.89,2,     0.00,2,     2.50,2,     0.05,2,    0.345,2,    0.187,2,    0.007,2,    0.066,2,   2273.4, 6,   2339.2,2,     45.4,2,  -999.00,9,     10.9,2,    454.2,2,    0.000,2,    0.000,2,   1.5380,1,-999.0000,9,-999.0000,9,-999.0000,9,    0.002,2,   99.770,2,   7.9574,2
  49NZ20191205,  I08N,    36,  1,     25,   1225,2,20191212,1332, -4.0020,  79.9974, 4630,    800.1,   7.2644,   7.2633,2,  34.8325,2,  34.8405,2,     64.8,2,     63.8,2,    68.18,2,    35.76,2,     0.01,2,     2.58,2,     0.05,2,    0.208,2,    0.115,2,    0.006,2,    0.069,2,   2283.3, 2,   2346.9,2,     41.8,2,  -999.00,9,     15.9,2,    435.8,2,    0.000,2,    0.000,2,   1.5650,1,   0.3370,2,   0.1900,2,   0.0340,2,    0.001,2,   99.792,2,   7.2633,2
  49NZ20191205,  I08N,    36,  1,     24,   1224,2,20191212,1332, -4.0020,  79.9974, 4630,    900.3,   7.0123,   7.0148,2,  34.8726,2,  34.8678,2,     60.4,2,     60.9,2,    74.21,2,    36.33,2,     0.00,2,     2.64,2,     0.04,2,    0.140,2,    0.076,2,    0.001,2,    0.045,2,   2294.5, 2,   2355.5,2,     42.0,2,  -999.00,9,     28.3,2,    445.0,2,    0.000,2,    0.000,2,   1.5950,1,-999.0000,9,-999.0000,9,-999.0000,9,    0.001,2,   99.804,2,   7.0148,2
  49NZ20191205,  I08N,    36,  1,     23,   1223,2,20191212,1332, -4.0020,  79.9974, 4630,   1001.0,   6.3682,   6.3680,2,  34.8250,2,  34.8272,2,     67.1,2,     66.4,2,    81.56,2,    36.60,2,     0.01,2,     2.66,2,     0.05,2,    0.095,2,    0.052,2,    0.007,2,     0.04,2,   2298.3, 2,   2360.0,2,     43.4,2,  -999.00,9,     25.6,2,    443.5,2,    0.000,2,    0.000,2,   1.5760,1,   0.3930,2,   0.2020,2,   0.0450,2,    0.002,2,   99.827,2,   6.3680,2
  49NZ20191205,  I08N,    36,  1,     22,   1222,2,20191212,1332, -4.0020,  79.9974, 4630,   1202.1,   5.3148,   5.3154,2,  34.8040,2,  34.8039,2,     76.5,2,     76.6,2,    94.13,2,    37.07,2,     0.00,2,     2.70,2,     0.04,2,    0.031,2,    0.016,2,    0.002,2,    0.006,2,   2308.2, 2,   2372.5,6,     43.2,2,  -999.00,9,     25.8,2,    458.8,2,    0.000,2,    0.000,2,   1.5910,1,-999.0000,9,-999.0000,9,-999.0000,9,    0.001,2,   99.846,2,   5.3154,2
  49NZ20191205,  I08N,    36,  1,     21,   1221,2,20191212,1332, -4.0020,  79.9974, 4630,   1399.0,   4.4024,   4.4028,2,  34.7954,2,  34.7957,2,     93.7,2,     93.7,2,   102.16,2,    36.79,2,     0.01,2,     2.66,2,     0.04,2,    0.019,2,    0.009,2,    0.007,2,    0.006,2,   2311.5, 2,   2380.0,2,     41.3,2,  -999.00,9,     26.8,2,    449.7,2,    0.000,2,    0.000,2,   1.5830,1,   0.4210,2,   0.2330,2,   0.0470,2,    0.001,2,   99.846,2,   4.4028,2
  49NZ20191205,  I08N,    36,  1,     20,   1220,2,20191212,1332, -4.0020,  79.9974, 4630,   1599.4,   3.7578,   3.7584,2,  34.7903,2,  34.7907,2,    104.7,2,    104.7,2,   109.49,2,    36.60,2,     0.01,2,     2.64,2,     0.03,2,    0.014,2,    0.005,2,    0.002,2,    0.012,2,   2315.2, 2,   2389.4,2,     37.3,2,  -999.00,9,      5.4,2,    471.8,2,    0.000,2,    0.000,2,   1.5910,1,-999.0000,9,-999.0000,9,-999.0000,9,    0.000,2,   99.857,2,   3.7584,2
  49NZ20191205,  I08N,    36,  1,     19,   1219,2,20191212,1332, -4.0020,  79.9974, 4630,   1800.4,   3.1932,   3.1930,2,  34.7779,2,  34.7783,2,    118.1,2,    118.1,2,   115.08,2,    36.14,2,     0.00,2,     2.59,2,     0.02,2,    0.015,2,    0.006,2,    0.001,2,     0.01,2,   2316.3, 2,   2396.7,2,     36.3,2,  -999.00,9,     -999,9,   -999.0,9,    0.000,2,    0.000,2,   1.5880,1,   0.3920,2,   0.1990,2,   0.0410,2,    0.000,2,   99.867,2,   3.1930,2
  49NZ20191205,  I08N,    36,  1,     18,   1218,2,20191212,1332, -4.0020,  79.9974, 4630,   1998.0,   2.7745,   2.7748,2,  34.7694,2,  34.7696,2,    128.6,2,    128.7,2,   120.48,2,    35.77,2,     0.00,2,     2.55,2,        0,2,    0.013,2,    0.004,2,    0.000,2,    0.005,2,   2313.9, 2,   2396.6,2,     38.8,2,  -999.00,9,     -999,9,   -999.0,9,    0.000,2,    0.000,2,   1.5730,1,-999.0000,9,-999.0000,9,-999.0000,9,    0.000,2,   99.857,2,   2.7748,2
  49NZ20191205,  I08N,    36,  1,     17,   1217,2,20191212,1332, -4.0020,  79.9974, 4630,   2199.8,   2.4826,   2.4828,2,  34.7575,2,  34.7576,2,    138.2,2,    138.5,2,   123.08,2,    35.35,2,     0.01,2,     2.50,2,     0.03,2,    0.013,2,    0.005,2,    0.007,2,     0.02,2,   2314.3, 2,   2399.7,2,     37.6,2,  -999.00,9,     -999,9,   -999.0,9,    0.000,2,    0.000,2,   1.5420,1,   0.4020,2,   0.2110,2,   0.0450,2,    0.000,2,   99.870,2,   2.4828,2
  49NZ20191205,  I08N,    36,  1,     16,   1216,2,20191212,1332, -4.0020,  79.9974, 4630,   2400.7,   2.1538,   2.1537,2,  34.7460,2,  34.7462,2,    147.9,2,    148.2,2,   125.71,2,    34.95,2,     0.00,2,     2.45,2,     0.03,2,    0.013,2,    0.006,2,    0.003,2,    0.003,2,   2311.3, 6,   2404.0,2,     40.9,2,  -999.00,9,     -999,9,   -999.0,9,    0.000,2,    0.000,2,   1.5240,1,-999.0000,9,-999.0000,9,-999.0000,9,    0.001,2,   99.874,2,   2.1537,2
  49NZ20191205,  I08N,    36,  1,     15,   1215,2,20191212,1332, -4.0020,  79.9974, 4630,   2600.3,   1.9800,   1.9800,2,  34.7401,2,  34.7396,2,    153.4,2,    153.5,2,   127.34,2,    34.75,2,     0.01,2,     2.43,2,     0.05,2,    0.014,2,    0.004,2,    0.001,2,    0.003,2,   2309.1, 2,   2406.7,2,     38.7,2,  -999.00,9,     -999,9,   -999.0,9,    0.000,2,    0.000,2,   1.5190,1,   0.3900,2,   0.1950,2,   0.0400,2,    0.000,2,   99.876,2,   1.9800,2
  49NZ20191205,  I08N,    36,  1,     14,   1214,2,20191212,1332, -4.0020,  79.9974, 4630,   2800.5,   1.8677,   1.8680,2,  34.7358,2,  34.7353,2,    157.4,2,    157.4,2,   129.00,2,    34.56,2,     0.01,2,     2.42,2,     0.04,2,    0.018,2,    0.008,2,    0.004,2,    0.015,2,   2312.1, 2,   2406.4,2,     39.8,2,  -999.00,9,     -999,9,   -999.0,9,    0.000,2,    0.000,2,   1.5080,1,-999.0000,9,-999.0000,9,-999.0000,9,   -0.001,2,   99.878,2,   1.8680,2
  49NZ20191205,  I08N,    36,  1,     13,   1213,2,20191212,1332, -4.0020,  79.9974, 4630,   3000.5,   1.7572,   1.7571,2,  34.7319,2,  34.7319,2,    159.9,2,    159.8,2,   131.79,2,    34.64,2,     0.02,2,     2.41,2,     0.05,2,    0.010,2,    0.005,2,    0.001,2,    0.019,2,   2310.3, 2,   2408.0,2,     34.7,2,  -999.00,9,     -999,9,   -999.0,9,    0.000,2,    0.000,2,   1.5030,1,   0.3760,2,   0.1890,2,   0.0420,2,    0.001,2,   99.882,2,   1.7571,2
  49NZ20191205,  I08N,    36,  1,     12,   1212,2,20191212,1332, -4.0020,  79.9974, 4630,   3250.3,   1.6218,   1.6217,2,  34.7272,2,  34.7270,2,    163.5,2,    163.7,2,   134.26,2,    34.57,2,     0.01,2,     2.40,2,     0.06,2,    0.017,2,    0.007,2,    0.001,2,    0.011,2,   2317.1, 3,   2412.0,6,     39.4,2,  -999.00,9,     -999,9,   -999.0,9,    0.000,2,    0.000,2,   1.4970,1,-999.0000,9,-999.0000,9,-999.0000,9,    0.000,2,   99.880,2,   1.6217,2
  49NZ20191205,  I08N,    36,  1,     11,   1211,2,20191212,1332, -4.0020,  79.9974, 4630,   3499.5,   1.5000,   1.5004,2,  34.7228,2,  34.7232,2,    166.9,2,    166.8,2,   136.70,2,    34.43,2,     0.02,2,     2.38,2,     0.06,2,    0.013,2,    0.005,2,    0.004,2,    0.024,2,   2312.4, 2,   2416.1,2,     37.5,2,  -999.00,9,     -999,9,   -999.0,9,    0.000,2,    0.000,2,   1.5080,1,   0.3790,2,   0.1910,2,   0.0410,2,    0.000,2,   99.897,2,   1.5004,2
  49NZ20191205,  I08N,    36,  1,     10,   1210,2,20191212,1332, -4.0020,  79.9974, 4630,   3750.6,   1.4282,   1.4281,2,  34.7201,2,  34.7201,2,    170.7,2,    170.7,2,   137.04,2,    34.31,2,     0.00,2,     2.37,2,     0.04,2,    0.013,2,    0.006,2,    0.002,2,    0.001,2,   2313.0, 2,   2418.3,2,     35.0,2,  -999.00,9,     -999,9,   -999.0,9,    0.000,2,    0.000,2,   1.4980,1,-999.0000,9,-999.0000,9,-999.0000,9,    0.000,2,   99.918,2,   1.4281,2
  49NZ20191205,  I08N,    36,  1,      9,   1209,2,20191212,1332, -4.0020,  79.9974, 4630,   3999.5,   1.3998,   1.4001,2,  34.7187,2,  34.7190,2,    174.1,2,    174.1,2,   136.33,2,    34.11,2,     0.01,2,     2.35,2,     0.02,2,    0.015,2,    0.007,2,    0.002,2,    0.019,2,   2309.0, 2,   2417.2,2,     28.0,4,  -999.00,9,     -999,9,   -999.0,9,    0.000,2,    0.000,2,   1.4760,1,   0.3840,2,   0.2030,2,   0.0450,2,   -0.001,2,   99.905,2,   1.4001,2
  49NZ20191205,  I08N,    36,  1,      8,  12103,2,20191212,1332, -4.0020,  79.9974, 4630,   4249.8,   1.3847,   1.3847,2,  34.7175,2,  34.7188,2,    177.6,2,    177.8,2,   135.15,2,    33.77,2,     0.01,2,     2.34,2,     0.03,2,    0.015,2,    0.007,2,    0.004,2,    0.011,2,   2305.1, 6,   2411.7,2,     33.4,2,  -999.00,9,     -999,9,   -999.0,9,    0.000,2,    0.000,2,   1.4710,1,-999.0000,9,-999.0000,9,-999.0000,9,    0.000,2,   99.924,2,   1.3847,2
  49NZ20191205,  I08N,    36,  1,      7,   1207,2,20191212,1332, -4.0020,  79.9974, 4630,   4499.5,   1.3821,   1.3820,2,  34.7166,2,  34.7172,2,    179.6,2,    179.8,2,   134.62,2,    33.79,2,     0.01,2,     2.33,2,     0.03,2,    0.016,2,    0.006,2,    0.002,2,    0.016,2,   2303.3, 2,   2409.7,2,     35.6,2,  -999.00,9,     -999,9,   -999.0,9,    0.000,2,    0.000,2,   1.4640,1,   0.3340,2,   0.1670,2,   0.0310,2,   -0.001,2,   99.929,2,   1.3820,2
  49NZ20191205,  I08N,    36,  1,      6,   1206,9,20191212,1332, -4.0020,  79.9974, 4630,   -999.0,-999.0000,-999.0000,9,-999.0000,9,-999.0000,9,   -999.0,9,   -999.0,9,  -999.00,9,  -999.00,9,  -999.00,9,  -999.00,9,     -999,9, -999.000,9, -999.000,9, -999.000,9,     -999,9,   -999.0, 9,   -999.0,9,   -999.0,9,  -999.00,9,     -999,9,   -999.0,9, -999.000,9, -999.000,9,-999.0000,9,-999.0000,9,-999.0000,9,-999.0000,9, -999.000,9, -999.000,9,-999.0000,9
  49NZ20191205,  I08N,    36,  1,      5,   1205,9,20191212,1332, -4.0020,  79.9974, 4630,   -999.0,-999.0000,-999.0000,9,-999.0000,9,-999.0000,9,   -999.0,9,   -999.0,9,  -999.00,9,  -999.00,9,  -999.00,9,  -999.00,9,     -999,9, -999.000,9, -999.000,9, -999.000,9,     -999,9,   -999.0, 9,   -999.0,9,   -999.0,9,  -999.00,9,     -999,9,   -999.0,9, -999.000,9, -999.000,9,-999.0000,9,-999.0000,9,-999.0000,9,-999.0000,9, -999.000,9, -999.000,9,-999.0000,9
  49NZ20191205,  I08N,    36,  1,      4,   1204,9,20191212,1332, -4.0020,  79.9974, 4630,   -999.0,-999.0000,-999.0000,9,-999.0000,9,-999.0000,9,   -999.0,9,   -999.0,9,  -999.00,9,  -999.00,9,  -999.00,9,  -999.00,9,     -999,9, -999.000,9, -999.000,9, -999.000,9,     -999,9,   -999.0, 9,   -999.0,9,   -999.0,9,  -999.00,9,     -999,9,   -999.0,9, -999.000,9, -999.000,9,-999.0000,9,-999.0000,9,-999.0000,9,-999.0000,9, -999.000,9, -999.000,9,-999.0000,9
  49NZ20191205,  I08N,    36,  1,      3,   1203,9,20191212,1332, -4.0020,  79.9974, 4630,   -999.0,-999.0000,-999.0000,9,-999.0000,9,-999.0000,9,   -999.0,9,   -999.0,9,  -999.00,9,  -999.00,9,  -999.00,9,  -999.00,9,     -999,9, -999.000,9, -999.000,9, -999.000,9,     -999,9,   -999.0, 9,   -999.0,9,   -999.0,9,  -999.00,9,     -999,9,   -999.0,9, -999.000,9, -999.000,9,-999.0000,9,-999.0000,9,-999.0000,9,-999.0000,9, -999.000,9, -999.000,9,-999.0000,9
  49NZ20191205,  I08N,    36,  1,      2,  12046,2,20191212,1332, -4.0020,  79.9974, 4630,     75.5,  27.2579,  27.3076,2,  34.5653,2,  34.5671,2,    189.1,2,    188.3,2,     2.79,2,     0.98,2,     0.04,2,     0.19,2,      0.1,2, -999.000,9, -999.000,9, -999.000,9,     -999,9,   1978.7, 2,   2271.5,2,     64.3,2,     0.47,2,     39.8,2,    285.5,2,    0.000,2,    0.000,2,   1.2290,1,   0.2940,2,   0.1480,2,   0.0240,2,    0.435,2,   98.409,2,  27.3076,2
  49NZ20191205,  I08N,    36,  1,      1,   1201,2,20191212,1332, -4.0020,  79.9974, 4630,   4686.3,   1.3990,   1.3991,2,  34.7167,2,  34.7173,2,    180.0,2,    180.4,2,   134.40,2,    33.86,2,     0.01,2,     2.32,2,     0.03,2,    0.017,2,    0.006,2,    0.005,2,    0.074,2,   2300.9, 2,   2410.6,2,     34.4,2,  -999.00,9,     -999,9,   -999.0,9,    0.000,2,    0.000,2,   1.4600,1,   0.3060,2,   0.1620,2,   0.0270,2,   -0.001,2,   99.931,2,   1.3991,2