BOTTLE,20210412PRINUNIVRMK
EXPOCODE,SECT_ID,STNNBR,CASTNO,SAMPNO,BTLNBR,BTLNBR_FLAG_W,DATE,TIME,LATITUDE,LONGITUDE,DEPTH,CTDPRS,CTDTMP,SBE35,SBE35_FLAG_W,CTDSAL,CTDSAL_FLAG_W,SALNTY,SALNTY_FLAG_W,CTDOXY,CTDOXY_FLAG_W,OXYGEN,OXYGEN_FLAG_W,SILCAT,SILCAT_FLAG_W,NITRAT,NITRAT_FLAG_W,NITRIT,NITRIT_FLAG_W,PHSPHT,PHSPHT_FLAG_W,NH4,NH4_FLAG_W,CFC-11,CFC-11_FLAG_W,CFC-12,CFC-12_FLAG_W,CFC113,CFC113_FLAG_W,SF6,SF6_FLAG_W,TCARBN,TCARBN_FLAG_W,ALKALI,ALKALI_FLAG_W,DOC,DOC_FLAG_W,CHLWELSH,CHLWELSH_FLAG_W,UREA,UREA_FLAG_W,IODATE,IODATE_FLAG_W,PAR,PAR_FLAG_W,PAR,PAR_FLAG_W,CDOM,CDOM_FLAG_W,CDOM300,CDOM300_FLAG_W,CDOM325,CDOM325_FLAG_W,CDOM443,CDOM443_FLAG_W,CTDFLUOR,CTDFLUOR_FLAG_W,CTDXMISS,CTDXMISS_FLAG_W,SBE35,SBE35_FLAG_W
,,,,,,,,,,,METERS,DBAR,ITS-90,,,PSS-78,,PSS-78,,UMOL/KG,,UMOL/KG,,UMOL/KG,,UMOL/KG,,UMOL/KG,,UMOL/KG,,UMOL/KG,,PMOL/KG,,PMOL/KG,,PMOL/KG,,FMOL/KG,,UMOL/KG,,UMOL/KG,,UMOL/KG,,UG/KG,,nMOL/L,,nMOL/L,,VOLTS,,VOLTS,,MG/M^3,,1/M,,1/M,,1/M,,MG/M^3,,%TRANS,,,
  49NZ20191205,  I08N,    62,  1,     36,   1236,2,20191220,0952,-16.9985,  80.0010, 5072,     10.3,  28.1886,  28.1882,2,  34.9207,2,  34.9200,2,    199.5,2,    198.8,2,     1.96,2,     0.04,2,     0.00,2,     0.10,2,     0.04,2,    1.449,2,    0.933,2,    0.127,2,    1.654,2,   1967.8, 2,   2292.8,2,   -999.0,9,     0.05,2,     27.5,2,    311.7,2,   60.998,2,   60.998,2,   1.0780,1,-999.0000,9,-999.0000,9,-999.0000,9,    0.043,2,   98.663,2,  28.1882,2
  49NZ20191205,  I08N,    62,  1,     35,   1235,2,20191220,0952,-16.9985,  80.0010, 5072,     50.3,  27.4715,  27.4705,2,  34.9385,2,  34.9356,2,    205.7,2,    205.7,2,     1.82,2,     0.02,2,     0.00,2,     0.11,2,     0.04,2,    1.467,2,    0.973,2,    0.141,2,    1.435,2,   1975.0, 2,   2291.0,2,   -999.0,9,     0.10,2,     29.9,2,    312.4,2,   15.247,2,   15.247,2,   1.0840,1,-999.0000,9,-999.0000,9,-999.0000,9,    0.123,2,   98.391,2,  27.4705,2
  49NZ20191205,  I08N,    62,  1,     34,   1234,2,20191220,0952,-16.9985,  80.0010, 5072,    100.0,  24.9467,  24.9466,2,  34.9334,2,  34.9375,2,    214.5,2,    214.1,2,     1.98,2,     0.05,2,     0.01,2,     0.07,2,     0.04,2,    1.674,2,    1.062,2,    0.143,2,    1.786,2,   1983.3, 2,   2293.6,2,   -999.0,9,     0.21,2,     31.5,2,    299.3,2,    2.672,2,    2.672,2,   1.0700,1,-999.0000,9,-999.0000,9,-999.0000,9,    0.202,2,   98.720,2,  24.9466,2
  49NZ20191205,  I08N,    62,  1,     33,   1233,2,20191220,0952,-16.9985,  80.0010, 5072,    149.6,  22.9561,  22.9557,2,  35.0956,2,  35.1018,2,    184.2,2,    183.0,2,     4.43,2,     2.58,2,     0.15,2,     0.29,2,     0.05,2,    1.759,2,    1.084,2,    0.120,2,    1.694,2,   2034.7, 2,   2305.3,2,   -999.0,9,     0.23,2,     31.1,2,    331.0,2,    0.168,2,    0.168,2,   1.2210,1,-999.0000,9,-999.0000,9,-999.0000,9,    0.237,2,   99.068,2,  22.9557,2
  49NZ20191205,  I08N,    62,  1,     32,   1232,2,20191220,0952,-16.9985,  80.0010, 5072,    199.6,  20.1198,  20.1195,2,  35.3147,2,  35.3632,2,    155.3,2,    159.4,2,     7.79,2,     7.16,2,     0.01,2,     0.54,2,     0.06,2,    1.883,2,    1.132,2,    0.024,2,    1.565,2,   2092.0, 2,   2322.5,2,   -999.0,9,     0.04,2,     29.8,2,    420.8,2,    0.000,2,    0.000,2,   1.3040,1,-999.0000,9,-999.0000,9,-999.0000,9,    0.065,2,   99.483,2,  20.1195,2
  49NZ20191205,  I08N,    62,  1,     31,   1231,2,20191220,0952,-16.9985,  80.0010, 5072,    249.3,  18.9029,  18.9043,2,  35.6963,2,  35.6935,2,    185.7,2,    185.7,2,     4.59,2,     4.09,2,     0.01,2,     0.36,2,     0.06,2,    1.967,2,    1.204,2,    0.024,2,    1.703,2,   2101.4, 2,   2342.8,2,   -999.0,9,     0.00,2,     26.7,2,    419.7,2,    0.000,2,    0.000,2,   1.2410,1,-999.0000,9,-999.0000,9,-999.0000,9,   -0.004,2,   99.692,2,  18.9043,2
  49NZ20191205,  I08N,    62,  1,     30,   1230,2,20191220,0952,-16.9985,  80.0010, 5072,    328.8,  13.7447,  13.7466,2,  35.0857,2,  35.0877,2,    139.5,2,    142.5,2,    19.42,2,    16.37,2,     0.00,2,     1.17,2,     0.05,2,    1.959,2,    1.146,2,    0.023,2,    1.204,2,   2166.6, 2,   2320.6,2,   -999.0,9,  -999.00,9,     22.9,2,    444.2,2,    0.000,2,    0.000,2,   1.3620,1,-999.0000,9,-999.0000,9,-999.0000,9,   -0.003,2,   99.705,2,  13.7466,2
  49NZ20191205,  I08N,    62,  1,     29,   1229,2,20191220,0952,-16.9985,  80.0010, 5072,    429.3,  11.5845,  11.5864,2,  35.0012,2,  34.9843,2,    220.0,2,    220.2,2,     4.88,2,    12.23,2,     0.00,2,     0.89,2,     0.05,2,    3.059,2,    1.732,2,    0.087,2,    1.799,2,   2132.9, 2,   2309.5,2,   -999.0,9,  -999.00,9,     47.9,2,    436.3,2,    0.000,2,    0.000,2,   1.1940,1,-999.0000,9,-999.0000,9,-999.0000,9,   -0.002,2,   99.802,2,  11.5864,2
  49NZ20191205,  I08N,    62,  1,     28,   1228,2,20191220,0952,-16.9985,  80.0010, 5072,    530.1,   9.6386,   9.6381,2,  34.7265,2,  34.7207,2,    228.7,2,    228.3,2,     5.34,2,    16.52,2,     0.00,2,     1.14,2,     0.04,2,    3.380,2,    1.908,2,    0.113,2,    1.673,2,   2143.8, 2,   2297.1,2,   -999.0,9,  -999.00,9,       24,2,    435.5,2,    0.000,2,    0.000,2,   1.1610,1,-999.0000,9,-999.0000,9,-999.0000,9,   -0.001,2,   99.869,2,   9.6381,2
  49NZ20191205,  I08N,    62,  1,     27,   1227,2,20191220,0952,-16.9985,  80.0010, 5072,    631.1,   7.7971,   7.7969,2,  34.5546,2,  34.5513,2,    193.3,2,    191.6,2,    17.74,2,    24.45,2,     0.01,2,     1.66,2,     0.04,2,    2.502,2,    1.323,2,    0.070,2,    0.789,2,   2174.2, 2,   2297.0,2,   -999.0,9,  -999.00,9,     24.5,2,    445.7,2,    0.000,2,    0.000,2,   1.2310,1,-999.0000,9,-999.0000,9,-999.0000,9,   -0.001,2,   99.880,2,   7.7969,2
  49NZ20191205,  I08N,    62,  1,     26,   1226,2,20191220,0952,-16.9985,  80.0010, 5072,    729.0,   6.4923,   6.4910,2,  34.5598,2,  34.5611,2,    141.8,2,    140.6,2,    43.30,2,    31.24,2,     0.01,2,     2.17,2,     0.07,2,    0.924,2,    0.481,2,    0.025,2,    0.187,2,   2226.8, 6,   2317.6,2,   -999.0,9,  -999.00,9,     27.1,2,    445.9,2,    0.000,2,    0.000,2,   1.3380,1,-999.0000,9,-999.0000,9,-999.0000,9,    0.000,2,   99.848,2,   6.4910,2
  49NZ20191205,  I08N,    62,  1,     25,   1225,2,20191220,0952,-16.9985,  80.0010, 5072,    830.5,   6.0417,   6.0415,2,  34.6471,2,  34.6523,2,    105.9,2,    103.8,2,    65.88,2,    34.70,2,     0.01,2,     2.45,2,     0.07,2,    0.271,2,    0.151,2,    0.007,2,    0.047,2,   2263.9, 2,   2341.6,2,   -999.0,9,  -999.00,9,       41,2,    456.9,2,    0.000,2,    0.000,2,   1.4420,1,-999.0000,9,-999.0000,9,-999.0000,9,   -0.001,2,   99.842,2,   6.0415,2
  49NZ20191205,  I08N,    62,  1,     24,   1224,2,20191220,0952,-16.9985,  80.0010, 5072,    930.6,   5.6071,   5.6068,2,  34.6805,2,  34.6799,2,     95.9,2,     95.9,2,    78.09,2,    35.90,2,     0.00,2,     2.55,2,     0.06,2,    0.124,2,    0.067,2,    0.006,2,    0.006,2,   2283.9, 2,   2354.1,2,   -999.0,9,  -999.00,9,     32.8,2,    450.7,2,    0.000,2,    0.000,2,   1.4760,1,-999.0000,9,-999.0000,9,-999.0000,9,   -0.001,2,   99.848,2,   5.6068,2
  49NZ20191205,  I08N,    62,  1,     23,   1223,2,20191220,0952,-16.9985,  80.0010, 5072,   1069.6,   5.0262,   5.0269,2,  34.6884,2,  34.6882,2,     97.9,2,     97.6,2,    87.21,2,    36.19,2,     0.00,2,     2.59,2,     0.06,2,    0.061,2,    0.033,2,    0.002,2,    0.003,2,   2290.3, 2,   2363.9,2,   -999.0,9,  -999.00,9,       29,2,    457.7,2,    0.000,2,    0.000,2,   1.4960,1,-999.0000,9,-999.0000,9,-999.0000,9,    0.000,2,   99.865,2,   5.0269,2
  49NZ20191205,  I08N,    62,  1,     22,   1222,2,20191220,0952,-16.9985,  80.0010, 5072,   1271.0,   4.3295,   4.3293,2,  34.6921,2,  34.6920,2,    107.6,2,    108.0,2,    94.35,2,    36.13,2,     0.00,2,     2.58,2,     0.06,2,    0.024,2,    0.011,2,    0.000,2,    0.004,2,   2294.4, 2,   2371.0,6,   -999.0,9,  -999.00,9,     21.4,2,    474.4,2,    0.000,2,    0.000,2,   1.4900,1,-999.0000,9,-999.0000,9,-999.0000,9,   -0.001,2,   99.873,2,   4.3293,2
  49NZ20191205,  I08N,    62,  1,     21,   1221,2,20191220,0952,-16.9985,  80.0010, 5072,   1469.0,   3.7034,   3.7028,2,  34.7013,2,  34.7011,2,    119.7,2,    119.3,2,    99.04,2,    35.98,2,     0.00,2,     2.55,2,     0.06,2,    0.014,2,    0.005,2,    0.002,2,        0,2,   2296.6, 2,   2374.2,2,   -999.0,9,  -999.00,9,     21.3,2,    467.1,2,    0.000,2,    0.000,2,   1.4870,1,-999.0000,9,-999.0000,9,-999.0000,9,    0.000,2,   99.878,2,   3.7028,2
  49NZ20191205,  I08N,    62,  1,     20,   1220,2,20191220,0952,-16.9985,  80.0010, 5072,   1669.9,   3.1737,   3.1750,2,  34.7150,2,  34.7159,2,    129.0,2,    129.0,2,   106.04,2,    35.67,2,     0.00,2,     2.52,2,     0.06,2,    0.008,2,    0.003,2,    0.001,2,    0.003,2,   2302.5, 3,   2382.1,2,   -999.0,9,  -999.00,9,     38.2,2,    480.7,2,    0.000,2,    0.000,2,   1.4780,1,-999.0000,9,-999.0000,9,-999.0000,9,    0.000,2,   99.867,2,   3.1750,2
  49NZ20191205,  I08N,    62,  1,     19,   1219,2,20191220,0952,-16.9985,  80.0010, 5072,   1869.3,   2.7598,   2.7604,2,  34.7243,2,  34.7251,2,    140.6,2,    140.6,2,   109.72,2,    35.06,2,     0.00,2,     2.47,2,     0.06,2,    0.008,2,    0.003,2,    0.000,2,    0.001,2,   2298.1, 2,   2386.4,2,   -999.0,9,  -999.00,9,     -999,9,   -999.0,9,    0.000,2,    0.000,2,   1.4690,1,-999.0000,9,-999.0000,9,-999.0000,9,    0.000,2,   99.880,2,   2.7604,2
  49NZ20191205,  I08N,    62,  1,     18,   1218,2,20191220,0952,-16.9985,  80.0010, 5072,   2070.1,   2.4466,   2.4465,2,  34.7292,2,  34.7298,2,    149.2,2,    149.2,2,   113.25,2,    34.70,2,     0.00,2,     2.43,2,     0.07,2,    0.012,2,    0.003,2,    0.003,2,    0.005,2,   2298.2, 2,   2389.9,2,   -999.0,9,  -999.00,9,     -999,9,   -999.0,9,    0.000,2,    0.000,2,   1.4660,1,-999.0000,9,-999.0000,9,-999.0000,9,   -0.001,2,   99.882,2,   2.4465,2
  49NZ20191205,  I08N,    62,  1,     17,   1217,2,20191220,0952,-16.9985,  80.0010, 5072,   2269.4,   2.2094,   2.2099,2,  34.7294,2,  34.7290,2,    157.5,2,    157.4,2,   114.82,2,    34.34,2,     0.00,2,     2.39,2,     0.06,2,    0.011,2,    0.003,2,    0.003,2,    0.002,2,   2293.1, 2,   2388.7,2,   -999.0,9,  -999.00,9,     -999,9,   -999.0,9,    0.000,2,    0.000,2,   1.4450,1,-999.0000,9,-999.0000,9,-999.0000,9,    0.000,2,   99.890,2,   2.2099,2
  49NZ20191205,  I08N,    62,  1,     16,   1216,2,20191220,0952,-16.9985,  80.0010, 5072,   2470.5,   1.9988,   1.9986,2,  34.7283,2,  34.7281,2,    165.2,2,    165.2,2,   116.15,2,    33.90,2,     0.00,2,     2.35,2,     0.05,2,    0.009,2,    0.002,2,    0.000,2,        0,2,   2292.0, 6,   2390.3,2,   -999.0,9,  -999.00,9,     -999,9,   -999.0,9,    0.000,2,    0.000,2,   1.4270,1,-999.0000,9,-999.0000,9,-999.0000,9,    0.000,2,   99.897,2,   1.9986,2
  49NZ20191205,  I08N,    62,  1,     15,   1215,2,20191220,0952,-16.9985,  80.0010, 5072,   2670.2,   1.8504,   1.8507,2,  34.7274,2,  34.7266,2,    170.7,2,    170.6,2,   117.03,2,    33.48,2,     0.00,2,     2.32,2,     0.07,2,    0.013,2,    0.004,2,    0.000,2,    0.001,2,   2288.9, 2,   2389.1,2,   -999.0,9,  -999.00,9,     -999,9,   -999.0,9,    0.000,2,    0.000,2,   1.4190,1,-999.0000,9,-999.0000,9,-999.0000,9,   -0.001,2,   99.892,2,   1.8507,2
  49NZ20191205,  I08N,    62,  1,     14,   1214,2,20191220,0952,-16.9985,  80.0010, 5072,   2870.8,   1.7343,   1.7344,2,  34.7267,2,  34.7262,2,    174.4,2,    174.3,2,   118.52,2,    33.31,2,     0.00,2,     2.30,2,     0.07,2,    0.011,2,    0.003,2,    0.001,2,    0.005,2,   2289.9, 2,   2392.4,2,   -999.0,9,  -999.00,9,     -999,9,   -999.0,9,    0.000,2,    0.000,2,   1.4130,1,-999.0000,9,-999.0000,9,-999.0000,9,    0.000,2,   99.895,2,   1.7344,2
  49NZ20191205,  I08N,    62,  1,     13,   1213,2,20191220,0952,-16.9985,  80.0010, 5072,   3081.6,   1.6279,   1.6277,2,  34.7256,2,  34.7263,2,    175.4,2,    175.3,2,   122.69,2,    33.57,2,     0.00,2,     2.31,2,     0.06,2,    0.012,2,    0.004,2,    0.001,2,    0.001,2,   2293.3, 2,   2395.3,2,   -999.0,9,  -999.00,9,     -999,9,   -999.0,9,    0.000,2,    0.000,2,   1.4030,1,-999.0000,9,-999.0000,9,-999.0000,9,    0.000,2,   99.897,2,   1.6277,2
  49NZ20191205,  I08N,    62,  1,     12,   1212,2,20191220,0952,-16.9985,  80.0010, 5072,   3330.3,   1.5292,   1.5295,2,  34.7238,2,  34.7245,2,    177.2,2,    177.1,2,   125.76,2,    33.78,2,     0.01,2,     2.32,2,     0.06,2,    0.010,2,    0.003,2,    0.001,2,    0.014,2,   2293.6, 2,   2401.2,6,   -999.0,9,  -999.00,9,     -999,9,   -999.0,9,    0.000,2,    0.000,2,   1.4120,1,-999.0000,9,-999.0000,9,-999.0000,9,    0.000,2,   99.897,2,   1.5295,2
  49NZ20191205,  I08N,    62,  1,     11,   1211,2,20191220,0952,-16.9985,  80.0010, 5072,   3580.2,   1.4422,   1.4421,2,  34.7220,2,  34.7226,2,    181.3,2,    181.1,2,   126.49,2,    33.46,2,     0.00,2,     2.29,2,     0.05,2,    0.012,2,    0.003,2,    0.002,2,    0.001,2,   2293.3, 2,   2400.2,2,   -999.0,9,  -999.00,9,     -999,9,   -999.0,9,    0.000,2,    0.000,2,   1.4030,1,-999.0000,9,-999.0000,9,-999.0000,9,    0.000,2,   99.899,2,   1.4421,2
  49NZ20191205,  I08N,    62,  1,     10,   1210,2,20191220,0952,-16.9985,  80.0010, 5072,   3829.9,   1.3910,   1.3909,2,  34.7200,2,  34.7204,2,    183.2,2,    183.0,2,   128.00,2,    33.41,2,     0.01,2,     2.30,2,     0.05,2,    0.012,2,    0.003,2,    0.001,2,    0.008,2,   2293.0, 2,   2402.8,2,   -999.0,9,  -999.00,9,     -999,9,   -999.0,9,    0.000,2,    0.000,2,   1.3990,1,-999.0000,9,-999.0000,9,-999.0000,9,    0.000,2,   99.911,2,   1.3909,2
  49NZ20191205,  I08N,    62,  1,      9,   1209,2,20191220,0952,-16.9985,  80.0010, 5072,   4079.4,   1.3776,   1.3777,2,  34.7187,2,  34.7194,2,    183.2,2,    183.1,2,   129.86,2,    33.59,2,     0.00,2,     2.30,2,     0.05,2,    0.013,2,    0.003,2,    0.000,2,    0.002,2,   2295.5, 2,   2403.1,2,   -999.0,9,  -999.00,9,     -999,9,   -999.0,9,    0.000,2,    0.000,2,   1.4150,1,-999.0000,9,-999.0000,9,-999.0000,9,    0.000,2,   99.899,2,   1.3777,2
  49NZ20191205,  I08N,    62,  1,      8,  12103,2,20191220,0952,-16.9985,  80.0010, 5072,   4329.3,   1.3824,   1.3825,2,  34.7178,2,  34.7185,2,    182.8,2,    182.7,2,   131.51,2,    33.74,2,     0.00,2,     2.31,2,     0.05,2,    0.012,2,    0.004,2,    0.000,2,    0.002,2,   2297.4, 6,   2406.7,2,   -999.0,9,  -999.00,9,     -999,9,   -999.0,9,    0.000,2,    0.000,2,   1.4040,1,-999.0000,9,-999.0000,9,-999.0000,9,    0.000,2,   99.895,2,   1.3825,2
  49NZ20191205,  I08N,    62,  1,      7,   1207,2,20191220,0952,-16.9985,  80.0010, 5072,   4580.3,   1.3991,   1.3991,2,  34.7173,2,  34.7178,2,    182.5,2,    182.5,2,   132.72,2,    33.64,2,     0.00,2,     2.31,2,     0.06,2,    0.014,2,    0.004,2,    0.001,2,        0,2,   2298.0, 2,   2409.4,2,   -999.0,9,  -999.00,9,     -999,9,   -999.0,9,    0.000,2,    0.000,2,   1.4220,1,-999.0000,9,-999.0000,9,-999.0000,9,    0.000,2,   99.882,2,   1.3991,2
  49NZ20191205,  I08N,    62,  1,      6,   1206,2,20191220,0952,-16.9985,  80.0010, 5072,   4829.9,   1.4238,   1.4238,2,  34.7171,2,  34.7174,2,    182.3,2,    182.3,2,   132.79,2,    33.71,2,     0.00,2,     2.31,2,     0.06,2,    0.010,2,    0.004,2,    0.000,2,    0.014,2,   2299.1, 2,   2408.2,6,   -999.0,9,  -999.00,9,     -999,9,   -999.0,9,    0.000,2,    0.000,2,   1.4290,1,-999.0000,9,-999.0000,9,-999.0000,9,    0.000,2,   99.873,2,   1.4238,2
  49NZ20191205,  I08N,    62,  1,      2,  12046,2,20191220,0952,-16.9985,  80.0010, 5072,    145.2,  23.1855,  23.1890,2,  35.0695,2,  35.0749,2,    189.5,2,    189.6,2,     3.73,2,     1.44,2,     0.10,2,     0.22,2,     0.06,2, -999.000,9, -999.000,9, -999.000,9,     -999,9,   2021.9, 2,   2304.7,2,   -999.0,9,     0.27,2,     27.5,2,    304.6,2,    0.257,2,    0.257,2,   1.2210,1,-999.0000,9,-999.0000,9,-999.0000,9,    0.319,2,   98.954,2,  23.1890,2
  49NZ20191205,  I08N,    62,  1,      1,   1201,2,20191220,0952,-16.9985,  80.0010, 5072,   5142.3,   1.4491,   1.4492,2,  34.7169,2,  34.7172,2,    183.2,2,    183.2,2,   132.07,2,    33.65,2,     0.00,2,     2.30,2,     0.07,2,    0.012,2,    0.003,2,    0.002,2,    0.004,2,   2297.2, 2,   2408.8,2,   -999.0,9,  -999.00,9,     -999,9,   -999.0,9,    0.000,2,    0.000,2,   1.4160,1,-999.0000,9,-999.0000,9,-999.0000,9,    0.000,2,   99.871,2,   1.4492,2