BOTTLE,20210412PRINUNIVRMK
EXPOCODE,SECT_ID,STNNBR,CASTNO,SAMPNO,BTLNBR,BTLNBR_FLAG_W,DATE,TIME,LATITUDE,LONGITUDE,DEPTH,CTDPRS,CTDTMP,SBE35,SBE35_FLAG_W,CTDSAL,CTDSAL_FLAG_W,SALNTY,SALNTY_FLAG_W,CTDOXY,CTDOXY_FLAG_W,OXYGEN,OXYGEN_FLAG_W,SILCAT,SILCAT_FLAG_W,NITRAT,NITRAT_FLAG_W,NITRIT,NITRIT_FLAG_W,PHSPHT,PHSPHT_FLAG_W,NH4,NH4_FLAG_W,CFC-11,CFC-11_FLAG_W,CFC-12,CFC-12_FLAG_W,CFC113,CFC113_FLAG_W,SF6,SF6_FLAG_W,TCARBN,TCARBN_FLAG_W,ALKALI,ALKALI_FLAG_W,DOC,DOC_FLAG_W,CHLWELSH,CHLWELSH_FLAG_W,UREA,UREA_FLAG_W,IODATE,IODATE_FLAG_W,PAR,PAR_FLAG_W,PAR,PAR_FLAG_W,CDOM,CDOM_FLAG_W,CDOM300,CDOM300_FLAG_W,CDOM325,CDOM325_FLAG_W,CDOM443,CDOM443_FLAG_W,CTDFLUOR,CTDFLUOR_FLAG_W,CTDXMISS,CTDXMISS_FLAG_W,SBE35,SBE35_FLAG_W
,,,,,,,,,,,METERS,DBAR,ITS-90,,,PSS-78,,PSS-78,,UMOL/KG,,UMOL/KG,,UMOL/KG,,UMOL/KG,,UMOL/KG,,UMOL/KG,,UMOL/KG,,PMOL/KG,,PMOL/KG,,PMOL/KG,,FMOL/KG,,UMOL/KG,,UMOL/KG,,UMOL/KG,,UG/KG,,nMOL/L,,nMOL/L,,VOLTS,,VOLTS,,MG/M^3,,1/M,,1/M,,1/M,,MG/M^3,,%TRANS,,,
  49NZ20191205,  I08N,    56,  1,     36,   1236,2,20191218,2144,-13.9983,  80.0025, 5024,      9.9,  28.2928,  28.2932,2,  34.9733,2,  34.9720,2,    199.0,2,    198.8,2,     1.90,2,     0.06,2,     0.01,2,     0.10,2,     0.08,2,    1.449,2,    0.926,2,    0.126,2,    1.414,2,   1963.1, 2,   2293.1,2,     73.1,2,     0.06,2,     -999,9,   -999.0,9,    2.638,2,    2.638,2,   1.0810,1,   0.1510,2,   0.0710,2,   0.0100,2,    0.043,2,   98.870,2,  28.2932,2
  49NZ20191205,  I08N,    56,  1,     35,   1235,2,20191218,2144,-13.9983,  80.0025, 5024,     50.1,  28.2815,  28.2805,2,  34.9719,2,  34.9718,2,    198.8,2,    199.1,2,     1.88,2,     0.02,2,     0.01,2,     0.10,2,     0.09,2,    1.451,2,    0.927,2,    0.124,2,    1.529,2,   1964.5, 2,   2291.8,2,     71.7,2,     0.07,2,     -999,9,   -999.0,9,    0.111,2,    0.111,2,   1.0760,1,   0.1580,2,   0.0820,2,   0.0090,2,    0.059,2,   98.893,2,  28.2805,2
  49NZ20191205,  I08N,    56,  1,     34,   1234,2,20191218,2144,-13.9983,  80.0025, 5024,    100.6,  25.1689,  25.1661,2,  34.8609,2,  34.8636,2,    210.6,2,    210.9,2,     2.06,2,     0.01,2,     0.01,2,     0.09,2,     0.09,2,    1.655,2,    1.044,2,    0.134,2,     1.64,2,   1975.0, 2,   2290.3,2,     75.2,2,     0.20,2,     -999,9,   -999.0,9,    0.000,2,    0.000,2,   1.0850,1,   0.2350,2,   0.1240,2,   0.0150,2,    0.191,2,   98.695,2,  25.1661,2
  49NZ20191205,  I08N,    56,  1,     33,   1233,2,20191218,2144,-13.9983,  80.0025, 5024,    150.8,  21.7363,  21.7322,2,  35.3657,2,  35.3680,2,    181.6,2,    181.1,2,     4.18,2,     2.95,2,     0.17,2,     0.31,2,     0.08,2,    1.187,2,    0.729,2,    0.076,2,    1.058,2,   2056.4, 2,   2320.6,2,     66.5,2,     0.18,2,     -999,9,   -999.0,9,    0.000,2,    0.000,2,   1.2480,1,   0.2550,2,   0.1480,2,   0.0240,2,    0.185,2,   99.207,2,  21.7322,2
  49NZ20191205,  I08N,    56,  1,     32,   1232,2,20191218,2144,-13.9983,  80.0025, 5024,    200.1,  19.5425,  19.5405,2,  35.5299,2,  35.5215,2,    170.7,2,    170.3,2,     6.84,2,     5.95,2,     0.02,2,     0.47,2,     0.06,2,    1.971,2,    1.219,2,    0.028,2,    1.533,2,   2091.6, 2,   2332.4,2,     58.5,2,     0.02,2,     -999,9,   -999.0,9,    0.000,2,    0.000,2,   1.2870,1,   0.2300,2,   0.1350,2,   0.0230,2,    0.017,2,   99.587,2,  19.5405,2
  49NZ20191205,  I08N,    56,  1,     31,   1231,2,20191218,2144,-13.9983,  80.0025, 5024,    249.9,  17.2408,  17.2394,2,  35.5303,2,  35.5182,2,    171.7,2,    171.4,2,     8.69,2,     7.79,2,     0.01,2,     0.61,2,     0.06,2,    2.078,2,    1.283,2,    0.020,2,    1.542,2,   2116.4, 2,   2339.0,2,     56.2,2,     0.00,2,     -999,9,   -999.0,9,    0.000,2,    0.000,2,   1.2960,1,-999.0000,9,-999.0000,9,-999.0000,9,   -0.005,2,   99.724,2,  17.2394,2
  49NZ20191205,  I08N,    56,  1,     30,   1230,2,20191218,2144,-13.9983,  80.0025, 5024,    330.1,  13.5491,  13.5505,2,  35.2272,2,  35.2048,2,    187.4,2,    185.3,2,     9.66,2,    11.50,2,     0.01,2,     0.86,2,     0.06,2,    2.452,2,    1.479,2,    0.047,2,    1.554,2,   2137.3, 2,   2321.4,2,     53.9,2,  -999.00,9,     -999,9,   -999.0,9,    0.000,2,    0.000,2,   1.2790,1,   0.2240,2,   0.1240,2,   0.0200,2,   -0.003,2,   99.770,2,  13.5505,2
  49NZ20191205,  I08N,    56,  1,     29,   1229,2,20191218,2144,-13.9983,  80.0025, 5024,    429.7,  10.4625,  10.4624,2,  34.8458,2,  34.8406,2,    211.7,2,    213.0,2,     7.36,2,    15.63,2,     0.01,2,     1.10,2,     0.05,2,    3.113,2,    1.804,2,    0.098,2,    1.546,2,   2141.3, 2,   2301.5,2,     51.0,2,  -999.00,9,     -999,9,   -999.0,9,    0.000,2,    0.000,2,   1.1970,1,   0.2590,2,   0.1550,2,   0.0350,2,   -0.001,2,   99.795,2,  10.4624,2
  49NZ20191205,  I08N,    56,  1,     28,   1228,2,20191218,2144,-13.9983,  80.0025, 5024,    530.1,   9.1772,   9.1777,2,  34.7093,2,  34.7093,2,    160.3,2,    159.2,2,    21.01,2,    24.02,2,     0.01,2,     1.64,2,     0.06,2,    2.318,2,    1.285,2,    0.062,2,    0.784,2,   2180.3, 2,   2304.5,2,     47.8,2,  -999.00,9,     -999,9,   -999.0,9,    0.000,2,    0.000,2,   1.2970,1,   0.2660,2,   0.1470,2,   0.0300,2,    0.000,2,   99.787,2,   9.1777,2
  49NZ20191205,  I08N,    56,  1,     27,   1227,2,20191218,2144,-13.9983,  80.0025, 5024,    630.5,   7.9918,   7.9916,2,  34.6527,2,  34.6532,2,    130.2,2,    129.4,2,    35.17,2,    29.28,2,     0.01,2,     2.03,2,     0.05,2,    1.330,2,    0.708,2,    0.033,2,    0.296,2,   2211.9, 2,   2312.2,2,     44.9,2,  -999.00,9,     -999,9,   -999.0,9,    0.000,2,    0.000,2,   1.3590,1,   0.2650,2,   0.1470,2,   0.0250,2,    0.000,2,   99.800,2,   7.9916,2
  49NZ20191205,  I08N,    56,  1,     26,   1226,2,20191218,2144,-13.9983,  80.0025, 5024,    730.4,   7.0962,   7.0966,2,  34.6852,2,  34.6867,2,    100.8,2,     99.6,2,    55.32,2,    33.37,2,     0.00,2,     2.36,2,     0.06,2,    0.540,2,    0.282,2,    0.012,2,    0.115,2,   2249.0, 6,   2330.4,2,     46.9,2,  -999.00,9,     -999,9,   -999.0,9,    0.000,2,    0.000,2,   1.4370,1,-999.0000,9,-999.0000,9,-999.0000,9,    0.001,2,   99.814,2,   7.0966,2
  49NZ20191205,  I08N,    56,  1,     25,   1225,2,20191218,2144,-13.9983,  80.0025, 5024,    830.8,   6.5583,   6.5580,2,  34.7037,2,  34.7036,2,     89.3,2,     89.1,2,    67.40,2,    34.89,2,     0.00,2,     2.48,2,     0.07,2,    0.286,2,    0.151,2,    0.008,2,    0.059,2,   2265.9, 2,   2342.1,2,     42.6,2,  -999.00,9,     -999,9,   -999.0,9,    0.000,2,    0.000,2,   1.4800,1,   0.3150,2,   0.1640,2,   0.0290,2,    0.000,2,   99.819,2,   6.5580,2
  49NZ20191205,  I08N,    56,  1,     24,   1224,2,20191218,2144,-13.9983,  80.0025, 5024,    928.5,   6.0459,   6.0459,2,  34.7048,2,  34.7047,2,     86.5,2,     86.3,2,    76.88,2,    35.81,2,     0.01,2,     2.55,2,     0.06,2,    0.161,2,    0.085,2,    0.015,2,    0.003,2,   2279.8, 2,   2353.4,2,     43.6,2,  -999.00,9,     -999,9,   -999.0,9,    0.000,2,    0.000,2,   1.4960,1,-999.0000,9,-999.0000,9,-999.0000,9,    0.000,2,   99.831,2,   6.0459,2
  49NZ20191205,  I08N,    56,  1,     23,   1223,2,20191218,2144,-13.9983,  80.0025, 5024,   1069.5,   5.2590,   5.2600,2,  34.6890,2,  34.6891,2,     88.9,2,     89.0,2,    89.85,2,    36.45,2,     0.01,2,     2.62,2,     0.05,2,    0.071,2,    0.036,2,    0.003,2,    0.002,2,   2296.5, 2,   2364.9,2,     43.2,2,  -999.00,9,     -999,9,   -999.0,9,    0.000,2,    0.000,2,   1.5250,1,   0.3320,2,   0.1730,2,   0.0310,2,   -0.001,2,   99.840,2,   5.2600,2
  49NZ20191205,  I08N,    56,  1,     22,   1222,2,20191218,2144,-13.9983,  80.0025, 5024,   1269.8,   4.5411,   4.5397,2,  34.6902,2,  34.6907,2,     98.0,2,     98.0,2,    97.32,2,    36.46,2,     0.01,2,     2.61,2,     0.04,2,    0.033,2,    0.017,2,    0.003,2,        0,2,   2299.1, 2,   2373.4,6,     36.0,2,  -999.00,9,     -999,9,   -999.0,9,    0.000,2,    0.000,2,   1.5160,1,-999.0000,9,-999.0000,9,-999.0000,9,    0.000,2,   99.855,2,   4.5397,2
  49NZ20191205,  I08N,    56,  1,     21,   1221,2,20191218,2144,-13.9983,  80.0025, 5024,   1469.5,   3.8282,   3.8276,2,  34.6955,2,  34.6960,2,    110.4,2,    110.4,2,   103.66,2,    36.33,2,     0.01,2,     2.60,2,     0.04,2,    0.014,2,    0.005,2,    0.001,2,    0.004,2,   2302.1, 2,   2378.2,2,     33.2,2,  -999.00,9,     -999,9,   -999.0,9,    0.000,2,    0.000,2,   1.5150,1,   0.3220,2,   0.1640,2,   0.0290,2,   -0.001,2,   99.869,2,   3.8276,2
  49NZ20191205,  I08N,    56,  1,     20,   1220,2,20191218,2144,-13.9983,  80.0025, 5024,   1670.0,   3.2154,   3.2158,2,  34.7164,2,  34.7165,2,    124.8,2,    125.0,2,   108.01,2,    35.73,2,     0.01,2,     2.54,2,     0.03,2,    0.010,2,    0.005,2,    0.001,2,        0,2,   2300.4, 2,   2382.4,2,     33.8,2,  -999.00,9,     -999,9,   -999.0,9,    0.000,2,    0.000,2,   1.4990,1,-999.0000,9,-999.0000,9,-999.0000,9,    0.000,2,   99.871,2,   3.2158,2
  49NZ20191205,  I08N,    56,  1,     19,   1219,2,20191218,2144,-13.9983,  80.0025, 5024,   1870.2,   2.8125,   2.8120,2,  34.7297,2,  34.7302,2,    135.6,2,    135.8,2,   111.67,2,    35.17,2,     0.01,2,     2.49,2,     0.05,2,    0.010,2,    0.003,2,    0.002,2,        0,2,   2301.8, 2,   2384.5,2,     35.4,2,  -999.00,9,     -999,9,   -999.0,9,    0.000,2,    0.000,2,   1.4960,1,   0.3190,2,   0.1670,2,   0.0300,2,   -0.001,2,   99.863,2,   2.8120,2
  49NZ20191205,  I08N,    56,  1,     18,   1218,2,20191218,2144,-13.9983,  80.0025, 5024,   2070.6,   2.5026,   2.5024,2,  34.7358,2,  34.7361,2,    145.5,2,    145.6,2,   114.33,2,    34.73,2,     0.01,2,     2.45,2,     0.05,2,    0.011,2,    0.005,2,    0.000,2,        0,2,   2298.7, 2,   2387.7,2,     35.4,2,  -999.00,9,     -999,9,   -999.0,9,    0.000,2,    0.000,2,   1.4580,1,-999.0000,9,-999.0000,9,-999.0000,9,    0.001,2,   99.861,2,   2.5024,2
  49NZ20191205,  I08N,    56,  1,     17,   1217,2,20191218,2144,-13.9983,  80.0025, 5024,   2270.6,   2.2182,   2.2181,2,  34.7352,2,  34.7353,2,    154.7,2,    155.0,2,   116.77,2,    34.31,2,     0.00,2,     2.40,2,     0.05,2,    0.011,2,    0.003,2,    0.000,2,    0.006,2,   2294.8, 2,   2389.9,2,     39.0,2,  -999.00,9,     -999,9,   -999.0,9,    0.000,2,    0.000,2,   1.4730,1,   0.3080,2,   0.1630,2,   0.0290,2,   -0.001,2,   99.876,2,   2.2181,2
  49NZ20191205,  I08N,    56,  1,     16,   1216,2,20191218,2144,-13.9983,  80.0025, 5024,   2470.6,   2.0156,   2.0158,2,  34.7319,2,  34.7313,2,    162.2,2,    162.5,2,   118.05,2,    33.93,2,     0.00,2,     2.36,2,     0.06,2,    0.015,2,    0.005,2,    0.001,2,        0,2,   2292.7, 6,   2390.7,2,     36.0,2,  -999.00,9,     -999,9,   -999.0,9,    0.000,2,    0.000,2,   1.4480,1,-999.0000,9,-999.0000,9,-999.0000,9,   -0.001,2,   99.876,2,   2.0158,2
  49NZ20191205,  I08N,    56,  1,     15,   1215,2,20191218,2144,-13.9983,  80.0025, 5024,   2670.4,   1.8760,   1.8759,2,  34.7298,2,  34.7292,2,    167.0,2,    167.3,2,   119.75,2,    33.82,2,     0.01,2,     2.35,2,     0.08,2,    0.011,2,    0.004,2,    0.000,2,    0.006,2,   2291.8, 2,   2393.7,2,     35.7,2,  -999.00,9,     -999,9,   -999.0,9,    0.000,2,    0.000,2,   1.4350,1,   0.3120,2,   0.1630,2,   0.0270,2,    0.000,2,   99.884,2,   1.8759,2
  49NZ20191205,  I08N,    56,  1,     14,   1214,2,20191218,2144,-13.9983,  80.0025, 5024,   2870.5,   1.7541,   1.7541,2,  34.7279,2,  34.7274,2,    170.2,2,    170.6,2,   121.45,2,    33.51,2,     0.00,2,     2.32,2,     0.04,2,    0.011,2,    0.004,2,    0.001,2,        0,2,   2292.4, 2,   2391.7,2,     33.4,2,  -999.00,9,     -999,9,   -999.0,9,    0.000,2,    0.000,2,   1.4320,1,-999.0000,9,-999.0000,9,-999.0000,9,    0.000,2,   99.897,2,   1.7541,2
  49NZ20191205,  I08N,    56,  1,     13,   1213,2,20191218,2144,-13.9983,  80.0025, 5024,   3080.2,   1.6296,   1.6299,2,  34.7257,2,  34.7253,2,    172.2,2,    172.6,2,   125.05,2,    33.72,2,     0.01,2,     2.33,2,     0.06,2,    0.012,2,    0.003,2,    0.004,2,    0.007,2,   2294.4, 2,   2399.2,2,     37.3,2,  -999.00,9,     -999,9,   -999.0,9,    0.000,2,    0.000,2,   1.4380,1,   0.2900,2,   0.1490,2,   0.0280,2,   -0.001,2,   99.897,2,   1.6299,2
  49NZ20191205,  I08N,    56,  1,     12,   1212,2,20191218,2144,-13.9983,  80.0025, 5024,   3330.1,   1.5014,   1.5012,2,  34.7232,2,  34.7237,2,    176.3,2,    176.6,2,   127.23,2,    33.64,2,     0.01,2,     2.32,2,     0.05,2,    0.010,2,    0.003,2,    0.001,2,        0,2,   2295.1, 2,   2403.8,6,     34.5,2,  -999.00,9,     -999,9,   -999.0,9,    0.000,2,    0.000,2,   1.4230,1,-999.0000,9,-999.0000,9,-999.0000,9,    0.000,2,   99.907,2,   1.5012,2
  49NZ20191205,  I08N,    56,  1,     11,   1211,2,20191218,2144,-13.9983,  80.0025, 5024,   3580.5,   1.4035,   1.4035,2,  34.7209,2,  34.7203,2,    180.7,2,    181.1,2,   128.14,2,    33.45,2,     0.00,2,     2.30,2,     0.06,2,    0.011,2,    0.005,2,    0.002,2,        0,2,   2294.6, 2,   2402.9,2,     40.6,2,  -999.00,9,     -999,9,   -999.0,9,    0.000,2,    0.000,2,   1.4240,1,   0.2930,2,   0.1460,2,   0.0220,2,    0.000,2,   99.909,2,   1.4035,2
  49NZ20191205,  I08N,    56,  1,     10,   1210,2,20191218,2144,-13.9983,  80.0025, 5024,   3829.4,   1.3618,   1.3618,2,  34.7189,2,  34.7190,2,    181.8,2,    182.1,2,   130.32,2,    33.45,2,     0.01,2,     2.31,2,      0.1,2,    0.011,2,    0.003,2,    0.001,2,        0,2,   2295.4, 2,   2404.4,2,     36.7,2,  -999.00,9,     -999,9,   -999.0,9,    0.000,2,    0.000,2,   1.4180,1,-999.0000,9,-999.0000,9,-999.0000,9,    0.000,2,   99.897,2,   1.3618,2
  49NZ20191205,  I08N,    56,  1,      9,   1209,2,20191218,2144,-13.9983,  80.0025, 5024,   4079.8,   1.3566,   1.3566,2,  34.7178,2,  34.7179,2,    181.9,2,    182.2,2,   131.51,2,    33.53,2,     0.01,2,     2.30,2,     0.09,2,    0.011,2,    0.005,2,    0.001,2,    0.009,2,   2296.3, 2,   2406.4,2,     34.3,2,  -999.00,9,     -999,9,   -999.0,9,    0.000,2,    0.000,2,   1.4300,1,   0.2970,2,   0.1550,2,   0.0280,2,   -0.001,2,   99.901,2,   1.3566,2
  49NZ20191205,  I08N,    56,  1,      8,  12103,2,20191218,2144,-13.9983,  80.0025, 5024,   4329.6,   1.3718,   1.3718,2,  34.7174,2,  34.7168,2,    181.7,2,    182.1,2,   132.53,2,    33.58,2,     0.00,2,     2.31,2,     0.07,2,    0.014,2,    0.005,2,    0.001,2,        0,2,   2299.2, 6,   2409.5,2,     39.6,2,  -999.00,9,     -999,9,   -999.0,9,    0.000,2,    0.000,2,   1.4260,1,-999.0000,9,-999.0000,9,-999.0000,9,   -0.001,2,   99.895,2,   1.3718,2
  49NZ20191205,  I08N,    56,  1,      7,   1207,2,20191218,2144,-13.9983,  80.0025, 5024,   4583.3,   1.3942,   1.3942,2,  34.7172,2,  34.7171,2,    181.5,2,    181.8,2,   133.24,2,    33.68,2,     0.00,2,     2.31,2,     0.07,2,    0.012,2,    0.005,2,    0.004,2,    0.006,2,   2299.7, 2,   2408.0,2,     39.5,2,  -999.00,9,     -999,9,   -999.0,9,    0.000,2,    0.000,2,   1.4270,1,   0.3040,2,   0.1640,2,   0.0300,2,    0.000,2,   99.890,2,   1.3942,2
  49NZ20191205,  I08N,    56,  1,      6,   1206,2,20191218,2144,-13.9983,  80.0025, 5024,   4830.2,   1.4206,   1.4206,2,  34.7172,2,  34.7169,2,    181.3,2,    181.8,2,   133.60,2,    33.64,2,     0.00,2,     2.31,2,     0.06,2,    0.011,2,    0.005,2,    0.000,2,    0.021,2,   2298.9, 2,   2407.6,6,     36.8,2,  -999.00,9,     -999,9,   -999.0,9,    0.000,2,    0.000,2,   1.4340,1,-999.0000,9,-999.0000,9,-999.0000,9,   -0.001,2,   99.882,2,   1.4206,2
  49NZ20191205,  I08N,    56,  1,      5,   1205,2,20191218,2144,-13.9983,  80.0025, 5024,      9.9,  28.2916,  28.2894,2,  34.9733,2,-999.0000,9,    198.9,2,   -999.0,9,  -999.00,9,  -999.00,9,  -999.00,9,  -999.00,9,     -999,9, -999.000,9, -999.000,9, -999.000,9,     -999,9,   -999.0, 9,   -999.0,9,   -999.0,9,  -999.00,9,     -999,9,   -999.0,9,    2.684,2,    2.684,2,   1.0980,1,-999.0000,9,-999.0000,9,-999.0000,9,    0.043,2,   98.870,2,  28.2894,2
  49NZ20191205,  I08N,    56,  1,      4,   1204,2,20191218,2144,-13.9983,  80.0025, 5024,      9.9,  28.2955,  28.2933,2,  34.9732,2,-999.0000,9,    199.0,2,   -999.0,9,  -999.00,9,  -999.00,9,  -999.00,9,  -999.00,9,     -999,9, -999.000,9, -999.000,9, -999.000,9,     -999,9,   -999.0, 9,   -999.0,9,   -999.0,9,  -999.00,9,     -999,9,   -999.0,9,    2.676,2,    2.676,2,   1.1090,1,-999.0000,9,-999.0000,9,-999.0000,9,    0.045,2,   98.889,2,  28.2933,2
  49NZ20191205,  I08N,    56,  1,      3,   1203,2,20191218,2144,-13.9983,  80.0025, 5024,   5087.9,   1.4489,   1.4489,2,  34.7171,2,-999.0000,9,    181.2,2,   -999.0,9,  -999.00,9,  -999.00,9,  -999.00,9,  -999.00,9,     -999,9, -999.000,9, -999.000,9, -999.000,9,     -999,9,   -999.0, 9,   -999.0,9,   -999.0,9,  -999.00,9,     -999,9,   -999.0,9,    0.000,2,    0.000,2,   1.4430,1,-999.0000,9,-999.0000,9,-999.0000,9,   -0.001,2,   99.871,2,   1.4489,2
  49NZ20191205,  I08N,    56,  1,      2,  12046,2,20191218,2144,-13.9983,  80.0025, 5024,   5087.5,   1.4490,   1.4490,2,  34.7172,2,-999.0000,9,    181.2,2,   -999.0,9,  -999.00,9,  -999.00,9,  -999.00,9,  -999.00,9,     -999,9, -999.000,9, -999.000,9, -999.000,9,     -999,9,   -999.0, 9,   -999.0,9,   -999.0,9,  -999.00,9,     -999,9,   -999.0,9,    0.000,2,    0.000,2,   1.4450,1,-999.0000,9,-999.0000,9,-999.0000,9,   -0.001,2,   99.869,2,   1.4490,2
  49NZ20191205,  I08N,    56,  1,      1,   1201,2,20191218,2144,-13.9983,  80.0025, 5024,   5087.4,   1.4491,   1.4492,2,  34.7172,2,  34.7172,2,    181.2,2,    181.8,2,   133.75,2,    33.73,2,     0.01,2,     2.32,2,     0.05,2,    0.012,2,    0.005,2,    0.004,2,    0.022,2,   2298.4, 2,   2410.7,2,     40.4,2,  -999.00,9,     -999,9,   -999.0,9,    0.000,2,    0.000,2,   1.4440,1,   0.2850,2,   0.1470,2,   0.0240,2,   -0.001,2,   99.871,2,   1.4492,2