BOTTLE,20210412PRINUNIVRMK
EXPOCODE,SECT_ID,STNNBR,CASTNO,SAMPNO,BTLNBR,BTLNBR_FLAG_W,DATE,TIME,LATITUDE,LONGITUDE,DEPTH,CTDPRS,CTDTMP,SBE35,SBE35_FLAG_W,CTDSAL,CTDSAL_FLAG_W,SALNTY,SALNTY_FLAG_W,CTDOXY,CTDOXY_FLAG_W,OXYGEN,OXYGEN_FLAG_W,SILCAT,SILCAT_FLAG_W,NITRAT,NITRAT_FLAG_W,NITRIT,NITRIT_FLAG_W,PHSPHT,PHSPHT_FLAG_W,NH4,NH4_FLAG_W,CFC-11,CFC-11_FLAG_W,CFC-12,CFC-12_FLAG_W,CFC113,CFC113_FLAG_W,SF6,SF6_FLAG_W,TCARBN,TCARBN_FLAG_W,ALKALI,ALKALI_FLAG_W,DOC,DOC_FLAG_W,CHLWELSH,CHLWELSH_FLAG_W,UREA,UREA_FLAG_W,IODATE,IODATE_FLAG_W,PAR,PAR_FLAG_W,PAR,PAR_FLAG_W,CDOM,CDOM_FLAG_W,CDOM300,CDOM300_FLAG_W,CDOM325,CDOM325_FLAG_W,CDOM443,CDOM443_FLAG_W,CTDFLUOR,CTDFLUOR_FLAG_W,CTDXMISS,CTDXMISS_FLAG_W,SBE35,SBE35_FLAG_W
,,,,,,,,,,,METERS,DBAR,ITS-90,,,PSS-78,,PSS-78,,UMOL/KG,,UMOL/KG,,UMOL/KG,,UMOL/KG,,UMOL/KG,,UMOL/KG,,UMOL/KG,,PMOL/KG,,PMOL/KG,,PMOL/KG,,FMOL/KG,,UMOL/KG,,UMOL/KG,,UMOL/KG,,UG/KG,,nMOL/L,,nMOL/L,,VOLTS,,VOLTS,,MG/M^3,,1/M,,1/M,,1/M,,MG/M^3,,%TRANS,,,
  49NZ20191205,  I08N,    29,  1,     36,   1236,2,20191211,0008, -1.3341,  80.0009, 4834,     10.7,  28.6915,  28.6899,2,  34.3933,2,  34.3916,2,    196.2,2,    196.1,2,     0.90,2,     0.02,2,     0.01,2,     0.14,2,     0.04,2,    1.490,2,    0.915,2,    0.117,2,    1.592,2,   1950.5, 2,   2258.1,2,     70.0,2,     0.15,2,     36.4,2,    278.2,2,  285.406,2,  285.406,2,   1.1780,1,   0.2620,2,   0.1360,2,   0.0110,2,    0.159,2,   98.409,2,  28.6899,2
  49NZ20191205,  I08N,    29,  1,     35,   1235,2,20191211,0008, -1.3341,  80.0009, 4834,     49.7,  28.5136,  28.5127,2,  34.5177,2,  34.5178,2,    194.7,2,    194.6,2,     1.02,2,     0.03,2,     0.02,2,     0.15,2,     0.08,2,    1.483,2,    0.917,2,    0.111,2,     1.58,2,   1958.7, 2,   2266.3,2,     71.3,2,     0.29,2,     25.4,2,    287.3,2,   20.703,2,   20.703,2,   1.2620,1,   0.3020,2,   0.1720,2,   0.0260,2,    0.336,2,   98.161,2,  28.5127,2
  49NZ20191205,  I08N,    29,  1,     34,   1234,2,20191211,0008, -1.3341,  80.0009, 4834,    102.7,  20.7959,  20.7762,2,  35.2082,2,  35.2228,2,     99.5,2,    100.7,2,    10.08,2,    15.26,2,     0.09,2,     1.10,2,     0.01,2,    1.827,2,    1.073,2,    0.045,2,    1.244,2,   2126.7, 2,   2306.7,2,     52.7,2,     0.23,2,     25.4,2,    367.8,2,    0.491,2,    0.491,2,   1.4300,1,   0.3570,2,   0.2160,2,   0.0300,2,    0.273,2,   99.176,2,  20.7762,2
  49NZ20191205,  I08N,    29,  1,     33,   1233,2,20191211,0008, -1.3341,  80.0009, 4834,    151.7,  15.0329,  15.0319,2,  35.1511,2,  35.1488,2,     73.8,2,     73.6,2,    17.66,2,    23.44,2,     0.01,2,     1.62,2,     0.02,2,    1.950,2,    1.099,2,    0.013,2,    0.852,2,   2194.8, 2,   2311.0,2,     49.2,2,     0.01,2,     33.6,2,    422.1,2,    0.000,2,    0.000,2,   1.5100,1,   0.3150,2,   0.1880,2,   0.0320,2,    0.009,2,   99.587,2,  15.0319,2
  49NZ20191205,  I08N,    29,  1,     32,   1232,2,20191211,0008, -1.3341,  80.0009, 4834,    200.2,  13.5157,  13.5154,2,  35.1156,2,  35.1154,2,     67.4,2,     66.7,2,    20.23,2,    25.88,2,     0.01,2,     1.78,2,     0.02,2,    1.872,2,    1.028,2,    0.010,2,     0.72,2,   2213.7, 2,   2310.5,2,     44.9,2,     0.01,2,     93.9,2,    448.7,2,    0.000,2,    0.000,2,   1.5270,1,   0.2930,2,   0.1710,2,   0.0240,2,   -0.001,2,   99.570,2,  13.5154,2
  49NZ20191205,  I08N,    29,  1,     31,   1231,2,20191211,0008, -1.3341,  80.0009, 4834,    250.2,  12.8998,  12.9002,2,  35.1019,2,  35.1018,2,     75.8,2,     75.5,2,    20.37,2,    25.69,2,     0.01,2,     1.76,2,     0.03,2,    1.905,2,    1.049,2,    0.012,2,    0.647,2,   2211.0, 2,   2312.1,2,     51.2,2,     0.01,2,      8.6,2,    408.8,2,    0.000,2,    0.000,2,   1.5150,1,-999.0000,9,-999.0000,9,-999.0000,9,   -0.001,2,   99.570,2,  12.9002,2
  49NZ20191205,  I08N,    29,  1,     30,   1230,2,20191211,0008, -1.3341,  80.0009, 4834,    299.2,  12.0323,  12.0314,2,  35.0601,2,  35.0585,2,     87.8,2,     87.6,2,    20.97,2,    25.74,2,     0.01,2,     1.76,2,     0.02,2,    1.949,2,    1.056,2,    0.015,2,    0.656,2,   2216.0, 2,   2310.6,2,     44.2,2,  -999.00,9,       13,2,    428.2,2,    0.000,2,    0.000,2,   1.4830,1,   0.3230,2,   0.1990,2,   0.0380,2,    0.003,2,   99.580,2,  12.0314,2
  49NZ20191205,  I08N,    29,  1,     29,   1229,2,20191211,0008, -1.3341,  80.0009, 4834,    400.0,  10.7769,  10.7770,2,  35.0094,2,  35.0101,2,     75.6,2,     74.9,2,    27.34,2,    29.27,2,     0.01,2,     1.99,2,     0.02,2,    1.511,2,    0.803,2,    0.015,2,    0.444,2,   2226.7, 2,   2310.8,2,     42.1,2,  -999.00,9,       26,2,    435.4,2,    0.000,2,    0.000,2,   1.4960,1,   0.3130,2,   0.1860,2,   0.0320,2,    0.004,2,   99.585,2,  10.7770,2
  49NZ20191205,  I08N,    29,  1,     28,   1228,2,20191211,0008, -1.3341,  80.0009, 4834,    499.7,  10.0665,  10.0649,2,  34.9987,2,  34.9987,2,     61.1,2,     61.1,2,    35.73,2,    31.90,2,     0.01,2,     2.23,2,     0.02,2,    0.960,2,    0.519,2,    0.009,2,    0.218,2,   2248.7, 2,   2317.6,2,     41.0,2,  -999.00,9,     14.4,2,    438.5,2,    0.000,2,    0.000,2,   1.5510,1,   0.3000,2,   0.1740,2,   0.0220,2,    0.003,2,   99.639,2,  10.0649,2
  49NZ20191205,  I08N,    29,  1,     27,   1227,2,20191211,0008, -1.3341,  80.0009, 4834,    598.9,   9.5306,   9.5318,2,  35.0013,2,  35.0026,2,     55.3,2,     54.8,2,    42.76,2,    33.36,2,     0.02,2,     2.37,2,        0,2,    0.695,2,    0.379,2,    0.008,2,    0.176,2,   2258.1, 2,   2321.6,2,     44.1,2,  -999.00,9,     27.2,2,    453.6,2,    0.000,2,    0.000,2,   1.5670,1,   0.3200,2,   0.1950,2,   0.0350,2,    0.003,2,   99.684,2,   9.5318,2
  49NZ20191205,  I08N,    29,  1,     26,   1226,2,20191211,0008, -1.3341,  80.0009, 4834,    700.1,   8.5715,   8.5718,2,  34.9940,2,  34.9905,2,     52.8,2,     53.5,2,    54.38,2,    34.55,2,     0.01,2,     2.50,2,     0.02,2,    0.414,2,    0.232,2,    0.007,2,    0.118,2,   2271.6, 6,   2340.5,2,     39.3,2,  -999.00,9,     20.8,2,    451.5,2,    0.000,2,    0.000,2,   1.5900,1,-999.0000,9,-999.0000,9,-999.0000,9,    0.002,2,   99.730,2,   8.5718,2
  49NZ20191205,  I08N,    29,  1,     25,   1225,2,20191211,0008, -1.3341,  80.0009, 4834,    799.6,   8.1386,   8.1384,2,  34.9883,2,  34.9900,2,     47.3,2,     46.1,2,    62.87,2,    35.76,2,     0.01,2,     2.60,2,     0.02,2,    0.218,2,    0.123,2,    0.002,2,    0.033,2,   2286.6, 2,   2349.8,2,     40.2,2,  -999.00,9,     15.6,2,    418.3,2,    0.000,2,    0.000,2,   1.6030,1,   0.3470,2,   0.2110,2,   0.0410,2,    0.002,2,   99.753,2,   8.1384,2
  49NZ20191205,  I08N,    29,  1,     24,   1224,2,20191211,0008, -1.3341,  80.0009, 4834,    900.2,   7.2139,   7.2140,2,  34.9134,2,  34.9147,2,     52.6,2,     52.6,2,    73.39,2,    36.67,2,     0.01,2,     2.66,2,     0.02,2,    0.096,2,    0.053,2,    0.002,2,    0.002,2,   2293.8, 2,   2353.0,2,     39.4,2,  -999.00,9,     47.5,2,    428.3,2,    0.000,2,    0.000,2,   1.6200,1,-999.0000,9,-999.0000,9,-999.0000,9,    0.001,2,   99.800,2,   7.2140,2
  49NZ20191205,  I08N,    29,  1,     23,   1223,2,20191211,0008, -1.3341,  80.0009, 4834,    997.1,   6.6087,   6.6072,2,  34.9222,2,  34.9185,2,     56.6,2,     56.9,2,    81.39,2,    36.87,2,     0.01,2,     2.70,2,     0.02,2,    0.080,2,    0.043,2,    0.001,2,    0.008,2,   2302.9, 2,   2364.6,2,     38.6,2,  -999.00,9,     52.7,2,    431.7,2,    0.000,2,    0.000,2,   1.6250,1,   0.3590,2,   0.2170,2,   0.0450,2,    0.002,2,   99.795,2,   6.6072,2
  49NZ20191205,  I08N,    29,  1,     22,   1222,2,20191211,0008, -1.3341,  80.0009, 4834,   1199.7,   5.6583,   5.6598,2,  34.8837,2,  34.8830,2,     67.6,2,     67.6,2,    91.59,2,    37.13,2,     0.01,2,     2.70,2,     0.03,2,    0.038,2,    0.019,2,    0.002,2,    0.008,2,   2310.3, 2,   2374.6,6,     40.0,2,  -999.00,9,     14.9,2,    434.7,2,    0.000,2,    0.000,2,   1.6290,1,-999.0000,9,-999.0000,9,-999.0000,9,    0.002,2,   99.808,2,   5.6598,2
  49NZ20191205,  I08N,    29,  1,     21,   1221,2,20191211,0008, -1.3341,  80.0009, 4834,   1398.9,   4.8688,   4.8683,2,  34.8561,2,  34.8557,2,     81.7,2,     82.7,2,    99.15,2,    36.90,2,     0.01,2,     2.69,2,     0.02,2,    0.025,2,    0.012,2,    0.001,2,    0.004,2,   2312.9, 2,   2381.2,2,     38.6,2,  -999.00,9,    118.4,2,    441.6,2,    0.000,2,    0.000,2,   1.6240,1,   0.3360,2,   0.2030,2,   0.0340,2,    0.001,2,   99.825,2,   4.8683,2
  49NZ20191205,  I08N,    29,  1,     20,   1220,2,20191211,0008, -1.3341,  80.0009, 4834,   1600.7,   3.9288,   3.9286,2,  34.8131,2,  34.8128,2,    100.2,2,    100.3,2,   108.07,2,    36.57,2,     0.01,2,     2.64,2,     0.04,2,    0.014,2,    0.005,2,    0.000,2,    0.024,2,   2315.0, 2,   2387.5,2,     34.4,2,  -999.00,9,       28,2,    442.5,2,    0.000,2,    0.000,2,   1.6050,1,-999.0000,9,-999.0000,9,-999.0000,9,    0.001,2,   99.854,2,   3.9286,2
  49NZ20191205,  I08N,    29,  1,     19,   1219,2,20191211,0008, -1.3341,  80.0009, 4834,   1799.7,   3.2594,   3.2594,2,  34.7879,2,  34.7876,2,    116.5,2,    116.6,2,   114.36,2,    36.05,2,     0.01,2,     2.58,2,     0.03,2,    0.012,2,    0.004,2,    0.009,2,     0.01,2,   2318.7, 3,   2390.1,2,     34.6,2,  -999.00,9,     -999,9,   -999.0,9,    0.000,2,    0.000,2,   1.5880,1,   0.3670,2,   0.2260,2,   0.0450,2,    0.001,2,   99.861,2,   3.2594,2
  49NZ20191205,  I08N,    29,  1,     18,   1218,2,20191211,0008, -1.3341,  80.0009, 4834,   2000.9,   2.7423,   2.7410,2,  34.7708,2,  34.7705,2,    128.8,2,    128.9,2,   120.54,2,    35.65,2,     0.01,2,     2.54,2,     0.03,2,    0.013,2,    0.004,2,    0.003,2,    0.003,2,   2313.4, 2,   2396.5,2,     36.5,2,  -999.00,9,     -999,9,   -999.0,9,    0.000,2,    0.000,2,   1.5840,1,-999.0000,9,-999.0000,9,-999.0000,9,   -0.001,2,   99.865,2,   2.7410,2
  49NZ20191205,  I08N,    29,  1,     17,   1217,2,20191211,0008, -1.3341,  80.0009, 4834,   2200.8,   2.3687,   2.3694,2,  34.7568,2,  34.7561,2,    139.4,2,    139.7,2,   124.39,2,    35.26,2,     0.01,2,     2.49,2,     0.01,2,    0.015,2,    0.005,2,    0.001,2,    0.046,2,   2313.5, 2,   2405.8,2,     33.7,2,  -999.00,9,     -999,9,   -999.0,9,    0.000,2,    0.000,2,   1.5660,1,   0.3240,2,   0.1940,2,   0.0360,2,    0.000,2,   99.878,2,   2.3694,2
  49NZ20191205,  I08N,    29,  1,     16,   1216,2,20191211,0008, -1.3341,  80.0009, 4834,   2399.4,   2.1527,   2.1525,2,  34.7486,2,  34.7483,2,    146.4,2,    146.5,2,   126.63,2,    35.00,2,     0.01,2,     2.46,2,     0.01,2,    0.015,2,    0.004,2,    0.000,2,    0.003,2,   2312.8, 6,   2408.5,2,     38.7,2,  -999.00,9,     -999,9,   -999.0,9,    0.000,2,    0.000,2,   1.5530,1,-999.0000,9,-999.0000,9,-999.0000,9,    0.000,2,   99.878,2,   2.1525,2
  49NZ20191205,  I08N,    29,  1,     15,   1215,2,20191211,0008, -1.3341,  80.0009, 4834,   2599.5,   1.9707,   1.9711,2,  34.7417,2,  34.7415,2,    152.1,2,    152.2,2,   128.33,2,    34.69,2,     0.01,2,     2.43,2,     0.04,2,    0.014,2,    0.004,2,    0.000,2,     0.01,2,   2311.3, 2,   2403.4,2,     36.0,2,  -999.00,9,     -999,9,   -999.0,9,    0.000,2,    0.000,2,   1.5400,1,   0.3090,2,   0.1810,2,   0.0320,2,   -0.001,2,   99.875,2,   1.9711,2
  49NZ20191205,  I08N,    29,  1,     14,   1214,2,20191211,0008, -1.3341,  80.0009, 4834,   2801.1,   1.8842,   1.8867,2,  34.7373,2,  34.7363,2,    156.4,2,    156.5,2,   128.59,2,    34.47,2,     0.01,2,     2.41,2,     0.02,2,    0.016,2,    0.005,2,    0.007,2,    0.017,2,   2310.4, 2,   2405.6,2,     39.0,2,  -999.00,9,     -999,9,   -999.0,9,    0.000,2,    0.000,2,   1.5230,1,-999.0000,9,-999.0000,9,-999.0000,9,    0.000,2,   99.886,2,   1.8867,2
  49NZ20191205,  I08N,    29,  1,     13,   1213,2,20191211,0008, -1.3341,  80.0009, 4834,   3001.1,   1.6813,   1.6812,2,  34.7294,2,  34.7292,2,    162.6,2,    162.7,2,   130.82,2,    34.40,2,     0.01,2,     2.38,2,     0.02,2,    0.013,2,    0.005,2,    0.001,2,    0.003,2,   2310.8, 2,   2405.0,2,     41.0,2,  -999.00,9,     -999,9,   -999.0,9,    0.000,2,    0.000,2,   1.5170,1,   0.2910,2,   0.1690,2,   0.0270,2,   -0.001,2,   99.886,2,   1.6812,2
  49NZ20191205,  I08N,    29,  1,     12,   1212,2,20191211,0008, -1.3341,  80.0009, 4834,   3248.5,   1.5926,   1.5925,2,  34.7267,2,  34.7262,2,    162.0,2,    162.1,2,   135.17,2,    34.59,2,     0.01,2,     2.40,2,     0.03,2,    0.014,2,    0.005,2,    0.002,2,    0.003,2,   2314.9, 2,   2420.4,6,     39.0,2,  -999.00,9,     -999,9,   -999.0,9,    0.000,2,    0.000,2,   1.5390,1,-999.0000,9,-999.0000,9,-999.0000,9,    0.000,2,   99.884,2,   1.5925,2
  49NZ20191205,  I08N,    29,  1,     11,   1211,2,20191211,0008, -1.3341,  80.0009, 4834,   3500.5,   1.4782,   1.4782,2,  34.7226,2,  34.7213,2,    165.7,2,    165.7,2,   137.28,2,    34.50,2,     0.01,2,     2.38,2,     0.03,2,    0.014,2,    0.004,2,    0.001,2,    0.004,2,   2316.1, 2,   2412.9,2,     34.6,2,  -999.00,9,     -999,9,   -999.0,9,    0.000,2,    0.000,2,   1.5320,1,   0.2960,2,   0.1720,2,   0.0250,2,    0.000,2,   99.903,2,   1.4782,2
  49NZ20191205,  I08N,    29,  1,     10,   1210,2,20191211,0008, -1.3341,  80.0009, 4834,   3748.5,   1.4046,   1.4046,2,  34.7197,2,  34.7189,2,    171.6,2,    171.8,2,   136.34,2,    34.19,2,     0.01,2,     2.36,2,     0.03,2,    0.015,2,    0.005,2,    0.003,2,    0.004,2,   2319.4, 3,   2412.1,2,     42.0,2,  -999.00,9,     -999,9,   -999.0,9,    0.000,2,    0.000,2,   1.5110,1,-999.0000,9,-999.0000,9,-999.0000,9,    0.000,2,   99.915,2,   1.4046,2
  49NZ20191205,  I08N,    29,  1,      9,   1209,2,20191211,0008, -1.3341,  80.0009, 4834,   4001.3,   1.3917,   1.3916,2,  34.7186,2,  34.7178,2,    173.8,2,    173.8,2,   135.90,2,    34.03,2,     0.01,2,     2.35,2,     0.03,2,    0.022,2,    0.007,2,    0.002,2,    0.023,2,   2310.4, 2,   2420.1,2,     42.1,2,  -999.00,9,     -999,9,   -999.0,9,    0.000,2,    0.000,2,   1.5010,1,   0.2890,2,   0.1610,2,   0.0270,2,   -0.001,2,   99.913,2,   1.3916,2
  49NZ20191205,  I08N,    29,  1,      7,   1207,2,20191211,0008, -1.3341,  80.0009, 4834,   4503.0,   1.4125,   1.4124,2,  34.7176,2,  34.7174,2,    176.5,2,    176.8,2,   135.44,2,    33.93,2,     0.01,2,     2.34,2,     0.05,2,    0.023,2,    0.008,2,    0.001,2,    0.003,2,   2307.3, 2,   2420.4,2,     41.9,2,  -999.00,9,     -999,9,   -999.0,9,    0.000,2,    0.000,2,   1.4860,1,   0.2970,2,   0.1730,2,   0.0330,2,   -0.001,2,   99.930,2,   1.4124,2
  49NZ20191205,  I08N,    29,  1,      6,   1206,2,20191211,0008, -1.3341,  80.0009, 4834,   4748.6,   1.4303,   1.4304,2,  34.7174,2,  34.7173,2,    177.0,2,    177.4,2,   135.18,2,    33.89,2,     0.01,2,     2.34,2,     0.05,2,    0.028,2,    0.005,2,    0.001,2,     0.03,2,   2307.7, 2,   2421.5,6,     41.4,2,  -999.00,9,     -999,9,   -999.0,9,    0.000,2,    0.000,2,   1.4950,1,-999.0000,9,-999.0000,9,-999.0000,9,   -0.001,2,   99.905,2,   1.4304,2
  49NZ20191205,  I08N,    29,  1,      2,  12046,2,20191211,0008, -1.3341,  80.0009, 4834,     55.0,  28.4018,  28.3990,2,  34.5225,2,  34.5232,2,    193.2,2,    194.0,2,     1.10,2,     0.07,2,     0.02,2,     0.16,2,     0.11,2, -999.000,9, -999.000,9, -999.000,9,     -999,9,   1960.3, 2,   2272.6,2,     70.2,2,     0.32,2,     57.9,2,    265.9,2,   14.575,2,   14.575,2,   1.2720,1,   0.2730,2,   0.1510,2,   0.0170,2,    0.398,2,   98.131,2,  28.3990,2
  49NZ20191205,  I08N,    29,  1,      1,   1201,2,20191211,0008, -1.3341,  80.0009, 4834,   4885.2,   1.4333,   1.4334,2,  34.7170,2,  34.7170,2,    178.2,2,    178.9,2,   134.67,2,    33.77,2,     0.01,2,     2.32,2,     0.03,2,    0.020,2,    0.005,2,    0.000,2,    0.005,2,   2305.0, 2,   2416.0,2,     45.4,2,  -999.00,9,     -999,9,   -999.0,9,    0.000,2,    0.000,2,   1.4820,1,   0.2960,2,   0.1680,2,   0.0300,2,   -0.001,2,   99.903,2,   1.4334,2