BOTTLE,20210412PRINUNIVRMK
EXPOCODE,SECT_ID,STNNBR,CASTNO,SAMPNO,BTLNBR,BTLNBR_FLAG_W,DATE,TIME,LATITUDE,LONGITUDE,DEPTH,CTDPRS,CTDTMP,SBE35,SBE35_FLAG_W,CTDSAL,CTDSAL_FLAG_W,SALNTY,SALNTY_FLAG_W,CTDOXY,CTDOXY_FLAG_W,OXYGEN,OXYGEN_FLAG_W,SILCAT,SILCAT_FLAG_W,NITRAT,NITRAT_FLAG_W,NITRIT,NITRIT_FLAG_W,PHSPHT,PHSPHT_FLAG_W,NH4,NH4_FLAG_W,CFC-11,CFC-11_FLAG_W,CFC-12,CFC-12_FLAG_W,CFC113,CFC113_FLAG_W,SF6,SF6_FLAG_W,TCARBN,TCARBN_FLAG_W,ALKALI,ALKALI_FLAG_W,DOC,DOC_FLAG_W,CHLWELSH,CHLWELSH_FLAG_W,UREA,UREA_FLAG_W,IODATE,IODATE_FLAG_W,PAR,PAR_FLAG_W,PAR,PAR_FLAG_W,CDOM,CDOM_FLAG_W,CDOM300,CDOM300_FLAG_W,CDOM325,CDOM325_FLAG_W,CDOM443,CDOM443_FLAG_W,CTDFLUOR,CTDFLUOR_FLAG_W,CTDXMISS,CTDXMISS_FLAG_W,SBE35,SBE35_FLAG_W
,,,,,,,,,,,METERS,DBAR,ITS-90,,,PSS-78,,PSS-78,,UMOL/KG,,UMOL/KG,,UMOL/KG,,UMOL/KG,,UMOL/KG,,UMOL/KG,,UMOL/KG,,PMOL/KG,,PMOL/KG,,PMOL/KG,,FMOL/KG,,UMOL/KG,,UMOL/KG,,UMOL/KG,,UG/KG,,nMOL/L,,nMOL/L,,VOLTS,,VOLTS,,MG/M^3,,1/M,,1/M,,1/M,,MG/M^3,,%TRANS,,,
  49NZ20191205,  I08N,    22,  1,     36,   1236,2,20191209,1159,  0.5026,  80.0020, 4651,      9.9,  29.1859,  29.1843,2,  33.9211,2,  33.9204,2,    198.0,2,    197.1,2,     1.33,2,     0.01,2,     0.01,2,     0.10,2,     0.05,2,    1.408,2,    0.918,2,    0.113,2,    1.896,2,   1920.4, 2,   2231.3,2,     71.6,2,     0.13,2,     38.9,2,    271.9,2,    0.000,2,    0.000,2,   1.1990,1,   0.2330,2,   0.1110,2,   0.0070,2,    0.150,2,   97.823,2,  29.1843,2
  49NZ20191205,  I08N,    22,  1,     35,   1235,2,20191209,1159,  0.5026,  80.0020, 4651,     50.2,  28.3142,  28.3150,2,  34.9732,2,  34.9717,2,    187.8,2,    187.2,2,     1.77,2,     0.51,2,     0.09,2,     0.22,2,     0.13,2,    1.442,2,    0.933,2,    0.102,2,    1.868,2,   1984.7, 2,   2293.2,2,     60.7,2,     0.46,2,     67.4,2,    296.5,2,    0.000,2,    0.000,2,   1.3150,1,   0.3000,2,   0.1550,2,   0.0140,2,    0.600,2,   97.724,2,  28.3150,2
  49NZ20191205,  I08N,    22,  1,     34,   1234,2,20191209,1159,  0.5026,  80.0020, 4651,    100.2,  20.1696,  20.1683,2,  35.2842,2,  35.2834,2,    107.4,2,    106.9,2,    10.15,2,    15.10,2,     0.04,2,     1.10,2,     0.07,2,    1.775,2,    1.102,2,    0.044,2,    1.631,2,   2130.7, 2,   2312.0,2,     57.9,2,     0.11,2,        0,2,    395.7,2,    0.000,2,    0.000,2,   1.4130,1,   0.2920,2,   0.1630,2,   0.0180,2,    0.159,2,   99.445,2,  20.1683,2
  49NZ20191205,  I08N,    22,  1,     33,   1233,2,20191209,1159,  0.5026,  80.0020, 4651,    151.3,  15.6297,  15.6177,2,  35.1567,2,  35.1536,2,     54.5,2,     52.8,2,    19.43,2,    25.15,2,     0.01,2,     1.78,2,     0.07,2,    1.642,2,    0.972,2,    0.013,2,    0.958,2,   2206.8, 2,   2312.6,2,     57.3,2,     0.02,2,     50.2,2,    422.6,2,    0.000,2,    0.000,2,   1.5470,1,   0.3440,2,   0.2060,2,   0.0330,2,    0.005,2,   99.634,2,  15.6177,2
  49NZ20191205,  I08N,    22,  1,     32,   1232,2,20191209,1159,  0.5026,  80.0020, 4651,    198.4,  13.9672,  13.9287,2,  35.1189,2,  35.1196,2,     59.7,2,     59.7,2,    20.86,2,    26.33,2,     0.01,2,     1.83,2,     0.07,2,    1.734,2,    0.990,2,    0.016,2,    0.637,2,   2217.9, 2,   2314.2,2,     53.7,2,     0.01,2,     53.1,2,    444.7,2,    0.000,2,    0.000,2,   1.5440,1,   0.3350,2,   0.2000,2,   0.0330,2,   -0.001,2,   99.617,2,  13.9287,2
  49NZ20191205,  I08N,    22,  1,     31,   1231,2,20191209,1159,  0.5026,  80.0020, 4651,    250.1,  12.6523,  12.6520,2,  35.0983,2,  35.0994,2,     79.0,2,     78.4,2,    20.64,2,    25.80,2,     0.01,2,     1.78,2,     0.07,2,    1.844,2,    1.050,2,    0.017,2,    0.735,2,   2213.5, 2,   2308.6,2,     50.1,2,     0.01,2,     37.6,2,    426.6,2,    0.000,2,    0.000,2,   1.5140,1,-999.0000,9,-999.0000,9,-999.0000,9,    0.000,2,   99.607,2,  12.6520,2
  49NZ20191205,  I08N,    22,  1,     30,   1230,2,20191209,1159,  0.5026,  80.0020, 4651,    298.0,  12.2698,  12.2699,2,  35.0843,2,  35.0820,2,     78.6,2,     79.3,2,    21.58,2,    26.28,2,     0.01,2,     1.80,2,     0.05,2,    1.821,2,    1.029,2,    0.016,2,    0.606,2,   2217.3, 2,   2309.9,2,     50.4,2,  -999.00,9,     18.9,2,    437.3,2,    0.000,2,    0.000,2,   1.5000,1,   0.3390,2,   0.2010,2,   0.0360,2,    0.002,2,   99.615,2,  12.2699,2
  49NZ20191205,  I08N,    22,  1,     29,   1229,2,20191209,1159,  0.5026,  80.0020, 4651,    401.5,  11.0789,  11.0784,2,  35.0357,2,  35.0368,2,     66.9,2,     66.3,2,    27.26,2,    29.57,2,     0.01,2,     2.02,2,     0.05,2,    1.452,2,    0.800,2,    0.016,2,    0.419,2,   2233.4, 2,   2310.3,2,     48.9,2,  -999.00,9,     54.8,2,    452.5,2,    0.000,2,    0.000,2,   1.5370,1,   0.3410,2,   0.2120,2,   0.0420,2,    0.004,2,   99.634,4,  11.0784,2
  49NZ20191205,  I08N,    22,  1,     28,   1228,2,20191209,1159,  0.5026,  80.0020, 4651,    503.0,  10.3253,  10.3250,2,  35.0353,2,  35.0429,2,     64.2,2,     66.7,2,    31.10,2,    30.17,2,     0.01,2,     2.10,2,     0.05,2,    1.295,2,    0.709,2,    0.017,2,    0.338,2,   2240.2, 2,   2316.0,2,     45.7,2,  -999.00,9,     78.3,2,    411.1,2,    0.000,2,    0.000,2,   1.5380,1,   0.3150,2,   0.1850,2,   0.0340,2,    0.005,2,   99.727,4,  10.3250,2
  49NZ20191205,  I08N,    22,  1,     27,   1227,2,20191209,1159,  0.5026,  80.0020, 4651,    600.9,   9.3959,   9.3957,2,  35.0385,2,  35.0387,2,     45.2,2,     44.8,2,    47.46,2,    34.27,2,     0.01,2,     2.46,2,     0.05,2,    0.565,2,    0.307,2,    0.009,2,    0.104,2,   2270.1, 2,   2328.6,2,     46.5,2,  -999.00,9,     67.8,2,    460.5,2,    0.000,2,    0.000,2,   1.5920,1,   0.3710,2,   0.2290,2,   0.0480,2,    0.005,2,   99.777,4,   9.3957,2
  49NZ20191205,  I08N,    22,  1,     26,   1226,2,20191209,1159,  0.5026,  80.0020, 4651,    699.5,   8.7496,   8.7490,2,  35.0278,2,  35.0268,2,     40.2,2,     39.4,2,    57.17,2,    35.53,2,     0.01,2,     2.57,2,     0.05,2,    0.306,2,    0.168,2,    0.002,2,    0.065,2,   2283.4, 6,   2341.0,2,     43.3,2,  -999.00,9,       67,2,    469.8,2,    0.000,2,    0.000,2,   1.6200,1,-999.0000,9,-999.0000,9,-999.0000,9,    0.004,2,   99.765,4,   8.7490,2
  49NZ20191205,  I08N,    22,  1,     25,   1225,2,20191209,1159,  0.5026,  80.0020, 4651,    800.5,   8.1112,   8.1113,2,  34.9974,2,  34.9979,2,     42.0,2,     41.6,2,    64.56,2,    36.31,2,     0.01,2,     2.64,2,     0.06,2,    0.180,2,    0.099,2,    0.001,2,    0.019,2,   2292.1, 2,   2348.7,2,     43.5,2,  -999.00,9,       38,2,    450.3,2,    0.000,2,    0.000,2,   1.6350,1,   0.3600,2,   0.2140,2,   0.0470,2,    0.002,2,   99.803,4,   8.1113,2
  49NZ20191205,  I08N,    22,  1,     24,   1224,2,20191209,1159,  0.5026,  80.0020, 4651,    901.9,   7.5394,   7.5382,2,  34.9854,2,  34.9859,2,     43.0,2,     42.8,2,    72.63,2,    36.87,2,     0.01,2,     2.70,2,     0.08,2,    0.112,2,    0.060,2,    0.003,2,    0.004,2,   2304.6, 2,   2356.0,2,     45.2,2,  -999.00,9,     17.9,2,    453.8,2,    0.000,2,    0.000,2,   1.6460,1,-999.0000,9,-999.0000,9,-999.0000,9,    0.003,2,   99.834,4,   7.5382,2
  49NZ20191205,  I08N,    22,  1,     23,   1223,2,20191209,1159,  0.5026,  80.0020, 4651,    998.2,   6.8127,   6.8141,2,  34.9461,2,  34.9475,2,     51.7,2,     51.3,2,    79.82,2,    37.06,2,     0.01,2,     2.72,2,     0.09,2,    0.072,2,    0.038,2,    0.002,2,    0.003,2,   2308.7, 2,   2360.8,2,     44.1,2,  -999.00,9,     31.8,2,    442.3,2,    0.000,2,    0.000,2,   1.6430,1,   0.3800,2,   0.2300,2,   0.0520,2,    0.002,2,   99.838,4,   6.8141,2
  49NZ20191205,  I08N,    22,  1,     22,   1222,2,20191209,1159,  0.5026,  80.0020, 4651,   1200.0,   5.8084,   5.8112,2,  34.8975,2,  34.8951,2,     64.2,2,     64.6,2,    91.58,2,    37.31,2,     0.01,2,     2.72,2,     0.09,2,    0.036,2,    0.017,2,    0.003,2,    0.001,2,   2314.8, 2,   2373.0,6,     34.9,2,  -999.00,9,     32.4,2,    457.5,2,    0.000,2,    0.000,2,   1.6540,1,-999.0000,9,-999.0000,9,-999.0000,9,    0.002,2,   99.868,4,   5.8112,2
  49NZ20191205,  I08N,    22,  1,     21,   1221,2,20191209,1159,  0.5026,  80.0020, 4651,   1398.0,   4.9642,   4.9639,2,  34.8607,2,  34.8603,2,     77.9,2,     78.0,2,    99.48,2,    37.12,2,     0.01,2,     2.71,2,     0.07,2,    0.021,2,    0.009,2,    0.000,2,    0.001,2,   2316.3, 2,   2381.3,2,     41.4,2,  -999.00,9,     24.6,2,    471.9,2,    0.000,2,    0.000,2,   1.6350,1,   0.3450,2,   0.2010,2,   0.0390,2,    0.002,2,   99.889,4,   4.9639,2
  49NZ20191205,  I08N,    22,  1,     20,   1220,2,20191209,1159,  0.5026,  80.0020, 4651,   1599.6,   4.1270,   4.1278,2,  34.8342,2,  34.8329,2,     94.3,2,     94.3,2,   107.97,2,    36.78,2,     0.01,2,     2.66,2,     0.07,2,    0.020,2,    0.008,2,    0.001,2,    0.003,2,   2321.4, 2,   2386.4,2,     31.3,4,  -999.00,9,     51.4,2,    475.7,2,    0.000,2,    0.000,2,   1.6320,1,-999.0000,9,-999.0000,9,-999.0000,9,    0.001,2,   99.889,4,   4.1278,2
  49NZ20191205,  I08N,    22,  1,     19,   1219,2,20191209,1159,  0.5026,  80.0020, 4651,   1799.3,   3.1207,   3.1200,2,  34.7892,2,  34.7894,2,    118.4,2,    117.8,2,   117.19,2,    36.12,2,     0.01,2,     2.59,2,     0.05,2,    0.185,4,    0.373,4,    0.054,4,    7.898,4,   2319.2, 2,   2397.1,2,     32.7,2,  -999.00,9,     -999,9,   -999.0,9,    0.000,2,    0.000,2,   1.6120,1,   0.3210,2,   0.1860,2,   0.0280,2,    0.000,2,   99.908,4,   3.1200,2
  49NZ20191205,  I08N,    22,  1,     18,   1218,2,20191209,1159,  0.5026,  80.0020, 4651,   1998.0,   2.7863,   2.7862,2,  34.7764,2,  34.7769,2,    127.1,2,    126.6,2,   121.04,2,    35.84,2,     0.00,2,     2.55,2,     0.06,2,    0.020,2,    0.007,2,    0.004,2,    0.006,2,   2318.5, 2,   2400.1,2,     35.1,2,  -999.00,9,     -999,9,   -999.0,9,    0.000,2,    0.000,2,   1.5930,1,-999.0000,9,-999.0000,9,-999.0000,9,    0.001,2,   99.895,4,   2.7862,2
  49NZ20191205,  I08N,    22,  1,     17,   1217,2,20191209,1159,  0.5026,  80.0020, 4651,   2200.5,   2.4254,   2.4252,2,  34.7610,2,  34.7616,2,    136.6,2,    136.7,2,   125.33,2,    35.53,2,     0.00,2,     2.52,2,     0.05,2,    0.015,2,    0.005,2,    0.003,2,    0.005,2,   2319.7, 2,   2403.6,2,     33.9,2,  -999.00,9,     -999,9,   -999.0,9,    0.000,2,    0.000,2,   1.5870,1,   0.3220,2,   0.1840,2,   0.0310,2,    0.000,2,   99.900,4,   2.4252,2
  49NZ20191205,  I08N,    22,  1,     16,   1216,2,20191209,1159,  0.5026,  80.0020, 4651,   2399.9,   2.1705,   2.1704,2,  34.7502,2,  34.7499,2,    144.9,2,    144.5,2,   127.43,2,    35.14,2,     0.01,2,     2.48,2,     0.06,2,    0.019,2,    0.005,2,    0.003,2,    0.005,2,   2316.9, 6,   2403.2,2,     36.3,2,  -999.00,9,     -999,9,   -999.0,9,    0.000,2,    0.000,2,   1.5780,1,-999.0000,9,-999.0000,9,-999.0000,9,   -0.001,2,   99.935,4,   2.1704,2
  49NZ20191205,  I08N,    22,  1,     15,   1215,2,20191209,1159,  0.5026,  80.0020, 4651,   2602.6,   1.9676,   1.9674,2,  34.7416,2,  34.7414,2,    151.3,2,    151.0,2,   128.82,2,    34.74,2,     0.01,2,     2.44,2,     0.08,2,    0.016,2,    0.007,2,    0.002,2,    0.009,2,   2316.1, 2,   2404.9,2,     34.5,2,  -999.00,9,     -999,9,   -999.0,9,    0.000,2,    0.000,2,   1.5500,1,   0.3260,2,   0.1880,2,   0.0330,2,    0.000,2,   99.937,4,   1.9674,2
  49NZ20191205,  I08N,    22,  1,     14,   1214,2,20191209,1159,  0.5026,  80.0020, 4651,   2799.4,   1.8043,   1.8041,2,  34.7347,2,  34.7356,2,    156.6,2,    156.4,2,   130.77,2,    34.64,2,     0.01,2,     2.42,2,     0.06,2,    0.018,2,    0.007,2,    0.002,2,     0.01,2,   2317.9, 2,   2406.5,2,     33.0,2,  -999.00,9,     -999,9,   -999.0,9,    0.000,2,    0.000,2,   1.5510,1,-999.0000,9,-999.0000,9,-999.0000,9,    0.000,2,   99.942,4,   1.8041,2
  49NZ20191205,  I08N,    22,  1,     13,   1213,2,20191209,1159,  0.5026,  80.0020, 4651,   2999.8,   1.7228,   1.7238,2,  34.7316,2,  34.7321,2,    157.8,2,    157.4,2,   133.40,2,    34.66,2,     0.01,2,     2.42,2,     0.07,2,    0.016,2,    0.006,2,    0.003,2,    0.003,2,   2319.9, 2,   2408.5,2,     31.9,2,  -999.00,9,     -999,9,   -999.0,9,    0.000,2,    0.000,2,   1.5530,1,   0.3450,2,   0.2070,2,   0.0380,2,    0.000,2,   99.931,4,   1.7238,2
  49NZ20191205,  I08N,    22,  1,     12,   1212,2,20191209,1159,  0.5026,  80.0020, 4651,   3249.7,   1.5924,   1.5926,2,  34.7268,2,  34.7263,2,    161.8,2,    161.5,2,   135.60,2,    34.59,2,     0.01,2,     2.41,2,     0.08,2,    0.020,2,    0.008,2,    0.003,2,    0.014,2,   2318.1, 2,   2413.0,6,     33.0,2,  -999.00,9,     -999,9,   -999.0,9,    0.000,2,    0.000,2,   1.5460,1,-999.0000,9,-999.0000,9,-999.0000,9,    0.000,2,   99.948,4,   1.5926,2
  49NZ20191205,  I08N,    22,  1,     11,   1211,2,20191209,1159,  0.5026,  80.0020, 4651,   3498.4,   1.4568,   1.4568,2,  34.7217,2,  34.7211,2,    165.5,2,    165.1,2,   138.42,2,    34.50,2,     0.01,2,     2.40,2,     0.07,2,    0.022,2,    0.008,2,    0.002,2,    0.025,2,   2321.5, 2,   2418.6,2,     33.9,2,  -999.00,9,     -999,9,   -999.0,9,    0.000,2,    0.000,2,   1.5390,1,   0.3130,2,   0.1760,2,   0.0280,2,    0.000,2,   99.958,4,   1.4568,2
  49NZ20191205,  I08N,    22,  1,     10,   1210,2,20191209,1159,  0.5026,  80.0020, 4651,   3749.4,   1.3707,   1.3707,2,  34.7185,2,  34.7186,2,    170.9,2,    170.7,2,   138.39,2,    34.39,2,     0.00,2,     2.38,2,     0.07,2,    0.018,2,    0.006,2,    0.003,2,     0.01,2,   2319.5, 2,   2418.2,2,     34.4,2,  -999.00,9,     -999,9,   -999.0,9,    0.000,2,    0.000,2,   1.5280,1,-999.0000,9,-999.0000,9,-999.0000,9,   -0.001,2,   99.961,4,   1.3707,2
  49NZ20191205,  I08N,    22,  1,      9,   1209,2,20191209,1159,  0.5026,  80.0020, 4651,   4000.7,   1.3680,   1.3680,2,  34.7176,2,  34.7177,2,    174.8,2,    174.4,2,   136.24,2,    34.06,2,     0.01,2,     2.35,2,     0.06,2,    0.017,2,    0.006,2,    0.004,2,    0.004,2,   2313.8, 2,   2421.7,2,     35.8,2,  -999.00,9,     -999,9,   -999.0,9,    0.000,2,    0.000,2,   1.5020,1,   0.2880,2,   0.1560,2,   0.0260,2,   -0.001,2,   99.969,4,   1.3680,2
  49NZ20191205,  I08N,    22,  1,      8,   1208,2,20191209,1159,  0.5026,  80.0020, 4651,   4249.4,   1.3852,   1.3851,2,  34.7172,2,  34.7172,2,    176.2,2,    176.0,2,   135.69,2,    33.95,2,     0.01,2,     2.34,2,     0.05,2,    0.017,2,    0.007,2,    0.003,2,    0.016,2,   2314.0, 6,   2418.5,2,     33.7,2,  -999.00,9,     -999,9,   -999.0,9,    0.000,2,    0.000,2,   1.4870,1,-999.0000,9,-999.0000,9,-999.0000,9,    0.000,2,   99.988,4,   1.3851,2
  49NZ20191205,  I08N,    22,  1,      7,   1207,2,20191209,1159,  0.5026,  80.0020, 4651,   4501.6,   1.4110,   1.4110,2,  34.7172,2,  34.7178,2,    176.4,2,    176.2,2,   135.87,2,    33.96,2,     0.01,2,     2.34,2,     0.04,2,    0.023,2,    0.009,2,    0.007,2,    0.015,2,   2308.5, 2,   2415.1,2,     37.9,2,  -999.00,9,     -999,9,   -999.0,9,    0.000,2,    0.000,2,   1.5070,1,   0.3160,2,   0.1720,2,   0.0330,2,   -0.001,2,   99.980,4,   1.4110,2
  49NZ20191205,  I08N,    22,  1,      2,  12046,2,20191209,1159,  0.5026,  80.0020, 4651,     59.4,  27.5726,  27.5737,2,  35.0907,2,  35.0978,2,    180.8,2,    180.8,2,     2.44,2,     1.12,2,     0.21,2,     0.28,2,     0.27,2, -999.000,9, -999.000,9, -999.000,9,     -999,9,   2006.4, 2,   2297.6,2,     62.7,2,     0.56,2,     56.6,2,    295.9,2,    0.000,2,    0.000,2,   1.3650,1,   0.3560,2,   0.2060,2,   0.0370,2,    0.596,2,   97.870,2,  27.5737,2
  49NZ20191205,  I08N,    22,  1,      1,   1201,2,20191209,1159,  0.5026,  80.0020, 4651,   4708.1,   1.4288,   1.4287,2,  34.7170,2,  34.7178,2,    177.0,2,    177.0,2,   135.53,2,    33.98,2,     0.01,2,     2.34,2,     0.02,2,    0.018,2,    0.007,2,    0.002,2,    0.013,2,   2312.5, 2,   2413.5,2,     37.1,2,  -999.00,9,     -999,9,   -999.0,9,    0.000,2,    0.000,2,   1.4960,1,   0.3160,2,   0.1800,2,   0.0340,2,   -0.001,2,   99.923,4,   1.4287,2