BOTTLE,20210412PRINUNIVRMK
EXPOCODE,SECT_ID,STNNBR,CASTNO,SAMPNO,BTLNBR,BTLNBR_FLAG_W,DATE,TIME,LATITUDE,LONGITUDE,DEPTH,CTDPRS,CTDTMP,SBE35,SBE35_FLAG_W,CTDSAL,CTDSAL_FLAG_W,SALNTY,SALNTY_FLAG_W,CTDOXY,CTDOXY_FLAG_W,OXYGEN,OXYGEN_FLAG_W,SILCAT,SILCAT_FLAG_W,NITRAT,NITRAT_FLAG_W,NITRIT,NITRIT_FLAG_W,PHSPHT,PHSPHT_FLAG_W,NH4,NH4_FLAG_W,CFC-11,CFC-11_FLAG_W,CFC-12,CFC-12_FLAG_W,CFC113,CFC113_FLAG_W,SF6,SF6_FLAG_W,TCARBN,TCARBN_FLAG_W,ALKALI,ALKALI_FLAG_W,DOC,DOC_FLAG_W,CHLWELSH,CHLWELSH_FLAG_W,UREA,UREA_FLAG_W,IODATE,IODATE_FLAG_W,PAR,PAR_FLAG_W,PAR,PAR_FLAG_W,CDOM,CDOM_FLAG_W,CDOM300,CDOM300_FLAG_W,CDOM325,CDOM325_FLAG_W,CDOM443,CDOM443_FLAG_W,CTDFLUOR,CTDFLUOR_FLAG_W,CTDXMISS,CTDXMISS_FLAG_W,SBE35,SBE35_FLAG_W
,,,,,,,,,,,METERS,DBAR,ITS-90,,,PSS-78,,PSS-78,,UMOL/KG,,UMOL/KG,,UMOL/KG,,UMOL/KG,,UMOL/KG,,UMOL/KG,,UMOL/KG,,PMOL/KG,,PMOL/KG,,PMOL/KG,,FMOL/KG,,UMOL/KG,,UMOL/KG,,UMOL/KG,,UG/KG,,nMOL/L,,nMOL/L,,VOLTS,,VOLTS,,MG/M^3,,1/M,,1/M,,1/M,,MG/M^3,,%TRANS,,,
  49NZ20191205,  I08N,    48,  1,     36,   1236,2,20191216,1246,-10.0001,  79.9996, 5383,     10.0,  27.9813,  27.9796,2,  34.5169,2,  34.5155,2,    201.1,2,    200.6,2,     1.70,2,     0.01,2,     0.01,2,     0.08,2,     0.05,2,    1.479,2,    0.937,2,    0.122,2,    1.603,2,   1964.3, 2,   2269.4,2,   -999.0,9,     0.05,2,     58.3,2,    301.6,2,    0.000,2,    0.000,2,   1.1260,1,-999.0000,9,-999.0000,9,-999.0000,9,    0.040,2,   98.684,2,  27.9796,2
  49NZ20191205,  I08N,    48,  1,     35,   1235,2,20191216,1246,-10.0001,  79.9996, 5383,     50.2,  27.7748,  27.7739,2,  34.5121,2,  34.5118,2,    201.5,2,    201.1,2,     1.61,2,     0.01,2,     0.01,2,     0.08,2,     0.05,2,    1.494,2,    0.945,2,    0.128,2,    1.557,2,   1958.6, 2,   2270.5,2,   -999.0,9,     0.07,2,     55.2,2,    313.5,2,    0.000,2,    0.000,2,   1.1250,1,-999.0000,9,-999.0000,9,-999.0000,9,    0.092,2,   98.553,2,  27.7739,2
  49NZ20191205,  I08N,    48,  1,     34,   1234,2,20191216,1246,-10.0001,  79.9996, 5383,    100.5,  27.6900,  27.6900,2,  34.7859,2,  34.7841,2,    197.5,2,    197.5,2,     1.96,2,     0.01,2,     0.01,2,     0.11,2,     0.02,2,    1.475,2,    0.941,2,    0.119,2,    1.555,2,   1961.4, 2,   2280.5,2,   -999.0,9,     0.33,2,     57.1,2,    312.0,2,    0.000,2,    0.000,2,   1.1440,1,-999.0000,9,-999.0000,9,-999.0000,9,    0.323,2,   98.659,2,  27.6900,2
  49NZ20191205,  I08N,    48,  1,     33,   1233,2,20191216,1246,-10.0001,  79.9996, 5383,    149.9,  20.4643,  20.4616,2,  34.8108,2,  34.7919,2,     84.5,2,     84.6,2,    15.46,2,    17.98,2,     0.04,2,     1.24,2,     0.01,2,    1.630,2,    1.002,2,    0.036,2,    1.124,2,   2125.1, 2,   2285.0,2,   -999.0,9,     0.16,2,     51.4,2,    401.0,2,    0.000,2,    0.000,2,   1.4510,1,-999.0000,9,-999.0000,9,-999.0000,9,    0.197,2,   99.306,2,  20.4616,2
  49NZ20191205,  I08N,    48,  1,     32,   1232,2,20191216,1246,-10.0001,  79.9996, 5383,    199.0,  15.7603,  15.7632,2,  34.6010,2,  34.6015,2,     87.5,2,     87.3,2,    27.43,2,    22.42,2,     0.02,2,     1.55,2,     0.02,2,    1.552,2,    0.915,2,    0.009,2,    0.898,2,   2161.3, 2,   2292.6,2,   -999.0,9,     0.03,2,     49.7,2,    447.4,2,    0.000,2,    0.000,2,   1.4700,1,-999.0000,9,-999.0000,9,-999.0000,9,    0.037,2,   99.614,2,  15.7632,2
  49NZ20191205,  I08N,    48,  1,     31,   1231,2,20191216,1246,-10.0001,  79.9996, 5383,    250.6,  13.2183,  13.2262,2,  34.6752,2,  34.6745,2,     82.2,2,     82.3,2,    33.69,2,    25.50,2,     0.01,2,     1.78,2,     0.02,2,    1.430,2,    0.825,2,    0.004,2,    0.633,2,   2192.1, 2,   2302.9,2,   -999.0,9,     0.01,2,     43.5,2,    411.5,2,    0.000,2,    0.000,2,   1.4850,1,-999.0000,9,-999.0000,9,-999.0000,9,   -0.004,2,   99.665,2,  13.2262,2
  49NZ20191205,  I08N,    48,  1,     30,   1230,2,20191216,1246,-10.0001,  79.9996, 5383,    300.4,  11.8438,  11.8488,2,  34.7432,2,  34.7415,2,     80.4,2,     81.1,2,    35.52,2,    27.29,2,     0.02,2,     1.91,3,     0.03,2,    1.399,2,    0.785,2,    0.013,2,    0.549,2,   2209.0, 2,   2308.3,2,   -999.0,9,  -999.00,9,     50.1,2,    428.1,2,    0.000,2,    0.000,2,   1.4920,1,-999.0000,9,-999.0000,9,-999.0000,9,   -0.002,2,   99.677,2,  11.8488,2
  49NZ20191205,  I08N,    48,  1,     29,   1229,2,20191216,1246,-10.0001,  79.9996, 5383,    400.4,  10.1639,  10.1569,2,  34.8085,2,  34.8043,2,    107.0,2,    106.3,2,    29.34,2,    27.69,4,     0.02,2,     1.87,3,     0.04,2,    1.685,2,    0.913,2,    0.031,2,    0.571,2,   2209.7, 2,   2310.4,2,   -999.0,9,  -999.00,9,     48.5,2,    435.9,2,    0.000,2,    0.000,2,   1.4240,1,-999.0000,9,-999.0000,9,-999.0000,9,    0.001,2,   99.736,2,  10.1569,2
  49NZ20191205,  I08N,    48,  1,     28,   1228,2,20191216,1246,-10.0001,  79.9996, 5383,    501.0,   8.7018,   8.7096,2,  34.7519,2,  34.7519,2,     88.5,2,     87.1,2,    43.31,2,    32.52,3,     0.02,2,     2.24,3,     0.01,2,    0.895,2,    0.473,2,    0.018,2,     0.13,2,   2238.1, 2,   2319.8,2,   -999.0,9,  -999.00,9,     53.7,2,    448.1,2,    0.000,2,    0.000,2,   1.4570,1,-999.0000,9,-999.0000,9,-999.0000,9,    0.001,2,   99.760,2,   8.7096,2
  49NZ20191205,  I08N,    48,  1,     27,   1227,2,20191216,1246,-10.0001,  79.9996, 5383,    600.2,   7.8288,   7.8462,2,  34.7485,2,  34.7454,2,     75.1,2,     74.8,2,    57.70,2,    34.49,2,     0.01,2,     2.44,2,     0.02,2,    0.416,2,    0.225,2,    0.008,2,    0.097,2,   2262.0, 2,   2333.6,2,   -999.0,9,  -999.00,9,     49.2,2,    452.0,2,    0.000,2,    0.000,2,   1.5030,1,-999.0000,9,-999.0000,9,-999.0000,9,    0.002,2,   99.789,2,   7.8462,2
  49NZ20191205,  I08N,    48,  1,     26,   1226,2,20191216,1246,-10.0001,  79.9996, 5383,    700.6,   6.9972,   6.9983,2,  34.7245,2,  34.7264,2,     72.1,2,     71.8,2,    69.76,2,    35.63,2,     0.01,2,     2.54,2,     0.02,2,    0.219,2,    0.120,2,    0.007,2,    0.022,2,   2276.6, 6,   2344.8,2,   -999.0,9,  -999.00,9,       45,2,    453.5,2,    0.000,2,    0.000,2,   1.5310,1,-999.0000,9,-999.0000,9,-999.0000,9,    0.000,2,   99.817,2,   6.9983,2
  49NZ20191205,  I08N,    48,  1,     25,   1225,2,20191216,1246,-10.0001,  79.9996, 5383,    799.6,   6.3636,   6.3633,2,  34.7004,2,  34.7030,2,     74.2,2,     74.0,2,    79.36,2,    36.21,2,     0.01,2,     2.60,2,     0.04,2,    0.073,2,    0.037,2,    0.002,2,    0.025,2,   2289.5, 2,   2355.6,2,   -999.0,9,  -999.00,9,     45.2,2,    437.4,2,    0.000,2,    0.000,2,   1.5410,1,-999.0000,9,-999.0000,9,-999.0000,9,    0.001,2,   99.823,2,   6.3633,2
  49NZ20191205,  I08N,    48,  1,     24,   1224,2,20191216,1246,-10.0001,  79.9996, 5383,    901.6,   5.9281,   5.9287,2,  34.7094,2,  34.7180,2,     76.7,2,     76.3,2,    85.42,2,    36.68,2,     0.01,2,     2.64,2,     0.03,2,    0.102,2,    0.054,2,    0.006,2,    0.019,2,   2292.7, 2,   2361.5,2,   -999.0,9,  -999.00,9,     46.1,2,    456.6,2,    0.000,2,    0.000,2,   1.5470,1,-999.0000,9,-999.0000,9,-999.0000,9,    0.001,2,   99.846,2,   5.9287,2
  49NZ20191205,  I08N,    48,  1,     23,   1223,2,20191216,1246,-10.0001,  79.9996, 5383,   1000.0,   5.5260,   5.5252,2,  34.7265,2,  34.7257,2,     79.4,2,     79.6,2,    91.01,2,    36.80,2,     0.01,2,     2.65,2,     0.02,2,    0.137,2,    0.076,2,    0.000,2,    0.028,2,   2301.6, 2,   2364.9,2,   -999.0,9,  -999.00,9,     48.5,2,    454.5,2,    0.000,2,    0.000,2,   1.5450,1,-999.0000,9,-999.0000,9,-999.0000,9,    0.001,2,   99.848,2,   5.5252,2
  49NZ20191205,  I08N,    48,  1,     22,   1222,2,20191216,1246,-10.0001,  79.9996, 5383,   1200.6,   4.9471,   4.9493,2,  34.7515,2,  34.7508,2,     85.8,2,     85.9,2,    96.83,2,    36.94,2,     0.01,2,     2.66,2,     0.02,2,    0.035,2,    0.017,2,    0.000,2,    0.026,2,   2304.4, 2,   2374.0,6,   -999.0,9,  -999.00,9,     54.6,2,    467.7,2,    0.000,2,    0.000,2,   1.5610,1,-999.0000,9,-999.0000,9,-999.0000,9,    0.000,2,   99.857,2,   4.9493,2
  49NZ20191205,  I08N,    48,  1,     21,   1221,2,20191216,1246,-10.0001,  79.9996, 5383,   1398.4,   4.3488,   4.3488,2,  34.7624,2,  34.7601,2,     97.5,2,     97.8,2,   101.43,2,    36.61,2,     0.01,2,     2.64,2,     0.03,2,    0.022,2,    0.010,2,    0.002,2,    0.011,2,   2308.7, 2,   2378.1,2,   -999.0,9,  -999.00,9,     50.5,2,    455.5,2,    0.000,2,    0.000,2,   1.5490,1,-999.0000,9,-999.0000,9,-999.0000,9,    0.000,2,   99.861,2,   4.3488,2
  49NZ20191205,  I08N,    48,  1,     20,   1220,2,20191216,1246,-10.0001,  79.9996, 5383,   1599.6,   3.6094,   3.6103,2,  34.7560,2,  34.7546,2,    113.6,2,    113.8,2,   107.30,2,    36.15,2,     0.01,2,     2.58,2,     0.03,2,    0.012,2,    0.004,2,    0.001,2,    0.006,2,   2308.1, 2,   2385.9,2,   -999.0,9,  -999.00,9,     48.4,2,    467.9,2,    0.000,2,    0.000,2,   1.5390,1,-999.0000,9,-999.0000,9,-999.0000,9,    0.000,2,   99.871,2,   3.6103,2
  49NZ20191205,  I08N,    48,  1,     19,   1219,2,20191216,1246,-10.0001,  79.9996, 5383,   1800.5,   3.0153,   3.0151,2,  34.7513,2,  34.7511,2,    128.0,2,    128.2,2,   112.78,2,    35.67,2,     0.01,2,     2.52,2,     0.03,2,    0.010,2,    0.004,2,    0.005,2,    0.007,2,   2309.1, 2,   2388.8,2,   -999.0,9,  -999.00,9,     -999,9,   -999.0,9,    0.000,2,    0.000,2,   1.5260,1,-999.0000,9,-999.0000,9,-999.0000,9,    0.000,2,   99.880,2,   3.0151,2
  49NZ20191205,  I08N,    48,  1,     18,   1218,2,20191216,1246,-10.0001,  79.9996, 5383,   1999.5,   2.5872,   2.5890,2,  34.7470,2,  34.7467,2,    139.4,2,    139.6,2,   117.18,2,    35.30,2,     0.01,2,     2.48,2,     0.02,2,    0.012,2,    0.004,2,    0.000,2,    0.014,2,   2305.2, 2,   2393.8,2,   -999.0,9,  -999.00,9,     -999,9,   -999.0,9,    0.000,2,    0.000,2,   1.5110,1,-999.0000,9,-999.0000,9,-999.0000,9,    0.000,2,   99.878,2,   2.5890,2
  49NZ20191205,  I08N,    48,  1,     17,   1217,2,20191216,1246,-10.0001,  79.9996, 5383,   2199.1,   2.2918,   2.2923,2,  34.7422,2,  34.7414,2,    148.5,2,    148.7,2,   119.67,2,    34.88,2,     0.01,2,     2.45,2,     0.02,2,    0.011,2,    0.003,2,    0.002,2,        0,2,   2304.7, 2,   2393.2,2,   -999.0,9,  -999.00,9,     -999,9,   -999.0,9,    0.000,2,    0.000,2,   1.4910,1,-999.0000,9,-999.0000,9,-999.0000,9,    0.000,2,   99.890,2,   2.2923,2
  49NZ20191205,  I08N,    48,  1,     16,   1216,2,20191216,1246,-10.0001,  79.9996, 5383,   2397.8,   2.0852,   2.0853,2,  34.7390,2,  34.7388,2,    154.9,2,    154.9,2,   121.85,2,    34.55,2,     0.01,2,     2.42,2,     0.02,2,    0.012,2,    0.003,2,    0.002,2,    0.027,2,   2303.8, 6,   2398.4,2,   -999.0,9,  -999.00,9,     -999,9,   -999.0,9,    0.000,2,    0.000,2,   1.4780,1,-999.0000,9,-999.0000,9,-999.0000,9,   -0.001,2,   99.876,2,   2.0853,2
  49NZ20191205,  I08N,    48,  1,     15,   1215,2,20191216,1246,-10.0001,  79.9996, 5383,   2597.9,   1.9388,   1.9392,2,  34.7356,2,  34.7352,2,    159.2,2,    159.2,2,   123.63,2,    34.28,2,     0.01,2,     2.40,2,     0.02,2,    0.011,2,    0.004,2,    0.005,2,    0.001,2,   2302.8, 2,   2400.4,2,   -999.0,9,  -999.00,9,     -999,9,   -999.0,9,    0.000,2,    0.000,2,   1.4780,1,-999.0000,9,-999.0000,9,-999.0000,9,   -0.001,2,   99.878,2,   1.9392,2
  49NZ20191205,  I08N,    48,  1,     14,   1214,2,20191216,1246,-10.0001,  79.9996, 5383,   2800.9,   1.8331,   1.8327,2,  34.7322,2,  34.7317,2,    162.9,2,    163.4,2,   124.72,2,    34.10,2,     0.01,2,     2.37,2,     0.04,2,    0.011,2,    0.004,2,    0.001,2,    0.003,2,   2299.8, 2,   2400.7,2,   -999.0,9,  -999.00,9,     -999,9,   -999.0,9,    0.000,2,    0.000,2,   1.4680,1,-999.0000,9,-999.0000,9,-999.0000,9,    0.000,2,   99.886,2,   1.8327,2
  49NZ20191205,  I08N,    48,  1,     13,   1213,2,20191216,1246,-10.0001,  79.9996, 5383,   2999.5,   1.7321,   1.7318,2,  34.7293,2,  34.7286,2,    166.0,2,    166.1,2,   126.99,2,    34.20,2,     0.01,2,     2.37,2,     0.03,2,    0.000,2,    0.000,2,    0.003,2,    0.001,2,   2304.9, 2,   2404.5,2,   -999.0,9,  -999.00,9,     -999,9,   -999.0,9,    0.000,2,    0.000,2,   1.4730,1,-999.0000,9,-999.0000,9,-999.0000,9,   -0.001,2,   99.888,2,   1.7318,2
  49NZ20191205,  I08N,    48,  1,     12,   1212,2,20191216,1246,-10.0001,  79.9996, 5383,   3252.5,   1.6050,   1.6048,2,  34.7254,2,  34.7246,2,    169.0,2,    169.3,2,   129.92,2,    34.17,2,     0.01,2,     2.36,2,     0.03,2,    0.011,2,    0.003,2,    0.001,2,    0.009,2,   2302.5, 2,   2407.6,6,   -999.0,9,  -999.00,9,     -999,9,   -999.0,9,    0.000,2,    0.000,2,   1.4690,1,-999.0000,9,-999.0000,9,-999.0000,9,   -0.001,2,   99.888,2,   1.6048,2
  49NZ20191205,  I08N,    48,  1,     11,   1211,2,20191216,1246,-10.0001,  79.9996, 5383,   3499.9,   1.4955,   1.4957,2,  34.7222,2,  34.7227,2,    172.3,2,    172.3,2,   131.81,2,    34.16,2,     0.01,2,     2.36,2,     0.03,2,    0.011,2,    0.004,2,    0.001,2,     0.02,2,   2302.6, 2,   2409.0,2,   -999.0,9,  -999.00,9,     -999,9,   -999.0,9,    0.000,2,    0.000,2,   1.4630,1,-999.0000,9,-999.0000,9,-999.0000,9,   -0.001,2,   99.886,2,   1.4957,2
  49NZ20191205,  I08N,    48,  1,     10,   1210,2,20191216,1246,-10.0001,  79.9996, 5383,   3749.1,   1.3882,   1.3882,2,  34.7192,2,  34.7195,2,    178.0,2,    177.7,2,   132.01,2,    33.89,2,     0.01,2,     2.34,2,     0.03,2,    0.012,2,    0.005,2,    0.004,2,    0.031,2,   2298.9, 2,   2409.0,2,   -999.0,9,  -999.00,9,     -999,9,   -999.0,9,    0.000,2,    0.000,2,   1.4460,1,-999.0000,9,-999.0000,9,-999.0000,9,   -0.001,2,   99.909,2,   1.3882,2
  49NZ20191205,  I08N,    48,  1,      9,   1209,2,20191216,1246,-10.0001,  79.9996, 5383,   3999.0,   1.3541,   1.3541,2,  34.7177,2,  34.7182,2,    179.5,2,    179.4,2,   133.31,2,    33.86,2,     0.01,2,     2.33,2,     0.01,2,    0.011,2,    0.004,2,    0.002,2,    0.017,2,   2301.4, 3,   2410.3,2,   -999.0,9,  -999.00,9,     -999,9,   -999.0,9,    0.000,2,    0.000,2,   1.4250,1,-999.0000,9,-999.0000,9,-999.0000,9,    0.000,2,   99.897,2,   1.3541,2
  49NZ20191205,  I08N,    48,  1,      8,  12103,2,20191216,1246,-10.0001,  79.9996, 5383,   4250.4,   1.3546,   1.3546,2,  34.7171,2,  34.7179,2,    181.3,2,    181.2,2,   133.47,2,    33.85,2,     0.01,2,     2.32,2,     0.01,2,    0.014,2,    0.007,2,    0.000,2,    0.026,2,   2299.0, 6,   2409.6,2,   -999.0,9,  -999.00,9,     -999,9,   -999.0,9,    0.000,2,    0.000,2,   1.4370,1,-999.0000,9,-999.0000,9,-999.0000,9,   -0.001,2,   99.899,2,   1.3546,2
  49NZ20191205,  I08N,    48,  1,      7,   1207,2,20191216,1246,-10.0001,  79.9996, 5383,   4499.6,   1.3667,   1.3668,2,  34.7169,2,  34.7168,2,    181.9,2,    181.6,2,   133.31,2,    33.81,2,     0.01,2,     2.32,2,     0.01,2,    0.013,2,    0.004,2,    0.005,2,        0,2,   2298.0, 2,   2410.2,2,   -999.0,9,  -999.00,9,     -999,9,   -999.0,9,    0.000,2,    0.000,2,   1.4250,1,-999.0000,9,-999.0000,9,-999.0000,9,    0.001,2,   99.897,2,   1.3668,2
  49NZ20191205,  I08N,    48,  1,      6,   1206,2,20191216,1246,-10.0001,  79.9996, 5383,   4752.7,   1.3866,   1.3866,2,  34.7166,2,  34.7164,2,    182.4,2,    182.3,2,   132.95,2,    33.80,2,     0.01,2,     2.32,2,     0.01,2,    0.013,2,    0.006,2,    0.006,2,    0.011,2,   2296.2, 2,   2408.6,6,   -999.0,9,  -999.00,9,     -999,9,   -999.0,9,    0.000,2,    0.000,2,   1.4490,1,-999.0000,9,-999.0000,9,-999.0000,9,   -0.001,2,   99.897,2,   1.3866,2
  49NZ20191205,  I08N,    48,  1,      5,   1205,2,20191216,1246,-10.0001,  79.9996, 5383,   5001.5,   1.4105,   1.4106,2,  34.7165,2,  34.7166,2,    182.8,2,    182.7,2,   132.91,2,    33.69,2,     0.01,2,     2.32,2,     0.01,2,    0.013,2,    0.006,2,    0.006,2,    0.031,2,   2297.7, 2,   2406.3,2,   -999.0,9,  -999.00,9,     -999,9,   -999.0,9,    0.000,2,    0.000,2,   1.4440,1,-999.0000,9,-999.0000,9,-999.0000,9,   -0.001,2,   99.892,2,   1.4106,2
  49NZ20191205,  I08N,    48,  1,      4,   1204,2,20191216,1246,-10.0001,  79.9996, 5383,   5250.3,   1.4372,   1.4373,2,  34.7165,2,  34.7165,2,    183.1,2,    183.1,2,   132.60,2,    33.69,2,     0.01,2,     2.32,2,     0.01,2,    0.012,2,    0.003,2,    0.001,2,    0.001,2,   2296.9, 2,   2407.5,2,   -999.0,9,  -999.00,9,     -999,9,   -999.0,9,    0.000,2,    0.000,2,   1.4480,1,-999.0000,9,-999.0000,9,-999.0000,9,   -0.001,2,   99.892,2,   1.4373,2
  49NZ20191205,  I08N,    48,  1,      2,  12046,2,20191216,1246,-10.0001,  79.9996, 5383,    112.3,  27.3292,  27.3308,2,  34.7558,2,  34.7608,2,    193.5,2,    192.8,2,     2.27,2,     0.25,2,     0.04,2,     0.15,2,     0.04,2, -999.000,9, -999.000,9, -999.000,9,     -999,9,   1967.4, 2,   2281.3,2,   -999.0,9,     0.37,2,     43.4,2,    285.6,2,    0.000,2,    0.000,2,   1.2020,1,-999.0000,9,-999.0000,9,-999.0000,9,    0.390,2,   98.737,2,  27.3308,2
  49NZ20191205,  I08N,    48,  1,      1,   1201,2,20191216,1246,-10.0001,  79.9996, 5383,   5457.9,   1.4631,   1.4631,2,  34.7166,2,  34.7161,2,    183.0,2,    182.9,2,   132.39,2,    33.65,2,     0.01,2,     2.31,2,     0.02,2,    0.016,2,    0.006,2,    0.006,2,    0.001,2,   2296.2, 2,   2407.4,2,   -999.0,9,  -999.00,9,     -999,9,   -999.0,9,    0.000,2,    0.000,2,   1.4390,1,-999.0000,9,-999.0000,9,-999.0000,9,    0.000,2,   99.869,2,   1.4631,2