BOTTLE,20210412PRINUNIVRMK
EXPOCODE,SECT_ID,STNNBR,CASTNO,SAMPNO,BTLNBR,BTLNBR_FLAG_W,DATE,TIME,LATITUDE,LONGITUDE,DEPTH,CTDPRS,CTDTMP,SBE35,SBE35_FLAG_W,CTDSAL,CTDSAL_FLAG_W,SALNTY,SALNTY_FLAG_W,CTDOXY,CTDOXY_FLAG_W,OXYGEN,OXYGEN_FLAG_W,SILCAT,SILCAT_FLAG_W,NITRAT,NITRAT_FLAG_W,NITRIT,NITRIT_FLAG_W,PHSPHT,PHSPHT_FLAG_W,NH4,NH4_FLAG_W,CFC-11,CFC-11_FLAG_W,CFC-12,CFC-12_FLAG_W,CFC113,CFC113_FLAG_W,SF6,SF6_FLAG_W,TCARBN,TCARBN_FLAG_W,ALKALI,ALKALI_FLAG_W,DOC,DOC_FLAG_W,CHLWELSH,CHLWELSH_FLAG_W,UREA,UREA_FLAG_W,IODATE,IODATE_FLAG_W,PAR,PAR_FLAG_W,PAR,PAR_FLAG_W,CDOM,CDOM_FLAG_W,CDOM300,CDOM300_FLAG_W,CDOM325,CDOM325_FLAG_W,CDOM443,CDOM443_FLAG_W,CTDFLUOR,CTDFLUOR_FLAG_W,CTDXMISS,CTDXMISS_FLAG_W,SBE35,SBE35_FLAG_W
,,,,,,,,,,,METERS,DBAR,ITS-90,,,PSS-78,,PSS-78,,UMOL/KG,,UMOL/KG,,UMOL/KG,,UMOL/KG,,UMOL/KG,,UMOL/KG,,UMOL/KG,,PMOL/KG,,PMOL/KG,,PMOL/KG,,FMOL/KG,,UMOL/KG,,UMOL/KG,,UMOL/KG,,UG/KG,,nMOL/L,,nMOL/L,,VOLTS,,VOLTS,,MG/M^3,,1/M,,1/M,,1/M,,MG/M^3,,%TRANS,,,
  49NZ20191205,  I08N,    27,  1,     36,   1236,2,20191210,1418, -0.7489,  80.0003, 4735,     10.2,  28.8400,  28.8382,2,  34.6386,2,  34.6381,2,    196.0,2,    195.3,2,     1.04,2,     0.14,2,     0.02,2,     0.14,2,     0.09,2,    1.424,2,    0.909,2,    0.117,2,    1.461,2,   1959.7, 2,   2272.2,2,   -999.0,9,     0.13,2,     -999,9,   -999.0,9,    0.003,2,    0.003,2,   1.2130,1,-999.0000,9,-999.0000,9,-999.0000,9,    0.222,2,   98.196,2,  28.8382,2
  49NZ20191205,  I08N,    27,  1,     35,   1235,2,20191210,1418, -0.7489,  80.0003, 4735,     50.4,  28.2983,  28.3068,2,  34.7175,2,  34.7198,2,    191.6,2,    191.4,2,     1.82,2,     0.27,2,     0.06,2,     0.17,2,     0.13,2,    1.445,2,    0.921,2,    0.114,2,    1.545,2,   1966.1, 2,   2271.3,2,   -999.0,9,     0.35,2,     -999,9,   -999.0,9,    0.000,2,    0.000,2,   1.2770,1,-999.0000,9,-999.0000,9,-999.0000,9,    0.504,2,   97.909,2,  28.3068,2
  49NZ20191205,  I08N,    27,  1,     34,   1234,2,20191210,1418, -0.7489,  80.0003, 4735,    101.6,  20.9667,  20.9598,2,  35.3007,2,  35.3028,2,     99.3,2,     99.0,2,     9.57,2,    15.63,2,     0.04,2,     1.11,2,     0.05,2,    1.743,2,    1.076,2,    0.044,2,    1.225,2,   2129.6, 2,   2313.8,2,   -999.0,9,     0.20,2,     -999,9,   -999.0,9,    0.000,2,    0.000,2,   1.4370,1,-999.0000,9,-999.0000,9,-999.0000,9,    0.203,2,   99.247,2,  20.9598,2
  49NZ20191205,  I08N,    27,  1,     33,   1233,2,20191210,1418, -0.7489,  80.0003, 4735,    470.0,  10.3616,  10.3611,2,  34.9993,2,-999.0000,9,     68.1,2,   -999.0,9,  -999.00,9,  -999.00,9,  -999.00,9,  -999.00,9,     -999,9, -999.000,9, -999.000,9, -999.000,9,     -999,9,   -999.0, 9,   -999.0,9,   -999.0,9,  -999.00,9,     -999,9,   -999.0,9,    0.000,2,    0.000,2,   1.5230,1,-999.0000,9,-999.0000,9,-999.0000,9,    0.004,2,   99.630,2,  10.3611,2
  49NZ20191205,  I08N,    27,  1,     32,   1232,2,20191210,1418, -0.7489,  80.0003, 4735,    202.6,  13.3178,  13.3202,2,  35.1143,2,  35.1137,2,     68.6,2,     68.1,2,    20.47,2,    26.08,2,     0.01,2,     1.79,2,     0.04,2,    1.786,2,    1.023,2,    0.012,2,    0.624,2,   2210.8, 2,   2308.4,2,   -999.0,9,     0.01,2,     -999,9,   -999.0,9,    0.000,2,    0.000,2,   1.5170,1,-999.0000,9,-999.0000,9,-999.0000,9,   -0.001,2,   99.559,2,  13.3202,2
  49NZ20191205,  I08N,    27,  1,     31,   1231,2,20191210,1418, -0.7489,  80.0003, 4735,    971.2,   6.9588,   6.9591,2,  34.9359,2,-999.0000,9,     54.8,2,   -999.0,9,  -999.00,9,  -999.00,9,  -999.00,9,  -999.00,9,     -999,9, -999.000,9, -999.000,9, -999.000,9,     -999,9,   -999.0, 9,   -999.0,9,   -999.0,9,  -999.00,9,     -999,9,   -999.0,9,    0.000,2,    0.000,2,   1.6230,1,-999.0000,9,-999.0000,9,-999.0000,9,    0.002,2,   99.790,2,   6.9591,2
  49NZ20191205,  I08N,    27,  1,     30,   1230,2,20191210,1418, -0.7489,  80.0003, 4735,    280.2,  12.4532,  12.4530,2,  35.0889,2,  35.0890,2,     82.2,2,     82.4,2,    20.71,2,    25.83,2,     0.01,2,     1.76,2,     0.04,2,    1.856,2,    1.050,2,    0.018,2,    0.662,2,   2208.2, 2,   2313.8,2,   -999.0,9,  -999.00,9,     -999,9,   -999.0,9,    0.000,2,    0.000,2,   1.5080,1,-999.0000,9,-999.0000,9,-999.0000,9,    0.002,2,   99.559,2,  12.4530,2
  49NZ20191205,  I08N,    27,  1,     29,   1229,2,20191210,1418, -0.7489,  80.0003, 4735,    372.2,  11.0155,  11.0153,2,  35.0322,2,  35.0317,2,     67.4,2,     67.2,2,    27.49,2,    29.74,2,     0.01,2,     2.03,2,     0.04,2,    1.432,2,    0.781,2,    0.015,2,    0.429,2,   2230.4, 2,   2313.3,2,   -999.0,9,  -999.00,9,     -999,9,   -999.0,9,    0.000,2,    0.000,2,   1.5250,1,-999.0000,9,-999.0000,9,-999.0000,9,    0.005,2,   99.552,2,  11.0153,2
  49NZ20191205,  I08N,    27,  1,     28,   1228,2,20191210,1418, -0.7489,  80.0003, 4735,    469.8,  10.3617,  10.3613,2,  34.9994,2,  34.9988,2,     68.0,2,     67.6,2,    31.32,2,    30.81,2,     0.01,2,     2.12,2,     0.02,2,    1.214,2,    0.657,2,    0.018,2,    0.351,2,   2233.8, 2,   2313.5,2,   -999.0,9,  -999.00,9,     -999,9,   -999.0,9,    0.000,2,    0.000,2,   1.5080,1,-999.0000,9,-999.0000,9,-999.0000,9,    0.005,2,   99.620,2,  10.3613,2
  49NZ20191205,  I08N,    27,  1,     27,   1227,2,20191210,1418, -0.7489,  80.0003, 4735,    570.6,   9.9801,   9.9802,2,  35.0336,2,  35.0327,2,     54.7,2,     54.6,2,    38.74,2,    32.50,2,     0.01,2,     2.30,2,     0.02,2,    0.886,2,    0.479,2,    0.010,2,    0.246,2,   2251.1, 2,   2325.8,2,   -999.0,9,  -999.00,9,     -999,9,   -999.0,9,    0.000,2,    0.000,2,   1.5470,1,-999.0000,9,-999.0000,9,-999.0000,9,    0.005,2,   99.675,2,   9.9802,2
  49NZ20191205,  I08N,    27,  1,     26,   1226,2,20191210,1418, -0.7489,  80.0003, 4735,    673.1,   8.8613,   8.8695,2,  35.0136,2,  35.0127,2,     53.2,2,     53.5,2,    51.37,2,    34.17,2,     0.01,2,     2.48,2,     0.01,2,    0.504,2,    0.274,2,    0.006,2,    0.099,2,   2265.8, 6,   2334.8,2,   -999.0,9,  -999.00,9,     -999,9,   -999.0,9,    0.000,2,    0.000,2,   1.5740,1,-999.0000,9,-999.0000,9,-999.0000,9,    0.004,2,   99.729,2,   8.8695,2
  49NZ20191205,  I08N,    27,  1,     24,   1224,2,20191210,1418, -0.7489,  80.0003, 4735,    869.9,   7.9012,   7.9046,2,  34.9859,2,  34.9813,2,     44.2,2,     44.6,2,    67.17,2,    36.40,2,     0.00,2,     2.67,2,     0.03,2,    0.160,2,    0.087,2,    0.002,2,    0.093,2,   2287.0, 2,   2350.8,2,   -999.0,9,  -999.00,9,     -999,9,   -999.0,9,    0.000,2,    0.000,2,   1.6230,1,-999.0000,9,-999.0000,9,-999.0000,9,    0.003,2,   99.776,2,   7.9046,2
  49NZ20191205,  I08N,    27,  1,     23,   1223,2,20191210,1418, -0.7489,  80.0003, 4735,    971.3,   6.9487,   6.9492,2,  34.9359,2,  34.9352,2,     55.0,2,     55.5,2,    77.15,2,    36.78,2,     0.01,2,     2.68,2,     0.05,2,    0.111,2,    0.062,2,    0.008,2,    0.098,2,   2295.3, 2,   2354.7,2,   -999.0,9,  -999.00,9,     -999,9,   -999.0,9,    0.000,2,    0.000,2,   1.6330,1,-999.0000,9,-999.0000,9,-999.0000,9,    0.001,2,   99.792,2,   6.9492,2
  49NZ20191205,  I08N,    27,  1,     22,   1222,2,20191210,1418, -0.7489,  80.0003, 4735,   1130.2,   5.9722,   5.9691,2,  34.8995,2,  34.8987,2,     61.4,2,     61.6,2,    89.56,2,    37.41,2,     0.01,2,     2.72,2,     0.02,2,    0.043,2,    0.021,2,    0.001,2,    0.013,2,   2305.6, 2,   2367.8,6,   -999.0,9,  -999.00,9,     -999,9,   -999.0,9,    0.000,2,    0.000,2,   1.6440,1,-999.0000,9,-999.0000,9,-999.0000,9,    0.002,2,   99.822,2,   5.9691,2
  49NZ20191205,  I08N,    27,  1,     21,   1221,2,20191210,1418, -0.7489,  80.0003, 4735,   1331.6,   5.1900,   5.1935,2,  34.8707,2,  34.8695,2,     73.9,2,     74.0,2,    97.14,2,    37.40,2,     0.02,2,     2.71,2,     0.02,2,    0.037,2,    0.016,2,    0.005,2,    0.027,2,   2311.4, 2,   2373.8,2,   -999.0,9,  -999.00,9,     -999,9,   -999.0,9,    0.000,2,    0.000,2,   1.6350,1,-999.0000,9,-999.0000,9,-999.0000,9,    0.002,2,   99.830,2,   5.1935,2
  49NZ20191205,  I08N,    27,  1,     20,   1220,2,20191210,1418, -0.7489,  80.0003, 4735,   1530.9,   4.0829,   4.0827,2,  34.8252,2,  34.8242,2,     97.0,2,     96.7,2,   106.87,2,    36.71,2,     0.01,2,     2.64,2,     0.01,2,    0.017,2,    0.007,2,    0.004,2,    0.009,2,   2311.6, 2,   2382.1,2,   -999.0,9,  -999.00,9,     -999,9,   -999.0,9,    0.000,2,    0.000,2,   1.6250,1,-999.0000,9,-999.0000,9,-999.0000,9,    0.000,2,   99.860,2,   4.0827,2
  49NZ20191205,  I08N,    27,  1,     19,   1219,2,20191210,1418, -0.7489,  80.0003, 4735,   1730.1,   3.3526,   3.3546,2,  34.7990,2,  34.7991,2,    112.7,2,    112.2,2,   114.83,2,    36.29,2,     0.02,2,     2.60,2,     0.01,2,    0.015,2,    0.008,2,    0.001,2,    0.019,2,   2312.6, 2,   2389.0,2,   -999.0,9,  -999.00,9,     -999,9,   -999.0,9,    0.000,2,    0.000,2,   1.6100,1,-999.0000,9,-999.0000,9,-999.0000,9,    0.000,2,   99.854,2,   3.3546,2
  49NZ20191205,  I08N,    27,  1,     18,   1218,2,20191210,1418, -0.7489,  80.0003, 4735,   1926.8,   2.8306,   2.8296,2,  34.7776,2,  34.7773,2,    126.1,2,    125.5,2,   120.23,2,    35.91,2,     0.01,2,     2.55,2,     0.02,2,    0.016,2,    0.007,2,    0.001,2,    0.007,2,   2313.4, 2,   2401.0,2,   -999.0,9,  -999.00,9,     -999,9,   -999.0,9,    0.000,2,    0.000,2,   1.5960,1,-999.0000,9,-999.0000,9,-999.0000,9,    0.001,2,   99.860,2,   2.8296,2
  49NZ20191205,  I08N,    27,  1,     17,   1217,2,20191210,1418, -0.7489,  80.0003, 4735,   2127.0,   2.4400,   2.4400,2,  34.7623,2,  34.7624,2,    136.8,2,    136.2,2,   124.41,2,    35.52,2,     0.01,2,     2.51,2,     0.02,2,    0.016,2,    0.007,2,    0.005,2,    0.003,2,   2311.7, 2,   2401.7,2,   -999.0,9,  -999.00,9,     -999,9,   -999.0,9,    0.000,2,    0.000,2,   1.5850,1,-999.0000,9,-999.0000,9,-999.0000,9,    0.000,2,   99.866,2,   2.4400,2
  49NZ20191205,  I08N,    27,  1,     16,   1216,2,20191210,1418, -0.7489,  80.0003, 4735,   2327.7,   2.2110,   2.2115,2,  34.7511,2,  34.7512,2,    144.6,2,    143.6,2,   126.13,2,    35.16,2,     0.01,2,     2.47,2,     0.04,2,    0.014,2,    0.006,2,    0.002,2,    0.016,2,   2311.2, 6,   2404.5,2,   -999.0,9,  -999.00,9,     -999,9,   -999.0,9,    0.000,2,    0.000,2,   1.5750,1,-999.0000,9,-999.0000,9,-999.0000,9,   -0.002,2,   99.873,2,   2.2115,2
  49NZ20191205,  I08N,    27,  1,     15,   1215,2,20191210,1418, -0.7489,  80.0003, 4735,   2532.5,   2.0648,   2.0644,2,  34.7455,2,  34.7453,2,    149.0,2,    148.6,2,   127.87,2,    35.00,2,     0.01,2,     2.45,2,     0.04,2,    0.019,2,    0.008,2,    0.002,2,    0.043,2,   2309.8, 2,   2402.7,2,   -999.0,9,  -999.00,9,     -999,9,   -999.0,9,    0.000,2,    0.000,2,   1.5610,1,-999.0000,9,-999.0000,9,-999.0000,9,   -0.001,2,   99.881,2,   2.0644,2
  49NZ20191205,  I08N,    27,  1,     14,   1214,2,20191210,1418, -0.7489,  80.0003, 4735,   2730.9,   1.8921,   1.8921,2,  34.7380,2,  34.7378,2,    155.0,2,    154.9,2,   129.50,2,    34.89,2,     0.01,2,     2.44,2,     0.06,2,    0.017,2,    0.007,2,    0.001,2,    0.003,2,   2308.8, 2,   2403.5,2,   -999.0,9,  -999.00,9,     -999,9,   -999.0,9,    0.000,2,    0.000,2,   1.5370,1,-999.0000,9,-999.0000,9,-999.0000,9,    0.000,2,   99.889,2,   1.8921,2
  49NZ20191205,  I08N,    27,  1,     13,   1213,2,20191210,1418, -0.7489,  80.0003, 4735,   2930.7,   1.7234,   1.7241,2,  34.7317,2,  34.7309,2,    158.9,2,    158.7,2,   131.87,2,    34.50,2,     0.01,2,     2.40,2,     0.04,2,    0.014,2,    0.007,2,    0.001,2,    0.028,2,   2310.1, 2,   2409.4,2,   -999.0,9,  -999.00,9,     -999,9,   -999.0,9,    0.000,2,    0.000,2,   1.5390,1,-999.0000,9,-999.0000,9,-999.0000,9,   -0.001,2,   99.885,2,   1.7241,2
  49NZ20191205,  I08N,    27,  1,     12,   1212,2,20191210,1418, -0.7489,  80.0003, 4735,   3170.2,   1.6210,   1.6209,2,  34.7278,2,  34.7276,2,    161.4,2,    161.1,2,   134.67,2,    34.63,2,     0.02,2,     2.40,2,     0.05,2,    0.022,2,    0.010,2,    0.005,2,    0.042,2,   2314.1, 3,   2412.0,6,   -999.0,9,  -999.00,9,     -999,9,   -999.0,9,    0.000,2,    0.000,2,   1.5430,1,-999.0000,9,-999.0000,9,-999.0000,9,    0.000,2,   99.900,2,   1.6209,2
  49NZ20191205,  I08N,    27,  1,     11,   1211,2,20191210,1418, -0.7489,  80.0003, 4735,   3419.8,   1.5271,   1.5271,2,  34.7243,2,  34.7238,2,    163.6,2,    163.3,2,   136.98,2,    34.58,2,     0.01,2,     2.40,2,     0.07,2,    0.016,2,    0.007,2,    0.000,2,    0.002,2,   2316.4, 3,   2418.7,2,   -999.0,9,  -999.00,9,     -999,9,   -999.0,9,    0.000,2,    0.000,2,   1.5460,1,-999.0000,9,-999.0000,9,-999.0000,9,   -0.001,2,   99.906,2,   1.5271,2
  49NZ20191205,  I08N,    27,  1,     10,   1210,2,20191210,1418, -0.7489,  80.0003, 4735,   3671.2,   1.4208,   1.4208,2,  34.7203,2,  34.7199,2,    169.2,2,    168.7,2,   137.52,2,    34.39,2,     0.01,2,     2.37,2,     0.06,2,    0.017,2,    0.006,2,    0.004,2,    0.005,2,   2310.7, 2,   2418.0,2,   -999.0,9,  -999.00,9,     -999,9,   -999.0,9,    0.000,2,    0.000,2,   1.5330,1,-999.0000,9,-999.0000,9,-999.0000,9,   -0.001,2,   99.917,2,   1.4208,2
  49NZ20191205,  I08N,    27,  1,      9,   1209,2,20191210,1418, -0.7489,  80.0003, 4735,   3922.6,   1.3803,   1.3803,2,  34.7183,2,  34.7180,2,    173.7,2,    173.5,2,   136.32,2,    34.25,2,     0.00,2,     2.34,2,     0.04,2,    0.019,2,    0.008,2,    0.004,2,    0.007,2,   2307.0, 2,   2414.7,2,   -999.0,9,  -999.00,9,     -999,9,   -999.0,9,    0.000,2,    0.000,2,   1.4970,1,-999.0000,9,-999.0000,9,-999.0000,9,    0.000,2,   99.925,2,   1.3803,2
  49NZ20191205,  I08N,    27,  1,      8,   1208,2,20191210,1418, -0.7489,  80.0003, 4735,   4170.8,   1.3930,   1.3931,2,  34.7179,2,  34.7175,2,    174.7,2,    174.5,2,   136.35,2,    34.28,2,     0.01,2,     2.35,2,     0.04,2,    0.015,2,    0.007,2,    0.010,2,    0.017,2,   2307.2, 6,   2416.8,2,   -999.0,9,  -999.00,9,     -999,9,   -999.0,9,    0.000,2,    0.000,2,   1.5040,1,-999.0000,9,-999.0000,9,-999.0000,9,   -0.001,2,   99.923,2,   1.3931,2
  49NZ20191205,  I08N,    27,  1,      7,   1207,2,20191210,1418, -0.7489,  80.0003, 4735,   4418.6,   1.4071,   1.4071,2,  34.7174,2,  34.7174,2,    175.9,2,    175.8,2,   135.86,2,    34.05,2,     0.01,2,     2.35,2,     0.03,2,    0.015,2,    0.006,2,    0.005,2,    0.013,2,   2308.3, 2,   2410.7,2,   -999.0,9,  -999.00,9,     -999,9,   -999.0,9,    0.000,2,    0.000,2,   1.5100,1,-999.0000,9,-999.0000,9,-999.0000,9,   -0.002,2,   99.925,2,   1.4071,2
  49NZ20191205,  I08N,    27,  1,      6,   1206,2,20191210,1418, -0.7489,  80.0003, 4735,   4672.1,   1.4285,   1.4285,2,  34.7174,2,  34.7167,2,    176.9,2,    177.0,2,   135.50,2,    34.09,2,     0.01,2,     2.34,2,     0.02,2,    0.015,2,    0.006,2,    0.001,2,    0.012,2,   2305.1, 2,   2411.2,6,   -999.0,9,  -999.00,9,     -999,9,   -999.0,9,    0.000,2,    0.000,2,   1.5030,1,-999.0000,9,-999.0000,9,-999.0000,9,   -0.001,2,   99.944,2,   1.4285,2
  49NZ20191205,  I08N,    27,  1,      5,   1205,2,20191210,1418, -0.7489,  80.0003, 4735,   1927.5,   2.8355,   2.8350,2,  34.7777,2,-999.0000,9,    126.0,2,   -999.0,9,  -999.00,9,  -999.00,9,  -999.00,9,  -999.00,9,     -999,9, -999.000,9, -999.000,9, -999.000,9,     -999,9,   -999.0, 9,   -999.0,9,   -999.0,9,  -999.00,9,     -999,9,   -999.0,9,    0.000,2,    0.000,2,   1.5920,1,-999.0000,9,-999.0000,9,-999.0000,9,    0.001,2,   99.854,2,   2.8350,2
  49NZ20191205,  I08N,    27,  1,      4,   1204,2,20191210,1418, -0.7489,  80.0003, 4735,   2930.0,   1.7243,   1.7244,2,  34.7318,2,-999.0000,9,    158.9,2,   -999.0,9,  -999.00,9,  -999.00,9,  -999.00,9,  -999.00,9,     -999,9, -999.000,9, -999.000,9, -999.000,9,     -999,9,   -999.0, 9,   -999.0,9,   -999.0,9,  -999.00,9,     -999,9,   -999.0,9,    0.000,2,    0.000,2,   1.5360,1,-999.0000,9,-999.0000,9,-999.0000,9,   -0.001,2,   99.885,2,   1.7244,2
  49NZ20191205,  I08N,    27,  1,      3,   1203,2,20191210,1418, -0.7489,  80.0003, 4735,   3920.7,   1.3801,   1.3802,2,  34.7184,2,-999.0000,9,    173.7,2,   -999.0,9,  -999.00,9,  -999.00,9,  -999.00,9,  -999.00,9,     -999,9, -999.000,9, -999.000,9, -999.000,9,     -999,9,   -999.0, 9,   -999.0,9,   -999.0,9,  -999.00,9,     -999,9,   -999.0,9,    0.000,2,    0.000,2,   1.4920,1,-999.0000,9,-999.0000,9,-999.0000,9,    0.000,2,   99.923,2,   1.3802,2
  49NZ20191205,  I08N,    27,  1,      2,  12046,2,20191210,1418, -0.7489,  80.0003, 4735,   4797.0,   1.4282,   1.4283,2,  34.7170,2,-999.0000,9,    178.0,2,   -999.0,9,  -999.00,9,  -999.00,9,  -999.00,9,  -999.00,9,     -999,9, -999.000,9, -999.000,9, -999.000,9,     -999,9,   -999.0, 9,   -999.0,9,   -999.0,9,  -999.00,9,     -999,9,   -999.0,9,    0.000,2,    0.000,2,   1.4920,1,-999.0000,9,-999.0000,9,-999.0000,9,   -0.001,2,   99.913,2,   1.4283,2
  49NZ20191205,  I08N,    27,  1,      1,   1201,2,20191210,1418, -0.7489,  80.0003, 4735,   4797.8,   1.4282,   1.4284,2,  34.7170,2,  34.7171,2,    177.9,2,    177.9,2,   135.19,2,    34.05,2,     0.01,2,     2.34,2,     0.02,2,    0.018,2,    0.006,2,    0.006,2,    0.008,2,   2303.9, 2,   2411.0,2,   -999.0,9,  -999.00,9,     -999,9,   -999.0,9,    0.000,2,    0.000,2,   1.4920,1,-999.0000,9,-999.0000,9,-999.0000,9,   -0.001,2,   99.919,2,   1.4284,2