BOTTLE,20210412PRINUNIVRMK
EXPOCODE,SECT_ID,STNNBR,CASTNO,SAMPNO,BTLNBR,BTLNBR_FLAG_W,DATE,TIME,LATITUDE,LONGITUDE,DEPTH,CTDPRS,CTDTMP,SBE35,SBE35_FLAG_W,CTDSAL,CTDSAL_FLAG_W,SALNTY,SALNTY_FLAG_W,CTDOXY,CTDOXY_FLAG_W,OXYGEN,OXYGEN_FLAG_W,SILCAT,SILCAT_FLAG_W,NITRAT,NITRAT_FLAG_W,NITRIT,NITRIT_FLAG_W,PHSPHT,PHSPHT_FLAG_W,NH4,NH4_FLAG_W,CFC-11,CFC-11_FLAG_W,CFC-12,CFC-12_FLAG_W,CFC113,CFC113_FLAG_W,SF6,SF6_FLAG_W,TCARBN,TCARBN_FLAG_W,ALKALI,ALKALI_FLAG_W,DOC,DOC_FLAG_W,CHLWELSH,CHLWELSH_FLAG_W,UREA,UREA_FLAG_W,IODATE,IODATE_FLAG_W,PAR,PAR_FLAG_W,PAR,PAR_FLAG_W,CDOM,CDOM_FLAG_W,CDOM300,CDOM300_FLAG_W,CDOM325,CDOM325_FLAG_W,CDOM443,CDOM443_FLAG_W,CTDFLUOR,CTDFLUOR_FLAG_W,CTDXMISS,CTDXMISS_FLAG_W,SBE35,SBE35_FLAG_W
,,,,,,,,,,,METERS,DBAR,ITS-90,,,PSS-78,,PSS-78,,UMOL/KG,,UMOL/KG,,UMOL/KG,,UMOL/KG,,UMOL/KG,,UMOL/KG,,UMOL/KG,,PMOL/KG,,PMOL/KG,,PMOL/KG,,FMOL/KG,,UMOL/KG,,UMOL/KG,,UMOL/KG,,UG/KG,,nMOL/L,,nMOL/L,,VOLTS,,VOLTS,,MG/M^3,,1/M,,1/M,,1/M,,MG/M^3,,%TRANS,,,
  49NZ20191205,  I08N,    60,  1,     36,   1236,2,20191219,2106,-15.9990,  80.0017, 5046,      9.8,  28.5167,  28.5162,2,  35.0352,2,  35.0354,2,    197.8,2,    197.5,2,     1.73,2,     0.04,2,     0.00,2,     0.10,2,     0.08,2,    1.423,2,    0.913,2,    0.121,2,    1.525,2,   1963.9, 2,   2295.9,2,     73.2,2,     0.07,2,     -999,9,   -999.0,9,    0.000,2,    0.000,2,   1.0780,1,   0.1540,2,   0.0720,2,   0.0020,2,    0.046,2,   98.825,2,  28.5162,2
  49NZ20191205,  I08N,    60,  1,     35,   1235,2,20191219,2106,-15.9990,  80.0017, 5046,     50.4,  28.2153,  28.2129,2,  34.9985,2,  34.9992,2,    200.4,2,    200.6,2,     1.81,2,     0.04,2,     0.01,2,     0.10,2,     0.07,2,    1.451,2,    0.928,2,    0.123,2,    1.499,2,   1963.1, 2,   2293.5,2,     73.7,2,     0.09,2,     -999,9,   -999.0,9,    0.000,2,    0.000,2,   1.0760,1,   0.1680,2,   0.0810,2,   0.0050,2,    0.092,2,   98.779,2,  28.2129,2
  49NZ20191205,  I08N,    60,  1,     34,   1234,2,20191219,2106,-15.9990,  80.0017, 5046,    100.5,  24.6782,  24.6764,2,  34.9300,2,  34.9331,2,    210.7,2,    211.0,2,     2.10,2,     0.04,2,     0.00,2,     0.08,2,     0.08,2,    1.680,2,    1.063,2,    0.143,2,    1.682,2,   1985.5, 2,   2296.6,2,     72.2,2,     0.26,2,     -999,9,   -999.0,9,    0.000,2,    0.000,2,   1.1100,1,   0.2500,2,   0.1360,2,   0.0090,2,    0.261,2,   98.699,2,  24.6764,2
  49NZ20191205,  I08N,    60,  1,     33,   1233,2,20191219,2106,-15.9990,  80.0017, 5046,    150.5,  21.7903,  21.8026,2,  35.2174,2,  35.1867,2,    170.6,2,    166.1,2,     6.11,2,     4.98,2,     0.19,2,     0.44,2,     0.06,2,    1.788,2,    1.115,2,    0.102,2,    1.577,2,   2060.0, 2,   2312.2,2,     56.7,2,     0.18,2,     -999,9,   -999.0,9,    0.000,2,    0.000,2,   1.2760,1,   0.2700,2,   0.1610,2,   0.0160,2,    0.191,2,   99.150,2,  21.8026,2
  49NZ20191205,  I08N,    60,  1,     32,   1232,2,20191219,2106,-15.9990,  80.0017, 5046,    199.5,  19.2951,  19.2896,2,  35.2917,2,  35.3450,2,    150.9,2,    155.2,2,     9.15,2,     8.32,2,     0.01,2,     0.61,2,     0.06,2,    1.864,2,    1.162,2,    0.021,2,     1.46,2,   2097.0, 2,   2322.1,2,     54.6,2,     0.02,2,     -999,9,   -999.0,9,    0.000,2,    0.000,2,   1.3290,1,   0.2630,2,   0.1660,2,   0.0250,2,    0.023,2,   99.502,2,  19.2896,2
  49NZ20191205,  I08N,    60,  1,     31,   1231,2,20191219,2106,-15.9990,  80.0017, 5046,    250.9,  18.1579,  18.1556,2,  35.6023,2,  35.5677,2,    176.8,2,    174.3,2,     7.46,2,     6.66,2,     0.01,2,     0.52,2,     0.06,2,    2.048,2,    1.268,2,    0.023,2,     1.58,2,   2108.3, 2,   2340.1,2,     55.9,2,     0.00,2,     -999,9,   -999.0,9,    0.000,2,    0.000,2,   1.2670,1,-999.0000,9,-999.0000,9,-999.0000,9,   -0.004,2,   99.661,2,  18.1556,2
  49NZ20191205,  I08N,    60,  1,     30,   1230,2,20191219,2106,-15.9990,  80.0017, 5046,    299.7,  15.9872,  15.9900,2,  35.5000,2,  35.4999,2,    183.3,2,    184.5,2,     6.96,2,     7.30,2,     0.01,2,     0.58,2,     0.06,2,    2.280,2,    1.388,2,    0.024,2,    1.603,2,   2121.7, 2,   2337.6,2,     51.1,2,  -999.00,9,     -999,9,   -999.0,9,    0.000,2,    0.000,2,   1.2780,1,   0.2380,2,   0.1480,2,   0.0220,2,   -0.004,2,   99.715,2,  15.9900,2
  49NZ20191205,  I08N,    60,  1,     29,   1229,2,20191219,2106,-15.9990,  80.0017, 5046,    399.6,  11.8472,  11.8464,2,  35.0394,2,  35.0385,2,    221.2,2,    222.0,2,     4.11,2,    11.00,2,     0.01,2,     0.82,2,     0.07,2,    3.018,2,    1.785,2,    0.101,2,    1.831,2,   2128.3, 2,   2313.3,2,     49.9,2,  -999.00,9,     -999,9,   -999.0,9,    0.000,2,    0.000,2,   1.1950,1,   0.2110,2,   0.1210,2,   0.0110,2,   -0.002,2,   99.781,2,  11.8464,2
  49NZ20191205,  I08N,    60,  1,     28,   1228,2,20191219,2106,-15.9990,  80.0017, 5046,    500.4,   9.7485,   9.7586,2,  34.7422,2,  34.7365,2,    228.7,2,    229.0,2,     5.06,2,    16.08,2,     0.01,2,     1.12,2,     0.08,2,    3.399,2,    1.953,2,    0.125,2,    1.707,2,   2134.4, 2,   2297.7,2,     48.1,2,  -999.00,9,     -999,9,   -999.0,9,    0.000,2,    0.000,2,   1.1700,1,   0.1970,2,   0.1050,2,   0.0070,2,   -0.001,2,   99.844,2,   9.7586,2
  49NZ20191205,  I08N,    60,  1,     27,   1227,2,20191219,2106,-15.9990,  80.0017, 5046,    598.3,   8.0841,   8.0850,2,  34.5744,2,  34.5738,2,    197.8,2,    196.7,2,    15.29,2,    23.31,2,     0.01,2,     1.58,2,     0.08,2,    2.784,2,    1.503,2,    0.087,2,     0.92,2,   2165.1, 2,   2293.7,2,     42.8,2,  -999.00,9,     -999,9,   -999.0,9,    0.000,2,    0.000,2,   1.2130,1,   0.2270,2,   0.1250,2,   0.0170,2,    0.000,2,   99.846,2,   8.0850,2
  49NZ20191205,  I08N,    60,  1,     26,   1226,2,20191219,2106,-15.9990,  80.0017, 5046,    699.3,   6.8290,   6.8299,2,  34.6096,2,  34.6123,2,    129.0,2,    127.0,2,    46.73,2,    31.85,2,     0.00,2,     2.22,2,     0.07,2,    0.880,2,    0.448,2,    0.026,2,      0.2,2,   2230.8, 6,   2322.5,2,     43.8,2,  -999.00,9,     -999,9,   -999.0,9,    0.000,2,    0.000,2,   1.3760,1,-999.0000,9,-999.0000,9,-999.0000,9,    0.000,2,   99.817,2,   6.8299,2
  49NZ20191205,  I08N,    60,  1,     25,   1225,2,20191219,2106,-15.9990,  80.0017, 5046,    800.5,   6.1786,   6.1795,2,  34.6766,2,  34.6778,2,     99.4,2,     99.0,2,    67.42,2,    34.63,2,     0.01,2,     2.46,2,     0.06,2,    0.305,2,    0.158,2,    0.008,2,    0.046,2,   2265.6, 2,   2344.8,2,     44.4,2,  -999.00,9,     -999,9,   -999.0,9,    0.000,2,    0.000,2,   1.4510,1,   0.2990,2,   0.1680,2,   0.0260,2,    0.000,2,   99.812,2,   6.1795,2
  49NZ20191205,  I08N,    60,  1,     24,   1224,2,20191219,2106,-15.9990,  80.0017, 5046,    899.3,   5.7420,   5.7420,2,  34.6995,2,  34.7000,2,     92.9,2,     92.7,2,    78.06,2,    35.55,2,     0.00,2,     2.54,2,     0.07,2,    0.161,2,    0.085,2,    0.003,2,    0.002,2,   2279.9, 2,   2353.5,2,     43.9,2,  -999.00,9,     -999,9,   -999.0,9,    0.000,2,    0.000,2,   1.4970,1,-999.0000,9,-999.0000,9,-999.0000,9,   -0.001,2,   99.814,2,   5.7420,2
  49NZ20191205,  I08N,    60,  1,     23,   1223,2,20191219,2106,-15.9990,  80.0017, 5046,    999.0,   5.3228,   5.3223,2,  34.6993,2,  34.6998,2,     90.8,2,     90.5,2,    87.48,2,    36.21,2,     0.00,2,     2.60,2,     0.08,2,    0.085,2,    0.044,2,    0.003,2,    0.006,2,   2292.3, 2,   2364.0,2,     42.9,2,  -999.00,9,     -999,9,   -999.0,9,    0.000,2,    0.000,2,   1.5080,1,   0.3270,2,   0.1780,2,   0.0300,2,    0.000,2,   99.819,2,   5.3223,2
  49NZ20191205,  I08N,    60,  1,     22,   1222,2,20191219,2106,-15.9990,  80.0017, 5046,   1197.8,   4.6598,   4.6600,2,  34.6975,2,  34.6975,2,     97.3,2,     97.4,2,    95.77,2,    36.49,2,     0.00,2,     2.61,2,     0.08,2,    0.043,2,    0.021,2,    0.001,2,    0.006,2,   2298.9, 2,   2372.8,6,     39.7,2,  -999.00,9,     -999,9,   -999.0,9,    0.000,2,    0.000,2,   1.5160,1,-999.0000,9,-999.0000,9,-999.0000,9,    0.000,2,   99.829,2,   4.6600,2
  49NZ20191205,  I08N,    60,  1,     21,   1221,2,20191219,2106,-15.9990,  80.0017, 5046,   1400.8,   4.0527,   4.0532,2,  34.7118,2,  34.7124,2,    110.5,2,    110.4,2,    98.48,2,    36.05,2,     0.00,2,     2.58,2,     0.09,2,    0.000,2,    0.000,2,    0.000,2,        0,2,   2297.2, 2,   2375.0,2,     42.5,2,  -999.00,9,     -999,9,   -999.0,9,    0.000,2,    0.000,2,   1.4970,1,   0.3230,2,   0.1780,2,   0.0300,2,    0.000,2,   99.848,2,   4.0532,2
  49NZ20191205,  I08N,    60,  1,     20,   1220,2,20191219,2106,-15.9990,  80.0017, 5046,   1600.0,   3.4946,   3.4953,2,  34.7166,2,  34.7177,2,    122.3,2,    122.2,2,   103.22,2,    35.70,2,     0.00,2,     2.53,2,     0.07,2,    0.000,2,    0.000,2,    0.000,2,        0,2,   2298.7, 2,   2377.2,2,     35.5,2,  -999.00,9,     -999,9,   -999.0,9,    0.000,2,    0.000,2,   1.4850,1,-999.0000,9,-999.0000,9,-999.0000,9,    0.000,2,   99.850,2,   3.4953,2
  49NZ20191205,  I08N,    60,  1,     19,   1219,2,20191219,2106,-15.9990,  80.0017, 5046,   1799.2,   2.9848,   2.9856,2,  34.7223,2,  34.7228,2,    133.1,2,    133.1,2,   108.52,2,    35.40,2,     0.00,2,     2.49,2,     0.06,2,    0.000,2,    0.000,2,    0.001,2,        0,2,   2298.5, 2,   2382.2,2,     38.1,2,  -999.00,9,     -999,9,   -999.0,9,    0.000,2,    0.000,2,   1.4760,1,   0.3120,2,   0.1740,2,   0.0320,2,    0.000,2,   99.848,2,   2.9856,2
  49NZ20191205,  I08N,    60,  1,     18,   1218,2,20191219,2106,-15.9990,  80.0017, 5046,   1998.1,   2.6297,   2.6305,2,  34.7294,2,  34.7296,2,    143.1,2,    142.8,2,   111.78,2,    34.93,2,     0.01,2,     2.45,2,     0.07,2,    0.000,2,    0.000,2,    0.000,2,        0,2,   2298.4, 2,   2385.9,2,     37.9,2,  -999.00,9,     -999,9,   -999.0,9,    0.000,2,    0.000,2,   1.4580,1,-999.0000,9,-999.0000,9,-999.0000,9,    0.001,2,   99.855,2,   2.6305,2
  49NZ20191205,  I08N,    60,  1,     17,   1217,2,20191219,2106,-15.9990,  80.0017, 5046,   2199.4,   2.3362,   2.3362,2,  34.7312,2,  34.7313,2,    152.4,2,    152.3,2,   114.42,2,    34.48,2,     0.00,2,     2.40,2,     0.06,2,    0.000,2,    0.000,2,    0.000,2,        0,2,   2297.2, 2,   2389.1,2,     41.1,2,  -999.00,9,     -999,9,   -999.0,9,    0.000,2,    0.000,2,   1.4730,1,   0.3090,2,   0.1680,2,   0.0280,2,   -0.001,2,   99.863,2,   2.3362,2
  49NZ20191205,  I08N,    60,  1,     16,   1216,2,20191219,2106,-15.9990,  80.0017, 5046,   2401.6,   2.1102,   2.1104,2,  34.7309,2,  34.7311,2,    159.6,2,    159.5,2,   116.82,2,    34.21,2,     0.01,2,     2.38,2,     0.05,2,    0.013,2,    0.004,2,    0.002,2,    0.006,2,   2297.5, 6,   2390.9,2,     37.3,2,  -999.00,9,     -999,9,   -999.0,9,    0.000,2,    0.000,2,   1.4520,1,-999.0000,9,-999.0000,9,-999.0000,9,   -0.001,2,   99.871,2,   2.1104,2
  49NZ20191205,  I08N,    60,  1,     15,   1215,2,20191219,2106,-15.9990,  80.0017, 5046,   2602.4,   1.9352,   1.9354,2,  34.7293,2,  34.7298,2,    165.9,2,    165.9,2,   118.14,2,    33.92,2,     0.01,2,     2.35,2,     0.04,2,    0.014,2,    0.005,2,    0.002,2,        0,2,   2291.9, 2,   2392.0,2,     37.2,2,  -999.00,9,     -999,9,   -999.0,9,    0.000,2,    0.000,2,   1.4340,1,   0.3130,2,   0.1680,2,   0.0280,2,    0.000,2,   99.871,2,   1.9354,2
  49NZ20191205,  I08N,    60,  1,     14,   1214,2,20191219,2106,-15.9990,  80.0017, 5046,   2799.5,   1.8106,   1.8102,2,  34.7281,2,  34.7279,2,    170.2,2,    170.2,2,   118.95,2,    33.53,2,     0.01,2,     2.31,2,     0.09,2,    0.013,2,    0.003,2,    0.003,2,    0.002,2,   2287.8, 3,   2391.8,2,     40.9,2,  -999.00,9,     -999,9,   -999.0,9,    0.000,2,    0.000,2,   1.4180,1,-999.0000,9,-999.0000,9,-999.0000,9,    0.000,2,   99.871,2,   1.8102,2
  49NZ20191205,  I08N,    60,  1,     13,   1213,2,20191219,2106,-15.9990,  80.0017, 5046,   2999.1,   1.7054,   1.7061,2,  34.7267,2,  34.7267,2,    172.7,2,    172.7,2,   121.67,2,    33.65,2,     0.00,2,     2.31,2,     0.08,2,    0.013,2,    0.004,2,    0.001,2,        0,2,   2293.3, 2,   2395.0,2,     37.7,2,  -999.00,9,     -999,9,   -999.0,9,    0.000,2,    0.000,2,   1.4260,1,   0.3130,2,   0.1680,2,   0.0300,2,   -0.001,2,   99.871,2,   1.7061,2
  49NZ20191205,  I08N,    60,  1,     12,   1212,2,20191219,2106,-15.9990,  80.0017, 5046,   3249.6,   1.5668,   1.5677,2,  34.7246,2,  34.7250,2,    177.5,2,    177.4,2,   123.24,2,    33.39,2,     0.00,2,     2.30,2,     0.06,2,    0.012,2,    0.003,2,    0.001,2,    0.004,2,   2292.2, 2,   2396.3,6,     38.0,2,  -999.00,9,     -999,9,   -999.0,9,    0.000,2,    0.000,2,   1.4150,1,-999.0000,9,-999.0000,9,-999.0000,9,    0.000,2,   99.884,2,   1.5677,2
  49NZ20191205,  I08N,    60,  1,     11,   1211,2,20191219,2106,-15.9990,  80.0017, 5046,   3500.8,   1.4551,   1.4551,2,  34.7220,2,  34.7229,2,    178.5,2,    178.9,2,   127.16,2,    33.52,2,     0.01,2,     2.30,2,     0.05,2,    0.012,2,    0.004,2,    0.001,2,    0.004,2,   2296.0, 2,   2400.9,2,     41.8,2,  -999.00,9,     -999,9,   -999.0,9,    0.000,2,    0.000,2,   1.4160,1,   0.3060,2,   0.1620,2,   0.0280,2,    0.000,2,   99.871,2,   1.4551,2
  49NZ20191205,  I08N,    60,  1,     10,   1210,2,20191219,2106,-15.9990,  80.0017, 5046,   3750.3,   1.3942,   1.3942,2,  34.7200,2,  34.7204,2,    181.1,2,    181.0,2,   128.98,2,    33.57,2,     0.01,2,     2.30,2,     0.06,2,    0.011,2,    0.003,2,    0.001,2,    0.006,2,   2295.2, 2,   2402.8,2,     37.4,2,  -999.00,9,     -999,9,   -999.0,9,    0.000,2,    0.000,2,   1.4150,1,-999.0000,9,-999.0000,9,-999.0000,9,   -0.001,2,   99.873,2,   1.3942,2
  49NZ20191205,  I08N,    60,  1,      9,   1209,2,20191219,2106,-15.9990,  80.0017, 5046,   4000.1,   1.3666,   1.3665,2,  34.7185,2,  34.7190,2,    182.3,2,    182.2,2,   130.33,2,    33.52,2,     0.01,2,     2.30,2,     0.04,2,    0.012,2,    0.004,2,    0.002,2,    0.006,2,   2297.9, 2,   2405.8,2,     38.5,2,  -999.00,9,     -999,9,   -999.0,9,    0.000,2,    0.000,2,   1.4080,1,   0.3070,2,   0.1610,2,   0.0300,2,    0.000,2,   99.886,2,   1.3665,2
  49NZ20191205,  I08N,    60,  1,      8,  12103,2,20191219,2106,-15.9990,  80.0017, 5046,   4251.4,   1.3725,   1.3724,2,  34.7177,2,  34.7178,2,    181.8,2,    181.6,2,   131.99,2,    33.61,2,     0.01,2,     2.31,2,     0.04,2,    0.014,2,    0.005,2,    0.000,2,    0.017,2,   2299.5, 6,   2407.9,2,     40.8,2,  -999.00,9,     -999,9,   -999.0,9,    0.000,2,    0.000,2,   1.4200,1,-999.0000,9,-999.0000,9,-999.0000,9,    0.000,2,   99.871,2,   1.3724,2
  49NZ20191205,  I08N,    60,  1,      7,   1207,2,20191219,2106,-15.9990,  80.0017, 5046,   4500.3,   1.3886,   1.3886,2,  34.7173,2,  34.7178,2,    181.5,2,    181.4,2,   132.95,2,    33.70,2,     0.01,2,     2.31,2,     0.03,2,    0.013,2,    0.005,2,    0.004,2,    0.014,2,   2300.7, 2,   2408.8,2,     37.7,2,  -999.00,9,     -999,9,   -999.0,9,    0.000,2,    0.000,2,   1.4220,1,   0.3050,2,   0.1550,2,   0.0260,2,    0.000,2,   99.859,2,   1.3886,2
  49NZ20191205,  I08N,    60,  1,      6,   1206,2,20191219,2106,-15.9990,  80.0017, 5046,   4752.1,   1.4125,   1.4125,2,  34.7171,2,  34.7176,2,    181.3,2,    181.3,2,   133.17,2,    33.70,2,     0.01,2,     2.31,2,     0.04,2,    0.015,2,    0.005,2,    0.004,2,        0,2,   2299.9, 2,   2409.0,6,     40.0,2,  -999.00,9,     -999,9,   -999.0,9,    0.000,2,    0.000,2,   1.4270,1,-999.0000,9,-999.0000,9,-999.0000,9,    0.000,2,   99.857,2,   1.4125,2
  49NZ20191205,  I08N,    60,  1,      5,   1205,2,20191219,2106,-15.9990,  80.0017, 5046,   5000.1,   1.4389,   1.4389,2,  34.7171,2,  34.7172,2,    181.2,2,    181.2,2,   133.76,2,    33.68,2,     0.00,2,     2.31,2,     0.05,2,    0.013,2,    0.005,2,    0.000,2,    0.009,2,   2302.3, 2,   2408.9,2,     38.9,2,  -999.00,9,     -999,9,   -999.0,9,    0.000,2,    0.000,2,   1.4350,1,   0.3140,2,   0.1650,2,   0.0290,2,    0.000,2,   99.846,2,   1.4389,2
  49NZ20191205,  I08N,    60,  1,      2,  12046,2,20191219,2106,-15.9990,  80.0017, 5046,    129.6,  22.5202,  22.5332,2,  34.9255,2,  34.9248,2,    152.7,2,    152.7,2,     7.36,2,     6.54,2,     0.19,2,     0.55,2,     0.06,2, -999.000,9, -999.000,9, -999.000,9,     -999,9,   2057.1, 2,   2294.1,2,     63.9,2,     0.30,2,     -999,9,   -999.0,9,    0.000,2,    0.000,2,   1.3080,1,   0.3290,2,   0.1850,2,   0.0280,2,    0.289,2,   98.836,2,  22.5332,2
  49NZ20191205,  I08N,    60,  1,      1,   1201,2,20191219,2106,-15.9990,  80.0017, 5046,   5119.7,   1.4537,   1.4537,2,  34.7171,2,  34.7171,2,    181.2,2,    181.3,2,   133.56,2,    33.70,2,     0.01,2,     2.31,2,     0.06,2,    0.015,2,    0.006,2,    0.000,2,     0.04,2,   2301.1, 2,   2407.5,2,     41.0,2,  -999.00,9,     -999,9,   -999.0,9,    0.000,2,    0.000,2,   1.4230,1,   0.3260,2,   0.1790,2,   0.0340,2,    0.000,2,   99.846,2,   1.4537,2