BOTTLE,20210412PRINUNIVRMK
EXPOCODE,SECT_ID,STNNBR,CASTNO,SAMPNO,BTLNBR,BTLNBR_FLAG_W,DATE,TIME,LATITUDE,LONGITUDE,DEPTH,CTDPRS,CTDTMP,SBE35,SBE35_FLAG_W,CTDSAL,CTDSAL_FLAG_W,SALNTY,SALNTY_FLAG_W,CTDOXY,CTDOXY_FLAG_W,OXYGEN,OXYGEN_FLAG_W,SILCAT,SILCAT_FLAG_W,NITRAT,NITRAT_FLAG_W,NITRIT,NITRIT_FLAG_W,PHSPHT,PHSPHT_FLAG_W,NH4,NH4_FLAG_W,CFC-11,CFC-11_FLAG_W,CFC-12,CFC-12_FLAG_W,CFC113,CFC113_FLAG_W,SF6,SF6_FLAG_W,TCARBN,TCARBN_FLAG_W,ALKALI,ALKALI_FLAG_W,DOC,DOC_FLAG_W,CHLWELSH,CHLWELSH_FLAG_W,UREA,UREA_FLAG_W,IODATE,IODATE_FLAG_W,PAR,PAR_FLAG_W,PAR,PAR_FLAG_W,CDOM,CDOM_FLAG_W,CDOM300,CDOM300_FLAG_W,CDOM325,CDOM325_FLAG_W,CDOM443,CDOM443_FLAG_W,CTDFLUOR,CTDFLUOR_FLAG_W,CTDXMISS,CTDXMISS_FLAG_W,SBE35,SBE35_FLAG_W
,,,,,,,,,,,METERS,DBAR,ITS-90,,,PSS-78,,PSS-78,,UMOL/KG,,UMOL/KG,,UMOL/KG,,UMOL/KG,,UMOL/KG,,UMOL/KG,,UMOL/KG,,PMOL/KG,,PMOL/KG,,PMOL/KG,,FMOL/KG,,UMOL/KG,,UMOL/KG,,UMOL/KG,,UG/KG,,nMOL/L,,nMOL/L,,VOLTS,,VOLTS,,MG/M^3,,1/M,,1/M,,1/M,,MG/M^3,,%TRANS,,,
  49NZ20191205,  I08N,    58,  1,     36,   1236,2,20191219,0929,-14.9988,  80.0020, 5111,     10.1,  28.3462,  28.3445,2,  34.9726,2,  34.9713,2,    199.3,2,    199.0,2,     1.88,2,     0.08,2,     0.01,2,     0.10,2,     0.04,2,    1.379,2,    0.914,2,    0.120,2,    1.563,2,   1964.2, 2,   2290.4,2,   -999.0,9,     0.05,2,     37.2,2,    302.0,2,   90.791,2,   90.791,2,   1.0970,1,-999.0000,9,-999.0000,9,-999.0000,9,    0.045,2,   98.655,2,  28.3445,2
  49NZ20191205,  I08N,    58,  1,     35,   1235,2,20191219,0929,-14.9988,  80.0020, 5111,     49.8,  27.9452,  27.9450,2,  34.9621,2,  34.9608,2,    203.5,2,    203.6,2,     1.84,2,     0.02,2,     0.01,2,     0.10,2,     0.05,2,    1.418,2,    0.930,2,    0.121,2,    1.606,2,   1963.7, 2,   2290.9,2,   -999.0,9,     0.08,2,     28.8,2,    308.6,2,   16.506,2,   16.506,2,   1.0450,1,-999.0000,9,-999.0000,9,-999.0000,9,    0.119,2,   98.503,2,  27.9450,2
  49NZ20191205,  I08N,    58,  1,     34,   1234,2,20191219,0929,-14.9988,  80.0020, 5111,    100.0,  24.1397,  24.1501,2,  34.8666,2,  34.9045,2,    180.2,2,    183.2,2,     4.17,2,     1.69,2,     0.08,2,     0.27,2,     0.07,2,    1.602,2,    1.031,2,    0.109,2,    1.668,2,   2014.8, 2,   2292.7,2,   -999.0,9,     0.40,2,     35.9,2,    323.0,2,    1.807,2,    1.807,2,   1.2510,1,-999.0000,9,-999.0000,9,-999.0000,9,    0.541,2,   98.151,2,  24.1501,2
  49NZ20191205,  I08N,    58,  1,     33,   1233,2,20191219,0929,-14.9988,  80.0020, 5111,    150.8,  21.8567,  21.8612,2,  35.3651,2,  35.3469,2,    181.3,2,    176.4,2,     4.81,2,     3.76,2,     0.15,2,     0.35,2,     0.07,2,    1.765,2,    1.138,2,    0.093,2,    1.678,2,   2057.5, 2,   2316.6,2,   -999.0,9,     0.16,2,     39.2,2,    369.7,2,    0.000,2,    0.000,2,   1.2570,1,-999.0000,9,-999.0000,9,-999.0000,9,    0.186,2,   99.251,2,  21.8612,2
  49NZ20191205,  I08N,    58,  1,     32,   1232,2,20191219,0929,-14.9988,  80.0020, 5111,    198.9,  19.5116,  19.5126,2,  35.5180,2,  35.5315,2,    168.4,2,    170.1,2,     6.59,2,     5.94,2,     0.01,2,     0.46,2,     0.06,2,    1.896,2,    1.195,2,    0.015,2,    1.623,2,   2092.9, 2,   2335.0,2,   -999.0,9,     0.01,2,     37.7,2,    430.8,2,    0.000,2,    0.000,2,   1.2860,1,-999.0000,9,-999.0000,9,-999.0000,9,    0.009,2,   99.597,2,  19.5126,2
  49NZ20191205,  I08N,    58,  1,     31,   1231,2,20191219,0929,-14.9988,  80.0020, 5111,    250.4,  16.7621,  16.7503,2,  35.3981,2,  35.4047,2,    159.9,2,    159.9,2,    11.37,2,     9.86,2,     0.01,2,     0.73,2,     0.05,2,    1.854,2,    1.224,2,    0.017,2,    1.527,2,   2125.0, 2,   2331.4,2,   -999.0,9,     0.00,2,       26,2,    426.4,2,    0.000,2,    0.000,2,   1.3240,1,-999.0000,9,-999.0000,9,-999.0000,9,   -0.005,2,   99.690,2,  16.7503,2
  49NZ20191205,  I08N,    58,  1,     30,   1230,2,20191219,0929,-14.9988,  80.0020, 5111,    279.8,  15.1204,  15.1572,2,  35.2258,2,  35.2340,2,    147.4,2,    149.9,2,    15.90,2,    13.42,2,     0.01,2,     0.97,2,     0.03,2,    2.059,2,    1.204,2,    0.016,2,    1.311,2,   2146.1, 2,   2323.2,2,   -999.0,9,  -999.00,9,     24.7,2,    430.2,2,    0.000,2,    0.000,2,   1.3560,1,-999.0000,9,-999.0000,9,-999.0000,9,   -0.005,2,   99.709,2,  15.1572,2
  49NZ20191205,  I08N,    58,  1,     29,   1229,2,20191219,0929,-14.9988,  80.0020, 5111,    368.6,  12.0774,  12.0772,2,  35.0208,2,  35.0272,2,    169.6,2,    173.2,2,    13.58,2,    15.70,2,     0.01,2,     1.12,2,     0.03,2,    2.566,2,    1.439,2,    0.044,2,    1.415,2,   2154.4, 2,   2316.3,2,   -999.0,9,  -999.00,9,     30.9,2,    449.8,2,    0.000,2,    0.000,2,   1.3020,1,-999.0000,9,-999.0000,9,-999.0000,9,   -0.002,2,   99.739,2,  12.0772,2
  49NZ20191205,  I08N,    58,  1,     28,   1228,2,20191219,0929,-14.9988,  80.0020, 5111,    469.4,   9.9110,   9.9143,2,  34.7741,2,  34.7685,2,    190.3,2,    192.9,2,    12.49,2,    19.16,2,     0.01,2,     1.31,2,     0.03,2,    3.009,2,    1.630,2,    0.082,2,    1.167,2,   2159.6, 2,   2302.5,2,   -999.0,9,  -999.00,9,     35.1,2,    454.0,2,    0.000,2,    0.000,2,   1.2470,1,-999.0000,9,-999.0000,9,-999.0000,9,   -0.001,2,   99.793,2,   9.9143,2
  49NZ20191205,  I08N,    58,  1,     27,   1227,2,20191219,0929,-14.9988,  80.0020, 5111,    569.7,   8.5005,   8.5000,2,  34.6352,2,  34.6312,2,    179.6,2,    180.0,2,    18.14,2,    23.84,2,     0.01,2,     1.62,2,     0.03,2,    2.493,2,    1.358,2,    0.063,2,    0.881,2,   2171.8, 2,   2298.5,2,   -999.0,9,  -999.00,9,     31.5,2,    446.5,2,    0.000,2,    0.000,2,   1.2630,1,-999.0000,9,-999.0000,9,-999.0000,9,   -0.001,2,   99.838,2,   8.5000,2
  49NZ20191205,  I08N,    58,  1,     26,   1226,2,20191219,0929,-14.9988,  80.0020, 5111,    670.6,   7.3557,   7.3575,2,  34.6405,2,  34.6427,2,    129.9,2,    128.3,2,    41.42,2,    30.64,2,     0.01,2,     2.13,2,     0.03,2,    1.070,2,    0.583,2,    0.024,2,     0.26,2,   2222.4, 6,   2315.4,2,   -999.0,9,  -999.00,9,     24.9,2,    450.7,2,    0.000,2,    0.000,2,   1.3590,1,-999.0000,9,-999.0000,9,-999.0000,9,    0.000,2,   99.819,2,   7.3575,2
  49NZ20191205,  I08N,    58,  1,     25,   1225,2,20191219,0929,-14.9988,  80.0020, 5111,    769.2,   6.7577,   6.7584,2,  34.6971,2,  34.6993,2,     96.8,2,     95.8,2,    61.62,2,    34.15,2,     0.01,2,     2.42,2,     0.07,2,    0.399,2,    0.222,2,    0.008,2,    0.095,2,   2259.1, 2,   2337.1,2,   -999.0,9,  -999.00,9,     25.9,2,    459.3,2,    0.000,2,    0.000,2,   1.4580,1,-999.0000,9,-999.0000,9,-999.0000,9,    0.001,2,   99.819,2,   6.7584,2
  49NZ20191205,  I08N,    58,  1,     24,   1224,2,20191219,0929,-14.9988,  80.0020, 5111,    869.4,   6.1409,   6.1411,2,  34.7083,2,  34.7102,2,     90.2,2,     89.4,2,    73.83,2,    35.51,2,     0.00,2,     2.53,2,     0.06,2,    0.166,2,    0.111,2,    0.005,2,    0.035,2,   2275.5, 2,   2349.8,2,   -999.0,9,  -999.00,9,     32.2,2,    474.6,2,    0.000,2,    0.000,2,   1.4950,1,-999.0000,9,-999.0000,9,-999.0000,9,    0.000,2,   99.817,2,   6.1411,2
  49NZ20191205,  I08N,    58,  1,     23,   1223,2,20191219,0929,-14.9988,  80.0020, 5111,    969.8,   5.6519,   5.6519,2,  34.7027,2,  34.7046,2,     87.3,2,     87.6,2,    83.70,2,    36.32,2,     0.01,2,     2.59,2,     0.05,2,    0.104,2,    0.061,2,    0.003,2,    0.021,2,   2286.9, 2,   2359.1,2,   -999.0,9,  -999.00,9,     33.1,2,    467.8,2,    0.000,2,    0.000,2,   1.5070,1,-999.0000,9,-999.0000,9,-999.0000,9,    0.000,2,   99.825,2,   5.6519,2
  49NZ20191205,  I08N,    58,  1,     22,   1222,2,20191219,0929,-14.9988,  80.0020, 5111,   1129.3,   5.0424,   5.0437,2,  34.7134,2,  34.7131,2,     93.7,2,     93.8,2,    90.19,2,    36.37,2,     0.01,2,     2.60,2,     0.05,2,    0.066,2,    0.034,2,    0.008,2,    0.009,2,   2293.8, 2,   2367.2,6,   -999.0,9,  -999.00,9,     28.6,2,    473.1,2,    0.000,2,    0.000,2,   1.5210,1,-999.0000,9,-999.0000,9,-999.0000,9,    0.000,2,   99.848,2,   5.0437,2
  49NZ20191205,  I08N,    58,  1,     21,   1221,2,20191219,0929,-14.9988,  80.0020, 5111,   1330.7,   4.2246,   4.2260,2,  34.6992,2,  34.6999,2,    104.3,2,    104.4,2,    99.32,2,    36.41,2,     0.01,2,     2.60,2,     0.04,2,    0.026,2,    0.011,2,    0.003,2,    0.004,2,   2299.7, 2,   2374.8,2,   -999.0,9,  -999.00,9,     66.2,2,    463.3,2,    0.000,2,    0.000,2,   1.5120,1,-999.0000,9,-999.0000,9,-999.0000,9,    0.000,2,   99.850,2,   4.2260,2
  49NZ20191205,  I08N,    58,  1,     20,   1220,2,20191219,0929,-14.9988,  80.0020, 5111,   1530.7,   3.5621,   3.5627,2,  34.7071,2,  34.7075,2,    118.4,2,    118.6,2,   103.78,2,    36.16,2,     0.01,2,     2.56,2,     0.04,2,    0.012,2,    0.004,2,    0.002,2,    0.003,2,   2298.4, 2,   2379.2,2,   -999.0,9,  -999.00,9,     31.3,2,    482.2,2,    0.000,2,    0.000,2,   1.5070,1,-999.0000,9,-999.0000,9,-999.0000,9,   -0.001,2,   99.861,2,   3.5627,2
  49NZ20191205,  I08N,    58,  1,     19,   1219,2,20191219,0929,-14.9988,  80.0020, 5111,   1728.9,   3.0855,   3.0863,2,  34.7188,2,  34.7191,2,    129.4,2,    129.5,2,   108.24,2,    35.60,2,     0.01,2,     2.52,2,     0.03,2,    0.011,2,    0.004,2,    0.003,2,    0.006,2,   2298.4, 2,   2384.1,2,   -999.0,9,  -999.00,9,     -999,9,   -999.0,9,    0.000,2,    0.000,2,   1.4950,1,-999.0000,9,-999.0000,9,-999.0000,9,    0.000,2,   99.871,2,   3.0863,2
  49NZ20191205,  I08N,    58,  1,     18,   1218,2,20191219,0929,-14.9988,  80.0020, 5111,   1930.7,   2.7350,   2.7360,2,  34.7274,2,  34.7269,2,    139.1,2,    139.2,2,   111.33,2,    35.06,2,     0.01,2,     2.47,2,     0.04,2,    0.012,2,    0.004,2,    0.001,2,    0.002,2,   2296.6, 2,   2390.0,2,   -999.0,9,  -999.00,9,     -999,9,   -999.0,9,    0.000,2,    0.000,2,   1.4740,1,-999.0000,9,-999.0000,9,-999.0000,9,    0.000,2,   99.867,2,   2.7360,2
  49NZ20191205,  I08N,    58,  1,     17,   1217,2,20191219,0929,-14.9988,  80.0020, 5111,   2129.6,   2.4041,   2.4044,2,  34.7315,2,  34.7315,2,    149.1,2,    149.1,2,   114.85,2,    34.66,2,     0.01,2,     2.43,2,     0.04,2,    0.013,2,    0.003,2,    0.003,2,     0.02,2,   2296.5, 2,   2389.6,2,   -999.0,9,  -999.00,9,     -999,9,   -999.0,9,    0.000,2,    0.000,2,   1.4630,1,-999.0000,9,-999.0000,9,-999.0000,9,   -0.001,2,   99.873,2,   2.4044,2
  49NZ20191205,  I08N,    58,  1,     16,   1216,2,20191219,0929,-14.9988,  80.0020, 5111,   2330.1,   2.1461,   2.1461,2,  34.7320,2,  34.7317,2,    157.5,2,    157.6,2,   117.02,2,    34.29,2,     0.00,2,     2.39,2,     0.05,2,    0.013,2,    0.004,2,    0.003,2,    0.008,2,   2295.4, 6,   2392.6,2,   -999.0,9,  -999.00,9,     -999,9,   -999.0,9,    0.000,2,    0.000,2,   1.4590,1,-999.0000,9,-999.0000,9,-999.0000,9,   -0.001,2,   99.882,2,   2.1461,2
  49NZ20191205,  I08N,    58,  1,     15,   1215,2,20191219,0929,-14.9988,  80.0020, 5111,   2530.8,   1.9660,   1.9658,2,  34.7304,2,  34.7300,2,    163.8,2,    163.9,2,   118.60,2,    33.94,2,     0.00,2,     2.36,2,     0.06,2,    0.023,2,    0.009,2,    0.002,2,    0.011,2,   2295.9, 2,   2394.9,2,   -999.0,9,  -999.00,9,     -999,9,   -999.0,9,    0.000,2,    0.000,2,   1.4390,1,-999.0000,9,-999.0000,9,-999.0000,9,    0.000,2,   99.871,2,   1.9658,2
  49NZ20191205,  I08N,    58,  1,     14,   1214,2,20191219,0929,-14.9988,  80.0020, 5111,   2731.1,   1.8321,   1.8326,2,  34.7289,2,  34.7284,2,    168.0,2,    168.0,2,   120.27,2,    33.78,2,     0.01,2,     2.34,2,     0.04,2,    0.014,2,    0.004,2,    0.001,2,    0.002,2,   2291.5, 2,   2394.0,2,   -999.0,9,  -999.00,9,     -999,9,   -999.0,9,    0.000,2,    0.000,2,   1.4330,1,-999.0000,9,-999.0000,9,-999.0000,9,    0.000,2,   99.871,2,   1.8326,2
  49NZ20191205,  I08N,    58,  1,     13,   1213,2,20191219,0929,-14.9988,  80.0020, 5111,   2930.3,   1.7174,   1.7183,2,  34.7271,2,  34.7265,2,    170.6,2,    170.5,2,   122.73,2,    33.71,2,     0.01,2,     2.33,2,     0.04,2,    0.000,2,    0.000,2,    0.000,2,    0.003,2,   2293.9, 2,   2396.9,2,   -999.0,9,  -999.00,9,     -999,9,   -999.0,9,    0.000,2,    0.000,2,   1.4340,1,-999.0000,9,-999.0000,9,-999.0000,9,    0.000,2,   99.892,2,   1.7183,2
  49NZ20191205,  I08N,    58,  1,     12,   1212,2,20191219,0929,-14.9988,  80.0020, 5111,   3169.3,   1.6131,   1.6131,2,  34.7251,2,  34.7247,2,    171.6,2,    171.6,2,   126.84,2,    33.89,2,     0.01,2,     2.34,2,     0.03,2,    0.014,2,    0.004,2,    0.000,2,    0.003,2,   2297.0, 2,   2401.4,6,   -999.0,9,  -999.00,9,     -999,9,   -999.0,9,    0.000,2,    0.000,2,   1.4450,1,-999.0000,9,-999.0000,9,-999.0000,9,    0.000,2,   99.880,2,   1.6131,2
  49NZ20191205,  I08N,    58,  1,     11,   1211,2,20191219,0929,-14.9988,  80.0020, 5111,   3419.3,   1.5066,   1.5068,2,  34.7229,2,  34.7228,2,    175.1,2,    175.0,2,   128.50,2,    33.87,2,     0.01,2,     2.33,2,     0.04,2,    0.016,2,    0.004,2,    0.001,2,    0.005,2,   2298.3, 2,   2402.8,2,   -999.0,9,  -999.00,9,     -999,9,   -999.0,9,    0.000,2,    0.000,2,   1.4240,1,-999.0000,9,-999.0000,9,-999.0000,9,    0.000,2,   99.876,2,   1.5068,2
  49NZ20191205,  I08N,    58,  1,     10,   1210,2,20191219,0929,-14.9988,  80.0020, 5111,   3669.5,   1.4253,   1.4252,2,  34.7209,2,  34.7207,2,    179.6,2,    179.6,2,   128.77,2,    33.58,2,     0.01,2,     2.31,2,     0.05,2,    0.012,2,    0.003,2,    0.000,2,        0,2,   2295.3, 2,   2405.9,2,   -999.0,9,  -999.00,9,     -999,9,   -999.0,9,    0.000,2,    0.000,2,   1.4190,1,-999.0000,9,-999.0000,9,-999.0000,9,    0.000,2,   99.895,2,   1.4252,2
  49NZ20191205,  I08N,    58,  1,      9,   1209,2,20191219,0929,-14.9988,  80.0020, 5111,   3919.4,   1.3774,   1.3770,2,  34.7189,2,  34.7190,2,    182.3,2,    182.2,2,   129.58,2,    33.51,2,     0.01,2,     2.30,2,     0.06,2,    0.018,2,    0.005,2,    0.003,2,    0.023,2,   2294.7, 2,   2402.7,2,   -999.0,9,  -999.00,9,     -999,9,   -999.0,9,    0.000,2,    0.000,2,   1.4140,1,-999.0000,9,-999.0000,9,-999.0000,9,    0.000,2,   99.903,2,   1.3770,2
  49NZ20191205,  I08N,    58,  1,      8,  12103,2,20191219,0929,-14.9988,  80.0020, 5111,   4170.3,   1.3671,   1.3672,2,  34.7177,2,  34.7180,2,    182.3,2,    182.2,2,   131.25,2,    33.64,2,     0.01,2,     2.30,2,     0.07,2,    0.014,2,    0.003,2,    0.003,2,    0.004,2,   2298.2, 6,   2409.3,2,   -999.0,9,  -999.00,9,     -999,9,   -999.0,9,    0.000,2,    0.000,2,   1.4120,1,-999.0000,9,-999.0000,9,-999.0000,9,    0.000,2,   99.897,2,   1.3672,2
  49NZ20191205,  I08N,    58,  1,      7,   1207,2,20191219,0929,-14.9988,  80.0020, 5111,   4420.4,   1.3796,   1.3796,2,  34.7173,2,  34.7176,2,    182.0,2,    181.8,2,   132.71,2,    33.71,2,     0.00,2,     2.31,2,     0.06,2,    0.015,2,    0.005,2,    0.002,2,    0.003,2,   2297.5, 2,   2406.8,2,   -999.0,9,  -999.00,9,     -999,9,   -999.0,9,    0.000,2,    0.000,2,   1.4220,1,-999.0000,9,-999.0000,9,-999.0000,9,    0.000,2,   99.892,2,   1.3796,2
  49NZ20191205,  I08N,    58,  1,      6,   1206,2,20191219,0929,-14.9988,  80.0020, 5111,   4669.5,   1.4039,   1.4040,2,  34.7171,2,  34.7175,2,    181.9,2,    181.9,2,   132.72,2,    33.74,2,     0.00,2,     2.31,2,     0.06,2,    0.014,2,    0.004,2,    0.001,2,    0.012,2,   2297.2, 2,   2406.5,6,   -999.0,9,  -999.00,9,     -999,9,   -999.0,9,    0.000,2,    0.000,2,   1.4280,1,-999.0000,9,-999.0000,9,-999.0000,9,    0.000,2,   99.882,2,   1.4040,2
  49NZ20191205,  I08N,    58,  1,      5,   1205,2,20191219,0929,-14.9988,  80.0020, 5111,   4922.9,   1.4289,   1.4289,2,  34.7170,2,  34.7173,2,    182.3,2,    182.3,2,   132.45,2,    33.69,2,     0.01,2,     2.31,2,     0.06,2,    0.016,2,    0.006,2,    0.000,2,    0.004,2,   2297.1, 2,   2409.2,2,   -999.0,9,  -999.00,9,     -999,9,   -999.0,9,    0.000,2,    0.000,2,   1.4310,1,-999.0000,9,-999.0000,9,-999.0000,9,    0.000,2,   99.878,2,   1.4289,2
  49NZ20191205,  I08N,    58,  1,      2,  12046,2,20191219,0929,-14.9988,  80.0020, 5111,     96.1,  24.7745,  24.8012,2,  34.8127,2,  34.8023,2,    194.5,2,    192.1,2,     3.28,2,     0.37,2,     0.03,2,     0.18,2,     0.08,2, -999.000,9, -999.000,9, -999.000,9,     -999,9,   1995.3, 2,   2285.3,2,   -999.0,9,     0.37,2,     31.7,2,    305.5,2,    2.012,2,    2.012,2,   1.1990,1,-999.0000,9,-999.0000,9,-999.0000,9,    0.436,2,   98.094,2,  24.8012,2
  49NZ20191205,  I08N,    58,  1,      1,   1201,2,20191219,0929,-14.9988,  80.0020, 5111,   5185.1,   1.4617,   1.4617,2,  34.7170,2,  34.7168,2,    182.4,2,    182.4,2,   132.58,2,    33.78,2,     0.01,2,     2.31,2,     0.04,2,    0.018,2,    0.006,2,    0.003,2,     0.01,2,   2298.7, 2,   2406.6,2,   -999.0,9,  -999.00,9,     -999,9,   -999.0,9,    0.000,2,    0.000,2,   1.4420,1,-999.0000,9,-999.0000,9,-999.0000,9,   -0.001,2,   99.867,2,   1.4617,2