BOTTLE,20210412PRINUNIVRMK
EXPOCODE,SECT_ID,STNNBR,CASTNO,SAMPNO,BTLNBR,BTLNBR_FLAG_W,DATE,TIME,LATITUDE,LONGITUDE,DEPTH,CTDPRS,CTDTMP,SBE35,SBE35_FLAG_W,CTDSAL,CTDSAL_FLAG_W,SALNTY,SALNTY_FLAG_W,CTDOXY,CTDOXY_FLAG_W,OXYGEN,OXYGEN_FLAG_W,SILCAT,SILCAT_FLAG_W,NITRAT,NITRAT_FLAG_W,NITRIT,NITRIT_FLAG_W,PHSPHT,PHSPHT_FLAG_W,NH4,NH4_FLAG_W,CFC-11,CFC-11_FLAG_W,CFC-12,CFC-12_FLAG_W,CFC113,CFC113_FLAG_W,SF6,SF6_FLAG_W,TCARBN,TCARBN_FLAG_W,ALKALI,ALKALI_FLAG_W,DOC,DOC_FLAG_W,CHLWELSH,CHLWELSH_FLAG_W,UREA,UREA_FLAG_W,IODATE,IODATE_FLAG_W,PAR,PAR_FLAG_W,PAR,PAR_FLAG_W,CDOM,CDOM_FLAG_W,CDOM300,CDOM300_FLAG_W,CDOM325,CDOM325_FLAG_W,CDOM443,CDOM443_FLAG_W,CTDFLUOR,CTDFLUOR_FLAG_W,CTDXMISS,CTDXMISS_FLAG_W,SBE35,SBE35_FLAG_W
,,,,,,,,,,,METERS,DBAR,ITS-90,,,PSS-78,,PSS-78,,UMOL/KG,,UMOL/KG,,UMOL/KG,,UMOL/KG,,UMOL/KG,,UMOL/KG,,UMOL/KG,,PMOL/KG,,PMOL/KG,,PMOL/KG,,FMOL/KG,,UMOL/KG,,UMOL/KG,,UMOL/KG,,UG/KG,,nMOL/L,,nMOL/L,,VOLTS,,VOLTS,,MG/M^3,,1/M,,1/M,,1/M,,MG/M^3,,%TRANS,,,
  49NZ20191205,  I08N,    54,  1,     36,   1236,2,20191218,0238,-13.0969,  80.0007, 5003,     10.0,  28.7057,  28.7063,2,  35.0180,2,  35.0179,2,    197.0,2,    196.5,2,     1.72,2,     0.01,2,     0.01,2,     0.10,2,     0.04,2,    1.380,2,    0.898,2,    0.113,2,    1.574,2,   1964.6, 2,   2293.0,2,   -999.0,9,     0.06,2,       34,2,    323.3,2, 1023.296,2, 1023.296,2,   1.1450,1,-999.0000,9,-999.0000,9,-999.0000,9,    0.013,2,   98.891,2,  28.7063,2
  49NZ20191205,  I08N,    54,  1,     35,   1235,2,20191218,0238,-13.0969,  80.0007, 5003,     49.7,  28.6871,  28.6864,2,  35.0754,2,  35.0732,2,    196.9,2,    196.8,2,     1.69,2,     0.01,2,     0.01,2,     0.10,2,     0.02,2,    1.371,2,    0.889,2,    0.123,2,    1.551,2,   1964.7, 2,   2296.4,2,   -999.0,9,     0.07,2,     33.8,2,    320.2,2,   59.529,2,   59.529,2,   1.0940,1,-999.0000,9,-999.0000,9,-999.0000,9,    0.051,2,   98.857,2,  28.6864,2
  49NZ20191205,  I08N,    54,  1,     34,   1234,2,20191218,0238,-13.0969,  80.0007, 5003,     99.9,  28.1443,  28.1534,2,  35.0612,2,  35.0498,2,    200.2,2,    200.4,2,     1.75,2,     0.00,2,     0.00,2,     0.11,2,     0.02,2,    1.413,2,    0.915,2,    0.122,2,     1.63,2,   1966.0, 2,   2294.3,2,   -999.0,9,     0.14,2,       25,2,    324.5,2,   45.369,2,   45.369,2,   1.0790,1,-999.0000,9,-999.0000,9,-999.0000,9,    0.159,2,   98.880,2,  28.1534,2
  49NZ20191205,  I08N,    54,  1,     33,   1233,2,20191218,0238,-13.0969,  80.0007, 5003,    150.6,  21.6170,  21.6105,2,  34.7428,2,  34.7687,2,    100.1,2,     99.3,2,    13.18,2,    15.03,2,     0.10,2,     1.06,2,     0.02,2,    1.593,2,    0.987,2,    0.038,2,    1.256,2,   2100.4, 2,   2283.2,2,   -999.0,9,     0.20,2,     20.7,2,    399.6,2,    2.975,2,    2.975,2,   1.4310,1,-999.0000,9,-999.0000,9,-999.0000,9,    0.266,2,   99.171,2,  21.6105,2
  49NZ20191205,  I08N,    54,  1,     32,   1232,2,20191218,0238,-13.0969,  80.0007, 5003,    197.7,  17.6210,  17.6063,2,  34.8840,2,  34.9507,2,    114.1,2,    117.8,2,    18.12,2,    15.59,2,     0.01,2,     1.09,2,     0.01,2,    1.675,2,    1.023,2,    0.010,2,    1.149,2,   2128.4,22,   2305.4,2,   -999.0,9,     0.04,2,     32.4,2,    444.7,2,    0.098,2,    0.098,2,   1.4200,1,-999.0000,9,-999.0000,9,-999.0000,9,    0.037,2,   99.549,2,  17.6063,2
  49NZ20191205,  I08N,    54,  1,     31,   1231,2,20191218,0238,-13.0969,  80.0007, 5003,    251.6,  15.4140,  15.4190,2,  35.0524,2,  35.0648,2,    120.0,2,    121.0,2,    20.95,2,    17.03,2,     0.01,2,     1.20,2,     0.02,2,    1.652,2,    1.000,2,    0.012,2,    0.873,2,   2154.6, 2,   2315.3,2,   -999.0,9,     0.01,2,     13.4,2,    422.2,2,    0.000,2,    0.000,2,   1.3970,1,-999.0000,9,-999.0000,9,-999.0000,9,   -0.005,2,   99.677,2,  15.4190,2
  49NZ20191205,  I08N,    54,  1,     30,   1230,2,20191218,0238,-13.0969,  80.0007, 5003,    299.3,  12.6197,  12.6205,2,  34.7716,2,  34.7707,2,     80.3,2,     80.4,2,    32.85,2,    26.04,2,     0.01,2,     1.80,2,     0.02,2,    1.364,2,    0.831,2,    0.012,2,    0.621,2,   2202.6, 2,   2307.1,2,   -999.0,9,  -999.00,9,     14.4,2,    431.6,2,    0.000,2,    0.000,2,   1.4890,1,-999.0000,9,-999.0000,9,-999.0000,9,   -0.004,2,   99.639,2,  12.6205,2
  49NZ20191205,  I08N,    54,  1,     29,   1229,2,20191218,0238,-13.0969,  80.0007, 5003,    400.9,  10.7988,  10.7996,2,  34.8233,2,  34.8221,2,     96.2,2,     96.2,2,    30.57,2,    26.94,2,     0.01,2,     1.84,2,     0.02,2,    1.433,2,    0.881,2,    0.016,2,    0.589,2,   2211.6, 2,   2310.5,2,   -999.0,9,  -999.00,9,     21.7,2,    443.3,2,    0.000,2,    0.000,2,   1.4460,1,-999.0000,9,-999.0000,9,-999.0000,9,    0.000,2,   99.656,2,  10.7996,2
  49NZ20191205,  I08N,    54,  1,     28,   1228,2,20191218,0238,-13.0969,  80.0007, 5003,    498.1,   9.4670,   9.4701,2,  34.7497,2,  34.7456,2,    117.4,2,    119.5,2,    30.20,2,    27.37,2,     0.01,2,     1.86,2,     0.02,2,    1.562,2,    0.925,2,    0.027,2,    0.512,2,   2204.5, 2,   2308.0,2,   -999.0,9,  -999.00,9,     13.5,2,    441.8,2,    0.000,2,    0.000,2,   1.3930,1,-999.0000,9,-999.0000,9,-999.0000,9,    0.000,2,   99.730,2,   9.4701,2
  49NZ20191205,  I08N,    54,  1,     27,   1227,2,20191218,0238,-13.0969,  80.0007, 5003,    602.0,   8.3368,   8.3370,2,  34.7094,2,  34.7100,2,    109.8,2,    109.5,2,    39.58,2,    30.54,2,     0.01,2,     2.11,2,     0.02,2,    1.078,2,    0.605,2,    0.021,2,    0.264,2,   2224.2, 2,   2317.3,2,   -999.0,9,  -999.00,9,     15.9,2,    452.5,2,    0.000,2,    0.000,2,   1.4120,1,-999.0000,9,-999.0000,9,-999.0000,9,    0.000,2,   99.770,2,   8.3370,2
  49NZ20191205,  I08N,    54,  1,     26,   1226,2,20191218,0238,-13.0969,  80.0007, 5003,    701.1,   7.6587,   7.6580,2,  34.7291,2,  34.7300,2,     86.7,2,     86.6,2,    54.52,2,    33.52,2,     0.01,2,     2.37,2,     0.04,2,    0.514,2,    0.292,2,    0.009,2,    0.111,2,   2253.3, 6,   2327.5,2,   -999.0,9,  -999.00,9,     21.4,2,    459.2,2,    0.000,2,    0.000,2,   1.4690,1,-999.0000,9,-999.0000,9,-999.0000,9,    0.000,2,   99.764,2,   7.6580,2
  49NZ20191205,  I08N,    54,  1,     25,   1225,2,20191218,0238,-13.0969,  80.0007, 5003,    800.4,   7.0135,   7.0132,2,  34.7265,2,  34.7273,2,     81.3,2,     81.1,2,    65.41,2,    35.05,2,     0.01,2,     2.49,2,     0.03,2,    0.287,2,    0.166,2,    0.006,2,    0.066,2,   2268.2, 2,   2339.0,2,   -999.0,9,  -999.00,9,     20.3,2,    440.2,2,    0.000,2,    0.000,2,   1.4930,1,-999.0000,9,-999.0000,9,-999.0000,9,    0.000,2,   99.789,2,   7.0132,2
  49NZ20191205,  I08N,    54,  1,     24,   1224,2,20191218,0238,-13.0969,  80.0007, 5003,    900.3,   6.4666,   6.4667,2,  34.7260,2,  34.7265,2,     80.0,2,     80.1,2,    74.47,2,    35.82,2,     0.00,2,     2.56,2,     0.03,2,    0.174,2,    0.100,2,    0.003,2,    0.054,2,   2277.0, 2,   2348.7,2,   -999.0,9,  -999.00,9,     15.8,2,    441.8,2,    0.000,2,    0.000,2,   1.5230,1,-999.0000,9,-999.0000,9,-999.0000,9,    0.000,2,   99.793,2,   6.4667,2
  49NZ20191205,  I08N,    54,  1,     23,   1223,2,20191218,0238,-13.0969,  80.0007, 5003,   1000.1,   5.9953,   5.9970,2,  34.7202,2,  34.7190,2,     84.2,2,     84.6,2,    80.28,2,    36.09,2,     0.00,2,     2.58,2,     0.03,2,    0.131,2,    0.074,2,    0.006,2,     0.02,2,   2282.3, 2,   2354.7,2,   -999.0,9,  -999.00,9,     19.9,2,    447.2,2,    0.000,2,    0.000,2,   1.5160,1,-999.0000,9,-999.0000,9,-999.0000,9,    0.000,2,   99.825,2,   5.9970,2
  49NZ20191205,  I08N,    54,  1,     22,   1222,2,20191218,0238,-13.0969,  80.0007, 5003,   1200.3,   5.1012,   5.1011,2,  34.7087,2,  34.7088,2,     89.7,2,     90.0,2,    92.79,2,    36.69,2,     0.00,2,     2.63,2,     0.02,2,    0.054,2,    0.028,2,    0.001,2,        0,2,   2296.2, 2,   2366.6,6,   -999.0,9,  -999.00,9,       26,2,    455.4,2,    0.000,2,    0.000,2,   1.5460,1,-999.0000,9,-999.0000,9,-999.0000,9,   -0.001,2,   99.844,2,   5.1011,2
  49NZ20191205,  I08N,    54,  1,     21,   1221,2,20191218,0238,-13.0969,  80.0007, 5003,   1399.5,   4.2505,   4.2509,2,  34.6955,2,  34.6960,2,    102.2,2,    102.5,2,   101.26,2,    36.69,2,     0.00,2,     2.62,2,     0.02,2,    0.022,2,    0.009,2,    0.001,2,    0.007,2,   2300.1, 2,   2374.3,2,   -999.0,9,  -999.00,9,     16.1,2,    457.8,2,    0.000,2,    0.000,2,   1.5210,1,-999.0000,9,-999.0000,9,-999.0000,9,    0.000,2,   99.863,2,   4.2509,2
  49NZ20191205,  I08N,    54,  1,     20,   1220,2,20191218,0238,-13.0969,  80.0007, 5003,   1600.4,   3.5563,   3.5560,2,  34.7220,2,  34.7221,2,    117.2,2,    117.1,2,   105.67,2,    36.09,2,     0.01,2,     2.56,2,     0.02,2,    0.021,2,    0.007,2,    0.001,2,    0.001,2,   2300.8, 2,   2378.3,2,   -999.0,9,  -999.00,9,     20.1,2,    460.1,2,    0.000,2,    0.000,2,   1.5040,1,-999.0000,9,-999.0000,9,-999.0000,9,    0.000,2,   99.865,2,   3.5560,2
  49NZ20191205,  I08N,    54,  1,     19,   1219,2,20191218,0238,-13.0969,  80.0007, 5003,   1800.8,   3.0096,   3.0092,2,  34.7295,2,  34.7301,2,    132.2,2,    132.1,2,   109.47,2,    35.49,2,     0.00,2,     2.51,2,     0.03,2,    0.010,2,    0.003,2,    0.002,2,    0.003,2,   2299.8, 2,   2383.3,2,   -999.0,9,  -999.00,9,     -999,9,   -999.0,9,    0.000,2,    0.000,2,   1.4950,1,-999.0000,9,-999.0000,9,-999.0000,9,   -0.001,2,   99.781,2,   3.0092,2
  49NZ20191205,  I08N,    54,  1,     18,   1218,2,20191218,0238,-13.0969,  80.0007, 5003,   1999.7,   2.6049,   2.6048,2,  34.7301,2,  34.7305,2,    142.6,2,    142.5,2,   113.78,2,    35.09,2,     0.00,2,     2.47,2,     0.02,2,    0.014,2,    0.004,2,    0.002,2,    0.003,2,   2297.5, 2,   2388.6,2,   -999.0,9,  -999.00,9,     -999,9,   -999.0,9,    0.000,2,    0.000,2,   1.4680,1,-999.0000,9,-999.0000,9,-999.0000,9,   -0.001,2,   99.886,2,   2.6048,2
  49NZ20191205,  I08N,    54,  1,     17,   1217,2,20191218,0238,-13.0969,  80.0007, 5003,   2200.8,   2.3238,   2.3242,2,  34.7347,2,  34.7341,2,    151.5,2,    151.5,2,   116.29,2,    34.55,2,     0.00,2,     2.42,2,     0.01,2,    0.014,2,    0.003,2,    0.003,2,        0,2,   2296.1, 2,   2388.2,2,   -999.0,9,  -999.00,9,     -999,9,   -999.0,9,    0.000,2,    0.000,2,   1.4650,1,-999.0000,9,-999.0000,9,-999.0000,9,   -0.001,2,   99.876,2,   2.3242,2
  49NZ20191205,  I08N,    54,  1,     16,   1216,2,20191218,0238,-13.0969,  80.0007, 5003,   2400.8,   2.1302,   2.1301,2,  34.7326,2,  34.7328,2,    158.1,2,    158.2,2,   118.09,2,    34.22,2,     0.01,2,     2.38,2,     0.01,2,    0.011,2,    0.003,2,    0.001,2,    0.014,2,   2295.0, 6,   2389.7,2,   -999.0,9,  -999.00,9,     -999,9,   -999.0,9,    0.000,2,    0.000,2,   1.4650,1,-999.0000,9,-999.0000,9,-999.0000,9,   -0.001,2,   99.888,2,   2.1301,2
  49NZ20191205,  I08N,    54,  1,     15,   1215,2,20191218,0238,-13.0969,  80.0007, 5003,   2600.2,   1.9481,   1.9480,2,  34.7308,2,  34.7308,2,    164.3,2,    164.3,2,   119.36,2,    33.98,2,     0.01,2,     2.36,2,     0.01,2,    0.013,2,    0.004,2,    0.001,2,    0.008,2,   2292.4, 2,   2392.1,2,   -999.0,9,  -999.00,9,     -999,9,   -999.0,9,    0.000,2,    0.000,2,   1.4420,1,-999.0000,9,-999.0000,9,-999.0000,9,    0.000,2,   99.888,2,   1.9480,2
  49NZ20191205,  I08N,    54,  1,     14,   1214,2,20191218,0238,-13.0969,  80.0007, 5003,   2799.6,   1.8044,   1.8046,2,  34.7283,2,  34.7283,2,    169.4,2,    169.4,2,   120.42,2,    33.61,2,     0.00,2,     2.32,2,     0.06,2,    0.012,2,    0.003,2,    0.001,2,        0,2,   2292.9, 2,   2391.4,2,   -999.0,9,  -999.00,9,     -999,9,   -999.0,9,    0.000,2,    0.000,2,   1.4310,1,-999.0000,9,-999.0000,9,-999.0000,9,   -0.001,2,   99.907,2,   1.8046,2
  49NZ20191205,  I08N,    54,  1,     13,   1213,2,20191218,0238,-13.0969,  80.0007, 5003,   2999.2,   1.6907,   1.6912,2,  34.7269,2,  34.7277,2,    171.2,2,    171.1,2,   123.69,4,    33.76,2,     0.00,2,     2.33,2,     0.04,2,    0.013,2,    0.003,2,    0.000,2,    0.003,2,   2293.7, 2,   2396.3,2,   -999.0,9,  -999.00,9,     -999,9,   -999.0,9,    0.000,2,    0.000,2,   1.4430,1,-999.0000,9,-999.0000,9,-999.0000,9,    0.000,2,   99.897,2,   1.6912,2
  49NZ20191205,  I08N,    54,  1,     12,   1212,2,20191218,0238,-13.0969,  80.0007, 5003,   3250.1,   1.5652,   1.5656,2,  34.7245,2,  34.7243,2,    173.8,2,    173.7,2,   127.64,2,    33.84,2,     0.00,2,     2.33,2,     0.03,2,    0.010,2,    0.002,2,    0.000,2,    0.005,2,   2299.3, 2,   2401.4,6,   -999.0,9,  -999.00,9,     -999,9,   -999.0,9,    0.000,2,    0.000,2,   1.4290,1,-999.0000,9,-999.0000,9,-999.0000,9,    0.000,2,   99.892,2,   1.5656,2
  49NZ20191205,  I08N,    54,  1,     11,   1211,2,20191218,0238,-13.0969,  80.0007, 5003,   3499.5,   1.4602,   1.4600,2,  34.7220,2,  34.7219,2,    177.6,2,    177.4,2,   129.25,2,    33.73,2,     0.00,2,     2.32,2,     0.02,2,    0.013,2,    0.004,2,    0.002,2,    0.003,2,   2295.1, 2,   2402.4,2,   -999.0,9,  -999.00,9,     -999,9,   -999.0,9,    0.000,2,    0.000,2,   1.4310,1,-999.0000,9,-999.0000,9,-999.0000,9,    0.000,2,   99.897,2,   1.4600,2
  49NZ20191205,  I08N,    54,  1,     10,   1210,2,20191218,0238,-13.0969,  80.0007, 5003,   3751.7,   1.3767,   1.3766,2,  34.7194,2,  34.7195,2,    181.3,2,    181.2,2,   130.38,2,    33.64,2,     0.00,2,     2.31,2,     0.02,2,    0.011,2,    0.002,2,    0.001,2,    0.005,2,   2295.8, 2,   2403.9,2,   -999.0,9,  -999.00,9,     -999,9,   -999.0,9,    0.000,2,    0.000,2,   1.4130,1,-999.0000,9,-999.0000,9,-999.0000,9,   -0.001,2,   99.920,2,   1.3766,2
  49NZ20191205,  I08N,    54,  1,      9,   1209,2,20191218,0238,-13.0969,  80.0007, 5003,   3998.4,   1.3550,   1.3550,2,  34.7181,2,  34.7182,2,    181.8,2,    181.7,2,   132.00,2,    33.75,2,     0.00,2,     2.31,2,     0.03,2,    0.013,2,    0.003,2,    0.000,2,    0.026,2,   2300.6, 2,   2404.1,2,   -999.0,9,  -999.00,9,     -999,9,   -999.0,9,    0.000,2,    0.000,2,   1.4250,1,-999.0000,9,-999.0000,9,-999.0000,9,    0.000,2,   99.897,2,   1.3550,2
  49NZ20191205,  I08N,    54,  1,      8,  12103,2,20191218,0238,-13.0969,  80.0007, 5003,   4251.2,   1.3612,   1.3612,2,  34.7175,2,  34.7168,2,    181.7,2,    181.6,2,   133.42,2,    33.75,2,     0.00,2,     2.31,2,     0.01,2,    0.013,2,    0.004,2,    0.001,2,    0.026,2,   2298.0, 6,   2407.5,2,   -999.0,9,  -999.00,9,     -999,9,   -999.0,9,    0.000,2,    0.000,2,   1.4160,1,-999.0000,9,-999.0000,9,-999.0000,9,    0.000,2,   99.905,2,   1.3612,2
  49NZ20191205,  I08N,    54,  1,      7,   1207,2,20191218,0238,-13.0969,  80.0007, 5003,   4499.6,   1.3833,   1.3833,2,  34.7172,2,  34.7168,2,    181.6,2,    181.6,2,   134.03,2,    33.76,2,     0.00,2,     2.31,2,     0.02,2,    0.015,2,    0.005,2,    0.000,2,        0,2,   2297.8, 2,   2409.4,2,   -999.0,9,  -999.00,9,     -999,9,   -999.0,9,    0.000,2,    0.000,2,   1.4340,1,-999.0000,9,-999.0000,9,-999.0000,9,   -0.001,2,   99.895,2,   1.3833,2
  49NZ20191205,  I08N,    54,  1,      6,   1206,2,20191218,0238,-13.0969,  80.0007, 5003,   4751.2,   1.4100,   1.4100,2,  34.7172,2,  34.7168,2,    181.4,2,    181.4,2,   134.02,2,    33.69,2,     0.00,2,     2.31,2,     0.02,2,    0.011,2,    0.005,2,    0.001,2,    0.013,2,   2297.0, 2,   2408.8,6,   -999.0,9,  -999.00,9,     -999,9,   -999.0,9,    0.000,2,    0.000,2,   1.4410,1,-999.0000,9,-999.0000,9,-999.0000,9,   -0.001,2,   99.895,2,   1.4100,2
  49NZ20191205,  I08N,    54,  1,      5,   1205,2,20191218,0238,-13.0969,  80.0007, 5003,      9.8,  28.7102,  28.7096,2,  35.0187,2,-999.0000,9,    197.1,2,   -999.0,9,  -999.00,9,  -999.00,9,  -999.00,9,  -999.00,9,     -999,9, -999.000,9, -999.000,9, -999.000,9,     -999,9,   -999.0, 9,   -999.0,9,   -999.0,9,  -999.00,9,     -999,9,   -999.0,9,  908.816,2,  908.816,2,   1.0280,1,-999.0000,9,-999.0000,9,-999.0000,9,    0.018,2,   98.887,2,  28.7096,2
  49NZ20191205,  I08N,    54,  1,      4,   1204,2,20191218,0238,-13.0969,  80.0007, 5003,      9.8,  28.7068,  28.7067,2,  35.0182,2,-999.0000,9,    197.1,2,   -999.0,9,  -999.00,9,  -999.00,9,  -999.00,9,  -999.00,9,     -999,9, -999.000,9, -999.000,9, -999.000,9,     -999,9,   -999.0, 9,   -999.0,9,   -999.0,9,  -999.00,9,     -999,9,   -999.0,9,  952.806,2,  952.806,2,   1.0280,1,-999.0000,9,-999.0000,9,-999.0000,9,    0.018,2,   98.882,2,  28.7067,2
  49NZ20191205,  I08N,    54,  1,      3,   1203,2,20191218,0238,-13.0969,  80.0007, 5003,   5080.6,   1.4477,   1.4477,2,  34.7171,2,-999.0000,9,    181.3,2,   -999.0,9,  -999.00,9,  -999.00,9,  -999.00,9,  -999.00,9,     -999,9, -999.000,9, -999.000,9, -999.000,9,     -999,9,   -999.0, 9,   -999.0,9,   -999.0,9,  -999.00,9,     -999,9,   -999.0,9,    0.000,2,    0.000,2,   1.4460,1,-999.0000,9,-999.0000,9,-999.0000,9,   -0.001,2,   99.876,2,   1.4477,2
  49NZ20191205,  I08N,    54,  1,      2,  12046,2,20191218,0238,-13.0969,  80.0007, 5003,   5080.9,   1.4477,   1.4478,2,  34.7171,2,-999.0000,9,    181.3,2,   -999.0,9,  -999.00,9,  -999.00,9,  -999.00,9,  -999.00,9,     -999,9, -999.000,9, -999.000,9, -999.000,9,     -999,9,   -999.0, 9,   -999.0,9,   -999.0,9,  -999.00,9,     -999,9,   -999.0,9,    0.000,2,    0.000,2,   1.4490,1,-999.0000,9,-999.0000,9,-999.0000,9,   -0.001,2,   99.859,2,   1.4478,2
  49NZ20191205,  I08N,    54,  1,      1,   1201,2,20191218,0238,-13.0969,  80.0007, 5003,   5080.6,   1.4477,   1.4478,2,  34.7172,2,  34.7167,2,    181.3,2,    181.4,2,   133.64,2,    33.61,2,     0.00,2,     2.31,2,     0.02,2,    0.015,2,    0.005,2,    0.000,2,        0,2,   2302.1, 2,   2411.0,2,   -999.0,9,  -999.00,9,     -999,9,   -999.0,9,    0.000,2,    0.000,2,   1.4390,1,-999.0000,9,-999.0000,9,-999.0000,9,   -0.001,2,   99.861,2,   1.4478,2