BOTTLE,20210412PRINUNIVRMK
EXPOCODE,SECT_ID,STNNBR,CASTNO,SAMPNO,BTLNBR,BTLNBR_FLAG_W,DATE,TIME,LATITUDE,LONGITUDE,DEPTH,CTDPRS,CTDTMP,SBE35,SBE35_FLAG_W,CTDSAL,CTDSAL_FLAG_W,SALNTY,SALNTY_FLAG_W,CTDOXY,CTDOXY_FLAG_W,OXYGEN,OXYGEN_FLAG_W,SILCAT,SILCAT_FLAG_W,NITRAT,NITRAT_FLAG_W,NITRIT,NITRIT_FLAG_W,PHSPHT,PHSPHT_FLAG_W,NH4,NH4_FLAG_W,CFC-11,CFC-11_FLAG_W,CFC-12,CFC-12_FLAG_W,CFC113,CFC113_FLAG_W,SF6,SF6_FLAG_W,TCARBN,TCARBN_FLAG_W,ALKALI,ALKALI_FLAG_W,DOC,DOC_FLAG_W,CHLWELSH,CHLWELSH_FLAG_W,UREA,UREA_FLAG_W,IODATE,IODATE_FLAG_W,PAR,PAR_FLAG_W,PAR,PAR_FLAG_W,CDOM,CDOM_FLAG_W,CDOM300,CDOM300_FLAG_W,CDOM325,CDOM325_FLAG_W,CDOM443,CDOM443_FLAG_W,CTDFLUOR,CTDFLUOR_FLAG_W,CTDXMISS,CTDXMISS_FLAG_W,SBE35,SBE35_FLAG_W
,,,,,,,,,,,METERS,DBAR,ITS-90,,,PSS-78,,PSS-78,,UMOL/KG,,UMOL/KG,,UMOL/KG,,UMOL/KG,,UMOL/KG,,UMOL/KG,,UMOL/KG,,PMOL/KG,,PMOL/KG,,PMOL/KG,,FMOL/KG,,UMOL/KG,,UMOL/KG,,UMOL/KG,,UG/KG,,nMOL/L,,nMOL/L,,VOLTS,,VOLTS,,MG/M^3,,1/M,,1/M,,1/M,,MG/M^3,,%TRANS,,,
  49NZ20191205,  I08N,     9,  1,     36,   1236,2,20191206,2125,  4.6658,  79.9985, 4276,      9.6,  28.9662,  28.9645,2,  33.5770,2,  33.5783,2,    195.7,2,    195.5,2,     1.47,2,     0.02,2,     0.01,2,     0.05,2,     0.06,2,    1.394,2,    0.902,2,    0.122,2,    1.664,2,   1899.3, 2,   2213.2,2,     74.1,2,     0.18,2,     -999,9,   -999.0,9,    0.000,2,    0.000,2,   1.1930,1,   0.2710,2,   0.1430,2,   0.0170,2,    0.147,2,   98.520,2,  28.9645,2
  49NZ20191205,  I08N,     9,  1,     35,   1235,2,20191206,2125,  4.6658,  79.9985, 4276,     50.4,  25.0786,  25.0980,2,  34.8632,2,  34.8527,2,     79.5,2,     85.8,2,     8.05,2,    13.36,2,     0.34,2,     1.02,2,     0.05,2,    1.365,2,    0.877,2,    0.063,2,    1.301,2,   2082.2, 2,   2279.6,2,     61.3,2,     0.46,2,     -999,9,   -999.0,9,    0.000,2,    0.000,2,   1.5470,1,   0.3920,2,   0.2280,2,   0.0370,2,    0.351,2,   98.567,2,  25.0980,2
  49NZ20191205,  I08N,     9,  1,     34,   1234,2,20191206,2125,  4.6658,  79.9985, 4276,    100.1,  17.8476,  17.8529,2,  34.8778,2,  34.8780,2,      7.8,2,      7.7,2,    24.15,2,    27.86,2,     0.01,2,     2.07,2,     0.04,2,    1.082,2,    0.687,2,    0.004,2,    0.633,2,   2205.4, 2,   2289.0,2,     49.8,2,     0.03,2,     -999,9,   -999.0,9,    0.000,2,    0.000,2,   1.7010,1,   0.3600,2,   0.2100,2,   0.0270,2,    0.011,2,   99.583,2,  17.8529,2
  49NZ20191205,  I08N,     9,  1,     33,   1233,2,20191206,2125,  4.6658,  79.9985, 4276,    149.9,  14.0100,  14.0060,2,  35.0080,2,  35.0117,2,     13.1,2,     13.2,2,    29.66,2,    30.96,2,     0.01,2,     2.25,2,     0.02,2,    1.036,2,    0.618,2,    0.006,2,    0.357,2,   2232.9, 2,   2308.2,2,     45.3,2,     0.01,2,     -999,9,   -999.0,9,    0.000,2,    0.000,2,   1.6930,1,   0.3660,2,   0.2240,2,   0.0420,2,   -0.005,2,   99.550,2,  14.0060,2
  49NZ20191205,  I08N,     9,  1,     32,   1232,2,20191206,2125,  4.6658,  79.9985, 4276,    200.8,  12.9231,  12.9214,2,  35.0935,2,  35.0964,2,     33.9,2,     35.0,2,    26.40,2,    29.89,2,     0.01,2,     2.10,2,     0.02,2,    1.366,2,    0.793,2,    0.003,2,    0.506,2,   2234.4, 2,   2310.5,2,     43.5,2,     0.01,2,     -999,9,   -999.0,9,    0.000,2,    0.000,2,   1.6320,1,   0.3640,2,   0.2270,2,   0.0450,2,    0.001,2,   99.554,2,  12.9214,2
  49NZ20191205,  I08N,     9,  1,     31,   1231,2,20191206,2125,  4.6658,  79.9985, 4276,    250.0,  12.0992,  12.0966,2,  35.0917,2,  35.0918,2,     46.4,2,     46.5,2,    26.60,2,    29.82,2,     0.01,2,     2.07,2,     0.01,2,    1.434,2,    0.810,2,    0.010,2,    0.466,2,   2235.9, 2,   2314.3,2,     42.5,2,     0.01,2,     -999,9,   -999.0,9,    0.000,2,    0.000,2,   1.6040,1,-999.0000,9,-999.0000,9,-999.0000,9,    0.004,2,   99.512,2,  12.0966,2
  49NZ20191205,  I08N,     9,  1,     30,   1230,2,20191206,2125,  4.6658,  79.9985, 4276,    328.3,  11.4868,  11.4867,2,  35.0845,2,  35.0928,2,     51.8,2,     53.0,2,    27.57,2,    30.21,2,     0.00,2,     2.08,2,     0.02,2,    1.406,2,    0.789,2,    0.013,2,    0.431,2,   2235.7, 2,   2314.1,2,     41.4,2,  -999.00,9,     -999,9,   -999.0,9,    0.000,2,    0.000,2,   1.5920,1,   0.3410,2,   0.2080,2,   0.0370,2,    0.005,2,   99.539,2,  11.4867,2
  49NZ20191205,  I08N,     9,  1,     29,   1229,2,20191206,2125,  4.6658,  79.9985, 4276,    429.5,  10.5434,  10.5415,2,  35.0743,2,  35.0715,2,     33.4,2,     31.7,2,    38.61,2,    33.66,2,     0.01,2,     2.39,2,     0.04,2,    0.775,2,    0.429,2,    0.005,2,     0.23,2,   2262.2, 2,   2321.6,2,     41.1,2,  -999.00,9,     -999,9,   -999.0,9,    0.000,2,    0.000,2,   1.6430,1,   0.3510,2,   0.2120,2,   0.0400,2,    0.005,2,   99.617,2,  10.5415,2
  49NZ20191205,  I08N,     9,  1,     28,   1228,2,20191206,2125,  4.6658,  79.9985, 4276,    529.9,  10.0379,  10.0405,2,  35.0848,2,  35.0811,2,     32.5,2,     30.8,2,    44.52,2,    34.50,2,     0.01,2,     2.50,2,     0.05,2,    0.550,2,    0.311,2,    0.004,2,    0.156,2,   2269.6, 2,   2326.7,2,     38.7,2,  -999.00,9,     -999,9,   -999.0,9,    0.000,2,    0.000,2,   1.6510,1,   0.3650,2,   0.2270,2,   0.0490,2,    0.005,2,   99.697,2,  10.0405,2
  49NZ20191205,  I08N,     9,  1,     27,   1227,2,20191206,2125,  4.6658,  79.9985, 4276,    629.3,   9.0716,   9.0716,2,  35.0296,2,  35.0287,2,     22.3,2,     22.4,2,    57.24,2,    36.51,2,     0.01,2,     2.66,2,     0.03,2,    0.238,2,    0.137,2,    0.002,2,    0.059,2,   2288.8, 2,   2337.7,2,     39.2,2,  -999.00,9,     -999,9,   -999.0,9,    0.000,2,    0.000,2,   1.6950,1,   0.3720,2,   0.2320,2,   0.0480,2,    0.005,2,   99.701,2,   9.0716,2
  49NZ20191205,  I08N,     9,  1,     26,   1226,2,20191206,2125,  4.6658,  79.9985, 4276,    729.4,   8.3759,   8.3762,2,  35.0133,2,  35.0109,2,     28.9,2,     28.4,2,    64.96,2,    37.06,2,     0.01,2,     2.70,2,     0.03,2,    0.152,2,    0.085,2,    0.008,2,    0.028,2,   2296.3, 6,   2344.4,2,     37.0,2,  -999.00,9,     -999,9,   -999.0,9,    0.000,2,    0.000,2,   1.7070,1,-999.0000,9,-999.0000,9,-999.0000,9,    0.004,2,   99.756,2,   8.3762,2
  49NZ20191205,  I08N,     9,  1,     25,   1225,2,20191206,2125,  4.6658,  79.9985, 4276,    830.8,   7.7570,   7.7556,2,  34.9790,2,  34.9805,2,     32.2,2,     32.7,2,    72.39,2,    37.39,2,     0.01,2,     2.74,2,     0.04,2,    0.096,2,    0.056,2,    0.002,2,    0.022,2,   2304.4, 2,   2351.5,2,     37.2,2,  -999.00,9,     -999,9,   -999.0,9,    0.000,2,    0.000,2,   1.7010,1,   0.4460,2,   0.2340,2,   0.0490,2,    0.003,2,   99.773,2,   7.7556,2
  49NZ20191205,  I08N,     9,  1,     24,   1224,2,20191206,2125,  4.6658,  79.9985, 4276,    930.6,   7.2445,   7.2464,2,  34.9679,2,  34.9665,2,     41.6,2,     41.8,2,    77.28,2,    37.36,2,     0.00,2,     2.74,2,     0.05,2,    0.081,2,    0.044,2,    0.004,2,    0.021,2,   2305.7, 2,   2355.1,2,     38.9,2,  -999.00,9,     -999,9,   -999.0,9,    0.000,2,    0.000,2,   1.7050,1,-999.0000,9,-999.0000,9,-999.0000,9,    0.002,2,   99.821,2,   7.2464,2
  49NZ20191205,  I08N,     9,  1,     23,   1223,2,20191206,2125,  4.6658,  79.9985, 4276,   1067.7,   6.5481,   6.5501,2,  34.9323,2,  34.9319,2,     47.9,2,     48.0,2,    85.81,2,    37.67,2,     0.00,2,     2.76,2,     0.06,2,    0.055,2,    0.028,2,    0.003,2,    0.008,2,   2311.6, 2,   2365.0,2,     40.4,2,  -999.00,9,     -999,9,   -999.0,9,    0.000,2,    0.000,2,   1.7050,1,   0.4350,2,   0.2220,2,   0.0440,2,    0.002,2,   99.817,2,   6.5501,2
  49NZ20191205,  I08N,     9,  1,     22,   1222,2,20191206,2125,  4.6658,  79.9985, 4276,   1270.2,   5.7708,   5.7708,2,  34.9056,2,  34.9053,2,     61.3,2,     61.3,2,    93.20,2,    37.48,2,     0.00,2,     2.74,2,     0.04,2,    0.038,2,    0.017,2,    0.001,2,    0.006,2,   2318.0, 2,   2372.6,6,     39.0,2,  -999.00,9,     -999,9,   -999.0,9,    0.000,2,    0.000,2,   1.7010,1,-999.0000,9,-999.0000,9,-999.0000,9,    0.001,2,   99.861,2,   5.7708,2
  49NZ20191205,  I08N,     9,  1,     21,   1221,2,20191206,2125,  4.6658,  79.9985, 4276,   1469.9,   4.7003,   4.7005,2,  34.8598,2,  34.8594,2,     75.5,2,     75.6,2,   106.43,2,    37.61,2,     0.00,2,     2.75,2,     0.03,2,    0.023,2,    0.010,2,    0.000,2,    0.005,2,   2321.7, 2,   2383.4,2,     39.3,2,  -999.00,9,     -999,9,   -999.0,9,    0.000,2,    0.000,2,   1.7110,1,   0.4670,2,   0.2490,2,   0.0500,2,    0.001,2,   99.846,2,   4.7005,2
  49NZ20191205,  I08N,     9,  1,     20,   1220,2,20191206,2125,  4.6658,  79.9985, 4276,   1669.7,   3.8565,   3.8572,2,  34.8272,2,  34.8277,2,     92.6,2,     93.4,2,   114.86,2,    37.10,2,     0.00,2,     2.69,2,     0.02,2,    0.018,2,    0.008,2,    0.002,2,    0.006,2,   2328.0, 2,   2394.3,2,     38.8,2,  -999.00,9,     -999,9,   -999.0,9,    0.000,2,    0.000,2,   1.7020,1,-999.0000,9,-999.0000,9,-999.0000,9,    0.000,2,   99.865,2,   3.8572,2
  49NZ20191205,  I08N,     9,  1,     19,   1219,2,20191206,2125,  4.6658,  79.9985, 4276,   1869.6,   3.1249,   3.1246,2,  34.7952,2,  34.7955,2,    108.2,2,    108.1,2,   123.71,2,    36.86,2,     0.00,2,     2.65,2,     0.01,2,    0.019,2,    0.008,2,    0.000,2,    0.017,2,   2328.7, 2,   2402.8,2,     37.4,2,  -999.00,9,     -999,9,   -999.0,9,    0.000,2,    0.000,2,   1.7150,1,   0.4240,2,   0.2210,2,   0.0380,2,    0.000,2,   99.861,2,   3.1246,2
  49NZ20191205,  I08N,     9,  1,     18,   1218,2,20191206,2125,  4.6658,  79.9985, 4276,   2068.5,   2.7130,   2.7141,2,  34.7776,2,  34.7781,2,    121.3,2,    121.2,2,   126.74,2,    36.28,2,     0.00,2,     2.59,2,     0.02,2,    0.015,2,    0.008,2,    0.002,2,    0.012,2,   2326.0, 2,   2405.3,2,     39.9,2,  -999.00,9,     -999,9,   -999.0,9,    0.000,2,    0.000,2,   1.6690,1,-999.0000,9,-999.0000,9,-999.0000,9,    0.001,2,   99.869,2,   2.7141,2
  49NZ20191205,  I08N,     9,  1,     17,   1217,2,20191206,2125,  4.6658,  79.9985, 4276,   2270.4,   2.4002,   2.4003,2,  34.7616,2,  34.7625,2,    132.9,2,    133.0,2,   127.53,2,    35.51,2,     0.00,2,     2.52,2,     0.03,2,    0.017,2,    0.006,2,    0.001,2,    0.015,2,   2321.1, 3,   2407.4,2,     35.6,2,  -999.00,9,     -999,9,   -999.0,9,    0.000,2,    0.000,2,   1.6390,1,   0.4170,2,   0.2210,2,   0.0390,2,    0.000,2,   99.895,2,   2.4003,2
  49NZ20191205,  I08N,     9,  1,     16,   1216,2,20191206,2125,  4.6658,  79.9985, 4276,   2469.7,   2.1884,   2.1886,2,  34.7523,2,  34.7522,2,    132.6,2,    133.0,2,   134.50,2,    35.74,2,     0.00,2,     2.54,2,     0.03,2,    0.019,2,    0.006,2,    0.003,2,    0.011,2,   2329.2, 6,   2414.5,2,     35.4,2,  -999.00,9,     -999,9,   -999.0,9,    0.000,2,    0.000,2,   1.6790,1,-999.0000,9,-999.0000,9,-999.0000,9,    0.000,2,   99.878,2,   2.1886,2
  49NZ20191205,  I08N,     9,  1,     14,   1214,2,20191206,2125,  4.6658,  79.9985, 4276,   2871.6,   1.8251,   1.8250,2,  34.7364,2,  34.7356,2,    146.2,2,    146.3,2,   137.50,2,    35.35,2,     0.01,2,     2.49,2,     0.04,2,    0.018,2,    0.006,2,    0.000,2,    0.013,2,   2328.5, 2,   2417.6,2,     32.8,3,  -999.00,9,     -999,9,   -999.0,9,    0.000,2,    0.000,2,   1.6460,1,-999.0000,9,-999.0000,9,-999.0000,9,    0.000,2,   99.878,4,   1.8250,2
  49NZ20191205,  I08N,     9,  1,     13,   1213,2,20191206,2125,  4.6658,  79.9985, 4276,   3080.6,   1.6792,   1.6794,2,  34.7305,2,  34.7302,2,    148.8,2,    149.0,2,   140.92,2,    35.25,2,     0.01,2,     2.47,2,     0.03,2,    0.016,2,    0.007,2,    0.002,2,    0.014,2,   2335.2, 3,   2424.1,2,     37.0,2,  -999.00,9,     -999,9,   -999.0,9,    0.000,2,    0.000,2,   1.6560,1,   0.4050,2,   0.2000,2,   0.0310,2,    0.000,2,   99.897,4,   1.6794,2
  49NZ20191205,  I08N,     9,  1,     12,   1212,2,20191206,2125,  4.6658,  79.9985, 4276,   3330.6,   1.5693,   1.5693,2,  34.7260,2,  34.7260,2,    152.8,2,    153.0,2,   142.52,2,    35.29,2,     0.01,2,     2.45,2,     0.05,2,    0.018,2,    0.008,2,    0.000,2,    0.001,2,   2331.4, 2,   2427.0,6,     39.4,2,  -999.00,9,     -999,9,   -999.0,9,    0.000,2,    0.000,2,   1.6650,1,-999.0000,9,-999.0000,9,-999.0000,9,   -0.001,2,   99.922,2,   1.5693,2
  49NZ20191205,  I08N,     9,  1,     11,   1211,2,20191206,2125,  4.6658,  79.9985, 4276,   3580.3,   1.4922,   1.4924,2,  34.7226,2,  34.7229,2,    156.4,2,    156.7,2,   143.56,2,    35.04,2,     0.00,2,     2.44,2,     0.03,2,    0.021,2,    0.009,2,    0.002,2,    0.008,2,   2331.5, 2,   2431.3,2,     38.2,2,  -999.00,9,     -999,9,   -999.0,9,    0.000,2,    0.000,2,   1.6400,1,   0.4220,2,   0.2190,2,   0.0390,2,    0.000,2,   99.916,2,   1.4924,2
  49NZ20191205,  I08N,     9,  1,     10,   1210,2,20191206,2125,  4.6658,  79.9985, 4276,   3828.8,   1.4305,   1.4308,2,  34.7199,2,  34.7203,2,    163.4,2,    163.7,2,   141.57,2,    34.72,2,     0.00,2,     2.41,2,     0.05,2,    0.021,2,    0.008,2,    0.001,2,    0.037,2,   2330.2, 2,   2426.0,2,     37.8,2,  -999.00,9,     -999,9,   -999.0,9,    0.000,2,    0.000,2,   1.6090,1,-999.0000,9,-999.0000,9,-999.0000,9,   -0.001,2,   99.916,2,   1.4308,2
  49NZ20191205,  I08N,     9,  1,      9,   1209,2,20191206,2125,  4.6658,  79.9985, 4276,   4082.3,   1.4154,   1.4155,2,  34.7186,2,  34.7187,2,    167.8,2,    168.3,2,   139.58,2,    34.55,2,     0.00,2,     2.38,2,     0.04,2,    0.020,2,    0.008,2,    0.002,2,    0.009,2,   2320.6, 2,   2422.9,2,     40.3,2,  -999.00,9,     -999,9,   -999.0,9,    0.000,2,    0.000,2,   1.5770,1,   0.3990,2,   0.1990,2,   0.0340,2,    0.000,2,   99.943,2,   1.4155,2
  49NZ20191205,  I08N,     9,  1,      8,   1208,2,20191206,2125,  4.6658,  79.9985, 4276,   2670.5,   1.9852,   1.9848,2,  34.7432,2,  34.7431,2,    138.5,2,    139.4,2,   136.90,2,    35.70,2,     0.00,2,     2.51,2,     0.03,2,    0.021,2,    0.009,2,    0.002,2,    0.034,2,   2329.6, 2,   2417.0,2,   -999.0,9,  -999.00,9,     -999,9,   -999.0,9,    0.000,2,    0.000,2,   1.6630,1,   0.4370,2,   0.2360,2,   0.0500,2,    0.001,2,   99.895,2,   1.9848,2
  49NZ20191205,  I08N,     9,  1,      4,   1204,2,20191206,2125,  4.6658,  79.9985, 4276,    150.2,  14.0048,  14.0087,2,  35.0086,2,-999.0000,9,     13.0,2,   -999.0,9,  -999.00,9,  -999.00,9,  -999.00,9,  -999.00,9,     -999,9, -999.000,9, -999.000,9, -999.000,9,     -999,9,   -999.0, 9,   -999.0,9,   -999.0,9,  -999.00,9,     -999,9,   -999.0,9,    0.000,2,    0.000,2,   1.6840,1,-999.0000,9,-999.0000,9,-999.0000,9,   -0.004,2,   99.552,2,  14.0087,2
  49NZ20191205,  I08N,     9,  1,      2,  12046,2,20191206,2125,  4.6658,  79.9985, 4276,     43.0,  27.8456,  27.8636,2,  34.6332,2,  34.6360,2,    163.5,2,    162.1,2,     2.22,2,     1.42,2,     0.12,2,     0.34,2,     0.16,2, -999.000,9, -999.000,9, -999.000,9,     -999,9,   2002.3, 2,   2274.9,2,     67.7,2,     0.71,2,     -999,9,   -999.0,9,    0.000,2,    0.000,2,   1.5180,1,   0.5320,2,   0.2810,2,   0.0400,2,    0.619,2,   97.473,2,  27.8636,2
  49NZ20191205,  I08N,     9,  1,      1,   1201,2,20191206,2125,  4.6658,  79.9985, 4276,   4324.2,   1.4135,   1.4135,2,  34.7179,2,  34.7184,2,    170.2,2,    170.5,2,   138.96,2,    34.50,2,     0.00,2,     2.37,2,     0.04,2,    0.024,2,    0.009,2,    0.006,2,    0.021,2,   2320.1, 2,   2423.8,2,     38.1,2,  -999.00,9,     -999,9,   -999.0,9,    0.000,2,    0.000,2,   1.5760,1,   0.3810,2,   0.1930,2,   0.0330,2,    0.000,2,   99.810,2,   1.4135,2