BOTTLE,20210412PRINUNIVRMK
EXPOCODE,SECT_ID,STNNBR,CASTNO,SAMPNO,BTLNBR,BTLNBR_FLAG_W,DATE,TIME,LATITUDE,LONGITUDE,DEPTH,CTDPRS,CTDTMP,SBE35,SBE35_FLAG_W,CTDSAL,CTDSAL_FLAG_W,SALNTY,SALNTY_FLAG_W,CTDOXY,CTDOXY_FLAG_W,OXYGEN,OXYGEN_FLAG_W,SILCAT,SILCAT_FLAG_W,NITRAT,NITRAT_FLAG_W,NITRIT,NITRIT_FLAG_W,PHSPHT,PHSPHT_FLAG_W,NH4,NH4_FLAG_W,CFC-11,CFC-11_FLAG_W,CFC-12,CFC-12_FLAG_W,CFC113,CFC113_FLAG_W,SF6,SF6_FLAG_W,TCARBN,TCARBN_FLAG_W,ALKALI,ALKALI_FLAG_W,DOC,DOC_FLAG_W,CHLWELSH,CHLWELSH_FLAG_W,UREA,UREA_FLAG_W,IODATE,IODATE_FLAG_W,PAR,PAR_FLAG_W,PAR,PAR_FLAG_W,CDOM,CDOM_FLAG_W,CDOM300,CDOM300_FLAG_W,CDOM325,CDOM325_FLAG_W,CDOM443,CDOM443_FLAG_W,CTDFLUOR,CTDFLUOR_FLAG_W,CTDXMISS,CTDXMISS_FLAG_W,SBE35,SBE35_FLAG_W
,,,,,,,,,,,METERS,DBAR,ITS-90,,,PSS-78,,PSS-78,,UMOL/KG,,UMOL/KG,,UMOL/KG,,UMOL/KG,,UMOL/KG,,UMOL/KG,,UMOL/KG,,PMOL/KG,,PMOL/KG,,PMOL/KG,,FMOL/KG,,UMOL/KG,,UMOL/KG,,UMOL/KG,,UG/KG,,nMOL/L,,nMOL/L,,VOLTS,,VOLTS,,MG/M^3,,1/M,,1/M,,1/M,,MG/M^3,,%TRANS,,,
  49NZ20191205,  I08N,    52,  1,     36,   1236,2,20191217,1421,-12.0002,  80.0002, 5159,      9.8,  28.3624,  28.3614,2,  34.7783,2,  34.7785,2,    198.9,2,    198.3,2,     1.86,2,     0.02,2,     0.00,2,     0.09,2,     0.04,2,    1.437,2,    0.920,2,    0.131,2,    1.522,2,   1959.7, 2,   2280.4,2,     70.3,2,     0.04,2,     14.6,2,    331.5,2,    0.014,2,    0.014,2,   1.0950,1,   0.1520,2,   0.0650,2,   0.0030,2,    0.036,2,   98.813,2,  28.3614,2
  49NZ20191205,  I08N,    52,  1,     35,   1235,2,20191217,1421,-12.0002,  80.0002, 5159,     50.4,  28.1779,  28.1774,2,  34.8187,2,  34.8174,2,    199.2,2,    198.7,2,     1.86,2,     0.01,2,     0.00,2,     0.10,2,     0.04,2,    1.430,2,    0.922,2,    0.124,2,    1.517,2,   1958.9, 2,   2282.6,2,     69.9,2,     0.06,2,     15.5,2,    333.9,2,    0.000,2,    0.000,2,   1.0930,1,   0.1520,2,   0.0660,2,   0.0030,2,    0.061,2,   98.703,2,  28.1774,2
  49NZ20191205,  I08N,    52,  1,     34,   1234,2,20191217,1421,-12.0002,  80.0002, 5159,    100.7,  27.8250,  27.8240,2,  34.7827,2,  34.7867,2,    199.5,2,    199.3,2,     1.89,2,     0.00,2,     0.00,2,     0.10,2,     0.03,2,    1.455,2,    0.934,2,    0.126,2,    1.481,2,   1958.1, 2,   2280.0,2,     67.5,2,     0.15,2,     13.6,2,    324.5,2,    0.000,2,    0.000,2,   1.1170,1,   0.2030,2,   0.1050,2,   0.0090,2,    0.191,2,   98.815,2,  27.8240,2
  49NZ20191205,  I08N,    52,  1,     33,   1233,2,20191217,1421,-12.0002,  80.0002, 5159,    150.3,  21.1941,  21.1930,2,  34.7393,2,  34.7388,2,    111.2,2,    110.8,2,    13.06,2,    13.69,2,     0.04,2,     0.97,2,     0.04,2,    1.622,2,    1.008,2,    0.052,2,    1.204,2,   2092.9, 2,   2281.7,2,     54.1,2,     0.17,2,     15.7,2,    422.6,2,    0.000,2,    0.000,2,   1.4060,1,   0.3730,2,   0.2430,2,   0.0420,2,    0.223,2,   99.239,2,  21.1930,2
  49NZ20191205,  I08N,    52,  1,     32,   1232,2,20191217,1421,-12.0002,  80.0002, 5159,    201.9,  17.4547,  17.4372,2,  35.0950,2,  35.1061,2,    131.2,2,    130.9,2,    16.70,2,    13.89,2,     0.01,2,     1.00,2,     0.06,2,    1.771,2,    1.073,2,    0.011,2,    1.225,2,   2128.0, 2,   2310.8,2,     47.0,2,     0.01,2,      9.9,2,    461.0,2,    0.000,2,    0.000,2,   1.3790,1,   0.2400,2,   0.1410,2,   0.0160,2,    0.001,2,   99.639,2,  17.4372,2
  49NZ20191205,  I08N,    52,  1,     31,   1231,2,20191217,1421,-12.0002,  80.0002, 5159,    250.0,  15.4712,  15.4729,2,  35.2115,2,  35.1965,2,    142.8,2,    141.3,2,    17.17,2,    14.33,2,     0.01,2,     1.04,2,     0.04,2,    1.771,2,    1.032,2,    0.018,2,    0.871,2,   2145.6, 2,   2320.3,2,     47.7,2,     0.01,2,     11.1,2,    420.0,2,    0.000,2,    0.000,2,   1.3710,1,-999.0000,9,-999.0000,9,-999.0000,9,   -0.005,2,   99.690,2,  15.4729,2
  49NZ20191205,  I08N,    52,  1,     30,   1230,2,20191217,1421,-12.0002,  80.0002, 5159,    279.1,  13.4772,  13.4781,2,  34.9841,2,  34.9746,2,    118.6,2,    117.1,2,    24.54,2,    19.89,2,     0.01,2,     1.41,2,     0.02,2,    1.746,2,    1.030,2,    0.021,2,    0.871,2,   2172.6, 2,   2313.6,2,     45.2,2,  -999.00,9,      3.6,2,    421.5,2,    0.000,2,    0.000,2,   1.4140,1,   0.2660,2,   0.1560,2,   0.0240,2,   -0.004,2,   99.715,2,  13.4781,2
  49NZ20191205,  I08N,    52,  1,     29,   1229,2,20191217,1421,-12.0002,  80.0002, 5159,    370.6,  10.8773,  10.8775,2,  34.8054,2,  34.8045,2,     98.5,2,     98.4,2,    31.84,2,    26.58,2,     0.01,2,     1.83,2,     0.02,2,    1.605,2,    0.888,2,    0.024,2,    0.561,2,   2207.5, 2,   2310.3,2,     47.3,2,  -999.00,9,     11.2,2,    433.1,2,    0.000,2,    0.000,2,   1.4340,1,   0.2930,2,   0.1830,2,   0.0310,2,    0.000,2,   99.677,2,  10.8775,2
  49NZ20191205,  I08N,    52,  1,     28,   1228,2,20191217,1421,-12.0002,  80.0002, 5159,    470.0,   9.3793,   9.3794,2,  34.7355,2,  34.7317,2,    125.6,2,    124.7,2,    29.70,2,    27.02,2,     0.01,2,     1.85,2,     0.03,2,    1.801,2,    0.966,2,    0.042,2,    0.532,2,   2202.4, 2,   2306.6,2,     44.1,2,  -999.00,9,     11.5,2,    440.0,2,    0.000,2,    0.000,2,   1.3630,1,   0.2420,2,   0.1390,2,   0.0200,2,    0.001,2,   99.755,2,   9.3794,2
  49NZ20191205,  I08N,    52,  1,     27,   1227,2,20191217,1421,-12.0002,  80.0002, 5159,    569.7,   8.3262,   8.3269,2,  34.7078,2,  34.7055,2,     87.6,2,     90.7,2,    46.23,2,    32.26,2,     0.01,2,     2.24,2,     0.02,2,    0.832,2,    0.430,2,    0.018,2,    0.173,2,   2237.7, 2,   2316.8,2,     43.0,2,  -999.00,9,      9.1,2,    449.8,2,    0.000,2,    0.000,2,   1.4690,1,   0.2820,2,   0.1640,2,   0.0260,2,    0.000,2,   99.760,2,   8.3269,2
  49NZ20191205,  I08N,    52,  1,     26,   1226,2,20191217,1421,-12.0002,  80.0002, 5159,    669.6,   7.5107,   7.5094,2,  34.7071,2,  34.7076,2,     83.7,2,     83.9,2,    57.57,2,    33.99,2,     0.01,2,     2.42,2,     0.03,2,    0.456,2,    0.242,2,    0.008,2,    0.082,2,   2254.9, 6,   2330.8,2,     47.7,2,  -999.00,9,      4.4,2,    452.5,2,    0.000,2,    0.000,2,   1.4780,1,-999.0000,9,-999.0000,9,-999.0000,9,    0.000,2,   99.795,2,   7.5094,2
  49NZ20191205,  I08N,    52,  1,     25,   1225,2,20191217,1421,-12.0002,  80.0002, 5159,    770.6,   6.7618,   6.7617,2,  34.6867,2,  34.6849,2,     75.5,2,     74.9,2,    73.73,2,    35.77,2,     0.01,2,     2.55,2,     0.04,2,    0.215,2,    0.116,2,    0.004,2,     0.08,2,   2277.1, 2,   2346.1,2,     42.7,2,  -999.00,9,     14.3,2,    427.6,2,    0.000,2,    0.000,2,   1.5100,1,   0.3070,2,   0.1770,2,   0.0270,2,    0.001,2,   99.808,2,   6.7617,2
  49NZ20191205,  I08N,    52,  1,     24,   1224,2,20191217,1421,-12.0002,  80.0002, 5159,    871.5,   6.1876,   6.1873,2,  34.6766,2,  34.6761,2,     77.2,2,     77.2,2,    82.84,2,    36.23,2,     0.01,2,     2.60,2,     0.03,2,    0.144,2,    0.078,2,    0.007,2,    0.007,2,   2287.1, 2,   2351.6,2,     42.7,2,  -999.00,9,      3.9,2,    440.3,2,    0.000,2,    0.000,2,   1.5360,1,-999.0000,9,-999.0000,9,-999.0000,9,    0.000,2,   99.817,2,   6.1873,2
  49NZ20191205,  I08N,    52,  1,     23,   1223,2,20191217,1421,-12.0002,  80.0002, 5159,    971.0,   5.6864,   5.6866,2,  34.6691,2,  34.6693,2,     81.5,2,     81.1,2,    89.82,2,    36.53,2,     0.00,2,     2.62,2,     0.02,2,    0.111,2,    0.060,2,    0.002,2,    0.024,2,   2293.2, 2,   2360.3,2,     41.2,2,  -999.00,9,     14.1,2,    449.0,2,    0.000,2,    0.000,2,   1.5340,1,   0.3340,2,   0.1810,2,   0.0300,2,    0.000,2,   99.836,2,   5.6866,2
  49NZ20191205,  I08N,    52,  1,     22,   1222,2,20191217,1421,-12.0002,  80.0002, 5159,   1127.5,   4.9817,   4.9816,2,  34.6678,2,  34.6683,2,     87.9,2,     87.6,2,    98.53,2,    36.88,2,     0.01,2,     2.66,2,     0.02,2,    0.065,2,    0.033,2,    0.001,2,        0,2,   2301.4, 2,   2371.2,6,     43.7,2,  -999.00,9,      4.9,2,    458.3,2,    0.000,2,    0.000,2,   1.5340,1,-999.0000,9,-999.0000,9,-999.0000,9,    0.000,2,   99.846,2,   4.9816,2
  49NZ20191205,  I08N,    52,  1,     21,   1221,2,20191217,1421,-12.0002,  80.0002, 5159,   1330.2,   4.3755,   4.3755,2,  34.6900,2,  34.6902,2,     94.6,2,     94.6,2,   105.41,2,    36.94,2,     0.01,2,     2.66,2,     0.01,2,    0.032,2,    0.014,2,    0.002,2,        0,2,   2306.5, 2,   2377.3,2,     40.4,2,  -999.00,9,     13.4,2,    457.9,2,    0.000,2,    0.000,2,   1.5450,1,   0.3450,2,   0.1940,2,   0.0350,2,    0.000,2,   99.852,2,   4.3755,2
  49NZ20191205,  I08N,    52,  1,     20,   1220,2,20191217,1421,-12.0002,  80.0002, 5159,   1529.3,   3.8160,   3.8166,2,  34.7229,2,  34.7228,2,    106.8,2,    106.7,2,   107.54,2,    36.53,2,     0.00,2,     2.63,2,     0.01,2,    0.020,2,    0.008,2,    0.003,2,     0.02,2,   2307.4, 2,   2379.0,2,     40.8,2,  -999.00,9,     17.4,2,    473.0,2,    0.000,2,    0.000,2,   1.5370,1,-999.0000,9,-999.0000,9,-999.0000,9,    0.000,2,   99.848,2,   3.8166,2
  49NZ20191205,  I08N,    52,  1,     19,   1219,2,20191217,1421,-12.0002,  80.0002, 5159,   1730.0,   3.3164,   3.3201,2,  34.7380,2,  34.7382,2,    121.1,2,    121.3,2,   109.85,2,    35.98,2,     0.00,2,     2.57,2,     0.02,2,    0.015,2,    0.004,2,    0.003,2,    0.004,2,   2304.5, 2,   2383.9,2,     40.8,2,  -999.00,9,     -999,9,   -999.0,9,    0.000,2,    0.000,2,   1.5210,1,   0.3230,2,   0.1750,2,   0.0270,2,    0.000,2,   99.855,2,   3.3201,2
  49NZ20191205,  I08N,    52,  1,     18,   1218,2,20191217,1421,-12.0002,  80.0002, 5159,   1928.2,   2.8556,   2.8558,2,  34.7415,2,  34.7422,2,    134.5,2,    134.7,2,   113.51,2,    35.36,2,     0.00,2,     2.51,2,     0.02,2,    0.014,2,    0.005,2,    0.002,2,    0.006,2,   2302.7, 2,   2386.1,2,     42.1,2,  -999.00,9,     -999,9,   -999.0,9,    0.000,2,    0.000,2,   1.5040,1,-999.0000,9,-999.0000,9,-999.0000,9,    0.000,2,   99.869,2,   2.8558,2
  49NZ20191205,  I08N,    52,  1,     17,   1217,2,20191217,1421,-12.0002,  80.0002, 5159,   2129.9,   2.4704,   2.4715,2,  34.7382,2,  34.7378,2,    146.9,2,    147.0,2,   116.15,2,    34.81,2,     0.00,2,     2.45,2,     0.02,2,    0.013,2,    0.005,2,    0.008,2,    0.008,2,   2297.8, 2,   2385.8,2,     38.0,2,  -999.00,9,     -999,9,   -999.0,9,    0.000,2,    0.000,2,   1.5020,1,   0.3250,2,   0.1800,2,   0.0290,2,   -0.001,2,   99.871,2,   2.4715,2
  49NZ20191205,  I08N,    52,  1,     16,   1216,2,20191217,1421,-12.0002,  80.0002, 5159,   2332.3,   2.2182,   2.2177,2,  34.7358,2,  34.7360,2,    155.0,2,    155.4,2,   118.15,2,    34.43,2,     0.01,2,     2.41,2,     0.01,2,    0.018,2,    0.007,2,    0.003,2,    0.011,2,   2297.2, 6,   2390.9,2,     42.7,2,  -999.00,9,     -999,9,   -999.0,9,    0.000,2,    0.000,2,   1.4680,1,-999.0000,9,-999.0000,9,-999.0000,9,   -0.001,2,   99.876,2,   2.2177,2
  49NZ20191205,  I08N,    52,  1,     15,   1215,2,20191217,1421,-12.0002,  80.0002, 5159,   2531.2,   2.0168,   2.0165,2,  34.7332,2,  34.7326,2,    161.6,2,    162.0,2,   119.49,2,    34.04,2,     0.00,2,     2.38,2,     0.01,2,    0.015,2,    0.005,2,    0.001,2,    0.018,2,   2294.9, 2,   2391.6,2,     38.6,2,  -999.00,9,     -999,9,   -999.0,9,    0.000,2,    0.000,2,   1.4520,1,   0.3080,2,   0.1590,2,   0.0250,2,    0.000,2,   99.888,2,   2.0165,2
  49NZ20191205,  I08N,    52,  1,     14,   1214,2,20191217,1421,-12.0002,  80.0002, 5159,   2729.9,   1.8721,   1.8715,2,  34.7307,2,  34.7298,2,    166.1,2,    166.6,2,   121.24,2,    33.83,2,     0.00,2,     2.36,2,     0.04,2,    0.014,2,    0.004,2,    0.004,2,    0.003,2,   2295.3, 2,   2390.7,2,     40.0,2,  -999.00,9,     -999,9,   -999.0,9,    0.000,2,    0.000,2,   1.4540,1,-999.0000,9,-999.0000,9,-999.0000,9,   -0.001,2,   99.890,2,   1.8715,2
  49NZ20191205,  I08N,    52,  1,     13,   1213,2,20191217,1421,-12.0002,  80.0002, 5159,   2930.7,   1.7371,   1.7370,2,  34.7281,2,  34.7274,2,    169.3,2,    169.6,2,   124.47,2,    33.89,2,     0.01,2,     2.35,2,     0.02,2,    0.014,2,    0.006,2,    0.002,2,    0.007,2,   2295.8, 2,   2395.9,2,     36.1,2,  -999.00,9,     -999,9,   -999.0,9,    0.000,2,    0.000,2,   1.4360,1,   0.2970,2,   0.1580,2,   0.0240,2,    0.000,2,   99.880,2,   1.7370,2
  49NZ20191205,  I08N,    52,  1,     12,   1212,2,20191217,1421,-12.0002,  80.0002, 5159,   3170.7,   1.6121,   1.6129,2,  34.7255,2,  34.7252,2,    170.3,2,    170.4,2,   128.84,2,    34.06,2,     0.01,2,     2.36,2,     0.03,2,    0.019,2,    0.006,2,    0.003,2,    0.003,2,   2302.6, 2,   2402.4,6,     35.4,2,  -999.00,9,     -999,9,   -999.0,9,    0.000,2,    0.000,2,   1.4540,1,-999.0000,9,-999.0000,9,-999.0000,9,    0.000,2,   99.871,2,   1.6129,2
  49NZ20191205,  I08N,    52,  1,     11,   1211,2,20191217,1421,-12.0002,  80.0002, 5159,   3419.9,   1.5118,   1.5106,2,  34.7228,2,  34.7227,2,    172.3,2,    172.7,2,   131.59,2,    34.16,2,     0.01,2,     2.36,2,     0.03,2,    0.018,2,    0.007,2,    0.015,3,    0.009,2,   2301.9, 2,   2402.0,2,     40.0,2,  -999.00,9,     -999,9,   -999.0,9,    0.000,2,    0.000,2,   1.4580,1,   0.2960,2,   0.1540,2,   0.0220,2,    0.000,2,   99.871,2,   1.5106,2
  49NZ20191205,  I08N,    52,  1,     10,   1210,2,20191217,1421,-12.0002,  80.0002, 5159,   3670.3,   1.4098,   1.4095,2,  34.7203,2,  34.7209,2,    179.3,2,    179.5,2,   130.53,2,    33.69,2,     0.01,2,     2.32,2,     0.02,2,    0.017,2,    0.005,2,    0.003,2,    0.007,2,   2296.4, 2,   2402.5,2,     36.2,2,  -999.00,9,     -999,9,   -999.0,9,    0.000,2,    0.000,2,   1.4350,1,-999.0000,9,-999.0000,9,-999.0000,9,    0.000,2,   99.907,2,   1.4095,2
  49NZ20191205,  I08N,    52,  1,      9,   1209,2,20191217,1421,-12.0002,  80.0002, 5159,   3921.2,   1.3600,   1.3599,2,  34.7183,2,  34.7182,2,    181.2,2,    181.5,2,   132.17,2,    33.77,2,     0.00,2,     2.32,2,     0.03,2,    0.013,2,    0.004,2,    0.002,2,    0.003,2,   2301.2, 2,   2405.7,2,     40.2,2,  -999.00,9,     -999,9,   -999.0,9,    0.000,2,    0.000,2,   1.4290,1,   0.2990,2,   0.1570,2,   0.0250,2,    0.000,2,   99.895,2,   1.3599,2
  49NZ20191205,  I08N,    52,  1,      8,  12103,2,20191217,1421,-12.0002,  80.0002, 5159,   4168.7,   1.3556,   1.3557,2,  34.7176,2,  34.7176,2,    181.6,2,    181.9,2,   133.49,2,    33.76,2,     0.00,2,     2.33,2,     0.03,2,    0.014,2,    0.005,2,    0.010,3,    0.008,2,   2299.2, 6,   2404.5,2,     40.4,2,  -999.00,9,     -999,9,   -999.0,9,    0.000,2,    0.000,2,   1.4350,1,-999.0000,9,-999.0000,9,-999.0000,9,   -0.001,2,   99.897,2,   1.3557,2
  49NZ20191205,  I08N,    52,  1,      7,   1207,2,20191217,1421,-12.0002,  80.0002, 5159,   4419.9,   1.3746,   1.3746,2,  34.7172,2,  34.7170,2,    181.6,2,    181.8,2,   133.95,2,    33.80,2,     0.00,2,     2.32,2,     0.03,2,    0.016,2,    0.006,2,    0.002,2,    0.004,2,   2299.7, 2,   2403.6,2,     37.8,2,  -999.00,9,     -999,9,   -999.0,9,    0.000,2,    0.000,2,   1.4320,1,   0.3030,2,   0.1600,2,   0.0270,2,   -0.001,2,   99.897,2,   1.3746,2
  49NZ20191205,  I08N,    52,  1,      6,   1206,2,20191217,1421,-12.0002,  80.0002, 5159,   4668.6,   1.3976,   1.3976,2,  34.7171,2,  34.7167,2,    181.5,2,    181.8,2,   134.33,2,    33.78,2,     0.00,2,     2.32,2,     0.02,2,    0.013,2,    0.006,2,    0.003,2,    0.011,2,   2301.0, 2,   2408.3,6,     39.1,2,  -999.00,9,     -999,9,   -999.0,9,    0.000,2,    0.000,2,   1.4400,1,-999.0000,9,-999.0000,9,-999.0000,9,    0.000,2,   99.895,2,   1.3976,2
  49NZ20191205,  I08N,    52,  1,      5,   1205,2,20191217,1421,-12.0002,  80.0002, 5159,   4922.1,   1.4215,   1.4215,2,  34.7169,2,  34.7173,2,    181.5,2,    181.7,2,   134.39,2,    33.87,2,     0.00,2,     2.32,2,     0.03,2,    0.013,2,    0.006,2,    0.001,2,    0.004,2,   2300.0, 2,   2406.4,2,     38.1,2,  -999.00,9,     -999,9,   -999.0,9,    0.000,2,    0.000,2,   1.4450,1,   0.2970,2,   0.1610,2,   0.0230,2,   -0.001,2,   99.873,2,   1.4215,2
  49NZ20191205,  I08N,    52,  1,      2,  12046,2,20191217,1421,-12.0002,  80.0002, 5159,    126.5,  27.3012,  27.3090,2,  34.8330,2,  34.8346,2,    188.2,2,    187.1,2,     2.60,2,     0.43,2,     0.11,2,     0.19,2,     0.05,2, -999.000,9, -999.000,9, -999.000,9,     -999,9,   1977.1, 2,   2281.9,2,     67.3,2,     0.38,2,     39.2,2,    320.9,2,    0.000,2,    0.000,2,   1.2110,1,   0.2420,2,   0.1310,2,   0.0190,2,    0.450,2,   98.674,2,  27.3090,2
  49NZ20191205,  I08N,    52,  1,      1,   1201,2,20191217,1421,-12.0002,  80.0002, 5159,   5230.9,   1.4517,   1.4517,2,  34.7169,2,  34.7171,2,    181.7,2,    182.0,2,   133.88,2,    33.77,2,     0.01,2,     2.32,2,     0.02,2,    0.018,2,    0.007,2,    0.000,2,    0.002,2,   2298.9, 2,   2408.5,2,     39.5,2,  -999.00,9,     -999,9,   -999.0,9,    0.000,2,    0.000,2,   1.4360,1,   0.2900,2,   0.1560,2,   0.0230,2,    0.000,2,   99.867,2,   1.4517,2