BOTTLE,20210412PRINUNIVRMK
EXPOCODE,SECT_ID,STNNBR,CASTNO,SAMPNO,BTLNBR,BTLNBR_FLAG_W,DATE,TIME,LATITUDE,LONGITUDE,DEPTH,CTDPRS,CTDTMP,SBE35,SBE35_FLAG_W,CTDSAL,CTDSAL_FLAG_W,SALNTY,SALNTY_FLAG_W,CTDOXY,CTDOXY_FLAG_W,OXYGEN,OXYGEN_FLAG_W,SILCAT,SILCAT_FLAG_W,NITRAT,NITRAT_FLAG_W,NITRIT,NITRIT_FLAG_W,PHSPHT,PHSPHT_FLAG_W,NH4,NH4_FLAG_W,CFC-11,CFC-11_FLAG_W,CFC-12,CFC-12_FLAG_W,CFC113,CFC113_FLAG_W,SF6,SF6_FLAG_W,TCARBN,TCARBN_FLAG_W,ALKALI,ALKALI_FLAG_W,DOC,DOC_FLAG_W,CHLWELSH,CHLWELSH_FLAG_W,UREA,UREA_FLAG_W,IODATE,IODATE_FLAG_W,PAR,PAR_FLAG_W,PAR,PAR_FLAG_W,CDOM,CDOM_FLAG_W,CDOM300,CDOM300_FLAG_W,CDOM325,CDOM325_FLAG_W,CDOM443,CDOM443_FLAG_W,CTDFLUOR,CTDFLUOR_FLAG_W,CTDXMISS,CTDXMISS_FLAG_W,SBE35,SBE35_FLAG_W
,,,,,,,,,,,METERS,DBAR,ITS-90,,,PSS-78,,PSS-78,,UMOL/KG,,UMOL/KG,,UMOL/KG,,UMOL/KG,,UMOL/KG,,UMOL/KG,,UMOL/KG,,PMOL/KG,,PMOL/KG,,PMOL/KG,,FMOL/KG,,UMOL/KG,,UMOL/KG,,UMOL/KG,,UG/KG,,nMOL/L,,nMOL/L,,VOLTS,,VOLTS,,MG/M^3,,1/M,,1/M,,1/M,,MG/M^3,,%TRANS,,,
  49NZ20191205,  I08N,    42,  1,     36,   1236,2,20191214,2311, -7.0004,  79.9990, 4917,     10.5,  28.0401,  28.0391,2,  34.5495,2,  34.5489,2,    199.2,2,    199.3,2,     1.53,2,     0.01,2,     0.01,2,     0.09,2,     0.06,2,    1.404,2,    0.886,2,    0.124,2,    1.562,2,   1961.0, 2,   2268.5,2,   -999.0,9,     0.10,2,     33.6,2,    298.4,2,   70.862,2,   70.862,2,   1.1270,1,-999.0000,9,-999.0000,9,-999.0000,9,    0.072,2,   98.794,2,  28.0391,2
  49NZ20191205,  I08N,    42,  1,     35,   1235,2,20191214,2311, -7.0004,  79.9990, 4917,     49.8,  28.0332,  28.0316,2,  34.5963,2,  34.5963,2,    199.0,2,    199.4,2,     1.53,2,     0.00,2,     0.01,2,     0.09,2,     0.05,2,    1.424,2,    0.893,2,    0.128,2,    1.593,2,   1960.8, 2,   2272.6,2,   -999.0,9,     0.19,2,     35.1,2,    296.5,2,   10.634,2,   10.634,2,   1.1320,1,-999.0000,9,-999.0000,9,-999.0000,9,    0.174,2,   98.670,2,  28.0316,2
  49NZ20191205,  I08N,    42,  1,     34,   1234,2,20191214,2311, -7.0004,  79.9990, 4917,    100.2,  22.2022,  22.2423,2,  34.6187,2,  34.6065,2,    117.8,2,    119.9,2,    11.64,2,    11.84,2,     0.18,2,     0.87,2,     0.04,2,    1.542,2,    0.936,2,    0.045,2,    1.298,2,   2076.8, 2,   2272.9,2,   -999.0,9,     0.25,2,     39.2,2,    382.6,2,    0.520,2,    0.520,2,   1.3980,1,-999.0000,9,-999.0000,9,-999.0000,9,    0.231,2,   99.041,2,  22.2423,2
  49NZ20191205,  I08N,    42,  1,     33,   1233,2,20191214,2311, -7.0004,  79.9990, 4917,    151.2,  16.1166,  16.1024,2,  34.7374,2,  34.7353,2,     71.9,2,     72.5,2,    25.24,2,    23.47,2,     0.02,2,     1.62,2,     0.03,2,    1.523,2,    0.884,2,    0.010,2,    0.787,2,   2179.3, 2,   2293.9,2,   -999.0,9,     0.05,2,     30.3,2,    440.4,2,    0.000,2,    0.000,2,   1.5020,1,-999.0000,9,-999.0000,9,-999.0000,9,    0.053,2,   99.568,2,  16.1024,2
  49NZ20191205,  I08N,    42,  1,     32,   1232,2,20191214,2311, -7.0004,  79.9990, 4917,    200.5,  13.0056,  13.0442,2,  34.7944,2,  34.7938,2,     63.5,2,     63.8,2,    31.25,2,    27.52,2,     0.01,2,     1.90,2,     0.03,2,    1.389,2,    0.783,2,    0.005,2,    0.537,2,   2206.9, 2,   2305.7,2,   -999.0,9,     0.01,2,     35.4,2,    453.6,2,    0.000,2,    0.000,2,   1.5360,1,-999.0000,9,-999.0000,9,-999.0000,9,   -0.005,2,   99.625,2,  13.0442,2
  49NZ20191205,  I08N,    42,  1,     31,   1231,2,20191214,2311, -7.0004,  79.9990, 4917,    250.4,  12.0002,  11.9998,2,  34.9269,2,  34.9279,2,     55.9,2,     56.3,2,    27.97,2,    29.23,2,     0.01,2,     1.98,2,     0.02,2,    1.312,2,    0.727,2,    0.010,2,    0.376,2,   2230.3, 2,   2308.8,2,   -999.0,9,     0.01,2,     23.1,2,    442.9,2,    0.000,2,    0.000,2,   1.5250,1,-999.0000,9,-999.0000,9,-999.0000,9,    0.000,2,   99.601,2,  11.9998,2
  49NZ20191205,  I08N,    42,  1,     30,   1230,2,20191214,2311, -7.0004,  79.9990, 4917,    300.8,  11.3628,  11.3633,2,  34.9247,2,  34.9236,2,     58.9,2,     60.0,2,    27.86,2,    29.85,2,     0.01,2,     2.00,2,     0.02,2,    1.252,2,    0.681,2,    0.011,2,    0.347,2,   2225.6, 2,   2308.6,2,   -999.0,9,  -999.00,9,     26.9,2,    436.5,2,    0.000,2,    0.000,2,   1.5120,1,-999.0000,9,-999.0000,9,-999.0000,9,    0.003,2,   99.620,2,  11.3633,2
  49NZ20191205,  I08N,    42,  1,     29,   1229,2,20191214,2311, -7.0004,  79.9990, 4917,    399.8,  10.2963,  10.2967,2,  34.8832,2,  34.8811,2,     82.0,2,     82.2,2,    27.87,2,    29.75,2,     0.01,2,     1.98,2,     0.03,2,    1.285,2,    0.687,2,    0.016,2,    0.328,2,   2222.5, 2,   2308.8,2,   -999.0,9,  -999.00,9,     25.9,2,    436.3,2,    0.000,2,    0.000,2,   1.4430,1,-999.0000,9,-999.0000,9,-999.0000,9,    0.004,2,   99.677,2,  10.2967,2
  49NZ20191205,  I08N,    42,  1,     28,   1228,2,20191214,2311, -7.0004,  79.9990, 4917,    500.0,   9.1678,   9.1679,2,  34.8320,2,  34.8328,2,     84.0,2,     83.5,2,    37.59,2,    31.53,2,     0.01,2,     2.17,2,     0.04,2,    0.867,2,    0.474,2,    0.011,2,    0.197,2,   2236.1, 2,   2316.0,2,   -999.0,9,  -999.00,9,     55.6,2,    459.4,2,    0.000,2,    0.000,2,   1.4580,1,-999.0000,9,-999.0000,9,-999.0000,9,    0.003,2,   99.745,2,   9.1679,2
  49NZ20191205,  I08N,    42,  1,     27,   1227,2,20191214,2311, -7.0004,  79.9990, 4917,    599.3,   8.4474,   8.4472,2,  34.8276,2,  34.8278,2,     69.3,2,     69.0,2,    49.22,2,    34.04,2,     0.01,2,     2.40,2,     0.04,2,    0.417,2,    0.234,2,    0.008,2,    0.031,2,   2255.7, 2,   2326.8,2,   -999.0,9,  -999.00,9,     28.6,2,    460.9,2,    0.000,2,    0.000,2,   1.4990,1,-999.0000,9,-999.0000,9,-999.0000,9,    0.001,2,   99.776,2,   8.4472,2
  49NZ20191205,  I08N,    42,  1,     26,   1226,2,20191214,2311, -7.0004,  79.9990, 4917,    699.9,   7.6978,   7.7086,2,  34.8147,2,  34.8147,2,     67.1,2,     67.1,2,    60.82,2,    35.13,2,     0.00,2,     2.50,2,     0.02,2,    0.262,2,    0.149,2,    0.002,2,     0.06,2,   2271.4, 6,   2337.9,2,   -999.0,9,  -999.00,9,     33.9,2,    469.7,2,    0.000,2,    0.000,2,   1.5220,1,-999.0000,9,-999.0000,9,-999.0000,9,    0.002,2,   99.804,2,   7.7086,2
  49NZ20191205,  I08N,    42,  1,     25,   1225,2,20191214,2311, -7.0004,  79.9990, 4917,    800.5,   7.0558,   7.0661,2,  34.8095,2,  34.8109,2,     64.7,2,     65.2,2,    70.55,2,    36.11,2,     0.00,2,     2.60,2,     0.01,2,    0.141,2,    0.081,2,    0.002,2,     0.01,2,   2289.0, 2,   2347.8,2,   -999.0,9,  -999.00,9,     26.8,2,    454.3,2,    0.000,2,    0.000,2,   1.5600,1,-999.0000,9,-999.0000,9,-999.0000,9,    0.001,2,   99.823,2,   7.0661,2
  49NZ20191205,  I08N,    42,  1,     24,   1224,2,20191214,2311, -7.0004,  79.9990, 4917,    900.3,   6.3572,   6.3582,2,  34.7792,2,  34.7777,2,     68.5,2,     69.1,2,    81.03,2,    36.66,2,     0.01,2,     2.64,2,     0.01,2,    0.084,2,    0.048,2,    0.004,2,    0.022,2,   2286.1, 3,   2357.1,2,   -999.0,9,  -999.00,9,       19,2,    452.4,2,    0.000,2,    0.000,2,   1.5560,1,-999.0000,9,-999.0000,9,-999.0000,9,    0.001,2,   99.833,2,   6.3582,2
  49NZ20191205,  I08N,    42,  1,     23,   1223,2,20191214,2311, -7.0004,  79.9990, 4917,    999.9,   5.7372,   5.7441,2,  34.7547,2,  34.7544,2,     74.2,2,     74.8,2,    88.90,2,    36.92,2,     0.01,2,     2.67,2,     0.01,2,    0.058,2,    0.031,2,    0.002,2,    0.004,2,   2286.1, 3,   2366.7,2,   -999.0,9,  -999.00,9,     21.6,2,    458.9,2,    0.000,2,    0.000,2,   1.5790,1,-999.0000,9,-999.0000,9,-999.0000,9,    0.000,2,   99.854,2,   5.7441,2
  49NZ20191205,  I08N,    42,  1,     22,   1222,2,20191214,2311, -7.0004,  79.9990, 4917,   1199.6,   5.0339,   5.0334,2,  34.7715,2,  34.7720,2,     82.1,2,     82.5,2,    96.46,2,    37.04,2,     0.00,2,     2.68,2,        0,2,    0.032,2,    0.014,2,    0.000,2,        0,2,   2318.3, 2,   2373.4,6,   -999.0,9,  -999.00,9,     22.8,2,    474.3,2,    0.000,2,    0.000,2,   1.5710,1,-999.0000,9,-999.0000,9,-999.0000,9,    0.001,2,   99.863,2,   5.0334,2
  49NZ20191205,  I08N,    42,  1,     21,   1221,2,20191214,2311, -7.0004,  79.9990, 4917,   1400.6,   4.2418,   4.2414,2,  34.7592,2,  34.7612,2,     95.5,2,     95.8,2,   104.18,2,    36.98,2,     0.00,2,     2.66,2,        0,2,    0.016,2,    0.007,2,    0.001,2,    0.006,2,   2316.5, 2,   2381.3,2,   -999.0,9,  -999.00,9,     26.6,2,    470.5,2,    0.000,2,    0.000,2,   1.5660,1,-999.0000,9,-999.0000,9,-999.0000,9,    0.000,2,   99.882,2,   4.2414,2
  49NZ20191205,  I08N,    42,  1,     20,   1220,2,20191214,2311, -7.0004,  79.9990, 4917,   1597.9,   3.5255,   3.5269,2,  34.7623,2,  34.7623,2,    111.9,2,    112.4,2,   110.04,2,    36.43,2,     0.00,2,     2.60,2,     0.03,2,    0.015,2,    0.005,2,    0.002,2,    0.003,2,   2311.6, 2,   2387.0,2,   -999.0,9,  -999.00,9,     21.8,2,    487.3,2,    0.000,2,    0.000,2,   1.5590,1,-999.0000,9,-999.0000,9,-999.0000,9,    0.001,2,   99.884,2,   3.5269,2
  49NZ20191205,  I08N,    42,  1,     19,   1219,2,20191214,2311, -7.0004,  79.9990, 4917,   1799.6,   2.9551,   2.9544,2,  34.7604,2,  34.7609,2,    126.7,2,    126.9,2,   115.05,2,    35.75,2,     0.01,2,     2.54,2,     0.04,2,    0.009,2,    0.003,2,    0.001,2,    0.001,2,   2318.8, 3,   2390.9,2,   -999.0,9,  -999.00,9,     -999,9,   -999.0,9,    0.000,2,    0.000,2,   1.5370,1,-999.0000,9,-999.0000,9,-999.0000,9,    0.001,2,   99.884,2,   2.9544,2
  49NZ20191205,  I08N,    42,  1,     18,   1218,2,20191214,2311, -7.0004,  79.9990, 4917,   1999.8,   2.5592,   2.5587,2,  34.7522,2,  34.7519,2,    137.4,2,    137.5,2,   119.09,2,    35.34,2,     0.00,2,     2.50,2,     0.05,2,    0.013,2,    0.003,2,    0.002,2,    0.008,2,   2306.2, 2,   2396.9,2,   -999.0,9,  -999.00,9,     -999,9,   -999.0,9,    0.000,2,    0.000,2,   1.5350,1,-999.0000,9,-999.0000,9,-999.0000,9,    0.000,2,   99.886,2,   2.5587,2
  49NZ20191205,  I08N,    42,  1,     17,   1217,2,20191214,2311, -7.0004,  79.9990, 4917,   2200.3,   2.2829,   2.2828,2,  34.7449,2,  34.7443,2,    145.4,2,    145.6,2,   122.01,2,    35.19,2,     0.00,2,     2.46,2,     0.06,2,    0.011,2,    0.003,2,    0.002,2,        0,2,   2306.5, 2,   2396.8,2,   -999.0,9,  -999.00,9,     -999,9,   -999.0,9,    0.000,2,    0.000,2,   1.5130,1,-999.0000,9,-999.0000,9,-999.0000,9,    0.000,2,   99.888,2,   2.2828,2
  49NZ20191205,  I08N,    42,  1,     16,   1216,2,20191214,2311, -7.0004,  79.9990, 4917,   2399.8,   2.0550,   2.0555,2,  34.7389,2,  34.7380,2,    154.8,2,    155.1,2,   122.99,2,    34.65,2,     0.00,2,     2.42,2,     0.05,2,    0.011,2,    0.004,2,    0.000,2,    0.013,2,   2303.6, 6,   2396.6,2,   -999.0,9,  -999.00,9,     -999,9,   -999.0,9,    0.000,2,    0.000,2,   1.4970,1,-999.0000,9,-999.0000,9,-999.0000,9,   -0.001,2,   99.903,2,   2.0555,2
  49NZ20191205,  I08N,    42,  1,     15,   1215,2,20191214,2311, -7.0004,  79.9990, 4917,   2599.8,   1.8694,   1.8696,2,  34.7336,2,  34.7319,2,    161.3,2,    161.6,2,   123.76,2,    34.12,2,     0.01,2,     2.38,2,     0.02,2,    0.012,2,    0.003,2,    0.002,2,    0.002,2,   2299.2, 2,   2400.4,2,   -999.0,9,  -999.00,9,     -999,9,   -999.0,9,    0.000,2,    0.000,2,   1.4810,1,-999.0000,9,-999.0000,9,-999.0000,9,   -0.001,2,   99.905,2,   1.8696,2
  49NZ20191205,  I08N,    42,  1,     14,   1214,2,20191214,2311, -7.0004,  79.9990, 4917,   2800.3,   1.7592,   1.7593,2,  34.7308,2,  34.7292,2,    163.9,2,    164.3,2,   126.54,2,    34.12,2,     0.01,2,     2.38,2,     0.04,2,    0.011,2,    0.002,2,    0.004,2,    0.031,2,   2302.9, 2,   2402.6,2,   -999.0,9,  -999.00,9,     -999,9,   -999.0,9,    0.000,2,    0.000,2,   1.4820,1,-999.0000,9,-999.0000,9,-999.0000,9,   -0.001,2,   99.901,2,   1.7593,2
  49NZ20191205,  I08N,    42,  1,     13,   1213,2,20191214,2311, -7.0004,  79.9990, 4917,   3000.5,   1.6551,   1.6551,2,  34.7277,2,  34.7267,2,    165.9,2,    165.9,2,   129.26,2,    34.31,2,     0.00,2,     2.38,2,     0.04,2,    0.012,2,    0.003,2,    0.001,2,    0.009,2,   2305.3, 2,   2404.1,2,   -999.0,9,  -999.00,9,     -999,9,   -999.0,9,    0.000,2,    0.000,2,   1.4870,1,-999.0000,9,-999.0000,9,-999.0000,9,   -0.001,2,   99.905,2,   1.6551,2
  49NZ20191205,  I08N,    42,  1,     12,   1212,2,20191214,2311, -7.0004,  79.9990, 4917,   3250.7,   1.5437,   1.5437,2,  34.7247,2,  34.7232,2,    166.9,2,    167.0,2,   133.29,2,    34.42,2,     0.00,2,     2.38,2,     0.05,2,    0.013,2,    0.004,2,    0.001,2,    0.006,2,   2307.7, 2,   2410.8,6,   -999.0,9,  -999.00,9,     -999,9,   -999.0,9,    0.000,2,    0.000,2,   1.5000,1,-999.0000,9,-999.0000,9,-999.0000,9,    0.000,2,   99.909,2,   1.5437,2
  49NZ20191205,  I08N,    42,  1,     11,   1211,2,20191214,2311, -7.0004,  79.9990, 4917,   3500.3,   1.4538,   1.4536,2,  34.7215,2,  34.7211,2,    169.8,2,    169.9,2,   134.96,2,    34.36,2,     0.01,2,     2.37,2,     0.06,2,    0.012,2,    0.003,2,    0.000,2,     0.01,2,   2308.0, 2,   2413.6,2,   -999.0,9,  -999.00,9,     -999,9,   -999.0,9,    0.000,2,    0.000,2,   1.4830,1,-999.0000,9,-999.0000,9,-999.0000,9,    0.000,2,   99.909,2,   1.4536,2
  49NZ20191205,  I08N,    42,  1,     10,   1210,2,20191214,2311, -7.0004,  79.9990, 4917,   3751.4,   1.4093,   1.4092,2,  34.7197,2,  34.7197,2,    172.8,2,    173.0,2,   135.32,2,    34.25,2,     0.00,2,     2.36,2,     0.06,2,    0.013,2,    0.004,2,    0.002,2,        0,2,   2307.0, 2,   2413.9,2,   -999.0,9,  -999.00,9,     -999,9,   -999.0,9,    0.000,2,    0.000,2,   1.4710,1,-999.0000,9,-999.0000,9,-999.0000,9,    0.000,2,   99.916,2,   1.4092,2
  49NZ20191205,  I08N,    42,  1,      9,   1209,2,20191214,2311, -7.0004,  79.9990, 4917,   3999.8,   1.3905,   1.3905,2,  34.7185,2,  34.7184,2,    175.4,2,    175.6,2,   134.71,2,    34.15,2,     0.01,2,     2.35,2,     0.06,2,    0.011,2,    0.002,2,    0.001,2,    0.004,2,   2308.0, 2,   2410.0,2,   -999.0,9,  -999.00,9,     -999,9,   -999.0,9,    0.000,2,    0.000,2,   1.4690,1,-999.0000,9,-999.0000,9,-999.0000,9,    0.000,2,   99.909,2,   1.3905,2
  49NZ20191205,  I08N,    42,  1,      8,  12103,2,20191214,2311, -7.0004,  79.9990, 4917,   4249.5,   1.3762,   1.3761,2,  34.7175,2,  34.7182,2,    178.4,2,    178.5,2,   134.14,2,    34.07,2,     0.00,2,     2.34,2,     0.04,2,    0.014,2,    0.004,2,    0.001,2,        0,2,   2302.4, 6,   2409.4,2,   -999.0,9,  -999.00,9,     -999,9,   -999.0,9,    0.000,2,    0.000,2,   1.4580,1,-999.0000,9,-999.0000,9,-999.0000,9,   -0.001,2,   99.916,2,   1.3761,2
  49NZ20191205,  I08N,    42,  1,      7,   1207,2,20191214,2311, -7.0004,  79.9990, 4917,   4500.6,   1.3767,   1.3766,2,  34.7169,2,  34.7166,2,    180.2,2,    180.5,2,   133.80,2,    33.95,2,     0.01,2,     2.32,2,     0.05,2,    0.012,2,    0.003,2,    0.000,2,    0.001,2,   2299.1, 2,   2407.7,2,   -999.0,9,  -999.00,9,     -999,9,   -999.0,9,    0.000,2,    0.000,2,   1.4460,1,-999.0000,9,-999.0000,9,-999.0000,9,    0.000,2,   99.922,2,   1.3766,2
  49NZ20191205,  I08N,    42,  1,      6,   1206,2,20191214,2311, -7.0004,  79.9990, 4917,   4751.0,   1.3811,   1.3811,2,  34.7164,2,  34.7164,2,    182.2,2,    182.6,2,   132.32,2,    33.81,2,     0.00,2,     2.32,2,     0.04,2,    0.015,2,    0.005,2,    0.004,2,    0.002,2,   2295.1, 3,   2405.4,6,   -999.0,9,  -999.00,9,     -999,9,   -999.0,9,    0.000,2,    0.000,2,   1.4460,1,-999.0000,9,-999.0000,9,-999.0000,9,   -0.001,2,   99.935,2,   1.3811,2
  49NZ20191205,  I08N,    42,  1,      2,  12046,2,20191214,2311, -7.0004,  79.9990, 4917,     83.2,  27.4938,  27.4983,2,  34.6504,2,  34.6533,2,    194.1,2,    195.5,2,     1.71,2,     0.01,2,     0.01,2,     0.14,2,     0.14,2, -999.000,9, -999.000,9, -999.000,9,     -999,9,   1970.5, 2,   2274.9,2,   -999.0,9,     0.34,2,     52.6,2,    297.8,2,    1.952,2,    1.952,2,   1.2420,1,-999.0000,9,-999.0000,9,-999.0000,9,    0.313,2,   98.667,2,  27.4983,2
  49NZ20191205,  I08N,    42,  1,      1,   1201,2,20191214,2311, -7.0004,  79.9990, 4917,   4982.3,   1.3954,   1.3954,2,  34.7161,2,  34.7157,2,    183.1,2,    183.5,2,   131.72,2,    33.71,2,     0.01,2,     2.31,2,     0.04,2,    0.013,2,    0.006,2,    0.001,2,    0.001,2,   2296.2, 2,   2404.6,2,   -999.0,9,  -999.00,9,     -999,9,   -999.0,9,    0.000,2,    0.000,2,   1.4430,1,-999.0000,9,-999.0000,9,-999.0000,9,   -0.001,2,   99.903,2,   1.3954,2