BOTTLE,20210329PRINUNIVRMK
EXPOCODE,SECT_ID,STNNBR,CASTNO,SAMPNO,BTLNBR,BTLNBR_FLAG_W,DATE,TIME,LATITUDE,LONGITUDE,DEPTH,CTDPRS,CTDTMP,CTDSAL,CTDSAL_FLAG_W,SALNTY,SALNTY_FLAG_W,CTDOXY,CTDOXY_FLAG_W,OXYGEN,OXYGEN_FLAG_W,SILCAT,SILCAT_FLAG_W,NITRAT,NITRAT_FLAG_W,PHSPHT,PHSPHT_FLAG_W,TCARBN,TCARBN_FLAG_W,ALKALI,ALKALI_FLAG_W,CTDFLUOR,CTDFLUOR_FLAG_W,CTDPAR,CTDPAR_FLAG_W,CTDXMISS,CTDXMISS_FLAG_W
,,,,,,,,,,,METERS,DBAR,ITS-90,PSS-78,,PSS-78,,UMOL/KG,,UMOL/KG,,UMOL/KG,,UMOL/KG,,UMOL/KG,,UMOL/KG,,UMOL/KG,,MG/M^3,,UEINSTEIN/M^2*SEC,,%TRANS,
  09AR20141205,AU1402,   130,  1,      0,     24,2,20150117,1527,-66.3415, 144.9988,  386,      7.2,  -0.3915,  33.8905,2,-999.0000,9,    357.4,2,   -999.0,9,  -999.00,9,  -999.00,9,  -999.00,9,   -999.0,9,   -999.0,9,    6.880,2,    1.922,2,   88.414,2
  09AR20141205,AU1402,   130,  1,      0,     23,2,20150117,1527,-66.3415, 144.9988,  386,      7.2,  -0.3917,  33.8904,2,-999.0000,9,    357.4,2,   -999.0,9,  -999.00,9,  -999.00,9,  -999.00,9,   -999.0,9,   -999.0,9,    6.943,2,    1.917,2,   88.474,2
  09AR20141205,AU1402,   130,  1,      0,     22,2,20150117,1527,-66.3415, 144.9988,  386,      7.2,  -0.3917,  33.8905,2,-999.0000,9,    357.4,2,   -999.0,9,  -999.00,9,  -999.00,9,  -999.00,9,   -999.0,9,   -999.0,9,    6.714,2,    1.919,2,   88.268,2
  09AR20141205,AU1402,   130,  1,      0,     21,2,20150117,1527,-66.3415, 144.9988,  386,      7.1,  -0.3913,  33.8904,2,  33.8976,2,    357.4,2,    358.6,2,  -999.00,9,    23.47,2,     1.52,3,   2150.5,2,   2296.9,2,    6.073,2,    1.907,2,   88.479,2
  09AR20141205,AU1402,   130,  1,      0,     20,2,20150117,1527,-66.3415, 144.9988,  386,     15.4,  -0.4148,  33.8922,2,-999.0000,9,    358.8,2,   -999.0,9,  -999.00,9,  -999.00,9,  -999.00,9,   -999.0,9,   -999.0,9,    7.574,2,    0.491,2,   88.477,2
  09AR20141205,AU1402,   130,  1,      0,     19,2,20150117,1527,-66.3415, 144.9988,  386,     15.3,  -0.4258,  33.8922,2,  33.8953,2,    358.8,2,    358.4,2,  -999.00,9,    23.39,2,     1.55,3,   2150.9,2,   2294.7,2,    7.929,2,    0.481,2,   88.378,2
  09AR20141205,AU1402,   130,  1,      0,     18,2,20150117,1527,-66.3415, 144.9988,  386,     15.2,  -0.4062,  33.8911,2,-999.0000,9,    358.8,2,   -999.0,9,  -999.00,9,  -999.00,9,  -999.00,9,   -999.0,9,   -999.0,9,    7.183,2,    0.490,2,   88.084,2
  09AR20141205,AU1402,   130,  1,      0,     17,2,20150117,1527,-66.3415, 144.9988,  386,     39.9,  -0.5986,  34.0244,2,-999.0000,9,    349.0,2,   -999.0,9,  -999.00,9,  -999.00,9,  -999.00,9,   -999.0,9,   -999.0,9,    9.449,2,    0.000,2,   86.210,2
  09AR20141205,AU1402,   130,  1,      0,     16,2,20150117,1527,-66.3415, 144.9988,  386,     50.5,  -0.6822,  34.1204,2,-999.0000,9,    344.1,2,   -999.0,9,  -999.00,9,  -999.00,9,  -999.00,9,   -999.0,9,   -999.0,9,    6.760,2,    0.000,2,   92.031,2
  09AR20141205,AU1402,   130,  1,      0,     15,2,20150117,1527,-66.3415, 144.9988,  386,     50.4,  -0.6827,  34.1197,2,-999.0000,9,    344.1,2,    344.0,2,  -999.00,9,    25.35,2,     1.68,3,   2177.5,6,   2311.4,6,    6.648,2,    0.000,2,   91.750,2
  09AR20141205,AU1402,   130,  1,      0,     14,2,20150117,1527,-66.3415, 144.9988,  386,    105.9,  -1.4660,  34.3924,2,-999.0000,9,    297.8,2,   -999.0,9,  -999.00,9,  -999.00,9,  -999.00,9,   -999.0,9,   -999.0,9,    1.121,2,    0.000,2,   96.363,2
  09AR20141205,AU1402,   130,  1,      0,     13,2,20150117,1527,-66.3415, 144.9988,  386,    105.7,  -1.4691,  34.3932,2,-999.0000,9,    297.8,2,    297.0,2,  -999.00,9,  -999.00,9,  -999.00,9,   2222.3,2,   2325.9,2,    1.222,2,    0.000,2,   96.472,2
  09AR20141205,AU1402,   130,  1,      0,     12,2,20150117,1527,-66.3415, 144.9988,  386,    150.4,  -1.2218,  34.4609,2,-999.0000,9,    275.6,2,   -999.0,9,  -999.00,9,  -999.00,9,  -999.00,9,   -999.0,9,   -999.0,9,    0.016,2,    0.000,2,   98.827,2
  09AR20141205,AU1402,   130,  1,      0,     11,2,20150117,1527,-66.3415, 144.9988,  386,    150.3,  -1.2335,  34.4592,2,  34.4571,2,    275.6,2,    274.7,2,  -999.00,9,    30.88,2,     2.03,3,   2235.0,2,   2326.4,2,    0.017,2,    0.000,2,   98.828,2
  09AR20141205,AU1402,   130,  1,      0,     10,2,20150117,1527,-66.3415, 144.9988,  386,    225.3,  -1.0049,  34.4986,2,-999.0000,9,    267.8,2,   -999.0,9,  -999.00,9,  -999.00,9,  -999.00,9,   -999.0,9,   -999.0,9,   -0.024,2,    0.000,2,   98.793,2
  09AR20141205,AU1402,   130,  1,      0,      9,2,20150117,1527,-66.3415, 144.9988,  386,    225.3,  -1.0055,  34.4990,2,-999.0000,9,    267.8,2,    269.7,2,  -999.00,9,  -999.00,9,  -999.00,9,   2236.2,2,   2332.0,2,   -0.023,2,    0.000,2,   98.812,2
  09AR20141205,AU1402,   130,  1,      0,      8,2,20150117,1527,-66.3415, 144.9988,  386,    225.6,  -1.0046,  34.4996,2,-999.0000,9,    267.8,2,   -999.0,9,  -999.00,9,  -999.00,9,  -999.00,9,   -999.0,9,   -999.0,9,   -0.005,2,    0.000,2,   98.829,2
  09AR20141205,AU1402,   130,  1,      0,      7,2,20150117,1527,-66.3415, 144.9988,  386,    225.6,  -1.0098,  34.4998,2,-999.0000,9,    267.8,2,   -999.0,9,  -999.00,9,  -999.00,9,  -999.00,9,   -999.0,9,   -999.0,9,   -0.021,2,    0.000,2,   98.828,2
  09AR20141205,AU1402,   130,  1,      0,      6,2,20150117,1527,-66.3415, 144.9988,  386,    330.7,  -0.9481,  34.5585,2,-999.0000,9,    265.6,2,   -999.0,9,  -999.00,9,  -999.00,9,  -999.00,9,   -999.0,9,   -999.0,9,   -0.051,2,    0.000,2,   98.484,2
  09AR20141205,AU1402,   130,  1,      0,      5,2,20150117,1527,-66.3415, 144.9988,  386,    330.6,  -0.9472,  34.5584,2,  34.5566,2,    265.6,2,    263.4,2,  -999.00,9,    31.27,2,     2.04,3,   2243.8,2,   2338.5,2,    0.059,2,    0.000,2,   98.293,2
  09AR20141205,AU1402,   130,  1,      0,      4,2,20150117,1527,-66.3415, 144.9988,  386,    330.6,  -0.9473,  34.5586,2,-999.0000,9,    265.6,2,   -999.0,9,  -999.00,9,  -999.00,9,  -999.00,9,   -999.0,9,   -999.0,9,   -0.056,2,    0.000,2,   98.457,2
  09AR20141205,AU1402,   130,  1,      0,      3,2,20150117,1527,-66.3415, 144.9988,  386,    330.5,  -0.9464,  34.5584,2,-999.0000,9,    265.6,2,   -999.0,9,  -999.00,9,  -999.00,9,  -999.00,9,   -999.0,9,   -999.0,9,   -0.033,2,    0.000,2,   98.486,2
  09AR20141205,AU1402,   130,  1,      0,      2,2,20150117,1527,-66.3415, 144.9988,  386,    388.7,  -1.7874,  34.5892,2,-999.0000,9,    298.2,2,   -999.0,9,  -999.00,9,  -999.00,9,  -999.00,9,   -999.0,9,   -999.0,9,    0.146,2,    0.000,2,   96.518,2
  09AR20141205,AU1402,   130,  1,      0,      1,2,20150117,1527,-66.3415, 144.9988,  386,    388.7,  -1.7873,  34.5890,2,  34.5884,2,    298.2,2,    298.8,2,  -999.00,9,    30.80,2,     1.96,3,   2240.5,2,   2339.0,2,    0.147,2,    0.000,2,   96.519,2
  09AR20141205,AU1402,   131,  1,      0,     24,2,20150117,1718,-66.3337, 144.6592,  415,      6.8,  -0.2762,  33.8972,2,-999.0000,9,    359.0,2,   -999.0,9,  -999.00,9,  -999.00,9,  -999.00,9,   -999.0,9,   -999.0,9,    4.487,2,   27.490,2,   88.781,2
  09AR20141205,AU1402,   131,  1,      0,     23,2,20150117,1718,-66.3337, 144.6592,  415,      6.8,  -0.2768,  33.8969,2,-999.0000,9,    359.0,2,   -999.0,9,  -999.00,9,  -999.00,9,  -999.00,9,   -999.0,9,   -999.0,9,    4.658,2,   27.480,2,   88.661,2
  09AR20141205,AU1402,   131,  1,      0,     22,2,20150117,1718,-66.3337, 144.6592,  415,      6.8,  -0.2750,  33.8975,2,-999.0000,9,    359.0,2,   -999.0,9,  -999.00,9,  -999.00,9,  -999.00,9,   -999.0,9,   -999.0,9,    5.210,2,   27.270,2,   88.287,2
  09AR20141205,AU1402,   131,  1,      0,     21,2,20150117,1718,-66.3337, 144.6592,  415,      6.7,  -0.2663,  33.9011,2,  33.8997,2,    359.0,2,    358.8,2,  -999.00,9,    23.14,2,     1.56,3,   2151.4,2,   2297.0,6,    5.367,2,   27.140,2,   88.612,2
  09AR20141205,AU1402,   131,  1,      0,     20,2,20150117,1718,-66.3337, 144.6592,  415,     20.1,  -0.2777,  33.8964,2,-999.0000,9,    358.4,2,   -999.0,9,  -999.00,9,  -999.00,9,  -999.00,9,   -999.0,9,   -999.0,9,    5.637,2,    3.611,2,   88.539,2
  09AR20141205,AU1402,   131,  1,      0,     19,2,20150117,1718,-66.3337, 144.6592,  415,     20.0,  -0.2700,  33.8994,2,  33.9216,2,    358.4,2,    358.7,2,  -999.00,9,    23.32,2,     1.53,3,   2150.4,2,   2299.7,2,    4.851,2,    3.528,2,   89.008,2
  09AR20141205,AU1402,   131,  1,      0,     18,2,20150117,1718,-66.3337, 144.6592,  415,     19.9,  -0.2730,  33.8986,2,-999.0000,9,    358.4,2,   -999.0,9,  -999.00,9,  -999.00,9,  -999.00,9,   -999.0,9,   -999.0,9,    5.265,2,    3.441,2,   88.734,2
  09AR20141205,AU1402,   131,  1,      0,     17,2,20150117,1718,-66.3337, 144.6592,  415,     41.0,  -0.3068,  34.0431,2,-999.0000,9,    352.2,2,   -999.0,9,  -999.00,9,  -999.00,9,  -999.00,9,   -999.0,9,   -999.0,9,    7.078,2,    0.246,2,   89.263,2
  09AR20141205,AU1402,   131,  1,      0,     16,2,20150117,1718,-66.3337, 144.6592,  415,     41.0,  -0.3060,  34.0429,2,-999.0000,9,    353.2,2,   -999.0,9,  -999.00,9,  -999.00,9,  -999.00,9,   -999.0,9,   -999.0,9,    6.211,2,    0.251,2,   90.033,2
  09AR20141205,AU1402,   131,  1,      0,     15,2,20150117,1718,-66.3337, 144.6592,  415,     94.9,  -1.6625,  34.4010,2,-999.0000,9,    302.6,2,    301.1,2,  -999.00,9,    30.26,2,     2.10,3,   -999.0,9,   -999.0,9,    0.521,2,    0.000,2,   97.620,2
  09AR20141205,AU1402,   131,  1,      0,     14,2,20150117,1718,-66.3337, 144.6592,  415,     94.6,  -1.6624,  34.4013,2,-999.0000,9,    302.6,2,   -999.0,9,  -999.00,9,  -999.00,9,  -999.00,9,   -999.0,9,   -999.0,9,    0.517,2,    0.000,2,   97.673,2
  09AR20141205,AU1402,   131,  1,      0,     13,2,20150117,1718,-66.3337, 144.6592,  415,    150.2,  -1.0617,  34.4947,2,-999.0000,9,    274.6,2,    272.3,2,  -999.00,9,  -999.00,9,  -999.00,9,   2237.3,2,   2332.9,2,    0.023,2,    0.000,2,   98.757,2
  09AR20141205,AU1402,   131,  1,      0,     12,2,20150117,1718,-66.3337, 144.6592,  415,    150.0,  -1.0617,  34.4948,2,-999.0000,9,    274.6,2,   -999.0,9,  -999.00,9,  -999.00,9,  -999.00,9,   -999.0,9,   -999.0,9,    0.029,2,    0.000,2,   98.707,2
  09AR20141205,AU1402,   131,  1,      0,     11,2,20150117,1718,-66.3337, 144.6592,  415,    200.9,  -1.4501,  34.5019,2,-999.0000,9,    282.8,2,    286.4,2,  -999.00,9,    30.34,2,     2.10,3,   -999.0,9,   -999.0,9,    0.071,2,    0.000,2,   98.697,2
  09AR20141205,AU1402,   131,  1,      0,     10,2,20150117,1718,-66.3337, 144.6592,  415,    200.9,  -1.4510,  34.5018,2,-999.0000,9,    282.8,2,   -999.0,9,  -999.00,9,  -999.00,9,  -999.00,9,   -999.0,9,   -999.0,9,    0.079,2,    0.000,2,   98.646,2
  09AR20141205,AU1402,   131,  1,      0,      9,2,20150117,1718,-66.3337, 144.6592,  415,    250.9,  -1.6807,  34.5097,2,  34.5112,2,    291.9,2,    293.9,2,  -999.00,9,  -999.00,9,  -999.00,9,   2234.6,2,   2332.8,2,    0.048,2,    0.000,2,   98.791,2
  09AR20141205,AU1402,   131,  1,      0,      8,2,20150117,1718,-66.3337, 144.6592,  415,    250.8,  -1.6785,  34.5098,2,-999.0000,9,    291.9,2,   -999.0,9,  -999.00,9,  -999.00,9,  -999.00,9,   -999.0,9,   -999.0,9,    0.044,2,    0.000,2,   98.640,2
  09AR20141205,AU1402,   131,  1,      0,      7,2,20150117,1718,-66.3337, 144.6592,  415,    250.8,  -1.6781,  34.5098,2,-999.0000,9,    291.9,2,   -999.0,9,  -999.00,9,  -999.00,9,  -999.00,9,   -999.0,9,   -999.0,9,    0.057,2,    0.000,2,   98.752,2
  09AR20141205,AU1402,   131,  1,      0,      6,2,20150117,1718,-66.3337, 144.6592,  415,    250.6,  -1.6792,  34.5098,2,-999.0000,9,    291.9,2,   -999.0,9,  -999.00,9,  -999.00,9,  -999.00,9,   -999.0,9,   -999.0,9,    0.080,2,    0.000,2,   98.758,2
  09AR20141205,AU1402,   131,  1,      0,      5,2,20150117,1718,-66.3337, 144.6592,  415,    351.4,  -1.7989,  34.5653,2,  34.5636,2,    300.4,2,    300.2,2,  -999.00,9,    30.56,2,     2.09,3,   -999.0,9,   -999.0,9,    0.007,2,    0.000,2,   98.691,2
  09AR20141205,AU1402,   131,  1,      0,      4,2,20150117,1718,-66.3337, 144.6592,  415,    351.4,  -1.7986,  34.5650,2,-999.0000,9,    300.4,2,   -999.0,9,  -999.00,9,  -999.00,9,  -999.00,9,   -999.0,9,   -999.0,9,   -0.015,2,    0.000,2,   98.661,2
  09AR20141205,AU1402,   131,  1,      0,      3,2,20150117,1718,-66.3337, 144.6592,  415,    351.4,  -1.7989,  34.5653,2,-999.0000,9,    300.4,2,   -999.0,9,  -999.00,9,  -999.00,9,  -999.00,9,   -999.0,9,   -999.0,9,   -0.021,2,    0.000,2,   98.670,2
  09AR20141205,AU1402,   131,  1,      0,      2,2,20150117,1718,-66.3337, 144.6592,  415,    351.4,  -1.7993,  34.5657,2,-999.0000,9,    300.4,2,   -999.0,9,  -999.00,9,  -999.00,9,  -999.00,9,   -999.0,9,   -999.0,9,    0.017,2,    0.000,2,   98.636,2
  09AR20141205,AU1402,   131,  1,      0,      1,2,20150117,1718,-66.3337, 144.6592,  415,    415.5,  -1.8971,  34.5912,2,  34.5900,2,    306.5,2,    305.7,2,  -999.00,9,    30.51,2,     2.10,3,   2239.1,2,   2340.7,2,   -0.001,2,    0.000,2,   98.192,2
  09AR20141205,AU1402,   132,  1,      0,     24,2,20150117,1908,-66.3343, 144.3365,  448,      7.3,  -0.2166,  33.9791,2,-999.0000,9,    358.6,2,   -999.0,9,  -999.00,9,  -999.00,9,  -999.00,9,   -999.0,9,   -999.0,9,    2.284,2,   91.780,2,   89.518,2
  09AR20141205,AU1402,   132,  1,      0,     23,2,20150117,1908,-66.3343, 144.3365,  448,      7.2,  -0.2105,  33.9819,2,-999.0000,9,    358.6,2,   -999.0,9,  -999.00,9,  -999.00,9,  -999.00,9,   -999.0,9,   -999.0,9,    1.682,2,   92.760,2,   89.284,2
  09AR20141205,AU1402,   132,  1,      0,     22,2,20150117,1908,-66.3343, 144.3365,  448,      7.2,  -0.2011,  33.9848,2,-999.0000,9,    358.6,2,   -999.0,9,  -999.00,9,  -999.00,9,  -999.00,9,   -999.0,9,   -999.0,9,    1.736,2,   94.970,2,   89.130,2
  09AR20141205,AU1402,   132,  1,      0,     21,2,20150117,1908,-66.3343, 144.3365,  448,      7.1,  -0.2055,  33.9811,2,-999.0000,9,    358.6,2,    357.6,2,  -999.00,9,    23.40,2,     1.52,3,   2155.0,2,   2300.4,2,    2.633,2,  101.400,2,   89.485,2
  09AR20141205,AU1402,   132,  1,      0,     20,2,20150117,1908,-66.3343, 144.3365,  448,     20.2,  -0.1221,  34.0086,2,-999.0000,9,    357.3,2,   -999.0,9,  -999.00,9,  -999.00,9,  -999.00,9,   -999.0,9,   -999.0,9,    4.237,2,   16.250,2,   89.082,2
  09AR20141205,AU1402,   132,  1,      0,     19,2,20150117,1908,-66.3343, 144.3365,  448,     20.1,  -0.1220,  34.0089,2,  34.0145,2,    357.3,2,    357.8,2,  -999.00,9,    23.52,2,     1.55,3,   2159.8,2,   2304.7,2,    4.288,2,   16.610,2,   89.426,2
  09AR20141205,AU1402,   132,  1,      0,     18,2,20150117,1908,-66.3343, 144.3365,  448,     20.1,  -0.1223,  34.0093,2,-999.0000,9,    357.3,2,   -999.0,9,  -999.00,9,  -999.00,9,  -999.00,9,   -999.0,9,   -999.0,9,    4.839,2,   16.580,2,   89.180,2
  09AR20141205,AU1402,   132,  1,      0,     17,2,20150117,1908,-66.3343, 144.3365,  448,     51.1,  -0.6888,  34.1892,2,-999.0000,9,    349.7,2,   -999.0,9,  -999.00,9,  -999.00,9,  -999.00,9,   -999.0,9,   -999.0,9,    8.440,2,    0.103,2,   87.999,2
  09AR20141205,AU1402,   132,  1,      0,     16,2,20150117,1908,-66.3343, 144.3365,  448,     51.2,  -0.6882,  34.1888,2,-999.0000,9,    349.7,2,   -999.0,9,  -999.00,9,  -999.00,9,  -999.00,9,   -999.0,9,   -999.0,9,    9.168,2,    0.098,2,   88.152,2
  09AR20141205,AU1402,   132,  1,      0,     15,2,20150117,1908,-66.3343, 144.3365,  448,     51.1,  -0.6875,  34.1880,2,-999.0000,9,    349.7,2,    342.9,2,  -999.00,9,    25.36,2,     1.69,3,   -999.0,9,   -999.0,9,    8.879,2,    0.089,2,   88.055,2
  09AR20141205,AU1402,   132,  1,      0,     14,2,20150117,1908,-66.3343, 144.3365,  448,     51.0,  -0.6865,  34.1876,2,-999.0000,9,    349.7,2,   -999.0,9,  -999.00,9,  -999.00,9,  -999.00,9,   -999.0,9,   -999.0,9,    9.861,2,    0.088,2,   88.147,2
  09AR20141205,AU1402,   132,  1,      0,     13,2,20150117,1908,-66.3343, 144.3365,  448,    110.6,  -1.4167,  34.4286,2,  34.4373,2,    296.6,2,    296.8,2,  -999.00,9,  -999.00,9,  -999.00,9,   2226.6,2,   2329.1,6,    1.160,2,    0.000,2,   96.232,2
  09AR20141205,AU1402,   132,  1,      0,     12,2,20150117,1908,-66.3343, 144.3365,  448,    110.3,  -1.4144,  34.4278,2,-999.0000,9,    296.6,2,   -999.0,9,  -999.00,9,  -999.00,9,  -999.00,9,   -999.0,9,   -999.0,9,    1.122,2,    0.000,2,   96.349,2
  09AR20141205,AU1402,   132,  1,      0,     11,2,20150117,1908,-66.3343, 144.3365,  448,    170.9,  -1.3804,  34.5053,2,-999.0000,9,    284.1,2,    283.5,2,  -999.00,9,    30.75,2,     2.08,3,   -999.0,9,   -999.0,9,    0.098,2,    0.000,2,   98.648,2
  09AR20141205,AU1402,   132,  1,      0,     10,2,20150117,1908,-66.3343, 144.3365,  448,    170.8,  -1.3747,  34.5042,2,-999.0000,9,    284.1,2,   -999.0,9,  -999.00,9,  -999.00,9,  -999.00,9,   -999.0,9,   -999.0,9,    0.102,2,    0.000,2,   98.628,2
  09AR20141205,AU1402,   132,  1,      0,      9,2,20150117,1908,-66.3343, 144.3365,  448,    250.6,  -1.5516,  34.5344,2,-999.0000,9,    289.8,2,   -999.0,9,  -999.00,9,  -999.00,9,  -999.00,9,   -999.0,9,   -999.0,9,    0.054,2,    0.000,2,   98.729,2
  09AR20141205,AU1402,   132,  1,      0,      8,2,20150117,1908,-66.3343, 144.3365,  448,    250.5,  -1.5521,  34.5348,2,-999.0000,9,    289.8,2,   -999.0,9,  -999.00,9,  -999.00,9,  -999.00,9,   -999.0,9,   -999.0,9,    0.036,2,    0.000,2,   98.695,2
  09AR20141205,AU1402,   132,  1,      0,      7,2,20150117,1908,-66.3343, 144.3365,  448,    250.5,  -1.5535,  34.5347,2,  34.5367,2,    289.8,2,    290.8,2,  -999.00,9,  -999.00,9,  -999.00,9,   2238.6,2,   2334.8,2,    0.021,2,    0.000,2,   98.690,2
  09AR20141205,AU1402,   132,  1,      0,      6,2,20150117,1908,-66.3343, 144.3365,  448,    250.4,  -1.5551,  34.5349,2,-999.0000,9,    289.8,2,   -999.0,9,  -999.00,9,  -999.00,9,  -999.00,9,   -999.0,9,   -999.0,9,    0.048,2,    0.000,2,   98.701,2
  09AR20141205,AU1402,   132,  1,      0,      5,2,20150117,1908,-66.3343, 144.3365,  448,    351.2,  -1.8611,  34.5724,2,  34.5723,2,    302.2,2,   -999.0,9,  -999.00,9,    30.61,2,     2.11,3,   -999.0,9,   -999.0,9,   -0.018,2,    0.000,2,   98.683,2
  09AR20141205,AU1402,   132,  1,      0,      4,2,20150117,1908,-66.3343, 144.3365,  448,    351.1,  -1.8610,  34.5723,2,-999.0000,9,    302.2,2,   -999.0,9,  -999.00,9,  -999.00,9,  -999.00,9,   -999.0,9,   -999.0,9,   -0.020,2,    0.000,2,   98.671,2
  09AR20141205,AU1402,   132,  1,      0,      3,2,20150117,1908,-66.3343, 144.3365,  448,    351.0,  -1.8614,  34.5724,2,-999.0000,9,    302.2,2,   -999.0,9,  -999.00,9,  -999.00,9,  -999.00,9,   -999.0,9,   -999.0,9,   -0.013,2,    0.000,2,   98.671,2
  09AR20141205,AU1402,   132,  1,      0,      2,2,20150117,1908,-66.3343, 144.3365,  448,    351.0,  -1.8618,  34.5724,2,-999.0000,9,    302.2,2,   -999.0,9,  -999.00,9,  -999.00,9,  -999.00,9,   -999.0,9,   -999.0,9,   -0.012,2,    0.000,2,   98.622,2
  09AR20141205,AU1402,   132,  1,      0,      1,2,20150117,1908,-66.3343, 144.3365,  448,    444.4,  -1.8967,  34.5910,2,  34.5899,2,    306.1,2,    305.9,2,  -999.00,9,    30.71,2,     2.09,3,   2240.2,2,   2339.2,2,    0.013,2,    0.000,2,   97.870,2