BOTTLE,20210329PRINUNIVRMK
EXPOCODE,SECT_ID,STNNBR,CASTNO,SAMPNO,BTLNBR,BTLNBR_FLAG_W,DATE,TIME,LATITUDE,LONGITUDE,DEPTH,CTDPRS,CTDTMP,CTDSAL,CTDSAL_FLAG_W,SALNTY,SALNTY_FLAG_W,CTDOXY,CTDOXY_FLAG_W,OXYGEN,OXYGEN_FLAG_W,SILCAT,SILCAT_FLAG_W,NITRAT,NITRAT_FLAG_W,PHSPHT,PHSPHT_FLAG_W,TCARBN,TCARBN_FLAG_W,ALKALI,ALKALI_FLAG_W,CTDFLUOR,CTDFLUOR_FLAG_W,CTDPAR,CTDPAR_FLAG_W,CTDXMISS,CTDXMISS_FLAG_W
,,,,,,,,,,,METERS,DBAR,ITS-90,PSS-78,,PSS-78,,UMOL/KG,,UMOL/KG,,UMOL/KG,,UMOL/KG,,UMOL/KG,,UMOL/KG,,UMOL/KG,,MG/M^3,,UEINSTEIN/M^2*SEC,,%TRANS,
  09AR20141205,AU1402,    76,  1,      0,     24,2,20150108,0313,-66.0383, 120.5127,  518,      7.6,  -1.2761,  33.7365,2,-999.0000,9,    347.6,2,   -999.0,9,  -999.00,9,  -999.00,9,  -999.00,9,   -999.0,9,   -999.0,9,    0.062,2,   50.420,2,   94.930,2
  09AR20141205,AU1402,    76,  1,      0,     23,2,20150108,0313,-66.0383, 120.5127,  518,      7.6,  -1.2405,  33.7366,2,-999.0000,9,    347.6,2,   -999.0,9,  -999.00,9,  -999.00,9,  -999.00,9,   -999.0,9,   -999.0,9,    0.062,2,   50.370,2,   94.960,2
  09AR20141205,AU1402,    76,  1,      0,     22,2,20150108,0313,-66.0383, 120.5127,  518,      7.5,  -1.3001,  33.7390,2,-999.0000,9,    347.6,2,   -999.0,9,  -999.00,9,  -999.00,9,  -999.00,9,   -999.0,9,   -999.0,9,    0.060,2,   50.300,2,   94.869,2
  09AR20141205,AU1402,    76,  1,      0,     21,2,20150108,0313,-66.0383, 120.5127,  518,      7.5,  -1.2344,  33.7341,2,  33.7393,2,    347.6,2,    347.5,2,  -999.00,9,    27.54,2,     1.87,3,   2163.1,2,   2281.4,2,    0.040,2,   50.410,2,   94.990,2
  09AR20141205,AU1402,    76,  1,      0,     20,2,20150108,0313,-66.0383, 120.5127,  518,     21.2,  -1.3320,  33.7489,2,-999.0000,9,    348.6,2,   -999.0,9,  -999.00,9,  -999.00,9,  -999.00,9,   -999.0,9,   -999.0,9,    0.268,2,   23.880,2,   94.771,2
  09AR20141205,AU1402,    76,  1,      0,     19,2,20150108,0313,-66.0383, 120.5127,  518,     21.1,  -1.3709,  33.7551,2,  33.8908,4,    348.6,2,    347.9,2,  -999.00,9,  -999.00,9,  -999.00,9,   2175.0,2,   2288.6,2,    0.299,2,   23.870,2,   94.696,2
  09AR20141205,AU1402,    76,  1,      0,     18,2,20150108,0313,-66.0383, 120.5127,  518,     46.4,  -1.2029,  34.1829,2,-999.0000,9,    348.3,2,   -999.0,9,  -999.00,9,  -999.00,9,  -999.00,9,   -999.0,9,   -999.0,9,    0.782,2,   13.820,2,   95.480,2
  09AR20141205,AU1402,    76,  1,      0,     17,2,20150108,0313,-66.0383, 120.5127,  518,     46.4,  -1.2040,  34.1827,2,  34.1945,2,    348.3,2,    349.0,2,  -999.00,9,    28.50,2,     1.96,3,   2199.2,2,   2314.7,2,    0.820,2,   13.560,2,   95.490,2
  09AR20141205,AU1402,    76,  1,      0,     16,2,20150108,0313,-66.0383, 120.5127,  518,     46.3,  -1.2035,  34.1841,2,-999.0000,9,    348.3,2,   -999.0,9,  -999.00,9,  -999.00,9,  -999.00,9,   -999.0,9,   -999.0,9,    0.805,2,   13.670,2,   95.480,2
  09AR20141205,AU1402,    76,  1,      0,     15,2,20150108,0313,-66.0383, 120.5127,  518,     61.2,  -1.5120,  34.2169,2,  34.2150,2,    345.2,2,    344.7,2,  -999.00,9,  -999.00,9,  -999.00,9,   2202.8,2,   2312.0,2,    0.852,2,    8.542,2,   96.548,2
  09AR20141205,AU1402,    76,  1,      0,     14,2,20150108,0313,-66.0383, 120.5127,  518,     61.2,  -1.5114,  34.2170,2,-999.0000,9,    345.2,2,   -999.0,9,  -999.00,9,  -999.00,9,  -999.00,9,   -999.0,9,   -999.0,9,    0.923,2,    8.597,2,   96.581,2
  09AR20141205,AU1402,    76,  1,      0,     13,2,20150108,0313,-66.0383, 120.5127,  518,     61.2,  -1.5104,  34.2168,2,-999.0000,9,    345.2,2,   -999.0,9,  -999.00,9,  -999.00,9,  -999.00,9,   -999.0,9,   -999.0,9,    0.894,2,    8.732,2,   96.573,2
  09AR20141205,AU1402,    76,  1,      0,     12,2,20150108,0313,-66.0383, 120.5127,  518,     61.1,  -1.5087,  34.2165,2,-999.0000,9,    345.2,2,   -999.0,9,  -999.00,9,  -999.00,9,  -999.00,9,   -999.0,9,   -999.0,9,    0.911,2,    8.698,2,   96.557,2
  09AR20141205,AU1402,    76,  1,      0,     11,2,20150108,0313,-66.0383, 120.5127,  518,    120.8,  -1.8294,  34.2492,2,  34.2477,2,    323.7,2,    324.7,2,  -999.00,9,    30.08,2,     2.06,3,   2212.0,2,   2312.7,6,    0.092,2,    0.915,2,   98.504,2
  09AR20141205,AU1402,    76,  1,      0,     10,2,20150108,0313,-66.0383, 120.5127,  518,    120.8,  -1.8301,  34.2494,2,-999.0000,9,    323.7,2,   -999.0,9,  -999.00,9,  -999.00,9,  -999.00,9,   -999.0,9,   -999.0,9,    0.089,2,    0.918,2,   98.504,2
  09AR20141205,AU1402,    76,  1,      0,      9,2,20150108,0313,-66.0383, 120.5127,  518,    120.8,  -1.8291,  34.2491,2,-999.0000,9,    323.7,2,   -999.0,9,  -999.00,9,  -999.00,9,  -999.00,9,   -999.0,9,   -999.0,9,    0.094,2,    0.917,2,   98.502,2
  09AR20141205,AU1402,    76,  1,      0,      8,2,20150108,0313,-66.0383, 120.5127,  518,    343.1,  -1.8190,  34.3127,2,-999.0000,9,    316.3,2,   -999.0,9,  -999.00,9,  -999.00,9,  -999.00,9,   -999.0,9,   -999.0,9,   -0.082,2,    0.000,2,   98.826,2
  09AR20141205,AU1402,    76,  1,      0,      7,2,20150108,0313,-66.0383, 120.5127,  518,    342.6,  -1.8211,  34.3126,2,  34.3116,2,    316.2,2,    318.2,2,  -999.00,9,    30.21,2,     2.04,3,   2218.7,2,   2317.1,2,   -0.082,2,    0.000,2,   98.827,2
  09AR20141205,AU1402,    76,  1,      0,      6,2,20150108,0313,-66.0383, 120.5127,  518,    425.1,  -1.6406,  34.3526,2,-999.0000,9,    307.0,2,   -999.0,9,  -999.00,9,  -999.00,9,  -999.00,9,   -999.0,9,   -999.0,9,   -0.089,2,    0.000,2,   98.836,2
  09AR20141205,AU1402,    76,  1,      0,      5,2,20150108,0313,-66.0383, 120.5127,  518,    425.1,  -1.6439,  34.3522,2,  34.3547,2,    307.0,2,    304.8,2,  -999.00,9,    30.49,2,     2.10,3,   2222.2,6,   2320.5,6,   -0.088,2,    0.000,2,   98.836,2
  09AR20141205,AU1402,    76,  1,      0,      4,2,20150108,0313,-66.0383, 120.5127,  518,    481.3,  -0.5910,  34.4916,2,-999.0000,9,    262.0,2,   -999.0,9,  -999.00,9,  -999.00,9,  -999.00,9,   -999.0,9,   -999.0,9,   -0.089,2,    0.000,2,   98.594,2
  09AR20141205,AU1402,    76,  1,      0,      3,2,20150108,0313,-66.0383, 120.5127,  518,    481.3,  -0.5814,  34.4929,2,-999.0000,9,    262.0,2,    260.5,2,  -999.00,9,  -999.00,9,  -999.00,9,   2239.0,2,   2329.4,2,   -0.081,2,    0.000,2,   98.582,2
  09AR20141205,AU1402,    76,  1,      0,      2,2,20150108,0313,-66.0383, 120.5127,  518,    520.9,  -0.0661,  34.5672,2,-999.0000,9,    239.2,2,   -999.0,9,  -999.00,9,  -999.00,9,  -999.00,9,   -999.0,9,   -999.0,9,   -0.082,2,    0.000,2,   97.719,2
  09AR20141205,AU1402,    76,  1,      0,      1,2,20150108,0313,-66.0383, 120.5127,  518,    520.8,  -0.0657,  34.5673,2,  34.5605,2,    239.2,2,    240.5,2,  -999.00,9,    31.67,2,     2.19,3,   2245.5,2,   2336.2,2,   -0.077,2,    0.000,2,   97.697,2
  09AR20141205,AU1402,    77,  1,      0,     24,2,20150108,0451,-65.9693, 120.4737,  485,      8.1,  -1.3923,  33.7463,2,-999.0000,9,    344.8,2,   -999.0,9,  -999.00,9,  -999.00,9,  -999.00,9,   -999.0,9,   -999.0,9,    0.042,2,  182.600,2,   95.654,2
  09AR20141205,AU1402,    77,  1,      0,     23,2,20150108,0451,-65.9693, 120.4737,  485,      8.0,  -1.3909,  33.7466,2,-999.0000,9,    344.8,2,   -999.0,9,  -999.00,9,  -999.00,9,  -999.00,9,   -999.0,9,   -999.0,9,    0.080,2,  193.700,2,   95.641,2
  09AR20141205,AU1402,    77,  1,      0,     22,2,20150108,0451,-65.9693, 120.4737,  485,      8.0,  -1.3744,  33.7463,2,-999.0000,9,    344.8,2,   -999.0,9,  -999.00,9,  -999.00,9,  -999.00,9,   -999.0,9,   -999.0,9,    0.037,2,  198.600,2,   95.621,2
  09AR20141205,AU1402,    77,  1,      0,     21,2,20150108,0451,-65.9693, 120.4737,  485,      7.9,  -1.3677,  33.7464,2,  33.7460,2,    344.8,2,    343.4,2,  -999.00,9,  -999.00,9,  -999.00,9,   2166.4,2,   2280.1,2,    0.021,2,  195.400,2,   95.596,2
  09AR20141205,AU1402,    77,  1,      0,     20,2,20150108,0451,-65.9693, 120.4737,  485,     20.9,  -1.4433,  33.7486,2,-999.0000,9,    343.6,2,   -999.0,9,  -999.00,9,  -999.00,9,  -999.00,9,   -999.0,9,   -999.0,9,    0.159,2,   66.430,2,   95.472,2
  09AR20141205,AU1402,    77,  1,      0,     19,2,20150108,0451,-65.9693, 120.4737,  485,     20.9,  -1.4392,  33.7489,2,  33.7681,2,    343.6,2,    343.8,2,  -999.00,9,  -999.00,9,  -999.00,9,   2168.1,2,   2280.9,2,    0.155,2,   65.770,2,   95.488,2
  09AR20141205,AU1402,    77,  1,      0,     18,2,20150108,0451,-65.9693, 120.4737,  485,     40.5,  -1.2925,  34.2063,2,-999.0000,9,    352.9,2,   -999.0,9,  -999.00,9,  -999.00,9,  -999.00,9,   -999.0,9,   -999.0,9,    0.738,2,   30.070,2,   94.469,2
  09AR20141205,AU1402,    77,  1,      0,     17,2,20150108,0451,-65.9693, 120.4737,  485,     40.5,  -1.2955,  34.2061,2,  34.2093,2,    352.9,2,    351.1,2,  -999.00,9,  -999.00,9,  -999.00,9,   2197.4,2,   2311.6,2,    0.731,2,   34.880,2,   94.444,2
  09AR20141205,AU1402,    77,  1,      0,     16,2,20150108,0451,-65.9693, 120.4737,  485,     40.4,  -1.2991,  34.2056,2,-999.0000,9,    352.9,2,   -999.0,9,  -999.00,9,  -999.00,9,  -999.00,9,   -999.0,9,   -999.0,9,    0.749,2,   36.700,2,   94.435,2
  09AR20141205,AU1402,    77,  1,      0,     15,2,20150108,0451,-65.9693, 120.4737,  485,     51.1,  -1.4746,  34.2214,2,-999.0000,9,    346.2,2,    346.4,2,  -999.00,9,  -999.00,9,  -999.00,9,   2202.5,2,   2311.6,2,    0.823,2,   24.380,2,   96.342,2
  09AR20141205,AU1402,    77,  1,      0,     14,2,20150108,0451,-65.9693, 120.4737,  485,     51.1,  -1.4744,  34.2214,2,-999.0000,9,    346.2,2,   -999.0,9,  -999.00,9,  -999.00,9,  -999.00,9,   -999.0,9,   -999.0,9,    0.857,2,   23.130,2,   96.403,2
  09AR20141205,AU1402,    77,  1,      0,     13,2,20150108,0451,-65.9693, 120.4737,  485,     51.0,  -1.4745,  34.2216,2,-999.0000,9,    346.2,2,   -999.0,9,  -999.00,9,  -999.00,9,  -999.00,9,   -999.0,9,   -999.0,9,    0.783,2,   20.790,2,   96.369,2
  09AR20141205,AU1402,    77,  1,      0,     12,2,20150108,0451,-65.9693, 120.4737,  485,     51.0,  -1.4735,  34.2215,2,-999.0000,9,    347.1,2,   -999.0,9,  -999.00,9,  -999.00,9,  -999.00,9,   -999.0,9,   -999.0,9,    0.802,2,   25.140,2,   96.374,2
  09AR20141205,AU1402,    77,  1,      0,     11,2,20150108,0451,-65.9693, 120.4737,  485,    121.9,  -1.8265,  34.2459,2,  34.2454,2,    321.9,2,    321.0,2,  -999.00,9,  -999.00,9,  -999.00,9,   -999.0,9,   2311.8,2,    0.143,2,    1.469,2,   98.452,2
  09AR20141205,AU1402,    77,  1,      0,     10,2,20150108,0451,-65.9693, 120.4737,  485,    121.8,  -1.8305,  34.2462,2,-999.0000,9,    321.9,2,   -999.0,9,  -999.00,9,  -999.00,9,  -999.00,9,   -999.0,9,   -999.0,9,    0.118,2,    1.547,2,   98.456,2
  09AR20141205,AU1402,    77,  1,      0,      9,2,20150108,0451,-65.9693, 120.4737,  485,    121.8,  -1.8324,  34.2464,2,-999.0000,9,    321.9,2,   -999.0,9,  -999.00,9,  -999.00,9,  -999.00,9,   -999.0,9,   -999.0,9,    0.101,2,    1.590,2,   98.452,2
  09AR20141205,AU1402,    77,  1,      0,      8,2,20150108,0451,-65.9693, 120.4737,  485,    121.7,  -1.8333,  34.2463,2,-999.0000,9,    321.9,2,   -999.0,9,  -999.00,9,  -999.00,9,  -999.00,9,   -999.0,9,   -999.0,9,    0.102,2,    1.626,2,   98.471,2
  09AR20141205,AU1402,    77,  1,      0,      7,2,20150108,0451,-65.9693, 120.4737,  485,    251.6,  -1.8406,  34.2845,2,-999.0000,9,    319.2,2,    319.8,2,  -999.00,9,  -999.00,9,  -999.00,9,   2213.6,2,   2313.4,6,   -0.047,2,    0.000,2,   98.777,2
  09AR20141205,AU1402,    77,  1,      0,      6,2,20150108,0451,-65.9693, 120.4737,  485,    251.5,  -1.8406,  34.2846,2,-999.0000,9,    319.2,2,   -999.0,9,  -999.00,9,  -999.00,9,  -999.00,9,   -999.0,9,   -999.0,9,   -0.046,2,    0.000,2,   98.775,2
  09AR20141205,AU1402,    77,  1,      0,      5,2,20150108,0451,-65.9693, 120.4737,  485,    350.9,  -1.8288,  34.3119,2,  34.3153,2,    317.1,2,    317.1,2,  -999.00,9,  -999.00,9,  -999.00,9,   2217.3,2,   2316.7,2,   -0.088,2,    0.000,2,   98.819,2
  09AR20141205,AU1402,    77,  1,      0,      4,2,20150108,0451,-65.9693, 120.4737,  485,    350.7,  -1.8289,  34.3117,2,-999.0000,9,    317.1,2,   -999.0,9,  -999.00,9,  -999.00,9,  -999.00,9,   -999.0,9,   -999.0,9,   -0.086,2,    0.000,2,   98.819,2
  09AR20141205,AU1402,    77,  1,      0,      3,2,20150108,0451,-65.9693, 120.4737,  485,    432.3,  -1.5817,  34.3599,2,  34.3694,2,    306.2,2,    297.3,2,  -999.00,9,  -999.00,9,  -999.00,9,   2224.8,2,   2321.9,2,   -0.086,2,    0.000,2,   98.791,2
  09AR20141205,AU1402,    77,  1,      0,      2,2,20150108,0451,-65.9693, 120.4737,  485,    482.2,  -0.2664,  34.5389,2,-999.0000,9,    248.0,2,   -999.0,9,  -999.00,9,  -999.00,9,  -999.00,9,   -999.0,9,   -999.0,9,   -0.089,2,    0.000,2,   97.390,2
  09AR20141205,AU1402,    77,  1,      0,      1,2,20150108,0451,-65.9693, 120.4737,  485,    482.1,  -0.2675,  34.5386,2,  34.5356,2,    248.0,2,    248.0,2,  -999.00,9,  -999.00,9,  -999.00,9,   2243.3,6,   2332.2,6,   -0.082,2,    0.000,2,   97.410,2
  09AR20141205,AU1402,    78,  1,      0,     24,2,20150108,0649,-65.8470, 120.7027,  438,      7.4,  -1.3068,  33.6924,2,  33.6983,2,    340.3,2,    339.6,2,  -999.00,9,    27.98,2,     1.93,3,   2163.1,2,   2276.3,2,   -0.029,2,  192.300,2,   96.604,2
  09AR20141205,AU1402,    78,  1,      0,     23,2,20150108,0649,-65.8470, 120.7027,  438,      7.4,  -1.3334,  33.6931,2,-999.0000,9,    340.3,2,   -999.0,9,  -999.00,9,  -999.00,9,  -999.00,9,   -999.0,9,   -999.0,9,   -0.034,2,  191.700,2,   96.585,2
  09AR20141205,AU1402,    78,  1,      0,     22,2,20150108,0649,-65.8470, 120.7027,  438,      7.4,  -1.3900,  33.6976,2,-999.0000,9,    340.3,2,   -999.0,9,  -999.00,9,  -999.00,9,  -999.00,9,   -999.0,9,   -999.0,9,   -0.026,2,  193.500,2,   96.551,2
  09AR20141205,AU1402,    78,  1,      0,     21,2,20150108,0649,-65.8470, 120.7027,  438,      7.4,  -1.4198,  33.7072,2,-999.0000,9,    340.3,2,   -999.0,9,  -999.00,9,  -999.00,9,  -999.00,9,   -999.0,9,   -999.0,9,   -0.027,2,  202.500,2,   96.553,2
  09AR20141205,AU1402,    78,  1,      0,     20,2,20150108,0649,-65.8470, 120.7027,  438,     31.2,  -1.7177,  33.7569,2,-999.0000,9,    337.2,2,    335.0,2,  -999.00,9,    28.34,2,     1.96,3,   2170.0,2,   2280.6,2,    0.192,2,   45.830,2,   96.350,2
  09AR20141205,AU1402,    78,  1,      0,     19,2,20150108,0649,-65.8470, 120.7027,  438,     31.2,  -1.7192,  33.7570,2,-999.0000,9,    337.2,2,   -999.0,9,  -999.00,9,  -999.00,9,  -999.00,9,   -999.0,9,   -999.0,9,    0.160,2,   46.360,2,   96.405,2
  09AR20141205,AU1402,    78,  1,      0,     18,2,20150108,0649,-65.8470, 120.7027,  438,     46.2,  -1.7569,  34.0033,2,  33.9855,2,    331.3,2,    322.4,2,  -999.00,9,    29.24,2,     2.03,3,   2188.6,2,   2296.5,2,    0.267,2,   22.330,2,   96.984,2
  09AR20141205,AU1402,    78,  1,      0,     17,2,20150108,0649,-65.8470, 120.7027,  438,     46.2,  -1.7607,  34.0122,2,-999.0000,9,    331.3,2,   -999.0,9,  -999.00,9,  -999.00,9,  -999.00,9,   -999.0,9,   -999.0,9,    0.257,2,   23.160,2,   96.991,2
  09AR20141205,AU1402,    78,  1,      0,     16,2,20150108,0649,-65.8470, 120.7027,  438,     46.0,  -1.7621,  34.0145,2,-999.0000,9,    331.3,2,   -999.0,9,  -999.00,9,  -999.00,9,  -999.00,9,   -999.0,9,   -999.0,9,    0.250,2,   26.680,2,   97.012,2
  09AR20141205,AU1402,    78,  1,      0,     15,2,20150108,0649,-65.8470, 120.7027,  438,     91.8,  -1.7470,  34.2140,2,  34.2137,2,    323.3,2,    325.7,2,  -999.00,9,  -999.00,9,  -999.00,9,   2208.3,2,   2311.6,2,    0.256,2,    5.945,2,   98.315,2
  09AR20141205,AU1402,    78,  1,      0,     14,2,20150108,0649,-65.8470, 120.7027,  438,     91.8,  -1.7494,  34.2154,2,-999.0000,9,    323.3,2,   -999.0,9,  -999.00,9,  -999.00,9,  -999.00,9,   -999.0,9,   -999.0,9,    0.254,2,    5.897,2,   98.355,2
  09AR20141205,AU1402,    78,  1,      0,     13,2,20150108,0649,-65.8470, 120.7027,  438,     91.8,  -1.7466,  34.2147,2,-999.0000,9,    323.3,2,   -999.0,9,  -999.00,9,  -999.00,9,  -999.00,9,   -999.0,9,   -999.0,9,    0.278,2,    5.793,2,   98.319,2
  09AR20141205,AU1402,    78,  1,      0,     12,2,20150108,0649,-65.8470, 120.7027,  438,     91.7,  -1.7466,  34.2146,2,-999.0000,9,    323.3,2,   -999.0,9,  -999.00,9,  -999.00,9,  -999.00,9,   -999.0,9,   -999.0,9,    0.255,2,    5.732,2,   98.288,2
  09AR20141205,AU1402,    78,  1,      0,     11,2,20150108,0649,-65.8470, 120.7027,  438,    121.8,  -1.8407,  34.2324,2,  34.2301,2,    334.5,2,    313.2,2,  -999.00,9,    30.41,2,     2.05,3,   2209.9,6,   2311.3,6,    0.032,2,    1.864,2,   98.709,2
  09AR20141205,AU1402,    78,  1,      0,     10,2,20150108,0649,-65.8470, 120.7027,  438,    121.8,  -1.8416,  34.2324,2,-999.0000,9,    334.5,2,   -999.0,9,  -999.00,9,  -999.00,9,  -999.00,9,   -999.0,9,   -999.0,9,    0.035,2,    1.858,2,   98.688,2
  09AR20141205,AU1402,    78,  1,      0,      9,2,20150108,0649,-65.8470, 120.7027,  438,    121.7,  -1.8426,  34.2320,2,-999.0000,9,    334.5,2,   -999.0,9,  -999.00,9,  -999.00,9,  -999.00,9,   -999.0,9,   -999.0,9,    0.056,2,    1.850,2,   98.678,2
  09AR20141205,AU1402,    78,  1,      0,      8,2,20150108,0649,-65.8470, 120.7027,  438,    121.6,  -1.8413,  34.2320,2,-999.0000,9,    334.5,2,   -999.0,9,  -999.00,9,  -999.00,9,  -999.00,9,   -999.0,9,   -999.0,9,    0.041,2,    1.843,2,   98.697,2
  09AR20141205,AU1402,    78,  1,      0,      7,2,20150108,0649,-65.8470, 120.7027,  438,    201.1,  -1.8398,  34.2693,2,  34.2683,2,    315.3,2,    314.6,2,  -999.00,9,    30.42,2,     2.01,3,   2213.1,2,   2313.6,6,   -0.047,2,    0.089,2,   98.813,2
  09AR20141205,AU1402,    78,  1,      0,      6,2,20150108,0649,-65.8470, 120.7027,  438,    351.7,  -1.7859,  34.3393,2,-999.0000,9,    316.5,2,   -999.0,9,  -999.00,9,  -999.00,9,  -999.00,9,   -999.0,9,   -999.0,9,   -0.094,2,    0.000,2,   98.876,2
  09AR20141205,AU1402,    78,  1,      0,      5,2,20150108,0649,-65.8470, 120.7027,  438,    351.7,  -1.7857,  34.3391,2,  34.3437,2,    316.5,2,    314.2,2,  -999.00,9,  -999.00,9,  -999.00,9,   2219.4,2,   2319.8,2,   -0.096,2,    0.000,2,   98.869,2
  09AR20141205,AU1402,    78,  1,      0,      4,2,20150108,0649,-65.8470, 120.7027,  438,    383.2,  -1.3861,  34.3858,2,-999.0000,9,    290.6,2,   -999.0,9,  -999.00,9,  -999.00,9,  -999.00,9,   -999.0,9,   -999.0,9,   -0.092,2,    0.000,2,   98.802,2
  09AR20141205,AU1402,    78,  1,      0,      3,2,20150108,0649,-65.8470, 120.7027,  438,    383.2,  -1.4024,  34.3850,2,  34.3827,2,    290.6,2,    297.0,2,  -999.00,9,  -999.00,9,  -999.00,9,   2226.1,2,   2322.3,2,   -0.095,2,    0.000,2,   98.815,2
  09AR20141205,AU1402,    78,  1,      0,      2,2,20150108,0649,-65.8470, 120.7027,  438,    438.3,   0.0692,  34.5869,2,-999.0000,9,    235.4,2,   -999.0,9,  -999.00,9,  -999.00,9,  -999.00,9,   -999.0,9,   -999.0,9,   -0.084,2,    0.000,2,   97.947,2
  09AR20141205,AU1402,    78,  1,      0,      1,2,20150108,0649,-65.8470, 120.7027,  438,    438.2,   0.0706,  34.5873,2,  34.5858,2,    235.4,2,    234.2,2,  -999.00,9,    31.86,2,     2.20,3,   2248.6,2,   2339.0,2,   -0.084,2,    0.000,2,   97.942,2