BOTTLE,20210329PRINUNIVRMK
EXPOCODE,SECT_ID,STNNBR,CASTNO,SAMPNO,BTLNBR,BTLNBR_FLAG_W,DATE,TIME,LATITUDE,LONGITUDE,DEPTH,CTDPRS,CTDTMP,CTDSAL,CTDSAL_FLAG_W,SALNTY,SALNTY_FLAG_W,CTDOXY,CTDOXY_FLAG_W,OXYGEN,OXYGEN_FLAG_W,SILCAT,SILCAT_FLAG_W,NITRAT,NITRAT_FLAG_W,PHSPHT,PHSPHT_FLAG_W,TCARBN,TCARBN_FLAG_W,ALKALI,ALKALI_FLAG_W,CTDFLUOR,CTDFLUOR_FLAG_W,CTDPAR,CTDPAR_FLAG_W,CTDXMISS,CTDXMISS_FLAG_W
,,,,,,,,,,,METERS,DBAR,ITS-90,PSS-78,,PSS-78,,UMOL/KG,,UMOL/KG,,UMOL/KG,,UMOL/KG,,UMOL/KG,,UMOL/KG,,UMOL/KG,,MG/M^3,,UEINSTEIN/M^2*SEC,,%TRANS,
  09AR20141205,AU1402,   136,  1,      0,     24,2,20150119,0235,-64.5502, 139.8498, 3054,      8.0,   0.7352,  33.8128,2,  33.8132,2,    359.7,2,    359.8,2,    24.10,2,    22.33,2,     1.30,3,   2136.1,6,   2289.2,6,    4.204,2,   37.590,2,   83.620,2
  09AR20141205,AU1402,   136,  1,      0,     23,2,20150119,0235,-64.5502, 139.8498, 3054,      7.9,   0.7332,  33.8129,2,-999.0000,9,    359.7,2,   -999.0,9,  -999.00,9,  -999.00,9,  -999.00,9,   -999.0,9,   -999.0,9,    4.473,2,   38.150,2,   83.559,2
  09AR20141205,AU1402,   136,  1,      0,     22,2,20150119,0235,-64.5502, 139.8498, 3054,      7.8,   0.7332,  33.8130,2,-999.0000,9,    359.7,2,   -999.0,9,  -999.00,9,  -999.00,9,  -999.00,9,   -999.0,9,   -999.0,9,    4.574,2,   40.630,2,   83.603,2
  09AR20141205,AU1402,   136,  1,      0,     21,2,20150119,0235,-64.5502, 139.8498, 3054,     40.2,  -1.1144,  33.9907,2,  33.9782,2,    350.6,2,    332.0,2,    44.80,2,    27.41,2,     1.98,3,   2180.2,2,   2298.1,2,    6.661,2,    0.135,2,   87.805,2
  09AR20141205,AU1402,   136,  1,      0,     20,2,20150119,0235,-64.5502, 139.8498, 3054,     65.6,  -1.7655,  34.1666,2,-999.0000,9,    300.8,2,    299.7,2,    50.60,2,    30.75,2,     2.09,3,   2208.8,2,   2302.5,2,    0.904,2,    0.000,2,   97.562,2
  09AR20141205,AU1402,   136,  1,      0,     19,2,20150119,0235,-64.5502, 139.8498, 3054,    121.6,  -1.8616,  34.3193,2,  34.3169,2,    318.0,2,    319.8,2,    57.50,2,    30.16,2,     1.98,3,   2216.5,2,   2318.4,2,    0.113,2,    0.000,2,   98.894,2
  09AR20141205,AU1402,   136,  1,      0,     18,2,20150119,0235,-64.5502, 139.8498, 3054,    251.8,   0.4905,  34.5702,2,  34.5736,2,    234.6,2,    220.0,2,    79.50,2,    32.49,2,     2.19,3,   2247.0,2,   2331.9,6,   -0.074,2,    0.000,2,   99.108,2
  09AR20141205,AU1402,   136,  1,      0,     17,2,20150119,0235,-64.5502, 139.8498, 3054,    384.6,   1.4164,  34.6956,2,-999.0000,9,    196.7,2,    196.8,2,    86.70,2,    31.89,2,     2.15,3,   2253.3,2,   2341.6,2,   -0.081,2,    0.000,2,   99.211,2
  09AR20141205,AU1402,   136,  1,      0,     16,2,20150119,0235,-64.5502, 139.8498, 3054,    451.4,   1.1997,  34.6838,2,  34.6823,2,    205.0,2,    203.1,2,  -999.00,9,  -999.00,9,  -999.00,9,   2251.1,2,   2340.9,6,   -0.079,2,    0.000,2,   99.196,2
  09AR20141205,AU1402,   136,  1,      0,     15,2,20150119,0235,-64.5502, 139.8498, 3054,    625.5,   1.3093,  34.7173,2,-999.0000,9,    199.4,2,    200.9,2,    92.80,2,    31.16,2,     2.11,3,   2252.4,2,   2347.6,2,   -0.079,2,    0.000,2,   99.242,2
  09AR20141205,AU1402,   136,  1,      0,     14,2,20150119,0235,-64.5502, 139.8498, 3054,    802.4,   1.1328,  34.7124,2,-999.0000,9,    203.7,2,    203.7,2,  -999.00,9,  -999.00,9,  -999.00,9,   -999.0,9,   -999.0,9,   -0.078,2,    0.000,2,   99.255,2
  09AR20141205,AU1402,   136,  1,      0,     13,2,20150119,0235,-64.5502, 139.8498, 3054,   1001.5,   0.8828,  34.7002,2,  34.6994,2,    206.0,2,    206.6,2,   101.60,2,    31.87,2,     2.15,3,   -999.0,9,   -999.0,9,   -0.083,2,    0.000,2,   99.253,2
  09AR20141205,AU1402,   136,  1,      0,     12,2,20150119,0235,-64.5502, 139.8498, 3054,   1202.4,   0.8027,  34.7039,2,-999.0000,9,    207.1,2,    207.0,2,  -999.00,9,  -999.00,9,  -999.00,9,   -999.0,9,   -999.0,9,   -0.081,2,    0.000,2,   99.269,2
  09AR20141205,AU1402,   136,  1,      0,     11,2,20150119,0235,-64.5502, 139.8498, 3054,   1402.9,   0.6319,  34.6954,2,-999.0000,9,    208.7,2,    208.9,2,   111.40,2,    32.51,2,     2.23,3,   2262.3,2,   2356.7,2,   -0.084,2,    0.000,2,   99.267,2
  09AR20141205,AU1402,   136,  1,      0,     10,2,20150119,0235,-64.5502, 139.8498, 3054,   1602.5,   0.4638,  34.6873,2,  34.6870,2,    211.7,2,    212.0,2,  -999.00,9,  -999.00,9,  -999.00,9,   -999.0,9,   -999.0,9,   -0.081,2,    0.000,2,   99.274,2
  09AR20141205,AU1402,   136,  1,      0,      9,2,20150119,0235,-64.5502, 139.8498, 3054,   1803.9,   0.3921,  34.6873,2,-999.0000,9,    214.4,2,    214.6,2,   117.70,2,    32.56,2,     2.23,3,   -999.0,9,   -999.0,9,   -0.083,2,    0.000,2,   99.268,2
  09AR20141205,AU1402,   136,  1,      0,      8,2,20150119,0235,-64.5502, 139.8498, 3054,   2002.2,   0.2923,  34.6835,2,-999.0000,9,    217.4,2,    217.2,2,  -999.00,9,  -999.00,9,  -999.00,9,   -999.0,9,   -999.0,9,   -0.084,2,    0.000,2,   99.276,2
  09AR20141205,AU1402,   136,  1,      0,      7,2,20150119,0235,-64.5502, 139.8498, 3054,   2202.1,   0.1820,  34.6785,2,  34.6774,2,    220.8,2,    220.7,2,  -999.00,9,  -999.00,9,  -999.00,9,   -999.0,9,   -999.0,9,   -0.079,2,    0.000,2,   99.261,2
  09AR20141205,AU1402,   136,  1,      0,      6,2,20150119,0235,-64.5502, 139.8498, 3054,   2403.0,   0.0871,  34.6743,2,-999.0000,9,    224.6,2,   -999.0,9,  -999.00,9,    32.15,2,     2.21,3,   -999.0,9,   2354.8,2,   -0.093,2,    0.000,2,   99.242,2
  09AR20141205,AU1402,   136,  1,      0,      5,2,20150119,0235,-64.5502, 139.8498, 3054,   2602.5,  -0.0182,  34.6696,2,-999.0000,9,    228.7,2,    228.6,2,  -999.00,9,  -999.00,9,  -999.00,9,   -999.0,9,   -999.0,9,   -0.088,2,    0.000,2,   99.230,2
  09AR20141205,AU1402,   136,  1,      0,      4,2,20150119,0235,-64.5502, 139.8498, 3054,   2801.9,  -0.1272,  34.6635,2,-999.0000,9,    233.0,2,    232.8,2,   114.90,2,    32.35,2,     2.24,3,   -999.0,9,   -999.0,9,   -0.089,2,    0.000,2,   99.190,2
  09AR20141205,AU1402,   136,  1,      0,      3,2,20150119,0235,-64.5502, 139.8498, 3054,   2903.6,  -0.1903,  34.6587,2,-999.0000,9,    235.7,2,    235.8,2,  -999.00,9,  -999.00,9,  -999.00,9,   -999.0,9,   -999.0,9,   -0.086,2,    0.000,2,   99.119,2
  09AR20141205,AU1402,   136,  1,      0,      2,2,20150119,0235,-64.5502, 139.8498, 3054,   3003.1,  -0.2533,  34.6519,2,  34.6535,2,    238.4,2,    239.0,2,  -999.00,9,  -999.00,9,  -999.00,9,   -999.0,9,   -999.0,9,   -0.083,2,    0.000,2,   99.045,2
  09AR20141205,AU1402,   136,  1,      0,      1,2,20150119,0235,-64.5502, 139.8498, 3054,   3091.4,  -0.2960,  34.6467,2,  34.6487,2,    241.3,2,    241.6,2,   105.60,2,    32.03,2,     2.24,3,   2255.4,2,   2349.6,2,   -0.085,2,    0.000,2,   98.957,2
  09AR20141205,AU1402,   137,  1,      0,     24,2,20150119,0925,-64.2078, 139.8198, 3508,     11.7,   1.2108,  33.8558,2,  33.8567,2,    348.3,2,    345.3,2,    18.80,2,    23.70,2,     1.43,3,   2144.8,2,   2288.5,2,    6.267,2,    0.000,2,   87.991,2
  09AR20141205,AU1402,   137,  1,      0,     23,2,20150119,0925,-64.2078, 139.8198, 3508,     11.5,   1.2118,  33.8563,2,-999.0000,9,    348.3,2,   -999.0,9,  -999.00,9,  -999.00,9,  -999.00,9,   -999.0,9,   -999.0,9,    6.197,2,    0.000,2,   87.926,2
  09AR20141205,AU1402,   137,  1,      0,     22,2,20150119,0925,-64.2078, 139.8198, 3508,     11.4,   1.2092,  33.8564,2,-999.0000,9,    348.3,2,   -999.0,9,  -999.00,9,  -999.00,9,  -999.00,9,   -999.0,9,   -999.0,9,    6.275,2,    0.000,2,   87.890,2
  09AR20141205,AU1402,   137,  1,      0,     21,2,20150119,0925,-64.2078, 139.8198, 3508,     43.4,   1.0540,  33.8644,2,-999.0000,9,    346.9,2,    346.7,2,    20.20,2,    23.78,2,     1.48,3,   2147.0,2,   2288.5,2,    6.689,2,    0.000,2,   87.705,2
  09AR20141205,AU1402,   137,  1,      0,     20,2,20150119,0925,-64.2078, 139.8198, 3508,     88.4,  -1.7027,  34.1522,2,  34.1479,2,    303.6,2,    303.2,2,    49.40,2,    31.08,2,     2.13,3,   2208.3,2,   2304.0,2,    0.125,2,    0.000,2,   98.538,2
  09AR20141205,AU1402,   137,  1,      0,     19,2,20150119,0925,-64.2078, 139.8198, 3508,    149.9,  -0.5231,  34.3994,2,-999.0000,9,    267.1,2,    259.1,2,  -999.00,9,  -999.00,9,  -999.00,9,   2233.9,2,   2322.6,2,   -0.051,2,    0.000,2,   98.911,2
  09AR20141205,AU1402,   137,  1,      0,     18,2,20150119,0925,-64.2078, 139.8198, 3508,    216.2,   0.2070,  34.5178,2,-999.0000,9,    229.9,2,    231.5,2,    76.20,2,    32.59,2,     2.25,3,   2244.5,2,   2330.6,2,   -0.084,2,    0.000,2,   98.957,2
  09AR20141205,AU1402,   137,  1,      0,     17,2,20150119,0925,-64.2078, 139.8198, 3508,    322.6,   0.6985,  34.6032,2,-999.0000,9,    219.3,2,    216.8,2,  -999.00,9,  -999.00,9,  -999.00,9,   2249.4,2,   2336.4,2,   -0.077,2,    0.000,2,   99.013,2
  09AR20141205,AU1402,   137,  1,      0,     16,2,20150119,0925,-64.2078, 139.8198, 3508,    441.3,   1.3256,  34.6943,2,  34.6915,2,    199.9,2,    199.8,2,    87.30,2,    31.61,2,     2.20,3,   2253.3,2,   2343.3,2,   -0.075,2,    0.000,2,   99.078,2
  09AR20141205,AU1402,   137,  1,      0,     15,2,20150119,0925,-64.2078, 139.8198, 3508,    560.6,   1.2367,  34.7002,2,-999.0000,9,    200.7,2,    202.6,2,  -999.00,9,  -999.00,9,  -999.00,9,   2252.5,2,   2346.5,6,   -0.079,2,    0.000,2,   99.109,2
  09AR20141205,AU1402,   137,  1,      0,     14,2,20150119,0925,-64.2078, 139.8198, 3508,    777.9,   1.1748,  34.7124,2,-999.0000,9,    202.7,2,    203.5,2,  -999.00,9,  -999.00,9,  -999.00,9,   2252.9,2,   2349.8,2,   -0.080,2,    0.000,2,   99.127,2
  09AR20141205,AU1402,   137,  1,      0,     13,2,20150119,0925,-64.2078, 139.8198, 3508,    907.2,   1.1307,  34.7174,2,  34.7188,2,    203.8,2,    203.5,2,    99.10,2,    31.48,2,     2.19,3,   2254.1,2,   2353.0,2,   -0.080,2,    0.000,2,   99.154,2
  09AR20141205,AU1402,   137,  1,      0,     12,2,20150119,0925,-64.2078, 139.8198, 3508,   1196.2,   0.9160,  34.7114,2,-999.0000,9,    205.8,2,    205.7,2,  -999.00,9,  -999.00,9,  -999.00,9,   2259.1,2,   2357.6,2,   -0.082,2,    0.000,2,   99.174,2
  09AR20141205,AU1402,   137,  1,      0,     11,2,20150119,0925,-64.2078, 139.8198, 3508,   1499.4,   0.6742,  34.6983,2,  34.6983,2,    208.8,2,    209.0,2,   112.50,2,    32.10,2,     2.26,3,   2260.6,2,   2357.0,2,   -0.084,2,    0.000,2,   99.198,2
  09AR20141205,AU1402,   137,  1,      0,     10,2,20150119,0925,-64.2078, 139.8198, 3508,   1801.5,   0.4711,  34.6887,2,-999.0000,9,    212.7,2,    212.9,2,  -999.00,9,  -999.00,9,  -999.00,9,   2261.1,2,   2356.7,2,   -0.087,2,    0.000,2,   99.199,2
  09AR20141205,AU1402,   137,  1,      0,      9,2,20150119,0925,-64.2078, 139.8198, 3508,   2005.8,   0.3665,  34.6845,2,-999.0000,9,    215.1,2,    215.6,2,   116.30,2,    32.44,2,     2.28,3,   2260.2,2,   2357.9,2,   -0.086,2,    0.000,2,   99.193,2
  09AR20141205,AU1402,   137,  1,      0,      8,2,20150119,0925,-64.2078, 139.8198, 3508,   2203.3,   0.2575,  34.6786,2,-999.0000,9,    219.1,2,    219.1,2,  -999.00,9,  -999.00,9,  -999.00,9,   2260.0,2,   2356.1,2,   -0.089,2,    0.000,2,   99.172,2
  09AR20141205,AU1402,   137,  1,      0,      7,2,20150119,0925,-64.2078, 139.8198, 3508,   2398.8,   0.2157,  34.6825,2,  34.6822,2,    222.5,2,    220.1,2,   121.70,2,    32.52,2,     2.30,3,   2260.5,2,   2358.4,2,   -0.082,2,    0.000,2,   99.185,2
  09AR20141205,AU1402,   137,  1,      0,      6,2,20150119,0925,-64.2078, 139.8198, 3508,   2604.7,   0.1388,  34.6775,2,-999.0000,9,    223.6,2,    222.9,2,  -999.00,9,  -999.00,9,  -999.00,9,   2259.5,2,   2359.2,2,   -0.089,2,    0.000,2,   99.182,2
  09AR20141205,AU1402,   137,  1,      0,      5,2,20150119,0925,-64.2078, 139.8198, 3508,   2804.6,   0.0555,  34.6725,2,  34.6685,2,    226.7,2,    226.3,2,   119.50,2,    32.30,2,     2.29,3,   2259.4,2,   2355.6,6,   -0.088,2,    0.000,2,   99.165,2
  09AR20141205,AU1402,   137,  1,      0,      4,2,20150119,0925,-64.2078, 139.8198, 3508,   2993.2,  -0.0301,  34.6673,2,-999.0000,9,    230.5,2,    229.8,2,  -999.00,9,  -999.00,9,  -999.00,9,   2259.2,2,   2356.2,2,   -0.087,2,    0.000,2,   99.158,2
  09AR20141205,AU1402,   137,  1,      0,      3,2,20150119,0925,-64.2078, 139.8198, 3508,   3195.0,  -0.1002,  34.6623,2,  34.6626,2,    233.7,2,    233.1,2,   118.20,2,    32.43,2,     2.26,3,   2257.9,2,   2352.2,2,   -0.084,2,    0.000,2,   99.125,2
  09AR20141205,AU1402,   137,  1,      0,      2,2,20150119,0925,-64.2078, 139.8198, 3508,   3404.6,  -0.2287,  34.6499,2,  34.6496,2,    239.6,2,    238.8,2,  -999.00,9,  -999.00,9,  -999.00,9,   2257.4,6,   2352.4,6,   -0.083,2,    0.000,2,   98.954,2
  09AR20141205,AU1402,   137,  1,      0,      1,2,20150119,0925,-64.2078, 139.8198, 3508,   3527.5,  -0.3598,  34.6330,2,  34.6325,2,    246.5,2,    246.9,2,   102.50,2,    31.73,2,     2.23,3,   2254.7,2,   2349.6,2,   -0.090,2,    0.000,2,   98.571,2
  09AR20141205,AU1402,   138,  1,      0,     24,2,20150119,1637,-63.8662, 139.8617, 3702,     19.7,   1.0238,  33.8542,2,-999.0000,9,    344.5,2,    344.9,2,    18.70,2,    24.33,2,     1.49,3,   2147.4,2,   2289.6,2,    4.493,2,    3.659,2,   89.220,2
  09AR20141205,AU1402,   138,  1,      0,     23,2,20150119,1637,-63.8662, 139.8617, 3702,     20.4,   1.0231,  33.8542,2,-999.0000,9,    344.5,2,   -999.0,9,  -999.00,9,  -999.00,9,  -999.00,9,   -999.0,9,   -999.0,9,    4.603,2,    3.508,2,   89.240,2
  09AR20141205,AU1402,   138,  1,      0,     22,2,20150119,1637,-63.8662, 139.8617, 3702,     21.4,   1.0233,  33.8541,2,-999.0000,9,    344.8,2,   -999.0,9,  -999.00,9,  -999.00,9,  -999.00,9,   -999.0,9,   -999.0,9,    4.550,2,    3.563,2,   89.264,2
  09AR20141205,AU1402,   138,  1,      0,     21,2,20150119,1637,-63.8662, 139.8617, 3702,     46.2,   1.0091,  33.8550,2,-999.0000,9,    344.3,2,    344.8,2,    18.90,2,    24.36,2,     1.49,3,   2148.0,2,   2290.6,2,    4.927,2,    0.218,2,   89.527,2
  09AR20141205,AU1402,   138,  1,      0,     20,2,20150119,1637,-63.8662, 139.8617, 3702,     94.4,  -1.6361,  34.1716,2,-999.0000,9,    301.2,2,    300.8,2,    50.60,2,    31.33,2,     2.14,3,   2207.3,2,   2304.8,2,    0.098,2,    0.000,2,   98.394,2
  09AR20141205,AU1402,   138,  1,      0,     19,2,20150119,1637,-63.8662, 139.8617, 3702,    154.0,   0.3619,  34.4723,2,  34.4681,2,    227.4,2,    227.9,2,    71.30,2,    33.35,2,     2.23,3,   -999.0,9,   -999.0,9,   -0.045,2,    0.000,2,   98.777,2
  09AR20141205,AU1402,   138,  1,      0,     18,2,20150119,1637,-63.8662, 139.8617, 3702,    230.8,   1.3782,  34.6285,2,-999.0000,9,    193.3,2,    194.0,2,  -999.00,9,  -999.00,9,  -999.00,9,   2254.4,2,   2339.2,6,   -0.065,2,    0.000,2,   98.852,2
  09AR20141205,AU1402,   138,  1,      0,     17,2,20150119,1637,-63.8662, 139.8617, 3702,    308.6,   1.3349,  34.6517,2,  34.6511,2,    192.6,2,    195.9,2,  -999.00,9,  -999.00,9,  -999.00,9,   2252.8,2,   2341.0,2,   -0.071,2,    0.000,2,   98.965,2
  09AR20141205,AU1402,   138,  1,      0,     16,2,20150119,1637,-63.8662, 139.8617, 3702,    430.7,   1.4354,  34.6897,2,-999.0000,9,    196.2,2,    195.5,2,  -999.00,9,  -999.00,9,  -999.00,9,   2252.6,2,   2343.0,2,   -0.076,2,    0.000,2,   99.060,2
  09AR20141205,AU1402,   138,  1,      0,     15,2,20150119,1637,-63.8662, 139.8617, 3702,    547.4,   1.4999,  34.7147,2,  34.7138,2,    201.3,2,    195.6,2,    88.20,2,    31.71,2,     2.12,3,   -999.0,9,   -999.0,9,   -0.076,2,    0.000,2,   99.103,2
  09AR20141205,AU1402,   138,  1,      0,     14,2,20150119,1637,-63.8662, 139.8617, 3702,    662.5,   1.2440,  34.6998,2,  34.6999,2,    198.4,2,    202.8,2,  -999.00,9,  -999.00,9,  -999.00,9,   -999.0,9,   -999.0,9,   -0.080,2,    0.000,2,   99.071,2
  09AR20141205,AU1402,   138,  1,      0,     13,2,20150119,1637,-63.8662, 139.8617, 3702,    862.4,   1.2305,  34.7193,2,-999.0000,9,    202.3,2,    202.4,2,  -999.00,9,  -999.00,9,  -999.00,9,   -999.0,9,   -999.0,9,   -0.082,2,    0.000,2,   99.142,2
  09AR20141205,AU1402,   138,  1,      0,     12,2,20150119,1637,-63.8662, 139.8617, 3702,   1063.8,   1.0862,  34.7168,2,  34.7175,2,    203.9,2,    204.0,2,   100.80,2,    31.73,2,     2.13,3,   -999.0,9,   -999.0,9,   -0.078,2,    0.000,2,   99.179,2
  09AR20141205,AU1402,   138,  1,      0,     11,2,20150119,1637,-63.8662, 139.8617, 3702,   1260.0,   0.9881,  34.7152,2,-999.0000,9,    204.2,2,    204.8,2,  -999.00,9,  -999.00,9,  -999.00,9,   2255.6,2,   2354.4,2,   -0.083,2,    0.000,2,   99.190,2
  09AR20141205,AU1402,   138,  1,      0,     10,2,20150119,1637,-63.8662, 139.8617, 3702,   1502.0,   0.7961,  34.7061,2,  34.7055,2,    207.2,2,    207.5,2,   110.10,2,    32.12,2,     2.15,3,   -999.0,9,   -999.0,9,   -0.083,2,    0.000,2,   99.192,2
  09AR20141205,AU1402,   138,  1,      0,      9,2,20150119,1637,-63.8662, 139.8617, 3702,   1804.6,   0.5809,  34.6938,2,-999.0000,9,    210.7,2,    211.0,2,  -999.00,9,  -999.00,9,  -999.00,9,   -999.0,9,   -999.0,9,   -0.085,2,    0.000,2,   99.193,2
  09AR20141205,AU1402,   138,  1,      0,      8,2,20150119,1637,-63.8662, 139.8617, 3702,   2104.9,   0.4260,  34.6873,2,  34.6870,2,    214.8,2,    214.4,2,   117.60,2,    32.56,2,     2.23,3,   -999.0,9,   -999.0,9,   -0.086,2,    0.000,2,   99.220,2
  09AR20141205,AU1402,   138,  1,      0,      7,2,20150119,1637,-63.8662, 139.8617, 3702,   2393.8,   0.2792,  34.6821,2,-999.0000,9,    218.6,2,    218.7,2,  -999.00,9,  -999.00,9,  -999.00,9,   2260.2,2,   2357.8,2,   -0.082,2,    0.000,2,   99.200,2
  09AR20141205,AU1402,   138,  1,      0,      6,2,20150119,1637,-63.8662, 139.8617, 3702,   2693.0,   0.1648,  34.6779,2,  34.6782,2,    224.4,2,    222.4,2,   119.50,2,    32.66,2,     2.21,3,   -999.0,9,   -999.0,9,   -0.086,2,    0.000,2,   99.203,2
  09AR20141205,AU1402,   138,  1,      0,      5,2,20150119,1637,-63.8662, 139.8617, 3702,   2988.9,   0.0327,  34.6679,2,-999.0000,9,    227.7,2,    228.2,2,  -999.00,9,  -999.00,9,  -999.00,9,   2259.1,2,   2350.5,2,   -0.088,2,    0.000,2,   99.168,2
  09AR20141205,AU1402,   138,  1,      0,      4,2,20150119,1637,-63.8662, 139.8617, 3702,   3185.0,  -0.0334,  34.6657,2,  34.6652,2,    231.5,2,    230.7,2,   116.20,2,    32.39,2,     2.22,3,   -999.0,9,   -999.0,9,   -0.084,2,    0.000,2,   99.141,2
  09AR20141205,AU1402,   138,  1,      0,      3,2,20150119,1637,-63.8662, 139.8617, 3702,   3388.4,  -0.1243,  34.6583,2,  34.6573,2,    235.7,2,    234.9,2,  -999.00,9,  -999.00,9,  -999.00,9,   -999.0,9,   -999.0,9,   -0.085,2,    0.000,2,   99.128,2
  09AR20141205,AU1402,   138,  1,      0,      2,2,20150119,1637,-63.8662, 139.8617, 3702,   3587.7,  -0.2290,  34.6476,2,  34.6465,2,    240.3,2,    240.4,2,  -999.00,9,  -999.00,9,  -999.00,9,   2255.5,2,   2352.0,2,   -0.086,2,    0.000,2,   99.003,2
  09AR20141205,AU1402,   138,  1,      0,      1,2,20150119,1637,-63.8662, 139.8617, 3702,   3740.1,  -0.3103,  34.6370,2,  34.6359,2,    245.6,2,    245.1,2,   103.70,2,    32.02,2,     2.20,3,   2252.8,6,   2347.5,6,   -0.084,2,    0.000,2,   98.864,2