BOTTLE,20210329PRINUNIVRMK
EXPOCODE,SECT_ID,STNNBR,CASTNO,SAMPNO,BTLNBR,BTLNBR_FLAG_W,DATE,TIME,LATITUDE,LONGITUDE,DEPTH,CTDPRS,CTDTMP,CTDSAL,CTDSAL_FLAG_W,SALNTY,SALNTY_FLAG_W,CTDOXY,CTDOXY_FLAG_W,OXYGEN,OXYGEN_FLAG_W,SILCAT,SILCAT_FLAG_W,NITRAT,NITRAT_FLAG_W,PHSPHT,PHSPHT_FLAG_W,TCARBN,TCARBN_FLAG_W,ALKALI,ALKALI_FLAG_W,CTDFLUOR,CTDFLUOR_FLAG_W,CTDPAR,CTDPAR_FLAG_W,CTDXMISS,CTDXMISS_FLAG_W
,,,,,,,,,,,METERS,DBAR,ITS-90,PSS-78,,PSS-78,,UMOL/KG,,UMOL/KG,,UMOL/KG,,UMOL/KG,,UMOL/KG,,UMOL/KG,,UMOL/KG,,MG/M^3,,UEINSTEIN/M^2*SEC,,%TRANS,
  09AR20141205,AU1402,   109,  1,      0,     24,2,20150114,2252,-66.5638, 144.9710,  452,      7.7,  -0.3556,  34.2402,2,-999.0000,9,    359.7,2,   -999.0,9,  -999.00,9,  -999.00,9,  -999.00,9,   -999.0,9,   -999.0,9,    2.014,2,  107.700,2,   87.094,2
  09AR20141205,AU1402,   109,  1,      0,     23,2,20150114,2252,-66.5638, 144.9710,  452,      7.6,  -0.3565,  34.2405,2,-999.0000,9,    359.7,2,   -999.0,9,  -999.00,9,  -999.00,9,  -999.00,9,   -999.0,9,   -999.0,9,    2.121,2,  109.900,2,   87.003,2
  09AR20141205,AU1402,   109,  1,      0,     22,2,20150114,2252,-66.5638, 144.9710,  452,      7.6,  -0.3569,  34.2403,2,-999.0000,9,    359.7,2,   -999.0,9,  -999.00,9,  -999.00,9,  -999.00,9,   -999.0,9,   -999.0,9,    2.621,2,  108.700,2,   86.974,2
  09AR20141205,AU1402,   109,  1,      0,     21,2,20150114,2252,-66.5638, 144.9710,  452,      7.5,  -0.3558,  34.2403,2,  34.2414,2,    359.7,2,    360.0,2,  -999.00,9,    23.16,2,     1.51,3,   2167.0,2,   2320.9,2,    2.655,2,  100.200,2,   87.128,2
  09AR20141205,AU1402,   109,  1,      0,     20,2,20150114,2252,-66.5638, 144.9710,  452,      7.3,  -0.3601,  34.2410,2,-999.0000,9,    359.7,2,   -999.0,9,  -999.00,9,  -999.00,9,  -999.00,9,   -999.0,9,   -999.0,9,    4.306,2,  109.000,2,   86.942,2
  09AR20141205,AU1402,   109,  1,      0,     19,2,20150114,2252,-66.5638, 144.9710,  452,     15.5,  -0.3652,  34.2402,2,  34.2428,2,    359.3,2,    359.6,2,  -999.00,9,    23.33,2,     1.52,3,   2175.8,2,   2319.8,2,    4.960,2,   29.210,2,   86.956,2
  09AR20141205,AU1402,   109,  1,      0,     18,2,20150114,2252,-66.5638, 144.9710,  452,     15.4,  -0.3513,  34.2393,2,-999.0000,9,    359.3,2,   -999.0,9,  -999.00,9,  -999.00,9,  -999.00,9,   -999.0,9,   -999.0,9,    5.973,2,   29.410,2,   86.910,2
  09AR20141205,AU1402,   109,  1,      0,     17,2,20150114,2252,-66.5638, 144.9710,  452,     15.4,  -0.3519,  34.2393,2,-999.0000,9,    359.3,2,   -999.0,9,  -999.00,9,  -999.00,9,  -999.00,9,   -999.0,9,   -999.0,9,    5.615,2,   28.430,2,   86.947,2
  09AR20141205,AU1402,   109,  1,      0,     16,2,20150114,2252,-66.5638, 144.9710,  452,     15.3,  -0.3557,  34.2394,2,-999.0000,9,    359.3,2,   -999.0,9,  -999.00,9,  -999.00,9,  -999.00,9,   -999.0,9,   -999.0,9,    5.311,2,   27.090,2,   87.019,2
  09AR20141205,AU1402,   109,  1,      0,     15,2,20150114,2252,-66.5638, 144.9710,  452,     51.3,  -0.8855,  34.2740,2,-999.0000,9,    340.8,2,    340.3,2,  -999.00,9,    25.77,2,     1.71,3,   2184.9,6,   2321.1,6,    7.124,2,    0.053,2,   89.491,2
  09AR20141205,AU1402,   109,  1,      0,     14,2,20150114,2252,-66.5638, 144.9710,  452,     51.2,  -0.8840,  34.2732,2,-999.0000,9,    340.8,2,   -999.0,9,  -999.00,9,  -999.00,9,  -999.00,9,   -999.0,9,   -999.0,9,    7.846,2,    0.044,2,   89.622,2
  09AR20141205,AU1402,   109,  1,      0,     13,2,20150114,2252,-66.5638, 144.9710,  452,     51.1,  -0.8839,  34.2731,2,-999.0000,9,    340.8,2,   -999.0,9,  -999.00,9,  -999.00,9,  -999.00,9,   -999.0,9,   -999.0,9,    7.788,2,    0.046,2,   89.496,2
  09AR20141205,AU1402,   109,  1,      0,     12,2,20150114,2252,-66.5638, 144.9710,  452,     51.1,  -0.8840,  34.2730,2,-999.0000,9,    340.8,2,   -999.0,9,  -999.00,9,  -999.00,9,  -999.00,9,   -999.0,9,   -999.0,9,    8.513,2,    0.048,2,   89.744,2
  09AR20141205,AU1402,   109,  1,      0,     11,2,20150114,2252,-66.5638, 144.9710,  452,    101.3,  -1.6362,  34.4134,2,  34.4075,2,    312.9,2,    303.5,2,  -999.00,9,  -999.00,9,  -999.00,9,   2217.8,2,   2326.3,2,    1.036,2,    0.000,2,   96.188,2
  09AR20141205,AU1402,   109,  1,      0,     10,2,20150114,2252,-66.5638, 144.9710,  452,    100.8,  -1.6249,  34.4117,2,-999.0000,9,    314.2,2,   -999.0,9,  -999.00,9,  -999.00,9,  -999.00,9,   -999.0,9,   -999.0,9,    1.087,2,    0.000,2,   96.225,2
  09AR20141205,AU1402,   109,  1,      0,      9,2,20150114,2252,-66.5638, 144.9710,  452,    143.0,  -1.6514,  34.4446,2,  34.4453,2,    296.1,2,    296.6,2,  -999.00,9,    29.90,2,     2.06,3,   2235.3,2,   2330.3,6,    0.645,2,    0.000,2,   97.801,2
  09AR20141205,AU1402,   109,  1,      0,      8,2,20150114,2252,-66.5638, 144.9710,  452,    142.5,  -1.6441,  34.4440,2,-999.0000,9,    296.4,2,   -999.0,9,  -999.00,9,  -999.00,9,  -999.00,9,   -999.0,9,   -999.0,9,    0.455,2,    0.000,2,   97.693,2
  09AR20141205,AU1402,   109,  1,      0,      7,2,20150114,2252,-66.5638, 144.9710,  452,    225.8,  -1.6738,  34.4804,2,  34.4816,2,    295.8,2,    295.1,2,  -999.00,9,  -999.00,9,  -999.00,9,   2234.0,2,   2332.3,2,    0.075,2,    0.000,2,   98.365,2
  09AR20141205,AU1402,   109,  1,      0,      6,2,20150114,2252,-66.5638, 144.9710,  452,    226.0,  -1.6881,  34.4801,2,-999.0000,9,    295.8,2,   -999.0,9,  -999.00,9,  -999.00,9,  -999.00,9,   -999.0,9,   -999.0,9,    0.077,2,    0.000,2,   98.382,2
  09AR20141205,AU1402,   109,  1,      0,      5,2,20150114,2252,-66.5638, 144.9710,  452,    311.9,  -1.2688,  34.5368,2,-999.0000,9,    276.3,2,    276.8,2,  -999.00,9,    30.91,2,     2.10,3,   2235.6,2,   2335.6,2,    0.014,2,    0.000,2,   98.478,2
  09AR20141205,AU1402,   109,  1,      0,      4,2,20150114,2252,-66.5638, 144.9710,  452,    311.2,  -1.2718,  34.5371,2,-999.0000,9,    276.3,2,   -999.0,9,  -999.00,9,  -999.00,9,  -999.00,9,   -999.0,9,   -999.0,9,    0.012,2,    0.000,2,   98.484,2
  09AR20141205,AU1402,   109,  1,      0,      3,2,20150114,2252,-66.5638, 144.9710,  452,    379.7,  -1.8469,  34.5559,2,-999.0000,9,    299.2,2,    300.3,2,  -999.00,9,  -999.00,9,  -999.00,9,   2241.1,2,   2336.0,2,    0.005,2,    0.000,2,   98.282,2
  09AR20141205,AU1402,   109,  1,      0,      2,2,20150114,2252,-66.5638, 144.9710,  452,    376.6,  -1.7969,  34.5535,2,-999.0000,9,    298.6,2,   -999.0,9,  -999.00,9,  -999.00,9,  -999.00,9,   -999.0,9,   -999.0,9,   -0.002,2,    0.000,2,   98.285,2
  09AR20141205,AU1402,   109,  1,      0,      1,2,20150114,2252,-66.5638, 144.9710,  452,    453.7,  -1.8938,  34.5911,2,  34.5904,2,    306.0,2,    305.5,2,  -999.00,9,    30.71,2,     2.08,3,   2236.8,2,   2338.4,2,    0.004,2,    0.000,2,   98.243,2
  09AR20141205,AU1402,   110,  1,      0,     24,2,20150115,0049,-66.6383, 144.7412,  629,      7.3,  -0.6053,  34.2282,2,-999.0000,9,    356.0,2,   -999.0,9,  -999.00,9,  -999.00,9,  -999.00,9,   -999.0,9,   -999.0,9,    1.325,2,  126.700,2,   88.201,2
  09AR20141205,AU1402,   110,  1,      0,     23,2,20150115,0049,-66.6383, 144.7412,  629,      7.3,  -0.6054,  34.2280,2,-999.0000,9,    356.0,2,   -999.0,9,  -999.00,9,  -999.00,9,  -999.00,9,   -999.0,9,   -999.0,9,    1.354,2,  130.500,2,   87.783,2
  09AR20141205,AU1402,   110,  1,      0,     22,2,20150115,0049,-66.6383, 144.7412,  629,      7.3,  -0.6051,  34.2281,2,-999.0000,9,    356.0,2,   -999.0,9,  -999.00,9,  -999.00,9,  -999.00,9,   -999.0,9,   -999.0,9,    1.461,2,  131.900,2,   87.803,2
  09AR20141205,AU1402,   110,  1,      0,     21,2,20150115,0049,-66.6383, 144.7412,  629,      7.2,  -0.6076,  34.2278,2,  34.2288,2,    356.0,2,    356.6,2,  -999.00,9,  -999.00,9,  -999.00,9,   2175.8,2,   2321.1,2,    1.868,2,  140.300,2,   87.873,2
  09AR20141205,AU1402,   110,  1,      0,     20,2,20150115,0049,-66.6383, 144.7412,  629,     18.2,  -0.6893,  34.2420,2,-999.0000,9,    356.4,2,   -999.0,9,  -999.00,9,  -999.00,9,  -999.00,9,   -999.0,9,   -999.0,9,    7.409,2,   26.960,2,   87.193,2
  09AR20141205,AU1402,   110,  1,      0,     19,2,20150115,0049,-66.6383, 144.7412,  629,     18.2,  -0.6130,  34.2296,2,  34.2378,2,    356.4,2,    355.2,2,  -999.00,9,  -999.00,9,  -999.00,9,   2173.2,2,   2322.1,2,    3.421,2,   27.260,2,   87.768,2
  09AR20141205,AU1402,   110,  1,      0,     18,2,20150115,0049,-66.6383, 144.7412,  629,     30.0,  -0.8019,  34.2588,2,-999.0000,9,    354.8,2,   -999.0,9,  -999.00,9,  -999.00,9,  -999.00,9,   -999.0,9,   -999.0,9,    9.270,2,    6.068,2,   86.501,2
  09AR20141205,AU1402,   110,  1,      0,     17,2,20150115,0049,-66.6383, 144.7412,  629,     50.2,  -1.2679,  34.3268,2,-999.0000,9,    333.0,2,   -999.0,9,  -999.00,9,  -999.00,9,  -999.00,9,   -999.0,9,   -999.0,9,    7.054,2,    0.220,2,   90.088,2
  09AR20141205,AU1402,   110,  1,      0,     16,2,20150115,0049,-66.6383, 144.7412,  629,     50.1,  -1.2643,  34.3260,2,-999.0000,9,    333.0,2,   -999.0,9,  -999.00,9,  -999.00,9,  -999.00,9,   -999.0,9,   -999.0,9,    6.638,2,    0.228,2,   90.197,2
  09AR20141205,AU1402,   110,  1,      0,     15,2,20150115,0049,-66.6383, 144.7412,  629,     50.1,  -1.2602,  34.3250,2,-999.0000,9,    333.0,2,    328.6,2,  -999.00,9,  -999.00,9,  -999.00,9,   -999.0,9,   -999.0,9,    6.564,2,    0.293,2,   89.692,2
  09AR20141205,AU1402,   110,  1,      0,     14,2,20150115,0049,-66.6383, 144.7412,  629,     50.0,  -1.2535,  34.3236,2,-999.0000,9,    333.0,2,   -999.0,9,  -999.00,9,  -999.00,9,  -999.00,9,   -999.0,9,   -999.0,9,    6.144,2,    0.302,2,   89.616,2
  09AR20141205,AU1402,   110,  1,      0,     13,2,20150115,0049,-66.6383, 144.7412,  629,    100.7,  -1.6863,  34.4318,2,-999.0000,9,    299.3,2,   -999.0,9,  -999.00,9,  -999.00,9,  -999.00,9,   -999.0,9,   -999.0,9,    0.437,2,    0.000,2,   97.643,2
  09AR20141205,AU1402,   110,  1,      0,     12,2,20150115,0049,-66.6383, 144.7412,  629,    100.7,  -1.6863,  34.4318,2,-999.0000,9,    299.3,2,   -999.0,9,  -999.00,9,  -999.00,9,  -999.00,9,   -999.0,9,   -999.0,9,    0.375,2,    0.000,2,   97.664,2
  09AR20141205,AU1402,   110,  1,      0,     11,2,20150115,0049,-66.6383, 144.7412,  629,    100.6,  -1.6857,  34.4319,2,  34.4362,2,    299.3,2,    299.3,2,  -999.00,9,  -999.00,9,  -999.00,9,   -999.0,9,   -999.0,9,    0.388,2,    0.000,2,   97.544,2
  09AR20141205,AU1402,   110,  1,      0,     10,2,20150115,0049,-66.6383, 144.7412,  629,    100.6,  -1.6856,  34.4319,2,-999.0000,9,    299.3,2,   -999.0,9,  -999.00,9,  -999.00,9,  -999.00,9,   -999.0,9,   -999.0,9,    0.471,2,    0.000,2,   97.655,2
  09AR20141205,AU1402,   110,  1,      0,      9,2,20150115,0049,-66.6383, 144.7412,  629,    151.3,  -1.7831,  34.4666,2,-999.0000,9,    300.9,2,    300.2,2,  -999.00,9,  -999.00,9,  -999.00,9,   2233.4,2,   2335.8,3,    0.059,2,    0.000,2,   98.465,2
  09AR20141205,AU1402,   110,  1,      0,      8,2,20150115,0049,-66.6383, 144.7412,  629,    151.2,  -1.7755,  34.4666,2,-999.0000,9,    300.9,2,   -999.0,9,  -999.00,9,  -999.00,9,  -999.00,9,   -999.0,9,   -999.0,9,    0.072,2,    0.000,2,   98.422,2
  09AR20141205,AU1402,   110,  1,      0,      7,2,20150115,0049,-66.6383, 144.7412,  629,    201.2,  -1.8757,  34.4883,2,  34.4895,2,    303.0,2,    303.6,2,  -999.00,9,  -999.00,9,  -999.00,9,   -999.0,9,   -999.0,9,    0.045,2,    0.000,2,   98.714,2
  09AR20141205,AU1402,   110,  1,      0,      6,2,20150115,0049,-66.6383, 144.7412,  629,    201.2,  -1.8760,  34.4883,2,-999.0000,9,    303.0,2,   -999.0,9,  -999.00,9,  -999.00,9,  -999.00,9,   -999.0,9,   -999.0,9,   -0.044,2,    0.000,2,   98.733,2
  09AR20141205,AU1402,   110,  1,      0,      5,2,20150115,0049,-66.6383, 144.7412,  629,    350.5,  -1.9195,  34.5279,2,  34.5301,2,    304.6,2,    305.0,2,  -999.00,9,  -999.00,9,  -999.00,9,   2232.1,2,   2334.5,2,   -0.058,2,    0.000,2,   98.396,2
  09AR20141205,AU1402,   110,  1,      0,      4,2,20150115,0049,-66.6383, 144.7412,  629,    350.5,  -1.9196,  34.5279,2,-999.0000,9,    304.6,2,   -999.0,9,  -999.00,9,  -999.00,9,  -999.00,9,   -999.0,9,   -999.0,9,   -0.058,2,    0.000,2,   98.654,2
  09AR20141205,AU1402,   110,  1,      0,      3,2,20150115,0049,-66.6383, 144.7412,  629,    500.2,  -1.9004,  34.5685,2,-999.0000,9,    307.6,2,    307.1,2,  -999.00,9,  -999.00,9,  -999.00,9,   -999.0,9,   -999.0,9,   -0.079,2,    0.000,2,   98.750,2
  09AR20141205,AU1402,   110,  1,      0,      2,2,20150115,0049,-66.6383, 144.7412,  629,    500.1,  -1.9004,  34.5684,2,-999.0000,9,    307.6,2,   -999.0,9,  -999.00,9,  -999.00,9,  -999.00,9,   -999.0,9,   -999.0,9,   -0.077,2,    0.000,2,   98.759,2
  09AR20141205,AU1402,   110,  1,      0,      1,2,20150115,0049,-66.6383, 144.7412,  629,    628.4,  -1.8962,  34.5876,2,  34.5883,2,    308.2,2,    307.5,2,  -999.00,9,  -999.00,9,  -999.00,9,   2235.0,2,   2340.4,2,   -0.071,2,    0.000,2,   98.363,2
  09AR20141205,AU1402,   111,  1,      0,     24,2,20150115,0238,-66.6945, 144.6302,  824,      7.0,  -0.8483,  34.2546,2,-999.0000,9,    352.2,2,   -999.0,9,  -999.00,9,  -999.00,9,  -999.00,9,   -999.0,9,   -999.0,9,    6.474,2,   78.340,2,   86.802,2
  09AR20141205,AU1402,   111,  1,      0,     23,2,20150115,0238,-66.6945, 144.6302,  824,      7.0,  -0.8507,  34.2548,2,-999.0000,9,    352.2,2,   -999.0,9,  -999.00,9,  -999.00,9,  -999.00,9,   -999.0,9,   -999.0,9,    6.968,2,   76.090,2,   87.092,2
  09AR20141205,AU1402,   111,  1,      0,     22,2,20150115,0238,-66.6945, 144.6302,  824,      7.0,  -0.8550,  34.2553,2,-999.0000,9,    352.2,2,   -999.0,9,  -999.00,9,  -999.00,9,  -999.00,9,   -999.0,9,   -999.0,9,    7.271,2,   74.090,2,   87.168,2
  09AR20141205,AU1402,   111,  1,      0,     21,2,20150115,0238,-66.6945, 144.6302,  824,      6.9,  -0.8730,  34.2574,2,  34.2575,2,    352.2,2,    354.4,2,  -999.00,9,    24.31,2,     1.58,3,   2181.4,2,   2322.0,2,    6.701,2,   70.200,2,   87.094,2
  09AR20141205,AU1402,   111,  1,      0,     20,2,20150115,0238,-66.6945, 144.6302,  824,     20.3,  -0.9331,  34.2662,2,-999.0000,9,    353.1,2,   -999.0,9,  -999.00,9,  -999.00,9,  -999.00,9,   -999.0,9,   -999.0,9,    7.609,2,    6.908,2,   87.313,2
  09AR20141205,AU1402,   111,  1,      0,     19,2,20150115,0238,-66.6945, 144.6302,  824,     20.3,  -0.9096,  34.2625,2,  34.2661,2,    353.1,2,    352.0,2,  -999.00,9,  -999.00,9,  -999.00,9,   2184.0,6,   2323.3,6,    7.425,2,    8.200,2,   87.330,2
  09AR20141205,AU1402,   111,  1,      0,     18,2,20150115,0238,-66.6945, 144.6302,  824,     35.2,  -1.0678,  34.2843,2,-999.0000,9,    347.7,2,   -999.0,9,  -999.00,9,  -999.00,9,  -999.00,9,   -999.0,9,   -999.0,9,    8.450,2,    0.883,2,   87.840,2
  09AR20141205,AU1402,   111,  1,      0,     17,2,20150115,0238,-66.6945, 144.6302,  824,     50.8,  -1.2033,  34.2972,2,-999.0000,9,    338.7,2,    338.4,2,  -999.00,9,    25.65,2,     1.78,3,   2195.4,2,   2325.6,2,    7.869,2,    0.023,2,   88.940,2
  09AR20141205,AU1402,   111,  1,      0,     16,2,20150115,0238,-66.6945, 144.6302,  824,     50.8,  -1.2032,  34.2973,2,-999.0000,9,    338.7,2,   -999.0,9,  -999.00,9,  -999.00,9,  -999.00,9,   -999.0,9,   -999.0,9,    7.692,2,    0.022,2,   88.851,2
  09AR20141205,AU1402,   111,  1,      0,     15,2,20150115,0238,-66.6945, 144.6302,  824,     50.7,  -1.2028,  34.2972,2,-999.0000,9,    338.7,2,   -999.0,9,  -999.00,9,  -999.00,9,  -999.00,9,   -999.0,9,   -999.0,9,    7.094,2,    0.022,2,   88.711,2
  09AR20141205,AU1402,   111,  1,      0,     14,2,20150115,0238,-66.6945, 144.6302,  824,     50.7,  -1.2026,  34.2972,2,-999.0000,9,    338.7,2,   -999.0,9,  -999.00,9,  -999.00,9,  -999.00,9,   -999.0,9,   -999.0,9,    7.025,2,    0.021,2,   88.826,2
  09AR20141205,AU1402,   111,  1,      0,     13,2,20150115,0238,-66.6945, 144.6302,  824,     50.7,  -1.2025,  34.2971,2,-999.0000,9,    338.7,2,   -999.0,9,  -999.00,9,  -999.00,9,  -999.00,9,   -999.0,9,   -999.0,9,    6.732,2,    0.019,2,   88.928,2
  09AR20141205,AU1402,   111,  1,      0,     12,2,20150115,0238,-66.6945, 144.6302,  824,     50.7,  -1.2025,  34.2972,2,-999.0000,9,    338.7,2,   -999.0,9,  -999.00,9,  -999.00,9,  -999.00,9,   -999.0,9,   -999.0,9,    6.580,2,    0.017,2,   88.882,2
  09AR20141205,AU1402,   111,  1,      0,     11,2,20150115,0238,-66.6945, 144.6302,  824,    121.2,  -1.6737,  34.4312,2,  34.4348,2,    303.5,2,    302.0,2,  -999.00,9,    29.73,2,     2.04,3,   -999.0,9,   -999.0,9,    0.661,2,    0.000,2,   97.005,2
  09AR20141205,AU1402,   111,  1,      0,     10,2,20150115,0238,-66.6945, 144.6302,  824,    121.2,  -1.6720,  34.4315,2,-999.0000,9,    303.5,2,   -999.0,9,  -999.00,9,  -999.00,9,  -999.00,9,   -999.0,9,   -999.0,9,    0.735,2,    0.000,2,   97.044,2
  09AR20141205,AU1402,   111,  1,      0,      9,2,20150115,0238,-66.6945, 144.6302,  824,    200.7,  -1.8340,  34.4753,2,-999.0000,9,    301.0,2,    301.6,2,  -999.00,9,  -999.00,9,  -999.00,9,   2232.4,2,   2332.2,2,   -0.018,2,    0.000,2,   98.554,2
  09AR20141205,AU1402,   111,  1,      0,      8,2,20150115,0238,-66.6945, 144.6302,  824,    200.8,  -1.8337,  34.4754,2,-999.0000,9,    301.0,2,   -999.0,9,  -999.00,9,  -999.00,9,  -999.00,9,   -999.0,9,   -999.0,9,    0.004,2,    0.000,2,   98.503,2
  09AR20141205,AU1402,   111,  1,      0,      7,2,20150115,0238,-66.6945, 144.6302,  824,    351.3,  -1.8189,  34.5219,2,-999.0000,9,    299.6,2,    300.6,2,  -999.00,9,    30.70,2,     2.06,3,   -999.0,9,   -999.0,9,   -0.041,2,    0.000,2,   98.688,2
  09AR20141205,AU1402,   111,  1,      0,      6,2,20150115,0238,-66.6945, 144.6302,  824,    351.2,  -1.8190,  34.5220,2,-999.0000,9,    299.6,2,   -999.0,9,  -999.00,9,  -999.00,9,  -999.00,9,   -999.0,9,   -999.0,9,   -0.035,2,    0.000,2,   98.713,2
  09AR20141205,AU1402,   111,  1,      0,      5,2,20150115,0238,-66.6945, 144.6302,  824,    501.0,  -1.8998,  34.5506,2,  34.5528,2,    305.1,2,    305.4,2,  -999.00,9,    30.74,2,     2.06,3,   2235.9,2,   2338.2,2,   -0.065,2,    0.000,2,   98.652,2
  09AR20141205,AU1402,   111,  1,      0,      4,2,20150115,0238,-66.6945, 144.6302,  824,    501.0,  -1.8998,  34.5508,2,-999.0000,9,    305.1,2,   -999.0,9,  -999.00,9,  -999.00,9,  -999.00,9,   -999.0,9,   -999.0,9,   -0.054,2,    0.000,2,   98.644,2
  09AR20141205,AU1402,   111,  1,      0,      3,2,20150115,0238,-66.6945, 144.6302,  824,    650.6,  -1.8989,  34.5729,2,-999.0000,9,    307.2,2,    307.1,2,  -999.00,9,  -999.00,9,  -999.00,9,   -999.0,9,   -999.0,9,   -0.082,2,    0.000,2,   98.715,2
  09AR20141205,AU1402,   111,  1,      0,      2,2,20150115,0238,-66.6945, 144.6302,  824,    650.5,  -1.8989,  34.5729,2,-999.0000,9,    307.2,2,   -999.0,9,  -999.00,9,  -999.00,9,  -999.00,9,   -999.0,9,   -999.0,9,   -0.082,2,    0.000,2,   98.699,2
  09AR20141205,AU1402,   111,  1,      0,      1,2,20150115,0238,-66.6945, 144.6302,  824,    827.4,  -1.8889,  34.5902,2,  34.5892,2,    306.6,2,    306.6,2,  -999.00,9,    30.82,2,     2.07,3,   2240.6,2,   2337.9,2,   -0.052,2,    0.000,2,   98.256,2