BOTTLE,20210329PRINUNIVRMK
EXPOCODE,SECT_ID,STNNBR,CASTNO,SAMPNO,BTLNBR,BTLNBR_FLAG_W,DATE,TIME,LATITUDE,LONGITUDE,DEPTH,CTDPRS,CTDTMP,CTDSAL,CTDSAL_FLAG_W,SALNTY,SALNTY_FLAG_W,CTDOXY,CTDOXY_FLAG_W,OXYGEN,OXYGEN_FLAG_W,SILCAT,SILCAT_FLAG_W,NITRAT,NITRAT_FLAG_W,PHSPHT,PHSPHT_FLAG_W,TCARBN,TCARBN_FLAG_W,ALKALI,ALKALI_FLAG_W,CTDFLUOR,CTDFLUOR_FLAG_W,CTDPAR,CTDPAR_FLAG_W,CTDXMISS,CTDXMISS_FLAG_W
,,,,,,,,,,,METERS,DBAR,ITS-90,PSS-78,,PSS-78,,UMOL/KG,,UMOL/KG,,UMOL/KG,,UMOL/KG,,UMOL/KG,,UMOL/KG,,UMOL/KG,,MG/M^3,,UEINSTEIN/M^2*SEC,,%TRANS,
  09AR20141205,AU1402,    82,  1,      0,     24,2,20150108,2011,-65.7822, 120.9470,  357,      7.5,  -1.1583,  33.6698,2,  33.6823,2,    347.0,2,    346.2,2,    63.80,2,    28.20,2,     1.90,3,   2161.7,2,   2277.0,2,    0.252,2,   91.300,2,   95.188,2
  09AR20141205,AU1402,    82,  1,      0,     23,2,20150108,2011,-65.7822, 120.9470,  357,      7.4,  -1.1517,  33.6703,2,-999.0000,9,    347.0,2,   -999.0,9,  -999.00,9,  -999.00,9,  -999.00,9,   -999.0,9,   -999.0,9,    0.239,2,   76.810,2,   95.246,2
  09AR20141205,AU1402,    82,  1,      0,     22,2,20150108,2011,-65.7822, 120.9470,  357,      7.4,  -1.1500,  33.6703,2,-999.0000,9,    347.0,2,   -999.0,9,  -999.00,9,  -999.00,9,  -999.00,9,   -999.0,9,   -999.0,9,    0.259,2,   76.590,2,   95.252,2
  09AR20141205,AU1402,    82,  1,      0,     21,2,20150108,2011,-65.7822, 120.9470,  357,      7.4,  -1.1465,  33.6708,2,-999.0000,9,    347.0,2,   -999.0,9,  -999.00,9,  -999.00,9,  -999.00,9,   -999.0,9,   -999.0,9,    0.262,2,   84.920,2,   95.218,2
  09AR20141205,AU1402,    82,  1,      0,     20,2,20150108,2011,-65.7822, 120.9470,  357,     15.8,  -1.3447,  33.7053,2,  33.7903,2,    346.4,2,    337.4,2,  -999.00,9,    28.65,2,     1.96,3,   2170.5,2,   2285.0,2,    0.421,2,   34.440,2,   95.266,2
  09AR20141205,AU1402,    82,  1,      0,     19,2,20150108,2011,-65.7822, 120.9470,  357,     15.7,  -1.3377,  33.7050,2,-999.0000,9,    346.4,2,   -999.0,9,  -999.00,9,  -999.00,9,  -999.00,9,   -999.0,9,   -999.0,9,    0.436,2,   35.200,2,   95.286,2
  09AR20141205,AU1402,    82,  1,      0,     18,2,20150108,2011,-65.7822, 120.9470,  357,     15.7,  -1.3588,  33.7060,2,-999.0000,9,    346.4,2,   -999.0,9,  -999.00,9,  -999.00,9,  -999.00,9,   -999.0,9,   -999.0,9,    0.419,2,   36.290,2,   95.328,2
  09AR20141205,AU1402,    82,  1,      0,     17,2,20150108,2011,-65.7822, 120.9470,  357,     60.7,  -1.8359,  34.1694,2,  34.1727,2,    312.5,2,    310.5,2,    52.30,3,    30.59,2,     2.10,3,   2205.1,2,   2308.2,2,    0.216,2,    4.004,2,   97.909,2
  09AR20141205,AU1402,    82,  1,      0,     16,2,20150108,2011,-65.7822, 120.9470,  357,     60.6,  -1.8192,  34.1691,2,-999.0000,9,    312.5,2,   -999.0,9,  -999.00,9,  -999.00,9,  -999.00,9,   -999.0,9,   -999.0,9,    0.260,2,    4.014,2,   97.832,2
  09AR20141205,AU1402,    82,  1,      0,     15,2,20150108,2011,-65.7822, 120.9470,  357,     60.5,  -1.8209,  34.1683,2,-999.0000,9,    312.5,2,   -999.0,9,  -999.00,9,  -999.00,9,  -999.00,9,   -999.0,9,   -999.0,9,    0.200,2,    4.021,2,   97.877,2
  09AR20141205,AU1402,    82,  1,      0,     14,2,20150108,2011,-65.7822, 120.9470,  357,     60.4,  -1.8300,  34.1680,2,-999.0000,9,    312.5,2,   -999.0,9,  -999.00,9,  -999.00,9,  -999.00,9,   -999.0,9,   -999.0,9,    0.174,2,    4.025,2,   97.908,2
  09AR20141205,AU1402,    82,  1,      0,     13,2,20150108,2011,-65.7822, 120.9470,  357,    120.8,  -1.8583,  34.2246,2,  34.2293,2,    309.2,2,    311.1,2,  -999.00,9,  -999.00,9,  -999.00,9,   2210.1,2,   2309.6,6,    0.069,2,    0.328,2,   98.599,2
  09AR20141205,AU1402,    82,  1,      0,     12,2,20150108,2011,-65.7822, 120.9470,  357,    120.7,  -1.8584,  34.2247,2,-999.0000,9,    309.2,2,   -999.0,9,  -999.00,9,  -999.00,9,  -999.00,9,   -999.0,9,   -999.0,9,    0.069,2,    0.330,2,   98.608,2
  09AR20141205,AU1402,    82,  1,      0,     11,2,20150108,2011,-65.7822, 120.9470,  357,    120.6,  -1.8577,  34.2250,2,-999.0000,9,    309.2,2,   -999.0,9,  -999.00,9,  -999.00,9,  -999.00,9,   -999.0,9,   -999.0,9,    0.056,2,    0.331,2,   98.616,2
  09AR20141205,AU1402,    82,  1,      0,     10,2,20150108,2011,-65.7822, 120.9470,  357,    120.5,  -1.8535,  34.2284,2,-999.0000,9,    309.2,2,   -999.0,9,  -999.00,9,  -999.00,9,  -999.00,9,   -999.0,9,   -999.0,9,    0.043,2,    0.331,2,   98.608,2
  09AR20141205,AU1402,    82,  1,      0,      9,2,20150108,2011,-65.7822, 120.9470,  357,    225.9,  -1.8423,  34.2815,2,  34.2820,2,    315.8,2,    316.2,2,    62.30,2,    30.75,2,     2.05,3,   2212.9,6,   2315.0,6,   -0.059,2,    0.000,2,   98.723,2
  09AR20141205,AU1402,    82,  1,      0,      8,2,20150108,2011,-65.7822, 120.9470,  357,    225.7,  -1.8468,  34.2817,2,-999.0000,9,    315.8,2,   -999.0,9,  -999.00,9,  -999.00,9,  -999.00,9,   -999.0,9,   -999.0,9,   -0.060,2,    0.000,2,   98.740,2
  09AR20141205,AU1402,    82,  1,      0,      7,2,20150108,2011,-65.7822, 120.9470,  357,    225.7,  -1.8485,  34.2816,2,-999.0000,9,    315.8,2,   -999.0,9,  -999.00,9,  -999.00,9,  -999.00,9,   -999.0,9,   -999.0,9,   -0.065,2,    0.000,2,   98.751,2
  09AR20141205,AU1402,    82,  1,      0,      6,2,20150108,2011,-65.7822, 120.9470,  357,    225.6,  -1.8487,  34.2816,2,-999.0000,9,    315.8,2,   -999.0,9,  -999.00,9,  -999.00,9,  -999.00,9,   -999.0,9,   -999.0,9,   -0.064,2,    0.000,2,   98.747,2
  09AR20141205,AU1402,    82,  1,      0,      5,2,20150108,2011,-65.7822, 120.9470,  357,    301.4,  -1.7861,  34.3117,2,  34.3120,2,    316.7,2,    316.0,2,    62.80,2,    30.78,2,     2.08,3,   2215.1,2,   2317.9,2,   -0.076,2,    0.000,2,   98.511,2
  09AR20141205,AU1402,    82,  1,      0,      4,2,20150108,2011,-65.7822, 120.9470,  357,    301.2,  -1.7878,  34.3115,2,-999.0000,9,    316.7,2,   -999.0,9,  -999.00,9,  -999.00,9,  -999.00,9,   -999.0,9,   -999.0,9,   -0.080,2,    0.000,2,   98.514,2
  09AR20141205,AU1402,    82,  1,      0,      3,2,20150108,2011,-65.7822, 120.9470,  357,    301.1,  -1.7878,  34.3115,2,-999.0000,9,    316.7,2,   -999.0,9,  -999.00,9,  -999.00,9,  -999.00,9,   -999.0,9,   -999.0,9,   -0.076,2,    0.000,2,   98.516,2
  09AR20141205,AU1402,    82,  1,      0,      2,2,20150108,2011,-65.7822, 120.9470,  357,    301.0,  -1.7874,  34.3115,2,-999.0000,9,    316.7,2,   -999.0,9,  -999.00,9,  -999.00,9,  -999.00,9,   -999.0,9,   -999.0,9,   -0.081,2,    0.000,2,   98.503,2
  09AR20141205,AU1402,    82,  1,      0,      1,2,20150108,2011,-65.7822, 120.9470,  357,    352.2,  -1.4661,  34.3618,2,  34.3588,2,    300.1,2,    299.7,2,    63.30,2,    31.24,2,     2.13,3,   2221.0,2,   2321.5,2,   -0.080,2,    0.000,2,   94.506,2
  09AR20141205,AU1402,    83,  1,      0,     24,2,20150111,1424,-66.3432, 143.2957,  684,      7.4,  -0.6839,  34.2754,2,-999.0000,9,    348.9,2,   -999.0,9,  -999.00,9,  -999.00,9,  -999.00,9,   -999.0,9,   -999.0,9,    4.578,2,    0.492,2,   90.487,2
  09AR20141205,AU1402,    83,  1,      0,     23,2,20150111,1424,-66.3432, 143.2957,  684,      7.3,  -0.6845,  34.2754,2,-999.0000,9,    348.9,2,   -999.0,9,  -999.00,9,  -999.00,9,  -999.00,9,   -999.0,9,   -999.0,9,    4.249,2,    0.497,2,   90.315,2
  09AR20141205,AU1402,    83,  1,      0,     22,2,20150111,1424,-66.3432, 143.2957,  684,      7.3,  -0.6851,  34.2754,2,-999.0000,9,    348.9,2,   -999.0,9,  -999.00,9,  -999.00,9,  -999.00,9,   -999.0,9,   -999.0,9,    4.875,2,    0.497,2,   90.451,2
  09AR20141205,AU1402,    83,  1,      0,     21,2,20150111,1424,-66.3432, 143.2957,  684,      7.2,  -0.6923,  34.2761,2,  34.2759,2,    348.9,2,    350.3,2,  -999.00,9,  -999.00,9,  -999.00,9,   2187.5,2,   2318.3,2,    4.633,2,    0.514,2,   90.351,2
  09AR20141205,AU1402,    83,  1,      0,     20,2,20150111,1424,-66.3432, 143.2957,  684,     40.4,  -0.9976,  34.3037,2,-999.0000,9,    345.6,2,   -999.0,9,  -999.00,9,  -999.00,9,  -999.00,9,   -999.0,9,   -999.0,9,    8.275,2,    0.000,2,   88.981,2
  09AR20141205,AU1402,    83,  1,      0,     19,2,20150111,1424,-66.3432, 143.2957,  684,     40.3,  -0.9984,  34.3039,2,  34.3084,2,    345.6,2,    343.8,2,  -999.00,9,  -999.00,9,  -999.00,9,   2193.5,2,   2321.2,2,    7.951,2,    0.000,2,   88.817,2
  09AR20141205,AU1402,    83,  1,      0,     18,2,20150111,1424,-66.3432, 143.2957,  684,     80.7,  -1.1437,  34.3321,2,-999.0000,9,    334.9,2,   -999.0,9,  -999.00,9,  -999.00,9,  -999.00,9,   -999.0,9,   -999.0,9,    6.140,2,    0.000,2,   89.155,2
  09AR20141205,AU1402,    83,  1,      0,     17,2,20150111,1424,-66.3432, 143.2957,  684,     80.6,  -1.1437,  34.3320,2,  34.3410,2,    334.9,2,    334.3,2,  -999.00,9,  -999.00,9,  -999.00,9,   2201.2,6,   2324.0,6,    6.546,2,    0.000,2,   89.221,2
  09AR20141205,AU1402,    83,  1,      0,     16,2,20150111,1424,-66.3432, 143.2957,  684,     80.4,  -1.1386,  34.3311,2,-999.0000,9,    334.9,2,   -999.0,9,  -999.00,9,  -999.00,9,  -999.00,9,   -999.0,9,   -999.0,9,    7.307,2,    0.000,2,   89.380,2
  09AR20141205,AU1402,    83,  1,      0,     15,2,20150111,1424,-66.3432, 143.2957,  684,    151.0,  -1.6666,  34.4697,2,  34.4691,2,    301.6,2,    300.8,2,  -999.00,9,  -999.00,9,  -999.00,9,   2230.6,2,   2329.9,2,    0.356,2,    0.000,2,   97.699,2
  09AR20141205,AU1402,    83,  1,      0,     14,2,20150111,1424,-66.3432, 143.2957,  684,    150.9,  -1.6666,  34.4698,2,-999.0000,9,    301.6,2,   -999.0,9,  -999.00,9,  -999.00,9,  -999.00,9,   -999.0,9,   -999.0,9,    0.331,2,    0.000,2,   97.683,2
  09AR20141205,AU1402,    83,  1,      0,     13,2,20150111,1424,-66.3432, 143.2957,  684,    150.8,  -1.6664,  34.4696,2,-999.0000,9,    301.6,2,   -999.0,9,  -999.00,9,  -999.00,9,  -999.00,9,   -999.0,9,   -999.0,9,    0.395,2,    0.000,2,   97.706,2
  09AR20141205,AU1402,    83,  1,      0,     12,2,20150111,1424,-66.3432, 143.2957,  684,    150.9,  -1.6667,  34.4698,2,-999.0000,9,    301.6,2,   -999.0,9,  -999.00,9,  -999.00,9,  -999.00,9,   -999.0,9,   -999.0,9,    0.336,2,    0.000,2,   97.710,2
  09AR20141205,AU1402,    83,  1,      0,     11,2,20150111,1424,-66.3432, 143.2957,  684,    300.7,  -1.8314,  34.5127,2,  34.5126,2,    304.7,2,    305.7,2,  -999.00,9,  -999.00,9,  -999.00,9,   2234.7,2,   2329.7,2,    0.174,2,    0.000,2,   98.038,2
  09AR20141205,AU1402,    83,  1,      0,     10,2,20150111,1424,-66.3432, 143.2957,  684,    300.5,  -1.8332,  34.5135,2,-999.0000,9,    304.7,2,   -999.0,9,  -999.00,9,  -999.00,9,  -999.00,9,   -999.0,9,   -999.0,9,    0.144,2,    0.000,2,   98.082,2
  09AR20141205,AU1402,    83,  1,      0,      9,2,20150111,1424,-66.3432, 143.2957,  684,    300.4,  -1.8344,  34.5151,2,-999.0000,9,    304.7,2,   -999.0,9,  -999.00,9,  -999.00,9,  -999.00,9,   -999.0,9,   -999.0,9,    0.153,2,    0.000,2,   97.990,2
  09AR20141205,AU1402,    83,  1,      0,      8,2,20150111,1424,-66.3432, 143.2957,  684,    300.4,  -1.8353,  34.5163,2,-999.0000,9,    304.7,2,   -999.0,9,  -999.00,9,  -999.00,9,  -999.00,9,   -999.0,9,   -999.0,9,    0.157,2,    0.000,2,   98.011,2
  09AR20141205,AU1402,    83,  1,      0,      7,2,20150111,1424,-66.3432, 143.2957,  684,    401.1,  -1.8643,  34.5351,2,-999.0000,9,    303.4,2,    303.7,2,  -999.00,9,  -999.00,9,  -999.00,9,   2237.7,2,   2333.1,2,    0.061,2,    0.000,2,   98.368,2
  09AR20141205,AU1402,    83,  1,      0,      6,2,20150111,1424,-66.3432, 143.2957,  684,    551.3,  -1.8983,  34.5706,2,-999.0000,9,    306.6,2,   -999.0,9,  -999.00,9,  -999.00,9,  -999.00,9,   -999.0,9,   -999.0,9,   -0.072,2,    0.000,2,   98.606,2
  09AR20141205,AU1402,    83,  1,      0,      5,2,20150111,1424,-66.3432, 143.2957,  684,    551.2,  -1.8983,  34.5707,2,  34.5699,2,    306.6,2,    307.2,2,  -999.00,9,  -999.00,9,  -999.00,9,   2237.6,2,   2333.9,2,   -0.039,2,    0.000,2,   98.668,2
  09AR20141205,AU1402,    83,  1,      0,      4,2,20150111,1424,-66.3432, 143.2957,  684,    652.1,  -1.8949,  34.5855,2,-999.0000,9,    307.6,2,   -999.0,9,  -999.00,9,  -999.00,9,  -999.00,9,   -999.0,9,   -999.0,9,   -0.066,2,    0.000,2,   98.597,2
  09AR20141205,AU1402,    83,  1,      0,      3,2,20150111,1424,-66.3432, 143.2957,  684,    652.0,  -1.8946,  34.5855,2,  34.5858,2,    307.6,2,    307.7,2,  -999.00,9,  -999.00,9,  -999.00,9,   2241.8,2,   2334.9,6,   -0.081,2,    0.000,2,   98.614,2
  09AR20141205,AU1402,    83,  1,      0,      2,2,20150111,1424,-66.3432, 143.2957,  684,    686.5,  -1.8908,  34.5935,2,-999.0000,9,    307.3,2,   -999.0,9,  -999.00,9,  -999.00,9,  -999.00,9,   -999.0,9,   -999.0,9,    0.013,2,    0.000,2,   97.685,2
  09AR20141205,AU1402,    83,  1,      0,      1,2,20150111,1424,-66.3432, 143.2957,  684,    686.4,  -1.8907,  34.5934,2,-999.0000,9,    307.3,2,    306.7,2,  -999.00,9,  -999.00,9,  -999.00,9,   2240.4,2,   2337.3,2,    0.030,2,    0.000,2,   97.742,2
  09AR20141205,AU1402,    84,  1,      0,     24,2,20150111,1836,-66.5983, 144.2128,  812,      7.7,  -1.2677,  34.2318,2,-999.0000,9,    349.0,2,   -999.0,9,  -999.00,9,  -999.00,9,  -999.00,9,   -999.0,9,   -999.0,9,    7.656,2,   38.460,2,   87.094,2
  09AR20141205,AU1402,    84,  1,      0,     23,2,20150111,1836,-66.5983, 144.2128,  812,      7.7,  -1.2695,  34.2330,2,-999.0000,9,    349.0,2,   -999.0,9,  -999.00,9,  -999.00,9,  -999.00,9,   -999.0,9,   -999.0,9,    7.575,2,   38.270,2,   86.776,2
  09AR20141205,AU1402,    84,  1,      0,     22,2,20150111,1836,-66.5983, 144.2128,  812,      7.7,  -1.2691,  34.2328,2,-999.0000,9,    349.0,2,   -999.0,9,  -999.00,9,  -999.00,9,  -999.00,9,   -999.0,9,   -999.0,9,    8.325,2,   38.650,2,   87.285,2
  09AR20141205,AU1402,    84,  1,      0,     21,2,20150111,1836,-66.5983, 144.2128,  812,      7.6,  -1.2624,  34.2279,2,  34.2117,2,    349.0,2,    346.6,2,  -999.00,9,    24.28,2,     1.76,3,   2181.9,2,   2317.0,2,    8.041,2,   41.640,2,   87.856,2
  09AR20141205,AU1402,    84,  1,      0,     20,2,20150111,1836,-66.5983, 144.2128,  812,     15.5,  -1.2506,  34.2220,2,-999.0000,9,    344.1,2,   -999.0,9,  -999.00,9,  -999.00,9,  -999.00,9,   -999.0,9,   -999.0,9,    8.568,2,    8.843,2,   87.758,2
  09AR20141205,AU1402,    84,  1,      0,     19,2,20150111,1836,-66.5983, 144.2128,  812,     15.3,  -1.2468,  34.2217,2,  34.2186,2,    344.1,2,    345.7,2,  -999.00,9,    24.36,2,     1.75,3,   2181.6,2,   2317.8,2,    9.591,2,    9.254,2,   87.393,2
  09AR20141205,AU1402,    84,  1,      0,     18,2,20150111,1836,-66.5983, 144.2128,  812,     30.4,  -1.4914,  34.2950,2,-999.0000,9,    333.0,2,   -999.0,9,  -999.00,9,  -999.00,9,  -999.00,9,   -999.0,9,   -999.0,9,    4.719,2,    0.806,2,   91.812,2
  09AR20141205,AU1402,    84,  1,      0,     17,2,20150111,1836,-66.5983, 144.2128,  812,     50.7,  -1.5825,  34.3378,2,-999.0000,9,    320.2,2,   -999.0,9,  -999.00,9,  -999.00,9,  -999.00,9,   -999.0,9,   -999.0,9,    3.262,2,    0.019,2,   93.632,2
  09AR20141205,AU1402,    84,  1,      0,     16,2,20150111,1836,-66.5983, 144.2128,  812,     50.7,  -1.5830,  34.3380,2,-999.0000,9,    320.2,2,   -999.0,9,  -999.00,9,  -999.00,9,  -999.00,9,   -999.0,9,   -999.0,9,    2.997,2,    0.020,2,   93.556,2
  09AR20141205,AU1402,    84,  1,      0,     15,2,20150111,1836,-66.5983, 144.2128,  812,     50.7,  -1.5879,  34.3400,2,  34.3457,2,    320.2,2,    321.2,2,  -999.00,9,    26.97,2,     1.98,3,   2211.3,6,   2323.6,6,    3.810,2,    0.019,2,   93.870,2
  09AR20141205,AU1402,    84,  1,      0,     14,2,20150111,1836,-66.5983, 144.2128,  812,     50.5,  -1.5928,  34.3423,2,-999.0000,9,    320.2,2,   -999.0,9,  -999.00,9,  -999.00,9,  -999.00,9,   -999.0,9,   -999.0,9,    2.765,2,    0.015,2,   93.942,2
  09AR20141205,AU1402,    84,  1,      0,     13,2,20150111,1836,-66.5983, 144.2128,  812,    125.9,  -1.7803,  34.4518,2,-999.0000,9,    304.9,2,   -999.0,9,  -999.00,9,  -999.00,9,  -999.00,9,   -999.0,9,   -999.0,9,    0.319,2,    0.000,2,   97.748,2
  09AR20141205,AU1402,    84,  1,      0,     12,2,20150111,1836,-66.5983, 144.2128,  812,    125.8,  -1.7796,  34.4516,2,-999.0000,9,    304.9,2,   -999.0,9,  -999.00,9,  -999.00,9,  -999.00,9,   -999.0,9,   -999.0,9,    0.324,2,    0.000,2,   97.684,2
  09AR20141205,AU1402,    84,  1,      0,     11,2,20150111,1836,-66.5983, 144.2128,  812,    125.8,  -1.7817,  34.4517,2,  34.4545,2,    304.9,2,    304.1,2,  -999.00,9,    29.88,2,     2.09,3,   2231.8,2,   2328.1,2,    0.313,2,    0.000,2,   97.508,2
  09AR20141205,AU1402,    84,  1,      0,     10,2,20150111,1836,-66.5983, 144.2128,  812,    125.6,  -1.7782,  34.4514,2,-999.0000,9,    304.9,2,   -999.0,9,  -999.00,9,  -999.00,9,  -999.00,9,   -999.0,9,   -999.0,9,    0.387,2,    0.000,2,   97.698,2
  09AR20141205,AU1402,    84,  1,      0,      9,2,20150111,1836,-66.5983, 144.2128,  812,    300.2,  -1.9241,  34.4965,2,  34.4963,2,    304.9,2,    304.7,2,  -999.00,9,  -999.00,9,  -999.00,9,   2234.5,2,   2331.4,6,    0.019,2,    0.000,2,   98.517,2
  09AR20141205,AU1402,    84,  1,      0,      8,2,20150111,1836,-66.5983, 144.2128,  812,    300.1,  -1.9233,  34.4965,2,-999.0000,9,    304.9,2,   -999.0,9,  -999.00,9,  -999.00,9,  -999.00,9,   -999.0,9,   -999.0,9,    0.026,2,    0.000,2,   98.478,2
  09AR20141205,AU1402,    84,  1,      0,      7,2,20150111,1836,-66.5983, 144.2128,  812,    481.1,  -1.9664,  34.5326,2,  34.5327,2,    307.1,2,    306.7,2,  -999.00,9,    30.76,2,     2.07,3,   2236.1,2,   2331.5,2,   -0.075,2,    0.000,2,   98.510,2
  09AR20141205,AU1402,    84,  1,      0,      6,2,20150111,1836,-66.5983, 144.2128,  812,    481.0,  -1.9672,  34.5325,2,-999.0000,9,    307.0,2,   -999.0,9,  -999.00,9,  -999.00,9,  -999.00,9,   -999.0,9,   -999.0,9,   -0.078,2,    0.000,2,   98.539,2
  09AR20141205,AU1402,    84,  1,      0,      5,2,20150111,1836,-66.5983, 144.2128,  812,    576.0,  -1.9224,  34.5551,2,-999.0000,9,    306.8,2,    306.6,2,  -999.00,9,  -999.00,9,  -999.00,9,   2237.9,2,   2335.0,2,   -0.073,2,    0.000,2,   98.599,2
  09AR20141205,AU1402,    84,  1,      0,      4,2,20150111,1836,-66.5983, 144.2128,  812,    575.8,  -1.9223,  34.5552,2,-999.0000,9,    306.8,2,   -999.0,9,  -999.00,9,  -999.00,9,  -999.00,9,   -999.0,9,   -999.0,9,   -0.076,2,    0.000,2,   98.584,2
  09AR20141205,AU1402,    84,  1,      0,      3,2,20150111,1836,-66.5983, 144.2128,  812,    726.0,  -1.8938,  34.5793,2,-999.0000,9,    308.1,2,    307.8,2,  -999.00,9,  -999.00,9,  -999.00,9,   2238.9,2,   2335.1,2,   -0.079,2,    0.000,2,   98.734,2
  09AR20141205,AU1402,    84,  1,      0,      2,2,20150111,1836,-66.5983, 144.2128,  812,    725.9,  -1.8939,  34.5794,2,-999.0000,9,    308.1,2,   -999.0,9,  -999.00,9,  -999.00,9,  -999.00,9,   -999.0,9,   -999.0,9,   -0.077,2,    0.000,2,   98.710,2
  09AR20141205,AU1402,    84,  1,      0,      1,2,20150111,1836,-66.5983, 144.2128,  812,    816.3,  -1.8916,  34.5873,2,  34.5860,2,    308.2,2,    307.6,2,  -999.00,9,    30.82,2,     2.01,3,   2240.5,2,   2335.8,2,   -0.056,2,    0.000,2,   98.467,2