BOTTLE,20210329PRINUNIVRMK
EXPOCODE,SECT_ID,STNNBR,CASTNO,SAMPNO,BTLNBR,BTLNBR_FLAG_W,DATE,TIME,LATITUDE,LONGITUDE,DEPTH,CTDPRS,CTDTMP,CTDSAL,CTDSAL_FLAG_W,SALNTY,SALNTY_FLAG_W,CTDOXY,CTDOXY_FLAG_W,OXYGEN,OXYGEN_FLAG_W,SILCAT,SILCAT_FLAG_W,NITRAT,NITRAT_FLAG_W,PHSPHT,PHSPHT_FLAG_W,TCARBN,TCARBN_FLAG_W,ALKALI,ALKALI_FLAG_W,CTDFLUOR,CTDFLUOR_FLAG_W,CTDPAR,CTDPAR_FLAG_W,CTDXMISS,CTDXMISS_FLAG_W
,,,,,,,,,,,METERS,DBAR,ITS-90,PSS-78,,PSS-78,,UMOL/KG,,UMOL/KG,,UMOL/KG,,UMOL/KG,,UMOL/KG,,UMOL/KG,,UMOL/KG,,MG/M^3,,UEINSTEIN/M^2*SEC,,%TRANS,
  09AR20141205,AU1402,   121,  1,      0,     24,2,20150116,0038,-66.4573, 143.6297,  713,      7.3,  -0.7950,  34.1779,2,-999.0000,9,    356.3,2,   -999.0,9,  -999.00,9,  -999.00,9,  -999.00,9,   -999.0,9,   -999.0,9,    1.895,2,  345.200,2,   87.002,2
  09AR20141205,AU1402,   121,  1,      0,     23,2,20150116,0038,-66.4573, 143.6297,  713,      7.3,  -0.7944,  34.1778,2,-999.0000,9,    356.3,2,   -999.0,9,  -999.00,9,  -999.00,9,  -999.00,9,   -999.0,9,   -999.0,9,    2.009,2,  350.000,2,   87.203,2
  09AR20141205,AU1402,   121,  1,      0,     22,2,20150116,0038,-66.4573, 143.6297,  713,      7.3,  -0.7976,  34.1778,2,-999.0000,9,    356.3,2,   -999.0,9,  -999.00,9,  -999.00,9,  -999.00,9,   -999.0,9,   -999.0,9,    1.890,2,  348.000,2,   87.024,2
  09AR20141205,AU1402,   121,  1,      0,     21,2,20150116,0038,-66.4573, 143.6297,  713,      7.2,  -0.7984,  34.1776,2,  34.1778,2,    356.3,2,    356.5,2,  -999.00,9,  -999.00,9,  -999.00,9,   2171.8,2,   2314.8,2,    2.391,2,  353.200,2,   87.142,2
  09AR20141205,AU1402,   121,  1,      0,     20,2,20150116,0038,-66.4573, 143.6297,  713,     20.0,  -0.8252,  34.1774,2,-999.0000,9,    356.6,2,   -999.0,9,  -999.00,9,  -999.00,9,  -999.00,9,   -999.0,9,   -999.0,9,    7.300,2,   39.940,2,   87.063,2
  09AR20141205,AU1402,   121,  1,      0,     19,2,20150116,0038,-66.4573, 143.6297,  713,     19.9,  -0.8246,  34.1774,2,  34.1792,2,    356.6,2,    356.2,2,  -999.00,9,  -999.00,9,  -999.00,9,   2172.6,2,   2314.0,2,    7.465,2,   39.850,2,   86.711,2
  09AR20141205,AU1402,   121,  1,      0,     18,2,20150116,0038,-66.4573, 143.6297,  713,     40.7,  -0.8409,  34.1771,2,-999.0000,9,    355.4,2,   -999.0,9,  -999.00,9,  -999.00,9,  -999.00,9,   -999.0,9,   -999.0,9,   10.429,2,    1.827,2,   86.896,2
  09AR20141205,AU1402,   121,  1,      0,     17,2,20150116,0038,-66.4573, 143.6297,  713,     65.2,  -1.5466,  34.3119,2,-999.0000,9,    323.2,2,    323.1,2,  -999.00,9,  -999.00,9,  -999.00,9,   2207.4,2,   2324.2,2,    3.270,2,    0.005,2,   93.785,2
  09AR20141205,AU1402,   121,  1,      0,     16,2,20150116,0038,-66.4573, 143.6297,  713,     64.9,  -1.5500,  34.3143,2,-999.0000,9,    324.3,2,   -999.0,9,  -999.00,9,  -999.00,9,  -999.00,9,   -999.0,9,   -999.0,9,    2.585,2,    0.006,2,   94.575,2
  09AR20141205,AU1402,   121,  1,      0,     15,2,20150116,0038,-66.4573, 143.6297,  713,    100.7,  -1.6677,  34.4028,2,-999.0000,9,    310.2,2,    307.2,2,  -999.00,9,  -999.00,9,  -999.00,9,   2224.2,6,   2326.0,6,    0.921,2,    0.000,2,   96.620,2
  09AR20141205,AU1402,   121,  1,      0,     14,2,20150116,0038,-66.4573, 143.6297,  713,    100.7,  -1.6721,  34.4048,2,-999.0000,9,    310.2,2,   -999.0,9,  -999.00,9,  -999.00,9,  -999.00,9,   -999.0,9,   -999.0,9,    1.225,2,    0.000,2,   96.771,2
  09AR20141205,AU1402,   121,  1,      0,     13,2,20150116,0038,-66.4573, 143.6297,  713,    100.6,  -1.6728,  34.4049,2,-999.0000,9,    310.2,2,   -999.0,9,  -999.00,9,  -999.00,9,  -999.00,9,   -999.0,9,   -999.0,9,    1.057,2,    0.000,2,   96.631,2
  09AR20141205,AU1402,   121,  1,      0,     12,2,20150116,0038,-66.4573, 143.6297,  713,    100.6,  -1.6711,  34.4045,2,-999.0000,9,    310.2,2,   -999.0,9,  -999.00,9,  -999.00,9,  -999.00,9,   -999.0,9,   -999.0,9,    1.029,2,    0.000,2,   96.608,2
  09AR20141205,AU1402,   121,  1,      0,     11,2,20150116,0038,-66.4573, 143.6297,  713,    150.9,  -1.7245,  34.4446,2,  34.4456,2,    300.0,2,    301.2,2,  -999.00,9,  -999.00,9,  -999.00,9,   2231.2,2,   2329.2,2,    0.345,2,    0.000,2,   97.782,2
  09AR20141205,AU1402,   121,  1,      0,     10,2,20150116,0038,-66.4573, 143.6297,  713,    150.9,  -1.7223,  34.4449,2,-999.0000,9,    300.0,2,   -999.0,9,  -999.00,9,  -999.00,9,  -999.00,9,   -999.0,9,   -999.0,9,    0.367,2,    0.000,2,   97.755,2
  09AR20141205,AU1402,   121,  1,      0,      9,2,20150116,0038,-66.4573, 143.6297,  713,    250.7,  -1.8237,  34.4803,2,  34.4813,2,    302.0,2,    303.4,2,  -999.00,9,  -999.00,9,  -999.00,9,   2232.4,2,   2331.1,6,    0.162,2,    0.000,2,   98.239,2
  09AR20141205,AU1402,   121,  1,      0,      8,2,20150116,0038,-66.4573, 143.6297,  713,    250.6,  -1.8239,  34.4805,2,-999.0000,9,    302.0,2,   -999.0,9,  -999.00,9,  -999.00,9,  -999.00,9,   -999.0,9,   -999.0,9,    0.198,2,    0.000,2,   98.264,2
  09AR20141205,AU1402,   121,  1,      0,      7,2,20150116,0038,-66.4573, 143.6297,  713,    400.7,  -1.8911,  34.5226,2,-999.0000,9,    303.7,2,    303.9,2,  -999.00,9,  -999.00,9,  -999.00,9,   2237.3,2,   2331.0,2,   -0.024,2,    0.000,2,   98.706,2
  09AR20141205,AU1402,   121,  1,      0,      6,2,20150116,0038,-66.4573, 143.6297,  713,    400.7,  -1.8910,  34.5227,2,-999.0000,9,    303.7,2,   -999.0,9,  -999.00,9,  -999.00,9,  -999.00,9,   -999.0,9,   -999.0,9,   -0.024,2,    0.000,2,   98.696,2
  09AR20141205,AU1402,   121,  1,      0,      5,2,20150116,0038,-66.4573, 143.6297,  713,    601.2,  -1.8981,  34.5742,2,  34.5746,2,    307.1,2,    307.4,2,  -999.00,9,  -999.00,9,  -999.00,9,   2238.1,2,   2335.3,2,   -0.088,2,    0.000,2,   98.870,2
  09AR20141205,AU1402,   121,  1,      0,      4,2,20150116,0038,-66.4573, 143.6297,  713,    600.9,  -1.8981,  34.5742,2,-999.0000,9,    307.2,2,   -999.0,9,  -999.00,9,  -999.00,9,  -999.00,9,   -999.0,9,   -999.0,9,   -0.068,2,    0.000,2,   98.857,2
  09AR20141205,AU1402,   121,  1,      0,      3,2,20150116,0038,-66.4573, 143.6297,  713,    600.7,  -1.8981,  34.5743,2,-999.0000,9,    307.2,2,   -999.0,9,  -999.00,9,  -999.00,9,  -999.00,9,   -999.0,9,   -999.0,9,   -0.063,2,    0.000,2,   98.857,2
  09AR20141205,AU1402,   121,  1,      0,      2,2,20150116,0038,-66.4573, 143.6297,  713,    600.2,  -1.8981,  34.5741,2,-999.0000,9,    307.2,2,   -999.0,9,  -999.00,9,  -999.00,9,  -999.00,9,   -999.0,9,   -999.0,9,   -0.077,2,    0.000,2,   98.837,2
  09AR20141205,AU1402,   121,  1,      0,      1,2,20150116,0038,-66.4573, 143.6297,  713,    712.6,  -1.8917,  34.5889,2,  34.5887,2,    306.9,2,    306.4,2,  -999.00,9,  -999.00,9,  -999.00,9,   2239.0,2,   2338.6,2,   -0.037,2,    0.000,2,   97.929,2
  09AR20141205,AU1402,   122,  1,      0,     24,2,20150116,0309,-66.3733, 143.8317,  584,      7.2,  -0.4786,  34.1762,2,-999.0000,9,    355.6,2,   -999.0,9,  -999.00,9,  -999.00,9,  -999.00,9,   -999.0,9,   -999.0,9,    0.566,2,  402.100,2,   88.057,2
  09AR20141205,AU1402,   122,  1,      0,     23,2,20150116,0309,-66.3733, 143.8317,  584,      7.2,  -0.4816,  34.1767,2,-999.0000,9,    355.6,2,   -999.0,9,  -999.00,9,  -999.00,9,  -999.00,9,   -999.0,9,   -999.0,9,    0.576,2,  410.000,2,   88.271,2
  09AR20141205,AU1402,   122,  1,      0,     22,2,20150116,0309,-66.3733, 143.8317,  584,      7.2,  -0.4844,  34.1767,2,-999.0000,9,    355.6,2,   -999.0,9,  -999.00,9,  -999.00,9,  -999.00,9,   -999.0,9,   -999.0,9,    0.622,2,  413.300,2,   88.094,2
  09AR20141205,AU1402,   122,  1,      0,     21,2,20150116,0309,-66.3733, 143.8317,  584,      7.2,  -0.4724,  34.1761,2,-999.0000,9,    355.6,2,    356.9,2,  -999.00,9,  -999.00,9,  -999.00,9,   2173.3,2,   2314.1,2,    0.550,2,  406.600,2,   88.313,2
  09AR20141205,AU1402,   122,  1,      0,     20,2,20150116,0309,-66.3733, 143.8317,  584,      7.1,  -0.4681,  34.1760,2,-999.0000,9,    355.6,2,   -999.0,9,  -999.00,9,  -999.00,9,  -999.00,9,   -999.0,9,   -999.0,9,    0.558,2,  405.100,2,   88.166,2
  09AR20141205,AU1402,   122,  1,      0,     19,2,20150116,0309,-66.3733, 143.8317,  584,     30.6,  -0.7380,  34.1995,2,  34.2072,2,    353.4,2,    352.4,2,  -999.00,9,  -999.00,9,  -999.00,9,   2179.7,2,   2314.8,2,    7.943,2,   12.290,2,   86.893,2
  09AR20141205,AU1402,   122,  1,      0,     18,2,20150116,0309,-66.3733, 143.8317,  584,     30.5,  -0.7393,  34.1994,2,-999.0000,9,    353.4,2,   -999.0,9,  -999.00,9,  -999.00,9,  -999.00,9,   -999.0,9,   -999.0,9,    7.359,2,   12.370,2,   87.092,2
  09AR20141205,AU1402,   122,  1,      0,     17,2,20150116,0309,-66.3733, 143.8317,  584,     30.5,  -0.7324,  34.1992,2,-999.0000,9,    353.4,2,   -999.0,9,  -999.00,9,  -999.00,9,  -999.00,9,   -999.0,9,   -999.0,9,    7.351,2,   12.390,2,   86.848,2
  09AR20141205,AU1402,   122,  1,      0,     16,2,20150116,0309,-66.3733, 143.8317,  584,     30.5,  -0.7314,  34.1993,2,-999.0000,9,    353.4,2,   -999.0,9,  -999.00,9,  -999.00,9,  -999.00,9,   -999.0,9,   -999.0,9,    7.078,2,   12.460,2,   87.049,2
  09AR20141205,AU1402,   122,  1,      0,     15,2,20150116,0309,-66.3733, 143.8317,  584,     80.5,  -1.5208,  34.4234,2,-999.0000,9,    298.7,2,    303.1,2,  -999.00,9,  -999.00,9,  -999.00,9,   2226.1,2,   2327.0,2,    1.142,2,    0.000,2,   96.352,2
  09AR20141205,AU1402,   122,  1,      0,     14,2,20150116,0309,-66.3733, 143.8317,  584,     80.5,  -1.5220,  34.4233,2,-999.0000,9,    298.7,2,   -999.0,9,  -999.00,9,  -999.00,9,  -999.00,9,   -999.0,9,   -999.0,9,    1.226,2,    0.000,2,   96.354,2
  09AR20141205,AU1402,   122,  1,      0,     13,2,20150116,0309,-66.3733, 143.8317,  584,     80.5,  -1.5241,  34.4230,2,-999.0000,9,    298.7,2,   -999.0,9,  -999.00,9,  -999.00,9,  -999.00,9,   -999.0,9,   -999.0,9,    1.301,2,    0.000,2,   96.065,2
  09AR20141205,AU1402,   122,  1,      0,     12,2,20150116,0309,-66.3733, 143.8317,  584,     80.4,  -1.5258,  34.4227,2,-999.0000,9,    298.7,2,   -999.0,9,  -999.00,9,  -999.00,9,  -999.00,9,   -999.0,9,   -999.0,9,    1.298,2,    0.000,2,   96.069,2
  09AR20141205,AU1402,   122,  1,      0,     11,2,20150116,0309,-66.3733, 143.8317,  584,     80.4,  -1.5247,  34.4230,2,-999.0000,9,    298.7,2,   -999.0,9,  -999.00,9,  -999.00,9,  -999.00,9,   -999.0,9,   -999.0,9,    1.316,2,    0.000,2,   96.240,2
  09AR20141205,AU1402,   122,  1,      0,     10,2,20150116,0309,-66.3733, 143.8317,  584,     80.4,  -1.5275,  34.4224,2,-999.0000,9,    298.7,2,   -999.0,9,  -999.00,9,  -999.00,9,  -999.00,9,   -999.0,9,   -999.0,9,    1.478,2,    0.000,2,   96.330,2
  09AR20141205,AU1402,   122,  1,      0,      9,2,20150116,0309,-66.3733, 143.8317,  584,    121.0,  -1.7668,  34.4705,2,  34.4699,2,    301.3,2,    300.0,2,  -999.00,9,  -999.00,9,  -999.00,9,   2231.1,2,   2328.7,6,    0.178,2,    0.000,2,   98.336,2
  09AR20141205,AU1402,   122,  1,      0,      8,2,20150116,0309,-66.3733, 143.8317,  584,    121.0,  -1.7667,  34.4707,2,-999.0000,9,    301.3,2,   -999.0,9,  -999.00,9,  -999.00,9,  -999.00,9,   -999.0,9,   -999.0,9,    0.182,2,    0.000,2,   98.408,2
  09AR20141205,AU1402,   122,  1,      0,      7,2,20150116,0309,-66.3733, 143.8317,  584,    121.0,  -1.7669,  34.4707,2,-999.0000,9,    301.4,2,   -999.0,9,  -999.00,9,  -999.00,9,  -999.00,9,   -999.0,9,   -999.0,9,    0.205,2,    0.000,2,   98.400,2
  09AR20141205,AU1402,   122,  1,      0,      6,2,20150116,0309,-66.3733, 143.8317,  584,    120.9,  -1.7668,  34.4706,2,-999.0000,9,    301.4,2,   -999.0,9,  -999.00,9,  -999.00,9,  -999.00,9,   -999.0,9,   -999.0,9,    0.257,2,    0.000,2,   98.392,2
  09AR20141205,AU1402,   122,  1,      0,      5,2,20150116,0309,-66.3733, 143.8317,  584,    331.6,  -1.9542,  34.5253,2,  34.5234,2,    305.4,2,    305.8,2,  -999.00,9,  -999.00,9,  -999.00,9,   2234.8,6,   2332.7,6,   -0.068,2,    0.000,2,   98.725,2
  09AR20141205,AU1402,   122,  1,      0,      4,2,20150116,0309,-66.3733, 143.8317,  584,    331.6,  -1.9541,  34.5253,2,-999.0000,9,    305.4,2,   -999.0,9,  -999.00,9,  -999.00,9,  -999.00,9,   -999.0,9,   -999.0,9,   -0.065,2,    0.000,2,   98.731,2
  09AR20141205,AU1402,   122,  1,      0,      3,2,20150116,0309,-66.3733, 143.8317,  584,    451.9,  -1.9011,  34.5623,2,-999.0000,9,    306.7,2,    306.7,2,  -999.00,9,  -999.00,9,  -999.00,9,   2236.3,2,   2336.7,2,   -0.079,2,    0.000,2,   98.859,2
  09AR20141205,AU1402,   122,  1,      0,      2,2,20150116,0309,-66.3733, 143.8317,  584,    451.9,  -1.9011,  34.5623,2,-999.0000,9,    306.7,2,   -999.0,9,  -999.00,9,  -999.00,9,  -999.00,9,   -999.0,9,   -999.0,9,   -0.075,2,    0.000,2,   98.876,2
  09AR20141205,AU1402,   122,  1,      0,      1,2,20150116,0309,-66.3733, 143.8317,  584,    584.2,  -1.8917,  34.5943,2,  34.5932,2,    307.1,2,    305.8,2,  -999.00,9,  -999.00,9,  -999.00,9,   2241.4,2,   2336.9,2,   -0.058,2,    0.000,2,   98.575,2
  09AR20141205,AU1402,   123,  1,      0,     24,2,20150116,0446,-66.3273, 143.9787,  500,      7.4,  -0.6591,  34.1295,2,-999.0000,9,    355.8,2,   -999.0,9,  -999.00,9,  -999.00,9,  -999.00,9,   -999.0,9,   -999.0,9,    2.196,2,  152.500,2,   87.543,2
  09AR20141205,AU1402,   123,  1,      0,     23,2,20150116,0446,-66.3273, 143.9787,  500,      7.4,  -0.6622,  34.1279,2,-999.0000,9,    355.8,2,   -999.0,9,  -999.00,9,  -999.00,9,  -999.00,9,   -999.0,9,   -999.0,9,    2.281,2,  153.600,2,   87.461,2
  09AR20141205,AU1402,   123,  1,      0,     22,2,20150116,0446,-66.3273, 143.9787,  500,      7.3,  -0.6695,  34.1325,2,-999.0000,9,    355.8,2,   -999.0,9,  -999.00,9,  -999.00,9,  -999.00,9,   -999.0,9,   -999.0,9,    3.054,2,  161.600,2,   87.011,2
  09AR20141205,AU1402,   123,  1,      0,     21,2,20150116,0446,-66.3273, 143.9787,  500,      7.3,  -0.6742,  34.1473,2,  34.1389,2,    355.8,2,    356.2,2,  -999.00,9,  -999.00,9,  -999.00,9,   2172.0,2,   2312.0,2,    4.602,2,  148.600,2,   87.078,2
  09AR20141205,AU1402,   123,  1,      0,     20,2,20150116,0446,-66.3273, 143.9787,  500,     35.0,  -0.8462,  34.2622,2,-999.0000,9,    352.2,2,   -999.0,9,  -999.00,9,  -999.00,9,  -999.00,9,   -999.0,9,   -999.0,9,    9.260,2,    1.902,2,   87.555,2
  09AR20141205,AU1402,   123,  1,      0,     19,2,20150116,0446,-66.3273, 143.9787,  500,     35.0,  -0.8490,  34.2627,2,  34.2614,2,    353.3,2,    346.0,2,  -999.00,9,  -999.00,9,  -999.00,9,   2187.8,2,   2313.7,2,    9.811,2,    1.874,2,   87.541,2
  09AR20141205,AU1402,   123,  1,      0,     18,2,20150116,0446,-66.3273, 143.9787,  500,     34.9,  -0.8486,  34.2626,2,-999.0000,9,    353.3,2,   -999.0,9,  -999.00,9,  -999.00,9,  -999.00,9,   -999.0,9,   -999.0,9,    9.549,2,    1.848,2,   87.476,2
  09AR20141205,AU1402,   123,  1,      0,     17,2,20150116,0446,-66.3273, 143.9787,  500,     70.5,  -1.3513,  34.3960,2,-999.0000,9,    317.4,2,    313.2,2,  -999.00,9,  -999.00,9,  -999.00,9,   2215.4,2,   2329.2,2,    3.014,2,    0.000,2,   93.808,2
  09AR20141205,AU1402,   123,  1,      0,     16,2,20150116,0446,-66.3273, 143.9787,  500,     70.5,  -1.3530,  34.3964,2,-999.0000,9,    317.4,2,   -999.0,9,  -999.00,9,  -999.00,9,  -999.00,9,   -999.0,9,   -999.0,9,    3.183,2,    0.000,2,   93.859,2
  09AR20141205,AU1402,   123,  1,      0,     15,2,20150116,0446,-66.3273, 143.9787,  500,     70.4,  -1.3503,  34.3956,2,-999.0000,9,    317.4,2,   -999.0,9,  -999.00,9,  -999.00,9,  -999.00,9,   -999.0,9,   -999.0,9,    2.926,2,    0.000,2,   93.605,2
  09AR20141205,AU1402,   123,  1,      0,     14,2,20150116,0446,-66.3273, 143.9787,  500,     70.3,  -1.3483,  34.3950,2,-999.0000,9,    317.4,2,   -999.0,9,  -999.00,9,  -999.00,9,  -999.00,9,   -999.0,9,   -999.0,9,    2.945,2,    0.000,2,   93.602,2
  09AR20141205,AU1402,   123,  1,      0,     13,2,20150116,0446,-66.3273, 143.9787,  500,    120.2,  -1.7057,  34.4685,2,-999.0000,9,    300.2,2,    299.7,2,  -999.00,9,  -999.00,9,  -999.00,9,   -999.0,9,   -999.0,9,    0.412,2,    0.000,2,   98.018,2
  09AR20141205,AU1402,   123,  1,      0,     12,2,20150116,0446,-66.3273, 143.9787,  500,    120.2,  -1.7055,  34.4686,2,-999.0000,9,    300.2,2,   -999.0,9,  -999.00,9,  -999.00,9,  -999.00,9,   -999.0,9,   -999.0,9,    0.391,2,    0.000,2,   98.019,2
  09AR20141205,AU1402,   123,  1,      0,     11,2,20150116,0446,-66.3273, 143.9787,  500,    120.0,  -1.7048,  34.4682,2,-999.0000,9,    300.2,2,   -999.0,9,  -999.00,9,  -999.00,9,  -999.00,9,   -999.0,9,   -999.0,9,    0.340,2,    0.000,2,   98.040,2
  09AR20141205,AU1402,   123,  1,      0,     10,2,20150116,0446,-66.3273, 143.9787,  500,    120.0,  -1.7058,  34.4684,2,-999.0000,9,    300.2,2,   -999.0,9,  -999.00,9,  -999.00,9,  -999.00,9,   2234.9,2,   2327.2,2,    0.328,2,    0.000,2,   98.004,2
  09AR20141205,AU1402,   123,  1,      0,      9,2,20150116,0446,-66.3273, 143.9787,  500,    190.0,  -1.6556,  34.5062,2,  34.5060,2,    287.5,2,    293.8,2,  -999.00,9,  -999.00,9,  -999.00,9,   -999.0,9,   -999.0,9,    0.071,2,    0.000,2,   98.545,2
  09AR20141205,AU1402,   123,  1,      0,      8,2,20150116,0446,-66.3273, 143.9787,  500,    190.0,  -1.6547,  34.5063,2,-999.0000,9,    287.5,2,   -999.0,9,  -999.00,9,  -999.00,9,  -999.00,9,   -999.0,9,   -999.0,9,    0.070,2,    0.000,2,   98.595,2
  09AR20141205,AU1402,   123,  1,      0,      7,2,20150116,0446,-66.3273, 143.9787,  500,    190.0,  -1.6531,  34.5064,2,-999.0000,9,    287.5,2,   -999.0,9,  -999.00,9,  -999.00,9,  -999.00,9,   -999.0,9,   -999.0,9,    0.091,2,    0.000,2,   98.597,2
  09AR20141205,AU1402,   123,  1,      0,      6,2,20150116,0446,-66.3273, 143.9787,  500,    189.5,  -1.6655,  34.5086,2,-999.0000,9,    287.5,2,   -999.0,9,  -999.00,9,  -999.00,9,  -999.00,9,   -999.0,9,   -999.0,9,    0.059,2,    0.000,2,   98.404,2
  09AR20141205,AU1402,   123,  1,      0,      5,2,20150116,0446,-66.3273, 143.9787,  500,    300.6,  -1.8210,  34.5379,2,-999.0000,9,    298.9,2,    300.4,2,  -999.00,9,  -999.00,9,  -999.00,9,   -999.0,9,   -999.0,9,    0.024,2,    0.000,2,   98.662,2
  09AR20141205,AU1402,   123,  1,      0,      4,2,20150116,0446,-66.3273, 143.9787,  500,    300.5,  -1.8207,  34.5378,2,-999.0000,9,    298.9,2,   -999.0,9,  -999.00,9,  -999.00,9,  -999.00,9,   -999.0,9,   -999.0,9,   -0.015,2,    0.000,2,   98.706,2
  09AR20141205,AU1402,   123,  1,      0,      3,2,20150116,0446,-66.3273, 143.9787,  500,    451.6,  -1.9020,  34.5846,2,-999.0000,9,    307.2,2,    307.2,2,  -999.00,9,  -999.00,9,  -999.00,9,   -999.0,9,   -999.0,9,   -0.071,2,    0.000,2,   98.718,2
  09AR20141205,AU1402,   123,  1,      0,      2,2,20150116,0446,-66.3273, 143.9787,  500,    451.5,  -1.9022,  34.5845,2,-999.0000,9,    307.2,2,   -999.0,9,  -999.00,9,  -999.00,9,  -999.00,9,   -999.0,9,   -999.0,9,   -0.080,2,    0.000,2,   98.700,2
  09AR20141205,AU1402,   123,  1,      0,      1,2,20150116,0446,-66.3273, 143.9787,  500,    501.1,  -1.8909,  34.5974,2,  34.5979,2,    305.2,2,    305.0,2,  -999.00,9,  -999.00,9,  -999.00,9,   2241.2,2,   2334.6,2,   -0.008,2,    0.000,2,   98.367,2