BOTTLE,20210329PRINUNIVRMK
EXPOCODE,SECT_ID,STNNBR,CASTNO,SAMPNO,BTLNBR,BTLNBR_FLAG_W,DATE,TIME,LATITUDE,LONGITUDE,DEPTH,CTDPRS,CTDTMP,CTDSAL,CTDSAL_FLAG_W,SALNTY,SALNTY_FLAG_W,CTDOXY,CTDOXY_FLAG_W,OXYGEN,OXYGEN_FLAG_W,SILCAT,SILCAT_FLAG_W,NITRAT,NITRAT_FLAG_W,PHSPHT,PHSPHT_FLAG_W,TCARBN,TCARBN_FLAG_W,ALKALI,ALKALI_FLAG_W,CTDFLUOR,CTDFLUOR_FLAG_W,CTDPAR,CTDPAR_FLAG_W,CTDXMISS,CTDXMISS_FLAG_W
,,,,,,,,,,,METERS,DBAR,ITS-90,PSS-78,,PSS-78,,UMOL/KG,,UMOL/KG,,UMOL/KG,,UMOL/KG,,UMOL/KG,,UMOL/KG,,UMOL/KG,,MG/M^3,,UEINSTEIN/M^2*SEC,,%TRANS,
  09AR20141205,AU1402,    43,  1,      0,     24,2,20150102,0143,-66.8138, 117.5683,  402,      5.8,  -1.3751,  34.1431,2,-999.0000,9,    330.5,2,   -999.0,9,  -999.00,9,  -999.00,9,  -999.00,9,   -999.0,9,   -999.0,9,   -0.094,2,  364.800,2,   98.362,2
  09AR20141205,AU1402,    43,  1,      0,     23,2,20150102,0143,-66.8138, 117.5683,  402,      5.8,  -1.3847,  34.1441,2,-999.0000,9,    330.5,2,   -999.0,9,  -999.00,9,  -999.00,9,  -999.00,9,   -999.0,9,   -999.0,9,   -0.100,2,  362.200,2,   98.361,2
  09AR20141205,AU1402,    43,  1,      0,     22,2,20150102,0143,-66.8138, 117.5683,  402,      5.8,  -1.3946,  34.1449,2,-999.0000,9,    330.5,2,   -999.0,9,  -999.00,9,  -999.00,9,  -999.00,9,   -999.0,9,   -999.0,9,   -0.091,2,  370.000,2,   98.380,2
  09AR20141205,AU1402,    43,  1,      0,     21,2,20150102,0143,-66.8138, 117.5683,  402,      5.8,  -1.3912,  34.1443,2,-999.0000,9,    330.5,2,   -999.0,9,  -999.00,9,  -999.00,9,  -999.00,9,   -999.0,9,   -999.0,9,   -0.097,2,  368.300,2,   98.382,2
  09AR20141205,AU1402,    43,  1,      0,     20,2,20150102,0143,-66.8138, 117.5683,  402,      5.7,  -1.3861,  34.1429,2,-999.0000,9,    330.5,2,   -999.0,9,  -999.00,9,  -999.00,9,  -999.00,9,   -999.0,9,   -999.0,9,   -0.097,2,  365.000,2,   98.371,2
  09AR20141205,AU1402,    43,  1,      0,     19,2,20150102,0143,-66.8138, 117.5683,  402,      5.7,  -1.3823,  34.1426,2,  34.1421,2,    330.5,2,    330.6,2,    60.10,2,    29.53,2,     2.08,3,   2202.2,6,   2308.6,6,   -0.105,2,  360.000,2,   98.368,2
  09AR20141205,AU1402,    43,  1,      0,     18,2,20150102,0143,-66.8138, 117.5683,  402,     35.5,  -1.8042,  34.2376,2,-999.0000,9,    319.9,2,   -999.0,9,  -999.00,9,  -999.00,9,  -999.00,9,   -999.0,9,   -999.0,9,   -0.039,2,   88.420,2,   98.250,2
  09AR20141205,AU1402,    43,  1,      0,     17,2,20150102,0143,-66.8138, 117.5683,  402,     50.5,  -1.8229,  34.2467,2,-999.0000,9,    317.2,2,   -999.0,9,  -999.00,9,  -999.00,9,  -999.00,9,   -999.0,9,   -999.0,9,   -0.039,2,   54.160,2,   98.212,2
  09AR20141205,AU1402,    43,  1,      0,     16,2,20150102,0143,-66.8138, 117.5683,  402,     50.5,  -1.8230,  34.2467,2,-999.0000,9,    317.2,2,   -999.0,9,  -999.00,9,  -999.00,9,  -999.00,9,   -999.0,9,   -999.0,9,   -0.041,2,   54.180,2,   98.248,2
  09AR20141205,AU1402,    43,  1,      0,     15,2,20150102,0143,-66.8138, 117.5683,  402,     50.4,  -1.8229,  34.2466,2,  34.2472,2,    317.2,2,    317.4,2,    63.00,2,    30.27,2,     2.12,3,   2211.7,2,   2314.1,2,   -0.046,2,   53.930,2,   98.263,2
  09AR20141205,AU1402,    43,  1,      0,     14,2,20150102,0143,-66.8138, 117.5683,  402,     50.2,  -1.8244,  34.2471,2,-999.0000,9,    317.2,2,   -999.0,9,  -999.00,9,  -999.00,9,  -999.00,9,   -999.0,9,   -999.0,9,   -0.056,2,   53.540,2,   98.258,2
  09AR20141205,AU1402,    43,  1,      0,     13,2,20150102,0143,-66.8138, 117.5683,  402,     80.1,  -1.8685,  34.2585,2,-999.0000,9,    315.0,2,   -999.0,9,  -999.00,9,  -999.00,9,  -999.00,9,   -999.0,9,   -999.0,9,   -0.040,2,   19.820,2,   98.347,2
  09AR20141205,AU1402,    43,  1,      0,     12,2,20150102,0143,-66.8138, 117.5683,  402,     80.0,  -1.8687,  34.2586,2,-999.0000,9,    315.0,2,   -999.0,9,  -999.00,9,  -999.00,9,  -999.00,9,   -999.0,9,   -999.0,9,   -0.040,2,   19.940,2,   98.332,2
  09AR20141205,AU1402,    43,  1,      0,     11,2,20150102,0143,-66.8138, 117.5683,  402,    100.2,  -1.8728,  34.2606,2,-999.0000,9,    314.3,2,   -999.0,9,  -999.00,9,  -999.00,9,  -999.00,9,   -999.0,9,   -999.0,9,   -0.031,2,   10.320,2,   98.363,2
  09AR20141205,AU1402,    43,  1,      0,     10,2,20150102,0143,-66.8138, 117.5683,  402,    100.2,  -1.8730,  34.2606,2,-999.0000,9,    314.3,2,   -999.0,9,  -999.00,9,  -999.00,9,  -999.00,9,   -999.0,9,   -999.0,9,   -0.034,2,   10.340,2,   98.352,2
  09AR20141205,AU1402,    43,  1,      0,      9,2,20150102,0143,-66.8138, 117.5683,  402,    100.1,  -1.8727,  34.2606,2,  34.2602,2,    314.3,2,    314.1,2,    63.60,2,    30.42,2,     2.13,3,   2215.6,2,   2316.8,6,   -0.034,2,   10.420,2,   98.354,2
  09AR20141205,AU1402,    43,  1,      0,      8,2,20150102,0143,-66.8138, 117.5683,  402,    100.0,  -1.8728,  34.2605,2,-999.0000,9,    314.3,2,   -999.0,9,  -999.00,9,  -999.00,9,  -999.00,9,   -999.0,9,   -999.0,9,   -0.027,2,   10.500,2,   98.370,2
  09AR20141205,AU1402,    43,  1,      0,      7,2,20150102,0143,-66.8138, 117.5683,  402,    151.1,  -1.8706,  34.2674,2,  34.2679,2,    314.1,2,    314.3,2,    63.00,2,    30.37,2,     2.12,3,   2214.8,2,   2317.3,2,   -0.049,2,    1.960,2,   98.436,2
  09AR20141205,AU1402,    43,  1,      0,      6,2,20150102,0143,-66.8138, 117.5683,  402,    151.0,  -1.8707,  34.2674,2,-999.0000,9,    314.1,2,   -999.0,9,  -999.00,9,  -999.00,9,  -999.00,9,   -999.0,9,   -999.0,9,   -0.041,2,    1.966,2,   98.438,2
  09AR20141205,AU1402,    43,  1,      0,      5,2,20150102,0143,-66.8138, 117.5683,  402,    200.8,  -1.8594,  34.2757,2,  34.2761,2,    315.0,2,    314.8,2,  -999.00,9,  -999.00,9,  -999.00,9,   2215.3,2,   2317.7,2,   -0.053,2,    0.347,2,   98.473,2
  09AR20141205,AU1402,    43,  1,      0,      4,2,20150102,0143,-66.8138, 117.5683,  402,    200.4,  -1.8567,  34.2775,2,-999.0000,9,    315.0,2,   -999.0,9,  -999.00,9,  -999.00,9,  -999.00,9,   -999.0,9,   -999.0,9,   -0.068,2,    0.347,2,   98.485,2
  09AR20141205,AU1402,    43,  1,      0,      3,2,20150102,0143,-66.8138, 117.5683,  402,    300.9,  -1.8418,  34.2920,2,  34.2924,2,    315.6,2,    315.3,2,    61.10,2,    30.19,2,     2.11,3,   2215.7,2,   2317.1,2,   -0.068,2,    0.001,2,   98.580,2
  09AR20141205,AU1402,    43,  1,      0,      2,2,20150102,0143,-66.8138, 117.5683,  402,    300.8,  -1.8420,  34.2920,2,-999.0000,9,    315.6,2,   -999.0,9,  -999.00,9,  -999.00,9,  -999.00,9,   -999.0,9,   -999.0,9,   -0.073,2,    0.001,2,   98.568,2
  09AR20141205,AU1402,    43,  1,      0,      1,2,20150102,0143,-66.8138, 117.5683,  402,    424.0,  -1.8403,  34.2989,2,  34.2981,2,    315.6,2,    315.4,2,    60.80,2,    30.24,2,     2.11,3,   2214.8,2,   2317.7,2,   -0.073,2,    0.001,2,   98.520,2
  09AR20141205,AU1402,    44,  1,      0,     24,2,20150102,1148,-66.5993, 119.8548,  523,      5.9,  -0.8767,  34.1818,2,-999.0000,9,    349.1,2,   -999.0,9,  -999.00,9,  -999.00,9,  -999.00,9,   -999.0,9,   -999.0,9,    0.445,2,   24.930,2,   95.174,2
  09AR20141205,AU1402,    44,  1,      0,     23,2,20150102,1148,-66.5993, 119.8548,  523,      5.9,  -0.8578,  34.1819,2,-999.0000,9,    349.1,2,   -999.0,9,  -999.00,9,  -999.00,9,  -999.00,9,   -999.0,9,   -999.0,9,    0.439,2,   25.020,2,   95.205,2
  09AR20141205,AU1402,    44,  1,      0,     22,2,20150102,1148,-66.5993, 119.8548,  523,      5.9,  -0.8448,  34.1820,2,-999.0000,9,    349.1,2,   -999.0,9,  -999.00,9,  -999.00,9,  -999.00,9,   -999.0,9,   -999.0,9,    0.433,2,   25.130,2,   95.180,2
  09AR20141205,AU1402,    44,  1,      0,     21,2,20150102,1148,-66.5993, 119.8548,  523,      5.8,  -0.7785,  34.1821,2,  34.1812,2,    349.1,2,    350.4,2,  -999.00,9,    28.38,2,     1.94,3,   2196.1,6,   2311.1,6,    0.398,2,   25.510,2,   95.339,2
  09AR20141205,AU1402,    44,  1,      0,     20,2,20150102,1148,-66.5993, 119.8548,  523,      5.8,  -0.7987,  34.1818,2,-999.0000,9,    349.1,2,   -999.0,9,  -999.00,9,  -999.00,9,  -999.00,9,   -999.0,9,   -999.0,9,    0.403,2,   25.550,2,   95.312,2
  09AR20141205,AU1402,    44,  1,      0,     19,2,20150102,1148,-66.5993, 119.8548,  523,     20.7,  -0.8646,  34.1808,2,-999.0000,9,    351.4,2,   -999.0,9,  -999.00,9,  -999.00,9,  -999.00,9,   -999.0,9,   -999.0,9,    0.434,2,    9.262,2,   95.539,2
  09AR20141205,AU1402,    44,  1,      0,     18,2,20150102,1148,-66.5993, 119.8548,  523,     20.6,  -0.7181,  34.1809,2,-999.0000,9,    351.4,2,   -999.0,9,  -999.00,9,  -999.00,9,  -999.00,9,   -999.0,9,   -999.0,9,    0.390,2,    9.536,2,   95.636,2
  09AR20141205,AU1402,    44,  1,      0,     17,2,20150102,1148,-66.5993, 119.8548,  523,     20.6,  -0.6930,  34.1818,2,  34.1808,2,    351.4,2,    350.2,2,  -999.00,9,    28.35,2,     1.94,3,   2197.2,2,   2309.9,6,    0.397,2,    9.602,2,   95.546,2
  09AR20141205,AU1402,    44,  1,      0,     16,2,20150102,1148,-66.5993, 119.8548,  523,     51.2,  -1.1774,  34.2019,2,-999.0000,9,    346.9,2,   -999.0,9,  -999.00,9,  -999.00,9,  -999.00,9,   -999.0,9,   -999.0,9,    0.678,2,    1.573,2,   96.026,2
  09AR20141205,AU1402,    44,  1,      0,     15,2,20150102,1148,-66.5993, 119.8548,  523,     51.2,  -1.1944,  34.2030,2,-999.0000,9,    346.9,2,   -999.0,9,  -999.00,9,  -999.00,9,  -999.00,9,   -999.0,9,   -999.0,9,    0.650,2,    1.571,2,   96.100,2
  09AR20141205,AU1402,    44,  1,      0,     14,2,20150102,1148,-66.5993, 119.8548,  523,     51.2,  -1.2177,  34.2034,2,-999.0000,9,    346.9,2,   -999.0,9,  -999.00,9,  -999.00,9,  -999.00,9,   -999.0,9,   -999.0,9,    0.645,2,    1.574,2,   96.121,2
  09AR20141205,AU1402,    44,  1,      0,     13,2,20150102,1148,-66.5993, 119.8548,  523,     51.2,  -1.2357,  34.2033,2,  34.2032,2,    346.9,2,    347.1,2,  -999.00,9,    28.54,2,     1.96,3,   2198.0,2,   2314.5,2,    0.608,2,    1.580,2,   96.242,2
  09AR20141205,AU1402,    44,  1,      0,     12,2,20150102,1148,-66.5993, 119.8548,  523,    125.1,  -1.8226,  34.2439,2,-999.0000,9,    326.0,2,   -999.0,9,  -999.00,9,  -999.00,9,  -999.00,9,   -999.0,9,   -999.0,9,    0.062,2,    0.002,2,   98.497,2
  09AR20141205,AU1402,    44,  1,      0,     11,2,20150102,1148,-66.5993, 119.8548,  523,    125.1,  -1.8228,  34.2439,2,-999.0000,9,    326.0,2,   -999.0,9,  -999.00,9,  -999.00,9,  -999.00,9,   -999.0,9,   -999.0,9,    0.065,2,    0.003,2,   98.501,2
  09AR20141205,AU1402,    44,  1,      0,     10,2,20150102,1148,-66.5993, 119.8548,  523,    125.2,  -1.8224,  34.2439,2,-999.0000,9,    326.0,2,   -999.0,9,  -999.00,9,  -999.00,9,  -999.00,9,   -999.0,9,   -999.0,9,    0.062,2,    0.003,2,   98.423,2
  09AR20141205,AU1402,    44,  1,      0,      9,2,20150102,1148,-66.5993, 119.8548,  523,    125.2,  -1.8240,  34.2438,2,  34.2441,2,    326.0,2,    323.8,2,  -999.00,9,    29.98,2,     2.06,3,   2210.6,2,   2316.0,6,    0.067,2,    0.002,2,   98.503,2
  09AR20141205,AU1402,    44,  1,      0,      8,2,20150102,1148,-66.5993, 119.8548,  523,    250.9,  -1.8490,  34.2808,2,-999.0000,9,    317.9,2,   -999.0,9,  -999.00,9,  -999.00,9,  -999.00,9,   -999.0,9,   -999.0,9,   -0.051,2,    0.001,2,   98.757,2
  09AR20141205,AU1402,    44,  1,      0,      7,2,20150102,1148,-66.5993, 119.8548,  523,    250.8,  -1.8490,  34.2812,2,  34.2806,2,    317.9,2,    320.0,2,  -999.00,9,  -999.00,9,  -999.00,9,   2215.2,2,   2316.5,2,   -0.054,2,    0.001,2,   98.754,2
  09AR20141205,AU1402,    44,  1,      0,      6,2,20150102,1148,-66.5993, 119.8548,  523,    400.9,  -1.8074,  34.3212,2,-999.0000,9,    316.3,2,   -999.0,9,  -999.00,9,  -999.00,9,  -999.00,9,   -999.0,9,   -999.0,9,   -0.093,2,    0.000,2,   98.911,2
  09AR20141205,AU1402,    44,  1,      0,      5,2,20150102,1148,-66.5993, 119.8548,  523,    400.7,  -1.8128,  34.3205,2,  34.3229,2,    316.3,2,    316.0,2,  -999.00,9,    30.22,2,     2.07,3,   2219.1,2,   2315.7,2,   -0.089,2,    0.000,2,   98.919,2
  09AR20141205,AU1402,    44,  1,      0,      4,2,20150102,1148,-66.5993, 119.8548,  523,    482.5,  -1.4835,  34.3768,2,-999.0000,9,    298.5,2,   -999.0,9,  -999.00,9,  -999.00,9,  -999.00,9,   -999.0,9,   -999.0,9,   -0.089,2,    0.000,2,   98.843,2
  09AR20141205,AU1402,    44,  1,      0,      3,2,20150102,1148,-66.5993, 119.8548,  523,    482.3,  -1.4846,  34.3767,2,  34.3760,2,    298.5,2,    300.5,2,  -999.00,9,  -999.00,9,  -999.00,9,   2224.5,2,   2324.2,2,   -0.093,2,    0.000,2,   98.836,2
  09AR20141205,AU1402,    44,  1,      0,      2,2,20150102,1148,-66.5993, 119.8548,  523,    520.2,  -1.1616,  34.4154,2,-999.0000,9,    287.6,2,   -999.0,9,  -999.00,9,  -999.00,9,  -999.00,9,   -999.0,9,   -999.0,9,   -0.088,2,    0.001,2,   98.662,2
  09AR20141205,AU1402,    44,  1,      0,      1,2,20150102,1148,-66.5993, 119.8548,  523,    523.0,  -1.1606,  34.4154,2,  34.4121,2,    287.6,2,    286.9,2,  -999.00,9,    30.91,2,     2.12,3,   2228.4,2,   2324.9,2,   -0.080,2,    0.001,2,   98.655,2
  09AR20141205,AU1402,    45,  1,      0,     24,2,20150102,1350,-66.4517, 119.9043,  664,      7.3,  -0.8169,  34.1575,2,-999.0000,9,    338.0,2,   -999.0,9,  -999.00,9,  -999.00,9,  -999.00,9,   -999.0,9,   -999.0,9,    0.219,2,    6.485,2,   97.246,2
  09AR20141205,AU1402,    45,  1,      0,     23,2,20150102,1350,-66.4517, 119.9043,  664,      7.2,  -0.8147,  34.1577,2,-999.0000,9,    338.0,2,   -999.0,9,  -999.00,9,  -999.00,9,  -999.00,9,   -999.0,9,   -999.0,9,    0.230,2,    6.511,2,   97.249,2
  09AR20141205,AU1402,    45,  1,      0,     22,2,20150102,1350,-66.4517, 119.9043,  664,      7.2,  -0.8177,  34.1583,2,-999.0000,9,    338.0,2,   -999.0,9,  -999.00,9,  -999.00,9,  -999.00,9,   -999.0,9,   -999.0,9,    0.201,2,    6.522,2,   97.247,2
  09AR20141205,AU1402,    45,  1,      0,     21,2,20150102,1350,-66.4517, 119.9043,  664,      7.2,  -0.8806,  34.1589,2,  34.1581,2,    338.0,2,    338.1,2,  -999.00,9,  -999.00,9,  -999.00,9,   2201.1,2,   2312.3,2,    0.204,2,    6.464,2,   97.156,2
  09AR20141205,AU1402,    45,  1,      0,     20,2,20150102,1350,-66.4517, 119.9043,  664,     20.6,  -1.1994,  34.1709,2,-999.0000,9,    337.9,2,   -999.0,9,  -999.00,9,  -999.00,9,  -999.00,9,   -999.0,9,   -999.0,9,    0.309,2,    2.978,2,   96.445,2
  09AR20141205,AU1402,    45,  1,      0,     19,2,20150102,1350,-66.4517, 119.9043,  664,     20.5,  -1.1952,  34.1709,2,  34.1726,2,    337.9,2,    336.2,2,  -999.00,9,  -999.00,9,  -999.00,9,   2201.7,2,   2310.1,6,    0.323,2,    2.958,2,   96.510,2
  09AR20141205,AU1402,    45,  1,      0,     18,2,20150102,1350,-66.4517, 119.9043,  664,     45.5,  -1.7511,  34.2412,2,-999.0000,9,    325.7,2,   -999.0,9,  -999.00,9,  -999.00,9,  -999.00,9,   -999.0,9,   -999.0,9,    1.028,2,    1.027,2,   95.737,2
  09AR20141205,AU1402,    45,  1,      0,     17,2,20150102,1350,-66.4517, 119.9043,  664,     45.4,  -1.7632,  34.2436,2,  34.2403,2,    325.7,2,    324.0,2,  -999.00,9,  -999.00,9,  -999.00,9,   2208.1,2,   2313.5,2,    0.961,2,    1.026,2,   95.683,2
  09AR20141205,AU1402,    45,  1,      0,     16,2,20150102,1350,-66.4517, 119.9043,  664,    100.5,  -1.8323,  34.2621,2,-999.0000,9,    313.3,2,   -999.0,9,  -999.00,9,  -999.00,9,  -999.00,9,   -999.0,9,   -999.0,9,    0.058,2,    0.049,2,   98.588,2
  09AR20141205,AU1402,    45,  1,      0,     15,2,20150102,1350,-66.4517, 119.9043,  664,    100.5,  -1.8328,  34.2621,2,  34.2598,2,    313.3,2,    313.4,2,  -999.00,9,  -999.00,9,  -999.00,9,   2214.6,2,   2317.8,2,    0.052,2,    0.051,2,   98.578,2
  09AR20141205,AU1402,    45,  1,      0,     14,2,20150102,1350,-66.4517, 119.9043,  664,    175.3,  -1.7666,  34.2809,2,-999.0000,9,    305.8,2,   -999.0,9,  -999.00,9,  -999.00,9,  -999.00,9,   -999.0,9,   -999.0,9,   -0.076,2,    0.001,2,   98.799,2
  09AR20141205,AU1402,    45,  1,      0,     13,2,20150102,1350,-66.4517, 119.9043,  664,    175.3,  -1.7664,  34.2810,2,-999.0000,9,    305.8,2,   -999.0,9,  -999.00,9,  -999.00,9,  -999.00,9,   -999.0,9,   -999.0,9,   -0.076,2,    0.001,2,   98.793,2
  09AR20141205,AU1402,    45,  1,      0,     12,2,20150102,1350,-66.4517, 119.9043,  664,    175.3,  -1.7664,  34.2809,2,-999.0000,9,    305.8,2,   -999.0,9,  -999.00,9,  -999.00,9,  -999.00,9,   -999.0,9,   -999.0,9,   -0.081,2,    0.001,2,   98.794,2
  09AR20141205,AU1402,    45,  1,      0,     11,2,20150102,1350,-66.4517, 119.9043,  664,    175.2,  -1.7662,  34.2811,2,  34.2764,2,    305.8,2,    307.8,2,  -999.00,9,  -999.00,9,  -999.00,9,   2216.1,6,   2317.6,6,   -0.083,2,    0.001,2,   98.774,2
  09AR20141205,AU1402,    45,  1,      0,     10,2,20150102,1350,-66.4517, 119.9043,  664,    375.3,  -1.8440,  34.3078,2,-999.0000,9,    316.1,2,   -999.0,9,  -999.00,9,  -999.00,9,  -999.00,9,   -999.0,9,   -999.0,9,   -0.088,2,    0.000,2,   98.858,2
  09AR20141205,AU1402,    45,  1,      0,      9,2,20150102,1350,-66.4517, 119.9043,  664,    375.2,  -1.8437,  34.3077,2,  34.3066,2,    316.1,2,    317.5,2,  -999.00,9,  -999.00,9,  -999.00,9,   2215.2,2,   2319.7,6,   -0.091,2,    0.000,2,   98.851,2
  09AR20141205,AU1402,    45,  1,      0,      8,2,20150102,1350,-66.4517, 119.9043,  664,    500.6,  -1.7744,  34.3375,2,-999.0000,9,    316.4,2,   -999.0,9,  -999.00,9,  -999.00,9,  -999.00,9,   -999.0,9,   -999.0,9,   -0.095,2,    0.000,2,   98.867,2
  09AR20141205,AU1402,    45,  1,      0,      7,2,20150102,1350,-66.4517, 119.9043,  664,    500.5,  -1.7746,  34.3375,2,  34.3416,2,    316.4,2,    314.8,2,  -999.00,9,  -999.00,9,  -999.00,9,   2218.0,2,   2326.1,2,   -0.098,2,    0.000,2,   98.856,2
  09AR20141205,AU1402,    45,  1,      0,      6,2,20150102,1350,-66.4517, 119.9043,  664,    625.5,  -0.2972,  34.5356,2,-999.0000,9,    254.5,2,   -999.0,9,  -999.00,9,  -999.00,9,  -999.00,9,   -999.0,9,   -999.0,9,   -0.090,2,    0.000,2,   98.511,2
  09AR20141205,AU1402,    45,  1,      0,      5,2,20150102,1350,-66.4517, 119.9043,  664,    625.5,  -0.2730,  34.5394,2,-999.0000,9,    254.5,2,   -999.0,9,  -999.00,9,  -999.00,9,  -999.00,9,   -999.0,9,   -999.0,9,   -0.089,2,    0.000,2,   98.478,2
  09AR20141205,AU1402,    45,  1,      0,      4,2,20150102,1350,-66.4517, 119.9043,  664,    625.5,  -0.2715,  34.5395,2,-999.0000,9,    254.5,2,   -999.0,9,  -999.00,9,  -999.00,9,  -999.00,9,   -999.0,9,   -999.0,9,   -0.086,2,    0.000,2,   98.464,2
  09AR20141205,AU1402,    45,  1,      0,      3,2,20150102,1350,-66.4517, 119.9043,  664,    625.4,  -0.2891,  34.5373,2,  34.5374,2,    254.5,2,    250.0,2,  -999.00,9,  -999.00,9,  -999.00,9,   2242.0,2,   2336.0,2,   -0.085,2,    0.000,2,   98.489,2
  09AR20141205,AU1402,    45,  1,      0,      2,2,20150102,1350,-66.4517, 119.9043,  664,    673.4,  -0.1194,  34.5621,2,-999.0000,9,    243.5,2,   -999.0,9,  -999.00,9,  -999.00,9,  -999.00,9,   -999.0,9,   -999.0,9,   -0.084,2,    0.000,2,   98.205,2
  09AR20141205,AU1402,    45,  1,      0,      1,2,20150102,1350,-66.4517, 119.9043,  664,    673.3,  -0.1164,  34.5626,2,  34.5607,2,    243.5,2,    243.0,2,  -999.00,9,  -999.00,9,  -999.00,9,   2244.2,2,   2337.1,2,   -0.089,2,    0.000,2,   98.207,2