BOTTLE,20210329PRINUNIVRMK
EXPOCODE,SECT_ID,STNNBR,CASTNO,SAMPNO,BTLNBR,BTLNBR_FLAG_W,DATE,TIME,LATITUDE,LONGITUDE,DEPTH,CTDPRS,CTDTMP,CTDSAL,CTDSAL_FLAG_W,SALNTY,SALNTY_FLAG_W,CTDOXY,CTDOXY_FLAG_W,OXYGEN,OXYGEN_FLAG_W,SILCAT,SILCAT_FLAG_W,NITRAT,NITRAT_FLAG_W,PHSPHT,PHSPHT_FLAG_W,TCARBN,TCARBN_FLAG_W,ALKALI,ALKALI_FLAG_W,CTDFLUOR,CTDFLUOR_FLAG_W,CTDPAR,CTDPAR_FLAG_W,CTDXMISS,CTDXMISS_FLAG_W
,,,,,,,,,,,METERS,DBAR,ITS-90,PSS-78,,PSS-78,,UMOL/KG,,UMOL/KG,,UMOL/KG,,UMOL/KG,,UMOL/KG,,UMOL/KG,,UMOL/KG,,MG/M^3,,UEINSTEIN/M^2*SEC,,%TRANS,
  09AR20141205,AU1402,    64,  1,      0,     24,2,20150105,0551,-66.5662, 120.5295,  454,      8.3,  -0.5272,  34.2156,2,  34.2160,2,    352.5,2,    352.8,2,  -999.00,9,    27.95,2,     1.92,3,   2195.6,2,   2313.2,2,    0.069,2,  480.100,2,   94.751,2
  09AR20141205,AU1402,    64,  1,      0,     23,2,20150105,0551,-66.5662, 120.5295,  454,      8.3,  -0.5255,  34.2155,2,-999.0000,9,    352.5,2,   -999.0,9,  -999.00,9,  -999.00,9,  -999.00,9,   -999.0,9,   -999.0,9,    0.061,2,  475.700,2,   94.745,2
  09AR20141205,AU1402,    64,  1,      0,     22,2,20150105,0551,-66.5662, 120.5295,  454,      8.3,  -0.5300,  34.2157,2,-999.0000,9,    352.5,2,   -999.0,9,  -999.00,9,  -999.00,9,  -999.00,9,   -999.0,9,   -999.0,9,    0.054,2,  461.300,2,   94.740,2
  09AR20141205,AU1402,    64,  1,      0,     21,2,20150105,0551,-66.5662, 120.5295,  454,      8.1,  -0.5246,  34.2157,2,-999.0000,9,    352.5,2,   -999.0,9,  -999.00,9,  -999.00,9,  -999.00,9,   -999.0,9,   -999.0,9,    0.051,2,  458.200,2,   94.744,2
  09AR20141205,AU1402,    64,  1,      0,     20,2,20150105,0551,-66.5662, 120.5295,  454,     25.3,  -0.6596,  34.2164,2,  34.2227,2,    351.3,2,    352.7,2,  -999.00,9,    28.01,2,     1.93,3,   2199.5,2,   2311.4,2,    0.228,2,  138.500,2,   94.566,2
  09AR20141205,AU1402,    64,  1,      0,     19,2,20150105,0551,-66.5662, 120.5295,  454,     25.2,  -0.6777,  34.2176,2,-999.0000,9,    351.3,2,   -999.0,9,  -999.00,9,  -999.00,9,  -999.00,9,   -999.0,9,   -999.0,9,    0.258,2,  150.300,2,   94.533,2
  09AR20141205,AU1402,    64,  1,      0,     18,2,20150105,0551,-66.5662, 120.5295,  454,     50.7,  -0.8284,  34.2170,2,  34.2195,2,    348.9,2,    351.8,2,  -999.00,9,    28.11,2,     1.93,3,   2200.2,2,   2312.9,2,    0.902,2,   27.490,2,   94.166,2
  09AR20141205,AU1402,    64,  1,      0,     17,2,20150105,0551,-66.5662, 120.5295,  454,     50.6,  -0.9019,  34.2175,2,-999.0000,9,    348.9,2,   -999.0,9,  -999.00,9,  -999.00,9,  -999.00,9,   -999.0,9,   -999.0,9,    0.973,2,   20.160,2,   94.038,2
  09AR20141205,AU1402,    64,  1,      0,     16,2,20150105,0551,-66.5662, 120.5295,  454,     50.4,  -0.8995,  34.2172,2,-999.0000,9,    348.9,2,   -999.0,9,  -999.00,9,  -999.00,9,  -999.00,9,   -999.0,9,   -999.0,9,    1.000,2,   26.740,2,   94.012,2
  09AR20141205,AU1402,    64,  1,      0,     15,2,20150105,0551,-66.5662, 120.5295,  454,    100.9,  -1.6116,  34.2307,2,  34.2295,2,    333.0,2,    333.4,2,  -999.00,9,    29.60,2,     1.95,3,   2206.6,2,   2313.3,2,    0.774,2,    1.372,2,   97.200,2
  09AR20141205,AU1402,    64,  1,      0,     14,2,20150105,0551,-66.5662, 120.5295,  454,    100.8,  -1.6104,  34.2308,2,-999.0000,9,    333.0,2,   -999.0,9,  -999.00,9,  -999.00,9,  -999.00,9,   -999.0,9,   -999.0,9,    0.687,2,    1.414,2,   97.185,2
  09AR20141205,AU1402,    64,  1,      0,     13,2,20150105,0551,-66.5662, 120.5295,  454,    100.7,  -1.6176,  34.2309,2,-999.0000,9,    333.0,2,   -999.0,9,  -999.00,9,  -999.00,9,  -999.00,9,   -999.0,9,   -999.0,9,    0.698,2,    1.488,2,   97.317,2
  09AR20141205,AU1402,    64,  1,      0,     12,2,20150105,0551,-66.5662, 120.5295,  454,    231.2,  -1.8623,  34.2519,2,-999.0000,9,    317.4,2,   -999.0,9,  -999.00,9,  -999.00,9,  -999.00,9,   -999.0,9,   -999.0,9,   -0.055,2,    0.000,2,   98.488,2
  09AR20141205,AU1402,    64,  1,      0,     11,2,20150105,0551,-66.5662, 120.5295,  454,    231.1,  -1.8626,  34.2516,2,  34.2507,2,    317.4,2,    317.5,2,  -999.00,9,  -999.00,9,  -999.00,9,   2214.6,2,   2313.8,6,   -0.067,2,    0.000,2,   98.484,2
  09AR20141205,AU1402,    64,  1,      0,     10,2,20150105,0551,-66.5662, 120.5295,  454,    230.9,  -1.8616,  34.2521,2,-999.0000,9,    317.4,2,   -999.0,9,  -999.00,9,  -999.00,9,  -999.00,9,   -999.0,9,   -999.0,9,   -0.061,2,    0.000,2,   98.489,2
  09AR20141205,AU1402,    64,  1,      0,      9,2,20150105,0551,-66.5662, 120.5295,  454,    230.9,  -1.8608,  34.2525,2,-999.0000,9,    317.4,2,   -999.0,9,  -999.00,9,  -999.00,9,  -999.00,9,   -999.0,9,   -999.0,9,   -0.054,2,    0.000,2,   98.498,2
  09AR20141205,AU1402,    64,  1,      0,      8,2,20150105,0551,-66.5662, 120.5295,  454,    331.4,  -1.6280,  34.3387,2,-999.0000,9,    307.8,2,   -999.0,9,  -999.00,9,  -999.00,9,  -999.00,9,   -999.0,9,   -999.0,9,   -0.076,2,    0.000,2,   98.565,2
  09AR20141205,AU1402,    64,  1,      0,      7,2,20150105,0551,-66.5662, 120.5295,  454,    331.3,  -1.6293,  34.3388,2,  34.3386,2,    307.8,2,    307.6,2,  -999.00,9,    30.54,2,     2.06,3,   2222.1,2,   2319.0,2,   -0.078,2,    0.000,2,   98.573,2
  09AR20141205,AU1402,    64,  1,      0,      6,2,20150105,0551,-66.5662, 120.5295,  454,    401.4,  -1.1395,  34.4150,2,-999.0000,9,    284.9,2,   -999.0,9,  -999.00,9,  -999.00,9,  -999.00,9,   -999.0,9,   -999.0,9,   -0.079,2,    0.000,2,   98.269,2
  09AR20141205,AU1402,    64,  1,      0,      5,2,20150105,0551,-66.5662, 120.5295,  454,    401.3,  -1.1398,  34.4150,2,  34.4138,2,    284.9,2,    285.0,2,  -999.00,9,  -999.00,9,  -999.00,9,   2229.6,2,   2324.0,2,   -0.088,2,    0.000,2,   98.257,2
  09AR20141205,AU1402,    64,  1,      0,      4,2,20150105,0551,-66.5662, 120.5295,  454,    400.8,  -1.1401,  34.4149,2,-999.0000,9,    284.9,2,   -999.0,9,  -999.00,9,  -999.00,9,  -999.00,9,   -999.0,9,   -999.0,9,   -0.082,2,    0.000,2,   98.247,2
  09AR20141205,AU1402,    64,  1,      0,      3,2,20150105,0551,-66.5662, 120.5295,  454,    400.7,  -1.1404,  34.4149,2,-999.0000,9,    284.9,2,   -999.0,9,  -999.00,9,  -999.00,9,  -999.00,9,   -999.0,9,   -999.0,9,   -0.083,2,    0.000,2,   98.269,2
  09AR20141205,AU1402,    64,  1,      0,      2,2,20150105,0551,-66.5662, 120.5295,  454,    454.1,  -1.1039,  34.4209,2,-999.0000,9,    283.4,2,   -999.0,9,  -999.00,9,  -999.00,9,  -999.00,9,   -999.0,9,   -999.0,9,   -0.085,2,    0.000,2,   98.340,2
  09AR20141205,AU1402,    64,  1,      0,      1,2,20150105,0551,-66.5662, 120.5295,  454,    454.1,  -1.1004,  34.4213,2,  34.4191,2,    283.4,2,    283.6,2,  -999.00,9,    31.15,2,     2.13,3,   2230.8,6,   2325.1,6,   -0.088,2,    0.000,2,   98.332,2
  09AR20141205,AU1402,    65,  1,      0,     24,2,20150105,0729,-66.6160, 120.5873,  361,      7.8,  -0.5826,  34.2100,2,-999.0000,9,    348.0,2,   -999.0,9,  -999.00,9,  -999.00,9,  -999.00,9,   -999.0,9,   -999.0,9,    0.276,2,   77.170,2,   95.002,2
  09AR20141205,AU1402,    65,  1,      0,     23,2,20150105,0729,-66.6160, 120.5873,  361,      7.8,  -0.5836,  34.2099,2,-999.0000,9,    348.0,2,   -999.0,9,  -999.00,9,  -999.00,9,  -999.00,9,   -999.0,9,   -999.0,9,    0.272,2,   72.540,2,   94.984,2
  09AR20141205,AU1402,    65,  1,      0,     22,2,20150105,0729,-66.6160, 120.5873,  361,      7.7,  -0.5828,  34.2100,2,-999.0000,9,    348.0,2,   -999.0,9,  -999.00,9,  -999.00,9,  -999.00,9,   -999.0,9,   -999.0,9,    0.251,2,   70.340,2,   95.002,2
  09AR20141205,AU1402,    65,  1,      0,     21,2,20150105,0729,-66.6160, 120.5873,  361,      7.7,  -0.5829,  34.2101,2,  34.2093,2,    348.0,2,    348.5,2,  -999.00,9,  -999.00,9,  -999.00,9,   2199.1,2,   2311.3,2,    0.241,2,   70.590,2,   95.000,2
  09AR20141205,AU1402,    65,  1,      0,     20,2,20150105,0729,-66.6160, 120.5873,  361,      7.7,  -0.5833,  34.2102,2,-999.0000,9,    348.0,2,   -999.0,9,  -999.00,9,  -999.00,9,  -999.00,9,   -999.0,9,   -999.0,9,    0.243,2,   71.960,2,   94.979,2
  09AR20141205,AU1402,    65,  1,      0,     19,2,20150105,0729,-66.6160, 120.5873,  361,     20.9,  -0.5852,  34.2101,2,-999.0000,9,    348.3,2,   -999.0,9,  -999.00,9,  -999.00,9,  -999.00,9,   -999.0,9,   -999.0,9,    0.298,2,   30.960,2,   94.989,2
  09AR20141205,AU1402,    65,  1,      0,     18,2,20150105,0729,-66.6160, 120.5873,  361,     20.9,  -0.6004,  34.2103,2,-999.0000,9,    348.3,2,   -999.0,9,  -999.00,9,  -999.00,9,  -999.00,9,   -999.0,9,   -999.0,9,    0.393,2,   30.310,2,   95.003,2
  09AR20141205,AU1402,    65,  1,      0,     17,2,20150105,0729,-66.6160, 120.5873,  361,     20.8,  -0.6245,  34.2104,2,  34.2093,2,    348.3,2,    348.0,2,  -999.00,9,  -999.00,9,  -999.00,9,   2199.8,6,   2311.2,6,    0.416,2,   31.910,2,   94.992,2
  09AR20141205,AU1402,    65,  1,      0,     16,2,20150105,0729,-66.6160, 120.5873,  361,     20.7,  -0.6080,  34.2098,2,-999.0000,9,    348.3,2,   -999.0,9,  -999.00,9,  -999.00,9,  -999.00,9,   -999.0,9,   -999.0,9,    0.399,2,   31.250,2,   94.999,2
  09AR20141205,AU1402,    65,  1,      0,     15,2,20150105,0729,-66.6160, 120.5873,  361,     49.6,  -1.4098,  34.2237,2,-999.0000,9,    336.0,2,   -999.0,9,  -999.00,9,  -999.00,9,  -999.00,9,   -999.0,9,   -999.0,9,    1.214,2,    7.867,2,   94.822,2
  09AR20141205,AU1402,    65,  1,      0,     14,2,20150105,0729,-66.6160, 120.5873,  361,     49.6,  -1.4078,  34.2237,2,-999.0000,9,    336.0,2,   -999.0,9,  -999.00,9,  -999.00,9,  -999.00,9,   -999.0,9,   -999.0,9,    1.210,2,    8.204,2,   94.775,2
  09AR20141205,AU1402,    65,  1,      0,     13,2,20150105,0729,-66.6160, 120.5873,  361,     49.5,  -1.4138,  34.2241,2,  34.2219,2,    336.0,2,    336.3,2,  -999.00,9,  -999.00,9,  -999.00,9,   2203.5,2,   2311.3,2,    1.204,2,    8.273,2,   94.741,2
  09AR20141205,AU1402,    65,  1,      0,     12,2,20150105,0729,-66.6160, 120.5873,  361,     49.4,  -1.4171,  34.2242,2,-999.0000,9,    336.0,2,   -999.0,9,  -999.00,9,  -999.00,9,  -999.00,9,   -999.0,9,   -999.0,9,    1.202,2,    8.164,2,   94.764,2
  09AR20141205,AU1402,    65,  1,      0,     11,2,20150105,0729,-66.6160, 120.5873,  361,    151.0,  -1.8335,  34.2393,2,-999.0000,9,    316.6,2,   -999.0,9,  -999.00,9,  -999.00,9,  -999.00,9,   -999.0,9,   -999.0,9,    0.138,2,    0.000,2,   98.171,2
  09AR20141205,AU1402,    65,  1,      0,     10,2,20150105,0729,-66.6160, 120.5873,  361,    150.9,  -1.8337,  34.2393,2,-999.0000,9,    316.6,2,   -999.0,9,  -999.00,9,  -999.00,9,  -999.00,9,   -999.0,9,   -999.0,9,    0.127,2,    0.000,2,   98.153,2
  09AR20141205,AU1402,    65,  1,      0,      9,2,20150105,0729,-66.6160, 120.5873,  361,    150.9,  -1.8364,  34.2392,2,  34.2369,2,    316.6,2,    316.8,2,  -999.00,9,  -999.00,9,  -999.00,9,   2213.1,2,   2311.2,2,    0.148,2,    0.000,2,   98.164,2
  09AR20141205,AU1402,    65,  1,      0,      8,2,20150105,0729,-66.6160, 120.5873,  361,    150.7,  -1.8386,  34.2391,2,-999.0000,9,    316.6,2,   -999.0,9,  -999.00,9,  -999.00,9,  -999.00,9,   -999.0,9,   -999.0,9,    0.113,2,    0.000,2,   98.154,2
  09AR20141205,AU1402,    65,  1,      0,      7,2,20150105,0729,-66.6160, 120.5873,  361,    241.1,  -1.8185,  34.2705,2,-999.0000,9,    316.8,2,   -999.0,9,  -999.00,9,  -999.00,9,  -999.00,9,   -999.0,9,   -999.0,9,   -0.070,2,    0.000,2,   98.494,2
  09AR20141205,AU1402,    65,  1,      0,      6,2,20150105,0729,-66.6160, 120.5873,  361,    241.0,  -1.8211,  34.2694,2,-999.0000,9,    316.8,2,   -999.0,9,  -999.00,9,  -999.00,9,  -999.00,9,   -999.0,9,   -999.0,9,   -0.067,2,    0.000,2,   98.492,2
  09AR20141205,AU1402,    65,  1,      0,      5,2,20150105,0729,-66.6160, 120.5873,  361,    240.9,  -1.8232,  34.2685,2,-999.0000,9,    317.0,2,    315.9,2,  -999.00,9,  -999.00,9,  -999.00,9,   2216.3,2,   2313.1,2,   -0.061,2,    0.000,2,   98.484,2
  09AR20141205,AU1402,    65,  1,      0,      4,2,20150105,0729,-66.6160, 120.5873,  361,    311.1,  -1.7793,  34.2822,2,-999.0000,9,    313.9,2,   -999.0,9,  -999.00,9,  -999.00,9,  -999.00,9,   -999.0,9,   -999.0,9,   -0.078,2,    0.000,2,   98.384,2
  09AR20141205,AU1402,    65,  1,      0,      3,2,20150105,0729,-66.6160, 120.5873,  361,    311.0,  -1.7792,  34.2823,2,-999.0000,9,    313.9,2,   -999.0,9,  -999.00,9,  -999.00,9,  -999.00,9,   -999.0,9,   -999.0,9,   -0.078,2,    0.000,2,   98.393,2
  09AR20141205,AU1402,    65,  1,      0,      2,2,20150105,0729,-66.6160, 120.5873,  361,    365.9,  -1.7507,  34.2882,2,-999.0000,9,    312.1,2,   -999.0,9,  -999.00,9,  -999.00,9,  -999.00,9,   -999.0,9,   -999.0,9,   -0.079,2,    0.000,2,   98.381,2
  09AR20141205,AU1402,    65,  1,      0,      1,2,20150105,0729,-66.6160, 120.5873,  361,    365.8,  -1.7489,  34.2887,2,  34.2865,2,    312.1,2,    312.7,2,  -999.00,9,  -999.00,9,  -999.00,9,   2216.9,2,   2313.4,6,   -0.085,2,    0.000,2,   98.379,2
  09AR20141205,AU1402,    66,  1,      0,     24,2,20150105,0902,-66.6673, 120.6493,  306,      8.7,  -0.7756,  34.2142,2,-999.0000,9,    346.6,2,   -999.0,9,  -999.00,9,  -999.00,9,  -999.00,9,   -999.0,9,   -999.0,9,    0.424,2,   69.060,2,   94.563,2
  09AR20141205,AU1402,    66,  1,      0,     23,2,20150105,0902,-66.6673, 120.6493,  306,      8.7,  -0.7750,  34.2142,2,-999.0000,9,    346.6,2,   -999.0,9,  -999.00,9,  -999.00,9,  -999.00,9,   -999.0,9,   -999.0,9,    0.434,2,   68.190,2,   94.556,2
  09AR20141205,AU1402,    66,  1,      0,     22,2,20150105,0902,-66.6673, 120.6493,  306,      8.7,  -0.7750,  34.2142,2,-999.0000,9,    346.6,2,   -999.0,9,  -999.00,9,  -999.00,9,  -999.00,9,   -999.0,9,   -999.0,9,    0.387,2,   66.170,2,   94.554,2
  09AR20141205,AU1402,    66,  1,      0,     21,2,20150105,0902,-66.6673, 120.6493,  306,      8.7,  -0.7767,  34.2143,2,  34.2146,2,    346.6,2,    346.2,2,  -999.00,9,  -999.00,9,  -999.00,9,   2198.6,6,   2312.5,6,    0.398,2,   64.320,2,   94.556,2
  09AR20141205,AU1402,    66,  1,      0,     20,2,20150105,0902,-66.6673, 120.6493,  306,      8.6,  -0.7756,  34.2143,2,-999.0000,9,    346.6,2,   -999.0,9,  -999.00,9,  -999.00,9,  -999.00,9,   -999.0,9,   -999.0,9,    0.437,2,   62.980,2,   94.542,2
  09AR20141205,AU1402,    66,  1,      0,     19,2,20150105,0902,-66.6673, 120.6493,  306,     21.3,  -0.7661,  34.2152,2,-999.0000,9,    346.8,2,   -999.0,9,  -999.00,9,  -999.00,9,  -999.00,9,   -999.0,9,   -999.0,9,    0.599,2,   23.280,2,   94.441,2
  09AR20141205,AU1402,    66,  1,      0,     18,2,20150105,0902,-66.6673, 120.6493,  306,     21.3,  -0.7689,  34.2153,2,-999.0000,9,    346.8,2,   -999.0,9,  -999.00,9,  -999.00,9,  -999.00,9,   -999.0,9,   -999.0,9,    0.675,2,   23.590,2,   94.430,2
  09AR20141205,AU1402,    66,  1,      0,     17,2,20150105,0902,-66.6673, 120.6493,  306,     21.3,  -0.7670,  34.2151,2,  34.2152,2,    346.8,2,    346.5,2,  -999.00,9,  -999.00,9,  -999.00,9,   2195.9,2,   2312.9,2,    0.660,2,   23.680,2,   94.432,2
  09AR20141205,AU1402,    66,  1,      0,     16,2,20150105,0902,-66.6673, 120.6493,  306,     21.3,  -0.7670,  34.2154,2,-999.0000,9,    346.8,2,   -999.0,9,  -999.00,9,  -999.00,9,  -999.00,9,   -999.0,9,   -999.0,9,    0.666,2,   24.040,2,   94.441,2
  09AR20141205,AU1402,    66,  1,      0,     15,2,20150105,0902,-66.6673, 120.6493,  306,     61.0,  -1.4529,  34.2231,2,-999.0000,9,    335.0,2,   -999.0,9,  -999.00,9,  -999.00,9,  -999.00,9,   -999.0,9,   -999.0,9,    1.200,2,    2.684,2,   95.104,2
  09AR20141205,AU1402,    66,  1,      0,     14,2,20150105,0902,-66.6673, 120.6493,  306,     61.0,  -1.4525,  34.2232,2,-999.0000,9,    335.0,2,   -999.0,9,  -999.00,9,  -999.00,9,  -999.00,9,   -999.0,9,   -999.0,9,    1.266,2,    2.735,2,   95.147,2
  09AR20141205,AU1402,    66,  1,      0,     13,2,20150105,0902,-66.6673, 120.6493,  306,     61.0,  -1.4493,  34.2230,2,  34.2215,2,    335.4,2,    335.0,2,  -999.00,9,  -999.00,9,  -999.00,9,   2204.6,2,   2311.6,2,    1.280,2,    2.804,2,   95.157,2
  09AR20141205,AU1402,    66,  1,      0,     12,2,20150105,0902,-66.6673, 120.6493,  306,    131.5,  -1.7698,  34.2361,2,-999.0000,9,    320.1,2,   -999.0,9,  -999.00,9,  -999.00,9,  -999.00,9,   -999.0,9,   -999.0,9,    0.299,2,    0.012,2,   97.948,2
  09AR20141205,AU1402,    66,  1,      0,     11,2,20150105,0902,-66.6673, 120.6493,  306,    131.3,  -1.7712,  34.2361,2,-999.0000,9,    320.1,2,   -999.0,9,  -999.00,9,  -999.00,9,  -999.00,9,   -999.0,9,   -999.0,9,    0.294,2,    0.016,2,   97.957,2
  09AR20141205,AU1402,    66,  1,      0,     10,2,20150105,0902,-66.6673, 120.6493,  306,    131.2,  -1.7705,  34.2361,2,-999.0000,9,    320.1,2,   -999.0,9,  -999.00,9,  -999.00,9,  -999.00,9,   -999.0,9,   -999.0,9,    0.292,2,    0.021,2,   97.958,2
  09AR20141205,AU1402,    66,  1,      0,      9,2,20150105,0902,-66.6673, 120.6493,  306,    131.0,  -1.7715,  34.2361,2,  34.2346,2,    320.3,2,    320.6,2,  -999.00,9,  -999.00,9,  -999.00,9,   2209.8,2,   2311.7,6,    0.301,2,    0.023,2,   97.961,2
  09AR20141205,AU1402,    66,  1,      0,      8,2,20150105,0902,-66.6673, 120.6493,  306,    251.7,  -1.8578,  34.2385,2,-999.0000,9,    315.9,2,   -999.0,9,  -999.00,9,  -999.00,9,  -999.00,9,   -999.0,9,   -999.0,9,    0.023,2,    0.000,2,   98.283,2
  09AR20141205,AU1402,    66,  1,      0,      7,2,20150105,0902,-66.6673, 120.6493,  306,    251.7,  -1.8534,  34.2383,2,-999.0000,9,    315.9,2,   -999.0,9,  -999.00,9,  -999.00,9,  -999.00,9,   -999.0,9,   -999.0,9,    0.032,2,    0.000,2,   98.273,2
  09AR20141205,AU1402,    66,  1,      0,      6,2,20150105,0902,-66.6673, 120.6493,  306,    251.6,  -1.8479,  34.2384,2,-999.0000,9,    315.9,2,   -999.0,9,  -999.00,9,  -999.00,9,  -999.00,9,   -999.0,9,   -999.0,9,    0.052,2,    0.000,2,   98.266,2
  09AR20141205,AU1402,    66,  1,      0,      5,2,20150105,0902,-66.6673, 120.6493,  306,    251.5,  -1.8382,  34.2382,2,  34.2369,2,    315.9,2,    315.7,2,  -999.00,9,  -999.00,9,  -999.00,9,   -999.0,9,   2312.5,2,    0.086,2,    0.000,2,   98.243,2
  09AR20141205,AU1402,    66,  1,      0,      4,2,20150105,0902,-66.6673, 120.6493,  306,    270.9,  -1.8754,  34.2403,2,-999.0000,9,    315.5,2,   -999.0,9,  -999.00,9,  -999.00,9,  -999.00,9,   -999.0,9,   -999.0,9,   -0.034,2,    0.000,2,   98.344,2
  09AR20141205,AU1402,    66,  1,      0,      3,2,20150105,0902,-66.6673, 120.6493,  306,    270.9,  -1.8753,  34.2404,2,-999.0000,9,    315.5,2,   -999.0,9,  -999.00,9,  -999.00,9,  -999.00,9,   -999.0,9,   -999.0,9,   -0.034,2,    0.000,2,   98.341,2
  09AR20141205,AU1402,    66,  1,      0,      2,2,20150105,0902,-66.6673, 120.6493,  306,    349.8,  -1.8703,  34.2501,2,-999.0000,9,    314.3,2,   -999.0,9,  -999.00,9,  -999.00,9,  -999.00,9,   -999.0,9,   -999.0,9,   -0.060,2,    0.000,2,   98.385,2
  09AR20141205,AU1402,    66,  1,      0,      1,2,20150105,0902,-66.6673, 120.6493,  306,    349.7,  -1.8730,  34.2491,2,  34.2446,2,    314.3,2,   -999.0,9,  -999.00,9,  -999.00,9,  -999.00,9,   2206.2,3,   2313.3,2,   -0.071,2,    0.000,2,   98.373,2