BOTTLE,20210329PRINUNIVRMK
EXPOCODE,SECT_ID,STNNBR,CASTNO,SAMPNO,BTLNBR,BTLNBR_FLAG_W,DATE,TIME,LATITUDE,LONGITUDE,DEPTH,CTDPRS,CTDTMP,CTDSAL,CTDSAL_FLAG_W,SALNTY,SALNTY_FLAG_W,CTDOXY,CTDOXY_FLAG_W,OXYGEN,OXYGEN_FLAG_W,SILCAT,SILCAT_FLAG_W,NITRAT,NITRAT_FLAG_W,PHSPHT,PHSPHT_FLAG_W,TCARBN,TCARBN_FLAG_W,ALKALI,ALKALI_FLAG_W,CTDFLUOR,CTDFLUOR_FLAG_W,CTDPAR,CTDPAR_FLAG_W,CTDXMISS,CTDXMISS_FLAG_W
,,,,,,,,,,,METERS,DBAR,ITS-90,PSS-78,,PSS-78,,UMOL/KG,,UMOL/KG,,UMOL/KG,,UMOL/KG,,UMOL/KG,,UMOL/KG,,UMOL/KG,,MG/M^3,,UEINSTEIN/M^2*SEC,,%TRANS,
  09AR20141205,AU1402,    79,  1,      0,     24,2,20150108,0847,-65.9092, 120.4593,  449,      7.9,  -1.7297,  33.8441,2,  33.8183,2,    330.2,2,    329.1,2,    64.00,2,    28.92,2,     1.88,3,   2174.0,2,   2284.6,2,   -0.002,2,  282.400,2,   97.450,2
  09AR20141205,AU1402,    79,  1,      0,     23,2,20150108,0847,-65.9092, 120.4593,  449,      7.9,  -1.7462,  33.8777,2,-999.0000,9,    330.2,2,   -999.0,9,  -999.00,9,  -999.00,9,  -999.00,9,   -999.0,9,   -999.0,9,   -0.003,2,  317.700,2,   97.458,2
  09AR20141205,AU1402,    79,  1,      0,     22,2,20150108,0847,-65.9092, 120.4593,  449,      7.8,  -1.7510,  33.8860,2,-999.0000,9,    330.2,2,   -999.0,9,  -999.00,9,  -999.00,9,  -999.00,9,   -999.0,9,   -999.0,9,   -0.005,2,  287.400,2,   97.479,2
  09AR20141205,AU1402,    79,  1,      0,     21,2,20150108,0847,-65.9092, 120.4593,  449,      7.8,  -1.7349,  33.8461,2,-999.0000,9,    330.2,2,   -999.0,9,  -999.00,9,  -999.00,9,  -999.00,9,   -999.0,9,   -999.0,9,   -0.024,2,  232.900,2,   97.465,2
  09AR20141205,AU1402,    79,  1,      0,     20,2,20150108,0847,-65.9092, 120.4593,  449,     20.8,  -1.7487,  33.9771,2,  34.1058,2,    324.3,2,    347.9,2,    61.30,2,    28.74,2,     1.97,3,   2189.7,6,   2307.0,6,    0.066,2,  106.200,2,   97.076,2
  09AR20141205,AU1402,    79,  1,      0,     19,2,20150108,0847,-65.9092, 120.4593,  449,     20.7,  -1.7634,  33.9654,2,-999.0000,9,    324.3,2,   -999.0,9,  -999.00,9,  -999.00,9,  -999.00,9,   -999.0,9,   -999.0,9,    0.062,2,  110.900,2,   97.115,2
  09AR20141205,AU1402,    79,  1,      0,     18,2,20150108,0847,-65.9092, 120.4593,  449,     36.0,  -1.0884,  34.1923,2,  34.1952,2,    351.8,2,    354.2,2,    61.20,2,    28.41,2,     1.95,3,   -999.0,9,   2311.0,2,    0.882,2,   41.140,2,   94.142,2
  09AR20141205,AU1402,    79,  1,      0,     17,2,20150108,0847,-65.9092, 120.4593,  449,     36.0,  -1.1283,  34.1915,2,-999.0000,9,    351.8,2,   -999.0,9,  -999.00,9,  -999.00,9,  -999.00,9,   -999.0,9,   -999.0,9,    0.900,2,   41.500,2,   94.137,2
  09AR20141205,AU1402,    79,  1,      0,     16,2,20150108,0847,-65.9092, 120.4593,  449,     35.8,  -1.1160,  34.1917,2,-999.0000,9,    351.8,2,   -999.0,9,  -999.00,9,  -999.00,9,  -999.00,9,   -999.0,9,   -999.0,9,    0.839,2,   41.890,2,   94.143,2
  09AR20141205,AU1402,    79,  1,      0,     15,2,20150108,0847,-65.9092, 120.4593,  449,     53.5,  -1.3021,  34.2080,2,  34.2117,2,    346.9,2,    346.1,2,  -999.00,9,  -999.00,9,  -999.00,9,   2199.8,2,   2314.4,2,    1.816,2,   10.200,2,   94.184,2
  09AR20141205,AU1402,    79,  1,      0,     14,2,20150108,0847,-65.9092, 120.4593,  449,     53.4,  -1.2992,  34.2080,2,-999.0000,9,    346.9,2,   -999.0,9,  -999.00,9,  -999.00,9,  -999.00,9,   -999.0,9,   -999.0,9,    1.860,2,    9.948,2,   94.247,2
  09AR20141205,AU1402,    79,  1,      0,     13,2,20150108,0847,-65.9092, 120.4593,  449,     53.4,  -1.3025,  34.2077,2,-999.0000,9,    346.9,2,   -999.0,9,  -999.00,9,  -999.00,9,  -999.00,9,   -999.0,9,   -999.0,9,    1.854,2,   10.190,2,   94.322,2
  09AR20141205,AU1402,    79,  1,      0,     12,2,20150108,0847,-65.9092, 120.4593,  449,     53.3,  -1.3083,  34.2074,2,-999.0000,9,    346.9,2,   -999.0,9,  -999.00,9,  -999.00,9,  -999.00,9,   -999.0,9,   -999.0,9,    1.827,2,   10.560,2,   94.285,2
  09AR20141205,AU1402,    79,  1,      0,     11,2,20150108,0847,-65.9092, 120.4593,  449,    142.3,  -1.8421,  34.2521,2,  34.2495,2,    319.6,2,    321.1,2,    62.30,2,    30.74,2,     2.05,3,   -999.0,9,   2313.9,2,    0.023,2,    0.129,2,   98.511,2
  09AR20141205,AU1402,    79,  1,      0,     10,2,20150108,0847,-65.9092, 120.4593,  449,    142.3,  -1.8425,  34.2521,2,-999.0000,9,    319.6,2,   -999.0,9,  -999.00,9,  -999.00,9,  -999.00,9,   -999.0,9,   -999.0,9,    0.027,2,    0.127,2,   98.518,2
  09AR20141205,AU1402,    79,  1,      0,      9,2,20150108,0847,-65.9092, 120.4593,  449,    142.3,  -1.8419,  34.2519,2,-999.0000,9,    319.6,2,   -999.0,9,  -999.00,9,  -999.00,9,  -999.00,9,   -999.0,9,   -999.0,9,    0.024,2,    0.128,2,   98.502,2
  09AR20141205,AU1402,    79,  1,      0,      8,2,20150108,0847,-65.9092, 120.4593,  449,    142.2,  -1.8412,  34.2518,2,-999.0000,9,    319.6,2,   -999.0,9,  -999.00,9,  -999.00,9,  -999.00,9,   -999.0,9,   -999.0,9,    0.028,2,    0.128,2,   98.497,2
  09AR20141205,AU1402,    79,  1,      0,      7,2,20150108,0847,-65.9092, 120.4593,  449,    251.3,  -1.8354,  34.2959,2,  34.2963,2,    317.5,2,    319.4,2,  -999.00,9,  -999.00,9,  -999.00,9,   2213.8,2,   2316.8,6,   -0.077,2,    0.000,2,   98.729,2
  09AR20141205,AU1402,    79,  1,      0,      6,2,20150108,0847,-65.9092, 120.4593,  449,    251.2,  -1.8359,  34.2959,2,-999.0000,9,    317.5,2,   -999.0,9,  -999.00,9,  -999.00,9,  -999.00,9,   -999.0,9,   -999.0,9,   -0.075,2,    0.000,2,   98.732,2
  09AR20141205,AU1402,    79,  1,      0,      5,2,20150108,0847,-65.9092, 120.4593,  449,    350.9,  -1.8051,  34.3257,2,  34.3261,2,    318.6,2,    316.7,2,    63.10,2,    30.85,2,     2.10,3,   2217.4,2,   2319.2,2,   -0.091,2,    0.000,2,   98.786,2
  09AR20141205,AU1402,    79,  1,      0,      4,2,20150108,0847,-65.9092, 120.4593,  449,    350.8,  -1.8040,  34.3261,2,-999.0000,9,    318.6,2,   -999.0,9,  -999.00,9,  -999.00,9,  -999.00,9,   -999.0,9,   -999.0,9,   -0.089,2,    0.000,2,   98.791,2
  09AR20141205,AU1402,    79,  1,      0,      3,2,20150108,0847,-65.9092, 120.4593,  449,    400.7,  -1.5682,  34.3643,2,  34.3866,2,    307.4,2,    294.0,2,  -999.00,9,  -999.00,9,  -999.00,9,   2225.2,2,   2325.0,2,   -0.097,2,    0.000,2,   98.788,2
  09AR20141205,AU1402,    79,  1,      0,      2,2,20150108,0847,-65.9092, 120.4593,  449,    447.5,  -0.0439,  34.5709,2,-999.0000,9,    239.1,2,   -999.0,9,  -999.00,9,  -999.00,9,  -999.00,9,   -999.0,9,   -999.0,9,   -0.079,2,    0.000,2,   97.236,2
  09AR20141205,AU1402,    79,  1,      0,      1,2,20150108,0847,-65.9092, 120.4593,  449,    447.4,  -0.0450,  34.5709,2,  34.5707,2,    239.1,2,    238.1,2,    63.70,2,    32.31,2,     2.06,3,   2245.0,2,   2339.8,2,   -0.082,2,    0.000,2,   97.257,2
  09AR20141205,AU1402,    80,  1,      0,     24,2,20150108,1438,-65.9797, 120.1455,  488,      5.8,  -1.6131,  34.1126,2,  34.1070,2,    332.6,2,    331.7,2,  -999.00,9,  -999.00,9,  -999.00,9,   2195.3,2,   2305.8,2,    0.495,2,    2.407,2,   96.742,2
  09AR20141205,AU1402,    80,  1,      0,     23,2,20150108,1438,-65.9797, 120.1455,  488,      5.8,  -1.5936,  34.1091,2,-999.0000,9,    332.6,2,   -999.0,9,  -999.00,9,  -999.00,9,  -999.00,9,   -999.0,9,   -999.0,9,    0.540,2,    2.437,2,   96.723,2
  09AR20141205,AU1402,    80,  1,      0,     22,2,20150108,1438,-65.9797, 120.1455,  488,      5.8,  -1.5712,  34.1074,2,-999.0000,9,    332.6,2,   -999.0,9,  -999.00,9,  -999.00,9,  -999.00,9,   -999.0,9,   -999.0,9,    0.542,2,    2.444,2,   96.753,2
  09AR20141205,AU1402,    80,  1,      0,     21,2,20150108,1438,-65.9797, 120.1455,  488,      5.7,  -1.6144,  34.1124,2,-999.0000,9,    332.6,2,   -999.0,9,  -999.00,9,  -999.00,9,  -999.00,9,   -999.0,9,   -999.0,9,    0.441,2,    2.570,2,   96.821,2
  09AR20141205,AU1402,    80,  1,      0,     20,2,20150108,1438,-65.9797, 120.1455,  488,     20.7,  -1.7942,  34.1318,2,  34.1441,2,    326.7,2,    335.8,2,    63.50,2,  -999.00,9,  -999.00,9,   2198.3,2,   2308.0,2,    0.340,2,    0.843,2,   97.612,2
  09AR20141205,AU1402,    80,  1,      0,     19,2,20150108,1438,-65.9797, 120.1455,  488,     20.6,  -1.7741,  34.1320,2,-999.0000,9,    326.7,2,   -999.0,9,  -999.00,9,  -999.00,9,  -999.00,9,   -999.0,9,   -999.0,9,    0.334,2,    0.897,2,   97.394,2
  09AR20141205,AU1402,    80,  1,      0,     18,2,20150108,1438,-65.9797, 120.1455,  488,     50.4,  -1.4918,  34.2131,2,  34.2150,2,    337.0,2,    338.2,2,  -999.00,9,  -999.00,9,  -999.00,9,   2203.8,2,   2314.4,6,    0.728,2,    0.072,2,   97.182,2
  09AR20141205,AU1402,    80,  1,      0,     17,2,20150108,1438,-65.9797, 120.1455,  488,     50.3,  -1.4938,  34.2127,2,-999.0000,9,    337.0,2,   -999.0,9,  -999.00,9,  -999.00,9,  -999.00,9,   -999.0,9,   -999.0,9,    0.738,2,    0.058,2,   97.190,2
  09AR20141205,AU1402,    80,  1,      0,     16,2,20150108,1438,-65.9797, 120.1455,  488,     50.3,  -1.4944,  34.2127,2,-999.0000,9,    337.0,2,   -999.0,9,  -999.00,9,  -999.00,9,  -999.00,9,   -999.0,9,   -999.0,9,    0.723,2,    0.057,2,   97.210,2
  09AR20141205,AU1402,    80,  1,      0,     15,2,20150108,1438,-65.9797, 120.1455,  488,     70.6,  -1.6179,  34.2295,2,  34.2285,2,    321.3,2,    333.7,2,  -999.00,9,  -999.00,9,  -999.00,9,   2207.1,6,   2313.1,6,    0.607,2,    0.000,2,   97.640,2
  09AR20141205,AU1402,    80,  1,      0,     14,2,20150108,1438,-65.9797, 120.1455,  488,     70.5,  -1.6160,  34.2294,2,-999.0000,9,    321.3,2,   -999.0,9,  -999.00,9,  -999.00,9,  -999.00,9,   -999.0,9,   -999.0,9,    0.633,2,    0.000,2,   97.654,2
  09AR20141205,AU1402,    80,  1,      0,     13,2,20150108,1438,-65.9797, 120.1455,  488,    100.4,  -1.7598,  34.2384,2,-999.0000,9,    330.4,2,   -999.0,9,  -999.00,9,  -999.00,9,  -999.00,9,   -999.0,9,   -999.0,9,    0.452,2,    0.000,2,   98.002,2
  09AR20141205,AU1402,    80,  1,      0,     12,2,20150108,1438,-65.9797, 120.1455,  488,    100.6,  -1.7612,  34.2384,2,-999.0000,9,    330.4,2,   -999.0,9,  -999.00,9,  -999.00,9,  -999.00,9,   -999.0,9,   -999.0,9,    0.471,2,    0.000,2,   97.997,2
  09AR20141205,AU1402,    80,  1,      0,     11,2,20150108,1438,-65.9797, 120.1455,  488,    100.5,  -1.7631,  34.2384,2,  34.2389,2,    330.4,2,    330.5,2,  -999.00,9,  -999.00,9,  -999.00,9,   2209.6,2,   2314.2,2,    0.460,2,    0.000,2,   98.002,2
  09AR20141205,AU1402,    80,  1,      0,     10,2,20150108,1438,-65.9797, 120.1455,  488,    100.5,  -1.7637,  34.2383,2,-999.0000,9,    330.4,2,   -999.0,9,  -999.00,9,  -999.00,9,  -999.00,9,   -999.0,9,   -999.0,9,    0.495,2,    0.000,2,   98.007,2
  09AR20141205,AU1402,    80,  1,      0,      9,2,20150108,1438,-65.9797, 120.1455,  488,    150.5,  -1.8492,  34.2520,2,  34.2514,2,    315.7,2,    317.0,2,  -999.00,9,  -999.00,9,  -999.00,9,   2212.4,2,   2313.7,6,   -0.024,2,    0.000,2,   98.567,2
  09AR20141205,AU1402,    80,  1,      0,      8,2,20150108,1438,-65.9797, 120.1455,  488,    150.5,  -1.8503,  34.2519,2,-999.0000,9,    315.7,2,   -999.0,9,  -999.00,9,  -999.00,9,  -999.00,9,   -999.0,9,   -999.0,9,   -0.022,2,    0.000,2,   98.572,2
  09AR20141205,AU1402,    80,  1,      0,      7,2,20150108,1438,-65.9797, 120.1455,  488,    200.3,  -1.8291,  34.2751,2,  34.2755,2,    321.4,2,    319.0,2,  -999.00,9,  -999.00,9,  -999.00,9,   2214.4,2,   2316.0,2,   -0.038,2,    0.000,2,   98.573,2
  09AR20141205,AU1402,    80,  1,      0,      6,2,20150108,1438,-65.9797, 120.1455,  488,    375.7,  -1.7713,  34.3289,2,-999.0000,9,    314.0,2,   -999.0,9,  -999.00,9,  -999.00,9,  -999.00,9,   -999.0,9,   -999.0,9,   -0.088,2,    0.000,2,   98.771,2
  09AR20141205,AU1402,    80,  1,      0,      5,2,20150108,1438,-65.9797, 120.1455,  488,    375.6,  -1.7721,  34.3288,2,  34.3335,2,    314.0,2,    313.3,2,  -999.00,9,  -999.00,9,  -999.00,9,   2219.5,2,   2318.7,2,   -0.081,2,    0.000,2,   98.774,2
  09AR20141205,AU1402,    80,  1,      0,      4,2,20150108,1438,-65.9797, 120.1455,  488,    450.6,  -0.7628,  34.4703,2,-999.0000,9,    276.7,2,   -999.0,9,  -999.00,9,  -999.00,9,  -999.00,9,   -999.0,9,   -999.0,9,   -0.090,2,    0.000,2,   98.745,2
  09AR20141205,AU1402,    80,  1,      0,      3,2,20150108,1438,-65.9797, 120.1455,  488,    450.5,  -0.8132,  34.4633,2,  34.4413,2,    276.7,2,    276.5,2,  -999.00,9,  -999.00,9,  -999.00,9,   2231.9,2,   2329.7,2,   -0.092,2,    0.000,2,   98.756,2
  09AR20141205,AU1402,    80,  1,      0,      2,2,20150108,1438,-65.9797, 120.1455,  488,    482.9,   0.1285,  34.5984,2,-999.0000,9,    235.8,2,   -999.0,9,  -999.00,9,  -999.00,9,  -999.00,9,   -999.0,9,   -999.0,9,   -0.084,2,    0.000,2,   97.904,2
  09AR20141205,AU1402,    80,  1,      0,      1,2,20150108,1438,-65.9797, 120.1455,  488,    482.8,   0.1297,  34.5985,2,  34.5995,2,    235.8,2,    233.8,2,  -999.00,9,  -999.00,9,  -999.00,9,   2246.0,2,   2340.6,2,   -0.084,2,    0.000,2,   97.914,2
  09AR20141205,AU1402,    81,  1,      0,     24,2,20150108,1649,-65.9117, 120.2447,  462,      7.4,  -1.7602,  33.7174,2,-999.0000,9,    333.7,2,   -999.0,9,  -999.00,9,  -999.00,9,  -999.00,9,   -999.0,9,   -999.0,9,    1.123,2,    3.023,2,   96.090,2
  09AR20141205,AU1402,    81,  1,      0,     23,2,20150108,1649,-65.9117, 120.2447,  462,      7.4,  -1.7601,  33.7169,2,-999.0000,9,    333.7,2,   -999.0,9,  -999.00,9,  -999.00,9,  -999.00,9,   -999.0,9,   -999.0,9,    1.308,2,    2.993,2,   96.047,2
  09AR20141205,AU1402,    81,  1,      0,     22,2,20150108,1649,-65.9117, 120.2447,  462,      7.3,  -1.7597,  33.7166,2,-999.0000,9,    333.7,2,   -999.0,9,  -999.00,9,  -999.00,9,  -999.00,9,   -999.0,9,   -999.0,9,    1.146,2,    2.964,2,   96.082,2
  09AR20141205,AU1402,    81,  1,      0,     21,2,20150108,1649,-65.9117, 120.2447,  462,      7.2,  -1.7602,  33.7390,2,  33.8075,2,    333.7,2,    331.3,2,  -999.00,9,    28.40,2,     1.78,3,   2173.5,2,   2283.9,2,    1.021,2,    2.831,2,   96.168,2
  09AR20141205,AU1402,    81,  1,      0,     20,2,20150108,1649,-65.9117, 120.2447,  462,     20.5,  -1.7786,  34.0554,2,-999.0000,9,    321.6,2,   -999.0,9,  -999.00,9,  -999.00,9,  -999.00,9,   -999.0,9,   -999.0,9,    0.541,2,    1.069,2,   97.358,2
  09AR20141205,AU1402,    81,  1,      0,     19,2,20150108,1649,-65.9117, 120.2447,  462,     20.4,  -1.7490,  34.0750,2,  34.0970,2,    321.6,2,    322.8,2,  -999.00,9,  -999.00,9,  -999.00,9,   2195.1,2,   2303.5,2,    0.534,2,    1.092,2,   97.401,2
  09AR20141205,AU1402,    81,  1,      0,     18,2,20150108,1649,-65.9117, 120.2447,  462,     40.2,  -1.7233,  34.1813,2,-999.0000,9,    327.5,2,   -999.0,9,  -999.00,9,  -999.00,9,  -999.00,9,   -999.0,9,   -999.0,9,    0.463,2,    0.311,2,   97.546,2
  09AR20141205,AU1402,    81,  1,      0,     17,2,20150108,1649,-65.9117, 120.2447,  462,     40.8,  -1.7699,  34.1771,2,  34.1862,2,    327.5,2,    313.5,2,  -999.00,9,  -999.00,9,  -999.00,9,   2205.6,6,   2309.9,6,    0.476,2,    0.295,2,   97.783,2
  09AR20141205,AU1402,    81,  1,      0,     16,2,20150108,1649,-65.9117, 120.2447,  462,     40.7,  -1.7345,  34.1799,2,-999.0000,9,    327.5,2,   -999.0,9,  -999.00,9,  -999.00,9,  -999.00,9,   -999.0,9,   -999.0,9,    0.456,2,    0.300,2,   98.137,2
  09AR20141205,AU1402,    81,  1,      0,     15,2,20150108,1649,-65.9117, 120.2447,  462,     80.9,  -1.8463,  34.2132,2,-999.0000,9,    310.5,2,    310.2,2,  -999.00,9,    30.42,2,     2.08,3,   2207.9,2,   2310.0,2,    0.084,2,    0.000,2,   98.582,2
  09AR20141205,AU1402,    81,  1,      0,     14,2,20150108,1649,-65.9117, 120.2447,  462,     80.9,  -1.8460,  34.2133,2,-999.0000,9,    310.5,2,   -999.0,9,  -999.00,9,  -999.00,9,  -999.00,9,   -999.0,9,   -999.0,9,    0.097,2,    0.000,2,   98.592,2
  09AR20141205,AU1402,    81,  1,      0,     13,2,20150108,1649,-65.9117, 120.2447,  462,     80.8,  -1.8459,  34.2132,2,-999.0000,9,    310.5,2,   -999.0,9,  -999.00,9,  -999.00,9,  -999.00,9,   -999.0,9,   -999.0,9,    0.086,2,    0.000,2,   98.571,2
  09AR20141205,AU1402,    81,  1,      0,     12,2,20150108,1649,-65.9117, 120.2447,  462,     80.7,  -1.8454,  34.2130,2,-999.0000,9,    310.5,2,   -999.0,9,  -999.00,9,  -999.00,9,  -999.00,9,   -999.0,9,   -999.0,9,    0.063,2,    0.000,2,   98.576,2
  09AR20141205,AU1402,    81,  1,      0,     11,2,20150108,1649,-65.9117, 120.2447,  462,    130.5,  -1.8073,  34.2402,2,-999.0000,9,    325.6,2,   -999.0,9,  -999.00,9,  -999.00,9,  -999.00,9,   -999.0,9,   -999.0,9,    0.229,2,    0.000,2,   98.351,2
  09AR20141205,AU1402,    81,  1,      0,     10,2,20150108,1649,-65.9117, 120.2447,  462,    130.8,  -1.8070,  34.2404,2,-999.0000,9,    325.6,2,   -999.0,9,  -999.00,9,  -999.00,9,  -999.00,9,   -999.0,9,   -999.0,9,    0.242,2,    0.000,2,   98.357,2
  09AR20141205,AU1402,    81,  1,      0,      9,2,20150108,1649,-65.9117, 120.2447,  462,    130.7,  -1.8056,  34.2409,2,-999.0000,9,    325.6,2,    324.6,2,  -999.00,9,    30.19,2,     2.08,3,   2210.5,2,   2312.1,2,    0.264,2,    0.000,2,   98.357,2
  09AR20141205,AU1402,    81,  1,      0,      8,2,20150108,1649,-65.9117, 120.2447,  462,    130.7,  -1.8054,  34.2411,2,-999.0000,9,    325.6,2,   -999.0,9,  -999.00,9,  -999.00,9,  -999.00,9,   -999.0,9,   -999.0,9,    0.288,2,    0.000,2,   98.355,2
  09AR20141205,AU1402,    81,  1,      0,      7,2,20150108,1649,-65.9117, 120.2447,  462,    225.9,  -1.8401,  34.2895,2,  34.2902,2,    316.8,2,    318.5,2,  -999.00,9,  -999.00,9,  -999.00,9,   2212.8,2,   2317.1,2,   -0.061,2,    0.000,2,   98.767,2
  09AR20141205,AU1402,    81,  1,      0,      6,2,20150108,1649,-65.9117, 120.2447,  462,    225.8,  -1.8404,  34.2895,2,-999.0000,9,    316.8,2,   -999.0,9,  -999.00,9,  -999.00,9,  -999.00,9,   -999.0,9,   -999.0,9,   -0.066,2,    0.000,2,   98.774,2
  09AR20141205,AU1402,    81,  1,      0,      5,2,20150108,1649,-65.9117, 120.2447,  462,    350.9,  -1.7027,  34.3390,2,  34.3464,2,    309.8,2,    308.3,2,  -999.00,9,    30.61,2,     2.10,3,   2220.5,2,   2320.5,2,   -0.082,2,    0.000,2,   98.681,2
  09AR20141205,AU1402,    81,  1,      0,      4,2,20150108,1649,-65.9117, 120.2447,  462,    350.7,  -1.7020,  34.3392,2,-999.0000,9,    309.8,2,   -999.0,9,  -999.00,9,  -999.00,9,  -999.00,9,   -999.0,9,   -999.0,9,   -0.085,2,    0.000,2,   98.680,2
  09AR20141205,AU1402,    81,  1,      0,      3,2,20150108,1649,-65.9117, 120.2447,  462,    400.6,  -1.1759,  34.4159,2,  34.4440,2,    289.8,2,    276.4,2,  -999.00,9,  -999.00,9,  -999.00,9,   2233.3,2,   2330.0,6,   -0.089,2,    0.000,2,   98.651,2
  09AR20141205,AU1402,    81,  1,      0,      2,2,20150108,1649,-65.9117, 120.2447,  462,    400.5,  -1.1840,  34.4151,2,-999.0000,9,    289.8,2,   -999.0,9,  -999.00,9,  -999.00,9,  -999.00,9,   -999.0,9,   -999.0,9,   -0.092,2,    0.000,2,   98.666,2
  09AR20141205,AU1402,    81,  1,      0,      1,2,20150108,1649,-65.9117, 120.2447,  462,    456.9,   0.0290,  34.5824,2,  34.5783,2,    236.4,2,    236.6,2,  -999.00,9,    31.90,2,     2.20,3,   2245.8,2,   2340.5,2,   -0.086,2,    0.000,2,   97.250,2