BOTTLE,20210329PRINUNIVRMK
EXPOCODE,SECT_ID,STNNBR,CASTNO,SAMPNO,BTLNBR,BTLNBR_FLAG_W,DATE,TIME,LATITUDE,LONGITUDE,DEPTH,CTDPRS,CTDTMP,CTDSAL,CTDSAL_FLAG_W,SALNTY,SALNTY_FLAG_W,CTDOXY,CTDOXY_FLAG_W,OXYGEN,OXYGEN_FLAG_W,SILCAT,SILCAT_FLAG_W,NITRAT,NITRAT_FLAG_W,PHSPHT,PHSPHT_FLAG_W,TCARBN,TCARBN_FLAG_W,ALKALI,ALKALI_FLAG_W,CTDFLUOR,CTDFLUOR_FLAG_W,CTDPAR,CTDPAR_FLAG_W,CTDXMISS,CTDXMISS_FLAG_W
,,,,,,,,,,,METERS,DBAR,ITS-90,PSS-78,,PSS-78,,UMOL/KG,,UMOL/KG,,UMOL/KG,,UMOL/KG,,UMOL/KG,,UMOL/KG,,UMOL/KG,,MG/M^3,,UEINSTEIN/M^2*SEC,,%TRANS,
  09AR20141205,AU1402,    46,  1,      0,     24,2,20150103,0850,-66.5615, 119.1797,  686,      6.8,  -0.9756,  33.9653,2,  33.9704,2,    346.0,2,    346.2,2,  -999.00,9,    28.63,2,     1.96,3,   2185.8,2,   2296.7,6,   -0.036,2,  267.600,2,   97.097,2
  09AR20141205,AU1402,    46,  1,      0,     23,2,20150103,0850,-66.5615, 119.1797,  686,      6.8,  -0.9624,  33.9694,2,-999.0000,9,    346.0,2,   -999.0,9,  -999.00,9,  -999.00,9,  -999.00,9,   -999.0,9,   -999.0,9,   -0.038,2,  273.800,2,   97.087,2
  09AR20141205,AU1402,    46,  1,      0,     22,2,20150103,0850,-66.5615, 119.1797,  686,      6.8,  -0.9172,  33.9660,2,-999.0000,9,    346.0,2,   -999.0,9,  -999.00,9,  -999.00,9,  -999.00,9,   -999.0,9,   -999.0,9,   -0.036,2,  259.800,2,   97.082,2
  09AR20141205,AU1402,    46,  1,      0,     21,2,20150103,0850,-66.5615, 119.1797,  686,      6.8,  -0.8763,  33.9625,2,-999.0000,9,    346.0,2,   -999.0,9,  -999.00,9,  -999.00,9,  -999.00,9,   -999.0,9,   -999.0,9,   -0.038,2,  261.500,2,   97.100,2
  09AR20141205,AU1402,    46,  1,      0,     20,2,20150103,0850,-66.5615, 119.1797,  686,     20.7,  -1.5716,  34.1732,2,  34.1787,2,    337.1,2,    334.1,2,  -999.00,9,  -999.00,9,  -999.00,9,   2203.0,2,   2309.4,6,    0.024,2,   99.500,2,   97.578,2
  09AR20141205,AU1402,    46,  1,      0,     19,2,20150103,0850,-66.5615, 119.1797,  686,     20.6,  -1.5878,  34.1766,2,-999.0000,9,    337.1,2,   -999.0,9,  -999.00,9,  -999.00,9,  -999.00,9,   -999.0,9,   -999.0,9,    0.029,2,   96.300,2,   97.687,2
  09AR20141205,AU1402,    46,  1,      0,     18,2,20150103,0850,-66.5615, 119.1797,  686,     44.9,  -1.5819,  34.2172,2,  34.2161,2,    339.3,2,    340.4,2,  -999.00,9,    29.22,2,     2.01,3,   2203.8,2,   2310.3,2,    0.077,2,   33.340,2,   98.130,2
  09AR20141205,AU1402,    46,  1,      0,     17,2,20150103,0850,-66.5615, 119.1797,  686,     80.6,  -1.7955,  34.2319,2,  34.2317,2,    328.4,2,    328.4,2,  -999.00,9,  -999.00,9,  -999.00,9,   2208.6,2,   2314.2,2,    0.094,2,    8.262,2,   98.452,2
  09AR20141205,AU1402,    46,  1,      0,     16,2,20150103,0850,-66.5615, 119.1797,  686,    201.1,  -1.8342,  34.2689,2,-999.0000,9,    318.0,2,   -999.0,9,  -999.00,9,  -999.00,9,  -999.00,9,   -999.0,9,   -999.0,9,   -0.023,2,    0.080,2,   98.728,2
  09AR20141205,AU1402,    46,  1,      0,     15,2,20150103,0850,-66.5615, 119.1797,  686,    201.0,  -1.8341,  34.2690,2,  34.2687,2,    318.0,2,    318.2,2,  -999.00,9,    30.25,2,     2.05,3,   2214.0,2,   2313.3,2,   -0.027,2,    0.080,2,   98.734,2
  09AR20141205,AU1402,    46,  1,      0,     14,2,20150103,0850,-66.5615, 119.1797,  686,    303.2,  -1.8345,  34.2889,2,-999.0000,9,    315.6,2,   -999.0,9,  -999.00,9,  -999.00,9,  -999.00,9,   -999.0,9,   -999.0,9,   -0.073,2,    0.000,2,   98.836,2
  09AR20141205,AU1402,    46,  1,      0,     13,2,20150103,0850,-66.5615, 119.1797,  686,    302.7,  -1.8361,  34.2887,2,  34.2869,2,    315.8,2,    316.9,2,  -999.00,9,  -999.00,9,  -999.00,9,   2215.5,2,   2317.5,2,   -0.074,2,    0.000,2,   98.844,2
  09AR20141205,AU1402,    46,  1,      0,     12,2,20150103,0850,-66.5615, 119.1797,  686,    388.2,  -1.8267,  34.3077,2,-999.0000,9,    318.3,2,   -999.0,9,  -999.00,9,  -999.00,9,  -999.00,9,   -999.0,9,   -999.0,9,   -0.080,2,    0.000,2,   98.880,2
  09AR20141205,AU1402,    46,  1,      0,     11,2,20150103,0850,-66.5615, 119.1797,  686,    388.8,  -1.8258,  34.3078,2,  34.3061,2,    318.3,2,    318.1,2,  -999.00,9,    30.16,2,     2.06,3,   2216.8,6,   2318.2,6,   -0.081,2,    0.000,2,   98.853,2
  09AR20141205,AU1402,    46,  1,      0,     10,2,20150103,0850,-66.5615, 119.1797,  686,    482.6,  -1.4092,  34.3760,2,-999.0000,9,    300.7,2,   -999.0,9,  -999.00,9,  -999.00,9,  -999.00,9,   -999.0,9,   -999.0,9,   -0.083,2,    0.000,2,   98.726,2
  09AR20141205,AU1402,    46,  1,      0,      9,2,20150103,0850,-66.5615, 119.1797,  686,    482.6,  -1.4099,  34.3760,2,  34.3823,2,    300.7,2,    296.0,2,  -999.00,9,  -999.00,9,  -999.00,9,   2226.0,2,   2316.6,2,   -0.080,2,    0.000,2,   98.725,2
  09AR20141205,AU1402,    46,  1,      0,      8,2,20150103,0850,-66.5615, 119.1797,  686,    561.0,  -0.6069,  34.4914,2,-999.0000,9,    263.6,2,   -999.0,9,  -999.00,9,  -999.00,9,  -999.00,9,   -999.0,9,   -999.0,9,   -0.082,2,    0.000,2,   98.510,2
  09AR20141205,AU1402,    46,  1,      0,      7,2,20150103,0850,-66.5615, 119.1797,  686,    560.8,  -0.6034,  34.4919,2,  34.4918,2,    263.8,2,    262.8,2,  -999.00,9,    31.49,2,     2.15,3,   2237.2,2,   2333.0,2,   -0.088,2,    0.000,2,   98.514,2
  09AR20141205,AU1402,    46,  1,      0,      6,2,20150103,0850,-66.5615, 119.1797,  686,    631.1,  -0.5052,  34.5054,2,-999.0000,9,    259.9,2,   -999.0,9,  -999.00,9,  -999.00,9,  -999.00,9,   -999.0,9,   -999.0,9,   -0.083,2,    0.000,2,   98.472,2
  09AR20141205,AU1402,    46,  1,      0,      5,2,20150103,0850,-66.5615, 119.1797,  686,    631.0,  -0.5035,  34.5057,2,  34.5057,2,    260.0,2,    258.6,2,  -999.00,9,  -999.00,9,  -999.00,9,   2238.9,2,   2333.7,2,   -0.079,2,    0.000,2,   98.470,2
  09AR20141205,AU1402,    46,  1,      0,      4,2,20150103,0850,-66.5615, 119.1797,  686,    651.1,  -0.4602,  34.5120,2,-999.0000,9,    257.3,2,   -999.0,9,  -999.00,9,  -999.00,9,  -999.00,9,   -999.0,9,   -999.0,9,   -0.078,2,    0.000,2,   98.375,2
  09AR20141205,AU1402,    46,  1,      0,      3,2,20150103,0850,-66.5615, 119.1797,  686,    651.1,  -0.4594,  34.5122,2,-999.0000,9,    257.3,2,   -999.0,9,  -999.00,9,  -999.00,9,  -999.00,9,   -999.0,9,   -999.0,9,   -0.083,2,    0.000,2,   98.389,2
  09AR20141205,AU1402,    46,  1,      0,      2,2,20150103,0850,-66.5615, 119.1797,  686,    690.8,  -0.4047,  34.5198,2,-999.0000,9,    254.3,2,   -999.0,9,  -999.00,9,  -999.00,9,  -999.00,9,   -999.0,9,   -999.0,9,   -0.085,2,    0.000,2,   98.123,2
  09AR20141205,AU1402,    46,  1,      0,      1,2,20150103,0850,-66.5615, 119.1797,  686,    690.7,  -0.4060,  34.5197,2,  34.5174,2,    254.3,2,    254.8,2,  -999.00,9,    31.61,2,     2.16,3,   2240.8,2,   2334.6,2,   -0.086,2,    0.000,2,   98.115,2
  09AR20141205,AU1402,    47,  1,      0,     24,2,20150103,1056,-66.5938, 119.3708,  567,      7.3,  -0.8645,  34.1633,2,  34.1753,2,    352.5,2,    351.2,2,  -999.00,9,  -999.00,9,  -999.00,9,   2195.9,2,   2311.3,2,    0.160,2,  106.200,2,   95.780,2
  09AR20141205,AU1402,    47,  1,      0,     23,2,20150103,1056,-66.5938, 119.3708,  567,      7.3,  -0.8689,  34.1635,2,-999.0000,9,    352.5,2,   -999.0,9,  -999.00,9,  -999.00,9,  -999.00,9,   -999.0,9,   -999.0,9,    0.158,2,  104.600,2,   95.794,2
  09AR20141205,AU1402,    47,  1,      0,     22,2,20150103,1056,-66.5938, 119.3708,  567,      7.3,  -0.8670,  34.1656,2,-999.0000,9,    352.5,2,   -999.0,9,  -999.00,9,  -999.00,9,  -999.00,9,   -999.0,9,   -999.0,9,    0.163,2,  102.400,2,   95.791,2
  09AR20141205,AU1402,    47,  1,      0,     21,2,20150103,1056,-66.5938, 119.3708,  567,      7.3,  -0.8477,  34.1814,2,-999.0000,9,    352.5,2,   -999.0,9,  -999.00,9,  -999.00,9,  -999.00,9,   -999.0,9,   -999.0,9,    0.194,2,   94.510,2,   95.768,2
  09AR20141205,AU1402,    47,  1,      0,     20,2,20150103,1056,-66.5938, 119.3708,  567,     24.9,  -0.9322,  34.2014,2,  34.2064,2,    350.9,2,    351.4,2,  -999.00,9,  -999.00,9,  -999.00,9,   2198.7,2,   2313.4,2,    0.313,2,   27.720,2,   95.612,2
  09AR20141205,AU1402,    47,  1,      0,     19,2,20150103,1056,-66.5938, 119.3708,  567,     24.8,  -0.9222,  34.2024,2,-999.0000,9,    350.9,2,   -999.0,9,  -999.00,9,  -999.00,9,  -999.00,9,   -999.0,9,   -999.0,9,    0.333,2,   27.980,2,   95.620,2
  09AR20141205,AU1402,    47,  1,      0,     18,2,20150103,1056,-66.5938, 119.3708,  567,     50.8,  -1.4320,  34.2195,2,-999.0000,9,    346.1,2,   -999.0,9,  -999.00,9,  -999.00,9,  -999.00,9,   -999.0,9,   -999.0,9,    0.562,2,    6.865,2,   97.079,2
  09AR20141205,AU1402,    47,  1,      0,     17,2,20150103,1056,-66.5938, 119.3708,  567,     50.8,  -1.4126,  34.2190,2,  34.2220,2,    346.1,2,    345.2,2,  -999.00,9,  -999.00,9,  -999.00,9,   2202.8,2,   2313.2,2,    0.540,2,    6.886,2,   97.041,2
  09AR20141205,AU1402,    47,  1,      0,     16,2,20150103,1056,-66.5938, 119.3708,  567,     50.7,  -1.4125,  34.2192,2,-999.0000,9,    346.1,2,   -999.0,9,  -999.00,9,  -999.00,9,  -999.00,9,   -999.0,9,   -999.0,9,    0.527,2,    6.889,2,   97.054,2
  09AR20141205,AU1402,    47,  1,      0,     15,2,20150103,1056,-66.5938, 119.3708,  567,     50.7,  -1.4136,  34.2192,2,-999.0000,9,    346.1,2,   -999.0,9,  -999.00,9,  -999.00,9,  -999.00,9,   -999.0,9,   -999.0,9,    0.522,2,    6.893,2,   97.055,2
  09AR20141205,AU1402,    47,  1,      0,     14,2,20150103,1056,-66.5938, 119.3708,  567,     50.7,  -1.4171,  34.2194,2,-999.0000,9,    346.1,2,   -999.0,9,  -999.00,9,  -999.00,9,  -999.00,9,   -999.0,9,   -999.0,9,    0.527,2,    6.902,2,   97.063,2
  09AR20141205,AU1402,    47,  1,      0,     13,2,20150103,1056,-66.5938, 119.3708,  567,    100.6,  -1.7749,  34.2350,2,  34.2363,2,    331.1,2,    331.1,2,  -999.00,9,  -999.00,9,  -999.00,9,   2211.0,2,   2314.3,2,    0.154,2,    0.717,2,   98.306,2
  09AR20141205,AU1402,    47,  1,      0,     12,2,20150103,1056,-66.5938, 119.3708,  567,    100.6,  -1.7749,  34.2350,2,-999.0000,9,    331.1,2,   -999.0,9,  -999.00,9,  -999.00,9,  -999.00,9,   -999.0,9,   -999.0,9,    0.149,2,    0.720,2,   98.295,2
  09AR20141205,AU1402,    47,  1,      0,     11,2,20150103,1056,-66.5938, 119.3708,  567,    100.6,  -1.7748,  34.2350,2,-999.0000,9,    331.1,2,   -999.0,9,  -999.00,9,  -999.00,9,  -999.00,9,   -999.0,9,   -999.0,9,    0.128,2,    0.722,2,   98.311,2
  09AR20141205,AU1402,    47,  1,      0,     10,2,20150103,1056,-66.5938, 119.3708,  567,    201.1,  -1.8390,  34.2570,2,-999.0000,9,    322.2,2,   -999.0,9,  -999.00,9,  -999.00,9,  -999.00,9,   -999.0,9,   -999.0,9,   -0.027,2,    0.000,2,   98.574,2
  09AR20141205,AU1402,    47,  1,      0,      9,2,20150103,1056,-66.5938, 119.3708,  567,    201.1,  -1.8390,  34.2570,2,-999.0000,9,    322.2,2,   -999.0,9,  -999.00,9,  -999.00,9,  -999.00,9,   -999.0,9,   -999.0,9,   -0.023,2,    0.000,2,   98.576,2
  09AR20141205,AU1402,    47,  1,      0,      8,2,20150103,1056,-66.5938, 119.3708,  567,    201.1,  -1.8391,  34.2572,2,-999.0000,9,    322.2,2,   -999.0,9,  -999.00,9,  -999.00,9,  -999.00,9,   -999.0,9,   -999.0,9,   -0.024,2,    0.000,2,   98.591,2
  09AR20141205,AU1402,    47,  1,      0,      7,2,20150103,1056,-66.5938, 119.3708,  567,    201.1,  -1.8390,  34.2569,2,  34.2591,2,    322.2,2,    322.0,2,  -999.00,9,  -999.00,9,  -999.00,9,   2215.5,2,   2311.7,2,   -0.018,2,    0.000,2,   98.590,2
  09AR20141205,AU1402,    47,  1,      0,      6,2,20150103,1056,-66.5938, 119.3708,  567,    450.4,  -1.7851,  34.3211,2,-999.0000,9,    314.4,2,   -999.0,9,  -999.00,9,  -999.00,9,  -999.00,9,   -999.0,9,   -999.0,9,   -0.084,2,    0.000,2,   98.782,2
  09AR20141205,AU1402,    47,  1,      0,      5,2,20150103,1056,-66.5938, 119.3708,  567,    450.6,  -1.7835,  34.3211,2,  34.3253,2,    314.4,2,    314.4,2,  -999.00,9,  -999.00,9,  -999.00,9,   2218.7,2,   2319.1,6,   -0.086,2,    0.000,2,   98.783,2
  09AR20141205,AU1402,    47,  1,      0,      4,2,20150103,1056,-66.5938, 119.3708,  567,    532.7,  -0.8062,  34.4649,2,-999.0000,9,    272.6,2,   -999.0,9,  -999.00,9,  -999.00,9,  -999.00,9,   -999.0,9,   -999.0,9,   -0.091,2,    0.000,2,   98.586,2
  09AR20141205,AU1402,    47,  1,      0,      3,2,20150103,1056,-66.5938, 119.3708,  567,    532.5,  -0.7885,  34.4674,2,  34.4632,2,    272.6,2,    272.1,2,  -999.00,9,  -999.00,9,  -999.00,9,   2236.4,2,   2329.4,6,   -0.089,2,    0.000,2,   98.586,2
  09AR20141205,AU1402,    47,  1,      0,      2,2,20150103,1056,-66.5938, 119.3708,  567,    532.4,  -0.7988,  34.4662,2,-999.0000,9,    272.6,2,   -999.0,9,  -999.00,9,  -999.00,9,  -999.00,9,   -999.0,9,   -999.0,9,   -0.093,2,    0.000,2,   98.581,2
  09AR20141205,AU1402,    47,  1,      0,      1,2,20150103,1056,-66.5938, 119.3708,  567,    579.1,  -0.6914,  34.4801,2,  34.4803,2,    266.8,2,    266.9,2,  -999.00,9,  -999.00,9,  -999.00,9,   2234.9,6,   2330.3,2,   -0.083,2,    0.000,2,   98.458,2
  09AR20141205,AU1402,    48,  1,      0,     24,2,20150103,1245,-66.6332, 119.5260,  477,      7.9,  -1.4233,  34.1759,2,  34.1676,2,    337.2,2,    337.3,2,  -999.00,9,  -999.00,9,  -999.00,9,   2201.3,2,   2310.2,2,    0.395,2,   16.610,2,   97.140,2
  09AR20141205,AU1402,    48,  1,      0,     23,2,20150103,1245,-66.6332, 119.5260,  477,      7.9,  -1.4084,  34.1692,2,-999.0000,9,    337.2,2,   -999.0,9,  -999.00,9,  -999.00,9,  -999.00,9,   -999.0,9,   -999.0,9,    0.404,2,   16.510,2,   97.145,2
  09AR20141205,AU1402,    48,  1,      0,     22,2,20150103,1245,-66.6332, 119.5260,  477,      7.9,  -1.4050,  34.1675,2,-999.0000,9,    337.2,2,   -999.0,9,  -999.00,9,  -999.00,9,  -999.00,9,   -999.0,9,   -999.0,9,    0.395,2,   16.320,2,   97.141,2
  09AR20141205,AU1402,    48,  1,      0,     21,2,20150103,1245,-66.6332, 119.5260,  477,      7.8,  -1.4007,  34.1648,2,-999.0000,9,    337.2,2,   -999.0,9,  -999.00,9,  -999.00,9,  -999.00,9,   -999.0,9,   -999.0,9,    0.382,2,   16.010,2,   97.141,2
  09AR20141205,AU1402,    48,  1,      0,     20,2,20150103,1245,-66.6332, 119.5260,  477,     26.0,  -1.4790,  34.1969,2,  34.1993,2,    334.8,2,    339.4,2,  -999.00,9,  -999.00,9,  -999.00,9,   2202.9,2,   2313.4,2,    0.467,2,    6.207,2,   97.116,2
  09AR20141205,AU1402,    48,  1,      0,     19,2,20150103,1245,-66.6332, 119.5260,  477,     25.9,  -1.4756,  34.1972,2,-999.0000,9,    334.8,2,   -999.0,9,  -999.00,9,  -999.00,9,  -999.00,9,   -999.0,9,   -999.0,9,    0.449,2,    6.310,2,   97.121,2
  09AR20141205,AU1402,    48,  1,      0,     18,2,20150103,1245,-66.6332, 119.5260,  477,     40.8,  -1.5213,  34.2182,2,  34.2167,2,    339.4,2,    343.2,2,  -999.00,9,  -999.00,9,  -999.00,9,   2203.1,2,   2314.4,2,    0.451,2,    3.481,2,   97.537,2
  09AR20141205,AU1402,    48,  1,      0,     17,2,20150103,1245,-66.6332, 119.5260,  477,     40.7,  -1.5222,  34.2180,2,-999.0000,9,    339.4,2,   -999.0,9,  -999.00,9,  -999.00,9,  -999.00,9,   -999.0,9,   -999.0,9,    0.439,2,    3.493,2,   97.479,2
  09AR20141205,AU1402,    48,  1,      0,     16,2,20150103,1245,-66.6332, 119.5260,  477,     40.6,  -1.5189,  34.2181,2,-999.0000,9,    339.4,2,   -999.0,9,  -999.00,9,  -999.00,9,  -999.00,9,   -999.0,9,   -999.0,9,    0.518,2,    3.501,2,   97.526,2
  09AR20141205,AU1402,    48,  1,      0,     15,2,20150103,1245,-66.6332, 119.5260,  477,    101.2,  -1.7942,  34.2343,2,-999.0000,9,    332.6,2,   -999.0,9,  -999.00,9,  -999.00,9,  -999.00,9,   -999.0,9,   -999.0,9,    0.189,2,    0.218,2,   98.338,2
  09AR20141205,AU1402,    48,  1,      0,     14,2,20150103,1245,-66.6332, 119.5260,  477,    101.2,  -1.7942,  34.2345,2,-999.0000,9,    332.6,2,   -999.0,9,  -999.00,9,  -999.00,9,  -999.00,9,   -999.0,9,   -999.0,9,    0.176,2,    0.216,2,   98.332,2
  09AR20141205,AU1402,    48,  1,      0,     13,2,20150103,1245,-66.6332, 119.5260,  477,    101.1,  -1.7950,  34.2346,2,  34.2368,2,    332.6,2,    332.0,2,  -999.00,9,  -999.00,9,  -999.00,9,   2210.9,2,   2314.2,2,    0.161,2,    0.214,2,   98.339,2
  09AR20141205,AU1402,    48,  1,      0,     12,2,20150103,1245,-66.6332, 119.5260,  477,    100.9,  -1.7949,  34.2345,2,-999.0000,9,    332.9,2,   -999.0,9,  -999.00,9,  -999.00,9,  -999.00,9,   -999.0,9,   -999.0,9,    0.177,2,    0.218,2,   98.350,2
  09AR20141205,AU1402,    48,  1,      0,     11,2,20150103,1245,-66.6332, 119.5260,  477,    261.0,  -1.8565,  34.2786,2,-999.0000,9,    321.3,2,   -999.0,9,  -999.00,9,  -999.00,9,  -999.00,9,   -999.0,9,   -999.0,9,   -0.054,2,    0.000,2,   98.771,2
  09AR20141205,AU1402,    48,  1,      0,     10,2,20150103,1245,-66.6332, 119.5260,  477,    260.9,  -1.8564,  34.2782,2,-999.0000,9,    321.3,2,   -999.0,9,  -999.00,9,  -999.00,9,  -999.00,9,   -999.0,9,   -999.0,9,   -0.055,2,    0.000,2,   98.773,2
  09AR20141205,AU1402,    48,  1,      0,      9,2,20150103,1245,-66.6332, 119.5260,  477,    260.8,  -1.8559,  34.2784,2,  34.2783,2,    321.3,2,    321.2,2,  -999.00,9,  -999.00,9,  -999.00,9,   2215.4,6,   2312.3,6,   -0.058,2,    0.000,2,   98.773,2
  09AR20141205,AU1402,    48,  1,      0,      8,2,20150103,1245,-66.6332, 119.5260,  477,    260.8,  -1.8558,  34.2783,2,-999.0000,9,    321.3,2,   -999.0,9,  -999.00,9,  -999.00,9,  -999.00,9,   -999.0,9,   -999.0,9,   -0.058,2,    0.000,2,   98.773,2
  09AR20141205,AU1402,    48,  1,      0,      7,2,20150103,1245,-66.6332, 119.5260,  477,    260.7,  -1.8563,  34.2783,2,-999.0000,9,    321.3,2,   -999.0,9,  -999.00,9,  -999.00,9,  -999.00,9,   -999.0,9,   -999.0,9,   -0.053,2,    0.000,2,   98.778,2
  09AR20141205,AU1402,    48,  1,      0,      6,2,20150103,1245,-66.6332, 119.5260,  477,    452.3,  -1.7744,  34.3212,2,-999.0000,9,    315.1,2,   -999.0,9,  -999.00,9,  -999.00,9,  -999.00,9,   -999.0,9,   -999.0,9,   -0.078,2,    0.000,2,   98.692,2
  09AR20141205,AU1402,    48,  1,      0,      5,2,20150103,1245,-66.6332, 119.5260,  477,    452.2,  -1.7744,  34.3213,2,  34.3214,2,    315.1,2,    314.6,2,  -999.00,9,  -999.00,9,  -999.00,9,   2217.5,2,   2319.1,6,   -0.081,2,    0.000,2,   98.691,2
  09AR20141205,AU1402,    48,  1,      0,      4,2,20150103,1245,-66.6332, 119.5260,  477,    452.0,  -1.7726,  34.3211,2,-999.0000,9,    315.1,2,   -999.0,9,  -999.00,9,  -999.00,9,  -999.00,9,   -999.0,9,   -999.0,9,   -0.084,2,    0.000,2,   98.695,2
  09AR20141205,AU1402,    48,  1,      0,      3,2,20150103,1245,-66.6332, 119.5260,  477,    451.9,  -1.7733,  34.3211,2,-999.0000,9,    315.1,2,   -999.0,9,  -999.00,9,  -999.00,9,  -999.00,9,   -999.0,9,   -999.0,9,   -0.079,2,    0.000,2,   98.701,2
  09AR20141205,AU1402,    48,  1,      0,      2,2,20150103,1245,-66.6332, 119.5260,  477,    481.5,  -1.4585,  34.3708,2,-999.0000,9,    300.3,2,   -999.0,9,  -999.00,9,  -999.00,9,  -999.00,9,   -999.0,9,   -999.0,9,   -0.089,2,    0.000,2,   98.392,2
  09AR20141205,AU1402,    48,  1,      0,      1,2,20150103,1245,-66.6332, 119.5260,  477,    481.4,  -1.4594,  34.3708,2,  34.3709,2,    300.3,2,    300.4,2,  -999.00,9,  -999.00,9,  -999.00,9,   2224.4,2,   2321.4,2,   -0.086,2,    0.000,2,   98.429,2