BOTTLE,20210329PRINUNIVRMK
EXPOCODE,SECT_ID,STNNBR,CASTNO,SAMPNO,BTLNBR,BTLNBR_FLAG_W,DATE,TIME,LATITUDE,LONGITUDE,DEPTH,CTDPRS,CTDTMP,CTDSAL,CTDSAL_FLAG_W,SALNTY,SALNTY_FLAG_W,CTDOXY,CTDOXY_FLAG_W,OXYGEN,OXYGEN_FLAG_W,SILCAT,SILCAT_FLAG_W,NITRAT,NITRAT_FLAG_W,PHSPHT,PHSPHT_FLAG_W,TCARBN,TCARBN_FLAG_W,ALKALI,ALKALI_FLAG_W,CTDFLUOR,CTDFLUOR_FLAG_W,CTDPAR,CTDPAR_FLAG_W,CTDXMISS,CTDXMISS_FLAG_W
,,,,,,,,,,,METERS,DBAR,ITS-90,PSS-78,,PSS-78,,UMOL/KG,,UMOL/KG,,UMOL/KG,,UMOL/KG,,UMOL/KG,,UMOL/KG,,UMOL/KG,,MG/M^3,,UEINSTEIN/M^2*SEC,,%TRANS,
  09AR20141205,AU1402,    31,  1,      0,     24,2,20141230,0231,-66.7683, 118.7262,  391,      5.3,  -1.8001,  34.2183,2,-999.0000,9,    331.5,2,   -999.0,9,  -999.00,9,  -999.00,9,  -999.00,9,   -999.0,9,   -999.0,9,   -0.080,2,  457.200,2,   98.389,2
  09AR20141205,AU1402,    31,  1,      0,     23,2,20141230,0231,-66.7683, 118.7262,  391,      5.3,  -1.8010,  34.2185,2,-999.0000,9,    331.5,2,   -999.0,9,  -999.00,9,  -999.00,9,  -999.00,9,   -999.0,9,   -999.0,9,   -0.078,2,  461.300,2,   98.394,2
  09AR20141205,AU1402,    31,  1,      0,     22,2,20141230,0231,-66.7683, 118.7262,  391,      5.3,  -1.7967,  34.2184,2,-999.0000,9,    331.5,2,   -999.0,9,  -999.00,9,  -999.00,9,  -999.00,9,   -999.0,9,   -999.0,9,   -0.084,2,  460.300,2,   98.373,2
  09AR20141205,AU1402,    31,  1,      0,     21,2,20141230,0231,-66.7683, 118.7262,  391,      5.2,  -1.7963,  34.2190,2,  34.2174,2,    331.5,2,    331.8,2,  -999.00,9,  -999.00,9,  -999.00,9,   2206.2,6,   2311.9,6,   -0.087,2,  459.300,2,   98.352,2
  09AR20141205,AU1402,    31,  1,      0,     20,2,20141230,0231,-66.7683, 118.7262,  391,      5.2,  -1.7833,  34.2161,2,-999.0000,9,    331.5,2,   -999.0,9,  -999.00,9,  -999.00,9,  -999.00,9,   -999.0,9,   -999.0,9,   -0.078,2,  445.500,2,   98.350,2
  09AR20141205,AU1402,    31,  1,      0,     19,2,20141230,0231,-66.7683, 118.7262,  391,     20.4,  -1.8251,  34.2225,2,-999.0000,9,    331.3,2,   -999.0,9,  -999.00,9,  -999.00,9,  -999.00,9,   -999.0,9,   -999.0,9,   -0.073,2,  163.200,2,   98.430,2
  09AR20141205,AU1402,    31,  1,      0,     18,2,20141230,0231,-66.7683, 118.7262,  391,     20.4,  -1.8255,  34.2222,2,-999.0000,9,    331.3,2,   -999.0,9,  -999.00,9,  -999.00,9,  -999.00,9,   -999.0,9,   -999.0,9,   -0.078,2,  164.700,2,   98.410,2
  09AR20141205,AU1402,    31,  1,      0,     17,2,20141230,0231,-66.7683, 118.7262,  391,     50.2,  -1.8401,  34.2357,2,  34.2350,2,    328.2,2,    325.9,2,  -999.00,9,  -999.00,9,  -999.00,9,   2210.8,2,   2315.1,2,   -0.063,2,   53.570,2,   98.431,2
  09AR20141205,AU1402,    31,  1,      0,     16,2,20141230,0231,-66.7683, 118.7262,  391,     50.1,  -1.8400,  34.2356,2,-999.0000,9,    328.2,2,   -999.0,9,  -999.00,9,  -999.00,9,  -999.00,9,   -999.0,9,   -999.0,9,   -0.062,2,   54.150,2,   98.415,2
  09AR20141205,AU1402,    31,  1,      0,     15,2,20141230,0231,-66.7683, 118.7262,  391,     49.9,  -1.8405,  34.2359,2,-999.0000,9,    328.2,2,   -999.0,9,  -999.00,9,  -999.00,9,  -999.00,9,   -999.0,9,   -999.0,9,   -0.069,2,   53.770,2,   98.419,2
  09AR20141205,AU1402,    31,  1,      0,     14,2,20141230,0231,-66.7683, 118.7262,  391,     49.0,  -1.8410,  34.2360,2,-999.0000,9,    329.0,2,   -999.0,9,  -999.00,9,  -999.00,9,  -999.00,9,   -999.0,9,   -999.0,9,   -0.069,2,   55.170,2,   98.418,2
  09AR20141205,AU1402,    31,  1,      0,     13,2,20141230,0231,-66.7683, 118.7262,  391,    151.2,  -1.8647,  34.2492,2,  34.2487,2,    320.1,2,    320.3,2,  -999.00,9,  -999.00,9,  -999.00,9,   2210.9,2,   2314.0,2,   -0.018,2,    1.877,2,   98.510,2
  09AR20141205,AU1402,    31,  1,      0,     12,2,20141230,0231,-66.7683, 118.7262,  391,    151.0,  -1.8640,  34.2493,2,-999.0000,9,    320.1,2,   -999.0,9,  -999.00,9,  -999.00,9,  -999.00,9,   -999.0,9,   -999.0,9,   -0.026,2,    1.850,2,   98.508,2
  09AR20141205,AU1402,    31,  1,      0,     11,2,20141230,0231,-66.7683, 118.7262,  391,    151.0,  -1.8643,  34.2494,2,-999.0000,9,    320.2,2,   -999.0,9,  -999.00,9,  -999.00,9,  -999.00,9,   -999.0,9,   -999.0,9,   -0.027,2,    1.847,2,   98.510,2
  09AR20141205,AU1402,    31,  1,      0,     10,2,20141230,0231,-66.7683, 118.7262,  391,    150.9,  -1.8649,  34.2491,2,-999.0000,9,    320.2,2,   -999.0,9,  -999.00,9,  -999.00,9,  -999.00,9,   -999.0,9,   -999.0,9,   -0.028,2,    1.845,2,   98.501,2
  09AR20141205,AU1402,    31,  1,      0,      9,2,20141230,0231,-66.7683, 118.7262,  391,    250.7,  -1.8613,  34.2776,2,  34.2753,2,    319.5,2,    318.9,2,  -999.00,9,  -999.00,9,  -999.00,9,   2213.8,2,   2316.7,6,   -0.062,2,    0.011,2,   98.708,2
  09AR20141205,AU1402,    31,  1,      0,      8,2,20141230,0231,-66.7683, 118.7262,  391,    250.7,  -1.8617,  34.2778,2,-999.0000,9,    319.5,2,   -999.0,9,  -999.00,9,  -999.00,9,  -999.00,9,   -999.0,9,   -999.0,9,   -0.057,2,    0.012,2,   98.714,2
  09AR20141205,AU1402,    31,  1,      0,      7,2,20141230,0231,-66.7683, 118.7262,  391,    250.7,  -1.8618,  34.2776,2,-999.0000,9,    319.5,2,   -999.0,9,  -999.00,9,  -999.00,9,  -999.00,9,   -999.0,9,   -999.0,9,   -0.059,2,    0.013,2,   98.727,2
  09AR20141205,AU1402,    31,  1,      0,      6,2,20141230,0231,-66.7683, 118.7262,  391,    250.7,  -1.8617,  34.2774,2,-999.0000,9,    319.5,2,   -999.0,9,  -999.00,9,  -999.00,9,  -999.00,9,   -999.0,9,   -999.0,9,   -0.065,2,    0.013,2,   98.723,2
  09AR20141205,AU1402,    31,  1,      0,      5,2,20141230,0231,-66.7683, 118.7262,  391,    351.1,  -1.8510,  34.2902,2,  34.2875,2,    318.4,2,    318.5,2,  -999.00,9,  -999.00,9,  -999.00,9,   2214.3,2,   2317.9,2,   -0.068,2,    0.001,2,   98.770,2
  09AR20141205,AU1402,    31,  1,      0,      4,2,20141230,0231,-66.7683, 118.7262,  391,    350.9,  -1.8539,  34.2883,2,-999.0000,9,    318.5,2,   -999.0,9,  -999.00,9,  -999.00,9,  -999.00,9,   -999.0,9,   -999.0,9,   -0.070,2,    0.001,2,   98.771,2
  09AR20141205,AU1402,    31,  1,      0,      3,2,20141230,0231,-66.7683, 118.7262,  391,    350.9,  -1.8544,  34.2882,2,-999.0000,9,    318.5,2,   -999.0,9,  -999.00,9,  -999.00,9,  -999.00,9,   -999.0,9,   -999.0,9,   -0.068,2,    0.001,2,   98.769,2
  09AR20141205,AU1402,    31,  1,      0,      2,2,20141230,0231,-66.7683, 118.7262,  391,    350.8,  -1.8549,  34.2881,2,-999.0000,9,    318.5,2,   -999.0,9,  -999.00,9,  -999.00,9,  -999.00,9,   -999.0,9,   -999.0,9,   -0.068,2,    0.001,2,   98.740,2
  09AR20141205,AU1402,    31,  1,      0,      1,2,20141230,0231,-66.7683, 118.7262,  391,    407.4,  -1.8239,  34.2992,2,  34.2979,2,    316.3,2,    316.1,2,  -999.00,9,  -999.00,9,  -999.00,9,   2212.2,2,   2316.1,2,   -0.061,2,    0.001,2,   98.511,2
  09AR20141205,AU1402,    32,  1,      0,     24,2,20141230,0439,-66.8772, 118.4823,  481,     10.7,  -1.7612,  34.1785,2,  34.1667,2,    333.0,2,    335.0,2,    59.00,2,    29.46,2,     2.08,3,   2203.9,6,   2308.9,6,   -0.086,2,  306.500,2,   98.255,2
  09AR20141205,AU1402,    32,  1,      0,     23,2,20141230,0439,-66.8772, 118.4823,  481,     10.7,  -1.6395,  34.1690,2,-999.0000,9,    333.0,2,   -999.0,9,  -999.00,9,  -999.00,9,  -999.00,9,   -999.0,9,   -999.0,9,   -0.089,2,  299.600,2,   98.267,2
  09AR20141205,AU1402,    32,  1,      0,     22,2,20141230,0439,-66.8772, 118.4823,  481,     10.7,  -1.6254,  34.1679,2,-999.0000,9,    333.0,2,   -999.0,9,  -999.00,9,  -999.00,9,  -999.00,9,   -999.0,9,   -999.0,9,   -0.080,2,  302.000,2,   98.271,2
  09AR20141205,AU1402,    32,  1,      0,     21,2,20141230,0439,-66.8772, 118.4823,  481,     10.6,  -1.6395,  34.1655,2,-999.0000,9,    333.0,2,   -999.0,9,  -999.00,9,  -999.00,9,  -999.00,9,   -999.0,9,   -999.0,9,   -0.084,2,  303.200,2,   98.275,2
  09AR20141205,AU1402,    32,  1,      0,     20,2,20141230,0439,-66.8772, 118.4823,  481,     35.4,  -1.7606,  34.1910,2,  34.2021,2,    332.8,2,    332.7,2,    59.40,2,    29.60,2,     2.09,3,   2206.1,2,   2308.9,2,   -0.055,2,  102.000,2,   98.254,2
  09AR20141205,AU1402,    32,  1,      0,     19,2,20141230,0439,-66.8772, 118.4823,  481,     35.3,  -1.7624,  34.1904,2,-999.0000,9,    332.8,2,   -999.0,9,  -999.00,9,  -999.00,9,  -999.00,9,   -999.0,9,   -999.0,9,   -0.052,2,  103.800,2,   98.257,2
  09AR20141205,AU1402,    32,  1,      0,     18,2,20141230,0439,-66.8772, 118.4823,  481,    121.4,  -1.8573,  34.2485,2,  34.2448,2,    322.9,2,    321.8,2,    61.40,2,    30.20,2,     2.11,3,   2213.0,2,   2311.8,2,   -0.017,2,    5.873,2,   98.411,2
  09AR20141205,AU1402,    32,  1,      0,     17,2,20141230,0439,-66.8772, 118.4823,  481,    121.1,  -1.8545,  34.2475,2,-999.0000,9,    322.9,2,   -999.0,9,  -999.00,9,  -999.00,9,  -999.00,9,   -999.0,9,   -999.0,9,   -0.003,2,    5.949,2,   98.407,2
  09AR20141205,AU1402,    32,  1,      0,     16,2,20141230,0439,-66.8772, 118.4823,  481,    120.8,  -1.8521,  34.2484,2,-999.0000,9,    322.9,2,   -999.0,9,  -999.00,9,  -999.00,9,  -999.00,9,   -999.0,9,   -999.0,9,   -0.006,2,    6.046,2,   98.428,2
  09AR20141205,AU1402,    32,  1,      0,     15,2,20141230,0439,-66.8772, 118.4823,  481,    250.8,  -1.8744,  34.2673,2,-999.0000,9,    315.4,2,    315.8,2,  -999.00,9,  -999.00,9,  -999.00,9,   2215.2,2,   2316.2,2,   -0.057,2,    0.021,2,   98.491,2
  09AR20141205,AU1402,    32,  1,      0,     14,2,20141230,0439,-66.8772, 118.4823,  481,    250.8,  -1.8739,  34.2673,2,-999.0000,9,    315.4,2,   -999.0,9,  -999.00,9,  -999.00,9,  -999.00,9,   -999.0,9,   -999.0,9,   -0.054,2,    0.021,2,   98.486,2
  09AR20141205,AU1402,    32,  1,      0,     13,2,20141230,0439,-66.8772, 118.4823,  481,    250.8,  -1.8740,  34.2673,2,-999.0000,9,    315.4,2,   -999.0,9,  -999.00,9,  -999.00,9,  -999.00,9,   -999.0,9,   -999.0,9,   -0.058,2,    0.022,2,   98.488,2
  09AR20141205,AU1402,    32,  1,      0,     12,2,20141230,0439,-66.8772, 118.4823,  481,    250.7,  -1.8742,  34.2671,2,-999.0000,9,    315.4,2,   -999.0,9,  -999.00,9,  -999.00,9,  -999.00,9,   -999.0,9,   -999.0,9,   -0.055,2,    0.019,2,   98.472,2
  09AR20141205,AU1402,    32,  1,      0,     11,2,20141230,0439,-66.8772, 118.4823,  481,    250.6,  -1.8745,  34.2670,2,-999.0000,9,    315.4,2,   -999.0,9,  -999.00,9,  -999.00,9,  -999.00,9,   -999.0,9,   -999.0,9,   -0.055,2,    0.021,2,   98.484,2
  09AR20141205,AU1402,    32,  1,      0,     10,2,20141230,0439,-66.8772, 118.4823,  481,    250.6,  -1.8747,  34.2669,2,-999.0000,9,    315.4,2,   -999.0,9,  -999.00,9,  -999.00,9,  -999.00,9,   -999.0,9,   -999.0,9,   -0.056,2,    0.020,2,   98.488,2
  09AR20141205,AU1402,    32,  1,      0,      9,2,20141230,0439,-66.8772, 118.4823,  481,    351.5,  -1.8585,  34.2780,2,  34.2775,2,    316.2,2,    317.3,2,    61.30,2,    30.22,2,     2.11,3,   2214.8,2,   2314.4,6,   -0.050,2,    0.001,2,   98.579,2
  09AR20141205,AU1402,    32,  1,      0,      8,2,20141230,0439,-66.8772, 118.4823,  481,    351.4,  -1.8583,  34.2780,2,-999.0000,9,    316.2,2,   -999.0,9,  -999.00,9,  -999.00,9,  -999.00,9,   -999.0,9,   -999.0,9,   -0.053,2,    0.001,2,   98.569,2
  09AR20141205,AU1402,    32,  1,      0,      7,2,20141230,0439,-66.8772, 118.4823,  481,    351.4,  -1.8582,  34.2780,2,-999.0000,9,    316.2,2,   -999.0,9,  -999.00,9,  -999.00,9,  -999.00,9,   -999.0,9,   -999.0,9,   -0.058,2,    0.001,2,   98.578,2
  09AR20141205,AU1402,    32,  1,      0,      6,2,20141230,0439,-66.8772, 118.4823,  481,    351.4,  -1.8581,  34.2779,2,-999.0000,9,    316.2,2,   -999.0,9,  -999.00,9,  -999.00,9,  -999.00,9,   -999.0,9,   -999.0,9,   -0.049,2,    0.001,2,   98.575,2
  09AR20141205,AU1402,    32,  1,      0,      5,2,20141230,0439,-66.8772, 118.4823,  481,    451.6,  -1.8261,  34.3001,2,  34.2988,2,    315.7,2,    315.3,2,    61.00,2,    30.22,2,     2.11,3,   2216.7,2,   2314.6,2,   -0.074,2,    0.001,2,   98.502,2
  09AR20141205,AU1402,    32,  1,      0,      4,2,20141230,0439,-66.8772, 118.4823,  481,    451.6,  -1.8264,  34.3002,2,-999.0000,9,    315.7,2,   -999.0,9,  -999.00,9,  -999.00,9,  -999.00,9,   -999.0,9,   -999.0,9,   -0.069,2,    0.001,2,   98.509,2
  09AR20141205,AU1402,    32,  1,      0,      3,2,20141230,0439,-66.8772, 118.4823,  481,    451.6,  -1.8265,  34.3003,2,-999.0000,9,    315.7,2,   -999.0,9,  -999.00,9,  -999.00,9,  -999.00,9,   -999.0,9,   -999.0,9,   -0.076,2,    0.001,2,   98.498,2
  09AR20141205,AU1402,    32,  1,      0,      2,2,20141230,0439,-66.8772, 118.4823,  481,    501.1,  -1.8245,  34.3007,2,-999.0000,9,    315.5,2,   -999.0,9,  -999.00,9,  -999.00,9,  -999.00,9,   -999.0,9,   -999.0,9,   -0.072,2,    0.001,2,   98.458,2
  09AR20141205,AU1402,    32,  1,      0,      1,2,20141230,0439,-66.8772, 118.4823,  481,    501.1,  -1.8246,  34.3007,2,  34.2988,2,    315.5,2,    315.4,2,    61.10,2,    30.21,2,     2.11,3,   2214.1,2,   2318.4,2,   -0.075,2,    0.001,2,   98.476,2
  09AR20141205,AU1402,    33,  1,      0,     24,2,20141230,1627,-66.8813, 117.7537,  690,      5.7,  -1.7496,  34.1006,2,  34.1029,2,    331.7,2,    332.0,2,    60.60,2,    29.47,2,     2.08,3,   2198.2,6,   2304.7,6,    0.198,2,    9.280,2,   98.029,2
  09AR20141205,AU1402,    33,  1,      0,     23,2,20141230,1627,-66.8813, 117.7537,  690,      5.6,  -1.7537,  34.1003,2,-999.0000,9,    331.7,2,   -999.0,9,  -999.00,9,  -999.00,9,  -999.00,9,   -999.0,9,   -999.0,9,    0.108,2,    9.425,2,   98.012,2
  09AR20141205,AU1402,    33,  1,      0,     22,2,20141230,1627,-66.8813, 117.7537,  690,      5.6,  -1.7504,  34.1005,2,-999.0000,9,    331.7,2,   -999.0,9,  -999.00,9,  -999.00,9,  -999.00,9,   -999.0,9,   -999.0,9,    0.116,2,    9.268,2,   98.046,2
  09AR20141205,AU1402,    33,  1,      0,     21,2,20141230,1627,-66.8813, 117.7537,  690,     15.7,  -1.7881,  34.1180,2,-999.0000,9,    331.4,2,   -999.0,9,  -999.00,9,  -999.00,9,  -999.00,9,   -999.0,9,   -999.0,9,    0.125,2,    4.959,2,   98.105,2
  09AR20141205,AU1402,    33,  1,      0,     20,2,20141230,1627,-66.8813, 117.7537,  690,     15.7,  -1.7881,  34.1143,2,-999.0000,9,    331.4,2,   -999.0,9,  -999.00,9,  -999.00,9,  -999.00,9,   -999.0,9,   -999.0,9,    0.093,2,    4.978,2,   98.088,2
  09AR20141205,AU1402,    33,  1,      0,     19,2,20141230,1627,-66.8813, 117.7537,  690,     50.5,  -1.8254,  34.2100,2,  34.2223,2,    327.0,2,    322.4,2,    60.70,2,    29.88,2,     2.10,3,   2209.1,2,   2311.2,2,    0.085,2,    1.155,2,   98.477,2
  09AR20141205,AU1402,    33,  1,      0,     18,2,20141230,1627,-66.8813, 117.7537,  690,     50.5,  -1.8253,  34.2096,2,-999.0000,9,    327.0,2,   -999.0,9,  -999.00,9,  -999.00,9,  -999.00,9,   -999.0,9,   -999.0,9,    0.075,2,    1.152,2,   98.477,2
  09AR20141205,AU1402,    33,  1,      0,     17,2,20141230,1627,-66.8813, 117.7537,  690,    100.7,  -1.8538,  34.2549,2,  34.2551,2,    315.8,2,    315.4,2,    62.40,2,    30.24,2,     2.11,3,   2212.8,2,   2311.6,2,   -0.002,2,    0.119,2,   98.708,2
  09AR20141205,AU1402,    33,  1,      0,     16,2,20141230,1627,-66.8813, 117.7537,  690,    100.6,  -1.8535,  34.2549,2,-999.0000,9,    315.8,2,   -999.0,9,  -999.00,9,  -999.00,9,  -999.00,9,   -999.0,9,   -999.0,9,    0.004,2,    0.122,2,   98.705,2
  09AR20141205,AU1402,    33,  1,      0,     15,2,20141230,1627,-66.8813, 117.7537,  690,    150.3,  -1.8518,  34.2704,2,  34.2698,2,    313.3,2,    313.3,2,  -999.00,9,  -999.00,9,  -999.00,9,   2214.7,2,   2313.4,2,   -0.020,2,    0.001,2,   98.776,2
  09AR20141205,AU1402,    33,  1,      0,     14,2,20141230,1627,-66.8813, 117.7537,  690,    150.2,  -1.8481,  34.2704,2,-999.0000,9,    313.3,2,   -999.0,9,  -999.00,9,  -999.00,9,  -999.00,9,   -999.0,9,   -999.0,9,   -0.017,2,    0.001,2,   98.767,2
  09AR20141205,AU1402,    33,  1,      0,     13,2,20141230,1627,-66.8813, 117.7537,  690,    200.4,  -1.8497,  34.2792,2,  34.2775,2,    315.6,2,    316.4,2,    61.80,2,    30.22,2,     2.11,3,   2214.9,2,   2314.8,2,   -0.031,2,    0.001,2,   98.804,2
  09AR20141205,AU1402,    33,  1,      0,     12,2,20141230,1627,-66.8813, 117.7537,  690,    200.3,  -1.8496,  34.2793,2,-999.0000,9,    315.6,2,   -999.0,9,  -999.00,9,  -999.00,9,  -999.00,9,   -999.0,9,   -999.0,9,   -0.034,2,    0.001,2,   98.799,2
  09AR20141205,AU1402,    33,  1,      0,     11,2,20141230,1627,-66.8813, 117.7537,  690,    300.5,  -1.8498,  34.2897,2,  34.2884,2,    317.3,2,    316.8,2,  -999.00,9,  -999.00,9,  -999.00,9,   2214.0,2,   2317.8,2,   -0.062,2,    0.001,2,   98.854,2
  09AR20141205,AU1402,    33,  1,      0,     10,2,20141230,1627,-66.8813, 117.7537,  690,    300.7,  -1.8482,  34.2905,2,-999.0000,9,    317.3,2,   -999.0,9,  -999.00,9,  -999.00,9,  -999.00,9,   -999.0,9,   -999.0,9,   -0.071,2,    0.001,2,   98.849,2
  09AR20141205,AU1402,    33,  1,      0,      9,2,20141230,1627,-66.8813, 117.7537,  690,    400.6,  -1.8100,  34.3013,2,  34.3002,2,    313.6,2,    313.9,2,  -999.00,9,  -999.00,9,  -999.00,9,   2216.9,2,   2318.3,6,   -0.086,2,    0.001,2,   98.756,2
  09AR20141205,AU1402,    33,  1,      0,      8,2,20141230,1627,-66.8813, 117.7537,  690,    400.5,  -1.8093,  34.3017,2,-999.0000,9,    313.6,2,   -999.0,9,  -999.00,9,  -999.00,9,  -999.00,9,   -999.0,9,   -999.0,9,   -0.077,2,    0.001,2,   98.748,2
  09AR20141205,AU1402,    33,  1,      0,      7,2,20141230,1627,-66.8813, 117.7537,  690,    500.6,  -1.8230,  34.3139,2,  34.3151,2,    315.9,2,    315.6,2,    60.50,2,    30.24,2,     2.12,3,   2215.2,2,   2317.8,2,   -0.093,2,    0.001,2,   98.840,2
  09AR20141205,AU1402,    33,  1,      0,      6,2,20141230,1627,-66.8813, 117.7537,  690,    500.5,  -1.8231,  34.3140,2,-999.0000,9,    315.9,2,   -999.0,9,  -999.00,9,  -999.00,9,  -999.00,9,   -999.0,9,   -999.0,9,   -0.086,2,    0.001,2,   98.849,2
  09AR20141205,AU1402,    33,  1,      0,      5,2,20141230,1627,-66.8813, 117.7537,  690,    600.6,  -1.7465,  34.3316,2,  34.3322,2,    313.2,2,    312.5,2,  -999.00,9,  -999.00,9,  -999.00,9,   2219.0,2,   2320.1,2,   -0.089,2,    0.001,2,   98.821,2
  09AR20141205,AU1402,    33,  1,      0,      4,2,20141230,1627,-66.8813, 117.7537,  690,    600.5,  -1.7462,  34.3317,2,-999.0000,9,    313.2,2,   -999.0,9,  -999.00,9,  -999.00,9,  -999.00,9,   -999.0,9,   -999.0,9,   -0.091,2,    0.001,2,   98.838,2
  09AR20141205,AU1402,    33,  1,      0,      3,2,20141230,1627,-66.8813, 117.7537,  690,    700.8,  -1.6547,  34.3499,2,  34.3515,2,    309.1,2,    308.6,2,  -999.00,9,  -999.00,9,  -999.00,9,   2221.2,2,   2321.2,2,   -0.090,2,    0.001,2,   98.784,2
  09AR20141205,AU1402,    33,  1,      0,      2,2,20141230,1627,-66.8813, 117.7537,  690,    700.4,  -1.6524,  34.3505,2,-999.0000,9,    309.1,2,   -999.0,9,  -999.00,9,  -999.00,9,  -999.00,9,   -999.0,9,   -999.0,9,   -0.094,2,    0.001,2,   98.772,2
  09AR20141205,AU1402,    33,  1,      0,      1,2,20141230,1627,-66.8813, 117.7537,  690,    803.8,  -1.5913,  34.3608,2,  34.3617,2,    306.3,2,    306.1,2,    64.50,2,    30.64,2,     2.13,3,   2222.8,2,   2322.7,2,   -0.085,2,    0.001,2,   98.768,2