BOTTLE,20210329PRINUNIVRMK
EXPOCODE,SECT_ID,STNNBR,CASTNO,SAMPNO,BTLNBR,BTLNBR_FLAG_W,DATE,TIME,LATITUDE,LONGITUDE,DEPTH,CTDPRS,CTDTMP,CTDSAL,CTDSAL_FLAG_W,SALNTY,SALNTY_FLAG_W,CTDOXY,CTDOXY_FLAG_W,OXYGEN,OXYGEN_FLAG_W,SILCAT,SILCAT_FLAG_W,NITRAT,NITRAT_FLAG_W,PHSPHT,PHSPHT_FLAG_W,TCARBN,TCARBN_FLAG_W,ALKALI,ALKALI_FLAG_W,CTDFLUOR,CTDFLUOR_FLAG_W,CTDPAR,CTDPAR_FLAG_W,CTDXMISS,CTDXMISS_FLAG_W
,,,,,,,,,,,METERS,DBAR,ITS-90,PSS-78,,PSS-78,,UMOL/KG,,UMOL/KG,,UMOL/KG,,UMOL/KG,,UMOL/KG,,UMOL/KG,,UMOL/KG,,MG/M^3,,UEINSTEIN/M^2*SEC,,%TRANS,
  09AR20141205,AU1402,    97,  1,      0,     24,2,20150113,1335,-67.2392, 145.8293,  761,      7.6,  -1.3219,  33.6002,2,  33.6170,2,    384.2,2,    386.2,2,  -999.00,9,    16.97,2,     1.32,3,   2093.8,2,   2286.5,2,    8.258,2,    1.109,2,   88.211,2
  09AR20141205,AU1402,    97,  1,      0,     23,2,20150113,1335,-67.2392, 145.8293,  761,      7.6,  -1.3359,  33.6027,2,-999.0000,9,    384.2,2,   -999.0,9,  -999.00,9,  -999.00,9,  -999.00,9,   -999.0,9,   -999.0,9,    7.481,2,    1.109,2,   88.379,2
  09AR20141205,AU1402,    97,  1,      0,     22,2,20150113,1335,-67.2392, 145.8293,  761,      7.6,  -1.3429,  33.6037,2,-999.0000,9,    384.2,2,   -999.0,9,  -999.00,9,  -999.00,9,  -999.00,9,   -999.0,9,   -999.0,9,    7.816,2,    1.108,2,   88.239,2
  09AR20141205,AU1402,    97,  1,      0,     21,2,20150113,1335,-67.2392, 145.8293,  761,      7.5,  -1.3563,  33.6048,2,-999.0000,9,    384.2,2,   -999.0,9,  -999.00,9,  -999.00,9,  -999.00,9,   -999.0,9,   -999.0,9,    7.185,2,    1.099,2,   88.224,2
  09AR20141205,AU1402,    97,  1,      0,     20,2,20150113,1335,-67.2392, 145.8293,  761,     35.5,  -1.6103,  33.7403,2,-999.0000,9,    363.7,2,    364.0,2,  -999.00,9,    19.12,2,     1.51,3,   2132.3,6,   2301.2,6,   10.383,2,    0.000,2,   88.960,2
  09AR20141205,AU1402,    97,  1,      0,     19,2,20150113,1335,-67.2392, 145.8293,  761,     35.4,  -1.6105,  33.7401,2,-999.0000,9,    363.7,2,   -999.0,9,  -999.00,9,  -999.00,9,  -999.00,9,   -999.0,9,   -999.0,9,   11.082,2,    0.000,2,   88.786,2
  09AR20141205,AU1402,    97,  1,      0,     18,2,20150113,1335,-67.2392, 145.8293,  761,     70.6,  -1.7986,  34.3666,2,-999.0000,9,    312.2,2,    311.0,2,  -999.00,9,    29.30,2,     2.05,3,   2222.8,2,   2326.8,2,    0.843,2,    0.000,2,   97.026,2
  09AR20141205,AU1402,    97,  1,      0,     17,2,20150113,1335,-67.2392, 145.8293,  761,     70.5,  -1.7985,  34.3667,2,-999.0000,9,    312.2,2,   -999.0,9,  -999.00,9,  -999.00,9,  -999.00,9,   -999.0,9,   -999.0,9,    0.631,2,    0.000,2,   97.031,2
  09AR20141205,AU1402,    97,  1,      0,     16,2,20150113,1335,-67.2392, 145.8293,  761,     70.5,  -1.7984,  34.3666,2,-999.0000,9,    312.2,2,   -999.0,9,  -999.00,9,  -999.00,9,  -999.00,9,   -999.0,9,   -999.0,9,    0.822,2,    0.000,2,   97.214,2
  09AR20141205,AU1402,    97,  1,      0,     15,2,20150113,1335,-67.2392, 145.8293,  761,    150.4,  -1.8034,  34.3999,2,  34.3987,2,    305.5,2,    304.7,2,  -999.00,9,  -999.00,9,  -999.00,9,   2226.2,2,   2327.2,2,    0.391,2,    0.000,2,   97.836,2
  09AR20141205,AU1402,    97,  1,      0,     14,2,20150113,1335,-67.2392, 145.8293,  761,    150.4,  -1.8035,  34.3999,2,-999.0000,9,    305.5,2,   -999.0,9,  -999.00,9,  -999.00,9,  -999.00,9,   -999.0,9,   -999.0,9,    0.447,2,    0.000,2,   97.887,2
  09AR20141205,AU1402,    97,  1,      0,     13,2,20150113,1335,-67.2392, 145.8293,  761,    150.4,  -1.8039,  34.3998,2,-999.0000,9,    305.5,2,   -999.0,9,  -999.00,9,  -999.00,9,  -999.00,9,   -999.0,9,   -999.0,9,    0.370,2,    0.000,2,   97.911,2
  09AR20141205,AU1402,    97,  1,      0,     12,2,20150113,1335,-67.2392, 145.8293,  761,    150.3,  -1.8040,  34.3998,2,-999.0000,9,    305.5,2,   -999.0,9,  -999.00,9,  -999.00,9,  -999.00,9,   -999.0,9,   -999.0,9,    0.431,2,    0.000,2,   97.846,2
  09AR20141205,AU1402,    97,  1,      0,     11,2,20150113,1335,-67.2392, 145.8293,  761,    230.4,  -1.8660,  34.4199,2,-999.0000,9,    303.9,2,    305.4,2,  -999.00,9,    30.36,2,     2.06,3,   2227.4,2,   2328.1,2,    0.028,2,    0.000,2,   98.569,2
  09AR20141205,AU1402,    97,  1,      0,     10,2,20150113,1335,-67.2392, 145.8293,  761,    230.4,  -1.8659,  34.4199,2,-999.0000,9,    303.9,2,   -999.0,9,  -999.00,9,  -999.00,9,  -999.00,9,   -999.0,9,   -999.0,9,    0.040,2,    0.000,2,   98.542,2
  09AR20141205,AU1402,    97,  1,      0,      9,2,20150113,1335,-67.2392, 145.8293,  761,    450.3,  -1.8991,  34.5050,2,-999.0000,9,    303.9,2,    305.7,2,  -999.00,9,  -999.00,9,  -999.00,9,   2232.5,2,   2330.1,6,   -0.071,2,    0.000,2,   98.789,2
  09AR20141205,AU1402,    97,  1,      0,      8,2,20150113,1335,-67.2392, 145.8293,  761,    450.2,  -1.8991,  34.5049,2,-999.0000,9,    303.9,2,   -999.0,9,  -999.00,9,  -999.00,9,  -999.00,9,   -999.0,9,   -999.0,9,   -0.073,2,    0.000,2,   98.791,2
  09AR20141205,AU1402,    97,  1,      0,      7,2,20150113,1335,-67.2392, 145.8293,  761,    550.6,  -1.8765,  34.5262,2,  34.5263,2,    304.0,2,    304.0,2,  -999.00,9,    30.77,2,     2.06,3,   2235.3,2,   2334.7,2,   -0.065,2,    0.000,2,   98.590,2
  09AR20141205,AU1402,    97,  1,      0,      6,2,20150113,1335,-67.2392, 145.8293,  761,    550.5,  -1.8766,  34.5261,2,-999.0000,9,    304.0,2,   -999.0,9,  -999.00,9,  -999.00,9,  -999.00,9,   -999.0,9,   -999.0,9,   -0.064,2,    0.000,2,   98.596,2
  09AR20141205,AU1402,    97,  1,      0,      5,2,20150113,1335,-67.2392, 145.8293,  761,    680.5,  -1.8864,  34.5635,2,  34.5622,2,    303.4,2,    302.5,2,  -999.00,9,  -999.00,9,  -999.00,9,   2240.5,2,   2337.4,2,   -0.052,2,    0.000,2,   97.950,2
  09AR20141205,AU1402,    97,  1,      0,      4,2,20150113,1335,-67.2392, 145.8293,  761,    680.4,  -1.8865,  34.5635,2,-999.0000,9,    303.4,2,   -999.0,9,  -999.00,9,  -999.00,9,  -999.00,9,   -999.0,9,   -999.0,9,   -0.052,2,    0.000,2,   97.962,2
  09AR20141205,AU1402,    97,  1,      0,      3,2,20150113,1335,-67.2392, 145.8293,  761,    710.4,  -1.8875,  34.5789,2,-999.0000,9,    304.1,2,   -999.0,9,  -999.00,9,  -999.00,9,  -999.00,9,   -999.0,9,   -999.0,9,   -0.065,2,    0.000,2,   98.103,2
  09AR20141205,AU1402,    97,  1,      0,      2,2,20150113,1335,-67.2392, 145.8293,  761,    761.3,  -1.8883,  34.6005,2,-999.0000,9,    306.4,2,   -999.0,9,  -999.00,9,  -999.00,9,  -999.00,9,   -999.0,9,   -999.0,9,   -0.075,2,    0.000,2,   98.436,2
  09AR20141205,AU1402,    97,  1,      0,      1,2,20150113,1335,-67.2392, 145.8293,  761,    761.1,  -1.8883,  34.6005,2,  34.5969,2,    306.4,2,    306.3,2,  -999.00,9,    30.85,2,     2.06,3,   2240.0,2,   2339.6,2,   -0.073,2,    0.000,2,   98.404,2
  09AR20141205,AU1402,    98,  1,      0,     24,2,20150113,1534,-67.2268, 145.6650,  856,      8.1,  -1.3290,  33.6215,2,-999.0000,9,    386.3,2,   -999.0,9,  -999.00,9,  -999.00,9,  -999.00,9,   -999.0,9,   -999.0,9,    9.076,2,    3.884,2,   86.922,2
  09AR20141205,AU1402,    98,  1,      0,     23,2,20150113,1534,-67.2268, 145.6650,  856,      8.0,  -1.3310,  33.6220,2,-999.0000,9,    386.3,2,   -999.0,9,  -999.00,9,  -999.00,9,  -999.00,9,   -999.0,9,   -999.0,9,    8.377,2,    3.894,2,   86.776,2
  09AR20141205,AU1402,    98,  1,      0,     22,2,20150113,1534,-67.2268, 145.6650,  856,      8.0,  -1.3295,  33.6220,2,-999.0000,9,    386.3,2,   -999.0,9,  -999.00,9,  -999.00,9,  -999.00,9,   -999.0,9,   -999.0,9,    8.030,2,    3.900,2,   87.030,2
  09AR20141205,AU1402,    98,  1,      0,     21,2,20150113,1534,-67.2268, 145.6650,  856,      7.9,  -1.3470,  33.6245,2,  33.6266,2,    386.3,2,    387.8,2,  -999.00,9,    16.77,2,     1.30,3,   2092.8,2,   2290.2,2,    8.981,2,    3.925,2,   86.870,2
  09AR20141205,AU1402,    98,  1,      0,     20,2,20150113,1534,-67.2268, 145.6650,  856,     20.7,  -1.4009,  33.6362,2,-999.0000,9,    386.6,2,   -999.0,9,  -999.00,9,  -999.00,9,  -999.00,9,   -999.0,9,   -999.0,9,    9.021,2,    0.385,2,   86.410,2
  09AR20141205,AU1402,    98,  1,      0,     19,2,20150113,1534,-67.2268, 145.6650,  856,     20.6,  -1.4063,  33.6382,2,  33.6475,2,    386.6,2,    385.8,2,  -999.00,9,  -999.00,9,  -999.00,9,   2096.2,2,   2290.8,2,    9.658,2,    0.384,2,   86.270,2
  09AR20141205,AU1402,    98,  1,      0,     18,2,20150113,1534,-67.2268, 145.6650,  856,     50.6,  -1.6892,  34.1308,2,-999.0000,9,    333.2,2,   -999.0,9,  -999.00,9,  -999.00,9,  -999.00,9,   -999.0,9,   -999.0,9,    8.499,2,    0.000,2,   90.351,2
  09AR20141205,AU1402,    98,  1,      0,     17,2,20150113,1534,-67.2268, 145.6650,  856,     50.6,  -1.6952,  34.1400,2,-999.0000,9,    333.2,2,    334.2,2,  -999.00,9,    25.38,2,     1.87,3,   2186.9,6,   2318.6,6,    6.505,2,    0.000,2,   91.039,2
  09AR20141205,AU1402,    98,  1,      0,     16,2,20150113,1534,-67.2268, 145.6650,  856,     50.5,  -1.7084,  34.1634,2,-999.0000,9,    333.2,2,   -999.0,9,  -999.00,9,  -999.00,9,  -999.00,9,   -999.0,9,   -999.0,9,    6.390,2,    0.000,2,   91.462,2
  09AR20141205,AU1402,    98,  1,      0,     15,2,20150113,1534,-67.2268, 145.6650,  856,    100.8,  -1.7917,  34.3738,2,-999.0000,9,    310.6,2,   -999.0,9,  -999.00,9,  -999.00,9,  -999.00,9,   -999.0,9,   -999.0,9,    0.695,2,    0.000,2,   97.096,2
  09AR20141205,AU1402,    98,  1,      0,     14,2,20150113,1534,-67.2268, 145.6650,  856,    100.7,  -1.7918,  34.3737,2,-999.0000,9,    310.6,2,   -999.0,9,  -999.00,9,  -999.00,9,  -999.00,9,   -999.0,9,   -999.0,9,    0.866,2,    0.000,2,   97.013,2
  09AR20141205,AU1402,    98,  1,      0,     13,2,20150113,1534,-67.2268, 145.6650,  856,    100.6,  -1.7918,  34.3731,2,  34.3733,2,    310.6,2,    310.3,2,  -999.00,9,    29.36,2,     2.07,3,   2222.1,2,   2326.7,2,    0.763,2,    0.000,2,   97.017,2
  09AR20141205,AU1402,    98,  1,      0,     12,2,20150113,1534,-67.2268, 145.6650,  856,    100.5,  -1.7918,  34.3730,2,-999.0000,9,    310.6,2,   -999.0,9,  -999.00,9,  -999.00,9,  -999.00,9,   -999.0,9,   -999.0,9,    0.747,2,    0.000,2,   96.973,2
  09AR20141205,AU1402,    98,  1,      0,     11,2,20150113,1534,-67.2268, 145.6650,  856,    151.1,  -1.7878,  34.3932,2,-999.0000,9,    306.4,2,    306.5,2,  -999.00,9,  -999.00,9,  -999.00,9,   2227.3,2,   2327.5,2,    0.863,2,    0.000,2,   97.247,2
  09AR20141205,AU1402,    98,  1,      0,     10,2,20150113,1534,-67.2268, 145.6650,  856,    151.1,  -1.7878,  34.3935,2,-999.0000,9,    306.4,2,   -999.0,9,  -999.00,9,  -999.00,9,  -999.00,9,   -999.0,9,   -999.0,9,    0.719,2,    0.000,2,   97.286,2
  09AR20141205,AU1402,    98,  1,      0,      9,2,20150113,1534,-67.2268, 145.6650,  856,    251.1,  -1.8887,  34.4427,2,  34.4407,2,    304.5,2,    304.5,2,  -999.00,9,    30.52,2,     2.09,3,   2228.8,2,   2329.9,2,   -0.013,2,    0.000,2,   98.666,2
  09AR20141205,AU1402,    98,  1,      0,      8,2,20150113,1534,-67.2268, 145.6650,  856,    251.0,  -1.8885,  34.4428,2,-999.0000,9,    304.5,2,   -999.0,9,  -999.00,9,  -999.00,9,  -999.00,9,   -999.0,9,   -999.0,9,   -0.033,2,    0.000,2,   98.666,2
  09AR20141205,AU1402,    98,  1,      0,      7,2,20150113,1534,-67.2268, 145.6650,  856,    425.7,  -1.8847,  34.4963,2,  34.5033,2,    305.1,2,    305.2,2,  -999.00,9,  -999.00,9,  -999.00,9,   2234.6,2,   2332.0,6,   -0.052,2,    0.000,2,   98.789,2
  09AR20141205,AU1402,    98,  1,      0,      6,2,20150113,1534,-67.2268, 145.6650,  856,    425.7,  -1.8846,  34.4961,2,-999.0000,9,    305.1,2,   -999.0,9,  -999.00,9,  -999.00,9,  -999.00,9,   -999.0,9,   -999.0,9,   -0.059,2,    0.000,2,   98.792,2
  09AR20141205,AU1402,    98,  1,      0,      5,2,20150113,1534,-67.2268, 145.6650,  856,    600.9,  -1.8948,  34.5352,2,-999.0000,9,    304.5,2,    304.6,2,  -999.00,9,    30.77,2,     2.09,3,   2234.9,2,   2335.2,2,   -0.071,2,    0.000,2,   98.780,2
  09AR20141205,AU1402,    98,  1,      0,      4,2,20150113,1534,-67.2268, 145.6650,  856,    600.8,  -1.8948,  34.5351,2,-999.0000,9,    304.5,2,   -999.0,9,  -999.00,9,  -999.00,9,  -999.00,9,   -999.0,9,   -999.0,9,   -0.078,2,    0.000,2,   98.742,2
  09AR20141205,AU1402,    98,  1,      0,      3,2,20150113,1534,-67.2268, 145.6650,  856,    751.1,  -1.8916,  34.5746,2,-999.0000,9,    307.1,2,    306.8,2,  -999.00,9,  -999.00,9,  -999.00,9,   2238.1,2,   2338.5,2,   -0.079,2,    0.000,2,   98.745,2
  09AR20141205,AU1402,    98,  1,      0,      2,2,20150113,1534,-67.2268, 145.6650,  856,    750.8,  -1.8917,  34.5749,2,-999.0000,9,    307.0,2,   -999.0,9,  -999.00,9,  -999.00,9,  -999.00,9,   -999.0,9,   -999.0,9,   -0.083,2,    0.000,2,   98.725,2
  09AR20141205,AU1402,    98,  1,      0,      1,2,20150113,1534,-67.2268, 145.6650,  856,    860.5,  -1.8856,  34.5996,2,  34.5972,2,    307.3,2,    307.1,2,  -999.00,9,    30.87,2,     2.12,3,   2241.3,2,   2340.3,2,   -0.074,2,    0.000,2,   98.462,2
  09AR20141205,AU1402,    99,  1,      0,     24,2,20150113,1742,-67.2157, 145.4780, 1156,      7.8,  -1.4875,  33.6775,2,  33.6769,2,    381.0,2,    379.4,2,  -999.00,9,  -999.00,9,  -999.00,9,   2104.6,2,   2291.0,2,    5.321,2,   58.310,2,   86.707,2
  09AR20141205,AU1402,    99,  1,      0,     23,2,20150113,1742,-67.2157, 145.4780, 1156,      7.7,  -1.4650,  33.6740,2,-999.0000,9,    381.0,2,   -999.0,9,  -999.00,9,  -999.00,9,  -999.00,9,   -999.0,9,   -999.0,9,    7.414,2,   59.730,2,   87.447,2
  09AR20141205,AU1402,    99,  1,      0,     22,2,20150113,1742,-67.2157, 145.4780, 1156,      7.6,  -1.4403,  33.6738,2,-999.0000,9,    381.0,2,   -999.0,9,  -999.00,9,  -999.00,9,  -999.00,9,   -999.0,9,   -999.0,9,    6.536,2,   61.370,2,   87.194,2
  09AR20141205,AU1402,    99,  1,      0,     21,2,20150113,1742,-67.2157, 145.4780, 1156,     20.8,  -1.5621,  33.6872,2,  33.7412,2,    373.3,2,    371.4,2,  -999.00,9,  -999.00,9,  -999.00,9,   2120.1,2,   2296.5,2,    8.230,2,    5.309,2,   86.948,2
  09AR20141205,AU1402,    99,  1,      0,     20,2,20150113,1742,-67.2157, 145.4780, 1156,     20.7,  -1.5573,  33.6867,2,-999.0000,9,    373.3,2,   -999.0,9,  -999.00,9,  -999.00,9,  -999.00,9,   -999.0,9,   -999.0,9,    9.966,2,    5.322,2,   86.949,2
  09AR20141205,AU1402,    99,  1,      0,     19,2,20150113,1742,-67.2157, 145.4780, 1156,     61.1,  -1.7457,  34.3314,2,-999.0000,9,    316.1,2,    313.9,2,  -999.00,9,  -999.00,9,  -999.00,9,   2218.2,2,   2325.9,2,    2.064,2,    0.000,2,   95.705,2
  09AR20141205,AU1402,    99,  1,      0,     18,2,20150113,1742,-67.2157, 145.4780, 1156,    100.8,  -1.8078,  34.4102,2,-999.0000,9,    306.8,2,    305.4,2,  -999.00,9,  -999.00,9,  -999.00,9,   2226.6,2,   2330.5,2,    1.642,2,    0.000,2,   97.904,2
  09AR20141205,AU1402,    99,  1,      0,     17,2,20150113,1742,-67.2157, 145.4780, 1156,    150.9,  -1.8109,  34.4207,2,-999.0000,9,    304.5,2,    304.0,2,  -999.00,9,  -999.00,9,  -999.00,9,   2228.6,6,   2328.8,6,    0.075,2,    0.000,2,   98.226,2
  09AR20141205,AU1402,    99,  1,      0,     16,2,20150113,1742,-67.2157, 145.4780, 1156,    150.9,  -1.8113,  34.4209,2,-999.0000,9,    304.5,2,   -999.0,9,  -999.00,9,  -999.00,9,  -999.00,9,   -999.0,9,   -999.0,9,    0.176,2,    0.000,2,   98.312,2
  09AR20141205,AU1402,    99,  1,      0,     15,2,20150113,1742,-67.2157, 145.4780, 1156,    200.9,  -1.8366,  34.4321,2,-999.0000,9,    304.3,2,    304.1,2,  -999.00,9,  -999.00,9,  -999.00,9,   2230.7,2,   2328.8,2,    0.109,2,    0.000,2,   98.521,2
  09AR20141205,AU1402,    99,  1,      0,     14,2,20150113,1742,-67.2157, 145.4780, 1156,    200.9,  -1.8368,  34.4321,2,-999.0000,9,    304.3,2,   -999.0,9,  -999.00,9,  -999.00,9,  -999.00,9,   -999.0,9,   -999.0,9,    0.076,2,    0.000,2,   98.488,2
  09AR20141205,AU1402,    99,  1,      0,     13,2,20150113,1742,-67.2157, 145.4780, 1156,    301.3,  -1.8739,  34.4487,2,  34.4486,2,    303.5,2,    303.9,2,  -999.00,9,  -999.00,9,  -999.00,9,   2230.4,2,   2330.1,2,    0.034,2,    0.000,2,   98.572,2
  09AR20141205,AU1402,    99,  1,      0,     12,2,20150113,1742,-67.2157, 145.4780, 1156,    301.3,  -1.8744,  34.4485,2,-999.0000,9,    303.5,2,   -999.0,9,  -999.00,9,  -999.00,9,  -999.00,9,   -999.0,9,   -999.0,9,    0.004,2,    0.000,2,   98.586,2
  09AR20141205,AU1402,    99,  1,      0,     11,2,20150113,1742,-67.2157, 145.4780, 1156,    451.2,  -1.8661,  34.4980,2,-999.0000,9,    303.2,2,    303.2,2,  -999.00,9,  -999.00,9,  -999.00,9,   2234.0,2,   2333.9,2,   -0.040,2,    0.000,2,   98.695,2
  09AR20141205,AU1402,    99,  1,      0,     10,2,20150113,1742,-67.2157, 145.4780, 1156,    451.2,  -1.8663,  34.4981,2,-999.0000,9,    303.2,2,   -999.0,9,  -999.00,9,  -999.00,9,  -999.00,9,   -999.0,9,   -999.0,9,   -0.056,2,    0.000,2,   98.742,2
  09AR20141205,AU1402,    99,  1,      0,      9,2,20150113,1742,-67.2157, 145.4780, 1156,    600.7,  -1.8956,  34.5301,2,  34.5308,2,    303.6,2,    304.5,2,  -999.00,9,  -999.00,9,  -999.00,9,   2233.3,2,   2334.4,2,   -0.069,2,    0.000,2,   98.790,2
  09AR20141205,AU1402,    99,  1,      0,      8,2,20150113,1742,-67.2157, 145.4780, 1156,    600.6,  -1.8958,  34.5307,2,-999.0000,9,    303.6,2,   -999.0,9,  -999.00,9,  -999.00,9,  -999.00,9,   -999.0,9,   -999.0,9,   -0.074,2,    0.000,2,   98.790,2
  09AR20141205,AU1402,    99,  1,      0,      7,2,20150113,1742,-67.2157, 145.4780, 1156,    750.6,  -1.9015,  34.5667,2,-999.0000,9,    305.2,2,    306.6,2,  -999.00,9,  -999.00,9,  -999.00,9,   2237.4,2,   2337.6,2,   -0.076,2,    0.000,2,   98.656,2
  09AR20141205,AU1402,    99,  1,      0,      6,2,20150113,1742,-67.2157, 145.4780, 1156,    750.2,  -1.9015,  34.5679,2,-999.0000,9,    305.2,2,   -999.0,9,  -999.00,9,  -999.00,9,  -999.00,9,   -999.0,9,   -999.0,9,   -0.076,2,    0.000,2,   98.645,2
  09AR20141205,AU1402,    99,  1,      0,      5,2,20150113,1742,-67.2157, 145.4780, 1156,    901.8,  -1.8886,  34.5887,2,  34.5889,2,    307.0,2,    307.4,2,  -999.00,9,  -999.00,9,  -999.00,9,   2238.7,2,   2339.2,6,   -0.082,2,    0.000,2,   98.704,2
  09AR20141205,AU1402,    99,  1,      0,      4,2,20150113,1742,-67.2157, 145.4780, 1156,    901.2,  -1.8886,  34.5887,2,-999.0000,9,    307.0,2,   -999.0,9,  -999.00,9,  -999.00,9,  -999.00,9,   -999.0,9,   -999.0,9,   -0.077,2,    0.000,2,   98.714,2
  09AR20141205,AU1402,    99,  1,      0,      3,2,20150113,1742,-67.2157, 145.4780, 1156,   1051.4,  -1.8783,  34.6032,2,-999.0000,9,    306.9,2,    306.4,2,  -999.00,9,  -999.00,9,  -999.00,9,   2240.8,2,   2339.7,2,   -0.076,2,    0.000,2,   98.483,2
  09AR20141205,AU1402,    99,  1,      0,      2,2,20150113,1742,-67.2157, 145.4780, 1156,   1051.0,  -1.8780,  34.6038,2,-999.0000,9,    306.8,2,   -999.0,9,  -999.00,9,  -999.00,9,  -999.00,9,   -999.0,9,   -999.0,9,   -0.078,2,    0.000,2,   98.435,2
  09AR20141205,AU1402,    99,  1,      0,      1,2,20150113,1742,-67.2157, 145.4780, 1156,   1158.4,  -1.8718,  34.6148,2,-999.0000,9,    307.9,2,    307.0,2,  -999.00,9,  -999.00,9,  -999.00,9,   2241.6,2,   2343.1,2,   -0.080,2,    0.000,2,   98.567,2