BOTTLE,20210329PRINUNIVRMK
EXPOCODE,SECT_ID,STNNBR,CASTNO,SAMPNO,BTLNBR,BTLNBR_FLAG_W,DATE,TIME,LATITUDE,LONGITUDE,DEPTH,CTDPRS,CTDTMP,CTDSAL,CTDSAL_FLAG_W,SALNTY,SALNTY_FLAG_W,CTDOXY,CTDOXY_FLAG_W,OXYGEN,OXYGEN_FLAG_W,SILCAT,SILCAT_FLAG_W,NITRAT,NITRAT_FLAG_W,PHSPHT,PHSPHT_FLAG_W,TCARBN,TCARBN_FLAG_W,ALKALI,ALKALI_FLAG_W,CTDFLUOR,CTDFLUOR_FLAG_W,CTDPAR,CTDPAR_FLAG_W,CTDXMISS,CTDXMISS_FLAG_W
,,,,,,,,,,,METERS,DBAR,ITS-90,PSS-78,,PSS-78,,UMOL/KG,,UMOL/KG,,UMOL/KG,,UMOL/KG,,UMOL/KG,,UMOL/KG,,UMOL/KG,,MG/M^3,,UEINSTEIN/M^2*SEC,,%TRANS,
  09AR20141205,AU1402,    88,  1,      0,     24,2,20150112,1046,-67.0873, 145.0462, 1112,      6.5,  -1.4588,  33.7148,2,  33.7190,2,    375.4,2,    375.3,2,  -999.00,9,    18.13,2,     1.40,3,   2110.8,2,   2293.8,2,    9.092,2,   17.870,2,   86.507,2
  09AR20141205,AU1402,    88,  1,      0,     23,2,20150112,1046,-67.0873, 145.0462, 1112,      6.5,  -1.4484,  33.7103,2,-999.0000,9,    375.4,2,   -999.0,9,  -999.00,9,  -999.00,9,  -999.00,9,   -999.0,9,   -999.0,9,    9.445,2,   18.070,2,   86.396,2
  09AR20141205,AU1402,    88,  1,      0,     22,2,20150112,1046,-67.0873, 145.0462, 1112,      6.4,  -1.4439,  33.7084,2,-999.0000,9,    375.4,2,   -999.0,9,  -999.00,9,  -999.00,9,  -999.00,9,   -999.0,9,   -999.0,9,    9.908,2,   18.280,2,   86.616,2
  09AR20141205,AU1402,    88,  1,      0,     21,2,20150112,1046,-67.0873, 145.0462, 1112,     31.4,  -1.4558,  33.7529,2,-999.0000,9,    372.3,2,    371.0,2,  -999.00,9,    18.52,2,     1.46,3,   2120.3,2,   2296.5,2,   13.625,2,    0.117,2,   86.528,2
  09AR20141205,AU1402,    88,  1,      0,     20,2,20150112,1046,-67.0873, 145.0462, 1112,     31.3,  -1.4556,  33.7533,2,-999.0000,9,    372.3,2,   -999.0,9,  -999.00,9,  -999.00,9,  -999.00,9,   -999.0,9,   -999.0,9,   10.682,2,    0.121,2,   86.373,2
  09AR20141205,AU1402,    88,  1,      0,     19,2,20150112,1046,-67.0873, 145.0462, 1112,     40.8,  -1.4265,  33.7822,2,-999.0000,9,    373.2,2,    361.6,2,  -999.00,9,    19.09,2,     1.50,3,   2134.9,6,   2299.8,6,    8.859,2,    0.000,2,   87.633,2
  09AR20141205,AU1402,    88,  1,      0,     18,2,20150112,1046,-67.0873, 145.0462, 1112,     80.3,  -1.8288,  34.3895,2,-999.0000,9,    310.0,2,   -999.0,9,  -999.00,9,  -999.00,9,  -999.00,9,   -999.0,9,   -999.0,9,    0.932,2,    0.000,2,   97.363,2
  09AR20141205,AU1402,    88,  1,      0,     17,2,20150112,1046,-67.0873, 145.0462, 1112,     80.2,  -1.8290,  34.3901,2,-999.0000,9,    310.0,2,    307.3,2,  -999.00,9,  -999.00,9,  -999.00,9,   2224.6,2,   2327.0,6,    0.504,2,    0.000,2,   97.447,2
  09AR20141205,AU1402,    88,  1,      0,     16,2,20150112,1046,-67.0873, 145.0462, 1112,     80.1,  -1.8296,  34.3897,2,-999.0000,9,    310.0,2,   -999.0,9,  -999.00,9,  -999.00,9,  -999.00,9,   -999.0,9,   -999.0,9,    0.690,2,    0.000,2,   97.523,2
  09AR20141205,AU1402,    88,  1,      0,     15,2,20150112,1046,-67.0873, 145.0462, 1112,    200.1,  -1.7832,  34.4191,2,  34.4209,2,    304.8,2,    303.6,2,  -999.00,9,    30.24,2,     2.07,3,   2230.2,2,   2325.2,2,    0.345,2,    0.000,2,   97.862,2
  09AR20141205,AU1402,    88,  1,      0,     14,2,20150112,1046,-67.0873, 145.0462, 1112,    200.1,  -1.7840,  34.4191,2,-999.0000,9,    304.8,2,   -999.0,9,  -999.00,9,  -999.00,9,  -999.00,9,   -999.0,9,   -999.0,9,    0.297,2,    0.000,2,   97.888,2
  09AR20141205,AU1402,    88,  1,      0,     13,2,20150112,1046,-67.0873, 145.0462, 1112,    305.6,  -1.8227,  34.4620,2,  34.4613,2,    301.2,2,    300.9,2,  -999.00,9,  -999.00,9,  -999.00,9,   2232.3,2,   2329.6,2,   -0.028,2,    0.000,2,   98.553,2
  09AR20141205,AU1402,    88,  1,      0,     12,2,20150112,1046,-67.0873, 145.0462, 1112,    305.3,  -1.8226,  34.4619,2,-999.0000,9,    301.2,2,   -999.0,9,  -999.00,9,  -999.00,9,  -999.00,9,   -999.0,9,   -999.0,9,   -0.016,2,    0.000,2,   98.553,2
  09AR20141205,AU1402,    88,  1,      0,     11,2,20150112,1046,-67.0873, 145.0462, 1112,    449.5,  -2.0219,  34.4956,2,-999.0000,9,    307.0,2,    306.9,2,  -999.00,9,  -999.00,9,  -999.00,9,   2233.7,2,   2331.8,6,   -0.055,2,    0.000,2,   98.675,2
  09AR20141205,AU1402,    88,  1,      0,     10,2,20150112,1046,-67.0873, 145.0462, 1112,    449.6,  -2.0219,  34.4956,2,-999.0000,9,    307.0,2,   -999.0,9,  -999.00,9,  -999.00,9,  -999.00,9,   -999.0,9,   -999.0,9,   -0.045,2,    0.000,2,   98.674,2
  09AR20141205,AU1402,    88,  1,      0,      9,2,20150112,1046,-67.0873, 145.0462, 1112,    584.9,  -1.9017,  34.5385,2,  34.5381,2,    303.8,2,    306.1,2,  -999.00,9,  -999.00,9,  -999.00,9,   2236.1,2,   2332.2,2,   -0.082,2,    0.000,2,   98.668,2
  09AR20141205,AU1402,    88,  1,      0,      8,2,20150112,1046,-67.0873, 145.0462, 1112,    585.0,  -1.9037,  34.5385,2,-999.0000,9,    303.9,2,   -999.0,9,  -999.00,9,  -999.00,9,  -999.00,9,   -999.0,9,   -999.0,9,   -0.081,2,    0.000,2,   98.635,2
  09AR20141205,AU1402,    88,  1,      0,      7,2,20150112,1046,-67.0873, 145.0462, 1112,    620.6,  -2.0198,  34.5414,2,-999.0000,9,    309.0,2,    308.8,2,  -999.00,9,    31.01,2,     2.04,3,   2236.6,2,   2330.2,2,   -0.090,2,    0.000,2,   98.286,2
  09AR20141205,AU1402,    88,  1,      0,      6,2,20150112,1046,-67.0873, 145.0462, 1112,    620.6,  -2.0181,  34.5417,2,-999.0000,9,    309.0,2,   -999.0,9,  -999.00,9,  -999.00,9,  -999.00,9,   -999.0,9,   -999.0,9,   -0.089,2,    0.000,2,   98.260,2
  09AR20141205,AU1402,    88,  1,      0,      5,2,20150112,1046,-67.0873, 145.0462, 1112,    801.4,  -1.9441,  34.5736,2,  34.5732,2,    308.4,2,    308.4,2,  -999.00,9,  -999.00,9,  -999.00,9,   2239.4,2,   2339.1,2,   -0.089,2,    0.000,2,   98.543,2
  09AR20141205,AU1402,    88,  1,      0,      4,2,20150112,1046,-67.0873, 145.0462, 1112,   1001.3,  -1.8836,  34.6007,2,-999.0000,9,    307.6,2,   -999.0,9,  -999.00,9,  -999.00,9,  -999.00,9,   -999.0,9,   -999.0,9,   -0.089,2,    0.000,2,   98.754,2
  09AR20141205,AU1402,    88,  1,      0,      3,2,20150112,1046,-67.0873, 145.0462, 1112,   1001.2,  -1.8836,  34.6006,2,-999.0000,9,    307.6,2,    307.3,2,  -999.00,9,  -999.00,9,  -999.00,9,   2240.1,2,   2339.2,2,   -0.085,2,    0.000,2,   98.752,2
  09AR20141205,AU1402,    88,  1,      0,      2,2,20150112,1046,-67.0873, 145.0462, 1112,   1105.1,  -1.8749,  34.6113,2,-999.0000,9,    307.5,2,   -999.0,9,  -999.00,9,  -999.00,9,  -999.00,9,   -999.0,9,   -999.0,9,   -0.078,2,    0.000,2,   98.662,2
  09AR20141205,AU1402,    88,  1,      0,      1,2,20150112,1046,-67.0873, 145.0462, 1112,   1104.8,  -1.8749,  34.6111,2,  34.6117,2,    307.4,2,    307.0,2,  -999.00,9,    31.08,2,     2.11,3,   2241.7,2,   2339.4,2,   -0.080,2,    0.000,2,   98.668,2
  09AR20141205,AU1402,    89,  1,      0,     24,2,20150112,1409,-66.9682, 145.3957,  817,      7.6,  -1.1778,  34.1572,2,-999.0000,9,    352.3,2,   -999.0,9,  -999.00,9,  -999.00,9,  -999.00,9,   -999.0,9,   -999.0,9,   16.105,2,    0.998,2,   85.286,2
  09AR20141205,AU1402,    89,  1,      0,     23,2,20150112,1409,-66.9682, 145.3957,  817,      7.6,  -1.1695,  34.1494,2,-999.0000,9,    352.3,2,   -999.0,9,  -999.00,9,  -999.00,9,  -999.00,9,   -999.0,9,   -999.0,9,   14.109,2,    1.007,2,   85.164,2
  09AR20141205,AU1402,    89,  1,      0,     22,2,20150112,1409,-66.9682, 145.3957,  817,      7.5,  -1.1623,  34.1458,2,-999.0000,9,    352.3,2,   -999.0,9,  -999.00,9,  -999.00,9,  -999.00,9,   -999.0,9,   -999.0,9,   13.876,2,    1.017,2,   84.410,2
  09AR20141205,AU1402,    89,  1,      0,     21,2,20150112,1409,-66.9682, 145.3957,  817,      7.5,  -1.1649,  34.1246,2,  34.1316,2,    352.3,2,    350.1,2,  -999.00,9,    22.89,2,     1.68,3,   2165.6,2,   2312.4,2,   15.653,2,    1.077,2,   83.863,2
  09AR20141205,AU1402,    89,  1,      0,     20,2,20150112,1409,-66.9682, 145.3957,  817,     20.7,  -1.2111,  34.1650,2,-999.0000,9,    347.2,2,   -999.0,9,  -999.00,9,  -999.00,9,  -999.00,9,   -999.0,9,   -999.0,9,   13.779,2,    0.003,2,   84.911,2
  09AR20141205,AU1402,    89,  1,      0,     19,2,20150112,1409,-66.9682, 145.3957,  817,     20.6,  -1.2196,  34.1650,2,-999.0000,9,    347.2,2,    342.8,2,  -999.00,9,    23.49,2,     1.79,3,   2175.5,2,   2313.8,2,   14.654,2,    0.008,2,   84.634,2
  09AR20141205,AU1402,    89,  1,      0,     18,2,20150112,1409,-66.9682, 145.3957,  817,     76.5,  -1.7277,  34.3941,2,-999.0000,9,    305.4,2,   -999.0,9,  -999.00,9,  -999.00,9,  -999.00,9,   -999.0,9,   -999.0,9,    1.392,2,    0.000,2,   96.287,2
  09AR20141205,AU1402,    89,  1,      0,     17,2,20150112,1409,-66.9682, 145.3957,  817,     76.4,  -1.7283,  34.3941,2,  34.3968,2,    305.4,2,    303.9,2,  -999.00,9,    29.61,2,     2.10,3,   2229.1,2,   2327.5,2,    1.744,2,    0.000,2,   96.275,2
  09AR20141205,AU1402,    89,  1,      0,     16,2,20150112,1409,-66.9682, 145.3957,  817,     76.4,  -1.7284,  34.3941,2,-999.0000,9,    305.4,2,   -999.0,9,  -999.00,9,  -999.00,9,  -999.00,9,   -999.0,9,   -999.0,9,    1.569,2,    0.000,2,   96.035,2
  09AR20141205,AU1402,    89,  1,      0,     15,2,20150112,1409,-66.9682, 145.3957,  817,    160.6,  -1.7720,  34.4477,2,  34.4470,2,    300.1,2,    299.9,2,  -999.00,9,  -999.00,9,  -999.00,9,   2232.1,2,   2326.8,2,    0.118,2,    0.000,2,   98.259,2
  09AR20141205,AU1402,    89,  1,      0,     14,2,20150112,1409,-66.9682, 145.3957,  817,    160.6,  -1.7718,  34.4476,2,-999.0000,9,    300.1,2,   -999.0,9,  -999.00,9,  -999.00,9,  -999.00,9,   -999.0,9,   -999.0,9,    0.069,2,    0.000,2,   98.368,2
  09AR20141205,AU1402,    89,  1,      0,     13,2,20150112,1409,-66.9682, 145.3957,  817,    220.9,  -1.8259,  34.4688,2,-999.0000,9,    301.3,2,    300.8,2,  -999.00,9,    30.78,2,     2.09,3,   2234.8,2,   2328.7,6,   -0.001,2,    0.000,2,   98.478,2
  09AR20141205,AU1402,    89,  1,      0,     12,2,20150112,1409,-66.9682, 145.3957,  817,    220.9,  -1.8259,  34.4688,2,-999.0000,9,    301.3,2,   -999.0,9,  -999.00,9,  -999.00,9,  -999.00,9,   -999.0,9,   -999.0,9,   -0.010,2,    0.000,2,   98.442,2
  09AR20141205,AU1402,    89,  1,      0,     11,2,20150112,1409,-66.9682, 145.3957,  817,    276.5,  -1.7524,  34.4973,2,  34.4968,2,    297.8,2,    297.9,2,  -999.00,9,  -999.00,9,  -999.00,9,   2235.8,2,   2329.6,2,    0.146,2,    0.000,2,   98.421,2
  09AR20141205,AU1402,    89,  1,      0,     10,2,20150112,1409,-66.9682, 145.3957,  817,    276.5,  -1.7522,  34.4974,2,-999.0000,9,    297.8,2,   -999.0,9,  -999.00,9,  -999.00,9,  -999.00,9,   -999.0,9,   -999.0,9,    0.100,2,    0.000,2,   98.409,2
  09AR20141205,AU1402,    89,  1,      0,      9,2,20150112,1409,-66.9682, 145.3957,  817,    401.3,  -1.8766,  34.5268,2,-999.0000,9,    301.8,2,    302.8,2,  -999.00,9,    30.95,2,     2.10,3,   2236.3,2,   2333.8,2,   -0.021,2,    0.000,2,   98.585,2
  09AR20141205,AU1402,    89,  1,      0,      8,2,20150112,1409,-66.9682, 145.3957,  817,    401.2,  -1.8757,  34.5265,2,-999.0000,9,    301.8,2,   -999.0,9,  -999.00,9,  -999.00,9,  -999.00,9,   -999.0,9,   -999.0,9,   -0.044,2,    0.000,2,   98.515,2
  09AR20141205,AU1402,    89,  1,      0,      7,2,20150112,1409,-66.9682, 145.3957,  817,    525.8,  -1.9043,  34.5544,2,  34.5544,2,    305.7,2,    305.5,2,  -999.00,9,  -999.00,9,  -999.00,9,   2238.3,6,   2334.6,6,   -0.071,2,    0.000,2,   98.530,2
  09AR20141205,AU1402,    89,  1,      0,      6,2,20150112,1409,-66.9682, 145.3957,  817,    525.7,  -1.9044,  34.5546,2,-999.0000,9,    305.7,2,   -999.0,9,  -999.00,9,  -999.00,9,  -999.00,9,   -999.0,9,   -999.0,9,   -0.042,2,    0.000,2,   98.506,2
  09AR20141205,AU1402,    89,  1,      0,      5,2,20150112,1409,-66.9682, 145.3957,  817,    701.4,  -1.8978,  34.5834,2,-999.0000,9,    308.0,2,    307.7,2,  -999.00,9,  -999.00,9,  -999.00,9,   2239.9,2,   2335.5,2,   -0.087,2,    0.000,2,   98.673,2
  09AR20141205,AU1402,    89,  1,      0,      4,2,20150112,1409,-66.9682, 145.3957,  817,    791.0,  -1.8886,  34.5958,2,-999.0000,9,    307.5,2,   -999.0,9,  -999.00,9,  -999.00,9,  -999.00,9,   -999.0,9,   -999.0,9,   -0.070,2,    0.000,2,   98.436,2
  09AR20141205,AU1402,    89,  1,      0,      3,2,20150112,1409,-66.9682, 145.3957,  817,    791.0,  -1.8886,  34.5957,2,-999.0000,9,    307.5,2,   -999.0,9,  -999.00,9,  -999.00,9,  -999.00,9,   -999.0,9,   -999.0,9,   -0.067,2,    0.000,2,   98.493,2
  09AR20141205,AU1402,    89,  1,      0,      2,2,20150112,1409,-66.9682, 145.3957,  817,    816.5,  -1.8877,  34.5956,2,-999.0000,9,    307.4,2,   -999.0,9,  -999.00,9,  -999.00,9,  -999.00,9,   -999.0,9,   -999.0,9,   -0.074,2,    0.000,2,   98.484,2
  09AR20141205,AU1402,    89,  1,      0,      1,2,20150112,1409,-66.9682, 145.3957,  817,    818.0,  -1.8876,  34.5958,2,-999.0000,9,    307.4,2,    306.5,2,  -999.00,9,    31.12,2,     2.09,3,   2240.5,2,   2340.1,2,   -0.075,2,    0.000,2,   98.457,2
  09AR20141205,AU1402,    90,  1,      0,     24,2,20150112,1628,-66.9083, 145.5187,  638,      7.6,  -0.8193,  34.0094,2,-999.0000,9,    354.4,2,   -999.0,9,  -999.00,9,  -999.00,9,  -999.00,9,   -999.0,9,   -999.0,9,   13.561,2,    6.366,2,   82.326,2
  09AR20141205,AU1402,    90,  1,      0,     23,2,20150112,1628,-66.9083, 145.5187,  638,      7.6,  -0.8196,  34.0093,2,-999.0000,9,    354.4,2,   -999.0,9,  -999.00,9,  -999.00,9,  -999.00,9,   -999.0,9,   -999.0,9,   13.869,2,    6.463,2,   82.932,2
  09AR20141205,AU1402,    90,  1,      0,     22,2,20150112,1628,-66.9083, 145.5187,  638,      7.6,  -0.8177,  34.0096,2,-999.0000,9,    354.4,2,   -999.0,9,  -999.00,9,  -999.00,9,  -999.00,9,   -999.0,9,   -999.0,9,   12.753,2,    6.511,2,   82.707,2
  09AR20141205,AU1402,    90,  1,      0,     21,2,20150112,1628,-66.9083, 145.5187,  638,      7.5,  -0.8176,  34.0098,2,  34.0162,2,    354.4,2,    368.1,2,    62.30,2,    19.91,2,     1.56,3,   2134.3,2,   2311.3,2,   13.720,2,    6.815,2,   82.324,2
  09AR20141205,AU1402,    90,  1,      0,     20,2,20150112,1628,-66.9083, 145.5187,  638,     15.3,  -0.8417,  34.0151,2,-999.0000,9,    336.0,2,   -999.0,9,  -999.00,9,  -999.00,9,  -999.00,9,   -999.0,9,   -999.0,9,   12.697,2,    1.526,2,   82.611,2
  09AR20141205,AU1402,    90,  1,      0,     19,2,20150112,1628,-66.9083, 145.5187,  638,     15.2,  -0.9371,  34.0358,2,-999.0000,9,    336.0,2,    358.5,2,  -999.00,9,  -999.00,9,  -999.00,9,   2154.2,2,   2311.6,2,   11.454,2,    1.528,2,   84.333,2
  09AR20141205,AU1402,    90,  1,      0,     18,2,20150112,1628,-66.9083, 145.5187,  638,     50.6,  -1.5790,  34.3381,2,-999.0000,9,    313.1,2,   -999.0,9,  -999.00,9,  -999.00,9,  -999.00,9,   -999.0,9,   -999.0,9,    3.931,2,    0.000,2,   92.450,2
  09AR20141205,AU1402,    90,  1,      0,     17,2,20150112,1628,-66.9083, 145.5187,  638,     50.5,  -1.5753,  34.3403,2,  34.3494,2,    313.1,2,    313.5,2,    70.90,2,    27.98,2,     2.06,3,   2215.0,2,   2326.1,2,    5.640,2,    0.000,2,   93.065,2
  09AR20141205,AU1402,    90,  1,      0,     16,2,20150112,1628,-66.9083, 145.5187,  638,     50.5,  -1.5711,  34.3442,2,-999.0000,9,    313.1,2,   -999.0,9,  -999.00,9,  -999.00,9,  -999.00,9,   -999.0,9,   -999.0,9,    5.306,2,    0.000,2,   92.582,2
  09AR20141205,AU1402,    90,  1,      0,     15,2,20150112,1628,-66.9083, 145.5187,  638,    100.7,  -1.7610,  34.4311,2,  34.4372,2,    303.5,2,    300.3,2,    73.60,2,    30.16,2,     2.13,3,   2232.2,2,   2328.4,2,    0.992,2,    0.000,2,   97.493,2
  09AR20141205,AU1402,    90,  1,      0,     14,2,20150112,1628,-66.9083, 145.5187,  638,    100.7,  -1.7613,  34.4310,2,-999.0000,9,    303.5,2,   -999.0,9,  -999.00,9,  -999.00,9,  -999.00,9,   -999.0,9,   -999.0,9,    0.702,2,    0.000,2,   97.448,2
  09AR20141205,AU1402,    90,  1,      0,     13,2,20150112,1628,-66.9083, 145.5187,  638,    150.0,  -1.8240,  34.4686,2,-999.0000,9,    301.4,2,    301.3,2,    73.30,2,    30.38,2,     2.12,3,   2232.5,6,   2328.1,6,    0.030,2,    0.000,2,   98.347,2
  09AR20141205,AU1402,    90,  1,      0,     12,2,20150112,1628,-66.9083, 145.5187,  638,    149.8,  -1.8238,  34.4686,2,-999.0000,9,    301.4,2,   -999.0,9,  -999.00,9,  -999.00,9,  -999.00,9,   -999.0,9,   -999.0,9,    0.036,2,    0.000,2,   98.460,2
  09AR20141205,AU1402,    90,  1,      0,     11,2,20150112,1628,-66.9083, 145.5187,  638,    200.7,  -1.8538,  34.4850,2,  34.4854,2,    301.4,2,    302.0,2,    73.50,2,    30.43,2,     2.13,3,   2233.1,2,   2332.5,2,    0.064,2,    0.000,2,   98.540,2
  09AR20141205,AU1402,    90,  1,      0,     10,2,20150112,1628,-66.9083, 145.5187,  638,    200.7,  -1.8534,  34.4851,2,-999.0000,9,    301.4,2,   -999.0,9,  -999.00,9,  -999.00,9,  -999.00,9,   -999.0,9,   -999.0,9,    0.017,2,    0.000,2,   98.513,2
  09AR20141205,AU1402,    90,  1,      0,      9,2,20150112,1628,-66.9083, 145.5187,  638,    300.8,  -1.8769,  34.5062,2,-999.0000,9,    301.7,2,    302.7,2,    73.50,2,    30.54,2,     2.14,3,   2234.7,2,   2332.2,6,   -0.021,2,    0.000,2,   98.560,2
  09AR20141205,AU1402,    90,  1,      0,      8,2,20150112,1628,-66.9083, 145.5187,  638,    300.7,  -1.8768,  34.5062,2,-999.0000,9,    301.7,2,   -999.0,9,  -999.00,9,  -999.00,9,  -999.00,9,   -999.0,9,   -999.0,9,   -0.027,2,    0.000,2,   98.553,2
  09AR20141205,AU1402,    90,  1,      0,      7,2,20150112,1628,-66.9083, 145.5187,  638,    425.7,  -1.9250,  34.5226,2,  34.5236,2,    302.3,2,    304.6,2,    73.50,2,    30.66,2,     2.14,3,   2236.4,2,   2333.1,2,   -0.068,2,    0.000,2,   98.535,2
  09AR20141205,AU1402,    90,  1,      0,      6,2,20150112,1628,-66.9083, 145.5187,  638,    425.7,  -1.9248,  34.5227,2,-999.0000,9,    302.3,2,   -999.0,9,  -999.00,9,  -999.00,9,  -999.00,9,   -999.0,9,   -999.0,9,   -0.063,2,    0.000,2,   98.537,2
  09AR20141205,AU1402,    90,  1,      0,      5,2,20150112,1628,-66.9083, 145.5187,  638,    551.0,  -1.8982,  34.5519,2,-999.0000,9,    304.2,2,    304.8,2,    74.30,2,    30.72,2,     2.09,3,   2238.3,2,   2333.7,2,   -0.057,2,    0.000,2,   98.130,2
  09AR20141205,AU1402,    90,  1,      0,      4,2,20150112,1628,-66.9083, 145.5187,  638,    550.3,  -1.8983,  34.5522,2,-999.0000,9,    304.2,2,   -999.0,9,  -999.00,9,  -999.00,9,  -999.00,9,   -999.0,9,   -999.0,9,   -0.067,2,    0.000,2,   98.095,2
  09AR20141205,AU1402,    90,  1,      0,      3,2,20150112,1628,-66.9083, 145.5187,  638,    550.2,  -1.8982,  34.5520,2,-999.0000,9,    304.2,2,   -999.0,9,  -999.00,9,  -999.00,9,  -999.00,9,   -999.0,9,   -999.0,9,   -0.064,2,    0.000,2,   98.157,2
  09AR20141205,AU1402,    90,  1,      0,      2,2,20150112,1628,-66.9083, 145.5187,  638,    550.1,  -1.8983,  34.5520,2,-999.0000,9,    304.2,2,   -999.0,9,  -999.00,9,  -999.00,9,  -999.00,9,   -999.0,9,   -999.0,9,   -0.054,2,    0.000,2,   98.144,2
  09AR20141205,AU1402,    90,  1,      0,      1,2,20150112,1628,-66.9083, 145.5187,  638,    638.8,  -1.8928,  34.5999,2,  34.5989,2,    306.2,2,    306.5,2,    74.00,2,    30.66,2,     2.16,3,   2240.1,2,   2338.8,2,   -0.070,2,    0.000,2,   94.480,2