BOTTLE,20210329PRINUNIVRMK
EXPOCODE,SECT_ID,STNNBR,CASTNO,SAMPNO,BTLNBR,BTLNBR_FLAG_W,DATE,TIME,LATITUDE,LONGITUDE,DEPTH,CTDPRS,CTDTMP,CTDSAL,CTDSAL_FLAG_W,SALNTY,SALNTY_FLAG_W,CTDOXY,CTDOXY_FLAG_W,OXYGEN,OXYGEN_FLAG_W,SILCAT,SILCAT_FLAG_W,NITRAT,NITRAT_FLAG_W,PHSPHT,PHSPHT_FLAG_W,TCARBN,TCARBN_FLAG_W,ALKALI,ALKALI_FLAG_W,CTDFLUOR,CTDFLUOR_FLAG_W,CTDPAR,CTDPAR_FLAG_W,CTDXMISS,CTDXMISS_FLAG_W
,,,,,,,,,,,METERS,DBAR,ITS-90,PSS-78,,PSS-78,,UMOL/KG,,UMOL/KG,,UMOL/KG,,UMOL/KG,,UMOL/KG,,UMOL/KG,,UMOL/KG,,MG/M^3,,UEINSTEIN/M^2*SEC,,%TRANS,
  09AR20141205,AU1402,    70,  1,      0,     24,2,20150105,1620,-66.5682, 120.8252,  385,      7.4,  -0.5940,  34.1750,2,-999.0000,9,    348.7,2,   -999.0,9,  -999.00,9,  -999.00,9,  -999.00,9,   -999.0,9,   -999.0,9,    0.554,2,    1.551,2,   94.896,2
  09AR20141205,AU1402,    70,  1,      0,     23,2,20150105,1620,-66.5682, 120.8252,  385,      7.4,  -0.5944,  34.1751,2,-999.0000,9,    348.7,2,   -999.0,9,  -999.00,9,  -999.00,9,  -999.00,9,   -999.0,9,   -999.0,9,    0.553,2,    1.540,2,   94.896,2
  09AR20141205,AU1402,    70,  1,      0,     22,2,20150105,1620,-66.5682, 120.8252,  385,      7.4,  -0.5939,  34.1749,2,-999.0000,9,    348.7,2,   -999.0,9,  -999.00,9,  -999.00,9,  -999.00,9,   -999.0,9,   -999.0,9,    0.556,2,    1.478,2,   94.906,2
  09AR20141205,AU1402,    70,  1,      0,     21,2,20150105,1620,-66.5682, 120.8252,  385,      7.3,  -0.5929,  34.1748,2,  34.1751,2,    348.7,2,    349.0,2,  -999.00,9,  -999.00,9,  -999.00,9,   2194.4,2,   2309.2,2,    0.540,2,    1.476,2,   94.869,2
  09AR20141205,AU1402,    70,  1,      0,     20,2,20150105,1620,-66.5682, 120.8252,  385,      7.3,  -0.5925,  34.1748,2,-999.0000,9,    348.7,2,   -999.0,9,  -999.00,9,  -999.00,9,  -999.00,9,   -999.0,9,   -999.0,9,    0.534,2,    1.473,2,   94.873,2
  09AR20141205,AU1402,    70,  1,      0,     19,2,20150105,1620,-66.5682, 120.8252,  385,     30.7,  -0.5912,  34.1745,2,  34.1760,2,    348.9,2,    348.1,2,  -999.00,9,  -999.00,9,  -999.00,9,   2193.7,2,   2310.2,2,    0.557,2,    0.293,2,   94.882,2
  09AR20141205,AU1402,    70,  1,      0,     18,2,20150105,1620,-66.5682, 120.8252,  385,     30.6,  -0.6176,  34.1770,2,-999.0000,9,    348.9,2,   -999.0,9,  -999.00,9,  -999.00,9,  -999.00,9,   -999.0,9,   -999.0,9,    0.601,2,    0.303,2,   95.007,2
  09AR20141205,AU1402,    70,  1,      0,     17,2,20150105,1620,-66.5682, 120.8252,  385,     61.2,  -1.5159,  34.2199,2,  34.2179,2,    339.9,2,    334.2,2,  -999.00,9,  -999.00,9,  -999.00,9,   2203.5,6,   2311.6,6,    0.791,2,    0.005,2,   96.599,2
  09AR20141205,AU1402,    70,  1,      0,     16,2,20150105,1620,-66.5682, 120.8252,  385,     61.1,  -1.5161,  34.2198,2,-999.0000,9,    339.9,2,   -999.0,9,  -999.00,9,  -999.00,9,  -999.00,9,   -999.0,9,   -999.0,9,    0.812,2,    0.003,2,   96.648,2
  09AR20141205,AU1402,    70,  1,      0,     15,2,20150105,1620,-66.5682, 120.8252,  385,     61.0,  -1.5167,  34.2191,2,-999.0000,9,    339.9,2,   -999.0,9,  -999.00,9,  -999.00,9,  -999.00,9,   -999.0,9,   -999.0,9,    0.771,2,    0.001,2,   96.663,2
  09AR20141205,AU1402,    70,  1,      0,     14,2,20150105,1620,-66.5682, 120.8252,  385,     61.0,  -1.5167,  34.2190,2,-999.0000,9,    339.9,2,   -999.0,9,  -999.00,9,  -999.00,9,  -999.00,9,   -999.0,9,   -999.0,9,    0.701,2,    0.000,2,   96.737,2
  09AR20141205,AU1402,    70,  1,      0,     13,2,20150105,1620,-66.5682, 120.8252,  385,    125.3,  -1.7908,  34.2356,2,  34.2338,2,    323.8,2,    324.0,2,  -999.00,9,  -999.00,9,  -999.00,9,   2211.3,2,   2311.3,2,    0.243,2,    0.000,2,   98.258,2
  09AR20141205,AU1402,    70,  1,      0,     12,2,20150105,1620,-66.5682, 120.8252,  385,    125.2,  -1.7905,  34.2357,2,-999.0000,9,    323.8,2,   -999.0,9,  -999.00,9,  -999.00,9,  -999.00,9,   -999.0,9,   -999.0,9,    0.243,2,    0.000,2,   98.254,2
  09AR20141205,AU1402,    70,  1,      0,     11,2,20150105,1620,-66.5682, 120.8252,  385,    125.2,  -1.7900,  34.2357,2,-999.0000,9,    323.8,2,   -999.0,9,  -999.00,9,  -999.00,9,  -999.00,9,   -999.0,9,   -999.0,9,    0.229,2,    0.000,2,   98.256,2
  09AR20141205,AU1402,    70,  1,      0,     10,2,20150105,1620,-66.5682, 120.8252,  385,    125.1,  -1.7899,  34.2358,2,-999.0000,9,    323.8,2,   -999.0,9,  -999.00,9,  -999.00,9,  -999.00,9,   -999.0,9,   -999.0,9,    0.216,2,    0.000,2,   98.256,2
  09AR20141205,AU1402,    70,  1,      0,      9,2,20150105,1620,-66.5682, 120.8252,  385,    200.9,  -1.8677,  34.2502,2,  34.2495,2,    317.1,2,    316.7,2,  -999.00,9,  -999.00,9,  -999.00,9,   2212.6,2,   2313.6,6,   -0.037,2,    0.000,2,   98.529,2
  09AR20141205,AU1402,    70,  1,      0,      8,2,20150105,1620,-66.5682, 120.8252,  385,    200.8,  -1.8676,  34.2502,2,-999.0000,9,    317.1,2,   -999.0,9,  -999.00,9,  -999.00,9,  -999.00,9,   -999.0,9,   -999.0,9,   -0.037,2,    0.000,2,   98.533,2
  09AR20141205,AU1402,    70,  1,      0,      7,2,20150105,1620,-66.5682, 120.8252,  385,    200.7,  -1.8670,  34.2502,2,-999.0000,9,    317.1,2,   -999.0,9,  -999.00,9,  -999.00,9,  -999.00,9,   -999.0,9,   -999.0,9,   -0.042,2,    0.000,2,   98.526,2
  09AR20141205,AU1402,    70,  1,      0,      6,2,20150105,1620,-66.5682, 120.8252,  385,    200.6,  -1.8669,  34.2502,2,-999.0000,9,    317.1,2,   -999.0,9,  -999.00,9,  -999.00,9,  -999.00,9,   -999.0,9,   -999.0,9,   -0.041,2,    0.000,2,   98.527,2
  09AR20141205,AU1402,    70,  1,      0,      5,2,20150105,1620,-66.5682, 120.8252,  385,    310.9,  -1.7057,  34.3024,2,  34.3015,2,    310.2,2,    309.6,2,  -999.00,9,  -999.00,9,  -999.00,9,   2216.9,2,   2316.2,2,   -0.075,2,    0.000,2,   98.173,2
  09AR20141205,AU1402,    70,  1,      0,      4,2,20150105,1620,-66.5682, 120.8252,  385,    310.8,  -1.7029,  34.3033,2,-999.0000,9,    310.2,2,   -999.0,9,  -999.00,9,  -999.00,9,  -999.00,9,   -999.0,9,   -999.0,9,   -0.070,2,    0.000,2,   98.154,2
  09AR20141205,AU1402,    70,  1,      0,      3,2,20150105,1620,-66.5682, 120.8252,  385,    310.8,  -1.7033,  34.3032,2,-999.0000,9,    310.2,2,   -999.0,9,  -999.00,9,  -999.00,9,  -999.00,9,   -999.0,9,   -999.0,9,   -0.074,2,    0.000,2,   98.155,2
  09AR20141205,AU1402,    70,  1,      0,      2,2,20150105,1620,-66.5682, 120.8252,  385,    310.7,  -1.7077,  34.3021,2,-999.0000,9,    310.2,2,   -999.0,9,  -999.00,9,  -999.00,9,  -999.00,9,   -999.0,9,   -999.0,9,   -0.074,2,    0.000,2,   98.158,2
  09AR20141205,AU1402,    70,  1,      0,      1,2,20150105,1620,-66.5682, 120.8252,  385,    379.0,  -1.1712,  34.4065,2,  34.4054,2,    286.1,2,    285.9,2,  -999.00,9,  -999.00,9,  -999.00,9,   2226.6,2,   2324.9,2,   -0.089,2,    0.000,2,   98.074,2
  09AR20141205,AU1402,    71,  1,      0,     24,2,20150105,1815,-66.4975, 120.9492,  292,      7.6,  -0.7465,  34.2041,2,  34.2046,2,    351.8,2,   -999.0,9,  -999.00,9,  -999.00,9,  -999.00,9,   -999.0,9,   -999.0,9,    0.938,2,    5.509,2,   94.295,2
  09AR20141205,AU1402,    71,  1,      0,     23,2,20150105,1815,-66.4975, 120.9492,  292,      7.6,  -0.7457,  34.2039,2,-999.0000,9,    351.8,2,   -999.0,9,  -999.00,9,  -999.00,9,  -999.00,9,   -999.0,9,   -999.0,9,    0.900,2,    5.485,2,   94.312,2
  09AR20141205,AU1402,    71,  1,      0,     22,2,20150105,1815,-66.4975, 120.9492,  292,      7.6,  -0.7464,  34.2040,2,-999.0000,9,    351.8,2,   -999.0,9,  -999.00,9,  -999.00,9,  -999.00,9,   -999.0,9,   -999.0,9,    0.919,2,    5.375,2,   94.304,2
  09AR20141205,AU1402,    71,  1,      0,     21,2,20150105,1815,-66.4975, 120.9492,  292,      7.4,  -0.7452,  34.2038,2,-999.0000,9,    351.8,2,    351.8,2,  -999.00,9,  -999.00,9,  -999.00,9,   2195.4,2,   2313.2,2,    0.900,2,    4.967,2,   94.292,2
  09AR20141205,AU1402,    71,  1,      0,     20,2,20150105,1815,-66.4975, 120.9492,  292,      7.4,  -0.7440,  34.2040,2,-999.0000,9,    351.8,2,   -999.0,9,  -999.00,9,  -999.00,9,  -999.00,9,   -999.0,9,   -999.0,9,    0.906,2,    5.093,2,   94.292,2
  09AR20141205,AU1402,    71,  1,      0,     19,2,20150105,1815,-66.4975, 120.9492,  292,      7.4,  -0.7437,  34.2039,2,-999.0000,9,    351.8,2,   -999.0,9,  -999.00,9,  -999.00,9,  -999.00,9,   -999.0,9,   -999.0,9,    0.904,2,    5.277,2,   94.294,2
  09AR20141205,AU1402,    71,  1,      0,     18,2,20150105,1815,-66.4975, 120.9492,  292,     40.6,  -0.7547,  34.2041,2,-999.0000,9,    351.8,2,   -999.0,9,  -999.00,9,  -999.00,9,  -999.00,9,   -999.0,9,   -999.0,9,    0.999,2,    0.537,2,   94.312,2
  09AR20141205,AU1402,    71,  1,      0,     17,2,20150105,1815,-66.4975, 120.9492,  292,     40.6,  -0.7500,  34.2041,2,  34.2033,2,    351.8,2,    351.8,2,  -999.00,9,  -999.00,9,  -999.00,9,   2195.0,6,   2310.6,6,    1.050,2,    0.549,2,   94.305,2
  09AR20141205,AU1402,    71,  1,      0,     16,2,20150105,1815,-66.4975, 120.9492,  292,     40.5,  -0.7523,  34.2040,2,-999.0000,9,    351.8,2,   -999.0,9,  -999.00,9,  -999.00,9,  -999.00,9,   -999.0,9,   -999.0,9,    1.136,2,    0.530,2,   94.292,2
  09AR20141205,AU1402,    71,  1,      0,     15,2,20150105,1815,-66.4975, 120.9492,  292,     75.8,  -1.5267,  34.2190,2,-999.0000,9,    344.6,2,   -999.0,9,  -999.00,9,  -999.00,9,  -999.00,9,   -999.0,9,   -999.0,9,    0.764,2,    0.001,2,   97.031,2
  09AR20141205,AU1402,    71,  1,      0,     14,2,20150105,1815,-66.4975, 120.9492,  292,     75.8,  -1.5451,  34.2193,2,-999.0000,9,    344.6,2,   -999.0,9,  -999.00,9,  -999.00,9,  -999.00,9,   -999.0,9,   -999.0,9,    0.734,2,    0.001,2,   96.976,2
  09AR20141205,AU1402,    71,  1,      0,     13,2,20150105,1815,-66.4975, 120.9492,  292,    100.2,  -1.6692,  34.2263,2,  34.2272,2,    332.3,2,    332.3,2,  -999.00,9,  -999.00,9,  -999.00,9,   2207.6,2,   2312.2,2,    0.596,2,    0.000,2,   97.721,2
  09AR20141205,AU1402,    71,  1,      0,     12,2,20150105,1815,-66.4975, 120.9492,  292,    100.2,  -1.6690,  34.2262,2,-999.0000,9,    332.3,2,   -999.0,9,  -999.00,9,  -999.00,9,  -999.00,9,   -999.0,9,   -999.0,9,    0.575,2,    0.000,2,   97.722,2
  09AR20141205,AU1402,    71,  1,      0,     11,2,20150105,1815,-66.4975, 120.9492,  292,    100.2,  -1.6693,  34.2263,2,-999.0000,9,    332.3,2,   -999.0,9,  -999.00,9,  -999.00,9,  -999.00,9,   -999.0,9,   -999.0,9,    0.574,2,    0.000,2,   97.715,2
  09AR20141205,AU1402,    71,  1,      0,     10,2,20150105,1815,-66.4975, 120.9492,  292,    100.2,  -1.6697,  34.2265,2,-999.0000,9,    332.3,2,   -999.0,9,  -999.00,9,  -999.00,9,  -999.00,9,   -999.0,9,   -999.0,9,    0.575,2,    0.000,2,   97.718,2
  09AR20141205,AU1402,    71,  1,      0,      9,2,20150105,1815,-66.4975, 120.9492,  292,    150.6,  -1.8123,  34.2465,2,  34.2451,2,    326.2,2,    325.7,2,  -999.00,9,  -999.00,9,  -999.00,9,   2212.3,2,   2312.4,6,    0.090,2,    0.000,2,   98.379,2
  09AR20141205,AU1402,    71,  1,      0,      8,2,20150105,1815,-66.4975, 120.9492,  292,    150.6,  -1.8123,  34.2466,2,-999.0000,9,    326.2,2,   -999.0,9,  -999.00,9,  -999.00,9,  -999.00,9,   -999.0,9,   -999.0,9,    0.070,2,    0.000,2,   98.362,2
  09AR20141205,AU1402,    71,  1,      0,      7,2,20150105,1815,-66.4975, 120.9492,  292,    150.9,  -1.8124,  34.2467,2,-999.0000,9,    326.2,2,   -999.0,9,  -999.00,9,  -999.00,9,  -999.00,9,   -999.0,9,   -999.0,9,    0.086,2,    0.000,2,   98.364,2
  09AR20141205,AU1402,    71,  1,      0,      6,2,20150105,1815,-66.4975, 120.9492,  292,    150.8,  -1.8125,  34.2466,2,-999.0000,9,    326.2,2,   -999.0,9,  -999.00,9,  -999.00,9,  -999.00,9,   -999.0,9,   -999.0,9,    0.086,2,    0.000,2,   98.372,2
  09AR20141205,AU1402,    71,  1,      0,      5,2,20150105,1815,-66.4975, 120.9492,  292,    240.4,  -1.8107,  34.2775,2,  34.2757,2,    318.4,2,    318.9,2,  -999.00,9,  -999.00,9,  -999.00,9,   2212.8,2,   2314.1,2,   -0.041,2,    0.000,2,   98.364,2
  09AR20141205,AU1402,    71,  1,      0,      4,2,20150105,1815,-66.4975, 120.9492,  292,    240.4,  -1.8107,  34.2774,2,-999.0000,9,    318.4,2,   -999.0,9,  -999.00,9,  -999.00,9,  -999.00,9,   -999.0,9,   -999.0,9,   -0.050,2,    0.000,2,   98.345,2
  09AR20141205,AU1402,    71,  1,      0,      3,2,20150105,1815,-66.4975, 120.9492,  292,    240.4,  -1.8106,  34.2773,2,-999.0000,9,    318.4,2,   -999.0,9,  -999.00,9,  -999.00,9,  -999.00,9,   -999.0,9,   -999.0,9,   -0.044,2,    0.000,2,   98.350,2
  09AR20141205,AU1402,    71,  1,      0,      2,2,20150105,1815,-66.4975, 120.9492,  292,    240.4,  -1.8107,  34.2774,2,-999.0000,9,    318.4,2,   -999.0,9,  -999.00,9,  -999.00,9,  -999.00,9,   -999.0,9,   -999.0,9,   -0.041,2,    0.000,2,   98.354,2
  09AR20141205,AU1402,    71,  1,      0,      1,2,20150105,1815,-66.4975, 120.9492,  292,    289.3,  -1.7712,  34.2996,2,  34.2988,2,    315.7,2,    315.6,2,  -999.00,9,  -999.00,9,  -999.00,9,   2217.3,2,   2316.8,2,   -0.071,2,    0.000,2,   97.564,2
  09AR20141205,AU1402,    72,  1,      0,     24,2,20150107,0743,-66.3495, 120.3175,  446,      7.7,  -0.3132,  34.2039,2,  34.2052,2,    354.0,2,    352.9,2,  -999.00,9,  -999.00,9,  -999.00,9,   2196.2,2,   2312.6,2,    0.078,2,   36.330,2,   94.946,2
  09AR20141205,AU1402,    72,  1,      0,     23,2,20150107,0743,-66.3495, 120.3175,  446,      7.7,  -0.3018,  34.2047,2,-999.0000,9,    354.0,2,   -999.0,9,  -999.00,9,  -999.00,9,  -999.00,9,   -999.0,9,   -999.0,9,    0.086,2,   36.390,2,   94.953,2
  09AR20141205,AU1402,    72,  1,      0,     22,2,20150107,0743,-66.3495, 120.3175,  446,      7.6,  -0.3006,  34.2046,2,-999.0000,9,    354.0,2,   -999.0,9,  -999.00,9,  -999.00,9,  -999.00,9,   -999.0,9,   -999.0,9,    0.083,2,   36.520,2,   94.958,2
  09AR20141205,AU1402,    72,  1,      0,     21,2,20150107,0743,-66.3495, 120.3175,  446,      7.6,  -0.2882,  34.2040,2,-999.0000,9,    354.0,2,   -999.0,9,  -999.00,9,  -999.00,9,  -999.00,9,   -999.0,9,   -999.0,9,    0.070,2,   36.980,2,   94.964,2
  09AR20141205,AU1402,    72,  1,      0,     20,2,20150107,0743,-66.3495, 120.3175,  446,     21.2,  -0.7126,  34.2046,2,  34.2046,2,    354.6,2,    354.0,2,  -999.00,9,  -999.00,9,  -999.00,9,   2195.3,2,   2311.4,2,    0.443,2,   15.970,2,   94.009,2
  09AR20141205,AU1402,    72,  1,      0,     19,2,20150107,0743,-66.3495, 120.3175,  446,     21.1,  -0.7115,  34.2046,2,-999.0000,9,    354.6,2,   -999.0,9,  -999.00,9,  -999.00,9,  -999.00,9,   -999.0,9,   -999.0,9,    0.453,2,   16.000,2,   94.006,2
  09AR20141205,AU1402,    72,  1,      0,     18,2,20150107,0743,-66.3495, 120.3175,  446,     49.7,  -0.7647,  34.2045,2,  34.2058,2,    353.7,2,    353.6,2,  -999.00,9,  -999.00,9,  -999.00,9,   2195.4,6,   2312.0,6,    0.942,2,    7.332,2,   94.016,2
  09AR20141205,AU1402,    72,  1,      0,     17,2,20150107,0743,-66.3495, 120.3175,  446,     49.7,  -0.7652,  34.2044,2,-999.0000,9,    353.7,2,   -999.0,9,  -999.00,9,  -999.00,9,  -999.00,9,   -999.0,9,   -999.0,9,    0.922,2,    7.333,2,   94.030,2
  09AR20141205,AU1402,    72,  1,      0,     16,2,20150107,0743,-66.3495, 120.3175,  446,     70.1,  -1.1408,  34.2174,2,-999.0000,9,    350.7,2,   -999.0,9,  -999.00,9,  -999.00,9,  -999.00,9,   -999.0,9,   -999.0,9,    0.935,2,    2.764,2,   96.167,2
  09AR20141205,AU1402,    72,  1,      0,     15,2,20150107,0743,-66.3495, 120.3175,  446,     70.1,  -1.1534,  34.2176,2,  34.2219,2,    350.7,2,    344.0,2,  -999.00,9,  -999.00,9,  -999.00,9,   2203.4,2,   2313.2,2,    0.855,2,    2.786,2,   96.250,2
  09AR20141205,AU1402,    72,  1,      0,     14,2,20150107,0743,-66.3495, 120.3175,  446,    101.0,  -1.6191,  34.2335,2,-999.0000,9,    332.6,2,   -999.0,9,  -999.00,9,  -999.00,9,  -999.00,9,   -999.0,9,   -999.0,9,    0.563,2,    0.586,2,   97.699,2
  09AR20141205,AU1402,    72,  1,      0,     13,2,20150107,0743,-66.3495, 120.3175,  446,    101.0,  -1.6203,  34.2336,2,  34.2344,2,    333.2,2,    331.7,2,  -999.00,9,  -999.00,9,  -999.00,9,   2210.0,2,   2311.9,6,    0.553,2,    0.592,2,   97.697,2
  09AR20141205,AU1402,    72,  1,      0,     12,2,20150107,0743,-66.3495, 120.3175,  446,    225.3,  -1.8548,  34.2482,2,-999.0000,9,    315.3,2,   -999.0,9,  -999.00,9,  -999.00,9,  -999.00,9,   -999.0,9,   -999.0,9,   -0.034,2,    0.000,2,   98.535,2
  09AR20141205,AU1402,    72,  1,      0,     11,2,20150107,0743,-66.3495, 120.3175,  446,    225.2,  -1.8547,  34.2482,2,  34.2483,2,    315.3,2,    317.7,2,  -999.00,9,  -999.00,9,  -999.00,9,   -999.0,9,   -999.0,9,   -0.041,2,    0.000,2,   98.493,2
  09AR20141205,AU1402,    72,  1,      0,     10,2,20150107,0743,-66.3495, 120.3175,  446,    225.1,  -1.8546,  34.2483,2,-999.0000,9,    315.3,2,   -999.0,9,  -999.00,9,  -999.00,9,  -999.00,9,   -999.0,9,   -999.0,9,   -0.033,2,    0.000,2,   98.533,2
  09AR20141205,AU1402,    72,  1,      0,      9,2,20150107,0743,-66.3495, 120.3175,  446,    225.1,  -1.8547,  34.2483,2,-999.0000,9,    315.3,2,   -999.0,9,  -999.00,9,  -999.00,9,  -999.00,9,   -999.0,9,   -999.0,9,   -0.031,2,    0.000,2,   98.542,2
  09AR20141205,AU1402,    72,  1,      0,      8,2,20150107,0743,-66.3495, 120.3175,  446,    350.6,  -1.5696,  34.3362,2,-999.0000,9,    304.8,2,   -999.0,9,  -999.00,9,  -999.00,9,  -999.00,9,   -999.0,9,   -999.0,9,   -0.060,2,    0.000,2,   98.605,2
  09AR20141205,AU1402,    72,  1,      0,      7,2,20150107,0743,-66.3495, 120.3175,  446,    350.6,  -1.5615,  34.3372,2,  34.3437,2,    304.8,2,    303.9,2,  -999.00,9,  -999.00,9,  -999.00,9,   2222.9,2,   2319.0,2,   -0.066,2,    0.000,2,   98.588,2
  09AR20141205,AU1402,    72,  1,      0,      6,2,20150107,0743,-66.3495, 120.3175,  446,    391.2,  -1.4732,  34.3740,2,-999.0000,9,    300.7,2,   -999.0,9,  -999.00,9,  -999.00,9,  -999.00,9,   -999.0,9,   -999.0,9,   -0.079,2,    0.000,2,   98.741,2
  09AR20141205,AU1402,    72,  1,      0,      5,2,20150107,0743,-66.3495, 120.3175,  446,    391.2,  -1.4642,  34.3728,2,  34.3833,2,    300.7,2,    299.2,2,  -999.00,9,  -999.00,9,  -999.00,9,   2224.4,2,   2322.3,2,   -0.076,2,    0.000,2,   98.729,2
  09AR20141205,AU1402,    72,  1,      0,      4,2,20150107,0743,-66.3495, 120.3175,  446,    420.8,  -0.9935,  34.4397,2,-999.0000,9,    281.6,2,   -999.0,9,  -999.00,9,  -999.00,9,  -999.00,9,   -999.0,9,   -999.0,9,   -0.074,2,    0.000,2,   98.730,2
  09AR20141205,AU1402,    72,  1,      0,      3,2,20150107,0743,-66.3495, 120.3175,  446,    420.7,  -0.9880,  34.4402,2,  34.4666,2,    281.6,2,    269.2,2,  -999.00,9,  -999.00,9,  -999.00,9,   2234.8,2,   2328.8,2,   -0.074,2,    0.000,2,   98.732,2
  09AR20141205,AU1402,    72,  1,      0,      2,2,20150107,0743,-66.3495, 120.3175,  446,    445.6,  -0.5725,  34.4956,2,-999.0000,9,    261.7,2,   -999.0,9,  -999.00,9,  -999.00,9,  -999.00,9,   -999.0,9,   -999.0,9,   -0.085,2,    0.000,2,   98.264,2
  09AR20141205,AU1402,    72,  1,      0,      1,2,20150107,0743,-66.3495, 120.3175,  446,    445.5,  -0.5725,  34.4957,2,  34.4946,2,    261.7,2,    262.0,2,  -999.00,9,  -999.00,9,  -999.00,9,   2239.0,2,   2330.5,2,   -0.085,2,    0.000,2,   98.272,2