BOTTLE,20210329PRINUNIVRMK
EXPOCODE,SECT_ID,STNNBR,CASTNO,SAMPNO,BTLNBR,BTLNBR_FLAG_W,DATE,TIME,LATITUDE,LONGITUDE,DEPTH,CTDPRS,CTDTMP,CTDSAL,CTDSAL_FLAG_W,SALNTY,SALNTY_FLAG_W,CTDOXY,CTDOXY_FLAG_W,OXYGEN,OXYGEN_FLAG_W,SILCAT,SILCAT_FLAG_W,NITRAT,NITRAT_FLAG_W,PHSPHT,PHSPHT_FLAG_W,TCARBN,TCARBN_FLAG_W,ALKALI,ALKALI_FLAG_W,CTDFLUOR,CTDFLUOR_FLAG_W,CTDPAR,CTDPAR_FLAG_W,CTDXMISS,CTDXMISS_FLAG_W
,,,,,,,,,,,METERS,DBAR,ITS-90,PSS-78,,PSS-78,,UMOL/KG,,UMOL/KG,,UMOL/KG,,UMOL/KG,,UMOL/KG,,UMOL/KG,,UMOL/KG,,MG/M^3,,UEINSTEIN/M^2*SEC,,%TRANS,
  09AR20141205,AU1402,    10,  1,      0,     24,2,20141227,0156,-66.5507, 119.8083,  715,      5.8,  -1.0145,  34.1854,2,-999.0000,9,    346.8,2,   -999.0,9,  -999.00,9,  -999.00,9,  -999.00,9,   -999.0,9,   -999.0,9,   -0.022,2,  719.700,2,   96.373,2
  09AR20141205,AU1402,    10,  1,      0,     23,2,20141227,0156,-66.5507, 119.8083,  715,      5.7,  -1.0194,  34.1857,2,-999.0000,9,    346.8,2,   -999.0,9,  -999.00,9,  -999.00,9,  -999.00,9,   -999.0,9,   -999.0,9,   -0.026,2,  711.300,2,   96.366,2
  09AR20141205,AU1402,    10,  1,      0,     22,2,20141227,0156,-66.5507, 119.8083,  715,      5.6,  -1.0179,  34.1855,2,-999.0000,9,    346.8,2,   -999.0,9,  -999.00,9,  -999.00,9,  -999.00,9,   -999.0,9,   -999.0,9,   -0.021,2,  689.300,2,   96.375,2
  09AR20141205,AU1402,    10,  1,      0,     21,2,20141227,0156,-66.5507, 119.8083,  715,      5.6,  -1.0231,  34.1860,2,  34.1867,2,    346.8,2,    347.8,2,    57.40,2,    28.68,2,     1.99,3,   2200.9,6,   2310.6,6,   -0.020,2,  666.900,2,   96.370,2
  09AR20141205,AU1402,    10,  1,      0,     20,2,20141227,0156,-66.5507, 119.8083,  715,     34.7,  -1.4207,  34.2120,2,  34.2132,2,    348.1,2,    348.1,2,  -999.00,9,  -999.00,9,  -999.00,9,   2201.0,2,   2313.2,2,    0.146,2,  100.100,2,   96.961,2
  09AR20141205,AU1402,    10,  1,      0,     19,2,20141227,0156,-66.5507, 119.8083,  715,     51.0,  -1.4835,  34.2212,2,  34.2218,2,    346.4,2,    347.0,2,    59.20,2,    29.63,2,     2.07,3,   2203.1,2,   2315.0,6,    0.229,2,   38.320,2,   97.566,2
  09AR20141205,AU1402,    10,  1,      0,     18,2,20141227,0156,-66.5507, 119.8083,  715,     50.8,  -1.5039,  34.2222,2,-999.0000,9,    346.1,2,   -999.0,9,  -999.00,9,  -999.00,9,  -999.00,9,   -999.0,9,   -999.0,9,    0.254,2,   35.110,2,   97.718,2
  09AR20141205,AU1402,    10,  1,      0,     17,2,20141227,0156,-66.5507, 119.8083,  715,     75.1,  -1.6619,  34.2273,2,  34.2261,2,    344.1,2,    337.3,2,    60.40,2,    30.69,2,     2.14,3,   -999.0,9,   -999.0,9,    0.203,2,   10.890,2,   98.384,2
  09AR20141205,AU1402,    10,  1,      0,     16,2,20141227,0156,-66.5507, 119.8083,  715,     75.1,  -1.6659,  34.2277,2,-999.0000,9,    344.1,2,   -999.0,9,  -999.00,9,  -999.00,9,  -999.00,9,   -999.0,9,   -999.0,9,    0.195,2,   10.290,2,   98.389,2
  09AR20141205,AU1402,    10,  1,      0,     15,2,20141227,0156,-66.5507, 119.8083,  715,     75.0,  -1.6693,  34.2279,2,-999.0000,9,    344.1,2,   -999.0,9,  -999.00,9,  -999.00,9,  -999.00,9,   -999.0,9,   -999.0,9,    0.194,2,   10.180,2,   98.364,2
  09AR20141205,AU1402,    10,  1,      0,     14,2,20141227,0156,-66.5507, 119.8083,  715,     75.0,  -1.6731,  34.2279,2,-999.0000,9,    344.1,2,   -999.0,9,  -999.00,9,  -999.00,9,  -999.00,9,   -999.0,9,   -999.0,9,    0.194,2,   10.030,2,   98.363,2
  09AR20141205,AU1402,    10,  1,      0,     13,2,20141227,0156,-66.5507, 119.8083,  715,    100.5,  -1.7673,  34.2326,2,  34.2348,2,    333.4,2,    331.9,2,  -999.00,9,  -999.00,9,  -999.00,9,   2208.4,2,   2313.6,2,    0.095,2,    3.021,2,   98.598,2
  09AR20141205,AU1402,    10,  1,      0,     12,2,20141227,0156,-66.5507, 119.8083,  715,    100.5,  -1.7694,  34.2326,2,-999.0000,9,    333.4,2,   -999.0,9,  -999.00,9,  -999.00,9,  -999.00,9,   -999.0,9,   -999.0,9,    0.100,2,    3.445,2,   98.597,2
  09AR20141205,AU1402,    10,  1,      0,     11,2,20141227,0156,-66.5507, 119.8083,  715,    150.9,  -1.8165,  34.2442,2,  34.2460,2,    329.6,2,    330.5,2,    59.70,2,    22.99,4,     1.68,3,   2211.3,2,   2315.2,2,    0.071,2,    0.563,2,   98.893,2
  09AR20141205,AU1402,    10,  1,      0,     10,2,20141227,0156,-66.5507, 119.8083,  715,    150.7,  -1.8180,  34.2436,2,-999.0000,9,    329.6,2,   -999.0,9,  -999.00,9,  -999.00,9,  -999.00,9,   -999.0,9,   -999.0,9,    0.079,2,    0.746,2,   98.877,2
  09AR20141205,AU1402,    10,  1,      0,      9,2,20141227,0156,-66.5507, 119.8083,  715,    201.6,  -1.8387,  34.2606,2,  34.2626,2,    321.0,2,    321.6,2,  -999.00,9,  -999.00,9,  -999.00,9,   2210.6,2,   2315.7,2,   -0.037,2,    0.123,2,   99.044,2
  09AR20141205,AU1402,    10,  1,      0,      8,2,20141227,0156,-66.5507, 119.8083,  715,    201.4,  -1.8388,  34.2609,2,-999.0000,9,    321.0,2,   -999.0,9,  -999.00,9,  -999.00,9,  -999.00,9,   -999.0,9,   -999.0,9,   -0.033,2,    0.126,2,   99.046,2
  09AR20141205,AU1402,    10,  1,      0,      7,2,20141227,0156,-66.5507, 119.8083,  715,    350.7,  -1.8470,  34.2911,2,  34.2909,2,    318.2,2,    320.8,2,  -999.00,9,  -999.00,9,  -999.00,9,   2214.1,2,   2317.6,2,   -0.071,2,    0.000,2,   99.233,2
  09AR20141205,AU1402,    10,  1,      0,      6,2,20141227,0156,-66.5507, 119.8083,  715,    350.5,  -1.8468,  34.2912,2,-999.0000,9,    318.2,2,   -999.0,9,  -999.00,9,  -999.00,9,  -999.00,9,   -999.0,9,   -999.0,9,   -0.074,2,    0.000,2,   99.228,2
  09AR20141205,AU1402,    10,  1,      0,      5,2,20141227,0156,-66.5507, 119.8083,  715,    500.9,  -1.2773,  34.3951,2,  34.3963,2,    298.7,2,    292.1,2,    68.20,2,    28.80,3,     2.04,3,   2225.7,2,   2324.9,6,   -0.084,2,    0.000,2,   99.035,2
  09AR20141205,AU1402,    10,  1,      0,      4,2,20141227,0156,-66.5507, 119.8083,  715,    500.8,  -1.2833,  34.3942,2,-999.0000,9,    298.7,2,   -999.0,9,  -999.00,9,  -999.00,9,  -999.00,9,   -999.0,9,   -999.0,9,   -0.093,2,    0.000,2,   99.026,2
  09AR20141205,AU1402,    10,  1,      0,      3,2,20141227,0156,-66.5507, 119.8083,  715,    602.4,  -0.4931,  34.5082,2,  34.5094,2,    258.6,2,    258.0,2,  -999.00,9,  -999.00,9,  -999.00,9,   2238.6,2,   2333.5,2,   -0.084,2,    0.000,2,   98.881,2
  09AR20141205,AU1402,    10,  1,      0,      2,2,20141227,0156,-66.5507, 119.8083,  715,    601.5,  -0.5107,  34.5059,2,-999.0000,9,    258.6,2,   -999.0,9,  -999.00,9,  -999.00,9,  -999.00,9,   -999.0,9,   -999.0,9,   -0.088,2,    0.000,2,   98.899,2
  09AR20141205,AU1402,    10,  1,      0,      1,2,20141227,0156,-66.5507, 119.8083,  715,    754.0,  -0.2238,  34.5458,2,  34.5475,2,    247.7,2,    247.2,2,    83.70,2,    31.25,2,     2.20,3,   2242.4,2,   2335.8,2,   -0.084,2,    0.000,2,   98.663,2
  09AR20141205,AU1402,    11,  1,      0,     24,2,20141227,0401,-66.6493, 119.9017,  442,     10.4,  -1.1327,  34.1418,2,  34.1437,2,    348.4,2,    347.8,2,  -999.00,9,    28.71,2,     1.98,3,   2197.2,2,   2308.6,2,   -0.076,2,  488.100,2,   97.553,2
  09AR20141205,AU1402,    11,  1,      0,     23,2,20141227,0401,-66.6493, 119.9017,  442,     10.4,  -1.1384,  34.1417,2,-999.0000,9,    348.4,2,   -999.0,9,  -999.00,9,  -999.00,9,  -999.00,9,   -999.0,9,   -999.0,9,   -0.065,2,  502.900,2,   97.546,2
  09AR20141205,AU1402,    11,  1,      0,     22,2,20141227,0401,-66.6493, 119.9017,  442,     10.4,  -1.1435,  34.1418,2,-999.0000,9,    348.4,2,   -999.0,9,  -999.00,9,  -999.00,9,  -999.00,9,   -999.0,9,   -999.0,9,   -0.060,2,  490.900,2,   97.548,2
  09AR20141205,AU1402,    11,  1,      0,     21,2,20141227,0401,-66.6493, 119.9017,  442,     10.4,  -1.1366,  34.1412,2,-999.0000,9,    348.4,2,   -999.0,9,  -999.00,9,  -999.00,9,  -999.00,9,   -999.0,9,   -999.0,9,   -0.064,2,  501.300,2,   97.552,2
  09AR20141205,AU1402,    11,  1,      0,     20,2,20141227,0401,-66.6493, 119.9017,  442,     21.8,  -1.1739,  34.1427,2,-999.0000,9,    347.7,2,   -999.0,9,  -999.00,9,  -999.00,9,  -999.00,9,   -999.0,9,   -999.0,9,   -0.054,2,  262.000,2,   97.562,2
  09AR20141205,AU1402,    11,  1,      0,     19,2,20141227,0401,-66.6493, 119.9017,  442,     21.8,  -1.1682,  34.1426,2,  34.1437,2,    347.7,2,    347.7,2,  -999.00,9,  -999.00,9,  -999.00,9,   2196.8,2,   2311.1,2,   -0.054,2,  273.800,2,   97.567,2
  09AR20141205,AU1402,    11,  1,      0,     18,2,20141227,0401,-66.6493, 119.9017,  442,     39.8,  -1.4732,  34.1788,2,-999.0000,9,    344.7,2,   -999.0,9,  -999.00,9,  -999.00,9,  -999.00,9,   -999.0,9,   -999.0,9,   -0.022,2,  118.100,2,   97.676,2
  09AR20141205,AU1402,    11,  1,      0,     17,2,20141227,0401,-66.6493, 119.9017,  442,     39.8,  -1.4863,  34.1818,2,  34.1801,2,    344.7,2,    345.4,2,  -999.00,9,    28.90,2,     1.99,3,   2199.6,6,   2311.6,6,   -0.027,2,  121.300,2,   97.687,2
  09AR20141205,AU1402,    11,  1,      0,     16,2,20141227,0401,-66.6493, 119.9017,  442,     90.9,  -1.7523,  34.2248,2,-999.0000,9,    336.6,2,   -999.0,9,  -999.00,9,  -999.00,9,  -999.00,9,   -999.0,9,   -999.0,9,    0.194,2,   14.370,2,   98.323,2
  09AR20141205,AU1402,    11,  1,      0,     15,2,20141227,0401,-66.6493, 119.9017,  442,     90.9,  -1.7355,  34.2221,2,-999.0000,9,    336.6,2,   -999.0,9,  -999.00,9,  -999.00,9,  -999.00,9,   -999.0,9,   -999.0,9,    0.228,2,   14.650,2,   98.251,2
  09AR20141205,AU1402,    11,  1,      0,     14,2,20141227,0401,-66.6493, 119.9017,  442,     90.9,  -1.7337,  34.2219,2,-999.0000,9,    336.6,2,   -999.0,9,  -999.00,9,  -999.00,9,  -999.00,9,   -999.0,9,   -999.0,9,    0.242,2,   12.940,2,   98.256,2
  09AR20141205,AU1402,    11,  1,      0,     13,2,20141227,0401,-66.6493, 119.9017,  442,     90.8,  -1.7304,  34.2213,2,  34.2217,2,    336.6,2,    337.1,2,  -999.00,9,    29.29,2,     2.02,3,   2207.2,2,   2313.2,2,    0.229,2,   14.050,2,   98.246,2
  09AR20141205,AU1402,    11,  1,      0,     12,2,20141227,0401,-66.6493, 119.9017,  442,    142.7,  -1.8086,  34.2412,2,-999.0000,9,    334.6,2,   -999.0,9,  -999.00,9,  -999.00,9,  -999.00,9,   -999.0,9,   -999.0,9,    0.080,2,    1.983,2,   98.770,2
  09AR20141205,AU1402,    11,  1,      0,     11,2,20141227,0401,-66.6493, 119.9017,  442,    142.7,  -1.8086,  34.2412,2,  34.2399,2,    334.6,2,    334.5,2,  -999.00,9,    29.59,2,     2.03,3,   2209.0,2,   2313.8,6,    0.081,2,    2.078,2,   98.771,2
  09AR20141205,AU1402,    11,  1,      0,     10,2,20141227,0401,-66.6493, 119.9017,  442,    142.7,  -1.8086,  34.2412,2,-999.0000,9,    334.6,2,   -999.0,9,  -999.00,9,  -999.00,9,  -999.00,9,   -999.0,9,   -999.0,9,    0.083,2,    2.164,2,   98.783,2
  09AR20141205,AU1402,    11,  1,      0,      9,2,20141227,0401,-66.6493, 119.9017,  442,    142.6,  -1.8083,  34.2411,2,-999.0000,9,    334.6,2,   -999.0,9,  -999.00,9,  -999.00,9,  -999.00,9,   -999.0,9,   -999.0,9,    0.093,2,    1.280,2,   98.768,2
  09AR20141205,AU1402,    11,  1,      0,      8,2,20141227,0401,-66.6493, 119.9017,  442,    302.0,  -1.8346,  34.2904,2,-999.0000,9,    316.9,2,   -999.0,9,  -999.00,9,  -999.00,9,  -999.00,9,   -999.0,9,   -999.0,9,   -0.061,2,    0.000,2,   98.982,2
  09AR20141205,AU1402,    11,  1,      0,      7,2,20141227,0401,-66.6493, 119.9017,  442,    301.9,  -1.8331,  34.2904,2,  34.2902,2,    316.9,2,    318.1,2,  -999.00,9,    30.19,2,     2.06,3,   2214.5,2,   2318.1,2,   -0.068,2,    0.000,2,   98.964,2
  09AR20141205,AU1402,    11,  1,      0,      6,2,20141227,0401,-66.6493, 119.9017,  442,    422.6,  -1.6792,  34.3364,2,-999.0000,9,    309.7,2,   -999.0,9,  -999.00,9,  -999.00,9,  -999.00,9,   -999.0,9,   -999.0,9,   -0.085,2,    0.000,2,   98.966,2
  09AR20141205,AU1402,    11,  1,      0,      5,2,20141227,0401,-66.6493, 119.9017,  442,    422.6,  -1.6934,  34.3345,2,-999.0000,9,    309.7,2,   -999.0,9,  -999.00,9,  -999.00,9,  -999.00,9,   -999.0,9,   -999.0,9,   -0.076,2,    0.000,2,   98.962,2
  09AR20141205,AU1402,    11,  1,      0,      4,2,20141227,0401,-66.6493, 119.9017,  442,    422.5,  -1.6973,  34.3338,2,-999.0000,9,    309.7,2,   -999.0,9,  -999.00,9,  -999.00,9,  -999.00,9,   -999.0,9,   -999.0,9,   -0.080,2,    0.000,2,   98.965,2
  09AR20141205,AU1402,    11,  1,      0,      3,2,20141227,0401,-66.6493, 119.9017,  442,    422.4,  -1.6916,  34.3346,2,-999.0000,9,    309.7,2,    311.2,2,  -999.00,9,  -999.00,9,  -999.00,9,   2217.0,2,   2319.9,2,   -0.080,2,    0.000,2,   98.881,2
  09AR20141205,AU1402,    11,  1,      0,      2,2,20141227,0401,-66.6493, 119.9017,  442,    450.6,  -1.4127,  34.3763,2,-999.0000,9,    296.1,2,   -999.0,9,  -999.00,9,  -999.00,9,  -999.00,9,   -999.0,9,   -999.0,9,   -0.087,2,    0.000,2,   98.933,2
  09AR20141205,AU1402,    11,  1,      0,      1,2,20141227,0401,-66.6493, 119.9017,  442,    450.2,  -1.3755,  34.3817,2,  34.3785,2,    296.1,2,    296.5,2,  -999.00,9,    30.81,2,     2.10,3,   2223.2,2,   2323.9,2,   -0.081,2,    0.000,2,   98.916,2
  09AR20141205,AU1402,    12,  1,      0,     24,2,20141227,1322,-66.8980, 119.3837,  985,     10.4,  -1.7437,  34.2171,2,  34.2180,2,    337.4,2,    337.7,2,  -999.00,9,    29.37,2,     2.02,3,   2205.7,6,   2313.2,6,    0.156,2,    7.081,2,   98.266,2
  09AR20141205,AU1402,    12,  1,      0,     23,2,20141227,1322,-66.8980, 119.3837,  985,     10.4,  -1.7435,  34.2172,2,-999.0000,9,    337.4,2,   -999.0,9,  -999.00,9,  -999.00,9,  -999.00,9,   -999.0,9,   -999.0,9,    0.173,2,    7.105,2,   98.271,2
  09AR20141205,AU1402,    12,  1,      0,     22,2,20141227,1322,-66.8980, 119.3837,  985,     10.4,  -1.7436,  34.2173,2,-999.0000,9,    337.4,2,   -999.0,9,  -999.00,9,  -999.00,9,  -999.00,9,   -999.0,9,   -999.0,9,    0.168,2,    7.102,2,   98.257,2
  09AR20141205,AU1402,    12,  1,      0,     21,2,20141227,1322,-66.8980, 119.3837,  985,     10.3,  -1.7435,  34.2169,2,-999.0000,9,    337.4,2,   -999.0,9,  -999.00,9,  -999.00,9,  -999.00,9,   -999.0,9,   -999.0,9,    0.173,2,    7.111,2,   98.280,2
  09AR20141205,AU1402,    12,  1,      0,     20,2,20141227,1322,-66.8980, 119.3837,  985,     25.6,  -1.7717,  34.2284,2,-999.0000,9,    333.8,2,   -999.0,9,  -999.00,9,  -999.00,9,  -999.00,9,   -999.0,9,   -999.0,9,    0.125,2,    3.496,2,   98.477,2
  09AR20141205,AU1402,    12,  1,      0,     19,2,20141227,1322,-66.8980, 119.3837,  985,     26.0,  -1.7723,  34.2285,2,  34.2309,2,    333.8,2,    328.4,2,  -999.00,9,  -999.00,9,  -999.00,9,   2208.0,2,   2312.1,2,    0.124,2,    3.476,2,   98.477,2
  09AR20141205,AU1402,    12,  1,      0,     18,2,20141227,1322,-66.8980, 119.3837,  985,     75.4,  -1.9410,  34.2374,2,  34.2362,2,    314.0,2,    313.3,2,  -999.00,9,    30.39,2,     2.08,3,   2211.4,6,   2311.5,6,   -0.071,2,    0.624,2,   98.603,2
  09AR20141205,AU1402,    12,  1,      0,     17,2,20141227,1322,-66.8980, 119.3837,  985,    175.3,  -1.9102,  34.2407,2,  34.2427,2,    314.8,2,    314.5,2,  -999.00,9,    30.35,2,     2.07,3,   2212.8,2,   2313.6,2,   -0.062,2,    0.000,2,   98.532,2
  09AR20141205,AU1402,    12,  1,      0,     16,2,20141227,1322,-66.8980, 119.3837,  985,    300.3,  -1.8399,  34.2627,2,-999.0000,9,    318.7,2,   -999.0,9,  -999.00,9,  -999.00,9,  -999.00,9,   -999.0,9,   -999.0,9,   -0.033,2,    0.000,2,   98.729,2
  09AR20141205,AU1402,    12,  1,      0,     15,2,20141227,1322,-66.8980, 119.3837,  985,    300.3,  -1.8393,  34.2643,2,  34.2611,2,    318.7,2,    319.6,2,  -999.00,9,  -999.00,9,  -999.00,9,   2214.1,2,   2315.8,2,   -0.023,2,    0.000,2,   98.652,2
  09AR20141205,AU1402,    12,  1,      0,     14,2,20141227,1322,-66.8980, 119.3837,  985,    440.9,  -1.8467,  34.2957,2,-999.0000,9,    318.0,2,   -999.0,9,  -999.00,9,  -999.00,9,  -999.00,9,   -999.0,9,   -999.0,9,   -0.079,2,    0.000,2,   98.965,2
  09AR20141205,AU1402,    12,  1,      0,     13,2,20141227,1322,-66.8980, 119.3837,  985,    440.7,  -1.8457,  34.2960,2,  34.2950,2,    318.0,2,    317.9,2,  -999.00,9,    30.08,2,     2.04,3,   2215.0,2,   2316.4,2,   -0.079,2,    0.000,2,   98.955,2
  09AR20141205,AU1402,    12,  1,      0,     12,2,20141227,1322,-66.8980, 119.3837,  985,    525.7,  -1.7362,  34.3255,2,-999.0000,9,    312.2,2,   -999.0,9,  -999.00,9,  -999.00,9,  -999.00,9,   -999.0,9,   -999.0,9,   -0.092,2,    0.000,2,   98.845,2
  09AR20141205,AU1402,    12,  1,      0,     11,2,20141227,1322,-66.8980, 119.3837,  985,    525.6,  -1.7361,  34.3255,2,  34.3252,2,    312.2,2,    311.9,2,  -999.00,9,  -999.00,9,  -999.00,9,   2216.7,2,   2318.0,2,   -0.082,2,    0.000,2,   98.822,2
  09AR20141205,AU1402,    12,  1,      0,     10,2,20141227,1322,-66.8980, 119.3837,  985,    660.8,  -1.6289,  34.3465,2,-999.0000,9,    308.1,2,   -999.0,9,  -999.00,9,  -999.00,9,  -999.00,9,   -999.0,9,   -999.0,9,   -0.084,2,    0.000,2,   98.901,2
  09AR20141205,AU1402,    12,  1,      0,      9,2,20141227,1322,-66.8980, 119.3837,  985,    660.8,  -1.6295,  34.3463,2,  34.3452,2,    308.1,2,    308.0,2,  -999.00,9,  -999.00,9,  -999.00,9,   2220.0,2,   2321.5,2,   -0.086,2,    0.000,2,   98.903,2
  09AR20141205,AU1402,    12,  1,      0,      8,2,20141227,1322,-66.8980, 119.3837,  985,    802.8,  -1.5625,  34.3574,2,-999.0000,9,    306.2,2,   -999.0,9,  -999.00,9,  -999.00,9,  -999.00,9,   -999.0,9,   -999.0,9,   -0.087,2,    0.000,2,   98.888,2
  09AR20141205,AU1402,    12,  1,      0,      7,2,20141227,1322,-66.8980, 119.3837,  985,    801.6,  -1.5629,  34.3574,2,  34.3564,2,    306.2,2,    305.2,2,  -999.00,9,    30.58,2,     2.08,3,   2221.5,2,   2323.7,2,   -0.086,2,    0.000,2,   98.896,2
  09AR20141205,AU1402,    12,  1,      0,      6,2,20141227,1322,-66.8980, 119.3837,  985,    920.7,  -1.5034,  34.3712,2,-999.0000,9,    303.3,2,   -999.0,9,  -999.00,9,  -999.00,9,  -999.00,9,   -999.0,9,   -999.0,9,   -0.090,2,    0.000,2,   98.882,2
  09AR20141205,AU1402,    12,  1,      0,      5,2,20141227,1322,-66.8980, 119.3837,  985,    920.6,  -1.5039,  34.3710,2,  34.3742,2,    303.3,2,    302.6,2,  -999.00,9,  -999.00,9,  -999.00,9,   2223.9,2,   2323.4,2,   -0.087,2,    0.000,2,   98.881,2
  09AR20141205,AU1402,    12,  1,      0,      4,2,20141227,1322,-66.8980, 119.3837,  985,    950.7,  -1.4736,  34.3786,2,-999.0000,9,    302.1,2,   -999.0,9,  -999.00,9,  -999.00,9,  -999.00,9,   -999.0,9,   -999.0,9,   -0.086,2,    0.000,2,   98.896,2
  09AR20141205,AU1402,    12,  1,      0,      3,2,20141227,1322,-66.8980, 119.3837,  985,    950.6,  -1.4743,  34.3785,2,  34.3781,2,    302.1,2,    301.3,2,  -999.00,9,  -999.00,9,  -999.00,9,   2223.9,2,   2323.4,6,   -0.091,2,    0.000,2,   98.900,2
  09AR20141205,AU1402,    12,  1,      0,      2,2,20141227,1322,-66.8980, 119.3837,  985,   1005.6,  -1.2739,  34.4112,2,-999.0000,9,    292.6,2,   -999.0,9,  -999.00,9,  -999.00,9,  -999.00,9,   -999.0,9,   -999.0,9,   -0.087,2,    0.000,2,   98.697,2
  09AR20141205,AU1402,    12,  1,      0,      1,2,20141227,1322,-66.8980, 119.3837,  985,   1005.4,  -1.2728,  34.4112,2,  34.4066,2,    292.6,2,    293.3,2,  -999.00,9,    30.92,2,     2.11,3,   2228.4,2,   2325.4,2,   -0.086,2,    0.000,2,   98.725,2