BOTTLE,20210329PRINUNIVRMK
EXPOCODE,SECT_ID,STNNBR,CASTNO,SAMPNO,BTLNBR,BTLNBR_FLAG_W,DATE,TIME,LATITUDE,LONGITUDE,DEPTH,CTDPRS,CTDTMP,CTDSAL,CTDSAL_FLAG_W,SALNTY,SALNTY_FLAG_W,CTDOXY,CTDOXY_FLAG_W,OXYGEN,OXYGEN_FLAG_W,SILCAT,SILCAT_FLAG_W,NITRAT,NITRAT_FLAG_W,PHSPHT,PHSPHT_FLAG_W,TCARBN,TCARBN_FLAG_W,ALKALI,ALKALI_FLAG_W,CTDFLUOR,CTDFLUOR_FLAG_W,CTDPAR,CTDPAR_FLAG_W,CTDXMISS,CTDXMISS_FLAG_W
,,,,,,,,,,,METERS,DBAR,ITS-90,PSS-78,,PSS-78,,UMOL/KG,,UMOL/KG,,UMOL/KG,,UMOL/KG,,UMOL/KG,,UMOL/KG,,UMOL/KG,,MG/M^3,,UEINSTEIN/M^2*SEC,,%TRANS,
  09AR20141205,AU1402,    25,  1,      0,     24,2,20141228,2350,-66.6483, 120.2073,  372,      5.9,  -0.8896,  34.1986,2,-999.0000,9,    350.6,2,   -999.0,9,  -999.00,9,  -999.00,9,  -999.00,9,   -999.0,9,   -999.0,9,    0.188,2,   43.100,2,   96.590,2
  09AR20141205,AU1402,    25,  1,      0,     23,2,20141228,2350,-66.6483, 120.2073,  372,      5.9,  -0.8896,  34.1987,2,-999.0000,9,    350.6,2,   -999.0,9,  -999.00,9,  -999.00,9,  -999.00,9,   -999.0,9,   -999.0,9,    0.185,2,   43.270,2,   96.608,2
  09AR20141205,AU1402,    25,  1,      0,     22,2,20141228,2350,-66.6483, 120.2073,  372,      5.9,  -0.8905,  34.1988,2,-999.0000,9,    350.6,2,   -999.0,9,  -999.00,9,  -999.00,9,  -999.00,9,   -999.0,9,   -999.0,9,    0.192,2,   43.290,2,   96.602,2
  09AR20141205,AU1402,    25,  1,      0,     21,2,20141228,2350,-66.6483, 120.2073,  372,      5.8,  -0.8911,  34.1988,2,  34.1984,2,    350.6,2,    351.0,2,  -999.00,9,  -999.00,9,  -999.00,9,   2196.2,6,   2313.4,6,    0.198,2,   43.440,2,   96.612,2
  09AR20141205,AU1402,    25,  1,      0,     20,2,20141228,2350,-66.6483, 120.2073,  372,      5.8,  -0.8905,  34.1987,2,-999.0000,9,    350.6,2,   -999.0,9,  -999.00,9,  -999.00,9,  -999.00,9,   -999.0,9,   -999.0,9,    0.199,2,   43.460,2,   96.584,2
  09AR20141205,AU1402,    25,  1,      0,     19,2,20141228,2350,-66.6483, 120.2073,  372,     50.6,  -1.4098,  34.2156,2,  34.2146,2,    346.1,2,    346.1,2,  -999.00,9,  -999.00,9,  -999.00,9,   2200.7,2,   2312.6,2,    0.301,2,    4.338,2,   96.540,2
  09AR20141205,AU1402,    25,  1,      0,     18,2,20141228,2350,-66.6483, 120.2073,  372,     50.6,  -1.4206,  34.2157,2,-999.0000,9,    346.1,2,   -999.0,9,  -999.00,9,  -999.00,9,  -999.00,9,   -999.0,9,   -999.0,9,    0.304,2,    4.349,2,   96.577,2
  09AR20141205,AU1402,    25,  1,      0,     17,2,20141228,2350,-66.6483, 120.2073,  372,     75.6,  -1.7065,  34.2228,2,-999.0000,9,    336.5,2,   -999.0,9,  -999.00,9,  -999.00,9,  -999.00,9,   -999.0,9,   -999.0,9,    0.300,2,    1.522,2,   97.517,2
  09AR20141205,AU1402,    25,  1,      0,     16,2,20141228,2350,-66.6483, 120.2073,  372,     75.6,  -1.7007,  34.2227,2,-999.0000,9,    336.5,2,   -999.0,9,  -999.00,9,  -999.00,9,  -999.00,9,   -999.0,9,   -999.0,9,    0.295,2,    1.525,2,   97.510,2
  09AR20141205,AU1402,    25,  1,      0,     15,2,20141228,2350,-66.6483, 120.2073,  372,    100.5,  -1.7979,  34.2348,2,  34.2328,2,    327.8,2,    328.0,2,  -999.00,9,  -999.00,9,  -999.00,9,   2210.0,2,   2314.5,2,    0.090,2,    0.525,2,   98.025,2
  09AR20141205,AU1402,    25,  1,      0,     14,2,20141228,2350,-66.6483, 120.2073,  372,    100.3,  -1.7983,  34.2346,2,-999.0000,9,    327.8,2,   -999.0,9,  -999.00,9,  -999.00,9,  -999.00,9,   -999.0,9,   -999.0,9,    0.090,2,    0.528,2,   98.018,2
  09AR20141205,AU1402,    25,  1,      0,     13,2,20141228,2350,-66.6483, 120.2073,  372,    100.3,  -1.7993,  34.2347,2,-999.0000,9,    327.8,2,   -999.0,9,  -999.00,9,  -999.00,9,  -999.00,9,   -999.0,9,   -999.0,9,    0.082,2,    0.525,2,   98.021,2
  09AR20141205,AU1402,    25,  1,      0,     12,2,20141228,2350,-66.6483, 120.2073,  372,    100.7,  -1.8001,  34.2350,2,-999.0000,9,    327.8,2,   -999.0,9,  -999.00,9,  -999.00,9,  -999.00,9,   -999.0,9,   -999.0,9,    0.075,2,    0.514,2,   98.024,2
  09AR20141205,AU1402,    25,  1,      0,     11,2,20141228,2350,-66.6483, 120.2073,  372,    175.5,  -1.8783,  34.2453,2,  34.2493,2,    317.3,2,    316.0,2,  -999.00,9,  -999.00,9,  -999.00,9,   2211.7,2,   2313.7,2,   -0.029,2,    0.001,2,   98.119,2
  09AR20141205,AU1402,    25,  1,      0,     10,2,20141228,2350,-66.6483, 120.2073,  372,    175.4,  -1.8792,  34.2455,2,-999.0000,9,    317.3,2,   -999.0,9,  -999.00,9,  -999.00,9,  -999.00,9,   -999.0,9,   -999.0,9,   -0.037,2,    0.001,2,   98.116,2
  09AR20141205,AU1402,    25,  1,      0,      9,2,20141228,2350,-66.6483, 120.2073,  372,    175.4,  -1.8793,  34.2455,2,-999.0000,9,    317.3,2,   -999.0,9,  -999.00,9,  -999.00,9,  -999.00,9,   -999.0,9,   -999.0,9,   -0.038,2,    0.001,2,   98.113,2
  09AR20141205,AU1402,    25,  1,      0,      8,2,20141228,2350,-66.6483, 120.2073,  372,    175.4,  -1.8794,  34.2455,2,-999.0000,9,    317.3,2,   -999.0,9,  -999.00,9,  -999.00,9,  -999.00,9,   -999.0,9,   -999.0,9,   -0.034,2,    0.001,2,   98.116,2
  09AR20141205,AU1402,    25,  1,      0,      7,2,20141228,2350,-66.6483, 120.2073,  372,    225.6,  -1.8603,  34.2515,2,-999.0000,9,    316.2,2,    317.7,2,  -999.00,9,  -999.00,9,  -999.00,9,   2213.2,2,   2313.4,2,   -0.036,2,    0.001,2,   98.222,2
  09AR20141205,AU1402,    25,  1,      0,      6,2,20141228,2350,-66.6483, 120.2073,  372,    226.0,  -1.8597,  34.2515,2,-999.0000,9,    316.2,2,   -999.0,9,  -999.00,9,  -999.00,9,  -999.00,9,   -999.0,9,   -999.0,9,   -0.037,2,    0.001,2,   98.234,2
  09AR20141205,AU1402,    25,  1,      0,      5,2,20141228,2350,-66.6483, 120.2073,  372,    226.0,  -1.8600,  34.2515,2,-999.0000,9,    316.2,2,   -999.0,9,  -999.00,9,  -999.00,9,  -999.00,9,   -999.0,9,   -999.0,9,   -0.032,2,    0.001,2,   98.229,2
  09AR20141205,AU1402,    25,  1,      0,      4,2,20141228,2350,-66.6483, 120.2073,  372,    225.9,  -1.8607,  34.2515,2,-999.0000,9,    316.2,2,   -999.0,9,  -999.00,9,  -999.00,9,  -999.00,9,   -999.0,9,   -999.0,9,   -0.031,2,    0.001,2,   98.219,2
  09AR20141205,AU1402,    25,  1,      0,      3,2,20141228,2350,-66.6483, 120.2073,  372,    325.8,  -1.8113,  34.2730,2,  34.2732,2,    314.6,2,    314.4,2,  -999.00,9,  -999.00,9,  -999.00,9,   2215.1,2,   2316.2,2,   -0.042,2,    0.001,2,   98.303,2
  09AR20141205,AU1402,    25,  1,      0,      2,2,20141228,2350,-66.6483, 120.2073,  372,    325.6,  -1.7973,  34.2767,2,-999.0000,9,    314.6,2,   -999.0,9,  -999.00,9,  -999.00,9,  -999.00,9,   -999.0,9,   -999.0,9,   -0.046,2,    0.001,2,   98.313,2
  09AR20141205,AU1402,    25,  1,      0,      1,2,20141228,2350,-66.6483, 120.2073,  372,    377.7,  -1.4098,  34.3560,2,  34.3525,2,    296.9,2,    296.5,2,  -999.00,9,  -999.00,9,  -999.00,9,   2222.5,2,   2320.2,6,   -0.056,2,    0.001,2,   98.343,2
  09AR20141205,AU1402,    26,  1,      0,     24,2,20141229,0148,-66.7242, 120.3035,  310,      5.8,  -0.9033,  34.2160,2,-999.0000,9,    350.3,2,   -999.0,9,  -999.00,9,  -999.00,9,  -999.00,9,   -999.0,9,   -999.0,9,    0.406,2,   83.770,2,   94.904,2
  09AR20141205,AU1402,    26,  1,      0,     23,2,20141229,0148,-66.7242, 120.3035,  310,      5.8,  -0.9037,  34.2161,2,-999.0000,9,    350.3,2,   -999.0,9,  -999.00,9,  -999.00,9,  -999.00,9,   -999.0,9,   -999.0,9,    0.420,2,   83.910,2,   94.897,2
  09AR20141205,AU1402,    26,  1,      0,     22,2,20141229,0148,-66.7242, 120.3035,  310,      5.7,  -0.9049,  34.2160,2,-999.0000,9,    350.3,2,   -999.0,9,  -999.00,9,  -999.00,9,  -999.00,9,   -999.0,9,   -999.0,9,    0.427,2,   84.490,2,   94.903,2
  09AR20141205,AU1402,    26,  1,      0,     21,2,20141229,0148,-66.7242, 120.3035,  310,      5.7,  -0.9048,  34.2160,2,  34.2152,2,    350.3,2,    350.4,2,  -999.00,9,  -999.00,9,  -999.00,9,   2199.4,6,   2314.4,6,    0.370,2,   84.260,2,   94.893,2
  09AR20141205,AU1402,    26,  1,      0,     20,2,20141229,0148,-66.7242, 120.3035,  310,      5.5,  -0.9059,  34.2160,2,-999.0000,9,    350.3,2,   -999.0,9,  -999.00,9,  -999.00,9,  -999.00,9,   -999.0,9,   -999.0,9,    0.437,2,   85.170,2,   94.883,2
  09AR20141205,AU1402,    26,  1,      0,     19,2,20141229,0148,-66.7242, 120.3035,  310,     21.2,  -0.9741,  34.2204,2,-999.0000,9,    350.3,2,   -999.0,9,  -999.00,9,  -999.00,9,  -999.00,9,   -999.0,9,   -999.0,9,    0.647,2,   25.150,2,   95.127,2
  09AR20141205,AU1402,    26,  1,      0,     18,2,20141229,0148,-66.7242, 120.3035,  310,     50.6,  -1.3038,  34.2234,2,-999.0000,9,    343.4,2,   -999.0,9,  -999.00,9,  -999.00,9,  -999.00,9,   -999.0,9,   -999.0,9,    0.629,2,    5.381,2,   95.836,2
  09AR20141205,AU1402,    26,  1,      0,     17,2,20141229,0148,-66.7242, 120.3035,  310,     50.6,  -1.3154,  34.2235,2,  34.2242,2,    343.4,2,    343.1,2,  -999.00,9,  -999.00,9,  -999.00,9,   2205.4,2,   2313.3,2,    0.613,2,    5.354,2,   95.907,2
  09AR20141205,AU1402,    26,  1,      0,     16,2,20141229,0148,-66.7242, 120.3035,  310,     50.5,  -1.3217,  34.2237,2,-999.0000,9,    343.4,2,   -999.0,9,  -999.00,9,  -999.00,9,  -999.00,9,   -999.0,9,   -999.0,9,    0.610,2,    5.345,2,   95.927,2
  09AR20141205,AU1402,    26,  1,      0,     15,2,20141229,0148,-66.7242, 120.3035,  310,     75.1,  -1.5320,  34.2287,2,-999.0000,9,    337.0,2,   -999.0,9,  -999.00,9,  -999.00,9,  -999.00,9,   -999.0,9,   -999.0,9,    0.550,2,    1.517,2,   97.092,2
  09AR20141205,AU1402,    26,  1,      0,     14,2,20141229,0148,-66.7242, 120.3035,  310,     75.1,  -1.5341,  34.2288,2,-999.0000,9,    337.0,2,   -999.0,9,  -999.00,9,  -999.00,9,  -999.00,9,   -999.0,9,   -999.0,9,    0.537,2,    1.516,2,   97.104,2
  09AR20141205,AU1402,    26,  1,      0,     13,2,20141229,0148,-66.7242, 120.3035,  310,    101.3,  -1.6812,  34.2291,2,  34.2289,2,    329.4,2,    329.8,2,  -999.00,9,  -999.00,9,  -999.00,9,   2210.8,2,   2312.9,2,    0.302,2,    0.445,2,   97.760,2
  09AR20141205,AU1402,    26,  1,      0,     12,2,20141229,0148,-66.7242, 120.3035,  310,    101.3,  -1.6812,  34.2288,2,-999.0000,9,    329.4,2,   -999.0,9,  -999.00,9,  -999.00,9,  -999.00,9,   -999.0,9,   -999.0,9,    0.300,2,    0.447,2,   97.771,2
  09AR20141205,AU1402,    26,  1,      0,     11,2,20141229,0148,-66.7242, 120.3035,  310,    101.2,  -1.6780,  34.2288,2,-999.0000,9,    329.4,2,   -999.0,9,  -999.00,9,  -999.00,9,  -999.00,9,   -999.0,9,   -999.0,9,    0.304,2,    0.446,2,   97.781,2
  09AR20141205,AU1402,    26,  1,      0,     10,2,20141229,0148,-66.7242, 120.3035,  310,    101.2,  -1.6715,  34.2288,2,-999.0000,9,    329.4,2,   -999.0,9,  -999.00,9,  -999.00,9,  -999.00,9,   -999.0,9,   -999.0,9,    0.296,2,    0.446,2,   97.771,2
  09AR20141205,AU1402,    26,  1,      0,      9,2,20141229,0148,-66.7242, 120.3035,  310,    150.5,  -1.7539,  34.2390,2,  34.2409,2,    323.3,2,    325.5,2,  -999.00,9,  -999.00,9,  -999.00,9,   2211.9,2,   2314.0,2,    0.143,2,    0.004,2,   98.100,2
  09AR20141205,AU1402,    26,  1,      0,      8,2,20141229,0148,-66.7242, 120.3035,  310,    150.4,  -1.7558,  34.2389,2,-999.0000,9,    323.3,2,   -999.0,9,  -999.00,9,  -999.00,9,  -999.00,9,   -999.0,9,   -999.0,9,    0.114,2,    0.003,2,   98.113,2
  09AR20141205,AU1402,    26,  1,      0,      7,2,20141229,0148,-66.7242, 120.3035,  310,    150.3,  -1.7608,  34.2394,2,-999.0000,9,    323.3,2,   -999.0,9,  -999.00,9,  -999.00,9,  -999.00,9,   -999.0,9,   -999.0,9,    0.089,2,    0.001,2,   98.128,2
  09AR20141205,AU1402,    26,  1,      0,      6,2,20141229,0148,-66.7242, 120.3035,  310,    150.3,  -1.7658,  34.2400,2,-999.0000,9,    323.3,2,   -999.0,9,  -999.00,9,  -999.00,9,  -999.00,9,   -999.0,9,   -999.0,9,    0.077,2,    0.002,2,   98.141,2
  09AR20141205,AU1402,    26,  1,      0,      5,2,20141229,0148,-66.7242, 120.3035,  310,    226.2,  -1.8711,  34.2482,2,  34.2467,2,    316.9,2,    316.2,2,  -999.00,9,  -999.00,9,  -999.00,9,   2214.7,2,   2315.2,2,   -0.035,2,    0.001,2,   98.170,2
  09AR20141205,AU1402,    26,  1,      0,      4,2,20141229,0148,-66.7242, 120.3035,  310,    226.2,  -1.8707,  34.2483,2,-999.0000,9,    316.9,2,   -999.0,9,  -999.00,9,  -999.00,9,  -999.00,9,   -999.0,9,   -999.0,9,   -0.035,2,    0.001,2,   98.174,2
  09AR20141205,AU1402,    26,  1,      0,      3,2,20141229,0148,-66.7242, 120.3035,  310,    226.1,  -1.8707,  34.2482,2,-999.0000,9,    316.9,2,   -999.0,9,  -999.00,9,  -999.00,9,  -999.00,9,   -999.0,9,   -999.0,9,   -0.035,2,    0.001,2,   98.155,2
  09AR20141205,AU1402,    26,  1,      0,      2,2,20141229,0148,-66.7242, 120.3035,  310,    226.1,  -1.8710,  34.2483,2,-999.0000,9,    316.9,2,   -999.0,9,  -999.00,9,  -999.00,9,  -999.00,9,   -999.0,9,   -999.0,9,   -0.032,2,    0.001,2,   98.165,2
  09AR20141205,AU1402,    26,  1,      0,      1,2,20141229,0148,-66.7242, 120.3035,  310,    314.5,  -1.8512,  34.2629,2,  34.2608,2,    314.1,2,    314.3,2,  -999.00,9,  -999.00,9,  -999.00,9,   2215.4,2,   2315.4,6,   -0.060,2,    0.001,2,   98.199,2
  09AR20141205,AU1402,    27,  1,      0,     24,2,20141229,0325,-66.6012, 120.3178,  316,     11.6,  -1.0134,  34.2105,2,-999.0000,9,    349.0,2,   -999.0,9,  -999.00,9,  -999.00,9,  -999.00,9,   -999.0,9,   -999.0,9,    0.528,2,   71.330,2,   95.120,2
  09AR20141205,AU1402,    27,  1,      0,     23,2,20141229,0325,-66.6012, 120.3178,  316,     11.6,  -1.0155,  34.2107,2,-999.0000,9,    349.0,2,   -999.0,9,  -999.00,9,  -999.00,9,  -999.00,9,   -999.0,9,   -999.0,9,    0.537,2,   70.700,2,   95.121,2
  09AR20141205,AU1402,    27,  1,      0,     22,2,20141229,0325,-66.6012, 120.3178,  316,     11.5,  -1.0173,  34.2109,2,-999.0000,9,    349.0,2,   -999.0,9,  -999.00,9,  -999.00,9,  -999.00,9,   -999.0,9,   -999.0,9,    0.502,2,   70.640,2,   95.116,2
  09AR20141205,AU1402,    27,  1,      0,     21,2,20141229,0325,-66.6012, 120.3178,  316,     11.5,  -1.0130,  34.2101,2,  34.2099,2,    349.0,2,    349.3,2,  -999.00,9,  -999.00,9,  -999.00,9,   2200.2,2,   2314.8,2,    0.470,2,   71.450,2,   95.114,2
  09AR20141205,AU1402,    27,  1,      0,     20,2,20141229,0325,-66.6012, 120.3178,  316,     11.5,  -1.0132,  34.2102,2,-999.0000,9,    349.0,2,   -999.0,9,  -999.00,9,  -999.00,9,  -999.00,9,   -999.0,9,   -999.0,9,    0.478,2,   71.070,2,   95.127,2
  09AR20141205,AU1402,    27,  1,      0,     19,2,20141229,0325,-66.6012, 120.3178,  316,     11.5,  -1.0134,  34.2102,2,-999.0000,9,    349.0,2,   -999.0,9,  -999.00,9,  -999.00,9,  -999.00,9,   -999.0,9,   -999.0,9,    0.479,2,   70.760,2,   95.115,2
  09AR20141205,AU1402,    27,  1,      0,     18,2,20141229,0325,-66.6012, 120.3178,  316,     30.9,  -1.0165,  34.2109,2,-999.0000,9,    349.2,2,   -999.0,9,  -999.00,9,  -999.00,9,  -999.00,9,   -999.0,9,   -999.0,9,    0.673,2,   19.390,2,   95.103,2
  09AR20141205,AU1402,    27,  1,      0,     17,2,20141229,0325,-66.6012, 120.3178,  316,     30.8,  -1.0171,  34.2112,2,  34.2119,2,    349.2,2,    349.0,2,  -999.00,9,  -999.00,9,  -999.00,9,   2201.3,2,   2314.6,2,    0.709,2,   19.230,2,   95.089,2
  09AR20141205,AU1402,    27,  1,      0,     16,2,20141229,0325,-66.6012, 120.3178,  316,     61.1,  -1.2947,  34.2282,2,-999.0000,9,    343.7,2,   -999.0,9,  -999.00,9,  -999.00,9,  -999.00,9,   -999.0,9,   -999.0,9,    1.571,2,    3.410,2,   94.568,2
  09AR20141205,AU1402,    27,  1,      0,     15,2,20141229,0325,-66.6012, 120.3178,  316,     61.1,  -1.3207,  34.2290,2,-999.0000,9,    343.7,2,   -999.0,9,  -999.00,9,  -999.00,9,  -999.00,9,   -999.0,9,   -999.0,9,    1.569,2,    3.387,2,   94.611,2
  09AR20141205,AU1402,    27,  1,      0,     14,2,20141229,0325,-66.6012, 120.3178,  316,     75.4,  -1.5389,  34.2352,2,-999.0000,9,    337.3,2,   -999.0,9,  -999.00,9,  -999.00,9,  -999.00,9,   -999.0,9,   -999.0,9,    1.286,2,    1.267,2,   96.309,2
  09AR20141205,AU1402,    27,  1,      0,     13,2,20141229,0325,-66.6012, 120.3178,  316,     75.4,  -1.5449,  34.2352,2,  34.2368,2,    337.3,2,    336.6,2,  -999.00,9,  -999.00,9,  -999.00,9,   2206.8,2,   2313.2,2,    1.309,2,    1.251,2,   96.273,2
  09AR20141205,AU1402,    27,  1,      0,     12,2,20141229,0325,-66.6012, 120.3178,  316,     75.4,  -1.5455,  34.2353,2,-999.0000,9,    337.3,2,   -999.0,9,  -999.00,9,  -999.00,9,  -999.00,9,   -999.0,9,   -999.0,9,    1.241,2,    1.244,2,   96.302,2
  09AR20141205,AU1402,    27,  1,      0,     11,2,20141229,0325,-66.6012, 120.3178,  316,     75.3,  -1.5476,  34.2354,2,-999.0000,9,    337.3,2,   -999.0,9,  -999.00,9,  -999.00,9,  -999.00,9,   -999.0,9,   -999.0,9,    1.171,2,    1.240,2,   96.305,2
  09AR20141205,AU1402,    27,  1,      0,     10,2,20141229,0325,-66.6012, 120.3178,  316,    171.1,  -1.8629,  34.2432,2,-999.0000,9,    315.6,2,   -999.0,9,  -999.00,9,  -999.00,9,  -999.00,9,   -999.0,9,   -999.0,9,   -0.035,2,    0.001,2,   98.337,2
  09AR20141205,AU1402,    27,  1,      0,      9,2,20141229,0325,-66.6012, 120.3178,  316,    171.1,  -1.8630,  34.2433,2,  34.2426,2,    315.6,2,    315.4,2,  -999.00,9,  -999.00,9,  -999.00,9,   2216.4,2,   2313.5,2,   -0.038,2,    0.001,2,   98.342,2
  09AR20141205,AU1402,    27,  1,      0,      8,2,20141229,0325,-66.6012, 120.3178,  316,    171.0,  -1.8630,  34.2433,2,-999.0000,9,    315.6,2,   -999.0,9,  -999.00,9,  -999.00,9,  -999.00,9,   -999.0,9,   -999.0,9,   -0.038,2,    0.001,2,   98.349,2
  09AR20141205,AU1402,    27,  1,      0,      7,2,20141229,0325,-66.6012, 120.3178,  316,    171.0,  -1.8630,  34.2432,2,-999.0000,9,    315.6,2,   -999.0,9,  -999.00,9,  -999.00,9,  -999.00,9,   -999.0,9,   -999.0,9,   -0.030,2,    0.001,2,   98.349,2
  09AR20141205,AU1402,    27,  1,      0,      6,2,20141229,0325,-66.6012, 120.3178,  316,    262.2,  -1.8766,  34.2513,2,-999.0000,9,    313.0,2,   -999.0,9,  -999.00,9,  -999.00,9,  -999.00,9,   -999.0,9,   -999.0,9,   -0.076,2,    0.001,2,   98.367,2
  09AR20141205,AU1402,    27,  1,      0,      5,2,20141229,0325,-66.6012, 120.3178,  316,    262.2,  -1.8783,  34.2510,2,  34.2497,2,    313.0,2,    312.5,2,  -999.00,9,  -999.00,9,  -999.00,9,   2215.3,6,   2316.0,6,   -0.084,2,    0.001,2,   98.380,2
  09AR20141205,AU1402,    27,  1,      0,      4,2,20141229,0325,-66.6012, 120.3178,  316,    262.2,  -1.8786,  34.2510,2,-999.0000,9,    313.0,2,   -999.0,9,  -999.00,9,  -999.00,9,  -999.00,9,   -999.0,9,   -999.0,9,   -0.074,2,    0.001,2,   98.366,2
  09AR20141205,AU1402,    27,  1,      0,      3,2,20141229,0325,-66.6012, 120.3178,  316,    262.1,  -1.8765,  34.2514,2,-999.0000,9,    313.0,2,   -999.0,9,  -999.00,9,  -999.00,9,  -999.00,9,   -999.0,9,   -999.0,9,   -0.081,2,    0.001,2,   98.367,2
  09AR20141205,AU1402,    27,  1,      0,      2,2,20141229,0325,-66.6012, 120.3178,  316,    313.3,  -1.7671,  34.2770,2,-999.0000,9,    311.9,2,   -999.0,9,  -999.00,9,  -999.00,9,  -999.00,9,   -999.0,9,   -999.0,9,   -0.076,2,    0.001,2,   98.418,2
  09AR20141205,AU1402,    27,  1,      0,      1,2,20141229,0325,-66.6012, 120.3178,  316,    313.2,  -1.7711,  34.2762,2,  34.2800,2,    311.9,2,    311.5,2,  -999.00,9,  -999.00,9,  -999.00,9,   2216.3,2,   2315.3,6,   -0.076,2,    0.001,2,   98.431,2