BOTTLE,20210329PRINUNIVRMK
EXPOCODE,SECT_ID,STNNBR,CASTNO,SAMPNO,BTLNBR,BTLNBR_FLAG_W,DATE,TIME,LATITUDE,LONGITUDE,DEPTH,CTDPRS,CTDTMP,CTDSAL,CTDSAL_FLAG_W,SALNTY,SALNTY_FLAG_W,CTDOXY,CTDOXY_FLAG_W,OXYGEN,OXYGEN_FLAG_W,SILCAT,SILCAT_FLAG_W,NITRAT,NITRAT_FLAG_W,PHSPHT,PHSPHT_FLAG_W,TCARBN,TCARBN_FLAG_W,ALKALI,ALKALI_FLAG_W,CTDFLUOR,CTDFLUOR_FLAG_W,CTDPAR,CTDPAR_FLAG_W,CTDXMISS,CTDXMISS_FLAG_W
,,,,,,,,,,,METERS,DBAR,ITS-90,PSS-78,,PSS-78,,UMOL/KG,,UMOL/KG,,UMOL/KG,,UMOL/KG,,UMOL/KG,,UMOL/KG,,UMOL/KG,,MG/M^3,,UEINSTEIN/M^2*SEC,,%TRANS,
  09AR20141205,AU1402,    22,  1,      0,     24,2,20141228,1412,-66.4860, 119.9537,  718,     10.7,  -1.2398,  34.1607,2,  34.1602,2,    342.0,2,    342.2,2,  -999.00,9,  -999.00,9,  -999.00,9,   2201.9,2,   2309.8,2,    0.359,2,    1.372,2,   96.508,2
  09AR20141205,AU1402,    22,  1,      0,     23,2,20141228,1412,-66.4860, 119.9537,  718,     10.7,  -1.2403,  34.1606,2,-999.0000,9,    342.0,2,   -999.0,9,  -999.00,9,  -999.00,9,  -999.00,9,   -999.0,9,   -999.0,9,    0.360,2,    1.379,2,   96.516,2
  09AR20141205,AU1402,    22,  1,      0,     22,2,20141228,1412,-66.4860, 119.9537,  718,     10.7,  -1.2399,  34.1607,2,-999.0000,9,    342.0,2,   -999.0,9,  -999.00,9,  -999.00,9,  -999.00,9,   -999.0,9,   -999.0,9,    0.372,2,    1.383,2,   96.509,2
  09AR20141205,AU1402,    22,  1,      0,     21,2,20141228,1412,-66.4860, 119.9537,  718,     10.7,  -1.2397,  34.1610,2,-999.0000,9,    342.0,2,   -999.0,9,  -999.00,9,  -999.00,9,  -999.00,9,   -999.0,9,   -999.0,9,    0.401,2,    1.409,2,   96.510,2
  09AR20141205,AU1402,    22,  1,      0,     20,2,20141228,1412,-66.4860, 119.9537,  718,     26.1,  -1.2236,  34.1694,2,  34.1678,2,    342.1,2,    342.4,2,  -999.00,9,  -999.00,9,  -999.00,9,   2199.2,2,   2310.3,2,    0.400,2,    0.577,2,   96.449,2
  09AR20141205,AU1402,    22,  1,      0,     19,2,20141228,1412,-66.4860, 119.9537,  718,     26.1,  -1.2278,  34.1675,2,-999.0000,9,    342.1,2,   -999.0,9,  -999.00,9,  -999.00,9,  -999.00,9,   -999.0,9,   -999.0,9,    0.387,2,    0.570,2,   96.475,2
  09AR20141205,AU1402,    22,  1,      0,     18,2,20141228,1412,-66.4860, 119.9537,  718,     35.7,  -1.3780,  34.2073,2,-999.0000,9,    343.3,2,   -999.0,9,  -999.00,9,  -999.00,9,  -999.00,9,   -999.0,9,   -999.0,9,    0.661,2,    0.353,2,   95.913,2
  09AR20141205,AU1402,    22,  1,      0,     17,2,20141228,1412,-66.4860, 119.9537,  718,     50.5,  -1.6510,  34.2180,2,-999.0000,9,    341.6,2,   -999.0,9,  -999.00,9,  -999.00,9,  -999.00,9,   -999.0,9,   -999.0,9,    0.557,2,    0.166,2,   97.390,2
  09AR20141205,AU1402,    22,  1,      0,     16,2,20141228,1412,-66.4860, 119.9537,  718,     50.5,  -1.6526,  34.2181,2,-999.0000,9,    341.6,2,   -999.0,9,  -999.00,9,  -999.00,9,  -999.00,9,   -999.0,9,   -999.0,9,    0.571,2,    0.166,2,   97.401,2
  09AR20141205,AU1402,    22,  1,      0,     15,2,20141228,1412,-66.4860, 119.9537,  718,     50.5,  -1.6672,  34.2177,2,  34.2176,2,    341.6,2,    340.8,2,  -999.00,9,  -999.00,9,  -999.00,9,   2205.5,6,   2314.8,6,    0.599,2,    0.168,2,   97.448,2
  09AR20141205,AU1402,    22,  1,      0,     14,2,20141228,1412,-66.4860, 119.9537,  718,    160.4,  -1.8566,  34.2537,2,-999.0000,9,    319.6,2,   -999.0,9,  -999.00,9,  -999.00,9,  -999.00,9,   -999.0,9,   -999.0,9,   -0.053,2,    0.000,2,   98.404,2
  09AR20141205,AU1402,    22,  1,      0,     13,2,20141228,1412,-66.4860, 119.9537,  718,    161.9,  -1.8568,  34.2541,2,  34.2532,2,    319.4,2,    319.4,2,  -999.00,9,  -999.00,9,  -999.00,9,   2213.9,2,   -999.0,9,   -0.050,2,    0.000,2,   98.448,2
  09AR20141205,AU1402,    22,  1,      0,     12,2,20141228,1412,-66.4860, 119.9537,  718,    301.0,  -1.8442,  34.2902,2,-999.0000,9,    319.0,2,   -999.0,9,  -999.00,9,  -999.00,9,  -999.00,9,   -999.0,9,   -999.0,9,   -0.066,2,    0.000,2,   98.671,2
  09AR20141205,AU1402,    22,  1,      0,     11,2,20141228,1412,-66.4860, 119.9537,  718,    301.0,  -1.8442,  34.2898,2,  34.2888,2,    318.6,2,    319.3,2,  -999.00,9,  -999.00,9,  -999.00,9,   2212.5,2,   2315.9,2,   -0.067,2,    0.000,2,   98.676,2
  09AR20141205,AU1402,    22,  1,      0,     10,2,20141228,1412,-66.4860, 119.9537,  718,    426.3,  -1.8224,  34.3164,2,-999.0000,9,    318.7,2,   -999.0,9,  -999.00,9,  -999.00,9,  -999.00,9,   -999.0,9,   -999.0,9,   -0.086,2,    0.000,2,   98.720,2
  09AR20141205,AU1402,    22,  1,      0,      9,2,20141228,1412,-66.4860, 119.9537,  718,    426.7,  -1.8224,  34.3164,2,  34.3163,2,    318.7,2,    317.8,2,  -999.00,9,  -999.00,9,  -999.00,9,   2215.8,2,   2319.4,2,   -0.082,2,    0.000,2,   98.723,2
  09AR20141205,AU1402,    22,  1,      0,      8,2,20141228,1412,-66.4860, 119.9537,  718,    551.0,  -1.0256,  34.4388,2,-999.0000,9,    283.9,2,   -999.0,9,  -999.00,9,  -999.00,9,  -999.00,9,   -999.0,9,   -999.0,9,   -0.093,2,    0.000,2,   98.657,2
  09AR20141205,AU1402,    22,  1,      0,      7,2,20141228,1412,-66.4860, 119.9537,  718,    550.9,  -1.0223,  34.4395,2,  34.4427,2,    283.9,2,    279.1,2,  -999.00,9,  -999.00,9,  -999.00,9,   2231.3,2,   2330.3,2,   -0.089,2,    0.000,2,   98.661,2
  09AR20141205,AU1402,    22,  1,      0,      6,2,20141228,1412,-66.4860, 119.9537,  718,    627.0,  -0.1707,  34.5539,2,-999.0000,9,    246.3,2,   -999.0,9,  -999.00,9,  -999.00,9,  -999.00,9,   -999.0,9,   -999.0,9,   -0.086,2,    0.000,2,   98.192,2
  09AR20141205,AU1402,    22,  1,      0,      5,2,20141228,1412,-66.4860, 119.9537,  718,    627.7,  -0.1696,  34.5540,2,  34.5548,2,    246.3,2,    245.0,2,  -999.00,9,  -999.00,9,  -999.00,9,   2241.2,2,   2339.2,6,   -0.081,2,    0.000,2,   98.199,2
  09AR20141205,AU1402,    22,  1,      0,      4,2,20141228,1412,-66.4860, 119.9537,  718,    680.7,  -0.0181,  34.5792,2,-999.0000,9,    239.3,2,   -999.0,9,  -999.00,9,  -999.00,9,  -999.00,9,   -999.0,9,   -999.0,9,   -0.083,2,    0.000,2,   98.024,2
  09AR20141205,AU1402,    22,  1,      0,      3,2,20141228,1412,-66.4860, 119.9537,  718,    680.8,  -0.0194,  34.5790,2,  34.5807,2,    239.3,2,    238.8,2,  -999.00,9,  -999.00,9,  -999.00,9,   2245.4,2,   2341.4,2,   -0.084,2,    0.000,2,   98.022,2
  09AR20141205,AU1402,    22,  1,      0,      2,2,20141228,1412,-66.4860, 119.9537,  718,    721.0,   0.0171,  34.5848,2,-999.0000,9,    236.8,2,   -999.0,9,  -999.00,9,  -999.00,9,  -999.00,9,   -999.0,9,   -999.0,9,   -0.086,2,    0.000,2,   97.966,2
  09AR20141205,AU1402,    22,  1,      0,      1,2,20141228,1412,-66.4860, 119.9537,  718,    720.9,   0.0182,  34.5850,2,  34.5860,2,    236.7,2,    237.3,2,  -999.00,9,  -999.00,9,  -999.00,9,   2245.5,2,   2343.3,2,   -0.084,2,    0.000,2,   97.975,2
  09AR20141205,AU1402,    23,  1,      0,     24,2,20141228,1631,-66.5368, 120.0248,  580,      5.1,  -1.0379,  34.1916,2,-999.0000,9,    347.8,2,   -999.0,9,  -999.00,9,  -999.00,9,  -999.00,9,   -999.0,9,   -999.0,9,    0.545,2,    2.138,2,   95.790,2
  09AR20141205,AU1402,    23,  1,      0,     23,2,20141228,1631,-66.5368, 120.0248,  580,      5.1,  -1.0372,  34.1916,2,-999.0000,9,    347.8,2,   -999.0,9,  -999.00,9,  -999.00,9,  -999.00,9,   -999.0,9,   -999.0,9,    0.513,2,    2.153,2,   95.799,2
  09AR20141205,AU1402,    23,  1,      0,     22,2,20141228,1631,-66.5368, 120.0248,  580,      5.1,  -1.0371,  34.1916,2,-999.0000,9,    347.8,2,   -999.0,9,  -999.00,9,  -999.00,9,  -999.00,9,   -999.0,9,   -999.0,9,    0.502,2,    2.167,2,   95.801,2
  09AR20141205,AU1402,    23,  1,      0,     21,2,20141228,1631,-66.5368, 120.0248,  580,      5.1,  -1.0380,  34.1917,2,-999.0000,9,    347.8,2,   -999.0,9,  -999.00,9,  -999.00,9,  -999.00,9,   -999.0,9,   -999.0,9,    0.529,2,    2.162,2,   95.803,2
  09AR20141205,AU1402,    23,  1,      0,     20,2,20141228,1631,-66.5368, 120.0248,  580,      5.1,  -1.0390,  34.1916,2,-999.0000,9,    347.8,2,   -999.0,9,  -999.00,9,  -999.00,9,  -999.00,9,   -999.0,9,   -999.0,9,    0.532,2,    2.167,2,   95.800,2
  09AR20141205,AU1402,    23,  1,      0,     19,2,20141228,1631,-66.5368, 120.0248,  580,      5.0,  -1.0393,  34.1916,2,  34.1968,2,    347.8,2,    348.7,2,  -999.00,9,  -999.00,9,  -999.00,9,   2196.7,6,   2310.6,6,    0.530,2,    2.179,2,   95.779,2
  09AR20141205,AU1402,    23,  1,      0,     18,2,20141228,1631,-66.5368, 120.0248,  580,     34.6,  -1.0358,  34.1923,2,-999.0000,9,    349.6,2,   -999.0,9,  -999.00,9,  -999.00,9,  -999.00,9,   -999.0,9,   -999.0,9,    0.516,2,    0.324,2,   95.811,2
  09AR20141205,AU1402,    23,  1,      0,     17,2,20141228,1631,-66.5368, 120.0248,  580,     50.7,  -0.9944,  34.2030,2,-999.0000,9,    350.4,2,   -999.0,9,  -999.00,9,  -999.00,9,  -999.00,9,   -999.0,9,   -999.0,9,    0.565,2,    0.112,2,   95.832,2
  09AR20141205,AU1402,    23,  1,      0,     16,2,20141228,1631,-66.5368, 120.0248,  580,     50.7,  -0.9943,  34.2030,2,-999.0000,9,    350.4,2,   -999.0,9,  -999.00,9,  -999.00,9,  -999.00,9,   -999.0,9,   -999.0,9,    0.582,2,    0.112,2,   95.834,2
  09AR20141205,AU1402,    23,  1,      0,     15,2,20141228,1631,-66.5368, 120.0248,  580,     50.6,  -0.9946,  34.2029,2,  34.2088,2,    350.4,2,    350.0,2,  -999.00,9,  -999.00,9,  -999.00,9,   2200.1,2,   2310.8,2,    0.536,2,    0.112,2,   95.832,2
  09AR20141205,AU1402,    23,  1,      0,     14,2,20141228,1631,-66.5368, 120.0248,  580,     50.3,  -0.9945,  34.2020,2,-999.0000,9,    350.4,2,   -999.0,9,  -999.00,9,  -999.00,9,  -999.00,9,   -999.0,9,   -999.0,9,    0.544,2,    0.121,2,   95.846,2
  09AR20141205,AU1402,    23,  1,      0,     13,2,20141228,1631,-66.5368, 120.0248,  580,    100.8,  -1.8008,  34.2350,2,  34.2346,2,    332.8,2,    332.0,2,  -999.00,9,  -999.00,9,  -999.00,9,   2208.4,2,   2316.0,2,    0.299,2,    0.000,2,   98.024,2
  09AR20141205,AU1402,    23,  1,      0,     12,2,20141228,1631,-66.5368, 120.0248,  580,    100.4,  -1.8016,  34.2352,2,-999.0000,9,    332.8,2,   -999.0,9,  -999.00,9,  -999.00,9,  -999.00,9,   -999.0,9,   -999.0,9,    0.246,2,    0.000,2,   98.220,2
  09AR20141205,AU1402,    23,  1,      0,     11,2,20141228,1631,-66.5368, 120.0248,  580,    150.6,  -1.8245,  34.2453,2,  34.2463,2,    328.5,2,    328.7,2,  -999.00,9,  -999.00,9,  -999.00,9,   2209.2,2,   2315.3,2,    0.051,2,    0.000,2,   98.458,2
  09AR20141205,AU1402,    23,  1,      0,     10,2,20141228,1631,-66.5368, 120.0248,  580,    150.3,  -1.8252,  34.2455,2,-999.0000,9,    328.5,2,   -999.0,9,  -999.00,9,  -999.00,9,  -999.00,9,   -999.0,9,   -999.0,9,    0.040,2,    0.000,2,   98.471,2
  09AR20141205,AU1402,    23,  1,      0,      9,2,20141228,1631,-66.5368, 120.0248,  580,    220.5,  -1.8555,  34.2560,2,  34.2554,2,    313.8,2,    318.0,2,  -999.00,9,  -999.00,9,  -999.00,9,   2213.2,2,   2314.8,2,   -0.045,2,    0.000,2,   98.521,2
  09AR20141205,AU1402,    23,  1,      0,      8,2,20141228,1631,-66.5368, 120.0248,  580,    220.1,  -1.8543,  34.2564,2,-999.0000,9,    313.8,2,   -999.0,9,  -999.00,9,  -999.00,9,  -999.00,9,   -999.0,9,   -999.0,9,   -0.062,2,    0.000,2,   98.514,2
  09AR20141205,AU1402,    23,  1,      0,      7,2,20141228,1631,-66.5368, 120.0248,  580,    343.4,  -1.8134,  34.3019,2,  34.3020,2,    314.7,2,    316.8,2,  -999.00,9,  -999.00,9,  -999.00,9,   2214.2,2,   2318.9,6,   -0.070,2,    0.000,2,   98.570,2
  09AR20141205,AU1402,    23,  1,      0,      6,2,20141228,1631,-66.5368, 120.0248,  580,    340.8,  -1.8124,  34.3011,2,-999.0000,9,    314.8,2,   -999.0,9,  -999.00,9,  -999.00,9,  -999.00,9,   -999.0,9,   -999.0,9,   -0.070,2,    0.000,2,   98.584,2
  09AR20141205,AU1402,    23,  1,      0,      5,2,20141228,1631,-66.5368, 120.0248,  580,    419.4,  -1.4873,  34.3673,2,  34.3721,2,    303.2,2,    300.9,2,  -999.00,9,  -999.00,9,  -999.00,9,   2220.7,2,   2322.0,2,   -0.088,2,    0.000,2,   98.654,2
  09AR20141205,AU1402,    23,  1,      0,      4,2,20141228,1631,-66.5368, 120.0248,  580,    420.1,  -1.4682,  34.3711,2,-999.0000,9,    303.2,2,   -999.0,9,  -999.00,9,  -999.00,9,  -999.00,9,   -999.0,9,   -999.0,9,   -0.087,2,    0.000,2,   98.656,2
  09AR20141205,AU1402,    23,  1,      0,      3,2,20141228,1631,-66.5368, 120.0248,  580,    499.7,  -0.8002,  34.4654,2,  34.4632,2,    274.2,2,    271.5,2,  -999.00,9,  -999.00,9,  -999.00,9,   2233.4,2,   2321.6,2,   -0.081,2,    0.000,2,   98.468,2
  09AR20141205,AU1402,    23,  1,      0,      2,2,20141228,1631,-66.5368, 120.0248,  580,    500.0,  -0.8091,  34.4642,2,-999.0000,9,    274.2,2,   -999.0,9,  -999.00,9,  -999.00,9,  -999.00,9,   -999.0,9,   -999.0,9,   -0.082,2,    0.000,2,   98.478,2
  09AR20141205,AU1402,    23,  1,      0,      1,2,20141228,1631,-66.5368, 120.0248,  580,    601.6,  -0.6864,  34.4807,2,  34.4797,2,    266.4,2,    266.6,2,  -999.00,9,  -999.00,9,  -999.00,9,   2235.4,2,   2338.6,2,   -0.092,2,    0.000,2,   98.403,2
  09AR20141205,AU1402,    24,  1,      0,     24,2,20141228,1839,-66.5762, 120.1125,  499,      5.7,  -0.9571,  34.2033,2,-999.0000,9,    350.6,2,   -999.0,9,  -999.00,9,  -999.00,9,  -999.00,9,   -999.0,9,   -999.0,9,    0.462,2,    7.825,2,   95.553,2
  09AR20141205,AU1402,    24,  1,      0,     23,2,20141228,1839,-66.5762, 120.1125,  499,      5.6,  -0.9571,  34.2033,2,-999.0000,9,    350.6,2,   -999.0,9,  -999.00,9,  -999.00,9,  -999.00,9,   -999.0,9,   -999.0,9,    0.464,2,    7.847,2,   95.546,2
  09AR20141205,AU1402,    24,  1,      0,     22,2,20141228,1839,-66.5762, 120.1125,  499,      5.6,  -0.9580,  34.2029,2,-999.0000,9,    350.6,2,   -999.0,9,  -999.00,9,  -999.00,9,  -999.00,9,   -999.0,9,   -999.0,9,    0.475,2,    7.896,2,   95.551,2
  09AR20141205,AU1402,    24,  1,      0,     21,2,20141228,1839,-66.5762, 120.1125,  499,      5.5,  -0.9578,  34.2033,2,  34.2072,4,    350.6,2,    350.4,2,  -999.00,9,    28.42,2,     1.95,3,   2198.3,6,   2313.3,6,    0.463,2,    7.871,2,   95.558,2
  09AR20141205,AU1402,    24,  1,      0,     20,2,20141228,1839,-66.5762, 120.1125,  499,      5.3,  -0.9585,  34.2037,2,-999.0000,9,    350.6,2,   -999.0,9,  -999.00,9,  -999.00,9,  -999.00,9,   -999.0,9,   -999.0,9,    0.470,2,    7.967,2,   95.552,2
  09AR20141205,AU1402,    24,  1,      0,     19,2,20141228,1839,-66.5762, 120.1125,  499,      5.3,  -0.9589,  34.2037,2,-999.0000,9,    350.6,2,   -999.0,9,  -999.00,9,  -999.00,9,  -999.00,9,   -999.0,9,   -999.0,9,    0.468,2,    7.960,2,   95.565,2
  09AR20141205,AU1402,    24,  1,      0,     18,2,20141228,1839,-66.5762, 120.1125,  499,     20.6,  -0.9565,  34.2045,2,-999.0000,9,    350.0,2,   -999.0,9,  -999.00,9,  -999.00,9,  -999.00,9,   -999.0,9,   -999.0,9,    0.525,2,    2.429,2,   95.562,2
  09AR20141205,AU1402,    24,  1,      0,     17,2,20141228,1839,-66.5762, 120.1125,  499,     20.6,  -0.9564,  34.2041,2,-999.0000,9,    350.0,2,   -999.0,9,  -999.00,9,  -999.00,9,  -999.00,9,   -999.0,9,   -999.0,9,    0.497,2,    2.411,2,   95.564,2
  09AR20141205,AU1402,    24,  1,      0,     16,2,20141228,1839,-66.5762, 120.1125,  499,     20.5,  -0.9564,  34.2040,2,-999.0000,9,    350.0,2,   -999.0,9,  -999.00,9,  -999.00,9,  -999.00,9,   -999.0,9,   -999.0,9,    0.471,2,    2.359,2,   95.572,2
  09AR20141205,AU1402,    24,  1,      0,     15,2,20141228,1839,-66.5762, 120.1125,  499,     51.0,  -1.0818,  34.2134,2,  34.2178,4,    350.8,2,    351.2,2,  -999.00,9,    28.28,2,     1.95,3,   2197.9,2,   2311.9,2,    0.497,2,    0.509,2,   95.839,2
  09AR20141205,AU1402,    24,  1,      0,     14,2,20141228,1839,-66.5762, 120.1125,  499,     50.9,  -1.0608,  34.2129,2,-999.0000,9,    350.7,2,   -999.0,9,  -999.00,9,  -999.00,9,  -999.00,9,   -999.0,9,   -999.0,9,    0.467,2,    0.472,2,   95.818,2
  09AR20141205,AU1402,    24,  1,      0,     13,2,20141228,1839,-66.5762, 120.1125,  499,     75.5,  -1.5893,  34.2245,2,-999.0000,9,    345.9,2,   -999.0,9,  -999.00,9,  -999.00,9,  -999.00,9,   -999.0,9,   -999.0,9,    0.549,2,    0.115,2,   97.248,2
  09AR20141205,AU1402,    24,  1,      0,     12,2,20141228,1839,-66.5762, 120.1125,  499,     75.5,  -1.5885,  34.2243,2,-999.0000,9,    345.9,2,   -999.0,9,  -999.00,9,  -999.00,9,  -999.00,9,   -999.0,9,   -999.0,9,    0.582,2,    0.115,2,   97.250,2
  09AR20141205,AU1402,    24,  1,      0,     11,2,20141228,1839,-66.5762, 120.1125,  499,    101.0,  -1.6256,  34.2348,2,  34.2385,4,    333.7,2,    333.3,2,  -999.00,9,    29.67,2,     2.00,3,   2207.2,2,   2312.6,2,    0.491,2,    0.001,2,   97.541,2
  09AR20141205,AU1402,    24,  1,      0,     10,2,20141228,1839,-66.5762, 120.1125,  499,    101.6,  -1.6255,  34.2346,2,-999.0000,9,    333.4,2,   -999.0,9,  -999.00,9,  -999.00,9,  -999.00,9,   -999.0,9,   -999.0,9,    0.452,2,    0.001,2,   97.530,2
  09AR20141205,AU1402,    24,  1,      0,      9,2,20141228,1839,-66.5762, 120.1125,  499,    150.9,  -1.7763,  34.2414,2,  34.2444,4,    324.0,2,    324.5,2,  -999.00,9,  -999.00,9,  -999.00,9,   2211.0,2,   2315.1,2,    0.122,2,    0.001,2,   98.220,2
  09AR20141205,AU1402,    24,  1,      0,      8,2,20141228,1839,-66.5762, 120.1125,  499,    150.8,  -1.7763,  34.2414,2,-999.0000,9,    324.0,2,   -999.0,9,  -999.00,9,  -999.00,9,  -999.00,9,   -999.0,9,   -999.0,9,    0.122,2,    0.001,2,   98.216,2
  09AR20141205,AU1402,    24,  1,      0,      7,2,20141228,1839,-66.5762, 120.1125,  499,    225.7,  -1.8749,  34.2462,2,  34.2522,4,    316.4,2,    315.9,2,  -999.00,9,    30.38,2,     2.06,3,   2211.8,2,   2314.2,2,   -0.067,2,    0.001,2,   98.410,2
  09AR20141205,AU1402,    24,  1,      0,      6,2,20141228,1839,-66.5762, 120.1125,  499,    225.3,  -1.8708,  34.2466,2,-999.0000,9,    316.4,2,   -999.0,9,  -999.00,9,  -999.00,9,  -999.00,9,   -999.0,9,   -999.0,9,   -0.061,2,    0.001,2,   98.417,2
  09AR20141205,AU1402,    24,  1,      0,      5,2,20141228,1839,-66.5762, 120.1125,  499,    350.8,  -1.8318,  34.2895,2,  34.2975,4,    317.4,2,    317.2,2,  -999.00,9,  -999.00,9,  -999.00,9,   2214.2,2,   2316.3,2,   -0.058,2,    0.001,2,   98.506,2
  09AR20141205,AU1402,    24,  1,      0,      4,2,20141228,1839,-66.5762, 120.1125,  499,    350.9,  -1.8238,  34.2913,2,-999.0000,9,    317.4,2,   -999.0,9,  -999.00,9,  -999.00,9,  -999.00,9,   -999.0,9,   -999.0,9,   -0.059,2,    0.001,2,   98.488,2
  09AR20141205,AU1402,    24,  1,      0,      3,2,20141228,1839,-66.5762, 120.1125,  499,    425.8,  -1.2943,  34.3902,2,  34.4025,4,    294.5,2,    290.2,2,  -999.00,9,    31.03,2,     2.11,3,   2224.9,2,   2324.0,2,   -0.076,2,    0.001,2,   98.486,2
  09AR20141205,AU1402,    24,  1,      0,      2,2,20141228,1839,-66.5762, 120.1125,  499,    425.4,  -1.2922,  34.3915,2,-999.0000,9,    294.5,2,   -999.0,9,  -999.00,9,  -999.00,9,  -999.00,9,   -999.0,9,   -999.0,9,   -0.083,2,    0.001,2,   98.440,2
  09AR20141205,AU1402,    24,  1,      0,      1,2,20141228,1839,-66.5762, 120.1125,  499,    500.4,  -0.9973,  34.4344,2,  34.4391,4,    280.0,2,    279.6,2,  -999.00,9,    31.22,2,     2.12,3,   2230.2,2,   2326.4,2,   -0.086,2,    0.000,2,   98.305,2