BOTTLE,20210329PRINUNIVRMK
EXPOCODE,SECT_ID,STNNBR,CASTNO,SAMPNO,BTLNBR,BTLNBR_FLAG_W,DATE,TIME,LATITUDE,LONGITUDE,DEPTH,CTDPRS,CTDTMP,CTDSAL,CTDSAL_FLAG_W,SALNTY,SALNTY_FLAG_W,CTDOXY,CTDOXY_FLAG_W,OXYGEN,OXYGEN_FLAG_W,SILCAT,SILCAT_FLAG_W,NITRAT,NITRAT_FLAG_W,PHSPHT,PHSPHT_FLAG_W,TCARBN,TCARBN_FLAG_W,ALKALI,ALKALI_FLAG_W,CTDFLUOR,CTDFLUOR_FLAG_W,CTDPAR,CTDPAR_FLAG_W,CTDXMISS,CTDXMISS_FLAG_W
,,,,,,,,,,,METERS,DBAR,ITS-90,PSS-78,,PSS-78,,UMOL/KG,,UMOL/KG,,UMOL/KG,,UMOL/KG,,UMOL/KG,,UMOL/KG,,UMOL/KG,,MG/M^3,,UEINSTEIN/M^2*SEC,,%TRANS,
  09AR20141205,AU1402,    16,  1,      0,     24,2,20141227,2235,-66.7355, 120.5508,  360,      5.7,  -1.1409,  34.1912,2,-999.0000,9,    343.0,2,   -999.0,9,  -999.00,9,  -999.00,9,  -999.00,9,   -999.0,9,   -999.0,9,   -0.020,2,  160.700,2,   97.584,2
  09AR20141205,AU1402,    16,  1,      0,     23,2,20141227,2235,-66.7355, 120.5508,  360,      5.7,  -1.1402,  34.1910,2,-999.0000,9,    343.0,2,   -999.0,9,  -999.00,9,  -999.00,9,  -999.00,9,   -999.0,9,   -999.0,9,   -0.024,2,  159.500,2,   97.615,2
  09AR20141205,AU1402,    16,  1,      0,     22,2,20141227,2235,-66.7355, 120.5508,  360,      5.7,  -1.1403,  34.1911,2,-999.0000,9,    343.0,2,   -999.0,9,  -999.00,9,  -999.00,9,  -999.00,9,   -999.0,9,   -999.0,9,   -0.029,2,  160.600,2,   97.620,2
  09AR20141205,AU1402,    16,  1,      0,     21,2,20141227,2235,-66.7355, 120.5508,  360,      5.6,  -1.1417,  34.1917,2,  34.1929,2,    343.0,2,    342.7,2,  -999.00,9,  -999.00,9,  -999.00,9,   2201.8,6,   2311.8,6,   -0.023,2,  159.300,2,   97.645,2
  09AR20141205,AU1402,    16,  1,      0,     20,2,20141227,2235,-66.7355, 120.5508,  360,      5.5,  -1.1401,  34.1916,2,-999.0000,9,    343.0,2,   -999.0,9,  -999.00,9,  -999.00,9,  -999.00,9,   -999.0,9,   -999.0,9,   -0.036,2,  156.400,2,   97.585,2
  09AR20141205,AU1402,    16,  1,      0,     19,2,20141227,2235,-66.7355, 120.5508,  360,     20.8,  -1.1640,  34.1989,2,  34.2023,2,    342.3,2,    341.5,2,  -999.00,9,  -999.00,9,  -999.00,9,   2201.4,2,   2313.0,2,    0.045,2,   56.490,2,   97.399,2
  09AR20141205,AU1402,    16,  1,      0,     18,2,20141227,2235,-66.7355, 120.5508,  360,     20.7,  -1.1664,  34.1992,2,-999.0000,9,    342.3,2,   -999.0,9,  -999.00,9,  -999.00,9,  -999.00,9,   -999.0,9,   -999.0,9,    0.057,2,   56.760,2,   97.397,2
  09AR20141205,AU1402,    16,  1,      0,     17,2,20141227,2235,-66.7355, 120.5508,  360,     20.7,  -1.1660,  34.1992,2,-999.0000,9,    342.3,2,   -999.0,9,  -999.00,9,  -999.00,9,  -999.00,9,   -999.0,9,   -999.0,9,    0.068,2,   56.880,2,   97.360,2
  09AR20141205,AU1402,    16,  1,      0,     16,2,20141227,2235,-66.7355, 120.5508,  360,     20.5,  -1.1707,  34.2000,2,-999.0000,9,    342.3,2,   -999.0,9,  -999.00,9,  -999.00,9,  -999.00,9,   -999.0,9,   -999.0,9,    0.057,2,   55.290,2,   97.369,2
  09AR20141205,AU1402,    16,  1,      0,     15,2,20141227,2235,-66.7355, 120.5508,  360,     60.6,  -1.2051,  34.2023,2,  34.2039,2,    340.3,2,    340.8,2,  -999.00,9,  -999.00,9,  -999.00,9,   2204.1,2,   2313.4,2,    0.181,2,   13.560,2,   97.371,2
  09AR20141205,AU1402,    16,  1,      0,     14,2,20141227,2235,-66.7355, 120.5508,  360,     60.4,  -1.2065,  34.2022,2,-999.0000,9,    340.3,2,   -999.0,9,  -999.00,9,  -999.00,9,  -999.00,9,   -999.0,9,   -999.0,9,    0.177,2,   13.530,2,   97.449,2
  09AR20141205,AU1402,    16,  1,      0,     13,2,20141227,2235,-66.7355, 120.5508,  360,     60.4,  -1.2065,  34.2023,2,-999.0000,9,    340.3,2,   -999.0,9,  -999.00,9,  -999.00,9,  -999.00,9,   -999.0,9,   -999.0,9,    0.176,2,   13.680,2,   97.454,2
  09AR20141205,AU1402,    16,  1,      0,     12,2,20141227,2235,-66.7355, 120.5508,  360,     60.4,  -1.2064,  34.2023,2,-999.0000,9,    340.3,2,   -999.0,9,  -999.00,9,  -999.00,9,  -999.00,9,   -999.0,9,   -999.0,9,    0.176,2,   13.850,2,   97.446,2
  09AR20141205,AU1402,    16,  1,      0,     11,2,20141227,2235,-66.7355, 120.5508,  360,    100.5,  -1.4372,  34.2250,2,  34.2248,2,    338.2,2,    339.0,2,  -999.00,9,  -999.00,9,  -999.00,9,   2203.4,2,   2314.2,2,    0.688,2,    3.190,2,   96.563,2
  09AR20141205,AU1402,    16,  1,      0,     10,2,20141227,2235,-66.7355, 120.5508,  360,    100.9,  -1.4354,  34.2250,2,-999.0000,9,    338.2,2,   -999.0,9,  -999.00,9,  -999.00,9,  -999.00,9,   -999.0,9,   -999.0,9,    0.683,2,    3.160,2,   96.556,2
  09AR20141205,AU1402,    16,  1,      0,      9,2,20141227,2235,-66.7355, 120.5508,  360,    100.9,  -1.4359,  34.2249,2,-999.0000,9,    338.2,2,   -999.0,9,  -999.00,9,  -999.00,9,  -999.00,9,   -999.0,9,   -999.0,9,    0.663,2,    3.170,2,   96.558,2
  09AR20141205,AU1402,    16,  1,      0,      8,2,20141227,2235,-66.7355, 120.5508,  360,    100.8,  -1.4367,  34.2249,2,-999.0000,9,    338.2,2,   -999.0,9,  -999.00,9,  -999.00,9,  -999.00,9,   -999.0,9,   -999.0,9,    0.643,2,    3.177,2,   96.558,2
  09AR20141205,AU1402,    16,  1,      0,      7,2,20141227,2235,-66.7355, 120.5508,  360,    150.9,  -1.6347,  34.2278,2,  34.2281,2,    334.1,2,    333.8,2,  -999.00,9,  -999.00,9,  -999.00,9,   2208.7,2,   2313.9,6,    0.283,2,    0.282,2,   98.153,2
  09AR20141205,AU1402,    16,  1,      0,      6,2,20141227,2235,-66.7355, 120.5508,  360,    150.9,  -1.6346,  34.2277,2,-999.0000,9,    334.1,2,   -999.0,9,  -999.00,9,  -999.00,9,  -999.00,9,   -999.0,9,   -999.0,9,    0.275,2,    0.279,2,   98.139,2
  09AR20141205,AU1402,    16,  1,      0,      5,2,20141227,2235,-66.7355, 120.5508,  360,    150.8,  -1.6343,  34.2277,2,-999.0000,9,    334.1,2,   -999.0,9,  -999.00,9,  -999.00,9,  -999.00,9,   -999.0,9,   -999.0,9,    0.269,2,    0.275,2,   98.156,2
  09AR20141205,AU1402,    16,  1,      0,      4,2,20141227,2235,-66.7355, 120.5508,  360,    150.8,  -1.6341,  34.2278,2,-999.0000,9,    334.1,2,   -999.0,9,  -999.00,9,  -999.00,9,  -999.00,9,   -999.0,9,   -999.0,9,    0.271,2,    0.275,2,   98.147,2
  09AR20141205,AU1402,    16,  1,      0,      3,2,20141227,2235,-66.7355, 120.5508,  360,    275.4,  -1.8812,  34.2444,2,  34.2442,2,    315.5,2,    314.7,2,  -999.00,9,  -999.00,9,  -999.00,9,   2211.8,2,   2314.3,2,   -0.053,2,    0.000,2,   98.591,2
  09AR20141205,AU1402,    16,  1,      0,      2,2,20141227,2235,-66.7355, 120.5508,  360,    275.6,  -1.8812,  34.2444,2,-999.0000,9,    315.5,2,   -999.0,9,  -999.00,9,  -999.00,9,  -999.00,9,   -999.0,9,   -999.0,9,   -0.049,2,    0.000,2,   98.622,2
  09AR20141205,AU1402,    16,  1,      0,      1,2,20141227,2235,-66.7355, 120.5508,  360,    356.9,  -1.8628,  34.2658,2,  34.2640,2,    315.2,2,    314.9,2,  -999.00,9,  -999.00,9,  -999.00,9,   2215.7,2,   2316.5,2,   -0.041,2,    0.000,2,   98.509,2
  09AR20141205,AU1402,    17,  1,      0,     24,2,20141228,0028,-66.7177, 120.7055,  200,      5.7,  -1.1526,  34.1659,2,-999.0000,9,    342.2,2,   -999.0,9,  -999.00,9,  -999.00,9,  -999.00,9,   -999.0,9,   -999.0,9,   -0.077,2,  147.600,2,   98.047,2
  09AR20141205,AU1402,    17,  1,      0,     23,2,20141228,0028,-66.7177, 120.7055,  200,      5.7,  -1.1523,  34.1660,2,-999.0000,9,    342.2,2,   -999.0,9,  -999.00,9,  -999.00,9,  -999.00,9,   -999.0,9,   -999.0,9,   -0.075,2,  146.800,2,   98.055,2
  09AR20141205,AU1402,    17,  1,      0,     22,2,20141228,0028,-66.7177, 120.7055,  200,      5.7,  -1.1501,  34.1661,2,-999.0000,9,    342.2,2,   -999.0,9,  -999.00,9,  -999.00,9,  -999.00,9,   -999.0,9,   -999.0,9,   -0.077,2,  145.600,2,   98.054,2
  09AR20141205,AU1402,    17,  1,      0,     21,2,20141228,0028,-66.7177, 120.7055,  200,      5.7,  -1.1531,  34.1665,2,  34.1688,2,    342.2,2,    342.0,2,    60.50,2,    28.98,2,     2.04,3,   2200.4,6,   2310.3,6,   -0.074,2,  142.100,2,   98.064,2
  09AR20141205,AU1402,    17,  1,      0,     20,2,20141228,0028,-66.7177, 120.7055,  200,      5.6,  -1.1543,  34.1665,2,-999.0000,9,    342.2,2,   -999.0,9,  -999.00,9,  -999.00,9,  -999.00,9,   -999.0,9,   -999.0,9,   -0.069,2,  141.100,2,   98.057,2
  09AR20141205,AU1402,    17,  1,      0,     19,2,20141228,0028,-66.7177, 120.7055,  200,      5.6,  -1.1538,  34.1664,2,-999.0000,9,    342.2,2,   -999.0,9,  -999.00,9,  -999.00,9,  -999.00,9,   -999.0,9,   -999.0,9,   -0.068,2,  141.800,2,   98.057,2
  09AR20141205,AU1402,    17,  1,      0,     18,2,20141228,0028,-66.7177, 120.7055,  200,      5.6,  -1.1529,  34.1664,2,-999.0000,9,    342.2,2,   -999.0,9,  -999.00,9,  -999.00,9,  -999.00,9,   -999.0,9,   -999.0,9,   -0.065,2,  143.200,2,   98.057,2
  09AR20141205,AU1402,    17,  1,      0,     17,2,20141228,0028,-66.7177, 120.7055,  200,     20.8,  -1.2160,  34.1703,2,  34.1988,2,    342.7,2,    332.2,2,    61.50,2,    29.39,2,     2.06,3,   2203.8,2,   2312.9,2,   -0.025,2,   61.030,2,   98.049,2
  09AR20141205,AU1402,    17,  1,      0,     16,2,20141228,0028,-66.7177, 120.7055,  200,     20.8,  -1.2245,  34.1709,2,-999.0000,9,    342.7,2,   -999.0,9,  -999.00,9,  -999.00,9,  -999.00,9,   -999.0,9,   -999.0,9,   -0.025,2,   61.880,2,   98.046,2
  09AR20141205,AU1402,    17,  1,      0,     15,2,20141228,0028,-66.7177, 120.7055,  200,     20.8,  -1.2339,  34.1715,2,-999.0000,9,    342.7,2,   -999.0,9,  -999.00,9,  -999.00,9,  -999.00,9,   -999.0,9,   -999.0,9,   -0.039,2,   62.740,2,   98.049,2
  09AR20141205,AU1402,    17,  1,      0,     14,2,20141228,0028,-66.7177, 120.7055,  200,     20.8,  -1.2395,  34.1720,2,-999.0000,9,    342.7,2,   -999.0,9,  -999.00,9,  -999.00,9,  -999.00,9,   -999.0,9,   -999.0,9,   -0.045,2,   63.470,2,   98.049,2
  09AR20141205,AU1402,    17,  1,      0,     13,2,20141228,0028,-66.7177, 120.7055,  200,     50.3,  -1.7941,  34.2223,2,  34.2223,2,    323.6,2,    323.8,2,    62.40,2,    29.87,2,     2.08,3,   2206.6,2,   2314.4,2,   -0.024,2,   22.930,2,   98.212,2
  09AR20141205,AU1402,    17,  1,      0,     12,2,20141228,0028,-66.7177, 120.7055,  200,     50.3,  -1.7949,  34.2224,2,-999.0000,9,    323.6,2,   -999.0,9,  -999.00,9,  -999.00,9,  -999.00,9,   -999.0,9,   -999.0,9,   -0.021,2,   23.000,2,   98.201,2
  09AR20141205,AU1402,    17,  1,      0,     11,2,20141228,0028,-66.7177, 120.7055,  200,     50.3,  -1.7953,  34.2224,2,-999.0000,9,    323.6,2,   -999.0,9,  -999.00,9,  -999.00,9,  -999.00,9,   -999.0,9,   -999.0,9,   -0.025,2,   23.080,2,   98.197,2
  09AR20141205,AU1402,    17,  1,      0,     10,2,20141228,0028,-66.7177, 120.7055,  200,     50.2,  -1.7929,  34.2222,2,-999.0000,9,    323.6,2,   -999.0,9,  -999.00,9,  -999.00,9,  -999.00,9,   -999.0,9,   -999.0,9,   -0.027,2,   23.180,2,   98.202,2
  09AR20141205,AU1402,    17,  1,      0,      9,2,20141228,0028,-66.7177, 120.7055,  200,    100.7,  -1.9031,  34.2332,2,  34.2334,2,    315.0,2,    314.3,2,    63.60,2,    30.39,2,     2.11,3,   2212.3,2,   2314.1,2,   -0.045,2,    3.984,2,   98.427,2
  09AR20141205,AU1402,    17,  1,      0,      8,2,20141228,0028,-66.7177, 120.7055,  200,    100.7,  -1.9056,  34.2331,2,-999.0000,9,    315.0,2,   -999.0,9,  -999.00,9,  -999.00,9,  -999.00,9,   -999.0,9,   -999.0,9,   -0.047,2,    4.005,2,   98.422,2
  09AR20141205,AU1402,    17,  1,      0,      7,2,20141228,0028,-66.7177, 120.7055,  200,    100.7,  -1.9073,  34.2333,2,-999.0000,9,    315.0,2,   -999.0,9,  -999.00,9,  -999.00,9,  -999.00,9,   -999.0,9,   -999.0,9,   -0.057,2,    4.028,2,   98.413,2
  09AR20141205,AU1402,    17,  1,      0,      6,2,20141228,0028,-66.7177, 120.7055,  200,    100.7,  -1.9038,  34.2332,2,-999.0000,9,    315.0,2,   -999.0,9,  -999.00,9,  -999.00,9,  -999.00,9,   -999.0,9,   -999.0,9,   -0.056,2,    4.058,2,   98.410,2
  09AR20141205,AU1402,    17,  1,      0,      5,2,20141228,0028,-66.7177, 120.7055,  200,    153.0,  -1.9450,  34.2367,2,  34.2364,2,    309.6,2,    310.5,2,    64.10,2,    30.64,2,     2.13,3,   2214.2,2,   2314.0,6,   -0.092,2,    0.819,2,   98.436,2
  09AR20141205,AU1402,    17,  1,      0,      4,2,20141228,0028,-66.7177, 120.7055,  200,    153.0,  -1.9448,  34.2366,2,-999.0000,9,    309.6,2,   -999.0,9,  -999.00,9,  -999.00,9,  -999.00,9,   -999.0,9,   -999.0,9,   -0.095,2,    0.829,2,   98.431,2
  09AR20141205,AU1402,    17,  1,      0,      3,2,20141228,0028,-66.7177, 120.7055,  200,    153.0,  -1.9449,  34.2367,2,-999.0000,9,    309.6,2,   -999.0,9,  -999.00,9,  -999.00,9,  -999.00,9,   -999.0,9,   -999.0,9,   -0.085,2,    0.834,2,   98.438,2
  09AR20141205,AU1402,    17,  1,      0,      2,2,20141228,0028,-66.7177, 120.7055,  200,    153.0,  -1.9449,  34.2367,2,-999.0000,9,    309.6,2,   -999.0,9,  -999.00,9,  -999.00,9,  -999.00,9,   -999.0,9,   -999.0,9,   -0.089,2,    0.838,2,   98.447,2
  09AR20141205,AU1402,    17,  1,      0,      1,2,20141228,0028,-66.7177, 120.7055,  200,    198.4,  -1.9232,  34.2411,2,  34.2399,2,    311.4,2,    311.2,2,    64.40,2,    30.66,2,     2.11,3,   2215.2,2,   2315.0,2,   -0.080,2,    0.128,2,   98.464,2
  09AR20141205,AU1402,    18,  1,      0,     24,2,20141228,0210,-66.6498, 120.8632,  229,      5.6,  -1.2291,  34.1915,2,-999.0000,9,    339.1,2,   -999.0,9,  -999.00,9,  -999.00,9,  -999.00,9,   -999.0,9,   -999.0,9,   -0.067,2,  441.900,2,   97.406,2
  09AR20141205,AU1402,    18,  1,      0,     23,2,20141228,0210,-66.6498, 120.8632,  229,      5.6,  -1.2288,  34.1919,2,-999.0000,9,    339.1,2,   -999.0,9,  -999.00,9,  -999.00,9,  -999.00,9,   -999.0,9,   -999.0,9,   -0.074,2,  427.100,2,   97.384,2
  09AR20141205,AU1402,    18,  1,      0,     22,2,20141228,0210,-66.6498, 120.8632,  229,      5.6,  -1.2213,  34.1906,2,-999.0000,9,    339.1,2,   -999.0,9,  -999.00,9,  -999.00,9,  -999.00,9,   -999.0,9,   -999.0,9,   -0.071,2,  402.400,2,   97.421,2
  09AR20141205,AU1402,    18,  1,      0,     21,2,20141228,0210,-66.6498, 120.8632,  229,      5.5,  -1.2161,  34.1912,2,  34.1919,2,    339.1,2,    339.5,2,    60.70,2,    29.36,2,     2.05,3,   2203.8,6,   2310.8,6,   -0.069,2,  459.900,2,   97.412,2
  09AR20141205,AU1402,    18,  1,      0,     20,2,20141228,0210,-66.6498, 120.8632,  229,      5.3,  -1.1983,  34.1896,2,-999.0000,9,    339.1,2,   -999.0,9,  -999.00,9,  -999.00,9,  -999.00,9,   -999.0,9,   -999.0,9,   -0.071,2,  508.000,2,   97.447,2
  09AR20141205,AU1402,    18,  1,      0,     19,2,20141228,0210,-66.6498, 120.8632,  229,      5.3,  -1.1926,  34.1890,2,-999.0000,9,    339.1,2,   -999.0,9,  -999.00,9,  -999.00,9,  -999.00,9,   -999.0,9,   -999.0,9,   -0.068,2,  490.800,2,   97.468,2
  09AR20141205,AU1402,    18,  1,      0,     18,2,20141228,0210,-66.6498, 120.8632,  229,      5.2,  -1.2054,  34.1894,2,-999.0000,9,    339.1,2,   -999.0,9,  -999.00,9,  -999.00,9,  -999.00,9,   -999.0,9,   -999.0,9,   -0.071,2,  496.900,2,   97.494,2
  09AR20141205,AU1402,    18,  1,      0,     17,2,20141228,0210,-66.6498, 120.8632,  229,     30.4,  -1.2635,  34.1926,2,  34.1919,2,    338.9,2,    338.9,2,    60.70,2,    29.36,2,     2.05,3,   2206.0,2,   2314.4,2,   -0.028,2,  116.300,2,   97.392,2
  09AR20141205,AU1402,    18,  1,      0,     16,2,20141228,0210,-66.6498, 120.8632,  229,     30.1,  -1.2745,  34.1923,2,-999.0000,9,    338.9,2,   -999.0,9,  -999.00,9,  -999.00,9,  -999.00,9,   -999.0,9,   -999.0,9,   -0.038,2,  116.400,2,   97.401,2
  09AR20141205,AU1402,    18,  1,      0,     15,2,20141228,0210,-66.6498, 120.8632,  229,     30.0,  -1.2769,  34.1924,2,-999.0000,9,    338.9,2,   -999.0,9,  -999.00,9,  -999.00,9,  -999.00,9,   -999.0,9,   -999.0,9,   -0.036,2,  118.100,2,   97.405,2
  09AR20141205,AU1402,    18,  1,      0,     14,2,20141228,0210,-66.6498, 120.8632,  229,     29.9,  -1.2768,  34.1922,2,-999.0000,9,    338.9,2,   -999.0,9,  -999.00,9,  -999.00,9,  -999.00,9,   -999.0,9,   -999.0,9,   -0.030,2,  115.500,2,   97.404,2
  09AR20141205,AU1402,    18,  1,      0,     13,2,20141228,0210,-66.6498, 120.8632,  229,     50.6,  -1.6236,  34.2075,2,  34.2078,2,    334.7,2,    334.4,2,    61.10,2,    29.35,2,     2.06,3,   2206.1,2,   2313.8,6,   -0.028,2,   51.360,2,   97.908,2
  09AR20141205,AU1402,    18,  1,      0,     12,2,20141228,0210,-66.6498, 120.8632,  229,     50.5,  -1.6370,  34.2081,2,-999.0000,9,    334.7,2,   -999.0,9,  -999.00,9,  -999.00,9,  -999.00,9,   -999.0,9,   -999.0,9,   -0.021,2,   51.150,2,   97.859,2
  09AR20141205,AU1402,    18,  1,      0,     11,2,20141228,0210,-66.6498, 120.8632,  229,     50.5,  -1.6327,  34.2084,2,-999.0000,9,    334.7,2,   -999.0,9,  -999.00,9,  -999.00,9,  -999.00,9,   -999.0,9,   -999.0,9,   -0.020,2,   51.720,2,   97.907,2
  09AR20141205,AU1402,    18,  1,      0,     10,2,20141228,0210,-66.6498, 120.8632,  229,     50.3,  -1.6510,  34.2071,2,-999.0000,9,    334.7,2,   -999.0,9,  -999.00,9,  -999.00,9,  -999.00,9,   -999.0,9,   -999.0,9,   -0.027,2,   53.700,2,   97.914,2
  09AR20141205,AU1402,    18,  1,      0,      9,2,20141228,0210,-66.6498, 120.8632,  229,    101.2,  -1.7845,  34.2283,2,  34.2295,2,    326.0,2,    321.7,2,    62.70,2,    30.16,2,     2.10,3,   2212.0,2,   2312.8,2,    0.110,2,    8.281,2,   98.185,2
  09AR20141205,AU1402,    18,  1,      0,      8,2,20141228,0210,-66.6498, 120.8632,  229,    101.1,  -1.7826,  34.2283,2,-999.0000,9,    326.0,2,   -999.0,9,  -999.00,9,  -999.00,9,  -999.00,9,   -999.0,9,   -999.0,9,    0.105,2,    8.144,2,   98.121,2
  09AR20141205,AU1402,    18,  1,      0,      7,2,20141228,0210,-66.6498, 120.8632,  229,    101.0,  -1.7828,  34.2283,2,-999.0000,9,    326.0,2,   -999.0,9,  -999.00,9,  -999.00,9,  -999.00,9,   -999.0,9,   -999.0,9,    0.103,2,    8.251,2,   98.178,2
  09AR20141205,AU1402,    18,  1,      0,      6,2,20141228,0210,-66.6498, 120.8632,  229,    100.9,  -1.7846,  34.2285,2,-999.0000,9,    326.3,2,   -999.0,9,  -999.00,9,  -999.00,9,  -999.00,9,   -999.0,9,   -999.0,9,    0.106,2,    8.349,2,   98.203,2
  09AR20141205,AU1402,    18,  1,      0,      5,2,20141228,0210,-66.6498, 120.8632,  229,    179.1,  -1.9186,  34.2409,2,  34.2401,2,    312.4,2,    312.5,2,    64.10,2,    30.59,2,     2.00,3,   2214.3,2,   2313.4,2,   -0.064,2,    0.501,2,   98.422,2
  09AR20141205,AU1402,    18,  1,      0,      4,2,20141228,0210,-66.6498, 120.8632,  229,    179.0,  -1.9186,  34.2409,2,-999.0000,9,    312.4,2,   -999.0,9,  -999.00,9,  -999.00,9,  -999.00,9,   -999.0,9,   -999.0,9,   -0.069,2,    0.495,2,   98.413,2
  09AR20141205,AU1402,    18,  1,      0,      3,2,20141228,0210,-66.6498, 120.8632,  229,    179.0,  -1.9185,  34.2408,2,-999.0000,9,    312.4,2,   -999.0,9,  -999.00,9,  -999.00,9,  -999.00,9,   -999.0,9,   -999.0,9,   -0.069,2,    0.495,2,   98.428,2
  09AR20141205,AU1402,    18,  1,      0,      2,2,20141228,0210,-66.6498, 120.8632,  229,    179.0,  -1.9185,  34.2409,2,-999.0000,9,    312.6,2,   -999.0,9,  -999.00,9,  -999.00,9,  -999.00,9,   -999.0,9,   -999.0,9,   -0.077,2,    0.502,2,   98.429,2
  09AR20141205,AU1402,    18,  1,      0,      1,2,20141228,0210,-66.6498, 120.8632,  229,    210.6,  -1.8663,  34.2512,2,  34.2497,2,    315.7,2,    315.7,2,    64.00,2,    30.43,2,     2.12,3,   2215.4,2,   2314.1,2,   -0.049,2,    0.077,2,   98.469,2