BOTTLE,20210329PRINUNIVRMK
EXPOCODE,SECT_ID,STNNBR,CASTNO,SAMPNO,BTLNBR,BTLNBR_FLAG_W,DATE,TIME,LATITUDE,LONGITUDE,DEPTH,CTDPRS,CTDTMP,CTDSAL,CTDSAL_FLAG_W,SALNTY,SALNTY_FLAG_W,CTDOXY,CTDOXY_FLAG_W,OXYGEN,OXYGEN_FLAG_W,SILCAT,SILCAT_FLAG_W,NITRAT,NITRAT_FLAG_W,PHSPHT,PHSPHT_FLAG_W,TCARBN,TCARBN_FLAG_W,ALKALI,ALKALI_FLAG_W,CTDFLUOR,CTDFLUOR_FLAG_W,CTDPAR,CTDPAR_FLAG_W,CTDXMISS,CTDXMISS_FLAG_W
,,,,,,,,,,,METERS,DBAR,ITS-90,PSS-78,,PSS-78,,UMOL/KG,,UMOL/KG,,UMOL/KG,,UMOL/KG,,UMOL/KG,,UMOL/KG,,UMOL/KG,,MG/M^3,,UEINSTEIN/M^2*SEC,,%TRANS,
  09AR20141205,AU1402,    91,  1,      0,     24,2,20150112,1856,-66.8310, 145.6413,  518,      7.5,  -1.1476,  33.9947,2,-999.0000,9,    357.0,2,   -999.0,9,  -999.00,9,  -999.00,9,  -999.00,9,   -999.0,9,   -999.0,9,    8.561,2,   24.250,2,   86.135,2
  09AR20141205,AU1402,    91,  1,      0,     23,2,20150112,1856,-66.8310, 145.6413,  518,      7.5,  -1.1534,  33.9927,2,-999.0000,9,    357.0,2,   -999.0,9,  -999.00,9,  -999.00,9,  -999.00,9,   -999.0,9,   -999.0,9,    7.895,2,   24.380,2,   86.247,2
  09AR20141205,AU1402,    91,  1,      0,     22,2,20150112,1856,-66.8310, 145.6413,  518,      7.4,  -1.1508,  33.9927,2,-999.0000,9,    357.0,2,   -999.0,9,  -999.00,9,  -999.00,9,  -999.00,9,   -999.0,9,   -999.0,9,    7.965,2,   24.510,2,   86.087,2
  09AR20141205,AU1402,    91,  1,      0,     21,2,20150112,1856,-66.8310, 145.6413,  518,      7.3,  -1.1645,  33.9901,2,  34.0042,2,    357.0,2,    357.1,2,  -999.00,9,  -999.00,9,  -999.00,9,   2148.5,2,   2305.7,2,    8.194,2,   25.200,2,   86.044,2
  09AR20141205,AU1402,    91,  1,      0,     20,2,20150112,1856,-66.8310, 145.6413,  518,     15.3,  -1.1526,  34.0256,2,-999.0000,9,    354.0,2,   -999.0,9,  -999.00,9,  -999.00,9,  -999.00,9,   -999.0,9,   -999.0,9,    9.069,2,    5.813,2,   85.952,2
  09AR20141205,AU1402,    91,  1,      0,     19,2,20150112,1856,-66.8310, 145.6413,  518,     15.3,  -1.1469,  34.0425,2,-999.0000,9,    354.0,2,    354.5,2,  -999.00,9,  -999.00,9,  -999.00,9,   2201.2,6,   2322.7,6,    8.250,2,    5.654,2,   85.844,2
  09AR20141205,AU1402,    91,  1,      0,     18,2,20150112,1856,-66.8310, 145.6413,  518,     15.2,  -1.1580,  34.0884,2,-999.0000,9,    354.0,2,   -999.0,9,  -999.00,9,  -999.00,9,  -999.00,9,   -999.0,9,   -999.0,9,    8.956,2,    5.662,2,   85.668,2
  09AR20141205,AU1402,    91,  1,      0,     17,2,20150112,1856,-66.8310, 145.6413,  518,     50.7,  -1.5654,  34.2740,2,  34.2810,2,    324.4,2,    325.4,2,  -999.00,9,  -999.00,9,  -999.00,9,   2154.0,3,   2308.7,2,    6.111,2,    0.000,2,   91.397,2
  09AR20141205,AU1402,    91,  1,      0,     16,2,20150112,1856,-66.8310, 145.6413,  518,     50.5,  -1.5761,  34.2786,2,-999.0000,9,    324.4,2,   -999.0,9,  -999.00,9,  -999.00,9,  -999.00,9,   -999.0,9,   -999.0,9,    5.417,2,    0.000,2,   91.615,2
  09AR20141205,AU1402,    91,  1,      0,     15,2,20150112,1856,-66.8310, 145.6413,  518,     50.5,  -1.5787,  34.2800,2,-999.0000,9,    324.4,2,   -999.0,9,  -999.00,9,  -999.00,9,  -999.00,9,   -999.0,9,   -999.0,9,    5.706,2,    0.000,2,   91.406,2
  09AR20141205,AU1402,    91,  1,      0,     14,2,20150112,1856,-66.8310, 145.6413,  518,     50.3,  -1.5788,  34.2805,2,-999.0000,9,    324.4,2,   -999.0,9,  -999.00,9,  -999.00,9,  -999.00,9,   -999.0,9,   -999.0,9,    5.372,2,    0.000,2,   91.510,2
  09AR20141205,AU1402,    91,  1,      0,     13,2,20150112,1856,-66.8310, 145.6413,  518,    100.7,  -1.6941,  34.4130,2,  34.4111,2,    301.1,2,    301.9,2,  -999.00,9,  -999.00,9,  -999.00,9,   2226.4,2,   2329.8,2,    0.767,2,    0.000,2,   96.887,2
  09AR20141205,AU1402,    91,  1,      0,     12,2,20150112,1856,-66.8310, 145.6413,  518,    101.0,  -1.6958,  34.4132,2,-999.0000,9,    301.1,2,   -999.0,9,  -999.00,9,  -999.00,9,  -999.00,9,   -999.0,9,   -999.0,9,    0.871,2,    0.000,2,   97.022,2
  09AR20141205,AU1402,    91,  1,      0,     11,2,20150112,1856,-66.8310, 145.6413,  518,    150.5,  -1.7766,  34.4491,2,-999.0000,9,    298.8,2,    299.6,2,  -999.00,9,  -999.00,9,  -999.00,9,   2230.5,2,   2329.8,2,    0.166,2,    0.000,2,   98.062,2
  09AR20141205,AU1402,    91,  1,      0,     10,2,20150112,1856,-66.8310, 145.6413,  518,    150.3,  -1.7754,  34.4485,2,-999.0000,9,    298.8,2,   -999.0,9,  -999.00,9,  -999.00,9,  -999.00,9,   -999.0,9,   -999.0,9,    0.143,2,    0.000,2,   98.063,2
  09AR20141205,AU1402,    91,  1,      0,      9,2,20150112,1856,-66.8310, 145.6413,  518,    200.1,  -1.7959,  34.4721,2,  34.4715,2,    299.5,2,    299.6,2,  -999.00,9,  -999.00,9,  -999.00,9,   2232.5,2,   2332.8,6,    0.013,2,    0.000,2,   98.484,2
  09AR20141205,AU1402,    91,  1,      0,      8,2,20150112,1856,-66.8310, 145.6413,  518,    200.9,  -1.7958,  34.4721,2,-999.0000,9,    299.5,2,   -999.0,9,  -999.00,9,  -999.00,9,  -999.00,9,   -999.0,9,   -999.0,9,    0.098,2,    0.000,2,   98.463,2
  09AR20141205,AU1402,    91,  1,      0,      7,2,20150112,1856,-66.8310, 145.6413,  518,    300.7,  -1.9075,  34.5122,2,-999.0000,9,    304.9,2,    304.2,2,  -999.00,9,  -999.00,9,  -999.00,9,   2233.5,2,   2334.0,2,   -0.061,2,    0.000,2,   98.596,2
  09AR20141205,AU1402,    91,  1,      0,      6,2,20150112,1856,-66.8310, 145.6413,  518,    301.1,  -1.9081,  34.5121,2,-999.0000,9,    305.0,2,   -999.0,9,  -999.00,9,  -999.00,9,  -999.00,9,   -999.0,9,   -999.0,9,   -0.056,2,    0.000,2,   98.571,2
  09AR20141205,AU1402,    91,  1,      0,      5,2,20150112,1856,-66.8310, 145.6413,  518,    400.9,  -1.9038,  34.5340,2,  34.5332,2,    304.8,2,    304.6,2,  -999.00,9,  -999.00,9,  -999.00,9,   2236.4,2,   2334.9,2,   -0.069,2,    0.000,2,   98.398,2
  09AR20141205,AU1402,    91,  1,      0,      4,2,20150112,1856,-66.8310, 145.6413,  518,    400.4,  -1.9043,  34.5337,2,-999.0000,9,    304.8,2,   -999.0,9,  -999.00,9,  -999.00,9,  -999.00,9,   -999.0,9,   -999.0,9,   -0.068,2,    0.000,2,   98.376,2
  09AR20141205,AU1402,    91,  1,      0,      3,2,20150112,1856,-66.8310, 145.6413,  518,    400.3,  -1.9043,  34.5337,2,-999.0000,9,    304.8,2,   -999.0,9,  -999.00,9,  -999.00,9,  -999.00,9,   -999.0,9,   -999.0,9,   -0.073,2,    0.000,2,   98.374,2
  09AR20141205,AU1402,    91,  1,      0,      2,2,20150112,1856,-66.8310, 145.6413,  518,    400.3,  -1.9043,  34.5336,2,-999.0000,9,    304.8,2,   -999.0,9,  -999.00,9,  -999.00,9,  -999.00,9,   -999.0,9,   -999.0,9,   -0.076,2,    0.000,2,   98.374,2
  09AR20141205,AU1402,    91,  1,      0,      1,2,20150112,1856,-66.8310, 145.6413,  518,    516.6,  -1.8934,  34.5979,2,  34.5960,2,    305.8,2,    305.4,2,  -999.00,9,  -999.00,9,  -999.00,9,   2240.4,2,   2340.4,2,   -0.030,2,    0.000,2,   98.355,2
  09AR20141205,AU1402,    92,  1,      0,     24,2,20150112,2104,-66.7747, 145.8222,  435,      7.6,  -0.7538,  34.1930,2,-999.0000,9,    360.2,2,   -999.0,9,  -999.00,9,  -999.00,9,  -999.00,9,   -999.0,9,   -999.0,9,    7.059,2,   74.380,2,   84.536,2
  09AR20141205,AU1402,    92,  1,      0,     23,2,20150112,2104,-66.7747, 145.8222,  435,      7.6,  -0.7535,  34.1931,2,-999.0000,9,    360.2,2,   -999.0,9,  -999.00,9,  -999.00,9,  -999.00,9,   -999.0,9,   -999.0,9,    6.561,2,   73.840,2,   84.169,2
  09AR20141205,AU1402,    92,  1,      0,     22,2,20150112,2104,-66.7747, 145.8222,  435,      7.6,  -0.7487,  34.1825,2,-999.0000,9,    360.2,2,   -999.0,9,  -999.00,9,  -999.00,9,  -999.00,9,   -999.0,9,   -999.0,9,    7.292,2,   73.240,2,   84.285,2
  09AR20141205,AU1402,    92,  1,      0,     21,2,20150112,2104,-66.7747, 145.8222,  435,      7.5,  -0.7532,  34.1703,2,  34.1661,2,    360.2,2,    359.9,2,  -999.00,9,    22.29,2,     1.57,3,   2161.4,2,   2317.5,2,    7.522,2,   75.730,2,   84.613,2
  09AR20141205,AU1402,    92,  1,      0,     20,2,20150112,2104,-66.7747, 145.8222,  435,      7.4,  -0.7588,  34.1718,2,-999.0000,9,    360.2,2,   -999.0,9,  -999.00,9,  -999.00,9,  -999.00,9,   -999.0,9,   -999.0,9,    6.365,2,   74.870,2,   84.548,2
  09AR20141205,AU1402,    92,  1,      0,     19,2,20150112,2104,-66.7747, 145.8222,  435,     15.4,  -0.7835,  34.2542,2,-999.0000,9,    356.1,2,   -999.0,9,  -999.00,9,  -999.00,9,  -999.00,9,   -999.0,9,   -999.0,9,   14.059,2,   15.080,2,   82.772,2
  09AR20141205,AU1402,    92,  1,      0,     18,2,20150112,2104,-66.7747, 145.8222,  435,     15.2,  -0.7769,  34.2429,2,-999.0000,9,    356.1,2,    359.4,2,  -999.00,9,    22.70,2,     1.63,3,   2166.1,2,   2321.8,2,   13.036,2,   18.510,2,   83.446,2
  09AR20141205,AU1402,    92,  1,      0,     17,2,20150112,2104,-66.7747, 145.8222,  435,     15.9,  -0.7675,  34.2226,2,-999.0000,9,    356.1,2,   -999.0,9,  -999.00,9,  -999.00,9,  -999.00,9,   -999.0,9,   -999.0,9,   12.083,2,   16.130,2,   83.520,2
  09AR20141205,AU1402,    92,  1,      0,     16,2,20150112,2104,-66.7747, 145.8222,  435,     15.8,  -0.7687,  34.2211,2,-999.0000,9,    356.1,2,   -999.0,9,  -999.00,9,  -999.00,9,  -999.00,9,   -999.0,9,   -999.0,9,   12.292,2,   15.790,2,   83.787,2
  09AR20141205,AU1402,    92,  1,      0,     15,2,20150112,2104,-66.7747, 145.8222,  435,     51.0,  -1.0215,  34.3209,2,  34.3216,2,    337.6,2,    335.6,2,  -999.00,9,    25.77,2,     1.75,3,   2196.1,2,   2326.1,2,    6.465,2,    0.000,2,   89.590,2
  09AR20141205,AU1402,    92,  1,      0,     14,2,20150112,2104,-66.7747, 145.8222,  435,     50.9,  -1.0221,  34.3208,2,-999.0000,9,    337.6,2,   -999.0,9,  -999.00,9,  -999.00,9,  -999.00,9,   -999.0,9,   -999.0,9,    6.231,2,    0.000,2,   89.734,2
  09AR20141205,AU1402,    92,  1,      0,     13,2,20150112,2104,-66.7747, 145.8222,  435,     50.9,  -1.0218,  34.3208,2,-999.0000,9,    337.6,2,   -999.0,9,  -999.00,9,  -999.00,9,  -999.00,9,   -999.0,9,   -999.0,9,    6.381,2,    0.000,2,   89.868,2
  09AR20141205,AU1402,    92,  1,      0,     12,2,20150112,2104,-66.7747, 145.8222,  435,     50.9,  -1.0246,  34.3208,2,-999.0000,9,    337.6,2,   -999.0,9,  -999.00,9,  -999.00,9,  -999.00,9,   -999.0,9,   -999.0,9,    6.172,2,    0.000,2,   90.031,2
  09AR20141205,AU1402,    92,  1,      0,     11,2,20150112,2104,-66.7747, 145.8222,  435,    101.5,  -1.5007,  34.3935,2,-999.0000,9,    301.6,2,   -999.0,9,  -999.00,9,  -999.00,9,  -999.00,9,   2218.6,6,   2327.4,6,    3.410,2,    0.000,2,   94.321,2
  09AR20141205,AU1402,    92,  1,      0,     10,2,20150112,2104,-66.7747, 145.8222,  435,    101.4,  -1.4969,  34.3926,2,-999.0000,9,    301.6,2,   -999.0,9,  -999.00,9,  -999.00,9,  -999.00,9,   -999.0,9,   -999.0,9,    2.906,2,    0.000,2,   94.352,2
  09AR20141205,AU1402,    92,  1,      0,      9,2,20150112,2104,-66.7747, 145.8222,  435,    101.3,  -1.4784,  34.3901,2,  34.3921,2,    301.6,2,    308.3,2,  -999.00,9,  -999.00,9,  -999.00,9,   2232.9,2,   2335.2,3,    2.924,2,    0.000,2,   94.085,2
  09AR20141205,AU1402,    92,  1,      0,      8,2,20150112,2104,-66.7747, 145.8222,  435,    101.7,  -1.4938,  34.3921,2,-999.0000,9,    301.6,2,   -999.0,9,  -999.00,9,  -999.00,9,  -999.00,9,   -999.0,9,   -999.0,9,    2.583,2,    0.000,2,   94.226,2
  09AR20141205,AU1402,    92,  1,      0,      7,2,20150112,2104,-66.7747, 145.8222,  435,    200.8,  -1.6482,  34.4823,2,  34.4840,2,    293.5,2,    293.6,2,  -999.00,9,    30.87,2,     2.11,3,   2236.0,2,   2332.0,2,    0.110,2,    0.000,2,   98.268,2
  09AR20141205,AU1402,    92,  1,      0,      6,2,20150112,2104,-66.7747, 145.8222,  435,    200.7,  -1.6476,  34.4823,2,-999.0000,9,    293.5,2,   -999.0,9,  -999.00,9,  -999.00,9,  -999.00,9,   -999.0,9,   -999.0,9,    0.189,2,    0.000,2,   98.247,2
  09AR20141205,AU1402,    92,  1,      0,      5,2,20150112,2104,-66.7747, 145.8222,  435,    300.6,  -1.8277,  34.5241,2,  34.5324,2,    301.1,2,    301.0,2,  -999.00,9,  -999.00,9,  -999.00,9,   2239.0,2,   2337.0,2,    0.010,2,    0.000,2,   98.571,2
  09AR20141205,AU1402,    92,  1,      0,      4,2,20150112,2104,-66.7747, 145.8222,  435,    300.6,  -1.8245,  34.5248,2,-999.0000,9,    301.1,2,   -999.0,9,  -999.00,9,  -999.00,9,  -999.00,9,   -999.0,9,   -999.0,9,   -0.012,2,    0.000,2,   98.549,2
  09AR20141205,AU1402,    92,  1,      0,      3,2,20150112,2104,-66.7747, 145.8222,  435,    375.6,  -1.8880,  34.5686,2,-999.0000,9,    304.2,2,    304.5,2,  -999.00,9,    31.13,2,     2.13,3,   2239.8,2,   2338.6,6,   -0.007,2,    0.000,2,   98.297,2
  09AR20141205,AU1402,    92,  1,      0,      2,2,20150112,2104,-66.7747, 145.8222,  435,    375.5,  -1.8879,  34.5684,2,-999.0000,9,    304.2,2,   -999.0,9,  -999.00,9,  -999.00,9,  -999.00,9,   -999.0,9,   -999.0,9,   -0.028,2,    0.000,2,   98.326,2
  09AR20141205,AU1402,    92,  1,      0,      1,2,20150112,2104,-66.7747, 145.8222,  435,    432.8,  -1.8965,  34.6007,2,  34.5997,2,    306.7,2,    305.8,2,  -999.00,9,    31.09,2,     2.08,3,   -999.0,9,   -999.0,9,   -0.049,2,    0.000,2,   98.301,2
  09AR20141205,AU1402,    93,  1,      0,     24,2,20150112,2242,-66.7120, 145.9667,  345,      7.1,  -0.6543,  34.2251,2,-999.0000,9,    361.0,2,   -999.0,9,  -999.00,9,  -999.00,9,  -999.00,9,   -999.0,9,   -999.0,9,    8.446,2,   72.850,2,   83.638,2
  09AR20141205,AU1402,    93,  1,      0,     23,2,20150112,2242,-66.7120, 145.9667,  345,      7.2,  -0.6565,  34.2251,2,-999.0000,9,    361.0,2,   -999.0,9,  -999.00,9,  -999.00,9,  -999.00,9,   2165.6,2,   2322.1,2,    8.644,2,   72.900,2,   83.614,2
  09AR20141205,AU1402,    93,  1,      0,     22,2,20150112,2242,-66.7120, 145.9667,  345,      7.1,  -0.6538,  34.2255,2,-999.0000,9,    361.0,2,   -999.0,9,  -999.00,9,  -999.00,9,  -999.00,9,   -999.0,9,   -999.0,9,    8.561,2,   73.050,2,   83.521,2
  09AR20141205,AU1402,    93,  1,      0,     21,2,20150112,2242,-66.7120, 145.9667,  345,      7.1,  -0.6508,  34.2257,2,  34.2254,2,    361.0,2,    361.3,2,  -999.00,9,  -999.00,9,  -999.00,9,   2166.0,2,   2323.2,2,    8.477,2,   71.720,2,   83.620,2
  09AR20141205,AU1402,    93,  1,      0,     20,2,20150112,2242,-66.7120, 145.9667,  345,     15.6,  -0.6957,  34.2257,2,-999.0000,9,    360.7,2,   -999.0,9,  -999.00,9,  -999.00,9,  -999.00,9,   -999.0,9,   -999.0,9,   13.157,2,   13.980,2,   83.115,2
  09AR20141205,AU1402,    93,  1,      0,     19,2,20150112,2242,-66.7120, 145.9667,  345,     15.5,  -0.6889,  34.2257,2,-999.0000,9,    360.7,2,    360.3,2,  -999.00,9,  -999.00,9,  -999.00,9,   2187.5,2,   2321.6,2,   11.321,2,   14.380,2,   83.690,2
  09AR20141205,AU1402,    93,  1,      0,     18,2,20150112,2242,-66.7120, 145.9667,  345,     50.3,  -1.0204,  34.2692,2,-999.0000,9,    338.2,2,   -999.0,9,  -999.00,9,  -999.00,9,  -999.00,9,   -999.0,9,   -999.0,9,    9.021,2,    0.018,2,   87.796,2
  09AR20141205,AU1402,    93,  1,      0,     17,2,20150112,2242,-66.7120, 145.9667,  345,     50.6,  -1.0222,  34.2701,2,-999.0000,9,    338.2,2,    337.6,2,  -999.00,9,  -999.00,9,  -999.00,9,   2209.3,2,   2327.9,2,   10.011,2,    0.033,2,   87.061,2
  09AR20141205,AU1402,    93,  1,      0,     16,2,20150112,2242,-66.7120, 145.9667,  345,     50.4,  -1.0216,  34.2697,2,-999.0000,9,    338.2,2,   -999.0,9,  -999.00,9,  -999.00,9,  -999.00,9,   -999.0,9,   -999.0,9,    8.480,2,    0.026,2,   87.489,2
  09AR20141205,AU1402,    93,  1,      0,     15,2,20150112,2242,-66.7120, 145.9667,  345,    100.9,  -1.2289,  34.3752,2,-999.0000,9,    317.2,2,    316.2,2,  -999.00,9,  -999.00,9,  -999.00,9,   2227.4,2,   2329.3,2,    3.313,2,    0.000,2,   93.075,2
  09AR20141205,AU1402,    93,  1,      0,     14,2,20150112,2242,-66.7120, 145.9667,  345,    100.9,  -1.2286,  34.3751,2,-999.0000,9,    317.2,2,   -999.0,9,  -999.00,9,  -999.00,9,  -999.00,9,   -999.0,9,   -999.0,9,    3.049,2,    0.000,2,   93.138,2
  09AR20141205,AU1402,    93,  1,      0,     13,2,20150112,2242,-66.7120, 145.9667,  345,    151.0,  -1.5486,  34.4408,2,  34.4411,2,    297.8,2,    298.2,2,  -999.00,9,  -999.00,9,  -999.00,9,   -999.0,9,   -999.0,9,    0.817,2,    0.000,2,   97.339,2
  09AR20141205,AU1402,    93,  1,      0,     12,2,20150112,2242,-66.7120, 145.9667,  345,    150.9,  -1.5490,  34.4410,2,-999.0000,9,    297.8,2,   -999.0,9,  -999.00,9,  -999.00,9,  -999.00,9,   -999.0,9,   -999.0,9,    0.672,2,    0.000,2,   97.302,2
  09AR20141205,AU1402,    93,  1,      0,     11,2,20150112,2242,-66.7120, 145.9667,  345,    150.9,  -1.5492,  34.4411,2,-999.0000,9,    297.8,2,   -999.0,9,  -999.00,9,  -999.00,9,  -999.00,9,   -999.0,9,   -999.0,9,    0.735,2,    0.000,2,   97.307,2
  09AR20141205,AU1402,    93,  1,      0,     10,2,20150112,2242,-66.7120, 145.9667,  345,    150.8,  -1.5495,  34.4411,2,-999.0000,9,    297.8,2,   -999.0,9,  -999.00,9,  -999.00,9,  -999.00,9,   -999.0,9,   -999.0,9,    0.558,2,    0.000,2,   97.311,2
  09AR20141205,AU1402,    93,  1,      0,      9,2,20150112,2242,-66.7120, 145.9667,  345,    250.5,  -1.3370,  34.5176,2,  34.5166,2,    281.8,2,    280.9,2,  -999.00,9,  -999.00,9,  -999.00,9,   2238.8,6,   2334.3,6,    0.191,2,    0.000,2,   98.151,2
  09AR20141205,AU1402,    93,  1,      0,      8,2,20150112,2242,-66.7120, 145.9667,  345,    250.4,  -1.3374,  34.5175,2,-999.0000,9,    281.8,2,   -999.0,9,  -999.00,9,  -999.00,9,  -999.00,9,   -999.0,9,   -999.0,9,    0.106,2,    0.000,2,   98.124,2
  09AR20141205,AU1402,    93,  1,      0,      7,2,20150112,2242,-66.7120, 145.9667,  345,    250.6,  -1.3376,  34.5177,2,-999.0000,9,    281.8,2,   -999.0,9,  -999.00,9,  -999.00,9,  -999.00,9,   -999.0,9,   -999.0,9,    0.105,2,    0.000,2,   98.144,2
  09AR20141205,AU1402,    93,  1,      0,      6,2,20150112,2242,-66.7120, 145.9667,  345,    250.7,  -1.3376,  34.5175,2,-999.0000,9,    281.8,2,   -999.0,9,  -999.00,9,  -999.00,9,  -999.00,9,   -999.0,9,   -999.0,9,    0.098,2,    0.000,2,   98.183,2
  09AR20141205,AU1402,    93,  1,      0,      5,2,20150112,2242,-66.7120, 145.9667,  345,    300.6,  -1.3871,  34.5375,2,-999.0000,9,    281.1,2,    281.0,2,  -999.00,9,  -999.00,9,  -999.00,9,   2238.9,2,   2335.2,6,    0.063,2,    0.000,2,   98.225,2
  09AR20141205,AU1402,    93,  1,      0,      4,2,20150112,2242,-66.7120, 145.9667,  345,    299.7,  -1.3779,  34.5372,2,-999.0000,9,    281.1,2,   -999.0,9,  -999.00,9,  -999.00,9,  -999.00,9,   -999.0,9,   -999.0,9,    0.085,2,    0.000,2,   98.226,2
  09AR20141205,AU1402,    93,  1,      0,      3,2,20150112,2242,-66.7120, 145.9667,  345,    299.7,  -1.3790,  34.5371,2,-999.0000,9,    281.1,2,   -999.0,9,  -999.00,9,  -999.00,9,  -999.00,9,   -999.0,9,   -999.0,9,    0.093,2,    0.000,2,   98.173,2
  09AR20141205,AU1402,    93,  1,      0,      2,2,20150112,2242,-66.7120, 145.9667,  345,    299.8,  -1.3762,  34.5373,2,-999.0000,9,    281.1,2,   -999.0,9,  -999.00,9,  -999.00,9,  -999.00,9,   -999.0,9,   -999.0,9,    0.110,2,    0.000,2,   98.237,2
  09AR20141205,AU1402,    93,  1,      0,      1,2,20150112,2242,-66.7120, 145.9667,  345,    339.0,  -1.7597,  34.5690,2,  34.5666,2,    297.0,2,    297.3,2,  -999.00,9,  -999.00,9,  -999.00,9,   2240.8,2,   2338.0,2,    0.147,2,    0.000,2,   97.637,2