BOTTLE,20210329PRINUNIVRMK
EXPOCODE,SECT_ID,STNNBR,CASTNO,SAMPNO,BTLNBR,BTLNBR_FLAG_W,DATE,TIME,LATITUDE,LONGITUDE,DEPTH,CTDPRS,CTDTMP,CTDSAL,CTDSAL_FLAG_W,SALNTY,SALNTY_FLAG_W,CTDOXY,CTDOXY_FLAG_W,OXYGEN,OXYGEN_FLAG_W,SILCAT,SILCAT_FLAG_W,NITRAT,NITRAT_FLAG_W,PHSPHT,PHSPHT_FLAG_W,TCARBN,TCARBN_FLAG_W,ALKALI,ALKALI_FLAG_W,CTDFLUOR,CTDFLUOR_FLAG_W,CTDPAR,CTDPAR_FLAG_W,CTDXMISS,CTDXMISS_FLAG_W
,,,,,,,,,,,METERS,DBAR,ITS-90,PSS-78,,PSS-78,,UMOL/KG,,UMOL/KG,,UMOL/KG,,UMOL/KG,,UMOL/KG,,UMOL/KG,,UMOL/KG,,MG/M^3,,UEINSTEIN/M^2*SEC,,%TRANS,
  09AR20141205,AU1402,    37,  1,      0,     24,2,20150101,1205,-66.7195, 116.5347,  584,      5.5,  -1.8247,  34.2239,2,-999.0000,9,    306.4,2,   -999.0,9,  -999.00,9,  -999.00,9,  -999.00,9,   -999.0,9,   -999.0,9,   -0.089,2,   44.870,2,   98.350,2
  09AR20141205,AU1402,    37,  1,      0,     23,2,20150101,1205,-66.7195, 116.5347,  584,      5.5,  -1.8173,  34.2238,2,-999.0000,9,    306.4,2,   -999.0,9,  -999.00,9,  -999.00,9,  -999.00,9,   -999.0,9,   -999.0,9,   -0.088,2,   44.950,2,   98.349,2
  09AR20141205,AU1402,    37,  1,      0,     22,2,20150101,1205,-66.7195, 116.5347,  584,      5.5,  -1.8238,  34.2240,2,-999.0000,9,    306.4,2,   -999.0,9,  -999.00,9,  -999.00,9,  -999.00,9,   -999.0,9,   -999.0,9,   -0.089,2,   45.400,2,   98.346,2
  09AR20141205,AU1402,    37,  1,      0,     21,2,20150101,1205,-66.7195, 116.5347,  584,      5.4,  -1.8404,  34.2239,2,  34.2234,2,    306.4,2,    306.7,2,    66.50,2,    30.73,2,     2.12,3,   2212.7,2,   2313.7,2,   -0.090,2,   46.110,2,   98.340,2
  09AR20141205,AU1402,    37,  1,      0,     20,2,20150101,1205,-66.7195, 116.5347,  584,     71.0,  -1.8715,  34.2246,2,-999.0000,9,    306.1,2,   -999.0,9,  -999.00,9,  -999.00,9,  -999.00,9,   -999.0,9,   -999.0,9,   -0.054,2,    3.523,2,   98.309,2
  09AR20141205,AU1402,    37,  1,      0,     19,2,20150101,1205,-66.7195, 116.5347,  584,     71.0,  -1.8729,  34.2246,2,-999.0000,9,    306.1,2,   -999.0,9,  -999.00,9,  -999.00,9,  -999.00,9,   -999.0,9,   -999.0,9,   -0.062,2,    3.559,2,   98.319,2
  09AR20141205,AU1402,    37,  1,      0,     18,2,20150101,1205,-66.7195, 116.5347,  584,     70.9,  -1.8708,  34.2247,2,-999.0000,9,    306.1,2,   -999.0,9,  -999.00,9,  -999.00,9,  -999.00,9,   -999.0,9,   -999.0,9,   -0.058,2,    3.575,2,   98.323,2
  09AR20141205,AU1402,    37,  1,      0,     17,2,20150101,1205,-66.7195, 116.5347,  584,     70.9,  -1.8710,  34.2245,2,  34.2262,2,    306.1,2,    305.9,2,    66.60,2,    30.73,2,     2.02,3,   2214.0,2,   2311.8,2,   -0.065,2,    3.593,2,   98.311,2
  09AR20141205,AU1402,    37,  1,      0,     16,2,20150101,1205,-66.7195, 116.5347,  584,    141.0,  -1.8869,  34.2274,2,-999.0000,9,    306.5,2,   -999.0,9,  -999.00,9,  -999.00,9,  -999.00,9,   -999.0,9,   -999.0,9,   -0.053,2,    0.299,2,   98.348,2
  09AR20141205,AU1402,    37,  1,      0,     15,2,20150101,1205,-66.7195, 116.5347,  584,    141.0,  -1.8873,  34.2273,2,-999.0000,9,    306.3,2,   -999.0,9,  -999.00,9,  -999.00,9,  -999.00,9,   -999.0,9,   -999.0,9,   -0.058,2,    0.299,2,   98.349,2
  09AR20141205,AU1402,    37,  1,      0,     14,2,20150101,1205,-66.7195, 116.5347,  584,    141.0,  -1.8875,  34.2273,2,-999.0000,9,    306.3,2,   -999.0,9,  -999.00,9,  -999.00,9,  -999.00,9,   -999.0,9,   -999.0,9,   -0.055,2,    0.300,2,   98.352,2
  09AR20141205,AU1402,    37,  1,      0,     13,2,20150101,1205,-66.7195, 116.5347,  584,    140.9,  -1.8874,  34.2272,2,  34.2261,2,    306.3,2,    305.9,2,    66.60,2,    30.77,2,     2.12,3,   2212.6,2,   2310.2,2,   -0.052,2,    0.299,2,   98.343,2
  09AR20141205,AU1402,    37,  1,      0,     12,2,20150101,1205,-66.7195, 116.5347,  584,    301.2,  -1.8364,  34.2439,2,-999.0000,9,    311.2,2,   -999.0,9,  -999.00,9,  -999.00,9,  -999.00,9,   -999.0,9,   -999.0,9,    0.000,2,    0.001,2,   98.382,2
  09AR20141205,AU1402,    37,  1,      0,     11,2,20150101,1205,-66.7195, 116.5347,  584,    301.2,  -1.8364,  34.2441,2,-999.0000,9,    311.2,2,   -999.0,9,  -999.00,9,  -999.00,9,  -999.00,9,   -999.0,9,   -999.0,9,    0.002,2,    0.001,2,   98.383,2
  09AR20141205,AU1402,    37,  1,      0,     10,2,20150101,1205,-66.7195, 116.5347,  584,    301.2,  -1.8364,  34.2440,2,-999.0000,9,    311.2,2,   -999.0,9,  -999.00,9,  -999.00,9,  -999.00,9,   -999.0,9,   -999.0,9,    0.003,2,    0.001,2,   98.385,2
  09AR20141205,AU1402,    37,  1,      0,      9,2,20150101,1205,-66.7195, 116.5347,  584,    301.1,  -1.8365,  34.2437,2,  34.2431,2,    311.2,2,    311.4,2,    64.90,2,    30.60,2,     2.03,3,   2213.3,2,   2313.9,6,    0.004,2,    0.001,2,   98.357,2
  09AR20141205,AU1402,    37,  1,      0,      8,2,20150101,1205,-66.7195, 116.5347,  584,    451.5,  -1.8118,  34.2771,2,-999.0000,9,    309.4,2,   -999.0,9,  -999.00,9,  -999.00,9,  -999.00,9,   -999.0,9,   -999.0,9,   -0.059,2,    0.000,2,   98.555,2
  09AR20141205,AU1402,    37,  1,      0,      7,2,20150101,1205,-66.7195, 116.5347,  584,    451.5,  -1.8118,  34.2771,2,-999.0000,9,    309.4,2,   -999.0,9,  -999.00,9,  -999.00,9,  -999.00,9,   -999.0,9,   -999.0,9,   -0.060,2,    0.000,2,   98.554,2
  09AR20141205,AU1402,    37,  1,      0,      6,2,20150101,1205,-66.7195, 116.5347,  584,    451.5,  -1.8119,  34.2771,2,-999.0000,9,    309.4,2,   -999.0,9,  -999.00,9,  -999.00,9,  -999.00,9,   -999.0,9,   -999.0,9,   -0.062,2,    0.000,2,   98.553,2
  09AR20141205,AU1402,    37,  1,      0,      5,2,20150101,1205,-66.7195, 116.5347,  584,    451.4,  -1.8118,  34.2770,2,  34.2767,2,    309.4,2,    309.5,2,    64.60,2,    30.64,2,     2.12,3,   2215.0,6,   2316.8,6,   -0.060,2,    0.000,2,   98.549,2
  09AR20141205,AU1402,    37,  1,      0,      4,2,20150101,1205,-66.7195, 116.5347,  584,    522.2,  -1.7766,  34.2932,2,-999.0000,9,    307.6,2,   -999.0,9,  -999.00,9,  -999.00,9,  -999.00,9,   -999.0,9,   -999.0,9,   -0.079,2,    0.000,2,   98.588,2
  09AR20141205,AU1402,    37,  1,      0,      3,2,20150101,1205,-66.7195, 116.5347,  584,    522.1,  -1.7766,  34.2933,2,-999.0000,9,    307.6,2,   -999.0,9,  -999.00,9,  -999.00,9,  -999.00,9,   -999.0,9,   -999.0,9,   -0.077,2,    0.000,2,   98.583,2
  09AR20141205,AU1402,    37,  1,      0,      2,2,20150101,1205,-66.7195, 116.5347,  584,    587.7,  -1.6376,  34.3288,2,-999.0000,9,    303.7,2,   -999.0,9,  -999.00,9,  -999.00,9,  -999.00,9,   -999.0,9,   -999.0,9,   -0.090,2,    0.001,2,   98.647,2
  09AR20141205,AU1402,    37,  1,      0,      1,2,20150101,1205,-66.7195, 116.5347,  584,    587.6,  -1.6474,  34.3262,2,  34.3234,2,    303.7,2,    304.0,2,    66.00,2,    30.84,2,     2.13,3,   2218.7,2,   2321.0,2,   -0.091,2,    0.001,2,   98.632,2
  09AR20141205,AU1402,    38,  1,      0,     24,2,20150101,1410,-66.7973, 116.6243,  510,      5.6,  -1.7627,  34.2102,2,-999.0000,9,    318.9,2,   -999.0,9,  -999.00,9,  -999.00,9,  -999.00,9,   -999.0,9,   -999.0,9,    0.044,2,    9.261,2,   98.098,2
  09AR20141205,AU1402,    38,  1,      0,     23,2,20150101,1410,-66.7973, 116.6243,  510,      5.7,  -1.7517,  34.2106,2,-999.0000,9,    318.9,2,   -999.0,9,  -999.00,9,  -999.00,9,  -999.00,9,   -999.0,9,   -999.0,9,    0.050,2,    9.251,2,   98.117,2
  09AR20141205,AU1402,    38,  1,      0,     22,2,20150101,1410,-66.7973, 116.6243,  510,      5.6,  -1.7543,  34.2105,2,-999.0000,9,    318.9,2,   -999.0,9,  -999.00,9,  -999.00,9,  -999.00,9,   -999.0,9,   -999.0,9,    0.038,2,    9.696,2,   98.116,2
  09AR20141205,AU1402,    38,  1,      0,     21,2,20150101,1410,-66.7973, 116.6243,  510,      5.6,  -1.7652,  34.2102,2,  34.2101,2,    318.9,2,    319.1,2,    63.50,2,    30.33,2,     2.09,3,   2209.9,6,   2309.4,6,    0.059,2,   10.240,2,   98.124,2
  09AR20141205,AU1402,    38,  1,      0,     20,2,20150101,1410,-66.7973, 116.6243,  510,     30.9,  -1.7907,  34.2200,2,-999.0000,9,    318.2,2,   -999.0,9,  -999.00,9,  -999.00,9,  -999.00,9,   -999.0,9,   -999.0,9,    0.074,2,    2.934,2,   98.171,2
  09AR20141205,AU1402,    38,  1,      0,     19,2,20150101,1410,-66.7973, 116.6243,  510,     30.9,  -1.7929,  34.2203,2,  34.2197,2,    318.2,2,    318.1,2,    63.40,2,    30.32,2,     2.09,3,   2211.0,2,   2312.1,2,    0.053,2,    2.983,2,   98.170,2
  09AR20141205,AU1402,    38,  1,      0,     18,2,20150101,1410,-66.7973, 116.6243,  510,     65.5,  -1.8013,  34.2238,2,-999.0000,9,    318.2,2,   -999.0,9,  -999.00,9,  -999.00,9,  -999.00,9,   -999.0,9,   -999.0,9,    0.058,2,    1.019,2,   98.183,2
  09AR20141205,AU1402,    38,  1,      0,     17,2,20150101,1410,-66.7973, 116.6243,  510,     65.5,  -1.8018,  34.2237,2,  34.2244,2,    318.2,2,    318.1,2,    63.40,2,    30.34,2,     2.09,3,   2210.8,2,   2314.2,2,    0.060,2,    1.033,2,   98.183,2
  09AR20141205,AU1402,    38,  1,      0,     16,2,20150101,1410,-66.7973, 116.6243,  510,    160.3,  -1.8071,  34.2372,2,-999.0000,9,    316.7,2,   -999.0,9,  -999.00,9,  -999.00,9,  -999.00,9,   -999.0,9,   -999.0,9,    0.026,2,    0.001,2,   98.299,2
  09AR20141205,AU1402,    38,  1,      0,     15,2,20150101,1410,-66.7973, 116.6243,  510,    160.3,  -1.8081,  34.2373,2,-999.0000,9,    316.7,2,   -999.0,9,  -999.00,9,  -999.00,9,  -999.00,9,   -999.0,9,   -999.0,9,    0.020,2,    0.001,2,   98.314,2
  09AR20141205,AU1402,    38,  1,      0,     14,2,20150101,1410,-66.7973, 116.6243,  510,    160.1,  -1.8166,  34.2391,2,-999.0000,9,    316.7,2,   -999.0,9,  -999.00,9,  -999.00,9,  -999.00,9,   -999.0,9,   -999.0,9,    0.008,2,    0.001,2,   98.332,2
  09AR20141205,AU1402,    38,  1,      0,     13,2,20150101,1410,-66.7973, 116.6243,  510,    161.0,  -1.8173,  34.2395,2,  34.2379,2,    316.7,2,    317.0,2,    63.30,2,    30.43,2,     2.09,3,   2211.2,2,   2313.4,2,    0.022,2,    0.001,2,   98.326,2
  09AR20141205,AU1402,    38,  1,      0,     12,2,20150101,1410,-66.7973, 116.6243,  510,    321.0,  -1.8702,  34.2637,2,-999.0000,9,    314.0,2,   -999.0,9,  -999.00,9,  -999.00,9,  -999.00,9,   -999.0,9,   -999.0,9,   -0.039,2,    0.001,2,   98.422,2
  09AR20141205,AU1402,    38,  1,      0,     11,2,20150101,1410,-66.7973, 116.6243,  510,    321.0,  -1.8718,  34.2640,2,-999.0000,9,    314.0,2,   -999.0,9,  -999.00,9,  -999.00,9,  -999.00,9,   -999.0,9,   -999.0,9,   -0.045,2,    0.001,2,   98.415,2
  09AR20141205,AU1402,    38,  1,      0,     10,2,20150101,1410,-66.7973, 116.6243,  510,    320.8,  -1.8720,  34.2643,2,-999.0000,9,    314.0,2,   -999.0,9,  -999.00,9,  -999.00,9,  -999.00,9,   -999.0,9,   -999.0,9,   -0.051,2,    0.001,2,   98.427,2
  09AR20141205,AU1402,    38,  1,      0,      9,2,20150101,1410,-66.7973, 116.6243,  510,    321.1,  -1.8722,  34.2645,2,  34.2604,2,    314.0,2,    313.7,2,    63.50,2,    30.63,2,     2.10,3,   2215.8,2,   2316.7,2,   -0.037,2,    0.001,2,   98.428,2
  09AR20141205,AU1402,    38,  1,      0,      8,2,20150101,1410,-66.7973, 116.6243,  510,    420.9,  -1.7697,  34.3028,2,-999.0000,9,    309.3,2,   -999.0,9,  -999.00,9,  -999.00,9,  -999.00,9,   -999.0,9,   -999.0,9,   -0.088,2,    0.000,2,   98.662,2
  09AR20141205,AU1402,    38,  1,      0,      7,2,20150101,1410,-66.7973, 116.6243,  510,    421.2,  -1.7708,  34.3029,2,-999.0000,9,    309.3,2,   -999.0,9,  -999.00,9,  -999.00,9,  -999.00,9,   -999.0,9,   -999.0,9,   -0.086,2,    0.000,2,   98.676,2
  09AR20141205,AU1402,    38,  1,      0,      6,2,20150101,1410,-66.7973, 116.6243,  510,    421.1,  -1.7705,  34.3030,2,-999.0000,9,    309.3,2,   -999.0,9,  -999.00,9,  -999.00,9,  -999.00,9,   -999.0,9,   -999.0,9,   -0.088,2,    0.000,2,   98.654,2
  09AR20141205,AU1402,    38,  1,      0,      5,2,20150101,1410,-66.7973, 116.6243,  510,    421.0,  -1.7647,  34.3023,2,  34.3035,2,    309.3,2,    309.4,2,  -999.00,9,  -999.00,9,  -999.00,9,   2216.8,2,   2316.5,6,   -0.089,2,    0.000,2,   98.671,2
  09AR20141205,AU1402,    38,  1,      0,      4,2,20150101,1410,-66.7973, 116.6243,  510,    451.2,  -1.7931,  34.3092,2,-999.0000,9,    311.8,2,   -999.0,9,  -999.00,9,  -999.00,9,  -999.00,9,   -999.0,9,   -999.0,9,   -0.087,2,    0.001,2,   98.674,2
  09AR20141205,AU1402,    38,  1,      0,      3,2,20150101,1410,-66.7973, 116.6243,  510,    451.3,  -1.7913,  34.3089,2,-999.0000,9,    311.8,2,   -999.0,9,  -999.00,9,  -999.00,9,  -999.00,9,   -999.0,9,   -999.0,9,   -0.093,2,    0.001,2,   98.675,2
  09AR20141205,AU1402,    38,  1,      0,      2,2,20150101,1410,-66.7973, 116.6243,  510,    505.0,  -1.7655,  34.3217,2,-999.0000,9,    311.8,2,   -999.0,9,  -999.00,9,  -999.00,9,  -999.00,9,   -999.0,9,   -999.0,9,   -0.087,2,    0.001,2,   98.528,2
  09AR20141205,AU1402,    38,  1,      0,      1,2,20150101,1410,-66.7973, 116.6243,  510,    505.2,  -1.7656,  34.3217,2,  34.3212,2,    311.8,2,    311.6,2,    62.80,2,    30.66,2,     2.10,3,   2216.6,2,   2318.5,2,   -0.095,2,    0.001,2,   98.550,2
  09AR20141205,AU1402,    39,  1,      0,     24,2,20150101,1630,-66.7983, 116.7870,  428,      5.6,  -1.7219,  34.2324,2,-999.0000,9,    317.4,2,   -999.0,9,  -999.00,9,  -999.00,9,  -999.00,9,   -999.0,9,   -999.0,9,   -0.016,2,    7.783,2,   98.277,2
  09AR20141205,AU1402,    39,  1,      0,     23,2,20150101,1630,-66.7983, 116.7870,  428,      5.6,  -1.7234,  34.2316,2,-999.0000,9,    317.4,2,   -999.0,9,  -999.00,9,  -999.00,9,  -999.00,9,   -999.0,9,   -999.0,9,   -0.012,2,    7.789,2,   98.288,2
  09AR20141205,AU1402,    39,  1,      0,     22,2,20150101,1630,-66.7983, 116.7870,  428,      5.5,  -1.7247,  34.2320,2,-999.0000,9,    317.4,2,   -999.0,9,  -999.00,9,  -999.00,9,  -999.00,9,   -999.0,9,   -999.0,9,   -0.020,2,    7.791,2,   98.290,2
  09AR20141205,AU1402,    39,  1,      0,     21,2,20150101,1630,-66.7983, 116.7870,  428,      5.4,  -1.7383,  34.2340,2,  34.2338,2,    317.4,2,    317.5,2,    63.60,2,    30.48,2,     2.10,3,   2213.2,2,   2312.0,2,   -0.015,2,    7.770,2,   98.281,2
  09AR20141205,AU1402,    39,  1,      0,     20,2,20150101,1630,-66.7983, 116.7870,  428,      5.4,  -1.7486,  34.2328,2,-999.0000,9,    317.4,2,   -999.0,9,  -999.00,9,  -999.00,9,  -999.00,9,   -999.0,9,   -999.0,9,   -0.008,2,    7.780,2,   98.261,2
  09AR20141205,AU1402,    39,  1,      0,     19,2,20150101,1630,-66.7983, 116.7870,  428,     41.0,  -1.7991,  34.2457,2,  34.2458,2,    315.6,2,    315.3,2,    63.90,2,    30.58,2,     2.10,3,   2214.3,2,   2314.6,2,   -0.013,2,    1.508,2,   98.300,2
  09AR20141205,AU1402,    39,  1,      0,     18,2,20150101,1630,-66.7983, 116.7870,  428,     40.9,  -1.7997,  34.2458,2,-999.0000,9,    315.6,2,   -999.0,9,  -999.00,9,  -999.00,9,  -999.00,9,   -999.0,9,   -999.0,9,   -0.019,2,    1.502,2,   98.299,2
  09AR20141205,AU1402,    39,  1,      0,     17,2,20150101,1630,-66.7983, 116.7870,  428,     80.7,  -1.8428,  34.2546,2,  34.2550,2,    313.9,2,    314.1,2,    64.10,2,    30.67,2,     2.10,3,   2214.9,6,   2315.8,6,    0.007,2,    0.347,2,   98.338,2
  09AR20141205,AU1402,    39,  1,      0,     16,2,20150101,1630,-66.7983, 116.7870,  428,     80.8,  -1.8454,  34.2551,2,-999.0000,9,    313.9,2,   -999.0,9,  -999.00,9,  -999.00,9,  -999.00,9,   -999.0,9,   -999.0,9,   -0.018,2,    0.338,2,   98.345,2
  09AR20141205,AU1402,    39,  1,      0,     15,2,20150101,1630,-66.7983, 116.7870,  428,     81.0,  -1.8453,  34.2551,2,-999.0000,9,    313.8,2,   -999.0,9,  -999.00,9,  -999.00,9,  -999.00,9,   -999.0,9,   -999.0,9,   -0.008,2,    0.334,2,   98.322,2
  09AR20141205,AU1402,    39,  1,      0,     14,2,20150101,1630,-66.7983, 116.7870,  428,     80.9,  -1.8462,  34.2554,2,-999.0000,9,    313.9,2,   -999.0,9,  -999.00,9,  -999.00,9,  -999.00,9,   -999.0,9,   -999.0,9,   -0.013,2,    0.333,2,   98.352,2
  09AR20141205,AU1402,    39,  1,      0,     13,2,20150101,1630,-66.7983, 116.7870,  428,    120.7,  -1.8564,  34.2589,2,  34.2565,2,    313.6,2,    313.4,2,    64.20,2,    30.68,2,     2.11,3,   2222.3,2,   2315.7,2,   -0.018,2,    0.029,2,   98.358,2
  09AR20141205,AU1402,    39,  1,      0,     12,2,20150101,1630,-66.7983, 116.7870,  428,    120.9,  -1.8557,  34.2589,2,-999.0000,9,    313.6,2,   -999.0,9,  -999.00,9,  -999.00,9,  -999.00,9,   -999.0,9,   -999.0,9,   -0.011,2,    0.029,2,   98.372,2
  09AR20141205,AU1402,    39,  1,      0,     11,2,20150101,1630,-66.7983, 116.7870,  428,    120.8,  -1.8554,  34.2587,2,-999.0000,9,    313.6,2,   -999.0,9,  -999.00,9,  -999.00,9,  -999.00,9,   -999.0,9,   -999.0,9,   -0.016,2,    0.029,2,   98.365,2
  09AR20141205,AU1402,    39,  1,      0,     10,2,20150101,1630,-66.7983, 116.7870,  428,    120.8,  -1.8552,  34.2586,2,-999.0000,9,    313.6,2,   -999.0,9,  -999.00,9,  -999.00,9,  -999.00,9,   -999.0,9,   -999.0,9,   -0.028,2,    0.028,2,   98.365,2
  09AR20141205,AU1402,    39,  1,      0,      9,2,20150101,1630,-66.7983, 116.7870,  428,    200.8,  -1.8638,  34.2622,2,  34.2626,2,    313.5,2,    313.1,2,  -999.00,9,  -999.00,9,  -999.00,9,   2215.8,2,   2313.6,6,   -0.035,2,    0.001,2,   98.389,2
  09AR20141205,AU1402,    39,  1,      0,      8,2,20150101,1630,-66.7983, 116.7870,  428,    200.7,  -1.8636,  34.2622,2,-999.0000,9,    313.5,2,   -999.0,9,  -999.00,9,  -999.00,9,  -999.00,9,   -999.0,9,   -999.0,9,   -0.038,2,    0.001,2,   98.392,2
  09AR20141205,AU1402,    39,  1,      0,      7,2,20150101,1630,-66.7983, 116.7870,  428,    200.7,  -1.8635,  34.2624,2,-999.0000,9,    313.5,2,   -999.0,9,  -999.00,9,  -999.00,9,  -999.00,9,   -999.0,9,   -999.0,9,   -0.044,2,    0.001,2,   98.391,2
  09AR20141205,AU1402,    39,  1,      0,      6,2,20150101,1630,-66.7983, 116.7870,  428,    200.7,  -1.8639,  34.2623,2,-999.0000,9,    313.5,2,   -999.0,9,  -999.00,9,  -999.00,9,  -999.00,9,   -999.0,9,   -999.0,9,   -0.047,2,    0.001,2,   98.393,2
  09AR20141205,AU1402,    39,  1,      0,      5,2,20150101,1630,-66.7983, 116.7870,  428,    300.7,  -1.8576,  34.2724,2,  34.2718,2,    313.8,2,    314.0,2,    63.50,2,    30.60,2,     2.10,3,   2215.2,2,   2316.2,2,   -0.043,2,    0.001,2,   98.442,2
  09AR20141205,AU1402,    39,  1,      0,      4,2,20150101,1630,-66.7983, 116.7870,  428,    300.7,  -1.8575,  34.2723,2,-999.0000,9,    313.8,2,   -999.0,9,  -999.00,9,  -999.00,9,  -999.00,9,   -999.0,9,   -999.0,9,   -0.045,2,    0.001,2,   98.419,2
  09AR20141205,AU1402,    39,  1,      0,      3,2,20150101,1630,-66.7983, 116.7870,  428,    300.7,  -1.8576,  34.2724,2,-999.0000,9,    313.8,2,   -999.0,9,  -999.00,9,  -999.00,9,  -999.00,9,   -999.0,9,   -999.0,9,   -0.046,2,    0.001,2,   98.440,2
  09AR20141205,AU1402,    39,  1,      0,      2,2,20150101,1630,-66.7983, 116.7870,  428,    300.7,  -1.8575,  34.2723,2,-999.0000,9,    313.8,2,   -999.0,9,  -999.00,9,  -999.00,9,  -999.00,9,   -999.0,9,   -999.0,9,   -0.045,2,    0.001,2,   98.449,2
  09AR20141205,AU1402,    39,  1,      0,      1,2,20150101,1630,-66.7983, 116.7870,  428,    421.0,  -1.8379,  34.2965,2,  34.2945,2,    314.4,2,    314.0,2,    62.40,2,    30.56,2,     2.10,3,   2218.1,2,   2314.0,2,   -0.069,2,    0.001,2,   98.510,2