BOTTLE,20210329PRINUNIVRMK
EXPOCODE,SECT_ID,STNNBR,CASTNO,SAMPNO,BTLNBR,BTLNBR_FLAG_W,DATE,TIME,LATITUDE,LONGITUDE,DEPTH,CTDPRS,CTDTMP,CTDSAL,CTDSAL_FLAG_W,SALNTY,SALNTY_FLAG_W,CTDOXY,CTDOXY_FLAG_W,OXYGEN,OXYGEN_FLAG_W,SILCAT,SILCAT_FLAG_W,NITRAT,NITRAT_FLAG_W,PHSPHT,PHSPHT_FLAG_W,TCARBN,TCARBN_FLAG_W,ALKALI,ALKALI_FLAG_W,CTDFLUOR,CTDFLUOR_FLAG_W,CTDPAR,CTDPAR_FLAG_W,CTDXMISS,CTDXMISS_FLAG_W
,,,,,,,,,,,METERS,DBAR,ITS-90,PSS-78,,PSS-78,,UMOL/KG,,UMOL/KG,,UMOL/KG,,UMOL/KG,,UMOL/KG,,UMOL/KG,,UMOL/KG,,MG/M^3,,UEINSTEIN/M^2*SEC,,%TRANS,
  09AR20141205,AU1402,    52,  1,      0,     24,2,20150103,2258,-66.3297, 119.1483,  843,      7.8,  -1.8243,  34.1850,2,-999.0000,9,    322.8,2,   -999.0,9,  -999.00,9,  -999.00,9,  -999.00,9,   -999.0,9,   -999.0,9,   -0.053,2,  156.600,2,   98.226,2
  09AR20141205,AU1402,    52,  1,      0,     23,2,20150103,2258,-66.3297, 119.1483,  843,      7.8,  -1.8257,  34.1846,2,-999.0000,9,    322.8,2,   -999.0,9,  -999.00,9,  -999.00,9,  -999.00,9,   -999.0,9,   -999.0,9,   -0.066,2,  156.000,2,   98.202,2
  09AR20141205,AU1402,    52,  1,      0,     22,2,20150103,2258,-66.3297, 119.1483,  843,      7.7,  -1.8282,  34.1852,2,-999.0000,9,    322.8,2,   -999.0,9,  -999.00,9,  -999.00,9,  -999.00,9,   -999.0,9,   -999.0,9,   -0.064,2,  155.200,2,   98.206,2
  09AR20141205,AU1402,    52,  1,      0,     21,2,20150103,2258,-66.3297, 119.1483,  843,      7.7,  -1.8310,  34.1903,2,  34.1988,2,    322.8,2,    321.4,2,    62.80,2,    29.62,2,     2.07,3,   2206.9,2,   2310.1,2,   -0.058,2,  156.100,2,   98.210,2
  09AR20141205,AU1402,    52,  1,      0,     20,2,20150103,2258,-66.3297, 119.1483,  843,     15.5,  -1.8304,  34.2003,2,-999.0000,9,    318.4,2,   -999.0,9,  -999.00,9,  -999.00,9,  -999.00,9,   -999.0,9,   -999.0,9,   -0.056,2,  103.900,2,   98.265,2
  09AR20141205,AU1402,    52,  1,      0,     19,2,20150103,2258,-66.3297, 119.1483,  843,     15.4,  -1.8330,  34.2049,2,  34.2193,2,    318.4,2,    316.7,2,    64.00,2,    29.71,2,     2.01,3,   2210.6,6,   2312.3,6,   -0.058,2,  111.000,2,   98.266,2
  09AR20141205,AU1402,    52,  1,      0,     18,2,20150103,2258,-66.3297, 119.1483,  843,     20.0,  -1.8448,  34.2271,2,-999.0000,9,    317.8,2,   -999.0,9,  -999.00,9,  -999.00,9,  -999.00,9,   -999.0,9,   -999.0,9,   -0.049,2,   80.710,2,   98.364,2
  09AR20141205,AU1402,    52,  1,      0,     17,2,20150103,2258,-66.3297, 119.1483,  843,     49.7,  -1.8349,  34.2444,2,  34.2452,2,    322.6,2,    322.0,2,    62.10,2,    29.92,2,     2.06,3,   2212.6,2,   2312.5,2,   -0.054,2,   32.320,2,   98.406,2
  09AR20141205,AU1402,    52,  1,      0,     16,2,20150103,2258,-66.3297, 119.1483,  843,     49.6,  -1.8347,  34.2444,2,-999.0000,9,    322.6,2,   -999.0,9,  -999.00,9,  -999.00,9,  -999.00,9,   -999.0,9,   -999.0,9,   -0.045,2,   30.560,2,   98.405,2
  09AR20141205,AU1402,    52,  1,      0,     15,2,20150103,2258,-66.3297, 119.1483,  843,    120.8,  -1.8314,  34.2674,2,-999.0000,9,    311.3,2,   -999.0,9,  -999.00,9,  -999.00,9,  -999.00,9,   -999.0,9,   -999.0,9,   -0.041,2,    3.097,2,   98.576,2
  09AR20141205,AU1402,    52,  1,      0,     14,2,20150103,2258,-66.3297, 119.1483,  843,    120.7,  -1.8314,  34.2672,2,-999.0000,9,    311.3,2,   -999.0,9,  -999.00,9,  -999.00,9,  -999.00,9,   -999.0,9,   -999.0,9,   -0.044,2,    3.107,2,   98.575,2
  09AR20141205,AU1402,    52,  1,      0,     13,2,20150103,2258,-66.3297, 119.1483,  843,    120.4,  -1.8318,  34.2673,2,  34.2638,2,    311.3,2,    311.6,2,  -999.00,9,  -999.00,9,  -999.00,9,   2219.2,2,   2311.4,2,   -0.052,2,    3.137,2,   98.564,2
  09AR20141205,AU1402,    52,  1,      0,     12,2,20150103,2258,-66.3297, 119.1483,  843,    120.2,  -1.8330,  34.2666,2,-999.0000,9,    311.3,2,   -999.0,9,  -999.00,9,  -999.00,9,  -999.00,9,   -999.0,9,   -999.0,9,   -0.038,2,    3.133,2,   98.557,2
  09AR20141205,AU1402,    52,  1,      0,     11,2,20150103,2258,-66.3297, 119.1483,  843,    250.0,  -1.8439,  34.2986,2,-999.0000,9,    318.5,2,    317.8,2,    60.40,2,    29.65,2,     2.07,3,   2215.8,2,   2316.9,2,   -0.087,2,    0.000,2,   98.707,2
  09AR20141205,AU1402,    52,  1,      0,     10,2,20150103,2258,-66.3297, 119.1483,  843,    249.9,  -1.8438,  34.2987,2,-999.0000,9,    318.5,2,   -999.0,9,  -999.00,9,  -999.00,9,  -999.00,9,   -999.0,9,   -999.0,9,   -0.083,2,    0.000,2,   98.701,2
  09AR20141205,AU1402,    52,  1,      0,      9,2,20150103,2258,-66.3297, 119.1483,  843,    376.0,  -1.8226,  34.3225,2,  34.3202,2,    319.2,2,    317.1,2,    60.00,2,    29.91,2,     2.10,3,   2219.2,2,   2316.5,2,   -0.093,2,    0.000,2,   98.771,2
  09AR20141205,AU1402,    52,  1,      0,      8,2,20150103,2258,-66.3297, 119.1483,  843,    375.8,  -1.8226,  34.3225,2,-999.0000,9,    319.2,2,   -999.0,9,  -999.00,9,  -999.00,9,  -999.00,9,   -999.0,9,   -999.0,9,   -0.096,2,    0.000,2,   98.771,2
  09AR20141205,AU1402,    52,  1,      0,      7,2,20150103,2258,-66.3297, 119.1483,  843,    502.3,  -1.8462,  34.3482,2,  34.3453,2,    321.0,2,    321.4,2,  -999.00,9,  -999.00,9,  -999.00,9,   2217.9,2,   2319.1,2,   -0.100,2,    0.000,2,   98.800,2
  09AR20141205,AU1402,    52,  1,      0,      6,2,20150103,2258,-66.3297, 119.1483,  843,    502.4,  -1.8462,  34.3483,2,-999.0000,9,    321.0,2,   -999.0,9,  -999.00,9,  -999.00,9,  -999.00,9,   -999.0,9,   -999.0,9,   -0.096,2,    0.000,2,   98.797,2
  09AR20141205,AU1402,    52,  1,      0,      5,2,20150103,2258,-66.3297, 119.1483,  843,    601.1,  -1.7666,  34.3661,2,  34.3607,2,    316.3,2,    314.9,2,  -999.00,9,  -999.00,9,  -999.00,9,   2221.9,2,   2318.8,6,   -0.093,2,    0.000,2,   98.807,2
  09AR20141205,AU1402,    52,  1,      0,      4,2,20150103,2258,-66.3297, 119.1483,  843,    601.6,  -1.7668,  34.3661,2,-999.0000,9,    316.3,2,   -999.0,9,  -999.00,9,  -999.00,9,  -999.00,9,   -999.0,9,   -999.0,9,   -0.101,2,    0.000,2,   98.813,2
  09AR20141205,AU1402,    52,  1,      0,      3,2,20150103,2258,-66.3297, 119.1483,  843,    724.0,  -0.2348,  34.5434,2,  34.5468,2,    246.5,2,    247.4,2,    82.80,2,    31.33,2,     2.11,3,   2244.6,2,   2333.9,2,   -0.089,2,    0.000,2,   98.263,2
  09AR20141205,AU1402,    52,  1,      0,      2,2,20150103,2258,-66.3297, 119.1483,  843,    724.1,  -0.2365,  34.5431,2,-999.0000,9,    246.5,2,   -999.0,9,  -999.00,9,  -999.00,9,  -999.00,9,   -999.0,9,   -999.0,9,   -0.083,2,    0.000,2,   98.263,2
  09AR20141205,AU1402,    52,  1,      0,      1,2,20150103,2258,-66.3297, 119.1483,  843,    845.9,   0.1407,  34.6254,2,  34.6266,2,    224.2,2,    224.3,2,   102.60,2,    31.87,2,     2.21,3,   2256.4,2,   2345.6,2,   -0.083,2,    0.000,2,   98.089,2
  09AR20141205,AU1402,    53,  1,      0,     24,2,20150104,0740,-66.1452, 119.8063,  515,      7.5,  -0.8860,  34.0973,2,-999.0000,9,    351.4,2,   -999.0,9,  -999.00,9,  -999.00,9,  -999.00,9,   -999.0,9,   -999.0,9,    0.340,2,  100.500,2,   95.119,2
  09AR20141205,AU1402,    53,  1,      0,     23,2,20150104,0740,-66.1452, 119.8063,  515,      7.5,  -0.8873,  34.0791,2,-999.0000,9,    351.4,2,   -999.0,9,  -999.00,9,  -999.00,9,  -999.00,9,   -999.0,9,   -999.0,9,    0.298,2,  100.200,2,   95.222,2
  09AR20141205,AU1402,    53,  1,      0,     22,2,20150104,0740,-66.1452, 119.8063,  515,      7.5,  -0.8875,  34.0697,2,-999.0000,9,    351.4,2,   -999.0,9,  -999.00,9,  -999.00,9,  -999.00,9,   -999.0,9,   -999.0,9,    0.288,2,   99.280,2,   95.229,2
  09AR20141205,AU1402,    53,  1,      0,     21,2,20150104,0740,-66.1452, 119.8063,  515,      7.4,  -0.8801,  34.0900,2,  34.1179,2,    351.4,2,    350.8,2,  -999.00,9,  -999.00,9,  -999.00,9,   2193.0,2,   2306.1,2,    0.284,2,   99.020,2,   95.189,2
  09AR20141205,AU1402,    53,  1,      0,     20,2,20150104,0740,-66.1452, 119.8063,  515,     26.0,  -1.0128,  34.1828,2,-999.0000,9,    352.6,2,   -999.0,9,  -999.00,9,  -999.00,9,  -999.00,9,   -999.0,9,   -999.0,9,    0.761,2,   25.050,2,   93.823,2
  09AR20141205,AU1402,    53,  1,      0,     19,2,20150104,0740,-66.1452, 119.8063,  515,     25.9,  -1.0114,  34.1827,2,  34.1903,2,    352.6,2,    353.0,2,  -999.00,9,  -999.00,9,  -999.00,9,   2198.7,2,   2310.5,2,    0.738,2,   25.750,2,   93.815,2
  09AR20141205,AU1402,    53,  1,      0,     18,2,20150104,0740,-66.1452, 119.8063,  515,     35.3,  -1.0780,  34.1843,2,-999.0000,9,    350.4,2,   -999.0,9,  -999.00,9,  -999.00,9,  -999.00,9,   -999.0,9,   -999.0,9,    0.905,2,   17.890,2,   94.620,2
  09AR20141205,AU1402,    53,  1,      0,     17,2,20150104,0740,-66.1452, 119.8063,  515,     50.7,  -1.4375,  34.2152,2,-999.0000,9,    345.1,2,   -999.0,9,  -999.00,9,  -999.00,9,  -999.00,9,   -999.0,9,   -999.0,9,    0.962,2,    7.616,2,   96.522,2
  09AR20141205,AU1402,    53,  1,      0,     16,2,20150104,0740,-66.1452, 119.8063,  515,     50.7,  -1.4378,  34.2155,2,-999.0000,9,    345.1,2,   -999.0,9,  -999.00,9,  -999.00,9,  -999.00,9,   -999.0,9,   -999.0,9,    0.945,2,    7.758,2,   96.531,2
  09AR20141205,AU1402,    53,  1,      0,     15,2,20150104,0740,-66.1452, 119.8063,  515,     50.6,  -1.4382,  34.2156,2,  34.2199,2,    345.1,2,    344.3,2,  -999.00,9,  -999.00,9,  -999.00,9,   2202.9,2,   2312.4,2,    0.921,2,    7.948,2,   96.539,2
  09AR20141205,AU1402,    53,  1,      0,     14,2,20150104,0740,-66.1452, 119.8063,  515,    141.3,  -1.8363,  34.2497,2,-999.0000,9,    317.3,2,   -999.0,9,  -999.00,9,  -999.00,9,  -999.00,9,   -999.0,9,   -999.0,9,    0.079,2,    0.097,2,   98.541,2
  09AR20141205,AU1402,    53,  1,      0,     13,2,20150104,0740,-66.1452, 119.8063,  515,    141.3,  -1.8372,  34.2495,2,-999.0000,9,    317.3,2,   -999.0,9,  -999.00,9,  -999.00,9,  -999.00,9,   -999.0,9,   -999.0,9,    0.082,2,    0.101,2,   98.530,2
  09AR20141205,AU1402,    53,  1,      0,     12,2,20150104,0740,-66.1452, 119.8063,  515,    141.2,  -1.8369,  34.2493,2,-999.0000,9,    317.3,2,   -999.0,9,  -999.00,9,  -999.00,9,  -999.00,9,   -999.0,9,   -999.0,9,    0.087,2,    0.108,2,   98.538,2
  09AR20141205,AU1402,    53,  1,      0,     11,2,20150104,0740,-66.1452, 119.8063,  515,    141.2,  -1.8366,  34.2493,2,  34.2542,2,    317.3,2,    317.3,2,  -999.00,9,  -999.00,9,  -999.00,9,   2214.1,2,   2310.6,2,    0.097,2,    0.116,2,   98.534,2
  09AR20141205,AU1402,    53,  1,      0,     10,2,20150104,0740,-66.1452, 119.8063,  515,    261.3,  -1.8356,  34.2919,2,-999.0000,9,    317.9,2,   -999.0,9,  -999.00,9,  -999.00,9,  -999.00,9,   -999.0,9,   -999.0,9,   -0.078,2,    0.000,2,   98.772,2
  09AR20141205,AU1402,    53,  1,      0,      9,2,20150104,0740,-66.1452, 119.8063,  515,    261.3,  -1.8358,  34.2918,2,-999.0000,9,    317.9,2,   -999.0,9,  -999.00,9,  -999.00,9,  -999.00,9,   -999.0,9,   -999.0,9,   -0.071,2,    0.000,2,   98.779,2
  09AR20141205,AU1402,    53,  1,      0,      8,2,20150104,0740,-66.1452, 119.8063,  515,    261.3,  -1.8360,  34.2916,2,-999.0000,9,    317.9,2,   -999.0,9,  -999.00,9,  -999.00,9,  -999.00,9,   -999.0,9,   -999.0,9,   -0.076,2,    0.000,2,   98.779,2
  09AR20141205,AU1402,    53,  1,      0,      7,2,20150104,0740,-66.1452, 119.8063,  515,    261.3,  -1.8361,  34.2918,2,  34.2928,2,    317.9,2,    318.3,2,  -999.00,9,  -999.00,9,  -999.00,9,   2216.3,6,   2315.5,6,   -0.078,2,    0.000,2,   98.790,2
  09AR20141205,AU1402,    53,  1,      0,      6,2,20150104,0740,-66.1452, 119.8063,  515,    380.7,  -1.8257,  34.3199,2,-999.0000,9,    316.6,2,   -999.0,9,  -999.00,9,  -999.00,9,  -999.00,9,   -999.0,9,   -999.0,9,   -0.084,2,    0.000,2,   98.807,2
  09AR20141205,AU1402,    53,  1,      0,      5,2,20150104,0740,-66.1452, 119.8063,  515,    380.5,  -1.8255,  34.3201,2,  34.3261,2,    316.6,2,    317.0,2,  -999.00,9,  -999.00,9,  -999.00,9,   2216.3,2,   2319.0,6,   -0.080,2,    0.000,2,   98.804,2
  09AR20141205,AU1402,    53,  1,      0,      4,2,20150104,0740,-66.1452, 119.8063,  515,    462.2,  -0.7259,  34.4699,2,-999.0000,9,    273.6,2,   -999.0,9,  -999.00,9,  -999.00,9,  -999.00,9,   -999.0,9,   -999.0,9,   -0.084,2,    0.000,2,   98.617,2
  09AR20141205,AU1402,    53,  1,      0,      3,2,20150104,0740,-66.1452, 119.8063,  515,    462.1,  -0.7271,  34.4697,2,  34.4624,2,    273.6,2,    270.4,2,  -999.00,9,  -999.00,9,  -999.00,9,   2236.6,2,   2326.4,2,   -0.087,2,    0.000,2,   98.624,2
  09AR20141205,AU1402,    53,  1,      0,      2,2,20150104,0740,-66.1452, 119.8063,  515,    511.8,  -0.0112,  34.5753,2,-999.0000,9,    238.2,2,   -999.0,9,  -999.00,9,  -999.00,9,  -999.00,9,   -999.0,9,   -999.0,9,   -0.072,2,    0.000,2,   97.844,2
  09AR20141205,AU1402,    53,  1,      0,      1,2,20150104,0740,-66.1452, 119.8063,  515,    511.7,  -0.0098,  34.5756,2,  34.5721,2,    238.2,2,    238.1,2,  -999.00,9,  -999.00,9,  -999.00,9,   2249.3,2,   2338.0,2,   -0.073,2,    0.000,2,   97.858,2
  09AR20141205,AU1402,    54,  1,      0,     24,2,20150104,1138,-66.1747, 120.8665,  288,      7.5,  -1.0513,  33.8406,2,  33.8769,2,    338.8,3,    339.6,2,  -999.00,9,    28.36,2,     1.94,3,   2177.6,2,   2290.6,2,    0.323,2,   33.200,2,   95.800,2
  09AR20141205,AU1402,    54,  1,      0,     23,2,20150104,1138,-66.1747, 120.8665,  288,      7.5,  -0.8810,  33.8065,2,-999.0000,9,    338.8,3,   -999.0,9,  -999.00,9,  -999.00,9,  -999.00,9,   -999.0,9,   -999.0,9,    0.331,2,   33.550,2,   95.726,2
  09AR20141205,AU1402,    54,  1,      0,     22,2,20150104,1138,-66.1747, 120.8665,  288,      7.5,  -0.8588,  33.8010,2,-999.0000,9,    338.8,3,   -999.0,9,  -999.00,9,  -999.00,9,  -999.00,9,   -999.0,9,   -999.0,9,    0.327,2,   33.900,2,   95.764,2
  09AR20141205,AU1402,    54,  1,      0,     21,2,20150104,1138,-66.1747, 120.8665,  288,      7.4,  -0.8138,  33.7888,2,-999.0000,9,    338.8,3,   -999.0,9,  -999.00,9,  -999.00,9,  -999.00,9,   -999.0,9,   -999.0,9,    0.313,2,   34.580,2,   95.725,2
  09AR20141205,AU1402,    54,  1,      0,     20,2,20150104,1138,-66.1747, 120.8665,  288,     25.7,  -1.3631,  34.1403,2,  34.1400,2,    333.7,2,    334.0,2,  -999.00,9,    28.95,2,     2.00,3,   2194.9,2,   2305.2,2,    0.467,2,   13.180,2,   95.280,2
  09AR20141205,AU1402,    54,  1,      0,     19,2,20150104,1138,-66.1747, 120.8665,  288,     25.6,  -1.3616,  34.1381,2,-999.0000,9,    333.7,2,   -999.0,9,  -999.00,9,  -999.00,9,  -999.00,9,   -999.0,9,   -999.0,9,    0.476,2,   13.350,2,   95.274,2
  09AR20141205,AU1402,    54,  1,      0,     18,2,20150104,1138,-66.1747, 120.8665,  288,     50.4,  -1.3537,  34.1862,2,  34.1841,2,    333.5,2,    337.4,2,  -999.00,9,  -999.00,9,  -999.00,9,   2200.0,6,   2310.5,6,    0.757,2,    4.300,2,   96.321,2
  09AR20141205,AU1402,    54,  1,      0,     17,2,20150104,1138,-66.1747, 120.8665,  288,     50.3,  -1.4242,  34.1825,2,-999.0000,9,    333.5,2,   -999.0,9,  -999.00,9,  -999.00,9,  -999.00,9,   -999.0,9,   -999.0,9,    0.766,2,    4.386,2,   96.385,2
  09AR20141205,AU1402,    54,  1,      0,     16,2,20150104,1138,-66.1747, 120.8665,  288,     50.1,  -1.4262,  34.1804,2,-999.0000,9,    333.5,2,   -999.0,9,  -999.00,9,  -999.00,9,  -999.00,9,   -999.0,9,   -999.0,9,    0.710,2,    4.521,2,   96.360,2
  09AR20141205,AU1402,    54,  1,      0,     15,2,20150104,1138,-66.1747, 120.8665,  288,    120.8,  -1.8027,  34.2245,2,  34.2268,2,    324.1,2,    320.0,2,  -999.00,9,    30.03,2,     2.06,3,   2212.5,2,   2310.3,2,    0.161,2,    0.155,2,   98.495,2
  09AR20141205,AU1402,    54,  1,      0,     14,2,20150104,1138,-66.1747, 120.8665,  288,    120.8,  -1.8014,  34.2243,2,-999.0000,9,    324.1,2,   -999.0,9,  -999.00,9,  -999.00,9,  -999.00,9,   -999.0,9,   -999.0,9,    0.153,2,    0.159,2,   98.481,2
  09AR20141205,AU1402,    54,  1,      0,     13,2,20150104,1138,-66.1747, 120.8665,  288,    120.6,  -1.7958,  34.2233,2,-999.0000,9,    324.1,2,   -999.0,9,  -999.00,9,  -999.00,9,  -999.00,9,   -999.0,9,   -999.0,9,    0.197,2,    0.160,2,   98.422,2
  09AR20141205,AU1402,    54,  1,      0,     12,2,20150104,1138,-66.1747, 120.8665,  288,    120.4,  -1.7923,  34.2232,2,-999.0000,9,    324.1,2,   -999.0,9,  -999.00,9,  -999.00,9,  -999.00,9,   -999.0,9,   -999.0,9,    0.238,2,    0.160,2,   98.405,2
  09AR20141205,AU1402,    54,  1,      0,     11,2,20150104,1138,-66.1747, 120.8665,  288,    151.8,  -1.8249,  34.2499,2,  34.2477,2,    318.8,2,    318.8,2,  -999.00,9,    30.14,2,     2.06,3,   2213.3,2,   2312.8,6,    0.142,2,    0.001,2,   98.585,2
  09AR20141205,AU1402,    54,  1,      0,     10,2,20150104,1138,-66.1747, 120.8665,  288,    151.8,  -1.8250,  34.2499,2,-999.0000,9,    318.8,2,   -999.0,9,  -999.00,9,  -999.00,9,  -999.00,9,   -999.0,9,   -999.0,9,    0.130,2,    0.004,2,   98.574,2
  09AR20141205,AU1402,    54,  1,      0,      9,2,20150104,1138,-66.1747, 120.8665,  288,    151.8,  -1.8251,  34.2499,2,-999.0000,9,    318.8,2,   -999.0,9,  -999.00,9,  -999.00,9,  -999.00,9,   -999.0,9,   -999.0,9,    0.137,2,    0.005,2,   98.585,2
  09AR20141205,AU1402,    54,  1,      0,      8,2,20150104,1138,-66.1747, 120.8665,  288,    151.7,  -1.8251,  34.2498,2,-999.0000,9,    318.8,2,   -999.0,9,  -999.00,9,  -999.00,9,  -999.00,9,   -999.0,9,   -999.0,9,    0.142,2,    0.005,2,   98.587,2
  09AR20141205,AU1402,    54,  1,      0,      7,2,20150104,1138,-66.1747, 120.8665,  288,    230.6,  -1.8267,  34.2919,2,-999.0000,9,    317.8,2,   -999.0,9,  -999.00,9,  -999.00,9,  -999.00,9,   -999.0,9,   -999.0,9,   -0.049,2,    0.001,2,   98.710,2
  09AR20141205,AU1402,    54,  1,      0,      6,2,20150104,1138,-66.1747, 120.8665,  288,    230.6,  -1.8272,  34.2925,2,-999.0000,9,    317.8,2,   -999.0,9,  -999.00,9,  -999.00,9,  -999.00,9,   -999.0,9,   -999.0,9,   -0.055,2,    0.001,2,   98.732,2
  09AR20141205,AU1402,    54,  1,      0,      5,2,20150104,1138,-66.1747, 120.8665,  288,    230.5,  -1.8272,  34.2921,2,  34.2902,2,    317.8,2,    318.0,2,  -999.00,9,    30.16,2,     1.96,3,   2215.4,2,   2316.6,2,   -0.052,2,    0.001,2,   98.735,2
  09AR20141205,AU1402,    54,  1,      0,      4,2,20150104,1138,-66.1747, 120.8665,  288,    230.5,  -1.8275,  34.2922,2,-999.0000,9,    317.8,2,   -999.0,9,  -999.00,9,  -999.00,9,  -999.00,9,   -999.0,9,   -999.0,9,   -0.047,2,    0.001,2,   98.736,2
  09AR20141205,AU1402,    54,  1,      0,      3,2,20150104,1138,-66.1747, 120.8665,  288,    230.4,  -1.8274,  34.2918,2,-999.0000,9,    317.8,2,   -999.0,9,  -999.00,9,  -999.00,9,  -999.00,9,   -999.0,9,   -999.0,9,   -0.050,2,    0.001,2,   98.733,2
  09AR20141205,AU1402,    54,  1,      0,      2,2,20150104,1138,-66.1747, 120.8665,  288,    286.5,  -1.7246,  34.3263,2,-999.0000,9,    314.2,2,   -999.0,9,  -999.00,9,  -999.00,9,  -999.00,9,   -999.0,9,   -999.0,9,   -0.070,2,    0.001,2,   97.616,2
  09AR20141205,AU1402,    54,  1,      0,      1,2,20150104,1138,-66.1747, 120.8665,  288,    286.4,  -1.7263,  34.3260,2,  34.3243,2,    314.2,2,    314.0,2,  -999.00,9,    30.31,2,     2.08,3,   2221.5,2,   2314.0,2,   -0.064,2,    0.001,2,   97.634,2