BOTTLE,20210329PRINUNIVRMK
EXPOCODE,SECT_ID,STNNBR,CASTNO,SAMPNO,BTLNBR,BTLNBR_FLAG_W,DATE,TIME,LATITUDE,LONGITUDE,DEPTH,CTDPRS,CTDTMP,CTDSAL,CTDSAL_FLAG_W,SALNTY,SALNTY_FLAG_W,CTDOXY,CTDOXY_FLAG_W,OXYGEN,OXYGEN_FLAG_W,SILCAT,SILCAT_FLAG_W,NITRAT,NITRAT_FLAG_W,PHSPHT,PHSPHT_FLAG_W,TCARBN,TCARBN_FLAG_W,ALKALI,ALKALI_FLAG_W,CTDFLUOR,CTDFLUOR_FLAG_W,CTDPAR,CTDPAR_FLAG_W,CTDXMISS,CTDXMISS_FLAG_W
,,,,,,,,,,,METERS,DBAR,ITS-90,PSS-78,,PSS-78,,UMOL/KG,,UMOL/KG,,UMOL/KG,,UMOL/KG,,UMOL/KG,,UMOL/KG,,UMOL/KG,,MG/M^3,,UEINSTEIN/M^2*SEC,,%TRANS,
  09AR20141205,AU1402,    58,  1,      0,     24,2,20150104,1859,-66.4023, 119.9937,  714,      7.2,  -1.2116,  34.0959,2,  34.1344,2,    336.5,2,    336.5,2,    59.50,2,    28.66,2,     2.01,3,   2199.9,2,   2308.8,2,    0.438,2,   21.800,2,   95.707,2
  09AR20141205,AU1402,    58,  1,      0,     23,2,20150104,1859,-66.4023, 119.9937,  714,      7.0,  -1.2126,  34.0942,2,-999.0000,9,    336.5,2,   -999.0,9,  -999.00,9,  -999.00,9,  -999.00,9,   -999.0,9,   -999.0,9,    0.455,2,   21.970,2,   95.695,2
  09AR20141205,AU1402,    58,  1,      0,     22,2,20150104,1859,-66.4023, 119.9937,  714,      7.0,  -1.2142,  34.0948,2,-999.0000,9,    336.5,2,   -999.0,9,  -999.00,9,  -999.00,9,  -999.00,9,   -999.0,9,   -999.0,9,    0.453,2,   22.020,2,   95.715,2
  09AR20141205,AU1402,    58,  1,      0,     21,2,20150104,1859,-66.4023, 119.9937,  714,      7.0,  -1.2122,  34.0968,2,-999.0000,9,    336.3,2,   -999.0,9,  -999.00,9,  -999.00,9,  -999.00,9,   -999.0,9,   -999.0,9,    0.465,2,   22.250,2,   95.714,2
  09AR20141205,AU1402,    58,  1,      0,     20,2,20150104,1859,-66.4023, 119.9937,  714,     15.4,  -1.7168,  34.2216,2,-999.0000,9,    336.6,2,    318.6,2,    63.30,2,    29.35,2,     2.07,3,   2209.2,2,   2312.2,2,    0.437,2,   11.460,2,   96.814,2
  09AR20141205,AU1402,    58,  1,      0,     19,2,20150104,1859,-66.4023, 119.9937,  714,     15.2,  -1.7232,  34.2230,2,-999.0000,9,    336.6,2,   -999.0,9,  -999.00,9,  -999.00,9,  -999.00,9,   -999.0,9,   -999.0,9,    0.461,2,   11.410,2,   96.886,2
  09AR20141205,AU1402,    58,  1,      0,     18,2,20150104,1859,-66.4023, 119.9937,  714,     40.7,  -1.7960,  34.2421,2,-999.0000,9,    316.7,2,   -999.0,9,  -999.00,9,  -999.00,9,  -999.00,9,   -999.0,9,   -999.0,9,    0.580,2,    3.585,2,   97.197,2
  09AR20141205,AU1402,    58,  1,      0,     17,2,20150104,1859,-66.4023, 119.9937,  714,     51.1,  -1.8229,  34.2461,2,  34.2501,2,    313.2,2,    311.6,2,    64.40,2,    29.76,2,     2.03,3,   2214.7,2,   2315.6,2,    0.211,2,    2.354,2,   98.099,2
  09AR20141205,AU1402,    58,  1,      0,     16,2,20150104,1859,-66.4023, 119.9937,  714,     51.1,  -1.8228,  34.2462,2,-999.0000,9,    313.2,2,   -999.0,9,  -999.00,9,  -999.00,9,  -999.00,9,   -999.0,9,   -999.0,9,    0.236,2,    2.359,2,   98.071,2
  09AR20141205,AU1402,    58,  1,      0,     15,2,20150104,1859,-66.4023, 119.9937,  714,     51.0,  -1.8222,  34.2461,2,-999.0000,9,    314.0,2,   -999.0,9,  -999.00,9,  -999.00,9,  -999.00,9,   -999.0,9,   -999.0,9,    0.238,2,    2.359,2,   98.037,2
  09AR20141205,AU1402,    58,  1,      0,     14,2,20150104,1859,-66.4023, 119.9937,  714,     50.9,  -1.8216,  34.2461,2,-999.0000,9,    314.0,2,   -999.0,9,  -999.00,9,  -999.00,9,  -999.00,9,   -999.0,9,   -999.0,9,    0.239,2,    2.366,2,   97.980,2
  09AR20141205,AU1402,    58,  1,      0,     13,2,20150104,1859,-66.4023, 119.9937,  714,     50.9,  -1.8198,  34.2460,2,-999.0000,9,    314.0,2,   -999.0,9,  -999.00,9,  -999.00,9,  -999.00,9,   -999.0,9,   -999.0,9,    0.307,2,    2.366,2,   97.821,2
  09AR20141205,AU1402,    58,  1,      0,     12,2,20150104,1859,-66.4023, 119.9937,  714,     50.8,  -1.8195,  34.2468,2,-999.0000,9,    314.0,2,   -999.0,9,  -999.00,9,  -999.00,9,  -999.00,9,   -999.0,9,   -999.0,9,    0.273,2,    2.365,2,   98.105,2
  09AR20141205,AU1402,    58,  1,      0,     11,2,20150104,1859,-66.4023, 119.9937,  714,    160.8,  -1.7650,  34.2824,2,  34.2841,2,    307.2,2,    309.5,2,  -999.00,9,  -999.00,9,  -999.00,9,   2217.7,2,   2316.0,6,   -0.095,2,    0.002,2,   98.754,2
  09AR20141205,AU1402,    58,  1,      0,     10,2,20150104,1859,-66.4023, 119.9937,  714,    160.7,  -1.7648,  34.2825,2,-999.0000,9,    307.2,2,   -999.0,9,  -999.00,9,  -999.00,9,  -999.00,9,   -999.0,9,   -999.0,9,   -0.087,2,    0.001,2,   98.754,2
  09AR20141205,AU1402,    58,  1,      0,      9,2,20150104,1859,-66.4023, 119.9937,  714,    251.0,  -1.8437,  34.2928,2,  34.2932,2,    319.3,2,    319.1,2,    60.30,2,    29.89,2,     2.01,3,   2215.9,2,   2313.1,2,   -0.077,2,    0.000,2,   98.747,2
  09AR20141205,AU1402,    58,  1,      0,      8,2,20150104,1859,-66.4023, 119.9937,  714,    250.7,  -1.8437,  34.2926,2,-999.0000,9,    319.3,2,   -999.0,9,  -999.00,9,  -999.00,9,  -999.00,9,   -999.0,9,   -999.0,9,   -0.072,2,    0.000,2,   98.745,2
  09AR20141205,AU1402,    58,  1,      0,      7,2,20150104,1859,-66.4023, 119.9937,  714,    351.2,  -1.8382,  34.3037,2,  34.3059,2,    318.2,2,    317.9,2,  -999.00,9,  -999.00,9,  -999.00,9,   -999.0,9,   -999.0,9,   -0.084,2,    0.000,2,   98.778,2
  09AR20141205,AU1402,    58,  1,      0,      6,2,20150104,1859,-66.4023, 119.9937,  714,    351.0,  -1.8382,  34.3036,2,-999.0000,9,    318.2,2,   -999.0,9,  -999.00,9,  -999.00,9,  -999.00,9,   -999.0,9,   -999.0,9,   -0.082,2,    0.000,2,   98.770,2
  09AR20141205,AU1402,    58,  1,      0,      5,2,20150104,1859,-66.4023, 119.9937,  714,    501.1,  -1.7643,  34.3354,2,  34.3372,2,    314.7,2,    313.7,2,    61.10,2,    30.16,2,     2.11,3,   -999.0,9,   -999.0,9,   -0.092,2,    0.000,2,   98.790,2
  09AR20141205,AU1402,    58,  1,      0,      4,2,20150104,1859,-66.4023, 119.9937,  714,    501.0,  -1.7642,  34.3355,2,-999.0000,9,    314.7,2,   -999.0,9,  -999.00,9,  -999.00,9,  -999.00,9,   -999.0,9,   -999.0,9,   -0.093,2,    0.000,2,   98.789,2
  09AR20141205,AU1402,    58,  1,      0,      3,2,20150104,1859,-66.4023, 119.9937,  714,    601.1,  -0.7810,  34.4716,2,  34.4913,2,    270.6,2,    263.7,2,  -999.00,9,  -999.00,9,  -999.00,9,   2238.8,6,   2329.7,6,   -0.091,2,    0.000,2,   98.738,2
  09AR20141205,AU1402,    58,  1,      0,      2,2,20150104,1859,-66.4023, 119.9937,  714,    600.9,  -0.7787,  34.4722,2,-999.0000,9,    270.8,2,   -999.0,9,  -999.00,9,  -999.00,9,  -999.00,9,   -999.0,9,   -999.0,9,   -0.094,2,    0.000,2,   98.743,2
  09AR20141205,AU1402,    58,  1,      0,      1,2,20150104,1859,-66.4023, 119.9937,  714,    716.2,   0.3312,  34.6337,2,  34.6352,2,    225.2,2,    225.2,2,    95.40,2,    31.29,2,     2.21,3,   2252.3,2,   2344.2,2,   -0.085,2,    0.000,2,   97.885,2
  09AR20141205,AU1402,    59,  1,      0,     24,2,20150104,2046,-66.4667, 120.0902,  737,      7.8,  -0.6001,  34.1878,2,  34.1896,2,    353.0,2,    354.4,2,    57.20,2,    27.63,2,     1.96,3,   2194.6,2,   2310.0,2,    0.293,2,   71.100,2,   94.591,2
  09AR20141205,AU1402,    59,  1,      0,     23,2,20150104,2046,-66.4667, 120.0902,  737,      7.8,  -0.5946,  34.1880,2,-999.0000,9,    353.0,2,   -999.0,9,  -999.00,9,  -999.00,9,  -999.00,9,   -999.0,9,   -999.0,9,    0.285,2,   70.880,2,   94.582,2
  09AR20141205,AU1402,    59,  1,      0,     22,2,20150104,2046,-66.4667, 120.0902,  737,      7.8,  -0.5965,  34.1881,2,-999.0000,9,    353.0,2,   -999.0,9,  -999.00,9,  -999.00,9,  -999.00,9,   -999.0,9,   -999.0,9,    0.290,2,   71.210,2,   94.603,2
  09AR20141205,AU1402,    59,  1,      0,     21,2,20150104,2046,-66.4667, 120.0902,  737,      7.6,  -0.5254,  34.1856,2,-999.0000,9,    353.0,2,   -999.0,9,  -999.00,9,  -999.00,9,  -999.00,9,   -999.0,9,   -999.0,9,    0.230,2,   74.050,2,   94.776,2
  09AR20141205,AU1402,    59,  1,      0,     20,2,20150104,2046,-66.4667, 120.0902,  737,     15.7,  -0.6036,  34.1884,2,-999.0000,9,    353.8,2,   -999.0,9,  -999.00,9,  -999.00,9,  -999.00,9,   2196.2,6,   2312.8,6,    0.278,2,   37.420,2,   94.543,2
  09AR20141205,AU1402,    59,  1,      0,     19,2,20150104,2046,-66.4667, 120.0902,  737,     15.6,  -0.5747,  34.1873,2,-999.0000,9,    353.8,2,    354.4,2,    57.20,2,    27.79,2,     1.96,3,   -999.0,9,   -999.0,9,    0.270,2,   36.100,2,   94.626,2
  09AR20141205,AU1402,    59,  1,      0,     18,2,20150104,2046,-66.4667, 120.0902,  737,     40.2,  -0.9368,  34.1996,2,-999.0000,9,    351.8,2,   -999.0,9,  -999.00,9,  -999.00,9,  -999.00,9,   -999.0,9,   -999.0,9,    0.755,2,    9.938,2,   93.918,2
  09AR20141205,AU1402,    59,  1,      0,     17,2,20150104,2046,-66.4667, 120.0902,  737,     49.8,  -1.2530,  34.2152,2,-999.0000,9,    348.7,2,   -999.0,9,  -999.00,9,  -999.00,9,  -999.00,9,   -999.0,9,   -999.0,9,    1.046,2,    5.546,2,   95.373,2
  09AR20141205,AU1402,    59,  1,      0,     16,2,20150104,2046,-66.4667, 120.0902,  737,     49.8,  -1.2553,  34.2152,2,-999.0000,9,    348.7,2,   -999.0,9,  -999.00,9,  -999.00,9,  -999.00,9,   2199.3,2,   2313.9,2,    1.029,2,    5.539,2,   95.349,2
  09AR20141205,AU1402,    59,  1,      0,     15,2,20150104,2046,-66.4667, 120.0902,  737,     49.7,  -1.2704,  34.2154,2,  34.2172,2,    348.7,2,    350.3,2,    58.10,2,    28.16,2,     1.99,3,   -999.0,9,   -999.0,9,    1.004,2,    5.406,2,   95.367,2
  09AR20141205,AU1402,    59,  1,      0,     14,2,20150104,2046,-66.4667, 120.0902,  737,     49.5,  -1.3013,  34.2160,2,-999.0000,9,    348.7,2,   -999.0,9,  -999.00,9,  -999.00,9,  -999.00,9,   2211.8,2,   2314.7,2,    0.886,2,    5.360,2,   95.773,2
  09AR20141205,AU1402,    59,  1,      0,     13,2,20150104,2046,-66.4667, 120.0902,  737,    100.4,  -1.7505,  34.2372,2,-999.0000,9,    329.9,2,    327.0,2,  -999.00,9,  -999.00,9,  -999.00,9,   -999.0,9,   -999.0,9,    0.300,2,    0.466,2,   98.054,2
  09AR20141205,AU1402,    59,  1,      0,     12,2,20150104,2046,-66.4667, 120.0902,  737,    100.4,  -1.7508,  34.2373,2,-999.0000,9,    329.9,2,   -999.0,9,  -999.00,9,  -999.00,9,  -999.00,9,   2214.4,2,   2315.2,2,    0.294,2,    0.465,2,   98.049,2
  09AR20141205,AU1402,    59,  1,      0,     11,2,20150104,2046,-66.4667, 120.0902,  737,    150.5,  -1.8644,  34.2458,2,  34.2469,2,    317.5,2,    317.7,2,  -999.00,9,  -999.00,9,  -999.00,9,   -999.0,9,   -999.0,9,   -0.013,2,    0.022,2,   98.488,2
  09AR20141205,AU1402,    59,  1,      0,     10,2,20150104,2046,-66.4667, 120.0902,  737,    150.4,  -1.8639,  34.2455,2,-999.0000,9,    317.5,2,   -999.0,9,  -999.00,9,  -999.00,9,  -999.00,9,   2215.1,2,   2316.2,6,   -0.013,2,    0.022,2,   98.481,2
  09AR20141205,AU1402,    59,  1,      0,      9,2,20150104,2046,-66.4667, 120.0902,  737,    250.0,  -1.8427,  34.2780,2,  34.2775,2,    318.5,2,    319.7,2,  -999.00,9,  -999.00,9,  -999.00,9,   -999.0,9,   -999.0,9,   -0.051,2,    0.000,2,   98.638,2
  09AR20141205,AU1402,    59,  1,      0,      8,2,20150104,2046,-66.4667, 120.0902,  737,    251.2,  -1.8433,  34.2781,2,-999.0000,9,    318.8,2,   -999.0,9,  -999.00,9,  -999.00,9,  -999.00,9,   2217.0,2,   2318.6,2,   -0.042,2,    0.000,2,   98.644,2
  09AR20141205,AU1402,    59,  1,      0,      7,2,20150104,2046,-66.4667, 120.0902,  737,    400.5,  -1.8424,  34.3054,2,  34.3057,2,    316.8,2,    318.3,2,    60.10,2,    29.79,2,     2.07,3,   -999.0,9,   -999.0,9,   -0.088,2,    0.000,2,   98.751,2
  09AR20141205,AU1402,    59,  1,      0,      6,2,20150104,2046,-66.4667, 120.0902,  737,    400.5,  -1.8428,  34.3051,2,-999.0000,9,    316.8,2,   -999.0,9,  -999.00,9,  -999.00,9,  -999.00,9,   2225.9,2,   2320.9,2,   -0.088,2,    0.000,2,   98.753,2
  09AR20141205,AU1402,    59,  1,      0,      5,2,20150104,2046,-66.4667, 120.0902,  737,    530.7,  -1.5034,  34.3694,2,  34.3676,2,    304.2,2,    302.5,2,    64.50,2,    30.16,2,     2.10,3,   -999.0,9,   -999.0,9,   -0.086,2,    0.000,2,   98.673,2
  09AR20141205,AU1402,    59,  1,      0,      4,2,20150104,2046,-66.4667, 120.0902,  737,    530.3,  -1.5164,  34.3674,2,-999.0000,9,    304.2,2,   -999.0,9,  -999.00,9,  -999.00,9,  -999.00,9,   2246.2,2,   2335.8,2,   -0.085,2,    0.000,2,   98.657,2
  09AR20141205,AU1402,    59,  1,      0,      3,2,20150104,2046,-66.4667, 120.0902,  737,    670.6,  -0.1642,  34.5514,2,  34.5570,2,    241.7,2,    243.3,2,  -999.00,9,  -999.00,9,  -999.00,9,   -999.0,9,   -999.0,9,   -0.087,2,    0.000,2,   97.995,2
  09AR20141205,AU1402,    59,  1,      0,      2,2,20150104,2046,-66.4667, 120.0902,  737,    710.8,  -0.0916,  34.5619,2,-999.0000,9,    241.0,2,   -999.0,9,  -999.00,9,  -999.00,9,  -999.00,9,   2248.7,2,   2341.4,2,   -0.088,2,    0.000,2,   98.027,2
  09AR20141205,AU1402,    59,  1,      0,      1,2,20150104,2046,-66.4667, 120.0902,  737,    749.7,   0.0670,  34.5893,2,  34.5870,2,    237.6,2,    236.9,2,    88.30,2,    31.32,2,     2.15,3,   2195.8,4,   2314.8,4,   -0.087,2,    0.000,2,   98.037,2
  09AR20141205,AU1402,    60,  1,      0,     24,2,20150104,2241,-66.4678, 120.2068,  633,      7.2,  -0.6172,  34.1944,2,  34.1945,2,    356.1,2,    355.1,2,  -999.00,9,  -999.00,9,  -999.00,9,   -999.0,9,   -999.0,9,    0.244,2,  124.700,2,   94.272,2
  09AR20141205,AU1402,    60,  1,      0,     23,2,20150104,2241,-66.4678, 120.2068,  633,      7.2,  -0.6172,  34.1944,2,-999.0000,9,    356.1,2,   -999.0,9,  -999.00,9,  -999.00,9,  -999.00,9,   -999.0,9,   -999.0,9,    0.237,2,  124.800,2,   94.276,2
  09AR20141205,AU1402,    60,  1,      0,     22,2,20150104,2241,-66.4678, 120.2068,  633,      7.1,  -0.6164,  34.1943,2,-999.0000,9,    356.1,2,   -999.0,9,  -999.00,9,  -999.00,9,  -999.00,9,   -999.0,9,   -999.0,9,    0.221,2,  127.300,2,   94.274,2
  09AR20141205,AU1402,    60,  1,      0,     21,2,20150104,2241,-66.4678, 120.2068,  633,      7.1,  -0.6158,  34.1943,2,-999.0000,9,    356.1,2,   -999.0,9,  -999.00,9,  -999.00,9,  -999.00,9,   2197.0,2,   2312.4,6,    0.211,2,  129.100,2,   94.280,2
  09AR20141205,AU1402,    60,  1,      0,     20,2,20150104,2241,-66.4678, 120.2068,  633,     15.7,  -0.6183,  34.1942,2,-999.0000,9,    355.0,2,    354.7,2,  -999.00,9,  -999.00,9,  -999.00,9,   -999.0,9,   -999.0,9,    0.273,2,   72.340,2,   94.279,2
  09AR20141205,AU1402,    60,  1,      0,     19,2,20150104,2241,-66.4678, 120.2068,  633,     15.7,  -0.6180,  34.1940,2,-999.0000,9,    355.0,2,   -999.0,9,  -999.00,9,  -999.00,9,  -999.00,9,   -999.0,9,   -999.0,9,    0.275,2,   76.280,2,   94.280,2
  09AR20141205,AU1402,    60,  1,      0,     18,2,20150104,2241,-66.4678, 120.2068,  633,     40.4,  -0.9844,  34.2181,2,-999.0000,9,    355.0,2,   -999.0,9,  -999.00,9,  -999.00,9,  -999.00,9,   2203.8,6,   2315.3,6,    1.018,2,   14.080,2,   94.090,2
  09AR20141205,AU1402,    60,  1,      0,     17,2,20150104,2241,-66.4678, 120.2068,  633,     60.6,  -1.2843,  34.2266,2,  34.2260,2,    344.5,2,    346.2,2,  -999.00,9,  -999.00,9,  -999.00,9,   -999.0,9,   -999.0,9,    0.807,2,    3.703,2,   96.232,2
  09AR20141205,AU1402,    60,  1,      0,     16,2,20150104,2241,-66.4678, 120.2068,  633,     60.5,  -1.2834,  34.2266,2,-999.0000,9,    344.5,2,   -999.0,9,  -999.00,9,  -999.00,9,  -999.00,9,   -999.0,9,   -999.0,9,    0.819,2,    3.622,2,   96.263,2
  09AR20141205,AU1402,    60,  1,      0,     15,2,20150104,2241,-66.4678, 120.2068,  633,     60.5,  -1.2875,  34.2267,2,-999.0000,9,    344.5,2,   -999.0,9,  -999.00,9,  -999.00,9,  -999.00,9,   -999.0,9,   -999.0,9,    0.838,2,    3.623,2,   96.269,2
  09AR20141205,AU1402,    60,  1,      0,     14,2,20150104,2241,-66.4678, 120.2068,  633,     60.4,  -1.2892,  34.2267,2,-999.0000,9,    344.5,2,   -999.0,9,  -999.00,9,  -999.00,9,  -999.00,9,   -999.0,9,   -999.0,9,    0.834,2,    3.633,2,   96.277,2
  09AR20141205,AU1402,    60,  1,      0,     13,2,20150104,2241,-66.4678, 120.2068,  633,     80.4,  -1.4737,  34.2320,2,-999.0000,9,    340.1,2,   -999.0,9,  -999.00,9,  -999.00,9,  -999.00,9,   -999.0,9,   -999.0,9,    0.797,2,    1.235,2,   96.880,2
  09AR20141205,AU1402,    60,  1,      0,     12,2,20150104,2241,-66.4678, 120.2068,  633,     80.3,  -1.4725,  34.2319,2,-999.0000,9,    340.1,2,   -999.0,9,  -999.00,9,  -999.00,9,  -999.00,9,   -999.0,9,   -999.0,9,    0.831,2,    1.284,2,   96.872,2
  09AR20141205,AU1402,    60,  1,      0,     11,2,20150104,2241,-66.4678, 120.2068,  633,    141.4,  -1.7604,  34.2376,2,  34.2375,2,    326.2,2,    323.0,2,  -999.00,9,  -999.00,9,  -999.00,9,   2213.2,2,   2313.8,2,    0.138,2,    0.041,2,   98.245,2
  09AR20141205,AU1402,    60,  1,      0,     10,2,20150104,2241,-66.4678, 120.2068,  633,    141.3,  -1.7586,  34.2375,2,-999.0000,9,    326.2,2,   -999.0,9,  -999.00,9,  -999.00,9,  -999.00,9,   -999.0,9,   -999.0,9,    0.135,2,    0.053,2,   98.226,2
  09AR20141205,AU1402,    60,  1,      0,      9,2,20150104,2241,-66.4678, 120.2068,  633,    225.7,  -1.8501,  34.2454,2,  34.2442,2,    316.5,2,    318.7,2,  -999.00,9,  -999.00,9,  -999.00,9,   2214.9,2,   2313.9,2,   -0.040,2,    0.000,2,   98.439,2
  09AR20141205,AU1402,    60,  1,      0,      8,2,20150104,2241,-66.4678, 120.2068,  633,    225.6,  -1.8492,  34.2455,2,-999.0000,9,    316.5,2,   -999.0,9,  -999.00,9,  -999.00,9,  -999.00,9,   -999.0,9,   -999.0,9,   -0.040,2,    0.000,2,   98.435,2
  09AR20141205,AU1402,    60,  1,      0,      7,2,20150104,2241,-66.4678, 120.2068,  633,    325.6,  -1.8251,  34.2821,2,  34.2834,2,    317.6,2,    316.9,2,  -999.00,9,  -999.00,9,  -999.00,9,   2216.9,2,   2317.4,2,   -0.063,2,    0.000,2,   98.538,2
  09AR20141205,AU1402,    60,  1,      0,      6,2,20150104,2241,-66.4678, 120.2068,  633,    325.6,  -1.8256,  34.2822,2,-999.0000,9,    317.6,2,   -999.0,9,  -999.00,9,  -999.00,9,  -999.00,9,   -999.0,9,   -999.0,9,   -0.066,2,    0.000,2,   98.520,2
  09AR20141205,AU1402,    60,  1,      0,      5,2,20150104,2241,-66.4678, 120.2068,  633,    451.9,  -1.1378,  34.4107,2,  34.4115,2,    285.0,2,    284.8,2,  -999.00,9,  -999.00,9,  -999.00,9,   2232.1,2,   2324.3,2,   -0.087,2,    0.000,2,   98.346,2
  09AR20141205,AU1402,    60,  1,      0,      4,2,20150104,2241,-66.4678, 120.2068,  633,    451.8,  -1.1378,  34.4107,2,-999.0000,9,    285.0,2,   -999.0,9,  -999.00,9,  -999.00,9,  -999.00,9,   -999.0,9,   -999.0,9,   -0.091,2,    0.000,2,   98.338,2
  09AR20141205,AU1402,    60,  1,      0,      3,2,20150104,2241,-66.4678, 120.2068,  633,    551.5,  -0.6005,  34.4902,2,  34.4897,2,    263.0,2,    262.1,2,  -999.00,9,  -999.00,9,  -999.00,9,   2239.7,2,   2330.5,2,   -0.084,2,    0.000,2,   98.240,2
  09AR20141205,AU1402,    60,  1,      0,      2,2,20150104,2241,-66.4678, 120.2068,  633,    551.1,  -0.6062,  34.4896,2,-999.0000,9,    263.0,2,   -999.0,9,  -999.00,9,  -999.00,9,  -999.00,9,   -999.0,9,   -999.0,9,   -0.086,2,    0.000,2,   98.237,2
  09AR20141205,AU1402,    60,  1,      0,      1,2,20150104,2241,-66.4678, 120.2068,  633,    633.5,  -0.3848,  34.5200,2,  34.5203,2,    253.2,2,    253.5,2,  -999.00,9,  -999.00,9,  -999.00,9,   2242.2,2,   2333.2,2,   -0.086,2,    0.000,2,   98.087,2