BOTTLE,20210329PRINUNIVRMK
EXPOCODE,SECT_ID,STNNBR,CASTNO,SAMPNO,BTLNBR,BTLNBR_FLAG_W,DATE,TIME,LATITUDE,LONGITUDE,DEPTH,CTDPRS,CTDTMP,CTDSAL,CTDSAL_FLAG_W,SALNTY,SALNTY_FLAG_W,CTDOXY,CTDOXY_FLAG_W,OXYGEN,OXYGEN_FLAG_W,SILCAT,SILCAT_FLAG_W,NITRAT,NITRAT_FLAG_W,PHSPHT,PHSPHT_FLAG_W,TCARBN,TCARBN_FLAG_W,ALKALI,ALKALI_FLAG_W,CTDFLUOR,CTDFLUOR_FLAG_W,CTDPAR,CTDPAR_FLAG_W,CTDXMISS,CTDXMISS_FLAG_W
,,,,,,,,,,,METERS,DBAR,ITS-90,PSS-78,,PSS-78,,UMOL/KG,,UMOL/KG,,UMOL/KG,,UMOL/KG,,UMOL/KG,,UMOL/KG,,UMOL/KG,,MG/M^3,,UEINSTEIN/M^2*SEC,,%TRANS,
  09AR20141205,AU1402,    49,  1,      0,     24,2,20150103,1729,-66.3587, 119.6917,  633,      7.2,  -1.7636,  34.1877,2,-999.0000,9,    329.7,2,   -999.0,9,  -999.00,9,  -999.00,9,  -999.00,9,   -999.0,9,   -999.0,9,    0.120,2,    6.854,2,   98.129,2
  09AR20141205,AU1402,    49,  1,      0,     23,2,20150103,1729,-66.3587, 119.6917,  633,      7.2,  -1.7596,  34.1860,2,-999.0000,9,    329.7,2,   -999.0,9,  -999.00,9,  -999.00,9,  -999.00,9,   -999.0,9,   -999.0,9,    0.131,2,    6.811,2,   98.121,2
  09AR20141205,AU1402,    49,  1,      0,     22,2,20150103,1729,-66.3587, 119.6917,  633,      7.2,  -1.7522,  34.1829,2,-999.0000,9,    329.7,2,   -999.0,9,  -999.00,9,  -999.00,9,  -999.00,9,   -999.0,9,   -999.0,9,    0.122,2,    6.790,2,   98.094,2
  09AR20141205,AU1402,    49,  1,      0,     21,2,20150103,1729,-66.3587, 119.6917,  633,      7.1,  -1.7199,  34.1733,2,  34.1645,2,    329.7,2,    329.3,2,  -999.00,9,  -999.00,9,  -999.00,9,   2203.7,6,   2309.6,6,    0.149,2,    6.741,2,   97.976,2
  09AR20141205,AU1402,    49,  1,      0,     20,2,20150103,1729,-66.3587, 119.6917,  633,      7.1,  -1.6926,  34.1656,2,-999.0000,9,    329.7,2,   -999.0,9,  -999.00,9,  -999.00,9,  -999.00,9,   -999.0,9,   -999.0,9,    0.161,2,    6.717,2,   97.946,2
  09AR20141205,AU1402,    49,  1,      0,     19,2,20150103,1729,-66.3587, 119.6917,  633,     25.4,  -1.8177,  34.2232,2,-999.0000,9,    314.6,2,    314.8,2,  -999.00,9,  -999.00,9,  -999.00,9,   2214.5,2,   2309.1,2,    0.025,2,    2.432,2,   98.392,2
  09AR20141205,AU1402,    49,  1,      0,     18,2,20150103,1729,-66.3587, 119.6917,  633,     25.3,  -1.8156,  34.2227,2,-999.0000,9,    314.6,2,   -999.0,9,  -999.00,9,  -999.00,9,  -999.00,9,   -999.0,9,   -999.0,9,    0.047,2,    2.424,2,   98.387,2
  09AR20141205,AU1402,    49,  1,      0,     17,2,20150103,1729,-66.3587, 119.6917,  633,     50.4,  -1.8265,  34.2349,2,  34.2389,2,    317.5,2,    315.5,2,  -999.00,9,  -999.00,9,  -999.00,9,   2215.1,2,   2314.1,2,    0.025,2,    1.067,2,   98.461,2
  09AR20141205,AU1402,    49,  1,      0,     16,2,20150103,1729,-66.3587, 119.6917,  633,     50.4,  -1.8265,  34.2352,2,-999.0000,9,    317.5,2,   -999.0,9,  -999.00,9,  -999.00,9,  -999.00,9,   -999.0,9,   -999.0,9,    0.016,2,    1.067,2,   98.464,2
  09AR20141205,AU1402,    49,  1,      0,     15,2,20150103,1729,-66.3587, 119.6917,  633,     50.3,  -1.8264,  34.2354,2,-999.0000,9,    317.5,2,   -999.0,9,  -999.00,9,  -999.00,9,  -999.00,9,   -999.0,9,   -999.0,9,    0.024,2,    1.067,2,   98.457,2
  09AR20141205,AU1402,    49,  1,      0,     14,2,20150103,1729,-66.3587, 119.6917,  633,     50.3,  -1.8264,  34.2356,2,-999.0000,9,    317.5,2,   -999.0,9,  -999.00,9,  -999.00,9,  -999.00,9,   -999.0,9,   -999.0,9,    0.025,2,    1.068,2,   98.444,2
  09AR20141205,AU1402,    49,  1,      0,     13,2,20150103,1729,-66.3587, 119.6917,  633,    101.2,  -1.8403,  34.2537,2,  34.2270,4,    313.2,2,    313.2,2,  -999.00,9,  -999.00,9,  -999.00,9,   2215.0,2,   2312.3,2,   -0.044,2,    0.149,2,   98.585,2
  09AR20141205,AU1402,    49,  1,      0,     12,2,20150103,1729,-66.3587, 119.6917,  633,    101.0,  -1.8403,  34.2537,2,-999.0000,9,    313.4,2,   -999.0,9,  -999.00,9,  -999.00,9,  -999.00,9,   -999.0,9,   -999.0,9,   -0.046,2,    0.150,2,   98.589,2
  09AR20141205,AU1402,    49,  1,      0,     11,2,20150103,1729,-66.3587, 119.6917,  633,    100.8,  -1.8402,  34.2537,2,-999.0000,9,    313.4,2,   -999.0,9,  -999.00,9,  -999.00,9,  -999.00,9,   -999.0,9,   -999.0,9,   -0.050,2,    0.151,2,   98.587,2
  09AR20141205,AU1402,    49,  1,      0,     10,2,20150103,1729,-66.3587, 119.6917,  633,    100.6,  -1.8390,  34.2540,2,-999.0000,9,    313.4,2,   -999.0,9,  -999.00,9,  -999.00,9,  -999.00,9,   -999.0,9,   -999.0,9,   -0.049,2,    0.153,2,   98.587,2
  09AR20141205,AU1402,    49,  1,      0,      9,2,20150103,1729,-66.3587, 119.6917,  633,    175.4,  -1.8122,  34.2774,2,  34.2767,2,    312.5,2,    312.1,2,  -999.00,9,  -999.00,9,  -999.00,9,   2216.1,2,   2316.3,2,   -0.071,2,    0.000,2,   98.714,2
  09AR20141205,AU1402,    49,  1,      0,      8,2,20150103,1729,-66.3587, 119.6917,  633,    175.3,  -1.8158,  34.2773,2,-999.0000,9,    312.5,2,   -999.0,9,  -999.00,9,  -999.00,9,  -999.00,9,   -999.0,9,   -999.0,9,   -0.066,2,    0.000,2,   98.708,2
  09AR20141205,AU1402,    49,  1,      0,      7,2,20150103,1729,-66.3587, 119.6917,  633,    375.2,  -1.8427,  34.3080,2,-999.0000,9,    309.2,2,    317.4,2,  -999.00,9,  -999.00,9,  -999.00,9,   2216.8,2,   2316.1,2,   -0.088,2,    0.000,2,   98.801,2
  09AR20141205,AU1402,    49,  1,      0,      6,2,20150103,1729,-66.3587, 119.6917,  633,    375.1,  -1.8427,  34.3079,2,-999.0000,9,    309.2,2,   -999.0,9,  -999.00,9,  -999.00,9,  -999.00,9,   -999.0,9,   -999.0,9,   -0.089,2,    0.000,2,   98.798,2
  09AR20141205,AU1402,    49,  1,      0,      5,2,20150103,1729,-66.3587, 119.6917,  633,    500.5,  -1.7795,  34.3402,2,-999.0000,9,    304.2,2,    303.9,2,  -999.00,9,  -999.00,9,  -999.00,9,   2226.9,2,   2322.7,2,   -0.102,2,    0.000,2,   98.835,2
  09AR20141205,AU1402,    49,  1,      0,      4,2,20150103,1729,-66.3587, 119.6917,  633,    500.4,  -1.7798,  34.3402,2,-999.0000,9,    304.2,2,   -999.0,9,  -999.00,9,  -999.00,9,  -999.00,9,   -999.0,9,   -999.0,9,   -0.093,2,    0.000,2,   98.853,2
  09AR20141205,AU1402,    49,  1,      0,      3,2,20150103,1729,-66.3587, 119.6917,  633,    580.5,  -0.2532,  34.5324,2,  34.5315,2,    257.5,2,    250.0,2,  -999.00,9,  -999.00,9,  -999.00,9,   2241.5,2,   2333.4,2,   -0.095,2,    0.000,2,   98.592,2
  09AR20141205,AU1402,    49,  1,      0,      2,2,20150103,1729,-66.3587, 119.6917,  633,    580.4,  -0.2513,  34.5326,2,-999.0000,9,    257.5,2,   -999.0,9,  -999.00,9,  -999.00,9,  -999.00,9,   -999.0,9,   -999.0,9,   -0.083,2,    0.000,2,   98.584,2
  09AR20141205,AU1402,    49,  1,      0,      1,2,20150103,1729,-66.3587, 119.6917,  633,    633.6,   0.1255,  34.5963,2,  34.5934,2,    234.2,2,    234.2,2,  -999.00,9,  -999.00,9,  -999.00,9,   2248.6,2,   2338.8,6,   -0.081,2,    0.000,2,   98.243,2
  09AR20141205,AU1402,    50,  1,      0,     24,2,20150103,1918,-66.3735, 119.5023,  661,      7.3,  -1.5775,  34.1960,2,-999.0000,9,    340.7,2,   -999.0,9,  -999.00,9,  -999.00,9,  -999.00,9,   -999.0,9,   -999.0,9,    0.079,2,   40.160,2,   97.957,2
  09AR20141205,AU1402,    50,  1,      0,     23,2,20150103,1918,-66.3735, 119.5023,  661,      7.3,  -1.5764,  34.1958,2,-999.0000,9,    340.7,2,   -999.0,9,  -999.00,9,  -999.00,9,  -999.00,9,   -999.0,9,   -999.0,9,    0.080,2,   39.550,2,   97.963,2
  09AR20141205,AU1402,    50,  1,      0,     22,2,20150103,1918,-66.3735, 119.5023,  661,      7.2,  -1.5829,  34.1997,2,-999.0000,9,    340.7,2,   -999.0,9,  -999.00,9,  -999.00,9,  -999.00,9,   -999.0,9,   -999.0,9,    0.083,2,   39.250,2,   97.960,2
  09AR20141205,AU1402,    50,  1,      0,     21,2,20150103,1918,-66.3735, 119.5023,  661,      7.2,  -1.5868,  34.2033,2,  34.2052,2,    340.7,2,    341.2,2,  -999.00,9,    29.11,2,     2.01,3,   2206.0,6,   2311.3,6,    0.095,2,   38.560,2,   97.884,2
  09AR20141205,AU1402,    50,  1,      0,     20,2,20150103,1918,-66.3735, 119.5023,  661,     15.1,  -1.6282,  34.2160,2,-999.0000,9,    340.9,2,   -999.0,9,  -999.00,9,  -999.00,9,  -999.00,9,   -999.0,9,   -999.0,9,    0.165,2,   23.680,2,   97.960,2
  09AR20141205,AU1402,    50,  1,      0,     19,2,20150103,1918,-66.3735, 119.5023,  661,     15.0,  -1.5946,  34.2074,2,-999.0000,9,    340.9,2,    338.8,2,  -999.00,9,  -999.00,9,  -999.00,9,   2207.5,2,   2309.4,2,    0.131,2,   24.240,2,   97.967,2
  09AR20141205,AU1402,    50,  1,      0,     18,2,20150103,1918,-66.3735, 119.5023,  661,     29.5,  -1.7148,  34.2251,2,-999.0000,9,    338.5,2,   -999.0,9,  -999.00,9,  -999.00,9,  -999.00,9,   -999.0,9,   -999.0,9,    0.160,2,   12.760,2,   98.181,2
  09AR20141205,AU1402,    50,  1,      0,     17,2,20150103,1918,-66.3735, 119.5023,  661,     29.5,  -1.7011,  34.2247,2,-999.0000,9,    338.5,2,   -999.0,9,  -999.00,9,  -999.00,9,  -999.00,9,   -999.0,9,   -999.0,9,    0.159,2,   12.830,2,   98.209,2
  09AR20141205,AU1402,    50,  1,      0,     16,2,20150103,1918,-66.3735, 119.5023,  661,     29.3,  -1.7243,  34.2267,2,-999.0000,9,    338.5,2,   -999.0,9,  -999.00,9,  -999.00,9,  -999.00,9,   -999.0,9,   -999.0,9,    0.121,2,   13.080,2,   98.204,2
  09AR20141205,AU1402,    50,  1,      0,     15,2,20150103,1918,-66.3735, 119.5023,  661,     50.9,  -1.7832,  34.2352,2,  34.2352,2,    331.5,2,    331.2,2,  -999.00,9,    29.78,2,     2.05,3,   2211.5,2,   2313.1,2,    0.066,2,    6.713,2,   98.262,2
  09AR20141205,AU1402,    50,  1,      0,     14,2,20150103,1918,-66.3735, 119.5023,  661,     50.8,  -1.7832,  34.2353,2,-999.0000,9,    331.5,2,   -999.0,9,  -999.00,9,  -999.00,9,  -999.00,9,   -999.0,9,   -999.0,9,    0.064,2,    6.713,2,   98.248,2
  09AR20141205,AU1402,    50,  1,      0,     13,2,20150103,1918,-66.3735, 119.5023,  661,    100.1,  -1.8462,  34.2502,2,  34.2508,2,    323.5,2,    303.6,2,  -999.00,9,    30.45,2,     2.08,3,   2216.0,2,   2314.0,2,   -0.049,2,    1.136,2,   98.566,2
  09AR20141205,AU1402,    50,  1,      0,     12,2,20150103,1918,-66.3735, 119.5023,  661,    100.1,  -1.8462,  34.2502,2,-999.0000,9,    323.5,2,   -999.0,9,  -999.00,9,  -999.00,9,  -999.00,9,   -999.0,9,   -999.0,9,   -0.038,2,    1.134,2,   98.560,2
  09AR20141205,AU1402,    50,  1,      0,     11,2,20150103,1918,-66.3735, 119.5023,  661,    100.0,  -1.8463,  34.2501,2,-999.0000,9,    323.5,2,   -999.0,9,  -999.00,9,  -999.00,9,  -999.00,9,   -999.0,9,   -999.0,9,   -0.042,2,    1.132,2,   98.558,2
  09AR20141205,AU1402,    50,  1,      0,     10,2,20150103,1918,-66.3735, 119.5023,  661,    100.0,  -1.8463,  34.2501,2,-999.0000,9,    323.5,2,   -999.0,9,  -999.00,9,  -999.00,9,  -999.00,9,   -999.0,9,   -999.0,9,   -0.054,2,    1.141,2,   98.558,2
  09AR20141205,AU1402,    50,  1,      0,      9,2,20150103,1918,-66.3735, 119.5023,  661,    201.4,  -1.8328,  34.2812,2,  34.2828,2,    316.8,2,    316.6,2,  -999.00,9,  -999.00,9,  -999.00,9,   2213.5,2,   2316.2,6,   -0.043,2,    0.000,2,   98.667,2
  09AR20141205,AU1402,    50,  1,      0,      8,2,20150103,1918,-66.3735, 119.5023,  661,    201.3,  -1.8331,  34.2812,2,-999.0000,9,    316.8,2,   -999.0,9,  -999.00,9,  -999.00,9,  -999.00,9,   -999.0,9,   -999.0,9,   -0.049,2,    0.000,2,   98.667,2
  09AR20141205,AU1402,    50,  1,      0,      7,2,20150103,1918,-66.3735, 119.5023,  661,    376.0,  -1.8432,  34.3052,2,-999.0000,9,    317.1,2,    317.6,2,  -999.00,9,    30.09,2,     2.02,3,   2217.9,2,   2311.9,2,   -0.086,2,    0.000,2,   98.760,2
  09AR20141205,AU1402,    50,  1,      0,      6,2,20150103,1918,-66.3735, 119.5023,  661,    375.9,  -1.8431,  34.3050,2,-999.0000,9,    317.1,2,   -999.0,9,  -999.00,9,  -999.00,9,  -999.00,9,   -999.0,9,   -999.0,9,   -0.086,2,    0.000,2,   98.752,2
  09AR20141205,AU1402,    50,  1,      0,      5,2,20150103,1918,-66.3735, 119.5023,  661,    501.9,  -1.7320,  34.3386,2,  34.3419,2,    311.5,2,    310.1,2,  -999.00,9,  -999.00,9,  -999.00,9,   2220.3,2,   2321.4,2,   -0.094,2,    0.000,2,   98.750,2
  09AR20141205,AU1402,    50,  1,      0,      4,2,20150103,1918,-66.3735, 119.5023,  661,    501.4,  -1.7390,  34.3383,2,-999.0000,9,    311.5,2,   -999.0,9,  -999.00,9,  -999.00,9,  -999.00,9,   -999.0,9,   -999.0,9,   -0.099,2,    0.000,2,   98.755,2
  09AR20141205,AU1402,    50,  1,      0,      3,2,20150103,1918,-66.3735, 119.5023,  661,    617.8,   0.1261,  34.6011,2,  34.6011,2,    235.9,2,    234.9,2,  -999.00,9,  -999.00,9,  -999.00,9,   2246.5,2,   2341.4,2,   -0.088,2,    0.000,2,   98.481,2
  09AR20141205,AU1402,    50,  1,      0,      2,2,20150103,1918,-66.3735, 119.5023,  661,    617.7,   0.1289,  34.6014,2,-999.0000,9,    235.9,2,   -999.0,9,  -999.00,9,  -999.00,9,  -999.00,9,   -999.0,9,   -999.0,9,   -0.085,2,    0.000,2,   98.478,2
  09AR20141205,AU1402,    50,  1,      0,      1,2,20150103,1918,-66.3735, 119.5023,  661,    661.6,   0.2021,  34.6134,2,  34.6136,2,    229.5,2,    231.2,2,  -999.00,9,    31.62,2,     2.16,3,   2247.9,2,   2340.0,2,   -0.084,2,    0.000,2,   98.093,2
  09AR20141205,AU1402,    51,  1,      0,     24,2,20150103,2107,-66.3672, 119.3153,  851,      6.7,  -1.7531,  34.1460,2,-999.0000,9,    323.7,2,   -999.0,9,  -999.00,9,  -999.00,9,  -999.00,9,   -999.0,9,   -999.0,9,    0.038,2,   90.000,2,   97.609,2
  09AR20141205,AU1402,    51,  1,      0,     23,2,20150103,2107,-66.3672, 119.3153,  851,      6.7,  -1.7533,  34.1459,2,-999.0000,9,    323.7,2,   -999.0,9,  -999.00,9,  -999.00,9,  -999.00,9,   -999.0,9,   -999.0,9,    0.046,2,   89.090,2,   97.608,2
  09AR20141205,AU1402,    51,  1,      0,     22,2,20150103,2107,-66.3672, 119.3153,  851,      6.6,  -1.7540,  34.1439,2,-999.0000,9,    323.7,2,   -999.0,9,  -999.00,9,  -999.00,9,  -999.00,9,   -999.0,9,   -999.0,9,    0.038,2,   88.070,2,   97.599,2
  09AR20141205,AU1402,    51,  1,      0,     21,2,20150103,2107,-66.3672, 119.3153,  851,      6.6,  -1.7568,  34.1427,2,  34.1457,2,    323.7,2,    324.8,2,  -999.00,9,  -999.00,9,  -999.00,9,   2201.6,2,   2308.9,2,    0.031,2,   85.730,2,   97.598,2
  09AR20141205,AU1402,    51,  1,      0,     20,2,20150103,2107,-66.3672, 119.3153,  851,     15.9,  -1.7977,  34.1609,2,-999.0000,9,    321.7,2,   -999.0,9,  -999.00,9,  -999.00,9,  -999.00,9,   -999.0,9,   -999.0,9,    0.090,2,   43.630,2,   97.580,2
  09AR20141205,AU1402,    51,  1,      0,     19,2,20150103,2107,-66.3672, 119.3153,  851,     15.8,  -1.7912,  34.1576,2,  34.1671,2,    321.7,2,    322.2,2,  -999.00,9,  -999.00,9,  -999.00,9,   2205.2,6,   2309.6,6,    0.107,2,   43.700,2,   97.587,2
  09AR20141205,AU1402,    51,  1,      0,     18,2,20150103,2107,-66.3672, 119.3153,  851,     40.3,  -1.7702,  34.2192,2,-999.0000,9,    321.4,2,   -999.0,9,  -999.00,9,  -999.00,9,  -999.00,9,   -999.0,9,   -999.0,9,    0.225,2,   16.470,2,   97.795,2
  09AR20141205,AU1402,    51,  1,      0,     17,2,20150103,2107,-66.3672, 119.3153,  851,     60.1,  -1.8434,  34.2403,2,  34.2377,2,    311.7,2,    307.8,2,  -999.00,9,  -999.00,9,  -999.00,9,   2216.8,2,   2312.9,2,    0.038,2,    8.862,2,   98.425,2
  09AR20141205,AU1402,    51,  1,      0,     16,2,20150103,2107,-66.3672, 119.3153,  851,     60.0,  -1.8344,  34.2408,2,-999.0000,9,    311.7,2,   -999.0,9,  -999.00,9,  -999.00,9,  -999.00,9,   -999.0,9,   -999.0,9,    0.052,2,    8.886,2,   98.381,2
  09AR20141205,AU1402,    51,  1,      0,     15,2,20150103,2107,-66.3672, 119.3153,  851,     59.9,  -1.8361,  34.2407,2,-999.0000,9,    311.7,2,   -999.0,9,  -999.00,9,  -999.00,9,  -999.00,9,   -999.0,9,   -999.0,9,    0.041,2,    8.896,2,   98.368,2
  09AR20141205,AU1402,    51,  1,      0,     14,2,20150103,2107,-66.3672, 119.3153,  851,     59.8,  -1.8376,  34.2404,2,-999.0000,9,    311.7,2,   -999.0,9,  -999.00,9,  -999.00,9,  -999.00,9,   -999.0,9,   -999.0,9,    0.025,2,    8.910,2,   98.369,2
  09AR20141205,AU1402,    51,  1,      0,     13,2,20150103,2107,-66.3672, 119.3153,  851,    125.6,  -1.8406,  34.2635,2,  34.2650,2,    318.9,2,    317.6,2,  -999.00,9,  -999.00,9,  -999.00,9,   2213.4,2,   2316.0,2,   -0.062,2,    1.159,2,   98.508,2
  09AR20141205,AU1402,    51,  1,      0,     12,2,20150103,2107,-66.3672, 119.3153,  851,    125.4,  -1.8403,  34.2635,2,-999.0000,9,    318.9,2,   -999.0,9,  -999.00,9,  -999.00,9,  -999.00,9,   -999.0,9,   -999.0,9,   -0.057,2,    1.203,2,   98.521,2
  09AR20141205,AU1402,    51,  1,      0,     11,2,20150103,2107,-66.3672, 119.3153,  851,    250.6,  -1.8177,  34.2925,2,  34.2910,2,    315.6,2,    315.6,2,  -999.00,9,  -999.00,9,  -999.00,9,   2218.2,2,   2312.3,2,   -0.084,2,    0.000,2,   98.708,2
  09AR20141205,AU1402,    51,  1,      0,     10,2,20150103,2107,-66.3672, 119.3153,  851,    250.5,  -1.8174,  34.2925,2,-999.0000,9,    315.6,2,   -999.0,9,  -999.00,9,  -999.00,9,  -999.00,9,   -999.0,9,   -999.0,9,   -0.082,2,    0.000,2,   98.716,2
  09AR20141205,AU1402,    51,  1,      0,      9,2,20150103,2107,-66.3672, 119.3153,  851,    375.6,  -1.8415,  34.3103,2,  34.3096,2,    316.1,2,    317.2,2,  -999.00,9,  -999.00,9,  -999.00,9,   2215.4,2,   2317.0,2,   -0.091,2,    0.000,2,   98.747,2
  09AR20141205,AU1402,    51,  1,      0,      8,2,20150103,2107,-66.3672, 119.3153,  851,    375.4,  -1.8401,  34.3108,2,-999.0000,9,    316.1,2,   -999.0,9,  -999.00,9,  -999.00,9,  -999.00,9,   -999.0,9,   -999.0,9,   -0.092,2,    0.000,2,   98.752,2
  09AR20141205,AU1402,    51,  1,      0,      7,2,20150103,2107,-66.3672, 119.3153,  851,    502.2,  -1.7650,  34.3422,2,-999.0000,9,    312.4,2,    312.2,2,  -999.00,9,  -999.00,9,  -999.00,9,   2222.5,2,   2319.4,2,   -0.099,2,    0.000,2,   98.769,2
  09AR20141205,AU1402,    51,  1,      0,      6,2,20150103,2107,-66.3672, 119.3153,  851,    502.0,  -1.7655,  34.3422,2,-999.0000,9,    312.4,2,   -999.0,9,  -999.00,9,  -999.00,9,  -999.00,9,   -999.0,9,   -999.0,9,   -0.073,2,    0.000,2,   98.757,2
  09AR20141205,AU1402,    51,  1,      0,      5,2,20150103,2107,-66.3672, 119.3153,  851,    627.0,  -0.9152,  34.4564,2,  34.4621,2,    271.8,2,    273.7,2,  -999.00,9,  -999.00,9,  -999.00,9,   2236.8,2,   2326.6,6,   -0.091,2,    0.000,2,   98.660,2
  09AR20141205,AU1402,    51,  1,      0,      4,2,20150103,2107,-66.3672, 119.3153,  851,    626.9,  -0.9192,  34.4559,2,-999.0000,9,    271.9,2,   -999.0,9,  -999.00,9,  -999.00,9,  -999.00,9,   -999.0,9,   -999.0,9,   -0.095,2,    0.000,2,   98.657,2
  09AR20141205,AU1402,    51,  1,      0,      3,2,20150103,2107,-66.3672, 119.3153,  851,    749.8,   0.0358,  34.5904,2,  34.5989,2,    238.2,2,    235.3,2,  -999.00,9,  -999.00,9,  -999.00,9,   2248.2,2,   2340.9,2,   -0.080,2,    0.000,2,   98.211,2
  09AR20141205,AU1402,    51,  1,      0,      2,2,20150103,2107,-66.3672, 119.3153,  851,    749.9,   0.0223,  34.5883,2,-999.0000,9,    238.2,2,   -999.0,9,  -999.00,9,  -999.00,9,  -999.00,9,   -999.0,9,   -999.0,9,   -0.083,2,    0.000,2,   98.181,2
  09AR20141205,AU1402,    51,  1,      0,      1,2,20150103,2107,-66.3672, 119.3153,  851,    858.9,   0.1605,  34.6283,2,  34.6289,2,    219.4,2,    220.5,2,  -999.00,9,  -999.00,9,  -999.00,9,   2259.7,2,   2346.3,2,   -0.073,2,    0.000,2,   97.235,2