BOTTLE,20210329PRINUNIVRMK
EXPOCODE,SECT_ID,STNNBR,CASTNO,SAMPNO,BTLNBR,BTLNBR_FLAG_W,DATE,TIME,LATITUDE,LONGITUDE,DEPTH,CTDPRS,CTDTMP,CTDSAL,CTDSAL_FLAG_W,SALNTY,SALNTY_FLAG_W,CTDOXY,CTDOXY_FLAG_W,OXYGEN,OXYGEN_FLAG_W,SILCAT,SILCAT_FLAG_W,NITRAT,NITRAT_FLAG_W,PHSPHT,PHSPHT_FLAG_W,TCARBN,TCARBN_FLAG_W,ALKALI,ALKALI_FLAG_W,CTDFLUOR,CTDFLUOR_FLAG_W,CTDPAR,CTDPAR_FLAG_W,CTDXMISS,CTDXMISS_FLAG_W
,,,,,,,,,,,METERS,DBAR,ITS-90,PSS-78,,PSS-78,,UMOL/KG,,UMOL/KG,,UMOL/KG,,UMOL/KG,,UMOL/KG,,UMOL/KG,,UMOL/KG,,MG/M^3,,UEINSTEIN/M^2*SEC,,%TRANS,
  09AR20141205,AU1402,     4,  1,      0,     24,2,20141226,0843,-66.1267, 120.4620,  571,     11.2,  -1.2271,  34.1802,2,  34.1792,2,    340.6,2,    341.5,2,  -999.00,9,  -999.00,9,  -999.00,9,   2200.3,6,   2307.2,6,    0.124,2,   83.410,2,   97.140,2
  09AR20141205,AU1402,     4,  1,      0,     23,2,20141226,0843,-66.1267, 120.4620,  571,     11.2,  -1.2267,  34.1800,2,-999.0000,9,    340.6,2,   -999.0,9,  -999.00,9,  -999.00,9,  -999.00,9,   -999.0,9,   -999.0,9,    0.116,2,   84.100,2,   97.153,2
  09AR20141205,AU1402,     4,  1,      0,     22,2,20141226,0843,-66.1267, 120.4620,  571,     11.1,  -1.2258,  34.1801,2,-999.0000,9,    340.6,2,   -999.0,9,  -999.00,9,  -999.00,9,  -999.00,9,   -999.0,9,   -999.0,9,    0.117,2,   83.410,2,   97.153,2
  09AR20141205,AU1402,     4,  1,      0,     21,2,20141226,0843,-66.1267, 120.4620,  571,     11.1,  -1.2264,  34.1801,2,-999.0000,9,    340.6,2,   -999.0,9,  -999.00,9,  -999.00,9,  -999.00,9,   -999.0,9,   -999.0,9,    0.114,2,   89.390,2,   97.144,2
  09AR20141205,AU1402,     4,  1,      0,     20,2,20141226,0843,-66.1267, 120.4620,  571,     41.5,  -1.2350,  34.1838,2,  34.1800,2,    343.6,2,    342.6,2,  -999.00,9,  -999.00,9,  -999.00,9,   2200.5,2,   2308.5,2,    0.354,2,   23.500,2,   97.026,2
  09AR20141205,AU1402,     4,  1,      0,     19,2,20141226,0843,-66.1267, 120.4620,  571,     65.4,  -1.4203,  34.2032,2,  34.2042,2,    346.9,2,    348.7,2,  -999.00,9,  -999.00,9,  -999.00,9,   2202.3,2,   2310.5,2,    0.544,2,    8.558,2,   97.198,2
  09AR20141205,AU1402,     4,  1,      0,     18,2,20141226,0843,-66.1267, 120.4620,  571,     65.6,  -1.4224,  34.2046,2,-999.0000,9,    346.9,2,   -999.0,9,  -999.00,9,  -999.00,9,  -999.00,9,   -999.0,9,   -999.0,9,    0.550,2,    8.242,2,   97.235,2
  09AR20141205,AU1402,     4,  1,      0,     17,2,20141226,0843,-66.1267, 120.4620,  571,    120.6,  -1.7016,  34.2345,2,  34.2371,2,    337.6,2,    340.2,2,  -999.00,9,  -999.00,9,  -999.00,9,   2208.6,2,   2313.4,2,    0.435,2,    0.624,2,   98.755,2
  09AR20141205,AU1402,     4,  1,      0,     16,2,20141226,0843,-66.1267, 120.4620,  571,    176.0,  -1.8632,  34.2545,2,-999.0000,9,    317.9,2,   -999.0,9,  -999.00,9,  -999.00,9,  -999.00,9,   -999.0,9,   -999.0,9,   -0.054,2,    0.034,2,   99.434,2
  09AR20141205,AU1402,     4,  1,      0,     15,2,20141226,0843,-66.1267, 120.4620,  571,    176.0,  -1.8633,  34.2546,2,  34.2536,2,    317.9,2,    318.8,2,  -999.00,9,  -999.00,9,  -999.00,9,   2213.7,2,   2313.5,2,   -0.055,2,    0.033,2,   99.429,2
  09AR20141205,AU1402,     4,  1,      0,     14,2,20141226,0843,-66.1267, 120.4620,  571,    252.4,  -1.8177,  34.2841,2,-999.0000,9,    319.5,2,   -999.0,9,  -999.00,9,  -999.00,9,  -999.00,9,   -999.0,9,   -999.0,9,   -0.052,2,    0.000,2,   99.438,2
  09AR20141205,AU1402,     4,  1,      0,     13,2,20141226,0843,-66.1267, 120.4620,  571,    252.3,  -1.8165,  34.2843,2,  34.2834,2,    319.5,2,    317.6,2,  -999.00,9,  -999.00,9,  -999.00,9,   2215.6,2,   2313.8,2,   -0.053,2,    0.000,2,   99.433,2
  09AR20141205,AU1402,     4,  1,      0,     12,2,20141226,0843,-66.1267, 120.4620,  571,    300.9,  -1.7680,  34.3087,2,-999.0000,9,    313.5,2,   -999.0,9,  -999.00,9,  -999.00,9,  -999.00,9,   -999.0,9,   -999.0,9,   -0.066,2,    0.000,2,   99.474,2
  09AR20141205,AU1402,     4,  1,      0,     11,2,20141226,0843,-66.1267, 120.4620,  571,    301.0,  -1.7616,  34.3086,2,  34.3078,2,    313.5,2,    315.2,2,  -999.00,9,  -999.00,9,  -999.00,9,   2217.7,2,   2318.2,6,   -0.068,2,    0.000,2,   99.466,2
  09AR20141205,AU1402,     4,  1,      0,     10,2,20141226,0843,-66.1267, 120.4620,  571,    361.9,  -1.7923,  34.3262,2,-999.0000,9,    316.2,2,   -999.0,9,  -999.00,9,  -999.00,9,  -999.00,9,   -999.0,9,   -999.0,9,   -0.075,2,    0.000,2,   99.630,2
  09AR20141205,AU1402,     4,  1,      0,      9,2,20141226,0843,-66.1267, 120.4620,  571,    361.8,  -1.7912,  34.3263,2,  34.3255,2,    316.2,2,    316.3,2,  -999.00,9,  -999.00,9,  -999.00,9,   2218.9,6,   2319.9,6,   -0.084,2,    0.000,2,   99.632,2
  09AR20141205,AU1402,     4,  1,      0,      8,2,20141226,0843,-66.1267, 120.4620,  571,    440.8,  -1.0753,  34.4284,2,-999.0000,9,    286.5,2,   -999.0,9,  -999.00,9,  -999.00,9,  -999.00,9,   -999.0,9,   -999.0,9,   -0.094,2,    0.000,2,   99.540,2
  09AR20141205,AU1402,     4,  1,      0,      7,2,20141226,0843,-66.1267, 120.4620,  571,    440.8,  -1.0759,  34.4284,2,  34.4313,2,    286.5,2,    281.0,2,  -999.00,9,  -999.00,9,  -999.00,9,   2232.6,2,   2326.8,2,   -0.089,2,    0.000,2,   99.551,2
  09AR20141205,AU1402,     4,  1,      0,      6,2,20141226,0843,-66.1267, 120.4620,  571,    521.7,  -0.1490,  34.5579,2,-999.0000,9,    244.6,2,   -999.0,9,  -999.00,9,  -999.00,9,  -999.00,9,   -999.0,9,   -999.0,9,   -0.084,2,    0.000,2,   98.866,2
  09AR20141205,AU1402,     4,  1,      0,      5,2,20141226,0843,-66.1267, 120.4620,  571,    521.7,  -0.1479,  34.5581,2,  34.5573,2,    244.6,2,    244.1,2,  -999.00,9,  -999.00,9,  -999.00,9,   2243.1,2,   2338.4,2,   -0.083,2,    0.000,2,   98.859,2
  09AR20141205,AU1402,     4,  1,      0,      4,2,20141226,0843,-66.1267, 120.4620,  571,    550.9,  -0.0012,  34.5797,2,-999.0000,9,    235.8,2,   -999.0,9,  -999.00,9,  -999.00,9,  -999.00,9,   -999.0,9,   -999.0,9,   -0.017,2,    0.000,2,   98.154,2
  09AR20141205,AU1402,     4,  1,      0,      3,2,20141226,0843,-66.1267, 120.4620,  571,    550.9,  -0.0033,  34.5795,2,  34.5801,2,    235.8,2,    236.5,2,  -999.00,9,  -999.00,9,  -999.00,9,   2247.3,2,   2338.9,2,   -0.078,2,    0.000,2,   98.159,2
  09AR20141205,AU1402,     4,  1,      0,      2,2,20141226,0843,-66.1267, 120.4620,  571,    571.0,   0.0103,  34.5814,2,-999.0000,9,    234.7,2,   -999.0,9,  -999.00,9,  -999.00,9,  -999.00,9,   -999.0,9,   -999.0,9,   -0.073,2,    0.000,2,   98.002,2
  09AR20141205,AU1402,     4,  1,      0,      1,2,20141226,0843,-66.1267, 120.4620,  571,    571.0,   0.0102,  34.5813,2,  34.5813,2,    234.7,2,    235.9,2,  -999.00,9,  -999.00,9,  -999.00,9,   2248.8,2,   2340.1,2,   -0.071,2,    0.000,2,   98.001,2
  09AR20141205,AU1402,     5,  1,      0,     24,2,20141226,1138,-66.0472, 119.9847,  507,     10.3,  -1.5211,  34.1227,2,  34.1267,2,    338.5,2,    337.3,2,    64.40,2,    29.76,2,     2.04,3,   2199.6,2,   2308.9,2,    0.329,2,   20.910,2,   97.121,2
  09AR20141205,AU1402,     5,  1,      0,     23,2,20141226,1138,-66.0472, 119.9847,  507,     10.3,  -1.5211,  34.1228,2,-999.0000,9,    338.5,2,   -999.0,9,  -999.00,9,  -999.00,9,  -999.00,9,   -999.0,9,   -999.0,9,    0.331,2,   20.860,2,   97.123,2
  09AR20141205,AU1402,     5,  1,      0,     22,2,20141226,1138,-66.0472, 119.9847,  507,     10.4,  -1.5214,  34.1229,2,-999.0000,9,    338.5,2,   -999.0,9,  -999.00,9,  -999.00,9,  -999.00,9,   -999.0,9,   -999.0,9,    0.335,2,   20.650,2,   97.125,2
  09AR20141205,AU1402,     5,  1,      0,     21,2,20141226,1138,-66.0472, 119.9847,  507,     10.7,  -1.5213,  34.1229,2,-999.0000,9,    338.5,2,   -999.0,9,  -999.00,9,  -999.00,9,  -999.00,9,   -999.0,9,   -999.0,9,    0.337,2,   20.320,2,   97.127,2
  09AR20141205,AU1402,     5,  1,      0,     20,2,20141226,1138,-66.0472, 119.9847,  507,     41.5,  -1.5507,  34.1842,2,-999.0000,9,    337.8,2,   -999.0,9,  -999.00,9,  -999.00,9,  -999.00,9,   -999.0,9,   -999.0,9,    0.598,2,    4.895,2,   96.498,2
  09AR20141205,AU1402,     5,  1,      0,     19,2,20141226,1138,-66.0472, 119.9847,  507,     41.4,  -1.5485,  34.1839,2,  34.1680,2,    337.8,2,    339.3,2,    60.70,2,    29.64,2,     2.02,3,   2200.8,2,   2308.4,2,    0.572,2,    5.025,2,   96.505,2
  09AR20141205,AU1402,     5,  1,      0,     18,2,20141226,1138,-66.0472, 119.9847,  507,     65.7,  -1.7675,  34.2180,2,-999.0000,9,    331.6,2,   -999.0,9,  -999.00,9,  -999.00,9,  -999.00,9,   -999.0,9,   -999.0,9,    0.776,2,    1.636,2,   97.326,2
  09AR20141205,AU1402,     5,  1,      0,     17,2,20141226,1138,-66.0472, 119.9847,  507,     65.6,  -1.7992,  34.2249,2,  34.2279,2,    331.6,2,    325.0,2,    60.70,2,    30.20,2,     2.08,3,   2209.2,2,   2313.2,2,    0.550,2,    1.671,2,   97.746,2
  09AR20141205,AU1402,     5,  1,      0,     16,2,20141226,1138,-66.0472, 119.9847,  507,     74.0,  -1.8403,  34.2459,2,-999.0000,9,    318.0,2,   -999.0,9,  -999.00,9,  -999.00,9,  -999.00,9,   -999.0,9,   -999.0,9,    0.069,2,    1.284,2,   98.816,2
  09AR20141205,AU1402,     5,  1,      0,     15,2,20141226,1138,-66.0472, 119.9847,  507,     74.1,  -1.8399,  34.2453,2,  34.2444,2,    318.0,2,    318.3,2,  -999.00,9,  -999.00,9,  -999.00,9,   -999.0,9,   -999.0,9,    0.068,2,    1.273,2,   98.802,2
  09AR20141205,AU1402,     5,  1,      0,     14,2,20141226,1138,-66.0472, 119.9847,  507,     74.1,  -1.8399,  34.2454,2,-999.0000,9,    318.0,2,   -999.0,9,  -999.00,9,  -999.00,9,  -999.00,9,   -999.0,9,   -999.0,9,    0.069,2,    1.288,2,   98.799,2
  09AR20141205,AU1402,     5,  1,      0,     13,2,20141226,1138,-66.0472, 119.9847,  507,     74.1,  -1.8403,  34.2441,2,-999.0000,9,    318.0,2,   -999.0,9,  -999.00,9,  -999.00,9,  -999.00,9,   2210.8,6,   2315.2,6,    0.086,2,    1.274,2,   98.778,2
  09AR20141205,AU1402,     5,  1,      0,     12,2,20141226,1138,-66.0472, 119.9847,  507,    121.1,  -1.8372,  34.2641,2,-999.0000,9,    321.9,2,   -999.0,9,  -999.00,9,  -999.00,9,  -999.00,9,   -999.0,9,   -999.0,9,   -0.009,2,    0.197,2,   99.019,2
  09AR20141205,AU1402,     5,  1,      0,     11,2,20141226,1138,-66.0472, 119.9847,  507,    121.1,  -1.8377,  34.2648,2,  34.2638,2,    321.9,2,    321.4,2,    61.10,2,    30.48,2,     2.08,3,   2213.7,2,   2313.6,2,   -0.007,2,    0.195,2,   99.015,2
  09AR20141205,AU1402,     5,  1,      0,     10,2,20141226,1138,-66.0472, 119.9847,  507,    276.1,  -1.8439,  34.2983,2,-999.0000,9,    318.8,2,   -999.0,9,  -999.00,9,  -999.00,9,  -999.00,9,   -999.0,9,   -999.0,9,   -0.083,2,    0.000,2,   99.155,2
  09AR20141205,AU1402,     5,  1,      0,      9,2,20141226,1138,-66.0472, 119.9847,  507,    276.2,  -1.8440,  34.2984,2,  34.2984,2,    318.8,2,    319.2,2,  -999.00,9,  -999.00,9,  -999.00,9,   2213.5,2,   2315.9,2,   -0.078,2,    0.000,2,   99.155,2
  09AR20141205,AU1402,     5,  1,      0,      8,2,20141226,1138,-66.0472, 119.9847,  507,    380.4,  -1.8142,  34.3223,2,-999.0000,9,    317.5,2,   -999.0,9,  -999.00,9,  -999.00,9,  -999.00,9,   -999.0,9,   -999.0,9,   -0.078,2,    0.000,2,   99.186,2
  09AR20141205,AU1402,     5,  1,      0,      7,2,20141226,1138,-66.0472, 119.9847,  507,    380.3,  -1.8142,  34.3223,2,  34.3229,2,    317.5,2,    317.5,2,    62.70,2,    30.76,2,     2.12,3,   2218.1,2,   2318.9,6,   -0.079,2,    0.000,2,   99.186,2
  09AR20141205,AU1402,     5,  1,      0,      6,2,20141226,1138,-66.0472, 119.9847,  507,    452.5,  -1.4703,  34.3826,2,-999.0000,9,    300.6,2,   -999.0,9,  -999.00,9,  -999.00,9,  -999.00,9,   -999.0,9,   -999.0,9,   -0.098,2,    0.000,2,   99.235,2
  09AR20141205,AU1402,     5,  1,      0,      5,2,20141226,1138,-66.0472, 119.9847,  507,    452.5,  -1.4653,  34.3832,2,  34.3809,2,    300.6,2,    300.2,2,  -999.00,9,  -999.00,9,  -999.00,9,   2225.4,2,   2324.5,2,   -0.093,2,    0.000,2,   99.239,2
  09AR20141205,AU1402,     5,  1,      0,      4,2,20141226,1138,-66.0472, 119.9847,  507,    476.3,  -0.6334,  34.4851,2,-999.0000,9,    270.9,2,   -999.0,9,  -999.00,9,  -999.00,9,  -999.00,9,   -999.0,9,   -999.0,9,   -0.091,2,    0.000,2,   99.067,2
  09AR20141205,AU1402,     5,  1,      0,      3,2,20141226,1138,-66.0472, 119.9847,  507,    476.2,  -0.6337,  34.4851,2,  34.5001,2,    270.9,2,    260.3,2,  -999.00,9,  -999.00,9,  -999.00,9,   2239.4,2,   2328.7,2,   -0.095,2,    0.000,2,   99.070,2
  09AR20141205,AU1402,     5,  1,      0,      2,2,20141226,1138,-66.0472, 119.9847,  507,    500.8,  -0.1295,  34.5559,2,-999.0000,9,    243.1,2,   -999.0,9,  -999.00,9,  -999.00,9,  -999.00,9,   -999.0,9,   -999.0,9,   -0.083,2,    0.000,2,   98.087,2
  09AR20141205,AU1402,     5,  1,      0,      1,2,20141226,1138,-66.0472, 119.9847,  507,    500.8,  -0.1297,  34.5558,2,  34.5546,2,    243.1,2,    243.2,2,    64.10,2,    32.26,2,     2.23,3,   2244.6,2,   2336.0,2,   -0.090,2,    0.000,2,   98.078,2
  09AR20141205,AU1402,     6,  1,      0,     24,2,20141226,1415,-66.1487, 119.9648,  501,     10.6,  -1.2442,  34.1677,2,  34.1663,2,    346.4,2,    347.3,2,    64.50,2,    29.32,2,     2.00,3,   2198.6,2,   2309.4,2,    0.507,2,    3.018,2,   95.965,2
  09AR20141205,AU1402,     6,  1,      0,     23,2,20141226,1415,-66.1487, 119.9648,  501,     10.6,  -1.2434,  34.1676,2,-999.0000,9,    346.4,2,   -999.0,9,  -999.00,9,  -999.00,9,  -999.00,9,   -999.0,9,   -999.0,9,    0.514,2,    2.974,2,   95.962,2
  09AR20141205,AU1402,     6,  1,      0,     22,2,20141226,1415,-66.1487, 119.9648,  501,     10.6,  -1.2459,  34.1679,2,-999.0000,9,    346.4,2,   -999.0,9,  -999.00,9,  -999.00,9,  -999.00,9,   -999.0,9,   -999.0,9,    0.518,2,    2.987,2,   95.970,2
  09AR20141205,AU1402,     6,  1,      0,     21,2,20141226,1415,-66.1487, 119.9648,  501,     10.6,  -1.2471,  34.1680,2,-999.0000,9,    346.4,2,   -999.0,9,  -999.00,9,  -999.00,9,  -999.00,9,   -999.0,9,   -999.0,9,    0.556,2,    3.052,2,   95.975,2
  09AR20141205,AU1402,     6,  1,      0,     20,2,20141226,1415,-66.1487, 119.9648,  501,     30.5,  -1.2758,  34.1719,2,-999.0000,9,    344.6,2,   -999.0,9,  -999.00,9,  -999.00,9,  -999.00,9,   -999.0,9,   -999.0,9,    0.533,2,    1.023,2,   96.070,2
  09AR20141205,AU1402,     6,  1,      0,     19,2,20141226,1415,-66.1487, 119.9648,  501,     30.5,  -1.3120,  34.1789,2,  34.1824,2,    344.6,2,    345.9,2,    60.50,2,    29.39,2,     2.01,3,   2200.7,2,   2304.4,3,    0.520,2,    1.038,2,   96.192,2
  09AR20141205,AU1402,     6,  1,      0,     18,2,20141226,1415,-66.1487, 119.9648,  501,     60.9,  -1.6310,  34.2328,2,-999.0000,9,    340.4,2,   -999.0,9,  -999.00,9,  -999.00,9,  -999.00,9,   -999.0,9,   -999.0,9,    0.524,2,    0.250,2,   97.826,2
  09AR20141205,AU1402,     6,  1,      0,     17,2,20141226,1415,-66.1487, 119.9648,  501,     60.9,  -1.6316,  34.2328,2,  34.2320,2,    340.4,2,    339.1,2,    61.40,2,    29.84,2,     2.05,3,   2206.9,2,   2315.3,2,    0.532,2,    0.256,2,   97.842,2
  09AR20141205,AU1402,     6,  1,      0,     16,2,20141226,1415,-66.1487, 119.9648,  501,    131.0,  -1.8653,  34.2498,2,-999.0000,9,    317.2,2,   -999.0,9,  -999.00,9,  -999.00,9,  -999.00,9,   -999.0,9,   -999.0,9,   -0.031,2,    0.000,2,   99.019,2
  09AR20141205,AU1402,     6,  1,      0,     15,2,20141226,1415,-66.1487, 119.9648,  501,    131.0,  -1.8654,  34.2498,2,-999.0000,9,    317.2,2,   -999.0,9,  -999.00,9,  -999.00,9,  -999.00,9,   -999.0,9,   -999.0,9,   -0.035,2,    0.000,2,   99.020,2
  09AR20141205,AU1402,     6,  1,      0,     14,2,20141226,1415,-66.1487, 119.9648,  501,    131.0,  -1.8655,  34.2498,2,-999.0000,9,    317.2,2,   -999.0,9,  -999.00,9,  -999.00,9,  -999.00,9,   -999.0,9,   -999.0,9,   -0.036,2,    0.000,2,   99.015,2
  09AR20141205,AU1402,     6,  1,      0,     13,2,20141226,1415,-66.1487, 119.9648,  501,    131.1,  -1.8650,  34.2497,2,  34.2476,2,    317.2,2,    318.0,2,    62.40,2,    30.74,2,     2.11,3,   2214.8,2,   2314.7,2,   -0.042,2,    0.000,2,   99.015,2
  09AR20141205,AU1402,     6,  1,      0,     12,2,20141226,1415,-66.1487, 119.9648,  501,    251.1,  -1.8362,  34.2825,2,-999.0000,9,    321.0,2,   -999.0,9,  -999.00,9,  -999.00,9,  -999.00,9,   -999.0,9,   -999.0,9,   -0.044,2,    0.000,2,   99.081,2
  09AR20141205,AU1402,     6,  1,      0,     11,2,20141226,1415,-66.1487, 119.9648,  501,    251.1,  -1.8360,  34.2826,2,-999.0000,9,    321.0,2,   -999.0,9,  -999.00,9,  -999.00,9,  -999.00,9,   -999.0,9,   -999.0,9,   -0.049,2,    0.000,2,   99.083,2
  09AR20141205,AU1402,     6,  1,      0,     10,2,20141226,1415,-66.1487, 119.9648,  501,    251.1,  -1.8356,  34.2825,2,-999.0000,9,    321.0,2,   -999.0,9,  -999.00,9,  -999.00,9,  -999.00,9,   -999.0,9,   -999.0,9,   -0.053,2,    0.000,2,   99.083,2
  09AR20141205,AU1402,     6,  1,      0,      9,2,20141226,1415,-66.1487, 119.9648,  501,    251.0,  -1.8375,  34.2832,2,  34.2814,2,    320.7,2,    319.9,2,  -999.00,9,  -999.00,9,  -999.00,9,   2214.1,2,   2316.5,6,   -0.057,2,    0.000,2,   99.086,2
  09AR20141205,AU1402,     6,  1,      0,      8,2,20141226,1415,-66.1487, 119.9648,  501,    351.0,  -1.8341,  34.3060,2,-999.0000,9,    318.1,2,   -999.0,9,  -999.00,9,  -999.00,9,  -999.00,9,   -999.0,9,   -999.0,9,   -0.072,2,    0.000,2,   99.200,2
  09AR20141205,AU1402,     6,  1,      0,      7,2,20141226,1415,-66.1487, 119.9648,  501,    351.0,  -1.8338,  34.3062,2,-999.0000,9,    318.1,2,   -999.0,9,  -999.00,9,  -999.00,9,  -999.00,9,   -999.0,9,   -999.0,9,   -0.075,2,    0.000,2,   99.208,2
  09AR20141205,AU1402,     6,  1,      0,      6,2,20141226,1415,-66.1487, 119.9648,  501,    351.0,  -1.8335,  34.3063,2,-999.0000,9,    318.1,2,   -999.0,9,  -999.00,9,  -999.00,9,  -999.00,9,   -999.0,9,   -999.0,9,   -0.079,2,    0.000,2,   99.201,2
  09AR20141205,AU1402,     6,  1,      0,      5,2,20141226,1415,-66.1487, 119.9648,  501,    351.0,  -1.8333,  34.3064,2,  34.3064,2,    318.0,2,    318.6,2,    63.60,2,    30.65,2,     2.10,3,   2217.5,6,   2316.8,6,   -0.075,2,    0.000,2,   99.182,2
  09AR20141205,AU1402,     6,  1,      0,      4,2,20141226,1415,-66.1487, 119.9648,  501,    451.3,  -1.7359,  34.3500,2,-999.0000,9,    313.5,2,   -999.0,9,  -999.00,9,  -999.00,9,  -999.00,9,   -999.0,9,   -999.0,9,   -0.096,2,    0.000,2,   99.309,2
  09AR20141205,AU1402,     6,  1,      0,      3,2,20141226,1415,-66.1487, 119.9648,  501,    451.3,  -1.7372,  34.3499,2,  34.3502,2,    313.5,2,    314.3,2,  -999.00,9,  -999.00,9,  -999.00,9,   2220.0,2,   2321.8,6,   -0.092,2,    0.000,2,   99.295,2
  09AR20141205,AU1402,     6,  1,      0,      2,2,20141226,1415,-66.1487, 119.9648,  501,    497.4,  -1.3322,  34.3959,2,-999.0000,9,    295.2,2,   -999.0,9,  -999.00,9,  -999.00,9,  -999.00,9,   -999.0,9,   -999.0,9,   -0.090,2,    0.000,2,   99.110,2
  09AR20141205,AU1402,     6,  1,      0,      1,2,20141226,1415,-66.1487, 119.9648,  501,    497.7,  -1.3311,  34.3961,2,  34.3949,2,    295.2,2,    294.5,2,    64.10,2,    31.41,2,  -999.00,9,   2226.4,2,   2320.4,2,   -0.098,2,    0.000,2,   99.120,2