BOTTLE,20210329PRINUNIVRMK
EXPOCODE,SECT_ID,STNNBR,CASTNO,SAMPNO,BTLNBR,BTLNBR_FLAG_W,DATE,TIME,LATITUDE,LONGITUDE,DEPTH,CTDPRS,CTDTMP,CTDSAL,CTDSAL_FLAG_W,SALNTY,SALNTY_FLAG_W,CTDOXY,CTDOXY_FLAG_W,OXYGEN,OXYGEN_FLAG_W,SILCAT,SILCAT_FLAG_W,NITRAT,NITRAT_FLAG_W,PHSPHT,PHSPHT_FLAG_W,TCARBN,TCARBN_FLAG_W,ALKALI,ALKALI_FLAG_W,CTDFLUOR,CTDFLUOR_FLAG_W,CTDPAR,CTDPAR_FLAG_W,CTDXMISS,CTDXMISS_FLAG_W
,,,,,,,,,,,METERS,DBAR,ITS-90,PSS-78,,PSS-78,,UMOL/KG,,UMOL/KG,,UMOL/KG,,UMOL/KG,,UMOL/KG,,UMOL/KG,,UMOL/KG,,MG/M^3,,UEINSTEIN/M^2*SEC,,%TRANS,
  09AR20141205,AU1402,   103,  1,      0,     24,2,20150114,0339,-67.0543, 145.1773, 1303,      7.0,  -1.5704,  33.7296,2,  33.6700,2,    381.8,2,    383.3,2,    59.20,2,    17.50,2,     1.42,3,   2101.0,2,   2292.4,2,    9.144,2,   34.470,2,   84.793,2
  09AR20141205,AU1402,   103,  1,      0,     23,2,20150114,0339,-67.0543, 145.1773, 1303,      7.0,  -1.5639,  33.7240,2,-999.0000,9,    381.8,2,   -999.0,9,  -999.00,9,  -999.00,9,  -999.00,9,   -999.0,9,   -999.0,9,    8.992,2,   34.820,2,   84.793,2
  09AR20141205,AU1402,   103,  1,      0,     22,2,20150114,0339,-67.0543, 145.1773, 1303,      6.9,  -1.5546,  33.7161,2,-999.0000,9,    381.8,2,   -999.0,9,  -999.00,9,  -999.00,9,  -999.00,9,   -999.0,9,   -999.0,9,    8.658,2,   35.090,2,   84.908,2
  09AR20141205,AU1402,   103,  1,      0,     21,2,20150114,0339,-67.0543, 145.1773, 1303,     20.3,  -1.5633,  33.7423,2,  33.7763,2,    372.0,2,    371.0,2,    52.80,2,    18.89,2,     1.52,3,   2119.1,2,   2298.1,2,   11.663,2,    3.967,2,   85.095,2
  09AR20141205,AU1402,   103,  1,      0,     20,2,20150114,0339,-67.0543, 145.1773, 1303,     20.3,  -1.5608,  33.7428,2,-999.0000,9,    372.0,2,   -999.0,9,  -999.00,9,  -999.00,9,  -999.00,9,   -999.0,9,   -999.0,9,   11.524,2,    4.050,2,   85.258,2
  09AR20141205,AU1402,   103,  1,      0,     19,2,20150114,0339,-67.0543, 145.1773, 1303,     60.9,  -1.6352,  34.1355,2,-999.0000,9,    344.3,2,    338.7,2,  -999.00,9,  -999.00,9,  -999.00,9,   2182.3,2,   2317.6,2,    5.302,2,    0.000,2,   90.655,2
  09AR20141205,AU1402,   103,  1,      0,     18,2,20150114,0339,-67.0543, 145.1773, 1303,     75.6,  -1.3845,  34.2604,2,-999.0000,9,    326.7,2,   -999.0,9,  -999.00,9,  -999.00,9,  -999.00,9,   -999.0,9,   -999.0,9,    8.184,2,    0.000,2,   89.710,2
  09AR20141205,AU1402,   103,  1,      0,     17,2,20150114,0339,-67.0543, 145.1773, 1303,     75.6,  -1.3871,  34.2599,2,  34.2689,2,    326.7,2,    329.2,2,    65.20,2,    24.78,2,     1.91,3,   2194.4,2,   2325.1,2,    8.671,2,    0.000,2,   89.878,2
  09AR20141205,AU1402,   103,  1,      0,     16,2,20150114,0339,-67.0543, 145.1773, 1303,     75.6,  -1.3860,  34.2601,2,-999.0000,9,    326.7,2,   -999.0,9,  -999.00,9,  -999.00,9,  -999.00,9,   -999.0,9,   -999.0,9,    8.296,2,    0.000,2,   89.850,2
  09AR20141205,AU1402,   103,  1,      0,     15,2,20150114,0339,-67.0543, 145.1773, 1303,    100.7,  -1.6142,  34.3253,2,-999.0000,9,    314.8,2,    310.7,2,  -999.00,9,  -999.00,9,  -999.00,9,   2218.0,2,   2327.2,2,    3.187,2,    0.000,2,   93.166,2
  09AR20141205,AU1402,   103,  1,      0,     14,2,20150114,0339,-67.0543, 145.1773, 1303,    100.6,  -1.6131,  34.3249,2,-999.0000,9,    314.8,2,   -999.0,9,  -999.00,9,  -999.00,9,  -999.00,9,   -999.0,9,   -999.0,9,    3.161,2,    0.000,2,   93.071,2
  09AR20141205,AU1402,   103,  1,      0,     13,2,20150114,0339,-67.0543, 145.1773, 1303,    175.6,  -1.7273,  34.4604,2,  34.4601,2,    293.3,2,    295.9,2,    64.40,2,    30.52,2,     2.16,3,   2230.9,2,   2329.5,2,    0.076,2,    0.000,2,   98.365,2
  09AR20141205,AU1402,   103,  1,      0,     12,2,20150114,0339,-67.0543, 145.1773, 1303,    175.5,  -1.7219,  34.4596,2,-999.0000,9,    293.3,2,   -999.0,9,  -999.00,9,  -999.00,9,  -999.00,9,   -999.0,9,   -999.0,9,    0.102,2,    0.000,2,   98.291,2
  09AR20141205,AU1402,   103,  1,      0,     11,2,20150114,0339,-67.0543, 145.1773, 1303,    301.0,  -1.8608,  34.4920,2,-999.0000,9,    303.2,2,    302.9,2,  -999.00,9,  -999.00,9,  -999.00,9,   2232.7,2,   2335.0,2,   -0.003,2,    0.000,2,   98.672,2
  09AR20141205,AU1402,   103,  1,      0,     10,2,20150114,0339,-67.0543, 145.1773, 1303,    300.9,  -1.8606,  34.4920,2,-999.0000,9,    303.3,2,   -999.0,9,  -999.00,9,  -999.00,9,  -999.00,9,   -999.0,9,   -999.0,9,    0.002,2,    0.000,2,   98.649,2
  09AR20141205,AU1402,   103,  1,      0,      9,2,20150114,0339,-67.0543, 145.1773, 1303,    501.4,  -1.8942,  34.5282,2,-999.0000,9,    304.3,2,    304.4,2,    71.70,2,    30.68,2,     2.15,3,   2235.6,2,   2336.1,2,   -0.064,2,    0.000,2,   98.747,2
  09AR20141205,AU1402,   103,  1,      0,      8,2,20150114,0339,-67.0543, 145.1773, 1303,    501.3,  -1.8944,  34.5283,2,-999.0000,9,    304.3,2,   -999.0,9,  -999.00,9,  -999.00,9,  -999.00,9,   -999.0,9,   -999.0,9,   -0.073,2,    0.000,2,   98.752,2
  09AR20141205,AU1402,   103,  1,      0,      7,2,20150114,0339,-67.0543, 145.1773, 1303,    702.2,  -1.8997,  34.5712,2,-999.0000,9,    308.0,2,    307.2,2,    72.20,2,    30.59,2,     2.15,3,   2238.4,2,   2339.1,2,   -0.077,2,    0.000,2,   98.725,2
  09AR20141205,AU1402,   103,  1,      0,      6,2,20150114,0339,-67.0543, 145.1773, 1303,    702.1,  -1.9000,  34.5710,2,-999.0000,9,    308.0,2,   -999.0,9,  -999.00,9,  -999.00,9,  -999.00,9,   -999.0,9,   -999.0,9,   -0.083,2,    0.000,2,   98.718,2
  09AR20141205,AU1402,   103,  1,      0,      5,2,20150114,0339,-67.0543, 145.1773, 1303,    901.9,  -1.8844,  34.5938,2,  34.5928,2,    307.2,2,    307.6,2,    71.50,2,    30.70,2,     2.15,3,   2238.5,6,   2341.1,6,   -0.082,2,    0.000,2,   98.772,2
  09AR20141205,AU1402,   103,  1,      0,      4,2,20150114,0339,-67.0543, 145.1773, 1303,    901.8,  -1.8844,  34.5938,2,-999.0000,9,    307.2,2,   -999.0,9,  -999.00,9,  -999.00,9,  -999.00,9,   -999.0,9,   -999.0,9,   -0.084,2,    0.000,2,   98.768,2
  09AR20141205,AU1402,   103,  1,      0,      3,2,20150114,0339,-67.0543, 145.1773, 1303,   1101.7,  -1.8749,  34.6093,2,-999.0000,9,    307.0,2,    307.4,2,    71.70,2,    30.81,2,     2.14,3,   -999.0,9,   -999.0,9,   -0.080,2,    0.000,2,   98.685,2
  09AR20141205,AU1402,   103,  1,      0,      2,2,20150114,0339,-67.0543, 145.1773, 1303,   1101.3,  -1.8749,  34.6097,2,-999.0000,9,    307.0,2,   -999.0,9,  -999.00,9,  -999.00,9,  -999.00,9,   -999.0,9,   -999.0,9,   -0.081,2,    0.000,2,   98.677,2
  09AR20141205,AU1402,   103,  1,      0,      1,2,20150114,0339,-67.0543, 145.1773, 1303,   1310.9,  -1.8652,  34.6153,2,  34.6136,2,    306.3,2,    307.0,2,    72.30,2,    30.63,2,     2.16,3,   2241.2,2,   2341.8,2,   -0.077,2,    0.000,2,   98.579,2
  09AR20141205,AU1402,   104,  1,      0,     24,2,20150114,0731,-67.0388, 145.2358, 1141,      6.9,  -1.2029,  33.7307,2,-999.0000,9,    373.9,2,   -999.0,9,  -999.00,9,  -999.00,9,  -999.00,9,   -999.0,9,   -999.0,9,    5.759,2,  100.300,2,   83.192,2
  09AR20141205,AU1402,   104,  1,      0,     23,2,20150114,0731,-67.0388, 145.2358, 1141,      6.9,  -1.1806,  33.7522,2,-999.0000,9,    373.9,2,   -999.0,9,  -999.00,9,  -999.00,9,  -999.00,9,   -999.0,9,   -999.0,9,    9.005,2,  102.400,2,   83.053,2
  09AR20141205,AU1402,   104,  1,      0,     22,2,20150114,0731,-67.0388, 145.2358, 1141,      6.9,  -1.1540,  33.7817,2,-999.0000,9,    373.9,2,   -999.0,9,  -999.00,9,  -999.00,9,  -999.00,9,   -999.0,9,   -999.0,9,   12.462,2,  102.900,2,   83.126,2
  09AR20141205,AU1402,   104,  1,      0,     21,2,20150114,0731,-67.0388, 145.2358, 1141,      6.8,  -1.1629,  33.7739,2,  33.7976,2,    373.9,2,    370.9,2,  -999.00,9,  -999.00,9,  -999.00,9,   2115.7,2,   2297.9,2,   10.140,2,  103.300,2,   82.863,2
  09AR20141205,AU1402,   104,  1,      0,     20,2,20150114,0731,-67.0388, 145.2358, 1141,     26.0,  -0.8415,  33.9996,2,-999.0000,9,    357.0,2,   -999.0,9,  -999.00,9,  -999.00,9,  -999.00,9,   -999.0,9,   -999.0,9,   22.701,2,    1.930,2,   79.504,2
  09AR20141205,AU1402,   104,  1,      0,     19,2,20150114,0731,-67.0388, 145.2358, 1141,     26.0,  -0.8393,  34.0011,2,-999.0000,9,    357.0,2,    365.5,2,  -999.00,9,  -999.00,9,  -999.00,9,   2133.6,2,   2308.9,2,   25.471,2,    1.977,2,   78.013,2
  09AR20141205,AU1402,   104,  1,      0,     18,2,20150114,0731,-67.0388, 145.2358, 1141,     54.8,  -1.0528,  34.1790,2,-999.0000,9,    340.2,2,   -999.0,9,  -999.00,9,  -999.00,9,  -999.00,9,   -999.0,9,   -999.0,9,   12.399,2,    0.000,2,   86.403,2
  09AR20141205,AU1402,   104,  1,      0,     17,2,20150114,0731,-67.0388, 145.2358, 1141,     54.8,  -1.0536,  34.1789,2,-999.0000,9,    340.2,2,    339.4,2,  -999.00,9,  -999.00,9,  -999.00,9,   2178.9,2,   2321.6,2,   10.994,2,    0.000,2,   86.482,2
  09AR20141205,AU1402,   104,  1,      0,     16,2,20150114,0731,-67.0388, 145.2358, 1141,     54.8,  -1.0524,  34.1782,2,-999.0000,9,    340.2,2,   -999.0,9,  -999.00,9,  -999.00,9,  -999.00,9,   -999.0,9,   -999.0,9,   13.959,2,    0.000,2,   86.971,2
  09AR20141205,AU1402,   104,  1,      0,     15,2,20150114,0731,-67.0388, 145.2358, 1141,     90.8,  -1.6512,  34.4022,2,-999.0000,9,    305.2,2,    300.0,2,  -999.00,9,  -999.00,9,  -999.00,9,   2227.4,2,   2325.0,2,    2.195,2,    0.000,2,   95.341,2
  09AR20141205,AU1402,   104,  1,      0,     14,2,20150114,0731,-67.0388, 145.2358, 1141,     90.8,  -1.6512,  34.4022,2,-999.0000,9,    305.2,2,   -999.0,9,  -999.00,9,  -999.00,9,  -999.00,9,   -999.0,9,   -999.0,9,    2.129,2,    0.000,2,   95.170,2
  09AR20141205,AU1402,   104,  1,      0,     13,2,20150114,0731,-67.0388, 145.2358, 1141,    200.4,  -1.7736,  34.4601,2,-999.0000,9,    295.7,2,    298.7,2,  -999.00,9,  -999.00,9,  -999.00,9,   2232.8,2,   2328.7,2,    0.101,2,    0.000,2,   98.365,2
  09AR20141205,AU1402,   104,  1,      0,     12,2,20150114,0731,-67.0388, 145.2358, 1141,    200.4,  -1.7735,  34.4598,2,-999.0000,9,    295.7,2,   -999.0,9,  -999.00,9,  -999.00,9,  -999.00,9,   -999.0,9,   -999.0,9,    0.080,2,    0.000,2,   98.384,2
  09AR20141205,AU1402,   104,  1,      0,     11,2,20150114,0731,-67.0388, 145.2358, 1141,    252.2,  -1.9150,  34.4727,2,  34.4707,2,    303.6,2,    304.5,2,  -999.00,9,  -999.00,9,  -999.00,9,   2231.9,6,   2328.7,6,   -0.013,2,    0.000,2,   98.555,2
  09AR20141205,AU1402,   104,  1,      0,     10,2,20150114,0731,-67.0388, 145.2358, 1141,    252.1,  -1.9151,  34.4728,2,-999.0000,9,    303.6,2,   -999.0,9,  -999.00,9,  -999.00,9,  -999.00,9,   -999.0,9,   -999.0,9,    0.027,2,    0.000,2,   98.552,2
  09AR20141205,AU1402,   104,  1,      0,      9,2,20150114,0731,-67.0388, 145.2358, 1141,    400.5,  -1.8969,  34.5109,2,  34.5097,2,    303.5,2,    304.4,2,  -999.00,9,  -999.00,9,  -999.00,9,   2233.4,2,   2333.9,2,   -0.052,2,    0.000,2,   98.711,2
  09AR20141205,AU1402,   104,  1,      0,      8,2,20150114,0731,-67.0388, 145.2358, 1141,    400.5,  -1.8965,  34.5109,2,-999.0000,9,    303.5,2,   -999.0,9,  -999.00,9,  -999.00,9,  -999.00,9,   -999.0,9,   -999.0,9,   -0.070,2,    0.000,2,   98.717,2
  09AR20141205,AU1402,   104,  1,      0,      7,2,20150114,0731,-67.0388, 145.2358, 1141,    542.1,  -1.9097,  34.5414,2,-999.0000,9,    307.2,2,    305.7,2,  -999.00,9,  -999.00,9,  -999.00,9,   2237.7,2,   2333.2,2,   -0.064,2,    0.000,2,   98.617,2
  09AR20141205,AU1402,   104,  1,      0,      6,2,20150114,0731,-67.0388, 145.2358, 1141,    542.0,  -1.9098,  34.5415,2,-999.0000,9,    307.2,2,   -999.0,9,  -999.00,9,  -999.00,9,  -999.00,9,   -999.0,9,   -999.0,9,   -0.062,2,    0.000,2,   98.604,2
  09AR20141205,AU1402,   104,  1,      0,      5,2,20150114,0731,-67.0388, 145.2358, 1141,    700.6,  -1.8954,  34.5739,2,  34.5732,2,    307.9,2,    308.0,2,  -999.00,9,  -999.00,9,  -999.00,9,   2238.8,2,   2336.8,6,   -0.086,2,    0.000,2,   98.769,2
  09AR20141205,AU1402,   104,  1,      0,      4,2,20150114,0731,-67.0388, 145.2358, 1141,    700.6,  -1.8953,  34.5738,2,-999.0000,9,    307.9,2,   -999.0,9,  -999.00,9,  -999.00,9,  -999.00,9,   -999.0,9,   -999.0,9,   -0.083,2,    0.000,2,   98.757,2
  09AR20141205,AU1402,   104,  1,      0,      3,2,20150114,0731,-67.0388, 145.2358, 1141,    902.1,  -1.8849,  34.5965,2,-999.0000,9,    308.0,2,    307.8,2,  -999.00,9,  -999.00,9,  -999.00,9,   2238.6,2,   2338.5,2,   -0.083,2,    0.000,2,   98.716,2
  09AR20141205,AU1402,   104,  1,      0,      2,2,20150114,0731,-67.0388, 145.2358, 1141,    902.0,  -1.8849,  34.5966,2,-999.0000,9,    308.0,2,   -999.0,9,  -999.00,9,  -999.00,9,  -999.00,9,   -999.0,9,   -999.0,9,   -0.078,2,    0.000,2,   98.715,2
  09AR20141205,AU1402,   104,  1,      0,      1,2,20150114,0731,-67.0388, 145.2358, 1141,   1148.8,  -1.8723,  34.6145,2,  34.6136,2,    307.8,2,    307.3,2,  -999.00,9,  -999.00,9,  -999.00,9,   2240.9,2,   2337.4,2,   -0.074,2,    0.000,2,   98.572,2
  09AR20141205,AU1402,   105,  1,      0,     24,2,20150114,1127,-66.9437, 144.9597, 1023,      8.0,  -0.9123,  33.7144,2,-999.0000,9,    385.3,2,   -999.0,9,  -999.00,9,  -999.00,9,  -999.00,9,   -999.0,9,   -999.0,9,    9.043,2,    3.583,2,   86.054,2
  09AR20141205,AU1402,   105,  1,      0,     23,2,20150114,1127,-66.9437, 144.9597, 1023,      8.0,  -0.9126,  33.7148,2,-999.0000,9,    385.3,2,   -999.0,9,  -999.00,9,  -999.00,9,  -999.00,9,   -999.0,9,   -999.0,9,    9.171,2,    3.587,2,   85.969,2
  09AR20141205,AU1402,   105,  1,      0,     22,2,20150114,1127,-66.9437, 144.9597, 1023,      8.0,  -0.9111,  33.7147,2,-999.0000,9,    385.3,2,   -999.0,9,  -999.00,9,  -999.00,9,  -999.00,9,   -999.0,9,   -999.0,9,    9.077,2,    3.587,2,   86.077,2
  09AR20141205,AU1402,   105,  1,      0,     21,2,20150114,1127,-66.9437, 144.9597, 1023,      8.0,  -0.9185,  33.7154,2,  33.7138,2,    385.3,2,    380.2,2,    60.90,2,    17.91,2,     1.34,3,   2104.0,2,   2294.0,2,    9.035,2,    3.593,2,   86.092,2
  09AR20141205,AU1402,   105,  1,      0,     20,2,20150114,1127,-66.9437, 144.9597, 1023,     25.1,  -1.3449,  33.7458,2,-999.0000,9,    373.8,2,   -999.0,9,  -999.00,9,  -999.00,9,  -999.00,9,   -999.0,9,   -999.0,9,   13.385,2,    0.161,2,   83.564,2
  09AR20141205,AU1402,   105,  1,      0,     19,2,20150114,1127,-66.9437, 144.9597, 1023,     25.1,  -1.3436,  33.7455,2,-999.0000,9,    373.8,2,    376.6,2,    62.30,2,    18.26,2,     1.50,3,   2113.7,2,   2296.2,2,   14.841,2,    0.152,2,   83.565,2
  09AR20141205,AU1402,   105,  1,      0,     18,2,20150114,1127,-66.9437, 144.9597, 1023,     25.1,  -1.3429,  33.7459,2,-999.0000,9,    373.8,2,   -999.0,9,  -999.00,9,  -999.00,9,  -999.00,9,   -999.0,9,   -999.0,9,   13.674,2,    0.152,2,   83.868,2
  09AR20141205,AU1402,   105,  1,      0,     17,2,20150114,1127,-66.9437, 144.9597, 1023,     50.4,  -1.2732,  33.9812,2,-999.0000,9,    359.2,2,    355.3,2,    62.20,2,    20.25,2,     1.60,3,   2145.8,2,   2310.7,2,   16.465,2,    0.000,2,   84.122,2
  09AR20141205,AU1402,   105,  1,      0,     16,2,20150114,1127,-66.9437, 144.9597, 1023,     50.4,  -1.2805,  33.9825,2,-999.0000,9,    359.2,2,   -999.0,9,  -999.00,9,  -999.00,9,  -999.00,9,   -999.0,9,   -999.0,9,   14.200,2,    0.000,2,   84.254,2
  09AR20141205,AU1402,   105,  1,      0,     15,2,20150114,1127,-66.9437, 144.9597, 1023,     90.7,  -1.7569,  34.3563,2,  34.3570,2,    318.4,2,    313.5,2,    70.60,2,    28.65,2,     2.05,3,   2210.4,2,   2325.8,2,    0.990,2,    0.000,2,   96.391,2
  09AR20141205,AU1402,   105,  1,      0,     14,2,20150114,1127,-66.9437, 144.9597, 1023,     90.6,  -1.7595,  34.3566,2,-999.0000,9,    318.4,2,   -999.0,9,  -999.00,9,  -999.00,9,  -999.00,9,   -999.0,9,   -999.0,9,    0.917,2,    0.000,2,   96.554,2
  09AR20141205,AU1402,   105,  1,      0,     13,2,20150114,1127,-66.9437, 144.9597, 1023,    151.1,  -1.7751,  34.3954,2,-999.0000,9,    305.1,2,    305.2,2,    71.60,2,    29.90,2,     2.07,3,   2226.5,2,   2327.2,2,    0.530,2,    0.000,2,   97.227,2
  09AR20141205,AU1402,   105,  1,      0,     12,2,20150114,1127,-66.9437, 144.9597, 1023,    151.1,  -1.7740,  34.3955,2,-999.0000,9,    305.1,2,   -999.0,9,  -999.00,9,  -999.00,9,  -999.00,9,   -999.0,9,   -999.0,9,    0.581,2,    0.000,2,   97.249,2
  09AR20141205,AU1402,   105,  1,      0,     11,2,20150114,1127,-66.9437, 144.9597, 1023,    251.0,  -1.7636,  34.4559,2,-999.0000,9,    295.6,2,    298.0,2,  -999.00,9,  -999.00,9,  -999.00,9,   2232.0,2,   2330.3,2,    0.068,2,    0.000,2,   98.458,2
  09AR20141205,AU1402,   105,  1,      0,     10,2,20150114,1127,-66.9437, 144.9597, 1023,    251.0,  -1.7635,  34.4559,2,-999.0000,9,    295.6,2,   -999.0,9,  -999.00,9,  -999.00,9,  -999.00,9,   -999.0,9,   -999.0,9,    0.061,2,    0.000,2,   98.360,2
  09AR20141205,AU1402,   105,  1,      0,      9,2,20150114,1127,-66.9437, 144.9597, 1023,    380.4,  -1.8703,  34.5043,2,  34.5040,2,    302.7,2,    303.4,2,    72.50,2,    31.06,2,     2.09,3,   2234.0,2,   2332.1,6,    0.017,2,    0.000,2,   98.713,2
  09AR20141205,AU1402,   105,  1,      0,      8,2,20150114,1127,-66.9437, 144.9597, 1023,    380.4,  -1.8704,  34.5044,2,-999.0000,9,    302.7,2,   -999.0,9,  -999.00,9,  -999.00,9,  -999.00,9,   -999.0,9,   -999.0,9,    0.019,2,    0.000,2,   98.725,2
  09AR20141205,AU1402,   105,  1,      0,      7,2,20150114,1127,-66.9437, 144.9597, 1023,    552.2,  -1.9075,  34.5340,2,  34.5368,2,    303.8,2,    304.5,2,    72.80,2,    31.11,2,     2.03,3,   2235.6,2,   2332.9,2,   -0.067,2,    0.000,2,   98.634,2
  09AR20141205,AU1402,   105,  1,      0,      6,2,20150114,1127,-66.9437, 144.9597, 1023,    552.1,  -1.9079,  34.5342,2,-999.0000,9,    303.8,2,   -999.0,9,  -999.00,9,  -999.00,9,  -999.00,9,   -999.0,9,   -999.0,9,   -0.071,2,    0.000,2,   98.640,2
  09AR20141205,AU1402,   105,  1,      0,      5,2,20150114,1127,-66.9437, 144.9597, 1023,    721.2,  -1.9282,  34.5737,2,  34.5722,2,    307.1,2,    307.7,2,  -999.00,9,  -999.00,9,  -999.00,9,   2238.6,2,   2339.3,2,    0.078,2,    0.000,2,   98.608,2
  09AR20141205,AU1402,   105,  1,      0,      4,2,20150114,1127,-66.9437, 144.9597, 1023,    721.1,  -1.9292,  34.5736,2,-999.0000,9,    307.1,2,   -999.0,9,  -999.00,9,  -999.00,9,  -999.00,9,   -999.0,9,   -999.0,9,   -0.084,2,    0.000,2,   98.581,2
  09AR20141205,AU1402,   105,  1,      0,      3,2,20150114,1127,-66.9437, 144.9597, 1023,    871.6,  -1.8897,  34.5947,2,-999.0000,9,    307.9,2,    307.5,2,    72.40,2,    31.06,2,     2.10,3,   2240.7,2,   2338.6,2,   -0.086,2,    0.000,2,   98.684,2
  09AR20141205,AU1402,   105,  1,      0,      2,2,20150114,1127,-66.9437, 144.9597, 1023,    871.5,  -1.8896,  34.5945,2,-999.0000,9,    307.9,2,   -999.0,9,  -999.00,9,  -999.00,9,  -999.00,9,   -999.0,9,   -999.0,9,   -0.087,2,    0.000,2,   98.680,2
  09AR20141205,AU1402,   105,  1,      0,      1,2,20150114,1127,-66.9437, 144.9597, 1023,   1024.3,  -1.8781,  34.6072,2,  34.6050,2,    307.2,2,    306.3,2,    72.90,2,    31.11,2,     2.09,3,   2240.5,6,   2341.0,6,   -0.068,2,    0.000,2,   98.555,2