BOTTLE,20210329PRINUNIVRMK
EXPOCODE,SECT_ID,STNNBR,CASTNO,SAMPNO,BTLNBR,BTLNBR_FLAG_W,DATE,TIME,LATITUDE,LONGITUDE,DEPTH,CTDPRS,CTDTMP,CTDSAL,CTDSAL_FLAG_W,SALNTY,SALNTY_FLAG_W,CTDOXY,CTDOXY_FLAG_W,OXYGEN,OXYGEN_FLAG_W,SILCAT,SILCAT_FLAG_W,NITRAT,NITRAT_FLAG_W,PHSPHT,PHSPHT_FLAG_W,TCARBN,TCARBN_FLAG_W,ALKALI,ALKALI_FLAG_W,CTDFLUOR,CTDFLUOR_FLAG_W,CTDPAR,CTDPAR_FLAG_W,CTDXMISS,CTDXMISS_FLAG_W
,,,,,,,,,,,METERS,DBAR,ITS-90,PSS-78,,PSS-78,,UMOL/KG,,UMOL/KG,,UMOL/KG,,UMOL/KG,,UMOL/KG,,UMOL/KG,,UMOL/KG,,MG/M^3,,UEINSTEIN/M^2*SEC,,%TRANS,
  09AR20141205,AU1402,    34,  1,      0,     24,2,20141231,2357,-66.5390, 116.3463,  657,      5.3,  -1.8209,  34.2229,2,-999.0000,9,    302.5,2,   -999.0,9,  -999.00,9,  -999.00,9,  -999.00,9,   -999.0,9,   -999.0,9,   -0.115,2,  640.300,2,   98.537,2
  09AR20141205,AU1402,    34,  1,      0,     23,2,20141231,2357,-66.5390, 116.3463,  657,      5.3,  -1.8197,  34.2231,2,-999.0000,9,    302.5,2,   -999.0,9,  -999.00,9,  -999.00,9,  -999.00,9,   -999.0,9,   -999.0,9,   -0.109,2,  638.800,2,   98.535,2
  09AR20141205,AU1402,    34,  1,      0,     22,2,20141231,2357,-66.5390, 116.3463,  657,      5.3,  -1.8201,  34.2231,2,-999.0000,9,    302.5,2,   -999.0,9,  -999.00,9,  -999.00,9,  -999.00,9,   -999.0,9,   -999.0,9,   -0.104,2,  622.300,2,   98.547,2
  09AR20141205,AU1402,    34,  1,      0,     21,2,20141231,2357,-66.5390, 116.3463,  657,      5.3,  -1.8216,  34.2231,2,-999.0000,9,    302.5,2,   -999.0,9,  -999.00,9,  -999.00,9,  -999.00,9,   -999.0,9,   -999.0,9,   -0.107,2,  612.000,2,   98.549,2
  09AR20141205,AU1402,    34,  1,      0,     20,2,20141231,2357,-66.5390, 116.3463,  657,      5.3,  -1.8255,  34.2231,2,-999.0000,9,    302.5,2,   -999.0,9,  -999.00,9,  -999.00,9,  -999.00,9,   -999.0,9,   -999.0,9,   -0.109,2,  604.400,2,   98.546,2
  09AR20141205,AU1402,    34,  1,      0,     19,2,20141231,2357,-66.5390, 116.3463,  657,      5.2,  -1.8294,  34.2232,2,  34.2219,2,    302.5,2,    303.2,2,    68.00,2,    30.93,2,     2.13,3,   2214.7,2,   2312.0,2,   -0.105,2,  635.600,2,   98.545,2
  09AR20141205,AU1402,    34,  1,      0,     18,2,20141231,2357,-66.5390, 116.3463,  657,     14.8,  -1.8379,  34.2246,2,-999.0000,9,    303.4,2,   -999.0,9,  -999.00,9,  -999.00,9,  -999.00,9,   -999.0,9,   -999.0,9,   -0.105,2,  281.000,2,   98.552,2
  09AR20141205,AU1402,    34,  1,      0,     17,2,20141231,2357,-66.5390, 116.3463,  657,     14.8,  -1.8457,  34.2251,2,-999.0000,9,    303.4,2,    302.2,2,  -999.00,9,  -999.00,9,  -999.00,9,   -999.0,9,   -999.0,9,   -0.098,2,  278.200,2,   98.545,2
  09AR20141205,AU1402,    34,  1,      0,     16,2,20141231,2357,-66.5390, 116.3463,  657,     14.8,  -1.8513,  34.2257,2,-999.0000,9,    303.4,2,   -999.0,9,  -999.00,9,  -999.00,9,  -999.00,9,   -999.0,9,   -999.0,9,   -0.099,2,  276.500,2,   98.539,2
  09AR20141205,AU1402,    34,  1,      0,     15,2,20141231,2357,-66.5390, 116.3463,  657,     50.0,  -1.8721,  34.2306,2,  34.2287,2,    302.0,2,    302.2,2,    67.60,2,    30.98,2,     2.14,3,   2214.8,6,   2313.1,6,   -0.098,2,   39.050,2,   98.543,2
  09AR20141205,AU1402,    34,  1,      0,     14,2,20141231,2357,-66.5390, 116.3463,  657,     50.0,  -1.8718,  34.2308,2,-999.0000,9,    302.0,2,   -999.0,9,  -999.00,9,  -999.00,9,  -999.00,9,   -999.0,9,   -999.0,9,   -0.099,2,   43.040,2,   98.544,2
  09AR20141205,AU1402,    34,  1,      0,     13,2,20141231,2357,-66.5390, 116.3463,  657,    100.7,  -1.8657,  34.2325,2,  34.2309,2,    302.0,2,    302.2,2,    67.60,2,    30.95,2,     2.14,3,   2215.0,2,   2312.7,2,   -0.090,2,    6.732,2,   98.549,2
  09AR20141205,AU1402,    34,  1,      0,     12,2,20141231,2357,-66.5390, 116.3463,  657,    100.4,  -1.8655,  34.2324,2,-999.0000,9,    302.0,2,   -999.0,9,  -999.00,9,  -999.00,9,  -999.00,9,   -999.0,9,   -999.0,9,   -0.095,2,    7.064,2,   98.538,2
  09AR20141205,AU1402,    34,  1,      0,     11,2,20141231,2357,-66.5390, 116.3463,  657,    175.8,  -1.8650,  34.2352,2,  34.2346,2,    302.0,2,    303.0,2,  -999.00,9,  -999.00,9,  -999.00,9,   2215.8,2,   2314.4,2,   -0.089,2,    0.499,2,   98.566,2
  09AR20141205,AU1402,    34,  1,      0,     10,2,20141231,2357,-66.5390, 116.3463,  657,    175.5,  -1.8649,  34.2353,2,-999.0000,9,    302.0,2,   -999.0,9,  -999.00,9,  -999.00,9,  -999.00,9,   -999.0,9,   -999.0,9,   -0.083,2,    0.520,2,   98.568,2
  09AR20141205,AU1402,    34,  1,      0,      9,2,20141231,2357,-66.5390, 116.3463,  657,    300.8,  -1.8737,  34.2400,2,  34.2405,2,    303.8,2,    304.7,2,    66.40,2,    30.80,2,     2.13,3,   2213.1,2,   2314.6,6,   -0.088,2,    0.001,2,   98.515,2
  09AR20141205,AU1402,    34,  1,      0,      8,2,20141231,2357,-66.5390, 116.3463,  657,    300.6,  -1.8737,  34.2400,2,-999.0000,9,    303.8,2,   -999.0,9,  -999.00,9,  -999.00,9,  -999.00,9,   -999.0,9,   -999.0,9,   -0.088,2,    0.001,2,   98.510,2
  09AR20141205,AU1402,    34,  1,      0,      7,2,20141231,2357,-66.5390, 116.3463,  657,    450.9,  -1.7811,  34.2764,2,  34.2883,2,    304.0,2,    299.7,2,  -999.00,9,  -999.00,9,  -999.00,9,   2219.2,2,   2317.6,2,   -0.089,2,    0.001,2,   98.594,2
  09AR20141205,AU1402,    34,  1,      0,      6,2,20141231,2357,-66.5390, 116.3463,  657,    450.7,  -1.7780,  34.2771,2,-999.0000,9,    304.0,2,   -999.0,9,  -999.00,9,  -999.00,9,  -999.00,9,   -999.0,9,   -999.0,9,   -0.087,2,    0.001,2,   98.601,2
  09AR20141205,AU1402,    34,  1,      0,      5,2,20141231,2357,-66.5390, 116.3463,  657,    550.6,  -1.5984,  34.3137,2,  34.3173,2,    297.1,2,    297.0,2,    69.40,2,    31.00,2,     2.14,3,   2220.9,2,   2318.8,2,   -0.089,2,    0.001,2,   98.570,2
  09AR20141205,AU1402,    34,  1,      0,      4,2,20141231,2357,-66.5390, 116.3463,  657,    550.4,  -1.5924,  34.3147,2,-999.0000,9,    297.1,2,   -999.0,9,  -999.00,9,  -999.00,9,  -999.00,9,   -999.0,9,   -999.0,9,   -0.088,2,    0.001,2,   98.557,2
  09AR20141205,AU1402,    34,  1,      0,      3,2,20141231,2357,-66.5390, 116.3463,  657,    620.5,  -0.5203,  34.5080,2,  34.5175,2,    254.6,2,    251.9,2,  -999.00,9,  -999.00,9,  -999.00,9,   2241.4,2,   2333.2,2,   -0.087,2,    0.001,2,   98.469,2
  09AR20141205,AU1402,    34,  1,      0,      2,2,20141231,2357,-66.5390, 116.3463,  657,    620.2,  -0.5145,  34.5091,2,-999.0000,9,    254.6,2,   -999.0,9,  -999.00,9,  -999.00,9,  -999.00,9,   -999.0,9,   -999.0,9,   -0.079,2,    0.001,2,   98.465,2
  09AR20141205,AU1402,    34,  1,      0,      1,2,20141231,2357,-66.5390, 116.3463,  657,    717.6,  -0.3720,  34.5346,2,  34.5342,2,    247.8,2,    248.0,2,    89.10,2,    31.94,2,     2.22,3,   2245.0,2,   2337.0,2,   -0.075,2,    0.001,2,   98.435,2
  09AR20141205,AU1402,    35,  1,      0,     24,2,20150101,0602,-66.6102, 116.4208,  890,      5.6,  -1.6624,  34.2245,2,-999.0000,9,    304.7,2,   -999.0,9,  -999.00,9,  -999.00,9,  -999.00,9,   -999.0,9,   -999.0,9,   -0.115,2,  206.000,2,   98.418,2
  09AR20141205,AU1402,    35,  1,      0,     23,2,20150101,0602,-66.6102, 116.4208,  890,      5.6,  -1.6680,  34.2246,2,-999.0000,9,    304.7,2,   -999.0,9,  -999.00,9,  -999.00,9,  -999.00,9,   -999.0,9,   -999.0,9,   -0.107,2,  207.700,2,   98.416,2
  09AR20141205,AU1402,    35,  1,      0,     22,2,20150101,0602,-66.6102, 116.4208,  890,      5.6,  -1.6816,  34.2244,2,-999.0000,9,    304.7,2,   -999.0,9,  -999.00,9,  -999.00,9,  -999.00,9,   -999.0,9,   -999.0,9,   -0.105,2,  207.500,2,   98.409,2
  09AR20141205,AU1402,    35,  1,      0,     21,2,20150101,0602,-66.6102, 116.4208,  890,      5.5,  -1.6940,  34.2243,2,  34.2227,2,    304.7,2,    304.3,2,    67.80,2,    30.86,2,     2.13,3,   2214.5,2,   2310.1,2,   -0.107,2,  203.600,2,   98.421,2
  09AR20141205,AU1402,    35,  1,      0,     20,2,20150101,0602,-66.6102, 116.4208,  890,     15.6,  -1.7787,  34.2240,2,-999.0000,9,    303.1,2,   -999.0,9,  -999.00,9,  -999.00,9,  -999.00,9,   -999.0,9,   -999.0,9,   -0.101,2,   92.200,2,   98.394,2
  09AR20141205,AU1402,    35,  1,      0,     19,2,20150101,0602,-66.6102, 116.4208,  890,     15.6,  -1.7154,  34.2237,2,  34.2230,2,    303.1,2,    302.9,2,    67.80,2,    30.82,2,     2.13,3,   2214.1,2,   2310.3,2,   -0.104,2,   91.680,2,   98.416,2
  09AR20141205,AU1402,    35,  1,      0,     18,2,20150101,0602,-66.6102, 116.4208,  890,     50.7,  -1.8773,  34.2263,2,-999.0000,9,    302.8,2,   -999.0,9,  -999.00,9,  -999.00,9,  -999.00,9,   -999.0,9,   -999.0,9,   -0.095,2,   41.360,2,   98.387,2
  09AR20141205,AU1402,    35,  1,      0,     17,2,20150101,0602,-66.6102, 116.4208,  890,     50.7,  -1.8773,  34.2261,2,  34.2244,2,    302.8,2,    302.5,2,    67.70,2,    30.87,2,     2.13,3,   2215.4,2,   2311.1,2,   -0.096,2,   40.810,2,   98.381,2
  09AR20141205,AU1402,    35,  1,      0,     16,2,20150101,0602,-66.6102, 116.4208,  890,    100.7,  -1.8806,  34.2267,2,-999.0000,9,    303.1,2,   -999.0,9,  -999.00,9,  -999.00,9,  -999.00,9,   -999.0,9,   -999.0,9,   -0.083,2,    7.670,2,   98.384,2
  09AR20141205,AU1402,    35,  1,      0,     15,2,20150101,0602,-66.6102, 116.4208,  890,    100.6,  -1.8803,  34.2266,2,  34.2246,2,    303.1,2,    303.0,2,  -999.00,9,  -999.00,9,  -999.00,9,   2214.8,2,   2311.5,2,   -0.084,2,    7.919,2,   98.307,2
  09AR20141205,AU1402,    35,  1,      0,     14,2,20150101,0602,-66.6102, 116.4208,  890,    175.9,  -1.8793,  34.2269,2,-999.0000,9,    303.4,2,   -999.0,9,  -999.00,9,  -999.00,9,  -999.00,9,   -999.0,9,   -999.0,9,   -0.084,2,    0.495,2,   98.385,2
  09AR20141205,AU1402,    35,  1,      0,     13,2,20150101,0602,-66.6102, 116.4208,  890,    175.8,  -1.8793,  34.2270,2,  34.2246,2,    303.4,2,    302.9,2,    67.50,2,    30.85,2,     2.13,3,   2213.7,2,   2310.1,2,   -0.082,2,    0.496,2,   98.398,2
  09AR20141205,AU1402,    35,  1,      0,     12,2,20150101,0602,-66.6102, 116.4208,  890,    302.3,  -1.8722,  34.2299,2,-999.0000,9,    303.4,2,   -999.0,9,  -999.00,9,  -999.00,9,  -999.00,9,   -999.0,9,   -999.0,9,   -0.088,2,    0.000,2,   98.391,2
  09AR20141205,AU1402,    35,  1,      0,     11,2,20150101,0602,-66.6102, 116.4208,  890,    302.1,  -1.8727,  34.2295,2,  34.2277,2,    303.4,2,    302.8,2,  -999.00,9,  -999.00,9,  -999.00,9,   2214.4,6,   2310.9,2,   -0.080,2,    0.000,2,   98.391,2
  09AR20141205,AU1402,    35,  1,      0,     10,2,20150101,0602,-66.6102, 116.4208,  890,    475.9,  -1.8051,  34.2910,2,-999.0000,9,    311.1,2,   -999.0,9,  -999.00,9,  -999.00,9,  -999.00,9,   -999.0,9,   -999.0,9,   -0.087,2,    0.000,2,   98.652,2
  09AR20141205,AU1402,    35,  1,      0,      9,2,20150101,0602,-66.6102, 116.4208,  890,    476.3,  -1.8050,  34.2907,2,  34.2906,2,    311.1,2,    309.6,2,    64.00,2,    30.73,2,     2.11,3,   2214.9,2,   2316.5,2,   -0.088,2,    0.000,2,   98.645,2
  09AR20141205,AU1402,    35,  1,      0,      8,2,20150101,0602,-66.6102, 116.4208,  890,    580.9,  -1.5270,  34.3237,2,-999.0000,9,    295.2,2,   -999.0,9,  -999.00,9,  -999.00,9,  -999.00,9,   -999.0,9,   -999.0,9,   -0.087,2,    0.000,2,   98.444,2
  09AR20141205,AU1402,    35,  1,      0,      7,2,20150101,0602,-66.6102, 116.4208,  890,    577.9,  -1.5357,  34.3228,2,  34.3194,2,    294.8,2,    296.5,2,  -999.00,9,  -999.00,9,  -999.00,9,   2220.5,2,   2317.8,2,   -0.093,2,    0.000,2,   98.458,2
  09AR20141205,AU1402,    35,  1,      0,      6,2,20150101,0602,-66.6102, 116.4208,  890,    746.8,  -0.4473,  34.5279,2,-999.0000,9,    254.9,2,   -999.0,9,  -999.00,9,  -999.00,9,  -999.00,9,   -999.0,9,   -999.0,9,   -0.090,2,    0.000,2,   98.481,2
  09AR20141205,AU1402,    35,  1,      0,      5,2,20150101,0602,-66.6102, 116.4208,  890,    747.9,  -0.4461,  34.5282,2,  34.5275,2,    254.7,2,    254.2,2,  -999.00,9,  -999.00,9,  -999.00,9,   2242.5,2,   2333.0,6,   -0.089,2,    0.000,2,   98.486,2
  09AR20141205,AU1402,    35,  1,      0,      4,2,20150101,0602,-66.6102, 116.4208,  890,    851.1,  -0.4331,  34.5301,2,-999.0000,9,    254.0,2,   -999.0,9,  -999.00,9,  -999.00,9,  -999.00,9,   -999.0,9,   -999.0,9,   -0.091,2,    0.000,2,   98.499,2
  09AR20141205,AU1402,    35,  1,      0,      3,2,20150101,0602,-66.6102, 116.4208,  890,    851.5,  -0.4343,  34.5299,2,  34.5307,2,    254.0,2,    253.8,2,  -999.00,9,  -999.00,9,  -999.00,9,   2240.6,2,   2330.5,2,   -0.087,2,    0.000,2,   98.494,2
  09AR20141205,AU1402,    35,  1,      0,      2,2,20150101,0602,-66.6102, 116.4208,  890,    916.4,  -0.4078,  34.5334,2,-999.0000,9,    253.9,2,   -999.0,9,  -999.00,9,  -999.00,9,  -999.00,9,   -999.0,9,   -999.0,9,   -0.084,2,    0.000,2,   98.485,2
  09AR20141205,AU1402,    35,  1,      0,      1,2,20150101,0602,-66.6102, 116.4208,  890,    915.8,  -0.4078,  34.5333,2,  34.5332,2,    253.9,2,    253.1,2,    85.70,2,    31.92,2,     2.21,3,   2241.0,2,   2333.9,2,   -0.088,2,    0.000,2,   98.482,2
  09AR20141205,AU1402,    36,  1,      0,     24,2,20150101,0841,-66.6503, 116.4488, 1098,      5.0,  -1.8466,  34.2240,2,-999.0000,9,    302.6,2,   -999.0,9,  -999.00,9,  -999.00,9,  -999.00,9,   -999.0,9,   -999.0,9,   -0.097,2,   95.140,2,   98.324,2
  09AR20141205,AU1402,    36,  1,      0,     23,2,20150101,0841,-66.6503, 116.4488, 1098,      5.0,  -1.8462,  34.2239,2,-999.0000,9,    302.6,2,   -999.0,9,  -999.00,9,  -999.00,9,  -999.00,9,   -999.0,9,   -999.0,9,   -0.100,2,   95.580,2,   98.328,2
  09AR20141205,AU1402,    36,  1,      0,     22,2,20150101,0841,-66.6503, 116.4488, 1098,      5.0,  -1.8461,  34.2238,2,-999.0000,9,    302.6,2,   -999.0,9,  -999.00,9,  -999.00,9,  -999.00,9,   -999.0,9,   -999.0,9,   -0.102,2,   95.340,2,   98.337,2
  09AR20141205,AU1402,    36,  1,      0,     21,2,20150101,0841,-66.6503, 116.4488, 1098,      4.9,  -1.8471,  34.2240,2,  34.2215,2,    302.6,2,    303.8,2,    67.40,2,    30.90,2,     2.13,3,   2213.7,6,   2311.1,6,   -0.097,2,   95.260,2,   98.332,2
  09AR20141205,AU1402,    36,  1,      0,     20,2,20150101,0841,-66.6503, 116.4488, 1098,     20.5,  -1.8312,  34.2237,2,-999.0000,9,    304.0,2,   -999.0,9,  -999.00,9,  -999.00,9,  -999.00,9,   -999.0,9,   -999.0,9,   -0.101,2,   37.270,2,   98.349,2
  09AR20141205,AU1402,    36,  1,      0,     19,2,20150101,0841,-66.6503, 116.4488, 1098,     20.4,  -1.8320,  34.2235,2,  34.2224,2,    304.0,2,    303.3,2,    67.30,2,    30.85,2,     2.08,3,   2214.5,2,   2311.6,2,   -0.097,2,   37.460,2,   98.342,2
  09AR20141205,AU1402,    36,  1,      0,     18,2,20150101,0841,-66.6503, 116.4488, 1098,     51.6,  -1.8711,  34.2236,2,-999.0000,9,    303.3,2,   -999.0,9,  -999.00,9,  -999.00,9,  -999.00,9,   -999.0,9,   -999.0,9,   -0.095,2,   18.930,2,   98.335,2
  09AR20141205,AU1402,    36,  1,      0,     17,2,20150101,0841,-66.6503, 116.4488, 1098,     51.6,  -1.8723,  34.2238,2,  34.2239,2,    303.3,2,    303.2,2,    67.20,2,    30.83,2,     2.13,3,   2213.3,2,   2311.4,2,   -0.095,2,   18.940,2,   98.337,2
  09AR20141205,AU1402,    36,  1,      0,     16,2,20150101,0841,-66.6503, 116.4488, 1098,    101.6,  -1.8851,  34.2241,2,-999.0000,9,    303.7,2,   -999.0,9,  -999.00,9,  -999.00,9,  -999.00,9,   -999.0,9,   -999.0,9,   -0.077,2,    3.714,2,   98.334,2
  09AR20141205,AU1402,    36,  1,      0,     15,2,20150101,0841,-66.6503, 116.4488, 1098,    101.6,  -1.8855,  34.2242,2,  34.2223,2,    303.7,2,    303.2,2,  -999.00,9,  -999.00,9,  -999.00,9,   2212.6,2,   2310.2,2,   -0.081,2,    3.732,2,   98.337,2
  09AR20141205,AU1402,    36,  1,      0,     14,2,20150101,0841,-66.6503, 116.4488, 1098,    302.3,  -1.8821,  34.2257,2,-999.0000,9,    305.0,2,   -999.0,9,  -999.00,9,  -999.00,9,  -999.00,9,   -999.0,9,   -999.0,9,   -0.076,2,    0.000,2,   98.340,2
  09AR20141205,AU1402,    36,  1,      0,     13,2,20150101,0841,-66.6503, 116.4488, 1098,    302.2,  -1.8819,  34.2258,2,  34.2244,2,    305.0,2,    303.5,2,    67.20,2,    30.76,2,     2.13,3,   2213.0,2,   2313.2,2,   -0.079,2,    0.000,2,   98.341,2
  09AR20141205,AU1402,    36,  1,      0,     12,2,20150101,0841,-66.6503, 116.4488, 1098,    451.8,  -1.8237,  34.2757,2,-999.0000,9,    308.6,2,   -999.0,9,  -999.00,9,  -999.00,9,  -999.00,9,   -999.0,9,   -999.0,9,   -0.069,2,    0.000,2,   98.555,2
  09AR20141205,AU1402,    36,  1,      0,     11,2,20150101,0841,-66.6503, 116.4488, 1098,    451.6,  -1.8236,  34.2755,2,  34.2752,2,    308.6,2,    309.1,2,  -999.00,9,  -999.00,9,  -999.00,9,   2214.0,2,   2315.5,2,   -0.071,2,    0.000,2,   98.560,2
  09AR20141205,AU1402,    36,  1,      0,     10,2,20150101,0841,-66.6503, 116.4488, 1098,    707.4,  -1.1516,  34.4023,2,-999.0000,9,    286.4,2,   -999.0,9,  -999.00,9,  -999.00,9,  -999.00,9,   -999.0,9,   -999.0,9,   -0.085,2,    0.000,2,   98.504,2
  09AR20141205,AU1402,    36,  1,      0,      9,2,20150101,0841,-66.6503, 116.4488, 1098,    706.9,  -1.0879,  34.4149,2,  34.4048,2,    286.3,2,    280.7,2,  -999.00,9,  -999.00,9,  -999.00,9,   2227.9,2,   2325.6,6,   -0.093,2,    0.000,2,   98.504,2
  09AR20141205,AU1402,    36,  1,      0,      8,2,20150101,0841,-66.6503, 116.4488, 1098,    850.1,  -0.9005,  34.4544,2,-999.0000,9,    268.4,2,   -999.0,9,  -999.00,9,  -999.00,9,  -999.00,9,   -999.0,9,   -999.0,9,   -0.091,2,    0.000,2,   98.596,2
  09AR20141205,AU1402,    36,  1,      0,      7,2,20150101,0841,-66.6503, 116.4488, 1098,    849.7,  -0.8839,  34.4555,2,  34.4567,2,    268.4,2,    273.0,2,    77.80,2,    31.37,2,     2.18,3,   2235.4,2,   2328.8,2,   -0.092,2,    0.000,2,   98.587,2
  09AR20141205,AU1402,    36,  1,      0,      6,2,20150101,0841,-66.6503, 116.4488, 1098,    945.1,  -0.8293,  34.4656,2,-999.0000,9,    264.6,2,   -999.0,9,  -999.00,9,  -999.00,9,  -999.00,9,   -999.0,9,   -999.0,9,   -0.091,2,    0.000,2,   98.586,2
  09AR20141205,AU1402,    36,  1,      0,      5,2,20150101,0841,-66.6503, 116.4488, 1098,    946.2,  -0.7937,  34.4708,2,  34.4678,2,    264.6,2,    270.2,2,  -999.00,9,  -999.00,9,  -999.00,9,   2235.0,2,   2329.8,2,   -0.086,2,    0.000,2,   98.583,2
  09AR20141205,AU1402,    36,  1,      0,      4,2,20150101,0841,-66.6503, 116.4488, 1098,   1050.6,  -0.5370,  34.5102,2,-999.0000,9,    260.7,2,   -999.0,9,  -999.00,9,  -999.00,9,  -999.00,9,   -999.0,9,   -999.0,9,   -0.077,2,    0.000,2,   98.483,2
  09AR20141205,AU1402,    36,  1,      0,      3,2,20150101,0841,-66.6503, 116.4488, 1098,   1049.4,  -0.5466,  34.5084,2,  34.5100,2,    260.7,2,    258.7,2,  -999.00,9,  -999.00,9,  -999.00,9,   2240.0,2,   2333.5,2,   -0.085,2,    0.000,2,   98.485,2
  09AR20141205,AU1402,    36,  1,      0,      2,2,20150101,0841,-66.6503, 116.4488, 1098,   1100.4,  -0.5216,  34.5137,2,-999.0000,9,    258.9,2,   -999.0,9,  -999.00,9,  -999.00,9,  -999.00,9,   -999.0,9,   -999.0,9,   -0.090,2,    0.000,2,   98.517,2
  09AR20141205,AU1402,    36,  1,      0,      1,2,20150101,0841,-66.6503, 116.4488, 1098,   1100.1,  -0.5247,  34.5132,2,  34.5147,2,    258.9,2,    258.4,2,    83.20,2,    32.16,2,     2.20,3,   2238.9,2,   2335.5,2,   -0.086,2,    0.000,2,   98.502,2