BOTTLE,20210329PRINUNIVRMK
EXPOCODE,SECT_ID,STNNBR,CASTNO,SAMPNO,BTLNBR,BTLNBR_FLAG_W,DATE,TIME,LATITUDE,LONGITUDE,DEPTH,CTDPRS,CTDTMP,CTDSAL,CTDSAL_FLAG_W,SALNTY,SALNTY_FLAG_W,CTDOXY,CTDOXY_FLAG_W,OXYGEN,OXYGEN_FLAG_W,SILCAT,SILCAT_FLAG_W,NITRAT,NITRAT_FLAG_W,PHSPHT,PHSPHT_FLAG_W,TCARBN,TCARBN_FLAG_W,ALKALI,ALKALI_FLAG_W,CTDFLUOR,CTDFLUOR_FLAG_W,CTDPAR,CTDPAR_FLAG_W,CTDXMISS,CTDXMISS_FLAG_W
,,,,,,,,,,,METERS,DBAR,ITS-90,PSS-78,,PSS-78,,UMOL/KG,,UMOL/KG,,UMOL/KG,,UMOL/KG,,UMOL/KG,,UMOL/KG,,UMOL/KG,,MG/M^3,,UEINSTEIN/M^2*SEC,,%TRANS,
  09AR20141205,AU1402,   112,  1,      0,     24,2,20150115,0444,-66.7448, 144.6842,  832,      8.1,  -0.7497,  34.1917,2,-999.0000,9,    358.0,2,   -999.0,9,  -999.00,9,  -999.00,9,  -999.00,9,   -999.0,9,   -999.0,9,    6.484,2,  100.100,2,   85.267,2
  09AR20141205,AU1402,   112,  1,      0,     23,2,20150115,0444,-66.7448, 144.6842,  832,      8.1,  -0.7502,  34.1916,2,-999.0000,9,    358.0,2,   -999.0,9,  -999.00,9,  -999.00,9,  -999.00,9,   -999.0,9,   -999.0,9,    6.824,2,  109.500,2,   85.349,2
  09AR20141205,AU1402,   112,  1,      0,     22,2,20150115,0444,-66.7448, 144.6842,  832,      8.1,  -0.7485,  34.1916,2,-999.0000,9,    358.0,2,   -999.0,9,  -999.00,9,  -999.00,9,  -999.00,9,   -999.0,9,   -999.0,9,    6.464,2,  104.100,2,   85.223,2
  09AR20141205,AU1402,   112,  1,      0,     21,2,20150115,0444,-66.7448, 144.6842,  832,      8.0,  -0.7441,  34.1914,2,  34.1933,2,    358.0,2,    358.9,2,  -999.00,9,  -999.00,9,  -999.00,9,   2165.2,2,   2321.9,2,    4.772,2,   99.960,2,   85.229,2
  09AR20141205,AU1402,   112,  1,      0,     20,2,20150115,0444,-66.7448, 144.6842,  832,     20.3,  -0.7615,  34.1926,2,-999.0000,9,    359.2,2,   -999.0,9,  -999.00,9,  -999.00,9,  -999.00,9,   -999.0,9,   -999.0,9,    9.202,2,   12.630,2,   84.400,2
  09AR20141205,AU1402,   112,  1,      0,     19,2,20150115,0444,-66.7448, 144.6842,  832,     20.3,  -0.7585,  34.1923,2,-999.0000,9,    359.2,2,    358.6,2,  -999.00,9,  -999.00,9,  -999.00,9,   2166.1,2,   2322.1,2,    8.677,2,   12.770,2,   84.703,2
  09AR20141205,AU1402,   112,  1,      0,     18,2,20150115,0444,-66.7448, 144.6842,  832,     60.7,  -1.0653,  34.2818,2,-999.0000,9,    340.5,2,   -999.0,9,  -999.00,9,  -999.00,9,  -999.00,9,   -999.0,9,   -999.0,9,    7.035,2,    0.000,2,   90.205,2
  09AR20141205,AU1402,   112,  1,      0,     17,2,20150115,0444,-66.7448, 144.6842,  832,     60.7,  -1.0709,  34.2820,2,-999.0000,9,    340.5,2,    336.4,2,  -999.00,9,  -999.00,9,  -999.00,9,   2196.0,2,   2323.7,2,    7.130,2,    0.000,2,   90.420,2
  09AR20141205,AU1402,   112,  1,      0,     16,2,20150115,0444,-66.7448, 144.6842,  832,     60.6,  -1.0723,  34.2819,2,-999.0000,9,    340.5,2,   -999.0,9,  -999.00,9,  -999.00,9,  -999.00,9,   -999.0,9,   -999.0,9,    7.777,2,    0.000,2,   90.361,2
  09AR20141205,AU1402,   112,  1,      0,     15,2,20150115,0444,-66.7448, 144.6842,  832,    121.3,  -1.5242,  34.4190,2,-999.0000,9,    302.2,2,   -999.0,9,  -999.00,9,  -999.00,9,  -999.00,9,   -999.0,9,   -999.0,9,    1.186,2,    0.000,2,   96.379,2
  09AR20141205,AU1402,   112,  1,      0,     14,2,20150115,0444,-66.7448, 144.6842,  832,    121.2,  -1.5266,  34.4191,2,-999.0000,9,    302.2,2,   -999.0,9,  -999.00,9,  -999.00,9,  -999.00,9,   -999.0,9,   -999.0,9,    1.379,2,    0.000,2,   96.463,2
  09AR20141205,AU1402,   112,  1,      0,     13,2,20150115,0444,-66.7448, 144.6842,  832,    121.2,  -1.5290,  34.4192,2,  34.4283,2,    302.2,2,    302.6,2,  -999.00,9,  -999.00,9,  -999.00,9,   2226.2,2,   2330.6,6,    1.337,2,    0.000,2,   96.217,2
  09AR20141205,AU1402,   112,  1,      0,     12,2,20150115,0444,-66.7448, 144.6842,  832,    121.1,  -1.5313,  34.4194,2,-999.0000,9,    302.2,2,   -999.0,9,  -999.00,9,  -999.00,9,  -999.00,9,   -999.0,9,   -999.0,9,    1.146,2,    0.000,2,   96.492,2
  09AR20141205,AU1402,   112,  1,      0,     11,2,20150115,0444,-66.7448, 144.6842,  832,    201.3,  -1.6246,  34.4767,2,-999.0000,9,    297.5,2,    295.6,2,  -999.00,9,  -999.00,9,  -999.00,9,   2232.9,6,   2332.5,6,    0.238,2,    0.000,2,   98.245,2
  09AR20141205,AU1402,   112,  1,      0,     10,2,20150115,0444,-66.7448, 144.6842,  832,    201.3,  -1.6236,  34.4770,2,-999.0000,9,    297.5,2,   -999.0,9,  -999.00,9,  -999.00,9,  -999.00,9,   -999.0,9,   -999.0,9,    0.192,2,    0.000,2,   98.251,2
  09AR20141205,AU1402,   112,  1,      0,      9,2,20150115,0444,-66.7448, 144.6842,  832,    301.1,  -1.8502,  34.5035,2,  34.5046,2,    301.0,2,    301.3,2,  -999.00,9,  -999.00,9,  -999.00,9,   -999.0,9,   -999.0,9,    0.031,2,    0.000,2,   98.705,2
  09AR20141205,AU1402,   112,  1,      0,      8,2,20150115,0444,-66.7448, 144.6842,  832,    301.1,  -1.8502,  34.5036,2,-999.0000,9,    301.0,2,   -999.0,9,  -999.00,9,  -999.00,9,  -999.00,9,   -999.0,9,   -999.0,9,    0.002,2,    0.000,2,   98.713,2
  09AR20141205,AU1402,   112,  1,      0,      7,2,20150115,0444,-66.7448, 144.6842,  832,    451.3,  -1.8931,  34.5512,2,-999.0000,9,    304.1,2,    304.8,2,  -999.00,9,  -999.00,9,  -999.00,9,   -999.0,9,   -999.0,9,   -0.027,2,    0.000,2,   98.639,2
  09AR20141205,AU1402,   112,  1,      0,      6,2,20150115,0444,-66.7448, 144.6842,  832,    451.3,  -1.8939,  34.5512,2,-999.0000,9,    304.1,2,   -999.0,9,  -999.00,9,  -999.00,9,  -999.00,9,   -999.0,9,   -999.0,9,   -0.056,2,    0.000,2,   98.585,2
  09AR20141205,AU1402,   112,  1,      0,      5,2,20150115,0444,-66.7448, 144.6842,  832,    601.1,  -1.8977,  34.5730,2,  34.5736,2,    306.9,2,    307.3,2,  -999.00,9,  -999.00,9,  -999.00,9,   -999.0,9,   -999.0,9,   -0.075,2,    0.000,2,   98.812,2
  09AR20141205,AU1402,   112,  1,      0,      4,2,20150115,0444,-66.7448, 144.6842,  832,    601.1,  -1.8977,  34.5731,2,-999.0000,9,    306.9,2,   -999.0,9,  -999.00,9,  -999.00,9,  -999.00,9,   -999.0,9,   -999.0,9,   -0.079,2,    0.000,2,   98.821,2
  09AR20141205,AU1402,   112,  1,      0,      3,2,20150115,0444,-66.7448, 144.6842,  832,    601.0,  -1.8977,  34.5732,2,-999.0000,9,    306.9,2,   -999.0,9,  -999.00,9,  -999.00,9,  -999.00,9,   -999.0,9,   -999.0,9,   -0.086,2,    0.000,2,   98.785,2
  09AR20141205,AU1402,   112,  1,      0,      2,2,20150115,0444,-66.7448, 144.6842,  832,    601.0,  -1.8977,  34.5731,2,-999.0000,9,    306.9,2,   -999.0,9,  -999.00,9,  -999.00,9,  -999.00,9,   -999.0,9,   -999.0,9,   -0.085,2,    0.000,2,   98.728,2
  09AR20141205,AU1402,   112,  1,      0,      1,2,20150115,0444,-66.7448, 144.6842,  832,    831.6,  -1.8848,  34.6079,2,  34.6072,2,    306.5,2,    306.6,2,  -999.00,9,  -999.00,9,  -999.00,9,   2241.6,2,   2339.7,2,   -0.056,2,    0.000,2,   98.496,2
  09AR20141205,AU1402,   113,  1,      0,     24,2,20150115,0800,-66.8063, 144.4033,  966,     21.1,  -1.3522,  33.7564,2,-999.0000,9,    372.8,2,   -999.0,9,  -999.00,9,  -999.00,9,  -999.00,9,   -999.0,9,   -999.0,9,    9.932,2,    0.858,2,   86.196,2
  09AR20141205,AU1402,   113,  1,      0,     23,2,20150115,0800,-66.8063, 144.4033,  966,     20.2,  -1.3509,  33.7571,2,-999.0000,9,    372.6,2,   -999.0,9,  -999.00,9,  -999.00,9,  -999.00,9,   -999.0,9,   -999.0,9,   10.247,2,    1.009,2,   86.028,2
  09AR20141205,AU1402,   113,  1,      0,     22,2,20150115,0800,-66.8063, 144.4033,  966,     19.6,  -1.3511,  33.7572,2,-999.0000,9,    372.6,2,   -999.0,9,  -999.00,9,  -999.00,9,  -999.00,9,   -999.0,9,   -999.0,9,   10.241,2,    1.026,2,   85.630,2
  09AR20141205,AU1402,   113,  1,      0,     21,2,20150115,0800,-66.8063, 144.4033,  966,      7.2,  -1.3912,  33.7331,2,  33.7335,2,    372.1,2,    372.5,2,    59.80,2,    18.34,2,     1.48,3,   2112.9,2,   2293.8,2,    8.474,2,    6.309,2,   85.974,2
  09AR20141205,AU1402,   113,  1,      0,     20,2,20150115,0800,-66.8063, 144.4033,  966,     25.7,  -1.3441,  33.7594,2,-999.0000,9,    373.0,2,   -999.0,9,  -999.00,9,  -999.00,9,  -999.00,9,   -999.0,9,   -999.0,9,   10.076,2,    0.673,2,   85.821,2
  09AR20141205,AU1402,   113,  1,      0,     19,2,20150115,0800,-66.8063, 144.4033,  966,     25.7,  -1.3442,  33.7594,2,  33.7608,2,    373.0,2,    372.1,2,  -999.00,9,    18.52,2,     1.48,3,   2115.6,2,   2298.9,2,   10.860,2,    0.741,2,   86.085,2
  09AR20141205,AU1402,   113,  1,      0,     18,2,20150115,0800,-66.8063, 144.4033,  966,     56.2,  -1.2905,  33.7828,2,-999.0000,9,    372.4,2,   -999.0,9,  -999.00,9,  -999.00,9,  -999.00,9,   -999.0,9,   -999.0,9,   12.513,2,    0.000,2,   85.994,2
  09AR20141205,AU1402,   113,  1,      0,     17,2,20150115,0800,-66.8063, 144.4033,  966,     56.0,  -1.2871,  33.7827,2,-999.0000,9,    372.4,2,    371.9,2,    61.30,2,    18.55,2,     1.50,3,   2117.3,2,   2300.6,2,    9.942,2,    0.000,2,   86.398,2
  09AR20141205,AU1402,   113,  1,      0,     16,2,20150115,0800,-66.8063, 144.4033,  966,     97.5,  -1.6188,  34.2042,2,-999.0000,9,    338.0,2,   -999.0,9,  -999.00,9,  -999.00,9,  -999.00,9,   -999.0,9,   -999.0,9,    5.019,2,    0.000,2,   91.252,2
  09AR20141205,AU1402,   113,  1,      0,     15,2,20150115,0800,-66.8063, 144.4033,  966,    100.9,  -1.6288,  34.2240,2,-999.0000,9,    337.1,2,   -999.0,9,  -999.00,9,  -999.00,9,  -999.00,9,   -999.0,9,   -999.0,9,    5.143,2,    0.000,2,   91.924,2
  09AR20141205,AU1402,   113,  1,      0,     14,2,20150115,0800,-66.8063, 144.4033,  966,    100.9,  -1.6290,  34.2239,2,-999.0000,9,    337.1,2,   -999.0,9,  -999.00,9,  -999.00,9,  -999.00,9,   -999.0,9,   -999.0,9,    5.030,2,    0.000,2,   91.903,2
  09AR20141205,AU1402,   113,  1,      0,     13,2,20150115,0800,-66.8063, 144.4033,  966,    100.9,  -1.6296,  34.2230,2,-999.0000,9,    337.1,2,    333.9,2,    65.20,2,    24.59,2,     1.91,3,   -999.0,9,   -999.0,9,    5.403,2,    0.000,2,   91.968,2
  09AR20141205,AU1402,   113,  1,      0,     12,2,20150115,0800,-66.8063, 144.4033,  966,    100.9,  -1.6291,  34.2217,2,-999.0000,9,    337.1,2,   -999.0,9,  -999.00,9,  -999.00,9,  -999.00,9,   -999.0,9,   -999.0,9,    5.843,2,    0.000,2,   91.987,2
  09AR20141205,AU1402,   113,  1,      0,     11,2,20150115,0800,-66.8063, 144.4033,  966,    182.7,  -1.7555,  34.4302,2,  34.4297,2,    299.5,2,    299.0,2,    71.80,2,    30.32,2,     2.15,3,   2191.8,2,   2328.4,2,    0.278,2,    0.000,2,   98.028,2
  09AR20141205,AU1402,   113,  1,      0,     10,2,20150115,0800,-66.8063, 144.4033,  966,    182.7,  -1.7545,  34.4303,2,-999.0000,9,    299.5,2,   -999.0,9,  -999.00,9,  -999.00,9,  -999.00,9,   -999.0,9,   -999.0,9,    0.261,2,    0.000,2,   97.987,2
  09AR20141205,AU1402,   113,  1,      0,      9,2,20150115,0800,-66.8063, 144.4033,  966,    300.9,  -1.7293,  34.4886,2,-999.0000,9,    296.1,2,    296.7,2,    72.30,2,    30.52,2,     2.15,3,   2234.2,6,   2332.8,6,    0.286,2,    0.000,2,   98.113,2
  09AR20141205,AU1402,   113,  1,      0,      8,2,20150115,0800,-66.8063, 144.4033,  966,    300.8,  -1.7293,  34.4881,2,-999.0000,9,    296.1,2,   -999.0,9,  -999.00,9,  -999.00,9,  -999.00,9,   -999.0,9,   -999.0,9,    0.244,2,    0.000,2,   98.129,2
  09AR20141205,AU1402,   113,  1,      0,      7,2,20150115,0800,-66.8063, 144.4033,  966,    523.7,  -1.9440,  34.5426,2,  34.5424,2,    307.4,2,    305.8,2,    72.60,2,    30.72,2,     2.14,3,   -999.0,9,   -999.0,9,   -0.067,2,    0.000,2,   98.575,2
  09AR20141205,AU1402,   113,  1,      0,      6,2,20150115,0800,-66.8063, 144.4033,  966,    523.5,  -1.9440,  34.5426,2,-999.0000,9,    307.4,2,   -999.0,9,  -999.00,9,  -999.00,9,  -999.00,9,   -999.0,9,   -999.0,9,   -0.077,2,    0.000,2,   98.569,2
  09AR20141205,AU1402,   113,  1,      0,      5,2,20150115,0800,-66.8063, 144.4033,  966,    639.8,  -1.8999,  34.5652,2,-999.0000,9,    306.2,2,    306.6,2,    71.80,2,    30.69,2,     2.15,3,   2237.2,2,   2338.9,2,   -0.059,2,    0.000,2,   98.732,2
  09AR20141205,AU1402,   113,  1,      0,      4,2,20150115,0800,-66.8063, 144.4033,  966,    639.9,  -1.8999,  34.5653,2,-999.0000,9,    306.2,2,   -999.0,9,  -999.00,9,  -999.00,9,  -999.00,9,   -999.0,9,   -999.0,9,   -0.069,2,    0.000,2,   98.714,2
  09AR20141205,AU1402,   113,  1,      0,      3,2,20150115,0800,-66.8063, 144.4033,  966,    801.7,  -1.8936,  34.5830,2,  34.5822,2,    307.4,2,    307.5,2,    70.90,2,    30.37,2,     2.15,3,   -999.0,9,   -999.0,9,   -0.083,2,    0.000,2,   98.785,2
  09AR20141205,AU1402,   113,  1,      0,      2,2,20150115,0800,-66.8063, 144.4033,  966,    965.2,  -1.8802,  34.6069,2,-999.0000,9,    305.9,2,   -999.0,9,  -999.00,9,  -999.00,9,  -999.00,9,   -999.0,9,   -999.0,9,   -0.056,2,    0.000,2,   98.362,2
  09AR20141205,AU1402,   113,  1,      0,      1,2,20150115,0800,-66.8063, 144.4033,  966,    965.8,  -1.8802,  34.6068,2,  34.6056,2,    305.9,2,    305.2,2,    72.00,2,    30.47,2,     2.18,3,   2243.5,2,   2340.5,6,   -0.059,2,    0.000,2,   98.362,2
  09AR20141205,AU1402,   114,  1,      0,     24,2,20150115,1007,-66.8280, 144.2992,  557,      7.1,  -1.1761,  33.7420,2,-999.0000,9,    378.2,2,   -999.0,9,  -999.00,9,  -999.00,9,  -999.00,9,   -999.0,9,   -999.0,9,    9.531,2,    5.081,2,   87.876,2
  09AR20141205,AU1402,   114,  1,      0,     23,2,20150115,1007,-66.8280, 144.2992,  557,      7.1,  -1.1762,  33.7421,2,-999.0000,9,    378.2,2,   -999.0,9,  -999.00,9,  -999.00,9,  -999.00,9,   -999.0,9,   -999.0,9,    8.620,2,    5.185,2,   87.180,2
  09AR20141205,AU1402,   114,  1,      0,     22,2,20150115,1007,-66.8280, 144.2992,  557,      7.1,  -1.1762,  33.7420,2,-999.0000,9,    378.2,2,   -999.0,9,  -999.00,9,  -999.00,9,  -999.00,9,   -999.0,9,   -999.0,9,    8.061,2,    5.301,2,   87.776,2
  09AR20141205,AU1402,   114,  1,      0,     21,2,20150115,1007,-66.8280, 144.2992,  557,      7.1,  -1.1769,  33.7431,2,  33.7440,2,    378.2,2,    378.1,2,  -999.00,9,  -999.00,9,  -999.00,9,   2108.8,2,   2295.5,2,    9.208,2,    5.512,2,   87.553,2
  09AR20141205,AU1402,   114,  1,      0,     20,2,20150115,1007,-66.8280, 144.2992,  557,      7.0,  -1.1769,  33.7433,2,-999.0000,9,    378.2,2,   -999.0,9,  -999.00,9,  -999.00,9,  -999.00,9,   -999.0,9,   -999.0,9,    9.435,2,    5.913,2,   87.778,2
  09AR20141205,AU1402,   114,  1,      0,     19,2,20150115,1007,-66.8280, 144.2992,  557,     25.1,  -1.1867,  33.7457,2,  33.7448,2,    377.9,2,    377.7,2,  -999.00,9,  -999.00,9,  -999.00,9,   2108.0,2,   2296.8,2,    8.495,2,    0.287,2,   87.443,2
  09AR20141205,AU1402,   114,  1,      0,     18,2,20150115,1007,-66.8280, 144.2992,  557,     25.1,  -1.1795,  33.7442,2,-999.0000,9,    377.9,2,   -999.0,9,  -999.00,9,  -999.00,9,  -999.00,9,   -999.0,9,   -999.0,9,    9.496,2,    0.284,2,   87.491,2
  09AR20141205,AU1402,   114,  1,      0,     17,2,20150115,1007,-66.8280, 144.2992,  557,     50.5,  -1.2760,  33.7618,2,-999.0000,9,    374.0,2,    373.4,2,  -999.00,9,  -999.00,9,  -999.00,9,   2114.9,6,   2297.3,6,    9.400,2,    0.000,2,   87.784,2
  09AR20141205,AU1402,   114,  1,      0,     16,2,20150115,1007,-66.8280, 144.2992,  557,     50.5,  -1.2718,  33.7609,2,-999.0000,9,    374.0,2,   -999.0,9,  -999.00,9,  -999.00,9,  -999.00,9,   -999.0,9,   -999.0,9,   11.432,2,    0.000,2,   87.523,2
  09AR20141205,AU1402,   114,  1,      0,     15,2,20150115,1007,-66.8280, 144.2992,  557,     50.5,  -1.2611,  33.7591,2,-999.0000,9,    374.0,2,   -999.0,9,  -999.00,9,  -999.00,9,  -999.00,9,   -999.0,9,   -999.0,9,    8.794,2,    0.000,2,   87.920,2
  09AR20141205,AU1402,   114,  1,      0,     14,2,20150115,1007,-66.8280, 144.2992,  557,     50.5,  -1.2664,  33.7602,2,-999.0000,9,    374.0,2,   -999.0,9,  -999.00,9,  -999.00,9,  -999.00,9,   -999.0,9,   -999.0,9,    9.050,2,    0.000,2,   87.385,2
  09AR20141205,AU1402,   114,  1,      0,     13,2,20150115,1007,-66.8280, 144.2992,  557,     80.6,  -1.3624,  33.9998,2,-999.0000,9,    356.6,2,    348.0,2,  -999.00,9,  -999.00,9,  -999.00,9,   -999.0,9,   -999.0,9,   10.628,2,    0.000,2,   88.207,2
  09AR20141205,AU1402,   114,  1,      0,     12,2,20150115,1007,-66.8280, 144.2992,  557,     80.6,  -1.3604,  34.0044,2,-999.0000,9,    356.6,2,   -999.0,9,  -999.00,9,  -999.00,9,  -999.00,9,   -999.0,9,   -999.0,9,   10.811,2,    0.000,2,   88.216,2
  09AR20141205,AU1402,   114,  1,      0,     11,2,20150115,1007,-66.8280, 144.2992,  557,     80.6,  -1.3514,  34.0096,2,-999.0000,9,    356.6,2,   -999.0,9,  -999.00,9,  -999.00,9,  -999.00,9,   -999.0,9,   -999.0,9,   10.638,2,    0.000,2,   87.623,2
  09AR20141205,AU1402,   114,  1,      0,     10,2,20150115,1007,-66.8280, 144.2992,  557,     80.6,  -1.3403,  34.0136,2,-999.0000,9,    356.6,2,   -999.0,9,  -999.00,9,  -999.00,9,  -999.00,9,   -999.0,9,   -999.0,9,   10.511,2,    0.000,2,   87.842,2
  09AR20141205,AU1402,   114,  1,      0,      9,2,20150115,1007,-66.8280, 144.2992,  557,    180.2,  -1.7562,  34.4364,2,-999.0000,9,    300.2,2,   -999.0,9,  -999.00,9,  -999.00,9,  -999.00,9,   -999.0,9,   -999.0,9,    0.152,2,    0.000,2,   98.238,2
  09AR20141205,AU1402,   114,  1,      0,      8,2,20150115,1007,-66.8280, 144.2992,  557,    180.2,  -1.7567,  34.4366,2,-999.0000,9,    300.2,2,   -999.0,9,  -999.00,9,  -999.00,9,  -999.00,9,   -999.0,9,   -999.0,9,    0.230,2,    0.000,2,   98.277,2
  09AR20141205,AU1402,   114,  1,      0,      7,2,20150115,1007,-66.8280, 144.2992,  557,    180.2,  -1.7557,  34.4364,2,  34.4364,2,    300.2,2,    299.8,2,  -999.00,9,  -999.00,9,  -999.00,9,   2231.4,2,   2329.5,2,    0.216,2,    0.000,2,   98.193,2
  09AR20141205,AU1402,   114,  1,      0,      6,2,20150115,1007,-66.8280, 144.2992,  557,    180.2,  -1.7554,  34.4364,2,-999.0000,9,    300.2,2,   -999.0,9,  -999.00,9,  -999.00,9,  -999.00,9,   -999.0,9,   -999.0,9,    0.220,2,    0.000,2,   98.183,2
  09AR20141205,AU1402,   114,  1,      0,      5,2,20150115,1007,-66.8280, 144.2992,  557,    370.7,  -1.8168,  34.4988,2,  34.4983,2,    300.0,2,    300.6,2,  -999.00,9,  -999.00,9,  -999.00,9,   -999.0,9,   -999.0,9,    0.004,2,    0.000,2,   98.603,2
  09AR20141205,AU1402,   114,  1,      0,      4,2,20150115,1007,-66.8280, 144.2992,  557,    370.7,  -1.8158,  34.4986,2,-999.0000,9,    300.0,2,   -999.0,9,  -999.00,9,  -999.00,9,  -999.00,9,   -999.0,9,   -999.0,9,    0.004,2,    0.000,2,   98.665,2
  09AR20141205,AU1402,   114,  1,      0,      3,2,20150115,1007,-66.8280, 144.2992,  557,    451.0,  -1.9983,  34.5163,2,  34.5144,2,    306.5,2,    307.2,2,  -999.00,9,  -999.00,9,  -999.00,9,   2235.5,2,   2335.6,2,   -0.069,2,    0.000,2,   98.585,2
  09AR20141205,AU1402,   114,  1,      0,      2,2,20150115,1007,-66.8280, 144.2992,  557,    450.9,  -1.9995,  34.5163,2,-999.0000,9,    306.5,2,   -999.0,9,  -999.00,9,  -999.00,9,  -999.00,9,   -999.0,9,   -999.0,9,   -0.069,2,    0.000,2,   98.557,2
  09AR20141205,AU1402,   114,  1,      0,      1,2,20150115,1007,-66.8280, 144.2992,  557,    562.6,  -1.9290,  34.5325,2,  34.5320,2,    305.3,2,    305.4,2,  -999.00,9,  -999.00,9,  -999.00,9,   2235.4,2,   2336.1,6,   -0.067,2,    0.000,2,   98.662,2