BOTTLE,20210329PRINUNIVRMK
EXPOCODE,SECT_ID,STNNBR,CASTNO,SAMPNO,BTLNBR,BTLNBR_FLAG_W,DATE,TIME,LATITUDE,LONGITUDE,DEPTH,CTDPRS,CTDTMP,CTDSAL,CTDSAL_FLAG_W,SALNTY,SALNTY_FLAG_W,CTDOXY,CTDOXY_FLAG_W,OXYGEN,OXYGEN_FLAG_W,SILCAT,SILCAT_FLAG_W,NITRAT,NITRAT_FLAG_W,PHSPHT,PHSPHT_FLAG_W,TCARBN,TCARBN_FLAG_W,ALKALI,ALKALI_FLAG_W,CTDFLUOR,CTDFLUOR_FLAG_W,CTDPAR,CTDPAR_FLAG_W,CTDXMISS,CTDXMISS_FLAG_W
,,,,,,,,,,,METERS,DBAR,ITS-90,PSS-78,,PSS-78,,UMOL/KG,,UMOL/KG,,UMOL/KG,,UMOL/KG,,UMOL/KG,,UMOL/KG,,UMOL/KG,,MG/M^3,,UEINSTEIN/M^2*SEC,,%TRANS,
  09AR20141205,AU1402,    94,  1,      0,     24,2,20150113,0008,-66.6450, 146.0842,  273,      7.8,  -0.8371,  34.2151,2,-999.0000,9,    355.7,3,   -999.0,9,  -999.00,9,  -999.00,9,  -999.00,9,   -999.0,9,   -999.0,9,    2.012,2,   93.040,2,   84.875,2
  09AR20141205,AU1402,    94,  1,      0,     23,2,20150113,0008,-66.6450, 146.0842,  273,      7.8,  -0.8201,  34.2134,2,-999.0000,9,    355.7,3,   -999.0,9,  -999.00,9,  -999.00,9,  -999.00,9,   -999.0,9,   -999.0,9,    2.024,2,   94.510,2,   85.090,2
  09AR20141205,AU1402,    94,  1,      0,     22,2,20150113,0008,-66.6450, 146.0842,  273,      7.8,  -0.8114,  34.2125,2,-999.0000,9,    355.7,3,   -999.0,9,  -999.00,9,  -999.00,9,  -999.00,9,   -999.0,9,   -999.0,9,    2.278,2,   96.150,2,   85.239,2
  09AR20141205,AU1402,    94,  1,      0,     21,2,20150113,0008,-66.6450, 146.0842,  273,      7.7,  -0.8472,  34.2161,2,-999.0000,9,    355.7,3,    356.0,2,  -999.00,9,    23.48,2,     1.69,3,   2169.6,2,   2321.5,2,    2.253,2,  100.900,2,   85.112,2
  09AR20141205,AU1402,    94,  1,      0,     20,2,20150113,0008,-66.6450, 146.0842,  273,     15.6,  -0.9936,  34.2506,2,-999.0000,9,    342.8,3,   -999.0,9,  -999.00,9,  -999.00,9,  -999.00,9,   -999.0,9,   -999.0,9,    9.075,2,   43.330,2,   85.532,2
  09AR20141205,AU1402,    94,  1,      0,     19,2,20150113,0008,-66.6450, 146.0842,  273,     15.6,  -0.9850,  34.2485,2,-999.0000,9,    342.8,3,    350.2,2,  -999.00,9,    24.06,2,     1.73,3,   2177.8,2,   2320.2,2,    8.826,2,   57.010,2,   85.156,2
  09AR20141205,AU1402,    94,  1,      0,     18,2,20150113,0008,-66.6450, 146.0842,  273,     50.6,  -1.1167,  34.2935,2,-999.0000,9,    333.5,2,   -999.0,9,  -999.00,9,  -999.00,9,  -999.00,9,   -999.0,9,   -999.0,9,    8.469,2,    0.115,2,   89.003,2
  09AR20141205,AU1402,    94,  1,      0,     17,2,20150113,0008,-66.6450, 146.0842,  273,     50.6,  -1.1149,  34.2928,2,-999.0000,9,    333.5,2,    332.4,2,  -999.00,9,    25.90,2,     1.84,3,   2194.0,2,   2323.3,2,    7.670,2,    0.101,2,   88.871,2
  09AR20141205,AU1402,    94,  1,      0,     16,2,20150113,0008,-66.6450, 146.0842,  273,     50.4,  -1.1129,  34.2921,2,-999.0000,9,    333.5,2,   -999.0,9,  -999.00,9,  -999.00,9,  -999.00,9,   -999.0,9,   -999.0,9,    8.353,2,    0.090,2,   89.028,2
  09AR20141205,AU1402,    94,  1,      0,     15,2,20150113,0008,-66.6450, 146.0842,  273,     50.4,  -1.1125,  34.2920,2,-999.0000,9,    333.5,2,   -999.0,9,  -999.00,9,  -999.00,9,  -999.00,9,   -999.0,9,   -999.0,9,    8.226,2,    0.083,2,   89.068,2
  09AR20141205,AU1402,    94,  1,      0,     14,2,20150113,0008,-66.6450, 146.0842,  273,     50.2,  -1.1121,  34.2919,2,-999.0000,9,    333.5,2,   -999.0,9,  -999.00,9,  -999.00,9,  -999.00,9,   -999.0,9,   -999.0,9,    8.663,2,    0.081,2,   89.064,2
  09AR20141205,AU1402,    94,  1,      0,     13,2,20150113,0008,-66.6450, 146.0842,  273,     80.6,  -1.2503,  34.3434,2,-999.0000,9,    322.3,2,   -999.0,9,  -999.00,9,  -999.00,9,  -999.00,9,   -999.0,9,   -999.0,9,    6.524,2,    0.000,2,   91.059,2
  09AR20141205,AU1402,    94,  1,      0,     12,2,20150113,0008,-66.6450, 146.0842,  273,     80.6,  -1.2516,  34.3436,2,-999.0000,9,    322.3,2,   -999.0,9,  -999.00,9,  -999.00,9,  -999.00,9,   -999.0,9,   -999.0,9,    5.305,2,    0.000,2,   91.071,2
  09AR20141205,AU1402,    94,  1,      0,     11,2,20150113,0008,-66.6450, 146.0842,  273,     80.5,  -1.2498,  34.3431,2,-999.0000,9,    322.3,2,    319.4,2,  -999.00,9,  -999.00,9,  -999.00,9,   2205.9,2,   2326.3,6,    6.719,2,    0.000,2,   91.449,2
  09AR20141205,AU1402,    94,  1,      0,     10,2,20150113,0008,-66.6450, 146.0842,  273,     80.3,  -1.2469,  34.3425,2,-999.0000,9,    322.3,2,   -999.0,9,  -999.00,9,  -999.00,9,  -999.00,9,   -999.0,9,   -999.0,9,    5.490,2,    0.000,2,   91.667,2
  09AR20141205,AU1402,    94,  1,      0,      9,2,20150113,0008,-66.6450, 146.0842,  273,    150.4,  -1.4332,  34.4321,2,  34.4334,2,    301.5,2,    302.2,2,  -999.00,9,    29.28,2,     1.99,3,   2225.0,2,   2328.7,2,    1.786,2,    0.000,2,   95.791,2
  09AR20141205,AU1402,    94,  1,      0,      8,2,20150113,0008,-66.6450, 146.0842,  273,    150.4,  -1.4307,  34.4316,2,-999.0000,9,    301.5,2,   -999.0,9,  -999.00,9,  -999.00,9,  -999.00,9,   -999.0,9,   -999.0,9,    1.568,2,    0.000,2,   95.599,2
  09AR20141205,AU1402,    94,  1,      0,      7,2,20150113,0008,-66.6450, 146.0842,  273,    150.4,  -1.4280,  34.4309,2,-999.0000,9,    301.5,2,   -999.0,9,  -999.00,9,  -999.00,9,  -999.00,9,   -999.0,9,   -999.0,9,    1.608,2,    0.000,2,   95.648,2
  09AR20141205,AU1402,    94,  1,      0,      6,2,20150113,0008,-66.6450, 146.0842,  273,    150.3,  -1.4274,  34.4308,2,-999.0000,9,    301.5,2,   -999.0,9,  -999.00,9,  -999.00,9,  -999.00,9,   -999.0,9,   -999.0,9,    1.745,2,    0.000,2,   95.575,2
  09AR20141205,AU1402,    94,  1,      0,      5,2,20150113,0008,-66.6450, 146.0842,  273,    200.5,  -1.4851,  34.4583,2,-999.0000,9,    298.3,2,    298.1,2,  -999.00,9,    29.79,2,     2.04,3,   2227.8,2,   2333.0,2,    1.069,2,    0.000,2,   96.567,2
  09AR20141205,AU1402,    94,  1,      0,      4,2,20150113,0008,-66.6450, 146.0842,  273,    200.3,  -1.4851,  34.4580,2,-999.0000,9,    298.3,2,   -999.0,9,  -999.00,9,  -999.00,9,  -999.00,9,   -999.0,9,   -999.0,9,    1.067,2,    0.000,2,   96.599,2
  09AR20141205,AU1402,    94,  1,      0,      3,2,20150113,0008,-66.6450, 146.0842,  273,    200.2,  -1.4857,  34.4583,2,-999.0000,9,    298.3,2,   -999.0,9,  -999.00,9,  -999.00,9,  -999.00,9,   -999.0,9,   -999.0,9,    1.016,2,    0.000,2,   96.597,2
  09AR20141205,AU1402,    94,  1,      0,      2,2,20150113,0008,-66.6450, 146.0842,  273,    200.2,  -1.4861,  34.4585,2,-999.0000,9,    298.3,2,   -999.0,9,  -999.00,9,  -999.00,9,  -999.00,9,   -999.0,9,   -999.0,9,    1.043,2,    0.000,2,   96.662,2
  09AR20141205,AU1402,    94,  1,      0,      1,2,20150113,0008,-66.6450, 146.0842,  273,    268.5,  -1.4760,  34.4730,2,  34.4706,2,    295.1,2,    294.7,2,  -999.00,9,    30.07,2,     2.09,3,   2232.1,2,   2331.5,2,    0.661,2,    0.000,2,   96.877,2
  09AR20141205,AU1402,    95,  1,      0,     24,2,20150113,0157,-66.5768, 146.2507,  228,      7.7,  -0.7182,  34.0781,2,-999.0000,9,    360.2,2,   -999.0,9,  -999.00,9,  -999.00,9,  -999.00,9,   -999.0,9,   -999.0,9,   10.472,2,   79.540,2,   81.859,2
  09AR20141205,AU1402,    95,  1,      0,     23,2,20150113,0157,-66.5768, 146.2507,  228,      7.7,  -0.7168,  34.0778,2,-999.0000,9,    360.2,2,   -999.0,9,  -999.00,9,  -999.00,9,  -999.00,9,   -999.0,9,   -999.0,9,    9.931,2,   77.710,2,   80.943,2
  09AR20141205,AU1402,    95,  1,      0,     22,2,20150113,0157,-66.5768, 146.2507,  228,      7.6,  -0.7166,  34.0778,2,-999.0000,9,    360.2,2,   -999.0,9,  -999.00,9,  -999.00,9,  -999.00,9,   -999.0,9,   -999.0,9,    8.281,2,   77.250,2,   80.564,2
  09AR20141205,AU1402,    95,  1,      0,     21,2,20150113,0157,-66.5768, 146.2507,  228,      7.6,  -0.7145,  34.0777,2,  34.0794,2,    360.2,2,    366.7,2,  -999.00,9,    22.01,2,     1.62,3,   2152.9,2,   2313.3,2,    9.623,2,   72.380,2,   81.367,2
  09AR20141205,AU1402,    95,  1,      0,     20,2,20150113,0157,-66.5768, 146.2507,  228,     16.3,  -0.7580,  34.0785,2,-999.0000,9,    359.9,2,   -999.0,9,  -999.00,9,  -999.00,9,  -999.00,9,   -999.0,9,   -999.0,9,   14.286,2,    7.457,2,   81.087,2
  09AR20141205,AU1402,    95,  1,      0,     19,2,20150113,0157,-66.5768, 146.2507,  228,     16.2,  -0.7509,  34.0787,2,-999.0000,9,    359.9,2,    365.1,2,  -999.00,9,    22.04,2,     1.69,3,   2154.2,2,   2315.4,2,   12.867,2,    6.722,2,   81.316,2
  09AR20141205,AU1402,    95,  1,      0,     18,2,20150113,0157,-66.5768, 146.2507,  228,     16.2,  -0.7487,  34.0791,2,-999.0000,9,    359.9,2,   -999.0,9,  -999.00,9,  -999.00,9,  -999.00,9,   -999.0,9,   -999.0,9,   13.030,2,    6.617,2,   81.110,2
  09AR20141205,AU1402,    95,  1,      0,     17,2,20150113,0157,-66.5768, 146.2507,  228,     45.6,  -1.0377,  34.2337,2,  34.2435,2,    339.6,2,    339.0,2,  -999.00,9,    24.68,2,     1.80,3,   2183.2,2,   2320.3,2,   11.906,2,    0.020,2,   86.198,2
  09AR20141205,AU1402,    95,  1,      0,     16,2,20150113,0157,-66.5768, 146.2507,  228,     45.5,  -1.0484,  34.2361,2,-999.0000,9,    339.6,2,   -999.0,9,  -999.00,9,  -999.00,9,  -999.00,9,   -999.0,9,   -999.0,9,   13.271,2,    0.034,2,   86.695,2
  09AR20141205,AU1402,    95,  1,      0,     15,2,20150113,0157,-66.5768, 146.2507,  228,     45.5,  -1.0504,  34.2364,2,-999.0000,9,    339.6,2,   -999.0,9,  -999.00,9,  -999.00,9,  -999.00,9,   -999.0,9,   -999.0,9,   11.898,2,    0.038,2,   86.311,2
  09AR20141205,AU1402,    95,  1,      0,     14,2,20150113,0157,-66.5768, 146.2507,  228,     45.4,  -1.0513,  34.2367,2,-999.0000,9,    339.6,2,   -999.0,9,  -999.00,9,  -999.00,9,  -999.00,9,   -999.0,9,   -999.0,9,   10.919,2,    0.048,2,   85.929,2
  09AR20141205,AU1402,    95,  1,      0,     13,2,20150113,0157,-66.5768, 146.2507,  228,     80.7,  -1.2923,  34.3496,2,-999.0000,9,    317.9,2,   -999.0,9,  -999.00,9,  -999.00,9,  -999.00,9,   -999.0,9,   -999.0,9,    5.537,2,    0.000,2,   92.145,2
  09AR20141205,AU1402,    95,  1,      0,     12,2,20150113,0157,-66.5768, 146.2507,  228,     80.6,  -1.2922,  34.3495,2,-999.0000,9,    317.9,2,   -999.0,9,  -999.00,9,  -999.00,9,  -999.00,9,   -999.0,9,   -999.0,9,    5.223,2,    0.000,2,   92.378,2
  09AR20141205,AU1402,    95,  1,      0,     11,2,20150113,0157,-66.5768, 146.2507,  228,     80.6,  -1.2920,  34.3495,2,  34.3516,2,    317.9,2,    317.8,2,  -999.00,9,  -999.00,9,  -999.00,9,   2209.9,2,   2327.1,2,    5.112,2,    0.000,2,   92.400,2
  09AR20141205,AU1402,    95,  1,      0,     10,2,20150113,0157,-66.5768, 146.2507,  228,     80.6,  -1.2918,  34.3493,2,-999.0000,9,    317.9,2,   -999.0,9,  -999.00,9,  -999.00,9,  -999.00,9,   -999.0,9,   -999.0,9,    4.458,2,    0.000,2,   92.527,2
  09AR20141205,AU1402,    95,  1,      0,      9,2,20150113,0157,-66.5768, 146.2507,  228,    115.8,  -1.4221,  34.4126,2,-999.0000,9,    303.1,2,    305.0,2,  -999.00,9,    29.02,2,     2.03,3,   2220.9,2,   2327.0,2,    2.069,2,    0.000,2,   95.146,2
  09AR20141205,AU1402,    95,  1,      0,      8,2,20150113,0157,-66.5768, 146.2507,  228,    115.6,  -1.4229,  34.4128,2,-999.0000,9,    303.1,2,   -999.0,9,  -999.00,9,  -999.00,9,  -999.00,9,   -999.0,9,   -999.0,9,    2.166,2,    0.000,2,   95.009,2
  09AR20141205,AU1402,    95,  1,      0,      7,2,20150113,0157,-66.5768, 146.2507,  228,    115.5,  -1.4201,  34.4113,2,-999.0000,9,    303.1,2,   -999.0,9,  -999.00,9,  -999.00,9,  -999.00,9,   -999.0,9,   -999.0,9,    2.157,2,    0.000,2,   95.089,2
  09AR20141205,AU1402,    95,  1,      0,      6,2,20150113,0157,-66.5768, 146.2507,  228,    115.4,  -1.4163,  34.4093,2,-999.0000,9,    303.1,2,   -999.0,9,  -999.00,9,  -999.00,9,  -999.00,9,   -999.0,9,   -999.0,9,    2.221,2,    0.000,2,   95.011,2
  09AR20141205,AU1402,    95,  1,      0,      5,2,20150113,0157,-66.5768, 146.2507,  228,    179.3,  -1.5315,  34.4751,2,-999.0000,9,    294.8,2,    295.0,2,  -999.00,9,    30.22,2,     2.09,3,   2231.8,2,   2331.5,6,    0.440,2,    0.000,2,   97.530,2
  09AR20141205,AU1402,    95,  1,      0,      4,2,20150113,0157,-66.5768, 146.2507,  228,    179.3,  -1.5310,  34.4755,2,-999.0000,9,    294.8,2,   -999.0,9,  -999.00,9,  -999.00,9,  -999.00,9,   -999.0,9,   -999.0,9,    0.606,2,    0.000,2,   97.411,2
  09AR20141205,AU1402,    95,  1,      0,      3,2,20150113,0157,-66.5768, 146.2507,  228,    179.2,  -1.5307,  34.4754,2,-999.0000,9,    294.8,2,   -999.0,9,  -999.00,9,  -999.00,9,  -999.00,9,   -999.0,9,   -999.0,9,    0.949,2,    0.000,2,   97.516,2
  09AR20141205,AU1402,    95,  1,      0,      2,2,20150113,0157,-66.5768, 146.2507,  228,    179.3,  -1.5299,  34.4757,2,-999.0000,9,    294.8,2,   -999.0,9,  -999.00,9,  -999.00,9,  -999.00,9,   -999.0,9,   -999.0,9,    0.544,2,    0.000,2,   97.283,2
  09AR20141205,AU1402,    95,  1,      0,      1,2,20150113,0157,-66.5768, 146.2507,  228,    223.7,  -1.5578,  34.5089,2,  34.5067,2,    290.1,2,    289.5,2,  -999.00,9,    30.75,2,     2.14,3,   2237.2,2,   2333.6,2,    0.476,2,    0.000,2,   97.358,2
  09AR20141205,AU1402,    96,  1,      0,     24,2,20150113,1116,-67.2722, 145.9480,  671,      7.7,  -1.3651,  33.5970,2,-999.0000,9,    387.6,2,   -999.0,9,  -999.00,9,  -999.00,9,  -999.00,9,   -999.0,9,   -999.0,9,    5.618,2,    6.774,2,   88.285,2
  09AR20141205,AU1402,    96,  1,      0,     23,2,20150113,1116,-67.2722, 145.9480,  671,      7.7,  -1.3650,  33.5969,2,-999.0000,9,    387.6,2,   -999.0,9,  -999.00,9,  -999.00,9,  -999.00,9,   -999.0,9,   -999.0,9,    6.088,2,    6.782,2,   88.301,2
  09AR20141205,AU1402,    96,  1,      0,     22,2,20150113,1116,-67.2722, 145.9480,  671,      7.7,  -1.3652,  33.5970,2,-999.0000,9,    387.6,2,   -999.0,9,  -999.00,9,  -999.00,9,  -999.00,9,   -999.0,9,   -999.0,9,    6.996,2,    6.788,2,   88.228,2
  09AR20141205,AU1402,    96,  1,      0,     21,2,20150113,1116,-67.2722, 145.9480,  671,      7.6,  -1.3665,  33.5969,2,  33.6042,2,    387.6,2,    387.4,2,  -999.00,9,    16.78,2,     1.30,3,   2093.0,2,   2285.6,2,    7.783,2,    6.849,2,   88.359,2
  09AR20141205,AU1402,    96,  1,      0,     20,2,20150113,1116,-67.2722, 145.9480,  671,     25.1,  -1.5659,  33.6230,2,-999.0000,9,    382.0,2,   -999.0,9,  -999.00,9,  -999.00,9,  -999.00,9,   -999.0,9,   -999.0,9,    8.681,2,    0.417,2,   87.720,2
  09AR20141205,AU1402,    96,  1,      0,     19,2,20150113,1116,-67.2722, 145.9480,  671,     25.1,  -1.5614,  33.6231,2,-999.0000,9,    382.0,2,    384.1,2,  -999.00,9,    17.24,2,     1.37,3,   2100.8,2,   2289.6,2,    8.774,2,    0.410,2,   87.809,2
  09AR20141205,AU1402,    96,  1,      0,     18,2,20150113,1116,-67.2722, 145.9480,  671,     36.0,  -1.6697,  33.6959,2,-999.0000,9,    374.4,2,   -999.0,9,  -999.00,9,  -999.00,9,  -999.00,9,   -999.0,9,   -999.0,9,   11.873,2,    0.020,2,   87.905,2
  09AR20141205,AU1402,    96,  1,      0,     17,2,20150113,1116,-67.2722, 145.9480,  671,     36.0,  -1.6685,  33.6943,2,-999.0000,9,    374.4,2,    372.6,2,  -999.00,9,  -999.00,9,  -999.00,9,   2117.6,2,   2296.4,2,   11.085,2,    0.020,2,   87.650,2
  09AR20141205,AU1402,    96,  1,      0,     16,2,20150113,1116,-67.2722, 145.9480,  671,     36.0,  -1.6679,  33.6957,2,-999.0000,9,    374.4,2,   -999.0,9,  -999.00,9,  -999.00,9,  -999.00,9,   -999.0,9,   -999.0,9,   12.898,2,    0.020,2,   87.615,2
  09AR20141205,AU1402,    96,  1,      0,     15,2,20150113,1116,-67.2722, 145.9480,  671,     80.0,  -1.8163,  34.3487,2,-999.0000,9,    314.6,2,    315.4,2,  -999.00,9,    28.81,2,     1.96,3,   2217.6,2,   2324.5,2,    0.571,2,    0.000,2,   97.175,2
  09AR20141205,AU1402,    96,  1,      0,     14,2,20150113,1116,-67.2722, 145.9480,  671,     80.0,  -1.8166,  34.3486,2,-999.0000,9,    314.6,2,   -999.0,9,  -999.00,9,  -999.00,9,  -999.00,9,   -999.0,9,   -999.0,9,    0.473,2,    0.000,2,   97.174,2
  09AR20141205,AU1402,    96,  1,      0,     13,2,20150113,1116,-67.2722, 145.9480,  671,     80.0,  -1.8186,  34.3487,2,-999.0000,9,    314.6,2,   -999.0,9,  -999.00,9,  -999.00,9,  -999.00,9,   -999.0,9,   -999.0,9,    0.582,2,    0.000,2,   97.155,2
  09AR20141205,AU1402,    96,  1,      0,     12,2,20150113,1116,-67.2722, 145.9480,  671,     80.0,  -1.8187,  34.3487,2,-999.0000,9,    314.6,2,   -999.0,9,  -999.00,9,  -999.00,9,  -999.00,9,   -999.0,9,   -999.0,9,    0.529,2,    0.000,2,   97.235,2
  09AR20141205,AU1402,    96,  1,      0,     11,2,20150113,1116,-67.2722, 145.9480,  671,    171.5,  -1.7805,  34.4000,2,-999.0000,9,    301.5,2,    301.3,2,  -999.00,9,  -999.00,9,  -999.00,9,   2227.3,2,   2324.4,2,    0.542,2,    0.000,2,   97.377,2
  09AR20141205,AU1402,    96,  1,      0,     10,2,20150113,1116,-67.2722, 145.9480,  671,    171.5,  -1.7810,  34.4001,2,-999.0000,9,    301.5,2,   -999.0,9,  -999.00,9,  -999.00,9,  -999.00,9,   -999.0,9,   -999.0,9,    0.654,2,    0.000,2,   97.330,2
  09AR20141205,AU1402,    96,  1,      0,      9,2,20150113,1116,-67.2722, 145.9480,  671,    301.0,  -1.8298,  34.4676,2,  34.4679,2,    301.6,2,    301.8,2,  -999.00,9,    30.68,2,     2.11,3,   2232.2,2,   2331.9,2,   -0.019,2,    0.000,2,   98.360,2
  09AR20141205,AU1402,    96,  1,      0,      8,2,20150113,1116,-67.2722, 145.9480,  671,    301.0,  -1.8299,  34.4676,2,-999.0000,9,    301.6,2,   -999.0,9,  -999.00,9,  -999.00,9,  -999.00,9,   -999.0,9,   -999.0,9,   -0.024,2,    0.000,2,   98.609,2
  09AR20141205,AU1402,    96,  1,      0,      7,2,20150113,1116,-67.2722, 145.9480,  671,    426.1,  -1.8984,  34.5024,2,-999.0000,9,    304.8,2,    305.6,2,  -999.00,9,  -999.00,9,  -999.00,9,   2234.0,2,   2333.3,2,   -0.056,2,    0.000,2,   98.743,2
  09AR20141205,AU1402,    96,  1,      0,      6,2,20150113,1116,-67.2722, 145.9480,  671,    426.0,  -1.8988,  34.5026,2,-999.0000,9,    304.8,2,   -999.0,9,  -999.00,9,  -999.00,9,  -999.00,9,   -999.0,9,   -999.0,9,   -0.060,2,    0.000,2,   98.745,2
  09AR20141205,AU1402,    96,  1,      0,      5,2,20150113,1116,-67.2722, 145.9480,  671,    501.7,  -1.8998,  34.5236,2,  34.5229,2,    304.2,2,    304.6,2,  -999.00,9,    30.63,2,     2.10,3,   2235.1,2,   2334.3,6,   -0.078,2,    0.000,2,   98.752,2
  09AR20141205,AU1402,    96,  1,      0,      4,2,20150113,1116,-67.2722, 145.9480,  671,    501.7,  -1.8997,  34.5235,2,-999.0000,9,    304.2,2,   -999.0,9,  -999.00,9,  -999.00,9,  -999.00,9,   -999.0,9,   -999.0,9,   -0.070,2,    0.000,2,   98.752,2
  09AR20141205,AU1402,    96,  1,      0,      3,2,20150113,1116,-67.2722, 145.9480,  671,    632.2,  -1.8908,  34.5547,2,-999.0000,9,    305.6,2,    305.2,2,  -999.00,9,  -999.00,9,  -999.00,9,   2237.4,6,   2336.4,6,   -0.076,2,    0.000,2,   98.698,2
  09AR20141205,AU1402,    96,  1,      0,      2,2,20150113,1116,-67.2722, 145.9480,  671,    673.5,  -1.8905,  34.5957,2,-999.0000,9,    306.1,2,   -999.0,9,  -999.00,9,  -999.00,9,  -999.00,9,   -999.0,9,   -999.0,9,   -0.062,2,    0.000,2,   98.338,2
  09AR20141205,AU1402,    96,  1,      0,      1,2,20150113,1116,-67.2722, 145.9480,  671,    673.4,  -1.8905,  34.5956,2,  34.5946,2,    306.1,2,    306.0,2,  -999.00,9,    30.90,2,     2.08,3,   2241.4,2,   2340.2,2,   -0.070,2,    0.000,2,   98.321,2