BOTTLE,20210329PRINUNIVRMK
EXPOCODE,SECT_ID,STNNBR,CASTNO,SAMPNO,BTLNBR,BTLNBR_FLAG_W,DATE,TIME,LATITUDE,LONGITUDE,DEPTH,CTDPRS,CTDTMP,CTDSAL,CTDSAL_FLAG_W,SALNTY,SALNTY_FLAG_W,CTDOXY,CTDOXY_FLAG_W,OXYGEN,OXYGEN_FLAG_W,SILCAT,SILCAT_FLAG_W,NITRAT,NITRAT_FLAG_W,PHSPHT,PHSPHT_FLAG_W,TCARBN,TCARBN_FLAG_W,ALKALI,ALKALI_FLAG_W,CTDFLUOR,CTDFLUOR_FLAG_W,CTDPAR,CTDPAR_FLAG_W,CTDXMISS,CTDXMISS_FLAG_W
,,,,,,,,,,,METERS,DBAR,ITS-90,PSS-78,,PSS-78,,UMOL/KG,,UMOL/KG,,UMOL/KG,,UMOL/KG,,UMOL/KG,,UMOL/KG,,UMOL/KG,,MG/M^3,,UEINSTEIN/M^2*SEC,,%TRANS,
  09AR20141205,AU1402,   124,  1,      0,     24,2,20150116,0623,-66.2148, 144.0300,  431,      7.9,  -0.3390,  34.1221,2,  34.1216,2,    354.5,2,    355.6,2,    46.80,2,    24.35,2,     1.60,3,   2169.9,2,   2310.3,2,    1.485,2,   91.660,2,   89.426,2
  09AR20141205,AU1402,   124,  1,      0,     23,2,20150116,0623,-66.2148, 144.0300,  431,      7.9,  -0.3435,  34.1222,2,-999.0000,9,    354.5,2,   -999.0,9,  -999.00,9,  -999.00,9,  -999.00,9,   -999.0,9,   -999.0,9,    1.232,2,   93.920,2,   89.377,2
  09AR20141205,AU1402,   124,  1,      0,     22,2,20150116,0623,-66.2148, 144.0300,  431,      7.9,  -0.3437,  34.1222,2,-999.0000,9,    354.5,2,   -999.0,9,  -999.00,9,  -999.00,9,  -999.00,9,   -999.0,9,   -999.0,9,    1.143,2,   93.390,2,   89.541,2
  09AR20141205,AU1402,   124,  1,      0,     21,2,20150116,0623,-66.2148, 144.0300,  431,      7.9,  -0.3412,  34.1223,2,-999.0000,9,    354.5,2,   -999.0,9,  -999.00,9,  -999.00,9,  -999.00,9,   -999.0,9,   -999.0,9,    1.247,2,   99.080,2,   89.568,2
  09AR20141205,AU1402,   124,  1,      0,     20,2,20150116,0623,-66.2148, 144.0300,  431,     26.2,  -0.3844,  34.1238,2,  34.1316,2,    355.5,2,    354.9,2,    45.80,2,    24.47,2,     1.61,3,   2169.9,2,   2310.0,6,    4.352,2,   13.230,2,   89.556,2
  09AR20141205,AU1402,   124,  1,      0,     19,2,20150116,0623,-66.2148, 144.0300,  431,     26.1,  -0.4062,  34.1229,2,-999.0000,9,    355.5,2,   -999.0,9,  -999.00,9,  -999.00,9,  -999.00,9,   -999.0,9,   -999.0,9,    5.662,2,   10.620,2,   89.293,2
  09AR20141205,AU1402,   124,  1,      0,     18,2,20150116,0623,-66.2148, 144.0300,  431,     41.6,  -0.8477,  34.2295,2,-999.0000,9,    354.1,2,    345.8,2,    48.90,2,    25.51,2,     1.74,3,   2185.1,2,   2318.4,2,    6.101,2,    1.296,2,   90.824,2
  09AR20141205,AU1402,   124,  1,      0,     17,2,20150116,0623,-66.2148, 144.0300,  431,     41.5,  -0.8485,  34.2295,2,-999.0000,9,    354.1,2,   -999.0,9,  -999.00,9,  -999.00,9,  -999.00,9,   -999.0,9,   -999.0,9,    7.502,2,    1.288,2,   90.666,2
  09AR20141205,AU1402,   124,  1,      0,     16,2,20150116,0623,-66.2148, 144.0300,  431,     41.6,  -0.8509,  34.2293,2,-999.0000,9,    354.1,2,   -999.0,9,  -999.00,9,  -999.00,9,  -999.00,9,   -999.0,9,   -999.0,9,    6.294,2,    1.281,2,   90.881,2
  09AR20141205,AU1402,   124,  1,      0,     15,2,20150116,0623,-66.2148, 144.0300,  431,     75.5,  -1.3971,  34.3727,2,-999.0000,9,    334.8,2,   -999.0,9,  -999.00,9,  -999.00,9,  -999.00,9,   -999.0,9,   -999.0,9,    6.566,2,    0.000,2,   88.798,2
  09AR20141205,AU1402,   124,  1,      0,     14,2,20150116,0623,-66.2148, 144.0300,  431,     75.5,  -1.4023,  34.3733,2,-999.0000,9,    334.8,2,   -999.0,9,  -999.00,9,  -999.00,9,  -999.00,9,   -999.0,9,   -999.0,9,    6.395,2,    0.000,2,   88.740,2
  09AR20141205,AU1402,   124,  1,      0,     13,2,20150116,0623,-66.2148, 144.0300,  431,     75.5,  -1.3744,  34.3683,2,-999.0000,9,    334.8,2,    312.7,2,    65.10,2,    28.61,2,     2.10,3,   2217.2,2,   2325.8,2,    6.498,2,    0.000,2,   88.474,2
  09AR20141205,AU1402,   124,  1,      0,     12,2,20150116,0623,-66.2148, 144.0300,  431,     75.4,  -1.3761,  34.3691,2,-999.0000,9,    334.8,2,   -999.0,9,  -999.00,9,  -999.00,9,  -999.00,9,   -999.0,9,   -999.0,9,    6.128,2,    0.000,2,   88.708,2
  09AR20141205,AU1402,   124,  1,      0,     11,2,20150116,0623,-66.2148, 144.0300,  431,     75.4,  -1.3821,  34.3702,2,-999.0000,9,    334.8,2,   -999.0,9,  -999.00,9,  -999.00,9,  -999.00,9,   -999.0,9,   -999.0,9,    5.741,2,    0.000,2,   88.260,2
  09AR20141205,AU1402,   124,  1,      0,     10,2,20150116,0623,-66.2148, 144.0300,  431,     75.4,  -1.3822,  34.3705,2,-999.0000,9,    334.8,2,   -999.0,9,  -999.00,9,  -999.00,9,  -999.00,9,   -999.0,9,   -999.0,9,    5.920,2,    0.000,2,   88.232,2
  09AR20141205,AU1402,   124,  1,      0,      9,2,20150116,0623,-66.2148, 144.0300,  431,    200.6,  -1.4180,  34.5161,2,-999.0000,9,    284.6,2,    283.7,2,  -999.00,9,  -999.00,9,  -999.00,9,   2236.7,2,   2330.4,2,    0.120,2,    0.000,2,   98.474,2
  09AR20141205,AU1402,   124,  1,      0,      8,2,20150116,0623,-66.2148, 144.0300,  431,    200.5,  -1.4186,  34.5158,2,-999.0000,9,    284.6,2,   -999.0,9,  -999.00,9,  -999.00,9,  -999.00,9,   -999.0,9,   -999.0,9,    0.078,2,    0.000,2,   98.467,2
  09AR20141205,AU1402,   124,  1,      0,      7,2,20150116,0623,-66.2148, 144.0300,  431,    200.5,  -1.4182,  34.5157,2,-999.0000,9,    284.6,2,   -999.0,9,  -999.00,9,  -999.00,9,  -999.00,9,   -999.0,9,   -999.0,9,    0.073,2,    0.000,2,   98.602,2
  09AR20141205,AU1402,   124,  1,      0,      6,2,20150116,0623,-66.2148, 144.0300,  431,    200.5,  -1.4188,  34.5158,2,-999.0000,9,    284.6,2,   -999.0,9,  -999.00,9,  -999.00,9,  -999.00,9,   -999.0,9,   -999.0,9,    0.083,2,    0.000,2,   98.628,2
  09AR20141205,AU1402,   124,  1,      0,      5,2,20150116,0623,-66.2148, 144.0300,  431,    301.5,  -1.8647,  34.5351,2,  34.5362,2,    303.0,2,    302.8,2,    73.30,2,    30.84,2,     2.14,3,   2236.1,6,   2333.7,6,   -0.020,2,    0.000,2,   98.751,2
  09AR20141205,AU1402,   124,  1,      0,      4,2,20150116,0623,-66.2148, 144.0300,  431,    301.4,  -1.8644,  34.5352,2,-999.0000,9,    303.0,2,   -999.0,9,  -999.00,9,  -999.00,9,  -999.00,9,   -999.0,9,   -999.0,9,   -0.028,2,    0.000,2,   98.686,2
  09AR20141205,AU1402,   124,  1,      0,      3,2,20150116,0623,-66.2148, 144.0300,  431,    380.6,  -1.8942,  34.5772,2,  34.5764,2,    305.4,2,    305.6,2,  -999.00,9,  -999.00,9,  -999.00,9,   2239.4,2,   2334.9,2,   -0.029,2,    0.000,2,   98.664,2
  09AR20141205,AU1402,   124,  1,      0,      2,2,20150116,0623,-66.2148, 144.0300,  431,    380.6,  -1.8949,  34.5784,2,-999.0000,9,    305.4,2,   -999.0,9,  -999.00,9,  -999.00,9,  -999.00,9,   -999.0,9,   -999.0,9,   -0.011,2,    0.000,2,   98.615,2
  09AR20141205,AU1402,   124,  1,      0,      1,2,20150116,0623,-66.2148, 144.0300,  431,    429.1,  -1.8923,  34.5953,2,  34.5940,2,    305.4,2,    305.3,2,    74.00,2,    30.95,2,     2.15,3,   2240.0,2,   2338.0,2,    0.010,2,    0.000,2,   98.189,2
  09AR20141205,AU1402,   125,  1,      0,     24,2,20150116,0800,-66.2000, 143.7792,  472,      7.6,  -0.3049,  34.1304,2,  34.1295,2,    356.1,2,    356.6,2,    45.50,2,    23.99,2,     1.58,3,   2170.2,2,   2311.4,2,    4.194,2,   40.940,2,   89.424,2
  09AR20141205,AU1402,   125,  1,      0,     23,2,20150116,0800,-66.2000, 143.7792,  472,      7.6,  -0.3021,  34.1306,2,-999.0000,9,    356.1,2,   -999.0,9,  -999.00,9,  -999.00,9,  -999.00,9,   -999.0,9,   -999.0,9,    4.084,2,   40.810,2,   89.387,2
  09AR20141205,AU1402,   125,  1,      0,     22,2,20150116,0800,-66.2000, 143.7792,  472,      7.6,  -0.3011,  34.1304,2,-999.0000,9,    356.1,2,   -999.0,9,  -999.00,9,  -999.00,9,  -999.00,9,   -999.0,9,   -999.0,9,    4.057,2,   41.000,2,   89.229,2
  09AR20141205,AU1402,   125,  1,      0,     21,2,20150116,0800,-66.2000, 143.7792,  472,      7.6,  -0.3015,  34.1305,2,-999.0000,9,    356.1,2,   -999.0,9,  -999.00,9,  -999.00,9,  -999.00,9,   -999.0,9,   -999.0,9,    4.345,2,   40.890,2,   89.597,2
  09AR20141205,AU1402,   125,  1,      0,     20,2,20150116,0800,-66.2000, 143.7792,  472,     20.8,  -0.4317,  34.1349,2,  34.1355,2,    356.9,2,    356.5,2,    46.50,2,    24.10,2,     1.61,3,   2170.1,2,   2309.6,2,    6.123,2,    7.531,2,   88.653,2
  09AR20141205,AU1402,   125,  1,      0,     19,2,20150116,0800,-66.2000, 143.7792,  472,     20.7,  -0.4024,  34.1323,2,-999.0000,9,    356.9,2,   -999.0,9,  -999.00,9,  -999.00,9,  -999.00,9,   -999.0,9,   -999.0,9,    5.647,2,    7.546,2,   88.954,2
  09AR20141205,AU1402,   125,  1,      0,     18,2,20150116,0800,-66.2000, 143.7792,  472,     35.6,  -0.9102,  34.2882,2,-999.0000,9,    351.4,2,    342.6,2,    52.80,2,    25.90,2,     1.78,3,   2194.2,2,   2320.5,2,    6.054,2,    1.263,2,   90.471,2
  09AR20141205,AU1402,   125,  1,      0,     17,2,20150116,0800,-66.2000, 143.7792,  472,     35.5,  -0.9097,  34.2881,2,-999.0000,9,    351.4,2,   -999.0,9,  -999.00,9,  -999.00,9,  -999.00,9,   -999.0,9,   -999.0,9,    6.599,2,    1.313,2,   90.558,2
  09AR20141205,AU1402,   125,  1,      0,     16,2,20150116,0800,-66.2000, 143.7792,  472,     35.5,  -0.9093,  34.2879,2,-999.0000,9,    351.4,2,   -999.0,9,  -999.00,9,  -999.00,9,  -999.00,9,   -999.0,9,   -999.0,9,    6.981,2,    1.319,2,   91.017,2
  09AR20141205,AU1402,   125,  1,      0,     15,2,20150116,0800,-66.2000, 143.7792,  472,    110.1,  -1.4961,  34.4720,2,  34.4687,2,    293.3,2,    292.0,2,    70.90,2,    30.30,2,     2.17,3,   2233.4,2,   2329.8,2,    0.304,2,    0.000,2,   98.048,2
  09AR20141205,AU1402,   125,  1,      0,     14,2,20150116,0800,-66.2000, 143.7792,  472,    110.1,  -1.5206,  34.4693,2,-999.0000,9,    293.3,2,   -999.0,9,  -999.00,9,  -999.00,9,  -999.00,9,   -999.0,9,   -999.0,9,    0.334,2,    0.000,2,   98.099,2
  09AR20141205,AU1402,   125,  1,      0,     13,2,20150116,0800,-66.2000, 143.7792,  472,    110.1,  -1.5298,  34.4680,2,-999.0000,9,    293.3,2,   -999.0,9,  -999.00,9,  -999.00,9,  -999.00,9,   -999.0,9,   -999.0,9,    0.436,2,    0.000,2,   98.003,2
  09AR20141205,AU1402,   125,  1,      0,     12,2,20150116,0800,-66.2000, 143.7792,  472,    110.0,  -1.5308,  34.4678,2,-999.0000,9,    293.3,2,   -999.0,9,  -999.00,9,  -999.00,9,  -999.00,9,   -999.0,9,   -999.0,9,    0.459,2,    0.000,2,   97.804,2
  09AR20141205,AU1402,   125,  1,      0,     11,2,20150116,0800,-66.2000, 143.7792,  472,    221.3,  -1.7365,  34.5210,2,  34.5209,2,    297.0,2,    296.6,2,    72.50,2,    30.77,2,     2.15,3,   -999.0,9,   -999.0,9,    0.027,2,    0.000,2,   98.746,2
  09AR20141205,AU1402,   125,  1,      0,     10,2,20150116,0800,-66.2000, 143.7792,  472,    221.3,  -1.7359,  34.5210,2,-999.0000,9,    297.0,2,   -999.0,9,  -999.00,9,  -999.00,9,  -999.00,9,   -999.0,9,   -999.0,9,    0.037,2,    0.000,2,   98.756,2
  09AR20141205,AU1402,   125,  1,      0,      9,2,20150116,0800,-66.2000, 143.7792,  472,    221.2,  -1.7367,  34.5210,2,-999.0000,9,    297.0,2,   -999.0,9,  -999.00,9,  -999.00,9,  -999.00,9,   -999.0,9,   -999.0,9,    0.043,2,    0.000,2,   98.723,2
  09AR20141205,AU1402,   125,  1,      0,      8,2,20150116,0800,-66.2000, 143.7792,  472,    221.2,  -1.7377,  34.5209,2,-999.0000,9,    297.0,2,   -999.0,9,  -999.00,9,  -999.00,9,  -999.00,9,   -999.0,9,   -999.0,9,    0.037,2,    0.000,2,   98.724,2
  09AR20141205,AU1402,   125,  1,      0,      7,2,20150116,0800,-66.2000, 143.7792,  472,    340.3,  -1.8890,  34.5564,2,  34.5566,2,    305.3,2,    305.6,2,  -999.00,9,  -999.00,9,  -999.00,9,   -999.0,9,   -999.0,9,   -0.029,2,    0.000,2,   98.668,2
  09AR20141205,AU1402,   125,  1,      0,      6,2,20150116,0800,-66.2000, 143.7792,  472,    340.3,  -1.8891,  34.5563,2,-999.0000,9,    305.3,2,   -999.0,9,  -999.00,9,  -999.00,9,  -999.00,9,   -999.0,9,   -999.0,9,    0.006,2,    0.000,2,   98.690,2
  09AR20141205,AU1402,   125,  1,      0,      5,2,20150116,0800,-66.2000, 143.7792,  472,    340.3,  -1.8889,  34.5561,2,-999.0000,9,    305.3,2,   -999.0,9,  -999.00,9,  -999.00,9,  -999.00,9,   -999.0,9,   -999.0,9,   -0.021,2,    0.000,2,   98.670,2
  09AR20141205,AU1402,   125,  1,      0,      4,2,20150116,0800,-66.2000, 143.7792,  472,    340.3,  -1.8888,  34.5562,2,-999.0000,9,    305.3,2,   -999.0,9,  -999.00,9,  -999.00,9,  -999.00,9,   -999.0,9,   -999.0,9,   -0.015,2,    0.000,2,   98.693,2
  09AR20141205,AU1402,   125,  1,      0,      3,2,20150116,0800,-66.2000, 143.7792,  472,    430.4,  -1.9021,  34.5746,2,-999.0000,9,    307.7,2,   -999.0,9,  -999.00,9,  -999.00,9,  -999.00,9,   -999.0,9,   -999.0,9,   -0.063,2,    0.000,2,   98.619,2
  09AR20141205,AU1402,   125,  1,      0,      2,2,20150116,0800,-66.2000, 143.7792,  472,    430.4,  -1.9019,  34.5744,2,-999.0000,9,    307.7,2,   -999.0,9,  -999.00,9,  -999.00,9,  -999.00,9,   -999.0,9,   -999.0,9,   -0.055,2,    0.000,2,   98.642,2
  09AR20141205,AU1402,   125,  1,      0,      1,2,20150116,0800,-66.2000, 143.7792,  472,    472.1,  -1.8988,  34.5822,2,  34.5813,2,    307.3,2,    306.4,2,    70.10,2,    30.74,2,     2.16,3,   2239.6,2,   2336.4,6,   -0.029,2,    0.000,2,   98.205,2
  09AR20141205,AU1402,   126,  1,      0,     24,2,20150116,0936,-66.1998, 143.4847,  548,      9.3,  -0.4707,  34.1482,2,-999.0000,9,    360.9,2,   -999.0,9,  -999.00,9,  -999.00,9,  -999.00,9,   -999.0,9,   -999.0,9,    5.374,2,   12.160,2,   87.918,2
  09AR20141205,AU1402,   126,  1,      0,     23,2,20150116,0936,-66.1998, 143.4847,  548,      9.2,  -0.4618,  34.1478,2,-999.0000,9,    360.9,2,   -999.0,9,  -999.00,9,  -999.00,9,  -999.00,9,   -999.0,9,   -999.0,9,    5.379,2,   12.260,2,   87.837,2
  09AR20141205,AU1402,   126,  1,      0,     22,2,20150116,0936,-66.1998, 143.4847,  548,      9.2,  -0.4663,  34.1481,2,-999.0000,9,    360.9,2,   -999.0,9,  -999.00,9,  -999.00,9,  -999.00,9,   -999.0,9,   -999.0,9,    6.237,2,   12.210,2,   87.717,2
  09AR20141205,AU1402,   126,  1,      0,     21,2,20150116,0936,-66.1998, 143.4847,  548,      9.1,  -0.4660,  34.1480,2,  34.1475,2,    360.9,2,    360.7,2,    47.70,2,    23.62,2,     1.55,3,   2166.5,2,   2315.7,2,    5.218,2,   13.180,2,   87.949,2
  09AR20141205,AU1402,   126,  1,      0,     20,2,20150116,0936,-66.1998, 143.4847,  548,     20.8,  -0.5287,  34.1536,2,-999.0000,9,    359.9,2,   -999.0,9,  -999.00,9,  -999.00,9,  -999.00,9,   -999.0,9,   -999.0,9,    6.425,2,    2.819,2,   87.920,2
  09AR20141205,AU1402,   126,  1,      0,     19,2,20150116,0936,-66.1998, 143.4847,  548,     20.7,  -0.5404,  34.1543,2,  34.1547,2,    359.9,2,    360.3,2,    49.10,2,    23.66,2,     1.59,3,   2168.6,2,   2315.0,6,    6.788,2,    2.921,2,   87.738,2
  09AR20141205,AU1402,   126,  1,      0,     18,2,20150116,0936,-66.1998, 143.4847,  548,     41.2,  -0.9155,  34.2324,2,-999.0000,9,    350.2,2,   -999.0,9,  -999.00,9,  -999.00,9,  -999.00,9,   -999.0,9,   -999.0,9,    8.986,2,    0.162,2,   87.538,2
  09AR20141205,AU1402,   126,  1,      0,     17,2,20150116,0936,-66.1998, 143.4847,  548,     80.5,  -1.4157,  34.3527,2,  34.3576,2,    325.4,2,    324.0,2,    64.00,2,    26.88,2,     1.98,3,   2207.9,2,   2328.4,2,    2.958,2,    0.000,2,   93.957,2
  09AR20141205,AU1402,   126,  1,      0,     16,2,20150116,0936,-66.1998, 143.4847,  548,     80.5,  -1.4159,  34.3528,2,-999.0000,9,    325.4,2,   -999.0,9,  -999.00,9,  -999.00,9,  -999.00,9,   -999.0,9,   -999.0,9,    2.952,2,    0.000,2,   93.910,2
  09AR20141205,AU1402,   126,  1,      0,     15,2,20150116,0936,-66.1998, 143.4847,  548,     80.5,  -1.4160,  34.3527,2,-999.0000,9,    325.4,2,   -999.0,9,  -999.00,9,  -999.00,9,  -999.00,9,   -999.0,9,   -999.0,9,    2.928,2,    0.000,2,   93.860,2
  09AR20141205,AU1402,   126,  1,      0,     14,2,20150116,0936,-66.1998, 143.4847,  548,     80.4,  -1.4163,  34.3528,2,-999.0000,9,    325.4,2,   -999.0,9,  -999.00,9,  -999.00,9,  -999.00,9,   -999.0,9,   -999.0,9,    3.016,2,    0.000,2,   93.883,2
  09AR20141205,AU1402,   126,  1,      0,     13,2,20150116,0936,-66.1998, 143.4847,  548,    171.6,  -1.7656,  34.4936,2,  34.4930,2,    301.3,2,    300.7,2,    71.30,2,    30.32,2,     2.15,3,   2234.2,2,   2334.2,2,    0.303,2,    0.000,2,   98.081,2
  09AR20141205,AU1402,   126,  1,      0,     12,2,20150116,0936,-66.1998, 143.4847,  548,    171.5,  -1.7635,  34.4935,2,-999.0000,9,    301.3,2,   -999.0,9,  -999.00,9,  -999.00,9,  -999.00,9,   -999.0,9,   -999.0,9,    0.293,2,    0.000,2,   98.063,2
  09AR20141205,AU1402,   126,  1,      0,     11,2,20150116,0936,-66.1998, 143.4847,  548,    171.5,  -1.7612,  34.4935,2,-999.0000,9,    301.3,2,   -999.0,9,  -999.00,9,  -999.00,9,  -999.00,9,   -999.0,9,   -999.0,9,    0.287,2,    0.000,2,   98.110,2
  09AR20141205,AU1402,   126,  1,      0,     10,2,20150116,0936,-66.1998, 143.4847,  548,    171.5,  -1.7599,  34.4934,2,-999.0000,9,    301.3,2,   -999.0,9,  -999.00,9,  -999.00,9,  -999.00,9,   -999.0,9,   -999.0,9,    0.241,2,    0.000,2,   98.157,2
  09AR20141205,AU1402,   126,  1,      0,      9,2,20150116,0936,-66.1998, 143.4847,  548,    361.1,  -1.8991,  34.5579,2,-999.0000,9,    305.8,2,    306.3,2,    70.60,2,    30.74,2,     2.13,3,   2235.7,2,   2338.6,2,   -0.039,2,    0.000,2,   98.710,2
  09AR20141205,AU1402,   126,  1,      0,      8,2,20150116,0936,-66.1998, 143.4847,  548,    361.0,  -1.8990,  34.5578,2,-999.0000,9,    305.8,2,   -999.0,9,  -999.00,9,  -999.00,9,  -999.00,9,   -999.0,9,   -999.0,9,   -0.040,2,    0.000,2,   98.699,2
  09AR20141205,AU1402,   126,  1,      0,      7,2,20150116,0936,-66.1998, 143.4847,  548,    361.0,  -1.8988,  34.5579,2,-999.0000,9,    305.8,2,   -999.0,9,  -999.00,9,  -999.00,9,  -999.00,9,   -999.0,9,   -999.0,9,   -0.042,2,    0.000,2,   98.648,2
  09AR20141205,AU1402,   126,  1,      0,      6,2,20150116,0936,-66.1998, 143.4847,  548,    361.0,  -1.8986,  34.5578,2,-999.0000,9,    305.9,2,   -999.0,9,  -999.00,9,  -999.00,9,  -999.00,9,   -999.0,9,   -999.0,9,   -0.029,2,    0.000,2,   98.697,2
  09AR20141205,AU1402,   126,  1,      0,      5,2,20150116,0936,-66.1998, 143.4847,  548,    451.5,  -1.9003,  34.5740,2,  34.5725,2,    307.2,2,    307.0,2,  -999.00,9,  -999.00,9,  -999.00,9,   2239.4,2,   2337.8,2,   -0.078,2,    0.000,2,   98.652,2
  09AR20141205,AU1402,   126,  1,      0,      4,2,20150116,0936,-66.1998, 143.4847,  548,    451.2,  -1.9004,  34.5742,2,-999.0000,9,    307.2,2,   -999.0,9,  -999.00,9,  -999.00,9,  -999.00,9,   -999.0,9,   -999.0,9,   -0.069,2,    0.000,2,   98.639,2
  09AR20141205,AU1402,   126,  1,      0,      3,2,20150116,0936,-66.1998, 143.4847,  548,    451.1,  -1.9004,  34.5741,2,-999.0000,9,    307.2,2,   -999.0,9,  -999.00,9,  -999.00,9,  -999.00,9,   -999.0,9,   -999.0,9,   -0.070,2,    0.000,2,   98.656,2
  09AR20141205,AU1402,   126,  1,      0,      2,2,20150116,0936,-66.1998, 143.4847,  548,    451.2,  -1.9004,  34.5741,2,-999.0000,9,    307.2,2,   -999.0,9,  -999.00,9,  -999.00,9,  -999.00,9,   -999.0,9,   -999.0,9,   -0.065,2,    0.000,2,   98.659,2
  09AR20141205,AU1402,   126,  1,      0,      1,2,20150116,0936,-66.1998, 143.4847,  548,    544.8,  -1.8935,  34.5890,2,  34.5880,2,    307.5,2,    306.1,2,    72.70,2,    30.76,2,     2.17,3,   2240.1,6,   2338.6,6,   -0.006,2,    0.000,2,   98.112,2