BOTTLE,20210329PRINUNIVRMK
EXPOCODE,SECT_ID,STNNBR,CASTNO,SAMPNO,BTLNBR,BTLNBR_FLAG_W,DATE,TIME,LATITUDE,LONGITUDE,DEPTH,CTDPRS,CTDTMP,CTDSAL,CTDSAL_FLAG_W,SALNTY,SALNTY_FLAG_W,CTDOXY,CTDOXY_FLAG_W,OXYGEN,OXYGEN_FLAG_W,SILCAT,SILCAT_FLAG_W,NITRAT,NITRAT_FLAG_W,PHSPHT,PHSPHT_FLAG_W,TCARBN,TCARBN_FLAG_W,ALKALI,ALKALI_FLAG_W,CTDFLUOR,CTDFLUOR_FLAG_W,CTDPAR,CTDPAR_FLAG_W,CTDXMISS,CTDXMISS_FLAG_W
,,,,,,,,,,,METERS,DBAR,ITS-90,PSS-78,,PSS-78,,UMOL/KG,,UMOL/KG,,UMOL/KG,,UMOL/KG,,UMOL/KG,,UMOL/KG,,UMOL/KG,,MG/M^3,,UEINSTEIN/M^2*SEC,,%TRANS,
  09AR20141205,AU1402,   106,  1,      0,     24,2,20150114,1424,-66.8720, 144.6722, 1019,      7.5,  -1.2245,  33.7264,2,-999.0000,9,    383.0,2,   -999.0,9,  -999.00,9,  -999.00,9,  -999.00,9,   -999.0,9,   -999.0,9,   10.797,2,    1.095,2,   85.349,2
  09AR20141205,AU1402,   106,  1,      0,     23,2,20150114,1424,-66.8720, 144.6722, 1019,      7.5,  -1.2250,  33.7257,2,-999.0000,9,    383.0,2,   -999.0,9,  -999.00,9,  -999.00,9,  -999.00,9,   -999.0,9,   -999.0,9,   12.868,2,    1.089,2,   85.275,2
  09AR20141205,AU1402,   106,  1,      0,     22,2,20150114,1424,-66.8720, 144.6722, 1019,      7.5,  -1.2317,  33.7252,2,-999.0000,9,    383.0,2,   -999.0,9,  -999.00,9,  -999.00,9,  -999.00,9,   -999.0,9,   -999.0,9,   11.165,2,    1.073,2,   85.411,2
  09AR20141205,AU1402,   106,  1,      0,     21,2,20150114,1424,-66.8720, 144.6722, 1019,      7.4,  -1.2231,  33.7249,2,  33.7379,2,    383.0,2,    381.9,2,    58.10,2,    17.53,2,     1.38,3,   2106.2,2,   2294.6,2,   11.899,2,    1.071,2,   85.378,2
  09AR20141205,AU1402,   106,  1,      0,     20,2,20150114,1424,-66.8720, 144.6722, 1019,     40.6,  -1.2251,  33.7814,2,-999.0000,9,    379.3,2,   -999.0,9,  -999.00,9,  -999.00,9,  -999.00,9,   -999.0,9,   -999.0,9,   12.505,2,    0.000,2,   86.376,2
  09AR20141205,AU1402,   106,  1,      0,     19,2,20150114,1424,-66.8720, 144.6722, 1019,     40.5,  -1.2258,  33.7812,2,  33.7998,2,    379.3,2,    372.0,2,    57.80,2,    18.15,2,     1.44,3,   2116.9,2,   2293.3,2,   14.142,2,    0.000,2,   87.337,2
  09AR20141205,AU1402,   106,  1,      0,     18,2,20150114,1424,-66.8720, 144.6722, 1019,     60.8,  -1.4102,  33.8973,2,-999.0000,9,    366.7,2,   -999.0,9,  -999.00,9,  -999.00,9,  -999.00,9,   -999.0,9,   -999.0,9,    8.334,2,    0.000,2,   88.252,2
  09AR20141205,AU1402,   106,  1,      0,     17,2,20150114,1424,-66.8720, 144.6722, 1019,     60.7,  -1.4122,  33.8983,2,-999.0000,9,    366.7,2,    359.8,2,  -999.00,9,  -999.00,9,  -999.00,9,   2141.6,2,   2307.0,2,   12.501,2,    0.000,2,   87.853,2
  09AR20141205,AU1402,   106,  1,      0,     16,2,20150114,1424,-66.8720, 144.6722, 1019,     60.6,  -1.4111,  33.8965,2,-999.0000,9,    366.7,2,   -999.0,9,  -999.00,9,  -999.00,9,  -999.00,9,   -999.0,9,   -999.0,9,   13.962,2,    0.000,2,   86.745,2
  09AR20141205,AU1402,   106,  1,      0,     15,2,20150114,1424,-66.8720, 144.6722, 1019,    111.3,  -1.7161,  34.2962,2,-999.0000,9,    327.4,2,    325.9,2,    66.10,2,    26.33,2,     2.01,3,   2207.0,6,   2324.5,6,    2.506,2,    0.000,2,   94.436,2
  09AR20141205,AU1402,   106,  1,      0,     14,2,20150114,1424,-66.8720, 144.6722, 1019,    111.3,  -1.7129,  34.2938,2,-999.0000,9,    327.4,2,   -999.0,9,  -999.00,9,  -999.00,9,  -999.00,9,   -999.0,9,   -999.0,9,    2.500,2,    0.000,2,   94.277,2
  09AR20141205,AU1402,   106,  1,      0,     13,2,20150114,1424,-66.8720, 144.6722, 1019,    251.0,  -1.8303,  34.4495,2,  34.4505,2,    299.5,2,    302.2,2,    70.70,2,    30.13,2,     2.15,3,   2231.3,2,   2329.6,2,    0.050,2,    0.000,2,   98.386,2
  09AR20141205,AU1402,   106,  1,      0,     12,2,20150114,1424,-66.8720, 144.6722, 1019,    250.9,  -1.8303,  34.4494,2,-999.0000,9,    299.5,2,   -999.0,9,  -999.00,9,  -999.00,9,  -999.00,9,   -999.0,9,   -999.0,9,    0.117,2,    0.000,2,   98.376,2
  09AR20141205,AU1402,   106,  1,      0,     11,2,20150114,1424,-66.8720, 144.6722, 1019,    291.1,  -1.6308,  34.4741,2,-999.0000,9,    297.9,2,    296.6,2,  -999.00,9,  -999.00,9,  -999.00,9,   2231.7,2,   2332.4,2,    0.149,2,    0.000,2,   98.290,2
  09AR20141205,AU1402,   106,  1,      0,     10,2,20150114,1424,-66.8720, 144.6722, 1019,    291.1,  -1.6317,  34.4740,2,-999.0000,9,    297.9,2,   -999.0,9,  -999.00,9,  -999.00,9,  -999.00,9,   -999.0,9,   -999.0,9,    0.150,2,    0.000,2,   98.261,2
  09AR20141205,AU1402,   106,  1,      0,      9,2,20150114,1424,-66.8720, 144.6722, 1019,    451.0,  -1.8464,  34.5191,2,  34.5199,2,    300.5,2,    302.1,2,    71.10,2,    30.55,2,     2.13,3,   2234.7,2,   2334.6,2,    0.039,2,    0.000,2,   98.516,2
  09AR20141205,AU1402,   106,  1,      0,      8,2,20150114,1424,-66.8720, 144.6722, 1019,    451.0,  -1.8462,  34.5192,2,-999.0000,9,    300.2,2,   -999.0,9,  -999.00,9,  -999.00,9,  -999.00,9,   -999.0,9,   -999.0,9,    0.044,2,    0.000,2,   98.523,2
  09AR20141205,AU1402,   106,  1,      0,      7,2,20150114,1424,-66.8720, 144.6722, 1019,    601.2,  -1.9741,  34.5473,2,-999.0000,9,    308.7,2,    307.9,2,    71.40,2,    30.47,2,     2.15,3,   2236.6,2,   2333.8,6,   -0.074,2,    0.000,2,   98.439,2
  09AR20141205,AU1402,   106,  1,      0,      6,2,20150114,1424,-66.8720, 144.6722, 1019,    601.2,  -1.9731,  34.5471,2,-999.0000,9,    308.7,2,   -999.0,9,  -999.00,9,  -999.00,9,  -999.00,9,   -999.0,9,   -999.0,9,   -0.073,2,    0.000,2,   98.412,2
  09AR20141205,AU1402,   106,  1,      0,      5,2,20150114,1424,-66.8720, 144.6722, 1019,    752.2,  -1.8986,  34.5711,2,  34.5707,2,    307.3,2,    307.3,2,    71.10,2,    30.52,2,     2.15,3,   2239.7,2,   2339.0,2,   -0.067,2,    0.000,2,   98.624,2
  09AR20141205,AU1402,   106,  1,      0,      4,2,20150114,1424,-66.8720, 144.6722, 1019,    752.0,  -1.8984,  34.5717,2,-999.0000,9,    307.3,2,   -999.0,9,  -999.00,9,  -999.00,9,  -999.00,9,   -999.0,9,   -999.0,9,   -0.072,2,    0.000,2,   98.661,2
  09AR20141205,AU1402,   106,  1,      0,      3,2,20150114,1424,-66.8720, 144.6722, 1019,    902.3,  -1.8895,  34.5902,2,-999.0000,9,    307.0,2,    307.4,2,    71.00,2,    30.68,2,     2.16,3,   2241.4,2,   2338.7,2,   -0.084,2,    0.000,2,   98.659,2
  09AR20141205,AU1402,   106,  1,      0,      2,2,20150114,1424,-66.8720, 144.6722, 1019,    902.2,  -1.8895,  34.5904,2,-999.0000,9,    307.0,2,   -999.0,9,  -999.00,9,  -999.00,9,  -999.00,9,   -999.0,9,   -999.0,9,   -0.079,2,    0.000,2,   98.644,2
  09AR20141205,AU1402,   106,  1,      0,      1,2,20150114,1424,-66.8720, 144.6722, 1019,   1020.9,  -1.8786,  34.6043,2,-999.0000,9,    306.0,2,    306.3,2,    72.00,2,    30.70,2,     2.18,3,   2240.2,2,   2335.9,2,   -0.047,2,    0.000,2,   98.349,2
  09AR20141205,AU1402,   107,  1,      0,     24,2,20150114,1917,-66.4195, 145.2053,  389,      7.5,  -0.3128,  34.2114,2,-999.0000,9,    353.1,2,   -999.0,9,  -999.00,9,  -999.00,9,  -999.00,9,   -999.0,9,   -999.0,9,    3.687,2,   35.530,2,   90.398,2
  09AR20141205,AU1402,   107,  1,      0,     23,2,20150114,1917,-66.4195, 145.2053,  389,      7.5,  -0.3130,  34.2114,2,-999.0000,9,    353.1,2,   -999.0,9,  -999.00,9,  -999.00,9,  -999.00,9,   -999.0,9,   -999.0,9,    3.941,2,   35.490,2,   90.308,2
  09AR20141205,AU1402,   107,  1,      0,     22,2,20150114,1917,-66.4195, 145.2053,  389,      7.5,  -0.3138,  34.2115,2,-999.0000,9,    353.1,2,   -999.0,9,  -999.00,9,  -999.00,9,  -999.00,9,   -999.0,9,   -999.0,9,    3.991,2,   35.330,2,   90.472,2
  09AR20141205,AU1402,   107,  1,      0,     21,2,20150114,1917,-66.4195, 145.2053,  389,      7.4,  -0.3087,  34.2114,2,  34.2113,2,    353.1,2,    352.4,2,    51.20,2,    25.30,2,     1.68,3,   2179.2,2,   2313.8,2,    3.954,2,   36.710,2,   90.454,2
  09AR20141205,AU1402,   107,  1,      0,     20,2,20150114,1917,-66.4195, 145.2053,  389,      7.2,  -0.3111,  34.2116,2,-999.0000,9,    353.1,2,   -999.0,9,  -999.00,9,  -999.00,9,  -999.00,9,   -999.0,9,   -999.0,9,    3.257,2,   37.950,2,   90.150,2
  09AR20141205,AU1402,   107,  1,      0,     19,2,20150114,1917,-66.4195, 145.2053,  389,     18.4,  -0.3488,  34.2123,2,-999.0000,9,    351.1,2,    352.1,2,    51.30,2,    25.30,2,     1.67,3,   2179.8,6,   2315.7,6,    3.859,2,    9.269,2,   90.565,2
  09AR20141205,AU1402,   107,  1,      0,     18,2,20150114,1917,-66.4195, 145.2053,  389,     18.2,  -0.3130,  34.2111,2,-999.0000,9,    351.1,2,   -999.0,9,  -999.00,9,  -999.00,9,  -999.00,9,   -999.0,9,   -999.0,9,    4.663,2,    8.786,2,   90.385,2
  09AR20141205,AU1402,   107,  1,      0,     17,2,20150114,1917,-66.4195, 145.2053,  389,     18.2,  -0.3133,  34.2113,2,-999.0000,9,    351.1,2,   -999.0,9,  -999.00,9,  -999.00,9,  -999.00,9,   -999.0,9,   -999.0,9,    5.076,2,    8.679,2,   90.536,2
  09AR20141205,AU1402,   107,  1,      0,     16,2,20150114,1917,-66.4195, 145.2053,  389,     18.1,  -0.3265,  34.2112,2,-999.0000,9,    351.1,2,   -999.0,9,  -999.00,9,  -999.00,9,  -999.00,9,   -999.0,9,   -999.0,9,    4.212,2,    8.684,2,   90.260,2
  09AR20141205,AU1402,   107,  1,      0,     15,2,20150114,1917,-66.4195, 145.2053,  389,     50.8,  -0.8395,  34.2481,2,-999.0000,9,    338.3,2,    339.9,2,    56.20,2,    26.60,2,     1.82,3,   2191.5,2,   2317.9,2,    9.429,2,    0.149,2,   89.360,2
  09AR20141205,AU1402,   107,  1,      0,     14,2,20150114,1917,-66.4195, 145.2053,  389,     50.6,  -0.8263,  34.2524,2,-999.0000,9,    338.3,2,   -999.0,9,  -999.00,9,  -999.00,9,  -999.00,9,   -999.0,9,   -999.0,9,    8.379,2,    0.159,2,   88.492,2
  09AR20141205,AU1402,   107,  1,      0,     13,2,20150114,1917,-66.4195, 145.2053,  389,     50.6,  -0.8308,  34.2529,2,-999.0000,9,    338.3,2,   -999.0,9,  -999.00,9,  -999.00,9,  -999.00,9,   -999.0,9,   -999.0,9,    8.724,2,    0.164,2,   88.449,2
  09AR20141205,AU1402,   107,  1,      0,     12,2,20150114,1917,-66.4195, 145.2053,  389,     50.5,  -0.8326,  34.2529,2,-999.0000,9,    338.3,2,   -999.0,9,  -999.00,9,  -999.00,9,  -999.00,9,   -999.0,9,   -999.0,9,    8.888,2,    0.166,2,   88.360,2
  09AR20141205,AU1402,   107,  1,      0,     11,2,20150114,1917,-66.4195, 145.2053,  389,    100.5,  -1.4006,  34.4005,2,  34.4097,2,    309.1,2,    299.6,2,  -999.00,9,  -999.00,9,  -999.00,9,   2222.8,2,   2322.9,2,    2.442,2,    0.000,2,   94.918,2
  09AR20141205,AU1402,   107,  1,      0,     10,2,20150114,1917,-66.4195, 145.2053,  389,    100.3,  -1.4163,  34.4041,2,-999.0000,9,    309.1,2,   -999.0,9,  -999.00,9,  -999.00,9,  -999.00,9,   -999.0,9,   -999.0,9,    1.684,2,    0.000,2,   95.352,2
  09AR20141205,AU1402,   107,  1,      0,      9,2,20150114,1917,-66.4195, 145.2053,  389,    100.3,  -1.4209,  34.4050,2,-999.0000,9,    309.1,2,   -999.0,9,  -999.00,9,  -999.00,9,  -999.00,9,   -999.0,9,   -999.0,9,    1.679,2,    0.000,2,   95.489,2
  09AR20141205,AU1402,   107,  1,      0,      8,2,20150114,1917,-66.4195, 145.2053,  389,    100.2,  -1.4255,  34.4061,2,-999.0000,9,    309.1,2,   -999.0,9,  -999.00,9,  -999.00,9,  -999.00,9,   -999.0,9,   -999.0,9,    1.484,2,    0.000,2,   96.146,2
  09AR20141205,AU1402,   107,  1,      0,      7,2,20150114,1917,-66.4195, 145.2053,  389,    150.7,  -1.3232,  34.4575,2,  34.4614,2,    286.5,2,    283.9,2,    72.20,2,    30.53,2,     2.08,3,   2228.5,2,   2328.2,6,    0.500,2,    0.000,2,   97.835,2
  09AR20141205,AU1402,   107,  1,      0,      6,2,20150114,1917,-66.4195, 145.2053,  389,    150.7,  -1.3230,  34.4573,2,-999.0000,9,    286.5,2,   -999.0,9,  -999.00,9,  -999.00,9,  -999.00,9,   -999.0,9,   -999.0,9,    0.329,2,    0.000,2,   97.758,2
  09AR20141205,AU1402,   107,  1,      0,      5,2,20150114,1917,-66.4195, 145.2053,  389,    201.0,  -1.2258,  34.4844,2,  34.4853,2,    277.7,2,    279.8,2,    72.50,2,    31.03,2,     2.11,3,   2232.1,2,   2328.5,2,    0.076,2,    0.000,2,   98.406,2
  09AR20141205,AU1402,   107,  1,      0,      4,2,20150114,1917,-66.4195, 145.2053,  389,    200.8,  -1.2188,  34.4849,2,-999.0000,9,    277.3,2,   -999.0,9,  -999.00,9,  -999.00,9,  -999.00,9,   -999.0,9,   -999.0,9,    0.083,2,    0.000,2,   98.392,2
  09AR20141205,AU1402,   107,  1,      0,      3,2,20150114,1917,-66.4195, 145.2053,  389,    300.8,  -0.9034,  34.5493,2,-999.0000,9,    262.7,2,    263.0,2,  -999.00,9,  -999.00,9,  -999.00,9,   2247.4,2,   2335.8,2,    0.002,2,    0.000,2,   98.320,2
  09AR20141205,AU1402,   107,  1,      0,      2,2,20150114,1917,-66.4195, 145.2053,  389,    301.1,  -0.9037,  34.5495,2,-999.0000,9,    262.7,2,   -999.0,9,  -999.00,9,  -999.00,9,  -999.00,9,   -999.0,9,   -999.0,9,   -0.022,2,    0.000,2,   98.285,2
  09AR20141205,AU1402,   107,  1,      0,      1,2,20150114,1917,-66.4195, 145.2053,  389,    387.7,  -1.5783,  34.5791,2,  34.5788,2,    290.0,2,    289.0,2,    75.70,2,    31.37,2,     2.11,3,   2236.2,2,   2338.8,2,    0.080,2,    0.000,2,   97.598,2
  09AR20141205,AU1402,   108,  1,      0,     24,2,20150114,2104,-66.4878, 145.0353,  414,      6.7,  -0.4563,  34.1554,2,-999.0000,9,    354.8,2,   -999.0,9,  -999.00,9,  -999.00,9,  -999.00,9,   -999.0,9,   -999.0,9,    1.516,2,  112.900,2,   89.544,2
  09AR20141205,AU1402,   108,  1,      0,     23,2,20150114,2104,-66.4878, 145.0353,  414,      6.7,  -0.4565,  34.1554,2,-999.0000,9,    354.8,2,   -999.0,9,  -999.00,9,  -999.00,9,  -999.00,9,   -999.0,9,   -999.0,9,    1.607,2,  115.300,2,   89.567,2
  09AR20141205,AU1402,   108,  1,      0,     22,2,20150114,2104,-66.4878, 145.0353,  414,      6.7,  -0.4579,  34.1555,2,-999.0000,9,    354.8,2,   -999.0,9,  -999.00,9,  -999.00,9,  -999.00,9,   -999.0,9,   -999.0,9,    1.672,2,  120.000,2,   89.593,2
  09AR20141205,AU1402,   108,  1,      0,     21,2,20150114,2104,-66.4878, 145.0353,  414,      6.6,  -0.4622,  34.1585,2,  34.1575,2,    354.8,2,    356.0,2,  -999.00,9,    24.45,2,     1.52,3,   2158.8,2,   2314.6,2,    2.651,2,  116.600,2,   89.405,2
  09AR20141205,AU1402,   108,  1,      0,     20,2,20150114,2104,-66.4878, 145.0353,  414,      6.5,  -0.4597,  34.1562,2,-999.0000,9,    354.8,2,   -999.0,9,  -999.00,9,  -999.00,9,  -999.00,9,   -999.0,9,   -999.0,9,    1.705,2,  113.800,2,   89.918,2
  09AR20141205,AU1402,   108,  1,      0,     19,2,20150114,2104,-66.4878, 145.0353,  414,     15.5,  -0.4609,  34.1564,2,  34.1573,2,    356.1,2,    356.2,2,  -999.00,9,    24.32,2,     1.47,3,   2178.5,2,   2310.4,2,    2.889,2,   34.180,2,   89.741,2
  09AR20141205,AU1402,   108,  1,      0,     18,2,20150114,2104,-66.4878, 145.0353,  414,     15.2,  -0.4621,  34.1568,2,-999.0000,9,    356.1,2,   -999.0,9,  -999.00,9,  -999.00,9,  -999.00,9,   -999.0,9,   -999.0,9,    2.721,2,   35.680,2,   89.729,2
  09AR20141205,AU1402,   108,  1,      0,     17,2,20150114,2104,-66.4878, 145.0353,  414,     15.2,  -0.4646,  34.1578,2,-999.0000,9,    356.1,2,   -999.0,9,  -999.00,9,  -999.00,9,  -999.00,9,   -999.0,9,   -999.0,9,    3.803,2,   35.260,2,   89.540,2
  09AR20141205,AU1402,   108,  1,      0,     16,2,20150114,2104,-66.4878, 145.0353,  414,     15.1,  -0.4663,  34.1584,2,-999.0000,9,    356.1,2,   -999.0,9,  -999.00,9,  -999.00,9,  -999.00,9,   -999.0,9,   -999.0,9,    4.070,2,   34.890,2,   89.536,2
  09AR20141205,AU1402,   108,  1,      0,     15,2,20150114,2104,-66.4878, 145.0353,  414,     50.8,  -0.7957,  34.2574,2,-999.0000,9,    351.1,2,    345.4,2,  -999.00,9,    25.28,2,     1.60,3,   -999.0,9,   -999.0,9,    8.352,2,    0.390,2,   88.861,2
  09AR20141205,AU1402,   108,  1,      0,     14,2,20150114,2104,-66.4878, 145.0353,  414,     50.7,  -0.7954,  34.2573,2,-999.0000,9,    351.1,2,   -999.0,9,  -999.00,9,  -999.00,9,  -999.00,9,   -999.0,9,   -999.0,9,    8.399,2,    0.439,2,   89.178,2
  09AR20141205,AU1402,   108,  1,      0,     13,2,20150114,2104,-66.4878, 145.0353,  414,     50.5,  -0.7949,  34.2572,2,-999.0000,9,    351.1,2,   -999.0,9,  -999.00,9,  -999.00,9,  -999.00,9,   -999.0,9,   -999.0,9,    8.390,2,    0.450,2,   89.096,2
  09AR20141205,AU1402,   108,  1,      0,     12,2,20150114,2104,-66.4878, 145.0353,  414,     50.3,  -0.7948,  34.2572,2,-999.0000,9,    351.1,2,   -999.0,9,  -999.00,9,  -999.00,9,  -999.00,9,   -999.0,9,   -999.0,9,    8.578,2,    0.441,2,   89.060,2
  09AR20141205,AU1402,   108,  1,      0,     11,2,20150114,2104,-66.4878, 145.0353,  414,    102.4,  -1.2370,  34.3509,2,  34.3473,2,    320.3,2,    319.7,2,  -999.00,9,  -999.00,9,  -999.00,9,   2209.6,2,   2323.5,2,    3.408,2,    0.000,2,   92.300,2
  09AR20141205,AU1402,   108,  1,      0,     10,2,20150114,2104,-66.4878, 145.0353,  414,    101.3,  -1.1565,  34.3329,2,-999.0000,9,    320.3,2,   -999.0,9,  -999.00,9,  -999.00,9,  -999.00,9,   -999.0,9,   -999.0,9,    3.921,2,    0.000,2,   91.193,2
  09AR20141205,AU1402,   108,  1,      0,      9,2,20150114,2104,-66.4878, 145.0353,  414,    101.0,  -1.1527,  34.3324,2,-999.0000,9,    320.3,2,   -999.0,9,  -999.00,9,  -999.00,9,  -999.00,9,   -999.0,9,   -999.0,9,    4.112,2,    0.000,2,   91.130,2
  09AR20141205,AU1402,   108,  1,      0,      8,2,20150114,2104,-66.4878, 145.0353,  414,    100.8,  -1.1566,  34.3333,2,-999.0000,9,    321.8,2,   -999.0,9,  -999.00,9,  -999.00,9,  -999.00,9,   -999.0,9,   -999.0,9,    4.139,2,    0.000,2,   91.245,2
  09AR20141205,AU1402,   108,  1,      0,      7,2,20150114,2104,-66.4878, 145.0353,  414,    150.6,  -1.1038,  34.4810,2,  34.4858,2,    284.4,2,    272.0,2,  -999.00,9,    30.79,2,     2.09,3,   -999.0,9,   -999.0,9,    0.086,2,    0.000,2,   98.414,2
  09AR20141205,AU1402,   108,  1,      0,      6,2,20150114,2104,-66.4878, 145.0353,  414,    150.0,  -1.0351,  34.4877,2,-999.0000,9,    284.4,2,   -999.0,9,  -999.00,9,  -999.00,9,  -999.00,9,   -999.0,9,   -999.0,9,    0.040,2,    0.000,2,   98.462,2
  09AR20141205,AU1402,   108,  1,      0,      5,2,20150114,2104,-66.4878, 145.0353,  414,    251.2,  -1.1413,  34.5393,2,  34.5389,2,    272.8,2,    272.9,2,  -999.00,9,  -999.00,9,  -999.00,9,   2247.2,2,   2335.3,2,    0.003,2,    0.000,2,   98.485,2
  09AR20141205,AU1402,   108,  1,      0,      4,2,20150114,2104,-66.4878, 145.0353,  414,    249.9,  -1.1286,  34.5394,2,-999.0000,9,    272.1,2,   -999.0,9,  -999.00,9,  -999.00,9,  -999.00,9,   -999.0,9,   -999.0,9,   -0.007,2,    0.000,2,   98.465,2
  09AR20141205,AU1402,   108,  1,      0,      3,2,20150114,2104,-66.4878, 145.0353,  414,    325.1,  -1.6120,  34.5625,2,-999.0000,9,    290.4,2,    292.0,2,  -999.00,9,    30.79,2,     2.08,3,   -999.0,9,   -999.0,9,    0.027,2,    0.000,2,   98.142,2
  09AR20141205,AU1402,   108,  1,      0,      2,2,20150114,2104,-66.4878, 145.0353,  414,    324.9,  -1.6084,  34.5610,2,-999.0000,9,    289.3,2,   -999.0,9,  -999.00,9,  -999.00,9,  -999.00,9,   -999.0,9,   -999.0,9,    0.023,2,    0.000,2,   98.167,2
  09AR20141205,AU1402,   108,  1,      0,      1,2,20150114,2104,-66.4878, 145.0353,  414,    409.3,  -1.8740,  34.5922,2,  34.5924,2,    304.0,2,    303.6,2,  -999.00,9,    30.68,2,     2.08,3,   2242.1,2,   2338.5,2,    0.060,2,    0.000,2,   97.768,2