BOTTLE,20210329PRINUNIVRMK
EXPOCODE,SECT_ID,STNNBR,CASTNO,SAMPNO,BTLNBR,BTLNBR_FLAG_W,DATE,TIME,LATITUDE,LONGITUDE,DEPTH,CTDPRS,CTDTMP,CTDSAL,CTDSAL_FLAG_W,SALNTY,SALNTY_FLAG_W,CTDOXY,CTDOXY_FLAG_W,OXYGEN,OXYGEN_FLAG_W,SILCAT,SILCAT_FLAG_W,NITRAT,NITRAT_FLAG_W,PHSPHT,PHSPHT_FLAG_W,TCARBN,TCARBN_FLAG_W,ALKALI,ALKALI_FLAG_W,CTDFLUOR,CTDFLUOR_FLAG_W,CTDPAR,CTDPAR_FLAG_W,CTDXMISS,CTDXMISS_FLAG_W
,,,,,,,,,,,METERS,DBAR,ITS-90,PSS-78,,PSS-78,,UMOL/KG,,UMOL/KG,,UMOL/KG,,UMOL/KG,,UMOL/KG,,UMOL/KG,,UMOL/KG,,MG/M^3,,UEINSTEIN/M^2*SEC,,%TRANS,
  09AR20141205,AU1402,    13,  1,      0,     24,2,20141227,1747,-66.7718, 119.9460,  266,      6.2,  -0.9551,  34.1740,2,-999.0000,9,    348.4,2,   -999.0,9,  -999.00,9,  -999.00,9,  -999.00,9,   -999.0,9,   -999.0,9,    0.113,2,   10.970,2,   97.311,2
  09AR20141205,AU1402,    13,  1,      0,     23,2,20141227,1747,-66.7718, 119.9460,  266,      6.2,  -0.9559,  34.1737,2,-999.0000,9,    348.4,2,   -999.0,9,  -999.00,9,  -999.00,9,  -999.00,9,   -999.0,9,   -999.0,9,    0.107,2,   11.030,2,   97.315,2
  09AR20141205,AU1402,    13,  1,      0,     22,2,20141227,1747,-66.7718, 119.9460,  266,      6.2,  -0.9522,  34.1739,2,-999.0000,9,    348.4,2,   -999.0,9,  -999.00,9,  -999.00,9,  -999.00,9,   -999.0,9,   -999.0,9,    0.110,2,   11.060,2,   97.311,2
  09AR20141205,AU1402,    13,  1,      0,     21,2,20141227,1747,-66.7718, 119.9460,  266,      6.1,  -0.9380,  34.1761,2,  34.1954,2,    348.4,2,    348.6,2,    59.10,2,    28.50,2,     2.00,3,   2197.0,6,   2304.4,6,    0.114,2,   11.090,2,   97.302,2
  09AR20141205,AU1402,    13,  1,      0,     20,2,20141227,1747,-66.7718, 119.9460,  266,      6.0,  -0.9565,  34.1727,2,-999.0000,9,    348.4,2,   -999.0,9,  -999.00,9,  -999.00,9,  -999.00,9,   -999.0,9,   -999.0,9,    0.124,2,   11.280,2,   97.303,2
  09AR20141205,AU1402,    13,  1,      0,     19,2,20141227,1747,-66.7718, 119.9460,  266,     30.6,  -1.5484,  34.2032,2,  34.2038,2,    346.5,2,    344.3,2,    59.40,2,    28.94,2,     2.03,3,   2202.8,2,   2313.1,2,    0.142,2,    3.202,2,   97.537,2
  09AR20141205,AU1402,    13,  1,      0,     18,2,20141227,1747,-66.7718, 119.9460,  266,     51.0,  -1.6932,  34.2126,2,-999.0000,9,    339.3,2,   -999.0,9,  -999.00,9,  -999.00,9,  -999.00,9,   -999.0,9,   -999.0,9,    0.245,2,    1.519,2,   97.723,2
  09AR20141205,AU1402,    13,  1,      0,     17,2,20141227,1747,-66.7718, 119.9460,  266,     51.0,  -1.6924,  34.2125,2,-999.0000,9,    339.3,2,   -999.0,9,  -999.00,9,  -999.00,9,  -999.00,9,   -999.0,9,   -999.0,9,    0.261,2,    1.522,2,   97.732,2
  09AR20141205,AU1402,    13,  1,      0,     16,2,20141227,1747,-66.7718, 119.9460,  266,     50.9,  -1.6921,  34.2126,2,-999.0000,9,    339.3,2,   -999.0,9,  -999.00,9,  -999.00,9,  -999.00,9,   -999.0,9,   -999.0,9,    0.266,2,    1.523,2,   97.733,2
  09AR20141205,AU1402,    13,  1,      0,     15,2,20141227,1747,-66.7718, 119.9460,  266,     76.2,  -1.7325,  34.2166,2,  34.2159,2,    336.1,2,    338.6,2,    59.90,2,    29.47,2,     2.06,3,   2205.2,2,   2312.9,2,    0.286,2,    0.520,2,   97.972,2
  09AR20141205,AU1402,    13,  1,      0,     14,2,20141227,1747,-66.7718, 119.9460,  266,     76.0,  -1.7311,  34.2166,2,-999.0000,9,    336.1,2,   -999.0,9,  -999.00,9,  -999.00,9,  -999.00,9,   -999.0,9,   -999.0,9,    0.268,2,    0.502,2,   98.056,2
  09AR20141205,AU1402,    13,  1,      0,     13,2,20141227,1747,-66.7718, 119.9460,  266,     75.9,  -1.7351,  34.2172,2,-999.0000,9,    336.1,2,   -999.0,9,  -999.00,9,  -999.00,9,  -999.00,9,   -999.0,9,   -999.0,9,    0.231,2,    0.501,2,   98.063,2
  09AR20141205,AU1402,    13,  1,      0,     12,2,20141227,1747,-66.7718, 119.9460,  266,     75.9,  -1.7372,  34.2176,2,-999.0000,9,    336.1,2,   -999.0,9,  -999.00,9,  -999.00,9,  -999.00,9,   -999.0,9,   -999.0,9,    0.243,2,    0.500,2,   98.076,2
  09AR20141205,AU1402,    13,  1,      0,     11,2,20141227,1747,-66.7718, 119.9460,  266,    101.3,  -1.7902,  34.2281,2,-999.0000,9,    332.2,2,   -999.0,9,  -999.00,9,  -999.00,9,  -999.00,9,   -999.0,9,   -999.0,9,    0.122,2,    0.143,2,   98.299,2
  09AR20141205,AU1402,    13,  1,      0,     10,2,20141227,1747,-66.7718, 119.9460,  266,    101.3,  -1.7878,  34.2278,2,-999.0000,9,    332.2,2,   -999.0,9,  -999.00,9,  -999.00,9,  -999.00,9,   -999.0,9,   -999.0,9,    0.116,2,    0.142,2,   98.289,2
  09AR20141205,AU1402,    13,  1,      0,      9,2,20141227,1747,-66.7718, 119.9460,  266,    141.3,  -1.9378,  34.2325,2,  34.2316,2,    311.1,2,    310.5,2,    65.30,2,    30.51,2,     2.11,3,   2213.1,2,   2315.5,6,   -0.065,2,    0.000,2,   98.207,2
  09AR20141205,AU1402,    13,  1,      0,      8,2,20141227,1747,-66.7718, 119.9460,  266,    141.3,  -1.9378,  34.2325,2,-999.0000,9,    311.1,2,   -999.0,9,  -999.00,9,  -999.00,9,  -999.00,9,   -999.0,9,   -999.0,9,   -0.068,2,    0.000,2,   98.202,2
  09AR20141205,AU1402,    13,  1,      0,      7,2,20141227,1747,-66.7718, 119.9460,  266,    141.3,  -1.9378,  34.2325,2,-999.0000,9,    311.1,2,   -999.0,9,  -999.00,9,  -999.00,9,  -999.00,9,   -999.0,9,   -999.0,9,   -0.072,2,    0.000,2,   98.210,2
  09AR20141205,AU1402,    13,  1,      0,      6,2,20141227,1747,-66.7718, 119.9460,  266,    141.3,  -1.9378,  34.2325,2,-999.0000,9,    311.1,2,   -999.0,9,  -999.00,9,  -999.00,9,  -999.00,9,   -999.0,9,   -999.0,9,   -0.071,2,    0.000,2,   98.206,2
  09AR20141205,AU1402,    13,  1,      0,      5,2,20141227,1747,-66.7718, 119.9460,  266,    211.3,  -1.9353,  34.2385,2,  34.2373,2,    311.0,2,    310.0,2,    65.50,2,    30.57,2,     2.10,3,   2213.7,2,   2312.5,2,   -0.075,2,    0.000,2,   98.197,2
  09AR20141205,AU1402,    13,  1,      0,      4,2,20141227,1747,-66.7718, 119.9460,  266,    211.3,  -1.9353,  34.2386,2,-999.0000,9,    311.0,2,   -999.0,9,  -999.00,9,  -999.00,9,  -999.00,9,   -999.0,9,   -999.0,9,   -0.078,2,    0.000,2,   98.205,2
  09AR20141205,AU1402,    13,  1,      0,      3,2,20141227,1747,-66.7718, 119.9460,  266,    211.3,  -1.9345,  34.2387,2,-999.0000,9,    311.0,2,   -999.0,9,  -999.00,9,  -999.00,9,  -999.00,9,   -999.0,9,   -999.0,9,   -0.075,2,    0.000,2,   98.202,2
  09AR20141205,AU1402,    13,  1,      0,      2,2,20141227,1747,-66.7718, 119.9460,  266,    211.3,  -1.9345,  34.2387,2,-999.0000,9,    311.0,2,   -999.0,9,  -999.00,9,  -999.00,9,  -999.00,9,   -999.0,9,   -999.0,9,   -0.075,2,    0.000,2,   98.196,2
  09AR20141205,AU1402,    13,  1,      0,      1,2,20141227,1747,-66.7718, 119.9460,  266,    262.2,  -1.8928,  34.2484,2,  34.2473,2,    314.9,2,    314.4,2,    64.00,2,    30.51,2,     2.12,3,   2212.3,2,   2313.6,2,   -0.049,2,    0.000,2,   98.354,2
  09AR20141205,AU1402,    14,  1,      0,     24,2,20141227,1917,-66.7577, 120.1630,  274,     10.7,  -0.7602,  34.2070,2,-999.0000,9,    350.8,2,   -999.0,9,  -999.00,9,  -999.00,9,  -999.00,9,   -999.0,9,   -999.0,9,    0.240,2,   24.740,2,   96.857,2
  09AR20141205,AU1402,    14,  1,      0,     23,2,20141227,1917,-66.7577, 120.1630,  274,     10.7,  -0.7593,  34.2068,2,-999.0000,9,    350.8,2,   -999.0,9,  -999.00,9,  -999.00,9,  -999.00,9,   -999.0,9,   -999.0,9,    0.242,2,   24.790,2,   96.851,2
  09AR20141205,AU1402,    14,  1,      0,     22,2,20141227,1917,-66.7577, 120.1630,  274,     10.7,  -0.7619,  34.2065,2,-999.0000,9,    350.8,2,   -999.0,9,  -999.00,9,  -999.00,9,  -999.00,9,   -999.0,9,   -999.0,9,    0.244,2,   24.780,2,   96.847,2
  09AR20141205,AU1402,    14,  1,      0,     21,2,20141227,1917,-66.7577, 120.1630,  274,     10.6,  -0.7589,  34.2066,2,  34.2056,2,    350.8,2,    350.7,2,  -999.00,9,  -999.00,9,  -999.00,9,   2196.7,6,   2312.9,2,    0.239,2,   24.590,2,   96.880,2
  09AR20141205,AU1402,    14,  1,      0,     20,2,20141227,1917,-66.7577, 120.1630,  274,     21.3,  -0.7602,  34.2072,2,-999.0000,9,    350.6,2,   -999.0,9,  -999.00,9,  -999.00,9,  -999.00,9,   -999.0,9,   -999.0,9,    0.284,2,   11.570,2,   96.848,2
  09AR20141205,AU1402,    14,  1,      0,     19,2,20141227,1917,-66.7577, 120.1630,  274,     21.2,  -0.7600,  34.2071,2,-999.0000,9,    350.6,2,   -999.0,9,  -999.00,9,  -999.00,9,  -999.00,9,   -999.0,9,   -999.0,9,    0.282,2,   11.610,2,   96.812,2
  09AR20141205,AU1402,    14,  1,      0,     18,2,20141227,1917,-66.7577, 120.1630,  274,     21.2,  -0.7606,  34.2072,2,-999.0000,9,    350.6,2,   -999.0,9,  -999.00,9,  -999.00,9,  -999.00,9,   -999.0,9,   -999.0,9,    0.298,2,   11.640,2,   96.840,2
  09AR20141205,AU1402,    14,  1,      0,     17,2,20141227,1917,-66.7577, 120.1630,  274,     21.2,  -0.7611,  34.2072,2,-999.0000,9,    350.6,2,   -999.0,9,  -999.00,9,  -999.00,9,  -999.00,9,   -999.0,9,   -999.0,9,    0.311,2,   11.700,2,   96.861,2
  09AR20141205,AU1402,    14,  1,      0,     16,2,20141227,1917,-66.7577, 120.1630,  274,     21.2,  -0.7613,  34.2072,2,-999.0000,9,    350.6,2,   -999.0,9,  -999.00,9,  -999.00,9,  -999.00,9,   -999.0,9,   -999.0,9,    0.300,2,   11.780,2,   96.854,2
  09AR20141205,AU1402,    14,  1,      0,     15,2,20141227,1917,-66.7577, 120.1630,  274,     40.5,  -1.0390,  34.2135,2,  34.2125,2,    346.1,2,    346.4,2,  -999.00,9,  -999.00,9,  -999.00,9,   2199.6,2,   2313.8,2,    0.368,2,    5.443,2,   96.661,2
  09AR20141205,AU1402,    14,  1,      0,     14,2,20141227,1917,-66.7577, 120.1630,  274,     40.3,  -1.0601,  34.2126,2,-999.0000,9,    346.1,2,   -999.0,9,  -999.00,9,  -999.00,9,  -999.00,9,   -999.0,9,   -999.0,9,    0.337,2,    5.605,2,   96.701,2
  09AR20141205,AU1402,    14,  1,      0,     13,2,20141227,1917,-66.7577, 120.1630,  274,     90.5,  -1.8101,  34.2239,2,  34.2229,2,    327.2,2,    319.3,2,  -999.00,9,  -999.00,9,  -999.00,9,   2209.7,2,   2313.8,6,    0.086,2,    0.671,2,   98.036,2
  09AR20141205,AU1402,    14,  1,      0,     12,2,20141227,1917,-66.7577, 120.1630,  274,     90.9,  -1.8103,  34.2245,2,-999.0000,9,    327.2,2,   -999.0,9,  -999.00,9,  -999.00,9,  -999.00,9,   -999.0,9,   -999.0,9,    0.102,2,    0.654,2,   98.037,2
  09AR20141205,AU1402,    14,  1,      0,     11,2,20141227,1917,-66.7577, 120.1630,  274,     90.9,  -1.8103,  34.2244,2,-999.0000,9,    327.2,2,   -999.0,9,  -999.00,9,  -999.00,9,  -999.00,9,   -999.0,9,   -999.0,9,    0.104,2,    0.654,2,   98.038,2
  09AR20141205,AU1402,    14,  1,      0,     10,2,20141227,1917,-66.7577, 120.1630,  274,     90.8,  -1.8102,  34.2240,2,-999.0000,9,    327.2,2,   -999.0,9,  -999.00,9,  -999.00,9,  -999.00,9,   -999.0,9,   -999.0,9,    0.119,2,    0.654,2,   98.033,2
  09AR20141205,AU1402,    14,  1,      0,      9,2,20141227,1917,-66.7577, 120.1630,  274,    140.8,  -1.8671,  34.2318,2,  34.2315,2,    316.6,2,    316.9,2,  -999.00,9,  -999.00,9,  -999.00,9,   2212.9,2,   2313.3,2,    0.055,2,    0.030,2,   98.301,2
  09AR20141205,AU1402,    14,  1,      0,      8,2,20141227,1917,-66.7577, 120.1630,  274,    140.7,  -1.8695,  34.2315,2,-999.0000,9,    316.6,2,   -999.0,9,  -999.00,9,  -999.00,9,  -999.00,9,   -999.0,9,   -999.0,9,    0.042,2,    0.030,2,   98.300,2
  09AR20141205,AU1402,    14,  1,      0,      7,2,20141227,1917,-66.7577, 120.1630,  274,    140.6,  -1.8695,  34.2316,2,-999.0000,9,    316.6,2,   -999.0,9,  -999.00,9,  -999.00,9,  -999.00,9,   -999.0,9,   -999.0,9,    0.033,2,    0.031,2,   98.295,2
  09AR20141205,AU1402,    14,  1,      0,      6,2,20141227,1917,-66.7577, 120.1630,  274,    140.6,  -1.8694,  34.2315,2,-999.0000,9,    316.6,2,   -999.0,9,  -999.00,9,  -999.00,9,  -999.00,9,   -999.0,9,   -999.0,9,    0.036,2,    0.031,2,   98.301,2
  09AR20141205,AU1402,    14,  1,      0,      5,2,20141227,1917,-66.7577, 120.1630,  274,    211.4,  -1.9353,  34.2355,2,  34.2398,2,    310.3,2,    310.5,2,  -999.00,9,  -999.00,9,  -999.00,9,   2214.2,2,   2312.8,2,   -0.079,2,    0.000,2,   98.310,2
  09AR20141205,AU1402,    14,  1,      0,      4,2,20141227,1917,-66.7577, 120.1630,  274,    211.5,  -1.9350,  34.2356,2,-999.0000,9,    310.3,2,   -999.0,9,  -999.00,9,  -999.00,9,  -999.00,9,   -999.0,9,   -999.0,9,   -0.077,2,    0.000,2,   98.319,2
  09AR20141205,AU1402,    14,  1,      0,      3,2,20141227,1917,-66.7577, 120.1630,  274,    211.3,  -1.9347,  34.2354,2,-999.0000,9,    310.3,2,   -999.0,9,  -999.00,9,  -999.00,9,  -999.00,9,   -999.0,9,   -999.0,9,   -0.076,2,    0.000,2,   98.321,2
  09AR20141205,AU1402,    14,  1,      0,      2,2,20141227,1917,-66.7577, 120.1630,  274,    210.8,  -1.9350,  34.2356,2,-999.0000,9,    310.5,2,   -999.0,9,  -999.00,9,  -999.00,9,  -999.00,9,   -999.0,9,   -999.0,9,   -0.078,2,    0.000,2,   98.307,2
  09AR20141205,AU1402,    14,  1,      0,      1,2,20141227,1917,-66.7577, 120.1630,  274,    275.1,  -1.8977,  34.2483,2,  34.2484,2,    311.9,2,    312.1,2,  -999.00,9,  -999.00,9,  -999.00,9,   2214.0,2,   2309.1,3,   -0.058,2,    0.000,2,   98.479,2
  09AR20141205,AU1402,    15,  1,      0,     24,2,20141227,2101,-66.7452, 120.3338,  233,      6.7,  -0.9807,  34.2231,2,-999.0000,9,    347.8,2,   -999.0,9,  -999.00,9,  -999.00,9,  -999.00,9,   -999.0,9,   -999.0,9,    0.363,2,   57.720,2,   95.519,2
  09AR20141205,AU1402,    15,  1,      0,     23,2,20141227,2101,-66.7452, 120.3338,  233,      6.7,  -0.9819,  34.2230,2,-999.0000,9,    347.8,2,   -999.0,9,  -999.00,9,  -999.00,9,  -999.00,9,   -999.0,9,   -999.0,9,    0.360,2,   57.670,2,   95.511,2
  09AR20141205,AU1402,    15,  1,      0,     22,2,20141227,2101,-66.7452, 120.3338,  233,      6.7,  -0.9801,  34.2229,2,-999.0000,9,    347.8,2,   -999.0,9,  -999.00,9,  -999.00,9,  -999.00,9,   -999.0,9,   -999.0,9,    0.350,2,   57.620,2,   95.497,2
  09AR20141205,AU1402,    15,  1,      0,     21,2,20141227,2101,-66.7452, 120.3338,  233,      6.7,  -0.9801,  34.2229,2,-999.0000,9,    347.8,2,   -999.0,9,  -999.00,9,  -999.00,9,  -999.00,9,   -999.0,9,   -999.0,9,    0.342,2,   57.810,2,   95.497,2
  09AR20141205,AU1402,    15,  1,      0,     20,2,20141227,2101,-66.7452, 120.3338,  233,      6.6,  -0.9767,  34.2230,2,-999.0000,9,    347.8,2,   -999.0,9,  -999.00,9,  -999.00,9,  -999.00,9,   -999.0,9,   -999.0,9,    0.346,2,   57.840,2,   95.515,2
  09AR20141205,AU1402,    15,  1,      0,     19,2,20141227,2101,-66.7452, 120.3338,  233,      6.6,  -0.9747,  34.2233,2,-999.0000,9,    347.8,2,   -999.0,9,  -999.00,9,  -999.00,9,  -999.00,9,   -999.0,9,   -999.0,9,    0.386,2,   57.870,2,   95.485,2
  09AR20141205,AU1402,    15,  1,      0,     18,2,20141227,2101,-66.7452, 120.3338,  233,      6.6,  -0.9788,  34.2232,2,-999.0000,9,    347.8,2,   -999.0,9,  -999.00,9,  -999.00,9,  -999.00,9,   -999.0,9,   -999.0,9,    0.380,2,   57.990,2,   95.478,2
  09AR20141205,AU1402,    15,  1,      0,     17,2,20141227,2101,-66.7452, 120.3338,  233,      6.5,  -0.9820,  34.2231,2,  34.2218,2,    347.8,2,    347.2,2,    59.50,2,    28.76,2,     2.00,3,   2201.3,6,   2312.9,6,    0.373,2,   58.040,2,   95.477,2
  09AR20141205,AU1402,    15,  1,      0,     16,2,20141227,2101,-66.7452, 120.3338,  233,      6.4,  -0.9823,  34.2234,2,-999.0000,9,    347.8,2,   -999.0,9,  -999.00,9,  -999.00,9,  -999.00,9,   -999.0,9,   -999.0,9,    0.396,2,   58.510,2,   95.471,2
  09AR20141205,AU1402,    15,  1,      0,     15,2,20141227,2101,-66.7452, 120.3338,  233,     25.7,  -1.0033,  34.2225,2,-999.0000,9,    346.9,2,   -999.0,9,  -999.00,9,  -999.00,9,  -999.00,9,   -999.0,9,   -999.0,9,    0.626,2,   15.920,2,   95.702,2
  09AR20141205,AU1402,    15,  1,      0,     14,2,20141227,2101,-66.7452, 120.3338,  233,     25.7,  -0.9904,  34.2231,2,-999.0000,9,    346.9,2,   -999.0,9,  -999.00,9,  -999.00,9,  -999.00,9,   -999.0,9,   -999.0,9,    0.626,2,   15.920,2,   95.614,2
  09AR20141205,AU1402,    15,  1,      0,     13,2,20141227,2101,-66.7452, 120.3338,  233,     25.6,  -1.0007,  34.2229,2,  34.2220,2,    346.9,2,    346.8,2,    59.70,2,    28.77,2,     2.00,3,   2200.1,2,   2314.5,6,    0.633,2,   15.990,2,   95.572,2
  09AR20141205,AU1402,    15,  1,      0,     12,2,20141227,2101,-66.7452, 120.3338,  233,     25.4,  -1.0187,  34.2230,2,-999.0000,9,    346.9,2,   -999.0,9,  -999.00,9,  -999.00,9,  -999.00,9,   -999.0,9,   -999.0,9,    0.619,2,   16.300,2,   95.644,2
  09AR20141205,AU1402,    15,  1,      0,     11,2,20141227,2101,-66.7452, 120.3338,  233,     35.2,  -1.0781,  34.2205,2,-999.0000,9,    347.0,2,   -999.0,9,  -999.00,9,  -999.00,9,  -999.00,9,   -999.0,9,   -999.0,9,    0.553,2,   10.900,2,   96.049,2
  09AR20141205,AU1402,    15,  1,      0,     10,2,20141227,2101,-66.7452, 120.3338,  233,     35.2,  -1.0802,  34.2204,2,-999.0000,9,    347.0,2,   -999.0,9,  -999.00,9,  -999.00,9,  -999.00,9,   -999.0,9,   -999.0,9,    0.557,2,   10.960,2,   96.017,2
  09AR20141205,AU1402,    15,  1,      0,      9,2,20141227,2101,-66.7452, 120.3338,  233,     50.8,  -1.1926,  34.2181,2,  34.2179,2,    346.4,2,    343.3,2,    60.70,2,    28.82,2,     2.02,3,   2202.7,2,   2311.8,2,    0.551,2,    5.779,2,   96.411,2
  09AR20141205,AU1402,    15,  1,      0,      8,2,20141227,2101,-66.7452, 120.3338,  233,     50.5,  -1.1745,  34.2188,2,-999.0000,9,    346.4,2,   -999.0,9,  -999.00,9,  -999.00,9,  -999.00,9,   -999.0,9,   -999.0,9,    0.465,2,    5.914,2,   96.484,2
  09AR20141205,AU1402,    15,  1,      0,      7,2,20141227,2101,-66.7452, 120.3338,  233,     75.1,  -1.6686,  34.2208,2,  34.2230,2,    332.6,2,    328.1,2,  -999.00,9,  -999.00,9,  -999.00,9,   2207.9,2,   2315.5,2,    0.346,2,    2.036,2,   97.808,2
  09AR20141205,AU1402,    15,  1,      0,      6,2,20141227,2101,-66.7452, 120.3338,  233,     74.9,  -1.6689,  34.2211,2,-999.0000,9,    334.3,2,   -999.0,9,  -999.00,9,  -999.00,9,  -999.00,9,   -999.0,9,   -999.0,9,    0.271,2,    2.049,2,   97.802,2
  09AR20141205,AU1402,    15,  1,      0,      5,2,20141227,2101,-66.7452, 120.3338,  233,    120.7,  -1.8562,  34.2291,2,  34.2291,2,    316.5,2,    316.0,2,    64.50,2,    30.44,2,     2.11,3,   2212.2,2,   2313.8,2,    0.086,2,    0.294,2,   98.259,2
  09AR20141205,AU1402,    15,  1,      0,      4,2,20141227,2101,-66.7452, 120.3338,  233,    120.4,  -1.8776,  34.2300,2,-999.0000,9,    316.5,2,   -999.0,9,  -999.00,9,  -999.00,9,  -999.00,9,   -999.0,9,   -999.0,9,    0.013,2,    0.293,2,   98.305,2
  09AR20141205,AU1402,    15,  1,      0,      3,2,20141227,2101,-66.7452, 120.3338,  233,    165.3,  -1.9336,  34.2358,2,  34.2358,2,    312.2,2,    311.1,2,    65.10,2,    30.68,2,     2.12,3,   2213.3,2,   2314.6,2,   -0.061,2,    0.000,2,   98.360,2
  09AR20141205,AU1402,    15,  1,      0,      2,2,20141227,2101,-66.7452, 120.3338,  233,    165.2,  -1.9337,  34.2358,2,-999.0000,9,    312.2,2,   -999.0,9,  -999.00,9,  -999.00,9,  -999.00,9,   -999.0,9,   -999.0,9,   -0.070,2,    0.000,2,   98.368,2
  09AR20141205,AU1402,    15,  1,      0,      1,2,20141227,2101,-66.7452, 120.3338,  233,    225.9,  -1.9056,  34.2441,2,  34.2424,2,    313.7,2,    312.4,2,    64.50,2,    30.52,2,     2.12,3,   2214.9,2,   2311.0,3,   -0.064,2,    0.000,2,   98.513,2