BOTTLE,20210329PRINUNIVRMK
EXPOCODE,SECT_ID,STNNBR,CASTNO,SAMPNO,BTLNBR,BTLNBR_FLAG_W,DATE,TIME,LATITUDE,LONGITUDE,DEPTH,CTDPRS,CTDTMP,CTDSAL,CTDSAL_FLAG_W,SALNTY,SALNTY_FLAG_W,CTDOXY,CTDOXY_FLAG_W,OXYGEN,OXYGEN_FLAG_W,SILCAT,SILCAT_FLAG_W,NITRAT,NITRAT_FLAG_W,PHSPHT,PHSPHT_FLAG_W,TCARBN,TCARBN_FLAG_W,ALKALI,ALKALI_FLAG_W,CTDFLUOR,CTDFLUOR_FLAG_W,CTDPAR,CTDPAR_FLAG_W,CTDXMISS,CTDXMISS_FLAG_W
,,,,,,,,,,,METERS,DBAR,ITS-90,PSS-78,,PSS-78,,UMOL/KG,,UMOL/KG,,UMOL/KG,,UMOL/KG,,UMOL/KG,,UMOL/KG,,UMOL/KG,,MG/M^3,,UEINSTEIN/M^2*SEC,,%TRANS,
  09AR20141205,AU1402,    28,  1,      0,     24,2,20141229,0531,-66.5362, 120.3002,  466,     11.2,  -0.9586,  34.2038,2,-999.0000,9,    350.6,2,   -999.0,9,  -999.00,9,  -999.00,9,  -999.00,9,   -999.0,9,   -999.0,9,    0.170,2,   98.240,2,   95.384,2
  09AR20141205,AU1402,    28,  1,      0,     23,2,20141229,0531,-66.5362, 120.3002,  466,     11.2,  -0.9559,  34.2037,2,-999.0000,9,    350.6,2,   -999.0,9,  -999.00,9,  -999.00,9,  -999.00,9,   -999.0,9,   -999.0,9,    0.185,2,   98.480,2,   95.362,2
  09AR20141205,AU1402,    28,  1,      0,     22,2,20141229,0531,-66.5362, 120.3002,  466,     11.2,  -0.9557,  34.2038,2,-999.0000,9,    350.6,2,   -999.0,9,  -999.00,9,  -999.00,9,  -999.00,9,   -999.0,9,   -999.0,9,    0.201,2,   98.610,2,   95.363,2
  09AR20141205,AU1402,    28,  1,      0,     21,2,20141229,0531,-66.5362, 120.3002,  466,     11.1,  -0.9574,  34.2037,2,  34.2023,2,    350.6,2,    350.7,2,  -999.00,9,  -999.00,9,  -999.00,9,   2198.4,6,   2312.9,6,    0.199,2,  100.800,2,   95.380,2
  09AR20141205,AU1402,    28,  1,      0,     20,2,20141229,0531,-66.5362, 120.3002,  466,     11.1,  -0.9566,  34.2038,2,-999.0000,9,    350.6,2,   -999.0,9,  -999.00,9,  -999.00,9,  -999.00,9,   -999.0,9,   -999.0,9,    0.191,2,  102.100,2,   95.375,2
  09AR20141205,AU1402,    28,  1,      0,     19,2,20141229,0531,-66.5362, 120.3002,  466,     11.1,  -0.9568,  34.2038,2,-999.0000,9,    350.6,2,   -999.0,9,  -999.00,9,  -999.00,9,  -999.00,9,   -999.0,9,   -999.0,9,    0.190,2,  102.000,2,   95.351,2
  09AR20141205,AU1402,    28,  1,      0,     18,2,20141229,0531,-66.5362, 120.3002,  466,     25.6,  -0.9960,  34.2060,2,-999.0000,9,    350.4,2,   -999.0,9,  -999.00,9,  -999.00,9,  -999.00,9,   -999.0,9,   -999.0,9,    0.415,2,   41.340,2,   95.351,2
  09AR20141205,AU1402,    28,  1,      0,     17,2,20141229,0531,-66.5362, 120.3002,  466,     25.5,  -1.0095,  34.2072,2,  34.2078,2,    350.4,2,    350.2,2,  -999.00,9,  -999.00,9,  -999.00,9,   2199.2,2,   2314.3,2,    0.423,2,   40.460,2,   95.326,2
  09AR20141205,AU1402,    28,  1,      0,     16,2,20141229,0531,-66.5362, 120.3002,  466,     50.9,  -1.4465,  34.2313,2,-999.0000,9,    345.8,2,   -999.0,9,  -999.00,9,  -999.00,9,  -999.00,9,   -999.0,9,   -999.0,9,    0.850,2,    9.865,2,   95.984,2
  09AR20141205,AU1402,    28,  1,      0,     15,2,20141229,0531,-66.5362, 120.3002,  466,     50.9,  -1.4590,  34.2315,2,-999.0000,9,    345.8,2,   -999.0,9,  -999.00,9,  -999.00,9,  -999.00,9,   -999.0,9,   -999.0,9,    0.890,2,    9.809,2,   96.023,2
  09AR20141205,AU1402,    28,  1,      0,     14,2,20141229,0531,-66.5362, 120.3002,  466,     50.9,  -1.4596,  34.2315,2,-999.0000,9,    345.8,2,   -999.0,9,  -999.00,9,  -999.00,9,  -999.00,9,   -999.0,9,   -999.0,9,    0.877,2,    9.803,2,   96.010,2
  09AR20141205,AU1402,    28,  1,      0,     13,2,20141229,0531,-66.5362, 120.3002,  466,     50.9,  -1.4524,  34.2316,2,  34.2301,2,    345.8,2,    340.7,2,  -999.00,9,  -999.00,9,  -999.00,9,   2207.0,2,   2314.7,2,    0.879,2,    9.774,2,   96.047,2
  09AR20141205,AU1402,    28,  1,      0,     12,2,20141229,0531,-66.5362, 120.3002,  466,    151.0,  -1.7351,  34.2362,2,-999.0000,9,    325.8,2,   -999.0,9,  -999.00,9,  -999.00,9,  -999.00,9,   -999.0,9,   -999.0,9,    0.239,2,    0.072,2,   97.990,2
  09AR20141205,AU1402,    28,  1,      0,     11,2,20141229,0531,-66.5362, 120.3002,  466,    151.0,  -1.7350,  34.2364,2,-999.0000,9,    325.8,2,   -999.0,9,  -999.00,9,  -999.00,9,  -999.00,9,   -999.0,9,   -999.0,9,    0.249,2,    0.071,2,   97.990,2
  09AR20141205,AU1402,    28,  1,      0,     10,2,20141229,0531,-66.5362, 120.3002,  466,    151.0,  -1.7348,  34.2363,2,-999.0000,9,    325.8,2,   -999.0,9,  -999.00,9,  -999.00,9,  -999.00,9,   -999.0,9,   -999.0,9,    0.240,2,    0.070,2,   97.989,2
  09AR20141205,AU1402,    28,  1,      0,      9,2,20141229,0531,-66.5362, 120.3002,  466,    151.0,  -1.7365,  34.2365,2,  34.2342,2,    325.8,2,    325.7,2,  -999.00,9,  -999.00,9,  -999.00,9,   2211.2,2,   2315.8,2,    0.237,2,    0.072,2,   97.986,2
  09AR20141205,AU1402,    28,  1,      0,      8,2,20141229,0531,-66.5362, 120.3002,  466,    277.2,  -1.8551,  34.2535,2,-999.0000,9,    317.0,2,   -999.0,9,  -999.00,9,  -999.00,9,  -999.00,9,   -999.0,9,   -999.0,9,   -0.033,2,    0.001,2,   98.351,2
  09AR20141205,AU1402,    28,  1,      0,      7,2,20141229,0531,-66.5362, 120.3002,  466,    277.2,  -1.8550,  34.2535,2,-999.0000,9,    317.0,2,   -999.0,9,  -999.00,9,  -999.00,9,  -999.00,9,   -999.0,9,   -999.0,9,   -0.034,2,    0.001,2,   98.349,2
  09AR20141205,AU1402,    28,  1,      0,      6,2,20141229,0531,-66.5362, 120.3002,  466,    277.1,  -1.8549,  34.2542,2,-999.0000,9,    317.0,2,   -999.0,9,  -999.00,9,  -999.00,9,  -999.00,9,   -999.0,9,   -999.0,9,   -0.043,2,    0.001,2,   98.334,2
  09AR20141205,AU1402,    28,  1,      0,      5,2,20141229,0531,-66.5362, 120.3002,  466,    277.0,  -1.8553,  34.2533,2,  34.2534,2,    317.0,2,    317.1,2,  -999.00,9,  -999.00,9,  -999.00,9,   2213.1,2,   2315.7,2,   -0.039,2,    0.001,2,   98.348,2
  09AR20141205,AU1402,    28,  1,      0,      4,2,20141229,0531,-66.5362, 120.3002,  466,    421.8,  -1.2532,  34.3998,2,-999.0000,9,    290.8,2,   -999.0,9,  -999.00,9,  -999.00,9,  -999.00,9,   -999.0,9,   -999.0,9,   -0.086,2,    0.001,2,   98.429,2
  09AR20141205,AU1402,    28,  1,      0,      3,2,20141229,0531,-66.5362, 120.3002,  466,    421.9,  -1.2497,  34.4002,2,  34.3991,2,    290.8,2,    291.3,2,  -999.00,9,  -999.00,9,  -999.00,9,   2227.8,2,   2327.3,6,   -0.086,2,    0.001,2,   98.431,2
  09AR20141205,AU1402,    28,  1,      0,      2,2,20141229,0531,-66.5362, 120.3002,  466,    472.0,  -0.9075,  34.4496,2,-999.0000,9,    276.1,2,   -999.0,9,  -999.00,9,  -999.00,9,  -999.00,9,   -999.0,9,   -999.0,9,   -0.084,2,    0.001,2,   98.239,2
  09AR20141205,AU1402,    28,  1,      0,      1,2,20141229,0531,-66.5362, 120.3002,  466,    471.9,  -0.9160,  34.4483,2,  34.4479,2,    276.1,2,    275.9,2,  -999.00,9,  -999.00,9,  -999.00,9,   2235.8,2,   2329.9,2,   -0.078,2,    0.001,2,   98.228,2
  09AR20141205,AU1402,    29,  1,      0,     24,2,20141229,0710,-66.4792, 120.3167,  601,     11.1,  -0.9651,  34.1953,2,-999.0000,9,    349.3,2,   -999.0,9,  -999.00,9,  -999.00,9,  -999.00,9,   -999.0,9,   -999.0,9,    0.308,2,   65.910,2,   95.435,2
  09AR20141205,AU1402,    29,  1,      0,     23,2,20141229,0710,-66.4792, 120.3167,  601,     11.1,  -0.9652,  34.1953,2,-999.0000,9,    349.3,2,   -999.0,9,  -999.00,9,  -999.00,9,  -999.00,9,   -999.0,9,   -999.0,9,    0.307,2,   66.080,2,   95.444,2
  09AR20141205,AU1402,    29,  1,      0,     22,2,20141229,0710,-66.4792, 120.3167,  601,     11.1,  -0.9659,  34.1954,2,-999.0000,9,    349.3,2,   -999.0,9,  -999.00,9,  -999.00,9,  -999.00,9,   -999.0,9,   -999.0,9,    0.308,2,   66.300,2,   95.420,2
  09AR20141205,AU1402,    29,  1,      0,     21,2,20141229,0710,-66.4792, 120.3167,  601,     11.1,  -0.9689,  34.1960,2,  34.1972,2,    349.3,2,    350.1,2,  -999.00,9,  -999.00,9,  -999.00,9,   2200.4,2,   2311.2,2,    0.308,2,   66.580,2,   95.470,2
  09AR20141205,AU1402,    29,  1,      0,     20,2,20141229,0710,-66.4792, 120.3167,  601,     30.8,  -1.0270,  34.2067,2,-999.0000,9,    349.4,2,   -999.0,9,  -999.00,9,  -999.00,9,  -999.00,9,   -999.0,9,   -999.0,9,    0.545,2,   21.010,2,   95.367,2
  09AR20141205,AU1402,    29,  1,      0,     19,2,20141229,0710,-66.4792, 120.3167,  601,     30.8,  -1.0270,  34.2066,2,  34.2095,2,    349.4,2,    349.4,2,  -999.00,9,  -999.00,9,  -999.00,9,   2200.4,2,   2315.1,2,    0.554,2,   20.950,2,   95.347,2
  09AR20141205,AU1402,    29,  1,      0,     18,2,20141229,0710,-66.4792, 120.3167,  601,     45.2,  -1.3644,  34.2229,2,-999.0000,9,    346.0,2,   -999.0,9,  -999.00,9,  -999.00,9,  -999.00,9,   -999.0,9,   -999.0,9,    0.809,2,    9.604,2,   95.915,2
  09AR20141205,AU1402,    29,  1,      0,     17,2,20141229,0710,-66.4792, 120.3167,  601,     45.2,  -1.3731,  34.2231,2,-999.0000,9,    346.0,2,   -999.0,9,  -999.00,9,  -999.00,9,  -999.00,9,   -999.0,9,   -999.0,9,    0.729,2,    9.510,2,   95.983,2
  09AR20141205,AU1402,    29,  1,      0,     16,2,20141229,0710,-66.4792, 120.3167,  601,     61.1,  -1.5747,  34.2311,2,-999.0000,9,    335.3,2,   -999.0,9,  -999.00,9,  -999.00,9,  -999.00,9,   -999.0,9,   -999.0,9,    0.658,2,    4.083,2,   97.106,2
  09AR20141205,AU1402,    29,  1,      0,     15,2,20141229,0710,-66.4792, 120.3167,  601,     61.0,  -1.5771,  34.2310,2,-999.0000,9,    335.3,2,   -999.0,9,  -999.00,9,  -999.00,9,  -999.00,9,   -999.0,9,   -999.0,9,    0.689,2,    3.995,2,   97.029,2
  09AR20141205,AU1402,    29,  1,      0,     14,2,20141229,0710,-66.4792, 120.3167,  601,     61.0,  -1.5728,  34.2314,2,-999.0000,9,    335.3,2,   -999.0,9,  -999.00,9,  -999.00,9,  -999.00,9,   -999.0,9,   -999.0,9,    0.685,2,    3.968,2,   97.018,2
  09AR20141205,AU1402,    29,  1,      0,     13,2,20141229,0710,-66.4792, 120.3167,  601,     61.0,  -1.5676,  34.2313,2,  34.2315,2,    336.2,2,    334.8,2,  -999.00,9,  -999.00,9,  -999.00,9,   2208.4,2,   2313.1,2,    0.703,2,    3.897,2,   97.049,2
  09AR20141205,AU1402,    29,  1,      0,     12,2,20141229,0710,-66.4792, 120.3167,  601,     91.0,  -1.6893,  34.2346,2,-999.0000,9,    330.5,2,   -999.0,9,  -999.00,9,  -999.00,9,  -999.00,9,   -999.0,9,   -999.0,9,    0.462,2,    1.087,2,   97.726,2
  09AR20141205,AU1402,    29,  1,      0,     11,2,20141229,0710,-66.4792, 120.3167,  601,     90.9,  -1.6870,  34.2343,2,-999.0000,9,    330.8,2,   -999.0,9,  -999.00,9,  -999.00,9,  -999.00,9,   -999.0,9,   -999.0,9,    0.500,2,    1.102,2,   97.692,2
  09AR20141205,AU1402,    29,  1,      0,     10,2,20141229,0710,-66.4792, 120.3167,  601,    200.8,  -1.8886,  34.2452,2,-999.0000,9,    312.5,2,   -999.0,9,  -999.00,9,  -999.00,9,  -999.00,9,   -999.0,9,   -999.0,9,   -0.073,2,    0.001,2,   98.361,2
  09AR20141205,AU1402,    29,  1,      0,      9,2,20141229,0710,-66.4792, 120.3167,  601,    200.8,  -1.8888,  34.2452,2,  34.2440,2,    312.5,2,    313.0,2,  -999.00,9,  -999.00,9,  -999.00,9,   2214.4,2,   2313.6,2,   -0.076,2,    0.001,2,   98.362,2
  09AR20141205,AU1402,    29,  1,      0,      8,2,20141229,0710,-66.4792, 120.3167,  601,    200.8,  -1.8886,  34.2453,2,-999.0000,9,    312.5,2,   -999.0,9,  -999.00,9,  -999.00,9,  -999.00,9,   -999.0,9,   -999.0,9,   -0.080,2,    0.001,2,   98.361,2
  09AR20141205,AU1402,    29,  1,      0,      7,2,20141229,0710,-66.4792, 120.3167,  601,    200.8,  -1.8886,  34.2453,2,-999.0000,9,    312.5,2,   -999.0,9,  -999.00,9,  -999.00,9,  -999.00,9,   -999.0,9,   -999.0,9,   -0.073,2,    0.001,2,   98.364,2
  09AR20141205,AU1402,    29,  1,      0,      6,2,20141229,0710,-66.4792, 120.3167,  601,    351.4,  -1.7583,  34.3076,2,-999.0000,9,    315.1,2,   -999.0,9,  -999.00,9,  -999.00,9,  -999.00,9,   -999.0,9,   -999.0,9,   -0.068,2,    0.001,2,   98.534,2
  09AR20141205,AU1402,    29,  1,      0,      5,2,20141229,0710,-66.4792, 120.3167,  601,    351.3,  -1.7601,  34.3075,2,  34.3080,2,    315.1,2,    314.8,2,  -999.00,9,  -999.00,9,  -999.00,9,   2217.4,2,   2320.4,6,   -0.073,2,    0.001,2,   98.533,2
  09AR20141205,AU1402,    29,  1,      0,      4,2,20141229,0710,-66.4792, 120.3167,  601,    562.2,  -0.4069,  34.5218,2,-999.0000,9,    255.6,2,   -999.0,9,  -999.00,9,  -999.00,9,  -999.00,9,   -999.0,9,   -999.0,9,   -0.089,2,    0.001,2,   98.318,2
  09AR20141205,AU1402,    29,  1,      0,      3,2,20141229,0710,-66.4792, 120.3167,  601,    562.1,  -0.4039,  34.5221,2,  34.5213,2,    255.6,2,    255.0,2,  -999.00,9,  -999.00,9,  -999.00,9,   2241.8,6,   2335.1,6,   -0.087,2,    0.001,2,   98.280,2
  09AR20141205,AU1402,    29,  1,      0,      2,2,20141229,0710,-66.4792, 120.3167,  601,    601.1,  -0.2023,  34.5504,2,-999.0000,9,    246.8,2,   -999.0,9,  -999.00,9,  -999.00,9,  -999.00,9,   -999.0,9,   -999.0,9,   -0.081,2,    0.001,2,   97.957,2
  09AR20141205,AU1402,    29,  1,      0,      1,2,20141229,0710,-66.4792, 120.3167,  601,    601.0,  -0.2088,  34.5494,2,  34.5477,2,    247.1,2,    247.0,2,  -999.00,9,  -999.00,9,  -999.00,9,   2244.9,2,   2336.4,2,   -0.077,2,    0.001,2,   97.963,2
  09AR20141205,AU1402,    30,  1,      0,     24,2,20141229,0915,-66.4003, 120.3138,  465,     10.7,  -0.9708,  34.1951,2,-999.0000,9,    350.5,2,   -999.0,9,  -999.00,9,  -999.00,9,  -999.00,9,   -999.0,9,   -999.0,9, -999.000,9,   38.900,2,   95.760,2
  09AR20141205,AU1402,    30,  1,      0,     23,2,20141229,0915,-66.4003, 120.3138,  465,     10.7,  -0.9667,  34.1952,2,-999.0000,9,    350.5,2,   -999.0,9,  -999.00,9,  -999.00,9,  -999.00,9,   -999.0,9,   -999.0,9, -999.000,9,   39.030,2,   95.751,2
  09AR20141205,AU1402,    30,  1,      0,     22,2,20141229,0915,-66.4003, 120.3138,  465,     10.7,  -0.9657,  34.1952,2,-999.0000,9,    350.5,2,   -999.0,9,  -999.00,9,  -999.00,9,  -999.00,9,   -999.0,9,   -999.0,9, -999.000,9,   39.000,2,   95.750,2
  09AR20141205,AU1402,    30,  1,      0,     21,2,20141229,0915,-66.4003, 120.3138,  465,     10.6,  -0.9662,  34.1951,2,  34.2892,4,    350.5,2,    350.6,2,  -999.00,9,  -999.00,9,  -999.00,9,   2197.0,2,   2312.8,2, -999.000,9,   38.740,2,   95.735,2
  09AR20141205,AU1402,    30,  1,      0,     20,2,20141229,0915,-66.4003, 120.3138,  465,     10.6,  -0.9639,  34.1951,2,-999.0000,9,    350.5,2,   -999.0,9,  -999.00,9,  -999.00,9,  -999.00,9,   -999.0,9,   -999.0,9, -999.000,9,   38.970,2,   95.727,2
  09AR20141205,AU1402,    30,  1,      0,     19,2,20141229,0915,-66.4003, 120.3138,  465,     10.6,  -0.9617,  34.1952,2,-999.0000,9,    350.5,2,   -999.0,9,  -999.00,9,  -999.00,9,  -999.00,9,   -999.0,9,   -999.0,9, -999.000,9,   39.080,2,   95.740,2
  09AR20141205,AU1402,    30,  1,      0,     18,2,20141229,0915,-66.4003, 120.3138,  465,     50.8,  -1.3253,  34.2098,2,-999.0000,9,    348.3,2,   -999.0,9,  -999.00,9,  -999.00,9,  -999.00,9,   -999.0,9,   -999.0,9, -999.000,9,    5.008,2,   96.212,2
  09AR20141205,AU1402,    30,  1,      0,     17,2,20141229,0915,-66.4003, 120.3138,  465,     50.8,  -1.3257,  34.2096,2,  34.2101,2,    348.3,2,    347.8,2,  -999.00,9,  -999.00,9,  -999.00,9,   2201.6,2,   2314.6,2, -999.000,9,    5.012,2,   96.201,2
  09AR20141205,AU1402,    30,  1,      0,     16,2,20141229,0915,-66.4003, 120.3138,  465,    100.3,  -1.6829,  34.2337,2,-999.0000,9,    340.7,2,   -999.0,9,  -999.00,9,  -999.00,9,  -999.00,9,   -999.0,9,   -999.0,9, -999.000,9,    0.514,2,   97.954,2
  09AR20141205,AU1402,    30,  1,      0,     15,2,20141229,0915,-66.4003, 120.3138,  465,    100.3,  -1.6820,  34.2338,2,-999.0000,9,    340.7,2,   -999.0,9,  -999.00,9,  -999.00,9,  -999.00,9,   -999.0,9,   -999.0,9, -999.000,9,    0.517,2,   97.970,2
  09AR20141205,AU1402,    30,  1,      0,     14,2,20141229,0915,-66.4003, 120.3138,  465,    100.2,  -1.6818,  34.2338,2,-999.0000,9,    340.7,2,   -999.0,9,  -999.00,9,  -999.00,9,  -999.00,9,   -999.0,9,   -999.0,9, -999.000,9,    0.519,2,   97.970,2
  09AR20141205,AU1402,    30,  1,      0,     13,2,20141229,0915,-66.4003, 120.3138,  465,    100.2,  -1.6804,  34.2337,2,  34.2344,2,    340.7,2,    337.0,2,  -999.00,9,  -999.00,9,  -999.00,9,   2209.8,2,   2315.4,2, -999.000,9,    0.530,2,   97.971,2
  09AR20141205,AU1402,    30,  1,      0,     12,2,20141229,0915,-66.4003, 120.3138,  465,    151.1,  -1.8269,  34.2464,2,-999.0000,9,    327.4,2,   -999.0,9,  -999.00,9,  -999.00,9,  -999.00,9,   -999.0,9,   -999.0,9, -999.000,9,    0.032,2,   98.332,2
  09AR20141205,AU1402,    30,  1,      0,     11,2,20141229,0915,-66.4003, 120.3138,  465,    151.1,  -1.8269,  34.2463,2,-999.0000,9,    327.4,2,   -999.0,9,  -999.00,9,  -999.00,9,  -999.00,9,   -999.0,9,   -999.0,9, -999.000,9,    0.031,2,   98.329,2
  09AR20141205,AU1402,    30,  1,      0,     10,2,20141229,0915,-66.4003, 120.3138,  465,    151.1,  -1.8269,  34.2463,2,-999.0000,9,    327.4,2,   -999.0,9,  -999.00,9,  -999.00,9,  -999.00,9,   -999.0,9,   -999.0,9, -999.000,9,    0.032,2,   98.337,2
  09AR20141205,AU1402,    30,  1,      0,      9,2,20141229,0915,-66.4003, 120.3138,  465,    151.0,  -1.8274,  34.2465,2,  34.2477,2,    327.4,2,    326.9,2,  -999.00,9,  -999.00,9,  -999.00,9,   2214.1,6,   2315.7,6, -999.000,9,    0.032,2,   98.333,2
  09AR20141205,AU1402,    30,  1,      0,      8,2,20141229,0915,-66.4003, 120.3138,  465,    276.4,  -1.8530,  34.2898,2,-999.0000,9,    321.3,2,   -999.0,9,  -999.00,9,  -999.00,9,  -999.00,9,   -999.0,9,   -999.0,9, -999.000,9,    0.001,2,   98.646,2
  09AR20141205,AU1402,    30,  1,      0,      7,2,20141229,0915,-66.4003, 120.3138,  465,    276.4,  -1.8530,  34.2898,2,-999.0000,9,    321.3,2,   -999.0,9,  -999.00,9,  -999.00,9,  -999.00,9,   -999.0,9,   -999.0,9, -999.000,9,    0.001,2,   98.652,2
  09AR20141205,AU1402,    30,  1,      0,      6,2,20141229,0915,-66.4003, 120.3138,  465,    276.4,  -1.8530,  34.2898,2,-999.0000,9,    321.3,2,   -999.0,9,  -999.00,9,  -999.00,9,  -999.00,9,   -999.0,9,   -999.0,9, -999.000,9,    0.001,2,   98.650,2
  09AR20141205,AU1402,    30,  1,      0,      5,2,20141229,0915,-66.4003, 120.3138,  465,    276.3,  -1.8529,  34.2897,2,  34.2900,2,    321.3,2,    321.9,2,  -999.00,9,  -999.00,9,  -999.00,9,   2215.2,2,   2315.9,2, -999.000,9,    0.001,2,   98.645,2
  09AR20141205,AU1402,    30,  1,      0,      4,2,20141229,0915,-66.4003, 120.3138,  465,    426.6,  -1.7822,  34.3300,2,-999.0000,9,    315.7,2,   -999.0,9,  -999.00,9,  -999.00,9,  -999.00,9,   -999.0,9,   -999.0,9, -999.000,9,    0.001,2,   98.725,2
  09AR20141205,AU1402,    30,  1,      0,      3,2,20141229,0915,-66.4003, 120.3138,  465,    426.5,  -1.7825,  34.3299,2,  34.3298,2,    315.7,2,    315.7,2,  -999.00,9,  -999.00,9,  -999.00,9,   2218.0,2,   2319.1,6, -999.000,9,    0.001,2,   98.718,2
  09AR20141205,AU1402,    30,  1,      0,      2,2,20141229,0915,-66.4003, 120.3138,  465,    461.5,  -1.4134,  34.3819,2,-999.0000,9,    297.7,2,   -999.0,9,  -999.00,9,  -999.00,9,  -999.00,9,   -999.0,9,   -999.0,9, -999.000,9,    0.001,2,   98.677,2
  09AR20141205,AU1402,    30,  1,      0,      1,2,20141229,0915,-66.4003, 120.3138,  465,    461.4,  -1.4126,  34.3821,2,  34.3809,2,    297.7,2,    298.3,2,  -999.00,9,  -999.00,9,  -999.00,9,   2225.3,2,   2323.0,2, -999.000,9,    0.001,2,   98.674,2