BOTTLE,20210329PRINUNIVRMK
EXPOCODE,SECT_ID,STNNBR,CASTNO,SAMPNO,BTLNBR,BTLNBR_FLAG_W,DATE,TIME,LATITUDE,LONGITUDE,DEPTH,CTDPRS,CTDTMP,CTDSAL,CTDSAL_FLAG_W,SALNTY,SALNTY_FLAG_W,CTDOXY,CTDOXY_FLAG_W,OXYGEN,OXYGEN_FLAG_W,SILCAT,SILCAT_FLAG_W,NITRAT,NITRAT_FLAG_W,PHSPHT,PHSPHT_FLAG_W,TCARBN,TCARBN_FLAG_W,ALKALI,ALKALI_FLAG_W,CTDFLUOR,CTDFLUOR_FLAG_W,CTDPAR,CTDPAR_FLAG_W,CTDXMISS,CTDXMISS_FLAG_W
,,,,,,,,,,,METERS,DBAR,ITS-90,PSS-78,,PSS-78,,UMOL/KG,,UMOL/KG,,UMOL/KG,,UMOL/KG,,UMOL/KG,,UMOL/KG,,UMOL/KG,,MG/M^3,,UEINSTEIN/M^2*SEC,,%TRANS,
  09AR20141205,AU1402,   133,  1,      0,     24,2,20150118,0821,-66.1837, 142.6953,  385,      7.9,  -1.2107,  34.1580,2,-999.0000,9,    349.4,2,   -999.0,9,  -999.00,9,  -999.00,9,  -999.00,9,   -999.0,9,   -999.0,9,    2.414,2,   24.490,2,   90.570,2
  09AR20141205,AU1402,   133,  1,      0,     23,2,20150118,0821,-66.1837, 142.6953,  385,      7.9,  -1.2306,  34.1600,2,-999.0000,9,    349.4,2,   -999.0,9,  -999.00,9,  -999.00,9,  -999.00,9,   -999.0,9,   -999.0,9,    2.680,2,   24.420,2,   90.639,2
  09AR20141205,AU1402,   133,  1,      0,     22,2,20150118,0821,-66.1837, 142.6953,  385,      7.9,  -1.2416,  34.1612,2,-999.0000,9,    349.4,2,   -999.0,9,  -999.00,9,  -999.00,9,  -999.00,9,   -999.0,9,   -999.0,9,    2.979,2,   24.450,2,   90.711,2
  09AR20141205,AU1402,   133,  1,      0,     21,2,20150118,0821,-66.1837, 142.6953,  385,      7.8,  -1.2870,  34.1673,2,  34.1665,2,    349.4,2,    349.4,2,    62.50,2,    24.53,2,     1.73,3,   2176.3,2,   2318.1,2,    3.329,2,   24.570,2,   90.557,2
  09AR20141205,AU1402,   133,  1,      0,     20,2,20150118,0821,-66.1837, 142.6953,  385,      7.8,  -1.2705,  34.1631,2,-999.0000,9,    349.4,2,   -999.0,9,  -999.00,9,  -999.00,9,  -999.00,9,   -999.0,9,   -999.0,9,    3.459,2,   24.380,2,   90.481,2
  09AR20141205,AU1402,   133,  1,      0,     19,2,20150118,0821,-66.1837, 142.6953,  385,     20.8,  -1.4329,  34.1895,2,-999.0000,9,    345.0,2,   -999.0,9,  -999.00,9,  -999.00,9,  -999.00,9,   -999.0,9,   -999.0,9,    5.225,2,    4.497,2,   90.653,2
  09AR20141205,AU1402,   133,  1,      0,     18,2,20150118,0821,-66.1837, 142.6953,  385,     20.7,  -1.4332,  34.1898,2,  34.1929,2,    345.0,2,    344.8,2,    63.40,2,    24.94,2,     1.77,3,   2181.6,2,   2317.3,2,    5.252,2,    4.515,2,   90.950,2
  09AR20141205,AU1402,   133,  1,      0,     17,2,20150118,0821,-66.1837, 142.6953,  385,     20.7,  -1.4345,  34.1903,2,-999.0000,9,    345.0,2,   -999.0,9,  -999.00,9,  -999.00,9,  -999.00,9,   -999.0,9,   -999.0,9,    4.807,2,    4.505,2,   90.693,2
  09AR20141205,AU1402,   133,  1,      0,     16,2,20150118,0821,-66.1837, 142.6953,  385,     20.6,  -1.4347,  34.1904,2,-999.0000,9,    345.0,2,   -999.0,9,  -999.00,9,  -999.00,9,  -999.00,9,   -999.0,9,   -999.0,9,    5.074,2,    4.527,2,   90.695,2
  09AR20141205,AU1402,   133,  1,      0,     15,2,20150118,0821,-66.1837, 142.6953,  385,    100.9,  -1.5521,  34.3085,2,  34.3106,2,    331.8,2,    330.4,2,    64.80,2,    26.78,2,     1.90,3,   2202.6,2,   2323.1,6,    2.907,2,    0.000,2,   93.785,2
  09AR20141205,AU1402,   133,  1,      0,     14,2,20150118,0821,-66.1837, 142.6953,  385,    100.8,  -1.5503,  34.3071,2,-999.0000,9,    331.8,2,   -999.0,9,  -999.00,9,  -999.00,9,  -999.00,9,   -999.0,9,   -999.0,9,    3.349,2,    0.000,2,   93.754,2
  09AR20141205,AU1402,   133,  1,      0,     13,2,20150118,0821,-66.1837, 142.6953,  385,    100.8,  -1.5519,  34.3085,2,-999.0000,9,    331.8,2,   -999.0,9,  -999.00,9,  -999.00,9,  -999.00,9,   -999.0,9,   -999.0,9,    3.216,2,    0.000,2,   93.807,2
  09AR20141205,AU1402,   133,  1,      0,     12,2,20150118,0821,-66.1837, 142.6953,  385,    100.7,  -1.5518,  34.3084,2,-999.0000,9,    331.8,2,   -999.0,9,  -999.00,9,  -999.00,9,  -999.00,9,   -999.0,9,   -999.0,9,    3.237,2,    0.000,2,   93.818,2
  09AR20141205,AU1402,   133,  1,      0,     11,2,20150118,0821,-66.1837, 142.6953,  385,    170.8,  -1.6656,  34.3897,2,-999.0000,9,    322.4,2,    323.6,2,    65.60,2,    28.22,2,     1.97,3,   2213.0,2,   2327.0,2,    1.767,2,    0.000,2,   95.468,2
  09AR20141205,AU1402,   133,  1,      0,     10,2,20150118,0821,-66.1837, 142.6953,  385,    170.8,  -1.6661,  34.3901,2,-999.0000,9,    322.4,2,   -999.0,9,  -999.00,9,  -999.00,9,  -999.00,9,   -999.0,9,   -999.0,9,    1.580,2,    0.000,2,   95.477,2
  09AR20141205,AU1402,   133,  1,      0,      9,2,20150118,0821,-66.1837, 142.6953,  385,    170.7,  -1.6660,  34.3902,2,-999.0000,9,    322.4,2,   -999.0,9,  -999.00,9,  -999.00,9,  -999.00,9,   -999.0,9,   -999.0,9,    1.605,2,    0.000,2,   95.489,2
  09AR20141205,AU1402,   133,  1,      0,      8,2,20150118,0821,-66.1837, 142.6953,  385,    170.7,  -1.6655,  34.3898,2,-999.0000,9,    322.4,2,   -999.0,9,  -999.00,9,  -999.00,9,  -999.00,9,   -999.0,9,   -999.0,9,    1.845,2,    0.000,2,   95.353,2
  09AR20141205,AU1402,   133,  1,      0,      7,2,20150118,0821,-66.1837, 142.6953,  385,    250.5,  -1.7240,  34.4279,2,  34.4272,2,    320.7,2,    321.4,2,    66.50,2,    28.88,2,     2.02,3,   2221.6,2,   2328.4,6,    1.073,2,    0.000,2,   96.330,2
  09AR20141205,AU1402,   133,  1,      0,      6,2,20150118,0821,-66.1837, 142.6953,  385,    250.5,  -1.7234,  34.4277,2,-999.0000,9,    320.7,2,   -999.0,9,  -999.00,9,  -999.00,9,  -999.00,9,   -999.0,9,   -999.0,9,    1.146,2,    0.000,2,   96.378,2
  09AR20141205,AU1402,   133,  1,      0,      5,2,20150118,0821,-66.1837, 142.6953,  385,    250.4,  -1.7232,  34.4275,2,-999.0000,9,    320.7,2,   -999.0,9,  -999.00,9,  -999.00,9,  -999.00,9,   -999.0,9,   -999.0,9,    1.124,2,    0.000,2,   96.191,2
  09AR20141205,AU1402,   133,  1,      0,      4,2,20150118,0821,-66.1837, 142.6953,  385,    250.4,  -1.7232,  34.4275,2,-999.0000,9,    320.7,2,   -999.0,9,  -999.00,9,  -999.00,9,  -999.00,9,   -999.0,9,   -999.0,9,    1.072,2,    0.000,2,   96.209,2
  09AR20141205,AU1402,   133,  1,      0,      3,2,20150118,0821,-66.1837, 142.6953,  385,    333.5,  -1.7973,  34.4696,2,  34.4689,2,    312.9,2,    312.3,2,  -999.00,9,  -999.00,9,  -999.00,9,   -999.0,9,   -999.0,9,    0.791,2,    0.000,2,   97.279,2
  09AR20141205,AU1402,   133,  1,      0,      2,2,20150118,0821,-66.1837, 142.6953,  385,    333.4,  -1.7973,  34.4697,2,-999.0000,9,    312.9,2,   -999.0,9,  -999.00,9,  -999.00,9,  -999.00,9,   -999.0,9,   -999.0,9,    0.627,2,    0.000,2,   97.306,2
  09AR20141205,AU1402,   133,  1,      0,      1,2,20150118,0821,-66.1837, 142.6953,  385,    384.5,  -1.8255,  34.4915,2,  34.4907,2,    310.7,2,    309.9,2,    68.50,2,    30.07,2,     2.09,3,   2230.0,2,   2334.5,2,    0.468,2,    0.000,2,   97.037,2
  09AR20141205,AU1402,   134,  1,      0,     24,2,20150118,1835,-65.0703, 139.8523, 2479,      7.0,  -0.0223,  33.8375,2,  33.8404,2,    364.9,2,    366.9,2,    32.00,2,    22.02,2,     1.39,3,   2137.5,6,   2294.0,6,    8.603,2,   36.340,2,   85.005,2
  09AR20141205,AU1402,   134,  1,      0,     23,2,20150118,1835,-65.0703, 139.8523, 2479,      7.0,  -0.0193,  33.8374,2,-999.0000,9,    364.9,2,   -999.0,9,  -999.00,9,  -999.00,9,  -999.00,9,   -999.0,9,   -999.0,9,    8.487,2,   36.370,2,   84.644,2
  09AR20141205,AU1402,   134,  1,      0,     22,2,20150118,1835,-65.0703, 139.8523, 2479,      7.0,  -0.0146,  33.8373,2,-999.0000,9,    364.9,2,   -999.0,9,  -999.00,9,  -999.00,9,  -999.00,9,   -999.0,9,   -999.0,9,    8.267,2,   36.690,2,   84.822,2
  09AR20141205,AU1402,   134,  1,      0,     21,2,20150118,1835,-65.0703, 139.8523, 2479,     40.0,  -0.8187,  33.9649,2,-999.0000,9,    355.0,2,    352.1,2,    44.00,2,    24.22,2,     1.73,3,   2164.2,2,   2302.1,2,   10.499,2,    0.148,2,   85.262,2
  09AR20141205,AU1402,   134,  1,      0,     20,2,20150118,1835,-65.0703, 139.8523, 2479,     81.4,  -1.8434,  34.3222,2,  34.3233,2,    314.7,2,    316.0,2,    59.90,2,    30.53,2,     2.03,3,   2219.0,2,   2320.0,2,    0.755,2,    0.000,2,   97.457,2
  09AR20141205,AU1402,   134,  1,      0,     19,2,20150118,1835,-65.0703, 139.8523, 2479,    125.0,  -1.7978,  34.3556,2,-999.0000,9,    311.2,2,    309.4,2,  -999.00,9,  -999.00,9,  -999.00,9,   2224.4,2,   2321.6,2,    0.314,2,    0.000,2,   98.455,2
  09AR20141205,AU1402,   134,  1,      0,     18,2,20150118,1835,-65.0703, 139.8523, 2479,    175.8,  -1.1721,  34.4230,2,  34.4228,2,    295.9,2,    280.5,2,  -999.00,9,  -999.00,9,  -999.00,9,   2228.2,2,   2326.6,2,    0.136,2,    0.000,2,   98.712,2
  09AR20141205,AU1402,   134,  1,      0,     17,2,20150118,1835,-65.0703, 139.8523, 2479,    226.0,  -0.8475,  34.4726,2,-999.0000,9,    278.4,2,    268.6,2,    73.00,2,    31.73,2,     2.10,3,   2237.1,2,   2330.4,2,    0.207,2,    0.000,2,   98.732,2
  09AR20141205,AU1402,   134,  1,      0,     16,2,20150118,1835,-65.0703, 139.8523, 2479,    300.6,   0.0799,  34.5699,2,  34.5704,2,    243.9,2,    234.9,2,  -999.00,9,  -999.00,9,  -999.00,9,   2245.4,2,   2334.0,2,    0.011,2,    0.000,2,   98.869,2
  09AR20141205,AU1402,   134,  1,      0,     15,2,20150118,1835,-65.0703, 139.8523, 2479,    400.7,   0.6215,  34.6394,2,-999.0000,9,    218.3,2,    219.1,2,    86.80,2,    31.78,2,     2.13,3,   2247.7,2,   2343.2,6,   -0.010,2,    0.000,2,   99.001,2
  09AR20141205,AU1402,   134,  1,      0,     14,2,20150118,1835,-65.0703, 139.8523, 2479,    500.1,   0.9001,  34.6823,2,  34.6822,2,    211.1,2,    208.9,2,  -999.00,9,  -999.00,9,  -999.00,9,   2250.2,2,   2347.9,2,   -0.051,2,    0.000,2,   99.090,2
  09AR20141205,AU1402,   134,  1,      0,     13,2,20150118,1835,-65.0703, 139.8523, 2479,    625.6,   0.8346,  34.6882,2,-999.0000,9,    207.9,2,    208.1,2,  -999.00,9,  -999.00,9,  -999.00,9,   -999.0,9,   -999.0,9,   -0.067,2,    0.000,2,   99.155,2
  09AR20141205,AU1402,   134,  1,      0,     12,2,20150118,1835,-65.0703, 139.8523, 2479,    741.4,   0.9300,  34.7061,2,  34.7063,2,    205.2,2,    205.7,2,   102.00,2,    31.53,2,     2.12,3,   2257.7,6,   2354.9,6,   -0.070,2,    0.000,2,   99.182,2
  09AR20141205,AU1402,   134,  1,      0,     11,2,20150118,1835,-65.0703, 139.8523, 2479,    901.0,   0.8112,  34.7038,2,  34.7034,2,    206.2,2,    206.6,2,  -999.00,9,  -999.00,9,  -999.00,9,   2260.4,2,   2356.3,2,   -0.079,2,    0.000,2,   99.183,2
  09AR20141205,AU1402,   134,  1,      0,     10,2,20150118,1835,-65.0703, 139.8523, 2479,   1050.9,   0.5627,  34.6863,2,-999.0000,9,    209.3,2,    210.0,2,  -999.00,9,  -999.00,9,  -999.00,9,   -999.0,9,   -999.0,9,   -0.078,2,    0.000,2,   99.229,2
  09AR20141205,AU1402,   134,  1,      0,      9,2,20150118,1835,-65.0703, 139.8523, 2479,   1200.8,   0.5011,  34.6847,2,-999.0000,9,    210.4,2,    211.3,2,   110.30,2,    32.47,2,     2.23,3,   2262.6,2,   2356.3,2,   -0.084,2,    0.000,2,   99.234,2
  09AR20141205,AU1402,   134,  1,      0,      8,2,20150118,1835,-65.0703, 139.8523, 2479,   1401.6,   0.4326,  34.6881,2,-999.0000,9,    211.6,2,    212.0,2,  -999.00,9,  -999.00,9,  -999.00,9,   -999.0,9,   -999.0,9,   -0.082,2,    0.000,2,   99.254,2
  09AR20141205,AU1402,   134,  1,      0,      7,2,20150118,1835,-65.0703, 139.8523, 2479,   1601.2,   0.3219,  34.6826,2,  34.6835,2,    215.2,2,    215.2,2,   113.80,2,    32.56,2,     2.21,3,   2260.2,2,   2355.9,2,   -0.084,2,    0.000,2,   99.255,2
  09AR20141205,AU1402,   134,  1,      0,      6,2,20150118,1835,-65.0703, 139.8523, 2479,   1801.7,   0.2107,  34.6780,2,-999.0000,9,    219.5,2,   -999.0,9,  -999.00,9,  -999.00,9,  -999.00,9,   -999.0,9,   -999.0,9,   -0.088,2,    0.000,2,   99.238,2
  09AR20141205,AU1402,   134,  1,      0,      5,2,20150118,1835,-65.0703, 139.8523, 2479,   2003.0,   0.0579,  34.6674,2,  34.6674,2,    225.7,2,    225.6,2,   108.40,2,    32.23,2,     2.22,3,   2257.7,2,   2349.4,2,   -0.085,2,    0.000,2,   99.214,2
  09AR20141205,AU1402,   134,  1,      0,      4,2,20150118,1835,-65.0703, 139.8523, 2479,   2151.4,  -0.0356,  34.6652,2,-999.0000,9,    229.0,2,    228.9,2,  -999.00,9,  -999.00,9,  -999.00,9,   -999.0,9,   -999.0,9,   -0.084,2,    0.000,2,   99.199,2
  09AR20141205,AU1402,   134,  1,      0,      3,2,20150118,1835,-65.0703, 139.8523, 2479,   2303.0,  -0.1650,  34.6573,2,  34.6574,2,    234.5,2,    234.6,2,   105.30,2,    32.08,2,     2.23,3,   2254.4,2,   2350.8,6,   -0.085,2,    0.000,2,   99.160,2
  09AR20141205,AU1402,   134,  1,      0,      2,2,20150118,1835,-65.0703, 139.8523, 2479,   2410.9,  -0.2981,  34.6447,2,-999.0000,9,    241.0,2,    241.3,2,  -999.00,9,  -999.00,9,  -999.00,9,   2257.0,2,   2348.5,2,   -0.080,2,    0.000,2,   99.006,2
  09AR20141205,AU1402,   134,  1,      0,      1,2,20150118,1835,-65.0703, 139.8523, 2479,   2555.4,  -0.3535,  34.6375,2,  34.6368,2,    245.2,2,    245.8,2,    97.30,2,    31.84,2,     2.18,3,   2251.6,6,   2348.8,6,   -0.072,2,    0.000,2,   98.871,2
  09AR20141205,AU1402,   135,  1,      0,     24,2,20150118,2243,-64.8142, 139.8510, 2562,      7.8,   0.4727,  33.7585,2,-999.0000,9,    366.3,2,    365.8,2,  -999.00,9,  -999.00,9,  -999.00,9,   2126.3,2,   2288.4,2,    4.197,2,   62.850,2,   83.161,2
  09AR20141205,AU1402,   135,  1,      0,     23,2,20150118,2243,-64.8142, 139.8510, 2562,      7.8,   0.4732,  33.7586,2,-999.0000,9,    366.3,2,   -999.0,9,  -999.00,9,  -999.00,9,  -999.00,9,   -999.0,9,   -999.0,9,    4.694,2,   65.600,2,   83.360,2
  09AR20141205,AU1402,   135,  1,      0,     22,2,20150118,2243,-64.8142, 139.8510, 2562,      7.8,   0.4662,  33.7589,2,-999.0000,9,    366.3,2,   -999.0,9,  -999.00,9,  -999.00,9,  -999.00,9,   -999.0,9,   -999.0,9,    5.011,2,   67.380,2,   83.266,2
  09AR20141205,AU1402,   135,  1,      0,     21,2,20150118,2243,-64.8142, 139.8510, 2562,     41.1,  -0.0862,  33.7970,2,  33.7966,2,    358.4,2,    355.9,2,  -999.00,9,  -999.00,9,  -999.00,9,   2139.5,6,   2290.8,6,   24.668,2,    0.250,2,   68.390,2
  09AR20141205,AU1402,   135,  1,      0,     20,2,20150118,2243,-64.8142, 139.8510, 2562,    101.4,  -1.8454,  34.3176,2,  34.3190,2,    318.2,2,    316.3,2,  -999.00,9,  -999.00,9,  -999.00,9,   2215.6,2,   2319.7,2,    0.624,2,    0.000,2,   98.208,2
  09AR20141205,AU1402,   135,  1,      0,     19,2,20150118,2243,-64.8142, 139.8510, 2562,    152.0,  -1.7855,  34.3520,2,-999.0000,9,    311.3,2,    310.4,2,  -999.00,9,  -999.00,9,  -999.00,9,   2220.8,2,   2320.9,2,    0.249,2,    0.000,2,   98.586,2
  09AR20141205,AU1402,   135,  1,      0,     18,2,20150118,2243,-64.8142, 139.8510, 2562,    211.1,  -1.4354,  34.4036,2,  34.4042,2,    288.6,2,    292.3,2,  -999.00,9,  -999.00,9,  -999.00,9,   2230.2,2,   2324.1,2,    0.171,2,    0.000,2,   98.721,2
  09AR20141205,AU1402,   135,  1,      0,     17,2,20150118,2243,-64.8142, 139.8510, 2562,    301.1,  -0.0234,  34.5523,2,-999.0000,9,    228.9,2,    242.0,2,  -999.00,9,  -999.00,9,  -999.00,9,   2243.9,2,   2333.0,2,    0.033,2,    0.000,2,   98.839,2
  09AR20141205,AU1402,   135,  1,      0,     16,2,20150118,2243,-64.8142, 139.8510, 2562,    400.7,   1.0198,  34.6705,2,  34.6701,2,    208.1,2,    208.4,2,  -999.00,9,  -999.00,9,  -999.00,9,   2253.8,2,   2343.4,2,   -0.042,2,    0.000,2,   99.076,2
  09AR20141205,AU1402,   135,  1,      0,     15,2,20150118,2243,-64.8142, 139.8510, 2562,    501.1,   1.0894,  34.6939,2,  34.6938,2,    206.3,2,    210.6,2,  -999.00,9,  -999.00,9,  -999.00,9,   2252.6,2,   2347.6,6,   -0.056,2,    0.000,2,   99.156,2
  09AR20141205,AU1402,   135,  1,      0,     14,2,20150118,2243,-64.8142, 139.8510, 2562,    600.7,   1.1217,  34.7098,2,-999.0000,9,    204.3,2,    203.9,2,  -999.00,9,  -999.00,9,  -999.00,9,   2252.1,2,   2351.6,2,   -0.065,2,    0.000,2,   99.168,2
  09AR20141205,AU1402,   135,  1,      0,     13,2,20150118,2243,-64.8142, 139.8510, 2562,    700.3,   1.0507,  34.7095,2,-999.0000,9,    205.3,2,    204.7,2,  -999.00,9,  -999.00,9,  -999.00,9,   2252.2,2,   2352.9,2,   -0.062,2,    0.000,2,   99.200,2
  09AR20141205,AU1402,   135,  1,      0,     12,2,20150118,2243,-64.8142, 139.8510, 2562,    801.5,   1.0129,  34.7136,2,  34.7130,2,    205.0,2,    204.7,2,  -999.00,9,  -999.00,9,  -999.00,9,   2257.2,6,   2353.2,6,   -0.071,2,    0.000,2,   99.166,2
  09AR20141205,AU1402,   135,  1,      0,     11,2,20150118,2243,-64.8142, 139.8510, 2562,    950.3,   0.8242,  34.7028,2,-999.0000,9,    207.1,2,    206.9,2,  -999.00,9,  -999.00,9,  -999.00,9,   2260.8,2,   2353.8,2,   -0.068,2,    0.000,2,   99.159,2
  09AR20141205,AU1402,   135,  1,      0,     10,2,20150118,2243,-64.8142, 139.8510, 2562,   1099.8,   0.6033,  34.6879,2,  34.6882,2,    209.7,2,    209.8,2,  -999.00,9,  -999.00,9,  -999.00,9,   2257.2,2,   2356.8,2,   -0.085,2,    0.000,2,   99.231,2
  09AR20141205,AU1402,   135,  1,      0,      9,2,20150118,2243,-64.8142, 139.8510, 2562,   1250.6,   0.5239,  34.6870,2,-999.0000,9,    210.8,2,    210.7,2,  -999.00,9,  -999.00,9,  -999.00,9,   2261.6,2,   2355.9,2,   -0.085,2,    0.000,2,   99.255,2
  09AR20141205,AU1402,   135,  1,      0,      8,2,20150118,2243,-64.8142, 139.8510, 2562,   1451.2,   0.4011,  34.6842,2,  34.6820,2,    213.2,2,    213.2,2,  -999.00,9,  -999.00,9,  -999.00,9,   2260.7,2,   2355.8,2,   -0.082,2,    0.000,2,   99.251,2
  09AR20141205,AU1402,   135,  1,      0,      7,2,20150118,2243,-64.8142, 139.8510, 2562,   1650.6,   0.3243,  34.6837,2,-999.0000,9,    215.1,2,    215.1,2,  -999.00,9,  -999.00,9,  -999.00,9,   2263.5,2,   2356.2,2,   -0.085,2,    0.000,2,   99.267,2
  09AR20141205,AU1402,   135,  1,      0,      6,2,20150118,2243,-64.8142, 139.8510, 2562,   1852.1,   0.2171,  34.6792,2,-999.0000,9,    218.6,2,    218.6,2,  -999.00,9,  -999.00,9,  -999.00,9,   2257.7,2,   2356.0,6,   -0.086,2,    0.000,2,   99.255,2
  09AR20141205,AU1402,   135,  1,      0,      5,2,20150118,2243,-64.8142, 139.8510, 2562,   2052.0,   0.0427,  34.6666,2,-999.0000,9,    226.5,2,    226.2,2,  -999.00,9,  -999.00,9,  -999.00,9,   2256.8,2,   2353.0,2,   -0.084,2,    0.000,2,   99.215,2
  09AR20141205,AU1402,   135,  1,      0,      4,2,20150118,2243,-64.8142, 139.8510, 2562,   2202.6,  -0.0820,  34.6594,2,-999.0000,9,    231.5,2,    231.3,2,  -999.00,9,  -999.00,9,  -999.00,9,   2256.0,2,   2351.3,2,   -0.086,2,    0.000,2,   99.195,2
  09AR20141205,AU1402,   135,  1,      0,      3,2,20150118,2243,-64.8142, 139.8510, 2562,   2352.7,  -0.2368,  34.6486,2,  34.6497,2,    238.6,2,    238.8,2,  -999.00,9,  -999.00,9,  -999.00,9,   2253.3,2,   2350.4,2,   -0.086,2,    0.000,2,   99.116,2
  09AR20141205,AU1402,   135,  1,      0,      2,2,20150118,2243,-64.8142, 139.8510, 2562,   2504.6,  -0.3177,  34.6433,2,-999.0000,9,    243.1,2,    242.8,2,  -999.00,9,  -999.00,9,  -999.00,9,   2252.8,2,   2349.9,2,   -0.087,2,    0.000,2,   99.036,2
  09AR20141205,AU1402,   135,  1,      0,      1,2,20150118,2243,-64.8142, 139.8510, 2562,   2594.1,  -0.3293,  34.6419,2,  34.6417,2,    243.0,2,    243.8,2,  -999.00,9,  -999.00,9,  -999.00,9,   2252.1,6,   2348.3,6,   -0.085,2,    0.000,2,   99.010,2