BOTTLE,20210329PRINUNIVRMK
EXPOCODE,SECT_ID,STNNBR,CASTNO,SAMPNO,BTLNBR,BTLNBR_FLAG_W,DATE,TIME,LATITUDE,LONGITUDE,DEPTH,CTDPRS,CTDTMP,CTDSAL,CTDSAL_FLAG_W,SALNTY,SALNTY_FLAG_W,CTDOXY,CTDOXY_FLAG_W,OXYGEN,OXYGEN_FLAG_W,SILCAT,SILCAT_FLAG_W,NITRAT,NITRAT_FLAG_W,PHSPHT,PHSPHT_FLAG_W,TCARBN,TCARBN_FLAG_W,ALKALI,ALKALI_FLAG_W,CTDFLUOR,CTDFLUOR_FLAG_W,CTDPAR,CTDPAR_FLAG_W,CTDXMISS,CTDXMISS_FLAG_W
,,,,,,,,,,,METERS,DBAR,ITS-90,PSS-78,,PSS-78,,UMOL/KG,,UMOL/KG,,UMOL/KG,,UMOL/KG,,UMOL/KG,,UMOL/KG,,UMOL/KG,,MG/M^3,,UEINSTEIN/M^2*SEC,,%TRANS,
  09AR20141205,AU1402,   115,  1,      0,     24,2,20150115,1159,-66.7695, 144.1740,  915,      7.3,  -1.3343,  33.7851,2,-999.0000,9,    368.2,2,   -999.0,9,  -999.00,9,  -999.00,9,  -999.00,9,   -999.0,9,   -999.0,9,   10.140,2,    1.289,2,   86.381,2
  09AR20141205,AU1402,   115,  1,      0,     23,2,20150115,1159,-66.7695, 144.1740,  915,      7.2,  -1.3359,  33.7855,2,-999.0000,9,    368.2,2,   -999.0,9,  -999.00,9,  -999.00,9,  -999.00,9,   -999.0,9,   -999.0,9,    9.550,2,    1.305,2,   86.314,2
  09AR20141205,AU1402,   115,  1,      0,     22,2,20150115,1159,-66.7695, 144.1740,  915,      7.2,  -1.3375,  33.7858,2,-999.0000,9,    368.2,2,   -999.0,9,  -999.00,9,  -999.00,9,  -999.00,9,   -999.0,9,   -999.0,9,   10.006,2,    1.309,2,   86.623,2
  09AR20141205,AU1402,   115,  1,      0,     21,2,20150115,1159,-66.7695, 144.1740,  915,      7.2,  -1.3397,  33.7866,2,  33.7919,2,    368.2,2,    369.1,2,  -999.00,9,  -999.00,9,  -999.00,9,   2120.7,2,   2298.9,2,   11.597,2,    1.343,2,   86.459,2
  09AR20141205,AU1402,   115,  1,      0,     20,2,20150115,1159,-66.7695, 144.1740,  915,      7.2,  -1.3527,  33.7885,2,-999.0000,9,    368.2,2,   -999.0,9,  -999.00,9,  -999.00,9,  -999.00,9,   -999.0,9,   -999.0,9,   10.153,2,    1.423,2,   86.492,2
  09AR20141205,AU1402,   115,  1,      0,     19,2,20150115,1159,-66.7695, 144.1740,  915,      7.2,  -1.3606,  33.7901,2,-999.0000,9,    368.2,2,   -999.0,9,  -999.00,9,  -999.00,9,  -999.00,9,   -999.0,9,   -999.0,9,   10.718,2,    1.425,2,   86.699,2
  09AR20141205,AU1402,   115,  1,      0,     18,2,20150115,1159,-66.7695, 144.1740,  915,     25.4,  -1.4237,  33.8199,2,-999.0000,9,    362.1,2,   -999.0,9,  -999.00,9,  -999.00,9,  -999.00,9,   -999.0,9,   -999.0,9,    9.497,2,    0.000,2,   87.407,2
  09AR20141205,AU1402,   115,  1,      0,     17,2,20150115,1159,-66.7695, 144.1740,  915,     25.4,  -1.4125,  33.8069,2,-999.0000,9,    362.1,2,    365.1,2,  -999.00,9,  -999.00,9,  -999.00,9,   2125.8,2,   2300.0,2,   10.643,2,    0.000,2,   86.419,2
  09AR20141205,AU1402,   115,  1,      0,     16,2,20150115,1159,-66.7695, 144.1740,  915,     25.3,  -1.4111,  33.8044,2,-999.0000,9,    362.1,2,   -999.0,9,  -999.00,9,  -999.00,9,  -999.00,9,   -999.0,9,   -999.0,9,    9.427,2,    0.000,2,   86.585,2
  09AR20141205,AU1402,   115,  1,      0,     15,2,20150115,1159,-66.7695, 144.1740,  915,     50.7,  -1.5325,  34.0436,2,-999.0000,9,    350.7,2,   -999.0,9,  -999.00,9,  -999.00,9,  -999.00,9,   -999.0,9,   -999.0,9,    8.059,2,    0.000,2,   90.060,2
  09AR20141205,AU1402,   115,  1,      0,     14,2,20150115,1159,-66.7695, 144.1740,  915,     50.6,  -1.5325,  34.0432,2,-999.0000,9,    350.7,2,   -999.0,9,  -999.00,9,  -999.00,9,  -999.00,9,   -999.0,9,   -999.0,9,    7.812,2,    0.000,2,   90.037,2
  09AR20141205,AU1402,   115,  1,      0,     13,2,20150115,1159,-66.7695, 144.1740,  915,     50.6,  -1.5329,  34.0421,2,-999.0000,9,    350.7,2,    347.2,2,  -999.00,9,  -999.00,9,  -999.00,9,   2163.1,2,   2313.9,2,    8.296,2,    0.000,2,   90.375,2
  09AR20141205,AU1402,   115,  1,      0,     12,2,20150115,1159,-66.7695, 144.1740,  915,     50.5,  -1.5328,  34.0417,2,-999.0000,9,    350.7,2,   -999.0,9,  -999.00,9,  -999.00,9,  -999.00,9,   -999.0,9,   -999.0,9,    8.377,2,    0.000,2,   89.902,2
  09AR20141205,AU1402,   115,  1,      0,     11,2,20150115,1159,-66.7695, 144.1740,  915,     94.1,  -1.5640,  34.1883,2,-999.0000,9,    335.6,2,   -999.0,9,  -999.00,9,  -999.00,9,  -999.00,9,   -999.0,9,   -999.0,9,    5.066,2,    0.000,2,   91.507,2
  09AR20141205,AU1402,   115,  1,      0,     10,2,20150115,1159,-66.7695, 144.1740,  915,     93.9,  -1.5644,  34.1883,2,-999.0000,9,    335.6,2,   -999.0,9,  -999.00,9,  -999.00,9,  -999.00,9,   -999.0,9,   -999.0,9,    4.883,2,    0.000,2,   91.570,2
  09AR20141205,AU1402,   115,  1,      0,      9,2,20150115,1159,-66.7695, 144.1740,  915,     93.0,  -1.5658,  34.1880,2,  34.1833,2,    335.6,2,    333.0,2,  -999.00,9,  -999.00,9,  -999.00,9,   2187.5,2,   2319.7,2,    4.968,2,    0.000,2,   91.509,2
  09AR20141205,AU1402,   115,  1,      0,      8,2,20150115,1159,-66.7695, 144.1740,  915,     92.6,  -1.5669,  34.1878,2,-999.0000,9,    335.8,2,   -999.0,9,  -999.00,9,  -999.00,9,  -999.00,9,   -999.0,9,   -999.0,9,    4.586,2,    0.000,2,   91.506,2
  09AR20141205,AU1402,   115,  1,      0,      7,2,20150115,1159,-66.7695, 144.1740,  915,    254.6,  -1.8034,  34.4428,2,-999.0000,9,    303.2,2,    303.4,2,  -999.00,9,  -999.00,9,  -999.00,9,   2230.1,2,   2328.6,2,    0.121,2,    0.000,2,   98.219,2
  09AR20141205,AU1402,   115,  1,      0,      6,2,20150115,1159,-66.7695, 144.1740,  915,    253.7,  -1.8036,  34.4428,2,-999.0000,9,    303.2,2,   -999.0,9,  -999.00,9,  -999.00,9,  -999.00,9,   -999.0,9,   -999.0,9,    0.115,2,    0.000,2,   98.235,2
  09AR20141205,AU1402,   115,  1,      0,      5,2,20150115,1159,-66.7695, 144.1740,  915,    547.3,  -1.9181,  34.5203,2,-999.0000,9,    304.1,2,    304.8,2,  -999.00,9,  -999.00,9,  -999.00,9,   2234.8,2,   2333.0,2,   -0.052,2,    0.000,2,   98.645,2
  09AR20141205,AU1402,   115,  1,      0,      4,2,20150115,1159,-66.7695, 144.1740,  915,    547.9,  -1.9169,  34.5197,2,-999.0000,9,    304.1,2,   -999.0,9,  -999.00,9,  -999.00,9,  -999.00,9,   -999.0,9,   -999.0,9,   -0.062,2,    0.000,2,   98.638,2
  09AR20141205,AU1402,   115,  1,      0,      3,2,20150115,1159,-66.7695, 144.1740,  915,    750.0,  -1.9045,  34.5736,2,  34.5736,2,    306.4,2,    306.8,2,  -999.00,9,  -999.00,9,  -999.00,9,   -999.0,9,   -999.0,9,   -0.080,2,    0.000,2,   98.754,2
  09AR20141205,AU1402,   115,  1,      0,      2,2,20150115,1159,-66.7695, 144.1740,  915,    750.0,  -1.9044,  34.5736,2,-999.0000,9,    306.4,2,   -999.0,9,  -999.00,9,  -999.00,9,  -999.00,9,   -999.0,9,   -999.0,9,   -0.066,2,    0.000,2,   98.738,2
  09AR20141205,AU1402,   115,  1,      0,      1,2,20150115,1159,-66.7695, 144.1740,  915,    923.7,  -1.8878,  34.5916,2,  34.5911,2,    307.7,2,    307.0,2,  -999.00,9,  -999.00,9,  -999.00,9,   2241.1,2,   2340.6,2,   -0.080,2,    0.000,2,   98.642,2
  09AR20141205,AU1402,   116,  1,      0,     24,2,20150115,1410,-66.7187, 143.9882,  876,      7.9,  -1.2966,  33.9100,2,-999.0000,9,    361.1,2,   -999.0,9,  -999.00,9,  -999.00,9,  -999.00,9,   -999.0,9,   -999.0,9,   14.289,2,    0.306,2,   85.789,2
  09AR20141205,AU1402,   116,  1,      0,     23,2,20150115,1410,-66.7187, 143.9882,  876,      7.9,  -1.2966,  33.9090,2,-999.0000,9,    361.1,2,   -999.0,9,  -999.00,9,  -999.00,9,  -999.00,9,   -999.0,9,   -999.0,9,   12.730,2,    0.309,2,   85.611,2
  09AR20141205,AU1402,   116,  1,      0,     22,2,20150115,1410,-66.7187, 143.9882,  876,      7.9,  -1.2938,  33.9119,2,-999.0000,9,    361.1,2,   -999.0,9,  -999.00,9,  -999.00,9,  -999.00,9,   -999.0,9,   -999.0,9,   13.079,2,    0.310,2,   84.518,2
  09AR20141205,AU1402,   116,  1,      0,     21,2,20150115,1410,-66.7187, 143.9882,  876,      7.8,  -1.2928,  33.9129,2,  33.9108,2,    361.1,2,    360.3,2,    62.30,2,    20.42,2,     1.54,3,   2138.0,2,   2302.5,2,   13.946,2,    0.314,2,   85.521,2
  09AR20141205,AU1402,   116,  1,      0,     20,2,20150115,1410,-66.7187, 143.9882,  876,      7.8,  -1.2945,  33.9106,2,-999.0000,9,    361.1,2,   -999.0,9,  -999.00,9,  -999.00,9,  -999.00,9,   -999.0,9,   -999.0,9,   11.294,2,    0.314,2,   84.945,2
  09AR20141205,AU1402,   116,  1,      0,     19,2,20150115,1410,-66.7187, 143.9882,  876,     30.9,  -1.2359,  33.9578,2,-999.0000,9,    358.1,2,    358.7,2,    62.10,2,    20.89,2,     1.56,3,   2142.4,2,   2303.9,2,   14.938,2,    0.000,2,   84.833,2
  09AR20141205,AU1402,   116,  1,      0,     18,2,20150115,1410,-66.7187, 143.9882,  876,     30.7,  -1.2328,  33.9587,2,-999.0000,9,    358.1,2,   -999.0,9,  -999.00,9,  -999.00,9,  -999.00,9,   -999.0,9,   -999.0,9,   13.906,2,    0.000,2,   84.748,2
  09AR20141205,AU1402,   116,  1,      0,     17,2,20150115,1410,-66.7187, 143.9882,  876,     30.6,  -1.2392,  33.9560,2,-999.0000,9,    358.1,2,   -999.0,9,  -999.00,9,  -999.00,9,  -999.00,9,   -999.0,9,   -999.0,9,   13.712,2,    0.000,2,   85.064,2
  09AR20141205,AU1402,   116,  1,      0,     16,2,20150115,1410,-66.7187, 143.9882,  876,     30.6,  -1.2381,  33.9567,2,-999.0000,9,    358.1,2,   -999.0,9,  -999.00,9,  -999.00,9,  -999.00,9,   -999.0,9,   -999.0,9,   13.180,2,    0.000,2,   85.242,2
  09AR20141205,AU1402,   116,  1,      0,     15,2,20150115,1410,-66.7187, 143.9882,  876,     71.3,  -1.2435,  34.1956,2,  34.1986,2,    353.6,2,    342.7,2,    62.90,2,    23.73,2,     1.77,3,   -999.0,9,   -999.0,9,    8.625,2,    0.000,2,   88.540,2
  09AR20141205,AU1402,   116,  1,      0,     14,2,20150115,1410,-66.7187, 143.9882,  876,     71.3,  -1.2362,  34.1965,2,-999.0000,9,    353.6,2,   -999.0,9,  -999.00,9,  -999.00,9,  -999.00,9,   -999.0,9,   -999.0,9,    8.641,2,    0.000,2,   88.431,2
  09AR20141205,AU1402,   116,  1,      0,     13,2,20150115,1410,-66.7187, 143.9882,  876,     71.3,  -1.2249,  34.1964,2,-999.0000,9,    353.6,2,   -999.0,9,  -999.00,9,  -999.00,9,  -999.00,9,   -999.0,9,   -999.0,9,    8.385,2,    0.000,2,   88.244,2
  09AR20141205,AU1402,   116,  1,      0,     12,2,20150115,1410,-66.7187, 143.9882,  876,     71.3,  -1.2222,  34.1969,2,-999.0000,9,    353.6,2,   -999.0,9,  -999.00,9,  -999.00,9,  -999.00,9,   -999.0,9,   -999.0,9,    9.108,2,    0.000,2,   88.362,2
  09AR20141205,AU1402,   116,  1,      0,     11,2,20150115,1410,-66.7187, 143.9882,  876,    160.8,  -1.7608,  34.3993,2,  34.3954,2,    307.1,2,    308.1,2,    70.10,2,    29.30,2,     2.05,3,   2223.9,2,   2325.8,2,    0.733,2,    0.000,2,   97.079,2
  09AR20141205,AU1402,   116,  1,      0,     10,2,20150115,1410,-66.7187, 143.9882,  876,    160.8,  -1.7609,  34.3993,2,-999.0000,9,    307.1,2,   -999.0,9,  -999.00,9,  -999.00,9,  -999.00,9,   -999.0,9,   -999.0,9,    0.758,2,    0.000,2,   97.075,2
  09AR20141205,AU1402,   116,  1,      0,      9,2,20150115,1410,-66.7187, 143.9882,  876,    350.5,  -1.8546,  34.4653,2,-999.0000,9,    303.8,2,    303.1,2,    72.70,2,    30.40,2,     2.10,3,   -999.0,9,   -999.0,9,    0.012,2,    0.000,2,   98.549,2
  09AR20141205,AU1402,   116,  1,      0,      8,2,20150115,1410,-66.7187, 143.9882,  876,    350.5,  -1.8546,  34.4654,2,-999.0000,9,    303.8,2,   -999.0,9,  -999.00,9,  -999.00,9,  -999.00,9,   -999.0,9,   -999.0,9,    0.024,2,    0.000,2,   98.545,2
  09AR20141205,AU1402,   116,  1,      0,      7,2,20150115,1410,-66.7187, 143.9882,  876,    570.7,  -1.9146,  34.5230,2,-999.0000,9,    304.5,2,    304.7,2,    72.30,2,    30.77,2,     2.09,3,   2235.6,2,   2332.8,2,   -0.054,2,    0.000,2,   98.701,2
  09AR20141205,AU1402,   116,  1,      0,      6,2,20150115,1410,-66.7187, 143.9882,  876,    570.6,  -1.9169,  34.5228,2,-999.0000,9,    304.5,2,   -999.0,9,  -999.00,9,  -999.00,9,  -999.00,9,   -999.0,9,   -999.0,9,   -0.059,2,    0.000,2,   98.691,2
  09AR20141205,AU1402,   116,  1,      0,      5,2,20150115,1410,-66.7187, 143.9882,  876,    750.4,  -1.9039,  34.5641,2,-999.0000,9,    306.2,2,    306.4,2,    71.60,2,    30.80,2,     2.10,3,   -999.0,9,   -999.0,9,    0.001,2,    0.000,2,   98.726,2
  09AR20141205,AU1402,   116,  1,      0,      4,2,20150115,1410,-66.7187, 143.9882,  876,    750.5,  -1.9039,  34.5642,2,-999.0000,9,    306.2,2,   -999.0,9,  -999.00,9,  -999.00,9,  -999.00,9,   -999.0,9,   -999.0,9,   -0.064,2,    0.000,2,   98.727,2
  09AR20141205,AU1402,   116,  1,      0,      3,2,20150115,1410,-66.7187, 143.9882,  876,    831.3,  -1.8919,  34.5833,2,-999.0000,9,    307.2,2,    307.1,2,  -999.00,9,  -999.00,9,  -999.00,9,   -999.0,9,   -999.0,9,   -0.073,2,    0.000,2,   98.699,2
  09AR20141205,AU1402,   116,  1,      0,      2,2,20150115,1410,-66.7187, 143.9882,  876,    831.6,  -1.8919,  34.5831,2,-999.0000,9,    307.2,2,   -999.0,9,  -999.00,9,  -999.00,9,  -999.00,9,   -999.0,9,   -999.0,9,   -0.082,2,    0.000,2,   98.709,2
  09AR20141205,AU1402,   116,  1,      0,      1,2,20150115,1410,-66.7187, 143.9882,  876,    879.7,  -1.8886,  34.5888,2,  34.5907,2,    306.9,2,    306.8,2,    73.10,2,    30.90,2,     2.11,3,   2240.0,2,   2337.6,2,   -0.070,2,    0.000,2,   98.625,2
  09AR20141205,AU1402,   117,  1,      0,     24,2,20150115,1652,-66.5263, 143.9430,  759,      7.7,  -0.6282,  34.1944,2,-999.0000,9,    351.8,2,   -999.0,9,  -999.00,9,  -999.00,9,  -999.00,9,   -999.0,9,   -999.0,9,    6.751,2,    5.746,2,   88.811,2
  09AR20141205,AU1402,   117,  1,      0,     23,2,20150115,1652,-66.5263, 143.9430,  759,      7.7,  -0.6278,  34.1943,2,-999.0000,9,    351.8,2,   -999.0,9,  -999.00,9,  -999.00,9,  -999.00,9,   -999.0,9,   -999.0,9,    6.730,2,    5.681,2,   88.830,2
  09AR20141205,AU1402,   117,  1,      0,     22,2,20150115,1652,-66.5263, 143.9430,  759,      7.7,  -0.6284,  34.1943,2,-999.0000,9,    351.8,2,   -999.0,9,  -999.00,9,  -999.00,9,  -999.00,9,   -999.0,9,   -999.0,9,    6.560,2,    5.636,2,   88.830,2
  09AR20141205,AU1402,   117,  1,      0,     21,2,20150115,1652,-66.5263, 143.9430,  759,      7.6,  -0.6291,  34.1944,2,  34.1941,2,    351.8,2,    352.5,2,  -999.00,9,  -999.00,9,  -999.00,9,   2178.2,2,   2316.2,2,    6.329,2,    5.484,2,   88.813,2
  09AR20141205,AU1402,   117,  1,      0,     20,2,20150115,1652,-66.5263, 143.9430,  759,     21.1,  -0.6271,  34.1942,2,-999.0000,9,    352.8,2,   -999.0,9,  -999.00,9,  -999.00,9,  -999.00,9,   -999.0,9,   -999.0,9,    7.616,2,    0.686,2,   88.844,2
  09AR20141205,AU1402,   117,  1,      0,     19,2,20150115,1652,-66.5263, 143.9430,  759,     21.0,  -0.6285,  34.1939,2,  34.2089,2,    352.9,2,    351.6,2,  -999.00,9,  -999.00,9,  -999.00,9,   2180.9,2,   2311.1,2,    6.415,2,    0.725,2,   88.668,2
  09AR20141205,AU1402,   117,  1,      0,     18,2,20150115,1652,-66.5263, 143.9430,  759,     51.1,  -1.4314,  34.3165,2,-999.0000,9,    336.8,2,   -999.0,9,  -999.00,9,  -999.00,9,  -999.00,9,   -999.0,9,   -999.0,9,    6.241,2,    0.000,2,   90.386,2
  09AR20141205,AU1402,   117,  1,      0,     17,2,20150115,1652,-66.5263, 143.9430,  759,     51.1,  -1.4279,  34.3175,2,-999.0000,9,    336.8,2,    325.0,2,  -999.00,9,  -999.00,9,  -999.00,9,   2205.3,2,   2325.6,2,    6.504,2,    0.000,2,   90.477,2
  09AR20141205,AU1402,   117,  1,      0,     16,2,20150115,1652,-66.5263, 143.9430,  759,     51.0,  -1.4256,  34.3176,2,-999.0000,9,    341.3,2,   -999.0,9,  -999.00,9,  -999.00,9,  -999.00,9,   -999.0,9,   -999.0,9,    7.513,2,    0.000,2,   90.376,2
  09AR20141205,AU1402,   117,  1,      0,     15,2,20150115,1652,-66.5263, 143.9430,  759,    101.3,  -1.7964,  34.4227,2,  34.4242,2,    304.0,2,    304.5,2,  -999.00,9,  -999.00,9,  -999.00,9,   2228.0,6,   2327.4,6,    0.308,2,    0.000,2,   98.005,2
  09AR20141205,AU1402,   117,  1,      0,     14,2,20150115,1652,-66.5263, 143.9430,  759,    101.2,  -1.7976,  34.4227,2,-999.0000,9,    304.0,2,   -999.0,9,  -999.00,9,  -999.00,9,  -999.00,9,   -999.0,9,   -999.0,9,    0.257,2,    0.000,2,   97.942,2
  09AR20141205,AU1402,   117,  1,      0,     13,2,20150115,1652,-66.5263, 143.9430,  759,    101.2,  -1.7979,  34.4228,2,-999.0000,9,    304.0,2,   -999.0,9,  -999.00,9,  -999.00,9,  -999.00,9,   -999.0,9,   -999.0,9,    0.325,2,    0.000,2,   97.941,2
  09AR20141205,AU1402,   117,  1,      0,     12,2,20150115,1652,-66.5263, 143.9430,  759,    101.2,  -1.7979,  34.4228,2,-999.0000,9,    304.0,2,   -999.0,9,  -999.00,9,  -999.00,9,  -999.00,9,   -999.0,9,   -999.0,9,    0.331,2,    0.000,2,   97.870,2
  09AR20141205,AU1402,   117,  1,      0,     11,2,20150115,1652,-66.5263, 143.9430,  759,    150.9,  -1.7924,  34.4587,2,-999.0000,9,    302.7,2,    302.5,2,  -999.00,9,  -999.00,9,  -999.00,9,   2231.2,2,   2326.8,2,    0.160,2,    0.000,2,   98.233,2
  09AR20141205,AU1402,   117,  1,      0,     10,2,20150115,1652,-66.5263, 143.9430,  759,    150.8,  -1.7921,  34.4587,2,-999.0000,9,    302.7,2,   -999.0,9,  -999.00,9,  -999.00,9,  -999.00,9,   -999.0,9,   -999.0,9,    0.154,2,    0.000,2,   98.273,2
  09AR20141205,AU1402,   117,  1,      0,      9,2,20150115,1652,-66.5263, 143.9430,  759,    251.1,  -1.8614,  34.4860,2,  34.4860,2,    303.0,2,    303.3,2,  -999.00,9,  -999.00,9,  -999.00,9,   2232.0,2,   2329.1,2,    0.029,2,    0.000,2,   98.550,2
  09AR20141205,AU1402,   117,  1,      0,      8,2,20150115,1652,-66.5263, 143.9430,  759,    251.1,  -1.8605,  34.4859,2,-999.0000,9,    303.0,2,   -999.0,9,  -999.00,9,  -999.00,9,  -999.00,9,   -999.0,9,   -999.0,9,    0.049,2,    0.000,2,   98.533,2
  09AR20141205,AU1402,   117,  1,      0,      7,2,20150115,1652,-66.5263, 143.9430,  759,    401.0,  -1.8829,  34.5240,2,  34.5252,2,    304.3,2,    304.1,2,  -999.00,9,  -999.00,9,  -999.00,9,   2235.6,2,   2331.4,3,   -0.008,2,    0.000,2,   98.730,2
  09AR20141205,AU1402,   117,  1,      0,      6,2,20150115,1652,-66.5263, 143.9430,  759,    400.9,  -1.8828,  34.5238,2,-999.0000,9,    304.4,2,   -999.0,9,  -999.00,9,  -999.00,9,  -999.00,9,   -999.0,9,   -999.0,9,   -0.026,2,    0.000,2,   98.727,2
  09AR20141205,AU1402,   117,  1,      0,      5,2,20150115,1652,-66.5263, 143.9430,  759,    601.0,  -1.8985,  34.5666,2,  34.5650,2,    307.0,2,    307.1,2,  -999.00,9,  -999.00,9,  -999.00,9,   2237.0,2,   2334.0,2,   -0.076,2,    0.000,2,   98.835,2
  09AR20141205,AU1402,   117,  1,      0,      4,2,20150115,1652,-66.5263, 143.9430,  759,    600.9,  -1.8985,  34.5666,2,-999.0000,9,    307.0,2,   -999.0,9,  -999.00,9,  -999.00,9,  -999.00,9,   -999.0,9,   -999.0,9,   -0.073,2,    0.000,2,   98.825,2
  09AR20141205,AU1402,   117,  1,      0,      3,2,20150115,1652,-66.5263, 143.9430,  759,    600.9,  -1.8985,  34.5667,2,-999.0000,9,    307.0,2,   -999.0,9,  -999.00,9,  -999.00,9,  -999.00,9,   -999.0,9,   -999.0,9,   -0.063,2,    0.000,2,   98.820,2
  09AR20141205,AU1402,   117,  1,      0,      2,2,20150115,1652,-66.5263, 143.9430,  759,    600.6,  -1.8985,  34.5665,2,-999.0000,9,    307.0,2,   -999.0,9,  -999.00,9,  -999.00,9,  -999.00,9,   -999.0,9,   -999.0,9,   -0.077,2,    0.000,2,   98.821,2
  09AR20141205,AU1402,   117,  1,      0,      1,2,20150115,1652,-66.5263, 143.9430,  759,    757.0,  -1.8942,  34.5810,2,-999.0000,9,    306.9,2,    307.2,2,  -999.00,9,  -999.00,9,  -999.00,9,   2237.4,2,   2337.0,2,    0.046,2,    0.000,2,   98.396,2