BOTTLE,20210329PRINUNIVRMK
# Data source: S. Rintould and B. Tilbrook  13/08/20 final and public 								 # SHIP: RV Aurora Australis 
# Cruise: AU1402 
# Region: South of Tasmania; Totten and Mertz Glaciers; Hobart to Hobart 
# EXPOCODE: 09AR1041205 
# DATES: 20141205 - 20150120 
# Chief Scientist: S. Rintoul 
# 141 stations with 24 place Rosette  
# CTD: Who - S.Rintoul; Status - final 
# 	Includes: CTDSAL,CTDOXY  
# Salinty: Who - S.Rintoul; Status - final 
# 	Notes: 
# Nutrients: Who - M.Rosenberg; Status - final 
# 	Includes: nitrate is really nitrate+nitrite 
# 	silicate,phosphate 
# O2: Who - M.Rosenberg; Status - final 
# 	Notes: 
# TCARBN: Who - B.Tilbrook; Status -  fina 
# 	Notes: 
#  																				ALKALI: Who - B.Tilbrook; Status - final 
# 	Notes: 
# 																				CTD data should be cited as: 
# Rintoul S. and Rosenberg, M. A. (2016) Aurora Australis Marine Science Cruise AU1402 (V2 2014/15); Totten and Mertz Glacier regions - ship-based CTD data Ver 1. Australian Antarctic Data; doi:10.4225/15/57DA1C27482AD  
EXPOCODE,SECT_ID,STNNBR,CASTNO,SAMPNO,BTLNBR,BTLNBR_FLAG_W,DATE,TIME,LATITUDE,LONGITUDE,DEPTH,CTDPRS,CTDTMP,CTDSAL,CTDSAL_FLAG_W,SALNTY,SALNTY_FLAG_W,CTDOXY,CTDOXY_FLAG_W,OXYGEN,OXYGEN_FLAG_W,SILCAT,SILCAT_FLAG_W,NITRAT,NITRAT_FLAG_W,PHSPHT,PHSPHT_FLAG_W,TCARBN,TCARBN_FLAG_W,ALKALI,ALKALI_FLAG_W,CTDFLUOR,CTDFLUOR_FLAG_W,CTDPAR,CTDPAR_FLAG_W,CTDXMISS,CTDXMISS_FLAG_W
,,,,,,,,,,,METERS,DBAR,ITS-90,PSS-78,,PSS-78,,UMOL/KG,,UMOL/KG,,UMOL/KG,,UMOL/KG,,UMOL/KG,,UMOL/KG,,UMOL/KG,,MG/M^3,,UEINSTEIN/M^2*SEC,,%TRANS,
  09AR20141205,AU1402,     1,  1,      0,     24,2,20141225,0821,-66.4182, 120.3150,  499,    215.2,  -1.8464,  34.2733,2,  34.2726,2,   -999.0,5,   -999.0,9,  -999.00,9,  -999.00,9,  -999.00,9,   -999.0,9,   -999.0,9,   -0.012,2,    0.000,2,   99.770,2
  09AR20141205,AU1402,     1,  1,      0,     23,2,20141225,0821,-66.4182, 120.3150,  499,    215.1,  -1.8463,  34.2732,2,-999.0000,9,   -999.0,5,   -999.0,9,  -999.00,9,  -999.00,9,  -999.00,9,   -999.0,9,   -999.0,9,   -0.012,2,    0.000,2,   99.780,2
  09AR20141205,AU1402,     1,  1,      0,     22,2,20141225,0821,-66.4182, 120.3150,  499,    215.1,  -1.8462,  34.2732,2,-999.0000,9,   -999.0,5,   -999.0,9,  -999.00,9,  -999.00,9,  -999.00,9,   -999.0,9,   -999.0,9,   -0.020,2,    0.000,2,   99.774,2
  09AR20141205,AU1402,     1,  1,      0,     21,2,20141225,0821,-66.4182, 120.3150,  499,    215.1,  -1.8460,  34.2731,2,  34.2722,2,   -999.0,5,   -999.0,9,  -999.00,9,  -999.00,9,  -999.00,9,   -999.0,9,   -999.0,9,   -0.023,2,    0.000,2,   99.778,2
  09AR20141205,AU1402,     1,  1,      0,     20,2,20141225,0821,-66.4182, 120.3150,  499,    215.1,  -1.8461,  34.2732,2,-999.0000,9,   -999.0,5,   -999.0,9,  -999.00,9,  -999.00,9,  -999.00,9,   -999.0,9,   -999.0,9,   -0.015,2,    0.000,2,   99.775,2
  09AR20141205,AU1402,     1,  1,      0,     19,2,20141225,0821,-66.4182, 120.3150,  499,    215.1,  -1.8462,  34.2733,2,  34.2737,2,   -999.0,5,   -999.0,9,  -999.00,9,  -999.00,9,  -999.00,9,   -999.0,9,   -999.0,9,   -0.019,2,    0.000,2,   99.774,2
  09AR20141205,AU1402,     1,  1,      0,     18,2,20141225,0821,-66.4182, 120.3150,  499,    215.1,  -1.8463,  34.2734,2,-999.0000,9,   -999.0,5,   -999.0,9,  -999.00,9,  -999.00,9,  -999.00,9,   -999.0,9,   -999.0,9,   -0.017,2,    0.000,2,   99.770,2
  09AR20141205,AU1402,     1,  1,      0,     17,2,20141225,0821,-66.4182, 120.3150,  499,    215.2,  -1.8461,  34.2735,2,  34.2721,2,   -999.0,5,   -999.0,9,  -999.00,9,  -999.00,9,  -999.00,9,   -999.0,9,   -999.0,9,   -0.015,2,    0.000,2,   99.769,2
  09AR20141205,AU1402,     1,  1,      0,     16,2,20141225,0821,-66.4182, 120.3150,  499,    215.2,  -1.8460,  34.2735,2,-999.0000,9,   -999.0,5,   -999.0,9,  -999.00,9,  -999.00,9,  -999.00,9,   -999.0,9,   -999.0,9,   -0.013,2,    0.000,2,   99.773,2
  09AR20141205,AU1402,     1,  1,      0,     15,2,20141225,0821,-66.4182, 120.3150,  499,    215.3,  -1.8459,  34.2736,2,  34.2726,2,   -999.0,5,   -999.0,9,  -999.00,9,  -999.00,9,  -999.00,9,   -999.0,9,   -999.0,9,   -0.011,2,    0.000,2,   99.775,2
  09AR20141205,AU1402,     1,  1,      0,     14,2,20141225,0821,-66.4182, 120.3150,  499,    215.3,  -1.8459,  34.2736,2,-999.0000,9,   -999.0,5,   -999.0,9,  -999.00,9,  -999.00,9,  -999.00,9,   -999.0,9,   -999.0,9,   -0.010,2,    0.000,2,   99.777,2
  09AR20141205,AU1402,     1,  1,      0,     13,2,20141225,0821,-66.4182, 120.3150,  499,    215.4,  -1.8465,  34.2737,2,  34.2746,2,   -999.0,5,   -999.0,9,  -999.00,9,  -999.00,9,  -999.00,9,   -999.0,9,   -999.0,9,   -0.012,2,    0.000,2,   99.756,2
  09AR20141205,AU1402,     1,  1,      0,     12,2,20141225,0821,-66.4182, 120.3150,  499,    215.4,  -1.8468,  34.2737,2,-999.0000,9,   -999.0,5,   -999.0,9,  -999.00,9,  -999.00,9,  -999.00,9,   -999.0,9,   -999.0,9,   -0.019,2,    0.000,2,   99.752,2
  09AR20141205,AU1402,     1,  1,      0,     11,2,20141225,0821,-66.4182, 120.3150,  499,    215.4,  -1.8468,  34.2737,2,  34.2713,2,   -999.0,5,   -999.0,9,  -999.00,9,  -999.00,9,  -999.00,9,   -999.0,9,   -999.0,9,   -0.020,2,    0.000,2,   99.779,2
  09AR20141205,AU1402,     1,  1,      0,     10,2,20141225,0821,-66.4182, 120.3150,  499,    215.4,  -1.8468,  34.2737,2,-999.0000,9,   -999.0,5,   -999.0,9,  -999.00,9,  -999.00,9,  -999.00,9,   -999.0,9,   -999.0,9,   -0.017,2,    0.000,2,   99.781,2
  09AR20141205,AU1402,     1,  1,      0,      9,2,20141225,0821,-66.4182, 120.3150,  499,    215.4,  -1.8469,  34.2737,2,  34.2727,2,   -999.0,5,   -999.0,9,  -999.00,9,  -999.00,9,  -999.00,9,   -999.0,9,   -999.0,9,   -0.016,2,    0.000,2,   99.775,2
  09AR20141205,AU1402,     1,  1,      0,      8,2,20141225,0821,-66.4182, 120.3150,  499,    215.4,  -1.8469,  34.2736,2,-999.0000,9,   -999.0,5,   -999.0,9,  -999.00,9,  -999.00,9,  -999.00,9,   -999.0,9,   -999.0,9,   -0.021,2,    0.000,2,   99.777,2
  09AR20141205,AU1402,     1,  1,      0,      7,2,20141225,0821,-66.4182, 120.3150,  499,    215.4,  -1.8470,  34.2738,2,  34.2720,2,   -999.0,5,   -999.0,9,  -999.00,9,  -999.00,9,  -999.00,9,   -999.0,9,   -999.0,9,   -0.014,2,    0.000,2,   99.789,2
  09AR20141205,AU1402,     1,  1,      0,      6,2,20141225,0821,-66.4182, 120.3150,  499,    215.4,  -1.8469,  34.2737,2,-999.0000,9,   -999.0,5,   -999.0,9,  -999.00,9,  -999.00,9,  -999.00,9,   -999.0,9,   -999.0,9,   -0.013,2,    0.000,2,   99.788,2
  09AR20141205,AU1402,     1,  1,      0,      5,2,20141225,0821,-66.4182, 120.3150,  499,    215.4,  -1.8469,  34.2737,2,  34.2730,2,   -999.0,5,   -999.0,9,  -999.00,9,  -999.00,9,  -999.00,9,   -999.0,9,   -999.0,9,   -0.012,2,    0.000,2,   99.785,2
  09AR20141205,AU1402,     1,  1,      0,      4,2,20141225,0821,-66.4182, 120.3150,  499,    215.4,  -1.8469,  34.2736,2,-999.0000,9,   -999.0,5,   -999.0,9,  -999.00,9,  -999.00,9,  -999.00,9,   -999.0,9,   -999.0,9,   -0.001,2,    0.000,2,   99.766,2
  09AR20141205,AU1402,     1,  1,      0,      3,2,20141225,0821,-66.4182, 120.3150,  499,    215.4,  -1.8469,  34.2736,2,  34.2735,2,   -999.0,5,   -999.0,9,  -999.00,9,  -999.00,9,  -999.00,9,   -999.0,9,   -999.0,9,   -0.002,2,    0.000,2,   99.764,2
  09AR20141205,AU1402,     1,  1,      0,      2,2,20141225,0821,-66.4182, 120.3150,  499,    215.4,  -1.8469,  34.2736,2,-999.0000,9,   -999.0,5,   -999.0,9,  -999.00,9,  -999.00,9,  -999.00,9,   -999.0,9,   -999.0,9,   -0.011,2,    0.000,2,   99.784,2
  09AR20141205,AU1402,     1,  1,      0,      1,2,20141225,0821,-66.4182, 120.3150,  499,    215.4,  -1.8470,  34.2738,2,  34.2739,2,   -999.0,5,   -999.0,9,  -999.00,9,  -999.00,9,  -999.00,9,   -999.0,9,   -999.0,9,   -0.009,2,    0.000,2,   99.786,2
  09AR20141205,AU1402,     2,  1,      0,     24,2,20141225,1131,-66.3672, 120.5278,  503,     11.0,  -1.1421,  34.1998,2,  34.1992,2,    347.6,2,    348.4,2,  -999.00,9,  -999.00,9,  -999.00,9,   2200.0,2,   2309.6,2,    0.498,2,    7.199,2,   96.840,2
  09AR20141205,AU1402,     2,  1,      0,     23,2,20141225,1131,-66.3672, 120.5278,  503,     28.3,  -1.2166,  34.2079,2,-999.0000,9,    347.4,2,   -999.0,9,  -999.00,9,  -999.00,9,  -999.00,9,   -999.0,9,   -999.0,9,    0.605,2,    2.267,2,   96.698,2
  09AR20141205,AU1402,     2,  1,      0,     22,2,20141225,1131,-66.3672, 120.5278,  503,     28.3,  -1.1937,  34.2038,2,-999.0000,9,    347.4,2,   -999.0,9,  -999.00,9,  -999.00,9,  -999.00,9,   -999.0,9,   -999.0,9,    0.617,2,    2.294,2,   96.750,2
  09AR20141205,AU1402,     2,  1,      0,     21,2,20141225,1131,-66.3672, 120.5278,  503,     28.3,  -1.2032,  34.2046,2,  34.2096,2,    347.4,2,    347.8,2,  -999.00,9,  -999.00,9,  -999.00,9,   2200.5,2,   2311.6,6,    0.600,2,    2.298,2,   96.718,2
  09AR20141205,AU1402,     2,  1,      0,     20,2,20141225,1131,-66.3672, 120.5278,  503,     60.8,  -1.3968,  34.2124,2,-999.0000,9,    344.9,2,   -999.0,9,  -999.00,9,  -999.00,9,  -999.00,9,   -999.0,9,   -999.0,9,    0.844,2,    0.435,2,   97.312,2
  09AR20141205,AU1402,     2,  1,      0,     19,2,20141225,1131,-66.3672, 120.5278,  503,     60.8,  -1.3967,  34.2125,2,  34.2133,2,    344.9,2,    345.1,2,  -999.00,9,  -999.00,9,  -999.00,9,   2203.4,2,   2310.2,2,    0.837,2,    0.444,2,   97.297,2
  09AR20141205,AU1402,     2,  1,      0,     18,2,20141225,1131,-66.3672, 120.5278,  503,    101.2,  -1.5483,  34.2242,2,-999.0000,9,    337.0,2,   -999.0,9,  -999.00,9,  -999.00,9,  -999.00,9,   -999.0,9,   -999.0,9,    0.467,2,    0.040,2,   98.613,2
  09AR20141205,AU1402,     2,  1,      0,     17,2,20141225,1131,-66.3672, 120.5278,  503,    101.1,  -1.5629,  34.2252,2,  34.2255,2,    337.0,2,    336.3,2,  -999.00,9,  -999.00,9,  -999.00,9,   2205.3,2,   2305.7,3,    0.463,2,    0.047,2,   98.605,2
  09AR20141205,AU1402,     2,  1,      0,     16,2,20141225,1131,-66.3672, 120.5278,  503,    151.1,  -1.7805,  34.2419,2,-999.0000,9,    328.5,2,   -999.0,9,  -999.00,9,  -999.00,9,  -999.00,9,   -999.0,9,   -999.0,9,    0.225,2,    0.000,2,   99.377,2
  09AR20141205,AU1402,     2,  1,      0,     15,2,20141225,1131,-66.3672, 120.5278,  503,    151.1,  -1.7824,  34.2422,2,  34.2424,2,    328.5,2,    328.5,2,  -999.00,9,  -999.00,9,  -999.00,9,   2210.0,2,   2311.6,2,    0.229,2,    0.000,2,   99.391,2
  09AR20141205,AU1402,     2,  1,      0,     14,2,20141225,1131,-66.3672, 120.5278,  503,    200.4,  -1.8432,  34.2616,2,-999.0000,9,    320.4,2,   -999.0,9,  -999.00,9,  -999.00,9,  -999.00,9,   -999.0,9,   -999.0,9,   -0.026,2,    0.000,2,   99.655,2
  09AR20141205,AU1402,     2,  1,      0,     13,2,20141225,1131,-66.3672, 120.5278,  503,    199.6,  -1.8430,  34.2609,2,  34.2611,2,    320.4,2,    320.5,2,  -999.00,9,  -999.00,9,  -999.00,9,   2212.0,2,   2313.2,2,   -0.027,2,    0.000,2,   99.659,2
  09AR20141205,AU1402,     2,  1,      0,     12,2,20141225,1131,-66.3672, 120.5278,  503,    258.4,  -1.8045,  34.3022,2,-999.0000,9,    315.7,2,   -999.0,9,  -999.00,9,  -999.00,9,  -999.00,9,   -999.0,9,   -999.0,9,   -0.068,2,    0.000,2,   99.734,2
  09AR20141205,AU1402,     2,  1,      0,     11,2,20141225,1131,-66.3672, 120.5278,  503,    258.9,  -1.8040,  34.3023,2,  34.3054,2,    315.7,2,    317.7,2,  -999.00,9,  -999.00,9,  -999.00,9,   2215.7,2,   2316.4,2,   -0.057,2,    0.000,2,   99.736,2
  09AR20141205,AU1402,     2,  1,      0,     10,2,20141225,1131,-66.3672, 120.5278,  503,    321.3,  -1.7063,  34.3333,2,-999.0000,9,    310.9,2,   -999.0,9,  -999.00,9,  -999.00,9,  -999.00,9,   -999.0,9,   -999.0,9,   -0.072,2,    0.000,2,   99.767,2
  09AR20141205,AU1402,     2,  1,      0,      9,2,20141225,1131,-66.3672, 120.5278,  503,    321.2,  -1.7078,  34.3331,2,  34.3397,2,    310.9,2,    311.6,2,  -999.00,9,  -999.00,9,  -999.00,9,   2218.8,2,   2319.7,2,   -0.071,2,    0.000,2,   99.780,2
  09AR20141205,AU1402,     2,  1,      0,      8,2,20141225,1131,-66.3672, 120.5278,  503,    381.6,  -1.4083,  34.3800,2,-999.0000,9,    295.1,2,   -999.0,9,  -999.00,9,  -999.00,9,  -999.00,9,   -999.0,9,   -999.0,9,   -0.079,2,    0.000,2,   99.716,2
  09AR20141205,AU1402,     2,  1,      0,      7,2,20141225,1131,-66.3672, 120.5278,  503,    381.5,  -1.4114,  34.3798,2,  34.3917,2,    295.1,2,    293.4,2,  -999.00,9,  -999.00,9,  -999.00,9,   2224.6,2,   2323.5,2,   -0.082,2,    0.000,2,   99.701,2
  09AR20141205,AU1402,     2,  1,      0,      6,2,20141225,1131,-66.3672, 120.5278,  503,    421.9,  -0.6560,  34.4849,2,-999.0000,9,    266.9,2,   -999.0,9,  -999.00,9,  -999.00,9,  -999.00,9,   -999.0,9,   -999.0,9,   -0.078,2,    0.000,2,   99.619,2
  09AR20141205,AU1402,     2,  1,      0,      5,2,20141225,1131,-66.3672, 120.5278,  503,    421.9,  -0.6541,  34.4850,2,  34.4972,2,    266.9,2,    260.4,2,  -999.00,9,  -999.00,9,  -999.00,9,   2237.8,2,   2332.0,2,   -0.089,2,    0.000,2,   99.622,2
  09AR20141205,AU1402,     2,  1,      0,      4,2,20141225,1131,-66.3672, 120.5278,  503,    440.9,  -0.2710,  34.5356,2,-999.0000,9,    249.3,2,   -999.0,9,  -999.00,9,  -999.00,9,  -999.00,9,   -999.0,9,   -999.0,9,   -0.084,2,    0.000,2,   99.352,2
  09AR20141205,AU1402,     2,  1,      0,      3,2,20141225,1131,-66.3672, 120.5278,  503,    440.9,  -0.2724,  34.5354,2,  34.5333,2,    249.3,2,    249.3,2,  -999.00,9,  -999.00,9,  -999.00,9,   2242.3,2,   2332.3,2,   -0.080,2,    0.000,2,   99.372,2
  09AR20141205,AU1402,     2,  1,      0,      2,2,20141225,1131,-66.3672, 120.5278,  503,    440.8,  -0.2675,  34.5361,2,-999.0000,9,    249.3,2,   -999.0,9,  -999.00,9,  -999.00,9,  -999.00,9,   -999.0,9,   -999.0,9,   -0.080,2,    0.000,2,   99.365,2
  09AR20141205,AU1402,     2,  1,      0,      1,2,20141225,1131,-66.3672, 120.5278,  503,    495.1,   0.0193,  34.5821,2,  34.5832,2,    235.0,2,    235.5,2,  -999.00,9,  -999.00,9,  -999.00,9,   2248.9,2,   2338.4,2,   -0.075,2,    0.000,2,   98.664,2
  09AR20141205,AU1402,     3,  1,      0,     24,2,20141225,1552,-66.7480, 119.9398,  419,      6.5,  -1.1369,  34.1787,2,  34.1810,2,    349.4,2,    349.4,2,  -999.00,9,  -999.00,9,  -999.00,9,   2199.0,2,   2311.1,2,    0.163,2,    4.290,2,   98.171,2
  09AR20141205,AU1402,     3,  1,      0,     23,2,20141225,1552,-66.7480, 119.9398,  419,      6.4,  -1.1290,  34.1783,2,-999.0000,9,    349.4,2,   -999.0,9,  -999.00,9,  -999.00,9,  -999.00,9,   -999.0,9,   -999.0,9,    0.181,2,    4.279,2,   98.168,2
  09AR20141205,AU1402,     3,  1,      0,     22,2,20141225,1552,-66.7480, 119.9398,  419,      6.4,  -1.1418,  34.1794,2,-999.0000,9,    349.4,2,   -999.0,9,  -999.00,9,  -999.00,9,  -999.00,9,   -999.0,9,   -999.0,9,    0.174,2,    4.299,2,   98.171,2
  09AR20141205,AU1402,     3,  1,      0,     21,2,20141225,1552,-66.7480, 119.9398,  419,     21.5,  -1.5867,  34.2043,2,-999.0000,9,    348.8,2,   -999.0,9,  -999.00,9,  -999.00,9,  -999.00,9,   -999.0,9,   -999.0,9,    0.179,2,    1.630,2,   98.586,2
  09AR20141205,AU1402,     3,  1,      0,     20,2,20141225,1552,-66.7480, 119.9398,  419,     21.5,  -1.5867,  34.2043,2,-999.0000,9,    348.8,2,   -999.0,9,  -999.00,9,  -999.00,9,  -999.00,9,   -999.0,9,   -999.0,9,    0.170,2,    1.675,2,   98.564,2
  09AR20141205,AU1402,     3,  1,      0,     19,2,20141225,1552,-66.7480, 119.9398,  419,     21.4,  -1.5878,  34.2044,2,  34.2039,2,    348.8,2,    344.5,2,  -999.00,9,  -999.00,9,  -999.00,9,   2203.2,6,   2310.4,6,    0.135,2,    1.751,2,   98.582,2
  09AR20141205,AU1402,     3,  1,      0,     18,2,20141225,1552,-66.7480, 119.9398,  419,     20.8,  -1.5852,  34.2050,2,-999.0000,9,    349.6,2,   -999.0,9,  -999.00,9,  -999.00,9,  -999.00,9,   -999.0,9,   -999.0,9,    0.130,2,    1.725,2,   98.582,2
  09AR20141205,AU1402,     3,  1,      0,     17,2,20141225,1552,-66.7480, 119.9398,  419,     51.1,  -1.5509,  34.2134,2,  34.2126,2,    344.6,2,    345.0,2,  -999.00,9,  -999.00,9,  -999.00,9,   2203.5,2,   2312.0,6,    0.196,2,    0.455,2,   98.681,2
  09AR20141205,AU1402,     3,  1,      0,     16,2,20141225,1552,-66.7480, 119.9398,  419,     50.9,  -1.5633,  34.2134,2,-999.0000,9,    344.8,2,   -999.0,9,  -999.00,9,  -999.00,9,  -999.00,9,   -999.0,9,   -999.0,9,    0.186,2,    0.466,2,   98.707,2
  09AR20141205,AU1402,     3,  1,      0,     15,2,20141225,1552,-66.7480, 119.9398,  419,     75.6,  -1.6216,  34.2155,2,  34.2138,2,    342.4,2,    343.2,2,  -999.00,9,  -999.00,9,  -999.00,9,   2205.2,2,   2311.9,2,    0.243,2,    0.132,2,   98.791,2
  09AR20141205,AU1402,     3,  1,      0,     14,2,20141225,1552,-66.7480, 119.9398,  419,     75.3,  -1.6396,  34.2158,2,-999.0000,9,    342.4,2,   -999.0,9,  -999.00,9,  -999.00,9,  -999.00,9,   -999.0,9,   -999.0,9,    0.176,2,    0.132,2,   98.833,2
  09AR20141205,AU1402,     3,  1,      0,     13,2,20141225,1552,-66.7480, 119.9398,  419,    100.2,  -1.7009,  34.2178,2,  34.2166,2,    340.6,2,    340.8,2,  -999.00,9,  -999.00,9,  -999.00,9,   2205.8,2,   2310.6,2,    0.271,2,    0.000,2,   99.010,2
  09AR20141205,AU1402,     3,  1,      0,     12,2,20141225,1552,-66.7480, 119.9398,  419,    100.0,  -1.7008,  34.2179,2,-999.0000,9,    340.6,2,   -999.0,9,  -999.00,9,  -999.00,9,  -999.00,9,   -999.0,9,   -999.0,9,    0.237,2,    0.001,2,   99.040,2
  09AR20141205,AU1402,     3,  1,      0,     11,2,20141225,1552,-66.7480, 119.9398,  419,    150.9,  -1.7962,  34.2347,2,  34.2365,2,    333.4,2,    331.5,2,  -999.00,9,  -999.00,9,  -999.00,9,   2211.1,2,   2314.3,2,    0.084,2,    0.000,2,   99.335,2
  09AR20141205,AU1402,     3,  1,      0,     10,2,20141225,1552,-66.7480, 119.9398,  419,    150.7,  -1.7985,  34.2359,2,-999.0000,9,    333.4,2,   -999.0,9,  -999.00,9,  -999.00,9,  -999.00,9,   -999.0,9,   -999.0,9,    0.048,2,    0.000,2,   99.336,2
  09AR20141205,AU1402,     3,  1,      0,      9,2,20141225,1552,-66.7480, 119.9398,  419,    201.5,  -1.8287,  34.2438,2,  34.2437,2,    327.1,2,    327.1,2,  -999.00,9,  -999.00,9,  -999.00,9,   2211.1,2,   2314.6,2,    0.019,2,    0.000,2,   99.463,2
  09AR20141205,AU1402,     3,  1,      0,      8,2,20141225,1552,-66.7480, 119.9398,  419,    201.2,  -1.8284,  34.2437,2,-999.0000,9,    327.1,2,   -999.0,9,  -999.00,9,  -999.00,9,  -999.00,9,   -999.0,9,   -999.0,9,    0.002,2,    0.000,2,   99.478,2
  09AR20141205,AU1402,     3,  1,      0,      7,2,20141225,1552,-66.7480, 119.9398,  419,    300.9,  -1.8467,  34.2694,2,  34.2687,2,    320.2,2,    320.5,2,  -999.00,9,  -999.00,9,  -999.00,9,   2214.8,2,   2314.0,6,   -0.051,2,    0.000,2,   99.633,2
  09AR20141205,AU1402,     3,  1,      0,      6,2,20141225,1552,-66.7480, 119.9398,  419,    300.7,  -1.8468,  34.2695,2,-999.0000,9,    320.2,2,   -999.0,9,  -999.00,9,  -999.00,9,  -999.00,9,   -999.0,9,   -999.0,9,   -0.049,2,    0.000,2,   99.628,2
  09AR20141205,AU1402,     3,  1,      0,      5,2,20141225,1552,-66.7480, 119.9398,  419,    376.3,  -1.8233,  34.2994,2,  34.3014,2,    317.3,2,    316.7,2,  -999.00,9,  -999.00,9,  -999.00,9,   2215.6,2,   2316.3,2,   -0.075,2,    0.000,2,   99.643,2
  09AR20141205,AU1402,     3,  1,      0,      4,2,20141225,1552,-66.7480, 119.9398,  419,    376.1,  -1.8235,  34.2992,2,-999.0000,9,    317.3,2,   -999.0,9,  -999.00,9,  -999.00,9,  -999.00,9,   -999.0,9,   -999.0,9,   -0.074,2,    0.000,2,   99.630,2
  09AR20141205,AU1402,     3,  1,      0,      3,2,20141225,1552,-66.7480, 119.9398,  419,    460.3,  -1.4856,  34.3698,2,  34.3689,2,    302.0,2,    301.5,2,  -999.00,9,  -999.00,9,  -999.00,9,   2224.5,2,   2321.3,2,   -0.084,2,    0.000,2,   99.569,2
  09AR20141205,AU1402,     3,  1,      0,      2,2,20141225,1552,-66.7480, 119.9398,  419,    460.7,  -1.4890,  34.3690,2,-999.0000,9,    302.0,2,   -999.0,9,  -999.00,9,  -999.00,9,  -999.00,9,   -999.0,9,   -999.0,9,   -0.086,2,    0.000,2,   99.563,2
  09AR20141205,AU1402,     3,  1,      0,      1,2,20141225,1552,-66.7480, 119.9398,  419,    500.0,  -1.4188,  34.3794,2,  34.3838,2,    296.9,2,    297.0,2,  -999.00,9,  -999.00,9,  -999.00,9,   2225.2,6,   2323.0,6,   -0.083,2,    0.000,2,   99.504,2