BOTTLE,20210329PRINUNIVRMK
EXPOCODE,SECT_ID,STNNBR,CASTNO,SAMPNO,BTLNBR,BTLNBR_FLAG_W,DATE,TIME,LATITUDE,LONGITUDE,DEPTH,CTDPRS,CTDTMP,CTDSAL,CTDSAL_FLAG_W,SALNTY,SALNTY_FLAG_W,CTDOXY,CTDOXY_FLAG_W,OXYGEN,OXYGEN_FLAG_W,SILCAT,SILCAT_FLAG_W,NITRAT,NITRAT_FLAG_W,PHSPHT,PHSPHT_FLAG_W,TCARBN,TCARBN_FLAG_W,ALKALI,ALKALI_FLAG_W,CTDFLUOR,CTDFLUOR_FLAG_W,CTDPAR,CTDPAR_FLAG_W,CTDXMISS,CTDXMISS_FLAG_W
,,,,,,,,,,,METERS,DBAR,ITS-90,PSS-78,,PSS-78,,UMOL/KG,,UMOL/KG,,UMOL/KG,,UMOL/KG,,UMOL/KG,,UMOL/KG,,UMOL/KG,,MG/M^3,,UEINSTEIN/M^2*SEC,,%TRANS,
  09AR20141205,AU1402,    55,  1,      0,     24,2,20150104,1342,-66.2455, 120.4978,  474,      5.8,  -0.2317,  34.1674,2,  34.1688,2,    349.8,2,    348.9,2,  -999.00,9,  -999.00,9,  -999.00,9,   2193.7,2,   2307.4,2,    0.357,2,    5.977,2,   95.529,2
  09AR20141205,AU1402,    55,  1,      0,     23,2,20150104,1342,-66.2455, 120.4978,  474,      5.8,  -0.2429,  34.1688,2,-999.0000,9,    349.8,2,   -999.0,9,  -999.00,9,  -999.00,9,  -999.00,9,   -999.0,9,   -999.0,9,    0.367,2,    5.972,2,   95.528,2
  09AR20141205,AU1402,    55,  1,      0,     22,2,20150104,1342,-66.2455, 120.4978,  474,      5.8,  -0.2477,  34.1697,2,-999.0000,9,    349.8,2,   -999.0,9,  -999.00,9,  -999.00,9,  -999.00,9,   -999.0,9,   -999.0,9,    0.372,2,    5.982,2,   95.529,2
  09AR20141205,AU1402,    55,  1,      0,     21,2,20150104,1342,-66.2455, 120.4978,  474,      5.7,  -0.2458,  34.1694,2,-999.0000,9,    349.8,2,   -999.0,9,  -999.00,9,  -999.00,9,  -999.00,9,   -999.0,9,   -999.0,9,    0.379,2,    5.998,2,   95.508,2
  09AR20141205,AU1402,    55,  1,      0,     20,2,20150104,1342,-66.2455, 120.4978,  474,     15.7,  -0.2407,  34.1685,2,  34.1768,2,    349.0,2,    351.2,2,  -999.00,9,  -999.00,9,  -999.00,9,   2197.3,2,   2309.6,2,    0.349,2,    3.107,2,   95.523,2
  09AR20141205,AU1402,    55,  1,      0,     19,2,20150104,1342,-66.2455, 120.4978,  474,     15.7,  -0.2643,  34.1682,2,-999.0000,9,    349.0,2,   -999.0,9,  -999.00,9,  -999.00,9,  -999.00,9,   -999.0,9,   -999.0,9,    0.472,2,    3.168,2,   95.533,2
  09AR20141205,AU1402,    55,  1,      0,     18,2,20150104,1342,-66.2455, 120.4978,  474,     55.9,  -1.2688,  34.2025,2,  34.2072,2,    349.6,2,    347.7,2,  -999.00,9,  -999.00,9,  -999.00,9,   2204.5,2,   2311.1,6,    1.471,2,    0.298,2,   95.340,2
  09AR20141205,AU1402,    55,  1,      0,     17,2,20150104,1342,-66.2455, 120.4978,  474,     55.8,  -1.2991,  34.2032,2,-999.0000,9,    349.6,2,   -999.0,9,  -999.00,9,  -999.00,9,  -999.00,9,   -999.0,9,   -999.0,9,    1.586,2,    0.304,2,   95.358,2
  09AR20141205,AU1402,    55,  1,      0,     16,2,20150104,1342,-66.2455, 120.4978,  474,     55.5,  -1.3214,  34.2049,2,-999.0000,9,    349.6,2,   -999.0,9,  -999.00,9,  -999.00,9,  -999.00,9,   -999.0,9,   -999.0,9,    1.245,2,    0.320,2,   96.184,2
  09AR20141205,AU1402,    55,  1,      0,     15,2,20150104,1342,-66.2455, 120.4978,  474,     80.1,  -1.5760,  34.2266,2,  34.2299,2,    341.1,2,    341.0,2,  -999.00,9,  -999.00,9,  -999.00,9,   2204.2,2,   2312.8,2,    0.902,2,    0.030,2,   97.108,2
  09AR20141205,AU1402,    55,  1,      0,     14,2,20150104,1342,-66.2455, 120.4978,  474,     80.1,  -1.5796,  34.2271,2,-999.0000,9,    341.1,2,   -999.0,9,  -999.00,9,  -999.00,9,  -999.00,9,   -999.0,9,   -999.0,9,    0.910,2,    0.029,2,   97.146,2
  09AR20141205,AU1402,    55,  1,      0,     13,2,20150104,1342,-66.2455, 120.4978,  474,     80.0,  -1.5862,  34.2276,2,-999.0000,9,    341.1,2,   -999.0,9,  -999.00,9,  -999.00,9,  -999.00,9,   -999.0,9,   -999.0,9,    0.841,2,    0.032,2,   97.182,2
  09AR20141205,AU1402,    55,  1,      0,     12,2,20150104,1342,-66.2455, 120.4978,  474,     80.0,  -1.5865,  34.2275,2,-999.0000,9,    341.1,2,   -999.0,9,  -999.00,9,  -999.00,9,  -999.00,9,   -999.0,9,   -999.0,9,    0.827,2,    0.033,2,   97.200,2
  09AR20141205,AU1402,    55,  1,      0,     11,2,20150104,1342,-66.2455, 120.4978,  474,    175.8,  -1.8356,  34.2530,2,  34.2554,2,    319.2,2,    321.3,2,  -999.00,9,  -999.00,9,  -999.00,9,   2212.0,2,   2313.3,2,    0.029,2,    0.000,2,   98.486,2
  09AR20141205,AU1402,    55,  1,      0,     10,2,20150104,1342,-66.2455, 120.4978,  474,    175.5,  -1.8349,  34.2543,2,-999.0000,9,    319.2,2,   -999.0,9,  -999.00,9,  -999.00,9,  -999.00,9,   -999.0,9,   -999.0,9,    0.010,2,    0.001,2,   98.504,2
  09AR20141205,AU1402,    55,  1,      0,      9,2,20150104,1342,-66.2455, 120.4978,  474,    275.6,  -1.8214,  34.2985,2,-999.0000,9,    312.2,2,    318.8,2,  -999.00,9,  -999.00,9,  -999.00,9,   2215.2,2,   2316.7,2,   -0.064,2,    0.000,2,   98.663,2
  09AR20141205,AU1402,    55,  1,      0,      8,2,20150104,1342,-66.2455, 120.4978,  474,    275.5,  -1.8227,  34.2988,2,-999.0000,9,    312.2,2,   -999.0,9,  -999.00,9,  -999.00,9,  -999.00,9,   -999.0,9,   -999.0,9,   -0.061,2,    0.000,2,   98.643,2
  09AR20141205,AU1402,    55,  1,      0,      7,2,20150104,1342,-66.2455, 120.4978,  474,    275.5,  -1.8279,  34.2987,2,-999.0000,9,    312.2,2,   -999.0,9,  -999.00,9,  -999.00,9,  -999.00,9,   -999.0,9,   -999.0,9,   -0.069,2,    0.000,2,   98.666,2
  09AR20141205,AU1402,    55,  1,      0,      6,2,20150104,1342,-66.2455, 120.4978,  474,    275.3,  -1.8328,  34.2992,2,-999.0000,9,    312.2,2,   -999.0,9,  -999.00,9,  -999.00,9,  -999.00,9,   -999.0,9,   -999.0,9,   -0.071,2,    0.000,2,   98.681,2
  09AR20141205,AU1402,    55,  1,      0,      5,2,20150104,1342,-66.2455, 120.4978,  474,    375.7,  -1.4568,  34.3787,2,  34.3880,2,    296.9,2,    295.9,2,  -999.00,9,  -999.00,9,  -999.00,9,   2226.6,2,   2322.7,6,   -0.087,2,    0.000,2,   98.706,2
  09AR20141205,AU1402,    55,  1,      0,      4,2,20150104,1342,-66.2455, 120.4978,  474,    375.4,  -1.4063,  34.3844,2,-999.0000,9,    296.9,2,   -999.0,9,  -999.00,9,  -999.00,9,  -999.00,9,   -999.0,9,   -999.0,9,   -0.084,2,    0.000,2,   98.706,2
  09AR20141205,AU1402,    55,  1,      0,      3,2,20150104,1342,-66.2455, 120.4978,  474,    430.2,  -0.7280,  34.4744,2,  34.4811,2,    267.9,2,    264.2,2,  -999.00,9,  -999.00,9,  -999.00,9,   2237.8,2,   2330.6,2,   -0.085,2,    0.000,2,   98.291,2
  09AR20141205,AU1402,    55,  1,      0,      2,2,20150104,1342,-66.2455, 120.4978,  474,    472.6,  -0.2378,  34.5413,2,-999.0000,9,    246.4,2,   -999.0,9,  -999.00,9,  -999.00,9,  -999.00,9,   -999.0,9,   -999.0,9,   -0.078,2,    0.000,2,   97.584,2
  09AR20141205,AU1402,    55,  1,      0,      1,2,20150104,1342,-66.2455, 120.4978,  474,    472.5,  -0.2387,  34.5412,2,  34.5409,2,    246.4,2,    247.1,2,  -999.00,9,  -999.00,9,  -999.00,9,   2247.8,2,   2334.2,2,   -0.078,2,    0.000,2,   97.603,2
  09AR20141205,AU1402,    56,  1,      0,     24,2,20150104,1524,-66.3038, 120.3093,  440,      7.6,  -0.3400,  34.2037,2,-999.0000,9,    349.3,2,   -999.0,9,  -999.00,9,  -999.00,9,  -999.00,9,   -999.0,9,   -999.0,9,    0.458,2,    1.669,2,   95.157,2
  09AR20141205,AU1402,    56,  1,      0,     23,2,20150104,1524,-66.3038, 120.3093,  440,      7.5,  -0.3485,  34.2036,2,-999.0000,9,    349.3,2,   -999.0,9,  -999.00,9,  -999.00,9,  -999.00,9,   -999.0,9,   -999.0,9,    0.468,2,    1.666,2,   95.173,2
  09AR20141205,AU1402,    56,  1,      0,     22,2,20150104,1524,-66.3038, 120.3093,  440,      7.5,  -0.3787,  34.2047,2,-999.0000,9,    349.3,2,   -999.0,9,  -999.00,9,  -999.00,9,  -999.00,9,   -999.0,9,   -999.0,9,    0.475,2,    1.677,2,   95.131,2
  09AR20141205,AU1402,    56,  1,      0,     21,2,20150104,1524,-66.3038, 120.3093,  440,      7.5,  -0.3831,  34.2048,2,  34.2089,2,    349.3,2,    351.7,2,  -999.00,9,    28.08,2,     1.94,3,   2195.7,2,   2312.0,2,    0.472,2,    1.697,2,   95.090,2
  09AR20141205,AU1402,    56,  1,      0,     20,2,20150104,1524,-66.3038, 120.3093,  440,      7.4,  -0.3973,  34.2041,2,-999.0000,9,    349.3,2,   -999.0,9,  -999.00,9,  -999.00,9,  -999.00,9,   -999.0,9,   -999.0,9,    0.472,2,    1.707,2,   95.068,2
  09AR20141205,AU1402,    56,  1,      0,     19,2,20150104,1524,-66.3038, 120.3093,  440,     15.0,  -0.5498,  34.2096,2,  34.2146,2,    348.8,2,    351.1,2,  -999.00,9,    28.21,2,     1.95,3,   2200.1,6,   2313.7,6,    0.619,2,    0.971,2,   94.888,2
  09AR20141205,AU1402,    56,  1,      0,     18,2,20150104,1524,-66.3038, 120.3093,  440,     15.0,  -0.6702,  34.2123,2,-999.0000,9,    349.1,2,   -999.0,9,  -999.00,9,  -999.00,9,  -999.00,9,   -999.0,9,   -999.0,9,    0.575,2,    0.974,2,   94.772,2
  09AR20141205,AU1402,    56,  1,      0,     17,2,20150104,1524,-66.3038, 120.3093,  440,     45.0,  -1.1797,  34.2183,2,-999.0000,9,    347.8,2,   -999.0,9,  -999.00,9,  -999.00,9,  -999.00,9,   -999.0,9,   -999.0,9,    1.328,2,    0.097,2,   94.991,2
  09AR20141205,AU1402,    56,  1,      0,     16,2,20150104,1524,-66.3038, 120.3093,  440,     44.9,  -1.1791,  34.2185,2,-999.0000,9,    347.8,2,   -999.0,9,  -999.00,9,  -999.00,9,  -999.00,9,   -999.0,9,   -999.0,9,    1.363,2,    0.098,2,   95.004,2
  09AR20141205,AU1402,    56,  1,      0,     15,2,20150104,1524,-66.3038, 120.3093,  440,     60.5,  -1.2381,  34.2223,2,  34.2238,2,    343.3,2,    341.0,2,  -999.00,9,    29.00,2,     2.00,3,   2205.4,2,   2313.0,2,    1.066,2,    0.001,2,   96.095,2
  09AR20141205,AU1402,    56,  1,      0,     14,2,20150104,1524,-66.3038, 120.3093,  440,     60.5,  -1.2391,  34.2219,2,-999.0000,9,    343.3,2,   -999.0,9,  -999.00,9,  -999.00,9,  -999.00,9,   -999.0,9,   -999.0,9,    1.109,2,    0.001,2,   96.087,2
  09AR20141205,AU1402,    56,  1,      0,     13,2,20150104,1524,-66.3038, 120.3093,  440,     60.5,  -1.2355,  34.2218,2,-999.0000,9,    343.3,2,   -999.0,9,  -999.00,9,  -999.00,9,  -999.00,9,   -999.0,9,   -999.0,9,    1.120,2,    0.001,2,   96.062,2
  09AR20141205,AU1402,    56,  1,      0,     12,2,20150104,1524,-66.3038, 120.3093,  440,     60.4,  -1.2338,  34.2218,2,-999.0000,9,    343.3,2,   -999.0,9,  -999.00,9,  -999.00,9,  -999.00,9,   -999.0,9,   -999.0,9,    1.128,2,    0.001,2,   96.090,2
  09AR20141205,AU1402,    56,  1,      0,     11,2,20150104,1524,-66.3038, 120.3093,  440,     80.9,  -1.6076,  34.2301,2,  34.2317,2,    331.0,2,    328.7,2,  -999.00,9,    29.68,2,     1.98,3,   2210.3,2,   2312.7,2,    1.067,2,    0.001,2,   96.614,2
  09AR20141205,AU1402,    56,  1,      0,     10,2,20150104,1524,-66.3038, 120.3093,  440,     80.8,  -1.6078,  34.2299,2,-999.0000,9,    331.0,2,   -999.0,9,  -999.00,9,  -999.00,9,  -999.00,9,   -999.0,9,   -999.0,9,    1.041,2,    0.001,2,   96.621,2
  09AR20141205,AU1402,    56,  1,      0,      9,2,20150104,1524,-66.3038, 120.3093,  440,     80.8,  -1.6075,  34.2300,2,-999.0000,9,    331.0,2,   -999.0,9,  -999.00,9,  -999.00,9,  -999.00,9,   -999.0,9,   -999.0,9,    1.040,2,    0.001,2,   96.631,2
  09AR20141205,AU1402,    56,  1,      0,      8,2,20150104,1524,-66.3038, 120.3093,  440,     80.8,  -1.6070,  34.2300,2,-999.0000,9,    331.0,2,   -999.0,9,  -999.00,9,  -999.00,9,  -999.00,9,   -999.0,9,   -999.0,9,    1.067,2,    0.001,2,   96.627,2
  09AR20141205,AU1402,    56,  1,      0,      7,2,20150104,1524,-66.3038, 120.3093,  440,    175.4,  -1.8895,  34.2375,2,  34.2432,2,    312.4,2,    315.4,2,  -999.00,9,  -999.00,9,  -999.00,9,   2213.7,2,   2316.5,2,   -0.054,2,    0.000,2,   98.399,2
  09AR20141205,AU1402,    56,  1,      0,      6,2,20150104,1524,-66.3038, 120.3093,  440,    175.3,  -1.8896,  34.2375,2,-999.0000,9,    312.4,2,   -999.0,9,  -999.00,9,  -999.00,9,  -999.00,9,   -999.0,9,   -999.0,9,   -0.050,2,    0.000,2,   98.406,2
  09AR20141205,AU1402,    56,  1,      0,      5,2,20150104,1524,-66.3038, 120.3093,  440,    300.7,  -1.8267,  34.2818,2,  34.2920,2,    314.5,2,    314.0,2,  -999.00,9,    30.36,2,  -999.00,9,   -999.0,9,   2314.6,2,   -0.069,2,    0.000,2,   98.320,2
  09AR20141205,AU1402,    56,  1,      0,      4,2,20150104,1524,-66.3038, 120.3093,  440,    300.7,  -1.8260,  34.2820,2,-999.0000,9,    314.5,2,   -999.0,9,  -999.00,9,  -999.00,9,  -999.00,9,   -999.0,9,   -999.0,9,   -0.073,2,    0.000,2,   98.306,2
  09AR20141205,AU1402,    56,  1,      0,      3,2,20150104,1524,-66.3038, 120.3093,  440,    375.4,  -1.4528,  34.3792,2,  34.3903,2,    300.6,2,    294.0,2,  -999.00,9,  -999.00,9,  -999.00,9,   2229.1,2,   2323.5,6,   -0.084,2,    0.000,2,   98.704,2
  09AR20141205,AU1402,    56,  1,      0,      2,2,20150104,1524,-66.3038, 120.3093,  440,    375.8,  -1.4543,  34.3794,2,-999.0000,9,    300.6,2,   -999.0,9,  -999.00,9,  -999.00,9,  -999.00,9,   -999.0,9,   -999.0,9,   -0.080,2,    0.000,2,   98.715,2
  09AR20141205,AU1402,    56,  1,      0,      1,2,20150104,1524,-66.3038, 120.3093,  440,    441.1,  -0.2654,  34.5371,2,  34.5315,2,    250.2,2,    249.8,2,  -999.00,9,    31.68,2,     2.03,3,   2242.7,2,   2332.3,2,   -0.085,2,    0.000,2,   97.739,2
  09AR20141205,AU1402,    57,  1,      0,     24,2,20150104,1704,-66.3510, 120.1517,  521,      7.7,  -0.7699,  34.1586,2,  34.1631,2,    350.7,2,    352.9,2,  -999.00,9,  -999.00,9,  -999.00,9,   2194.3,2,   2309.7,2,    0.463,2,    4.661,2,   94.977,2
  09AR20141205,AU1402,    57,  1,      0,     23,2,20150104,1704,-66.3510, 120.1517,  521,      7.7,  -0.7739,  34.1583,2,-999.0000,9,    350.7,2,   -999.0,9,  -999.00,9,  -999.00,9,  -999.00,9,   -999.0,9,   -999.0,9,    0.489,2,    4.656,2,   94.994,2
  09AR20141205,AU1402,    57,  1,      0,     22,2,20150104,1704,-66.3510, 120.1517,  521,      7.7,  -0.7742,  34.1581,2,-999.0000,9,    350.7,2,   -999.0,9,  -999.00,9,  -999.00,9,  -999.00,9,   -999.0,9,   -999.0,9,    0.504,2,    4.658,2,   94.944,2
  09AR20141205,AU1402,    57,  1,      0,     21,2,20150104,1704,-66.3510, 120.1517,  521,      7.6,  -0.7680,  34.1569,2,-999.0000,9,    350.7,2,   -999.0,9,  -999.00,9,  -999.00,9,  -999.00,9,   -999.0,9,   -999.0,9,    0.502,2,    4.657,2,   95.005,2
  09AR20141205,AU1402,    57,  1,      0,     20,2,20150104,1704,-66.3510, 120.1517,  521,     15.4,  -0.9825,  34.1771,2,-999.0000,9,    351.8,2,    353.1,2,  -999.00,9,  -999.00,9,  -999.00,9,   2195.6,2,   2308.6,2,    0.767,2,    2.549,2,   94.562,2
  09AR20141205,AU1402,    57,  1,      0,     19,2,20150104,1704,-66.3510, 120.1517,  521,     15.3,  -0.9884,  34.1782,2,-999.0000,9,    351.8,2,   -999.0,9,  -999.00,9,  -999.00,9,  -999.00,9,   -999.0,9,   -999.0,9,    0.734,2,    2.560,2,   94.578,2
  09AR20141205,AU1402,    57,  1,      0,     18,2,20150104,1704,-66.3510, 120.1517,  521,     50.8,  -1.3418,  34.2034,2,  34.2068,2,    350.8,2,    349.0,2,  -999.00,9,  -999.00,9,  -999.00,9,   2200.0,6,   2313.5,6,    1.574,2,    0.286,2,   94.579,2
  09AR20141205,AU1402,    57,  1,      0,     17,2,20150104,1704,-66.3510, 120.1517,  521,     50.7,  -1.3525,  34.2042,2,-999.0000,9,    350.8,2,   -999.0,9,  -999.00,9,  -999.00,9,  -999.00,9,   -999.0,9,   -999.0,9,    1.615,2,    0.289,2,   94.457,2
  09AR20141205,AU1402,    57,  1,      0,     16,2,20150104,1704,-66.3510, 120.1517,  521,     50.7,  -1.3392,  34.2025,2,-999.0000,9,    350.8,2,   -999.0,9,  -999.00,9,  -999.00,9,  -999.00,9,   -999.0,9,   -999.0,9,    1.676,2,    0.289,2,   94.365,2
  09AR20141205,AU1402,    57,  1,      0,     15,2,20150104,1704,-66.3510, 120.1517,  521,     80.7,  -1.6568,  34.2315,2,-999.0000,9,    341.6,2,   -999.0,9,  -999.00,9,  -999.00,9,  -999.00,9,   -999.0,9,   -999.0,9,    0.687,2,    0.001,2,   97.466,2
  09AR20141205,AU1402,    57,  1,      0,     14,2,20150104,1704,-66.3510, 120.1517,  521,     80.6,  -1.6696,  34.2325,2,-999.0000,9,    341.6,2,   -999.0,9,  -999.00,9,  -999.00,9,  -999.00,9,   -999.0,9,   -999.0,9,    0.554,2,    0.001,2,   97.621,2
  09AR20141205,AU1402,    57,  1,      0,     13,2,20150104,1704,-66.3510, 120.1517,  521,    101.0,  -1.7340,  34.2366,2,-999.0000,9,    334.2,2,   -999.0,9,  -999.00,9,  -999.00,9,  -999.00,9,   -999.0,9,   -999.0,9,    0.497,2,    0.001,2,   97.830,2
  09AR20141205,AU1402,    57,  1,      0,     12,2,20150104,1704,-66.3510, 120.1517,  521,    101.0,  -1.7339,  34.2368,2,-999.0000,9,    334.9,2,   -999.0,9,  -999.00,9,  -999.00,9,  -999.00,9,   -999.0,9,   -999.0,9,    0.498,2,    0.001,2,   97.819,2
  09AR20141205,AU1402,    57,  1,      0,     11,2,20150104,1704,-66.3510, 120.1517,  521,    100.9,  -1.7587,  34.2379,2,  34.2405,2,    334.9,2,    326.0,2,  -999.00,9,  -999.00,9,  -999.00,9,   2211.2,2,   2313.9,2,    0.479,2,    0.001,2,   97.894,2
  09AR20141205,AU1402,    57,  1,      0,     10,2,20150104,1704,-66.3510, 120.1517,  521,    100.8,  -1.7526,  34.2376,2,-999.0000,9,    334.9,2,   -999.0,9,  -999.00,9,  -999.00,9,  -999.00,9,   -999.0,9,   -999.0,9,    0.469,2,    0.001,2,   97.960,2
  09AR20141205,AU1402,    57,  1,      0,      9,2,20150104,1704,-66.3510, 120.1517,  521,    150.8,  -1.8345,  34.2546,2,  34.2591,2,    311.9,2,    312.5,2,  -999.00,9,  -999.00,9,  -999.00,9,   2215.8,2,   2316.3,2,    0.102,2,    0.001,2,   98.432,2
  09AR20141205,AU1402,    57,  1,      0,      8,2,20150104,1704,-66.3510, 120.1517,  521,    150.7,  -1.8342,  34.2546,2,-999.0000,9,    311.9,2,   -999.0,9,  -999.00,9,  -999.00,9,  -999.00,9,   -999.0,9,   -999.0,9,    0.098,2,    0.001,2,   98.425,2
  09AR20141205,AU1402,    57,  1,      0,      7,2,20150104,1704,-66.3510, 120.1517,  521,    251.2,  -1.8015,  34.2902,2,  34.2935,2,    315.0,2,    316.2,2,  -999.00,9,  -999.00,9,  -999.00,9,   2218.3,2,   2317.4,2,   -0.079,2,    0.000,2,   98.769,2
  09AR20141205,AU1402,    57,  1,      0,      6,2,20150104,1704,-66.3510, 120.1517,  521,    251.2,  -1.8042,  34.2904,2,-999.0000,9,    315.0,2,   -999.0,9,  -999.00,9,  -999.00,9,  -999.00,9,   -999.0,9,   -999.0,9,   -0.082,2,    0.000,2,   98.764,2
  09AR20141205,AU1402,    57,  1,      0,      5,2,20150104,1704,-66.3510, 120.1517,  521,    351.2,  -1.8417,  34.3071,2,  34.3075,2,    317.8,2,    318.0,2,  -999.00,9,  -999.00,9,  -999.00,9,   2217.6,2,   2320.2,2,   -0.088,2,    0.000,2,   98.769,2
  09AR20141205,AU1402,    57,  1,      0,      4,2,20150104,1704,-66.3510, 120.1517,  521,    351.1,  -1.8422,  34.3070,2,-999.0000,9,    317.8,2,   -999.0,9,  -999.00,9,  -999.00,9,  -999.00,9,   -999.0,9,   -999.0,9,   -0.091,2,    0.000,2,   98.756,2
  09AR20141205,AU1402,    57,  1,      0,      3,2,20150104,1704,-66.3510, 120.1517,  521,    450.6,  -1.7159,  34.3466,2,  34.3562,2,    313.4,2,    306.9,2,  -999.00,9,  -999.00,9,  -999.00,9,   2222.9,2,   2321.7,6,   -0.092,2,    0.000,2,   98.782,2
  09AR20141205,AU1402,    57,  1,      0,      2,2,20150104,1704,-66.3510, 120.1517,  521,    450.5,  -1.7090,  34.3472,2,-999.0000,9,    313.4,2,   -999.0,9,  -999.00,9,  -999.00,9,  -999.00,9,   -999.0,9,   -999.0,9,   -0.096,2,    0.000,2,   98.778,2
  09AR20141205,AU1402,    57,  1,      0,      1,2,20150104,1704,-66.3510, 120.1517,  521,    521.7,  -0.2131,  34.5412,2,  34.5403,2,    246.7,2,    246.4,2,  -999.00,9,  -999.00,9,  -999.00,9,   2244.6,2,   2332.5,2,   -0.090,2,    0.000,2,   97.959,2