BOTTLE,20210329PRINUNIVRMK
EXPOCODE,SECT_ID,STNNBR,CASTNO,SAMPNO,BTLNBR,BTLNBR_FLAG_W,DATE,TIME,LATITUDE,LONGITUDE,DEPTH,CTDPRS,CTDTMP,CTDSAL,CTDSAL_FLAG_W,SALNTY,SALNTY_FLAG_W,CTDOXY,CTDOXY_FLAG_W,OXYGEN,OXYGEN_FLAG_W,SILCAT,SILCAT_FLAG_W,NITRAT,NITRAT_FLAG_W,PHSPHT,PHSPHT_FLAG_W,TCARBN,TCARBN_FLAG_W,ALKALI,ALKALI_FLAG_W,CTDFLUOR,CTDFLUOR_FLAG_W,CTDPAR,CTDPAR_FLAG_W,CTDXMISS,CTDXMISS_FLAG_W
,,,,,,,,,,,METERS,DBAR,ITS-90,PSS-78,,PSS-78,,UMOL/KG,,UMOL/KG,,UMOL/KG,,UMOL/KG,,UMOL/KG,,UMOL/KG,,UMOL/KG,,MG/M^3,,UEINSTEIN/M^2*SEC,,%TRANS,
  09AR20141205,AU1402,    73,  1,      0,     24,2,20150107,1139,-66.8595, 119.7488,  407,      7.7,  -0.2537,  34.1872,2,  34.1845,2,    350.9,2,    350.9,2,  -999.00,9,  -999.00,9,  -999.00,9,   2196.6,2,   2311.4,2,    0.324,2,   58.290,2,   95.487,2
  09AR20141205,AU1402,    73,  1,      0,     23,2,20150107,1139,-66.8595, 119.7488,  407,      7.6,  -0.2523,  34.1883,2,-999.0000,9,    350.9,2,   -999.0,9,  -999.00,9,  -999.00,9,  -999.00,9,   -999.0,9,   -999.0,9,    0.323,2,   63.190,2,   95.491,2
  09AR20141205,AU1402,    73,  1,      0,     22,2,20150107,1139,-66.8595, 119.7488,  407,      7.6,  -0.2532,  34.1879,2,-999.0000,9,    350.9,2,   -999.0,9,  -999.00,9,  -999.00,9,  -999.00,9,   -999.0,9,   -999.0,9,    0.310,2,   66.040,2,   95.486,2
  09AR20141205,AU1402,    73,  1,      0,     21,2,20150107,1139,-66.8595, 119.7488,  407,      7.6,  -0.2586,  34.1785,2,-999.0000,9,    350.9,2,   -999.0,9,  -999.00,9,  -999.00,9,  -999.00,9,   -999.0,9,   -999.0,9,    0.291,2,   64.670,2,   95.400,2
  09AR20141205,AU1402,    73,  1,      0,     20,2,20150107,1139,-66.8595, 119.7488,  407,     20.4,  -0.2759,  34.1988,2,  34.1987,2,    351.3,2,    350.8,2,  -999.00,9,  -999.00,9,  -999.00,9,   2194.8,2,   2310.5,2,    0.332,2,   23.200,2,   95.564,2
  09AR20141205,AU1402,    73,  1,      0,     19,2,20150107,1139,-66.8595, 119.7488,  407,     20.4,  -0.2743,  34.1976,2,-999.0000,9,    351.3,2,   -999.0,9,  -999.00,9,  -999.00,9,  -999.00,9,   -999.0,9,   -999.0,9,    0.341,2,   23.350,2,   95.586,2
  09AR20141205,AU1402,    73,  1,      0,     18,2,20150107,1139,-66.8595, 119.7488,  407,     40.9,  -0.2675,  34.2088,2,  34.2099,2,    351.9,2,   -999.0,9,  -999.00,9,  -999.00,9,  -999.00,9,   2196.6,2,   2315.0,2,    0.418,2,    6.978,2,   95.466,2
  09AR20141205,AU1402,    73,  1,      0,     17,2,20150107,1139,-66.8595, 119.7488,  407,     40.8,  -0.2677,  34.2085,2,-999.0000,9,    351.9,2,   -999.0,9,  -999.00,9,  -999.00,9,  -999.00,9,   -999.0,9,   -999.0,9,    0.416,2,    6.995,2,   95.437,2
  09AR20141205,AU1402,    73,  1,      0,     16,2,20150107,1139,-66.8595, 119.7488,  407,     40.8,  -0.2678,  34.2084,2,-999.0000,9,    351.9,2,   -999.0,9,  -999.00,9,  -999.00,9,  -999.00,9,   -999.0,9,   -999.0,9,    0.415,2,    7.023,2,   95.439,2
  09AR20141205,AU1402,    73,  1,      0,     15,2,20150107,1139,-66.8595, 119.7488,  407,     75.4,  -1.1946,  34.2158,2,-999.0000,9,    343.8,2,    343.1,2,  -999.00,9,  -999.00,9,  -999.00,9,   2203.5,2,   2313.3,2,    0.536,2,    1.245,2,   96.796,2
  09AR20141205,AU1402,    73,  1,      0,     14,2,20150107,1139,-66.8595, 119.7488,  407,     75.4,  -1.2007,  34.2160,2,-999.0000,9,    343.8,2,   -999.0,9,  -999.00,9,  -999.00,9,  -999.00,9,   -999.0,9,   -999.0,9,    0.539,2,    1.242,2,   96.781,2
  09AR20141205,AU1402,    73,  1,      0,     13,2,20150107,1139,-66.8595, 119.7488,  407,     75.4,  -1.2001,  34.2165,2,-999.0000,9,    343.8,2,   -999.0,9,  -999.00,9,  -999.00,9,  -999.00,9,   -999.0,9,   -999.0,9,    0.553,2,    1.241,2,   96.816,2
  09AR20141205,AU1402,    73,  1,      0,     12,2,20150107,1139,-66.8595, 119.7488,  407,     75.1,  -1.1751,  34.2152,2,-999.0000,9,    343.8,2,   -999.0,9,  -999.00,9,  -999.00,9,  -999.00,9,   -999.0,9,   -999.0,9,    0.496,2,    1.271,2,   96.735,2
  09AR20141205,AU1402,    73,  1,      0,     11,2,20150107,1139,-66.8595, 119.7488,  407,    101.1,  -1.4664,  34.2240,2,  34.2249,2,    335.6,2,    335.8,2,  -999.00,9,  -999.00,9,  -999.00,9,   2207.3,2,   2313.5,2,    0.280,2,    0.354,2,   97.659,2
  09AR20141205,AU1402,    73,  1,      0,     10,2,20150107,1139,-66.8595, 119.7488,  407,    101.1,  -1.4632,  34.2243,2,-999.0000,9,    335.6,2,   -999.0,9,  -999.00,9,  -999.00,9,  -999.00,9,   -999.0,9,   -999.0,9,    0.280,2,    0.353,2,   97.662,2
  09AR20141205,AU1402,    73,  1,      0,      9,2,20150107,1139,-66.8595, 119.7488,  407,    101.0,  -1.4618,  34.2244,2,-999.0000,9,    335.6,2,   -999.0,9,  -999.00,9,  -999.00,9,  -999.00,9,   -999.0,9,   -999.0,9,    0.258,2,    0.355,2,   97.664,2
  09AR20141205,AU1402,    73,  1,      0,      8,2,20150107,1139,-66.8595, 119.7488,  407,    181.9,  -1.9448,  34.2270,2,-999.0000,9,    311.1,2,   -999.0,9,  -999.00,9,  -999.00,9,  -999.00,9,   -999.0,9,   -999.0,9,   -0.076,2,    0.000,2,   97.994,2
  09AR20141205,AU1402,    73,  1,      0,      7,2,20150107,1139,-66.8595, 119.7488,  407,    181.8,  -1.9472,  34.2272,2,  34.2257,2,    311.1,2,    309.9,2,  -999.00,9,  -999.00,9,  -999.00,9,   2214.3,2,   2311.5,6,   -0.083,2,    0.000,2,   97.987,2
  09AR20141205,AU1402,    73,  1,      0,      6,2,20150107,1139,-66.8595, 119.7488,  407,    330.8,  -1.9513,  34.2324,2,-999.0000,9,    309.4,2,   -999.0,9,  -999.00,9,  -999.00,9,  -999.00,9,   -999.0,9,   -999.0,9,   -0.096,2,    0.000,2,   97.850,2
  09AR20141205,AU1402,    73,  1,      0,      5,2,20150107,1139,-66.8595, 119.7488,  407,    330.8,  -1.9512,  34.2324,2,  34.2329,2,    309.4,2,    309.4,2,  -999.00,9,  -999.00,9,  -999.00,9,   2215.0,2,   2312.6,2,   -0.093,2,    0.000,2,   97.864,2
  09AR20141205,AU1402,    73,  1,      0,      4,2,20150107,1139,-66.8595, 119.7488,  407,    427.7,  -1.7761,  34.2994,2,-999.0000,9,    311.7,2,   -999.0,9,  -999.00,9,  -999.00,9,  -999.00,9,   -999.0,9,   -999.0,9,   -0.082,2,    0.000,2,   98.075,2
  09AR20141205,AU1402,    73,  1,      0,      3,2,20150107,1139,-66.8595, 119.7488,  407,    427.7,  -1.7757,  34.2996,2,  34.2989,2,    311.7,2,    311.6,2,  -999.00,9,  -999.00,9,  -999.00,9,   2219.0,6,   2317.3,6,   -0.080,2,    0.000,2,   98.066,2
  09AR20141205,AU1402,    73,  1,      0,      2,2,20150107,1139,-66.8595, 119.7488,  407,    472.9,  -1.7483,  34.3134,2,-999.0000,9,    310.7,2,   -999.0,9,  -999.00,9,  -999.00,9,  -999.00,9,   -999.0,9,   -999.0,9,   -0.077,2,    0.000,2,   97.759,2
  09AR20141205,AU1402,    73,  1,      0,      1,2,20150107,1139,-66.8595, 119.7488,  407,    477.7,  -1.7437,  34.3161,2,  34.3127,2,    310.6,2,    310.9,2,  -999.00,9,  -999.00,9,  -999.00,9,   2219.0,2,   2317.2,2,   -0.080,2,    0.000,2,   97.857,2
  09AR20141205,AU1402,    74,  1,      0,     24,2,20150107,1350,-66.7280, 119.8103,  710,      7.7,  -0.5232,  34.1306,2,-999.0000,9,    354.7,2,   -999.0,9,  -999.00,9,  -999.00,9,  -999.00,9,   -999.0,9,   -999.0,9,    0.772,2,    7.336,2,   93.260,2
  09AR20141205,AU1402,    74,  1,      0,     23,2,20150107,1350,-66.7280, 119.8103,  710,      7.7,  -0.5292,  34.1303,2,-999.0000,9,    354.7,2,   -999.0,9,  -999.00,9,  -999.00,9,  -999.00,9,   -999.0,9,   -999.0,9,    0.774,2,    7.304,2,   93.260,2
  09AR20141205,AU1402,    74,  1,      0,     22,2,20150107,1350,-66.7280, 119.8103,  710,      7.7,  -0.5417,  34.1277,2,-999.0000,9,    354.7,2,   -999.0,9,  -999.00,9,  -999.00,9,  -999.00,9,   -999.0,9,   -999.0,9,    0.742,2,    7.268,2,   93.224,2
  09AR20141205,AU1402,    74,  1,      0,     21,2,20150107,1350,-66.7280, 119.8103,  710,      7.6,  -0.5344,  34.1285,2,  34.1309,2,    354.7,2,    354.7,2,  -999.00,9,    27.83,2,     1.91,3,   2190.6,2,   2308.6,2,    0.811,2,    7.131,2,   93.217,2
  09AR20141205,AU1402,    74,  1,      0,     20,2,20150107,1350,-66.7280, 119.8103,  710,     31.3,  -0.4446,  34.1619,2,-999.0000,9,    354.5,2,   -999.0,9,  -999.00,9,  -999.00,9,  -999.00,9,   -999.0,9,   -999.0,9,    0.971,2,    1.142,2,   93.679,2
  09AR20141205,AU1402,    74,  1,      0,     19,2,20150107,1350,-66.7280, 119.8103,  710,     31.3,  -0.4436,  34.1622,2,  34.1750,2,    354.5,2,    354.2,2,  -999.00,9,  -999.00,9,  -999.00,9,   2194.5,2,   2310.7,2,    0.839,2,    1.148,2,   93.674,2
  09AR20141205,AU1402,    74,  1,      0,     18,2,20150107,1350,-66.7280, 119.8103,  710,     50.9,  -0.6205,  34.1929,2,-999.0000,9,    353.6,2,   -999.0,9,  -999.00,9,  -999.00,9,  -999.00,9,   -999.0,9,   -999.0,9,    0.974,2,    0.339,2,   94.952,2
  09AR20141205,AU1402,    74,  1,      0,     17,2,20150107,1350,-66.7280, 119.8103,  710,     50.9,  -0.6096,  34.1934,2,  34.1972,2,    353.6,2,    353.3,2,  -999.00,9,    27.84,2,     1.92,3,   2196.3,2,   2311.2,2,    0.980,2,    0.340,2,   94.936,2
  09AR20141205,AU1402,    74,  1,      0,     16,2,20150107,1350,-66.7280, 119.8103,  710,     70.7,  -1.1466,  34.2068,2,-999.0000,9,    350.4,2,   -999.0,9,  -999.00,9,  -999.00,9,  -999.00,9,   -999.0,9,   -999.0,9,    1.410,2,    0.066,2,   95.997,2
  09AR20141205,AU1402,    74,  1,      0,     15,2,20150107,1350,-66.7280, 119.8103,  710,     70.7,  -1.1293,  34.2053,2,-999.0000,9,    350.4,2,   -999.0,9,  -999.00,9,  -999.00,9,  -999.00,9,   -999.0,9,   -999.0,9,    1.433,2,    0.069,2,   96.092,2
  09AR20141205,AU1402,    74,  1,      0,     14,2,20150107,1350,-66.7280, 119.8103,  710,     70.7,  -1.1259,  34.2063,2,-999.0000,9,    350.4,2,   -999.0,9,  -999.00,9,  -999.00,9,  -999.00,9,   -999.0,9,   -999.0,9,    1.399,2,    0.069,2,   95.983,2
  09AR20141205,AU1402,    74,  1,      0,     13,2,20150107,1350,-66.7280, 119.8103,  710,     70.6,  -1.2055,  34.2085,2,  34.2121,2,    350.4,2,    345.4,2,  -999.00,9,  -999.00,9,  -999.00,9,   2200.5,2,   2311.0,2,    1.380,2,    0.067,2,   95.953,2
  09AR20141205,AU1402,    74,  1,      0,     12,2,20150107,1350,-66.7280, 119.8103,  710,    151.0,  -1.8096,  34.2413,2,-999.0000,9,    326.0,2,   -999.0,9,  -999.00,9,  -999.00,9,  -999.00,9,   -999.0,9,   -999.0,9,    0.147,2,    0.000,2,   98.327,2
  09AR20141205,AU1402,    74,  1,      0,     11,2,20150107,1350,-66.7280, 119.8103,  710,    151.0,  -1.8138,  34.2417,2,  34.2398,2,    326.2,2,    326.9,2,  -999.00,9,    29.99,2,     2.05,3,   2210.9,2,   2312.5,2,    0.168,2,    0.000,2,   98.323,2
  09AR20141205,AU1402,    74,  1,      0,     10,2,20150107,1350,-66.7280, 119.8103,  710,    250.9,  -1.8453,  34.2580,2,-999.0000,9,    317.6,2,   -999.0,9,  -999.00,9,  -999.00,9,  -999.00,9,   -999.0,9,   -999.0,9,   -0.007,2,    0.000,2,   98.580,2
  09AR20141205,AU1402,    74,  1,      0,      9,2,20150107,1350,-66.7280, 119.8103,  710,    250.8,  -1.8460,  34.2581,2,  34.2592,2,    317.6,2,    318.0,2,  -999.00,9,  -999.00,9,  -999.00,9,   2214.8,6,   2313.2,6,   -0.022,2,    0.000,2,   98.578,2
  09AR20141205,AU1402,    74,  1,      0,      8,2,20150107,1350,-66.7280, 119.8103,  710,    401.2,  -1.7664,  34.3190,2,-999.0000,9,    313.0,2,   -999.0,9,  -999.00,9,  -999.00,9,  -999.00,9,   -999.0,9,   -999.0,9,   -0.082,2,    0.000,2,   98.511,2
  09AR20141205,AU1402,    74,  1,      0,      7,2,20150107,1350,-66.7280, 119.8103,  710,    401.1,  -1.7659,  34.3190,2,  34.3255,2,    313.0,2,    312.1,2,  -999.00,9,    30.40,2,     2.07,3,   2220.2,2,   2321.2,2,   -0.078,2,    0.000,2,   98.549,2
  09AR20141205,AU1402,    74,  1,      0,      6,2,20150107,1350,-66.7280, 119.8103,  710,    501.1,  -1.4866,  34.3686,2,-999.0000,9,    298.9,2,   -999.0,9,  -999.00,9,  -999.00,9,  -999.00,9,   -999.0,9,   -999.0,9,   -0.085,2,    0.000,2,   98.413,2
  09AR20141205,AU1402,    74,  1,      0,      5,2,20150107,1350,-66.7280, 119.8103,  710,    501.0,  -1.4873,  34.3686,2,  34.3722,2,    299.0,2,    300.2,2,  -999.00,9,    30.68,2,     2.03,3,   2225.9,2,   2321.3,2,   -0.087,2,    0.000,2,   98.531,2
  09AR20141205,AU1402,    74,  1,      0,      4,2,20150107,1350,-66.7280, 119.8103,  710,    676.0,  -1.1479,  34.4156,2,-999.0000,9,    286.4,2,   -999.0,9,  -999.00,9,  -999.00,9,  -999.00,9,   -999.0,9,   -999.0,9,   -0.083,2,    0.000,2,   98.341,2
  09AR20141205,AU1402,    74,  1,      0,      3,2,20150107,1350,-66.7280, 119.8103,  710,    675.9,  -1.1477,  34.4156,2,  34.4150,2,    286.4,2,    286.3,2,  -999.00,9,  -999.00,9,  -999.00,9,   2230.8,2,   2324.8,6,   -0.085,2,    0.000,2,   98.434,2
  09AR20141205,AU1402,    74,  1,      0,      2,2,20150107,1350,-66.7280, 119.8103,  710,    733.6,  -1.1162,  34.4197,2,-999.0000,9,    285.0,2,   -999.0,9,  -999.00,9,  -999.00,9,  -999.00,9,   -999.0,9,   -999.0,9,   -0.081,2,    0.000,2,   98.401,2
  09AR20141205,AU1402,    74,  1,      0,      1,2,20150107,1350,-66.7280, 119.8103,  710,    733.5,  -1.1207,  34.4192,2,  34.4174,2,    285.0,2,    285.5,2,  -999.00,9,    30.96,2,     2.12,3,   2229.6,2,   2326.6,2,   -0.084,2,    0.000,2,   98.407,2
  09AR20141205,AU1402,    75,  1,      0,     24,2,20150108,0133,-66.0997, 120.6453,  516,      7.6,  -1.4231,  33.7670,2,-999.0000,9,    344.8,2,   -999.0,9,  -999.00,9,  -999.00,9,  -999.00,9,   -999.0,9,   -999.0,9,    0.014,2,  272.100,2,   95.505,2
  09AR20141205,AU1402,    75,  1,      0,     23,2,20150108,0133,-66.0997, 120.6453,  516,      7.5,  -1.4344,  33.7479,2,-999.0000,9,    344.8,2,   -999.0,9,  -999.00,9,  -999.00,9,  -999.00,9,   -999.0,9,   -999.0,9,    0.000,2,  323.500,2,   95.358,2
  09AR20141205,AU1402,    75,  1,      0,     22,2,20150108,0133,-66.0997, 120.6453,  516,      7.5,  -1.4238,  33.7471,2,-999.0000,9,    344.8,2,   -999.0,9,  -999.00,9,  -999.00,9,  -999.00,9,   -999.0,9,   -999.0,9,    0.001,2,  338.500,2,   95.357,2
  09AR20141205,AU1402,    75,  1,      0,     21,2,20150108,0133,-66.0997, 120.6453,  516,      7.4,  -1.4123,  33.7671,2,  33.7546,2,    344.8,2,    346.1,2,  -999.00,9,  -999.00,9,  -999.00,9,   2166.0,2,   2280.8,2,   -0.008,2,  366.600,2,   95.458,2
  09AR20141205,AU1402,    75,  1,      0,     20,2,20150108,0133,-66.0997, 120.6453,  516,      7.3,  -1.3346,  33.7421,2,-999.0000,9,    344.8,2,   -999.0,9,  -999.00,9,  -999.00,9,  -999.00,9,   -999.0,9,   -999.0,9,   -0.011,2,  618.100,2,   95.478,2
  09AR20141205,AU1402,    75,  1,      0,     19,2,20150108,0133,-66.0997, 120.6453,  516,     21.0,  -1.4884,  33.8102,2,  33.8290,2,    344.5,2,    343.9,2,  -999.00,9,  -999.00,9,  -999.00,9,   2172.8,6,   2284.3,6,    0.096,2,  119.100,2,   95.504,2
  09AR20141205,AU1402,    75,  1,      0,     18,2,20150108,0133,-66.0997, 120.6453,  516,     20.9,  -1.4901,  33.8107,2,-999.0000,9,    344.5,2,   -999.0,9,  -999.00,9,  -999.00,9,  -999.00,9,   -999.0,9,   -999.0,9,    0.096,2,  123.100,2,   95.512,2
  09AR20141205,AU1402,    75,  1,      0,     17,2,20150108,0133,-66.0997, 120.6453,  516,     20.8,  -1.4900,  33.8109,2,-999.0000,9,    344.5,2,   -999.0,9,  -999.00,9,  -999.00,9,  -999.00,9,   -999.0,9,   -999.0,9,    0.095,2,  114.100,2,   95.502,2
  09AR20141205,AU1402,    75,  1,      0,     16,2,20150108,0133,-66.0997, 120.6453,  516,     20.7,  -1.4904,  33.8114,2,-999.0000,9,    344.5,2,   -999.0,9,  -999.00,9,  -999.00,9,  -999.00,9,   -999.0,9,   -999.0,9,    0.095,2,  111.100,2,   95.493,2
  09AR20141205,AU1402,    75,  1,      0,     15,2,20150108,0133,-66.0997, 120.6453,  516,     60.7,  -1.2342,  34.1858,2,  34.1933,2,    348.2,2,    349.0,2,  -999.00,9,  -999.00,9,  -999.00,9,   2196.6,2,   2308.1,2,    1.749,2,   10.550,2,   94.552,2
  09AR20141205,AU1402,    75,  1,      0,     14,2,20150108,0133,-66.0997, 120.6453,  516,     60.6,  -1.2389,  34.1859,2,-999.0000,9,    348.2,2,   -999.0,9,  -999.00,9,  -999.00,9,  -999.00,9,   -999.0,9,   -999.0,9,    1.726,2,   10.240,2,   94.540,2
  09AR20141205,AU1402,    75,  1,      0,     13,2,20150108,0133,-66.0997, 120.6453,  516,     60.5,  -1.2447,  34.1856,2,-999.0000,9,    348.2,2,   -999.0,9,  -999.00,9,  -999.00,9,  -999.00,9,   -999.0,9,   -999.0,9,    1.685,2,   10.120,2,   94.557,2
  09AR20141205,AU1402,    75,  1,      0,     12,2,20150108,0133,-66.0997, 120.6453,  516,     60.5,  -1.2452,  34.1855,2,-999.0000,9,    348.2,2,   -999.0,9,  -999.00,9,  -999.00,9,  -999.00,9,   -999.0,9,   -999.0,9,    1.663,2,    9.993,2,   94.583,2
  09AR20141205,AU1402,    75,  1,      0,     11,2,20150108,0133,-66.0997, 120.6453,  516,    150.7,  -1.8516,  34.2512,2,-999.0000,9,    320.2,2,   -999.0,9,  -999.00,9,  -999.00,9,  -999.00,9,   -999.0,9,   -999.0,9,    0.021,2,    0.077,2,   98.517,2
  09AR20141205,AU1402,    75,  1,      0,     10,2,20150108,0133,-66.0997, 120.6453,  516,    150.7,  -1.8514,  34.2512,2,-999.0000,9,    320.2,2,   -999.0,9,  -999.00,9,  -999.00,9,  -999.00,9,   -999.0,9,   -999.0,9,    0.030,2,    0.075,2,   98.523,2
  09AR20141205,AU1402,    75,  1,      0,      9,2,20150108,0133,-66.0997, 120.6453,  516,    150.6,  -1.8519,  34.2512,2,  34.2518,2,    320.2,2,    320.3,2,  -999.00,9,  -999.00,9,  -999.00,9,   2211.9,2,   2313.3,2,    0.020,2,    0.079,2,   98.513,2
  09AR20141205,AU1402,    75,  1,      0,      8,2,20150108,0133,-66.0997, 120.6453,  516,    150.2,  -1.8513,  34.2514,2,-999.0000,9,    320.2,2,   -999.0,9,  -999.00,9,  -999.00,9,  -999.00,9,   -999.0,9,   -999.0,9,    0.014,2,    0.102,2,   98.531,2
  09AR20141205,AU1402,    75,  1,      0,      7,2,20150108,0133,-66.0997, 120.6453,  516,    251.3,  -1.8361,  34.2894,2,  34.2904,2,    317.4,2,    318.7,2,  -999.00,9,  -999.00,9,  -999.00,9,   2214.4,2,   2316.3,6,   -0.051,2,    0.000,2,   98.747,2
  09AR20141205,AU1402,    75,  1,      0,      6,2,20150108,0133,-66.0997, 120.6453,  516,    250.8,  -1.8341,  34.2897,2,-999.0000,9,    317.4,2,   -999.0,9,  -999.00,9,  -999.00,9,  -999.00,9,   -999.0,9,   -999.0,9,   -0.064,2,    0.000,2,   98.746,2
  09AR20141205,AU1402,    75,  1,      0,      5,2,20150108,0133,-66.0997, 120.6453,  516,    350.9,  -1.7683,  34.3266,2,  34.3308,2,    314.3,2,    313.9,2,  -999.00,9,  -999.00,9,  -999.00,9,   2217.9,2,   2318.0,2,   -0.082,2,    0.000,2,   98.768,2
  09AR20141205,AU1402,    75,  1,      0,      4,2,20150108,0133,-66.0997, 120.6453,  516,    350.3,  -1.7661,  34.3273,2,-999.0000,9,    314.3,2,   -999.0,9,  -999.00,9,  -999.00,9,  -999.00,9,   -999.0,9,   -999.0,9,   -0.087,2,    0.000,2,   98.761,2
  09AR20141205,AU1402,    75,  1,      0,      3,2,20150108,0133,-66.0997, 120.6453,  516,    451.4,  -0.6836,  34.4819,2,-999.0000,9,    268.9,2,    262.4,2,  -999.00,9,  -999.00,9,  -999.00,9,   2238.1,2,   2329.6,2,   -0.084,2,    0.000,2,   98.592,2
  09AR20141205,AU1402,    75,  1,      0,      2,2,20150108,0133,-66.0997, 120.6453,  516,    451.4,  -0.6878,  34.4813,2,-999.0000,9,    268.9,2,   -999.0,9,  -999.00,9,  -999.00,9,  -999.00,9,   -999.0,9,   -999.0,9,   -0.083,2,    0.000,2,   98.607,2
  09AR20141205,AU1402,    75,  1,      0,      1,2,20150108,0133,-66.0997, 120.6453,  516,    516.9,  -0.2213,  34.5444,2,  34.5444,2,    245.8,2,    246.0,2,  -999.00,9,  -999.00,9,  -999.00,9,   2243.8,2,   2336.0,2,   -0.077,2,    0.000,2,   97.439,2