BOTTLE,20210329PRINUNIVRMK
EXPOCODE,SECT_ID,STNNBR,CASTNO,SAMPNO,BTLNBR,BTLNBR_FLAG_W,DATE,TIME,LATITUDE,LONGITUDE,DEPTH,CTDPRS,CTDTMP,CTDSAL,CTDSAL_FLAG_W,SALNTY,SALNTY_FLAG_W,CTDOXY,CTDOXY_FLAG_W,OXYGEN,OXYGEN_FLAG_W,SILCAT,SILCAT_FLAG_W,NITRAT,NITRAT_FLAG_W,PHSPHT,PHSPHT_FLAG_W,TCARBN,TCARBN_FLAG_W,ALKALI,ALKALI_FLAG_W,CTDFLUOR,CTDFLUOR_FLAG_W,CTDPAR,CTDPAR_FLAG_W,CTDXMISS,CTDXMISS_FLAG_W
,,,,,,,,,,,METERS,DBAR,ITS-90,PSS-78,,PSS-78,,UMOL/KG,,UMOL/KG,,UMOL/KG,,UMOL/KG,,UMOL/KG,,UMOL/KG,,UMOL/KG,,MG/M^3,,UEINSTEIN/M^2*SEC,,%TRANS,
  09AR20141205,AU1402,     7,  1,      0,     24,2,20141226,1623,-66.2503, 119.9323,  522,      5.7,  -1.4781,  34.1636,2,  34.1631,2,    336.7,2,    336.3,2,  -999.00,9,    29.84,2,     1.95,3,   2202.4,2,   2310.7,2,    0.363,2,    5.401,2,   97.464,2
  09AR20141205,AU1402,     7,  1,      0,     23,2,20141226,1623,-66.2503, 119.9323,  522,      5.6,  -1.4778,  34.1636,2,-999.0000,9,    336.7,2,   -999.0,9,  -999.00,9,  -999.00,9,  -999.00,9,   -999.0,9,   -999.0,9,    0.331,2,    5.478,2,   97.463,2
  09AR20141205,AU1402,     7,  1,      0,     22,2,20141226,1623,-66.2503, 119.9323,  522,      5.6,  -1.4793,  34.1639,2,-999.0000,9,    336.7,2,   -999.0,9,  -999.00,9,  -999.00,9,  -999.00,9,   -999.0,9,   -999.0,9,    0.329,2,    5.395,2,   97.483,2
  09AR20141205,AU1402,     7,  1,      0,     21,2,20141226,1623,-66.2503, 119.9323,  522,     21.1,  -1.5285,  34.1699,2,  34.1787,2,    335.9,2,    328.6,2,  -999.00,9,    30.06,2,     2.04,3,   2203.1,2,   2310.3,2,    0.295,2,    1.990,2,   97.652,2
  09AR20141205,AU1402,     7,  1,      0,     20,2,20141226,1623,-66.2503, 119.9323,  522,     21.1,  -1.5412,  34.1715,2,-999.0000,9,    335.9,2,   -999.0,9,  -999.00,9,  -999.00,9,  -999.00,9,   -999.0,9,   -999.0,9,    0.288,2,    1.985,2,   97.707,2
  09AR20141205,AU1402,     7,  1,      0,     19,2,20141226,1623,-66.2503, 119.9323,  522,     40.5,  -1.8519,  34.2337,2,  34.2331,2,    317.3,2,    306.7,2,  -999.00,9,  -999.00,9,  -999.00,9,   2212.6,2,   2314.4,2,   -0.021,2,    1.076,2,   98.970,2
  09AR20141205,AU1402,     7,  1,      0,     18,2,20141226,1623,-66.2503, 119.9323,  522,     40.4,  -1.8518,  34.2335,2,-999.0000,9,    317.3,2,   -999.0,9,  -999.00,9,  -999.00,9,  -999.00,9,   -999.0,9,   -999.0,9,   -0.015,2,    1.069,2,   98.975,2
  09AR20141205,AU1402,     7,  1,      0,     17,2,20141226,1623,-66.2503, 119.9323,  522,     61.8,  -1.8386,  34.2439,2,  34.2424,2,    311.8,2,    311.1,2,    59.70,2,    30.60,2,     2.09,3,   2210.4,2,   2316.2,2,   -0.015,2,    0.481,2,   99.009,2
  09AR20141205,AU1402,     7,  1,      0,     16,2,20141226,1623,-66.2503, 119.9323,  522,     61.6,  -1.8391,  34.2442,2,-999.0000,9,    311.8,2,   -999.0,9,  -999.00,9,  -999.00,9,  -999.00,9,   -999.0,9,   -999.0,9,   -0.019,2,    0.465,2,   99.014,2
  09AR20141205,AU1402,     7,  1,      0,     15,2,20141226,1623,-66.2503, 119.9323,  522,    126.2,  -1.8252,  34.2687,2,  34.2675,2,    314.7,2,    315.2,2,  -999.00,9,  -999.00,9,  -999.00,9,   2213.8,2,   2314.2,2,   -0.030,2,    0.000,2,   99.178,2
  09AR20141205,AU1402,     7,  1,      0,     14,2,20141226,1623,-66.2503, 119.9323,  522,    126.1,  -1.8248,  34.2686,2,-999.0000,9,    314.7,2,   -999.0,9,  -999.00,9,  -999.00,9,  -999.00,9,   -999.0,9,   -999.0,9,   -0.027,2,    0.000,2,   99.180,2
  09AR20141205,AU1402,     7,  1,      0,     13,2,20141226,1623,-66.2503, 119.9323,  522,    126.1,  -1.8247,  34.2687,2,-999.0000,9,    314.7,2,   -999.0,9,  -999.00,9,  -999.00,9,  -999.00,9,   -999.0,9,   -999.0,9,   -0.033,2,    0.000,2,   99.175,2
  09AR20141205,AU1402,     7,  1,      0,     12,2,20141226,1623,-66.2503, 119.9323,  522,    125.8,  -1.8255,  34.2688,2,-999.0000,9,    314.7,2,   -999.0,9,  -999.00,9,  -999.00,9,  -999.00,9,   -999.0,9,   -999.0,9,   -0.030,2,    0.000,2,   99.179,2
  09AR20141205,AU1402,     7,  1,      0,     11,2,20141226,1623,-66.2503, 119.9323,  522,    252.0,  -1.8518,  34.2892,2,  34.2886,2,    318.6,2,    319.8,2,    60.70,2,    30.49,2,     2.08,3,   2213.8,6,   2317.0,6,   -0.070,2,    0.000,2,   99.230,2
  09AR20141205,AU1402,     7,  1,      0,     10,2,20141226,1623,-66.2503, 119.9323,  522,    251.9,  -1.8512,  34.2889,2,-999.0000,9,    318.6,2,   -999.0,9,  -999.00,9,  -999.00,9,  -999.00,9,   -999.0,9,   -999.0,9,   -0.068,2,    0.000,2,   99.234,2
  09AR20141205,AU1402,     7,  1,      0,      9,2,20141226,1623,-66.2503, 119.9323,  522,    251.8,  -1.8511,  34.2889,2,-999.0000,9,    318.6,2,   -999.0,9,  -999.00,9,  -999.00,9,  -999.00,9,   -999.0,9,   -999.0,9,   -0.071,2,    0.000,2,   99.232,2
  09AR20141205,AU1402,     7,  1,      0,      8,2,20141226,1623,-66.2503, 119.9323,  522,    251.1,  -1.8512,  34.2891,2,-999.0000,9,    318.6,2,   -999.0,9,  -999.00,9,  -999.00,9,  -999.00,9,   -999.0,9,   -999.0,9,   -0.070,2,    0.000,2,   99.229,2
  09AR20141205,AU1402,     7,  1,      0,      7,2,20141226,1623,-66.2503, 119.9323,  522,    376.0,  -1.8270,  34.3138,2,  34.3120,2,    318.4,2,    319.5,2,    64.50,2,    30.69,2,     2.09,3,   2216.1,2,   2319.5,6,   -0.080,2,    0.000,2,   99.287,2
  09AR20141205,AU1402,     7,  1,      0,      6,2,20141226,1623,-66.2503, 119.9323,  522,    376.0,  -1.8268,  34.3139,2,-999.0000,9,    318.4,2,   -999.0,9,  -999.00,9,  -999.00,9,  -999.00,9,   -999.0,9,   -999.0,9,   -0.082,2,    0.000,2,   99.289,2
  09AR20141205,AU1402,     7,  1,      0,      5,2,20141226,1623,-66.2503, 119.9323,  522,    376.0,  -1.8268,  34.3137,2,-999.0000,9,    318.4,2,   -999.0,9,  -999.00,9,  -999.00,9,  -999.00,9,   -999.0,9,   -999.0,9,   -0.084,2,    0.000,2,   99.295,2
  09AR20141205,AU1402,     7,  1,      0,      4,2,20141226,1623,-66.2503, 119.9323,  522,    375.9,  -1.8271,  34.3137,2,-999.0000,9,    318.4,2,   -999.0,9,  -999.00,9,  -999.00,9,  -999.00,9,   -999.0,9,   -999.0,9,   -0.079,2,    0.000,2,   99.285,2
  09AR20141205,AU1402,     7,  1,      0,      3,2,20141226,1623,-66.2503, 119.9323,  522,    450.9,  -1.7459,  34.3363,2,  34.3398,2,    313.6,2,    312.0,2,  -999.00,9,  -999.00,9,  -999.00,9,   2219.1,2,   2320.7,2,   -0.089,2,    0.000,2,   99.319,2
  09AR20141205,AU1402,     7,  1,      0,      2,2,20141226,1623,-66.2503, 119.9323,  522,    450.7,  -1.7484,  34.3360,2,-999.0000,9,    313.6,2,   -999.0,9,  -999.00,9,  -999.00,9,  -999.00,9,   -999.0,9,   -999.0,9,   -0.089,2,    0.000,2,   99.316,2
  09AR20141205,AU1402,     7,  1,      0,      1,2,20141226,1623,-66.2503, 119.9323,  522,    518.2,  -0.8832,  34.4541,2,  34.4481,2,    276.7,2,    276.9,2,    65.10,2,    31.62,2,     2.17,3,   2233.3,2,   2329.7,2,   -0.095,2,    0.000,2,   99.014,2
  09AR20141205,AU1402,     8,  1,      0,     24,2,20141226,1838,-66.3482, 119.8838,  658,      5.7,  -1.6992,  34.1911,2,-999.0000,9,    323.6,2,   -999.0,9,    59.50,2,  -999.00,9,  -999.00,9,   -999.0,9,   -999.0,9,    0.059,2,   24.780,2,   98.703,2
  09AR20141205,AU1402,     8,  1,      0,     23,2,20141226,1838,-66.3482, 119.8838,  658,      5.6,  -1.6970,  34.1907,2,-999.0000,9,    323.6,2,   -999.0,9,  -999.00,9,  -999.00,9,  -999.00,9,   -999.0,9,   -999.0,9,    0.058,2,   24.740,2,   98.711,2
  09AR20141205,AU1402,     8,  1,      0,     22,2,20141226,1838,-66.3482, 119.8838,  658,      5.7,  -1.6971,  34.1909,2,-999.0000,9,    323.6,2,   -999.0,9,  -999.00,9,  -999.00,9,  -999.00,9,   -999.0,9,   -999.0,9,    0.061,2,   24.300,2,   98.711,2
  09AR20141205,AU1402,     8,  1,      0,     21,2,20141226,1838,-66.3482, 119.8838,  658,      5.6,  -1.6962,  34.1908,2,-999.0000,9,    323.6,2,   -999.0,9,  -999.00,9,  -999.00,9,  -999.00,9,   -999.0,9,   -999.0,9,    0.049,2,   23.370,2,   98.713,2
  09AR20141205,AU1402,     8,  1,      0,     20,2,20141226,1838,-66.3482, 119.8838,  658,      5.6,  -1.6954,  34.1907,2,-999.0000,9,    323.6,2,   -999.0,9,  -999.00,9,  -999.00,9,  -999.00,9,   -999.0,9,   -999.0,9,    0.047,2,   22.550,2,   98.711,2
  09AR20141205,AU1402,     8,  1,      0,     19,2,20141226,1838,-66.3482, 119.8838,  658,      5.6,  -1.6973,  34.1906,2,  34.1903,2,    323.6,2,    323.8,2,    59.10,2,    30.28,2,     2.00,3,   2206.8,6,   2311.9,6,    0.061,2,   22.170,2,   98.711,2
  09AR20141205,AU1402,     8,  1,      0,     18,2,20141226,1838,-66.3482, 119.8838,  658,      5.5,  -1.6964,  34.1906,2,-999.0000,9,    323.6,2,   -999.0,9,  -999.00,9,  -999.00,9,  -999.00,9,   -999.0,9,   -999.0,9,    0.048,2,   21.560,2,   98.710,2
  09AR20141205,AU1402,     8,  1,      0,     17,2,20141226,1838,-66.3482, 119.8838,  658,     20.4,  -1.6975,  34.1906,2,  34.1927,2,    323.2,2,    323.4,2,  -999.00,9,    30.26,2,     2.05,3,   2207.0,2,   2310.3,2,    0.083,2,    8.660,2,   98.713,2
  09AR20141205,AU1402,     8,  1,      0,     16,2,20141226,1838,-66.3482, 119.8838,  658,     20.1,  -1.6986,  34.1909,2,-999.0000,9,    323.2,2,   -999.0,9,  -999.00,9,  -999.00,9,  -999.00,9,   -999.0,9,   -999.0,9,    0.065,2,    9.266,2,   98.751,2
  09AR20141205,AU1402,     8,  1,      0,     15,2,20141226,1838,-66.3482, 119.8838,  658,     40.6,  -1.8322,  34.2396,2,  34.2387,2,    313.2,2,    312.1,2,    59.90,2,    30.56,2,     2.08,3,   2210.4,2,   2313.4,2,   -0.019,2,    4.917,2,   98.973,2
  09AR20141205,AU1402,     8,  1,      0,     14,2,20141226,1838,-66.3482, 119.8838,  658,     40.3,  -1.8322,  34.2397,2,-999.0000,9,    313.2,2,   -999.0,9,  -999.00,9,  -999.00,9,  -999.00,9,   -999.0,9,   -999.0,9,   -0.025,2,    4.974,2,   98.972,2
  09AR20141205,AU1402,     8,  1,      0,     13,2,20141226,1838,-66.3482, 119.8838,  658,    100.8,  -1.8333,  34.2655,2,  34.2663,2,    319.7,2,    316.8,2,  -999.00,9,  -999.00,9,  -999.00,9,   2213.4,2,   2315.9,2,   -0.043,2,    0.717,2,   99.111,2
  09AR20141205,AU1402,     8,  1,      0,     12,2,20141226,1838,-66.3482, 119.8838,  658,    100.4,  -1.8333,  34.2659,2,-999.0000,9,    319.7,2,   -999.0,9,  -999.00,9,  -999.00,9,  -999.00,9,   -999.0,9,   -999.0,9,   -0.035,2,    0.720,2,   99.112,2
  09AR20141205,AU1402,     8,  1,      0,     11,2,20141226,1838,-66.3482, 119.8838,  658,    200.9,  -1.8450,  34.2829,2,  34.2832,2,    313.1,2,    318.2,2,    65.30,2,    30.54,2,     2.08,3,   2215.0,2,   2316.7,6,   -0.061,2,    0.000,2,   99.207,2
  09AR20141205,AU1402,     8,  1,      0,     10,2,20141226,1838,-66.3482, 119.8838,  658,    200.6,  -1.8449,  34.2830,2,-999.0000,9,    313.1,2,   -999.0,9,  -999.00,9,  -999.00,9,  -999.00,9,   -999.0,9,   -999.0,9,   -0.058,2,    0.000,2,   99.207,2
  09AR20141205,AU1402,     8,  1,      0,      9,2,20141226,1838,-66.3482, 119.8838,  658,    351.2,  -1.8442,  34.3039,2,  34.3033,2,    315.9,2,    318.1,2,  -999.00,9,  -999.00,9,  -999.00,9,   2214.8,2,   2317.2,2,   -0.083,2,    0.000,2,   99.257,2
  09AR20141205,AU1402,     8,  1,      0,      8,2,20141226,1838,-66.3482, 119.8838,  658,    350.9,  -1.8442,  34.3037,2,-999.0000,9,    315.8,2,   -999.0,9,  -999.00,9,  -999.00,9,  -999.00,9,   -999.0,9,   -999.0,9,   -0.086,2,    0.000,2,   99.254,2
  09AR20141205,AU1402,     8,  1,      0,      7,2,20141226,1838,-66.3482, 119.8838,  658,    500.7,  -1.7748,  34.3351,2,  34.3370,2,    313.6,2,    314.9,2,    65.40,2,    30.87,2,     2.10,3,   2217.6,2,   2320.3,2,   -0.090,2,    0.000,2,   99.284,2
  09AR20141205,AU1402,     8,  1,      0,      6,2,20141226,1838,-66.3482, 119.8838,  658,    500.3,  -1.7624,  34.3390,2,-999.0000,9,    313.6,2,   -999.0,9,  -999.00,9,  -999.00,9,  -999.00,9,   -999.0,9,   -999.0,9,   -0.095,2,    0.000,2,   99.280,2
  09AR20141205,AU1402,     8,  1,      0,      5,2,20141226,1838,-66.3482, 119.8838,  658,    575.7,  -1.2256,  34.4136,2,  34.4109,2,    292.2,2,    288.4,2,  -999.00,9,  -999.00,9,  -999.00,9,   2230.2,2,   2327.4,2,   -0.097,2,    0.000,2,   99.269,2
  09AR20141205,AU1402,     8,  1,      0,      4,2,20141226,1838,-66.3482, 119.8838,  658,    575.8,  -1.1834,  34.4195,2,-999.0000,9,    292.2,2,   -999.0,9,  -999.00,9,  -999.00,9,  -999.00,9,   -999.0,9,   -999.0,9,   -0.097,2,    0.000,2,   99.264,2
  09AR20141205,AU1402,     8,  1,      0,      3,2,20141226,1838,-66.3482, 119.8838,  658,    612.4,  -0.4220,  34.5196,2,  34.5203,2,    261.0,2,    255.7,2,  -999.00,9,  -999.00,9,  -999.00,9,   2239.9,2,   2336.4,2,   -0.090,2,    0.000,2,   98.972,2
  09AR20141205,AU1402,     8,  1,      0,      2,2,20141226,1838,-66.3482, 119.8838,  658,    613.9,  -0.4186,  34.5198,2,-999.0000,9,    258.4,2,   -999.0,9,  -999.00,9,  -999.00,9,  -999.00,9,   -999.0,9,   -999.0,9,   -0.091,2,    0.000,2,   98.981,2
  09AR20141205,AU1402,     8,  1,      0,      1,2,20141226,1838,-66.3482, 119.8838,  658,    654.1,   0.0302,  34.5771,2,  34.5777,2,    237.7,2,    238.7,2,    64.00,2,    32.09,2,     2.20,3,   2243.5,2,   2339.6,2,   -0.086,2,    0.000,2,   98.742,2
  09AR20141205,AU1402,     9,  1,      0,     24,2,20141226,2325,-66.4545, 119.8038,  706,     10.7,  -1.4695,  34.1256,2,-999.0000,9,    341.7,2,   -999.0,9,  -999.00,9,  -999.00,9,  -999.00,9,   -999.0,9,   -999.0,9,    0.141,2,   86.010,2,   97.743,2
  09AR20141205,AU1402,     9,  1,      0,     23,2,20141226,2325,-66.4545, 119.8038,  706,     10.7,  -1.4378,  34.1237,2,-999.0000,9,    341.7,2,   -999.0,9,  -999.00,9,  -999.00,9,  -999.00,9,   -999.0,9,   -999.0,9,    0.137,2,   85.830,2,   97.683,2
  09AR20141205,AU1402,     9,  1,      0,     22,2,20141226,2325,-66.4545, 119.8038,  706,     10.6,  -1.4373,  34.1231,2,-999.0000,9,    341.7,2,   -999.0,9,  -999.00,9,  -999.00,9,  -999.00,9,   -999.0,9,   -999.0,9,    0.138,2,   86.240,2,   97.613,2
  09AR20141205,AU1402,     9,  1,      0,     21,2,20141226,2325,-66.4545, 119.8038,  706,     10.6,  -1.3815,  34.0985,2,  34.1026,2,    341.7,2,    342.8,2,    58.20,2,    28.95,2,     1.91,3,   2196.4,6,   2303.8,6,    0.132,2,   91.130,2,   97.467,2
  09AR20141205,AU1402,     9,  1,      0,     20,2,20141226,2325,-66.4545, 119.8038,  706,     10.4,  -1.3997,  34.1330,2,-999.0000,9,    341.7,2,   -999.0,9,  -999.00,9,  -999.00,9,  -999.00,9,   -999.0,9,   -999.0,9,    0.123,2,   90.260,2,   97.489,2
  09AR20141205,AU1402,     9,  1,      0,     19,2,20141226,2325,-66.4545, 119.8038,  706,     36.2,  -1.7284,  34.2067,2,  34.2070,2,    336.0,2,    325.2,2,    60.80,2,    29.48,2,     2.05,3,   2206.7,2,   2312.2,2,    0.219,2,   25.010,2,   98.058,2
  09AR20141205,AU1402,     9,  1,      0,     18,2,20141226,2325,-66.4545, 119.8038,  706,     36.1,  -1.8397,  34.2044,2,-999.0000,9,    336.0,2,   -999.0,9,  -999.00,9,  -999.00,9,  -999.00,9,   -999.0,9,   -999.0,9,    0.035,2,   25.110,2,   98.719,2
  09AR20141205,AU1402,     9,  1,      0,     17,2,20141226,2325,-66.4545, 119.8038,  706,     61.4,  -1.8663,  34.2217,2,  34.2213,2,    321.9,2,    312.1,2,    63.80,2,    29.79,2,     2.07,3,   2209.9,2,   2312.6,2,    0.020,2,   11.120,2,   98.989,2
  09AR20141205,AU1402,     9,  1,      0,     16,2,20141226,2325,-66.4545, 119.8038,  706,     61.2,  -1.8641,  34.2219,2,-999.0000,9,    321.9,2,   -999.0,9,  -999.00,9,  -999.00,9,  -999.00,9,   -999.0,9,   -999.0,9,    0.018,2,   11.220,2,   98.980,2
  09AR20141205,AU1402,     9,  1,      0,     15,2,20141226,2325,-66.4545, 119.8038,  706,    101.2,  -1.8429,  34.2433,2,  34.2421,2,    324.2,2,    321.4,2,  -999.00,9,  -999.00,9,  -999.00,9,   2212.0,2,   2314.5,6,   -0.015,2,    3.097,2,   99.040,2
  09AR20141205,AU1402,     9,  1,      0,     14,2,20141226,2325,-66.4545, 119.8038,  706,    101.0,  -1.8424,  34.2434,2,-999.0000,9,    324.2,2,   -999.0,9,  -999.00,9,  -999.00,9,  -999.00,9,   -999.0,9,   -999.0,9,   -0.021,2,    2.937,2,   99.037,2
  09AR20141205,AU1402,     9,  1,      0,     13,2,20141226,2325,-66.4545, 119.8038,  706,    251.3,  -1.8519,  34.2800,2,  34.2781,2,    320.2,2,    320.7,2,  -999.00,9,  -999.00,9,  -999.00,9,   2214.2,2,   2314.0,2,   -0.055,2,    0.000,2,   99.202,2
  09AR20141205,AU1402,     9,  1,      0,     12,2,20141226,2325,-66.4545, 119.8038,  706,    251.3,  -1.8517,  34.2803,2,-999.0000,9,    320.2,2,   -999.0,9,  -999.00,9,  -999.00,9,  -999.00,9,   -999.0,9,   -999.0,9,   -0.065,2,    0.000,2,   99.187,2
  09AR20141205,AU1402,     9,  1,      0,     11,2,20141226,2325,-66.4545, 119.8038,  706,    401.2,  -1.8303,  34.3129,2,  34.3106,2,    317.0,2,    318.8,2,    59.70,2,    29.94,2,     2.08,3,   2214.4,2,   2318.8,2,   -0.083,2,    0.000,2,   99.291,2
  09AR20141205,AU1402,     9,  1,      0,     10,2,20141226,2325,-66.4545, 119.8038,  706,    401.2,  -1.8302,  34.3128,2,-999.0000,9,    317.0,2,   -999.0,9,  -999.00,9,  -999.00,9,  -999.00,9,   -999.0,9,   -999.0,9,   -0.086,2,    0.000,2,   99.282,2
  09AR20141205,AU1402,     9,  1,      0,      9,2,20141226,2325,-66.4545, 119.8038,  706,    501.4,  -1.7455,  34.3425,2,  34.3438,2,    312.3,2,    313.3,2,  -999.00,9,  -999.00,9,  -999.00,9,   2220.0,2,   2319.9,2,   -0.097,2,    0.000,2,   99.342,2
  09AR20141205,AU1402,     9,  1,      0,      8,2,20141226,2325,-66.4545, 119.8038,  706,    501.4,  -1.7452,  34.3426,2,-999.0000,9,    312.3,2,   -999.0,9,  -999.00,9,  -999.00,9,  -999.00,9,   -999.0,9,   -999.0,9,   -0.095,2,    0.000,2,   99.332,2
  09AR20141205,AU1402,     9,  1,      0,      7,2,20141226,2325,-66.4545, 119.8038,  706,    576.2,  -0.8370,  34.4664,2,  34.4692,2,    277.5,2,    271.6,2,  -999.00,9,  -999.00,9,  -999.00,9,   2234.6,2,   2334.8,2,   -0.093,2,    0.000,2,   99.262,2
  09AR20141205,AU1402,     9,  1,      0,      6,2,20141226,2325,-66.4545, 119.8038,  706,    576.0,  -0.8366,  34.4666,2,-999.0000,9,    277.5,2,   -999.0,9,  -999.00,9,  -999.00,9,  -999.00,9,   -999.0,9,   -999.0,9,   -0.093,2,    0.000,2,   99.259,2
  09AR20141205,AU1402,     9,  1,      0,      5,2,20141226,2325,-66.4545, 119.8038,  706,    624.7,  -0.2226,  34.5426,2,  34.5400,2,    251.8,2,    248.0,2,    83.30,2,    31.35,2,     2.20,3,   2242.4,2,   2329.9,2,   -0.090,2,    0.000,2,   98.840,2
  09AR20141205,AU1402,     9,  1,      0,      4,2,20141226,2325,-66.4545, 119.8038,  706,    624.4,  -0.2227,  34.5425,2,-999.0000,9,    251.8,2,   -999.0,9,  -999.00,9,  -999.00,9,  -999.00,9,   -999.0,9,   -999.0,9,   -0.086,2,    0.000,2,   98.835,2
  09AR20141205,AU1402,     9,  1,      0,      3,2,20141226,2325,-66.4545, 119.8038,  706,    649.8,  -0.1549,  34.5588,2,  34.5573,2,    243.3,2,    244.6,2,  -999.00,9,  -999.00,9,  -999.00,9,   2242.4,2,   2339.0,2,   -0.086,2,    0.000,2,   98.814,2
  09AR20141205,AU1402,     9,  1,      0,      2,2,20141226,2325,-66.4545, 119.8038,  706,    650.0,  -0.1621,  34.5588,2,-999.0000,9,    243.3,2,   -999.0,9,  -999.00,9,  -999.00,9,  -999.00,9,   -999.0,9,   -999.0,9,   -0.087,2,    0.000,2,   98.809,2
  09AR20141205,AU1402,     9,  1,      0,      1,2,20141226,2325,-66.4545, 119.8038,  706,    702.4,   0.2800,  34.6180,2,  34.6191,2,    227.5,2,    228.9,2,    90.60,2,    31.29,2,     2.20,3,   2248.7,2,   2344.0,2,   -0.085,2,    0.000,2,   98.719,2