BOTTLE,20210329PRINUNIVRMK
EXPOCODE,SECT_ID,STNNBR,CASTNO,SAMPNO,BTLNBR,BTLNBR_FLAG_W,DATE,TIME,LATITUDE,LONGITUDE,DEPTH,CTDPRS,CTDTMP,CTDSAL,CTDSAL_FLAG_W,SALNTY,SALNTY_FLAG_W,CTDOXY,CTDOXY_FLAG_W,OXYGEN,OXYGEN_FLAG_W,SILCAT,SILCAT_FLAG_W,NITRAT,NITRAT_FLAG_W,PHSPHT,PHSPHT_FLAG_W,TCARBN,TCARBN_FLAG_W,ALKALI,ALKALI_FLAG_W,CTDFLUOR,CTDFLUOR_FLAG_W,CTDPAR,CTDPAR_FLAG_W,CTDXMISS,CTDXMISS_FLAG_W
,,,,,,,,,,,METERS,DBAR,ITS-90,PSS-78,,PSS-78,,UMOL/KG,,UMOL/KG,,UMOL/KG,,UMOL/KG,,UMOL/KG,,UMOL/KG,,UMOL/KG,,MG/M^3,,UEINSTEIN/M^2*SEC,,%TRANS,
  09AR20141205,AU1402,    19,  1,      0,     24,2,20141228,0403,-66.6008, 121.0222,  241,     10.7,  -1.3257,  34.2291,2,-999.0000,9,    333.8,2,   -999.0,9,  -999.00,9,  -999.00,9,  -999.00,9,   -999.0,9,   -999.0,9,    0.282,2,  145.700,2,   96.849,2
  09AR20141205,AU1402,    19,  1,      0,     23,2,20141228,0403,-66.6008, 121.0222,  241,     10.6,  -1.3215,  34.2290,2,-999.0000,9,    333.8,2,   -999.0,9,  -999.00,9,  -999.00,9,  -999.00,9,   -999.0,9,   -999.0,9,    0.240,2,  144.000,2,   96.863,2
  09AR20141205,AU1402,    19,  1,      0,     22,2,20141228,0403,-66.6008, 121.0222,  241,     10.6,  -1.3146,  34.2288,2,-999.0000,9,    333.8,2,   -999.0,9,  -999.00,9,  -999.00,9,  -999.00,9,   -999.0,9,   -999.0,9,    0.255,2,  142.900,2,   96.863,2
  09AR20141205,AU1402,    19,  1,      0,     21,2,20141228,0403,-66.6008, 121.0222,  241,     10.6,  -1.3154,  34.2286,2,  34.2287,2,    333.8,2,    333.8,2,    61.30,2,    29.86,2,     2.06,3,   2208.8,2,   2308.0,2,    0.239,2,  138.300,2,   96.842,2
  09AR20141205,AU1402,    19,  1,      0,     20,2,20141228,0403,-66.6008, 121.0222,  241,     10.4,  -1.3136,  34.2286,2,-999.0000,9,    333.8,2,   -999.0,9,  -999.00,9,  -999.00,9,  -999.00,9,   -999.0,9,   -999.0,9,    0.287,2,  142.600,2,   96.825,2
  09AR20141205,AU1402,    19,  1,      0,     19,2,20141228,0403,-66.6008, 121.0222,  241,     10.4,  -1.3113,  34.2284,2,-999.0000,9,    333.8,2,   -999.0,9,  -999.00,9,  -999.00,9,  -999.00,9,   -999.0,9,   -999.0,9,    0.276,2,  142.100,2,   96.836,2
  09AR20141205,AU1402,    19,  1,      0,     18,2,20141228,0403,-66.6008, 121.0222,  241,     10.4,  -1.3120,  34.2286,2,-999.0000,9,    333.8,2,   -999.0,9,  -999.00,9,  -999.00,9,  -999.00,9,   -999.0,9,   -999.0,9,    0.256,2,  142.300,2,   96.831,2
  09AR20141205,AU1402,    19,  1,      0,     17,2,20141228,0403,-66.6008, 121.0222,  241,     45.6,  -1.3484,  34.2294,2,  34.2293,2,    333.2,2,    333.1,2,    61.20,2,    29.97,2,     2.07,3,   2208.9,6,   2313.7,6,    0.484,2,   23.960,2,   96.905,2
  09AR20141205,AU1402,    19,  1,      0,     16,2,20141228,0403,-66.6008, 121.0222,  241,     45.6,  -1.3494,  34.2293,2,-999.0000,9,    333.2,2,   -999.0,9,  -999.00,9,  -999.00,9,  -999.00,9,   -999.0,9,   -999.0,9,    0.521,2,   23.770,2,   96.909,2
  09AR20141205,AU1402,    19,  1,      0,     15,2,20141228,0403,-66.6008, 121.0222,  241,     45.5,  -1.3506,  34.2293,2,-999.0000,9,    333.2,2,   -999.0,9,  -999.00,9,  -999.00,9,  -999.00,9,   -999.0,9,   -999.0,9,    0.528,2,   23.390,2,   96.898,2
  09AR20141205,AU1402,    19,  1,      0,     14,2,20141228,0403,-66.6008, 121.0222,  241,     86.7,  -1.6544,  34.2299,2,-999.0000,9,    322.0,2,   -999.0,9,  -999.00,9,  -999.00,9,  -999.00,9,   -999.0,9,   -999.0,9,    0.532,2,    3.995,2,   97.429,2
  09AR20141205,AU1402,    19,  1,      0,     13,2,20141228,0403,-66.6008, 121.0222,  241,     86.6,  -1.6477,  34.2300,2,  34.2305,2,    322.0,2,    322.7,2,    62.30,2,    30.26,2,     2.09,3,   2210.6,2,   2314.7,2,    0.548,2,    3.961,2,   97.406,2
  09AR20141205,AU1402,    19,  1,      0,     12,2,20141228,0403,-66.6008, 121.0222,  241,     86.6,  -1.6445,  34.2299,2,-999.0000,9,    322.0,2,   -999.0,9,  -999.00,9,  -999.00,9,  -999.00,9,   -999.0,9,   -999.0,9,    0.543,2,    3.956,2,   97.401,2
  09AR20141205,AU1402,    19,  1,      0,     11,2,20141228,0403,-66.6008, 121.0222,  241,     86.6,  -1.6336,  34.2297,2,-999.0000,9,    322.0,2,   -999.0,9,  -999.00,9,  -999.00,9,  -999.00,9,   -999.0,9,   -999.0,9,    0.543,2,    3.956,2,   97.421,2
  09AR20141205,AU1402,    19,  1,      0,     10,2,20141228,0403,-66.6008, 121.0222,  241,    151.3,  -1.8877,  34.2346,2,-999.0000,9,    314.3,2,   -999.0,9,  -999.00,9,  -999.00,9,  -999.00,9,   -999.0,9,   -999.0,9,    0.018,2,    0.294,2,   98.437,2
  09AR20141205,AU1402,    19,  1,      0,      9,2,20141228,0403,-66.6008, 121.0222,  241,    151.2,  -1.8878,  34.2347,2,  34.2340,2,    314.3,2,    314.0,2,    63.10,2,    30.60,2,     2.11,3,   2215.8,2,   2314.8,6,   -0.004,2,    0.295,2,   98.422,2
  09AR20141205,AU1402,    19,  1,      0,      8,2,20141228,0403,-66.6008, 121.0222,  241,    201.7,  -1.8883,  34.2373,2,-999.0000,9,    313.4,2,   -999.0,9,  -999.00,9,  -999.00,9,  -999.00,9,   -999.0,9,   -999.0,9,   -0.054,2,    0.000,2,   98.465,2
  09AR20141205,AU1402,    19,  1,      0,      7,2,20141228,0403,-66.6008, 121.0222,  241,    201.7,  -1.8904,  34.2372,2,-999.0000,9,    313.4,2,   -999.0,9,  -999.00,9,  -999.00,9,  -999.00,9,   -999.0,9,   -999.0,9,   -0.050,2,    0.000,2,   98.461,2
  09AR20141205,AU1402,    19,  1,      0,      6,2,20141228,0403,-66.6008, 121.0222,  241,    221.1,  -1.8934,  34.2444,2,-999.0000,9,    312.9,2,   -999.0,9,  -999.00,9,  -999.00,9,  -999.00,9,   -999.0,9,   -999.0,9,   -0.074,2,    0.000,2,   98.425,2
  09AR20141205,AU1402,    19,  1,      0,      5,2,20141228,0403,-66.6008, 121.0222,  241,    221.0,  -1.8938,  34.2446,2,  34.2440,2,    312.9,2,    312.6,2,    63.70,2,    30.58,2,     2.12,3,   2212.8,2,   2315.6,2,   -0.074,2,    0.000,2,   98.438,2
  09AR20141205,AU1402,    19,  1,      0,      4,2,20141228,0403,-66.6008, 121.0222,  241,    221.0,  -1.8938,  34.2448,2,-999.0000,9,    312.8,2,   -999.0,9,  -999.00,9,  -999.00,9,  -999.00,9,   -999.0,9,   -999.0,9,   -0.076,2,    0.000,2,   98.440,2
  09AR20141205,AU1402,    19,  1,      0,      3,2,20141228,0403,-66.6008, 121.0222,  241,    221.0,  -1.8939,  34.2449,2,-999.0000,9,    312.8,2,   -999.0,9,  -999.00,9,  -999.00,9,  -999.00,9,   -999.0,9,   -999.0,9,   -0.073,2,    0.000,2,   98.446,2
  09AR20141205,AU1402,    19,  1,      0,      2,2,20141228,0403,-66.6008, 121.0222,  241,    232.5,  -1.8943,  34.2492,2,-999.0000,9,    313.0,2,   -999.0,9,  -999.00,9,  -999.00,9,  -999.00,9,   -999.0,9,   -999.0,9,   -0.064,2,    0.000,2,   98.394,2
  09AR20141205,AU1402,    19,  1,      0,      1,2,20141228,0403,-66.6008, 121.0222,  241,    232.4,  -1.8949,  34.2486,2,  34.2475,2,    313.0,2,    312.8,2,    63.80,2,    30.54,2,     2.12,3,   2216.0,2,   2313.2,2,   -0.067,2,    0.000,2,   98.404,2
  09AR20141205,AU1402,    20,  1,      0,     24,2,20141228,0551,-66.5593, 121.2267,  230,     10.8,  -1.4009,  34.2241,2,-999.0000,9,    327.6,2,   -999.0,9,  -999.00,9,  -999.00,9,  -999.00,9,   -999.0,9,   -999.0,9,   -0.078,2,  126.100,2,   98.216,2
  09AR20141205,AU1402,    20,  1,      0,     23,2,20141228,0551,-66.5593, 121.2267,  230,     10.8,  -1.3993,  34.2240,2,-999.0000,9,    327.6,2,   -999.0,9,  -999.00,9,  -999.00,9,  -999.00,9,   -999.0,9,   -999.0,9,   -0.078,2,  125.200,2,   98.217,2
  09AR20141205,AU1402,    20,  1,      0,     22,2,20141228,0551,-66.5593, 121.2267,  230,     10.8,  -1.4016,  34.2241,2,-999.0000,9,    327.6,2,   -999.0,9,  -999.00,9,  -999.00,9,  -999.00,9,   -999.0,9,   -999.0,9,   -0.071,2,  123.900,2,   98.214,2
  09AR20141205,AU1402,    20,  1,      0,     21,2,20141228,0551,-66.5593, 121.2267,  230,     10.8,  -1.4128,  34.2249,2,  34.2272,2,    327.6,2,    328.0,2,    61.80,2,    30.38,2,     2.10,3,   2211.7,2,   2313.4,2,   -0.054,2,  122.700,2,   98.190,2
  09AR20141205,AU1402,    20,  1,      0,     20,2,20141228,0551,-66.5593, 121.2267,  230,     10.7,  -1.4461,  34.2263,2,-999.0000,9,    327.6,2,   -999.0,9,  -999.00,9,  -999.00,9,  -999.00,9,   -999.0,9,   -999.0,9,   -0.046,2,  123.700,2,   98.182,2
  09AR20141205,AU1402,    20,  1,      0,     19,2,20141228,0551,-66.5593, 121.2267,  230,     10.7,  -1.4520,  34.2263,2,-999.0000,9,    327.6,2,   -999.0,9,  -999.00,9,  -999.00,9,  -999.00,9,   -999.0,9,   -999.0,9,   -0.055,2,  125.200,2,   98.183,2
  09AR20141205,AU1402,    20,  1,      0,     18,2,20141228,0551,-66.5593, 121.2267,  230,     10.7,  -1.4295,  34.2253,2,-999.0000,9,    327.6,2,   -999.0,9,  -999.00,9,  -999.00,9,  -999.00,9,   -999.0,9,   -999.0,9,   -0.052,2,  127.100,2,   98.192,2
  09AR20141205,AU1402,    20,  1,      0,     17,2,20141228,0551,-66.5593, 121.2267,  230,     30.8,  -1.4401,  34.2259,2,  34.2295,2,    324.0,2,    323.4,2,    62.30,2,    30.44,2,     2.10,3,   2212.6,2,   2312.0,2,   -0.019,2,   48.260,2,   98.207,2
  09AR20141205,AU1402,    20,  1,      0,     16,2,20141228,0551,-66.5593, 121.2267,  230,     30.8,  -1.4640,  34.2267,2,-999.0000,9,    324.0,2,   -999.0,9,  -999.00,9,  -999.00,9,  -999.00,9,   -999.0,9,   -999.0,9,   -0.009,2,   49.500,2,   98.204,2
  09AR20141205,AU1402,    20,  1,      0,     15,2,20141228,0551,-66.5593, 121.2267,  230,     30.7,  -1.4699,  34.2273,2,-999.0000,9,    324.0,2,   -999.0,9,  -999.00,9,  -999.00,9,  -999.00,9,   -999.0,9,   -999.0,9,   -0.013,2,   49.850,2,   98.207,2
  09AR20141205,AU1402,    20,  1,      0,     14,2,20141228,0551,-66.5593, 121.2267,  230,     46.2,  -1.8715,  34.2352,2,-999.0000,9,    318.1,2,   -999.0,9,  -999.00,9,  -999.00,9,  -999.00,9,   -999.0,9,   -999.0,9,   -0.034,2,   31.120,2,   98.308,2
  09AR20141205,AU1402,    20,  1,      0,     13,2,20141228,0551,-66.5593, 121.2267,  230,     46.2,  -1.8595,  34.2342,2,  34.2344,2,    318.1,2,    316.8,2,    62.80,2,    30.52,2,     2.11,3,   2212.6,2,   2312.6,2,   -0.012,2,   30.030,2,   98.227,2
  09AR20141205,AU1402,    20,  1,      0,     12,2,20141228,0551,-66.5593, 121.2267,  230,     46.1,  -1.8454,  34.2338,2,-999.0000,9,    318.1,2,   -999.0,9,  -999.00,9,  -999.00,9,  -999.00,9,   -999.0,9,   -999.0,9,   -0.002,2,   29.750,2,   98.264,2
  09AR20141205,AU1402,    20,  1,      0,     11,2,20141228,0551,-66.5593, 121.2267,  230,     46.1,  -1.8574,  34.2356,2,-999.0000,9,    318.1,2,   -999.0,9,  -999.00,9,  -999.00,9,  -999.00,9,   -999.0,9,   -999.0,9,   -0.016,2,   29.890,2,   98.314,2
  09AR20141205,AU1402,    20,  1,      0,     10,2,20141228,0551,-66.5593, 121.2267,  230,     70.7,  -1.8959,  34.2379,2,-999.0000,9,    313.0,2,   -999.0,9,  -999.00,9,  -999.00,9,  -999.00,9,   -999.0,9,   -999.0,9,   -0.073,2,   12.920,2,   98.450,2
  09AR20141205,AU1402,    20,  1,      0,      9,2,20141228,0551,-66.5593, 121.2267,  230,     70.6,  -1.8950,  34.2377,2,  34.2383,2,    313.0,2,    313.6,2,    63.30,2,    30.69,2,     2.12,3,   2216.6,2,   2314.1,2,   -0.080,2,   12.980,2,   98.461,2
  09AR20141205,AU1402,    20,  1,      0,      8,2,20141228,0551,-66.5593, 121.2267,  230,     70.6,  -1.8960,  34.2379,2,-999.0000,9,    313.0,2,   -999.0,9,  -999.00,9,  -999.00,9,  -999.00,9,   -999.0,9,   -999.0,9,   -0.079,2,   13.010,2,   98.458,2
  09AR20141205,AU1402,    20,  1,      0,      7,2,20141228,0551,-66.5593, 121.2267,  230,     70.5,  -1.8945,  34.2376,2,-999.0000,9,    313.0,2,   -999.0,9,  -999.00,9,  -999.00,9,  -999.00,9,   -999.0,9,   -999.0,9,   -0.073,2,   12.950,2,   98.464,2
  09AR20141205,AU1402,    20,  1,      0,      6,2,20141228,0551,-66.5593, 121.2267,  230,    151.2,  -1.9178,  34.2445,2,-999.0000,9,    311.6,2,   -999.0,9,  -999.00,9,  -999.00,9,  -999.00,9,   -999.0,9,   -999.0,9,   -0.091,2,    0.944,2,   98.480,2
  09AR20141205,AU1402,    20,  1,      0,      5,2,20141228,0551,-66.5593, 121.2267,  230,    151.2,  -1.9176,  34.2445,2,  34.2442,2,    311.6,2,    311.8,2,    63.50,2,    30.67,2,     2.12,3,   2214.0,2,   2312.9,2,   -0.092,2,    0.953,2,   98.474,2
  09AR20141205,AU1402,    20,  1,      0,      4,2,20141228,0551,-66.5593, 121.2267,  230,    175.9,  -1.9090,  34.2455,2,-999.0000,9,    311.9,2,   -999.0,9,  -999.00,9,  -999.00,9,  -999.00,9,   -999.0,9,   -999.0,9,   -0.090,2,    0.412,2,   98.493,2
  09AR20141205,AU1402,    20,  1,      0,      3,2,20141228,0551,-66.5593, 121.2267,  230,    175.9,  -1.9090,  34.2455,2,-999.0000,9,    311.9,2,   -999.0,9,  -999.00,9,  -999.00,9,  -999.00,9,   -999.0,9,   -999.0,9,   -0.086,2,    0.412,2,   98.497,2
  09AR20141205,AU1402,    20,  1,      0,      2,2,20141228,0551,-66.5593, 121.2267,  230,    223.9,  -1.9130,  34.2495,2,-999.0000,9,    312.4,2,   -999.0,9,  -999.00,9,  -999.00,9,  -999.00,9,   -999.0,9,   -999.0,9,   -0.101,2,    0.022,2,   98.428,2
  09AR20141205,AU1402,    20,  1,      0,      1,2,20141228,0551,-66.5593, 121.2267,  230,    224.0,  -1.9132,  34.2495,2,  34.2483,2,    312.4,2,    311.8,2,    62.90,2,    30.71,2,     2.12,3,   2215.5,6,   2315.0,6,   -0.097,2,    0.025,2,   98.429,2
  09AR20141205,AU1402,    21,  1,      0,     24,2,20141228,1158,-66.4252, 119.8910,  736,     10.6,  -1.5584,  34.2014,2,  34.1988,2,    326.6,2,    327.3,2,    62.30,2,    29.42,2,     2.06,3,   2208.9,6,   2314.9,6,    0.092,2,   10.460,2,   97.995,2
  09AR20141205,AU1402,    21,  1,      0,     23,2,20141228,1158,-66.4252, 119.8910,  736,     10.6,  -1.5586,  34.2014,2,-999.0000,9,    326.6,2,   -999.0,9,  -999.00,9,  -999.00,9,  -999.00,9,   -999.0,9,   -999.0,9,    0.099,2,   10.480,2,   97.989,2
  09AR20141205,AU1402,    21,  1,      0,     22,2,20141228,1158,-66.4252, 119.8910,  736,     10.6,  -1.5596,  34.2015,2,-999.0000,9,    326.6,2,   -999.0,9,  -999.00,9,  -999.00,9,  -999.00,9,   -999.0,9,   -999.0,9,    0.101,2,   10.430,2,   97.985,2
  09AR20141205,AU1402,    21,  1,      0,     21,2,20141228,1158,-66.4252, 119.8910,  736,     10.6,  -1.5544,  34.2007,2,-999.0000,9,    326.6,2,   -999.0,9,  -999.00,9,  -999.00,9,  -999.00,9,   -999.0,9,   -999.0,9,    0.091,2,   10.170,2,   97.982,2
  09AR20141205,AU1402,    21,  1,      0,     20,2,20141228,1158,-66.4252, 119.8910,  736,     21.3,  -1.5520,  34.2004,2,  34.2007,2,    326.5,2,    327.2,2,    62.40,2,    29.44,2,     2.06,3,   2207.7,2,   2312.3,2,    0.105,2,    6.145,2,   97.970,2
  09AR20141205,AU1402,    21,  1,      0,     19,2,20141228,1158,-66.4252, 119.8910,  736,     30.6,  -1.6320,  34.2134,2,-999.0000,9,    325.8,2,   -999.0,9,  -999.00,9,  -999.00,9,  -999.00,9,   -999.0,9,   -999.0,9,    0.137,2,    4.686,2,   97.861,2
  09AR20141205,AU1402,    21,  1,      0,     18,2,20141228,1158,-66.4252, 119.8910,  736,     30.5,  -1.6434,  34.2153,2,-999.0000,9,    325.8,2,    326.1,2,  -999.00,9,  -999.00,9,  -999.00,9,   2209.7,2,   2314.6,2,    0.142,2,    4.743,2,   97.853,2
  09AR20141205,AU1402,    21,  1,      0,     17,2,20141228,1158,-66.4252, 119.8910,  736,     51.2,  -1.8186,  34.2450,2,  34.2442,2,    324.9,2,    323.3,2,    61.50,2,    29.84,2,     2.09,3,   2216.4,2,   2315.2,2,    0.090,2,    2.688,2,   98.038,2
  09AR20141205,AU1402,    21,  1,      0,     16,2,20141228,1158,-66.4252, 119.8910,  736,    111.2,  -1.8702,  34.2542,2,-999.0000,9,    320.2,2,   -999.0,9,  -999.00,9,  -999.00,9,  -999.00,9,   -999.0,9,   -999.0,9,   -0.048,2,    0.364,2,   98.574,2
  09AR20141205,AU1402,    21,  1,      0,     15,2,20141228,1158,-66.4252, 119.8910,  736,    111.1,  -1.8704,  34.2543,2,  34.2554,2,    320.2,2,    319.5,2,  -999.00,9,  -999.00,9,  -999.00,9,   2214.6,2,   2314.8,2,   -0.043,2,    0.369,2,   98.583,2
  09AR20141205,AU1402,    21,  1,      0,     14,2,20141228,1158,-66.4252, 119.8910,  736,    130.1,  -1.8423,  34.2603,2,-999.0000,9,    319.3,2,   -999.0,9,  -999.00,9,  -999.00,9,  -999.00,9,   -999.0,9,   -999.0,9,    0.033,2,    0.181,2,   98.425,2
  09AR20141205,AU1402,    21,  1,      0,     13,2,20141228,1158,-66.4252, 119.8910,  736,    130.1,  -1.8423,  34.2603,2,  34.2610,2,    319.3,2,    317.5,2,  -999.00,9,  -999.00,9,  -999.00,9,   2215.8,2,   2316.4,2,    0.042,2,    0.185,2,   98.425,2
  09AR20141205,AU1402,    21,  1,      0,     12,2,20141228,1158,-66.4252, 119.8910,  736,    176.0,  -1.7954,  34.2758,2,-999.0000,9,    306.9,2,   -999.0,9,  -999.00,9,  -999.00,9,  -999.00,9,   -999.0,9,   -999.0,9,   -0.068,2,    0.000,2,   98.665,2
  09AR20141205,AU1402,    21,  1,      0,     11,2,20141228,1158,-66.4252, 119.8910,  736,    175.9,  -1.7958,  34.2756,2,  34.2749,2,    306.9,2,    309.3,2,  -999.00,9,  -999.00,9,  -999.00,9,   2216.8,2,   2318.0,2,   -0.066,2,    0.000,2,   98.664,2
  09AR20141205,AU1402,    21,  1,      0,     10,2,20141228,1158,-66.4252, 119.8910,  736,    351.1,  -1.8330,  34.3026,2,-999.0000,9,    318.2,2,   -999.0,9,  -999.00,9,  -999.00,9,  -999.00,9,   -999.0,9,   -999.0,9,   -0.081,2,    0.000,2,   98.769,2
  09AR20141205,AU1402,    21,  1,      0,      9,2,20141228,1158,-66.4252, 119.8910,  736,    351.1,  -1.8309,  34.3025,2,  34.3026,2,    318.2,2,    317.1,2,    60.40,2,    29.93,2,     2.09,3,   2214.9,2,   2320.5,6,   -0.084,2,    0.000,2,   98.780,2
  09AR20141205,AU1402,    21,  1,      0,      8,2,20141228,1158,-66.4252, 119.8910,  736,    502.2,  -1.7731,  34.3389,2,-999.0000,9,    316.1,2,   -999.0,9,  -999.00,9,  -999.00,9,  -999.00,9,   -999.0,9,   -999.0,9,   -0.090,2,    0.000,2,   98.791,2
  09AR20141205,AU1402,    21,  1,      0,      7,2,20141228,1158,-66.4252, 119.8910,  736,    502.1,  -1.7743,  34.3390,2,  34.3388,2,    316.1,2,    315.8,2,    60.60,2,    30.05,2,     2.09,3,   2219.7,6,   2322.6,6,   -0.093,2,    0.000,2,   98.788,2
  09AR20141205,AU1402,    21,  1,      0,      6,2,20141228,1158,-66.4252, 119.8910,  736,    651.2,  -0.3714,  34.5307,2,-999.0000,9,    251.8,2,   -999.0,9,  -999.00,9,  -999.00,9,  -999.00,9,   -999.0,9,   -999.0,9,   -0.089,2,    0.000,2,   98.521,2
  09AR20141205,AU1402,    21,  1,      0,      5,2,20141228,1158,-66.4252, 119.8910,  736,    651.2,  -0.3709,  34.5310,2,  34.5328,2,    251.8,2,    252.3,2,  -999.00,9,  -999.00,9,  -999.00,9,   2241.8,2,   2336.3,2,   -0.086,2,    0.000,2,   98.533,2
  09AR20141205,AU1402,    21,  1,      0,      4,2,20141228,1158,-66.4252, 119.8910,  736,    701.2,  -0.0515,  34.5732,2,-999.0000,9,    241.5,2,   -999.0,9,  -999.00,9,  -999.00,9,  -999.00,9,   -999.0,9,   -999.0,9,   -0.088,2,    0.000,2,   98.121,2
  09AR20141205,AU1402,    21,  1,      0,      3,2,20141228,1158,-66.4252, 119.8910,  736,    701.0,  -0.0494,  34.5736,2,  34.5744,2,    241.5,2,    240.0,2,  -999.00,9,  -999.00,9,  -999.00,9,   2246.5,2,   2332.6,2,   -0.085,2,    0.000,2,   98.110,2
  09AR20141205,AU1402,    21,  1,      0,      2,2,20141228,1158,-66.4252, 119.8910,  736,    746.1,   0.1379,  34.6048,2,-999.0000,9,    232.7,2,   -999.0,9,  -999.00,9,  -999.00,9,  -999.00,9,   -999.0,9,   -999.0,9,   -0.077,2,    0.000,2,   97.849,2
  09AR20141205,AU1402,    21,  1,      0,      1,2,20141228,1158,-66.4252, 119.8910,  736,    746.0,   0.1370,  34.6046,2,  34.6034,2,    232.7,2,    232.2,2,    92.20,2,    31.86,2,     2.22,3,   2251.5,2,   2344.7,2,   -0.081,2,    0.000,2,   97.822,2