BOTTLE,20210329PRINUNIVRMK
EXPOCODE,SECT_ID,STNNBR,CASTNO,SAMPNO,BTLNBR,BTLNBR_FLAG_W,DATE,TIME,LATITUDE,LONGITUDE,DEPTH,CTDPRS,CTDTMP,CTDSAL,CTDSAL_FLAG_W,SALNTY,SALNTY_FLAG_W,CTDOXY,CTDOXY_FLAG_W,OXYGEN,OXYGEN_FLAG_W,SILCAT,SILCAT_FLAG_W,NITRAT,NITRAT_FLAG_W,PHSPHT,PHSPHT_FLAG_W,TCARBN,TCARBN_FLAG_W,ALKALI,ALKALI_FLAG_W,CTDFLUOR,CTDFLUOR_FLAG_W,CTDPAR,CTDPAR_FLAG_W,CTDXMISS,CTDXMISS_FLAG_W
,,,,,,,,,,,METERS,DBAR,ITS-90,PSS-78,,PSS-78,,UMOL/KG,,UMOL/KG,,UMOL/KG,,UMOL/KG,,UMOL/KG,,UMOL/KG,,UMOL/KG,,MG/M^3,,UEINSTEIN/M^2*SEC,,%TRANS,
  09AR20141205,AU1402,   139,  1,      0,     24,2,20150120,0154,-63.3433, 139.8600, 3777,     10.8,   1.6285,  33.8335,2,  33.8343,2,    339.0,2,    338.1,2,    10.70,2,    24.56,2,     1.44,3,   2147.4,2,   2289.6,2,    0.252,2,  230.700,2,   93.781,2
  09AR20141205,AU1402,   139,  1,      0,     23,2,20150120,0154,-63.3433, 139.8600, 3777,     11.0,   1.6248,  33.8339,2,-999.0000,9,    339.0,2,   -999.0,9,  -999.00,9,  -999.00,9,  -999.00,9,   -999.0,9,   -999.0,9,    0.278,2,  230.000,2,   93.831,2
  09AR20141205,AU1402,   139,  1,      0,     22,2,20150120,0154,-63.3433, 139.8600, 3777,     10.7,   1.6165,  33.8344,2,-999.0000,9,    339.0,2,   -999.0,9,  -999.00,9,  -999.00,9,  -999.00,9,   -999.0,9,   -999.0,9,    0.294,2,  216.500,2,   93.746,2
  09AR20141205,AU1402,   139,  1,      0,     21,2,20150120,0154,-63.3433, 139.8600, 3777,     56.0,  -0.3820,  34.0123,2,  34.0106,2,    322.8,2,    322.4,2,    35.20,2,    28.64,2,     2.12,3,   2185.6,6,   2297.3,6,    1.334,2,    4.766,2,   95.562,2
  09AR20141205,AU1402,   139,  1,      0,     20,2,20150120,0154,-63.3433, 139.8600, 3777,    151.2,   1.8607,  34.5575,2,  34.5570,2,    177.9,2,    176.8,2,    75.90,2,    35.22,2,     2.33,3,   2256.8,2,   2332.8,2,   -0.049,2,    0.046,2,   98.788,2
  09AR20141205,AU1402,   139,  1,      0,     19,2,20150120,0154,-63.3433, 139.8600, 3777,    202.7,   1.9856,  34.6061,2,  34.6063,2,    174.3,2,    174.4,2,    77.90,2,    34.56,2,     2.34,3,   2259.0,2,   2336.7,2,   -0.056,2,    0.000,2,   98.832,2
  09AR20141205,AU1402,   139,  1,      0,     18,2,20150120,0154,-63.3433, 139.8600, 3777,    400.5,   1.9667,  34.6947,2,  34.6948,2,    179.5,2,    180.7,2,  -999.00,9,  -999.00,9,  -999.00,9,   2253.5,2,   2343.5,2,   -0.073,2,    0.000,2,   99.025,2
  09AR20141205,AU1402,   139,  1,      0,     17,2,20150120,0154,-63.3433, 139.8600, 3777,    631.6,   1.8607,  34.7321,2,-999.0000,9,    188.2,2,    189.1,2,    85.40,2,    31.47,2,     2.13,3,   2249.6,2,   2350.2,2,   -0.074,2,    0.000,2,   99.105,2
  09AR20141205,AU1402,   139,  1,      0,     16,2,20150120,0154,-63.3433, 139.8600, 3777,    951.5,   1.5723,  34.7408,2,  34.7412,2,    196.1,2,    196.6,2,    92.50,2,    31.17,2,     2.10,3,   2250.0,2,   2348.5,2,   -0.077,2,    0.000,2,   99.142,2
  09AR20141205,AU1402,   139,  1,      0,     15,2,20150120,0154,-63.3433, 139.8600, 3777,   1301.9,   1.2893,  34.7332,2,  34.7337,2,    201.2,2,    201.2,2,   100.50,2,    31.43,2,     2.10,3,   2254.4,2,   2355.0,2,   -0.074,2,    0.000,2,   99.181,2
  09AR20141205,AU1402,   139,  1,      0,     14,2,20150120,0154,-63.3433, 139.8600, 3777,   1582.5,   1.0519,  34.7224,2,  34.7228,2,    204.3,2,    204.1,2,  -999.00,9,  -999.00,9,  -999.00,9,   2256.2,2,   2358.5,2,   -0.081,2,    0.000,2,   99.199,2
  09AR20141205,AU1402,   139,  1,      0,     13,2,20150120,0154,-63.3433, 139.8600, 3777,   1703.3,   0.9542,  34.7174,2,  34.7175,2,    205.5,2,    205.5,2,   110.40,2,    31.99,2,     2.15,3,   2258.1,2,   2357.1,6,   -0.080,2,    0.000,2,   99.199,2
  09AR20141205,AU1402,   139,  1,      0,     12,2,20150120,0154,-63.3433, 139.8600, 3777,   2002.4,   0.7269,  34.7055,2,  34.7057,2,    208.9,2,    208.7,2,  -999.00,9,  -999.00,9,  -999.00,9,   2259.5,6,   2359.0,6,   -0.080,2,    0.000,2,   99.196,2
  09AR20141205,AU1402,   139,  1,      0,     11,2,20150120,0154,-63.3433, 139.8600, 3777,   2133.2,   0.5922,  34.6968,2,  34.6967,2,    210.9,2,    211.4,2,  -999.00,9,  -999.00,9,  -999.00,9,   2259.3,2,   2354.0,2,   -0.078,2,    0.000,2,   99.193,2
  09AR20141205,AU1402,   139,  1,      0,     10,2,20150120,0154,-63.3433, 139.8600, 3777,   2303.2,   0.4515,  34.6874,2,  34.6887,2,    214.2,2,    214.7,2,  -999.00,9,  -999.00,9,  -999.00,9,   2258.8,2,   2354.0,2,   -0.080,2,    0.000,2,   99.191,2
  09AR20141205,AU1402,   139,  1,      0,      9,2,20150120,0154,-63.3433, 139.8600, 3777,   2402.9,   0.3871,  34.6832,2,  34.6831,2,    215.8,2,    216.6,2,   117.60,2,    32.55,2,     2.19,3,   2258.5,2,   2358.6,2,   -0.084,2,    0.000,2,   99.201,2
  09AR20141205,AU1402,   139,  1,      0,      8,2,20150120,0154,-63.3433, 139.8600, 3777,   2602.0,   0.3301,  34.6857,2,  34.6862,2,    218.5,2,    217.8,2,  -999.00,9,  -999.00,9,  -999.00,9,   2259.2,2,   2358.1,2,   -0.086,2,    0.000,2,   99.210,2
  09AR20141205,AU1402,   139,  1,      0,      7,2,20150120,0154,-63.3433, 139.8600, 3777,   2805.7,   0.2395,  34.6815,2,  34.6821,2,    220.6,2,    220.6,2,  -999.00,9,  -999.00,9,  -999.00,9,   2260.7,2,   2354.6,2,   -0.087,2,    0.000,2,   99.191,2
  09AR20141205,AU1402,   139,  1,      0,      6,2,20150120,0154,-63.3433, 139.8600, 3777,   3001.8,   0.1641,  34.6776,2,  34.6780,2,    223.9,2,    223.2,2,   122.40,2,    32.74,2,     2.21,3,   2259.2,2,   2353.2,2,   -0.085,2,    0.000,2,   99.177,2
  09AR20141205,AU1402,   139,  1,      0,      5,2,20150120,0154,-63.3433, 139.8600, 3777,   3252.2,   0.0586,  34.6729,2,  34.6724,2,    227.5,2,    227.1,2,  -999.00,9,  -999.00,9,  -999.00,9,   2258.6,2,   2356.8,6,   -0.087,2,    0.000,2,   99.165,2
  09AR20141205,AU1402,   139,  1,      0,      4,2,20150120,0154,-63.3433, 139.8600, 3777,   3503.0,  -0.0393,  34.6658,2,  34.6657,2,    231.8,2,    231.3,2,  -999.00,9,  -999.00,9,  -999.00,9,   2256.6,2,   2358.5,2,   -0.089,2,    0.000,2,   99.098,2
  09AR20141205,AU1402,   139,  1,      0,      3,2,20150120,0154,-63.3433, 139.8600, 3777,   3601.0,  -0.1354,  34.6547,2,  34.6550,2,    236.6,2,    236.9,2,   112.90,2,    32.37,2,     2.23,3,   2258.8,2,   2354.5,2,   -0.088,2,    0.000,2,   99.099,2
  09AR20141205,AU1402,   139,  1,      0,      2,2,20150120,0154,-63.3433, 139.8600, 3777,   3700.2,  -0.1741,  34.6515,2,  34.6511,2,    238.5,2,    238.5,2,  -999.00,9,  -999.00,9,  -999.00,9,   2256.2,2,   2350.8,2,   -0.085,2,    0.000,2,   99.039,2
  09AR20141205,AU1402,   139,  1,      0,      1,2,20150120,0154,-63.3433, 139.8600, 3777,   3827.1,  -0.2762,  34.6392,2,  34.6393,2,    244.0,2,    244.4,2,   105.90,2,    32.26,2,     2.15,3,   2253.1,6,   2350.6,6,   -0.084,2,    0.000,2,   98.766,2
  09AR20141205,AU1402,   140,  1,      0,     24,2,20150120,1451,-61.8442, 139.8497, 4276,     14.9,   2.1194,  33.8222,2,  33.8242,2,    331.5,2,    332.4,2,  -999.00,9,  -999.00,9,  -999.00,9,   2151.3,2,   2284.1,2,    0.792,2,    8.159,2,   95.559,2
  09AR20141205,AU1402,   140,  1,      0,     23,2,20150120,1451,-61.8442, 139.8497, 4276,     40.6,   2.1169,  33.8220,2,-999.0000,9,    332.6,2,   -999.0,9,  -999.00,9,  -999.00,9,  -999.00,9,   -999.0,9,   -999.0,9,    0.864,2,    2.145,2,   95.548,2
  09AR20141205,AU1402,   140,  1,      0,     22,2,20150120,1451,-61.8442, 139.8497, 4276,     40.7,   2.1173,  33.8218,2,-999.0000,9,    332.6,2,   -999.0,9,  -999.00,9,  -999.00,9,  -999.00,9,   -999.0,9,   -999.0,9,    0.864,2,    2.117,2,   95.560,2
  09AR20141205,AU1402,   140,  1,      0,     21,2,20150120,1451,-61.8442, 139.8497, 4276,     40.7,   2.1182,  33.8218,2,  33.8238,2,    332.6,2,    332.2,2,  -999.00,9,  -999.00,9,  -999.00,9,   2151.8,6,   2283.0,6,    0.838,2,    2.090,2,   95.595,2
  09AR20141205,AU1402,   140,  1,      0,     20,2,20150120,1451,-61.8442, 139.8497, 4276,     74.4,   0.5172,  33.8733,2,  33.8736,2,    341.4,2,    343.4,2,  -999.00,9,  -999.00,9,  -999.00,9,   2163.4,2,   2285.6,2,    1.472,2,    0.313,2,   95.732,2
  09AR20141205,AU1402,   140,  1,      0,     19,2,20150120,1451,-61.8442, 139.8497, 4276,     96.6,  -0.5076,  34.0052,2,  34.0042,2,    328.4,2,    327.6,2,  -999.00,9,  -999.00,9,  -999.00,9,   2187.0,2,   2296.1,2,    0.542,2,    0.045,2,   97.800,2
  09AR20141205,AU1402,   140,  1,      0,     18,2,20150120,1451,-61.8442, 139.8497, 4276,    180.8,   1.9508,  34.4089,2,  34.4066,2,    189.2,2,    190.1,2,  -999.00,9,  -999.00,9,  -999.00,9,   2246.7,2,   2317.3,2,   -0.053,2,    0.000,2,   98.598,2
  09AR20141205,AU1402,   140,  1,      0,     17,2,20150120,1451,-61.8442, 139.8497, 4276,    316.6,   2.1020,  34.5709,2,-999.0000,9,    174.8,2,    174.3,2,  -999.00,9,  -999.00,9,  -999.00,9,   2254.9,2,   2332.1,2,   -0.069,2,    0.000,2,   98.719,2
  09AR20141205,AU1402,   140,  1,      0,     16,2,20150120,1451,-61.8442, 139.8497, 4276,    526.8,   2.0832,  34.6684,2,  34.6690,2,    177.0,2,    177.6,2,  -999.00,9,  -999.00,9,  -999.00,9,   2254.1,2,   2341.4,6,   -0.073,2,    0.000,2,   99.023,2
  09AR20141205,AU1402,   140,  1,      0,     15,2,20150120,1451,-61.8442, 139.8497, 4276,    729.5,   1.9889,  34.7114,2,  34.7121,2,    184.0,2,    183.5,2,  -999.00,9,  -999.00,9,  -999.00,9,   2252.0,2,   2342.6,2,   -0.073,2,    0.000,2,   99.085,2
  09AR20141205,AU1402,   140,  1,      0,     14,2,20150120,1451,-61.8442, 139.8497, 4276,    946.4,   1.8585,  34.7340,2,  34.7349,2,    190.3,2,    189.8,2,  -999.00,9,  -999.00,9,  -999.00,9,   2250.3,2,   2346.9,2,   -0.079,2,    0.000,2,   99.132,2
  09AR20141205,AU1402,   140,  1,      0,     13,2,20150120,1451,-61.8442, 139.8497, 4276,   1150.5,   1.7260,  34.7447,2,  34.7461,2,    195.2,2,    195.4,2,  -999.00,9,  -999.00,9,  -999.00,9,   2249.9,2,   2351.8,2,   -0.081,2,    0.000,2,   99.152,2
  09AR20141205,AU1402,   140,  1,      0,     12,2,20150120,1451,-61.8442, 139.8497, 4276,   1400.2,   1.4956,  34.7392,2,  34.7392,2,    198.1,2,    198.4,2,  -999.00,9,  -999.00,9,  -999.00,9,   2251.7,6,   2352.5,6,   -0.077,2,    0.000,2,   99.160,2
  09AR20141205,AU1402,   140,  1,      0,     11,2,20150120,1451,-61.8442, 139.8497, 4276,   1651.7,   1.3008,  34.7337,2,-999.0000,9,    201.3,2,    201.5,2,  -999.00,9,  -999.00,9,  -999.00,9,   2254.5,2,   2356.5,2,   -0.082,2,    0.000,2,   99.185,2
  09AR20141205,AU1402,   140,  1,      0,     10,2,20150120,1451,-61.8442, 139.8497, 4276,   1902.2,   1.0968,  34.7240,2,  34.7243,2,    203.6,2,    203.7,2,  -999.00,9,  -999.00,9,  -999.00,9,   2256.9,2,   2358.4,2,   -0.081,2,    0.000,2,   99.198,2
  09AR20141205,AU1402,   140,  1,      0,      9,2,20150120,1451,-61.8442, 139.8497, 4276,   2201.3,   0.8643,  34.7110,2,-999.0000,9,    206.8,2,    206.8,2,  -999.00,9,  -999.00,9,  -999.00,9,   2258.3,2,   2358.7,2,   -0.080,2,    0.000,2,   99.206,2
  09AR20141205,AU1402,   140,  1,      0,      8,2,20150120,1451,-61.8442, 139.8497, 4276,   2500.1,   0.6612,  34.7011,2,  34.7015,2,    210.4,2,    210.4,2,  -999.00,9,  -999.00,9,  -999.00,9,   2260.1,2,   2355.2,2,   -0.079,2,    0.000,2,   99.197,2
  09AR20141205,AU1402,   140,  1,      0,      7,2,20150120,1451,-61.8442, 139.8497, 4276,   2802.4,   0.4609,  34.6910,2,-999.0000,9,    215.1,2,    215.0,2,  -999.00,9,  -999.00,9,  -999.00,9,   2261.2,2,   2357.6,2,   -0.084,2,    0.000,2,   99.184,2
  09AR20141205,AU1402,   140,  1,      0,      6,2,20150120,1451,-61.8442, 139.8497, 4276,   3102.8,   0.3308,  34.6846,2,  34.6854,2,    219.0,2,    218.7,2,  -999.00,9,  -999.00,9,  -999.00,9,   2261.0,2,   2358.1,2,   -0.083,2,    0.000,2,   99.190,2
  09AR20141205,AU1402,   140,  1,      0,      5,2,20150120,1451,-61.8442, 139.8497, 4276,   3401.4,   0.2419,  34.6810,2,-999.0000,9,    221.9,2,   -999.0,9,  -999.00,9,  -999.00,9,  -999.00,9,   2259.4,2,   2357.5,6,   -0.089,2,    0.000,2,   99.166,2
  09AR20141205,AU1402,   140,  1,      0,      4,2,20150120,1451,-61.8442, 139.8497, 4276,   3701.5,   0.1513,  34.6758,2,  34.6754,2,    225.5,2,    225.4,2,  -999.00,9,  -999.00,9,  -999.00,9,   2261.4,2,   2358.5,2,   -0.085,2,    0.000,2,   99.138,2
  09AR20141205,AU1402,   140,  1,      0,      3,2,20150120,1451,-61.8442, 139.8497, 4276,   4002.5,   0.0372,  34.6676,2,  34.6672,2,    230.1,2,    230.3,2,  -999.00,9,  -999.00,9,  -999.00,9,   2257.5,2,   2358.1,2,   -0.089,2,    0.000,2,   99.090,2
  09AR20141205,AU1402,   140,  1,      0,      2,2,20150120,1451,-61.8442, 139.8497, 4276,   4253.0,  -0.0438,  34.6590,2,-999.0000,9,    233.9,2,    234.4,2,  -999.00,9,  -999.00,9,  -999.00,9,   2257.9,2,   2351.6,2,   -0.090,2,    0.000,2,   98.938,2
  09AR20141205,AU1402,   140,  1,      0,      1,2,20150120,1451,-61.8442, 139.8497, 4276,   4340.6,  -0.0768,  34.6553,2,  34.6548,2,    236.7,2,    235.8,2,  -999.00,9,  -999.00,9,  -999.00,9,   2257.8,6,   2354.6,6,   -0.086,2,    0.000,2,   98.725,2
  09AR20141205,AU1402,   141,  1,      0,     24,2,20150120,2143,-61.3538, 139.8475, 4322,     10.3,   2.6184,  33.7786,2,  33.7800,2,    330.2,2,    329.8,2,     7.30,2,    25.27,2,     1.51,3,   2143.8,2,   2276.9,2,    0.685,2,   82.450,2,   95.324,2
  09AR20141205,AU1402,   141,  1,      0,     23,2,20150120,2143,-61.3538, 139.8475, 4322,     20.1,   2.6189,  33.7784,2,-999.0000,9,    330.6,2,   -999.0,9,  -999.00,9,  -999.00,9,  -999.00,9,   -999.0,9,   -999.0,9,    0.721,2,   41.400,2,   95.307,2
  09AR20141205,AU1402,   141,  1,      0,     22,2,20150120,2143,-61.3538, 139.8475, 4322,     21.7,   2.6192,  33.7783,2,-999.0000,9,    330.8,2,   -999.0,9,  -999.00,9,  -999.00,9,  -999.00,9,   -999.0,9,   -999.0,9,    0.797,2,   38.160,2,   95.316,2
  09AR20141205,AU1402,   141,  1,      0,     21,2,20150120,2143,-61.3538, 139.8475, 4322,     39.2,   2.6192,  33.7779,2,  33.7798,2,    330.4,2,    329.8,2,     7.20,2,    25.33,2,     1.53,3,   2143.9,6,   2278.4,6,    0.797,2,   16.690,2,   95.268,2
  09AR20141205,AU1402,   141,  1,      0,     20,2,20150120,2143,-61.3538, 139.8475, 4322,     70.9,  -0.3091,  33.8616,2,  33.8625,2,    338.6,2,    343.1,2,    24.60,2,    27.87,2,     1.98,3,   2165.2,2,   2279.8,2,    1.217,2,    2.902,2,   96.779,2
  09AR20141205,AU1402,   141,  1,      0,     19,2,20150120,2143,-61.3538, 139.8475, 4322,     82.8,  -0.7153,  33.9283,2,  33.9282,2,    332.2,2,    330.0,2,  -999.00,9,  -999.00,9,  -999.00,9,   2179.8,2,   2283.9,2,    0.590,2,    1.252,2,   97.790,2
  09AR20141205,AU1402,   141,  1,      0,     18,2,20150120,2143,-61.3538, 139.8475, 4322,    151.8,   1.4050,  34.3085,2,  34.3063,2,    228.4,2,    214.5,2,    57.10,2,    35.18,2,     2.34,3,   2232.4,2,   2308.1,2,   -0.004,2,    0.012,2,   98.813,2
  09AR20141205,AU1402,   141,  1,      0,     17,2,20150120,2143,-61.3538, 139.8475, 4322,    253.0,   2.1680,  34.4917,2,  34.4909,2,    176.7,2,    176.1,2,  -999.00,9,  -999.00,9,  -999.00,9,   2251.7,2,   2322.7,2,   -0.069,2,    0.000,2,   98.820,2
  09AR20141205,AU1402,   141,  1,      0,     16,2,20150120,2143,-61.3538, 139.8475, 4322,    353.4,   2.2059,  34.5721,2,  34.5713,2,    172.5,2,    172.7,2,  -999.00,9,  -999.00,9,  -999.00,9,   2254.1,2,   2329.7,6,   -0.071,2,    0.000,2,   98.936,2
  09AR20141205,AU1402,   141,  1,      0,     15,2,20150120,2143,-61.3538, 139.8475, 4322,    455.3,   2.2243,  34.6291,2,-999.0000,9,    173.7,2,    173.7,2,    76.60,2,    34.10,2,     2.26,3,   2254.0,2,   2334.8,2,   -0.075,2,    0.000,2,   99.038,2
  09AR20141205,AU1402,   141,  1,      0,     14,2,20150120,2143,-61.3538, 139.8475, 4322,    652.2,   2.1242,  34.6868,2,  34.6866,2,    179.8,2,    179.6,2,  -999.00,9,  -999.00,9,  -999.00,9,   2252.2,2,   2340.9,2,   -0.083,2,    0.000,2,   99.106,2
  09AR20141205,AU1402,   141,  1,      0,     13,2,20150120,2143,-61.3538, 139.8475, 4322,    851.4,   2.0291,  34.7242,2,  34.7239,2,    186.2,2,    186.6,2,  -999.00,9,  -999.00,9,  -999.00,9,   2248.8,2,   2343.1,2,   -0.078,2,    0.000,2,   99.158,2
  09AR20141205,AU1402,   141,  1,      0,     12,2,20150120,2143,-61.3538, 139.8475, 4322,   1103.3,   1.8490,  34.7428,2,  34.7420,2,    192.9,2,    193.3,2,    86.30,2,    31.14,2,     2.07,3,   2246.9,6,   2347.7,6,   -0.077,2,    0.000,2,   99.185,2
  09AR20141205,AU1402,   141,  1,      0,     11,2,20150120,2143,-61.3538, 139.8475, 4322,   1403.3,   1.5667,  34.7424,2,  34.7420,2,    197.5,2,    198.0,2,  -999.00,9,  -999.00,9,  -999.00,9,   2249.3,2,   2352.4,2,   -0.084,2,    0.000,2,   99.226,2
  09AR20141205,AU1402,   141,  1,      0,     10,2,20150120,2143,-61.3538, 139.8475, 4322,   1705.5,   1.3043,  34.7334,2,-999.0000,9,    201.4,2,    201.4,2,   101.30,2,    31.49,2,     2.11,3,   2252.5,2,   2354.5,2,   -0.081,2,    0.000,2,   99.232,2
  09AR20141205,AU1402,   141,  1,      0,      9,2,20150120,2143,-61.3538, 139.8475, 4322,   2003.3,   1.0659,  34.7220,2,  34.7212,2,    204.3,2,    204.3,2,  -999.00,9,  -999.00,9,  -999.00,9,   2256.0,2,   2355.0,2,   -0.084,2,    0.000,2,   99.237,2
  09AR20141205,AU1402,   141,  1,      0,      8,2,20150120,2143,-61.3538, 139.8475, 4322,   2354.2,   0.7955,  34.7081,2,-999.0000,9,    208.0,2,    208.4,2,   115.80,2,    32.37,2,     2.12,3,   2258.2,2,   2355.4,2,   -0.086,2,    0.000,2,   99.246,2
  09AR20141205,AU1402,   141,  1,      0,      7,2,20150120,2143,-61.3538, 139.8475, 4322,   2701.4,   0.5468,  34.6951,2,  34.6952,2,    212.8,2,    213.0,2,  -999.00,9,  -999.00,9,  -999.00,9,   2258.4,2,   2357.1,2,   -0.086,2,    0.000,2,   99.243,2
  09AR20141205,AU1402,   141,  1,      0,      6,2,20150120,2143,-61.3538, 139.8475, 4322,   3055.5,   0.3609,  34.6866,2,-999.0000,9,    217.7,2,    217.8,2,   121.10,2,    32.79,2,     2.18,3,   2259.2,2,   2355.7,2,   -0.082,2,    0.000,2,   99.243,2
  09AR20141205,AU1402,   141,  1,      0,      5,2,20150120,2143,-61.3538, 139.8475, 4322,   3403.0,   0.2323,  34.6804,2,  34.6801,2,    221.9,2,    222.3,2,  -999.00,9,  -999.00,9,  -999.00,9,   2258.7,2,   2356.4,2,   -0.086,2,    0.000,2,   99.228,2
  09AR20141205,AU1402,   141,  1,      0,      4,2,20150120,2143,-61.3538, 139.8475, 4322,   3702.5,   0.1340,  34.6752,2,-999.0000,9,    225.4,2,    226.0,2,   126.20,2,    32.88,2,     2.17,3,   2258.6,2,   2355.1,2,   -0.083,2,    0.000,2,   99.214,2
  09AR20141205,AU1402,   141,  1,      0,      3,2,20150120,2143,-61.3538, 139.8475, 4322,   4004.1,   0.0335,  34.6677,2,  34.6668,2,    229.6,2,    230.5,2,   123.70,2,    32.75,2,     2.16,3,   2256.8,2,   2353.5,6,   -0.090,2,    0.000,2,   99.179,2
  09AR20141205,AU1402,   141,  1,      0,      2,2,20150120,2143,-61.3538, 139.8475, 4322,   4251.1,  -0.0430,  34.6598,2,  34.6597,2,    233.8,2,    234.2,2,   122.80,2,    32.64,2,     2.09,3,   2253.7,2,   2352.4,6,   -0.085,2,    0.000,2,   99.040,2
  09AR20141205,AU1402,   141,  1,      0,      1,2,20150120,2143,-61.3538, 139.8475, 4322,   4388.2,  -0.0809,  34.6550,2,  34.6540,2,    236.2,2,    236.3,2,   121.60,2,    32.60,2,     2.16,3,   2256.6,6,   2353.5,6,   -0.083,2,    0.000,2,   98.692,2