BOTTLE,20210329PRINUNIVRMK
EXPOCODE,SECT_ID,STNNBR,CASTNO,SAMPNO,BTLNBR,BTLNBR_FLAG_W,DATE,TIME,LATITUDE,LONGITUDE,DEPTH,CTDPRS,CTDTMP,CTDSAL,CTDSAL_FLAG_W,SALNTY,SALNTY_FLAG_W,CTDOXY,CTDOXY_FLAG_W,OXYGEN,OXYGEN_FLAG_W,SILCAT,SILCAT_FLAG_W,NITRAT,NITRAT_FLAG_W,PHSPHT,PHSPHT_FLAG_W,TCARBN,TCARBN_FLAG_W,ALKALI,ALKALI_FLAG_W,CTDFLUOR,CTDFLUOR_FLAG_W,CTDPAR,CTDPAR_FLAG_W,CTDXMISS,CTDXMISS_FLAG_W
,,,,,,,,,,,METERS,DBAR,ITS-90,PSS-78,,PSS-78,,UMOL/KG,,UMOL/KG,,UMOL/KG,,UMOL/KG,,UMOL/KG,,UMOL/KG,,UMOL/KG,,MG/M^3,,UEINSTEIN/M^2*SEC,,%TRANS,
  09AR20141205,AU1402,   118,  1,      0,     24,2,20150115,1901,-66.6063, 143.7157,  743,      7.4,  -0.9818,  34.1368,2,-999.0000,9,    356.0,2,   -999.0,9,  -999.00,9,  -999.00,9,  -999.00,9,   -999.0,9,   -999.0,9,    6.347,2,   64.500,2,   86.450,2
  09AR20141205,AU1402,   118,  1,      0,     23,2,20150115,1901,-66.6063, 143.7157,  743,      7.4,  -0.9816,  34.1366,2,-999.0000,9,    356.0,2,   -999.0,9,  -999.00,9,  -999.00,9,  -999.00,9,   -999.0,9,   -999.0,9,    6.234,2,   63.740,2,   86.446,2
  09AR20141205,AU1402,   118,  1,      0,     22,2,20150115,1901,-66.6063, 143.7157,  743,      7.4,  -0.9818,  34.1364,2,-999.0000,9,    356.0,2,   -999.0,9,  -999.00,9,  -999.00,9,  -999.00,9,   -999.0,9,   -999.0,9,    6.554,2,   67.870,2,   86.452,2
  09AR20141205,AU1402,   118,  1,      0,     21,2,20150115,1901,-66.6063, 143.7157,  743,      7.3,  -0.9817,  34.1364,2,  34.1373,2,    356.0,2,    356.3,2,    57.10,2,    23.76,2,     1.60,3,   2168.4,2,   2312.4,2,    7.211,2,   71.120,2,   86.616,2
  09AR20141205,AU1402,   118,  1,      0,     20,2,20150115,1901,-66.6063, 143.7157,  743,     20.5,  -0.9797,  34.1374,2,-999.0000,9,    356.4,2,   -999.0,9,  -999.00,9,  -999.00,9,  -999.00,9,   -999.0,9,   -999.0,9,   10.437,2,    4.842,2,   86.354,2
  09AR20141205,AU1402,   118,  1,      0,     19,2,20150115,1901,-66.6063, 143.7157,  743,     20.4,  -0.9818,  34.1376,2,  34.1381,2,    356.4,2,    355.9,2,    56.60,2,    24.04,2,     1.55,3,   2169.9,2,   2310.5,2,   10.222,2,    4.738,2,   86.172,2
  09AR20141205,AU1402,   118,  1,      0,     18,2,20150115,1901,-66.6063, 143.7157,  743,     50.0,  -1.1318,  34.2314,2,-999.0000,9,    335.9,2,    345.4,2,    60.90,2,    24.58,2,     1.71,3,   -999.0,9,   -999.0,9,   12.435,2,    0.000,2,   86.759,2
  09AR20141205,AU1402,   118,  1,      0,     17,2,20150115,1901,-66.6063, 143.7157,  743,     70.1,  -1.2261,  34.3178,2,-999.0000,9,    330.7,2,   -999.0,9,  -999.00,9,  -999.00,9,  -999.00,9,   -999.0,9,   -999.0,9,    7.171,2,    0.000,2,   88.881,2
  09AR20141205,AU1402,   118,  1,      0,     16,2,20150115,1901,-66.6063, 143.7157,  743,     69.9,  -1.2257,  34.3178,2,-999.0000,9,    330.7,2,   -999.0,9,  -999.00,9,  -999.00,9,  -999.00,9,   -999.0,9,   -999.0,9,    6.892,2,    0.000,2,   89.517,2
  09AR20141205,AU1402,   118,  1,      0,     15,2,20150115,1901,-66.6063, 143.7157,  743,    100.5,  -1.6052,  34.4090,2,  34.4089,2,    304.2,2,    303.7,2,  -999.00,9,  -999.00,9,  -999.00,9,   -999.0,9,   -999.0,9,    1.804,2,    0.000,2,   95.944,2
  09AR20141205,AU1402,   118,  1,      0,     14,2,20150115,1901,-66.6063, 143.7157,  743,    100.2,  -1.6031,  34.4087,2,-999.0000,9,    304.2,2,   -999.0,9,  -999.00,9,  -999.00,9,  -999.00,9,   -999.0,9,   -999.0,9,    1.487,2,    0.000,2,   95.841,2
  09AR20141205,AU1402,   118,  1,      0,     13,2,20150115,1901,-66.6063, 143.7157,  743,    100.1,  -1.6021,  34.4084,2,-999.0000,9,    304.2,2,   -999.0,9,  -999.00,9,  -999.00,9,  -999.00,9,   -999.0,9,   -999.0,9,    1.439,2,    0.000,2,   95.907,2
  09AR20141205,AU1402,   118,  1,      0,     12,2,20150115,1901,-66.6063, 143.7157,  743,    100.0,  -1.6019,  34.4085,2,-999.0000,9,    304.2,2,   -999.0,9,  -999.00,9,  -999.00,9,  -999.00,9,   -999.0,9,   -999.0,9,    1.572,2,    0.000,2,   95.880,2
  09AR20141205,AU1402,   118,  1,      0,     11,2,20150115,1901,-66.6063, 143.7157,  743,    150.9,  -1.6847,  34.4352,2,-999.0000,9,    298.4,2,    298.2,2,    71.90,2,    30.13,2,     2.11,3,   2229.4,2,   2328.1,6,    0.216,2,    0.000,2,   98.189,2
  09AR20141205,AU1402,   118,  1,      0,     10,2,20150115,1901,-66.6063, 143.7157,  743,    150.6,  -1.6850,  34.4352,2,-999.0000,9,    298.4,2,   -999.0,9,  -999.00,9,  -999.00,9,  -999.00,9,   -999.0,9,   -999.0,9,    0.250,2,    0.000,2,   98.204,2
  09AR20141205,AU1402,   118,  1,      0,      9,2,20150115,1901,-66.6063, 143.7157,  743,    251.0,  -1.7793,  34.4748,2,-999.0000,9,    300.8,2,    300.0,2,    72.40,2,    30.47,2,     2.10,3,   -999.0,9,   -999.0,9,    0.081,2,    0.000,2,   98.493,2
  09AR20141205,AU1402,   118,  1,      0,      8,2,20150115,1901,-66.6063, 143.7157,  743,    250.3,  -1.7823,  34.4751,2,-999.0000,9,    300.8,2,   -999.0,9,  -999.00,9,  -999.00,9,  -999.00,9,   -999.0,9,   -999.0,9,    0.091,2,    0.000,2,   98.565,2
  09AR20141205,AU1402,   118,  1,      0,      7,2,20150115,1901,-66.6063, 143.7157,  743,    402.8,  -1.8709,  34.5119,2,  34.5120,2,    302.9,2,    303.3,2,  -999.00,9,  -999.00,9,  -999.00,9,   2236.1,2,   2329.3,2,    0.032,2,    0.000,2,   98.610,2
  09AR20141205,AU1402,   118,  1,      0,      6,2,20150115,1901,-66.6063, 143.7157,  743,    402.1,  -1.8700,  34.5112,2,-999.0000,9,    302.9,2,   -999.0,9,  -999.00,9,  -999.00,9,  -999.00,9,   -999.0,9,   -999.0,9,    0.033,2,    0.000,2,   98.623,2
  09AR20141205,AU1402,   118,  1,      0,      5,2,20150115,1901,-66.6063, 143.7157,  743,    601.5,  -1.8964,  34.5678,2,  34.5683,2,    306.2,2,    306.6,2,    72.00,2,    30.98,2,     2.03,3,   -999.0,9,   -999.0,9,   -0.069,2,    0.000,2,   98.746,2
  09AR20141205,AU1402,   118,  1,      0,      4,2,20150115,1901,-66.6063, 143.7157,  743,    601.6,  -1.8969,  34.5678,2,-999.0000,9,    306.2,2,   -999.0,9,  -999.00,9,  -999.00,9,  -999.00,9,   -999.0,9,   -999.0,9,   -0.066,2,    0.000,2,   98.740,2
  09AR20141205,AU1402,   118,  1,      0,      3,2,20150115,1901,-66.6063, 143.7157,  743,    601.6,  -1.8969,  34.5678,2,-999.0000,9,    306.2,2,   -999.0,9,  -999.00,9,  -999.00,9,  -999.00,9,   -999.0,9,   -999.0,9,   -0.069,2,    0.000,2,   98.763,2
  09AR20141205,AU1402,   118,  1,      0,      2,2,20150115,1901,-66.6063, 143.7157,  743,    601.5,  -1.8969,  34.5678,2,-999.0000,9,    306.2,2,   -999.0,9,  -999.00,9,  -999.00,9,  -999.00,9,   -999.0,9,   -999.0,9,   -0.060,2,    0.000,2,   98.760,2
  09AR20141205,AU1402,   118,  1,      0,      1,2,20150115,1901,-66.6063, 143.7157,  743,    740.9,  -1.8926,  34.5856,2,  34.5850,2,    306.9,2,    306.4,2,    72.60,2,    31.00,2,     2.11,3,   2238.4,2,   2338.5,2,   -0.033,2,    0.000,2,   98.150,2
  09AR20141205,AU1402,   119,  1,      0,     24,2,20150115,2105,-66.5692, 143.5382,  724,      7.3,  -1.1750,  34.0667,2,-999.0000,9,    356.9,2,   -999.0,9,  -999.00,9,  -999.00,9,  -999.00,9,   -999.0,9,   -999.0,9,    3.584,2,  188.800,2,   86.279,2
  09AR20141205,AU1402,   119,  1,      0,     23,2,20150115,2105,-66.5692, 143.5382,  724,      7.3,  -1.1727,  34.0671,2,-999.0000,9,    356.9,2,   -999.0,9,  -999.00,9,  -999.00,9,  -999.00,9,   -999.0,9,   -999.0,9,    3.412,2,  183.100,2,   86.288,2
  09AR20141205,AU1402,   119,  1,      0,     22,2,20150115,2105,-66.5692, 143.5382,  724,      7.2,  -1.1744,  34.0666,2,-999.0000,9,    356.9,2,   -999.0,9,  -999.00,9,  -999.00,9,  -999.00,9,   -999.0,9,   -999.0,9,    3.142,2,  185.900,2,   86.625,2
  09AR20141205,AU1402,   119,  1,      0,     21,2,20150115,2105,-66.5692, 143.5382,  724,      7.2,  -1.1746,  34.0664,2,  34.0690,2,    356.9,2,    357.0,2,  -999.00,9,  -999.00,9,  -999.00,9,   2162.1,2,   2309.3,2,    2.578,2,  183.000,2,   86.759,2
  09AR20141205,AU1402,   119,  1,      0,     20,2,20150115,2105,-66.5692, 143.5382,  724,     25.0,  -1.1787,  34.0688,2,  34.0700,2,    356.6,2,    356.5,2,  -999.00,9,  -999.00,9,  -999.00,9,   2162.3,2,   2310.6,2,   10.237,2,    6.495,2,   86.020,2
  09AR20141205,AU1402,   119,  1,      0,     19,2,20150115,2105,-66.5692, 143.5382,  724,     65.8,  -1.4077,  34.3143,2,-999.0000,9,    329.9,2,   -999.0,9,  -999.00,9,  -999.00,9,  -999.00,9,   -999.0,9,   -999.0,9,    5.760,2,    0.000,2,   91.635,2
  09AR20141205,AU1402,   119,  1,      0,     18,2,20150115,2105,-66.5692, 143.5382,  724,     65.6,  -1.4091,  34.3160,2,-999.0000,9,    329.9,2,    326.2,2,  -999.00,9,  -999.00,9,  -999.00,9,   2203.8,2,   2321.6,2,    4.555,2,    0.000,2,   91.761,2
  09AR20141205,AU1402,   119,  1,      0,     17,2,20150115,2105,-66.5692, 143.5382,  724,     65.5,  -1.4145,  34.3137,2,-999.0000,9,    329.9,2,   -999.0,9,  -999.00,9,  -999.00,9,  -999.00,9,   -999.0,9,   -999.0,9,    5.012,2,    0.000,2,   91.981,2
  09AR20141205,AU1402,   119,  1,      0,     16,2,20150115,2105,-66.5692, 143.5382,  724,     64.8,  -1.4247,  34.3112,2,-999.0000,9,    331.6,2,   -999.0,9,  -999.00,9,  -999.00,9,  -999.00,9,   -999.0,9,   -999.0,9,    4.607,2,    0.000,2,   92.002,2
  09AR20141205,AU1402,   119,  1,      0,     15,2,20150115,2105,-66.5692, 143.5382,  724,    100.1,  -1.6891,  34.4009,2,-999.0000,9,    311.1,2,    309.2,2,  -999.00,9,  -999.00,9,  -999.00,9,   2222.8,6,   2326.5,6,    0.951,2,    0.000,2,   96.579,2
  09AR20141205,AU1402,   119,  1,      0,     14,2,20150115,2105,-66.5692, 143.5382,  724,    100.2,  -1.6892,  34.4006,2,-999.0000,9,    311.1,2,   -999.0,9,  -999.00,9,  -999.00,9,  -999.00,9,   -999.0,9,   -999.0,9,    0.890,2,    0.000,2,   96.677,2
  09AR20141205,AU1402,   119,  1,      0,     13,2,20150115,2105,-66.5692, 143.5382,  724,    100.2,  -1.6903,  34.4015,2,-999.0000,9,    311.1,2,   -999.0,9,  -999.00,9,  -999.00,9,  -999.00,9,   -999.0,9,   -999.0,9,    0.946,2,    0.000,2,   96.598,2
  09AR20141205,AU1402,   119,  1,      0,     12,2,20150115,2105,-66.5692, 143.5382,  724,    100.2,  -1.6918,  34.4023,2,-999.0000,9,    311.1,2,   -999.0,9,  -999.00,9,  -999.00,9,  -999.00,9,   -999.0,9,   -999.0,9,    0.889,2,    0.000,2,   96.696,2
  09AR20141205,AU1402,   119,  1,      0,     11,2,20150115,2105,-66.5692, 143.5382,  724,    150.2,  -1.7284,  34.4308,2,-999.0000,9,    304.0,2,    304.1,2,  -999.00,9,  -999.00,9,  -999.00,9,   2225.6,2,   2328.8,2,    0.477,2,    0.000,2,   97.556,2
  09AR20141205,AU1402,   119,  1,      0,     10,2,20150115,2105,-66.5692, 143.5382,  724,    150.0,  -1.7289,  34.4308,2,-999.0000,9,    304.0,2,   -999.0,9,  -999.00,9,  -999.00,9,  -999.00,9,   -999.0,9,   -999.0,9,    0.553,2,    0.000,2,   97.551,2
  09AR20141205,AU1402,   119,  1,      0,      9,2,20150115,2105,-66.5692, 143.5382,  724,    251.4,  -1.8183,  34.4670,2,  34.4677,2,    300.9,2,    301.8,2,  -999.00,9,  -999.00,9,  -999.00,9,   2230.9,2,   2328.6,6,    0.056,2,    0.000,2,   98.534,2
  09AR20141205,AU1402,   119,  1,      0,      8,2,20150115,2105,-66.5692, 143.5382,  724,    251.2,  -1.8183,  34.4674,2,-999.0000,9,    300.9,2,   -999.0,9,  -999.00,9,  -999.00,9,  -999.00,9,   -999.0,9,   -999.0,9,    0.121,2,    0.000,2,   98.443,2
  09AR20141205,AU1402,   119,  1,      0,      7,2,20150115,2105,-66.5692, 143.5382,  724,    401.1,  -1.8802,  34.5196,2,-999.0000,9,    301.9,2,    303.4,2,  -999.00,9,  -999.00,9,  -999.00,9,   2233.8,2,   2333.4,2,   -0.034,2,    0.000,2,   98.749,2
  09AR20141205,AU1402,   119,  1,      0,      6,2,20150115,2105,-66.5692, 143.5382,  724,    400.9,  -1.8805,  34.5196,2,-999.0000,9,    301.8,2,   -999.0,9,  -999.00,9,  -999.00,9,  -999.00,9,   -999.0,9,   -999.0,9,    0.010,2,    0.000,2,   98.726,2
  09AR20141205,AU1402,   119,  1,      0,      5,2,20150115,2105,-66.5692, 143.5382,  724,    600.2,  -1.8975,  34.5688,2,  34.5683,2,    306.6,2,    306.8,2,  -999.00,9,  -999.00,9,  -999.00,9,   2238.3,2,   2335.9,2,   -0.071,2,    0.000,2,   98.768,2
  09AR20141205,AU1402,   119,  1,      0,      4,2,20150115,2105,-66.5692, 143.5382,  724,    600.1,  -1.8976,  34.5683,2,-999.0000,9,    306.6,2,   -999.0,9,  -999.00,9,  -999.00,9,  -999.00,9,   -999.0,9,   -999.0,9,   -0.067,2,    0.000,2,   98.782,2
  09AR20141205,AU1402,   119,  1,      0,      3,2,20150115,2105,-66.5692, 143.5382,  724,    600.1,  -1.8976,  34.5683,2,-999.0000,9,    306.6,2,   -999.0,9,  -999.00,9,  -999.00,9,  -999.00,9,   -999.0,9,   -999.0,9,   -0.072,2,    0.000,2,   98.787,2
  09AR20141205,AU1402,   119,  1,      0,      2,2,20150115,2105,-66.5692, 143.5382,  724,    600.0,  -1.8976,  34.5683,2,-999.0000,9,    306.6,2,   -999.0,9,  -999.00,9,  -999.00,9,  -999.00,9,   -999.0,9,   -999.0,9,   -0.057,2,    0.000,2,   98.794,2
  09AR20141205,AU1402,   119,  1,      0,      1,2,20150115,2105,-66.5692, 143.5382,  724,    727.0,  -1.8927,  34.5881,2,  34.5873,2,    307.4,2,    306.6,2,  -999.00,9,  -999.00,9,  -999.00,9,   2239.2,2,   2338.1,2,   -0.054,2,    0.000,2,   98.463,2
  09AR20141205,AU1402,   120,  1,      0,     24,2,20150115,2252,-66.5137, 143.4688,  753,      7.6,  -1.0700,  33.9773,2,-999.0000,9,    365.0,2,   -999.0,9,  -999.00,9,  -999.00,9,  -999.00,9,   -999.0,9,   -999.0,9,    4.960,2,  239.400,2,   84.796,2
  09AR20141205,AU1402,   120,  1,      0,     23,2,20150115,2252,-66.5137, 143.4688,  753,      7.6,  -1.0715,  33.9781,2,-999.0000,9,    365.0,2,   -999.0,9,  -999.00,9,  -999.00,9,  -999.00,9,   -999.0,9,   -999.0,9,    5.471,2,  240.500,2,   84.555,2
  09AR20141205,AU1402,   120,  1,      0,     22,2,20150115,2252,-66.5137, 143.4688,  753,      7.6,  -1.0720,  33.9779,2,-999.0000,9,    365.0,2,   -999.0,9,  -999.00,9,  -999.00,9,  -999.00,9,   -999.0,9,   -999.0,9,    5.334,2,  240.000,2,   84.328,2
  09AR20141205,AU1402,   120,  1,      0,     21,2,20150115,2252,-66.5137, 143.4688,  753,      7.6,  -1.0731,  33.9802,2,  33.9808,2,    365.0,2,    365.2,2,    59.80,2,    21.16,2,     1.55,3,   2146.0,2,   2306.8,2,    5.742,2,  235.200,2,   85.031,2
  09AR20141205,AU1402,   120,  1,      0,     20,2,20150115,2252,-66.5137, 143.4688,  753,     25.3,  -1.1336,  34.0020,2,-999.0000,9,    364.8,2,   -999.0,9,  -999.00,9,  -999.00,9,  -999.00,9,   -999.0,9,   -999.0,9,   11.638,2,    8.580,2,   84.686,2
  09AR20141205,AU1402,   120,  1,      0,     19,2,20150115,2252,-66.5137, 143.4688,  753,     25.2,  -1.1305,  34.0008,2,  34.0148,2,    364.8,2,    360.7,2,    59.60,2,    21.78,2,     1.52,3,   2152.2,2,   2305.0,2,   10.727,2,    8.922,2,   84.503,2
  09AR20141205,AU1402,   120,  1,      0,     18,2,20150115,2252,-66.5137, 143.4688,  753,     66.1,  -1.3703,  34.1595,2,-999.0000,9,    340.6,2,   -999.0,9,  -999.00,9,  -999.00,9,  -999.00,9,   -999.0,9,   -999.0,9,    7.698,2,    0.000,2,   89.368,2
  09AR20141205,AU1402,   120,  1,      0,     17,2,20150115,2252,-66.5137, 143.4688,  753,     66.1,  -1.3748,  34.1595,2,-999.0000,9,    340.6,2,    340.3,2,    63.90,2,    23.83,2,     1.75,3,   -999.0,9,   -999.0,9,    7.542,2,    0.000,2,   89.732,2
  09AR20141205,AU1402,   120,  1,      0,     16,2,20150115,2252,-66.5137, 143.4688,  753,     66.0,  -1.3824,  34.1596,2,-999.0000,9,    340.6,2,   -999.0,9,  -999.00,9,  -999.00,9,  -999.00,9,   -999.0,9,   -999.0,9,    7.098,2,    0.000,2,   90.020,2
  09AR20141205,AU1402,   120,  1,      0,     15,2,20150115,2252,-66.5137, 143.4688,  753,    100.7,  -1.4537,  34.2198,2,  34.2223,2,    334.5,2,    335.1,2,  -999.00,9,  -999.00,9,  -999.00,9,   -999.0,9,   -999.0,9,    6.160,2,    0.000,2,   91.059,2
  09AR20141205,AU1402,   120,  1,      0,     14,2,20150115,2252,-66.5137, 143.4688,  753,    100.4,  -1.4534,  34.2196,2,-999.0000,9,    334.5,2,   -999.0,9,  -999.00,9,  -999.00,9,  -999.00,9,   -999.0,9,   -999.0,9,    4.817,2,    0.000,2,   91.076,2
  09AR20141205,AU1402,   120,  1,      0,     13,2,20150115,2252,-66.5137, 143.4688,  753,    100.4,  -1.4529,  34.2193,2,-999.0000,9,    334.5,2,   -999.0,9,  -999.00,9,  -999.00,9,  -999.00,9,   -999.0,9,   -999.0,9,    5.028,2,    0.000,2,   90.919,2
  09AR20141205,AU1402,   120,  1,      0,     12,2,20150115,2252,-66.5137, 143.4688,  753,    100.3,  -1.4530,  34.2192,2,-999.0000,9,    334.5,2,   -999.0,9,  -999.00,9,  -999.00,9,  -999.00,9,   -999.0,9,   -999.0,9,    5.280,2,    0.000,2,   91.148,2
  09AR20141205,AU1402,   120,  1,      0,     11,2,20150115,2252,-66.5137, 143.4688,  753,    151.4,  -1.7082,  34.3995,2,  34.3999,2,    309.5,2,    308.8,2,    70.20,2,    29.10,2,     2.03,3,   2224.4,2,   2327.4,2,    1.065,2,    0.000,2,   96.735,2
  09AR20141205,AU1402,   120,  1,      0,     10,2,20150115,2252,-66.5137, 143.4688,  753,    150.7,  -1.7004,  34.4022,2,-999.0000,9,    309.9,2,   -999.0,9,  -999.00,9,  -999.00,9,  -999.00,9,   -999.0,9,   -999.0,9,    0.841,2,    0.000,2,   96.713,2
  09AR20141205,AU1402,   120,  1,      0,      9,2,20150115,2252,-66.5137, 143.4688,  753,    252.7,  -1.7825,  34.4702,2,-999.0000,9,    303.9,2,    301.3,2,  -999.00,9,  -999.00,9,  -999.00,9,   -999.0,9,   -999.0,9,    0.103,2,    0.000,2,   98.407,2
  09AR20141205,AU1402,   120,  1,      0,      8,2,20150115,2252,-66.5137, 143.4688,  753,    252.1,  -1.7799,  34.4696,2,-999.0000,9,    303.9,2,   -999.0,9,  -999.00,9,  -999.00,9,  -999.00,9,   -999.0,9,   -999.0,9,    0.204,2,    0.000,2,   98.364,2
  09AR20141205,AU1402,   120,  1,      0,      7,2,20150115,2252,-66.5137, 143.4688,  753,    401.9,  -1.9055,  34.5093,2,-999.0000,9,    300.7,2,    303.6,2,    72.60,2,    30.90,2,     2.12,3,   2233.4,2,   2330.5,2,   -0.036,2,    0.000,2,   98.747,2
  09AR20141205,AU1402,   120,  1,      0,      6,2,20150115,2252,-66.5137, 143.4688,  753,    401.3,  -1.9088,  34.5095,2,-999.0000,9,    300.7,2,   -999.0,9,  -999.00,9,  -999.00,9,  -999.00,9,   -999.0,9,   -999.0,9,   -0.033,2,    0.000,2,   98.748,2
  09AR20141205,AU1402,   120,  1,      0,      5,2,20150115,2252,-66.5137, 143.4688,  753,    600.0,  -1.8989,  34.5651,2,  34.5636,2,    307.5,2,    307.0,2,  -999.00,9,  -999.00,9,  -999.00,9,   -999.0,9,   -999.0,9,   -0.074,2,    0.000,2,   98.828,2
  09AR20141205,AU1402,   120,  1,      0,      4,2,20150115,2252,-66.5137, 143.4688,  753,    600.3,  -1.8988,  34.5648,2,-999.0000,9,    307.5,2,   -999.0,9,  -999.00,9,  -999.00,9,  -999.00,9,   -999.0,9,   -999.0,9,   -0.070,2,    0.000,2,   98.816,2
  09AR20141205,AU1402,   120,  1,      0,      3,2,20150115,2252,-66.5137, 143.4688,  753,    600.6,  -1.8984,  34.5647,2,-999.0000,9,    307.5,2,   -999.0,9,  -999.00,9,  -999.00,9,  -999.00,9,   -999.0,9,   -999.0,9,   -0.067,2,    0.000,2,   98.814,2
  09AR20141205,AU1402,   120,  1,      0,      2,2,20150115,2252,-66.5137, 143.4688,  753,    600.8,  -1.8976,  34.5646,2,-999.0000,9,    307.5,2,   -999.0,9,  -999.00,9,  -999.00,9,  -999.00,9,   -999.0,9,   -999.0,9,   -0.073,2,    0.000,2,   98.817,2
  09AR20141205,AU1402,   120,  1,      0,      1,2,20150115,2252,-66.5137, 143.4688,  753,    752.2,  -1.8898,  34.5911,2,  34.5901,2,    305.7,2,    306.6,2,    73.30,2,    31.04,2,     2.14,3,   2240.7,2,   2336.6,2,   -0.028,2,    0.000,2,   98.241,2