BOTTLE,20210329PRINUNIVRMK
EXPOCODE,SECT_ID,STNNBR,CASTNO,SAMPNO,BTLNBR,BTLNBR_FLAG_W,DATE,TIME,LATITUDE,LONGITUDE,DEPTH,CTDPRS,CTDTMP,CTDSAL,CTDSAL_FLAG_W,SALNTY,SALNTY_FLAG_W,CTDOXY,CTDOXY_FLAG_W,OXYGEN,OXYGEN_FLAG_W,SILCAT,SILCAT_FLAG_W,NITRAT,NITRAT_FLAG_W,PHSPHT,PHSPHT_FLAG_W,TCARBN,TCARBN_FLAG_W,ALKALI,ALKALI_FLAG_W,CTDFLUOR,CTDFLUOR_FLAG_W,CTDPAR,CTDPAR_FLAG_W,CTDXMISS,CTDXMISS_FLAG_W
,,,,,,,,,,,METERS,DBAR,ITS-90,PSS-78,,PSS-78,,UMOL/KG,,UMOL/KG,,UMOL/KG,,UMOL/KG,,UMOL/KG,,UMOL/KG,,UMOL/KG,,MG/M^3,,UEINSTEIN/M^2*SEC,,%TRANS,
  09AR20141205,AU1402,   100,  1,      0,     24,2,20150113,2038,-67.1610, 145.4508, 1129,      6.8,  -1.5190,  33.6237,2,  33.6317,2,    380.6,2,    382.6,2,  -999.00,9,    17.42,2,     1.38,3,   2099.2,2,   2289.8,2,    1.326,2,  226.600,2,   88.013,2
  09AR20141205,AU1402,   100,  1,      0,     23,2,20150113,2038,-67.1610, 145.4508, 1129,      6.7,  -1.5213,  33.6236,2,-999.0000,9,    380.6,2,   -999.0,9,  -999.00,9,  -999.00,9,  -999.00,9,   -999.0,9,   -999.0,9,    1.459,2,  217.000,2,   88.205,2
  09AR20141205,AU1402,   100,  1,      0,     22,2,20150113,2038,-67.1610, 145.4508, 1129,      6.6,  -1.5256,  33.6233,2,-999.0000,9,    380.6,2,   -999.0,9,  -999.00,9,  -999.00,9,  -999.00,9,   -999.0,9,   -999.0,9,    1.135,2,  234.800,2,   88.255,2
  09AR20141205,AU1402,   100,  1,      0,     21,2,20150113,2038,-67.1610, 145.4508, 1129,     18.8,  -1.4082,  33.7092,2,  33.7116,2,    380.7,2,    375.9,2,  -999.00,9,  -999.00,9,  -999.00,9,   2108.5,2,   2293.4,2,    8.822,2,   28.960,2,   85.416,2
  09AR20141205,AU1402,   100,  1,      0,     20,2,20150113,2038,-67.1610, 145.4508, 1129,     18.7,  -1.4379,  33.7050,2,-999.0000,9,    380.7,2,   -999.0,9,  -999.00,9,  -999.00,9,  -999.00,9,   -999.0,9,   -999.0,9,   11.877,2,   29.580,2,   86.086,2
  09AR20141205,AU1402,   100,  1,      0,     19,2,20150113,2038,-67.1610, 145.4508, 1129,     45.8,  -1.3702,  33.8538,2,-999.0000,9,    358.5,2,    361.7,2,  -999.00,9,    19.18,2,     1.52,3,   2130.0,2,   2304.0,2,   13.738,2,    0.326,2,   85.708,2
  09AR20141205,AU1402,   100,  1,      0,     18,2,20150113,2038,-67.1610, 145.4508, 1129,     45.4,  -1.3746,  33.8527,2,-999.0000,9,    358.5,2,   -999.0,9,  -999.00,9,  -999.00,9,  -999.00,9,   -999.0,9,   -999.0,9,   12.475,2,    0.341,2,   85.616,2
  09AR20141205,AU1402,   100,  1,      0,     17,2,20150113,2038,-67.1610, 145.4508, 1129,    100.1,  -1.7777,  34.4045,2,-999.0000,9,    301.2,2,    303.9,2,  -999.00,9,    29.86,2,     2.07,3,   2226.5,2,   2328.9,2,    0.319,2,    0.000,2,   97.653,2
  09AR20141205,AU1402,   100,  1,      0,     16,2,20150113,2038,-67.1610, 145.4508, 1129,    100.9,  -1.7748,  34.4049,2,-999.0000,9,    301.2,2,   -999.0,9,  -999.00,9,  -999.00,9,  -999.00,9,   -999.0,9,   -999.0,9,    0.394,2,    0.000,2,   97.650,2
  09AR20141205,AU1402,   100,  1,      0,     15,2,20150113,2038,-67.1610, 145.4508, 1129,    150.5,  -1.7741,  34.4267,2,  34.4244,2,    302.0,2,    300.0,2,  -999.00,9,  -999.00,9,  -999.00,9,   2229.9,6,   2328.9,6,    0.162,2,    0.000,2,   98.161,2
  09AR20141205,AU1402,   100,  1,      0,     14,2,20150113,2038,-67.1610, 145.4508, 1129,    150.4,  -1.7672,  34.4266,2,-999.0000,9,    302.0,2,   -999.0,9,  -999.00,9,  -999.00,9,  -999.00,9,   -999.0,9,   -999.0,9,    0.127,2,    0.000,2,   98.115,2
  09AR20141205,AU1402,   100,  1,      0,     13,2,20150113,2038,-67.1610, 145.4508, 1129,    201.1,  -1.8186,  34.4386,2,-999.0000,9,    303.5,2,    302.3,2,  -999.00,9,  -999.00,9,  -999.00,9,   2230.9,2,   2329.7,6,    0.017,2,    0.000,2,   98.413,2
  09AR20141205,AU1402,   100,  1,      0,     12,2,20150113,2038,-67.1610, 145.4508, 1129,    201.6,  -1.8269,  34.4390,2,-999.0000,9,    303.5,2,   -999.0,9,  -999.00,9,  -999.00,9,  -999.00,9,   -999.0,9,   -999.0,9,    0.018,2,    0.000,2,   98.431,2
  09AR20141205,AU1402,   100,  1,      0,     11,2,20150113,2038,-67.1610, 145.4508, 1129,    348.2,  -1.8522,  34.4739,2,-999.0000,9,    302.9,2,    303.0,2,  -999.00,9,    30.59,2,     2.07,3,   2231.7,2,   2330.3,2,   -0.049,2,    0.000,2,   98.616,2
  09AR20141205,AU1402,   100,  1,      0,     10,2,20150113,2038,-67.1610, 145.4508, 1129,    349.7,  -1.8521,  34.4742,2,-999.0000,9,    302.8,2,   -999.0,9,  -999.00,9,  -999.00,9,  -999.00,9,   -999.0,9,   -999.0,9,   -0.032,2,    0.000,2,   98.617,2
  09AR20141205,AU1402,   100,  1,      0,      9,2,20150113,2038,-67.1610, 145.4508, 1129,    500.5,  -1.8787,  34.5077,2,  34.5099,2,    304.1,2,    304.5,2,  -999.00,9,  -999.00,9,  -999.00,9,   2233.9,2,   2334.0,2,   -0.055,2,    0.000,2,   98.698,2
  09AR20141205,AU1402,   100,  1,      0,      8,2,20150113,2038,-67.1610, 145.4508, 1129,    500.8,  -1.8801,  34.5083,2,-999.0000,9,    304.1,2,   -999.0,9,  -999.00,9,  -999.00,9,  -999.00,9,   -999.0,9,   -999.0,9,   -0.058,2,    0.000,2,   98.708,2
  09AR20141205,AU1402,   100,  1,      0,      7,2,20150113,2038,-67.1610, 145.4508, 1129,    650.4,  -1.8934,  34.5492,2,-999.0000,9,    305.0,2,    304.9,2,  -999.00,9,  -999.00,9,  -999.00,9,   2235.1,2,   2337.5,2,   -0.079,2,    0.000,2,   98.591,2
  09AR20141205,AU1402,   100,  1,      0,      6,2,20150113,2038,-67.1610, 145.4508, 1129,    650.0,  -1.8933,  34.5488,2,-999.0000,9,    305.0,2,   -999.0,9,  -999.00,9,  -999.00,9,  -999.00,9,   -999.0,9,   -999.0,9,   -0.074,2,    0.000,2,   98.605,2
  09AR20141205,AU1402,   100,  1,      0,      5,2,20150113,2038,-67.1610, 145.4508, 1129,    825.9,  -1.8911,  34.5846,2,  34.5846,2,    308.0,2,    308.0,2,  -999.00,9,    30.72,2,     2.07,3,   2238.8,2,   2339.2,2,   -0.076,2,    0.000,2,   98.699,2
  09AR20141205,AU1402,   100,  1,      0,      4,2,20150113,2038,-67.1610, 145.4508, 1129,    825.6,  -1.8911,  34.5847,2,-999.0000,9,    308.0,2,   -999.0,9,  -999.00,9,  -999.00,9,  -999.00,9,   -999.0,9,   -999.0,9,   -0.085,2,    0.000,2,   98.709,2
  09AR20141205,AU1402,   100,  1,      0,      3,2,20150113,2038,-67.1610, 145.4508, 1129,   1000.0,  -1.8793,  34.6047,2,-999.0000,9,    306.7,2,    307.3,2,  -999.00,9,  -999.00,9,  -999.00,9,   2239.5,2,   2342.3,2,   -0.060,2,    0.000,2,   98.617,2
  09AR20141205,AU1402,   100,  1,      0,      2,2,20150113,2038,-67.1610, 145.4508, 1129,   1001.0,  -1.8793,  34.6051,2,-999.0000,9,    306.8,2,   -999.0,9,  -999.00,9,  -999.00,9,  -999.00,9,   -999.0,9,   -999.0,9,   -0.085,2,    0.000,2,   98.632,2
  09AR20141205,AU1402,   100,  1,      0,      1,2,20150113,2038,-67.1610, 145.4508, 1129,   1132.6,  -1.8730,  34.6152,2,  34.6146,2,    306.6,2,   -999.0,9,  -999.00,9,    30.80,2,     1.99,3,   2242.4,2,   2339.6,2,   -0.077,2,    0.000,2,   98.512,2
  09AR20141205,AU1402,   101,  1,      0,     24,2,20150113,2253,-67.1180, 145.3033, 1261,      7.5,  -1.4470,  33.6656,2,  33.6665,2,    381.6,2,    381.2,2,  -999.00,9,    17.83,2,     1.38,3,   2102.8,2,   2291.6,2,    1.444,2,  296.300,2,   87.700,2
  09AR20141205,AU1402,   101,  1,      0,     23,2,20150113,2253,-67.1180, 145.3033, 1261,      7.3,  -1.4477,  33.6648,2,-999.0000,9,    381.6,2,   -999.0,9,  -999.00,9,  -999.00,9,  -999.00,9,   -999.0,9,   -999.0,9,    1.922,2,  273.500,2,   86.513,2
  09AR20141205,AU1402,   101,  1,      0,     22,2,20150113,2253,-67.1180, 145.3033, 1261,      7.3,  -1.4482,  33.6650,2,-999.0000,9,    381.6,2,   -999.0,9,  -999.00,9,  -999.00,9,  -999.00,9,   -999.0,9,   -999.0,9,    1.840,2,  285.400,2,   87.041,2
  09AR20141205,AU1402,   101,  1,      0,     21,2,20150113,2253,-67.1180, 145.3033, 1261,     20.6,  -1.4941,  33.6838,2,  33.7487,2,    378.5,2,    372.5,2,  -999.00,9,  -999.00,9,  -999.00,9,   2115.0,2,   2296.0,2,   10.833,2,   32.670,2,   83.967,2
  09AR20141205,AU1402,   101,  1,      0,     20,2,20150113,2253,-67.1180, 145.3033, 1261,     20.3,  -1.4892,  33.6874,2,-999.0000,9,    378.5,2,   -999.0,9,  -999.00,9,  -999.00,9,  -999.00,9,   -999.0,9,   -999.0,9,    8.897,2,   32.250,2,   86.004,2
  09AR20141205,AU1402,   101,  1,      0,     19,2,20150113,2253,-67.1180, 145.3033, 1261,     50.6,  -1.2415,  33.8985,2,-999.0000,9,    359.3,2,    339.0,2,  -999.00,9,    23.53,2,     1.80,3,   2175.1,2,   2315.8,2,   16.188,2,    0.138,2,   82.028,2
  09AR20141205,AU1402,   101,  1,      0,     18,2,20150113,2253,-67.1180, 145.3033, 1261,     50.3,  -1.2207,  33.8895,2,-999.0000,9,    359.3,2,   -999.0,9,  -999.00,9,  -999.00,9,  -999.00,9,   -999.0,9,   -999.0,9,   16.513,2,    0.145,2,   85.920,2
  09AR20141205,AU1402,   101,  1,      0,     17,2,20150113,2253,-67.1180, 145.3033, 1261,    100.6,  -1.7918,  34.3983,2,-999.0000,9,    308.7,2,    306.8,2,  -999.00,9,    29.68,2,     2.08,3,   2225.8,2,   2326.7,2,    0.471,2,    0.000,2,   97.568,2
  09AR20141205,AU1402,   101,  1,      0,     16,2,20150113,2253,-67.1180, 145.3033, 1261,    100.3,  -1.7920,  34.3986,2,-999.0000,9,    308.7,2,   -999.0,9,  -999.00,9,  -999.00,9,  -999.00,9,   -999.0,9,   -999.0,9,    0.338,2,    0.000,2,   97.629,2
  09AR20141205,AU1402,   101,  1,      0,     15,2,20150113,2253,-67.1180, 145.3033, 1261,    151.0,  -1.7692,  34.4207,2,  34.4193,2,    303.8,2,    301.5,2,  -999.00,9,  -999.00,9,  -999.00,9,   2229.0,6,   2329.1,6,    0.218,2,    0.000,2,   98.047,2
  09AR20141205,AU1402,   101,  1,      0,     14,2,20150113,2253,-67.1180, 145.3033, 1261,    151.0,  -1.7691,  34.4205,2,-999.0000,9,    304.0,2,   -999.0,9,  -999.00,9,  -999.00,9,  -999.00,9,   -999.0,9,   -999.0,9,    0.189,2,    0.000,2,   97.950,2
  09AR20141205,AU1402,   101,  1,      0,     13,2,20150113,2253,-67.1180, 145.3033, 1261,    260.8,  -1.7412,  34.4467,2,-999.0000,9,    295.6,2,    296.0,2,  -999.00,9,  -999.00,9,  -999.00,9,   2232.5,2,   2331.4,2,    0.056,2,    0.000,2,   98.324,2
  09AR20141205,AU1402,   101,  1,      0,     12,2,20150113,2253,-67.1180, 145.3033, 1261,    260.4,  -1.7382,  34.4468,2,-999.0000,9,    295.6,2,   -999.0,9,  -999.00,9,  -999.00,9,  -999.00,9,   -999.0,9,   -999.0,9,    0.032,2,    0.000,2,   98.354,2
  09AR20141205,AU1402,   101,  1,      0,     11,2,20150113,2253,-67.1180, 145.3033, 1261,    400.4,  -1.8094,  34.4896,2,-999.0000,9,    299.2,2,    300.5,2,  -999.00,9,    30.71,2,     2.09,3,   2234.0,2,   2334.4,2,   -0.029,2,    0.000,2,   98.618,2
  09AR20141205,AU1402,   101,  1,      0,     10,2,20150113,2253,-67.1180, 145.3033, 1261,    400.6,  -1.8132,  34.4899,2,-999.0000,9,    299.2,2,   -999.0,9,  -999.00,9,  -999.00,9,  -999.00,9,   -999.0,9,   -999.0,9,   -0.030,2,    0.000,2,   98.624,2
  09AR20141205,AU1402,   101,  1,      0,      9,2,20150113,2253,-67.1180, 145.3033, 1261,    575.9,  -1.8902,  34.5321,2,  34.5295,2,    302.8,2,    303.9,2,  -999.00,9,  -999.00,9,  -999.00,9,   2234.4,2,   2336.1,2,   -0.076,2,    0.000,2,   98.652,2
  09AR20141205,AU1402,   101,  1,      0,      8,2,20150113,2253,-67.1180, 145.3033, 1261,    575.9,  -1.8902,  34.5319,2,-999.0000,9,    302.8,2,   -999.0,9,  -999.00,9,  -999.00,9,  -999.00,9,   -999.0,9,   -999.0,9,   -0.069,2,    0.000,2,   98.643,2
  09AR20141205,AU1402,   101,  1,      0,      7,2,20150113,2253,-67.1180, 145.3033, 1261,    750.4,  -1.8905,  34.5761,2,-999.0000,9,    306.2,2,    307.4,2,  -999.00,9,  -999.00,9,  -999.00,9,   2238.5,2,   2338.8,2,   -0.080,2,    0.000,2,   98.732,2
  09AR20141205,AU1402,   101,  1,      0,      6,2,20150113,2253,-67.1180, 145.3033, 1261,    750.7,  -1.8904,  34.5760,2,-999.0000,9,    306.2,2,   -999.0,9,  -999.00,9,  -999.00,9,  -999.00,9,   -999.0,9,   -999.0,9,   -0.080,2,    0.000,2,   98.735,2
  09AR20141205,AU1402,   101,  1,      0,      5,2,20150113,2253,-67.1180, 145.3033, 1261,    950.9,  -1.8834,  34.5968,2,-999.0000,9,    307.5,2,    307.6,2,  -999.00,9,    30.77,2,     2.04,3,   2240.9,2,   2339.7,6,   -0.083,2,    0.000,2,   98.693,2
  09AR20141205,AU1402,   101,  1,      0,      4,2,20150113,2253,-67.1180, 145.3033, 1261,    950.7,  -1.8833,  34.5970,2,-999.0000,9,    307.5,2,   -999.0,9,  -999.00,9,  -999.00,9,  -999.00,9,   -999.0,9,   -999.0,9,   -0.075,2,    0.000,2,   98.687,2
  09AR20141205,AU1402,   101,  1,      0,      3,2,20150113,2253,-67.1180, 145.3033, 1261,   1151.1,  -1.8735,  34.6097,2,-999.0000,9,    307.6,2,    307.1,2,  -999.00,9,  -999.00,9,  -999.00,9,   2239.4,2,   2341.0,2,   -0.067,2,    0.000,2,   98.610,2
  09AR20141205,AU1402,   101,  1,      0,      2,2,20150113,2253,-67.1180, 145.3033, 1261,   1151.3,  -1.8735,  34.6098,2,-999.0000,9,    307.6,2,   -999.0,9,  -999.00,9,  -999.00,9,  -999.00,9,   -999.0,9,   -999.0,9,   -0.085,2,    0.000,2,   98.608,2
  09AR20141205,AU1402,   101,  1,      0,      1,2,20150113,2253,-67.1180, 145.3033, 1261,   1276.5,  -1.8663,  34.6161,2,  34.6144,2,    307.7,2,    306.5,2,  -999.00,9,    30.88,2,     2.08,3,   2242.3,2,   2343.0,2,   -0.073,2,    0.000,2,   98.526,2
  09AR20141205,AU1402,   102,  1,      0,     24,2,20150114,0118,-67.0893, 145.1805, 1300,      7.3,  -1.2788,  33.7265,2,  33.7261,2,    377.1,2,    377.3,2,  -999.00,9,  -999.00,9,  -999.00,9,   2107.9,2,   2295.1,2,    1.914,2,   35.360,2,   86.121,2
  09AR20141205,AU1402,   102,  1,      0,     23,2,20150114,0118,-67.0893, 145.1805, 1300,      7.2,  -1.2763,  33.7252,2,-999.0000,9,    377.1,2,   -999.0,9,  -999.00,9,  -999.00,9,  -999.00,9,   -999.0,9,   -999.0,9,    1.768,2,   34.660,2,   85.545,2
  09AR20141205,AU1402,   102,  1,      0,     22,2,20150114,0118,-67.0893, 145.1805, 1300,      7.1,  -1.2704,  33.7222,2,-999.0000,9,    377.1,2,   -999.0,9,  -999.00,9,  -999.00,9,  -999.00,9,   -999.0,9,   -999.0,9,    1.583,2,   35.460,2,   85.915,2
  09AR20141205,AU1402,   102,  1,      0,     21,2,20150114,0118,-67.0893, 145.1805, 1300,     18.4,  -1.3840,  33.7579,2,  33.7679,2,    375.9,2,    374.5,2,  -999.00,9,  -999.00,9,  -999.00,9,   2114.6,2,   2297.8,2,    9.550,2,    7.981,2,   84.825,2
  09AR20141205,AU1402,   102,  1,      0,     20,2,20150114,0118,-67.0893, 145.1805, 1300,     18.3,  -1.3845,  33.7563,2,-999.0000,9,    375.9,2,   -999.0,9,  -999.00,9,  -999.00,9,  -999.00,9,   -999.0,9,   -999.0,9,    9.590,2,    7.831,2,   84.170,2
  09AR20141205,AU1402,   102,  1,      0,     19,2,20150114,0118,-67.0893, 145.1805, 1300,     45.2,  -1.2589,  33.8831,2,-999.0000,9,    357.0,2,    350.6,2,  -999.00,9,  -999.00,9,  -999.00,9,   2154.6,2,   2311.4,2,   14.028,2,    0.292,2,   84.669,2
  09AR20141205,AU1402,   102,  1,      0,     18,2,20150114,0118,-67.0893, 145.1805, 1300,     45.0,  -1.2674,  33.8828,2,-999.0000,9,    357.0,2,   -999.0,9,  -999.00,9,  -999.00,9,  -999.00,9,   -999.0,9,   -999.0,9,   14.553,2,    0.271,2,   84.169,2
  09AR20141205,AU1402,   102,  1,      0,     17,2,20150114,0118,-67.0893, 145.1805, 1300,    100.9,  -1.7649,  34.3601,2,-999.0000,9,    313.5,2,    311.5,2,  -999.00,9,  -999.00,9,  -999.00,9,   2220.5,2,   2326.8,2,    1.835,2,    0.000,2,   96.513,2
  09AR20141205,AU1402,   102,  1,      0,     16,2,20150114,0118,-67.0893, 145.1805, 1300,    100.7,  -1.7650,  34.3603,2,-999.0000,9,    313.5,2,   -999.0,9,  -999.00,9,  -999.00,9,  -999.00,9,   -999.0,9,   -999.0,9,    1.006,2,    0.000,2,   96.453,2
  09AR20141205,AU1402,   102,  1,      0,     15,2,20150114,0118,-67.0893, 145.1805, 1300,    150.9,  -1.7802,  34.4059,2,  34.4058,2,    306.3,2,    303.8,2,  -999.00,9,  -999.00,9,  -999.00,9,   2227.4,6,   2327.3,6,    0.625,2,    0.000,2,   97.631,2
  09AR20141205,AU1402,   102,  1,      0,     14,2,20150114,0118,-67.0893, 145.1805, 1300,    150.6,  -1.7815,  34.4058,2,-999.0000,9,    306.3,2,   -999.0,9,  -999.00,9,  -999.00,9,  -999.00,9,   -999.0,9,   -999.0,9,    0.354,2,    0.000,2,   97.553,2
  09AR20141205,AU1402,   102,  1,      0,     13,2,20150114,0118,-67.0893, 145.1805, 1300,    250.5,  -1.8009,  34.4297,2,-999.0000,9,    301.6,2,    302.6,2,  -999.00,9,  -999.00,9,  -999.00,9,   2229.3,2,   2329.0,2,    0.102,2,    0.000,2,   98.275,2
  09AR20141205,AU1402,   102,  1,      0,     12,2,20150114,0118,-67.0893, 145.1805, 1300,    250.1,  -1.8091,  34.4304,2,-999.0000,9,    301.6,2,   -999.0,9,  -999.00,9,  -999.00,9,  -999.00,9,   -999.0,9,   -999.0,9,    0.495,2,    0.000,2,   98.301,2
  09AR20141205,AU1402,   102,  1,      0,     11,2,20150114,0118,-67.0893, 145.1805, 1300,    401.0,  -1.8829,  34.5043,2,  34.5040,2,    302.1,2,    304.1,2,  -999.00,9,  -999.00,9,  -999.00,9,   2234.2,2,   2333.9,2,   -0.057,2,    0.000,2,   98.702,2
  09AR20141205,AU1402,   102,  1,      0,     10,2,20150114,0118,-67.0893, 145.1805, 1300,    400.9,  -1.8812,  34.5034,2,-999.0000,9,    302.2,2,   -999.0,9,  -999.00,9,  -999.00,9,  -999.00,9,   -999.0,9,   -999.0,9,   -0.047,2,    0.000,2,   98.609,2
  09AR20141205,AU1402,   102,  1,      0,      9,2,20150114,0118,-67.0893, 145.1805, 1300,    576.6,  -1.9218,  34.5300,2,-999.0000,9,    303.8,2,    305.2,2,  -999.00,9,  -999.00,9,  -999.00,9,   2234.6,2,   2334.0,2,   -0.068,2,    0.000,2,   98.588,2
  09AR20141205,AU1402,   102,  1,      0,      8,2,20150114,0118,-67.0893, 145.1805, 1300,    576.1,  -1.9214,  34.5298,2,-999.0000,9,    303.8,2,   -999.0,9,  -999.00,9,  -999.00,9,  -999.00,9,   -999.0,9,   -999.0,9,   -0.069,2,    0.000,2,   98.550,2
  09AR20141205,AU1402,   102,  1,      0,      7,2,20150114,0118,-67.0893, 145.1805, 1300,    751.9,  -1.8974,  34.5752,2,-999.0000,9,    306.5,2,    307.5,2,  -999.00,9,  -999.00,9,  -999.00,9,   2238.2,2,   2339.7,2,   -0.093,2,    0.000,2,   98.714,2
  09AR20141205,AU1402,   102,  1,      0,      6,2,20150114,0118,-67.0893, 145.1805, 1300,    751.6,  -1.8970,  34.5751,2,-999.0000,9,    306.5,2,   -999.0,9,  -999.00,9,  -999.00,9,  -999.00,9,   -999.0,9,   -999.0,9,   -0.082,2,    0.000,2,   98.716,2
  09AR20141205,AU1402,   102,  1,      0,      5,2,20150114,0118,-67.0893, 145.1805, 1300,    951.9,  -1.8834,  34.5938,2,  34.5923,2,    307.4,2,    307.8,2,  -999.00,9,  -999.00,9,  -999.00,9,   2239.3,2,   2339.3,6,   -0.080,2,    0.000,2,   98.750,2
  09AR20141205,AU1402,   102,  1,      0,      4,2,20150114,0118,-67.0893, 145.1805, 1300,    951.1,  -1.8835,  34.5936,2,-999.0000,9,    307.4,2,   -999.0,9,  -999.00,9,  -999.00,9,  -999.00,9,   -999.0,9,   -999.0,9,   -0.084,2,    0.000,2,   98.713,2
  09AR20141205,AU1402,   102,  1,      0,      3,2,20150114,0118,-67.0893, 145.1805, 1300,   1201.5,  -1.8708,  34.6114,2,-999.0000,9,    307.6,2,    307.6,2,  -999.00,9,  -999.00,9,  -999.00,9,   2240.6,2,   2339.6,2,   -0.079,2,    0.000,2,   98.657,2
  09AR20141205,AU1402,   102,  1,      0,      2,2,20150114,0118,-67.0893, 145.1805, 1300,   1201.2,  -1.8708,  34.6113,2,-999.0000,9,    307.6,2,   -999.0,9,  -999.00,9,  -999.00,9,  -999.00,9,   -999.0,9,   -999.0,9,   -0.085,2,    0.000,2,   98.656,2
  09AR20141205,AU1402,   102,  1,      0,      1,2,20150114,0118,-67.0893, 145.1805, 1300,   1316.4,  -1.8654,  34.6137,2,  34.6113,2,    307.8,2,    307.4,2,  -999.00,9,  -999.00,9,  -999.00,9,   2239.5,2,   2340.1,2,   -0.080,2,    0.000,2,   98.601,2