BOTTLE,20210329PRINUNIVRMK
EXPOCODE,SECT_ID,STNNBR,CASTNO,SAMPNO,BTLNBR,BTLNBR_FLAG_W,DATE,TIME,LATITUDE,LONGITUDE,DEPTH,CTDPRS,CTDTMP,CTDSAL,CTDSAL_FLAG_W,SALNTY,SALNTY_FLAG_W,CTDOXY,CTDOXY_FLAG_W,OXYGEN,OXYGEN_FLAG_W,SILCAT,SILCAT_FLAG_W,NITRAT,NITRAT_FLAG_W,PHSPHT,PHSPHT_FLAG_W,TCARBN,TCARBN_FLAG_W,ALKALI,ALKALI_FLAG_W,CTDFLUOR,CTDFLUOR_FLAG_W,CTDPAR,CTDPAR_FLAG_W,CTDXMISS,CTDXMISS_FLAG_W
,,,,,,,,,,,METERS,DBAR,ITS-90,PSS-78,,PSS-78,,UMOL/KG,,UMOL/KG,,UMOL/KG,,UMOL/KG,,UMOL/KG,,UMOL/KG,,UMOL/KG,,MG/M^3,,UEINSTEIN/M^2*SEC,,%TRANS,
  09AR20141205,AU1402,   127,  1,      0,     24,2,20150116,1132,-66.1915, 143.1687,  580,      6.9,  -1.2896,  34.1108,2,-999.0000,9,    354.9,2,   -999.0,9,  -999.00,9,  -999.00,9,  -999.00,9,   -999.0,9,   -999.0,9,    6.113,2,    4.189,2,   89.484,2
  09AR20141205,AU1402,   127,  1,      0,     23,2,20150116,1132,-66.1915, 143.1687,  580,      6.9,  -1.2869,  34.1113,2,-999.0000,9,    354.9,2,   -999.0,9,  -999.00,9,  -999.00,9,  -999.00,9,   -999.0,9,   -999.0,9,    5.900,2,    4.219,2,   89.518,2
  09AR20141205,AU1402,   127,  1,      0,     22,2,20150116,1132,-66.1915, 143.1687,  580,      6.9,  -1.2856,  34.1119,2,-999.0000,9,    354.9,2,   -999.0,9,  -999.00,9,  -999.00,9,  -999.00,9,   -999.0,9,   -999.0,9,    5.832,2,    4.230,2,   89.555,2
  09AR20141205,AU1402,   127,  1,      0,     21,2,20150116,1132,-66.1915, 143.1687,  580,      6.8,  -1.2543,  34.1191,2,  34.1302,2,    354.9,2,    353.1,2,    58.20,2,    23.85,2,     1.67,3,   2171.9,2,   2317.4,2,    5.875,2,    4.211,2,   89.724,2
  09AR20141205,AU1402,   127,  1,      0,     20,2,20150116,1132,-66.1915, 143.1687,  580,     29.9,  -1.1876,  34.1504,2,-999.0000,9,    350.0,2,   -999.0,9,  -999.00,9,  -999.00,9,  -999.00,9,   -999.0,9,   -999.0,9,    6.548,2,    0.085,2,   89.497,2
  09AR20141205,AU1402,   127,  1,      0,     19,2,20150116,1132,-66.1915, 143.1687,  580,     29.9,  -1.1884,  34.1503,2,-999.0000,9,    350.0,2,    351.3,2,    59.40,2,    24.10,2,     1.72,3,   2174.6,2,   2316.1,2,    5.946,2,    0.088,2,   89.191,2
  09AR20141205,AU1402,   127,  1,      0,     18,2,20150116,1132,-66.1915, 143.1687,  580,     80.4,  -1.1221,  34.3103,2,-999.0000,9,    338.3,2,   -999.0,9,  -999.00,9,  -999.00,9,  -999.00,9,   -999.0,9,   -999.0,9,    7.309,2,    0.000,2,   90.204,2
  09AR20141205,AU1402,   127,  1,      0,     17,2,20150116,1132,-66.1915, 143.1687,  580,     80.3,  -1.1230,  34.3102,2,  34.3100,2,    338.3,2,    338.2,2,    59.90,2,    25.56,2,     1.83,3,   2197.1,2,   2326.6,2,    7.457,2,    0.000,2,   90.616,2
  09AR20141205,AU1402,   127,  1,      0,     16,2,20150116,1132,-66.1915, 143.1687,  580,     80.3,  -1.1229,  34.3101,2,-999.0000,9,    338.3,2,   -999.0,9,  -999.00,9,  -999.00,9,  -999.00,9,   -999.0,9,   -999.0,9,    6.619,2,    0.000,2,   90.300,2
  09AR20141205,AU1402,   127,  1,      0,     15,2,20150116,1132,-66.1915, 143.1687,  580,     80.3,  -1.1228,  34.3102,2,-999.0000,9,    338.3,2,   -999.0,9,  -999.00,9,  -999.00,9,  -999.00,9,   -999.0,9,   -999.0,9,    6.903,2,    0.000,2,   90.328,2
  09AR20141205,AU1402,   127,  1,      0,     14,2,20150116,1132,-66.1915, 143.1687,  580,     80.3,  -1.1235,  34.3100,2,-999.0000,9,    338.3,2,   -999.0,9,  -999.00,9,  -999.00,9,  -999.00,9,   -999.0,9,   -999.0,9,    6.860,2,    0.000,2,   90.237,2
  09AR20141205,AU1402,   127,  1,      0,     13,2,20150116,1132,-66.1915, 143.1687,  580,    161.0,  -1.6921,  34.4480,2,  34.4436,2,    306.8,2,    305.8,2,  -999.00,9,  -999.00,9,  -999.00,9,   2227.1,2,   2330.4,2,    0.655,2,    0.000,2,   97.257,2
  09AR20141205,AU1402,   127,  1,      0,     12,2,20150116,1132,-66.1915, 143.1687,  580,    161.0,  -1.6896,  34.4464,2,-999.0000,9,    306.8,2,   -999.0,9,  -999.00,9,  -999.00,9,  -999.00,9,   -999.0,9,   -999.0,9,    0.827,2,    0.000,2,   97.185,2
  09AR20141205,AU1402,   127,  1,      0,     11,2,20150116,1132,-66.1915, 143.1687,  580,    161.0,  -1.6884,  34.4454,2,-999.0000,9,    306.8,2,   -999.0,9,  -999.00,9,  -999.00,9,  -999.00,9,   -999.0,9,   -999.0,9,    0.625,2,    0.000,2,   97.130,2
  09AR20141205,AU1402,   127,  1,      0,     10,2,20150116,1132,-66.1915, 143.1687,  580,    160.9,  -1.6886,  34.4450,2,-999.0000,9,    306.8,2,   -999.0,9,  -999.00,9,  -999.00,9,  -999.00,9,   -999.0,9,   -999.0,9,    0.642,2,    0.000,2,   97.158,2
  09AR20141205,AU1402,   127,  1,      0,      9,2,20150116,1132,-66.1915, 143.1687,  580,    271.1,  -1.8237,  34.4945,2,  34.4920,2,    301.5,2,    301.6,2,    69.90,2,    30.46,2,     2.15,3,   -999.0,9,   -999.0,9,    0.171,2,    0.000,2,   98.421,2
  09AR20141205,AU1402,   127,  1,      0,      8,2,20150116,1132,-66.1915, 143.1687,  580,    271.0,  -1.8238,  34.4946,2,-999.0000,9,    301.5,2,   -999.0,9,  -999.00,9,  -999.00,9,  -999.00,9,   -999.0,9,   -999.0,9,    0.144,2,    0.000,2,   98.403,2
  09AR20141205,AU1402,   127,  1,      0,      7,2,20150116,1132,-66.1915, 143.1687,  580,    271.0,  -1.8234,  34.4946,2,-999.0000,9,    301.2,2,   -999.0,9,  -999.00,9,  -999.00,9,  -999.00,9,   -999.0,9,   -999.0,9,    0.210,2,    0.000,2,   98.440,2
  09AR20141205,AU1402,   127,  1,      0,      6,2,20150116,1132,-66.1915, 143.1687,  580,    271.0,  -1.8225,  34.4944,2,-999.0000,9,    301.2,2,   -999.0,9,  -999.00,9,  -999.00,9,  -999.00,9,   -999.0,9,   -999.0,9,    0.169,2,    0.000,2,   98.432,2
  09AR20141205,AU1402,   127,  1,      0,      5,2,20150116,1132,-66.1915, 143.1687,  580,    421.6,  -1.8789,  34.5414,2,  34.5407,2,    304.3,2,    305.0,2,    71.10,2,  -999.00,9,  -999.00,9,   -999.0,9,   -999.0,9,   -0.033,2,    0.000,2,   98.715,2
  09AR20141205,AU1402,   127,  1,      0,      4,2,20150116,1132,-66.1915, 143.1687,  580,    491.7,  -1.9003,  34.5690,2,-999.0000,9,    307.0,2,   -999.0,9,  -999.00,9,  -999.00,9,  -999.00,9,   -999.0,9,   -999.0,9,   -0.082,2,    0.000,2,   98.907,2
  09AR20141205,AU1402,   127,  1,      0,      3,2,20150116,1132,-66.1915, 143.1687,  580,    491.7,  -1.9004,  34.5691,2,-999.0000,9,    307.0,2,   -999.0,9,  -999.00,9,  -999.00,9,  -999.00,9,   -999.0,9,   -999.0,9,   -0.074,2,    0.000,2,   98.900,2
  09AR20141205,AU1402,   127,  1,      0,      2,2,20150116,1132,-66.1915, 143.1687,  580,    491.8,  -1.9004,  34.5690,2,-999.0000,9,    307.0,2,   -999.0,9,  -999.00,9,  -999.00,9,  -999.00,9,   -999.0,9,   -999.0,9,   -0.080,2,    0.000,2,   98.904,2
  09AR20141205,AU1402,   127,  1,      0,      1,2,20150116,1132,-66.1915, 143.1687,  580,    572.1,  -1.8970,  34.5874,2,  34.5866,2,    307.3,2,    306.6,2,    72.10,2,  -999.00,9,  -999.00,9,   2238.5,2,   2338.9,2,    0.007,2,    0.000,2,   98.001,2
  09AR20141205,AU1402,   128,  1,      0,     24,2,20150116,1321,-66.2445, 142.8892,  551,      6.8,  -1.4071,  33.9746,2,-999.0000,9,    357.5,2,   -999.0,9,  -999.00,9,  -999.00,9,  -999.00,9,   -999.0,9,   -999.0,9,    8.072,2,    0.355,2,   88.414,2
  09AR20141205,AU1402,   128,  1,      0,     23,2,20150116,1321,-66.2445, 142.8892,  551,      6.8,  -1.4086,  33.9746,2,-999.0000,9,    357.5,2,   -999.0,9,  -999.00,9,  -999.00,9,  -999.00,9,   -999.0,9,   -999.0,9,    7.827,2,    0.356,2,   88.377,2
  09AR20141205,AU1402,   128,  1,      0,     22,2,20150116,1321,-66.2445, 142.8892,  551,      6.8,  -1.4088,  33.9747,2,-999.0000,9,    357.5,2,   -999.0,9,  -999.00,9,  -999.00,9,  -999.00,9,   -999.0,9,   -999.0,9,    8.121,2,    0.361,2,   88.077,2
  09AR20141205,AU1402,   128,  1,      0,     21,2,20150116,1321,-66.2445, 142.8892,  551,      6.7,  -1.4055,  33.9753,2,  33.9819,2,    357.5,2,    359.7,2,    62.00,2,    22.38,2,     1.63,3,   2151.3,2,   2306.4,2,    7.967,2,    0.367,2,   88.351,2
  09AR20141205,AU1402,   128,  1,      0,     20,2,20150116,1321,-66.2445, 142.8892,  551,     20.1,  -1.3320,  34.0133,2,-999.0000,9,    359.6,2,   -999.0,9,  -999.00,9,  -999.00,9,  -999.00,9,   -999.0,9,   -999.0,9,    8.210,2,    0.000,2,   88.082,2
  09AR20141205,AU1402,   128,  1,      0,     19,2,20150116,1321,-66.2445, 142.8892,  551,     20.1,  -1.3297,  34.0129,2,  34.0144,2,    359.6,2,    358.1,2,    60.00,2,    22.71,2,     1.60,3,   2154.7,2,   2308.6,2,    8.409,2,    0.000,2,   88.274,2
  09AR20141205,AU1402,   128,  1,      0,     18,2,20150116,1321,-66.2445, 142.8892,  551,     90.5,  -1.1902,  34.2768,2,-999.0000,9,    342.0,2,   -999.0,9,  -999.00,9,  -999.00,9,  -999.00,9,   -999.0,9,   -999.0,9,    6.343,2,    0.000,2,   90.740,2
  09AR20141205,AU1402,   128,  1,      0,     17,2,20150116,1321,-66.2445, 142.8892,  551,     90.4,  -1.1926,  34.2765,2,  34.2788,2,    342.0,2,    341.0,2,    58.90,2,    25.18,2,     1.82,3,   2192.4,6,   2322.6,6,    6.226,2,    0.000,2,   90.523,2
  09AR20141205,AU1402,   128,  1,      0,     16,2,20150116,1321,-66.2445, 142.8892,  551,     90.4,  -1.1916,  34.2763,2,-999.0000,9,    342.0,2,   -999.0,9,  -999.00,9,  -999.00,9,  -999.00,9,   -999.0,9,   -999.0,9,    6.737,2,    0.000,2,   90.429,2
  09AR20141205,AU1402,   128,  1,      0,     15,2,20150116,1321,-66.2445, 142.8892,  551,    120.3,  -1.1695,  34.3106,2,-999.0000,9,    336.4,2,    337.3,2,  -999.00,9,  -999.00,9,  -999.00,9,   2197.2,2,   2325.2,2,    5.182,2,    0.000,2,   91.074,2
  09AR20141205,AU1402,   128,  1,      0,     14,2,20150116,1321,-66.2445, 142.8892,  551,    120.3,  -1.1679,  34.3106,2,-999.0000,9,    336.4,2,   -999.0,9,  -999.00,9,  -999.00,9,  -999.00,9,   -999.0,9,   -999.0,9,    5.018,2,    0.000,2,   91.109,2
  09AR20141205,AU1402,   128,  1,      0,     13,2,20150116,1321,-66.2445, 142.8892,  551,    120.2,  -1.1706,  34.3110,2,-999.0000,9,    336.4,2,   -999.0,9,  -999.00,9,  -999.00,9,  -999.00,9,   -999.0,9,   -999.0,9,    5.242,2,    0.000,2,   91.169,2
  09AR20141205,AU1402,   128,  1,      0,     12,2,20150116,1321,-66.2445, 142.8892,  551,    120.2,  -1.1733,  34.3111,2,-999.0000,9,    336.4,2,   -999.0,9,  -999.00,9,  -999.00,9,  -999.00,9,   -999.0,9,   -999.0,9,    5.861,2,    0.000,2,   91.227,2
  09AR20141205,AU1402,   128,  1,      0,     11,2,20150116,1321,-66.2445, 142.8892,  551,    180.8,  -1.6955,  34.4038,2,  34.4042,2,    318.8,2,    318.6,2,    66.20,2,    28.45,2,     2.04,3,   2216.1,2,   2327.8,2,    1.159,2,    0.000,2,   95.887,2
  09AR20141205,AU1402,   128,  1,      0,     10,2,20150116,1321,-66.2445, 142.8892,  551,    180.8,  -1.6953,  34.4037,2,-999.0000,9,    318.8,2,   -999.0,9,  -999.00,9,  -999.00,9,  -999.00,9,   -999.0,9,   -999.0,9,    1.380,2,    0.000,2,   95.908,2
  09AR20141205,AU1402,   128,  1,      0,      9,2,20150116,1321,-66.2445, 142.8892,  551,    180.8,  -1.6951,  34.4039,2,-999.0000,9,    318.8,2,   -999.0,9,  -999.00,9,  -999.00,9,  -999.00,9,   -999.0,9,   -999.0,9,    1.466,2,    0.000,2,   95.955,2
  09AR20141205,AU1402,   128,  1,      0,      8,2,20150116,1321,-66.2445, 142.8892,  551,    180.7,  -1.6949,  34.4037,2,-999.0000,9,    318.8,2,   -999.0,9,  -999.00,9,  -999.00,9,  -999.00,9,   -999.0,9,   -999.0,9,    1.263,2,    0.000,2,   95.838,2
  09AR20141205,AU1402,   128,  1,      0,      7,2,20150116,1321,-66.2445, 142.8892,  551,    370.6,  -1.8305,  34.4907,2,  34.4926,2,    306.6,2,    305.7,2,    71.30,2,    30.34,2,     2.07,3,   2230.9,2,   2333.9,6,    0.290,2,    0.000,2,   97.858,2
  09AR20141205,AU1402,   128,  1,      0,      6,2,20150116,1321,-66.2445, 142.8892,  551,    370.9,  -1.8308,  34.4910,2,-999.0000,9,    306.6,2,   -999.0,9,  -999.00,9,  -999.00,9,  -999.00,9,   -999.0,9,   -999.0,9,    0.275,2,    0.000,2,   97.867,2
  09AR20141205,AU1402,   128,  1,      0,      5,2,20150116,1321,-66.2445, 142.8892,  551,    450.8,  -1.8665,  34.5210,2,-999.0000,9,    304.0,2,    304.0,2,  -999.00,9,  -999.00,9,  -999.00,9,   2233.5,2,   2332.5,2,    0.047,2,    0.000,2,   98.258,2
  09AR20141205,AU1402,   128,  1,      0,      4,2,20150116,1321,-66.2445, 142.8892,  551,    450.8,  -1.8665,  34.5212,2,-999.0000,9,    304.0,2,   -999.0,9,  -999.00,9,  -999.00,9,  -999.00,9,   -999.0,9,   -999.0,9,    0.049,2,    0.000,2,   98.272,2
  09AR20141205,AU1402,   128,  1,      0,      3,2,20150116,1321,-66.2445, 142.8892,  551,    501.1,  -1.8784,  34.5418,2,-999.0000,9,    304.7,2,   -999.0,9,  -999.00,9,  -999.00,9,  -999.00,9,   -999.0,9,   -999.0,9,    0.089,2,    0.000,2,   98.059,2
  09AR20141205,AU1402,   128,  1,      0,      2,2,20150116,1321,-66.2445, 142.8892,  551,    501.0,  -1.8784,  34.5419,2,-999.0000,9,    304.7,2,   -999.0,9,  -999.00,9,  -999.00,9,  -999.00,9,   -999.0,9,   -999.0,9,    0.073,2,    0.000,2,   98.092,2
  09AR20141205,AU1402,   128,  1,      0,      1,2,20150116,1321,-66.2445, 142.8892,  551,    551.4,  -1.8863,  34.5568,2,  34.5554,2,    304.7,2,    305.3,2,    73.40,2,    30.74,2,     2.13,3,   2237.6,2,   2337.5,2,    0.131,2,    0.000,2,   96.976,2
  09AR20141205,AU1402,   129,  1,      0,     24,2,20150117,1208,-66.5050, 144.6307,  524,      7.2,  -0.4632,  34.1254,2,  34.1226,2,    362.0,2,    361.6,2,  -999.00,9,  -999.00,9,  -999.00,9,   2163.9,2,   2313.7,2,    9.310,2,    1.735,2,   86.610,2
  09AR20141205,AU1402,   129,  1,      0,     23,2,20150117,1208,-66.5050, 144.6307,  524,      7.2,  -0.4632,  34.1253,2,-999.0000,9,    362.0,2,   -999.0,9,  -999.00,9,  -999.00,9,  -999.00,9,   -999.0,9,   -999.0,9,    8.279,2,    1.751,2,   86.768,2
  09AR20141205,AU1402,   129,  1,      0,     22,2,20150117,1208,-66.5050, 144.6307,  524,      7.2,  -0.4623,  34.1247,2,-999.0000,9,    362.0,2,   -999.0,9,  -999.00,9,  -999.00,9,  -999.00,9,   -999.0,9,   -999.0,9,    8.231,2,    1.763,2,   86.932,2
  09AR20141205,AU1402,   129,  1,      0,     21,2,20150117,1208,-66.5050, 144.6307,  524,      7.2,  -0.4597,  34.1220,2,-999.0000,9,    362.0,2,   -999.0,9,  -999.00,9,  -999.00,9,  -999.00,9,   -999.0,9,   -999.0,9,    8.053,2,    1.784,2,   86.686,2
  09AR20141205,AU1402,   129,  1,      0,     20,2,20150117,1208,-66.5050, 144.6307,  524,     20.2,  -0.4817,  34.1311,2,-999.0000,9,    361.0,2,   -999.0,9,  -999.00,9,  -999.00,9,  -999.00,9,   -999.0,9,   -999.0,9,    8.506,2,    0.152,2,   86.982,2
  09AR20141205,AU1402,   129,  1,      0,     19,2,20150117,1208,-66.5050, 144.6307,  524,     20.2,  -0.4953,  34.1339,2,  34.1371,2,    361.0,2,    361.1,2,  -999.00,9,  -999.00,9,  -999.00,9,   2166.5,2,   2313.7,2,    9.171,2,    0.158,2,   86.942,2
  09AR20141205,AU1402,   129,  1,      0,     18,2,20150117,1208,-66.5050, 144.6307,  524,     40.2,  -0.8882,  34.2741,2,-999.0000,9,    352.9,2,   -999.0,9,  -999.00,9,  -999.00,9,  -999.00,9,   -999.0,9,   -999.0,9,    8.234,2,    0.000,2,   88.073,2
  09AR20141205,AU1402,   129,  1,      0,     17,2,20150117,1208,-66.5050, 144.6307,  524,     75.5,  -1.3905,  34.3774,2,-999.0000,9,    320.0,2,    312.0,2,  -999.00,9,  -999.00,9,  -999.00,9,   -999.0,9,   -999.0,9,    2.223,2,    0.000,2,   95.168,2
  09AR20141205,AU1402,   129,  1,      0,     16,2,20150117,1208,-66.5050, 144.6307,  524,     75.5,  -1.3907,  34.3773,2,-999.0000,9,    320.0,2,   -999.0,9,  -999.00,9,  -999.00,9,  -999.00,9,   -999.0,9,   -999.0,9,    2.481,2,    0.000,2,   95.111,2
  09AR20141205,AU1402,   129,  1,      0,     15,2,20150117,1208,-66.5050, 144.6307,  524,     75.5,  -1.3921,  34.3775,2,-999.0000,9,    320.0,2,   -999.0,9,  -999.00,9,  -999.00,9,  -999.00,9,   -999.0,9,   -999.0,9,    2.501,2,    0.000,2,   95.328,2
  09AR20141205,AU1402,   129,  1,      0,     14,2,20150117,1208,-66.5050, 144.6307,  524,     75.5,  -1.3919,  34.3775,2,-999.0000,9,    320.0,2,   -999.0,9,  -999.00,9,  -999.00,9,  -999.00,9,   -999.0,9,   -999.0,9,    1.949,2,    0.000,2,   95.218,2
  09AR20141205,AU1402,   129,  1,      0,     13,2,20150117,1208,-66.5050, 144.6307,  524,    120.7,  -1.7223,  34.4347,2,  34.4350,2,    300.0,2,    300.2,2,  -999.00,9,  -999.00,9,  -999.00,9,   2228.5,2,   2327.7,2,    0.495,2,    0.000,2,   97.735,2
  09AR20141205,AU1402,   129,  1,      0,     12,2,20150117,1208,-66.5050, 144.6307,  524,    120.7,  -1.7185,  34.4343,2,-999.0000,9,    300.0,2,   -999.0,9,  -999.00,9,  -999.00,9,  -999.00,9,   -999.0,9,   -999.0,9,    0.472,2,    0.000,2,   97.718,2
  09AR20141205,AU1402,   129,  1,      0,     11,2,20150117,1208,-66.5050, 144.6307,  524,    120.6,  -1.7043,  34.4338,2,-999.0000,9,    300.0,2,   -999.0,9,  -999.00,9,  -999.00,9,  -999.00,9,   -999.0,9,   -999.0,9,    0.540,2,    0.000,2,   97.606,2
  09AR20141205,AU1402,   129,  1,      0,     10,2,20150117,1208,-66.5050, 144.6307,  524,    120.6,  -1.7027,  34.4336,2,-999.0000,9,    300.0,2,   -999.0,9,  -999.00,9,  -999.00,9,  -999.00,9,   -999.0,9,   -999.0,9,    0.521,2,    0.000,2,   97.656,2
  09AR20141205,AU1402,   129,  1,      0,      9,2,20150117,1208,-66.5050, 144.6307,  524,    220.0,  -1.7722,  34.4883,2,  34.4890,2,    297.2,2,    298.3,2,  -999.00,9,  -999.00,9,  -999.00,9,   2232.4,2,   2330.8,2,    0.123,2,    0.000,2,   98.740,2
  09AR20141205,AU1402,   129,  1,      0,      8,2,20150117,1208,-66.5050, 144.6307,  524,    220.0,  -1.7734,  34.4884,2,-999.0000,9,    297.2,2,   -999.0,9,  -999.00,9,  -999.00,9,  -999.00,9,   -999.0,9,   -999.0,9,    0.227,2,    0.000,2,   98.553,2
  09AR20141205,AU1402,   129,  1,      0,      7,2,20150117,1208,-66.5050, 144.6307,  524,    220.0,  -1.7729,  34.4882,2,-999.0000,9,    297.2,2,   -999.0,9,  -999.00,9,  -999.00,9,  -999.00,9,   -999.0,9,   -999.0,9,    0.196,2,    0.000,2,   98.570,2
  09AR20141205,AU1402,   129,  1,      0,      6,2,20150117,1208,-66.5050, 144.6307,  524,    219.9,  -1.7728,  34.4884,2,-999.0000,9,    297.2,2,   -999.0,9,  -999.00,9,  -999.00,9,  -999.00,9,   -999.0,9,   -999.0,9,    0.163,2,    0.000,2,   98.622,2
  09AR20141205,AU1402,   129,  1,      0,      5,2,20150117,1208,-66.5050, 144.6307,  524,    370.2,  -1.9068,  34.5524,2,  34.5531,2,    305.3,2,    305.7,2,  -999.00,9,  -999.00,9,  -999.00,9,   -999.0,9,   -999.0,9,   -0.056,2,    0.000,2,   98.888,2
  09AR20141205,AU1402,   129,  1,      0,      4,2,20150117,1208,-66.5050, 144.6307,  524,    370.1,  -1.9069,  34.5524,2,-999.0000,9,    305.3,2,   -999.0,9,  -999.00,9,  -999.00,9,  -999.00,9,   -999.0,9,   -999.0,9,   -0.037,2,    0.000,2,   98.885,2
  09AR20141205,AU1402,   129,  1,      0,      3,2,20150117,1208,-66.5050, 144.6307,  524,    480.0,  -1.9015,  34.5809,2,-999.0000,9,    307.0,2,   -999.0,9,  -999.00,9,  -999.00,9,  -999.00,9,   -999.0,9,   -999.0,9,   -0.078,2,    0.000,2,   98.890,2
  09AR20141205,AU1402,   129,  1,      0,      2,2,20150117,1208,-66.5050, 144.6307,  524,    480.0,  -1.9015,  34.5806,2,-999.0000,9,    307.0,2,   -999.0,9,  -999.00,9,  -999.00,9,  -999.00,9,   -999.0,9,   -999.0,9,   -0.077,2,    0.000,2,   98.888,2
  09AR20141205,AU1402,   129,  1,      0,      1,2,20150117,1208,-66.5050, 144.6307,  524,    524.0,  -1.8985,  34.5872,2,  34.5861,2,    306.5,2,    306.4,2,  -999.00,9,  -999.00,9,  -999.00,9,   2238.4,2,   2338.5,2,   -0.059,2,    0.000,2,   98.573,2