BOTTLE,20210329PRINUNIVRMK
EXPOCODE,SECT_ID,STNNBR,CASTNO,SAMPNO,BTLNBR,BTLNBR_FLAG_W,DATE,TIME,LATITUDE,LONGITUDE,DEPTH,CTDPRS,CTDTMP,CTDSAL,CTDSAL_FLAG_W,SALNTY,SALNTY_FLAG_W,CTDOXY,CTDOXY_FLAG_W,OXYGEN,OXYGEN_FLAG_W,SILCAT,SILCAT_FLAG_W,NITRAT,NITRAT_FLAG_W,PHSPHT,PHSPHT_FLAG_W,TCARBN,TCARBN_FLAG_W,ALKALI,ALKALI_FLAG_W,CTDFLUOR,CTDFLUOR_FLAG_W,CTDPAR,CTDPAR_FLAG_W,CTDXMISS,CTDXMISS_FLAG_W
,,,,,,,,,,,METERS,DBAR,ITS-90,PSS-78,,PSS-78,,UMOL/KG,,UMOL/KG,,UMOL/KG,,UMOL/KG,,UMOL/KG,,UMOL/KG,,UMOL/KG,,MG/M^3,,UEINSTEIN/M^2*SEC,,%TRANS,
  09AR20141205,AU1402,    40,  1,      0,     24,2,20150101,1808,-66.7953, 116.9495,  704,      5.4,  -1.8000,  34.2271,2,-999.0000,9,    315.7,2,   -999.0,9,  -999.00,9,  -999.00,9,  -999.00,9,   -999.0,9,   -999.0,9,    0.005,2,   35.530,2,   98.222,2
  09AR20141205,AU1402,    40,  1,      0,     23,2,20150101,1808,-66.7953, 116.9495,  704,      5.4,  -1.7999,  34.2270,2,-999.0000,9,    315.7,2,   -999.0,9,  -999.00,9,  -999.00,9,  -999.00,9,   -999.0,9,   -999.0,9,    0.000,2,   35.310,2,   98.212,2
  09AR20141205,AU1402,    40,  1,      0,     22,2,20150101,1808,-66.7953, 116.9495,  704,      5.4,  -1.7973,  34.2257,2,-999.0000,9,    315.7,2,   -999.0,9,  -999.00,9,  -999.00,9,  -999.00,9,   -999.0,9,   -999.0,9,    0.009,2,   35.480,2,   98.212,2
  09AR20141205,AU1402,    40,  1,      0,     21,2,20150101,1808,-66.7953, 116.9495,  704,      5.4,  -1.7938,  34.2238,2,-999.0000,9,    315.7,2,   -999.0,9,  -999.00,9,  -999.00,9,  -999.00,9,   -999.0,9,   -999.0,9,    0.005,2,   35.180,2,   98.216,2
  09AR20141205,AU1402,    40,  1,      0,     20,2,20150101,1808,-66.7953, 116.9495,  704,      5.4,  -1.7928,  34.2238,2,-999.0000,9,    315.7,2,   -999.0,9,  -999.00,9,  -999.00,9,  -999.00,9,   -999.0,9,   -999.0,9,    0.004,2,   35.180,2,   98.222,2
  09AR20141205,AU1402,    40,  1,      0,     19,2,20150101,1808,-66.7953, 116.9495,  704,      5.2,  -1.7942,  34.2241,2,  34.2274,2,    315.7,2,    315.9,2,    63.80,2,    30.33,2,     2.11,3,   2212.9,6,   2312.0,6,    0.019,2,   35.350,2,   98.210,2
  09AR20141205,AU1402,    40,  1,      0,     18,2,20150101,1808,-66.7953, 116.9495,  704,     31.0,  -1.8045,  34.2413,2,-999.0000,9,    314.6,2,   -999.0,9,  -999.00,9,  -999.00,9,  -999.00,9,   -999.0,9,   -999.0,9,   -0.001,2,    8.107,2,   98.221,2
  09AR20141205,AU1402,    40,  1,      0,     17,2,20150101,1808,-66.7953, 116.9495,  704,     30.9,  -1.8027,  34.2408,2,-999.0000,9,    314.6,2,   -999.0,9,  -999.00,9,  -999.00,9,  -999.00,9,   -999.0,9,   -999.0,9,   -0.007,2,    8.081,2,   98.222,2
  09AR20141205,AU1402,    40,  1,      0,     16,2,20150101,1808,-66.7953, 116.9495,  704,     30.9,  -1.8021,  34.2406,2,-999.0000,9,    314.6,2,   -999.0,9,  -999.00,9,  -999.00,9,  -999.00,9,   -999.0,9,   -999.0,9,   -0.001,2,    8.054,2,   98.230,2
  09AR20141205,AU1402,    40,  1,      0,     15,2,20150101,1808,-66.7953, 116.9495,  704,     50.8,  -1.8257,  34.2479,2,  34.2462,2,    314.1,2,    313.9,2,    63.90,2,    30.39,2,     2.12,3,   2215.9,2,   2312.9,2,    0.000,2,    4.073,2,   98.226,2
  09AR20141205,AU1402,    40,  1,      0,     14,2,20150101,1808,-66.7953, 116.9495,  704,     50.8,  -1.8256,  34.2480,2,-999.0000,9,    314.1,2,   -999.0,9,  -999.00,9,  -999.00,9,  -999.00,9,   -999.0,9,   -999.0,9,    0.002,2,    4.066,2,   98.234,2
  09AR20141205,AU1402,    40,  1,      0,     13,2,20150101,1808,-66.7953, 116.9495,  704,    100.8,  -1.8606,  34.2574,2,  34.2554,2,    313.6,2,    313.2,2,    63.70,2,    30.43,2,     2.12,3,   2216.7,2,   2310.8,2,   -0.035,2,    0.664,2,   98.338,2
  09AR20141205,AU1402,    40,  1,      0,     12,2,20150101,1808,-66.7953, 116.9495,  704,    100.7,  -1.8606,  34.2575,2,-999.0000,9,    313.6,2,   -999.0,9,  -999.00,9,  -999.00,9,  -999.00,9,   -999.0,9,   -999.0,9,   -0.037,2,    0.665,2,   98.331,2
  09AR20141205,AU1402,    40,  1,      0,     11,2,20150101,1808,-66.7953, 116.9495,  704,    151.0,  -1.8617,  34.2587,2,  34.2561,2,    313.5,2,    313.4,2,  -999.00,9,  -999.00,9,  -999.00,9,   2216.1,2,   2314.1,2,   -0.045,2,    0.050,2,   98.341,2
  09AR20141205,AU1402,    40,  1,      0,     10,2,20150101,1808,-66.7953, 116.9495,  704,    151.0,  -1.8617,  34.2587,2,-999.0000,9,    313.5,2,   -999.0,9,  -999.00,9,  -999.00,9,  -999.00,9,   -999.0,9,   -999.0,9,   -0.033,2,    0.052,2,   98.340,2
  09AR20141205,AU1402,    40,  1,      0,      9,2,20150101,1808,-66.7953, 116.9495,  704,    201.3,  -1.8638,  34.2634,2,  34.2597,2,    313.6,2,    313.4,2,  -999.00,9,  -999.00,9,  -999.00,9,   2219.1,2,   2315.0,6,   -0.048,2,    0.001,2,   98.371,2
  09AR20141205,AU1402,    40,  1,      0,      8,2,20150101,1808,-66.7953, 116.9495,  704,    201.3,  -1.8638,  34.2632,2,-999.0000,9,    313.6,2,   -999.0,9,  -999.00,9,  -999.00,9,  -999.00,9,   -999.0,9,   -999.0,9,   -0.041,2,    0.001,2,   98.365,2
  09AR20141205,AU1402,    40,  1,      0,      7,2,20150101,1808,-66.7953, 116.9495,  704,    350.7,  -1.8506,  34.2826,2,  34.2820,2,    314.5,2,    314.9,2,  -999.00,9,  -999.00,9,  -999.00,9,   2217.4,2,   2317.1,2,   -0.058,2,    0.000,2,   98.491,2
  09AR20141205,AU1402,    40,  1,      0,      6,2,20150101,1808,-66.7953, 116.9495,  704,    350.7,  -1.8506,  34.2827,2,-999.0000,9,    314.5,2,   -999.0,9,  -999.00,9,  -999.00,9,  -999.00,9,   -999.0,9,   -999.0,9,   -0.049,2,    0.000,2,   98.480,2
  09AR20141205,AU1402,    40,  1,      0,      5,2,20150101,1808,-66.7953, 116.9495,  704,    501.7,  -1.8368,  34.2955,2,  34.2949,2,    314.6,2,    314.1,2,  -999.00,9,  -999.00,9,  -999.00,9,   2217.3,2,   2313.7,2,   -0.076,2,    0.000,2,   98.533,2
  09AR20141205,AU1402,    40,  1,      0,      4,2,20150101,1808,-66.7953, 116.9495,  704,    501.6,  -1.8370,  34.2954,2,-999.0000,9,    314.6,2,   -999.0,9,  -999.00,9,  -999.00,9,  -999.00,9,   -999.0,9,   -999.0,9,   -0.078,2,    0.000,2,   98.526,2
  09AR20141205,AU1402,    40,  1,      0,      3,2,20150101,1808,-66.7953, 116.9495,  704,    654.5,  -1.8287,  34.3079,2,  34.3076,2,    314.8,2,    314.6,2,  -999.00,9,  -999.00,9,  -999.00,9,   2217.1,2,   2318.3,2,   -0.086,2,    0.000,2,   98.525,2
  09AR20141205,AU1402,    40,  1,      0,      2,2,20150101,1808,-66.7953, 116.9495,  704,    652.7,  -1.8289,  34.3078,2,-999.0000,9,    314.8,2,   -999.0,9,  -999.00,9,  -999.00,9,  -999.00,9,   -999.0,9,   -999.0,9,   -0.090,2,    0.000,2,   98.529,2
  09AR20141205,AU1402,    40,  1,      0,      1,2,20150101,1808,-66.7953, 116.9495,  704,    766.0,  -1.8205,  34.3101,2,  34.3100,2,    315.1,2,    314.4,2,  -999.00,9,  -999.00,9,  -999.00,9,   2217.8,2,   2317.0,2,   -0.092,2,    0.000,2,   98.485,2
  09AR20141205,AU1402,    41,  1,      0,     24,2,20150101,2215,-66.8278, 117.1573,  663,      6.4,  -1.8270,  34.1982,2,-999.0000,9,    322.4,2,   -999.0,9,  -999.00,9,  -999.00,9,  -999.00,9,   -999.0,9,   -999.0,9,   -0.079,2,  373.000,2,   98.214,2
  09AR20141205,AU1402,    41,  1,      0,     23,2,20150101,2215,-66.8278, 117.1573,  663,      6.4,  -1.8271,  34.1987,2,-999.0000,9,    322.4,2,   -999.0,9,  -999.00,9,  -999.00,9,  -999.00,9,   -999.0,9,   -999.0,9,   -0.073,2,  365.800,2,   98.195,2
  09AR20141205,AU1402,    41,  1,      0,     22,2,20150101,2215,-66.8278, 117.1573,  663,      6.3,  -1.8274,  34.1987,2,-999.0000,9,    322.4,2,   -999.0,9,  -999.00,9,  -999.00,9,  -999.00,9,   -999.0,9,   -999.0,9,   -0.078,2,  370.600,2,   98.201,2
  09AR20141205,AU1402,    41,  1,      0,     21,2,20150101,2215,-66.8278, 117.1573,  663,      6.3,  -1.8267,  34.1994,2,  34.2059,2,    322.4,2,    323.8,2,    61.80,2,    30.00,2,     2.10,3,   2209.1,2,   2311.0,2,   -0.077,2,  361.200,2,   98.212,2
  09AR20141205,AU1402,    41,  1,      0,     20,2,20150101,2215,-66.8278, 117.1573,  663,     46.1,  -1.7603,  34.2285,2,-999.0000,9,    321.7,2,   -999.0,9,  -999.00,9,  -999.00,9,  -999.00,9,   -999.0,9,   -999.0,9,   -0.058,2,   48.860,2,   98.160,2
  09AR20141205,AU1402,    41,  1,      0,     19,2,20150101,2215,-66.8278, 117.1573,  663,     46.0,  -1.7603,  34.2285,2,  34.2336,2,    321.7,2,    320.4,2,    62.50,2,    30.15,2,     2.11,3,   2213.2,6,   2313.9,6,   -0.053,2,   49.300,2,   98.178,2
  09AR20141205,AU1402,    41,  1,      0,     18,2,20150101,2215,-66.8278, 117.1573,  663,     60.6,  -1.8127,  34.2393,2,-999.0000,9,    318.8,2,   -999.0,9,  -999.00,9,  -999.00,9,  -999.00,9,   -999.0,9,   -999.0,9,   -0.045,2,   27.330,2,   98.220,2
  09AR20141205,AU1402,    41,  1,      0,     17,2,20150101,2215,-66.8278, 117.1573,  663,     60.6,  -1.8129,  34.2394,2,-999.0000,9,    318.8,2,   -999.0,9,  -999.00,9,  -999.00,9,  -999.00,9,   -999.0,9,   -999.0,9,   -0.043,2,   27.480,2,   98.216,2
  09AR20141205,AU1402,    41,  1,      0,     16,2,20150101,2215,-66.8278, 117.1573,  663,     60.5,  -1.8135,  34.2399,2,-999.0000,9,    318.8,2,   -999.0,9,  -999.00,9,  -999.00,9,  -999.00,9,   -999.0,9,   -999.0,9,   -0.050,2,   27.470,2,   98.226,2
  09AR20141205,AU1402,    41,  1,      0,     15,2,20150101,2215,-66.8278, 117.1573,  663,    100.7,  -1.8413,  34.2500,2,-999.0000,9,    314.1,2,   -999.0,9,  -999.00,9,  -999.00,9,  -999.00,9,   -999.0,9,   -999.0,9,   -0.042,2,    6.044,2,   98.237,2
  09AR20141205,AU1402,    41,  1,      0,     14,2,20150101,2215,-66.8278, 117.1573,  663,    100.7,  -1.8413,  34.2501,2,-999.0000,9,    314.1,2,   -999.0,9,  -999.00,9,  -999.00,9,  -999.00,9,   -999.0,9,   -999.0,9,   -0.041,2,    6.049,2,   98.240,2
  09AR20141205,AU1402,    41,  1,      0,     13,2,20150101,2215,-66.8278, 117.1573,  663,    101.0,  -1.8411,  34.2500,2,  34.2502,2,    314.1,2,    313.4,2,    64.10,2,    30.47,2,     2.13,3,   2215.1,2,   2315.9,2,   -0.048,2,    5.874,2,   98.234,2
  09AR20141205,AU1402,    41,  1,      0,     12,2,20150101,2215,-66.8278, 117.1573,  663,    101.3,  -1.8408,  34.2499,2,-999.0000,9,    314.1,2,   -999.0,9,  -999.00,9,  -999.00,9,  -999.00,9,   -999.0,9,   -999.0,9,   -0.042,2,    5.822,2,   98.238,2
  09AR20141205,AU1402,    41,  1,      0,     11,2,20150101,2215,-66.8278, 117.1573,  663,    151.3,  -1.8757,  34.2586,2,  34.2585,2,    312.8,2,    312.5,2,  -999.00,9,  -999.00,9,  -999.00,9,   2215.5,2,   2316.6,2,   -0.070,2,    0.893,2,   98.234,2
  09AR20141205,AU1402,    41,  1,      0,     10,2,20150101,2215,-66.8278, 117.1573,  663,    151.1,  -1.8773,  34.2587,2,-999.0000,9,    312.8,2,   -999.0,9,  -999.00,9,  -999.00,9,  -999.00,9,   -999.0,9,   -999.0,9,   -0.077,2,    0.893,2,   98.235,2
  09AR20141205,AU1402,    41,  1,      0,      9,2,20150101,2215,-66.8278, 117.1573,  663,    201.1,  -1.8726,  34.2652,2,  34.2660,2,    314.4,2,    313.7,2,    63.30,2,    30.43,2,     2.12,3,   2217.0,2,   2315.3,6,   -0.038,2,    0.086,2,   98.304,2
  09AR20141205,AU1402,    41,  1,      0,      8,2,20150101,2215,-66.8278, 117.1573,  663,    200.9,  -1.8729,  34.2653,2,-999.0000,9,    314.5,2,   -999.0,9,  -999.00,9,  -999.00,9,  -999.00,9,   -999.0,9,   -999.0,9,   -0.047,2,    0.087,2,   98.305,2
  09AR20141205,AU1402,    41,  1,      0,      7,2,20150101,2215,-66.8278, 117.1573,  663,    351.3,  -1.8477,  34.2852,2,  34.2860,2,    316.1,2,    315.3,2,  -999.00,9,  -999.00,9,  -999.00,9,   2216.1,2,   2315.7,2,   -0.054,2,    0.000,2,   98.413,2
  09AR20141205,AU1402,    41,  1,      0,      6,2,20150101,2215,-66.8278, 117.1573,  663,    351.0,  -1.8478,  34.2850,2,-999.0000,9,    316.1,2,   -999.0,9,  -999.00,9,  -999.00,9,  -999.00,9,   -999.0,9,   -999.0,9,   -0.061,2,    0.000,2,   98.468,2
  09AR20141205,AU1402,    41,  1,      0,      5,2,20150101,2215,-66.8278, 117.1573,  663,    501.4,  -1.8395,  34.3006,2,  34.3003,2,    315.8,2,    315.2,2,    61.30,2,    30.27,2,     2.00,3,   2214.6,2,   2318.1,2,   -0.075,2,    0.000,2,   98.485,2
  09AR20141205,AU1402,    41,  1,      0,      4,2,20150101,2215,-66.8278, 117.1573,  663,    501.2,  -1.8394,  34.3009,2,-999.0000,9,    315.8,2,   -999.0,9,  -999.00,9,  -999.00,9,  -999.00,9,   -999.0,9,   -999.0,9,   -0.079,2,    0.000,2,   98.480,2
  09AR20141205,AU1402,    41,  1,      0,      3,2,20150101,2215,-66.8278, 117.1573,  663,    621.8,  -1.5064,  34.3741,2,  34.3846,2,    307.0,2,    298.4,2,  -999.00,9,  -999.00,9,  -999.00,9,   2225.6,2,   2322.6,2,   -0.099,2,    0.000,2,   98.574,2
  09AR20141205,AU1402,    41,  1,      0,      2,2,20150101,2215,-66.8278, 117.1573,  663,    621.8,  -1.5015,  34.3742,2,-999.0000,9,    307.0,2,   -999.0,9,  -999.00,9,  -999.00,9,  -999.00,9,   -999.0,9,   -999.0,9,   -0.096,2,    0.000,2,   98.570,2
  09AR20141205,AU1402,    41,  1,      0,      1,2,20150101,2215,-66.8278, 117.1573,  663,    664.4,  -1.1287,  34.4313,2,  34.4311,2,    284.6,2,    285.0,2,    72.10,2,    31.18,2,     2.18,3,   2232.5,2,   2327.2,2,   -0.089,2,    0.000,2,   98.463,2
  09AR20141205,AU1402,    42,  1,      0,     24,2,20150102,0013,-66.8192, 117.3623,  440,      5.3,  -1.6941,  34.1493,2,-999.0000,9,    325.0,2,   -999.0,9,  -999.00,9,  -999.00,9,  -999.00,9,   -999.0,9,   -999.0,9,   -0.080,2,  365.800,2,   97.906,2
  09AR20141205,AU1402,    42,  1,      0,     23,2,20150102,0013,-66.8192, 117.3623,  440,      5.4,  -1.6941,  34.1501,2,-999.0000,9,    325.0,2,   -999.0,9,  -999.00,9,  -999.00,9,  -999.00,9,   -999.0,9,   -999.0,9,   -0.079,2,  361.900,2,   97.909,2
  09AR20141205,AU1402,    42,  1,      0,     22,2,20150102,0013,-66.8192, 117.3623,  440,      5.4,  -1.7000,  34.1520,2,-999.0000,9,    325.0,2,   -999.0,9,  -999.00,9,  -999.00,9,  -999.00,9,   -999.0,9,   -999.0,9,   -0.079,2,  361.200,2,   97.908,2
  09AR20141205,AU1402,    42,  1,      0,     21,2,20150102,0013,-66.8192, 117.3623,  440,      5.4,  -1.7029,  34.1527,2,-999.0000,9,    325.0,2,   -999.0,9,  -999.00,9,  -999.00,9,  -999.00,9,   -999.0,9,   -999.0,9,   -0.080,2,  361.400,2,   97.908,2
  09AR20141205,AU1402,    42,  1,      0,     20,2,20150102,0013,-66.8192, 117.3623,  440,      5.3,  -1.7103,  34.1544,2,-999.0000,9,    325.0,2,   -999.0,9,  -999.00,9,  -999.00,9,  -999.00,9,   -999.0,9,   -999.0,9,   -0.081,2,  361.500,2,   97.908,2
  09AR20141205,AU1402,    42,  1,      0,     19,2,20150102,0013,-66.8192, 117.3623,  440,      5.2,  -1.7660,  34.1740,2,  34.1658,2,    325.0,2,    325.3,2,    61.30,2,    29.70,2,     2.09,3,   2206.0,2,   2310.8,2,   -0.075,2,  360.200,2,   97.874,2
  09AR20141205,AU1402,    42,  1,      0,     18,2,20150102,0013,-66.8192, 117.3623,  440,      5.8,  -1.7748,  34.1764,2,-999.0000,9,    325.0,2,   -999.0,9,  -999.00,9,  -999.00,9,  -999.00,9,   -999.0,9,   -999.0,9,   -0.060,2,  338.300,2,   97.852,2
  09AR20141205,AU1402,    42,  1,      0,     17,2,20150102,0013,-66.8192, 117.3623,  440,     24.2,  -1.8093,  34.2176,2,-999.0000,9,    322.1,2,   -999.0,9,  -999.00,9,  -999.00,9,  -999.00,9,   -999.0,9,   -999.0,9,   -0.037,2,  106.400,2,   97.961,2
  09AR20141205,AU1402,    42,  1,      0,     16,2,20150102,0013,-66.8192, 117.3623,  440,     30.2,  -1.8049,  34.2251,2,-999.0000,9,    320.6,2,   -999.0,9,  -999.00,9,  -999.00,9,  -999.00,9,   -999.0,9,   -999.0,9,   -0.027,2,   81.600,2,   97.982,2
  09AR20141205,AU1402,    42,  1,      0,     15,2,20150102,0013,-66.8192, 117.3623,  440,     45.6,  -1.8122,  34.2360,2,  34.2384,2,    319.1,2,    317.8,2,    62.50,2,    30.16,2,     2.09,3,   2212.2,2,   2315.1,2,   -0.007,2,   47.670,2,   98.055,2
  09AR20141205,AU1402,    42,  1,      0,     14,2,20150102,0013,-66.8192, 117.3623,  440,     50.4,  -1.8161,  34.2398,2,-999.0000,9,    318.4,2,   -999.0,9,  -999.00,9,  -999.00,9,  -999.00,9,   -999.0,9,   -999.0,9,   -0.010,2,   40.840,2,   98.083,2
  09AR20141205,AU1402,    42,  1,      0,     13,2,20150102,0013,-66.8192, 117.3623,  440,     60.6,  -1.8217,  34.2453,2,-999.0000,9,    317.5,2,   -999.0,9,  -999.00,9,  -999.00,9,  -999.00,9,   -999.0,9,   -999.0,9,    0.001,2,   29.210,2,   98.090,2
  09AR20141205,AU1402,    42,  1,      0,     12,2,20150102,0013,-66.8192, 117.3623,  440,     68.9,  -1.8411,  34.2530,2,-999.0000,9,    316.8,2,   -999.0,9,  -999.00,9,  -999.00,9,  -999.00,9,   -999.0,9,   -999.0,9,    0.002,2,   22.180,2,   98.192,2
  09AR20141205,AU1402,    42,  1,      0,     11,2,20150102,0013,-66.8192, 117.3623,  440,     80.5,  -1.8526,  34.2576,2,-999.0000,9,    315.8,2,   -999.0,9,  -999.00,9,  -999.00,9,  -999.00,9,   -999.0,9,   -999.0,9,   -0.003,2,   15.020,2,   98.226,2
  09AR20141205,AU1402,    42,  1,      0,     10,2,20150102,0013,-66.8192, 117.3623,  440,     80.4,  -1.8551,  34.2596,2,-999.0000,9,    315.8,2,   -999.0,9,  -999.00,9,  -999.00,9,  -999.00,9,   -999.0,9,   -999.0,9,   -0.010,2,   15.070,2,   98.235,2
  09AR20141205,AU1402,    42,  1,      0,      9,2,20150102,0013,-66.8192, 117.3623,  440,    100.3,  -1.8559,  34.2649,2,  34.2657,2,    314.8,2,    314.3,2,    63.10,2,    30.33,2,     2.12,3,   2215.2,2,   2293.3,3,   -0.010,2,    7.635,2,   98.285,2
  09AR20141205,AU1402,    42,  1,      0,      8,2,20150102,0013,-66.8192, 117.3623,  440,    100.0,  -1.8560,  34.2648,2,-999.0000,9,    314.8,2,   -999.0,9,  -999.00,9,  -999.00,9,  -999.00,9,   -999.0,9,   -999.0,9,   -0.014,2,    7.739,2,   98.274,2
  09AR20141205,AU1402,    42,  1,      0,      7,2,20150102,0013,-66.8192, 117.3623,  440,    150.8,  -1.8559,  34.2776,2,  34.2773,2,    315.8,2,    315.8,2,  -999.00,9,  -999.00,9,  -999.00,9,   2218.6,2,   2315.9,6,   -0.044,2,    1.403,2,   98.399,2
  09AR20141205,AU1402,    42,  1,      0,      6,2,20150102,0013,-66.8192, 117.3623,  440,    201.3,  -1.8493,  34.2850,2,-999.0000,9,    316.0,2,   -999.0,9,  -999.00,9,  -999.00,9,  -999.00,9,   -999.0,9,   -999.0,9,   -0.050,2,    0.222,2,   98.477,2
  09AR20141205,AU1402,    42,  1,      0,      5,2,20150102,0013,-66.8192, 117.3623,  440,    201.2,  -1.8494,  34.2850,2,  34.2842,2,    316.0,2,    315.6,2,    61.50,2,    30.16,2,     2.10,3,   2214.2,2,   2317.2,6,   -0.045,2,    0.223,2,   98.475,2
  09AR20141205,AU1402,    42,  1,      0,      4,2,20150102,0013,-66.8192, 117.3623,  440,    201.0,  -1.8494,  34.2850,2,-999.0000,9,    316.0,2,   -999.0,9,  -999.00,9,  -999.00,9,  -999.00,9,   -999.0,9,   -999.0,9,   -0.058,2,    0.225,2,   98.464,2
  09AR20141205,AU1402,    42,  1,      0,      3,2,20150102,0013,-66.8192, 117.3623,  440,    300.4,  -1.8386,  34.2982,2,  34.2983,2,    315.7,2,    315.4,2,  -999.00,9,  -999.00,9,  -999.00,9,   2216.1,2,   2314.9,2,   -0.081,2,    0.001,2,   98.464,2
  09AR20141205,AU1402,    42,  1,      0,      2,2,20150102,0013,-66.8192, 117.3623,  440,    300.3,  -1.8387,  34.2982,2,-999.0000,9,    315.7,2,   -999.0,9,  -999.00,9,  -999.00,9,  -999.00,9,   -999.0,9,   -999.0,9,   -0.075,2,    0.001,2,   98.471,2
  09AR20141205,AU1402,    42,  1,      0,      1,2,20150102,0013,-66.8192, 117.3623,  440,    437.2,  -1.8351,  34.3044,2,  34.2983,2,    315.8,2,    315.4,2,    61.10,2,    30.19,2,     2.11,3,   2218.1,2,   2320.6,2,   -0.081,2,    0.001,2,   98.342,2