BOTTLE,20210329PRINUNIVRMK
EXPOCODE,SECT_ID,STNNBR,CASTNO,SAMPNO,BTLNBR,BTLNBR_FLAG_W,DATE,TIME,LATITUDE,LONGITUDE,DEPTH,CTDPRS,CTDTMP,CTDSAL,CTDSAL_FLAG_W,SALNTY,SALNTY_FLAG_W,CTDOXY,CTDOXY_FLAG_W,OXYGEN,OXYGEN_FLAG_W,SILCAT,SILCAT_FLAG_W,NITRAT,NITRAT_FLAG_W,PHSPHT,PHSPHT_FLAG_W,TCARBN,TCARBN_FLAG_W,ALKALI,ALKALI_FLAG_W,CTDFLUOR,CTDFLUOR_FLAG_W,CTDPAR,CTDPAR_FLAG_W,CTDXMISS,CTDXMISS_FLAG_W
,,,,,,,,,,,METERS,DBAR,ITS-90,PSS-78,,PSS-78,,UMOL/KG,,UMOL/KG,,UMOL/KG,,UMOL/KG,,UMOL/KG,,UMOL/KG,,UMOL/KG,,MG/M^3,,UEINSTEIN/M^2*SEC,,%TRANS,
  09AR20141205,AU1402,    67,  1,      0,     24,2,20150105,1110,-66.7677, 120.8125,  190,      8.2,  -0.7944,  34.1380,2,  34.1391,2,    343.3,2,    343.9,2,  -999.00,9,  -999.00,9,  -999.00,9,   2194.2,2,   2308.9,2,    0.112,2,   43.090,2,   97.105,2
  09AR20141205,AU1402,    67,  1,      0,     23,2,20150105,1110,-66.7677, 120.8125,  190,      8.2,  -0.7944,  34.1384,2,-999.0000,9,    343.3,2,   -999.0,9,  -999.00,9,  -999.00,9,  -999.00,9,   -999.0,9,   -999.0,9,    0.107,2,   43.090,2,   97.071,2
  09AR20141205,AU1402,    67,  1,      0,     22,2,20150105,1110,-66.7677, 120.8125,  190,      8.2,  -0.7954,  34.1379,2,-999.0000,9,    343.3,2,   -999.0,9,  -999.00,9,  -999.00,9,  -999.00,9,   -999.0,9,   -999.0,9,    0.116,2,   43.330,2,   97.065,2
  09AR20141205,AU1402,    67,  1,      0,     21,2,20150105,1110,-66.7677, 120.8125,  190,      8.1,  -0.7965,  34.1376,2,-999.0000,9,    343.3,2,   -999.0,9,  -999.00,9,  -999.00,9,  -999.00,9,   -999.0,9,   -999.0,9,    0.102,2,   43.760,2,   97.068,2
  09AR20141205,AU1402,    67,  1,      0,     20,2,20150105,1110,-66.7677, 120.8125,  190,      8.1,  -0.7982,  34.1367,2,-999.0000,9,    343.3,2,   -999.0,9,  -999.00,9,  -999.00,9,  -999.00,9,   -999.0,9,   -999.0,9,    0.098,2,   43.830,2,   97.086,2
  09AR20141205,AU1402,    67,  1,      0,     19,2,20150105,1110,-66.7677, 120.8125,  190,      8.1,  -0.7985,  34.1361,2,-999.0000,9,    343.3,2,   -999.0,9,  -999.00,9,  -999.00,9,  -999.00,9,   -999.0,9,   -999.0,9,    0.098,2,   43.950,2,   97.095,2
  09AR20141205,AU1402,    67,  1,      0,     18,2,20150105,1110,-66.7677, 120.8125,  190,      8.1,  -0.7980,  34.1369,2,-999.0000,9,    343.3,2,   -999.0,9,  -999.00,9,  -999.00,9,  -999.00,9,   -999.0,9,   -999.0,9,    0.102,2,   44.070,2,   97.083,2
  09AR20141205,AU1402,    67,  1,      0,     17,2,20150105,1110,-66.7677, 120.8125,  190,     30.5,  -0.8157,  34.1440,2,  34.1550,2,    342.0,2,    341.2,2,  -999.00,9,  -999.00,9,  -999.00,9,   2200.6,6,   2309.1,6,    0.100,2,   16.530,2,   97.256,2
  09AR20141205,AU1402,    67,  1,      0,     16,2,20150105,1110,-66.7677, 120.8125,  190,     30.4,  -0.8252,  34.1439,2,-999.0000,9,    342.0,2,   -999.0,9,  -999.00,9,  -999.00,9,  -999.00,9,   -999.0,9,   -999.0,9,    0.098,2,   16.690,2,   97.265,2
  09AR20141205,AU1402,    67,  1,      0,     15,2,20150105,1110,-66.7677, 120.8125,  190,     30.2,  -0.8176,  34.1438,2,-999.0000,9,    342.0,2,   -999.0,9,  -999.00,9,  -999.00,9,  -999.00,9,   -999.0,9,   -999.0,9,    0.124,2,   17.010,2,   97.295,2
  09AR20141205,AU1402,    67,  1,      0,     14,2,20150105,1110,-66.7677, 120.8125,  190,     30.1,  -0.9049,  34.1535,2,-999.0000,9,    342.0,2,   -999.0,9,  -999.00,9,  -999.00,9,  -999.00,9,   -999.0,9,   -999.0,9,    0.082,2,   17.080,2,   97.707,2
  09AR20141205,AU1402,    67,  1,      0,     13,2,20150105,1110,-66.7677, 120.8125,  190,     69.4,  -1.8861,  34.2324,2,-999.0000,9,    314.6,2,   -999.0,9,  -999.00,9,  -999.00,9,  -999.00,9,   -999.0,9,   -999.0,9,    0.174,2,    4.312,2,   97.872,2
  09AR20141205,AU1402,    67,  1,      0,     12,2,20150105,1110,-66.7677, 120.8125,  190,     69.4,  -1.8871,  34.2325,2,-999.0000,9,    314.6,2,   -999.0,9,  -999.00,9,  -999.00,9,  -999.00,9,   -999.0,9,   -999.0,9,    0.166,2,    4.340,2,   97.868,2
  09AR20141205,AU1402,    67,  1,      0,     11,2,20150105,1110,-66.7677, 120.8125,  190,     69.4,  -1.8853,  34.2324,2,  34.2312,2,    314.6,2,    314.4,2,  -999.00,9,  -999.00,9,  -999.00,9,   2210.7,2,   2311.4,6,    0.136,2,    4.368,2,   97.878,2
  09AR20141205,AU1402,    67,  1,      0,     10,2,20150105,1110,-66.7677, 120.8125,  190,     69.3,  -1.8846,  34.2323,2,-999.0000,9,    314.6,2,   -999.0,9,  -999.00,9,  -999.00,9,  -999.00,9,   -999.0,9,   -999.0,9,    0.131,2,    4.404,2,   97.876,2
  09AR20141205,AU1402,    67,  1,      0,      9,2,20150105,1110,-66.7677, 120.8125,  190,     69.3,  -1.8852,  34.2323,2,-999.0000,9,    314.6,2,   -999.0,9,  -999.00,9,  -999.00,9,  -999.00,9,   -999.0,9,   -999.0,9,    0.132,2,    4.455,2,   97.877,2
  09AR20141205,AU1402,    67,  1,      0,      8,2,20150105,1110,-66.7677, 120.8125,  190,     69.3,  -1.8844,  34.2324,2,-999.0000,9,    314.6,2,   -999.0,9,  -999.00,9,  -999.00,9,  -999.00,9,   -999.0,9,   -999.0,9,    0.140,2,    4.478,2,   97.876,2
  09AR20141205,AU1402,    67,  1,      0,      7,2,20150105,1110,-66.7677, 120.8125,  190,     69.3,  -1.8838,  34.2322,2,-999.0000,9,    314.6,2,   -999.0,9,  -999.00,9,  -999.00,9,  -999.00,9,   -999.0,9,   -999.0,9,    0.120,2,    4.493,2,   97.886,2
  09AR20141205,AU1402,    67,  1,      0,      6,2,20150105,1110,-66.7677, 120.8125,  190,     69.3,  -1.8840,  34.2322,2,-999.0000,9,    314.6,2,   -999.0,9,  -999.00,9,  -999.00,9,  -999.00,9,   -999.0,9,   -999.0,9,    0.169,2,    4.510,2,   97.928,2
  09AR20141205,AU1402,    67,  1,      0,      5,2,20150105,1110,-66.7677, 120.8125,  190,    141.1,  -1.9479,  34.2355,2,-999.0000,9,    311.6,2,   -999.0,9,  -999.00,9,  -999.00,9,  -999.00,9,   -999.0,9,   -999.0,9,   -0.090,2,    0.334,2,   98.114,2
  09AR20141205,AU1402,    67,  1,      0,      4,2,20150105,1110,-66.7677, 120.8125,  190,    141.1,  -1.9478,  34.2354,2,-999.0000,9,    311.6,2,   -999.0,9,  -999.00,9,  -999.00,9,  -999.00,9,   -999.0,9,   -999.0,9,   -0.077,2,    0.336,2,   98.137,2
  09AR20141205,AU1402,    67,  1,      0,      3,2,20150105,1110,-66.7677, 120.8125,  190,    141.0,  -1.9479,  34.2354,2,-999.0000,9,    311.6,2,   -999.0,9,  -999.00,9,  -999.00,9,  -999.00,9,   -999.0,9,   -999.0,9,   -0.094,2,    0.336,2,   98.120,2
  09AR20141205,AU1402,    67,  1,      0,      2,2,20150105,1110,-66.7677, 120.8125,  190,    188.4,  -1.9499,  34.2382,2,-999.0000,9,    311.1,2,   -999.0,9,  -999.00,9,  -999.00,9,  -999.00,9,   -999.0,9,   -999.0,9,   -0.101,2,    0.006,2,   98.086,2
  09AR20141205,AU1402,    67,  1,      0,      1,2,20150105,1110,-66.7677, 120.8125,  190,    188.4,  -1.9502,  34.2380,2,  34.2367,2,    311.1,2,    311.4,2,  -999.00,9,  -999.00,9,  -999.00,9,   2213.2,2,   2311.8,2,   -0.095,2,    0.007,2,   98.063,2
  09AR20141205,AU1402,    68,  1,      0,     24,2,20150105,1250,-66.7512, 120.5862,  516,      7.2,  -0.5955,  34.1986,2,-999.0000,9,    346.4,2,   -999.0,9,  -999.00,9,  -999.00,9,  -999.00,9,   -999.0,9,   -999.0,9,    0.522,2,   11.640,2,   95.273,2
  09AR20141205,AU1402,    68,  1,      0,     23,2,20150105,1250,-66.7512, 120.5862,  516,      7.1,  -0.5949,  34.1986,2,-999.0000,9,    346.4,2,   -999.0,9,  -999.00,9,  -999.00,9,  -999.00,9,   -999.0,9,   -999.0,9,    0.502,2,   11.570,2,   95.214,2
  09AR20141205,AU1402,    68,  1,      0,     22,2,20150105,1250,-66.7512, 120.5862,  516,      7.1,  -0.5945,  34.1984,2,-999.0000,9,    346.4,2,   -999.0,9,  -999.00,9,  -999.00,9,  -999.00,9,   -999.0,9,   -999.0,9,    0.481,2,   11.560,2,   95.196,2
  09AR20141205,AU1402,    68,  1,      0,     21,2,20150105,1250,-66.7512, 120.5862,  516,      7.1,  -0.5954,  34.1984,2,  34.1978,2,    346.4,2,    346.5,2,  -999.00,9,  -999.00,9,  -999.00,9,   2200.8,2,   2311.9,2,    0.505,2,   11.690,2,   95.255,2
  09AR20141205,AU1402,    68,  1,      0,     20,2,20150105,1250,-66.7512, 120.5862,  516,      7.0,  -0.5948,  34.1984,2,-999.0000,9,    346.4,2,   -999.0,9,  -999.00,9,  -999.00,9,  -999.00,9,   -999.0,9,   -999.0,9,    0.479,2,   11.020,2,   95.252,2
  09AR20141205,AU1402,    68,  1,      0,     19,2,20150105,1250,-66.7512, 120.5862,  516,     25.4,  -0.6144,  34.2011,2,  34.2004,2,    345.9,2,    346.4,2,  -999.00,9,  -999.00,9,  -999.00,9,   2199.6,6,   2310.9,6,    0.611,2,    3.832,2,   95.132,2
  09AR20141205,AU1402,    68,  1,      0,     18,2,20150105,1250,-66.7512, 120.5862,  516,     25.3,  -0.6157,  34.2010,2,-999.0000,9,    345.9,2,   -999.0,9,  -999.00,9,  -999.00,9,  -999.00,9,   -999.0,9,   -999.0,9,    0.541,2,    3.796,2,   95.210,2
  09AR20141205,AU1402,    68,  1,      0,     17,2,20150105,1250,-66.7512, 120.5862,  516,     65.2,  -1.4745,  34.2277,2,  34.2267,2,    332.9,2,    333.0,2,  -999.00,9,  -999.00,9,  -999.00,9,   2203.9,2,   2312.6,2,    1.989,2,    0.373,2,   95.011,2
  09AR20141205,AU1402,    68,  1,      0,     16,2,20150105,1250,-66.7512, 120.5862,  516,     65.1,  -1.4748,  34.2276,2,-999.0000,9,    332.9,2,   -999.0,9,  -999.00,9,  -999.00,9,  -999.00,9,   -999.0,9,   -999.0,9,    1.816,2,    0.375,2,   95.004,2
  09AR20141205,AU1402,    68,  1,      0,     15,2,20150105,1250,-66.7512, 120.5862,  516,     65.0,  -1.4754,  34.2275,2,-999.0000,9,    332.9,2,   -999.0,9,  -999.00,9,  -999.00,9,  -999.00,9,   -999.0,9,   -999.0,9,    1.789,2,    0.382,2,   95.042,2
  09AR20141205,AU1402,    68,  1,      0,     14,2,20150105,1250,-66.7512, 120.5862,  516,     65.0,  -1.4749,  34.2275,2,-999.0000,9,    332.9,2,   -999.0,9,  -999.00,9,  -999.00,9,  -999.00,9,   -999.0,9,   -999.0,9,    1.840,2,    0.384,2,   95.029,2
  09AR20141205,AU1402,    68,  1,      0,     13,2,20150105,1250,-66.7512, 120.5862,  516,    160.4,  -1.8835,  34.2364,2,  34.2346,2,    314.2,2,    314.2,2,  -999.00,9,  -999.00,9,  -999.00,9,   2211.9,2,   2314.3,2,   -0.006,2,    0.000,2,   98.234,2
  09AR20141205,AU1402,    68,  1,      0,     12,2,20150105,1250,-66.7512, 120.5862,  516,    160.4,  -1.8838,  34.2364,2,-999.0000,9,    314.2,2,   -999.0,9,  -999.00,9,  -999.00,9,  -999.00,9,   -999.0,9,   -999.0,9,   -0.017,2,    0.000,2,   98.233,2
  09AR20141205,AU1402,    68,  1,      0,     11,2,20150105,1250,-66.7512, 120.5862,  516,    160.3,  -1.8838,  34.2365,2,-999.0000,9,    314.2,2,   -999.0,9,  -999.00,9,  -999.00,9,  -999.00,9,   -999.0,9,   -999.0,9,   -0.022,2,    0.000,2,   98.234,2
  09AR20141205,AU1402,    68,  1,      0,     10,2,20150105,1250,-66.7512, 120.5862,  516,    300.5,  -1.8678,  34.2490,2,-999.0000,9,    312.9,2,   -999.0,9,  -999.00,9,  -999.00,9,  -999.00,9,   -999.0,9,   -999.0,9,   -0.064,2,    0.000,2,   98.262,2
  09AR20141205,AU1402,    68,  1,      0,      9,2,20150105,1250,-66.7512, 120.5862,  516,    300.2,  -1.8693,  34.2494,2,  34.2495,2,    312.9,2,    313.4,2,  -999.00,9,  -999.00,9,  -999.00,9,   2214.0,2,   2313.1,2,   -0.066,2,    0.000,2,   98.241,2
  09AR20141205,AU1402,    68,  1,      0,      8,2,20150105,1250,-66.7512, 120.5862,  516,    300.1,  -1.8683,  34.2502,2,-999.0000,9,    312.9,2,   -999.0,9,  -999.00,9,  -999.00,9,  -999.00,9,   -999.0,9,   -999.0,9,   -0.070,2,    0.000,2,   98.239,2
  09AR20141205,AU1402,    68,  1,      0,      7,2,20150105,1250,-66.7512, 120.5862,  516,    300.5,  -1.8683,  34.2511,2,-999.0000,9,    312.9,2,   -999.0,9,  -999.00,9,  -999.00,9,  -999.00,9,   -999.0,9,   -999.0,9,   -0.060,2,    0.000,2,   98.233,2
  09AR20141205,AU1402,    68,  1,      0,      6,2,20150105,1250,-66.7512, 120.5862,  516,    460.4,  -1.8067,  34.2827,2,-999.0000,9,    312.2,2,   -999.0,9,  -999.00,9,  -999.00,9,  -999.00,9,   -999.0,9,   -999.0,9,   -0.027,2,    0.000,2,   97.778,2
  09AR20141205,AU1402,    68,  1,      0,      5,2,20150105,1250,-66.7512, 120.5862,  516,    460.4,  -1.8066,  34.2828,2,  34.2813,2,    312.2,2,    312.2,2,  -999.00,9,  -999.00,9,  -999.00,9,   2215.7,2,   2315.5,2,   -0.039,2,    0.000,2,   97.742,2
  09AR20141205,AU1402,    68,  1,      0,      4,2,20150105,1250,-66.7512, 120.5862,  516,    460.3,  -1.8067,  34.2826,2,-999.0000,9,    312.2,2,   -999.0,9,  -999.00,9,  -999.00,9,  -999.00,9,   -999.0,9,   -999.0,9,   -0.035,2,    0.000,2,   97.751,2
  09AR20141205,AU1402,    68,  1,      0,      3,2,20150105,1250,-66.7512, 120.5862,  516,    460.6,  -1.8065,  34.2828,2,-999.0000,9,    312.2,2,   -999.0,9,  -999.00,9,  -999.00,9,  -999.00,9,   -999.0,9,   -999.0,9,   -0.035,2,    0.000,2,   97.614,2
  09AR20141205,AU1402,    68,  1,      0,      2,2,20150105,1250,-66.7512, 120.5862,  516,    503.7,  -1.8037,  34.2837,2,-999.0000,9,    312.0,2,   -999.0,9,  -999.00,9,  -999.00,9,  -999.00,9,   -999.0,9,   -999.0,9,   -0.034,2,    0.000,2,   97.522,2
  09AR20141205,AU1402,    68,  1,      0,      1,2,20150105,1250,-66.7512, 120.5862,  516,    503.6,  -1.8037,  34.2838,2,  34.2821,2,    312.0,2,    312.0,2,  -999.00,9,  -999.00,9,  -999.00,9,   2218.4,2,   2316.5,2,   -0.032,2,    0.000,2,   97.543,2
  09AR20141205,AU1402,    69,  1,      0,     24,2,20150105,1446,-66.6297, 120.7087,  242,      7.9,  -0.6291,  34.2027,2,-999.0000,9,    349.3,2,   -999.0,9,  -999.00,9,  -999.00,9,  -999.00,9,   -999.0,9,   -999.0,9,    0.676,2,    1.013,2,   94.492,2
  09AR20141205,AU1402,    69,  1,      0,     23,2,20150105,1446,-66.6297, 120.7087,  242,      7.9,  -0.6289,  34.2027,2,-999.0000,9,    349.3,2,   -999.0,9,  -999.00,9,  -999.00,9,  -999.00,9,   -999.0,9,   -999.0,9,    0.696,2,    1.014,2,   94.491,2
  09AR20141205,AU1402,    69,  1,      0,     22,2,20150105,1446,-66.6297, 120.7087,  242,      7.9,  -0.6292,  34.2027,2,-999.0000,9,    349.3,2,   -999.0,9,  -999.00,9,  -999.00,9,  -999.00,9,   -999.0,9,   -999.0,9,    0.682,2,    1.021,2,   94.483,2
  09AR20141205,AU1402,    69,  1,      0,     21,2,20150105,1446,-66.6297, 120.7087,  242,      7.8,  -0.6279,  34.2026,2,  34.2033,2,    349.3,2,    349.3,2,  -999.00,9,  -999.00,9,  -999.00,9,   2196.8,2,   2312.2,2,    0.676,2,    1.069,2,   94.478,2
  09AR20141205,AU1402,    69,  1,      0,     20,2,20150105,1446,-66.6297, 120.7087,  242,      7.8,  -0.6265,  34.2025,2,-999.0000,9,    349.3,2,   -999.0,9,  -999.00,9,  -999.00,9,  -999.00,9,   -999.0,9,   -999.0,9,    0.687,2,    1.082,2,   94.483,2
  09AR20141205,AU1402,    69,  1,      0,     19,2,20150105,1446,-66.6297, 120.7087,  242,     30.2,  -0.6479,  34.2042,2,-999.0000,9,    348.5,2,   -999.0,9,  -999.00,9,  -999.00,9,  -999.00,9,   -999.0,9,   -999.0,9,    0.753,2,    0.188,2,   94.615,2
  09AR20141205,AU1402,    69,  1,      0,     18,2,20150105,1446,-66.6297, 120.7087,  242,     30.1,  -0.6491,  34.2040,2,  34.2051,2,    348.5,2,    347.9,2,  -999.00,9,  -999.00,9,  -999.00,9,   2197.2,6,   2313.5,6,    0.725,2,    0.190,2,   94.549,2
  09AR20141205,AU1402,    69,  1,      0,     17,2,20150105,1446,-66.6297, 120.7087,  242,     30.0,  -0.6340,  34.2029,2,-999.0000,9,    348.5,2,   -999.0,9,  -999.00,9,  -999.00,9,  -999.00,9,   -999.0,9,   -999.0,9,    0.772,2,    0.195,2,   94.508,2
  09AR20141205,AU1402,    69,  1,      0,     16,2,20150105,1446,-66.6297, 120.7087,  242,     30.0,  -0.6339,  34.2028,2,-999.0000,9,    348.5,2,   -999.0,9,  -999.00,9,  -999.00,9,  -999.00,9,   -999.0,9,   -999.0,9,    0.780,2,    0.199,2,   94.505,2
  09AR20141205,AU1402,    69,  1,      0,     15,2,20150105,1446,-66.6297, 120.7087,  242,     30.0,  -0.6324,  34.2026,2,-999.0000,9,    348.5,2,   -999.0,9,  -999.00,9,  -999.00,9,  -999.00,9,   -999.0,9,   -999.0,9,    0.727,2,    0.199,2,   94.519,2
  09AR20141205,AU1402,    69,  1,      0,     14,2,20150105,1446,-66.6297, 120.7087,  242,     29.9,  -0.6312,  34.2023,2,-999.0000,9,    348.5,2,   -999.0,9,  -999.00,9,  -999.00,9,  -999.00,9,   -999.0,9,   -999.0,9,    0.726,2,    0.197,2,   94.494,2
  09AR20141205,AU1402,    69,  1,      0,     13,2,20150105,1446,-66.6297, 120.7087,  242,     29.9,  -0.6327,  34.2024,2,-999.0000,9,    348.5,2,   -999.0,9,  -999.00,9,  -999.00,9,  -999.00,9,   -999.0,9,   -999.0,9,    0.736,2,    0.194,2,   94.488,2
  09AR20141205,AU1402,    69,  1,      0,     12,2,20150105,1446,-66.6297, 120.7087,  242,     29.8,  -0.6438,  34.2034,2,-999.0000,9,    348.5,2,   -999.0,9,  -999.00,9,  -999.00,9,  -999.00,9,   -999.0,9,   -999.0,9,    0.726,2,    0.189,2,   94.516,2
  09AR20141205,AU1402,    69,  1,      0,     11,2,20150105,1446,-66.6297, 120.7087,  242,     70.7,  -1.5910,  34.2228,2,-999.0000,9,    330.4,2,   -999.0,9,  -999.00,9,  -999.00,9,  -999.00,9,   -999.0,9,   -999.0,9,    0.709,2,    0.000,2,   96.748,2
  09AR20141205,AU1402,    69,  1,      0,     10,2,20150105,1446,-66.6297, 120.7087,  242,     70.6,  -1.5834,  34.2220,2,-999.0000,9,    330.4,2,   -999.0,9,  -999.00,9,  -999.00,9,  -999.00,9,   -999.0,9,   -999.0,9,    0.674,2,    0.000,2,   96.885,2
  09AR20141205,AU1402,    69,  1,      0,      9,2,20150105,1446,-66.6297, 120.7087,  242,     70.6,  -1.5818,  34.2217,2,  34.2206,2,    330.4,2,    330.0,2,  -999.00,9,  -999.00,9,  -999.00,9,   2207.4,2,   2314.0,6,    0.666,2,    0.000,2,   96.794,2
  09AR20141205,AU1402,    69,  1,      0,      8,2,20150105,1446,-66.6297, 120.7087,  242,     70.5,  -1.5892,  34.2214,2,-999.0000,9,    330.4,2,   -999.0,9,  -999.00,9,  -999.00,9,  -999.00,9,   -999.0,9,   -999.0,9,    0.665,2,    0.000,2,   96.907,2
  09AR20141205,AU1402,    69,  1,      0,      7,2,20150105,1446,-66.6297, 120.7087,  242,    180.3,  -1.8920,  34.2402,2,-999.0000,9,    312.6,2,   -999.0,9,  -999.00,9,  -999.00,9,  -999.00,9,   -999.0,9,   -999.0,9,   -0.009,2,    0.000,2,   98.244,2
  09AR20141205,AU1402,    69,  1,      0,      6,2,20150105,1446,-66.6297, 120.7087,  242,    180.3,  -1.8924,  34.2403,2,-999.0000,9,    312.6,2,   -999.0,9,  -999.00,9,  -999.00,9,  -999.00,9,   -999.0,9,   -999.0,9,   -0.046,2,    0.000,2,   98.264,2
  09AR20141205,AU1402,    69,  1,      0,      5,2,20150105,1446,-66.6297, 120.7087,  242,    180.2,  -1.8931,  34.2403,2,  34.2385,2,    312.6,2,    313.2,2,  -999.00,9,  -999.00,9,  -999.00,9,   2213.4,2,   2313.1,2,   -0.049,2,    0.000,2,   98.228,2
  09AR20141205,AU1402,    69,  1,      0,      4,2,20150105,1446,-66.6297, 120.7087,  242,    201.0,  -1.8970,  34.2412,2,-999.0000,9,    312.5,2,   -999.0,9,  -999.00,9,  -999.00,9,  -999.00,9,   -999.0,9,   -999.0,9,   -0.061,2,    0.000,2,   98.266,2
  09AR20141205,AU1402,    69,  1,      0,      3,2,20150105,1446,-66.6297, 120.7087,  242,    201.0,  -1.8970,  34.2413,2,-999.0000,9,    312.5,2,    312.6,2,  -999.00,9,  -999.00,9,  -999.00,9,   -999.0,9,   -999.0,9,   -0.065,2,    0.000,2,   98.274,2
  09AR20141205,AU1402,    69,  1,      0,      2,2,20150105,1446,-66.6297, 120.7087,  242,    242.0,  -1.8897,  34.2430,2,-999.0000,9,    312.3,2,   -999.0,9,  -999.00,9,  -999.00,9,  -999.00,9,   -999.0,9,   -999.0,9,   -0.060,2,    0.000,2,   98.281,2
  09AR20141205,AU1402,    69,  1,      0,      1,2,20150105,1446,-66.6297, 120.7087,  242,    241.9,  -1.8903,  34.2432,2,  34.2413,2,    312.3,2,    312.3,2,  -999.00,9,  -999.00,9,  -999.00,9,   2213.5,2,   2313.0,2,   -0.059,2,    0.000,2,   98.282,2