BOTTLE,20210329PRINUNIVRMK
EXPOCODE,SECT_ID,STNNBR,CASTNO,SAMPNO,BTLNBR,BTLNBR_FLAG_W,DATE,TIME,LATITUDE,LONGITUDE,DEPTH,CTDPRS,CTDTMP,CTDSAL,CTDSAL_FLAG_W,SALNTY,SALNTY_FLAG_W,CTDOXY,CTDOXY_FLAG_W,OXYGEN,OXYGEN_FLAG_W,SILCAT,SILCAT_FLAG_W,NITRAT,NITRAT_FLAG_W,PHSPHT,PHSPHT_FLAG_W,TCARBN,TCARBN_FLAG_W,ALKALI,ALKALI_FLAG_W,CTDFLUOR,CTDFLUOR_FLAG_W,CTDPAR,CTDPAR_FLAG_W,CTDXMISS,CTDXMISS_FLAG_W
,,,,,,,,,,,METERS,DBAR,ITS-90,PSS-78,,PSS-78,,UMOL/KG,,UMOL/KG,,UMOL/KG,,UMOL/KG,,UMOL/KG,,UMOL/KG,,UMOL/KG,,MG/M^3,,UEINSTEIN/M^2*SEC,,%TRANS,
  09AR20141205,AU1402,    85,  1,      0,     24,2,20150111,2140,-66.7618, 144.3733,  893,      7.3,  -0.9375,  34.1397,2,-999.0000,9,    358.7,2,    356.8,2,  -999.00,9,  -999.00,9,  -999.00,9,   2160.8,2,   2314.8,2,   12.658,2,   24.460,2,   83.365,2
  09AR20141205,AU1402,    85,  1,      0,     23,2,20150111,2140,-66.7618, 144.3733,  893,      7.3,  -0.9387,  34.1378,2,-999.0000,9,    358.7,2,   -999.0,9,  -999.00,9,  -999.00,9,  -999.00,9,   -999.0,9,   -999.0,9,   12.464,2,   24.250,2,   83.136,2
  09AR20141205,AU1402,    85,  1,      0,     22,2,20150111,2140,-66.7618, 144.3733,  893,      7.3,  -0.9379,  34.1380,2,-999.0000,9,    358.7,2,   -999.0,9,  -999.00,9,  -999.00,9,  -999.00,9,   -999.0,9,   -999.0,9,   12.255,2,   24.040,2,   83.296,2
  09AR20141205,AU1402,    85,  1,      0,     21,2,20150111,2140,-66.7618, 144.3733,  893,      7.2,  -0.9372,  34.1387,2,-999.0000,9,    358.7,2,   -999.0,9,  -999.00,9,  -999.00,9,  -999.00,9,   -999.0,9,   -999.0,9,   12.468,2,   24.010,2,   83.456,2
  09AR20141205,AU1402,    85,  1,      0,     20,2,20150111,2140,-66.7618, 144.3733,  893,     15.4,  -0.9329,  34.1413,2,-999.0000,9,    356.8,2,    356.2,2,  -999.00,9,  -999.00,9,  -999.00,9,   2163.9,2,   2317.6,2,   16.839,2,    4.236,2,   82.781,2
  09AR20141205,AU1402,    85,  1,      0,     19,2,20150111,2140,-66.7618, 144.3733,  893,     15.4,  -0.9340,  34.1416,2,-999.0000,9,    356.8,2,   -999.0,9,  -999.00,9,  -999.00,9,  -999.00,9,   -999.0,9,   -999.0,9,   15.376,2,    4.296,2,   83.429,2
  09AR20141205,AU1402,    85,  1,      0,     18,2,20150111,2140,-66.7618, 144.3733,  893,     51.0,  -1.1187,  34.2345,2,  34.2350,2,    338.1,2,    342.7,2,  -999.00,9,  -999.00,9,  -999.00,9,   2182.3,2,   2321.0,2,   11.164,2,    0.000,2,   87.111,2
  09AR20141205,AU1402,    85,  1,      0,     17,2,20150111,2140,-66.7618, 144.3733,  893,     81.0,  -1.2287,  34.2888,2,-999.0000,9,    330.8,2,   -999.0,9,  -999.00,9,  -999.00,9,  -999.00,9,   -999.0,9,   -999.0,9,    8.760,2,    0.000,2,   89.639,2
  09AR20141205,AU1402,    85,  1,      0,     16,2,20150111,2140,-66.7618, 144.3733,  893,     80.8,  -1.2321,  34.2895,2,-999.0000,9,    330.8,2,   -999.0,9,  -999.00,9,  -999.00,9,  -999.00,9,   -999.0,9,   -999.0,9,    7.803,2,    0.000,2,   89.745,2
  09AR20141205,AU1402,    85,  1,      0,     15,2,20150111,2140,-66.7618, 144.3733,  893,    126.4,  -1.7438,  34.4142,2,  34.4140,2,    303.5,2,    303.0,2,  -999.00,9,  -999.00,9,  -999.00,9,   2228.8,2,   2330.1,2,    1.116,2,    0.000,2,   96.783,2
  09AR20141205,AU1402,    85,  1,      0,     14,2,20150111,2140,-66.7618, 144.3733,  893,    126.2,  -1.7436,  34.4140,2,-999.0000,9,    303.5,2,   -999.0,9,  -999.00,9,  -999.00,9,  -999.00,9,   -999.0,9,   -999.0,9,    0.860,2,    0.000,2,   96.802,2
  09AR20141205,AU1402,    85,  1,      0,     13,2,20150111,2140,-66.7618, 144.3733,  893,    251.3,  -1.8341,  34.4725,2,-999.0000,9,    302.0,2,    301.9,2,  -999.00,9,  -999.00,9,  -999.00,9,   2232.7,2,   2329.8,2,    0.026,2,    0.000,2,   98.327,2
  09AR20141205,AU1402,    85,  1,      0,     12,2,20150111,2140,-66.7618, 144.3733,  893,    251.4,  -1.8350,  34.4728,2,-999.0000,9,    302.0,2,   -999.0,9,  -999.00,9,  -999.00,9,  -999.00,9,   -999.0,9,   -999.0,9,    0.026,2,    0.000,2,   98.378,2
  09AR20141205,AU1402,    85,  1,      0,     11,2,20150111,2140,-66.7618, 144.3733,  893,    351.4,  -1.9311,  34.4964,2,  34.4946,2,    305.0,2,    305.1,2,  -999.00,9,  -999.00,9,  -999.00,9,   2234.6,2,   2329.5,2,   -0.020,2,    0.000,2,   98.532,2
  09AR20141205,AU1402,    85,  1,      0,     10,2,20150111,2140,-66.7618, 144.3733,  893,    350.7,  -1.9310,  34.4962,2,-999.0000,9,    304.9,2,   -999.0,9,  -999.00,9,  -999.00,9,  -999.00,9,   -999.0,9,   -999.0,9,   -0.018,2,    0.000,2,   98.532,2
  09AR20141205,AU1402,    85,  1,      0,      9,2,20150111,2140,-66.7618, 144.3733,  893,    451.2,  -1.8959,  34.5207,2,-999.0000,9,    303.9,2,    304.1,2,  -999.00,9,  -999.00,9,  -999.00,9,   2230.9,2,   2333.9,6,   -0.061,2,    0.000,2,   98.583,2
  09AR20141205,AU1402,    85,  1,      0,      8,2,20150111,2140,-66.7618, 144.3733,  893,    450.8,  -1.8958,  34.5206,2,-999.0000,9,    303.8,2,   -999.0,9,  -999.00,9,  -999.00,9,  -999.00,9,   -999.0,9,   -999.0,9,   -0.047,2,    0.000,2,   98.579,2
  09AR20141205,AU1402,    85,  1,      0,      7,2,20150111,2140,-66.7618, 144.3733,  893,    576.2,  -1.9133,  34.5587,2,  34.5576,2,    305.9,2,    306.2,2,  -999.00,9,  -999.00,9,  -999.00,9,   2238.0,2,   2334.7,2,   -0.069,2,    0.000,2,   98.580,2
  09AR20141205,AU1402,    85,  1,      0,      6,2,20150111,2140,-66.7618, 144.3733,  893,    577.4,  -1.9137,  34.5595,2,-999.0000,9,    305.8,2,   -999.0,9,  -999.00,9,  -999.00,9,  -999.00,9,   -999.0,9,   -999.0,9,   -0.060,2,    0.000,2,   98.591,2
  09AR20141205,AU1402,    85,  1,      0,      5,2,20150111,2140,-66.7618, 144.3733,  893,    651.3,  -1.9146,  34.5718,2,-999.0000,9,    306.8,2,    307.4,2,  -999.00,9,  -999.00,9,  -999.00,9,   2238.6,2,   2334.9,2,   -0.075,2,    0.000,2,   98.601,2
  09AR20141205,AU1402,    85,  1,      0,      4,2,20150111,2140,-66.7618, 144.3733,  893,    651.3,  -1.9146,  34.5718,2,-999.0000,9,    306.8,2,   -999.0,9,  -999.00,9,  -999.00,9,  -999.00,9,   -999.0,9,   -999.0,9,   -0.083,2,    0.000,2,   98.601,2
  09AR20141205,AU1402,    85,  1,      0,      3,2,20150111,2140,-66.7618, 144.3733,  893,    776.9,  -1.9007,  34.5823,2,  34.5810,2,    307.4,2,    307.3,2,  -999.00,9,  -999.00,9,  -999.00,9,   2240.6,2,   2336.8,2,   -0.081,2,    0.000,2,   98.634,2
  09AR20141205,AU1402,    85,  1,      0,      2,2,20150111,2140,-66.7618, 144.3733,  893,    776.7,  -1.9007,  34.5823,2,-999.0000,9,    307.4,2,   -999.0,9,  -999.00,9,  -999.00,9,  -999.00,9,   -999.0,9,   -999.0,9,   -0.083,2,    0.000,2,   98.639,2
  09AR20141205,AU1402,    85,  1,      0,      1,2,20150111,2140,-66.7618, 144.3733,  893,    891.0,  -1.8834,  34.6066,2,  34.6044,2,    306.6,2,    306.2,2,  -999.00,9,  -999.00,9,  -999.00,9,   2242.4,6,   2338.4,6,   -0.055,2,    0.000,2,   98.209,2
  09AR20141205,AU1402,    86,  1,      0,     24,2,20150112,0659,-67.1983, 144.7163,  311,      7.5,  -0.7581,  33.7634,2,  33.7698,2,    379.7,2,    379.3,2,  -999.00,9,    17.46,2,     1.31,3,   2108.7,2,   2298.7,2,    0.929,2,  241.900,2,   89.219,2
  09AR20141205,AU1402,    86,  1,      0,     23,2,20150112,0659,-67.1983, 144.7163,  311,      7.5,  -0.7626,  33.7642,2,-999.0000,9,    379.7,2,   -999.0,9,  -999.00,9,  -999.00,9,  -999.00,9,   -999.0,9,   -999.0,9,    1.225,2,  231.700,2,   89.838,2
  09AR20141205,AU1402,    86,  1,      0,     22,2,20150112,0659,-67.1983, 144.7163,  311,      7.4,  -0.7742,  33.7629,2,-999.0000,9,    379.7,2,   -999.0,9,  -999.00,9,  -999.00,9,  -999.00,9,   -999.0,9,   -999.0,9,    0.710,2,  230.800,2,   89.496,2
  09AR20141205,AU1402,    86,  1,      0,     21,2,20150112,0659,-67.1983, 144.7163,  311,      7.4,  -0.7646,  33.7640,2,-999.0000,9,    379.7,2,   -999.0,9,  -999.00,9,  -999.00,9,  -999.00,9,   -999.0,9,   -999.0,9,    1.135,2,  269.700,2,   89.392,2
  09AR20141205,AU1402,    86,  1,      0,     20,2,20150112,0659,-67.1983, 144.7163,  311,     31.3,  -1.3422,  33.8044,2,  33.8152,2,    373.9,2,    374.6,2,  -999.00,9,    18.07,2,     1.41,3,   2119.6,2,   2298.4,2,   10.048,2,    6.576,2,   86.055,2
  09AR20141205,AU1402,    86,  1,      0,     19,2,20150112,0659,-67.1983, 144.7163,  311,     31.2,  -1.3395,  33.8038,2,-999.0000,9,    373.9,2,   -999.0,9,  -999.00,9,  -999.00,9,  -999.00,9,   -999.0,9,   -999.0,9,    9.717,2,    6.673,2,   85.444,2
  09AR20141205,AU1402,    86,  1,      0,     18,2,20150112,0659,-67.1983, 144.7163,  311,     50.9,  -1.3437,  33.9077,2,  33.9579,2,    366.6,2,    365.8,2,  -999.00,9,    18.77,2,     1.49,3,   2138.6,2,   2307.2,2,    7.792,2,    0.251,2,   89.915,2
  09AR20141205,AU1402,    86,  1,      0,     17,2,20150112,0659,-67.1983, 144.7163,  311,     50.9,  -1.3414,  33.9077,2,-999.0000,9,    366.6,2,   -999.0,9,  -999.00,9,  -999.00,9,  -999.00,9,   -999.0,9,   -999.0,9,   10.512,2,    0.261,2,   88.261,2
  09AR20141205,AU1402,    86,  1,      0,     16,2,20150112,0659,-67.1983, 144.7163,  311,     50.9,  -1.3411,  33.9076,2,-999.0000,9,    366.6,2,   -999.0,9,  -999.00,9,  -999.00,9,  -999.00,9,   -999.0,9,   -999.0,9,    8.538,2,    0.282,2,   87.610,2
  09AR20141205,AU1402,    86,  1,      0,     15,2,20150112,0659,-67.1983, 144.7163,  311,     91.2,  -1.5606,  34.2841,2,  34.2898,2,    341.3,2,    340.6,2,  -999.00,9,  -999.00,9,  -999.00,9,   2192.6,2,   2326.5,2,    5.216,2,    0.000,2,   92.751,2
  09AR20141205,AU1402,    86,  1,      0,     14,2,20150112,0659,-67.1983, 144.7163,  311,     91.2,  -1.5606,  34.2840,2,-999.0000,9,    341.3,2,   -999.0,9,  -999.00,9,  -999.00,9,  -999.00,9,   -999.0,9,   -999.0,9,    5.609,2,    0.000,2,   92.323,2
  09AR20141205,AU1402,    86,  1,      0,     13,2,20150112,0659,-67.1983, 144.7163,  311,     91.2,  -1.5610,  34.2838,2,-999.0000,9,    341.3,2,   -999.0,9,  -999.00,9,  -999.00,9,  -999.00,9,   -999.0,9,   -999.0,9,    5.190,2,    0.000,2,   92.369,2
  09AR20141205,AU1402,    86,  1,      0,     12,2,20150112,0659,-67.1983, 144.7163,  311,     91.0,  -1.5589,  34.2897,2,-999.0000,9,    342.2,2,   -999.0,9,  -999.00,9,  -999.00,9,  -999.00,9,   -999.0,9,   -999.0,9,    4.443,2,    0.000,2,   92.598,2
  09AR20141205,AU1402,    86,  1,      0,     11,2,20150112,0659,-67.1983, 144.7163,  311,    181.0,  -1.7486,  34.4071,2,-999.0000,9,    309.9,2,    310.2,2,  -999.00,9,    28.79,2,     2.07,3,   2224.1,2,   2331.2,6,    2.204,2,    0.000,2,   95.666,2
  09AR20141205,AU1402,    86,  1,      0,     10,2,20150112,0659,-67.1983, 144.7163,  311,    180.9,  -1.7485,  34.4070,2,-999.0000,9,    309.9,2,   -999.0,9,  -999.00,9,  -999.00,9,  -999.00,9,   -999.0,9,   -999.0,9,    1.302,2,    0.000,2,   96.295,2
  09AR20141205,AU1402,    86,  1,      0,      9,2,20150112,0659,-67.1983, 144.7163,  311,    231.2,  -1.8221,  34.4338,2,-999.0000,9,    309.5,2,    309.1,2,  -999.00,9,  -999.00,9,  -999.00,9,   2227.3,6,   2333.7,6,    0.788,2,    0.000,2,   96.804,2
  09AR20141205,AU1402,    86,  1,      0,      8,2,20150112,0659,-67.1983, 144.7163,  311,    231.2,  -1.8203,  34.4337,2,-999.0000,9,    309.5,2,   -999.0,9,  -999.00,9,  -999.00,9,  -999.00,9,   -999.0,9,   -999.0,9,    0.685,2,    0.000,2,   96.701,2
  09AR20141205,AU1402,    86,  1,      0,      7,2,20150112,0659,-67.1983, 144.7163,  311,    231.1,  -1.8202,  34.4339,2,-999.0000,9,    309.5,2,   -999.0,9,  -999.00,9,  -999.00,9,  -999.00,9,   -999.0,9,   -999.0,9,    0.701,2,    0.000,2,   96.561,2
  09AR20141205,AU1402,    86,  1,      0,      6,2,20150112,0659,-67.1983, 144.7163,  311,    231.1,  -1.8207,  34.4339,2,-999.0000,9,    309.5,2,   -999.0,9,  -999.00,9,  -999.00,9,  -999.00,9,   -999.0,9,   -999.0,9,    0.680,2,    0.000,2,   96.296,2
  09AR20141205,AU1402,    86,  1,      0,      5,2,20150112,0659,-67.1983, 144.7163,  311,    281.9,  -1.9302,  34.4664,2,  34.4656,2,    305.6,2,    305.5,2,  -999.00,9,    30.54,2,     2.02,3,   2232.3,2,   2331.4,2,    0.359,2,    0.000,2,   97.803,2
  09AR20141205,AU1402,    86,  1,      0,      4,2,20150112,0659,-67.1983, 144.7163,  311,    281.9,  -1.9303,  34.4667,2,-999.0000,9,    305.6,2,   -999.0,9,  -999.00,9,  -999.00,9,  -999.00,9,   -999.0,9,   -999.0,9,    0.364,2,    0.000,2,   97.817,2
  09AR20141205,AU1402,    86,  1,      0,      3,2,20150112,0659,-67.1983, 144.7163,  311,    281.8,  -1.9305,  34.4665,2,-999.0000,9,    305.6,2,   -999.0,9,  -999.00,9,  -999.00,9,  -999.00,9,   -999.0,9,   -999.0,9,    0.705,2,    0.000,2,   97.553,2
  09AR20141205,AU1402,    86,  1,      0,      2,2,20150112,0659,-67.1983, 144.7163,  311,    332.4,  -1.9975,  34.4768,2,-999.0000,9,    306.0,2,   -999.0,9,  -999.00,9,  -999.00,9,  -999.00,9,   -999.0,9,   -999.0,9,    0.179,2,    0.000,2,   98.396,2
  09AR20141205,AU1402,    86,  1,      0,      1,2,20150112,0659,-67.1983, 144.7163,  311,    332.3,  -1.9976,  34.4769,2,  34.4742,2,    306.0,2,    305.9,2,  -999.00,9,    30.84,2,     2.10,3,   2232.6,2,   2333.6,2,    0.196,2,    0.000,2,   98.300,2
  09AR20141205,AU1402,    87,  1,      0,     24,2,20150112,0848,-67.1513, 144.9018,  584,      7.6,  -1.0092,  33.7520,2,  33.7522,2,    384.5,2,    384.4,2,  -999.00,9,  -999.00,9,  -999.00,9,   2106.2,2,   2296.9,2,    1.936,2,   91.370,2,   88.114,2
  09AR20141205,AU1402,    87,  1,      0,     23,2,20150112,0848,-67.1513, 144.9018,  584,      7.6,  -1.0093,  33.7519,2,-999.0000,9,    384.5,2,   -999.0,9,  -999.00,9,  -999.00,9,  -999.00,9,   -999.0,9,   -999.0,9,    2.406,2,   91.490,2,   88.424,2
  09AR20141205,AU1402,    87,  1,      0,     22,2,20150112,0848,-67.1513, 144.9018,  584,      7.6,  -1.0111,  33.7522,2,-999.0000,9,    384.5,2,   -999.0,9,  -999.00,9,  -999.00,9,  -999.00,9,   -999.0,9,   -999.0,9,    1.894,2,   92.070,2,   88.364,2
  09AR20141205,AU1402,    87,  1,      0,     21,2,20150112,0848,-67.1513, 144.9018,  584,      7.5,  -1.0027,  33.7519,2,-999.0000,9,    384.5,2,   -999.0,9,  -999.00,9,  -999.00,9,  -999.00,9,   -999.0,9,   -999.0,9,    1.410,2,   92.000,2,   88.532,2
  09AR20141205,AU1402,    87,  1,      0,     20,2,20150112,0848,-67.1513, 144.9018,  584,     20.9,  -1.0204,  33.7529,2,  33.7544,2,    383.8,2,    384.2,2,  -999.00,9,  -999.00,9,  -999.00,9,   2104.8,2,   2299.2,2,    6.933,2,   10.970,2,   88.362,2
  09AR20141205,AU1402,    87,  1,      0,     19,2,20150112,0848,-67.1513, 144.9018,  584,     20.8,  -1.0218,  33.7528,2,-999.0000,9,    383.8,2,   -999.0,9,  -999.00,9,  -999.00,9,  -999.00,9,   -999.0,9,   -999.0,9,    5.848,2,   11.090,2,   88.278,2
  09AR20141205,AU1402,    87,  1,      0,     18,2,20150112,0848,-67.1513, 144.9018,  584,     50.1,  -1.3537,  33.8653,2,-999.0000,9,    371.5,2,    371.2,2,  -999.00,9,  -999.00,9,  -999.00,9,   2129.3,2,   2305.4,2,    9.518,2,    0.116,2,   88.316,2
  09AR20141205,AU1402,    87,  1,      0,     17,2,20150112,0848,-67.1513, 144.9018,  584,     50.0,  -1.3539,  33.8691,2,-999.0000,9,    371.5,2,   -999.0,9,  -999.00,9,  -999.00,9,  -999.00,9,   -999.0,9,   -999.0,9,    9.708,2,    0.120,2,   87.458,2
  09AR20141205,AU1402,    87,  1,      0,     16,2,20150112,0848,-67.1513, 144.9018,  584,     50.0,  -1.3534,  33.8691,2,-999.0000,9,    371.5,2,   -999.0,9,  -999.00,9,  -999.00,9,  -999.00,9,   -999.0,9,   -999.0,9,    8.630,2,    0.121,2,   86.968,2
  09AR20141205,AU1402,    87,  1,      0,     15,2,20150112,0848,-67.1513, 144.9018,  584,    105.2,  -1.7251,  34.3655,2,-999.0000,9,    318.9,2,    315.3,2,  -999.00,9,  -999.00,9,  -999.00,9,   2219.1,2,   2326.5,2,    1.767,2,    0.000,2,   95.165,2
  09AR20141205,AU1402,    87,  1,      0,     14,2,20150112,0848,-67.1513, 144.9018,  584,    105.2,  -1.7255,  34.3658,2,-999.0000,9,    318.9,2,   -999.0,9,  -999.00,9,  -999.00,9,  -999.00,9,   -999.0,9,   -999.0,9,    1.801,2,    0.000,2,   95.176,2
  09AR20141205,AU1402,    87,  1,      0,     13,2,20150112,0848,-67.1513, 144.9018,  584,    105.1,  -1.7258,  34.3660,2,-999.0000,9,    318.9,2,   -999.0,9,  -999.00,9,  -999.00,9,  -999.00,9,   -999.0,9,   -999.0,9,    1.854,2,    0.000,2,   95.098,2
  09AR20141205,AU1402,    87,  1,      0,     12,2,20150112,0848,-67.1513, 144.9018,  584,    105.1,  -1.7266,  34.3665,2,-999.0000,9,    318.9,2,   -999.0,9,  -999.00,9,  -999.00,9,  -999.00,9,   -999.0,9,   -999.0,9,    1.789,2,    0.000,2,   95.168,2
  09AR20141205,AU1402,    87,  1,      0,     11,2,20150112,0848,-67.1513, 144.9018,  584,    205.7,  -1.9163,  34.4376,2,  34.4370,2,    306.7,2,    306.4,2,  -999.00,9,  -999.00,9,  -999.00,9,   2229.2,2,   2328.9,2,    0.392,2,    0.000,2,   97.810,2
  09AR20141205,AU1402,    87,  1,      0,     10,2,20150112,0848,-67.1513, 144.9018,  584,    205.5,  -1.9170,  34.4377,2,-999.0000,9,    306.7,2,   -999.0,9,  -999.00,9,  -999.00,9,  -999.00,9,   -999.0,9,   -999.0,9,    0.252,2,    0.000,2,   97.878,2
  09AR20141205,AU1402,    87,  1,      0,      9,2,20150112,0848,-67.1513, 144.9018,  584,    322.5,  -1.9844,  34.4672,2,  34.4670,2,    305.9,2,    306.1,2,  -999.00,9,  -999.00,9,  -999.00,9,   2232.4,2,   2330.7,2,    0.092,2,    0.000,2,   98.442,2
  09AR20141205,AU1402,    87,  1,      0,      8,2,20150112,0848,-67.1513, 144.9018,  584,    322.4,  -1.9845,  34.4673,2,-999.0000,9,    305.9,2,   -999.0,9,  -999.00,9,  -999.00,9,  -999.00,9,   -999.0,9,   -999.0,9,    0.095,2,    0.000,2,   98.437,2
  09AR20141205,AU1402,    87,  1,      0,      7,2,20150112,0848,-67.1513, 144.9018,  584,    426.4,  -2.0243,  34.4896,2,  34.4924,2,    307.0,2,    307.4,2,  -999.00,9,  -999.00,9,  -999.00,9,   2233.9,2,   2333.2,2,   -0.059,2,    0.000,2,   98.744,2
  09AR20141205,AU1402,    87,  1,      0,      6,2,20150112,0848,-67.1513, 144.9018,  584,    426.3,  -2.0244,  34.4897,2,-999.0000,9,    307.0,2,   -999.0,9,  -999.00,9,  -999.00,9,  -999.00,9,   -999.0,9,   -999.0,9,   -0.011,2,    0.000,2,   98.740,2
  09AR20141205,AU1402,    87,  1,      0,      5,2,20150112,0848,-67.1513, 144.9018,  584,    540.7,  -2.1055,  34.5082,2,-999.0000,9,    311.3,2,    311.8,2,  -999.00,9,  -999.00,9,  -999.00,9,   2234.6,2,   2334.5,2,   -0.093,2,    0.000,2,   97.995,2
  09AR20141205,AU1402,    87,  1,      0,      4,2,20150112,0848,-67.1513, 144.9018,  584,    540.7,  -2.1053,  34.5081,2,-999.0000,9,    311.3,2,   -999.0,9,  -999.00,9,  -999.00,9,  -999.00,9,   -999.0,9,   -999.0,9,   -0.068,2,    0.000,2,   97.975,2
  09AR20141205,AU1402,    87,  1,      0,      3,2,20150112,0848,-67.1513, 144.9018,  584,    540.7,  -2.1053,  34.5080,2,-999.0000,9,    311.3,2,   -999.0,9,  -999.00,9,  -999.00,9,  -999.00,9,   -999.0,9,   -999.0,9,   -0.086,2,    0.000,2,   97.979,2
  09AR20141205,AU1402,    87,  1,      0,      2,2,20150112,0848,-67.1513, 144.9018,  584,    615.6,  -2.0461,  34.5284,2,-999.0000,9,    310.7,2,   -999.0,9,  -999.00,9,  -999.00,9,  -999.00,9,   -999.0,9,   -999.0,9,   -0.083,2,    0.000,2,   98.282,2
  09AR20141205,AU1402,    87,  1,      0,      1,2,20150112,0848,-67.1513, 144.9018,  584,    615.5,  -2.0466,  34.5284,2,  34.5260,2,    310.7,2,    309.5,2,  -999.00,9,  -999.00,9,  -999.00,9,   2236.6,6,   2334.4,6,   -0.090,2,    0.000,2,   98.099,2