BOTTLE,20210329PRINUNIVRMK
EXPOCODE,SECT_ID,STNNBR,CASTNO,SAMPNO,BTLNBR,BTLNBR_FLAG_W,DATE,TIME,LATITUDE,LONGITUDE,DEPTH,CTDPRS,CTDTMP,CTDSAL,CTDSAL_FLAG_W,SALNTY,SALNTY_FLAG_W,CTDOXY,CTDOXY_FLAG_W,OXYGEN,OXYGEN_FLAG_W,SILCAT,SILCAT_FLAG_W,NITRAT,NITRAT_FLAG_W,PHSPHT,PHSPHT_FLAG_W,TCARBN,TCARBN_FLAG_W,ALKALI,ALKALI_FLAG_W,CTDFLUOR,CTDFLUOR_FLAG_W,CTDPAR,CTDPAR_FLAG_W,CTDXMISS,CTDXMISS_FLAG_W
,,,,,,,,,,,METERS,DBAR,ITS-90,PSS-78,,PSS-78,,UMOL/KG,,UMOL/KG,,UMOL/KG,,UMOL/KG,,UMOL/KG,,UMOL/KG,,UMOL/KG,,MG/M^3,,UEINSTEIN/M^2*SEC,,%TRANS,
  09AR20141205,AU1402,    61,  1,      0,     24,2,20150105,0026,-66.4820, 120.2830,  620,      7.1,  -0.5784,  34.2090,2,  34.2050,2,    352.9,2,   -999.0,9,  -999.00,9,  -999.00,9,  -999.00,9,   -999.0,9,   -999.0,9,    0.090,2,  381.000,2,   94.563,2
  09AR20141205,AU1402,    61,  1,      0,     23,2,20150105,0026,-66.4820, 120.2830,  620,      7.1,  -0.5768,  34.2091,2,-999.0000,9,    352.9,2,   -999.0,9,  -999.00,9,  -999.00,9,  -999.00,9,   -999.0,9,   -999.0,9,    0.100,2,  415.100,2,   94.559,2
  09AR20141205,AU1402,    61,  1,      0,     22,2,20150105,0026,-66.4820, 120.2830,  620,      7.0,  -0.5868,  34.2092,2,-999.0000,9,    352.9,2,   -999.0,9,  -999.00,9,  -999.00,9,  -999.00,9,   -999.0,9,   -999.0,9,    0.104,2,  421.100,2,   94.553,2
  09AR20141205,AU1402,    61,  1,      0,     21,2,20150105,0026,-66.4820, 120.2830,  620,      7.0,  -0.6103,  34.2088,2,-999.0000,9,    352.8,2,    353.7,2,  -999.00,9,  -999.00,9,  -999.00,9,   2196.8,2,   2313.1,2,    0.103,2,  356.100,2,   94.594,2
  09AR20141205,AU1402,    61,  1,      0,     20,2,20150105,0026,-66.4820, 120.2830,  620,     20.5,  -0.6351,  34.2094,2,-999.0000,9,    353.8,2,   -999.0,9,  -999.00,9,  -999.00,9,  -999.00,9,   -999.0,9,   -999.0,9,    0.301,2,  130.800,2,   94.545,2
  09AR20141205,AU1402,    61,  1,      0,     19,2,20150105,0026,-66.4820, 120.2830,  620,     20.4,  -0.6169,  34.2090,2,  34.2091,2,    353.8,2,    353.4,2,  -999.00,9,  -999.00,9,  -999.00,9,   2196.2,2,   2313.8,2,    0.275,2,  128.300,2,   94.566,2
  09AR20141205,AU1402,    61,  1,      0,     18,2,20150105,0026,-66.4820, 120.2830,  620,     40.0,  -0.7290,  34.2110,2,-999.0000,9,    350.1,2,   -999.0,9,  -999.00,9,  -999.00,9,  -999.00,9,   -999.0,9,   -999.0,9,    0.563,2,   33.360,2,   94.699,2
  09AR20141205,AU1402,    61,  1,      0,     17,2,20150105,0026,-66.4820, 120.2830,  620,     50.6,  -1.1304,  34.2173,2,-999.0000,9,    346.5,2,   -999.0,9,  -999.00,9,  -999.00,9,  -999.00,9,   -999.0,9,   -999.0,9,    0.765,2,   16.800,2,   95.378,2
  09AR20141205,AU1402,    61,  1,      0,     16,2,20150105,0026,-66.4820, 120.2830,  620,     50.6,  -1.0919,  34.2137,2,-999.0000,9,    346.5,2,   -999.0,9,  -999.00,9,  -999.00,9,  -999.00,9,   -999.0,9,   -999.0,9,    0.713,2,   15.560,2,   95.758,2
  09AR20141205,AU1402,    61,  1,      0,     15,2,20150105,0026,-66.4820, 120.2830,  620,     50.5,  -0.9329,  34.2161,2,  34.2164,2,    346.5,2,    349.6,2,  -999.00,9,  -999.00,9,  -999.00,9,   -999.0,9,   -999.0,9,    0.746,2,   16.680,2,   95.670,2
  09AR20141205,AU1402,    61,  1,      0,     14,2,20150105,0026,-66.4820, 120.2830,  620,     50.5,  -1.0112,  34.2145,2,-999.0000,9,    346.5,2,   -999.0,9,  -999.00,9,  -999.00,9,  -999.00,9,   -999.0,9,   -999.0,9,    0.736,2,   16.850,2,   95.737,2
  09AR20141205,AU1402,    61,  1,      0,     13,2,20150105,0026,-66.4820, 120.2830,  620,     80.6,  -1.5576,  34.2236,2,-999.0000,9,    338.6,2,   -999.0,9,  -999.00,9,  -999.00,9,  -999.00,9,   -999.0,9,   -999.0,9,    0.646,2,    3.214,2,   97.283,2
  09AR20141205,AU1402,    61,  1,      0,     12,2,20150105,0026,-66.4820, 120.2830,  620,     80.5,  -1.5577,  34.2235,2,-999.0000,9,    338.6,2,   -999.0,9,  -999.00,9,  -999.00,9,  -999.00,9,   -999.0,9,   -999.0,9,    0.667,2,    3.235,2,   97.265,2
  09AR20141205,AU1402,    61,  1,      0,     11,2,20150105,0026,-66.4820, 120.2830,  620,    100.2,  -1.6074,  34.2335,2,  34.2322,2,    332.2,2,    332.5,2,  -999.00,9,  -999.00,9,  -999.00,9,   2208.8,2,   2313.0,6,    0.528,2,    0.843,2,   97.498,2
  09AR20141205,AU1402,    61,  1,      0,     10,2,20150105,0026,-66.4820, 120.2830,  620,    100.2,  -1.6070,  34.2336,2,-999.0000,9,    332.2,2,   -999.0,9,  -999.00,9,  -999.00,9,  -999.00,9,   -999.0,9,   -999.0,9,    0.552,2,    0.854,2,   97.503,2
  09AR20141205,AU1402,    61,  1,      0,      9,2,20150105,0026,-66.4820, 120.2830,  620,    150.6,  -1.7746,  34.2351,2,  34.2340,2,    323.6,2,    322.3,2,  -999.00,9,  -999.00,9,  -999.00,9,   -999.0,9,   -999.0,9,    0.116,2,    0.085,2,   98.228,2
  09AR20141205,AU1402,    61,  1,      0,      8,2,20150105,0026,-66.4820, 120.2830,  620,    150.5,  -1.7772,  34.2351,2,-999.0000,9,    323.6,2,   -999.0,9,  -999.00,9,  -999.00,9,  -999.00,9,   -999.0,9,   -999.0,9,    0.116,2,    0.086,2,   98.220,2
  09AR20141205,AU1402,    61,  1,      0,      7,2,20150105,0026,-66.4820, 120.2830,  620,    250.8,  -1.8640,  34.2495,2,  34.2485,2,    315.5,2,    317.2,2,  -999.00,9,  -999.00,9,  -999.00,9,   -999.0,9,   -999.0,9,   -0.060,2,    0.000,2,   98.454,2
  09AR20141205,AU1402,    61,  1,      0,      6,2,20150105,0026,-66.4820, 120.2830,  620,    250.8,  -1.8640,  34.2496,2,-999.0000,9,    315.5,2,   -999.0,9,  -999.00,9,  -999.00,9,  -999.00,9,   -999.0,9,   -999.0,9,   -0.056,2,    0.000,2,   98.458,2
  09AR20141205,AU1402,    61,  1,      0,      5,2,20150105,0026,-66.4820, 120.2830,  620,    400.5,  -1.4845,  34.3582,2,  34.3590,2,    301.6,2,    301.2,2,  -999.00,9,  -999.00,9,  -999.00,9,   -999.0,9,   -999.0,9,   -0.091,2,    0.000,2,   98.552,2
  09AR20141205,AU1402,    61,  1,      0,      4,2,20150105,0026,-66.4820, 120.2830,  620,    400.7,  -1.4849,  34.3583,2,-999.0000,9,    301.6,2,   -999.0,9,  -999.00,9,  -999.00,9,  -999.00,9,   -999.0,9,   -999.0,9,   -0.083,2,    0.000,2,   98.547,2
  09AR20141205,AU1402,    61,  1,      0,      3,2,20150105,0026,-66.4820, 120.2830,  620,    520.2,  -0.5292,  34.4991,2,  34.4999,2,    259.0,2,    259.1,2,  -999.00,9,  -999.00,9,  -999.00,9,   2240.7,6,   2331.3,6,   -0.088,2,    0.000,2,   98.199,2
  09AR20141205,AU1402,    61,  1,      0,      2,2,20150105,0026,-66.4820, 120.2830,  620,    521.0,  -0.5344,  34.4982,2,-999.0000,9,    259.0,2,   -999.0,9,  -999.00,9,  -999.00,9,  -999.00,9,   -999.0,9,   -999.0,9,   -0.085,2,    0.000,2,   98.208,2
  09AR20141205,AU1402,    61,  1,      0,      1,2,20150105,0026,-66.4820, 120.2830,  620,    621.3,  -0.3856,  34.5200,2,  34.5205,2,    253.0,2,    253.4,2,  -999.00,9,  -999.00,9,  -999.00,9,   2242.4,2,   2331.6,2,   -0.080,2,    0.000,2,   98.015,2
  09AR20141205,AU1402,    62,  1,      0,     24,2,20150105,0217,-66.5013, 120.3980,  581,      7.6,  -0.4625,  34.2127,2,  34.2129,2,    351.9,2,    353.2,2,  -999.00,9,    27.94,2,     1.92,3,   2195.9,2,   2314.0,2,    0.109,2,  263.700,2,   94.211,2
  09AR20141205,AU1402,    62,  1,      0,     23,2,20150105,0217,-66.5013, 120.3980,  581,      7.6,  -0.4624,  34.2126,2,-999.0000,9,    351.9,2,   -999.0,9,  -999.00,9,  -999.00,9,  -999.00,9,   -999.0,9,   -999.0,9,    0.099,2,  269.800,2,   94.224,2
  09AR20141205,AU1402,    62,  1,      0,     22,2,20150105,0217,-66.5013, 120.3980,  581,      7.5,  -0.4624,  34.2127,2,-999.0000,9,    351.9,2,   -999.0,9,  -999.00,9,  -999.00,9,  -999.00,9,   -999.0,9,   -999.0,9,    0.094,2,  270.800,2,   94.221,2
  09AR20141205,AU1402,    62,  1,      0,     21,2,20150105,0217,-66.5013, 120.3980,  581,      7.5,  -0.4619,  34.2126,2,-999.0000,9,    351.9,2,   -999.0,9,  -999.00,9,  -999.00,9,  -999.00,9,   -999.0,9,   -999.0,9,    0.098,2,  288.600,2,   94.222,2
  09AR20141205,AU1402,    62,  1,      0,     20,2,20150105,0217,-66.5013, 120.3980,  581,     20.6,  -0.4857,  34.2130,2,  34.2146,2,    352.9,2,    351.8,2,  -999.00,9,  -999.00,9,  -999.00,9,   2196.2,2,   2312.8,2,    0.259,2,  109.000,2,   94.256,2
  09AR20141205,AU1402,    62,  1,      0,     19,2,20150105,0217,-66.5013, 120.3980,  581,     20.5,  -0.4904,  34.2123,2,-999.0000,9,    352.9,2,   -999.0,9,  -999.00,9,  -999.00,9,  -999.00,9,   -999.0,9,   -999.0,9,    0.235,2,  125.800,2,   94.252,2
  09AR20141205,AU1402,    62,  1,      0,     18,2,20150105,0217,-66.5013, 120.3980,  581,     50.4,  -1.6155,  34.2309,2,  34.2297,2,    339.7,2,    335.1,2,  -999.00,9,    29.54,2,     2.02,3,   2208.8,2,   2312.1,2,    0.595,2,   22.790,2,   97.318,2
  09AR20141205,AU1402,    62,  1,      0,     17,2,20150105,0217,-66.5013, 120.3980,  581,     50.3,  -1.6157,  34.2309,2,-999.0000,9,    339.7,2,   -999.0,9,  -999.00,9,  -999.00,9,  -999.00,9,   -999.0,9,   -999.0,9,    0.566,2,   23.300,2,   97.340,2
  09AR20141205,AU1402,    62,  1,      0,     16,2,20150105,0217,-66.5013, 120.3980,  581,     50.2,  -1.6175,  34.2311,2,-999.0000,9,    339.7,2,   -999.0,9,  -999.00,9,  -999.00,9,  -999.00,9,   -999.0,9,   -999.0,9,    0.556,2,   20.140,2,   97.366,2
  09AR20141205,AU1402,    62,  1,      0,     15,2,20150105,0217,-66.5013, 120.3980,  581,    100.7,  -1.7144,  34.2362,2,  34.2342,2,    327.2,2,    326.9,2,  -999.00,9,    30.08,2,     1.93,3,   2212.2,2,   2313.7,6,    0.183,2,    1.787,2,   98.185,2
  09AR20141205,AU1402,    62,  1,      0,     14,2,20150105,0217,-66.5013, 120.3980,  581,    100.7,  -1.7156,  34.2362,2,-999.0000,9,    327.2,2,   -999.0,9,  -999.00,9,  -999.00,9,  -999.00,9,   -999.0,9,   -999.0,9,    0.175,2,    1.757,2,   98.196,2
  09AR20141205,AU1402,    62,  1,      0,     13,2,20150105,0217,-66.5013, 120.3980,  581,    100.7,  -1.7154,  34.2361,2,-999.0000,9,    327.2,2,   -999.0,9,  -999.00,9,  -999.00,9,  -999.00,9,   -999.0,9,   -999.0,9,    0.170,2,    1.745,2,   98.204,2
  09AR20141205,AU1402,    62,  1,      0,     12,2,20150105,0217,-66.5013, 120.3980,  581,    100.6,  -1.7154,  34.2361,2,-999.0000,9,    327.2,2,   -999.0,9,  -999.00,9,  -999.00,9,  -999.00,9,   -999.0,9,   -999.0,9,    0.154,2,    1.711,2,   98.186,2
  09AR20141205,AU1402,    62,  1,      0,     11,2,20150105,0217,-66.5013, 120.3980,  581,    150.0,  -1.8051,  34.2375,2,  34.2354,2,    319.5,2,    319.6,2,  -999.00,9,  -999.00,9,  -999.00,9,   -999.0,9,   -999.0,9,    0.053,2,    0.344,2,   98.353,2
  09AR20141205,AU1402,    62,  1,      0,     10,2,20150105,0217,-66.5013, 120.3980,  581,    149.9,  -1.8052,  34.2377,2,-999.0000,9,    319.5,2,   -999.0,9,  -999.00,9,  -999.00,9,  -999.00,9,   -999.0,9,   -999.0,9,    0.062,2,    0.448,2,   98.356,2
  09AR20141205,AU1402,    62,  1,      0,      9,2,20150105,0217,-66.5013, 120.3980,  581,    149.9,  -1.8053,  34.2376,2,-999.0000,9,    319.5,2,   -999.0,9,  -999.00,9,  -999.00,9,  -999.00,9,   -999.0,9,   -999.0,9,    0.057,2,    0.481,2,   98.368,2
  09AR20141205,AU1402,    62,  1,      0,      8,2,20150105,0217,-66.5013, 120.3980,  581,    149.9,  -1.8056,  34.2376,2,-999.0000,9,    319.5,2,   -999.0,9,  -999.00,9,  -999.00,9,  -999.00,9,   -999.0,9,   -999.0,9,    0.050,2,    0.484,2,   98.360,2
  09AR20141205,AU1402,    62,  1,      0,      7,2,20150105,0217,-66.5013, 120.3980,  581,    251.1,  -1.8746,  34.2447,2,  34.2424,2,    313.2,2,    314.2,2,  -999.00,9,    30.51,2,  -999.00,9,   2213.7,2,   2312.5,2,   -0.077,2,    0.000,2,   98.474,2
  09AR20141205,AU1402,    62,  1,      0,      6,2,20150105,0217,-66.5013, 120.3980,  581,    251.0,  -1.8751,  34.2449,2,-999.0000,9,    313.2,2,   -999.0,9,  -999.00,9,  -999.00,9,  -999.00,9,   -999.0,9,   -999.0,9,   -0.067,2,    0.000,2,   98.479,2
  09AR20141205,AU1402,    62,  1,      0,      5,2,20150105,0217,-66.5013, 120.3980,  581,    421.1,  -1.5058,  34.3692,2,  34.3696,2,    301.5,2,    301.6,2,  -999.00,9,    30.78,2,     2.02,3,   -999.0,9,   -999.0,9,   -0.088,2,    0.000,2,   98.695,2
  09AR20141205,AU1402,    62,  1,      0,      4,2,20150105,0217,-66.5013, 120.3980,  581,    421.0,  -1.5051,  34.3694,2,-999.0000,9,    301.5,2,   -999.0,9,  -999.00,9,  -999.00,9,  -999.00,9,   -999.0,9,   -999.0,9,   -0.080,2,    0.000,2,   98.699,2
  09AR20141205,AU1402,    62,  1,      0,      3,2,20150105,0217,-66.5013, 120.3980,  581,    511.2,  -0.4570,  34.5090,2,  34.5060,2,    259.3,2,    257.8,2,  -999.00,9,  -999.00,9,  -999.00,9,   -999.0,9,   -999.0,9,   -0.088,2,    0.000,2,   98.468,2
  09AR20141205,AU1402,    62,  1,      0,      2,2,20150105,0217,-66.5013, 120.3980,  581,    511.0,  -0.4628,  34.5079,2,-999.0000,9,    260.4,2,   -999.0,9,  -999.00,9,  -999.00,9,  -999.00,9,   -999.0,9,   -999.0,9,   -0.091,2,    0.000,2,   98.544,2
  09AR20141205,AU1402,    62,  1,      0,      1,2,20150105,0217,-66.5013, 120.3980,  581,    594.0,  -0.2788,  34.5349,2,  34.5336,2,    248.7,2,    249.9,2,  -999.00,9,    31.62,2,     2.13,3,   2241.9,6,   2335.2,6,   -0.092,2,    0.000,2,   98.164,2
  09AR20141205,AU1402,    63,  1,      0,     24,2,20150105,0404,-66.5300, 120.5078,  503,      8.1,  -0.5934,  34.1871,2,  34.1866,2,    350.7,2,    350.9,2,  -999.00,9,  -999.00,9,  -999.00,9,   2197.8,2,   2310.9,2,    0.041,2,  277.600,2,   94.831,2
  09AR20141205,AU1402,    63,  1,      0,     23,2,20150105,0404,-66.5300, 120.5078,  503,      8.1,  -0.5933,  34.1862,2,-999.0000,9,    350.7,2,   -999.0,9,  -999.00,9,  -999.00,9,  -999.00,9,   -999.0,9,   -999.0,9,    0.038,2,  466.700,2,   94.824,2
  09AR20141205,AU1402,    63,  1,      0,     22,2,20150105,0404,-66.5300, 120.5078,  503,      8.1,  -0.5915,  34.1862,2,-999.0000,9,    350.7,2,   -999.0,9,  -999.00,9,  -999.00,9,  -999.00,9,   -999.0,9,   -999.0,9,    0.075,2,  446.600,2,   94.817,2
  09AR20141205,AU1402,    63,  1,      0,     21,2,20150105,0404,-66.5300, 120.5078,  503,      8.0,  -0.5934,  34.1873,2,-999.0000,9,    350.7,2,   -999.0,9,  -999.00,9,  -999.00,9,  -999.00,9,   -999.0,9,   -999.0,9,    0.067,2,  338.300,2,   94.816,2
  09AR20141205,AU1402,    63,  1,      0,     20,2,20150105,0404,-66.5300, 120.5078,  503,     24.7,  -0.6192,  34.1946,2,  34.1980,2,    351.5,2,    351.6,2,  -999.00,9,  -999.00,9,  -999.00,9,   2196.5,2,   2310.9,6,    0.222,2,  131.300,2,   94.815,2
  09AR20141205,AU1402,    63,  1,      0,     19,2,20150105,0404,-66.5300, 120.5078,  503,     24.7,  -0.6293,  34.1976,2,-999.0000,9,    351.5,2,   -999.0,9,  -999.00,9,  -999.00,9,  -999.00,9,   -999.0,9,   -999.0,9,    0.282,2,  131.000,2,   94.821,2
  09AR20141205,AU1402,    63,  1,      0,     18,2,20150105,0404,-66.5300, 120.5078,  503,     51.8,  -1.3126,  34.2239,2,  34.2228,2,    348.5,2,    343.3,2,  -999.00,9,  -999.00,9,  -999.00,9,   2204.0,2,   2312.3,2,    0.588,2,   35.560,2,   96.485,2
  09AR20141205,AU1402,    63,  1,      0,     17,2,20150105,0404,-66.5300, 120.5078,  503,     51.8,  -1.3115,  34.2241,2,-999.0000,9,    348.5,2,   -999.0,9,  -999.00,9,  -999.00,9,  -999.00,9,   -999.0,9,   -999.0,9,    0.548,2,   28.440,2,   96.495,2
  09AR20141205,AU1402,    63,  1,      0,     16,2,20150105,0404,-66.5300, 120.5078,  503,     81.1,  -1.5916,  34.2284,2,-999.0000,9,    339.2,2,   -999.0,9,  -999.00,9,  -999.00,9,  -999.00,9,   -999.0,9,   -999.0,9,    0.632,2,    5.623,2,   97.437,2
  09AR20141205,AU1402,    63,  1,      0,     15,2,20150105,0404,-66.5300, 120.5078,  503,     81.1,  -1.5923,  34.2285,2,  34.2266,2,    339.2,2,    339.6,2,  -999.00,9,  -999.00,9,  -999.00,9,   2207.3,2,   2313.0,2,    0.621,2,    6.636,2,   97.441,2
  09AR20141205,AU1402,    63,  1,      0,     14,2,20150105,0404,-66.5300, 120.5078,  503,     81.0,  -1.5909,  34.2284,2,-999.0000,9,    339.2,2,   -999.0,9,  -999.00,9,  -999.00,9,  -999.00,9,   -999.0,9,   -999.0,9,    0.600,2,    8.057,2,   97.433,2
  09AR20141205,AU1402,    63,  1,      0,     13,2,20150105,0404,-66.5300, 120.5078,  503,     81.0,  -1.5903,  34.2283,2,-999.0000,9,    339.3,2,   -999.0,9,  -999.00,9,  -999.00,9,  -999.00,9,   -999.0,9,   -999.0,9,    0.594,2,    6.110,2,   97.441,2
  09AR20141205,AU1402,    63,  1,      0,     12,2,20150105,0404,-66.5300, 120.5078,  503,    175.6,  -1.8838,  34.2383,2,-999.0000,9,    316.2,2,   -999.0,9,  -999.00,9,  -999.00,9,  -999.00,9,   -999.0,9,   -999.0,9,   -0.047,2,    0.125,2,   98.407,2
  09AR20141205,AU1402,    63,  1,      0,     11,2,20150105,0404,-66.5300, 120.5078,  503,    175.5,  -1.8837,  34.2384,2,  34.2373,2,    316.2,2,    314.7,2,  -999.00,9,  -999.00,9,  -999.00,9,   2212.7,2,   2312.3,2,   -0.058,2,    0.117,2,   98.398,2
  09AR20141205,AU1402,    63,  1,      0,     10,2,20150105,0404,-66.5300, 120.5078,  503,    251.0,  -1.8872,  34.2470,2,-999.0000,9,    312.9,2,   -999.0,9,  -999.00,9,  -999.00,9,  -999.00,9,   -999.0,9,   -999.0,9,   -0.081,2,    0.000,2,   98.513,2
  09AR20141205,AU1402,    63,  1,      0,      9,2,20150105,0404,-66.5300, 120.5078,  503,    251.0,  -1.8876,  34.2471,2,  34.2452,2,    312.9,2,    314.4,2,  -999.00,9,  -999.00,9,  -999.00,9,   -999.0,9,   -999.0,9,   -0.079,2,    0.000,2,   98.528,2
  09AR20141205,AU1402,    63,  1,      0,      8,2,20150105,0404,-66.5300, 120.5078,  503,    351.6,  -1.4580,  34.3478,2,-999.0000,9,    299.8,2,   -999.0,9,  -999.00,9,  -999.00,9,  -999.00,9,   -999.0,9,   -999.0,9,   -0.077,2,    0.000,2,   98.517,2
  09AR20141205,AU1402,    63,  1,      0,      7,2,20150105,0404,-66.5300, 120.5078,  503,    351.5,  -1.4565,  34.3482,2,  34.3494,2,    299.8,2,    299.0,2,  -999.00,9,  -999.00,9,  -999.00,9,   2223.3,2,   2318.6,2,   -0.078,2,    0.000,2,   98.509,2
  09AR20141205,AU1402,    63,  1,      0,      6,2,20150105,0404,-66.5300, 120.5078,  503,    401.4,  -0.9384,  34.4429,2,-999.0000,9,    278.8,2,   -999.0,9,  -999.00,9,  -999.00,9,  -999.00,9,   -999.0,9,   -999.0,9,   -0.083,2,    0.000,2,   98.436,2
  09AR20141205,AU1402,    63,  1,      0,      5,2,20150105,0404,-66.5300, 120.5078,  503,    401.4,  -0.9389,  34.4429,2,  34.4417,2,    278.8,2,    276.6,2,  -999.00,9,  -999.00,9,  -999.00,9,   2234.5,2,   2326.7,6,   -0.085,2,    0.000,2,   98.438,2
  09AR20141205,AU1402,    63,  1,      0,      4,2,20150105,0404,-66.5300, 120.5078,  503,    451.3,  -0.8233,  34.4575,2,-999.0000,9,    271.4,2,   -999.0,9,  -999.00,9,  -999.00,9,  -999.00,9,   -999.0,9,   -999.0,9,   -0.083,2,    0.000,2,   98.379,2
  09AR20141205,AU1402,    63,  1,      0,      3,2,20150105,0404,-66.5300, 120.5078,  503,    451.2,  -0.8241,  34.4574,2,-999.0000,9,    271.4,2,   -999.0,9,  -999.00,9,  -999.00,9,  -999.00,9,   -999.0,9,   -999.0,9,   -0.084,2,    0.000,2,   98.314,2
  09AR20141205,AU1402,    63,  1,      0,      2,2,20150105,0404,-66.5300, 120.5078,  503,    497.0,  -0.6241,  34.4830,2,-999.0000,9,    261.9,2,   -999.0,9,  -999.00,9,  -999.00,9,  -999.00,9,   -999.0,9,   -999.0,9,   -0.088,2,    0.000,2,   98.247,2
  09AR20141205,AU1402,    63,  1,      0,      1,2,20150105,0404,-66.5300, 120.5078,  503,    497.0,  -0.6253,  34.4827,2,  34.4815,2,    262.4,2,    263.6,2,  -999.00,9,  -999.00,9,  -999.00,9,   2236.4,2,   2329.8,2,   -0.087,2,    0.000,2,   98.251,2