BOTTLE,20020809WHPSIObren
EXPOCODE,SECT_ID,STNNBR,CASTNO,SAMPNO,BTLNBR,BTLNBR_FLAG_W,DATE,TIME,LATITUDE,LONGITUDE,DEPTH,CTDPRS,CTDTMP,CTDSAL,CTDSAL_FLAG_W,SALNTY,SALNTY_FLAG_W,CTDOXY,CTDOXY_FLAG_W,OXYGEN,OXYGEN_FLAG_W,SILCAT,SILCAT_FLAG_W,NO2+NO3,NO2+NO3_FLAG_W,PHSPHT,PHSPHT_FLAG_W,CTDRAW,REVTMP,REVPRS,THETA
,,,,,,,,,,,,DBAR,ITS-90,PSS-78,,PSS-78,,UMOL/KG,,UMOL/KG,,UMOL/KG,,UMOL/KG,,UMOL/KG,,,DEG C,DBAR,ITS-90
     32WC018_1,  PRS2,     2, 13,     19,     19,2,19900614,0659, 22.6883,-157.8783, 4750,     12.7,  24.6803,  35.0250,2,-999.0000,9,    220.3,1,   -999.0,9,  -999.00,9,  -999.00,9,  -999.00,9,     12,-999.000,  -999.0, 24.6776
     32WC018_1,  PRS2,     2, 13,     18,     18,2,19900614,0659, 22.6883,-157.8783, 4750,     12.7,  24.6804,  35.0248,2,-999.0000,9,    219.0,1,   -999.0,9,  -999.00,9,  -999.00,9,  -999.00,9,     12,-999.000,  -999.0, 24.6777
     32WC018_1,  PRS2,     2, 13,     17,     17,2,19900614,0659, 22.6883,-157.8783, 4750,     12.7,  24.6805,  35.0248,2,-999.0000,9,    217.8,1,   -999.0,9,  -999.00,9,  -999.00,9,  -999.00,9,     12,-999.000,  -999.0, 24.6777
     32WC018_1,  PRS2,     2, 13,     14,     14,2,19900614,0659, 22.6883,-157.8783, 4750,     12.7,  24.6788,  35.0243,2,-999.0000,9,    216.9,1,   -999.0,9,  -999.00,9,  -999.00,9,  -999.00,9,     13,-999.000,  -999.0, 24.6761
     32WC018_1,  PRS2,     2, 13,     21,     21,2,19900614,0659, 22.6883,-157.8783, 4750,     12.8,  24.6805,  35.0252,2,-999.0000,9,    222.3,1,   -999.0,9,  -999.00,9,  -999.00,9,  -999.00,9,     13,-999.000,  -999.0, 24.6778
     32WC018_1,  PRS2,     2, 13,     20,     20,2,19900614,0659, 22.6883,-157.8783, 4750,     12.8,  24.6823,  35.0252,2,-999.0000,9,    221.4,1,   -999.0,9,  -999.00,9,  -999.00,9,  -999.00,9,     12,-999.000,  -999.0, 24.6795
     32WC018_1,  PRS2,     2, 13,     16,     16,2,19900614,0659, 22.6883,-157.8783, 4750,     12.8,  24.6806,  35.0247,2,-999.0000,9,    216.9,1,   -999.0,9,  -999.00,9,  -999.00,9,  -999.00,9,     13,-999.000,  -999.0, 24.6779
     32WC018_1,  PRS2,     2, 13,     13,     13,2,19900614,0659, 22.6883,-157.8783, 4750,     12.8,  24.6790,  35.0240,2,-999.0000,9,    217.4,1,   -999.0,9,  -999.00,9,  -999.00,9,  -999.00,9,     12,-999.000,  -999.0, 24.6763
     32WC018_1,  PRS2,     2, 13,     11,     11,2,19900614,0659, 22.6883,-157.8783, 4750,     12.8,  24.6843,  35.0237,2,-999.0000,9,    218.2,1,   -999.0,9,  -999.00,9,  -999.00,9,  -999.00,9,     11,-999.000,  -999.0, 24.6816
     32WC018_1,  PRS2,     2, 13,      8,      8,2,19900614,0659, 22.6883,-157.8783, 4750,     12.8,  24.6866,  35.0234,2,-999.0000,9,    217.8,1,   -999.0,9,  -999.00,9,  -999.00,9,  -999.00,9,     12,-999.000,  -999.0, 24.6838
     32WC018_1,  PRS2,     2, 13,      1,      1,2,19900614,0659, 22.6883,-157.8783, 4750,     12.8,  24.6874,  35.0222,2,-999.0000,9,    215.0,1,   -999.0,9,  -999.00,9,  -999.00,9,  -999.00,9,     11,-999.000,  -999.0, 24.6847
     32WC018_1,  PRS2,     2, 13,     15,     15,2,19900614,0659, 22.6883,-157.8783, 4750,     12.9,  24.6802,  35.0244,2,-999.0000,9,    216.6,1,   -999.0,9,  -999.00,9,  -999.00,9,  -999.00,9,     11,-999.000,  -999.0, 24.6775
     32WC018_1,  PRS2,     2, 13,     12,     12,2,19900614,0659, 22.6883,-157.8783, 4750,     12.9,  24.6807,  35.0239,2,-999.0000,9,    217.9,1,   -999.0,9,  -999.00,9,  -999.00,9,  -999.00,9,     12,-999.000,  -999.0, 24.6780
     32WC018_1,  PRS2,     2, 13,      4,      4,2,19900614,0659, 22.6883,-157.8783, 4750,     12.9,  24.6876,  35.0227,2,-999.0000,9,    215.0,1,   -999.0,9,  -999.00,9,  -999.00,9,  -999.00,9,     12,-999.000,  -999.0, 24.6848
     32WC018_1,  PRS2,     2, 13,      3,      3,2,19900614,0659, 22.6883,-157.8783, 4750,     12.9,  24.6870,  35.0227,2,-999.0000,9,    214.6,1,   -999.0,9,  -999.00,9,  -999.00,9,  -999.00,9,     12,-999.000,  -999.0, 24.6842
     32WC018_1,  PRS2,     2, 13,     22,     22,2,19900614,0659, 22.6883,-157.8783, 4750,     13.0,  24.6780,  35.0252,2,-999.0000,9,    222.9,1,   -999.0,9,  -999.00,9,  -999.00,9,  -999.00,9,     12,-999.000,  -999.0, 24.6752
     32WC018_1,  PRS2,     2, 13,      6,      6,2,19900614,0659, 22.6883,-157.8783, 4750,     13.0,  24.6861,  35.0231,2,-999.0000,9,    216.4,1,   -999.0,9,  -999.00,9,  -999.00,9,  -999.00,9,     12,-999.000,  -999.0, 24.6833
     32WC018_1,  PRS2,     2, 13,     10,     10,2,19900614,0659, 22.6883,-157.8783, 4750,     13.1,  24.6851,  35.0235,2,-999.0000,9,    218.3,1,   -999.0,9,  -999.00,9,  -999.00,9,  -999.00,9,     13,-999.000,  -999.0, 24.6823
     32WC018_1,  PRS2,     2, 13,      7,      7,2,19900614,0659, 22.6883,-157.8783, 4750,     13.1,  24.6865,  35.0232,2,-999.0000,9,    217.2,1,   -999.0,9,  -999.00,9,  -999.00,9,  -999.00,9,     13,-999.000,  -999.0, 24.6837
     32WC018_1,  PRS2,     2, 13,      5,      5,2,19900614,0659, 22.6883,-157.8783, 4750,     13.1,  24.6868,  35.0230,2,-999.0000,9,    215.6,1,   -999.0,9,  -999.00,9,  -999.00,9,  -999.00,9,     13,-999.000,  -999.0, 24.6840
     32WC018_1,  PRS2,     2, 13,      2,      2,2,19900614,0659, 22.6883,-157.8783, 4750,     13.1,  24.6866,  35.0222,2,-999.0000,9,    214.6,1,   -999.0,9,  -999.00,9,  -999.00,9,  -999.00,9,     12,-999.000,  -999.0, 24.6837
     32WC018_1,  PRS2,     2, 13,     23,     23,2,19900614,0659, 22.6883,-157.8783, 4750,     13.2,  24.6787,  35.0252,2,-999.0000,9,    222.8,1,   -999.0,9,  -999.00,9,  -999.00,9,  -999.00,9,     13,-999.000,  -999.0, 24.6758
     32WC018_1,  PRS2,     2, 13,      9,      9,2,19900614,0659, 22.6883,-157.8783, 4750,     13.2,  24.6854,  35.0234,2,-999.0000,9,    218.2,1,   -999.0,9,  -999.00,9,  -999.00,9,  -999.00,9,     13,-999.000,  -999.0, 24.6826
     32WC018_1,  PRS2,     2, 14,     18,     18,2,19900614,0949, 22.6817,-157.8533, 4750,      7.0,  24.6606,  35.0232,2,-999.0000,5,    233.4,1,   -999.0,9,  -999.00,9,  -999.00,9,  -999.00,9,      5,-999.000,  -999.0, 24.6591
     32WC018_1,  PRS2,     2, 14,     17,     17,2,19900614,0949, 22.6817,-157.8533, 4750,     27.2,  24.6618,  35.0229,2,-999.0000,5,    230.4,1,   -999.0,9,  -999.00,9,  -999.00,9,  -999.00,9,     25,-999.000,  -999.0, 24.6559
     32WC018_1,  PRS2,     2, 14,     14,     14,2,19900614,0949, 22.6817,-157.8533, 4750,     47.3,  24.5557,  35.0258,2,  35.0264,2,    218.4,1,   -999.0,9,  -999.00,9,  -999.00,9,  -999.00,9,     45,-999.000,  -999.0, 24.5455
     32WC018_1,  PRS2,     2, 14,     16,     16,2,19900614,0949, 22.6817,-157.8533, 4750,     47.4,  24.5277,  35.0261,2,-999.0000,5,    217.6,1,   -999.0,9,  -999.00,9,  -999.00,9,  -999.00,9,     46,-999.000,  -999.0, 24.5175
     32WC018_1,  PRS2,     2, 14,     15,     15,2,19900614,0949, 22.6817,-157.8533, 4750,     47.4,  24.5214,  35.0268,2,-999.0000,5,    217.9,1,   -999.0,9,  -999.00,9,  -999.00,9,  -999.00,9,     44,-999.000,  -999.0, 24.5113
     32WC018_1,  PRS2,     2, 14,     13,     13,2,19900614,0949, 22.6817,-157.8533, 4750,     78.1,  22.5047,  35.1498,2,  35.1506,2,    210.6,1,   -999.0,9,  -999.00,9,  -999.00,9,  -999.00,9,     76,-999.000,  -999.0, 22.4890
     32WC018_1,  PRS2,     2, 14,     12,     12,2,19900614,0949, 22.6817,-157.8533, 4750,     93.2,  21.9066,  35.2028,2,  35.2049,2,    210.5,1,   -999.0,9,  -999.00,9,  -999.00,9,  -999.00,9,     91,-999.000,  -999.0, 21.8882
     32WC018_1,  PRS2,     2, 14,     11,     11,2,19900614,0949, 22.6817,-157.8533, 4750,    102.6,  21.5576,  35.1788,2,  35.1816,2,    197.7,1,   -999.0,9,  -999.00,9,  -999.00,9,  -999.00,9,     99,-999.000,  -999.0, 21.5376
     32WC018_1,  PRS2,     2, 14,     10,     10,2,19900614,0949, 22.6817,-157.8533, 4750,    113.8,  21.3503,  35.1982,2,  35.1977,2,    188.7,1,   -999.0,9,  -999.00,9,  -999.00,9,  -999.00,9,    111,-999.000,  -999.0, 21.3283
     32WC018_1,  PRS2,     2, 14,      9,      9,2,19900614,0949, 22.6817,-157.8533, 4750,    124.1,  21.0333,  35.1955,2,  35.2199,4,    191.7,1,   -999.0,9,  -999.00,9,  -999.00,9,  -999.00,9,    122,-999.000,  -999.0, 21.0095
     32WC018_1,  PRS2,     2, 14,      8,      8,2,19900614,0949, 22.6817,-157.8533, 4750,    133.7,  20.8347,  35.2116,2,  35.2122,2,    195.9,1,   -999.0,9,  -999.00,9,  -999.00,9,  -999.00,9,    131,-999.000,  -999.0, 20.8092
     32WC018_1,  PRS2,     2, 14,      7,      7,2,19900614,0949, 22.6817,-157.8533, 4750,    142.7,  20.6064,  35.2028,2,  35.2034,2,    196.4,1,   -999.0,9,  -999.00,9,  -999.00,9,  -999.00,9,    139,-999.000,  -999.0, 20.5794
     32WC018_1,  PRS2,     2, 14,      6,      6,2,19900614,0949, 22.6817,-157.8533, 4750,    156.5,  20.1908,  35.1796,2,  35.1809,2,    189.1,1,   -999.0,9,  -999.00,9,  -999.00,9,  -999.00,9,    156,-999.000,  -999.0, 20.1617
     32WC018_1,  PRS2,     2, 14,      5,      5,2,19900614,0949, 22.6817,-157.8533, 4750,    182.0,  19.1769,  35.0836,2,  35.0852,2,    189.5,1,   -999.0,9,  -999.00,9,  -999.00,9,  -999.00,9,    178,-999.000,  -999.0, 19.1442
     32WC018_1,  PRS2,     2, 14,      4,      4,2,19900614,0949, 22.6817,-157.8533, 4750,    209.4,  18.1168,  34.9610,2,  34.9658,2,    196.9,1,   -999.0,9,  -999.00,9,  -999.00,9,  -999.00,9,    203,-999.000,  -999.0, 18.0807
     32WC018_1,  PRS2,     2, 14,      3,      3,2,19900614,0949, 22.6817,-157.8533, 4750,    320.8,  13.3679,  34.4142,2,  34.4146,2,    209.2,1,   -999.0,9,  -999.00,9,  -999.00,9,  -999.00,9,    313,-999.000,  -999.0, 13.3230
     32WC018_1,  PRS2,     2, 14,      2,      2,2,19900614,0949, 22.6817,-157.8533, 4750,    527.0,   6.5538,  34.0527,2,  34.0549,2,    126.4,1,   -999.0,9,  -999.00,9,  -999.00,9,  -999.00,9,    519,-999.000,  -999.0,  6.5058
     32WC018_1,  PRS2,     2, 14,      1,      1,2,19900614,0949, 22.6817,-157.8533, 4750,   1055.2,   3.9185,  34.4999,2,  34.5007,2,     40.6,1,   -999.0,9,  -999.00,9,  -999.00,9,  -999.00,9,   1045,-999.000,  -999.0,  3.8389
     32WC018_1,  PRS2,     2, 15,      4,      4,2,19900614,2331, 22.6200,-157.8167, 4780,    -14.3,-999.0000,-999.0000,5,-999.0000,9,   -999.0,5,   -999.0,9,  -999.00,9,  -999.00,9,  -999.00,9,    -11,-999.000,  -999.0,-999.0000
     32WC018_1,  PRS2,     2, 15,      3,      3,2,19900614,2331, 22.6200,-157.8167, 4780,    114.3,-999.0000,-999.0000,5,-999.0000,9,   -999.0,5,   -999.0,9,  -999.00,9,  -999.00,9,  -999.00,9,    114,-999.000,  -999.0,-999.0000
     32WC018_1,  PRS2,     2, 15,      2,      2,2,19900614,2331, 22.6200,-157.8167, 4780,    127.5,-999.0000,-999.0000,5,-999.0000,9,   -999.0,5,   -999.0,9,  -999.00,9,  -999.00,9,  -999.00,9,    125,-999.000,  -999.0,-999.0000
     32WC018_1,  PRS2,     2, 15,      1,      1,2,19900614,2331, 22.6200,-157.8167, 4780,   2060.0,-999.0000,-999.0000,5,-999.0000,9,   -999.0,5,   -999.0,9,  -999.00,9,  -999.00,9,  -999.00,9,   2058,-999.000,  -999.0,-999.0000