BOTTLE,20020809WHPSIObren
#code : jjward hyd_to_exchange.pl 
#original files copied from HTML directory: 20020809
#original HYD file: /whpo/11/HOTS/BOTTLE/hot18/hot18.sea   Fri Aug  9 09:51:30 2002
#original SUM file: /whpo/11/HOTS/BOTTLE/hot18/hot18.sum   Fri Aug  9 13:30:34 2002
EXPOCODE,SECT_ID,STNNBR,CASTNO,SAMPNO,BTLNBR,BTLNBR_FLAG_W,DATE,TIME,LATITUDE,LONGITUDE,DEPTH,CTDPRS,CTDTMP,CTDSAL,CTDSAL_FLAG_W,SALNTY,SALNTY_FLAG_W,CTDOXY,CTDOXY_FLAG_W,OXYGEN,OXYGEN_FLAG_W,SILCAT,SILCAT_FLAG_W,NO2+NO3,NO2+NO3_FLAG_W,PHSPHT,PHSPHT_FLAG_W,CTDRAW,REVTMP,REVPRS,THETA
,,,,,,,,,,,,DBAR,ITS-90,PSS-78,,PSS-78,,UMOL/KG,,UMOL/KG,,UMOL/KG,,UMOL/KG,,UMOL/KG,,,DEG C,DBAR,ITS-90
     32WC018_1,  PRS2,     1,  1,     23,     23,2,19900612,0233, 21.4317,-158.3333, 1500,      4.8,  25.5379,  34.8132,2,  34.8100,2,    226.9,2,    206.7,2,     0.80,2,     0.00,2,     0.13,2,      5,-999.000,  -999.0, 25.5369
     32WC018_1,  PRS2,     1,  1,     22,     22,2,19900612,0233, 21.4317,-158.3333, 1500,     25.2,  25.4961,  34.8106,2,  34.8083,2,    226.8,2,    207.9,2,     0.80,2,     0.00,2,     0.13,2,     25,-999.000,  -999.0, 25.4906
     32WC018_1,  PRS2,     1,  1,     21,     21,2,19900612,0233, 21.4317,-158.3333, 1500,     45.6,  25.0867,  34.8286,2,  34.8333,2,    259.0,2,    209.0,2,     0.70,2,     0.00,2,     0.13,2,     44,-999.000,  -999.0, 25.0768
     32WC018_1,  PRS2,     1,  1,     20,     20,2,19900612,0233, 21.4317,-158.3333, 1500,     61.0,  24.6350,  34.8695,2,  34.8729,2,    212.4,2,    213.4,2,     0.61,2,     0.00,2,     0.12,2,     60,-999.000,  -999.0, 24.6219
     32WC018_1,  PRS2,     1,  1,     19,     19,2,19900612,0233, 21.4317,-158.3333, 1500,     76.3,  23.5304,  34.9935,2,  34.9906,2,    219.8,2,    216.9,2,     0.61,2,     0.00,2,     0.15,2,     75,-999.000,  -999.0, 23.5146
     32WC018_1,  PRS2,     1,  1,     18,     18,2,19900612,0233, 21.4317,-158.3333, 1500,     86.7,  23.0637,  35.0537,2,  35.0520,2,    221.1,2,    218.1,2,     0.61,2,     0.00,2,     0.12,2,     84,-999.000,  -999.0, 23.0460
     32WC018_1,  PRS2,     1,  1,     17,     17,2,19900612,0233, 21.4317,-158.3333, 1500,     96.9,  22.3043,  35.1068,2,  35.1059,2,    217.1,2,    216.9,2,     0.55,2,     0.01,2,     0.12,2,     95,-999.000,  -999.0, 22.2849
     32WC018_1,  PRS2,     1,  1,     16,     16,2,19900612,0233, 21.4317,-158.3333, 1500,    107.8,  22.1843,  35.1101,2,  35.1085,2,    216.2,2,    215.0,2,     0.80,2,     0.05,2,     0.12,2,    106,-999.000,  -999.0, 22.1628
     32WC018_1,  PRS2,     1,  1,     15,     15,2,19900612,0233, 21.4317,-158.3333, 1500,    118.2,  21.6932,  35.1341,2,  35.1321,2,    206.3,2,    212.3,2,     0.61,2,     0.30,2,     0.15,2,    115,-999.000,  -999.0, 21.6701
     32WC018_1,  PRS2,     1,  1,     14,     14,2,19900612,0233, 21.4317,-158.3333, 1500,    128.1,  21.1576,  35.1312,2,  35.1299,2,    202.4,2,    205.2,2,     0.80,2,     0.78,2,     0.19,2,    125,-999.000,  -999.0, 21.1329
     32WC018_1,  PRS2,     1,  1,     13,     13,2,19900612,0233, 21.4317,-158.3333, 1500,    154.9,  19.9022,  35.0652,2,  35.0629,2,    182.2,2,    193.1,2,     1.55,2,     2.33,2,     0.26,2,    151,-999.000,  -999.0, 19.8736
     32WC018_1,  PRS2,     1,  1,     12,     12,2,19900612,0233, 21.4317,-158.3333, 1500,    181.8,  19.3419,  35.0436,2,  35.0410,2,    186.4,2,    194.4,2,     1.74,2,     2.43,2,     0.28,2,    178,-999.000,  -999.0, 19.3091
     32WC018_1,  PRS2,     1,  1,     11,     11,2,19900612,0233, 21.4317,-158.3333, 1500,    206.0,  17.8320,  34.8677,2,  34.8715,2,    187.1,2,    186.3,2,     2.68,2,     3.86,2,     0.39,2,    201,-999.000,  -999.0, 17.7969
     32WC018_1,  PRS2,     1,  1,     10,     10,2,19900612,0233, 21.4317,-158.3333, 1500,    230.1,  16.7691,  34.7140,2,  34.7169,2,    182.9,2,    188.2,2,     3.24,2,     4.99,2,     0.47,2,    224,-999.000,  -999.0, 16.7315
     32WC018_1,  PRS2,     1,  1,      9,      9,2,19900612,0233, 21.4317,-158.3333, 1500,    261.2,  15.1044,  34.5026,2,  34.5033,2,    185.7,2,    185.1,2,     5.31,2,     7.19,2,     0.62,2,    255,-999.000,  -999.0, 15.0648
     32WC018_1,  PRS2,     1,  1,      8,      8,2,19900612,0233, 21.4317,-158.3333, 1500,    312.1,  12.2322,  34.2645,2,  34.2634,2,    171.0,2,    167.5,2,    13.42,2,    14.11,2,     1.10,2,    305,-999.000,  -999.0, 12.1911
     32WC018_1,  PRS2,     1,  1,      7,      7,2,19900612,0233, 21.4317,-158.3333, 1500,    409.4,   8.9126,  34.1194,2,  34.1150,2,    164.9,2,    148.4,2,  -999.00,5,  -999.00,5,  -999.00,5,    402,-999.000,  -999.0,  8.8684
     32WC018_1,  PRS2,     1,  1,      6,      6,2,19900612,0233, 21.4317,-158.3333, 1500,    519.6,   6.7488,  34.1505,2,  34.1484,2,     75.5,2,     76.3,2,    57.68,2,    33.13,2,     2.42,2,    511,-999.000,  -999.0,  6.7007
     32WC018_1,  PRS2,     1,  1,      5,      5,2,19900612,0233, 21.4317,-158.3333, 1500,    654.4,   5.4129,  34.3026,2,  34.3014,2,     34.9,2,     34.8,2,  -999.00,5,  -999.00,5,  -999.00,5,    645,-999.000,  -999.0,  5.3582
     32WC018_1,  PRS2,     1,  1,      4,      4,2,19900612,0233, 21.4317,-158.3333, 1500,    743.2,   5.0053,  34.3856,2,  34.3842,2,     29.5,2,     31.9,2,    90.62,2,    40.65,2,     2.95,2,    733,-999.000,  -999.0,  4.9449
     32WC018_1,  PRS2,     1,  1,      3,      3,2,19900612,0233, 21.4317,-158.3333, 1500,    809.7,   4.7325,  34.4354,2,  34.4358,2,     32.3,2,   -999.0,5,  -999.00,5,  -999.00,5,  -999.00,5,    799,-999.000,  -999.0,  4.6679
     32WC018_1,  PRS2,     1,  1,      2,      2,2,19900612,0233, 21.4317,-158.3333, 1500,    914.6,   4.4043,  34.4773,2,  34.4765,2,     36.0,2,   -999.0,5,  -999.00,5,  -999.00,5,  -999.00,5,    904,-999.000,  -999.0,  4.3329
     32WC018_1,  PRS2,     1,  1,      1,      1,2,19900612,0233, 21.4317,-158.3333, 1500,   1025.9,   4.0173,  34.5039,2,  34.5040,2,     38.6,2,     36.4,2,   110.01,2,    41.64,2,     2.98,2,   1014,-999.000,  -999.0,  3.9394
     32WC018_1,  PRS2,     2,  1,     23,     23,2,19900612,1524, 22.7383,-158.0233, 4780,   1009.9,   4.0774,  34.4741,2,  34.4749,2,     37.8,2,     38.4,2,   110.01,2,    42.02,2,     3.00,2,   1006,-999.000,  -999.0,  4.0003
     32WC018_1,  PRS2,     2,  1,     22,     22,2,19900612,1524, 22.7383,-158.0233, 4780,   1113.4,   3.8063,  34.5048,2,  34.5048,2,     46.3,2,     44.7,2,   115.09,2,    41.89,2,     2.98,2,   1110,-999.000,  -999.0,  3.7228
     32WC018_1,  PRS2,     2,  1,     21,     21,2,19900612,1524, 22.7383,-158.0233, 4780,   1258.7,   3.4689,  34.5300,2,  34.5302,2,     52.4,2,     50.5,2,   122.62,2,    41.77,2,     2.97,2,   1257,-999.000,  -999.0,  3.3762
     32WC018_1,  PRS2,     2,  1,     20,     20,2,19900612,1524, 22.7383,-158.0233, 4780,   1406.5,   3.0898,  34.5550,2,  34.5554,2,     59.1,2,     57.8,2,   130.43,2,    41.52,2,     2.94,2,   1405,-999.000,  -999.0,  2.9888
     32WC018_1,  PRS2,     2,  1,     19,     19,3,19900612,1524, 22.7383,-158.0233, 4780,   1470.7,   2.9444,  34.5621,2,  34.5626,2,     62.1,2,     60.5,2,   133.91,2,    41.52,2,     2.94,2,   1469,-999.000,  -999.0,  2.8396
     32WC018_1,  PRS2,     2,  1,     18,     18,2,19900612,1524, 22.7383,-158.0233, 4780,   1700.2,   2.5813,  34.5947,2,  34.5947,2,     75.3,2,     73.3,2,   141.07,2,    40.88,2,     2.87,2,   1698,-999.000,  -999.0,  2.4618
     32WC018_1,  PRS2,     2,  1,     17,     17,3,19900612,1524, 22.7383,-158.0233, 4780,   1849.1,   2.3345,  34.6079,2,  34.6088,2,     82.5,2,     81.6,2,   146.15,2,    40.26,2,     2.82,2,   1848,-999.000,  -999.0,  2.2059
     32WC018_1,  PRS2,     2,  1,     16,     16,2,19900612,1524, 22.7383,-158.0233, 4780,   1999.8,   2.1283,  34.6197,2,  34.6201,2,     90.1,2,     89.7,2,   150.47,2,    40.01,2,     2.77,2,   1997,-999.000,  -999.0,  1.9899
     32WC018_1,  PRS2,     2,  1,     15,     15,3,19900612,1524, 22.7383,-158.0233, 4780,   2201.2,   1.9416,  34.6335,2,  34.6335,2,     96.8,2,     98.1,2,   153.29,2,    39.51,2,     2.74,2,   2200,-999.000,  -999.0,  1.7890
     32WC018_1,  PRS2,     2,  1,     14,     14,3,19900612,1524, 22.7383,-158.0233, 4780,   2398.9,   1.8012,  34.6442,2,  34.6437,2,    104.2,2,    105.2,2,   156.50,2,    39.13,2,     2.70,2,   2396,-999.000,  -999.0,  1.6336
     32WC018_1,  PRS2,     2,  1,     13,     13,2,19900612,1524, 22.7383,-158.0233, 4780,   2606.4,   1.6961,  34.6537,2,  34.6538,2,    108.2,2,    111.9,2,   158.38,2,    38.63,2,     2.67,2,   2605,-999.000,  -999.0,  1.5120
     32WC018_1,  PRS2,     2,  1,     12,     12,2,19900612,1524, 22.7383,-158.0233, 4780,   2803.1,   1.6277,  34.6596,2,  34.6599,2,    113.1,2,    115.4,2,   160.82,2,    38.38,2,     2.64,2,   2801,-999.000,  -999.0,  1.4267
     32WC018_1,  PRS2,     2,  1,     11,     11,3,19900612,1524, 22.7383,-158.0233, 4780,   2991.0,   1.5772,  34.6658,2,  34.6665,2,    118.9,2,    119.5,2,   159.88,2,    38.00,2,     2.63,2,   2989,-999.000,  -999.0,  1.3596
     32WC018_1,  PRS2,     2,  1,     10,     10,2,19900612,1524, 22.7383,-158.0233, 4780,   3189.3,   1.5311,  34.6714,2,  34.6706,2,    127.3,2,    127.7,2,   158.38,2,    37.50,2,     2.59,2,   3189,-999.000,  -999.0,  1.2954
     32WC018_1,  PRS2,     2,  1,      9,      9,2,19900612,1524, 22.7383,-158.0233, 4780,   3377.0,   1.4896,  34.6763,2,  34.6752,2,    134.8,2,    134.6,2,   156.49,2,    37.12,2,     2.55,2,   3376,-999.000,  -999.0,  1.2362
     32WC018_1,  PRS2,     2,  1,      8,      8,2,19900612,1524, 22.7383,-158.0233, 4780,   3595.2,   1.4685,  34.6800,2,  34.6790,2,    140.1,2,    139.5,2,   154.61,2,    36.75,2,     2.52,2,   3593,-999.000,  -999.0,  1.1934
     32WC018_1,  PRS2,     2,  1,      7,      7,2,19900612,1524, 22.7383,-158.0233, 4780,   3799.2,   1.4599,  34.6826,2,  34.6823,2,    144.3,2,    143.7,2,   152.55,2,    36.44,2,     2.49,2,   3798,-999.000,  -999.0,  1.1636
     32WC018_1,  PRS2,     2,  1,      6,      6,2,19900612,1524, 22.7383,-158.0233, 4780,   3998.5,   1.4595,  34.6847,2,  34.6840,2,    147.8,2,    146.5,2,   151.41,2,    36.25,2,     2.49,2,   3996,-999.000,  -999.0,  1.1419
     32WC018_1,  PRS2,     2,  1,      5,      5,2,19900612,1524, 22.7383,-158.0233, 4780,   4196.8,   1.4663,  34.6863,2,  34.6848,2,    149.0,2,    149.1,2,   150.46,2,    36.12,2,     2.52,2,   4194,-999.000,  -999.0,  1.1267
     32WC018_1,  PRS2,     2,  1,      4,      4,2,19900612,1524, 22.7383,-158.0233, 4780,   4403.4,   1.4800,  34.6872,2,  34.6862,2,    150.6,2,    150.1,2,   149.90,2,    36.00,2,     2.46,2,   4400,-999.000,  -999.0,  1.1167
     32WC018_1,  PRS2,     2,  1,      3,      3,2,19900612,1524, 22.7383,-158.0233, 4780,   4495.5,   1.4885,  34.6874,2,  34.6861,2,    151.3,2,    150.2,2,   149.53,2,    35.87,2,     2.45,2,   4493,-999.000,  -999.0,  1.1144
     32WC018_1,  PRS2,     2,  1,      2,      2,2,19900612,1524, 22.7383,-158.0233, 4780,   4597.9,   1.4985,  34.6877,2,  34.6870,2,    150.1,2,    151.0,2,   148.59,2,    36.00,2,     2.46,2,   4595,-999.000,  -999.0,  1.1122
     32WC018_1,  PRS2,     2,  1,      1,      1,4,19900612,1524, 22.7383,-158.0233, 4780,   4764.4,   1.5176,  34.6879,2,  34.5991,4,    150.5,3,    131.3,4,   141.43,4,    36.62,4,     2.52,4,   4762,-999.000,  -999.0,  1.1111
     32WC018_1,  PRS2,     2,  2,     23,     23,2,19900612,2047, 22.7383,-157.9283, 4780,     13.0,  24.4602,  35.0692,2,  35.0688,2,    227.8,2,    211.7,2,     0.80,2,     0.05,2,     0.09,2,     12,-999.000,  -999.0, 24.4575
     32WC018_1,  PRS2,     2,  2,     22,     22,2,19900612,2047, 22.7383,-157.9283, 4780,     28.2,  24.4333,  35.0678,2,  35.0684,2,    228.3,2,    224.2,2,     0.61,2,     0.00,2,     0.09,2,     25,-999.000,  -999.0, 24.4273
     32WC018_1,  PRS2,     2,  2,     21,     21,2,19900612,2047, 22.7383,-157.9283, 4780,     53.3,  23.4254,  35.1090,2,  35.1052,2,    222.1,2,    217.6,2,     1.36,2,     0.00,2,     0.09,2,     51,-999.000,  -999.0, 23.4144
     32WC018_1,  PRS2,     2,  2,     20,     20,2,19900612,2047, 22.7383,-157.9283, 4780,     78.3,  22.4583,  35.1300,2,  35.1307,2,    207.3,2,    216.5,2,     0.61,2,     0.00,2,     0.09,2,     76,-999.000,  -999.0, 22.4426
     32WC018_1,  PRS2,     2,  2,     19,     19,2,19900612,2047, 22.7383,-157.9283, 4780,    115.8,  21.6474,  35.1856,2,  35.1854,2,    192.8,2,    206.4,2,     0.80,2,     0.38,2,     0.12,2,    113,-999.000,  -999.0, 21.6247
     32WC018_1,  PRS2,     2,  2,     18,     18,2,19900612,2047, 22.7383,-157.9283, 4780,    154.0,  20.3465,  35.1900,2,  35.1887,2,    175.0,2,    200.0,2,     1.55,2,     1.41,2,     0.17,2,    150,-999.000,  -999.0, 20.3177
     32WC018_1,  PRS2,     2,  2,     17,     17,2,19900612,2047, 22.7383,-157.9283, 4780,    194.7,  19.4614,  35.1434,2,  35.1505,2,    190.0,2,    204.5,2,     1.74,2,     1.46,2,     0.17,2,    190,-999.000,  -999.0, 19.4261
     32WC018_1,  PRS2,     2,  2,     16,     16,2,19900612,2047, 22.7383,-157.9283, 4780,    217.4,  18.2002,  34.9697,2,  34.9792,2,    178.4,2,    196.7,2,     2.68,2,     3.08,2,     0.31,2,    212,-999.000,  -999.0, 18.1626
     32WC018_1,  PRS2,     2,  2,     15,     15,2,19900612,2047, 22.7383,-157.9283, 4780,    264.1,  16.0164,  34.6997,2,  34.7076,2,    193.3,2,    196.8,2,     4.75,2,     5.24,2,     0.44,2,    259,-999.000,  -999.0, 15.9745
     32WC018_1,  PRS2,     2,  2,     14,     14,2,19900612,2047, 22.7383,-157.9283, 4780,    309.2,  13.9353,  34.4675,2,  34.4873,2,    162.2,2,    203.9,2,     7.01,2,     7.75,2,     0.61,2,    302,-999.000,  -999.0, 13.8908
     32WC018_1,  PRS2,     2,  2,     13,     13,2,19900612,2047, 22.7383,-157.9283, 4780,    354.1,  11.8151,  34.2188,2,  34.2242,2,    175.1,2,    165.8,2,    14.17,2,    15.07,2,     1.13,2,    347,-999.000,  -999.0, 11.7694
     32WC018_1,  PRS2,     2,  2,     12,     12,2,19900612,2047, 22.7383,-157.9283, 4780,    385.0,  10.5854,  34.1746,2,  34.1778,2,    158.5,2,    159.2,2,    19.07,2,    18.46,2,     1.38,2,    378,-999.000,  -999.0, 10.5391
     32WC018_1,  PRS2,     2,  2,     11,     11,2,19900612,2047, 22.7383,-157.9283, 4780,    424.9,   9.0012,  34.1054,2,  34.1050,2,    180.9,2,    160.5,2,    27.17,2,    21.71,2,     1.58,2,    417,-999.000,  -999.0,  8.9549
     32WC018_1,  PRS2,     2,  2,     10,     10,2,19900612,2047, 22.7383,-157.9283, 4780,    493.9,   7.1282,  34.0590,2,  34.0592,2,    126.6,2,    123.2,2,    46.38,2,    28.99,2,     2.04,2,    487,-999.000,  -999.0,  7.0812
     32WC018_1,  PRS2,     2,  2,      9,      9,2,19900612,2047, 22.7383,-157.9283, 4780,    536.4,   6.3469,  34.0560,2,  34.0558,2,    103.1,2,     96.5,2,    57.68,2,    32.75,2,     2.34,2,    529,-999.000,  -999.0,  6.2989
     32WC018_1,  PRS2,     2,  2,      8,      8,2,19900612,2047, 22.7383,-157.9283, 4780,    578.0,   5.8725,  34.1117,2,  34.1104,2,     63.2,2,     64.6,2,    68.04,2,    36.38,2,     2.60,2,    569,-999.000,  -999.0,  5.8226
     32WC018_1,  PRS2,     2,  2,      7,      7,3,19900612,2047, 22.7383,-157.9283, 4780,    607.1,   5.5334,  34.1741,2,  34.1723,2,     47.3,2,     49.2,2,    76.51,2,    38.27,2,     2.77,2,    598,-999.000,  -999.0,  5.4823
     32WC018_1,  PRS2,     2,  2,      6,      6,2,19900612,2047, 22.7383,-157.9283, 4780,    664.6,   4.9906,  34.2269,2,  34.2266,2,     31.9,2,     35.2,2,    88.37,2,    40.40,2,     2.91,2,    656,-999.000,  -999.0,  4.9372
     32WC018_1,  PRS2,     2,  2,      5,      5,2,19900612,2047, 22.7383,-157.9283, 4780,    738.1,   4.8063,  34.3370,2,  34.3354,2,     15.8,2,     23.9,2,    94.39,2,    41.77,2,     3.02,2,    728,-999.000,  -999.0,  4.7475
     32WC018_1,  PRS2,     2,  2,      4,      4,2,19900612,2047, 22.7383,-157.9283, 4780,    754.1,   4.7326,  34.3458,2,  34.3455,2,     17.2,2,     24.2,2,    95.89,2,    41.77,2,     3.04,2,    744,-999.000,  -999.0,  4.6729
     32WC018_1,  PRS2,     2,  2,      3,      3,2,19900612,2047, 22.7383,-157.9283, 4780,    823.4,   4.4575,  34.4038,2,  34.4036,2,     22.3,2,     29.0,2,   102.20,2,    42.15,2,     3.04,2,    812,-999.000,  -999.0,  4.3935
     32WC018_1,  PRS2,     2,  2,      2,      2,2,19900612,2047, 22.7383,-157.9283, 4780,    912.4,   4.2163,  34.4521,2,  34.4543,2,     31.3,2,     34.4,2,   106.62,2,    42.15,2,     3.02,2,    900,-999.000,  -999.0,  4.1464
     32WC018_1,  PRS2,     2,  2,      1,      1,2,19900612,2047, 22.7383,-157.9283, 4780,   1032.6,   3.9041,  34.4950,2,  34.4958,2,     40.8,2,     39.5,2,   113.20,2,    42.15,2,     3.01,2,   1021,-999.000,  -999.0,  3.8265
     32WC018_1,  PRS2,     2,  3,     12,     12,2,19900612,2359, 22.7550,-158.0033, 4780,     12.0,  24.6873,  35.0669,2,  35.0656,2,    220.5,1,   -999.0,9,  -999.00,9,  -999.00,9,  -999.00,9,     12,-999.000,  -999.0, 24.6847
     32WC018_1,  PRS2,     2,  3,     11,     11,2,19900612,2359, 22.7550,-158.0033, 4780,     26.5,  24.5978,  35.0609,2,  35.0596,2,    219.6,1,   -999.0,9,  -999.00,9,  -999.00,9,  -999.00,9,     25,-999.000,  -999.0, 24.5921
     32WC018_1,  PRS2,     2,  3,     10,     10,2,19900612,2359, 22.7550,-158.0033, 4780,     46.8,  23.8635,  35.0282,2,  35.0212,2,    215.4,1,   -999.0,9,  -999.00,9,  -999.00,9,  -999.00,9,     45,-999.000,  -999.0, 23.8537
     32WC018_1,  PRS2,     2,  3,      9,      9,2,19900612,2359, 22.7550,-158.0033, 4780,     77.7,  22.5606,  35.1611,2,  35.1600,2,    206.2,1,   -999.0,9,  -999.00,9,  -999.00,9,  -999.00,9,     75,-999.000,  -999.0, 22.5449
     32WC018_1,  PRS2,     2,  3,      8,      8,2,19900612,2359, 22.7550,-158.0033, 4780,    103.7,  21.8171,  35.1879,2,  35.1850,2,    193.9,1,   -999.0,9,  -999.00,9,  -999.00,9,  -999.00,9,    101,-999.000,  -999.0, 21.7967
     32WC018_1,  PRS2,     2,  3,      7,      7,2,19900612,2359, 22.7550,-158.0033, 4780,    129.0,  20.8285,  35.1863,2,  35.1864,2,    179.5,1,   -999.0,9,  -999.00,9,  -999.00,9,  -999.00,9,    126,-999.000,  -999.0, 20.8040
     32WC018_1,  PRS2,     2,  3,      6,      6,2,19900612,2359, 22.7550,-158.0033, 4780,    154.0,  20.1645,  35.1658,2,  35.1661,2,    184.1,1,   -999.0,9,  -999.00,9,  -999.00,9,  -999.00,9,    150,-999.000,  -999.0, 20.1358
     32WC018_1,  PRS2,     2,  3,      5,      5,2,19900612,2359, 22.7550,-158.0033, 4780,    179.6,  19.1749,  35.0896,2,-999.0000,5,    186.3,1,   -999.0,9,  -999.00,9,  -999.00,9,  -999.00,9,    175,-999.000,  -999.0, 19.1427
     32WC018_1,  PRS2,     2,  3,      4,      4,2,19900612,2359, 22.7550,-158.0033, 4780,    256.5,  15.1787,  34.5729,2,-999.0000,5,    183.6,1,   -999.0,9,  -999.00,9,  -999.00,9,  -999.00,9,    250,-999.000,  -999.0, 15.1396
     32WC018_1,  PRS2,     2,  3,      3,      3,2,19900612,2359, 22.7550,-158.0033, 4780,    506.2,   6.7950,  34.0571,2,  34.0523,2,    135.9,1,   -999.0,9,  -999.00,9,  -999.00,9,  -999.00,9,    498,-999.000,  -999.0,  6.7481
     32WC018_1,  PRS2,     2,  3,      2,      2,2,19900612,2359, 22.7550,-158.0033, 4780,    760.7,   4.7232,  34.3044,2,  34.3045,2,     22.1,1,   -999.0,9,  -999.00,9,  -999.00,9,  -999.00,9,    751,-999.000,  -999.0,  4.6630
     32WC018_1,  PRS2,     2,  3,      1,      1,2,19900612,2359, 22.7550,-158.0033, 4780,   1034.4,   3.9278,  34.4923,2,  34.4931,2,     41.7,1,   -999.0,9,  -999.00,9,  -999.00,9,  -999.00,9,   1023,   3.949,  1044.9,  3.8499