BOTTLE,20020809WHPSIObren
EXPOCODE,SECT_ID,STNNBR,CASTNO,SAMPNO,BTLNBR,BTLNBR_FLAG_W,DATE,TIME,LATITUDE,LONGITUDE,DEPTH,CTDPRS,CTDTMP,CTDSAL,CTDSAL_FLAG_W,SALNTY,SALNTY_FLAG_W,CTDOXY,CTDOXY_FLAG_W,OXYGEN,OXYGEN_FLAG_W,SILCAT,SILCAT_FLAG_W,NO2+NO3,NO2+NO3_FLAG_W,PHSPHT,PHSPHT_FLAG_W,CTDRAW,REVTMP,REVPRS,THETA
,,,,,,,,,,,,DBAR,ITS-90,PSS-78,,PSS-78,,UMOL/KG,,UMOL/KG,,UMOL/KG,,UMOL/KG,,UMOL/KG,,,DEG C,DBAR,ITS-90
     32WC018_1,  PRS2,     2,  9,     19,     19,2,19900613,1852, 22.7250,-157.8867, 4780,      6.0,  24.6424,  35.0220,2,  35.0273,2,    231.1,1,   -999.0,9,  -999.00,9,  -999.00,9,  -999.00,9,      4,-999.000,  -999.0, 24.6411
     32WC018_1,  PRS2,     2,  9,     18,     18,2,19900613,1852, 22.7250,-157.8867, 4780,     26.5,  24.6338,  35.0221,2,  35.0269,2,    231.1,1,   -999.0,9,  -999.00,9,  -999.00,9,  -999.00,9,     25,-999.000,  -999.0, 24.6281
     32WC018_1,  PRS2,     2,  9,     17,     17,2,19900613,1852, 22.7250,-157.8867, 4780,     46.4,  24.2292,  35.0361,2,  35.0395,2,    220.0,1,   -999.0,9,  -999.00,9,  -999.00,9,  -999.00,9,     44,-999.000,  -999.0, 24.2194
     32WC018_1,  PRS2,     2,  9,     16,     16,2,19900613,1852, 22.7250,-157.8867, 4780,     77.3,  22.6991,  35.1348,2,  35.1355,2,    214.7,1,   -999.0,9,  -999.00,9,  -999.00,9,  -999.00,9,     74,-999.000,  -999.0, 22.6835
     32WC018_1,  PRS2,     2,  9,     15,     15,2,19900613,1852, 22.7250,-157.8867, 4780,    102.9,  22.0248,  35.1957,2,  35.1932,2,    209.7,1,   -999.0,9,  -999.00,9,  -999.00,9,  -999.00,9,     99,-999.000,  -999.0, 22.0044
     32WC018_1,  PRS2,     2,  9,     14,     14,2,19900613,1852, 22.7250,-157.8867, 4780,    128.4,  21.0530,  35.1938,2,  35.1989,2,    186.1,1,   -999.0,9,  -999.00,9,  -999.00,9,  -999.00,9,    125,-999.000,  -999.0, 21.0284
     32WC018_1,  PRS2,     2,  9,     13,     13,2,19900613,1852, 22.7250,-157.8867, 4780,    153.8,  20.4516,  35.1652,2,  35.1698,2,    190.3,1,   -999.0,9,  -999.00,9,  -999.00,9,  -999.00,9,    149,-999.000,  -999.0, 20.4227
     32WC018_1,  PRS2,     2,  9,     12,     12,2,19900613,1852, 22.7250,-157.8867, 4780,    179.8,  19.8873,  35.1755,2,  35.2027,3,    196.6,1,   -999.0,9,  -999.00,9,  -999.00,9,  -999.00,9,    175,-999.000,  -999.0, 19.8542
     32WC018_1,  PRS2,     2,  9,     10,     10,2,19900613,1852, 22.7250,-157.8867, 4780,    255.7,  15.8820,  34.6990,2,  34.7089,2,    193.5,1,   -999.0,9,  -999.00,9,  -999.00,9,  -999.00,9,    250,-999.000,  -999.0, 15.8418
     32WC018_1,  PRS2,     2,  9,     11,     11,2,19900613,1852, 22.7250,-157.8867, 4780,    255.8,  15.9676,  34.7063,2,  34.7136,2,    191.6,1,   -999.0,9,  -999.00,9,  -999.00,9,  -999.00,9,    249,-999.000,  -999.0, 15.9272
     32WC018_1,  PRS2,     2,  9,      9,      9,2,19900613,1852, 22.7250,-157.8867, 4780,    307.0,  13.4071,  34.4110,2,  34.4379,4,    197.0,1,   -999.0,9,  -999.00,9,  -999.00,9,  -999.00,9,    300,-999.000,  -999.0, 13.3641
     32WC018_1,  PRS2,     2,  9,      8,      8,2,19900613,1852, 22.7250,-157.8867, 4780,    358.4,  10.3597,  34.1725,2,  34.1700,2,    141.8,1,   -999.0,9,  -999.00,9,  -999.00,9,  -999.00,9,    378,-999.000,  -999.0, 10.3172
     32WC018_1,  PRS2,     2,  9,      7,      7,2,19900613,1852, 22.7250,-157.8867, 4780,    408.9,   8.6655,  34.0984,2,  34.0989,2,    158.8,1,   -999.0,9,  -999.00,9,  -999.00,9,  -999.00,9,    401,-999.000,  -999.0,  8.6221
     32WC018_1,  PRS2,     2,  9,      6,      6,2,19900613,1852, 22.7250,-157.8867, 4780,    460.3,   7.6341,  34.0642,2,  34.0657,2,    148.0,1,   -999.0,9,  -999.00,9,  -999.00,9,  -999.00,9,    453,-999.000,  -999.0,  7.5886
     32WC018_1,  PRS2,     2,  9,      4,      4,2,19900613,1852, 22.7250,-157.8867, 4780,    504.6,   6.8653,  34.0622,2,  34.0627,2,    124.3,1,   -999.0,9,  -999.00,9,  -999.00,9,  -999.00,9,    497,-999.000,  -999.0,  6.8183
     32WC018_1,  PRS2,     2,  9,      5,      5,2,19900613,1852, 22.7250,-157.8867, 4780,    504.9,   6.8670,  34.0613,2,  34.0641,2,    124.6,1,   -999.0,9,  -999.00,9,  -999.00,9,  -999.00,9,    495,-999.000,  -999.0,  6.8199
     32WC018_1,  PRS2,     2,  9,      3,      3,2,19900613,1852, 22.7250,-157.8867, 4780,    607.5,   5.7961,  34.1315,2,  34.1275,2,     67.7,1,   -999.0,9,  -999.00,9,  -999.00,9,  -999.00,9,    599,-999.000,  -999.0,  5.7439
     32WC018_1,  PRS2,     2,  9,      2,      2,2,19900613,1852, 22.7250,-157.8867, 4780,    759.8,   4.8884,  34.2975,2,  34.2972,2,     15.7,1,   -999.0,9,  -999.00,9,  -999.00,9,  -999.00,9,    750,-999.000,  -999.0,  4.8273
     32WC018_1,  PRS2,     2,  9,      1,      1,2,19900613,1852, 22.7250,-157.8867, 4780,   1036.5,   4.0583,  34.4773,2,  34.4777,2,     35.2,1,   -999.0,9,  -999.00,9,  -999.00,9,  -999.00,9,   1024,   4.082,  1044.9,  3.9791
     32WC018_1,  PRS2,     2, 10,     12,     12,2,19900613,2152, 22.7133,-157.8783, 4780,      5.5,  24.6887,  35.0190,2,  35.0232,2,    216.6,1,   -999.0,9,  -999.00,9,  -999.00,9,  -999.00,9,      4,-999.000,  -999.0, 24.6876
     32WC018_1,  PRS2,     2, 10,     11,     11,2,19900613,2152, 22.7133,-157.8783, 4780,     25.9,  24.6479,  35.0188,2,  35.0189,2,    217.4,1,   -999.0,9,  -999.00,9,  -999.00,9,  -999.00,9,     24,-999.000,  -999.0, 24.6424
     32WC018_1,  PRS2,     2, 10,     10,     10,2,19900613,2152, 22.7133,-157.8783, 4780,     47.5,  23.8587,  35.0631,2,  35.0746,2,    214.2,1,   -999.0,9,  -999.00,9,  -999.00,9,  -999.00,9,     47,-999.000,  -999.0, 23.8487
     32WC018_1,  PRS2,     2, 10,      9,      9,2,19900613,2152, 22.7133,-157.8783, 4780,     78.8,  22.5513,  35.1456,2,  35.1416,2,    204.3,1,   -999.0,9,  -999.00,9,  -999.00,9,  -999.00,9,     76,-999.000,  -999.0, 22.5355
     32WC018_1,  PRS2,     2, 10,      8,      8,2,19900613,2152, 22.7133,-157.8783, 4780,    104.7,  21.8437,  35.1957,2,  35.2006,2,    200.9,1,   -999.0,9,  -999.00,9,  -999.00,9,  -999.00,9,    101,-999.000,  -999.0, 21.8231
     32WC018_1,  PRS2,     2, 10,      7,      7,2,19900613,2152, 22.7133,-157.8783, 4780,    130.1,  20.9631,  35.1952,2,  35.1952,2,    183.5,1,   -999.0,9,  -999.00,9,  -999.00,9,  -999.00,9,    126,-999.000,  -999.0, 20.9382
     32WC018_1,  PRS2,     2, 10,      6,      6,2,19900613,2152, 22.7133,-157.8783, 4780,    154.9,  20.4775,  35.1651,2,  34.4359,4,    188.4,1,   -999.0,9,  -999.00,9,  -999.00,9,  -999.00,9,    150,-999.000,  -999.0, 20.4484
     32WC018_1,  PRS2,     2, 10,      5,      5,2,19900613,2152, 22.7133,-157.8783, 4780,    177.5,  19.8926,  35.1797,2,  35.1835,2,    196.4,1,   -999.0,9,  -999.00,9,  -999.00,9,  -999.00,9,    173,-999.000,  -999.0, 19.8599
     32WC018_1,  PRS2,     2, 10,      4,      4,2,19900613,2152, 22.7133,-157.8783, 4780,    249.8,  16.3216,  34.7439,2,  34.7405,2,    197.4,1,   -999.0,9,  -999.00,9,  -999.00,9,  -999.00,9,    244,-999.000,  -999.0, 16.2815
     32WC018_1,  PRS2,     2, 10,      3,      3,2,19900613,2152, 22.7133,-157.8783, 4780,    503.5,   6.8902,  34.0592,2,  34.0575,2,    131.5,1,   -999.0,9,  -999.00,9,  -999.00,9,  -999.00,9,    496,-999.000,  -999.0,  6.8431
     32WC018_1,  PRS2,     2, 10,      2,      2,2,19900613,2152, 22.7133,-157.8783, 4780,    758.7,   4.7481,  34.3456,2,  34.3420,2,     19.8,1,   -999.0,9,  -999.00,9,  -999.00,9,  -999.00,9,    747,-999.000,  -999.0,  4.6879
     32WC018_1,  PRS2,     2, 10,      1,      1,2,19900613,2152, 22.7133,-157.8783, 4780,   1022.6,   3.9477,  34.4895,2,  34.4899,2,     41.8,1,   -999.0,9,  -999.00,9,  -999.00,9,  -999.00,9,   1011,   4.097,  1043.9,  3.8706
     32WC018_1,  PRS2,     2, 11,     23,     23,2,19900614,0051, 22.7017,-157.8767, 4780,      6.4,  24.7199,  35.0227,2,  35.0213,2,    217.7,1,   -999.0,9,  -999.00,9,  -999.00,9,  -999.00,9,      5,-999.000,  -999.0, 24.7186
     32WC018_1,  PRS2,     2, 11,     22,     22,2,19900614,0051, 22.7017,-157.8767, 4780,      6.5,  24.7199,  35.0223,2,  35.0212,2,    217.7,1,   -999.0,9,  -999.00,9,  -999.00,9,  -999.00,9,      6,-999.000,  -999.0, 24.7185
     32WC018_1,  PRS2,     2, 11,     20,     20,2,19900614,0051, 22.7017,-157.8767, 4780,     11.4,  24.7238,  35.0221,2,  35.0203,2,    217.4,1,   -999.0,9,  -999.00,9,  -999.00,9,  -999.00,9,     10,-999.000,  -999.0, 24.7214
     32WC018_1,  PRS2,     2, 11,     21,     21,2,19900614,0051, 22.7017,-157.8767, 4780,     11.5,  24.7240,  35.0222,2,  35.0211,2,    217.5,1,   -999.0,9,  -999.00,9,  -999.00,9,  -999.00,9,     10,-999.000,  -999.0, 24.7216
     32WC018_1,  PRS2,     2, 11,     18,     18,2,19900614,0051, 22.7017,-157.8767, 4780,     26.6,  24.7114,  35.0219,2,  34.4413,4,    217.2,1,   -999.0,9,  -999.00,9,  -999.00,9,  -999.00,9,     23,-999.000,  -999.0, 24.7057
     32WC018_1,  PRS2,     2, 11,     19,     19,2,19900614,0051, 22.7017,-157.8767, 4780,     26.7,  24.7079,  35.0216,2,  35.0227,2,    217.3,1,   -999.0,9,  -999.00,9,  -999.00,9,  -999.00,9,     25,-999.000,  -999.0, 24.7021
     32WC018_1,  PRS2,     2, 11,     16,     16,2,19900614,0051, 22.7017,-157.8767, 4780,     47.3,  23.9337,  35.0605,2,  35.0581,2,    219.9,1,   -999.0,9,  -999.00,9,  -999.00,9,  -999.00,9,     45,-999.000,  -999.0, 23.9237
     32WC018_1,  PRS2,     2, 11,     17,     17,2,19900614,0051, 22.7017,-157.8767, 4780,     47.4,  23.8828,  35.0635,2,  35.0417,4,    219.9,1,   -999.0,9,  -999.00,9,  -999.00,9,  -999.00,9,     45,-999.000,  -999.0, 23.8728
     32WC018_1,  PRS2,     2, 11,     14,     14,2,19900614,0051, 22.7017,-157.8767, 4780,     77.5,  22.3049,  35.1747,2,  35.1824,2,    203.0,1,   -999.0,9,  -999.00,9,  -999.00,9,  -999.00,9,     75,-999.000,  -999.0, 22.2894
     32WC018_1,  PRS2,     2, 11,     15,     15,3,19900614,0051, 22.7017,-157.8767, 4780,     77.7,  22.3044,  35.1736,2,  35.1743,2,    202.7,1,   -999.0,9,  -999.00,9,  -999.00,9,  -999.00,9,     75,-999.000,  -999.0, 22.2889
     32WC018_1,  PRS2,     2, 11,     13,     13,2,19900614,0051, 22.7017,-157.8767, 4780,     92.7,  21.9312,  35.2004,2,  35.2158,2,    205.2,1,   -999.0,9,  -999.00,9,  -999.00,9,  -999.00,9,     91,-999.000,  -999.0, 21.9129
     32WC018_1,  PRS2,     2, 11,     12,     12,2,19900614,0051, 22.7017,-157.8767, 4780,     93.0,  21.9256,  35.2005,2,  35.2011,2,    205.1,1,   -999.0,9,  -999.00,9,  -999.00,9,  -999.00,9,     90,-999.000,  -999.0, 21.9073
     32WC018_1,  PRS2,     2, 11,     11,     11,2,19900614,0051, 22.7017,-157.8767, 4780,    103.2,  21.5432,  35.1927,2,  35.1934,2,    191.3,1,   -999.0,9,  -999.00,9,  -999.00,9,  -999.00,9,    101,-999.000,  -999.0, 21.5231
     32WC018_1,  PRS2,     2, 11,     10,     10,2,19900614,0051, 22.7017,-157.8767, 4780,    103.3,  21.5313,  35.1957,2,  35.2004,2,    189.4,1,   -999.0,9,  -999.00,9,  -999.00,9,  -999.00,9,    101,-999.000,  -999.0, 21.5112
     32WC018_1,  PRS2,     2, 11,      8,      8,2,19900614,0051, 22.7017,-157.8767, 4780,    117.4,  21.0976,  35.1913,2,  35.1925,2,    179.1,1,   -999.0,9,  -999.00,9,  -999.00,9,  -999.00,9,    115,-999.000,  -999.0, 21.0751
     32WC018_1,  PRS2,     2, 11,      9,      9,2,19900614,0051, 22.7017,-157.8767, 4780,    117.9,  21.0772,  35.1919,2,  35.1942,2,    179.0,1,   -999.0,9,  -999.00,9,  -999.00,9,  -999.00,9,    116,-999.000,  -999.0, 21.0546
     32WC018_1,  PRS2,     2, 11,      6,      6,2,19900614,0051, 22.7017,-157.8767, 4780,    136.0,  20.5895,  35.1960,2,  35.1960,2,    189.2,1,   -999.0,9,  -999.00,9,  -999.00,9,  -999.00,9,    133,-999.000,  -999.0, 20.5638
     32WC018_1,  PRS2,     2, 11,      7,      7,2,19900614,0051, 22.7017,-157.8767, 4780,    136.2,  20.5870,  35.1945,2,  35.1957,2,    189.4,1,   -999.0,9,  -999.00,9,  -999.00,9,  -999.00,9,    132,-999.000,  -999.0, 20.5613
     32WC018_1,  PRS2,     2, 11,      5,      5,2,19900614,0051, 22.7017,-157.8767, 4780,    151.7,  20.0268,  35.1893,2,  35.1899,2,    180.6,1,   -999.0,9,  -999.00,9,  -999.00,9,  -999.00,9,    148,-999.000,  -999.0, 19.9987
     32WC018_1,  PRS2,     2, 11,      4,      4,2,19900614,0051, 22.7017,-157.8767, 4780,    183.3,  18.4385,  35.0027,2,  35.0011,2,    187.4,1,   -999.0,9,  -999.00,9,  -999.00,9,  -999.00,9,    179,-999.000,  -999.0, 18.4065
     32WC018_1,  PRS2,     2, 11,      3,      3,2,19900614,0051, 22.7017,-157.8767, 4780,    203.2,  17.1846,  34.8249,2,  34.8249,2,    173.8,1,   -999.0,9,  -999.00,9,  -999.00,9,  -999.00,9,    196,-999.000,  -999.0, 17.1508
     32WC018_1,  PRS2,     2, 11,      2,      2,2,19900614,0051, 22.7017,-157.8767, 4780,    499.2,   6.7902,  34.0544,2,  34.0545,2,    128.3,1,   -999.0,9,  -999.00,9,  -999.00,9,  -999.00,9,    491,-999.000,  -999.0,  6.7439
     32WC018_1,  PRS2,     2, 11,      1,      1,2,19900614,0051, 22.7017,-157.8767, 4780,   1030.2,   3.8735,  34.4993,2,  34.4997,2,     44.5,1,   -999.0,9,  -999.00,9,  -999.00,9,  -999.00,9,   1020,   3.895,  1040.8,  3.7963
     32WC018_1,  PRS2,     2, 12,     14,     14,2,19900614,0326, 22.6950,-157.8667, 4750,     87.7,  22.2803,  35.1737,2,  35.1717,2,    215.3,1,   -999.0,9,  -999.00,9,  -999.00,9,  -999.00,9,     86,-999.000,  -999.0, 22.2628
     32WC018_1,  PRS2,     2, 12,     13,     13,2,19900614,0326, 22.6950,-157.8667, 4750,    112.1,  21.4450,  35.1852,2,-999.0000,5,    190.9,1,   -999.0,9,  -999.00,9,  -999.00,9,  -999.00,9,    109,-999.000,  -999.0, 21.4233
     32WC018_1,  PRS2,     2, 12,     12,     12,2,19900614,0326, 22.6950,-157.8667, 4750,    124.0,  21.1490,  35.1898,2,-999.0000,5,    189.7,1,   -999.0,9,  -999.00,9,  -999.00,9,  -999.00,9,    122,-999.000,  -999.0, 21.1251
     32WC018_1,  PRS2,     2, 12,     11,     11,2,19900614,0326, 22.6950,-157.8667, 4750,    128.4,  21.0160,  35.1940,2,-999.0000,5,    190.2,1,   -999.0,9,  -999.00,9,  -999.00,9,  -999.00,9,    126,-999.000,  -999.0, 20.9914
     32WC018_1,  PRS2,     2, 12,     10,     10,2,19900614,0326, 22.6950,-157.8667, 4750,    133.6,  20.8819,  35.1957,2,-999.0000,5,    193.1,1,   -999.0,9,  -999.00,9,  -999.00,9,  -999.00,9,    131,-999.000,  -999.0, 20.8564
     32WC018_1,  PRS2,     2, 12,      9,      9,2,19900614,0326, 22.6950,-157.8667, 4750,    138.6,  20.6620,  35.2037,2,-999.0000,5,    195.7,1,   -999.0,9,  -999.00,9,  -999.00,9,  -999.00,9,    137,-999.000,  -999.0, 20.6358
     32WC018_1,  PRS2,     2, 12,      8,      8,2,19900614,0326, 22.6950,-157.8667, 4750,    144.2,  20.6196,  35.2057,2,-999.0000,5,    197.2,1,   -999.0,9,  -999.00,9,  -999.00,9,  -999.00,9,    142,-999.000,  -999.0, 20.5924
     32WC018_1,  PRS2,     2, 12,      7,      7,2,19900614,0326, 22.6950,-157.8667, 4750,    148.8,  20.4704,  35.1839,2,-999.0000,5,    196.9,1,   -999.0,9,  -999.00,9,  -999.00,9,  -999.00,9,    145,-999.000,  -999.0, 20.4424
     32WC018_1,  PRS2,     2, 12,      6,      6,2,19900614,0326, 22.6950,-157.8667, 4750,    153.1,  20.2354,  35.1639,2,  35.1676,2,    186.6,1,   -999.0,9,  -999.00,9,  -999.00,9,  -999.00,9,    150,-999.000,  -999.0, 20.2069
     32WC018_1,  PRS2,     2, 12,      5,      5,2,19900614,0326, 22.6950,-157.8667, 4750,    160.2,  20.0616,  35.1771,2,-999.0000,5,    192.2,1,   -999.0,9,  -999.00,9,  -999.00,9,  -999.00,9,    158,-999.000,  -999.0, 20.0319
     32WC018_1,  PRS2,     2, 12,      4,      4,2,19900614,0326, 22.6950,-157.8667, 4750,    166.0,  19.6805,  35.1466,2,-999.0000,5,    194.6,1,   -999.0,9,  -999.00,9,  -999.00,9,  -999.00,9,    162,-999.000,  -999.0, 19.6501
     32WC018_1,  PRS2,     2, 12,      3,      3,2,19900614,0326, 22.6950,-157.8667, 4750,    172.1,  19.3139,  35.1089,2,-999.0000,5,    192.7,1,   -999.0,9,  -999.00,9,  -999.00,9,  -999.00,9,    166,-999.000,  -999.0, 19.2828
     32WC018_1,  PRS2,     2, 12,      2,      2,2,19900614,0326, 22.6950,-157.8667, 4750,    182.8,  18.8007,  35.0560,2,-999.0000,5,    195.7,1,   -999.0,9,  -999.00,9,  -999.00,9,  -999.00,9,    177,-999.000,  -999.0, 18.7683
     32WC018_1,  PRS2,     2, 12,      1,      1,2,19900614,0326, 22.6950,-157.8667, 4750,    208.7,  17.0403,  34.8117,2,-999.0000,5,    186.0,1,   -999.0,9,  -999.00,9,  -999.00,9,  -999.00,9,    201,-999.000,  -999.0, 17.0059