BOTTLE,20020809WHPSIObren
EXPOCODE,SECT_ID,STNNBR,CASTNO,SAMPNO,BTLNBR,BTLNBR_FLAG_W,DATE,TIME,LATITUDE,LONGITUDE,DEPTH,CTDPRS,CTDTMP,CTDSAL,CTDSAL_FLAG_W,SALNTY,SALNTY_FLAG_W,CTDOXY,CTDOXY_FLAG_W,OXYGEN,OXYGEN_FLAG_W,SILCAT,SILCAT_FLAG_W,NO2+NO3,NO2+NO3_FLAG_W,PHSPHT,PHSPHT_FLAG_W,CTDRAW,REVTMP,REVPRS,THETA
,,,,,,,,,,,,DBAR,ITS-90,PSS-78,,PSS-78,,UMOL/KG,,UMOL/KG,,UMOL/KG,,UMOL/KG,,UMOL/KG,,,DEG C,DBAR,ITS-90
     32WC018_1,  PRS2,     2,  4,     12,     12,4,19900613,0300, 22.7417,-157.9967, 4750,     11.5,  24.7532,  35.0730,2,  35.0718,2,    225.8,1,   -999.0,9,  -999.00,9,  -999.00,9,  -999.00,9,      9,-999.000,  -999.0, 24.7508
     32WC018_1,  PRS2,     2,  4,     11,     11,2,19900613,0300, 22.7417,-157.9967, 4750,     27.3,  24.6110,  35.0478,2,  35.0495,2,    222.6,1,   -999.0,9,  -999.00,9,  -999.00,9,  -999.00,9,     26,-999.000,  -999.0, 24.6052
     32WC018_1,  PRS2,     2,  4,     10,     10,2,19900613,0300, 22.7417,-157.9967, 4750,     47.4,  23.9056,  35.0118,2,  35.0226,2,    225.1,1,   -999.0,9,  -999.00,9,  -999.00,9,  -999.00,9,     46,-999.000,  -999.0, 23.8957
     32WC018_1,  PRS2,     2,  4,      9,      9,2,19900613,0300, 22.7417,-157.9967, 4750,     78.1,  22.6412,  35.1460,2,  35.1336,2,    209.7,1,   -999.0,9,  -999.00,9,  -999.00,9,  -999.00,9,     75,-999.000,  -999.0, 22.6254
     32WC018_1,  PRS2,     2,  4,      8,      8,2,19900613,0300, 22.7417,-157.9967, 4750,    104.0,  21.9501,  35.1850,2,  35.1835,2,    195.5,1,   -999.0,9,  -999.00,9,  -999.00,9,  -999.00,9,    101,-999.000,  -999.0, 21.9296
     32WC018_1,  PRS2,     2,  4,      7,      7,2,19900613,0300, 22.7417,-157.9967, 4750,    129.4,  21.3313,  35.1861,2,  35.1869,2,    183.0,1,   -999.0,9,  -999.00,9,  -999.00,9,  -999.00,9,    126,-999.000,  -999.0, 21.3063
     32WC018_1,  PRS2,     2,  4,      6,      6,2,19900613,0300, 22.7417,-157.9967, 4750,    154.7,  20.6620,  35.2210,2,  35.2217,2,    191.9,1,   -999.0,9,  -999.00,9,  -999.00,9,  -999.00,9,    151,-999.000,  -999.0, 20.6327
     32WC018_1,  PRS2,     2,  4,      5,      5,2,19900613,0300, 22.7417,-157.9967, 4750,    180.2,  19.5649,  35.1339,2,  35.1339,2,    187.4,1,   -999.0,9,  -999.00,9,  -999.00,9,  -999.00,9,    175,-999.000,  -999.0, 19.5321
     32WC018_1,  PRS2,     2,  4,      4,      4,2,19900613,0300, 22.7417,-157.9967, 4750,    256.9,  15.0880,  34.5556,2,  34.5538,2,    176.4,1,   -999.0,9,  -999.00,9,  -999.00,9,  -999.00,9,    250,-999.000,  -999.0, 15.0490
     32WC018_1,  PRS2,     2,  4,      3,      3,2,19900613,0300, 22.7417,-157.9967, 4750,    507.3,   6.7830,  34.0546,2,  34.0535,2,    124.2,1,   -999.0,9,  -999.00,9,  -999.00,9,  -999.00,9,    497,-999.000,  -999.0,  6.7360
     32WC018_1,  PRS2,     2,  4,      2,      2,2,19900613,0300, 22.7417,-157.9967, 4750,    763.8,   4.7617,  34.2943,2,  34.2937,2,     21.0,1,   -999.0,9,  -999.00,9,  -999.00,9,  -999.00,9,    753,-999.000,  -999.0,  4.7011
     32WC018_1,  PRS2,     2,  4,      1,      1,2,19900613,0300, 22.7417,-157.9967, 4750,   1035.8,   4.0397,  34.4788,2,  34.4829,2,     35.2,1,   -999.0,9,  -999.00,9,  -999.00,9,  -999.00,9,   1023,   4.055,  1044.6,  3.9607
     32WC018_1,  PRS2,     2,  5,     23,     23,2,19900613,0602, 22.7183,-157.9617, 4750,      5.2,  24.6345,  35.0700,2,  35.0667,2,    231.4,2,    210.6,2,  -999.00,5,  -999.00,5,  -999.00,5,      5,-999.000,  -999.0, 24.6334
     32WC018_1,  PRS2,     2,  5,     22,     22,2,19900613,0602, 22.7183,-157.9617, 4750,      5.2,  24.6325,  35.0700,2,  35.0668,2,    231.4,2,   -999.0,5,     1.36,2,     0.00,2,     0.09,2,      5,-999.000,  -999.0, 24.6313
     32WC018_1,  PRS2,     2,  5,     21,     21,2,19900613,0602, 22.7183,-157.9617, 4750,     15.1,  24.6386,  35.0692,2,  35.0675,2,    231.5,2,    213.5,2,  -999.00,5,  -999.00,5,  -999.00,5,     14,-999.000,  -999.0, 24.6354
     32WC018_1,  PRS2,     2,  5,     19,     19,2,19900613,0602, 22.7183,-157.9617, 4750,     26.0,  24.6362,  35.0670,2,  35.0645,2,    231.7,2,    210.8,2,  -999.00,5,  -999.00,5,  -999.00,5,     25,-999.000,  -999.0, 24.6306
     32WC018_1,  PRS2,     2,  5,     20,     20,2,19900613,0602, 22.7183,-157.9617, 4750,     26.2,  24.6343,  35.0664,2,  35.0635,2,    231.6,2,   -999.0,5,     0.80,2,     0.00,2,     0.09,2,     25,-999.000,  -999.0, 24.6287
     32WC018_1,  PRS2,     2,  5,     18,     18,2,19900613,0602, 22.7183,-157.9617, 4750,     35.1,  24.6050,  35.0622,2,  35.0587,2,    254.2,2,    211.2,2,     0.80,2,     0.00,2,     0.10,2,     34,-999.000,  -999.0, 24.5975
     32WC018_1,  PRS2,     2,  5,     17,     17,2,19900613,0602, 22.7183,-157.9617, 4750,     45.6,  23.8744,  35.0233,2,  35.0244,2,    222.9,2,    216.9,2,     0.80,2,     0.03,2,     0.09,2,     44,-999.000,  -999.0, 23.8649
     32WC018_1,  PRS2,     2,  5,     16,     16,2,19900613,0602, 22.7183,-157.9617, 4750,     60.7,  23.4426,  35.1177,2,  35.1161,2,    222.7,2,    218.8,2,     0.80,2,     0.00,2,     0.09,2,     59,-999.000,  -999.0, 23.4300
     32WC018_1,  PRS2,     2,  5,     15,     15,3,19900613,0602, 22.7183,-157.9617, 4750,     76.0,  22.9245,  35.1254,2,  35.1216,2,    214.5,2,    218.3,2,     0.99,2,     0.00,2,     0.09,2,     74,-999.000,  -999.0, 22.9090
     32WC018_1,  PRS2,     2,  5,     14,     14,4,19900613,0602, 22.7183,-157.9617, 4750,     86.7,  22.4596,  35.1638,2,-999.0000,5,    213.9,2,   -999.0,5,  -999.00,5,  -999.00,5,  -999.00,5,     85,-999.000,  -999.0, 22.4422
     32WC018_1,  PRS2,     2,  5,     13,     13,2,19900613,0602, 22.7183,-157.9617, 4750,     96.7,  22.2234,  35.1639,2,  35.1613,2,    206.9,2,    215.5,2,     0.99,2,     0.00,2,     0.09,2,     95,-999.000,  -999.0, 22.2041
     32WC018_1,  PRS2,     2,  5,     12,     12,2,19900613,0602, 22.7183,-157.9617, 4750,    106.9,  22.0896,  35.1770,2,  35.1762,2,    201.8,2,    213.8,2,     0.99,2,     0.00,2,     0.10,2,    105,-999.000,  -999.0, 22.0684
     32WC018_1,  PRS2,     2,  5,     11,     11,2,19900613,0602, 22.7183,-157.9617, 4750,    117.2,  21.9641,  35.1843,2,  35.1822,2,    201.3,2,    212.1,2,     0.99,2,     0.00,2,     0.12,2,    115,-999.000,  -999.0, 21.9409
     32WC018_1,  PRS2,     2,  5,     10,     10,2,19900613,0602, 22.7183,-157.9617, 4750,    127.1,  21.6157,  35.1863,2,  35.1836,2,    191.1,2,    205.0,2,     1.74,2,     0.43,2,     0.15,2,    125,-999.000,  -999.0, 21.5908
     32WC018_1,  PRS2,     2,  5,      9,      9,2,19900613,0602, 22.7183,-157.9617, 4750,    137.2,  21.5139,  35.1903,2,  35.1899,2,    187.3,2,    203.8,2,     1.17,2,     0.53,2,     0.15,2,    136,-999.000,  -999.0, 21.4872
     32WC018_1,  PRS2,     2,  5,      8,      8,2,19900613,0602, 22.7183,-157.9617, 4750,    144.4,  21.2392,  35.2020,2,  35.1982,2,    185.9,2,    202.9,2,  -999.00,5,  -999.00,5,  -999.00,5,    142,-999.000,  -999.0, 21.2114
     32WC018_1,  PRS2,     2,  5,      7,      7,2,19900613,0602, 22.7183,-157.9617, 4750,    154.2,  20.8594,  35.1979,2,  35.1976,2,    187.1,2,    197.6,2,     1.36,2,     0.75,2,     0.17,2,    150,-999.000,  -999.0, 20.8300
     32WC018_1,  PRS2,     2,  5,      6,      6,2,19900613,0602, 22.7183,-157.9617, 4750,    165.6,  20.2823,  35.1484,2,  35.1469,2,    184.3,2,    195.1,2,  -999.00,5,  -999.00,5,  -999.00,5,    162,-999.000,  -999.0, 20.2514
     32WC018_1,  PRS2,     2,  5,      5,      5,2,19900613,0602, 22.7183,-157.9617, 4750,    181.8,  19.4154,  35.1238,2,  34.3178,4,    188.7,3,    199.2,2,     1.84,2,     1.93,2,     0.22,2,    178,-999.000,  -999.0, 19.3825
     32WC018_1,  PRS2,     2,  5,      4,      4,2,19900613,0602, 22.7183,-157.9617, 4750,    192.7,  18.8086,  35.0562,2,  34.3173,4,    190.4,3,    179.4,3,  -999.00,5,  -999.00,5,  -999.00,5,    187,-999.000,  -999.0, 18.7744
     32WC018_1,  PRS2,     2,  5,      3,      3,2,19900613,0602, 22.7183,-157.9617, 4750,    207.5,  18.0284,  34.9575,2,  34.9616,2,    187.0,2,    198.3,2,     3.44,2,     3.03,2,     0.30,2,    201,-999.000,  -999.0, 17.9927
     32WC018_1,  PRS2,     2,  5,      2,      2,2,19900613,0602, 22.7183,-157.9617, 4750,    510.0,   7.2361,  34.0583,2,  34.0562,2,    144.5,2,    129.0,2,  -999.00,5,  -999.00,5,  -999.00,5,    501,-999.000,  -999.0,  7.1870
     32WC018_1,  PRS2,     2,  5,      1,      1,2,19900613,0602, 22.7183,-157.9617, 4750,   1052.0,   3.9931,  34.4874,2,  34.4849,2,     37.2,2,     39.8,2,  -999.00,5,  -999.00,5,  -999.00,5,   1040,-999.000,  -999.0,  3.9132
     32WC018_1,  PRS2,     2,  6,     16,     16,2,19900613,0908, 22.7350,-157.9233, 4750,     31.7,  24.5959,  35.0378,2,-999.0000,5,    245.1,2,   -999.0,5,  -999.00,5,  -999.00,5,  -999.00,5,     27,-999.000,  -999.0, 24.5892
     32WC018_1,  PRS2,     2,  6,     15,     15,2,19900613,0908, 22.7350,-157.9233, 4750,    204.5,  18.3159,  34.9944,2,  34.9958,2,    187.7,2,    202.1,2,  -999.00,5,  -999.00,5,  -999.00,5,    200,-999.000,  -999.0, 18.2803
     32WC018_1,  PRS2,     2,  6,     14,     14,2,19900613,0908, 22.7350,-157.9233, 4750,    230.2,  17.1159,  34.8161,2,  34.8159,2,    181.7,2,    193.1,2,     4.75,2,     4.48,2,     0.40,2,    225,-999.000,  -999.0, 17.0777
     32WC018_1,  PRS2,     2,  6,     13,     13,2,19900613,0908, 22.7350,-157.9233, 4750,    240.1,  16.6928,  34.7638,2,  34.7665,2,    184.4,2,    192.2,2,  -999.00,5,  -999.00,5,  -999.00,5,    234,-999.000,  -999.0, 16.6537
     32WC018_1,  PRS2,     2,  6,     12,     12,2,19900613,0908, 22.7350,-157.9233, 4750,    257.6,  16.0793,  34.7124,2,  34.7358,3,    205.2,3,    200.7,2,     4.85,2,     4.77,2,     0.41,2,    252,-999.000,  -999.0, 16.0384
     32WC018_1,  PRS2,     2,  6,     11,     11,2,19900613,0908, 22.7350,-157.9233, 4750,    281.9,  14.9264,  34.5885,2,  34.5917,2,    202.6,2,    203.9,2,     5.88,2,     6.16,2,     0.50,2,    276,-999.000,  -999.0, 14.8839
     32WC018_1,  PRS2,     2,  6,     10,     10,2,19900613,0908, 22.7350,-157.9233, 4750,    308.2,  13.3747,  34.4118,2,  34.4106,2,    204.0,2,    201.3,2,     8.52,2,     9.12,2,     0.70,2,    302,-999.000,  -999.0, 13.3315
     32WC018_1,  PRS2,     2,  6,      9,      9,2,19900613,0908, 22.7350,-157.9233, 4750,    333.9,  11.7238,  34.2130,2,  34.2149,2,    151.2,2,    159.2,2,    15.11,2,    15.77,2,     1.27,2,    327,-999.000,  -999.0, 11.6810
     32WC018_1,  PRS2,     2,  6,      8,      8,2,19900613,0908, 22.7350,-157.9233, 4750,    361.6,  10.7313,  34.1817,2,  34.1799,2,    152.2,2,    155.5,2,    19.45,2,    18.46,2,     1.41,2,    353,-999.000,  -999.0, 10.6875
     32WC018_1,  PRS2,     2,  6,      7,      7,2,19900613,0908, 22.7350,-157.9233, 4750,    405.6,   9.5433,  34.1288,2,  34.1279,2,    182.2,2,    164.3,2,    23.78,2,    20.21,2,     1.50,2,    397,-999.000,  -999.0,  9.4975
     32WC018_1,  PRS2,     2,  6,      6,      6,2,19900613,0908, 22.7350,-157.9233, 4750,    508.2,   6.8652,  34.0595,2,  34.0603,2,    119.2,2,    114.4,2,    50.15,2,    30.12,2,     2.28,2,    499,-999.000,  -999.0,  6.8178
     32WC018_1,  PRS2,     2,  6,      5,      5,2,19900613,0908, 22.7350,-157.9233, 4750,    610.0,   5.5027,  34.1789,2,  34.1775,2,     45.4,2,     46.7,2,    77.44,2,    38.14,2,     2.80,2,    601,-999.000,  -999.0,  5.4516
     32WC018_1,  PRS2,     2,  6,      4,      4,2,19900613,0908, 22.7350,-157.9233, 4750,    711.2,   4.8982,  34.2912,2,  34.2904,2,     15.0,2,     24.2,2,    92.51,2,    41.27,2,     3.02,2,    701,-999.000,  -999.0,  4.8412
     32WC018_1,  PRS2,     2,  6,      3,      3,2,19900613,0908, 22.7350,-157.9233, 4750,    811.8,   4.5567,  34.3863,2,  34.3848,2,     19.7,2,     26.9,2,   100.32,2,    42.09,2,     3.05,2,    799,-999.000,  -999.0,  4.4931
     32WC018_1,  PRS2,     2,  6,      2,      2,2,19900613,0908, 22.7350,-157.9233, 4750,    916.8,   4.2510,  34.4443,2,  34.4431,2,     29.1,2,     34.8,2,   105.68,2,    42.02,2,     3.04,2,    905,-999.000,  -999.0,  4.1806
     32WC018_1,  PRS2,     2,  6,      1,      1,2,19900613,0908, 22.7350,-157.9233, 4750,   1033.8,   3.9392,  34.4904,2,  34.4900,2,     38.4,2,     38.6,2,   112.27,2,    42.02,2,     3.02,2,   1022,-999.000,  -999.0,  3.8612
     32WC018_1,  PRS2,     2,  7,     22,     22,2,19900613,1250, 22.7433,-157.9883, 4780,      3.3,  24.6680,  35.0624,2,-999.0000,5,    224.5,1,   -999.0,9,  -999.00,9,  -999.00,9,  -999.00,9,      3,-999.000,  -999.0, 24.6673
     32WC018_1,  PRS2,     2,  7,     21,     21,2,19900613,1250, 22.7433,-157.9883, 4780,     10.4,  24.6683,  35.0619,2,-999.0000,5,    225.5,1,   -999.0,9,  -999.00,9,  -999.00,9,  -999.00,9,     10,-999.000,  -999.0, 24.6660
     32WC018_1,  PRS2,     2,  7,     20,     20,2,19900613,1250, 22.7433,-157.9883, 4780,     20.7,  24.6756,  35.0611,2,  35.0600,2,    226.7,1,   -999.0,9,  -999.00,9,  -999.00,9,  -999.00,9,     20,-999.000,  -999.0, 24.6712
     32WC018_1,  PRS2,     2,  7,     19,     19,2,19900613,1250, 22.7433,-157.9883, 4780,     30.7,  24.6729,  35.0601,2,-999.0000,5,    228.0,1,   -999.0,9,  -999.00,9,  -999.00,9,  -999.00,9,     30,-999.000,  -999.0, 24.6663
     32WC018_1,  PRS2,     2,  7,     18,     18,2,19900613,1250, 22.7433,-157.9883, 4780,     40.9,  24.6290,  35.0574,2,-999.0000,5,    229.1,1,   -999.0,9,  -999.00,9,  -999.00,9,  -999.00,9,     40,-999.000,  -999.0, 24.6202
     32WC018_1,  PRS2,     2,  7,     17,     17,2,19900613,1250, 22.7433,-157.9883, 4780,     55.0,  23.3589,  35.1024,2,-999.0000,5,    223.7,1,   -999.0,9,  -999.00,9,  -999.00,9,  -999.00,9,     53,-999.000,  -999.0, 23.3475
     32WC018_1,  PRS2,     2,  7,     16,     16,2,19900613,1250, 22.7433,-157.9883, 4780,     85.4,  21.9429,  35.2034,2,-999.0000,5,    208.3,1,   -999.0,9,  -999.00,9,  -999.00,9,  -999.00,9,     83,-999.000,  -999.0, 21.9260
     32WC018_1,  PRS2,     2,  7,     15,     15,2,19900613,1250, 22.7433,-157.9883, 4780,    110.8,  21.3713,  35.2018,2,-999.0000,5,    191.8,1,   -999.0,9,  -999.00,9,  -999.00,9,  -999.00,9,    110,-999.000,  -999.0, 21.3498
     32WC018_1,  PRS2,     2,  7,     14,     14,2,19900613,1250, 22.7433,-157.9883, 4780,    122.3,  21.0608,  35.1946,2,-999.0000,5,    188.3,1,   -999.0,9,  -999.00,9,  -999.00,9,  -999.00,9,    122,-999.000,  -999.0, 21.0373
     32WC018_1,  PRS2,     2,  7,     13,     13,2,19900613,1250, 22.7433,-157.9883, 4780,    126.6,  20.8593,  35.1906,2,-999.0000,5,    184.2,1,   -999.0,9,  -999.00,9,  -999.00,9,  -999.00,9,    123,-999.000,  -999.0, 20.8351
     32WC018_1,  PRS2,     2,  7,     12,     12,2,19900613,1250, 22.7433,-157.9883, 4780,    131.8,  20.6752,  35.1969,2,-999.0000,5,    184.4,1,   -999.0,9,  -999.00,9,  -999.00,9,  -999.00,9,    129,-999.000,  -999.0, 20.6502
     32WC018_1,  PRS2,     2,  7,     11,     11,2,19900613,1250, 22.7433,-157.9883, 4780,    136.8,  20.5312,  35.2069,2,-999.0000,5,    188.1,1,   -999.0,9,  -999.00,9,  -999.00,9,  -999.00,9,    134,-999.000,  -999.0, 20.5055
     32WC018_1,  PRS2,     2,  7,     10,     10,2,19900613,1250, 22.7433,-157.9883, 4780,    142.2,  20.3268,  35.1895,2,-999.0000,5,    194.4,1,   -999.0,9,  -999.00,9,  -999.00,9,  -999.00,9,    140,-999.000,  -999.0, 20.3002
     32WC018_1,  PRS2,     2,  7,      9,      9,2,19900613,1250, 22.7433,-157.9883, 4780,    148.1,  20.1253,  35.1719,2,  35.1717,2,    195.6,1,   -999.0,9,  -999.00,9,  -999.00,9,  -999.00,9,    146,-999.000,  -999.0, 20.0978
     32WC018_1,  PRS2,     2,  7,      8,      8,2,19900613,1250, 22.7433,-157.9883, 4780,    153.3,  19.7269,  35.1517,2,-999.0000,5,    192.4,1,   -999.0,9,  -999.00,9,  -999.00,9,  -999.00,9,    150,-999.000,  -999.0, 19.6988
     32WC018_1,  PRS2,     2,  7,      7,      7,2,19900613,1250, 22.7433,-157.9883, 4780,    158.5,  19.4477,  35.1033,2,-999.0000,5,    192.2,1,   -999.0,9,  -999.00,9,  -999.00,9,  -999.00,9,    155,-999.000,  -999.0, 19.4190
     32WC018_1,  PRS2,     2,  7,      6,      6,2,19900613,1250, 22.7433,-157.9883, 4780,    164.7,  19.2923,  35.0889,2,-999.0000,5,    186.4,1,   -999.0,9,  -999.00,9,  -999.00,9,  -999.00,9,    161,-999.000,  -999.0, 19.2626
     32WC018_1,  PRS2,     2,  7,      5,      5,2,19900613,1250, 22.7433,-157.9883, 4780,    169.7,  19.0872,  35.0680,2,-999.0000,5,    179.7,1,   -999.0,9,  -999.00,9,  -999.00,9,  -999.00,9,    166,-999.000,  -999.0, 19.0569
     32WC018_1,  PRS2,     2,  7,      4,      4,2,19900613,1250, 22.7433,-157.9883, 4780,    179.8,  18.6429,  35.0326,2,-999.0000,5,    182.8,1,   -999.0,9,  -999.00,9,  -999.00,9,  -999.00,9,    175,-999.000,  -999.0, 18.6112
     32WC018_1,  PRS2,     2,  7,      3,      3,2,19900613,1250, 22.7433,-157.9883, 4780,    205.2,  17.4869,  34.8766,2,-999.0000,5,    188.4,1,   -999.0,9,  -999.00,9,  -999.00,9,  -999.00,9,    199,-999.000,  -999.0, 17.4523
     32WC018_1,  PRS2,     2,  7,      2,      2,2,19900613,1250, 22.7433,-157.9883, 4780,    541.4,   6.5702,  34.0538,2,  34.0517,2,    120.9,1,   -999.0,9,  -999.00,9,  -999.00,9,  -999.00,9,    533,-999.000,  -999.0,  6.5207
     32WC018_1,  PRS2,     2,  7,      1,      1,2,19900613,1250, 22.7433,-157.9883, 4780,   1063.3,   3.8390,  34.5009,2,  34.5023,2,     42.0,1,   -999.0,9,  -999.00,9,  -999.00,9,  -999.00,9,   1053,   3.858,  1069.5,  3.7594
     32WC018_1,  PRS2,     2,  8,     11,     11,2,19900613,1613, 22.7367,-157.8883, 4780,     71.8,  22.9881,  35.1188,2,-999.0000,5,    215.4,1,   -999.0,9,  -999.00,9,  -999.00,9,  -999.00,9,     69,-999.000,  -999.0, 22.9734
     32WC018_1,  PRS2,     2,  8,     10,     10,2,19900613,1613, 22.7367,-157.8883, 4780,     82.1,  22.3325,  35.1720,2,-999.0000,5,    212.9,1,   -999.0,9,  -999.00,9,  -999.00,9,  -999.00,9,     81,-999.000,  -999.0, 22.3160
     32WC018_1,  PRS2,     2,  8,      9,      9,2,19900613,1613, 22.7367,-157.8883, 4780,     92.3,  22.1314,  35.1867,2,-999.0000,5,    212.9,1,   -999.0,9,  -999.00,9,  -999.00,9,  -999.00,9,     89,-999.000,  -999.0, 22.1131
     32WC018_1,  PRS2,     2,  8,      8,      8,2,19900613,1613, 22.7367,-157.8883, 4780,    102.5,  21.7105,  35.1860,2,-999.0000,5,    206.9,1,   -999.0,9,  -999.00,9,  -999.00,9,  -999.00,9,     99,-999.000,  -999.0, 21.6904
     32WC018_1,  PRS2,     2,  8,      7,      7,2,19900613,1613, 22.7367,-157.8883, 4780,    113.1,  21.3243,  35.1999,2,-999.0000,5,    193.6,1,   -999.0,9,  -999.00,9,  -999.00,9,  -999.00,9,    110,-999.000,  -999.0, 21.3024
     32WC018_1,  PRS2,     2,  8,      6,      6,2,19900613,1613, 22.7367,-157.8883, 4780,    124.1,  20.9645,  35.1931,2,  35.1953,2,    188.4,1,   -999.0,9,  -999.00,9,  -999.00,9,  -999.00,9,    121,-999.000,  -999.0, 20.9407
     32WC018_1,  PRS2,     2,  8,      5,      5,2,19900613,1613, 22.7367,-157.8883, 4780,    154.9,  19.9559,  35.1859,2,-999.0000,5,    197.2,1,   -999.0,9,  -999.00,9,  -999.00,9,  -999.00,9,    151,-999.000,  -999.0, 19.9272
     32WC018_1,  PRS2,     2,  8,      4,      4,2,19900613,1613, 22.7367,-157.8883, 4780,    181.3,  18.6000,  35.0274,2,-999.0000,5,    190.2,1,   -999.0,9,  -999.00,9,  -999.00,9,  -999.00,9,    177,-999.000,  -999.0, 18.5682
     32WC018_1,  PRS2,     2,  8,      3,      3,2,19900613,1613, 22.7367,-157.8883, 4780,    201.5,  17.1705,  34.8454,2,-999.0000,5,    190.1,1,   -999.0,9,  -999.00,9,  -999.00,9,  -999.00,9,    195,-999.000,  -999.0, 17.1371
     32WC018_1,  PRS2,     2,  8,      2,      2,2,19900613,1613, 22.7367,-157.8883, 4780,    534.3,   6.4518,  34.0677,2,  34.0663,2,    107.2,1,   -999.0,9,  -999.00,9,  -999.00,9,  -999.00,9,    525,-999.000,  -999.0,  6.4035
     32WC018_1,  PRS2,     2,  8,      1,      1,2,19900613,1613, 22.7367,-157.8883, 4780,   1037.0,   3.9486,  34.4903,2,  34.4890,2,     40.5,1,   -999.0,9,  -999.00,9,  -999.00,9,  -999.00,9,   1026,   3.972,  1044.5,  3.8703