BOTTLE,20081218PRINUNIVRMK
EXPOCODE,STNNBR,CASTNO,SAMPNO,BTLNBR,BTLNBR_FLAG_W,DATE,LATITUDE,LONGITUDE,DEPTH,CTDPRS,CTDTMP,CTDSAL,CTDSAL_FLAG_W,SALNTY,SALNTY_FLAG_W,CTDOXY,CTDOXY_FLAG_W,OXYGEN,OXYGEN_FLAG_W,SILCAT,SILCAT_FLAG_W,NITRAT,NITRAT_FLAG_W,NITRIT,NITRIT_FLAG_W,PHSPHT,PHSPHT_FLAG_W,CFC-11,CFC-11_FLAG_W,CFC-12,CFC-12_FLAG_W,CFC113,CFC113_FLAG_W,SF6,SF6_FLAG_W,TCARBN,TCARBN_FLAG_W,ALKALI,ALKALI_FLAG_W,THETA
,,,,,,,,,METERS,DBARS,ITS-90,PSS-78,,PSS-78,,UMOL/KG,,UMOL/KG,,UMOL/KG,,UMOL/KG,,UMOL/KG,,UMOL/KG,,PMOL/KG,,PMOL/KG,,PMOL/KG,,FMOL/KG,,UMOL/KG,,UMOL/KG,,DEGC
  316N20020530,    33,  1,     29,     29,2,20020607, 78.8072,   1.8472, 2569,      2.3,   3.5411,  35.0519,2,  35.0513,2,    341.5,2,    341.9,2,     4.20,2,     7.13,2,     0.08,2,     0.53,2,    5.159,2,    2.809,2,    0.456,2,        -999,9,   2116.8,2,   2317.4,2,   3.5409
  316N20020530,    33,  1,     30,     30,2,20020607, 78.8072,   1.8472, 2569,      2.5,   3.5411,  35.0518,2,-999.0000,9,    341.6,2,   -999.0,9,  -999.00,9,  -999.00,9,  -999.00,9,  -999.00,9, -999.000,9, -999.000,9, -999.000,9,        -999,9,   -999.0,9,   -999.0,9,   3.5409
  316N20020530,    33,  1,     28,     28,2,20020607, 78.8072,   1.8472, 2569,     34.7,   3.4304,  35.0480,2,  35.0465,2,    340.7,2,    341.3,2,     4.01,2,     7.33,2,     0.08,2,     0.55,2, -999.000,9, -999.000,9, -999.000,9,        -999,9,   -999.0,9,   -999.0,9,   3.4282
  316N20020530,    33,  1,     27,     27,2,20020607, 78.8072,   1.8472, 2569,     60.2,   2.5913,  35.0473,2,  35.0467,2,    322.1,2,    323.5,2,     4.79,2,    10.85,2,     0.10,2,     0.75,2,    5.262,2,    2.794,2,    0.451,2,        -999,9,   2142.4,2,   2312.1,2,   2.5878
  316N20020530,    33,  1,     26,     26,2,20020607, 78.8072,   1.8472, 2569,     84.7,   2.3595,  35.0433,2,  35.0430,2,    321.9,2,    322.0,2,     4.79,2,    11.34,2,     0.10,2,     0.78,2, -999.000,9, -999.000,9, -999.000,9,        -999,9,   -999.0,9,   -999.0,9,   2.3547
  316N20020530,    33,  1,     25,     25,2,20020607, 78.8072,   1.8472, 2569,    115.3,   2.2389,  35.0402,2,  35.0408,2,    323.8,2,    322.1,2,     4.79,2,    11.43,2,     0.10,2,     0.78,2,    5.281,2,    2.813,2,    0.460,2,        -999,9,   2134.4,2,   2310.5,2,   2.2325
  316N20020530,    33,  1,     24,     24,2,20020607, 78.8072,   1.8472, 2569,    155.1,   2.0930,  35.0360,2,  35.0341,2,    320.5,2,    319.8,2,     4.89,2,    11.82,2,     0.07,2,     0.80,2, -999.000,9, -999.000,9, -999.000,9,  1.83452395,2,   -999.0,9,   -999.0,9,   2.0845
  316N20020530,    33,  1,     23,     23,2,20020607, 78.8072,   1.8472, 2569,    205.9,   1.8313,  35.0201,2,  35.0205,2,    319.0,2,    317.6,2,     4.98,2,    12.21,2,     0.03,2,     0.82,2,    5.142,2,    2.722,2,    0.429,2,        -999,9,   -999.0,9,   -999.0,9,   1.8204
  316N20020530,    33,  1,     22,     22,2,20020607, 78.8072,   1.8472, 2569,    249.8,   1.5216,  35.0017,2,  35.0015,2,    318.4,2,    318.3,2,     5.18,2,    12.31,2,     0.03,2,     0.83,2, -999.000,9, -999.000,9, -999.000,9,        -999,9,   -999.0,9,   -999.0,9,   1.5089
  316N20020530,    33,  1,     21,     21,2,20020607, 78.8072,   1.8472, 2569,    296.1,   1.1810,  34.9792,2,  34.9777,2,    318.8,2,    322.4,2,     5.37,2,    12.22,2,     0.05,2,     0.83,2,    5.141,2,    2.740,2,    0.440,2,  1.92242762,2,   2150.6,2,   2306.0,2,   1.1667
  316N20020530,    33,  1,     20,     20,2,20020607, 78.8072,   1.8472, 2569,    341.9,   0.9973,  34.9720,2,  34.9716,2,    322.4,2,    322.8,2,     5.47,2,    12.31,2,     0.04,2,     0.84,2, -999.000,9, -999.000,9, -999.000,9,        -999,9,   -999.0,9,   -999.0,9,   0.9812
  316N20020530,    33,  1,     19,     19,2,20020607, 78.8072,   1.8472, 2569,    387.1,   0.6335,  34.9515,2,  34.9525,2,    322.6,2,    321.5,2,     5.67,2,    12.51,2,     0.03,2,     0.86,2,    5.105,2,    2.661,2,    0.435,2,  1.96149848,2,   2153.6,2,   2303.9,2,   0.6163
  316N20020530,    33,  1,     18,     18,2,20020607, 78.8072,   1.8472, 2569,    457.4,   0.3168,  34.9376,2,  34.9370,2,    325.6,2,    325.0,2,     5.77,2,    12.51,2,     0.03,2,     0.86,2,    5.112,6,    2.657,6,    0.427,6,        -999,9,   -999.0,9,   -999.0,9,   0.2974
  316N20020530,    33,  1,     17,     17,2,20020607, 78.8072,   1.8472, 2569,    537.9,  -0.0695,  34.9170,2,  34.9189,2,    324.3,2,    327.3,2,     5.96,2,    12.70,2,     0.03,2,     0.87,2,    4.967,2,    2.597,2,    0.421,2,  2.21528006,2,   2156.0,2,   2304.7,2,  -0.0910
  316N20020530,    33,  1,     16,     16,2,20020607, 78.8072,   1.8472, 2569,    658.1,  -0.1462,  34.9192,2,  34.9179,2,    330.0,2,    326.4,2,     6.06,2,    12.80,2,     0.01,2,     0.88,2,    4.900,2,    2.586,2,    0.407,2,  2.66419342,2,   -999.0,9,   -999.0,9,  -0.1728
  316N20020530,    33,  1,     15,     15,2,20020607, 78.8072,   1.8472, 2569,    758.6,  -0.1676,  34.9208,2,  34.9208,2,    326.1,2,    325.3,2,     6.25,2,    12.90,2,     0.01,2,     0.89,2,    4.747,2,    2.525,2,    0.399,2,  3.12285734,2,   -999.0,9,   -999.0,9,  -0.1988
  316N20020530,    33,  1,     14,     14,2,20020607, 78.8072,   1.8472, 2569,    848.9,  -0.3432,  34.9106,2,  34.9084,2,    320.9,2,    321.9,2,     6.55,2,    13.19,2,     0.00,2,     0.90,2,    4.392,2,    2.305,2,    0.349,2,  3.13264518,2,   -999.0,9,   -999.0,9,  -0.3776
  316N20020530,    33,  1,     13,     13,2,20020607, 78.8072,   1.8472, 2569,    940.6,  -0.5806,  34.8966,2,  34.8978,2,    313.9,2,    314.5,2,     7.52,2,    13.68,2,     0.00,2,     0.94,2,    3.651,2,    1.876,2,    0.273,2,  3.32785183,2,   2158.1,2,   2301.1,2,  -0.6176
  316N20020530,    33,  1,     12,     12,2,20020607, 78.8072,   1.8472, 2569,   1041.2,  -0.6864,  34.8925,2,  34.8929,2,    317.9,2,    318.8,3,     7.04,3,    13.49,3,     0.00,3,     0.93,3,    3.969,2,    2.035,2,    0.312,2,  3.94268927,2,   -999.0,9,   2301.6,2,  -0.7274
  316N20020530,    33,  1,     11,     11,2,20020607, 78.8072,   1.8472, 2569,   1152.2,  -0.7396,  34.8945,2,  34.8939,2,    310.4,2,    310.3,2,     8.50,2,    14.07,2,     0.00,2,     0.96,2,    2.895,2,    1.476,2,    0.213,2,  3.85485421,2,   -999.0,9,   -999.0,9,  -0.7856
  316N20020530,    33,  1,     10,     10,2,20020607, 78.8072,   1.8472, 2569,   1263.3,  -0.7581,  34.8994,2,  34.8988,2,    307.3,2,    306.3,2,     9.28,2,    14.27,2,     0.00,2,     0.97,2,    2.333,2,    1.175,2,    0.159,2,   3.1912221,2,   -999.0,9,   -999.0,9,  -0.8096
  316N20020530,    33,  1,      9,      9,2,20020607, 78.8072,   1.8472, 2569,   1414.2,  -0.7758,  34.9043,2,  34.9040,2,    302.6,2,    302.2,2,     9.87,2,    14.46,2,     0.00,2,     0.99,2,    1.746,6,    0.871,6,    0.111,6,  1.41506243,2,   -999.0,9,   -999.0,9,  -0.8352
  316N20020530,    33,  1,      8,      8,2,20020607, 78.8072,   1.8472, 2569,   1566.5,  -0.7966,  34.9081,2,  34.9086,2,    300.7,2,    300.9,2,    10.65,2,    14.56,2,     0.00,2,     0.99,2,    1.246,2,    0.632,2,    0.073,2, 0.614818122,2,   2158.4,2,   2302.3,2,  -0.8643
  316N20020530,    33,  1,      7,      7,2,20020607, 78.8072,   1.8472, 2569,   1718.3,  -0.8236,  34.9088,2,  34.9093,2,    299.6,2,    300.0,2,    11.14,2,    14.76,2,     0.00,2,     1.00,2,    0.994,2,    0.511,2,    0.053,2, 0.331806432,2,   -999.0,9,   -999.0,9,  -0.8998
  316N20020530,    33,  1,      6,      6,2,20020607, 78.8072,   1.8472, 2569,   1920.3,  -0.8491,  34.9094,2,  34.9101,2,    299.5,2,    300.2,2,    11.43,2,    14.76,2,     0.00,2,     1.00,2,    0.806,2,    0.426,2,    0.042,2, 0.234216166,2,   2156.2,2,   2302.6,2,  -0.9373
  316N20020530,    33,  1,      5,      5,2,20020607, 78.8072,   1.8472, 2569,   2097.9,  -0.8664,  34.9107,2,  34.9097,2,    299.9,2,    300.4,2,    11.53,2,    14.85,2,     0.00,2,     1.01,2,    0.741,2,    0.389,2,    0.033,2, 0.165903167,2,   -999.0,9,   -999.0,9,  -0.9657
  316N20020530,    33,  1,      4,      4,2,20020607, 78.8072,   1.8472, 2569,   2264.6,  -0.8676,  34.9126,2,  34.9120,2,    300.0,2,    300.3,2,    11.73,2,    14.85,2,     0.00,2,     1.01,2,    0.635,2,    0.340,2,    0.036,2, 0.117107917,2,   -999.0,9,   -999.0,9,  -0.9780
  316N20020530,    33,  1,      3,      3,2,20020607, 78.8072,   1.8472, 2569,   2427.0,  -0.9041,  34.9096,2,  34.9106,2,    300.9,2,    301.4,2,    11.92,2,    14.85,2,     0.00,2,     1.00,2,    0.709,2,    0.370,2,    0.037,2, 0.126867043,2,   2157.3,2,   2303.5,2,  -1.0251
  316N20020530,    33,  1,      2,      2,2,20020607, 78.8072,   1.8472, 2569,   2536.9,  -0.9091,  34.9093,2,  34.9077,2,    301.9,2,    301.9,2,    11.92,2,    14.85,2,     0.00,2,     1.00,2, -999.000,9, -999.000,9, -999.000,9,        -999,9,   -999.0,9,   -999.0,9,  -1.0379
  316N20020530,    33,  1,      1,      1,2,20020607, 78.8072,   1.8472, 2569,   2537.0,  -0.9092,  34.9092,2,  34.9087,2,    302.0,2,    301.2,2,    11.82,2,    14.85,2,     0.00,2,     1.00,2,    0.695,2,    0.363,2,    0.033,2,        -999,9,   2147.6,2,   2303.3,2,  -1.0380
  316N20020530,    34,  1,     29,     29,2,20020607, 78.7518,   3.7503, 2359,      2.1,   1.2577,  34.4602,2,  34.3647,2,    399.2,2,    399.2,2,     2.54,2,     0.98,2,     0.04,2,     0.19,2,    6.292,2,    3.237,2,    0.554,2,  2.09903857,2,   -999.0,9,   2281.9,2,   1.2576
  316N20020530,    34,  1,     28,     28,2,20020607, 78.7518,   3.7503, 2359,     23.3,   3.1688,  34.9520,2,  34.9501,2,    354.1,2,    344.1,3,     3.32,2,     6.35,2,     0.08,2,     0.52,2,    5.431,2,    2.824,2,    0.466,2,        -999,9,   -999.0,9,   -999.0,9,   3.1673
  316N20020530,    34,  1,     27,     27,2,20020607, 78.7518,   3.7503, 2359,     43.3,   2.8807,  35.0219,2,  35.0073,2,    320.8,2,    319.1,2,     4.79,2,    10.65,2,     0.11,2,     0.74,2, -999.000,9, -999.000,9, -999.000,9,        -999,9,   -999.0,9,   -999.0,9,   2.8781
  316N20020530,    34,  1,     26,     26,2,20020607, 78.7518,   3.7503, 2359,     68.7,   2.1257,  34.9669,2,  34.9666,2,    319.4,2,    310.3,2,     5.08,2,    11.82,2,     0.10,2,     0.80,2,    4.972,2,    2.559,2,    0.406,2,  1.56137543,2,   2143.4,2,   2305.2,2,   2.1220
  316N20020530,    34,  1,     25,     25,3,20020607, 78.7518,   3.7503, 2359,     98.9,   1.9357,  34.9679,2,  34.9788,2,    315.2,2,    315.6,2,     5.08,2,    11.63,2,     0.08,2,     0.79,2, -999.000,9, -999.000,9, -999.000,9,        -999,9,   2145.0,2,   2305.8,2,   1.9305
  316N20020530,    34,  1,     24,     24,2,20020607, 78.7518,   3.7503, 2359,    134.2,   2.3149,  35.0269,2,  35.0200,2,    311.4,2,    317.7,2,     4.98,2,    11.73,2,     0.11,2,     0.80,2,    5.210,2,    2.705,2,    0.442,2,  1.80526858,2,   -999.0,9,   -999.0,9,   2.3073
  316N20020530,    34,  1,     23,     23,2,20020607, 78.7518,   3.7503, 2359,    184.5,   2.0064,  35.0083,2,  35.0104,2,    311.9,2,    319.5,2,     5.08,2,    11.63,2,     0.09,2,     0.80,2,    5.224,2,    2.724,2,    0.455,2,        -999,9,   -999.0,9,   -999.0,9,   1.9964
  316N20020530,    34,  1,     22,     22,2,20020607, 78.7518,   3.7503, 2359,    234.6,   2.0895,  35.0294,2,  35.0301,2,    306.4,2,    320.3,2,     5.08,2,    11.82,2,     0.10,2,     0.80,2,    5.427,2,    2.833,2,    0.479,2,  1.87356196,2,   2146.8,2,   2309.2,2,   2.0765
  316N20020530,    34,  1,     21,     21,2,20020607, 78.7518,   3.7503, 2359,    284.8,   1.7258,  34.9973,2,  34.9965,2,    310.7,2,    314.3,2,     5.28,2,    12.21,2,     0.03,2,     0.82,2,    4.955,2,    2.593,2,    0.416,2,        -999,9,   -999.0,9,   -999.0,9,   1.7108
  316N20020530,    34,  1,     20,     20,2,20020607, 78.7518,   3.7503, 2359,    335.3,   1.4329,  34.9808,2,  34.9792,2,    314.0,2,    314.2,2,     5.37,2,    12.31,2,     0.01,2,     0.83,2,    4.866,2,    2.502,2,    0.398,2,   1.5906363,2,   2148.0,2,   2304.7,2,   1.4159
  316N20020530,    34,  1,     19,     19,2,20020607, 78.7518,   3.7503, 2359,    385.6,   1.1833,  34.9637,2,  34.9646,2,    314.3,2,    313.2,2,     5.47,2,    12.41,2,     0.01,2,     0.84,2,    4.743,6,    2.446,6,    0.384,6,  1.48330887,2,   -999.0,9,   -999.0,9,   1.1644
  316N20020530,    34,  1,     18,     18,2,20020607, 78.7518,   3.7503, 2359,    445.8,   0.8618,  34.9471,2,  34.9466,2,    314.7,2,    312.1,2,     5.77,2,    12.51,2,     0.01,2,     0.85,2,    4.408,2,    2.229,2,    0.359,2,        -999,9,   -999.0,9,   -999.0,9,   0.8409
  316N20020530,    34,  1,     17,     17,2,20020607, 78.7518,   3.7503, 2359,    506.3,   0.8473,  34.9598,2,  34.9591,2,    315.7,2,    317.2,2,     5.77,2,    12.70,2,     0.02,2,     0.86,2, -999.000,9, -999.000,9, -999.000,9,  1.60041875,2,   -999.0,9,   -999.0,9,   0.8233
  316N20020530,    34,  1,     16,     16,2,20020607, 78.7518,   3.7503, 2359,    606.4,   0.3873,  34.9374,2,  34.9342,2,    316.2,2,    320.8,2,     5.96,2,    12.61,2,     0.03,2,     0.86,2,    4.694,2,    2.411,2,    0.392,2,  1.58093076,2,   2152.6,2,   2303.8,2,   0.3604
  316N20020530,    34,  1,     15,     15,2,20020607, 78.7518,   3.7503, 2359,    716.7,  -0.0684,  34.9141,2,  34.9149,2,    313.0,2,    312.3,2,     6.74,2,    13.10,2,     0.01,2,     0.89,2,    3.844,2,    1.907,2,    0.279,2,        -999,9,   2154.3,2,   2300.7,2,  -0.0982
  316N20020530,    34,  1,     14,     14,2,20020607, 78.7518,   3.7503, 2359,    827.4,  -0.3072,  34.9068,2,  34.9081,2,    312.0,2,    309.1,2,     7.33,2,    13.29,2,     0.00,2,     0.91,2,    3.133,2,    1.522,2,    0.216,2,  1.39554007,2,   -999.0,9,   -999.0,9,  -0.3408
  316N20020530,    34,  1,     13,     13,2,20020607, 78.7518,   3.7503, 2359,    948.8,  -0.4811,  34.9024,2,  34.9028,2,    306.7,2,    314.5,2,     7.52,2,    13.68,2,     0.00,2,     0.93,2,    3.755,2,    1.884,2,    0.281,2,  2.66422336,2,   2152.0,2,   2303.4,2,  -0.5193
  316N20020530,    34,  1,     12,     12,2,20020607, 78.7518,   3.7503, 2359,   1049.8,  -0.5991,  34.9016,2,  34.9020,2,    313.5,2,    308.0,2,     8.31,2,    13.97,2,     0.00,2,     0.95,2, -999.000,9, -999.000,9, -999.000,9,  2.18603073,2,   -999.0,9,   -999.0,9,  -0.6413
  316N20020530,    34,  1,     11,     11,2,20020607, 78.7518,   3.7503, 2359,   1150.5,  -0.6609,  34.9022,2,  34.9035,2,    309.0,2,    306.4,2,     8.89,2,    14.07,2,     0.00,2,     0.96,2,    2.445,6,    1.168,6,    0.151,6,  2.09819679,2,   -999.0,9,   -999.0,9,  -0.7076
  316N20020530,    34,  1,     10,     10,2,20020607, 78.7518,   3.7503, 2359,   1251.1,  -0.6199,  34.9129,2,  34.9128,2,    300.7,2,    300.3,2,     9.58,2,    14.27,2,     0.00,2,     0.98,2,    1.424,2,    0.707,2,    0.088,2, 0.839272907,2,   2150.9,2,   2304.4,2,  -0.6722
  316N20020530,    34,  1,      9,      9,2,20020607, 78.7518,   3.7503, 2359,   1352.5,  -0.6686,  34.9140,2,  34.9132,2,    298.8,2,    299.7,2,     9.97,2,    14.46,2,     0.00,2,     0.99,2,    1.299,2,    0.649,2,    0.080,2,  0.71240586,2,   -999.0,9,   -999.0,9,  -0.7259
  316N20020530,    34,  1,      8,      8,2,20020607, 78.7518,   3.7503, 2359,   1514.4,  -0.7277,  34.9151,2,  34.9145,2,    298.2,2,    298.4,2,    10.55,2,    14.56,2,     0.00,2,     1.00,2,    0.943,2,    0.487,2, -999.000,9, 0.370841048,2,   -999.0,9,   -999.0,9,  -0.7933
  316N20020530,    34,  1,      7,      7,2,20020607, 78.7518,   3.7503, 2359,   1656.2,  -0.7881,  34.9141,2,  34.9130,2,    298.1,2,    298.3,2,    11.04,2,    14.76,2,     0.00,2,     1.01,2,    0.801,2,    0.412,2,    0.041,2, 0.224456674,2,   2154.6,2,   2299.9,2,  -0.8611
  316N20020530,    34,  1,      6,      6,2,20020607, 78.7518,   3.7503, 2359,   1767.3,  -0.8367,  34.9124,2,  34.9116,2,    298.1,2,    299.0,2,    11.34,2,    14.85,2,     0.00,2,     1.01,2, -999.000,9, -999.000,9, -999.000,9, 0.204938916,2,   -999.0,9,   -999.0,9,  -0.9156
  316N20020530,    34,  1,      5,      5,2,20020607, 78.7518,   3.7503, 2359,   1893.8,  -0.8577,  34.9116,2,  34.9114,2,    298.3,2,    299.6,2,    11.63,2,    14.95,2,     0.00,2,     1.01,2,    0.757,2,    0.383,2,    0.034,2, 0.146384962,2,   -999.0,9,   -999.0,9,  -0.9441
  316N20020530,    34,  1,      4,      4,2,20020607, 78.7518,   3.7503, 2359,   2020.6,  -0.8637,  34.9125,2,  34.9122,2,    298.6,2,    298.6,2,    11.63,2,    14.85,2,     0.00,2,     1.01,2,    0.671,2,    0.348,2,    0.035,2, 0.165902858,2,   -999.0,9,   -999.0,9,  -0.9580
  316N20020530,    34,  1,      3,      3,2,20020607, 78.7518,   3.7503, 2359,   2098.3,  -0.8335,  34.9180,2,  34.9171,2,    298.6,2,    298.6,2,    11.43,2,    14.76,2,     0.00,2,     1.01,2,    0.533,2,    0.283,2,    0.027,2,0.0878306045,2,   2156.6,2,   2301.8,2,  -0.9334
  316N20020530,    34,  1,      2,      2,2,20020607, 78.7518,   3.7503, 2359,   2197.9,  -0.8624,  34.9149,2,  34.9145,2,    299.0,2,    299.2,2,    11.63,2,    14.76,2,     0.00,2,     1.01,2,    0.598,2,    0.320,2,    0.030,2, 0.156143599,2,   2155.7,2,   2305.5,2,  -0.9684
  316N20020530,    34,  1,      1,      1,2,20020607, 78.7518,   3.7503, 2359,   2321.0,  -0.8465,  34.9189,2,  34.9177,2,    299.7,2,    299.3,2,    11.53,2,    14.76,2,     0.00,2,     1.00,2,    0.489,2,    0.259,2, -999.000,9, 0.136625324,2,   2156.5,2,   2304.8,2,  -0.9612