BOTTLE,20081218PRINUNIVRMK
EXPOCODE,STNNBR,CASTNO,SAMPNO,BTLNBR,BTLNBR_FLAG_W,DATE,LATITUDE,LONGITUDE,DEPTH,CTDPRS,CTDTMP,CTDSAL,CTDSAL_FLAG_W,SALNTY,SALNTY_FLAG_W,CTDOXY,CTDOXY_FLAG_W,OXYGEN,OXYGEN_FLAG_W,SILCAT,SILCAT_FLAG_W,NITRAT,NITRAT_FLAG_W,NITRIT,NITRIT_FLAG_W,PHSPHT,PHSPHT_FLAG_W,CFC-11,CFC-11_FLAG_W,CFC-12,CFC-12_FLAG_W,CFC113,CFC113_FLAG_W,SF6,SF6_FLAG_W,TCARBN,TCARBN_FLAG_W,ALKALI,ALKALI_FLAG_W,THETA
,,,,,,,,,METERS,DBARS,ITS-90,PSS-78,,PSS-78,,UMOL/KG,,UMOL/KG,,UMOL/KG,,UMOL/KG,,UMOL/KG,,UMOL/KG,,PMOL/KG,,PMOL/KG,,PMOL/KG,,FMOL/KG,,UMOL/KG,,UMOL/KG,,DEGC
  316N20020530,   116,  1,     15,     15,2,20020623, 66.0063,   5.8008,  640,      3.8,  12.7752,  34.8110,2,  34.8170,2,    280.1,2,    281.1,2,     1.37,2,     0.39,2,     0.02,2,     0.09,2,    3.362,2,    1.884,2,    0.301,2,        -999,9,   2053.5,2,   2304.2,2,  12.7747
  316N20020530,   116,  1,     13,     13,2,20020623, 66.0063,   5.8008,  640,     37.8,   9.9766,  35.1929,7,  35.1976,2,    308.2,2,    308.2,2,     2.44,2,     4.49,2,     0.11,2,     0.42,2,    4.013,6,    2.171,6,    0.342,6,        -999,9,   2091.6,2,   2312.5,2,   9.9722
  316N20020530,   116,  1,     11,     11,2,20020623, 66.0063,   5.8008,  640,     84.9,   8.2612,  35.2557,2,  35.2573,2,    278.8,2,    278.8,2,     4.40,2,    10.65,2,     0.36,2,     0.68,2,    4.530,2,    2.374,2,    0.374,2,  1.77568027,2,   2132.7,2,   2308.6,2,   8.2525
  316N20020530,   116,  1,      9,      9,2,20020623, 66.0063,   5.8008,  640,    155.6,   7.4179,  35.2183,2,  35.2226,2,    280.3,2,    280.6,2,     5.08,2,    12.31,2,     0.07,2,     0.79,2,    4.081,2,    2.237,2,    0.342,2,  1.81475309,2,   2139.8,2,   2305.1,2,   7.4028
  316N20020530,   116,  1,      7,      7,2,20020623, 66.0063,   5.8008,  640,    245.8,   6.6970,  35.1770,2,  35.1789,2,    284.0,2,    283.3,2,     5.47,2,    13.09,2,     0.01,2,     0.84,2,    4.194,2,    2.249,2,    0.350,2,  1.91238266,2,   2143.6,2,   2298.6,2,   6.6744
  316N20020530,   116,  1,      5,      5,2,20020623, 66.0063,   5.8008,  640,    377.7,   4.2597,  35.0009,2,  34.9997,2,    294.3,2,    293.9,2,     6.06,2,    13.39,2,     0.00,2,     0.88,2,    4.403,2,    2.229,2,    0.368,2,  1.88336271,2,   2150.6,2,   2294.5,2,   4.2318
  316N20020530,   116,  1,      3,      3,2,20020623, 66.0063,   5.8008,  640,    508.1,   1.8008,  34.9263,2,  34.9289,2,    297.8,2,    298.1,2,     6.94,2,    14.07,2,     0.00,2,     0.93,2,    4.410,2,    2.234,2,    0.366,2,  1.69804344,2,   2159.4,2,   2289.4,2,   1.7728
  316N20020530,   116,  1,      1,      1,2,20020623, 66.0063,   5.8008,  640,    629.6,   0.5401,  34.9116,2,  34.9139,2,    297.4,2,    297.4,2,     8.70,2,    14.56,2,     0.01,2,     0.97,2,    3.361,2,    1.887,2,    0.252,2,  1.27842629,2,   2160.6,2,   2291.3,2,   0.5112
  316N20020530,   117,  1,     19,     19,2,20020623, 65.9998,   6.2858,  377,      4.4,  12.1722,  34.8271,2,  34.8305,2,    288.9,2,    289.2,2,     1.37,2,     0.39,2,     0.02,2,     0.11,2,    3.422,2,    1.920,2,    0.301,2,  1.67864865,2,   2055.1,2,   2305.1,2,  12.1716
  316N20020530,   117,  1,     17,     17,2,20020623, 65.9998,   6.2858,  377,     18.1,  10.6712,  34.8935,2,  34.9030,2,    295.5,2,    290.3,2,     1.86,2,     3.91,2,     0.25,2,     0.33,2,    3.730,2,    2.087,2,    0.327,2,        -999,9,   2085.6,2,   2306.2,2,  10.6690
  316N20020530,   117,  1,     15,     15,2,20020623, 65.9998,   6.2858,  377,     29.9,   9.2067,  35.0458,7,  35.0967,2,    280.5,2,    280.3,2,     1.95,2,     7.52,2,     0.46,2,     0.53,2,    3.877,2,    2.122,2,    0.342,2,  1.75637726,2,   -999.0,9,   -999.0,9,   9.2034
  316N20020530,   117,  1,     13,     13,2,20020623, 65.9998,   6.2858,  377,     70.0,   9.0677,  35.3284,2,  35.3297,2,    271.1,2,    271.2,2,     3.71,2,    11.53,2,     0.01,2,     0.72,2,    3.667,2,    2.060,2,    0.313,2,  1.73656074,2,   2135.5,2,   2313.1,2,   9.0601
  316N20020530,   117,  1,     11,     11,2,20020623, 65.9998,   6.2858,  377,    130.0,   8.4929,  35.2785,2,  35.2804,2,    272.7,2,    272.3,2,     4.69,2,    11.82,2,     0.01,2,     0.74,2,    3.830,2,    2.130,2,    0.329,2,  1.75613711,2,   -999.0,9,   -999.0,9,   8.4793
  316N20020530,   117,  1,      9,      9,2,20020623, 65.9998,   6.2858,  377,    175.4,   8.1859,  35.2708,2,  35.2747,2,    272.9,2,    273.6,2,     5.08,2,    12.11,2,     0.01,2,     0.77,2,    3.770,2,    2.117,2,    0.323,2,  1.80492635,2,   2140.7,2,   2308.2,2,   8.1678
  316N20020530,   117,  1,      7,      7,2,20020623, 65.9998,   6.2858,  377,    220.3,   7.6208,  35.2231,2,  35.2264,2,    275.9,2,    275.3,2,     5.28,2,    12.21,2,     0.01,2,     0.79,2,    4.046,2,    2.222,2,    0.341,2,  1.83426137,2,   -999.0,9,   -999.0,9,   7.5990
  316N20020530,   117,  1,      5,      5,2,20020623, 65.9998,   6.2858,  377,    270.0,   7.4261,  35.2297,2,  35.2327,2,    280.5,2,    280.6,2,     5.28,2,    12.60,2,     0.00,2,     0.81,2,    3.981,2,    2.264,2,    0.338,2,   1.8537661,2,   2141.9,2,   2306.1,2,   7.3997
  316N20020530,   117,  1,      3,      3,2,20020623, 65.9998,   6.2858,  377,    320.1,   6.9480,  35.1839,2,  35.1868,2,    278.3,2,    278.6,2,     5.96,2,    12.80,2,     0.02,2,     0.83,2,    4.106,6,    2.248,6,    0.331,6,  1.84407244,2,   -999.0,9,   -999.0,9,   6.9178
  316N20020530,   117,  1,      1,      1,2,20020623, 65.9998,   6.2858,  377,    368.6,   6.9112,  35.1795,2,  35.1854,2,    277.8,2,    278.1,2,     6.06,2,    12.80,2,     0.02,2,     0.84,2,    4.049,2,    2.267,2,    0.333,2,  1.85383137,2,   2143.5,2,   2303.9,2,   6.8764
  316N20020530,   118,  1,     19,     19,2,20020623, 66.0008,   7.5752,  401,      2.7,  12.6751,  35.0625,2,  35.0631,2,    276.5,2,    276.5,2,     0.98,2,     0.98,2,     0.04,2,     0.15,2,    3.481,2,    1.917,2,    0.289,2,  1.77593698,2,   2065.4,2,   2312.8,2,  12.6747
  316N20020530,   118,  1,     17,     17,2,20020623, 66.0008,   7.5752,  401,     25.7,  12.5240,  35.0608,7,  35.0804,2,    277.0,2,    285.2,2,     1.17,2,     1.86,2,     0.08,2,     0.20,2,    3.603,2,    1.969,2,    0.293,2,  1.66857864,2,   2071.1,2,   2310.9,2,  12.5206
  316N20020530,   118,  1,     15,     15,2,20020623, 66.0008,   7.5752,  401,     52.9,   8.4149,  35.2228,2,  35.2242,2,    277.7,2,    277.2,2,     3.03,2,    10.06,2,     0.06,2,     0.65,2,    4.074,2,    2.202,2,    0.317,2,  1.86353455,2,   -999.0,9,   -999.0,9,   8.4094
  316N20020530,   118,  1,     13,     13,2,20020623, 66.0008,   7.5752,  401,     83.1,   8.2042,  35.2321,2,  35.2212,2,    276.5,2,    277.2,2,     3.71,2,    10.75,2,     0.02,2,     0.69,2,    4.067,2,    2.214,2,    0.319,2,  1.85378197,2,   2132.1,2,   2305.4,2,   8.1957
  316N20020530,   118,  1,     11,     11,2,20020623, 66.0008,   7.5752,  401,    132.5,   7.7984,  35.2096,2,  35.2133,2,    277.2,2,    277.2,2,     4.20,2,    11.53,2,     0.02,2,     0.74,2,    4.115,2,    2.235,2,    0.313,2,  1.84403606,2,   -999.0,9,   -999.0,9,   7.7852
  316N20020530,   118,  1,      9,      9,2,20020623, 66.0008,   7.5752,  401,    192.8,   7.3599,  35.1793,2,  35.1775,2,    279.3,2,    278.7,2,     4.69,2,    11.82,2,     0.01,2,     0.77,2,    4.157,6,    2.243,6,    0.309,6,  1.86359933,2,   -999.0,9,   -999.0,9,   7.3413
  316N20020530,   118,  1,      7,      7,2,20020623, 66.0008,   7.5752,  401,    242.9,   7.1809,  35.1659,2,  35.1686,2,    281.2,2,    280.8,2,     4.69,2,    11.82,2,     0.01,2,     0.76,2,    4.207,2,    2.281,2,    0.314,2,  1.79531177,2,   2137.0,2,   2305.3,2,   7.1577
  316N20020530,   118,  1,      5,      5,2,20020623, 66.0008,   7.5752,  401,    292.3,   7.1712,  35.1755,2,  35.1782,2,    281.3,2,    281.5,2,     4.79,2,    11.82,2,     0.01,2,     0.78,2,    4.088,6,    2.248,6,    0.314,6,  1.83432718,2,   -999.0,9,   -999.0,9,   7.1432
  316N20020530,   118,  1,      3,      3,2,20020623, 66.0008,   7.5752,  401,    351.9,   7.0886,  35.1879,2,  35.1914,2,    279.7,2,    279.9,2,     4.98,2,    12.21,2,     0.01,2,     0.80,2,    4.192,2,    2.270,2,    0.308,2,  1.84406612,2,   2138.8,2,   2303.7,2,   7.0549
  316N20020530,   118,  1,      1,      1,2,20020623, 66.0008,   7.5752,  401,    396.8,   6.7639,  35.1707,2,  35.1745,2,    278.4,2,    278.7,2,     6.35,2,    12.80,2,     0.02,2,     0.85,2,    4.231,2,    2.295,2,    0.311,2,  1.85384641,2,   2143.6,2,   2303.1,2,   6.7268
  316N20020530,   119,  1,     19,     19,2,20020623, 66.0008,   8.8338,  340,      2.7,  12.0995,  34.7673,2,  34.7679,2,    283.6,2,    283.6,2,     0.98,2,     0.20,2,     0.00,2,     0.08,2,    3.572,2,    1.970,2,    0.320,2,   1.6592068,2,   2062.3,2,   2316.1,2,  12.0991
  316N20020530,   119,  1,     17,     17,2,20020623, 66.0008,   8.8338,  340,     23.6,  10.7276,  34.7751,2,  34.7811,2,    292.2,2,    293.4,2,     1.27,2,     1.47,2,     0.10,2,     0.17,2,    3.810,6,    2.118,6,    0.330,6,  1.73727005,2,   2073.1,2,   2302.0,2,  10.7248
  316N20020530,   119,  1,     15,     15,2,20020623, 66.0008,   8.8338,  340,     54.3,   7.9302,  35.0447,2,  35.0533,2,    276.7,2,    278.1,2,     2.93,2,     9.38,2,     0.02,2,     0.63,2,    4.151,2,    2.277,2,    0.384,2,  1.88328757,2,   2129.9,2,   2306.0,2,   7.9248
  316N20020530,   119,  1,     13,     13,2,20020623, 66.0008,   8.8338,  340,     78.9,   7.6394,  35.0737,2,  35.0769,2,    278.9,2,    280.4,2,     3.03,2,    10.16,2,     0.01,2,     0.65,2,    4.141,2,    2.265,2,    0.355,2,  1.89301228,2,   2131.2,2,   2303.4,2,   7.6317
  316N20020530,   119,  1,     11,     11,2,20020623, 66.0008,   8.8338,  340,    104.4,   7.5615,  35.1082,2,  35.1084,2,    280.9,2,    279.9,2,     3.42,2,    10.75,2,     0.01,2,     0.69,2,    4.138,2,    2.281,2,    0.352,2,  1.85393763,2,   2134.1,2,   2302.2,2,   7.5513
  316N20020530,   119,  1,      9,      9,2,20020623, 66.0008,   8.8338,  340,    154.5,   7.4420,  35.1373,2,  35.1391,2,    278.5,2,    279.2,2,     4.20,2,    11.53,2,     0.01,2,     0.74,2,    4.038,2,    2.239,2,    0.341,2,  1.81486588,2,   2137.8,2,   2304.8,2,   7.4270
  316N20020530,   119,  1,      7,      7,2,20020623, 66.0008,   8.8338,  340,    204.6,   7.1656,  35.1350,2,  35.1399,2,    279.7,2,    280.6,2,     4.59,2,    11.73,2,     0.01,2,     0.76,2,    4.232,6,    2.260,6,    0.347,6,  1.83437948,2,   -999.0,9,   -999.0,9,   7.1461
  316N20020530,   119,  1,      5,      5,2,20020623, 66.0008,   8.8338,  340,    244.6,   7.0935,  35.1417,2,  35.1429,2,    280.0,2,    279.4,2,     4.79,2,    11.92,2,     0.01,2,     0.77,2,    4.096,2,    2.246,2,    0.338,2,  1.89291928,2,   2139.8,2,   2305.0,2,   7.0703
  316N20020530,   119,  1,      3,      3,2,20020623, 66.0008,   8.8338,  340,    289.1,   7.0659,  35.1601,2,  35.1610,2,    277.2,2,    276.8,2,     5.76,2,    12.21,2,     0.01,2,     0.80,2,    4.099,2,    2.254,2,    0.325,2,  1.82459348,2,   -999.0,9,   -999.0,9,   7.0384
  316N20020530,   119,  1,      1,      1,2,20020623, 66.0008,   8.8338,  340,    335.3,   6.9788,  35.1568,2,  35.1586,2,    273.6,2,    273.7,2,     6.64,2,    12.51,2,     0.02,2,     0.83,2,    4.070,2,    2.247,2,    0.335,2,  1.79532514,2,   2142.7,2,   2304.3,2,   6.9470
  316N20020530,   120,  1,     17,     17,2,20020623, 66.0027,   9.9978,  277,      3.2,  12.1750,  33.9248,2,  33.9240,2,    282.9,2,    283.7,2,     1.08,2,     0.00,2,     0.00,2,     0.04,2,    3.589,2,    1.954,2,    0.279,2,        -999,9,   2049.4,2,   2283.0,2,  12.1746
  316N20020530,   120,  1,     15,     15,2,20020623, 66.0027,   9.9978,  277,     34.1,   9.4447,  34.9820,2,  34.9558,2,    305.2,2,    304.6,2,     1.17,2,     2.93,2,     0.18,2,     0.31,2,    4.126,2,    2.218,2,    0.323,2,        -999,9,   2089.3,2,   2308.3,2,   9.4409
  316N20020530,   120,  1,     13,     13,2,20020623, 66.0027,   9.9978,  277,     59.5,   7.9821,  35.0211,2,  35.0156,2,    279.3,2,    279.7,2,     2.25,2,     8.60,2,     0.14,2,     0.59,2,    4.214,2,    2.239,2,    0.343,2,        -999,9,   2125.8,2,   2304.3,2,   7.9761
  316N20020530,   120,  1,     11,     11,2,20020623, 66.0027,   9.9978,  277,     79.2,   7.6663,  35.0624,2,  35.0654,2,    281.7,2,    281.2,2,     2.64,2,     9.58,2,     0.06,2,     0.63,2,    4.273,2,    2.303,2,    0.329,2,        -999,9,   2128.6,2,   2304.4,2,   7.6585
  316N20020530,   120,  1,      9,      9,2,20020623, 66.0027,   9.9978,  277,    104.4,   7.7044,  35.1488,2,  35.1447,2,    280.9,2,    281.0,2,     3.13,2,    10.45,2,     0.01,2,     0.67,2,    4.240,2,    2.265,2,    0.329,2,        -999,9,   2132.2,2,   2305.9,2,   7.6941
  316N20020530,   120,  1,      7,      7,2,20020623, 66.0027,   9.9978,  277,    139.4,   7.2357,  35.1236,2,  35.1244,2,    280.1,2,    280.6,2,     4.20,2,    11.43,2,     0.01,2,     0.74,2,    4.243,2,    2.273,2,    0.319,2,        -999,9,   2137.5,2,   2303.6,2,   7.2224
  316N20020530,   120,  1,      5,      5,2,20020623, 66.0027,   9.9978,  277,    189.6,   7.1101,  35.1401,2,  35.1410,2,    279.7,2,    279.8,2,     4.69,2,    11.82,2,     0.01,2,     0.77,2,    4.224,2,    2.272,2,    0.314,2,        -999,9,   -999.0,9,   -999.0,9,   7.0921
  316N20020530,   120,  1,      3,      3,2,20020623, 66.0027,   9.9978,  277,    234.4,   7.1130,  35.1593,2,  35.1616,2,    276.7,2,    276.9,2,     5.47,2,    12.12,2,     0.02,2,     0.80,2,    4.083,6,    2.289,6,    0.322,6,        -999,9,   2141.6,2,   2307.2,2,   7.0907
  316N20020530,   120,  1,      1,      1,2,20020623, 66.0027,   9.9978,  277,    271.1,   7.0124,  35.1585,2,  35.1601,2,    273.3,2,    273.5,2,     6.55,2,    12.51,2,     0.04,2,     0.84,2,    4.222,2,    2.269,2,    0.303,2,        -999,9,   2147.6,2,   2306.6,2,   6.9868
  316N20020530,   121,  1,     17,     17,2,20020623, 65.9998,  10.4093,  331,      3.7,  12.7060,  33.6957,2,  33.6982,2,    280.1,2,    280.5,2,     0.78,2,     0.10,2,     0.00,2,     0.04,2,    3.452,2,    1.939,2,    0.305,2,  1.61168965,2,   2041.4,2,   2277.4,2,  12.7055
  316N20020530,   121,  1,     15,     15,2,20020623, 65.9998,  10.4093,  331,     24.4,   8.6556,  34.3006,2,  34.4293,2,    299.1,2,    298.8,2,     1.96,2,     4.30,2,     0.22,2,     0.34,2,    4.275,2,    2.294,2,    0.368,2,  1.86463761,2,   2097.2,2,   2291.2,2,   8.6531
  316N20020530,   121,  1,     13,     13,2,20020623, 65.9998,  10.4093,  331,     54.4,   7.7858,  34.8738,2,  34.8869,2,    278.0,2,    277.9,2,     2.93,2,     9.09,2,     0.01,2,     0.63,2,    4.111,6,    2.288,6,    0.349,6,  1.81520663,2,   2129.6,2,   2298.9,2,   7.7804
  316N20020530,   121,  1,     11,     11,2,20020623, 65.9998,  10.4093,  331,     79.2,   7.7501,  34.9669,2,  34.9678,2,    277.1,2,    278.3,2,     3.03,2,     9.58,2,     0.01,2,     0.64,2,    4.148,2,    2.269,2,    0.347,2,  1.79558014,2,   2131.6,2,   2302.1,2,   7.7423
  316N20020530,   121,  1,      9,      9,2,20020623, 65.9998,  10.4093,  331,    103.8,   7.7094,  35.0431,2,  35.0455,2,    280.1,2,    278.2,2,     3.13,2,    10.06,2,     0.01,2,     0.67,2,    4.197,2,    2.271,2,    0.355,2,  1.80523432,2,   2132.2,2,   2302.8,2,   7.6992
  316N20020530,   121,  1,      7,      7,2,20020623, 65.9998,  10.4093,  331,    153.6,   7.5734,  35.1197,7,  35.1239,2,    281.1,2,    277.6,2,     4.01,2,    11.33,2,     0.01,2,     0.74,2,    4.038,2,    2.235,2,    0.330,2,  1.83440133,2,   2139.7,2,   2305.6,2,   7.5584
  316N20020530,   121,  1,      5,      5,2,20020623, 65.9998,  10.4093,  331,    202.9,   7.4725,  35.1488,2,  35.1511,2,    277.9,2,    279.2,2,     4.40,2,    11.82,2,     0.00,2,     0.77,2,    4.026,2,    2.223,2,    0.330,2,  1.83436419,2,   2142.8,2,   2304.3,2,   7.4527
  316N20020530,   121,  1,      3,      3,2,20020623, 65.9998,  10.4093,  331,    262.3,   7.3090,  35.1642,2,  35.1664,2,    275.4,2,    277.4,2,     4.98,2,    12.21,2,     0.01,2,     0.80,2,    4.055,2,    2.261,2,    0.325,2,  1.73677184,2,   -999.0,9,   -999.0,9,   7.2836
  316N20020530,   121,  1,      1,      1,2,20020623, 65.9998,  10.4093,  331,    326.6,   7.1393,  35.1635,2,  35.1642,2,    272.2,2,    272.3,2,     6.06,2,    12.60,2,     0.02,2,     0.84,2,    4.094,2,    2.248,2,    0.331,2,  1.84410346,2,   2147.9,2,   2303.8,2,   7.1080
  316N20020530,   122,  1,     17,     17,2,20020623, 66.0023,  10.8350,  286,      3.0,  12.8383,  33.4228,2,  33.4228,2,    277.3,2,    278.1,2,     0.88,2,     0.20,2,     0.00,2,     0.03,2,    3.522,2,    1.931,2,    0.296,2,        -999,9,   2041.0,2,   2269.8,2,  12.8379
  316N20020530,   122,  1,     15,     15,2,20020623, 66.0023,  10.8350,  286,     37.4,   9.0613,  34.7041,2,  34.7254,2,    304.3,2,    303.7,2,     1.47,2,     3.52,2,     0.17,2,     0.32,2,    4.185,2,    2.272,2,    0.336,2,        -999,9,   2092.0,2,   2295.8,2,   9.0573
  316N20020530,   122,  1,     13,     13,2,20020623, 66.0023,  10.8350,  286,     57.5,   7.6149,  34.7119,2,  34.7275,2,    273.5,2,    274.2,2,     3.52,2,     9.48,2,     0.01,2,     0.64,2,    4.183,6,    2.288,6,    0.315,6,        -999,9,   2128.1,2,   2294.8,2,   7.6093
  316N20020530,   122,  1,     11,     11,2,20020623, 66.0023,  10.8350,  286,     82.6,   7.7158,  34.8666,2,  34.8689,2,    273.1,2,    273.0,2,     3.62,2,     9.87,2,     0.01,2,     0.66,2,    4.224,2,    2.302,2,    0.318,2,        -999,9,   2160.4,3,   2300.4,2,   7.7077
  316N20020530,   122,  1,      9,      9,2,20020623, 66.0023,  10.8350,  286,    122.3,   7.8083,  35.0505,2,  35.0529,2,    276.8,2,    277.6,2,     3.03,2,    10.06,2,     0.01,2,     0.66,2,    4.222,2,    2.264,2,    0.318,2,        -999,9,   -999.0,9,   -999.0,9,   7.7961
  316N20020530,   122,  1,      7,      7,2,20020623, 66.0023,  10.8350,  286,    152.2,   7.9463,  35.1437,7,  35.1448,2,    273.8,2,    273.1,2,     4.10,2,    11.63,2,     0.01,2,     0.75,2,    4.071,2,    2.189,2,    0.307,2,        -999,9,   -999.0,9,   -999.0,9,   7.9310
  316N20020530,   122,  1,      5,      5,2,20020623, 66.0023,  10.8350,  286,    182.5,   7.7834,  35.1398,2,  35.1389,2,    275.3,2,    274.5,2,     4.10,2,    11.53,2,     0.01,2,     0.75,2,    4.048,6,    2.227,6,    0.315,6,        -999,9,   2151.4,2,   2308.8,2,   7.7652
  316N20020530,   122,  1,      3,      3,2,20020623, 66.0023,  10.8350,  286,    221.6,   7.6369,  35.1520,2,  35.1537,2,    275.4,2,    276.2,2,     4.30,2,    11.72,2,     0.00,2,     0.76,2,    4.043,2,    2.197,2,    0.304,2,        -999,9,   -999.0,9,   -999.0,9,   7.6150
  316N20020530,   122,  1,      1,      1,2,20020623, 66.0023,  10.8350,  286,    283.2,   7.4086,  35.1629,2,  35.1657,2,    273.5,2,    273.6,2,     5.47,2,    12.31,2,     0.03,2,     0.81,2,    4.160,2,    2.215,2,    0.311,2,        -999,9,   2139.3,2,   2308.6,2,   7.3809