BOTTLE,20081218PRINUNIVRMK
EXPOCODE,STNNBR,CASTNO,SAMPNO,BTLNBR,BTLNBR_FLAG_W,DATE,LATITUDE,LONGITUDE,DEPTH,CTDPRS,CTDTMP,CTDSAL,CTDSAL_FLAG_W,SALNTY,SALNTY_FLAG_W,CTDOXY,CTDOXY_FLAG_W,OXYGEN,OXYGEN_FLAG_W,SILCAT,SILCAT_FLAG_W,NITRAT,NITRAT_FLAG_W,NITRIT,NITRIT_FLAG_W,PHSPHT,PHSPHT_FLAG_W,CFC-11,CFC-11_FLAG_W,CFC-12,CFC-12_FLAG_W,CFC113,CFC113_FLAG_W,SF6,SF6_FLAG_W,TCARBN,TCARBN_FLAG_W,ALKALI,ALKALI_FLAG_W,THETA
,,,,,,,,,METERS,DBARS,ITS-90,PSS-78,,PSS-78,,UMOL/KG,,UMOL/KG,,UMOL/KG,,UMOL/KG,,UMOL/KG,,UMOL/KG,,PMOL/KG,,PMOL/KG,,PMOL/KG,,FMOL/KG,,UMOL/KG,,UMOL/KG,,DEGC
  316N20020530,    37,  1,     20,     20,2,20020608, 78.7520,   7.2247, 1312,      2.4,   4.6919,  35.0725,2,  35.0727,2,    331.6,2,    332.4,2,     3.91,2,     7.52,2,     0.11,2,     0.56,2,    4.770,2,    2.605,2,    0.422,2,        -999,9,   2121.0,2,   2315.9,2,   4.6917
  316N20020530,    37,  1,     19,     19,2,20020608, 78.7520,   7.2247, 1312,     17.9,   4.4413,  35.0680,2,  35.0645,2,    330.6,2,    330.3,2,     3.91,2,     7.72,2,     0.10,2,     0.56,2,    4.982,2,    2.630,2,    0.454,2,  1.78569301,2,   2121.3,2,   2311.2,2,   4.4400
  316N20020530,    37,  1,     18,     18,2,20020608, 78.7520,   7.2247, 1312,     43.5,   3.9093,  35.0646,2,  35.0676,2,    306.5,2,    307.0,2,     5.08,2,    11.63,2,     0.16,2,     0.78,2, -999.000,9, -999.000,9, -999.000,9,        -999,9,   2144.8,2,   2308.8,2,   3.9063
  316N20020530,    37,  1,     17,     17,2,20020608, 78.7520,   7.2247, 1312,     73.5,   3.6444,  35.0658,2,  35.0647,2,    315.1,2,    317.2,2,     4.98,2,    10.65,2,     0.12,2,     0.73,2,    4.907,2,    2.667,2,    0.437,2,  1.80520851,2,   2140.1,2,   2310.1,2,   3.6395
  316N20020530,    37,  1,     16,     16,2,20020608, 78.7520,   7.2247, 1312,    103.6,   3.4007,  35.0647,2,  35.0659,2,    308.2,2,    307.0,2,     5.28,2,    12.21,2,     0.09,2,     0.81,2,    4.929,2,    2.621,2,    0.417,2,        -999,9,   2145.0,2,   2306.6,2,   3.3940
  316N20020530,    37,  1,     15,     15,2,20020608, 78.7520,   7.2247, 1312,    153.9,   3.0245,  35.0581,2,  35.0561,2,    313.4,2,    313.4,2,     5.28,2,    11.92,2,     0.10,2,     0.80,2,    4.909,2,    2.672,2,    0.429,2,  1.78570418,2,   2146.3,2,   2306.3,2,   3.0149
  316N20020530,    37,  1,     14,     14,2,20020608, 78.7520,   7.2247, 1312,    204.3,   2.6273,  35.0450,2,  35.0431,2,    313.3,2,    312.5,2,     5.47,2,    12.31,2,     0.07,2,     0.81,2, -999.000,9, -999.000,9, -999.000,9,        -999,9,   -999.0,9,   -999.0,9,   2.6151
  316N20020530,    37,  1,     13,     13,2,20020608, 78.7520,   7.2247, 1312,    254.4,   2.4512,  35.0469,2,  35.0443,2,    318.0,2,    318.1,2,     5.28,2,    11.63,2,     0.08,2,     0.79,2,    5.084,2,    2.717,2,    0.444,2,  1.82475199,2,   2150.0,2,   2307.8,2,   2.4363
  316N20020530,    37,  1,     12,     12,2,20020608, 78.7520,   7.2247, 1312,    304.6,   2.3459,  35.0487,2,  35.0480,2,    319.8,2,    319.2,2,     5.18,2,    11.92,2,     0.13,2,     0.80,2, -999.000,9, -999.000,9, -999.000,9,        -999,9,   -999.0,9,   -999.0,9,   2.3282
  316N20020530,    37,  1,     11,     11,2,20020608, 78.7520,   7.2247, 1312,    355.4,   2.1858,  35.0401,2,  35.0390,2,    318.5,2,    317.7,2,     5.18,2,    12.12,2,     0.07,2,     0.82,2,    5.089,2,    2.781,2,    0.441,2,   1.8540334,2,   2149.6,2,   2305.3,2,   2.1655
  316N20020530,    37,  1,     10,     10,2,20020608, 78.7520,   7.2247, 1312,    455.3,   1.6689,  35.0058,2,  35.0046,2,    314.3,2,    313.4,2,     5.67,2,    12.51,2,     0.02,2,     0.85,2,    4.939,2,    2.665,2,    0.423,2,  1.69794775,2,   2156.9,2,   2302.6,2,   1.6444
  316N20020530,    37,  1,      9,      9,2,20020608, 78.7520,   7.2247, 1312,    553.6,   0.8981,  34.9783,2,  34.9785,2,    307.2,2,    307.7,2,     6.74,2,    12.90,2,     0.01,2,     0.88,2,    4.324,2,    2.289,2,    0.355,2,  1.49305203,2,   -999.0,9,   -999.0,9,   0.8714
  316N20020530,    37,  1,      8,      8,2,20020608, 78.7520,   7.2247, 1312,    653.4,  -0.0827,  34.9351,2,  34.9339,2,    304.9,2,    306.5,2,     8.21,2,    13.68,2,     0.00,2,     0.94,2,    3.446,2,    1.810,2,    0.286,2,  1.80538429,2,   2162.3,2,   2301.4,2,  -0.1094
  316N20020530,    37,  1,      7,      7,2,20020608, 78.7520,   7.2247, 1312,    755.6,  -0.6215,  34.9119,2,  34.9113,2,    300.2,2,    302.7,2,     9.67,2,    14.46,2,     0.00,2,     0.99,2,    2.242,6,    1.155,6,    0.161,6,  1.53216272,2,   -999.0,9,   -999.0,9,  -0.6497
  316N20020530,    37,  1,      6,      6,2,20020608, 78.7520,   7.2247, 1312,    857.6,  -0.7874,  34.9065,2,  34.9064,2,    298.7,2,    299.5,2,    10.75,2,    14.85,2,     0.00,2,     1.01,2,    1.510,2,    0.765,2,    0.106,2,  0.80024077,2,   2160.7,2,   2298.2,2,  -0.8190
  316N20020530,    37,  1,      5,      5,2,20020608, 78.7520,   7.2247, 1312,    958.7,  -0.8270,  34.9082,2,  34.9102,2,    298.1,2,    298.5,2,    11.24,2,    15.05,2,     0.00,2,     1.02,2,    1.157,2,    0.594,2,    0.077,2, 0.448914284,2,   -999.0,9,   -999.0,9,  -0.8629
  316N20020530,    37,  1,      4,      4,2,20020608, 78.7520,   7.2247, 1312,   1059.3,  -0.8030,  34.9175,2,  34.9159,2,    298.2,2,    298.1,2,    11.63,2,    15.05,2,     0.00,2,     1.02,2,    1.194,2,    0.553,2,    0.072,2, 0.331804802,2,   2162.3,2,   2301.4,2,  -0.8439
  316N20020530,    37,  1,      3,      3,2,20020608, 78.7520,   7.2247, 1312,   1159.5,  -0.9028,  34.9111,2,  34.9120,2,    297.9,2,    297.4,2,    12.22,2,    15.34,2,     0.00,2,     1.03,2,    0.731,6,    0.379,6,    0.038,6, 0.146384897,2,   -999.0,9,   -999.0,9,  -0.9477
  316N20020530,    37,  1,      2,      2,2,20020608, 78.7520,   7.2247, 1312,   1234.7,  -0.8083,  34.9225,2,  34.9234,2,    298.6,2,    298.6,2,    11.92,2,    15.05,2,     0.00,2,     1.01,2,    1.084,2,    0.583,2,    0.071,2, 0.283008398,2,   2161.0,2,   2302.7,2,  -0.8579
  316N20020530,    37,  1,      1,      1,2,20020608, 78.7520,   7.2247, 1312,   1284.9,  -0.7353,  34.9362,2,  34.9357,2,    300.1,2,    300.2,2,    11.53,2,    14.76,2,     0.01,2,     1.00,2,    1.449,2,    0.758,2,    0.098,2, 0.409870479,2,   2164.9,2,   2304.5,2,  -0.7883
  316N20020530,    38,  1,     16,     16,2,20020608, 78.7570,   8.2012,  907,      2.7,   4.9190,  35.0830,2,  35.0805,2,    331.6,2,    332.0,2,     4.01,2,     7.82,2,     0.11,2,     0.56,2,    4.955,2,    2.639,2,    0.440,2,  1.78567174,2,   2117.2,2,   2315.7,2,   4.9188
  316N20020530,    38,  1,     15,     15,2,20020608, 78.7570,   8.2012,  907,     18.0,   4.8534,  35.0820,2,  35.0747,2,    330.3,2,    331.0,2,     4.10,2,     7.91,2,     0.11,2,     0.57,2, -999.000,9, -999.000,9, -999.000,9,        -999,9,   -999.0,9,   -999.0,9,   4.8520
  316N20020530,    38,  1,     14,     14,2,20020608, 78.7570,   8.2012,  907,     33.2,   4.5033,  35.0662,2,  35.0666,2,    325.3,2,    327.8,2,     4.20,2,     8.11,2,     0.10,2,     0.59,2, -999.000,9, -999.000,9, -999.000,9,        -999,9,   -999.0,9,   -999.0,9,   4.5009
  316N20020530,    38,  1,     13,     13,2,20020608, 78.7570,   8.2012,  907,     63.1,   3.7929,  35.0788,2,  35.0743,2,    308.0,2,    308.2,2,     5.18,2,    11.73,2,     0.12,2,     0.79,2,    5.052,2,    2.683,2,    0.428,2,  1.77592217,2,   2142.7,2,   2308.4,2,   3.7886
  316N20020530,    38,  1,     12,     12,2,20020608, 78.7570,   8.2012,  907,    113.6,   3.2746,  35.0630,2,  35.0588,2,    311.0,2,    309.5,2,     5.18,2,    12.02,2,     0.11,2,     0.80,2,    5.119,2,    2.705,2,    0.444,2,  1.80521644,2,   2146.1,2,   2309.9,2,   3.2673
  316N20020530,    38,  1,     11,     11,2,20020608, 78.7570,   8.2012,  907,    163.7,   2.8494,  35.0542,2,  35.0517,2,    314.1,2,    314.6,2,     5.37,2,    11.92,2,     0.10,2,     0.80,2, -999.000,9, -999.000,9, -999.000,9,        -999,9,   -999.0,9,   -999.0,9,   2.8394
  316N20020530,    38,  1,     10,     10,2,20020608, 78.7570,   8.2012,  907,    228.9,   2.3779,  35.0404,2,  35.0390,2,    317.7,2,    317.6,2,     5.18,2,    12.12,2,     0.12,2,     0.80,2,    5.348,2,    2.825,2,    0.459,2,  1.82475919,2,   2147.5,2,   2310.3,2,   2.3647
  316N20020530,    38,  1,      9,      9,2,20020608, 78.7570,   8.2012,  907,    313.8,   2.2181,  35.0447,2,  35.0457,2,    318.8,2,    319.3,2,     5.18,2,    12.31,2,     0.05,2,     0.82,2, -999.000,9, -999.000,9, -999.000,9,        -999,9,   -999.0,9,   -999.0,9,   2.2002
  316N20020530,    38,  1,      8,      8,2,20020608, 78.7570,   8.2012,  907,    403.2,   2.0879,  35.0377,2,  35.0333,2,    319.1,2,    318.6,2,     5.28,2,    12.41,2,     0.04,2,     0.82,2,    5.413,2,    2.833,2,    0.462,2,  1.86379938,2,   2151.6,2,   2304.6,2,   2.0650
  316N20020530,    38,  1,      7,      7,2,20020608, 78.7570,   8.2012,  907,    501.7,   1.6040,  35.0091,2,  35.0089,2,    318.7,2,    317.5,2,     5.67,2,    12.80,2,     0.02,2,     0.84,2,    5.238,2,    2.750,2,    0.451,2,        -999,9,   2156.6,2,   2304.1,2,   1.5771
  316N20020530,    38,  1,      6,      6,2,20020608, 78.7570,   8.2012,  907,    600.1,   0.9540,  34.9737,2,  34.9665,2,    316.1,2,    316.1,2,     6.16,2,    13.09,2,     0.01,2,     0.87,2,    5.052,2,    2.597,2,    0.418,2,  1.66872012,2,   2158.2,2,   2303.2,2,   0.9246
  316N20020530,    38,  1,      5,      5,2,20020608, 78.7570,   8.2012,  907,    673.1,   0.3479,  34.9471,2,  34.9463,2,    311.4,2,    311.0,2,     7.13,2,    13.39,2,     0.01,2,     0.90,2,    4.278,6,    2.213,6,    0.345,6,  1.59067526,2,   -999.0,9,   -999.0,9,   0.3178
  316N20020530,    38,  1,      4,      4,2,20020608, 78.7570,   8.2012,  907,    747.7,  -0.2435,  34.9286,2,  34.9304,2,    305.9,2,    306.2,2,     8.40,2,    13.97,2,     0.01,2,     0.95,2,    3.434,2,    1.730,2,    0.260,2,  1.91273645,2,   2164.1,2,   2298.6,2,  -0.2737
  316N20020530,    38,  1,      3,      3,2,20020608, 78.7570,   8.2012,  907,    797.7,  -0.3159,  34.9396,2,  34.9408,2,    302.2,2,    302.7,2,     9.58,2,    14.17,2,     0.01,2,     0.96,2,    2.647,6,    1.337,6,    0.201,6,  1.08322501,2,   -999.0,9,   -999.0,9,  -0.3481
  316N20020530,    38,  1,      2,      2,2,20020608, 78.7570,   8.2012,  907,    848.4,  -0.4855,  34.9398,2,  34.9379,2,    300.4,2,    300.6,2,    10.46,2,    14.37,2,     0.01,2,     0.98,2,    2.168,2,    1.073,2,    0.162,2, 0.702633956,2,   2164.6,2,   2302.2,2,  -0.5189
  316N20020530,    38,  1,      1,      1,2,20020608, 78.7570,   8.2012,  907,    895.0,  -0.7021,  34.9322,2,  34.9296,2,    299.5,2,    298.9,2,    11.53,2,    14.76,2,     0.01,2,     1.00,2,    1.532,2,    0.748,2,    0.105,2, 0.429390071,2,   2166.1,2,   2303.8,2,  -0.7361
  316N20020530,    39,  1,     10,     10,2,20020608, 78.7552,   8.9210,  301,      2.7,   5.4356,  35.0627,2,  35.0617,2,    323.7,2,    326.4,2,     2.35,2,     7.04,2,     0.10,2,     0.52,2,    4.759,6,    2.596,6,    0.432,6,  1.74666511,2,   2101.6,2,   2318.7,2,   5.4354
  316N20020530,    39,  1,      9,      9,2,20020608, 78.7552,   8.9210,  301,     23.3,   5.2733,  35.0824,2,  35.0779,2,    320.4,2,    322.1,2,     3.13,2,     7.33,2,     0.09,2,     0.55,2,    4.598,2,    2.554,2,    0.414,2,  1.75640184,2,   2128.4,2,   2313.9,2,   5.2715
  316N20020530,    39,  1,      8,      8,2,20020608, 78.7552,   8.9210,  301,     47.7,   5.1991,  35.0896,2,  35.0916,2,    316.1,2,    312.4,2,     3.81,2,     8.99,2,     0.10,2,     0.64,2,    4.616,2,    2.610,2,    0.414,2,        -999,9,   -999.0,9,   -999.0,9,   5.1953
  316N20020530,    39,  1,      7,      7,4,20020608, 78.7552,   8.9210,  301,     78.7,   4.8271,  35.1046,2,-999.0000,9,    302.9,2,   -999.0,9,  -999.00,9,  -999.00,9,  -999.00,9,  -999.00,9, -999.000,9, -999.000,9, -999.000,9,  1.71755833,2,   -999.0,9,   -999.0,9,   4.8211
  316N20020530,    39,  1,      6,      6,2,20020608, 78.7552,   8.9210,  301,    103.6,   3.6448,  34.9784,2,  34.9781,2,    312.7,2,    319.4,2,     3.03,2,     8.99,2,     0.10,2,     0.66,2,    5.018,2,    2.815,2,    0.443,2,   1.8150834,2,   2130.5,2,   2307.1,2,   3.6379
  316N20020530,    39,  1,      5,      5,2,20020608, 78.7552,   8.9210,  301,    153.7,   3.3736,  34.9861,2,  34.9854,2,    315.0,2,    311.6,2,     3.71,2,    10.55,2,     0.15,2,     0.75,2,    4.948,6,    2.696,6,    0.444,6,  1.81507354,2,   2139.8,2,   2305.0,2,   3.3636
  316N20020530,    39,  1,      4,      4,2,20020608, 78.7552,   8.9210,  301,    194.0,   3.2552,  34.9969,2,  34.9901,2,    311.7,2,    306.5,2,     4.50,2,    11.43,2,     0.18,2,     0.79,2,    4.946,2,    2.751,2,    0.431,2,        -999,9,   -999.0,9,   -999.0,9,   3.2427
  316N20020530,    39,  1,      3,      3,2,20020608, 78.7552,   8.9210,  301,    224.2,   3.3881,  35.0221,2,  34.9905,2,    307.2,2,    306.1,2,     4.40,2,    11.34,2,     0.15,2,     0.78,2,    5.032,2,    2.786,2,    0.441,2,  1.84434192,2,   2149.1,2,   2297.5,2,   3.3734
  316N20020530,    39,  1,      2,      2,2,20020608, 78.7552,   8.9210,  301,    254.2,   2.6016,  34.9326,2,  34.9347,2,    308.2,2,    308.9,2,     3.81,2,    10.75,2,     0.17,2,     0.77,2,    5.196,2,    2.903,2,    0.463,2,        -999,9,   2146.1,2,   2300.2,2,   2.5865
  316N20020530,    39,  1,      1,      1,2,20020608, 78.7552,   8.9210,  301,    294.5,   2.7306,  34.9509,2,  34.9561,2,    307.6,2,    308.0,2,     4.10,2,    10.94,2,     0.16,2,     0.78,2,    5.122,2,    2.835,2,    0.453,2,  1.89318251,2,   2147.0,2,   2301.6,2,   2.7127