BOTTLE,20081218PRINUNIVRMK
EXPOCODE,STNNBR,CASTNO,SAMPNO,BTLNBR,BTLNBR_FLAG_W,DATE,LATITUDE,LONGITUDE,DEPTH,CTDPRS,CTDTMP,CTDSAL,CTDSAL_FLAG_W,SALNTY,SALNTY_FLAG_W,CTDOXY,CTDOXY_FLAG_W,OXYGEN,OXYGEN_FLAG_W,SILCAT,SILCAT_FLAG_W,NITRAT,NITRAT_FLAG_W,NITRIT,NITRIT_FLAG_W,PHSPHT,PHSPHT_FLAG_W,CFC-11,CFC-11_FLAG_W,CFC-12,CFC-12_FLAG_W,CFC113,CFC113_FLAG_W,SF6,SF6_FLAG_W,TCARBN,TCARBN_FLAG_W,ALKALI,ALKALI_FLAG_W,THETA
,,,,,,,,,METERS,DBARS,ITS-90,PSS-78,,PSS-78,,UMOL/KG,,UMOL/KG,,UMOL/KG,,UMOL/KG,,UMOL/KG,,UMOL/KG,,PMOL/KG,,PMOL/KG,,PMOL/KG,,FMOL/KG,,UMOL/KG,,UMOL/KG,,DEGC
  316N20020530,     4,  1,     24,     24,2,20020601, 67.7147, -14.1692, 1232,      2.3,   1.4587,  34.6089,2,  34.6060,2,    401.2,2,    403.1,2,     1.47,2,     1.17,2,     0.05,2,     0.23,2,    6.435,2,    3.313,2,    0.587,2,  2.35245316,2,   2070.5,2,   2296.0,2,   1.4586
  316N20020530,     4,  1,     23,     23,2,20020601, 67.7147, -14.1692, 1232,     17.8,   1.0807,  34.6071,2,  34.6052,2,    399.5,2,    398.4,2,     1.66,2,     2.44,2,     0.07,2,     0.44,2, -999.000,9, -999.000,9, -999.000,9,        -999,9,   -999.0,9,   -999.0,9,   1.0799
  316N20020530,     4,  1,     22,     22,2,20020601, 67.7147, -14.1692, 1232,     33.3,   0.0575,  34.6095,2,  34.6076,2,    365.4,2,    364.3,2,     2.35,2,     8.80,2,     0.05,2,     0.65,2,    6.792,2,    3.466,2,    0.620,2,  2.42077879,2,   2131.8,2,   2281.8,2,   0.0563
  316N20020530,     4,  1,     21,     21,2,20020601, 67.7147, -14.1692, 1232,     53.7,  -0.5033,  34.6360,2,  34.6347,2,    360.0,2,    359.8,2,     3.03,2,     9.87,2,     0.05,2,     0.72,2, -999.000,9, -999.000,9, -999.000,9,        -999,9,   -999.0,9,   -999.0,9,  -0.5050
  316N20020530,     4,  1,     20,     20,2,20020601, 67.7147, -14.1692, 1232,     78.5,  -0.7279,  34.6574,2,  34.6591,2,    354.4,2,    356.7,2,     3.71,2,    10.56,2,     0.05,2,     0.75,2,    6.685,2,    3.463,2,    0.633,2,  2.38164266,2,   2143.3,2,   2282.2,2,  -0.7302
  316N20020530,     4,  1,     19,     19,2,20020601, 67.7147, -14.1692, 1232,    103.4,  -0.8501,  34.6729,2,  34.6736,2,    353.5,2,    356.0,2,     4.40,2,    10.75,2,     0.05,2,     0.77,2, -999.000,9, -999.000,9, -999.000,9,        -999,9,   -999.0,9,   -999.0,9,  -0.8531
  316N20020530,     4,  1,     18,     18,2,20020601, 67.7147, -14.1692, 1232,    128.9,  -0.7546,  34.7040,2,  34.7058,2,    353.3,2,    350.2,2,     4.69,2,    11.04,2,     0.05,2,     0.79,2,    6.376,6,    3.261,6,    0.575,6,  2.29371544,2,   2147.7,2,   2284.4,2,  -0.7585
  316N20020530,     4,  1,     17,     17,2,20020601, 67.7147, -14.1692, 1232,    154.0,  -0.5308,  34.7515,2,  34.7526,2,    340.9,2,    340.7,2,     5.28,2,    11.53,2,     0.05,2,     0.83,2, -999.000,9, -999.000,9, -999.000,9,        -999,9,   -999.0,9,   -999.0,9,  -0.5358
  316N20020530,     4,  1,     16,     16,2,20020601, 67.7147, -14.1692, 1232,    178.4,  -0.2440,  34.7929,2,  34.7933,2,    337.4,2,    329.8,2,     5.57,2,    12.02,2,     0.04,2,     0.85,2,    5.506,2,    2.830,2,    0.475,2,  1.90317182,2,   2153.0,2,   2290.6,2,  -0.2502
  316N20020530,     4,  1,     15,     15,2,20020601, 67.7147, -14.1692, 1232,    204.3,  -0.1143,  34.8125,2,  34.8104,2,    324.4,2,    326.1,2,     5.77,2,    12.12,2,     0.03,2,     0.87,2, -999.000,9, -999.000,9, -999.000,9,        -999,9,   -999.0,9,   -999.0,9,  -0.1217
  316N20020530,     4,  1,     14,     14,2,20020601, 67.7147, -14.1692, 1232,    233.9,   0.1878,  34.8509,2,  34.8529,2,    318.6,2,    317.1,2,     6.06,2,    12.41,2,     0.01,2,     0.89,2,    4.753,2,    2.434,2,    0.391,2,  1.50295106,2,   2153.6,2,   2294.0,2,   0.1786
  316N20020530,     4,  1,     13,     13,2,20020601, 67.7147, -14.1692, 1232,    264.4,   0.1380,  34.8539,2,  34.8545,2,    318.4,2,    317.2,2,     6.45,2,    12.41,2,     0.00,2,     0.89,2,    4.741,2,    2.438,2,    0.389,2,  1.50294927,2,   -999.0,9,   -999.0,9,   0.1277
  316N20020530,     4,  1,     12,     12,2,20020601, 67.7147, -14.1692, 1232,    304.3,   0.1296,  34.8655,2,  34.8651,2,    313.8,2,    315.7,2,     6.16,2,    12.61,2,     0.00,2,     0.90,2, -999.000,9, -999.000,9, -999.000,9,        -999,9,   -999.0,9,   -999.0,9,   0.1176
  316N20020530,     4,  1,     11,     11,2,20020601, 67.7147, -14.1692, 1232,    344.5,   0.2010,  34.8817,2,  34.8815,2,    313.9,2,    311.1,2,     6.55,2,    13.00,2,     0.00,2,     0.91,2,    4.107,6,    2.095,6,    0.322,6,  1.28821634,2,   2156.6,2,   2294.3,2,   0.1871
  316N20020530,     4,  1,     10,     10,2,20020601, 67.7147, -14.1692, 1232,    395.2,   0.0432,  34.8787,2,  34.8795,2,    311.6,2,    313.2,2,     6.65,2,    13.10,2,     0.00,2,     0.92,2, -999.000,9, -999.000,9, -999.000,9,        -999,9,   -999.0,9,   -999.0,9,   0.0276
  316N20020530,     4,  1,      9,      9,2,20020601, 67.7147, -14.1692, 1232,    445.0,  -0.0214,  34.8835,2,  34.8860,2,    311.6,2,    311.8,2,     6.84,2,    13.39,2,     0.00,2,     0.93,2,    4.166,2,    2.099,2,    0.320,2,  1.39556302,2,   2158.4,2,   2294.8,2,  -0.0390
  316N20020530,     4,  1,      8,      8,2,20020601, 67.7147, -14.1692, 1232,    505.6,  -0.1705,  34.8846,2,  34.8807,2,    311.7,2,    311.7,2,     7.13,2,    13.68,2,     0.00,2,     0.94,2, -999.000,9, -999.000,9, -999.000,9,  1.61027138,2,   -999.0,9,   -999.0,9,  -0.1901
  316N20020530,     4,  1,      7,      7,2,20020601, 67.7147, -14.1692, 1232,    580.8,  -0.2539,  34.8881,2,  34.8845,2,    311.7,2,    311.8,2,     7.33,2,    13.68,2,     0.00,2,     0.95,2,    3.929,2,    1.986,2,    0.283,2,  1.66882198,2,   2160.3,2,   2295.4,2,  -0.2764
  316N20020530,     4,  1,      6,      6,2,20020601, 67.7147, -14.1692, 1232,    656.3,  -0.3171,  34.8918,2,  34.8933,2,    310.3,2,    310.1,2,     7.72,2,    13.68,2,     0.00,2,     0.95,2, -999.000,9, -999.000,9, -999.000,9,  1.88351189,2,   -999.0,9,   -999.0,9,  -0.3427
  316N20020530,     4,  1,      5,      5,2,20020601, 67.7147, -14.1692, 1232,    756.7,  -0.3964,  34.8948,2,  34.8961,2,    309.2,2,    309.2,2,     8.01,2,    13.68,2,     0.00,2,     0.96,2,    3.338,2,    1.696,2,    0.238,2,  2.14700389,2,   2160.6,2,   2294.4,2,  -0.4261
  316N20020530,     4,  1,      4,      4,2,20020601, 67.7147, -14.1692, 1232,    857.1,  -0.4706,  34.8958,2,  34.8973,2,    307.7,2,    308.0,2,     8.40,2,    13.88,2,     0.00,2,     0.97,2, -999.000,9, -999.000,9, -999.000,9,  2.30314757,2,   -999.0,9,   -999.0,9,  -0.5044
  316N20020530,     4,  1,      3,      3,2,20020601, 67.7147, -14.1692, 1232,    957.9,  -0.5182,  34.8975,2,  34.8994,2,    306.3,2,    307.0,2,     8.80,2,    13.97,2,     0.00,2,     0.98,2,    2.893,2,    1.454,2,    0.223,2,  2.37145757,2,   2157.9,2,   2297.4,2,  -0.5565
  316N20020530,     4,  1,      2,      2,2,20020601, 67.7147, -14.1692, 1232,   1109.0,  -0.5863,  34.9004,2,  34.8991,2,    299.9,2,    300.0,2,    10.75,2,    14.37,2,     0.00,2,     1.02,2, -999.000,9, -999.000,9, -999.000,9,  2.18603545,2,   -999.0,9,   -999.0,9,  -0.6316
  316N20020530,     4,  1,      1,      1,2,20020601, 67.7147, -14.1692, 1232,   1196.1,  -0.6713,  34.9034,2,-999.0000,9,    300.8,2,    300.2,2,    10.65,2,    14.46,2,     0.00,2,     1.01,2,    1.976,2,    0.944,2,    0.136,2,   1.7663526,2,   2162.8,2,   2299.1,2,  -0.7202
  316N20020530,     5,  1,     26,     26,2,20020601, 68.0008, -13.7770, 1556,      2.8,   0.6603,  34.6836,2,-999.0000,9,    367.7,2,    368.5,2,     2.05,2,     8.21,2,     0.06,2,     0.59,2,    6.561,2,    3.452,2,    0.595,2,  2.42995469,2,   2129.3,2,   2289.7,2,   0.6602
  316N20020530,     5,  1,     25,     25,2,20020601, 68.0008, -13.7770, 1556,     19.4,   0.4383,  34.6829,2,  34.6835,2,    369.8,2,    369.5,2,     2.05,2,     8.21,2,     0.06,2,     0.59,2, -999.000,9, -999.000,9, -999.000,9,  2.43040266,2,   -999.0,9,   -999.0,9,   0.4375
  316N20020530,     5,  1,     24,     24,2,20020601, 68.0008, -13.7770, 1556,     34.2,  -0.2583,  34.7024,2,  34.7060,2,    359.7,2,    360.9,2,     3.52,2,     9.97,2,     0.05,2,     0.71,2, -999.000,9, -999.000,9, -999.000,9,        -999,9,   -999.0,9,   -999.0,9,  -0.2594
  316N20020530,     5,  1,     23,     23,2,20020601, 68.0008, -13.7770, 1556,     54.8,  -0.3622,  34.7541,2,  34.7553,2,    340.4,2,    346.8,2,     4.59,2,    11.14,2,     0.06,2,     0.79,2,    6.139,2,    3.175,2,    0.538,2,  2.24483026,2,   2150.8,2,   2290.3,2,  -0.3640
  316N20020530,     5,  1,     22,     22,2,20020601, 68.0008, -13.7770, 1556,     80.1,  -0.8697,  34.7679,2,  34.7678,2,    351.6,2,    350.4,2,     4.69,2,    11.53,2,     0.06,2,     0.82,2, -999.000,9, -999.000,9, -999.000,9,        -999,9,   -999.0,9,   -999.0,9,  -0.8720
  316N20020530,     5,  1,     21,     21,2,20020601, 68.0008, -13.7770, 1556,    104.5,  -0.8376,  34.7848,2,  34.7880,2,    348.3,2,    350.5,2,     4.89,2,    11.73,2,     0.07,2,     0.83,2,    6.328,6,    3.244,6,    0.570,6,  2.30333498,2,   2155.4,2,   2295.5,3,  -0.8407
  316N20020530,     5,  1,     20,     20,2,20020601, 68.0008, -13.7770, 1556,    129.9,  -0.5753,  34.8096,2,  34.8120,2,    347.8,2,    337.5,2,     5.28,2,    12.12,2,     0.05,2,     0.85,2, -999.000,9, -999.000,9, -999.000,9,        -999,9,   -999.0,9,   -999.0,9,  -0.5794
  316N20020530,     5,  1,     19,     19,2,20020601, 68.0008, -13.7770, 1556,    155.7,  -0.6750,  34.8152,2,  34.8168,2,    339.7,2,    339.5,2,     5.18,2,    12.12,2,     0.05,2,     0.85,2,    5.943,2,    3.066,2,    0.511,2,  2.12761127,2,   2157.8,2,   2294.0,2,  -0.6798
  316N20020530,     5,  1,     18,     18,2,20020601, 68.0008, -13.7770, 1556,    180.2,  -0.4938,  34.8382,2,  34.8406,2,    333.8,2,    333.2,2,     5.38,2,    12.41,2,     0.02,2,     0.87,2, -999.000,9, -999.000,9, -999.000,9,        -999,9,   -999.0,9,   -999.0,9,  -0.4997
  316N20020530,     5,  1,     17,     17,2,20020601, 68.0008, -13.7770, 1556,    204.9,  -0.4069,  34.8507,2,  34.8527,2,    330.6,2,    329.0,2,     5.47,2,    12.51,2,     0.01,2,     0.88,2,    5.419,2,    2.752,2,    0.452,2,  1.91284709,2,   2157.7,2,   2291.5,2,  -0.4139
  316N20020530,     5,  1,     16,     16,2,20020601, 68.0008, -13.7770, 1556,    235.4,  -0.3453,  34.8597,2,  34.8607,2,    322.2,2,    325.8,2,     5.67,2,    12.61,2,     0.01,2,     0.89,2, -999.000,9, -999.000,9, -999.000,9,        -999,9,   -999.0,9,   -999.0,9,  -0.3535
  316N20020530,     5,  1,     15,     15,2,20020601, 68.0008, -13.7770, 1556,    264.9,  -0.2420,  34.8742,2,  34.8752,2,    318.4,2,    319.6,2,     6.16,2,    13.19,2,     0.01,2,     0.91,2,    4.769,6,    2.456,6,    0.394,6,  1.70787058,2,   2159.6,2,   2294.8,2,  -0.2515
  316N20020530,     5,  1,     14,     14,2,20020601, 68.0008, -13.7770, 1556,    305.4,  -0.1718,  34.8861,2,  34.8874,2,    316.9,2,    314.5,2,     6.84,2,    13.58,2,     0.00,2,     0.93,2,    4.307,2,    2.161,2,    0.324,2,  1.60050418,2,   2161.3,2,   2295.6,2,  -0.1831
  316N20020530,     5,  1,     13,     13,2,20020601, 68.0008, -13.7770, 1556,    345.3,  -0.2445,  34.8856,2,  34.8879,2,    314.9,2,    313.8,2,     6.84,2,    13.97,2,     0.00,2,     0.95,2,    4.353,2,    2.180,2,    0.333,2,  1.75665027,2,   2161.6,2,   2294.2,2,  -0.2572
  316N20020530,     5,  1,     12,     12,2,20020601, 68.0008, -13.7770, 1556,    396.3,  -0.3372,  34.8861,2,  34.8875,2,    308.6,2,    308.0,2,     7.33,2,    14.56,2,     0.00,2,     0.99,2,    4.057,2,    2.037,2,    0.294,2,  1.76640997,2,   2164.6,2,   2296.4,2,  -0.3516
  316N20020530,     5,  1,     11,     11,2,20020601, 68.0008, -13.7770, 1556,    446.3,  -0.3916,  34.8883,2,  34.8890,2,    306.5,2,    307.0,2,     7.52,2,    14.76,2,     0.00,2,     1.00,2, -999.000,9, -999.000,9, -999.000,9,  1.90303624,2,   -999.0,9,   -999.0,9,  -0.4078
  316N20020530,     5,  1,     10,     10,2,20020601, 68.0008, -13.7770, 1556,    506.2,  -0.4633,  34.8899,2,  34.8915,2,    307.6,2,    306.2,2,     7.92,2,    14.85,2,     0.00,2,     1.00,2,    3.499,2,    1.777,2,    0.254,2,  2.11773382,2,   2165.5,2,   2295.9,2,  -0.4817
  316N20020530,     5,  1,      9,      9,2,20020601, 68.0008, -13.7770, 1556,    581.7,  -0.4972,  34.8926,2,  34.8944,2,    305.0,2,    306.2,2,     8.31,2,    14.85,2,     0.00,2,     0.99,2, -999.000,9, -999.000,9, -999.000,9,  2.33242991,2,   -999.0,9,   -999.0,9,  -0.5186
  316N20020530,     5,  1,      8,      8,2,20020601, 68.0008, -13.7770, 1556,    656.8,  -0.5502,  34.8958,2,  34.8951,2,    303.4,2,    303.9,2,     8.60,2,    14.95,2,     0.00,2,     1.00,2,    3.005,2,    1.491,2,    0.206,2,  2.37146516,2,   2163.7,2,   2296.6,2,  -0.5745
  316N20020530,     5,  1,      7,      7,2,20020601, 68.0008, -13.7770, 1556,    756.8,  -0.5992,  34.8982,2,  34.8990,2,    303.2,2,    302.9,2,     8.99,2,    14.85,2,     0.00,2,     1.00,2, -999.000,9, -999.000,9, -999.000,9,  2.39097645,2,   -999.0,9,   -999.0,9,  -0.6276
  316N20020530,     5,  1,      6,      6,2,20020601, 68.0008, -13.7770, 1556,    858.6,  -0.6397,  34.9011,2,  34.9029,2,    301.6,2,    301.7,2,     9.28,2,    14.95,2,     0.00,2,     1.01,2,    2.294,2,    1.133,2,    0.146,2,  2.04940243,2,   2164.2,2,   2299.2,2,  -0.6724
  316N20020530,     5,  1,      5,      5,2,20020601, 68.0008, -13.7770, 1556,    958.7,  -0.6735,  34.9029,2,  34.9044,2,    299.9,2,    300.3,2,     9.77,2,    15.05,2,     0.00,2,     1.02,2, -999.000,9, -999.000,9, -999.000,9,  1.67855631,2,   -999.0,9,   -999.0,9,  -0.7106
  316N20020530,     5,  1,      4,      4,2,20020601, 68.0008, -13.7770, 1556,   1059.2,  -0.7026,  34.9045,2,  34.9071,2,    300.2,2,    299.4,2,    10.07,2,    15.05,2,     0.00,2,     1.02,2,    1.782,2,    0.909,2,    0.116,2,  1.27843276,2,   2161.4,2,   2297.3,2,  -0.7444
  316N20020530,     5,  1,      3,      3,2,20020601, 68.0008, -13.7770, 1556,   1210.5,  -0.7480,  34.9075,2,  34.9075,2,    297.7,2,    297.7,2,    10.65,2,    15.25,2,     0.00,2,     1.03,2,    1.417,2,    0.701,2,    0.082,2, 0.683131806,2,   2162.5,2,   2299.0,2,  -0.7969
  316N20020530,     5,  1,      2,      2,2,20020601, 68.0008, -13.7770, 1556,   1363.3,  -0.7995,  34.9088,2,  34.9080,2,    295.6,2,    295.5,2,    11.53,2,    15.44,2,     0.00,2,     1.05,2,    1.068,2,    0.529,2,    0.056,2, 0.331806753,2,   2164.6,2,   2299.1,2,  -0.8559
  316N20020530,     5,  1,      1,      1,2,20020601, 68.0008, -13.7770, 1556,   1518.2,  -0.8358,  34.9103,2,  34.9097,2,    291.5,2,    292.2,2,    13.39,2,    15.93,2,     0.00,2,     1.07,2,    0.806,2,    0.413,2,    0.038,2,        -999,9,   2167.8,2,   2298.9,2,  -0.9003