BOTTLE,20081218PRINUNIVRMK
EXPOCODE,STNNBR,CASTNO,SAMPNO,BTLNBR,BTLNBR_FLAG_W,DATE,LATITUDE,LONGITUDE,DEPTH,CTDPRS,CTDTMP,CTDSAL,CTDSAL_FLAG_W,SALNTY,SALNTY_FLAG_W,CTDOXY,CTDOXY_FLAG_W,OXYGEN,OXYGEN_FLAG_W,SILCAT,SILCAT_FLAG_W,NITRAT,NITRAT_FLAG_W,NITRIT,NITRIT_FLAG_W,PHSPHT,PHSPHT_FLAG_W,CFC-11,CFC-11_FLAG_W,CFC-12,CFC-12_FLAG_W,CFC113,CFC113_FLAG_W,SF6,SF6_FLAG_W,TCARBN,TCARBN_FLAG_W,ALKALI,ALKALI_FLAG_W,THETA
,,,,,,,,,METERS,DBARS,ITS-90,PSS-78,,PSS-78,,UMOL/KG,,UMOL/KG,,UMOL/KG,,UMOL/KG,,UMOL/KG,,UMOL/KG,,PMOL/KG,,PMOL/KG,,PMOL/KG,,FMOL/KG,,UMOL/KG,,UMOL/KG,,DEGC
  316N20020530,    90,  1,     24,     24,2,20020618, 70.0077, -12.1407, 1804,      3.8,   3.9637,  34.7697,2,  34.7696,2,    352.6,2,    352.3,2,     0.00,2,     4.30,2,     0.07,2,     0.30,2,    5.998,2,    3.088,2,    0.563,2,  2.15696611,2,   2106.1,2,   2286.5,2,   3.9634
  316N20020530,    90,  1,     23,     23,2,20020618, 70.0077, -12.1407, 1804,     26.9,   2.0951,  34.7835,2,  34.7802,2,    383.1,2,    388.0,2,     0.00,2,     6.55,2,     0.06,2,     0.46,2, -999.000,9, -999.000,9, -999.000,9,        -999,9,   2116.7,2,   2290.2,2,   2.0937
  316N20020530,    90,  1,     22,     22,2,20020618, 70.0077, -12.1407, 1804,     43.2,   0.3622,  34.7940,2,  34.8014,2,    369.2,2,    366.6,2,     2.05,2,     9.19,2,     0.05,2,     0.66,2,    6.736,2,    3.444,2,    0.623,2,  2.29355221,2,   -999.0,9,   -999.0,9,   0.3605
  316N20020530,    90,  1,     21,     21,2,20020618, 70.0077, -12.1407, 1804,     73.7,   0.0724,  34.8275,2,  34.8293,2,    353.3,2,    349.7,2,     4.59,2,    10.85,2,     0.07,2,     0.76,2, -999.000,9, -999.000,9, -999.000,9,        -999,9,   2153.3,2,   2285.1,2,   0.0697
  316N20020530,    90,  1,     20,     20,2,20020618, 70.0077, -12.1407, 1804,    103.6,  -0.0667,  34.8359,2,  34.8361,2,    342.9,2,    347.2,2,     4.59,2,    11.24,2,     0.12,2,     0.77,2,    6.671,2,    3.391,2,    0.605,2,  2.24469524,2,   -999.0,9,   -999.0,9,  -0.0704
  316N20020530,    90,  1,     19,     19,2,20020618, 70.0077, -12.1407, 1804,    128.6,  -0.0209,  34.8516,2,  34.8544,2,    342.7,2,    342.0,2,     4.79,2,    11.53,2,     0.13,2,     0.79,2,    6.350,2,    3.266,2,    0.586,2,  2.20562701,2,   2154.5,2,   2285.6,2,  -0.0256
  316N20020530,    90,  1,     18,     18,2,20020618, 70.0077, -12.1407, 1804,    153.2,   0.1172,  34.8703,2,  34.8719,2,    339.0,2,    335.3,2,     4.89,2,    12.12,2,     0.03,2,     0.80,2,    6.093,2,    3.131,2,    0.535,2,  2.10800544,2,   -999.0,9,   -999.0,9,   0.1114
  316N20020530,    90,  1,     17,     17,2,20020618, 70.0077, -12.1407, 1804,    188.1,   0.1936,  34.8870,7,  34.8866,2,    329.6,2,    331.6,2,     5.08,2,    12.31,2,     0.03,2,     0.82,2,    5.832,6,    2.971,6,    0.518,6,        -999,9,   2154.6,2,   2287.7,2,   0.1863
  316N20020530,    90,  1,     16,     16,2,20020618, 70.0077, -12.1407, 1804,    224.6,   0.0216,  34.8815,2,  34.8813,2,    328.4,2,    329.0,2,     5.28,2,    12.61,2,     0.01,2,     0.83,2,    5.771,2,    2.911,2,    0.507,2,  2.03967617,2,   -999.0,9,   -999.0,9,   0.0131
  316N20020530,    90,  1,     15,     15,2,20020618, 70.0077, -12.1407, 1804,    264.1,  -0.1002,  34.8808,2,  34.8803,2,    327.6,2,    322.1,2,     5.86,2,    13.10,2,     0.01,2,     0.87,2,    5.364,2,    2.685,2,    0.451,2,  1.82497478,2,   2160.9,2,   2288.9,2,  -0.1100
  316N20020530,    90,  1,     14,     14,2,20020618, 70.0077, -12.1407, 1804,    301.9,  -0.2004,  34.8809,2,  34.8809,2,    325.1,2,    314.3,2,     6.65,2,    13.68,2,     0.01,2,     0.90,2,    4.840,2,    2.371,2,    0.372,2,  1.65906724,2,   -999.0,9,   -999.0,9,  -0.2115
  316N20020530,    90,  1,     13,     13,2,20020618, 70.0077, -12.1407, 1804,    329.4,  -0.2451,  34.8809,2,  34.8820,2,    317.5,2,    311.3,2,     6.84,2,    13.88,2,     0.01,2,     0.92,2,    4.691,2,    2.296,2,    0.357,2,  1.60051061,2,   -999.0,9,   -999.0,9,  -0.2571
  316N20020530,    90,  1,     12,     12,2,20020618, 70.0077, -12.1407, 1804,    418.6,  -0.3033,  34.8881,2,  34.8889,2,    310.5,2,    309.7,2,     7.23,2,    13.88,2,     0.00,2,     0.92,2,    4.162,2,    2.048,2,    0.286,2,  1.72737148,2,   2161.6,2,   2287.1,2,  -0.3187
  316N20020530,    90,  1,     11,     11,2,20020618, 70.0077, -12.1407, 1804,    500.0,  -0.4062,  34.8896,2,  34.8903,2,    307.9,2,    307.1,2,     7.62,2,    13.97,2,     0.00,2,     0.93,2,    3.803,6,    1.857,6,    0.278,6,  1.85423864,2,   -999.0,9,   -999.0,9,  -0.4246
  316N20020530,    90,  1,     10,     10,2,20020618, 70.0077, -12.1407, 1804,    599.5,  -0.5018,  34.8927,2,  34.8930,2,    305.8,2,    304.1,2,     8.21,2,    14.27,2,     0.00,2,     0.94,2,    3.402,2,    1.621,2,    0.236,2,  2.17628624,2,   2162.0,2,   2288.9,2,  -0.5239
  316N20020530,    90,  1,      9,      9,2,20020618, 70.0077, -12.1407, 1804,    699.1,  -0.5790,  34.8954,2,  34.8960,2,    305.0,2,    303.7,2,     8.60,2,    14.37,2,     0.00,2,     0.94,2,    2.960,2,    1.441,2,    0.202,2,  2.31290891,2,   -999.0,9,   -999.0,9,  -0.6050
  316N20020530,    90,  1,      8,      8,2,20020618, 70.0077, -12.1407, 1804,    795.5,  -0.6319,  34.8984,2,  34.8989,2,    301.6,2,    303.1,2,     9.38,2,    14.37,2,     0.00,2,     0.95,2,    2.667,2,    1.285,2,    0.172,2,  2.19579486,2,   2161.3,2,   2289.0,2,  -0.6618
  316N20020530,    90,  1,      7,      7,2,20020618, 70.0077, -12.1407, 1804,    892.4,  -0.6646,  34.9006,2,  34.9022,2,    300.4,2,    301.9,2,    10.07,3,    14.46,2,     0.00,2,     0.95,2,    2.302,2,    1.108,2,    0.138,2,  1.84446315,2,   -999.0,9,   -999.0,9,  -0.6987
  316N20020530,    90,  1,      6,      6,2,20020618, 70.0077, -12.1407, 1804,    981.0,  -0.6924,  34.9026,2,  34.9044,2,    299.9,2,    300.2,2,    10.36,3,    14.46,2,     0.00,2,     0.95,2,    1.984,2,    0.954,2,    0.120,2,  1.34674867,2,   2161.4,2,   2287.9,2,  -0.7305
  316N20020530,    90,  1,      5,      5,2,20020618, 70.0077, -12.1407, 1804,   1116.3,  -0.7270,  34.9048,2,  34.9059,2,    298.6,2,    299.4,2,    10.26,2,    14.56,2,     0.00,2,     0.97,2,    1.657,2,    0.796,2,    0.091,2,  1.07349412,2,   2159.1,2,   2289.0,2,  -0.7714
  316N20020530,    90,  1,      4,      4,2,20020618, 70.0077, -12.1407, 1804,   1266.3,  -0.7625,  34.9079,2,  34.9065,2,    297.4,2,    298.3,2,    10.85,2,    14.76,2,     0.00,2,     0.98,2,    1.355,2,    0.649,2,    0.065,2, 0.585541983,2,   -999.0,9,   -999.0,9,  -0.8142
  316N20020530,    90,  1,      3,      3,2,20020618, 70.0077, -12.1407, 1804,   1476.1,  -0.8061,  34.9086,7,  34.9097,2,    296.0,2,    297.2,2,    11.53,2,    14.95,2,     0.00,2,     0.99,2,    1.017,2,    0.511,2,    0.045,2, 0.331806334,2,   2162.7,2,   2289.4,2,  -0.8686
  316N20020530,    90,  1,      2,      2,2,20020618, 70.0077, -12.1407, 1804,   1659.9,  -0.8266,  34.9096,2,  34.9096,2,    294.6,2,    294.4,2,    12.90,2,    15.15,2,     0.00,2,     1.00,2,    0.838,2,    0.432,2,    0.043,2, 0.214698232,2,   2164.6,2,   2289.5,2,  -0.8993
  316N20020530,    90,  1,      1,      1,2,20020618, 70.0077, -12.1407, 1804,   1761.5,  -0.8281,  34.9106,2,  34.9104,2,    293.3,2,    292.8,2,    13.78,2,    15.34,2,     0.00,2,     1.01,2,    0.785,2,    0.407,2,    0.042,2, 0.136626066,2,   2163.6,2,   2292.9,2,  -0.9068
  316N20020530,    91,  1,     24,     24,2,20020618, 70.0065, -14.0237, 1641,      1.8,   2.9777,  34.7735,2,  34.7732,2,    366.2,2,    366.4,2,     0.29,2,     5.67,2,     0.07,2,     0.41,2,    6.114,2,    3.191,2,    0.565,2,        -999,9,   2119.7,2,   2289.4,2,   2.9776
  316N20020530,    91,  1,     23,     23,2,20020618, 70.0065, -14.0237, 1641,     18.7,   2.9813,  34.7736,2,  34.7730,2,    367.7,2,    366.5,2,     0.29,2,     5.57,2,     0.07,2,     0.41,2,    5.774,2,    3.078,2,    0.545,2,        -999,9,   2117.4,2,   2288.4,2,   2.9802
  316N20020530,    91,  1,     22,     22,2,20020618, 70.0065, -14.0237, 1641,     51.9,   0.0490,  34.8150,7,  34.8148,2,    354.9,2,    354.9,2,     4.40,2,    10.36,2,     0.05,2,     0.72,2,    6.208,2,    3.212,2,    0.589,2,        -999,9,   2154.1,2,   2286.0,2,   0.0471
  316N20020530,    91,  1,     21,     21,2,20020618, 70.0065, -14.0237, 1641,     76.2,  -0.0789,  34.8365,2,  34.8375,2,    344.6,2,    347.7,2,     5.08,2,    11.24,2,     0.07,2,     0.77,2, -999.000,9, -999.000,9, -999.000,9,        -999,9,   2152.2,2,   2288.0,2,  -0.0816
  316N20020530,    91,  1,     20,     20,2,20020618, 70.0065, -14.0237, 1641,     99.1,  -0.2205,  34.8444,2,  34.8457,2,    345.4,2,    344.5,2,     5.28,2,    11.63,2,     0.10,2,     0.79,2,    6.099,2,    3.198,2,    0.580,2,  2.14708445,2,   2153.4,2,   2287.4,2,  -0.2239
  316N20020530,    91,  1,     19,     19,2,20020618, 70.0065, -14.0237, 1641,    132.3,  -0.2565,  34.8484,2,  34.8524,2,    340.3,2,    341.0,2,     5.38,2,    11.73,2,     0.11,2,     0.80,2, -999.000,9, -999.000,9, -999.000,9,        -999,9,   2152.1,2,   2287.6,2,  -0.2611
  316N20020530,    91,  1,     18,     18,2,20020618, 70.0065, -14.0237, 1641,    165.2,  -0.1737,  34.8613,2,  34.8636,2,    337.6,2,    338.5,2,     5.57,2,    11.92,2,     0.10,2,     0.81,2,    5.634,2,    3.023,2,    0.514,2,        -999,9,   -999.0,9,   -999.0,9,  -0.1796
  316N20020530,    91,  1,     17,     17,2,20020618, 70.0065, -14.0237, 1641,    211.0,  -0.1470,  34.8719,2,  34.8733,2,    332.0,2,    331.0,2,     5.67,2,    12.22,2,     0.07,2,     0.83,2,    5.431,2,    2.806,2,    0.480,2,        -999,9,   2160.1,2,   2289.5,2,  -0.1547
  316N20020530,    91,  1,     16,     16,2,20020618, 70.0065, -14.0237, 1641,    259.2,  -0.1668,  34.8783,2,  34.8808,2,    327.6,2,    327.2,2,     5.86,2,    12.61,2,     0.01,2,     0.84,2,    5.281,2,    2.693,2,    0.445,2,  2.22510211,2,   2160.4,2,   2288.3,2,  -0.1763
  316N20020530,    91,  1,     15,     15,2,20020618, 70.0065, -14.0237, 1641,    308.3,  -0.1763,  34.8845,2,  34.8857,2,    324.8,2,    323.6,2,     5.96,2,    12.80,2,     0.01,2,     0.85,2,    4.973,6,    2.570,6,    0.418,6,        -999,9,   -999.0,9,   -999.0,9,  -0.1877
  316N20020530,    91,  1,     14,     14,2,20020618, 70.0065, -14.0237, 1641,    359.0,  -0.2083,  34.8861,2,  34.8881,2,    324.1,2,    321.2,2,     6.16,2,    12.90,2,     0.00,2,     0.86,2,    4.812,2,    2.435,2,    0.376,2,  1.81520501,2,   2155.7,2,   2285.1,2,  -0.2216
  316N20020530,    91,  1,     13,     13,2,20020618, 70.0065, -14.0237, 1641,    440.9,  -0.2476,  34.8907,2,  34.8922,2,    314.2,2,    314.5,2,     6.84,2,    13.29,2,     0.00,2,     0.88,2,    4.286,2,    2.161,2,    0.339,2,        -999,9,   -999.0,9,   -999.0,9,  -0.2642
  316N20020530,    91,  1,     12,     12,2,20020618, 70.0065, -14.0237, 1641,    513.2,  -0.3311,  34.8913,2,  34.8930,2,    312.1,2,    310.7,2,     7.33,2,    13.58,2,     0.00,2,     0.90,2,    3.944,2,    1.956,2,    0.304,2,   1.9127897,2,   2163.3,2,   2290.5,2,  -0.3504
  316N20020530,    91,  1,     11,     11,2,20020618, 70.0065, -14.0237, 1641,    584.1,  -0.4041,  34.8922,2,  34.8939,2,    310.0,2,    309.2,2,     8.21,3,    13.68,2,     0.00,2,     0.91,2,    3.695,2,    1.842,2,    0.285,2,  2.03965704,2,   -999.0,9,   -999.0,9,  -0.4260
  316N20020530,    91,  1,     10,     10,2,20020618, 70.0065, -14.0237, 1641,    678.5,  -0.4938,  34.8924,2,  34.8968,2,    306.9,2,    304.0,2,     8.60,3,    14.07,2,     0.00,2,     0.94,2,    3.128,2,    1.633,2,    0.240,2,  2.16652098,2,   2162.4,2,   2286.9,2,  -0.5194
  316N20020530,    91,  1,      9,      9,2,20020618, 70.0065, -14.0237, 1641,    777.5,  -0.5420,  34.8949,2,  34.8965,2,    305.0,2,    301.4,2,     8.31,2,    14.27,2,     0.00,2,     0.95,2,    2.961,2,    1.470,2,    0.217,2,  2.18603968,2,   -999.0,9,   -999.0,9,  -0.5717
  316N20020530,    91,  1,      8,      8,2,20020618, 70.0065, -14.0237, 1641,    876.1,  -0.5838,  34.8991,2,  34.8998,2,    304.8,2,    306.0,2,     9.09,2,    13.97,2,     0.00,2,     0.93,2,    2.612,2,    1.313,2,    0.192,2,  2.43001135,2,   2162.9,2,   2295.5,2,  -0.6177
  316N20020530,    91,  1,      7,      7,2,20020618, 70.0065, -14.0237, 1641,    976.1,  -0.6220,  34.9000,7,  34.9024,2,    302.2,2,    304.8,2,     9.28,2,    14.07,2,     0.00,2,     0.95,2,    2.414,2,    1.199,2,    0.175,2,  2.31289789,2,   -999.0,9,   -999.0,9,  -0.6604
  316N20020530,    91,  1,      6,      6,2,20020618, 70.0065, -14.0237, 1641,   1070.3,  -0.6619,  34.9023,2,  34.9038,2,    301.4,2,    301.6,2,     9.58,2,    14.37,2,     0.00,2,     0.95,2,    2.128,2,    1.065,2,    0.158,2,  1.90301527,2,   2165.3,2,   2296.9,2,  -0.7045
  316N20020530,    91,  1,      5,      5,2,20020618, 70.0065, -14.0237, 1641,   1163.0,  -0.6797,  34.9028,7,  34.9054,2,    300.8,2,    301.7,2,     9.87,2,    14.46,2,     0.00,2,     0.95,2,    1.952,6,    0.988,6,    0.134,6,   1.6395189,2,   -999.0,9,   -999.0,9,  -0.7268
  316N20020530,    91,  1,      4,      4,2,20020618, 70.0065, -14.0237, 1641,   1266.3,  -0.7041,  34.9048,2,  34.9066,2,    299.4,2,    301.2,2,    10.16,2,    14.46,2,     0.00,2,     0.96,2,    1.664,2,    0.878,2,    0.111,2,   1.3272284,2,   2166.2,2,   2290.9,2,  -0.7564
  316N20020530,    91,  1,      3,      3,2,20020618, 70.0065, -14.0237, 1641,   1384.6,  -0.7446,  34.9067,2,  34.9088,2,    297.3,2,    297.9,2,    10.95,2,    14.66,2,     0.00,2,     0.97,2,    1.388,2,    0.701,2,    0.094,2, 0.809998357,2,   -999.0,9,   -999.0,9,  -0.8028
  316N20020530,    91,  1,      2,      2,2,20020618, 70.0065, -14.0237, 1641,   1497.9,  -0.7792,  34.9077,2,  34.9100,2,    295.5,2,    296.3,2,    11.82,2,    14.95,2,     0.00,2,     1.00,2,    1.130,2,    0.559,2,    0.057,2, 0.526986412,2,   2168.1,2,   2292.5,2,  -0.8432
  316N20020530,    91,  1,      1,      1,2,20020618, 70.0065, -14.0237, 1641,   1592.6,  -0.7923,  34.9084,2,  34.9104,2,    294.5,2,    294.2,2,    12.41,2,    15.05,2,     0.00,2,     1.00,2,    1.045,2,    0.507,2,    0.045,2,  0.37084218,2,   2168.6,2,   2291.3,2,  -0.8615
  316N20020530,    92,  1,     19,     19,2,20020618, 70.0037, -15.4145, 1494,     14.0,   2.3956,  34.7551,2,  34.7549,2,    369.1,2,    369.1,2,     0.49,2,     6.06,2,     0.06,2,     0.42,2,    6.231,2,    3.166,2,    0.535,2,  2.12770931,2,   2119.7,2,   2284.3,2,   2.3948
  316N20020530,    92,  1,     18,     18,2,20020618, 70.0037, -15.4145, 1494,     44.5,  -0.2310,  34.7595,2,  34.7608,2,    356.3,2,    355.1,2,     4.59,2,    10.46,2,     0.04,2,     0.73,2,    6.318,2,    3.234,2,    0.539,2,  2.27410134,2,   2149.6,2,   2282.1,2,  -0.2325
  316N20020530,    92,  1,     17,     17,2,20020618, 70.0037, -15.4145, 1494,     85.9,  -0.4000,  34.7915,2,  34.7938,2,    344.3,2,    346.4,2,     5.18,2,    11.34,2,     0.08,2,     0.77,2,    6.182,2,    3.152,2,    0.534,2,  2.13740755,2,   2153.5,2,   2281.6,2,  -0.4028
  316N20020530,    92,  1,     16,     16,2,20020618, 70.0037, -15.4145, 1494,    129.6,  -0.0714,  34.8330,2,  34.8401,2,    343.3,2,    333.2,2,     5.57,2,    11.83,2,     0.08,2,     0.79,2,    5.582,2,    2.825,2,    0.438,2,  1.84454842,2,   2151.7,2,   2287.0,2,  -0.0761
  316N20020530,    92,  1,     15,     15,2,20020618, 70.0037, -15.4145, 1494,    186.0,  -0.1818,  34.8397,2,  34.8423,2,    332.0,2,    336.4,2,     5.57,2,    12.02,2,     0.09,2,     0.80,2,    5.650,2,    2.889,2,    0.477,2,   1.9226214,2,   2155.5,2,   2287.6,2,  -0.1884
  316N20020530,    92,  1,     14,     14,2,20020618, 70.0037, -15.4145, 1494,    235.6,  -0.0123,  34.8704,2,  34.8707,2,    324.7,2,    325.9,2,     5.77,2,    12.41,2,     0.05,2,     0.83,2,    5.181,2,    2.591,2,    0.397,2,  1.74691347,2,   2157.8,2,   2285.8,2,  -0.0212
  316N20020530,    92,  1,     13,     13,2,20020618, 70.0037, -15.4145, 1494,    284.5,  -0.0084,  34.8792,2,  34.8802,2,    323.8,2,    320.3,2,     5.96,2,    12.80,2,     0.01,2,     0.85,2,    4.823,2,    2.388,2,    0.347,2,   1.6200312,2,   2154.3,2,   2286.6,2,  -0.0192
  316N20020530,    92,  1,     12,     12,2,20020618, 70.0037, -15.4145, 1494,    355.4,   0.0242,  34.8936,2,  34.8959,2,    314.9,2,    311.8,2,     6.45,2,    13.10,2,     0.00,2,     0.88,2,    4.192,2,    2.033,2,    0.286,2,   1.3565163,2,   -999.0,9,   -999.0,9,   0.0103
  316N20020530,    92,  1,     11,     11,2,20020618, 70.0037, -15.4145, 1494,    418.3,  -0.1027,  34.8951,2,  34.8959,2,    313.8,2,    313.3,2,     6.65,2,    13.19,2,     0.00,2,     0.88,2,    4.014,6,    1.989,6,    0.308,6,        -999,9,   2157.8,2,   2291.4,2,  -0.1188
  316N20020530,    92,  1,     10,     10,2,20020618, 70.0037, -15.4145, 1494,    506.6,  -0.2760,  34.8928,2,  34.8945,2,    312.2,2,    313.5,2,     7.04,2,    13.39,2,     0.00,2,     0.89,2,    4.059,2,    1.986,2,    0.276,2,  1.80543724,2,   -999.0,9,   -999.0,9,  -0.2952
  316N20020530,    92,  1,      9,      9,2,20020618, 70.0037, -15.4145, 1494,    616.9,  -0.4036,  34.8943,2,  34.8949,2,    311.6,2,    311.1,2,     7.62,2,    13.58,2,     0.00,2,     0.90,2,    3.660,2,    1.772,2,    0.234,2,  2.17628316,2,   2160.3,2,   2286.2,2,  -0.4270
  316N20020530,    92,  1,      8,      8,2,20020618, 70.0037, -15.4145, 1494,    713.9,  -0.4842,  34.8953,2,  34.8957,2,    308.1,2,    309.6,2,     8.01,2,    13.78,2,     0.00,2,     0.92,2,    3.331,2,    1.628,2,    0.214,2,  2.44953699,2,   -999.0,9,   -999.0,9,  -0.5114
  316N20020530,    92,  1,      7,      7,2,20020618, 70.0037, -15.4145, 1494,    812.1,  -0.5314,  34.8967,2,  34.8980,2,    308.7,2,    308.0,2,     8.50,2,    13.88,2,     0.00,2,     0.93,2,    3.076,2,    1.512,2,    0.201,2,  2.47881008,2,   2158.3,2,   2288.6,2,  -0.5627
  316N20020530,    92,  1,      6,      6,2,20020618, 70.0037, -15.4145, 1494,    916.5,  -0.5563,  34.8983,7,  34.9006,2,    304.0,2,    306.1,2,     8.80,2,    13.97,2,     0.00,2,     0.93,2,    2.818,2,    1.387,2,    0.176,2,  2.51784159,2,   -999.0,9,   -999.0,9,  -0.5923
  316N20020530,    92,  1,      5,      5,2,20020618, 70.0037, -15.4145, 1494,   1017.2,  -0.5718,  34.8997,2,  34.9010,2,    307.6,2,    305.6,2,     8.99,2,    13.97,2,     0.00,2,     0.93,2,    2.692,6,    1.317,6,    0.153,6,  2.48856362,2,   2161.6,2,   2287.2,2,  -0.6126
  316N20020530,    92,  1,      4,      4,2,20020618, 70.0037, -15.4145, 1494,   1115.8,  -0.5863,  34.9007,2,  34.9020,2,    306.1,2,    304.5,2,     9.38,2,    14.07,2,     0.00,2,     0.93,2,    2.573,2,    1.274,2,    0.146,2,  2.42024831,2,   -999.0,9,   -999.0,9,  -0.6319
  316N20020530,    92,  1,      3,      3,2,20020618, 70.0037, -15.4145, 1494,   1218.0,  -0.5996,  34.9019,2,  34.9030,2,    304.7,2,    304.5,2,     9.87,2,    14.17,2,     0.00,2,     0.94,2,    2.408,2,    1.158,2,    0.132,2,  2.36169215,2,   2162.9,2,   2290.9,2,  -0.6504
  316N20020530,    92,  1,      2,      2,2,20020618, 70.0037, -15.4145, 1494,   1315.2,  -0.6050,  34.9031,2,  34.9031,2,    302.3,2,    303.0,2,    10.07,2,    14.27,2,     0.00,2,     0.94,2,    2.413,2,    1.191,2,    0.123,2,    2.195788,2,   2160.0,2,   2289.7,2,  -0.6609
  316N20020530,    92,  1,      1,      1,2,20020618, 70.0037, -15.4145, 1494,   1442.3,  -0.6079,  34.9032,2,  34.9049,2,    302.2,2,    302.6,2,    10.07,2,    14.27,2,     0.00,2,     0.94,2,    2.243,2,    1.096,2,    0.113,2,  2.23482123,2,   2163.0,2,   2287.6,2,  -0.6708