BOTTLE,20081218PRINUNIVRMK
EXPOCODE,STNNBR,CASTNO,SAMPNO,BTLNBR,BTLNBR_FLAG_W,DATE,LATITUDE,LONGITUDE,DEPTH,CTDPRS,CTDTMP,CTDSAL,CTDSAL_FLAG_W,SALNTY,SALNTY_FLAG_W,CTDOXY,CTDOXY_FLAG_W,OXYGEN,OXYGEN_FLAG_W,SILCAT,SILCAT_FLAG_W,NITRAT,NITRAT_FLAG_W,NITRIT,NITRIT_FLAG_W,PHSPHT,PHSPHT_FLAG_W,CFC-11,CFC-11_FLAG_W,CFC-12,CFC-12_FLAG_W,CFC113,CFC113_FLAG_W,SF6,SF6_FLAG_W,TCARBN,TCARBN_FLAG_W,ALKALI,ALKALI_FLAG_W,THETA
,,,,,,,,,METERS,DBARS,ITS-90,PSS-78,,PSS-78,,UMOL/KG,,UMOL/KG,,UMOL/KG,,UMOL/KG,,UMOL/KG,,UMOL/KG,,PMOL/KG,,PMOL/KG,,PMOL/KG,,FMOL/KG,,UMOL/KG,,UMOL/KG,,DEGC
  316N20020530,   102,  1,     21,     21,2,20020620, 66.0043,  -7.9762, 1632,      9.6,   6.5380,  34.6741,2,  34.6711,2,    321.6,2,    321.7,2,     0.00,2,     3.42,2,     0.06,2,     0.26,2,    5.102,2,    2.681,2,    0.431,2,  2.07903834,2,   2090.4,2,   2281.6,2,   6.5372
  316N20020530,   102,  1,     20,     20,2,20020620, 66.0043,  -7.9762, 1632,     34.5,   3.5650,  34.7196,2,  34.7246,2,    351.3,2,    354.9,2,     0.20,2,     5.18,2,     0.07,2,     0.39,2,    5.804,2,    2.992,2,    0.527,2,   2.2156005,2,   2101.6,2,   2287.5,2,   3.5628
  316N20020530,   102,  1,     19,     19,2,20020620, 66.0043,  -7.9762, 1632,     66.1,   1.8823,  34.8242,7,  34.8190,2,    334.8,2,    331.1,2,     3.13,2,     9.48,2,     0.27,2,     0.71,2,    5.999,2,    3.097,2,    0.531,2,  2.26424315,2,   2137.1,2,   -999.0,9,   1.8789
  316N20020530,   102,  1,     18,     18,2,20020620, 66.0043,  -7.9762, 1632,     99.5,   0.4559,  34.8103,2,  34.8053,2,    329.8,2,    333.5,2,     4.40,2,    11.63,2,     0.04,2,     0.78,2,    6.059,2,    3.137,2,    0.533,2,  2.28378578,2,   -999.0,9,   -999.0,9,   0.4519
  316N20020530,   102,  1,     17,     17,2,20020620, 66.0043,  -7.9762, 1632,    144.1,   1.4399,  34.9273,2,  34.9276,2,    324.3,2,    322.7,2,     4.79,2,    12.22,2,     0.03,2,     0.82,2,    5.661,2,    2.914,2,    0.478,2,  2.02008811,2,   2153.3,2,   2288.1,2,   1.4328
  316N20020530,   102,  1,     16,     16,2,20020620, 66.0043,  -7.9762, 1632,    203.3,   1.4878,  34.9499,2,  34.9484,2,    319.5,2,    318.1,2,     5.08,2,    12.51,2,     0.02,2,     0.83,2,    5.575,2,    2.866,2,    0.450,2,  2.01029811,2,   -999.0,9,   -999.0,9,   1.4776
  316N20020530,   102,  1,     15,     15,2,20020620, 66.0043,  -7.9762, 1632,    267.6,   0.9516,  34.9233,2,  34.9238,2,    318.7,2,    317.3,2,     5.57,2,    12.90,2,     0.01,2,     0.86,2,    5.432,6,    2.808,6,    0.441,6,  1.88346912,2,   -999.0,9,   -999.0,9,   0.9393
  316N20020530,   102,  1,     14,     14,2,20020620, 66.0043,  -7.9762, 1632,    304.5,   0.5695,  34.9061,7,  34.9055,2,    316.3,2,    315.8,2,     5.86,2,    13.19,2,     0.01,2,     0.88,2,    5.103,2,    2.528,2,    0.378,2,  1.74686822,2,   -999.0,9,   -999.0,9,   0.5563
  316N20020530,   102,  1,     13,     13,2,20020620, 66.0043,  -7.9762, 1632,    369.5,  -0.0918,  34.8776,2,  34.8772,2,    314.9,2,    314.4,2,     6.35,2,    13.49,2,     0.01,2,     0.90,2,    4.813,2,    2.341,2,    0.347,2,  1.63955331,2,   2158.7,2,   2285.7,2,  -0.1059
  316N20020530,   102,  1,     12,     12,2,20020620, 66.0043,  -7.9762, 1632,    421.1,  -0.2167,  34.8781,2,  34.8797,2,    313.5,2,    312.8,2,     6.65,2,    13.39,2,     0.01,2,     0.91,2,    4.587,2,    2.254,2,    0.334,2,  1.65906872,2,   -999.0,9,   -999.0,9,  -0.2325
  316N20020530,   102,  1,     11,     11,2,20020620, 66.0043,  -7.9762, 1632,    477.3,  -0.2835,  34.8824,2,  34.8816,2,    312.7,2,    313.1,2,     6.84,2,    13.58,2,     0.01,2,     0.91,2,    4.541,2,    2.210,2,    0.319,2,  1.70786244,2,   2155.9,2,   2287.2,2,  -0.3014
  316N20020530,   102,  1,     10,     10,2,20020620, 66.0043,  -7.9762, 1632,    561.2,  -0.3654,  34.8849,2,  34.8848,2,    310.4,2,    311.8,2,     7.13,2,    13.78,2,     0.00,2,     0.92,2,    4.253,2,    2.068,2,    0.293,2,  1.87376462,2,   -999.0,9,   -999.0,9,  -0.3865
  316N20020530,   102,  1,      9,      9,2,20020620, 66.0043,  -7.9762, 1632,    667.5,  -0.4564,  34.8903,2,  34.8894,2,    307.1,2,    307.5,2,     7.82,2,    13.97,2,     0.00,2,     0.93,2,    3.718,2,    1.811,2,    0.244,2,  2.19581039,2,   2160.1,2,   2285.6,2,  -0.4817
  316N20020530,   102,  1,      8,      8,2,20020620, 66.0043,  -7.9762, 1632,    765.5,  -0.5236,  34.8934,2,  34.8931,2,    305.2,2,    306.9,2,     8.11,2,    14.07,2,     0.00,2,     0.94,2,    3.306,2,    1.592,2,    0.212,2,  2.55689217,2,   -999.0,9,   -999.0,9,  -0.5528
  316N20020530,   102,  1,      7,      7,2,20020620, 66.0043,  -7.9762, 1632,    881.4,  -0.5792,  34.8985,2,  34.8986,2,    302.8,2,    303.4,2,     8.89,2,    14.17,2,     0.00,2,     0.94,2,    2.786,2,    1.337,2,    0.170,2,  2.52760443,2,   -999.0,9,   -999.0,9,  -0.6134
  316N20020530,   102,  1,      6,      6,2,20020620, 66.0043,  -7.9762, 1632,    978.1,  -0.6070,  34.9020,2,  34.9017,2,    301.4,2,    300.8,2,     9.28,2,    14.37,2,     0.00,2,     0.95,2,    2.372,2,    1.146,2,    0.151,2,   2.3128991,2,   2159.1,2,   2288.6,2,  -0.6456
  316N20020530,   102,  1,      5,      5,2,20020620, 66.0043,  -7.9762, 1632,   1122.0,  -0.6478,  34.9045,2,  34.9045,2,    299.8,2,    299.9,2,     9.87,2,    14.46,2,     0.00,2,     0.96,2,    2.036,2,    0.990,2,    0.134,2,  1.94205047,2,   -999.0,9,   -999.0,9,  -0.6932
  316N20020530,   102,  1,      4,      4,2,20020620, 66.0043,  -7.9762, 1632,   1266.2,  -0.6767,  34.9069,2,  34.9060,2,    298.5,2,    299.0,2,    10.36,2,    14.56,2,     0.00,2,     0.97,2,    1.786,2,    0.864,2,    0.100,2,  1.59072298,2,   -999.0,9,   -999.0,9,  -0.7292
  316N20020530,   102,  1,      3,      3,2,20020620, 66.0043,  -7.9762, 1632,   1403.0,  -0.7104,  34.9076,2,  34.9077,2,    297.0,2,    298.8,2,    11.04,2,    14.66,2,     0.00,2,     0.98,2,    1.579,2,    0.791,2,    0.091,2,   1.1222878,2,   2160.2,2,   2290.1,2,  -0.7699
  316N20020530,   102,  1,      2,      2,2,20020620, 66.0043,  -7.9762, 1632,   1502.3,  -0.7626,  34.9097,2,  34.9079,2,    295.1,2,    294.6,2,    12.31,2,    14.95,2,     0.00,2,     1.00,2,    1.197,2,    0.602,2,    0.068,2, 0.605059419,2,   2162.5,2,   2290.3,2,  -0.8271
  316N20020530,   102,  1,      1,      1,2,20020620, 66.0043,  -7.9762, 1632,   1590.0,  -0.8092,  34.9105,2,  34.9095,2,    293.9,2,    293.7,2,    13.49,2,    15.15,2,     0.01,2,     1.01,2,    0.949,2,    0.488,2,    0.045,2, 0.341565394,2,   2158.8,2,   2291.5,2,  -0.8781
  316N20020530,   103,  1,     26,     26,2,20020620, 65.9985,  -7.2708, 2023,      5.6,   7.1824,  34.7495,2,  34.7473,2,    316.0,2,    316.0,2,     0.20,2,     2.83,2,     0.05,2,     0.25,2,    4.975,2,    2.614,2,    0.450,2,  1.95203794,2,   -999.0,9,   -999.0,9,   7.1819
  316N20020530,   103,  1,     25,     25,2,20020620, 65.9985,  -7.2708, 2023,     29.9,   3.1691,  34.7858,2,  34.7822,2,    356.9,2,    358.6,2,     0.20,2,     5.57,2,     0.07,2,     0.44,2,    5.889,2,    2.992,2,    0.522,2,        -999,9,   -999.0,9,   -999.0,9,   3.1672
  316N20020530,   103,  1,     24,     24,2,20020620, 65.9985,  -7.2708, 2023,     70.2,   1.4617,  34.8135,2,  34.8148,2,    332.4,2,    331.3,2,     3.42,2,    10.26,2,     0.31,2,     0.76,2,    6.020,2,    3.091,2,    0.530,2,  2.37160692,2,   -999.0,9,   -999.0,9,   1.4583
  316N20020530,   103,  1,     23,     23,2,20020620, 65.9985,  -7.2708, 2023,    100.3,   1.9315,  34.9315,2,  34.9297,2,    321.4,2,    320.8,2,     4.59,2,    12.02,2,     0.07,2,     0.81,2,    5.791,2,    2.943,2,    0.486,2,        -999,9,   -999.0,9,   -999.0,9,   1.9262
  316N20020530,   103,  1,     22,     22,2,20020620, 65.9985,  -7.2708, 2023,    144.9,   1.6386,  34.9378,2,  34.9383,2,    320.3,2,    320.1,2,     4.79,2,    12.41,2,     0.03,2,     0.84,2,    5.796,2,    2.882,2,    0.487,2,  2.06886603,2,   -999.0,9,   -999.0,9,   1.6312
  316N20020530,   103,  1,     21,     21,2,20020620, 65.9985,  -7.2708, 2023,    205.4,   1.5553,  34.9553,2,  34.9562,2,    319.1,2,    318.0,2,     5.18,2,    12.70,2,     0.02,2,     0.85,2,    5.528,2,    2.803,2,    0.469,2,        -999,9,   -999.0,9,   -999.0,9,   1.5449
  316N20020530,   103,  1,     20,     20,2,20020620, 65.9985,  -7.2708, 2023,    246.1,   1.3207,  34.9432,2,  34.9425,2,    316.8,2,    316.1,2,     5.47,2,    12.90,2,     0.02,2,     0.86,2,    5.320,2,    2.695,2,    0.440,2,  1.97127185,2,   -999.0,9,   -999.0,9,   1.3086
  316N20020530,   103,  1,     19,     19,2,20020620, 65.9985,  -7.2708, 2023,    296.7,   0.8620,  34.9218,2,  34.9187,2,    319.1,2,    317.2,2,     5.77,2,    13.00,2,     0.01,2,     0.87,2,    5.394,2,    2.668,2,    0.442,2,  1.86395839,2,   -999.0,9,   -999.0,9,   0.8485
  316N20020530,   103,  1,     18,     18,2,20020620, 65.9985,  -7.2708, 2023,    357.0,   0.4276,  34.9017,2,  34.9005,2,    319.8,2,    315.7,2,     6.06,2,    13.10,2,     0.01,2,     0.88,2,    5.030,2,    2.519,2,    0.408,2,  1.80542918,2,   -999.0,9,   -999.0,9,   0.4124
  316N20020530,   103,  1,     17,     17,2,20020620, 65.9985,  -7.2708, 2023,    406.8,   0.0445,  34.8865,2,  34.8861,2,    310.7,2,    310.9,2,     6.45,2,    13.58,2,     0.00,2,     0.92,2,    4.638,2,    2.265,2,    0.359,2,  1.58098736,2,   -999.0,9,   -999.0,9,   0.0284
  316N20020530,   103,  1,     16,     16,2,20020620, 65.9985,  -7.2708, 2023,    456.6,  -0.0622,  34.8898,2,  34.8901,2,    309.1,2,    308.5,2,     6.84,2,    13.78,2,     0.00,2,     0.94,2,    4.339,2,    2.104,2,    0.334,2,  1.48339113,2,   -999.0,9,   -999.0,9,  -0.0801
  316N20020530,   103,  1,     15,     15,2,20020620, 65.9985,  -7.2708, 2023,    507.1,  -0.2455,  34.8848,2,  34.8826,2,    310.2,2,    311.8,2,     6.94,2,    13.68,2,     0.00,2,     0.93,2,    4.481,2,    2.203,2,    0.345,2,  1.80545324,2,   -999.0,9,   -999.0,9,  -0.2648
  316N20020530,   103,  1,     14,     14,2,20020620, 65.9985,  -7.2708, 2023,    586.9,  -0.3615,  34.8867,2,  34.8860,2,    309.2,2,    309.9,2,     7.23,2,    13.78,2,     0.00,2,     0.94,2,    4.116,2,    2.011,2,    0.309,2,  1.92255885,2,   -999.0,9,   -999.0,9,  -0.3838
  316N20020530,   103,  1,     13,     13,2,20020620, 65.9985,  -7.2708, 2023,    668.6,  -0.4585,  34.8904,7,  34.8909,2,    307.4,2,    307.3,2,     7.82,2,    13.97,2,     0.00,2,     0.95,2,    3.763,2,    1.821,2,    0.273,2,  2.34219513,2,   -999.0,9,   -999.0,9,  -0.4838
  316N20020530,   103,  1,     12,     12,2,20020620, 65.9985,  -7.2708, 2023,    758.5,  -0.5132,  34.8931,2,  34.8930,2,    303.8,2,    305.0,2,     8.21,2,    14.07,2,     0.00,2,     0.95,2,    3.343,2,    1.620,2,    0.236,2,   2.5080967,2,   -999.0,9,   -999.0,9,  -0.5422
  316N20020530,   103,  1,     11,     11,2,20020620, 65.9985,  -7.2708, 2023,    858.8,  -0.5978,  34.8952,2,  34.8952,2,    306.0,2,    305.5,2,     8.40,2,    14.17,2,     0.00,2,     0.95,2,    3.040,2,    1.475,2,    0.215,2,  3.04484393,2,   -999.0,9,   -999.0,9,  -0.6308
  316N20020530,   103,  1,     10,     10,2,20020620, 65.9985,  -7.2708, 2023,    959.4,  -0.6641,  34.8985,2,  34.9011,2,    304.7,2,    305.5,2,     8.80,2,    14.17,2,     0.00,2,     0.96,2,    2.916,2,    1.365,2,    0.207,2,  3.15218035,2,   -999.0,9,   -999.0,9,  -0.7013
  316N20020530,   103,  1,      9,      9,2,20020620, 65.9985,  -7.2708, 2023,   1067.7,  -0.6948,  34.9016,7,  34.9011,2,    303.9,2,    303.2,2,     9.38,2,    14.37,2,     0.00,2,     0.97,2,    2.330,2,    1.107,2,    0.166,2,  2.30314106,2,   -999.0,9,   -999.0,9,  -0.7370
  316N20020530,   103,  1,      8,      8,2,20020620, 65.9985,  -7.2708, 2023,   1167.5,  -0.7241,  34.9044,2,  34.9041,2,    302.2,2,    302.1,2,     9.77,2,    14.46,2,     0.00,2,     0.98,2,    2.021,2,    0.965,2,    0.138,2,  1.68831574,2,   -999.0,9,   -999.0,9,  -0.7711
  316N20020530,   103,  1,      7,      7,2,20020620, 65.9985,  -7.2708, 2023,   1270.1,  -0.7401,  34.9062,2,  34.9066,2,    299.7,2,    300.2,2,    10.26,2,    14.56,2,     0.00,2,     0.99,2,    1.737,2,    0.811,2,    0.104,2,  1.16132485,2,   -999.0,9,   -999.0,9,  -0.7922
  316N20020530,   103,  1,      6,      6,2,20020620, 65.9985,  -7.2708, 2023,   1423.3,  -0.7791,  34.9097,2,  34.9092,2,    299.1,2,    299.4,2,    10.65,2,    14.66,2,     0.00,2,     0.99,2,    1.327,2,    0.639,2,    0.079,2, 0.731926008,2,   -999.0,9,   -999.0,9,  -0.8390
  316N20020530,   103,  1,      5,      5,2,20020620, 65.9985,  -7.2708, 2023,   1583.8,  -0.8114,  34.9107,2,  34.9098,2,    298.5,2,    299.0,2,    11.04,2,    14.76,2,     0.00,2,     0.99,2,    1.067,2,    0.508,2,    0.060,2, 0.380601354,2,   -999.0,9,   -999.0,9,  -0.8799
  316N20020530,   103,  1,      4,      4,2,20020620, 65.9985,  -7.2708, 2023,   1703.1,  -0.8344,  34.9115,2,  34.9102,2,    298.0,2,    298.7,2,    11.34,2,    14.85,2,     0.00,2,     1.00,2,    0.901,2,    0.438,2,    0.047,2, 0.341565216,2,   -999.0,9,   -999.0,9,  -0.9095
  316N20020530,   103,  1,      3,      3,2,20020620, 65.9985,  -7.2708, 2023,   1822.2,  -0.8491,  34.9114,2,-999.0000,9,    298.6,2,    298.7,2,    11.63,2,    14.85,2,     0.00,2,     1.00,2,    0.841,6,    0.404,6,    0.044,6, 0.253730208,2,   -999.0,9,   -999.0,9,  -0.9312
  316N20020530,   103,  1,      2,      2,2,20020620, 65.9985,  -7.2708, 2023,   1923.1,  -0.8587,  34.9112,2,  34.9104,2,    298.0,2,    298.2,2,    11.82,2,    14.95,2,     0.00,2,     1.01,2,    0.791,2,    0.376,2,    0.038,2, 0.234216113,2,   -999.0,9,   -999.0,9,  -0.9469
  316N20020530,   103,  1,      1,      1,2,20020620, 65.9985,  -7.2708, 2023,   1996.7,  -0.8662,  34.9116,2,  34.9110,2,    297.2,2,    297.1,2,    12.41,2,    15.05,2,     0.00,2,     1.02,2,    0.739,2,    0.349,2,    0.037,2, 0.156144006,2,   -999.0,9,   -999.0,9,  -0.9589