BOTTLE,20081218PRINUNIVRMK
EXPOCODE,STNNBR,CASTNO,SAMPNO,BTLNBR,BTLNBR_FLAG_W,DATE,LATITUDE,LONGITUDE,DEPTH,CTDPRS,CTDTMP,CTDSAL,CTDSAL_FLAG_W,SALNTY,SALNTY_FLAG_W,CTDOXY,CTDOXY_FLAG_W,OXYGEN,OXYGEN_FLAG_W,SILCAT,SILCAT_FLAG_W,NITRAT,NITRAT_FLAG_W,NITRIT,NITRIT_FLAG_W,PHSPHT,PHSPHT_FLAG_W,CFC-11,CFC-11_FLAG_W,CFC-12,CFC-12_FLAG_W,CFC113,CFC113_FLAG_W,SF6,SF6_FLAG_W,TCARBN,TCARBN_FLAG_W,ALKALI,ALKALI_FLAG_W,THETA
,,,,,,,,,METERS,DBARS,ITS-90,PSS-78,,PSS-78,,UMOL/KG,,UMOL/KG,,UMOL/KG,,UMOL/KG,,UMOL/KG,,UMOL/KG,,PMOL/KG,,PMOL/KG,,PMOL/KG,,FMOL/KG,,UMOL/KG,,UMOL/KG,,DEGC
  316N20020530,   147,  1,     21,     21,2,20020629, 61.3992,  -7.9727,  699,      3.1,  10.1835,  35.2639,2,-999.0000,9,    286.4,2,    287.1,2,     2.83,2,     7.33,2,     0.14,2,     0.51,2,    3.691,2,    2.013,2,    0.290,2,  1.68828177,2,   2102.3,2,   2328.2,2,  10.1831
  316N20020530,   147,  1,     20,     20,2,20020629, 61.3992,  -7.9727,  699,     27.3,  10.1360,  35.2638,2,-999.0000,9,    285.6,2,    285.2,2,     2.44,2,     7.52,2,     0.14,2,     0.52,2,    3.760,2,    2.048,2,    0.331,2,  1.69804063,2,   2103.7,2,   2327.2,2,  10.1328
  316N20020530,   147,  1,     19,     19,2,20020629, 61.3992,  -7.9727,  699,     52.6,   9.6915,  35.2877,2,-999.0000,9,    275.5,2,    273.8,2,     3.42,2,     9.87,2,     0.16,2,     0.65,2,    3.781,2,    2.060,2,    0.317,2,   1.6394875,2,   2120.0,2,   2327.4,2,   9.6855
  316N20020530,   147,  1,     18,     18,2,20020629, 61.3992,  -7.9727,  699,     77.5,   9.3950,  35.3025,2,-999.0000,9,    270.3,2,    270.8,2,     3.52,2,    10.75,2,     0.15,2,     0.70,2,    3.650,2,    2.016,2,    0.295,2,  1.67852292,2,   2124.3,2,   2327.4,2,   9.3864
  316N20020530,   147,  1,     17,     17,2,20020629, 61.3992,  -7.9727,  699,    102.7,   9.1917,  35.3138,2,-999.0000,9,    268.2,2,    267.7,2,     4.01,2,    11.82,2,     0.10,2,     0.76,2,    3.666,2,    2.005,2,    0.298,2,  1.65900521,2,   2133.8,2,   2327.1,2,   9.1804
  316N20020530,   147,  1,     16,     16,2,20020629, 61.3992,  -7.9727,  699,    143.1,   8.8265,  35.3062,2,-999.0000,9,    266.4,2,    266.3,2,     5.08,2,    12.70,2,     0.02,2,     0.81,2,    3.689,2,    2.062,2,    0.289,2,  1.64924635,2,   2139.0,2,   2326.2,2,   8.8111
  316N20020530,   147,  1,     15,     15,2,20020629, 61.3992,  -7.9727,  699,    168.1,   8.5167,  35.2839,2,-999.0000,9,    267.4,2,    267.4,2,     5.47,2,    12.90,2,     0.03,2,     0.83,2,    3.761,6,    2.071,6,    0.292,6,  1.62972865,2,   -999.0,9,   -999.0,9,   8.4990
  316N20020530,   147,  1,     14,     14,2,20020629, 61.3992,  -7.9727,  699,    218.2,   8.3935,  35.2740,2,-999.0000,9,    268.0,2,    267.9,2,     5.86,2,    12.99,2,     0.03,2,     0.84,2,    3.679,2,    1.996,2,    0.294,2,  1.61996979,2,   2140.8,2,   2323.3,2,   8.3706
  316N20020530,   147,  1,     13,     13,2,20020629, 61.3992,  -7.9727,  699,    278.8,   8.2947,  35.2656,2,-999.0000,9,    269.5,2,    269.3,2,     5.67,2,    12.90,2,     0.03,2,     0.84,2,    3.785,6,    2.062,6,    0.304,6,  1.64924635,2,   -999.0,9,   -999.0,9,   8.2656
  316N20020530,   147,  1,     12,     12,2,20020629, 61.3992,  -7.9727,  699,    319.1,   8.2346,  35.2633,2,-999.0000,9,    268.9,2,    269.0,2,     5.86,2,    12.99,2,     0.03,2,     0.85,2,    3.786,2,    2.031,2,    0.304,2,  1.64924635,2,   -999.0,9,   -999.0,9,   8.2013
  316N20020530,   147,  1,     11,     11,2,20020629, 61.3992,  -7.9727,  699,    394.1,   6.9275,  35.1987,2,-999.0000,9,    272.5,2,    272.9,2,     6.64,2,    13.68,2,     0.01,2,     0.90,2,    3.677,2,    2.039,2,    0.301,2,  1.62972865,2,   -999.0,9,   -999.0,9,   6.8901
  316N20020530,   147,  1,     10,     10,2,20020629, 61.3992,  -7.9727,  699,    454.4,   4.6580,  35.0772,2,-999.0000,9,    286.2,2,    286.4,2,     6.84,2,    13.68,2,     0.00,2,     0.91,2,    4.162,2,    2.127,2,    0.325,2,  1.73707604,2,   -999.0,9,   -999.0,9,   4.6227
  316N20020530,   147,  1,      9,      9,2,20020629, 61.3992,  -7.9727,  699,    549.5,   1.5440,  34.9424,2,-999.0000,9,    298.1,2,    298.1,2,     7.82,2,    13.97,2,     0.00,2,     0.94,2,    3.826,2,    1.973,2,    0.289,2,  1.73707604,2,   2159.6,2,   2303.1,2,   1.5147
  316N20020530,   147,  1,      8,      8,2,20020629, 61.3992,  -7.9727,  699,    629.5,   0.0278,  34.9047,2,-999.0000,9,    299.4,2,    299.8,2,     9.19,2,    14.46,2,     0.01,2,     0.98,2,    3.004,2,    1.525,2,    0.205,2,  1.60045208,2,   2161.1,2,   2302.5,2,   0.0016
  316N20020530,   147,  1,      7,      7,2,20020629, 61.3992,  -7.9727,  699,    689.2,  -0.2072,  34.9016,2,-999.0000,9,    299.5,2,    299.7,2,     9.38,2,    14.56,2,     0.01,2,     0.98,2,    2.841,2,    1.404,2,    0.198,2,  1.59069323,2,   2164.8,2,   2301.2,2,  -0.2349
  316N20020530,   148,  1,     33,     33,2,20020629, 61.2978,  -8.1685,  603,      2.6,  10.5516,  35.2675,2,  35.2676,2,    284.9,2,    286.0,2,     0.88,2,     6.25,2,     0.19,2,     0.41,2,    3.737,2,    2.087,2,    0.307,2,  1.67810256,2,   2096.0,2,   2329.7,2,  10.5513
  316N20020530,   148,  1,     31,     31,2,20020629, 61.2978,  -8.1685,  603,     22.4,  10.4964,  35.2691,2,  35.2686,2,    286.0,2,    285.4,2,     0.88,2,     6.25,2,     0.18,2,     0.42,2,    3.746,2,    2.076,2,    0.300,2,  1.71712692,2,   2097.3,2,   2326.3,2,  10.4937
  316N20020530,   148,  1,     29,     29,2,20020629, 61.2978,  -8.1685,  603,     53.0,   9.9981,  35.2846,2,  35.2857,2,    275.4,2,    273.4,2,     2.05,2,     8.50,2,     0.28,2,     0.60,2,    3.775,2,    2.092,2,    0.305,2,  1.70734878,2,   2115.0,2,   2322.7,2,   9.9920
  316N20020530,   148,  1,     27,     27,2,20020629, 61.2978,  -8.1685,  603,     77.8,   9.2621,  35.3016,2,  35.3003,2,    270.8,2,    269.1,2,     3.61,2,    11.24,2,     0.22,2,     0.73,2,    3.762,2,    2.069,2,    0.294,2,  1.68781788,2,   2129.4,2,   2325.8,2,   9.2535
  316N20020530,   148,  1,     25,     25,2,20020629, 61.2978,  -8.1685,  603,    103.1,   9.1315,  35.3016,2,  35.3001,2,    268.3,2,    269.0,2,     3.81,2,    11.53,2,     0.20,2,     0.75,2,    3.784,2,    2.096,2,    0.292,2,  1.65854961,2,   2130.8,2,   2325.4,2,   9.1202
  316N20020530,   148,  1,     23,     23,2,20020629, 61.2978,  -8.1685,  603,    163.7,   8.7228,  35.2960,2,  35.2942,2,    267.4,2,    268.1,2,     4.88,2,    12.80,2,     0.03,2,     0.82,2,    3.792,6,    2.103,6,    0.294,6,  1.66831311,2,   -999.0,9,   -999.0,9,   8.7053
  316N20020530,   148,  1,     21,     21,2,20020629, 61.2978,  -8.1685,  603,    223.4,   8.5530,  35.2830,2,  35.2828,2,    268.4,2,    267.9,2,     5.28,2,    13.19,2,     0.01,2,     0.85,2,    3.747,2,    2.079,2,    0.292,2,  1.67808357,2,   -999.0,9,   -999.0,9,   8.5293
  316N20020530,   148,  1,     19,     19,2,20020629, 61.2978,  -8.1685,  603,    293.8,   8.4423,  35.2755,2,  35.2753,2,    267.6,2,    267.1,2,     5.67,2,    13.48,2,     0.01,2,     0.86,2,    3.721,2,    2.054,2,    0.280,2,  1.65858023,2,   -999.0,9,   -999.0,9,   8.4113
  316N20020530,   148,  1,     17,     17,2,20020629, 61.2978,  -8.1685,  603,    358.6,   8.3609,  35.2725,2,  35.2708,2,    270.7,2,    269.7,2,     5.57,2,    13.48,2,     0.01,2,     0.88,2,    3.785,2,    2.073,2,    0.294,2,  1.68785495,2,   2139.9,2,   2326.9,2,   8.3231
  316N20020530,   148,  1,     15,     15,2,20020629, 61.2978,  -8.1685,  603,    423.7,   8.2517,  35.2637,2,  35.2625,2,    267.5,2,    266.6,2,     5.76,2,    13.78,2,     0.01,2,     0.89,2,    3.684,2,    2.023,2,    0.280,2,   1.5903009,2,   -999.0,9,   -999.0,9,   8.2072
  316N20020530,   148,  1,     13,     13,2,20020629, 61.2978,  -8.1685,  603,    493.9,   8.0753,  35.2537,2,  35.2528,2,    261.5,2,    261.2,2,     6.35,2,    14.26,2,     0.01,2,     0.92,2,    3.574,6,    1.934,6,    0.267,6,  1.50250372,2,   -999.0,9,   -999.0,9,   8.0239
  316N20020530,   148,  1,     11,     11,2,20020629, 61.2978,  -8.1685,  603,    549.2,   7.9468,  35.2455,2,  35.2450,2,    258.2,2,    259.2,2,     6.74,2,    14.46,2,     0.02,2,     0.93,2,    3.571,2,    1.961,2,    0.259,2,  1.50251245,2,   2145.8,2,   2329.5,2,   7.8900
  316N20020530,   148,  1,      9,      9,2,20020629, 61.2978,  -8.1685,  603,    574.5,   7.8434,  35.2406,2,  35.2400,2,    260.8,2,    261.6,2,     6.64,2,    14.36,2,     0.02,2,     0.93,2,    3.548,2,    1.940,2,    0.260,2,  1.52203126,2,   2149.3,2,   2329.5,2,   7.7843
  316N20020530,   148,  1,      7,      7,2,20020629, 61.2978,  -8.1685,  603,    599.5,   2.3138,  35.0556,2,  34.9947,2,    290.2,2,    290.4,2,     8.60,2,    14.36,2,     0.01,2,     0.96,2,    2.855,2,    1.449,2,    0.192,2,   1.5223092,2,   2157.2,2,   2330.3,3,   2.2778
  316N20020530,   149,  1,     25,     25,2,20020629, 61.3245,  -8.1213,  855,      3.1,  10.5445,  35.2850,2,  35.2794,2,    279.6,2,    282.6,2,     0.78,2,     6.64,2,     0.18,2,     0.45,2,    3.693,2,    2.019,2,    0.331,2,  1.68784414,2,   2100.8,2,   2327.2,2,  10.5441
  316N20020530,   149,  1,     24,     24,2,20020629, 61.3245,  -8.1213,  855,     23.4,  10.4000,  35.2916,2,  35.2881,2,    280.5,2,    279.6,2,     0.88,2,     7.23,2,     0.19,2,     0.48,2,    3.686,2,    2.007,2,    0.325,2,  1.67807695,2,   2103.7,2,   2329.4,2,  10.3972
  316N20020530,   149,  1,     23,     23,2,20020629, 61.3245,  -8.1213,  855,     53.5,   9.5970,  35.2950,2,  35.2909,2,    271.7,2,    271.0,2,     2.54,2,     9.67,2,     0.29,2,     0.66,2,    3.766,2,    2.033,2,    0.320,2,  1.68782969,2,   2122.0,2,   2326.0,2,   9.5910
  316N20020530,   149,  1,     22,     22,2,20020629, 61.3245,  -8.1213,  855,     78.3,   9.1461,  35.3025,2,  35.2980,2,    269.9,2,    269.0,2,     3.71,2,    11.43,2,     0.25,2,     0.75,2,    3.722,2,    2.048,2,    0.311,2,  1.67806458,2,   2133.0,2,   2327.1,2,   9.1375
  316N20020530,   149,  1,     21,     21,2,20020629, 61.3245,  -8.1213,  855,    103.9,   8.9659,  35.3039,2,  35.2999,2,    268.7,2,    267.8,2,     4.20,2,    12.21,2,     0.15,2,     0.79,2,    3.768,2,    2.043,2,    0.319,2,  1.68781839,2,   2137.1,2,   2330.6,2,   8.9546
  316N20020530,   149,  1,     20,     20,2,20020629, 61.3245,  -8.1213,  855,    158.8,   8.7389,  35.2991,2,  35.2960,2,    266.8,2,    266.8,2,     4.88,2,    12.80,2,     0.03,2,     0.82,2,    3.710,2,    2.042,2,    0.316,2,  1.64879847,2,   -999.0,9,   -999.0,9,   8.7219
  316N20020530,   149,  1,     19,     19,2,20020629, 61.3245,  -8.1213,  855,    213.1,   8.5850,  35.2912,2,  35.2889,2,    266.9,2,    266.1,2,     5.37,2,    13.19,2,     0.02,2,     0.85,2,    3.754,2,    2.034,2,    0.310,2,  1.62929467,2,   2139.1,2,   2326.3,2,   8.5624
  316N20020530,   149,  1,     18,     18,2,20020629, 61.3245,  -8.1213,  855,    266.8,   8.4955,  35.2857,2,  35.2826,2,    265.9,2,    266.0,2,     5.47,2,    13.38,2,     0.01,2,     0.85,2, -999.000,9, -999.000,9, -999.000,9,  1.63905861,2,   -999.0,9,   -999.0,9,   8.4673
  316N20020530,   149,  1,     17,     17,2,20020629, 61.3245,  -8.1213,  855,    319.0,   8.4017,  35.2777,2,  35.2729,2,    265.9,2,    266.9,2,     5.67,2,    13.48,2,     0.01,2,     0.86,2,    3.785,6,    2.059,6,    0.288,6,  1.61955771,2,   2142.1,2,   2326.7,2,   8.3681
  316N20020530,   149,  1,     16,     16,2,20020629, 61.3245,  -8.1213,  855,    372.0,   8.2347,  35.2686,2,  35.2651,2,    265.6,2,    266.0,2,     5.96,2,    13.68,2,     0.01,2,     0.88,2, -999.000,9, -999.000,9, -999.000,9,  1.60005425,2,   2143.1,2,   2328.5,2,   8.1958
  316N20020530,   149,  1,     15,     15,2,20020629, 61.3245,  -8.1213,  855,    405.7,   7.6444,  35.2340,2,  35.2306,2,    266.4,2,    267.0,2,     6.16,2,    13.87,2,     0.01,2,     0.89,2,    3.606,2,    1.964,2,    0.288,2,  1.60985202,2,   -999.0,9,   -999.0,9,   7.6037
  316N20020530,   149,  1,     14,     14,2,20020629, 61.3245,  -8.1213,  855,    453.8,   7.1898,  35.2127,2,  35.2087,2,    270.8,2,    270.8,2,     6.16,2,    13.78,2,     0.01,2,     0.89,2,    3.679,2,    2.024,2,    0.290,2,  1.60987826,2,   2145.7,2,   2323.4,2,   7.1457
  316N20020530,   149,  1,     13,     13,2,20020629, 61.3245,  -8.1213,  855,    499.4,   6.5770,  35.1801,2,  35.1817,2,    276.2,2,    276.2,2,     6.06,2,    13.58,2,     0.02,2,     0.88,2,    3.862,2,    2.040,2,    0.309,2,  1.63918172,2,   2145.9,2,   2323.1,2,   6.5306
  316N20020530,   149,  1,     12,     12,2,20020629, 61.3245,  -8.1213,  855,    552.1,   5.3904,  35.1127,2,  35.1114,2,    285.6,2,    285.2,2,     6.06,2,    13.48,2,     0.01,2,     0.88,2, -999.000,9, -999.000,9, -999.000,9,  1.81490331,2,   -999.0,9,   -999.0,9,   5.3440
  316N20020530,   149,  1,     11,     11,2,20020629, 61.3245,  -8.1213,  855,    609.0,   3.5971,  35.0168,2,  35.0140,2,    294.1,2,    293.1,2,     6.55,2,    13.58,2,     0.01,2,     0.90,2,    4.199,2,    2.176,2,    0.338,2,  1.84430965,2,   2150.8,2,   2307.6,2,   3.5542
  316N20020530,   149,  1,     32,     32,2,20020629, 61.3245,  -8.1213,  855,    609.2,   3.5768,  35.0182,2,  35.0126,2,    294.0,2,   -999.0,9,  -999.00,9,  -999.00,9,  -999.00,9,  -999.00,9, -999.000,9, -999.000,9, -999.000,9,        -999,9,   -999.0,9,   -999.0,9,   3.5340
  316N20020530,   149,  1,     10,     10,2,20020629, 61.3245,  -8.1213,  855,    664.9,   0.7499,  34.9161,2,  34.9152,2,    300.7,2,    301.0,2,     7.82,2,    14.07,2,     0.00,2,     0.95,2,    3.726,2,    1.845,2,    0.293,2,  1.66878385,2,   2161.1,2,   2302.1,2,   0.7181
  316N20020530,   149,  1,     33,     33,2,20020629, 61.3245,  -8.1213,  855,    665.0,   0.7556,  34.9163,2,  34.9148,2,    300.7,2,   -999.0,9,  -999.00,9,  -999.00,9,  -999.00,9,  -999.00,9, -999.000,9, -999.000,9, -999.000,9,        -999,9,   -999.0,9,   -999.0,9,   0.7237
  316N20020530,   149,  1,     34,     34,2,20020629, 61.3245,  -8.1213,  855,    725.3,  -0.2317,  34.9038,2,  34.9042,2,    299.1,2,   -999.0,9,  -999.00,9,  -999.00,9,  -999.00,9,  -999.00,9, -999.000,9, -999.000,9, -999.000,9,        -999,9,   -999.0,9,   -999.0,9,  -0.2609
  316N20020530,   149,  1,      9,      9,2,20020629, 61.3245,  -8.1213,  855,    725.4,  -0.2206,  34.9044,2,  34.9038,2,    299.1,2,    299.2,2,     9.38,2,    14.46,2,     0.00,2,     0.97,2,    2.647,2,    1.304,2,    0.192,2,  1.49313506,2,   2163.0,2,   2302.6,2,  -0.2499
  316N20020530,   149,  1,     35,     35,2,20020629, 61.3245,  -8.1213,  855,    778.3,  -0.5358,  34.9023,2,  34.9010,2,    297.8,2,   -999.0,9,  -999.00,9,  -999.00,9,  -999.00,9,  -999.00,9, -999.000,9, -999.000,9, -999.000,9,        -999,9,   -999.0,9,   -999.0,9,  -0.5656
  316N20020530,   149,  1,      8,      8,2,20020629, 61.3245,  -8.1213,  855,    778.5,  -0.5358,  34.9022,2,  34.9024,2,    297.8,2,    298.6,2,     9.97,2,    14.56,2,     0.00,2,     0.98,2,    2.195,2,    1.079,2,    0.155,2,  1.43458224,2,   2159.9,2,   2305.8,2,  -0.5656
  316N20020530,   149,  1,     36,     36,2,20020629, 61.3245,  -8.1213,  855,    845.6,  -0.5320,  34.9019,2,  34.9010,2,    298.7,2,   -999.0,9,  -999.00,9,  -999.00,9,  -999.00,9,  -999.00,9, -999.000,9, -999.000,9, -999.000,9,        -999,9,   -999.0,9,   -999.0,9,  -0.5649
  316N20020530,   149,  1,      7,      7,2,20020629, 61.3245,  -8.1213,  855,    845.8,  -0.5322,  34.9019,2,  34.9030,2,    298.7,2,    298.5,2,     9.97,2,    14.56,2,     0.00,2,     0.98,2,    2.223,2,    1.110,2,    0.152,2,  1.42482254,2,   2161.5,2,   2304.7,2,  -0.5651
  316N20020530,   150,  1,     17,     17,2,20020629, 61.0850,  -6.6225,  146,      3.4,  10.2060,  35.2261,2,  35.2235,2,    301.2,2,    301.1,2,     0.29,2,     4.59,2,     0.15,2,     0.32,2,    3.906,2,    2.135,2,    0.326,2,  1.70742783,2,   2087.2,2,   2327.8,2,  10.2056
  316N20020530,   150,  1,     15,     15,2,20020629, 61.0850,  -6.6225,  146,     22.8,   9.6987,  35.2225,2,  35.2205,2,    293.5,2,    293.1,2,     0.78,2,     6.06,2,     0.15,2,     0.42,2,    3.897,6,    2.143,6,    0.326,6,  1.74645866,2,   2100.4,2,   2331.7,2,   9.6961
  316N20020530,   150,  1,     13,     13,2,20020629, 61.0850,  -6.6225,  146,     39.0,   9.4244,  35.2226,2,  35.2190,2,    287.2,2,    289.0,2,     1.37,2,     7.23,2,     0.15,2,     0.50,2,    3.959,2,    2.165,2,    0.328,2,  1.76597413,2,   2107.5,2,   2329.0,2,   9.4201
  316N20020530,   150,  1,     11,     11,2,20020629, 61.0850,  -6.6225,  146,     63.0,   8.5531,  35.2192,2,  35.2188,2,    281.8,2,    282.2,2,     3.13,2,     9.97,2,     0.12,2,     0.67,2,    4.000,2,    2.191,2,    0.331,2,  1.75621763,2,   2124.8,2,   2327.8,2,   8.5465
  316N20020530,   150,  1,      9,      9,2,20020629, 61.0850,  -6.6225,  146,    103.2,   8.2757,  35.2211,2,  35.2184,2,    279.5,2,    279.5,2,     3.81,2,    11.14,2,     0.11,2,     0.74,2,    4.061,6,    2.233,6,    0.335,6,  1.79524522,2,   2131.8,2,   2321.7,2,   8.2651
  316N20020530,   150,  1,      7,      7,2,20020629, 61.0850,  -6.6225,  146,    141.6,   8.1542,  35.2233,2,  35.2219,2,    277.2,2,    278.0,2,     4.10,2,    11.63,2,     0.10,2,     0.77,2,    4.027,2,    2.218,2,    0.326,2,   1.7854838,2,   2134.2,2,   2319.0,2,   8.1397
  316N20020530,   151,  1,     19,     19,2,20020629, 60.8327,  -6.2062,  181,      3.5,  10.3763,  35.2374,2,  35.2341,2,    298.8,2,    298.7,2,     0.20,2,     4.40,2,     0.15,2,     0.31,2,    3.892,2,    2.111,2,    0.329,2,  1.70741436,2,   2086.3,2,   2334.0,2,  10.3759
  316N20020530,   151,  1,     17,     17,2,20020629, 60.8327,  -6.2062,  181,     27.2,  10.2260,  35.2372,2,  35.2363,2,    297.9,2,    298.4,2,     0.10,2,     4.49,2,     0.14,2,     0.32,2,    3.873,6,    2.082,6,    0.334,6,  1.80497794,2,   2087.2,2,   2329.1,2,  10.2228
  316N20020530,   151,  1,     15,     15,2,20020629, 60.8327,  -6.2062,  181,     47.7,   9.7801,  35.2370,2,  35.2322,2,    290.2,2,    288.3,2,     0.88,2,     6.25,2,     0.14,2,     0.45,2,    3.883,2,    2.110,2,    0.336,2,  1.76595678,2,   2101.6,2,   2327.7,2,   9.7747
  316N20020530,   151,  1,     13,     13,2,20020629, 60.8327,  -6.2062,  181,     76.5,   9.0456,  35.2396,2,  35.2347,2,    281.4,2,    280.4,2,     2.64,2,     9.09,2,     0.14,2,     0.63,2,    3.979,2,    2.113,2,    0.336,2,   1.7269269,2,   2117.9,2,   2327.4,2,   9.0373
  316N20020530,   151,  1,     11,     11,2,20020629, 60.8327,  -6.2062,  181,    105.6,   7.9531,  35.2315,2,  35.2270,2,    275.4,2,    275.9,2,     4.79,2,    12.31,2,     0.09,2,     0.80,2,    4.117,2,    2.190,2,    0.347,2,  1.79523373,2,   2138.9,2,   2329.0,2,   7.9425
  316N20020530,   151,  1,      9,      9,2,20020629, 60.8327,  -6.2062,  181,    131.1,   7.4167,  35.2189,2,  35.2168,2,    275.4,2,    276.2,2,     5.86,2,    13.48,2,     0.03,2,     0.87,2,    4.056,6,    2.193,6,    0.340,6,  1.79524736,2,   2144.5,2,   2326.8,2,   7.4040
  316N20020530,   151,  1,      7,      7,2,20020629, 60.8327,  -6.2062,  181,    179.9,   7.3957,  35.2178,2,  35.2160,2,    275.5,2,    275.9,2,     5.96,2,    13.48,2,     0.03,2,     0.87,2,    4.121,2,    2.204,2,    0.344,2,  1.76597808,2,   2144.0,2,   2326.8,2,   7.3783