BOTTLE,20081218PRINUNIVRMK
EXPOCODE,STNNBR,CASTNO,SAMPNO,BTLNBR,BTLNBR_FLAG_W,DATE,LATITUDE,LONGITUDE,DEPTH,CTDPRS,CTDTMP,CTDSAL,CTDSAL_FLAG_W,SALNTY,SALNTY_FLAG_W,CTDOXY,CTDOXY_FLAG_W,OXYGEN,OXYGEN_FLAG_W,SILCAT,SILCAT_FLAG_W,NITRAT,NITRAT_FLAG_W,NITRIT,NITRIT_FLAG_W,PHSPHT,PHSPHT_FLAG_W,CFC-11,CFC-11_FLAG_W,CFC-12,CFC-12_FLAG_W,CFC113,CFC113_FLAG_W,SF6,SF6_FLAG_W,TCARBN,TCARBN_FLAG_W,ALKALI,ALKALI_FLAG_W,THETA
,,,,,,,,,METERS,DBARS,ITS-90,PSS-78,,PSS-78,,UMOL/KG,,UMOL/KG,,UMOL/KG,,UMOL/KG,,UMOL/KG,,UMOL/KG,,PMOL/KG,,PMOL/KG,,PMOL/KG,,FMOL/KG,,UMOL/KG,,UMOL/KG,,DEGC
  316N20020530,    40,  1,     28,     28,2,20020609, 75.2162,   2.1278, 2855,      1.2,   1.8422,  34.8584,2,  34.8633,2,    368.5,2,   -999.0,9,     0.29,2,     6.74,2,     0.08,2,     0.44,2,    6.264,2,    3.222,2,    0.551,2,  2.07874089,2,   2123.7,2,   2298.6,2,   1.8421
  316N20020530,    40,  1,     27,     27,2,20020609, 75.2162,   2.1278, 2855,     19.9,   1.9776,  34.9203,2,  34.9186,2,    365.4,2,   -999.0,9,     0.59,2,     7.33,2,     0.08,2,     0.49,2, -999.000,9, -999.000,9, -999.000,9,        -999,9,   -999.0,9,   -999.0,9,   1.9766
  316N20020530,    40,  1,     26,     26,2,20020609, 75.2162,   2.1278, 2855,     39.8,   1.7953,  34.9215,7,  34.9161,2,    354.3,2,   -999.0,9,     2.74,2,     8.89,2,     0.06,2,     0.64,2,    6.037,2,    3.158,2,    0.508,2,  1.99082852,2,   -999.0,9,   -999.0,9,   1.7933
  316N20020530,    40,  1,     25,     25,3,20020609, 75.2162,   2.1278, 2855,     64.8,   0.1823,  34.8482,2,  34.8511,2,    352.7,2,   -999.0,9,     3.71,2,     9.48,2,     0.04,2,     0.69,2,    6.271,2,    3.230,2,    0.552,2,  2.16659469,2,   2145.0,2,   2297.4,2,   0.1799
  316N20020530,    40,  1,     24,     24,2,20020609, 75.2162,   2.1278, 2855,    115.4,   0.3231,  34.9078,2,  34.9090,2,    335.0,2,   -999.0,9,     5.47,2,    12.51,2,     0.02,2,     0.84,2,    5.338,2,    2.743,2,    0.441,2,  1.71758662,2,   -999.0,9,   -999.0,9,   0.3186
  316N20020530,    40,  1,     23,     23,2,20020609, 75.2162,   2.1278, 2855,    149.5,   0.0034,  34.8926,2,  34.8929,2,    328.6,2,   -999.0,9,     5.77,2,    12.70,2,     0.02,2,     0.85,2, -999.000,9, -999.000,9, -999.000,9,        -999,9,   -999.0,9,   -999.0,9,  -0.0021
  316N20020530,    40,  1,     22,     22,2,20020609, 75.2162,   2.1278, 2855,    190.6,  -0.4627,  34.8684,7,  34.8699,2,    328.2,2,   -999.0,9,     5.86,2,    12.61,2,     0.04,2,     0.84,2,    5.193,2,    2.692,2,    0.436,2,  1.79571101,2,   2157.8,2,   2297.8,2,  -0.4691
  316N20020530,    40,  1,     21,     21,2,20020609, 75.2162,   2.1278, 2855,    240.8,  -0.5149,  34.8762,2,  34.8770,2,    327.9,2,   -999.0,9,     6.06,2,    12.80,2,     0.03,2,     0.86,2,    4.993,2,    2.568,2,    0.413,2,  1.89329399,2,   -999.0,9,   -999.0,9,  -0.5229
  316N20020530,    40,  1,     20,     20,2,20020609, 75.2162,   2.1278, 2855,    296.4,  -0.6939,  34.8713,2,  34.8730,2,    328.8,2,   -999.0,9,     5.96,2,    12.70,2,     0.04,2,     0.85,2,    5.341,2,    2.738,2,    0.422,2,        -999,9,   -999.0,9,   -999.0,9,  -0.7035
  316N20020530,    40,  1,     19,     19,2,20020609, 75.2162,   2.1278, 2855,    357.0,  -0.7260,  34.8739,2,  34.8760,2,    332.2,2,   -999.0,9,     6.35,2,    13.00,2,     0.03,2,     0.87,2,    5.045,2,    2.572,2,    0.403,2,  2.61548024,2,   2158.4,2,   2295.3,2,  -0.7377
  316N20020530,    40,  1,     18,     18,9,20020609, 75.2162,   2.1278, 2855,    432.4,  -0.7111,  34.8804,2,-999.0000,9,    330.7,2,   -999.0,9,  -999.00,9,  -999.00,9,  -999.00,9,  -999.00,9, -999.000,9, -999.000,9, -999.000,9,        -999,9,   -999.0,9,   -999.0,9,  -0.7256
  316N20020530,    40,  1,     17,     17,2,20020609, 75.2162,   2.1278, 2855,    517.8,  -0.7430,  34.8810,2,  34.8836,2,    321.0,2,   -999.0,9,     6.84,2,    13.49,2,     0.00,2,     0.90,2,    4.438,2,    2.262,2,    0.359,2,  3.97199416,2,   2158.2,2,   2293.8,2,  -0.7606
  316N20020530,    40,  1,     16,     16,2,20020609, 75.2162,   2.1278, 2855,    608.0,  -0.7793,  34.8823,2,  34.8832,2,    323.1,2,   -999.0,9,     6.84,2,    13.49,2,     0.00,2,     0.90,2,    4.465,2,    2.261,2,    0.362,2,  4.53802908,2,   -999.0,9,   -999.0,9,  -0.8003
  316N20020530,    40,  1,     15,     15,2,20020609, 75.2162,   2.1278, 2855,    708.4,  -0.7851,  34.8845,2,  34.8866,2,    323.5,2,   -999.0,9,     6.94,2,    13.49,2,     0.00,2,     0.90,2,    4.577,2,    2.360,2,    0.373,2,  4.58681349,2,   2158.7,2,   2296.6,2,  -0.8102
  316N20020530,    40,  1,     14,     14,2,20020609, 75.2162,   2.1278, 2855,    808.9,  -0.7944,  34.8859,2,  34.8860,2,    324.3,2,   -999.0,9,     6.84,2,    13.39,2,     0.00,2,     0.90,2,    4.605,6,    2.345,6,    0.371,6,  4.31355844,2,   -999.0,9,   -999.0,9,  -0.8238
  316N20020530,    40,  1,     13,     13,2,20020609, 75.2162,   2.1278, 2855,    909.9,  -0.8132,  34.8871,2,  34.8883,2,    325.3,2,   -999.0,9,     6.84,2,    13.29,2,     0.00,2,     0.89,2,    4.686,2,    2.371,2,    0.393,2,  3.98173943,2,   2157.7,2,   2294.5,2,  -0.8470
  316N20020530,    40,  1,     12,     12,2,20020609, 75.2162,   2.1278, 2855,   1036.0,  -0.8332,  34.8860,2,  34.8885,2,    321.9,2,   -999.0,9,     7.43,2,    13.68,2,     0.00,2,     0.91,2,    4.160,2,    2.055,2,    0.313,2,  3.76703724,2,   2157.8,2,   2297.4,2,  -0.8727
  316N20020530,    40,  1,     11,     11,2,20020609, 75.2162,   2.1278, 2855,   1137.1,  -0.8320,  34.8878,2,  34.8907,2,    319.2,2,   -999.0,9,     7.82,2,    13.78,2,     0.00,2,     0.92,2,    3.680,2,    1.864,2,    0.259,2,  3.23027794,2,   -999.0,9,   -999.0,9,  -0.8764
  316N20020530,    40,  1,     10,     10,2,20020609, 75.2162,   2.1278, 2855,   1263.7,  -0.7830,  34.8986,2,  34.8987,2,    311.2,2,   -999.0,9,     8.89,2,    14.17,2,     0.00,2,     0.96,2,    2.622,2,    1.289,2,    0.183,2,  1.86398614,2,   -999.0,9,   -999.0,9,  -0.8343
  316N20020530,    40,  1,      9,      9,2,20020609, 75.2162,   2.1278, 2855,   1365.1,  -0.7615,  34.9042,2,  34.9054,2,    305.5,2,   -999.0,9,     9.67,2,    14.46,2,     0.00,2,     0.97,2,    1.910,2,    0.931,2,    0.110,2,  1.06373547,2,   2156.4,2,   2299.3,2,  -0.8184
  316N20020530,    40,  1,      8,      8,2,20020609, 75.2162,   2.1278, 2855,   1516.6,  -0.7782,  34.9085,2,  34.9093,2,    301.6,2,   -999.0,9,    10.26,2,    14.66,2,     0.00,2,     0.99,2,    1.290,2,    0.661,2,    0.080,2,  0.42939656,2,   -999.0,9,   -999.0,9,  -0.8433
  316N20020530,    40,  1,      7,      7,2,20020609, 75.2162,   2.1278, 2855,   1668.1,  -0.8097,  34.9100,2,  34.9109,2,    300.5,2,   -999.0,9,    10.65,2,    14.85,2,     0.00,2,     0.99,2,    1.012,2,    0.523,2,    0.051,2, 0.204939023,2,   2157.2,2,   2302.4,2,  -0.8831
  316N20020530,    40,  1,      6,      6,2,20020609, 75.2162,   2.1278, 2855,   1869.7,  -0.8503,  34.9098,2,  34.9107,2,    300.1,2,   -999.0,9,    11.04,2,    14.95,2,     0.00,2,     1.00,2,    0.818,2,    0.429,2,    0.033,2, 0.156144041,2,   -999.0,9,   -999.0,9,  -0.9353
  316N20020530,    40,  1,      5,      5,2,20020609, 75.2162,   2.1278, 2855,   2073.0,  -0.8757,  34.9104,2,  34.9106,2,    300.3,2,   -999.0,9,    11.34,2,    14.95,2,     0.00,2,     1.00,2,    0.745,2,    0.385,2,    0.030,2, 0.146385049,2,   2157.6,2,   2299.3,2,  -0.9732
  316N20020530,    40,  1,      4,      4,2,20020609, 75.2162,   2.1278, 2855,   2273.0,  -0.8936,  34.9102,2,  34.9091,2,    300.6,2,   -999.0,9,    11.53,2,    14.95,2,     0.00,2,     1.00,2,    0.748,2,    0.374,2,    0.031,2, 0.107349156,2,   -999.0,9,   -999.0,9,  -1.0041
  316N20020530,    40,  1,      3,      3,2,20020609, 75.2162,   2.1278, 2855,   2478.4,  -0.9024,  34.9095,2,  34.9083,2,    300.8,2,   -999.0,9,    11.63,2,    14.95,2,     0.00,2,     1.00,2,    0.688,2,    0.376,2,    0.028,2,  0.10734922,2,   -999.0,9,   -999.0,9,  -1.0271
  316N20020530,    40,  1,      2,      2,2,20020609, 75.2162,   2.1278, 2855,   2682.1,  -0.9109,  34.9079,2,  34.9077,2,    301.2,2,   -999.0,9,    11.82,2,    14.95,2,     0.00,2,     1.00,2,    0.717,2,    0.381,2,    0.032,2, 0.136626341,2,   2156.8,2,   2296.5,2,  -1.0503
  316N20020530,    40,  1,      1,      1,2,20020609, 75.2162,   2.1278, 2855,   2817.5,  -0.9194,  34.9074,2,  34.9061,2,    301.4,2,   -999.0,9,    12.12,2,    14.95,2,     0.00,2,     1.00,2,    0.759,2,    0.378,2,    0.028,2, 0.175662647,2,   2152.1,2,   2296.3,2,  -1.0689
  316N20020530,    41,  1,     29,     29,2,20020609, 75.3343,   3.9077, 3150,      2.1,   2.0868,  34.8460,2,  34.8476,2,    359.2,2,   -999.0,9,     1.66,2,     7.13,2,     0.06,2,     0.52,2,    6.187,2,    3.225,2,    0.551,2,  2.10804357,2,   2135.4,2,   2297.0,2,   2.0867
  316N20020530,    41,  1,     28,     28,2,20020609, 75.3343,   3.9077, 3150,     29.2,   1.3782,  34.8871,2,  34.8958,2,    364.7,2,   -999.0,9,     3.42,2,     8.99,2,     0.05,2,     0.64,2,    6.016,2,    3.160,2,    0.542,2,  1.97134038,2,   2143.1,2,   2301.2,2,   1.3768
  316N20020530,    41,  1,     27,     27,2,20020609, 75.3343,   3.9077, 3150,     54.7,   1.8346,  34.9735,2,  34.9805,2,    332.9,2,   -999.0,9,     4.79,2,    10.75,2,     0.09,2,     0.74,2, -999.000,9, -999.000,9, -999.000,9,        -999,9,   2152.2,2,   2303.3,2,   1.8318
  316N20020530,    41,  1,     26,     26,2,20020609, 75.3343,   3.9077, 3150,     79.9,   1.5496,  34.9775,2,  34.9816,2,    323.7,2,   -999.0,9,     5.28,2,    12.02,2,     0.12,2,     0.80,2,    5.223,2,    2.759,2,    0.439,2,  1.80532019,2,   2157.4,2,   2301.1,2,   1.5456
  316N20020530,    41,  1,     25,     25,3,20020609, 75.3343,   3.9077, 3150,    115.0,   0.7477,  34.9277,2,  34.9256,2,    331.9,2,   -999.0,9,     5.37,2,    12.22,2,     0.09,2,     0.81,2,    5.420,2,    2.839,2,    0.459,2,  1.82491323,2,   -999.0,9,   -999.0,9,   0.7428
  316N20020530,    41,  1,     24,     24,2,20020609, 75.3343,   3.9077, 3150,    160.1,   0.1473,  34.8873,2,  34.8930,2,    333.9,2,   -999.0,9,     5.57,2,    12.41,2,     0.03,2,     0.83,2,    5.246,2,    2.720,2,    0.434,2,        -999,9,   2161.4,2,   2297.6,2,   0.1412
  316N20020530,    41,  1,     23,     23,2,20020609, 75.3343,   3.9077, 3150,    205.4,  -0.3319,  34.8682,2,  34.8696,2,    338.2,2,   -999.0,9,     5.57,2,    12.22,2,     0.05,2,     0.82,2,    5.387,2,    2.812,2,    0.447,2,  1.85426722,2,   2162.3,2,   2298.2,2,  -0.3390
  316N20020530,    41,  1,     22,     22,2,20020609, 75.3343,   3.9077, 3150,    265.5,  -0.4156,  34.8759,2,  34.8772,2,    328.5,2,   -999.0,9,     6.06,2,    12.80,2,     0.03,2,     0.85,2, -999.000,9, -999.000,9, -999.000,9,        -999,9,   -999.0,9,   -999.0,9,  -0.4248
  316N20020530,    41,  1,     21,     21,2,20020609, 75.3343,   3.9077, 3150,    326.0,  -0.5232,  34.8772,2,  34.8794,2,    326.5,2,   -999.0,9,     6.25,2,    12.90,2,     0.01,2,     0.86,2,    4.867,2,    2.498,2,    0.393,2,  2.22510443,2,   2165.1,2,   2297.3,2,  -0.5343
  316N20020530,    41,  1,     20,     20,2,20020609, 75.3343,   3.9077, 3150,    386.6,  -0.5916,  34.8780,2,  34.8804,2,    327.1,2,   -999.0,9,     6.35,2,    13.10,2,     0.01,2,     0.87,2, -999.000,9, -999.000,9, -999.000,9,        -999,9,   -999.0,9,   -999.0,9,  -0.6048
  316N20020530,    41,  1,     19,     19,2,20020609, 75.3343,   3.9077, 3150,    456.8,  -0.6294,  34.8801,2,  34.8831,2,    325.2,2,   -999.0,9,     6.65,2,    13.29,2,     0.00,2,     0.88,2,    4.553,6,    2.329,6,    0.362,6,  2.67402164,2,   -999.0,9,   -999.0,9,  -0.6451
  316N20020530,    41,  1,     18,     18,2,20020609, 75.3343,   3.9077, 3150,    557.3,  -0.6955,  34.8818,2,  34.8837,2,    323.2,2,   -999.0,9,     6.94,2,    13.39,2,     0.00,2,     0.89,2,    4.173,2,    2.162,2,    0.324,2,  3.31812756,2,   -999.0,9,   -999.0,9,  -0.7149
  316N20020530,    41,  1,     17,     17,2,20020609, 75.3343,   3.9077, 3150,    657.9,  -0.7535,  34.8811,2,  34.8844,2,    324.2,2,   -999.0,9,     7.04,2,    13.39,2,     0.00,2,     0.89,2,    4.283,2,    2.185,2,    0.334,2,  4.16717567,2,   2165.1,2,   2295.9,2,  -0.7767
  316N20020530,    41,  1,     16,     16,2,20020609, 75.3343,   3.9077, 3150,    758.7,  -0.7816,  34.8816,2,  34.8856,2,    324.2,2,   -999.0,9,     7.04,2,    13.39,2,     0.00,2,     0.89,2,    4.413,2,    2.252,2,    0.340,2,  4.48922505,2,   -999.0,9,   -999.0,9,  -0.8089
  316N20020530,    41,  1,     15,     15,2,20020609, 75.3343,   3.9077, 3150,    859.4,  -0.8401,  34.8809,2,  34.8832,2,    325.8,2,   -999.0,9,     7.04,2,    13.49,2,     0.00,2,     0.89,2, -999.000,9, -999.000,9, -999.000,9,  4.45019626,2,   -999.0,9,   -999.0,9,  -0.8714
  316N20020530,    41,  1,     14,     14,2,20020609, 75.3343,   3.9077, 3150,    960.3,  -0.8454,  34.8814,7,  34.8836,2,    326.3,2,   -999.0,9,     7.04,2,    13.49,2,     0.00,2,     0.89,2,    4.433,2,    2.264,2,    0.349,2,  4.31356614,2,   -999.0,9,   -999.0,9,  -0.8812
  316N20020530,    41,  1,     13,     13,2,20020609, 75.3343,   3.9077, 3150,   1061.2,  -0.8460,  34.8832,2,  34.8855,2,    326.6,2,   -999.0,9,     7.13,2,    13.49,2,     0.00,2,     0.89,2,    4.460,6,    2.264,6,    0.349,6,  4.11837633,2,   2164.8,2,   2295.7,2,  -0.8866
  316N20020530,    41,  1,     12,     12,2,20020609, 75.3343,   3.9077, 3150,   1212.6,  -0.8398,  34.8843,2,  34.8877,2,    324.3,2,   -999.0,9,     7.43,2,    13.49,2,     0.00,2,     0.90,2,    4.148,2,    2.107,2,    0.321,2,  3.70848446,2,   -999.0,9,   -999.0,9,  -0.8879
  316N20020530,    41,  1,     11,     11,2,20020609, 75.3343,   3.9077, 3150,   1364.2,  -0.8236,  34.8896,2,  34.8920,2,    319.9,2,   -999.0,9,     7.92,2,    13.68,2,     0.00,2,     0.91,2,    3.613,2,    1.836,2,    0.283,2,  2.78135444,2,   2163.6,2,   2298.4,2,  -0.8797
  316N20020530,    41,  1,     10,     10,2,20020609, 75.3343,   3.9077, 3150,   1515.3,  -0.7601,  34.9029,2,  34.9047,2,    306.7,2,   -999.0,9,     9.38,2,    14.27,2,     0.00,2,     0.95,2,    2.095,2,    1.031,2,    0.145,2,  1.19060363,2,   2165.4,2,   2299.1,2,  -0.8253
  316N20020530,    41,  1,      9,      9,2,20020609, 75.3343,   3.9077, 3150,   1667.0,  -0.7642,  34.9078,2,  34.9090,2,    301.3,2,   -999.0,9,     9.97,2,    14.66,2,     0.00,2,     0.96,2,    1.416,2,    0.716,2,    0.093,2,  0.47819173,2,   -999.0,9,   -999.0,9,  -0.8381
  316N20020530,    41,  1,      8,      8,2,20020609, 75.3343,   3.9077, 3150,   1819.1,  -0.8002,  34.9089,2,  34.9110,2,    299.6,2,   -999.0,9,    10.55,2,    14.76,2,     0.00,2,     0.97,2,    1.054,2,    0.528,2,    0.064,2, 0.243975009,2,   2163.7,2,   2298.3,2,  -0.8828
  316N20020530,    41,  1,      7,      7,2,20020609, 75.3343,   3.9077, 3150,   2021.7,  -0.8481,  34.9105,2,  34.9113,2,    299.2,2,   -999.0,9,    10.95,2,    14.85,2,     0.00,2,     0.98,2,    0.831,2,    0.465,2,    0.060,2, 0.156143971,2,   -999.0,9,   -999.0,9,  -0.9427
  316N20020530,    41,  1,      6,      6,2,20020609, 75.3343,   3.9077, 3150,   2223.5,  -0.8805,  34.9094,2,  34.9107,2,    299.9,2,   -999.0,9,    11.24,2,    14.85,2,     0.00,2,     0.98,2,    0.764,2,    0.399,2,    0.043,2, 0.107349028,2,   2165.2,2,   2297.6,2,  -0.9879
  316N20020530,    41,  1,      5,      5,2,20020609, 75.3343,   3.9077, 3150,   2426.8,  -0.9045,  34.9084,2,  34.9099,2,    300.6,2,   -999.0,9,    11.34,2,    14.85,2,     0.00,2,     0.98,2,    0.742,2,    0.424,2,    0.055,2, 0.136626117,2,   -999.0,9,   -999.0,9,  -1.0255
  316N20020530,    41,  1,      4,      4,2,20020609, 75.3343,   3.9077, 3150,   2630.4,  -0.9208,  34.9073,2,  34.9077,2,    300.9,2,   -999.0,9,    11.63,2,    14.85,2,     0.00,2,     0.98,2,    0.734,2,    0.380,2,    0.038,2, 0.156144389,2,   -999.0,9,   -999.0,9,  -1.0562
  316N20020530,    41,  1,      3,      3,2,20020609, 75.3343,   3.9077, 3150,   2833.8,  -0.9211,  34.9064,2,  34.9069,2,    301.4,2,   -999.0,9,    11.73,2,    14.76,2,     0.00,2,     0.98,2,    0.747,2,    0.398,2,    0.031,2, 0.146385452,2,   -999.0,9,   -999.0,9,  -1.0718
  316N20020530,    41,  1,      2,      2,2,20020609, 75.3343,   3.9077, 3150,   2986.6,  -0.9250,  34.9056,2,  34.9059,2,    301.4,2,   -999.0,9,    11.73,2,    14.76,2,     0.00,2,     0.98,2, -999.000,9, -999.000,9, -999.000,9, 0.175662674,2,   2164.5,2,   2299.9,2,  -1.0876
  316N20020530,    41,  1,      1,      1,2,20020609, 75.3343,   3.9077, 3150,   3088.8,  -0.9230,  34.9050,2,  34.9059,2,    301.4,2,   -999.0,9,    11.73,2,    14.76,2,     0.00,2,     0.99,2,    0.758,2,    0.393,2,    0.040,2, 0.165903636,2,   2152.7,3,   2300.4,2,  -1.0939