BOTTLE,20081218PRINUNIVRMK
EXPOCODE,STNNBR,CASTNO,SAMPNO,BTLNBR,BTLNBR_FLAG_W,DATE,LATITUDE,LONGITUDE,DEPTH,CTDPRS,CTDTMP,CTDSAL,CTDSAL_FLAG_W,SALNTY,SALNTY_FLAG_W,CTDOXY,CTDOXY_FLAG_W,OXYGEN,OXYGEN_FLAG_W,SILCAT,SILCAT_FLAG_W,NITRAT,NITRAT_FLAG_W,NITRIT,NITRIT_FLAG_W,PHSPHT,PHSPHT_FLAG_W,CFC-11,CFC-11_FLAG_W,CFC-12,CFC-12_FLAG_W,CFC113,CFC113_FLAG_W,SF6,SF6_FLAG_W,TCARBN,TCARBN_FLAG_W,ALKALI,ALKALI_FLAG_W,THETA
,,,,,,,,,METERS,DBARS,ITS-90,PSS-78,,PSS-78,,UMOL/KG,,UMOL/KG,,UMOL/KG,,UMOL/KG,,UMOL/KG,,UMOL/KG,,PMOL/KG,,PMOL/KG,,PMOL/KG,,FMOL/KG,,UMOL/KG,,UMOL/KG,,DEGC
  316N20020530,    10,  1,     28,     28,2,20020602, 70.0308, -11.1883, 1873,      3.0,   1.5373,  34.7931,2,  34.7915,2,    357.6,2,    358.1,2,     2.25,2,     8.31,2,     0.07,2,     0.59,2,    6.488,2,    3.300,2,    0.615,2,  2.22525003,2,   -999.0,9,   -999.0,9,   1.5372
  316N20020530,    10,  1,     27,     27,2,20020602, 70.0308, -11.1883, 1873,     19.4,   1.5272,  34.7909,2,  34.7933,2,    358.1,2,    358.3,2,     2.15,2,     8.50,2,     0.07,2,     0.60,2, -999.000,9, -999.000,9, -999.000,9,  2.21548719,2,   2137.2,2,   2290.8,2,   1.5263
  316N20020530,    10,  1,     26,     26,2,20020602, 70.0308, -11.1883, 1873,     34.6,   0.6363,  34.8185,2,  34.8176,2,    353.7,2,    353.4,2,     3.32,2,    10.07,2,     0.06,2,     0.74,2,    6.573,2,    3.328,2,    0.632,2,  2.26424551,2,   2147.3,2,   2289.1,2,   0.6349
  316N20020530,    10,  1,     25,     25,2,20020602, 70.0308, -11.1883, 1873,     54.6,   0.3400,  34.8291,2,  34.8322,2,    347.1,2,    347.7,2,     4.01,2,    10.85,2,     0.07,2,     0.80,2,    6.535,2,    3.362,2,    0.593,2,  2.29349962,2,   2151.6,2,   2290.0,2,   0.3379
  316N20020530,    10,  1,     24,     24,2,20020602, 70.0308, -11.1883, 1873,     80.1,   0.3786,  34.8463,2,  34.8432,2,    344.2,2,    346.4,2,     4.50,2,    11.04,2,     0.07,2,     0.81,2,    6.371,2,    3.276,2,    0.602,2,  2.27396185,2,   2156.2,2,   2291.1,2,   0.3754
  316N20020530,    10,  1,     23,     23,2,20020602, 70.0308, -11.1883, 1873,    110.0,   0.3155,  34.8585,2,  34.8576,2,    342.9,2,    343.6,2,     4.69,2,    11.34,2,     0.08,2,     0.82,2,    6.466,2,    3.302,2,    0.591,2,  2.26417809,2,   2155.8,2,   2284.3,2,   0.3112
  316N20020530,    10,  1,     22,     22,2,20020602, 70.0308, -11.1883, 1873,    129.7,   0.2314,  34.8651,2,  34.8621,2,    340.2,2,    340.3,2,     4.69,2,    11.63,2,     0.11,2,     0.84,2, -999.000,9, -999.000,9, -999.000,9,        -999,9,   -999.0,9,   -999.0,9,   0.2264
  316N20020530,    10,  1,     21,     21,2,20020602, 70.0308, -11.1883, 1873,    154.8,   0.2206,  34.8755,2,  34.8733,2,    337.2,2,    336.5,2,     4.59,2,    12.12,2,     0.09,2,     0.86,2,    6.154,2,    3.180,2,    0.534,2,  2.14704034,2,   -999.0,9,   -999.0,9,   0.2146
  316N20020530,    10,  1,     20,     20,2,20020602, 70.0308, -11.1883, 1873,    195.0,   0.2149,  34.8886,2,  34.8861,2,    330.7,2,    329.9,2,     5.08,2,    12.61,2,     0.02,2,     0.88,2,    5.739,2,    2.980,2,    0.498,2,  1.99087298,2,   2157.0,2,   2290.2,2,   0.2073
  316N20020530,    10,  1,     19,     19,2,20020602, 70.0308, -11.1883, 1873,    236.1,   0.2785,  34.9004,2,  34.8971,2,    328.7,2,    326.7,2,     4.98,2,    12.80,2,     0.01,2,     0.89,2, -999.000,9, -999.000,9, -999.000,9,        -999,9,   -999.0,9,   -999.0,9,   0.2690
  316N20020530,    10,  1,     18,     18,2,20020602, 70.0308, -11.1883, 1873,    265.1,   0.2545,  34.9016,2,  34.8977,2,    328.2,2,    326.9,2,     4.98,2,    12.80,2,     0.01,2,     0.90,2,    5.623,2,    2.882,2,    0.483,2,  1.96157849,2,   2159.0,2,   2292.7,2,   0.2438
  316N20020530,    10,  1,     17,     17,2,20020602, 70.0308, -11.1883, 1873,    315.7,   0.0882,  34.8934,2,  34.8902,2,    326.7,2,    327.5,2,     4.98,2,    12.90,2,     0.01,2,     0.90,2,    5.593,2,    2.883,2,    0.499,2,  1.92255284,2,   -999.0,9,   -999.0,9,   0.0758
  316N20020530,    10,  1,     16,     16,2,20020602, 70.0308, -11.1883, 1873,    376.4,  -0.1285,  34.8856,2,  34.8818,2,    319.5,2,    317.9,2,     5.96,2,    13.49,2,     0.01,2,     0.95,2,    4.876,2,    2.485,2,    0.398,2,  1.70786219,2,   -999.0,9,   -999.0,9,  -0.1428
  316N20020530,    10,  1,     15,     15,2,20020602, 70.0308, -11.1883, 1873,    415.6,  -0.2124,  34.8865,2,  34.8810,2,    313.8,2,    312.7,2,     6.45,2,    13.68,2,     0.01,2,     0.97,2,    4.496,2,    2.259,2,    0.352,2,  1.74690008,2,   2160.3,2,   2291.9,2,  -0.2280
  316N20020530,    10,  1,     14,     14,2,20020602, 70.0308, -11.1883, 1873,    496.3,  -0.3389,  34.8876,2,  34.8857,2,    308.6,2,    307.1,2,     6.94,2,    14.07,2,     0.00,2,     0.99,2,    3.903,2,    1.990,2,    0.304,2,  1.83472662,2,   -999.0,9,   -999.0,9,  -0.3574
  316N20020530,    10,  1,     13,     13,2,20020602, 70.0308, -11.1883, 1873,    596.4,  -0.4452,  34.8906,2,  34.8873,2,    305.8,2,    305.7,2,     7.62,2,    14.17,2,     0.00,2,     1.00,2,    3.500,2,    1.752,2,    0.270,2,  2.13725879,2,   2164.9,2,   2295.9,2,  -0.4674
  316N20020530,    10,  1,     12,     12,2,20020602, 70.0308, -11.1883, 1873,    707.2,  -0.5470,  34.8935,2,  34.8896,2,    303.5,2,    305.2,2,     8.21,2,    14.27,2,     0.01,2,     1.01,2,    3.083,6,    1.533,6,    0.224,6,  2.43978896,2,   -999.0,9,   -999.0,9,  -0.5735
  316N20020530,    10,  1,     11,     11,2,20020602, 70.0308, -11.1883, 1873,    807.4,  -0.6151,  34.8976,2,  34.8936,2,    301.9,2,    302.4,2,     8.89,2,    14.37,2,     0.01,2,     1.02,2,    2.613,2,    1.267,2,    0.169,2,  2.21532178,2,   2163.4,2,   2295.8,2,  -0.6456
  316N20020530,    10,  1,     10,     10,2,20020602, 70.0308, -11.1883, 1873,    928.7,  -0.6595,  34.9015,2,  34.8983,2,    300.3,2,    300.2,2,     9.38,2,    14.56,2,     0.02,2,     1.03,2,    2.229,2,    1.105,2,    0.138,2,   1.7176003,2,   -999.0,9,   -999.0,9,  -0.6953
  316N20020530,    10,  1,      9,      9,2,20020602, 70.0308, -11.1883, 1873,   1029.5,  -0.6923,  34.9027,2,  34.8989,2,    299.0,2,    299.6,2,     9.77,2,    14.66,2,     0.01,2,     1.03,2,    1.972,2,    0.922,2,    0.116,2,  1.71759954,2,   2162.5,2,   2294.1,2,  -0.7327
  316N20020530,    10,  1,      8,      8,2,20020602, 70.0308, -11.1883, 1873,   1129.8,  -0.7199,  34.9044,2,  34.9008,2,    298.7,2,    299.2,2,    10.16,2,    14.76,2,     0.01,2,     1.04,2, -999.000,9, -999.000,9, -999.000,9,  1.15157079,2,   -999.0,9,   -999.0,9,  -0.7650
  316N20020530,    10,  1,      7,      7,2,20020602, 70.0308, -11.1883, 1873,   1221.2,  -0.7436,  34.9066,2,  34.9026,2,    298.3,2,    298.8,2,    10.46,2,    14.85,2,     0.01,2,     1.05,2,    1.552,2,    0.737,2,    0.086,2, 0.917351771,2,   2164.9,2,   2294.5,2,  -0.7931
  316N20020530,    10,  1,      6,      6,2,20020602, 70.0308, -11.1883, 1873,   1310.5,  -0.7663,  34.9076,2,  34.9046,2,    297.3,2,    298.4,2,    10.75,2,    14.95,2,     0.01,2,     1.05,2, -999.000,9, -999.000,9, -999.000,9,  0.65385614,2,   -999.0,9,   -999.0,9,  -0.8202
  316N20020530,    10,  1,      5,      5,2,20020602, 70.0308, -11.1883, 1873,   1412.0,  -0.7881,  34.9084,2,  34.9052,2,    297.2,2,    298.5,2,    11.04,2,    14.95,2,     0.00,2,     1.06,2,    1.137,2,    0.559,2,    0.070,2, 0.448915955,2,   2163.3,2,   2293.7,2,  -0.8472
  316N20020530,    10,  1,      4,      4,2,20020602, 70.0308, -11.1883, 1873,   1513.5,  -0.8055,  34.9097,2,  34.9089,2,    296.7,2,    296.4,2,    11.43,2,    14.95,2,     0.00,2,     1.06,2, -999.000,9, -999.000,9, -999.000,9,   0.3122885,2,   -999.0,9,   -999.0,9,  -0.8701
  316N20020530,    10,  1,      3,      3,2,20020602, 70.0308, -11.1883, 1873,   1615.6,  -0.8163,  34.9099,2,  34.9069,2,    296.1,2,    296.0,2,    12.02,2,    15.05,2,     0.01,2,     1.07,2,    0.932,6,    0.465,6,    0.052,6, 0.292770905,2,   2163.8,2,   2295.8,2,  -0.8865
  316N20020530,    10,  1,      2,      2,2,20020602, 70.0308, -11.1883, 1873,   1716.6,  -0.8216,  34.9102,2,  34.9093,2,    295.4,2,    294.6,2,    12.51,2,    15.15,2,     0.01,2,     1.06,2,    0.873,2,    0.437,2,    0.039,2,  0.21469828,2,   2162.9,2,   2297.4,2,  -0.8977
  316N20020530,    10,  1,      1,      1,2,20020602, 70.0308, -11.1883, 1873,   1831.3,  -0.8220,  34.9105,2,  34.9079,2,    292.9,2,    293.2,2,    13.49,2,    15.25,2,     0.01,2,     1.07,2,    0.778,2,    0.400,2,    0.035,2, 0.165903389,2,   2167.0,2,   2297.5,2,  -0.9050
  316N20020530,    11,  1,     27,     27,2,20020603, 70.3025, -10.8143, 1757,      4.4,   1.8202,  34.7932,2,-999.0000,9,    362.0,2,    362.3,2,     1.47,2,     7.13,2,     0.07,2,     0.50,2,    6.261,2,    3.238,2,    0.544,2,   2.2152599,2,   2124.5,2,   2296.4,2,   1.8200
  316N20020530,    11,  1,     26,     26,2,20020603, 70.3025, -10.8143, 1757,     20.8,   0.7361,  34.8227,2,  34.8261,2,    361.9,2,    354.9,2,     3.71,2,     9.87,2,     0.05,2,     0.73,2, -999.000,9, -999.000,9, -999.000,9,        -999,9,   -999.0,9,   -999.0,9,   0.7352
  316N20020530,    11,  1,     25,     25,2,20020603, 70.3025, -10.8143, 1757,     35.1,   0.5480,  34.8395,2,  34.8394,2,    356.1,2,    349.7,2,     4.10,2,    10.55,2,     0.06,2,     0.77,2,    6.386,2,    3.290,2,    0.564,2,  2.29348733,2,   2146.2,2,   2289.8,2,   0.5466
  316N20020530,    11,  1,     24,     24,2,20020603, 70.3025, -10.8143, 1757,     55.0,   0.4047,  34.8507,2,  34.8508,2,    348.1,2,    347.8,2,     4.59,2,    10.95,2,     0.06,2,     0.80,2, -999.000,9, -999.000,9, -999.000,9,        -999,9,   -999.0,9,   -999.0,9,   0.4025
  316N20020530,    11,  1,     23,     23,2,20020603, 70.3025, -10.8143, 1757,     80.8,   0.2438,  34.8567,2,  34.8567,2,    345.0,2,    345.7,2,     4.50,2,    11.24,2,     0.07,2,     0.83,2,    6.286,2,    3.268,2,    0.546,2,   2.2836984,2,   2147.3,2,   2294.8,2,   0.2407
  316N20020530,    11,  1,     22,     22,2,20020603, 70.3025, -10.8143, 1757,    105.9,   0.2306,  34.8627,2,-999.0000,9,    341.1,2,    344.0,2,     4.59,2,    11.43,2,     0.08,2,     0.83,2,    6.184,2,    3.214,2,    0.534,2,  2.30308958,2,   -999.0,9,   -999.0,9,   0.2265
  316N20020530,    11,  1,     21,     21,2,20020603, 70.3025, -10.8143, 1757,    130.1,   0.2083,  34.8721,2,  34.8734,2,    341.4,2,    341.2,2,     4.69,2,    11.63,2,     0.09,2,     0.84,2,    6.041,2,    3.166,2,    0.523,2,  2.19583654,2,   2151.6,2,   2294.5,2,   0.2033
  316N20020530,    11,  1,     20,     20,2,20020603, 70.3025, -10.8143, 1757,    155.5,   0.2265,  34.8808,2,  34.8822,2,    339.7,2,    338.3,2,     4.69,2,    11.92,2,     0.08,2,     0.85,2, -999.000,9, -999.000,9, -999.000,9,        -999,9,   -999.0,9,   -999.0,9,   0.2204
  316N20020530,    11,  1,     19,     19,2,20020603, 70.3025, -10.8143, 1757,    181.0,   0.1080,  34.8787,2,  34.8797,2,    336.4,2,    335.8,2,     4.79,2,    12.12,2,     0.08,2,     0.86,2,    6.053,6,    3.097,6,    0.526,6,  2.04943783,2,   -999.0,9,   -999.0,9,   0.1011
  316N20020530,    11,  1,     18,     18,2,20020603, 70.3025, -10.8143, 1757,    206.1,   0.0266,  34.8771,2,  34.8791,2,    332.4,2,    335.5,2,     4.89,2,    12.22,2,     0.07,2,     0.87,2,    5.897,2,    3.042,2,    0.487,2,        -999,9,   2155.8,2,   2293.9,2,   0.0188
  316N20020530,    11,  1,     17,     17,2,20020603, 70.3025, -10.8143, 1757,    235.6,   0.0916,  34.8876,2,  34.8895,2,    328.8,2,    330.2,2,     5.08,2,    12.61,2,     0.04,2,     0.89,2, -999.000,9, -999.000,9, -999.000,9,  1.97134963,2,   2150.7,2,   2291.7,2,   0.0825
  316N20020530,    11,  1,     16,     16,2,20020603, 70.3025, -10.8143, 1757,    265.1,  -0.0055,  34.8879,2,  34.8893,2,    329.8,2,    326.9,2,     5.28,2,    12.90,2,     0.02,2,     0.90,2,    5.522,2,    2.839,2,    0.450,2,        -999,9,   -999.0,9,   -999.0,9,  -0.0156
  316N20020530,    11,  1,     15,     15,2,20020603, 70.3025, -10.8143, 1757,    305.4,  -0.1359,  34.8839,2,  34.8849,2,    324.5,2,    322.9,2,     5.67,2,    13.19,2,     0.01,2,     0.93,2,    5.190,2,    2.647,2,    0.408,2,  1.80545015,2,   2156.9,2,   2291.8,2,  -0.1473
  316N20020530,    11,  1,     14,     14,2,20020603, 70.3025, -10.8143, 1757,    346.3,  -0.2078,  34.8833,2,  34.8841,2,    319.8,2,    317.7,2,     6.06,2,    13.49,2,     0.01,2,     0.95,2,    4.730,2,    2.395,2,    0.352,2,  1.75665524,2,   -999.0,9,   -999.0,9,  -0.2206
  316N20020530,    11,  1,     13,     13,2,20020603, 70.3025, -10.8143, 1757,    395.6,  -0.2692,  34.8861,2,  34.8867,2,    313.0,2,    311.2,2,     6.65,2,    13.88,2,     0.01,2,     0.98,2, -999.000,9, -999.000,9, -999.000,9,  1.66881925,2,   -999.0,9,   -999.0,9,  -0.2838
  316N20020530,    11,  1,     12,     12,2,20020603, 70.3025, -10.8143, 1757,    447.1,  -0.3119,  34.8882,2,  34.8908,2,    309.9,2,    309.0,2,     6.94,2,    13.97,2,     0.01,2,     0.98,2,    3.955,2,    1.965,2,    0.286,2,  1.74688733,2,   2156.8,2,   2292.9,2,  -0.3285
  316N20020530,    11,  1,     11,     11,2,20020603, 70.3025, -10.8143, 1757,    517.3,  -0.3991,  34.8893,2,  34.8908,2,    307.5,2,    308.0,2,     7.13,2,    14.07,2,     0.01,2,     0.99,2,    3.760,2,    1.854,2,    0.272,2,  1.94207028,2,   -999.0,9,   -999.0,9,  -0.4182
  316N20020530,    11,  1,     10,     10,2,20020603, 70.3025, -10.8143, 1757,    583.3,  -0.4710,  34.8905,2,  34.8925,2,    306.3,2,    305.9,2,     7.72,2,    14.27,2,     0.01,2,     1.00,2, -999.000,9, -999.000,9, -999.000,9,  2.10797311,2,   2158.1,2,   2287.8,2,  -0.4926
  316N20020530,    11,  1,      9,      9,2,20020603, 70.3025, -10.8143, 1757,    657.8,  -0.5235,  34.8929,2,  34.8923,2,    304.4,2,    304.4,2,     7.82,2,    14.37,2,     0.00,2,     1.00,2, -999.000,9, -999.000,9, -999.000,9,  2.21532392,2,   -999.0,9,   -999.0,9,  -0.5480
  316N20020530,    11,  1,      8,      8,2,20020603, 70.3025, -10.8143, 1757,    758.2,  -0.5948,  34.8954,2,  34.8974,2,    303.3,2,    304.9,2,     8.21,2,    14.37,2,     0.00,2,     1.00,2,    2.695,2,    1.355,2,    0.181,2,   2.3714611,2,   2157.5,2,   2292.3,2,  -0.6233
  316N20020530,    11,  1,      7,      7,2,20020603, 70.3025, -10.8143, 1757,    859.3,  -0.6407,  34.8979,2,  34.8990,2,    304.0,2,    304.3,2,     8.60,2,    14.46,2,     0.00,2,     1.01,2,    2.509,2,    1.255,2,    0.171,2,  2.24459014,2,   -999.0,9,   -999.0,9,  -0.6734
  316N20020530,    11,  1,      6,      6,2,20020603, 70.3025, -10.8143, 1757,    959.5,  -0.6680,  34.9004,2,  34.9015,2,    302.9,2,    303.4,2,     8.99,2,    14.46,2,     0.00,2,     1.01,2, -999.000,9, -999.000,9, -999.000,9,  2.01036829,2,   -999.0,9,   -999.0,9,  -0.7052
  316N20020530,    11,  1,      5,      5,2,20020603, 70.3025, -10.8143, 1757,   1106.5,  -0.7046,  34.9031,2,-999.0000,9,    300.9,2,    301.5,2,     9.48,2,    14.56,2,     0.00,2,     1.03,2,    1.903,6,    0.936,6,    0.122,6,  1.45406927,2,   2158.4,2,   2293.4,2,  -0.7487
  316N20020530,    11,  1,      4,      4,2,20020603, 70.3025, -10.8143, 1757,   1297.9,  -0.7478,  34.9067,2,  34.9070,2,    299.3,2,    299.7,2,    10.16,2,    14.85,2,     0.00,2,     1.04,2, -999.000,9, -999.000,9, -999.000,9,        -999,9,   -999.0,9,   -999.0,9,  -0.8013
  316N20020530,    11,  1,      3,      3,2,20020603, 70.3025, -10.8143, 1757,   1491.1,  -0.7796,  34.9084,2,  34.9064,2,    298.3,2,    297.6,2,    10.95,2,    14.95,2,     0.00,2,     1.05,2,    1.176,2,    0.599,2,    0.072,2, 0.556264926,2,   2158.8,2,   2298.0,2,  -0.8432
  316N20020530,    11,  1,      2,      2,2,20020603, 70.3025, -10.8143, 1757,   1645.3,  -0.8071,  34.9100,2,  34.9109,2,    295.8,2,    296.7,2,    11.63,2,    15.05,2,     0.00,2,     1.06,2,    0.963,2,    0.484,2,    0.052,2, 0.322047036,2,   2163.6,3,   2294.7,2,  -0.8792
  316N20020530,    11,  1,      1,      1,2,20020603, 70.3025, -10.8143, 1757,   1724.0,  -0.8163,  34.9102,2,  34.9115,2,    295.1,2,    294.8,2,    12.31,2,    15.15,2,     0.00,2,     1.07,2,    0.867,2,    0.437,2,    0.038,2, 0.224456925,2,   2159.0,2,   2296.2,2,  -0.8929