BOTTLE,20081218PRINUNIVRMK
EXPOCODE,STNNBR,CASTNO,SAMPNO,BTLNBR,BTLNBR_FLAG_W,DATE,LATITUDE,LONGITUDE,DEPTH,CTDPRS,CTDTMP,CTDSAL,CTDSAL_FLAG_W,SALNTY,SALNTY_FLAG_W,CTDOXY,CTDOXY_FLAG_W,OXYGEN,OXYGEN_FLAG_W,SILCAT,SILCAT_FLAG_W,NITRAT,NITRAT_FLAG_W,NITRIT,NITRIT_FLAG_W,PHSPHT,PHSPHT_FLAG_W,CFC-11,CFC-11_FLAG_W,CFC-12,CFC-12_FLAG_W,CFC113,CFC113_FLAG_W,SF6,SF6_FLAG_W,TCARBN,TCARBN_FLAG_W,ALKALI,ALKALI_FLAG_W,THETA
,,,,,,,,,METERS,DBARS,ITS-90,PSS-78,,PSS-78,,UMOL/KG,,UMOL/KG,,UMOL/KG,,UMOL/KG,,UMOL/KG,,UMOL/KG,,PMOL/KG,,PMOL/KG,,PMOL/KG,,FMOL/KG,,UMOL/KG,,UMOL/KG,,DEGC
  316N20020530,   123,  1,     19,     19,2,20020623, 66.0040,  11.2493,  288,      4.6,  11.5380,  32.3269,2,  32.3445,2,    286.0,2,    285.4,2,     0.69,2,     0.49,2,     0.05,2,     0.06,2,    3.753,6,    2.102,6,    0.340,6,  1.76975792,2,   2018.7,2,   2235.9,2,  11.5374
  316N20020530,   123,  1,     17,     17,2,20020623, 66.0040,  11.2493,  288,     17.5,   8.5313,  33.1737,2,  33.1961,2,    294.0,2,    295.9,2,     1.27,2,     2.35,2,     0.30,2,     0.27,2,    4.457,2,    2.431,2,    0.393,2,  1.96406522,2,   2060.9,2,   2247.8,2,   8.5295
  316N20020530,   123,  1,     15,     15,2,20020623, 66.0040,  11.2493,  288,     43.4,   7.3822,  33.4737,2,  33.4760,2,    284.7,2,    284.3,2,     2.15,2,     5.97,2,     0.35,2,     0.42,2,    4.357,2,    2.479,2,    0.418,2,  1.95388647,2,   2088.3,2,   2261.1,2,   7.3782
  316N20020530,   123,  1,     13,     13,2,20020623, 66.0040,  11.2493,  288,     82.5,   6.9321,  33.8588,2,  33.8587,2,    284.1,2,    284.2,2,     2.64,2,     7.43,2,     0.03,2,     0.51,2,    4.462,2,    2.482,2,    0.386,2,  1.99239636,2,   2106.5,2,   2271.5,2,   6.9246
  316N20020530,   123,  1,     11,     11,2,20020623, 66.0040,  11.2493,  288,    117.6,   6.9829,  34.1618,2,  34.1706,2,    280.4,2,    280.3,2,     3.13,2,     8.41,2,     0.01,2,     0.57,2,    4.350,2,    2.444,2,    0.363,2,  1.96264059,2,   2117.0,2,   2278.4,2,   6.9721
  316N20020530,   123,  1,      9,      9,2,20020623, 66.0040,  11.2493,  288,    147.1,   7.6098,  34.6398,2,  34.6358,2,    276.1,2,    275.1,2,     3.32,2,     9.09,2,     0.04,2,     0.62,2,    4.282,2,    2.328,2,    0.354,2,  1.86435098,2,   2127.5,2,   2292.3,2,   7.5955
  316N20020530,   123,  1,      7,      7,2,20020623, 66.0040,  11.2493,  288,    177.5,   7.8223,  34.9387,2,  34.9466,2,    272.7,2,    272.4,2,     3.71,2,    10.16,2,     0.01,2,     0.67,2,    4.030,2,    2.256,2,    0.341,2,  1.86391967,2,   -999.0,9,   -999.0,9,   7.8046
  316N20020530,   123,  1,      5,      5,2,20020623, 66.0040,  11.2493,  288,    202.5,   7.8031,  35.0634,2,  35.0724,2,    273.8,2,    274.2,2,     3.81,2,    10.75,2,     0.01,2,     0.71,2,    4.035,6,    2.235,6,    0.323,6,    1.814956,2,   2134.5,2,   2305.1,2,   7.7829
  316N20020530,   123,  1,      3,      3,2,20020623, 66.0040,  11.2493,  288,    228.2,   7.5704,  35.0960,2,  35.0970,2,    275.1,2,    275.2,2,     4.30,2,    11.33,2,     0.01,2,     0.74,2,    3.960,2,    2.247,2,    0.338,2,  1.84419571,2,   -999.0,9,   -999.0,9,   7.5479
  316N20020530,   123,  1,      1,      1,2,20020623, 66.0040,  11.2493,  288,    284.3,   7.5334,  35.1205,2,  35.1135,2,    274.4,2,    274.2,2,     4.59,2,    11.53,2,     0.02,2,     0.76,2,    4.048,2,    2.217,2,    0.336,2,        -999,9,   2142.6,2,   2302.8,2,   7.5054
  316N20020530,   124,  1,      7,      7,2,20020623, 66.0333,  11.4747,   65,      2.9,  12.2412,  32.1516,2,  32.1541,2,    281.3,2,    282.2,2,     0.49,2,     0.10,2,     0.00,2,     0.04,2,    3.678,6,    1.995,6,    0.304,6,        -999,9,   1995.2,2,   2220.7,2,  12.2408
  316N20020530,   124,  1,      5,      5,2,20020623, 66.0333,  11.4747,   65,     18.3,   7.9441,  33.1784,2,  33.1967,2,    299.5,2,    289.7,2,     1.66,2,     3.72,2,     0.36,2,     0.31,2,    4.546,2,    2.387,2,    0.368,2,        -999,9,   2071.2,2,   2229.6,2,   7.9423
  316N20020530,   124,  1,      3,      3,2,20020623, 66.0333,  11.4747,   65,     41.7,   7.0176,  33.6684,2,  33.6750,2,    288.2,2,    287.9,2,     2.25,2,     6.55,2,     0.02,2,     0.44,2,    4.613,2,    2.459,2,    0.370,2,        -999,9,   2097.2,2,   2264.4,2,   7.0138
  316N20020530,   124,  1,      1,      1,2,20020623, 66.0333,  11.4747,   65,     62.0,   6.8864,  33.7467,2,  33.7425,2,    286.7,2,    286.9,2,     2.45,2,     6.94,2,     0.03,2,     0.47,2,    4.551,6,    2.435,6,    0.380,6,        -999,9,   2102.7,2,   2264.5,2,   6.8808
  316N20020530,   125,  1,     29,     29,2,20020625, 65.4870,  -0.9173, 3174,      4.1,  11.1514,  35.0013,2,  35.0007,2,    284.7,2,    285.0,2,     0.88,2,     0.10,2,     0.00,2,     0.11,2,    3.726,2,    2.061,2,    0.332,2,        -999,9,   2053.2,2,   2298.5,2,  11.1509
  316N20020530,   125,  1,     28,     28,2,20020625, 65.4870,  -0.9173, 3174,     24.5,   7.5916,  35.1337,2,  35.1316,2,    301.8,2,    297.2,2,     3.91,2,     8.11,2,     0.18,2,     0.65,2, -999.000,9, -999.000,9, -999.000,9,        -999,9,   -999.0,9,   -999.0,9,   7.5892
  316N20020530,   125,  1,     27,     27,2,20020625, 65.4870,  -0.9173, 3174,     46.3,   6.3913,  35.1180,2,  35.1151,2,    286.2,2,    286.3,2,     5.37,2,    12.70,2,     0.17,2,     0.83,2,    4.475,2,    2.368,2,    0.395,2,  1.96126107,2,   2137.7,2,   2296.5,2,   6.3872
  316N20020530,   125,  1,     26,     26,2,20020625, 65.4870,  -0.9173, 3174,     77.4,   5.4424,  35.0692,2,  35.0704,2,    291.4,2,    290.5,2,  -999.00,9,  -999.00,9,  -999.00,9,  -999.00,9, -999.000,9, -999.000,9, -999.000,9,        -999,9,   -999.0,9,   -999.0,9,   5.4361
  316N20020530,   125,  1,     25,     25,2,20020625, 65.4870,  -0.9173, 3174,    107.3,   4.4497,  34.9984,2,  35.0023,2,    296.7,2,    298.1,2,     5.47,2,    13.00,2,     0.01,2,     0.86,2,    4.972,2,    2.558,2,    0.436,2,  2.08828415,2,   2143.4,2,   2289.3,2,   4.4418
  316N20020530,   125,  1,     24,     24,2,20020625, 65.4870,  -0.9173, 3174,    137.8,   3.8417,  34.9706,2,  34.9702,2,    304.3,2,    303.4,2,  -999.00,9,  -999.00,9,  -999.00,9,  -999.00,9,    5.146,2,    2.615,2,    0.450,2,        -999,9,   -999.0,9,   -999.0,9,   3.8322
  316N20020530,   125,  1,     23,     23,2,20020625, 65.4870,  -0.9173, 3174,    172.5,   3.0487,  34.9254,2,  34.9297,2,    306.5,2,    305.4,2,     5.37,2,    12.90,2,     0.01,2,     0.86,2,    5.270,2,    2.684,2,    0.461,2,  2.18598565,2,   -999.0,9,   -999.0,9,   3.0379
  316N20020530,   125,  1,     22,     22,2,20020625, 65.4870,  -0.9173, 3174,    217.0,   2.4466,  34.9202,2,  34.9191,2,    310.7,2,    309.2,2,  -999.00,9,  -999.00,9,  -999.00,9,  -999.00,9,    5.356,2,    2.731,2,    0.463,2,        -999,9,   2149.0,2,   2285.1,2,   2.4340
  316N20020530,   125,  1,     21,     21,2,20020625, 65.4870,  -0.9173, 3174,    252.3,   2.0273,  34.9072,2,  34.9081,2,    310.8,2,    312.6,2,     4.98,2,    12.61,2,     0.01,2,     0.84,2,    5.512,2,    2.864,2,    0.468,2,  2.27385199,2,   -999.0,9,   -999.0,9,   2.0135
  316N20020530,   125,  1,     20,     20,2,20020625, 65.4870,  -0.9173, 3174,    286.9,   1.8031,  34.9133,7,  34.9130,2,    312.8,2,    313.5,2,  -999.00,9,  -999.00,9,  -999.00,9,  -999.00,9,    5.563,2,    2.887,2,    0.476,2,  2.22504877,2,   2151.3,2,   2283.2,2,   1.7878
  316N20020530,   125,  1,     19,     19,2,20020625, 65.4870,  -0.9173, 3174,    331.2,   1.3823,  34.9149,2,  34.9160,2,    306.9,2,    306.6,2,     5.77,2,    13.68,2,     0.01,2,     0.91,2,    5.393,2,    2.674,2,    0.441,2,  1.95179281,2,   -999.0,9,   -999.0,9,   1.3657
  316N20020530,   125,  1,     18,     18,2,20020625, 65.4870,  -0.9173, 3174,    404.3,   0.6860,  34.8972,2,  34.8985,2,    305.8,2,    305.1,2,  -999.00,9,  -999.00,9,  -999.00,9,  -999.00,9, -999.000,9, -999.000,9, -999.000,9,        -999,9,   2160.5,2,   2282.0,2,   0.6678
  316N20020530,   125,  1,     17,     17,2,20020625, 65.4870,  -0.9173, 3174,    477.1,   0.2683,  34.8902,2,  34.8928,2,    306.2,2,    306.2,2,     6.55,2,    14.07,2,     0.00,2,     0.94,2,    4.710,2,    2.322,2,    0.364,2,  1.58097948,2,   -999.0,9,   -999.0,9,   0.2482
  316N20020530,   125,  1,     16,     16,2,20020625, 65.4870,  -0.9173, 3174,    575.8,  -0.0486,  34.8862,2,  34.8885,2,    305.1,2,    305.2,2,  -999.00,9,  -999.00,9,  -999.00,9,  -999.00,9,    4.328,2,    2.101,2,    0.326,2,  1.54194788,2,   2160.8,2,   2283.3,2,  -0.0719
  316N20020530,   125,  1,     15,     15,2,20020625, 65.4870,  -0.9173, 3174,    672.7,  -0.2831,  34.8882,2,  34.8895,2,    305.2,2,    304.9,2,     7.52,2,    14.27,2,     0.00,2,     0.95,2,    3.938,2,    1.896,2,    0.293,2,  1.68833408,2,   -999.0,9,   -999.0,9,  -0.3096
  316N20020530,   125,  1,     14,     14,2,20020625, 65.4870,  -0.9173, 3174,    769.5,  -0.4363,  34.8895,2,  34.8932,2,    305.3,2,    304.9,2,  -999.00,9,  -999.00,9,  -999.00,9,  -999.00,9,    3.605,2,    1.741,2,    0.256,2,  2.04941723,2,   2161.4,2,   2282.3,2,  -0.4663
  316N20020530,   125,  1,     13,     13,2,20020625, 65.4870,  -0.9173, 3174,    865.2,  -0.5218,  34.8936,2,  34.8962,2,    303.8,2,    303.1,2,     8.31,2,    14.46,2,     0.00,2,     0.96,2,    3.056,6,    1.485,6,    0.214,6,  2.29339035,2,   -999.0,9,   -999.0,9,  -0.5557
  316N20020530,   125,  1,     12,     12,2,20020625, 65.4870,  -0.9173, 3174,    957.5,  -0.5769,  34.8966,2,  34.8978,2,    301.7,2,    301.5,3,  -999.00,9,  -999.00,9,  -999.00,9,  -999.00,9,    2.642,2,    1.273,2,    0.188,2,  2.27386943,2,   2160.3,2,   2279.6,2,  -0.6147
  316N20020530,   125,  1,     11,     11,2,20020625, 65.4870,  -0.9173, 3174,   1051.3,  -0.6266,  34.9001,2,  34.9013,2,    299.5,2,    299.4,2,     9.19,2,    14.76,2,     0.00,2,     0.98,2,    2.238,2,    1.090,2,    0.157,2,  1.81518718,2,   -999.0,9,   -999.0,9,  -0.6686
  316N20020530,   125,  1,     10,     10,2,20020625, 65.4870,  -0.9173, 3174,   1176.5,  -0.6879,  34.9039,2,  34.9058,2,    298.6,2,    298.0,2,  -999.00,9,  -999.00,9,  -999.00,9,  -999.00,9,    1.737,2,    0.913,2,    0.121,2,  1.05397612,2,   -999.0,9,   -999.0,9,  -0.7357
  316N20020530,   125,  1,      9,      9,2,20020625, 65.4870,  -0.9173, 3174,   1375.7,  -0.7612,  34.9072,2,  34.9084,2,    297.4,2,    297.8,2,    10.55,2,    14.95,2,     0.00,2,     1.00,2,    1.238,2,    0.597,2,    0.079,2, 0.487950963,2,   2159.9,2,   2287.0,2,  -0.8187
  316N20020530,   125,  1,      8,      8,2,20020625, 65.4870,  -0.9173, 3174,   1576.6,  -0.8080,  34.9090,2,  34.9100,2,    297.0,2,    297.2,2,  -999.00,9,  -999.00,9,  -999.00,9,  -999.00,9,    0.963,2,    0.472,2,    0.057,2, 0.263493206,2,   -999.0,9,   -999.0,9,  -0.8761
  316N20020530,   125,  1,      7,      7,2,20020625, 65.4870,  -0.9173, 3174,   1770.1,  -0.8432,  34.9089,2,  34.9104,2,    297.2,2,    297.4,2,    11.53,2,    15.15,2,     0.00,2,     1.01,2,    0.764,6,    0.388,6,    0.046,6, 0.195180095,2,   -999.0,9,   -999.0,9,  -0.9222
  316N20020530,   125,  1,      6,      6,2,20020625, 65.4870,  -0.9173, 3174,   2015.2,  -0.8662,  34.9094,2,  34.9098,2,    297.3,2,    297.8,2,  -999.00,9,  -999.00,9,  -999.00,9,  -999.00,9, -999.000,9, -999.000,9, -999.000,9,        -999,9,   2159.6,2,   2283.8,2,  -0.9601
  316N20020530,   125,  1,      5,      5,2,20020625, 65.4870,  -0.9173, 3174,   2258.1,  -0.8700,  34.9101,2,  34.9112,2,    297.3,2,    297.6,2,    12.31,2,    15.34,2,     0.00,2,     1.02,2,    0.607,2,    0.301,2,    0.029,2,        -999,9,   -999.0,9,   -999.0,9,  -0.9799
  316N20020530,   125,  1,      4,      4,2,20020625, 65.4870,  -0.9173, 3174,   2504.9,  -0.8669,  34.9103,2,  34.9098,2,    297.3,2,    297.3,2,  -999.00,9,  -999.00,9,  -999.00,9,  -999.00,9, -999.000,9, -999.000,9, -999.000,9,        -999,9,   2156.3,2,   2290.1,2,  -0.9942
  316N20020530,   125,  1,      3,      3,2,20020625, 65.4870,  -0.9173, 3174,   2759.8,  -0.8575,  34.9102,2,  34.9116,2,    297.4,2,    297.4,2,    12.90,2,    15.34,2,     0.00,2,     1.03,2,    0.489,2,    0.245,2,    0.023,2,        -999,9,   -999.0,9,   -999.0,9,  -1.0039
  316N20020530,   125,  1,      2,      2,2,20020625, 65.4870,  -0.9173, 3174,   3014.8,  -0.8455,  34.9110,2,  34.9108,2,    297.3,2,    296.9,2,  -999.00,9,  -999.00,9,  -999.00,9,  -999.00,9,    0.425,2,    0.225,2,    0.016,2,        -999,9,   2162.1,2,   2290.0,2,  -1.0122
  316N20020530,   125,  1,      1,      1,2,20020625, 65.4870,  -0.9173, 3174,   3169.2,  -0.8354,  34.9105,2,  34.9105,2,    297.0,2,    297.5,2,    13.49,2,    15.54,2,     0.00,2,     1.03,2,    0.397,2,    0.211,2,    0.014,2,        -999,9,   2163.0,2,   2290.5,2,  -1.0149