BOTTLE,20081218PRINUNIVRMK
EXPOCODE,STNNBR,CASTNO,SAMPNO,BTLNBR,BTLNBR_FLAG_W,DATE,LATITUDE,LONGITUDE,DEPTH,CTDPRS,CTDTMP,CTDSAL,CTDSAL_FLAG_W,SALNTY,SALNTY_FLAG_W,CTDOXY,CTDOXY_FLAG_W,OXYGEN,OXYGEN_FLAG_W,SILCAT,SILCAT_FLAG_W,NITRAT,NITRAT_FLAG_W,NITRIT,NITRIT_FLAG_W,PHSPHT,PHSPHT_FLAG_W,CFC-11,CFC-11_FLAG_W,CFC-12,CFC-12_FLAG_W,CFC113,CFC113_FLAG_W,SF6,SF6_FLAG_W,TCARBN,TCARBN_FLAG_W,ALKALI,ALKALI_FLAG_W,THETA
,,,,,,,,,METERS,DBARS,ITS-90,PSS-78,,PSS-78,,UMOL/KG,,UMOL/KG,,UMOL/KG,,UMOL/KG,,UMOL/KG,,UMOL/KG,,PMOL/KG,,PMOL/KG,,PMOL/KG,,FMOL/KG,,UMOL/KG,,UMOL/KG,,DEGC
  316N20020530,    29,  1,     33,     33,2,20020606, 76.9438,   1.8357, 3264,      2.7,   1.7148,  34.8470,2,  34.8471,2,    355.7,2,    356.6,2,     5.18,2,     8.11,2,     0.05,2,     0.62,2,    5.989,2,    3.088,2,    0.529,2,  2.14708221,2,   2129.7,2,   2304.6,2,   1.7147
  316N20020530,    29,  1,     34,     34,2,20020606, 76.9438,   1.8357, 3264,      2.8,   1.7148,  34.8472,2,-999.0000,9,    355.8,2,   -999.0,9,  -999.00,9,  -999.00,9,  -999.00,9,  -999.00,9, -999.000,9, -999.000,9, -999.000,9,        -999,9,   -999.0,9,   -999.0,9,   1.7147
  316N20020530,    29,  1,     32,     32,2,20020606, 76.9438,   1.8357, 3264,     37.9,   0.4670,  34.8990,2,  34.8991,2,    342.0,2,    347.7,2,     5.18,2,    10.16,2,     0.04,2,     0.74,2, -999.000,9, -999.000,9, -999.000,9,        -999,9,   2148.8,2,   2306.6,2,   0.4655
  316N20020530,    29,  1,     31,     31,2,20020606, 76.9438,   1.8357, 3264,     73.0,  -0.0284,  34.8952,2,  34.8955,2,    336.8,2,    337.4,2,     5.57,2,    11.63,2,     0.05,2,     0.81,2,    5.641,2,    2.892,2,    0.498,2,   2.0298955,2,   2155.6,2,   2304.2,2,  -0.0310
  316N20020530,    29,  1,     30,     30,2,20020606, 76.9438,   1.8357, 3264,    113.1,  -0.2129,  34.8941,2,  34.8945,2,    333.2,2,    333.5,2,     5.86,2,    12.12,2,     0.04,2,     0.85,2,    5.282,2,    2.778,2,    0.464,2,        -999,9,   2158.5,2,   2307.4,2,  -0.2168
  316N20020530,    29,  1,     29,     29,2,20020606, 76.9438,   1.8357, 3264,    148.5,  -0.4296,  34.8845,2,  34.8853,2,    334.5,2,    328.4,2,     6.06,2,    12.61,2,     0.02,2,     0.87,2,    5.037,2,    2.607,2,    0.414,2,  2.08846603,2,   2159.1,2,   2300.8,2,  -0.4345
  316N20020530,    29,  1,     28,     28,2,20020606, 76.9438,   1.8357, 3264,    188.9,  -0.2413,  34.9003,2,  34.9012,2,    330.1,2,    330.7,2,     5.96,2,    12.51,2,     0.03,2,     0.86,2, -999.000,9, -999.000,9, -999.000,9,        -999,9,   -999.0,9,   -999.0,9,  -0.2480
  316N20020530,    29,  1,     27,     27,2,20020606, 76.9438,   1.8357, 3264,    229.0,  -0.4437,  34.8912,2,  34.8925,2,    327.1,2,    327.2,2,     6.25,2,    12.80,2,     0.02,2,     0.88,2,    4.925,2,    2.570,2,    0.425,2,  2.40074715,2,   2159.1,2,   2306.4,2,  -0.4515
  316N20020530,    29,  1,     26,     26,2,20020606, 76.9438,   1.8357, 3264,    279.0,  -0.2067,  34.9136,2,  34.9151,2,    331.2,2,    329.8,2,     5.96,2,    12.80,2,     0.01,2,     0.87,2, -999.000,9, -999.000,9, -999.000,9,        -999,9,   -999.0,9,   -999.0,9,  -0.2169
  316N20020530,    29,  1,     25,     25,2,20020606, 76.9438,   1.8357, 3264,    339.9,  -0.2426,  34.9137,2,  34.9159,2,    330.9,2,    328.0,2,     6.06,2,    12.80,2,     0.00,2,     0.88,2,    5.022,2,    2.593,2,    0.429,2,  2.36166947,2,   2157.8,2,   2302.8,2,  -0.2551
  316N20020530,    29,  1,     24,     24,2,20020606, 76.9438,   1.8357, 3264,    390.2,  -0.2668,  34.9138,2,  34.9161,2,    328.7,2,    327.1,2,     6.06,2,    12.90,2,     0.00,2,     0.88,2, -999.000,9, -999.000,9, -999.000,9,        -999,9,   -999.0,9,   -999.0,9,  -0.2812
  316N20020530,    29,  1,     23,     23,2,20020606, 76.9438,   1.8357, 3264,    440.0,  -0.3120,  34.9119,2,  34.9136,2,    328.9,2,    326.0,2,     6.16,2,    12.90,2,     0.00,2,     0.89,2,    5.002,2,    2.574,2,    0.422,2,  2.55685315,2,   -999.0,9,   -999.0,9,  -0.3283
  316N20020530,    29,  1,     22,     22,2,20020606, 76.9438,   1.8357, 3264,    500.5,  -0.4221,  34.9061,2,  34.9076,2,    327.9,2,    327.6,2,     6.16,2,    12.90,2,     0.00,2,     0.89,2,    5.055,6,    2.609,6,    0.439,6,  2.77156312,2,   -999.0,9,   -999.0,9,  -0.4404
  316N20020530,    29,  1,     21,     21,2,20020606, 76.9438,   1.8357, 3264,    560.8,  -0.4860,  34.9038,2,  34.9055,2,    328.2,2,    327.8,2,     6.25,2,    13.00,2,     0.00,2,     0.89,2,    4.815,2,    2.506,2,    0.404,2,  2.98626634,2,   2158.8,2,   2302.8,2,  -0.5066
  316N20020530,    29,  1,     20,     20,2,20020606, 76.9438,   1.8357, 3264,    640.8,  -0.5349,  34.9018,2,  34.9025,2,    327.0,2,    328.5,2,     6.25,2,    13.00,2,     0.00,2,     0.89,2,    4.842,2,    2.506,2,    0.411,2,  3.05458644,2,   -999.0,9,   -999.0,9,  -0.5586
  316N20020530,    29,  1,     19,     19,2,20020606, 76.9438,   1.8357, 3264,    736.5,  -0.5811,  34.9001,2,  34.9021,2,    327.5,2,    327.3,2,     6.25,2,    13.10,2,     0.00,2,     0.89,2,    4.993,2,    2.542,2,    0.425,2,  3.21073239,2,   2159.8,2,   2303.0,2,  -0.6087
  316N20020530,    29,  1,     18,     18,2,20020606, 76.9438,   1.8357, 3264,    811.8,  -0.6301,  34.8967,2,  34.8984,2,    325.9,2,    327.4,2,     6.45,2,    13.10,2,     0.00,2,     0.89,2,    4.934,2,    2.508,2,    0.407,2,  3.42544126,2,   -999.0,9,   -999.0,9,  -0.6607
  316N20020530,    29,  1,     17,     17,2,20020606, 76.9438,   1.8357, 3264,    912.8,  -0.6908,  34.8930,2,  34.8958,2,    323.0,2,    327.5,2,     6.55,2,    13.10,2,     0.00,2,     0.90,2,    4.777,6,    2.455,6,    0.397,6,  3.72798032,2,   -999.0,9,   -999.0,9,  -0.7256
  316N20020530,    29,  1,     16,     16,2,20020606, 76.9438,   1.8357, 3264,   1013.4,  -0.7589,  34.8898,2,-999.0000,9,    322.7,2,    324.2,2,     6.74,2,    13.29,2,     0.00,2,     0.91,2,    4.350,2,    2.246,2,    0.359,2,  3.88402396,2,   2162.5,2,   2302.7,2,  -0.7979
  316N20020530,    29,  1,     15,     15,2,20020606, 76.9438,   1.8357, 3264,   1123.7,  -0.7915,  34.8888,2,  34.8913,2,    320.4,2,    319.6,2,     7.43,2,    13.58,2,     0.00,2,     0.93,2,    3.884,2,    1.955,2,    0.298,2,  3.95245311,2,   -999.0,9,   -999.0,9,  -0.8356
  316N20020530,    29,  1,     14,     14,2,20020606, 76.9438,   1.8357, 3264,   1238.9,  -0.8370,  34.8868,2,  34.8881,2,    317.1,2,    322.9,2,     7.33,2,    13.39,2,     0.00,2,     0.92,2,    4.049,2,    2.078,2,    0.327,2,  3.40594919,2,   2160.5,2,   2300.3,2,  -0.8864
  316N20020530,    29,  1,     13,     13,2,20020606, 76.9438,   1.8357, 3264,   1364.8,  -0.7768,  34.8965,2,  34.8976,2,    309.9,2,    311.4,2,     8.60,2,    13.97,2,     0.00,2,     0.95,2,    2.863,2,    1.413,2,    0.206,2,  2.42025623,2,   2161.1,2,   2303.2,2,  -0.8335
  316N20020530,    29,  1,     12,     12,2,20020606, 76.9438,   1.8357, 3264,   1466.1,  -0.7656,  34.9011,2,  34.9031,2,    306.5,2,    307.1,2,     8.99,2,    14.17,2,     0.00,2,     0.97,2,    2.296,2,    1.123,2,    0.160,2,   1.5712083,2,   -999.0,9,   -999.0,9,  -0.8280
  316N20020530,    29,  1,     11,     11,2,20020606, 76.9438,   1.8357, 3264,   1566.2,  -0.7585,  34.9052,2,  34.9070,2,    303.2,2,    303.6,2,     9.77,2,    14.37,2,     0.00,2,     0.98,2,    1.775,2,    0.864,2,    0.113,2, 0.946625854,2,   -999.0,9,   -999.0,9,  -0.8266
  316N20020530,    29,  1,     10,     10,2,20020606, 76.9438,   1.8357, 3264,   1667.8,  -0.7677,  34.9081,2,  34.9095,2,    301.3,2,    301.6,2,     9.87,2,    14.56,2,     0.00,2,     0.99,2,    1.368,2,    0.687,2,    0.091,2,  0.61481771,2,   2160.6,2,   2303.5,2,  -0.8416
  316N20020530,    29,  1,      9,      9,2,20020606, 76.9438,   1.8357, 3264,   1819.2,  -0.7989,  34.9098,2,  34.9099,2,    300.2,2,    299.5,2,    10.36,2,    14.66,2,     0.00,2,     1.00,2,    1.076,2,    0.535,2,    0.056,2, 0.263493226,2,   -999.0,9,   -999.0,9,  -0.8815
  316N20020530,    29,  1,      8,      8,2,20020606, 76.9438,   1.8357, 3264,   1971.4,  -0.8221,  34.9114,2,  34.9117,2,    299.9,2,    300.2,2,    10.85,2,    14.76,2,     0.00,2,     1.00,2,    0.909,2,    0.447,2,    0.044,2, 0.195179906,2,   2159.7,2,   2302.5,2,  -0.9139
  316N20020530,    29,  1,      7,      7,2,20020606, 76.9438,   1.8357, 3264,   2172.9,  -0.8559,  34.9108,2,  34.9121,2,    300.0,2,    300.4,2,    11.24,2,    14.76,2,     0.00,2,     1.01,2,    0.776,2,    0.395,2,    0.040,2,        -999,9,   -999.0,9,   -999.0,9,  -0.9603
  316N20020530,    29,  1,      6,      6,2,20020606, 76.9438,   1.8357, 3264,   2376.3,  -0.8730,  34.9105,2,  34.9105,2,    300.6,2,    301.0,2,    11.34,2,    14.76,2,     0.00,2,     1.01,2,    0.728,2,    0.367,2,    0.038,2, 0.117108048,2,   -999.0,9,   -999.0,9,  -0.9910
  316N20020530,    29,  1,      5,      5,2,20020606, 76.9438,   1.8357, 3264,   2578.4,  -0.8856,  34.9111,2,  34.9105,2,    301.2,2,    301.7,2,    11.43,2,    14.76,2,     0.00,2,     1.01,2,    0.731,2,    0.365,2,    0.035,2, 0.126867052,2,   2161.9,2,   2306.6,2,  -1.0179
  316N20020530,    29,  1,      4,      4,2,20020606, 76.9438,   1.8357, 3264,   2780.9,  -0.8907,  34.9095,2,  34.9097,2,    301.8,2,    302.0,2,    11.53,2,    14.76,2,     0.00,2,     1.01,2,    0.722,2,    0.358,2,    0.033,2, 0.136626137,2,   -999.0,9,   -999.0,9,  -1.0380
  316N20020530,    29,  1,      3,      3,2,20020606, 76.9438,   1.8357, 3264,   2984.5,  -0.8889,  34.9086,2,  34.9083,2,    302.1,2,    302.1,2,    11.63,2,    14.76,2,     0.00,2,     1.01,2,    0.732,2,    0.375,2,    0.034,2,  0.13662628,2,   -999.0,9,   -999.0,9,  -1.0522
  316N20020530,    29,  1,      2,      2,2,20020606, 76.9438,   1.8357, 3264,   3138.6,  -0.8848,  34.9094,2,  34.9083,2,    302.2,2,    302.0,2,    11.73,2,    14.76,2,     0.00,2,     1.01,2,    0.746,2,    0.378,2,    0.037,2,   0.1463853,2,   2161.4,2,   2297.3,2,  -1.0606
  316N20020530,    29,  1,      1,      1,2,20020606, 76.9438,   1.8357, 3264,   3235.7,  -0.8777,  34.9088,2,  34.9091,2,    301.6,2,    301.5,2,    11.82,2,    14.76,2,     0.00,2,     1.01,2,    0.741,2,    0.380,2,    0.040,2, 0.165903241,2,   2161.5,2,   -999.0,9,  -1.0617
  316N20020530,    30,  1,     32,     32,2,20020606, 77.4442,   2.1433, 3250,      3.1,   1.7007,  34.8579,2,  34.8593,2,    356.2,2,    356.2,2,     5.18,2,     7.82,2,     0.04,2,     0.61,2,    6.019,2,    3.113,2,    0.548,2,        -999,9,   2127.2,2,   2302.8,2,   1.7005
  316N20020530,    30,  1,     31,     31,2,20020606, 77.4442,   2.1433, 3250,     30.3,   1.6472,  34.8573,2,  34.8595,2,    357.3,2,    355.9,2,     5.18,2,     7.82,2,     0.04,2,     0.62,2, -999.000,9, -999.000,9, -999.000,9,        -999,9,   -999.0,9,   -999.0,9,   1.6457
  316N20020530,    30,  1,     30,     30,2,20020606, 77.4442,   2.1433, 3250,     54.8,   0.7521,  34.8919,2,  34.8980,2,    335.5,2,    343.6,2,     5.37,2,    10.26,2,     0.03,2,     0.72,2,    5.817,2,    2.994,2,    0.507,2,  1.86398711,2,   2143.6,2,   2303.0,2,   0.7498
  316N20020530,    30,  1,     29,     29,2,20020606, 77.4442,   2.1433, 3250,     80.1,   0.9927,  34.9495,2,  34.9517,2,    328.7,2,    333.2,2,     5.37,2,    11.14,2,     0.04,2,     0.77,2, -999.000,9, -999.000,9, -999.000,9,        -999,9,   -999.0,9,   -999.0,9,   0.9891
  316N20020530,    30,  1,     28,     28,2,20020606, 77.4442,   2.1433, 3250,    115.9,   0.5936,  34.9352,2,  34.9366,2,    325.6,2,    327.9,2,     5.57,2,    11.92,2,     0.05,2,     0.81,2,    5.433,2,    2.790,2,    0.477,2,        -999,9,   2153.4,2,   2301.4,2,   0.5888
  316N20020530,    30,  1,     27,     27,2,20020606, 77.4442,   2.1433, 3250,    156.0,   0.4988,  34.9360,2,  34.9395,2,    328.4,2,    326.6,2,     5.67,2,    12.12,2,     0.05,2,     0.83,2,    5.383,2,    2.745,2,    0.457,2,        -999,9,   2153.1,2,   2301.1,2,   0.4924
  316N20020530,    30,  1,     26,     26,2,20020606, 77.4442,   2.1433, 3250,    205.9,   0.4014,  34.9404,2,  34.9419,2,    327.3,2,    324.2,2,     5.77,2,    12.41,2,     0.03,2,     0.84,2,    5.131,2,    2.764,2,    0.435,2,  1.78585599,2,   -999.0,9,   -999.0,9,   0.3930
  316N20020530,    30,  1,     25,     25,2,20020606, 77.4442,   2.1433, 3250,    256.8,   0.2265,  34.9312,2,  34.9330,2,    327.3,2,    327.2,2,     5.77,2,    12.41,2,     0.03,2,     0.85,2,    5.215,2,    2.715,2,    0.436,2,  1.81514434,2,   2151.8,2,   2294.4,2,   0.2162
  316N20020530,    30,  1,     24,     24,2,20020606, 77.4442,   2.1433, 3250,    305.8,   0.1525,  34.9304,2,  34.9332,2,    328.7,2,    328.8,2,     5.77,2,    12.51,2,     0.03,2,     0.85,2,    5.361,2,    2.758,2,    0.452,2,   1.9712855,2,   -999.0,9,   -999.0,9,   0.1403
  316N20020530,    30,  1,     23,     23,2,20020606, 77.4442,   2.1433, 3250,    356.0,   0.1016,  34.9298,2,  34.9320,2,    329.7,2,    328.5,2,     5.86,2,    12.61,2,     0.03,2,     0.86,2,    5.375,2,    2.767,2,    0.466,2,  2.03959919,2,   2157.4,2,   2302.5,2,   0.0874
  316N20020530,    30,  1,     22,     22,2,20020606, 77.4442,   2.1433, 3250,    405.7,   0.0750,  34.9301,2,  34.9324,2,    328.5,2,    328.1,2,     5.86,2,    12.70,2,     0.03,2,     0.86,2,    5.334,2,    2.768,2,    0.453,2,  2.02983974,2,   -999.0,9,   -999.0,9,   0.0588
  316N20020530,    30,  1,     21,     21,2,20020606, 77.4442,   2.1433, 3250,    480.5,   0.0144,  34.9306,2,  34.9316,2,    327.4,2,    326.8,2,     5.96,2,    12.90,2,     0.01,2,     0.87,2,    5.253,2,    2.720,2,    0.434,2,  2.28357107,2,   -999.0,9,   -999.0,9,  -0.0049
  316N20020530,    30,  1,     20,     20,2,20020606, 77.4442,   2.1433, 3250,    557.4,  -0.0930,  34.9236,2,  34.9259,2,    326.5,2,    326.4,2,     6.06,2,    12.90,2,     0.00,2,     0.87,2,    5.188,6,    2.675,6,    0.434,6,  2.17623294,2,   2158.1,2,   2299.8,2,  -0.1153
  316N20020530,    30,  1,     19,     19,2,20020606, 77.4442,   2.1433, 3250,    657.2,  -0.2755,  34.9134,2,  34.9158,2,    325.4,2,    324.6,2,     6.25,2,    13.19,2,     0.00,2,     0.89,2, -999.000,9, -999.000,9, -999.000,9,        -999,9,   -999.0,9,   -999.0,9,  -0.3013
  316N20020530,    30,  1,     18,     18,2,20020606, 77.4442,   2.1433, 3250,    758.6,  -0.2822,  34.9173,2,  34.9193,2,    324.4,2,    325.3,2,     6.25,2,    13.29,2,     0.00,2,     0.89,2,    5.081,2,    2.598,2,    0.424,2,  2.51780654,2,   2158.5,2,   2302.1,2,  -0.3127
  316N20020530,    30,  1,     17,     17,2,20020606, 77.4442,   2.1433, 3250,    884.4,  -0.4451,  34.9061,2,  34.9067,2,    325.1,2,    326.3,2,     6.25,2,    13.29,2,     0.00,2,     0.89,2, -999.000,9, -999.000,9, -999.000,9,  2.82036013,2,   -999.0,9,   -999.0,9,  -0.4804
  316N20020530,    30,  1,     16,     16,2,20020606, 77.4442,   2.1433, 3250,   1010.9,  -0.5092,  34.9036,2,  34.9044,2,    326.3,2,    324.0,2,     6.25,2,    13.19,2,     0.00,2,     0.89,2,    5.080,2,    2.610,2,    0.418,2,        -999,9,   2160.4,2,   2294.1,2,  -0.5502
  316N20020530,    30,  1,     15,     15,2,20020606, 77.4442,   2.1433, 3250,   1111.4,  -0.6287,  34.8950,2,  34.8967,2,    324.8,2,    324.1,2,     6.65,2,    13.39,2,     0.00,2,     0.91,2, -999.000,9, -999.000,9, -999.000,9,        -999,9,   -999.0,9,   -999.0,9,  -0.6737
  316N20020530,    30,  1,     14,     14,2,20020606, 77.4442,   2.1433, 3250,   1237.4,  -0.7081,  34.8916,2,  34.8925,2,    323.3,2,    319.5,2,     7.23,2,    13.68,2,     0.00,2,     0.92,2,    4.161,2,    2.128,2,    0.348,2,  3.50352938,2,   2160.9,2,   2298.3,2,  -0.7588
  316N20020530,    30,  1,     13,     13,2,20020606, 77.4442,   2.1433, 3250,   1363.8,  -0.7728,  34.8887,2,  34.8902,2,    317.3,2,    321.0,2,     7.23,2,    13.68,2,     0.00,2,     0.93,2, -999.000,9, -999.000,9, -999.000,9,   4.0012521,2,   -999.0,9,   -999.0,9,  -0.8295
  316N20020530,    30,  1,     12,     12,2,20020606, 77.4442,   2.1433, 3250,   1465.0,  -0.7824,  34.8913,2,  34.8931,2,    315.2,2,    315.9,2,     7.92,2,    13.97,2,     0.00,2,     0.95,2,    3.521,2,    1.760,2,    0.269,2,  3.27906782,2,   2161.8,2,   2301.8,2,  -0.8445
  316N20020530,    30,  1,     11,     11,2,20020606, 77.4442,   2.1433, 3250,   1566.6,  -0.7924,  34.8934,2,  34.8937,2,    313.2,2,    314.6,2,     8.11,2,    14.07,2,     0.00,2,     0.95,2, -999.000,9, -999.000,9, -999.000,9,  2.73255529,2,   -999.0,9,   -999.0,9,  -0.8601
  316N20020530,    30,  1,     10,     10,2,20020606, 77.4442,   2.1433, 3250,   1693.4,  -0.7443,  34.9033,2,  34.9037,2,    307.3,2,   -999.0,9,     9.48,2,    14.37,2,     0.00,2,     0.98,2,    2.163,2,    1.049,2,    0.144,2,  1.37602653,2,   2159.6,2,   2299.1,2,  -0.8201
  316N20020530,    30,  1,      9,      9,2,20020606, 77.4442,   2.1433, 3250,   1819.5,  -0.7524,  34.9074,2,  34.9080,2,    301.6,2,    301.2,2,     9.87,2,    14.76,2,     0.00,2,     1.00,2, -999.000,9, -999.000,9, -999.000,9, 0.702649596,2,   -999.0,9,   -999.0,9,  -0.8357
  316N20020530,    30,  1,      8,      8,2,20020606, 77.4442,   2.1433, 3250,   1970.7,  -0.7858,  34.9095,2,  34.9100,2,    299.5,2,    299.1,2,    10.36,2,    14.85,2,     0.00,2,     1.01,2,    1.105,2,    0.564,2,    0.072,2, 0.351324275,2,   2159.8,2,   2299.0,2,  -0.8781
  316N20020530,    30,  1,      7,      7,2,20020606, 77.4442,   2.1433, 3250,   2172.3,  -0.8197,  34.9113,2,  34.9115,2,    298.8,2,    298.8,2,    11.24,2,    15.05,2,     0.00,2,     1.02,2,    0.875,2,    0.436,2,    0.046,2, 0.175661941,2,   -999.0,9,   -999.0,9,  -0.9247
  316N20020530,    30,  1,      6,      6,2,20020606, 77.4442,   2.1433, 3250,   2375.0,  -0.8464,  34.9113,2,  34.9115,2,    299.1,2,    299.8,2,    11.34,2,    15.05,2,     0.00,2,     1.02,2,    0.763,2,    0.386,2,    0.040,2, 0.156143948,2,   -999.0,9,   -999.0,9,  -0.9649
  316N20020530,    30,  1,      5,      5,2,20020606, 77.4442,   2.1433, 3250,   2577.1,  -0.8616,  34.9112,2,  34.9113,2,    299.7,2,    301.2,2,    11.43,2,    15.15,2,     0.00,2,     1.02,2, -999.000,9, -999.000,9, -999.000,9,        -999,9,   -999.0,9,   -999.0,9,  -0.9943
  316N20020530,    30,  1,      4,      4,2,20020606, 77.4442,   2.1433, 3250,   2779.8,  -0.8717,  34.9109,2,  34.9113,2,    300.4,2,    300.4,2,    11.53,2,    15.05,2,     0.00,2,     1.02,2,    0.698,2,    0.351,2,    0.036,2,        -999,9,   2158.9,2,   2299.0,2,  -1.0194
  316N20020530,    30,  1,      3,      3,2,20020606, 77.4442,   2.1433, 3250,   2982.2,  -0.8810,  34.9099,2,  34.9093,2,    301.3,2,    301.1,2,    11.53,2,    15.15,2,     0.00,2,     1.02,2,    0.725,2,    0.359,2,    0.037,2, 0.146385191,2,   -999.0,9,   -999.0,9,  -1.0443
  316N20020530,    30,  1,      2,      2,2,20020606, 77.4442,   2.1433, 3250,   3133.0,  -0.8786,  34.9092,2,  34.9087,2,    301.3,2,    300.8,2,    12.12,2,    15.15,2,     0.00,2,     1.03,2, -999.000,9, -999.000,9, -999.000,9, 0.156144273,2,   2161.9,2,   2303.0,3,  -1.0541
  316N20020530,    30,  1,      1,      1,2,20020606, 77.4442,   2.1433, 3250,   3222.8,  -0.8752,  34.9083,2,  34.9083,2,    301.2,2,    301.3,2,    12.12,2,    15.15,2,     0.00,2,     1.02,2,    0.722,2,    0.379,2,    0.037,2,  0.16590334,2,   2161.9,2,   2296.8,2,  -1.0582