BOTTLE,20081218PRINUNIVRMK
EXPOCODE,STNNBR,CASTNO,SAMPNO,BTLNBR,BTLNBR_FLAG_W,DATE,LATITUDE,LONGITUDE,DEPTH,CTDPRS,CTDTMP,CTDSAL,CTDSAL_FLAG_W,SALNTY,SALNTY_FLAG_W,CTDOXY,CTDOXY_FLAG_W,OXYGEN,OXYGEN_FLAG_W,SILCAT,SILCAT_FLAG_W,NITRAT,NITRAT_FLAG_W,NITRIT,NITRIT_FLAG_W,PHSPHT,PHSPHT_FLAG_W,CFC-11,CFC-11_FLAG_W,CFC-12,CFC-12_FLAG_W,CFC113,CFC113_FLAG_W,SF6,SF6_FLAG_W,TCARBN,TCARBN_FLAG_W,ALKALI,ALKALI_FLAG_W,THETA
,,,,,,,,,METERS,DBARS,ITS-90,PSS-78,,PSS-78,,UMOL/KG,,UMOL/KG,,UMOL/KG,,UMOL/KG,,UMOL/KG,,UMOL/KG,,PMOL/KG,,PMOL/KG,,PMOL/KG,,FMOL/KG,,UMOL/KG,,UMOL/KG,,DEGC
  316N20020530,    20,  1,     32,     32,2,20020604, 73.3823,  -5.3850, 2961,      2.9,   1.1442,  34.7367,2,  34.7380,2,    360.3,2,    360.2,2,  -999.00,9,  -999.00,9,  -999.00,9,  -999.00,9,    6.263,2,    3.249,2,    0.577,2,  2.16677711,2,   2128.7,2,   2290.9,2,   1.1441
  316N20020530,    20,  1,     33,     33,2,20020604, 73.3823,  -5.3850, 2961,      3.2,   1.1604,  34.7368,2,-999.0000,9,    360.4,2,   -999.0,9,     4.01,2,     8.50,2,     0.05,2,     0.62,2, -999.000,9, -999.000,9, -999.000,9,        -999,9,   -999.0,9,   -999.0,9,   1.1603
  316N20020530,    20,  1,     31,     31,2,20020604, 73.3823,  -5.3850, 2961,     40.5,   0.1977,  34.7597,2,  34.7630,2,    342.0,2,    351.4,2,     3.91,2,     8.50,2,     0.05,2,     0.62,2, -999.000,9, -999.000,9, -999.000,9,  2.16673679,2,   2140.0,2,   2293.6,2,   0.1962
  316N20020530,    20,  1,     30,     30,3,20020604, 73.3823,  -5.3850, 2961,     75.6,   0.0215,  34.8132,2,-999.0000,9,    340.6,2,   -999.0,9,     4.69,2,    10.16,2,     0.03,2,     0.73,2, -999.000,9, -999.000,9, -999.000,9,        -999,9,   -999.0,9,   -999.0,9,   0.0188
  316N20020530,    20,  1,     29,     29,2,20020604, 73.3823,  -5.3850, 2961,    105.4,   0.1645,  34.8524,2,  34.8540,2,    329.7,2,    327.9,2,     5.47,2,    11.83,2,     0.03,2,     0.83,2,    4.891,2,    2.590,2,    0.428,2,  1.64934104,2,   2149.7,2,   2294.6,2,   0.1605
  316N20020530,    20,  1,     28,     28,2,20020604, 73.3823,  -5.3850, 2961,    140.4,   0.0620,  34.8663,2,  34.8674,2,    327.0,2,    326.9,2,     6.06,2,    12.02,2,     0.02,2,     0.83,2, -999.000,9, -999.000,9, -999.000,9,        -999,9,   -999.0,9,   -999.0,9,   0.0568
  316N20020530,    20,  1,     27,     27,2,20020604, 73.3823,  -5.3850, 2961,    170.7,  -0.0313,  34.8661,2,  34.8695,2,    324.2,2,    328.1,2,     5.96,2,    12.12,2,     0.03,2,     0.84,2,    4.881,2,    2.562,2,    0.419,2,   1.6005255,2,   2161.6,2,   2296.6,2,  -0.0376
  316N20020530,    20,  1,     26,     26,2,20020604, 73.3823,  -5.3850, 2961,    205.9,  -0.0307,  34.8760,2,  34.8772,2,    328.6,2,    330.9,2,     5.96,2,    11.92,2,     0.02,2,     0.84,2, -999.000,9, -999.000,9, -999.000,9,        -999,9,   -999.0,9,   -999.0,9,  -0.0384
  316N20020530,    20,  1,     25,     25,2,20020604, 73.3823,  -5.3850, 2961,    235.3,  -0.1000,  34.8779,2,  34.8784,2,    328.8,2,    329.1,2,     5.96,2,    12.12,2,     0.03,2,     0.85,2,    4.929,2,    2.582,2,    0.424,2,  1.63955185,2,   -999.0,9,   -999.0,9,  -0.1087
  316N20020530,    20,  1,     24,     24,2,20020604, 73.3823,  -5.3850, 2961,    266.1,  -0.1427,  34.8793,2,  34.8811,2,    332.3,2,    330.5,2,     5.96,2,    12.12,2,     0.02,2,     0.85,2, -999.000,9, -999.000,9, -999.000,9,        -999,9,   2158.0,2,   2296.6,2,  -0.1525
  316N20020530,    20,  1,     23,     23,2,20020604, 73.3823,  -5.3850, 2961,    295.6,  -0.0309,  34.8934,2,  34.8963,2,    330.3,2,    323.8,2,     6.06,2,    12.31,2,     0.02,2,     0.86,2,    4.667,2,    2.439,2,    0.387,2,  1.53217982,2,   2162.1,2,   2299.9,2,  -0.0421
  316N20020530,    20,  1,     22,     22,2,20020604, 73.3823,  -5.3850, 2961,    336.6,  -0.2333,  34.8855,2,  34.8868,2,    329.1,2,    330.7,2,     6.35,2,    12.22,2,     0.02,2,     0.86,2, -999.000,9, -999.000,9, -999.000,9,        -999,9,   -999.0,9,   -999.0,9,  -0.2457
  316N20020530,    20,  1,     21,     21,2,20020604, 73.3823,  -5.3850, 2961,    376.9,  -0.1988,  34.8939,2,  34.8964,2,    325.7,2,    326.0,2,     6.35,2,    12.51,2,     0.02,2,     0.87,2,    4.727,6,    2.479,6,    0.419,6,  1.65904809,2,   2156.3,2,   2296.3,2,  -0.2129
  316N20020530,    20,  1,     20,     20,2,20020604, 73.3823,  -5.3850, 2961,    436.9,  -0.2382,  34.8997,2,  34.8994,2,    327.4,2,    323.7,2,     6.65,2,    12.70,2,     0.01,2,     0.88,2,    4.606,2,    2.391,2,    0.375,2,  1.73711707,2,   2158.0,2,   2296.9,2,  -0.2546
  316N20020530,    20,  1,     19,     19,2,20020604, 73.3823,  -5.3850, 2961,    496.6,  -0.4871,  34.8868,2,  34.8893,2,    324.8,2,    328.1,2,     6.55,2,    12.70,2,     0.02,2,     0.88,2, -999.000,9, -999.000,9, -999.000,9,        -999,9,   -999.0,9,   -999.0,9,  -0.5050
  316N20020530,    20,  1,     18,     18,2,20020604, 73.3823,  -5.3850, 2961,    556.6,  -0.3501,  34.9025,2,  34.9043,2,    324.4,2,    318.2,2,     6.94,2,    13.00,2,     0.00,2,     0.90,2,    4.126,2,    2.129,2,    0.328,2,  1.94205076,2,   -999.0,9,   -999.0,9,  -0.3711
  316N20020530,    20,  1,     17,     17,2,20020604, 73.3823,  -5.3850, 2961,    632.9,  -0.4632,  34.8986,2,  34.8976,2,    320.5,2,    321.7,2,     6.94,2,    13.00,2,     0.00,2,     0.90,2,    4.238,2,    2.197,2,    0.350,2,  2.29338796,2,   2161.2,2,   2299.8,2,  -0.4869
  316N20020530,    20,  1,     16,     16,2,20020604, 73.3823,  -5.3850, 2961,    731.6,  -0.5574,  34.8974,2,  34.8984,2,    317.8,2,    318.8,2,     7.23,2,    13.19,2,     0.00,2,     0.91,2,    4.132,2,    2.118,2,    0.326,2,  2.76182301,2,   -999.0,9,   -999.0,9,  -0.5849
  316N20020530,    20,  1,     15,     15,2,20020604, 73.3823,  -5.3850, 2961,    831.0,  -0.6712,  34.8924,2,  34.8942,2,    316.1,2,    317.5,2,     7.72,2,    13.39,2,     0.00,2,     0.93,2,    3.780,2,    1.977,2,    0.300,2,  3.50352495,2,   -999.0,9,   -999.0,9,  -0.7024
  316N20020530,    20,  1,     14,     14,2,20020604, 73.3823,  -5.3850, 2961,    932.5,  -0.7167,  34.8910,2,  34.8934,2,    315.1,2,    317.8,2,     7.82,2,    13.39,2,     0.00,2,     0.93,2,    3.804,2,    1.914,2,    0.290,2,  3.66943221,2,   -999.0,9,   -999.0,9,  -0.7523
  316N20020530,    20,  1,     13,     13,2,20020604, 73.3823,  -5.3850, 2961,   1058.7,  -0.7913,  34.8894,2,  34.8905,2,    317.7,2,    319.1,2,     8.11,2,    13.49,2,     0.00,2,     0.93,2,    3.805,2,    1.920,2,    0.308,2,  3.77679078,2,   2164.8,2,   2295.9,2,  -0.8322
  316N20020530,    20,  1,     12,     12,2,20020604, 73.3823,  -5.3850, 2961,   1157.3,  -0.7783,  34.8938,2,  34.8960,2,    316.1,2,    315.0,2,     8.80,2,    13.68,2,     0.00,2,     0.95,2,    3.256,2,    1.652,2,    0.258,2,  2.90821458,2,   2163.5,2,   2295.3,2,  -0.8242
  316N20020530,    20,  1,     11,     11,2,20020604, 73.3823,  -5.3850, 2961,   1272.1,  -0.7501,  34.9006,2,  34.9017,2,    310.6,2,    309.1,2,     9.09,2,    13.97,2,     0.00,2,     0.97,2,    2.539,2,    1.262,2,    0.171,2,  1.96157265,2,   2161.9,2,   2296.7,2,  -0.8022
  316N20020530,    20,  1,     10,     10,2,20020604, 73.3823,  -5.3850, 2961,   1388.1,  -0.7340,  34.9061,2,  34.9080,2,    305.2,2,    304.4,2,     9.77,2,    14.17,2,     0.00,2,     0.99,2,    1.898,2,    0.925,2,    0.127,2,  1.20035973,2,   2161.5,2,   2296.9,2,  -0.7925
  316N20020530,    20,  1,      9,      9,2,20020604, 73.3823,  -5.3850, 2961,   1511.6,  -0.7476,  34.9104,2,  34.9101,2,    302.1,2,    299.9,2,     9.97,2,    14.46,2,     0.00,2,     1.01,2,    1.346,2,    0.662,2,    0.079,2, 0.556263394,2,   -999.0,9,   -999.0,9,  -0.8128
  316N20020530,    20,  1,      8,      8,2,20020604, 73.3823,  -5.3850, 2961,   1662.9,  -0.7855,  34.9117,2,  34.9119,2,    300.3,2,    300.0,2,    10.85,2,    14.56,2,     0.00,2,     1.02,2,    1.052,6,    0.528,6,    0.061,6, 0.312287803,2,   -999.0,9,   -999.0,9,  -0.8589
  316N20020530,    20,  1,      7,      7,2,20020604, 73.3823,  -5.3850, 2961,   1865.0,  -0.8242,  34.9120,2,  34.9101,2,    300.1,2,    299.8,2,    11.43,2,    14.76,2,     0.00,2,     1.02,2,    0.845,2,    0.446,2,    0.043,2,  0.12686709,2,   2162.2,2,   2299.1,2,  -0.9093
  316N20020530,    20,  1,      6,      6,2,20020604, 73.3823,  -5.3850, 2961,   2069.5,  -0.8599,  34.9123,2,  34.9125,2,    300.3,2,    300.3,2,    12.02,2,    14.76,2,     0.00,2,     1.03,2,    0.732,2,    0.378,2,    0.036,2, 0.146384842,2,   2161.6,2,   2297.2,2,  -0.9574
  316N20020530,    20,  1,      5,      5,2,20020604, 73.3823,  -5.3850, 2961,   2272.7,  -0.8780,  34.9125,2,  34.9121,2,    300.8,2,    301.1,2,    12.31,2,    14.76,2,     0.00,2,     1.02,2,    0.652,2,    0.356,2,    0.029,2, 0.136625893,2,   -999.0,9,   -999.0,9,  -0.9888
  316N20020530,    20,  1,      4,      4,2,20020604, 73.3823,  -5.3850, 2961,   2474.9,  -0.8897,  34.9119,2,  34.9115,2,    301.5,2,    301.5,2,    12.31,2,    14.85,2,     0.00,2,     1.02,2,    0.648,2,    0.354,2,    0.028,2,0.0780719739,2,   2160.9,2,   2296.1,2,  -1.0144
  316N20020530,    20,  1,      3,      3,2,20020604, 73.3823,  -5.3850, 2961,   2657.5,  -0.9121,  34.9092,2,  34.9089,2,    301.9,2,    302.1,2,    12.41,2,    14.85,2,     0.00,2,     1.02,2,    0.689,2,    0.359,2,    0.037,2,  0.15614425,2,   -999.0,9,   -999.0,9,  -1.0497
  316N20020530,    20,  1,      2,      2,2,20020604, 73.3823,  -5.3850, 2961,   2808.0,  -0.9378,  34.9070,2,  34.9058,2,    302.8,2,    303.4,2,    12.22,2,    14.85,2,     0.00,2,     1.02,2,    0.713,2,    0.390,2,    0.033,2, 0.195180763,2,   2163.0,2,   2297.2,2,  -1.0862
  316N20020530,    20,  1,      1,      1,2,20020604, 73.3823,  -5.3850, 2961,   2920.6,  -0.9419,  34.9055,2,  34.9060,2,    302.2,2,    302.6,2,    12.22,2,    14.85,2,     0.00,2,     1.02,2,    0.740,2,    0.385,2,    0.034,2, 0.185421697,2,   2162.7,2,   2297.0,2,  -1.0989
  316N20020530,    21,  1,     36,     36,2,20020605, 73.7992,  -4.4390, 3762,      4.6,   0.9576,  34.7474,2,  34.7490,2,    361.4,2,    360.9,2,     3.32,2,     7.82,2,     0.04,2,     0.60,2,    5.754,2,    3.037,2,    0.503,2,  2.10819831,2,   2121.1,2,   2298.3,2,   0.9574
  316N20020530,    21,  1,     35,     35,2,20020605, 73.7992,  -4.4390, 3762,     20.2,   0.8698,  34.7553,2,  34.7551,2,    360.5,2,    360.7,2,     3.32,2,     8.21,2,     0.04,2,     0.63,2, -999.000,9, -999.000,9, -999.000,9,        -999,9,   -999.0,9,   -999.0,9,   0.8689
  316N20020530,    21,  1,     34,     34,2,20020605, 73.7992,  -4.4390, 3762,     40.0,   0.3068,  34.8097,2,  34.8112,2,    346.6,2,    349.5,2,     4.98,2,    10.16,2,     0.03,2,     0.75,2,    5.593,2,    2.948,2,    0.482,2,        -999,9,   2138.4,2,   2297.7,2,   0.3053
  316N20020530,    21,  1,     33,     33,2,20020605, 73.7992,  -4.4390, 3762,     75.6,  -0.0157,  34.8582,2,  34.8592,2,    336.5,2,    339.3,2,     5.67,2,    11.53,2,     0.03,2,     0.81,2, -999.000,9, -999.000,9, -999.000,9,        -999,9,   -999.0,9,   -999.0,9,  -0.0184
  316N20020530,    21,  1,     32,     32,2,20020605, 73.7992,  -4.4390, 3762,    105.8,  -0.1298,  34.8695,2,  34.8717,2,    332.8,2,    334.6,2,     6.25,2,    12.12,2,     0.03,2,     0.84,2,    5.203,2,    2.678,2,    0.440,2,   1.7957086,2,   2153.0,2,   2298.4,2,  -0.1335
  316N20020530,    21,  1,     31,     31,2,20020605, 73.7992,  -4.4390, 3762,    135.9,  -0.1138,  34.8785,2,  34.8804,2,    332.3,2,    331.2,2,     5.57,2,    12.41,2,     0.02,2,     0.85,2, -999.000,9, -999.000,9, -999.000,9,        -999,9,   -999.0,9,   -999.0,9,  -0.1187
  316N20020530,    21,  1,     30,     30,2,20020605, 73.7992,  -4.4390, 3762,    169.1,  -0.1332,  34.8842,2,  34.8859,2,    335.5,2,    329.2,2,     6.35,2,    12.61,2,     0.03,2,     0.87,2,    4.755,2,    2.424,2,    0.390,2,  1.69809779,2,   2151.4,2,   2295.5,2,  -0.1393
  316N20020530,    21,  1,     29,     29,2,20020605, 73.7992,  -4.4390, 3762,    211.2,  -0.1422,  34.8927,2,  34.8934,2,    336.7,2,    326.2,2,     5.96,2,    12.70,2,     0.03,2,     0.88,2, -999.000,9, -999.000,9, -999.000,9,        -999,9,   2151.6,2,   2298.0,2,  -0.1499
  316N20020530,    21,  1,     28,     28,2,20020605, 73.7992,  -4.4390, 3762,    256.2,  -0.2725,  34.8921,2,  34.8928,2,    331.0,2,    326.4,2,     5.96,2,    12.90,2,     0.03,2,     0.89,2,    4.656,2,    2.389,2,    0.368,2,  1.78592126,2,   2154.1,2,   2306.3,3,  -0.2816
  316N20020530,    21,  1,     27,     27,2,20020605, 73.7992,  -4.4390, 3762,    296.1,  -0.4438,  34.8845,2,  34.8875,2,    328.5,2,    330.1,2,     5.96,2,    12.80,2,     0.02,2,     0.88,2, -999.000,9, -999.000,9, -999.000,9,        -999,9,   -999.0,9,   -999.0,9,  -0.4540
  316N20020530,    21,  1,     26,     26,2,20020605, 73.7992,  -4.4390, 3762,    333.9,  -0.5023,  34.8872,2,  34.8891,2,    332.8,2,    333.5,2,     6.06,2,    12.90,2,     0.02,2,     0.89,2,    4.970,2,    2.548,2,    0.411,2,  2.10797844,2,   2154.6,2,   2296.6,2,  -0.5138
  316N20020530,    21,  1,     25,     25,2,20020605, 73.7992,  -4.4390, 3762,    380.9,  -0.5343,  34.8872,2,  34.8895,2,    333.4,2,    333.7,2,     6.35,2,    12.90,2,     0.02,2,     0.89,2, -999.000,9, -999.000,9, -999.000,9,        -999,9,   -999.0,9,   -999.0,9,  -0.5475
  316N20020530,    21,  1,     24,     24,2,20020605, 73.7992,  -4.4390, 3762,    429.5,  -0.5504,  34.8892,2,  34.8924,2,    330.0,2,    331.6,2,     6.25,2,    13.00,2,     0.02,2,     0.89,2,    4.988,2,    2.553,2,    0.402,2,  2.22508289,2,   2156.6,2,   2299.1,2,  -0.5654
  316N20020530,    21,  1,     23,     23,2,20020605, 73.7992,  -4.4390, 3762,    492.3,  -0.6220,  34.8876,2,  34.8899,2,    328.0,2,    327.5,2,     6.84,2,    13.29,2,     0.01,2,     0.91,2, -999.000,9, -999.000,9, -999.000,9,        -999,9,   -999.0,9,   -999.0,9,  -0.6392
  316N20020530,    21,  1,     22,     22,2,20020605, 73.7992,  -4.4390, 3762,    556.4,  -0.6280,  34.8920,2,  34.8948,2,    326.5,2,    331.3,2,     6.65,2,    13.39,2,     0.00,2,     0.91,2,    4.796,2,    2.474,2,    0.386,2,  2.94725365,2,   2157.6,2,   2301.3,2,  -0.6477
  316N20020530,    21,  1,     21,     21,2,20020605, 73.7992,  -4.4390, 3762,    658.4,  -0.7267,  34.8881,2,  34.8907,2,    326.4,2,    327.2,2,     6.74,2,    13.49,2,     0.00,2,     0.92,2, -999.000,9, -999.000,9, -999.000,9,  3.30835112,2,   -999.0,9,   -999.0,9,  -0.7501
  316N20020530,    21,  1,     20,     20,2,20020605, 73.7992,  -4.4390, 3762,    758.5,  -0.7799,  34.8869,2,  34.8887,2,    327.8,2,    327.7,2,     6.55,2,    13.49,2,     0.00,2,     0.92,2,    4.835,2,    2.478,2,    0.392,2,  3.49378013,2,   2158.4,2,   2298.3,2,  -0.8072
  316N20020530,    21,  1,     19,     19,2,20020605, 73.7992,  -4.4390, 3762,    858.8,  -0.8131,  34.8855,2,  34.8872,2,    327.8,2,    328.1,2,     6.55,2,    13.49,2,     0.00,2,     0.92,2, -999.000,9, -999.000,9, -999.000,9,  3.65968998,2,   -999.0,9,   -999.0,9,  -0.8446
  316N20020530,    21,  1,     18,     18,2,20020605, 73.7992,  -4.4390, 3762,    959.0,  -0.8221,  34.8855,2,  34.8872,2,    327.5,2,    328.7,2,     6.55,2,    13.49,2,     0.00,2,     0.92,2,    4.849,2,    2.515,2,    0.392,2,  3.57185742,2,   2160.1,2,   2295.4,2,  -0.8580
  316N20020530,    21,  1,     17,     17,2,20020605, 73.7992,  -4.4390, 3762,   1057.2,  -0.8401,  34.8841,2,  34.8860,2,    327.5,2,    328.3,2,     6.84,2,    13.49,2,     0.00,2,     0.92,2, -999.000,9, -999.000,9, -999.000,9,  3.67921161,2,   -999.0,9,   -999.0,9,  -0.8805
  316N20020530,    21,  1,     16,     16,2,20020605, 73.7992,  -4.4390, 3762,   1156.2,  -0.8463,  34.8841,2,  34.8856,2,    327.1,2,    328.3,2,     6.74,2,    13.49,2,     0.00,2,     0.92,2,    4.737,2,    2.431,2,    0.383,2,  3.76704537,2,   2158.3,2,   2303.9,2,  -0.8915
  316N20020530,    21,  1,     15,     15,2,20020605, 73.7992,  -4.4390, 3762,   1256.0,  -0.8472,  34.8846,2,  34.8860,2,    326.9,2,    328.0,2,     7.04,2,    13.58,2,     0.00,2,     0.93,2, -999.000,9, -999.000,9, -999.000,9,  3.69872997,2,   -999.0,9,   -999.0,9,  -0.8974
  316N20020530,    21,  1,     14,     14,2,20020605, 73.7992,  -4.4390, 3762,   1356.5,  -0.8462,  34.8854,2,  34.8870,2,    326.6,2,    327.6,2,     7.04,2,    13.49,2,     0.00,2,     0.93,2,    4.620,2,    2.416,2,    0.360,2,  3.62065382,2,   2157.3,2,   2294.8,2,  -0.9017
  316N20020530,    21,  1,     13,     13,2,20020605, 73.7992,  -4.4390, 3762,   1455.6,  -0.8424,  34.8870,2,  34.8884,2,    326.7,2,    325.0,2,     7.43,2,    13.58,2,     0.00,2,     0.93,2, -999.000,9, -999.000,9, -999.000,9,  3.53281757,2,   -999.0,9,   -999.0,9,  -0.9033
  316N20020530,    21,  1,     12,     12,2,20020605, 73.7992,  -4.4390, 3762,   1587.8,  -0.8310,  34.8887,2,  34.8900,2,    325.2,2,    323.4,2,     7.52,2,    13.68,2,     0.00,2,     0.94,2,    4.286,2,    2.166,2,    0.335,2,  3.19124301,2,   2157.5,2,   2298.2,2,  -0.8994
  316N20020530,    21,  1,     11,     11,2,20020605, 73.7992,  -4.4390, 3762,   1726.7,  -0.7703,  34.8985,2,  34.8982,2,    320.0,2,    310.7,2,     9.09,2,    14.27,2,     0.00,2,     0.97,2,    2.753,2,    1.393,2,    0.196,2,   1.9030232,2,   -999.0,9,   -999.0,9,  -0.8477
  316N20020530,    21,  1,     10,     10,2,20020605, 73.7992,  -4.4390, 3762,   1898.9,  -0.7457,  34.9080,2,  34.9073,2,    303.9,2,    301.0,2,    10.36,2,    14.66,2,     0.00,2,     1.00,2,    1.486,2,    0.709,2,    0.083,2, 0.526987471,2,   2157.7,2,   2299.1,2,  -0.8341
  316N20020530,    21,  1,      9,      9,2,20020605, 73.7992,  -4.4390, 3762,   2084.3,  -0.7764,  34.9101,2,  34.9112,2,    300.5,2,    299.4,2,    10.95,2,    14.76,2,     0.00,2,     1.01,2,    1.095,2,    0.534,2,    0.058,2, 0.234215974,2,   -999.0,9,   -999.0,9,  -0.8763
  316N20020530,    21,  1,      8,      8,2,20020605, 73.7992,  -4.4390, 3762,   2350.4,  -0.8359,  34.9108,2,  34.9096,2,    299.6,2,    299.2,2,    11.34,2,    14.85,2,     0.00,2,     1.02,2,    0.828,2,    0.408,2,    0.040,2, 0.107349116,2,   2156.9,2,   2297.5,2,  -0.9528
  316N20020530,    21,  1,      7,      7,2,20020605, 73.7992,  -4.4390, 3762,   2612.0,  -0.8637,  34.9110,2,  34.9112,2,    299.7,2,    300.4,2,    11.63,2,    14.95,2,     0.00,2,     1.02,2,    0.727,6,    0.366,6,    0.034,6, 0.146384984,2,   -999.0,9,   -999.0,9,  -0.9989
  316N20020530,    21,  1,      6,      6,2,20020605, 73.7992,  -4.4390, 3762,   2813.3,  -0.8716,  34.9106,2,  34.9108,2,    300.0,2,    300.8,2,    11.63,2,    14.85,2,     0.00,2,     1.03,2,    0.689,2,    0.357,2,    0.032,2, 0.136626025,2,   2155.9,2,   2296.8,2,  -1.0218
  316N20020530,    21,  1,      5,      5,2,20020605, 73.7992,  -4.4390, 3762,   3015.3,  -0.8835,  34.9097,2,  34.9087,2,    300.2,2,    301.3,2,    11.73,2,    14.85,2,     0.00,2,     1.03,2,    0.738,2,    0.376,2,    0.034,2, 0.136626239,2,   -999.0,9,   -999.0,9,  -1.0494
  316N20020530,    21,  1,      4,      4,2,20020605, 73.7992,  -4.4390, 3762,   3212.8,  -0.8951,  34.9070,2,  34.9071,2,    301.9,2,    302.7,2,    11.82,2,    14.85,2,     0.00,2,     1.03,2,    0.738,6,    0.379,6,    0.036,6, 0.136626402,2,   2157.0,2,   2296.8,2,  -1.0768
  316N20020530,    21,  1,      3,      3,2,20020605, 73.7992,  -4.4390, 3762,   3422.0,  -0.8983,  34.9061,2,  34.9048,2,    303.0,2,    303.2,2,    12.12,2,    14.85,2,     0.00,2,     1.03,2,    0.763,2,    0.384,2,    0.036,2,        -999,9,   2155.9,2,   2293.1,2,  -1.0976
  316N20020530,    21,  1,      2,      2,2,20020605, 73.7992,  -4.4390, 3762,   3582.3,  -0.8909,  34.9055,2,  34.9055,2,    303.0,2,    302.8,2,    12.12,2,    14.95,2,     0.00,2,     1.03,2,    0.746,2,    0.378,2,    0.035,2,        -999,9,   -999.0,9,   -999.0,9,  -1.1045
  316N20020530,    21,  1,      1,      1,2,20020605, 73.7992,  -4.4390, 3762,   3707.9,  -0.8796,  34.9050,2,  34.9052,2,    302.6,2,    302.5,2,    12.22,2,    14.95,2,     0.00,2,     1.03,2,    0.749,2,    0.378,2,    0.033,2,  0.19518085,2,   2155.7,2,   2296.5,2,  -1.1047