BOTTLE,20081218PRINUNIVRMK
EXPOCODE,STNNBR,CASTNO,SAMPNO,BTLNBR,BTLNBR_FLAG_W,DATE,LATITUDE,LONGITUDE,DEPTH,CTDPRS,CTDTMP,CTDSAL,CTDSAL_FLAG_W,SALNTY,SALNTY_FLAG_W,CTDOXY,CTDOXY_FLAG_W,OXYGEN,OXYGEN_FLAG_W,SILCAT,SILCAT_FLAG_W,NITRAT,NITRAT_FLAG_W,NITRIT,NITRIT_FLAG_W,PHSPHT,PHSPHT_FLAG_W,CFC-11,CFC-11_FLAG_W,CFC-12,CFC-12_FLAG_W,CFC113,CFC113_FLAG_W,SF6,SF6_FLAG_W,TCARBN,TCARBN_FLAG_W,ALKALI,ALKALI_FLAG_W,THETA
,,,,,,,,,METERS,DBARS,ITS-90,PSS-78,,PSS-78,,UMOL/KG,,UMOL/KG,,UMOL/KG,,UMOL/KG,,UMOL/KG,,UMOL/KG,,PMOL/KG,,PMOL/KG,,PMOL/KG,,FMOL/KG,,UMOL/KG,,UMOL/KG,,DEGC
  316N20020530,   135,  1,     12,     12,2,20020626, 62.6822,  -5.4818,  498,      3.7,  10.2061,  35.2205,2,  35.2162,2,    292.6,2,    293.8,2,     1.37,2,     6.25,2,     0.13,2,     0.47,2,    3.831,2,    2.101,2,    0.348,2,  1.63913963,2,   2092.0,2,   2327.2,2,  10.2057
  316N20020530,   135,  1,     11,     11,2,20020626, 62.6822,  -5.4818,  498,     28.1,  10.2037,  35.2217,2,  35.2158,2,    293.8,2,    293.4,2,     1.37,2,     6.35,2,     0.14,2,     0.47,2,    3.763,2,    2.096,2,    0.333,2,        -999,9,   -999.0,9,   2328.1,2,  10.2004
  316N20020530,   135,  1,     10,     10,2,20020626, 62.6822,  -5.4818,  498,     63.3,   8.6170,  35.2853,2,  35.2849,2,    273.5,2,    272.2,2,     4.79,2,    12.60,2,     0.03,2,     0.81,2,    3.897,2,    2.130,2,    0.340,2,  1.64881209,2,   2138.2,2,   2334.4,2,   8.6103
  316N20020530,   135,  1,      9,      9,2,20020626, 62.6822,  -5.4818,  498,    103.8,   8.3375,  35.2731,2,  35.2739,2,    271.2,2,    271.5,2,     5.47,2,    13.19,2,     0.02,2,     0.84,2,    3.863,2,    2.078,2,    0.338,2,  1.67809469,2,   2139.2,2,   2331.4,2,   8.3267
  316N20020530,   135,  1,      8,      8,2,20020626, 62.6822,  -5.4818,  498,    133.3,   8.2086,  35.2634,2,  35.2628,2,    270.4,2,    270.7,2,     5.67,2,    13.38,2,     0.02,2,     0.87,2,    3.792,2,    2.079,2,    0.331,2,  1.60005699,2,   2139.0,2,   2330.2,2,   8.1949
  316N20020530,   135,  1,      7,      7,2,20020626, 62.6822,  -5.4818,  498,    173.3,   8.0575,  35.2509,2,  35.2510,2,    272.4,2,    271.9,2,     5.86,2,    13.48,2,     0.03,2,     0.87,2,    3.825,6,    2.090,6,    0.330,6,  1.62934064,2,   2139.9,2,   2328.0,2,   8.0398
  316N20020530,   135,  1,      6,      6,2,20020626, 62.6822,  -5.4818,  498,    222.4,   7.6319,  35.2310,2,  35.2309,2,    273.5,2,    274.9,2,     6.06,2,    13.78,2,     0.01,2,     0.89,2,    3.887,2,    2.131,2,    0.332,2,  1.71717511,2,   2143.5,2,   2331.5,2,   7.6099
  316N20020530,   135,  1,      5,      5,2,20020626, 62.6822,  -5.4818,  498,    273.0,   6.8178,  35.1676,2,  35.1666,2,    280.3,2,    279.3,2,     6.25,2,    13.87,2,     0.01,2,     0.90,2,    4.030,2,    2.222,2,    0.339,2,  1.69774301,2,   2143.0,2,   2324.0,2,   6.7924
  316N20020530,   135,  1,      4,      4,2,20020626, 62.6822,  -5.4818,  498,    321.5,   5.5021,  35.0709,2,  35.0713,2,    281.6,2,    284.6,2,     6.25,2,    13.68,2,     0.02,2,     0.89,2,    4.149,2,    2.175,2,    0.348,2,  1.72713696,2,   2147.2,2,   2315.9,2,   5.4753
  316N20020530,   135,  1,      3,      3,2,20020626, 62.6822,  -5.4818,  498,    369.8,   4.4016,  35.0119,2,  35.0138,2,    288.5,2,    291.2,2,     6.35,2,    13.49,2,     0.03,2,     0.90,2,    4.282,6,    2.261,6,    0.353,6,  1.75648565,2,   2148.5,2,   2311.1,2,   4.3739
  316N20020530,   135,  1,      2,      2,2,20020626, 62.6822,  -5.4818,  498,    423.3,   2.7956,  34.8903,2,  34.8952,2,    307.4,2,    307.7,2,     5.86,2,    12.70,2,     0.09,2,     0.87,2,    4.907,2,    2.555,2,    0.424,2,  2.01037772,2,   2150.4,2,   2303.3,2,   2.7692
  316N20020530,   135,  1,      1,      1,2,20020626, 62.6822,  -5.4818,  498,    490.2,   2.5518,  34.8757,2,  34.8783,2,    309.1,2,    309.1,2,     5.77,2,    12.70,2,     0.08,2,     0.86,2,    5.081,2,    2.636,2,    0.437,2,  2.01040301,2,   2143.6,2,   2300.0,2,   2.5219
  316N20020530,   136,  1,     13,     13,2,20020626, 62.5398,  -5.6067,  229,      3.6,  10.2856,  35.2396,2,  35.2396,2,    292.4,2,    292.6,2,     0.68,2,     5.76,2,     0.18,2,     0.43,2,    3.740,6,    2.056,6,    0.329,6,        -999,9,   2097.5,2,   2331.2,2,  10.2852
  316N20020530,   136,  1,     11,     11,2,20020626, 62.5398,  -5.6067,  229,     17.7,  10.2840,  35.2394,2,  35.2424,2,    292.7,2,    292.8,2,     0.68,2,     5.76,2,     0.18,2,     0.43,2,    3.676,2,    2.008,2,    0.306,2,  1.61959447,2,   2096.0,2,   2330.6,2,  10.2819
  316N20020530,   136,  1,      9,      9,2,20020626, 62.5398,  -5.6067,  229,     52.7,   8.6595,  35.2541,2,  35.2558,2,    276.1,2,    276.1,2,     4.69,2,    11.63,2,     0.21,2,     0.77,2,    3.804,2,    2.037,2,    0.312,2,  1.64884781,2,   2137.9,2,   2326.1,2,   8.6539
  316N20020530,   136,  1,      7,      7,2,20020626, 62.5398,  -5.6067,  229,     76.4,   8.5679,  35.2546,2,  35.2546,2,    275.6,2,    275.7,2,     5.08,2,    12.02,2,     0.21,2,     0.78,2,    3.878,2,    2.123,2,    0.325,2,  1.67811879,2,   2139.1,2,   2328.9,2,   8.5599
  316N20020530,   136,  1,      5,      5,2,20020626, 62.5398,  -5.6067,  229,    121.2,   8.4124,  35.2563,2,  35.2589,2,    273.8,2,    273.9,2,     5.28,2,    12.60,2,     0.14,2,     0.82,2,    3.870,6,    2.096,6,    0.318,6,  1.65860048,2,   2141.8,2,   2328.8,2,   8.3998
  316N20020530,   136,  1,      3,      3,2,20020626, 62.5398,  -5.6067,  229,    162.2,   8.3843,  35.2582,2,  35.2593,2,    273.0,2,    273.7,2,     5.37,2,    12.70,2,     0.12,2,     0.82,2,    3.863,2,    2.095,2,    0.318,2,  1.69762586,2,   2142.6,2,   2323.4,2,   8.3674
  316N20020530,   136,  1,      1,      1,2,20020626, 62.5398,  -5.6067,  229,    223.3,   8.3496,  35.2596,2,  35.2603,2,    272.9,2,    272.8,2,     5.47,2,    12.90,2,     0.09,2,     0.83,2,    3.855,2,    2.094,2,    0.313,2,  1.66835521,2,   2142.8,2,   2330.6,2,   8.3263
  316N20020530,   137,  1,      7,      7,2,20020627, 62.3900,  -7.8040,  128,     10.5,   9.4644,  35.2106,2,  35.2118,2,    284.9,2,    284.8,2,     2.44,2,     8.01,2,     0.21,2,     0.58,2,    3.823,2,    2.110,2,    0.335,2,  1.68792907,2,   2111.2,2,   2321.2,2,   9.4632
  316N20020530,   137,  1,      5,      5,2,20020627, 62.3900,  -7.8040,  128,     40.8,   9.4572,  35.2101,7,  35.2104,2,    285.6,2,    285.8,2,     2.44,2,     8.11,2,     0.21,2,     0.59,2,    3.849,2,    2.108,2,    0.332,2,        -999,9,   2114.1,2,   2318.7,2,   9.4527
  316N20020530,   137,  1,      3,      3,2,20020627, 62.3900,  -7.8040,  128,     81.6,   9.3720,  35.2025,2,  35.2041,2,    284.8,2,    284.8,2,     2.54,2,     8.30,2,     0.21,2,     0.61,2,    3.850,2,    2.135,2,    0.331,2,        -999,9,   2117.1,2,   2320.1,2,   9.3629
  316N20020530,   137,  1,      1,      1,2,20020627, 62.3900,  -7.8040,  128,    123.1,   9.3736,  35.2014,2,  35.2033,2,    284.3,2,    284.2,2,     2.44,2,     8.30,2,     0.21,2,     0.61,2,    3.915,6,    2.173,6,    0.340,6,  1.69769663,2,   2119.9,2,   2323.0,2,   9.3599
  316N20020530,   138,  1,     19,     19,2,20020628, 64.5992, -12.5225,  171,      3.1,   3.9031,  34.4920,2,  34.4996,2,    328.6,2,    328.5,2,     2.83,2,     4.99,2,     0.13,2,     0.52,2,    5.576,2,    2.995,2,    0.501,2,   2.2647816,2,   2095.7,2,   2291.9,2,   3.9029
  316N20020530,   138,  1,     17,     17,2,20020628, 64.5992, -12.5225,  171,     18.5,   4.1023,  34.5708,2,  34.5701,2,    326.0,2,    323.5,2,     3.03,2,     5.47,2,     0.15,2,     0.55,2,    5.486,2,    2.912,2,    0.490,2,  2.19633239,2,   2102.7,2,   2286.2,2,   4.1010
  316N20020530,   138,  1,     15,     15,2,20020628, 64.5992, -12.5225,  171,     34.0,   3.7461,  34.5572,2,  34.5570,2,    324.2,2,    323.8,2,     3.03,2,     5.38,2,     0.14,2,     0.57,2,    5.534,2,    2.954,2,    0.501,2,   2.2354001,2,   2105.6,2,   2293.4,2,   3.7438
  316N20020530,   138,  1,     13,     13,2,20020628, 64.5992, -12.5225,  171,     64.4,   3.2899,  34.5545,2,  34.5493,2,    324.8,2,    325.1,2,     3.23,2,     5.28,2,     0.13,2,     0.59,2,    5.643,6,    2.997,6,    0.502,6,   2.2646978,2,   2107.9,2,   2292.1,2,   3.2859
  316N20020530,   138,  1,     11,     11,2,20020628, 64.5992, -12.5225,  171,     94.7,   3.0155,  34.5620,2,  34.5619,2,    325.8,2,    325.8,2,     3.32,2,     5.38,2,     0.13,2,     0.60,2,    5.611,2,    2.976,2,    0.505,2,  2.29396117,2,   2112.4,2,   2294.0,2,   3.0097
  316N20020530,   138,  1,      9,      9,2,20020628, 64.5992, -12.5225,  171,    125.4,   2.5202,  34.5658,2,  34.5660,2,    329.8,2,    329.7,2,     3.42,2,     5.47,2,     0.12,2,     0.61,2,    5.684,2,    3.030,2,    0.522,2,   2.3330002,2,   2113.3,3,   2291.1,2,   2.5130
  316N20020530,   138,  1,      7,      7,2,20020628, 64.5992, -12.5225,  171,    165.4,   2.1364,  34.5940,2,  34.5915,2,    330.7,2,    330.9,2,     3.62,2,     6.06,2,     0.12,2,     0.64,2,    5.668,2,    3.026,2,    0.525,2,  2.35247855,2,   2109.9,3,   2294.0,2,   2.1274
  316N20020530,   139,  1,     31,     31,2,20020628, 64.4113, -11.9108,  447,      3.3,   7.9664,  34.9609,2,  34.9573,2,    297.6,2,    297.8,2,     1.47,2,     5.28,2,     0.18,2,     0.49,2,    4.223,2,    2.303,2,    0.380,2,  1.83462884,2,   2092.4,2,   2307.6,2,   7.9661
  316N20020530,   139,  1,     29,     29,2,20020628, 64.4113, -11.9108,  447,     23.1,   8.4727,  35.1185,2,  35.1284,2,    294.8,2,    293.8,2,     1.27,2,     7.23,2,     0.19,2,     0.56,2,    4.029,2,    2.206,2,    0.347,2,  1.78560808,2,   2099.2,2,   2320.9,2,   8.4703
  316N20020530,   139,  1,     27,     27,2,20020628, 64.4113, -11.9108,  447,     48.4,   8.1959,  35.1959,2,  35.1943,2,    281.6,2,    275.2,2,     3.52,2,    10.65,2,     0.21,2,     0.78,2,    3.824,2,    2.148,2,    0.324,2,  1.71722189,2,   -999.0,9,   -999.0,9,   8.1910
  316N20020530,   139,  1,     25,     25,2,20020628, 64.4113, -11.9108,  447,     79.2,   8.0814,  35.1995,2,  35.1949,2,    272.0,2,    272.0,2,     4.20,2,    11.33,2,     0.21,2,     0.82,2,    3.830,2,    2.137,2,    0.327,2,  1.68795031,2,   2129.5,2,   2321.3,2,   8.0734
  316N20020530,   139,  1,     23,     23,2,20020628, 64.4113, -11.9108,  447,    109.0,   8.0100,  35.2018,2,  35.2022,2,    271.4,2,    271.6,2,     4.79,2,    12.12,2,     0.17,2,     0.84,2,    3.782,2,    2.136,2,    0.336,2,  1.63915671,2,   2133.1,2,   2323.1,2,   7.9990
  316N20020530,   139,  1,     21,     21,2,20020628, 64.4113, -11.9108,  447,    144.0,   7.4469,  35.1956,2,  35.1890,2,    271.0,2,    270.7,2,     5.86,2,    13.29,2,     0.12,2,     0.89,2,    3.878,2,    2.091,2,    0.346,2,   1.6489298,2,   2141.4,2,   2318.9,2,   7.4329
  316N20020530,   139,  1,     19,     19,2,20020628, 64.4113, -11.9108,  447,    184.3,   5.6602,  35.0783,2,  35.0750,2,    280.0,2,    279.4,2,     6.55,2,    13.78,2,     0.15,2,     0.91,2,    4.082,2,    2.139,2,    0.336,2,  1.66858535,2,   -999.0,9,   -999.0,9,   5.6448
  316N20020530,   139,  1,     17,     17,2,20020628, 64.4113, -11.9108,  447,    223.0,   1.9395,  34.7246,2,  34.7239,2,    316.4,2,    316.8,2,     5.18,2,     9.68,2,     0.17,2,     0.79,2,    5.475,2,    2.874,2,    0.489,2,  2.27416381,2,   -999.0,9,   -999.0,9,   1.9276
  316N20020530,   139,  1,     15,     15,2,20020628, 64.4113, -11.9108,  447,    266.5,   0.1034,  34.7203,2,  34.7192,2,    326.3,2,    326.3,2,     5.38,2,    11.44,2,     0.16,2,     0.85,2,    5.761,2,    3.023,2,    0.494,2,  2.37177571,2,   2154.2,2,   2290.1,2,   0.0931
  316N20020530,   139,  1,     13,     13,2,20020628, 64.4113, -11.9108,  447,    321.0,  -0.2651,  34.7812,2,  34.7811,2,    324.1,2,    323.1,2,     6.45,2,    12.51,2,     0.12,2,     0.88,2,    5.402,2,    2.798,2,    0.467,2,  2.16670759,2,   2153.8,2,   2293.0,2,  -0.2767
  316N20020530,   139,  1,     11,     11,2,20020628, 64.4113, -11.9108,  447,    381.1,  -0.3290,  34.8125,2,  34.8122,2,    320.8,2,    320.8,2,     6.74,2,    12.80,2,     0.10,2,     0.90,2,    5.143,2,    2.639,2,    0.419,2,  2.12761856,2,   2152.4,2,   2298.1,2,  -0.3428
  316N20020530,   139,  1,      9,      9,2,20020628, 64.4113, -11.9108,  447,    406.0,  -0.3297,  34.8358,2,  34.8352,2,    316.5,2,    317.0,2,     7.23,2,    13.10,2,     0.07,2,     0.92,2,    4.830,6,    2.433,6,    0.379,6,  2.08854392,2,   2150.5,2,   2297.6,2,  -0.3445
  316N20020530,   139,  1,      7,      7,2,20020628, 64.4113, -11.9108,  447,    427.7,  -0.3247,  34.8401,2,  34.8417,2,    315.6,2,    315.2,2,     7.43,2,    13.29,2,     0.06,2,     0.93,2,    4.710,2,    2.354,2,    0.373,2,  2.08853382,2,   2158.3,2,   2304.4,2,  -0.3404
  316N20020530,   140,  1,     21,     21,2,20020628, 64.1620, -11.5078,  327,      2.9,   8.6666,  35.1459,2,  35.1437,2,    296.7,2,    297.5,2,     2.35,2,     7.43,2,     0.17,2,     0.55,2,    4.056,2,    2.216,2,    0.314,2,   1.7465585,2,   2102.5,2,   2326.3,2,   8.6663
  316N20020530,   140,  1,     19,     19,2,20020628, 64.1620, -11.5078,  327,     32.4,   8.6161,  35.1934,2,  35.1917,2,    294.8,2,    291.6,2,     2.54,2,     8.79,2,     0.17,2,     0.61,2,    3.992,2,    2.181,2,    0.310,2,  1.77576698,2,   2111.0,2,   2325.1,2,   8.6127
  316N20020530,   140,  1,     17,     17,2,20020628, 64.1620, -11.5078,  327,     67.4,   8.4862,  35.2246,2,  35.2252,2,    279.7,2,    279.4,2,     3.71,2,    11.04,2,     0.18,2,     0.75,2,    3.885,6,    2.130,6,    0.314,6,  1.76596598,2,   2129.5,2,   2323.6,2,   8.4792
  316N20020530,   140,  1,     15,     15,2,20020628, 64.1620, -11.5078,  327,    103.2,   8.1832,  35.2544,2,  35.2522,2,    272.3,2,    271.9,2,     6.16,2,    13.58,2,     0.03,2,     0.87,2,    3.842,2,    2.103,2,    0.292,2,  1.64885223,2,   2143.3,2,   2330.3,2,   8.1726
  316N20020530,   140,  1,     13,     13,2,20020628, 64.1620, -11.5078,  327,    162.4,   7.9431,  35.2414,2,  35.2402,2,    270.0,2,    270.7,2,     6.45,2,    13.97,2,     0.03,2,     0.90,2,    3.793,2,    2.074,2,    0.282,2,  1.60008391,2,   2139.8,2,   2325.9,2,   7.9267
  316N20020530,   140,  1,     11,     11,2,20020628, 64.1620, -11.5078,  327,    222.4,   7.5976,  35.2235,2,  35.2195,2,    270.1,2,    270.0,2,     6.64,2,    14.26,2,     0.04,2,     0.92,2,    3.801,2,    2.075,2,    0.282,2,        -999,9,   2145.2,2,   2327.0,2,   7.5756
  316N20020530,   140,  1,      9,      9,2,20020628, 64.1620, -11.5078,  327,    277.3,   5.5757,  35.0572,2,  35.0539,2,    281.7,2,    281.8,2,     6.74,2,    13.68,2,     0.17,2,     0.91,2,    4.094,2,    2.173,2,    0.324,2,   1.7076434,2,   2144.1,2,   2314.3,2,   5.5526
  316N20020530,   140,  1,      7,      7,2,20020628, 64.1620, -11.5078,  327,    310.8,   3.6605,  35.0061,2,  35.0167,2,    284.9,2,    284.3,2,     7.62,2,    14.36,2,     0.06,2,     0.95,2,    3.876,6,    2.010,6,    0.269,6,  1.65889953,2,   2155.4,2,   2316.1,2,   3.6392
  316N20020530,   141,  1,     27,     27,2,20020628, 63.9197, -11.1373,  411,      3.5,   9.0800,  35.1041,2,  35.1050,2,    303.1,2,    304.0,2,     0.88,2,     5.08,2,     0.18,2,     0.38,2,    4.008,2,    2.206,2,    0.351,2,  1.77588159,2,   2083.4,2,   2324.5,2,   9.0796
  316N20020530,   141,  1,     25,     25,2,20020628, 63.9197, -11.1373,  411,     17.3,   8.6298,  35.1216,2,  35.1263,2,    300.7,2,    297.1,2,     1.95,2,     6.84,2,     0.22,2,     0.51,2,    4.049,6,    2.224,6,    0.351,6,  1.76609599,2,   -999.0,9,   -999.0,9,   8.6280
  316N20020530,   141,  1,     23,     23,2,20020628, 63.9197, -11.1373,  411,     32.7,   7.8853,  35.1809,2,  35.1806,2,    282.4,2,    280.2,2,     4.98,2,    12.02,2,     0.27,2,     0.82,2,    3.957,2,    2.173,2,    0.332,2,  1.72699644,2,   2138.9,2,   2322.0,2,   7.8820
  316N20020530,   141,  1,     21,     21,2,20020628, 63.9197, -11.1373,  411,     72.6,   7.0773,  35.1497,2,  35.1470,2,    279.2,2,    279.1,2,     5.76,2,    13.39,2,     0.12,2,     0.87,2,    4.065,2,    2.200,2,    0.337,2,  1.74655421,2,   2142.2,2,   2325.8,2,   7.0705
  316N20020530,   141,  1,     19,     19,2,20020628, 63.9197, -11.1373,  411,    103.0,   7.0081,  35.1691,2,  35.1639,2,    275.9,2,    277.1,2,     6.16,2,    13.87,2,     0.02,2,     0.89,2,    3.940,2,    2.160,2,    0.321,2,  1.71726075,2,   2149.5,2,   2325.8,2,   6.9985
  316N20020530,   141,  1,     17,     17,2,20020628, 63.9197, -11.1373,  411,    162.7,   5.0162,  34.9679,2,  34.9678,2,    295.8,2,    295.8,2,     5.37,2,    11.53,2,     0.21,2,     0.81,2,    4.641,2,    2.436,2,    0.394,2,  1.88340743,2,   2139.4,2,   2317.3,2,   5.0035
  316N20020530,   141,  1,     15,     15,2,20020628, 63.9197, -11.1373,  411,    218.3,   3.1773,  34.8854,2,  34.8966,2,    302.7,2,    301.7,2,     5.86,2,    12.31,2,     0.14,2,     0.86,2,    4.739,2,    2.445,2,    0.401,2,  1.97133921,2,   2149.9,2,   2310.1,2,   3.1634
  316N20020530,   141,  1,     13,     13,2,20020628, 63.9197, -11.1373,  411,    233.2,   2.9383,  34.9123,2,  34.9092,2,    299.4,2,    300.3,2,     6.35,2,    13.10,2,     0.11,2,     0.89,2,    4.566,6,    2.366,6,    0.390,6,   1.9615617,2,   -999.0,9,   -999.0,9,   2.9238
  316N20020530,   141,  1,     11,     11,2,20020628, 63.9197, -11.1373,  411,    273.3,   1.7963,  34.8824,2,  34.8827,2,    302.1,2,    301.9,2,     7.04,2,    13.10,2,     0.13,2,     0.92,2,    4.502,2,    2.324,2,    0.371,2,  1.99087802,2,   2154.8,2,   2308.3,2,   1.7818
  316N20020530,   141,  1,      9,      9,2,20020628, 63.9197, -11.1373,  411,    328.1,   0.1608,  34.8740,2,  34.8756,2,    304.3,2,    305.0,2,     8.21,2,    13.78,2,     0.05,2,     0.95,2,    4.065,2,    2.058,2,    0.323,2,  2.02992557,2,   2155.3,2,   2305.6,2,   0.1477
  316N20020530,   141,  1,      7,      7,2,20020628, 63.9197, -11.1373,  411,    392.0,   0.0587,  34.8718,2,  34.8738,2,    305.0,2,    304.9,2,     8.31,2,    13.78,2,     0.05,2,     0.95,2,    4.031,2,    2.024,2,    0.330,2,   2.0592061,2,   2160.0,2,   2304.7,2,   0.0432