BOTTLE,20081218PRINUNIVRMK
EXPOCODE,STNNBR,CASTNO,SAMPNO,BTLNBR,BTLNBR_FLAG_W,DATE,LATITUDE,LONGITUDE,DEPTH,CTDPRS,CTDTMP,CTDSAL,CTDSAL_FLAG_W,SALNTY,SALNTY_FLAG_W,CTDOXY,CTDOXY_FLAG_W,OXYGEN,OXYGEN_FLAG_W,SILCAT,SILCAT_FLAG_W,NITRAT,NITRAT_FLAG_W,NITRIT,NITRIT_FLAG_W,PHSPHT,PHSPHT_FLAG_W,CFC-11,CFC-11_FLAG_W,CFC-12,CFC-12_FLAG_W,CFC113,CFC113_FLAG_W,SF6,SF6_FLAG_W,TCARBN,TCARBN_FLAG_W,ALKALI,ALKALI_FLAG_W,THETA
,,,,,,,,,METERS,DBARS,ITS-90,PSS-78,,PSS-78,,UMOL/KG,,UMOL/KG,,UMOL/KG,,UMOL/KG,,UMOL/KG,,UMOL/KG,,PMOL/KG,,PMOL/KG,,PMOL/KG,,FMOL/KG,,UMOL/KG,,UMOL/KG,,DEGC
  316N20020530,    23,  1,     35,     35,2,20020605, 74.6187,  -2.4900, 3693,      3.1,   0.7365,  34.8455,2,  34.8469,2,    359.7,2,    360.2,2,     3.81,2,     9.58,2,     0.05,2,     0.69,2,    6.189,2,    3.247,2,    0.557,2,        -999,9,   2134.8,2,   2296.0,2,   0.7364
  316N20020530,    23,  1,     34,     34,2,20020605, 74.6187,  -2.4900, 3693,     21.0,   0.7390,  34.8457,2,  34.8474,2,    360.9,2,    360.8,2,     4.59,2,     9.58,2,     0.05,2,     0.69,2, -999.000,9, -999.000,9, -999.000,9,        -999,9,   -999.0,9,   -999.0,9,   0.7381
  316N20020530,    23,  1,     33,     33,2,20020605, 74.6187,  -2.4900, 3693,     47.0,  -0.2876,  34.8594,2,  34.8619,2,    356.4,2,    354.6,2,     4.98,2,    10.75,2,     0.03,2,     0.77,2,    5.967,2,    3.164,2,    0.532,2,   2.4105612,2,   2148.0,2,   2296.2,2,  -0.2892
  316N20020530,    23,  1,     32,     32,2,20020605, 74.6187,  -2.4900, 3693,     76.8,  -0.4127,  34.8639,2,  34.8657,2,    349.8,2,    352.7,2,     5.47,2,    11.14,2,     0.03,2,     0.80,2, -999.000,9, -999.000,9, -999.000,9,        -999,9,   -999.0,9,   -999.0,9,  -0.4152
  316N20020530,    23,  1,     31,     31,2,20020605, 74.6187,  -2.4900, 3693,    107.1,  -0.6750,  34.8697,2,  34.8720,2,    333.3,2,    345.3,2,     5.57,2,    11.73,2,     0.03,2,     0.84,2,    5.712,2,    2.990,2,    0.495,2,  2.64476588,2,   2158.3,2,   2294.2,2,  -0.6783
  316N20020530,    23,  1,     30,     30,2,20020605, 74.6187,  -2.4900, 3693,    132.8,  -0.7143,  34.8716,2,  34.8757,2,    334.1,2,    339.8,2,     6.06,2,    12.12,2,     0.03,2,     0.86,2, -999.000,9, -999.000,9, -999.000,9,        -999,9,   -999.0,9,   -999.0,9,  -0.7184
  316N20020530,    23,  1,     29,     29,2,20020605, 74.6187,  -2.4900, 3693,    157.3,  -0.6995,  34.8761,2,  34.8810,2,    332.7,2,    335.2,2,     5.96,2,    12.51,2,     0.03,2,     0.88,2,    5.264,2,    2.791,2,    0.452,2,        -999,9,   2153.9,2,   2293.8,2,  -0.7044
  316N20020530,    23,  1,     28,     28,2,20020605, 74.6187,  -2.4900, 3693,    197.3,  -0.7428,  34.8812,2,  34.8842,2,    330.6,2,    330.4,2,     6.65,2,    12.90,2,     0.03,2,     0.90,2, -999.000,9, -999.000,9, -999.000,9,        -999,9,   -999.0,9,   -999.0,9,  -0.7489
  316N20020530,    23,  1,     27,     27,2,20020605, 74.6187,  -2.4900, 3693,    247.6,  -0.7823,  34.8813,2,  34.8844,2,    330.6,2,    328.1,2,     6.55,2,    13.00,2,     0.01,2,     0.90,2,    4.903,2,    2.522,2,    0.390,2,  3.32788502,2,   -999.0,9,   -999.0,9,  -0.7900
  316N20020530,    23,  1,     26,     26,2,20020605, 74.6187,  -2.4900, 3693,    298.0,  -0.7930,  34.8822,2,  34.8858,2,    329.4,2,    328.2,2,     6.45,2,    13.00,2,     0.01,2,     0.90,2, -999.000,9, -999.000,9, -999.000,9,        -999,9,   -999.0,9,   -999.0,9,  -0.8024
  316N20020530,    23,  1,     25,     25,2,20020605, 74.6187,  -2.4900, 3693,    348.3,  -0.8092,  34.8839,2,  34.8870,2,    329.5,2,    328.9,2,     6.84,2,    13.00,2,     0.01,2,     0.90,2,    4.804,2,    2.482,2,    0.387,2,  3.64993135,2,   2155.1,2,   2291.8,2,  -0.8203
  316N20020530,    23,  1,     24,     24,2,20020605, 74.6187,  -2.4900, 3693,    398.6,  -0.8230,  34.8832,2,  34.8876,2,    331.1,2,    328.9,2,     6.55,2,    13.00,2,     0.01,2,     0.90,2, -999.000,9, -999.000,9, -999.000,9,        -999,9,   -999.0,9,   -999.0,9,  -0.8359
  316N20020530,    23,  1,     23,     23,2,20020605, 74.6187,  -2.4900, 3693,    467.9,  -0.8180,  34.8846,2,  34.8884,2,    330.1,2,    332.2,2,     6.74,2,    13.00,2,     0.01,2,     0.90,2,    5.085,6,    2.654,6,    0.416,6,   3.3864301,2,   2157.3,2,   2289.6,2,  -0.8334
  316N20020530,    23,  1,     22,     22,2,20020605, 74.6187,  -2.4900, 3693,    557.8,  -0.8381,  34.8841,2,  34.8878,2,    330.0,2,    331.5,2,     6.74,2,    13.00,2,     0.00,2,     0.90,2, -999.000,9, -999.000,9, -999.000,9,  3.50354164,2,   -999.0,9,   -999.0,9,  -0.8569
  316N20020530,    23,  1,     21,     21,2,20020605, 74.6187,  -2.4900, 3693,    658.9,  -0.8459,  34.8841,2,  34.8855,2,    329.7,2,    331.3,2,     7.23,2,    13.00,2,     0.00,2,     0.90,2,    4.866,2,    2.573,2,    0.416,2,        -999,9,   2157.4,2,   2292.3,2,  -0.8686
  316N20020530,    23,  1,     20,     20,2,20020605, 74.6187,  -2.4900, 3693,    759.5,  -0.8558,  34.8838,2,  34.8876,2,    329.9,2,    330.1,2,     6.74,2,    13.00,2,     0.00,2,     0.90,2, -999.000,9, -999.000,9, -999.000,9,        -999,9,   -999.0,9,   -999.0,9,  -0.8827
  316N20020530,    23,  1,     19,     19,2,20020605, 74.6187,  -2.4900, 3693,    859.4,  -0.8715,  34.8836,2,  34.8855,2,    329.5,2,    330.4,2,     7.04,2,    13.00,2,     0.00,2,     0.91,2,    4.917,2,    2.507,2,    0.400,2,  3.72800891,2,   -999.0,9,   -999.0,9,  -0.9026
  316N20020530,    23,  1,     18,     18,2,20020605, 74.6187,  -2.4900, 3693,    961.3,  -0.8761,  34.8834,2,  34.8876,2,    329.6,2,    329.5,2,     7.04,2,    13.00,2,     0.00,2,     0.91,2, -999.000,9, -999.000,9, -999.000,9,        -999,9,   -999.0,9,   -999.0,9,  -0.9117
  316N20020530,    23,  1,     17,     17,2,20020605, 74.6187,  -2.4900, 3693,   1061.8,  -0.8690,  34.8847,2,  34.8871,2,    329.0,2,    328.3,2,     7.13,2,    13.00,2,     0.00,2,     0.91,2,    4.718,2,    2.427,2,    0.383,2,  3.54258016,2,   2158.0,2,   2292.6,2,  -0.9094
  316N20020530,    23,  1,     16,     16,2,20020605, 74.6187,  -2.4900, 3693,   1162.0,  -0.8735,  34.8845,2,  34.8867,2,    329.5,2,    328.2,2,     6.94,2,    13.10,2,     0.00,2,     0.91,2, -999.000,9, -999.000,9, -999.000,9,  3.55234039,2,   -999.0,9,   -999.0,9,  -0.9187
  316N20020530,    23,  1,     15,     15,2,20020605, 74.6187,  -2.4900, 3693,   1262.8,  -0.8724,  34.8845,2,  34.8855,2,    327.3,2,    328.6,2,     6.94,2,    13.00,2,     0.00,2,     0.91,2,    4.783,2,    2.475,2,    0.389,2,  3.53282519,2,   2158.0,2,   2304.4,2,  -0.9227
  316N20020530,    23,  1,     14,     14,2,20020605, 74.6187,  -2.4900, 3693,   1364.2,  -0.8509,  34.8865,2,  34.8895,2,    325.1,2,    324.7,2,     7.52,2,    13.29,2,     0.00,2,     0.92,2,    4.329,2,    2.257,2,    0.354,2,  3.26931745,2,   -999.0,9,   -999.0,9,  -0.9067
  316N20020530,    23,  1,     13,     13,2,20020605, 74.6187,  -2.4900, 3693,   1465.6,  -0.8353,  34.8893,2,  34.8903,2,    322.4,2,    321.0,2,     7.82,2,    13.49,2,     0.00,2,     0.93,2,    3.958,2,    2.026,2,    0.317,2,  2.89846777,2,   2159.6,2,   2292.7,2,  -0.8968
  316N20020530,    23,  1,     12,     12,2,20020605, 74.6187,  -2.4900, 3693,   1618.2,  -0.7667,  34.9006,2,  34.9029,2,    309.1,2,    323.9,4,     9.77,2,    14.07,2,     0.00,2,     0.97,2,    2.399,2,    1.203,2,    0.172,2,  1.51265418,2,   -999.0,9,   -999.0,9,  -0.8377
  316N20020530,    23,  1,     11,     11,2,20020605, 74.6187,  -2.4900, 3693,   1718.7,  -0.7508,  34.9055,2,  34.9072,2,    303.1,2,    302.5,2,    10.46,2,    14.37,2,     0.00,2,     1.00,2,    1.781,2,    0.880,2,    0.116,2, 0.800240294,2,   2158.7,2,   2292.4,2,  -0.8280
  316N20020530,    23,  1,     10,     10,2,20020605, 74.6187,  -2.4900, 3693,   1821.1,  -0.7599,  34.9082,2,  34.9100,2,    300.2,2,    300.4,2,    10.26,2,    14.46,2,     0.00,2,     1.01,2,    1.366,2,    0.673,2,    0.080,2, 0.429396336,2,   2157.2,2,   2293.9,2,  -0.8432
  316N20020530,    23,  1,      9,      9,2,20020605, 74.6187,  -2.4900, 3693,   1921.9,  -0.7805,  34.9088,2,  34.9110,2,    299.1,2,    299.4,2,    10.65,2,    14.56,2,     0.00,2,     1.02,2,    1.172,6,    0.566,6,    0.065,6,  0.26349301,2,   -999.0,9,   -999.0,9,  -0.8698
  316N20020530,    23,  1,      8,      8,2,20020605, 74.6187,  -2.4900, 3693,   2174.9,  -0.8325,  34.9102,2,  34.9118,2,    298.8,2,    299.0,2,    11.04,2,    14.76,2,     0.00,2,     1.02,2,    0.922,2,    0.443,2,    0.044,2, 0.126866929,2,   -999.0,9,   -999.0,9,  -0.9375
  316N20020530,    23,  1,      7,      7,2,20020605, 74.6187,  -2.4900, 3693,   2428.6,  -0.8600,  34.9110,2,  34.9112,2,    299.6,2,    299.6,2,    11.82,2,    14.76,2,     0.00,2,     1.02,2,    0.775,2,    0.380,2,    0.036,2, 0.126866986,2,   -999.0,9,   -999.0,9,  -0.9820
  316N20020530,    23,  1,      6,      6,2,20020605, 74.6187,  -2.4900, 3693,   2682.2,  -0.8835,  34.9104,2,  34.9104,2,    300.6,2,    300.9,2,    11.73,2,    14.76,2,     0.00,2,     1.02,2,    0.731,2,    0.361,2,    0.033,2, 0.126867061,2,   2156.6,2,   2294.0,2,  -1.0235
  316N20020530,    23,  1,      5,      5,2,20020605, 74.6187,  -2.4900, 3693,   2935.1,  -0.9045,  34.9084,2,  34.9081,2,    301.7,2,    301.8,2,    11.73,2,    14.76,2,     0.00,2,     1.02,2,    0.762,2,    0.373,2,    0.044,2,   0.1366263,2,   -999.0,9,   -999.0,9,  -1.0635
  316N20020530,    23,  1,      4,      4,2,20020605, 74.6187,  -2.4900, 3693,   3137.9,  -0.9112,  34.9071,2,  34.9065,2,    302.5,2,    302.5,2,    11.92,2,    14.76,2,     0.00,2,     1.02,2,    0.766,2,    0.378,2,    0.036,2, 0.185421628,2,   -999.0,9,   -999.0,9,  -1.0863
  316N20020530,    23,  1,      3,      3,2,20020605, 74.6187,  -2.4900, 3693,   3340.3,  -0.9100,  34.9052,2,  34.9059,2,    303.0,2,    303.3,2,    12.22,2,    14.76,2,     0.00,2,     1.02,2,    0.762,2,    0.384,2,    0.034,2, 0.204939786,2,   -999.0,9,   -999.0,9,  -1.1020
  316N20020530,    23,  1,      2,      2,2,20020605, 74.6187,  -2.4900, 3693,   3545.3,  -0.9000,  34.9051,2,  34.9057,2,    303.0,2,    303.0,2,    12.51,2,    14.76,2,     0.00,2,     1.02,2,    0.741,2,    0.371,2,    0.033,2, 0.214698855,2,   2166.5,2,   2294.3,2,  -1.1101
  316N20020530,    23,  1,      1,      1,2,20020605, 74.6187,  -2.4900, 3693,   3657.5,  -0.8927,  34.9049,2,  34.9059,2,    303.0,2,    303.3,2,    12.80,2,    14.76,2,     0.00,2,     1.02,2,    0.778,2,    0.379,2,    0.036,2,  0.26349401,2,   2168.5,3,   2296.0,2,  -1.1129