BOTTLE,20081218PRINUNIVRMK
EXPOCODE,STNNBR,CASTNO,SAMPNO,BTLNBR,BTLNBR_FLAG_W,DATE,LATITUDE,LONGITUDE,DEPTH,CTDPRS,CTDTMP,CTDSAL,CTDSAL_FLAG_W,SALNTY,SALNTY_FLAG_W,CTDOXY,CTDOXY_FLAG_W,OXYGEN,OXYGEN_FLAG_W,SILCAT,SILCAT_FLAG_W,NITRAT,NITRAT_FLAG_W,NITRIT,NITRIT_FLAG_W,PHSPHT,PHSPHT_FLAG_W,CFC-11,CFC-11_FLAG_W,CFC-12,CFC-12_FLAG_W,CFC113,CFC113_FLAG_W,SF6,SF6_FLAG_W,TCARBN,TCARBN_FLAG_W,ALKALI,ALKALI_FLAG_W,THETA
,,,,,,,,,METERS,DBARS,ITS-90,PSS-78,,PSS-78,,UMOL/KG,,UMOL/KG,,UMOL/KG,,UMOL/KG,,UMOL/KG,,UMOL/KG,,PMOL/KG,,PMOL/KG,,PMOL/KG,,FMOL/KG,,UMOL/KG,,UMOL/KG,,DEGC
  316N20020530,    12,  1,     23,     23,2,20020603, 70.4567, -10.4405, 1153,      3.8,   2.0179,  34.8374,2,  34.8359,2,    406.9,2,    407.7,2,     3.03,2,     0.68,2,     0.03,2,     0.24,2,    6.310,2,    3.238,2,    0.579,2,  2.12758102,2,   2076.2,2,   2303.0,2,   2.0177
  316N20020530,    12,  1,     22,     22,2,20020603, 70.4567, -10.4405, 1153,     18.3,   1.6694,  34.8493,2,  34.8440,2,    400.9,2,    393.9,2,     4.20,2,     2.64,2,     0.03,2,     0.38,2, -999.000,9, -999.000,9, -999.000,9,        -999,9,   -999.0,9,   -999.0,9,   1.6685
  316N20020530,    12,  1,     21,     21,2,20020603, 70.4567, -10.4405, 1153,     33.3,   0.9500,  34.8788,2,  34.8755,2,    356.1,2,    353.1,2,     4.50,2,     8.50,2,     0.05,2,     0.70,2,    6.394,2,    3.271,2,    0.584,2,  2.14703682,2,   2136.7,2,   2298.0,2,   0.9485
  316N20020530,    12,  1,     20,     20,2,20020603, 70.4567, -10.4405, 1153,     53.2,   0.8657,  34.8884,2,  34.8873,2,    349.9,2,    351.2,2,     4.50,2,     8.99,2,     0.06,2,     0.72,2, -999.000,9, -999.000,9, -999.000,9,        -999,9,   -999.0,9,   -999.0,9,   0.8634
  316N20020530,    12,  1,     19,     19,2,20020603, 70.4567, -10.4405, 1153,     78.1,   0.7518,  34.8934,2,  34.8939,2,    347.8,2,    350.9,2,     4.79,2,     9.19,2,     0.06,2,     0.73,2,    6.303,2,    3.215,2,    0.586,2,  2.18604391,2,   2140.8,2,   2295.0,2,   0.7485
  316N20020530,    12,  1,     18,     18,2,20020603, 70.4567, -10.4405, 1153,    103.6,   0.6883,  34.8940,2,  34.8932,2,    342.6,2,    347.1,2,     4.69,2,     9.87,2,     0.07,2,     0.76,2, -999.000,9, -999.000,9, -999.000,9,        -999,9,   -999.0,9,   -999.0,9,   0.6839
  316N20020530,    12,  1,     17,     17,2,20020603, 70.4567, -10.4405, 1153,    128.6,   0.6186,  34.8992,2,  34.8985,2,    341.9,2,    343.3,2,     4.98,2,    10.46,2,     0.07,2,     0.79,2,    6.240,2,    3.196,2,    0.565,2,  2.14700006,2,   2151.4,2,   -999.0,9,   0.6132
  316N20020530,    12,  1,     16,     16,2,20020603, 70.4567, -10.4405, 1153,    153.6,   0.5176,  34.8993,2,  34.8981,2,    340.5,2,    338.8,2,     5.18,2,    11.24,2,     0.08,2,     0.82,2, -999.000,9, -999.000,9, -999.000,9,        -999,9,   -999.0,9,   -999.0,9,   0.5112
  316N20020530,    12,  1,     15,     15,2,20020603, 70.4567, -10.4405, 1153,    178.9,   0.4906,  34.9032,2,  34.9028,2,    337.9,2,    333.0,2,     5.57,2,    11.92,2,     0.08,2,     0.85,2,    5.869,2,    3.007,2,    0.527,2,  2.00060729,2,   2155.2,2,   2291.6,2,   0.4832
  316N20020530,    12,  1,     14,     14,2,20020603, 70.4567, -10.4405, 1153,    204.2,   0.4957,  34.9068,2,  34.9061,2,    332.0,2,    332.6,2,     5.08,2,    12.12,2,     0.08,2,     0.86,2, -999.000,9, -999.000,9, -999.000,9,        -999,9,   -999.0,9,   -999.0,9,   0.4872
  316N20020530,    12,  1,     13,     13,2,20020603, 70.4567, -10.4405, 1153,    234.1,   0.4504,  34.9074,2,  34.9081,2,    331.4,2,    328.1,2,     4.98,2,    12.31,2,     0.05,2,     0.87,2,    5.780,2,    2.972,2,    0.499,2,  1.94204527,2,   2155.0,2,   2292.5,2,   0.4407
  316N20020530,    12,  1,     12,     12,2,20020603, 70.4567, -10.4405, 1153,    263.7,   0.3444,  34.9033,2,  34.8998,2,    330.1,2,    331.0,2,     4.98,2,    12.22,2,     0.05,2,     0.87,2, -999.000,9, -999.000,9, -999.000,9,        -999,9,   -999.0,9,   -999.0,9,   0.3336
  316N20020530,    12,  1,     11,     11,2,20020603, 70.4567, -10.4405, 1153,    303.6,   0.2399,  34.9005,2,  34.8991,2,    327.6,2,    321.3,2,     5.77,2,    12.80,2,     0.00,2,     0.91,2,    5.234,2,    2.674,2,    0.430,2,   1.7761538,2,   2156.9,2,   2292.1,2,   0.2276
  316N20020530,    12,  1,     10,     10,2,20020603, 70.4567, -10.4405, 1153,    343.9,   0.1572,  34.8988,2,  34.8975,2,    319.9,2,    318.6,2,     5.86,2,    13.00,2,     0.00,2,     0.92,2, -999.000,9, -999.000,9, -999.000,9,        -999,9,   -999.0,9,   -999.0,9,   0.1434
  316N20020530,    12,  1,      9,      9,2,20020603, 70.4567, -10.4405, 1153,    393.4,  -0.0284,  34.8929,2,  34.8906,2,    313.6,2,    313.4,2,     6.35,2,    13.29,2,     0.00,2,     0.95,2,    4.496,6,    2.258,6,    0.352,6,  1.67857355,2,   2159.7,2,   2292.8,2,  -0.0437
  316N20020530,    12,  1,      8,      8,2,20020603, 70.4567, -10.4405, 1153,    443.6,  -0.1394,  34.8929,2,  34.8910,2,    311.7,2,    311.9,2,     6.74,2,    13.49,2,     0.00,2,     0.95,2,    4.112,6,    2.080,6,    0.323,6,        -999,9,   -999.0,9,   -999.0,9,  -0.1565
  316N20020530,    12,  1,      7,      7,2,20020603, 70.4567, -10.4405, 1153,    504.2,  -0.2362,  34.8934,2,  34.8910,2,    310.1,2,    310.6,2,     6.84,2,    13.58,2,     0.00,2,     0.97,2,    4.023,2,    2.012,2,    0.305,2,  1.87375597,2,   2161.0,2,   2292.0,2,  -0.2555
  316N20020530,    12,  1,      6,      6,2,20020603, 70.4567, -10.4405, 1153,    603.8,  -0.3675,  34.8928,2,  34.8898,2,    308.6,2,    309.3,2,     7.33,2,    13.68,2,     0.00,2,     0.97,2,    3.790,2,    1.884,2,    0.297,2,  2.16653227,2,   2162.6,2,   2292.6,2,  -0.3905
  316N20020530,    12,  1,      5,      5,2,20020603, 70.4567, -10.4405, 1153,    702.3,  -0.4772,  34.8935,2,  34.8926,2,    305.9,2,    308.9,2,     7.82,2,    13.78,2,     0.00,2,     0.98,2,    3.382,2,    1.685,2,    0.260,2,  2.50809745,2,   2160.8,2,   2293.2,2,  -0.5039
  316N20020530,    12,  1,      4,      4,2,20020603, 70.4567, -10.4405, 1153,    801.8,  -0.5518,  34.8953,2,  34.8936,2,    306.0,2,    305.6,2,     8.31,2,    14.07,2,     0.00,2,     1.00,2, -999.000,9, -999.000,9, -999.000,9,  2.60568685,2,   -999.0,9,   -999.0,9,  -0.5825
  316N20020530,    12,  1,      3,      3,2,20020603, 70.4567, -10.4405, 1153,    900.4,  -0.6108,  34.8975,2,  34.8963,2,    304.1,2,    304.5,2,     8.60,2,    14.17,2,     0.00,2,     1.00,2,    2.789,2,    1.356,2,    0.199,2,  2.35194483,2,   2158.8,2,   -999.0,9,  -0.6457
  316N20020530,    12,  1,      2,      2,2,20020603, 70.4567, -10.4405, 1153,    999.4,  -0.6392,  34.8986,2,  34.8971,2,    303.9,2,    303.7,2,     8.80,2,    14.17,2,     0.00,2,     1.01,2,    2.558,2,    1.256,2,    0.175,2,  2.24459331,2,   2162.5,2,   2297.9,2,  -0.6786
  316N20020530,    12,  1,      1,      1,2,20020603, 70.4567, -10.4405, 1153,   1098.9,  -0.6935,  34.9027,2,  34.8991,2,    301.0,2,    301.2,2,     9.58,2,    14.37,2,     0.00,2,     1.02,2,    2.141,2,    1.038,2,    0.154,2,  1.70784019,2,   2161.1,2,   2295.1,2,  -0.7373
  316N20020530,    13,  1,     23,     23,2,20020603, 70.8815,  -9.9482, 1225,      2.7,   1.7797,  34.8510,2,  34.8513,2,    408.0,2,    409.1,2,     4.20,2,     1.08,2,     0.04,2,     0.24,2, -999.000,9, -999.000,9, -999.000,9,   2.1177972,2,   -999.0,9,   2304.3,2,   1.7796
  316N20020530,    13,  1,     22,     22,2,20020603, 70.8815,  -9.9482, 1225,     18.1,   1.6610,  34.8553,2,  34.8558,2,    404.5,2,    402.0,2,     4.30,2,     2.44,2,     0.03,2,     0.33,2, -999.000,9, -999.000,9, -999.000,9,        -999,9,   -999.0,9,   -999.0,9,   1.6601
  316N20020530,    13,  1,     21,     21,2,20020603, 70.8815,  -9.9482, 1225,     32.9,   1.0252,  34.8732,2,  34.8745,2,    356.0,2,    362.7,2,     4.59,2,     7.53,2,     0.05,2,     0.64,2, -999.000,9, -999.000,9, -999.000,9,        -999,9,   -999.0,9,   -999.0,9,   1.0237
  316N20020530,    13,  1,     20,     20,2,20020603, 70.8815,  -9.9482, 1225,     53.8,   0.8341,  34.8746,2,  34.8759,2,    350.8,2,    352.5,2,     4.69,2,     8.80,2,     0.06,2,     0.68,2,    6.160,2,    3.222,2,    0.545,2,  2.15679544,2,   2126.1,2,   2296.3,2,   0.8318
  316N20020530,    13,  1,     19,     19,2,20020603, 70.8815,  -9.9482, 1225,     78.4,   0.7308,  34.8901,2,  34.8912,2,    345.0,2,    346.9,2,     4.98,2,     9.67,2,     0.06,2,     0.73,2, -999.000,9, -999.000,9, -999.000,9,        -999,9,   -999.0,9,   -999.0,9,   0.7275
  316N20020530,    13,  1,     18,     18,2,20020603, 70.8815,  -9.9482, 1225,    103.6,   0.5759,  34.8927,2,  34.8936,2,    342.3,2,    342.0,2,     5.18,2,    10.16,2,     0.06,2,     0.75,2,    5.879,2,    3.027,2,    0.501,2,  2.12748964,2,   2134.3,2,   2295.0,2,   0.5716
  316N20020530,    13,  1,     17,     17,2,20020603, 70.8815,  -9.9482, 1225,    128.8,   0.5504,  34.8930,2,  34.8953,2,    342.0,2,    340.1,2,     5.18,2,    10.65,2,     0.06,2,     0.77,2, -999.000,9, -999.000,9, -999.000,9,        -999,9,   2137.9,2,   2292.8,2,   0.5451
  316N20020530,    13,  1,     16,     16,2,20020603, 70.8815,  -9.9482, 1225,    153.3,   0.4891,  34.8944,2,  34.8965,2,    337.7,2,    337.3,2,     5.37,2,    11.04,2,     0.07,2,     0.78,2,    5.655,2,    2.938,2,    0.475,2,  2.08844862,2,   2138.5,2,   2293.3,2,   0.4828
  316N20020530,    13,  1,     15,     15,2,20020603, 70.8815,  -9.9482, 1225,    178.6,   0.4197,  34.8944,2,-999.0000,9,    336.2,2,    336.6,2,     5.28,2,    11.04,2,     0.07,2,     0.80,2, -999.000,9, -999.000,9, -999.000,9,        -999,9,   -999.0,9,   -999.0,9,   0.4124
  316N20020530,    13,  1,     14,     14,2,20020603, 70.8815,  -9.9482, 1225,    203.8,   0.3337,  34.8952,2,  34.8904,2,    332.4,2,    332.0,2,     5.47,2,    11.63,2,     0.07,2,     0.82,2,    5.398,2,    2.811,2,    0.447,2,        -999,9,   2141.4,2,   2292.1,2,   0.3255
  316N20020530,    13,  1,     13,     13,2,20020603, 70.8815,  -9.9482, 1225,    233.6,   0.2161,  34.8951,2,  34.8924,2,    330.1,2,    328.2,2,     5.67,2,    12.02,2,     0.06,2,     0.84,2,    5.223,2,    2.680,2,    0.459,2,  2.02014105,2,   -999.0,9,   -999.0,9,   0.2069
  316N20020530,    13,  1,     12,     12,2,20020603, 70.8815,  -9.9482, 1225,    263.7,   0.1727,  34.8952,2,  34.8918,2,    325.5,2,    325.8,2,     5.77,2,    12.22,2,     0.06,2,     0.85,2, -999.000,9, -999.000,9, -999.000,9,        -999,9,   -999.0,9,   -999.0,9,   0.1623
  316N20020530,    13,  1,     11,     11,2,20020603, 70.8815,  -9.9482, 1225,    304.1,   0.0614,  34.8940,2,  34.8914,2,    321.1,2,    322.1,2,     5.96,2,    12.51,2,     0.04,2,     0.87,2,    4.873,2,    2.502,2,    0.386,2,  1.94206941,2,   2146.4,2,   2289.6,2,   0.0496
  316N20020530,    13,  1,     10,     10,2,20020603, 70.8815,  -9.9482, 1225,    344.0,  -0.0192,  34.8946,2,  34.8894,2,    319.0,2,    320.5,2,     6.06,2,    12.80,2,     0.03,2,     0.88,2, -999.000,9, -999.000,9, -999.000,9,   1.9420723,2,   -999.0,9,   -999.0,9,  -0.0325
  316N20020530,    13,  1,      9,      9,2,20020603, 70.8815,  -9.9482, 1225,    394.4,  -0.0777,  34.8947,2,  34.8894,2,    317.3,2,    318.1,2,     6.35,2,    12.90,2,     0.02,2,     0.89,2,    4.626,2,    2.331,2,    0.355,2,  1.95183146,2,   2149.2,2,   2295.2,2,  -0.0929
  316N20020530,    13,  1,      8,      8,2,20020603, 70.8815,  -9.9482, 1225,    444.1,  -0.1408,  34.8935,2,  34.8890,2,    315.7,2,    315.8,2,     6.45,2,    13.00,2,     0.01,2,     0.90,2, -999.000,9, -999.000,9, -999.000,9,    2.010387,2,   -999.0,9,   -999.0,9,  -0.1579
  316N20020530,    13,  1,      7,      7,2,20020603, 70.8815,  -9.9482, 1225,    504.0,  -0.1939,  34.8938,2,  34.8892,2,    314.2,2,    314.6,2,     6.65,2,    13.19,2,     0.01,2,     0.91,2,    4.137,2,    2.113,2,    0.305,2,  2.02990502,2,   2149.8,2,   2293.1,2,  -0.2133
  316N20020530,    13,  1,      6,      6,2,20020603, 70.8815,  -9.9482, 1225,    603.2,  -0.2823,  34.8936,2,  34.8906,2,    312.2,2,    311.4,2,     6.94,2,    13.29,2,     0.00,2,     0.93,2, -999.000,9, -999.000,9, -999.000,9,   2.0689395,2,   -999.0,9,   -999.0,9,  -0.3057
  316N20020530,    13,  1,      5,      5,2,20020603, 70.8815,  -9.9482, 1225,    704.0,  -0.4003,  34.8937,2,  34.8904,2,    308.5,2,    310.1,2,     7.33,2,    13.49,2,     0.00,2,     0.94,2,    3.610,6,    1.809,6,    0.251,6,   2.2836411,2,   2153.0,2,   2295.0,2,  -0.4275
  316N20020530,    13,  1,      4,      4,2,20020603, 70.8815,  -9.9482, 1225,    852.9,  -0.5093,  34.8953,2,  34.8918,2,    307.4,2,    308.3,2,     7.82,2,    13.58,2,     0.00,2,     0.94,2,    3.162,2,    1.614,2,    0.227,2,  2.43002582,2,   -999.0,9,   -999.0,9,  -0.5427
  316N20020530,    13,  1,      3,      3,2,20020603, 70.8815,  -9.9482, 1225,   1003.8,  -0.5847,  34.8982,2,  34.8936,2,    305.8,2,    307.0,2,     8.50,2,    13.78,2,     0.00,2,     0.96,2,    2.787,2,    1.397,2,    0.189,2,  2.41050431,2,   -999.0,9,   -999.0,9,  -0.6247
  316N20020530,    13,  1,      2,      2,2,20020603, 70.8815,  -9.9482, 1225,   1105.0,  -0.6486,  34.9004,2,  34.8965,2,    304.7,2,    303.7,2,     9.09,2,    13.97,2,     0.00,2,     0.97,2,    2.367,2,    1.187,2,    0.143,2,  2.15676236,2,   -999.0,9,   2294.0,2,  -0.6931
  316N20020530,    13,  1,      1,      1,2,20020603, 70.8815,  -9.9482, 1225,   1185.3,  -0.6821,  34.9034,2,  34.8997,2,    303.8,2,    303.4,2,     9.58,2,    13.97,2,     0.00,2,     0.98,2,    2.111,2,    1.061,2,    0.134,2,  1.86398475,2,   2156.6,2,   2297.7,2,  -0.7304