BOTTLE,20081218PRINUNIVRMK
EXPOCODE,STNNBR,CASTNO,SAMPNO,BTLNBR,BTLNBR_FLAG_W,DATE,LATITUDE,LONGITUDE,DEPTH,CTDPRS,CTDTMP,CTDSAL,CTDSAL_FLAG_W,SALNTY,SALNTY_FLAG_W,CTDOXY,CTDOXY_FLAG_W,OXYGEN,OXYGEN_FLAG_W,SILCAT,SILCAT_FLAG_W,NITRAT,NITRAT_FLAG_W,NITRIT,NITRIT_FLAG_W,PHSPHT,PHSPHT_FLAG_W,CFC-11,CFC-11_FLAG_W,CFC-12,CFC-12_FLAG_W,CFC113,CFC113_FLAG_W,SF6,SF6_FLAG_W,TCARBN,TCARBN_FLAG_W,ALKALI,ALKALI_FLAG_W,THETA
,,,,,,,,,METERS,DBARS,ITS-90,PSS-78,,PSS-78,,UMOL/KG,,UMOL/KG,,UMOL/KG,,UMOL/KG,,UMOL/KG,,UMOL/KG,,PMOL/KG,,PMOL/KG,,PMOL/KG,,FMOL/KG,,UMOL/KG,,UMOL/KG,,DEGC
  316N20020530,    22,  1,     35,     35,2,20020605, 74.2152,  -3.4943, 3647,      4.1,   0.6115,  34.8388,2,  34.8399,2,    361.2,2,    361.6,2,     4.01,2,     9.28,2,     0.05,2,     0.66,2,    6.368,2,    3.248,2,    0.584,2,  2.26420792,2,   2139.3,2,   2298.9,2,   0.6113
  316N20020530,    22,  1,     34,     34,2,20020605, 74.2152,  -3.4943, 3647,     20.0,   0.6166,  34.8382,2,  34.8403,2,    361.8,2,    362.0,2,     4.30,2,     9.19,2,     0.05,2,     0.66,2, -999.000,9, -999.000,9, -999.000,9,        -999,9,   -999.0,9,   -999.0,9,   0.6158
  316N20020530,    22,  1,     33,     33,2,20020605, 74.2152,  -3.4943, 3647,     49.9,  -0.3141,  34.8444,2,  34.8460,2,    355.3,2,    355.5,2,     4.40,2,    10.26,2,     0.04,2,     0.75,2,    6.229,2,    3.178,2,    0.552,2,    2.312995,2,   2146.6,2,   2293.7,2,  -0.3158
  316N20020530,    22,  1,     32,     32,2,20020605, 74.2152,  -3.4943, 3647,     69.8,  -0.3199,  34.8557,2,  34.8574,2,    354.1,2,    353.9,2,     5.38,2,    10.65,2,     0.04,2,     0.77,2, -999.000,9, -999.000,9, -999.000,9,        -999,9,   -999.0,9,   -999.0,9,  -0.3222
  316N20020530,    22,  1,     31,     31,2,20020605, 74.2152,  -3.4943, 3647,    104.8,  -0.6225,  34.8722,2,  34.8747,2,    337.2,2,    334.0,2,     6.55,2,    12.31,2,     0.04,2,     0.87,2, -999.000,9, -999.000,9, -999.000,9,        -999,9,   2156.1,2,   2290.8,2,  -0.6258
  316N20020530,    22,  1,     30,     30,2,20020605, 74.2152,  -3.4943, 3647,    135.4,  -0.6591,  34.8755,2,  34.8783,2,    332.1,2,    335.2,2,     6.65,2,    12.41,2,     0.04,2,     0.87,2,    5.323,2,    2.758,2,    0.458,2,  2.31293939,2,   -999.0,9,   -999.0,9,  -0.6633
  316N20020530,    22,  1,     29,     29,2,20020605, 74.2152,  -3.4943, 3647,    195.0,  -0.7035,  34.8778,2,  34.8787,2,    330.0,2,    336.7,2,     6.65,2,    12.41,2,     0.04,2,     0.88,2, -999.000,9, -999.000,9, -999.000,9,        -999,9,   2156.6,2,   2292.2,2,  -0.7096
  316N20020530,    22,  1,     28,     28,2,20020605, 74.2152,  -3.4943, 3647,    255.2,  -0.7554,  34.8820,2,  34.8842,2,    330.7,2,    334.1,2,     6.65,2,    12.80,2,     0.04,2,     0.89,2,    5.213,2,    2.691,2,    0.443,2,  2.93751771,2,   2158.3,2,   2293.4,2,  -0.7634
  316N20020530,    22,  1,     27,     27,2,20020605, 74.2152,  -3.4943, 3647,    285.5,  -0.7475,  34.8845,2,  34.8844,2,    332.7,2,    332.7,2,     6.45,2,    12.80,2,     0.04,2,     0.89,2, -999.000,9, -999.000,9, -999.000,9,        -999,9,   -999.0,9,   -999.0,9,  -0.7566
  316N20020530,    22,  1,     26,     26,2,20020605, 74.2152,  -3.4943, 3647,    330.4,  -0.7940,  34.8840,2,  34.8876,2,    331.0,2,    330.9,2,     6.45,2,    12.90,2,     0.02,2,     0.90,2,    5.107,2,    2.646,2,    0.427,2,  3.32787709,2,   2158.3,2,   2291.6,2,  -0.8045
  316N20020530,    22,  1,     25,     25,2,20020605, 74.2152,  -3.4943, 3647,    376.0,  -0.8116,  34.8839,2,  34.8866,2,    331.6,2,    330.7,2,     6.55,2,    12.90,2,     0.01,2,     0.90,2, -999.000,9, -999.000,9, -999.000,9,        -999,9,   -999.0,9,   -999.0,9,  -0.8237
  316N20020530,    22,  1,     24,     24,2,20020605, 74.2152,  -3.4943, 3647,    436.6,  -0.8428,  34.8827,2,  34.8842,2,    331.1,2,    329.8,2,     6.55,2,    13.00,2,     0.01,2,     0.90,2,    4.924,2,    2.553,2,    0.406,2,  3.62066137,2,   2160.7,2,   2291.0,2,  -0.8570
  316N20020530,    22,  1,     23,     23,2,20020605, 74.2152,  -3.4943, 3647,    496.6,  -0.8792,  34.8801,2,  34.8829,2,    330.5,2,    330.2,2,     6.55,2,    13.00,2,     0.01,2,     0.90,2, -999.000,9, -999.000,9, -999.000,9,  3.64018328,2,   -999.0,9,   -999.0,9,  -0.8954
  316N20020530,    22,  1,     22,     22,2,20020605, 74.2152,  -3.4943, 3647,    557.0,  -0.8845,  34.8806,2,  34.8817,2,    330.6,2,    330.4,2,     6.65,2,    13.00,2,     0.01,2,     0.90,2,    5.079,2,    2.624,2,    0.423,2,  3.62066811,2,   2159.9,2,   2290.3,2,  -0.9030
  316N20020530,    22,  1,     21,     21,2,20020605, 74.2152,  -3.4943, 3647,    657.3,  -0.8477,  34.8838,2,  34.8866,2,    330.6,2,    330.7,2,     6.55,2,    13.00,2,     0.01,2,     0.90,2, -999.000,9, -999.000,9, -999.000,9,  3.48402641,2,   -999.0,9,   -999.0,9,  -0.8704
  316N20020530,    22,  1,     20,     20,2,20020605, 74.2152,  -3.4943, 3647,    757.5,  -0.8331,  34.8855,2,  34.8874,2,    329.8,2,    329.9,2,     6.74,2,    13.00,2,     0.01,2,     0.90,2,    5.012,2,    2.586,2,    0.427,2,  3.42546931,2,   2158.6,2,   2291.3,2,  -0.8600
  316N20020530,    22,  1,     19,     19,2,20020605, 74.2152,  -3.4943, 3647,    858.1,  -0.8405,  34.8850,2,  34.8876,2,    329.4,2,    329.4,2,     6.84,2,    13.00,2,     0.00,2,     0.90,2, -999.000,9, -999.000,9, -999.000,9,  3.49378299,2,   -999.0,9,   -999.0,9,  -0.8717
  316N20020530,    22,  1,     18,     18,2,20020605, 74.2152,  -3.4943, 3647,    957.8,  -0.8421,  34.8852,2,  34.8882,2,    329.3,2,    329.3,2,     6.65,2,    13.10,2,     0.00,2,     0.91,2,    4.964,2,    2.556,2,    0.420,2,  3.40594894,2,   2158.5,2,   2291.5,2,  -0.8778
  316N20020530,    22,  1,     17,     17,2,20020605, 74.2152,  -3.4943, 3647,   1059.4,  -0.8699,  34.8845,2,  34.8855,2,    328.4,2,    329.4,2,     6.74,2,    13.10,2,     0.00,2,     0.91,2, -999.000,9, -999.000,9, -999.000,9,  3.51330682,2,   -999.0,9,   -999.0,9,  -0.9102
  316N20020530,    22,  1,     16,     16,2,20020605, 74.2152,  -3.4943, 3647,   1162.1,  -0.8761,  34.8845,2,  34.8837,2,    328.0,2,    329.5,2,     6.84,2,    13.10,2,     0.00,2,     0.91,2,    4.927,2,    2.533,2,    0.417,2,  3.50355233,2,   2152.0,3,   2290.0,2,  -0.9213
  316N20020530,    22,  1,     15,     15,2,20020605, 74.2152,  -3.4943, 3647,   1263.2,  -0.8667,  34.8854,2,  34.8865,2,    328.5,2,    328.0,2,     6.94,2,    13.10,2,     0.00,2,     0.91,2, -999.000,9, -999.000,9, -999.000,9,  3.43523078,2,   -999.0,9,   -999.0,9,  -0.9171
  316N20020530,    22,  1,     14,     14,2,20020605, 74.2152,  -3.4943, 3647,   1364.1,  -0.8697,  34.8864,2,  34.8865,2,    328.1,2,    329.8,2,     6.74,2,    13.10,2,     0.00,2,     0.91,2,    4.840,2,    2.501,2,    0.401,2,  3.39619407,2,   2158.6,2,   2300.5,2,  -0.9253
  316N20020530,    22,  1,     13,     13,2,20020605, 74.2152,  -3.4943, 3647,   1515.8,  -0.8556,  34.8875,2,  34.8883,2,    327.6,2,    326.4,2,     7.13,2,    13.29,2,     0.00,2,     0.92,2, -999.000,9, -999.000,9, -999.000,9,   3.2595612,2,   -999.0,9,   -999.0,9,  -0.9196
  316N20020530,    22,  1,     12,     12,2,20020605, 74.2152,  -3.4943, 3647,   1615.8,  -0.8467,  34.8887,2,  34.8893,2,    325.0,2,    324.6,2,     7.43,2,    13.39,2,     0.00,2,     0.93,2,    4.260,2,    2.186,2,    0.364,2,  2.94726572,2,   -999.0,9,   2293.1,2,  -0.9165
  316N20020530,    22,  1,     11,     11,2,20020605, 74.2152,  -3.4943, 3647,   1717.8,  -0.8107,  34.8938,2,  34.8952,2,    317.1,2,    317.1,2,     8.31,2,    13.78,2,     0.00,2,     0.95,2,    3.465,2,    1.760,2,    0.285,2,  2.34218764,2,   -999.0,9,   -999.0,9,  -0.8870
  316N20020530,    22,  1,     10,     10,2,20020605, 74.2152,  -3.4943, 3647,   1818.2,  -0.7497,  34.9046,2,  34.9062,2,    304.9,2,    304.2,2,     9.77,2,    14.37,2,     0.00,2,     1.00,2,    1.954,2,    0.953,2,    0.137,2, 0.936867383,2,   2157.9,2,   2294.7,2,  -0.8330
  316N20020530,    22,  1,      9,      9,2,20020605, 74.2152,  -3.4943, 3647,   2020.0,  -0.7770,  34.9107,2,  34.9110,2,    300.1,2,    299.2,2,    10.36,2,    14.66,2,     0.00,2,     1.02,2,    1.116,6,    0.536,6,    0.066,6,  0.26349301,2,   -999.0,9,   -999.0,9,  -0.8726
  316N20020530,    22,  1,      8,      8,2,20020605, 74.2152,  -3.4943, 3647,   2223.9,  -0.8174,  34.9111,2,  34.9116,2,    299.5,2,    299.1,2,    10.75,2,    14.85,2,     0.00,2,     1.03,2,    0.874,2,    0.440,2,    0.044,2, 0.136625944,2,   2154.8,2,   2294.5,2,  -0.9259
  316N20020530,    22,  1,      7,      7,2,20020605, 74.2152,  -3.4943, 3647,   2478.0,  -0.8521,  34.9110,2,  34.9114,2,    300.0,2,    299.6,2,    10.95,2,    14.95,2,     0.00,2,     1.03,2,    0.746,2,    0.383,2,    0.032,2, 0.107348972,2,   -999.0,9,   -999.0,9,  -0.9778
  316N20020530,    22,  1,      6,      6,2,20020605, 74.2152,  -3.4943, 3647,   2733.2,  -0.8780,  34.9101,2,  34.9110,2,    301.1,2,    301.4,2,    11.24,2,    14.95,2,     0.00,2,     1.03,2,    0.705,2,    0.369,2,    0.031,2,0.0975900037,2,   2154.5,2,   2294.6,2,  -1.0220
  316N20020530,    22,  1,      5,      5,2,20020605, 74.2152,  -3.4943, 3647,   2934.9,  -0.8886,  34.9097,2,  34.8811,0,    301.6,2,    302.7,2,    11.43,2,    14.95,2,     0.00,2,     1.03,2,    0.710,6,    0.377,6,    0.038,6, 0.136629046,2,   -999.0,9,   -999.0,9,  -1.0479
  316N20020530,    22,  1,      4,      4,2,20020605, 74.2152,  -3.4943, 3647,   3139.2,  -0.9042,  34.9077,2,  34.9071,2,    302.5,2,    302.3,2,    11.82,2,    14.95,2,     0.00,2,     1.03,2, -999.000,9, -999.000,9, -999.000,9, 0.175662517,2,   2153.8,2,   2295.0,2,  -1.0796
  316N20020530,    22,  1,      3,      3,3,20020605, 74.2152,  -3.4943, 3647,   3343.1,  -0.9069,  34.9066,2,  34.9049,2,    303.1,2,    303.0,2,    11.92,2,    14.95,2,     0.00,2,     1.03,2,    0.731,2,    0.385,2,    0.032,2, 0.185421849,2,   -999.0,9,   -999.0,9,  -1.0993
  316N20020530,    22,  1,      2,      2,2,20020605, 74.2152,  -3.4943, 3647,   3516.9,  -0.9055,  34.9056,2,  34.9061,2,    303.3,2,    303.0,2,    12.31,2,    14.95,2,     0.00,2,     1.02,2,    0.743,2,    0.382,2,    0.033,2, 0.224457827,2,   2152.7,2,   2294.4,2,  -1.1129
  316N20020530,    22,  1,      1,      1,2,20020605, 74.2152,  -3.4943, 3647,   3618.6,  -0.8974,  34.9056,2,  34.9048,2,    302.8,2,    303.2,2,    12.22,2,    14.95,2,     0.00,2,     1.02,2,    0.759,2,    0.390,2,    0.041,2,  0.23421709,2,   2152.1,2,   2295.1,2,  -1.1140