BOTTLE,20081218PRINUNIVRMK
EXPOCODE,STNNBR,CASTNO,SAMPNO,BTLNBR,BTLNBR_FLAG_W,DATE,LATITUDE,LONGITUDE,DEPTH,CTDPRS,CTDTMP,CTDSAL,CTDSAL_FLAG_W,SALNTY,SALNTY_FLAG_W,CTDOXY,CTDOXY_FLAG_W,OXYGEN,OXYGEN_FLAG_W,SILCAT,SILCAT_FLAG_W,NITRAT,NITRAT_FLAG_W,NITRIT,NITRIT_FLAG_W,PHSPHT,PHSPHT_FLAG_W,CFC-11,CFC-11_FLAG_W,CFC-12,CFC-12_FLAG_W,CFC113,CFC113_FLAG_W,SF6,SF6_FLAG_W,TCARBN,TCARBN_FLAG_W,ALKALI,ALKALI_FLAG_W,THETA
,,,,,,,,,METERS,DBARS,ITS-90,PSS-78,,PSS-78,,UMOL/KG,,UMOL/KG,,UMOL/KG,,UMOL/KG,,UMOL/KG,,UMOL/KG,,PMOL/KG,,PMOL/KG,,PMOL/KG,,FMOL/KG,,UMOL/KG,,UMOL/KG,,DEGC
  316N20020530,   108,  1,     34,     34,2,20020621, 66.0068,  -2.6722, 3457,      3.9,  10.0735,  34.8758,7,  34.8725,2,    296.2,2,    297.0,2,     0.98,2,     0.10,2,     0.01,2,     0.10,2,    4.101,2,    2.211,2,    0.368,2,        -999,9,   2064.4,2,   2294.2,2,  10.0731
  316N20020530,   108,  1,     33,     33,2,20020621, 66.0068,  -2.6722, 3457,     35.0,   5.7955,  34.9654,2,  34.9664,2,    297.1,2,    302.5,2,     4.10,2,     7.33,2,     0.18,2,     0.67,2,    4.873,2,    2.585,2,    0.435,2,  2.02002977,2,   -999.0,9,   2293.6,2,   5.7926
  316N20020530,   108,  1,     32,     32,2,20020621, 66.0068,  -2.6722, 3457,     50.4,   5.1302,  34.9947,7,  34.9943,2,    299.3,2,    298.9,2,     5.18,2,    10.46,2,     0.31,2,     0.80,2, -999.000,9, -999.000,9, -999.000,9,        -999,9,   -999.0,9,   -999.0,9,   5.1263
  316N20020530,   108,  1,     31,     31,2,20020621, 66.0068,  -2.6722, 3457,     70.2,   4.6020,  35.0096,2,  35.0122,2,    298.1,2,    298.5,2,     5.47,2,    12.90,2,     0.02,2,     0.86,2,    4.830,2,    2.584,2,    0.407,2,  2.00044437,2,   2140.9,2,   2296.1,2,   4.5968
  316N20020530,   108,  1,     30,     30,2,20020621, 66.0068,  -2.6722, 3457,    100.7,   3.9859,  34.9775,2,  34.9778,2,    302.5,2,    306.2,2,     4.98,2,    12.22,2,     0.01,2,     0.83,2, -999.000,9, -999.000,9, -999.000,9,        -999,9,   -999.0,9,   -999.0,9,   3.9789
  316N20020530,   108,  1,     29,     29,2,20020621, 66.0068,  -2.6722, 3457,    135.5,   3.7988,  34.9758,2,  34.9782,2,    307.8,2,    307.6,2,     4.89,2,    12.22,2,     0.02,2,     0.82,2,    5.039,2,    2.686,2,    0.430,2,  2.14687268,2,   2144.3,2,   2296.4,2,   3.7895
  316N20020530,   108,  1,     28,     28,2,20020621, 66.0068,  -2.6722, 3457,    185.4,   3.5687,  34.9727,2,  34.9766,2,    308.8,2,    308.2,2,     4.89,2,    12.12,2,     0.01,2,     0.81,2,    5.134,2,    2.745,2,    0.447,2,  2.14687524,2,   -999.0,9,   -999.0,9,   3.5563
  316N20020530,   108,  1,     27,     27,9,20020621, 66.0068,  -2.6722, 3457,    231.3,   3.2673,  34.9668,2,-999.0000,9,    310.2,2,   -999.0,9,  -999.00,9,  -999.00,9,  -999.00,9,  -999.00,9, -999.000,9, -999.000,9, -999.000,9,        -999,9,   -999.0,9,   -999.0,9,   3.2523
  316N20020530,   108,  1,     26,     26,2,20020621, 66.0068,  -2.6722, 3457,    285.6,   2.8627,  34.9606,2,  34.9633,2,    311.0,2,    310.8,2,     4.89,2,    12.12,2,     0.01,2,     0.82,2,    5.288,2,    2.803,2,    0.437,2,        -999,9,   2140.5,2,   2291.4,2,   2.8450
  316N20020530,   108,  1,     25,     25,2,20020621, 66.0068,  -2.6722, 3457,    325.8,   2.6224,  34.9668,2,  34.9693,2,    310.6,2,    310.8,2,     4.98,2,    12.41,2,     0.01,2,     0.83,2,    5.343,6,    2.792,6,    0.447,6,  2.14688691,2,   -999.0,9,   -999.0,9,   2.6027
  316N20020530,   108,  1,     24,     24,2,20020621, 66.0068,  -2.6722, 3457,    406.5,   1.7206,  34.9260,2,  34.9295,2,    310.0,2,    308.5,2,     5.57,2,    13.10,2,     0.01,2,     0.89,2,    5.352,2,    2.764,2,    0.447,2,        -999,9,   -999.0,9,   -999.0,9,   1.6988
  316N20020530,   108,  1,     23,     23,2,20020621, 66.0068,  -2.6722, 3457,    456.6,   1.2206,  34.9148,2,  34.9179,2,    307.5,2,    307.0,2,     5.96,2,    13.58,2,     0.00,2,     0.91,2,    5.301,2,    2.652,2,    0.438,2,  1.78588789,2,   2162.2,2,   2290.3,2,   1.1978
  316N20020530,   108,  1,     22,     22,2,20020621, 66.0068,  -2.6722, 3457,    526.9,   0.6914,  34.8953,2,  34.8982,2,    304.0,2,    305.2,2,     6.35,2,    13.88,2,     0.00,2,     0.94,2,    5.020,2,    2.504,2,    0.376,2,  1.58097312,2,   2159.8,2,   2278.1,3,   0.6671
  316N20020530,   108,  1,     21,     21,2,20020621, 66.0068,  -2.6722, 3457,    586.9,   0.2722,  34.8875,2,  34.8888,2,    304.8,2,    305.6,2,     6.74,2,    13.97,2,     0.00,2,     0.94,2,    4.752,2,    2.348,2,    0.346,2,  1.48339257,2,   -999.0,9,   -999.0,9,   0.2468
  316N20020530,   108,  1,     20,     20,2,20020621, 66.0068,  -2.6722, 3457,    657.1,  -0.0171,  34.8859,2,  34.8880,2,    305.3,2,    306.1,2,     7.13,2,    13.88,2,     0.00,2,     0.94,2,    4.367,2,    2.135,2,    0.298,2,  1.45411595,2,   -999.0,9,   -999.0,9,  -0.0443
  316N20020530,   108,  1,     19,     19,2,20020621, 66.0068,  -2.6722, 3457,    727.6,  -0.2074,  34.8846,2,  34.8880,0,    304.3,2,    304.3,2,     7.43,2,    14.07,2,     0.00,2,     0.95,2,    4.047,2,    1.938,2,    0.275,2,  1.46387512,2,   2162.1,2,   2284.9,2,  -0.2368
  316N20020530,   108,  1,     18,     18,2,20020621, 66.0068,  -2.6722, 3457,    807.8,  -0.3310,  34.8861,2,  34.8908,0,    304.2,2,    305.1,2,     7.62,2,    14.07,2,     0.00,2,     0.95,2,    3.804,2,    1.851,2,    0.257,2,  1.62977757,2,   -999.0,9,   -999.0,9,  -0.3635
  316N20020530,   108,  1,     17,     17,2,20020621, 66.0068,  -2.6722, 3457,    882.7,  -0.4349,  34.8888,2,  34.8912,0,    303.9,2,    304.8,2,     7.92,2,    14.17,2,     0.00,2,     0.95,2,    3.321,6,    1.652,6,    0.226,6,  1.87375569,2,   2165.4,2,   2286.5,2,  -0.4702
  316N20020530,   108,  1,     16,     16,2,20020621, 66.0068,  -2.6722, 3457,    967.2,  -0.5145,  34.8947,2,  34.8920,2,    302.6,2,    303.2,2,     8.40,2,    14.27,2,     0.00,2,     0.96,2,    3.114,2,    1.483,2,    0.195,2,   2.0591782,2,   -999.0,9,   -999.0,9,  -0.5533
  316N20020530,   108,  1,     15,     15,2,20020621, 66.0068,  -2.6722, 3457,   1066.2,  -0.5827,  34.8980,2,  34.8971,2,    301.6,2,    302.1,2,     8.80,2,    14.37,2,     0.00,2,     0.97,2,    2.723,2,    1.300,2,    0.161,2,   2.2055569,2,   2162.6,2,   2288.3,2,  -0.6258
  316N20020530,   108,  1,     14,     14,2,20020621, 66.0068,  -2.6722, 3457,   1166.1,  -0.6281,  34.9023,2,  34.9014,2,    300.0,2,    299.4,2,     9.28,2,    14.56,2,     0.00,2,     0.98,2,    2.212,2,    1.037,2,    0.116,2,   1.6004875,2,   -999.0,9,   -999.0,9,  -0.6759
  316N20020530,   108,  1,     13,     13,2,20020621, 66.0068,  -2.6722, 3457,   1319.1,  -0.6982,  34.9052,2,  34.9053,2,    298.4,2,    298.1,2,    10.07,2,    14.66,2,     0.00,2,     0.99,2,    1.633,2,    0.747,2,    0.096,2,   0.7709643,2,   2158.6,2,   2289.1,2,  -0.7533
  316N20020530,   108,  1,     12,     12,2,20020621, 66.0068,  -2.6722, 3457,   1471.9,  -0.7491,  34.9076,2,  34.9075,2,    297.5,2,    297.4,2,    10.55,2,    14.76,2,     0.00,2,     1.00,2,    1.257,2,    0.582,2,    0.085,2, 0.400120058,2,   -999.0,9,   -999.0,9,  -0.8120
  316N20020530,   108,  1,     11,     11,2,20020621, 66.0068,  -2.6722, 3457,   1625.5,  -0.7910,  34.9100,2,  34.9071,2,    297.2,2,    297.1,2,    10.95,2,    14.85,2,     0.00,2,     1.00,2,    0.912,2,    0.473,2,    0.057,2, 0.204939603,2,   -999.0,9,   -999.0,9,  -0.8621
  316N20020530,   108,  1,     10,     10,2,20020621, 66.0068,  -2.6722, 3457,   1777.2,  -0.8286,  34.9103,2,  34.9067,0,    297.4,2,    297.4,2,    11.43,2,    14.95,2,     0.00,2,     1.01,2,    0.721,2,    0.364,2,    0.024,2, 0.165903537,2,   -999.0,9,   -999.0,9,  -0.9082
  316N20020530,   108,  1,      9,      9,2,20020621, 66.0068,  -2.6722, 3457,   1989.8,  -0.8559,  34.9103,2,  34.9063,0,    297.6,2,    297.8,2,    11.82,2,    15.05,2,     0.00,2,     1.01,2,    0.614,2,    0.324,2,    0.023,2, 0.146385518,2,   2160.1,2,   2289.6,2,  -0.9483
  316N20020530,   108,  1,      8,      8,2,20020621, 66.0068,  -2.6722, 3457,   2192.2,  -0.8659,  34.9106,2,  34.9059,0,    297.5,2,    297.9,2,    12.02,2,    15.05,2,     0.00,2,     1.01,2, -999.000,9, -999.000,9, -999.000,9,0.0975903742,2,   -999.0,9,   -999.0,9,  -0.9714
  316N20020530,   108,  1,      7,      7,2,20020621, 66.0068,  -2.6722, 3457,   2394.8,  -0.8670,  34.9110,2,  34.9081,2,    297.6,2,    297.9,2,    12.31,2,    15.15,2,     0.00,2,     1.01,2,    0.528,2,    0.275,2,    0.024,2, 0.117108257,2,   -999.0,9,   -999.0,9,  -0.9864
  316N20020530,   108,  1,      6,      6,2,20020621, 66.0068,  -2.6722, 3457,   2597.7,  -0.8644,  34.9115,2,  34.9094,2,    297.3,2,    297.8,2,    12.61,2,    15.25,2,     0.00,2,     1.02,2, -999.000,9, -999.000,9, -999.000,9,        -999,9,   -999.0,9,   -999.0,9,  -0.9985
  316N20020530,   108,  1,      5,      5,2,20020621, 66.0068,  -2.6722, 3457,   2799.6,  -0.8569,  34.9111,2,  34.9083,2,    297.2,2,    297.7,2,    12.80,2,    15.25,2,     0.00,2,     1.02,2,    0.536,2,    0.300,2, -999.000,9,0.0780721599,2,   2162.5,2,   2292.3,2,  -1.0064
  316N20020530,   108,  1,      4,      4,2,20020621, 66.0068,  -2.6722, 3457,   3002.9,  -0.8466,  34.9118,2,  34.9071,0,    297.3,2,    297.3,2,    13.00,2,    15.25,2,     0.00,2,     1.02,2, -999.000,9, -999.000,9, -999.000,9,        -999,9,   -999.0,9,   -999.0,9,  -1.0123
  316N20020530,   108,  1,      3,      3,2,20020621, 66.0068,  -2.6722, 3457,   3206.3,  -0.8333,  34.9112,2,  34.9077,0,    297.3,2,    297.0,2,    13.29,2,    15.34,2,     0.00,2,     1.03,2,    0.340,2,    0.191,2,    0.018,2,0.0878312191,2,   -999.0,9,   -999.0,9,  -1.0160
  316N20020530,   108,  1,      2,      2,2,20020621, 66.0068,  -2.6722, 3457,   3358.7,  -0.8229,  34.9121,2,  34.9073,0,    297.6,2,    297.4,2,    13.39,2,    15.34,2,     0.00,2,     1.03,2,    0.327,2,    0.194,2,    0.018,2,0.0975902725,2,   2165.2,2,   2291.0,2,  -1.0187
  316N20020530,   108,  1,      1,      1,2,20020621, 66.0068,  -2.6722, 3457,   3460.2,  -0.8148,  34.9115,2,  34.9088,2,    297.0,2,    296.7,2,    13.58,2,    15.34,2,     0.00,2,     1.03,2,    0.326,2,    0.191,2,    0.020,2,0.0585540981,2,   2158.0,2,   2291.1,2,  -1.0196
  316N20020530,   109,  1,     30,     30,2,20020622, 66.0083,  -0.9982, 3449,      4.7,  10.4946,  34.9327,2,  34.9308,2,    294.8,2,    295.2,2,     0.98,2,     0.39,2,     0.02,2,     0.11,2,    3.275,4,    1.948,4,    0.282,4,  1.72731761,2,   2053.6,2,   2296.3,2,  10.4940
  316N20020530,   109,  1,     29,     29,2,20020622, 66.0083,  -0.9982, 3449,     23.1,   8.1453,  34.9672,2,  35.0402,2,    303.8,2,    302.7,2,     2.35,2,     5.67,2,     0.12,2,     0.49,2, -999.000,9, -999.000,9, -999.000,9,  1.82475756,2,   -999.0,9,   -999.0,9,   8.1430
  316N20020530,   109,  1,     28,     28,2,20020622, 66.0083,  -0.9982, 3449,     49.8,   5.1765,  35.0369,7,  35.0353,2,    293.8,2,    293.8,2,     5.47,2,    12.70,2,     0.12,2,     0.85,2,    4.047,2,    2.305,2,    0.348,2,        -999,9,   2141.3,2,   2296.1,2,   5.1726
  316N20020530,   109,  1,     27,     27,2,20020622, 66.0083,  -0.9982, 3449,     80.2,   4.3833,  35.0013,2,  35.0011,2,    299.7,2,    302.1,2,     5.18,2,    12.51,2,     0.02,2,     0.84,2,    4.246,2,    2.417,2,    0.364,2,  2.05901097,2,   -999.0,9,   -999.0,9,   4.3775
  316N20020530,   109,  1,     26,     26,2,20020622, 66.0083,  -0.9982, 3449,    110.7,   4.1421,  34.9930,2,  34.9922,2,    304.6,2,    304.3,2,     4.98,2,    12.41,2,     0.02,2,     0.83,2, -999.000,9, -999.000,9, -999.000,9,        -999,9,   2138.0,2,   2292.2,2,   4.1343
  316N20020530,   109,  1,     25,     25,2,20020622, 66.0083,  -0.9982, 3449,    150.3,   3.7951,  34.9805,2,  34.9802,2,    306.1,2,    307.3,2,     4.89,2,    12.22,2,     0.01,2,     0.81,2,    4.898,2,    2.654,2,    0.409,2,   2.1078355,2,   -999.0,9,   -999.0,9,   3.7848
  316N20020530,   109,  1,     24,     24,2,20020622, 66.0083,  -0.9982, 3449,    195.4,   3.5232,  34.9782,2,  34.9793,2,    308.9,2,    308.5,2,     4.79,2,    12.22,2,     0.01,2,     0.81,2, -999.000,9, -999.000,9, -999.000,9,        -999,9,   -999.0,9,   -999.0,9,   3.5102
  316N20020530,   109,  1,     23,     23,2,20020622, 66.0083,  -0.9982, 3449,    240.7,   3.3550,  34.9860,2,  34.9854,2,    309.8,2,    309.1,2,     4.79,2,    12.12,2,     0.01,2,     0.81,2,    4.584,2,    2.568,2,    0.379,2,  2.09806888,2,   2143.0,2,   2292.3,2,   3.3392
  316N20020530,   109,  1,     22,     22,2,20020622, 66.0083,  -0.9982, 3449,    285.3,   2.9152,  34.9746,2,  34.9742,2,    310.7,2,    311.6,2,     4.89,2,    12.31,2,     0.01,2,     0.82,2,    4.531,2,    2.458,2,    0.370,2,   2.1761547,2,   -999.0,9,   -999.0,9,   2.8974
  316N20020530,   109,  1,     21,     21,2,20020622, 66.0083,  -0.9982, 3449,    319.8,   2.6425,  34.9745,2,  34.9707,2,    310.2,2,    309.9,2,     5.08,2,    12.61,2,     0.01,2,     0.84,2,    4.516,2,    2.464,2,    0.362,2,        -999,9,   -999.0,9,   -999.0,9,   2.6232
  316N20020530,   109,  1,     20,     20,2,20020622, 66.0083,  -0.9982, 3449,    385.1,   1.6739,  34.9299,2,  34.9292,2,    307.7,2,    306.9,2,     5.57,2,    13.39,2,     0.01,2,     0.90,2, -999.000,9, -999.000,9, -999.000,9,        -999,9,   2152.5,2,   2288.8,2,   1.6535
  316N20020530,   109,  1,     19,     19,2,20020622, 66.0083,  -0.9982, 3449,    454.4,   0.8354,  34.9037,7,  34.9024,2,    305.6,2,    306.5,2,     6.25,2,    13.88,2,     0.00,2,     0.93,2,    4.441,2,    2.319,2,    0.327,2,  1.69807693,2,   -999.0,9,   -999.0,9,   0.8142
  316N20020530,   109,  1,     18,     18,2,20020622, 66.0083,  -0.9982, 3449,    538.5,   0.3254,  34.8926,2,  34.8938,2,    305.9,2,    305.7,2,     6.65,2,    13.97,2,     0.00,2,     0.94,2,    3.744,2,    2.020,2,    0.269,2,  1.48338705,2,   2159.0,2,   2286.4,2,   0.3021
  316N20020530,   109,  1,     17,     17,2,20020622, 66.0083,  -0.9982, 3449,    654.6,  -0.1363,  34.8898,2,  34.8907,2,    304.3,2,    304.8,2,     7.23,2,    14.07,2,     0.00,2,     0.95,2,    3.327,2,    1.774,2,    0.229,2,  1.40531729,2,   2159.1,2,   2287.1,2,  -0.1628
  316N20020530,   109,  1,     16,     16,2,20020622, 66.0083,  -0.9982, 3449,    755.6,  -0.3068,  34.8905,2,  34.8921,2,    304.1,2,    305.5,2,     7.52,2,    14.17,2,     0.00,2,     0.95,2,    3.205,2,    1.658,2,    0.224,2,  1.57122117,2,   -999.0,9,   -999.0,9,  -0.3370
  316N20020530,   109,  1,     15,     15,2,20020622, 66.0083,  -0.9982, 3449,    857.8,  -0.4584,  34.8934,2,  34.8939,2,    303.6,2,    303.2,2,     8.11,2,    14.37,2,     0.00,2,     0.96,2,    2.748,6,    1.434,6,    0.178,6,  1.91278842,2,   -999.0,9,   -999.0,9,  -0.4924
  316N20020530,   109,  1,     14,     14,2,20020622, 66.0083,  -0.9982, 3449,    933.5,  -0.5240,  34.8957,2,  34.8986,2,    302.2,2,    302.1,2,     8.50,2,    14.37,2,     0.00,2,     0.97,2,    2.417,2,    1.241,2,    0.148,2,  2.02013172,2,   2158.9,2,   2286.6,2,  -0.5611
  316N20020530,   109,  1,     13,     13,2,20020622, 66.0083,  -0.9982, 3449,   1034.9,  -0.5783,  34.8996,2,  34.9014,2,    300.7,2,    299.9,2,     8.89,2,    14.56,2,     0.00,2,     0.98,2,    2.025,2,    1.039,2,    0.111,2,  1.80542797,2,   -999.0,9,   -999.0,9,  -0.6199
  316N20020530,   109,  1,     12,     12,2,20020622, 66.0083,  -0.9982, 3449,   1161.0,  -0.6377,  34.9036,2,  34.9041,2,    299.0,2,    298.4,2,     9.48,2,    14.56,2,     0.00,2,     0.98,2,    1.653,2,    0.842,2,    0.082,2,  1.21012226,2,   2159.0,2,   2286.9,2,  -0.6851
  316N20020530,   109,  1,     11,     11,2,20020622, 66.0083,  -0.9982, 3449,   1311.5,  -0.7025,  34.9066,2,  34.9079,2,    297.9,2,    297.5,2,    10.07,2,    14.76,2,     0.00,2,     0.99,2, -999.000,9, -999.000,9, -999.000,9,  0.57578235,2,   -999.0,9,   -999.0,9,  -0.7572
  316N20020530,   109,  1,     10,     10,2,20020622, 66.0083,  -0.9982, 3449,   1510.7,  -0.7687,  34.9088,2,  34.9091,2,    297.2,2,    297.1,2,    10.75,2,    14.85,2,     0.00,2,     1.00,2,    0.741,2,    0.402,2,    0.028,2, 0.224457326,2,   2158.1,2,   2288.9,2,  -0.8336
  316N20020530,   109,  1,      9,      9,2,20020622, 66.0083,  -0.9982, 3449,   1711.6,  -0.8181,  34.9098,2,  34.9099,2,    297.3,2,    297.5,2,    11.24,2,    14.95,2,     0.00,2,     1.01,2,    0.641,2,    0.349,2,    0.026,2, 0.146385125,2,   -999.0,9,   -999.0,9,  -0.8940
  316N20020530,   109,  1,      8,      8,2,20020622, 66.0083,  -0.9982, 3449,   1911.0,  -0.8492,  34.9107,2,  34.9119,2,    297.6,2,    297.6,2,    11.63,2,    15.05,2,     0.00,2,     1.01,2, -999.000,9, -999.000,9, -999.000,9, 0.117107926,2,   -999.0,9,   -999.0,9,  -0.9368
  316N20020530,   109,  1,      7,      7,2,20020622, 66.0083,  -0.9982, 3449,   2110.7,  -0.8650,  34.9101,2,  34.9103,2,    297.7,2,    298.0,2,    11.73,2,    15.05,2,     0.00,2,     1.01,2,    0.493,2,    0.274,2,    0.023,2, 0.126867071,2,   2157.5,2,   2288.9,2,  -0.9651
  316N20020530,   109,  1,      6,      6,2,20020622, 66.0083,  -0.9982, 3449,   2363.4,  -0.8699,  34.9111,2,  34.9104,2,    297.6,2,    297.5,2,    12.22,2,    15.15,2,     0.00,2,     1.01,2,    0.427,2,    0.236,2,    0.020,2, 0.107349052,2,   -999.0,9,   -999.0,9,  -0.9871
  316N20020530,   109,  1,      5,      5,2,20020622, 66.0083,  -0.9982, 3449,   2613.0,  -0.8663,  34.9114,2,  34.9104,2,    297.5,2,    298.2,2,    12.61,2,    15.25,2,     0.00,2,     1.02,2,    0.391,2,    0.219,2,    0.018,2, 0.107349052,2,   2158.9,2,   2289.9,2,  -1.0015
  316N20020530,   109,  1,      4,      4,2,20020622, 66.0083,  -0.9982, 3449,   2864.7,  -0.8561,  34.9113,2,  34.9098,2,    297.4,2,    297.9,2,    12.90,2,    15.25,2,     0.00,2,     1.02,2,    0.343,2,    0.181,2,    0.015,2,0.0975900908,2,   -999.0,9,   -999.0,9,  -1.0107
  316N20020530,   109,  1,      3,      3,2,20020622, 66.0083,  -0.9982, 3449,   3121.2,  -0.8405,  34.9127,2,  34.9098,2,    297.3,2,    297.5,2,    13.19,2,    15.34,2,     0.00,2,     1.03,2,    0.315,2,    0.181,2,    0.013,2,0.0683130636,2,   -999.0,9,   -999.0,9,  -1.0160
  316N20020530,   109,  1,      2,      2,2,20020622, 66.0083,  -0.9982, 3449,   3348.8,  -0.8234,  34.9120,2,  34.9093,2,    297.3,2,    297.0,2,    13.49,2,    15.34,2,     0.00,2,     1.03,2,    0.301,2,    0.173,2,    0.012,2,0.0585540763,2,   2160.1,2,   2291.6,2,  -1.0184
  316N20020530,   109,  1,      1,      1,2,20020622, 66.0083,  -0.9982, 3449,   3452.7,  -0.8152,  34.9118,2,  34.9097,2,    297.3,2,    297.3,2,    13.49,2,    15.34,2,     0.00,2,     1.03,2,    0.289,2,    0.165,2,    0.014,2,0.0487950491,2,   2159.1,2,   2291.5,2,  -1.0194