BOTTLE,20081218PRINUNIVRMK
EXPOCODE,STNNBR,CASTNO,SAMPNO,BTLNBR,BTLNBR_FLAG_W,DATE,LATITUDE,LONGITUDE,DEPTH,CTDPRS,CTDTMP,CTDSAL,CTDSAL_FLAG_W,SALNTY,SALNTY_FLAG_W,CTDOXY,CTDOXY_FLAG_W,OXYGEN,OXYGEN_FLAG_W,SILCAT,SILCAT_FLAG_W,NITRAT,NITRAT_FLAG_W,NITRIT,NITRIT_FLAG_W,PHSPHT,PHSPHT_FLAG_W,CFC-11,CFC-11_FLAG_W,CFC-12,CFC-12_FLAG_W,CFC113,CFC113_FLAG_W,SF6,SF6_FLAG_W,TCARBN,TCARBN_FLAG_W,ALKALI,ALKALI_FLAG_W,THETA
,,,,,,,,,METERS,DBARS,ITS-90,PSS-78,,PSS-78,,UMOL/KG,,UMOL/KG,,UMOL/KG,,UMOL/KG,,UMOL/KG,,UMOL/KG,,PMOL/KG,,PMOL/KG,,PMOL/KG,,FMOL/KG,,UMOL/KG,,UMOL/KG,,DEGC
  316N20020530,   130,  1,     29,     29,2,20020626, 63.4387,  -4.3688, 2583,      3.7,  10.1834,  35.1337,2,  35.1340,2,    292.0,2,    294.1,2,     0.98,2,     5.18,2,     0.10,2,     0.43,2,    3.823,2,    2.113,2,    0.315,2,  1.75632849,2,   2079.4,2,   2299.8,2,  10.1830
  316N20020530,   130,  1,     28,     28,2,20020626, 63.4387,  -4.3688, 2583,     28.1,  10.1715,  35.1462,2,  35.1445,2,    293.1,2,    294.1,2,     1.17,2,     5.47,2,     0.11,2,     0.45,2, -999.000,9, -999.000,9, -999.000,9,        -999,9,   2081.2,2,   2305.2,2,  10.1682
  316N20020530,   130,  1,     27,     27,2,20020626, 63.4387,  -4.3688, 2583,     52.6,   7.9775,  35.2203,2,  35.2199,2,    279.5,2,    279.2,2,     5.47,2,    12.51,2,     0.50,2,     0.85,2,    4.009,2,    2.146,2,    0.324,2,  1.78548646,2,   -999.0,9,   -999.0,9,   7.9722
  316N20020530,   130,  1,     26,     26,2,20020626, 63.4387,  -4.3688, 2583,     87.6,   7.5246,  35.2196,2,  35.2189,2,    277.0,2,    276.7,2,     6.06,2,    13.97,3,     0.02,2,     0.89,2, -999.000,9, -999.000,9, -999.000,9,        -999,9,   -999.0,9,   -999.0,9,   7.5161
  316N20020530,   130,  1,     25,     25,2,20020626, 63.4387,  -4.3688, 2583,    118.2,   7.2860,  35.2071,2,  35.2073,2,    279.2,2,    278.1,2,     6.16,2,    14.07,3,     0.01,2,     0.90,2,    3.983,2,    2.165,2,    0.320,2,        -999,9,   2143.7,2,   2304.5,2,   7.2747
  316N20020530,   130,  1,     24,     24,2,20020626, 63.4387,  -4.3688, 2583,    146.5,   7.0121,  35.1911,2,  35.1893,2,    280.5,2,    278.8,2,     6.25,2,    14.07,3,     0.01,2,     0.90,2,    4.008,2,    2.162,2,    0.320,2,   1.7562562,2,   -999.0,9,   -999.0,9,   6.9984
  316N20020530,   130,  1,     23,     23,2,20020626, 63.4387,  -4.3688, 2583,    192.5,   5.3208,  35.0288,2,  35.0196,2,    287.7,2,    293.0,2,     5.37,2,    13.09,2,     0.19,2,     0.86,2, -999.000,9, -999.000,9, -999.000,9,        -999,9,   2140.5,2,   2295.4,2,   5.3053
  316N20020530,   130,  1,     22,     22,2,20020626, 63.4387,  -4.3688, 2583,    236.5,   3.7926,  34.9633,2,  34.9659,2,    305.0,2,    299.0,2,     6.25,2,    13.49,2,     0.02,2,     0.89,2,    4.689,2,    2.422,2,    0.378,2,  1.99075472,2,   -999.0,9,   -999.0,9,   3.7763
  316N20020530,   130,  1,     21,     21,2,20020626, 63.4387,  -4.3688, 2583,    262.5,   2.5115,  34.9147,2,  34.9126,2,    312.1,2,    306.7,2,     5.96,2,    13.00,2,     0.06,2,     0.88,2, -999.000,9, -999.000,9, -999.000,9,        -999,9,   -999.0,9,   -999.0,9,   2.4961
  316N20020530,   130,  1,     20,     20,2,20020626, 63.4387,  -4.3688, 2583,    286.0,   1.1518,  34.8364,2,  34.8374,2,    321.3,2,    317.1,2,     5.67,2,    12.90,2,     0.02,2,     0.87,2,    5.389,2,    2.741,2,    0.452,2,  2.17637632,2,   -999.0,9,   -999.0,9,   1.1381
  316N20020530,   130,  1,     19,     19,2,20020626, 63.4387,  -4.3688, 2583,    315.7,   1.4133,  34.8942,2,  34.8968,2,    318.9,2,    320.9,2,     4.89,2,    12.41,2,     0.04,2,     0.83,2,    5.658,2,    2.917,2,    0.485,2,        -999,9,   2148.7,2,   2289.1,2,   1.3974
  316N20020530,   130,  1,     18,     18,2,20020626, 63.4387,  -4.3688, 2583,    348.3,   1.7997,  34.9633,2,  34.9643,2,    316.9,2,    317.0,2,     5.08,2,    12.80,2,     0.02,2,     0.85,2,    5.506,2,    2.850,2,    0.460,2,  2.15665351,2,   -999.0,9,   -999.0,9,   1.7810
  316N20020530,   130,  1,     17,     17,2,20020626, 63.4387,  -4.3688, 2583,    385.9,   1.6291,  34.9614,2,  34.9617,2,    317.2,2,    316.7,2,     5.18,2,    12.90,2,     0.01,2,     0.86,2, -999.000,9, -999.000,9, -999.000,9,        -999,9,   2151.4,2,   2294.6,2,   1.6087
  316N20020530,   130,  1,     16,     16,2,20020626, 63.4387,  -4.3688, 2583,    427.7,   1.4936,  34.9594,2,  34.9599,2,    319.2,2,    317.3,2,     5.37,2,    12.90,2,     0.01,2,     0.86,2,    5.409,2,    2.786,2,    0.453,2,   2.0981087,2,   -999.0,9,   -999.0,9,   1.4714
  316N20020530,   130,  1,     15,     15,2,20020626, 63.4387,  -4.3688, 2583,    534.7,   0.5247,  34.9076,2,  34.9070,2,    313.6,2,    312.7,2,     6.16,2,    13.58,2,     0.01,2,     0.91,2,    4.952,6,    2.480,6,    0.378,6,  1.76638433,2,   2157.3,2,   2289.2,2,   0.5007
  316N20020530,   130,  1,     14,     14,2,20020626, 63.4387,  -4.3688, 2583,    642.2,   0.0621,  34.8946,7,  34.8946,2,    309.9,2,    308.9,2,     6.84,2,    13.88,2,     0.00,2,     0.93,2,    4.380,2,    2.167,2,    0.325,2,  1.59073648,2,   -999.0,9,   -999.0,9,   0.0352
  316N20020530,   130,  1,     13,     13,2,20020626, 63.4387,  -4.3688, 2583,    738.0,  -0.2280,  34.8928,2,  34.8936,2,    307.8,2,    307.7,2,     7.23,2,    14.07,2,     0.00,2,     0.94,2,    3.987,2,    1.925,2,    0.273,2,  1.77616107,2,   2160.5,2,   2286.9,2,  -0.2578
  316N20020530,   130,  1,     12,     12,2,20020626, 63.4387,  -4.3688, 2583,    839.0,  -0.3955,  34.8934,7,  34.8946,2,    307.1,2,    307.5,2,     7.72,2,    14.27,2,     0.00,2,     0.95,2,    3.640,2,    1.776,2,    0.239,2,  2.33242956,2,   -999.0,9,   -999.0,9,  -0.4290
  316N20020530,   130,  1,     11,     11,2,20020626, 63.4387,  -4.3688, 2583,    939.5,  -0.5344,  34.8954,2,  34.8949,2,    305.7,2,    306.1,2,     8.21,2,    14.37,2,     0.00,2,     0.96,2,    3.245,2,    1.556,2,    0.207,2,  2.87893961,2,   2159.0,2,   2289.0,2,  -0.5717
  316N20020530,   130,  1,     10,     10,2,20020626, 63.4387,  -4.3688, 2583,   1037.5,  -0.6056,  34.8973,2,  34.8963,2,    305.0,2,    304.9,2,     8.60,2,    14.46,2,     0.00,2,     0.97,2,    2.855,2,    1.383,2,    0.179,2,  2.87893661,2,   -999.0,9,   -999.0,9,  -0.6471
  316N20020530,   130,  1,      9,      9,2,20020626, 63.4387,  -4.3688, 2583,   1136.2,  -0.6667,  34.9007,2,  34.9002,2,    303.3,2,    304.2,2,     9.19,2,    14.66,2,     0.00,2,     0.98,2,    2.477,6,    1.207,6,    0.166,6,   2.6251922,2,   -999.0,9,   -999.0,9,  -0.7126
  316N20020530,   130,  1,      8,      8,2,20020626, 63.4387,  -4.3688, 2583,   1236.3,  -0.7002,  34.9031,2,  34.9028,2,    301.3,2,    301.9,2,     9.67,2,    14.76,2,     0.00,2,     0.98,2,    2.060,2,    1.001,2,    0.132,2,  1.93229387,2,   2160.2,2,   2290.6,2,  -0.7509
  316N20020530,   130,  1,      7,      7,2,20020626, 63.4387,  -4.3688, 2583,   1385.3,  -0.7436,  34.9074,2,  34.9077,2,    299.5,2,    299.6,2,    10.26,2,    15.05,2,     0.00,2,     1.00,2,    1.505,2,    0.726,2,    0.076,2, 0.946625361,2,   -999.0,9,   -999.0,9,  -0.8018
  316N20020530,   130,  1,      6,      6,2,20020626, 63.4387,  -4.3688, 2583,   1585.7,  -0.7995,  34.9100,7,  34.9112,2,    298.1,2,    298.6,2,    11.04,2,    15.05,2,     0.00,2,     1.00,2,    1.061,2,    0.514,2,    0.049,2, 0.429395952,2,   -999.0,9,   -999.0,9,  -0.8682
  316N20020530,   130,  1,      5,      5,2,20020626, 63.4387,  -4.3688, 2583,   1781.3,  -0.8401,  34.9110,2,  34.9114,2,    298.1,2,    298.2,2,    11.53,2,    15.34,2,     0.00,2,     1.01,2,    0.838,2,    0.422,2,    0.039,2, 0.214697944,2,   2159.5,2,   2291.9,2,  -0.9198
  316N20020530,   130,  1,      4,      4,2,20020626, 63.4387,  -4.3688, 2583,   1983.7,  -0.8553,  34.9115,2,  34.9112,2,    298.0,2,    297.9,2,    11.82,2,    15.05,2,     0.00,2,     1.01,2,    0.707,2,    0.364,2,    0.028,2, 0.165902982,2,   -999.0,9,   -999.0,9,  -0.9474
  316N20020530,   130,  1,      3,      3,2,20020626, 63.4387,  -4.3688, 2583,   2186.8,  -0.8596,  34.9114,2,  34.9112,2,    297.9,2,    360.0,4,    12.12,2,    15.15,2,     0.00,2,     1.01,2,    0.663,2,    0.341,2,    0.024,2, 0.136625985,2,   2156.8,2,   2292.3,2,  -0.9649
  316N20020530,   130,  1,      2,      2,2,20020626, 63.4387,  -4.3688, 2583,   2394.3,  -0.8496,  34.9116,2,  34.9108,2,    297.8,2,    298.0,2,    12.22,2,    15.15,2,     0.00,2,     1.00,2,    0.637,2,    0.325,2,    0.018,2, 0.165903031,2,   2153.7,3,   2293.0,2,  -0.9693
  316N20020530,   130,  1,      1,      1,2,20020626, 63.4387,  -4.3688, 2583,   2557.9,  -0.8439,  34.9122,2,  34.9090,2,    297.5,2,    297.7,2,    12.51,2,    15.44,2,     0.00,2,     1.02,2,    0.609,2,    0.310,2,    0.015,2, 0.136626209,2,   2158.1,2,   2292.3,2,  -0.9755
  316N20020530,   131,  1,     27,     27,2,20020626, 63.1652,  -4.8157, 2447,      3.2,   9.7465,  35.0861,7,  35.0861,2,    307.3,2,    306.9,2,     1.17,2,     2.83,2,     0.09,2,     0.30,2,    3.912,2,    2.149,2,    0.349,2,  1.80517976,2,   2067.8,2,   2321.0,2,   9.7461
  316N20020530,   131,  1,     26,     26,2,20020626, 63.1652,  -4.8157, 2447,     24.1,   9.3307,  35.0825,7,  35.0785,2,    306.7,2,    306.9,2,     1.76,2,     3.81,2,     0.11,2,     0.38,2, -999.000,9, -999.000,9, -999.000,9,        -999,9,   2077.1,2,   2320.8,2,   9.3280
  316N20020530,   131,  1,     25,     25,2,20020626, 63.1652,  -4.8157, 2447,     39.3,   7.6444,  35.0818,7,  35.0806,2,    298.0,2,    298.3,2,     3.52,2,     8.40,2,     0.22,2,     0.65,2,    4.195,2,    2.305,2,    0.362,2,   1.8832493,2,   -999.0,9,   -999.0,9,   7.6406
  316N20020530,   131,  1,     24,     24,2,20020626, 63.1652,  -4.8157, 2447,     59.3,   6.0227,  35.0575,2,  35.0462,2,    292.6,2,    292.2,2,     5.08,2,    11.92,2,     0.35,2,     0.84,2,    4.497,2,    2.398,2,    0.395,2,        -999,9,   -999.0,9,   -999.0,9,   6.0176
  316N20020530,   131,  1,     23,     23,2,20020626, 63.1652,  -4.8157, 2447,     84.1,   5.5188,  35.0393,2,  35.0312,2,    299.1,2,    292.9,2,     5.37,2,    12.70,2,     0.21,2,     0.86,2, -999.000,9, -999.000,9, -999.000,9,        -999,9,   2142.5,2,   2311.4,2,   5.5119
  316N20020530,   131,  1,     22,     22,2,20020626, 63.1652,  -4.8157, 2447,    109.3,   4.6266,  34.9737,2,  34.9702,2,    300.3,2,    301.8,2,     4.89,2,    12.22,2,     0.20,2,     0.84,2,    4.727,2,    2.504,2,    0.409,2,  2.02978262,2,   2145.2,2,   2310.1,2,   4.6184
  316N20020530,   131,  1,     21,     21,2,20020626, 63.1652,  -4.8157, 2447,    145.2,   3.4164,  34.9039,2,  34.9004,2,    308.6,2,    308.9,2,     5.08,2,    12.22,2,     0.15,2,     0.84,2, -999.000,9, -999.000,9, -999.000,9,        -999,9,   2145.6,2,   2301.5,2,   3.4069
  316N20020530,   131,  1,     20,     20,2,20020626, 63.1652,  -4.8157, 2447,    179.9,   2.3525,  34.8597,2,  34.8593,2,    312.7,2,    312.5,2,     5.47,2,    12.61,2,     0.10,2,     0.85,2,    5.074,2,    2.690,2,    0.461,2,        -999,9,   -999.0,9,   -999.0,9,   2.3423
  316N20020530,   131,  1,     19,     19,2,20020626, 63.1652,  -4.8157, 2447,    220.3,   1.6615,  34.8603,2,  34.8628,2,    314.2,2,    315.3,2,     5.67,2,    12.70,2,     0.07,2,     0.86,2,    5.260,2,    2.704,2,    0.453,2,  2.15681647,2,   -999.0,9,   -999.0,9,   1.6502
  316N20020530,   131,  1,     18,     18,2,20020626, 63.1652,  -4.8157, 2447,    265.7,   1.1398,  34.8711,2,  34.8740,2,    314.3,2,    314.4,2,     5.96,2,    13.10,2,     0.02,2,     0.88,2, -999.000,9, -999.000,9, -999.000,9,        -999,9,   2156.6,2,   2303.7,2,   1.1272
  316N20020530,   131,  1,     17,     17,2,20020626, 63.1652,  -4.8157, 2447,    315.4,   0.7435,  34.8813,2,  34.8827,2,    315.3,2,    314.5,2,     5.96,2,    13.29,2,     0.01,2,     0.89,2,    4.937,2,    2.544,2,    0.419,2,  2.02015563,2,   2158.2,2,   2297.2,2,   0.7294
  316N20020530,   131,  1,     16,     16,2,20020626, 63.1652,  -4.8157, 2447,    405.5,   0.1056,  34.8892,2,  34.8896,2,    306.6,2,    305.9,2,     7.62,2,    14.07,2,     0.01,2,     0.94,2,    4.033,2,    1.992,2,    0.314,2,   1.9225537,2,   -999.0,9,   -999.0,9,   0.0893
  316N20020530,   131,  1,     15,     15,2,20020626, 63.1652,  -4.8157, 2447,    475.4,  -0.2892,  34.8878,2,  34.8900,2,    305.7,2,    305.4,2,     8.01,2,    14.17,2,     0.00,2,     0.95,2,    3.727,6,    1.819,6,    0.264,6,  1.96158974,2,   2163.8,2,   2295.6,2,  -0.3070
  316N20020530,   131,  1,     14,     14,2,20020626, 63.1652,  -4.8157, 2447,    574.8,  -0.4281,  34.8903,2,  34.8931,2,    307.2,2,    306.7,2,     7.92,2,    14.17,2,     0.00,2,     0.95,2,    3.539,2,    1.743,2,    0.272,2,  2.23484086,2,   2163.1,2,   2296.4,2,  -0.4495
  316N20020530,   131,  1,     13,     13,2,20020626, 63.1652,  -4.8157, 2447,    674.2,  -0.5082,  34.8926,2,  34.8937,2,    306.4,2,    306.7,2,     8.21,2,    14.27,2,     0.00,2,     0.95,2,    3.270,2,    1.597,2,    0.242,2,  2.51785452,2,   -999.0,9,   -999.0,9,  -0.5335
  316N20020530,   131,  1,     12,     12,2,20020626, 63.1652,  -4.8157, 2447,    753.7,  -0.5715,  34.8947,2,  34.8977,2,    305.7,2,    305.4,2,     8.60,2,    14.37,2,     0.00,2,     0.96,2,    2.936,2,    1.455,2,    0.226,2,  2.77158354,2,   -999.0,9,   -999.0,9,  -0.5999
  316N20020530,   131,  1,     11,     11,2,20020626, 63.1652,  -4.8157, 2447,    834.8,  -0.6162,  34.8962,2,  34.8981,2,    304.7,2,    304.1,2,     8.80,2,    14.37,2,     0.00,2,     0.97,2,    2.751,2,    1.364,2,    0.189,2,  2.78134181,2,   2160.9,2,   2300.4,2,  -0.6480
  316N20020530,   131,  1,     10,     10,2,20020626, 63.1652,  -4.8157, 2447,    934.9,  -0.6583,  34.8998,7,  34.9016,2,    303.8,2,    303.5,2,     9.19,2,    14.46,2,     0.00,2,     0.97,2,    2.427,2,    1.184,2,    0.170,2,  2.43976716,2,   -999.0,9,   -999.0,9,  -0.6944
  316N20020530,   131,  1,      9,      9,2,20020626, 63.1652,  -4.8157, 2447,   1055.8,  -0.6993,  34.9017,2,  34.9034,2,    302.5,2,    302.7,2,     9.48,2,    14.56,2,     0.00,2,     0.98,2,    2.088,2,    1.025,2,    0.140,2,  2.06891978,2,   2160.5,2,   2300.2,2,  -0.7409
  316N20020530,   131,  1,      8,      8,2,20020626, 63.1652,  -4.8157, 2447,   1153.9,  -0.7205,  34.9041,2,  34.9065,2,    300.7,2,    300.4,2,     9.87,2,    14.76,2,     0.00,2,     0.99,2,    1.679,2,    0.822,2,    0.108,2,  1.13204783,2,   -999.0,9,   -999.0,9,  -0.7668
  316N20020530,   131,  1,      7,      7,2,20020626, 63.1652,  -4.8157, 2447,   1302.9,  -0.7631,  34.9072,2,  34.9085,2,    299.6,2,    300.6,2,    10.26,2,    14.76,2,     0.00,2,     0.99,2,    1.427,2,    0.725,2,    0.086,2, 0.917347742,2,   -999.0,9,   -999.0,9,  -0.8167
  316N20020530,   131,  1,      6,      6,2,20020626, 63.1652,  -4.8157, 2447,   1501.8,  -0.7978,  34.9089,2,  34.9105,2,    298.9,2,    299.6,2,    10.85,2,    14.95,2,     0.00,2,     1.00,2,    1.118,2,    0.550,2,    0.064,2, 0.448914184,2,   2160.2,2,   2302.9,2,  -0.8618
  316N20020530,   131,  1,      5,      5,2,20020626, 63.1652,  -4.8157, 2447,   1703.6,  -0.8361,  34.9106,2,  34.9112,2,    298.7,2,    299.0,2,    11.24,2,    15.05,2,     0.00,2,     1.01,2,    0.875,2,    0.434,2,    0.048,2,  0.27325197,2,   -999.0,9,   -999.0,9,  -0.9112
  316N20020530,   131,  1,      4,      4,2,20020626, 63.1652,  -4.8157, 2447,   1908.2,  -0.8571,  34.9107,2,  34.9107,2,    298.7,2,    298.4,2,    11.73,2,    15.15,2,     0.00,2,     1.01,2, -999.000,9, -999.000,9, -999.000,9, 0.165903043,2,   2160.4,2,   2303.3,2,  -0.9444
  316N20020530,   131,  1,      3,      3,2,20020626, 63.1652,  -4.8157, 2447,   2108.9,  -0.8646,  34.9101,2,  34.9118,2,    298.5,2,    298.5,2,    12.02,2,    15.25,2,     0.00,2,     1.01,2,    0.683,2,    0.345,2,    0.031,2, 0.165902907,2,   2147.6,3,   2302.1,2,  -0.9646
  316N20020530,   131,  1,      2,      2,2,20020626, 63.1652,  -4.8157, 2447,   2311.9,  -0.8570,  34.9109,2,  34.9109,2,    298.3,2,    297.8,2,    12.31,2,    15.25,2,     0.00,2,     1.02,2,    0.647,2,    0.332,2,    0.031,2, 0.146385016,2,   2161.1,2,   2303.8,2,  -0.9709
  316N20020530,   131,  1,      1,      1,2,20020626, 63.1652,  -4.8157, 2447,   2422.7,  -0.8556,  34.9112,2,  34.9116,2,    297.6,2,    297.9,2,    12.41,2,    15.34,2,     0.00,2,     1.02,2,    0.616,2,    0.316,2,    0.029,2, 0.107348956,2,   2160.7,2,   2301.1,2,  -0.9772