BOTTLE,20081218PRINUNIVRMK
EXPOCODE,STNNBR,CASTNO,SAMPNO,BTLNBR,BTLNBR_FLAG_W,DATE,LATITUDE,LONGITUDE,DEPTH,CTDPRS,CTDTMP,CTDSAL,CTDSAL_FLAG_W,SALNTY,SALNTY_FLAG_W,CTDOXY,CTDOXY_FLAG_W,OXYGEN,OXYGEN_FLAG_W,SILCAT,SILCAT_FLAG_W,NITRAT,NITRAT_FLAG_W,NITRIT,NITRIT_FLAG_W,PHSPHT,PHSPHT_FLAG_W,CFC-11,CFC-11_FLAG_W,CFC-12,CFC-12_FLAG_W,CFC113,CFC113_FLAG_W,SF6,SF6_FLAG_W,TCARBN,TCARBN_FLAG_W,ALKALI,ALKALI_FLAG_W,THETA
,,,,,,,,,METERS,DBARS,ITS-90,PSS-78,,PSS-78,,UMOL/KG,,UMOL/KG,,UMOL/KG,,UMOL/KG,,UMOL/KG,,UMOL/KG,,PMOL/KG,,PMOL/KG,,PMOL/KG,,FMOL/KG,,UMOL/KG,,UMOL/KG,,DEGC
  316N20020530,    49,  1,     19,     19,3,20020611, 75.3292,  15.0178,  315,      2.4,   6.6174,  35.0368,2,  35.0356,2,    332.8,2,   -999.0,9,     2.35,2,     5.28,2,     0.10,2,     0.39,2,    4.368,6,    2.441,6,    0.386,6,        -999,9,   2106.7,2,   2321.5,2,   6.6172
  316N20020530,    49,  1,     17,     17,2,20020611, 75.3292,  15.0178,  315,     28.1,   6.6086,  35.0385,2,  35.0401,2,    334.4,2,   -999.0,9,     2.44,2,     5.67,2,     0.10,2,     0.43,2,    4.259,2,    2.386,2,    0.379,2,        -999,9,   2109.2,2,   2319.8,2,   6.6061
  316N20020530,    49,  1,     15,     15,2,20020611, 75.3292,  15.0178,  315,     62.8,   6.1232,  35.0726,2,  35.0700,2,    306.0,2,   -999.0,9,     2.83,2,     8.40,2,     0.12,2,     0.64,2,    4.256,2,    2.423,2,    0.364,2,  1.68810725,2,   2127.3,2,   2317.6,2,   6.1178
  316N20020530,    49,  1,     13,     13,2,20020611, 75.3292,  15.0178,  315,    103.2,   5.6656,  35.0918,7,  35.0965,2,    303.2,2,   -999.0,9,     3.42,2,    10.55,2,     0.09,2,     0.73,2,    4.295,2,    2.382,2,    0.366,2,        -999,9,   2135.6,2,   2316.9,2,   5.6570
  316N20020530,    49,  1,     11,     11,2,20020611, 75.3292,  15.0178,  315,    132.7,   5.6026,  35.1227,2,  35.1217,2,    302.0,2,   -999.0,9,     4.30,2,    11.92,2,     0.07,2,     0.80,2,    4.365,2,    2.412,2,    0.362,2,  1.67828481,2,   -999.0,9,   -999.0,9,   5.5916
  316N20020530,    49,  1,      9,      9,2,20020611, 75.3292,  15.0178,  315,    168.4,   5.3370,  35.1166,7,  35.1160,2,    303.7,2,   -999.0,9,     4.40,2,    12.02,2,     0.08,2,     0.80,2,    4.367,2,    2.394,2,    0.367,2,        -999,9,   2143.5,2,   2314.8,2,   5.3234
  316N20020530,    49,  1,      7,      7,2,20020611, 75.3292,  15.0178,  315,    202.2,   4.8382,  35.0875,2,  35.0847,2,    313.9,2,   -999.0,9,     3.32,2,    10.55,2,     0.10,2,     0.75,2,    4.538,2,    2.546,2,    0.397,2,  1.75639295,2,   -999.0,9,   -999.0,9,   4.8226
  316N20020530,    49,  1,      5,      5,2,20020611, 75.3292,  15.0178,  315,    236.7,   4.0744,  35.0442,2,  35.0442,2,    312.8,2,   -999.0,9,     4.30,2,    11.43,2,     0.15,2,     0.79,2,    4.695,6,    2.588,6,    0.394,6,        -999,9,   2142.8,2,   2311.2,2,   4.0575
  316N20020530,    49,  1,      3,      3,2,20020611, 75.3292,  15.0178,  315,    270.0,   3.5175,  35.0285,7,  35.0271,2,    315.6,2,   -999.0,9,     4.69,2,    11.53,2,     0.13,2,     0.80,2,    4.797,2,    2.654,2,    0.414,2,  1.82477536,2,   2147.2,2,   2309.7,2,   3.4994
  316N20020530,    49,  1,      1,      1,2,20020611, 75.3292,  15.0178,  315,    308.9,   3.3786,  35.0043,2,  35.0049,2,    312.3,2,   -999.0,9,     4.79,2,    11.34,2,     0.15,2,     0.79,2,    4.931,2,    2.655,2,    0.427,2,  1.79553056,2,   2142.6,2,   2309.1,2,   3.3581
  316N20020530,    50,  1,     23,     23,2,20020611, 76.0982,  15.9798,  396,      2.7,   5.2181,  34.8544,2,  34.8572,2,    357.0,2,   -999.0,9,     1.27,2,     2.93,2,     0.07,2,     0.27,2,    4.803,2,    2.634,2,    0.440,2,  1.83476555,2,   2075.8,2,   2308.0,2,   5.2179
  316N20020530,    50,  1,     21,     21,2,20020611, 76.0982,  15.9798,  396,     22.5,   5.5287,  34.9345,2,  34.9375,2,    348.6,2,   -999.0,9,     1.56,2,     4.30,2,     0.08,2,     0.36,2,    4.726,2,    2.596,2,    0.422,2,   1.7370678,2,   -999.0,9,   -999.0,9,   5.5269
  316N20020530,    50,  1,     19,     19,2,20020611, 76.0982,  15.9798,  396,     42.5,   4.7812,  34.9479,7,  34.9564,2,    325.9,2,   -999.0,9,     1.27,2,     7.13,2,     0.10,2,     0.57,2,    4.760,2,    2.595,2,    0.425,2,  1.81511272,2,   2112.6,2,   2311.9,2,   4.7780
  316N20020530,    50,  1,     17,     17,2,20020611, 76.0982,  15.9798,  396,     82.7,   4.9746,  35.0477,2,  35.0479,2,    310.7,2,   -999.0,9,     2.93,2,    10.06,2,     0.12,2,     0.73,2,    4.635,2,    2.561,2,    0.389,2,        -999,9,   -999.0,9,   -999.0,9,   4.9682
  316N20020530,    50,  1,     15,     15,2,20020611, 76.0982,  15.9798,  396,    122.9,   4.7318,  35.0722,2,  35.0721,2,    310.6,2,   -999.0,9,     4.01,2,    11.14,2,     0.10,2,     0.77,2,    4.648,2,    2.556,2,    0.390,2,   1.7173781,2,   2139.8,2,   2304.6,2,   4.7225
  316N20020530,    50,  1,     13,     13,2,20020611, 76.0982,  15.9798,  396,    158.4,   4.4748,  35.0719,2,  35.0692,2,    312.0,2,   -999.0,9,     4.59,2,    11.53,2,     0.11,2,     0.78,2,    4.731,2,    2.589,2,    0.410,2,  1.72713966,2,   -999.0,9,   -999.0,9,   4.4631
  316N20020530,    50,  1,     11,     11,2,20020611, 76.0982,  15.9798,  396,    193.1,   4.1329,  35.0428,2,  35.0399,2,    314.4,2,   -999.0,9,     4.59,2,    11.34,2,     0.14,2,     0.77,2,    4.828,6,    2.630,6,    0.430,6,   1.8149999,2,   2139.1,2,   2314.0,2,   4.1191
  316N20020530,    50,  1,      9,      9,2,20020611, 76.0982,  15.9798,  396,    227.8,   3.8295,  35.0311,2,  35.0310,2,    315.9,2,   -999.0,9,     4.59,2,    11.53,2,     0.13,2,     0.78,2,    4.889,2,    2.679,2,    0.426,2,  1.84428632,2,   -999.0,9,   -999.0,9,   3.8137
  316N20020530,    50,  1,      7,      7,2,20020611, 76.0982,  15.9798,  396,    268.7,   3.3890,  35.0198,2,  35.0179,2,    315.0,2,   -999.0,9,     4.69,2,    11.63,2,     0.11,2,     0.78,2,    5.005,2,    2.717,2,    0.435,2,  1.82478785,2,   2144.4,2,   2308.3,2,   3.3712
  316N20020530,    50,  1,      5,      5,2,20020611, 76.0982,  15.9798,  396,    318.7,  -0.3118,  35.0352,7,  35.0379,2,    323.5,2,   -999.0,9,     4.30,2,     9.87,2,     0.07,2,     0.71,2,    6.154,2,    3.255,2,    0.584,2,  2.12726112,2,   2170.9,2,   2312.9,2,  -0.3233
  316N20020530,    50,  1,      3,      3,2,20020611, 76.0982,  15.9798,  396,    353.8,  -1.0526,  35.1060,2,  35.1093,2,    324.5,2,   -999.0,9,     4.59,2,     9.48,2,     0.08,2,     0.71,2,    6.324,6,    3.375,6,    0.583,6,  2.22472366,2,   2183.0,2,   2317.9,2,  -1.0633
  316N20020530,    50,  1,      1,      1,2,20020611, 76.0982,  15.9798,  396,    387.8,  -1.1186,  35.1150,2,  35.1181,2,    323.1,2,   -999.0,9,     4.59,2,     9.48,2,     0.09,2,     0.70,2,    6.385,2,    3.472,2,    0.616,2,  2.22470909,2,   2183.6,2,   2327.0,3,  -1.1303
  316N20020530,    51,  1,      9,      9,2,20020611, 75.8655,  16.8337,  328,    163.0,   4.1426,  35.0464,2,  35.0449,2,    310.9,2,   -999.0,9,     4.49,2,    11.24,2,     0.13,2,     0.76,2,    4.743,6,    2.595,6,    0.407,6,  1.81499315,2,   2139.0,2,   2317.0,2,   4.1310
  316N20020530,    51,  1,      7,      7,2,20020611, 75.8655,  16.8337,  328,    213.1,   3.9071,  35.0520,2,  35.0490,2,    310.6,2,   -999.0,9,     5.08,2,    11.82,2,     0.11,2,     0.78,2,    4.704,2,    2.569,2,    0.383,2,  1.80522961,2,   2142.6,2,   2313.8,2,   3.8922
  316N20020530,    51,  1,      5,      5,2,20020611, 75.8655,  16.8337,  328,    253.1,   3.4850,  35.0261,2,  35.0213,2,    312.9,2,   -999.0,9,     5.37,2,    11.82,2,     0.15,2,     0.80,2,    4.869,2,    2.664,2,    0.398,2,  1.78575044,2,   2146.3,2,   2312.3,2,   3.4681
  316N20020530,    51,  1,      3,      3,2,20020611, 75.8655,  16.8337,  328,    293.3,   3.3033,  35.0392,7,  35.0395,2,    309.5,2,   -999.0,9,     5.67,2,    12.12,2,     0.09,2,     0.82,2,    4.818,2,    2.627,2,    0.397,2,  1.75645204,2,   2147.9,2,   2313.9,2,   3.2840
  316N20020530,    51,  1,      1,      1,2,20020611, 75.8655,  16.8337,  328,    318.7,   1.9794,  35.0183,2,  35.0171,2,    310.9,2,   -999.0,9,     5.77,2,    11.73,2,     0.06,2,     0.80,2,    5.171,6,    2.803,6,    0.433,6,  1.85406363,2,   2154.8,2,   2312.4,2,   1.9618
  316N20020530,    52,  1,     11,     11,2,20020611, 75.5968,  17.5782,  158,      3.1,   5.3264,  34.9623,2,  34.9623,2,    357.5,2,   -999.0,9,     1.07,2,     2.15,2,     0.09,2,     0.23,2,    4.821,2,    2.665,2,    0.441,2,  1.80534612,2,   2072.4,2,   2319.1,2,   5.3262
  316N20020530,    52,  1,      9,      9,2,20020611, 75.5968,  17.5782,  158,     18.8,   5.0195,  34.9754,2,  34.9660,2,    359.1,2,   -999.0,9,     0.78,2,     2.15,2,     0.09,2,     0.25,2,    4.893,6,    2.680,6,    0.454,6,  1.81509975,2,   2072.2,2,   2320.1,2,   5.0181
  316N20020530,    52,  1,      7,      7,2,20020611, 75.5968,  17.5782,  158,     48.1,   2.4781,  34.8957,2,  34.8955,2,    340.3,2,   -999.0,9,     1.27,2,     6.84,2,     0.12,2,     0.57,2,    5.510,2,    2.980,2,    0.505,2,  1.95182259,2,   2126.8,2,   2307.1,2,   2.4754
  316N20020530,    52,  1,      5,      5,2,20020611, 75.5968,  17.5782,  158,     87.6,   2.0578,  34.8736,2,  34.8737,2,    331.1,2,   -999.0,9,     2.54,2,     8.60,2,     0.15,2,     0.67,2,    5.540,2,    2.969,2,    0.523,2,   2.0104099,2,   2139.6,2,   2296.1,3,   2.0531
  316N20020530,    52,  1,      3,      3,2,20020611, 75.5968,  17.5782,  158,    123.6,   2.0968,  34.8782,2,  34.8785,2,    327.6,2,   -999.0,9,     2.93,2,     8.89,2,     0.16,2,     0.69,2,    5.612,6,    3.019,6,    0.494,6,  2.00064348,2,   2139.8,2,   2308.2,2,   2.0901
  316N20020530,    52,  1,      1,      1,2,20020611, 75.5968,  17.5782,  158,    151.0,   2.0911,  34.8775,2,  34.8785,2,    326.7,2,   -999.0,9,     2.83,2,     8.89,2,     0.16,2,     0.69,2,    5.580,2,    2.981,2,    0.520,2,  1.96160653,2,   2140.8,2,   2307.7,2,   2.0829
  316N20020530,    53,  1,     15,     15,2,20020611, 75.2018,  17.8335,  135,      2.5,   2.6806,  34.8938,2,  34.8941,2,    347.1,2,   -999.0,9,     1.86,2,     4.98,2,     0.13,2,     0.51,2,    5.604,2,    3.031,2,    0.516,2,  2.02989761,2,   2121.6,2,   2312.2,2,   2.6805
  316N20020530,    53,  1,     13,     13,2,20020611, 75.2018,  17.8335,  135,     22.5,   2.6467,  34.8971,2,  34.9023,2,    347.5,2,   -999.0,9,     2.05,2,     5.67,2,     0.14,2,     0.55,2,    5.479,6,    2.994,6,    0.496,6,  2.02012616,2,   -999.0,9,   -999.0,9,   2.6454
  316N20020530,    53,  1,     11,     11,2,20020611, 75.2018,  17.8335,  135,     42.6,   2.5348,  34.9091,7,  34.9096,2,    346.0,2,   -999.0,9,     2.54,2,     6.74,2,     0.17,2,     0.60,2,    5.496,2,    3.014,2,    0.504,2,  2.02011518,2,   2131.5,2,   2311.1,2,   2.5324
  316N20020530,    53,  1,      9,      9,2,20020611, 75.2018,  17.8335,  135,     53.1,   2.3850,  34.8938,2,  34.8960,2,    340.6,2,   -999.0,9,     2.15,2,     6.06,2,     0.14,2,     0.58,2,    5.573,2,    2.987,2,    0.498,2,  2.02013563,2,   2128.8,2,   2309.3,2,   2.3820
  316N20020530,    53,  1,      7,      7,2,20020611, 75.2018,  17.8335,  135,     77.8,   2.2034,  34.8876,2,  34.8870,2,    343.5,2,   -999.0,9,     2.05,2,     5.47,2,     0.13,2,     0.56,2,    5.562,2,    3.027,2,    0.509,2,  2.01038999,2,   2126.3,2,   2310.4,2,   2.1991
  316N20020530,    53,  1,      5,      5,2,20020611, 75.2018,  17.8335,  135,     97.7,   2.1344,  34.8824,2,  34.8828,2,    340.9,2,   -999.0,9,     2.05,2,     5.57,2,     0.13,2,     0.57,2,    5.647,2,    3.071,2,    0.497,2,  2.02991469,2,   2128.7,2,   2311.3,2,   2.1291
  316N20020530,    53,  1,      3,      3,2,20020611, 75.2018,  17.8335,  135,    113.1,   2.1297,  34.8818,2,  34.8822,2,    340.8,2,   -999.0,9,     2.05,2,     5.57,2,     0.13,2,     0.57,2,    5.646,6,    3.062,6,    0.504,6,  2.02015639,2,   -999.0,9,   -999.0,9,   2.1235
  316N20020530,    53,  1,      1,      1,2,20020611, 75.2018,  17.8335,  135,    129.3,   2.1296,  34.8828,7,  34.8818,2,    340.7,2,   -999.0,9,     2.05,2,     5.57,2,     0.13,2,     0.58,2,    5.601,2,    3.003,2,    0.497,2,  2.00063856,2,   2129.5,2,   2308.1,2,   2.1225
  316N20020530,    54,  1,     17,     17,2,20020611, 74.8278,  18.1107,  319,      2.5,   6.3757,  35.0583,2,  35.0605,2,    344.0,2,   -999.0,9,     1.47,2,     4.30,2,     0.10,2,     0.36,2,    4.555,2,    2.551,2,    0.387,2,  1.72715084,2,   2096.4,2,   2322.9,2,   6.3755
  316N20020530,    54,  1,     15,     15,2,20020611, 74.8278,  18.1107,  319,     42.4,   5.6559,  35.0860,2,  35.0913,2,    306.2,2,   -999.0,9,     2.93,2,     9.48,2,     0.11,2,     0.70,2,    4.481,2,    2.503,2,    0.389,2,  1.69783817,2,   2130.1,2,   2317.5,2,   5.6524
  316N20020530,    54,  1,     13,     13,2,20020611, 74.8278,  18.1107,  319,     72.0,   5.2873,  35.1037,2,  35.1059,2,    300.1,2,   -999.0,9,     4.20,2,    11.43,2,     0.09,2,     0.78,2,    4.484,2,    2.498,2,    0.383,2,  1.65878938,2,   2140.3,2,   2315.8,2,   5.2816
  316N20020530,    54,  1,     11,     11,2,20020611, 74.8278,  18.1107,  319,    112.3,   4.4112,  35.0527,2,  35.0463,2,    315.9,2,   -999.0,9,     3.03,2,     9.77,2,     0.13,2,     0.71,2,    4.797,2,    2.664,2,    0.416,2,  1.79547522,2,   2134.6,2,   2316.0,2,   4.4030
  316N20020530,    54,  1,      9,      9,2,20020611, 74.8278,  18.1107,  319,    153.3,   3.4357,  34.9795,2,  34.9751,2,    324.7,2,   -999.0,9,     2.54,2,     8.89,2,     0.14,2,     0.66,2,    5.206,2,    2.836,2,    0.451,2,   1.8833972,2,   2134.8,2,   2314.2,2,   3.4257
  316N20020530,    54,  1,      7,      7,2,20020611, 74.8278,  18.1107,  319,    212.9,   2.3383,  34.9175,2,  34.9127,2,    333.9,2,   -999.0,9,     2.25,2,     7.43,2,     0.13,2,     0.60,2,    5.696,6,    3.030,6,    0.514,6,  2.01035153,2,   2134.8,2,   2308.4,2,   2.3262
  316N20020530,    54,  1,      5,      5,2,20020611, 74.8278,  18.1107,  319,    258.0,   2.0655,  34.9037,2,  34.9028,2,    341.0,2,   -999.0,9,     2.15,2,     6.65,2,     0.11,2,     0.58,2,    5.672,2,    3.102,2,    0.532,2,  2.09819789,2,   2133.8,2,   2307.5,2,   2.0513
  316N20020530,    54,  1,      3,      3,2,20020611, 74.8278,  18.1107,  319,    282.8,   1.8346,  34.8941,2,  34.8961,2,    346.0,2,   -999.0,9,     2.05,2,     5.57,2,     0.10,2,     0.54,2,    5.896,6,    3.212,6,    0.531,6,  2.12748568,2,   2133.9,2,   2309.3,2,   1.8195
  316N20020530,    54,  1,      1,      1,2,20020611, 74.8278,  18.1107,  319,    309.6,   1.8061,  34.8937,2,  34.8951,2,    346.7,2,   -999.0,9,     2.25,2,     5.47,2,     0.10,2,     0.54,2,    5.779,2,    3.129,2,    0.511,2,  2.13724638,2,   2131.6,2,   2313.6,2,   1.7896
  316N20020530,    55,  1,      9,      9,2,20020611, 74.4307,  18.3347,   72,      2.5,   2.1830,  34.8733,2,  34.8745,2,    385.5,2,   -999.0,9,     0.49,2,     2.05,2,     0.06,2,     0.30,2,    6.091,6,    3.244,6,    0.554,6,  2.13727915,2,   2097.9,2,   2310.4,3,   2.1829
  316N20020530,    55,  1,      7,      7,2,20020611, 74.4307,  18.3347,   72,     16.6,   2.1689,  34.8731,2,  34.8749,2,    387.5,2,   -999.0,9,     0.39,2,     2.05,2,     0.06,2,     0.30,2,    6.179,2,    3.249,2,    0.547,2,  2.12751925,2,   2099.5,2,   2307.2,3,   2.1680
  316N20020530,    55,  1,      5,      5,2,20020611, 74.4307,  18.3347,   72,     31.7,   2.0646,  34.8730,7,  34.8743,2,    387.0,2,   -999.0,9,     0.39,2,     2.05,2,     0.06,2,     0.30,2,    5.951,2,    3.217,2,    0.524,2,    2.156798,2,   2100.0,2,   2306.4,3,   2.0629
  316N20020530,    55,  1,      3,      3,2,20020611, 74.4307,  18.3347,   72,     46.7,   1.9411,  34.8698,2,  34.8713,2,    387.1,2,   -999.0,9,     0.39,2,     1.95,2,     0.06,2,     0.30,2,    6.101,6,    3.249,6,    0.542,6,  2.14704353,2,   2101.0,2,   2308.2,3,   1.9387
  316N20020530,    55,  1,      1,      1,2,20020611, 74.4307,  18.3347,   72,     67.9,   1.9287,  34.8713,2,  34.8719,2,    388.1,2,   -999.0,9,     0.39,2,     2.05,2,     0.06,2,     0.32,2,    6.092,2,    3.361,2,    0.596,2,  2.21535756,2,   2100.7,2,   2306.1,3,   1.9251
  316N20020530,    56,  1,     13,     13,2,20020611, 74.0163,  18.4932,  127,      3.0,   2.5691,  34.9032,2,  34.9050,2,    365.6,2,   -999.0,9,     0.78,2,     3.71,2,     0.08,2,     0.40,2,    5.783,2,    3.110,2,    0.578,2,  1.96156784,2,   2109.6,2,   2312.9,2,   2.5689
  316N20020530,    56,  1,     11,     11,2,20020611, 74.0163,  18.4932,  127,     27.9,   2.5356,  34.9194,2,  34.9211,2,    354.0,2,   -999.0,9,     1.37,2,     5.08,2,     0.10,2,     0.49,2,    5.650,6,    2.989,6,    0.508,6,  1.92250862,2,   2118.9,2,   2317.2,2,   2.5340
  316N20020530,    56,  1,      9,      9,2,20020611, 74.0163,  18.4932,  127,     52.7,   2.5593,  34.9229,2,  34.9246,2,    349.2,2,   -999.0,9,     1.56,2,     5.37,2,     0.10,2,     0.50,2,    5.539,2,    2.981,2,    0.478,2,  1.90298581,2,   2122.3,2,   2316.4,2,   2.5563
  316N20020530,    56,  1,      7,      7,2,20020611, 74.0163,  18.4932,  127,     72.7,   2.5481,  34.9267,2,  34.9264,2,    347.8,2,   -999.0,9,     1.76,2,     5.96,2,     0.11,2,     0.54,2,    5.497,2,    2.917,2,    0.482,2,  1.89322437,2,   2123.9,2,   2317.0,2,   2.5439
  316N20020530,    56,  1,      5,      5,2,20020611, 74.0163,  18.4932,  127,     92.5,   2.5506,  34.9283,2,  34.9287,2,    347.0,2,   -999.0,9,     1.86,2,     5.96,2,     0.11,2,     0.54,2,    5.584,6,    3.000,6,    0.508,6,  1.92249774,2,   2124.6,2,   2311.8,2,   2.5453
  316N20020530,    56,  1,      3,      3,2,20020611, 74.0163,  18.4932,  127,    112.8,   2.5076,  34.9248,2,  34.9236,2,    349.8,2,   -999.0,9,     1.56,2,     5.47,2,     0.10,2,     0.51,2,    5.570,2,    3.005,2,    0.497,2,  1.89322831,2,   2123.2,2,   2304.2,2,   2.5011
  316N20020530,    56,  1,      1,      1,2,20020611, 74.0163,  18.4932,  127,    123.0,   2.4719,  34.9180,2,  34.9183,2,    355.2,2,   -999.0,9,     1.37,2,     5.08,2,     0.10,2,     0.49,2,    5.652,2,    3.035,2,    0.517,2,  1.90299473,2,   2123.1,2,   2314.0,2,   2.4648