BOTTLE,20081218PRINUNIVRMK
EXPOCODE,STNNBR,CASTNO,SAMPNO,BTLNBR,BTLNBR_FLAG_W,DATE,LATITUDE,LONGITUDE,DEPTH,CTDPRS,CTDTMP,CTDSAL,CTDSAL_FLAG_W,SALNTY,SALNTY_FLAG_W,CTDOXY,CTDOXY_FLAG_W,OXYGEN,OXYGEN_FLAG_W,SILCAT,SILCAT_FLAG_W,NITRAT,NITRAT_FLAG_W,NITRIT,NITRIT_FLAG_W,PHSPHT,PHSPHT_FLAG_W,CFC-11,CFC-11_FLAG_W,CFC-12,CFC-12_FLAG_W,CFC113,CFC113_FLAG_W,SF6,SF6_FLAG_W,TCARBN,TCARBN_FLAG_W,ALKALI,ALKALI_FLAG_W,THETA
,,,,,,,,,METERS,DBARS,ITS-90,PSS-78,,PSS-78,,UMOL/KG,,UMOL/KG,,UMOL/KG,,UMOL/KG,,UMOL/KG,,UMOL/KG,,PMOL/KG,,PMOL/KG,,PMOL/KG,,FMOL/KG,,UMOL/KG,,UMOL/KG,,DEGC
  316N20020530,    31,  1,     29,     29,2,20020607, 77.9458,   2.4200, 3129,      2.9,   1.9454,  34.8967,2,  34.8965,2,    353.0,2,    353.6,2,     5.18,2,     8.11,2,     0.05,2,     0.61,2,    5.482,2,    2.984,2,    0.495,2,  2.07868952,2,   2125.9,2,   2304.5,2,   1.9452
  316N20020530,    31,  1,     28,     28,2,20020607, 77.9458,   2.4200, 3129,     20.9,   1.8034,  34.9192,2,  34.9203,2,    353.9,2,    353.0,2,     5.28,2,     8.50,2,     0.05,2,     0.64,2, -999.000,9, -999.000,9, -999.000,9,        -999,9,   -999.0,9,   -999.0,9,   1.8023
  316N20020530,    31,  1,     27,     27,2,20020607, 77.9458,   2.4200, 3129,     45.8,   1.1578,  34.9649,2,  34.9657,2,    339.5,2,    335.9,2,     5.08,2,    11.04,2,     0.04,2,     0.77,2,    5.346,2,    2.866,2,    0.461,2,  1.93220339,2,   2145.4,2,   2296.9,2,   1.1557
  316N20020530,    31,  1,     26,     26,2,20020607, 77.9458,   2.4200, 3129,     76.2,   0.8663,  34.9557,2,  34.9541,2,    331.2,2,    330.6,2,     4.98,2,    11.73,2,     0.06,2,     0.81,2, -999.000,9, -999.000,9, -999.000,9,        -999,9,   -999.0,9,   -999.0,9,   0.8630
  316N20020530,    31,  1,     25,     25,2,20020607, 77.9458,   2.4200, 3129,    106.2,   0.7331,  34.9473,2,  34.9486,2,    328.4,2,    329.5,2,     5.37,2,    11.92,2,     0.06,2,     0.82,2,    5.317,2,    2.796,2,    0.450,2,        -999,9,   2151.8,2,   2302.1,2,   0.7285
  316N20020530,    31,  1,     24,     24,2,20020607, 77.9458,   2.4200, 3129,    156.4,   0.5499,  34.9447,2,  34.9478,2,    330.5,2,    328.3,2,     5.08,2,    12.31,2,     0.05,2,     0.84,2,    5.257,2,    2.766,2,    0.452,2,        -999,9,   -999.0,9,   -999.0,9,   0.5434
  316N20020530,    31,  1,     23,     23,2,20020607, 77.9458,   2.4200, 3129,    206.9,   0.2454,  34.9274,2,  34.9320,2,    329.1,2,    327.4,2,     5.67,2,    12.61,2,     0.04,2,     0.85,2,    5.072,2,    2.713,2,    0.429,2,  1.95176956,2,   2155.9,2,   2300.6,2,   0.2372
  316N20020530,    31,  1,     22,     22,2,20020607, 77.9458,   2.4200, 3129,    257.0,   0.0300,  34.9180,2,  34.9206,2,    327.9,2,    329.8,2,     5.77,2,    12.61,2,     0.03,2,     0.85,2, -999.000,9, -999.000,9, -999.000,9,        -999,9,   -999.0,9,   -999.0,9,   0.0202
  316N20020530,    31,  1,     21,     21,2,20020607, 77.9458,   2.4200, 3129,    307.0,   0.0942,  34.9290,2,  34.9332,2,    331.7,2,    331.6,2,     5.67,2,    12.61,2,     0.04,2,     0.86,2,    5.141,2,    2.710,2,    0.437,2,  2.11766808,2,   2158.4,2,   2293.0,2,   0.0821
  316N20020530,    31,  1,     20,     20,2,20020607, 77.9458,   2.4200, 3129,    357.1,   0.0059,  34.9251,2,  34.9284,2,    332.3,2,    332.5,2,     5.67,2,    12.61,2,     0.05,2,     0.86,2, -999.000,9, -999.000,9, -999.000,9,   2.1371934,2,   -999.0,9,   -999.0,9,  -0.0080
  316N20020530,    31,  1,     19,     19,2,20020607, 77.9458,   2.4200, 3129,    407.5,  -0.0174,  34.9239,2,  34.9280,2,    329.9,2,    332.6,2,     5.67,2,    12.70,2,     0.04,2,     0.86,2,    5.364,2,    2.824,2,    0.462,2,  2.16647066,2,   2157.6,2,   2299.7,2,  -0.0334
  316N20020530,    31,  1,     18,     18,2,20020607, 77.9458,   2.4200, 3129,    508.0,  -0.1087,  34.9203,2,  34.9243,2,    327.6,2,    329.5,2,     5.77,2,    12.90,2,     0.01,2,     0.87,2,    5.577,2,    3.010,2, -999.000,9,  2.22503005,2,   2158.9,2,   2291.6,2,  -0.1287
  316N20020530,    31,  1,     17,     17,2,20020607, 77.9458,   2.4200, 3129,    608.8,  -0.2085,  34.9141,2,  34.9186,2,    326.4,2,    327.6,2,     6.16,2,    13.00,2,     0.00,2,     0.88,2, -999.000,9, -999.000,9, -999.000,9,  2.48853101,2,   -999.0,9,   -999.0,9,  -0.2325
  316N20020530,    31,  1,     16,     16,3,20020607, 77.9458,   2.4200, 3129,    709.1,  -0.3213,  34.9091,2,  34.9125,2,    323.5,2,    325.1,2,     6.35,2,    13.10,2,     0.00,2,     0.89,2,    4.718,2,    2.493,2,    0.381,2,  2.72275806,2,   2160.5,2,   2298.5,2,  -0.3492
  316N20020530,    31,  1,     15,     15,2,20020607, 77.9458,   2.4200, 3129,    810.1,  -0.5273,  34.8974,2,  34.9010,2,    324.6,2,    325.2,2,     6.35,2,    13.19,2,     0.00,2,     0.89,2, -999.000,9, -999.000,9, -999.000,9,  3.20097595,2,   -999.0,9,   -999.0,9,  -0.5586
  316N20020530,    31,  1,     14,     14,2,20020607, 77.9458,   2.4200, 3129,    910.6,  -0.5882,  34.8974,2,  34.8981,2,    323.0,2,    321.5,2,     6.84,2,    13.49,2,     0.00,2,     0.91,2,    4.722,2,    2.500,2,    0.388,2,        -999,9,   2159.8,2,   2298.0,2,  -0.6237
  316N20020530,    31,  1,     13,     13,2,20020607, 77.9458,   2.4200, 3129,   1036.0,  -0.6882,  34.8928,2,  34.8939,2,    319.5,2,    318.6,2,     7.33,2,    13.68,2,     0.00,2,     0.92,2,    4.455,6,    2.280,6,    0.367,6,  3.81581772,2,   -999.0,9,   -999.0,9,  -0.7289
  316N20020530,    31,  1,     12,     12,2,20020607, 77.9458,   2.4200, 3129,   1161.5,  -0.7661,  34.8872,2,  34.8906,2,    317.1,2,    317.6,2,     7.52,2,    13.58,2,     0.00,2,     0.93,2,    3.724,2,    1.953,2,    0.290,2,  4.10860155,2,   2160.9,2,   2295.7,2,  -0.8123
  316N20020530,    31,  1,     11,     11,2,20020607, 77.9458,   2.4200, 3129,   1261.6,  -0.7929,  34.8890,2,  34.8915,2,    316.7,2,    315.6,2,     7.92,2,    13.78,2,     0.00,2,     0.93,2,    3.484,2,    1.757,2,    0.265,2,  3.68895569,2,   2161.3,2,   2297.7,2,  -0.8440
  316N20020530,    31,  1,     10,     10,2,20020607, 77.9458,   2.4200, 3129,   1412.9,  -0.7758,  34.8978,2,  34.8990,2,    309.3,2,    308.4,2,     8.89,2,    14.07,2,     0.00,2,     0.96,2,    2.581,2,    1.289,2,    0.183,2,  2.10796291,2,   -999.0,9,   -999.0,9,  -0.8351
  316N20020530,    31,  1,      9,      9,2,20020607, 77.9458,   2.4200, 3129,   1562.5,  -0.7564,  34.9067,2,  34.9080,2,    302.1,2,    301.6,2,     9.77,2,    14.46,2,     0.00,2,     0.98,2,    1.638,2,    0.817,2,    0.111,2, 0.829516884,2,   2161.7,2,   2298.1,2,  -0.8244
  316N20020530,    31,  1,      8,      8,2,20020607, 77.9458,   2.4200, 3129,   1761.5,  -0.8115,  34.9087,2,  34.9082,2,    298.9,2,    298.9,2,    10.75,2,    14.76,2,     0.00,2,     1.00,2,    1.203,2,    0.582,2,    0.067,2, 0.468432994,2,   -999.0,9,   -999.0,9,  -0.8904
  316N20020530,    31,  1,      7,      7,2,20020607, 77.9458,   2.4200, 3129,   1959.1,  -0.8429,  34.9097,2,  34.9106,2,    297.8,2,    298.2,2,    11.24,2,    14.95,2,     0.00,2,     1.01,2,    0.868,2,    0.437,2,    0.047,2, 0.234216079,2,   2163.0,2,   2301.2,2,  -0.9336
  316N20020530,    31,  1,      6,      6,2,20020607, 77.9458,   2.4200, 3129,   2161.8,  -0.8581,  34.9104,2,  34.9107,2,    297.9,2,    297.7,2,    11.53,2,    14.95,2,     0.00,2,     1.01,2, -999.000,9, -999.000,9, -999.000,9,        -999,9,   -999.0,9,   -999.0,9,  -0.9617
  316N20020530,    31,  1,      5,      5,2,20020607, 77.9458,   2.4200, 3129,   2367.6,  -0.8636,  34.9113,2,  34.9109,2,    298.6,2,    299.0,2,    11.63,2,    14.95,2,     0.00,2,     1.01,2,    0.743,2,    0.365,2,    0.032,2, 0.126867014,2,   -999.0,9,   -999.0,9,  -0.9812
  316N20020530,    31,  1,      4,      4,2,20020607, 77.9458,   2.4200, 3129,   2571.7,  -0.8776,  34.9110,2,  34.9103,2,    300.1,2,    300.2,2,    11.53,2,    14.85,2,     0.00,2,     1.00,2,    0.735,2,    0.418,2, -999.000,9, 0.136626076,2,   2159.8,2,   2300.3,2,  -1.0096
  316N20020530,    31,  1,      3,      3,2,20020607, 77.9458,   2.4200, 3129,   2773.5,  -0.8805,  34.9106,2,  34.9093,2,    300.5,2,    300.7,2,    11.73,2,    14.95,2,     0.00,2,     1.00,2,    0.722,6,    0.367,6,    0.036,6, 0.136626178,2,   -999.0,9,   -999.0,9,  -1.0275
  316N20020530,    31,  1,      2,      2,2,20020607, 77.9458,   2.4200, 3129,   2975.3,  -0.8811,  34.9097,2,  34.9091,2,    301.1,2,    300.7,2,    11.73,2,    14.95,2,     0.00,2,     1.01,2, -999.000,9, -999.000,9, -999.000,9, 0.136626198,2,   2160.6,2,   -999.0,9,  -1.0438
  316N20020530,    31,  1,      1,      1,2,20020607, 77.9458,   2.4200, 3129,   3096.0,  -0.8838,  34.9090,2,  34.9073,2,    300.9,2,    301.4,2,    11.82,2,    14.95,2,     0.00,2,     1.01,2,    0.761,2,    0.385,2,    0.038,2, 0.146385409,2,   2155.4,2,   -999.0,9,  -1.0562
  316N20020530,    32,  1,     28,     28,2,20020607, 78.3712,   2.5427, 2895,      2.8,   2.6005,  34.9730,2,  34.9741,2,    346.7,2,    347.0,2,     4.30,2,     7.82,2,     0.06,2,     0.60,2,    5.744,2,    2.965,2,    0.518,2,        -999,9,   2121.3,2,   2310.1,2,   2.6003
  316N20020530,    32,  1,     27,     27,2,20020607, 78.3712,   2.5427, 2895,     21.0,   2.5471,  34.9723,2,  34.9744,2,    347.2,2,    346.6,2,     4.40,2,     7.92,2,     0.06,2,     0.61,2, -999.000,9, -999.000,9, -999.000,9,        -999,9,   -999.0,9,   -999.0,9,   2.5459
  316N20020530,    32,  1,     26,     26,2,20020607, 78.3712,   2.5427, 2895,     46.2,   1.5891,  34.9946,2,  34.9945,2,    325.6,2,    329.9,2,     4.79,2,    11.34,2,     0.06,2,     0.77,2,    5.558,2,    2.874,2,    0.486,2,        -999,9,   2139.7,2,   2309.0,2,   1.5868
  316N20020530,    32,  1,     25,     25,2,20020607, 78.3712,   2.5427, 2895,     71.0,   1.6881,  35.0109,2,  35.0112,2,    323.6,2,    324.0,2,     5.18,2,    11.82,2,     0.06,2,     0.80,2, -999.000,9, -999.000,9, -999.000,9,        -999,9,   -999.0,9,   -999.0,9,   1.6845
  316N20020530,    32,  1,     24,     24,2,20020607, 78.3712,   2.5427, 2895,    106.6,   1.2404,  34.9849,2,  34.9873,2,    323.8,2,    326.0,2,     5.28,2,    12.02,2,     0.05,2,     0.82,2,    5.517,2,    2.840,2,    0.482,2,  1.83458786,2,   2150.7,2,   2306.5,2,   1.2354
  316N20020530,    32,  1,     23,     23,2,20020607, 78.3712,   2.5427, 2895,    137.3,   1.0346,  34.9742,2,  34.9758,2,    325.0,2,    325.2,2,     5.37,2,    12.22,2,     0.04,2,     0.83,2,    5.447,2,    2.807,2,    0.467,2,        -999,9,   2152.1,2,   2298.3,2,   1.0283
  316N20020530,    32,  1,     22,     22,2,20020607, 78.3712,   2.5427, 2895,    177.1,   0.7499,  34.9573,2,  34.9617,2,    331.6,2,    327.2,2,     5.47,2,    12.22,2,     0.04,2,     0.83,2, -999.000,9, -999.000,9, -999.000,9,        -999,9,   -999.0,9,   -999.0,9,   0.7422
  316N20020530,    32,  1,     21,     21,2,20020607, 78.3712,   2.5427, 2895,    215.9,   0.4642,  34.9454,2,  34.9457,2,    325.3,2,    326.3,2,     5.77,2,    12.61,2,     0.04,2,     0.86,2,    5.252,2,    2.690,2,    0.447,2,  1.92247341,2,   -999.0,9,   -999.0,9,   0.4552
  316N20020530,    32,  1,     20,     20,2,20020607, 78.3712,   2.5427, 2895,    256.6,   0.2624,  34.9339,2,  34.9369,2,    327.0,2,    324.5,2,     5.77,2,    12.80,2,     0.03,2,     0.86,2, -999.000,9, -999.000,9, -999.000,9,        -999,9,   -999.0,9,   -999.0,9,   0.2521
  316N20020530,    32,  1,     19,     19,2,20020607, 78.3712,   2.5427, 2895,    306.2,   0.1358,  34.9292,2,  34.9316,2,    326.1,2,    323.5,2,     5.96,2,    12.90,2,     0.03,2,     0.87,2,    5.118,2,    2.612,2,    0.443,2,  1.96152899,2,   2157.1,2,   2302.2,2,   0.1237
  316N20020530,    32,  1,     18,     18,2,20020607, 78.3712,   2.5427, 2895,    382.0,  -0.0450,  34.9206,2,  34.9231,2,    324.1,2,    325.0,2,     6.06,2,    13.00,2,     0.02,2,     0.88,2, -999.000,9, -999.000,9, -999.000,9,        -999,9,   -999.0,9,   -999.0,9,  -0.0598
  316N20020530,    32,  1,     17,     17,2,20020607, 78.3712,   2.5427, 2895,    458.0,  -0.2173,  34.9124,2,  34.9184,2,    324.4,2,    325.6,2,     6.06,2,    13.00,2,     0.01,2,     0.88,2,    5.137,2,    2.625,2,    0.447,2,  2.21528088,2,   2157.3,2,   2298.8,2,  -0.2347
  316N20020530,    32,  1,     16,     16,2,20020607, 78.3712,   2.5427, 2895,    558.5,  -0.2894,  34.9114,2,  34.9142,2,    324.1,2,    324.7,2,     6.25,2,    13.29,2,     0.00,2,     0.90,2,    5.013,2,    2.524,2,    0.427,2,  2.66420075,2,   -999.0,9,   -999.0,9,  -0.3108
  316N20020530,    32,  1,     15,     15,2,20020607, 78.3712,   2.5427, 2895,    657.9,  -0.4344,  34.9054,2,  34.9069,2,    321.0,2,    322.8,2,     6.45,2,    13.49,2,     0.00,2,     0.90,2,    4.424,2,    2.311,2,    0.363,2,  3.12288965,2,   2157.6,2,   2297.0,2,  -0.4594
  316N20020530,    32,  1,     14,     14,2,20020607, 78.3712,   2.5427, 2895,    758.0,  -0.5375,  34.9010,2,  34.9054,2,    321.9,2,    319.8,2,     6.84,2,    13.58,2,     0.00,2,     0.91,2,    4.385,2,    2.177,2,    0.336,2,  3.13265218,2,   2157.9,2,   2299.0,2,  -0.5663
  316N20020530,    32,  1,     13,     13,2,20020607, 78.3712,   2.5427, 2895,    859.0,  -0.6057,  34.8977,2,  34.9008,2,    323.2,2,    320.2,2,     6.94,2,    13.58,2,     0.00,2,     0.92,2,    4.296,2,    2.160,2,    0.315,2,  3.32784439,2,   -999.0,9,   -999.0,9,  -0.6387
  316N20020530,    32,  1,     12,     12,2,20020607, 78.3712,   2.5427, 2895,    960.0,  -0.6991,  34.8917,2,  34.8951,2,    320.4,2,    320.8,2,     7.04,2,    13.68,2,     0.00,2,     0.92,2,    4.259,6,    2.171,6,    0.351,6,  3.94268281,2,   -999.0,9,   -999.0,9,  -0.7361
  316N20020530,    32,  1,     11,     11,2,20020607, 78.3712,   2.5427, 2895,   1111.7,  -0.7683,  34.8894,2,  34.8942,2,    317.6,2,    317.7,2,     7.62,2,    13.88,2,     0.00,2,     0.93,2,    3.963,2,    1.938,2,    0.301,2,  3.85485335,2,   2156.3,2,   2298.3,2,  -0.8120
  316N20020530,    32,  1,     10,     10,2,20020607, 78.3712,   2.5427, 2895,   1262.9,  -0.7909,  34.8925,2,  34.8965,2,    312.9,2,    313.5,2,     8.11,2,    14.17,2,     0.00,2,     0.95,2,    3.359,2,    1.639,2,    0.250,2,  3.19122757,2,   2158.1,2,   2299.2,2,  -0.8421
  316N20020530,    32,  1,      9,      9,2,20020607, 78.3712,   2.5427, 2895,   1411.4,  -0.7682,  34.9010,2,  34.9053,2,    305.3,2,    304.8,2,     9.38,2,    14.56,2,     0.00,2,     0.99,2,    2.231,2,    1.057,2,    0.148,2,  1.41506106,2,   2156.6,2,   2299.0,2,  -0.8275
  316N20020530,    32,  1,      8,      8,2,20020607, 78.3712,   2.5427, 2895,   1610.8,  -0.7791,  34.9070,2,  34.9111,2,    300.7,2,    300.0,2,    10.26,2,    14.76,2,     0.00,2,     1.00,2,    1.472,2,    0.691,2,    0.086,2, 0.614816977,2,   -999.0,9,   -999.0,9,  -0.8496
  316N20020530,    32,  1,      7,      7,2,20020607, 78.3712,   2.5427, 2895,   1811.4,  -0.8036,  34.9097,2,  34.9125,2,    299.1,2,    299.1,2,    10.55,2,    14.85,2,     0.00,2,     1.00,2,    1.126,2,    0.538,2,    0.050,2, 0.331805642,2,   2159.7,2,   2300.2,2,  -0.8857
  316N20020530,    32,  1,      6,      6,2,20020607, 78.3712,   2.5427, 2895,   2015.6,  -0.8341,  34.9095,2,  34.9132,2,    298.5,2,    298.5,2,    10.95,2,    15.05,2,     0.00,2,     1.01,2,    0.925,2,    0.464,2,    0.045,2, 0.234215625,2,   -999.0,9,   -999.0,9,  -0.9286
  316N20020530,    32,  1,      5,      5,2,20020607, 78.3712,   2.5427, 2895,   2219.8,  -0.8459,  34.9105,2,  34.9140,2,    298.3,2,    298.4,2,    11.34,2,    15.05,2,     0.00,2,     1.02,2,    0.816,2,    0.397,2,    0.043,2, 0.165902636,2,   2159.6,2,   2301.1,2,  -0.9537
  316N20020530,    32,  1,      4,      4,2,20020607, 78.3712,   2.5427, 2895,   2425.1,  -0.8497,  34.9112,2,  34.9141,2,    298.8,2,    299.0,2,    11.53,2,    15.05,2,     0.00,2,     1.01,2, -999.000,9, -999.000,9, -999.000,9, 0.117107734,2,   -999.0,9,   -999.0,9,  -0.9716
  316N20020530,    32,  1,      3,      3,2,20020607, 78.3712,   2.5427, 2895,   2629.9,  -0.8554,  34.9114,2,  34.9136,2,    299.4,2,    299.4,2,    11.63,2,    15.05,2,     0.00,2,     1.02,2,    0.732,6,    0.359,6,    0.033,6, 0.126866759,2,   -999.0,9,   -999.0,9,  -0.9921
  316N20020530,    32,  1,      2,      2,2,20020607, 78.3712,   2.5427, 2895,   2793.7,  -0.8865,  34.9091,2,  34.9125,2,    300.3,2,    300.2,2,    11.63,2,    14.95,2,     0.00,2,     1.02,2,    0.733,2,    0.363,2,    0.033,2,        -999,9,   2157.5,2,   2299.7,2,  -1.0349
  316N20020530,    32,  1,      1,      1,2,20020607, 78.3712,   2.5427, 2895,   2862.8,  -0.8931,  34.9086,2,  34.9111,2,    300.6,2,    301.0,2,    11.63,2,    14.95,2,     0.00,2,     1.01,2,    0.731,2,    0.363,2,    0.032,2,        -999,9,   2157.3,2,   2298.5,2,  -1.0467