BOTTLE,20081218PRINUNIVRMK
EXPOCODE,STNNBR,CASTNO,SAMPNO,BTLNBR,BTLNBR_FLAG_W,DATE,LATITUDE,LONGITUDE,DEPTH,CTDPRS,CTDTMP,CTDSAL,CTDSAL_FLAG_W,SALNTY,SALNTY_FLAG_W,CTDOXY,CTDOXY_FLAG_W,OXYGEN,OXYGEN_FLAG_W,SILCAT,SILCAT_FLAG_W,NITRAT,NITRAT_FLAG_W,NITRIT,NITRIT_FLAG_W,PHSPHT,PHSPHT_FLAG_W,CFC-11,CFC-11_FLAG_W,CFC-12,CFC-12_FLAG_W,CFC113,CFC113_FLAG_W,SF6,SF6_FLAG_W,TCARBN,TCARBN_FLAG_W,ALKALI,ALKALI_FLAG_W,THETA
,,,,,,,,,METERS,DBARS,ITS-90,PSS-78,,PSS-78,,UMOL/KG,,UMOL/KG,,UMOL/KG,,UMOL/KG,,UMOL/KG,,UMOL/KG,,PMOL/KG,,PMOL/KG,,PMOL/KG,,FMOL/KG,,UMOL/KG,,UMOL/KG,,DEGC
  316N20020530,     8,  1,     27,     27,2,20020602, 69.1347, -12.4777, 1941,      3.0,   0.7127,  34.6954,2,  34.6917,2,    361.1,2,    361.4,2,     2.64,2,     8.89,2,     0.07,2,     0.63,2,    7.119,2,    3.604,2,    0.665,2,  2.42062723,2,   2150.9,2,   -999.0,9,   0.7126
  316N20020530,     8,  1,     26,     26,2,20020602, 69.1347, -12.4777, 1941,     18.7,   0.2503,  34.7258,2,  34.7200,2,    370.5,2,    368.9,2,     2.44,2,     8.80,2,     0.06,2,     0.65,2, -999.000,9, -999.000,9, -999.000,9,        -999,9,   -999.0,9,   -999.0,9,   0.2496
  316N20020530,     8,  1,     25,     25,2,20020602, 69.1347, -12.4777, 1941,     34.3,  -0.3004,  34.7315,2,  34.7291,2,    365.4,2,    366.4,2,     3.03,2,     9.58,2,     0.05,2,     0.70,2,    6.979,2,    3.581,2,    0.660,2,  2.52792338,2,   2146.1,2,   -999.0,9,  -0.3015
  316N20020530,     8,  1,     24,     24,2,20020602, 69.1347, -12.4777, 1941,     54.3,  -0.6790,  34.7499,2,  34.7469,2,    361.4,2,    360.2,2,     3.42,2,    10.46,2,     0.06,2,     0.76,2, -999.000,9, -999.000,9, -999.000,9,        -999,9,   -999.0,9,   -999.0,9,  -0.6806
  316N20020530,     8,  1,     23,     23,2,20020602, 69.1347, -12.4777, 1941,     79.0,  -0.9139,  34.7492,2,  34.7469,2,    357.3,2,    358.5,2,     3.52,2,    10.75,2,     0.07,2,     0.77,2,    6.936,2,    3.525,2,    0.631,2,  2.54741027,2,   2156.5,2,   -999.0,9,  -0.9161
  316N20020530,     8,  1,     22,     22,2,20020602, 69.1347, -12.4777, 1941,     94.1,  -0.9218,  34.7513,2,  34.7493,2,    356.8,2,    358.2,2,     3.62,2,    10.85,2,     0.08,2,     0.77,2,    6.966,2,    3.538,2,    0.653,2,  2.44980397,2,   -999.0,9,   -999.0,9,  -0.9245
  316N20020530,     8,  1,     21,     21,2,20020602, 69.1347, -12.4777, 1941,    119.3,  -0.8970,  34.7613,2,  34.7585,2,    356.5,2,    356.6,2,     3.81,2,    11.04,2,     0.08,2,     0.78,2,    6.872,2,    3.556,2,    0.636,2,  2.53762816,2,   2159.9,2,   -999.0,9,  -0.9004
  316N20020530,     8,  1,     20,     20,2,20020602, 69.1347, -12.4777, 1941,    144.9,  -1.0465,  34.7729,2,  34.7703,2,    351.7,2,    351.6,2,     3.91,2,    11.53,2,     0.10,2,     0.81,2,    6.861,2,    3.506,2,    0.635,2,        -999,9,   2158.5,2,   -999.0,9,  -1.0505
  316N20020530,     8,  1,     19,     19,2,20020602, 69.1347, -12.4777, 1941,    179.2,  -0.6564,  34.8256,2,  34.7699,0,    338.7,2,    337.5,2,     4.69,2,    12.51,2,     0.02,2,     0.86,2,    6.188,6,    3.165,6,    0.551,6,  2.17648568,2,   2161.9,2,   -999.0,9,  -0.6621
  316N20020530,     8,  1,     18,     18,2,20020602, 69.1347, -12.4777, 1941,    205.1,  -0.5594,  34.8415,2,  34.8389,2,    330.1,2,    328.6,2,     5.08,2,    13.10,2,     0.01,2,     0.89,2,    5.841,2,    3.015,2,    0.510,2,  2.07877865,2,   2162.9,2,   -999.0,9,  -0.5661
  316N20020530,     8,  1,     17,     17,2,20020602, 69.1347, -12.4777, 1941,    245.4,  -0.4091,  34.8628,2,  34.8582,2,    316.9,2,    320.1,2,     5.86,2,    13.78,2,     0.01,2,     0.94,2,    5.278,2,    2.717,2,    0.456,2,        -999,9,   -999.0,9,   -999.0,9,  -0.4175
  316N20020530,     8,  1,     16,     16,2,20020602, 69.1347, -12.4777, 1941,    285.2,  -0.3074,  34.8760,2,  34.8724,2,    311.2,2,    311.6,2,     6.55,2,    14.37,2,     0.01,2,     0.98,2,    4.734,2,    2.400,2,    0.369,2,  1.69811486,2,   2168.6,2,   -999.0,9,  -0.3175
  316N20020530,     8,  1,     15,     15,2,20020602, 69.1347, -12.4777, 1941,    355.7,  -0.3288,  34.8833,2,  34.8804,2,    306.6,2,    306.6,2,     7.04,2,    14.56,2,     0.01,2,     0.99,2,    4.190,2,    2.087,2,    0.324,2,        -999,9,   -999.0,9,   -999.0,9,  -0.3416
  316N20020530,     8,  1,     14,     14,2,20020602, 69.1347, -12.4777, 1941,    426.0,  -0.4028,  34.8866,2,  34.8834,2,    304.3,2,    304.3,2,     7.33,2,    14.66,2,     0.01,2,     1.00,2,    3.739,6,    1.865,6,    0.270,6,  1.82497056,2,   -999.0,9,   -999.0,9,  -0.4182
  316N20020530,     8,  1,     13,     13,2,20020602, 69.1347, -12.4777, 1941,    506.7,  -0.4643,  34.8899,2,  34.8885,2,    302.1,2,    301.8,2,     7.92,2,    14.85,2,     0.01,2,     1.01,2, -999.000,9, -999.000,9, -999.000,9,        -999,9,   -999.0,9,   -999.0,9,  -0.4827
  316N20020530,     8,  1,     12,     12,2,20020602, 69.1347, -12.4777, 1941,    607.4,  -0.5429,  34.8949,2,  34.8914,2,    299.9,2,    299.4,2,     8.60,2,    15.05,2,     0.00,2,     1.02,2, -999.000,9, -999.000,9, -999.000,9,  2.19580712,2,   2165.0,2,   -999.0,9,  -0.5651
  316N20020530,     8,  1,     11,     11,2,20020602, 69.1347, -12.4777, 1941,    707.5,  -0.5988,  34.8982,2,  34.8946,2,    298.5,2,    298.8,2,     9.09,2,    15.15,2,     0.00,2,     1.02,2, -999.000,9, -999.000,9, -999.000,9,  2.08845157,2,   -999.0,9,   -999.0,9,  -0.6250
  316N20020530,     8,  1,     10,     10,2,20020602, 69.1347, -12.4777, 1941,    809.0,  -0.6402,  34.9002,2,  34.8979,2,    298.1,2,    298.3,2,     9.58,2,    15.05,2,     0.00,2,     1.02,2,    2.349,2,    1.108,2,    0.141,2,  1.64928715,2,   -999.0,9,   -999.0,9,  -0.6707
  316N20020530,     8,  1,      9,      9,2,20020602, 69.1347, -12.4777, 1941,    909.2,  -0.6757,  34.9024,2,  34.8993,2,    297.5,2,    297.7,2,     9.87,2,    15.05,2,     0.00,2,     1.03,2, -999.000,9, -999.000,9, -999.000,9,  1.23940384,2,   -999.0,9,   -999.0,9,  -0.7105
  316N20020530,     8,  1,      8,      8,2,20020602, 69.1347, -12.4777, 1941,   1009.5,  -0.7097,  34.9041,2,  34.9016,2,    297.3,2,    298.4,2,    10.36,2,    15.05,2,     0.00,2,     1.03,2,    1.685,2,    0.812,2,    0.093,2, 0.917352454,2,   2163.6,2,   -999.0,9,  -0.7490
  316N20020530,     8,  1,      7,      7,2,20020602, 69.1347, -12.4777, 1941,   1160.2,  -0.7475,  34.9073,2,  34.9030,2,    296.8,2,    297.2,2,    10.75,2,    15.15,2,     0.00,2,     1.03,2,    1.496,2,    0.695,2,    0.076,2, 0.556266334,2,   -999.0,9,   -999.0,9,  -0.7939
  316N20020530,     8,  1,      6,      6,9,20020602, 69.1347, -12.4777, 1941,   1310.6,  -0.7842,  34.9083,2,-999.0000,9,    296.0,2,   -999.0,9,  -999.00,9,  -999.00,9,  -999.00,9,  -999.00,9, -999.000,9, -999.000,9, -999.000,9,        -999,9,   -999.0,9,   -999.0,9,  -0.8380
  316N20020530,     8,  1,      5,      5,2,20020602, 69.1347, -12.4777, 1941,   1460.9,  -0.8171,  34.9091,2,  34.9046,2,    295.3,2,    295.9,2,    12.22,2,    15.34,2,     0.00,2,     1.05,2,    0.994,2,    0.467,2,    0.051,2, 0.204939984,2,   2162.3,2,   -999.0,9,  -0.8786
  316N20020530,     8,  1,      4,      4,2,20020602, 69.1347, -12.4777, 1941,   1613.0,  -0.8345,  34.9100,2,  34.9056,2,    294.0,2,    293.9,2,    13.00,2,  -999.00,9,     0.00,2,     1.08,2,    0.856,2,    0.402,2,    0.035,2, 0.146385594,2,   -999.0,9,   -999.0,9,  -0.9044
  316N20020530,     8,  1,      3,      3,2,20020602, 69.1347, -12.4777, 1941,   1693.9,  -0.8371,  34.9105,2,  34.9075,2,    290.9,2,    290.1,2,    14.66,2,    16.12,2,     0.00,2,     1.08,2,    0.768,2,    0.377,2,    0.031,2,  0.11710831,2,   2171.2,2,   -999.0,9,  -0.9116
  316N20020530,     8,  1,      2,      2,2,20020602, 69.1347, -12.4777, 1941,   1814.7,  -0.8297,  34.9102,2,  34.9063,2,    289.9,2,    289.9,2,    14.66,2,    16.12,2,     0.00,2,     1.08,2,    0.797,2,    0.379,2,    0.034,2, 0.126867449,2,   -999.0,9,   -999.0,9,  -0.9116
  316N20020530,     8,  1,      1,      1,2,20020602, 69.1347, -12.4777, 1941,   1909.1,  -0.8235,  34.9107,2,  34.9079,2,    289.4,2,    290.0,2,    14.76,2,    16.22,2,     0.00,2,     1.09,2,    0.782,2,    0.382,2,    0.031,2, 0.156144366,2,   2168.8,2,   -999.0,9,  -0.9113
  316N20020530,     9,  1,     28,     28,2,20020602, 69.5825, -11.8150, 1972,      2.7,   0.8743,  34.6999,2,-999.0000,9,    362.1,2,    364.6,2,     1.27,2,     8.11,2,     0.07,2,     0.57,2,    6.680,2,    3.425,2,    0.613,2,  2.41043698,2,   2144.2,2,   2289.7,2,   0.8742
  316N20020530,     9,  1,     27,     27,2,20020602, 69.5825, -11.8150, 1972,     18.7,   0.7988,  34.7041,2,  34.7011,2,    367.9,2,    368.0,2,     0.98,2,     8.11,2,     0.07,2,     0.57,2,    6.727,6,    3.473,6,    0.607,6,  2.47917345,2,   2146.9,2,   2289.7,2,   0.7980
  316N20020530,     9,  1,     26,     26,2,20020602, 69.5825, -11.8150, 1972,     34.0,  -0.2663,  34.7377,2,  34.7364,2,    361.9,2,    368.0,2,     1.66,2,     9.38,2,     0.06,2,     0.69,2, -999.000,9, -999.000,9, -999.000,9,        -999,9,   2157.6,2,   2281.3,2,  -0.2674
  316N20020530,     9,  1,     25,     25,2,20020602, 69.5825, -11.8150, 1972,     59.1,  -0.6059,  34.7548,2,-999.0000,9,    367.1,2,    358.6,2,     3.03,2,    10.36,2,     0.06,2,     0.76,2,    6.801,2,    3.516,2,    0.622,2,  2.47874896,2,   2161.2,2,   2285.9,2,  -0.6077
  316N20020530,     9,  1,     24,     24,2,20020602, 69.5825, -11.8150, 1972,     78.9,  -0.8288,  34.7552,2,  34.7520,2,    358.3,2,    358.1,2,     3.13,2,    10.65,2,     0.07,2,     0.77,2, -999.000,9, -999.000,9, -999.000,9,        -999,9,   -999.0,9,   -999.0,9,  -0.8311
  316N20020530,     9,  1,     23,     23,2,20020602, 69.5825, -11.8150, 1972,    104.2,  -0.6273,  34.7733,2,  34.7640,2,    338.3,2,    355.7,2,     3.42,2,    10.75,2,     0.07,2,     0.78,2,    6.804,2,    3.504,2,    0.626,2,        -999,9,   2160.3,2,   2290.4,2,  -0.6305
  316N20020530,     9,  1,     22,     22,2,20020602, 69.5825, -11.8150, 1972,    134.3,  -0.9858,  34.7762,2,  34.7740,2,    343.7,2,    352.7,2,     3.71,2,    11.44,2,     0.10,2,     0.81,2,    6.628,2,    3.458,2,    0.600,2,        -999,9,   2164.6,2,   2285.5,2,  -0.9896
  316N20020530,     9,  1,     21,     21,2,20020602, 69.5825, -11.8150, 1972,    153.9,  -0.8934,  34.8066,2,  34.8025,2,    334.5,2,    344.4,2,     4.10,2,    12.12,2,     0.05,2,     0.85,2, -999.000,9, -999.000,9, -999.000,9,        -999,9,   -999.0,9,   -999.0,9,  -0.8979
  316N20020530,     9,  1,     20,     20,2,20020602, 69.5825, -11.8150, 1972,    179.6,  -0.7685,  34.8287,2,  34.8241,2,    323.1,2,    334.8,2,     4.50,2,    12.61,2,     0.01,2,     0.88,2,    5.928,2,    3.061,2,    0.503,2,        -999,9,   2167.7,2,   2284.4,2,  -0.7740
  316N20020530,     9,  1,     19,     19,2,20020602, 69.5825, -11.8150, 1972,    205.1,  -0.6795,  34.8395,2,  34.8351,2,    321.6,2,    333.7,2,     4.69,2,    12.80,2,     0.01,2,     0.89,2,    5.732,2,    2.982,2,    0.490,2,        -999,9,   2168.0,2,   2288.6,2,  -0.6860
  316N20020530,     9,  1,     18,     18,2,20020602, 69.5825, -11.8150, 1972,    245.1,  -0.3660,  34.8681,2,  34.8646,2,    312.7,2,    321.6,2,     5.47,2,    13.58,2,     0.01,2,     0.94,2,    5.379,2,    2.642,2,    0.430,2,        -999,9,   -999.0,9,   -999.0,9,  -0.3745
  316N20020530,     9,  1,     17,     17,2,20020602, 69.5825, -11.8150, 1972,    289.8,  -0.3183,  34.8779,2,  34.8756,2,    306.2,2,    311.1,2,     6.25,2,    14.27,2,     0.01,2,     0.98,2,    4.555,2,    2.272,2,    0.350,2,        -999,9,   2172.1,2,   2290.4,2,  -0.3286
  316N20020530,     9,  1,     16,     16,2,20020602, 69.5825, -11.8150, 1972,    335.4,  -0.3412,  34.8823,2,  34.8788,2,    307.2,2,    308.2,2,     6.45,2,    14.37,2,     0.00,2,     0.99,2,    4.374,2,    2.154,2,    0.329,2,        -999,9,   2164.6,2,   2291.7,2,  -0.3532
  316N20020530,     9,  1,     15,     15,2,20020602, 69.5825, -11.8150, 1972,    395.8,  -0.3882,  34.8861,2,  34.8833,2,    309.3,2,    304.9,2,     6.65,2,    14.66,2,     0.00,2,     1.01,2, -999.000,9, -999.000,9, -999.000,9,  1.68834188,2,   -999.0,9,   -999.0,9,  -0.4024
  316N20020530,     9,  1,     14,     14,2,20020602, 69.5825, -11.8150, 1972,    455.9,  -0.4370,  34.8882,2,  34.8851,2,    307.8,2,    303.4,2,     7.13,2,    14.66,2,     0.00,2,     1.01,2,    3.652,2,    1.780,2,    0.261,2,  1.84448663,2,   -999.0,9,   -999.0,9,  -0.4534
  316N20020530,     9,  1,     13,     13,2,20020602, 69.5825, -11.8150, 1972,    531.7,  -0.5002,  34.8925,2,  34.8894,2,    313.7,2,    301.5,2,     7.43,2,    14.85,2,     0.00,2,     1.01,2,    3.264,2,    1.607,2,    0.213,2,  2.13725545,2,   2172.4,2,   2295.7,2,  -0.5195
  316N20020530,     9,  1,     12,     12,2,20020602, 69.5825, -11.8150, 1972,    596.2,  -0.5350,  34.8945,2,  34.8907,2,    310.7,2,    299.8,2,     7.92,2,    14.95,2,     0.00,2,     1.01,2,    2.886,2,    1.416,2,    0.189,2,  2.12749423,2,   -999.0,9,   -999.0,9,  -0.5568
  316N20020530,     9,  1,     11,     11,2,20020602, 69.5825, -11.8150, 1972,    655.0,  -0.5640,  34.8966,2,  34.8945,2,    314.8,2,    299.3,2,     8.21,2,    14.95,2,     0.00,2,     1.02,2,    2.710,2,    1.321,2,    0.176,2,  2.10796997,2,   2173.7,2,   2297.5,2,  -0.5881
  316N20020530,     9,  1,     10,     10,2,20020602, 69.5825, -11.8150, 1972,    755.0,  -0.6169,  34.9000,2,-999.0000,9,    308.1,2,    298.8,2,     8.50,2,    15.15,2,     0.00,2,     1.02,2,    2.350,2,    1.112,2,    0.150,2,  1.80538802,2,   -999.0,9,   -999.0,9,  -0.6451
  316N20020530,     9,  1,      9,      9,2,20020602, 69.5825, -11.8150, 1972,    857.1,  -0.6514,  34.9018,2,  34.8974,2,    310.3,2,    298.5,2,     8.80,2,    15.15,2,     0.00,2,     1.03,2,    2.084,6,    1.023,6,    0.144,6,  1.43458758,2,   2171.5,2,   2295.9,2,  -0.6840
  316N20020530,     9,  1,      8,      8,2,20020602, 69.5825, -11.8150, 1972,    958.2,  -0.6821,  34.9042,2,  34.8980,2,    307.2,2,    297.9,2,     8.70,2,    15.05,2,     0.00,2,     1.03,2,    1.828,2,    0.883,2,    0.120,2,    1.132055,2,   -999.0,9,   -999.0,9,  -0.7191
  316N20020530,     9,  1,      7,      7,2,20020602, 69.5825, -11.8150, 1972,   1058.4,  -0.7121,  34.9058,2,  34.9006,2,    305.8,2,    298.0,2,     9.19,2,    15.05,2,     0.00,2,     1.03,2,    1.668,2,    0.803,2,    0.092,2, 0.819762377,2,   2169.5,2,   2294.8,2,  -0.7537
  316N20020530,     9,  1,      6,      6,2,20020602, 69.5825, -11.8150, 1972,   1208.7,  -0.7594,  34.9071,2,  34.9019,2,    304.2,2,    297.0,2,     9.67,2,    15.15,2,     0.00,2,     1.04,2,    1.260,2,    0.617,2,    0.066,2, 0.478194257,2,   2168.8,2,   2300.4,2,  -0.8081
  316N20020530,     9,  1,      5,      5,2,20020602, 69.5825, -11.8150, 1972,   1360.1,  -0.7957,  34.9085,2,  34.9035,2,    301.1,2,    296.1,2,    10.16,2,    15.34,2,     0.00,2,     1.05,2,    1.059,2,    0.519,2,    0.057,2, 0.273253536,2,   2165.5,2,   2292.7,2,  -0.8520
  316N20020530,     9,  1,      4,      4,2,20020602, 69.5825, -11.8150, 1972,   1490.4,  -0.8203,  34.9096,2,  34.9039,2,    298.3,2,    295.8,2,    10.75,2,    15.44,2,     0.00,2,     1.05,2,    0.944,2,    0.469,2,    0.049,2, 0.263494403,2,   2164.5,2,   2295.7,2,  -0.8834
  316N20020530,     9,  1,      3,      3,2,20020602, 69.5825, -11.8150, 1972,   1662.0,  -0.8361,  34.9105,2,  34.9043,2,    291.6,2,    292.5,2,    12.70,2,    15.73,2,     0.00,2,     1.07,2,    0.776,2,    0.375,2,    0.035,2, 0.146385736,2,   2168.6,2,   2299.0,2,  -0.9088
  316N20020530,     9,  1,      2,      2,2,20020602, 69.5825, -11.8150, 1972,   1811.5,  -0.8301,  34.9099,2,  34.9049,2,    287.3,2,    290.9,2,    13.49,2,    15.93,2,     0.00,2,     1.08,2, -999.000,9, -999.000,9, -999.000,9, 0.175662804,2,   2166.8,2,   2301.4,2,  -0.9118
  316N20020530,     9,  1,      1,      1,2,20020602, 69.5825, -11.8150, 1972,   1907.1,  -0.8240,  34.9100,2,-999.0000,9,    282.4,2,    290.1,2,    13.97,2,    15.93,2,     0.00,2,     1.08,2, -999.000,9, -999.000,9, -999.000,9,  0.11710625,2,   2169.4,2,   2297.8,2,  -0.9117