BOTTLE,20081218PRINUNIVRMK
EXPOCODE,STNNBR,CASTNO,SAMPNO,BTLNBR,BTLNBR_FLAG_W,DATE,LATITUDE,LONGITUDE,DEPTH,CTDPRS,CTDTMP,CTDSAL,CTDSAL_FLAG_W,SALNTY,SALNTY_FLAG_W,CTDOXY,CTDOXY_FLAG_W,OXYGEN,OXYGEN_FLAG_W,SILCAT,SILCAT_FLAG_W,NITRAT,NITRAT_FLAG_W,NITRIT,NITRIT_FLAG_W,PHSPHT,PHSPHT_FLAG_W,CFC-11,CFC-11_FLAG_W,CFC-12,CFC-12_FLAG_W,CFC113,CFC113_FLAG_W,SF6,SF6_FLAG_W,TCARBN,TCARBN_FLAG_W,ALKALI,ALKALI_FLAG_W,THETA
,,,,,,,,,METERS,DBARS,ITS-90,PSS-78,,PSS-78,,UMOL/KG,,UMOL/KG,,UMOL/KG,,UMOL/KG,,UMOL/KG,,UMOL/KG,,PMOL/KG,,PMOL/KG,,PMOL/KG,,FMOL/KG,,UMOL/KG,,UMOL/KG,,DEGC
  316N20020530,    63,  1,     17,     17,2,20020612, 71.7668,  19.1688,  257,      2.3,   8.6329,  34.6468,2,  34.6456,2,    341.3,2,   -999.0,9,     0.00,2,     0.39,2,     0.02,2,     0.04,2,    4.321,2,    2.389,2,    0.328,2,  1.72768437,2,   2068.8,2,   2315.1,2,   8.6327
  316N20020530,    63,  1,     15,     15,2,20020612, 71.7668,  19.1688,  257,     17.2,   7.6646,  34.6904,2,  34.7059,2,    321.6,2,   -999.0,9,     1.95,2,     4.79,2,     0.10,2,     0.38,2,    4.356,6,    2.384,6,    0.365,6,   1.7471278,2,   -999.0,9,   -999.0,9,   7.6629
  316N20020530,    63,  1,     13,     13,2,20020612, 71.7668,  19.1688,  257,     43.0,   6.8340,  34.8490,7,  34.8553,2,    297.2,2,   -999.0,9,     2.54,2,     6.94,2,     0.20,2,     0.57,2,    4.449,2,    2.454,2,    0.389,2,   1.7566929,2,   2116.3,2,   2311.5,2,   6.8301
  316N20020530,    63,  1,     11,     11,2,20020612, 71.7668,  19.1688,  257,     73.2,   6.7752,  34.9628,2,  34.9584,2,    291.7,2,   -999.0,9,     2.93,2,     8.31,2,     0.23,2,     0.62,2,    4.260,2,    2.331,2,    0.347,2,  1.71752346,2,   2127.3,2,   2315.2,2,   6.7685
  316N20020530,    63,  1,      9,      9,2,20020612, 71.7668,  19.1688,  257,     98.0,   6.4978,  34.9798,2,  34.9780,2,    296.9,2,   -999.0,9,     2.54,2,     7.72,2,     0.21,2,     0.60,2,    4.405,2,    2.389,2,    0.364,2,  1.74677394,2,   2124.8,2,   2322.1,2,   6.4891
  316N20020530,    63,  1,      7,      7,2,20020612, 71.7668,  19.1688,  257,    137.9,   6.6746,  35.0974,2,  35.0944,2,    288.3,2,   -999.0,9,     3.91,2,    11.43,2,     0.05,2,     0.73,2,    4.238,2,    2.284,2,    0.344,2,  1.66856125,2,   -999.0,9,   -999.0,9,   6.6621
  316N20020530,    63,  1,      5,      5,2,20020612, 71.7668,  19.1688,  257,    182.8,   6.4545,  35.1176,2,  35.1138,2,    286.9,2,   -999.0,9,     4.69,2,    12.31,2,     0.02,2,     0.80,2,    4.220,6,    2.375,6,    0.327,6,  1.66853716,2,   -999.0,9,   -999.0,9,   6.4381
  316N20020530,    63,  1,      3,      3,2,20020612, 71.7668,  19.1688,  257,    217.9,   6.1848,  35.1148,2,  35.1117,2,    288.5,2,   -999.0,9,     4.69,2,    12.31,2,     0.03,2,     0.80,2,    4.403,2,    2.388,2,    0.348,2,  1.65878222,2,   2142.3,2,   2322.0,2,   6.1657
  316N20020530,    63,  1,      1,      1,2,20020612, 71.7668,  19.1688,  257,    252.9,   5.7879,  35.1128,2,  35.1136,2,    287.1,2,   -999.0,9,     5.28,2,    12.60,2,     0.09,2,     0.83,2,    4.408,2,    2.394,2,    0.330,2,  1.67829493,2,   2145.4,2,   2316.8,2,   5.7664
  316N20020530,    64,  1,     15,     15,2,20020612, 71.4503,  19.5928,  231,      2.6,   8.4600,  34.4150,2,  34.4116,2,    316.6,2,   -999.0,9,     1.08,2,     0.88,2,     0.02,2,     0.10,2,    4.332,2,    2.382,2,    0.384,2,    1.737748,2,   2070.9,2,   2303.4,2,   8.4597
  316N20020530,    64,  1,     13,     13,2,20020612, 71.4503,  19.5928,  231,     23.5,   7.2723,  34.4851,2,  34.4919,2,    310.5,2,   -999.0,9,     1.96,2,     4.30,2,     0.08,2,     0.41,2,    4.418,2,    2.429,2,    0.386,2,  1.79621639,2,   2106.4,2,   2304.0,2,   7.2701
  316N20020530,    64,  1,     11,     11,2,20020612, 71.4503,  19.5928,  231,     53.3,   6.6847,  34.6243,2,  34.6492,2,    298.1,2,   -999.0,9,     2.44,2,     6.65,2,     0.21,2,     0.57,2,    4.383,6,    2.420,6,    0.374,6,        -999,9,   2119.6,2,   2304.1,2,   6.6799
  316N20020530,    64,  1,      9,      9,2,20020612, 71.4503,  19.5928,  231,     78.5,   6.5766,  34.8583,2,  34.8649,2,    286.8,2,   -999.0,9,     3.42,2,    10.46,2,     0.12,2,     0.69,3,    4.292,2,    2.381,2,    0.356,2,  1.80547703,2,   2131.3,2,   2311.6,2,   6.5696
  316N20020530,    64,  1,      7,      7,2,20020612, 71.4503,  19.5928,  231,    108.6,   6.4515,  34.9496,2,  34.9472,2,    285.8,2,   -999.0,9,     3.91,2,    11.43,2,     0.02,2,     0.75,2,    4.320,2,    2.368,2,    0.350,2,  1.69802031,2,   2135.7,2,   2310.8,2,   6.4419
  316N20020530,    64,  1,      5,      5,2,20020612, 71.4503,  19.5928,  231,    148.4,   6.3657,  35.0262,2,  35.0254,2,    283.6,2,   -999.0,9,     4.49,2,    12.21,2,     0.01,2,     0.81,2,    4.302,6,    2.371,6,    0.346,6,  1.68816329,2,   -999.0,9,   -999.0,9,   6.3526
  316N20020530,    64,  1,      3,      3,2,20020612, 71.4503,  19.5928,  231,    193.9,   6.3598,  35.0749,2,  35.0716,2,    281.7,2,   -999.0,9,     4.89,2,    12.51,2,     0.06,2,     0.83,2,    4.262,2,    2.362,2,    0.328,2,   1.6490739,2,   2143.9,2,   2316.3,2,   6.3426
  316N20020530,    64,  1,      1,      1,2,20020612, 71.4503,  19.5928,  231,    224.4,   6.3522,  35.0785,2,  35.0751,2,    281.4,2,   -999.0,9,     4.98,2,    12.61,2,     0.06,2,     0.83,2,    4.251,2,    2.377,2,    0.340,2,  1.67834303,2,   2145.7,2,   2316.1,2,   6.3322
  316N20020530,    65,  1,     13,     13,2,20020612, 71.1300,  19.8520,  205,      2.7,   9.4994,  34.1443,7,  34.1494,2,    311.7,2,   -999.0,9,     0.49,2,     0.29,2,     0.01,2,     0.06,2,    4.132,2,    2.304,2,    0.375,2,  1.67950005,2,   2055.0,2,   2287.5,2,   9.4991
  316N20020530,    65,  1,     11,     11,2,20020612, 71.1300,  19.8520,  205,     23.3,   7.0739,  34.6249,7,  34.6263,2,    322.1,2,   -999.0,9,     2.25,2,     4.69,2,     0.12,2,     0.37,2,    4.613,2,    2.496,2,    0.408,2,  1.80579775,2,   2099.0,2,   2306.9,2,   7.0717
  316N20020530,    65,  1,      9,      9,2,20020612, 71.1300,  19.8520,  205,     52.9,   6.4118,  34.6716,2,  34.6722,2,    305.1,2,   -999.0,9,     2.35,2,     5.57,2,     0.14,2,     0.49,2,    4.365,6,    2.381,6,    0.385,6,  1.74717163,2,   2113.8,2,   2308.1,2,   6.4072
  316N20020530,    65,  1,      7,      7,2,20020612, 71.1300,  19.8520,  205,     83.1,   6.3779,  34.8515,2,  34.8492,2,    291.8,2,   -999.0,9,     3.42,2,    10.07,2,     0.15,2,     0.70,2,    4.341,2,    2.412,2,    0.367,2,  1.72742253,2,   2134.7,2,   2311.7,2,   6.3706
  316N20020530,    65,  1,      5,      5,2,20020612, 71.1300,  19.8520,  205,    108.1,   6.4010,  34.9431,7,  34.9241,2,    288.1,2,   -999.0,9,     4.01,2,    11.63,2,     0.03,2,     0.75,2,    4.455,2,    2.491,2,    0.403,2,  1.73708513,2,   2140.6,2,   2312.2,2,   6.3914
  316N20020530,    65,  1,      3,      3,2,20020612, 71.1300,  19.8520,  205,    147.5,   6.2971,  35.0140,2,  35.0105,2,    281.8,2,   -999.0,9,     4.69,2,    12.41,2,     0.04,2,     0.80,2,    4.172,6,    2.329,6,    0.324,6,  1.70769857,2,   2144.0,2,   2314.8,2,   6.2841
  316N20020530,    65,  1,      1,      1,2,20020612, 71.1300,  19.8520,  205,    200.1,   6.2414,  35.0218,2,  35.0176,2,    279.7,2,   -999.0,9,     4.89,2,    12.51,2,     0.11,2,     0.83,2,    4.124,2,    2.331,2,    0.325,2,  1.69793132,2,   2146.0,2,   2314.3,2,   6.2238
  316N20020530,    66,  1,     15,     15,2,20020612, 70.8000,  20.0462,  174,      2.2,   9.6973,  33.9518,7,  33.9516,2,    312.8,2,   -999.0,9,     0.68,2,     0.10,2,     0.00,2,     0.06,2,    4.058,2,    2.228,2,    0.364,2,  1.64068351,2,   2043.7,2,   2276.4,2,   9.6971
  316N20020530,    66,  1,     13,     13,2,20020612, 70.8000,  20.0462,  174,     22.3,   8.6564,  34.3664,7,  34.3922,2,    316.9,2,   -999.0,9,     1.37,2,     3.52,2,     0.14,2,     0.30,2,    4.263,2,    2.356,2,    0.357,2,  1.69872202,2,   2095.8,2,   2303.5,2,   8.6541
  316N20020530,    66,  1,     11,     11,2,20020612, 70.8000,  20.0462,  174,     47.5,   7.1505,  34.6317,2,  34.6267,2,    290.7,2,   -999.0,9,     2.64,2,     7.92,2,     0.26,2,     0.57,2,    4.311,2,    2.341,2,    0.360,2,  1.70818655,2,   2120.0,2,   2300.7,2,   7.1461
  316N20020530,    66,  1,      9,      9,2,20020612, 70.8000,  20.0462,  174,     77.5,   7.0575,  34.7873,2,  34.7880,2,    284.0,2,   -999.0,9,     3.03,2,     9.58,2,     0.02,2,     0.64,2,    4.257,6,    2.341,6,    0.354,6,  1.71774134,2,   2126.8,2,   2304.6,2,   7.0503
  316N20020530,    66,  1,      7,      7,2,20020612, 70.8000,  20.0462,  174,    102.2,   6.8022,  34.8822,2,  34.8766,2,    285.2,2,   -999.0,9,     3.52,2,    10.46,2,     0.01,2,     0.68,2,    4.287,6,    2.371,6,    0.353,6,   1.6688318,2,   2132.7,2,   2308.8,2,   6.7929
  316N20020530,    66,  1,      5,      5,2,20020612, 70.8000,  20.0462,  174,    126.7,   6.1739,  34.9315,7,  34.9245,2,    283.5,2,   -999.0,9,     4.20,2,    11.82,2,     0.01,2,     0.77,2,    4.328,2,    2.405,2,    0.353,2,        -999,9,   2140.8,2,   2311.9,2,   6.1629
  316N20020530,    66,  1,      3,      3,2,20020612, 70.8000,  20.0462,  174,    146.3,   6.0915,  34.9633,2,  34.9585,2,    281.5,2,   -999.0,9,     4.59,2,    12.22,2,     0.01,2,     0.79,2,    4.357,2,    2.438,2,    0.347,2,  1.70776468,2,   2144.8,2,   2317.2,2,   6.0789
  316N20020530,    66,  1,      1,      1,2,20020612, 70.8000,  20.0462,  174,    167.9,   6.0168,  35.0102,2,  35.0127,2,    280.5,2,   -999.0,9,     4.89,2,    12.51,2,     0.11,2,     0.83,2,    4.328,2,    2.388,2,    0.347,2,  1.67842099,2,   2148.3,2,   2312.6,2,   6.0024
  316N20020530,    67,  1,     17,     17,2,20020612, 70.4707,  20.0480,  135,      4.1,   7.6227,  33.9860,7,  33.9825,2,    313.9,2,   -999.0,9,     1.66,2,     2.15,2,     0.11,2,     0.26,2,    4.573,6,    2.452,6,    0.387,6,   1.7676005,2,   2083.2,2,   2278.0,2,   7.6223
  316N20020530,    67,  1,     15,     15,2,20020612, 70.4707,  20.0480,  135,     18.0,   7.5245,  33.9735,2,  33.9841,2,    314.9,2,   -999.0,9,     1.66,2,     2.15,2,     0.12,2,     0.26,2,    4.481,2,    2.409,2,    0.385,2,        -999,9,   -999.0,9,   -999.0,9,   7.5228
  316N20020530,    67,  1,     13,     13,2,20020612, 70.4707,  20.0480,  135,     32.8,   7.0814,  34.0092,2,  34.0074,2,    310.2,2,   -999.0,9,     1.76,2,     3.03,2,     0.16,2,     0.32,2,    4.627,6,    2.476,6,    0.399,6,  1.78709886,2,   2084.8,2,   2276.9,2,   7.0784
  316N20020530,    67,  1,     11,     11,2,20020612, 70.4707,  20.0480,  135,     52.2,   6.9328,  34.0813,2,  34.0821,2,    305.5,2,   -999.0,9,     1.86,2,     3.81,2,     0.19,2,     0.37,2,    4.619,2,    2.433,2,    0.400,2,        -999,9,   2090.3,2,   2279.0,2,   6.9281
  316N20020530,    67,  1,      9,      9,2,20020612, 70.4707,  20.0480,  135,     67.4,   6.6468,  34.2007,2,  34.2105,2,    297.1,2,   -999.0,9,     2.15,2,     5.48,2,     0.25,2,     0.46,2,    4.569,2,    2.445,2,    0.395,2,  1.82588501,2,   2104.7,2,   2286.5,2,   6.6408
  316N20020530,    67,  1,      7,      7,2,20020612, 70.4707,  20.0480,  135,     82.8,   6.6223,  34.2989,2,  34.3037,2,    295.2,2,   -999.0,9,     2.35,2,     6.35,2,     0.26,2,     0.50,2,    4.525,2,    2.419,2,    0.383,2,        -999,9,   -999.0,9,   -999.0,9,   6.6149
  316N20020530,    67,  1,      5,      5,2,20020612, 70.4707,  20.0480,  135,     98.2,   6.7110,  34.4314,2,  34.4258,2,    291.9,2,   -999.0,9,     2.54,2,     7.23,2,     0.24,2,     0.54,2,    4.178,2,    2.302,2,    0.361,2,  1.76701721,2,   2114.4,2,   2291.8,2,   6.7022
  316N20020530,    67,  1,      3,      3,2,20020612, 70.4707,  20.0480,  135,    109.6,   6.7256,  34.4521,2,  34.4589,2,    290.5,2,   -999.0,9,     2.64,2,     7.53,2,     0.24,2,     0.55,2,    4.639,2,    2.463,2,    0.387,2,        -999,9,   2116.6,2,   2292.7,2,   6.7157
  316N20020530,    67,  1,      1,      1,2,20020612, 70.4707,  20.0480,  135,    133.2,   7.0701,  34.8023,2,  34.7933,2,    287.5,2,   -999.0,9,     3.13,2,     9.28,2,     0.16,2,     0.63,2,    4.407,2,    2.352,2,    0.378,2,  1.69821485,2,   2131.8,2,   2302.5,2,   7.0576
  316N20020530,    68,  1,      7,      7,2,20020614, 69.9947,  17.7993,   66,      2.4,   7.5437,  33.7877,2,  33.7906,2,    309.6,2,    310.7,2,     1.56,2,     1.66,2,     0.10,2,     0.22,2,    4.579,2,    2.469,2,    0.439,2,  1.79715451,2,   2061.6,2,   2264.7,2,   7.5435
  316N20020530,    68,  1,      5,      5,2,20020614, 69.9947,  17.7993,   66,     17.0,   7.3514,  33.8652,2,  33.8559,2,    310.1,2,    307.2,2,     1.66,2,     2.35,2,     0.13,2,     0.27,2,    4.617,6,    2.506,6,    0.430,6,        -999,9,   2069.3,2,   2266.8,2,   7.3498
  316N20020530,    68,  1,      3,      3,2,20020614, 69.9947,  17.7993,   66,     37.2,   6.5276,  34.0980,2,  34.1012,2,    295.1,2,    294.5,2,     2.25,2,     5.18,2,     0.26,2,     0.47,2,    4.631,2,    2.549,2,    0.422,2,        -999,9,   2087.2,2,   2279.5,2,   6.5243
  316N20020530,    68,  1,      1,      1,2,20020614, 69.9947,  17.7993,   66,     59.0,   6.5371,  34.1339,2,  34.1341,2,    294.5,2,    294.6,2,     2.35,2,     5.48,2,     0.27,2,     0.48,2,    4.677,6,    2.516,6,    0.435,6,  1.80645958,2,   2103.0,2,   2282.1,2,   6.5319
  316N20020530,    69,  1,     23,     23,2,20020614, 70.0052,  16.7982,  598,      4.3,   8.9477,  33.6862,2,  33.6859,2,    299.7,2,    300.4,2,     1.17,2,     0.59,2,     0.03,2,     0.12,2,    4.289,2,    2.293,2,    0.361,2,  1.70938347,2,   -999.0,9,   -999.0,9,   8.9472
  316N20020530,    69,  1,     21,     21,2,20020614, 70.0052,  16.7982,  598,     18.2,  10.0541,  34.1103,2,  34.2000,2,    303.3,2,    293.2,2,     0.78,2,     1.27,2,     0.05,2,     0.13,2, -999.000,9, -999.000,9, -999.000,9,        -999,9,   2044.0,2,   2260.9,2,  10.0520
  316N20020530,    69,  1,     19,     19,2,20020614, 70.0052,  16.7982,  598,     38.5,   7.6146,  34.9013,7,  34.8995,2,    287.2,2,    286.0,2,     2.93,2,     8.31,2,     0.29,2,     0.62,2,    4.248,2,    2.293,2,    0.351,2,   1.6980806,2,   2124.3,2,   2312.8,2,   7.6109
  316N20020530,    69,  1,     17,     17,2,20020614, 70.0052,  16.7982,  598,     73.2,   7.7207,  35.0613,2,  35.0662,2,    282.5,2,    282.6,2,     3.22,2,     9.58,2,     0.28,2,     0.66,2, -999.000,9, -999.000,9, -999.000,9,        -999,9,   -999.0,9,   -999.0,9,   7.7135
  316N20020530,    69,  1,     15,     15,2,20020614, 70.0052,  16.7982,  598,    113.3,   7.7238,  35.1533,2,  35.1549,2,    279.8,2,    280.6,2,     3.71,2,    10.85,2,     0.21,2,     0.70,2,    4.183,6,    2.279,6,    0.350,6,  1.63921442,2,   2132.4,2,   2317.9,2,   7.7126
  316N20020530,    69,  1,     13,     13,2,20020614, 70.0052,  16.7982,  598,    183.0,   7.3048,  35.1604,2,  35.1616,2,    282.8,2,    284.0,2,     3.91,2,    10.75,2,     0.13,2,     0.71,2,    4.285,2,    2.291,2,    0.362,2,  1.70750651,2,   2133.6,2,   2315.4,2,   7.2872
  316N20020530,    69,  1,     11,     11,2,20020614, 70.0052,  16.7982,  598,    251.2,   7.1301,  35.1811,2,  35.1815,2,    284.1,2,    283.5,2,     4.79,2,    12.02,2,     0.02,2,     0.78,2, -999.000,9, -999.000,9, -999.000,9,        -999,9,   -999.0,9,   -999.0,9,   7.1061
  316N20020530,    69,  1,      9,      9,2,20020614, 70.0052,  16.7982,  598,    349.9,   6.6561,  35.1659,2,  35.1668,2,    286.3,2,    285.4,2,     4.98,2,    12.51,2,     0.01,2,     0.81,2,    4.295,6,    2.319,6,    0.364,6,  1.69774276,2,   2139.2,2,   2318.6,2,   6.6238
  316N20020530,    69,  1,      7,      7,2,20020614, 70.0052,  16.7982,  598,    449.2,   5.8542,  35.1321,2,  35.1316,2,    290.9,2,    290.5,2,     4.98,2,    12.51,2,     0.01,2,     0.81,2,    4.461,2,    2.348,2,    0.357,2,  1.74657423,2,   2141.7,2,   2317.4,2,   5.8152
  316N20020530,    69,  1,      5,      5,2,20020614, 70.0052,  16.7982,  598,    498.9,   4.9234,  35.1050,7,  35.1059,2,    293.9,2,    294.2,2,     5.18,2,    12.70,2,     0.01,2,     0.82,2,    4.664,2,    2.420,2,    0.376,2,  1.70757731,2,   2144.0,2,   2313.3,2,   4.8834
  316N20020530,    69,  1,      3,      3,2,20020614, 70.0052,  16.7982,  598,    533.8,   4.2821,  35.0832,2,  35.0823,2,    296.1,2,    296.2,2,     5.37,2,    12.90,2,     0.01,2,     0.83,2, -999.000,9, -999.000,9, -999.000,9,        -999,9,   -999.0,9,   -999.0,9,   4.2419
  316N20020530,    69,  1,      1,      1,2,20020614, 70.0052,  16.7982,  598,    572.9,   3.6216,  35.0475,2,  35.0531,2,    297.2,2,    297.5,2,     5.67,2,    13.09,2,     0.01,2,     0.87,2,    4.655,2,    2.398,2,    0.377,2,  1.63933864,2,   2148.4,2,   2308.4,2,   3.5813