BOTTLE,20081218PRINUNIVRMK
EXPOCODE,STNNBR,CASTNO,SAMPNO,BTLNBR,BTLNBR_FLAG_W,DATE,LATITUDE,LONGITUDE,DEPTH,CTDPRS,CTDTMP,CTDSAL,CTDSAL_FLAG_W,SALNTY,SALNTY_FLAG_W,CTDOXY,CTDOXY_FLAG_W,OXYGEN,OXYGEN_FLAG_W,SILCAT,SILCAT_FLAG_W,NITRAT,NITRAT_FLAG_W,NITRIT,NITRIT_FLAG_W,PHSPHT,PHSPHT_FLAG_W,CFC-11,CFC-11_FLAG_W,CFC-12,CFC-12_FLAG_W,CFC113,CFC113_FLAG_W,SF6,SF6_FLAG_W,TCARBN,TCARBN_FLAG_W,ALKALI,ALKALI_FLAG_W,THETA
,,,,,,,,,METERS,DBARS,ITS-90,PSS-78,,PSS-78,,UMOL/KG,,UMOL/KG,,UMOL/KG,,UMOL/KG,,UMOL/KG,,UMOL/KG,,PMOL/KG,,PMOL/KG,,PMOL/KG,,FMOL/KG,,UMOL/KG,,UMOL/KG,,DEGC
  316N20020530,    25,  1,     35,     35,2,20020605, 75.4513,  -0.2523, 3768,      3.2,   0.7878,  34.8329,2,  34.8352,2,    362.1,2,    361.8,2,     3.42,2,     8.89,2,     0.05,2,     0.65,2, -999.000,9, -999.000,9, -999.000,9,  2.28373495,2,   2142.2,2,   2297.5,2,   0.7877
  316N20020530,    25,  1,     36,     36,2,20020605, 75.4513,  -0.2523, 3768,      3.3,   0.7891,  34.8326,2,  34.8345,2,    362.1,2,    362.0,2,     3.13,2,     8.89,2,     0.05,2,     0.65,2,    6.267,2,    3.273,2,    0.556,2,        -999,9,   -999.0,9,   -999.0,9,   0.7890
  316N20020530,    25,  1,     34,     34,2,20020605, 75.4513,  -0.2523, 3768,     45.5,  -0.3144,  34.8470,2,  34.8500,2,    353.9,2,    361.4,2,     3.62,2,     9.77,2,     0.03,2,     0.72,2,    6.294,2,    3.262,2,    0.572,2,        -999,9,   2149.8,2,   2287.0,2,  -0.3159
  316N20020530,    25,  1,     33,     33,2,20020605, 75.4513,  -0.2523, 3768,     75.8,  -0.4804,  34.8548,2,  34.8565,2,    352.6,2,    354.9,2,     4.40,2,    10.65,2,     0.03,2,     0.77,2, -999.000,9, -999.000,9, -999.000,9,        -999,9,   -999.0,9,   -999.0,9,  -0.4828
  316N20020530,    25,  1,     32,     32,2,20020605, 75.4513,  -0.2523, 3768,    105.2,  -0.6947,  34.8675,2,  34.8697,2,    342.7,2,    340.4,2,     5.86,2,    12.02,2,     0.04,2,     0.85,2,    5.577,2,    2.872,2,    0.488,2,     2.37151,2,   2161.5,2,   2305.4,2,  -0.6979
  316N20020530,    25,  1,     31,     31,2,20020605, 75.4513,  -0.2523, 3768,    136.0,  -0.7244,  34.8759,2,  34.8778,2,    333.3,2,    333.9,2,     6.65,2,    12.61,2,     0.04,2,     0.88,2, -999.000,9, -999.000,9, -999.000,9,        -999,9,   -999.0,9,   -999.0,9,  -0.7286
  316N20020530,    25,  1,     30,     30,2,20020605, 75.4513,  -0.2523, 3768,    186.4,  -0.7753,  34.8790,2,  34.8830,2,    330.9,2,    330.9,2,     6.84,2,    13.00,2,     0.02,2,     0.90,2,    5.129,6,    2.612,6,    0.431,6,  2.98631636,2,   2161.8,2,   2296.0,2,  -0.7810
  316N20020530,    25,  1,     29,     29,2,20020605, 75.4513,  -0.2523, 3768,    236.3,  -0.8056,  34.8801,2,  34.8838,2,    329.3,2,    330.3,2,     6.94,2,    13.00,2,     0.01,2,     0.90,2, -999.000,9, -999.000,9, -999.000,9,        -999,9,   -999.0,9,   -999.0,9,  -0.8129
  316N20020530,    25,  1,     28,     28,2,20020605, 75.4513,  -0.2523, 3768,    276.7,  -0.8109,  34.8821,2,  34.8848,2,    332.9,2,    330.0,2,     6.84,2,    13.10,2,     0.01,2,     0.90,2,    4.953,2,    2.551,2,    0.400,2,  3.45475351,2,   2165.6,2,   2293.1,2,  -0.8195
  316N20020530,    25,  1,     27,     27,2,20020605, 75.4513,  -0.2523, 3768,    327.1,  -0.8521,  34.8801,2,  34.8833,2,    332.9,2,    330.3,2,     6.74,2,    13.10,2,     0.01,2,     0.91,2, -999.000,9, -999.000,9, -999.000,9,  3.61090459,2,   -999.0,9,   -999.0,9,  -0.8624
  316N20020530,    25,  1,     26,     26,2,20020605, 75.4513,  -0.2523, 3768,    377.4,  -0.8229,  34.8862,2,  34.8874,2,    329.6,2,    330.1,2,     6.84,2,    13.10,2,     0.01,2,     0.90,2,    5.241,2,    2.666,2,    0.452,2,  3.52306103,2,   2165.4,2,   2291.7,2,  -0.8350
  316N20020530,    25,  1,     25,     25,2,20020605, 75.4513,  -0.2523, 3768,    458.3,  -0.8561,  34.8823,2,  34.8863,2,    330.8,2,    331.2,2,     6.74,2,    13.00,2,     0.00,2,     0.90,2, -999.000,9, -999.000,9, -999.000,9,  3.52306391,2,   -999.0,9,   -999.0,9,  -0.8710
  316N20020530,    25,  1,     24,     24,2,20020605, 75.4513,  -0.2523, 3768,    558.3,  -0.8716,  34.8826,2,  34.8858,2,    330.2,2,    331.1,2,     6.74,2,    13.10,2,     0.00,2,     0.91,2,    4.941,2,    2.561,2,    0.416,2,  3.55234277,2,   -999.0,9,   -999.0,9,  -0.8902
  316N20020530,    25,  1,     23,     23,2,20020605, 75.4513,  -0.2523, 3768,    658.4,  -0.8761,  34.8827,2,  34.8832,2,    330.3,2,    330.1,2,     6.74,2,    13.10,2,     0.00,2,     0.91,2, -999.000,9, -999.000,9, -999.000,9,        -999,9,   -999.0,9,   -999.0,9,  -0.8987
  316N20020530,    25,  1,     22,     22,2,20020605, 75.4513,  -0.2523, 3768,    759.5,  -0.8852,  34.8829,2,  34.8870,2,    329.8,2,    330.0,2,     7.13,2,    13.19,2,     0.00,2,     0.91,2,    4.989,2,    2.527,2,    0.409,2,  3.60113547,2,   2164.5,2,   2291.7,2,  -0.9119
  316N20020530,    25,  1,     21,     21,2,20020605, 75.4513,  -0.2523, 3768,    859.6,  -0.8810,  34.8834,2,  34.8863,2,    329.5,2,    329.9,2,     7.04,2,    13.19,2,     0.00,2,     0.91,2, -999.000,9, -999.000,9, -999.000,9,  3.57185981,2,   -999.0,9,   -999.0,9,  -0.9120
  316N20020530,    25,  1,     20,     20,2,20020605, 75.4513,  -0.2523, 3768,    960.9,  -0.8850,  34.8833,2,  34.8861,2,    329.4,2,    330.1,2,     7.13,2,    13.19,2,     0.00,2,     0.91,2,    4.974,2,    2.505,2,    0.405,2,  3.58161952,2,   2166.2,2,   2293.4,2,  -0.9205
  316N20020530,    25,  1,     19,     19,2,20020605, 75.4513,  -0.2523, 3768,   1061.8,  -0.8908,  34.8838,2,  34.8853,2,    329.4,2,    329.7,2,     6.94,2,    13.19,2,     0.00,2,     0.91,2, -999.000,9, -999.000,9, -999.000,9,  3.53282572,2,   -999.0,9,   -999.0,9,  -0.9310
  316N20020530,    25,  1,     18,     18,2,20020605, 75.4513,  -0.2523, 3768,   1162.9,  -0.8855,  34.8839,2,  34.8866,2,    328.9,2,    328.1,2,     6.94,2,    13.19,2,     0.00,2,     0.91,2,    4.891,2,    2.466,2,    0.404,2,        -999,9,   -999.0,9,   -999.0,9,  -0.9306
  316N20020530,    25,  1,     17,     17,2,20020605, 75.4513,  -0.2523, 3768,   1264.0,  -0.8695,  34.8862,2,  34.8888,2,    327.7,2,    328.3,2,     7.33,2,    13.29,2,     0.00,2,     0.92,2,    4.643,2,    2.387,2,    0.384,2,  3.41570658,2,   2166.1,2,   2294.6,2,  -0.9199
  316N20020530,    25,  1,     16,     16,2,20020605, 75.4513,  -0.2523, 3768,   1364.4,  -0.8669,  34.8867,2,  34.8882,2,    329.0,2,    328.2,2,     7.33,2,    13.29,2,     0.00,2,     0.92,2,    4.732,2,    2.407,2,    0.395,2,  3.36691227,2,   -999.0,9,   -999.0,9,  -0.9226
  316N20020530,    25,  1,     15,     15,2,20020605, 75.4513,  -0.2523, 3768,   1474.2,  -0.8609,  34.8875,2,  34.8873,2,    326.1,2,    326.2,2,     7.72,2,    13.39,2,     0.00,2,     0.93,2,    4.476,6,    2.303,6,    0.370,6,  3.24004528,2,   2165.9,2,   2292.5,2,  -0.9226
  316N20020530,    25,  1,     14,     14,2,20020605, 75.4513,  -0.2523, 3768,   1585.1,  -0.8479,  34.8892,2,  34.8899,2,    322.6,2,    322.3,2,     8.11,2,    13.58,2,     0.00,2,     0.94,2,    4.042,2,    2.051,2,    0.332,2,  2.83991371,2,   -999.0,9,   -999.0,9,  -0.9159
  316N20020530,    25,  1,     13,     13,2,20020605, 75.4513,  -0.2523, 3768,   1687.2,  -0.8113,  34.8951,2,  34.8970,2,    311.4,2,    314.8,2,     8.89,2,    13.97,2,     0.00,2,     0.96,2,    3.051,2,    1.582,2,    0.242,2,  2.15676156,2,   2163.2,2,   2296.1,2,  -0.8858
  316N20020530,    25,  1,     12,     12,2,20020605, 75.4513,  -0.2523, 3768,   1819.9,  -0.7564,  34.9050,2,  34.9067,2,    304.3,2,    304.3,2,    10.36,2,    14.66,2,     0.00,2,     1.02,2,    1.857,2,    0.906,2,    0.128,2, 0.829517686,2,   2163.2,2,   2297.0,2,  -0.8397
  316N20020530,    25,  1,     11,     11,2,20020605, 75.4513,  -0.2523, 3768,   1921.3,  -0.7601,  34.9083,2,  34.9095,2,    300.9,2,    300.7,2,    10.75,2,    14.76,2,     0.00,2,     1.02,2, -999.000,9, -999.000,9, -999.000,9, 0.448914518,2,   2163.9,2,   2300.8,2,  -0.8497
  316N20020530,    25,  1,     10,     10,2,20020605, 75.4513,  -0.2523, 3768,   2073.1,  -0.7911,  34.9112,2,  34.9111,2,    299.4,2,    299.6,2,    11.14,2,    14.76,2,     0.00,2,     1.03,2,    1.036,2,    0.510,2,    0.058,2,  0.28301099,2,   2166.8,2,   2296.2,2,  -0.8900
  316N20020530,    25,  1,      9,      9,2,20020605, 75.4513,  -0.2523, 3768,   2275.8,  -0.8306,  34.9107,2,  34.9111,2,    299.3,2,    299.8,2,    11.34,2,    14.85,2,     0.00,2,     1.03,2,    0.847,2,    0.424,2,    0.039,2, 0.146384995,2,   -999.0,9,   -999.0,9,  -0.9424
  316N20020530,    25,  1,      8,      8,2,20020605, 75.4513,  -0.2523, 3768,   2478.8,  -0.8561,  34.9109,2,  34.9110,2,    300.0,2,    300.3,2,    11.73,2,    14.95,2,     0.00,2,     1.03,2,    0.785,2,    0.377,2,    0.038,2,        -999,9,   -999.0,9,   -999.0,9,  -0.9817
  316N20020530,    25,  1,      7,      7,2,20020605, 75.4513,  -0.2523, 3768,   2681.2,  -0.8727,  34.9103,2,  34.9112,2,    300.7,2,    300.6,2,    11.73,2,    14.85,2,     0.00,2,     1.03,2, -999.000,9, -999.000,9, -999.000,9, 0.156143983,2,   -999.0,9,   -999.0,9,  -1.0129
  316N20020530,    25,  1,      6,      6,2,20020605, 75.4513,  -0.2523, 3768,   2885.2,  -0.8870,  34.9095,2,  34.9099,2,    301.5,2,    302.2,2,    11.92,2,    14.95,2,     0.00,2,     1.03,2,    0.739,2,    0.367,2,    0.031,2, 0.165903142,2,   -999.0,9,   -999.0,9,  -1.0425
  316N20020530,    25,  1,      5,      5,2,20020605, 75.4513,  -0.2523, 3768,   3087.8,  -0.8961,  34.9087,2,  34.9081,2,    302.2,2,    303.5,2,    11.92,2,    14.85,2,     0.00,2,     1.03,2,    0.746,2,    0.372,2,    0.029,2, 0.146385322,2,   2161.6,2,   2298.2,2,  -1.0675
  316N20020530,    25,  1,      4,      4,2,20020605, 75.4513,  -0.2523, 3768,   3291.9,  -0.9021,  34.9072,2,  34.9064,2,    302.9,2,    302.9,2,    12.12,2,    14.95,2,     0.00,2,     1.03,2, -999.000,9, -999.000,9, -999.000,9, 0.165903574,2,   -999.0,9,   -999.0,9,  -1.0903
  316N20020530,    25,  1,      3,      3,2,20020605, 75.4513,  -0.2523, 3768,   3496.6,  -0.8958,  34.9059,2,-999.0000,9,    303.2,2,    303.1,2,    12.12,2,    14.95,2,     0.00,2,     1.03,2,    0.772,2,    0.387,2,    0.031,2, 0.165900521,2,   -999.0,9,   -999.0,9,  -1.1017
  316N20020530,    25,  1,      2,      2,2,20020605, 75.4513,  -0.2523, 3768,   3649.5,  -0.8872,  34.9052,2,  34.9056,2,    303.3,2,    303.0,2,    12.12,2,    14.95,2,     0.00,2,     1.03,2,    0.753,2,    0.367,2,    0.031,2, 0.185421752,2,   2160.9,2,   2295.7,2,  -1.1069
  316N20020530,    25,  1,      1,      1,2,20020605, 75.4513,  -0.2523, 3768,   3765.9,  -0.8810,  34.9051,2,  34.9045,2,    303.1,2,    303.3,2,    12.12,2,    14.95,2,     0.00,2,     1.03,2,    0.781,2,    0.389,2,    0.032,2, 0.224458095,2,   2159.9,2,   2292.1,2,  -1.1114
  316N20020530,    26,  1,     31,     31,2,20020606, 75.7187,   0.6902, 2705,      3.6,   0.9594,  34.8567,2,  34.8584,2,    361.2,2,    361.8,2,     4.10,2,     8.99,2,     0.06,2,     0.66,2,    6.335,2,    3.292,2,    0.596,2,  2.32273303,2,   2140.1,2,   2297.3,2,   0.9592
  316N20020530,    26,  1,     30,     30,2,20020606, 75.7187,   0.6902, 2705,     24.7,   0.9357,  34.8567,2,  34.8573,2,    363.6,2,    362.0,2,     4.10,2,     9.09,2,     0.06,2,     0.66,2, -999.000,9, -999.000,9, -999.000,9,        -999,9,   -999.0,9,   -999.0,9,   0.9346
  316N20020530,    26,  1,     29,     29,2,20020606, 75.7187,   0.6902, 2705,     44.7,   0.0616,  34.8759,2,  34.8810,2,    361.8,2,    361.4,2,     5.08,2,     9.87,2,     0.04,2,     0.73,2,    6.165,2,    3.204,2,    0.594,2,  2.39100849,2,   -999.0,9,   -999.0,9,   0.0600
  316N20020530,    26,  1,     28,     28,2,20020606, 75.7187,   0.6902, 2705,     64.9,  -0.1182,  34.8831,2,  34.8845,2,    350.2,2,    352.1,2,     5.28,2,    10.95,2,     0.03,2,     0.79,2, -999.000,9, -999.000,9, -999.000,9,        -999,9,   -999.0,9,   -999.0,9,  -0.1205
  316N20020530,    26,  1,     27,     27,2,20020606, 75.7187,   0.6902, 2705,     95.3,  -0.4528,  34.8833,2,  34.8861,2,    343.2,2,    341.6,2,     5.67,2,    12.02,2,     0.04,2,     0.85,2,    5.839,2,    2.999,2,    0.514,2,  2.43979532,2,   -999.0,9,   -999.0,9,  -0.4559
  316N20020530,    26,  1,     26,     26,2,20020606, 75.7187,   0.6902, 2705,    125.2,  -0.4408,  34.8886,2,  34.8900,2,    338.6,2,    336.6,2,     5.86,2,    12.31,2,     0.04,2,     0.87,2,    5.599,6,    2.878,6,    0.495,6,        -999,9,   2157.8,2,   2296.9,2,  -0.4449
  316N20020530,    26,  1,     25,     25,2,20020606, 75.7187,   0.6902, 2705,    155.4,  -0.5046,  34.8883,2,  34.8904,2,    333.8,2,    335.7,2,     5.86,2,    12.51,2,     0.04,2,     0.88,2,    5.523,2,    2.843,2,    0.486,2,  2.58617476,2,   -999.0,9,   -999.0,9,  -0.5097
  316N20020530,    26,  1,     24,     24,2,20020606, 75.7187,   0.6902, 2705,    185.9,  -0.5121,  34.8893,2,  34.8917,2,    331.2,2,    333.3,2,     5.96,2,    12.61,2,     0.04,2,     0.89,2,    5.326,2,    2.755,2,    0.451,2,  2.63496796,2,   -999.0,9,   -999.0,9,  -0.5182
  316N20020530,    26,  1,     23,     23,2,20020606, 75.7187,   0.6902, 2705,    221.0,  -0.5149,  34.8920,2,  34.8921,2,    329.2,2,    328.5,2,     6.16,2,    12.90,2,     0.03,2,     0.90,2, -999.000,9, -999.000,9, -999.000,9,        -999,9,   -999.0,9,   -999.0,9,  -0.5223
  316N20020530,    26,  1,     22,     22,2,20020606, 75.7187,   0.6902, 2705,    256.2,  -0.5445,  34.8926,2,  34.8915,2,    328.6,2,    330.2,2,     6.16,2,    13.00,2,     0.03,2,     0.90,2,    5.131,2,    2.642,2,    0.448,2,  2.89846518,2,   2159.8,2,   2293.4,2,  -0.5530
  316N20020530,    26,  1,     21,     21,2,20020606, 75.7187,   0.6902, 2705,    296.2,  -0.6169,  34.8894,2,  34.8915,2,    324.9,2,    325.1,2,     6.55,2,    13.10,2,     0.01,2,     0.92,2, -999.000,9, -999.000,9, -999.000,9,        -999,9,   -999.0,9,   -999.0,9,  -0.6267
  316N20020530,    26,  1,     20,     20,2,20020606, 75.7187,   0.6902, 2705,    336.5,  -0.5875,  34.8933,2,  34.8959,2,    325.0,2,    328.6,2,     6.45,2,    13.00,2,     0.01,2,     0.91,2,    4.943,2,    2.535,2,    0.435,2,  3.35713386,2,   -999.0,9,   -999.0,9,  -0.5988
  316N20020530,    26,  1,     19,     19,2,20020606, 75.7187,   0.6902, 2705,    371.6,  -0.5701,  34.8960,2,  34.8982,2,    328.3,2,    326.2,2,     6.35,2,    13.10,2,     0.01,2,     0.91,2, -999.000,9, -999.000,9, -999.000,9,        -999,9,   -999.0,9,   -999.0,9,  -0.5828
  316N20020530,    26,  1,     18,     18,2,20020606, 75.7187,   0.6902, 2705,    406.9,  -0.6581,  34.8913,2,  34.8940,2,    329.3,2,    324.9,2,     6.74,2,    13.19,2,     0.00,2,     0.92,2,    4.775,2,    2.454,2,    0.407,2,  3.86461305,2,   2164.0,2,   2299.4,2,  -0.6718
  316N20020530,    26,  1,     17,     17,2,20020606, 75.7187,   0.6902, 2705,    482.4,  -0.6941,  34.8897,2,  34.8929,2,    327.4,2,    325.6,2,     6.84,2,    13.19,2,     0.00,2,     0.92,2,    4.759,2,    2.432,2,    0.402,2,        -999,9,   -999.0,9,   -999.0,9,  -0.7106
  316N20020530,    26,  1,     16,     16,3,20020606, 75.7187,   0.6902, 2705,    571.7,  -0.6920,  34.8925,2,  34.8929,2,    322.7,2,    325.7,2,     6.65,2,    13.19,2,     0.00,2,     0.92,2,    4.865,2,    2.488,2,    0.413,2,  3.79630229,2,   -999.0,9,   -999.0,9,  -0.7120
  316N20020530,    26,  1,     15,     15,2,20020606, 75.7187,   0.6902, 2705,    656.7,  -0.7069,  34.8924,2,  34.8946,2,    327.2,2,    328.1,2,     6.55,2,    13.10,2,     0.00,2,     0.92,2, -999.000,9, -999.000,9, -999.000,9,  3.41569183,2,   2162.3,2,   2297.3,2,  -0.7303
  316N20020530,    26,  1,     14,     14,2,20020606, 75.7187,   0.6902, 2705,    756.7,  -0.7637,  34.8893,2,  34.8917,2,    326.8,2,    327.3,2,     6.74,2,    13.19,2,     0.00,2,     0.92,2, -999.000,9, -999.000,9, -999.000,9,  3.76702826,2,   -999.0,9,   -999.0,9,  -0.7910
  316N20020530,    26,  1,     13,     13,2,20020606, 75.7187,   0.6902, 2705,    856.9,  -0.7877,  34.8886,2,  34.8899,2,    326.0,2,    326.8,2,     6.84,2,    13.29,2,     0.00,2,     0.93,2,    4.752,2,    2.404,2,    0.376,2,  3.82558823,2,   -999.0,9,   -999.0,9,  -0.8193
  316N20020530,    26,  1,     12,     12,2,20020606, 75.7187,   0.6902, 2705,    958.3,  -0.8145,  34.8870,2,  34.8901,2,    323.6,2,    324.7,2,     7.04,2,    13.39,2,     0.00,2,     0.93,2, -999.000,9, -999.000,9, -999.000,9,  3.78655105,2,   -999.0,9,   -999.0,9,  -0.8505
  316N20020530,    26,  1,     11,     11,2,20020606, 75.7187,   0.6902, 2705,   1058.0,  -0.8356,  34.8872,2,  34.8881,2,    322.3,2,    322.0,2,     7.43,2,    13.58,2,     0.00,2,     0.94,2,    4.066,2,    2.049,2,    0.324,2,  3.51330002,2,   2161.4,2,   2297.5,2,  -0.8761
  316N20020530,    26,  1,     10,     10,2,20020606, 75.7187,   0.6902, 2705,   1188.1,  -0.8193,  34.8921,2,  34.8940,2,    316.9,2,    316.1,2,     8.11,2,    13.78,2,     0.00,2,     0.96,2,    3.418,2,    1.714,2,    0.243,2,        -999,9,   -999.0,9,   -999.0,9,  -0.8663
  316N20020530,    26,  1,      9,      9,2,20020606, 75.7187,   0.6902, 2705,   1330.6,  -0.7741,  34.9011,2,  34.9025,2,    306.7,2,    305.9,2,     9.19,2,    14.27,2,     0.00,2,     1.00,2,    2.314,2,    1.123,2,    0.156,2,   1.4931365,2,   -999.0,9,   -999.0,9,  -0.8290
  316N20020530,    26,  1,      8,      8,2,20020606, 75.7187,   0.6902, 2705,   1461.4,  -0.7704,  34.9054,2,  34.9066,2,    302.5,2,    302.6,2,     9.87,2,    14.46,2,     0.00,2,     1.01,2,    1.691,2,    0.803,2,    0.100,2,        -999,9,   -999.0,9,   -999.0,9,  -0.8325
  316N20020530,    26,  1,      7,      7,2,20020606, 75.7187,   0.6902, 2705,   1612.0,  -0.7939,  34.9094,2,  34.9093,2,    300.5,2,    300.6,2,    10.26,2,    14.66,2,     0.00,2,     1.02,2,    1.274,2,    0.610,2,    0.061,2, 0.390360509,2,   2160.6,2,   2298.9,2,  -0.8642
  316N20020530,    26,  1,      6,      6,2,20020606, 75.7187,   0.6902, 2705,   1812.9,  -0.8302,  34.9100,2,  34.9107,2,    299.6,2,    300.0,2,    10.75,2,    14.76,2,     0.00,2,     1.03,2,    0.924,2,    0.459,2,    0.048,2,        -999,9,   -999.0,9,   -999.0,9,  -0.9120
  316N20020530,    26,  1,      5,      5,2,20020606, 75.7187,   0.6902, 2705,   2014.1,  -0.8581,  34.9097,2,  34.9107,2,    300.0,2,    300.3,2,    10.75,2,    14.85,2,     0.00,2,     1.03,2,    0.804,6,    0.395,6,    0.041,6, 0.165903043,2,   -999.0,9,   -999.0,9,  -0.9521
  316N20020530,    26,  1,      4,      4,2,20020606, 75.7187,   0.6902, 2705,   2216.4,  -0.8756,  34.9098,2,  34.9109,2,    300.6,2,    300.8,2,    11.24,2,    14.85,2,     0.00,2,     1.03,2,    0.734,2,    0.377,2,    0.038,2,        -999,9,   2159.7,2,   2300.4,2,  -0.9826
  316N20020530,    26,  1,      3,      3,3,20020606, 75.7187,   0.6902, 2705,   2419.6,  -0.8889,  34.9102,2,  34.9103,2,    301.1,2,    300.9,2,    11.34,2,    14.85,2,     0.00,2,     1.03,2, -999.000,9, -999.000,9, -999.000,9, 0.117108065,2,   -999.0,9,   -999.0,9,  -1.0097
  316N20020530,    26,  1,      2,      2,2,20020606, 75.7187,   0.6902, 2705,   2571.8,  -0.8910,  34.9097,2,  34.9097,2,    301.7,2,    301.3,2,    11.53,2,    14.85,2,     0.00,2,     1.03,2,    0.710,2,    0.365,2,    0.036,2, 0.107349108,2,   2160.5,2,   2292.8,2,  -1.0227
  316N20020530,    26,  1,      1,      1,2,20020606, 75.7187,   0.6902, 2705,   2679.6,  -0.8900,  34.9101,2,  34.9101,2,    300.3,2,    300.9,2,    11.53,2,    14.85,2,     0.00,2,     1.04,2,    0.708,2,    0.363,2,    0.034,2, 0.136626097,2,   2160.4,2,   2298.9,2,  -1.0297