BOTTLE,20081218PRINUNIVRMK
EXPOCODE,STNNBR,CASTNO,SAMPNO,BTLNBR,BTLNBR_FLAG_W,DATE,LATITUDE,LONGITUDE,DEPTH,CTDPRS,CTDTMP,CTDSAL,CTDSAL_FLAG_W,SALNTY,SALNTY_FLAG_W,CTDOXY,CTDOXY_FLAG_W,OXYGEN,OXYGEN_FLAG_W,SILCAT,SILCAT_FLAG_W,NITRAT,NITRAT_FLAG_W,NITRIT,NITRIT_FLAG_W,PHSPHT,PHSPHT_FLAG_W,CFC-11,CFC-11_FLAG_W,CFC-12,CFC-12_FLAG_W,CFC113,CFC113_FLAG_W,SF6,SF6_FLAG_W,TCARBN,TCARBN_FLAG_W,ALKALI,ALKALI_FLAG_W,THETA
,,,,,,,,,METERS,DBARS,ITS-90,PSS-78,,PSS-78,,UMOL/KG,,UMOL/KG,,UMOL/KG,,UMOL/KG,,UMOL/KG,,UMOL/KG,,PMOL/KG,,PMOL/KG,,PMOL/KG,,FMOL/KG,,UMOL/KG,,UMOL/KG,,DEGC
  316N20020530,    44,  1,     27,     27,2,20020610, 75.3405,   9.6830, 2552,      2.5,   5.3808,  35.1164,7,  35.1148,2,    344.2,2,   -999.0,9,     4.10,2,     6.64,2,     0.08,2,     0.51,2,    4.948,2,    2.664,2,    0.459,2,  1.76611111,2,   2120.8,2,   2316.1,2,   5.3806
  316N20020530,    44,  1,     26,     26,2,20020610, 75.3405,   9.6830, 2552,     19.6,   4.8880,  35.0995,7,  35.1034,2,    343.9,2,   -999.0,9,     4.49,2,     7.72,2,     0.09,2,     0.57,2, -999.000,9, -999.000,9, -999.000,9,        -999,9,   -999.0,9,   -999.0,9,   4.8865
  316N20020530,    44,  1,     25,     25,2,20020610, 75.3405,   9.6830, 2552,     49.9,   4.2441,  35.1101,2,  35.1089,2,    326.5,2,   -999.0,9,     4.40,2,     9.97,2,     0.13,2,     0.72,2,    4.994,2,    2.689,2,    0.449,2,  1.27824073,2,   2143.0,2,   2321.4,2,   4.2405
  316N20020530,    44,  1,     24,     24,2,20020610, 75.3405,   9.6830, 2552,     85.7,   3.9058,  35.1042,2,  35.1048,2,    320.3,2,   -999.0,9,     4.79,2,    11.33,2,     0.18,2,     0.78,2, -999.000,9, -999.000,9, -999.000,9,        -999,9,   -999.0,9,   -999.0,9,   3.8999
  316N20020530,    44,  1,     23,     23,2,20020610, 75.3405,   9.6830, 2552,    115.3,   3.6922,  35.0940,2,  35.0932,2,    323.1,2,   -999.0,9,     4.98,2,    12.12,2,     0.09,2,     0.81,2,    5.016,2,    2.695,2,    0.462,2,  1.74662416,2,   2149.1,2,   2311.1,2,   3.6844
  316N20020530,    44,  1,     22,     22,2,20020610, 75.3405,   9.6830, 2552,    155.6,   3.2619,  35.0706,2,  35.0712,2,    320.9,2,   -999.0,9,     4.98,2,    12.21,2,     0.05,2,     0.81,2, -999.000,9, -999.000,9, -999.000,9,        -999,9,   -999.0,9,   -999.0,9,   3.2519
  316N20020530,    44,  1,     21,     21,2,20020610, 75.3405,   9.6830, 2552,    206.2,   2.8010,  35.0473,7,  35.0532,2,    322.3,2,   -999.0,9,     5.08,2,    12.31,2,     0.06,2,     0.81,2,    5.125,2,    2.716,2,    0.453,2,   1.7369182,2,   2154.6,2,   2307.6,2,   2.7884
  316N20020530,    44,  1,     20,     20,2,20020610, 75.3405,   9.6830, 2552,    255.9,   2.6129,  35.0489,2,  35.0506,2,    322.4,2,   -999.0,9,     5.08,2,    12.41,2,     0.01,2,     0.81,2, -999.000,9, -999.000,9, -999.000,9,        -999,9,   -999.0,9,   -999.0,9,   2.5976
  316N20020530,    44,  1,     19,     19,2,20020610, 75.3405,   9.6830, 2552,    331.1,   2.4359,  35.0478,2,  35.0496,2,    327.9,2,   -999.0,9,     5.08,2,    12.31,2,     0.02,2,     0.81,2,    5.247,2,    2.772,2,    0.452,2,  1.77595483,2,   2155.7,2,   2307.9,2,   2.4164
  316N20020530,    44,  1,     18,     18,2,20020610, 75.3405,   9.6830, 2552,    406.2,   1.9246,  35.0106,2,  35.0137,2,    325.0,2,   -999.0,9,     5.28,2,    12.70,2,     0.01,2,     0.85,2,    5.062,2,    2.669,2,    0.423,2,    1.688178,2,   2158.6,2,   2306.6,2,   1.9021
  316N20020530,    44,  1,     17,     17,2,20020610, 75.3405,   9.6830, 2552,    465.6,   1.1108,  34.9568,2,  34.9554,2,    322.6,2,   -999.0,9,     5.57,2,    12.80,2,     0.01,2,     0.86,2, -999.000,9, -999.000,9, -999.000,9,        -999,9,   -999.0,9,   -999.0,9,   1.0879
  316N20020530,    44,  1,     16,     16,2,20020610, 75.3405,   9.6830, 2552,    525.0,   0.6111,  34.9287,2,  34.9271,2,    314.4,2,   -999.0,9,     5.86,2,    13.00,2,     0.00,2,     0.88,2,    4.978,2,    2.574,2,    0.389,2,  1.53214469,2,   2160.7,2,   2299.9,2,   0.5872
  316N20020530,    44,  1,     15,     15,2,20020610, 75.3405,   9.6830, 2552,    604.5,   0.1582,  34.9043,2,  34.9110,2,    311.5,2,   -999.0,9,     6.06,2,    13.10,2,     0.00,2,     0.89,2,    4.899,2,    2.503,2,    0.382,2,  1.55168106,2,   2161.2,2,   2299.0,2,   0.1325
  316N20020530,    44,  1,     14,     14,2,20020610, 75.3405,   9.6830, 2552,    704.6,  -0.1565,  34.8981,2,  34.9000,2,    308.3,2,   -999.0,9,     6.84,2,    13.78,2,     0.00,2,     0.94,2,    4.122,2,    2.092,2,    0.303,2,  1.57121192,2,   -999.0,9,   -999.0,9,  -0.1852
  316N20020530,    44,  1,     13,     13,2,20020610, 75.3405,   9.6830, 2552,    805.8,  -0.4568,  34.8919,2,  34.8931,2,    307.8,2,   -999.0,9,     7.52,2,    13.97,2,     0.00,2,     0.96,2,    3.660,2,    1.851,2,    0.273,2,  2.13724956,2,   2166.5,2,   2297.5,2,  -0.4883
  316N20020530,    44,  1,     12,     12,2,20020610, 75.3405,   9.6830, 2552,    886.5,  -0.5699,  34.8913,2,  34.8926,2,    308.4,2,   -999.0,9,     7.72,2,    14.07,2,     0.00,2,     0.97,2,    3.429,6,    1.746,6,    0.249,6,   2.7520758,2,   -999.0,9,   -999.0,9,  -0.6044
  316N20020530,    44,  1,     11,     11,2,20020610, 75.3405,   9.6830, 2552,   1007.5,  -0.6821,  34.8932,2,  34.8951,2,    306.5,2,   -999.0,9,     8.40,2,    14.27,2,     0.00,2,     0.98,2, -999.000,9, -999.000,9, -999.000,9,   2.8886983,2,   2165.5,2,   2299.3,2,  -0.7215
  316N20020530,    44,  1,     10,     10,2,20020610, 75.3405,   9.6830, 2552,   1108.4,  -0.7123,  34.8963,2,  34.8981,2,    306.9,2,   -999.0,9,     8.80,2,    14.37,2,     0.00,2,     0.98,2,    2.597,2,    1.286,2,    0.171,2,  2.26410983,2,   2167.0,2,   2304.3,2,  -0.7564
  316N20020530,    44,  1,      9,      9,2,20020610, 75.3405,   9.6830, 2552,   1234.4,  -0.7358,  34.9019,2,  34.9024,2,    303.5,2,   -999.0,9,     9.48,2,    14.46,2,     0.00,2,     0.99,2,    2.099,2,    1.044,2,    0.129,2,  1.39554599,2,   -999.0,9,   -999.0,9,  -0.7861
  316N20020530,    44,  1,      8,      8,2,20020610, 75.3405,   9.6830, 2552,   1359.7,  -0.7538,  34.9060,2,  34.9074,2,    300.1,2,   -999.0,9,    10.26,2,    14.76,2,     0.00,2,     1.01,2,    1.579,2,    0.743,2,    0.081,2,  0.67337283,2,   2164.6,2,   2297.6,2,  -0.8105
  316N20020530,    44,  1,      7,      7,2,20020610, 75.3405,   9.6830, 2552,   1485.9,  -0.7881,  34.9076,2,  34.9097,2,    298.4,2,   -999.0,9,    10.75,2,    14.85,2,     0.00,2,     1.02,2,    1.172,2,    0.568,2,    0.060,2, 0.370842373,2,   -999.0,9,   -999.0,9,  -0.8513
  316N20020530,    44,  1,      6,      6,2,20020610, 75.3405,   9.6830, 2552,   1611.3,  -0.8153,  34.9089,2,  34.9103,2,    298.1,2,   -999.0,9,    11.14,2,    14.95,2,     0.00,2,     1.02,2,    0.990,2,    0.489,2,    0.049,2,        -999,9,   2165.3,2,   2299.6,2,  -0.8853
  316N20020530,    44,  1,      5,      5,2,20020610, 75.3405,   9.6830, 2552,   1812.9,  -0.8481,  34.9096,2,  34.9111,2,    298.0,2,   -999.0,9,    11.53,2,    14.85,2,     0.00,2,     1.02,2,    0.838,6,    0.416,6,    0.040,6, 0.156143994,2,   -999.0,9,   -999.0,9,  -0.9296
  316N20020530,    44,  1,      4,      4,2,20020610, 75.3405,   9.6830, 2552,   2014.6,  -0.8617,  34.9101,2,  34.9108,2,    298.4,2,   -999.0,9,    11.73,2,    15.05,2,     0.00,2,     1.02,2,    0.721,2,    0.380,2,    0.035,2, 0.136626025,2,   2166.0,2,   2309.4,2,  -0.9556
  316N20020530,    44,  1,      3,      3,2,20020610, 75.3405,   9.6830, 2552,   2216.8,  -0.8681,  34.9099,2,  34.9104,2,    298.2,2,   -999.0,9,    12.02,2,    15.15,2,     0.00,2,     1.02,2,    0.628,2,    0.337,2,    0.032,2, 0.146385071,2,   -999.0,9,   -999.0,9,  -0.9753
  316N20020530,    44,  1,      2,      2,2,20020610, 75.3405,   9.6830, 2552,   2419.6,  -0.8631,  34.9103,2,  34.9112,2,    298.3,2,   -999.0,9,    12.31,2,    15.15,2,     0.00,2,     1.03,2,    0.583,2,    0.317,2,    0.028,2, 0.156143983,2,   2164.4,2,   2301.5,2,  -0.9844
  316N20020530,    44,  1,      1,      1,2,20020610, 75.3405,   9.6830, 2552,   2520.4,  -0.8583,  34.9103,2,  34.9098,2,    297.7,2,   -999.0,9,    12.51,2,    15.25,2,     0.00,2,     1.03,2,    0.556,2,    0.304,2,    0.028,2, 0.165903154,2,   2165.6,2,   2305.3,2,  -0.9869
  316N20020530,    45,  1,     27,     27,2,20020610, 75.3282,  11.6962, 2228,      2.3,   6.1754,  35.0986,2,  35.0973,2,    339.9,2,   -999.0,9,     2.74,2,     5.77,2,     0.10,2,     0.44,2,    4.581,2,    2.558,2,    0.415,2,        -999,9,   2103.4,2,   2320.5,2,   6.1752
  316N20020530,    45,  1,     26,     26,2,20020610, 75.3282,  11.6962, 2228,     18.8,   5.9454,  35.0975,2,  35.0963,2,    342.1,2,   -999.0,9,     2.83,2,     6.16,2,     0.10,2,     0.48,2, -999.000,9, -999.000,9, -999.000,9,        -999,9,   -999.0,9,   -999.0,9,   5.9438
  316N20020530,    45,  1,     25,     25,2,20020610, 75.3282,  11.6962, 2228,     38.9,   4.9491,  35.0923,2,  35.0920,2,    335.1,2,   -999.0,9,     4.10,2,     7.33,2,     0.09,2,     0.56,2,    4.893,2,    2.640,2,    0.441,2,  1.80517183,2,   2120.6,2,   2318.2,2,   4.9461
  316N20020530,    45,  1,     24,     24,2,20020610, 75.3282,  11.6962, 2228,     74.7,   4.3901,  35.0922,2,  35.0904,2,    314.1,2,   -999.0,9,     4.40,2,    10.46,2,     0.15,2,     0.73,2, -999.000,9, -999.000,9, -999.000,9,        -999,9,   -999.0,9,   -999.0,9,   4.3847
  316N20020530,    45,  1,     23,     23,2,20020610, 75.3282,  11.6962, 2228,    109.5,   3.9693,  35.0889,2,  35.0879,2,    312.1,2,   -999.0,9,     4.79,2,    12.02,2,     0.10,2,     0.80,2,    4.827,2,    2.620,2,    0.400,2,  1.73687333,2,   2141.7,2,   2304.0,2,   3.9617
  316N20020530,    45,  1,     22,     22,2,20020610, 75.3282,  11.6962, 2228,    149.6,   3.5927,  35.0778,2,  35.0765,2,    317.1,2,   -999.0,9,     4.79,2,    11.73,2,     0.15,2,     0.79,2, -999.000,9, -999.000,9, -999.000,9,        -999,9,   -999.0,9,   -999.0,9,   3.5827
  316N20020530,    45,  1,     21,     21,2,20020610, 75.3282,  11.6962, 2228,    194.6,   3.2885,  35.0718,7,  35.0722,2,    320.4,2,   -999.0,9,     4.89,2,    11.73,2,     0.14,2,     0.79,2,    4.966,2,    2.684,2,    0.422,2,  1.74665146,2,   2143.3,2,   2313.2,2,   3.2759
  316N20020530,    45,  1,     20,     20,2,20020610, 75.3282,  11.6962, 2228,    235.0,   3.0569,  35.0657,2,  35.0643,2,    322.7,2,   -999.0,9,     4.79,2,    12.02,2,     0.12,2,     0.80,2, -999.000,9, -999.000,9, -999.000,9,        -999,9,   -999.0,9,   -999.0,9,   3.0420
  316N20020530,    45,  1,     19,     19,4,20020610, 75.3282,  11.6962, 2228,    275.7,   2.8230,  35.0615,2,  35.0610,0,    323.6,2,   -999.0,9,     4.79,3,    11.92,3,     0.16,3,     0.80,3,    5.031,2,    2.790,2,    0.421,2,  1.80521349,2,   2143.0,2,   2313.0,2,   2.8060
  316N20020530,    45,  1,     18,     18,2,20020610, 75.3282,  11.6962, 2228,    324.7,   2.6178,  35.0571,2,  35.0594,2,    322.4,2,   -999.0,9,     4.89,2,    12.02,2,     0.09,2,     0.80,2,    5.204,6,    2.796,6,    0.430,6,   1.8344894,2,   -999.0,9,   -999.0,9,   2.5982
  316N20020530,    45,  1,     17,     17,2,20020610, 75.3282,  11.6962, 2228,    385.0,   2.4645,  35.0526,2,  35.0518,2,    325.8,2,   -999.0,9,     4.89,2,    11.92,2,     0.15,2,     0.80,2,    5.182,2,    2.843,2,    0.448,2,  1.88328967,2,   2146.2,2,   2305.9,2,   2.4415
  316N20020530,    45,  1,     16,     16,2,20020610, 75.3282,  11.6962, 2228,    456.6,   2.2959,  35.0451,2,  35.0449,2,    324.2,2,   -999.0,9,     4.89,2,    12.31,2,     0.04,2,     0.82,2, -999.000,9, -999.000,9, -999.000,9,        -999,9,   -999.0,9,   -999.0,9,   2.2690
  316N20020530,    45,  1,     15,     15,2,20020610, 75.3282,  11.6962, 2228,    531.6,   2.0688,  35.0338,2,  35.0337,2,    324.0,2,   -999.0,9,     4.98,2,    12.51,2,     0.02,2,     0.83,2,    5.200,2,    2.796,2,    0.446,2,  1.79549206,2,   2147.7,2,   2299.4,2,   2.0381
  316N20020530,    45,  1,     14,     14,2,20020610, 75.3282,  11.6962, 2228,    607.1,   1.7087,  35.0102,2,  35.0076,2,    324.0,2,   -999.0,9,     5.18,2,    12.61,2,     0.02,2,     0.84,2,    5.221,2,    2.783,2,    0.445,2,  1.73697716,2,   -999.0,9,   -999.0,9,   1.6751
  316N20020530,    45,  1,     13,     13,2,20020610, 75.3282,  11.6962, 2228,    706.8,   0.8619,  34.9545,2,  34.9537,2,    320.1,2,   -999.0,9,     5.77,2,    13.09,2,     0.01,2,     0.87,2,    5.055,2,    2.629,2,    0.410,2,  1.61994257,2,   2155.3,2,   2300.5,2,   0.8271
  316N20020530,    45,  1,     12,     12,2,20020610, 75.3282,  11.6962, 2228,    822.4,   0.2150,  34.9225,2,  34.9209,2,    316.3,2,   -999.0,9,     6.35,2,    13.58,2,     0.00,2,     0.91,2,    4.193,2,    2.299,2,    0.365,2,  1.57118748,2,   -999.0,9,   -999.0,9,   0.1781
  316N20020530,    45,  1,     11,     11,2,20020610, 75.3282,  11.6962, 2228,    938.0,  -0.2805,  34.8995,2,  34.8980,2,    309.0,2,   -999.0,9,     7.72,2,    14.27,2,     0.00,2,     0.96,2,    3.536,2,    1.830,2,    0.267,2,  1.62976883,2,   2159.6,2,   2300.9,2,  -0.3197
  316N20020530,    45,  1,     10,     10,2,20020610, 75.3282,  11.6962, 2228,   1059.2,  -0.5391,  34.8953,2,  34.8948,2,    306.3,2,   -999.0,9,     8.31,2,    14.46,2,     0.00,2,     0.97,2,    2.673,2,    1.412,2,    0.202,2,  2.36170657,2,   2157.3,2,   2297.6,2,  -0.5823
  316N20020530,    45,  1,      9,      9,2,20020610, 75.3282,  11.6962, 2228,   1171.1,  -0.6612,  34.8977,2,  34.8978,2,    305.9,2,   -999.0,9,     8.89,2,    14.56,2,     0.00,2,     0.98,2,    2.603,2,    1.333,2,    0.186,2,  2.43001497,2,   2159.6,2,   2303.7,2,  -0.7089
  316N20020530,    45,  1,      8,      8,2,20020610, 75.3282,  11.6962, 2228,   1281.3,  -0.7438,  34.8964,2,  34.8962,2,    306.2,2,   -999.0,9,     8.80,2,    14.37,2,     0.00,2,     0.97,2,    2.769,2,    1.401,2,    0.210,2,  2.60568181,2,   -999.0,9,   -999.0,9,  -0.7964
  316N20020530,    45,  1,      7,      7,2,20020610, 75.3282,  11.6962, 2228,   1392.7,  -0.7359,  34.9036,2,  34.9043,2,    302.3,2,   -999.0,9,     9.97,2,    14.76,2,     0.00,2,     1.00,2,    1.838,2,    0.926,2,    0.122,2,  1.11253159,2,   2158.8,2,   2294.5,2,  -0.7946
  316N20020530,    45,  1,      6,      6,2,20020610, 75.3282,  11.6962, 2228,   1514.6,  -0.7612,  34.9072,2,  34.9074,2,    299.4,2,   -999.0,9,    10.65,2,    14.95,2,     0.00,2,     1.01,2,    1.349,6,    0.689,6,    0.084,6, 0.507469379,2,   -999.0,9,   -999.0,9,  -0.8264
  316N20020530,    45,  1,      5,      5,2,20020610, 75.3282,  11.6962, 2228,   1666.6,  -0.8066,  34.9094,7,  34.9098,2,    297.7,2,   -999.0,9,    11.24,2,    15.05,2,     0.00,2,     1.01,2,    1.006,2,    0.526,2,    0.060,2, 0.263493245,2,   2160.7,2,   2302.1,2,  -0.8800
  316N20020530,    45,  1,      4,      4,2,20020610, 75.3282,  11.6962, 2228,   1818.6,  -0.8408,  34.9106,2,  34.9094,2,    297.6,2,   -999.0,9,    11.73,2,    15.15,2,     0.00,2,     1.02,2,    0.799,2,    0.411,2,    0.040,2,  0.14638518,2,   -999.0,9,   -999.0,9,  -0.9228
  316N20020530,    45,  1,      3,      3,2,20020610, 75.3282,  11.6962, 2228,   1970.8,  -0.8677,  34.9109,2,  34.9104,2,    297.0,2,   -999.0,9,    12.12,2,    15.25,2,     0.00,2,     1.02,2,    0.652,2,    0.359,2,    0.037,2, 0.107349052,2,   2159.3,2,   2304.9,2,  -0.9588
  316N20020530,    45,  1,      2,      2,2,20020610, 75.3282,  11.6962, 2228,   2092.3,  -0.8780,  34.9105,2,  34.9098,2,    296.7,2,   -999.0,9,    12.41,2,    15.25,2,     0.00,2,     1.02,2,    0.626,2,    0.338,2,    0.030,2,0.0975900908,2,   -999.0,9,   -999.0,9,  -0.9767
  316N20020530,    45,  1,      1,      1,2,20020610, 75.3282,  11.6962, 2228,   2207.9,  -0.8762,  34.9115,2,  34.9110,2,    295.4,2,   -999.0,9,    12.80,2,    15.34,2,     0.00,2,     1.03,2,    0.624,2,    0.332,2,    0.037,2, 0.136626005,2,   2161.3,2,   2306.3,2,  -0.9826