BOTTLE,20081218PRINUNIVRMK
EXPOCODE,STNNBR,CASTNO,SAMPNO,BTLNBR,BTLNBR_FLAG_W,DATE,LATITUDE,LONGITUDE,DEPTH,CTDPRS,CTDTMP,CTDSAL,CTDSAL_FLAG_W,SALNTY,SALNTY_FLAG_W,CTDOXY,CTDOXY_FLAG_W,OXYGEN,OXYGEN_FLAG_W,SILCAT,SILCAT_FLAG_W,NITRAT,NITRAT_FLAG_W,NITRIT,NITRIT_FLAG_W,PHSPHT,PHSPHT_FLAG_W,CFC-11,CFC-11_FLAG_W,CFC-12,CFC-12_FLAG_W,CFC113,CFC113_FLAG_W,SF6,SF6_FLAG_W,TCARBN,TCARBN_FLAG_W,ALKALI,ALKALI_FLAG_W,THETA
,,,,,,,,,METERS,DBARS,ITS-90,PSS-78,,PSS-78,,UMOL/KG,,UMOL/KG,,UMOL/KG,,UMOL/KG,,UMOL/KG,,UMOL/KG,,PMOL/KG,,PMOL/KG,,PMOL/KG,,FMOL/KG,,UMOL/KG,,UMOL/KG,,DEGC
  316N20020530,    87,  1,     22,     22,2,20020617, 70.0058,  -7.6635, 1394,      3.5,   6.9461,  35.0010,2,  35.0002,2,    322.2,2,    322.5,2,     3.91,2,     5.18,2,     0.05,2,     0.40,2,    4.806,2,    2.568,2,    0.454,2,  1.89312036,2,   2103.9,2,   2307.4,2,   6.9458
  316N20020530,    87,  1,     21,     21,2,20020617, 70.0058,  -7.6635, 1394,     28.6,   4.2282,  34.9921,2,  34.9870,2,    342.7,2,    342.4,2,     4.01,2,     7.23,2,     0.04,2,     0.54,2, -999.000,9, -999.000,9, -999.000,9,        -999,9,   -999.0,9,   -999.0,9,   4.2262
  316N20020530,    87,  1,     20,     20,2,20020617, 70.0058,  -7.6635, 1394,     63.8,   2.2945,  34.9646,2,  34.9643,2,    322.1,2,    326.7,2,     4.98,2,    10.85,2,     0.11,2,     0.77,2,    5.498,2,    2.935,2,    0.506,2,   2.0005157,2,   2146.6,2,   2299.9,2,   2.2910
  316N20020530,    87,  1,     19,     19,2,20020617, 70.0058,  -7.6635, 1394,     94.1,   1.5627,  34.9300,2,  34.9301,2,    326.9,2,    326.5,2,     5.08,2,    11.63,2,     0.12,2,     0.79,2,    5.620,2,    2.883,2,    0.494,2,        -999,9,   2152.7,2,   2303.0,2,   1.5580
  316N20020530,    87,  1,     18,     18,2,20020617, 70.0058,  -7.6635, 1394,    124.3,   1.3372,  34.9291,2,  34.9291,2,    319.7,2,    321.1,2,     5.28,2,    12.31,2,     0.10,2,     0.83,2,    5.371,2,    2.747,2,    0.462,2,  1.87370282,2,   2154.2,2,   2296.8,2,   1.3312
  316N20020530,    87,  1,     17,     17,2,20020617, 70.0058,  -7.6635, 1394,    178.8,   0.6962,  34.8980,2,  34.8995,2,    323.4,2,    324.6,2,     5.47,2,    12.51,2,     0.04,2,     0.84,2,    5.476,6,    2.784,6,    0.480,6,        -999,9,   -999.0,9,   -999.0,9,   0.6885
  316N20020530,    87,  1,     16,     16,2,20020617, 70.0058,  -7.6635, 1394,    229.2,   0.3550,  34.8862,2,  34.8881,2,    323.7,2,    325.4,2,     5.57,2,    12.51,2,     0.02,2,     0.84,2,    5.277,2,    2.729,2,    0.453,2,  1.90303751,2,   -999.0,9,   -999.0,9,   0.3457
  316N20020530,    87,  1,     15,     15,2,20020617, 70.0058,  -7.6635, 1394,    279.3,   0.2359,  34.8850,2,  34.8848,2,    324.1,2,    323.0,2,     5.77,2,    12.70,2,     0.01,2,     0.85,2,    5.095,2,    2.606,2,    0.428,2,        -999,9,   2155.5,2,   2294.4,2,   0.2247
  316N20020530,    87,  1,     14,     14,2,20020617, 70.0058,  -7.6635, 1394,    334.8,   0.1116,  34.8858,2,  34.8881,2,    321.1,2,    320.2,2,     6.06,2,    12.80,2,     0.01,2,     0.86,2,    4.873,2,    2.429,2,    0.409,2,  1.63954001,2,   -999.0,9,   -999.0,9,   0.0983
  316N20020530,    87,  1,     13,     13,2,20020617, 70.0058,  -7.6635, 1394,    394.9,   0.0049,  34.8884,2,  34.8905,2,    318.6,2,    317.8,2,     6.25,2,    13.10,2,     0.00,2,     0.88,2,    4.626,2,    2.313,2,    0.393,2,        -999,9,   2156.9,2,   2293.9,2,  -0.0106
  316N20020530,    87,  1,     12,     12,2,20020617, 70.0058,  -7.6635, 1394,    454.7,  -0.0821,  34.8912,2,  34.8926,2,    316.8,2,    316.1,2,     6.65,2,    13.10,2,     0.00,2,     0.88,2, -999.000,9, -999.000,9, -999.000,9,  1.71760759,2,   -999.0,9,   -999.0,9,  -0.0999
  316N20020530,    87,  1,     11,     11,2,20020617, 70.0058,  -7.6635, 1394,    505.9,  -0.1732,  34.8907,2,  34.8923,2,    316.6,2,    314.2,2,     6.84,2,    13.39,2,     0.00,2,     0.90,2,    4.069,6,    2.040,6,    0.321,6,  1.74688538,2,   2157.5,2,   2293.8,2,  -0.1928
  316N20020530,    87,  1,     10,     10,2,20020617, 70.0058,  -7.6635, 1394,    545.4,  -0.2120,  34.8933,2,  34.8938,2,    311.6,2,    312.4,2,     6.94,2,    13.49,2,     0.00,2,     0.91,2, -999.000,9, -999.000,9, -999.000,9,  1.64929218,2,   -999.0,9,   -999.0,9,  -0.2332
  316N20020530,    87,  1,      9,      9,2,20020617, 70.0058,  -7.6635, 1394,    635.9,  -0.3222,  34.8936,2,  34.8948,2,    312.5,2,    311.9,2,     7.23,2,    13.49,2,     0.00,2,     0.91,2,    3.857,2,    1.898,2,    0.304,2,  2.18604244,2,   -999.0,9,   -999.0,9,  -0.3468
  316N20020530,    87,  1,      8,      8,2,20020617, 70.0058,  -7.6635, 1394,    726.4,  -0.4372,  34.8931,2,  34.8944,2,    310.8,2,    312.4,2,     7.52,2,    13.58,2,     0.00,2,     0.92,2,    3.554,2,    1.755,2,    0.278,2,   2.6544809,2,   2159.6,2,   2295.4,2,  -0.4652
  316N20020530,    87,  1,      7,      7,2,20020617, 70.0058,  -7.6635, 1394,    826.4,  -0.5613,  34.8931,2,  34.8944,2,    310.4,2,    310.9,2,     7.92,2,    13.78,2,     0.00,2,     0.93,2, -999.000,9, -999.000,9, -999.000,9,  3.18147343,2,   -999.0,9,   -999.0,9,  -0.5931
  316N20020530,    87,  1,      6,      6,2,20020617, 70.0058,  -7.6635, 1394,    934.2,  -0.6271,  34.8955,2,  34.8968,2,    308.9,2,    309.4,2,     8.31,2,    13.88,2,     0.00,2,     0.94,2,    2.913,2,    1.455,2,    0.228,2,  3.18146775,2,   -999.0,9,   -999.0,9,  -0.6634
  316N20020530,    87,  1,      5,      5,2,20020617, 70.0058,  -7.6635, 1394,   1042.6,  -0.6832,  34.8975,2,  34.8978,2,    307.2,2,    307.6,2,     8.80,2,    14.07,2,     0.00,2,     0.95,2, -999.000,9, -999.000,9, -999.000,9,  2.95700617,2,   -999.0,9,   -999.0,9,  -0.7243
  316N20020530,    87,  1,      4,      4,2,20020617, 70.0058,  -7.6635, 1394,   1152.2,  -0.7135,  34.9006,2,  34.9023,2,    305.3,2,    305.9,2,     9.28,2,    14.17,2,     0.00,2,     0.96,2,    2.186,2,    1.096,2,    0.159,2,  2.46904308,2,   2161.1,2,   2297.3,2,  -0.7598
  316N20020530,    87,  1,      3,      3,2,20020617, 70.0058,  -7.6635, 1394,   1261.2,  -0.7489,  34.9032,2,  34.9055,2,    303.1,2,    305.0,2,     9.87,2,    14.37,2,     0.00,2,     0.97,2,    1.828,2,    0.906,2,    0.125,2,  1.65903685,2,   2160.2,2,   2293.9,2,  -0.8004
  316N20020530,    87,  1,      2,      2,2,20020617, 70.0058,  -7.6635, 1394,   1309.0,  -0.8115,  34.9071,2,  34.9086,2,    300.8,2,    300.8,2,    10.75,2,    14.66,2,     0.00,2,     0.98,2,    1.215,2,    0.603,2,    0.075,2, 0.780721424,2,   2160.3,2,   2300.3,2,  -0.8649
  316N20020530,    87,  1,      1,      1,2,20020617, 70.0058,  -7.6635, 1394,   1349.8,  -0.8469,  34.9079,2,  34.9108,2,    299.4,2,    299.5,2,    11.34,2,    14.76,2,     0.00,2,     0.99,2,    0.971,2,    0.463,2,    0.050,2, 0.448914084,2,   2161.0,2,   -999.0,9,  -0.9021
  316N20020530,    88,  1,     21,     21,2,20020617, 70.0047,  -8.9252, 1327,      3.0,   5.5778,  34.8263,7,  34.8263,2,    341.1,2,    341.2,2,     0.00,2,     2.83,2,     0.06,2,     0.23,2,    5.402,2,    2.771,2,    0.471,2,  2.15687507,2,   2090.2,2,   2303.1,2,   5.5776
  316N20020530,    88,  1,     20,     20,2,20020617, 70.0047,  -8.9252, 1327,     21.9,   3.0246,  34.8531,2,  34.8481,2,    369.8,2,    374.1,2,     0.00,2,     5.38,2,     0.05,2,     0.43,2,    6.054,2,    3.096,2,    0.542,2,  2.21539681,2,   2105.3,2,   2299.0,2,   3.0233
  316N20020530,    88,  1,     19,     19,2,20020617, 70.0047,  -8.9252, 1327,     44.0,   0.7907,  34.8290,7,  34.8369,2,    356.4,2,    345.5,2,     3.42,2,    10.07,2,     0.08,2,     0.73,2, -999.000,9, -999.000,9, -999.000,9,        -999,9,   -999.0,9,   -999.0,9,   0.7888
  316N20020530,    88,  1,     18,     18,2,20020617, 70.0047,  -8.9252, 1327,     74.4,   0.8915,  34.8623,2,  34.8610,2,    342.6,2,    342.5,2,     4.10,2,    10.46,2,     0.10,2,     0.74,2,    6.212,2,    3.177,2,    0.557,2,  2.24465363,2,   2152.8,2,   2294.8,2,   0.8882
  316N20020530,    88,  1,     17,     17,2,20020617, 70.0047,  -8.9252, 1327,    119.5,   0.6924,  34.8646,2,  34.8653,2,    341.1,2,    339.5,2,     4.59,2,    10.95,2,     0.14,2,     0.76,2,    6.220,6,    3.245,6,    0.552,6,        -999,9,   -999.0,9,   -999.0,9,   0.6873
  316N20020530,    88,  1,     16,     16,2,20020617, 70.0047,  -8.9252, 1327,    159.0,   0.1963,  34.8606,2,  34.8645,2,    332.0,2,    335.8,2,     4.69,2,    11.92,2,     0.03,2,     0.80,2,    6.134,2,    3.140,2,    0.550,2,  2.22512911,2,   2157.6,2,   2295.5,2,   0.1902
  316N20020530,    88,  1,     15,     15,2,20020617, 70.0047,  -8.9252, 1327,    205.3,   0.5815,  34.9040,2,  34.9102,2,    327.4,2,    248.1,4,     5.18,2,    12.41,2,     0.01,2,     0.82,2, -999.000,9, -999.000,9, -999.000,9,        -999,9,   -999.0,9,   -999.0,9,   0.5728
  316N20020530,    88,  1,     14,     14,2,20020617, 70.0047,  -8.9252, 1327,    250.1,   0.7064,  34.9217,2,  34.9162,2,    325.2,2,    325.4,2,     5.28,2,    12.51,2,     0.01,2,     0.83,2,    5.642,2,    2.914,2,    0.477,2,  1.95179252,2,   2157.6,2,   2299.4,2,   0.6954
  316N20020530,    88,  1,     13,     13,2,20020617, 70.0047,  -8.9252, 1327,    305.3,   0.2973,  34.8961,2,  34.8984,2,    324.4,2,    324.5,2,     5.67,2,    12.70,2,     0.01,2,     0.84,2,    5.331,2,    2.689,2,    0.443,2,        -999,9,   -999.0,9,   -999.0,9,   0.2848
  316N20020530,    88,  1,     12,     12,2,20020617, 70.0047,  -8.9252, 1327,    366.2,   0.0804,  34.8895,2,  34.8886,2,    320.0,2,    318.3,2,     6.16,2,    13.00,2,     0.00,2,     0.87,2,    4.951,2,    2.468,2,    0.396,2,  1.74689019,2,   2160.0,2,   2296.8,2,   0.0659
  316N20020530,    88,  1,     11,     11,2,20020617, 70.0047,  -8.9252, 1327,    424.6,  -0.0818,  34.8880,2,  34.8897,2,    315.5,2,    314.1,2,     6.55,2,    13.39,2,     0.00,2,     0.89,2,    4.577,2,    2.248,2,    0.343,2,        -999,9,   -999.0,9,   -999.0,9,  -0.0983
  316N20020530,    88,  1,     10,     10,2,20020617, 70.0047,  -8.9252, 1327,    474.6,  -0.2217,  34.8855,2,  34.8877,2,    311.0,2,    311.3,2,     6.94,2,    13.68,2,     0.00,2,     0.90,2,    4.347,2,    2.135,2,    0.327,2,  1.69809552,2,   2163.8,2,   2294.4,2,  -0.2398
  316N20020530,    88,  1,      9,      9,2,20020617, 70.0047,  -8.9252, 1327,    533.1,  -0.3635,  34.8849,7,  34.8873,2,    310.5,2,    306.7,2,     7.33,2,    14.07,2,     0.00,2,     0.93,2,    4.076,2,    2.005,2,    0.300,2,  1.82496527,2,   2166.8,2,   2295.2,2,  -0.3834
  316N20020530,    88,  1,      8,      8,2,20020617, 70.0047,  -8.9252, 1327,    622.4,  -0.4077,  34.8926,2,  34.8941,2,    308.9,2,    310.8,2,     7.52,2,    13.68,2,     0.00,2,     0.91,2,    3.735,2,    1.887,2,    0.265,2,  2.46905815,2,   -999.0,9,   -999.0,9,  -0.4313
  316N20020530,    88,  1,      7,      7,2,20020617, 70.0047,  -8.9252, 1327,    714.4,  -0.5290,  34.8925,2,  34.8945,2,    308.2,2,    306.9,2,     8.11,2,    13.97,2,     0.00,2,     0.94,2,    3.221,6,    1.597,6,    0.226,6,  2.68375806,2,   -999.0,9,   -999.0,9,  -0.5559
  316N20020530,    88,  1,      6,      6,2,20020617, 70.0047,  -8.9252, 1327,    804.6,  -0.6053,  34.8946,2,  34.8968,2,    307.1,2,    308.3,2,     8.40,2,    13.97,2,     0.00,2,     0.93,2,    3.149,2,    1.557,2,    0.201,2,  3.10339492,2,   2157.2,2,   2299.9,2,  -0.6358
  316N20020530,    88,  1,      5,      5,2,20020617, 70.0047,  -8.9252, 1327,    907.2,  -0.6317,  34.8960,2,  34.8983,2,    306.4,2,    307.7,2,     8.70,2,    14.07,2,     0.00,2,     0.94,2,    2.835,2,    1.405,2,    0.168,2,  2.98628234,2,   -999.0,9,   -999.0,9,  -0.6667
  316N20020530,    88,  1,      4,      4,2,20020617, 70.0047,  -8.9252, 1327,   1008.7,  -0.6522,  34.8978,2,  34.8999,2,    304.5,2,    305.1,2,     9.09,2,    14.27,2,     0.00,2,     0.95,2,    2.461,2,    1.225,2,    0.140,2,  2.46904749,2,   2161.5,2,   2298.3,2,  -0.6919
  316N20020530,    88,  1,      3,      3,2,20020617, 70.0047,  -8.9252, 1327,   1116.0,  -0.6830,  34.9001,2,  34.9026,2,    303.2,2,    303.4,2,     9.48,2,    14.37,2,     0.00,2,     0.96,2,    2.158,2,    1.092,2,    0.121,2,  2.10795726,2,   -999.0,9,   -999.0,9,  -0.7277
  316N20020530,    88,  1,      2,      2,2,20020617, 70.0047,  -8.9252, 1327,   1222.7,  -0.7199,  34.9028,2,  34.9020,2,    301.7,2,    303.0,2,    10.07,2,    14.46,2,     0.00,2,     0.97,2,    1.877,2,    0.912,2,    0.104,2,  1.58096865,2,   2163.9,3,   2298.8,2,  -0.7697
  316N20020530,    88,  1,      1,      1,2,20020617, 70.0047,  -8.9252, 1327,   1309.8,  -0.7583,  34.9053,2,  34.9011,2,    299.6,2,    299.3,2,    10.75,2,    14.76,2,     0.00,2,     0.98,2,    1.508,2,    0.740,2,    0.082,2,  1.07349795,2,   2162.7,3,   2298.5,2,  -0.8123
  316N20020530,    89,  1,     25,     25,2,20020617, 70.0042, -10.0948, 1944,      1.9,   4.8775,  34.7541,2,  34.7543,2,    339.6,2,    339.8,2,     0.00,2,     4.30,2,     0.06,2,     0.31,2,    5.626,2,    2.964,2,    0.520,2,        -999,9,   2109.5,2,   -999.0,9,   4.8774
  316N20020530,    89,  1,     24,     24,2,20020617, 70.0042, -10.0948, 1944,     19.1,   4.8043,  34.7554,2,  34.7575,2,    343.7,2,    342.8,2,     0.00,2,     4.40,2,     0.06,2,     0.32,2,    5.988,2,    3.138,2,    0.562,2,        -999,9,   -999.0,9,   -999.0,9,   4.8029
  316N20020530,    89,  1,     23,     23,2,20020617, 70.0042, -10.0948, 1944,     28.9,   2.3527,  34.8071,7,  34.8065,2,    374.6,2,    377.4,2,     0.00,2,     5.67,2,     0.06,2,     0.50,2, -999.000,9, -999.000,9, -999.000,9,  2.28378374,2,   -999.0,9,   -999.0,9,   2.3511
  316N20020530,    89,  1,     22,     22,2,20020617, 70.0042, -10.0948, 1944,     54.3,   0.6401,  34.8129,7,  34.8155,2,    351.8,2,    349.5,2,     3.03,2,     9.87,2,     0.08,2,     0.73,2,    6.398,2,    3.344,2,    0.585,2,  2.30328783,2,   2153.7,2,   -999.0,9,   0.6379
  316N20020530,    89,  1,     21,     21,2,20020617, 70.0042, -10.0948, 1944,     79.6,   0.4295,  34.8275,2,  34.8193,2,    347.6,2,    347.1,2,     4.10,2,    10.56,2,     0.11,2,     0.74,2, -999.000,9, -999.000,9, -999.000,9,        -999,9,   -999.0,9,   -999.0,9,   0.4263
  316N20020530,    89,  1,     20,     20,2,20020617, 70.0042, -10.0948, 1944,    105.7,   0.0207,  34.8168,2,  34.8055,2,    345.3,2,    345.9,2,     4.30,2,    11.04,2,     0.17,2,     0.76,2,    6.189,2,    3.288,2,    0.583,2,  2.28378544,2,   -999.0,9,   2295.1,2,   0.0168
  316N20020530,    89,  1,     19,     19,2,20020617, 70.0042, -10.0948, 1944,    154.9,  -0.3359,  34.8307,2,  34.8214,2,    342.2,2,    340.0,2,     4.69,2,    12.12,2,     0.02,2,     0.81,2,    6.241,2,    3.273,2,    0.546,2,  2.18616189,2,   2162.6,2,   2290.2,2,  -0.3412
  316N20020530,    89,  1,     18,     18,2,20020617, 70.0042, -10.0948, 1944,    205.9,  -0.2390,  34.8527,2,  34.8442,2,    334.2,2,    335.8,2,     4.98,2,    12.41,2,     0.01,2,     0.82,2, -999.000,9, -999.000,9, -999.000,9,        -999,9,   2160.3,2,   2290.1,2,  -0.2463
  316N20020530,    89,  1,     17,     17,2,20020617, 70.0042, -10.0948, 1944,    265.7,  -0.2665,  34.8596,2,  34.8548,2,    324.5,2,    329.0,2,     5.47,2,    12.80,2,     0.01,2,     0.86,2,    5.447,2,    2.847,2,    0.483,2,  2.04947582,2,   -999.0,9,   -999.0,9,  -0.2760
  316N20020530,    89,  1,     16,     16,2,20020617, 70.0042, -10.0948, 1944,    325.9,  -0.2290,  34.8763,2,  34.8705,2,    314.4,2,    312.5,2,     6.65,2,    13.88,2,     0.01,2,     0.93,2,    4.674,2,    2.331,2,    0.369,2,  1.63956149,2,   -999.0,9,   -999.0,9,  -0.2409
  316N20020530,    89,  1,     15,     15,2,20020617, 70.0042, -10.0948, 1944,    365.8,  -0.2495,  34.8816,2,  34.8760,2,    311.3,2,    310.0,2,     6.94,2,    13.98,2,     0.00,2,     0.94,2,    4.355,2,    2.145,2,    0.345,2,  1.60051776,2,   2172.0,2,   2294.0,2,  -0.2630
  316N20020530,    89,  1,     14,     14,2,20020617, 70.0042, -10.0948, 1944,    406.2,  -0.3106,  34.8818,2,  34.8764,2,    309.5,2,    308.8,2,     7.13,2,    14.07,2,     0.00,2,     0.95,2,    4.246,6,    2.123,6,    0.331,6,  1.63955429,2,   -999.0,9,   -999.0,9,  -0.3255
  316N20020530,    89,  1,     13,     13,2,20020617, 70.0042, -10.0948, 1944,    466.9,  -0.3598,  34.8850,2,  34.8801,2,    308.0,2,    307.6,2,     7.62,2,    14.17,2,     0.00,2,     0.95,2,    3.872,2,    1.934,2,    0.295,2,  1.79569737,2,   -999.0,9,   -999.0,9,  -0.3770
  316N20020530,    89,  1,     12,     12,2,20020617, 70.0042, -10.0948, 1944,    536.9,  -0.4301,  34.8882,2,  34.8858,2,    306.1,2,    306.2,2,     7.82,2,    14.17,2,     0.00,2,     0.96,2,    3.625,2,    1.809,2,    0.273,2,  1.97135505,2,   2165.7,2,   2294.6,2,  -0.4499
  316N20020530,    89,  1,     11,     11,2,20020617, 70.0042, -10.0948, 1944,    606.4,  -0.4913,  34.8907,2,  34.8879,2,    304.1,2,    305.6,2,     8.01,2,    14.27,2,     0.00,2,     0.96,2,    3.378,2,    1.701,2,    0.247,2,  2.35195953,2,   -999.0,9,   -999.0,9,  -0.5137
  316N20020530,    89,  1,     10,     10,2,20020617, 70.0042, -10.0948, 1944,    707.9,  -0.5621,  34.8941,2,  34.8909,2,    302.0,2,    304.1,2,     8.50,2,    14.46,2,     0.00,2,     0.97,2,    2.935,2,    1.465,2,    0.216,2,  2.57641465,2,   2168.4,2,   2295.1,2,  -0.5885
  316N20020530,    89,  1,      9,      9,2,20020617, 70.0042, -10.0948, 1944,    815.7,  -0.6133,  34.8975,2,  34.8950,2,    301.1,2,    302.0,2,     9.09,2,    14.56,2,     0.00,2,     0.98,2,    2.436,2,    1.262,2,    0.177,2,  2.26411505,2,   -999.0,9,   -999.0,9,  -0.6442
  316N20020530,    89,  1,      8,      8,2,20020617, 70.0042, -10.0948, 1944,    926.9,  -0.6672,  34.8991,2,  34.8961,2,    303.7,2,    303.1,2,     9.38,2,    14.56,2,     0.00,2,     0.98,2,    2.296,2,    1.157,2,    0.158,2,  2.19579944,2,   2164.0,2,   2297.0,2,  -0.7029
  316N20020530,    89,  1,      7,      7,2,20020617, 70.0042, -10.0948, 1944,   1029.3,  -0.7007,  34.9018,2,  34.8987,2,    302.5,2,    302.4,2,     9.77,2,    14.56,2,     0.00,2,     0.98,2,    2.016,2,    0.990,2,    0.138,2,  1.75663615,2,   -999.0,9,   -999.0,9,  -0.7410
  316N20020530,    89,  1,      6,      6,2,20020617, 70.0042, -10.0948, 1944,   1161.0,  -0.7352,  34.9036,2,  34.9028,2,    300.4,2,    301.3,2,    10.26,2,    14.76,2,     0.00,2,     0.99,2,    1.796,6,    0.879,6,    0.108,6,  1.43458181,2,   2164.3,2,   2296.3,2,  -0.7817
  316N20020530,    89,  1,      5,      5,2,20020617, 70.0042, -10.0948, 1944,   1311.4,  -0.7641,  34.9051,2,  34.9057,2,    299.0,2,    299.5,2,    10.75,2,    14.85,2,     0.00,2,     1.00,2,    1.413,2,    0.696,2,    0.079,2, 0.878313498,2,   -999.0,9,   -999.0,9,  -0.8181
  316N20020530,    89,  1,      4,      4,2,20020617, 70.0042, -10.0948, 1944,   1457.6,  -0.7909,  34.9072,2,  34.9057,2,    297.4,2,    298.0,2,    11.34,2,    14.95,2,     0.00,2,     1.01,2,    1.141,2,    0.564,2,    0.069,2, 0.458674827,2,   2163.0,2,   2300.6,2,  -0.8525
  316N20020530,    89,  1,      3,      3,2,20020617, 70.0042, -10.0948, 1944,   1658.8,  -0.8187,  34.9080,2,  34.9067,2,    296.5,2,    297.2,2,    12.12,2,    15.15,2,     0.00,2,     1.02,2,    0.950,2,    0.469,2,    0.043,2,  0.30252998,2,   2163.6,2,   2301.9,2,  -0.8914
  316N20020530,    89,  1,      2,      2,2,20020617, 70.0042, -10.0948, 1944,   1813.6,  -0.8236,  34.9090,2,  34.9089,2,    295.8,2,    295.6,2,    12.80,2,    15.25,2,     0.00,2,     1.03,2, -999.000,9, -999.000,9, -999.000,9, 0.253734406,2,   2170.2,2,   2302.2,2,  -0.9055
  316N20020530,    89,  1,      1,      1,2,20020617, 70.0042, -10.0948, 1944,   1906.6,  -0.8231,  34.9094,2,  34.9059,2,    294.4,2,    294.2,2,    13.49,2,    15.44,2,     0.00,2,     1.04,2,    0.816,2,    0.399,2,    0.037,2, 0.185421711,2,   2170.6,2,   2302.6,2,  -0.9108