BOTTLE,20081218PRINUNIVRMK
EXPOCODE,STNNBR,CASTNO,SAMPNO,BTLNBR,BTLNBR_FLAG_W,DATE,LATITUDE,LONGITUDE,DEPTH,CTDPRS,CTDTMP,CTDSAL,CTDSAL_FLAG_W,SALNTY,SALNTY_FLAG_W,CTDOXY,CTDOXY_FLAG_W,OXYGEN,OXYGEN_FLAG_W,SILCAT,SILCAT_FLAG_W,NITRAT,NITRAT_FLAG_W,NITRIT,NITRIT_FLAG_W,PHSPHT,PHSPHT_FLAG_W,CFC-11,CFC-11_FLAG_W,CFC-12,CFC-12_FLAG_W,CFC113,CFC113_FLAG_W,SF6,SF6_FLAG_W,TCARBN,TCARBN_FLAG_W,ALKALI,ALKALI_FLAG_W,THETA
,,,,,,,,,METERS,DBARS,ITS-90,PSS-78,,PSS-78,,UMOL/KG,,UMOL/KG,,UMOL/KG,,UMOL/KG,,UMOL/KG,,UMOL/KG,,PMOL/KG,,PMOL/KG,,PMOL/KG,,FMOL/KG,,UMOL/KG,,UMOL/KG,,DEGC
  316N20020530,    42,  1,     31,     31,2,20020609, 75.3352,   5.8338, 2822,      2.7,   3.9847,  35.0429,2,  35.0444,2,    346.5,2,   -999.0,9,     4.79,2,     8.01,2,     0.05,2,     0.64,2,    5.358,2,    2.857,2,    0.491,2,        -999,9,   2120.7,2,   2310.7,2,   3.9845
  316N20020530,    42,  1,     30,     30,2,20020609, 75.3352,   5.8338, 2822,     28.8,   3.3814,  35.0140,2,  35.0054,2,    346.9,2,   -999.0,9,     4.69,2,     7.23,2,     0.05,2,     0.55,2, -999.000,9, -999.000,9, -999.000,9,        -999,9,   -999.0,9,   -999.0,9,   3.3796
  316N20020530,    42,  1,     29,     29,2,20020609, 75.3352,   5.8338, 2822,     53.8,   1.7849,  34.9358,7,  34.9355,2,    339.5,2,   -999.0,9,     4.79,2,     9.28,2,     0.06,2,     0.68,2,    5.897,2,    3.091,2,    0.546,2,  1.99079977,2,   2142.5,2,   2304.7,2,   1.7821
  316N20020530,    42,  1,     28,     28,2,20020609, 75.3352,   5.8338, 2822,     84.6,   1.7194,  34.9635,2,  34.9631,2,    334.2,2,   -999.0,9,     5.08,2,    10.94,2,     0.12,2,     0.77,2, -999.000,9, -999.000,9, -999.000,9,        -999,9,   -999.0,9,   -999.0,9,   1.7151
  316N20020530,    42,  1,     27,     27,2,20020609, 75.3352,   5.8338, 2822,    109.5,   1.3033,  34.9527,7,  34.9503,2,    327.5,2,   -999.0,9,     5.37,2,    12.12,2,     0.16,2,     0.82,2,    5.418,2,    2.833,2,    0.467,2,  1.75656868,2,   2154.1,2,   2299.9,2,   1.2981
  316N20020530,    42,  1,     26,     26,2,20020609, 75.3352,   5.8338, 2822,    144.6,   0.9627,  34.9371,2,  34.9371,2,    325.5,2,   -999.0,9,     5.47,2,    12.31,2,     0.12,2,     0.82,2, -999.000,9, -999.000,9, -999.000,9,        -999,9,   -999.0,9,   -999.0,9,   0.9562
  316N20020530,    42,  1,     25,     25,2,20020609, 75.3352,   5.8338, 2822,    180.1,   0.6245,  34.9176,2,  34.9190,2,    327.1,2,   -999.0,9,     5.67,2,    12.61,2,     0.03,2,     0.85,2,    5.269,2,    2.733,2,    0.446,2,  1.68829701,2,   -999.0,9,   -999.0,9,   0.6168
  316N20020530,    42,  1,     24,     24,2,20020609, 75.3352,   5.8338, 2822,    215.0,   0.3922,  34.9069,2,  34.9096,2,    323.5,2,   -999.0,9,     5.86,2,    12.70,2,     0.01,2,     0.85,2, -999.000,9, -999.000,9, -999.000,9,        -999,9,   2156.4,2,   2295.4,2,   0.3834
  316N20020530,    42,  1,     23,     23,2,20020609, 75.3352,   5.8338, 2822,    254.9,   0.2919,  34.9034,2,  34.9019,2,    324.8,2,   -999.0,9,     5.86,2,    12.70,2,     0.01,2,     0.85,2,    5.101,2,    2.640,2,    0.428,2,  1.63952317,2,   -999.0,9,   -999.0,9,   0.2816
  316N20020530,    42,  1,     22,     22,2,20020609, 75.3352,   5.8338, 2822,    305.3,  -0.0004,  34.8939,2,  34.8932,2,    322.1,2,   -999.0,9,     6.25,2,    12.90,2,     0.01,2,     0.87,2,    4.810,2,    2.476,2,    0.395,2,  1.54194249,2,   2158.7,2,   2295.3,2,  -0.0121
  316N20020530,    42,  1,     21,     21,2,20020609, 75.3352,   5.8338, 2822,    366.1,  -0.2255,  34.8836,2,  34.8838,2,    320.5,2,   -999.0,9,     6.45,2,    13.00,2,     0.00,2,     0.88,2,    4.542,2,    2.308,2,    0.373,2,  1.54195328,2,   2158.0,2,   2296.5,2,  -0.2391
  316N20020530,    42,  1,     20,     20,2,20020609, 75.3352,   5.8338, 2822,    426.5,  -0.3129,  34.8835,2,  34.8859,2,    319.1,2,   -999.0,9,     6.55,2,    13.10,2,     0.00,2,     0.88,2,    4.444,2,    2.217,2,    0.367,2,  1.60050596,2,   2158.9,2,   2298.3,2,  -0.3286
  316N20020530,    42,  1,     19,     19,2,20020609, 75.3352,   5.8338, 2822,    487.2,  -0.3689,  34.8875,2,  34.8898,2,    319.3,2,   -999.0,9,     6.74,2,    13.19,2,     0.00,2,     0.89,2,    4.326,2,    2.199,2,    0.342,2,  2.16653227,2,   -999.0,9,   -999.0,9,  -0.3869
  316N20020530,    42,  1,     18,     18,2,20020609, 75.3352,   5.8338, 2822,    557.2,  -0.4426,  34.8886,2,  34.8901,2,    317.5,2,   -999.0,9,     6.84,2,    13.39,2,     0.00,2,     0.89,2,    4.187,2,    2.119,2,    0.319,2,        -999,9,   -999.0,9,   -999.0,9,  -0.4632
  316N20020530,    42,  1,     17,     17,2,20020609, 75.3352,   5.8338, 2822,    627.8,  -0.5350,  34.8873,2,  34.8880,2,    317.2,2,   -999.0,9,     7.04,2,    13.39,2,     0.00,2,     0.90,2,    4.080,2,    2.075,2,    0.302,2,  2.85943606,2,   2159.1,2,   2297.1,2,  -0.5581
  316N20020530,    42,  1,     16,     16,2,20020609, 75.3352,   5.8338, 2822,    708.1,  -0.6208,  34.8882,2,  34.8885,2,    316.4,2,   -999.0,9,     7.62,2,    13.78,2,     0.00,2,     0.92,2,    3.630,2,    1.860,2,    0.275,2,  3.36691152,2,   -999.0,9,   -999.0,9,  -0.6469
  316N20020530,    42,  1,     15,     15,2,20020609, 75.3352,   5.8338, 2822,    807.7,  -0.6914,  34.8891,2,  34.8889,2,    313.6,2,   -999.0,9,     7.82,2,    13.88,2,     0.00,2,     0.93,2,    3.550,6,    1.790,6,    0.252,6,  4.04029262,2,   2168.9,2,   2297.1,2,  -0.7214
  316N20020530,    42,  1,     14,     14,2,20020609, 75.3352,   5.8338, 2822,    909.6,  -0.7523,  34.8881,2,  34.8894,2,    314.2,2,   -999.0,9,     7.82,2,    13.78,2,     0.00,2,     0.93,2,    3.568,2,    1.792,2,    0.258,2,  4.37210246,2,   -999.0,9,   -999.0,9,  -0.7865
  316N20020530,    42,  1,     13,     13,2,20020609, 75.3352,   5.8338, 2822,   1010.5,  -0.7845,  34.8891,2,  34.8912,2,    314.4,2,   -999.0,9,     8.01,2,    13.78,2,     0.00,2,     0.93,2,    3.509,2,    1.746,2,    0.255,2,   3.9524534,2,   2158.1,2,   2300.9,2,  -0.8232
  316N20020530,    42,  1,     12,     12,2,20020609, 75.3352,   5.8338, 2822,   1111.6,  -0.7769,  34.8942,2,  34.8961,2,    311.9,2,   -999.0,9,     8.60,2,    13.97,2,     0.00,2,     0.94,2,    2.921,2,    1.464,2,    0.208,2,   2.7227913,2,   2162.0,2,   2297.7,2,  -0.8205
  316N20020530,    42,  1,     11,     11,2,20020609, 75.3352,   5.8338, 2822,   1212.0,  -0.7623,  34.9003,2,  34.9007,2,    306.8,2,   -999.0,9,     9.19,2,    14.17,2,     0.00,2,     0.95,2,    2.287,6,    1.143,6,    0.152,6,  1.62976556,2,   2160.6,2,   2297.1,2,  -0.8111
  316N20020530,    42,  1,     10,     10,2,20020609, 75.3352,   5.8338, 2822,   1312.3,  -0.7595,  34.9062,2,  34.9064,2,    303.9,2,   -999.0,9,     9.77,2,    14.46,2,     0.00,2,     0.97,2,    1.720,2,    0.826,2,    0.103,2, 0.819758838,2,   -999.0,9,   -999.0,9,  -0.8136
  316N20020530,    42,  1,      9,      9,2,20020609, 75.3352,   5.8338, 2822,   1413.1,  -0.7876,  34.9068,2,  34.9066,2,    301.4,2,   -999.0,9,    10.26,2,    14.56,2,     0.00,2,     0.98,2, -999.000,9, -999.000,9, -999.000,9, 0.566023875,2,   2161.3,2,   2297.5,2,  -0.8468
  316N20020530,    42,  1,      8,      8,2,20020609, 75.3352,   5.8338, 2822,   1563.7,  -0.8271,  34.9083,2,  34.9095,2,    300.0,2,   -999.0,9,    10.75,2,    14.76,2,     0.00,2,     0.99,2,    1.003,2,    0.522,2,    0.059,2, 0.302529349,2,   -999.0,9,   -999.0,9,  -0.8942
  316N20020530,    42,  1,      7,      7,2,20020609, 75.3352,   5.8338, 2822,   1715.1,  -0.8509,  34.9090,2,  34.9096,2,    299.6,2,   -999.0,9,    11.14,2,    14.85,2,     0.00,2,     0.99,2,    0.855,2,    0.440,2,    0.041,2, 0.195180211,2,   -999.0,9,   -999.0,9,  -0.9265
  316N20020530,    42,  1,      6,      6,2,20020609, 75.3352,   5.8338, 2822,   1917.9,  -0.8733,  34.9094,2,  34.9106,2,    299.4,2,   -999.0,9,    11.43,2,    14.95,2,     0.00,2,     1.00,2,    0.742,2,    0.393,2,    0.034,2, 0.156144052,2,   2163.5,2,   2303.0,2,  -0.9609
  316N20020530,    42,  1,      5,      5,2,20020609, 75.3352,   5.8338, 2822,   2121.6,  -0.8935,  34.9099,2,  34.9092,2,    300.1,2,   -999.0,9,    11.53,2,    14.85,2,     0.00,2,     1.00,2, -999.000,9, -999.000,9, -999.000,9, 0.156144215,2,   -999.0,9,   -999.0,9,  -0.9939
  316N20020530,    42,  1,      4,      4,2,20020609, 75.3352,   5.8338, 2822,   2324.7,  -0.8993,  34.9100,2,  34.9094,2,    300.6,2,   -999.0,9,    11.43,2,    14.85,2,     0.00,2,     1.00,2,    0.690,2,    0.369,2,    0.028,2,  0.14638518,2,   -999.0,9,   -999.0,9,  -1.0133
  316N20020530,    42,  1,      3,      3,2,20020609, 75.3352,   5.8338, 2822,   2527.3,  -0.8942,  34.9097,2,  34.9083,2,    300.8,2,   -999.0,9,    11.63,2,    14.85,2,     0.00,2,     1.00,2, -999.000,9, -999.000,9, -999.000,9,  0.12686726,2,   2159.9,2,   2299.0,2,  -1.0226
  316N20020530,    42,  1,      2,      2,2,20020609, 75.3352,   5.8338, 2822,   2679.9,  -0.8874,  34.9087,2,  34.9089,2,    300.3,2,   -999.0,9,    11.63,2,    14.85,2,     0.00,2,     1.00,2,    0.694,2,    0.397,2,    0.037,2, 0.117108187,2,   2161.6,2,   2296.8,2,  -1.0272
  316N20020530,    42,  1,      1,      1,2,20020609, 75.3352,   5.8338, 2822,   2779.2,  -0.8845,  34.9094,2,  34.9087,2,    300.9,2,   -999.0,9,    11.73,2,    14.85,2,     0.00,2,     1.00,2,    0.687,2,    0.367,2,    0.026,2, 0.156144273,2,   2161.0,2,   2296.8,2,  -1.0318
  316N20020530,    43,  1,     33,     33,2,20020610, 75.3392,   7.7937, 3586,      3.2,   5.0079,  35.1085,2,  35.1075,2,    339.2,2,   -999.0,9,     4.30,2,     7.04,2,     0.07,2,     0.51,2, -999.000,9, -999.000,9, -999.000,9,        -999,9,   2126.6,2,   2313.3,2,   5.0077
  316N20020530,    43,  1,     32,     32,2,20020610, 75.3392,   7.7937, 3586,     19.7,   4.9968,  35.1078,2,  35.1086,2,    339.9,2,   -999.0,9,     4.30,2,     7.04,2,     0.07,2,     0.52,2,    4.782,2,    2.655,2,    0.414,2,        -999,9,   2128.9,2,   2315.3,2,   4.9953
  316N20020530,    43,  1,     31,     31,2,20020610, 75.3392,   7.7937, 3586,     44.5,   4.3634,  35.1142,2,  35.1131,2,    329.1,2,   -999.0,9,     4.69,2,     9.77,2,     0.14,2,     0.70,2, -999.000,9, -999.000,9, -999.000,9,        -999,9,   -999.0,9,   -999.0,9,   4.3602
  316N20020530,    43,  1,     30,     30,2,20020610, 75.3392,   7.7937, 3586,     70.1,   4.0853,  35.1123,2,  35.1129,2,    324.5,2,   -999.0,9,     4.79,2,    10.36,2,     0.16,2,     0.73,2,    4.881,2,    2.678,2,    0.440,2,  1.75635608,2,   2151.0,2,   2310.2,2,   4.0804
  316N20020530,    43,  1,     29,     29,2,20020610, 75.3392,   7.7937, 3586,    105.3,   3.9815,  35.1087,2,  35.1093,2,    322.7,2,   -999.0,9,     4.98,2,    10.75,2,     0.20,2,     0.75,2, -999.000,9, -999.000,9, -999.000,9,        -999,9,   -999.0,9,   -999.0,9,   3.9742
  316N20020530,    43,  1,     28,     28,2,20020610, 75.3392,   7.7937, 3586,    155.6,   3.7482,  35.1016,2,  35.1003,2,    316.5,2,   -999.0,9,     5.08,2,    12.31,2,     0.05,2,     0.81,2, -999.000,9, -999.000,9, -999.000,9,   1.7368573,2,   2157.3,2,   2311.9,2,   3.7376
  316N20020530,    43,  1,     27,     27,2,20020610, 75.3392,   7.7937, 3586,    205.7,   3.4815,  35.0855,2,  35.0841,2,    316.4,2,   -999.0,9,     5.08,2,    12.41,2,     0.03,2,     0.82,2, -999.000,9, -999.000,9, -999.000,9,        -999,9,   -999.0,9,   -999.0,9,   3.4678
  316N20020530,    43,  1,     26,     26,2,20020610, 75.3392,   7.7937, 3586,    266.1,   3.1574,  35.0713,2,  35.0727,2,    317.7,2,   -999.0,9,     5.18,2,    12.41,2,     0.03,2,     0.82,2,    4.795,2,    2.695,2,    0.417,2,  1.70761951,2,   2159.0,2,   2306.8,2,   3.1403
  316N20020530,    43,  1,     25,     25,2,20020610, 75.3392,   7.7937, 3586,    326.3,   2.6243,  35.0361,2,  35.0371,2,    317.1,2,   -999.0,9,     5.28,2,    12.70,2,     0.01,2,     0.84,2, -999.000,9, -999.000,9, -999.000,9,        -999,9,   -999.0,9,   -999.0,9,   2.6046
  316N20020530,    43,  1,     24,     24,2,20020610, 75.3392,   7.7937, 3586,    407.1,   2.0380,  35.0081,2,  35.0103,2,    318.8,2,   -999.0,9,     5.47,2,    12.70,2,     0.02,2,     0.84,2,    5.059,2,    2.704,2,    0.420,2,  1.69794055,2,   2162.5,3,   2303.8,2,   2.0151
  316N20020530,    43,  1,     23,     23,2,20020610, 75.3392,   7.7937, 3586,    477.3,   0.9292,  34.9293,2,  34.9299,2,    326.0,2,   -999.0,9,     5.67,2,    12.61,2,     0.07,2,     0.85,2,    5.138,2,    2.735,2,    0.424,2,        -999,9,   2167.8,3,   2298.0,2,   0.9064
  316N20020530,    43,  1,     22,     22,2,20020610, 75.3392,   7.7937, 3586,    537.5,   0.5471,  34.9142,2,  34.9136,2,    327.7,2,   -999.0,9,     6.06,2,    13.00,2,     0.01,2,     0.88,2,    4.983,2,    2.637,2,    0.399,2,  1.54191907,2,   -999.0,9,   -999.0,9,   0.5229
  316N20020530,    43,  1,     21,     21,2,20020610, 75.3392,   7.7937, 3586,    607.8,   0.3897,  34.9196,2,  34.9191,2,    322.3,2,   -999.0,9,     6.06,2,    13.00,2,     0.00,2,     0.88,2,    4.790,2,    2.551,2,    0.394,2,        -999,9,   2167.3,3,   2293.6,2,   0.3627
  316N20020530,    43,  1,     20,     20,2,20020610, 75.3392,   7.7937, 3586,    708.2,  -0.0348,  34.8966,2,  34.8929,2,    320.7,2,   -999.0,9,     6.45,2,    13.29,2,     0.00,2,     0.91,2, -999.000,9, -999.000,9, -999.000,9,   1.5321837,2,   -999.0,9,   -999.0,9,  -0.0644
  316N20020530,    43,  1,     19,     19,2,20020610, 75.3392,   7.7937, 3586,    808.9,  -0.2974,  34.8911,2,  34.8935,2,    317.0,2,   -999.0,9,     6.94,2,    13.58,2,     0.00,2,     0.93,2,    4.223,2,    2.188,2,    0.330,2,  1.71760644,2,   2171.5,3,   2297.5,2,  -0.3301
  316N20020530,    43,  1,     18,     18,2,20020610, 75.3392,   7.7937, 3586,    909.1,  -0.5469,  34.8814,2,  34.8834,2,    312.8,2,   -999.0,9,     6.74,2,    13.29,2,     0.00,2,     0.91,2, -999.000,9, -999.000,9, -999.000,9,   2.2446162,2,   -999.0,9,   -999.0,9,  -0.5826
  316N20020530,    43,  1,     17,     17,2,20020610, 75.3392,   7.7937, 3586,   1009.9,  -0.6250,  34.8818,2,  34.8862,2,    321.5,2,   -999.0,9,     7.04,2,    13.49,2,     0.00,2,     0.92,2,    4.096,2,    2.164,2,    0.327,2,   2.9570317,2,   2171.5,3,   2295.8,2,  -0.6650
  316N20020530,    43,  1,     16,     16,2,20020610, 75.3392,   7.7937, 3586,   1135.4,  -0.6999,  34.8843,2,  34.8848,2,    319.6,2,   -999.0,9,     7.43,2,    13.68,2,     0.00,2,     0.93,2, -999.000,9, -999.000,9, -999.000,9,  4.11837848,2,   -999.0,9,   -999.0,9,  -0.7454
  316N20020530,    43,  1,     15,     15,2,20020610, 75.3392,   7.7937, 3586,   1261.4,  -0.7427,  34.8878,2,  34.8879,2,    316.0,2,   -999.0,9,     7.82,2,    13.88,2,     0.00,2,     0.94,2,    3.691,6,    1.942,6,    0.276,6,        -999,9,   -999.0,9,   -999.0,9,  -0.7943
  316N20020530,    43,  1,     14,     14,2,20020610, 75.3392,   7.7937, 3586,   1382.4,  -0.7675,  34.8881,2,  34.8888,2,    316.2,2,   -999.0,9,     7.92,2,    13.97,2,     0.00,2,     0.95,2,    3.521,2,    1.830,2,    0.268,2,        -999,9,   2172.9,3,   2294.8,2,  -0.8252
  316N20020530,    43,  1,     13,     13,2,20020610, 75.3392,   7.7937, 3586,   1513.5,  -0.7014,  34.9017,2,  34.9027,2,    303.0,2,   -999.0,9,     9.67,2,    14.66,2,     0.00,2,     1.00,2,    1.998,2,    0.996,2,    0.137,2,  1.33699131,2,   -999.0,9,   -999.0,9,  -0.7672
  316N20020530,    43,  1,     12,     12,2,20020610, 75.3392,   7.7937, 3586,   1615.0,  -0.7131,  34.9042,2,  34.9055,2,    300.3,2,   -999.0,9,    10.16,2,    14.76,2,     0.00,2,     1.00,2,    1.679,2,    0.844,2,    0.106,2, 0.878313629,2,   2172.6,3,   2297.8,2,  -0.7846
  316N20020530,    43,  1,     11,     11,2,20020610, 75.3392,   7.7937, 3586,   1817.2,  -0.7595,  34.9073,2,  34.9072,2,    298.9,2,   -999.0,9,    10.85,2,    14.95,2,     0.00,2,     1.01,2,    1.188,2,    0.589,2,    0.074,2, 0.380602091,2,   -999.0,9,   -999.0,9,  -0.8426
  316N20020530,    43,  1,     10,     10,2,20020610, 75.3392,   7.7937, 3586,   2019.3,  -0.7937,  34.9082,2,  34.9091,2,    298.1,2,   -999.0,9,    11.43,2,    15.05,2,     0.00,2,     1.03,2,    0.947,2,    0.489,2,    0.058,2, 0.214698312,2,   2171.4,3,   2297.5,2,  -0.8890
  316N20020530,    43,  1,      9,      9,2,20020610, 75.3392,   7.7937, 3586,   2221.6,  -0.8164,  34.9091,2,  34.9093,2,    298.0,2,   -999.0,9,    11.53,2,    15.15,2,     0.00,2,     1.02,2,    0.834,6,    0.426,6,    0.040,6, 0.204939267,2,   -999.0,9,   -999.0,9,  -0.9248
  316N20020530,    43,  1,      8,      8,2,20020610, 75.3392,   7.7937, 3586,   2424.5,  -0.8260,  34.9106,7,  34.9089,2,    298.5,2,   -999.0,9,    11.73,2,    15.15,2,     0.00,2,     1.03,2,    0.736,2,    0.382,2,    0.047,2, 0.165903266,2,   -999.0,9,   2298.2,2,  -0.9483
  316N20020530,    43,  1,      7,      7,2,20020610, 75.3392,   7.7937, 3586,   2626.8,  -0.8276,  34.9101,2,  34.9110,2,    298.4,2,   -999.0,9,    12.12,2,    15.15,2,     0.00,2,     1.03,2, -999.000,9, -999.000,9, -999.000,9,        -999,9,   -999.0,9,   -999.0,9,  -0.9646
  316N20020530,    43,  1,      6,      6,2,20020610, 75.3392,   7.7937, 3586,   2829.5,  -0.8226,  34.9111,2,  34.9110,2,    298.4,2,   -999.0,9,    12.22,2,    15.25,2,     0.00,2,     1.03,2,    0.641,2,    0.341,2,    0.030,2, 0.117108004,2,   2171.7,3,   2301.7,2,  -0.9752
  316N20020530,    43,  1,      5,      5,2,20020610, 75.3392,   7.7937, 3586,   3032.7,  -0.8141,  34.9110,2,  34.9100,2,    298.4,2,   -999.0,9,    12.31,2,    15.25,2,     0.00,2,     1.03,2, -999.000,9, -999.000,9, -999.000,9, 0.117108092,2,   -999.0,9,   -999.0,9,  -0.9830
  316N20020530,    43,  1,      4,      4,2,20020610, 75.3392,   7.7937, 3586,   3235.9,  -0.8001,  34.9109,2,  34.9094,2,    298.6,2,   -999.0,9,    12.31,2,    15.25,2,     0.00,2,     1.03,2,    0.622,2,    0.342,2,    0.032,2, 0.126867156,2,   2165.3,3,   2298.8,2,  -0.9860
  316N20020530,    43,  1,      3,      3,2,20020610, 75.3392,   7.7937, 3586,   3388.3,  -0.7881,  34.9115,2,  34.9097,2,    298.5,2,   -999.0,9,    12.22,2,    15.25,2,     0.00,2,     1.03,2, -999.000,9, -999.000,9, -999.000,9, 0.146385147,2,   -999.0,9,   -999.0,9,  -0.9874
  316N20020530,    43,  1,      2,      2,2,20020610, 75.3392,   7.7937, 3586,   3489.9,  -0.7808,  34.9115,2,  34.9097,2,    298.9,2,   -999.0,9,    12.12,2,    15.15,2,     0.00,2,     1.03,2, -999.000,9, -999.000,9, -999.000,9, 0.107349108,2,   2170.5,3,   2299.9,2,  -0.9891
  316N20020530,    43,  1,      1,      1,2,20020610, 75.3392,   7.7937, 3586,   3571.0,  -0.7774,  34.9117,7,  34.9099,2,    299.7,2,   -999.0,9,    12.02,2,    15.15,2,     0.00,2,     1.02,2,    0.681,2,    0.355,2,    0.029,2, 0.126867109,2,   2171.4,3,   2299.3,2,  -0.9930