BOTTLE,20081218PRINUNIVRMK
EXPOCODE,STNNBR,CASTNO,SAMPNO,BTLNBR,BTLNBR_FLAG_W,DATE,LATITUDE,LONGITUDE,DEPTH,CTDPRS,CTDTMP,CTDSAL,CTDSAL_FLAG_W,SALNTY,SALNTY_FLAG_W,CTDOXY,CTDOXY_FLAG_W,OXYGEN,OXYGEN_FLAG_W,SILCAT,SILCAT_FLAG_W,NITRAT,NITRAT_FLAG_W,NITRIT,NITRIT_FLAG_W,PHSPHT,PHSPHT_FLAG_W,CFC-11,CFC-11_FLAG_W,CFC-12,CFC-12_FLAG_W,CFC113,CFC113_FLAG_W,SF6,SF6_FLAG_W,TCARBN,TCARBN_FLAG_W,ALKALI,ALKALI_FLAG_W,THETA
,,,,,,,,,METERS,DBARS,ITS-90,PSS-78,,PSS-78,,UMOL/KG,,UMOL/KG,,UMOL/KG,,UMOL/KG,,UMOL/KG,,UMOL/KG,,PMOL/KG,,PMOL/KG,,PMOL/KG,,FMOL/KG,,UMOL/KG,,UMOL/KG,,DEGC
  316N20020530,    99,  1,     21,     21,2,20020620, 66.0020, -10.6027, 1257,      6.7,   5.8981,  34.6638,2,  34.6590,2,    325.4,2,    325.4,2,     0.59,2,     0.20,2,     0.01,2,     0.08,2,    5.067,2,    2.646,2,    0.440,2,  2.06929623,2,   2060.1,2,   2287.7,2,   5.8975
  316N20020530,    99,  1,     20,     20,2,20020620, 66.0020, -10.6027, 1257,     21.8,   5.8816,  34.6655,2,  34.6566,2,    327.2,2,    329.0,2,     0.39,2,     0.20,2,     0.01,2,     0.08,2, -999.000,9, -999.000,9, -999.000,9,        -999,9,   -999.0,9,   -999.0,9,   5.8798
  316N20020530,    99,  1,     19,     19,2,20020620, 66.0020, -10.6027, 1257,     39.9,   1.2783,  34.6392,2,  34.6368,2,    363.7,2,    363.2,2,     1.66,2,     4.89,2,     0.09,2,     0.45,2, -999.000,9, -999.000,9, -999.000,9,        -999,9,   2112.9,2,   2284.7,2,   1.2765
  316N20020530,    99,  1,     18,     18,2,20020620, 66.0020, -10.6027, 1257,     57.0,   0.3839,  34.6752,2,  34.6768,2,    336.4,2,    344.8,2,     3.13,2,     8.41,2,     0.12,2,     0.67,2,    6.339,2,    3.182,2,    0.557,2,  2.39137198,2,   -999.0,9,   -999.0,9,   0.3817
  316N20020530,    99,  1,     17,     17,2,20020620, 66.0020, -10.6027, 1257,     82.6,  -0.3398,  34.7076,7,  34.7094,2,    337.4,2,    343.5,2,     4.20,2,    10.65,2,     0.12,2,     0.76,2, -999.000,9, -999.000,9, -999.000,9,        -999,9,   2150.3,2,   2278.9,2,  -0.3425
  316N20020530,    99,  1,     16,     16,2,20020620, 66.0020, -10.6027, 1257,    107.4,  -0.3673,  34.7470,2,  34.7489,2,    332.9,2,    335.2,2,     5.18,2,    12.02,2,     0.10,2,     0.79,2,    5.951,2,    2.968,2,    0.520,2,  2.27412149,2,   -999.0,9,   -999.0,9,  -0.3709
  316N20020530,    99,  1,     15,     15,2,20020620, 66.0020, -10.6027, 1257,    137.8,  -0.3943,  34.7865,2,  34.7881,2,    331.2,2,    330.3,2,     5.67,2,    12.41,2,     0.02,2,     0.81,2,    5.895,2,    2.905,2,    0.513,2,  2.09837705,2,   -999.0,9,   -999.0,9,  -0.3989
  316N20020530,    99,  1,     14,     14,2,20020620, 66.0020, -10.6027, 1257,    167.9,  -0.2022,  34.8232,2,  34.8192,2,    325.3,2,    324.6,2,     5.86,2,    12.71,2,     0.01,2,     0.83,2, -999.000,9, -999.000,9, -999.000,9,        -999,9,   2155.8,2,   2283.0,2,  -0.2081
  316N20020530,    99,  1,     13,     13,2,20020620, 66.0020, -10.6027, 1257,    206.9,  -0.2466,  34.8414,2,  34.8392,2,    324.7,2,    322.0,2,     6.06,2,    12.70,2,     0.00,2,     0.84,2,    5.160,6,    2.585,6,    0.423,6,  1.84454966,2,   -999.0,9,   -999.0,9,  -0.2539
  316N20020530,    99,  1,     12,     12,2,20020620, 66.0020, -10.6027, 1257,    247.6,  -0.3134,  34.8514,2,  34.8514,2,    319.9,2,    321.1,2,     6.25,2,    12.90,2,     0.00,2,     0.86,2, -999.000,9, -999.000,9, -999.000,9,        -999,9,   -999.0,9,   -999.0,9,  -0.3221
  316N20020530,    99,  1,     11,     11,2,20020620, 66.0020, -10.6027, 1257,    283.1,  -0.1455,  34.8729,2,  34.8718,2,    316.3,2,    314.3,2,     6.74,2,    13.29,2,     0.00,2,     0.88,2, -999.000,9, -999.000,9, -999.000,9,  1.64931919,2,   2159.2,2,   2283.4,2,  -0.1560
  316N20020530,    99,  1,     10,     10,3,20020620, 66.0020, -10.6027, 1257,    354.5,  -0.2192,  34.8823,2,  34.8190,0,    314.6,2,    314.1,4,     6.55,4,    13.10,4,     0.01,4,     0.87,4, -999.000,9, -999.000,9, -999.000,9,  1.75674037,2,   -999.0,9,   -999.0,9,  -0.2323
  316N20020530,    99,  1,      9,      9,2,20020620, 66.0020, -10.6027, 1257,    445.7,  -0.2977,  34.8859,2,  34.8844,2,    313.6,2,    314.3,2,     7.13,2,    13.58,2,     0.00,2,     0.90,2,    4.346,2,    2.155,2,    0.324,2,  1.84448759,2,   -999.0,9,   -999.0,9,  -0.3143
  316N20020530,    99,  1,      8,      8,2,20020620, 66.0020, -10.6027, 1257,    555.6,  -0.3854,  34.8904,2,  34.8885,2,    311.0,2,    310.9,2,     7.62,2,    13.68,2,     0.00,2,     0.91,2,    3.796,2,    1.884,2,    0.276,2,  2.05918357,2,   2160.3,2,   2286.3,2,  -0.4062
  316N20020530,    99,  1,      7,      7,2,20020620, 66.0020, -10.6027, 1257,    657.8,  -0.4605,  34.8944,2,  34.8933,2,    308.5,2,    308.7,2,     8.21,2,    13.88,2,     0.00,2,     0.92,2,    3.455,2,    1.688,2,    0.254,2,  2.37146834,2,   -999.0,9,   -999.0,9,  -0.4853
  316N20020530,    99,  1,      6,      6,2,20020620, 66.0020, -10.6027, 1257,    759.3,  -0.5085,  34.8962,2,  34.8943,2,    306.2,2,    306.3,2,     8.60,2,    14.07,2,     0.00,2,     0.95,2,    3.075,2,    1.525,2,    0.225,2,  2.48857603,2,   2160.9,2,   2286.0,2,  -0.5376
  316N20020530,    99,  1,      5,      5,2,20020620, 66.0020, -10.6027, 1257,    860.0,  -0.5477,  34.8996,2,  34.8951,2,    304.2,2,    304.5,2,     9.19,2,    14.17,2,     0.00,2,     0.94,2,    2.805,2,    1.369,2,    0.199,2,  2.49833366,2,   2161.1,2,   2295.2,2,  -0.5811
  316N20020530,    99,  1,      4,      4,2,20020620, 66.0020, -10.6027, 1257,    960.0,  -0.5773,  34.9009,2,  34.8988,2,    302.8,2,    303.9,2,     9.48,2,    14.17,2,     0.00,2,     0.94,2,    2.639,2,    1.284,2,    0.190,2,  2.47880861,2,   -999.0,9,   -999.0,9,  -0.6153
  316N20020530,    99,  1,      3,      3,2,20020620, 66.0020, -10.6027, 1257,   1085.9,  -0.6078,  34.9036,2,  34.9014,2,    301.1,2,    301.8,2,    10.07,2,    14.27,2,     0.00,2,     0.95,2,    2.343,6,    1.150,6,    0.170,6,  2.24458612,2,   2160.4,2,   2288.2,2,  -0.6517
  316N20020530,    99,  1,      2,      2,2,20020620, 66.0020, -10.6027, 1257,   1187.5,  -0.6903,  34.9072,2,  34.9049,2,    297.2,2,    297.1,2,    11.92,2,    14.76,2,     0.01,2,     1.00,2, -999.000,9, -999.000,9, -999.000,9,  1.49313384,2,   2162.2,2,   2293.7,2,  -0.7386
  316N20020530,    99,  1,      1,      1,2,20020620, 66.0020, -10.6027, 1257,   1231.9,  -0.7190,  34.9084,2,  34.9063,2,    294.4,2,    294.0,2,    12.90,2,    14.85,2,     0.01,2,     1.01,2, -999.000,9, -999.000,9, -999.000,9,  1.16132511,2,   2164.5,2,   2288.3,2,  -0.7693
  316N20020530,   100,  1,     17,     17,2,20020620, 66.0007,  -9.6395,  988,      5.4,   5.6819,  34.5555,2,  34.5524,2,    326.7,2,    326.9,2,     0.00,2,     2.54,2,     0.06,2,     0.22,2,    5.371,2,    2.744,2,    0.496,2,   2.1377917,2,   2086.1,2,   2278.5,2,   5.6815
  316N20020530,   100,  1,     16,     16,2,20020620, 66.0007,  -9.6395,  988,     30.4,   2.4696,  34.6342,2,  34.6234,2,    363.4,2,    364.0,2,     0.00,2,     4.59,2,     0.10,2,     0.38,2,    6.133,2,    3.127,2,    0.564,2,  2.37194487,2,   -999.0,9,   -999.0,9,   2.4679
  316N20020530,   100,  1,     15,     15,2,20020620, 66.0007,  -9.6395,  988,     44.9,   1.7697,  34.6401,2,  34.6374,2,    349.6,2,    348.9,2,     0.39,2,     6.55,2,     0.17,2,     0.58,2,    6.217,2,    3.191,2,    0.589,2,  2.44024706,2,   2127.8,2,   2281.1,2,   1.7674
  316N20020530,   100,  1,     14,     14,2,20020620, 66.0007,  -9.6395,  988,     85.5,   1.2282,  34.6583,2,  34.6578,2,    338.0,2,    339.8,2,     2.54,2,     8.80,2,     0.22,2,     0.69,2,    6.290,2,    3.232,2,    0.585,2,  2.40116664,2,   -999.0,9,   -999.0,9,   1.2242
  316N20020530,   100,  1,     13,     13,2,20020620, 66.0007,  -9.6395,  988,    110.5,   0.5449,  34.7151,2,  34.7171,2,    329.8,2,    329.5,2,     4.79,2,    11.92,2,     0.15,2,     0.82,2,    6.178,2,    3.164,2,    0.534,2,  2.36201901,2,   2153.3,2,   2279.1,2,   0.5404
  316N20020530,   100,  1,     12,     12,2,20020620, 66.0007,  -9.6395,  988,    145.8,   0.1747,  34.7547,2,  34.7536,2,    332.1,2,    331.6,2,     4.79,2,    11.83,2,     0.03,2,     0.81,2,    6.110,2,    3.102,2,    0.528,2,  2.29363382,2,   2152.5,2,   2279.7,2,   0.1691
  316N20020530,   100,  1,     11,     11,2,20020620, 66.0007,  -9.6395,  988,    184.6,   0.1236,  34.8069,2,  34.8078,2,    323.2,2,    322.1,2,     5.47,2,    12.71,2,     0.03,2,     0.86,2, -999.000,9, -999.000,9, -999.000,9,        -999,9,   -999.0,9,   -999.0,9,   0.1166
  316N20020530,   100,  1,     10,     10,2,20020620, 66.0007,  -9.6395,  988,    226.9,  -0.1311,  34.8325,2,  34.8327,2,    316.6,2,    317.5,2,     6.06,2,    12.90,2,     0.03,2,     0.88,2,    5.146,6,    2.590,6,    0.408,6,  1.97143298,2,   2160.7,2,   2282.4,2,  -0.1394
  316N20020530,   100,  1,      9,      9,2,20020620, 66.0007,  -9.6395,  988,    286.8,  -0.2013,  34.8605,2,  34.8594,2,    312.2,2,    312.2,2,     6.55,2,    13.39,2,     0.01,2,     0.91,2, -999.000,9, -999.000,9, -999.000,9,        -999,9,   -999.0,9,   -999.0,9,  -0.2118
  316N20020530,   100,  1,      8,      8,2,20020620, 66.0007,  -9.6395,  988,    356.3,  -0.2729,  34.8752,2,  34.8754,2,    311.8,2,    310.8,2,     6.94,2,    13.49,2,     0.02,2,     0.92,2,    4.416,2,    2.171,2,    0.328,2,  1.86401847,2,   -999.0,9,   -999.0,9,  -0.2859
  316N20020530,   100,  1,      7,      7,2,20020620, 66.0007,  -9.6395,  988,    456.4,  -0.3894,  34.8864,2,  34.8864,2,    308.9,2,    309.2,2,     7.52,2,    13.68,2,     0.00,2,     0.93,2,    3.889,2,    1.907,2,    0.274,2,  2.02015007,2,   2163.1,2,   2286.8,2,  -0.4061
  316N20020530,   100,  1,      6,      6,2,20020620, 66.0007,  -9.6395,  988,    555.4,  -0.4619,  34.8916,2,  34.8919,2,    306.9,2,    304.6,2,     8.21,2,    13.97,2,     0.00,2,     0.94,2,    3.408,2,    1.668,2,    0.234,2,  2.31291597,2,   -999.0,9,   -999.0,9,  -0.4823
  316N20020530,   100,  1,      5,      5,2,20020620, 66.0007,  -9.6395,  988,    656.0,  -0.5321,  34.8961,2,  34.8956,2,    304.2,2,    304.6,2,     8.80,2,    13.88,2,     0.00,2,     0.95,2,    3.047,6,    1.502,6,    0.209,6,  2.48857362,2,   2165.9,2,   2285.8,2,  -0.5565
  316N20020530,   100,  1,      4,      4,2,20020620, 66.0007,  -9.6395,  988,    757.2,  -0.5742,  34.8992,2,  34.8998,2,    303.6,2,    302.9,2,     9.48,2,    14.17,2,     0.00,2,     0.94,2, -999.000,9, -999.000,9, -999.000,9,  2.46904768,2,   -999.0,9,   -999.0,9,  -0.6028
  316N20020530,   100,  1,      3,      3,2,20020620, 66.0007,  -9.6395,  988,    831.6,  -0.5982,  34.9008,2,  34.9000,2,    303.0,2,    303.3,2,     9.67,2,    14.17,2,     0.00,2,     0.95,2,    2.521,2,    1.227,2,    0.157,2,  2.31290203,2,   2164.8,2,   2292.3,2,  -0.6300
  316N20020530,   100,  1,      2,      2,2,20020620, 66.0007,  -9.6395,  988,    908.5,  -0.6196,  34.9020,2,  34.9023,2,    300.2,2,    300.2,2,    10.46,2,    14.37,2,     0.01,2,     0.97,2,    2.371,2,    1.157,2,    0.144,2,  2.22506649,2,   2163.7,2,   2295.2,2,  -0.6548
  316N20020530,   100,  1,      1,      1,2,20020620, 66.0007,  -9.6395,  988,    957.9,  -0.6217,  34.9026,2,  34.9010,2,    299.3,2,    299.2,2,    10.75,2,    14.37,2,     0.01,2,     0.97,2,    2.358,2,    1.134,2,    0.142,2,  2.13723699,2,   2161.3,2,   2296.0,2,  -0.6592
  316N20020530,   101,  1,     18,     18,2,20020620, 66.0018,  -8.4713, 1210,      9.5,   5.9552,  34.5634,2,-999.0000,9,    326.1,2,    326.5,2,     0.00,2,     2.64,2,     0.06,2,     0.22,2,    5.359,2,    2.800,2,    0.481,2,  2.08839479,2,   2079.3,2,   2278.9,2,   5.9544
  316N20020530,   101,  1,     17,     17,2,20020620, 66.0018,  -8.4713, 1210,     28.8,   2.5966,  34.6257,2,  34.6184,2,    363.6,2,    366.5,2,     0.00,2,     5.18,2,     0.09,2,     0.42,2,    6.155,2,    3.166,2,    0.560,2,        -999,9,   2102.4,2,   2280.1,2,   2.5950
  316N20020530,   101,  1,     16,     16,2,20020620, 66.0018,  -8.4713, 1210,     54.9,   1.4892,  34.6413,2,  34.6407,2,    342.9,2,    340.5,2,     1.66,2,     7.62,2,     0.20,2,     0.64,2,    6.310,2,    3.143,2,    0.571,2,  2.33287046,2,   -999.0,9,   -999.0,9,   1.4866
  316N20020530,   101,  1,     15,     15,2,20020620, 66.0018,  -8.4713, 1210,     74.4,   1.2171,  34.6480,2,  34.6484,2,    343.0,2,    341.5,2,     2.93,2,     8.31,2,     0.21,2,     0.65,2,    6.433,2,    3.213,2,    0.575,2,        -999,9,   2133.4,2,   2278.8,2,   1.2137
  316N20020530,   101,  1,     14,     14,2,20020620, 66.0018,  -8.4713, 1210,    104.5,   0.4298,  34.7131,2,  34.7128,2,    334.3,2,    333.4,2,     4.98,2,    11.73,2,     0.06,2,     0.80,2,    6.258,2,    3.136,2,    0.557,2,  2.35226613,2,   2147.2,2,   2277.5,2,   0.4256
  316N20020530,   101,  1,     13,     13,2,20020620, 66.0018,  -8.4713, 1210,    144.3,  -0.0672,  34.7377,7,  34.7393,2,    331.8,2,    334.1,2,     5.18,2,    11.92,2,     0.01,2,     0.80,2,    6.136,2,    3.077,2,    0.537,2,        -999,9,   -999.0,9,   -999.0,9,  -0.0724
  316N20020530,   101,  1,     12,     12,2,20020620, 66.0018,  -8.4713, 1210,    203.8,  -0.4184,  34.7907,2,-999.0000,9,    332.7,2,    332.7,2,     5.18,2,    12.12,2,     0.01,2,     0.81,2,    5.935,2,    3.018,2,    0.522,2,  2.14694792,2,   2152.8,2,   2276.1,2,  -0.4253
  316N20020530,   101,  1,     11,     11,2,20020620, 66.0018,  -8.4713, 1210,    255.3,  -0.1604,  34.8443,2,  34.8455,2,    322.2,2,    320.0,2,     5.96,2,    12.80,2,     0.00,2,     0.85,2,    5.271,6,    2.617,6,    0.430,6,        -999,9,   2155.0,2,   2276.5,2,  -0.1697
  316N20020530,   101,  1,     10,     10,2,20020620, 66.0018,  -8.4713, 1210,    305.3,  -0.1176,  34.8652,2,-999.0000,9,    316.5,2,    315.6,2,     6.35,2,    13.10,2,     0.00,2,     0.87,2,    4.811,2,    2.431,2,    0.385,2,  1.69804063,2,   -999.0,9,   -999.0,9,  -0.1290
  316N20020530,   101,  1,      9,      9,2,20020620, 66.0018,  -8.4713, 1210,    404.2,  -0.2535,  34.8794,2,  34.8785,2,    314.3,2,    314.5,2,     6.74,2,    13.49,2,     0.00,2,     0.90,2,    4.675,2,    2.355,2,    0.365,2,  1.77618104,2,   -999.0,9,   -999.0,9,  -0.2685
  316N20020530,   101,  1,      8,      8,2,20020620, 66.0018,  -8.4713, 1210,    514.1,  -0.3694,  34.8831,2,  34.8842,2,    312.2,2,    312.2,2,     7.23,2,    13.68,2,     0.00,2,     0.91,2,    4.253,2,    2.152,2,    0.333,2,  1.87376545,2,   2157.3,2,   2284.7,2,  -0.3885
  316N20020530,   101,  1,      7,      7,2,20020620, 66.0018,  -8.4713, 1210,    625.4,  -0.4667,  34.8899,2,  34.8903,2,    307.2,2,    307.6,2,     7.92,2,    13.97,2,     0.00,2,     0.93,2,    3.721,6,    1.856,6,    0.276,6,  2.22508637,2,   -999.0,9,   -999.0,9,  -0.4901
  316N20020530,   101,  1,      6,      6,2,20020620, 66.0018,  -8.4713, 1210,    737.0,  -0.5237,  34.8950,2,  34.8954,2,    303.2,2,    304.1,2,     8.50,2,    14.27,2,     0.00,2,     0.94,2,    3.113,2,    1.539,2,    0.228,2,  2.49833311,2,   2161.4,2,   2280.2,2,  -0.5517
  316N20020530,   101,  1,      5,      5,2,20020620, 66.0018,  -8.4713, 1210,    838.1,  -0.5667,  34.8990,2,  34.8982,2,    302.2,2,    302.8,2,     9.19,2,    14.27,2,     0.00,2,     0.94,2,    2.805,2,    1.375,2,    0.215,2,  2.51784609,2,   -999.0,9,   -999.0,9,  -0.5990
  316N20020530,   101,  1,      4,      4,2,20020620, 66.0018,  -8.4713, 1210,    938.2,  -0.5982,  34.9014,2,  34.9005,2,    301.0,2,    301.2,2,     9.58,2,    14.37,2,     0.00,2,     0.95,2,    2.485,2,    1.192,2,    0.174,2,  2.36169655,2,   -999.0,9,   -999.0,9,  -0.6350
  316N20020530,   101,  1,      3,      3,2,20020620, 66.0018,  -8.4713, 1210,   1039.3,  -0.6283,  34.9039,2,  34.9031,2,    300.8,2,    300.4,2,     9.97,2,    14.37,2,     0.00,2,     0.96,2,    2.287,2,    1.077,2,    0.151,2,  2.15675176,2,   2161.1,2,   2285.6,2,  -0.6697
  316N20020530,   101,  1,      2,      2,2,20020620, 66.0018,  -8.4713, 1210,   1118.6,  -0.6644,  34.9055,2,  34.9033,2,    298.8,2,    298.0,2,    10.95,2,    14.56,2,     0.00,2,     0.97,2,    2.005,2,    0.945,2,    0.131,2,  1.76638919,2,   2161.5,2,   2288.6,2,  -0.7094
  316N20020530,   101,  1,      1,      1,2,20020620, 66.0018,  -8.4713, 1210,   1191.4,  -0.7399,  34.9081,2,  34.9067,2,    293.9,2,    293.6,2,    13.00,2,    14.95,2,     0.01,2,     1.00,2,    1.510,2,    0.711,2,    0.088,2, 0.975903161,2,   2163.9,2,   2291.0,2,  -0.7879