BOTTLE,20081218PRINUNIVRMK
EXPOCODE,STNNBR,CASTNO,SAMPNO,BTLNBR,BTLNBR_FLAG_W,DATE,LATITUDE,LONGITUDE,DEPTH,CTDPRS,CTDTMP,CTDSAL,CTDSAL_FLAG_W,SALNTY,SALNTY_FLAG_W,CTDOXY,CTDOXY_FLAG_W,OXYGEN,OXYGEN_FLAG_W,SILCAT,SILCAT_FLAG_W,NITRAT,NITRAT_FLAG_W,NITRIT,NITRIT_FLAG_W,PHSPHT,PHSPHT_FLAG_W,CFC-11,CFC-11_FLAG_W,CFC-12,CFC-12_FLAG_W,CFC113,CFC113_FLAG_W,SF6,SF6_FLAG_W,TCARBN,TCARBN_FLAG_W,ALKALI,ALKALI_FLAG_W,THETA
,,,,,,,,,METERS,DBARS,ITS-90,PSS-78,,PSS-78,,UMOL/KG,,UMOL/KG,,UMOL/KG,,UMOL/KG,,UMOL/KG,,UMOL/KG,,PMOL/KG,,PMOL/KG,,PMOL/KG,,FMOL/KG,,UMOL/KG,,UMOL/KG,,DEGC
  316N20020530,    57,  1,     19,     19,2,20020611, 73.6988,  18.4967,  298,      3.0,   6.8366,  35.0601,2,  35.0604,2,    344.7,2,   -999.0,9,     1.56,2,     2.54,2,     0.07,2,     0.24,2,    4.670,2,    2.523,2,    0.412,2,  1.71739306,2,   2086.7,2,   2323.6,2,   6.8363
  316N20020530,    57,  1,     17,     17,2,20020611, 73.6988,  18.4967,  298,     23.0,   6.2323,  35.0568,7,  35.0583,2,    342.8,2,   -999.0,9,     0.78,2,     5.08,2,     0.10,2,     0.41,2,    4.609,6,    2.486,6,    0.410,6,  1.71739574,2,   2100.6,2,   2321.7,2,   6.2303
  316N20020530,    57,  1,     15,     15,2,20020611, 73.6988,  18.4967,  298,     53.0,   4.7863,  35.0657,2,  35.0752,2,    321.8,2,   -999.0,9,     2.93,2,     9.38,2,     0.10,2,     0.70,2,    4.681,2,    2.524,2,    0.405,2,  1.70761633,2,   2131.7,2,   2316.1,2,   4.7823
  316N20020530,    57,  1,     13,     13,2,20020611, 73.6988,  18.4967,  298,     83.1,   4.3483,  35.0599,2,  35.0583,2,    306.1,2,   -999.0,9,     3.52,2,    10.46,2,     0.10,2,     0.74,2,    4.958,2,    2.614,2,    0.428,2,        -999,9,   2137.0,2,   2313.4,2,   4.3423
  316N20020530,    57,  1,     11,     11,2,20020611, 73.6988,  18.4967,  298,    108.1,   3.5489,  35.0245,2,  35.0239,2,    310.1,2,   -999.0,9,     4.30,2,    11.24,2,     0.12,2,     0.78,2,    5.183,2,    2.686,2,    0.440,2,  1.75647244,2,   -999.0,9,   -999.0,9,   3.5418
  316N20020530,    57,  1,      9,      9,2,20020611, 73.6988,  18.4967,  298,    138.2,   3.0159,  34.9968,7,  34.9914,2,    309.0,2,   -999.0,9,     4.69,2,    11.73,2,     0.10,2,     0.78,2,    5.254,2,    2.782,2,    0.455,2,  1.82482385,2,   2143.5,2,   2305.8,2,   3.0073
  316N20020530,    57,  1,      7,      7,2,20020611, 73.6988,  18.4967,  298,    168.3,   2.3781,  34.9532,2,  34.9559,2,    312.5,2,   -999.0,9,     4.79,2,    11.63,2,     0.09,2,     0.78,2,    5.400,2,    2.841,2,    0.462,2,  1.84438942,2,   2146.1,2,   2304.1,2,   2.3685
  316N20020530,    57,  1,      5,      5,2,20020611, 73.6988,  18.4967,  298,    203.0,   2.3801,  34.9810,2,  34.9828,2,    309.8,2,   -999.0,9,     5.08,2,    11.82,2,     0.05,2,     0.79,2,    5.433,2,    2.852,2,    0.463,2,  1.86386945,2,   -999.0,9,   -999.0,9,   2.3685
  316N20020530,    57,  1,      3,      3,2,20020611, 73.6988,  18.4967,  298,    248.0,   2.4448,  35.0356,2,  35.0382,2,    312.0,2,   -999.0,9,     4.79,2,    11.53,2,     0.07,2,     0.77,2,    5.380,2,    2.811,2,    0.450,2,   1.8150022,2,   2149.0,2,   2312.6,2,   2.4303
  316N20020530,    57,  1,      1,      1,2,20020611, 73.6988,  18.4967,  298,    290.2,   2.1670,  35.0291,2,  35.0303,2,    311.3,2,   -999.0,9,     5.18,2,    11.53,2,     0.07,2,     0.78,2,    5.519,2,    2.890,2,    0.471,2,  1.91259421,2,   2153.9,2,   2311.3,2,   2.1506
  316N20020530,    58,  1,     23,     23,2,20020612, 73.3668,  18.4965,  472,      2.6,   7.2047,  35.0243,2,  35.0238,2,    337.1,2,   -999.0,9,     2.35,2,     4.01,2,     0.09,2,     0.33,2,    4.450,2,    2.421,2,    0.373,2,  1.72719803,2,   2094.9,2,   2323.4,2,   7.2045
  316N20020530,    58,  1,     21,     21,2,20020612, 73.3668,  18.4965,  472,     23.2,   6.6609,  35.0086,2,  35.0147,2,    326.0,2,   -999.0,9,     2.64,2,     6.16,2,     0.10,2,     0.49,2,    4.461,2,    2.464,2,    0.401,2,        -999,9,   2113.9,2,   2318.7,2,   6.6588
  316N20020530,    58,  1,     19,     19,2,20020612, 73.3668,  18.4965,  472,     63.4,   5.9402,  35.0674,2,  35.0699,2,    302.3,2,   -999.0,9,     3.52,2,     9.58,2,     0.10,2,     0.69,2,    4.426,2,    2.435,2,    0.395,2,  1.66859168,2,   -999.0,9,   -999.0,9,   5.9348
  316N20020530,    58,  1,     17,     17,2,20020612, 73.3668,  18.4965,  472,    103.0,   5.7487,  35.1147,2,  35.1151,2,    295.6,2,   -999.0,9,     4.69,2,    11.92,2,     0.08,2,     0.78,2,    4.371,2,    2.428,2,    0.369,2,  1.66853554,2,   2140.5,2,   2314.9,2,   5.7401
  316N20020530,    58,  1,     15,     15,2,20020612, 73.3668,  18.4965,  472,    143.3,   5.0581,  35.0803,2,  35.0803,2,    307.2,2,   -999.0,9,     3.62,2,     9.67,2,     0.09,2,     0.70,2,    4.590,2,    2.523,2,    0.398,2,        -999,9,   2134.0,2,   2307.4,2,   5.0469
  316N20020530,    58,  1,     13,     13,2,20020612, 73.3668,  18.4965,  472,    183.9,   4.5604,  35.0873,2,  35.0892,2,    305.8,2,   -999.0,9,     4.59,2,    10.06,2,     0.18,2,     0.75,2,    4.704,6,    2.553,6,    0.408,6,  1.72711395,2,   -999.0,9,   -999.0,9,   4.5466
  316N20020530,    58,  1,     11,     11,2,20020612, 73.3668,  18.4965,  472,    233.9,   3.9313,  35.0590,2,  35.0607,2,    307.8,2,   -999.0,9,     4.69,2,     9.38,2,     0.13,2,     0.72,2,    4.911,2,    2.639,2,    0.423,2,  1.77594015,2,   2141.7,2,   2315.2,2,   3.9149
  316N20020530,    58,  1,      9,      9,2,20020612, 73.3668,  18.4965,  472,    283.6,   3.4495,  35.0598,2,  35.0612,2,    307.3,2,   -999.0,9,     4.98,2,    11.43,2,     0.15,2,     0.77,2,    4.931,2,    2.717,2,    0.433,2,   1.7856974,2,   -999.0,9,   -999.0,9,   3.4306
  316N20020530,    58,  1,      7,      7,2,20020612, 73.3668,  18.4965,  472,    333.6,   3.1020,  35.0439,2,  35.0475,2,    308.3,2,   -999.0,9,     5.08,2,    11.73,2,     0.07,2,     0.78,2,    5.028,2,    2.689,2,    0.438,2,        -999,9,   2147.8,2,   2309.6,2,   3.0805
  316N20020530,    58,  1,      5,      5,2,20020612, 73.3668,  18.4965,  472,    383.7,   2.8536,  35.0426,2,  35.0443,2,    310.4,2,   -999.0,9,     5.08,2,    11.53,2,     0.09,2,     0.77,2,    5.118,2,    2.755,2,    0.421,2,  1.83451002,2,   -999.0,9,   -999.0,9,   2.8295
  316N20020530,    58,  1,      3,      3,2,20020612, 73.3668,  18.4965,  472,    432.4,   2.4462,  35.0357,2,  35.0377,2,    312.4,2,   -999.0,9,     5.37,2,    11.53,2,     0.06,2,     0.78,2,    5.240,2,    2.814,2,    0.463,2,  1.88330944,2,   2151.8,2,   2310.2,2,   2.4203
  316N20020530,    58,  1,      1,      1,2,20020612, 73.3668,  18.4965,  472,    460.7,   2.0287,  35.0272,2,  35.0294,2,    313.3,2,   -999.0,9,     5.57,2,    11.53,2,     0.06,2,     0.79,2,    5.460,6,    2.883,6,    0.468,6,  1.89307921,2,   2152.4,2,   2308.9,2,   2.0026
  316N20020530,    59,  1,     21,     21,2,20020612, 73.0293,  18.5095,  420,      2.8,   7.2812,  35.0214,2,  35.0240,2,    337.4,2,   -999.0,9,     2.15,2,     3.22,2,     0.10,2,     0.27,2,    4.425,2,    2.412,2,    0.392,2,  1.68816505,2,   2090.1,2,   2326.0,2,   7.2809
  316N20020530,    59,  1,     19,     19,2,20020612, 73.0293,  18.5095,  420,     23.0,   6.7020,  35.0180,2,  35.0234,2,    337.1,2,   -999.0,9,     2.35,2,     5.28,2,     0.07,2,     0.38,2,    4.454,2,    2.432,2,    0.407,2,  1.70768218,2,   2103.5,2,   2322.6,2,   6.6999
  316N20020530,    59,  1,     17,     17,2,20020612, 73.0293,  18.5095,  420,     63.1,   6.2092,  35.0538,2,  35.0574,2,    310.4,2,   -999.0,9,     2.93,2,     7.91,2,     0.12,2,     0.60,2,    4.493,2,    2.369,2,    0.364,2,  1.65884927,2,   -999.0,9,   -999.0,9,   6.2037
  316N20020530,    59,  1,     15,     15,2,20020612, 73.0293,  18.5095,  420,    108.1,   5.5944,  35.0786,2,  35.0824,2,    304.2,2,   -999.0,9,     2.54,2,     8.60,2,     0.10,2,     0.65,2,    4.556,2,    2.488,2,    0.412,2,  1.69784942,2,   2126.1,2,   2318.8,2,   5.5855
  316N20020530,    59,  1,     13,     13,2,20020612, 73.0293,  18.5095,  420,    153.5,   5.2529,  35.0934,2,  35.0955,2,    302.7,2,   -999.0,9,     4.10,2,    10.26,2,     0.09,2,     0.72,2,    4.581,6,    2.486,6,    0.383,6,        -999,9,   -999.0,9,   -999.0,9,   5.2406
  316N20020530,    59,  1,     11,     11,2,20020612, 73.0293,  18.5095,  420,    203.7,   4.8952,  35.1090,2,  35.1059,2,    306.1,2,   -999.0,9,     5.18,2,    11.82,2,     0.09,2,     0.79,2,    4.605,2,    2.515,2,    0.395,2,  1.72709248,2,   2144.0,2,   2315.3,2,   4.8794
  316N20020530,    59,  1,      9,      9,2,20020612, 73.0293,  18.5095,  420,    254.1,   4.2716,  35.0833,2,  35.0853,2,    307.7,2,   -999.0,9,     5.28,2,    11.43,2,     0.11,2,     0.78,2,    4.782,6,    2.545,6,    0.405,6,        -999,9,   -999.0,9,   -999.0,9,   4.2530
  316N20020530,    59,  1,      7,      7,2,20020612, 73.0293,  18.5095,  420,    304.3,   3.0922,  35.0438,2,  35.0452,2,    308.1,2,   -999.0,9,     5.37,2,    11.24,2,     0.10,2,     0.77,2,    5.081,2,    2.738,2,    0.445,2,  1.82475077,2,   2148.8,2,   2311.4,2,   3.0727
  316N20020530,    59,  1,      5,      5,2,20020612, 73.0293,  18.5095,  420,    339.3,   2.5744,  35.0328,2,  35.0360,2,    310.4,2,   -999.0,9,     5.57,2,    11.63,2,     0.14,2,     0.79,2,    5.219,2,    2.797,2,    0.428,2,   1.9125861,2,   2152.5,2,   2309.6,2,   2.5540
  316N20020530,    59,  1,      3,      3,2,20020612, 73.0293,  18.5095,  420,    374.3,   2.1160,  35.0267,2,  35.0304,2,    311.6,2,   -999.0,9,     5.96,2,    11.63,2,     0.07,2,     0.80,2,    5.361,2,    2.907,2,    0.484,2,   1.9516266,2,   2155.6,2,   2312.5,2,   2.0948
  316N20020530,    59,  1,      1,      1,2,20020612, 73.0293,  18.5095,  420,    412.3,   2.1013,  35.0271,2,  35.0300,2,    312.2,2,   -999.0,9,     6.06,2,    11.63,2,     0.07,2,     0.80,2,    5.462,2,    2.863,2,    0.434,2,  1.91259464,2,   2154.3,2,   2311.4,2,   2.0778
  316N20020530,    60,  1,     21,     21,2,20020612, 72.6992,  18.5048,  380,      2.2,   7.9154,  34.8600,2,  34.8604,2,    332.5,2,   -999.0,9,     2.44,2,     2.35,2,     0.14,2,     0.25,2,    4.389,2,    2.430,2,    0.413,2,  1.66885192,2,   2086.0,2,   2320.4,2,   7.9152
  316N20020530,    60,  1,     19,     19,2,20020612, 72.6992,  18.5048,  380,     22.4,   6.9264,  34.8852,2,  34.8987,2,    312.7,2,   -999.0,9,     2.44,2,     6.25,2,     0.14,2,     0.49,2, -999.000,9, -999.000,9, -999.000,9,        -999,9,   -999.0,9,   -999.0,9,   6.9243
  316N20020530,    60,  1,     17,     17,2,20020612, 72.6992,  18.5048,  380,     42.2,   6.4531,  34.9741,2,  34.9794,2,    304.9,2,   -999.0,9,     2.15,2,     6.84,2,     0.14,2,     0.57,2,    4.448,2,    2.454,2,    0.386,2,  1.64918709,2,   2120.9,2,   2318.2,2,   6.4494
  316N20020530,    60,  1,     15,     15,2,20020612, 72.6992,  18.5048,  380,     77.3,   6.3464,  35.0179,7,  35.0260,2,    301.5,2,   -999.0,9,     3.32,2,     8.01,2,     0.12,2,     0.63,2, -999.000,9, -999.000,9, -999.000,9,        -999,9,   -999.0,9,   -999.0,9,   6.3396
  316N20020530,    60,  1,     13,     13,2,20020612, 72.6992,  18.5048,  380,    112.6,   6.6242,  35.1242,2,  35.1221,2,    290.0,2,   -999.0,9,     4.40,2,    11.82,2,     0.04,2,     0.77,2,    4.222,2,    2.350,2,    0.371,2,  1.64901191,2,   2137.4,2,   2316.3,2,   6.6140
  316N20020530,    60,  1,     11,     11,2,20020612, 72.6992,  18.5048,  380,    147.8,   6.1815,  35.0883,2,  35.0903,2,    299.1,2,   -999.0,9,     3.91,2,    10.55,2,     0.09,2,     0.73,2, -999.000,9, -999.000,9, -999.000,9,        -999,9,   -999.0,9,   -999.0,9,   6.1686
  316N20020530,    60,  1,      9,      9,2,20020612, 72.6992,  18.5048,  380,    188.0,   6.0618,  35.1215,2,  35.1221,2,    292.4,2,   -999.0,9,     4.49,2,    12.21,2,     0.04,2,     0.80,2,    4.306,2,    2.394,2,    0.376,2,  1.64901191,2,   2141.1,2,   2301.5,2,   6.0455
  316N20020530,    60,  1,      7,      7,2,20020612, 72.6992,  18.5048,  380,    227.9,   5.6870,  35.1035,2,  35.1068,2,    297.5,2,   -999.0,9,     4.01,2,    11.53,2,     0.10,2,     0.78,2, -999.000,9, -999.000,9, -999.000,9,        -999,9,   2139.5,2,   2316.0,2,   5.6679
  316N20020530,    60,  1,      5,      5,2,20020612, 72.6992,  18.5048,  380,    278.1,   5.3735,  35.1153,2,  35.1160,2,    295.7,2,   -999.0,9,     4.59,2,    12.31,2,     0.04,2,     0.81,2, -999.000,9, -999.000,9, -999.000,9,        -999,9,   -999.0,9,   -999.0,9,   5.3507
  316N20020530,    60,  1,      3,      3,2,20020612, 72.6992,  18.5048,  380,    332.7,   4.7272,  35.0994,2,  35.1005,2,    299.2,2,   -999.0,9,     4.79,2,    12.31,2,     0.08,2,     0.83,2,    4.581,2,    2.521,2,    0.379,2,  1.72709942,2,   2144.5,2,   2314.8,2,   4.7015
  316N20020530,    60,  1,      1,      1,2,20020612, 72.6992,  18.5048,  380,    374.3,   4.0933,  35.0771,7,  35.0816,2,    299.5,2,   -999.0,9,     5.37,2,    12.51,2,     0.09,2,     0.84,2,    4.688,6,    2.530,6,    0.372,6,    1.756397,2,   2144.2,2,   2315.0,2,   4.0661
  316N20020530,    61,  1,     21,     21,2,20020612, 72.3663,  18.4945,  387,      2.6,   7.9742,  34.9027,2,  34.9161,2,    329.1,2,   -999.0,9,     1.86,2,     2.15,2,     0.11,2,     0.22,2,    4.369,2,    2.408,2,    0.386,2,  1.71757754,2,   2078.3,2,   2319.4,2,   7.9739
  316N20020530,    61,  1,     19,     19,2,20020612, 72.3663,  18.4945,  387,     23.1,   7.2131,  34.9819,2,  34.9819,2,    337.5,2,   -999.0,9,     2.05,2,     3.91,2,     0.12,2,     0.34,2,    4.404,6,    2.367,6,    0.395,6,  1.67845947,2,   2097.4,2,   2332.3,3,   7.2109
  316N20020530,    61,  1,     17,     17,2,20020612, 72.3663,  18.4945,  387,     63.0,   6.2417,  35.0157,2,  35.0159,2,    304.0,2,   -999.0,9,     2.44,2,     7.43,2,     0.14,2,     0.61,2, -999.000,9, -999.000,9, -999.000,9,        -999,9,   -999.0,9,   -999.0,9,   6.2362
  316N20020530,    61,  1,     15,     15,2,20020612, 72.3663,  18.4945,  387,    102.8,   6.1099,  35.0481,2,  35.0471,2,    295.6,2,   -999.0,9,     3.03,2,     9.19,2,     0.11,2,     0.68,2,    4.374,2,    2.374,2,    0.367,2,  1.67837801,2,   2130.3,2,   2315.6,2,   6.1010
  316N20020530,    61,  1,     13,     13,2,20020612, 72.3663,  18.4945,  387,    143.4,   6.0471,  35.1218,2,  35.1190,2,    292.1,2,   -999.0,9,     4.49,2,    12.21,2,     0.05,2,     0.80,2, -999.000,9, -999.000,9, -999.000,9,        -999,9,   -999.0,9,   -999.0,9,   6.0347
  316N20020530,    61,  1,     11,     11,2,20020612, 72.3663,  18.4945,  387,    168.7,   5.9314,  35.1238,2,  35.1202,2,    291.8,2,   -999.0,9,     4.49,2,    12.41,2,     0.03,2,     0.81,2,    4.379,2,    2.412,2,    0.357,2,  1.64901425,2,   2141.0,2,   2324.6,3,   5.9170
  316N20020530,    61,  1,      9,      9,2,20020612, 72.3663,  18.4945,  387,    203.5,   5.3145,  35.0641,2,  35.0557,2,    295.0,2,   -999.0,9,     4.40,2,    12.02,2,     0.11,2,     0.78,2, -999.000,9, -999.000,9, -999.000,9,        -999,9,   -999.0,9,   -999.0,9,   5.2980
  316N20020530,    61,  1,      7,      7,2,20020612, 72.3663,  18.4945,  387,    253.4,   5.0853,  35.0769,2,  35.0742,2,    296.6,2,   -999.0,9,     4.49,2,    12.02,2,     0.09,2,     0.79,2, -999.000,9, -999.000,9, -999.000,9,        -999,9,   -999.0,9,   -999.0,9,   5.0652
  316N20020530,    61,  1,      5,      5,2,20020612, 72.3663,  18.4945,  387,    303.4,   4.9216,  35.1013,2,  35.1003,2,    299.3,2,   -999.0,9,     4.69,2,    12.21,2,     0.04,2,     0.80,2,    4.601,6,    2.510,6,    0.382,6,  1.71734205,2,   2140.6,2,   2315.7,2,   4.8977
  316N20020530,    61,  1,      3,      3,2,20020612, 72.3663,  18.4945,  387,    343.2,   4.4840,  35.0946,2,  35.0942,2,    299.8,2,   -999.0,9,     4.89,2,    12.31,2,     0.08,2,     0.82,2, -999.000,9, -999.000,9, -999.000,9,        -999,9,   2145.8,2,   2312.3,2,   4.4581
  316N20020530,    61,  1,      1,      1,2,20020612, 72.3663,  18.4945,  387,    376.5,   3.3425,  35.0517,2,  35.0571,2,    301.4,2,   -999.0,9,     5.47,2,    12.31,2,     0.10,2,     0.83,2,    4.885,2,    2.570,2,    0.404,2,  1.78570285,2,   2151.6,2,   2322.4,2,   3.3174
  316N20020530,    62,  1,     19,     19,2,20020612, 72.0327,  18.4980,  303,      2.3,   8.4203,  34.6974,2,  34.6925,2,    333.7,2,   -999.0,9,     1.76,2,     1.08,2,     0.07,2,     0.14,2,    4.315,2,    2.359,2,    0.397,2,  1.64953935,2,   2075.8,2,   2317.0,2,   8.4201
  316N20020530,    62,  1,     17,     17,2,20020612, 72.0327,  18.4980,  303,     17.8,   7.6697,  34.6888,7,  34.7058,2,    320.0,2,   -999.0,9,     2.05,2,     4.69,2,     0.11,2,     0.37,2, -999.000,9, -999.000,9, -999.000,9,        -999,9,   -999.0,9,   -999.0,9,   7.6680
  316N20020530,    62,  1,     15,     15,2,20020612, 72.0327,  18.4980,  303,     42.8,   6.7819,  34.8609,2,  34.8868,2,    298.8,2,   -999.0,9,     2.44,2,     7.43,2,     0.25,2,     0.57,2, -999.000,9, -999.000,9, -999.000,9,        -999,9,   -999.0,9,   -999.0,9,   6.7780
  316N20020530,    62,  1,     13,     13,2,20020612, 72.0327,  18.4980,  303,     72.8,   6.9115,  35.0852,2,  35.1020,2,    291.3,2,   -999.0,9,     3.42,2,    10.46,2,     0.21,2,     0.68,2,    4.263,2,    2.338,2,    0.375,2,  1.64903659,2,   2131.9,2,   2317.9,2,   6.9048
  316N20020530,    62,  1,     11,     11,2,20020612, 72.0327,  18.4980,  303,    103.4,   6.8732,  35.1460,2,  35.1425,2,    288.0,2,   -999.0,9,     4.30,2,    11.82,2,     0.01,2,     0.77,2, -999.000,9, -999.000,9, -999.000,9,        -999,9,   2138.1,2,   2318.1,2,   6.8637
  316N20020530,    62,  1,      9,      9,2,20020612, 72.0327,  18.4980,  303,    143.4,   6.6378,  35.1487,2,  35.1435,2,    289.0,2,   -999.0,9,     4.49,2,    12.12,2,     0.01,2,     0.79,2,    4.265,2,    2.341,2,    0.345,2,  1.62947102,2,   2138.4,2,   2316.8,2,   6.6248
  316N20020530,    62,  1,      7,      7,2,20020612, 72.0327,  18.4980,  303,    178.6,   6.3121,  35.1217,2,  35.1173,2,    289.6,2,   -999.0,9,     4.49,2,    12.21,2,     0.02,2,     0.79,2,    4.325,2,    2.361,2,    0.352,2,   1.6197453,2,   2140.1,2,   2315.5,2,   6.2963
  316N20020530,    62,  1,      5,      5,2,20020612, 72.0327,  18.4980,  303,    218.4,   6.1032,  35.1359,2,  35.1338,2,    291.7,2,   -999.0,9,     4.59,2,    12.21,2,     0.01,2,     0.80,2, -999.000,9, -999.000,9, -999.000,9,        -999,9,   2141.2,2,   2313.5,2,   6.0842
  316N20020530,    62,  1,      3,      3,2,20020612, 72.0327,  18.4980,  303,    268.8,   5.5357,  35.1150,2,  35.1142,2,    294.2,2,   -999.0,9,     4.69,2,    12.21,2,     0.06,2,     0.80,2,    4.457,6,    2.429,6,    0.371,6,  1.66853666,2,   2140.0,2,   2314.3,2,   5.5133
  316N20020530,    62,  1,      1,      1,2,20020612, 72.0327,  18.4980,  303,    297.2,   5.0866,  35.1051,2,  35.1047,2,    293.2,2,   -999.0,9,     5.28,2,    12.51,2,     0.09,2,     0.84,2,    4.548,2,    2.444,2,    0.372,2,  1.64903327,2,   2145.8,2,   2319.4,2,   5.0629