BOTTLE,20081218PRINUNIVRMK
EXPOCODE,STNNBR,CASTNO,SAMPNO,BTLNBR,BTLNBR_FLAG_W,DATE,LATITUDE,LONGITUDE,DEPTH,CTDPRS,CTDTMP,CTDSAL,CTDSAL_FLAG_W,SALNTY,SALNTY_FLAG_W,CTDOXY,CTDOXY_FLAG_W,OXYGEN,OXYGEN_FLAG_W,SILCAT,SILCAT_FLAG_W,NITRAT,NITRAT_FLAG_W,NITRIT,NITRIT_FLAG_W,PHSPHT,PHSPHT_FLAG_W,CFC-11,CFC-11_FLAG_W,CFC-12,CFC-12_FLAG_W,CFC113,CFC113_FLAG_W,SF6,SF6_FLAG_W,TCARBN,TCARBN_FLAG_W,ALKALI,ALKALI_FLAG_W,THETA
,,,,,,,,,METERS,DBARS,ITS-90,PSS-78,,PSS-78,,UMOL/KG,,UMOL/KG,,UMOL/KG,,UMOL/KG,,UMOL/KG,,UMOL/KG,,PMOL/KG,,PMOL/KG,,PMOL/KG,,FMOL/KG,,UMOL/KG,,UMOL/KG,,DEGC
  316N20020530,    14,  1,     25,     25,2,20020603, 71.2790,  -9.2490, 1356,      2.8,   0.5917,  34.7349,2,  34.7314,2,    359.7,2,    360.2,2,     4.69,2,     9.19,2,     0.05,2,     0.65,2, -999.000,9, -999.000,9, -999.000,9,  2.22534959,2,   2134.7,2,   2286.0,2,   0.5916
  316N20020530,    14,  1,     24,     24,2,20020603, 71.2790,  -9.2490, 1356,     13.8,   0.5831,  34.7350,2,  34.7328,2,    359.9,2,    360.1,2,     4.79,2,     9.19,2,     0.05,2,     0.65,2, -999.000,9, -999.000,9, -999.000,9,        -999,9,   -999.0,9,   -999.0,9,   0.5825
  316N20020530,    14,  1,     23,     23,2,20020603, 71.2790,  -9.2490, 1356,     33.6,  -0.0322,  34.7632,2,  34.7584,2,    359.5,2,    360.0,2,     4.89,2,     9.68,2,     0.04,2,     0.68,2,    6.261,2,    3.225,2,    0.559,2,        -999,9,   -999.0,9,   -999.0,9,  -0.0334
  316N20020530,    14,  1,     22,     22,2,20020603, 71.2790,  -9.2490, 1356,     58.7,  -0.1482,  34.7850,2,  34.7864,2,    348.9,2,    349.3,2,     4.98,2,    10.65,2,     0.04,2,     0.75,2,    6.222,2,    3.213,2,    0.576,2,  2.17645895,2,   2147.3,2,   2288.1,2,  -0.1502
  316N20020530,    14,  1,     21,     21,2,20020603, 71.2790,  -9.2490, 1356,     91.8,   0.2856,  34.8344,2,  34.8342,2,    350.8,2,    350.2,2,     4.89,2,     9.77,2,     0.05,2,     0.73,2,    6.098,6,    3.157,6,    0.549,6,        -999,9,   2142.4,2,   2290.6,2,   0.2820
  316N20020530,    14,  1,     20,     20,2,20020603, 71.2790,  -9.2490, 1356,    124.2,  -0.0386,  34.8326,2,  34.8191,2,    332.6,2,    335.0,2,     5.18,2,    11.34,2,     0.05,2,     0.79,2,    5.553,2,    2.859,2,    0.494,2,  1.85433692,2,   2146.2,2,   2292.8,2,  -0.0431
  316N20020530,    14,  1,     19,     19,2,20020603, 71.2790,  -9.2490, 1356,    153.3,   0.1434,  34.8659,2,  34.8524,2,    323.0,2,    323.2,2,     5.47,2,    11.83,2,     0.04,2,     0.82,2, -999.000,9, -999.000,9, -999.000,9,        -999,9,   -999.0,9,   -999.0,9,   0.1376
  316N20020530,    14,  1,     18,     18,2,20020603, 71.2790,  -9.2490, 1356,    179.4,   0.2668,  34.8858,2,  34.8873,2,    318.3,2,    317.8,2,     5.57,2,    12.12,2,     0.02,2,     0.84,2,    4.437,2,    2.305,2,    0.346,2,  1.32724747,2,   2149.2,2,   2292.9,2,   0.2597
  316N20020530,    14,  1,     17,     17,2,20020603, 71.2790,  -9.2490, 1356,    205.0,   0.2857,  34.8924,2,  34.8647,2,    315.9,2,    316.0,2,     5.67,2,    12.22,2,     0.02,2,     0.85,2, -999.000,9, -999.000,9, -999.000,9,        -999,9,   -999.0,9,   -999.0,9,   0.2775
  316N20020530,    14,  1,     16,     16,2,20020603, 71.2790,  -9.2490, 1356,    233.8,   0.2799,  34.8988,2,  34.8705,2,    313.5,2,    313.8,2,     5.77,2,    12.31,2,     0.01,2,     0.86,2,    4.286,2,    2.195,2,    0.319,2,        -999,9,   2151.3,2,   2290.5,2,   0.2705
  316N20020530,    14,  1,     15,     15,2,20020603, 71.2790,  -9.2490, 1356,    265.1,   0.1947,  34.8987,2,  34.8806,2,    311.9,2,    315.4,2,     5.86,2,    12.41,2,     0.02,2,     0.86,2, -999.000,9, -999.000,9, -999.000,9,        -999,9,   -999.0,9,   -999.0,9,   0.1842
  316N20020530,    14,  1,     14,     14,2,20020603, 71.2790,  -9.2490, 1356,    304.7,   0.2233,  34.9082,2,  34.9046,2,    314.7,2,    311.5,2,     6.06,2,    12.51,2,     0.01,2,     0.87,2,    3.872,2,    1.976,2,    0.306,2,  1.18084467,2,   2153.0,2,   2286.4,2,   0.2110
  316N20020530,    14,  1,     13,     13,2,20020603, 71.2790,  -9.2490, 1356,    355.7,   0.1304,  34.9082,2,  34.9066,2,    314.1,2,    311.5,2,     6.16,2,    12.51,2,     0.01,2,     0.87,2, -999.000,9, -999.000,9, -999.000,9,  1.19060194,2,   -999.0,9,   -999.0,9,   0.1162
  316N20020530,    14,  1,     12,     12,2,20020603, 71.2790,  -9.2490, 1356,    405.7,   0.0761,  34.9092,2,  34.9102,2,    311.7,2,    311.8,2,     6.35,2,    12.70,2,     0.00,2,     0.88,2,    3.844,2,    1.939,2,    0.298,2,  1.17108074,2,   -999.0,9,   -999.0,9,   0.0599
  316N20020530,    14,  1,     11,     11,2,20020603, 71.2790,  -9.2490, 1356,    456.1,   0.0002,  34.9078,2,  34.9063,2,    310.5,2,    311.0,2,     6.55,2,    12.80,2,     0.00,2,     0.88,2, -999.000,9, -999.000,9, -999.000,9,  1.40530097,2,   -999.0,9,   -999.0,9,  -0.0179
  316N20020530,    14,  1,     10,     10,2,20020603, 71.2790,  -9.2490, 1356,    506.0,  -0.0923,  34.9070,2,  34.9060,2,    311.7,2,    312.1,2,     6.74,2,    12.90,2,     0.00,2,     0.89,2,    3.759,2,    1.903,2,    0.274,2,  1.34674706,2,   2155.3,2,   2292.3,2,  -0.1123
  316N20020530,    14,  1,      9,      9,2,20020603, 71.2790,  -9.2490, 1356,    582.1,  -0.2071,  34.9051,2,  34.9065,2,    312.6,2,    312.4,2,     6.74,2,    13.00,2,     0.00,2,     0.90,2, -999.000,9, -999.000,9, -999.000,9,  1.53216819,2,   -999.0,9,   -999.0,9,  -0.2299
  316N20020530,    14,  1,      8,      8,2,20020603, 71.2790,  -9.2490, 1356,    657.1,  -0.4235,  34.8954,2,  34.8957,2,    310.2,2,    309.9,2,     7.52,2,    13.49,2,     0.00,2,     0.93,2,    3.566,6,    1.792,6,    0.266,6,  2.27387298,2,   2158.1,2,   2289.5,2,  -0.4485
  316N20020530,    14,  1,      7,      7,2,20020603, 71.2790,  -9.2490, 1356,    757.5,  -0.5118,  34.8955,2,  34.8953,2,    308.1,2,    308.1,2,     7.92,2,    13.68,2,     0.00,2,     0.94,2, -999.000,9, -999.000,9, -999.000,9,  2.45929683,2,   -999.0,9,   -999.0,9,  -0.5408
  316N20020530,    14,  1,      6,      6,2,20020603, 71.2790,  -9.2490, 1356,    856.9,  -0.5852,  34.8960,2,  34.8968,2,    308.1,2,    310.5,2,     7.92,2,    13.58,2,     0.00,2,     0.93,2,    3.163,2,    1.598,2,    0.255,2,  2.97652658,2,   -999.0,9,   -999.0,9,  -0.6182
  316N20020530,    14,  1,      5,      5,2,20020603, 71.2790,  -9.2490, 1356,    957.7,  -0.6607,  34.8959,2,  34.8960,2,    312.5,2,    312.4,2,     7.92,2,    13.58,2,     0.00,2,     0.93,2,    3.133,2,    1.568,2,    0.238,2,  3.24978341,2,   2158.1,2,   2290.7,2,  -0.6979
  316N20020530,    14,  1,      4,      4,2,20020603, 71.2790,  -9.2490, 1356,   1038.8,  -0.6964,  34.8970,2,  34.8975,2,    310.3,2,    310.7,2,     8.11,2,    13.68,2,     0.00,2,     0.93,2, -999.000,9, -999.000,9, -999.000,9,  2.96676593,2,   -999.0,9,   -999.0,9,  -0.7372
  316N20020530,    14,  1,      3,      3,2,20020603, 71.2790,  -9.2490, 1356,   1160.5,  -0.7288,  34.9048,2,  34.9058,2,    305.0,2,    304.0,2,     9.48,2,    14.07,2,     0.00,2,     0.97,2, -999.000,9, -999.000,9, -999.000,9,  1.57120514,2,   2156.5,2,   2294.8,2,  -0.7754
  316N20020530,    14,  1,      2,      2,2,20020603, 71.2790,  -9.2490, 1356,   1261.3,  -0.7557,  34.9101,2,  34.9106,2,    300.5,2,    301.0,2,     9.97,2,    14.17,2,     0.00,2,     0.98,2,    1.423,2,    0.694,2,    0.098,2, 0.800238268,2,   -999.0,9,   -999.0,9,  -0.8072
  316N20020530,    14,  1,      1,      1,2,20020603, 71.2790,  -9.2490, 1356,   1336.3,  -0.7819,  34.9112,2,  34.9118,2,    299.5,2,    300.1,2,    10.46,2,    14.37,2,     0.00,2,     0.99,2,    1.145,2,    0.578,2,    0.083,2, 0.526985706,2,   2155.8,2,   2296.3,2,  -0.8371
  316N20020530,    15,  1,     28,     28,2,20020603, 71.3445,  -9.0968, 2266,      3.0,   0.6974,  34.7243,2,  34.7233,2,    358.7,2,    359.2,2,     4.89,2,     9.68,2,     0.04,2,     0.66,2,    6.278,2,    3.300,2,    0.575,2,  2.18632155,2,   -999.0,9,   -999.0,9,   0.6973
  316N20020530,    15,  1,     29,     29,2,20020603, 71.3445,  -9.0968, 2266,      3.0,   0.6980,  34.7249,2,-999.0000,9,    358.8,2,   -999.0,9,  -999.00,9,  -999.00,9,  -999.00,9,  -999.00,9, -999.000,9, -999.000,9, -999.000,9,        -999,9,   -999.0,9,   -999.0,9,   0.6979
  316N20020530,    15,  1,     27,     27,2,20020603, 71.3445,  -9.0968, 2266,     34.1,   0.0569,  34.7586,2,  34.7598,2,    359.6,2,    358.9,2,     4.98,2,    10.26,2,     0.04,2,     0.70,2, -999.000,9, -999.000,9, -999.000,9,  2.15698185,2,   -999.0,9,   -999.0,9,   0.0557
  316N20020530,    15,  1,     26,     26,2,20020603, 71.3445,  -9.0968, 2266,     64.7,  -0.1707,  34.7760,2,  34.7771,2,    347.1,2,    353.1,2,     4.98,2,    10.65,2,     0.04,2,     0.73,2,    6.230,2,    3.235,2,    0.558,2,        -999,9,   2142.3,2,   2288.6,2,  -0.1729
  316N20020530,    15,  1,     25,     25,2,20020603, 71.3445,  -9.0968, 2266,     99.6,  -0.1829,  34.7940,2,  34.7950,2,    343.9,2,    346.6,2,     5.28,2,    11.24,2,     0.04,2,     0.77,2, -999.000,9, -999.000,9, -999.000,9,  2.09836627,2,   -999.0,9,   -999.0,9,  -0.1864
  316N20020530,    15,  1,     24,     24,2,20020603, 71.3445,  -9.0968, 2266,    135.0,  -0.1207,  34.8218,2,  34.8213,2,    339.0,2,    339.8,2,     5.38,2,    11.63,2,     0.04,2,     0.80,2,    5.709,2,    2.975,2,    0.478,2,        -999,9,   2147.6,2,   2291.6,2,  -0.1255
  316N20020530,    15,  1,     23,     23,2,20020603, 71.3445,  -9.0968, 2266,    164.9,   0.0760,  34.8582,2,  34.8583,2,    323.2,2,    323.6,2,     5.77,2,    12.31,2,     0.03,2,     0.83,2, -999.000,9, -999.000,9, -999.000,9,  1.53222317,2,   -999.0,9,   -999.0,9,   0.0698
  316N20020530,    15,  1,     22,     22,2,20020603, 71.3445,  -9.0968, 2266,    200.2,   0.2462,  34.8922,2,  34.8939,2,    316.9,2,    316.0,2,     5.96,2,    12.61,2,     0.01,2,     0.85,2,    4.370,2,    2.260,2,    0.342,2,        -999,9,   2149.2,2,   2299.8,2,   0.2383
  316N20020530,    15,  1,     21,     21,2,20020603, 71.3445,  -9.0968, 2266,    230.4,   0.2717,  34.9078,2,  34.9081,2,    313.8,2,    313.2,2,     6.06,2,    12.80,2,     0.00,2,     0.86,2,    4.107,6,    2.117,6,    0.320,6,  1.21987768,2,   -999.0,9,   -999.0,9,   0.2625
  316N20020530,    15,  1,     20,     20,2,20020603, 71.3445,  -9.0968, 2266,    260.3,   0.2206,  34.9103,2,  34.9090,2,    313.4,2,    312.8,2,     6.16,2,    12.80,2,     0.00,2,     0.87,2, -999.000,9, -999.000,9, -999.000,9,        -999,9,   -999.0,9,   -999.0,9,   0.2102
  316N20020530,    15,  1,     19,     19,2,20020603, 71.3445,  -9.0968, 2266,    295.5,   0.1329,  34.9112,2,  34.9124,2,    312.9,2,    312.6,2,     6.45,2,    13.00,2,     0.00,2,     0.88,2,    3.912,2,    2.014,2,    0.298,2,  1.21011478,2,   2152.4,2,   2297.5,2,   0.1212
  316N20020530,    15,  1,     18,     18,2,20020603, 71.3445,  -9.0968, 2266,    345.6,   0.0035,  34.9108,2,  34.9108,2,    312.7,2,    312.4,2,     6.55,2,    13.00,2,     0.00,2,     0.90,2, -999.000,9, -999.000,9, -999.000,9,  1.29794724,2,   -999.0,9,   -999.0,9,  -0.0099
  316N20020530,    15,  1,     17,     17,2,20020603, 71.3445,  -9.0968, 2266,    406.3,  -0.1248,  34.9079,2,  34.9070,2,    312.4,2,    312.8,2,     6.74,2,    13.19,2,     0.00,2,  -999.00,9,    3.743,2,    1.936,2,    0.275,2,  1.38578218,2,   2154.9,2,   2295.3,2,  -0.1404
  316N20020530,    15,  1,     16,     16,2,20020603, 71.3445,  -9.0968, 2266,    461.9,  -0.2802,  34.9015,2,  34.9009,2,    312.3,2,    312.2,2,     7.23,2,    13.49,2,     0.00,2,     0.93,2, -999.000,9, -999.000,9, -999.000,9,  1.76639235,2,   -999.0,9,   -999.0,9,  -0.2975
  316N20020530,    15,  1,     15,     15,2,20020603, 71.3445,  -9.0968, 2266,    517.2,  -0.3221,  34.9019,2,  34.9021,2,    312.0,2,    312.6,2,     7.23,2,    13.49,2,     0.00,2,     0.92,2,    3.591,6,    1.817,6,    0.274,6,  1.86398142,2,   -999.0,9,   -999.0,9,  -0.3416
  316N20020530,    15,  1,     14,     14,2,20020603, 71.3445,  -9.0968, 2266,    587.5,  -0.4293,  34.8999,2,  34.9013,2,    312.0,2,    312.2,2,     7.43,2,    13.58,2,     0.00,2,     0.93,2,    3.391,2,    1.734,2,    0.246,2,  2.18603187,2,   -999.0,9,   -999.0,9,  -0.4513
  316N20020530,    15,  1,     13,     13,2,20020603, 71.3445,  -9.0968, 2266,    667.9,  -0.5287,  34.8983,2,  34.8999,2,    311.2,2,    311.4,2,     7.62,2,    13.78,2,     0.00,2,     0.94,2,    3.318,2,    1.679,2,    0.234,2,  2.59591555,2,   2156.9,2,   2295.5,2,  -0.5536
  316N20020530,    15,  1,     12,     12,2,20020603, 71.3445,  -9.0968, 2266,    758.8,  -0.6327,  34.8948,2,  34.8958,2,    312.4,2,    312.7,2,     7.72,2,    13.78,2,     0.00,2,     0.94,2, -999.000,9, -999.000,9, -999.000,9,    3.435207,2,   -999.0,9,   -999.0,9,  -0.6610
  316N20020530,    15,  1,     11,     11,2,20020603, 71.3445,  -9.0968, 2266,    859.2,  -0.6982,  34.8932,2,  34.8948,2,    313.1,2,    313.5,2,     7.92,2,    13.88,2,     0.00,2,     0.95,2,    3.298,2,    1.683,2,    0.235,2,  3.68894663,2,   2157.3,2,   2294.8,2,  -0.7305
  316N20020530,    15,  1,     10,     10,2,20020603, 71.3445,  -9.0968, 2266,    959.9,  -0.7198,  34.8950,2,  34.8960,2,    313.9,2,    311.3,2,     8.40,2,    13.97,2,     0.00,2,     0.95,2, -999.000,9, -999.000,9, -999.000,9,  3.28881985,2,   -999.0,9,   -999.0,9,  -0.7566
  316N20020530,    15,  1,      9,      9,2,20020603, 71.3445,  -9.0968, 2266,   1060.3,  -0.7463,  34.8976,2,-999.0000,9,    312.9,2,    311.4,2,     8.50,2,    14.07,2,     0.00,2,     0.95,2,    2.859,2,    1.435,2,    0.207,2,  2.80079115,2,   2156.3,2,   2297.4,2,  -0.7877
  316N20020530,    15,  1,      8,      8,2,20020603, 71.3445,  -9.0968, 2266,   1189.2,  -0.7190,  34.9056,2,  34.9074,2,    305.7,2,    304.8,2,     9.38,2,    14.37,2,     0.00,2,     0.99,2,    2.018,2,    1.006,2,    0.137,2,    1.473613,2,   -999.0,9,   -999.0,9,  -0.7671
  316N20020530,    15,  1,      7,      7,2,20020603, 71.3445,  -9.0968, 2266,   1330.4,  -0.7262,  34.9122,2,  34.9139,2,    300.0,2,    300.3,2,    10.16,2,    14.66,2,     0.00,2,     1.00,2,    1.273,2,    0.649,2,    0.074,2,  0.55626182,2,   2157.2,2,   2296.4,2,  -0.7816
  316N20020530,    15,  1,      6,      6,3,20020603, 71.3445,  -9.0968, 2266,   1513.3,  -0.7704,  34.9140,2,  34.9135,2,    298.4,2,   -999.0,9,  -999.00,9,  -999.00,9,  -999.00,9,  -999.00,9, -999.000,9, -999.000,9, -999.000,9,        -999,9,   2156.0,2,   2300.8,2,  -0.8354
  316N20020530,    15,  1,      5,      5,2,20020603, 71.3445,  -9.0968, 2266,   1716.4,  -0.8203,  34.9143,2,  34.9142,2,    298.4,2,    299.2,2,    11.14,2,    14.95,2,     0.00,2,     1.02,2,    0.803,2,    0.394,2,    0.038,2, 0.156143634,2,   -999.0,9,   -999.0,9,  -0.8964
  316N20020530,    15,  1,      4,      4,2,20020603, 71.3445,  -9.0968, 2266,   1918.4,  -0.8702,  34.9142,2,  34.9123,2,    299.1,2,    299.5,2,    11.53,2,    15.15,2,     0.00,2,     1.01,2,    0.676,2,    0.338,2,    0.029,2, 0.165902846,2,   2157.9,2,   2298.9,2,  -0.9579
  316N20020530,    15,  1,      3,      3,2,20020603, 71.3445,  -9.0968, 2266,   2019.0,  -0.8824,  34.9135,2,  34.9129,2,    299.6,2,    299.5,2,    11.53,2,    15.15,2,     0.00,2,     1.02,2, -999.000,9, -999.000,9, -999.000,9, 0.117107839,2,   -999.0,9,   -999.0,9,  -0.9763
  316N20020530,    15,  1,      2,      2,2,20020603, 71.3445,  -9.0968, 2266,   2129.2,  -0.9040,  34.9134,2,  34.9113,2,    300.5,2,    299.9,2,    11.63,2,    15.15,2,     0.00,2,     1.01,2,    0.656,2,    0.330,2,    0.029,2,  0.10734898,2,   -999.0,9,   -999.0,9,  -1.0047
  316N20020530,    15,  1,      1,      1,2,20020603, 71.3445,  -9.0968, 2266,   2229.2,  -0.9302,  34.9102,2,  34.9077,2,    301.3,2,    301.3,2,    12.02,2,    15.15,2,     0.00,2,     1.01,2,    0.698,2,    0.349,2,    0.029,2, 0.136626341,2,   2156.0,2,   2293.6,2,  -1.0371