BOTTLE,20081218PRINUNIVRMK
EXPOCODE,STNNBR,CASTNO,SAMPNO,BTLNBR,BTLNBR_FLAG_W,DATE,LATITUDE,LONGITUDE,DEPTH,CTDPRS,CTDTMP,CTDSAL,CTDSAL_FLAG_W,SALNTY,SALNTY_FLAG_W,CTDOXY,CTDOXY_FLAG_W,OXYGEN,OXYGEN_FLAG_W,SILCAT,SILCAT_FLAG_W,NITRAT,NITRAT_FLAG_W,NITRIT,NITRIT_FLAG_W,PHSPHT,PHSPHT_FLAG_W,CFC-11,CFC-11_FLAG_W,CFC-12,CFC-12_FLAG_W,CFC113,CFC113_FLAG_W,SF6,SF6_FLAG_W,TCARBN,TCARBN_FLAG_W,ALKALI,ALKALI_FLAG_W,THETA
,,,,,,,,,METERS,DBARS,ITS-90,PSS-78,,PSS-78,,UMOL/KG,,UMOL/KG,,UMOL/KG,,UMOL/KG,,UMOL/KG,,UMOL/KG,,PMOL/KG,,PMOL/KG,,PMOL/KG,,FMOL/KG,,UMOL/KG,,UMOL/KG,,DEGC
  316N20020530,    93,  1,     21,     21,2,20020618, 70.0010, -16.8215, 1227,     15.8,   1.9350,  34.7123,7,  34.7107,2,    361.1,2,    361.4,2,     2.64,2,     7.53,2,     0.06,2,     0.53,2,    6.191,2,    3.191,2,    0.572,2,        -999,9,   2127.5,2,   2284.2,2,   1.9342
  316N20020530,    93,  1,     20,     20,2,20020618, 70.0010, -16.8215, 1227,     31.5,   1.6705,  34.7120,2,  34.7121,2,    364.3,2,    362.7,2,     2.54,2,     7.62,2,     0.06,2,     0.54,2,    5.989,2,    3.138,2,    0.548,2,    2.147298,2,   2128.4,2,   2286.9,2,   1.6689
  316N20020530,    93,  1,     19,     19,2,20020618, 70.0010, -16.8215, 1227,     54.2,   0.0750,  34.7664,2,  34.7680,2,    332.4,2,    331.2,2,     5.47,2,    11.53,2,     0.07,2,     0.78,2,    5.412,2,    2.755,2,    0.487,2,   1.8641675,2,   2147.3,2,   2282.9,2,   0.0730
  316N20020530,    93,  1,     18,     18,2,20020618, 70.0010, -16.8215, 1227,     81.5,   0.3820,  34.8150,2,  34.8141,2,    333.1,2,    324.4,2,     5.57,2,    11.92,2,     0.07,2,     0.79,2,    5.285,2,    2.747,2,    0.466,2,  1.75674678,2,   2149.3,2,   2286.8,2,   0.3788
  316N20020530,    93,  1,     17,     17,2,20020618, 70.0010, -16.8215, 1227,     99.5,   0.4349,  34.8314,2,  34.8302,2,    326.2,2,    322.7,2,     5.57,2,    11.92,2,     0.06,2,     0.80,2,    5.147,2,    2.650,2,    0.465,2,  1.66888944,2,   2149.5,2,   2288.0,2,   0.4309
  316N20020530,    93,  1,     16,     16,2,20020618, 70.0010, -16.8215, 1227,    121.4,   0.4360,  34.8436,2,  34.8469,2,    329.6,2,    320.7,2,     5.67,2,    12.12,2,     0.05,2,     0.81,2,    4.999,2,    2.538,2,    0.438,2,  1.60055243,2,   2150.8,2,   2290.2,2,   0.4311
  316N20020530,    93,  1,     15,     15,2,20020618, 70.0010, -16.8215, 1227,    145.4,   0.3778,  34.8452,2,  34.8457,2,    324.7,2,    321.5,2,     5.77,2,    12.12,2,     0.05,2,     0.81,2,    4.966,2,    2.519,2,    0.417,2,  1.56151596,2,   2149.4,2,   2288.3,2,   0.3720
  316N20020530,    93,  1,     14,     14,2,20020618, 70.0010, -16.8215, 1227,    173.8,   0.1955,  34.8401,2,  34.8392,2,    325.8,2,    324.2,2,     5.77,2,    12.12,2,     0.07,2,     0.81,2,    4.954,2,    2.554,2,    0.410,2,  1.61032113,2,   2152.0,2,   2287.9,2,   0.1888
  316N20020530,    93,  1,     13,     13,2,20020618, 70.0010, -16.8215, 1227,    207.0,   0.4333,  34.8690,2,  34.8674,2,    318.2,2,    316.2,2,     5.96,2,    12.31,2,     0.03,2,     0.82,2,    4.545,2,    2.289,2,    0.371,2,  1.40534166,2,   2151.0,2,   2288.0,2,   0.4248
  316N20020530,    93,  1,     12,     12,2,20020618, 70.0010, -16.8215, 1227,    254.9,   0.2861,  34.8677,2,  34.8672,2,    320.9,2,    318.7,2,     5.96,2,    12.41,2,     0.03,2,     0.82,2,    4.597,6,    2.336,6,    0.360,6,  1.38582324,2,   2153.7,2,   2288.7,2,   0.2758
  316N20020530,    93,  1,     11,     11,2,20020618, 70.0010, -16.8215, 1227,    335.3,   0.3752,  34.8936,2,  34.8927,2,    310.9,2,    311.2,2,     6.25,2,    12.70,2,     0.01,2,     0.84,2,    3.963,6,    1.999,6,    0.329,6,    1.171096,2,   2155.2,2,   2288.5,2,   0.3612
  316N20020530,    93,  1,     10,     10,9,20020618, 70.0010, -16.8215, 1227,    405.4,   0.3451,  34.9077,2,-999.0000,9,    311.6,2,   -999.0,9,  -999.00,9,  -999.00,9,  -999.00,9,  -999.00,9, -999.000,9, -999.000,9, -999.000,9,        -999,9,   -999.0,9,   -999.0,9,   0.3280
  316N20020530,    93,  1,      9,      9,2,20020618, 70.0010, -16.8215, 1227,    468.3,   0.1607,  34.9062,2,  34.9063,2,    310.8,2,    310.3,2,     6.45,2,    12.90,2,     0.00,2,     0.86,2,    3.698,2,    1.839,2,    0.311,2,  1.17108414,2,   -999.0,9,   -999.0,9,   0.1414
  316N20020530,    93,  1,      8,      8,2,20020618, 70.0010, -16.8215, 1227,    547.1,  -0.1352,  34.8949,2,  34.8948,2,    311.4,2,    312.4,2,     6.74,2,    13.19,2,     0.00,2,     0.89,2,    3.884,2,    1.971,2,    0.320,2,  1.44434947,2,   2157.4,2,   2290.5,2,  -0.1568
  316N20020530,    93,  1,      7,      7,2,20020618, 70.0010, -16.8215, 1227,    621.3,  -0.1868,  34.9007,2,  34.8997,2,    311.3,2,    312.1,2,     6.94,2,    13.19,2,     0.00,2,     0.89,2,    3.785,2,    1.909,2,    0.299,2,   1.5028987,2,   -999.0,9,   -999.0,9,  -0.2115
  316N20020530,    93,  1,      6,      6,2,20020618, 70.0010, -16.8215, 1227,    699.8,  -0.3653,  34.8959,2,  34.8970,2,    311.3,2,    312.2,2,     7.33,2,    13.49,2,     0.00,2,     0.90,2,    3.510,2,    1.772,2,    0.285,2,  2.02013413,2,   2158.3,2,   2287.9,2,  -0.3925
  316N20020530,    93,  1,      5,      5,2,20020618, 70.0010, -16.8215, 1227,    797.4,  -0.4752,  34.8965,2,  34.8968,2,    309.7,2,    309.9,2,     7.92,2,    13.68,2,     0.00,2,     0.91,2,    3.223,2,    1.639,2,    0.265,2,  2.45929409,2,   -999.0,9,   -999.0,9,  -0.5062
  316N20020530,    93,  1,      4,      4,2,20020618, 70.0010, -16.8215, 1227,    892.5,  -0.5606,  34.8977,2,  34.8977,2,    306.8,2,    308.1,2,     8.50,2,    13.88,2,     0.00,2,     0.92,2,    2.816,2,    1.430,2,    0.212,2,   2.5861607,2,   2160.9,2,   2294.0,2,  -0.5955
  316N20020530,    93,  1,      3,      3,2,20020618, 70.0010, -16.8215, 1227,    990.6,  -0.6067,  34.9010,2,  34.9018,2,    305.1,2,    304.5,2,     9.19,2,    14.07,2,     0.00,2,     0.94,2,    2.463,2,    1.232,2,    0.180,2,   2.4397668,2,   -999.0,9,   -999.0,9,  -0.6459
  316N20020530,    93,  1,      2,      2,2,20020618, 70.0010, -16.8215, 1227,   1095.3,  -0.6388,  34.9031,2,  34.9026,2,    304.0,2,    304.2,2,     9.58,2,    14.17,2,     0.00,2,     0.95,2,    2.229,2,    1.106,2,    0.163,2,  2.23482506,2,   2159.4,2,   2292.3,2,  -0.6829
  316N20020530,    93,  1,      1,      1,2,20020618, 70.0010, -16.8215, 1227,   1182.7,  -0.6464,  34.9036,2,  34.9036,2,    303.7,2,    303.0,2,     9.77,2,    14.27,2,     0.00,2,     0.95,2,    2.126,2,    1.050,2,    0.153,2,  2.14699191,2,   2159.9,2,   2289.5,2,  -0.6949
  316N20020530,    94,  1,     22,     22,2,20020618, 69.9983, -18.0022, 1684,      4.6,   0.1624,  33.7368,2,  33.7380,2,    371.4,2,    378.3,2,     3.72,2,     3.91,2,     0.03,2,     0.38,2,    6.415,2,    3.273,2,    0.559,2,  2.09025069,2,   -999.0,9,   2246.3,2,   0.1622
  316N20020530,    94,  1,     21,     21,2,20020618, 69.9983, -18.0022, 1684,     22.9,  -1.7152,  34.1294,2,  34.1340,2,    368.7,2,    346.5,2,     4.79,2,     8.12,2,     0.03,2,     0.63,2,    6.027,2,    3.043,2,    0.501,2,        -999,9,   2118.4,2,   2263.6,2,  -1.7156
  316N20020530,    94,  1,     20,     20,2,20020618, 69.9983, -18.0022, 1684,     49.0,  -1.2336,  34.2517,2,  34.2591,2,    353.6,2,    348.3,2,     4.99,2,     8.70,2,     0.04,2,     0.65,2,    6.051,2,    3.061,2,    0.505,2,  1.92345633,2,   2115.3,2,   2259.2,2,  -1.2348
  316N20020530,    94,  1,     19,     19,2,20020618, 69.9983, -18.0022, 1684,     74.2,  -1.4698,  34.3264,2,  34.3259,2,    335.7,2,    338.9,2,     5.18,2,     9.68,2,     0.04,2,     0.69,2,    6.084,2,    2.992,2,    0.503,2,        -999,9,   -999.0,9,   -999.0,9,  -1.4715
  316N20020530,    94,  1,     18,     18,2,20020618, 69.9983, -18.0022, 1684,    114.4,  -0.6789,  34.4856,2,  34.4869,2,    325.7,2,    338.7,2,     5.38,2,    10.07,2,     0.03,2,     0.72,2,    5.886,2,    2.938,2,    0.488,2,  1.82550932,2,   2128.0,2,   2270.5,2,  -0.6823
  316N20020530,    94,  1,     26,     26,9,20020618, 69.9983, -18.0022, 1684,    114.8,  -0.6802,  34.4877,2,-999.0000,9,    325.2,2,   -999.0,9,  -999.00,9,  -999.00,9,  -999.00,9,  -999.00,9, -999.000,9, -999.000,9, -999.000,9,        -999,9,   -999.0,9,   -999.0,9,  -0.6837
  316N20020530,    94,  1,     27,     27,9,20020618, 69.9983, -18.0022, 1684,    159.2,   0.3190,  34.7160,2,-999.0000,9,    318.7,2,   -999.0,9,  -999.00,9,  -999.00,9,  -999.00,9,  -999.00,9, -999.000,9, -999.000,9, -999.000,9,        -999,9,   -999.0,9,   -999.0,9,   0.3127
  316N20020530,    94,  1,     17,     17,2,20020618, 69.9983, -18.0022, 1684,    159.6,   0.3321,  34.7177,2,  34.7153,2,    318.6,2,    318.2,2,     6.06,2,    11.83,2,     0.05,2,     0.80,2,    5.167,2,    2.564,2,    0.411,2,  1.43478206,2,   2141.2,2,   2281.9,2,   0.3258
  316N20020530,    94,  1,     28,     28,9,20020618, 69.9983, -18.0022, 1684,    223.8,   0.5435,  34.8279,2,  34.8266,2,    324.3,2,   -999.0,9,  -999.00,9,  -999.00,9,  -999.00,9,  -999.00,9, -999.000,9, -999.000,9, -999.000,9,        -999,9,   -999.0,9,   -999.0,9,   0.5341
  316N20020530,    94,  1,     16,     16,2,20020618, 69.9983, -18.0022, 1684,    225.7,   0.6075,  34.8360,2,  34.8289,2,    324.0,2,    318.6,2,     5.67,2,    12.02,2,     0.05,2,     0.81,2,    5.148,2,    2.550,2,    0.413,2,  1.61033348,2,   2146.3,2,   2285.9,2,   0.5979
  316N20020530,    94,  1,     29,     29,9,20020618, 69.9983, -18.0022, 1684,    283.3,   0.5588,  34.8584,2,-999.0000,9,    320.3,2,   -999.0,9,  -999.00,9,  -999.00,9,  -999.00,9,  -999.00,9, -999.000,9, -999.000,9, -999.000,9,        -999,9,   -999.0,9,   -999.0,9,   0.5467
  316N20020530,    94,  1,     15,     15,2,20020618, 69.9983, -18.0022, 1684,    284.8,   0.5664,  34.8598,2,  34.8588,2,    319.8,2,    320.5,2,     5.77,2,    12.12,2,     0.04,2,     0.81,2,    5.045,2,    2.517,2,    0.394,2,  1.54198198,2,   -999.0,9,   -999.0,9,   0.5542
  316N20020530,    94,  1,     30,     30,9,20020618, 69.9983, -18.0022, 1684,    365.5,   0.8638,  34.9103,2,  34.9106,2,    311.2,2,   -999.0,9,  -999.00,9,  -999.00,9,  -999.00,9,  -999.00,9, -999.000,9, -999.000,9, -999.000,9,        -999,9,   -999.0,9,   -999.0,9,   0.8469
  316N20020530,    94,  1,     14,     14,2,20020618, 69.9983, -18.0022, 1684,    366.5,   0.8668,  34.9105,2,  34.9110,2,    311.2,2,    312.2,2,     5.77,2,    12.41,2,     0.01,2,     0.83,2,    4.168,2,    2.149,2,    0.316,2,  1.35650105,2,   2148.0,2,   2290.8,2,   0.8499
  316N20020530,    94,  1,     13,     13,9,20020618, 69.9983, -18.0022, 1684,    416.9,   0.7683,  34.9180,2,-999.0000,9,    311.5,2,   -999.0,9,  -999.00,9,  -999.00,9,  -999.00,9,  -999.00,9, -999.000,9, -999.000,9, -999.000,9,  1.28816875,2,   -999.0,9,   -999.0,9,   0.7492
  316N20020530,    94,  1,     31,     31,9,20020618, 69.9983, -18.0022, 1684,    417.6,   0.7692,  34.9183,2,  34.9183,2,    311.5,2,    312.0,2,     5.86,2,    12.51,2,     0.00,2,     0.84,2, -999.000,9, -999.000,9, -999.000,9,        -999,9,   -999.0,9,   -999.0,9,   0.7500
  316N20020530,    94,  1,     12,     12,2,20020618, 69.9983, -18.0022, 1684,    495.3,   0.4466,  34.9106,2,  34.9124,2,    312.4,2,    311.3,2,     6.06,2,    12.70,2,     0.00,2,     0.85,2,    4.172,2,    2.068,2,    0.321,2,   1.2979457,2,   -999.0,9,   -999.0,9,   0.4249
  316N20020530,    94,  1,     32,     32,9,20020618, 69.9983, -18.0022, 1684,    495.5,   0.4528,  34.9121,2,  34.9128,2,    312.4,2,   -999.0,9,  -999.00,9,  -999.00,9,  -999.00,9,  -999.00,9, -999.000,9, -999.000,9, -999.000,9,        -999,9,   -999.0,9,   -999.0,9,   0.4310
  316N20020530,    94,  1,     11,     11,2,20020618, 69.9983, -18.0022, 1684,    604.5,   0.2511,  34.9166,2,  34.9165,2,    314.8,2,    314.3,2,     6.35,2,    12.80,2,     0.00,2,     0.86,2,    3.973,2,    2.025,2,    0.302,2,   1.3077007,2,   2151.2,2,   2289.8,2,   0.2250
  316N20020530,    94,  1,     33,     33,9,20020618, 69.9983, -18.0022, 1684,    605.1,   0.2491,  34.9168,2,-999.0000,9,    314.8,2,   -999.0,9,  -999.00,9,  -999.00,9,  -999.00,9,  -999.00,9, -999.000,9, -999.000,9, -999.000,9,        -999,9,   -999.0,9,   -999.0,9,   0.2229
  316N20020530,    94,  1,     34,     34,9,20020618, 69.9983, -18.0022, 1684,    696.2,   0.0188,  34.9092,2,  34.9106,2,    314.0,2,   -999.0,9,  -999.00,9,  -999.00,9,  -999.00,9,  -999.00,9, -999.000,9, -999.000,9, -999.000,9,        -999,9,   -999.0,9,   -999.0,9,  -0.0105
  316N20020530,    94,  1,     10,     10,2,20020618, 69.9983, -18.0022, 1684,    696.8,   0.0184,  34.9088,2,  34.9096,2,    314.0,2,    313.8,2,     6.65,2,    13.00,2,     0.00,2,     0.88,2,    3.972,2,    1.993,2,    0.294,2,  1.44433356,2,   -999.0,9,   -999.0,9,  -0.0109
  316N20020530,    94,  1,     35,     35,9,20020618, 69.9983, -18.0022, 1684,    797.4,  -0.1958,  34.9052,2,-999.0000,9,    313.6,2,   -999.0,9,  -999.00,9,  -999.00,9,  -999.00,9,  -999.00,9, -999.000,9, -999.000,9, -999.000,9,        -999,9,   -999.0,9,   -999.0,9,  -0.2287
  316N20020530,    94,  1,      9,      9,2,20020618, 69.9983, -18.0022, 1684,    797.4,  -0.1926,  34.9061,2,  34.9053,2,    313.6,2,    312.7,2,     6.94,2,    13.19,2,     0.00,2,     0.89,2,    3.794,6,    1.857,6,    0.292,6,  1.63951902,2,   -999.0,9,   -999.0,9,  -0.2255
  316N20020530,    94,  1,      8,      8,2,20020618, 69.9983, -18.0022, 1684,    898.2,  -0.3178,  34.9071,2,  34.9083,2,    312.2,2,    312.4,2,     7.33,2,    13.39,2,     0.00,2,     0.90,2,    3.183,2,    1.643,2,    0.222,2,  1.68831046,2,   -999.0,9,   -999.0,9,  -0.3548
  316N20020530,    94,  1,     36,     36,9,20020618, 69.9983, -18.0022, 1684,    898.7,  -0.3185,  34.9070,2,-999.0000,9,    312.2,2,   -999.0,9,  -999.00,9,  -999.00,9,  -999.00,9,  -999.00,9, -999.000,9, -999.000,9, -999.000,9,        -999,9,   -999.0,9,   -999.0,9,  -0.3555
  316N20020530,    94,  1,      7,      7,2,20020618, 69.9983, -18.0022, 1684,    998.8,  -0.4956,  34.9028,2,  34.9028,2,    311.3,2,    312.2,2,     7.82,2,    13.58,2,     0.00,2,     0.92,2,    3.246,2,    1.681,2,    0.224,2,  2.42024686,2,   2157.1,2,   2290.8,2,  -0.5361
  316N20020530,    94,  1,      6,      6,2,20020618, 69.9983, -18.0022, 1684,   1101.1,  -0.5957,  34.9018,2,  34.9014,2,    307.9,2,    308.1,2,     8.50,2,    13.88,2,     0.00,2,     0.93,2,    2.650,2,    1.332,2,    0.168,2,  2.57639451,2,   -999.0,9,   -999.0,9,  -0.6405
  316N20020530,    94,  1,      5,      5,2,20020618, 69.9983, -18.0022, 1684,   1200.2,  -0.6577,  34.9038,2,  34.9030,2,    306.5,2,    305.3,2,     9.19,2,    14.07,2,     0.00,2,     0.95,2,    2.158,2,    1.107,2,    0.139,2,  2.39096933,2,   -999.0,9,   -999.0,9,  -0.7070
  316N20020530,    94,  1,      4,      4,2,20020618, 69.9983, -18.0022, 1684,   1326.4,  -0.6965,  34.9080,2,  34.9077,2,    302.5,2,    302.7,2,     9.87,2,    14.37,2,     0.00,2,     0.96,2,    1.788,6,    0.883,6,    0.104,6,  1.57120292,2,   -999.0,9,   -999.0,9,  -0.7520
  316N20020530,    94,  1,      3,      3,2,20020618, 69.9983, -18.0022, 1684,   1451.6,  -0.7251,  34.9115,2,  34.9112,2,    300.5,2,    301.7,2,    10.46,2,    14.46,2,     0.00,2,     0.97,2,    1.309,2,    0.698,2,    0.075,2,  1.05397188,2,   -999.0,9,   -999.0,9,  -0.7872
  316N20020530,    94,  1,      2,      2,2,20020618, 69.9983, -18.0022, 1684,   1542.5,  -0.8184,  34.9145,2,  34.9140,2,    299.8,2,    299.7,2,    11.04,2,    14.66,2,     0.00,2,     0.98,2,    0.837,2,    0.450,2,    0.044,2, 0.361082207,2,   2157.7,2,   2290.1,2,  -0.8845
  316N20020530,    94,  1,      1,      1,2,20020618, 69.9983, -18.0022, 1684,   1635.5,  -0.8364,  34.9151,2,  34.9141,2,    299.4,2,    299.4,2,    11.34,2,    14.85,2,     0.00,2,     0.99,2,    0.781,2,    0.422,2,    0.037,2, 0.243974446,2,   2159.7,2,   2291.2,2,  -0.9076