BOTTLE,20081218PRINUNIVRMK
EXPOCODE,STNNBR,CASTNO,SAMPNO,BTLNBR,BTLNBR_FLAG_W,DATE,LATITUDE,LONGITUDE,DEPTH,CTDPRS,CTDTMP,CTDSAL,CTDSAL_FLAG_W,SALNTY,SALNTY_FLAG_W,CTDOXY,CTDOXY_FLAG_W,OXYGEN,OXYGEN_FLAG_W,SILCAT,SILCAT_FLAG_W,NITRAT,NITRAT_FLAG_W,NITRIT,NITRIT_FLAG_W,PHSPHT,PHSPHT_FLAG_W,CFC-11,CFC-11_FLAG_W,CFC-12,CFC-12_FLAG_W,CFC113,CFC113_FLAG_W,SF6,SF6_FLAG_W,TCARBN,TCARBN_FLAG_W,ALKALI,ALKALI_FLAG_W,THETA
,,,,,,,,,METERS,DBARS,ITS-90,PSS-78,,PSS-78,,UMOL/KG,,UMOL/KG,,UMOL/KG,,UMOL/KG,,UMOL/KG,,UMOL/KG,,PMOL/KG,,PMOL/KG,,PMOL/KG,,FMOL/KG,,UMOL/KG,,UMOL/KG,,DEGC
  316N20020530,    46,  1,     24,     24,2,20020610, 75.3315,  12.9465, 1706,      2.9,   6.4380,  35.0650,2,  35.0645,2,    308.9,2,   -999.0,9,     2.93,2,     6.74,2,     0.10,2,     0.50,2,    4.482,2,    2.457,2,    0.389,2,  1.71738782,2,   2110.2,2,   2318.8,2,   6.4377
  316N20020530,    46,  1,     23,     23,2,20020610, 75.3315,  12.9465, 1706,     24.2,   6.3003,  35.0652,2,  35.0633,2,    314.5,2,   -999.0,9,     2.93,2,     7.43,2,     0.09,2,     0.53,2, -999.000,9, -999.000,9, -999.000,9,        -999,9,   -999.0,9,   -999.0,9,   6.2982
  316N20020530,    46,  1,     22,     22,2,20020610, 75.3315,  12.9465, 1706,     44.5,   6.0897,  35.1014,2,  35.1021,2,    287.2,2,   -999.0,9,     4.20,2,    11.53,2,     0.15,2,     0.78,2,    4.271,2,    2.354,2,    0.358,2,        -999,9,   2139.4,2,   2315.1,2,   6.0859
  316N20020530,    46,  1,     21,     21,2,20020610, 75.3315,  12.9465, 1706,     78.8,   5.7602,  35.1208,2,  35.1196,2,    256.0,2,   -999.0,9,     4.40,2,    12.02,2,     0.12,2,     0.80,2,    4.332,2,    2.365,2,    0.366,2,  1.64901498,2,   2141.1,2,   2315.6,2,   5.7536
  316N20020530,    46,  1,     20,     20,2,20020610, 75.3315,  12.9465, 1706,    114.3,   5.3453,  35.1181,2,  35.1159,2,    281.8,2,   -999.0,9,     4.40,2,    11.92,2,     0.09,2,     0.80,2, -999.000,9, -999.000,9, -999.000,9,        -999,9,   -999.0,9,   -999.0,9,   5.3361
  316N20020530,    46,  1,     19,     19,4,20020610, 75.3315,  12.9465, 1706,    149.3,   4.9530,  35.1136,2,  35.1114,0,    301.2,2,   -999.0,9,     3.71,3,    10.36,3,     0.10,3,     0.74,3,    4.624,2,    2.490,2,    0.396,2,  1.74660049,2,   2138.7,2,   2318.5,2,   4.9414
  316N20020530,    46,  1,     18,     18,2,20020610, 75.3315,  12.9465, 1706,    204.5,   4.4081,  35.0974,2,  35.0985,2,    291.5,2,   -999.0,9,     4.59,2,    11.82,2,     0.10,2,     0.80,2,    4.775,2,    2.591,2,    0.420,2,        -999,9,   2144.1,2,   2312.7,2,   4.3930
  316N20020530,    46,  1,     17,     17,2,20020610, 75.3315,  12.9465, 1706,    254.5,   4.0562,  35.1042,2,  35.1021,2,    292.9,2,   -999.0,9,     4.79,2,    12.21,2,     0.10,2,     0.81,2,    4.867,2,    2.629,2,    0.416,2,  1.73685497,2,   2150.1,2,   2311.4,2,   4.0380
  316N20020530,    46,  1,     16,     16,2,20020610, 75.3315,  12.9465, 1706,    305.5,   3.6076,  35.0823,2,  35.0826,2,    294.3,2,   -999.0,9,     4.89,2,    12.41,2,     0.04,2,     0.82,2, -999.000,9, -999.000,9, -999.000,9,        -999,9,   -999.0,9,   -999.0,9,   3.5867
  316N20020530,    46,  1,     15,     15,2,20020610, 75.3315,  12.9465, 1706,    355.4,   3.1308,  35.0561,2,  35.0553,2,    292.4,2,   -999.0,9,     4.98,2,    12.61,2,     0.03,2,     0.84,2,    4.941,2,    2.601,2,    0.427,2,  1.68812572,2,   -999.0,9,   2310.0,2,   3.1078
  316N20020530,    46,  1,     14,     14,2,20020610, 75.3315,  12.9465, 1706,    405.5,   2.8470,  35.0526,2,  35.0530,2,    296.6,2,   -999.0,9,     4.89,2,    12.51,2,     0.02,2,     0.83,2, -999.000,9, -999.000,9, -999.000,9,        -999,9,   -999.0,9,   -999.0,9,   2.8215
  316N20020530,    46,  1,     13,     13,2,20020610, 75.3315,  12.9465, 1706,    481.6,   2.3314,  35.0303,2,  35.0285,2,    294.3,2,   -999.0,9,     4.98,2,    12.61,2,     0.01,2,     0.84,2,    5.119,2,    2.689,2,    0.430,2,  1.73695013,2,   2152.5,2,   2311.7,2,   2.3028
  316N20020530,    46,  1,     12,     12,2,20020610, 75.3315,  12.9465, 1706,    556.7,   1.7950,  35.0050,2,  35.0049,2,    294.0,2,   -999.0,9,     5.08,2,    12.70,2,     0.01,2,     0.85,2,    5.050,6,    2.644,6,    0.430,6,  1.67843074,2,   -999.0,9,   -999.0,9,   1.7640
  316N20020530,    46,  1,     11,     11,2,20020610, 75.3315,  12.9465, 1706,    657.5,   0.5469,  34.9241,2,  34.9234,2,    294.1,2,   -999.0,9,     6.16,2,    13.39,2,     0.01,2,     0.91,2,    4.514,2,    2.308,2,    0.360,2,   1.4248009,2,   2156.9,2,   2303.4,2,   0.5166
  316N20020530,    46,  1,     10,     10,2,20020610, 75.3315,  12.9465, 1706,    757.8,  -0.1650,  34.9007,2,  34.9003,2,    286.7,2,   -999.0,9,     7.52,2,    14.27,2,     0.01,2,     0.97,2,    3.409,6,    1.725,6,    0.221,2,  1.29795739,2,   -999.0,9,   -999.0,9,  -0.1962
  316N20020530,    46,  1,      9,      9,2,20020610, 75.3315,  12.9465, 1706,    858.6,  -0.4953,  34.8963,2,  34.8976,2,    287.5,2,   -999.0,9,     8.31,2,    14.46,2,     0.00,2,     0.98,2,    2.868,2,    1.432,2,    0.186,2,  1.79567398,2,   2161.1,2,   2300.5,2,  -0.5290
  316N20020530,    46,  1,      8,      8,2,20020610, 75.3315,  12.9465, 1706,    959.5,  -0.6465,  34.8988,2,  34.8996,2,    289.6,2,   -999.0,9,     8.89,2,    14.56,2,     0.00,2,     0.98,2, -999.000,9, -999.000,9, -999.000,9,  1.84446672,2,   -999.0,9,   -999.0,9,  -0.6839
  316N20020530,    46,  1,      7,      7,2,20020610, 75.3315,  12.9465, 1706,   1060.1,  -0.7019,  34.9044,2,  34.9035,2,    287.3,2,   -999.0,9,     9.77,2,    14.76,2,     0.00,2,     0.99,2,    1.818,2,    0.886,2,    0.098,2, 0.975905485,2,   2158.7,2,   2301.4,2,  -0.7437
  316N20020530,    46,  1,      6,      6,2,20020610, 75.3315,  12.9465, 1706,   1160.4,  -0.7548,  34.9067,2,  34.9175,0,    283.9,2,   -999.0,9,    10.46,2,    14.85,2,     0.00,2,     1.00,2, -999.000,9, -999.000,9, -999.000,9, 0.478188704,2,   -999.0,9,   -999.0,9,  -0.8011
  316N20020530,    46,  1,      5,      5,2,20020610, 75.3315,  12.9465, 1706,   1260.8,  -0.8112,  34.9095,7,  34.9095,2,    282.1,2,   -999.0,9,    10.95,2,    14.95,2,     0.00,2,     1.01,2,    1.064,2,    0.501,2,    0.053,2, 0.263493304,2,   2158.8,2,   2304.9,2,  -0.8621
  316N20020530,    46,  1,      4,      4,2,20020610, 75.3315,  12.9465, 1706,   1361.4,  -0.8562,  34.9097,2,  34.9101,2,    284.5,2,   -999.0,9,    11.24,2,    14.95,2,     0.00,2,     1.00,2, -999.000,9, -999.000,9, -999.000,9,  0.15614411,2,   -999.0,9,   -999.0,9,  -0.9119
  316N20020530,    46,  1,      3,      3,2,20020610, 75.3315,  12.9465, 1706,   1462.0,  -0.8806,  34.9104,2,  34.9105,2,    286.2,2,   -999.0,9,    11.43,2,    15.05,2,     0.00,2,     1.02,2,    0.768,2,    0.370,2,    0.026,2, 0.126867052,2,   2158.7,2,   2304.6,2,  -0.9414
  316N20020530,    46,  1,      2,      2,2,20020610, 75.3315,  12.9465, 1706,   1562.4,  -0.8955,  34.9108,2,  34.9092,2,    278.3,2,   -999.0,9,    11.73,2,    15.05,2,     0.00,2,     1.02,2, -999.000,9, -999.000,9, -999.000,9, 0.117108161,2,   -999.0,9,   -999.0,9,  -0.9617
  316N20020530,    46,  1,      1,      1,2,20020610, 75.3315,  12.9465, 1706,   1655.3,  -0.9098,  34.9102,2,  34.9108,2,    286.7,2,   -999.0,9,    12.12,2,    15.15,2,     0.00,2,     1.02,2,    0.638,2,    0.309,2,    0.024,2,0.0878310164,2,   2158.0,2,   -999.0,9,  -0.9811
  316N20020530,    47,  1,     20,     20,2,20020610, 75.3412,  13.6917, 1219,      2.2,   6.6986,  35.0460,7,  35.0436,2,    337.6,2,   -999.0,9,     2.44,2,     5.28,2,     0.10,2,     0.41,2,    4.456,2,    2.445,2,    0.396,2,  1.65886631,2,   2103.0,2,   2322.2,2,   6.6984
  316N20020530,    47,  1,     19,     19,2,20020610, 75.3412,  13.6917, 1219,     28.6,   6.1980,  35.0822,2,  35.0869,2,    341.3,2,   -999.0,9,     2.54,2,     6.55,2,     0.10,2,     0.50,2, -999.000,9, -999.000,9, -999.000,9,        -999,9,   -999.0,9,   -999.0,9,   6.1955
  316N20020530,    47,  1,     18,     18,2,20020610, 75.3412,  13.6917, 1219,     53.7,   5.7325,  35.0912,2,  35.0908,2,    330.0,2,   -999.0,9,     2.83,2,     6.84,2,     0.09,2,     0.52,2,    4.651,6,    2.553,6,    0.408,6,  1.73686958,2,   2117.3,2,   2320.2,2,   5.7280
  316N20020530,    47,  1,     17,     17,2,20020610, 75.3412,  13.6917, 1219,     79.5,   5.3573,  35.1136,2,  35.1122,2,    318.4,2,   -999.0,9,     2.44,2,     7.23,2,     0.10,2,     0.59,2, -999.000,9, -999.000,9, -999.000,9,        -999,9,   -999.0,9,   -999.0,9,   5.3509
  316N20020530,    47,  1,     16,     16,2,20020610, 75.3412,  13.6917, 1219,    104.0,   5.0124,  35.1096,2,  35.1097,2,    309.9,2,   -999.0,9,     3.32,2,     8.99,2,     0.11,2,     0.67,2,    4.755,2,    2.606,2,    0.400,2,  1.75636026,2,   2128.8,2,   2315.7,2,   5.0043
  316N20020530,    47,  1,     15,     15,2,20020610, 75.3412,  13.6917, 1219,    134.3,   4.8584,  35.1169,2,  35.1154,2,    314.8,2,   -999.0,9,     3.91,2,    10.65,2,     0.13,2,     0.75,2, -999.000,9, -999.000,9, -999.000,9,        -999,9,   -999.0,9,   -999.0,9,   4.8481
  316N20020530,    47,  1,     14,     14,2,20020610, 75.3412,  13.6917, 1219,    174.5,   4.5170,  35.1127,2,  35.1101,2,    311.3,2,   -999.0,9,     4.49,2,    11.24,2,     0.13,2,     0.77,2,    4.726,2,    2.572,2,    0.403,2,  1.69781441,2,   2140.0,2,   2311.8,2,   4.5040
  316N20020530,    47,  1,     13,     13,2,20020610, 75.3412,  13.6917, 1219,    225.0,   4.2372,  35.1074,2,  35.1073,2,    311.1,2,   -999.0,9,     4.79,2,    11.82,2,     0.13,2,     0.79,2, -999.000,9, -999.000,9, -999.000,9,        -999,9,   -999.0,9,   -999.0,9,   4.2209
  316N20020530,    47,  1,     12,     12,2,20020610, 75.3412,  13.6917, 1219,    275.1,   3.9781,  35.1019,2,  35.1010,2,    311.3,2,   -999.0,9,     4.89,2,    12.31,2,     0.07,2,     0.81,2,    4.807,2,    2.617,2,    0.392,2,  1.72709877,2,   2141.9,2,   2310.9,2,   3.9586
  316N20020530,    47,  1,     11,     11,2,20020610, 75.3412,  13.6917, 1219,    335.7,   3.6948,  35.0887,2,  35.0873,2,    311.5,2,   -999.0,9,     4.98,2,    12.41,2,     0.06,2,     0.82,2, -999.000,9, -999.000,9, -999.000,9,        -999,9,   -999.0,9,   -999.0,9,   3.6716
  316N20020530,    47,  1,     10,     10,2,20020610, 75.3412,  13.6917, 1219,    396.0,   3.1365,  35.0523,2,  35.0523,2,    311.3,2,   -999.0,9,     5.28,2,    12.70,2,     0.03,2,     0.84,2,    4.752,2,    2.569,2,    0.386,2,  1.62958165,2,   2150.1,2,   2312.2,2,   3.1107
  316N20020530,    47,  1,      9,      9,2,20020610, 75.3412,  13.6917, 1219,    456.6,   2.6822,  35.0263,2,  35.0252,2,    310.4,2,   -999.0,9,     5.67,2,    13.00,2,     0.02,2,     0.86,2, -999.000,9, -999.000,9, -999.000,9,        -999,9,   -999.0,9,   -999.0,9,   2.6539
  316N20020530,    47,  1,      8,      8,2,20020610, 75.3412,  13.6917, 1219,    532.0,   1.9322,  34.9889,2,  34.9862,2,    309.8,2,   -999.0,9,     6.06,2,    13.29,2,     0.02,2,     0.88,2,    4.557,2,    2.414,2,    0.372,2,  1.43449275,2,   2154.4,2,   2305.4,2,   1.9022
  316N20020530,    47,  1,      7,      7,2,20020610, 75.3412,  13.6917, 1219,    632.5,   0.4419,  34.9268,2,  34.9251,2,    303.3,2,   -999.0,9,     8.01,2,    14.27,2,     0.01,2,     0.95,2,    3.402,2,    1.726,2,    0.242,2,  1.07347877,2,   2158.5,2,   2298.5,2,   0.4134
  316N20020530,    47,  1,      6,      6,2,20020610, 75.3412,  13.6917, 1219,    708.2,  -0.2067,  34.9080,2,  34.9083,2,    301.0,2,   -999.0,9,     8.99,2,    14.56,2,     0.00,2,     0.97,2,    2.659,2,    1.383,2,    0.192,2,  1.05397416,2,   2161.1,2,   2300.0,2,  -0.2353
  316N20020530,    47,  1,      5,      5,2,20020610, 75.3412,  13.6917, 1219,    808.9,  -0.6157,  34.9028,2,  34.9030,2,    300.1,2,   -999.0,9,     9.58,2,    14.66,2,     0.00,2,     0.98,2,    2.142,2,    1.072,2,    0.137,2,  1.42482254,2,   2161.8,2,   2298.5,2,  -0.6463
  316N20020530,    47,  1,      4,      4,2,20020610, 75.3412,  13.6917, 1219,    909.6,  -0.7268,  34.9079,2,  34.9081,2,    298.0,2,   -999.0,9,    10.85,2,    14.95,2,     0.00,2,     1.00,2,    1.417,2,    0.697,2,    0.086,2, 0.507469115,2,   2164.6,2,   2299.8,2,  -0.7612
  316N20020530,    47,  1,      3,      3,2,20020610, 75.3412,  13.6917, 1219,   1010.1,  -0.8376,  34.9094,2,  34.9098,2,    296.9,2,   -999.0,9,    11.43,2,    15.05,2,     0.00,2,     1.01,2,    0.933,6,    0.486,6,    0.056,6,   0.2146982,2,   -999.0,9,   -999.0,9,  -0.8758
  316N20020530,    47,  1,      2,      2,2,20020610, 75.3412,  13.6917, 1219,   1110.6,  -0.9076,  34.9090,2,  34.9086,2,    296.1,2,   -999.0,9,    12.51,2,    15.25,2,     0.00,2,     1.01,2,    0.671,2,    0.355,2,    0.038,2,0.0878311602,2,   -999.0,9,   -999.0,9,  -0.9500
  316N20020530,    47,  1,      1,      1,2,20020610, 75.3412,  13.6917, 1219,   1198.5,  -0.9301,  34.9093,2,  34.9100,2,    295.9,2,   -999.0,9,    12.70,2,    15.25,2,     0.00,2,     1.03,2,    0.569,2,    0.312,2,    0.036,2, 0.126867099,2,   2159.5,2,   2301.3,2,  -0.9766
  316N20020530,    48,  1,     31,     31,2,20020610, 75.3355,  14.3800,  679,      2.7,   6.6418,  35.0633,2,  35.0660,2,    335.5,2,   -999.0,9,     2.74,2,     5.57,2,     0.12,2,     0.43,2,    4.492,2,    2.445,2,    0.388,2,        -999,9,   2109.1,2,   2320.5,2,   6.6416
  316N20020530,    48,  1,     29,     29,2,20020610, 75.3355,  14.3800,  679,     28.7,   6.5014,  35.0691,2,  35.0694,2,    327.5,2,   -999.0,9,     2.74,2,     7.43,2,     0.12,2,     0.54,2,    4.627,2,    2.484,2,    0.416,2,    1.688108,2,   2119.5,2,   2319.1,2,   6.4989
  316N20020530,    48,  1,     27,     27,2,20020610, 75.3355,  14.3800,  679,     54.3,   5.9741,  35.0756,2,  35.0776,2,    311.4,2,   -999.0,9,     3.03,2,     9.09,2,     0.12,2,     0.68,2, -999.000,9, -999.000,9, -999.000,9,        -999,9,   -999.0,9,   -999.0,9,   5.9695
  316N20020530,    48,  1,     25,     25,2,20020610, 75.3355,  14.3800,  679,     79.3,   5.8160,  35.0987,2,  35.0998,2,    312.3,2,   -999.0,9,     3.22,2,     9.28,2,     0.10,2,     0.68,2,    4.505,2,    2.472,2,    0.375,2,   1.6880698,2,   2133.2,2,   2315.4,2,   5.8093
  316N20020530,    48,  1,     23,     23,2,20020610, 75.3355,  14.3800,  679,     99.5,   5.8350,  35.1163,2,  35.1179,2,    306.6,2,   -999.0,9,     3.91,2,    11.14,2,     0.11,2,     0.76,2, -999.000,9, -999.000,9, -999.000,9,        -999,9,   -999.0,9,   -999.0,9,   5.8266
  316N20020530,    48,  1,     21,     21,2,20020610, 75.3355,  14.3800,  679,    124.6,   5.7442,  35.1229,2,  35.1217,2,    302.1,2,   -999.0,9,     4.10,2,    11.63,2,     0.11,2,     0.78,2,    4.353,2,    2.377,2,    0.360,2,  1.62949746,2,   2142.5,2,   2322.8,2,   5.7338
  316N20020530,    48,  1,     19,     19,2,20020610, 75.3355,  14.3800,  679,    155.0,   5.4481,  35.1158,2,  35.1158,2,    309.5,2,   -999.0,9,     3.52,2,    10.26,2,     0.09,2,     0.73,2, -999.000,9, -999.000,9, -999.000,9,        -999,9,   -999.0,9,   -999.0,9,   5.4354
  316N20020530,    48,  1,     17,     17,2,20020610, 75.3355,  14.3800,  679,    204.9,   4.9036,  35.1143,2,  35.1158,2,    316.9,2,   -999.0,9,     3.42,2,    10.06,2,     0.12,2,     0.73,2,    4.665,6,    2.550,6,    0.389,6,  1.73683726,2,   2138.1,2,   2322.4,2,   4.8877
  316N20020530,    48,  1,     15,     15,2,20020610, 75.3355,  14.3800,  679,    275.1,   4.3966,  35.1113,2,  35.1077,2,    308.4,2,   -999.0,9,     4.69,2,    12.21,2,     0.09,2,     0.81,2,    4.792,2,    2.569,2,    0.395,2,  1.71733259,2,   2144.9,2,   2317.4,2,   4.3762
  316N20020530,    48,  1,     13,     13,2,20020610, 75.3355,  14.3800,  679,    346.2,   3.8979,  35.0981,2,  35.0961,2,    311.1,2,   -999.0,9,     4.69,2,    12.41,2,     0.04,2,     0.82,2, -999.000,9, -999.000,9, -999.000,9,        -999,9,   -999.0,9,   -999.0,9,   3.8734
  316N20020530,    48,  1,     11,     11,2,20020610, 75.3355,  14.3800,  679,    386.4,   3.6724,  35.0912,2,  35.0902,2,    314.1,2,   -999.0,9,     4.59,2,    12.21,2,     0.06,2,     0.80,2,    4.902,2,    2.625,2,    0.403,2,  1.68808187,2,   2146.8,2,   2320.2,2,   3.6456
  316N20020530,    48,  1,      9,      9,2,20020610, 75.3355,  14.3800,  679,    456.5,   2.9620,  35.0434,2,  35.0432,2,    312.1,2,   -999.0,9,     4.98,2,    12.61,2,     0.03,2,     0.84,2, -999.000,9, -999.000,9, -999.000,9,        -999,9,   -999.0,9,   -999.0,9,   2.9327
  316N20020530,    48,  1,      7,      7,2,20020610, 75.3355,  14.3800,  679,    516.5,   2.3474,  35.0112,2,  35.0104,2,    311.5,2,   -999.0,9,     5.37,2,    12.61,2,     0.05,2,     0.85,2,    4.828,2,    2.547,2,    0.393,2,  1.65890731,2,   2155.7,2,   2314.4,2,   2.3165
  316N20020530,    48,  1,      5,      5,2,20020610, 75.3355,  14.3800,  679,    566.9,   1.7887,  34.9802,2,  34.9813,2,    306.0,2,   -999.0,9,     6.45,2,    13.39,2,     0.02,2,     0.90,2,    4.239,6,    2.199,6,    0.336,6,  1.39546402,2,   2156.6,2,   2307.7,2,   1.7572
  316N20020530,    48,  1,      3,      3,2,20020610, 75.3355,  14.3800,  679,    617.2,   1.5491,  34.9718,2,  34.9725,2,    304.3,2,   -999.0,9,     6.74,2,    13.58,2,     0.02,2,     0.92,2,    3.975,2,    2.075,2,    0.297,2,  1.33692184,2,   2160.7,2,   2307.5,2,   1.5157
  316N20020530,    48,  1,      1,      1,2,20020610, 75.3355,  14.3800,  679,    662.5,   1.1509,  34.9525,2,  34.9564,2,    303.4,2,   -999.0,9,     7.23,2,    13.88,2,     0.02,2,     0.94,2,    3.790,2,    1.928,2,    0.263,2,  1.21983382,2,   2160.1,2,   2307.1,2,   1.1170