BOTTLE,20081218PRINUNIVRMK
EXPOCODE,STNNBR,CASTNO,SAMPNO,BTLNBR,BTLNBR_FLAG_W,DATE,LATITUDE,LONGITUDE,DEPTH,CTDPRS,CTDTMP,CTDSAL,CTDSAL_FLAG_W,SALNTY,SALNTY_FLAG_W,CTDOXY,CTDOXY_FLAG_W,OXYGEN,OXYGEN_FLAG_W,SILCAT,SILCAT_FLAG_W,NITRAT,NITRAT_FLAG_W,NITRIT,NITRIT_FLAG_W,PHSPHT,PHSPHT_FLAG_W,CFC-11,CFC-11_FLAG_W,CFC-12,CFC-12_FLAG_W,CFC113,CFC113_FLAG_W,SF6,SF6_FLAG_W,TCARBN,TCARBN_FLAG_W,ALKALI,ALKALI_FLAG_W,THETA
,,,,,,,,,METERS,DBARS,ITS-90,PSS-78,,PSS-78,,UMOL/KG,,UMOL/KG,,UMOL/KG,,UMOL/KG,,UMOL/KG,,UMOL/KG,,PMOL/KG,,PMOL/KG,,PMOL/KG,,FMOL/KG,,UMOL/KG,,UMOL/KG,,DEGC
  316N20020530,    77,  1,     32,     32,2,20020615, 70.0050,   7.2635, 3153,      2.4,  10.0467,  35.1776,7,  35.1781,2,    295.5,2,    300.8,2,     0.98,2,     2.83,2,     0.07,2,     0.23,2,    3.955,2,    2.179,2,    0.354,2,  1.62942905,2,   2077.8,2,   2324.6,2,  10.0464
  316N20020530,    77,  1,     31,     31,2,20020615, 70.0050,   7.2635, 3153,     24.4,   9.1627,  35.1569,2,  35.1602,2,    297.6,2,    299.8,2,     1.37,2,     4.10,2,     0.10,2,     0.33,2, -999.000,9, -999.000,9, -999.000,9,        -999,9,   -999.0,9,   -999.0,9,   9.1600
  316N20020530,    77,  1,     30,     30,2,20020615, 70.0050,   7.2635, 3153,     50.1,   6.6553,  35.1098,2,  35.1091,2,    307.7,2,    312.4,2,     0.49,2,     6.25,2,     0.15,2,     0.47,2,    4.369,2,    2.392,2,    0.400,2,  1.75636105,2,   2108.5,2,   2315.8,2,   6.6508
  316N20020530,    77,  1,     29,     29,2,20020615, 70.0050,   7.2635, 3153,     74.5,   6.4781,  35.1090,7,  35.1111,2,    305.4,2,    305.1,2,     0.88,2,     7.04,2,     0.17,2,     0.54,2,    4.577,2,    2.472,2,    0.408,2,        -999,9,   2115.6,2,   2321.4,2,   6.4715
  316N20020530,    77,  1,     28,     28,2,20020615, 70.0050,   7.2635, 3153,    115.0,   6.2519,  35.1294,2,  35.1302,2,    302.0,2,    302.0,2,     2.35,2,     8.89,2,     0.15,2,     0.64,2,    4.570,2,    2.484,2,    0.407,2,  1.83439272,2,   -999.0,9,   -999.0,9,   6.2418
  316N20020530,    77,  1,     27,     27,2,20020615, 70.0050,   7.2635, 3153,    145.6,   5.8874,  35.1355,2,  35.1369,2,    292.7,2,    287.0,2,     4.89,2,    12.51,2,     0.08,2,     0.82,2, -999.000,9, -999.000,9, -999.000,9,        -999,9,   2140.5,2,   2315.8,2,   5.8750
  316N20020530,    77,  1,     26,     26,2,20020615, 70.0050,   7.2635, 3153,    185.0,   5.6161,  35.1311,2,  35.1326,2,    292.5,2,    291.7,2,     4.98,2,    12.41,2,     0.04,2,     0.81,2,    4.532,2,    2.448,2,    0.388,2,  1.78560249,2,   2138.0,2,   2314.1,2,   5.6007
  316N20020530,    77,  1,     25,     25,2,20020615, 70.0050,   7.2635, 3153,    236.0,   5.3172,  35.1199,7,  35.1224,2,    295.0,2,    294.0,2,     4.98,2,    12.41,2,     0.03,2,     0.81,2, -999.000,9, -999.000,9, -999.000,9,        -999,9,   -999.0,9,   -999.0,9,   5.2980
  316N20020530,    77,  1,     24,     24,2,20020615, 70.0050,   7.2635, 3153,    295.5,   5.1109,  35.1318,2,  35.1332,2,    296.9,2,    297.1,2,     4.89,2,    12.31,2,     0.02,2,     0.81,2,    4.663,2,    2.491,2,    0.390,2,  1.77584431,2,   -999.0,9,   -999.0,9,   5.0872
  316N20020530,    77,  1,     23,     23,2,20020615, 70.0050,   7.2635, 3153,    356.5,   4.8362,  35.1234,2,  35.1256,2,    298.0,2,    296.7,2,     4.98,2,    12.41,2,     0.02,2,     0.82,2,    4.737,6,    2.498,6,    0.400,6,   1.7856118,2,   2140.0,2,   2313.0,2,   4.8083
  316N20020530,    77,  1,     22,     22,2,20020615, 70.0050,   7.2635, 3153,    406.9,   4.7082,  35.1265,2,  35.1281,2,    299.2,2,    297.7,2,     4.98,2,    12.41,2,     0.02,2,     0.82,2,    4.829,2,    2.544,2,    0.398,2,  1.76609363,2,   -999.0,9,   -999.0,9,   4.6766
  316N20020530,    77,  1,     21,     21,2,20020615, 70.0050,   7.2635, 3153,    507.3,   4.3163,  35.1133,2,  35.1152,2,    301.0,2,    300.5,2,     4.98,2,    12.51,2,     0.01,2,     0.82,2,    4.770,2,    2.612,2,    0.395,2,   1.7758681,2,   2142.1,2,   2315.3,2,   4.2780
  316N20020530,    77,  1,     20,     20,2,20020615, 70.0050,   7.2635, 3153,    607.8,   3.7390,  35.0787,2,  35.0774,2,    303.1,2,    303.4,2,     5.18,2,    12.61,2,     0.01,2,     0.83,2,    4.969,2,    2.600,2,    0.402,2,  1.79543366,2,   -999.0,9,   -999.0,9,   3.6955
  316N20020530,    77,  1,     19,     19,2,20020615, 70.0050,   7.2635, 3153,    708.7,   1.8961,  34.9449,2,  34.9458,2,    303.2,2,    302.9,2,     5.86,2,    13.58,2,     0.01,2,     0.91,2,    5.153,2,    2.603,2,    0.412,2,   1.5809171,2,   2153.0,2,   2299.0,2,   1.8553
  316N20020530,    77,  1,     18,     18,2,20020615, 70.0050,   7.2635, 3153,    809.3,   0.6063,  34.8983,2,  34.9020,2,    307.9,2,    306.1,2,     6.45,2,    13.88,2,     0.00,2,     0.93,2,    4.733,2,    2.350,2,    0.377,2,  1.35651014,2,   -999.0,9,   -999.0,9,   0.5675
  316N20020530,    77,  1,     17,     17,2,20020615, 70.0050,   7.2635, 3153,    900.0,   0.1118,  34.8901,2,  34.8940,2,    304.0,2,    305.5,2,     7.04,2,    14.07,2,     0.00,2,     0.94,2,    4.308,2,    2.140,2,    0.375,2,  1.21989048,2,   2158.1,2,   2294.7,2,   0.0716
  316N20020530,    77,  1,     16,     16,2,20020615, 70.0050,   7.2635, 3153,   1009.7,  -0.2276,  34.8888,2,  34.8928,2,    304.4,2,    304.0,2,     7.52,2,    14.17,2,     0.00,2,     0.95,2,    3.595,2,    1.770,2,    0.257,2,  1.32724203,2,   -999.0,9,   -999.0,9,  -0.2709
  316N20020530,    77,  1,     15,     15,2,20020615, 70.0050,   7.2635, 3153,   1111.4,  -0.4166,  34.8912,2,  34.8977,2,    304.1,2,    305.7,2,     7.92,2,    14.17,2,     0.00,2,     0.95,2, -999.000,9, -999.000,9, -999.000,9,  1.75663746,2,   -999.0,9,   -999.0,9,  -0.4635
  316N20020530,    77,  1,     14,     14,2,20020615, 70.0050,   7.2635, 3153,   1162.2,  -0.4742,  34.8916,2,  34.8950,2,    304.1,2,    305.0,2,     8.21,2,    14.27,2,     0.00,2,     0.96,2,    3.123,2,    1.505,2,    0.220,2,  1.84447304,2,   -999.0,9,   -999.0,9,  -0.5232
  316N20020530,    77,  1,     13,     13,2,20020615, 70.0050,   7.2635, 3153,   1212.3,  -0.5153,  34.8930,2,  34.8974,2,    304.0,2,    304.1,2,     8.40,2,    14.37,2,     0.00,2,     0.96,2,    2.924,2,    1.426,2,    0.207,2,  1.91278344,2,   2159.0,2,   2299.1,2,  -0.5666
  316N20020530,    77,  1,     12,     12,2,20020615, 70.0050,   7.2635, 3153,   1313.4,  -0.5865,  34.8959,2,  34.9005,2,    303.0,2,    302.0,2,     8.89,2,    14.46,2,     0.00,2,     0.97,2,    2.413,2,    1.176,2,    0.168,2,  1.89326087,2,   -999.0,9,   -999.0,9,  -0.6425
  316N20020530,    77,  1,     11,     11,2,20020615, 70.0050,   7.2635, 3153,   1414.0,  -0.6360,  34.8990,2,  34.9029,2,    300.6,2,    301.6,2,     9.38,2,    14.56,2,     0.00,2,     0.98,2,    2.051,2,    0.999,2,    0.138,2,   1.4345817,2,   -999.0,9,   -999.0,9,  -0.6970
  316N20020530,    77,  1,     10,     10,2,20020615, 70.0050,   7.2635, 3153,   1489.4,  -0.6681,  34.9019,2,  34.9051,2,    302.4,2,    300.6,2,     9.67,2,    14.66,2,     0.00,2,     0.99,2,    1.844,6,    0.887,6,    0.117,6,  1.00518145,2,   -999.0,9,   -999.0,9,  -0.7330
  316N20020530,    77,  1,      9,      9,2,20020615, 70.0050,   7.2635, 3153,   1566.0,  -0.6998,  34.9020,2,  34.9063,2,    299.9,2,    300.4,2,     9.87,2,    14.66,2,     0.00,2,     0.99,2,    1.671,2,    0.826,2,    0.105,2, 0.975903451,2,   -999.0,9,   -999.0,9,  -0.7687
  316N20020530,    77,  1,      8,      8,2,20020615, 70.0050,   7.2635, 3153,   1717.3,  -0.7499,  34.9055,2,  34.9098,2,    298.5,2,    299.3,2,    10.65,2,    14.85,2,     0.00,2,     1.00,2,    1.171,2,    0.573,2,    0.067,2, 0.361083336,2,   2159.1,2,   2301.1,2,  -0.8270
  316N20020530,    77,  1,      7,      7,2,20020615, 70.0050,   7.2635, 3153,   1945.0,  -0.8022,  34.9071,2,  34.9106,2,    298.2,2,    299.0,2,    11.24,2,    14.95,2,     0.00,2,     1.00,2,    0.878,2,    0.434,2,    0.052,2, 0.146385049,2,   -999.0,9,   -999.0,9,  -0.8926
  316N20020530,    77,  1,      6,      6,2,20020615, 70.0050,   7.2635, 3153,   2172.4,  -0.8319,  34.9083,2,  34.9116,2,    298.2,2,    298.3,2,    11.73,2,    15.05,2,     0.00,2,     1.01,2,    0.692,2,    0.363,2,    0.038,2, 0.126866948,2,   2159.4,2,   2303.0,2,  -0.9367
  316N20020530,    77,  1,      5,      5,2,20020615, 70.0050,   7.2635, 3153,   2398.0,  -0.8497,  34.9083,2,  34.9113,2,    298.2,2,    298.3,2,    12.12,2,    15.15,2,     0.00,2,     1.02,2,    0.632,2,    0.321,2,    0.036,2,0.0780719855,2,   -999.0,9,   -999.0,9,  -0.9697
  316N20020530,    77,  1,      4,      4,2,20020615, 70.0050,   7.2635, 3153,   2627.1,  -0.8523,  34.9088,2,  34.9111,2,    298.0,2,    298.0,2,    12.61,2,    15.25,2,     0.00,2,     1.02,2,    0.524,2,    0.274,2,    0.031,2, 0.107348996,2,   -999.0,9,   -999.0,9,  -0.9889
  316N20020530,    77,  1,      3,      3,2,20020615, 70.0050,   7.2635, 3153,   2831.1,  -0.8480,  34.9094,7,  34.9099,2,    297.8,2,    298.7,2,    12.90,2,    15.25,2,     0.00,2,     1.02,2,    0.486,2,    0.242,2,    0.027,2,0.0683130585,2,   2159.1,2,   2293.3,2,  -1.0001
  316N20020530,    77,  1,      2,      2,2,20020615, 70.0050,   7.2635, 3153,   2985.8,  -0.8409,  34.9089,7,  34.9111,2,    297.5,2,    297.4,2,    13.19,2,    15.34,2,     0.00,2,     1.03,2,    0.421,2,    0.229,2,    0.022,2,0.0975899964,2,   2158.9,2,   2304.9,2,  -1.0054
  316N20020530,    77,  1,      1,      1,2,20020615, 70.0050,   7.2635, 3153,   3152.5,  -0.8276,  34.9095,2,  34.9107,2,    297.3,2,    296.8,2,    13.29,2,    15.34,2,     0.00,2,     1.03,2,    0.408,2,    0.220,2,    0.025,2,0.0487950127,2,   2160.4,2,   2309.4,2,  -1.0059
  316N20020530,    78,  1,     32,     32,2,20020615, 69.9948,   5.2672, 3269,      2.8,   8.8853,  35.1280,2,  35.1289,2,    302.2,2,    303.3,2,     0.88,2,     4.30,2,     0.14,2,     0.31,2,    4.194,2,    2.274,2,    0.378,2,  1.73682032,2,   2094.8,2,   2311.2,2,   8.8850
  316N20020530,    78,  1,     31,     31,2,20020615, 69.9948,   5.2672, 3269,     27.7,   8.8404,  35.1261,2,  35.1254,2,    304.9,2,    303.8,2,     0.68,2,     4.40,2,     0.14,2,     0.30,2, -999.000,9, -999.000,9, -999.000,9,        -999,9,   -999.0,9,   -999.0,9,   8.8374
  316N20020530,    78,  1,     30,     30,2,20020615, 69.9948,   5.2672, 3269,     57.9,   6.4089,  35.1357,2,  35.1356,2,    297.8,2,    300.5,2,     2.93,2,     9.48,2,     0.22,2,     0.65,2,    4.464,2,    2.443,2,    0.420,2,  1.74656903,2,   2131.5,2,   2305.6,3,   6.4038
  316N20020530,    78,  1,     29,     29,2,20020615, 69.9948,   5.2672, 3269,     97.8,   6.1482,  35.1392,2,  35.1387,2,    292.2,2,    287.2,2,     4.40,2,    11.92,2,     0.18,2,     0.80,2, -999.000,9, -999.000,9, -999.000,9,        -999,9,   2140.9,2,   2310.8,2,   6.1397
  316N20020530,    78,  1,     28,     28,2,20020615, 69.9948,   5.2672, 3269,    137.6,   5.7689,  35.1356,7,  35.1359,2,    289.3,2,    287.8,2,     4.89,2,    12.51,2,     0.09,2,     0.81,2,    4.504,2,    2.450,2,    0.396,2,  1.71729654,2,   2143.4,2,   2310.8,2,   5.7573
  316N20020530,    78,  1,     27,     27,2,20020615, 69.9948,   5.2672, 3269,    178.1,   5.4272,  35.1229,2,  35.1241,2,    292.0,2,    292.8,2,     4.98,2,    12.51,2,     0.02,2,     0.81,2, -999.000,9, -999.000,9, -999.000,9,        -999,9,   -999.0,9,   -999.0,9,   5.4127
  316N20020530,    78,  1,     26,     26,2,20020615, 69.9948,   5.2672, 3269,    218.1,   5.1991,  35.1233,2,  35.1231,2,    294.2,2,    295.1,2,     4.98,2,    12.41,2,     0.02,2,     0.80,2,    4.591,2,    2.496,2,    0.398,2,  1.74658528,2,   2139.5,2,   2321.0,2,   5.1816
  316N20020530,    78,  1,     25,     25,2,20020615, 69.9948,   5.2672, 3269,    257.7,   5.0999,  35.1313,2,  35.1315,2,    296.0,2,    295.9,2,     4.98,2,    12.41,2,     0.02,2,     0.81,2, -999.000,9, -999.000,9, -999.000,9,        -999,9,   -999.0,9,   -999.0,9,   5.0794
  316N20020530,    78,  1,     24,     24,2,20020615, 69.9948,   5.2672, 3269,    308.4,   4.9193,  35.1325,2,  35.1329,2,    297.7,2,    297.1,2,     4.98,2,    12.41,2,     0.01,2,     0.81,2,    4.720,2,    2.557,2,    0.405,2,  1.75632993,2,   -999.0,9,   -999.0,9,   4.8950
  316N20020530,    78,  1,     23,     23,2,20020615, 69.9948,   5.2672, 3269,    358.6,   4.8351,  35.1388,2,  35.1402,2,    299.4,2,    298.4,2,     4.89,2,    12.31,2,     0.01,2,     0.80,2, -999.000,9, -999.000,9, -999.000,9,        -999,9,   -999.0,9,   -999.0,9,   4.8070
  316N20020530,    78,  1,     22,     22,2,20020615, 69.9948,   5.2672, 3269,    408.1,   4.7762,  35.1397,2,  35.1407,2,    300.3,2,    298.5,2,     4.89,2,    12.31,2,     0.01,2,     0.80,2,    4.639,2,    2.536,2,    0.399,2,  1.78559173,2,   2141.3,2,   2318.4,2,   4.7442
  316N20020530,    78,  1,     21,     21,2,20020615, 69.9948,   5.2672, 3269,    458.2,   4.6216,  35.1284,2,  35.1297,2,    301.2,2,    299.2,2,     4.89,2,    12.31,2,     0.01,2,     0.80,2,    4.738,6,    2.524,6,    0.402,6,  1.79536376,2,   -999.0,9,   -999.0,9,   4.5861
  316N20020530,    78,  1,     20,     20,2,20020615, 69.9948,   5.2672, 3269,    559.1,   4.2079,  35.1030,2,  35.1033,2,    302.4,2,    301.0,2,     4.98,2,    12.51,2,     0.01,2,     0.81,2,    4.877,2,    2.615,2,    0.428,2,  1.78564144,2,   2145.5,2,   -999.0,9,   4.1660
  316N20020530,    78,  1,     19,     19,2,20020615, 69.9948,   5.2672, 3269,    659.8,   3.5232,  35.0494,2,  35.0492,2,    304.8,2,    303.7,2,     5.08,2,    12.70,2,     0.01,2,     0.83,2,    5.098,2,    2.684,2,    0.445,2,  1.77595535,2,   2147.2,2,   2313.6,2,   3.4768
  316N20020530,    78,  1,     18,     18,2,20020615, 69.9948,   5.2672, 3269,    760.8,   2.3667,  34.9800,2,  34.9828,2,    304.8,2,    306.2,2,     5.47,2,    13.19,2,     0.01,2,     0.87,2,    5.211,2,    2.694,2,    0.437,2,  1.65894139,2,   2153.3,2,   2302.7,2,   2.3197
  316N20020530,    78,  1,     17,     17,2,20020615, 69.9948,   5.2672, 3269,    861.9,   1.1380,  34.9239,2,  34.9288,2,    301.4,2,    305.1,2,     6.16,2,    13.68,2,     0.01,2,     0.92,2,    4.906,2,    2.472,2,    0.397,2,   1.4150363,2,   -999.0,9,   -999.0,9,   1.0925
  316N20020530,    78,  1,     16,     16,2,20020615, 69.9948,   5.2672, 3269,    963.1,   0.2782,  34.8930,2,  34.8942,2,    301.6,2,    305.9,2,     6.65,2,    13.88,2,     0.00,2,     0.93,2,    4.423,2,    2.220,2,    0.353,2,  1.27844504,2,   -999.0,9,   -999.0,9,   0.2333
  316N20020530,    78,  1,     15,     15,2,20020615, 69.9948,   5.2672, 3269,   1064.1,  -0.1249,  34.8889,2,  34.8901,2,    302.6,2,    303.9,2,     7.13,2,    14.17,2,     0.00,2,     0.95,2,    3.996,2,    1.978,2,    0.315,2,  1.29796724,2,   2163.7,2,   2298.0,2,  -0.1719
  316N20020530,    78,  1,     14,     14,2,20020615, 69.9948,   5.2672, 3269,   1165.1,  -0.3150,  34.8913,2,  34.8928,2,    303.9,2,    304.8,2,     7.62,2,    14.17,2,     0.00,2,     0.95,2,    3.455,2,    1.709,2,    0.268,2,  1.49314729,2,   -999.0,9,   -999.0,9,  -0.3657
  316N20020530,    78,  1,     13,     13,2,20020615, 69.9948,   5.2672, 3269,   1265.8,  -0.4643,  34.8929,2,  34.8943,2,    305.7,2,    304.8,2,     7.92,2,    14.17,2,     0.00,2,     0.96,2,    3.161,2,    1.580,2,    0.250,2,  1.95182434,2,   -999.0,9,   -999.0,9,  -0.5190
  316N20020530,    78,  1,     12,     12,2,20020615, 69.9948,   5.2672, 3269,   1366.9,  -0.5512,  34.8960,2,  34.8977,2,    302.8,2,    303.3,2,     8.40,2,    14.37,2,     0.00,2,     0.97,2,    2.669,2,    1.329,2,    0.197,2,  2.08844676,2,   -999.0,9,   -999.0,9,  -0.6105
  316N20020530,    78,  1,     11,     11,2,20020615, 69.9948,   5.2672, 3269,   1467.7,  -0.5977,  34.8985,2,  34.8996,2,    301.3,2,    301.3,2,     8.99,2,    14.46,2,     0.00,2,     0.98,2,    2.371,2,    1.185,2,    0.178,2,  1.62976689,2,   2161.9,2,   2300.3,2,  -0.6622
  316N20020530,    78,  1,     10,     10,2,20020615, 69.9948,   5.2672, 3269,   1619.1,  -0.6635,  34.9029,2,  34.9043,2,    299.1,2,    299.5,2,     9.67,2,    14.66,2,     0.00,2,     0.99,2,    1.833,2,    0.854,2,    0.122,2, 0.946627757,2,   -999.0,9,   -999.0,9,  -0.7359
  316N20020530,    78,  1,      9,      9,2,20020615, 69.9948,   5.2672, 3269,   1770.8,  -0.7163,  34.9061,2,  34.9072,2,    298.1,2,    298.2,2,    10.26,2,    14.76,2,     0.00,2,     1.00,2,    1.391,2,    0.652,2,    0.094,2, 0.439156259,2,   -999.0,9,   -999.0,9,  -0.7971
  316N20020530,    78,  1,      8,      8,2,20020615, 69.9948,   5.2672, 3269,   1923.6,  -0.7632,  34.9084,2,  34.9088,2,    297.8,2,    297.7,2,    10.75,2,    14.85,2,     0.00,2,     1.01,2,    0.990,2,    0.502,2,    0.051,2, 0.243975409,2,   2160.4,2,   2305.7,2,  -0.8529
  316N20020530,    78,  1,      7,      7,2,20020615, 69.9948,   5.2672, 3269,   2125.7,  -0.8021,  34.9087,2,  34.9100,2,    297.9,2,    298.8,2,    11.24,2,    15.05,2,     0.00,2,     1.01,2,    0.772,2,    0.406,2,    0.041,2, 0.175662137,2,   -999.0,9,   -999.0,9,  -0.9043
  316N20020530,    78,  1,      6,      6,2,20020615, 69.9948,   5.2672, 3269,   2328.6,  -0.8282,  34.9095,2,  34.9101,2,    298.2,2,    298.7,2,    11.53,2,    15.05,2,     0.00,2,     1.01,2,    0.653,6,    0.334,6,    0.030,6, 0.117108083,2,   -999.0,9,   -999.0,9,  -0.9437
  316N20020530,    78,  1,      5,      5,2,20020615, 69.9948,   5.2672, 3269,   2531.4,  -0.8408,  34.9094,2,  34.9099,2,    298.4,2,    299.1,2,    11.82,2,    15.15,2,     0.00,2,     1.01,2,    0.551,2,    0.306,2,    0.036,2,   0.1171081,2,   2161.1,2,   2304.8,2,  -0.9705
  316N20020530,    78,  1,      4,      4,2,20020615, 69.9948,   5.2672, 3269,   2734.2,  -0.8436,  34.9097,2,  34.9101,2,    298.2,2,    298.0,2,    12.41,2,    15.25,2,     0.00,2,     1.02,2,    0.506,2,    0.276,2,    0.030,2,0.0780720552,2,   2160.9,2,   2301.7,2,  -0.9884
  316N20020530,    78,  1,      3,      3,2,20020615, 69.9948,   5.2672, 3269,   2937.4,  -0.8379,  34.9094,2,  34.9097,2,    297.9,2,    297.8,2,    12.61,2,    15.34,2,     0.00,2,     1.02,2,    0.430,2,    0.248,2,    0.018,2,0.0585540589,2,   -999.0,9,   -999.0,9,  -0.9986
  316N20020530,    78,  1,      2,      2,2,20020615, 69.9948,   5.2672, 3269,   3090.1,  -0.8316,  34.9104,2,  34.9099,2,    297.6,2,    297.4,2,    12.90,2,    15.34,2,     0.00,2,     1.03,2,    0.404,2,    0.237,2,    0.023,2,0.0780720669,2,   2163.6,2,   2302.4,2,  -1.0047
  316N20020530,    78,  1,      1,      1,2,20020615, 69.9948,   5.2672, 3269,   3268.0,  -0.8192,  34.9100,2,  34.9096,2,    297.4,2,    297.3,2,    13.29,2,    15.34,2,     0.00,2,     1.03,2,    0.387,2,    0.221,2,    0.021,2,0.0585540632,2,   2164.1,2,   2304.7,2,  -1.0074