BOTTLE,20081218PRINUNIVRMK
EXPOCODE,STNNBR,CASTNO,SAMPNO,BTLNBR,BTLNBR_FLAG_W,DATE,LATITUDE,LONGITUDE,DEPTH,CTDPRS,CTDTMP,CTDSAL,CTDSAL_FLAG_W,SALNTY,SALNTY_FLAG_W,CTDOXY,CTDOXY_FLAG_W,OXYGEN,OXYGEN_FLAG_W,SILCAT,SILCAT_FLAG_W,NITRAT,NITRAT_FLAG_W,NITRIT,NITRIT_FLAG_W,PHSPHT,PHSPHT_FLAG_W,CFC-11,CFC-11_FLAG_W,CFC-12,CFC-12_FLAG_W,CFC113,CFC113_FLAG_W,SF6,SF6_FLAG_W,TCARBN,TCARBN_FLAG_W,ALKALI,ALKALI_FLAG_W,THETA
,,,,,,,,,METERS,DBARS,ITS-90,PSS-78,,PSS-78,,UMOL/KG,,UMOL/KG,,UMOL/KG,,UMOL/KG,,UMOL/KG,,UMOL/KG,,PMOL/KG,,PMOL/KG,,PMOL/KG,,FMOL/KG,,UMOL/KG,,UMOL/KG,,DEGC
  316N20020530,    18,  1,     29,     29,2,20020604, 72.5175,  -7.1170, 2483,      3.1,   0.9357,  34.6341,2,-999.0000,9,    371.7,2,    373.2,2,     1.95,2,     6.65,2,     0.05,2,     0.50,2,    6.321,2,    3.256,2,    0.578,2,  2.08839479,2,   2115.1,2,   2283.9,2,   0.9356
  316N20020530,    18,  1,     28,     28,2,20020604, 72.5175,  -7.1170, 2483,     19.8,   0.8431,  34.6385,2,  34.6372,2,    373.3,2,    371.7,2,     2.35,2,     7.04,2,     0.05,2,     0.53,2, -999.000,9, -999.000,9, -999.000,9,        -999,9,   -999.0,9,   -999.0,9,   0.8423
  316N20020530,    18,  1,     27,     27,2,20020604, 72.5175,  -7.1170, 2483,     34.7,   0.5132,  34.6546,2,  34.6533,2,    375.0,2,    364.7,2,     3.62,2,     8.41,2,     0.04,2,     0.62,2, -999.000,9, -999.000,9, -999.000,9,        -999,9,   -999.0,9,   -999.0,9,   0.5118
  316N20020530,    18,  1,     26,     26,2,20020604, 72.5175,  -7.1170, 2483,     54.6,   0.1845,  34.6799,2,  34.6830,2,    360.9,2,    359.5,2,     4.50,2,    10.17,2,     0.03,2,     0.70,2,    6.323,2,    3.284,2,    0.583,2,  2.06925926,2,   2139.6,2,   2283.7,2,   0.1825
  316N20020530,    18,  1,     25,     25,2,20020604, 72.5175,  -7.1170, 2483,     79.5,   0.0637,  34.7017,2,  34.7042,2,    355.2,2,    346.2,2,     5.18,2,    10.75,2,     0.03,2,     0.74,2,    5.968,2,    3.093,2,    0.542,2,        -999,9,   -999.0,9,   -999.0,9,   0.0608
  316N20020530,    18,  1,     24,     24,2,20020604, 72.5175,  -7.1170, 2483,    104.9,   0.1000,  34.7616,2,  34.7630,2,    346.9,2,    340.2,2,     5.08,2,    11.14,2,     0.03,2,     0.76,2,    5.715,2,    2.987,2,    0.506,2,  1.91297482,2,   2145.5,2,   2287.8,2,   0.0961
  316N20020530,    18,  1,     23,     23,2,20020604, 72.5175,  -7.1170, 2483,    129.9,   0.2951,  34.7989,2,  34.8005,2,    344.0,2,    329.9,2,     5.38,2,    11.83,2,     0.03,2,     0.79,2, -999.000,9, -999.000,9, -999.000,9,        -999,9,   -999.0,9,   -999.0,9,   0.2900
  316N20020530,    18,  1,     22,     22,2,20020604, 72.5175,  -7.1170, 2483,    155.2,   0.6590,  34.8412,2,  34.8424,2,    325.2,2,    321.8,2,     5.47,2,    12.02,2,     0.04,2,     0.81,2,    5.103,2,    2.639,2,    0.433,2,   1.5810388,2,   -999.0,9,   -999.0,9,   0.6524
  316N20020530,    18,  1,     21,     21,2,20020604, 72.5175,  -7.1170, 2483,    185.6,   0.3657,  34.8359,2,  34.8375,2,    324.8,2,    326.0,2,     5.47,2,    12.12,2,     0.03,2,     0.81,2, -999.000,9, -999.000,9, -999.000,9,        -999,9,   -999.0,9,   -999.0,9,   0.3582
  316N20020530,    18,  1,     20,     20,2,20020604, 72.5175,  -7.1170, 2483,    215.5,   0.4739,  34.8576,2,  34.8587,2,    320.2,2,    320.8,2,     5.77,2,    12.31,2,     0.03,2,     0.82,2,    4.710,2,    2.438,2,    0.388,2,  1.39559139,2,   2145.5,2,   2291.5,2,   0.4650
  316N20020530,    18,  1,     19,     19,2,20020604, 72.5175,  -7.1170, 2483,    266.3,   0.4371,  34.8776,2,  34.8759,2,    319.1,2,    315.1,2,     5.96,2,    12.51,2,     0.02,2,     0.84,2,    4.415,6,    2.255,6,    0.352,6,        -999,9,   -999.0,9,   -999.0,9,   0.4260
  316N20020530,    18,  1,     18,     18,2,20020604, 72.5175,  -7.1170, 2483,    311.2,   0.1668,  34.8713,2,  34.8711,2,    321.3,2,    318.9,2,     5.86,2,    12.41,2,     0.01,2,     0.83,2,    4.564,2,    2.370,2,    0.377,2,  1.32726347,2,   2154.9,2,   2294.4,2,   0.1544
  316N20020530,    18,  1,     17,     17,2,20020604, 72.5175,  -7.1170, 2483,    356.0,   0.3289,  34.8966,2,  34.8979,2,    315.1,2,    315.7,2,     6.06,2,    12.51,2,     0.01,2,     0.84,2,    4.100,2,    2.131,2,    0.324,2,  1.19060966,2,   -999.0,9,   -999.0,9,   0.3141
  316N20020530,    18,  1,     16,     16,2,20020604, 72.5175,  -7.1170, 2483,    400.9,   0.2487,  34.9021,2,  34.8965,2,    316.6,2,    314.9,2,     6.06,2,    12.61,2,     0.01,2,     0.85,2, -999.000,9, -999.000,9, -999.000,9,     1.20037,2,   -999.0,9,   -999.0,9,   0.2321
  316N20020530,    18,  1,     15,     15,2,20020604, 72.5175,  -7.1170, 2483,    445.5,   0.1798,  34.9091,2,  34.9091,2,    317.6,2,    316.1,2,     6.06,2,    12.61,2,     0.00,2,     0.85,2,    4.224,2,    2.176,2,    0.342,2,  1.25891283,2,   2160.0,2,   2298.7,2,   0.1614
  316N20020530,    18,  1,     14,     14,2,20020604, 72.5175,  -7.1170, 2483,    515.0,   0.0525,  34.9102,2,  34.9105,2,    313.6,2,    318.7,2,     6.25,2,    12.70,2,     0.01,2,     0.86,2, -999.000,9, -999.000,9, -999.000,9,  1.37601956,2,   -999.0,9,   -999.0,9,   0.0315
  316N20020530,    18,  1,     13,     13,2,20020604, 72.5175,  -7.1170, 2483,    544.4,   0.0188,  34.9111,2,  34.9109,2,    314.0,2,    316.7,2,     6.35,2,    12.80,2,     0.00,2,     0.87,2,    4.108,2,    2.125,2,    0.342,2,  1.31746515,2,   2157.3,2,   2294.0,2,  -0.0034
  316N20020530,    18,  1,     12,     12,2,20020604, 72.5175,  -7.1170, 2483,    732.9,  -0.3383,  34.9050,2,  34.9063,2,    314.4,2,    315.2,2,     6.65,2,    13.29,2,     0.00,2,     0.90,2, -999.000,9, -999.000,9, -999.000,9,  1.75662621,2,   -999.0,9,   -999.0,9,  -0.3672
  316N20020530,    18,  1,     11,     11,2,20020604, 72.5175,  -7.1170, 2483,    859.1,  -0.4692,  34.9027,2,  34.9036,2,    317.9,2,    319.9,2,     7.04,2,    13.29,2,     0.00,2,     0.90,2,    4.102,2,    2.115,2,    0.347,2,  2.40072731,2,   -999.0,9,   -999.0,9,  -0.5032
  316N20020530,    18,  1,     10,     10,2,20020604, 72.5175,  -7.1170, 2483,   1010.4,  -0.7188,  34.8910,2,  34.8912,2,    322.1,2,    322.0,2,     7.23,2,    13.39,2,     0.00,2,     0.91,2,    4.208,2,    2.160,2,    0.350,2,   3.5328102,2,   -999.0,9,   -999.0,9,  -0.7580
  316N20020530,    18,  1,      9,      9,2,20020604, 72.5175,  -7.1170, 2483,   1161.3,  -0.7621,  34.8909,2,  34.8910,2,    324.1,2,    324.1,2,     7.23,2,    13.39,2,     0.00,2,     0.91,2,    4.352,2,    2.243,2,    0.349,2,  3.43521927,2,   2160.6,2,   2293.9,2,  -0.8083
  316N20020530,    18,  1,      8,      8,2,20020604, 72.5175,  -7.1170, 2483,   1312.3,  -0.7960,  34.8895,2,  34.8894,2,    323.9,2,    324.0,2,     7.43,2,    13.49,2,     0.00,2,     0.91,2,    4.326,2,    2.177,2,    0.350,2,  3.47425999,2,   2160.9,2,   2292.5,2,  -0.8497
  316N20020530,    18,  1,      7,      7,2,20020604, 72.5175,  -7.1170, 2483,   1413.4,  -0.7662,  34.8962,2,  34.8971,2,    314.1,2,    313.5,2,     8.50,2,    13.97,2,     0.00,2,     0.95,2, -999.000,9, -999.000,9, -999.000,9,  2.69351197,2,   -999.0,9,   -999.0,9,  -0.8257
  316N20020530,    18,  1,      6,      6,2,20020604, 72.5175,  -7.1170, 2483,   1515.2,  -0.6872,  34.9091,2,  34.9099,2,    302.1,2,    303.8,2,     9.67,2,    14.37,2,     0.00,2,     0.98,2,    1.810,2,    0.882,2,    0.118,2,  1.14180398,2,   -999.0,9,   -999.0,9,  -0.7533
  316N20020530,    18,  1,      5,      5,2,20020604, 72.5175,  -7.1170, 2483,   1666.8,  -0.7151,  34.9138,2,  34.9140,2,    300.0,2,    300.8,2,    10.46,2,    14.56,2,     0.00,2,     0.99,2,    1.256,2,    0.604,2,    0.074,2,  0.47818995,2,   2162.6,2,   2296.8,2,  -0.7897
  316N20020530,    18,  1,      4,      4,2,20020604, 72.5175,  -7.1170, 2483,   1818.1,  -0.7772,  34.9150,2,  34.9144,2,    299.2,2,    299.5,2,    11.04,2,    14.76,2,     0.00,2,     1.01,2,    0.930,2,    0.465,2,    0.047,2,  0.22445644,2,   -999.0,9,   -999.0,9,  -0.8601
  316N20020530,    18,  1,      3,      3,3,20020604, 72.5175,  -7.1170, 2483,   2020.9,  -0.8395,  34.9139,2,  34.9132,2,    300.2,2,    299.2,2,    11.53,2,    14.95,2,     0.00,2,     1.01,2, -999.000,9, -999.000,9, -999.000,9, 0.136625781,2,   2163.2,2,   2296.5,2,  -0.9342
  316N20020530,    18,  1,      2,      2,2,20020604, 72.5175,  -7.1170, 2483,   2223.9,  -0.8667,  34.9157,2,  34.9140,2,    300.2,2,    300.1,2,    11.73,2,    14.95,2,     0.00,2,     1.01,2,    0.624,2,    0.329,2,    0.031,2, 0.107348764,2,   2163.5,2,   2299.1,2,  -0.9744
  316N20020530,    18,  1,      1,      1,2,20020604, 72.5175,  -7.1170, 2483,   2426.5,  -0.9200,  34.9104,2,  34.9103,2,    301.5,2,    301.2,2,    11.92,2,    14.95,2,     0.00,2,     1.02,2,    0.659,2,    0.339,2,    0.032,2, 0.126867071,2,   2163.5,2,   2300.1,2,  -1.0407
  316N20020530,    19,  1,     31,     31,2,20020604, 72.9485,  -6.2473, 2630,      2.6,   1.2015,  34.6811,2,  34.6808,2,    361.1,2,    362.4,2,     3.91,2,     7.62,2,     0.04,2,     0.58,2,    6.271,2,    3.282,2,    0.557,2,    2.088784,2,   -999.0,9,   -999.0,9,   1.2014
  316N20020530,    19,  1,     32,     32,2,20020604, 72.9485,  -6.2473, 2630,      2.6,   1.2030,  34.6807,2,  34.6814,2,    361.2,2,   -999.0,9,     3.91,2,     7.72,2,     0.04,2,     0.58,2, -999.000,9, -999.000,9, -999.000,9,        -999,9,   -999.0,9,   -999.0,9,   1.2029
  316N20020530,    19,  1,     30,     30,9,20020604, 72.9485,  -6.2473, 2630,     28.6,   0.4171,  34.7281,2,-999.0000,9,    360.7,2,   -999.0,9,  -999.00,9,  -999.00,9,  -999.00,9,  -999.00,9, -999.000,9, -999.000,9, -999.000,9,        -999,9,   -999.0,9,   -999.0,9,   0.4160
  316N20020530,    19,  1,     29,     29,2,20020604, 72.9485,  -6.2473, 2630,     53.9,   0.0428,  34.7868,2,  34.7860,2,    348.1,2,    347.5,2,     5.28,2,    10.75,2,     0.03,2,     0.76,2,    6.002,2,    3.197,2,    0.531,2,        -999,9,   2141.2,2,   -999.0,9,   0.0408
  316N20020530,    19,  1,     28,     28,2,20020604, 72.9485,  -6.2473, 2630,     79.4,   0.0612,  34.8303,2,  34.8304,2,    334.2,2,    334.1,2,     6.25,2,    11.73,2,     0.02,2,     0.82,2,    5.194,2,    2.747,2,    0.431,2,  1.76648505,2,   2146.1,2,   -999.0,9,   0.0583
  316N20020530,    19,  1,     27,     27,2,20020604, 72.9485,  -6.2473, 2630,    103.9,  -0.0487,  34.8400,2,  34.8412,2,    329.1,2,    327.3,2,     6.06,2,    12.02,2,     0.05,2,     0.84,2, -999.000,9, -999.000,9, -999.000,9,        -999,9,   -999.0,9,   -999.0,9,  -0.0524
  316N20020530,    19,  1,     26,     26,2,20020604, 72.9485,  -6.2473, 2630,    130.1,   0.1126,  34.8681,2,  34.8686,2,    323.9,2,    325.3,2,     5.86,2,    12.12,2,     0.03,2,     0.84,2,    4.725,2,    2.486,2,    0.381,2,  1.52245211,2,   2147.9,2,   2318.2,3,   0.1077
  316N20020530,    19,  1,     25,     25,2,20020604, 72.9485,  -6.2473, 2630,    153.7,   0.0160,  34.8717,2,  34.8725,2,    326.3,2,    326.3,2,     6.35,2,    12.12,2,     0.03,2,     0.85,2, -999.000,9, -999.000,9, -999.000,9,        -999,9,   -999.0,9,   -999.0,9,   0.0103
  316N20020530,    19,  1,     24,     24,2,20020604, 72.9485,  -6.2473, 2630,    180.7,   0.0201,  34.8822,2,  34.8827,2,    323.3,2,    322.1,2,     6.35,2,    12.31,2,     0.02,2,     0.85,2,    4.679,2,    2.407,2,    0.368,2,  1.43460328,2,   2149.6,2,   2294.0,2,   0.0133
  316N20020530,    19,  1,     23,     23,2,20020604, 72.9485,  -6.2473, 2630,    205.6,   0.0721,  34.8910,2,  34.8892,2,    323.5,2,    317.4,2,     6.35,2,    12.41,2,     0.01,2,     0.86,2, -999.000,9, -999.000,9, -999.000,9,        -999,9,   -999.0,9,   -999.0,9,   0.0643
  316N20020530,    19,  1,     22,     22,2,20020604, 72.9485,  -6.2473, 2630,    245.6,  -0.0154,  34.8886,2,  34.8892,2,    326.9,2,    323.1,2,     6.45,2,    12.31,2,     0.02,2,     0.85,2,    4.729,2,    2.459,2,    0.379,2,        -999,9,   2150.5,2,   2297.7,2,  -0.0247
  316N20020530,    19,  1,     21,     21,2,20020604, 72.9485,  -6.2473, 2630,    296.0,   0.1025,  34.9097,2,  34.9093,2,    319.4,2,    315.7,2,     6.45,2,    12.61,2,     0.00,2,     0.87,2,    4.234,2,    2.196,2,    0.325,2,  1.33698474,2,   2155.2,2,   2295.9,2,   0.0909
  316N20020530,    19,  1,     20,     20,2,20020604, 72.9485,  -6.2473, 2630,    346.5,  -0.0401,  34.9084,2,  34.9083,2,    320.4,2,    316.9,2,     6.94,2,    12.80,2,     0.00,2,     0.88,2,    4.295,6,    2.204,6,    0.327,6,        -999,9,   -999.0,9,   -999.0,9,  -0.0534
  316N20020530,    19,  1,     19,     19,2,20020604, 72.9485,  -6.2473, 2630,    396.6,  -0.1403,  34.9081,2,  34.9083,2,    316.4,2,    317.8,2,     7.04,2,    12.80,2,     0.00,2,     0.89,2,    4.292,2,    2.194,2,    0.326,2,  1.60047928,2,   2154.9,2,   2297.0,2,  -0.1554
  316N20020530,    19,  1,     18,     18,2,20020604, 72.9485,  -6.2473, 2630,    456.7,  -0.2493,  34.9046,2,  34.9048,2,    318.6,2,    319.1,2,     7.13,2,    12.80,2,     0.00,2,     0.89,2,    4.256,2,    2.210,2,    0.315,2,        -999,9,   -999.0,9,   -999.0,9,  -0.2665
  316N20020530,    19,  1,     17,     17,2,20020604, 72.9485,  -6.2473, 2630,    527.3,  -0.3544,  34.9029,2,  34.9034,2,    318.0,2,    318.3,2,     7.13,2,    13.00,2,     0.00,2,     0.90,2,    4.212,2,    2.148,2,    0.317,2,  1.99084734,2,   2156.8,2,   2293.5,2,  -0.3742
  316N20020530,    19,  1,     16,     16,2,20020604, 72.9485,  -6.2473, 2630,    587.8,  -0.4798,  34.8984,2,  34.8985,2,    317.6,2,    318.2,2,     7.43,2,    13.19,2,     0.00,2,     0.91,2, -999.000,9, -999.000,9, -999.000,9,  2.48856825,2,   -999.0,9,   -999.0,9,  -0.5015
  316N20020530,    19,  1,     15,     15,2,20020604, 72.9485,  -6.2473, 2630,    668.3,  -0.5826,  34.8953,2,  34.8963,2,    315.1,2,    317.6,2,     7.52,2,    13.29,2,     0.00,2,     0.92,2,    4.047,2,    2.110,2,    0.321,2,   2.9960459,2,   -999.0,9,   -999.0,9,  -0.6072
  316N20020530,    19,  1,     14,     14,2,20020604, 72.9485,  -6.2473, 2630,    788.4,  -0.6746,  34.8933,2,  34.8932,2,    318.6,2,    321.5,2,     7.52,2,    13.29,2,     0.00,2,     0.91,2, -999.000,9, -999.000,9, -999.000,9,  3.32786322,2,   -999.0,9,   -999.0,9,  -0.7039
  316N20020530,    19,  1,     13,     13,2,20020604, 72.9485,  -6.2473, 2630,    887.2,  -0.7692,  34.8883,2,  34.8904,2,    318.1,2,    322.8,2,     7.52,2,    13.29,2,     0.00,2,     0.91,2,    4.398,2,    2.162,2,    0.340,2,  3.66944041,2,   -999.0,9,   -999.0,9,  -0.8023
  316N20020530,    19,  1,     12,     12,2,20020604, 72.9485,  -6.2473, 2630,    986.8,  -0.7939,  34.8885,2,  34.8892,2,    319.8,2,    321.1,2,     7.82,2,    13.39,2,     0.00,2,     0.92,2, -999.000,9, -999.000,9, -999.000,9,   3.7377578,2,   -999.0,9,   -999.0,9,  -0.8314
  316N20020530,    19,  1,     11,     11,2,20020604, 72.9485,  -6.2473, 2630,   1077.5,  -0.7968,  34.8906,2,  34.8920,2,    319.5,2,    317.6,2,     8.21,2,    13.49,2,     0.00,2,     0.93,2,    3.717,2,    1.855,2,    0.273,2,   3.4059393,2,   2160.4,2,   2293.9,2,  -0.8386
  316N20020530,    19,  1,     10,     10,2,20020604, 72.9485,  -6.2473, 2630,   1182.1,  -0.7636,  34.8969,2,  34.8977,2,    313.7,2,    311.4,2,     9.28,2,    13.78,2,     0.00,2,     0.95,2,    2.926,2,    1.452,2,    0.209,2,  2.52760612,2,   -999.0,9,   -999.0,9,  -0.8109
  316N20020530,    19,  1,      9,      9,2,20020604, 72.9485,  -6.2473, 2630,   1282.2,  -0.7421,  34.9034,2,  34.9046,2,    305.0,2,    305.5,2,     9.87,2,    14.07,2,     0.00,2,     0.97,2,    2.208,6,    1.079,6,    0.151,6,  1.52241131,2,   2160.6,2,   2297.3,2,  -0.7948
  316N20020530,    19,  1,      8,      8,2,20020604, 72.9485,  -6.2473, 2630,   1370.9,  -0.7403,  34.9075,2,  34.9083,2,    301.8,2,    302.1,2,    10.36,2,    14.27,2,     0.00,2,     0.98,2, -999.000,9, -999.000,9, -999.000,9, 0.907588858,2,   -999.0,9,   -999.0,9,  -0.7978
  316N20020530,    19,  1,      7,      7,2,20020604, 72.9485,  -6.2473, 2630,   1451.0,  -0.7570,  34.9095,2,  34.9105,2,    299.6,2,    300.2,2,    10.95,2,    14.46,2,     0.00,2,     0.99,2,    1.376,2,    0.657,2,    0.078,2, 0.507468208,2,   2162.2,2,   2297.3,2,  -0.8187
  316N20020530,    19,  1,      6,      6,2,20020604, 72.9485,  -6.2473, 2630,   1603.7,  -0.7971,  34.9115,2,  34.9120,2,    298.8,2,    299.6,2,    11.43,2,    14.66,2,     0.00,2,     1.02,2,    1.024,2,    0.486,2,    0.050,2, 0.253733821,2,   -999.0,9,   -999.0,9,  -0.8669
  316N20020530,    19,  1,      5,      5,2,20020604, 72.9485,  -6.2473, 2630,   1807.9,  -0.8411,  34.9119,2,  34.9118,2,    298.7,2,    299.9,2,    11.63,2,    14.66,2,     0.00,2,     1.02,2,    0.825,2,    0.401,2,    0.036,2, 0.165902907,2,   -999.0,9,   -999.0,9,  -0.9224
  316N20020530,    19,  1,      4,      4,2,20020604, 72.9485,  -6.2473, 2630,   2021.4,  -0.8753,  34.9125,2,  34.9120,2,    299.3,2,    299.2,2,    11.92,2,    14.76,2,     0.00,2,     1.02,2,    0.733,2,    0.352,2,    0.032,2,  0.12686691,2,   2162.1,2,   2298.3,2,  -0.9695
  316N20020530,    19,  1,      3,      3,2,20020604, 72.9485,  -6.2473, 2630,   2224.1,  -0.8930,  34.9123,2,  34.9122,2,    300.2,2,    300.1,2,    12.12,2,    14.76,2,     0.00,2,     1.02,2,    0.657,2,    0.330,2,    0.035,2, 0.126866891,2,   -999.0,9,   -999.0,9,  -1.0002
  316N20020530,    19,  1,      2,      2,2,20020604, 72.9485,  -6.2473, 2630,   2427.7,  -0.9225,  34.9101,2,  34.9085,2,    301.6,2,    300.9,2,    12.31,2,    14.76,2,     0.00,2,     1.02,2,    0.727,2,    0.363,2,    0.032,2, 0.126867241,2,   2164.5,2,   2297.0,2,  -1.0432
  316N20020530,    19,  1,      1,      1,2,20020604, 72.9485,  -6.2473, 2630,   2586.2,  -0.9568,  34.9065,2,  34.9048,2,    302.6,2,    302.4,2,    12.61,2,    14.76,2,     0.00,2,     1.02,2,    0.763,2,    0.376,2,    0.033,2, 0.185421863,2,   2161.5,2,   2296.2,2,  -1.0882