BOTTLE,20081218PRINUNIVRMK
EXPOCODE,STNNBR,CASTNO,SAMPNO,BTLNBR,BTLNBR_FLAG_W,DATE,LATITUDE,LONGITUDE,DEPTH,CTDPRS,CTDTMP,CTDSAL,CTDSAL_FLAG_W,SALNTY,SALNTY_FLAG_W,CTDOXY,CTDOXY_FLAG_W,OXYGEN,OXYGEN_FLAG_W,SILCAT,SILCAT_FLAG_W,NITRAT,NITRAT_FLAG_W,NITRIT,NITRIT_FLAG_W,PHSPHT,PHSPHT_FLAG_W,CFC-11,CFC-11_FLAG_W,CFC-12,CFC-12_FLAG_W,CFC113,CFC113_FLAG_W,SF6,SF6_FLAG_W,TCARBN,TCARBN_FLAG_W,ALKALI,ALKALI_FLAG_W,THETA
,,,,,,,,,METERS,DBARS,ITS-90,PSS-78,,PSS-78,,UMOL/KG,,UMOL/KG,,UMOL/KG,,UMOL/KG,,UMOL/KG,,UMOL/KG,,PMOL/KG,,PMOL/KG,,PMOL/KG,,FMOL/KG,,UMOL/KG,,UMOL/KG,,DEGC
  316N20020530,   152,  1,     31,     31,2,20020629, 60.6997,  -5.8878,  624,      3.2,  10.9045,  35.2688,2,  35.2672,2,    291.5,2,    292.0,2,     1.37,2,     5.37,2,     0.12,2,     0.37,2,    3.692,6,    2.006,6,    0.310,6,  1.73664153,2,   2090.9,2,   2336.7,2,  10.9041
  316N20020530,   152,  1,     29,     29,2,20020629, 60.6997,  -5.8878,  624,     33.1,   9.8777,  35.2762,2,  35.2753,2,    283.4,2,    280.1,2,     1.95,2,     7.82,2,     0.21,2,     0.55,2,    3.808,2,    2.094,2,    0.292,2,  1.72687471,2,   2112.2,2,   2332.9,2,   9.8739
  316N20020530,   152,  1,     27,     27,2,20020629, 60.6997,  -5.8878,  624,     68.3,   9.1413,  35.3157,2,  35.3133,2,    268.5,2,    268.2,2,     3.71,2,    11.63,2,     0.16,2,     0.75,2,    3.728,2,    2.042,2,    0.282,2,  1.68780155,2,   2137.4,2,   2328.7,2,   9.1338
  316N20020530,   152,  1,     25,     25,2,20020629, 60.6997,  -5.8878,  624,    103.4,   8.5729,  35.2615,2,  35.2595,2,    273.4,2,    273.1,2,     4.20,2,    11.72,2,     0.18,2,     0.76,2,    3.906,2,    2.170,2,    0.297,2,  1.73665149,2,   -999.0,9,   -999.0,9,   8.5620
  316N20020530,   152,  1,     23,     23,2,20020629, 60.6997,  -5.8878,  624,    164.0,   8.0624,  35.2602,2,  35.2578,2,    272.6,2,    273.8,2,     5.47,2,    13.19,2,     0.02,2,     0.84,2,    3.974,2,    2.233,2,    0.308,2,  1.76592313,2,   2144.7,2,   2325.9,2,   8.0457
  316N20020530,   152,  1,     21,     21,2,20020629, 60.6997,  -5.8878,  624,    234.5,   7.5942,  35.2338,2,  35.2322,2,    274.8,2,    275.1,2,     5.76,2,    13.58,2,     0.01,2,     0.87,2,    3.974,2,    2.170,2,    0.305,2,  1.73668678,2,   -999.0,9,   -999.0,9,   7.5710
  316N20020530,   152,  1,     19,     19,2,20020629, 60.6997,  -5.8878,  624,    304.9,   6.9507,  35.1975,2,  35.1955,2,    278.6,2,    278.5,2,     5.96,2,    13.58,2,     0.01,2,     0.88,2,    4.124,2,    2.255,2,    0.325,2,  1.79527583,2,   2148.3,2,   2321.1,2,   6.9219
  316N20020530,   152,  1,     17,     17,2,20020629, 60.6997,  -5.8878,  624,    354.6,   6.0464,  35.1418,2,  35.1370,2,    282.9,2,    283.3,2,     6.16,2,    13.58,2,     0.01,2,     0.88,2,    4.201,2,    2.261,2,    0.321,2,  1.82462608,2,   2149.0,2,   2316.8,2,   6.0153
  316N20020530,   152,  1,     15,     15,2,20020629, 60.6997,  -5.8878,  624,    425.2,   4.7592,  35.0558,2,  35.0545,2,    291.1,2,    290.6,2,     6.16,2,    13.48,2,     0.01,2,     0.89,2,    4.406,2,    2.343,2,    0.343,2,  1.92231772,2,   -999.0,9,   -999.0,9,   4.7260
  316N20020530,   152,  1,     13,     13,2,20020629, 60.6997,  -5.8878,  624,    494.7,   2.8565,  34.9678,2,  34.9665,2,    298.4,2,    297.5,2,     6.65,2,    13.49,2,     0.01,2,     0.90,2,    4.402,2,    2.390,2,    0.330,2,  1.93220224,2,   2157.2,2,   2307.3,2,   2.8251
  316N20020530,   152,  1,     11,     11,2,20020629, 60.6997,  -5.8878,  624,    543.8,   1.0437,  34.9144,2,  34.9148,2,    300.7,2,    301.2,2,     7.33,2,    13.88,2,     0.00,2,     0.93,2,    4.118,2,    2.083,2,    0.300,2,  1.82492791,2,   2162.0,2,   2303.8,2,   1.0169
  316N20020530,   152,  1,      9,      9,2,20020629, 60.6997,  -5.8878,  624,    578.0,   0.4018,  34.9059,2,  34.9059,2,    300.7,2,    300.5,2,     8.40,2,    14.17,2,     0.01,2,     0.95,2,    3.554,6,    1.776,6,    0.241,6,  1.79566288,2,   2162.8,2,   2303.9,2,   0.3762
  316N20020530,   152,  1,      7,      7,2,20020629, 60.6997,  -5.8878,  624,    617.2,  -0.3265,  34.8998,2,  34.9016,2,    298.1,2,    298.5,2,     9.67,2,    14.46,2,     0.01,2,     0.98,2,    2.691,2,    1.333,2,    0.173,2,  1.74687329,2,   2165.4,2,   2308.0,2,  -0.3503
  316N20020530,   153,  1,     20,     20,2,20020629, 60.5718,  -5.5743,  761,      3.3,  11.6751,  35.3791,2,  35.3766,2,    275.5,2,    276.6,2,     0.39,2,     4.49,2,     0.15,2,     0.29,2,    3.560,2,    1.924,2,    0.328,2,  1.66821079,2,   2093.0,2,   -999.0,9,  11.6747
  316N20020530,   153,  1,     19,     19,2,20020629, 60.5718,  -5.5743,  761,     37.2,  11.0120,  35.3622,2,  35.3599,2,    274.3,2,    273.4,2,     0.59,2,     5.86,2,     0.19,2,     0.40,2,    3.628,6,    1.976,6,    0.308,6,  1.64872005,2,   2101.1,2,   2332.4,2,  11.0074
  316N20020530,   153,  1,     18,     18,2,20020629, 60.5718,  -5.5743,  761,     67.1,   9.9834,  35.3849,2,  35.3817,2,    263.4,2,    263.1,2,     2.25,2,    10.16,2,     0.21,2,     0.65,2,    3.643,2,    2.002,2,    0.290,2,  1.63893771,2,   2125.9,2,   2330.8,2,   9.9756
  316N20020530,   153,  1,     17,     17,2,20020629, 60.5718,  -5.5743,  761,    107.5,   9.5392,  35.3759,2,  35.3731,2,    262.1,2,    262.6,2,     3.22,2,    11.63,2,     0.02,2,     0.73,2,    3.665,6,    1.967,6,    0.293,6,  1.60968127,2,   2143.7,2,   2335.1,2,   9.5271
  316N20020530,   153,  1,     16,     16,2,20020629, 60.5718,  -5.5743,  761,    183.1,   9.0089,  35.3338,2,  35.3313,2,    265.3,2,    264.2,2,     4.69,2,    12.70,2,     0.01,2,     0.80,2,    3.646,2,    1.978,2,    0.305,2,   1.6389992,2,   -999.0,9,   -999.0,9,   8.9889
  316N20020530,   153,  1,     15,     15,2,20020629, 60.5718,  -5.5743,  761,    262.9,   8.3989,  35.2918,2,  35.2897,2,    265.6,2,    266.2,2,     5.47,2,    13.09,2,     0.01,2,     0.84,2,    3.690,2,    1.976,2,    0.290,2,   1.6097812,2,   2145.3,2,   2328.3,2,   8.3713
  316N20020530,   153,  1,     14,     14,2,20020629, 60.5718,  -5.5743,  761,    323.7,   7.0492,  35.2043,2,  35.1961,2,    275.4,2,    278.8,2,     5.86,2,    13.48,2,     0.01,2,     0.87,2,    4.057,2,    2.179,2,    0.319,2,  1.74649038,2,   2145.8,2,   2322.5,2,   7.0184
  316N20020530,   153,  1,     13,     13,2,20020629, 60.5718,  -5.5743,  761,    404.4,   5.7070,  35.1139,2,  35.1043,2,    286.8,2,    286.4,2,     5.96,2,    13.48,2,     0.00,2,     0.88,2,    4.292,2,    2.281,2,    0.359,2,  1.82467049,2,   2150.6,2,   2320.3,2,   5.6725
  316N20020530,   153,  1,     12,     12,2,20020629, 60.5718,  -5.5743,  761,    454.4,   3.1692,  34.9685,2,  34.9591,2,    297.9,2,    299.3,2,     6.06,2,    13.29,2,     0.00,2,     0.89,2,    4.670,2,    2.395,2,    0.389,2,  1.94197154,2,   -999.0,9,   -999.0,9,   3.1393
  316N20020530,   153,  1,     11,     11,2,20020629, 60.5718,  -5.5743,  761,    489.0,   2.1505,  34.9288,2,  34.9231,2,    303.6,2,    302.5,2,     6.25,2,    13.39,2,     0.00,2,     0.90,2,    4.586,2,    2.339,2,    0.360,2,  1.87371119,2,   -999.0,9,   -999.0,9,   2.1222
  316N20020530,   153,  1,     10,     10,2,20020629, 60.5718,  -5.5743,  761,    544.5,   0.0295,  34.9065,2,  34.9065,2,    299.6,2,    299.2,2,     8.80,2,    14.37,2,     0.00,2,     0.96,2,    3.062,2,    1.496,2,    0.221,2,  1.62975852,2,   2169.5,2,   2306.1,2,   0.0073
  316N20020530,   153,  1,      9,      9,2,20020629, 60.5718,  -5.5743,  761,    584.5,  -0.3667,  34.9021,2,  34.9038,2,    298.8,2,    299.3,2,     9.48,2,    14.46,2,     0.00,2,     0.98,2,    2.563,2,    1.242,2,    0.170,2,  1.62000274,2,   2167.8,2,   2307.3,2,  -0.3888
  316N20020530,   153,  1,     34,     34,2,20020629, 60.5718,  -5.5743,  761,    585.4,  -0.3674,  34.9023,2,-999.0000,9,    298.8,2,   -999.0,9,  -999.00,9,  -999.00,9,  -999.00,9,  -999.00,9, -999.000,9, -999.000,9, -999.000,9,        -999,9,   -999.0,9,   -999.0,9,  -0.3896
  316N20020530,   153,  1,     35,     35,2,20020629, 60.5718,  -5.5743,  761,    664.6,  -0.6581,  34.9029,2,-999.0000,9,    298.3,2,   -999.0,9,  -999.00,9,  -999.00,9,  -999.00,9,  -999.00,9, -999.000,9, -999.000,9, -999.000,9,        -999,9,   -999.0,9,   -999.0,9,  -0.6821
  316N20020530,   153,  1,      8,      8,2,20020629, 60.5718,  -5.5743,  761,    664.9,  -0.6571,  34.9021,2,  34.9040,2,    298.3,2,    298.3,2,    10.07,2,    14.56,2,     0.00,2,     0.98,2,    2.077,2,    0.988,2,    0.136,2,  1.59072535,2,   2167.7,2,   2304.9,2,  -0.6812
  316N20020530,   153,  1,     36,     36,2,20020629, 60.5718,  -5.5743,  761,    745.6,  -0.6624,  34.9025,2,-999.0000,9,    298.2,2,   -999.0,9,  -999.00,9,  -999.00,9,  -999.00,9,  -999.00,9, -999.000,9, -999.000,9, -999.000,9,        -999,9,   -999.0,9,   -999.0,9,  -0.6899
  316N20020530,   153,  1,      7,      7,2,20020629, 60.5718,  -5.5743,  761,    746.3,  -0.6626,  34.9025,2,  34.9040,2,    298.2,2,    298.3,2,    10.16,2,    14.66,2,     0.00,2,     0.98,2,    1.950,2,    0.939,2,    0.115,2,  1.55168914,2,   2168.4,2,   2307.2,2,  -0.6901
  316N20020530,   154,  1,     24,     24,2,20020629, 60.4155,  -5.2835, 1093,      1.9,  11.5089,  35.3762,2,  35.3742,2,    277.4,2,    278.7,2,     0.10,2,     4.49,2,     0.15,2,     0.29,2,    3.520,2,    1.931,2,    0.288,2,  1.63894686,2,   2086.9,2,   2337.0,2,  11.5087
  316N20020530,   154,  1,     23,     23,2,20020629, 60.4155,  -5.2835, 1093,     33.3,  10.9602,  35.3673,2,  35.3630,2,    270.9,2,    268.9,2,     0.49,2,     6.25,2,     0.21,2,     0.44,2,    3.614,6,    1.964,6,    0.295,6,  1.61944909,2,   2098.7,2,   2335.8,2,  10.9561
  316N20020530,   154,  1,     22,     22,2,20020629, 60.4155,  -5.2835, 1093,     63.5,   9.8693,  35.3940,2,  35.3922,2,    262.0,2,    262.0,2,     2.44,2,    10.84,2,     0.06,2,     0.68,2,    3.630,2,    1.989,2,    0.281,2,  1.61941389,2,   2125.4,2,   2331.7,2,   9.8620
  316N20020530,   154,  1,     21,     21,2,20020629, 60.4155,  -5.2835, 1093,    103.5,   9.5393,  35.3763,2,  35.3744,2,    261.8,2,    262.3,2,     3.32,2,    11.63,2,     0.02,2,     0.73,2,    3.639,2,    1.992,2,    0.282,2,  1.64870225,2,   2131.3,2,   2332.5,2,   9.5276
  316N20020530,   154,  1,     20,     20,2,20020629, 60.4155,  -5.2835, 1093,    214.1,   9.0220,  35.3333,2,  35.3319,2,    260.3,2,    264.4,2,     4.40,2,    12.60,2,     0.01,2,     0.80,2,    3.669,2,    2.036,2,    0.290,2,  1.63899847,2,   2134.1,2,   2327.3,2,   8.9986
  316N20020530,   154,  1,     18,     18,2,20020629, 60.4155,  -5.2835, 1093,    293.6,   8.0957,  35.2674,2,  35.2637,2,    262.2,2,   -999.0,9,  -999.00,9,  -999.00,9,  -999.00,9,  -999.00,9, -999.000,9, -999.000,9, -999.000,9,  1.68786387,2,   -999.0,9,   -999.0,9,   8.0655
  316N20020530,   154,  1,     19,     19,2,20020629, 60.4155,  -5.2835, 1093,    293.9,   8.1009,  35.2669,2,  35.2645,2,    262.2,2,    269.6,2,     5.47,2,    13.29,2,     0.01,2,     0.84,2,    3.829,2,    2.066,2,    0.301,2,  1.65859356,2,   -999.0,9,   -999.0,9,   8.0706
  316N20020530,   154,  1,     17,     17,2,20020629, 60.4155,  -5.2835, 1093,    376.0,   6.7749,  35.1870,2,  35.1847,2,    268.0,2,    281.1,2,     5.67,2,    13.48,2,     0.01,2,     0.87,2,    4.148,2,    2.225,2,    0.332,2,   1.7465052,2,   2138.5,2,   2327.6,2,   6.7397
  316N20020530,   154,  1,     16,     16,2,20020629, 60.4155,  -5.2835, 1093,    431.4,   6.5922,  35.1757,2,  35.1737,2,    278.7,2,    282.2,2,     5.76,2,    13.48,2,     0.01,2,     0.87,2,    4.172,2,    2.238,2,    0.331,2,  1.81481914,2,   -999.0,9,   -999.0,9,   6.5523
  316N20020530,   154,  1,     15,     15,2,20020629, 60.4155,  -5.2835, 1093,    488.1,   6.4949,  35.1675,2,  35.1642,2,    285.3,2,    283.1,2,     5.86,2,    13.48,2,     0.01,2,     0.87,2,    4.210,6,    2.255,6,    0.348,6,  1.80507482,2,   -999.0,9,   -999.0,9,   6.4499
  316N20020530,   154,  1,     14,     14,2,20020629, 60.4155,  -5.2835, 1093,    531.1,   5.2605,  35.0874,2,  35.0618,2,    300.2,2,    291.1,2,     6.06,2,    13.48,2,     0.01,2,     0.88,2,    4.394,2,    2.315,2,    0.345,2,  1.88327565,2,   2138.2,2,   2312.8,2,   5.2165
  316N20020530,   154,  1,     13,     13,2,20020629, 60.4155,  -5.2835, 1093,    606.6,   1.3392,  34.9076,2,  34.9087,2,    304.1,2,    304.0,2,     6.65,2,    13.68,2,     0.00,2,     0.91,2,    4.576,2,    2.318,2,    0.349,2,  1.83469521,2,   2153.2,2,   2302.1,2,   1.3076
  316N20020530,   154,  1,     12,     12,2,20020629, 60.4155,  -5.2835, 1093,    681.4,   0.1110,  34.8904,2,  34.8894,2,    302.8,2,    303.4,2,     7.33,2,    14.17,2,     0.00,2,     0.95,2,    4.114,2,    2.011,2,    0.297,2,  1.68833421,2,   2160.8,2,   2301.8,2,   0.0819
  316N20020530,   154,  1,     11,     11,2,20020629, 60.4155,  -5.2835, 1093,    767.9,  -0.3492,  34.8926,2,  34.8922,2,    302.9,2,    302.8,2,     8.11,2,    14.37,2,     0.00,2,     0.96,2,    3.422,2,    1.666,2,    0.236,2,  1.89327257,2,   2161.8,2,   2303.5,2,  -0.3797
  316N20020530,   154,  1,     10,     10,2,20020629, 60.4155,  -5.2835, 1093,    872.5,  -0.4764,  34.8951,2,  34.8961,2,    300.4,2,    302.3,2,     8.70,2,    14.37,2,     0.00,2,     0.96,2,    3.011,2,    1.454,2,    0.187,2,  2.05917192,2,   2160.0,2,   2303.7,2,  -0.5109
  316N20020530,   154,  1,      9,      9,2,20020629, 60.4155,  -5.2835, 1093,    908.3,  -0.5506,  34.8984,2,  34.8979,2,    300.4,2,    300.0,2,     9.19,2,    14.46,2,     0.00,2,     0.96,2,    2.632,2,    1.267,2,    0.162,2,   1.9615782,2,   2160.6,2,   2311.4,2,  -0.5863
  316N20020530,   154,  1,     34,     34,2,20020629, 60.4155,  -5.2835, 1093,    908.6,  -0.5513,  34.8989,2,  34.8983,2,    300.7,2,   -999.0,9,  -999.00,9,  -999.00,9,  -999.00,9,  -999.00,9, -999.000,9, -999.000,9, -999.000,9,        -999,9,   -999.0,9,   -999.0,9,  -0.5870
  316N20020530,   154,  1,      8,      8,2,20020629, 60.4155,  -5.2835, 1093,    998.7,  -0.6144,  34.9013,2,  34.9014,2,    299.5,2,    299.3,2,     9.67,2,    14.56,2,     0.00,2,     0.97,2,    2.245,2,    1.098,2,    0.131,2,  1.75663262,2,   2161.0,2,   2306.0,2,  -0.6539
  316N20020530,   154,  1,      7,      7,2,20020629, 60.4155,  -5.2835, 1093,   1073.8,  -0.6484,  34.9028,2,  34.9034,2,    298.1,2,    298.4,2,    10.07,2,    14.66,2,     0.00,2,     0.97,2,    2.058,2,    0.995,2,    0.112,2,  1.59072606,2,   2158.3,2,   2301.0,2,  -0.6913
  316N20020530,   154,  1,     36,     36,2,20020629, 60.4155,  -5.2835, 1093,   1074.4,  -0.6493,  34.9023,2,  34.9022,2,    298.1,2,   -999.0,9,  -999.00,9,  -999.00,9,  -999.00,9,  -999.00,9, -999.000,9, -999.000,9, -999.000,9,        -999,9,   -999.0,9,   -999.0,9,  -0.6923
  316N20020530,   155,  1,     24,     24,2,20020629, 60.3497,  -5.0660, 1109,      2.5,  11.9344,  35.3758,2,  35.3746,2,    275.4,2,    275.5,2,     0.10,2,     3.42,2,     0.10,2,     0.23,2,    3.415,2,    1.932,2,    0.286,2,  1.69748017,2,   2089.8,2,   2339.8,2,  11.9341
  316N20020530,   155,  1,     23,     23,2,20020629, 60.3497,  -5.0660, 1109,     37.9,  11.6084,  35.3738,2,  35.3735,2,    271.5,2,    271.1,2,     0.20,2,     4.01,2,     0.13,2,     0.30,2,    3.505,2,    1.949,2,    0.293,2,  1.68772592,2,   2090.8,2,   2336.2,2,  11.6036
  316N20020530,   155,  1,     22,     22,2,20020629, 60.3497,  -5.0660, 1109,     68.8,  11.2765,  35.3733,2,  35.3707,2,    266.8,2,    268.7,2,     0.39,2,     4.88,2,     0.18,2,     0.39,2,    3.494,2,    1.988,2,    0.298,2,  1.65846246,2,   2110.8,2,   2333.6,2,  11.2679
  316N20020530,   155,  1,     21,     21,2,20020629, 60.3497,  -5.0660, 1109,    103.6,  10.7427,  35.3551,2,  35.3531,2,    269.9,2,    269.6,2,     0.49,2,     5.96,2,     0.20,2,     0.53,2,    3.654,6,    2.012,6,    0.304,6,  1.69750734,2,   2126.3,2,   2334.2,2,  10.7301
  316N20020530,   155,  1,     20,     20,2,20020629, 60.3497,  -5.0660, 1109,    174.0,   9.6390,  35.3319,2,  35.3283,2,    271.5,2,    270.4,2,     2.15,2,     9.48,2,     0.56,2,     0.67,2,    3.724,2,    2.077,2,    0.320,2,  1.72680658,2,   -999.0,9,   -999.0,9,   9.6192
  316N20020530,   155,  1,     19,     19,2,20020629, 60.3497,  -5.0660, 1109,    239.9,   8.9583,  35.3110,2,  35.3088,2,    272.7,2,    271.8,2,     4.01,2,    11.92,2,     0.03,2,     0.76,2,    3.731,2,    2.023,2,    0.307,2,  1.70731943,2,   2135.2,2,   2328.3,2,   8.9321
  316N20020530,   155,  1,     18,     18,2,20020629, 60.3497,  -5.0660, 1109,    269.5,   8.8173,  35.3087,2,  35.3064,2,    267.9,2,    270.3,2,     4.40,2,    12.31,2,     0.02,2,     0.78,2,    3.755,2,    2.053,2,    0.311,2,  1.70732248,2,   2137.0,2,   2325.6,2,   8.7881
  316N20020530,   155,  1,     17,     17,2,20020629, 60.3497,  -5.0660, 1109,    345.0,   8.4204,  35.2892,2,  35.2865,2,    269.5,2,    269.6,2,     5.37,2,    13.09,2,     0.01,2,     0.83,2,    3.747,2,    2.015,2,    0.302,2,  1.64881013,2,   -999.0,9,   -999.0,9,   8.3839
  316N20020530,   155,  1,     16,     16,2,20020629, 60.3497,  -5.0660, 1109,    425.2,   7.6904,  35.2464,2,  35.2436,2,    273.3,2,    272.9,2,     5.67,2,    13.29,2,     0.01,2,     0.85,2,    3.786,2,    2.060,2,    0.314,2,  1.66837595,2,   2142.9,2,   2322.9,2,   7.6475
  316N20020530,   155,  1,     15,     15,2,20020629, 60.3497,  -5.0660, 1109,    495.5,   6.3667,  35.1727,2,  35.1650,2,    280.1,2,    280.9,2,     6.06,2,    13.48,2,     0.01,2,     0.87,2,    3.942,2,    2.118,2,    0.318,2,  1.70750219,2,   2146.4,2,   2320.4,2,   6.3215
  316N20020530,   155,  1,     14,     14,2,20020629, 60.3497,  -5.0660, 1109,    566.0,   3.5268,  35.0132,2,  35.0087,2,    292.9,2,    293.9,2,     6.64,2,    13.58,2,     0.01,2,     0.90,2,    4.091,2,    2.132,2,    0.324,2,  1.78576719,2,   2152.7,2,   2311.1,2,   3.4875
  316N20020530,   155,  1,     13,     13,2,20020629, 60.3497,  -5.0660, 1109,    646.7,   1.6263,  34.9348,2,  34.9315,2,    300.1,2,    300.0,2,     7.23,2,    13.88,2,     0.01,2,     0.92,2,    4.049,2,    2.041,2,    0.315,2,   1.6882813,2,   2158.5,2,   2304.4,2,   1.5908
  316N20020530,   155,  1,     12,     12,2,20020629, 60.3497,  -5.0660, 1109,    716.6,   0.2778,  34.9071,2,  34.9061,2,    299.9,2,    299.5,2,     8.21,2,    14.37,2,     0.00,2,     0.96,2,    3.406,2,    1.684,2,    0.251,2,  1.56144575,2,   2162.9,2,   2304.7,2,   0.2460
  316N20020530,   155,  1,     11,     11,2,20020629, 60.3497,  -5.0660, 1109,    777.3,  -0.2483,  34.9025,2,  34.9022,2,    299.7,2,    298.9,2,     9.38,2,    14.56,2,     0.00,2,     0.97,2,    2.670,2,    1.286,2,    0.180,2,  1.44434152,2,   2163.2,2,   2317.4,3,  -0.2799
  316N20020530,   155,  1,     10,     10,2,20020629, 60.3497,  -5.0660, 1109,    857.4,  -0.7006,  34.9057,2,  34.9056,2,    298.3,2,    297.8,2,    10.85,2,    14.66,2,     0.01,2,     0.99,2,    1.686,2,    0.819,2,    0.104,2,  1.13204859,2,   2164.9,2,   2308.8,2,  -0.7328
  316N20020530,   155,  1,      9,      9,2,20020629, 60.3497,  -5.0660, 1109,    938.1,  -0.7085,  34.9051,2,  34.9056,2,    297.7,2,    298.4,2,    10.95,2,    14.76,2,     0.01,2,     1.00,2,    1.659,2,    0.811,2,    0.098,2,  1.11253051,2,   2165.1,2,   2302.6,2,  -0.7444
  316N20020530,   155,  1,      8,      8,2,20020629, 60.3497,  -5.0660, 1109,   1018.4,  -0.7140,  34.9057,2,  34.9081,2,    297.3,2,    297.1,2,    11.14,2,    14.76,2,     0.01,2,     1.00,2,    1.590,6,    0.759,6,    0.089,6,  1.02469725,2,   2162.3,2,   2305.8,2,  -0.7537
  316N20020530,   155,  1,      7,      7,2,20020629, 60.3497,  -5.0660, 1109,   1089.4,  -0.7185,  34.9067,2,  34.9089,2,    296.7,2,    296.8,2,    11.24,2,    14.76,2,     0.01,2,     1.01,2,    1.515,2,    0.737,2,    0.093,2, 0.907588453,2,   2165.1,2,   2315.3,2,  -0.7616