BOTTLE,20081218PRINUNIVRMK
EXPOCODE,STNNBR,CASTNO,SAMPNO,BTLNBR,BTLNBR_FLAG_W,DATE,LATITUDE,LONGITUDE,DEPTH,CTDPRS,CTDTMP,CTDSAL,CTDSAL_FLAG_W,SALNTY,SALNTY_FLAG_W,CTDOXY,CTDOXY_FLAG_W,OXYGEN,OXYGEN_FLAG_W,SILCAT,SILCAT_FLAG_W,NITRAT,NITRAT_FLAG_W,NITRIT,NITRIT_FLAG_W,PHSPHT,PHSPHT_FLAG_W,CFC-11,CFC-11_FLAG_W,CFC-12,CFC-12_FLAG_W,CFC113,CFC113_FLAG_W,SF6,SF6_FLAG_W,TCARBN,TCARBN_FLAG_W,ALKALI,ALKALI_FLAG_W,THETA
,,,,,,,,,METERS,DBARS,ITS-90,PSS-78,,PSS-78,,UMOL/KG,,UMOL/KG,,UMOL/KG,,UMOL/KG,,UMOL/KG,,UMOL/KG,,PMOL/KG,,PMOL/KG,,PMOL/KG,,FMOL/KG,,UMOL/KG,,UMOL/KG,,DEGC
  316N20020530,    81,  1,     33,     33,2,20020616, 69.9977,  -0.5992, 3322,      2.7,   8.1547,  35.1203,2,  35.1244,2,    305.7,2,    310.2,2,     0.88,2,     4.30,2,     0.07,2,     0.35,2,    4.414,2,    2.418,2,    0.419,2,  1.70755379,2,   2094.9,2,   2324.2,2,   8.1544
  316N20020530,    81,  1,     32,     32,2,20020616, 69.9977,  -0.5992, 3322,     25.2,   7.2832,  35.1213,2,  35.1211,2,    309.2,2,    313.0,2,     1.27,2,     6.55,2,     0.11,2,     0.46,2,    4.523,2,    2.448,2,    0.406,2,  1.76610283,2,   2107.5,2,   2321.8,2,   7.2808
  316N20020530,    81,  1,     31,     31,2,20020616, 69.9977,  -0.5992, 3322,     45.5,   6.3673,  35.1245,2,  35.1252,2,    298.5,2,    299.4,2,     1.86,2,     8.40,2,     0.15,2,     0.62,2,    4.535,6,    2.399,6,    0.407,6,  1.71731022,2,   -999.0,9,   -999.0,9,   6.3633
  316N20020530,    81,  1,     30,     30,2,20020616, 69.9977,  -0.5992, 3322,     70.0,   6.0903,  35.1298,2,  35.1297,2,    297.0,2,    296.2,2,     3.13,2,     9.58,2,     0.17,2,     0.68,2, -999.000,9, -999.000,9, -999.000,9,        -999,9,   2131.8,2,   2318.7,2,   6.0843
  316N20020530,    81,  1,     29,     29,2,20020616, 69.9977,  -0.5992, 3322,    100.4,   5.8267,  35.1346,2,  35.1350,2,    290.8,2,    290.9,2,     4.59,2,    11.82,2,     0.16,2,     0.77,2,    4.431,2,    2.419,2,    0.391,2,  1.68802557,2,   -999.0,9,   -999.0,9,   5.8182
  316N20020530,    81,  1,     28,     28,2,20020616, 69.9977,  -0.5992, 3322,    151.3,   5.4968,  35.1309,2,  35.1305,2,    293.2,2,    292.8,2,     5.08,2,    12.31,2,     0.02,2,     0.80,2, -999.000,9, -999.000,9, -999.000,9,        -999,9,   2141.3,2,   2315.9,2,   5.4844
  316N20020530,    81,  1,     27,     27,2,20020616, 69.9977,  -0.5992, 3322,    206.2,   5.1416,  35.1306,2,  35.1321,2,    298.1,2,    297.2,2,     4.89,2,    12.02,2,     0.07,2,     0.78,2,    4.636,2,    2.556,2,    0.407,2,  1.77584576,2,   2141.7,2,   2317.1,2,   5.1252
  316N20020530,    81,  1,     26,     26,2,20020616, 69.9977,  -0.5992, 3322,    266.9,   4.9449,  35.1306,2,  35.1307,2,    297.5,2,    296.8,2,     5.08,2,    12.31,2,     0.02,2,     0.80,2, -999.000,9, -999.000,9, -999.000,9,        -999,9,   -999.0,9,   -999.0,9,   4.9239
  316N20020530,    81,  1,     25,     25,2,20020616, 69.9977,  -0.5992, 3322,    326.8,   4.7482,  35.1331,2,  35.1342,2,    299.0,2,    298.7,2,     4.98,2,    12.31,2,     0.01,2,     0.80,2,    4.750,2,    2.557,2,    0.422,2,  1.77584299,2,   2142.1,2,   2317.8,2,   4.7229
  316N20020530,    81,  1,     24,     24,2,20020616, 69.9977,  -0.5992, 3322,    387.7,   4.6453,  35.1290,2,  35.1297,2,    300.0,2,    297.3,2,     4.89,2,    12.21,2,     0.01,2,     0.80,2, -999.000,9, -999.000,9, -999.000,9,        -999,9,   -999.0,9,   -999.0,9,   4.6154
  316N20020530,    81,  1,     23,     23,2,20020616, 69.9977,  -0.5992, 3322,    447.5,   4.4725,  35.1235,2,  35.1240,2,    300.9,2,    300.7,2,     5.37,2,    12.31,2,     0.01,2,     0.80,2,    4.789,2,    2.599,2,    0.408,2,  1.74658411,2,   -999.0,9,   -999.0,9,   4.4384
  316N20020530,    81,  1,     22,     22,2,20020616, 69.9977,  -0.5992, 3322,    508.0,   4.2454,  35.1125,2,  35.1142,2,    301.5,2,    300.9,2,     5.37,2,    12.31,2,     0.01,2,     0.80,2, -999.000,9, -999.000,9, -999.000,9,  1.77586943,2,   2144.6,2,   2316.6,2,   4.2074
  316N20020530,    81,  1,     21,     21,2,20020616, 69.9977,  -0.5992, 3322,    608.1,   3.8654,  35.0898,2,  35.0898,2,    302.4,2,    302.1,2,     5.47,2,    12.51,2,     0.01,2,     0.82,2,    4.875,2,    2.606,2,    0.410,2,  1.72711317,2,   -999.0,9,   -999.0,9,   3.8212
  316N20020530,    81,  1,     20,     20,2,20020616, 69.9977,  -0.5992, 3322,    708.9,   2.5808,  34.9918,2,  34.9967,2,    303.2,2,    303.2,2,     5.57,2,    13.00,2,     0.00,2,     0.86,2,    5.089,2,    2.647,2,    0.429,2,  1.61989072,2,   2150.8,2,   2307.4,2,   2.5360
  316N20020530,    81,  1,     19,     19,2,20020616, 69.9977,  -0.5992, 3322,    810.0,   1.2186,  34.9213,2,  34.9238,2,    303.6,2,    304.0,2,     6.65,2,    13.58,2,     0.00,2,     0.90,2,    4.858,2,    2.487,2,    0.399,2,  1.40528266,2,   -999.0,9,   -999.0,9,   1.1757
  316N20020530,    81,  1,     18,     18,2,20020616, 69.9977,  -0.5992, 3322,    910.5,   0.2906,  34.8935,2,  34.8935,2,    303.7,2,    303.6,2,     6.84,2,    13.97,2,     0.00,2,     0.93,2,    4.171,2,    2.199,2,    0.332,2,  1.21989094,2,   2160.0,2,   2297.4,2,   0.2485
  316N20020530,    81,  1,     17,     17,2,20020616, 69.9977,  -0.5992, 3322,   1011.2,  -0.1058,  34.8911,2,  34.8922,2,    303.3,2,    303.4,2,     7.82,2,    14.07,2,     0.00,2,     0.94,2,    3.886,2,    1.905,2,    0.295,2,  1.15157816,2,   -999.0,9,   -999.0,9,  -0.1501
  316N20020530,    81,  1,     16,     16,2,20020616, 69.9977,  -0.5992, 3322,   1087.4,  -0.2862,  34.8904,2,  34.8923,2,    304.1,2,    304.0,2,     8.11,2,    14.17,2,     0.00,2,     0.94,2,    3.612,6,    1.767,6,    0.267,6,  1.35651993,2,   -999.0,9,   -999.0,9,  -0.3330
  316N20020530,    81,  1,     15,     15,2,20020616, 69.9977,  -0.5992, 3322,   1162.5,  -0.4093,  34.8922,2,  34.8943,2,    304.6,2,    304.6,2,     8.50,2,    14.17,2,     0.00,2,     0.94,2,    3.311,2,    1.633,2,    0.245,2,  1.61025508,2,   2160.1,2,   2299.4,2,  -0.4590
  316N20020530,    81,  1,     14,     14,2,20020616, 69.9977,  -0.5992, 3322,   1263.3,  -0.4972,  34.8947,2,  34.8955,2,    304.1,2,    303.9,2,     8.70,2,    14.27,2,     0.00,2,     0.95,2,    2.943,2,    1.441,2,    0.220,2,  1.79567679,2,   2161.7,2,   2297.6,2,  -0.5514
  316N20020530,    81,  1,     13,     13,2,20020616, 69.9977,  -0.5992, 3322,   1361.4,  -0.5606,  34.8974,2,  34.9000,2,    302.5,2,    302.6,2,     8.80,2,    14.37,2,     0.00,2,     0.96,2,    2.510,2,    1.266,2,    0.176,2,  1.79567077,2,   2160.7,2,   2300.3,2,  -0.6195
  316N20020530,    81,  1,     12,     12,2,20020616, 69.9977,  -0.5992, 3322,   1460.0,  -0.6251,  34.9008,2,  34.9035,2,    301.4,2,    301.2,2,     9.28,2,    14.46,2,     0.00,2,     0.97,2,    2.121,2,    1.008,2,    0.137,2,  1.45409917,2,   -999.0,9,   -999.0,9,  -0.6888
  316N20020530,    81,  1,     11,     11,2,20020616, 69.9977,  -0.5992, 3322,   1558.9,  -0.6601,  34.9031,2,  34.9047,2,    300.4,2,    300.1,2,     9.58,2,    14.46,2,     0.00,2,     0.97,2,    1.801,2,    0.873,2,    0.115,2, 0.995422706,2,   -999.0,9,   -999.0,9,  -0.7290
  316N20020530,    81,  1,     10,     10,2,20020616, 69.9977,  -0.5992, 3322,   1659.8,  -0.6911,  34.9052,2,  34.9063,2,    299.6,2,    299.5,2,    10.26,2,    14.56,2,     0.00,2,     0.97,2,    1.533,2,    0.751,2,    0.094,2, 0.653855312,2,   -999.0,9,   -999.0,9,  -0.7656
  316N20020530,    81,  1,      9,      9,2,20020616, 69.9977,  -0.5992, 3322,   1809.7,  -0.7366,  34.9077,7,  34.9090,2,    298.8,2,    298.7,2,    10.65,2,    14.66,2,     0.00,2,     0.98,2,    1.195,2,    0.588,2,    0.064,2, 0.312288477,2,   2157.5,2,   2302.4,2,  -0.8195
  316N20020530,    81,  1,      8,      8,2,20020616, 69.9977,  -0.5992, 3322,   1962.6,  -0.7737,  34.9088,2,  34.9098,2,    298.5,2,    298.6,2,    11.04,2,    14.76,2,     0.00,2,     0.99,2,    0.951,2,    0.464,2,    0.054,2, 0.224457209,2,   -999.0,9,   -999.0,9,  -0.8657
  316N20020530,    81,  1,      7,      7,2,20020616, 69.9977,  -0.5992, 3322,   2167.8,  -0.8068,  34.9094,2,  34.9110,2,    298.5,2,    299.4,2,    11.53,2,    14.85,2,     0.00,2,     0.99,2,    0.847,2,    0.392,2,    0.043,2, 0.146385006,2,   -999.0,9,   -999.0,9,  -0.9117
  316N20020530,    81,  1,      6,      6,2,20020616, 69.9977,  -0.5992, 3322,   2373.5,  -0.8332,  34.9100,2,  34.9128,2,    298.6,2,    299.4,2,    11.92,2,    14.95,2,     0.00,2,     0.99,2,    0.653,2,    0.330,2,    0.033,2, 0.126866835,2,   2157.4,2,   2302.3,2,  -0.9518
  316N20020530,    81,  1,      5,      5,2,20020616, 69.9977,  -0.5992, 3322,   2578.3,  -0.8391,  34.9101,2,  34.9112,2,    298.5,2,    299.7,2,    12.31,2,    14.95,2,     0.00,2,     0.99,2,    0.580,2,    0.289,2,    0.031,2,0.0878309902,2,   -999.0,9,   -999.0,9,  -0.9723
  316N20020530,    81,  1,      4,      4,2,20020616, 69.9977,  -0.5992, 3322,   2755.6,  -0.8376,  34.9102,2,  34.9104,2,    298.5,2,    298.3,2,    12.51,2,    15.05,2,     0.00,2,     1.00,2,    0.525,2,    0.278,2,    0.027,2,0.0780720378,2,   2158.8,2,   2299.8,2,  -0.9841
  316N20020530,    81,  1,      3,      3,2,20020616, 69.9977,  -0.5992, 3322,   2933.0,  -0.8353,  34.9105,7,  34.9110,2,    298.3,2,    298.5,2,    12.80,2,    15.05,2,     0.00,2,     1.00,2,    0.486,2,    0.249,2,    0.027,2,0.0878310033,2,   2159.0,2,   2299.4,2,  -0.9957
  316N20020530,    81,  1,      2,      2,2,20020616, 69.9977,  -0.5992, 3322,   3136.3,  -0.8267,  34.9102,2,  34.9096,2,    297.7,2,    297.5,2,    13.78,3,    15.15,2,     0.00,2,     1.01,2,    0.425,2,    0.240,2, -999.000,9,0.0780720843,2,   2159.4,2,   2302.7,2,  -1.0037
  316N20020530,    81,  1,      1,      1,2,20020616, 69.9977,  -0.5992, 3322,   3302.6,  -0.8128,  34.9101,2,  34.9096,2,    297.4,2,    297.2,2,    13.39,2,    15.15,2,     0.00,2,     1.01,2,    0.431,2,    0.225,2,    0.022,2,0.0585540632,2,   2158.4,2,   2302.7,2,  -1.0041
  316N20020530,    82,  1,     30,     30,2,20020616, 70.0022,  -2.0792, 2866,      3.6,   9.2591,  35.1091,2,  35.1059,2,    306.2,2,    308.2,2,     1.56,2,     1.47,2,     0.03,2,     0.15,2,    4.174,2,    2.252,2,    0.368,2,        -999,9,   -999.0,9,   -999.0,9,   9.2587
  316N20020530,    82,  1,     29,     29,2,20020616, 70.0022,  -2.0792, 2866,     26.0,   9.0689,  35.1063,2,  35.1006,2,    306.5,2,    306.4,2,     2.05,2,     3.13,2,     0.06,2,     0.26,2, -999.000,9, -999.000,9, -999.000,9,  1.62952306,2,   -999.0,9,   -999.0,9,   9.0661
  316N20020530,    82,  1,     28,     28,2,20020616, 70.0022,  -2.0792, 2866,     55.7,   6.1804,  35.1155,2,  35.1120,2,    292.0,2,    296.4,2,     4.69,2,     9.87,2,     0.32,2,     0.74,2, -999.000,9, -999.000,9, -999.000,9,        -999,9,   -999.0,9,   2318.1,2,   6.1756
  316N20020530,    82,  1,     27,     27,2,20020616, 70.0022,  -2.0792, 2866,     85.8,   5.7957,  35.1142,2,  35.1087,2,    289.1,2,    289.2,2,     5.08,2,    12.80,2,     0.05,2,     0.84,2,    4.495,2,    2.394,2,    0.385,2,    1.746604,2,   2127.0,2,   2315.2,2,   5.7885
  316N20020530,    82,  1,     26,     26,2,20020616, 70.0022,  -2.0792, 2866,    116.0,   5.4528,  35.0963,2,  35.0940,2,    292.9,2,    291.7,2,     4.98,2,    12.80,2,     0.03,2,     0.84,2, -999.000,9, -999.000,9, -999.000,9,        -999,9,   -999.0,9,   -999.0,9,   5.4434
  316N20020530,    82,  1,     25,     25,2,20020616, 70.0022,  -2.0792, 2866,    156.2,   4.9728,  35.0737,2,  35.0725,2,    296.6,2,    296.9,2,     5.08,2,    12.41,2,     0.03,2,     0.81,2,    4.726,2,    2.538,2,    0.409,2,  1.77592455,2,   -999.0,9,   -999.0,9,   4.9606
  316N20020530,    82,  1,     24,     24,2,20020616, 70.0022,  -2.0792, 2866,    195.7,   4.7166,  35.0762,2,  35.0763,2,    299.2,2,    300.0,2,     4.98,2,    12.41,2,     0.02,2,     0.80,2, -999.000,9, -999.000,9, -999.000,9,        -999,9,   2134.6,2,   2310.2,2,   4.7017
  316N20020530,    82,  1,     23,     23,2,20020616, 70.0022,  -2.0792, 2866,    255.3,   4.6803,  35.1210,2,  35.1199,2,    301.4,2,    298.9,2,     4.89,2,    12.31,2,     0.02,2,     0.80,2,    4.768,2,    2.545,2,    0.395,2,  1.81489182,2,   -999.0,9,   -999.0,9,   4.6608
  316N20020530,    82,  1,     22,     22,2,20020616, 70.0022,  -2.0792, 2866,    306.6,   4.2551,  35.0908,2,  35.0908,2,    302.5,2,    301.5,2,     4.98,2,    12.41,2,     0.01,2,     0.80,2, -999.000,9, -999.000,9, -999.000,9,        -999,9,   -999.0,9,   -999.0,9,   4.2326
  316N20020530,    82,  1,     21,     21,2,20020616, 70.0022,  -2.0792, 2866,    347.3,   4.2828,  35.1132,2,  35.1107,2,    303.6,2,    301.1,2,     4.98,2,    12.31,2,     0.01,2,     0.80,2,    4.812,6,    2.580,6,    0.400,6,   1.7661165,2,   2135.6,2,   2319.3,2,   4.2571
  316N20020530,    82,  1,     20,     20,2,20020616, 70.0022,  -2.0792, 2866,    407.5,   3.7159,  35.0683,2,  35.0592,2,    305.4,2,    304.9,2,     5.08,2,    12.51,2,     0.01,2,     0.82,2,    5.013,2,    2.681,2,    0.414,2,  1.77594213,2,   -999.0,9,   -999.0,9,   3.6874
  316N20020530,    82,  1,     19,     19,2,20020616, 70.0022,  -2.0792, 2866,    482.4,   2.7203,  34.9994,2,  34.9957,2,    307.8,2,    307.3,2,     5.28,2,    12.90,2,     0.01,2,     0.84,2,    5.196,2,    2.685,2,    0.418,2,  1.75650931,2,   2140.1,2,   2311.0,2,   2.6902
  316N20020530,    82,  1,     18,     18,2,20020616, 70.0022,  -2.0792, 2866,    558.6,   1.6157,  34.9432,2,  34.9391,2,    305.9,2,    308.3,2,     5.67,2,    13.39,2,     0.01,2,     0.88,2,    5.230,2,    2.645,2,    0.435,2,  1.61996017,2,   -999.0,9,   -999.0,9,   1.5855
  316N20020530,    82,  1,     17,     17,2,20020616, 70.0022,  -2.0792, 2866,    658.6,   0.4613,  34.8940,2,  34.8912,2,    314.1,2,    317.7,3,     5.96,3,    13.00,3,     0.01,3,     0.86,3,    5.029,2,    2.560,2,    0.414,2,  1.55170393,2,   2151.9,2,   2305.8,2,   0.4314
  316N20020530,    82,  1,     16,     16,2,20020616, 70.0022,  -2.0792, 2866,    759.2,   0.0075,  34.8924,2,  34.8870,2,    306.6,2,    306.6,2,     6.94,2,    13.88,2,     0.00,2,     0.92,2,    4.106,2,    2.016,2,    0.314,2,  1.23941519,2,   -999.0,9,   -999.0,9,  -0.0248
  316N20020530,    82,  1,     15,     15,2,20020616, 70.0022,  -2.0792, 2866,    860.1,  -0.2645,  34.8918,2,  34.8863,2,    306.6,2,    308.2,2,     7.52,2,    13.88,2,     0.00,2,     0.92,2,    3.722,2,    1.814,2,    0.268,2,  1.48339533,2,   2158.3,2,   2298.5,2,  -0.2999
  316N20020530,    82,  1,     14,     14,2,20020616, 70.0022,  -2.0792, 2866,    960.8,  -0.4274,  34.8918,2,  34.8892,2,    307.5,2,    308.6,2,     7.72,2,    14.07,2,     0.00,2,     0.93,2,    3.316,2,    1.640,2,    0.241,2,  1.94207259,2,   -999.0,9,   -999.0,9,  -0.4666
  316N20020530,    82,  1,     13,     13,2,20020616, 70.0022,  -2.0792, 2866,   1061.3,  -0.5489,  34.8946,2,  34.8939,2,    306.0,2,    306.4,2,     8.40,2,    14.07,2,     0.00,2,     0.94,2,    2.989,2,    1.477,2,    0.221,2,  2.24459866,2,   2161.3,2,   2299.5,2,  -0.5921
  316N20020530,    82,  1,     12,     12,2,20020616, 70.0022,  -2.0792, 2866,   1162.5,  -0.6169,  34.8981,2,  34.8980,2,    305.5,2,    304.0,2,     8.80,2,    14.27,2,     0.00,2,     0.95,2,    2.536,2,    1.280,2,    0.176,2,  2.17627814,2,   2163.5,2,   2299.6,2,  -0.6646
  316N20020530,    82,  1,     11,     11,2,20020616, 70.0022,  -2.0792, 2866,   1263.3,  -0.6813,  34.8985,7,  34.8973,2,    306.9,2,    306.1,2,     9.19,2,    14.27,2,     0.00,2,     0.95,2,    2.445,6,    1.203,6,    0.171,6,  2.22507478,2,   -999.0,9,   -999.0,9,  -0.7336
  316N20020530,    82,  1,     10,     10,2,20020616, 70.0022,  -2.0792, 2866,   1364.8,  -0.7187,  34.9027,2,  34.8998,2,    304.6,2,   -999.0,9,     9.58,2,    14.37,2,     0.00,2,     0.96,2,    1.911,2,    0.942,2,    0.117,2,  1.35651236,2,   -999.0,9,   -999.0,9,  -0.7761
  316N20020530,    82,  1,      9,      9,2,20020616, 70.0022,  -2.0792, 2866,   1465.7,  -0.7450,  34.9061,2,  34.9026,2,    301.8,2,    301.0,2,    10.16,2,    14.56,2,     0.00,2,     0.97,2,    1.488,2,    0.749,2,    0.087,2, 0.810002095,2,   2160.8,2,   2302.2,2,  -0.8076
  316N20020530,    82,  1,      8,      8,2,20020616, 70.0022,  -2.0792, 2866,   1591.3,  -0.7799,  34.9078,2,  34.9069,2,    300.2,2,    300.5,2,    10.65,2,    14.76,2,     0.00,2,     0.98,2,    1.125,2,    0.581,2,    0.062,2, 0.468433447,2,   -999.0,9,   -999.0,9,  -0.8492
  316N20020530,    82,  1,      7,      7,2,20020616, 70.0022,  -2.0792, 2866,   1743.2,  -0.8182,  34.9091,2,  34.9096,2,    299.5,2,    300.3,2,    11.04,2,    14.76,2,     0.00,2,     0.98,2,    0.894,2,    0.482,2,    0.048,2, 0.292770316,2,   2161.5,2,   2303.6,2,  -0.8959
  316N20020530,    82,  1,      6,      6,2,20020616, 70.0022,  -2.0792, 2866,   1920.6,  -0.8501,  34.9104,2,  34.9134,2,    299.3,2,    299.6,2,    11.53,2,    14.85,2,     0.00,2,     0.98,2,    0.740,2,    0.387,2,    0.042,2, 0.185420676,2,   2160.7,2,   2303.1,2,  -0.9383
  316N20020530,    82,  1,      5,      5,2,20020616, 70.0022,  -2.0792, 2866,   2123.4,  -0.8592,  34.9103,2,  34.9122,2,    299.3,2,    299.2,2,    11.73,2,    14.95,2,     0.00,2,     0.99,2,    0.651,2,    0.351,2,    0.030,2, 0.126866891,2,   -999.0,9,   -999.0,9,  -0.9603
  316N20020530,    82,  1,      4,      4,2,20020616, 70.0022,  -2.0792, 2866,   2325.7,  -0.8519,  34.9105,2,  34.9124,2,    299.5,2,    299.2,2,    11.82,2,    14.95,2,     0.00,2,     0.99,2,    0.623,2,    0.340,2,    0.029,2, 0.146384853,2,   -999.0,9,   -999.0,9,  -0.9668
  316N20020530,    82,  1,      3,      3,2,20020616, 70.0022,  -2.0792, 2866,   2528.7,  -0.8496,  34.9115,2,  34.9132,2,    298.7,2,    299.7,2,    12.22,2,    15.05,2,     0.00,2,     1.00,2,    0.572,2,    0.304,2,    0.031,2, 0.117107813,2,   2162.0,2,   2301.2,2,  -0.9790
  316N20020530,    82,  1,      2,      2,2,20020616, 70.0022,  -2.0792, 2866,   2705.6,  -0.8459,  34.9105,2,  34.9110,2,    298.3,2,    298.2,2,    12.51,2,    15.05,2,     0.00,2,     1.01,2,    0.503,2,    0.274,2,    0.025,2,0.0975900037,2,   2161.7,2,   2303.6,2,  -0.9885
  316N20020530,    82,  1,      1,      1,2,20020616, 70.0022,  -2.0792, 2866,   2872.1,  -0.8351,  34.9109,2,  34.9110,2,    298.0,2,    298.0,2,    12.51,2,    15.15,2,     0.00,2,     1.01,2,    0.493,2,    0.266,2,    0.022,2, 0.126867005,2,   2162.0,2,   2302.2,2,  -0.9907