BOTTLE,20081218PRINUNIVRMK
EXPOCODE,STNNBR,CASTNO,SAMPNO,BTLNBR,BTLNBR_FLAG_W,DATE,LATITUDE,LONGITUDE,DEPTH,CTDPRS,CTDTMP,CTDSAL,CTDSAL_FLAG_W,SALNTY,SALNTY_FLAG_W,CTDOXY,CTDOXY_FLAG_W,OXYGEN,OXYGEN_FLAG_W,SILCAT,SILCAT_FLAG_W,NITRAT,NITRAT_FLAG_W,NITRIT,NITRIT_FLAG_W,PHSPHT,PHSPHT_FLAG_W,CFC-11,CFC-11_FLAG_W,CFC-12,CFC-12_FLAG_W,CFC113,CFC113_FLAG_W,SF6,SF6_FLAG_W,TCARBN,TCARBN_FLAG_W,ALKALI,ALKALI_FLAG_W,THETA
,,,,,,,,,METERS,DBARS,ITS-90,PSS-78,,PSS-78,,UMOL/KG,,UMOL/KG,,UMOL/KG,,UMOL/KG,,UMOL/KG,,UMOL/KG,,PMOL/KG,,PMOL/KG,,PMOL/KG,,FMOL/KG,,UMOL/KG,,UMOL/KG,,DEGC
  316N20020530,   110,  1,     28,     28,2,20020622, 66.0038,   0.5898, 3079,      4.8,  11.0750,  34.9278,2,  34.9253,2,    287.9,2,    288.3,2,     0.59,2,     0.10,2,     0.01,2,     0.10,2,    3.853,2,    2.066,2,    0.320,2,  1.69804799,2,   2055.7,2,   2299.8,2,  11.0744
  316N20020530,   110,  1,     27,     27,2,20020622, 66.0038,   0.5898, 3079,     25.1,   8.2777,  35.0350,2,  35.0206,2,    304.4,2,    309.7,2,     1.66,2,     3.71,2,     0.06,2,     0.32,2, -999.000,9, -999.000,9, -999.000,9,        -999,9,   2087.3,2,   2302.0,2,   8.2751
  316N20020530,   110,  1,     26,     26,2,20020622, 66.0038,   0.5898, 3079,     44.6,   6.3160,  35.0680,2,  35.0615,2,    291.9,2,    291.8,2,     4.59,2,     9.67,2,     0.27,2,     0.75,2,    4.613,2,    2.457,2,    0.401,2,  1.96133933,2,   -999.0,9,   -999.0,9,   6.3121
  316N20020530,   110,  1,     25,     25,2,20020622, 66.0038,   0.5898, 3079,     85.3,   4.8574,  35.0264,2,  35.0160,2,    298.6,2,    298.2,2,     5.28,2,    12.61,2,     0.10,2,     0.84,2,    4.835,2,    2.539,2,    0.405,2,  1.99068047,2,   2141.6,2,   2291.8,2,   4.8509
  316N20020530,   110,  1,     24,     24,2,20020622, 66.0038,   0.5898, 3079,    125.2,   4.0892,  34.9917,2,  34.9875,2,    303.5,2,    303.5,2,     5.08,2,    12.51,2,     0.02,2,     0.83,2, -999.000,9, -999.000,9, -999.000,9,        -999,9,   2143.0,2,   2291.7,2,   4.0804
  316N20020530,   110,  1,     23,     23,2,20020622, 66.0038,   0.5898, 3079,    165.1,   3.5169,  34.9643,7,  34.9610,2,    306.7,2,    303.2,2,     5.28,2,    12.70,2,     0.02,2,     0.84,2,    4.947,2,    2.586,2,    0.417,2,   2.0493138,2,   -999.0,9,   -999.0,9,   3.5060
  316N20020530,   110,  1,     22,     22,2,20020622, 66.0038,   0.5898, 3079,    204.9,   3.1737,  34.9694,2,  34.9665,2,    308.7,2,    309.1,2,     4.89,2,    12.31,2,     0.02,2,     0.82,2,    5.205,2,    2.710,2,    0.449,2,  2.12737419,2,   -999.0,9,   -999.0,9,   3.1606
  316N20020530,   110,  1,     21,     21,2,20020622, 66.0038,   0.5898, 3079,    250.2,   2.7774,  34.9728,2,  34.9692,2,    310.6,2,    311.2,2,     4.89,2,    12.31,2,     0.01,2,     0.82,2,    5.311,2,    2.760,2,    0.448,2,  2.11761133,2,   -999.0,9,   -999.0,9,   2.7621
  316N20020530,   110,  1,     20,     20,2,20020622, 66.0038,   0.5898, 3079,    295.4,   2.2564,  34.9582,2,  34.9541,2,    308.4,2,    308.2,2,     5.28,2,    13.00,2,     0.02,2,     0.86,2,    5.362,2,    2.727,2,    0.463,2,  1.94197877,2,   2152.9,2,   2292.1,2,   2.2395
  316N20020530,   110,  1,     19,     19,2,20020622, 66.0038,   0.5898, 3079,    340.6,   1.4886,  34.9240,2,  34.9214,2,    304.0,2,    304.2,2,     5.77,2,    13.58,2,     0.01,2,     0.91,2,    5.252,2,    2.652,2,    0.391,2,  1.80540109,2,   -999.0,9,   -999.0,9,   1.4712
  316N20020530,   110,  1,     18,     18,2,20020622, 66.0038,   0.5898, 3079,    436.7,   0.4625,  34.8911,2,  34.8900,2,    303.9,2,    304.0,2,     6.55,2,    14.07,2,     0.01,2,     0.95,2,    4.830,2,    2.382,2,    0.358,2,  1.53218701,2,   2159.0,2,   2287.4,2,   0.4435
  316N20020530,   110,  1,     17,     17,2,20020622, 66.0038,   0.5898, 3079,    527.2,   0.0531,  34.8874,2,  34.8862,2,    304.9,2,    303.9,2,     7.04,2,    14.07,2,     0.01,2,     0.95,2,    4.436,2,    2.158,2,    0.325,2,  1.31748937,2,   -999.0,9,   -999.0,9,   0.0316
  316N20020530,   110,  1,     16,     16,2,20020622, 66.0038,   0.5898, 3079,    637.1,  -0.2564,  34.8888,2,  34.8880,2,    305.1,2,    304.9,2,     7.43,2,    14.17,2,     0.00,2,     0.95,2,    3.981,2,    1.921,2,    0.276,2,  1.58098513,2,   2161.4,2,   2287.9,2,  -0.2814
  316N20020530,   110,  1,     15,     15,2,20020622, 66.0038,   0.5898, 3079,    745.6,  -0.4247,  34.8903,2,  34.8890,2,    305.7,2,    305.5,2,     7.82,2,    14.17,2,     0.00,2,     0.95,2,    3.645,2,    1.771,2,    0.261,2,  1.88351792,2,   2158.8,2,   2289.6,2,  -0.4537
  316N20020530,   110,  1,     14,     14,2,20020622, 66.0038,   0.5898, 3079,    854.5,  -0.5163,  34.8941,2,  34.8929,2,    304.1,2,    304.4,2,     8.21,2,    14.27,2,     0.00,2,     0.96,2,    3.239,6,    1.558,6,    0.223,6,   2.2348412,2,   -999.0,9,   -999.0,9,  -0.5497
  316N20020530,   110,  1,     13,     13,2,20020622, 66.0038,   0.5898, 3079,    952.8,  -0.5822,  34.8984,2,  34.8961,2,    302.6,2,    302.2,2,     8.80,2,    14.46,2,     0.00,2,     0.97,2,    2.729,2,    1.289,2,    0.150,2,  2.20555855,2,   -999.0,9,   -999.0,9,  -0.6198
  316N20020530,   110,  1,     12,     12,2,20020622, 66.0038,   0.5898, 3079,   1054.3,  -0.6284,  34.9004,2,  34.8998,2,    301.0,2,    300.7,2,     9.19,2,    14.46,2,     0.00,2,     0.98,2,    2.355,2,    1.132,2,    0.134,2,  2.05916625,2,   -999.0,9,   -999.0,9,  -0.6705
  316N20020530,   110,  1,     11,     11,2,20020622, 66.0038,   0.5898, 3079,   1153.1,  -0.6700,  34.9037,2,  34.9026,2,    299.8,2,    299.7,2,     9.67,2,    14.56,2,     0.00,2,     0.98,2,    2.022,2,    1.004,2,    0.114,2,  1.48337733,2,   2159.5,2,   2290.4,2,  -0.7167
  316N20020530,   110,  1,     10,     10,2,20020622, 66.0038,   0.5898, 3079,   1253.0,  -0.7051,  34.9066,2,  34.9041,2,    299.0,2,    298.8,2,     9.97,2,    14.66,2,     0.00,2,     0.99,2,    1.639,2,    0.777,2,    0.079,2,   1.0051822,2,   -999.0,9,   -999.0,9,  -0.7566
  316N20020530,   110,  1,      9,      9,2,20020622, 66.0038,   0.5898, 3079,   1402.7,  -0.7522,  34.9083,2,  34.9069,2,    298.3,2,    298.1,2,    10.75,2,    14.85,2,     0.00,2,     1.00,2,    1.264,2,    0.620,2,    0.054,2, 0.517228598,2,   2158.8,2,   2292.1,2,  -0.8113
  316N20020530,   110,  1,      8,      8,2,20020622, 66.0038,   0.5898, 3079,   1601.8,  -0.8081,  34.9100,2,  34.9087,2,    297.7,2,    298.6,2,    11.04,2,    14.95,2,     0.00,2,     1.00,2,    0.902,6,    0.439,6,    0.039,6, 0.273252478,2,   -999.0,9,   -999.0,9,  -0.8777
  316N20020530,   110,  1,      7,      7,2,20020622, 66.0038,   0.5898, 3079,   1798.9,  -0.8400,  34.9112,2,  34.9093,2,    297.7,2,    298.5,2,    11.43,2,    14.95,2,     0.00,2,     1.01,2,    0.739,2,    0.372,2,    0.032,2, 0.156144203,2,   2159.0,2,   -999.0,9,  -0.9208
  316N20020530,   110,  1,      6,      6,2,20020622, 66.0038,   0.5898, 3079,   2051.8,  -0.8596,  34.9107,2,  34.9099,2,    297.8,2,    297.7,2,    11.92,2,    15.05,2,     0.00,2,     1.01,2,    0.645,2,    0.336,2,    0.028,2,0.0878310752,2,   -999.0,9,   -999.0,9,  -0.9560
  316N20020530,   110,  1,      5,      5,2,20020622, 66.0038,   0.5898, 3079,   2309.1,  -0.8687,  34.9109,2,  34.9089,2,    297.8,2,    298.5,2,    12.22,2,    15.25,2,     0.00,2,     1.01,2, -999.000,9, -999.000,9, -999.000,9, 0.146385234,2,   2159.1,2,   2295.0,2,  -0.9821
  316N20020530,   110,  1,      4,      4,2,20020622, 66.0038,   0.5898, 3079,   2568.0,  -0.8661,  34.9113,2,  34.9093,2,    297.4,2,    298.6,2,    12.70,2,    15.34,2,     0.00,2,     1.02,2,    0.469,2,    0.258,2,    0.018,2,0.0780721017,2,   -999.0,9,   -999.0,9,  -0.9980
  316N20020530,   110,  1,      3,      3,2,20020622, 66.0038,   0.5898, 3079,   2826.0,  -0.8581,  34.9122,2,  34.9081,2,    297.3,2,    297.1,2,    13.19,2,    15.44,2,     0.00,2,     1.03,2, -999.000,9, -999.000,9, -999.000,9,0.0878311929,2,   -999.0,9,   -999.0,9,  -1.0096
  316N20020530,   110,  1,      2,      2,2,20020622, 66.0038,   0.5898, 3079,   2970.1,  -0.8541,  34.9122,2,  34.9095,2,    297.1,2,    297.0,2,    13.39,2,    15.44,2,     0.00,2,     1.03,2,    0.349,2,    0.196,2,    0.013,2,0.0780720901,2,   2161.2,2,   2293.4,2,  -1.0170
  316N20020530,   110,  1,      1,      1,2,20020622, 66.0038,   0.5898, 3079,   3072.6,  -0.8458,  34.9121,2,  34.9091,2,    297.0,2,    296.9,2,    13.49,2,    15.44,2,     0.00,2,     1.03,2,    0.359,2,    0.197,2,    0.014,2,0.0683130992,2,   2161.5,2,   2295.0,2,  -1.0172
  316N20020530,   111,  1,     26,     26,2,20020622, 66.0047,   1.8358, 2140,      3.7,  12.4279,  35.2472,2,  35.2452,2,    291.9,2,    292.4,2,     1.56,2,     2.25,2,     0.06,2,     0.22,2,    3.485,2,    1.928,2,    0.316,2,  1.63910424,2,   2059.8,2,   2314.0,2,  12.4274
  316N20020530,   111,  1,     25,     25,2,20020622, 66.0047,   1.8358, 2140,     29.7,  10.1812,  35.2647,2,  35.2674,2,    294.7,2,    294.7,2,     2.44,2,     5.96,2,     0.17,2,     0.49,2, -999.000,9, -999.000,9, -999.000,9,        -999,9,   2096.7,2,   2313.0,2,  10.1777
  316N20020530,   111,  1,     24,     24,2,20020622, 66.0047,   1.8358, 2140,     50.1,   8.9287,  35.3052,2,  35.3045,2,    270.7,2,    272.8,2,     3.42,2,    10.84,2,     0.22,2,     0.70,2,    3.807,2,    2.078,2,    0.332,2,  1.69756875,2,   2129.8,2,   2311.5,2,   8.9233
  316N20020530,   111,  1,     23,     23,2,20020622, 66.0047,   1.8358, 2140,     80.7,   8.5407,  35.2935,2,  35.2915,2,    276.0,2,    273.2,2,     4.69,2,    12.11,2,     0.03,2,     0.77,2, -999.000,9, -999.000,9, -999.000,9,        -999,9,   2128.8,2,   2312.7,2,   8.5322
  316N20020530,   111,  1,     22,     22,2,20020622, 66.0047,   1.8358, 2140,    105.3,   8.2359,  35.2694,2,  35.2668,2,    277.8,2,    277.6,2,     4.69,2,    11.43,2,     0.03,2,     0.73,2,    4.000,2,    2.174,2,    0.356,2,  1.78542413,2,   2134.2,2,   2308.0,2,   8.2251
  316N20020530,   111,  1,     21,     21,2,20020622, 66.0047,   1.8358, 2140,    130.4,   7.9657,  35.2589,2,  35.2562,2,    277.2,2,    277.4,2,     5.18,2,    12.41,2,     0.01,2,     0.79,2, -999.000,9, -999.000,9, -999.000,9,        -999,9,   -999.0,9,   -999.0,9,   7.9525
  316N20020530,   111,  1,     20,     20,2,20020622, 66.0047,   1.8358, 2140,    155.3,   7.5538,  35.2268,2,  35.2235,2,    279.0,2,    279.2,2,     5.76,2,    13.09,2,     0.01,2,     0.84,2,    4.159,2,    2.206,2,    0.371,2,  1.76596822,2,   2140.2,2,   2307.0,2,   7.5386
  316N20020530,   111,  1,     19,     19,2,20020622, 66.0047,   1.8358, 2140,    206.1,   6.9694,  35.2023,2,  35.1995,2,    282.9,2,    282.7,2,     5.67,2,    13.29,2,     0.01,2,     0.86,2,    4.106,2,    2.227,2,    0.352,2,        -999,9,   2144.3,2,   2307.2,2,   6.9501
  316N20020530,   111,  1,     18,     18,2,20020622, 66.0047,   1.8358, 2140,    255.5,   6.3553,  35.1507,2,  35.1497,2,    285.9,2,    284.8,2,     6.06,2,    13.48,2,     0.01,2,     0.88,2,    4.222,2,    2.240,2,    0.361,2,   1.8343661,2,   -999.0,9,   -999.0,9,   6.3325
  316N20020530,   111,  1,     17,     17,2,20020622, 66.0047,   1.8358, 2140,    306.1,   5.4133,  35.0785,2,  35.0786,2,    287.8,2,    287.8,2,     5.96,2,    13.29,2,     0.01,2,     0.88,2,    4.269,6,    2.304,6,    0.366,6,  1.85397875,2,   2144.0,2,   2301.2,2,   5.3881
  316N20020530,   111,  1,     16,     16,2,20020622, 66.0047,   1.8358, 2140,    381.4,   3.1909,  34.9403,2,  34.9396,2,    299.9,2,    299.9,2,     6.06,2,    13.19,2,     0.01,2,     0.89,2,    4.854,2,    2.499,2,    0.402,2,  1.91272335,2,   -999.0,9,   2291.7,2,   3.1660
  316N20020530,   111,  1,     15,     15,2,20020622, 66.0047,   1.8358, 2140,    432.2,   1.8350,  34.8913,2,  34.8903,2,    302.6,2,    313.0,3,     5.37,3,    12.70,3,     0.01,3,     0.85,3,    5.690,2,    2.800,2,    0.475,2,  2.07869911,2,   2154.0,2,   2291.7,2,   1.8114
  316N20020530,   111,  1,     14,     14,2,20020622, 66.0047,   1.8358, 2140,    507.7,   0.7698,  34.8912,7,  34.8932,2,    305.1,2,    307.9,2,     6.35,2,    13.78,2,     0.00,2,     0.92,2,    5.155,2,    2.518,2,    0.396,2,  1.69808856,2,   2164.3,2,   2293.4,2,   0.7461
  316N20020530,   111,  1,     13,     13,2,20020622, 66.0047,   1.8358, 2140,    608.7,   0.0726,  34.8891,2,  34.8905,2,    301.9,2,    303.3,2,     7.43,2,    14.27,2,     0.00,2,     0.96,2,    4.062,2,    2.011,2,    0.306,2,  1.49314984,2,   2164.8,2,   2292.3,2,   0.0472
  316N20020530,   111,  1,     12,     12,2,20020622, 66.0047,   1.8358, 2140,    708.6,  -0.2933,  34.8881,7,  34.8897,2,    305.3,2,    305.9,2,     7.62,2,    14.17,2,     0.00,2,     0.95,2,    3.901,2,    1.890,2,    0.287,2,  1.79568454,2,   -999.0,9,   -999.0,9,  -0.3214
  316N20020530,   111,  1,     11,     11,2,20020622, 66.0047,   1.8358, 2140,    809.7,  -0.4472,  34.8914,2,  34.8922,2,    304.7,2,    305.0,2,     8.11,2,    14.17,2,     0.00,2,     0.95,2,    3.354,2,    1.669,2,    0.242,2,  2.11773272,2,   2167.9,2,   2292.1,2,  -0.4790
  316N20020530,   111,  1,     10,     10,2,20020622, 66.0047,   1.8358, 2140,    910.6,  -0.5263,  34.8947,2,  34.8948,2,    303.6,2,    303.8,2,     8.60,2,    14.27,2,     0.00,2,     0.96,2,    3.064,2,    1.503,2,    0.213,2,  2.40074304,2,   -999.0,9,   -999.0,9,  -0.5623
  316N20020530,   111,  1,      9,      9,2,20020622, 66.0047,   1.8358, 2140,   1011.4,  -0.5983,  34.8978,7,  34.8972,2,    302.1,2,    302.3,2,     9.09,2,    14.37,2,     0.00,2,     0.97,2,    2.602,2,    1.264,2,    0.179,2,  2.37146145,2,   2166.8,2,   2291.3,2,  -0.6386
  316N20020530,   111,  1,      8,      8,2,20020622, 66.0047,   1.8358, 2140,   1112.2,  -0.6482,  34.8999,2,  34.9013,2,    301.5,2,    301.3,2,     9.38,3,    14.37,2,     0.00,2,     0.98,2,    2.271,6,    1.093,6,    0.147,6,  2.01036859,2,   -999.0,9,   -999.0,9,  -0.6931
  316N20020530,   111,  1,      7,      7,2,20020622, 66.0047,   1.8358, 2140,   1213.4,  -0.6922,  34.9042,2,  34.9044,2,    300.6,2,    300.0,2,     9.97,2,    14.56,2,     0.00,2,     0.98,2,    1.945,2,    0.915,2,    0.123,2,   1.4540982,2,   2164.0,2,   2292.3,2,  -0.7418
  316N20020530,   111,  1,      6,      6,2,20020622, 66.0047,   1.8358, 2140,   1364.3,  -0.7419,  34.9077,2,  34.9070,2,    299.2,2,    298.7,2,    10.65,2,    14.66,2,     0.00,2,     0.99,2,    1.483,2,    0.712,2,    0.091,2, 0.888071678,2,   -999.0,9,   -999.0,9,  -0.7990
  316N20020530,   111,  1,      5,      5,2,20020622, 66.0047,   1.8358, 2140,   1516.4,  -0.7795,  34.9090,2,  34.9080,2,    298.2,2,    298.3,2,    11.14,2,    14.76,2,     0.00,2,     1.00,2,    1.213,2,    0.586,2,    0.075,2, 0.575782308,2,   2161.2,2,   2291.2,2,  -0.8445
  316N20020530,   111,  1,      4,      4,2,20020622, 66.0047,   1.8358, 2140,   1668.3,  -0.8116,  34.9101,2,  34.9098,2,    297.7,2,    297.9,2,    11.43,2,    14.85,2,     0.00,2,     1.00,2,    0.990,2,    0.482,2,    0.063,2, 0.351324327,2,   -999.0,9,   -999.0,9,  -0.8850
  316N20020530,   111,  1,      3,      3,2,20020622, 66.0047,   1.8358, 2140,   1820.3,  -0.8346,  34.9103,2,  34.9094,2,    297.6,2,    297.8,2,    11.82,2,    14.95,2,     0.00,2,     1.01,2,    0.844,2,    0.410,2,    0.050,2,   0.2439753,2,   -999.0,9,   -999.0,9,  -0.9168
  316N20020530,   111,  1,      2,      2,2,20020622, 66.0047,   1.8358, 2140,   2021.7,  -0.8604,  34.9105,2,  34.9102,2,    297.3,2,    297.3,2,    12.31,2,    15.05,2,     0.00,2,     1.01,2,    0.669,2,    0.332,2,    0.035,2,  0.12686708,2,   2163.8,2,   2296.3,2,  -0.9548
  316N20020530,   111,  1,      1,      1,2,20020622, 66.0047,   1.8358, 2140,   2120.5,  -0.8695,  34.9106,2,  34.9092,2,    297.0,2,    297.0,2,    12.51,2,    15.15,2,     0.00,2,     1.02,2,    0.615,2,    0.307,2, -999.000,9,        -999,9,   2163.5,2,   2292.8,2,  -0.9702