BOTTLE,20081218PRINUNIVRMK
EXPOCODE,STNNBR,CASTNO,SAMPNO,BTLNBR,BTLNBR_FLAG_W,DATE,LATITUDE,LONGITUDE,DEPTH,CTDPRS,CTDTMP,CTDSAL,CTDSAL_FLAG_W,SALNTY,SALNTY_FLAG_W,CTDOXY,CTDOXY_FLAG_W,OXYGEN,OXYGEN_FLAG_W,SILCAT,SILCAT_FLAG_W,NITRAT,NITRAT_FLAG_W,NITRIT,NITRIT_FLAG_W,PHSPHT,PHSPHT_FLAG_W,CFC-11,CFC-11_FLAG_W,CFC-12,CFC-12_FLAG_W,CFC113,CFC113_FLAG_W,SF6,SF6_FLAG_W,TCARBN,TCARBN_FLAG_W,ALKALI,ALKALI_FLAG_W,THETA
,,,,,,,,,METERS,DBARS,ITS-90,PSS-78,,PSS-78,,UMOL/KG,,UMOL/KG,,UMOL/KG,,UMOL/KG,,UMOL/KG,,UMOL/KG,,PMOL/KG,,PMOL/KG,,PMOL/KG,,FMOL/KG,,UMOL/KG,,UMOL/KG,,DEGC
  316N20020530,   112,  1,     24,     24,2,20020622, 65.9993,   2.9967, 1472,      2.4,  11.2450,  35.1547,2,  35.1826,2,    280.5,2,    288.2,2,     1.95,2,     4.20,2,     0.11,2,     0.28,2,    3.678,2,    1.996,2,    0.295,2,  1.64893765,2,   2084.1,2,   2315.6,2,  11.2447
  316N20020530,   112,  1,     23,     23,2,20020622, 65.9993,   2.9967, 1472,     35.6,   8.6890,  35.3150,2,  35.3197,2,    268.2,2,    268.5,2,     4.98,2,    12.31,2,     0.03,2,     0.79,2, -999.000,9, -999.000,9, -999.000,9,        -999,9,   2132.5,2,   2312.3,2,   8.6852
  316N20020530,   112,  1,     22,     22,2,20020622, 65.9993,   2.9967, 1472,     55.5,   8.5708,  35.3117,2,  35.3122,2,    270.0,2,    269.2,2,     5.08,2,    12.41,2,     0.02,2,     0.80,2,    3.799,2,    2.064,2,    0.296,2,  1.64877859,2,   2139.6,2,   2313.9,2,   8.5650
  316N20020530,   112,  1,     21,     21,2,20020622, 65.9993,   2.9967, 1472,     80.8,   8.4706,  35.3069,7,  35.3079,2,    270.5,2,    270.3,2,     5.18,2,    12.51,2,     0.01,2,     0.80,2, -999.000,9, -999.000,9, -999.000,9,        -999,9,   -999.0,9,   2312.4,2,   8.4622
  316N20020530,   112,  1,     20,     20,2,20020622, 65.9993,   2.9967, 1472,    105.9,   8.4278,  35.3056,2,  35.3056,2,    271.4,2,    270.7,2,     5.18,2,    12.60,2,     0.01,2,     0.80,2,    3.872,2,    2.090,2,    0.301,2,  1.64878669,2,   2138.7,2,   2312.3,2,   8.4167
  316N20020530,   112,  1,     19,     19,2,20020622, 65.9993,   2.9967, 1472,    146.1,   8.2987,  35.2946,2,  35.2963,2,    272.3,2,    271.9,2,     5.18,2,    12.60,2,     0.01,2,     0.80,2,    3.888,2,    2.103,2,    0.308,2,  1.69757911,2,   -999.0,9,   -999.0,9,   8.2836
  316N20020530,   112,  1,     18,     18,2,20020622, 65.9993,   2.9967, 1472,    196.5,   8.0581,  35.2769,2,  35.2770,2,    272.3,2,    273.4,2,     5.18,2,    12.41,2,     0.01,2,     0.80,2,    3.975,2,    2.143,2,    0.302,2,  1.73662887,2,   2142.4,2,   2310.2,2,   8.0380
  316N20020530,   112,  1,     17,     17,2,20020622, 65.9993,   2.9967, 1472,    246.8,   7.7830,  35.2585,2,  35.2573,2,    276.0,2,    276.3,2,     5.18,2,    12.51,2,     0.01,2,     0.81,2,    4.005,2,    2.158,2,    0.321,2,  1.80494973,2,   -999.0,9,   -999.0,9,   7.7582
  316N20020530,   112,  1,     16,     16,2,20020622, 65.9993,   2.9967, 1472,    307.0,   7.3453,  35.2215,2,  35.2213,2,    281.4,2,    281.0,2,     5.08,2,    12.51,2,     0.01,2,     0.81,2,    4.163,2,    2.244,2,    0.324,2,   1.7854846,2,   -999.0,9,   -999.0,9,   7.3154
  316N20020530,   112,  1,     15,     15,2,20020622, 65.9993,   2.9967, 1472,    347.4,   6.9836,  35.1941,7,  35.1937,2,    282.8,2,    282.3,2,     5.08,2,    12.51,2,     0.01,2,     0.82,2,    4.224,6,    2.250,6,    0.333,6,  1.85381991,2,   -999.0,9,   -999.0,9,   6.9506
  316N20020530,   112,  1,     14,     14,2,20020622, 65.9993,   2.9967, 1472,    387.1,   6.7030,  35.1800,2,  35.1811,2,    285.4,2,    284.6,2,     4.89,2,    12.41,2,     0.01,2,     0.80,2,    4.352,2,    2.313,2,    0.341,2,  1.93189361,2,   2141.7,2,   2304.9,2,   6.6670
  316N20020530,   112,  1,     13,     13,2,20020622, 65.9993,   2.9967, 1472,    447.4,   6.6901,  35.1791,2,  35.1805,2,    286.6,2,    286.1,2,     4.79,2,    12.21,2,     0.01,2,     0.79,2,    4.386,2,    2.308,2,    0.353,2,  1.84408108,2,   2138.4,2,   2305.9,2,   6.6483
  316N20020530,   112,  1,     12,     12,2,20020622, 65.9993,   2.9967, 1472,    507.7,   6.3504,  35.1521,2,  35.1534,2,    285.2,2,    286.3,2,     5.18,2,    12.70,2,     0.01,2,     0.82,2,    4.323,2,    2.325,2,    0.348,2,  1.86363276,2,   2141.8,2,   2301.0,2,   6.3041
  316N20020530,   112,  1,     11,     11,2,20020622, 65.9993,   2.9967, 1472,    578.5,   5.7122,  35.1140,2,  35.1162,2,    289.7,2,    289.3,2,     5.28,2,    12.70,2,     0.01,2,     0.83,2,    4.477,2,    2.379,2,    0.357,2,  1.91247192,2,   2147.0,2,   2302.5,2,   5.6620
  316N20020530,   112,  1,     10,     10,2,20020622, 65.9993,   2.9967, 1472,    649.4,   4.3584,  35.0201,2,  35.0148,2,    294.0,2,    293.9,2,     5.86,2,    13.29,2,     0.01,2,     0.87,2,    4.603,2,    2.401,2,    0.366,2,  1.90285803,2,   -999.0,9,   -999.0,9,   4.3086
  316N20020530,   112,  1,      9,      9,2,20020622, 65.9993,   2.9967, 1472,    739.7,   1.2364,  34.9118,2,  34.9107,2,    302.4,2,    301.7,2,     6.65,2,    14.07,2,     0.00,2,     0.94,2,    4.753,6,    2.385,6,    0.376,6,  1.65903043,2,   2166.2,2,   2288.9,2,   1.1976
  316N20020530,   112,  1,      8,      8,2,20020622, 65.9993,   2.9967, 1472,    808.2,   0.2927,  34.8933,2,  34.8964,2,    300.3,2,    301.1,2,     7.23,2,    14.46,2,     0.00,2,     0.96,2,    4.273,2,    2.064,2,    0.286,2,  1.41507043,2,   -999.0,9,   -999.0,9,   0.2561
  316N20020530,   112,  1,      7,      7,2,20020622, 65.9993,   2.9967, 1472,    908.5,  -0.3155,  34.8951,2,  34.8994,2,    298.8,2,    298.9,2,     8.40,2,    14.66,2,     0.00,2,     0.98,2,    3.159,2,    1.501,2,    0.194,2,  1.38579002,2,   -999.0,9,   -999.0,9,  -0.3530
  316N20020530,   112,  1,      6,      6,2,20020622, 65.9993,   2.9967, 1472,    958.9,  -0.4316,  34.8964,2,  34.9007,2,    298.4,2,    297.6,2,     8.89,2,    14.66,2,     0.00,2,     0.98,2, -999.000,9, -999.000,9, -999.000,9,  1.47362035,2,   -999.0,9,   -999.0,9,  -0.4707
  316N20020530,   112,  1,      5,      5,2,20020622, 65.9993,   2.9967, 1472,   1008.5,  -0.5524,  34.9006,2,  34.9023,2,    298.2,2,    298.3,2,     9.38,2,    14.76,2,     0.00,2,     0.98,2,    2.374,2,    1.140,2,    0.130,2,  1.44434141,2,   -999.0,9,   -999.0,9,  -0.5929
  316N20020530,   112,  1,      4,      4,2,20020622, 65.9993,   2.9967, 1472,   1109.0,  -0.6807,  34.9053,2,  34.9071,2,    297.1,2,    297.7,2,    10.55,2,    14.85,2,     0.00,2,     1.00,2,    1.650,2,    0.788,2,    0.079,2, 0.868553554,2,   -999.0,9,   -999.0,9,  -0.7251
  316N20020530,   112,  1,      3,      3,2,20020622, 65.9993,   2.9967, 1472,   1234.3,  -0.7968,  34.9085,2,  34.9124,2,    296.3,2,    296.1,2,    11.63,2,    15.05,2,     0.00,2,     1.01,2,    1.108,2,    0.542,2,    0.056,2, 0.400118598,2,   -999.0,9,   -999.0,9,  -0.8465
  316N20020530,   112,  1,      2,      2,2,20020622, 65.9993,   2.9967, 1472,   1360.7,  -0.8661,  34.9091,2,  34.9116,2,    295.3,2,    295.4,2,    12.61,2,    15.25,2,     0.00,2,     1.03,2,    0.787,2,    0.396,2,    0.043,2, 0.214697912,2,   -999.0,9,   -999.0,9,  -0.9216
  316N20020530,   112,  1,      1,      1,2,20020622, 65.9993,   2.9967, 1472,   1460.1,  -0.8900,  34.9096,2,  34.9110,2,    294.9,2,    295.0,2,    12.90,2,    15.25,2,     0.00,2,     1.04,2,    0.679,2,    0.348,2,    0.029,2, 0.175662007,2,   -999.0,9,   -999.0,9,  -0.9506
  316N20020530,   113,  1,     21,     21,2,20020622, 66.0023,   4.2995, 1327,      3.5,  12.3287,  35.1522,2,  35.1547,2,    278.1,2,    282.6,2,     1.47,2,     1.56,2,     0.07,2,     0.15,2,    3.412,2,    1.921,2,    0.297,2,  1.61970021,2,   2061.2,2,   2307.4,2,  12.3282
  316N20020530,   113,  1,     20,     20,2,20020622, 66.0023,   4.2995, 1327,     18.1,  10.0165,  35.1590,2,  35.2516,2,    301.3,2,    301.0,2,     3.03,2,     6.55,2,     0.26,2,     0.46,2, -999.000,9, -999.000,9, -999.000,9,        -999,9,   2102.2,2,   2308.0,2,  10.0144
  316N20020530,   113,  1,     19,     19,2,20020622, 66.0023,   4.2995, 1327,     35.1,   8.6550,  35.2807,2,  35.2837,2,    276.6,2,    276.5,2,     4.01,2,    10.45,2,     0.33,2,     0.68,2,    3.880,2,    2.144,2,    0.339,2,  1.78540167,2,   2126.5,2,   2309.4,2,   8.6513
  316N20020530,   113,  1,     18,     18,2,20020622, 66.0023,   4.2995, 1327,     69.5,   8.1980,  35.2643,2,  35.2658,2,    276.5,2,    275.2,2,     4.79,2,    11.72,2,     0.02,2,     0.75,2, -999.000,9, -999.000,9, -999.000,9,        -999,9,   2135.4,2,   2306.4,2,   8.1909
  316N20020530,   113,  1,     17,     17,2,20020622, 66.0023,   4.2995, 1327,    101.4,   7.8393,  35.2370,2,  35.2384,2,    276.8,2,    278.6,2,     4.49,2,    11.33,2,     0.05,2,     0.73,2,    4.011,2,    2.191,2,    0.344,2,   1.7952185,2,   2133.2,2,   2304.6,2,   7.8292
  316N20020530,   113,  1,     16,     16,2,20020622, 66.0023,   4.2995, 1327,    131.4,   7.5637,  35.2263,2,  35.2284,2,    279.4,2,    279.6,2,     4.89,2,    11.82,2,     0.01,2,     0.77,2,    3.973,2,    2.202,2,    0.350,2,  1.89279881,2,   2136.9,2,   2304.0,2,   7.5508
  316N20020530,   113,  1,     15,     15,2,20020622, 66.0023,   4.2995, 1327,    191.5,   6.9970,  35.1965,2,  35.1955,2,    283.3,2,    281.7,2,     5.18,2,    12.51,2,     0.01,2,     0.83,2,    4.129,2,    2.246,2,    0.361,2,   1.8733313,2,   2139.1,2,   2303.1,2,   6.9790
  316N20020530,   113,  1,     14,     14,2,20020622, 66.0023,   4.2995, 1327,    251.3,   6.6615,  35.1760,2,  35.1768,2,    286.5,2,    285.6,2,     4.79,2,    12.21,2,     0.01,2,     0.81,2,    4.275,2,    2.359,2,    0.362,2,  1.91238565,2,   2139.0,2,   2303.3,2,   6.6384
  316N20020530,   113,  1,     13,     13,2,20020622, 66.0023,   4.2995, 1327,    306.8,   6.3412,  35.1541,2,  35.1544,2,    287.1,2,    286.5,2,     5.08,2,    12.41,2,     0.01,2,     0.82,2,    4.364,6,    2.321,6,    0.360,6,  1.88314584,2,   -999.0,9,   -999.0,9,   6.3137
  316N20020530,   113,  1,     12,     12,2,20020622, 66.0023,   4.2995, 1327,    386.8,   5.7706,  35.1199,2,  35.1213,2,    289.8,2,    296.7,3,     5.18,2,    12.60,2,     0.01,2,     0.83,2,    4.408,2,    2.334,2,    0.378,2,  1.99052444,2,   2142.0,2,   2301.4,2,   5.7374
  316N20020530,   113,  1,     11,     11,2,20020622, 66.0023,   4.2995, 1327,    472.4,   4.4676,  35.0350,2,  35.0359,2,    294.4,2,    294.8,2,     5.57,2,    12.90,2,     0.01,2,     0.86,2,    4.652,2,    2.455,2,    0.386,2,  2.01992526,2,   2146.3,2,   2297.0,2,   4.4316
  316N20020530,   113,  1,     10,     10,2,20020622, 66.0023,   4.2995, 1327,    517.5,   3.7784,  35.0090,2,  35.0009,2,    295.2,2,    294.4,2,     6.06,2,    13.29,2,     0.01,2,     0.89,2,    4.553,2,    2.392,2,    0.381,2,  1.91263607,2,   -999.0,9,   -999.0,9,   3.7416
  316N20020530,   113,  1,      9,      9,2,20020622, 66.0023,   4.2995, 1327,    568.2,   1.9954,  34.9176,2,  34.9188,2,    301.4,2,    303.2,2,     6.06,2,    13.49,2,     0.01,2,     0.91,2,    4.937,2,    2.526,2,    0.411,2,  1.96154768,2,   -999.0,9,   2291.9,2,   1.9629
  316N20020530,   113,  1,      8,      8,2,20020622, 66.0023,   4.2995, 1327,    633.3,   1.0052,  34.9082,2,  34.9135,2,    299.8,2,    299.7,2,     6.84,2,    14.07,2,     0.00,2,     0.95,2,    4.651,2,    2.286,2,    0.365,2,  1.46384733,2,   -999.0,9,   -999.0,9,   0.9737
  316N20020530,   113,  1,      7,      7,2,20020622, 66.0023,   4.2995, 1327,    709.2,   0.1298,  34.8939,2,  34.8986,2,    298.1,2,    298.0,2,     7.62,2,    14.46,2,     0.00,2,     0.97,2,    3.796,2,    1.867,2,    0.281,2,  1.21988631,2,   -999.0,9,   -999.0,9,   0.0992
  316N20020530,   113,  1,      6,      6,2,20020622, 66.0023,   4.2995, 1327,    783.9,  -0.2524,  34.8938,2,  34.8990,2,    298.0,2,    298.0,2,     8.11,2,    14.56,2,     0.00,2,     0.98,2,    3.351,2,    1.645,2,    0.232,2,  1.28819956,2,   2163.6,2,   2287.3,2,  -0.2843
  316N20020530,   113,  1,      5,      5,2,20020622, 66.0023,   4.2995, 1327,    860.1,  -0.4519,  34.8962,7,  34.9024,2,    297.5,2,    298.3,2,     8.80,2,    14.56,2,     0.00,2,     0.98,2,    2.837,6,    1.368,6,    0.193,6,  1.56145005,2,   -999.0,9,   -999.0,9,  -0.4860
  316N20020530,   113,  1,      4,      4,2,20020622, 66.0023,   4.2995, 1327,    960.4,  -0.5984,  34.9015,7,  34.9075,2,    296.8,2,    296.8,2,     9.67,2,    14.66,2,     0.00,2,     0.99,2,    2.079,2,    1.023,2,    0.131,2,  1.20036017,2,   -999.0,9,   -999.0,9,  -0.6362
  316N20020530,   113,  1,      3,      3,2,20020622, 66.0023,   4.2995, 1327,   1060.5,  -0.7061,  34.9055,2,  34.9111,2,    296.3,2,    296.5,2,    10.65,2,    14.66,2,     0.00,2,     1.00,2,    1.581,2,    0.751,2,    0.092,2, 0.663611976,2,   -999.0,9,   -999.0,9,  -0.7479
  316N20020530,   113,  1,      2,      2,2,20020622, 66.0023,   4.2995, 1327,   1182.2,  -0.8142,  34.9080,2,  34.9138,2,    295.5,2,    295.6,2,    11.82,2,    14.85,2,     0.00,2,     1.01,2,    1.052,2,    0.515,2,    0.054,2, 0.322046341,2,   -999.0,9,   -999.0,9,  -0.8610
  316N20020530,   113,  1,      1,      1,2,20020622, 66.0023,   4.2995, 1327,   1308.4,  -0.8804,  34.9091,2,  34.9144,2,    294.5,2,    294.4,2,    13.00,2,    15.15,2,     0.00,2,     1.04,2,    0.732,2,    0.376,2,    0.033,2, 0.165902586,2,   -999.0,9,   -999.0,9,  -0.9330
  316N20020530,   114,  1,     15,     15,2,20020623, 65.9972,   4.7922, 1084,      2.8,  12.6686,  35.1395,2,  35.1358,2,    278.5,2,    278.6,2,     1.66,2,     0.88,2,     0.04,2,     0.14,2,    3.504,2,    1.924,2,    0.297,2,        -999,9,   2057.4,2,   2310.6,2,  12.6682
  316N20020530,   114,  1,     13,     13,2,20020623, 65.9972,   4.7922, 1084,     64.7,   7.4380,  35.1597,2,  35.1587,2,    290.7,2,    290.3,2,     3.71,2,     7.52,2,     0.23,2,     0.63,2,    4.335,6,    2.334,6,    0.374,6,        -999,9,   2125.7,2,   2306.0,2,   7.4318
  316N20020530,   114,  1,     11,     11,2,20020623, 65.9972,   4.7922, 1084,    155.1,   6.7664,  35.1762,2,  35.1739,2,    285.4,2,    283.7,2,     5.18,2,    12.31,2,     0.01,2,     0.81,2,    4.325,2,    2.343,2,    0.344,2,  1.91238978,2,   2136.9,2,   2304.0,2,   6.7521
  316N20020530,   114,  1,      9,      9,2,20020623, 65.9972,   4.7922, 1084,    392.0,   5.0117,  35.0768,2,  35.0752,2,    292.9,2,    292.8,2,     5.47,2,    12.61,2,     0.01,2,     0.85,2,    4.585,2,    2.458,2,    0.370,2,  1.94180371,2,   2145.4,2,   2298.6,2,   4.9804
  316N20020530,   114,  1,      7,      7,2,20020623, 65.9972,   4.7922, 1084,    627.7,   0.4506,  34.9012,2,  34.9031,2,    298.1,2,    298.5,2,     7.62,2,    14.37,2,     0.00,2,     0.97,2,    4.026,2,    2.000,2,    0.279,2,   1.3174728,2,   2164.9,3,   2287.4,2,   0.4223
  316N20020530,   114,  1,      5,      5,2,20020623, 65.9972,   4.7922, 1084,    768.4,  -0.4244,  34.8987,2,  34.8989,2,    296.8,2,    298.1,2,     9.09,2,    14.46,2,     0.00,2,     0.99,2,    2.769,2,    1.345,2,    0.160,2,  1.44434506,2,   2165.0,2,   2288.3,2,  -0.4544
  316N20020530,   114,  1,      3,      3,2,20020623, 65.9972,   4.7922, 1084,    909.0,  -0.7636,  34.9081,2,  34.9084,2,    295.9,2,    295.7,2,    11.24,2,    14.95,2,     0.00,2,     1.01,2,    1.280,6,    0.623,6,    0.059,6, 0.468432924,2,   2172.7,2,   2289.7,2,  -0.7977
  316N20020530,   114,  1,      1,      1,2,20020623, 65.9972,   4.7922, 1084,   1065.2,  -0.8855,  34.9099,2,  34.9122,2,    296.0,2,    295.7,2,    12.70,2,    15.34,2,     0.00,2,     1.03,2,    0.758,2,    0.384,2,    0.026,2,  0.17566185,2,   2164.0,2,   2290.2,2,  -0.9259
  316N20020530,   115,  1,     15,     15,2,20020623, 66.0025,   5.2737,  818,      2.7,  12.2080,  34.7813,2,  34.7708,2,    280.6,2,    284.5,2,     1.37,2,     0.78,2,     0.03,2,     0.12,2,    3.552,2,    1.949,2,    0.288,2,   1.6982433,2,   2055.5,2,   2302.8,2,  12.2076
  316N20020530,   115,  1,     14,     14,2,20020623, 66.0025,   5.2737,  818,     18.1,   9.1187,  34.9400,2,  34.9432,2,    282.0,2,    280.1,2,     2.35,2,     7.43,2,     0.13,2,     0.51,2, -999.000,9, -999.000,9, -999.000,9,        -999,9,   2116.3,2,   2305.8,2,   9.1167
  316N20020530,   115,  1,     13,     13,2,20020623, 66.0025,   5.2737,  818,     34.1,   9.2266,  35.2669,2,  35.2744,2,    272.2,2,    272.5,2,     2.25,2,     9.97,2,     0.02,2,     0.64,2,    3.854,2,    2.111,2,    0.298,2,  1.74638859,2,   -999.0,9,   -999.0,9,   9.2229
  316N20020530,   115,  1,     12,     12,2,20020623, 66.0025,   5.2737,  818,     72.0,   8.7743,  35.2865,2,  35.2850,2,    270.1,2,    271.4,2,     3.91,2,    11.33,2,     0.01,2,     0.72,2,    3.893,2,    2.127,2,    0.304,2,  1.76588738,2,   2135.7,2,   2311.8,2,   8.7666
  316N20020530,   115,  1,     11,     11,2,20020623, 66.0025,   5.2737,  818,    114.5,   8.3995,  35.2752,7,  35.2763,2,    272.1,2,    272.0,2,     4.59,2,    11.72,2,     0.01,2,     0.75,2,    3.927,2,    2.144,2,    0.307,2,        -999,9,   -999.0,9,   -999.0,9,   8.3876
  316N20020530,   115,  1,     10,     10,2,20020623, 66.0025,   5.2737,  818,    164.6,   7.9870,  35.2637,2,  35.2645,2,    273.2,2,    273.9,2,     5.08,2,    12.11,2,     0.01,2,     0.78,2,    3.980,2,    2.176,2,    0.303,2,  1.78542719,2,   2141.5,2,   2307.5,2,   7.9703
  316N20020530,   115,  1,      9,      9,2,20020623, 66.0025,   5.2737,  818,    214.8,   7.3669,  35.2293,2,  35.2283,2,    277.7,2,    277.9,2,     5.28,2,    12.41,2,     0.00,2,     0.81,2,    4.066,6,    2.212,6,    0.332,6,  1.80498869,2,   -999.0,9,   -999.0,9,   7.3461
  316N20020530,   115,  1,      8,      8,2,20020623, 66.0025,   5.2737,  818,    274.8,   6.9140,  35.1945,2,  35.1936,2,    282.0,2,    281.8,2,     5.18,2,    12.70,2,     0.00,2,     0.83,2,    4.214,2,    2.268,2,    0.328,2,  1.82454921,2,   -999.0,9,   -999.0,9,   6.8882
  316N20020530,   115,  1,      7,      7,2,20020623, 66.0025,   5.2737,  818,    324.3,   6.4048,  35.1575,2,  35.1556,2,    284.6,2,    284.3,2,     5.57,2,    13.00,2,     0.01,2,     0.85,2,    4.294,2,    2.308,2,    0.335,2,  1.81484359,2,   2148.4,2,   2304.3,2,   6.3755
  316N20020530,   115,  1,      6,      6,2,20020623, 66.0025,   5.2737,  818,    439.8,   3.8320,  34.9764,2,-999.0000,9,    294.5,2,    294.4,2,     6.06,2,    13.29,2,     0.00,2,     0.88,2,    4.686,2,    2.421,2,    0.366,2,  1.89321771,2,   -999.0,9,   -999.0,9,   3.8008
  316N20020530,   115,  1,      5,      5,2,20020623, 66.0025,   5.2737,  818,    524.2,   1.6288,  34.9283,2,  34.9294,2,    298.4,2,    298.4,2,     6.94,2,    14.07,2,     0.00,2,     0.93,2,    4.530,2,    2.286,2,    0.333,2,  1.62973074,2,   2161.8,2,   2289.1,2,   1.6006
  316N20020530,   115,  1,      4,      4,2,20020623, 66.0025,   5.2737,  818,    586.2,   0.1015,  34.8977,7,  34.9007,2,    296.8,2,    297.3,2,     7.92,2,    14.46,2,     0.00,2,     0.97,2,    3.603,2,    1.744,2,    0.232,2,   1.1808481,2,   2169.0,2,   2288.4,2,   0.0770
  316N20020530,   115,  1,      3,      3,2,20020623, 66.0025,   5.2737,  818,    615.7,  -0.2121,  34.9057,2,  34.9072,2,    295.8,2,    295.7,2,     9.67,2,    14.76,2,     0.00,2,     0.98,2, -999.000,9, -999.000,9, -999.000,9,   1.0832521,2,   -999.0,9,   -999.0,9,  -0.2364
  316N20020530,   115,  1,      2,      2,2,20020623, 66.0025,   5.2737,  818,    703.2,  -0.8430,  34.9096,2,  34.9140,2,    295.4,2,    294.8,2,    12.31,2,    15.05,2,     0.00,2,     1.01,2,    0.966,2,    0.481,2,    0.039,2, 0.361082207,2,   -999.0,9,   -999.0,9,  -0.8676
  316N20020530,   115,  1,      1,      1,2,20020623, 66.0025,   5.2737,  818,    803.4,  -0.8931,  34.9094,2,  34.9119,2,    295.4,2,    295.3,2,    12.90,2,    15.25,2,     0.00,2,     1.02,2,    0.781,2,    0.387,2,    0.030,2, 0.263492833,2,   2167.5,2,   2294.3,2,  -0.9216