BOTTLE,20081218PRINUNIVRMK
EXPOCODE,STNNBR,CASTNO,SAMPNO,BTLNBR,BTLNBR_FLAG_W,DATE,LATITUDE,LONGITUDE,DEPTH,CTDPRS,CTDTMP,CTDSAL,CTDSAL_FLAG_W,SALNTY,SALNTY_FLAG_W,CTDOXY,CTDOXY_FLAG_W,OXYGEN,OXYGEN_FLAG_W,SILCAT,SILCAT_FLAG_W,NITRAT,NITRAT_FLAG_W,NITRIT,NITRIT_FLAG_W,PHSPHT,PHSPHT_FLAG_W,CFC-11,CFC-11_FLAG_W,CFC-12,CFC-12_FLAG_W,CFC113,CFC113_FLAG_W,SF6,SF6_FLAG_W,TCARBN,TCARBN_FLAG_W,ALKALI,ALKALI_FLAG_W,THETA
,,,,,,,,,METERS,DBARS,ITS-90,PSS-78,,PSS-78,,UMOL/KG,,UMOL/KG,,UMOL/KG,,UMOL/KG,,UMOL/KG,,UMOL/KG,,PMOL/KG,,PMOL/KG,,PMOL/KG,,FMOL/KG,,UMOL/KG,,UMOL/KG,,DEGC
  316N20020530,    95,  1,     22,     22,2,20020619, 69.9050, -18.5162, 1422,     10.3,  -0.1380,  33.4094,2,  33.4123,2,    361.6,2,    378.4,2,     2.25,2,     2.15,2,     0.04,2,     0.28,2,    6.527,2,    3.246,2,    0.556,2,  2.25684591,2,   -999.0,9,   2237.8,2,  -0.1383
  316N20020530,    95,  1,     21,     21,2,20020619, 69.9050, -18.5162, 1422,     37.5,  -1.6827,  34.1671,2,  34.1692,2,    350.4,2,    343.3,2,     5.08,2,     8.51,2,     0.04,2,     0.65,2,    6.094,2,    3.037,2,    0.511,2,  1.98217142,2,   -999.0,9,   -999.0,9,  -1.6834
  316N20020530,    95,  1,     20,     20,2,20020619, 69.9050, -18.5162, 1422,     74.1,  -1.5927,  34.2829,2,  34.2843,2,    338.1,2,    340.1,2,     5.08,2,     9.39,2,     0.04,2,     0.67,2,    6.145,2,    2.978,2,    0.509,2,  2.14798199,2,   2123.2,2,   2263.4,2,  -1.5943
  316N20020530,    95,  1,     19,     19,2,20020619, 69.9050, -18.5162, 1422,    104.2,  -1.4541,  34.3414,2,  34.3411,2,    338.2,2,    339.3,2,     5.08,2,     9.68,2,     0.04,2,     0.69,2,    6.091,2,    2.975,2,    0.510,2,        -999,9,   -999.0,9,   -999.0,9,  -1.4565
  316N20020530,    95,  1,     18,     18,2,20020619, 69.9050, -18.5162, 1422,    136.7,  -1.0373,  34.4415,2,  34.4436,2,    332.5,2,    331.0,2,     5.67,2,    10.56,2,     0.04,2,     0.72,2,    5.853,2,    2.874,2,    0.497,2,  2.11844007,2,   2126.7,2,   2268.5,2,  -1.0410
  316N20020530,    95,  1,     17,     17,2,20020619, 69.9050, -18.5162, 1422,    183.9,  -0.1920,  34.6362,2,  34.6395,2,    323.4,2,    324.9,2,     5.96,2,    11.34,2,     0.05,2,     0.77,2,    5.425,2,    2.734,2,    0.452,2,        -999,9,   2138.2,2,   2278.8,2,  -0.1985
  316N20020530,    95,  1,     16,     16,2,20020619, 69.9050, -18.5162, 1422,    236.7,   0.9258,  34.8545,2,  34.8533,2,    313.0,2,    309.9,2,     6.06,2,    12.22,2,     0.03,2,     0.82,2,    4.704,2,    2.351,2,    0.377,2,  1.52246945,2,   2147.1,2,   2283.0,2,   0.9150
  316N20020530,    95,  1,     15,     15,2,20020619, 69.9050, -18.5162, 1422,    264.4,   0.6938,  34.8482,2,  34.8499,2,    320.0,2,    317.3,2,     5.96,2,    12.12,2,     0.06,2,     0.80,2,    4.891,2,    2.510,2,    0.413,2,  1.66886497,2,   -999.0,9,   -999.0,9,   0.6822
  316N20020530,    95,  1,     14,     14,2,20020619, 69.9050, -18.5162, 1422,    291.9,   0.1070,  34.8161,2,  34.8171,2,    327.6,2,    329.7,2,     5.77,2,    11.83,2,     0.07,2,     0.79,2,    5.581,2,    2.790,2,    0.456,2,  2.00073492,2,   2148.7,2,   2281.4,2,   0.0956
  316N20020530,    95,  1,     13,     13,2,20020619, 69.9050, -18.5162, 1422,    348.7,   0.5471,  34.8670,2,  34.8678,2,    322.5,2,    318.0,2,     5.86,2,    12.22,2,     0.03,2,     0.81,2,    4.822,2,    2.420,2,    0.393,2,  1.76643587,2,   -999.0,9,   -999.0,9,   0.5320
  316N20020530,    95,  1,     28,     28,9,20020619, 69.9050, -18.5162, 1422,    349.7,   0.5188,  34.8651,2,  34.8672,2,    322.1,2,   -999.0,9,  -999.00,9,  -999.00,9,  -999.00,9,  -999.00,9, -999.000,9, -999.000,9, -999.000,9,        -999,9,   -999.0,9,   -999.0,9,   0.5037
  316N20020530,    95,  1,     12,     12,2,20020619, 69.9050, -18.5162, 1422,    402.4,   0.7212,  34.8938,2,  34.8953,2,    311.2,2,    312.5,2,     5.96,2,    12.31,2,     0.01,2,     0.82,2,    4.489,2,    2.241,2,    0.358,2,  1.52242185,2,   2150.0,2,   2289.7,2,   0.7030
  316N20020530,    95,  1,     29,     29,9,20020619, 69.9050, -18.5162, 1422,    403.2,   0.7199,  34.8940,2,  34.8945,2,    311.2,2,   -999.0,9,  -999.00,9,  -999.00,9,  -999.00,9,  -999.00,9, -999.000,9, -999.000,9, -999.000,9,        -999,9,   -999.0,9,   -999.0,9,   0.7016
  316N20020530,    95,  1,     30,     30,9,20020619, 69.9050, -18.5162, 1422,    460.2,   0.6108,  34.9046,2,  34.9055,2,    310.4,2,   -999.0,9,  -999.00,9,  -999.00,9,  -999.00,9,  -999.00,9, -999.000,9, -999.000,9, -999.000,9,        -999,9,   -999.0,9,   -999.0,9,   0.5901
  316N20020530,    95,  1,     11,     11,2,20020619, 69.9050, -18.5162, 1422,    460.4,   0.5999,  34.9040,2,  34.9045,2,    310.4,2,    310.4,2,     6.06,2,    12.61,2,     0.01,2,     0.83,2,    4.280,6,    2.085,6,    0.325,6,        -999,9,   -999.0,9,   -999.0,9,   0.5793
  316N20020530,    95,  1,     31,     31,9,20020619, 69.9050, -18.5162, 1422,    539.5,   0.5368,  34.9169,2,-999.0000,9,    311.8,2,   -999.0,9,  -999.00,9,  -999.00,9,  -999.00,9,  -999.00,9, -999.000,9, -999.000,9, -999.000,9,        -999,9,   -999.0,9,   -999.0,9,   0.5125
  316N20020530,    95,  1,     10,     10,2,20020619, 69.9050, -18.5162, 1422,    540.5,   0.5368,  34.9172,2,  34.9179,2,    311.8,2,    312.5,2,     6.16,2,    12.61,2,     0.00,2,     0.84,2,    4.078,2,    2.064,2,    0.308,2,  1.22962773,2,   2151.6,2,   2282.5,2,   0.5125
  316N20020530,    95,  1,     32,     32,9,20020619, 69.9050, -18.5162, 1422,    614.5,   0.2671,  34.9123,2,-999.0000,9,    313.5,2,   -999.0,9,  -999.00,9,  -999.00,9,  -999.00,9,  -999.00,9, -999.000,9, -999.000,9, -999.000,9,        -999,9,   -999.0,9,   -999.0,9,   0.2404
  316N20020530,    95,  1,      9,      9,2,20020619, 69.9050, -18.5162, 1422,    616.5,   0.2588,  34.9118,2,  34.9124,2,    313.4,2,    312.7,2,     6.35,2,    12.80,2,     0.00,2,     0.85,2,    4.047,6,    1.998,6,    0.309,6,  1.22963276,2,   -999.0,9,   -999.0,9,   0.2320
  316N20020530,    95,  1,     33,     33,9,20020619, 69.9050, -18.5162, 1422,    725.3,   0.0434,  34.9114,2,-999.0000,9,    314.1,2,   -999.0,9,  -999.00,9,  -999.00,9,  -999.00,9,  -999.00,9, -999.000,9, -999.000,9, -999.000,9,        -999,9,   -999.0,9,   -999.0,9,   0.0125
  316N20020530,    95,  1,      8,      8,2,20020619, 69.9050, -18.5162, 1422,    725.9,   0.0440,  34.9106,2,  34.9124,2,    314.1,2,    312.8,2,     6.55,2,    12.90,2,     0.00,2,     0.87,2,    3.953,2,    1.951,2,    0.302,2,  1.30770469,2,   2156.9,2,   2286.1,2,   0.0131
  316N20020530,    95,  1,      7,      7,2,20020619, 69.9050, -18.5162, 1422,    835.0,  -0.1729,  34.9064,2,  34.9069,2,    314.4,2,    314.2,2,     7.04,2,    13.19,2,     0.00,2,     0.88,2,    3.847,2,    1.922,2,    0.292,2,  1.57120385,2,   -999.0,9,   -999.0,9,  -0.2078
  316N20020530,    95,  1,     34,     34,9,20020619, 69.9050, -18.5162, 1422,    835.2,  -0.1745,  34.9059,2,-999.0000,9,    314.6,2,   -999.0,9,  -999.00,9,  -999.00,9,  -999.00,9,  -999.00,9, -999.000,9, -999.000,9, -999.000,9,        -999,9,   -999.0,9,   -999.0,9,  -0.2094
  316N20020530,    95,  1,      6,      6,2,20020619, 69.9050, -18.5162, 1422,    943.8,  -0.3091,  34.9076,2,  34.9085,2,    312.0,2,    312.6,2,     7.33,2,    13.29,2,     0.00,2,     0.89,2,    3.540,2,    1.745,2,    0.272,2,  1.67855119,2,   2157.4,2,   2289.4,2,  -0.3484
  316N20020530,    95,  1,     35,     35,9,20020619, 69.9050, -18.5162, 1422,    943.9,  -0.3128,  34.9071,2,  34.9081,2,    312.0,2,   -999.0,9,  -999.00,9,  -999.00,9,  -999.00,9,  -999.00,9, -999.000,9, -999.000,9, -999.000,9,        -999,9,   -999.0,9,   -999.0,9,  -0.3521
  316N20020530,    95,  1,      5,      5,2,20020619, 69.9050, -18.5162, 1422,   1042.3,  -0.4687,  34.9031,2,  34.9041,2,    310.2,2,    309.9,2,     7.92,2,    13.49,2,     0.00,2,     0.91,2,    3.096,2,    1.517,2,    0.219,2,  2.15675016,2,   -999.0,9,   -999.0,9,  -0.5116
  316N20020530,    95,  1,     36,     36,9,20020619, 69.9050, -18.5162, 1422,   1043.5,  -0.4699,  34.9035,2,-999.0000,9,    310.1,2,   -999.0,9,  -999.00,9,  -999.00,9,  -999.00,9,  -999.00,9, -999.000,9, -999.000,9, -999.000,9,        -999,9,   -999.0,9,   -999.0,9,  -0.5129
  316N20020530,    95,  1,      4,      4,2,20020619, 69.9050, -18.5162, 1422,   1173.7,  -0.5492,  34.9052,2,  34.9061,2,    307.0,2,    307.3,2,     8.50,2,    13.78,2,     0.00,2,     0.93,2,    2.596,2,    1.263,2,    0.175,2,   1.9810843,2,   -999.0,9,   -999.0,9,  -0.5981
  316N20020530,    95,  1,      3,      3,2,20020619, 69.9050, -18.5162, 1422,   1244.3,  -0.6748,  34.9101,2,  34.9116,2,    303.1,2,    302.4,2,     9.67,2,    14.17,2,     0.00,2,     0.95,2,    1.728,2,    0.830,2,    0.113,2,  1.24915149,2,   2158.1,2,   2287.4,2,  -0.7262
  316N20020530,    95,  1,      2,      2,2,20020619, 69.9050, -18.5162, 1422,   1321.9,  -0.7166,  34.9116,2,  34.9110,2,    300.5,2,    301.5,2,    10.26,2,    14.37,2,     0.00,2,     0.96,2,    1.473,2,    0.713,2,    0.095,2, 0.966141036,2,   -999.0,9,   -999.0,9,  -0.7717
  316N20020530,    95,  1,      1,      1,2,20020619, 69.9050, -18.5162, 1422,   1386.3,  -0.7541,  34.9138,2,  34.9130,2,    300.4,2,    300.6,2,    10.55,2,    14.46,2,     0.00,2,     0.98,2,    1.242,2,    0.591,2,    0.082,2, 0.722164952,2,   2159.1,2,   2286.6,2,  -0.8123
  316N20020530,    96,  1,     15,     15,2,20020620, 65.9957, -12.5883,  274,      7.3,   4.1860,  34.4822,2,  34.4824,2,    334.1,2,    334.1,2,     0.78,2,     0.88,2,     0.03,2,     0.16,2,    5.550,2,    2.913,2,    0.519,2,        -999,9,   2076.1,2,   2285.3,2,   4.1855
  316N20020530,    96,  1,     13,     13,2,20020620, 65.9957, -12.5883,  274,     16.6,   3.5030,  34.5577,2,  34.5209,2,    337.0,2,    337.2,2,     1.17,2,     1.96,2,     0.05,2,     0.22,2,    5.653,2,    2.950,2,    0.515,2,        -999,9,   2083.2,2,   2284.8,2,   3.5019
  316N20020530,    96,  1,     11,     11,2,20020620, 65.9957, -12.5883,  274,     43.3,   0.9219,  34.6929,2,  34.6935,2,    334.2,2,    333.6,2,     4.20,2,    10.46,2,     0.18,2,     0.81,2,    5.933,2,    3.115,2,    0.530,2,        -999,9,   2147.4,2,   2283.9,2,   0.9200
  316N20020530,    96,  1,      9,      9,2,20020620, 65.9957, -12.5883,  274,     83.3,   0.3913,  34.6885,2,  34.6892,2,    334.6,2,    335.1,2,     4.89,2,    11.24,2,     0.14,2,     0.82,2,    5.869,6,    3.069,6,    0.530,6,        -999,9,   2152.2,2,   2279.7,2,   0.3880
  316N20020530,    96,  1,      7,      7,2,20020620, 65.9957, -12.5883,  274,    119.9,   0.3229,  34.7302,7,  34.7310,2,    327.3,2,    324.0,2,     6.16,2,    12.41,2,     0.12,2,     0.87,2,    5.485,2,    2.853,2,    0.497,2,        -999,9,   2157.2,2,   2281.9,2,   0.3182
  316N20020530,    96,  1,      5,      5,2,20020620, 65.9957, -12.5883,  274,    167.1,   0.2272,  34.7461,2,  34.7506,2,    322.6,2,    322.2,2,     6.45,2,    12.61,2,     0.11,2,     0.88,2,    5.334,2,    2.780,2,    0.459,2,        -999,9,   2159.5,2,   2285.6,2,   0.2207
  316N20020530,    96,  1,      3,      3,2,20020620, 65.9957, -12.5883,  274,    213.0,   0.0468,  34.7613,2,  34.7631,2,    321.5,2,    321.9,2,     6.45,2,    12.51,2,     0.09,2,     0.89,2,    5.477,6,    2.857,6,    0.493,6,        -999,9,   2161.8,2,   2282.5,2,   0.0388
  316N20020530,    96,  1,      1,      1,2,20020620, 65.9957, -12.5883,  274,    260.9,  -0.2002,  34.7804,2,  34.7802,2,    324.7,2,    324.8,2,     6.45,2,    12.41,2,     0.08,2,     0.87,2,    5.494,2,    2.829,2,    0.481,2,        -999,9,   2162.7,2,   2282.3,2,  -0.2096
  316N20020530,    97,  1,     13,     13,2,20020620, 66.0022, -11.5527,  565,      9.1,   4.2613,  34.5192,2,  34.5177,2,    336.2,2,    336.3,2,     0.68,2,     0.59,2,     0.02,2,     0.12,2,    5.626,2,    2.898,2,    0.497,2,  2.33308409,2,   2073.6,2,   2283.1,2,   4.2607
  316N20020530,    97,  1,     12,     12,2,20020620, 66.0022, -11.5527,  565,     19.6,   4.2532,  34.5192,2,  34.5181,2,    336.5,2,    336.4,2,     0.68,2,     0.68,2,     0.02,2,     0.12,2,    5.570,2,    2.862,2,    0.490,2,        -999,9,   -999.0,9,   -999.0,9,   4.2518
  316N20020530,    97,  1,     11,     11,2,20020620, 66.0022, -11.5527,  565,     44.9,   1.3659,  34.6481,2,  34.6472,2,    333.3,2,    333.9,2,     2.54,2,     7.33,2,     0.19,2,     0.67,2,    5.984,2,    2.989,2,    0.519,2,  2.38166376,2,   2137.6,2,   2284.7,2,   1.3638
  316N20020530,    97,  1,     10,     10,2,20020620, 66.0022, -11.5527,  565,     84.8,   0.6322,  34.6870,7,  34.6872,2,    330.4,2,    329.6,2,     4.79,2,    11.14,2,     0.19,2,     0.82,2, -999.000,9, -999.000,9, -999.000,9,  2.41087472,2,   -999.0,9,   -999.0,9,   0.6287
  316N20020530,    97,  1,      9,      9,2,20020620, 66.0022, -11.5527,  565,    124.4,   0.2063,  34.7100,2,  34.7104,2,    327.9,2,    329.1,2,     5.57,2,    12.02,2,     0.13,2,     0.84,2,    5.839,2,    2.911,2,    0.508,2,        -999,9,   2156.7,2,   2280.3,2,   0.2016
  316N20020530,    97,  1,      8,      8,2,20020620, 66.0022, -11.5527,  565,    173.8,   0.0844,  34.7456,2,  34.7453,2,    323.2,2,    322.7,2,     6.45,2,    12.51,2,     0.11,2,     0.87,2,    5.602,2,    2.857,2,    0.499,2,  2.37172963,2,   -999.0,9,   -999.0,9,   0.0779
  316N20020530,    97,  1,      7,      7,2,20020620, 66.0022, -11.5527,  565,    202.0,   0.0046,  34.7515,7,  34.7531,2,    328.5,2,    324.1,2,     6.45,2,    12.51,2,     0.10,2,     0.87,2,    5.527,6,    2.780,6,    0.477,6,        -999,9,   -999.0,9,   -999.0,9,  -0.0029
  316N20020530,    97,  1,      6,      6,2,20020620, 66.0022, -11.5527,  565,    249.9,  -0.2941,  34.8094,7,  34.8091,2,    324.9,2,    324.1,2,     6.16,2,    12.71,2,     0.07,2,     0.87,2,    5.287,2,    2.628,2,    0.444,2,  2.18618191,2,   2162.5,2,   2279.7,2,  -0.3029
  316N20020530,    97,  1,      5,      5,2,20020620, 66.0022, -11.5527,  565,    296.6,  -0.3121,  34.8268,2,  34.8275,2,    321.7,2,    323.0,2,     6.16,2,    12.80,2,     0.05,2,     0.87,2,    5.153,6,    2.588,6,    0.443,6,  2.02023865,2,   -999.0,9,   -999.0,9,  -0.3226
  316N20020530,    97,  1,      4,      4,2,20020620, 66.0022, -11.5527,  565,    355.9,  -0.3143,  34.8506,2,  34.8493,2,    319.2,2,    319.1,2,     6.55,2,    13.10,2,     0.03,2,     0.88,2,    4.730,2,    2.367,2,    0.372,2,  1.99092752,2,   -999.0,9,   -999.0,9,  -0.3272
  316N20020530,    97,  1,      3,      3,2,20020620, 66.0022, -11.5527,  565,    427.0,  -0.3132,  34.8682,7,  34.8670,2,    315.1,2,    314.8,2,     7.04,2,    13.29,2,     0.03,2,     0.90,2,    4.508,2,    2.224,2,    0.341,2,  1.91282672,2,   2164.5,2,   2286.0,2,  -0.3289
  316N20020530,    97,  1,      2,      2,2,20020620, 66.0022, -11.5527,  565,    497.2,  -0.3281,  34.8834,2,  34.8815,2,    311.1,2,    310.7,2,     7.72,2,    13.49,2,     0.02,2,     0.91,2,    4.077,2,    1.972,2,    0.305,2,  2.08847194,2,   2164.9,2,   2286.4,2,  -0.3467
  316N20020530,    97,  1,      1,      1,2,20020620, 66.0022, -11.5527,  565,    555.7,  -0.3978,  34.8904,2,  34.8880,2,    308.2,2,    308.3,2,     8.40,2,    13.88,2,     0.02,2,     0.93,2,    3.583,2,    1.754,2,    0.268,2,  2.20557185,2,   2165.9,2,   2293.2,2,  -0.4185
  316N20020530,    98,  1,     17,     17,2,20020620, 66.0010, -11.3410,  936,      7.5,   4.2994,  34.5186,2,  34.5260,2,    339.8,2,    339.8,2,     0.68,2,     0.20,2,     0.01,2,     0.09,2,    5.634,2,    2.890,2,    0.532,2,  2.23545169,2,   2064.4,2,   2284.1,2,   4.2989
  316N20020530,    98,  1,     16,     16,2,20020620, 66.0010, -11.3410,  936,     21.0,   4.0250,  34.5400,2,  34.5475,2,    341.3,2,    350.7,2,     0.88,2,     0.68,2,     0.02,2,     0.13,2, -999.000,9, -999.000,9, -999.000,9,        -999,9,   -999.0,9,   -999.0,9,   4.0236
  316N20020530,    98,  1,     15,     15,2,20020620, 66.0010, -11.3410,  936,     46.0,   0.1362,  34.6578,2,  34.6680,2,    344.6,2,    342.7,2,     3.71,2,     9.48,2,     0.11,2,     0.74,2,    6.457,2,    3.320,2,    0.609,2,  2.50851683,2,   2147.6,2,   2279.1,2,   0.1345
  316N20020530,    98,  1,     14,     14,2,20020620, 66.0010, -11.3410,  936,     70.4,   0.0021,  34.6851,2,  34.6943,2,    339.3,2,    339.2,2,     4.69,2,    10.95,2,     0.12,2,     0.78,2, -999.000,9, -999.000,9, -999.000,9,        -999,9,   -999.0,9,   -999.0,9,  -0.0004
  316N20020530,    98,  1,     13,     13,2,20020620, 66.0010, -11.3410,  936,     95.1,  -0.1441,  34.7233,2,  34.7302,2,    334.4,2,    338.4,2,     4.69,2,    11.24,2,     0.09,2,     0.79,2,    6.234,2,    3.197,2,    0.596,2,  2.48888005,2,   2151.4,2,   2277.7,2,  -0.1474
  316N20020530,    98,  1,     12,     12,2,20020620, 66.0010, -11.3410,  936,    130.2,  -0.3272,  34.7459,2,  34.7512,2,    335.6,2,    337.7,2,     5.08,2,    11.53,2,     0.10,2,     0.79,2,    5.954,2,    3.039,2,    0.549,2,   2.2741176,2,   -999.0,9,   -999.0,9,  -0.3316
  316N20020530,    98,  1,     11,     11,2,20020620, 66.0010, -11.3410,  936,    166.3,  -0.5490,  34.7618,2,  34.7661,2,    337.4,2,    337.5,2,     5.08,2,    11.73,2,     0.11,2,     0.79,2,    6.062,6,    3.094,6,    0.548,6,  2.31313258,2,   -999.0,9,   -999.0,9,  -0.5544
  316N20020530,    98,  1,     10,     10,2,20020620, 66.0010, -11.3410,  936,    195.0,  -0.3509,  34.8024,2,  34.8030,2,    328.7,2,    326.7,2,     6.06,2,    12.41,2,     0.07,2,     0.83,2,    5.530,2,    2.772,2,    0.470,2,  2.10811356,2,   2158.0,2,   2280.9,2,  -0.3576
  316N20020530,    98,  1,      9,      9,2,20020620, 66.0010, -11.3410,  936,    240.1,  -0.3446,  34.8350,2,  34.8344,2,    324.7,2,    324.3,2,     6.25,2,    12.71,2,     0.04,2,     0.85,2, -999.000,9, -999.000,9, -999.000,9,        -999,9,   2159.1,2,   2280.8,2,  -0.3529
  316N20020530,    98,  1,      8,      8,2,20020620, 66.0010, -11.3410,  936,    290.8,  -0.4159,  34.8441,2,  34.8468,2,    325.7,2,    325.1,2,     6.16,2,    12.70,2,     0.01,2,     0.85,2,    5.167,2,    2.575,2,    0.423,2,  1.98117176,2,   -999.0,9,   -999.0,9,  -0.4260
  316N20020530,    98,  1,      7,      7,2,20020620, 66.0010, -11.3410,  936,    356.5,  -0.3137,  34.8687,2,  34.8737,2,    319.9,2,    318.5,2,     6.65,2,    13.10,2,     0.01,2,     0.87,2, -999.000,9, -999.000,9, -999.000,9,  1.85426156,2,   -999.0,9,   -999.0,9,  -0.3266
  316N20020530,    98,  1,      6,      6,2,20020620, 66.0010, -11.3410,  936,    456.6,  -0.3138,  34.8874,2,  34.8912,2,    313.3,2,    312.9,2,     7.43,2,    13.58,2,     0.01,2,     0.90,2,    4.149,2,    2.038,2,    0.302,2,  1.97134713,2,   2163.5,2,   2286.8,2,  -0.3308
  316N20020530,    98,  1,      5,      5,2,20020620, 66.0010, -11.3410,  936,    555.1,  -0.4086,  34.8927,2,  34.8939,2,    309.7,2,    309.3,2,     8.11,2,    13.78,2,     0.01,2,     0.91,2,    3.579,6,    1.762,6,    0.264,6,  2.26411691,2,   -999.0,9,   -999.0,9,  -0.4293
  316N20020530,    98,  1,      4,      4,2,20020620, 66.0010, -11.3410,  936,    657.2,  -0.5060,  34.8973,2,  34.9008,2,    305.1,2,    305.6,2,     9.09,2,    14.07,2,     0.01,2,     0.93,2,    3.075,2,    1.517,2,    0.224,2,  2.49832306,2,   2161.9,2,   2288.8,2,  -0.5306
  316N20020530,    98,  1,      3,      3,2,20020620, 66.0010, -11.3410,  936,    756.3,  -0.5327,  34.8988,2,  34.8992,2,    304.0,2,    304.1,2,     9.58,2,    14.17,2,     0.01,2,     0.94,2,    2.907,2,    1.433,2,    0.218,2,   2.5276033,2,   2163.0,2,   2285.9,2,  -0.5615
  316N20020530,    98,  1,      2,      2,2,20020620, 66.0010, -11.3410,  936,    856.8,  -0.5962,  34.9017,2,  34.9035,2,    301.6,2,    301.9,2,    10.26,2,    14.37,2,     0.01,2,     0.96,2,    2.502,2,    1.223,2,    0.177,2,  2.35193222,2,   2163.7,2,   2288.8,2,  -0.6291
  316N20020530,    98,  1,      1,      1,2,20020620, 66.0010, -11.3410,  936,    915.0,  -0.6345,  34.9036,2,  34.9030,2,    300.3,2,    300.5,2,    10.85,2,    14.56,2,     0.01,2,     0.97,2,    2.230,2,    1.089,2,    0.153,2,  2.12747475,2,   2162.7,2,   2287.0,2,  -0.6699