BOTTLE,20081218PRINUNIVRMK
EXPOCODE,STNNBR,CASTNO,SAMPNO,BTLNBR,BTLNBR_FLAG_W,DATE,LATITUDE,LONGITUDE,DEPTH,CTDPRS,CTDTMP,CTDSAL,CTDSAL_FLAG_W,SALNTY,SALNTY_FLAG_W,CTDOXY,CTDOXY_FLAG_W,OXYGEN,OXYGEN_FLAG_W,SILCAT,SILCAT_FLAG_W,NITRAT,NITRAT_FLAG_W,NITRIT,NITRIT_FLAG_W,PHSPHT,PHSPHT_FLAG_W,CFC-11,CFC-11_FLAG_W,CFC-12,CFC-12_FLAG_W,CFC113,CFC113_FLAG_W,SF6,SF6_FLAG_W,TCARBN,TCARBN_FLAG_W,ALKALI,ALKALI_FLAG_W,THETA
,,,,,,,,,METERS,DBARS,ITS-90,PSS-78,,PSS-78,,UMOL/KG,,UMOL/KG,,UMOL/KG,,UMOL/KG,,UMOL/KG,,UMOL/KG,,PMOL/KG,,PMOL/KG,,PMOL/KG,,FMOL/KG,,UMOL/KG,,UMOL/KG,,DEGC
  316N20020530,   106,  1,     28,     28,2,20020621, 66.0013,  -5.2848, 2900,      3.8,   8.5974,  34.7767,2,  34.7743,2,    310.4,2,    310.9,2,     0.59,2,     1.66,2,     0.04,2,     0.17,2,    4.553,2,    2.424,2,    0.399,2,  1.90319874,2,   2069.4,2,   2286.5,2,   8.5970
  316N20020530,   106,  1,     27,     27,2,20020621, 66.0013,  -5.2848, 2900,     28.7,   3.8514,  34.8761,7,  34.8801,2,    337.7,2,    352.2,2,     0.68,2,     5.96,2,     0.07,2,     0.47,2, -999.000,9, -999.000,9, -999.000,9,        -999,9,   -999.0,9,   -999.0,9,   3.8495
  316N20020530,   106,  1,     26,     26,2,20020621, 66.0013,  -5.2848, 2900,     49.0,   3.1847,  34.9226,2,  34.9196,2,    321.1,2,    322.5,2,     3.03,2,     9.09,2,     0.20,2,     0.71,2,    5.482,2,    2.889,2,    0.497,2,  2.15672527,2,   2143.2,2,   2293.5,2,   3.1816
  316N20020530,   106,  1,     25,     25,2,20020621, 66.0013,  -5.2848, 2900,     79.0,   2.6948,  34.9583,7,  34.9571,2,    319.4,2,    318.0,2,     4.79,2,    11.34,2,     0.27,2,     0.80,2, -999.000,9, -999.000,9, -999.000,9,        -999,9,   -999.0,9,   -999.0,9,   2.6901
  316N20020530,   106,  1,     24,     24,2,20020621, 66.0013,  -5.2848, 2900,    114.1,   2.2115,  34.9700,2,  34.9703,2,    316.6,2,    315.7,2,     5.37,2,    12.51,2,     0.04,2,     0.84,2,    5.503,2,    2.939,2,    0.451,2,  2.04929961,2,   2148.5,2,   2291.5,2,   2.2052
  316N20020530,   106,  1,     23,     23,2,20020621, 66.0013,  -5.2848, 2900,    158.7,   1.8322,  34.9595,2,  34.9577,2,    315.3,2,    315.2,2,     5.57,2,    12.80,2,     0.03,2,     0.86,2,    5.352,2,    2.803,2,    0.444,2,  2.02004285,2,   -999.0,9,   -999.0,9,   1.8239
  316N20020530,   106,  1,     22,     22,2,20020621, 66.0013,  -5.2848, 2900,    229.1,   1.5204,  34.9556,2,  34.9505,2,    314.3,2,    316.1,2,     5.86,2,    12.90,2,     0.02,2,     0.87,2, -999.000,9, -999.000,9, -999.000,9,        -999,9,   2152.7,2,   2293.9,2,   1.5088
  316N20020530,   106,  1,     21,     21,2,20020621, 66.0013,  -5.2848, 2900,    299.0,   1.0997,  34.9344,2,  34.9316,2,    314.9,2,    315.6,2,     6.06,2,    13.09,2,     0.01,2,     0.88,2,    5.290,2,    2.767,2,    0.423,2,  1.85418164,2,   2173.3,3,   2291.5,2,   1.0855
  316N20020530,   106,  1,     20,     20,2,20020621, 66.0013,  -5.2848, 2900,    360.9,   0.6633,  34.9107,2,  34.9071,2,    309.6,2,    310.2,2,     6.55,2,    13.58,2,     0.01,2,     0.91,2,    4.993,2,    2.602,2,    0.369,2,        -999,9,   -999.0,9,   -999.0,9,   0.6473
  316N20020530,   106,  1,     19,     19,2,20020621, 66.0013,  -5.2848, 2900,    429.4,   0.1963,  34.8960,2,  34.8937,2,    309.0,2,    308.7,2,     6.94,2,    13.88,2,     0.01,2,     0.93,2,    4.683,2,    2.422,2,    0.328,2,  1.45410978,2,   2161.9,2,   2287.5,2,   0.1786
  316N20020530,   106,  1,     18,     18,2,20020621, 66.0013,  -5.2848, 2900,    475.5,   0.0231,  34.8935,2,  34.8943,2,    309.8,2,    308.8,2,     7.13,2,    13.78,2,     0.01,2,     0.93,2, -999.000,9, -999.000,9, -999.000,9,  1.49314562,2,   2161.7,2,   2289.9,2,   0.0040
  316N20020530,   106,  1,     17,     17,2,20020621, 66.0013,  -5.2848, 2900,    530.8,  -0.1299,  34.8935,2,  34.8924,2,    307.2,2,    306.8,2,     7.52,2,    13.88,2,     0.01,2,     0.94,2,    3.991,6,    1.997,6,    0.286,6,  1.50290687,2,   -999.0,9,   -999.0,9,  -0.1508
  316N20020530,   106,  1,     16,     16,2,20020621, 66.0013,  -5.2848, 2900,    610.8,  -0.2903,  34.8935,2,  34.8928,2,    307.2,2,    308.7,2,     7.72,2,    13.88,2,     0.00,2,     0.94,2,    3.892,2,    1.948,2,    0.259,2,  1.89327172,2,   2153.4,2,   2291.8,2,  -0.3140
  316N20020530,   106,  1,     15,     15,2,20020621, 66.0013,  -5.2848, 2900,    686.5,  -0.4263,  34.8934,2,  34.8912,0,    306.5,2,    307.3,2,     8.01,2,    14.07,2,     0.00,2,     0.95,2,    3.538,2,    1.752,2,    0.232,2,   2.1860483,2,   -999.0,9,   -999.0,9,  -0.4526
  316N20020530,   106,  1,     14,     14,2,20020621, 66.0013,  -5.2848, 2900,    787.2,  -0.5320,  34.8952,2,  34.8920,0,    305.5,2,    305.4,2,     8.50,2,    14.17,2,     0.00,2,     0.96,2,    3.173,2,    1.562,2,    0.210,2,  2.52761684,2,   2159.1,2,   2289.1,2,  -0.5622
  316N20020530,   106,  1,     13,     13,2,20020621, 66.0013,  -5.2848, 2900,    888.3,  -0.6122,  34.8974,2,  34.8942,0,    304.5,2,    304.7,2,     8.89,2,    14.27,2,     0.00,2,     0.97,2,    2.801,2,    1.353,2,    0.161,2,  2.68375866,2,   -999.0,9,   -999.0,9,  -0.6465
  316N20020530,   106,  1,     12,     12,2,20020621, 66.0013,  -5.2848, 2900,    989.4,  -0.6559,  34.9019,2,  34.9024,2,    302.3,2,    302.0,2,     9.48,2,    14.46,2,     0.00,2,     0.98,2,    2.269,2,    1.095,2,    0.121,2,  1.92253538,2,   2160.2,2,   2287.8,2,  -0.6946
  316N20020530,   106,  1,     11,     11,2,20020621, 66.0013,  -5.2848, 2900,   1089.9,  -0.7130,  34.9033,2,  34.9015,2,    303.5,2,    303.3,2,     9.77,2,    14.37,2,     0.00,2,     0.98,2,    2.107,2,    1.019,2,    0.112,2,   1.9127776,2,   -999.0,9,   -999.0,9,  -0.7562
  316N20020530,   106,  1,     10,     10,2,20020621, 66.0013,  -5.2848, 2900,   1215.6,  -0.7471,  34.9071,2,  34.9052,2,    301.2,2,    300.7,2,    10.46,2,    14.66,2,     0.00,2,     0.99,2,    1.577,2,    0.767,2,    0.081,2, 0.985663293,2,   -999.0,9,   -999.0,9,  -0.7963
  316N20020530,   106,  1,      9,      9,2,20020621, 66.0013,  -5.2848, 2900,   1366.4,  -0.7843,  34.9087,2,  34.9062,0,    299.2,2,    298.2,2,    11.04,2,    14.85,2,     0.00,2,     1.00,2,    1.121,2,    0.539,2,    0.048,2, 0.351325269,2,   -999.0,9,   -999.0,9,  -0.8410
  316N20020530,   106,  1,      8,      8,2,20020621, 66.0013,  -5.2848, 2900,   1570.0,  -0.8318,  34.9104,2,  34.9070,0,    298.4,2,    298.0,2,    11.53,2,    14.95,2,     0.00,2,     1.01,2,    0.835,2,    0.414,2,    0.034,2, 0.204939618,2,   2167.1,2,   2294.6,2,  -0.8992
  316N20020530,   106,  1,      7,      7,2,20020621, 66.0013,  -5.2848, 2900,   1772.3,  -0.8598,  34.9114,2,  34.9062,0,    298.4,2,    298.5,2,    11.92,2,    14.95,2,     0.00,2,     1.01,2,    0.712,6,    0.355,6,    0.028,6, 0.165903599,2,   -999.0,9,   -999.0,9,  -0.9387
  316N20020530,   106,  1,      6,      6,2,20020621, 66.0013,  -5.2848, 2900,   1974.1,  -0.8762,  34.9115,2,  34.9137,2,    298.2,2,    298.7,2,    12.31,2,    15.15,2,     0.00,2,     1.02,2, -999.000,9, -999.000,9, -999.000,9,  0.12686675,2,   2160.7,2,   2289.4,2,  -0.9673
  316N20020530,   106,  1,      5,      5,2,20020621, 66.0013,  -5.2848, 2900,   2177.6,  -0.8777,  34.9118,2,  34.9112,2,    297.9,2,    298.3,2,    12.61,2,    15.15,2,     0.00,2,     1.02,2,    0.560,2,    0.281,2,    0.025,2, 0.117107987,2,   -999.0,9,   -999.0,9,  -0.9821
  316N20020530,   106,  1,      4,      4,2,20020621, 66.0013,  -5.2848, 2900,   2380.4,  -0.8777,  34.9111,2,  34.9100,2,    297.6,2,    298.1,2,    12.80,2,    15.25,2,     0.00,2,     1.03,2,    0.488,2,    0.248,2,    0.022,2,0.0683130534,2,   -999.0,9,   -999.0,9,  -0.9959
  316N20020530,   106,  1,      3,      3,2,20020621, 66.0013,  -5.2848, 2900,   2582.7,  -0.8755,  34.9124,2,  34.9094,0,    297.5,2,    298.0,2,    13.19,2,    15.25,2,     0.00,2,     1.03,2,    0.413,2,    0.224,2,    0.018,2,0.0585540719,2,   2157.4,2,   2290.6,2,  -1.0083
  316N20020530,   106,  1,      2,      2,2,20020621, 66.0013,  -5.2848, 2900,   2786.9,  -0.8715,  34.9122,2,  34.9100,0,    297.3,2,    297.2,2,    13.58,2,    15.44,2,     0.00,2,     1.03,2,    0.336,2,    0.180,2,    0.015,2,0.0780720611,2,   2159.7,2,   2291.9,2,  -1.0197
  316N20020530,   106,  1,      1,      1,2,20020621, 66.0013,  -5.2848, 2900,   2892.2,  -0.8639,  34.9121,2,  34.9090,0,    297.5,2,    297.0,2,    13.68,2,    15.44,2,     0.00,2,     1.03,2,    0.333,2,    0.173,2,    0.012,2,0.0585540894,2,   2156.9,2,   2288.7,2,  -1.0205
  316N20020530,   107,  1,     33,     33,2,20020621, 66.0002,  -3.9262, 3796,      2.7,   9.6714,  34.8464,2,  34.8425,2,    303.1,2,    303.6,2,     0.59,2,     0.39,2,     0.03,2,     0.09,2,    2.892,4,    1.603,4,    0.255,4,        -999,9,   -999.0,9,   2299.3,2,   9.6711
  316N20020530,   107,  1,     32,     32,2,20020621, 66.0002,  -3.9262, 3796,     25.3,   5.9426,  34.9231,2,  34.9218,2,    306.7,2,    317.0,2,     2.05,2,     5.96,2,     0.13,2,     0.50,2, -999.000,9, -999.000,9, -999.000,9,        -999,9,   2121.5,2,   2299.2,2,   5.9405
  316N20020530,   107,  1,     31,     31,2,20020621, 66.0002,  -3.9262, 3796,     45.6,   4.5851,  34.9960,2,  34.9898,2,    300.1,2,    300.3,2,     5.08,2,    12.02,2,     0.25,2,     0.82,2,    5.147,2,    2.722,2,    0.462,2,        -999,9,   2138.6,2,   2294.5,2,   4.5817
  316N20020530,   107,  1,     30,     30,2,20020621, 66.0002,  -3.9262, 3796,     80.7,   3.7257,  34.9740,2,  34.9725,2,    307.1,2,    307.0,2,     4.89,2,    12.22,2,     0.02,2,     0.81,2,    5.122,2,    2.804,2,    0.449,2,        -999,9,   2143.3,2,   2292.6,2,   3.7203
  316N20020530,   107,  1,     29,     29,2,20020621, 66.0002,  -3.9262, 3796,    131.0,   2.8960,  34.9436,2,  34.9395,2,    310.0,2,    310.4,2,     4.79,2,    12.12,2,     0.03,2,     0.81,2,    5.542,2,    2.907,2,    0.488,2,        -999,9,   -999.0,9,   -999.0,9,   2.8880
  316N20020530,   107,  1,     28,     28,2,20020621, 66.0002,  -3.9262, 3796,    171.3,   2.4665,  34.9526,2,  34.9470,2,    312.7,2,    312.6,2,     4.69,2,    12.22,2,     0.02,2,     0.82,2,    5.584,2,    2.945,2,    0.477,2,        -999,9,   2152.8,2,   2291.8,2,   2.4566
  316N20020530,   107,  1,     27,     27,2,20020621, 66.0002,  -3.9262, 3796,    241.5,   1.9767,  34.9518,7,  34.9482,2,    309.4,2,    314.7,2,     4.98,2,    12.51,2,     0.02,2,     0.84,2,    5.684,2,    2.949,2,    0.485,2,        -999,9,   2151.0,2,   2290.8,2,   1.9636
  316N20020530,   107,  1,     26,     26,2,20020621, 66.0002,  -3.9262, 3796,    322.8,   1.4544,  34.9438,2,  34.9372,2,    311.7,2,    312.4,2,     5.47,2,    13.00,2,     0.01,2,     0.87,2,    5.688,2,    2.839,2,    0.468,2,        -999,9,   2157.1,2,   2298.6,2,   1.4380
  316N20020530,   107,  1,     25,     25,2,20020621, 66.0002,  -3.9262, 3796,    407.8,   0.6709,  34.9023,2,  34.9021,2,    308.6,2,    307.6,2,     6.16,2,    13.58,2,     0.01,2,     0.92,2,    5.033,2,    2.619,2,    0.412,2,        -999,9,   -999.0,9,   -999.0,9,   0.6526
  316N20020530,   107,  1,     24,     24,2,20020621, 66.0002,  -3.9262, 3796,    509.6,   0.1173,  34.8895,2,  34.8924,2,    305.8,2,    305.7,2,     6.74,2,    13.88,2,     0.00,2,     0.94,2,    4.655,2,    2.311,2,    0.363,2,  1.44435205,2,   2163.5,2,   2286.6,2,   0.0963
  316N20020530,   107,  1,     23,     23,2,20020621, 66.0002,  -3.9262, 3796,    607.9,  -0.1543,  34.8905,2,  34.8893,2,    305.6,2,    306.2,2,     7.13,2,    13.88,2,     0.00,2,     0.93,2,    3.607,2,    1.888,2,    0.279,2,  1.53218781,2,   -999.0,9,   -999.0,9,  -0.1785
  316N20020530,   107,  1,     22,     22,2,20020621, 66.0002,  -3.9262, 3796,    708.7,  -0.3548,  34.8905,2,  34.8889,2,    305.1,2,    305.5,2,     7.62,2,    14.07,2,     0.00,2,     0.94,2,    3.606,2,    1.867,2,    0.279,2,  1.68833484,2,   2161.9,2,   2287.6,2,  -0.3825
  316N20020530,   107,  1,     21,     21,2,20020621, 66.0002,  -3.9262, 3796,    809.1,  -0.4718,  34.8931,2,  34.8909,2,    304.7,2,    304.9,2,     8.01,2,    14.07,2,     0.00,2,     0.95,2,    3.418,2,    1.716,2,    0.259,2,  2.19580794,2,   2162.4,2,   2293.8,2,  -0.5034
  316N20020530,   107,  1,     20,     20,2,20020621, 66.0002,  -3.9262, 3796,    889.9,  -0.5274,  34.8952,2,  34.8935,2,    303.4,2,    303.3,2,     8.31,2,    14.27,2,     0.00,2,     0.96,2,    3.072,2,    1.534,2,    0.228,2,  2.17628543,2,   -999.0,9,   -999.0,9,  -0.5624
  316N20020530,   107,  1,     19,     19,2,20020621, 66.0002,  -3.9262, 3796,    991.1,  -0.5914,  34.8982,2,  34.8978,2,    301.8,2,    301.4,2,     8.80,2,    14.37,2,     0.00,2,     0.97,2,    2.569,6,    1.248,6,    0.166,6,  2.05916931,2,   -999.0,9,   -999.0,9,  -0.6307
  316N20020530,   107,  1,     18,     18,2,20020621, 66.0002,  -3.9262, 3796,   1071.5,  -0.6369,  34.9002,2,  34.8992,2,    300.8,2,    301.1,2,     9.09,2,    14.37,2,     0.00,2,     0.97,2,    2.453,2,    1.165,2,    0.166,2,  1.99085356,2,   2155.7,2,   2289.7,2,  -0.6798
  316N20020530,   107,  1,     17,     17,2,20020621, 66.0002,  -3.9262, 3796,   1173.2,  -0.6850,  34.9027,2,  34.9004,2,    300.8,2,    300.8,2,     9.48,2,    14.46,2,     0.00,2,     0.97,2,    2.019,2,    1.007,2,    0.140,2,  1.61024777,2,   2159.5,2,   2297.0,3,  -0.7326
  316N20020530,   107,  1,     16,     16,2,20020621, 66.0002,  -3.9262, 3796,   1253.9,  -0.7098,  34.9051,7,  34.9027,0,    300.7,2,    299.3,2,     9.87,2,    14.56,2,     0.00,2,     0.98,2,    1.780,2,    0.846,2,    0.112,2,  1.09301479,2,   2162.3,2,   2290.1,2,-999.0000
  316N20020530,   107,  1,     15,     15,2,20020621, 66.0002,  -3.9262, 3796,   1365.7,  -0.7497,  34.9064,2,  34.9078,2,    298.3,2,    298.7,2,    10.36,2,    14.66,2,     0.00,2,     0.98,2,    1.387,2,    0.685,2,    0.086,2, 0.673372629,2,   2163.8,2,   2290.2,2,  -0.8068
  316N20020530,   107,  1,     14,     14,2,20020621, 66.0002,  -3.9262, 3796,   1466.2,  -0.7722,  34.9087,2,  34.8984,0,    298.0,2,    297.0,2,    10.65,2,    14.85,2,     0.00,2,     0.99,2,    1.057,2,    0.491,2,    0.051,2, 0.234218206,2,   -999.0,9,   -999.0,9,  -0.8345
  316N20020530,   107,  1,     13,     13,2,20020621, 66.0002,  -3.9262, 3796,   1567.1,  -0.7990,  34.9094,2,  34.9033,0,    297.9,2,    297.3,2,    10.95,2,    14.95,2,     0.00,2,     1.00,2,    0.928,2,    0.446,2,    0.046,2, 0.126867732,2,   2157.8,2,   2291.4,2,  -0.8667
  316N20020530,   107,  1,     12,     12,2,20020621, 66.0002,  -3.9262, 3796,   1718.5,  -0.8281,  34.9100,2,  34.9049,0,    297.6,2,    297.5,2,    11.24,2,    14.95,2,     0.00,2,     1.00,2,    0.703,2,    0.335,2,    0.040,2,  0.14638567,2,   -999.0,9,   -999.0,9,  -0.9042
  316N20020530,   107,  1,     11,     11,2,20020621, 66.0002,  -3.9262, 3796,   1879.1,  -0.8490,  34.9107,2,  34.8992,0,    297.7,2,    297.5,2,    11.53,2,    15.05,2,     0.00,2,     1.00,2,    0.712,2,    0.328,2,    0.037,2, 0.126868119,2,   -999.0,9,   -999.0,9,  -0.9346
  316N20020530,   107,  1,     10,     10,2,20020621, 66.0002,  -3.9262, 3796,   2080.9,  -0.8669,  34.9109,2,  34.8996,0,    297.5,2,    297.7,2,    11.82,2,    15.05,2,     0.00,2,     1.00,2,    0.567,2,    0.275,2,    0.024,2, 0.126868081,2,   2169.1,3,   2291.4,2,  -0.9651
  316N20020530,   107,  1,      9,      9,2,20020621, 66.0002,  -3.9262, 3796,   2283.8,  -0.8728,  34.9109,2,  34.8949,0,    297.4,2,    298.1,2,    12.22,2,    15.15,2,     0.00,2,     1.01,2,    0.581,2,    0.271,2,    0.022,2,0.0683138213,2,   -999.0,9,   -999.0,9,  -0.9844
  316N20020530,   107,  1,      8,      8,2,20020621, 66.0002,  -3.9262, 3796,   2496.7,  -0.8727,  34.9107,2,  34.8993,0,    297.3,2,    297.8,2,    12.51,2,    15.25,2,     0.00,2,     1.01,2, -999.000,9, -999.000,9, -999.000,9,        -999,9,   -999.0,9,   -999.0,9,  -0.9993
  316N20020530,   107,  1,      7,      7,2,20020621, 66.0002,  -3.9262, 3796,   2698.4,  -0.8668,  34.9117,2,  34.9052,0,    297.1,2,    297.7,2,    12.80,2,    15.34,2,     0.00,2,     1.01,2,    0.378,2,    0.195,2,    0.019,2, 0.097590425,2,   2158.9,2,   2295.1,2,  -1.0084
  316N20020530,   107,  1,      6,      6,2,20020621, 66.0002,  -3.9262, 3796,   2900.3,  -0.8572,  34.9112,2,  34.9079,0,    297.0,2,    297.3,2,    13.10,2,    15.34,2,     0.00,2,     1.02,2, -999.000,9, -999.000,9, -999.000,9,        -999,9,   -999.0,9,   -999.0,9,  -1.0145
  316N20020530,   107,  1,      5,      5,2,20020621, 66.0002,  -3.9262, 3796,   3091.2,  -0.8456,  34.9116,2,  34.9044,0,    297.0,2,    297.2,2,    13.29,2,    15.34,2,     0.00,2,     1.02,2,    0.376,2,    0.193,2,    0.023,2,0.0390361933,2,   -999.0,9,   -999.0,9,  -1.0185
  316N20020530,   107,  1,      4,      4,2,20020621, 66.0002,  -3.9262, 3796,   3303.8,  -0.8291,  34.9117,2,  34.9030,0,    297.1,2,    297.2,2,    13.39,2,    15.44,2,     0.00,2,     1.02,2, -999.000,9, -999.000,9, -999.000,9,        -999,9,   -999.0,9,   -999.0,9,  -1.0201
  316N20020530,   107,  1,      3,      3,2,20020621, 66.0002,  -3.9262, 3796,   3497.1,  -0.8129,  34.9117,2,  34.9025,0,    297.3,2,    297.0,2,    13.49,2,    15.44,2,     0.00,2,     1.02,2,    0.390,2,    0.174,2,    0.016,2,0.0683134348,2,   2162.3,2,   2293.6,2,  -1.0210
  316N20020530,   107,  1,      2,      2,2,20020621, 66.0002,  -3.9262, 3796,   3701.1,  -0.7944,  34.9118,2,  34.9056,0,    297.3,2,    297.3,2,    13.49,2,    15.44,2,     0.00,2,     1.02,2,    0.382,2,    0.196,2,    0.029,2, 0.048795198,2,   2161.5,2,   2293.3,2,  -1.0213
  316N20020530,   107,  1,      1,      1,2,20020621, 66.0002,  -3.9262, 3796,   3811.7,  -0.7837,  34.9117,2,  34.9076,0,    297.4,2,    297.1,2,    13.49,2,    15.44,2,     0.00,2,     1.02,2,    0.348,6,    0.178,6,    0.021,6, 0.107349276,2,   2161.1,2,   2293.8,2,  -1.0211