BOTTLE,20081218PRINUNIVRMK
# 2/25/05 
# Initialized file for Knorr cruise into Nordic Seas 
# Data from Rios 2/25/05; A.Olsen 6/21/07; CCHDO 7/9/07; Bellerby 10/25/07; Messias 11/5/07 
# 12/21/05 Moved records to CARINA 
# Ship: Knorr 
# Cruise: 316N166_11: Nordic'02 
# Dates: 5/30-6/30/2002 
# EXPOCODE: 316N20020530 
# Region: Greenland Norwegian Seas survey 
# Ch. Sci. W. Smethie 
# 159 Stations Several sections N&E of Iceland 
# Hydro: Who - J. Swift; Status - final 
# 	Notes: data from CCHDO 7/6/07 
# Nuts/O2: Who - J.Swift; Status - final 
# 	Notes: data from CCHDO 7/6/07 
# TCO2: Who - R. Bellerby; Status - final  
# 	Notes: data from Bellerby via Olsen 
# 	Flags checked/edited by Bellerby and Olsen 
# TA: Who - R. Bellerby; Status - final 
# 	Notes: data from Bellerby via Olsen on 6/29/07 
# 	Flags checked/edited by Bellerby and Olsen 
# CFC: Who - W. Smethie; Status - final 
# 	Notes: final data from Smethie 10/26/07 
# 	CFC-11,12,113  
# H-3/He-3: Who - P.Schlosser; Status - no data yet   
# 	Notes: requested 10/25/07 
# Other:  
# SF-6 final data from M.-J. Messias 11/6/07. 
# 	Units converted to /kg with assumed T=20C 
# 	 See Messias et al. 2007; 2008. 
# I-129 - Jean-Claude Gascard, no data. Message of 11/06/07 said  
# 	he would try to send on 11/08/07 or near then. 
# O-18 no data 
# References: 
# M.-J. Messias, A.J. Watson, T. Johannessen, K.I.C. Oliver, K.A.   
# Olsson, E. Fogelqvist, J. Olafsson, S. Bacon, J. Balle, N. Bergman,   
# G. Budeus, M. Danielsen, J.-C. Gascard, E. Jeansson, S.R.   
# Olafsdottir, K. Simonsen, T. Tanhua, K. Van Scoy, J. R.  Ledwell   
# (2007). The Greenland Sea Tracer Experiment 1996-2002: horizontal   
# mixing and transport of Greenland Sea Intermediate Water. Prog.   
# Oceanogr. 
# M.-J. Messias, A.J. Watson, T. Johannessen, J-C Gascard, A. Olsson, B   
# Smethie. Mixing and transport in the Greenland Sea for the 1996-2003   
# period from a tracer experiment in prep. 2008. 
EXPOCODE,STNNBR,CASTNO,SAMPNO,BTLNBR,BTLNBR_FLAG_W,DATE,LATITUDE,LONGITUDE,DEPTH,CTDPRS,CTDTMP,CTDSAL,CTDSAL_FLAG_W,SALNTY,SALNTY_FLAG_W,CTDOXY,CTDOXY_FLAG_W,OXYGEN,OXYGEN_FLAG_W,SILCAT,SILCAT_FLAG_W,NITRAT,NITRAT_FLAG_W,NITRIT,NITRIT_FLAG_W,PHSPHT,PHSPHT_FLAG_W,CFC-11,CFC-11_FLAG_W,CFC-12,CFC-12_FLAG_W,CFC113,CFC113_FLAG_W,SF6,SF6_FLAG_W,TCARBN,TCARBN_FLAG_W,ALKALI,ALKALI_FLAG_W,THETA
,,,,,,,,,METERS,DBARS,ITS-90,PSS-78,,PSS-78,,UMOL/KG,,UMOL/KG,,UMOL/KG,,UMOL/KG,,UMOL/KG,,UMOL/KG,,PMOL/KG,,PMOL/KG,,PMOL/KG,,FMOL/KG,,UMOL/KG,,UMOL/KG,,DEGC
  316N20020530,     1,  1,      9,      9,2,20020601, 67.0013, -14.9980,  167,      2.6,   3.2231,  34.3862,2,  34.3854,2,    365.6,2,    355.6,2,     0.98,2,     0.10,2,     0.00,2,     0.14,2,    5.913,6,    3.067,6,    0.542,6,  2.15758314,2,   2049.2,2,   2287.7,2,   3.2229
  316N20020530,     1,  1,      8,      8,2,20020601, 67.0013, -14.9980,  167,     18.0,   2.5050,  34.4826,2,  34.4921,2,    365.3,2,    374.7,2,     1.17,2,     0.20,2,     0.01,2,     0.17,2, -999.000,9, -999.000,9, -999.000,9,        -999,9,   -999.0,9,   -999.0,9,   2.5040
  316N20020530,     1,  1,      7,      7,2,20020601, 67.0013, -14.9980,  167,     33.5,   2.1297,  34.5423,2,  34.5458,2,    366.2,2,    367.8,2,     1.56,2,     0.98,2,     0.04,2,     0.26,2,    5.991,2,    3.128,2,    0.545,2,  2.21589543,2,   2077.7,2,   2295.4,2,   2.1279
  316N20020530,     1,  1,      6,      6,3,20020601, 67.0013, -14.9980,  167,     53.5,   1.6106,  34.5671,2,  34.5683,2,    348.0,2,    347.4,2,     2.05,2,     5.08,2,     0.10,2,     0.57,2, -999.000,9, -999.000,9, -999.000,9,        -999,9,   -999.0,9,   -999.0,9,   1.6080
  316N20020530,     1,  1,      5,      5,2,20020601, 67.0013, -14.9980,  167,     72.9,   1.4766,  34.5890,2,  34.5954,2,    338.1,2,    336.4,2,     2.74,2,     7.33,2,     0.14,2,     0.68,2,    5.993,2,    3.133,2,    0.546,2,  2.19629103,2,   2124.0,2,   2291.2,2,   1.4731
  316N20020530,     1,  1,      4,      4,2,20020601, 67.0013, -14.9980,  167,     93.2,   1.3986,  34.6326,2,  34.6371,2,    326.8,2,    325.7,2,     3.81,2,     9.97,2,     0.19,2,     0.82,2, -999.000,9, -999.000,9, -999.000,9,        -999,9,   -999.0,9,   -999.0,9,   1.3942
  316N20020530,     1,  1,      3,      3,2,20020601, 67.0013, -14.9980,  167,    114.0,   1.3802,  34.6703,2,  34.6732,2,    323.2,2,    324.6,2,     4.11,2,    10.85,2,     0.19,2,     0.86,2,    5.816,2,    3.049,2,    0.535,2,  2.16688164,2,   2140.5,2,   2291.3,2,   1.3747
  316N20020530,     1,  1,      2,      2,2,20020601, 67.0013, -14.9980,  167,    134.0,   1.3341,  34.6943,2,  34.6977,2,    323.6,2,    322.5,2,     5.28,2,    11.92,2,     0.19,2,     0.91,2, -999.000,9, -999.000,9, -999.000,9,  2.17660267,2,   -999.0,9,   -999.0,9,   1.3277
  316N20020530,     1,  1,      1,      1,2,20020601, 67.0013, -14.9980,  167,    161.7,   1.1966,  34.7005,2,  34.7086,2,    317.2,2,    317.3,2,     7.23,2,    12.80,2,     0.17,2,     0.96,2,    5.495,6,    2.883,6,    0.488,6,  2.22538736,2,   2150.6,2,   2289.8,2,   1.1890
  316N20020530,     2,  1,     17,     17,2,20020601, 67.2550, -14.6910,  509,      2.5,   3.0093,  34.5118,2,  34.5119,2,    353.2,2,    353.7,2,     0.98,2,     0.88,2,     0.02,2,     0.19,2,    5.935,2,    3.147,2,    0.544,2,  2.11833236,2,   2064.9,2,   2288.5,2,   3.0091
  316N20020530,     2,  1,     16,     16,9,20020601, 67.2550, -14.6910,  509,     18.4,   2.7751,  34.5381,2,-999.0000,9,    360.9,2,   -999.0,9,  -999.00,9,  -999.00,9,  -999.00,9,  -999.00,9, -999.000,9, -999.000,9, -999.000,9,        -999,9,   -999.0,9,   -999.0,9,   2.7740
  316N20020530,     2,  1,     15,     15,2,20020601, 67.2550, -14.6910,  509,     33.7,   2.1212,  34.5888,2,  34.5962,2,    368.9,2,    367.1,2,     1.27,2,     1.95,2,     0.05,2,     0.30,2,    6.017,6,    3.164,6,    0.542,6,   2.1279607,2,   2089.7,2,   2293.0,2,   2.1194
  316N20020530,     2,  1,     14,     14,2,20020601, 67.2550, -14.6910,  509,     53.8,   0.9324,  34.6715,2,  34.6725,2,    353.7,2,    352.0,2,     3.32,2,     7.62,2,     0.08,2,     0.71,2, -999.000,9, -999.000,9, -999.000,9,        -999,9,   -999.0,9,   -999.0,9,   0.9301
  316N20020530,     2,  1,     13,     13,2,20020601, 67.2550, -14.6910,  509,     78.5,   0.6761,  34.6776,2,  34.6783,2,    344.7,2,    345.3,2,     4.59,2,     9.58,2,     0.09,2,     0.80,2,    5.998,6,    3.129,6,    0.530,6,  2.21567687,2,   2134.0,2,   2287.3,2,   0.6728
  316N20020530,     2,  1,     12,     12,2,20020601, 67.2550, -14.6910,  509,    103.6,   0.4331,  34.6764,2,  34.6718,2,    340.0,2,    343.3,2,     4.98,2,    10.36,2,     0.09,2,     0.82,2,    6.167,2,    3.221,2,    0.589,2,  2.20592685,2,   2138.3,2,   2285.3,2,   0.4290
  316N20020530,     2,  1,     11,     11,2,20020601, 67.2550, -14.6910,  509,    129.0,  -0.1061,  34.6649,2,  34.6638,2,    343.6,2,    346.7,2,     4.98,2,    10.36,2,     0.08,2,     0.81,2, -999.000,9, -999.000,9, -999.000,9,        -999,9,   -999.0,9,   -999.0,9,  -0.1107
  316N20020530,     2,  1,     10,     10,2,20020601, 67.2550, -14.6910,  509,    153.4,  -0.0090,  34.6915,2,  34.6943,2,    333.8,2,    339.7,2,     5.67,2,    11.04,2,     0.09,2,     0.85,2,    6.095,2,    3.141,2,    0.549,2,   2.1668476,2,   2146.7,2,   2282.7,2,  -0.0146
  316N20020530,     2,  1,      9,      9,2,20020601, 67.2550, -14.6910,  509,    175.6,  -0.0236,  34.7136,2,  34.7213,2,    335.8,2,    334.6,2,     6.16,2,    11.63,2,     0.09,2,     0.87,2, -999.000,9, -999.000,9, -999.000,9,        -999,9,   -999.0,9,   -999.0,9,  -0.0300
  316N20020530,     2,  1,      8,      8,2,20020601, 67.2550, -14.6910,  509,    204.9,  -0.0839,  34.7474,2,  34.7481,2,    334.3,2,    330.9,2,     6.45,2,    11.92,2,     0.07,2,     0.90,2,    5.699,2,    2.934,2,    0.495,2,  2.01059788,2,   -999.0,9,   -999.0,9,  -0.0914
  316N20020530,     2,  1,      7,      7,2,20020601, 67.2550, -14.6910,  509,    234.5,   0.1269,  34.8044,2,  34.8057,2,    317.3,2,    318.1,2,     7.33,2,    12.80,2,     0.03,2,     0.95,2,    4.961,2,    2.563,2,    0.414,2,  1.92267378,2,   2153.6,2,   2288.6,2,   0.1178
  316N20020530,     2,  1,      6,      6,2,20020601, 67.2550, -14.6910,  509,    264.5,  -0.0185,  34.8230,2,  34.8248,2,    317.5,2,    317.8,2,     7.62,2,    12.90,2,     0.02,2,     0.96,2, -999.000,9, -999.000,9, -999.000,9,        -999,9,   -999.0,9,   -999.0,9,  -0.0285
  316N20020530,     2,  1,      5,      5,2,20020601, 67.2550, -14.6910,  509,    304.3,  -0.2086,  34.8602,2,  34.8619,2,    311.8,2,    309.5,2,     8.60,2,    13.49,2,     0.03,2,     1.00,2,    4.061,2,    2.045,2,    0.328,2,  1.94211206,2,   2159.1,2,   2291.8,2,  -0.2197
  316N20020530,     2,  1,      4,      4,2,20020601, 67.2550, -14.6910,  509,    343.8,  -0.4182,  34.8865,2,  34.8871,2,    306.9,2,    305.0,2,     9.48,2,    13.78,2,     0.02,2,     1.03,2,    3.492,2,    1.751,2,    0.256,2,  2.09822241,2,   -999.0,9,   -999.0,9,  -0.4303
  316N20020530,     2,  1,      3,      3,2,20020601, 67.2550, -14.6910,  509,    389.9,  -0.5163,  34.8934,2,  34.8956,2,    302.9,2,    303.3,2,    10.26,2,    14.07,2,     0.02,2,     1.04,2,    3.024,2,    1.503,2,    0.196,2,  2.16652292,2,   2152.5,2,   2297.2,2,  -0.5299
  316N20020530,     2,  1,      2,      2,2,20020601, 67.2550, -14.6910,  509,    434.8,  -0.5847,  34.8978,2,  34.9021,2,    302.0,2,    301.4,2,    10.75,2,    14.27,2,     0.01,2,     1.07,2, -999.000,9, -999.000,9, -999.000,9,        -999,9,   -999.0,9,   -999.0,9,  -0.5998
  316N20020530,     2,  1,      1,      1,2,20020601, 67.2550, -14.6910,  509,    483.3,  -0.6221,  34.8996,2,  34.9030,2,    300.1,2,    300.9,2,    10.95,2,    14.27,2,     0.01,2,     1.03,2,    2.461,2,    1.194,2,    0.164,2,   2.1860291,2,   2163.1,2,   2295.0,2,  -0.6389
  316N20020530,     3,  1,     21,     21,2,20020601, 67.3535, -14.5622,  931,      2.0,   2.8287,  34.5350,2,  34.5194,2,    358.4,2,    361.3,2,     1.17,2,     0.59,2,     0.02,2,     0.17,2,    5.846,2,    3.083,2,    0.529,2,  2.18665345,2,   2058.6,2,   2290.7,2,   2.8286
  316N20020530,     3,  1,     20,     20,2,20020601, 67.3535, -14.5622,  931,     18.1,   2.0216,  34.6003,2,  34.5997,2,    365.2,2,   -999.0,9,     0.78,2,     0.10,2,     0.01,2,     0.15,2, -999.000,9, -999.000,9, -999.000,9,        -999,9,   -999.0,9,   -999.0,9,   2.0207
  316N20020530,     3,  1,     19,     19,2,20020601, 67.3535, -14.5622,  931,     33.1,   0.4809,  34.6472,2,  34.6447,2,    357.4,2,    357.3,2,     3.03,2,     7.33,2,     0.08,2,     0.65,2, -999.000,9, -999.000,9, -999.000,9,        -999,9,   -999.0,9,   -999.0,9,   0.4796
  316N20020530,     3,  1,     18,     18,2,20020601, 67.3535, -14.5622,  931,     53.7,  -0.2634,  34.6562,2,  34.6552,2,    352.3,2,    352.7,2,     3.71,2,     9.97,2,     0.07,2,     0.76,2,    6.380,6,    3.348,6,    0.583,6,    2.352367,2,   2136.5,2,   2283.2,2,  -0.2652
  316N20020530,     3,  1,     17,     17,2,20020601, 67.3535, -14.5622,  931,     78.7,  -0.5000,  34.6546,2,  34.6530,2,    355.3,2,    356.7,3,     3.52,2,     9.97,2,     0.06,2,     0.75,2, -999.000,9, -999.000,9, -999.000,9,        -999,9,   -999.0,9,   -999.0,9,  -0.5025
  316N20020530,     3,  1,     16,     16,2,20020601, 67.3535, -14.5622,  931,    103.3,  -0.6190,  34.6548,2,  34.6538,2,    355.9,2,    356.0,2,     3.62,2,    10.17,2,     0.06,2,     0.75,2,    6.466,2,    3.419,2,    0.594,2,  2.34260858,2,   2147.3,2,   2280.9,2,  -0.6222
  316N20020530,     3,  1,     15,     15,2,20020601, 67.3535, -14.5622,  931,    129.2,  -0.3831,  34.7327,2,  34.7350,2,    341.4,2,    337.0,2,     5.38,2,    11.53,2,     0.08,2,     0.84,2, -999.000,9, -999.000,9, -999.000,9,        -999,9,   -999.0,9,   -999.0,9,  -0.3874
  316N20020530,     3,  1,     14,     14,2,20020601, 67.3535, -14.5622,  931,    153.4,  -0.1328,  34.7845,2,  34.7851,2,    330.3,2,    326.4,2,     5.38,2,    12.12,2,     0.04,2,     0.87,2, -999.000,9, -999.000,9, -999.000,9,        -999,9,   -999.0,9,   -999.0,9,  -0.1383
  316N20020530,     3,  1,     13,     13,2,20020601, 67.3535, -14.5622,  931,    179.4,  -0.0451,  34.8201,2,  34.8180,2,    326.0,2,    322.8,2,     5.57,2,    12.31,2,     0.02,2,     0.88,2,    5.036,2,    2.609,2,    0.408,2,  1.72746265,2,   2163.1,2,   2290.6,2,  -0.0517
  316N20020530,     3,  1,     12,     12,2,20020601, 67.3535, -14.5622,  931,    203.8,  -0.0148,  34.8336,2,  34.8345,2,    319.9,2,    321.4,2,     5.57,2,    12.41,2,     0.01,2,     0.89,2, -999.000,9, -999.000,9, -999.000,9,        -999,9,   -999.0,9,   -999.0,9,  -0.0224
  316N20020530,     3,  1,     11,     11,2,20020601, 67.3535, -14.5622,  931,    233.7,  -0.1108,  34.8375,2,  34.8361,2,    317.2,2,    322.5,2,     6.06,2,    12.41,2,     0.01,2,     0.89,2,    4.965,2,    2.563,2,    0.405,2,  1.62008439,2,   2154.5,2,   2289.0,2,  -0.1194
  316N20020530,     3,  1,     10,     10,2,20020601, 67.3535, -14.5622,  931,    265.0,  -0.2108,  34.8436,2,  34.8424,2,    324.2,2,    322.9,2,     6.06,2,    12.51,2,     0.01,2,     0.89,2, -999.000,9, -999.000,9, -999.000,9,        -999,9,   -999.0,9,   -999.0,9,  -0.2204
  316N20020530,     3,  1,      9,      9,2,20020601, 67.3535, -14.5622,  931,    304.1,  -0.3484,  34.8408,2,  34.8405,2,    324.7,2,    324.9,2,     5.96,2,    12.51,2,     0.00,2,     0.89,2,    5.035,2,    2.552,2,    0.420,2,  1.66887665,2,   2161.1,2,   2290.6,2,  -0.3591
  316N20020530,     3,  1,      8,      8,2,20020601, 67.3535, -14.5622,  931,    344.7,  -0.3014,  34.8517,2,  34.8505,2,    323.9,2,    322.7,2,     5.96,2,    12.61,2,     0.00,2,     0.90,2, -999.000,9, -999.000,9, -999.000,9,        -999,9,   -999.0,9,   -999.0,9,  -0.3139
  316N20020530,     3,  1,      7,      7,2,20020601, 67.3535, -14.5622,  931,    394.9,  -0.3558,  34.8584,2,  34.8594,2,    321.8,2,    323.2,2,     6.06,2,    12.70,2,     0.00,2,     0.91,2,    4.946,2,    2.526,2,    0.402,2,  1.67861254,2,   -999.0,9,   -999.0,9,  -0.3701
  316N20020530,     3,  1,      6,      6,2,20020601, 67.3535, -14.5622,  931,    455.8,  -0.1824,  34.8827,2,  34.8844,2,    313.7,2,    313.8,2,     6.84,2,    13.19,2,     0.00,2,     0.94,2,    4.297,2,    2.168,2,    0.328,2,   1.5321934,2,   2157.7,2,   2292.9,2,  -0.1998
  316N20020530,     3,  1,      5,      5,2,20020601, 67.3535, -14.5622,  931,    530.1,  -0.2971,  34.8876,2,  34.8884,2,    311.7,2,    313.1,2,     7.33,2,    13.39,2,     0.00,2,     0.96,2,    3.937,6,    1.997,6,    0.291,6,  1.72737213,2,   -999.0,9,   -999.0,9,  -0.3172
  316N20020530,     3,  1,      4,      4,2,20020601, 67.3535, -14.5622,  931,    605.0,  -0.3637,  34.8884,2,  34.8901,2,    310.5,2,    310.7,2,     7.33,2,    13.49,2,     0.00,2,     0.98,2,    3.780,2,    1.904,2,    0.277,2,  1.90303468,2,   2154.1,2,   2297.7,2,  -0.3867
  316N20020530,     3,  1,      3,      3,2,20020601, 67.3535, -14.5622,  931,    705.3,  -0.4683,  34.8921,2,  34.8931,2,    307.3,2,    307.4,2,     8.31,2,    13.88,2,     0.00,2,     0.98,2,    3.204,2,    1.642,2,    0.231,2,  2.13724956,2,   2158.8,2,   2292.1,2,  -0.4952
  316N20020530,     3,  1,      2,      2,2,20020601, 67.3535, -14.5622,  931,    806.7,  -0.5519,  34.8982,2,  34.8990,2,    303.4,2,    302.8,2,     9.77,2,    14.17,2,     0.00,2,     1.01,2,    2.643,2,    1.337,2,    0.176,2,  2.29338557,2,   2161.8,2,   2292.3,2,  -0.5828
  316N20020530,     3,  1,      1,      1,2,20020601, 67.3535, -14.5622,  931,    899.0,  -0.6012,  34.9003,2,  34.9030,2,    300.7,2,    300.8,2,    10.26,2,    14.27,2,     0.01,2,     1.02,2,    2.370,2,    1.195,2,    0.166,2,  2.13723381,2,   2165.2,2,   2298.0,2,  -0.6361