BOTTLE,20081218PRINUNIVRMK
EXPOCODE,STNNBR,CASTNO,SAMPNO,BTLNBR,BTLNBR_FLAG_W,DATE,LATITUDE,LONGITUDE,DEPTH,CTDPRS,CTDTMP,CTDSAL,CTDSAL_FLAG_W,SALNTY,SALNTY_FLAG_W,CTDOXY,CTDOXY_FLAG_W,OXYGEN,OXYGEN_FLAG_W,SILCAT,SILCAT_FLAG_W,NITRAT,NITRAT_FLAG_W,NITRIT,NITRIT_FLAG_W,PHSPHT,PHSPHT_FLAG_W,CFC-11,CFC-11_FLAG_W,CFC-12,CFC-12_FLAG_W,CFC113,CFC113_FLAG_W,SF6,SF6_FLAG_W,TCARBN,TCARBN_FLAG_W,ALKALI,ALKALI_FLAG_W,THETA
,,,,,,,,,METERS,DBARS,ITS-90,PSS-78,,PSS-78,,UMOL/KG,,UMOL/KG,,UMOL/KG,,UMOL/KG,,UMOL/KG,,UMOL/KG,,PMOL/KG,,PMOL/KG,,PMOL/KG,,FMOL/KG,,UMOL/KG,,UMOL/KG,,DEGC
  316N20020530,   142,  1,     29,     29,2,20020628, 63.5095, -10.8592,  478,      3.0,   9.0945,  35.1458,2,  35.1410,2,    303.9,2,    304.9,2,     1.37,2,     6.55,2,     0.17,2,     0.44,2,    4.078,2,    2.201,2,    0.329,2,  1.80510599,2,   2087.0,2,   2300.2,2,   9.0942
  316N20020530,   142,  1,     27,     27,2,20020628, 63.5095, -10.8592,  478,     33.1,   8.7367,  35.1512,2,  35.1473,2,    304.5,2,    298.4,2,     1.47,2,     7.13,2,     0.19,2,     0.50,2, -999.000,9, -999.000,9, -999.000,9,   1.7563111,2,   2098.8,2,   2302.7,2,   8.7332
  316N20020530,   142,  1,     25,     25,2,20020628, 63.5095, -10.8592,  478,     57.7,   7.8708,  35.1649,2,  35.1685,2,    285.8,2,    280.8,2,     4.59,2,    11.24,2,     0.29,2,     0.79,2,    4.000,6,    2.138,6,    0.325,6,  1.76604052,2,   2128.9,2,   2311.0,2,   7.8651
  316N20020530,   142,  1,     23,     23,2,20020628, 63.5095, -10.8592,  478,     83.0,   7.4495,  35.1836,2,  35.1782,2,    277.4,2,    277.2,2,     5.76,2,    13.19,2,     0.14,2,     0.86,2,    3.989,2,    2.180,2,    0.316,2,  1.71724247,2,   2140.0,2,   2318.8,2,   7.4415
  316N20020530,   142,  1,     21,     21,2,20020628, 63.5095, -10.8592,  478,    112.1,   7.2682,  35.1878,2,  35.1817,2,    278.2,2,    276.8,2,     6.06,2,    13.78,2,     0.04,2,     0.89,2,    4.009,2,    2.175,2,    0.326,2,  1.71723799,2,   2139.9,2,   2320.8,2,   7.2575
  316N20020530,   142,  1,     19,     19,2,20020628, 63.5095, -10.8592,  478,    143.3,   6.7774,  35.1586,2,  35.1501,2,    279.1,2,    279.5,2,     6.16,2,    13.68,2,     0.07,2,     0.88,2,    4.064,2,    2.165,2,    0.325,2,  1.72703565,2,   2138.7,2,   2317.7,2,   6.7642
  316N20020530,   142,  1,     17,     17,2,20020628, 63.5095, -10.8592,  478,    193.2,   5.8137,  35.1072,2,  35.1038,2,    277.4,2,    275.6,2,     7.04,2,    14.17,2,     0.07,2,     0.93,2,    3.875,6,    2.037,6,    0.301,6,  1.61976158,2,   -999.0,9,   -999.0,9,   5.7973
  316N20020530,   142,  1,     15,     15,2,20020628, 63.5095, -10.8592,  478,    243.4,   4.9351,  35.0659,2,  35.0611,2,    278.9,2,    278.6,2,     7.33,2,    14.17,2,     0.12,2,     0.93,2,    3.856,2,    2.010,2,    0.282,2,  1.60029724,2,   -999.0,9,   -999.0,9,   4.9161
  316N20020530,   142,  1,     13,     13,2,20020628, 63.5095, -10.8592,  478,    293.8,   2.8998,  34.9914,2,  34.9640,2,    288.0,2,    291.4,2,     7.62,2,    13.88,2,     0.10,2,     0.93,2,    4.050,2,    2.071,2,    0.296,2,  1.83461969,2,   2152.3,2,   2321.9,2,   2.8815
  316N20020530,   142,  1,     11,     11,2,20020628, 63.5095, -10.8592,  478,    343.6,   0.4211,  34.8722,2,  34.8751,2,    304.7,2,    303.7,2,     8.11,2,    13.88,2,     0.02,2,     0.95,2,    4.098,2,    2.065,2,    0.302,2,  1.94209297,2,   -999.0,9,   -999.0,9,   0.4066
  316N20020530,   142,  1,      9,      9,2,20020628, 63.5095, -10.8592,  478,    391.1,  -0.1251,  34.8891,2,  34.8899,2,    299.9,2,    300.9,2,     9.09,2,    14.17,2,     0.01,2,     0.97,2,    3.457,2,    1.706,2,    0.251,2,  1.91279412,2,   2160.4,2,   2311.2,2,  -0.1400
  316N20020530,   142,  1,      7,      7,2,20020628, 63.5095, -10.8592,  478,    455.6,  -0.2274,  34.8903,2,  34.8915,2,    300.6,2,    300.0,2,     9.48,2,    14.27,2,     0.02,2,     0.98,2,    3.295,2,    1.617,2,    0.214,2,  1.99086497,2,   2160.3,2,   2314.4,2,  -0.2446
  316N20020530,   143,  1,     27,     27,2,20020628, 63.2590, -10.1087,  401,      3.4,   9.8161,  35.1831,2,  35.1813,2,    294.4,2,    296.8,2,     0.88,2,     6.64,2,     0.16,2,     0.49,2,    3.988,2,    2.145,2,    0.346,2,  1.76602369,2,   2086.8,2,   2320.3,2,   9.8157
  316N20020530,   143,  1,     25,     25,2,20020628, 63.2590, -10.1087,  401,     32.5,   9.2898,  35.1859,2,  35.1825,2,    291.0,2,    290.4,2,     1.56,2,     7.23,2,     0.18,2,     0.55,2,    3.925,2,    2.141,2,    0.353,2,  1.78553617,2,   2098.2,2,   2321.6,2,   9.2862
  316N20020530,   143,  1,     23,     23,2,20020628, 63.2590, -10.1087,  401,     72.8,   7.7748,  35.2115,2,  35.2089,2,    277.1,2,    276.6,2,     5.86,2,    13.39,2,     0.14,2,     0.87,2,    3.998,2,    2.143,2,    0.337,2,        -999,9,   2136.6,2,   2321.5,2,   7.7676
  316N20020530,   143,  1,     21,     21,2,20020628, 63.2590, -10.1087,  401,    102.7,   7.5307,  35.2012,2,  35.1989,2,    275.9,2,    275.5,2,     6.16,2,    13.78,2,     0.03,2,     0.88,2,    3.998,2,    2.166,2,    0.339,2,  1.72697292,2,   2138.1,2,   2320.8,2,   7.5207
  316N20020530,   143,  1,     19,     19,2,20020628, 63.2590, -10.1087,  401,    142.3,   7.4059,  35.2042,2,  35.2021,2,    275.6,2,    275.9,2,     6.16,2,    13.97,2,     0.01,2,     0.89,2,    4.038,2,    2.127,2,    0.334,2,  1.74648258,2,   2144.5,2,   2321.1,2,   7.3921
  316N20020530,   143,  1,     17,     17,2,20020628, 63.2590, -10.1087,  401,    182.0,   7.1106,  35.1892,2,  35.1880,2,    270.6,2,    279.0,2,     6.25,2,    13.97,2,     0.01,2,     0.89,2,    4.089,2,    2.170,2,    0.334,2,  1.73674392,2,   2138.9,2,   2321.2,2,   7.0934
  316N20020530,   143,  1,     15,     15,2,20020628, 63.2590, -10.1087,  401,    222.3,   6.4966,  35.1441,2,  35.1484,2,    271.0,2,    271.8,2,     6.94,2,    14.46,2,     0.02,2,     0.93,2,    3.830,6,    2.035,6,    0.301,6,  1.64897963,2,   -999.0,9,   -999.0,9,   6.4765
  316N20020530,   143,  1,     13,     13,2,20020628, 63.2590, -10.1087,  401,    267.0,   5.1913,  35.0479,2,  35.0508,2,    284.6,2,    281.8,2,     6.64,2,    13.68,2,     0.14,2,     0.90,2,    4.087,2,    2.162,2,    0.337,2,  1.72716331,2,   -999.0,9,   -999.0,9,   5.1698
  316N20020530,   143,  1,     11,     11,2,20020628, 63.2590, -10.1087,  401,    301.3,   3.2009,  34.8959,2,  34.8950,2,    292.0,2,    300.5,3,     5.96,3,    12.31,3,     0.16,3,     0.86,3,    4.771,6,    2.469,6,    0.392,6,  1.95182332,2,   2144.0,2,   2303.2,2,   3.1814
  316N20020530,   143,  1,      9,      9,2,20020628, 63.2590, -10.1087,  401,    351.2,   1.8509,  34.9164,2,  34.9145,2,    294.4,2,   -999.0,9,     7.43,2,    13.78,2,     0.05,2,     0.93,2,    4.254,2,    2.186,2,    0.337,2,  1.93227704,2,   2147.8,2,   2305.9,2,   1.8319
  316N20020530,   143,  1,      7,      7,2,20020628, 63.2590, -10.1087,  401,    386.6,   1.7192,  34.9111,2,  34.9102,2,    297.1,2,    298.6,2,     7.52,2,    13.78,2,     0.05,2,     0.93,2,    4.266,2,    2.142,2,    0.347,2,  1.95180124,2,   2153.8,2,   2297.9,2,   1.6986
  316N20020530,   144,  1,     31,     31,2,20020628, 63.0270,  -9.5140,  514,      2.4,  10.0884,  35.1867,2,  35.1837,2,    294.2,2,    297.1,2,     0.78,2,     6.45,2,     0.17,2,     0.47,2,    3.920,2,    2.124,2,    0.387,2,  1.77577756,2,   2086.3,2,   2323.5,2,  10.0881
  316N20020530,   144,  1,     29,     29,2,20020628, 63.0270,  -9.5140,  514,     27.7,   9.3514,  35.1884,2,  35.1865,2,    297.7,2,    296.4,2,     0.78,2,     6.64,2,     0.18,2,     0.49,2, -999.000,9, -999.000,9, -999.000,9,  1.76601686,2,   2100.4,2,   2321.6,2,   9.3483
  316N20020530,   144,  1,     27,     27,2,20020628, 63.0270,  -9.5140,  514,     53.5,   9.3197,  35.2013,2,  35.1986,2,    291.4,2,    290.7,2,     0.78,2,     7.13,2,     0.20,2,     0.53,2,    3.928,2,    2.130,2,    0.317,2,  1.75624404,2,   2105.3,2,   2329.7,2,   9.3138
  316N20020530,   144,  1,     25,     25,2,20020628, 63.0270,  -9.5140,  514,     93.4,   7.8972,  35.2334,2,  35.2313,2,    273.4,2,    273.4,2,     5.86,2,    13.78,2,     0.04,2,     0.88,2, -999.000,9, -999.000,9, -999.000,9,   1.6781479,2,   2144.7,2,   2328.0,2,   7.8878
  316N20020530,   144,  1,     23,     23,2,20020628, 63.0270,  -9.5140,  514,    133.2,   7.6197,  35.2119,2,  35.2093,2,    273.3,2,    273.9,2,     5.96,2,    13.97,2,     0.02,2,     0.90,2,    3.930,2,    2.133,2,    0.359,2,  1.66841855,2,   2141.7,2,   2328.8,2,   7.6066
  316N20020530,   144,  1,     21,     21,2,20020628, 63.0270,  -9.5140,  514,    183.7,   7.2353,  35.1882,2,  35.1845,2,    277.5,2,    277.7,2,     6.06,2,    13.87,2,     0.02,2,     0.89,2,    3.986,2,    2.121,2,    0.308,2,  1.71723442,2,   2145.0,2,   2324.6,2,   7.2177
  316N20020530,   144,  1,     19,     19,2,20020628, 63.0270,  -9.5140,  514,    208.4,   7.0785,  35.1822,2,  35.1785,2,    277.8,2,    276.8,2,     6.25,2,    14.07,2,     0.02,2,     0.90,2,    3.990,2,    2.142,2,    0.363,2,  1.72699914,2,   -999.0,9,   -999.0,9,   7.0588
  316N20020530,   144,  1,     17,     17,2,20020628, 63.0270,  -9.5140,  514,    243.6,   6.4832,  35.1580,2,  35.1501,2,    282.0,2,    273.5,2,     6.74,2,    14.27,2,     0.03,2,     0.93,2,    3.854,6,    2.040,6,    0.299,6,  1.60994849,2,   -999.0,9,   -999.0,9,   6.4612
  316N20020530,   144,  1,     15,     15,2,20020628, 63.0270,  -9.5140,  514,    294.1,   4.5013,  35.0331,2,  35.0287,2,    283.0,2,    287.3,2,     6.74,2,    13.88,2,     0.01,2,     0.91,2,    4.199,2,    2.199,2,    0.390,2,  1.81501504,2,   2152.9,2,   2316.5,2,   4.4792
  316N20020530,   144,  1,     13,     13,2,20020628, 63.0270,  -9.5140,  514,    343.8,   3.3636,  34.9714,2,  34.9675,2,    293.1,2,    294.1,2,     6.84,2,    13.68,2,     0.02,2,     0.91,2,    4.278,2,    2.192,2,    0.319,2,  1.88340785,2,   -999.0,9,   -999.0,9,   3.3408
  316N20020530,   144,  1,     11,     11,2,20020628, 63.0270,  -9.5140,  514,    383.4,   1.9007,  34.9266,2,  34.9255,2,    299.8,2,    300.0,2,     7.23,2,    13.78,2,     0.01,2,     0.92,2,    4.270,2,    2.199,2,    0.384,2,  1.92250232,2,   -999.0,9,   -999.0,9,   1.8797
  316N20020530,   144,  1,      9,      9,2,20020628, 63.0270,  -9.5140,  514,    432.3,   0.1025,  34.8944,2,  34.8950,2,    301.1,2,    300.9,2,     8.89,2,    14.17,2,     0.01,2,     0.97,2,    3.548,2,    1.747,2,    0.304,2,        -999,9,   2157.4,2,   2303.9,2,   0.0850
  316N20020530,   144,  1,      7,      7,2,20020628, 63.0270,  -9.5140,  514,    509.6,  -0.0004,  34.8926,2,  34.8941,2,    300.4,2,    300.4,2,     9.09,2,    14.17,2,     0.01,2,     0.97,2,    3.430,2,    1.700,2,    0.283,2,  1.99086112,2,   2163.9,2,   2299.7,2,  -0.0209
  316N20020530,   145,  1,     29,     29,2,20020628, 62.7947,  -8.9027,  492,      3.5,  10.2942,  35.2070,2,  35.2071,2,    293.9,2,    294.0,2,     1.37,2,     6.94,2,     0.15,2,     0.50,2,    3.894,2,    2.168,2,    0.342,2,  1.71720553,2,   2093.4,2,   2314.7,2,  10.2938
  316N20020530,   145,  1,     27,     27,2,20020628, 62.7947,  -8.9027,  492,     33.0,   9.4953,  35.2147,2,  35.2152,2,    294.6,2,    290.8,2,     1.86,2,     7.91,2,     0.20,2,     0.57,2,    3.936,2,    2.113,2,    0.331,2,  1.70743838,2,   2102.6,2,   2321.6,2,   9.4916
  316N20020530,   145,  1,     25,     25,2,20020628, 62.7947,  -8.9027,  492,     63.1,   8.3039,  35.2640,2,  35.2637,2,    273.2,2,    273.1,2,     5.47,2,    13.29,2,     0.06,2,     0.85,2,    3.905,2,    2.154,2,    0.321,2,  1.67810743,2,   2146.4,2,   2329.6,2,   8.2974
  316N20020530,   145,  1,     23,     23,2,20020628, 62.7947,  -8.9027,  492,     98.1,   8.2145,  35.2646,2,  35.2641,2,    270.7,2,    270.9,2,     5.67,2,    13.48,2,     0.02,2,     0.87,2,    3.818,2,    2.091,2,    0.304,2,  1.64883762,2,   -999.0,9,   -999.0,9,   8.2044
  316N20020530,   145,  1,     21,     21,2,20020628, 62.7947,  -8.9027,  492,    143.0,   8.1232,  35.2581,2,  35.2562,2,    270.4,2,    270.6,2,     5.86,2,    13.58,2,     0.01,2,     0.87,2, -999.000,9,    2.081,2,    0.304,2,  1.63909082,2,   2136.8,2,   2328.0,2,   8.1086
  316N20020530,   145,  1,     19,     19,2,20020628, 62.7947,  -8.9027,  492,    192.1,   7.9891,  35.2491,2,  35.2473,2,    272.5,2,    271.9,2,     5.96,2,    13.78,2,     0.01,2,     0.88,2,    3.826,2,    2.127,2,    0.319,2,  1.67812791,2,   -999.0,9,   -999.0,9,   7.9696
  316N20020530,   145,  1,     17,     17,2,20020628, 62.7947,  -8.9027,  492,    252.6,   7.5596,  35.2168,2,  35.2152,2,    273.0,2,    274.4,2,     6.16,2,    13.97,2,     0.01,2,     0.90,2,    3.893,2,    2.115,2,    0.327,2,  1.65865443,2,   2141.3,2,   2320.0,2,   7.5347
  316N20020530,   145,  1,     15,     15,2,20020628, 62.7947,  -8.9027,  492,    302.3,   6.5541,  35.1341,2,  35.1337,2,    278.2,2,    278.4,2,     6.25,2,    13.87,2,     0.04,2,     0.90,2,    4.107,2,    2.213,2,    0.338,2,   1.6880272,2,   -999.0,9,   -999.0,9,   6.5265
  316N20020530,   145,  1,     13,     13,2,20020628, 62.7947,  -8.9027,  492,    352.7,   5.5576,  35.1076,2,  35.1061,2,    275.3,2,    274.4,2,     7.23,2,    14.46,3,     0.03,2,     0.93,2,    3.795,2,    1.972,2,    0.285,2,  1.58072847,2,   2154.7,2,   2324.4,2,   5.5280
  316N20020530,   145,  1,     11,     11,2,20020628, 62.7947,  -8.9027,  492,    411.1,   2.9845,  34.9848,2,  34.9823,2,    289.2,2,    289.6,2,     7.62,2,    14.07,2,     0.04,2,     0.93,2,    3.859,2,    2.000,2,    0.297,2,  1.69797594,2,   2147.5,2,   2316.3,2,   2.9582
  316N20020530,   145,  1,      9,      9,2,20020628, 62.7947,  -8.9027,  492,    460.3,   2.2470,  34.9775,2,  34.9770,2,    290.0,2,    289.8,2,     8.31,2,    14.27,2,     0.01,2,     0.96,2,    3.585,6,    1.801,6,    0.263,6,   1.6784656,2,   2155.4,2,   2303.6,2,   2.2201
  316N20020530,   145,  1,      7,      7,2,20020628, 62.7947,  -8.9027,  492,    486.0,   1.0939,  34.9349,2,  34.9388,2,    295.3,2,    295.8,2,     8.60,2,    14.17,2,     0.02,2,     0.96,2,    3.571,2,    1.749,2,    0.260,2,  1.72730732,2,   2163.8,2,   2298.9,2,   1.0700
  316N20020530,   146,  1,     29,     29,2,20020628, 62.6002,  -8.3162,  512,      2.6,  10.7375,  35.2652,2,  35.2694,2,    294.1,2,    294.0,2,     0.88,2,     5.28,2,     0.16,2,     0.37,2,    3.703,2,    2.014,2,    0.288,2,   1.6976131,2,   2086.7,2,   2332.8,2,  10.7372
  316N20020530,   146,  1,     27,     27,2,20020628, 62.6002,  -8.3162,  512,     32.5,   9.9395,  35.2731,2,  35.2720,2,    281.1,2,    277.7,2,     1.95,2,     7.72,2,     0.29,2,     0.56,2,    3.801,2,    2.059,2,    0.300,2,  1.68785344,2,   2109.7,2,   2333.8,2,   9.9358
  316N20020530,   146,  1,     25,     25,2,20020628, 62.6002,  -8.3162,  512,     78.3,   8.7242,  35.2940,2,  35.2911,2,    272.3,2,    271.2,2,     4.69,2,    12.51,2,     0.02,2,     0.79,2,    3.828,2,    2.068,2,    0.305,2,  1.70734192,2,   2134.2,2,   2330.3,2,   8.7159
  316N20020530,   146,  1,     23,     23,2,20020628, 62.6002,  -8.3162,  512,    123.2,   8.5312,  35.2860,2,  35.2846,2,    271.2,2,    271.7,2,     5.08,2,    12.99,2,     0.01,2,     0.82,2,    3.761,2,    2.027,2,    0.293,2,  1.68783761,2,   2139.3,2,   2332.4,2,   8.5182
  316N20020530,   146,  1,     21,     21,2,20020628, 62.6002,  -8.3162,  512,    182.9,   8.4021,  35.2793,2,  35.2771,2,    270.6,2,    271.2,2,     5.37,2,    13.19,2,     0.01,2,     0.84,2,    3.802,2,    2.064,2,    0.295,2,  1.66833435,2,   -999.0,9,   -999.0,9,   8.3830
  316N20020530,   146,  1,     19,     19,2,20020628, 62.6002,  -8.3162,  512,    243.2,   8.2754,  35.2711,2,  35.2698,2,    268.9,2,    270.2,2,     5.76,2,    13.48,2,     0.01,2,     0.86,2,    3.800,6,    2.044,6,    0.295,6,  1.63907423,2,   2142.4,2,   2329.5,2,   8.2501
  316N20020530,   146,  1,     17,     17,2,20020628, 62.6002,  -8.3162,  512,    302.5,   7.8576,  35.2492,2,  35.2459,2,    267.9,2,    269.3,2,     6.06,2,    13.68,2,     0.01,2,     0.88,2,    3.789,2,    2.137,2,    0.282,2,  1.61959025,2,   2144.6,2,   2325.7,2,   7.8270
  316N20020530,   146,  1,     15,     15,2,20020628, 62.6002,  -8.3162,  512,    347.4,   7.2133,  35.2191,2,  35.2178,2,    268.2,2,    270.1,2,     6.35,2,    13.78,2,     0.01,2,     0.89,2,    3.727,2,    1.999,2,    0.265,2,  1.60011059,2,   2144.9,2,   2326.1,2,   7.1797
  316N20020530,   146,  1,     13,     13,2,20020628, 62.6002,  -8.3162,  512,    387.8,   5.6717,  35.1392,2,  35.1374,2,    268.7,2,    267.4,2,     8.01,2,    14.85,2,     0.01,2,     0.97,2,    3.333,2,    1.753,2,    0.225,2,  1.41481659,2,   2156.3,2,   2323.0,2,   5.6387
  316N20020530,   146,  1,     11,     11,2,20020628, 62.6002,  -8.3162,  512,    428.6,   5.3264,  35.1221,2,  35.1209,2,    269.7,2,    269.0,2,     8.01,2,    14.85,2,     0.01,2,     0.97,2,    3.394,2,    1.782,2,    0.239,2,  1.40507649,2,   2154.6,2,   2320.6,2,   5.2910
  316N20020530,   146,  1,      9,      9,2,20020628, 62.6002,  -8.3162,  512,    476.7,   1.5894,  34.9184,2,  34.9321,2,    293.4,2,    296.7,2,     7.92,2,    13.97,2,     0.02,2,     0.94,2,    3.939,2,    1.997,2,    0.274,2,  1.89321633,2,   2156.9,2,   2307.7,2,   1.5641
  316N20020530,   146,  1,      7,      7,2,20020628, 62.6002,  -8.3162,  512,    500.3,   0.3762,  34.8940,2,  34.8955,2,    300.8,2,    300.9,2,     8.70,2,    14.07,2,     0.01,2,     0.96,2,    3.675,2,    1.851,2,    0.251,2,  1.94206348,2,   2162.1,2,   2305.5,2,   0.3545