BOTTLE,20081218PRINUNIVRMK
EXPOCODE,STNNBR,CASTNO,SAMPNO,BTLNBR,BTLNBR_FLAG_W,DATE,LATITUDE,LONGITUDE,DEPTH,CTDPRS,CTDTMP,CTDSAL,CTDSAL_FLAG_W,SALNTY,SALNTY_FLAG_W,CTDOXY,CTDOXY_FLAG_W,OXYGEN,OXYGEN_FLAG_W,SILCAT,SILCAT_FLAG_W,NITRAT,NITRAT_FLAG_W,NITRIT,NITRIT_FLAG_W,PHSPHT,PHSPHT_FLAG_W,CFC-11,CFC-11_FLAG_W,CFC-12,CFC-12_FLAG_W,CFC113,CFC113_FLAG_W,SF6,SF6_FLAG_W,TCARBN,TCARBN_FLAG_W,ALKALI,ALKALI_FLAG_W,THETA
,,,,,,,,,METERS,DBARS,ITS-90,PSS-78,,PSS-78,,UMOL/KG,,UMOL/KG,,UMOL/KG,,UMOL/KG,,UMOL/KG,,UMOL/KG,,PMOL/KG,,PMOL/KG,,PMOL/KG,,FMOL/KG,,UMOL/KG,,UMOL/KG,,DEGC
  316N20020530,   104,  1,     27,     27,2,20020621, 65.9955,  -6.6302, 2644,      5.2,   7.6330,  34.8450,2,  34.8417,2,    313.7,2,    314.2,2,     0.98,2,     3.03,2,     0.05,2,     0.26,2,    4.792,2,    2.540,2,    0.435,2,  1.95190077,2,   2085.3,2,   2292.8,2,   7.6325
  316N20020530,   104,  1,     26,     26,2,20020621, 65.9955,  -6.6302, 2644,     22.7,   3.8937,  34.9657,2,  34.9672,2,    339.4,2,    341.3,2,     1.95,2,     7.62,2,     0.06,2,     0.55,2, -999.000,9, -999.000,9, -999.000,9,        -999,9,   -999.0,9,   -999.0,9,   3.8922
  316N20020530,   104,  1,     25,     25,2,20020621, 65.9955,  -6.6302, 2644,     45.4,   3.0715,  34.9879,2,  34.9898,2,    321.5,2,    321.7,2,     4.50,2,    10.07,2,     0.17,2,     0.77,2, -999.000,9, -999.000,9, -999.000,9,  2.18588786,2,   2144.3,2,   2294.0,2,   3.0687
  316N20020530,   104,  1,     24,     24,2,20020621, 65.9955,  -6.6302, 2644,     75.8,   2.7428,  35.0022,2,  35.0055,2,    319.4,2,    316.9,2,     4.98,2,    11.63,2,     0.21,2,     0.81,2, -999.000,9, -999.000,9, -999.000,9,        -999,9,   -999.0,9,   -999.0,9,   2.7383
  316N20020530,   104,  1,     23,     23,2,20020621, 65.9955,  -6.6302, 2644,    105.2,   2.4379,  35.0057,2,  35.0044,2,    316.5,2,    315.4,2,     5.08,2,    12.31,2,     0.09,2,     0.83,2,    5.540,2,    2.874,2,    0.460,2,  2.06876424,2,   2149.8,2,   2290.9,2,   2.4319
  316N20020530,   104,  1,     22,     22,2,20020621, 65.9955,  -6.6302, 2644,    145.3,   2.1493,  34.9993,2,  34.9975,2,    315.5,2,    315.1,2,     5.28,2,    12.61,2,     0.02,2,     0.84,2, -999.000,9, -999.000,9, -999.000,9,        -999,9,   -999.0,9,   -999.0,9,   2.1413
  316N20020530,   104,  1,     21,     21,2,20020621, 65.9955,  -6.6302, 2644,    175.0,   1.8495,  34.9765,2,  34.9737,2,    314.6,2,    314.5,2,     5.37,2,    12.80,2,     0.02,2,     0.86,2,    5.502,2,    2.818,2,    0.473,2,  1.98098461,2,   2152.7,2,   2288.8,2,   1.8403
  316N20020530,   104,  1,     20,     20,2,20020621, 65.9955,  -6.6302, 2644,    244.6,   1.2269,  34.9418,2,  34.9423,2,    316.1,2,    317.0,2,     5.57,2,    12.70,2,     0.02,2,     0.86,2,    5.461,2,    2.756,2,    0.446,2,   1.9517546,2,   -999.0,9,   -999.0,9,   1.2151
  316N20020530,   104,  1,     19,     19,2,20020621, 65.9955,  -6.6302, 2644,    314.3,   0.7682,  34.9175,2,  34.9170,2,    313.4,2,    322.1,2,     5.67,2,    12.70,2,     0.01,2,     0.85,2,    5.562,2,    2.817,2,    0.455,2,  1.93227344,2,   -999.0,9,   -999.0,9,   0.7541
  316N20020530,   104,  1,     18,     18,2,20020621, 65.9955,  -6.6302, 2644,    383.9,   0.3672,  34.8979,2,  34.8987,2,    311.6,2,    319.2,2,     5.96,2,    12.90,2,     0.01,2,     0.87,2,    5.241,2,    2.630,2,    0.424,2,  1.82494978,2,   2155.7,2,   2286.3,2,   0.3510
  316N20020530,   104,  1,     17,     17,2,20020621, 65.9955,  -6.6302, 2644,    454.1,   0.0817,  34.8916,7,  34.8928,2,    307.8,2,    311.1,2,     6.65,2,    13.49,2,     0.00,2,     0.91,2,    4.571,2,    2.231,2,    0.339,2,  1.54194295,2,   -999.0,9,   -999.0,9,   0.0633
  316N20020530,   104,  1,     16,     16,2,20020621, 65.9955,  -6.6302, 2644,    523.6,  -0.0592,  34.8929,2,  34.8946,2,    310.7,2,    310.2,2,     6.94,2,    13.49,2,     0.00,2,     0.92,2,    4.307,2,    2.085,2,    0.324,2,  1.53218176,2,   -999.0,9,   -999.0,9,  -0.0801
  316N20020530,   104,  1,     15,     15,2,20020621, 65.9955,  -6.6302, 2644,    603.6,  -0.2120,  34.8946,2,  34.8958,2,    309.6,2,    309.2,2,     7.23,2,    13.68,2,     0.00,2,     0.92,2,    3.927,2,    1.918,2,    0.296,2,  1.78591727,2,   2159.0,2,   2286.2,2,  -0.2357
  316N20020530,   104,  1,     14,     14,2,20020621, 65.9955,  -6.6302, 2644,    703.4,  -0.4015,  34.8937,2,  34.8944,2,    307.4,2,    309.0,2,     7.92,2,    13.88,2,     0.00,2,     0.94,2,    3.723,2,    1.812,2,    0.251,2,  2.36170727,2,   -999.0,9,   -999.0,9,  -0.4287
  316N20020530,   104,  1,     13,     13,2,20020621, 65.9955,  -6.6302, 2644,    801.4,  -0.5331,  34.8938,2,  34.8946,2,    306.6,2,    306.1,2,     8.21,2,    14.07,2,     0.00,2,     0.95,2,    3.248,6,    1.575,6,    0.224,6,  2.73255346,2,   2161.1,2,   2285.1,2,  -0.5639
  316N20020530,   104,  1,     12,     12,2,20020621, 65.9955,  -6.6302, 2644,    902.7,  -0.6037,  34.8970,2,  34.8991,2,    305.1,2,    303.2,2,     8.70,2,    14.27,2,     0.00,2,     0.96,2,    2.813,2,    1.366,2,    0.177,2,  2.61543527,2,   -999.0,9,   -999.0,9,  -0.6387
  316N20020530,   104,  1,     11,     11,2,20020621, 65.9955,  -6.6302, 2644,   1002.7,  -0.6640,  34.8986,2,  34.9009,2,    304.0,2,    304.1,2,     8.99,2,    14.37,2,     0.00,2,     0.97,2,    2.553,2,    1.233,2,    0.159,2,  2.56663639,2,   2160.4,2,   2288.6,2,  -0.7033
  316N20020530,   104,  1,     10,     10,2,20020621, 65.9955,  -6.6302, 2644,   1101.4,  -0.6970,  34.9023,2,  34.9033,2,    302.7,2,    302.7,2,     9.48,2,    14.46,2,     0.00,2,     0.98,2,    2.190,2,    1.053,2,    0.133,2,   1.9420522,2,   -999.0,9,   -999.0,9,  -0.7409
  316N20020530,   104,  1,      9,      9,2,20020621, 65.9955,  -6.6302, 2644,   1252.1,  -0.7369,  34.9059,2,  34.9064,2,    300.8,2,    300.1,2,    10.16,2,    14.66,2,     0.00,2,     0.99,2,    1.586,2,    0.767,2,    0.079,2, 0.936867243,2,   -999.0,9,   -999.0,9,  -0.7881
  316N20020530,   104,  1,      8,      8,2,20020621, 65.9955,  -6.6302, 2644,   1403.5,  -0.7776,  34.9089,2,  34.9090,2,    300.1,2,    299.6,2,    10.75,2,    14.85,2,     0.00,2,     1.00,2,    1.203,2,    0.593,2,    0.063,2, 0.468432715,2,   -999.0,9,   -999.0,9,  -0.8364
  316N20020530,   104,  1,      7,      7,2,20020621, 65.9955,  -6.6302, 2644,   1606.2,  -0.8157,  34.9101,7,  34.9104,2,    298.9,2,    299.2,2,    11.24,2,    14.85,2,     0.00,2,     1.00,2,    0.942,2,    0.479,2,    0.046,2, 0.312288151,2,   2160.7,2,   2288.3,2,  -0.8854
  316N20020530,   104,  1,      6,      6,2,20020621, 65.9955,  -6.6302, 2644,   1807.2,  -0.8366,  34.9113,2,  34.9125,2,    298.5,2,    299.3,2,    11.53,2,    14.95,2,     0.00,2,     1.00,2,    0.821,2,    0.431,2,    0.038,2, 0.273251705,2,   -999.0,9,   -999.0,9,  -0.9180
  316N20020530,   104,  1,      5,      5,2,20020621, 65.9955,  -6.6302, 2644,   2004.7,  -0.8531,  34.9108,2,  34.9116,2,    298.3,2,    299.0,2,    11.82,2,    15.05,2,     0.00,2,     1.01,2,    0.675,6,    0.359,6,    0.030,6, 0.234215904,2,   2159.7,2,   2292.8,2,  -0.9466
  316N20020530,   104,  1,      4,      4,2,20020621, 65.9955,  -6.6302, 2644,   2207.3,  -0.8514,  34.9119,2,  34.9124,2,    298.4,2,    300.0,2,    11.82,2,    14.95,2,     0.00,2,     1.01,2,    0.682,2,    0.361,2,    0.029,2, 0.126866873,2,   -999.0,9,   -999.0,9,  -0.9582
  316N20020530,   104,  1,      3,      3,2,20020621, 65.9955,  -6.6302, 2644,   2410.8,  -0.8513,  34.9121,7,  34.9118,2,    298.1,2,    298.2,2,    12.22,2,    15.05,2,     0.00,2,     1.01,2,    0.610,2,    0.331,2,    0.027,2, 0.165902907,2,   2158.6,2,   2296.1,2,  -0.9722
  316N20020530,   104,  1,      2,      2,2,20020621, 65.9955,  -6.6302, 2644,   2531.4,  -0.8551,  34.9114,2,  34.9116,2,    297.6,2,    297.8,2,    12.70,2,    15.25,2,     0.00,2,     1.02,2,    0.515,2,    0.273,2,    0.023,2,0.0780719681,2,   2162.6,2,   2291.2,2,  -0.9846
  316N20020530,   104,  1,      1,      1,2,20020621, 65.9955,  -6.6302, 2644,   2633.1,  -0.8532,  34.9118,2,  34.9112,2,    297.3,2,    297.2,2,    12.80,2,    15.25,2,     0.00,2,     1.02,2,    0.484,2,    0.257,2,    0.021,2,0.0878309902,2,   2158.3,2,   2294.4,2,  -0.9902
  316N20020530,   105,  1,     29,     29,2,20020621, 66.0018,  -6.0362, 3360,      4.9,   7.8619,  34.8069,2,  34.8028,2,    313.8,2,    314.0,2,     0.39,2,     2.64,2,     0.05,2,     0.23,2,    4.813,2,    2.540,2,    0.433,2,  1.96171708,2,   2075.5,2,   2290.7,2,   7.8614
  316N20020530,   105,  1,     28,     28,2,20020621, 66.0018,  -6.0362, 3360,     33.1,   3.8294,  34.9857,2,  34.9870,2,    346.5,2,    339.3,2,     2.74,2,     7.92,2,     0.06,2,     0.60,2,    5.624,2,    2.921,2,    0.501,2,        -999,9,   -999.0,9,   -999.0,9,   3.8272
  316N20020530,   105,  1,     27,     27,2,20020621, 66.0018,  -6.0362, 3360,     56.2,   3.3946,  35.0311,2,  35.0336,2,    318.0,2,    315.5,2,     4.79,2,    10.65,2,     0.21,2,     0.78,2, -999.000,9, -999.000,9, -999.000,9,        -999,9,   2146.1,2,   2296.0,2,   3.3910
  316N20020530,   105,  1,     26,     26,2,20020621, 66.0018,  -6.0362, 3360,     81.9,   3.1780,  35.0278,2,  35.0303,2,    313.5,2,    315.6,2,     4.89,2,    11.24,2,     0.28,2,     0.80,2,    5.525,2,    2.908,2,    0.496,2,  2.13703129,2,   -999.0,9,   -999.0,9,   3.1728
  316N20020530,   105,  1,     25,     25,2,20020621, 66.0018,  -6.0362, 3360,    107.2,   2.6120,  34.9965,7,  34.9961,2,    319.3,2,    316.7,2,     4.89,2,    11.73,2,     0.21,2,     0.81,2,    5.665,2,    2.909,2,    0.485,2,  2.14684408,2,   -999.0,9,   -999.0,9,   2.6057
  316N20020530,   105,  1,     24,     24,2,20020621, 66.0018,  -6.0362, 3360,    131.7,   2.3955,  35.0058,2,  35.0032,2,    314.4,2,    314.7,2,     5.08,2,    12.31,2,     0.06,2,     0.83,2, -999.000,9, -999.000,9, -999.000,9,        -999,9,   -999.0,9,   -999.0,9,   2.3880
  316N20020530,   105,  1,     23,     23,2,20020621, 66.0018,  -6.0362, 3360,    161.8,   2.1576,  34.9971,2,  34.9906,2,    313.6,2,    315.7,2,     5.18,2,    12.41,2,     0.04,2,     0.84,2,    5.467,2,    2.794,2,    0.461,2,  2.04926864,2,   2150.8,2,   2292.2,2,   2.1487
  316N20020530,   105,  1,     22,     22,2,20020621, 66.0018,  -6.0362, 3360,    207.8,   1.7756,  34.9697,2,  34.9706,2,    313.4,2,    316.0,2,     5.37,2,    12.61,2,     0.02,2,     0.85,2,    5.591,2,    2.795,2,    0.458,2,        -999,9,   -999.0,9,   -999.0,9,   1.7647
  316N20020530,   105,  1,     21,     21,2,20020621, 66.0018,  -6.0362, 3360,    277.1,   1.1016,  34.9323,2,  34.9311,2,    316.8,2,    317.3,2,     5.67,2,    12.80,2,     0.02,2,     0.86,2,    5.446,2,    2.748,2,    0.447,2,  1.93225316,2,   2154.3,2,   2289.0,2,   1.0885
  316N20020530,   105,  1,     20,     20,2,20020621, 66.0018,  -6.0362, 3360,    348.0,   0.5317,  34.8943,7,  34.9036,2,    318.3,2,    321.0,2,     5.67,2,    12.70,2,     0.01,2,     0.86,2,    5.451,2,    2.707,2,    0.448,2,  1.86397934,2,   -999.0,9,   -999.0,9,   0.5166
  316N20020530,   105,  1,     19,     19,2,20020621, 66.0018,  -6.0362, 3360,    428.9,   0.2305,  34.8950,2,  34.8956,2,    316.0,2,    315.2,2,     6.25,2,    13.00,2,     0.01,2,     0.89,2, -999.000,9, -999.000,9, -999.000,9,  1.63953086,2,   -999.0,9,   -999.0,9,   0.2127
  316N20020530,   105,  1,     18,     18,2,20020621, 66.0018,  -6.0362, 3360,    509.2,   0.0074,  34.8922,2,  34.8916,2,    312.2,2,    310.3,2,     6.84,2,    13.49,2,     0.00,2,     0.91,2,    4.424,2,    2.165,2,    0.327,2,  1.53218518,2,   2155.5,2,   2286.6,2,  -0.0131
  316N20020530,   105,  1,     17,     17,2,20020621, 66.0018,  -6.0362, 3360,    608.6,  -0.2547,  34.8907,2,  34.8907,2,    305.2,2,    305.2,2,     7.43,2,    14.07,2,     0.00,2,     0.95,2,    3.974,2,    1.916,2,    0.290,2,  1.53218621,2,   -999.0,9,   -999.0,9,  -0.2784
  316N20020530,   105,  1,     16,     16,2,20020621, 66.0018,  -6.0362, 3360,    735.1,  -0.4441,  34.8929,2,  34.8920,2,    304.4,2,    304.3,2,     8.01,2,    14.17,2,     0.00,2,     0.96,2,    3.483,2,    1.665,2,    0.240,2,  1.88351371,2,   2152.7,2,   2287.5,2,  -0.4725
  316N20020530,   105,  1,     15,     15,2,20020621, 66.0018,  -6.0362, 3360,    861.1,  -0.5529,  34.8971,2,  34.8970,2,    302.4,2,    302.1,2,     8.60,2,    14.37,2,     0.00,2,     0.97,2,    2.854,2,    1.391,2,    0.189,2,  2.10796605,2,   2158.4,2,   2293.9,2,  -0.5863
  316N20020530,   105,  1,     14,     14,2,20020621, 66.0018,  -6.0362, 3360,    961.8,  -0.6076,  34.9000,2,  34.8997,2,    300.6,2,    300.4,2,     9.09,2,    14.46,2,     0.00,2,     0.98,2,    2.414,2,    1.165,2,    0.147,2,  1.77615301,2,   -999.0,9,   -999.0,9,  -0.6454
  316N20020530,   105,  1,     13,     13,2,20020621, 66.0018,  -6.0362, 3360,   1112.9,  -0.6797,  34.9046,2,  34.9052,2,    298.7,2,    298.5,2,     9.77,2,    14.66,2,     0.00,2,     0.99,2,    1.809,2,    0.869,2,    0.105,2,  0.97590425,2,   2156.1,2,   2286.6,2,  -0.7243
  316N20020530,   105,  1,     12,     12,2,20020621, 66.0018,  -6.0362, 3360,   1263.7,  -0.7423,  34.9076,2,  34.9082,2,    297.4,2,    297.5,2,    10.36,2,    14.76,2,     0.00,2,     1.00,2,    1.293,2,    0.610,2,    0.076,2, 0.468432994,2,   2158.7,2,   2291.2,2,  -0.7940
  316N20020530,   105,  1,     11,     11,2,20020621, 66.0018,  -6.0362, 3360,   1415.5,  -0.7863,  34.9094,2,  34.9082,2,    297.0,2,    297.1,2,    10.85,2,    14.85,2,     0.00,2,     1.00,2,    1.032,6,    0.485,6,    0.058,6, 0.204939435,2,   -999.0,9,   -999.0,9,  -0.8457
  316N20020530,   105,  1,     10,     10,2,20020621, 66.0018,  -6.0362, 3360,   1618.1,  -0.8342,  34.9107,2,  34.9096,2,    297.1,2,    297.5,2,    11.34,2,    14.85,2,     0.00,2,     1.00,2, -999.000,9, -999.000,9, -999.000,9, 0.146385158,2,   -999.0,9,   -999.0,9,  -0.9044
  316N20020530,   105,  1,      9,      9,2,20020621, 66.0018,  -6.0362, 3360,   1819.5,  -0.8622,  34.9107,2,  34.9106,2,    297.5,2,    298.0,2,    11.73,2,    14.95,2,     0.00,2,     1.01,2,    0.731,2,    0.333,2,    0.039,2, 0.107349036,2,   2157.9,2,   2295.6,2,  -0.9439
  316N20020530,   105,  1,      8,      8,2,20020621, 66.0018,  -6.0362, 3360,   2019.6,  -0.8764,  34.9109,2,  34.9102,2,    297.6,2,    297.8,2,    12.02,2,    15.05,2,     0.00,2,     1.01,2, -999.000,9, -999.000,9, -999.000,9,0.0975900618,2,   -999.0,9,   -999.0,9,  -0.9704
  316N20020530,   105,  1,      7,      7,2,20020621, 66.0018,  -6.0362, 3360,   2223.5,  -0.8801,  34.9110,2,  34.9108,2,    297.6,2,    297.9,2,    12.41,2,    15.15,2,     0.00,2,     1.01,2,    0.575,2,    0.271,2,    0.033,2,0.0878310164,2,   2158.6,2,   2293.4,2,  -0.9875
  316N20020530,   105,  1,      6,      6,2,20020621, 66.0018,  -6.0362, 3360,   2425.0,  -0.8768,  34.9108,2,  34.9104,2,    297.6,2,    297.6,2,    12.61,2,    15.15,2,     0.00,2,     1.02,2,    0.602,4,    0.248,2,    0.032,2, 0.156144076,2,   -999.0,9,   -999.0,9,  -0.9982
  316N20020530,   105,  1,      5,      5,2,20020621, 66.0018,  -6.0362, 3360,   2629.4,  -0.8698,  34.9120,2,  34.9104,2,    297.6,2,    297.8,2,    12.90,2,    15.25,2,     0.00,2,     1.02,2,    0.479,2,    0.231,2,    0.029,2,0.0975900473,2,   2160.3,2,   2294.4,2,  -1.0062
  316N20020530,   105,  1,      4,      4,2,20020621, 66.0018,  -6.0362, 3360,   2834.2,  -0.8620,  34.9126,2,  34.9100,2,    297.6,2,    297.7,2,    13.10,2,    15.25,2,     0.00,2,     1.02,2,    0.428,2,    0.208,2,    0.028,2,0.0975900763,2,   -999.0,9,   -999.0,9,  -1.0141
  316N20020530,   105,  1,      3,      3,2,20020621, 66.0018,  -6.0362, 3360,   3037.5,  -0.8511,  34.9125,2,  34.9106,2,    297.5,2,    297.2,2,    13.39,2,    15.34,2,     0.00,2,     1.03,2,    0.374,2,    0.187,2,    0.023,2,0.0683130229,2,   2159.6,2,   2294.0,2,  -1.0195
  316N20020530,   105,  1,      2,      2,2,20020621, 66.0018,  -6.0362, 3360,   3241.6,  -0.8359,  34.9123,2,  34.9106,2,    297.5,2,    297.4,2,    13.58,2,    15.34,2,     0.00,2,     1.03,2,    0.390,2,    0.184,2,    0.021,2,0.0390360131,2,   2161.9,2,   2291.1,2,  -1.0215
  316N20020530,   105,  1,      1,      1,2,20020621, 66.0018,  -6.0362, 3360,   3353.0,  -0.8260,  34.9127,2,  34.9102,2,    297.7,2,    297.6,2,    13.68,2,    15.34,2,     0.00,2,     1.03,2,    0.359,2,    0.176,2,    0.019,2,           0,2,   2158.7,2,   2293.6,2,  -1.0213