BOTTLE,20081218PRINUNIVRMK
EXPOCODE,STNNBR,CASTNO,SAMPNO,BTLNBR,BTLNBR_FLAG_W,DATE,LATITUDE,LONGITUDE,DEPTH,CTDPRS,CTDTMP,CTDSAL,CTDSAL_FLAG_W,SALNTY,SALNTY_FLAG_W,CTDOXY,CTDOXY_FLAG_W,OXYGEN,OXYGEN_FLAG_W,SILCAT,SILCAT_FLAG_W,NITRAT,NITRAT_FLAG_W,NITRIT,NITRIT_FLAG_W,PHSPHT,PHSPHT_FLAG_W,CFC-11,CFC-11_FLAG_W,CFC-12,CFC-12_FLAG_W,CFC113,CFC113_FLAG_W,SF6,SF6_FLAG_W,TCARBN,TCARBN_FLAG_W,ALKALI,ALKALI_FLAG_W,THETA
,,,,,,,,,METERS,DBARS,ITS-90,PSS-78,,PSS-78,,UMOL/KG,,UMOL/KG,,UMOL/KG,,UMOL/KG,,UMOL/KG,,UMOL/KG,,PMOL/KG,,PMOL/KG,,PMOL/KG,,FMOL/KG,,UMOL/KG,,UMOL/KG,,DEGC
  316N20020530,    75,  1,     30,     30,2,20020615, 70.0125,  11.1210, 2935,      5.3,  11.1525,  35.0969,2,  35.0959,2,    280.8,2,    283.4,2,     1.27,2,     2.15,2,     0.05,2,     0.20,2,    3.635,2,    2.039,2,    0.329,2,  1.51243687,2,   2074.7,2,   2329.4,2,  11.1518
  316N20020530,    75,  1,     29,     29,2,20020615, 70.0125,  11.1210, 2935,     20.7,   8.8272,  35.1428,2,  35.1565,2,    292.8,2,    298.4,2,     2.15,2,     5.57,2,     0.13,2,     0.43,2,    4.095,2,    2.281,2,    0.366,2,        -999,9,   -999.0,9,   -999.0,9,   8.8250
  316N20020530,    75,  1,     28,     28,2,20020615, 70.0125,  11.1210, 2935,     36.3,   7.3026,  35.1319,2,  35.1274,2,    298.5,2,    301.2,2,     2.54,2,     7.13,2,     0.15,2,     0.54,2, -999.000,9, -999.000,9, -999.000,9,        -999,9,   2117.6,2,   2323.4,2,   7.2991
  316N20020530,    75,  1,     27,     27,2,20020615, 70.0125,  11.1210, 2935,     56.1,   6.9691,  35.1280,2,  35.1252,2,    293.0,2,    289.5,2,     3.32,2,     8.99,2,     0.24,2,     0.65,2,    4.405,2,    2.396,2,    0.379,2,  1.69779533,2,   -999.0,9,   -999.0,9,   6.9639
  316N20020530,    75,  1,     26,     26,2,20020615, 70.0125,  11.1210, 2935,     76.4,   6.7835,  35.1505,2,  35.1476,2,    293.7,2,    283.7,2,     4.30,2,    11.72,2,     0.10,2,     0.76,2, -999.000,9, -999.000,9, -999.000,9,        -999,9,   2138.3,2,   2319.1,2,   6.7765
  316N20020530,    75,  1,     25,     25,2,20020615, 70.0125,  11.1210, 2935,    101.5,   6.5673,  35.1587,7,  35.1545,2,    286.8,2,    286.8,2,     4.79,2,    12.21,2,     0.07,2,     0.79,2, -999.000,9, -999.000,9, -999.000,9,     1.72703,2,   2139.5,2,   2320.4,2,   6.5582
  316N20020530,    75,  1,     24,     24,2,20020615, 70.0125,  11.1210, 2935,    156.4,   6.1154,  35.1425,2,  35.1410,2,    289.3,2,    288.7,2,     4.98,2,    12.60,2,     0.01,2,     0.82,2,    4.477,2,    2.375,2,    0.378,2,        -999,9,   2142.1,2,   2318.6,2,   6.1018
  316N20020530,    75,  1,     23,     23,2,20020615, 70.0125,  11.1210, 2935,    206.9,   5.8374,  35.1350,2,  35.1323,2,    291.2,2,    290.1,2,     4.79,2,    12.31,2,     0.02,2,     0.81,2,    4.469,2,    2.366,2,    0.370,2,  1.69778636,2,   -999.0,9,   -999.0,9,   5.8198
  316N20020530,    75,  1,     22,     22,2,20020615, 70.0125,  11.1210, 2935,    257.1,   5.4437,  35.1257,2,  35.1233,2,    293.9,2,    292.4,2,     5.08,2,    12.51,2,     0.01,2,     0.82,2, -999.000,9, -999.000,9, -999.000,9,        -999,9,   2141.9,2,   2317.4,2,   5.4225
  316N20020530,    75,  1,     21,     21,2,20020615, 70.0125,  11.1210, 2935,    358.2,   4.9182,  35.1297,2,  35.1263,2,    296.2,2,    296.5,2,     4.98,2,    12.41,2,     0.01,2,     0.82,2,    4.643,2,    2.457,2,    0.376,2,  1.75633856,2,   2146.1,2,   2317.4,2,   4.8899
  316N20020530,    75,  1,     20,     20,2,20020615, 70.0125,  11.1210, 2935,    458.7,   4.2925,  35.1064,2,  35.1033,2,    298.1,2,    298.7,2,     5.28,2,    12.60,2,     0.01,2,     0.83,2, -999.000,9, -999.000,9, -999.000,9,        -999,9,   -999.0,9,   -999.0,9,   4.2582
  316N20020530,    75,  1,     19,     19,2,20020615, 70.0125,  11.1210, 2935,    558.8,   3.7696,  35.0831,2,  35.0807,2,    301.7,2,    301.7,2,     5.18,2,    12.70,2,     0.01,2,     0.84,2,    5.083,2,    2.572,2,    0.414,2,  1.76615594,2,   2147.6,2,   2314.2,2,   3.7296
  316N20020530,    75,  1,     18,     18,2,20020615, 70.0125,  11.1210, 2935,    658.7,   1.9011,  34.9571,2,  34.9549,2,    301.9,2,    302.7,2,     5.96,2,    13.39,2,     0.01,2,     0.90,2, -999.000,9, -999.000,9, -999.000,9,  1.50283694,2,   -999.0,9,   -999.0,9,   1.8634
  316N20020530,    75,  1,     17,     17,2,20020615, 70.0125,  11.1210, 2935,    758.2,   0.5325,  34.9040,2,  34.9026,2,    302.1,2,    302.6,2,     6.94,2,    14.17,2,     0.01,2,     0.94,2,    4.334,2,    2.109,2,    0.328,2,  1.21012361,2,   2161.2,2,   2303.8,2,   0.4970
  316N20020530,    75,  1,     16,     16,2,20020615, 70.0125,  11.1210, 2935,    857.2,  -0.0564,  34.8918,2,  34.8911,2,    302.3,2,    304.0,2,     7.33,2,    14.27,2,     0.00,2,     0.95,2,    3.978,2,    1.907,2,    0.296,2,  1.21989312,2,   -999.0,9,   -999.0,9,  -0.0932
  316N20020530,    75,  1,     15,     15,2,20020615, 70.0125,  11.1210, 2935,    957.4,  -0.3121,  34.8931,2,  34.8924,2,    302.7,2,    302.9,2,     7.92,2,    14.37,2,     0.00,2,     0.96,2,    3.419,2,    1.645,2,    0.246,2,  1.38579724,2,   2162.9,2,   2300.9,2,  -0.3520
  316N20020530,    75,  1,     14,     14,2,20020615, 70.0125,  11.1210, 2935,   1056.9,  -0.4621,  34.8948,2,  34.8950,2,    303.0,2,    303.2,2,     8.21,2,    14.37,2,     0.00,2,     0.96,2,    3.043,2,    1.460,2,    0.205,2,  1.68832717,2,   -999.0,9,   -999.0,9,  -0.5058
  316N20020530,    75,  1,     13,     13,2,20020615, 70.0125,  11.1210, 2935,   1158.7,  -0.5599,  34.8986,2,  34.8987,2,    302.5,2,    302.2,2,     8.80,2,    14.46,2,     0.00,2,     0.97,2,    2.614,2,    1.277,2,    0.176,2,  1.91278159,2,   -999.0,9,   -999.0,9,  -0.6080
  316N20020530,    75,  1,     12,     12,2,20020615, 70.0125,  11.1210, 2935,   1259.2,  -0.6172,  34.9010,2,  34.9005,2,    301.5,2,    301.1,2,     9.19,2,    14.56,2,     0.01,2,     0.98,2,    2.234,2,    1.104,2,    0.149,2,  1.61024765,2,   2160.9,2,   2302.4,2,  -0.6700
  316N20020530,    75,  1,     11,     11,2,20020615, 70.0125,  11.1210, 2935,   1360.7,  -0.6618,  34.9045,2,  34.9035,2,    300.3,2,    300.1,2,     9.77,2,    14.66,2,     0.00,2,     0.98,2,    1.862,6,    0.921,6,    0.116,6,  1.08325509,2,   -999.0,9,   -999.0,9,  -0.7196
  316N20020530,    75,  1,     10,     10,2,20020615, 70.0125,  11.1210, 2935,   1461.6,  -0.7021,  34.9061,2,  34.9047,2,    299.3,2,    299.2,2,    10.16,2,    14.76,2,     0.00,2,     0.99,2,    1.492,2,    0.738,2,    0.091,2, 0.644097045,2,   -999.0,9,   -999.0,9,  -0.7650
  316N20020530,    75,  1,      9,      9,2,20020615, 70.0125,  11.1210, 2935,   1563.0,  -0.7382,  34.9071,2,  34.9072,2,    298.8,2,    298.4,2,    10.46,2,    14.85,2,     0.00,2,     1.00,2,    1.278,2,    0.620,2,    0.076,2, 0.429397231,2,   -999.0,9,   -999.0,9,  -0.8064
  316N20020530,    75,  1,      8,      8,2,20020615, 70.0125,  11.1210, 2935,   1714.7,  -0.7829,  34.9086,2,  34.9080,2,    298.4,2,    299.4,2,    11.04,2,    14.95,2,     0.00,2,     1.00,2,    1.000,2,    0.498,2,    0.057,2, 0.214698488,2,   2159.8,2,   2303.6,2,  -0.8594
  316N20020530,    75,  1,      7,      7,2,20020615, 70.0125,  11.1210, 2935,   1915.1,  -0.8193,  34.9103,2,  34.9098,2,    298.3,2,    298.9,2,    11.43,2,    15.05,2,     0.00,2,     1.01,2,    0.798,6,    0.408,6,    0.044,6, 0.146385136,2,   -999.0,9,   -999.0,9,  -0.9076
  316N20020530,    75,  1,      6,      6,2,20020615, 70.0125,  11.1210, 2935,   2116.7,  -0.8454,  34.9097,2,  34.9104,2,    298.4,2,    299.1,2,    11.82,2,    15.05,2,     0.00,2,     1.01,2, -999.000,9, -999.000,9, -999.000,9, 0.126867061,2,   -999.0,9,   -999.0,9,  -0.9463
  316N20020530,    75,  1,      5,      5,2,20020615, 70.0125,  11.1210, 2935,   2317.7,  -0.8578,  34.9108,2,  34.9098,2,    298.5,2,    299.4,2,    12.12,2,    15.15,2,     0.00,2,     1.02,2,    0.597,2,    0.306,2,    0.035,2,0.0878310818,2,   2160.0,2,   2305.8,2,  -0.9720
  316N20020530,    75,  1,      4,      4,2,20020615, 70.0125,  11.1210, 2935,   2519.6,  -0.8602,  34.9115,2,  34.9092,2,    298.3,2,    297.9,2,    12.51,2,    15.25,2,     0.00,2,     1.02,2,    0.520,2,    0.270,2,    0.032,2,0.0585540807,2,   -999.0,9,   -999.0,9,  -0.9887
  316N20020530,    75,  1,      3,      3,2,20020615, 70.0125,  11.1210, 2935,   2647.2,  -0.8591,  34.9114,2,  34.9102,2,    298.1,2,    298.3,2,    12.61,2,    15.34,2,     0.00,2,     1.02,2,    0.468,2,    0.257,2,    0.028,2,0.0683130433,2,   2160.6,2,   2308.4,2,  -0.9970
  316N20020530,    75,  1,      2,      2,2,20020615, 70.0125,  11.1210, 2935,   2774.0,  -0.8561,  34.9110,2,  34.9102,2,    297.7,2,    297.4,2,    13.00,2,    15.44,2,     0.00,2,     1.02,2,    0.420,2,    0.227,2,    0.025,2,0.0683130433,2,   2163.0,2,   2301.8,2,  -1.0037
  316N20020530,    75,  1,      1,      1,2,20020615, 70.0125,  11.1210, 2935,   2930.4,  -0.8494,  34.9116,2,  34.9106,2,    297.8,2,   -999.0,9,    13.19,2,    15.44,2,     0.00,2,     1.03,2,    0.384,2,    0.214,2,    0.023,2,0.0390360131,2,   2161.5,2,   2307.6,2,  -1.0093
  316N20020530,    76,  1,     27,     27,2,20020615, 70.0005,   9.2467, 2916,      2.8,   9.4107,  35.1245,2,  35.1222,2,    302.2,2,    303.0,2,     1.27,2,     3.13,2,     0.07,2,     0.21,2,    4.061,2,    2.179,2,    0.371,2,  1.65876926,2,   2082.8,2,   2328.3,2,   9.4104
  316N20020530,    76,  1,     26,     26,2,20020615, 70.0005,   9.2467, 2916,     19.4,   9.3783,  35.1228,7,  35.1250,2,    302.9,2,    302.5,2,     1.27,2,     3.32,2,     0.08,2,     0.23,2,    4.093,2,    2.221,2,    0.381,2,  1.62949346,2,   -999.0,9,   -999.0,9,   9.3762
  316N20020530,    76,  1,     25,     25,2,20020615, 70.0005,   9.2467, 2916,     39.1,   7.3561,  35.1312,2,  35.1346,2,    287.3,2,    293.2,2,     2.54,2,     7.52,2,     0.18,2,     0.58,2, -999.000,9, -999.000,9, -999.000,9,        -999,9,   -999.0,9,   -999.0,9,   7.3524
  316N20020530,    76,  1,     24,     24,2,20020615, 70.0005,   9.2467, 2916,     59.1,   6.9739,  35.1194,2,  35.1166,2,    282.5,2,    287.0,2,     3.62,2,     9.67,2,     0.17,2,     0.68,2,    4.351,2,    2.370,2,    0.375,2,  1.66853368,2,   2131.2,2,   2321.6,2,   6.9684
  316N20020530,    76,  1,     23,     23,2,20020615, 70.0005,   9.2467, 2916,     94.6,   6.8647,  35.1393,2,  35.1386,2,    284.4,2,    283.4,2,     4.30,2,    11.53,2,     0.06,2,     0.76,2,    4.279,2,    2.330,2,    0.372,2,  1.68802105,2,   2135.6,2,   2319.1,2,   6.8560
  316N20020530,    76,  1,     22,     22,2,20020615, 70.0005,   9.2467, 2916,    129.9,   6.7351,  35.1457,2,  35.1439,2,    287.1,2,    285.2,2,     4.49,2,    11.63,2,     0.05,2,     0.77,2,    4.316,2,    2.349,2,    0.383,2,  1.70752901,2,   -999.0,9,   -999.0,9,   6.7232
  316N20020530,    76,  1,     21,     21,2,20020615, 70.0005,   9.2467, 2916,    179.9,   6.4292,  35.1463,2,  35.1457,2,    292.4,2,    286.5,2,     4.79,2,    12.02,2,     0.02,2,     0.79,2, -999.000,9, -999.000,9, -999.000,9,        -999,9,   -999.0,9,   -999.0,9,   6.4131
  316N20020530,    76,  1,     20,     20,2,20020615, 70.0005,   9.2467, 2916,    239.2,   5.9272,  35.1352,2,  35.1347,2,    291.1,2,    290.2,2,     4.59,2,    11.73,2,     0.09,2,     0.78,2,    4.459,2,    2.392,2,    0.391,2,  1.68802595,2,   2140.3,2,   2318.5,2,   5.9066
  316N20020530,    76,  1,     19,     19,2,20020615, 70.0005,   9.2467, 2916,    329.5,   5.3769,  35.1320,2,  35.1318,2,    294.3,2,    293.9,2,     4.98,2,    12.12,2,     0.05,2,     0.80,2, -999.000,9, -999.000,9, -999.000,9,        -999,9,   2140.8,2,   2319.4,2,   5.3498
  316N20020530,    76,  1,     18,     18,2,20020615, 70.0005,   9.2467, 2916,    431.3,   4.7982,  35.1230,2,  35.1243,2,    296.8,2,    296.4,2,     5.08,2,    12.31,2,     0.02,2,     0.82,2, -999.000,9, -999.000,9, -999.000,9,  1.77585607,2,   2143.2,2,   2315.6,2,   4.7643
  316N20020530,    76,  1,     17,     17,2,20020615, 70.0005,   9.2467, 2916,    531.8,   4.4421,  35.1193,2,  35.1184,2,    299.9,2,    299.2,2,     4.98,2,    12.31,2,     0.01,2,     0.81,2,    4.863,2,    2.587,2,    0.434,2,  1.77586387,2,   -999.0,9,   -999.0,9,   4.4014
  316N20020530,    76,  1,     16,     16,2,20020615, 70.0005,   9.2467, 2916,    631.7,   3.9835,  35.0977,2,  35.0958,2,    301.8,2,    300.9,2,     5.08,2,    12.41,2,     0.01,2,     0.82,2,    4.922,2,    2.592,2,    0.425,2,  1.77589375,2,   2143.8,2,   2311.7,2,   3.9369
  316N20020530,    76,  1,     15,     15,2,20020615, 70.0005,   9.2467, 2916,    757.4,   1.9594,  34.9615,2,  34.9522,2,    303.4,2,    303.7,2,     5.86,2,    13.39,2,     0.01,2,     0.90,2,    4.952,2,    2.514,2,    0.406,2,  1.54187477,2,   2155.7,2,   2305.2,2,   1.9151
  316N20020530,    76,  1,     14,     14,2,20020615, 70.0005,   9.2467, 2916,    883.9,   0.4047,  34.9009,2,  34.9002,2,    301.2,2,    302.3,2,     7.13,2,    14.07,2,     0.01,2,     0.95,2, -999.000,9, -999.000,9, -999.000,9,  1.19060762,2,   -999.0,9,   -999.0,9,   0.3632
  316N20020530,    76,  1,     13,     13,2,20020615, 70.0005,   9.2467, 2916,    985.3,  -0.0894,  34.8933,2,  34.8939,2,    301.8,2,    302.7,2,     7.43,2,    14.17,2,     0.00,2,     0.95,2,    3.790,2,    1.856,2,    0.294,2,  1.18085408,2,   2160.7,2,   2298.1,2,  -0.1325
  316N20020530,    76,  1,     12,     12,2,20020615, 70.0005,   9.2467, 2916,   1111.6,  -0.4113,  34.8940,2,  34.8947,2,    302.6,2,    303.1,2,     8.11,2,    14.27,2,     0.00,2,     0.96,2,    3.208,2,    1.571,2,    0.235,2,  1.57121812,2,   -999.0,9,   -999.0,9,  -0.4583
  316N20020530,    76,  1,     11,     11,2,20020615, 70.0005,   9.2467, 2916,   1212.4,  -0.5313,  34.8979,2,  34.8985,2,    301.9,2,    301.9,2,     8.80,2,    14.37,2,     0.00,2,     0.97,2,    2.599,6,    1.293,6,    0.189,6,  1.73711823,2,   -999.0,9,   -999.0,9,  -0.5824
  316N20020530,    76,  1,     10,     10,2,20020615, 70.0005,   9.2467, 2916,   1313.6,  -0.5971,  34.9013,2,  34.9014,2,    300.8,2,    300.3,2,     9.28,2,    14.46,2,     0.00,2,     0.97,2,    2.276,2,    1.075,2,    0.151,2,  1.49313773,2,   -999.0,9,   -999.0,9,  -0.6530
  316N20020530,    76,  1,      9,      9,2,20020615, 70.0005,   9.2467, 2916,   1414.4,  -0.6551,  34.9025,2,  34.9046,2,    300.1,2,    300.4,2,     9.67,2,    14.46,2,     0.00,2,     0.98,2,    1.955,2,    0.922,2,    0.123,2,  1.11253134,2,   2156.9,2,   2299.4,2,  -0.7159
  316N20020530,    76,  1,      8,      8,2,20020615, 70.0005,   9.2467, 2916,   1617.4,  -0.7291,  34.9063,2,  34.9081,2,    298.2,2,    298.5,2,    10.46,2,    14.66,2,     0.00,2,     0.99,2,    1.354,2,    0.639,2,    0.068,2, 0.487951072,2,   -999.0,9,   -999.0,9,  -0.8006
  316N20020530,    76,  1,      7,      7,2,20020615, 70.0005,   9.2467, 2916,   1819.4,  -0.7889,  34.9090,2,  34.9077,2,    297.7,2,    298.2,2,    11.04,2,    14.76,2,     0.00,2,     1.00,2,    0.941,2,    0.458,2,    0.046,2, 0.185421462,2,   -999.0,9,   -999.0,9,  -0.8717
  316N20020530,    76,  1,      6,      6,2,20020615, 70.0005,   9.2467, 2916,   2021.6,  -0.8300,  34.9099,2,  34.9111,2,    298.0,2,    298.2,2,    11.53,2,    14.85,2,     0.00,2,     1.00,2,    0.745,2,    0.379,2,    0.039,2, 0.107348996,2,   2158.5,2,   2302.5,2,  -0.9249
  316N20020530,    76,  1,      5,      5,2,20020615, 70.0005,   9.2467, 2916,   2225.2,  -0.8515,  34.9101,2,  34.9107,2,    298.2,2,    298.5,2,    11.92,2,    14.95,2,     0.00,2,     1.01,2,    0.634,2,    0.316,2,    0.027,2,0.0975900255,2,   -999.0,9,   -999.0,9,  -0.9595
  316N20020530,    76,  1,      4,      4,2,20020615, 70.0005,   9.2467, 2916,   2428.3,  -0.8585,  34.9106,2,  34.9102,2,    298.2,2,    298.8,2,    12.41,2,    15.05,2,     0.00,2,     1.01,2,    0.556,2,    0.288,2,    0.024,2,0.0878310556,2,   2159.0,2,   2303.3,2,  -0.9805
  316N20020530,    76,  1,      3,      3,2,20020615, 70.0005,   9.2467, 2916,   2630.8,  -0.8588,  34.9104,2,  34.9110,2,    297.8,2,    298.0,2,    12.80,2,    15.15,2,     0.00,2,     1.01,2,    0.485,6,    0.257,6,    0.022,6,0.0780720029,2,   -999.0,9,   -999.0,9,  -0.9955
  316N20020530,    76,  1,      2,      2,2,20020615, 70.0005,   9.2467, 2916,   2813.1,  -0.8547,  34.9107,2,  34.9106,2,    297.4,2,    297.3,2,    13.10,2,    15.25,2,     0.00,2,     1.02,2,    0.420,2,    0.221,2,    0.023,2,0.0487950164,2,   2162.3,2,   2305.7,2,  -1.0053
  316N20020530,    76,  1,      1,      1,2,20020615, 70.0005,   9.2467, 2916,   2914.7,  -0.8487,  34.9109,2,  34.9112,2,    297.4,2,    297.1,2,    13.10,2,    15.25,2,     0.01,2,     1.02,2,    0.409,2,    0.225,2,    0.022,2,0.0292769967,2,   2158.8,2,   2303.8,2,  -1.0074