BOTTLE,20081218PRINUNIVRMK
EXPOCODE,STNNBR,CASTNO,SAMPNO,BTLNBR,BTLNBR_FLAG_W,DATE,LATITUDE,LONGITUDE,DEPTH,CTDPRS,CTDTMP,CTDSAL,CTDSAL_FLAG_W,SALNTY,SALNTY_FLAG_W,CTDOXY,CTDOXY_FLAG_W,OXYGEN,OXYGEN_FLAG_W,SILCAT,SILCAT_FLAG_W,NITRAT,NITRAT_FLAG_W,NITRIT,NITRIT_FLAG_W,PHSPHT,PHSPHT_FLAG_W,CFC-11,CFC-11_FLAG_W,CFC-12,CFC-12_FLAG_W,CFC113,CFC113_FLAG_W,SF6,SF6_FLAG_W,TCARBN,TCARBN_FLAG_W,ALKALI,ALKALI_FLAG_W,THETA
,,,,,,,,,METERS,DBARS,ITS-90,PSS-78,,PSS-78,,UMOL/KG,,UMOL/KG,,UMOL/KG,,UMOL/KG,,UMOL/KG,,UMOL/KG,,PMOL/KG,,PMOL/KG,,PMOL/KG,,FMOL/KG,,UMOL/KG,,UMOL/KG,,DEGC
  316N20020530,   156,  1,     21,     21,2,20020630, 60.1802,  -4.7172,  556,      1.9,  10.9151,  35.3452,2,  35.3443,2,    281.4,2,    282.3,2,     0.29,2,     6.06,2,     0.18,2,     0.39,2,    3.645,2,    2.002,2,    0.284,2,  1.71703017,2,   2099.3,2,   2332.3,2,  10.9149
  316N20020530,   156,  1,     20,     20,2,20020630, 60.1802,  -4.7172,  556,     23.1,  10.5548,  35.3244,2,  35.3248,2,    282.5,2,    282.2,2,     0.49,2,     7.03,2,     0.19,2,     0.45,2,    3.727,2,    2.022,2,    0.307,2,  1.75607907,2,   2106.2,2,   2331.1,2,  10.5520
  316N20020530,   156,  1,     19,     19,2,20020630, 60.1802,  -4.7172,  556,     49.3,  10.3118,  35.3392,2,  35.3443,2,    275.3,2,    271.3,2,     1.17,2,     8.11,2,     0.24,2,     0.54,2, -999.000,9, -999.000,9, -999.000,9,  1.73654187,2,   2114.5,2,   2330.2,2,  10.3060
  316N20020530,   156,  1,     18,     18,2,20020630, 60.1802,  -4.7172,  556,     79.4,  10.0630,  35.3825,2,  35.3827,2,    264.0,2,    263.9,2,     1.86,2,     9.77,2,     0.26,2,     0.63,2,    3.628,6,    1.974,6,    0.294,6,  1.68771437,2,   2128.6,2,   2333.2,2,  10.0538
  316N20020530,   156,  1,     17,     17,2,20020630, 60.1802,  -4.7172,  556,    104.1,   9.9008,  35.3872,2,  35.3861,2,    263.0,2,    263.0,2,     2.25,2,    10.55,2,     0.14,2,     0.67,2,    3.683,2,    2.026,2,    0.278,2,  1.65844345,2,   -999.0,9,   -999.0,9,   9.8888
  316N20020530,   156,  1,     16,     16,2,20020630, 60.1802,  -4.7172,  556,    144.6,   9.7439,  35.3832,2,-999.0000,9,    262.6,2,    263.0,2,     2.74,2,    11.04,2,     0.06,2,     0.70,2,    3.639,6,    1.981,6,    0.284,6,  1.62972865,2,   -999.0,9,   -999.0,9,   9.7274
  316N20020530,   156,  1,     15,     15,2,20020630, 60.1802,  -4.7172,  556,    189.3,   9.4989,  35.3724,2,  35.3721,2,    262.8,2,    263.0,2,     3.42,2,    11.72,2,     0.01,2,     0.74,2,    3.615,2,    1.990,2,    0.271,2,  1.65846073,2,   2144.3,2,   2331.8,2,   9.4775
  316N20020530,   156,  1,     14,     14,2,20020630, 60.1802,  -4.7172,  556,    238.8,   9.2776,  35.3551,2,  35.3549,2,    262.4,2,    263.7,2,     4.10,2,    12.21,2,     0.01,2,     0.78,2,    3.683,2,    2.008,2,    0.270,2,  1.68774929,2,   -999.0,9,   -999.0,9,   9.2510
  316N20020530,   156,  1,     13,     13,2,20020630, 60.1802,  -4.7172,  556,    289.3,   9.1216,  35.3416,2,  35.3417,2,    263.0,2,    263.4,2,     4.69,2,    12.60,2,     0.01,2,     0.80,2,    3.681,2,    2.042,2,    0.266,2,  1.66825413,2,   -999.0,9,   -999.0,9,   9.0896
  316N20020530,   156,  1,     12,     12,2,20020630, 60.1802,  -4.7172,  556,    338.2,   8.9278,  35.3249,2,  35.3279,2,    264.0,2,    264.0,2,     5.08,2,    12.90,2,     0.01,2,     0.82,2,    3.702,2,    1.998,2,    0.274,2,  1.62924738,2,   -999.0,9,   -999.0,9,   8.8908
  316N20020530,   156,  1,     11,     11,2,20020630, 60.1802,  -4.7172,  556,    383.8,   8.7765,  35.3136,2,  35.3131,2,    264.2,2,    263.7,2,     5.28,2,    13.09,2,     0.01,2,     0.83,2,    3.698,2,    1.984,2,    0.273,2,  1.65853356,2,   -999.0,9,   -999.0,9,   8.7348
  316N20020530,   156,  1,     10,     10,2,20020630, 60.1802,  -4.7172,  556,    428.7,   8.5130,  35.2896,2,  35.2907,2,    265.3,2,    265.4,2,     5.57,2,    13.29,2,     0.01,2,     0.85,2,    3.714,2,    2.001,2,    0.275,2,   1.6780737,2,   2145.6,2,   2325.5,2,   8.4671
  316N20020530,   156,  1,      9,      9,2,20020630, 60.1802,  -4.7172,  556,    494.6,   7.8783,  35.2520,2,  35.2523,2,    271.0,2,    271.9,2,     5.67,2,    13.29,2,     0.01,2,     0.85,2,    3.878,6,    2.080,6,    0.292,6,  1.71714775,2,   -999.0,9,   -999.0,9,   7.8275
  316N20020530,   156,  1,      8,      8,2,20020630, 60.1802,  -4.7172,  556,    534.3,   7.7226,  35.2454,2,  35.2456,2,    272.0,2,    272.1,2,     5.76,2,    13.29,2,     0.01,2,     0.85,2,    3.799,2,    2.029,2,    0.291,2,  1.80496545,2,   2144.9,2,   2324.3,2,   7.6682
  316N20020530,   156,  1,      7,      7,2,20020630, 60.1802,  -4.7172,  556,    549.6,   7.3014,  35.2220,2,  35.2312,2,    273.7,2,    273.4,2,     5.76,2,    13.29,2,     0.01,2,     0.86,2,    3.770,2,    2.081,2,    0.286,2,  1.74644475,2,   2142.0,2,   2319.8,2,   7.2472
  316N20020530,   157,  1,     19,     19,2,20020630, 60.0827,  -4.4788,  181,      2.5,  11.7008,  35.4052,2,  35.4057,2,    277.7,2,    278.1,2,     0.88,2,     4.40,2,     0.13,2,     0.26,2,    3.459,2,    1.913,2,    0.299,2,  1.69744088,2,   2092.0,2,   2339.5,2,  11.7005
  316N20020530,   157,  1,     17,     17,2,20020630, 60.0827,  -4.4788,  181,     21.5,  11.6213,  35.4031,2,  35.3992,2,    278.1,2,    275.1,2,     0.78,2,     4.69,2,     0.14,2,     0.29,2,    3.484,6,    1.938,6,    0.290,6,  1.70720455,2,   2098.6,2,   2335.5,2,  11.6186
  316N20020530,   157,  1,     15,     15,2,20020630, 60.0827,  -4.4788,  181,     53.8,  11.4997,  35.4072,2,  35.4081,2,    267.1,2,    266.2,2,     0.98,2,     5.37,2,     0.17,2,     0.36,2,    3.419,2,    1.904,2,    0.297,2,  1.68768246,2,   2100.4,2,   2333.5,2,  11.4929
  316N20020530,   157,  1,     13,     13,2,20020630, 60.0827,  -4.4788,  181,     78.7,  10.7903,  35.4227,2,  35.4228,2,    257.3,2,    258.1,2,     1.76,2,     8.69,2,     0.18,2,     0.55,2,    3.501,6,    1.934,6,    0.296,6,  1.72668512,2,   2119.7,2,   2339.0,2,  10.7807
  316N20020530,   157,  1,     11,     11,2,20020630, 60.0827,  -4.4788,  181,     98.5,  10.2928,  35.4212,2,  35.4210,2,    256.8,2,    256.8,2,     2.74,2,     9.48,2,     0.03,2,     0.61,2,    3.560,2,    1.957,2,    0.293,2,  1.77546392,2,   2126.4,2,   2332.8,2,  10.2812
  316N20020530,   157,  1,      9,      9,2,20020630, 60.0827,  -4.4788,  181,    133.6,  10.1182,  35.4165,2,  35.4165,2,    255.8,2,    255.9,2,     3.32,2,     9.57,2,     0.02,2,     0.63,2,    3.638,2,    1.987,2,    0.296,2,  1.75595921,2,   2130.1,2,   2335.1,2,  10.1025
  316N20020530,   157,  1,      7,      7,2,20020630, 60.0827,  -4.4788,  181,    177.1,  10.1129,  35.4134,2,  35.4153,2,    255.6,2,    256.3,2,     3.32,2,     9.57,2,     0.02,2,     0.63,2,    3.593,2,    1.984,2,    0.295,2,  1.75596078,2,   2129.6,2,   2334.5,2,  10.0921
  316N20020530,   158,  1,     17,     17,2,20020630, 59.8317,  -4.0362,  129,      2.7,  11.9516,  35.4023,2,  35.4021,2,    271.7,2,    272.0,2,     1.37,2,     3.22,2,     0.23,2,     0.22,2,    3.526,2,    1.945,2,    0.291,2,  1.73646716,2,   2094.8,2,   2337.8,2,  11.9512
  316N20020530,   158,  1,     15,     15,2,20020630, 59.8317,  -4.0362,  129,     23.6,  11.8542,  35.4009,2,  35.4005,2,    267.9,2,    265.3,2,     1.56,2,     3.42,2,     0.22,2,     0.27,2,    3.528,2,    1.944,2,    0.290,2,  1.75598012,2,   2096.5,2,   2336.7,2,  11.8512
  316N20020530,   158,  1,     13,     13,2,20020630, 59.8317,  -4.0362,  129,     51.6,  10.8428,  35.4053,2,  35.4027,2,    259.0,2,    255.6,2,     2.74,2,     7.62,2,     0.11,2,     0.51,2,    3.693,2,    2.043,2,    0.292,2,   1.7754881,2,   2118.6,2,   2334.1,2,  10.8365
  316N20020530,   158,  1,     11,     11,2,20020630, 59.8317,  -4.0362,  129,     68.6,   9.9236,  35.4021,2,  35.4015,2,    253.4,2,    253.2,2,     3.71,2,     9.48,2,     0.03,2,     0.62,2,    3.721,6,    2.055,6,    0.297,6,  1.83402232,2,   2130.1,2,   2333.5,2,   9.9157
  316N20020530,   158,  1,      9,      9,2,20020630, 59.8317,  -4.0362,  129,     94.0,   9.9155,  35.4018,2,  35.4006,2,    253.0,2,    253.2,2,     3.71,2,     9.48,2,     0.03,2,     0.63,2,    3.756,2,    2.057,2,    0.300,2,  1.80475721,2,   2129.3,2,   2332.7,2,   9.9047
  316N20020530,   158,  1,      7,      7,2,20020630, 59.8317,  -4.0362,  129,    122.5,   9.9124,  35.4003,2,  35.4022,2,    252.9,2,    253.0,2,     3.61,2,     9.48,2,     0.05,2,     0.63,2,    3.787,2,    2.059,2,    0.299,2,   1.7852442,2,   2134.4,2,   2334.8,2,   9.8982
  316N20020530,   159,  1,     15,     15,2,20020630, 59.5997,  -3.5012,  162,      2.5,  11.2354,  35.0868,2,  35.0846,2,    260.9,2,    268.7,2,     1.86,2,     1.37,2,     0.18,2,     0.23,2,    3.564,2,    2.003,2,    0.307,2,  1.87348595,2,   2089.1,2,   2317.7,2,  11.2351
  316N20020530,   159,  1,     13,     13,2,20020630, 59.5997,  -3.5012,  162,     19.0,  11.0416,  35.0869,2,  35.0895,2,    262.3,2,    262.8,2,     1.95,2,     1.47,2,     0.20,2,     0.26,2,    3.679,2,    2.035,2,    0.318,2,  1.85396371,2,   2091.6,2,   2319.2,2,  11.0393
  316N20020530,   159,  1,     11,     11,2,20020630, 59.5997,  -3.5012,  162,     48.5,  11.0433,  35.1325,2,  35.1328,2,    257.8,2,    258.1,2,     1.95,2,     1.56,2,     0.23,2,     0.28,2,    3.679,6,    2.018,6,    0.308,6,  1.85390395,2,   2097.2,2,   2320.8,2,  11.0373
  316N20020530,   159,  1,      9,      9,2,20020630, 59.5997,  -3.5012,  162,    108.1,  10.9017,  35.1287,2,  35.1289,2,    255.3,2,    255.3,2,     2.05,2,     1.76,2,     0.27,2,     0.31,2,    3.568,2,    1.988,2,    0.297,2,  1.84415192,2,   2095.5,2,   2322.8,2,  10.8885
  316N20020530,   159,  1,      7,      7,2,20020630, 59.5997,  -3.5012,  162,    156.4,  10.7969,  35.1316,2,  35.1324,2,    253.7,2,    253.9,2,     2.25,2,     1.95,2,     0.30,2,     0.33,2,    3.686,2,    2.052,2,    0.322,2,  1.83438972,2,   2097.9,2,   2323.4,2,  10.7778