BOTTLE,20081218PRINUNIVRMK
EXPOCODE,STNNBR,CASTNO,SAMPNO,BTLNBR,BTLNBR_FLAG_W,DATE,LATITUDE,LONGITUDE,DEPTH,CTDPRS,CTDTMP,CTDSAL,CTDSAL_FLAG_W,SALNTY,SALNTY_FLAG_W,CTDOXY,CTDOXY_FLAG_W,OXYGEN,OXYGEN_FLAG_W,SILCAT,SILCAT_FLAG_W,NITRAT,NITRAT_FLAG_W,NITRIT,NITRIT_FLAG_W,PHSPHT,PHSPHT_FLAG_W,CFC-11,CFC-11_FLAG_W,CFC-12,CFC-12_FLAG_W,CFC113,CFC113_FLAG_W,SF6,SF6_FLAG_W,TCARBN,TCARBN_FLAG_W,ALKALI,ALKALI_FLAG_W,THETA
,,,,,,,,,METERS,DBARS,ITS-90,PSS-78,,PSS-78,,UMOL/KG,,UMOL/KG,,UMOL/KG,,UMOL/KG,,UMOL/KG,,UMOL/KG,,PMOL/KG,,PMOL/KG,,PMOL/KG,,FMOL/KG,,UMOL/KG,,UMOL/KG,,DEGC
  316N20020530,    85,  1,     28,     28,2,20020617, 70.0052,  -6.1815, 2669,      2.8,   7.7056,  35.0433,2,  35.0330,2,    316.2,2,    316.5,2,     2.93,2,     4.01,2,     0.05,2,     0.28,2,    4.518,2,    2.489,2,    0.425,2,  1.85404168,2,   2093.4,2,   2314.0,2,   7.7053
  316N20020530,    85,  1,     27,     27,2,20020617, 70.0052,  -6.1815, 2669,     19.4,   7.2480,  35.0435,2,  35.0496,2,    318.2,2,    318.0,2,     3.62,2,     6.16,2,     0.08,2,     0.44,2, -999.000,9, -999.000,9, -999.000,9,        -999,9,   -999.0,9,   -999.0,9,   7.2462
  316N20020530,    85,  1,     26,     26,2,20020617, 70.0052,  -6.1815, 2669,     44.5,   5.3114,  35.0889,2,  35.0787,2,    301.8,2,    299.4,2,     4.89,2,    10.94,2,     0.29,2,     0.77,2,    4.833,2,    2.608,2,    0.440,2,  1.88325196,2,   2141.7,2,   2306.4,2,   5.3079
  316N20020530,    85,  1,     25,     25,2,20020617, 70.0052,  -6.1815, 2669,     75.6,   4.5780,  35.0638,2,  35.0555,2,    301.0,2,    301.9,2,     4.98,2,    12.12,2,     0.17,2,     0.81,2, -999.000,9, -999.000,9, -999.000,9,        -999,9,   -999.0,9,   -999.0,9,   4.5724
  316N20020530,    85,  1,     24,     24,2,20020617, 70.0052,  -6.1815, 2669,    104.9,   4.2577,  35.0794,2,  35.0754,2,    302.7,2,    301.5,2,     4.98,2,    12.41,2,     0.03,2,     0.82,2,    4.908,2,    2.651,2,    0.435,2,  1.88325659,2,   2146.7,2,   2306.4,2,   4.2502
  316N20020530,    85,  1,     23,     23,2,20020617, 70.0052,  -6.1815, 2669,    150.0,   3.8277,  35.0697,2,  35.0603,2,    304.3,2,    305.9,2,     4.98,2,    12.41,2,     0.02,2,     0.82,2, -999.000,9, -999.000,9, -999.000,9,        -999,9,   -999.0,9,   -999.0,9,   3.8174
  316N20020530,    85,  1,     22,     22,2,20020617, 70.0052,  -6.1815, 2669,    169.7,   3.6302,  35.0587,2,  35.0510,2,    306.4,2,    308.8,2,     4.98,2,    12.41,2,     0.02,2,     0.82,2,    5.008,2,    2.680,2,    0.447,2,  1.95159668,2,   -999.0,9,   -999.0,9,   3.6188
  316N20020530,    85,  1,     21,     21,2,20020617, 70.0052,  -6.1815, 2669,    220.3,   3.3220,  35.0515,2,  35.0509,2,    306.8,2,    308.8,2,     4.89,2,    12.61,2,     0.01,2,     0.83,2,    4.889,2,    2.687,2,    0.428,2,        -999,9,   2149.2,2,   2304.4,2,   3.3076
  316N20020530,    85,  1,     20,     20,2,20020617, 70.0052,  -6.1815, 2669,    254.2,   3.0067,  35.0295,2,  35.0218,2,    308.3,2,    309.5,2,     4.89,2,    12.61,2,     0.01,2,     0.83,2,    5.091,2,    2.771,2,    0.448,2,  1.90284812,2,   -999.0,9,   -999.0,9,   2.9907
  316N20020530,    85,  1,     19,     19,2,20020617, 70.0052,  -6.1815, 2669,    353.7,   1.8807,  34.9660,2,  34.9619,2,    307.4,2,    310.7,2,     5.37,2,    13.09,2,     0.01,2,     0.87,2, -999.000,9, -999.000,9, -999.000,9,        -999,9,   2154.8,2,   2298.0,2,   1.8614
  316N20020530,    85,  1,     18,     18,2,20020617, 70.0052,  -6.1815, 2669,    453.0,   0.7144,  34.9037,2,  34.9030,2,    308.9,2,    307.3,2,     6.16,2,    13.88,2,     0.00,2,     0.93,2,    4.822,2,    2.482,2,    0.401,2,  1.47361783,2,   2163.6,2,   2277.7,3,   0.6937
  316N20020530,    85,  1,     17,     17,2,20020617, 70.0052,  -6.1815, 2669,    502.4,   0.2975,  34.8927,2,  34.8916,2,    306.7,2,    306.3,2,     6.55,2,    14.07,2,     0.00,2,     0.94,2,    4.553,6,    2.154,6,    0.351,6,  1.39555721,2,   -999.0,9,   -999.0,9,   0.2761
  316N20020530,    85,  1,     16,     16,2,20020617, 70.0052,  -6.1815, 2669,    601.3,  -0.0744,  34.8894,2,  34.8863,2,    304.9,2,    304.8,2,     7.23,2,    14.17,2,     0.00,2,     0.95,2,    4.081,2,    1.899,2,    0.303,2,  1.27845255,2,   2165.0,2,   2287.1,2,  -0.0987
  316N20020530,    85,  1,     15,     15,2,20020617, 70.0052,  -6.1815, 2669,    679.3,  -0.2532,  34.8901,2,  34.8879,2,    304.8,2,    304.7,2,     7.52,2,    14.27,2,     0.00,2,     0.96,2,    3.578,2,    1.748,2,    0.270,2,  1.39556105,2,   -999.0,9,   -999.0,9,  -0.2801
  316N20020530,    85,  1,     14,     14,2,20020617, 70.0052,  -6.1815, 2669,    796.6,  -0.4404,  34.8923,2,  34.8907,2,    305.9,2,    306.3,2,     8.01,2,    14.27,2,     0.00,2,     0.95,2, -999.000,9, -999.000,9, -999.000,9,  1.94207042,2,   -999.0,9,   -999.0,9,  -0.4716
  316N20020530,    85,  1,     13,     13,2,20020617, 70.0052,  -6.1815, 2669,    845.4,  -0.4992,  34.8931,2,  34.8937,2,    306.5,2,    305.9,2,     8.21,2,    14.37,2,     0.00,2,     0.96,2,    3.167,2,    1.473,2,    0.233,2,   2.0591756,2,   2165.7,2,   2295.8,2,  -0.5323
  316N20020530,    85,  1,     12,     12,2,20020617, 70.0052,  -6.1815, 2669,    894.3,  -0.5484,  34.8930,2,  34.8954,2,    305.1,2,    306.8,2,     8.11,2,    14.27,2,     0.00,2,     0.95,2,    3.097,2,    1.478,2,    0.223,2,  2.52761045,2,   -999.0,9,   -999.0,9,  -0.5834
  316N20020530,    85,  1,     11,     11,2,20020617, 70.0052,  -6.1815, 2669,    992.8,  -0.6056,  34.8953,7,  34.8966,2,    305.5,2,    304.0,2,     8.89,2,    14.46,2,     0.00,2,     0.97,2,    2.597,2,    1.238,2,    0.183,2,  2.18603952,2,   2163.4,2,   2293.1,2,  -0.6449
  316N20020530,    85,  1,     10,     10,2,20020617, 70.0052,  -6.1815, 2669,   1092.5,  -0.6602,  34.9005,2,  34.9006,2,    302.5,2,    303.0,2,     9.38,2,    14.56,2,     0.00,2,     0.97,2,    2.060,2,    1.045,2,    0.150,2,  1.55169307,2,   -999.0,9,   -999.0,9,  -0.7040
  316N20020530,    85,  1,      9,      9,2,20020617, 70.0052,  -6.1815, 2669,   1192.1,  -0.7097,  34.9032,2,  34.9034,2,    302.0,2,    301.1,2,     9.87,2,    14.66,2,     0.00,2,     0.98,2, -999.000,9, -999.000,9, -999.000,9,  1.12229139,2,   2163.7,2,   2294.6,2,  -0.7580
  316N20020530,    85,  1,      8,      8,2,20020617, 70.0052,  -6.1815, 2669,   1345.1,  -0.7660,  34.9057,2,  34.9055,2,    300.0,2,    300.3,2,    10.75,2,    14.76,2,     0.00,2,     0.99,2,    1.390,6,    0.702,6,    0.093,6, 0.751446105,2,   -999.0,9,   -999.0,9,  -0.8218
  316N20020530,    85,  1,      7,      7,2,20020617, 70.0052,  -6.1815, 2669,   1497.9,  -0.7898,  34.9083,2,  34.9079,2,    299.3,2,    299.1,2,    11.04,2,    14.85,2,     0.00,2,     0.99,2, -999.000,9, -999.000,9, -999.000,9, 0.312288732,2,   2164.9,2,   2297.1,2,  -0.8537
  316N20020530,    85,  1,      6,      6,2,20020617, 70.0052,  -6.1815, 2669,   1702.2,  -0.8339,  34.9089,2,  34.9097,2,    298.9,2,    298.8,2,    11.34,2,    14.95,2,     0.00,2,     1.00,2,    0.808,2,    0.407,2,    0.040,2, 0.165903167,2,   -999.0,9,   -999.0,9,  -0.9090
  316N20020530,    85,  1,      5,      5,2,20020617, 70.0052,  -6.1815, 2669,   1907.0,  -0.8536,  34.9090,2,  34.9097,2,    298.8,2,    298.7,2,    11.63,2,    15.05,2,     0.00,2,     1.01,2, -999.000,9, -999.000,9, -999.000,9, 0.126867128,2,   2162.8,2,   2295.7,2,  -0.9409
  316N20020530,    85,  1,      4,      4,2,20020617, 70.0052,  -6.1815, 2669,   2112.6,  -0.8634,  34.9092,2,  34.9086,2,    298.7,2,    299.2,2,    11.92,2,    15.05,2,     0.00,2,     1.01,2,    0.612,2,    0.334,2,    0.031,2, 0.146385267,2,   -999.0,9,   -999.0,9,  -0.9637
  316N20020530,    85,  1,      3,      3,2,20020617, 70.0052,  -6.1815, 2669,   2317.3,  -0.8637,  34.9099,2,  34.9092,2,    298.3,2,    299.0,2,    12.22,2,    15.15,2,     0.00,2,     1.01,2, -999.000,9, -999.000,9, -999.000,9, 0.087831121,2,   2163.0,2,   2296.7,2,  -0.9778
  316N20020530,    85,  1,      2,      2,2,20020617, 70.0052,  -6.1815, 2669,   2543.2,  -0.8641,  34.9103,2,  34.9096,2,    297.8,2,    297.9,2,    13.00,2,    15.25,2,     0.00,2,     1.03,2,    0.469,2,    0.256,2,    0.029,2,0.0878310948,2,   2164.1,2,   2298.6,2,  -0.9942
  316N20020530,    85,  1,      1,      1,2,20020617, 70.0052,  -6.1815, 2669,   2643.7,  -0.8664,  34.9103,2,  34.9100,2,    297.8,2,    297.7,2,    13.19,2,    15.34,2,     0.00,2,     1.04,2,    0.410,2,    0.232,2,    0.021,2,0.0683130534,2,   2163.5,2,   2298.5,2,  -1.0039
  316N20020530,    86,  1,     28,     28,2,20020617, 70.0023,  -7.0025, 2188,      2.5,   7.1495,  35.0349,2,  35.0322,2,    317.0,2,    317.3,2,     3.62,2,     4.59,2,     0.05,2,     0.32,2,    4.796,2,    2.499,2,    0.434,2,  1.87355903,2,   2103.3,2,   2314.1,2,   7.1493
  316N20020530,    86,  1,     27,     27,2,20020617, 70.0023,  -7.0025, 2188,     34.1,   4.7380,  35.0706,2,  35.0685,2,    306.8,2,    314.0,2,     4.59,2,     9.77,2,     0.20,2,     0.67,2, -999.000,9, -999.000,9, -999.000,9,        -999,9,   -999.0,9,   -999.0,9,   4.7354
  316N20020530,    86,  1,     26,     26,2,20020617, 70.0023,  -7.0025, 2188,     69.5,   4.4516,  35.0999,2,  35.0990,2,    301.5,2,    301.4,2,     4.79,2,    12.02,2,     0.20,2,     0.79,2,    4.981,2,    2.590,2,    0.434,2,  1.90273877,2,   2147.6,2,   2308.2,2,   4.4465
  316N20020530,    86,  1,     25,     25,2,20020617, 70.0023,  -7.0025, 2188,    105.1,   3.8844,  35.0704,2,  35.0687,2,    305.3,2,    306.4,2,     4.89,2,    12.02,2,     0.23,2,     0.80,2, -999.000,9, -999.000,9, -999.000,9,        -999,9,   -999.0,9,   -999.0,9,   3.8772
  316N20020530,    86,  1,     24,     24,2,20020617, 70.0023,  -7.0025, 2188,    153.6,   3.3314,  35.0531,2,  35.0535,2,    308.6,2,    307.1,2,     4.98,2,    12.51,2,     0.03,2,     0.82,2,    5.209,2,    2.676,2,    0.450,2,  1.87352932,2,   2146.2,2,   2306.6,2,   3.3214
  316N20020530,    86,  1,     23,     23,2,20020617, 70.0023,  -7.0025, 2188,    204.5,   2.8675,  35.0268,2,  35.0242,2,    311.2,2,    310.5,2,     4.89,2,    12.51,2,     0.02,2,     0.82,2, -999.000,9, -999.000,9, -999.000,9,        -999,9,   -999.0,9,   -999.0,9,   2.8549
  316N20020530,    86,  1,     22,     22,2,20020617, 70.0023,  -7.0025, 2188,    255.5,   2.5377,  35.0156,2,  35.0155,2,    313.2,2,    312.6,2,     4.98,2,    12.61,2,     0.01,2,     0.83,2,    5.275,2,    2.692,2,    0.453,2,  1.92237352,2,   2151.5,2,   2304.2,2,   2.5226
  316N20020530,    86,  1,     21,     21,2,20020617, 70.0023,  -7.0025, 2188,    305.1,   1.7312,  34.9592,2,  34.9562,2,    312.5,2,    312.4,2,     5.37,2,    13.00,2,     0.03,2,     0.85,2, -999.000,9, -999.000,9, -999.000,9,        -999,9,   -999.0,9,   -999.0,9,   1.7151
  316N20020530,    86,  1,     20,     20,2,20020617, 70.0023,  -7.0025, 2188,    355.9,   1.0084,  34.9161,2,  34.9157,2,    313.7,2,    316.6,2,     5.67,2,    13.00,2,     0.01,2,     0.86,2,    5.372,2,    2.688,2,    0.457,2,  1.79564979,2,   2156.4,2,   2303.0,2,   0.9916
  316N20020530,    86,  1,     19,     19,2,20020617, 70.0023,  -7.0025, 2188,    416.7,   0.4781,  34.8903,2,  34.8907,2,    320.4,2,    321.1,2,     5.67,2,    12.80,2,     0.01,2,     0.85,2,    5.357,2,    2.671,2,    0.461,2,  1.73712832,2,   2158.2,2,   2296.8,2,   0.4600
  316N20020530,    86,  1,     18,     18,2,20020617, 70.0023,  -7.0025, 2188,    491.2,   0.2380,  34.8903,2,  34.8887,2,    312.8,2,    313.3,2,     6.25,2,    13.39,2,     0.00,2,     0.89,2,    4.778,2,    2.346,2,    0.368,2,  1.44435603,2,   2160.2,2,   2296.6,2,   0.2173
  316N20020530,    86,  1,     17,     17,2,20020617, 70.0023,  -7.0025, 2188,    591.7,  -0.0779,  34.8924,2,  34.8912,2,    320.4,2,    315.0,2,     6.55,2,    13.39,2,     0.00,2,     0.89,2,    4.454,2,    2.231,2,    0.334,2,  1.56146307,2,   2159.7,2,   2288.0,2,  -0.1018
  316N20020530,    86,  1,     16,     16,2,20020617, 70.0023,  -7.0025, 2188,    656.6,  -0.1582,  34.8948,2,  34.8945,2,    317.0,2,    316.9,2,     6.74,2,    13.19,2,     0.00,2,     0.88,2,    4.277,2,    2.140,2,    0.321,2,   1.8347146,2,   -999.0,9,   -999.0,9,  -0.1846
  316N20020530,    86,  1,     15,     15,2,20020617, 70.0023,  -7.0025, 2188,    732.7,  -0.2807,  34.8939,2,  34.8947,2,    311.6,2,    311.2,2,     7.33,2,    13.68,2,     0.00,2,     0.91,2,    3.825,2,    1.860,2,    0.270,2,  1.89326904,2,   2160.1,2,   2297.2,2,  -0.3100
  316N20020530,    86,  1,     14,     14,2,20020617, 70.0023,  -7.0025, 2188,    808.3,  -0.4161,  34.8936,2,  34.8939,2,    309.6,2,    310.2,2,     7.52,2,    13.88,2,     0.00,2,     0.92,2,    3.576,2,    1.755,2,    0.251,2,   2.3031534,2,   2162.0,2,   2295.9,2,  -0.4480
  316N20020530,    86,  1,     13,     13,2,20020617, 70.0023,  -7.0025, 2188,    909.6,  -0.5625,  34.8939,2,  34.8945,2,    309.2,2,    308.6,2,     8.11,2,    14.07,2,     0.00,2,     0.93,2,    3.200,6,    1.540,6,    0.214,6,  2.89845871,2,   -999.0,9,   -999.0,9,  -0.5982
  316N20020530,    86,  1,     12,     12,2,20020617, 70.0023,  -7.0025, 2188,   1009.5,  -0.6513,  34.8946,2,  34.8980,0,    309.9,2,    311.1,2,     8.21,2,    13.88,2,     0.00,2,     0.93,2,    3.128,2,    1.524,2,    0.200,2,  3.51327413,2,   2160.8,2,   2300.6,2,  -0.6910
  316N20020530,    86,  1,     11,     11,2,20020617, 70.0023,  -7.0025, 2188,   1110.4,  -0.6816,  34.8964,2,  34.9025,0,    307.7,2,    308.8,2,     8.70,2,    14.07,2,     0.00,2,     0.94,2,    2.728,2,    1.330,2,    0.159,2,  3.02530926,2,   -999.0,9,   -999.0,9,  -0.7261
  316N20020530,    86,  1,     10,     10,2,20020617, 70.0023,  -7.0025, 2188,   1210.5,  -0.7141,  34.8998,2,  34.8999,2,    306.1,2,    306.3,2,     8.99,2,    14.27,2,     0.00,2,     0.95,2,    2.282,2,    1.119,2,    0.129,2,  2.29338404,2,   -999.0,9,   -999.0,9,  -0.7633
  316N20020530,    86,  1,      9,      9,2,20020617, 70.0023,  -7.0025, 2188,   1309.9,  -0.7408,  34.9023,2,  34.9030,2,    304.4,2,    304.4,2,     9.67,2,    14.46,2,     0.00,2,     0.97,2,    1.909,2,    0.948,2,    0.112,2,  1.63952183,2,   2161.9,2,   2302.4,2,  -0.7950
  316N20020530,    86,  1,      8,      8,2,20020617, 70.0023,  -7.0025, 2188,   1408.6,  -0.7601,  34.9060,2,  34.9057,2,    303.3,2,    302.8,2,    10.16,2,    14.56,2,     0.00,2,     0.97,2,    1.597,2,    0.801,2,    0.095,2,  1.19060274,2,   -999.0,9,   -999.0,9,  -0.8194
  316N20020530,    86,  1,      7,      7,2,20020617, 70.0023,  -7.0025, 2188,   1509.9,  -0.7740,  34.9068,2,  34.9071,2,    302.0,2,    301.8,2,    10.36,2,    14.66,2,     0.00,2,     0.98,2,    1.396,6,    0.691,6,    0.085,6, 0.888071612,2,   -999.0,9,   -999.0,9,  -0.8387
  316N20020530,    86,  1,      6,      6,2,20020617, 70.0023,  -7.0025, 2188,   1610.6,  -0.7924,  34.9086,2,  34.9086,2,    300.6,2,    300.7,2,    10.65,2,    14.76,2,     0.00,2,     0.98,2,    1.178,2,    0.573,2,    0.063,2, 0.556264015,2,   2161.3,2,   2298.5,2,  -0.8627
  316N20020530,    86,  1,      5,      5,2,20020617, 70.0023,  -7.0025, 2188,   1710.8,  -0.8144,  34.9090,2,  34.9088,2,    300.4,2,    300.0,2,    10.95,2,    14.95,2,     0.00,2,     0.99,2,    0.992,2,    0.484,2,    0.044,2, 0.361083605,2,   -999.0,9,   -999.0,9,  -0.8903
  316N20020530,    86,  1,      4,      4,2,20020617, 70.0023,  -7.0025, 2188,   1835.6,  -0.8363,  34.9087,2,  34.9086,2,    299.4,2,    299.4,2,    11.34,2,    14.95,2,     0.00,2,     1.00,2,    0.880,2,    0.479,2,    0.035,2, 0.224457409,2,   -999.0,9,   -999.0,9,  -0.9194
  316N20020530,    86,  1,      3,      3,2,20020617, 70.0023,  -7.0025, 2188,   1960.5,  -0.8525,  34.9094,2,  34.9034,0,    299.0,2,    299.2,2,    11.63,2,    15.05,2,     0.00,2,     1.00,2,    0.746,2,    0.386,2,    0.030,2, 0.195181112,2,   -999.0,9,   -999.0,9,  -0.9431
  316N20020530,    86,  1,      2,      2,2,20020617, 70.0023,  -7.0025, 2188,   2061.5,  -0.8544,  34.9098,2,  34.9048,0,    299.2,2,    299.4,2,    11.63,2,    15.05,2,     0.00,2,     1.00,2,    0.719,2,    0.372,2,    0.033,2, 0.165903772,2,   2163.1,2,   2303.3,2,  -0.9515
  316N20020530,    86,  1,      1,      1,2,20020617, 70.0023,  -7.0025, 2188,   2154.4,  -0.8631,  34.9096,2,  34.9067,0,    298.9,2,    298.8,2,    12.02,2,    15.15,2,     0.00,2,     1.00,2,    0.705,2,    0.395,2,    0.035,2, 0.136626442,2,   2160.1,2,   2300.9,2,  -0.9662