BOTTLE,20081218PRINUNIVRMK
EXPOCODE,STNNBR,CASTNO,SAMPNO,BTLNBR,BTLNBR_FLAG_W,DATE,LATITUDE,LONGITUDE,DEPTH,CTDPRS,CTDTMP,CTDSAL,CTDSAL_FLAG_W,SALNTY,SALNTY_FLAG_W,CTDOXY,CTDOXY_FLAG_W,OXYGEN,OXYGEN_FLAG_W,SILCAT,SILCAT_FLAG_W,NITRAT,NITRAT_FLAG_W,NITRIT,NITRIT_FLAG_W,PHSPHT,PHSPHT_FLAG_W,CFC-11,CFC-11_FLAG_W,CFC-12,CFC-12_FLAG_W,CFC113,CFC113_FLAG_W,SF6,SF6_FLAG_W,TCARBN,TCARBN_FLAG_W,ALKALI,ALKALI_FLAG_W,THETA
,,,,,,,,,METERS,DBARS,ITS-90,PSS-78,,PSS-78,,UMOL/KG,,UMOL/KG,,UMOL/KG,,UMOL/KG,,UMOL/KG,,UMOL/KG,,PMOL/KG,,PMOL/KG,,PMOL/KG,,FMOL/KG,,UMOL/KG,,UMOL/KG,,DEGC
  316N20020530,   126,  1,     29,     29,2,20020625, 65.1178,  -1.6202, 3104,      3.2,  11.4332,  34.9942,2,  34.9906,2,    283.3,2,    283.9,2,     0.68,2,     0.10,2,     0.00,2,     0.10,2,    3.745,2,    2.024,2,    0.317,2,        -999,9,   2051.0,2,   2301.4,2,  11.4328
  316N20020530,   126,  1,     28,     28,2,20020625, 65.1178,  -1.6202, 3104,     29.6,   7.2191,  35.0995,2,  35.0935,2,    295.2,2,    299.5,2,     4.10,2,     7.91,2,     0.19,2,     0.64,2, -999.000,9, -999.000,9, -999.000,9,  2.02959633,2,   2118.2,2,   2301.0,2,   7.2163
  316N20020530,   126,  1,     27,     27,2,20020625, 65.1178,  -1.6202, 3104,     52.7,   6.2104,  35.1277,2,  35.1260,2,    286.1,2,    285.8,2,     5.57,2,    13.09,2,     0.03,2,     0.84,2,    4.414,2,    2.343,2,    0.366,2,  1.99051748,2,   -999.0,9,   -999.0,9,   6.2058
  316N20020530,   126,  1,     26,     26,2,20020625, 65.1178,  -1.6202, 3104,     85.1,   4.8407,  35.0280,2,  35.0276,2,    294.1,2,    294.4,2,     5.77,2,    13.29,2,     0.02,2,     0.87,2, -999.000,9, -999.000,9, -999.000,9,        -999,9,   2146.3,2,   2300.2,2,   4.8342
  316N20020530,   126,  1,     25,     25,2,20020625, 65.1178,  -1.6202, 3104,    120.7,   3.9187,  34.9726,2,  34.9723,2,    300.4,2,    299.4,2,     5.67,2,    13.19,2,     0.02,2,     0.87,2,    4.901,6,    2.535,6,    0.414,6,  2.09808934,2,   -999.0,9,   -999.0,9,   3.9104
  316N20020530,   126,  1,     24,     24,2,20020625, 65.1178,  -1.6202, 3104,    154.8,   3.0144,  34.9356,2,  34.9367,2,    303.3,2,    304.1,2,     5.37,2,    12.90,2,     0.02,2,     0.86,2,    5.091,2,    2.642,2,    0.410,2,  2.13718019,2,   2149.1,2,   2292.2,2,   3.0048
  316N20020530,   126,  1,     23,     23,2,20020625, 65.1178,  -1.6202, 3104,    184.6,   2.7184,  34.9461,2,  34.9481,2,    306.5,2,    307.2,2,     5.08,2,    12.80,2,     0.01,2,     0.84,2,    5.249,2,    2.703,2,    0.410,2,  2.12740333,2,   -999.0,9,   -999.0,9,   2.7073
  316N20020530,   126,  1,     22,     22,2,20020625, 65.1178,  -1.6202, 3104,    215.4,   2.1778,  34.9206,2,  34.9206,2,    308.3,2,    309.5,2,     5.28,2,    12.90,2,     0.01,2,     0.86,2, -999.000,9, -999.000,9, -999.000,9,        -999,9,   -999.0,9,   -999.0,9,   2.1658
  316N20020530,   126,  1,     21,     21,2,20020625, 65.1178,  -1.6202, 3104,    239.8,   1.9331,  34.9234,2,  34.9243,2,    309.5,2,    308.0,2,     5.47,2,    13.29,2,     0.01,2,     0.88,2,    5.341,2,    2.706,2,    0.414,2,  2.13719992,2,   2154.5,2,   2285.9,2,   1.9202
  316N20020530,   126,  1,     20,     20,2,20020625, 65.1178,  -1.6202, 3104,    296.0,   1.2952,  34.9093,7,  34.9112,2,    305.8,2,    305.6,2,     5.86,2,    13.78,2,     0.01,2,     0.92,2,    5.267,2,    2.649,2,    0.411,2,  1.96155878,2,   -999.0,9,   -999.0,9,   1.2807
  316N20020530,   126,  1,     19,     19,2,20020625, 65.1178,  -1.6202, 3104,    359.7,   0.7110,  34.8989,2,  34.8998,2,    305.9,2,    307.1,2,     6.25,2,    13.97,2,     0.01,2,     0.93,2, -999.000,9, -999.000,9, -999.000,9,  1.77615288,2,   2161.9,2,   2282.6,2,   0.6949
  316N20020530,   126,  1,     18,     18,2,20020625, 65.1178,  -1.6202, 3104,    432.1,   0.2190,  34.8893,2,  34.8905,2,    306.2,2,    306.4,2,     6.65,2,    14.07,2,     0.01,2,     0.94,2,    4.707,2,    2.283,2,    0.347,2,  1.61025963,2,   -999.0,9,   -999.0,9,   0.2011
  316N20020530,   126,  1,     17,     17,2,20020625, 65.1178,  -1.6202, 3104,    531.9,  -0.0906,  34.8880,2,  34.8894,2,    306.0,2,    305.3,2,     7.13,2,    14.17,2,     0.00,2,     0.94,2,    4.267,2,    2.052,2,    0.302,2,  1.51266938,2,   2162.3,2,   2287.9,2,  -0.1117
  316N20020530,   126,  1,     16,     16,2,20020625, 65.1178,  -1.6202, 3104,    642.8,  -0.3049,  34.8892,2,  34.8890,2,    305.6,2,    305.6,2,     7.52,2,    14.27,2,     0.00,2,     0.95,2,    3.884,2,    1.862,2,    0.272,2,  1.71761219,2,   -999.0,9,   -999.0,9,  -0.3299
  316N20020530,   126,  1,     15,     15,2,20020625, 65.1178,  -1.6202, 3104,    743.9,  -0.4439,  34.8903,2,  34.8911,2,    305.4,2,    305.2,2,     7.82,2,    14.27,2,     0.00,2,     0.95,2,    3.504,2,    1.672,2,    0.235,2,  2.13725274,2,   2161.8,2,   2286.3,2,  -0.4727
  316N20020530,   126,  1,     14,     14,2,20020625, 65.1178,  -1.6202, 3104,    844.4,  -0.5334,  34.8941,7,  34.8939,2,    303.3,2,    303.1,2,     8.40,2,    14.37,2,     0.00,2,     0.96,2,    3.015,2,    1.456,2,    0.188,2,  2.25435778,2,   -999.0,9,   -999.0,9,  -0.5662
  316N20020530,   126,  1,     13,     13,2,20020625, 65.1178,  -1.6202, 3104,    945.1,  -0.6092,  34.8967,2,  34.8983,2,    301.3,2,    302.6,2,     8.70,2,    14.46,2,     0.00,2,     0.96,2,    2.622,2,    1.270,2,    0.153,2,  2.45929134,2,   2161.1,2,   2288.3,2,  -0.6462
  316N20020530,   126,  1,     12,     12,2,20020625, 65.1178,  -1.6202, 3104,   1054.9,  -0.6628,  34.9006,2,  34.9018,2,    300.8,2,    300.7,2,     9.38,2,    14.56,2,     0.00,2,     0.96,2,    2.110,2,    1.029,2,    0.123,2,  1.89325904,2,   -999.0,9,   -999.0,9,  -0.7047
  316N20020530,   126,  1,     11,     11,2,20020625, 65.1178,  -1.6202, 3104,   1166.2,  -0.6993,  34.9037,2,  34.9044,2,    299.6,2,    298.7,2,     9.87,2,    14.76,2,     0.00,2,     0.97,2,    1.671,2,    0.810,2,    0.077,2,        -999,9,   -999.0,9,   -999.0,9,  -0.7464
  316N20020530,   126,  1,     10,     10,2,20020625, 65.1178,  -1.6202, 3104,   1266.6,  -0.7312,  34.9056,2,  34.9058,2,    298.9,2,    298.4,2,    10.16,2,    14.76,2,     0.00,2,     0.98,2,    1.497,2,    0.709,2,    0.072,2, 0.849036318,2,   2157.9,2,   2290.8,2,  -0.7832
  316N20020530,   126,  1,      9,      9,2,20020625, 65.1178,  -1.6202, 3104,   1416.7,  -0.7766,  34.9080,2,  34.9073,2,    297.6,2,    298.2,2,    10.75,2,    14.95,2,     0.00,2,     0.98,2,    1.179,2,    0.559,2,    0.048,2,        -999,9,   -999.0,9,   -999.0,9,  -0.8361
  316N20020530,   126,  1,      8,      8,2,20020625, 65.1178,  -1.6202, 3104,   1618.9,  -0.8217,  34.9087,2,  34.9083,2,    297.3,2,    297.3,2,    11.24,2,    15.05,2,     0.00,2,     0.99,2,    0.882,2,    0.408,2,    0.035,2,  0.22445746,2,   -999.0,9,   -999.0,9,  -0.8921
  316N20020530,   126,  1,      7,      7,2,20020625, 65.1178,  -1.6202, 3104,   1821.9,  -0.8491,  34.9090,2,  34.9083,2,    297.3,2,    299.5,3,    11.53,2,    15.15,2,     0.00,2,     1.00,2,    0.749,2,    0.362,2,    0.030,2,  0.17566236,2,   2160.2,2,   2288.5,2,  -0.9312
  316N20020530,   126,  1,      6,      6,2,20020625, 65.1178,  -1.6202, 3104,   2074.0,  -0.8666,  34.9103,2,  34.9093,2,    297.3,2,    302.5,3,    12.02,2,    15.25,2,     0.00,2,     1.00,2, -999.000,9, -999.000,9, -999.000,9,  0.10734914,2,   -999.0,9,   -999.0,9,  -0.9643
  316N20020530,   126,  1,      5,      5,2,20020625, 65.1178,  -1.6202, 3104,   2327.9,  -0.8674,  34.9098,2,  34.9099,2,    297.0,2,    297.7,2,    12.31,2,    15.25,2,     0.00,2,     1.01,2,    0.563,2,    0.274,2,    0.024,2,0.0975900836,2,   2160.5,2,   2289.7,2,  -0.9822
  316N20020530,   126,  1,      4,      4,2,20020625, 65.1178,  -1.6202, 3104,   2580.8,  -0.8606,  34.9100,2,  34.9094,2,    296.9,2,    297.3,2,    12.61,2,    15.34,2,     0.00,2,     1.01,2,    0.511,2,    0.265,2,    0.027,2,0.0975901199,2,   -999.0,9,   -999.0,9,  -0.9936
  316N20020530,   126,  1,      3,      3,2,20020625, 65.1178,  -1.6202, 3104,   2834.1,  -0.8521,  34.9107,7,  34.9094,2,    296.7,2,    297.2,2,    13.00,2,    15.44,2,     0.00,2,     1.01,2,    0.436,2,    0.226,2,    0.024,2, 0.107349132,2,   2162.0,2,   2291.6,2,  -1.0044
  316N20020530,   126,  1,      2,      2,2,20020625, 65.1178,  -1.6202, 3104,   2987.1,  -0.8443,  34.9111,2,  34.9090,2,    296.7,2,    296.7,2,    13.10,2,    15.44,2,     0.00,2,     1.02,2,    0.416,6,    0.215,6,    0.021,6, 0.117108179,2,   2163.3,2,   2289.1,2,  -1.0088
  316N20020530,   126,  1,      1,      1,2,20020625, 65.1178,  -1.6202, 3104,   3092.4,  -0.8391,  34.9113,2,  34.9098,2,    296.2,2,    295.8,2,    13.39,2,    15.44,2,     0.00,2,     1.02,2,    0.391,2, -999.000,9,    0.021,2, 0.117108109,2,   2164.8,2,   2292.1,2,  -1.0122
  316N20020530,   127,  1,     29,     29,2,20020625, 64.7168,  -2.3607, 3078,      4.0,  10.9353,  34.9673,2,  34.9660,2,    298.4,2,    298.8,2,     0.78,2,     0.20,2,     0.01,2,     0.11,2,    3.921,2,    2.115,2,    0.355,2,  1.82485835,2,   2050.2,2,   2295.5,2,  10.9348
  316N20020530,   127,  1,     28,     28,3,20020625, 64.7168,  -2.3607, 3078,     20.8,   9.6543,  35.0373,2,  35.0345,2,    299.3,2,    299.2,2,     1.27,2,     2.74,2,     0.06,2,     0.29,2, -999.000,9, -999.000,9, -999.000,9,        -999,9,   -999.0,9,   -999.0,9,   9.6520
  316N20020530,   127,  1,     27,     27,2,20020625, 64.7168,  -2.3607, 3078,     41.2,   6.3918,  35.0974,2,  35.0927,2,    297.0,2,    290.1,2,     4.79,2,    11.43,2,     0.35,2,     0.80,2,    4.371,2,    2.413,2,    0.397,2,  1.96129378,2,   2138.5,2,   2296.2,2,   6.3882
  316N20020530,   127,  1,     26,     26,2,20020625, 64.7168,  -2.3607, 3078,     70.8,   4.2112,  34.9542,2,  34.9538,2,    302.7,2,    301.9,2,     5.18,2,    11.92,2,     0.28,2,     0.83,2, -999.000,9, -999.000,9, -999.000,9,        -999,9,   -999.0,9,   -999.0,9,   4.2062
  316N20020530,   127,  1,     25,     25,2,20020625, 64.7168,  -2.3607, 3078,    105.9,   3.0408,  34.8990,2,  34.9003,2,    307.3,2,    308.7,2,     5.37,2,    12.41,2,     0.04,2,     0.84,2,    5.234,2,    2.770,2,    0.445,2,  2.19579257,2,   2147.7,2,   2286.3,2,   3.0343
  316N20020530,   127,  1,     24,     24,2,20020625, 64.7168,  -2.3607, 3078,    140.7,   2.1819,  34.8817,2,  34.9538,0,    312.1,2,    312.5,2,     5.37,2,    12.61,2,     0.02,2,     0.84,2,    5.301,2,    2.753,2,    0.462,2,  2.22498119,2,   -999.0,9,   -999.0,9,   2.1742
  316N20020530,   127,  1,     23,     23,2,20020625, 64.7168,  -2.3607, 3078,    186.3,   1.6066,  34.8871,2,  34.8861,2,    313.7,2,    312.5,2,     5.37,2,    12.80,2,     0.01,2,     0.86,2,    5.394,2,    2.744,2,    0.463,2,  2.20557496,2,   2154.3,2,   2283.4,2,   1.5972
  316N20020530,   127,  1,     22,     22,2,20020625, 64.7168,  -2.3607, 3078,    232.4,   1.3583,  34.8994,2,  34.9005,2,    311.8,2,    311.8,2,     5.47,2,    13.00,2,     0.01,2,     0.87,2, -999.000,9, -999.000,9, -999.000,9,        -999,9,   -999.0,9,   -999.0,9,   1.3469
  316N20020530,   127,  1,     21,     21,2,20020625, 64.7168,  -2.3607, 3078,    282.8,   1.1925,  34.9177,2,  34.9170,2,    313.5,2,    313.5,2,     5.57,2,    13.00,2,     0.01,2,     0.87,2,    5.466,2,    2.774,2,    0.464,2,  2.06889884,2,   -999.0,9,   -999.0,9,   1.1789
  316N20020530,   127,  1,     20,     20,2,20020625, 64.7168,  -2.3607, 3078,    307.8,   0.9433,  34.9056,2,  34.9062,2,    309.1,2,    310.7,2,     5.86,2,    13.29,2,     0.01,2,     0.89,2,    5.277,2,    2.648,2,    0.433,2,  1.98108415,2,   2158.7,2,   2286.0,2,   0.9290
  316N20020530,   127,  1,     19,     19,2,20020625, 64.7168,  -2.3607, 3078,    367.5,   0.5331,  34.8980,2,  34.8987,2,    308.3,2,    307.5,2,     6.35,2,    13.78,2,     0.01,2,     0.91,2, -999.000,9, -999.000,9, -999.000,9,        -999,9,   -999.0,9,   -999.0,9,   0.5171
  316N20020530,   127,  1,     18,     18,2,20020625, 64.7168,  -2.3607, 3078,    433.9,   0.1589,  34.8886,2,  34.8899,2,    306.1,2,    306.4,2,     6.74,2,    14.07,2,     0.00,2,     0.93,2,    4.682,2,    2.306,2,    0.354,2,  1.57122374,2,   2159.5,2,   2287.7,2,   0.1412
  316N20020530,   127,  1,     17,     17,2,20020625, 64.7168,  -2.3607, 3078,    505.1,  -0.0910,  34.8871,2,  34.8864,2,    305.7,2,    305.2,2,     7.13,2,    14.07,2,     0.00,2,     0.94,2,    4.403,2,    2.137,2,    0.326,2,  1.60050537,2,   -999.0,9,   -999.0,9,  -0.1109
  316N20020530,   127,  1,     16,     16,2,20020625, 64.7168,  -2.3607, 3078,    608.3,  -0.3061,  34.8901,2,  34.8907,2,    304.9,2,    304.6,2,     7.52,2,    14.17,2,     0.00,2,     0.94,2,    3.751,2,    1.843,2,    0.278,2,  1.76640576,2,   2162.8,2,   2285.5,2,  -0.3296
  316N20020530,   127,  1,     15,     15,2,20020625, 64.7168,  -2.3607, 3078,    719.1,  -0.4402,  34.8911,2,  34.8927,2,    304.8,2,    305.1,2,     7.82,2,    14.17,2,     0.00,2,     0.94,2,    3.451,2,    1.690,2,    0.248,2,  2.14700933,2,   -999.0,9,   -999.0,9,  -0.4679
  316N20020530,   127,  1,     14,     14,2,20020625, 64.7168,  -2.3607, 3078,    829.9,  -0.5356,  34.8948,2,  34.8964,2,    303.4,2,    303.3,2,     8.31,2,    14.37,2,     0.00,2,     0.95,2,    3.056,2,    1.468,2,    0.216,2,  2.51784946,2,   2162.3,2,   2288.1,2,  -0.5677
  316N20020530,   127,  1,     13,     13,2,20020625, 64.7168,  -2.3607, 3078,    911.6,  -0.5860,  34.8977,2,  34.8996,2,    301.4,2,    300.9,2,     8.80,2,    14.46,2,     0.00,2,     0.96,2,    2.615,2,    1.273,2,    0.191,2,  2.24458913,2,   -999.0,9,   -999.0,9,  -0.6216
  316N20020530,   127,  1,     12,     12,2,20020625, 64.7168,  -2.3607, 3078,   1011.6,  -0.6407,  34.9008,2,  34.9033,2,    300.3,2,    299.4,2,     9.28,2,    14.56,2,     0.00,2,     0.97,2,    2.173,2,    1.065,2,    0.143,2,  1.73711202,2,   2157.7,2,   2285.6,2,  -0.6806
  316N20020530,   127,  1,     11,     11,2,20020625, 64.7168,  -2.3607, 3078,   1111.3,  -0.6896,  34.9037,2,  34.9055,2,    299.6,2,    298.9,2,     9.67,2,    14.66,2,     0.00,2,     0.98,2,    1.776,6,    0.873,6,    0.120,6,  1.29795236,2,   -999.0,9,   -999.0,9,  -0.7340
  316N20020530,   127,  1,     10,     10,2,20020625, 64.7168,  -2.3607, 3078,   1264.5,  -0.7509,  34.9070,2,  34.9071,2,    298.4,2,    297.8,2,    10.36,2,    14.85,2,     0.00,2,     0.99,2,    1.321,2,    0.660,2,    0.074,2, 0.575782693,2,   -999.0,9,   -999.0,9,  -0.8026
  316N20020530,   127,  1,      9,      9,2,20020625, 64.7168,  -2.3607, 3078,   1415.6,  -0.8008,  34.9089,2,  34.9102,2,    297.7,2,    297.4,2,    10.95,2,    14.95,2,     0.00,2,     0.99,2,    0.980,2,    0.497,2,    0.050,2, 0.273252173,2,   2160.7,2,   2288.1,2,  -0.8600
  316N20020530,   127,  1,      8,      8,2,20020625, 64.7168,  -2.3607, 3078,   1617.3,  -0.8449,  34.9092,2,  34.9106,2,    297.7,2,    298.2,2,    11.43,2,    15.15,2,     0.00,2,     1.00,2,    0.780,2,    0.399,2,    0.045,2, 0.117108039,2,   -999.0,9,   -999.0,9,  -0.9149
  316N20020530,   127,  1,      7,      7,2,20020625, 64.7168,  -2.3607, 3078,   1820.1,  -0.8712,  34.9095,2,  34.9102,2,    297.5,2,    298.5,2,    11.82,2,    15.15,2,     0.00,2,     1.00,2,    0.682,2,    0.338,2,    0.031,2, 0.146385093,2,   -999.0,9,   -999.0,9,  -0.9528
  316N20020530,   127,  1,      6,      6,2,20020625, 64.7168,  -2.3607, 3078,   2019.8,  -0.8775,  34.9107,2,  34.9112,2,    297.3,2,    297.4,2,    12.12,2,    15.15,2,     0.00,2,     1.01,2,    0.619,2,    0.324,2,    0.034,2, 0.146384984,2,   2160.4,2,   2289.6,2,  -0.9715
  316N20020530,   127,  1,      5,      5,2,20020625, 64.7168,  -2.3607, 3078,   2275.7,  -0.8813,  34.9106,2,  34.9100,2,    297.1,2,    298.2,2,    12.51,2,    15.34,2,     0.00,2,     1.01,2,    0.544,2,    0.277,2,    0.029,2,0.0683130534,2,   -999.0,9,   -999.0,9,  -0.9922
  316N20020530,   127,  1,      4,      4,2,20020625, 64.7168,  -2.3607, 3078,   2527.2,  -0.8746,  34.9110,2,  34.9102,2,    297.0,2,    298.4,2,    12.80,2,    15.34,2,     0.00,2,     1.01,2,    0.456,2,    0.243,2,    0.031,2,0.0683130433,2,   2162.4,2,   2291.3,2,  -1.0034
  316N20020530,   127,  1,      3,      3,2,20020625, 64.7168,  -2.3607, 3078,   2785.0,  -0.8647,  34.9113,7,  34.9101,2,    297.1,2,    297.0,2,    13.19,2,    15.44,2,     0.00,2,     1.01,2,    0.409,6,    0.209,6,    0.021,6,0.0683130483,2,   -999.0,9,   -999.0,9,  -1.0129
  316N20020530,   127,  1,      2,      2,2,20020625, 64.7168,  -2.3607, 3078,   2960.8,  -0.8537,  34.9114,2,  34.9105,2,    296.9,2,    296.9,2,    13.39,2,    15.44,2,     0.00,2,     1.01,2,    0.398,2,    0.212,2,    0.026,2, 0.087831036,2,   2163.1,2,   2292.9,2,  -1.0159
  316N20020530,   127,  1,      1,      1,2,20020625, 64.7168,  -2.3607, 3078,   3061.2,  -0.8457,  34.9115,2,  34.9099,2,    296.9,2,    296.5,2,    13.39,2,    15.44,2,     0.00,2,     1.01,2,    0.386,2,    0.206,2,    0.023,2,0.0780720669,2,   2158.7,2,   2291.0,2,  -1.0161