BOTTLE,20081218PRINUNIVRMK
EXPOCODE,STNNBR,CASTNO,SAMPNO,BTLNBR,BTLNBR_FLAG_W,DATE,LATITUDE,LONGITUDE,DEPTH,CTDPRS,CTDTMP,CTDSAL,CTDSAL_FLAG_W,SALNTY,SALNTY_FLAG_W,CTDOXY,CTDOXY_FLAG_W,OXYGEN,OXYGEN_FLAG_W,SILCAT,SILCAT_FLAG_W,NITRAT,NITRAT_FLAG_W,NITRIT,NITRIT_FLAG_W,PHSPHT,PHSPHT_FLAG_W,CFC-11,CFC-11_FLAG_W,CFC-12,CFC-12_FLAG_W,CFC113,CFC113_FLAG_W,SF6,SF6_FLAG_W,TCARBN,TCARBN_FLAG_W,ALKALI,ALKALI_FLAG_W,THETA
,,,,,,,,,METERS,DBARS,ITS-90,PSS-78,,PSS-78,,UMOL/KG,,UMOL/KG,,UMOL/KG,,UMOL/KG,,UMOL/KG,,UMOL/KG,,PMOL/KG,,PMOL/KG,,PMOL/KG,,FMOL/KG,,UMOL/KG,,UMOL/KG,,DEGC
  316N20020530,   128,  1,     29,     29,2,20020625, 64.2805,  -3.0583, 3035,      4.7,   9.9319,  34.8247,2,  34.8243,2,    304.8,2,    304.9,2,     0.10,2,     0.00,2,     0.00,2,     0.07,2,    4.201,2,    2.219,2,    0.375,2,  1.91288753,2,   2049.8,2,   2289.5,2,   9.9314
  316N20020530,   128,  1,     28,     28,2,20020625, 64.2805,  -3.0583, 3035,     23.8,   6.6377,  34.8589,7,  34.8450,2,    329.4,2,    328.8,2,     0.49,2,     2.54,2,     0.07,2,     0.25,2, -999.000,9, -999.000,9, -999.000,9,        -999,9,   -999.0,9,   -999.0,9,   6.6356
  316N20020530,   128,  1,     27,     27,2,20020625, 64.2805,  -3.0583, 3035,     62.5,   2.8437,  34.8898,2,  34.8889,2,    322.6,2,    314.8,2,     4.50,2,    11.34,2,     0.22,2,     0.79,2,    5.426,2,    2.842,2,    0.490,2,  2.33243946,2,   2148.0,2,   2286.7,2,   2.8400
  316N20020530,   128,  1,     26,     26,2,20020625, 64.2805,  -3.0583, 3035,     99.4,   2.3786,  34.9035,7,  34.9099,2,    315.4,2,    315.5,2,     4.79,2,    12.02,2,     0.03,2,     0.80,2, -999.000,9, -999.000,9, -999.000,9,        -999,9,   -999.0,9,   -999.0,9,   2.3730
  316N20020530,   128,  1,     25,     25,2,20020625, 64.2805,  -3.0583, 3035,    129.2,   2.1855,  34.9260,2,  34.9255,2,    317.7,2,    316.5,2,     4.79,2,    12.02,2,     0.02,2,     0.81,2,    5.524,2,    2.890,2,    0.500,2,  2.24454586,2,   2149.6,2,   2289.1,2,   2.1784
  316N20020530,   128,  1,     24,     24,2,20020625, 64.2805,  -3.0583, 3035,    169.3,   1.9298,  34.9315,2,  34.9322,2,    315.8,2,    315.7,2,     4.98,2,    12.31,2,     0.01,2,     0.82,2, -999.000,9, -999.000,9, -999.000,9,        -999,9,   -999.0,9,   -999.0,9,   1.9208
  316N20020530,   128,  1,     23,     23,2,20020625, 64.2805,  -3.0583, 3035,    209.0,   1.7301,  34.9336,2,  34.9349,2,    313.5,2,    315.4,2,     5.18,2,    12.51,2,     0.01,2,     0.84,2,    5.479,2,    2.858,2,    0.500,2,  2.17621836,2,   2155.0,2,   2286.6,2,   1.7192
  316N20020530,   128,  1,     22,     22,2,20020625, 64.2805,  -3.0583, 3035,    259.4,   1.4433,  34.9272,2,  34.9286,2,    309.0,2,    311.4,2,     5.67,2,    13.00,2,     0.01,2,     0.88,2,    5.406,2,    2.804,2,    0.480,2,  1.99080999,2,   -999.0,9,   -999.0,9,   1.4303
  316N20020530,   128,  1,     21,     21,2,20020625, 64.2805,  -3.0583, 3035,    300.0,   1.2023,  34.9216,2,  34.9227,2,    308.1,2,    310.5,2,     5.86,2,    13.19,2,     0.01,2,     0.89,2,    5.213,2,    2.703,2,    0.420,2,  1.95178307,2,   2161.0,2,   2287.4,2,   1.1878
  316N20020530,   128,  1,     20,     20,2,20020625, 64.2805,  -3.0583, 3035,    330.5,   0.9547,  34.9123,2,  34.9129,2,    310.9,2,    308.6,2,     6.06,2,    13.39,2,     0.01,2,     0.90,2,    5.174,2,    2.629,2,    0.397,2,  1.84444846,2,   2158.8,2,   2286.6,2,   0.9393
  316N20020530,   128,  1,     19,     19,2,20020625, 64.2805,  -3.0583, 3035,    398.9,   0.5036,  34.8984,2,  34.8995,2,    310.2,2,    309.5,2,     6.45,2,    13.49,2,     0.00,2,     0.91,2,    4.981,2,    2.533,2,    0.370,2,        -999,9,   -999.0,9,   -999.0,9,   0.4863
  316N20020530,   128,  1,     18,     18,2,20020625, 64.2805,  -3.0583, 3035,    470.0,   0.1816,  34.8905,2,  34.8927,2,    308.6,2,    307.6,2,     6.84,2,    13.68,2,     0.00,2,     0.92,2,    4.686,2,    2.349,2,    0.344,2,   1.5517022,2,   -999.0,9,   -999.0,9,   0.1621
  316N20020530,   128,  1,     17,     17,2,20020625, 64.2805,  -3.0583, 3035,    560.0,  -0.1141,  34.8903,2,  34.8925,2,    307.5,2,    307.2,2,     7.33,2,    13.78,2,     0.00,2,     0.92,2,    4.274,2,    2.108,2,    0.290,2,  1.58097983,2,   2163.3,2,   2285.3,2,  -0.1364
  316N20020530,   128,  1,     16,     16,2,20020625, 64.2805,  -3.0583, 3035,    660.9,  -0.3386,  34.8904,7,  34.8925,2,    306.0,2,    305.5,2,     7.82,2,    14.07,2,     0.00,2,     0.94,2,    3.821,2,    1.868,2,    0.257,2,  1.78592166,2,   -999.0,9,   -999.0,9,  -0.3642
  316N20020530,   128,  1,     15,     15,2,20020625, 64.2805,  -3.0583, 3035,    763.0,  -0.4787,  34.8926,2,  34.8946,2,    304.7,2,    306.3,2,     8.40,2,    14.07,2,     0.00,2,     0.94,2,    3.460,2,    1.696,2,    0.228,2,  2.56664843,2,   2161.5,2,   2290.1,2,  -0.5081
  316N20020530,   128,  1,     14,     14,2,20020625, 64.2805,  -3.0583, 3035,    842.0,  -0.5477,  34.8940,2,  34.8954,2,    305.0,2,    305.7,2,     8.50,2,    14.07,2,     0.00,2,     0.94,2,    3.081,2,    1.483,2,    0.217,2,  2.90821588,2,   2163.2,2,   2288.9,2,  -0.5803
  316N20020530,   128,  1,     13,     13,2,20020625, 64.2805,  -3.0583, 3035,    964.1,  -0.6264,  34.8968,2,  34.8992,2,    303.9,2,    304.4,2,     8.89,2,    14.17,2,     0.00,2,     0.95,2,    2.751,6,    1.353,6,    0.180,6,  2.92772583,2,   2162.8,2,   2292.2,2,  -0.6642
  316N20020530,   128,  1,     12,     12,2,20020625, 64.2805,  -3.0583, 3035,   1034.8,  -0.6515,  34.8994,2,  34.9008,2,    303.3,2,    302.6,2,     9.38,2,    14.37,2,     0.00,2,     0.96,2,    2.442,2,    1.226,2,    0.181,2,  2.44952769,2,   -999.0,9,   -999.0,9,  -0.6925
  316N20020530,   128,  1,     11,     11,2,20020625, 64.2805,  -3.0583, 3035,   1144.8,  -0.6813,  34.9030,2,  34.9049,2,    300.5,2,    299.8,2,     9.87,2,    14.56,2,     0.00,2,     0.97,2,    1.928,2,    0.957,2,    0.113,2,  1.48337479,2,   -999.0,9,   -999.0,9,  -0.7275
  316N20020530,   128,  1,     10,     10,2,20020625, 64.2805,  -3.0583, 3035,   1265.7,  -0.7235,  34.9051,2,  34.9075,2,    299.7,2,    298.9,2,    10.46,2,    14.56,2,     0.00,2,     0.97,2,    1.593,2,    0.805,2, -999.000,9,  1.03445673,2,   2162.0,2,   2289.7,2,  -0.7755
  316N20020530,   128,  1,      9,      9,2,20020625, 64.2805,  -3.0583, 3035,   1415.9,  -0.7716,  34.9080,2,  34.9128,2,    298.8,2,    298.3,2,    11.04,2,    14.76,2,     0.00,2,     0.98,2,    1.196,2,    0.602,2,    0.052,2, 0.566021263,2,   -999.0,9,   -999.0,9,  -0.8312
  316N20020530,   128,  1,      8,      8,2,20020625, 64.2805,  -3.0583, 3035,   1568.2,  -0.8095,  34.9093,2,  34.9106,2,    298.5,2,    297.4,2,    11.53,2,    14.85,2,     0.00,2,     0.99,2,    0.967,2,    0.505,2, -999.000,9, 0.283011095,2,   -999.0,9,   -999.0,9,  -0.8771
  316N20020530,   128,  1,      7,      7,2,20020625, 64.2805,  -3.0583, 3035,   1720.4,  -0.8366,  34.9096,2,  34.9124,2,    297.9,2,    297.7,2,    11.82,2,    14.95,2,     0.00,2,     0.99,2,    0.811,2,    0.420,2,    0.037,2, 0.175661824,2,   2161.2,2,   2291.3,2,  -0.9127
  316N20020530,   128,  1,      6,      6,2,20020625, 64.2805,  -3.0583, 3035,   1922.1,  -0.8587,  34.9104,2,  34.9104,2,    297.6,2,    297.6,2,    12.22,2,    15.05,2,     0.00,2,     1.00,2,    0.706,2,    0.381,2, -999.000,9, 0.136626066,2,   -999.0,9,   -999.0,9,  -0.9468
  316N20020530,   128,  1,      5,      5,2,20020625, 64.2805,  -3.0583, 3035,   2173.2,  -0.8642,  34.9109,2,  34.9118,2,    297.4,2,    297.6,2,    12.61,2,    15.05,2,     0.00,2,     1.00,2,    0.629,6,    0.350,6,    0.041,2, 0.126866929,2,   2162.1,2,   2290.4,2,  -0.9685
  316N20020530,   128,  1,      4,      4,2,20020625, 64.2805,  -3.0583, 3035,   2424.7,  -0.8629,  34.9106,2,  34.9106,2,    297.1,2,    297.4,2,    13.00,2,    15.15,2,     0.00,2,     1.01,2,    0.547,2,    0.282,2,    0.020,2, 0.126867043,2,   -999.0,9,   -999.0,9,  -0.9845
  316N20020530,   128,  1,      3,      3,2,20020625, 64.2805,  -3.0583, 3035,   2680.6,  -0.8532,  34.9110,2,  34.9120,2,    296.9,2,    297.2,2,    12.70,2,    15.25,2,     0.01,2,     1.02,2,    0.496,2,    0.269,2,    0.019,2, 0.097589931,2,   -999.0,9,   -999.0,9,  -0.9937
  316N20020530,   128,  1,      2,      2,2,20020625, 64.2805,  -3.0583, 3035,   2884.7,  -0.8451,  34.9118,7,  34.9113,2,    296.9,2,    296.9,2,    13.00,2,    15.25,2,     0.01,2,     1.02,2,    0.440,2,    0.236,2,    0.015,2, 0.117107978,2,   2162.1,2,   2290.3,2,  -1.0015
  316N20020530,   128,  1,      1,      1,2,20020625, 64.2805,  -3.0583, 3035,   3017.5,  -0.8379,  34.9114,2,  34.9126,2,    296.7,2,    296.8,2,    13.19,2,    15.34,2,     0.01,2,     1.03,2,    0.432,2,    0.250,2, -999.000,9, 0.107348876,2,   2162.8,2,   2292.2,2,  -1.0050
  316N20020530,   129,  1,     31,     31,2,20020625, 63.8588,  -3.6867, 2998,      4.9,   8.6748,  34.8477,2,  34.8490,2,    318.4,2,    318.9,2,     0.39,2,     0.98,2,     0.04,2,     0.17,2,    4.527,2,    2.397,2,    0.401,2,  2.03972522,2,   2062.3,2,   2290.8,2,   8.6743
  316N20020530,   129,  1,     30,     30,2,20020625, 63.8588,  -3.6867, 2998,     31.3,   5.5929,  34.8652,2,  34.8612,2,    332.5,2,    332.8,2,     0.49,2,     4.01,2,     0.09,2,     0.39,2,    5.091,2,    2.668,2,    0.454,2,        -999,9,   -999.0,9,   -999.0,9,   5.5904
  316N20020530,   129,  1,     29,     29,2,20020625, 63.8588,  -3.6867, 2998,     61.7,   2.8672,  34.8739,2,  34.8759,2,    324.7,2,    328.5,2,     2.15,2,     8.40,2,     0.20,2,     0.68,2, -999.000,9, -999.000,9, -999.000,9,        -999,9,   2140.0,2,   2288.9,2,   2.8635
  316N20020530,   129,  1,     28,     28,2,20020625, 63.8588,  -3.6867, 2998,     96.2,   1.5949,  34.8312,2,  34.8303,2,    321.0,2,    320.5,2,     4.79,2,    11.92,2,     0.18,2,     0.81,2,    5.580,2,    2.911,2,    0.498,2,  2.33254121,2,   -999.0,9,   -999.0,9,   1.5901
  316N20020530,   129,  1,     27,     27,2,20020625, 63.8588,  -3.6867, 2998,    127.3,   1.5693,  34.8777,2,  34.8773,2,    318.4,2,    316.8,2,     5.38,2,    12.51,2,     0.05,2,     0.85,2, -999.000,9, -999.000,9, -999.000,9,        -999,9,   2157.7,2,   2285.0,2,   1.5629
  316N20020530,   129,  1,     26,     26,2,20020625, 63.8588,  -3.6867, 2998,    162.7,   2.1557,  34.9715,2,  34.9723,2,    317.0,2,    315.9,2,     4.89,2,    12.51,2,     0.02,2,     0.83,2, -999.000,9, -999.000,9, -999.000,9,  2.24446766,2,   -999.0,9,   -999.0,9,   2.1467
  316N20020530,   129,  1,     25,     25,2,20020625, 63.8588,  -3.6867, 2998,    191.6,   2.1217,  34.9800,2,  34.9837,2,    316.8,2,    315.7,2,     4.98,2,    12.51,2,     0.03,2,     0.83,2,    5.469,2,    2.777,2,    0.468,2,   2.2834825,2,   2156.8,2,   2290.1,2,   2.1111
  316N20020530,   129,  1,     24,     24,2,20020625, 63.8588,  -3.6867, 2998,    241.7,   1.7899,  34.9645,2,  34.9680,2,    316.6,2,    316.5,2,     5.18,2,    12.70,2,     0.02,2,     0.84,2, -999.000,9, -999.000,9, -999.000,9,        -999,9,   -999.0,9,   -999.0,9,   1.7771
  316N20020530,   129,  1,     23,     23,2,20020625, 63.8588,  -3.6867, 2998,    292.2,   1.6162,  34.9646,2,  34.9662,2,    316.2,2,    316.8,2,     5.28,2,    12.70,2,     0.02,2,     0.84,2,    5.399,2,    2.791,2,    0.456,2,  2.26399505,2,   -999.0,9,   -999.0,9,   1.6010
  316N20020530,   129,  1,     22,     22,2,20020625, 63.8588,  -3.6867, 2998,    341.3,   1.3310,  34.9504,2,  34.9522,2,    315.9,2,    317.2,2,     5.47,2,    12.80,2,     0.01,2,     0.85,2,    5.326,2,    2.706,2,    0.444,2,  2.09812073,2,   -999.0,9,   -999.0,9,   1.3140
  316N20020530,   129,  1,     21,     21,2,20020625, 63.8588,  -3.6867, 2998,    373.4,   1.1657,  34.9435,2,  34.9496,2,    314.2,2,    317.7,2,     5.47,2,    12.80,2,     0.01,2,     0.86,2,    5.412,2,    2.774,2,    0.458,2,  2.04933119,2,   -999.0,9,   -999.0,9,   1.1475
  316N20020530,   129,  1,     20,     20,2,20020625, 63.8588,  -3.6867, 2998,    417.3,   0.7812,  34.9207,2,  34.9238,2,    314.1,2,    315.3,2,     5.86,2,    13.10,2,     0.01,2,     0.88,2,    5.113,2,    2.602,2,    0.421,2,  1.96154038,2,   2160.5,2,   2286.4,2,   0.7620
  316N20020530,   129,  1,     19,     19,2,20020625, 63.8588,  -3.6867, 2998,    478.3,   0.1773,  34.8904,2,  34.8945,2,    308.3,2,    307.4,2,     6.65,2,    13.88,2,     0.00,2,     0.93,2,    4.585,6,    2.266,6,    0.369,6,  1.60049572,2,   -999.0,9,   -999.0,9,   0.1575
  316N20020530,   129,  1,     18,     18,2,20020625, 63.8588,  -3.6867, 2998,    537.9,  -0.0209,  34.8902,2,  34.8943,2,    307.7,2,    307.8,2,     6.84,2,    13.78,2,     0.00,2,     0.93,2,    4.220,2,    2.093,2,    0.324,2,  1.53218211,2,   2165.7,2,   2287.1,2,  -0.0426
  316N20020530,   129,  1,     17,     17,2,20020625, 63.8588,  -3.6867, 2998,    579.5,  -0.1172,  34.8904,2,  34.8949,2,    309.1,2,    307.4,2,     7.13,2,    13.78,2,     0.00,2,     0.92,2,    4.252,2,    2.048,2,    0.319,2,  1.65904995,2,   -999.0,9,   -999.0,9,  -0.1403
  316N20020530,   129,  1,     16,     16,2,20020625, 63.8588,  -3.6867, 2998,    649.4,  -0.2960,  34.8890,2,  34.8919,2,    308.1,2,    308.1,2,     7.33,2,    13.78,2,     0.00,2,     0.93,2,    3.993,2,    1.933,2,    0.304,2,  1.95182782,2,   -999.0,9,   -999.0,9,  -0.3214
  316N20020530,   129,  1,     15,     15,2,20020625, 63.8588,  -3.6867, 2998,    758.8,  -0.4634,  34.8918,2,  34.8955,2,    306.6,2,    307.3,2,     7.82,2,    13.88,2,     0.00,2,     0.94,2,    3.390,2,    1.702,2,    0.255,2,  2.76182897,2,   2163.8,2,   2286.1,2,  -0.4927
  316N20020530,   129,  1,     14,     14,2,20020625, 63.8588,  -3.6867, 2998,    849.5,  -0.5509,  34.8934,2,  34.8978,2,    306.4,2,    306.0,2,     8.21,2,    13.97,2,     0.00,2,     0.94,2,    3.105,2,    1.530,2,    0.228,2,  3.04483803,2,   -999.0,9,   -999.0,9,  -0.5838
  316N20020530,   129,  1,     13,     13,2,20020625, 63.8588,  -3.6867, 2998,    959.4,  -0.6276,  34.8955,2,  34.8992,2,    304.9,2,    305.5,2,     8.70,2,    14.07,2,     0.00,2,     0.94,2,    2.821,2,    1.374,2,    0.207,2,  3.24977567,2,   2164.4,2,   2286.5,2,  -0.6651
  316N20020530,   129,  1,     12,     12,2,20020625, 63.8588,  -3.6867, 2998,   1061.4,  -0.6603,  34.9005,2,  34.9049,2,    301.9,2,    300.1,2,     9.38,2,    14.46,2,     0.00,2,     0.97,2,    2.128,2,    1.021,2,    0.152,2,  1.72735091,2,   -999.0,9,   -999.0,9,  -0.7025
  316N20020530,   129,  1,     11,     11,2,20020625, 63.8588,  -3.6867, 2998,   1161.4,  -0.7035,  34.9028,2,  34.9062,2,    300.5,2,    300.1,2,     9.77,2,    14.46,2,     0.00,2,     0.98,2,    1.797,2,    0.887,2,    0.131,2,  1.32722879,2,   -999.0,9,   -999.0,9,  -0.7503
  316N20020530,   129,  1,     10,     10,2,20020625, 63.8588,  -3.6867, 2998,   1262.1,  -0.7437,  34.9046,2,  34.9088,2,    299.1,2,    299.6,2,    10.26,2,    14.56,2,     0.00,2,     0.98,2,    1.512,2,    0.738,2,    0.089,2, 0.975901635,2,   2162.7,2,   2287.4,2,  -0.7953
  316N20020530,   129,  1,      9,      9,2,20020625, 63.8588,  -3.6867, 2998,   1413.9,  -0.7782,  34.9071,2,  34.9100,2,    298.6,2,    298.4,2,    10.85,2,    14.76,2,     0.00,2,     0.99,2,    1.188,2,    0.573,2,    0.064,2, 0.478191374,2,   -999.0,9,   -999.0,9,  -0.8376
  316N20020530,   129,  1,      8,      8,2,20020625, 63.8588,  -3.6867, 2998,   1563.9,  -0.8198,  34.9081,2,  34.9105,2,    298.5,2,    299.2,2,    11.14,2,    14.85,2,     0.00,2,     1.00,2,    0.994,2,    0.488,2,    0.063,2, 0.331806136,2,   2160.8,2,   2291.2,2,  -0.8870
  316N20020530,   129,  1,      7,      7,2,20020625, 63.8588,  -3.6867, 2998,   1713.4,  -0.8409,  34.9092,2,  34.9115,2,    298.1,2,    299.0,2,    11.53,2,    14.85,2,     0.00,2,     1.01,2,    0.800,6,    0.407,6,    0.041,6, 0.185420938,2,   -999.0,9,   -999.0,9,  -0.9166
  316N20020530,   129,  1,      6,      6,2,20020625, 63.8588,  -3.6867, 2998,   1914.4,  -0.8595,  34.9103,2,  34.9117,2,    298.0,2,    297.9,2,    11.92,2,    14.95,2,     0.00,2,     1.01,2,    0.784,2,    0.380,2,    0.043,2,  0.16590292,2,   2161.7,2,   2288.9,2,  -0.9471
  316N20020530,   129,  1,      5,      5,2,20020625, 63.8588,  -3.6867, 2998,   2163.1,  -0.8691,  34.9105,2,  34.9109,2,    297.9,2,    298.5,2,    12.31,2,    15.05,2,     0.00,2,     1.01,2,    0.630,2,    0.321,2,    0.036,2, 0.126867014,2,   -999.0,9,   -999.0,9,  -0.9726
  316N20020530,   129,  1,      4,      4,2,20020625, 63.8588,  -3.6867, 2998,   2412.2,  -0.8616,  34.9102,2,  34.9125,2,    297.6,2,   -999.0,9,    12.61,2,    15.05,2,     0.00,2,     1.01,2,    0.618,2,    0.301,2,    0.037,2, 0.117107874,2,   -999.0,9,   -999.0,9,  -0.9824
  316N20020530,   129,  1,      3,      3,2,20020625, 63.8588,  -3.6867, 2998,   2663.2,  -0.8486,  34.9108,2,  34.9111,2,    297.5,2,    297.4,2,    12.70,2,    15.05,2,     0.00,2,     1.01,2,    0.580,2,    0.280,2,    0.034,2,0.0975899964,2,   2161.4,2,   2291.1,2,  -0.9879
  316N20020530,   129,  1,      2,      2,2,20020625, 63.8588,  -3.6867, 2998,   2862.8,  -0.8401,  34.9107,2,  34.9132,2,    297.5,2,    297.3,2,    12.80,2,    15.15,2,     0.00,2,     1.02,2,    0.523,2,    0.268,2,    0.029,2, 0.136625781,2,   2162.4,2,   2290.7,2,  -0.9949
  316N20020530,   129,  1,      1,      1,2,20020625, 63.8588,  -3.6867, 2998,   2975.4,  -0.8412,  34.9116,2,  34.9105,2,    297.2,2,    297.1,2,    13.19,2,    15.25,2,     0.00,2,     1.02,2,    0.464,2,    0.239,2,    0.034,2, 0.126867052,2,   2161.8,2,   2288.4,2,  -1.0048