BOTTLE,20081218PRINUNIVRMK
EXPOCODE,STNNBR,CASTNO,SAMPNO,BTLNBR,BTLNBR_FLAG_W,DATE,LATITUDE,LONGITUDE,DEPTH,CTDPRS,CTDTMP,CTDSAL,CTDSAL_FLAG_W,SALNTY,SALNTY_FLAG_W,CTDOXY,CTDOXY_FLAG_W,OXYGEN,OXYGEN_FLAG_W,SILCAT,SILCAT_FLAG_W,NITRAT,NITRAT_FLAG_W,NITRIT,NITRIT_FLAG_W,PHSPHT,PHSPHT_FLAG_W,CFC-11,CFC-11_FLAG_W,CFC-12,CFC-12_FLAG_W,CFC113,CFC113_FLAG_W,SF6,SF6_FLAG_W,TCARBN,TCARBN_FLAG_W,ALKALI,ALKALI_FLAG_W,THETA
,,,,,,,,,METERS,DBARS,ITS-90,PSS-78,,PSS-78,,UMOL/KG,,UMOL/KG,,UMOL/KG,,UMOL/KG,,UMOL/KG,,UMOL/KG,,PMOL/KG,,PMOL/KG,,PMOL/KG,,FMOL/KG,,UMOL/KG,,UMOL/KG,,DEGC
  316N20020530,    73,  1,     27,     27,2,20020614, 70.0142,  14.0078, 2665,      3.3,  10.7698,  34.6472,2,  34.6464,2,    291.3,2,    292.4,2,     0.10,2,     0.68,2,     0.04,2,     0.06,2,    3.813,2,    2.101,2,    0.336,2,        -999,9,   2057.7,2,   2306.2,2,  10.7694
  316N20020530,    73,  1,     26,     26,2,20020614, 70.0142,  14.0078, 2665,     30.1,   9.6306,  34.9810,2,  34.9793,2,    295.7,2,    298.9,2,     0.29,2,     2.05,2,     0.06,2,     0.15,2, -999.000,9, -999.000,9, -999.000,9,        -999,9,   -999.0,9,   -999.0,9,   9.6272
  316N20020530,    73,  1,     25,     25,2,20020614, 70.0142,  14.0078, 2665,     55.3,   6.9639,  35.0834,7,  35.0813,2,    290.1,2,    292.5,2,     2.93,2,     7.62,2,     0.16,2,     0.61,2,    4.335,2,    2.314,2,    0.375,2,        -999,9,   2126.7,2,   2319.7,2,   6.9588
  316N20020530,    73,  1,     24,     24,2,20020614, 70.0142,  14.0078, 2665,    114.6,   6.4942,  35.1313,2,  35.1291,2,    289.8,2,    286.3,2,     4.40,2,    11.73,2,     0.06,2,     0.76,2, -999.000,9, -999.000,9, -999.000,9,        -999,9,   2139.3,2,   2319.0,2,   6.4839
  316N20020530,    73,  1,     23,     23,2,20020614, 70.0142,  14.0078, 2665,    155.2,   6.1356,  35.1311,2,  35.1298,2,    290.6,2,    290.5,2,     4.20,2,    11.14,2,     0.13,2,     0.75,2,    4.382,2,    2.337,2,    0.364,2,        -999,9,   2137.4,2,   2318.1,2,   6.1221
  316N20020530,    73,  1,     22,     22,2,20020614, 70.0142,  14.0078, 2665,    203.6,   5.7891,  35.1327,2,  35.1329,2,    294.0,2,    292.5,2,     4.69,2,    11.92,2,     0.12,2,     0.79,2, -999.000,9, -999.000,9, -999.000,9,        -999,9,   -999.0,9,   -999.0,9,   5.7719
  316N20020530,    73,  1,     21,     21,2,20020614, 70.0142,  14.0078, 2665,    254.0,   5.4381,  35.1310,2,  35.1313,2,    296.1,2,    295.3,2,     4.98,2,    12.21,2,     0.04,2,     0.80,2, -999.000,9, -999.000,9, -999.000,9,        -999,9,   2141.0,2,   2320.4,2,   5.4172
  316N20020530,    73,  1,     20,     20,2,20020614, 70.0142,  14.0078, 2665,    303.2,   5.1679,  35.1303,2,  35.1294,2,    296.8,2,    295.2,2,     5.08,2,    12.31,2,     0.01,2,     0.81,2, -999.000,9, -999.000,9, -999.000,9,        -999,9,   -999.0,9,   -999.0,9,   5.1435
  316N20020530,    73,  1,     19,     19,2,20020614, 70.0142,  14.0078, 2665,    352.7,   4.7950,  35.1237,2,  35.1229,2,    298.3,2,    297.5,2,     5.08,2,    12.51,2,     0.01,2,     0.82,2,    4.717,2,    2.461,2,    0.393,2,        -999,9,   2144.2,2,   2316.6,2,   4.7675
  316N20020530,    73,  1,     18,     18,2,20020614, 70.0142,  14.0078, 2665,    401.8,   4.4751,  35.1181,2,  35.1183,2,    298.6,2,    298.9,2,     5.18,2,    12.41,2,     0.01,2,     0.82,2,    4.876,2,    2.497,2,    0.401,2,        -999,9,   -999.0,9,   -999.0,9,   4.4446
  316N20020530,    73,  1,     17,     17,2,20020614, 70.0142,  14.0078, 2665,    450.4,   4.1477,  35.1068,2,  35.1067,2,    299.1,2,    300.7,2,     5.18,2,    12.51,2,     0.01,2,     0.83,2,    4.872,2,    2.549,2,    0.404,2,        -999,9,   2145.0,2,   2314.2,2,   4.1145
  316N20020530,    73,  1,     16,     16,2,20020614, 70.0142,  14.0078, 2665,    576.4,   1.6994,  34.9468,2,  34.9461,2,    300.8,2,    301.3,2,     6.45,2,    13.78,2,     0.01,2,     0.92,2,    4.708,2,    2.372,2,    0.374,2,  1.44429432,2,   2156.8,2,   2304.1,2,   1.6678
  316N20020530,    73,  1,     15,     15,2,20020614, 70.0142,  14.0078, 2665,    654.0,   0.6200,  34.9064,2,  34.9066,2,    300.8,2,    301.8,2,     7.13,2,    14.17,2,     0.01,2,     0.95,2,    4.306,6,    2.111,6,    0.325,6,  1.21987904,2,   -999.0,9,   -999.0,9,   0.5895
  316N20020530,    73,  1,     14,     14,2,20020614, 70.0142,  14.0078, 2665,    754.7,  -0.1016,  34.8925,2,  34.8940,2,    301.8,2,    302.5,2,     7.62,2,    14.37,2,     0.00,2,     0.97,2,    3.760,2,    1.815,2,    0.274,2,  1.12229924,2,   2162.2,2,   2301.3,2,  -0.1330
  316N20020530,    73,  1,     13,     13,2,20020614, 70.0142,  14.0078, 2665,    856.8,  -0.3771,  34.8939,2,  34.8948,2,    303.2,2,    302.7,2,     8.31,2,    14.37,2,     0.00,2,     0.97,2,    3.027,2,    1.543,2,    0.219,2,  1.46386771,2,   -999.0,9,   -999.0,9,  -0.4116
  316N20020530,    73,  1,     12,     12,2,20020614, 70.0142,  14.0078, 2665,    958.4,  -0.5140,  34.8954,2,  34.8963,2,    303.4,2,    304.2,2,     8.50,2,    14.37,2,     0.00,2,     0.97,2,    2.811,2,    1.426,2,    0.198,2,  1.85423036,2,   2159.8,2,   2300.3,2,  -0.5524
  316N20020530,    73,  1,     11,     11,2,20020614, 70.0142,  14.0078, 2665,   1056.6,  -0.5996,  34.8997,2,  34.8994,2,    302.3,2,    302.3,2,     8.99,2,    14.46,2,     0.00,2,     0.98,2,    2.362,2,    1.196,2,    0.167,2,  1.78591249,2,   -999.0,9,   -999.0,9,  -0.6421
  316N20020530,    73,  1,     10,     10,2,20020614, 70.0142,  14.0078, 2665,   1186.9,  -0.6630,  34.9033,2,  34.9024,2,    300.9,2,    300.5,2,     9.77,2,    14.66,2,     0.00,2,     0.99,2,    1.870,2,    0.917,2,    0.121,2,   1.1808466,2,   2159.4,2,   2301.5,2,  -0.7115
  316N20020530,    73,  1,      9,      9,2,20020614, 70.0142,  14.0078, 2665,   1313.7,  -0.7221,  34.9065,7,  34.9059,2,    299.4,2,    299.2,2,    10.36,2,    14.85,2,     0.00,2,     1.00,2,    1.439,2,    0.696,2,    0.084,2, 0.536747058,2,   -999.0,9,   -999.0,9,  -0.7767
  316N20020530,    73,  1,      8,      8,2,20020614, 70.0142,  14.0078, 2665,   1450.1,  -0.7682,  34.9082,2,  34.9092,2,    298.4,2,    298.4,2,    10.95,2,    14.85,2,     0.00,2,     1.00,2,    1.114,2,    0.558,2,    0.064,2, 0.322047444,2,   2158.8,2,   2302.0,2,  -0.8297
  316N20020530,    73,  1,      7,      7,2,20020614, 70.0142,  14.0078, 2665,   1580.8,  -0.8050,  34.9100,2,  34.9098,2,    298.3,2,    298.4,2,    11.34,2,    14.95,2,     0.00,2,     1.01,2,    0.898,2,    0.466,2,    0.050,2, 0.204939191,2,   -999.0,9,   -999.0,9,  -0.8734
  316N20020530,    73,  1,      6,      6,2,20020614, 70.0142,  14.0078, 2665,   1782.7,  -0.8408,  34.9109,2,  34.9103,2,    298.2,2,    298.1,2,    11.92,2,    15.05,2,     0.00,2,     1.02,2,    0.731,2,    0.390,2,    0.043,2, 0.136626076,2,   2159.4,2,   2304.6,2,  -0.9206
  316N20020530,    73,  1,      5,      5,2,20020614, 70.0142,  14.0078, 2665,   1986.5,  -0.8613,  34.9104,2,  34.9107,2,    298.2,2,    298.0,2,    12.51,2,    15.15,2,     0.00,2,     1.02,2,    0.612,2,    0.332,2,    0.032,2, 0.117108031,2,   -999.0,9,   -999.0,9,  -0.9535
  316N20020530,    73,  1,      4,      4,2,20020614, 70.0142,  14.0078, 2665,   2192.8,  -0.8721,  34.9116,2,  34.9105,2,    298.3,2,    298.5,2,    12.61,2,    15.25,2,     0.00,2,     1.02,2,    0.549,2,    0.297,2,    0.032,2, 0.068313028,2,   2159.8,2,   2304.9,2,  -0.9776
  316N20020530,    73,  1,      3,      3,2,20020614, 70.0142,  14.0078, 2665,   2396.1,  -0.8748,  34.9106,2,  34.9107,2,    298.1,2,    298.2,2,    13.00,2,    15.25,2,     0.00,2,     1.02,2,    0.473,6,    0.265,6,    0.029,6,0.0683130178,2,   -999.0,9,   -999.0,9,  -0.9942
  316N20020530,    73,  1,      2,      2,2,20020614, 70.0142,  14.0078, 2665,   2551.4,  -0.8729,  34.9115,2,  34.9105,2,    297.0,2,    297.0,2,    13.58,2,    15.44,2,     0.00,2,     1.03,2,    0.409,2,    0.235,2,    0.028,2, 0.068313028,2,   2161.0,2,   2308.5,2,  -1.0035
  316N20020530,    73,  1,      1,      1,2,20020614, 70.0142,  14.0078, 2665,   2651.9,  -0.8696,  34.9107,2,  34.9100,2,    297.0,2,    297.0,2,    13.58,2,    15.34,2,     0.00,2,     1.03,2,    0.409,2,    0.222,2,    0.022,2,0.0292770229,2,   2159.8,2,   2305.0,2,  -1.0076
  316N20020530,    74,  1,     30,     30,2,20020614, 69.9962,  12.5763, 2844,      3.9,   9.5692,  35.1274,2,  35.1268,2,    298.4,2,    299.2,2,     1.56,2,     3.52,2,     0.08,2,     0.28,2,    4.065,2,    2.194,2,    0.385,2,        -999,9,   2086.6,2,   2329.1,2,   9.5688
  316N20020530,    74,  1,     29,     29,2,20020614, 69.9962,  12.5763, 2844,     25.3,   9.5704,  35.1286,2,  35.1260,2,    299.7,2,    298.5,2,     1.66,2,     3.62,2,     0.08,2,     0.29,2,    4.068,2,    2.200,2,    0.381,2,  1.60021993,2,   -999.0,9,   -999.0,9,   9.5676
  316N20020530,    74,  1,     28,     28,2,20020614, 69.9962,  12.5763, 2844,     60.5,   6.9151,  35.1193,2,  35.1187,2,    290.6,2,    293.4,2,     2.64,2,     8.11,2,     0.22,2,     0.61,2, -999.000,9, -999.000,9, -999.000,9,        -999,9,   2125.5,2,   2320.0,2,   6.9095
  316N20020530,    74,  1,     27,     27,2,20020614, 69.9962,  12.5763, 2844,     90.5,   6.6774,  35.1576,2,  35.1553,2,    285.1,2,    283.4,2,     4.59,2,    12.31,2,     0.02,2,     0.80,2,    4.369,2,    2.341,2,    0.383,2,  1.68800006,2,   -999.0,9,   -999.0,9,   6.6692
  316N20020530,    74,  1,     26,     26,2,20020614, 69.9962,  12.5763, 2844,    126.5,   6.3545,  35.1429,7,  35.1444,2,    286.1,2,    286.9,2,     4.69,2,    12.21,2,     0.02,2,     0.80,2, -999.000,9, -999.000,9, -999.000,9,        -999,9,   2142.0,2,   2318.2,2,   6.3433
  316N20020530,    74,  1,     25,     25,2,20020614, 69.9962,  12.5763, 2844,    166.2,   6.0922,  35.1371,2,  35.1356,2,    288.3,2,    288.4,2,     4.69,2,    12.21,2,     0.03,2,     0.80,2,    4.390,2,    2.366,2,    0.383,2,  1.67826745,2,   -999.0,9,   -999.0,9,   6.0778
  316N20020530,    74,  1,     24,     24,2,20020614, 69.9962,  12.5763, 2844,    221.4,   5.7424,  35.1303,2,  35.1303,2,    290.9,2,    290.8,2,     4.98,2,    12.51,2,     0.01,2,     0.82,2, -999.000,9, -999.000,9, -999.000,9,        -999,9,   2141.8,2,   2317.9,2,   5.7237
  316N20020530,    74,  1,     23,     23,2,20020614, 69.9962,  12.5763, 2844,    280.8,   5.3245,  35.1199,2,  35.1183,2,    292.5,2,    292.4,2,     4.98,2,    12.51,2,     0.01,2,     0.82,2,    4.480,2,    2.404,2,    0.384,2,  1.69780405,2,   -999.0,9,   -999.0,9,   5.3016
  316N20020530,    74,  1,     22,     22,2,20020614, 69.9962,  12.5763, 2844,    331.2,   4.8989,  35.1003,2,  35.1002,2,    295.8,2,    294.0,2,     5.18,2,    12.70,2,     0.01,2,     0.83,2, -999.000,9, -999.000,9, -999.000,9,        -999,9,   2143.7,2,   2313.4,2,   4.8729
  316N20020530,    74,  1,     21,     21,2,20020614, 69.9962,  12.5763, 2844,    391.4,   4.7364,  35.1243,2,  35.1228,2,    298.3,2,    297.8,2,     4.98,2,    12.51,2,     0.01,2,     0.81,2,    4.620,6,    2.505,6,    0.397,6,  1.74658567,2,   -999.0,9,   -999.0,9,   4.7059
  316N20020530,    74,  1,     20,     20,2,20020614, 69.9962,  12.5763, 2844,    456.7,   4.3608,  35.1167,2,  35.1143,2,    301.2,2,    300.8,2,     4.98,2,    12.51,2,     0.01,2,     0.81,2,    4.744,2,    2.549,2,    0.417,2,  1.72708168,2,   2146.2,2,   2315.5,2,   4.3264
  316N20020530,    74,  1,     19,     19,2,20020614, 69.9962,  12.5763, 2844,    521.5,   3.9668,  35.0976,2,  35.0976,2,    302.5,2,    301.1,2,     5.08,2,    12.60,2,     0.01,2,     0.82,2,    4.867,2,    2.556,2,    0.414,2,  1.75637608,2,   -999.0,9,   -999.0,9,   3.9288
  316N20020530,    74,  1,     18,     18,2,20020614, 69.9962,  12.5763, 2844,    597.5,   2.9440,  35.0243,7,  35.0219,2,    302.2,2,    302.2,2,     5.57,2,    13.19,2,     0.01,2,     0.87,2,    4.993,2,    2.543,2,    0.422,2,  1.61986033,2,   2153.1,2,   2307.0,2,   2.9051
  316N20020530,    74,  1,     17,     17,2,20020614, 69.9962,  12.5763, 2844,    678.0,   1.5531,  34.9423,2,  34.9406,2,    302.3,2,    304.8,2,     6.16,2,    13.78,2,     0.01,2,     0.92,2,    4.823,6,    2.425,6,    0.396,6,   1.4638178,2,   -999.0,9,   -999.0,9,   1.5161
  316N20020530,    74,  1,     16,     16,2,20020614, 69.9962,  12.5763, 2844,    758.6,   0.4961,  34.9008,2,  34.9003,2,    302.7,2,    302.5,2,     6.94,2,    14.27,2,     0.00,2,     0.95,2,    4.418,2,    2.173,2,    0.360,2,  1.21988476,2,   -999.0,9,   -999.0,9,   0.4608
  316N20020530,    74,  1,     15,     15,2,20020614, 69.9962,  12.5763, 2844,    849.2,  -0.0334,  34.8932,2,  34.8926,2,    302.7,2,    303.8,2,     7.43,2,    14.37,2,     0.00,2,     0.96,2,    3.898,2,    1.890,2,    0.293,2,  1.15157782,2,   2163.0,2,   2297.9,2,  -0.0699
  316N20020530,    74,  1,     14,     14,2,20020614, 69.9962,  12.5763, 2844,    960.9,  -0.3463,  34.8939,2,  34.8934,2,    304.0,2,    304.6,2,     7.92,2,    14.46,2,     0.00,2,     0.97,2,    3.361,2,    1.613,2,    0.241,2,  1.42483272,2,   -999.0,9,   -999.0,9,  -0.3861
  316N20020530,    74,  1,     13,     13,2,20020614, 69.9962,  12.5763, 2844,   1061.1,  -0.4748,  34.8951,2,  34.8962,2,    304.1,2,    304.2,2,     8.40,2,    14.46,2,     0.00,2,     0.97,2,    3.026,2,    1.484,2,    0.217,2,   1.7273621,2,   2163.2,2,   2299.8,2,  -0.5186
  316N20020530,    74,  1,     12,     12,2,20020614, 69.9962,  12.5763, 2844,   1162.4,  -0.5600,  34.8989,2,  34.8977,2,    303.0,2,    302.5,2,     8.70,2,    14.56,2,     0.00,2,     0.98,2,    2.626,2,    1.267,2,    0.181,2,  1.79567385,2,   -999.0,9,   -999.0,9,  -0.6082
  316N20020530,    74,  1,     11,     11,2,20020614, 69.9962,  12.5763, 2844,   1263.2,  -0.6251,  34.9012,2,  34.9012,2,    301.6,2,    301.8,2,     9.28,2,    14.66,2,     0.00,2,     0.99,2,    2.218,2,    1.059,2,    0.155,2,  1.48337888,2,   -999.0,9,   -999.0,9,  -0.6780
  316N20020530,    74,  1,     10,     10,2,20020614, 69.9962,  12.5763, 2844,   1364.3,  -0.6762,  34.9047,2,  34.9046,2,    300.6,2,    301.3,2,     9.77,2,    14.76,2,     0.00,2,     1.00,2,    1.832,2,    0.861,2,    0.115,2, 0.927109452,2,   -999.0,9,   -999.0,9,  -0.7340
  316N20020530,    74,  1,      9,      9,2,20020614, 69.9962,  12.5763, 2844,   1465.1,  -0.7163,  34.9074,2,  34.9071,2,    299.9,2,    299.3,2,    10.26,2,    14.85,2,     0.00,2,     1.01,2,    1.480,2,    0.701,2,    0.085,2, 0.546505607,2,   2161.7,2,   2302.3,2,  -0.7792
  316N20020530,    74,  1,      8,      8,2,20020614, 69.9962,  12.5763, 2844,   1616.0,  -0.7671,  34.9091,2,  34.9089,2,    298.9,2,    299.4,2,    10.85,2,    14.95,2,     0.00,2,     1.01,2,    1.104,2,    0.554,2,    0.067,2, 0.292770469,2,   -999.0,9,   -999.0,9,  -0.8380
  316N20020530,    74,  1,      7,      7,2,20020614, 69.9962,  12.5763, 2844,   1767.6,  -0.8022,  34.9101,2,  34.9097,2,    298.9,2,    299.4,2,    11.14,2,    15.05,2,     0.00,2,     1.02,2,    0.887,2,    0.461,2,    0.047,2, 0.195180196,2,   2160.1,2,   2301.7,2,  -0.8816
  316N20020530,    74,  1,      6,      6,3,20020614, 69.9962,  12.5763, 2844,   1969.7,  -0.8351,  34.9104,2,  34.9101,2,    298.7,2,   -999.0,9,  -999.00,9,  -999.00,9,  -999.00,9,  -999.00,9, -999.000,9, -999.000,9, -999.000,9,        -999,9,   -999.0,9,   -999.0,9,  -0.9266
  316N20020530,    74,  1,      5,      5,2,20020614, 69.9962,  12.5763, 2844,   2173.2,  -0.8523,  34.9104,2,  34.9102,2,    298.8,2,    298.3,2,    12.12,2,    15.15,2,     0.00,2,     1.03,2,    0.628,2,    0.375,2, -999.000,9,  0.12686708,2,   -999.0,9,   -999.0,9,  -0.9568
  316N20020530,    74,  1,      4,      4,2,20020614, 69.9962,  12.5763, 2844,   2376.9,  -0.8636,  34.9105,2,  34.9100,2,    298.9,2,    298.6,2,    12.31,2,    15.25,2,     0.00,2,     1.03,2,    0.527,2,    0.281,2,    0.029,2,0.0975900763,2,   -999.0,9,   -999.0,9,  -0.9819
  316N20020530,    74,  1,      3,      3,2,20020614, 69.9962,  12.5763, 2844,   2579.3,  -0.8636,  34.9115,2,  34.9095,2,    298.3,2,    298.8,2,    12.70,2,    15.34,2,     0.00,2,     1.03,2,    0.471,2,    0.256,2,    0.024,2,0.0975901126,2,   2163.6,2,   2300.8,2,  -0.9964
  316N20020530,    74,  1,      2,      2,2,20020614, 69.9962,  12.5763, 2844,   2732.1,  -0.8597,  34.9108,2,  34.9094,2,    297.7,2,    297.8,2,    13.10,2,    15.44,2,     0.00,2,     1.03,2,    0.436,2,    0.234,2,    0.021,2,0.0780720959,2,   2163.1,2,   2306.3,2,  -1.0040
  316N20020530,    74,  1,      1,      1,2,20020614, 69.9962,  12.5763, 2844,   2835.8,  -0.8536,  34.9115,2,  34.9098,2,    297.3,2,    297.3,2,    13.29,2,    15.44,2,     0.00,2,     1.04,2,    0.409,2,    0.221,2,    0.022,2,0.0975900908,2,   2160.8,2,   2304.4,2,  -1.0060