BOTTLE,20081218PRINUNIVRMK
EXPOCODE,STNNBR,CASTNO,SAMPNO,BTLNBR,BTLNBR_FLAG_W,DATE,LATITUDE,LONGITUDE,DEPTH,CTDPRS,CTDTMP,CTDSAL,CTDSAL_FLAG_W,SALNTY,SALNTY_FLAG_W,CTDOXY,CTDOXY_FLAG_W,OXYGEN,OXYGEN_FLAG_W,SILCAT,SILCAT_FLAG_W,NITRAT,NITRAT_FLAG_W,NITRIT,NITRIT_FLAG_W,PHSPHT,PHSPHT_FLAG_W,CFC-11,CFC-11_FLAG_W,CFC-12,CFC-12_FLAG_W,CFC113,CFC113_FLAG_W,SF6,SF6_FLAG_W,TCARBN,TCARBN_FLAG_W,ALKALI,ALKALI_FLAG_W,THETA
,,,,,,,,,METERS,DBARS,ITS-90,PSS-78,,PSS-78,,UMOL/KG,,UMOL/KG,,UMOL/KG,,UMOL/KG,,UMOL/KG,,UMOL/KG,,PMOL/KG,,PMOL/KG,,PMOL/KG,,FMOL/KG,,UMOL/KG,,UMOL/KG,,DEGC
  316N20020530,    27,  1,     31,     31,2,20020606, 75.9268,   1.4467, 3147,      2.8,   1.0254,  34.8599,2,  34.8597,2,    360.6,2,    361.2,2,     4.20,2,     8.80,2,     0.06,2,     0.65,2,    6.351,6,    3.269,6,    0.575,6,        -999,9,   2137.3,2,   2295.0,2,   1.0253
  316N20020530,    27,  1,     30,     30,2,20020606, 75.9268,   1.4467, 3147,     26.7,   0.7329,  34.8394,2,  34.8562,2,    361.8,2,    361.9,2,     4.30,2,     9.19,2,     0.05,2,     0.67,2, -999.000,9, -999.000,9, -999.000,9,        -999,9,   -999.0,9,   -999.0,9,   0.7318
  316N20020530,    27,  1,     29,     29,2,20020606, 75.9268,   1.4467, 3147,     67.3,  -0.5364,  34.8591,2,  34.8594,2,    364.2,2,    340.3,2,     5.47,2,    11.73,2,     0.07,2,     0.82,2,    5.800,2,    2.995,2,    0.486,2,  2.19585943,2,   -999.0,9,   -999.0,9,  -0.5385
  316N20020530,    27,  1,     28,     28,2,20020606, 75.9268,   1.4467, 3147,    107.9,  -0.5390,  34.8736,2,  34.8779,2,    338.5,2,    336.3,2,     5.77,2,    12.22,2,     0.05,2,     0.84,2, -999.000,9, -999.000,9, -999.000,9,        -999,9,   -999.0,9,   -999.0,9,  -0.5424
  316N20020530,    27,  1,     27,     27,2,20020606, 75.9268,   1.4467, 3147,    132.8,  -0.4409,  34.8862,2,  34.8826,2,    338.2,2,    339.7,2,     5.77,2,    12.12,2,     0.04,2,     0.84,2,    5.700,2,    2.940,2,    0.465,2,  2.37148723,2,   2157.4,2,   2290.6,2,  -0.4453
  316N20020530,    27,  1,     26,     26,2,20020606, 75.9268,   1.4467, 3147,    158.0,  -0.4818,  34.8862,2,  34.8870,2,    336.7,2,    339.4,2,     5.77,2,    12.22,2,     0.04,2,     0.85,2, -999.000,9, -999.000,9, -999.000,9,        -999,9,   -999.0,9,   -999.0,9,  -0.4870
  316N20020530,    27,  1,     25,     25,2,20020606, 75.9268,   1.4467, 3147,    207.4,  -0.4955,  34.8901,2,  34.8925,2,    335.8,2,    334.7,2,     6.06,2,    12.61,2,     0.04,2,     0.87,2,    5.412,2,    2.850,2,    0.426,2,  2.62520725,2,   -999.0,9,   -999.0,9,  -0.5024
  316N20020530,    27,  1,     24,     24,2,20020606, 75.9268,   1.4467, 3147,    258.3,  -0.5545,  34.8895,2,  34.8896,2,    332.2,2,    329.9,2,     6.25,2,    12.90,2,     0.03,2,     0.88,2, -999.000,9, -999.000,9, -999.000,9,        -999,9,   -999.0,9,   -999.0,9,  -0.5631
  316N20020530,    27,  1,     23,     23,2,20020606, 75.9268,   1.4467, 3147,    308.6,  -0.5467,  34.8920,2,  34.8927,2,    331.9,2,    329.6,2,     6.25,2,    13.00,2,     0.02,2,     0.89,2,    5.056,2,    2.585,2,    0.395,2,  3.10340439,2,   2162.0,2,   2291.7,2,  -0.5571
  316N20020530,    27,  1,     22,     22,2,20020606, 75.9268,   1.4467, 3147,    359.0,  -0.5421,  34.8943,2,  34.8961,2,    329.8,2,    329.8,2,     6.25,2,    13.00,2,     0.01,2,     0.89,2, -999.000,9, -999.000,9, -999.000,9,        -999,9,   -999.0,9,   -999.0,9,  -0.5544
  316N20020530,    27,  1,     21,     21,2,20020606, 75.9268,   1.4467, 3147,    408.9,  -0.5583,  34.8965,2,  34.8971,2,    328.4,2,    327.5,2,     6.25,2,    13.10,2,     0.01,2,     0.90,2,    4.903,2,    2.512,2,    0.372,2,  3.28881715,2,   -999.0,9,   -999.0,9,  -0.5725
  316N20020530,    27,  1,     20,     20,2,20020606, 75.9268,   1.4467, 3147,    507.9,  -0.5586,  34.8991,2,  34.8973,2,    326.3,2,    327.9,2,     6.35,2,    13.10,2,     0.00,2,     0.89,2, -999.000,9, -999.000,9, -999.000,9,        -999,9,   -999.0,9,   -999.0,9,  -0.5767
  316N20020530,    27,  1,     19,     19,2,20020606, 75.9268,   1.4467, 3147,    608.5,  -0.5717,  34.9013,2,  34.9021,2,    328.1,2,    329.0,2,     6.25,2,    13.10,2,     0.00,2,     0.89,2,    5.071,2,    2.576,2,    0.383,2,        -999,9,   2160.8,2,   2290.5,2,  -0.5938
  316N20020530,    27,  1,     18,     18,2,20020606, 75.9268,   1.4467, 3147,    709.9,  -0.6058,  34.9002,2,  34.9013,2,    328.7,2,    328.5,2,     6.35,2,    13.10,2,     0.00,2,     0.89,2, -999.000,9, -999.000,9, -999.000,9,   3.2790478,2,   -999.0,9,   -999.0,9,  -0.6321
  316N20020530,    27,  1,     17,     17,2,20020606, 75.9268,   1.4467, 3147,    810.9,  -0.6862,  34.8954,2,  34.8958,2,    327.7,2,    327.4,2,     6.55,2,    13.19,2,     0.00,2,     0.90,2,    4.999,2,    2.537,2,    0.385,2,  3.15219279,2,   -999.0,9,   -999.0,9,  -0.7164
  316N20020530,    27,  1,     16,     16,2,20020606, 75.9268,   1.4467, 3147,    912.8,  -0.7509,  34.8917,2,  34.8923,2,    326.1,2,    325.6,2,     6.84,2,    13.29,2,     0.00,2,     0.91,2,    4.785,2,    2.391,2,    0.360,2,  3.84509967,2,   -999.0,9,   -999.0,9,  -0.7853
  316N20020530,    27,  1,     15,     15,2,20020606, 75.9268,   1.4467, 3147,   1013.0,  -0.7859,  34.8908,2,  34.8897,2,    324.9,2,    326.6,2,     6.84,2,    13.29,2,     0.00,2,     0.91,2,    4.754,2,    2.397,2,    0.355,2,  3.77679303,2,   2159.4,2,   2290.7,2,  -0.8247
  316N20020530,    27,  1,     14,     14,2,20020606, 75.9268,   1.4467, 3147,   1114.0,  -0.8140,  34.8889,2,  34.8890,2,    323.6,2,    322.8,2,     7.23,2,    13.49,2,     0.00,2,     0.92,2,    4.323,2,    2.171,2,    0.316,2,  3.83534996,2,   -999.0,9,   -999.0,9,  -0.8574
  316N20020530,    27,  1,     13,     13,2,20020606, 75.9268,   1.4467, 3147,   1214.8,  -0.8171,  34.8911,2,  34.8925,2,    316.2,2,    316.8,2,     8.11,2,    13.78,2,     0.00,2,     0.95,2,    3.665,2,    1.853,2,    0.248,2,        -999,9,   2158.1,2,   2296.3,2,  -0.8655
  316N20020530,    27,  1,     12,     12,2,20020606, 75.9268,   1.4467, 3147,   1314.4,  -0.7943,  34.8959,2,  34.8959,2,    315.1,2,    312.0,2,     8.50,2,    14.07,2,     0.00,2,     0.96,2,    3.082,2,    1.548,2,    0.215,2,  1.75663981,2,   -999.0,9,   -999.0,9,  -0.8481
  316N20020530,    27,  1,     11,     11,2,20020606, 75.9268,   1.4467, 3147,   1415.0,  -0.7751,  34.9007,2,  34.9006,2,    309.0,2,    307.5,2,     9.09,2,    14.27,2,     0.00,2,     0.97,2,    2.464,2,    1.232,2,    0.159,2,        -999,9,   -999.0,9,   -999.0,9,  -0.8345
  316N20020530,    27,  1,     10,     10,2,20020606, 75.9268,   1.4467, 3147,   1516.1,  -0.7663,  34.9060,2,  34.9069,2,    302.5,2,    302.6,2,     9.77,2,    14.56,2,     0.00,2,     0.99,2,    1.777,2,    0.876,2,    0.107,2, 0.975903015,2,   2159.3,2,   2293.0,2,  -0.8315
  316N20020530,    27,  1,      9,      9,2,20020606, 75.9268,   1.4467, 3147,   1717.9,  -0.7949,  34.9111,2,  34.9109,2,    299.4,2,    299.1,2,    10.75,2,    14.76,2,     0.00,2,     1.01,2,    1.086,2,    0.543,2,    0.061,2, 0.204939023,2,   -999.0,9,   -999.0,9,  -0.8715
  316N20020530,    27,  1,      8,      8,2,20020606, 75.9268,   1.4467, 3147,   1919.8,  -0.8362,  34.9116,2,  34.9117,2,    299.0,2,    298.9,2,    10.95,2,    14.85,2,     0.00,2,     1.01,2,    0.887,2,    0.441,2,    0.042,2, 0.195179906,2,   -999.0,9,   -999.0,9,  -0.9245
  316N20020530,    27,  1,      7,      7,2,20020606, 75.9268,   1.4467, 3147,   2122.8,  -0.8654,  34.9123,2,  34.9121,2,    299.2,2,    299.3,2,    11.53,2,    14.85,2,     0.00,2,     1.02,2,    0.782,2,    0.387,2,    0.034,2, 0.146384886,2,   -999.0,9,   -999.0,9,  -0.9663
  316N20020530,    27,  1,      6,      6,2,20020606, 75.9268,   1.4467, 3147,   2324.9,  -0.8820,  34.9116,2,  34.9113,2,    299.9,2,    300.0,2,    11.53,2,    14.85,2,     0.00,2,     1.02,2,    0.756,6,    0.371,6,    0.036,6,        -999,9,   -999.0,9,   -999.0,9,  -0.9963
  316N20020530,    27,  1,      5,      5,2,20020606, 75.9268,   1.4467, 3147,   2526.6,  -0.8935,  34.9111,2,  34.9112,2,    300.5,2,    300.8,2,    11.63,2,    14.85,2,     0.00,2,     1.02,2,    0.774,2,    0.368,2,    0.033,2, 0.156143983,2,   -999.0,9,   -999.0,9,  -1.0219
  316N20020530,    27,  1,      4,      4,2,20020606, 75.9268,   1.4467, 3147,   2729.0,  -0.8979,  34.9107,2,  34.9086,2,    301.0,2,    301.0,2,    11.73,2,    14.85,2,     0.00,2,     1.02,2,    0.741,2,    0.369,2,    0.034,2, 0.165903303,2,   2159.5,2,   2295.4,2,  -1.0411
  316N20020530,    27,  1,      3,      3,2,20020606, 75.9268,   1.4467, 3147,   2930.9,  -0.8958,  34.9099,2,  34.9071,2,    301.3,2,    301.7,2,    11.82,2,    14.95,2,     0.00,2,     1.02,2,    0.736,2,    0.366,2,    0.026,2,  0.14638543,2,   -999.0,9,   -999.0,9,  -1.0547
  316N20020530,    27,  1,      2,      2,2,20020606, 75.9268,   1.4467, 3147,   3031.5,  -0.8957,  34.9104,2,  34.9087,2,    301.5,2,    301.2,2,    12.02,3,    14.95,2,     0.00,2,     1.02,2,    0.741,2,    0.364,2,    0.029,2, 0.175662307,2,   2160.7,2,   2295.1,2,  -1.0626
  316N20020530,    27,  1,      1,      1,2,20020606, 75.9268,   1.4467, 3147,   3132.3,  -0.8972,  34.9090,2,  34.9075,2,    301.8,2,    301.8,2,    12.02,3,    14.95,2,     0.00,2,     1.02,2,    0.756,2,    0.365,2,    0.033,2, 0.175662464,2,   2157.5,2,   2292.1,2,  -1.0722
  316N20020530,    28,  1,     33,     33,2,20020606, 76.4308,   1.5540, 3246,      2.6,   1.6788,  34.8370,2,  34.8373,2,    358.7,2,    353.9,2,     5.38,2,     8.31,2,     0.05,2,     0.63,2,    6.073,2,    3.160,2,    0.559,2,        -999,9,   -999.0,9,   -999.0,9,   1.6787
  316N20020530,    28,  1,     32,     32,2,20020606, 76.4308,   1.5540, 3246,     35.7,   1.2795,  34.8996,2,  34.8825,2,    358.7,2,    359.6,2,     5.18,2,     8.40,2,     0.05,2,     0.65,2, -999.000,9, -999.000,9, -999.000,9,        -999,9,   -999.0,9,   -999.0,9,   1.2778
  316N20020530,    28,  1,     31,     31,2,20020606, 76.4308,   1.5540, 3246,     55.7,   0.7588,  34.9290,2,  34.9284,2,    346.2,2,    344.5,2,     5.18,2,    10.16,2,     0.04,2,     0.75,2,    5.915,2,    3.071,2,    0.518,2,        -999,9,   -999.0,9,   -999.0,9,   0.7564
  316N20020530,    28,  1,     30,     30,2,20020606, 76.4308,   1.5540, 3246,     81.1,   0.3294,  34.9085,2,  34.9085,2,    342.7,2,    343.7,2,     5.37,2,    10.75,2,     0.04,2,     0.77,2, -999.000,9, -999.000,9, -999.000,9,        -999,9,   -999.0,9,   -999.0,9,   0.3262
  316N20020530,    28,  1,     29,     29,2,20020606, 76.4308,   1.5540, 3246,    106.1,   0.0488,  34.9003,2,  34.9015,2,    337.2,2,    340.1,2,     5.57,2,    11.34,2,     0.04,2,     0.80,2,    5.742,2,    2.994,2,    0.499,2,   2.1665134,2,   -999.0,9,   -999.0,9,   0.0449
  316N20020530,    28,  1,     28,     28,2,20020606, 76.4308,   1.5540, 3246,    130.6,   0.0956,  34.9107,2,  34.9125,2,    338.7,2,    331.8,2,     5.67,2,    11.92,2,     0.05,2,     0.83,2, -999.000,9, -999.000,9, -999.000,9,        -999,9,   -999.0,9,   -999.0,9,   0.0907
  316N20020530,    28,  1,     27,     27,2,20020606, 76.4308,   1.5540, 3246,    156.8,   0.1159,  34.9144,2,  34.9143,2,    333.5,2,    330.9,2,     5.67,2,    12.12,2,     0.05,2,     0.84,2,    5.492,2,    2.827,2,    0.481,2,        -999,9,   -999.0,9,   -999.0,9,   0.1099
  316N20020530,    28,  1,     26,     26,2,20020606, 76.4308,   1.5540, 3246,    206.6,  -0.0840,  34.9059,2,  34.9072,2,    332.7,2,    328.9,2,     5.77,2,    12.41,2,     0.05,2,     0.85,2,    5.359,2,    2.751,2,    0.454,2,        -999,9,   -999.0,9,   -999.0,9,  -0.0916
  316N20020530,    28,  1,     25,     25,2,20020606, 76.4308,   1.5540, 3246,    256.3,  -0.2457,  34.8987,2,  34.8977,2,    327.1,2,    330.4,2,     5.86,2,    12.41,2,     0.04,2,     0.86,2,    5.356,2,    2.738,2,    0.448,2,   2.2543514,2,   -999.0,9,   -999.0,9,  -0.2549
  316N20020530,    28,  1,     24,     24,2,20020606, 76.4308,   1.5540, 3246,    307.2,  -0.1348,  34.9101,2,  34.9101,2,    326.1,2,    325.5,2,     5.86,2,    12.61,2,     0.02,2,     0.87,2, -999.000,9, -999.000,9, -999.000,9,        -999,9,   -999.0,9,   -999.0,9,  -0.1463
  316N20020530,    28,  1,     23,     23,2,20020606, 76.4308,   1.5540, 3246,    376.3,  -0.3829,  34.8992,2,  34.9005,2,    324.6,2,    332.4,2,     5.57,2,    12.51,2,     0.04,2,     0.86,2,    5.437,6,    2.786,6,    0.451,6,   2.5080827,2,   -999.0,9,   -999.0,9,  -0.3964
  316N20020530,    28,  1,     22,     22,2,20020606, 76.4308,   1.5540, 3246,    447.7,  -0.4562,  34.8971,2,  34.9005,2,    324.7,2,    327.2,2,     6.25,2,    12.80,2,     0.01,2,     0.88,2, -999.000,9, -999.000,9, -999.000,9,        -999,9,   -999.0,9,   -999.0,9,  -0.4723
  316N20020530,    28,  1,     21,     21,2,20020606, 76.4308,   1.5540, 3246,    517.2,  -0.5180,  34.8956,2,  34.8974,2,    325.8,2,    323.8,2,     6.65,2,    13.00,2,     0.00,2,     0.90,2,    4.686,2,    2.428,2,    0.388,2,  3.16194813,2,   -999.0,9,   -999.0,9,  -0.5366
  316N20020530,    28,  1,     20,     20,2,20020606, 76.4308,   1.5540, 3246,    586.9,  -0.5212,  34.8978,2,  34.8999,2,    326.1,2,    326.0,2,     6.55,2,    12.90,2,     0.00,2,     0.89,2, -999.000,9, -999.000,9, -999.000,9,        -999,9,   -999.0,9,   -999.0,9,  -0.5427
  316N20020530,    28,  1,     19,     19,2,20020606, 76.4308,   1.5540, 3246,    657.2,  -0.5529,  34.8991,2,  34.8982,2,    323.7,2,    324.3,2,     6.55,2,    13.00,2,     0.00,2,     0.89,2,    4.821,2,    2.454,2,    0.391,2,  3.41568267,2,   -999.0,9,   -999.0,9,  -0.5772
  316N20020530,    28,  1,     18,     18,2,20020606, 76.4308,   1.5540, 3246,    758.8,  -0.5791,  34.8999,2,  34.9001,2,    324.8,2,    328.0,2,     6.35,2,    12.80,2,     0.00,2,     0.89,2,    4.948,2,    2.553,2,    0.402,2,  3.42543692,2,   -999.0,9,   -999.0,9,  -0.6077
  316N20020530,    28,  1,     17,     17,2,20020606, 76.4308,   1.5540, 3246,    859.4,  -0.6095,  34.8986,2,  34.8998,2,    324.6,2,    326.8,2,     6.35,2,    12.80,2,     0.00,2,     0.89,2, -999.000,9, -999.000,9, -999.000,9,  3.54254667,2,   -999.0,9,   -999.0,9,  -0.6425
  316N20020530,    28,  1,     16,     16,2,20020606, 76.4308,   1.5540, 3246,    959.7,  -0.6620,  34.8964,2,  34.8964,2,    324.6,2,    325.8,2,     6.74,2,    12.90,2,     0.00,2,     0.89,2,    4.826,2,    2.482,2,    0.396,2,   3.7865333,2,   -999.0,9,   -999.0,9,  -0.6993
  316N20020530,    28,  1,     15,     15,2,20020606, 76.4308,   1.5540, 3246,   1060.3,  -0.7243,  34.8923,2,  34.8925,2,    324.1,2,    325.7,2,     6.74,2,    13.00,2,     0.00,2,     0.89,2, -999.000,9, -999.000,9, -999.000,9,  4.05980006,2,   -999.0,9,   -999.0,9,  -0.7659
  316N20020530,    28,  1,     14,     14,2,20020606, 76.4308,   1.5540, 3246,   1160.9,  -0.7826,  34.8894,2,  34.8888,2,    322.0,2,    321.6,2,     7.13,2,    13.19,2,     0.00,2,     0.91,2,    4.260,2,    2.150,2,    0.337,2,   4.2745128,2,   -999.0,9,   -999.0,9,  -0.8286
  316N20020530,    28,  1,     13,     13,2,20020606, 76.4308,   1.5540, 3246,   1261.6,  -0.8021,  34.8899,2,  34.8890,2,    320.9,2,    318.6,2,     7.43,2,    13.39,2,     0.00,2,     0.93,2,    3.936,2,    1.978,2,    0.294,2,  3.95245988,2,   -999.0,9,   -999.0,9,  -0.8531
  316N20020530,    28,  1,     12,     12,2,20020606, 76.4308,   1.5540, 3246,   1359.9,  -0.7919,  34.8932,2,  34.8905,2,    317.1,2,    314.7,2,     8.11,2,    13.68,2,     0.00,2,     0.95,2, -999.000,9, -999.000,9, -999.000,9,  3.13268692,2,   -999.0,9,   -999.0,9,  -0.8482
  316N20020530,    28,  1,     11,     11,2,20020606, 76.4308,   1.5540, 3246,   1458.1,  -0.7724,  34.8991,2,  34.8990,2,    310.5,2,    308.8,2,     8.80,2,    13.88,2,     0.00,2,     0.96,2,    2.665,2,    1.330,2,    0.186,2,  2.18603561,2,   -999.0,9,   -999.0,9,  -0.8342
  316N20020530,    28,  1,     10,     10,2,20020606, 76.4308,   1.5540, 3246,   1558.2,  -0.7550,  34.9044,2,  34.9029,2,    305.5,2,    304.5,2,     9.38,2,    14.17,2,     0.00,2,     0.98,2, -999.000,9, -999.000,9, -999.000,9,  1.30771393,2,   -999.0,9,   -999.0,9,  -0.8227
  316N20020530,    28,  1,      9,      9,2,20020606, 76.4308,   1.5540, 3246,   1708.3,  -0.7622,  34.9090,2,  34.9085,2,    300.7,2,    300.6,2,    10.16,2,    14.46,2,     0.00,2,     1.00,2,    1.424,2,    0.697,2,    0.084,2, 0.614818167,2,   -999.0,9,   -999.0,9,  -0.8386
  316N20020530,    28,  1,      8,      8,2,20020606, 76.4308,   1.5540, 3246,   1907.1,  -0.8020,  34.9107,2,  34.9106,2,    298.9,2,    298.9,2,    10.85,2,    14.66,2,     0.00,2,     1.01,2,    0.984,2,    0.487,2,    0.054,2, 0.253734085,2,   -999.0,9,   -999.0,9,  -0.8900
  316N20020530,    28,  1,      7,      7,2,20020606, 76.4308,   1.5540, 3246,   2113.2,  -0.8397,  34.9116,2,  34.9118,2,    298.8,2,    298.9,2,    11.24,2,    14.76,2,     0.00,2,     1.01,2,    0.806,2,    0.407,2,    0.041,2, 0.165902907,2,   -999.0,9,   -999.0,9,  -0.9404
  316N20020530,    28,  1,      6,      6,2,20020606, 76.4308,   1.5540, 3246,   2319.0,  -0.8649,  34.9117,2,  34.9108,2,    299.0,2,    299.7,2,    11.63,2,    14.85,2,     0.00,2,     1.01,2,    0.716,2,    0.383,2,    0.036,2,        -999,9,   -999.0,9,   -999.0,9,  -0.9791
  316N20020530,    28,  1,      5,      5,2,20020606, 76.4308,   1.5540, 3246,   2523.2,  -0.8741,  34.9119,2,  34.9093,2,    299.8,2,    301.1,2,    11.53,2,    14.85,2,     0.00,2,     1.01,2,    0.694,2,    0.365,2,    0.036,2, 0.156144203,2,   -999.0,9,   -999.0,9,  -1.0026
  316N20020530,    28,  1,      4,      4,2,20020606, 76.4308,   1.5540, 3246,   2726.7,  -0.8832,  34.9120,2,  34.9093,2,    300.5,2,    300.5,2,    11.73,2,    14.85,2,     0.00,2,     1.01,2,    0.698,2,    0.366,2,    0.030,2,        -999,9,   -999.0,9,   -999.0,9,  -1.0266
  316N20020530,    28,  1,      3,      3,2,20020606, 76.4308,   1.5540, 3246,   2928.1,  -0.8840,  34.9108,2,  34.9085,2,    300.9,2,    301.0,2,    11.82,2,    14.76,2,     0.00,2,     1.00,2,    0.695,2,    0.361,2,    0.029,2, 0.146385278,2,   -999.0,9,   -999.0,9,  -1.0429
  316N20020530,    28,  1,      2,      2,2,20020606, 76.4308,   1.5540, 3246,   3130.4,  -0.8819,  34.9101,2,  34.9079,2,    301.5,2,    301.1,2,    11.92,2,    14.76,2,     0.00,2,     1.00,2, -999.000,9, -999.000,9, -999.000,9, 0.156144366,2,   -999.0,9,   -999.0,9,  -1.0571
  316N20020530,    28,  1,      1,      1,2,20020606, 76.4308,   1.5540, 3246,   3231.9,  -0.8765,  34.9103,2,-999.0000,9,    300.8,2,    301.3,2,    11.92,2,    14.85,2,     0.00,2,     1.00,2,    0.701,6,    0.370,6,    0.030,6,        -999,9,   -999.0,9,   -999.0,9,  -1.0603