BOTTLE,20081218PRINUNIVRMK
EXPOCODE,STNNBR,CASTNO,SAMPNO,BTLNBR,BTLNBR_FLAG_W,DATE,LATITUDE,LONGITUDE,DEPTH,CTDPRS,CTDTMP,CTDSAL,CTDSAL_FLAG_W,SALNTY,SALNTY_FLAG_W,CTDOXY,CTDOXY_FLAG_W,OXYGEN,OXYGEN_FLAG_W,SILCAT,SILCAT_FLAG_W,NITRAT,NITRAT_FLAG_W,NITRIT,NITRIT_FLAG_W,PHSPHT,PHSPHT_FLAG_W,CFC-11,CFC-11_FLAG_W,CFC-12,CFC-12_FLAG_W,CFC113,CFC113_FLAG_W,SF6,SF6_FLAG_W,TCARBN,TCARBN_FLAG_W,ALKALI,ALKALI_FLAG_W,THETA
,,,,,,,,,METERS,DBARS,ITS-90,PSS-78,,PSS-78,,UMOL/KG,,UMOL/KG,,UMOL/KG,,UMOL/KG,,UMOL/KG,,UMOL/KG,,PMOL/KG,,PMOL/KG,,PMOL/KG,,FMOL/KG,,UMOL/KG,,UMOL/KG,,DEGC
  316N20020530,    16,  1,     29,     29,2,20020603, 71.7478,  -8.5280, 2585,      3.1,   1.1215,  34.7700,2,  34.7706,2,    356.9,2,    357.3,2,     5.47,2,     9.09,2,     0.05,2,     0.65,2,    6.376,2,    3.297,2,    0.609,2,  2.17648455,2,   2138.7,2,   2292.6,2,   1.1214
  316N20020530,    16,  1,     28,     28,2,20020603, 71.7478,  -8.5280, 2585,     35.1,   0.1092,  34.7605,2,  34.7715,2,    358.4,2,    360.7,2,     5.47,2,     9.58,2,     0.04,2,     0.68,2,    6.401,2,    3.313,2,    0.594,2,  2.15696306,2,   2139.8,2,   2293.7,2,   0.1079
  316N20020530,    16,  1,     27,     27,2,20020603, 71.7478,  -8.5280, 2585,     65.5,   0.0839,  34.7849,2,  34.7814,2,    351.0,2,    350.1,2,     5.57,2,    10.65,2,     0.04,2,     0.75,2, -999.000,9, -999.000,9, -999.000,9,        -999,9,   -999.0,9,   -999.0,9,   0.0815
  316N20020530,    16,  1,     26,     26,2,20020603, 71.7478,  -8.5280, 2585,     95.4,  -0.2658,  34.7814,2,  34.7796,2,    347.5,2,    349.0,2,     5.18,2,    10.95,2,     0.04,2,     0.77,2,    6.299,2,    3.275,2,    0.568,2,  2.11791024,2,   -999.0,9,   -999.0,9,  -0.2690
  316N20020530,    16,  1,     25,     25,2,20020603, 71.7478,  -8.5280, 2585,    130.4,  -0.0027,  34.8136,2,  34.8189,2,    345.4,2,    344.2,2,     5.38,2,    11.14,2,     0.05,2,     0.78,2,    6.211,2,    3.218,2,    0.589,2,        -999,9,   2148.8,2,   2293.5,2,  -0.0075
  316N20020530,    16,  1,     24,     24,2,20020603, 71.7478,  -8.5280, 2585,    155.7,  -0.2063,  34.8199,2,  34.8240,2,    336.4,2,    334.1,2,     5.86,2,    11.73,2,     0.06,2,     0.82,2, -999.000,9, -999.000,9, -999.000,9,        -999,9,   -999.0,9,   -999.0,9,  -0.2118
  316N20020530,    16,  1,     23,     23,2,20020603, 71.7478,  -8.5280, 2585,    190.6,   0.0396,  34.8569,2,  34.8578,2,    324.4,2,    321.6,2,     6.25,2,    12.22,2,     0.01,2,     0.84,2,    4.931,6,    2.532,6,    0.413,6,  1.51270496,2,   -999.0,9,   -999.0,9,   0.0324
  316N20020530,    16,  1,     22,     22,2,20020603, 71.7478,  -8.5280, 2585,    231.2,   0.1219,  34.8736,2,  34.8738,2,    318.1,2,    320.2,2,     6.25,2,    12.41,2,     0.01,2,     0.86,2,    4.628,2,    2.366,2,    0.405,2,        -999,9,   2153.0,2,   2294.5,2,   0.1129
  316N20020530,    16,  1,     21,     21,2,20020603, 71.7478,  -8.5280, 2585,    261.1,   0.0248,  34.8697,2,  34.8726,2,    323.7,2,    322.1,2,     6.25,2,    12.41,2,     0.01,2,     0.86,2,    4.680,2,    2.405,2,    0.398,2,  1.45413262,2,   2151.6,2,   2296.0,2,   0.0148
  316N20020530,    16,  1,     20,     20,2,20020603, 71.7478,  -8.5280, 2585,    296.3,  -0.0279,  34.8723,2,  34.8728,2,    318.0,2,    323.1,2,     6.25,2,    12.41,2,     0.01,2,     0.86,2,    4.845,2,    2.506,2,    0.413,2,  1.54196591,2,   2154.4,2,   2295.7,2,  -0.0392
  316N20020530,    16,  1,     19,     19,2,20020603, 71.7478,  -8.5280, 2585,    346.7,   0.1622,  34.8980,2,  34.8993,2,    314.5,2,    315.0,2,     6.55,2,    12.80,2,     0.00,2,     0.88,2, -999.000,9, -999.000,9, -999.000,9,  1.27844018,2,   -999.0,9,   -999.0,9,   0.1483
  316N20020530,    16,  1,     18,     18,2,20020603, 71.7478,  -8.5280, 2585,    376.3,   0.1181,  34.8981,2,  34.9001,2,    313.6,2,    314.4,2,     6.65,2,    12.80,2,     0.00,2,     0.88,2,    4.182,2,    2.117,2,    0.337,2,   1.2881985,2,   2157.5,2,   2298.0,2,   0.1030
  316N20020530,    16,  1,     17,     17,2,20020603, 71.7478,  -8.5280, 2585,    426.6,   0.1476,  34.9110,2,  34.9117,2,    314.4,2,    314.4,2,     6.25,2,    12.70,2,     0.00,2,     0.88,2,    4.117,6,    2.120,6,    0.325,6,  1.26866939,2,   2158.3,2,   2299.9,2,   0.1302
  316N20020530,    16,  1,     16,     16,2,20020603, 71.7478,  -8.5280, 2585,    483.0,   0.0366,  34.9083,2,  34.9109,2,    312.9,2,    312.3,2,     6.55,2,    13.00,2,     0.00,2,     0.90,2, -999.000,9, -999.000,9, -999.000,9,  1.25891114,2,   -999.0,9,   -999.0,9,   0.0171
  316N20020530,    16,  1,     15,     15,2,20020603, 71.7478,  -8.5280, 2585,    557.6,  -0.1623,  34.9060,2,  34.9066,2,    312.1,2,    311.7,2,     6.84,2,    13.19,2,     0.00,2,     0.92,2,    3.795,2,    1.889,2,    0.315,2,  1.46385485,2,   2156.9,2,   2297.6,2,  -0.1842
  316N20020530,    16,  1,     14,     14,2,20020603, 71.7478,  -8.5280, 2585,    658.7,  -0.3088,  34.9036,2,  34.9036,2,    313.0,2,    312.6,2,     7.52,2,    13.49,2,     0.00,2,     0.93,2, -999.000,9, -999.000,9, -999.000,9,  1.83470218,2,   -999.0,9,   -999.0,9,  -0.3345
  316N20020530,    16,  1,     13,     13,2,20020603, 71.7478,  -8.5280, 2585,    758.5,  -0.4460,  34.8997,2,  34.9007,2,    312.7,2,    312.8,2,     7.52,2,    13.49,2,     0.00,2,     0.94,2,    3.526,2,    1.782,2,    0.277,2,  2.37145527,2,   -999.0,9,   -999.0,9,  -0.4754
  316N20020530,    16,  1,     12,     12,2,20020603, 71.7478,  -8.5280, 2585,    884.9,  -0.5925,  34.8955,2,  34.8965,2,    311.9,2,    312.2,2,     7.72,2,    13.49,2,     0.00,2,     0.94,2, -999.000,9, -999.000,9, -999.000,9,   3.2497822,2,   -999.0,9,   -999.0,9,  -0.6268
  316N20020530,    16,  1,     11,     11,2,20020603, 71.7478,  -8.5280, 2585,   1011.3,  -0.7024,  34.8941,2,  34.8954,2,    312.2,2,    313.0,2,     8.31,2,    13.68,2,     0.00,2,     0.95,2,    3.300,2,    1.649,2,    0.280,2,  3.59135384,2,   -999.0,9,   -999.0,9,  -0.7418
  316N20020530,    16,  1,     10,     10,2,20020603, 71.7478,  -8.5280, 2585,   1111.7,  -0.7156,  34.8975,2,  34.8979,2,    311.1,2,    311.2,2,     8.40,2,    13.78,2,     0.00,2,     0.96,2,    2.958,2,    1.483,2,    0.222,2,  3.04483781,2,   2161.5,2,   2296.4,2,  -0.7598
  316N20020530,    16,  1,      9,      9,2,20020603, 71.7478,  -8.5280, 2585,   1213.0,  -0.7162,  34.9016,2,  34.9026,2,    308.0,2,    308.1,2,     8.99,2,    13.97,2,     0.00,2,     0.97,2, -999.000,9, -999.000,9, -999.000,9,  2.17627069,2,   -999.0,9,   -999.0,9,  -0.7656
  316N20020530,    16,  1,      8,      8,2,20020603, 71.7478,  -8.5280, 2585,   1333.4,  -0.7032,  34.9083,2,  34.9093,2,    302.1,2,    302.6,2,     9.77,2,    14.27,2,     0.00,2,     0.99,2,    1.810,2,    0.863,2,    0.130,2,   1.1515635,2,   -999.0,9,   -999.0,9,  -0.7590
  316N20020530,    16,  1,      7,      7,2,20020603, 71.7478,  -8.5280, 2585,   1413.2,  -0.7056,  34.9121,2,  34.9129,2,    299.9,2,    300.3,2,    10.75,2,    14.46,2,     0.00,2,     1.00,2,    1.323,2,    0.648,2,    0.086,2, 0.702647033,2,   2158.9,2,   2298.2,2,  -0.7658
  316N20020530,    16,  1,      6,      6,2,20020603, 71.7478,  -8.5280, 2585,   1565.5,  -0.7435,  34.9135,2,  34.9138,2,    299.1,2,    299.2,2,    10.75,2,    14.56,2,     0.00,2,     1.01,2, -999.000,9, -999.000,9, -999.000,9, 0.370841241,2,   -999.0,9,   -999.0,9,  -0.8118
  316N20020530,    16,  1,      5,      5,2,20020603, 71.7478,  -8.5280, 2585,   1715.9,  -0.7820,  34.9138,2,  34.9140,2,    298.5,2,    298.6,2,    11.04,2,    14.66,2,     0.00,2,     1.02,2,    0.897,2,    0.452,2,    0.059,2, 0.234215486,2,   -999.0,9,   -999.0,9,  -0.8586
  316N20020530,    16,  1,      4,      4,2,20020603, 71.7478,  -8.5280, 2585,   1918.4,  -0.8356,  34.9136,2,  34.9144,2,    298.7,2,    299.0,2,    11.43,2,    14.76,2,     0.00,2,     1.02,2, -999.000,9, -999.000,9, -999.000,9, 0.146384635,2,   -999.0,9,   -999.0,9,  -0.9239
  316N20020530,    16,  1,      3,      3,2,20020603, 71.7478,  -8.5280, 2585,   2121.8,  -0.8746,  34.9132,2,  34.9117,2,    299.4,2,    299.7,2,    11.63,2,    14.85,2,     0.00,2,     1.02,2,    0.630,2,    0.341,2,    0.036,2, 0.156143925,2,   2160.8,2,   2300.4,2,  -0.9753
  316N20020530,    16,  1,      2,      2,2,20020603, 71.7478,  -8.5280, 2585,   2343.9,  -0.8921,  34.9121,2,  34.9105,2,    300.2,2,    299.6,2,    11.92,2,    14.85,2,     0.00,2,     1.02,2,    0.669,2,    0.358,2,    0.033,2, 0.136626056,2,   2161.5,2,   2295.1,2,  -1.0075
  316N20020530,    16,  1,      1,      1,2,20020603, 71.7478,  -8.5280, 2585,   2556.0,  -0.8777,  34.9131,2,  34.9111,2,    300.4,2,    300.3,2,    12.31,2,    14.85,2,     0.00,2,     1.02,2,    0.641,2,    0.346,2,    0.032,2, 0.117107996,2,   2161.1,2,   2301.3,2,  -1.0085
  316N20020530,    17,  1,     30,     30,2,20020604, 72.0613,  -7.8868, 2628,      5.2,   0.9831,  34.7114,2,  34.7111,2,    355.2,2,    356.1,2,     4.98,2,     9.58,2,     0.05,2,     0.67,2,    6.447,2,    3.291,2,    0.556,2,   2.1472996,2,   2133.4,2,   2289.5,2,   0.9829
  316N20020530,    17,  1,     29,     29,2,20020604, 72.0613,  -7.8868, 2628,     19.8,   0.8119,  34.7084,2,  34.7246,2,    357.3,2,    359.2,2,     5.08,2,     9.58,2,     0.04,2,     0.68,2, -999.000,9, -999.000,9, -999.000,9,        -999,9,   -999.0,9,   -999.0,9,   0.8111
  316N20020530,    17,  1,     28,     28,2,20020604, 72.0613,  -7.8868, 2628,     34.9,  -0.0829,  34.7534,2,  34.7559,2,    363.8,2,    362.1,2,     4.59,2,     9.58,2,     0.04,2,     0.69,2,    6.606,2,    3.314,2,    0.571,2,  2.19602862,2,   2138.7,2,   2295.8,2,  -0.0841
  316N20020530,    17,  1,     27,     27,2,20020604, 72.0613,  -7.8868, 2628,     55.2,  -0.1964,  34.7532,2,  34.7557,2,    356.2,2,    356.4,2,     4.69,2,    10.16,2,     0.03,2,     0.73,2, -999.000,9, -999.000,9, -999.000,9,        -999,9,   -999.0,9,   -999.0,9,  -0.1983
  316N20020530,    17,  1,     26,     26,2,20020604, 72.0613,  -7.8868, 2628,     85.3,  -0.3397,  34.7598,2,  34.7604,2,    352.3,2,    353.0,2,     4.98,2,    10.56,2,     0.03,2,     0.75,2,    6.534,2,    3.316,2,    0.573,2,  2.11794051,2,   -999.0,9,   -999.0,9,  -0.3425
  316N20020530,    17,  1,     25,     25,2,20020604, 72.0613,  -7.8868, 2628,    110.3,  -0.4029,  34.7668,2,  34.7693,2,    349.3,2,    352.7,2,     4.98,2,    10.56,2,     0.04,2,     0.76,2,    6.466,2,    3.275,2,    0.572,2,        -999,9,   -999.0,9,   -999.0,9,  -0.4065
  316N20020530,    17,  1,     24,     24,2,20020604, 72.0613,  -7.8868, 2628,    130.0,  -0.4681,  34.7902,2,  34.7919,2,    342.0,2,    343.0,2,     5.47,2,    11.34,2,     0.06,2,     0.80,2,    6.028,2,    3.054,2,    0.508,2,  1.94221326,2,   2148.9,2,   2289.7,2,  -0.4723
  316N20020530,    17,  1,     23,     23,2,20020604, 72.0613,  -7.8868, 2628,    155.9,  -0.3008,  34.8324,2,  34.8300,2,    330.9,2,    330.2,2,     5.86,2,    12.02,2,     0.06,2,     0.84,2, -999.000,9, -999.000,9, -999.000,9,        -999,9,   -999.0,9,   -999.0,9,  -0.3062
  316N20020530,    17,  1,     22,     22,2,20020604, 72.0613,  -7.8868, 2628,    180.6,  -0.1843,  34.8459,2,  34.8463,2,    327.8,2,    326.2,2,     5.96,2,    12.22,2,     0.03,2,     0.85,2,    5.178,2,    2.583,2,    0.415,2,  1.58103421,2,   -999.0,9,   -999.0,9,  -0.1907
  316N20020530,    17,  1,     21,     21,2,20020604, 72.0613,  -7.8868, 2628,    211.1,  -0.1089,  34.8599,2,  34.8601,2,    323.4,2,    324.1,2,     6.06,2,    12.31,2,     0.01,2,     0.85,2,    4.936,2,    2.514,2,    0.394,2,        -999,9,   -999.0,9,   -999.0,9,  -0.1166
  316N20020530,    17,  1,     20,     20,2,20020604, 72.0613,  -7.8868, 2628,    236.4,  -0.1518,  34.8609,2,  34.8605,2,    326.2,2,    324.4,2,     5.86,2,    12.22,2,     0.01,2,     0.85,2,    5.025,2,    2.498,2,    0.398,2,  1.53222066,2,   2153.1,2,   2297.9,2,  -0.1604
  316N20020530,    17,  1,     19,     19,2,20020604, 72.0613,  -7.8868, 2628,    266.4,  -0.2092,  34.8599,2,  34.8595,2,    327.2,2,    325.1,2,     6.06,2,    12.31,2,     0.01,2,     0.85,2,    4.992,6,    2.526,6,    0.412,6,        -999,9,   -999.0,9,   -999.0,9,  -0.2188
  316N20020530,    17,  1,     18,     18,2,20020604, 72.0613,  -7.8868, 2628,    306.8,  -0.2478,  34.8650,2,-999.0000,9,    325.5,2,    325.0,2,     6.06,2,    12.31,2,     0.01,2,     0.85,2,    5.023,2,    2.500,2,    0.389,2,   1.5321401,2,   2153.9,2,   2293.9,2,  -0.2589
  316N20020530,    17,  1,     17,     17,2,20020604, 72.0613,  -7.8868, 2628,    346.6,  -0.1921,  34.8712,2,  34.8721,2,    322.9,2,    323.4,2,     5.86,2,    12.51,2,     0.00,2,     0.86,2, -999.000,9, -999.000,9, -999.000,9,  1.46389245,2,   -999.0,9,   -999.0,9,  -0.2050
  316N20020530,    17,  1,     16,     16,2,20020604, 72.0613,  -7.8868, 2628,    388.9,  -0.0097,  34.8934,2,  34.8935,2,    319.5,2,    317.0,2,     6.45,2,    12.61,2,     0.00,2,     0.88,2,    4.531,2,    2.246,2,    0.330,2,  1.31748221,2,   -999.0,9,   -999.0,9,  -0.0249
  316N20020530,    17,  1,     15,     15,2,20020604, 72.0613,  -7.8868, 2628,    441.1,   0.0138,  34.9005,2,  34.9008,2,    315.5,2,    315.0,2,     6.65,2,    12.80,2,     0.01,2,     0.89,2, -999.000,9, -999.000,9, -999.000,9,  1.26867968,2,   -999.0,9,   -999.0,9,  -0.0037
  316N20020530,    17,  1,     14,     14,2,20020604, 72.0613,  -7.8868, 2628,    518.5,  -0.0243,  34.9080,2,  34.9085,2,    313.1,2,    311.9,2,     6.94,2,    13.10,2,     0.00,2,     0.91,2,    4.005,2,    1.955,2,    0.273,2,  1.21987732,2,   2159.8,2,   2300.3,2,  -0.0451
  316N20020530,    17,  1,     13,     13,2,20020604, 72.0613,  -7.8868, 2628,    638.8,  -0.2398,  34.9052,2,  34.9047,2,    313.0,2,    313.3,2,     7.43,2,    13.29,2,     0.00,2,     0.92,2, -999.000,9, -999.000,9, -999.000,9,  1.68831498,2,   -999.0,9,   -999.0,9,  -0.2650
  316N20020530,    17,  1,     12,     12,2,20020604, 72.0613,  -7.8868, 2628,    759.1,  -0.4462,  34.8997,2,  34.9000,2,    313.8,2,    314.5,2,     7.43,2,    13.39,2,     0.00,2,     0.93,2,    3.797,2,    1.854,2,    0.257,2,  2.41049283,2,   2160.5,2,   2295.4,2,  -0.4757
  316N20020530,    17,  1,     11,     11,2,20020604, 72.0613,  -7.8868, 2628,    879.2,  -0.6325,  34.8938,2,  34.8935,2,    312.4,2,    313.7,2,     7.82,2,    13.58,2,     0.00,2,     0.94,2,    3.584,2,    1.756,2,    0.252,2,  3.64991369,2,   -999.0,9,   -999.0,9,  -0.6662
  316N20020530,    17,  1,     10,     10,2,20020604, 72.0613,  -7.8868, 2628,   1009.6,  -0.7214,  34.8916,2,  34.8913,2,    313.5,2,    315.3,2,     7.92,2,    13.68,2,     0.00,2,     0.95,2,    3.572,2,    1.770,2,    0.255,2,  3.98173054,2,   2159.8,2,   2296.6,2,  -0.7606
  316N20020530,    17,  1,      9,      9,2,20020604, 72.0613,  -7.8868, 2628,   1128.4,  -0.7574,  34.8936,2,  34.8925,2,    315.5,2,    314.7,2,     8.11,2,    13.68,2,     0.00,2,     0.95,2,    3.513,2,    1.724,2,    0.258,2,  3.71823035,2,   -999.0,9,   -999.0,9,  -0.8020
  316N20020530,    17,  1,      8,      8,2,20020604, 72.0613,  -7.8868, 2628,   1257.3,  -0.7531,  34.8977,2,  34.8972,2,    311.2,2,    311.6,2,     8.70,2,    13.88,2,     0.00,2,     0.96,2, -999.000,9, -999.000,9, -999.000,9,  2.74230727,2,   2162.4,2,   2297.4,2,  -0.8044
  316N20020530,    17,  1,      7,      7,2,20020604, 72.0613,  -7.8868, 2628,   1405.6,  -0.7148,  34.9087,2,  34.9084,2,    302.6,2,    302.7,2,     9.87,2,    14.37,2,     0.00,2,     0.99,2,    1.804,2,    0.882,2,    0.117,2,  1.03445604,2,   -999.0,9,   -999.0,9,  -0.7744
  316N20020530,    17,  1,      6,      6,2,20020604, 72.0613,  -7.8868, 2628,   1607.1,  -0.7371,  34.9139,2,  34.9135,2,    299.4,2,    300.0,2,    10.65,2,    14.56,2,     0.00,2,     1.01,2, -999.000,9, -999.000,9, -999.000,9, 0.390359288,2,   2159.0,2,   2290.7,2,  -0.8079
  316N20020530,    17,  1,      5,      5,2,20020604, 72.0613,  -7.8868, 2628,   1858.3,  -0.8119,  34.9140,2,  34.9129,2,    299.0,2,    300.0,2,    11.43,2,    14.76,2,     0.00,2,     1.02,2,    0.840,2,    0.421,2,    0.045,2, 0.165902772,2,   -999.0,9,   -999.0,9,  -0.8968
  316N20020530,    17,  1,      4,      4,2,20020604, 72.0613,  -7.8868, 2628,   2109.9,  -0.8640,  34.9131,2,  34.9124,2,    299.6,2,    299.2,2,    11.82,2,    14.85,2,     0.00,2,     1.03,2, -999.000,9, -999.000,9, -999.000,9, 0.117107882,2,   2160.4,2,   2298.7,2,  -0.9641
  316N20020530,    17,  1,      3,      3,2,20020604, 72.0613,  -7.8868, 2628,   2312.6,  -0.8869,  34.9129,2,  34.9116,2,    300.3,2,    300.1,2,    12.02,2,    14.85,2,     0.00,2,     1.02,2,    0.658,2,    0.328,2,    0.036,2, 0.117107952,2,   -999.0,9,   -999.0,9,  -1.0003
  316N20020530,    17,  1,      2,      2,2,20020604, 72.0613,  -7.8868, 2628,   2462.9,  -0.9003,  34.9126,2,  34.9104,2,    301.0,2,    300.2,2,    12.02,2,    14.95,2,     0.00,2,     1.02,2,    0.678,6,    0.334,6,    0.028,6, 0.146385071,2,   -999.0,9,   -999.0,9,  -1.0240
  316N20020530,    17,  1,      1,      1,2,20020604, 72.0613,  -7.8868, 2628,   2589.1,  -0.9158,  34.9110,2,  34.9086,2,    300.9,2,    301.2,2,    11.92,2,    14.95,2,     0.00,2,     1.02,2,    0.712,2,    0.349,2,    0.028,2, 0.156144285,2,   2160.3,2,   2294.6,2,  -1.0483