BOTTLE,20081218PRINUNIVRMK
EXPOCODE,STNNBR,CASTNO,SAMPNO,BTLNBR,BTLNBR_FLAG_W,DATE,LATITUDE,LONGITUDE,DEPTH,CTDPRS,CTDTMP,CTDSAL,CTDSAL_FLAG_W,SALNTY,SALNTY_FLAG_W,CTDOXY,CTDOXY_FLAG_W,OXYGEN,OXYGEN_FLAG_W,SILCAT,SILCAT_FLAG_W,NITRAT,NITRAT_FLAG_W,NITRIT,NITRIT_FLAG_W,PHSPHT,PHSPHT_FLAG_W,CFC-11,CFC-11_FLAG_W,CFC-12,CFC-12_FLAG_W,CFC113,CFC113_FLAG_W,SF6,SF6_FLAG_W,TCARBN,TCARBN_FLAG_W,ALKALI,ALKALI_FLAG_W,THETA
,,,,,,,,,METERS,DBARS,ITS-90,PSS-78,,PSS-78,,UMOL/KG,,UMOL/KG,,UMOL/KG,,UMOL/KG,,UMOL/KG,,UMOL/KG,,PMOL/KG,,PMOL/KG,,PMOL/KG,,FMOL/KG,,UMOL/KG,,UMOL/KG,,DEGC
  316N20020530,    70,  1,     18,     18,2,20020614, 70.0027,  16.6678, 1197,      2.5,   9.0572,  33.7315,2,  33.8352,2,    298.4,2,    298.5,2,     0.88,2,     0.39,2,     0.02,2,     0.09,2,    4.139,2,    2.259,2,    0.381,2,  1.67989299,2,   2044.8,2,   2267.7,2,   9.0569
  316N20020530,    70,  1,     17,     17,2,20020614, 70.0027,  16.6678, 1197,     17.8,   9.8818,  34.2578,2,  34.3252,2,    290.9,2,    292.3,2,     0.88,2,     1.76,2,     0.07,2,     0.14,2,    3.993,2,    2.159,2,    0.392,2,        -999,9,   2061.9,2,   2299.8,2,   9.8798
  316N20020530,    70,  1,     16,     16,2,20020614, 70.0027,  16.6678, 1197,     43.3,   7.6233,  34.9120,7,  34.9058,2,    282.2,2,    281.7,2,     3.22,2,     9.19,2,     0.17,2,     0.63,2, -999.000,9, -999.000,9, -999.000,9,        -999,9,   -999.0,9,   -999.0,9,   7.6191
  316N20020530,    70,  1,     15,     15,2,20020614, 70.0027,  16.6678, 1197,     93.4,   7.7796,  35.0968,2,  35.0928,2,    279.2,2,    280.0,2,     4.01,2,    10.46,2,     0.12,2,     0.69,2,    4.117,2,    2.253,2,    0.384,2,  1.67832092,2,   2130.1,2,   2305.0,2,   7.7703
  316N20020530,    70,  1,     14,     14,2,20020614, 70.0027,  16.6678, 1197,    123.5,   7.8518,  35.1749,2,  35.1697,2,    280.9,2,    278.8,2,     4.01,2,    11.04,2,     0.07,2,     0.72,2,    4.143,2,    2.257,2,    0.380,2,        -999,9,   -999.0,9,   -999.0,9,   7.8395
  316N20020530,    70,  1,     13,     13,2,20020614, 70.0027,  16.6678, 1197,    163.6,   7.4858,  35.1664,2,  35.1721,2,    281.1,2,    281.6,2,     4.30,2,    11.24,2,     0.03,2,     0.73,2,    4.163,2,    2.273,2,    0.379,2,  1.64895054,2,   2133.4,2,   2320.6,2,   7.4699
  316N20020530,    70,  1,     12,     12,2,20020614, 70.0027,  16.6678, 1197,    203.9,   7.2489,  35.1724,2,  35.1725,2,    282.1,2,    281.3,2,     4.79,2,    11.82,2,     0.01,2,     0.77,2, -999.000,9, -999.000,9, -999.000,9,        -999,9,   -999.0,9,   -999.0,9,   7.2293
  316N20020530,    70,  1,     11,     11,2,20020614, 70.0027,  16.6678, 1197,    254.1,   7.0390,  35.1735,2,  35.1721,2,    283.8,2,    284.2,2,     4.98,2,    12.02,2,     0.01,2,     0.79,2,    4.232,2,    2.284,2,    0.370,2,  1.66846475,2,   2137.6,2,   2308.0,2,   7.0149
  316N20020530,    70,  1,     10,     10,2,20020614, 70.0027,  16.6678, 1197,    353.7,   6.6546,  35.1656,2,  35.1654,2,    285.7,2,    286.1,2,     5.28,2,    12.31,2,     0.01,2,     0.81,2, -999.000,9, -999.000,9, -999.000,9,        -999,9,   -999.0,9,   -999.0,9,   6.6219
  316N20020530,    70,  1,      9,      9,2,20020614, 70.0027,  16.6678, 1197,    454.0,   5.5679,  35.1246,2,  35.1205,2,    291.0,2,    291.1,2,     5.18,2,    12.51,2,     0.01,2,  -999.00,9,    4.525,2,    2.414,2,    0.395,2,  1.72707371,2,   2143.0,2,   2310.8,2,   5.5294
  316N20020530,    70,  1,      8,      8,2,20020614, 70.0027,  16.6678, 1197,    520.4,   4.6404,  35.1053,2,  35.1056,2,    294.8,2,    296.6,2,     5.37,2,    12.70,2,     0.01,2,     0.84,2,    4.686,2,    2.509,2,    0.416,2,  1.72709286,2,   -999.0,9,   -999.0,9,   4.5998
  316N20020530,    70,  1,      7,      7,2,20020614, 70.0027,  16.6678, 1197,    570.3,   3.9770,  35.0788,7,  35.0779,2,    298.4,2,    299.5,2,     5.37,2,    12.80,2,     0.01,2,     0.85,2,    4.816,2,    2.528,2,    0.428,2,  1.71737069,2,   2147.6,2,   2307.7,2,   3.9353
  316N20020530,    70,  1,      6,      6,2,20020614, 70.0027,  16.6678, 1197,    655.0,   1.6636,  34.9511,2,  34.9509,2,    300.1,2,    300.0,2,     6.74,2,    13.88,2,     0.01,2,     0.93,2, -999.000,9, -999.000,9, -999.000,9,  1.37597818,2,   -999.0,9,   -999.0,9,   1.6274
  316N20020530,    70,  1,      5,      5,2,20020614, 70.0027,  16.6678, 1197,    751.9,  -0.1103,  34.9068,2,  34.9069,2,    299.1,2,    298.9,2,     8.89,2,    14.66,2,     0.00,2,     0.99,2,    2.819,6,    1.399,6,    0.207,6,  1.12228847,2,   2162.8,2,   2299.0,2,  -0.1415
  316N20020530,    70,  1,      4,      4,2,20020614, 70.0027,  16.6678, 1197,    830.9,  -0.3763,  34.9045,2,  34.9051,2,    298.9,2,    298.5,2,     9.38,2,    14.76,2,     0.00,2,     1.00,2,    2.421,2,    1.174,2,    0.175,2,  1.05397667,2,   -999.0,9,   -999.0,9,  -0.4096
  316N20020530,    70,  1,      3,      3,2,20020614, 70.0027,  16.6678, 1197,    951.5,  -0.5938,  34.9039,2,  34.9051,2,    298.7,2,    299.2,2,     9.97,2,    14.85,2,     0.00,2,     1.01,2,    1.982,6,    0.942,6,    0.127,6,  0.96614528,2,   2160.1,2,   2298.5,2,  -0.6312
  316N20020530,    70,  1,      2,      2,2,20020614, 70.0027,  16.6678, 1197,   1073.9,  -0.6626,  34.9050,2,  34.9067,2,    298.0,2,    298.6,2,    10.36,2,    14.85,2,     0.00,2,     1.01,2,    1.756,2,    0.828,2,    0.114,2, 0.780722528,2,   -999.0,9,   -999.0,9,  -0.7054
  316N20020530,    70,  1,      1,      1,2,20020614, 70.0027,  16.6678, 1197,   1187.1,  -0.6866,  34.9056,2,  34.9071,2,    297.2,2,    296.8,2,    10.65,2,    14.95,2,     0.00,2,     1.02,2,    1.602,2,    0.771,2,    0.110,2, 0.683132009,2,   2162.6,2,   2298.9,2,  -0.7349
  316N20020530,    71,  1,     23,     23,2,20020614, 70.0055,  16.2585, 2007,      3.1,   9.9182,  34.1753,7,  34.1741,2,    295.2,2,    295.6,2,     0.20,2,     0.39,2,     0.02,2,     0.06,2,    3.941,2,    2.188,2,    0.352,2,  1.61111867,2,   2050.5,2,   2284.6,2,   9.9178
  316N20020530,    71,  1,     22,     22,2,20020614, 70.0055,  16.2585, 2007,     19.4,   7.4427,  34.6842,2,  34.7111,2,    287.4,2,    288.8,2,     2.54,2,     7.92,2,     0.27,2,     0.55,2, -999.000,9, -999.000,9, -999.000,9,        -999,9,   2118.0,2,   2301.1,2,   7.4408
  316N20020530,    71,  1,     21,     21,2,20020614, 70.0055,  16.2585, 2007,     39.5,   7.3742,  34.8737,2,  34.8778,2,    281.5,2,    281.2,2,     3.23,2,     9.77,2,     0.15,2,     0.66,2,    4.333,2,    2.352,2,    0.362,2,  1.66883031,2,   2127.8,2,   2308.1,2,   7.3704
  316N20020530,    71,  1,     20,     20,2,20020614, 70.0055,  16.2585, 2007,     75.1,   7.4941,  34.9878,2,  34.9866,2,    278.8,2,    279.2,2,     3.22,2,    10.26,2,     0.13,2,     0.67,2, -999.000,9, -999.000,9, -999.000,9,        -999,9,   2130.1,2,   2310.6,2,   7.4868
  316N20020530,    71,  1,     19,     19,2,20020614, 70.0055,  16.2585, 2007,    109.9,   7.6962,  35.1266,2,  35.1230,2,    278.2,2,    278.5,2,     3.62,2,    10.94,2,     0.06,2,     0.71,2,    4.101,2,    2.285,2,    0.347,2,  1.62949589,2,   2134.3,2,   2315.6,2,   7.6854
  316N20020530,    71,  1,     18,     18,2,20020614, 70.0055,  16.2585, 2007,    129.8,   7.5865,  35.1464,2,  35.1474,2,    278.4,2,    277.6,2,     3.81,2,    11.14,2,     0.02,2,     0.73,2,    4.149,2,    2.249,2,    0.335,2,        -999,9,   -999.0,9,   -999.0,9,   7.5738
  316N20020530,    71,  1,     17,     17,2,20020614, 70.0055,  16.2585, 2007,    154.4,   7.5603,  35.1805,2,  35.1816,2,    279.9,2,    278.9,2,     4.01,2,    11.33,2,     0.02,2,     0.75,2, -999.000,9, -999.000,9, -999.000,9,        -999,9,   -999.0,9,   -999.0,9,   7.5452
  316N20020530,    71,  1,     16,     16,2,20020614, 70.0055,  16.2585, 2007,    204.3,   7.2625,  35.1802,2,  35.1781,2,    281.2,2,    281.0,2,     4.40,2,    11.72,2,     0.01,2,     0.78,2,    4.220,2,    2.260,2,    0.344,2,  1.64894318,2,   -999.0,9,   -999.0,9,   7.2429
  316N20020530,    71,  1,     15,     15,2,20020614, 70.0055,  16.2585, 2007,    303.5,   6.8879,  35.1809,2,  35.1784,2,    283.0,2,    283.4,2,     4.79,2,    12.21,2,     0.01,2,     0.81,2,    4.261,6,    2.293,6,    0.355,6,        -999,9,   2142.2,2,   2317.0,2,   6.8594
  316N20020530,    71,  1,     14,     14,2,20020614, 70.0055,  16.2585, 2007,    403.0,   6.2513,  35.1433,2,  35.1429,2,    286.3,2,    287.6,2,     4.69,2,    12.21,2,     0.02,2,     0.81,2,    4.330,2,    2.368,2,    0.375,2,  1.67825833,2,   -999.0,9,   -999.0,9,   6.2152
  316N20020530,    71,  1,     13,     13,2,20020614, 70.0055,  16.2585, 2007,    503.0,   5.3963,  35.1217,2,  35.1183,2,    289.7,2,    292.3,2,     4.89,2,    12.41,2,     0.01,2,     0.83,2,    4.566,2,    2.392,2,    0.384,2,  1.67828906,2,   2144.5,2,   2312.3,2,   5.3542
  316N20020530,    71,  1,     12,     12,2,20020614, 70.0055,  16.2585, 2007,    582.6,   4.4591,  35.0902,2,  35.0892,2,    293.6,2,    295.8,2,     5.18,2,    12.60,2,     0.01,2,     0.85,2,    4.664,2,    2.477,2,    0.383,2,  1.68808312,2,   -999.0,9,   -999.0,9,   4.4142
  316N20020530,    71,  1,     11,     11,2,20020614, 70.0055,  16.2585, 2007,    682.3,   2.3689,  34.9903,2,  34.9891,2,    300.0,2,    299.4,2,     6.16,2,    13.49,2,     0.01,2,     0.91,2,    4.498,2,    2.315,2,    0.359,2,  1.50279868,2,   -999.0,9,   -999.0,9,   2.3271
  316N20020530,    71,  1,     10,     10,2,20020614, 70.0055,  16.2585, 2007,    773.6,   0.0815,  34.9037,2,  34.9039,2,    301.2,2,    300.1,2,     7.92,2,    14.37,2,     0.00,2,     0.98,2,    3.423,2,    1.706,2,    0.257,2,  1.11253192,2,   2162.4,2,   2298.8,2,   0.0480
  316N20020530,    71,  1,      9,      9,2,20020614, 70.0055,  16.2585, 2007,    879.9,  -0.3139,  34.9044,2,  34.9046,2,    299.2,2,    299.1,2,     8.99,2,    14.56,2,     0.00,2,     1.00,2,    2.611,2,    1.262,2,    0.190,2,   1.0832542,2,   -999.0,9,   -999.0,9,  -0.3500
  316N20020530,    71,  1,      8,      8,2,20020614, 70.0055,  16.2585, 2007,    993.2,  -0.5206,  34.9047,2,  34.9039,2,    298.4,2,    298.2,2,     9.77,2,    14.66,2,     0.00,2,     1.01,2, -999.000,9, -999.000,9, -999.000,9, 0.956387091,2,   2161.9,2,   2298.4,2,  -0.5606
  316N20020530,    71,  1,      7,      7,2,20020614, 70.0055,  16.2585, 2007,   1089.1,  -0.6361,  34.9055,2,  34.9035,2,    297.8,2,    298.4,2,    10.16,2,    14.76,2,     0.00,2,     1.02,2, -999.000,9, -999.000,9, -999.000,9, 0.810001553,2,   -999.0,9,   -999.0,9,  -0.6799
  316N20020530,    71,  1,      6,      6,2,20020614, 70.0055,  16.2585, 2007,   1186.8,  -0.7001,  34.9058,2,  34.9060,2,    297.6,2,    297.9,2,    10.55,2,    14.85,2,     0.00,2,     1.02,2,    1.495,2,    0.756,2,    0.096,2, 0.653855458,2,   -999.0,9,   -999.0,9,  -0.7483
  316N20020530,    71,  1,      5,      5,2,20020614, 70.0055,  16.2585, 2007,   1285.0,  -0.7393,  34.9081,2,  34.9076,2,    297.5,2,    297.6,2,    11.04,2,    14.95,2,     0.00,2,     1.02,2, -999.000,9, -999.000,9, -999.000,9, 0.517228329,2,   -999.0,9,   -999.0,9,  -0.7922
  316N20020530,    71,  1,      4,      4,2,20020614, 70.0055,  16.2585, 2007,   1386.8,  -0.7597,  34.9082,2,  34.9078,2,    297.2,2,    297.2,2,    11.24,2,    15.05,2,     0.00,2,     1.02,2,    1.160,2,    0.598,2,    0.072,2, 0.448915086,2,   2161.0,2,   2299.9,2,  -0.8178
  316N20020530,    71,  1,      3,      3,2,20020614, 70.0055,  16.2585, 2007,   1595.1,  -0.8204,  34.9097,2,  34.9101,2,    297.0,2,    296.9,2,    11.82,2,    15.15,2,     0.00,2,     1.03,2,    0.901,6,    0.461,6,    0.054,6, 0.243975173,2,   -999.0,9,   -999.0,9,  -0.8894
  316N20020530,    71,  1,      2,      2,2,20020614, 70.0055,  16.2585, 2007,   1801.8,  -0.8506,  34.9107,2,  34.9099,2,    297.1,2,    296.7,2,    12.31,2,    15.34,2,     0.00,2,     1.04,2,    0.744,2,    0.384,2,    0.042,2, 0.107349092,2,   2163.3,2,   2306.3,2,  -0.9314
  316N20020530,    71,  1,      1,      1,2,20020614, 70.0055,  16.2585, 2007,   1992.5,  -0.8929,  34.9109,2,  34.9091,2,    297.3,2,    297.4,2,    12.90,2,    15.44,2,     0.00,2,     1.04,2,    0.524,2,    0.287,2,    0.031,2,0.0878311275,2,   2162.4,2,   2302.4,2,  -0.9849
  316N20020530,    72,  1,     24,     24,2,20020614, 70.0195,  15.5100, 2303,      2.9,   9.3530,  34.0506,2,  34.0524,2,    298.5,2,    299.9,2,     0.88,2,     1.76,2,     0.05,2,     0.14,2,    4.130,2,    2.239,2,    0.366,2,  1.66985611,2,   2059.4,2,   2276.6,2,   9.3527
  316N20020530,    72,  1,     23,     23,2,20020614, 70.0195,  15.5100, 2303,     23.9,   8.6183,  34.5383,2,  34.5536,2,    292.9,2,    289.9,2,     2.05,2,     5.77,2,     0.09,2,     0.39,2,    4.164,2,    2.281,2,    0.364,2,  1.66923312,2,   -999.0,9,   -999.0,9,   8.6158
  316N20020530,    72,  1,     22,     22,2,20020614, 70.0195,  15.5100, 2303,     49.9,   7.5779,  35.0159,2,  35.0297,2,    281.6,2,    279.5,2,     3.62,2,    10.46,2,     0.05,2,     0.69,2,    4.179,2,    2.273,2,    0.348,2,        -999,9,   2134.0,2,   2312.2,2,   7.5731
  316N20020530,    72,  1,     21,     21,2,20020614, 70.0195,  15.5100, 2303,     74.6,   7.7837,  35.1865,2,  35.1856,2,    278.3,2,    279.0,2,     4.10,2,    11.33,2,     0.04,2,     0.74,2,    4.026,6,    2.186,6,    0.346,6,  1.64893397,2,   -999.0,9,   -999.0,9,   7.7763
  316N20020530,    72,  1,     20,     20,2,20020614, 70.0195,  15.5100, 2303,     99.3,   7.6234,  35.1935,2,  35.1919,2,    278.2,2,    279.5,2,     4.40,2,    11.63,2,     0.02,2,     0.76,2,    4.016,2,    2.198,2,    0.353,2,        -999,9,   2138.9,2,   2316.7,2,   7.6137
  316N20020530,    72,  1,     19,     19,2,20020614, 70.0195,  15.5100, 2303,    124.4,   7.5614,  35.1935,2,  35.1882,2,    279.3,2,    279.3,2,     4.40,2,    11.82,2,     0.01,2,     0.77,2,    4.052,2,    2.220,2,    0.357,2,  1.65868777,2,   2138.9,2,   2316.6,2,   7.5492
  316N20020530,    72,  1,     18,     18,2,20020614, 70.0195,  15.5100, 2303,    154.5,   7.3521,  35.1851,2,  35.1851,2,    279.0,2,    279.9,2,     4.59,2,    12.02,2,     0.01,2,     0.78,2,    4.153,2,    2.275,2,    0.363,2,        -999,9,   2140.4,2,   2316.4,2,   7.3372
  316N20020530,    72,  1,     17,     17,2,20020614, 70.0195,  15.5100, 2303,    204.4,   7.1675,  35.1824,2,  35.1794,2,    281.0,2,    282.1,2,     4.79,2,    12.21,2,     0.01,2,     0.80,2,    4.178,2,    2.272,2,    0.353,2,  1.62942748,2,   2140.3,2,   2315.5,2,   7.1480
  316N20020530,    72,  1,     16,     16,2,20020614, 70.0195,  15.5100, 2303,    305.7,   6.5011,  35.1536,2,  35.1503,2,    286.1,2,    285.8,2,     4.69,2,    12.31,2,     0.01,2,     0.80,2,    4.324,2,    2.341,2,    0.382,2,        -999,9,   2141.5,2,   2308.5,2,   6.4733
  316N20020530,    72,  1,     15,     15,2,20020614, 70.0195,  15.5100, 2303,    423.8,   5.0969,  35.1086,2,  35.1071,2,    293.8,2,    294.2,2,     5.18,2,    12.70,2,     0.01,2,     0.83,2,    4.579,2,    2.445,2,    0.373,2,   1.6978182,2,   -999.0,9,   -999.0,9,   5.0626
  316N20020530,    72,  1,     14,     14,2,20020614, 70.0195,  15.5100, 2303,    538.0,   3.5075,  35.0511,2,  35.0487,2,    300.1,2,    300.9,2,     5.67,2,    13.09,2,     0.01,2,     0.86,2,    4.832,2,    2.548,2,    0.391,2,  1.70765001,2,   2151.5,2,   2306.0,2,   3.4703
  316N20020530,    72,  1,     13,     13,2,20020614, 70.0195,  15.5100, 2303,    653.1,   0.7357,  34.9080,2,  34.9075,2,    297.2,2,    302.8,2,     6.94,2,    14.07,2,     0.00,2,     0.95,2,    4.485,2,    2.242,2,    0.359,2,   1.2491553,2,   2162.8,2,   2294.5,2,   0.7046
  316N20020530,    72,  1,     12,     12,2,20020614, 70.0195,  15.5100, 2303,    765.2,  -0.0482,  34.8933,2,  34.8927,2,    301.5,2,    302.5,2,     7.52,2,    14.46,2,     0.00,2,     0.97,2,    3.878,2,    1.900,2,    0.283,2,  1.19061426,2,   2172.0,2,   2295.9,2,  -0.0804
  316N20020530,    72,  1,     11,     11,2,20020614, 70.0195,  15.5100, 2303,    877.0,  -0.3622,  34.8930,2,  34.8926,2,    302.6,2,    305.0,2,     7.92,2,    14.37,2,     0.00,2,     0.96,2,    3.425,2,    1.686,2,    0.249,2,  1.48338837,2,   -999.0,9,   -999.0,9,  -0.3978
  316N20020530,    72,  1,     10,     10,2,20020614, 70.0195,  15.5100, 2303,    982.0,  -0.4729,  34.8965,2,  34.8951,2,    303.9,2,    304.0,2,     8.40,2,    14.56,2,     0.01,2,     0.98,2,    2.999,2,    1.465,2,    0.220,2,  1.68832705,2,   2164.6,2,   2295.0,2,  -0.5128
  316N20020530,    72,  1,      9,      9,2,20020614, 70.0195,  15.5100, 2303,   1079.5,  -0.5538,  34.9032,2,  34.9032,2,    302.7,2,    298.9,2,     9.67,2,    14.85,2,     0.00,2,     1.00,2,    2.188,2,    1.044,2,    0.135,2,  1.10277344,2,   -999.0,9,   -999.0,9,  -0.5979
  316N20020530,    72,  1,      8,      8,2,20020614, 70.0195,  15.5100, 2303,   1176.8,  -0.6455,  34.9046,2,  34.9042,2,    299.8,2,    299.8,2,     9.97,2,    14.85,2,     0.00,2,     1.00,2,    1.936,2,    0.927,2,    0.115,2,  1.04421833,2,   -999.0,9,   -999.0,9,  -0.6937
  316N20020530,    72,  1,      7,      7,2,20020614, 70.0195,  15.5100, 2303,   1274.7,  -0.6901,  34.9070,2,  34.9083,2,    297.9,2,    298.5,2,    10.75,2,    14.95,2,     0.00,2,     1.01,2,    1.558,2,    0.731,2,    0.086,2, 0.605059239,2,   2162.2,2,   2302.0,2,  -0.7430
  316N20020530,    72,  1,      6,      6,2,20020614, 70.0195,  15.5100, 2303,   1374.5,  -0.7400,  34.9081,2,  34.9082,2,    297.7,2,    297.2,2,    11.14,2,    15.05,2,     0.00,2,     1.02,2,    1.337,2,    0.642,2,    0.066,2, 0.526987118,2,   -999.0,9,   -999.0,9,  -0.7977
  316N20020530,    72,  1,      5,      5,2,20020614, 70.0195,  15.5100, 2303,   1492.7,  -0.7828,  34.9087,2,  34.9090,2,    297.8,2,    297.3,2,    11.34,2,    15.05,2,     0.00,2,     1.02,2,    1.107,2,    0.548,2,    0.059,2, 0.341565521,2,   2163.2,2,   2300.3,2,  -0.8465
  316N20020530,    72,  1,      4,      4,2,20020614, 70.0195,  15.5100, 2303,   1695.8,  -0.8381,  34.9107,2,  34.9096,2,    297.6,2,    297.4,2,    12.02,2,    15.15,2,     0.00,2,     1.03,2,    0.811,2,    0.404,2,    0.044,2, 0.243975263,2,   -999.0,9,   -999.0,9,  -0.9127
  316N20020530,    72,  1,      3,      3,2,20020614, 70.0195,  15.5100, 2303,   1916.2,  -0.8561,  34.9106,7,  34.9108,2,    296.9,2,    298.4,2,    12.22,2,    15.15,2,     0.00,2,     1.03,2,    0.684,2,    0.345,2,    0.039,2,  0.10734902,2,   2162.5,2,   2300.4,2,  -0.9439
  316N20020530,    72,  1,      2,      2,2,20020614, 70.0195,  15.5100, 2303,   2122.5,  -0.8659,  34.9113,2,  34.9098,2,    297.6,2,    298.0,2,    12.51,2,    15.25,2,     0.00,2,     1.03,2,    0.587,2,    0.314,2,    0.034,2, 0.126867118,2,   2162.2,2,   2301.0,2,  -0.9668
  316N20020530,    72,  1,      1,      1,2,20020614, 70.0195,  15.5100, 2303,   2291.2,  -0.8753,  34.9111,2,  34.9100,2,    297.7,2,    297.5,2,    13.00,2,    15.34,2,     0.00,2,     1.03,2,    0.504,6,    0.272,6,    0.029,6,0.0390360305,2,   2162.6,2,   2301.6,2,  -0.9874