BOTTLE,20081218PRINUNIVRMK
EXPOCODE,STNNBR,CASTNO,SAMPNO,BTLNBR,BTLNBR_FLAG_W,DATE,LATITUDE,LONGITUDE,DEPTH,CTDPRS,CTDTMP,CTDSAL,CTDSAL_FLAG_W,SALNTY,SALNTY_FLAG_W,CTDOXY,CTDOXY_FLAG_W,OXYGEN,OXYGEN_FLAG_W,SILCAT,SILCAT_FLAG_W,NITRAT,NITRAT_FLAG_W,NITRIT,NITRIT_FLAG_W,PHSPHT,PHSPHT_FLAG_W,CFC-11,CFC-11_FLAG_W,CFC-12,CFC-12_FLAG_W,CFC113,CFC113_FLAG_W,SF6,SF6_FLAG_W,TCARBN,TCARBN_FLAG_W,ALKALI,ALKALI_FLAG_W,THETA
,,,,,,,,,METERS,DBARS,ITS-90,PSS-78,,PSS-78,,UMOL/KG,,UMOL/KG,,UMOL/KG,,UMOL/KG,,UMOL/KG,,UMOL/KG,,PMOL/KG,,PMOL/KG,,PMOL/KG,,FMOL/KG,,UMOL/KG,,UMOL/KG,,DEGC
  316N20020530,    83,  1,     34,     34,2,20020616, 70.0042,  -3.4448, 3512,      2.9,   8.5206,  35.0566,2,  35.0542,2,    311.0,2,    312.3,2,     2.35,2,     2.25,2,     0.04,2,     0.19,2,    4.213,2,    2.321,2,    0.393,2,  1.65885322,2,   2080.4,2,   2316.9,2,   8.5203
  316N20020530,    83,  1,     33,     33,2,20020616, 70.0042,  -3.4448, 3512,     25.1,   8.3144,  35.0660,2,  35.0731,2,    309.2,2,    308.6,2,     2.64,2,     3.71,2,     0.06,2,     0.29,2, -999.000,9, -999.000,9, -999.000,9,        -999,9,   -999.0,9,   -999.0,9,   8.3118
  316N20020530,    83,  1,     32,     32,2,20020616, 70.0042,  -3.4448, 3512,     49.7,   6.4318,  35.1215,2,  35.1209,2,    292.7,2,    296.9,2,     4.01,2,     9.28,2,     0.19,2,     0.68,2,    4.495,2,    2.445,2,    0.413,2,  1.77586057,2,   2133.0,2,   2314.7,2,   6.4274
  316N20020530,    83,  1,     31,     31,2,20020616, 70.0042,  -3.4448, 3512,     80.1,   5.8367,  35.1156,2,  35.1136,2,    290.4,2,    295.1,2,     4.30,2,    11.14,2,     0.21,2,     0.76,2, -999.000,9, -999.000,9, -999.000,9,        -999,9,   -999.0,9,   -999.0,9,   5.8300
  316N20020530,    83,  1,     30,     30,2,20020616, 70.0042,  -3.4448, 3512,    110.0,   5.3658,  35.0922,2,  35.0918,2,    294.2,2,    294.7,2,     4.79,2,    12.21,2,     0.10,2,     0.80,2, -999.000,9, -999.000,9, -999.000,9,        -999,9,   2142.2,2,   2314.9,2,   5.3569
  316N20020530,    83,  1,     29,     29,2,20020616, 70.0042,  -3.4448, 3512,    145.2,   4.7638,  35.0683,2,  35.0676,2,    298.3,2,    297.9,2,     4.89,2,    12.51,2,     0.02,2,     0.82,2,    4.685,2,    2.528,2,    0.417,2,  1.80520462,2,   -999.0,9,   -999.0,9,   4.7527
  316N20020530,    83,  1,     28,     28,2,20020616, 70.0042,  -3.4448, 3512,    185.3,   4.3352,  35.0502,2,  35.0513,2,    301.8,2,    300.0,2,     4.89,2,    12.51,2,     0.01,2,     0.82,2, -999.000,9, -999.000,9, -999.000,9,        -999,9,   2140.3,2,   2310.6,2,   4.3217
  316N20020530,    83,  1,     27,     27,2,20020616, 70.0042,  -3.4448, 3512,    230.7,   4.1732,  35.0745,2,  35.0746,2,    301.3,2,    301.1,2,     4.79,2,    12.41,2,     0.01,2,     0.82,2,    4.845,2,    2.592,2,    0.431,2,  1.82471084,2,   -999.0,9,   -999.0,9,   4.1566
  316N20020530,    83,  1,     26,     26,2,20020616, 70.0042,  -3.4448, 3512,    280.9,   4.0354,  35.0912,2,  35.0907,2,    303.6,2,    301.6,2,     4.89,2,    12.51,2,     0.01,2,     0.82,2, -999.000,9, -999.000,9, -999.000,9,        -999,9,   2140.8,2,   -999.0,9,   4.0153
  316N20020530,    83,  1,     25,     25,2,20020616, 70.0042,  -3.4448, 3512,    341.1,   3.4089,  35.0491,2,  35.0481,2,    305.7,2,    304.1,2,     5.08,2,    12.70,2,     0.01,2,     0.83,2,    4.950,2,    2.610,2,    0.435,2,  1.80523082,2,   -999.0,9,   -999.0,9,   3.3861
  316N20020530,    83,  1,     24,     24,2,20020616, 70.0042,  -3.4448, 3512,    411.1,   2.3303,  34.9647,2,  34.9691,2,    304.7,2,    305.7,2,     5.37,2,    13.29,2,     0.01,2,     0.87,2,    5.082,2,    2.632,2,    0.442,2,        -999,9,   2151.1,2,   -999.0,9,   2.3062
  316N20020530,    83,  1,     23,     23,2,20020616, 70.0042,  -3.4448, 3512,    481.0,   1.0929,  34.9042,2,  34.9041,2,    304.8,2,    305.1,2,     6.06,2,    13.97,2,     0.01,2,     0.93,2,    5.005,2,    2.552,2,    0.424,2,  1.56144808,2,   -999.0,9,   -999.0,9,   1.0693
  316N20020530,    83,  1,     22,     22,2,20020616, 70.0042,  -3.4448, 3512,    556.1,   0.4475,  34.8914,2,  34.8915,2,    303.6,2,    304.3,2,     6.74,2,    14.17,2,     0.01,2,     0.95,2,    4.728,2,    2.306,2,    0.357,2,  1.40531645,2,   2159.0,2,   -999.0,9,   0.4228
  316N20020530,    83,  1,     21,     21,2,20020616, 70.0042,  -3.4448, 3512,    655.0,  -0.0520,  34.8893,2,  34.8899,2,    303.8,2,    304.2,2,     7.04,2,    14.37,2,     0.01,2,     0.95,2,    4.197,2,    2.048,2,    0.316,2,  1.28820828,2,   -999.0,9,   -999.0,9,  -0.0789
  316N20020530,    83,  1,     20,     20,2,20020616, 70.0042,  -3.4448, 3512,    755.9,  -0.2507,  34.8900,2,  34.8905,2,    304.7,2,    304.4,2,     7.43,2,    14.37,2,     0.00,2,     0.95,2,    3.809,2,    1.846,2,    0.271,2,   1.3662809,2,   2157.5,2,   2295.6,2,  -0.2812
  316N20020530,    83,  1,     19,     19,2,20020616, 70.0042,  -3.4448, 3512,    855.2,  -0.4101,  34.8926,2,  34.8936,2,    304.4,2,    305.5,2,     8.21,2,    14.27,2,     0.00,2,     0.95,2,    3.499,2,    1.696,2,    0.246,2,  1.70784719,2,   -999.0,9,   -999.0,9,  -0.4443
  316N20020530,    83,  1,     18,     18,2,20020616, 70.0042,  -3.4448, 3512,    955.9,  -0.5169,  34.8959,2,  34.8962,2,    303.3,2,    303.0,2,     8.31,2,    14.46,2,     0.00,2,     0.96,2,    2.960,2,    1.411,2,    0.198,2,  1.79567585,2,   2157.2,2,   2297.2,2,  -0.5551
  316N20020530,    83,  1,     17,     17,2,20020616, 70.0042,  -3.4448, 3512,   1055.9,  -0.5696,  34.8979,2,  34.8985,2,    302.3,2,    301.8,2,     8.60,2,    14.56,2,     0.00,2,     0.97,2,    2.607,2,    1.254,2,    0.156,2,  1.80543187,2,   -999.0,9,   -999.0,9,  -0.6123
  316N20020530,    83,  1,     16,     16,2,20020616, 70.0042,  -3.4448, 3512,   1156.2,  -0.6265,  34.9015,2,  34.9009,2,    300.4,2,    300.6,2,     9.09,2,    14.46,2,     0.00,2,     0.98,2,    2.138,6,    1.044,6,    0.146,6,  1.50289736,2,   -999.0,9,   -999.0,9,  -0.6738
  316N20020530,    83,  1,     15,     15,2,20020616, 70.0042,  -3.4448, 3512,   1257.5,  -0.6573,  34.9027,2,  34.9048,2,    299.5,2,    299.5,2,     9.58,2,    14.76,2,     0.00,2,     0.98,2,    1.844,2,    0.889,2,    0.127,2,  1.07349499,2,   -999.0,9,   -999.0,9,  -0.7096
  316N20020530,    83,  1,     14,     14,2,20020616, 70.0042,  -3.4448, 3512,   1356.9,  -0.7016,  34.9058,2,  34.9040,2,    298.6,2,    298.6,2,     9.77,2,    14.85,2,     0.00,2,     0.99,2,    1.466,2,    0.708,2,    0.086,2, 0.595302124,2,   -999.0,9,   -999.0,9,  -0.7587
  316N20020530,    83,  1,     13,     13,2,20020616, 70.0042,  -3.4448, 3512,   1457.6,  -0.7316,  34.9072,2,  34.9079,2,    298.3,2,    298.1,2,    10.36,2,    14.95,2,     0.00,2,     1.00,2,    1.233,2,    0.590,2,    0.071,2, 0.341565801,2,   2157.0,2,   2299.9,2,  -0.7939
  316N20020530,    83,  1,     12,     12,2,20020616, 70.0042,  -3.4448, 3512,   1532.1,  -0.7521,  34.9087,2,  34.9079,2,    297.7,2,    297.8,2,    10.46,2,    14.95,2,     0.00,2,     1.00,2,    1.066,2,    0.527,2,    0.063,2, 0.292770687,2,   -999.0,9,   -999.0,9,  -0.8184
  316N20020530,    83,  1,     11,     11,2,20020616, 70.0042,  -3.4448, 3512,   1707.4,  -0.7961,  34.9088,2,  34.9085,2,    298.0,2,    298.3,2,    11.14,2,    15.05,2,     0.00,2,     1.00,2,    0.897,2,    0.441,2,    0.053,2, 0.195180371,2,   -999.0,9,   -999.0,9,  -0.8720
  316N20020530,    83,  1,     10,     10,2,20020616, 70.0042,  -3.4448, 3512,   1859.7,  -0.8202,  34.9096,2,  34.9085,2,    298.2,2,    298.4,2,    11.24,2,    15.05,2,     0.00,2,     1.00,2, -999.000,9, -999.000,9, -999.000,9, 0.204939389,2,   -999.0,9,   -999.0,9,  -0.9050
  316N20020530,    83,  1,      9,      9,2,20020616, 70.0042,  -3.4448, 3512,   2011.7,  -0.8344,  34.9100,2,  34.9091,2,    298.2,2,    298.8,2,    11.34,2,    15.05,2,     0.00,2,     1.00,2,    0.690,2,    0.349,2,    0.038,2, 0.126867184,2,   2156.0,2,   2300.3,2,  -0.9286
  316N20020530,    83,  1,      8,      8,2,20020616, 70.0042,  -3.4448, 3512,   2214.3,  -0.8486,  34.9102,2,  34.9097,2,    298.5,2,    298.6,2,    11.63,2,    15.15,2,     0.00,2,     1.01,2,    0.595,6,    0.309,6,    0.034,6, 0.107349108,2,   -999.0,9,   -999.0,9,  -0.9559
  316N20020530,    83,  1,      7,      7,2,20020616, 70.0042,  -3.4448, 3512,   2417.6,  -0.8549,  34.9104,7,  34.9097,2,    298.5,2,    298.8,2,    11.73,2,    15.25,2,     0.00,2,     1.02,2,    0.540,2,    0.286,2,    0.030,2,0.0878310883,2,   2158.2,2,   2296.9,2,  -0.9762
  316N20020530,    83,  1,      6,      6,2,20020616, 70.0042,  -3.4448, 3512,   2619.9,  -0.8540,  34.9106,2,  34.9101,2,    298.7,2,    298.6,2,    12.02,2,    15.25,2,     0.00,2,     1.02,2, -999.000,9, -999.000,9, -999.000,9,0.0878310621,2,   -999.0,9,   -999.0,9,  -0.9900
  316N20020530,    83,  1,      5,      5,2,20020616, 70.0042,  -3.4448, 3512,   2824.0,  -0.8482,  34.9111,2,  34.9095,2,    298.5,2,    298.8,2,    12.31,2,    15.34,2,     0.00,2,     1.03,2,    0.434,2,    0.241,2,    0.025,2,0.0780720901,2,   2159.1,2,   2300.8,2,  -0.9998
  316N20020530,    83,  1,      4,      4,2,20020616, 70.0042,  -3.4448, 3512,   3028.0,  -0.8387,  34.9114,7,  34.9097,2,    298.4,2,    298.6,2,    12.61,2,    15.34,2,     0.00,2,     1.03,2, -999.000,9, -999.000,9, -999.000,9,0.0585540589,2,   2159.5,2,   2302.2,2,  -1.0066
  316N20020530,    83,  1,      3,      3,2,20020616, 70.0042,  -3.4448, 3512,   3232.4,  -0.8277,  34.9115,2,  34.9098,2,    298.2,2,    298.6,2,    12.80,2,    15.44,2,     0.00,2,     1.03,2,    0.377,2,    0.202,2,    0.018,2,0.0780720727,2,   -999.0,9,   -999.0,9,  -1.0127
  316N20020530,    83,  1,      2,      2,2,20020616, 70.0042,  -3.4448, 3512,   3437.1,  -0.8126,  34.9113,2,  34.9092,2,    298.1,2,    297.9,2,    13.10,2,    15.44,2,     0.00,2,     1.03,2, -999.000,9, -999.000,9, -999.000,9,0.0683130941,2,   -999.0,9,   -999.0,9,  -1.0155
  316N20020530,    83,  1,      1,      1,2,20020616, 70.0042,  -3.4448, 3512,   3513.6,  -0.8080,  34.9115,2,  34.9096,2,    297.8,2,    297.9,2,    13.19,2,    15.54,2,     0.00,2,     1.03,2,    0.348,2,    0.182,2,    0.013,2,0.0390360422,2,   2156.2,2,   2303.6,2,  -1.0177
  316N20020530,    84,  1,     29,     29,2,20020617, 70.0042,  -4.9295, 3119,      2.8,   7.8855,  35.0502,7,  35.0482,2,    315.0,2,    315.0,2,     2.35,2,     3.42,2,     0.05,2,     0.24,2,    4.530,2,    2.418,2,    0.418,2,  1.77595668,2,   2087.1,2,   2319.4,2,   7.8852
  316N20020530,    84,  1,     28,     28,2,20020617, 70.0042,  -4.9295, 3119,     19.1,   7.4450,  35.0336,2,  35.0502,2,    315.8,2,    316.8,2,     2.64,2,     4.01,2,     0.06,2,     0.29,2, -999.000,9, -999.000,9, -999.000,9,        -999,9,   2089.7,2,   2323.0,2,   7.4432
  316N20020530,    84,  1,     27,     27,2,20020617, 70.0042,  -4.9295, 3119,     44.1,   4.7891,  35.0688,2,  35.0647,2,    304.1,2,    304.6,2,     4.79,2,    10.75,2,     0.33,2,     0.76,2,    4.933,2,    2.632,2,    0.427,2,  1.83448217,2,   -999.0,9,   -999.0,9,   4.7858
  316N20020530,    84,  1,     26,     26,2,20020617, 70.0042,  -4.9295, 3119,     74.2,   4.4845,  35.0854,2,  35.0840,2,    306.5,2,    305.9,2,     4.79,2,    11.33,2,     0.35,2,     0.78,2,    5.031,2,    2.615,2,    0.430,2,        -999,9,   2140.5,2,   2315.3,2,   4.4791
  316N20020530,    84,  1,     25,     25,2,20020617, 70.0042,  -4.9295, 3119,    104.4,   4.1117,  35.0788,2,  35.0819,2,    305.3,2,    303.3,2,     4.89,2,    12.21,2,     0.06,2,     0.80,2,    5.034,2,    2.612,2,    0.425,2,  1.84421644,2,   2146.6,2,   2313.1,2,   4.1043
  316N20020530,    84,  1,     24,     24,2,20020617, 70.0042,  -4.9295, 3119,    154.8,   3.6875,  35.0583,2,  35.0599,2,    307.9,2,    307.5,2,     4.89,2,    12.31,2,     0.02,2,     0.80,2, -999.000,9, -999.000,9, -999.000,9,        -999,9,   2146.4,2,   2312.4,2,   3.6770
  316N20020530,    84,  1,     23,     23,2,20020617, 70.0042,  -4.9295, 3119,    205.1,   3.4527,  35.0570,2,  35.0552,2,    309.5,2,    309.2,2,     4.79,2,    12.31,2,     0.01,2,     0.80,2,    5.219,2,    2.710,2,    0.444,2,  1.93207467,2,   -999.0,9,   -999.0,9,   3.4391
  316N20020530,    84,  1,     22,     22,2,20020617, 70.0042,  -4.9295, 3119,    265.4,   3.2089,  35.0431,2,  35.0414,2,    311.8,2,    311.1,2,     4.89,2,    12.21,2,     0.01,2,     0.80,2, -999.000,9, -999.000,9, -999.000,9,        -999,9,   2146.5,2,   2312.5,2,   3.1917
  316N20020530,    84,  1,     21,     21,2,20020617, 70.0042,  -4.9295, 3119,    326.0,   3.1214,  35.0518,2,  35.0399,2,    312.8,2,    312.0,2,     4.89,2,    12.41,2,     0.01,2,     0.81,2,    5.262,2,    2.679,2,    0.449,2,  1.89306442,2,   2147.0,2,   2311.3,2,   3.1004
  316N20020530,    84,  1,     20,     20,2,20020617, 70.0042,  -4.9295, 3119,    406.0,   2.2090,  34.9895,7,  34.9884,2,    313.9,2,    314.2,2,     5.18,2,    12.61,2,     0.01,2,     0.83,2,    5.391,2,    2.744,2,    0.452,2,  1.83458636,2,   -999.0,9,   -999.0,9,   2.1856
  316N20020530,    84,  1,     19,     19,2,20020617, 70.0042,  -4.9295, 3119,    506.7,   1.0802,  34.9131,2,  34.9197,2,    308.0,2,    309.0,2,     5.86,2,    13.49,2,     0.00,2,     0.89,2,    5.052,2,    2.510,2,    0.401,2,  1.57118888,2,   2157.4,2,   2301.9,2,   1.0553
  316N20020530,    84,  1,     18,     18,2,20020617, 70.0042,  -4.9295, 3119,    607.2,   0.3764,  34.8964,2,  34.8975,2,    305.5,2,    309.9,2,     6.35,2,    13.68,2,     0.00,2,     0.91,2,    4.661,2,    2.317,2,    0.369,2,  1.42482837,2,   -999.0,9,   -999.0,9,   0.3495
  316N20020530,    84,  1,     17,     17,2,20020617, 70.0042,  -4.9295, 3119,    708.0,  -0.0892,  34.8886,7,  34.8889,2,    304.9,2,    304.9,2,     7.04,2,    14.17,2,     0.00,2,     0.93,2,    4.163,2,    2.013,2,    0.293,2,  1.23941344,2,   2165.1,2,   2301.1,2,  -0.1184
  316N20020530,    84,  1,     16,     16,2,20020617, 70.0042,  -4.9295, 3119,    809.3,  -0.3216,  34.8897,2,  34.8905,2,    304.7,2,    304.3,2,     7.62,2,    14.17,2,     0.00,2,     0.94,2,    3.619,2,    1.737,2,    0.248,2,   1.4248358,2,   -999.0,9,   -999.0,9,  -0.3542
  316N20020530,    84,  1,     15,     15,2,20020617, 70.0042,  -4.9295, 3119,    909.3,  -0.4509,  34.8922,2,  34.8932,2,    303.2,2,    302.8,2,     8.01,2,    14.27,2,     0.00,2,     0.95,2,    3.196,2,    1.534,2,    0.214,2,   1.6785703,2,   2163.0,2,   2301.9,2,  -0.4874
  316N20020530,    84,  1,     14,     14,2,20020617, 70.0042,  -4.9295, 3119,    985.7,  -0.5241,  34.8943,2,  34.8956,2,    302.3,2,    303.1,2,     8.40,2,    14.27,2,     0.00,2,     0.95,2,    2.911,2,    1.390,2,    0.191,2,  1.89326778,2,   -999.0,9,   -999.0,9,  -0.5637
  316N20020530,    84,  1,     13,     13,2,20020617, 70.0042,  -4.9295, 3119,   1060.9,  -0.5702,  34.8977,2,  34.8992,2,    301.4,2,    301.0,2,     8.80,2,    14.46,2,     0.00,2,     0.96,2,    2.468,6,    1.143,6,    0.154,6,  1.62000829,2,   -999.0,9,   -999.0,9,  -0.6132
  316N20020530,    84,  1,     12,     12,2,20020617, 70.0042,  -4.9295, 3119,   1161.7,  -0.6393,  34.8996,2,  34.9013,2,    302.3,2,    301.1,2,     9.19,2,    14.56,2,     0.00,2,     0.96,2,    2.177,2,    1.030,2,    0.114,2,   1.4736197,2,   -999.0,9,   -999.0,9,  -0.6868
  316N20020530,    84,  1,     11,     11,2,20020617, 70.0042,  -4.9295, 3119,   1262.8,  -0.6920,  34.9018,2,  34.9037,2,    301.0,2,    301.1,2,     9.67,2,    14.56,2,     0.00,2,     0.97,2,    1.863,2,    0.908,2,    0.098,2,  1.13205019,2,   2158.5,2,   2301.1,2,  -0.7442
  316N20020530,    84,  1,     10,     10,2,20020617, 70.0042,  -4.9295, 3119,   1414.2,  -0.7421,  34.9054,2,  34.9047,2,    300.6,2,    300.8,2,    10.16,2,    14.66,2,     0.00,2,     0.98,2,    1.509,2,    0.733,2,    0.068,2, 0.761205599,2,   -999.0,9,   -999.0,9,  -0.8019
  316N20020530,    84,  1,      9,      9,2,20020617, 70.0042,  -4.9295, 3119,   1615.8,  -0.7966,  34.9070,7,  34.9073,2,    299.4,2,    299.1,2,    10.75,2,    14.76,2,     0.00,2,     0.99,2,    1.052,2,    0.519,2,    0.050,2, 0.302529845,2,   -999.0,9,   -999.0,9,  -0.8671
  316N20020530,    84,  1,      8,      8,2,20020617, 70.0042,  -4.9295, 3119,   1818.3,  -0.8346,  34.9087,2,  34.9073,2,    298.9,2,    299.0,2,    11.34,2,    14.95,2,     0.00,2,     0.99,2,    0.766,2,    0.396,2,    0.034,2, 0.156144436,2,   2158.9,2,   2304.6,2,  -0.9166
  316N20020530,    84,  1,      7,      7,2,20020617, 70.0042,  -4.9295, 3119,   2019.5,  -0.8554,  34.9090,7,  34.9095,2,    298.8,2,    299.7,2,    11.73,2,    15.05,2,     0.00,2,     1.00,2,    0.633,6,    0.328,6,    0.029,6, 0.136626158,2,   -999.0,9,   -999.0,9,  -0.9498
  316N20020530,    84,  1,      6,      6,2,20020617, 70.0042,  -4.9295, 3119,   2223.5,  -0.8601,  34.9092,2,  34.9087,2,    298.7,2,    299.3,2,    12.02,2,    15.05,2,     0.00,2,     1.00,2,    0.582,2,    0.319,2,    0.028,2, 0.107349188,2,   2158.6,2,   2305.8,2,  -0.9678
  316N20020530,    84,  1,      5,      5,2,20020617, 70.0042,  -4.9295, 3119,   2426.7,  -0.8599,  34.9091,2,  34.9089,2,    298.5,2,    299.9,2,    12.41,2,    15.15,2,     0.00,2,     1.00,2, -999.000,9, -999.000,9, -999.000,9,0.0975901562,2,   -999.0,9,   -999.0,9,  -0.9817
  316N20020530,    84,  1,      4,      4,2,20020617, 70.0042,  -4.9295, 3119,   2629.7,  -0.8523,  34.9100,2,  34.9080,2,    298.3,2,    298.4,2,    12.51,2,    15.25,2,     0.00,2,     1.00,2,    0.487,2,    0.275,2,    0.025,2,0.0780721773,2,   -999.0,9,   -999.0,9,  -0.9890
  316N20020530,    84,  1,      3,      3,2,20020617, 70.0042,  -4.9295, 3119,   2833.0,  -0.8421,  34.9101,2,  34.9080,2,    298.2,2,    298.4,2,    12.61,2,    15.25,2,     0.00,2,     1.01,2, -999.000,9, -999.000,9, -999.000,9,0.0878311994,2,   2158.8,2,   2305.0,2,  -0.9945
  316N20020530,    84,  1,      2,      2,2,20020617, 70.0042,  -4.9295, 3119,   3016.0,  -0.8332,  34.9105,2,  34.9082,2,    298.1,2,    298.0,2,    12.80,2,    15.34,2,     0.00,2,     1.01,2,    0.425,2,    0.240,2,    0.020,2,0.0975902071,2,   2159.1,2,   2307.8,2,  -1.0003
  316N20020530,    84,  1,      1,      1,2,20020617, 70.0042,  -4.9295, 3119,   3117.8,  -0.8271,  34.9100,2,  34.9094,2,    298.1,2,    297.9,2,    12.90,2,    15.34,2,     0.00,2,     1.01,2,    0.428,2,    0.242,2,    0.021,2, 0.126867156,2,   2162.0,2,   2306.0,2,  -1.0026