BOTTLE,20081218PRINUNIVRMK
EXPOCODE,STNNBR,CASTNO,SAMPNO,BTLNBR,BTLNBR_FLAG_W,DATE,LATITUDE,LONGITUDE,DEPTH,CTDPRS,CTDTMP,CTDSAL,CTDSAL_FLAG_W,SALNTY,SALNTY_FLAG_W,CTDOXY,CTDOXY_FLAG_W,OXYGEN,OXYGEN_FLAG_W,SILCAT,SILCAT_FLAG_W,NITRAT,NITRAT_FLAG_W,NITRIT,NITRIT_FLAG_W,PHSPHT,PHSPHT_FLAG_W,CFC-11,CFC-11_FLAG_W,CFC-12,CFC-12_FLAG_W,CFC113,CFC113_FLAG_W,SF6,SF6_FLAG_W,TCARBN,TCARBN_FLAG_W,ALKALI,ALKALI_FLAG_W,THETA
,,,,,,,,,METERS,DBARS,ITS-90,PSS-78,,PSS-78,,UMOL/KG,,UMOL/KG,,UMOL/KG,,UMOL/KG,,UMOL/KG,,UMOL/KG,,PMOL/KG,,PMOL/KG,,PMOL/KG,,FMOL/KG,,UMOL/KG,,UMOL/KG,,DEGC
  316N20020530,    24,  1,     35,     35,2,20020605, 75.0238,  -1.4167, 3734,      3.0,   0.6240,  34.8450,2,  34.8467,2,    361.7,2,    362.2,2,     3.42,2,     9.38,2,     0.05,2,     0.66,2,    6.442,2,    3.295,2,    0.571,2,        -999,9,   -999.0,9,   -999.0,9,   0.6239
  316N20020530,    24,  1,     36,     36,2,20020605, 75.0238,  -1.4167, 3734,      3.3,   0.6236,  34.8448,2,-999.0000,9,    361.7,2,   -999.0,9,  -999.00,9,  -999.00,9,  -999.00,9,  -999.00,9, -999.000,9, -999.000,9, -999.000,9,        -999,9,   -999.0,9,   -999.0,9,   0.6235
  316N20020530,    24,  1,     34,     34,2,20020605, 75.0238,  -1.4167, 3734,     37.0,  -0.3824,  34.8473,2,  34.8528,2,    367.0,2,    365.3,2,     3.81,2,     9.68,2,     0.04,2,     0.71,2, -999.000,9, -999.000,9, -999.000,9,        -999,9,   -999.0,9,   -999.0,9,  -0.3836
  316N20020530,    24,  1,     33,     33,2,20020605, 75.0238,  -1.4167, 3734,     57.2,  -0.4546,  34.8506,2,  34.8544,2,    362.4,2,    361.9,2,     3.81,2,    10.16,2,     0.04,2,     0.73,2,    6.333,6,    3.252,6,    0.586,6,  2.62528171,2,   -999.0,9,   -999.0,9,  -0.4564
  316N20020530,    24,  1,     32,     32,2,20020605, 75.0238,  -1.4167, 3734,     77.0,  -0.6140,  34.8541,2,  34.8576,2,    353.9,2,    357.1,2,     4.20,2,    10.75,2,     0.04,2,     0.77,2, -999.000,9, -999.000,9, -999.000,9,        -999,9,   -999.0,9,   -999.0,9,  -0.6164
  316N20020530,    24,  1,     31,     31,2,20020605, 75.0238,  -1.4167, 3734,    102.5,  -0.8428,  34.8596,2,  34.8627,2,    349.6,2,    348.7,2,     4.98,2,    11.73,2,     0.04,2,     0.83,2,    6.084,2,    3.107,2,    0.534,2,  2.90828668,2,   2158.3,2,   2295.2,2,  -0.8458
  316N20020530,    24,  1,     30,     30,2,20020605, 75.0238,  -1.4167, 3734,    127.2,  -0.8811,  34.8628,2,  34.8753,2,    346.1,2,    344.4,2,     5.57,2,    12.12,2,     0.04,2,     0.86,2, -999.000,9, -999.000,9, -999.000,9,        -999,9,   -999.0,9,   -999.0,9,  -0.8848
  316N20020530,    24,  1,     29,     29,2,20020605, 75.0238,  -1.4167, 3734,    167.7,  -0.8954,  34.8684,2,  34.8709,2,    339.5,2,    338.1,2,     6.16,2,    12.70,2,     0.04,2,     0.88,2,    5.640,2,    2.857,2,    0.482,2,  3.27912201,2,   2160.8,2,   2293.7,2,  -0.9003
  316N20020530,    24,  1,     28,     28,2,20020605, 75.0238,  -1.4167, 3734,    207.6,  -0.9027,  34.8708,2,  34.8729,2,    332.9,2,    335.1,2,     6.84,2,    12.90,2,     0.04,2,     0.89,2, -999.000,9, -999.000,9, -999.000,9,  3.48406195,2,   -999.0,9,   -999.0,9,  -0.9089
  316N20020530,    24,  1,     27,     27,2,20020605, 75.0238,  -1.4167, 3734,    268.1,  -0.9055,  34.8749,2,  34.8778,2,    325.7,2,    332.7,2,     6.74,2,    12.90,2,     0.02,2,     0.90,2,    5.151,2,    2.669,2,    0.436,2,  3.77682648,2,   2161.6,2,   2298.6,2,  -0.9136
  316N20020530,    24,  1,     26,     26,2,20020605, 75.0238,  -1.4167, 3734,    328.5,  -0.9081,  34.8758,2,  34.8792,2,    328.9,2,    330.6,2,     7.23,2,    12.90,2,     0.02,2,     0.90,2, -999.000,9, -999.000,9, -999.000,9,  3.94272948,2,   -999.0,9,   -999.0,9,  -0.9182
  316N20020530,    24,  1,     25,     25,2,20020605, 75.0238,  -1.4167, 3734,    408.9,  -0.9161,  34.8759,2,  34.8808,2,    328.2,2,   -999.0,9,     6.94,2,    13.00,2,     0.01,2,     0.90,2,    5.024,2,    2.543,2,    0.413,2,  4.06959464,2,   2161.8,2,   2293.3,2,  -0.9290
  316N20020530,    24,  1,     24,     24,2,20020605, 75.0238,  -1.4167, 3734,    509.6,  -0.8908,  34.8797,2,  34.8857,2,    330.3,2,    330.7,2,     6.84,2,    13.00,2,     0.01,2,     0.90,2, -999.000,9, -999.000,9, -999.000,9,   3.8841553,2,   -999.0,9,   -999.0,9,  -0.9075
  316N20020530,    24,  1,     23,     23,2,20020605, 75.0238,  -1.4167, 3734,    610.2,  -0.8940,  34.8802,2,  34.8831,2,    330.1,2,    330.3,2,     7.43,2,    13.00,2,     0.01,2,     0.90,2,    5.012,6,    2.563,6,    0.410,6,  3.87440361,2,   2165.9,2,   2287.0,2,  -0.9145
  316N20020530,    24,  1,     22,     22,2,20020605, 75.0238,  -1.4167, 3734,    710.7,  -0.9112,  34.8798,2,  34.8827,2,    330.3,2,    330.0,2,     7.53,2,    13.00,2,     0.01,2,     0.90,2, -999.000,9, -999.000,9, -999.000,9,        -999,9,   -999.0,9,   -999.0,9,  -0.9357
  316N20020530,    24,  1,     21,     21,2,20020605, 75.0238,  -1.4167, 3734,    811.6,  -0.8706,  34.8834,2,  34.8859,2,    329.4,2,    328.8,2,     7.62,2,    13.00,2,     0.01,2,     0.91,2,    4.727,2,    2.430,2,    0.403,2,   3.6694527,2,   2161.5,2,   2295.2,2,  -0.8996
  316N20020530,    24,  1,     20,     20,2,20020605, 75.0238,  -1.4167, 3734,    936.0,  -0.8868,  34.8830,2,  34.8847,2,    329.3,2,    327.4,2,     7.62,2,    13.10,2,     0.00,2,     0.91,2, -999.000,9, -999.000,9, -999.000,9,  3.65969679,2,   -999.0,9,   -999.0,9,  -0.9212
  316N20020530,    24,  1,     19,     19,2,20020605, 75.0238,  -1.4167, 3734,   1062.8,  -0.8947,  34.8829,2,  34.8857,2,    328.3,2,    328.9,2,     6.74,2,    13.00,2,     0.00,2,     0.91,2,    4.901,2,    2.474,2,    0.414,2,        -999,9,   2162.2,2,   2294.9,2,  -0.9349
  316N20020530,    24,  1,     18,     18,2,20020605, 75.0238,  -1.4167, 3734,   1163.0,  -0.8745,  34.8856,2,  34.8882,2,    327.1,2,    327.9,2,     6.94,2,    13.10,2,     0.00,2,     0.91,2, -999.000,9, -999.000,9, -999.000,9,   3.4449856,2,   -999.0,9,   -999.0,9,  -0.9198
  316N20020530,    24,  1,     17,     17,2,20020605, 75.0238,  -1.4167, 3734,   1265.0,  -0.8711,  34.8862,2,  34.8884,2,    325.4,2,    326.1,2,     7.82,2,    13.19,2,     0.00,2,     0.92,2,    4.548,2,    2.329,2,    0.387,2,  3.31811595,2,   2161.5,2,   2296.1,2,  -0.9215
  316N20020530,    24,  1,     16,     16,2,20020605, 75.0238,  -1.4167, 3734,   1365.4,  -0.8603,  34.8880,2,  34.8892,2,    322.8,2,    322.4,2,     8.01,2,    13.29,2,     0.00,2,     0.93,2,    4.127,2,    2.097,2,    0.328,2,  2.99606173,2,   2162.0,2,   2295.8,2,  -0.9161
  316N20020530,    24,  1,     15,     15,2,20020605, 75.0238,  -1.4167, 3734,   1465.9,  -0.8212,  34.8934,2,  34.8938,2,    319.8,2,    315.5,2,     8.50,2,    13.68,2,     0.00,2,     0.95,2,    3.358,2,    1.688,2,    0.257,2,   2.3519492,2,   2161.1,2,   2295.2,2,  -0.8829
  316N20020530,    24,  1,     14,     14,2,20020605, 75.0238,  -1.4167, 3734,   1567.3,  -0.7701,  34.9015,2,  34.9034,2,    310.6,2,    305.3,2,     9.77,2,    14.17,2,     0.00,2,     0.99,2,    2.140,2,    1.052,2,    0.153,2,  1.17108667,2,   2161.3,2,   2294.1,2,  -0.8381
  316N20020530,    24,  1,     13,     13,2,20020605, 75.0238,  -1.4167, 3734,   1667.9,  -0.7601,  34.9066,2,  34.9081,2,    302.8,2,    301.9,2,    10.26,2,    14.37,2,     0.00,2,     1.00,2,    1.671,2,    0.807,2,    0.110,2,   0.6831315,2,   2161.7,2,   2295.4,2,  -0.8341
  316N20020530,    24,  1,     12,     12,2,20020605, 75.0238,  -1.4167, 3734,   1768.3,  -0.7731,  34.9081,2,  34.9101,2,    300.4,2,    300.0,2,    10.65,2,    14.56,2,     0.00,2,     1.01,2,    1.296,2,    0.640,2,    0.081,2, 0.390360276,2,   2161.4,2,   2295.1,2,  -0.8530
  316N20020530,    24,  1,     11,     11,2,20020605, 75.0238,  -1.4167, 3734,   1919.7,  -0.8016,  34.9094,2,  34.9093,2,    298.8,2,    297.9,2,    11.04,2,    14.66,2,     0.00,2,     1.02,2,    1.000,2,    0.513,2,    0.052,2, 0.204939267,2,   2161.7,2,   2297.3,2,  -0.8904
  316N20020530,    24,  1,     10,     10,2,20020605, 75.0238,  -1.4167, 3734,   2122.9,  -0.8447,  34.9092,2,  34.9115,2,    298.9,2,    299.2,2,    11.34,2,    14.76,2,     0.00,2,     1.02,2,    0.786,2,    0.415,2,    0.038,2, 0.156143948,2,   -999.0,9,   -999.0,9,  -0.9460
  316N20020530,    24,  1,      9,      9,2,20020605, 75.0238,  -1.4167, 3734,   2324.7,  -0.8688,  34.9099,2,  34.9105,2,    299.5,2,    300.0,2,  -999.00,9,    14.76,2,     0.00,2,     1.02,2,    0.740,2,    0.392,2,    0.037,2, 0.107349044,2,   -999.0,9,   -999.0,9,  -0.9833
  316N20020530,    24,  1,      8,      8,2,20020605, 75.0238,  -1.4167, 3734,   2527.3,  -0.8879,  34.9094,2,  34.9105,2,    300.5,2,    300.9,2,    11.63,2,    14.76,2,     0.00,2,     1.02,2,    0.715,2,    0.379,2,    0.034,2,        -999,9,   2161.6,2,   2297.3,2,  -1.0164
  316N20020530,    24,  1,      7,      7,2,20020605, 75.0238,  -1.4167, 3734,   2730.6,  -0.8995,  34.9089,2,  34.9091,2,    301.1,2,    301.6,2,    11.63,2,    14.76,2,     0.00,2,     1.02,2,    0.693,2,    0.366,2,    0.041,2,0.0975901417,2,   -999.0,9,   -999.0,9,  -1.0428
  316N20020530,    24,  1,      6,      6,2,20020605, 75.0238,  -1.4167, 3734,   2934.6,  -0.9050,  34.9080,2,  34.9071,2,    301.8,2,   -999.0,9,    11.73,2,    14.85,2,     0.00,2,     1.02,2, -999.000,9, -999.000,9, -999.000,9, 0.117108344,2,   2163.2,2,   2297.8,2,  -1.0639
  316N20020530,    24,  1,      5,      5,2,20020605, 75.0238,  -1.4167, 3734,   3135.5,  -0.9049,  34.9069,2,  34.9089,2,    302.6,2,    302.4,2,    11.82,2,    14.85,2,     0.00,2,     1.02,2,    0.718,2,    0.388,2,    0.030,2, 0.175662281,2,   -999.0,9,   -999.0,9,  -1.0800
  316N20020530,    24,  1,      4,      4,2,20020605, 75.0238,  -1.4167, 3734,   3335.2,  -0.9059,  34.9056,2,  34.9056,2,    303.1,2,    303.2,2,    11.92,2,    14.85,2,     0.00,2,     1.02,2,    0.725,2,    0.407,2,    0.043,2, 0.195180792,2,   2162.3,2,   2293.8,2,  -1.0976
  316N20020530,    24,  1,      3,      3,2,20020605, 75.0238,  -1.4167, 3734,   3484.6,  -0.9035,  34.9050,2,  34.9040,2,    303.4,2,    303.6,2,    11.92,2,    14.85,2,     0.00,2,     1.02,2,    0.751,2,    0.399,2,    0.030,2, 0.185421973,2,   2161.2,2,   2295.4,2,  -1.1081
  316N20020530,    24,  1,      2,      2,2,20020605, 75.0238,  -1.4167, 3734,   3634.1,  -0.8955,  34.9050,2,  34.9032,2,    303.2,2,    303.3,2,    12.12,2,    14.85,2,     0.00,2,     1.02,2,    0.729,2,    0.390,2,    0.035,2, 0.224458312,2,   2163.0,2,   2297.1,2,  -1.1135
  316N20020530,    24,  1,      1,      1,2,20020605, 75.0238,  -1.4167, 3734,   3719.6,  -0.8879,  34.9047,2,  34.9036,2,    303.0,2,    303.1,2,    12.12,2,    14.85,2,     0.00,2,     1.02,2,    0.716,2,    0.387,2,    0.032,2, 0.214699191,2,   2161.8,2,   2297.7,2,  -1.1139