BOTTLE,20081218PRINUNIVRMK
EXPOCODE,STNNBR,CASTNO,SAMPNO,BTLNBR,BTLNBR_FLAG_W,DATE,LATITUDE,LONGITUDE,DEPTH,CTDPRS,CTDTMP,CTDSAL,CTDSAL_FLAG_W,SALNTY,SALNTY_FLAG_W,CTDOXY,CTDOXY_FLAG_W,OXYGEN,OXYGEN_FLAG_W,SILCAT,SILCAT_FLAG_W,NITRAT,NITRAT_FLAG_W,NITRIT,NITRIT_FLAG_W,PHSPHT,PHSPHT_FLAG_W,CFC-11,CFC-11_FLAG_W,CFC-12,CFC-12_FLAG_W,CFC113,CFC113_FLAG_W,SF6,SF6_FLAG_W,TCARBN,TCARBN_FLAG_W,ALKALI,ALKALI_FLAG_W,THETA
,,,,,,,,,METERS,DBARS,ITS-90,PSS-78,,PSS-78,,UMOL/KG,,UMOL/KG,,UMOL/KG,,UMOL/KG,,UMOL/KG,,UMOL/KG,,PMOL/KG,,PMOL/KG,,PMOL/KG,,FMOL/KG,,UMOL/KG,,UMOL/KG,,DEGC
  316N20020530,    79,  1,     31,     31,2,20020616, 70.0155,   3.2815, 3279,      3.0,   7.1813,  35.1227,2,  35.1222,2,    306.7,2,    310.3,2,     1.47,2,     6.94,2,     0.11,2,     0.47,2,    4.478,2,    2.399,2,    0.387,2,        -999,9,   2113.2,2,   2320.1,2,   7.1810
  316N20020530,    79,  1,     30,     30,2,20020616, 70.0155,   3.2815, 3279,     25.4,   7.0694,  35.1218,7,  35.1195,2,    311.3,2,    311.8,2,     1.07,2,     7.04,2,     0.11,2,     0.47,2, -999.000,9, -999.000,9, -999.000,9,        -999,9,   2114.6,2,   2318.5,2,   7.0670
  316N20020530,    79,  1,     29,     29,2,20020616, 70.0155,   3.2815, 3279,     50.4,   6.5573,  35.1202,2,  35.1205,2,    312.8,2,    314.0,2,     1.17,2,     7.62,2,     0.11,2,     0.52,2,    4.643,2,    2.482,2,    0.407,2,        -999,9,   -999.0,9,   -999.0,9,   6.5528
  316N20020530,    79,  1,     28,     28,2,20020616, 70.0155,   3.2815, 3279,     75.5,   5.2502,  35.1311,2,  35.1299,2,    303.8,2,    307.1,2,     2.15,2,     9.67,2,     0.16,2,     0.67,2, -999.000,9, -999.000,9, -999.000,9,        -999,9,   2133.7,2,   2317.8,2,   5.2442
  316N20020530,    79,  1,     27,     27,2,20020616, 70.0155,   3.2815, 3279,    105.8,   4.8826,  35.1389,2,  35.1381,2,    300.9,2,    301.8,2,     3.62,2,    11.24,2,     0.21,2,     0.77,2,    4.796,2,    2.527,2,    0.397,2,  1.84413929,2,   -999.0,9,   -999.0,9,   4.8745
  316N20020530,    79,  1,     26,     26,2,20020616, 70.0155,   3.2815, 3279,    155.7,   4.7345,  35.1443,2,  35.1448,2,    300.2,2,    300.2,2,     4.69,2,    12.31,2,     0.04,2,     0.81,2,    4.814,2,    2.520,2,    0.396,2,  1.83437279,2,   2145.6,2,   2315.6,2,   4.7226
  316N20020530,    79,  1,     25,     25,2,20020616, 70.0155,   3.2815, 3279,    205.8,   4.6903,  35.1458,2,  35.1464,2,    300.5,2,    299.4,2,     4.49,2,    12.31,2,     0.06,2,     0.80,2,    4.729,2,    2.499,2,    0.389,2,  1.82461331,2,   -999.0,9,   -999.0,9,   4.6746
  316N20020530,    79,  1,     24,     24,2,20020616, 70.0155,   3.2815, 3279,    306.2,   4.6782,  35.1470,2,  35.1474,2,    301.1,2,    300.2,2,     4.49,2,    12.31,2,     0.01,2,     0.80,2,    4.697,2,    2.481,2,    0.381,2,  1.82461196,2,   2145.0,2,   2314.2,2,   4.6547
  316N20020530,    79,  1,     23,     23,2,20020616, 70.0155,   3.2815, 3279,    406.9,   4.6791,  35.1459,2,  35.1472,2,    301.2,2,    300.5,2,     4.49,2,    12.21,2,     0.01,2,     0.80,2,    4.795,2,    2.511,2,    0.395,2,  1.83436951,2,   -999.0,9,   -999.0,9,   4.6475
  316N20020530,    79,  1,     22,     22,2,20020616, 70.0155,   3.2815, 3279,    507.3,   4.6832,  35.1462,2,  35.1464,2,    301.0,2,    301.0,2,     4.49,2,    12.21,2,     0.01,2,     0.80,2,    4.871,2,    2.515,2,    0.399,2,  1.82461331,2,   2143.2,2,   2313.4,2,   4.6435
  316N20020530,    79,  1,     21,     21,2,20020616, 70.0155,   3.2815, 3279,    607.5,   4.6883,  35.1467,2,  35.1462,2,    301.1,2,    300.5,2,     4.40,2,    12.21,2,     0.01,2,     0.80,2,    4.815,2,    2.572,2,    0.395,2,  1.82461358,2,   -999.0,9,   -999.0,9,   4.6402
  316N20020530,    79,  1,     20,     20,2,20020616, 70.0155,   3.2815, 3279,    708.4,   4.6913,  35.1459,2,  35.1466,2,    301.0,2,    301.8,2,     4.40,2,    12.21,2,     0.01,2,     0.80,2,    4.800,2,    2.532,2,    0.397,2,  1.82461304,2,   2142.4,2,   2315.2,2,   4.6347
  316N20020530,    79,  1,     19,     19,2,20020616, 70.0155,   3.2815, 3279,    809.6,   4.6875,  35.1450,2,  35.1464,2,    300.5,2,    301.4,2,     4.40,2,    12.21,2,     0.01,2,     0.80,2,    4.685,2,    2.521,2,    0.392,2,  1.78558415,2,   -999.0,9,   -999.0,9,   4.6222
  316N20020530,    79,  1,     18,     18,2,20020616, 70.0155,   3.2815, 3279,    910.5,   4.6453,  35.1402,2,  35.1404,2,    299.8,2,    299.9,2,     4.49,2,    12.31,2,     0.01,2,     0.80,2,    4.791,2,    2.528,2,    0.394,2,  1.78559213,2,   2143.2,2,   2314.0,2,   4.5715
  316N20020530,    79,  1,     17,     17,2,20020616, 70.0155,   3.2815, 3279,   1000.7,   4.4013,  35.1184,2,  35.1182,2,    299.2,2,    298.7,2,     4.79,2,    12.41,2,     0.01,2,     0.81,2,    4.860,6,    2.563,6,    0.402,6,  1.75634915,2,   -999.0,9,   -999.0,9,   4.3215
  316N20020530,    79,  1,     16,     16,2,20020616, 70.0155,   3.2815, 3279,   1060.4,   4.1863,  35.1057,2,  35.1060,2,    300.2,2,    300.2,2,     4.69,2,    12.51,2,     0.01,2,     0.82,2,    4.936,2,    2.568,2,    0.405,2,  1.73684993,2,   -999.0,9,   -999.0,9,   4.1030
  316N20020530,    79,  1,     15,     15,2,20020616, 70.0155,   3.2815, 3279,   1119.4,   3.5848,  35.0584,2,  35.0539,2,    301.0,2,    300.6,2,     4.98,2,    12.90,2,     0.00,2,     0.84,2,    5.047,2,    2.615,2,    0.410,2,  1.68812748,2,   -999.0,9,   -999.0,9,   3.5016
  316N20020530,    79,  1,     14,     14,2,20020616, 70.0155,   3.2815, 3279,   1283.7,   0.5703,  34.8987,2,  34.8993,2,    306.2,2,    306.1,2,     6.25,2,    13.97,2,     0.00,2,     0.94,2,    4.675,2,    2.234,2,    0.355,2,  1.37603104,2,   2160.3,2,   2298.4,2,   0.5039
  316N20020530,    79,  1,     13,     13,2,20020616, 70.0155,   3.2815, 3279,   1355.6,   0.0713,  34.8886,2,  34.8916,2,    305.5,2,    305.5,2,     6.84,2,    14.07,2,     0.00,2,     0.95,2,    4.190,2,    2.029,2,    0.307,2,  1.26868837,2,   -999.0,9,   -999.0,9,   0.0058
  316N20020530,    79,  1,     12,     12,2,20020616, 70.0155,   3.2815, 3279,   1427.1,  -0.1503,  34.8897,2,  34.8924,2,    304.8,2,    304.3,2,     7.13,2,    14.17,2,     0.00,2,     0.95,2,    3.749,2,    1.853,2,    0.274,2,  1.30772416,2,   -999.0,9,   -999.0,9,  -0.2176
  316N20020530,    79,  1,     11,     11,2,20020616, 70.0155,   3.2815, 3279,   1507.6,  -0.3537,  34.8916,2,  34.8920,2,    304.5,2,    304.9,2,     7.52,2,    14.27,2,     0.00,2,     0.96,2,    3.347,2,    1.636,2,    0.248,2,  1.64929439,2,   -999.0,9,   -999.0,9,  -0.4234
  316N20020530,    79,  1,     10,     10,2,20020616, 70.0155,   3.2815, 3279,   1619.8,  -0.4870,  34.8946,2,  34.8936,2,    302.6,2,    304.1,2,     8.40,2,    14.37,2,     0.00,2,     0.96,2,    2.845,2,    1.429,2,    0.201,2,  2.01038012,2,   -999.0,9,   -999.0,9,  -0.5617
  316N20020530,    79,  1,      9,      9,2,20020616, 70.0155,   3.2815, 3279,   1714.4,  -0.5439,  34.8986,2,  34.8993,2,    301.3,2,    301.3,2,     8.89,2,    14.56,2,     0.00,2,     0.97,2,    2.402,2,    1.173,2,    0.156,2,   1.6688036,2,   2163.2,2,   2299.2,2,  -0.6237
  316N20020530,    79,  1,      8,      8,2,20020616, 70.0155,   3.2815, 3279,   1862.9,  -0.6615,  34.9038,2,  34.9058,2,    299.6,2,    299.9,2,    10.07,2,    14.66,2,     0.00,2,     0.98,2,    1.631,2,    0.798,2,    0.092,2, 0.927108624,2,   -999.0,9,   -999.0,9,  -0.7488
  316N20020530,    79,  1,      7,      7,2,20020616, 70.0155,   3.2815, 3279,   2062.5,  -0.7470,  34.9081,2,  34.9081,2,    298.6,2,    298.9,2,    10.85,2,    14.95,2,     0.00,2,     1.00,2,    1.073,6,    0.532,6,    0.066,6, 0.283011622,2,   -999.0,9,   -999.0,9,  -0.8459
  316N20020530,    79,  1,      6,      6,2,20020616, 70.0155,   3.2815, 3279,   2267.5,  -0.7985,  34.9087,2,  34.9101,2,    298.5,2,    298.6,2,    11.43,2,    15.05,2,     0.00,2,     1.01,2,    0.762,2,    0.385,2,    0.040,2,  0.15614411,2,   2160.3,2,   2298.0,2,  -0.9103
  316N20020530,    79,  1,      5,      5,2,20020616, 70.0155,   3.2815, 3279,   2533.6,  -0.8250,  34.9095,7,  34.9097,2,    298.5,2,    299.0,2,    12.02,2,    15.05,2,     0.00,2,     1.01,2,    0.635,2,    0.330,2,    0.031,2, 0.107349108,2,   -999.0,9,   -999.0,9,  -0.9552
  316N20020530,    79,  1,      4,      4,2,20020616, 70.0155,   3.2815, 3279,   2795.1,  -0.8366,  34.9091,2,  34.9098,2,    298.3,2,    298.6,2,    12.12,2,    15.25,2,     0.00,2,     1.02,2,    0.508,2,    0.272,2,    0.025,2,0.0780720727,2,   2160.1,2,   2299.0,2,  -0.9862
  316N20020530,    79,  1,      3,      3,2,20020616, 70.0155,   3.2815, 3279,   3004.9,  -0.8319,  34.9095,2,  34.9100,2,    298.0,2,    298.1,2,    12.41,2,    15.34,2,     0.00,2,     1.02,2,    0.463,2,    0.240,2,    0.021,2,        -999,9,   2160.9,2,   2302.2,2,  -0.9981
  316N20020530,    79,  1,      2,      2,2,20020616, 70.0155,   3.2815, 3279,   3171.5,  -0.8269,  34.9096,2,  34.9098,2,    297.7,2,    297.8,2,    12.70,2,    15.34,2,     0.00,2,     1.02,2, -999.000,9, -999.000,9, -999.000,9,0.0878310818,2,   2159.7,2,   2304.2,2,  -1.0068
  316N20020530,    79,  1,      1,      1,2,20020616, 70.0155,   3.2815, 3279,   3276.4,  -0.8223,  34.9093,2,  34.9089,2,    298.1,2,    297.5,2,    12.80,2,    15.34,2,     0.00,2,     1.03,2,    0.436,2,    0.228,2,    0.025,2,0.0683131094,2,   2161.6,2,   2306.6,2,  -1.0111
  316N20020530,    80,  1,     32,     32,2,20020616, 70.0053,   1.3322, 3285,      2.4,   8.1318,  35.1171,7,  35.1171,2,    303.8,2,    308.4,2,     0.68,2,     4.30,2,     0.08,2,     0.36,2,    4.400,2,    2.334,2,    0.424,2,  1.66853306,2,   2094.3,2,   2317.8,2,   8.1316
  316N20020530,    80,  1,     31,     31,2,20020616, 70.0053,   1.3322, 3285,     19.7,   8.0834,  35.1128,2,  35.1252,2,    306.2,2,    305.9,2,     1.56,2,     5.57,2,     0.10,2,     0.43,2, -999.000,9, -999.000,9, -999.000,9,        -999,9,   -999.0,9,   -999.0,9,   8.0814
  316N20020530,    80,  1,     30,     30,2,20020616, 70.0053,   1.3322, 3285,     49.9,   6.7224,  35.1706,2,  35.1692,2,    284.9,2,    284.6,2,     5.08,2,    12.31,2,     0.09,2,     0.80,2,    4.281,2,    2.303,2,    0.371,2,  1.62943985,2,   2138.7,2,   2314.9,2,   6.7179
  316N20020530,    80,  1,     29,     29,2,20020616, 70.0053,   1.3322, 3285,     79.9,   6.2472,  35.1422,2,  35.1409,2,    302.5,2,    287.8,2,     5.28,2,    12.51,2,     0.08,2,     0.81,2, -999.000,9, -999.000,9, -999.000,9,        -999,9,   -999.0,9,   -999.0,9,   6.2402
  316N20020530,    80,  1,     28,     28,2,20020616, 70.0053,   1.3322, 3285,    106.1,   5.8373,  35.1183,2,  35.1164,2,    302.1,2,    290.0,2,     5.28,2,    12.51,2,     0.03,2,     0.82,2,    4.385,2,    2.354,2,    0.391,2,  1.70756396,2,   2141.1,2,   2316.2,2,   5.8284
  316N20020530,    80,  1,     27,     27,2,20020616, 70.0053,   1.3322, 3285,    140.2,   5.3484,  35.0958,2,  35.0951,2,    299.5,2,    293.7,2,     5.28,2,    12.51,2,     0.02,2,     0.81,2,    4.609,2,    2.454,2,    0.406,2,        -999,9,   -999.0,9,   -999.0,9,   5.3371
  316N20020530,    80,  1,     26,     26,2,20020616, 70.0053,   1.3322, 3285,    175.5,   5.1350,  35.1088,2,  35.1091,2,    295.8,2,    296.7,2,     5.18,2,    12.12,2,     0.06,2,     0.79,2,    4.622,2,    2.445,2,    0.414,2,  1.76611861,2,   2143.2,2,   2312.2,2,   5.1211
  316N20020530,    80,  1,     25,     25,2,20020616, 70.0053,   1.3322, 3285,    245.3,   4.8034,  35.1166,2,  35.1166,2,    297.8,2,    298.2,2,     5.18,2,    12.31,2,     0.01,2,     0.80,2,    4.713,2,    2.476,2,    0.418,2,  1.75635124,2,   -999.0,9,   -999.0,9,   4.7844
  316N20020530,    80,  1,     24,     24,2,20020616, 70.0053,   1.3322, 3285,    305.4,   4.6605,  35.1248,2,  35.1248,2,    299.6,2,    299.1,2,     5.18,2,    12.31,2,     0.01,2,     0.80,2,    4.761,2,    2.515,2,    0.413,2,  1.76609797,2,   2143.3,2,   2314.2,2,   4.6371
  316N20020530,    80,  1,     23,     23,2,20020616, 70.0053,   1.3322, 3285,    386.3,   4.4713,  35.1202,2,  35.1199,2,    300.6,2,    299.8,2,     5.28,2,    12.31,2,     0.01,2,     0.80,2,    4.826,2,    2.554,2,    0.423,2,  1.73683196,2,   2145.1,2,   2315.2,2,   4.4420
  316N20020530,    80,  1,     22,     22,2,20020616, 70.0053,   1.3322, 3285,    446.2,   4.3254,  35.1155,2,  35.1142,2,    302.2,2,    302.0,2,     5.28,2,    12.31,2,     0.01,2,     0.80,2,    4.777,2,    2.532,2,    0.411,2,  1.77586943,2,   -999.0,9,   -999.0,9,   4.2919
  316N20020530,    80,  1,     21,     21,2,20020616, 70.0053,   1.3322, 3285,    546.9,   3.9332,  35.0952,2,  35.0963,2,    304.7,2,    303.8,2,     5.37,2,    12.41,2,     0.01,2,     0.81,2,    4.964,2,    2.614,2,    0.430,2,  1.74662013,2,   -999.0,9,   -999.0,9,   3.8934
  316N20020530,    80,  1,     20,     20,2,20020616, 70.0053,   1.3322, 3285,    657.9,   2.8278,  35.0141,2,  35.0141,2,    305.8,2,    305.5,2,     5.67,2,    12.90,2,     0.00,2,     0.85,2,    5.108,2,    2.643,2,    0.441,2,  1.69793575,2,   2151.4,2,   2306.4,2,   2.7852
  316N20020530,    80,  1,     19,     19,2,20020616, 70.0053,   1.3322, 3285,    759.0,   1.5604,  34.9420,2,  34.9399,2,    305.1,2,    306.8,2,     6.25,2,    13.49,2,     0.00,2,     0.89,2,    5.054,2,    2.533,2,    0.419,2,  1.50285372,2,   -999.0,9,   -999.0,9,   1.5184
  316N20020530,    80,  1,     18,     18,2,20020616, 70.0053,   1.3322, 3285,    828.8,   0.7720,  34.9078,2,  34.9077,2,    317.3,2,    312.1,4,     6.45,4,    13.29,4,     0.00,4,     0.88,4,    5.029,2,    2.494,2,    0.417,2,   1.5224078,2,   2158.7,2,   2300.8,2,   0.7310
  316N20020530,    80,  1,     17,     17,2,20020616, 70.0053,   1.3322, 3285,    899.3,   0.2914,  34.8965,2,  34.8969,2,    305.1,2,    304.6,2,     7.23,2,    13.97,2,     0.00,2,     0.93,2,    4.236,2,    2.073,2,    0.356,2,  1.19061054,2,   -999.0,9,   -999.0,9,   0.2499
  316N20020530,    80,  1,     16,     16,2,20020616, 70.0053,   1.3322, 3285,   1009.8,  -0.1059,  34.8923,2,  34.8935,2,    304.4,2,    306.2,2,     7.62,2,    13.97,2,     0.00,2,     0.93,2,    3.847,2,    1.891,2,    0.303,2,  1.24916832,2,   2161.7,2,   2294.9,2,  -0.1502
  316N20020530,    80,  1,     15,     15,2,20020616, 70.0053,   1.3322, 3285,   1108.8,  -0.3225,  34.8921,2,  34.8923,2,    305.2,2,    306.2,2,     8.01,2,    14.07,2,     0.00,2,     0.94,2,    3.631,6,    1.782,6,    0.287,6,  1.57122093,2,   -999.0,9,   -999.0,9,  -0.3701
  316N20020530,    80,  1,     14,     14,2,20020616, 70.0053,   1.3322, 3285,   1207.8,  -0.4490,  34.8934,2,  34.8937,2,    304.4,2,    304.4,2,     8.50,2,    14.27,2,     0.00,2,     0.95,2,    3.215,2,    1.581,2,    0.236,2,  1.73712444,2,   -999.0,9,   -999.0,9,  -0.5007
  316N20020530,    80,  1,     13,     13,2,20020616, 70.0053,   1.3322, 3285,   1306.3,  -0.5466,  34.8968,2,  34.8978,2,    303.8,2,    302.8,2,     9.09,2,    14.37,2,     0.00,2,     0.96,2,    2.693,2,    1.305,2,    0.194,2,   1.8347101,2,   -999.0,9,   -999.0,9,  -0.6026
  316N20020530,    80,  1,     12,     12,2,20020616, 70.0053,   1.3322, 3285,   1406.4,  -0.5967,  34.8986,2,  34.8994,2,    302.3,2,    302.2,2,     9.48,2,    14.46,2,     0.00,2,     0.96,2,    2.434,2,    1.156,2,    0.178,2,   1.7761534,2,   -999.0,9,   -999.0,9,  -0.6577
  316N20020530,    80,  1,     11,     11,2,20020616, 70.0053,   1.3322, 3285,   1506.4,  -0.6428,  34.9025,2,  34.9030,2,    300.5,2,    300.5,2,     9.97,2,    14.56,2,     0.00,2,     0.97,2,    2.025,2,    0.964,2,    0.132,2,  1.20036419,2,   2159.1,2,   2295.5,2,  -0.7089
  316N20020530,    80,  1,     10,     10,2,20020616, 70.0053,   1.3322, 3285,   1607.2,  -0.6825,  34.9041,2,  34.9049,2,    299.3,2,    299.2,2,    10.36,2,    14.66,2,     0.00,2,     0.98,2,    1.700,2,    0.797,2,    0.113,2, 0.692892172,2,   -999.0,9,   -999.0,9,  -0.7540
  316N20020530,    80,  1,      9,      9,2,20020616, 70.0053,   1.3322, 3285,   1809.5,  -0.7418,  34.9086,2,  34.9083,2,    298.0,2,    298.3,2,    11.14,2,    14.85,2,     0.00,2,     0.99,2,    1.156,6,    0.560,6,    0.071,6, 0.312288639,2,   -999.0,9,   -999.0,9,  -0.8247
  316N20020530,    80,  1,      8,      8,2,20020616, 70.0053,   1.3322, 3285,   2012.8,  -0.7943,  34.9090,2,  34.9094,2,    298.0,2,    298.1,2,    11.34,2,    14.95,2,     0.00,2,     1.00,2, -999.000,9, -999.000,9, -999.000,9,  0.14638518,2,   2156.6,2,   2303.0,2,  -0.8892
  316N20020530,    80,  1,      7,      7,2,20020616, 70.0053,   1.3322, 3285,   2215.8,  -0.8221,  34.9100,2,  34.9094,2,    298.3,2,    298.3,2,    11.43,2,    15.05,2,     0.00,2,     1.00,2,    1.179,2,    0.556,2,    0.063,2, 0.156144192,2,   -999.0,9,   -999.0,9,  -0.9300
  316N20020530,    80,  1,      6,      6,2,20020616, 70.0053,   1.3322, 3285,   2419.8,  -0.8391,  34.9104,2,  34.9096,2,    298.6,2,    298.4,2,    11.82,2,    15.05,2,     0.00,2,     1.00,2, -999.000,9, -999.000,9, -999.000,9, 0.126867137,2,   2156.0,2,   2298.9,2,  -0.9608
  316N20020530,    80,  1,      5,      5,2,20020616, 70.0053,   1.3322, 3285,   2624.4,  -0.8414,  34.9105,2,  34.9106,2,    298.6,2,    298.5,2,    12.31,2,    15.15,2,     0.00,2,     1.00,2,    0.575,2,    0.316,2,    0.029,2,0.0780720262,2,   -999.0,9,   -999.0,9,  -0.9780
  316N20020530,    80,  1,      4,      4,2,20020616, 70.0053,   1.3322, 3285,   2828.9,  -0.8371,  34.9104,2,  34.9100,2,    298.1,2,    297.9,2,    12.70,2,    15.25,2,     0.00,2,     1.01,2, -999.000,9, -999.000,9, -999.000,9,0.0780720611,2,   2156.5,2,   2299.4,2,  -0.9893
  316N20020530,    80,  1,      3,      3,2,20020616, 70.0053,   1.3322, 3285,   3033.4,  -0.8314,  34.9103,2,  34.9096,2,    297.5,2,    297.7,2,    13.39,2,    15.34,2,     0.00,2,     1.01,2,    0.443,2,    0.244,2,    0.026,2, 0.107349116,2,   -999.0,9,   -999.0,9,  -0.9999
  316N20020530,    80,  1,      2,      2,2,20020616, 70.0053,   1.3322, 3285,   3176.1,  -0.8231,  34.9108,2,  34.9096,2,    297.2,2,    297.3,2,    13.39,2,    15.34,2,     0.00,2,     1.02,2, -999.000,9, -999.000,9, -999.000,9,0.0585540632,2,   2158.3,2,   2300.0,2,  -1.0035
  316N20020530,    80,  1,      1,      1,2,20020616, 70.0053,   1.3322, 3285,   3278.6,  -0.8151,  34.9104,2,  34.9096,2,    297.1,2,    297.2,2,    13.49,2,    15.34,2,     0.00,2,     1.02,2,    0.416,2,    0.222,2,    0.018,2,0.0780720843,2,   2157.4,2,   2302.2,2,  -1.0043