BOTTLE,20081218PRINUNIVRMK
EXPOCODE,STNNBR,CASTNO,SAMPNO,BTLNBR,BTLNBR_FLAG_W,DATE,LATITUDE,LONGITUDE,DEPTH,CTDPRS,CTDTMP,CTDSAL,CTDSAL_FLAG_W,SALNTY,SALNTY_FLAG_W,CTDOXY,CTDOXY_FLAG_W,OXYGEN,OXYGEN_FLAG_W,SILCAT,SILCAT_FLAG_W,NITRAT,NITRAT_FLAG_W,NITRIT,NITRIT_FLAG_W,PHSPHT,PHSPHT_FLAG_W,CFC-11,CFC-11_FLAG_W,CFC-12,CFC-12_FLAG_W,CFC113,CFC113_FLAG_W,SF6,SF6_FLAG_W,TCARBN,TCARBN_FLAG_W,ALKALI,ALKALI_FLAG_W,THETA
,,,,,,,,,METERS,DBARS,ITS-90,PSS-78,,PSS-78,,UMOL/KG,,UMOL/KG,,UMOL/KG,,UMOL/KG,,UMOL/KG,,UMOL/KG,,PMOL/KG,,PMOL/KG,,PMOL/KG,,FMOL/KG,,UMOL/KG,,UMOL/KG,,DEGC
  316N20020530,    35,  1,     29,     29,2,20020607, 78.7410,   5.4367, 2495,      3.0,   2.3391,  34.6673,2,  34.6569,2,    382.1,2,    384.6,2,     2.25,2,     1.27,2,     0.06,2,     0.24,2,    5.569,6,    3.026,6,    0.504,6,  1.96193016,2,   -999.0,9,   2304.6,2,   2.3389
  316N20020530,    35,  1,     28,     28,2,20020607, 78.7410,   5.4367, 2495,     25.0,   2.9133,  34.8231,2,  34.8247,2,    348.9,2,    346.8,2,     2.44,2,     5.57,2,     0.08,2,     0.47,2, -999.000,9, -999.000,9, -999.000,9,        -999,9,   -999.0,9,   -999.0,9,   2.9118
  316N20020530,    35,  1,     27,     27,2,20020607, 78.7410,   5.4367, 2495,     50.0,   2.5267,  34.8735,2,  34.8806,2,    326.1,2,    322.4,2,     3.13,2,     8.89,2,     0.08,2,     0.67,2,    4.937,2,    2.695,2,    0.426,2,  1.76641904,2,   2121.6,2,   2308.1,2,   2.5238
  316N20020530,    35,  1,     26,     26,2,20020607, 78.7410,   5.4367, 2495,     75.5,   3.2017,  34.9858,2,  34.9817,2,    312.5,2,    310.9,2,     4.30,2,    10.85,2,     0.14,2,     0.76,2,    4.861,2,    2.653,2,    0.411,2,        -999,9,   -999.0,9,   -999.0,9,   3.1969
  316N20020530,    35,  1,     25,     25,2,20020607, 78.7410,   5.4367, 2495,    100.5,   3.1381,  35.0344,2,  35.0351,2,    304.6,2,    308.6,2,     4.79,2,    11.73,2,     0.13,2,     0.79,2,    4.988,2,    2.653,2,    0.433,2,  1.81500639,2,   2151.8,2,   2309.5,2,   3.1318
  316N20020530,    35,  1,     24,     24,2,20020607, 78.7410,   5.4367, 2495,    130.7,   3.0576,  35.0409,2,  35.0402,2,    315.3,2,    311.9,2,     4.89,2,    11.53,2,     0.15,2,     0.79,2, -999.000,9, -999.000,9, -999.000,9,        -999,9,   -999.0,9,   -999.0,9,   3.0494
  316N20020530,    35,  1,     23,     23,2,20020607, 78.7410,   5.4367, 2495,    160.8,   2.9230,  35.0504,2,  35.0496,2,    320.3,2,    315.7,2,     4.98,2,    11.33,2,     0.14,2,     0.78,2,    4.998,2,    2.700,2,    0.431,2,  1.84426078,2,   2143.0,2,   2308.0,2,   2.9131
  316N20020530,    35,  1,     22,     22,2,20020607, 78.7410,   5.4367, 2495,    206.0,   2.5838,  35.0322,2,  35.0381,2,    316.9,2,    316.8,2,     5.28,2,    11.73,2,     0.12,2,     0.80,2,    5.008,2,    2.711,2,    0.438,2,        -999,9,   -999.0,9,   -999.0,9,   2.5716
  316N20020530,    35,  1,     21,     21,2,20020607, 78.7410,   5.4367, 2495,    256.5,   2.2966,  35.0355,2,  35.0324,2,    319.2,2,    318.1,2,     4.98,2,    11.92,2,     0.09,2,     0.81,2,    5.082,2,    2.749,2,    0.431,2,  1.86380063,2,   2141.3,2,   2307.2,2,   2.2819
  316N20020530,    35,  1,     20,     20,2,20020607, 78.7410,   5.4367, 2495,    326.1,   2.0102,  35.0216,2,  35.0227,2,    311.7,2,    313.8,2,     5.28,2,    12.21,2,     0.03,2,     0.83,2,    5.008,2,    2.646,2,    0.431,2,        -999,9,   2149.0,2,   2302.8,2,   1.9921
  316N20020530,    35,  1,     19,     19,2,20020607, 78.7410,   5.4367, 2495,    397.1,   1.4627,  34.9931,2,  34.9910,2,    310.6,2,    312.2,2,     5.86,2,    12.61,2,     0.01,2,     0.86,2, -999.000,9, -999.000,9, -999.000,9,  1.61989759,2,   -999.0,9,   -999.0,9,   1.4422
  316N20020530,    35,  1,     18,     18,2,20020607, 78.7410,   5.4367, 2495,    457.5,   0.7644,  34.9536,2,  34.9599,2,    308.9,2,    312.0,2,     6.35,2,    12.90,2,     0.01,2,     0.88,2,    4.518,2,    2.423,2,    0.377,2,  1.62969374,2,   2152.5,2,   2302.9,2,   0.7432
  316N20020530,    35,  1,     17,     17,2,20020607, 78.7410,   5.4367, 2495,    508.0,   0.3683,  34.9373,2,  34.9365,2,    322.5,2,    316.2,2,     6.25,2,    12.80,2,     0.02,2,     0.87,2,    4.216,2,    2.244,2,    0.339,2,  1.82489843,2,   2147.2,2,   2299.9,2,   0.3463
  316N20020530,    35,  1,     16,     16,2,20020607, 78.7410,   5.4367, 2495,    618.5,   0.0291,  34.9232,2,  34.9278,2,    321.5,2,    316.6,2,     6.74,2,    13.00,2,     0.01,2,     0.89,2,    4.144,2,    2.156,2,    0.334,2,   1.7565981,2,   -999.0,9,   -999.0,9,   0.0034
  316N20020530,    35,  1,     15,     15,2,20020607, 78.7410,   5.4367, 2495,    709.1,  -0.0767,  34.9248,2,  34.9258,2,    327.0,2,    324.7,2,     6.55,2,    12.90,2,     0.01,2,     0.88,2,    4.840,2,    2.513,2,    0.398,2,     2.73249,2,   2148.4,2,   2296.0,2,  -0.1061
  316N20020530,    35,  1,     14,     14,2,20020607, 78.7410,   5.4367, 2495,    809.6,  -0.3045,  34.9131,2,  34.9161,2,    324.6,2,    320.8,2,     7.04,2,    13.19,2,     0.00,2,     0.90,2,    4.318,2,    2.253,2,    0.360,2,  2.69347388,2,   -999.0,9,   -999.0,9,  -0.3373
  316N20020530,    35,  1,     13,     13,2,20020607, 78.7410,   5.4367, 2495,    910.4,  -0.5422,  34.9006,2,  34.9000,2,    316.5,2,    315.4,2,     7.72,2,    13.58,2,     0.00,2,     0.93,2,    3.756,2,    1.935,2,    0.293,2,  3.13266477,2,   2148.1,2,   2299.9,2,  -0.5781
  316N20020530,    35,  1,     12,     12,2,20020607, 78.7410,   5.4367, 2495,   1010.8,  -0.6694,  34.8959,2,  34.8958,2,    308.2,2,    312.0,2,     8.31,2,    13.68,2,     0.00,2,     0.93,2,    3.205,6,    1.630,6,    0.244,6,  3.24978389,2,   -999.0,9,   -999.0,9,  -0.7091
  316N20020530,    35,  1,     11,     11,2,20020607, 78.7410,   5.4367, 2495,   1111.6,  -0.7262,  34.8981,2,  34.8981,2,    308.8,2,    308.9,2,     8.89,2,    13.88,2,     0.00,2,     0.96,2,    2.641,2,    1.376,2,    0.190,2,  2.56664174,2,   -999.0,9,   -999.0,9,  -0.7703
  316N20020530,    35,  1,     10,     10,2,20020607, 78.7410,   5.4367, 2495,   1211.7,  -0.6711,  34.9082,2,  34.9091,2,    303.7,2,    302.8,2,     9.48,2,    13.97,2,     0.00,2,     0.96,2, -999.000,9, -999.000,9, -999.000,9,  1.35650297,2,   -999.0,9,   -999.0,9,  -0.7208
  316N20020530,    35,  1,      9,      9,2,20020607, 78.7410,   5.4367, 2495,   1337.6,  -0.7567,  34.9066,2,  34.9092,2,    299.7,2,    301.3,2,    10.07,2,    14.37,2,     0.00,2,     0.98,2,    1.640,2,    0.821,2,    0.104,2, 0.956383317,2,   2147.8,2,   2299.9,2,  -0.8122
  316N20020530,    35,  1,      8,      8,2,20020607, 78.7410,   5.4367, 2495,   1463.8,  -0.7263,  34.9171,2,-999.0000,9,    298.0,2,    298.3,2,    10.26,2,    14.37,2,     0.00,2,     0.99,2, -999.000,9, -999.000,9, -999.000,9,  0.35131875,2,   -999.0,9,   -999.0,9,  -0.7891
  316N20020530,    35,  1,      7,      7,2,20020607, 78.7410,   5.4367, 2495,   1615.6,  -0.7744,  34.9163,2,  34.9151,2,    297.1,2,    298.3,2,    10.55,2,    14.56,2,     0.00,2,     1.00,2,    0.739,2,    0.390,2,    0.046,2, 0.214697353,2,   2155.3,2,   2301.0,2,  -0.8452
  316N20020530,    35,  1,      6,      6,2,20020607, 78.7410,   5.4367, 2495,   1766.9,  -0.8407,  34.9124,2,  34.9123,2,    296.8,2,    297.8,2,    11.14,2,    14.76,2,     0.00,2,     1.02,2, -999.000,9, -999.000,9, -999.000,9, 0.195179818,2,   -999.0,9,   -999.0,9,  -0.9196
  316N20020530,    35,  1,      5,      5,2,20020607, 78.7410,   5.4367, 2495,   1918.7,  -0.8446,  34.9148,2,  34.9189,2,    297.4,2,    298.2,2,    11.34,2,    14.85,2,     0.00,2,     1.02,2,    0.638,2,    0.343,2,    0.033,2, 0.126866259,2,   2157.8,2,   2301.0,2,  -0.9328
  316N20020530,    35,  1,      4,      4,2,20020607, 78.7410,   5.4367, 2495,   2069.7,  -0.8222,  34.9209,2,  34.9165,2,    298.7,2,    298.7,2,    11.14,2,    14.76,2,     0.00,2,     1.02,2,    0.485,2,    0.257,2,    0.028,2, 0.107348565,2,   -999.0,9,   -999.0,9,  -0.9204
  316N20020530,    35,  1,      3,      3,2,20020607, 78.7410,   5.4367, 2495,   2221.7,  -0.8214,  34.9234,2,  34.9223,2,    299.0,2,    298.8,2,    11.24,2,    14.66,2,     0.00,2,     1.01,2,    0.405,2,    0.216,2,    0.024,2, 0.117107019,2,   2160.0,2,   2299.5,2,  -0.9298
  316N20020530,    35,  1,      2,      2,2,20020607, 78.7410,   5.4367, 2495,   2373.4,  -0.8130,  34.9262,2,  34.9241,2,    299.1,2,    298.9,2,    11.34,2,    14.56,2,     0.00,2,     1.01,3,    0.514,2,    0.301,2,    0.042,2, 0.136624673,2,   -999.0,9,   -999.0,9,  -0.9320
  316N20020530,    35,  1,      1,      1,2,20020607, 78.7410,   5.4367, 2495,   2464.1,  -0.7805,  34.9302,2,  34.9293,2,    299.3,2,    298.3,2,    11.14,2,    14.56,2,     0.00,2,     1.01,2,    0.507,2,    0.279,2,    0.037,2, 0.136624144,2,   2148.3,2,   2307.3,2,  -0.9066
  316N20020530,    36,  1,     27,     27,2,20020608, 78.7590,   6.5112, 1898,      2.7,   3.1229,  34.8196,2,  34.8240,2,    356.3,2,    357.6,2,     3.23,2,     4.20,2,     0.07,2,     0.41,2, -999.000,9, -999.000,9, -999.000,9,  1.99096501,2,   2085.7,2,   2308.9,2,   3.1227
  316N20020530,    36,  1,     26,     26,2,20020608, 78.7590,   6.5112, 1898,     18.5,   3.8805,  35.0134,2,  35.0014,2,    352.9,2,    338.3,2,     3.42,2,     6.84,2,     0.08,2,     0.54,2, -999.000,9, -999.000,9, -999.000,9,        -999,9,   -999.0,9,   -999.0,9,   3.8792
  316N20020530,    36,  1,     25,     25,2,20020608, 78.7590,   6.5112, 1898,     39.1,   2.3481,  35.0224,2,  35.0223,2,    332.5,2,    331.4,2,     4.69,2,     9.97,2,     0.07,2,     0.71,2, -999.000,9, -999.000,9, -999.000,9,        -999,9,   -999.0,9,   -999.0,9,   2.3459
  316N20020530,    36,  1,     24,     24,2,20020608, 78.7590,   6.5112, 1898,     69.2,   2.1299,  35.0377,2,  35.0353,2,    324.9,2,    325.8,2,     4.89,2,    11.14,2,     0.08,2,     0.74,2,    5.619,2,    2.917,2,    0.491,2,   1.8833128,2,   2143.4,2,   2307.5,2,   2.1261
  316N20020530,    36,  1,     23,     23,2,20020608, 78.7590,   6.5112, 1898,     69.3,   2.1323,  35.0368,2,  35.0357,2,    324.9,2,    327.6,2,     4.98,2,    11.14,2,     0.08,2,     0.76,2, -999.000,9, -999.000,9, -999.000,9,        -999,9,   -999.0,9,   -999.0,9,   2.1285
  316N20020530,    36,  1,     22,     22,2,20020608, 78.7590,   6.5112, 1898,     82.1,   2.0388,  35.0333,2,  35.0333,2,    326.0,2,    324.6,2,     4.98,2,    11.34,2,     0.08,2,     0.79,2,    5.531,2,    2.889,2,    0.485,2,  1.87355749,2,   2144.2,2,   2307.0,2,   2.0344
  316N20020530,    36,  1,     21,     21,2,20020608, 78.7590,   6.5112, 1898,    124.5,   1.7220,  35.0130,2,  35.0088,2,    325.7,2,    319.7,2,     5.18,2,    12.02,2,     0.05,2,     0.83,2, -999.000,9, -999.000,9, -999.000,9,        -999,9,   -999.0,9,   -999.0,9,   1.7156
  316N20020530,    36,  1,     20,     20,2,20020608, 78.7590,   6.5112, 1898,    175.5,   1.4248,  34.9992,2,  34.9988,2,    322.0,2,    322.4,2,     5.28,2,    12.12,2,     0.05,2,     0.84,2,    5.382,2,    2.808,2,    0.447,2,  1.78578035,2,   2147.7,2,   2304.5,2,   1.4161
  316N20020530,    36,  1,     19,     19,2,20020608, 78.7590,   6.5112, 1898,    224.9,   1.0350,  34.9785,2,  34.9770,2,    322.6,2,    323.3,2,     5.47,2,    12.22,2,     0.04,2,     0.85,2, -999.000,9, -999.000,9, -999.000,9,        -999,9,   -999.0,9,   -999.0,9,   1.0245
  316N20020530,    36,  1,     18,     18,2,20020608, 78.7590,   6.5112, 1898,    275.2,   0.6538,  34.9582,2,  34.9521,2,    324.5,2,    320.7,2,     5.77,2,    12.61,2,     0.03,2,     0.87,2,    5.011,2,    2.573,2,    0.402,2,   1.6589793,2,   2152.1,2,   2300.8,2,   0.6418
  316N20020530,    36,  1,     17,     17,2,20020608, 78.7590,   6.5112, 1898,    355.9,   0.2892,  34.9380,2,  34.9374,2,    317.0,2,    319.7,2,     6.06,2,    12.90,2,     0.02,2,     0.90,2,    4.841,2,    2.468,2,    0.399,2,  1.73706793,2,   2152.5,2,   2293.9,2,   0.2745
  316N20020530,    36,  1,     16,     16,2,20020608, 78.7590,   6.5112, 1898,    455.8,  -0.0688,  34.9203,2,  34.9260,2,    318.1,2,    317.5,2,     6.45,2,    13.39,2,     0.00,2,     0.93,2,    4.686,2,    2.359,2,    0.363,2,  2.01033163,2,   -999.0,9,   -999.0,9,  -0.0867
  316N20020530,    36,  1,     15,     15,2,20020608, 78.7590,   6.5112, 1898,    557.0,  -0.2773,  34.9140,2,  34.9125,2,    316.6,2,    317.7,2,     6.84,2,    13.39,2,     0.00,2,     0.93,2,    4.271,2,    2.144,2,    0.326,2,  2.21529061,2,   2156.9,2,   2299.6,2,  -0.2987
  316N20020530,    36,  1,     14,     14,2,20020608, 78.7590,   6.5112, 1898,    656.7,  -0.4831,  34.9057,2,  34.9050,2,    313.3,2,    310.0,2,     7.72,2,    13.68,2,     0.00,2,     0.96,2,    3.071,2,    1.521,2,    0.221,2,  1.98108592,2,   -999.0,9,   -999.0,9,  -0.5078
  316N20020530,    36,  1,     13,     13,2,20020608, 78.7590,   6.5112, 1898,    757.5,  -0.6501,  34.8962,2,  34.8964,2,    310.7,2,    315.0,2,     7.72,2,    13.78,2,     0.00,2,     0.96,2,    3.778,2,    1.884,2,    0.285,2,  3.36689172,2,   2157.1,2,   2296.6,2,  -0.6782
  316N20020530,    36,  1,     12,     12,2,20020608, 78.7590,   6.5112, 1898,    856.4,  -0.7264,  34.8960,2,  34.8958,2,    307.4,2,    310.6,2,     8.40,2,    14.07,2,     0.00,2,     0.98,2,    3.237,6,    1.582,6,    0.237,6,  3.05460168,2,   -999.0,9,   -999.0,9,  -0.7584
  316N20020530,    36,  1,     11,     11,2,20020608, 78.7590,   6.5112, 1898,    956.3,  -0.6996,  34.9032,2,  34.9031,2,    306.8,2,    306.7,2,     8.70,2,    14.17,2,     0.00,2,     0.99,2,    2.357,2,    1.142,2,    0.150,2,  1.90301626,2,   2156.9,2,   2298.6,2,  -0.7364
  316N20020530,    36,  1,     10,     10,2,20020608, 78.7590,   6.5112, 1898,   1055.8,  -0.6577,  34.9141,2,  34.9185,2,    302.5,2,    301.0,2,     9.58,2,    14.27,2,     0.00,2,     1.00,2,    1.454,2,    0.708,2,    0.084,2, 0.858787238,2,   -999.0,9,   -999.0,9,  -0.6997
  316N20020530,    36,  1,      9,      9,2,20020608, 78.7590,   6.5112, 1898,   1156.0,  -0.6702,  34.9180,2,  34.9171,2,    301.4,2,    298.3,2,    10.16,2,    14.46,2,     0.00,2,     1.02,2,    1.067,2,    0.522,2,    0.063,2, 0.468429891,2,   2155.2,2,   2299.1,2,  -0.7171
  316N20020530,    36,  1,      8,      8,2,20020608, 78.7590,   6.5112, 1898,   1257.2,  -0.7147,  34.9191,2,  34.9161,2,    300.2,2,    299.3,2,    10.46,2,    14.56,2,     0.00,2,     1.02,2,    0.976,6,    0.474,6,    0.069,6, 0.331804753,2,   -999.0,9,   -999.0,9,  -0.7664
  316N20020530,    36,  1,      7,      7,2,20020608, 78.7590,   6.5112, 1898,   1358.5,  -0.8311,  34.9106,2,  34.9101,2,    298.9,2,    298.7,2,    11.14,2,    14.95,2,     0.00,2,     1.04,2,    1.012,2,    0.500,2,    0.064,2, 0.331806235,2,   2156.4,2,   2299.9,2,  -0.8869
  316N20020530,    36,  1,      6,      6,2,20020608, 78.7590,   6.5112, 1898,   1460.1,  -0.8591,  34.9120,2,  34.9123,2,    298.4,2,    298.9,2,    11.73,2,    15.05,2,     0.00,2,     1.04,2,    0.837,2,    0.429,2,    0.049,2, 0.204938809,2,   2159.2,2,   2299.6,2,  -0.9201
  316N20020530,    36,  1,      5,      5,2,20020608, 78.7590,   6.5112, 1898,   1551.1,  -0.8181,  34.9188,2,  34.9229,2,    299.3,2,    298.7,2,    11.73,2,    14.85,2,     0.00,2,     1.02,2,    1.012,2,    0.517,2,    0.066,2, 0.243972848,2,   2160.2,2,   2300.1,2,  -0.8847
  316N20020530,    36,  1,      4,      4,2,20020608, 78.7590,   6.5112, 1898,   1663.2,  -0.8950,  34.9115,2,  34.9184,2,    297.8,2,    298.3,2,    12.22,2,    15.05,2,     0.00,2,     1.03,2,    0.663,2,    0.340,2,    0.039,2, 0.107348413,2,   2160.7,2,   2300.2,2,  -0.9670
  316N20020530,    36,  1,      3,      3,2,20020608, 78.7590,   6.5112, 1898,   1763.3,  -0.7645,  34.9289,2,  34.9282,2,    300.0,2,    300.3,2,    11.53,2,    14.66,2,     0.00,2,     1.00,2,    1.324,2,    0.642,2,    0.093,2, 0.322042889,2,   2162.2,2,   2302.2,2,  -0.8443
  316N20020530,    36,  1,      2,      2,2,20020608, 78.7590,   6.5112, 1898,   1833.6,  -0.6244,  34.9485,2,  34.9479,2,    301.6,2,    301.8,2,    10.55,2,    14.07,2,     0.01,2,     0.97,2,    2.003,2,    1.011,2,    0.158,2, 0.605041403,2,   2163.8,2,   2297.0,2,  -0.7106
  316N20020530,    36,  1,      1,      1,2,20020608, 78.7590,   6.5112, 1898,   1860.9,  -0.6253,  34.9525,2,  34.9536,2,    301.5,2,    301.3,2,    10.65,2,    13.97,2,     0.01,2,     0.97,2,    2.088,2,    1.062,2,    0.164,2, 0.634314908,2,   2164.3,2,   2295.1,2,  -0.7132