BOTTLE,20081218PRINUNIVRMK
EXPOCODE,STNNBR,CASTNO,SAMPNO,BTLNBR,BTLNBR_FLAG_W,DATE,LATITUDE,LONGITUDE,DEPTH,CTDPRS,CTDTMP,CTDSAL,CTDSAL_FLAG_W,SALNTY,SALNTY_FLAG_W,CTDOXY,CTDOXY_FLAG_W,OXYGEN,OXYGEN_FLAG_W,SILCAT,SILCAT_FLAG_W,NITRAT,NITRAT_FLAG_W,NITRIT,NITRIT_FLAG_W,PHSPHT,PHSPHT_FLAG_W,CFC-11,CFC-11_FLAG_W,CFC-12,CFC-12_FLAG_W,CFC113,CFC113_FLAG_W,SF6,SF6_FLAG_W,TCARBN,TCARBN_FLAG_W,ALKALI,ALKALI_FLAG_W,THETA
,,,,,,,,,METERS,DBARS,ITS-90,PSS-78,,PSS-78,,UMOL/KG,,UMOL/KG,,UMOL/KG,,UMOL/KG,,UMOL/KG,,UMOL/KG,,PMOL/KG,,PMOL/KG,,PMOL/KG,,FMOL/KG,,UMOL/KG,,UMOL/KG,,DEGC
  316N20020530,     6,  1,     27,     27,2,20020602, 68.3032, -13.4918, 1792,      3.3,   0.8894,  34.6951,2,  34.6918,2,    376.7,2,    377.9,2,     0.29,2,     5.47,2,     0.08,2,     0.47,2,    6.860,2,    3.480,2,    0.635,2,  2.47919061,2,   2117.7,2,   2290.8,2,   0.8893
  316N20020530,     6,  1,     26,     26,2,20020602, 68.3032, -13.4918, 1792,     19.3,   0.6362,  34.7002,2,  34.6981,2,    381.0,2,    378.6,2,     0.49,2,     5.67,2,     0.07,2,     0.48,2, -999.000,9, -999.000,9, -999.000,9,        -999,9,   -999.0,9,   -999.0,9,   0.6354
  316N20020530,     6,  1,     25,     25,2,20020602, 68.3032, -13.4918, 1792,     34.0,  -0.2489,  34.7369,2,  34.7371,2,    366.8,2,    361.5,2,     4.40,2,     9.68,2,     0.05,2,     0.72,2,    7.003,2,    3.518,2,    0.656,2,  2.42054542,2,   2146.5,2,   2290.5,2,  -0.2500
  316N20020530,     6,  1,     24,     24,2,20020602, 68.3032, -13.4918, 1792,     54.3,  -0.4973,  34.7490,2,  34.7441,2,    358.5,2,    360.3,2,     4.20,2,     9.87,2,     0.05,2,     0.74,2, -999.000,9, -999.000,9, -999.000,9,        -999,9,   -999.0,9,   -999.0,9,  -0.4990
  316N20020530,     6,  1,     23,     23,2,20020602, 68.3032, -13.4918, 1792,     79.2,  -0.8029,  34.7651,2,  34.7656,2,    357.2,2,    357.7,2,     4.50,2,    10.46,2,     0.07,2,     0.78,2,    6.949,2,    3.514,2,    0.632,2,  2.50833458,2,   2154.5,2,   2290.7,2,  -0.8052
  316N20020530,     6,  1,     22,     22,2,20020602, 68.3032, -13.4918, 1792,    104.1,  -0.8492,  34.7686,2,  34.7672,2,    357.2,2,    356.3,2,     4.59,2,    10.65,2,     0.07,2,     0.79,2, -999.000,9, -999.000,9, -999.000,9,        -999,9,   -999.0,9,   -999.0,9,  -0.8522
  316N20020530,     6,  1,     21,     21,2,20020602, 68.3032, -13.4918, 1792,    129.5,  -0.8317,  34.7738,2,  34.7709,2,    356.4,2,    356.1,2,     4.59,2,    10.85,2,     0.07,2,     0.79,2,    7.056,2,    3.567,2,    0.638,2,  2.47904463,2,   2155.5,2,   2288.2,2,  -0.8355
  316N20020530,     6,  1,     20,     20,2,20020602, 68.3032, -13.4918, 1792,    154.3,  -1.0730,  34.7747,2,  34.7731,2,    351.3,2,    352.1,2,     4.59,2,    11.24,2,     0.09,2,     0.81,2, -999.000,9, -999.000,9, -999.000,9,        -999,9,   -999.0,9,   -999.0,9,  -1.0773
  316N20020530,     6,  1,     19,     19,2,20020602, 68.3032, -13.4918, 1792,    179.7,  -1.1187,  34.7927,2,  34.7898,2,    347.7,2,    346.5,2,     4.69,2,    11.92,2,     0.03,2,     0.84,2,    6.668,2,    3.382,2,    0.597,2,   2.1959732,2,   2154.8,2,   2288.5,2,  -1.1236
  316N20020530,     6,  1,     18,     18,2,20020602, 68.3032, -13.4918, 1792,    204.6,  -1.0197,  34.8096,2,  34.8083,2,    341.3,2,    340.8,2,     4.89,2,    12.41,2,     0.01,2,     0.86,2, -999.000,9, -999.000,9, -999.000,9,        -999,9,   -999.0,9,   -999.0,9,  -1.0256
  316N20020530,     6,  1,     17,     17,2,20020602, 68.3032, -13.4918, 1792,    234.7,  -0.7355,  34.8344,2,  34.8327,2,    332.5,2,    334.5,2,     5.38,2,    12.80,2,     0.01,2,     0.89,2,    6.124,2,    3.076,2,    0.540,2,  2.12758609,2,   2161.1,2,   2291.7,2,  -0.7429
  316N20020530,     6,  1,     16,     16,2,20020602, 68.3032, -13.4918, 1792,    274.6,  -0.4644,  34.8603,2,  34.8569,2,    321.6,2,    323.7,2,     6.16,2,    13.58,2,     0.01,2,     0.93,2, -999.000,9, -999.000,9, -999.000,9,        -999,9,   -999.0,9,   -999.0,9,  -0.4738
  316N20020530,     6,  1,     15,     15,2,20020602, 68.3032, -13.4918, 1792,    315.0,  -0.3259,  34.8773,2,  34.8728,2,    313.9,2,    311.6,2,     6.94,2,    14.07,2,     0.38,2,     0.98,2,    4.728,2,    2.357,2,    0.371,2,   1.6785958,2,   2165.8,2,   2297.5,2,  -0.3371
  316N20020530,     6,  1,     14,     14,2,20020602, 68.3032, -13.4918, 1792,    375.3,  -0.3197,  34.8853,2,  34.8809,2,    308.3,2,    308.0,2,     6.74,2,    14.66,2,     0.00,2,     0.99,2, -999.000,9, -999.000,9, -999.000,9,        -999,9,   -999.0,9,   -999.0,9,  -0.3333
  316N20020530,     6,  1,     13,     13,2,20020602, 68.3032, -13.4918, 1792,    445.4,  -0.4032,  34.8880,2,  34.8842,2,    307.2,2,    306.1,2,     7.13,2,    14.76,2,     0.00,2,     1.00,2,    3.911,2,    1.946,2,    0.296,2,  1.83472867,2,   2164.9,2,   2295.7,2,  -0.4194
  316N20020530,     6,  1,     12,     12,2,20020602, 68.3032, -13.4918, 1792,    504.9,  -0.4559,  34.8890,2,  34.8856,2,    305.0,2,    306.1,2,     7.43,2,    14.85,2,     0.00,2,     1.00,2, -999.000,9, -999.000,9, -999.000,9,        -999,9,   -999.0,9,   -999.0,9,  -0.4743
  316N20020530,     6,  1,     11,     11,2,20020602, 68.3032, -13.4918, 1792,    579.3,  -0.5070,  34.8924,2,  34.8893,2,    302.8,2,    302.9,2,     7.92,2,    14.95,2,     0.00,2,     1.01,2,    3.368,2,    1.627,2,    0.232,2,  2.20556971,2,   2161.4,2,   2295.6,2,  -0.5282
  316N20020530,     6,  1,     10,     10,2,20020602, 68.3032, -13.4918, 1792,    653.2,  -0.5589,  34.8950,2,  34.8901,2,    301.9,2,    301.4,2,     8.21,2,    15.05,2,     0.00,2,     1.01,2, -999.000,9, -999.000,9, -999.000,9,  2.24460501,2,   -999.0,9,   -999.0,9,  -0.5830
  316N20020530,     6,  1,      9,      9,2,20020602, 68.3032, -13.4918, 1792,    750.4,  -0.6037,  34.8982,2,  34.8941,2,    300.8,2,    300.5,2,     8.70,2,    15.15,2,     0.00,2,     1.02,2,    2.597,2,    1.275,2,    0.175,2,  2.18604358,2,   2164.5,2,   2300.5,2,  -0.6318
  316N20020530,     6,  1,      8,      8,2,20020602, 68.3032, -13.4918, 1792,    848.7,  -0.6390,  34.9010,2,  34.9012,0,    300.0,2,    299.9,2,     9.09,2,    15.25,2,     0.00,2,     1.02,2, -999.000,9, -999.000,9, -999.000,9,  1.89325988,2,   -999.0,9,   -999.0,9,  -0.6713
  316N20020530,     6,  1,      7,      7,2,20020602, 68.3032, -13.4918, 1792,    948.8,  -0.6742,  34.9031,2,  34.9008,2,    299.1,2,    299.4,2,     9.58,2,    15.34,2,     0.00,2,     1.03,2,    2.051,2,    0.982,2,    0.128,2,  1.56145191,2,   2164.7,2,   2301.1,2,  -0.7109
  316N20020530,     6,  1,      6,      6,2,20020602, 68.3032, -13.4918, 1792,   1050.1,  -0.7026,  34.9047,2,  34.9026,2,    298.7,2,    299.1,2,     9.97,2,    15.44,2,     0.00,2,     1.03,2, -999.000,9, -999.000,9, -999.000,9,  1.21012361,2,   -999.0,9,   -999.0,9,  -0.7439
  316N20020530,     6,  1,      5,      5,2,20020602, 68.3032, -13.4918, 1792,   1200.5,  -0.7476,  34.9075,2,  34.9032,2,    297.3,2,    298.1,2,    10.55,2,    15.64,2,     0.00,2,     1.04,2,    1.496,6,    0.694,6,    0.073,6, 0.644097764,2,   2163.0,2,   2298.1,2,  -0.7960
  316N20020530,     6,  1,      4,      4,2,20020602, 68.3032, -13.4918, 1792,   1400.9,  -0.8008,  34.9090,2,  34.9049,2,    296.2,2,    296.7,2,    11.14,2,    15.73,2,     0.00,2,     1.05,2, -999.000,9, -999.000,9, -999.000,9, 0.380602743,2,   -999.0,9,   -999.0,9,  -0.8592
  316N20020530,     6,  1,      3,      3,2,20020602, 68.3032, -13.4918, 1792,   1550.1,  -0.8247,  34.9094,2,  34.9091,0,    296.2,2,    295.8,2,    11.82,2,    15.83,2,     0.00,2,     1.06,2,    0.935,6,    0.459,6,    0.047,6, 0.370842538,2,   2164.8,2,   2303.7,2,  -0.8911
  316N20020530,     6,  1,      2,      2,2,20020602, 68.3032, -13.4918, 1792,   1651.4,  -0.8354,  34.9101,2,  34.9073,2,    294.5,2,    293.7,2,    12.80,2,    15.93,2,     0.00,2,     1.07,2, -999.000,9, -999.000,9, -999.000,9, 0.165903463,2,   -999.0,9,   -999.0,9,  -0.9075
  316N20020530,     6,  1,      1,      1,2,20020602, 68.3032, -13.4918, 1792,   1760.6,  -0.8356,  34.9092,2,  34.9065,2,    293.0,2,    293.9,2,    13.29,2,    16.12,2,     0.00,2,     1.07,2,    0.789,2,    0.402,2,    0.034,2, 0.195180661,2,   2166.6,2,   2302.8,2,  -0.9141
  316N20020530,     7,  1,     27,     27,2,20020602, 68.6840, -13.0022, 1860,      2.8,   0.7548,  34.7086,2,  34.7082,2,    361.6,2,    362.1,2,     2.35,2,     8.70,2,     0.06,2,     0.63,2,    6.763,6,    3.498,6,    0.614,6,  2.56700461,2,   2141.1,2,   2283.2,2,   0.7547
  316N20020530,     7,  1,     26,     26,2,20020602, 68.6840, -13.0022, 1860,     18.3,   0.3956,  34.7377,2,  34.7485,2,    361.1,2,    361.6,2,     3.91,2,     9.97,2,     0.05,2,     0.71,2, -999.000,9, -999.000,9, -999.000,9,        -999,9,   -999.0,9,   -999.0,9,   0.3949
  316N20020530,     7,  1,     25,     25,2,20020602, 68.6840, -13.0022, 1860,     34.0,  -0.2302,  34.7548,2,  34.7544,2,    366.0,2,    363.4,2,     4.10,2,    10.07,2,     0.05,2,     0.73,2,    6.843,2,    3.554,2,    0.637,2,  2.55715618,2,   2151.6,2,   2279.5,2,  -0.2313
  316N20020530,     7,  1,     24,     24,2,20020602, 68.6840, -13.0022, 1860,     54.0,  -0.5101,  34.7712,2,  34.7713,2,    360.1,2,    358.9,2,     4.30,2,    10.85,2,     0.05,2,     0.77,2, -999.000,9, -999.000,9, -999.000,9,        -999,9,   -999.0,9,   -999.0,9,  -0.5118
  316N20020530,     7,  1,     23,     23,3,20020602, 68.6840, -13.0022, 1860,     79.2,  -0.7731,  34.7724,2,  34.7708,2,    355.2,2,    355.5,2,     4.30,2,    11.24,2,     0.08,2,     0.79,2,    6.680,2,    3.509,2,    0.619,2,  2.56688498,2,   2158.4,2,   2285.2,2,  -0.7754
  316N20020530,     7,  1,     22,     22,2,20020602, 68.6840, -13.0022, 1860,    103.6,  -0.7635,  34.7846,2,  34.7839,2,    349.8,2,    353.2,2,     4.40,2,    11.43,2,     0.08,2,     0.80,2, -999.000,9, -999.000,9, -999.000,9,        -999,9,   -999.0,9,   -999.0,9,  -0.7666
  316N20020530,     7,  1,     21,     21,2,20020602, 68.6840, -13.0022, 1860,    129.0,  -0.7445,  34.8014,2,  34.8036,2,    345.8,2,    347.3,2,     4.69,2,    12.02,2,     0.09,2,     0.83,2,    6.473,6,    3.319,6,    0.585,6,  2.40090604,2,   2160.4,2,   2285.3,2,  -0.7484
  316N20020530,     7,  1,     20,     20,2,20020602, 68.6840, -13.0022, 1860,    154.1,  -0.5529,  34.8301,2,  34.8296,2,    340.2,2,    338.3,2,     5.28,2,    12.61,2,     0.03,2,     0.86,2, -999.000,9, -999.000,9, -999.000,9,        -999,9,   -999.0,9,   -999.0,9,  -0.5579
  316N20020530,     7,  1,     19,     19,2,20020602, 68.6840, -13.0022, 1860,    177.7,  -0.3715,  34.8558,2,  34.8552,2,    329.7,2,    330.1,2,     5.96,2,    13.19,2,     0.01,2,     0.90,2,    5.721,2,    2.922,2,    0.468,2,  2.07875342,2,   2163.2,2,   2290.8,2,  -0.3775
  316N20020530,     7,  1,     18,     18,2,20020602, 68.6840, -13.0022, 1860,    204.8,  -0.2908,  34.8702,2,  34.8698,2,    322.2,2,    321.8,2,     6.55,2,    13.98,2,     0.01,2,     0.93,2, -999.000,9, -999.000,9, -999.000,9,        -999,9,   -999.0,9,   -999.0,9,  -0.2980
  316N20020530,     7,  1,     17,     17,2,20020602, 68.6840, -13.0022, 1860,    234.4,  -0.3071,  34.8750,2,  34.8723,2,    316.2,2,    316.8,2,     6.84,2,    14.17,2,     0.01,2,     0.95,2,    4.989,6,    2.522,6,    0.385,6,  1.75667067,2,   2167.9,2,   2291.9,2,  -0.3153
  316N20020530,     7,  1,     16,     16,2,20020602, 68.6840, -13.0022, 1860,    264.3,  -0.3131,  34.8785,2,  34.8779,2,    315.2,2,    313.4,2,     7.13,2,    14.37,2,     0.01,2,     0.96,2, -999.000,9, -999.000,9, -999.000,9,        -999,9,   -999.0,9,   -999.0,9,  -0.3224
  316N20020530,     7,  1,     15,     15,2,20020602, 68.6840, -13.0022, 1860,    304.7,  -0.3149,  34.8825,2,  34.8787,2,    310.5,2,    309.6,2,     7.72,2,    14.66,2,     0.01,2,     0.98,2,    4.308,2,    2.166,2,    0.324,2,  1.63955148,2,   -999.0,9,   -999.0,9,  -0.3258
  316N20020530,     7,  1,     14,     14,3,20020602, 68.6840, -13.0022, 1860,    344.3,  -0.3388,  34.8850,2,  34.8828,2,    307.8,2,    307.7,2,     7.82,2,    14.66,2,     0.00,2,     0.99,2, -999.000,9, -999.000,9, -999.000,9,        -999,9,   2168.4,2,   2292.6,2,  -0.3512
  316N20020530,     7,  1,     13,     13,2,20020602, 68.6840, -13.0022, 1860,    395.5,  -0.3956,  34.8873,2,  34.8882,2,    305.6,2,    306.7,2,     8.21,2,    14.66,2,     0.01,2,     0.99,2,    3.868,2,    1.900,2,    0.277,2,        -999,9,   2168.5,2,   2293.4,2,  -0.4098
  316N20020530,     7,  1,     12,     12,2,20020602, 68.6840, -13.0022, 1860,    446.0,  -0.4391,  34.8889,2,  34.8904,2,    305.1,2,    304.3,2,     8.40,2,    14.76,2,     0.01,2,     1.00,2,    3.649,2,    1.793,2,    0.265,2,  1.96158915,2,   -999.0,9,   -999.0,9,  -0.4551
  316N20020530,     7,  1,     11,     11,2,20020602, 68.6840, -13.0022, 1860,    506.4,  -0.4860,  34.8916,2,  34.8910,2,    303.5,2,    302.8,2,     8.70,2,    14.85,2,     0.01,2,     1.00,2,    3.398,2,    1.686,2,    0.227,2,        -999,9,   2168.0,2,   2294.0,2,  -0.5043
  316N20020530,     7,  1,     10,     10,2,20020602, 68.6840, -13.0022, 1860,    581.5,  -0.5318,  34.8936,2,  34.8904,2,    303.6,2,    303.2,2,     9.09,2,    14.76,2,     0.01,2,     1.00,2, -999.000,9, -999.000,9, -999.000,9,   2.2446045,2,   -999.0,9,   -999.0,9,  -0.5530
  316N20020530,     7,  1,      9,      9,2,20020602, 68.6840, -13.0022, 1860,    657.3,  -0.5838,  34.8960,2,  34.8936,2,    301.4,2,    302.4,2,     9.48,2,    14.85,2,     0.01,2,     1.00,2,    2.789,2,    1.366,2,    0.187,2,  2.24459916,2,   2166.5,2,   2292.5,2,  -0.6079
  316N20020530,     7,  1,      8,      8,2,20020602, 68.6840, -13.0022, 1860,    757.6,  -0.6287,  34.8994,2,  34.8983,2,    301.1,2,    302.1,2,     9.97,2,    14.85,2,     0.01,2,     1.01,2,    2.485,2,    1.219,2,    0.159,2,  2.20555493,2,   2166.1,2,   2300.8,2,  -0.6569
  316N20020530,     7,  1,      7,      7,2,20020602, 68.6840, -13.0022, 1860,    858.3,  -0.6613,  34.9016,2,  34.9013,2,    300.0,2,    300.6,2,    10.16,2,    14.95,2,     0.01,2,     1.01,2,    2.133,2,    1.039,2,    0.134,2,  1.66880111,2,   2165.4,2,   2295.2,2,  -0.6938
  316N20020530,     7,  1,      6,      6,2,20020602, 68.6840, -13.0022, 1860,   1009.8,  -0.7079,  34.9050,2,  34.9040,2,    299.2,2,    299.6,2,    10.75,2,    14.95,2,     0.01,2,     1.02,2,    1.794,2,    0.868,2,    0.110,2,  1.30771286,2,   2161.8,2,   -999.0,9,  -0.7472
  316N20020530,     7,  1,      5,      5,2,20020602, 68.6840, -13.0022, 1860,   1210.5,  -0.7617,  34.9079,2,  34.9037,2,    297.6,2,    297.8,2,    11.24,2,    15.25,2,     0.00,2,     1.03,2,    1.333,6,    0.645,6,    0.074,6, 0.556266044,2,   2165.1,2,   -999.0,9,  -0.8105
  316N20020530,     7,  1,      4,      4,2,20020602, 68.6840, -13.0022, 1860,   1410.3,  -0.7994,  34.9091,2,  34.9070,2,    296.9,2,    296.3,2,    11.82,2,    15.44,2,     0.00,2,     1.05,2,    1.075,2,    0.512,2,    0.050,2, 0.302529912,2,   2165.7,2,   -999.0,9,  -0.8583
  316N20020530,     7,  1,      3,      3,3,20020602, 68.6840, -13.0022, 1860,   1611.2,  -0.8236,  34.9102,2,  34.9073,2,    295.9,2,    295.9,2,    12.70,2,    15.73,2,     0.00,2,     1.06,2,    0.869,2,    0.447,2,    0.043,2, 0.214698599,2,   2163.8,2,   -999.0,9,  -0.8935
  316N20020530,     7,  1,      2,      2,2,20020602, 68.6840, -13.0022, 1860,   1728.3,  -0.8281,  34.9109,2,  34.9087,2,    294.1,2,    294.4,2,    13.78,2,    16.03,2,     0.00,2,     1.07,2,    0.792,2,    0.390,2,    0.037,2, 0.146385256,2,   2167.3,2,   -999.0,9,  -0.9048
  316N20020530,     7,  1,      1,      1,2,20020602, 68.6840, -13.0022, 1860,   1830.4,  -0.8243,  34.9104,2,  34.9077,2,    292.5,2,    292.2,2,    14.17,2,    16.12,2,     0.00,2,     1.07,2,    0.748,2,    0.378,2,    0.033,2, 0.165903414,2,   2168.7,2,   -999.0,9,  -0.9072