BOTTLE,20081218PRINUNIVRMK
EXPOCODE,STNNBR,CASTNO,SAMPNO,BTLNBR,BTLNBR_FLAG_W,DATE,LATITUDE,LONGITUDE,DEPTH,CTDPRS,CTDTMP,CTDSAL,CTDSAL_FLAG_W,SALNTY,SALNTY_FLAG_W,CTDOXY,CTDOXY_FLAG_W,OXYGEN,OXYGEN_FLAG_W,SILCAT,SILCAT_FLAG_W,NITRAT,NITRAT_FLAG_W,NITRIT,NITRIT_FLAG_W,PHSPHT,PHSPHT_FLAG_W,CFC-11,CFC-11_FLAG_W,CFC-12,CFC-12_FLAG_W,CFC113,CFC113_FLAG_W,SF6,SF6_FLAG_W,TCARBN,TCARBN_FLAG_W,ALKALI,ALKALI_FLAG_W,THETA
,,,,,,,,,METERS,DBARS,ITS-90,PSS-78,,PSS-78,,UMOL/KG,,UMOL/KG,,UMOL/KG,,UMOL/KG,,UMOL/KG,,UMOL/KG,,PMOL/KG,,PMOL/KG,,PMOL/KG,,FMOL/KG,,UMOL/KG,,UMOL/KG,,DEGC
  316N20020530,   132,  1,     27,     27,2,20020626, 62.9762,  -5.0510, 2090,      4.2,   9.4159,  35.0341,2,  35.0323,2,    309.4,2,    310.0,2,     1.86,2,     3.22,2,     0.09,2,     0.30,2, -999.000,9, -999.000,9, -999.000,9,        -999,9,   2070.2,2,   2320.2,2,   9.4154
  316N20020530,   132,  1,     26,     26,2,20020626, 62.9762,  -5.0510, 2090,     30.7,   7.9555,  35.0415,2,  35.0371,2,    306.3,2,    301.5,2,     2.54,2,     6.35,2,     0.15,2,     0.57,2,    4.381,2,    2.338,2,    0.377,2,   1.9321007,2,   -999.0,9,   -999.0,9,   7.9524
  316N20020530,   132,  1,     25,     25,2,20020626, 62.9762,  -5.0510, 2090,     65.5,   4.3548,  34.9320,2,  34.9304,2,    309.7,2,    308.3,2,     3.71,2,    10.65,2,     0.26,2,     0.77,2, -999.000,9, -999.000,9, -999.000,9,        -999,9,   2134.5,2,   2306.8,2,   4.3501
  316N20020530,   132,  1,     24,     24,2,20020626, 62.9762,  -5.0510, 2090,    106.2,   2.9263,  34.8787,2,  34.8785,2,    312.5,2,    311.5,2,     4.89,2,    11.92,2,     0.18,2,     0.82,2, -999.000,9, -999.000,9, -999.000,9,        -999,9,   -999.0,9,   -999.0,9,   2.9198
  316N20020530,   132,  1,     23,     23,2,20020626, 62.9762,  -5.0510, 2090,    136.5,   2.3599,  34.8636,2,  34.8620,2,    313.2,2,    313.6,2,     5.18,2,    12.22,2,     0.17,2,     0.83,2,    5.201,2,    2.704,2,    0.427,2,  2.20561453,2,   -999.0,9,   2302.8,2,   2.3522
  316N20020530,   132,  1,     22,     22,2,20020626, 62.9762,  -5.0510, 2090,    180.9,   1.5489,  34.8850,2,  34.8834,2,    310.2,2,    310.2,2,     6.25,2,    13.19,2,     0.03,2,     0.88,2, -999.000,9, -999.000,9, -999.000,9,        -999,9,   -999.0,9,   -999.0,9,   1.5398
  316N20020530,   132,  1,     21,     21,2,20020626, 62.9762,  -5.0510, 2090,    206.3,   1.1373,  34.8852,2,  34.8808,2,    309.1,2,    310.5,2,     6.45,2,    13.29,2,     0.02,2,     0.90,2, -999.000,9, -999.000,9, -999.000,9,        -999,9,   2160.2,2,   2302.9,2,   1.1276
  316N20020530,   132,  1,     20,     20,2,20020626, 62.9762,  -5.0510, 2090,    236.5,   0.9398,  34.8986,2,  34.9005,2,    307.9,2,    306.0,2,     7.23,2,    13.78,2,     0.02,2,     0.93,2,    4.187,2,    2.134,2,    0.307,2,  1.95181533,2,   -999.0,9,   -999.0,9,   0.9290
  316N20020530,   132,  1,     19,     19,2,20020626, 62.9762,  -5.0510, 2090,    291.8,   0.0755,  34.8858,7,  34.8866,2,    308.3,2,    308.0,2,     7.04,2,    13.97,2,     0.00,2,     0.94,2,    4.454,2,    2.209,2,    0.317,2,  1.77617033,2,   2156.6,2,   2300.1,2,   0.0641
  316N20020530,   132,  1,     18,     18,2,20020626, 62.9762,  -5.0510, 2090,    337.4,  -0.1903,  34.8847,2,  34.8789,2,    307.3,2,    308.8,2,     7.33,2,    14.07,2,     0.00,2,     0.94,2,    4.196,2,    2.079,2,    0.292,2,        -999,9,   -999.0,9,   -999.0,9,  -0.2028
  316N20020530,   132,  1,     17,     17,2,20020626, 62.9762,  -5.0510, 2090,    392.7,  -0.3122,  34.8869,2,  34.8873,2,    307.9,2,    307.8,2,     7.52,2,    14.07,2,     0.00,2,     0.95,2,    3.956,2,    1.950,2,    0.257,2,  1.92255699,2,   2157.6,2,   2292.2,2,  -0.3266
  316N20020530,   132,  1,     16,     16,2,20020626, 62.9762,  -5.0510, 2090,    467.5,  -0.4002,  34.8902,2,  34.8909,2,    306.1,2,    307.2,2,     7.72,2,    14.17,2,     0.00,2,     0.95,2,    3.626,2,    1.780,2,    0.236,2,  2.11773477,2,   -999.0,9,   -999.0,9,  -0.4173
  316N20020530,   132,  1,     15,     15,2,20020626, 62.9762,  -5.0510, 2090,    538.0,  -0.4612,  34.8922,2,  34.8931,2,    306.9,2,    306.7,2,     7.92,2,    14.27,2,     0.00,2,     0.95,2, -999.000,9, -999.000,9, -999.000,9,   2.3421913,2,   2157.9,2,   2301.4,2,  -0.4809
  316N20020530,   132,  1,     14,     14,2,20020626, 62.9762,  -5.0510, 2090,    608.6,  -0.5253,  34.8948,2,  34.8962,2,    305.5,2,    304.6,2,     8.21,2,    14.37,2,     0.00,2,     0.96,2,    3.144,2,    1.528,2,    0.193,2,  2.43001786,2,   -999.0,9,   -999.0,9,  -0.5477
  316N20020530,   132,  1,     13,     13,2,20020626, 62.9762,  -5.0510, 2090,    679.1,  -0.5811,  34.8961,2,  34.8978,2,    304.8,2,    303.8,2,     8.50,2,    14.46,2,     0.00,2,     0.97,2,    2.902,2,    1.425,2,    0.184,2,  2.50808774,2,   2154.9,2,   2300.8,2,  -0.6062
  316N20020530,   132,  1,     12,     12,2,20020626, 62.9762,  -5.0510, 2090,    759.1,  -0.6404,  34.8995,2,  34.8992,2,    304.4,2,    302.4,2,     8.99,2,    14.56,2,     0.00,2,     0.97,2,    2.509,2,    1.214,2,    0.154,2,  2.30314432,2,   -999.0,9,   -999.0,9,  -0.6686
  316N20020530,   132,  1,     11,     11,2,20020626, 62.9762,  -5.0510, 2090,    860.7,  -0.6909,  34.9017,2,  34.9027,2,    303.4,2,    303.0,2,     9.38,2,    14.56,2,     0.00,2,     0.97,2,    2.216,2,    1.081,2,    0.132,2,  2.22506583,2,   -999.0,9,   -999.0,9,  -0.7234
  316N20020530,   132,  1,     10,     10,2,20020626, 62.9762,  -5.0510, 2090,    959.8,  -0.7325,  34.9040,2,  34.9053,2,    302.0,2,    302.9,2,     9.77,2,    14.66,2,     0.00,2,     0.97,2, -999.000,9, -999.000,9, -999.000,9,  1.87373602,2,   2154.4,2,   2300.9,2,  -0.7692
  316N20020530,   132,  1,      9,      9,2,20020626, 62.9762,  -5.0510, 2090,   1061.6,  -0.7548,  34.9061,2,  34.9080,2,    300.6,2,    300.2,2,    10.46,2,    14.85,2,     0.00,2,     0.99,2,    1.588,2,    0.776,2,    0.080,2,  1.21987777,2,   -999.0,9,   -999.0,9,  -0.7962
  316N20020530,   132,  1,      8,      8,2,20020626, 62.9762,  -5.0510, 2090,   1162.7,  -0.7825,  34.9082,7,  34.9094,2,    300.0,2,    299.6,2,    11.04,2,    15.05,2,     0.00,2,     1.00,2, -999.000,9, -999.000,9, -999.000,9, 0.858793055,2,   -999.0,9,   -999.0,9,  -0.8287
  316N20020530,   132,  1,      7,      7,2,20020626, 62.9762,  -5.0510, 2090,   1261.7,  -0.8029,  34.9093,2,  34.9104,2,    299.2,2,    299.6,2,    11.04,2,    15.05,2,     0.00,2,     1.00,2,    1.168,2,    0.576,2,    0.051,2, 0.575781279,2,   2155.6,2,   2306.5,2,  -0.8539
  316N20020530,   132,  1,      6,      6,2,20020626, 62.9762,  -5.0510, 2090,   1360.9,  -0.8210,  34.9095,2,  34.9102,2,    298.7,2,    298.2,2,    11.34,2,    15.15,2,     0.00,2,     1.00,2, -999.000,9, -999.000,9, -999.000,9, 0.439155278,2,   -999.0,9,   -999.0,9,  -0.8770
  316N20020530,   132,  1,      5,      5,2,20020626, 62.9762,  -5.0510, 2090,   1461.5,  -0.8406,  34.9104,2,  34.9104,2,    298.5,2,    298.6,2,    11.43,2,    15.15,2,     0.00,2,     1.01,2,    0.923,2,    0.454,2,    0.041,2, 0.341565165,2,   -999.0,9,   -999.0,9,  -0.9019
  316N20020530,   132,  1,      4,      4,2,20020626, 62.9762,  -5.0510, 2090,   1563.2,  -0.8516,  34.9110,2,  34.9116,2,    298.3,2,    299.1,2,    11.63,2,    15.15,2,     0.00,2,     1.01,2,    0.857,2,    0.413,2,    0.039,2,   0.2439749,2,   -999.0,9,   -999.0,9,  -0.9184
  316N20020530,   132,  1,      3,      3,2,20020626, 62.9762,  -5.0510, 2090,   1760.9,  -0.8625,  34.9115,2,  34.9106,2,    298.0,2,    297.7,2,    11.92,2,    15.15,2,     0.00,2,     1.01,2,    0.779,2,    0.388,2,    0.038,2, 0.175662059,2,   2156.0,2,   2306.0,2,  -0.9407
  316N20020530,   132,  1,      2,      2,2,20020626, 62.9762,  -5.0510, 2090,   1957.9,  -0.8662,  34.9109,2,  34.9096,2,    297.5,2,    298.0,2,    12.22,2,    15.25,2,     0.00,2,     1.01,2, -999.000,9, -999.000,9, -999.000,9,        -999,9,   2155.7,2,   2306.2,2,  -0.9565
  316N20020530,   132,  1,      1,      1,2,20020626, 62.9762,  -5.0510, 2090,   2052.3,  -0.8602,  34.9122,2,  34.9116,2,    297.5,2,    297.6,2,    12.22,2,    15.25,2,     0.00,2,     1.01,2,    0.686,2,    0.344,2,    0.025,2, 0.175661928,2,   2155.7,2,   2306.5,2,  -0.9566
  316N20020530,   133,  1,     23,     23,2,20020626, 62.9170,  -5.1595, 1550,      4.7,   9.6145,  35.1032,2,  35.1016,2,    305.6,2,    304.4,2,     1.95,2,     4.30,2,     0.10,2,     0.36,2,    4.002,2,    2.175,2,    0.369,2,        -999,9,   2079.2,2,   2321.0,2,   9.6140
  316N20020530,   133,  1,     22,     22,2,20020626, 62.9170,  -5.1595, 1550,     33.5,   9.5305,  35.0995,2,  35.0988,2,    304.6,2,    305.5,2,     2.05,2,     4.01,2,     0.11,2,     0.35,2, -999.000,9, -999.000,9, -999.000,9,        -999,9,   2077.2,2,   2322.1,2,   9.5268
  316N20020530,   133,  1,     21,     21,2,20020626, 62.9170,  -5.1595, 1550,     58.3,   5.7148,  34.9839,2,  34.9965,2,    308.7,2,    304.4,2,     3.13,2,     8.89,2,     0.24,2,     0.70,2,    4.650,2,    2.458,2,    0.422,2,        -999,9,   2128.3,2,   2314.6,2,   5.7100
  316N20020530,   133,  1,     20,     20,2,20020626, 62.9170,  -5.1595, 1550,     88.5,   3.5938,  34.8883,2,  34.8863,2,    313.2,2,    313.8,2,     3.62,2,    10.46,2,     0.24,2,     0.77,2, -999.000,9, -999.000,9, -999.000,9,        -999,9,   -999.0,9,   -999.0,9,   3.5880
  316N20020530,   133,  1,     19,     19,2,20020626, 62.9170,  -5.1595, 1550,    108.9,   2.9997,  34.8813,2,  34.8853,2,    309.8,2,    310.7,2,     4.79,2,    11.82,2,     0.18,2,     0.82,2,    5.087,2,    2.662,2,    0.460,2,        -999,9,   -999.0,9,   -999.0,9,   2.9930
  316N20020530,   133,  1,     18,     18,2,20020626, 62.9170,  -5.1595, 1550,    139.3,   2.1417,  34.8601,2,  34.8576,2,    314.7,2,    314.3,2,     5.28,2,    12.31,2,     0.14,2,     0.84,2,    5.265,2,    2.752,2,    0.477,2,        -999,9,   2157.5,2,   2305.0,2,   2.1341
  316N20020530,   133,  1,     17,     17,2,20020626, 62.9170,  -5.1595, 1550,    184.7,   1.3372,  34.8954,2,  34.8959,2,    309.1,2,    307.3,2,     6.74,2,    13.39,2,     0.02,2,     0.90,2,    4.606,2,    2.366,2,    0.383,2,        -999,9,   2156.5,2,   2302.8,2,   1.3282
  316N20020530,   133,  1,     16,     16,2,20020626, 62.9170,  -5.1595, 1550,    229.5,   0.6055,  34.8887,2,  34.8891,2,    310.7,2,    311.0,2,     6.35,2,    13.39,2,     0.01,2,     0.90,2, -999.000,9, -999.000,9, -999.000,9,        -999,9,   2157.9,2,   2301.6,2,   0.5957
  316N20020530,   133,  1,     15,     15,2,20020626, 62.9170,  -5.1595, 1550,    275.9,   0.4441,  34.8968,2,  34.8993,2,    309.9,2,    310.6,2,     6.25,2,    13.58,2,     0.01,2,     0.91,2,    4.983,2,    2.518,2,    0.398,2,        -999,9,   -999.0,9,   -999.0,9,   0.4325
  316N20020530,   133,  1,     14,     14,2,20020626, 62.9170,  -5.1595, 1550,    315.9,   0.1266,  34.8849,2,  34.8845,2,    308.6,2,    310.3,2,     6.65,2,    13.68,2,     0.01,2,     0.93,2, -999.000,9, -999.000,9, -999.000,9,        -999,9,   2166.4,2,   2301.6,2,   0.1141
  316N20020530,   133,  1,     13,     13,2,20020626, 62.9170,  -5.1595, 1550,    366.5,  -0.1344,  34.8821,2,  34.8839,2,    309.6,2,    309.4,2,     7.04,2,    13.78,2,     0.00,2,     0.94,2,    4.419,2,    2.178,2,    0.353,2,        -999,9,   2167.6,2,   2300.8,2,  -0.1483
  316N20020530,   133,  1,     12,     12,2,20020626, 62.9170,  -5.1595, 1550,    455.8,  -0.3292,  34.8874,2,  34.8893,2,    307.7,2,    307.4,2,     7.52,2,    13.97,2,     0.00,2,     0.94,2,    3.957,2,    1.968,2,    0.298,2,        -999,9,   -999.0,9,   -999.0,9,  -0.3461
  316N20020530,   133,  1,     11,     11,2,20020626, 62.9170,  -5.1595, 1550,    555.9,  -0.4722,  34.8926,2,  34.8936,2,    305.6,2,    305.3,2,     7.92,2,    14.17,2,     0.00,2,     0.95,2,    3.393,2,    1.675,2,    0.254,2,        -999,9,   2165.0,2,   2304.4,2,  -0.4926
  316N20020530,   133,  1,     10,     10,2,20020626, 62.9170,  -5.1595, 1550,    656.0,  -0.5702,  34.8943,2,  34.8971,2,    304.4,2,    304.7,2,     8.40,2,    14.27,2,     0.00,2,     0.96,2,    3.033,2,    1.485,2,    0.229,2,        -999,9,   -999.0,9,   -999.0,9,  -0.5944
  316N20020530,   133,  1,      9,      9,2,20020626, 62.9170,  -5.1595, 1550,    756.6,  -0.6471,  34.8979,2,  34.8989,2,    303.5,2,    303.3,2,     9.09,2,    14.27,2,     0.00,2,     0.97,2,    2.576,2,    1.270,2,    0.185,2,        -999,9,   2162.5,2,   2307.0,2,  -0.6752
  316N20020530,   133,  1,      8,      8,2,20020626, 62.9170,  -5.1595, 1550,    855.7,  -0.6950,  34.9016,2,  34.9025,2,    301.9,2,    301.3,2,     9.67,2,    14.46,2,     0.00,2,     0.98,2,    2.113,2,    1.034,2,    0.143,2,        -999,9,   -999.0,9,   -999.0,9,  -0.7272
  316N20020530,   133,  1,      7,      7,2,20020626, 62.9170,  -5.1595, 1550,    955.9,  -0.7306,  34.9046,2,  34.9058,2,    300.1,2,    299.6,2,    10.36,2,    14.56,2,     0.00,2,     0.98,2,    1.763,2,    0.859,2,    0.121,2,        -999,9,   -999.0,9,   -999.0,9,  -0.7672
  316N20020530,   133,  1,      6,      6,2,20020626, 62.9170,  -5.1595, 1550,   1055.6,  -0.7557,  34.9061,7,  34.9062,2,    299.0,2,    298.7,2,    10.65,2,    14.66,2,     0.00,2,     0.99,2,    1.574,2,    0.774,2,    0.113,2,        -999,9,   2161.0,2,   2304.9,2,  -0.7968
  316N20020530,   133,  1,      5,      5,2,20020626, 62.9170,  -5.1595, 1550,   1156.7,  -0.7840,  34.9080,2,  34.9078,2,    298.2,2,    298.4,2,    11.04,2,    14.76,2,     0.00,2,     1.00,2,    1.337,2,    0.658,2,    0.084,2,        -999,9,   -999.0,9,   -999.0,9,  -0.8298
  316N20020530,   133,  1,      4,      4,2,20020626, 62.9170,  -5.1595, 1550,   1258.4,  -0.8081,  34.9090,2,  34.9090,2,    298.0,2,    297.9,2,    11.24,2,    14.85,2,     0.00,2,     1.00,2,    1.153,2,    0.582,2,    0.076,2,        -999,9,   -999.0,9,   -999.0,9,  -0.8589
  316N20020530,   133,  1,      3,      3,2,20020626, 62.9170,  -5.1595, 1550,   1358.7,  -0.8307,  34.9097,2,  34.9107,2,    297.5,2,    297.9,2,    11.53,2,    14.85,2,     0.00,2,     1.01,2,    1.025,2,    0.505,2,    0.067,2,        -999,9,   2159.8,2,   2305.6,2,  -0.8865
  316N20020530,   133,  1,      2,      2,2,20020626, 62.9170,  -5.1595, 1550,   1440.5,  -0.8495,  34.9105,2,  34.9147,0,    297.2,2,    297.6,2,    11.63,2,    14.95,2,     0.00,2,     1.01,2,    0.917,2,    0.447,2,    0.059,2,        -999,9,   -999.0,9,   -999.0,9,  -0.9095
  316N20020530,   133,  1,      1,      1,2,20020626, 62.9170,  -5.1595, 1550,   1518.9,  -0.8571,  34.9111,2,  34.9111,2,    297.1,2,    296.8,2,    11.92,2,    14.95,2,     0.00,2,     1.01,2,    0.843,2,    0.426,2,    0.054,2,        -999,9,   2159.0,2,   2305.5,2,  -0.9213
  316N20020530,   134,  1,     19,     19,2,20020626, 62.8300,  -5.2610,  961,      3.7,   9.8862,  35.1404,7,  35.1400,2,    303.5,2,    305.6,2,     1.17,2,     3.91,2,     0.11,2,     0.35,2,    3.835,2,    2.108,2,    0.303,2,        -999,9,   2073.4,2,   2327.3,2,   9.8858
  316N20020530,   134,  1,     18,     18,2,20020626, 62.8300,  -5.2610,  961,     28.0,   9.8786,  35.1418,7,  35.1402,2,    305.5,2,    303.7,2,     0.88,2,     4.01,2,     0.11,2,     0.36,2,    3.941,2,    2.176,2,    0.312,2,        -999,9,   2076.0,2,   2322.8,2,   9.8754
  316N20020530,   134,  1,     17,     17,2,20020626, 62.8300,  -5.2610,  961,     52.6,   7.1706,  35.1385,2,  35.1404,2,    279.0,2,    278.1,2,     5.37,2,    12.70,2,     0.48,2,     0.87,2,    4.137,2,    2.247,2,    0.320,2,        -999,9,   2139.8,2,   2318.4,2,   7.1656
  316N20020530,   134,  1,     16,     16,2,20020626, 62.8300,  -5.2610,  961,     72.7,   6.9656,  35.1678,2,  35.1656,2,    281.5,2,    269.8,2,     6.16,2,    13.58,2,     0.11,2,     0.87,2,    4.059,2,    2.207,2,    0.315,2,        -999,9,   2138.3,2,   2320.7,2,   6.9588
  316N20020530,   134,  1,     15,     15,2,20020626, 62.8300,  -5.2610,  961,    117.7,   5.3999,  35.0493,2,  35.0496,2,    287.4,2,    287.9,2,     6.74,2,    13.29,2,     0.10,2,     0.87,2,    4.289,6,    2.296,6,    0.351,6,        -999,9,   2142.5,2,   2316.2,2,   5.3904
  316N20020530,   134,  1,     14,     14,2,20020626, 62.8300,  -5.2610,  961,    152.2,   4.1992,  34.9617,2,  34.9575,2,    299.0,2,    297.6,2,     6.25,2,    12.90,2,     0.10,2,     0.86,2,    4.581,2,    2.451,2,    0.372,2,        -999,9,   -999.0,9,   -999.0,9,   4.1883
  316N20020530,   134,  1,     13,     13,2,20020626, 62.8300,  -5.2610,  961,    186.6,   2.1682,  34.8009,2,-999.0000,9,    314.6,2,    314.4,2,     5.38,2,    11.92,2,     0.18,2,     0.83,2,    5.295,2,    2.751,2,    0.439,2,        -999,9,   2145.0,2,   2300.1,2,   2.1579
  316N20020530,   134,  1,     12,     12,2,20020626, 62.8300,  -5.2610,  961,    243.1,   0.9121,  34.8311,2,  34.8345,2,    317.4,2,    319.4,2,     5.67,2,    12.51,2,     0.03,2,     0.85,2,    5.443,2,    2.797,2,    0.438,2,        -999,9,   2151.4,2,   2299.9,2,   0.9011
  316N20020530,   134,  1,     11,     11,2,20020626, 62.8300,  -5.2610,  961,    288.6,   1.2472,  34.9127,2,  34.9149,2,    318.9,2,    318.2,2,     5.57,2,    12.51,2,     0.01,2,     0.85,2,    5.456,2,    2.853,2,    0.450,2,        -999,9,   2151.6,2,   2300.3,2,   1.2331
  316N20020530,   134,  1,     10,     10,2,20020626, 62.8300,  -5.2610,  961,    343.6,   0.4280,  34.8794,2,  34.8811,2,    314.4,2,    314.3,2,     6.16,2,    13.19,2,     0.00,2,     0.89,2,    4.991,2,    2.516,2,    0.359,2,        -999,9,   2157.7,2,   2301.9,2,   0.4135
  316N20020530,   134,  1,      9,      9,2,20020626, 62.8300,  -5.2610,  961,    394.1,   0.0018,  34.8781,2,  34.8809,2,    310.8,2,    310.9,2,  -999.00,9,    13.68,2,     0.00,2,     0.92,2,    4.603,2,    2.325,2,    0.325,2,        -999,9,   2161.3,2,   2300.8,2,  -0.0136
  316N20020530,   134,  1,      8,      8,2,20020626, 62.8300,  -5.2610,  961,    454.3,  -0.2043,  34.8819,2,  34.8848,2,    309.3,2,    309.1,2,     7.33,2,    13.78,2,     0.00,2,     0.93,2,    4.277,6,    2.130,6,    0.314,6,        -999,9,   -999.0,9,   -999.0,9,  -0.2216
  316N20020530,   134,  1,      7,      7,2,20020626, 62.8300,  -5.2610,  961,    524.1,  -0.3186,  34.8838,2,  34.8879,2,    307.0,2,    307.1,2,     7.52,2,    13.88,2,     0.00,2,     0.94,2,    3.949,2,    1.973,2,    0.270,2,        -999,9,   -999.0,9,   -999.0,9,  -0.3384
  316N20020530,   134,  1,      6,      6,2,20020626, 62.8300,  -5.2610,  961,    594.5,  -0.4133,  34.8886,2,  34.8913,2,    305.3,2,    305.7,2,     8.11,2,    14.07,2,     0.00,2,     0.95,2,    3.600,2,    1.841,2,    0.255,2,        -999,9,   -999.0,9,   -999.0,9,  -0.4356
  316N20020530,   134,  1,      5,      5,2,20020626, 62.8300,  -5.2610,  961,    665.9,  -0.4789,  34.8912,2,  34.8956,2,    301.1,2,    303.1,2,     8.70,2,    14.17,2,     0.00,2,     0.96,2,    3.146,2,    1.550,2,    0.200,2,        -999,9,   -999.0,9,   -999.0,9,  -0.5040
  316N20020530,   134,  1,      4,      4,2,20020626, 62.8300,  -5.2610,  961,    730.7,  -0.5168,  34.8947,2,  34.8987,2,    301.4,2,    302.0,2,     9.09,2,    14.27,2,     0.00,2,     0.96,2,    2.904,2,    1.437,2,    0.176,2,        -999,9,   -999.0,9,   -999.0,9,  -0.5445
  316N20020530,   134,  1,      3,      3,2,20020626, 62.8300,  -5.2610,  961,    790.1,  -0.5748,  34.8973,2,  34.9005,2,    300.9,2,    300.0,2,     9.77,2,    14.46,2,     0.00,2,     0.97,2,    2.581,2,    1.266,2,    0.159,2,        -999,9,   2161.3,2,   2304.9,2,  -0.6048
  316N20020530,   134,  1,      2,      2,2,20020626, 62.8300,  -5.2610,  961,    853.4,  -0.5922,  34.8991,2,  34.9032,2,    299.4,2,    299.4,2,     9.97,2,    14.46,2,     0.00,2,     0.97,2,    2.445,2,    1.203,2,    0.133,2,        -999,9,   -999.0,9,   -999.0,9,  -0.6250
  316N20020530,   134,  1,      1,      1,2,20020626, 62.8300,  -5.2610,  961,    939.6,  -0.5987,  34.9001,2,  34.9016,2,    298.6,2,    299.2,2,    10.07,2,    14.46,2,     0.00,2,     0.97,2,    2.385,2,    1.170,2,    0.135,2,        -999,9,   2160.5,2,   2303.2,2,  -0.6355