BOTTLE,20090109PRINUNIVRMKPRINUNIVRMK
EXPOCODE,SECT_ID,STNNBR,CASTNO,BTLNBR,BTLNBR_FLAG_W,DATE,TIME,LATITUDE,LONGITUDE,DEPTH,CTDPRS,CTDTMP,CTDSAL,CTDSAL_FLAG_W,SALNTY,SALNTY_FLAG_W,OXYGEN,OXYGEN_FLAG_W,SILCAT,SILCAT_FLAG_W,NITRAT,NITRAT_FLAG_W,PHSPHT,PHSPHT_FLAG_W,CFC-11,CFC-11_FLAG_W,CFC-12,CFC-12_FLAG_W,CFC113,CFC113_FLAG_W,CCL4,CCL4_FLAG_W,SF6,SF6_FLAG_W,TCARBN,TCARBN_FLAG_W,ALKALI,ALKALI_FLAG_W,THETA
,,,,,,,,,,METERS,DBARS,ITS-90,PSS-78,,PSS-78,,UMOL/KG,,UMOL/KG,,UMOL/KG,,UMOL/KG,,PMOL/KG,,PMOL/KG,,PMOL/KG,,PMOL/KG,,FMOL/KG,,UMOL/KG,,UMOL/KG,,DEGC
  74JC19960720,   GNS,    29,  1,     24,2,19960731,1833, 74.3900,   3.1000, 3610,      0.0,   5.5890,  34.1890,2,  34.1860,2,    322.2,2,     0.10,2,     4.98,2,     0.41,2,    4.739,   2,    2.407,   2,    0.419,   2,    6.216,   2,     1.32,   2,   2077.0,2,   2247.0,2,   5.5890
  74JC19960720,   GNS,    29,  1,     23,2,19960731,1833, 74.3900,   3.1000, 3610,      5.3,   5.3220,  34.2590,2,  34.2970,2,   -999.0,9,     0.20,2,     5.37,2,     0.42,2,    4.805,   2,    2.280,   2,    0.435,   2,    6.190,   2,     1.37,   2,   2083.1,2,   2247.0,2,   5.3216
  74JC19960720,   GNS,    29,  1,     22,2,19960731,1833, 74.3900,   3.1000, 3610,     15.3,   1.6180,  34.4720,2,  34.5280,2,    395.2,2,     1.27,2,     6.83,2,     0.53,2,    6.595,   2,    3.183,   2,    0.480,   2,    9.644,   2,     1.53,   2,   2095.6,2,   2263.0,2,   1.6173
  74JC19960720,   GNS,    29,  1,     21,2,19960731,1833, 74.3900,   3.1000, 3610,     25.6,  -1.1190,  34.6740,2,  34.6420,2,    390.9,2,     1.37,2,     9.27,2,     0.61,2, -999.000,   9, -999.000,   9, -999.000,   9, -999.000,   9,     1.53,   2,   2118.1,2,   2252.0,2,  -1.1197
  74JC19960720,   GNS,    29,  1,     20,2,19960731,1833, 74.3900,   3.1000, 3610,     45.6,  -1.2130,  34.7300,2,  34.7220,2,    349.6,2,     3.51,2,    13.56,2,     0.79,2,    5.507,   2,    2.572,   2,    0.481,   2,    7.187,   2,     1.44,   2,   -999.0,9,   2272.0,2,  -1.2142
  74JC19960720,   GNS,    29,  1,     19,2,19960731,1833, 74.3900,   3.1000, 3610,     70.3,  -0.5520,  34.7740,2,  34.7910,2,    340.0,2,     5.27,2,    14.63,2,     0.81,2, -999.000,   9, -999.000,   9, -999.000,   9, -999.000,   9,     1.32,   2,   2147.9,2,   2273.0,2,  -0.5542
  74JC19960720,   GNS,    29,  1,     18,2,19960731,1833, 74.3900,   3.1000, 3610,     95.5,  -0.5550,  34.7910,2,  34.8150,2,    331.3,2,     5.66,2,    15.12,2,     0.85,2,    4.393,   2,    2.129,   2,    0.359,   2,    5.130,   2,     1.19,   2,   2153.3,2,   2280.0,2,  -0.5580
  74JC19960720,   GNS,    29,  1,     17,2,19960731,1833, 74.3900,   3.1000, 3610,    121.4,  -0.3660,  34.8190,2,  34.8380,2,    335.2,2,     5.85,2,    15.22,2,     0.86,2, -999.000,   9, -999.000,   9, -999.000,   9, -999.000,   9,     1.05,   2,   2152.0,2,   2273.0,2,  -0.3701
  74JC19960720,   GNS,    29,  1,     16,2,19960731,1833, 74.3900,   3.1000, 3610,    145.8,  -0.1620,  34.8460,2,  34.8630,2,    327.4,2,     5.95,2,    15.22,2,     0.86,2,    3.880,   2,    1.792,   2,    0.327,   2,    4.640,   2,     0.99,   2,   2152.9,2,   2257.0,2,  -0.1672
  74JC19960720,   GNS,    29,  1,     15,2,19960731,1833, 74.3900,   3.1000, 3610,    196.3,  -0.1740,  34.8600,2,  34.8760,2,    316.5,2,     6.44,2,    15.80,2,     0.88,2, -999.000,   9, -999.000,   9, -999.000,   9, -999.000,   9,     0.85,   2,   2154.9,2,   2274.0,2,  -0.1810
  74JC19960720,   GNS,    29,  1,     14,2,19960731,1833, 74.3900,   3.1000, 3610,    246.6,  -0.2650,  34.8660,2,  34.8810,2,    319.6,2,     6.44,2,    15.80,2,     0.88,2,    3.600,   2,    1.676,   2,    0.289,   2,    4.119,   2,     0.81,   2,   2156.9,2,   2275.0,2,  -0.2738
  74JC19960720,   GNS,    29,  1,     13,2,19960731,1833, 74.3900,   3.1000, 3610,    296.9,  -0.4200,  34.8680,2,  34.8820,2,    320.9,2,     6.44,2,    15.80,2,     0.89,2, -999.000,   9, -999.000,   9, -999.000,   9, -999.000,   9,     0.86,   2,   2156.9,2,   2277.0,2,  -0.4303
  74JC19960720,   GNS,    29,  1,     12,2,19960731,1833, 74.3900,   3.1000, 3610,    396.4,  -0.6350,  34.8660,2,  34.8840,2,    323.9,2,     6.63,2,    15.80,2,     0.88,2, -999.000,   9, -999.000,   9, -999.000,   9, -999.000,   9,     0.91,   2,   2156.7,2,   2265.0,2,  -0.6484
  74JC19960720,   GNS,    29,  1,     11,2,19960731,1833, 74.3900,   3.1000, 3610,    496.8,  -0.7660,  34.8660,2,  34.8800,2,    326.1,2,     6.93,2,    15.90,2,     0.89,2,    3.619,   2,    1.679,   2,    0.308,   2,    4.377,   2,     0.91,   2,   2157.3,2,   2273.0,2,  -0.7827
  74JC19960720,   GNS,    29,  1,     10,2,19960731,1833, 74.3900,   3.1000, 3610,    749.1,  -0.8760,  34.8670,2,  34.8820,2,    327.4,2,     6.93,2,    15.90,2,     0.89,2,    3.874,   2,    1.831,   2,    0.309,   2,    4.422,   2,      0.9,   2,   2158.1,2,   2291.0,2,  -0.9023
  74JC19960720,   GNS,    29,  1,      9,2,19960731,1833, 74.3900,   3.1000, 3610,   1001.2,  -0.8970,  34.8700,2,  34.8850,2,    326.1,2,     7.32,2,    15.90,2,     0.89,2,    3.424,   2,    1.601,   2,    0.270,   2,    4.243,   2,     0.85,   2,   2160.2,2,   2276.0,2,  -0.9343
  74JC19960720,   GNS,    29,  1,      8,2,19960731,1833, 74.3900,   3.1000, 3610,   1253.4,  -0.8830,  34.8740,2,  34.8890,2,    330.9,2,     7.51,2,    16.20,2,     0.90,2,    3.361,   2,    1.569,   2,    0.269,   2,    4.051,   2,     0.78,   2,   2158.3,2,   2279.0,2,  -0.9327
  74JC19960720,   GNS,    29,  1,      7,2,19960731,1833, 74.3900,   3.1000, 3610,   1507.0,  -0.7730,  34.8930,2,  34.9070,2,    301.3,2,     9.56,2,    17.27,2,     0.96,2,    1.203,   2,    0.486,   2,    0.077,   2,    1.992,   2,     0.15,   2,   2158.4,2,   2275.0,2,  -0.8376
  74JC19960720,   GNS,    29,  1,      6,2,19960731,1833, 74.3900,   3.1000, 3610,   1759.8,  -0.8530,  34.8930,2,  34.9080,2,    301.7,2,    10.05,2,    17.46,2,     0.97,2,    0.954,   2,    0.414,   2, -999.000,   9,    1.543,   2,     0.13,   2,   2158.9,2,   2265.0,2,  -0.9312
  74JC19960720,   GNS,    29,  1,      5,2,19960731,1833, 74.3900,   3.1000, 3610,   2012.6,  -0.9020,  34.8920,2,  34.9070,2,    302.6,2,    10.54,2,    17.56,2,     0.98,2,    0.862,   2,    0.346,   2,    0.042,   2,    1.685,   2,     0.12,   2,   2162.4,2,   2311.0,3,  -0.9952
  74JC19960720,   GNS,    29,  1,      4,2,19960731,1833, 74.3900,   3.1000, 3610,   2520.2,  -0.9500,  34.8920,2,  34.9070,2,    303.9,2,    11.12,2,    17.56,2,     0.97,2,    0.906,   2,    0.375,   2, -999.000,   9,    1.804,   2,     0.08,   2,   2158.2,2,   2268.0,2,  -1.0768
  74JC19960720,   GNS,    29,  1,      3,2,19960731,1833, 74.3900,   3.1000, 3610,   3027.9,  -0.9650,  34.8890,2,  34.9040,2,    306.5,2,    11.32,2,    17.66,2,     0.98,2,    0.875,   2,    0.402,   2,    0.031,   2,    1.968,   2,      0.1,   2,   2160.0,2,   2284.0,2,  -1.1300
  74JC19960720,   GNS,    29,  1,      1,2,19960731,1833, 74.3900,   3.1000, 3610,   3599.8,  -0.9340,  34.8890,2,  34.9025,2,    306.1,2,    11.22,2,    17.46,2,     0.97,2,    0.857,   2,    0.456,   2, -999.000,   9,    1.941,   2,    0.125,   2,   2159.0,2,   2292.0,2,  -1.1480
  74JC19960720,   GNS,    30,  1,     24,2,19960801, 138, 74.6700,   0.0000, 3557,      0.2,   5.2010,  34.1390,2,  34.1510,2,    319.6,2,     0.10,2,     4.39,2,     0.30,2,    4.794,   2,    2.436,   2,    0.424,   2,    6.289,   2,     1.34,   2,   2071.4,2,   2246.0,2,   5.2010
  74JC19960720,   GNS,    30,  1,     23,2,19960801, 138, 74.6700,   0.0000, 3557,      7.0,   3.3560,  34.3590,2,  34.3870,2,    339.6,2,     0.10,2,     4.78,2,     0.32,2,    4.860,   2,    2.306,   2,    0.440,   2,    6.261,   2,     1.39,   2,   2078.8,2,   2268.0,2,   3.3556
  74JC19960720,   GNS,    30,  1,     22,2,19960801, 138, 74.6700,   0.0000, 3557,     17.4,  -0.7690,  34.6790,2,  34.6720,2,    396.1,2,     1.46,2,     7.71,2,     0.55,2,    6.365,   2,    3.078,   2,    0.491,   2, -999.000,   9,     1.47,   2,   2107.8,2,   2262.0,2,  -0.7695
  74JC19960720,   GNS,    30,  1,     21,2,19960801, 138, 74.6700,   0.0000, 3557,     27.0,  -0.9640,  34.6930,2,  34.7120,2,    395.2,2,     3.12,2,     9.37,2,     0.63,2,    5.619,   2,    2.584,   2,    0.486,   2,    7.287,   2,     1.48,   2,   2118.4,2,   2277.0,2,  -0.9647
  74JC19960720,   GNS,    30,  1,     20,2,19960801, 138, 74.6700,   0.0000, 3557,     47.6,  -0.5190,  34.7810,2,  34.7830,2,    370.0,2,     5.07,2,    12.78,2,     0.80,2,    5.429,   2,    2.632,   2,    0.437,   2,    7.259,   2,      1.3,   2,   2144.2,2,   2286.0,2,  -0.5205
  74JC19960720,   GNS,    30,  1,     19,2,19960801, 138, 74.6700,   0.0000, 3557,     72.2,  -0.6200,  34.8060,2,  34.8250,2,    342.6,2,     5.76,2,    14.73,2,     0.86,2,    5.174,   2,    2.144,   2,    0.383,   2,    5.992,   2,     1.17,   2,   2151.3,2,   2277.0,2,  -0.6222
  74JC19960720,   GNS,    30,  1,     18,2,19960801, 138, 74.6700,   0.0000, 3557,     96.5,  -0.4250,  34.8480,2,  34.8670,2,    332.6,2,     6.15,2,    15.41,2,     0.87,2,    4.190,   2,    1.907,   2,    0.328,   2,    5.073,   2,        1,   2,   2155.1,2,   2276.0,2,  -0.4282
  74JC19960720,   GNS,    30,  1,     17,2,19960801, 138, 74.6700,   0.0000, 3557,    123.3,  -0.6080,  34.8520,2,  34.8660,2,    336.1,2,     6.34,2,    15.41,2,     0.87,2,    4.330,   2,    2.064,   2,    0.349,   2,    5.551,   2,     1.11,   2,   2157.8,2,   2275.0,2,  -0.6119
  74JC19960720,   GNS,    30,  1,     16,2,19960801, 138, 74.6700,   0.0000, 3557,    148.2,  -0.5790,  34.8620,2,  34.8780,2,    337.4,2,     6.34,2,    15.41,2,     0.87,2,    4.244,   2, -999.000,   9,    0.326,   2,    5.258,   2,     1.11,   2,   2159.6,2,   2276.0,2,  -0.5837
  74JC19960720,   GNS,    30,  1,     15,2,19960801, 138, 74.6700,   0.0000, 3557,    198.9,  -0.6670,  34.8650,2,  34.8820,2,    334.4,2,     6.54,2,    15.71,2,     0.89,2,    4.166,   2,    1.976,   2,    0.353,   2,    5.324,   2,     1.01,   2,   2158.9,2,   2282.0,2,  -0.6733
  74JC19960720,   GNS,    30,  1,     14,2,19960801, 138, 74.6700,   0.0000, 3557,    249.6,  -0.7220,  34.8660,2,  34.8830,2,    336.1,2,     6.73,2,    16.29,2,     0.91,2,    4.142,   2,    1.842,   2,    0.331,   2,    4.957,   2,        1,   2,   2160.7,2,   2285.0,2,  -0.7299
  74JC19960720,   GNS,    30,  1,     13,2,19960801, 138, 74.6700,   0.0000, 3557,    298.9,  -0.7380,  34.8660,2,  34.8830,2,    331.7,2,     6.73,2,    15.80,2,     0.88,2,    3.943,   2,    1.901,   2,    0.318,   2,    4.995,   2,     0.97,   2,   2160.5,2,   2279.0,2,  -0.7476
  74JC19960720,   GNS,    30,  1,     12,2,19960801, 138, 74.6700,   0.0000, 3557,    398.6,  -0.8330,  34.8660,2,  34.8830,2,    332.2,2,     6.83,2,    15.71,2,     0.88,2,    4.110,   2,    1.920,   2,    0.324,   2,    4.885,   2,        1,   2,   2162.0,2,   2280.0,2,  -0.8458
  74JC19960720,   GNS,    30,  1,     11,2,19960801, 138, 74.6700,   0.0000, 3557,    501.2,  -0.8780,  34.8660,2,  34.8830,2,    333.5,2,     6.83,2,    15.80,2,     0.90,2,    4.025,   2,    1.902,   2,    0.325,   2,    4.996,   2,     0.98,   2,   2162.3,2,   2282.0,2,  -0.8944
  74JC19960720,   GNS,    30,  1,     10,2,19960801, 138, 74.6700,   0.0000, 3557,    750.2,  -0.8990,  34.8680,2,  34.8850,2,    332.6,2,     6.93,2,    15.80,2,     0.90,2, -999.000,   9, -999.000,   9, -999.000,   9, -999.000,   9,     0.89,   2,   2159.9,2,   2286.0,2,  -0.9252
  74JC19960720,   GNS,    30,  1,      9,2,19960801, 138, 74.6700,   0.0000, 3557,   1004.3,  -0.9090,  34.8700,2,  34.8870,2,    330.4,2,     7.22,2,    16.10,2,     0.91,2, -999.000,   9, -999.000,   9, -999.000,   9, -999.000,   9,     0.85,   2,   2160.5,2,   2277.0,2,  -0.9463
  74JC19960720,   GNS,    30,  1,      8,2,19960801, 138, 74.6700,   0.0000, 3557,   1257.4,  -0.8060,  34.8850,2,  34.9000,2,    313.5,2,     8.68,2,    16.88,2,     0.95,2,    2.229,   2,    0.940,   2,    0.155,   2,    3.449,   2,     0.44,   2,   2162.2,2,   2295.0,2,  -0.8567
  74JC19960720,   GNS,    30,  1,      7,2,19960801, 138, 74.6700,   0.0000, 3557,   1508.6,  -0.8310,  34.8920,2,  34.9080,2,    312.6,2,     9.76,2,    17.95,2,     0.99,2,    1.038,   2,    0.490,   2,    0.061,   2,    2.005,   2,     0.15,   2,   2158.6,2,   2285.0,2,  -0.8950
  74JC19960720,   GNS,    30,  1,      6,2,19960801, 138, 74.6700,   0.0000, 3557,   1762.5,  -0.9170,  34.8920,2,  34.9080,2,    306.5,2,    10.15,2,    17.56,2,     0.98,2,    0.935,   2, -999.000,   9,    0.045,   2,    1.777,   2,      0.1,   2,   -999.0,9,   2284.0,2,  -0.9945
  74JC19960720,   GNS,    30,  1,      5,2,19960801, 138, 74.6700,   0.0000, 3557,   2015.5,  -0.9440,  34.8920,2,  34.9070,2,    307.4,2,    10.34,2,    17.46,2,     0.98,2,    0.850,   2,    0.407,   2,    0.037,   2,    1.824,   2,      0.1,   2,   2161.3,2,   2278.0,2,  -1.0367
  74JC19960720,   GNS,    30,  1,      4,2,19960801, 138, 74.6700,   0.0000, 3557,   2522.7,  -0.9800,  34.8910,2,  34.9050,2,    313.9,2,    10.93,2,    17.46,2,     0.98,2,    0.710,   2, -999.000,   9,    0.039,   2,    1.585,   2,     0.08,   2,   2162.1,2,   2283.0,2,  -1.1064
  74JC19960720,   GNS,    30,  1,      3,2,19960801, 138, 74.6700,   0.0000, 3557,   3028.5,  -0.9890,  34.8880,2,  34.9040,2,    310.4,2,    11.12,2,    18.34,3,     1.00,2,    0.651,   2,    0.412,   2,    0.027,   2,    1.787,   2,     0.08,   2,   2159.2,2,   2277.0,2,  -1.1535
  74JC19960720,   GNS,    30,  1,      1,2,19960801, 138, 74.6700,   0.0000, 3557,   3547.0,  -0.9650,  34.8870,2,  34.9015,2,    311.7,2,    11.41,2,    17.56,2,     0.98,2,    0.640,   2,    0.404,   2,    0.032,   2,    1.748,   2,    0.065,   2,   2159.4,2,   2283.0,2,  -1.1735