BOTTLE,20090109PRINUNIVRMKPRINUNIVRMK
EXPOCODE,SECT_ID,STNNBR,CASTNO,BTLNBR,BTLNBR_FLAG_W,DATE,TIME,LATITUDE,LONGITUDE,DEPTH,CTDPRS,CTDTMP,CTDSAL,CTDSAL_FLAG_W,SALNTY,SALNTY_FLAG_W,OXYGEN,OXYGEN_FLAG_W,SILCAT,SILCAT_FLAG_W,NITRAT,NITRAT_FLAG_W,PHSPHT,PHSPHT_FLAG_W,CFC-11,CFC-11_FLAG_W,CFC-12,CFC-12_FLAG_W,CFC113,CFC113_FLAG_W,CCL4,CCL4_FLAG_W,SF6,SF6_FLAG_W,TCARBN,TCARBN_FLAG_W,ALKALI,ALKALI_FLAG_W,THETA
,,,,,,,,,,METERS,DBARS,ITS-90,PSS-78,,PSS-78,,UMOL/KG,,UMOL/KG,,UMOL/KG,,UMOL/KG,,PMOL/KG,,PMOL/KG,,PMOL/KG,,PMOL/KG,,FMOL/KG,,UMOL/KG,,UMOL/KG,,DEGC
  74JC19960720,   GNS,    10,  1,     24,2,19960726,2032, 74.2500,  -8.5300, 3307,      0.0,   2.4420,  32.0670,2,  32.0670,2,    351.7,2,     0.00,2,     1.95,2,     0.08,2,    5.552,   2,    3.405,   2,    0.509,   2, -999.000,   9,     -999,   9,   1951.2,2,   2110.0,2,   2.4420
  74JC19960720,   GNS,    10,  1,     23,2,19960726,2032, 74.2500,  -8.5300, 3307,      5.1,   2.4520,  32.0740,2,  32.1020,2,    360.4,2,     0.20,2,     1.07,2,     0.10,2,    5.830,   2,    2.767,   2,    0.528,   2,    7.511,   2,     1.53,   2,   1951.7,2,   2111.0,2,   2.4517
  74JC19960720,   GNS,    10,  1,     22,2,19960726,2032, 74.2500,  -8.5300, 3307,     14.5,   0.2900,  33.8650,2,  33.5860,2,    406.5,2,     3.71,2,     3.71,2,     0.29,2,    5.790,   2,    3.560,   2,    0.542,   2, -999.000,   9,     1.59,   2,   2022.2,2,   2209.0,2,   0.2895
  74JC19960720,   GNS,    10,  1,     21,2,19960726,2032, 74.2500,  -8.5300, 3307,     25.8,  -0.8440,  34.3910,2,  34.4180,2,    406.1,2,     4.59,2,     8.20,2,     0.52,2,    5.865,   2,    2.807,   2,    0.506,   2,    7.036,   2,     1.51,   2,   2092.5,2,   2257.0,2,  -0.8447
  74JC19960720,   GNS,    10,  1,     20,2,19960726,2032, 74.2500,  -8.5300, 3307,     45.4,  -0.5760,  34.6270,2,  34.6490,2,    356.5,2,     5.27,2,    11.02,2,     0.67,2,    5.432,   2,    3.254,   2,    0.500,   2, -999.000,   9,     1.41,   2,   2127.9,2,   2267.0,2,  -0.5774
  74JC19960720,   GNS,    10,  1,     19,2,19960726,2032, 74.2500,  -8.5300, 3307,     72.2,   0.6090,  34.8280,2,  34.8260,2,    327.0,2,     5.76,2,    14.05,2,     0.78,2,    4.856,   2,    2.389,   2,    0.403,   2,    5.679,   2,     1.29,   2,   2152.2,2,   2276.0,2,   0.6060
  74JC19960720,   GNS,    10,  1,     18,2,19960726,2032, 74.2500,  -8.5300, 3307,     95.9,   1.0870,  34.8950,2,  34.8910,2,    317.4,2,     6.24,2,    14.73,2,     0.82,2,    4.321,   2,    2.382,   2,    0.392,   2,    5.051,   2,     1.04,   2,   2151.4,2,   2280.0,2,   1.0826
  74JC19960720,   GNS,    10,  1,     17,2,19960726,2032, 74.2500,  -8.5300, 3307,    120.4,   0.6840,  34.8810,2,  34.8870,2,    313.9,2,     6.24,2,    15.22,2,     0.98,3,    3.864,   2,    1.943,   2,    0.301,   2,    4.714,   2,     0.83,   2,   2152.0,2,   2278.0,2,   0.6789
  74JC19960720,   GNS,    10,  1,     16,2,19960726,2032, 74.2500,  -8.5300, 3307,    145.9,   0.6480,  34.8900,2,  34.8940,2,    310.4,2,     6.54,2,    15.22,2,     0.85,2,    3.308,   2,    1.683,   2,    0.244,   2,    4.300,   2,     0.84,   2,   2153.5,2,   2280.0,2,   0.6418
  74JC19960720,   GNS,    10,  1,     15,2,19960726,2032, 74.2500,  -8.5300, 3307,    196.4,   0.2600,  34.8860,2,  34.8830,2,    314.4,2,     6.54,2,    15.32,2,     0.89,2,    3.512,   2,    1.798,   2,    0.271,   2,    4.427,   2,     -999,   9,   2153.5,2,   2277.0,2,   0.2522
  74JC19960720,   GNS,    10,  1,     14,2,19960726,2032, 74.2500,  -8.5300, 3307,    246.9,  -0.0090,  34.8820,2,  34.8880,2,    321.3,2,     6.54,2,    15.41,2,     0.85,2,    3.506,   2,    1.791,   2,    0.276,   2,    4.547,   2,     0.76,   2,   2153.9,2,   2279.0,2,  -0.0183
  74JC19960720,   GNS,    10,  1,     13,2,19960726,2032, 74.2500,  -8.5300, 3307,    296.9,  -0.1900,  34.8810,2,  34.8850,2,    317.4,2,     6.54,2,    15.51,2,     0.85,2,    3.606,   2,    1.767,   2,    0.280,   2,    4.558,   2,     0.91,   2,   2157.3,2,   2273.0,2,  -0.2009
  74JC19960720,   GNS,    10,  1,     12,2,19960726,2032, 74.2500,  -8.5300, 3307,    397.4,  -0.4740,  34.8780,2,  34.8820,2,    321.3,2,     6.83,2,    15.51,2,     0.85,2,    3.864,   2,    1.975,   2,    0.286,   2,    4.831,   2,     -999,   9,   2158.5,2,   -999.0,9,  -0.4880
  74JC19960720,   GNS,    10,  1,     11,2,19960726,2032, 74.2500,  -8.5300, 3307,    498.0,  -0.4710,  34.8870,2,  34.8930,2,    317.4,2,     7.12,2,    15.71,2,     0.89,2,    3.466,   2,    1.705,   2,    0.261,   2,    4.421,   2,     0.69,   2,   2160.8,2,   -999.0,9,  -0.4890
  74JC19960720,   GNS,    10,  1,     10,2,19960726,2032, 74.2500,  -8.5300, 3307,    745.0,  -0.7830,  34.8790,2,  34.8840,2,    322.6,2,     7.22,2,    15.71,2,     0.89,2,    3.765,   2,    1.914,   2,    0.294,   2,    4.800,   2,     0.78,   2,   2161.4,2,   -999.0,9,  -0.8097
  74JC19960720,   GNS,    10,  1,      9,2,19960726,2032, 74.2500,  -8.5300, 3307,   1001.7,  -0.8590,  34.8810,2,  34.8840,2,    322.6,2,     7.41,2,    15.90,2,     0.90,2,    3.628,   2,    1.758,   2,    0.276,   2,    4.604,   2,     0.69,   2,   2163.1,2,   -999.0,9,  -0.8966
  74JC19960720,   GNS,    10,  1,      8,2,19960726,2032, 74.2500,  -8.5300, 3307,   1254.1,  -0.7600,  34.8980,2,  34.9000,2,    309.1,2,     8.98,2,    16.78,2,     0.94,2,    1.851,   2,    0.951,   2,    0.135,   2,    3.058,   2,     0.23,   2,   2162.4,2,   -999.0,9,  -0.8110
  74JC19960720,   GNS,    10,  1,      7,2,19960726,2032, 74.2500,  -8.5300, 3307,   1506.8,  -0.8020,  34.9030,2,  34.9080,2,   -999.0,9,     9.85,2,    17.17,2,     0.97,2,    1.263,   2,    0.565,   2,    0.067,   2,    2.392,   2,     -999,   9,   2162.0,2,   2281.0,2,  -0.8662
  74JC19960720,   GNS,    10,  1,      6,2,19960726,2032, 74.2500,  -8.5300, 3307,   1759.7,  -0.8670,  34.9040,2,  34.9060,2,    309.1,2,    10.34,2,    17.27,2,     0.98,2,    0.941,   2,    0.520,   2,    0.055,   2,    2.146,   2,     -999,   9,   2161.8,2,   -999.0,9,  -0.9450
  74JC19960720,   GNS,    10,  1,      5,2,19960726,2032, 74.2500,  -8.5300, 3307,   2011.9,  -0.9140,  34.9040,2,  34.9060,2,   -999.0,9,    10.73,2,    17.27,2,     0.98,2,    0.944,   2,    0.359,   2,    0.044,   2,    2.086,   2,     -999,   9,   2160.8,2,   -999.0,9,  -1.0069
  74JC19960720,   GNS,    10,  1,      4,2,19960726,2032, 74.2500,  -8.5300, 3307,   2520.7,  -0.9520,  34.9010,2,  34.9050,2,   -999.0,9,    10.93,2,    17.27,2,     1.02,2, -999.000,   9, -999.000,   9, -999.000,   9, -999.000,   9,     -999,   9,   2160.9,2,   -999.0,9,  -1.0788
  74JC19960720,   GNS,    10,  1,      3,2,19960726,2032, 74.2500,  -8.5300, 3307,   3028.5,  -0.9860,  34.8980,2,  34.8990,2,    306.5,2,    11.22,2,    17.27,2,     0.98,2,    0.840,   2,    0.334,   2, -999.000,   9,    2.207,   2,     -999,   9,   2161.0,2,   2282.0,2,  -1.1505
  74JC19960720,   GNS,    10,  1,      1,2,19960726,2032, 74.2500,  -8.5300, 3307,   3273.8,  -0.9850,  34.8970,2,  34.8990,2,    310.9,2,    11.12,2,    16.98,3,     0.96,2,    0.833,   2,    0.336,   2, -999.000,   9,    2.269,   2,     -999,   9,   2163.4,2,   2279.0,2,  -1.1695
  74JC19960720,   GNS,    11,  1,     24,2,19960727, 318, 74.5800,  -6.7500, 3460,      0.0,   3.8810,  32.9540,2,  32.9780,2,    343.9,2,     0.00,2,     2.44,2,     0.19,2,    5.873,   2,    3.203,   2,    0.558,   2, -999.000,   9,     -999,   9,   1998.8,2,   2169.0,2,   3.8810
  74JC19960720,   GNS,    11,  1,     23,2,19960727, 318, 74.5800,  -6.7500, 3460,      4.6,   3.8660,  33.1600,2,  33.3460,2,    353.5,2,     0.00,2,     2.44,2,     0.23,2, -999.000,   9, -999.000,   9, -999.000,   9, -999.000,   9,      1.4,   2,   2013.8,2,   2192.0,2,   3.8657
  74JC19960720,   GNS,    11,  1,     22,2,19960727, 318, 74.5800,  -6.7500, 3460,     14.8,   3.4210,  33.5150,2,  33.6410,2,    374.4,2,     0.39,2,     3.02,2,     0.24,2,    6.457,   2,    3.065,   2,    0.578,   2,    9.424,   2,     1.41,   2,   2041.0,2,   2212.0,2,   3.4201
  74JC19960720,   GNS,    11,  1,     21,2,19960727, 318, 74.5800,  -6.7500, 3460,     25.4,  -0.8590,  34.5730,2,  34.6160,2,    410.0,2,     4.00,2,     8.39,2,     0.66,2, -999.000,   9, -999.000,   9, -999.000,   9, -999.000,   9,     1.42,   2,   2101.2,2,   2268.0,2,  -0.8597
  74JC19960720,   GNS,    11,  1,     20,2,19960727, 318, 74.5800,  -6.7500, 3460,     45.5,  -1.5950,  34.6830,2,  34.7000,2,    370.0,2,     5.17,2,    11.90,2,     0.76,2,    6.730,   2,    3.734,   2,    0.626,   2, -999.000,   9,     1.42,   2,   2131.1,2,   2268.0,2,  -1.5960
  74JC19960720,   GNS,    11,  1,     19,2,19960727, 318, 74.5800,  -6.7500, 3460,     70.7,  -1.0900,  34.7540,2,  34.7650,2,    348.3,2,     5.76,2,    14.34,2,     0.84,2, -999.000,   9, -999.000,   9, -999.000,   9, -999.000,   9,     1.29,   2,   2141.3,2,   2269.0,2,  -1.0919
  74JC19960720,   GNS,    11,  1,     18,2,19960727, 318, 74.5800,  -6.7500, 3460,     96.8,  -0.2750,  34.8490,2,  34.8530,2,    331.3,2,     6.05,2,    15.32,2,     0.88,2,    4.825,   2,    2.350,   2,    0.402,   2,    6.610,   2,     1.04,   2,   2147.5,2,   2282.0,2,  -0.2783
  74JC19960720,   GNS,    11,  1,     17,2,19960727, 318, 74.5800,  -6.7500, 3460,    121.0,   0.0820,  34.8790,2,  34.8870,2,    329.6,2,     6.44,2,    15.51,2,     0.88,2, -999.000,   9, -999.000,   9, -999.000,   9, -999.000,   9,     0.99,   2,   2147.4,2,   2270.0,2,   0.0775
  74JC19960720,   GNS,    11,  1,     16,2,19960727, 318, 74.5800,  -6.7500, 3460,    145.5,   0.0240,  34.8880,2,  34.8920,2,    328.7,2,     6.63,2,    15.51,2,     0.88,2,    4.239,   2,    2.135,   2,    0.382,   2,    5.395,   2,     0.93,   2,   2150.4,2,   2276.0,2,   0.0186
  74JC19960720,   GNS,    11,  1,     15,2,19960727, 318, 74.5800,  -6.7500, 3460,    195.8,  -0.1960,  34.8910,2,  34.8920,2,    325.2,2,     6.54,2,    15.90,2,     0.91,2,    3.991,   2,    1.961,   2,    0.322,   2,    5.543,   2,     0.83,   2,   2151.6,2,   2276.0,2,  -0.2030
  74JC19960720,   GNS,    11,  1,     14,2,19960727, 318, 74.5800,  -6.7500, 3460,    246.2,  -0.4510,  34.8840,2,  34.8880,2,    328.7,2,     6.83,2,    15.71,2,     0.91,2, -999.000,   9, -999.000,   9, -999.000,   9, -999.000,   9,     0.91,   2,   2153.6,2,   2279.0,2,  -0.4594
  74JC19960720,   GNS,    11,  1,     13,2,19960727, 318, 74.5800,  -6.7500, 3460,    294.6,  -0.6580,  34.8760,2,  34.8810,2,    335.2,2,     6.73,2,    15.71,2,     0.91,2, -999.000,   9, -999.000,   9, -999.000,   9, -999.000,   9,     1.02,   2,   2155.2,2,   2277.0,2,  -0.6676
  74JC19960720,   GNS,    11,  1,     12,2,19960727, 318, 74.5800,  -6.7500, 3460,    397.0,  -0.7820,  34.8740,2,  34.8790,2,    333.0,2,     6.93,2,    15.61,2,     0.89,2,    4.683,   2,    2.383,   2,    0.416,   2,    5.843,   2,     0.97,   2,   2154.3,2,   2274.0,2,  -0.7949
  74JC19960720,   GNS,    11,  1,     11,2,19960727, 318, 74.5800,  -6.7500, 3460,    497.6,  -0.8260,  34.8760,2,  34.8810,2,    333.9,2,     6.93,2,    15.80,2,     0.89,2,    4.499,   2,    2.228,   2,    0.363,   2,    6.150,   2,     0.92,   2,   2156.2,2,   2275.0,2,  -0.8425
  74JC19960720,   GNS,    11,  1,     10,2,19960727, 318, 74.5800,  -6.7500, 3460,    748.9,  -0.8820,  34.8780,2,  34.8810,2,    334.8,2,     6.93,2,    15.80,2,     0.91,2,    4.725,   2,    2.363,   2,    0.428,   3,    5.921,   2,     0.99,   2,   2154.7,2,   2277.0,2,  -0.9082
  74JC19960720,   GNS,    11,  1,      9,2,19960727, 318, 74.5800,  -6.7500, 3460,   1001.6,  -0.8910,  34.8790,2,  34.8840,2,    332.2,2,     7.51,2,    15.80,2,     0.91,2,    4.133,   2,    2.025,   2,    0.344,   2,    5.760,   2,     1.01,   2,   2154.3,2,   2290.0,2,  -0.9284
  74JC19960720,   GNS,    11,  1,      8,2,19960727, 318, 74.5800,  -6.7500, 3460,   1253.8,  -0.8080,  34.8920,2,  34.8960,2,    318.7,2,     8.59,2,    16.68,2,     0.95,2,    2.699,   2,    1.264,   2,    0.216,   2,    4.141,   2,      0.5,   2,   2157.0,2,   -999.0,9,  -0.8585
  74JC19960720,   GNS,    11,  1,      7,2,19960727, 318, 74.5800,  -6.7500, 3460,   1506.4,  -0.8090,  34.9020,2,  34.9050,2,    307.8,2,     9.76,2,    17.17,2,     0.98,2,    1.416,   2,    0.596,   2,    0.078,   2,    2.926,   2,     0.25,   2,   2155.0,2,   2278.0,2,  -0.8731
  74JC19960720,   GNS,    11,  1,      6,2,19960727, 318, 74.5800,  -6.7500, 3460,   1759.3,  -0.8900,  34.9030,2,  34.9050,2,    309.1,2,    10.15,2,    17.27,2,     0.98,2,    1.184,   2,    0.501,   2,    0.097,   2,    2.633,   2,     0.16,   2,   2155.9,2,   2286.0,2,  -0.9677
  74JC19960720,   GNS,    11,  1,      5,2,19960727, 318, 74.5800,  -6.7500, 3460,   2012.0,  -0.9310,  34.9030,2,  34.9040,2,    310.0,2,    10.54,2,    17.27,2,     0.97,2,    1.112,   2,    0.501,   2,    0.057,   2,    2.667,   2,     -999,   9,   2156.8,2,   2279.0,2,  -1.0237
  74JC19960720,   GNS,    11,  1,      4,2,19960727, 318, 74.5800,  -6.7500, 3460,   2520.9,  -0.9650,  34.9010,2,  34.9040,2,    311.3,2,    10.83,2,    17.27,2,     0.98,2,    0.879,   2,    0.469,   2,    0.042,   2,    2.410,   2,     -999,   9,   2156.6,2,   2279.0,2,  -1.0915
  74JC19960720,   GNS,    11,  1,      3,2,19960727, 318, 74.5800,  -6.7500, 3460,   3028.1,  -0.9800,  34.9000,2,  34.9000,2,    317.8,2,    11.22,2,    17.27,2,     0.98,2, -999.000,   9, -999.000,   9, -999.000,   9, -999.000,   9,     -999,   9,   2155.2,2,   -999.0,9,  -1.1446
  74JC19960720,   GNS,    11,  1,      1,2,19960727, 318, 74.5800,  -6.7500, 3460,   3450.0,  -0.9740,  34.8970,2,  34.8985,2,    313.9,2,    11.41,2,    16.68,3,     0.93,3,    0.824,   2,    0.406,   2,    0.037,   2,    2.585,   2,     0.11,   2,   2157.0,2,   2293.0,2,  -1.1738