BOTTLE,20090109PRINUNIVRMKPRINUNIVRMK
# Data rcd from A. Olsen 2/16/06 
# Ship: James Clark Ross 
# Cruise: 74JC9608 
# Dates: 7/20 - 8/22/1996  
# EXPOCODE: 74JC19960720 
# Region: Greenland-Norwegian Sea 
# Chief Scientist: A.Watson (School of Env. Sci., Univ. East Anglia, UK). 
# 41 stations with 24 bottle Rosette 
# Hydro: Who - A.Watson; Status - final 
# Nuts/O2: Who - A.Watson/S.Mortimer/N.Shuttlewood; Status - final 
# 	Nutrients: Analysed on board the ship (Skalar Autoanalyser) 
# 	Oxygen: Analysed on board (Winkler titration).  
# TCO2: Who - T. Johannessen/I.Skjelvan; Status - final 
# 	Notes: Method: SOMMA extraction system (K. Johnson) and coulometrically detection (DOE, 1994). 
# 	CRM used to assure accuracy.  
# TA: Who - T. Johannessen/I.Skjelvan; Status - final 
# 	Method: TA determined by titrating the sample with HCl and measure the pH change using a potentiometric method (Haraldsson et al., 1997).  
# 	CRM used to assure accuracy. 
# fCO2: Who - I.Skjelvan; Status - underway only  
# CFC: Who - A.Olsson/E.Fogelqvist, Göteborg University; Status - final 
# 	Notes: data from Anders Olsson 11/9/2007 
# 	includes cfc113 and ccl4 
# SF6: Who - Mare-José Messias, U. East Anglia; Status - final 
# 	Notes: data from Anders Olsson 11/9/2007 
# References: 
# Haraldsson, C., Anderson, L.G., Hassellov, M., Hulth, S. and Olsson, K. 1997. Rapid, high-precision potentiometric titration of alkalinity in the ocean and sediment pore waters. Deep-Sea Res. I, 44, 2031-2044 
EXPOCODE,SECT_ID,STNNBR,CASTNO,BTLNBR,BTLNBR_FLAG_W,DATE,TIME,LATITUDE,LONGITUDE,DEPTH,CTDPRS,CTDTMP,CTDSAL,CTDSAL_FLAG_W,SALNTY,SALNTY_FLAG_W,OXYGEN,OXYGEN_FLAG_W,SILCAT,SILCAT_FLAG_W,NITRAT,NITRAT_FLAG_W,PHSPHT,PHSPHT_FLAG_W,CFC-11,CFC-11_FLAG_W,CFC-12,CFC-12_FLAG_W,CFC113,CFC113_FLAG_W,CCL4,CCL4_FLAG_W,SF6,SF6_FLAG_W,TCARBN,TCARBN_FLAG_W,ALKALI,ALKALI_FLAG_W,THETA
,,,,,,,,,,METERS,DBARS,ITS-90,PSS-78,,PSS-78,,UMOL/KG,,UMOL/KG,,UMOL/KG,,UMOL/KG,,PMOL/KG,,PMOL/KG,,PMOL/KG,,PMOL/KG,,FMOL/KG,,UMOL/KG,,UMOL/KG,,DEGC
  74JC19960720,   GNS,     7,  1,     24,2,19960726,  15, 73.6200,  -3.1000, 3473,      0.0,  -0.3390,  30.1210,2,  30.1530,2,    306.5,3,     2.83,2,     5.66,2,     0.35,2,    7.238,   2,    3.677,   2,    0.640,   2, -999.000,   9,     -999,   9,   1854.2,2,   1655.0,3,  -0.3390
  74JC19960720,   GNS,     7,  1,     23,2,19960726,  15, 73.6200,  -3.1000, 3473,     10.4,  -0.9760,  34.0930,2,  34.0210,2,    338.3,3,     4.39,2,     6.54,2,     0.38,2,    7.316,   2,    3.305,   2,    0.663,   2,    9.425,   2,     -999,   9,   2067.0,2,   1944.0,3,  -0.9763
  74JC19960720,   GNS,     7,  1,     22,2,19960726,  15, 73.6200,  -3.1000, 3473,     20.3,  -1.2590,  34.2940,2,  34.3190,2,    325.6,3,     4.88,2,     8.20,2,     0.48,2,    6.623,   2,    3.256,   2,    0.533,   2, -999.000,   9,     -999,   9,   2092.9,2,   2225.0,3,  -1.2595
  74JC19960720,   GNS,     7,  1,     21,2,19960726,  15, 73.6200,  -3.1000, 3473,     30.3,  -1.2990,  34.3840,2,  34.3730,2,    318.3,3,     5.17,2,     9.37,2,     0.54,2,    6.989,   2,    3.201,   2,    0.655,   2,    8.721,   2,     -999,   9,   2101.7,2,   2256.0,2,  -1.2997
  74JC19960720,   GNS,     7,  1,     20,2,19960726,  15, 73.6200,  -3.1000, 3473,     50.2,  -0.7360,  34.6490,2,  34.6490,2,    290.0,3,     5.95,2,    13.95,2,     0.76,2,    6.120,   2,    2.954,   2,    0.503,   2,    8.574,   2,     -999,   9,   2137.0,2,   2268.0,2,  -0.7375
  74JC19960720,   GNS,     7,  1,     19,2,19960726,  15, 73.6200,  -3.1000, 3473,     75.5,   0.2920,  34.8010,2,  34.8040,2,    278.3,3,     6.05,2,    15.12,2,     0.81,2,    5.159,   2,    2.359,   2,    0.408,   2,    6.277,   2,     -999,   9,   2143.2,2,   2273.0,2,   0.2891
  74JC19960720,   GNS,     7,  1,     18,2,19960726,  15, 73.6200,  -3.1000, 3473,    100.4,   0.5855,  34.8730,2,  34.8695,2,    273.5,3,     6.44,2,    15.32,2,     0.82,2,    4.930,   2,    2.360,   2,    0.440,   2,    6.120,   2,     -999,   9,   2145.3,2,   2278.0,2,   0.5813
  74JC19960720,   GNS,     7,  1,     16,2,19960726,  15, 73.6200,  -3.1000, 3473,    125.1,   0.4520,  34.8750,2,  34.8750,2,    274.4,3,     6.24,2,    15.51,2,     0.82,2,    4.854,   2,    2.201,   2,    0.376,   2,    5.992,   2,     -999,   9,   2147.7,2,   2282.0,2,   0.4469
  74JC19960720,   GNS,     7,  1,     15,2,19960726,  15, 73.6200,  -3.1000, 3473,    150.3,   0.4050,  34.8870,2,  34.8840,2,    271.3,3,     6.24,2,    15.41,2,     0.81,2,    4.749,   2,    2.189,   2,    0.396,   2,    6.045,   2,     -999,   9,   2149.0,2,   2279.0,2,   0.3989
  74JC19960720,   GNS,     7,  1,     14,2,19960726,  15, 73.6200,  -3.1000, 3473,    200.0,   0.2630,  34.8910,2,  34.8930,2,    268.7,3,     6.44,2,    15.61,2,     0.86,2,    4.369,   2,    1.967,   2,    0.342,   2,    5.637,   2,     -999,   9,   2150.3,2,   2279.0,2,   0.2551
  74JC19960720,   GNS,     7,  1,     13,2,19960726,  15, 73.6200,  -3.1000, 3473,    250.5,   0.1125,  34.8940,2,  34.8945,2,    271.7,3,     6.63,2,    15.41,2,     0.82,2,    4.204,   2,    1.906,   2,    0.321,   2,    5.524,   2,     -999,   9,   2152.4,2,   2281.0,2,   0.1028
  74JC19960720,   GNS,     7,  1,     11,2,19960726,  15, 73.6200,  -3.1000, 3473,    300.5,  -0.1490,  34.8870,2,  34.8890,2,    270.0,3,     6.63,2,    15.51,2,     0.82,2,    4.211,   2,    1.927,   2,    0.338,   2,    5.549,   2,     -999,   9,   2154.2,2,   2280.0,2,  -0.1601
  74JC19960720,   GNS,     7,  1,     10,2,19960726,  15, 73.6200,  -3.1000, 3473,    399.8,  -0.3500,  34.8870,2,  34.8890,2,    269.6,3,     7.02,2,    15.80,2,     0.84,2,    4.096,   2,    1.862,   2,    0.313,   2,    5.443,   2,     -999,   9,   2156.6,2,   2281.0,2,  -0.3645
  74JC19960720,   GNS,     7,  1,      9,2,19960726,  15, 73.6200,  -3.1000, 3473,    500.8,  -0.5265,  34.8840,2,  34.8895,2,    271.7,3,     7.22,2,    16.10,2,     0.85,2,    4.151,   2,    1.882,   2,    0.332,   2,    5.513,   2,     -999,   9,   2156.3,2,   2280.0,2,  -0.5444
  74JC19960720,   GNS,     7,  1,      7,2,19960726,  15, 73.6200,  -3.1000, 3473,    748.6,  -0.8285,  34.8770,2,  34.8810,2,    278.3,3,     7.32,2,    16.00,2,     0.85,2,    4.580,   2,    2.084,   2,    0.341,   2,    5.864,   2,     -999,   9,   2158.1,2,   2280.0,2,  -0.8551
  74JC19960720,   GNS,     7,  1,      5,2,19960726,  15, 73.6200,  -3.1000, 3473,   1000.1,  -0.8450,  34.8790,2,  34.8860,2,    275.2,3,     7.61,2,    16.20,2,     0.85,2,    4.122,   2,    1.883,   2,    0.337,   2,    5.543,   2,     -999,   9,   2158.9,2,   2278.0,2,  -0.8827
  74JC19960720,   GNS,     7,  1,      4,2,19960726,  15, 73.6200,  -3.1000, 3473,   1250.0,  -0.7450,  34.8970,2,  34.9040,2,    259.6,3,     9.37,2,    17.07,2,     0.90,2,    1.802,   2,    0.827,   2,    0.107,   2,    3.300,   2,     -999,   9,   2158.2,2,   2279.0,2,  -0.7960
  74JC19960720,   GNS,     7,  1,      3,2,19960726,  15, 73.6200,  -3.1000, 3473,   1500.5,  -0.8300,  34.8990,2,  34.9070,2,    258.7,3,     9.95,2,    17.37,2,     0.92,2,    1.391,   2,    0.578,   2,    0.065,   2,    2.905,   2,     -999,   9,   2160.9,2,   2281.0,2,  -0.8935
  74JC19960720,   GNS,     7,  1,      2,2,19960726,  15, 73.6200,  -3.1000, 3473,   1750.2,  -0.8880,  34.9000,2,  34.9060,2,    261.3,3,    10.24,2,    17.56,2,     0.92,2,    1.101,   2,    0.511,   2,    0.058,   2,    2.568,   2,     -999,   9,   2158.4,2,   2280.0,2,  -0.9652
  74JC19960720,   GNS,     9,  1,     24,2,19960726,1419, 74.0500,  -6.4100, 3425,      0.0,   1.8560,  31.4940,2,  31.5080,2,    300.4,3,     0.78,2,     3.22,2,     0.24,2, -999.000,   9, -999.000,   9, -999.000,   9, -999.000,   9,     -999,   9,   1926.8,2,   1899.0,3,   1.8560
  74JC19960720,   GNS,     9,  1,     23,2,19960726,1419, 74.0500,  -6.4100, 3425,      4.8,   1.4940,  32.0250,2,  32.1570,2,    315.2,3,     1.46,2,     2.93,2,     0.24,2, -999.000,   9, -999.000,   9, -999.000,   9, -999.000,   9,     1.58,   2,   1954.6,2,   1900.0,3,   1.4938
  74JC19960720,   GNS,     9,  1,     22,2,19960726,1419, 74.0500,  -6.4100, 3425,     15.7,  -0.1280,  33.8560,2,  33.9500,2,    358.3,3,     3.41,2,     2.93,2,     0.32,2, -999.000,   9, -999.000,   9, -999.000,   9, -999.000,   9,     1.35,   2,   2041.9,2,   2237.0,2,  -0.1285
  74JC19960720,   GNS,     9,  1,     21,2,19960726,1419, 74.0500,  -6.4100, 3425,     25.6,  -1.2200,  34.3240,2,  34.4700,2,    317.4,3,     4.68,2,     9.56,2,     0.66,2, -999.000,   9, -999.000,   9, -999.000,   9, -999.000,   9,     1.62,   2,   2109.2,2,   2257.0,2,  -1.2206
  74JC19960720,   GNS,     9,  1,     20,2,19960726,1419, 74.0500,  -6.4100, 3425,     46.1,  -0.7700,  34.6040,2,  34.6530,2,    312.6,3,     4.88,2,    11.12,2,     0.71,2, -999.000,   9, -999.000,   9, -999.000,   9, -999.000,   9,     1.37,   2,   2124.3,2,   2267.0,2,  -0.7713
  74JC19960720,   GNS,     9,  1,     19,2,19960726,1419, 74.0500,  -6.4100, 3425,     69.5,  -1.0950,  34.7210,2,  34.7430,2,    298.7,3,     4.98,2,    13.85,2,     1.01,3, -999.000,   9, -999.000,   9, -999.000,   9, -999.000,   9,     1.59,   2,   2142.7,2,   2272.0,2,  -1.0968
  74JC19960720,   GNS,     9,  1,     18,2,19960726,1419, 74.0500,  -6.4100, 3425,     95.6,  -0.7470,  34.7270,2,  34.7790,2,    287.4,3,     5.56,2,    14.83,2,     0.88,2, -999.000,   9, -999.000,   9, -999.000,   9, -999.000,   9,     1.17,   2,   2148.2,2,   2270.0,2,  -0.7499
  74JC19960720,   GNS,     9,  1,     17,2,19960726,1419, 74.0500,  -6.4100, 3425,    120.5,  -0.8240,  34.7870,2,  34.8050,2,    283.0,3,     5.46,2,    15.22,2,     0.88,2, -999.000,   9, -999.000,   9, -999.000,   9, -999.000,   9,     1.34,   2,   2150.0,2,   2271.0,2,  -0.8276
  74JC19960720,   GNS,     9,  1,     16,2,19960726,1419, 74.0500,  -6.4100, 3425,    146.1,  -0.5560,  34.8220,2,  34.8350,2,    287.4,3,     5.66,2,    15.22,2,     0.90,2, -999.000,   9, -999.000,   9, -999.000,   9, -999.000,   9,     1.32,   2,   2153.5,2,   2279.0,2,  -0.5607
  74JC19960720,   GNS,     9,  1,     15,2,19960726,1419, 74.0500,  -6.4100, 3425,    195.4,  -0.1900,  34.8680,2,  34.8750,2,    272.6,3,     5.85,2,    15.32,2,     0.89,2, -999.000,   9, -999.000,   9, -999.000,   9, -999.000,   9,     0.83,   2,   2157.7,2,   2278.0,2,  -0.1970
  74JC19960720,   GNS,     9,  1,     14,2,19960726,1419, 74.0500,  -6.4100, 3425,    246.7,  -0.3060,  34.8770,2,  34.8820,2,    277.8,3,     6.05,2,    15.61,2,     0.91,2, -999.000,   9, -999.000,   9, -999.000,   9, -999.000,   9,      0.9,   2,   2160.5,2,   2277.0,2,  -0.3147
  74JC19960720,   GNS,     9,  1,     13,2,19960726,1419, 74.0500,  -6.4100, 3425,    296.5,  -0.4020,  34.8820,2,  34.8860,2,    276.1,3,     6.34,2,    15.61,2,     0.91,2, -999.000,   9, -999.000,   9, -999.000,   9, -999.000,   9,     -999,   9,   2160.7,2,   2279.0,2,  -0.4124
  74JC19960720,   GNS,     9,  1,     12,2,19960726,1419, 74.0500,  -6.4100, 3425,    397.3,  -0.5770,  34.8790,2,  34.8840,2,    280.4,3,     6.44,2,    15.71,2,     0.98,3, -999.000,   9, -999.000,   9, -999.000,   9, -999.000,   9,     -999,   9,   2159.5,2,   2278.0,2,  -0.5907
  74JC19960720,   GNS,     9,  1,     11,2,19960726,1419, 74.0500,  -6.4100, 3425,    497.9,  -0.6520,  34.8780,2,  34.8870,2,    275.2,3,     7.02,2,    15.90,2,     0.93,2, -999.000,   9, -999.000,   9, -999.000,   9, -999.000,   9,     0.83,   2,   2161.4,2,   2280.0,2,  -0.6693
  74JC19960720,   GNS,     9,  1,     10,2,19960726,1419, 74.0500,  -6.4100, 3425,    749.2,  -0.8550,  34.8760,2,  34.8810,2,    276.1,3,     7.02,2,    16.59,2,     0.94,2, -999.000,   9, -999.000,   9, -999.000,   9, -999.000,   9,     0.83,   2,   2162.4,2,   2277.0,2,  -0.8814
  74JC19960720,   GNS,     9,  1,      9,2,19960726,1419, 74.0500,  -6.4100, 3425,   1001.7,  -0.8770,  34.8790,2,  34.8840,2,    280.9,3,     7.41,2,    16.20,2,     0.91,2, -999.000,   9, -999.000,   9, -999.000,   9, -999.000,   9,     -999,   9,   2161.3,2,   2278.0,2,  -0.9145
  74JC19960720,   GNS,     9,  1,      8,2,19960726,1419, 74.0500,  -6.4100, 3425,   1254.3,  -0.7680,  34.8950,2,  34.9010,2,    266.1,3,     9.27,2,    17.07,2,     0.98,2, -999.000,   9, -999.000,   9, -999.000,   9, -999.000,   9,     -999,   9,   2160.9,2,   2282.0,2,  -0.8190
  74JC19960720,   GNS,     9,  1,      7,2,19960726,1419, 74.0500,  -6.4100, 3425,   1505.8,  -0.8150,  34.9010,2,  34.9060,2,    259.1,3,    10.15,2,    18.54,3,     1.06,3, -999.000,   9, -999.000,   9, -999.000,   9, -999.000,   9,     0.15,   2,   2161.2,2,   2281.0,2,  -0.8790
  74JC19960720,   GNS,     9,  1,      6,2,19960726,1419, 74.0500,  -6.4100, 3425,   1759.0,  -0.8900,  34.9010,2,  34.9050,2,    263.0,3,    10.54,2,    17.76,2,     0.98,2, -999.000,   9, -999.000,   9, -999.000,   9, -999.000,   9,     -999,   9,   2161.8,2,   2283.0,2,  -0.9677
  74JC19960720,   GNS,     9,  1,      5,2,19960726,1419, 74.0500,  -6.4100, 3425,   2012.1,  -0.9300,  34.9020,2,  34.9040,2,    261.3,3,    10.83,2,    18.54,3,     0.98,2, -999.000,   9, -999.000,   9, -999.000,   9, -999.000,   9,     -999,   9,   2161.7,2,   2281.0,2,  -1.0227
  74JC19960720,   GNS,     9,  1,      4,2,19960726,1419, 74.0500,  -6.4100, 3425,   2564.4,  -0.9700,  34.9000,2,  34.9030,2,    263.9,3,    11.12,2,    17.46,2,     0.98,2, -999.000,   9, -999.000,   9, -999.000,   9, -999.000,   9,     -999,   9,   2159.9,2,   -999.0,9,  -1.0996
  74JC19960720,   GNS,     9,  1,      3,2,19960726,1419, 74.0500,  -6.4100, 3425,   3029.2,  -0.9910,  34.8980,2,  34.9000,2,    265.2,3,    11.90,2,    19.80,3,     0.98,2, -999.000,   9, -999.000,   9, -999.000,   9, -999.000,   9,     -999,   9,   2160.0,2,   -999.0,9,  -1.1555
  74JC19960720,   GNS,     9,  1,      1,2,19960726,1419, 74.0500,  -6.4100, 3425,   3407.3,  -0.9720,  34.8960,2,  34.8990,2,    266.1,3,    11.71,2,    17.76,2,     0.97,2, -999.000,   9, -999.000,   9, -999.000,   9, -999.000,   9,     -999,   9,   2160.7,2,   2278.0,2,  -1.1682