BOTTLE,20090109PRINUNIVRMKPRINUNIVRMK
EXPOCODE,SECT_ID,STNNBR,CASTNO,BTLNBR,BTLNBR_FLAG_W,DATE,TIME,LATITUDE,LONGITUDE,DEPTH,CTDPRS,CTDTMP,CTDSAL,CTDSAL_FLAG_W,SALNTY,SALNTY_FLAG_W,OXYGEN,OXYGEN_FLAG_W,SILCAT,SILCAT_FLAG_W,NITRAT,NITRAT_FLAG_W,PHSPHT,PHSPHT_FLAG_W,CFC-11,CFC-11_FLAG_W,CFC-12,CFC-12_FLAG_W,CFC113,CFC113_FLAG_W,CCL4,CCL4_FLAG_W,SF6,SF6_FLAG_W,TCARBN,TCARBN_FLAG_W,ALKALI,ALKALI_FLAG_W,THETA
,,,,,,,,,,METERS,DBARS,ITS-90,PSS-78,,PSS-78,,UMOL/KG,,UMOL/KG,,UMOL/KG,,UMOL/KG,,PMOL/KG,,PMOL/KG,,PMOL/KG,,PMOL/KG,,FMOL/KG,,UMOL/KG,,UMOL/KG,,DEGC
  74JC19960720,   GNS,    23,  1,     24,2,19960730, 920, 73.4600,  -0.3400, 3045,      1.1,   5.5580,  33.1640,2,  33.2300,2,    328.3,2,     0.29,2,     4.59,2,     0.42,2,    4.926,   2,    2.503,   2,    0.436,   2, -999.000,   9,     1.34,   2,   2019.5,2,   2186.0,2,   5.5579
  74JC19960720,   GNS,    23,  1,     23,2,19960730, 920, 73.4600,  -0.3400, 3045,      5.8,   5.2050,  33.4730,2,  33.5070,2,    327.8,2,     0.29,2,     4.98,2,     0.44,2,    4.994,   2,    2.370,   2,    0.453,   2,    6.434,   2,     1.35,   2,   2035.4,2,   2203.0,2,   5.2046
  74JC19960720,   GNS,    23,  1,     22,2,19960730, 920, 73.4600,  -0.3400, 3045,     15.4,   2.7870,  33.8270,2,  34.0130,2,    377.0,2,     1.76,2,     5.85,2,     0.51,2,    6.175,   2,    3.134,   2,    0.460,   2, -999.000,   9,     1.47,   2,   2056.2,2,   2237.0,2,   2.7861
  74JC19960720,   GNS,    23,  1,     21,2,19960730, 920, 73.4600,  -0.3400, 3045,     26.2,  -0.9870,  34.4360,2,  34.4680,2,    407.0,2,     4.68,2,     6.83,2,     0.56,2, -999.000,   9, -999.000,   9, -999.000,   9, -999.000,   9,     1.47,   2,   2077.1,2,   2265.0,2,  -0.9877
  74JC19960720,   GNS,    23,  1,     20,2,19960730, 920, 73.4600,  -0.3400, 3045,     45.2,  -1.5390,  34.5010,2,  34.5330,2,    361.7,2,     5.07,2,    10.73,2,     0.75,2,    5.965,   2,    2.759,   2,    0.508,   2,    7.177,   2,     1.47,   2,   2111.8,2,   2266.0,2,  -1.5400
  74JC19960720,   GNS,    23,  1,     19,2,19960730, 920, 73.4600,  -0.3400, 3045,     71.2,  -1.5370,  34.5990,2,  34.6100,2,    350.0,2,     5.76,2,    13.66,2,     0.89,2, -999.000,   9, -999.000,   9, -999.000,   9, -999.000,   9,     1.41,   2,   2126.6,2,   2268.0,2,  -1.5386
  74JC19960720,   GNS,    23,  1,     18,2,19960730, 920, 73.4600,  -0.3400, 3045,     96.1,  -1.1530,  34.6560,2,  34.6890,2,    337.0,2,     6.15,2,    15.02,2,     0.93,2,    5.321,   2,    2.523,   2,    0.455,   2,    6.353,   2,      1.3,   2,   2135.3,2,   2270.0,2,  -1.1555
  74JC19960720,   GNS,    23,  1,     17,2,19960730, 920, 73.4600,  -0.3400, 3045,    119.6,  -0.4140,  34.7610,2,  34.7780,2,    316.5,2,     6.34,2,    15.32,2,     0.94,2, -999.000,   9, -999.000,   9, -999.000,   9, -999.000,   9,     1.17,   2,   2139.5,2,   2275.0,2,  -0.4179
  74JC19960720,   GNS,    23,  1,     16,2,19960730, 920, 73.4600,  -0.3400, 3045,    146.4,   0.0810,  34.8220,2,  34.8450,2,    312.2,2,     6.44,2,    15.41,2,     0.94,2,    3.993,   2,    2.039,   2,    0.348,   2,    5.034,   2,     1.04,   2,   2141.4,2,   2278.0,2,   0.0755
  74JC19960720,   GNS,    23,  1,     15,2,19960730, 920, 73.4600,  -0.3400, 3045,    196.9,   0.2610,  34.8580,2,  34.8740,2,    301.7,2,     6.73,2,    15.61,2,     0.95,2, -999.000,   9, -999.000,   9, -999.000,   9, -999.000,   9,     0.92,   2,   2145.4,2,   2290.0,2,   0.2532
  74JC19960720,   GNS,    23,  1,     14,2,19960730, 920, 73.4600,  -0.3400, 3045,    246.6,   0.0580,  34.8630,2,  34.8790,2,    303.9,2,     6.83,2,    15.61,2,     0.96,2,    3.526,   2,    1.669,   2,    0.270,   2,    4.354,   2,     0.83,   2,   2147.9,2,   2281.0,2,   0.0485
  74JC19960720,   GNS,    23,  1,     13,2,19960730, 920, 73.4600,  -0.3400, 3045,    297.0,   0.0360,  34.8720,2,  34.8860,2,    310.0,2,     6.93,2,    15.71,2,     0.97,2, -999.000,   9, -999.000,   9, -999.000,   9, -999.000,   9,     0.75,   2,   2148.0,2,   2282.0,2,   0.0245
  74JC19960720,   GNS,    23,  1,     12,2,19960730, 920, 73.4600,  -0.3400, 3045,    397.8,  -0.3430,  34.8710,2,  34.8860,2,    313.9,2,     7.32,2,    15.80,2,     0.98,2, -999.000,   9, -999.000,   9, -999.000,   9, -999.000,   9,     0.69,   2,   2152.2,2,   2281.0,2,  -0.3575
  74JC19960720,   GNS,    23,  1,     11,2,19960730, 920, 73.4600,  -0.3400, 3045,    497.5,  -0.4950,  34.8730,2,  34.8880,2,    317.8,2,     7.51,2,    16.20,2,     0.98,2,    3.529,   2,    1.648,   2,    0.271,   2,    4.303,   2,     0.69,   2,   2151.5,2,   2282.0,2,  -0.5129
  74JC19960720,   GNS,    23,  1,     10,2,19960730, 920, 73.4600,  -0.3400, 3045,    749.4,  -0.8360,  34.8660,2,  34.8810,2,    330.9,2,     7.41,2,    16.20,2,     0.99,2, -999.000,   9, -999.000,   9, -999.000,   9, -999.000,   9,     0.87,   2,   2151.9,2,   2280.0,2,  -0.8626
  74JC19960720,   GNS,    23,  1,      9,2,19960730, 920, 73.4600,  -0.3400, 3045,   1001.9,  -0.8950,  34.8660,2,  34.8820,2,    313.0,2,     7.61,2,    16.20,2,     0.98,2,    3.817,   2,    1.964,   2,    0.344,   2,    4.861,   2,     0.85,   2,   2153.6,2,   2280.0,2,  -0.9323
  74JC19960720,   GNS,    23,  1,      8,2,19960730, 920, 73.4600,  -0.3400, 3045,   1254.3,  -0.8680,  34.8730,2,  34.8890,2,   -999.0,9,     8.29,2,    16.49,2,     1.00,2,    3.320,   2,    1.395,   2,    0.381,   3,    4.192,   2,     0.61,   2,   2157.4,2,   2283.0,2,  -0.9179
  74JC19960720,   GNS,    23,  1,      7,2,19960730, 920, 73.4600,  -0.3400, 3045,   1506.5,  -0.7960,  34.8920,2,  34.9050,2,    302.6,2,    10.34,2,    17.46,2,     1.06,2,    1.282,   2,    0.461,   2,    0.041,   2,    2.317,   2,     0.14,   2,   2154.3,2,   2283.0,2,  -0.8603
  74JC19960720,   GNS,    23,  1,      6,2,19960730, 920, 73.4600,  -0.3400, 3045,   1759.8,  -0.8740,  34.8930,2,  34.9050,2,    308.3,2,    10.93,2,    17.66,2,     1.08,2,    1.023,   2,    0.376,   2,    0.037,   2,    1.960,   2,      0.1,   2,   2155.2,2,   2281.0,2,  -0.9519
  74JC19960720,   GNS,    23,  1,      5,2,19960730, 920, 73.4600,  -0.3400, 3045,   2009.7,  -0.9100,  34.8930,2,  34.9060,2,    303.0,2,    11.22,2,    17.76,2,     1.07,2,    0.991,   2,    0.432,   2,    0.047,   2,    1.997,   2,      0.1,   2,   2153.5,2,   2285.0,2,  -1.0028
  74JC19960720,   GNS,    23,  1,      4,2,19960730, 920, 73.4600,  -0.3400, 3045,   2264.8,  -0.9350,  34.8940,2,  34.9060,2,    305.6,2,    11.51,2,    17.76,2,     1.07,2,    0.811,   2,    0.281,   2, -999.000,   9,    1.883,   2,     0.09,   2,   2153.8,2,   2295.0,2,  -1.0442
  74JC19960720,   GNS,    23,  1,      3,2,19960730, 920, 73.4600,  -0.3400, 3045,   2519.8,  -0.9650,  34.8930,2,  34.9050,2,    306.5,2,    11.71,2,    17.66,2,     1.07,2,    0.864,   2,    0.397,   2,    0.036,   2,    2.028,   2,     0.09,   2,   2152.5,2,   2283.0,2,  -1.0914
  74JC19960720,   GNS,    23,  1,      1,2,19960730, 920, 73.4600,  -0.3400, 3045,   2850.1,  -0.9650,  34.8900,2,  34.9020,2,    307.4,2,    11.80,2,    17.56,2,     1.06,2,    0.774,   2,    0.302,   2,    0.034,   2,    1.944,   2,     0.11,   2,   2152.8,2,   2281.0,2,  -1.1160
  74JC19960720,   GNS,    25,  1,     24,2,19960730,1650, 73.0000,   1.0100, 2950,      1.1,   6.3640,  32.9270,2,  32.9420,2,    312.2,2,     0.20,2,     3.12,2,     0.29,2,    3.820,   3, -999.000,   9,    0.188,   3,    4.322,   3,     1.24,   2,   2002.0,2,   2168.0,2,   6.3639
  74JC19960720,   GNS,    25,  1,     23,2,19960730,1650, 73.0000,   1.0100, 2950,      5.8,   6.1410,  33.0370,2,  33.1330,2,    328.3,2,     0.39,2,     3.61,2,     0.33,2,    6.142,   2,    2.242,   2,    0.428,   2,    7.913,   2,     1.24,   2,   2012.0,2,   2182.0,2,   6.1405
  74JC19960720,   GNS,    25,  1,     22,2,19960730,1650, 73.0000,   1.0100, 2950,     16.1,   1.4150,  33.9590,2,  34.1160,2,    395.6,2,     2.83,2,     6.05,2,     0.52,2,    6.406,   2, -999.000,   9,    0.444,   2, -999.000,   9,     1.43,   2,   2062.4,2,   2243.0,2,   1.4143
  74JC19960720,   GNS,    25,  1,     21,2,19960730,1650, 73.0000,   1.0100, 2950,     25.9,  -1.0070,  34.3410,2,  34.3830,2,    393.5,2,     4.20,2,     7.90,2,     0.55,2, -999.000,   9, -999.000,   9, -999.000,   9, -999.000,   9,     1.39,   2,   2082.8,2,   2260.0,2,  -1.0077
  74JC19960720,   GNS,    25,  1,     20,2,19960730,1650, 73.0000,   1.0100, 2950,     46.0,  -1.5510,  34.4640,2,  34.4780,2,    370.4,2,     5.17,2,    10.83,2,     0.65,2,    6.449,   2,    3.045,   2,    0.398,   2,    8.422,   2,     1.41,   2,   2108.8,2,   2262.0,2,  -1.5520
  74JC19960720,   GNS,    25,  1,     19,2,19960730,1650, 73.0000,   1.0100, 2950,     70.6,  -1.5930,  34.5590,2,  34.5680,2,    349.6,2,     5.37,2,    13.17,2,     0.77,2, -999.000,   9, -999.000,   9, -999.000,   9, -999.000,   9,      1.4,   2,   2126.1,2,   2265.0,2,  -1.5945
  74JC19960720,   GNS,    25,  1,     18,2,19960730,1650, 73.0000,   1.0100, 2950,     96.5,  -1.0820,  34.6580,2,  34.6760,2,    334.8,2,     5.85,2,    14.93,2,     0.82,2,    5.122,   2, -999.000,   9,    0.367,   2,    6.799,   2,     1.27,   2,   2132.7,2,   2269.0,2,  -1.0846
  74JC19960720,   GNS,    25,  1,     17,2,19960730,1650, 73.0000,   1.0100, 2950,    121.7,   0.2870,  34.8070,2,  34.8300,2,    320.0,2,     5.95,2,    15.12,2,     0.82,2, -999.000,   9, -999.000,   9, -999.000,   9, -999.000,   9,     1.07,   2,   2141.3,2,   2280.0,2,   0.2822
  74JC19960720,   GNS,    25,  1,     16,2,19960730,1650, 73.0000,   1.0100, 2950,    145.7,   0.5380,  34.8480,2,  34.8660,2,    324.8,2,     6.15,2,    15.32,2,     0.84,2,    4.726,   2,    2.221,   2,    0.225,   2,    5.266,   2,     0.95,   2,   2143.3,2,   2282.0,2,   0.5320
  74JC19960720,   GNS,    25,  1,     15,2,19960730,1650, 73.0000,   1.0100, 2950,    196.0,   0.6340,  34.8850,2,  34.8990,2,    312.6,2,     6.44,2,    15.51,2,     0.86,2, -999.000,   9, -999.000,   9, -999.000,   9, -999.000,   9,     0.83,   2,   2145.5,2,   2284.0,2,   0.6256
  74JC19960720,   GNS,    25,  1,     14,2,19960730,1650, 73.0000,   1.0100, 2950,    246.4,   0.3840,  34.8810,2,  34.8970,2,    311.7,2,     6.63,2,    15.61,2,     0.87,2,    3.959,   2,    2.196,   2,    0.228,   2,    4.515,   2,     0.74,   2,   2151.0,2,   2284.0,2,   0.3739
  74JC19960720,   GNS,    25,  1,     13,2,19960730,1650, 73.0000,   1.0100, 2950,    296.4,   0.1970,  34.8800,2,  34.8940,2,    311.3,2,     6.63,2,    15.61,2,     0.86,2, -999.000,   9, -999.000,   9, -999.000,   9, -999.000,   9,     0.69,   2,   2147.6,2,   2282.0,2,   0.1852
  74JC19960720,   GNS,    25,  1,     12,2,19960730,1650, 73.0000,   1.0100, 2950,    397.3,  -0.1310,  34.8780,2,  34.8930,2,    311.7,2,     7.02,2,    15.80,2,     0.86,2, -999.000,   9, -999.000,   9, -999.000,   9, -999.000,   9,     0.61,   2,   2154.0,2,   2282.0,2,  -0.1462
  74JC19960720,   GNS,    25,  1,     11,2,19960730,1650, 73.0000,   1.0100, 2950,    498.0,  -0.3410,  34.8770,2,  34.8920,2,    315.2,2,     7.02,2,    16.00,2,     0.92,2,    3.792,   2,    1.816,   2,    0.207,   2,    4.602,   2,     0.72,   2,   2153.3,2,   2280.0,2,  -0.3596
  74JC19960720,   GNS,    25,  1,     10,2,19960730,1650, 73.0000,   1.0100, 2950,    749.7,  -0.6620,  34.8770,2,  34.8890,2,    313.0,2,     7.71,2,    16.39,2,     0.91,2,    3.460,   2,    1.625,   2,    0.180,   2,    4.122,   2,     0.57,   2,   2155.1,2,   2281.0,2,  -0.6897
  74JC19960720,   GNS,    25,  1,      9,2,19960730,1650, 73.0000,   1.0100, 2950,   1002.1,  -0.7650,  34.8810,2,  34.8960,2,    312.6,2,     8.29,2,    16.59,2,     0.92,2,    3.075,   2,    1.391,   2,    0.151,   2,    3.951,   2,      0.5,   2,   2158.5,2,   2283.0,2,  -0.8034
  74JC19960720,   GNS,    25,  1,      8,2,19960730,1650, 73.0000,   1.0100, 2950,   1254.2,  -0.7380,  34.8960,2,  34.9080,2,    300.0,2,     9.76,2,    17.17,2,     0.96,2,    1.413,   2,    0.636,   2,    0.068,   2,    2.261,   2,     0.15,   2,   2156.9,2,   2286.0,2,  -0.7893
  74JC19960720,   GNS,    25,  1,      7,2,19960730,1650, 73.0000,   1.0100, 2950,   1503.4,  -0.8300,  34.8990,2,  34.9090,2,    300.9,2,    10.34,2,    17.46,2,     0.97,2,    1.161,   2,    0.513,   2,    0.041,   2,    2.189,   2,     0.11,   2,   2154.5,2,   2285.0,2,  -0.8937
  74JC19960720,   GNS,    25,  1,      6,2,19960730,1650, 73.0000,   1.0100, 2950,   1756.0,  -0.8940,  34.8970,2,  34.9090,2,    301.3,2,    10.83,2,    17.56,2,     0.97,2,    0.909,   2,    0.375,   2, -999.000,   9,    1.736,   2,     0.08,   2,   2157.0,2,   2283.0,2,  -0.9714
  74JC19960720,   GNS,    25,  1,      5,2,19960730,1650, 73.0000,   1.0100, 2950,   2012.7,  -0.9290,  34.8980,2,  34.9090,2,    303.0,2,    11.12,2,    17.46,2,     0.97,2,    0.883,   2,    0.370,   2,    0.017,   2,    1.825,   2,     0.09,   2,   2158.9,2,   2283.0,2,  -1.0217
  74JC19960720,   GNS,    25,  1,      4,2,19960730,1650, 73.0000,   1.0100, 2950,   2266.1,  -0.9580,  34.8970,2,  34.9070,2,    309.1,2,    11.22,2,    17.46,2,     0.98,2,    0.872,   2,    0.739,   3,    0.029,   2,    1.769,   2,     0.08,   2,   2158.2,2,   2283.0,2,  -1.0669
  74JC19960720,   GNS,    25,  1,      3,2,19960730,1650, 73.0000,   1.0100, 2950,   2521.2,  -0.9600,  34.8940,2,  34.9060,2,    304.4,2,    11.32,2,    17.76,2,     0.98,2,    0.968,   2,    0.380,   2,    0.019,   2,    2.117,   2,     0.09,   2,   2156.1,2,   2284.0,2,  -1.0867
  74JC19960720,   GNS,    25,  1,      1,2,19960730,1650, 73.0000,   1.0100, 2950,   2808.7,  -0.9480,  34.8910,2,  34.9050,2,    305.2,2,    11.41,2,    17.46,2,     0.97,2,    0.840,   2,    0.422,   2,    0.032,   2,    1.999,   2,    0.085,   2,   2152.8,2,   2283.0,2,  -1.0962