BOTTLE,20090109PRINUNIVRMKPRINUNIVRMK
EXPOCODE,SECT_ID,STNNBR,CASTNO,BTLNBR,BTLNBR_FLAG_W,DATE,TIME,LATITUDE,LONGITUDE,DEPTH,CTDPRS,CTDTMP,CTDSAL,CTDSAL_FLAG_W,SALNTY,SALNTY_FLAG_W,OXYGEN,OXYGEN_FLAG_W,SILCAT,SILCAT_FLAG_W,NITRAT,NITRAT_FLAG_W,PHSPHT,PHSPHT_FLAG_W,CFC-11,CFC-11_FLAG_W,CFC-12,CFC-12_FLAG_W,CFC113,CFC113_FLAG_W,CCL4,CCL4_FLAG_W,SF6,SF6_FLAG_W,TCARBN,TCARBN_FLAG_W,ALKALI,ALKALI_FLAG_W,THETA
,,,,,,,,,,METERS,DBARS,ITS-90,PSS-78,,PSS-78,,UMOL/KG,,UMOL/KG,,UMOL/KG,,UMOL/KG,,PMOL/KG,,PMOL/KG,,PMOL/KG,,PMOL/KG,,FMOL/KG,,UMOL/KG,,UMOL/KG,,DEGC
  74JC19960720,   GNS,    34,  1,     24,2,19960801,2045, 74.7500,  -2.0000, 3665,      1.7,   6.0710,  33.4870,2,  33.5030,2,   -999.0,9,  -999.00,9,  -999.00,9,  -999.00,9, -999.000,   9, -999.000,   9, -999.000,   9, -999.000,   9,     1.28,   2,   -999.0,9,   -999.0,9,   6.0709
  74JC19960720,   GNS,    34,  1,     23,2,19960801,2045, 74.7500,  -2.0000, 3665,      6.9,   5.8520,  33.6400,2,  33.6170,2,   -999.0,9,  -999.00,9,  -999.00,9,  -999.00,9, -999.000,   9, -999.000,   9, -999.000,   9, -999.000,   9,     1.29,   2,   -999.0,9,   -999.0,9,   5.8514
  74JC19960720,   GNS,    34,  1,     22,2,19960801,2045, 74.7500,  -2.0000, 3665,     17.8,   3.7630,  33.9230,2,  33.8570,2,   -999.0,9,  -999.00,9,  -999.00,9,  -999.00,9, -999.000,   9, -999.000,   9, -999.000,   9, -999.000,   9,     1.36,   2,   -999.0,9,   -999.0,9,   3.7618
  74JC19960720,   GNS,    34,  1,     21,2,19960801,2045, 74.7500,  -2.0000, 3665,     27.7,  -0.2490,  34.5710,2,  34.6050,2,   -999.0,9,  -999.00,9,  -999.00,9,  -999.00,9, -999.000,   9, -999.000,   9, -999.000,   9, -999.000,   9,     1.47,   2,   -999.0,9,   -999.0,9,  -0.2499
  74JC19960720,   GNS,    34,  1,     20,2,19960801,2045, 74.7500,  -2.0000, 3665,     47.7,  -1.2330,  34.6920,2,  34.7110,2,   -999.0,9,  -999.00,9,  -999.00,9,  -999.00,9, -999.000,   9, -999.000,   9, -999.000,   9, -999.000,   9,      1.5,   2,   -999.0,9,   -999.0,9,  -1.2342
  74JC19960720,   GNS,    34,  1,     19,2,19960801,2045, 74.7500,  -2.0000, 3665,     70.4,  -0.9660,  34.7590,2,  34.7810,2,   -999.0,9,  -999.00,9,  -999.00,9,  -999.00,9, -999.000,   9, -999.000,   9, -999.000,   9, -999.000,   9,     1.41,   2,   -999.0,9,   -999.0,9,  -0.9680
  74JC19960720,   GNS,    34,  1,     18,2,19960801,2045, 74.7500,  -2.0000, 3665,     98.8,  -0.8250,  34.8120,2,  34.8230,2,   -999.0,9,  -999.00,9,  -999.00,9,  -999.00,9, -999.000,   9, -999.000,   9, -999.000,   9, -999.000,   9,      1.2,   2,   -999.0,9,   -999.0,9,  -0.8279
  74JC19960720,   GNS,    34,  1,     17,2,19960801,2045, 74.7500,  -2.0000, 3665,    122.9,  -0.6650,  34.7870,2,  34.8500,2,   -999.0,9,  -999.00,9,  -999.00,9,  -999.00,9, -999.000,   9, -999.000,   9, -999.000,   9, -999.000,   9,     1.12,   2,   -999.0,9,   -999.0,9,  -0.6688
  74JC19960720,   GNS,    34,  1,     16,2,19960801,2045, 74.7500,  -2.0000, 3665,    147.4,  -0.6210,  34.8420,2,  34.8670,2,   -999.0,9,  -999.00,9,  -999.00,9,  -999.00,9, -999.000,   9, -999.000,   9, -999.000,   9, -999.000,   9,     1.03,   2,   -999.0,9,   -999.0,9,  -0.6257
  74JC19960720,   GNS,    34,  1,     15,2,19960801,2045, 74.7500,  -2.0000, 3665,    199.0,  -0.5570,  34.8620,2,  34.8850,2,   -999.0,9,  -999.00,9,  -999.00,9,  -999.00,9, -999.000,   9, -999.000,   9, -999.000,   9, -999.000,   9,     0.91,   2,   -999.0,9,   -999.0,9,  -0.5635
  74JC19960720,   GNS,    34,  1,     14,2,19960801,2045, 74.7500,  -2.0000, 3665,    249.7,  -0.6340,  34.8510,2,  34.8870,2,   -999.0,9,  -999.00,9,  -999.00,9,  -999.00,9, -999.000,   9, -999.000,   9, -999.000,   9, -999.000,   9,     0.92,   2,   -999.0,9,   -999.0,9,  -0.6421
  74JC19960720,   GNS,    34,  1,     13,2,19960801,2045, 74.7500,  -2.0000, 3665,    299.6,  -0.6200,  34.8680,2,  34.8900,2,   -999.0,9,  -999.00,9,  -999.00,9,  -999.00,9, -999.000,   9, -999.000,   9, -999.000,   9, -999.000,   9,     0.92,   2,   -999.0,9,   -999.0,9,  -0.6299
  74JC19960720,   GNS,    34,  1,     12,2,19960801,2045, 74.7500,  -2.0000, 3665,    399.4,  -0.7060,  34.8410,2,  34.8890,2,   -999.0,9,  -999.00,9,  -999.00,9,  -999.00,9, -999.000,   9, -999.000,   9, -999.000,   9, -999.000,   9,     0.91,   2,   -999.0,9,   -999.0,9,  -0.7193
  74JC19960720,   GNS,    34,  1,     11,2,19960801,2045, 74.7500,  -2.0000, 3665,    499.6,  -0.7960,  34.8620,2,  34.8860,2,   -999.0,9,  -999.00,9,  -999.00,9,  -999.00,9, -999.000,   9, -999.000,   9, -999.000,   9, -999.000,   9,     0.88,   2,   -999.0,9,   -999.0,9,  -0.8127
  74JC19960720,   GNS,    34,  1,     10,2,19960801,2045, 74.7500,  -2.0000, 3665,    751.8,  -0.8820,  34.8660,2,  34.8840,2,   -999.0,9,  -999.00,9,  -999.00,9,  -999.00,9, -999.000,   9, -999.000,   9, -999.000,   9, -999.000,   9,     0.91,   2,   -999.0,9,   -999.0,9,  -0.9084
  74JC19960720,   GNS,    34,  1,      9,2,19960801,2045, 74.7500,  -2.0000, 3665,   1003.5,  -0.8860,  34.8700,2,  34.8870,2,   -999.0,9,  -999.00,9,  -999.00,9,  -999.00,9, -999.000,   9, -999.000,   9, -999.000,   9, -999.000,   9,     0.81,   2,   -999.0,9,   -999.0,9,  -0.9235
  74JC19960720,   GNS,    34,  1,      8,2,19960801,2045, 74.7500,  -2.0000, 3665,   1256.3,  -0.7770,  34.8870,2,  34.9030,2,   -999.0,9,  -999.00,9,  -999.00,9,  -999.00,9, -999.000,   9, -999.000,   9, -999.000,   9, -999.000,   9,     0.27,   2,   -999.0,9,   -999.0,9,  -0.8280
  74JC19960720,   GNS,    34,  1,      7,2,19960801,2045, 74.7500,  -2.0000, 3665,   1508.8,  -0.8180,  34.8910,2,  34.9070,2,   -999.0,9,  -999.00,9,  -999.00,9,  -999.00,9, -999.000,   9, -999.000,   9, -999.000,   9, -999.000,   9,     0.16,   2,   -999.0,9,   -999.0,9,  -0.8821
  74JC19960720,   GNS,    34,  1,      6,2,19960801,2045, 74.7500,  -2.0000, 3665,   1761.4,  -0.8880,  34.8910,2,  34.9060,2,   -999.0,9,  -999.00,9,  -999.00,9,  -999.00,9, -999.000,   9, -999.000,   9, -999.000,   9, -999.000,   9,     0.12,   2,   -999.0,9,   -999.0,9,  -0.9658
  74JC19960720,   GNS,    34,  1,      5,2,19960801,2045, 74.7500,  -2.0000, 3665,   2015.4,  -0.9280,  34.8910,2,  34.9060,2,   -999.0,9,  -999.00,9,  -999.00,9,  -999.00,9, -999.000,   9, -999.000,   9, -999.000,   9, -999.000,   9,     0.09,   2,   -999.0,9,   -999.0,9,  -1.0209
  74JC19960720,   GNS,    34,  1,      4,2,19960801,2045, 74.7500,  -2.0000, 3665,   2521.8,  -0.9600,  34.8920,2,  34.9060,2,   -999.0,9,  -999.00,9,  -999.00,9,  -999.00,9, -999.000,   9, -999.000,   9, -999.000,   9, -999.000,   9,     0.09,   2,   -999.0,9,   -999.0,9,  -1.0867
  74JC19960720,   GNS,    34,  1,      3,2,19960801,2045, 74.7500,  -2.0000, 3665,   3030.5,  -0.9750,  34.8880,2,  34.9030,2,   -999.0,9,  -999.00,9,  -999.00,9,  -999.00,9, -999.000,   9, -999.000,   9, -999.000,   9, -999.000,   9,     0.08,   2,   -999.0,9,   -999.0,9,  -1.1399
  74JC19960720,   GNS,    34,  1,      1,2,19960801,2045, 74.7500,  -2.0000, 3665,   3654.9,  -0.9580,  34.8860,2,  34.9010,2,   -999.0,9,  -999.00,9,  -999.00,9,  -999.00,9, -999.000,   9, -999.000,   9, -999.000,   9, -999.000,   9,    0.075,   2,   -999.0,9,   -999.0,9,  -1.1762
  74JC19960720,   GNS,    36,  1,     24,2,19960802, 210, 75.0000,  -3.0100, 3694,      1.9,   5.6060,  33.1370,2,  33.1320,2,    334.4,2,     0.39,2,     0.29,2,     0.10,2,    6.052,   2,    1.937,   2,    0.446,   2,    6.617,   2,     1.34,   2,   1941.0,2,   2188.0,2,   5.6059
  74JC19960720,   GNS,    36,  1,     23,2,19960802, 210, 75.0000,  -3.0100, 3694,      5.4,   5.0960,  33.4740,2,  33.5500,2,    353.9,2,     0.49,2,     0.59,2,     0.15,2,    6.135,   2,    2.426,   2,    0.463,   2,    6.587,   2,     1.34,   2,   2020.2,2,   2212.0,2,   5.0956
  74JC19960720,   GNS,    36,  1,     22,2,19960802, 210, 75.0000,  -3.0100, 3694,     16.0,   2.5260,  33.9890,2,  34.2010,2,    400.4,2,     0.78,2,     4.20,2,     0.35,2,    7.324,   2,    3.096,   2,    0.497,   2,    7.501,   2,     1.47,   2,   2065.3,2,   2252.0,2,   2.5251
  74JC19960720,   GNS,    36,  1,     21,2,19960802, 210, 75.0000,  -3.0100, 3694,     25.7,   0.5030,  34.5670,2,  34.6110,2,    406.5,2,     3.22,2,     7.51,2,     0.56,2,    7.026,   2,    2.696,   2,    0.512,   2,    7.397,   2,     1.43,   2,   2096.2,2,   2275.0,2,   0.5020
  74JC19960720,   GNS,    36,  1,     20,2,19960802, 210, 75.0000,  -3.0100, 3694,     45.9,  -1.1760,  34.6820,2,  34.7140,2,    363.0,2,     5.27,2,    12.10,2,     0.76,2,    7.286,   2, -999.000,   9,    0.464,   2,    7.843,   2,     1.41,   2,   2136.1,2,   2274.0,2,  -1.1772
  74JC19960720,   GNS,    36,  1,     19,2,19960802, 210, 75.0000,  -3.0100, 3694,     69.8,  -0.6910,  34.7630,2,  34.7890,2,    340.0,2,     5.76,2,    14.54,2,     0.88,2,    6.112,   2,    2.377,   2,    0.428,   2,    6.561,   2,     1.25,   2,   2152.3,2,   2279.0,2,  -0.6931
  74JC19960720,   GNS,    36,  1,     18,2,19960802, 210, 75.0000,  -3.0100, 3694,     96.1,  -0.2950,  34.8190,2,  34.8420,2,   -999.0,9,     6.15,2,    15.51,2,     0.89,2,    5.524,   2,    2.156,   2,    0.368,   2,    5.746,   2,     1.08,   2,   2146.4,2,   2278.0,2,  -0.2983
  74JC19960720,   GNS,    36,  1,     17,2,19960802, 210, 75.0000,  -3.0100, 3694,    121.3,  -0.2730,  34.8430,2,  34.8570,2,    330.0,2,     6.34,2,    15.51,2,     0.90,2,    5.338,   2,    2.083,   2,    0.361,   2,    5.655,   2,     1.03,   2,   2149.5,2,   2282.0,2,  -0.2772
  74JC19960720,   GNS,    36,  1,     16,2,19960802, 210, 75.0000,  -3.0100, 3694,    146.7,  -0.2410,  34.8650,2,  34.8800,2,    334.4,2,     6.54,2,    15.71,2,     0.91,2,    4.743,   2,    1.863,   2,    0.296,   2,    5.043,   2,      0.9,   2,   2154.4,2,   2283.0,2,  -0.2461
  74JC19960720,   GNS,    36,  1,     15,2,19960802, 210, 75.0000,  -3.0100, 3694,    196.5,  -0.3650,  34.8700,2,  34.8860,2,    338.3,2,     6.73,2,    15.90,2,     0.91,2,    4.639,   2,    1.795,   2,    0.308,   2,    5.080,   2,      0.9,   2,   2156.1,2,   2284.0,2,  -0.3717
  74JC19960720,   GNS,    36,  1,     14,2,19960802, 210, 75.0000,  -3.0100, 3694,    247.1,  -0.5140,  34.8700,2,  34.8870,2,    328.3,2,     6.83,2,    15.80,2,     0.92,2,    4.858,   2,    2.150,   2,    0.314,   2,    4.985,   2,     0.93,   2,   2157.3,2,   2283.0,2,  -0.5223
  74JC19960720,   GNS,    36,  1,     13,2,19960802, 210, 75.0000,  -3.0100, 3694,    296.7,  -0.5170,  34.8760,2,  34.8920,2,    327.4,2,     6.83,2,    15.90,2,     0.91,2,    4.787,   2,    1.888,   2,    0.334,   2,    5.101,   2,      0.9,   2,   2159.8,2,   2286.0,2,  -0.5271
  74JC19960720,   GNS,    36,  1,     12,2,19960802, 210, 75.0000,  -3.0100, 3694,    398.0,  -0.6820,  34.8710,2,  34.8880,2,    329.1,2,     6.93,2,    15.80,2,     0.90,2,    4.897,   2,    1.916,   2,    0.313,   2,    5.034,   2,     0.95,   2,   2162.7,2,   2281.0,2,  -0.6953
  74JC19960720,   GNS,    36,  1,     11,2,19960802, 210, 75.0000,  -3.0100, 3694,    498.7,  -0.8020,  34.8680,2,  34.8840,2,    330.4,2,     7.12,2,    16.10,2,     0.91,2,    4.916,   2,    1.894,   2,    0.330,   2,    5.366,   2,     0.92,   2,   2168.1,2,   2280.0,2,  -0.8187
  74JC19960720,   GNS,    36,  1,     10,2,19960802, 210, 75.0000,  -3.0100, 3694,    750.0,  -0.8920,  34.8650,2,  34.8830,2,    332.2,2,     7.02,2,    16.20,2,     0.91,2,    4.990,   2,    1.966,   2,    0.314,   2,    5.194,   2,     0.95,   2,   2161.7,2,   2279.0,2,  -0.9182
  74JC19960720,   GNS,    36,  1,      9,2,19960802, 210, 75.0000,  -3.0100, 3694,   1001.2,  -0.8900,  34.8680,2,  34.8920,2,    336.1,2,     7.41,2,    16.39,2,     0.93,2,    4.502,   2,    1.752,   2,    0.297,   2,    5.034,   2,     0.81,   2,   -999.0,9,   2282.0,2,  -0.9274
  74JC19960720,   GNS,    36,  1,      8,2,19960802, 210, 75.0000,  -3.0100, 3694,   1254.3,  -0.8590,  34.8640,2,  34.8960,2,    323.0,2,     8.00,2,    16.59,2,     0.97,2,    3.735,   2,    1.387,   2,    0.236,   2,    4.402,   2,     0.66,   2,   2164.8,2,   2283.0,2,  -0.9090
  74JC19960720,   GNS,    36,  1,      7,2,19960802, 210, 75.0000,  -3.0100, 3694,   1506.8,  -0.7940,  34.8910,2,  34.9070,2,    316.5,2,     9.76,2,    17.56,2,     0.99,2,    1.444,   2,    0.646,   2,    0.075,   2,    2.212,   2,     0.16,   2,   2160.8,2,   2283.0,2,  -0.8583
  74JC19960720,   GNS,    36,  1,      6,2,19960802, 210, 75.0000,  -3.0100, 3694,   1759.6,  -0.8690,  34.8900,2,  34.9070,2,    306.1,2,    10.05,2,    17.56,2,     0.98,2,    1.211,   2,    0.462,   2,    0.045,   2,    1.894,   2,     0.12,   2,   2163.1,2,   2281.0,2,  -0.9470
  74JC19960720,   GNS,    36,  1,      5,2,19960802, 210, 75.0000,  -3.0100, 3694,   2013.1,  -0.9180,  34.8910,2,  34.9080,2,    307.0,2,    10.44,2,    17.76,2,     0.99,2,    1.072,   2,    0.493,   2,    0.044,   2,    1.922,   2,     0.11,   2,   2158.5,2,   2282.0,2,  -1.0109
  74JC19960720,   GNS,    36,  1,      4,2,19960802, 210, 75.0000,  -3.0100, 3694,   2520.0,  -0.9550,  34.8910,2,  34.9070,2,    308.3,2,    10.83,2,    17.95,2,     0.99,2,    0.870,   2,    0.320,   2,    0.036,   2,    1.640,   2,     0.09,   2,   2157.2,2,   2284.0,2,  -1.0817
  74JC19960720,   GNS,    36,  1,      3,2,19960802, 210, 75.0000,  -3.0100, 3694,   3284.0,  -0.9680,  34.8870,2,  34.9030,2,    311.3,2,    11.22,2,    17.95,2,     0.98,2,    0.818,   2,    0.408,   2,    0.031,   2,    1.890,   2,     0.05,   2,   2156.3,2,   2284.0,2,  -1.1538
  74JC19960720,   GNS,    36,  1,      1,2,19960802, 210, 75.0000,  -3.0100, 3694,   3683.7,  -0.9560,  34.8860,2,  34.9020,2,    314.8,2,    11.61,2,    17.85,2,     0.99,2,    0.776,   2,    0.349,   2,    0.034,   2,    1.898,   2,    0.065,   2,   2155.3,2,   2285.0,2,  -1.1769