BOTTLE,20090109PRINUNIVRMKPRINUNIVRMK
EXPOCODE,SECT_ID,STNNBR,CASTNO,BTLNBR,BTLNBR_FLAG_W,DATE,TIME,LATITUDE,LONGITUDE,DEPTH,CTDPRS,CTDTMP,CTDSAL,CTDSAL_FLAG_W,SALNTY,SALNTY_FLAG_W,OXYGEN,OXYGEN_FLAG_W,SILCAT,SILCAT_FLAG_W,NITRAT,NITRAT_FLAG_W,PHSPHT,PHSPHT_FLAG_W,CFC-11,CFC-11_FLAG_W,CFC-12,CFC-12_FLAG_W,CFC113,CFC113_FLAG_W,CCL4,CCL4_FLAG_W,SF6,SF6_FLAG_W,TCARBN,TCARBN_FLAG_W,ALKALI,ALKALI_FLAG_W,THETA
,,,,,,,,,,METERS,DBARS,ITS-90,PSS-78,,PSS-78,,UMOL/KG,,UMOL/KG,,UMOL/KG,,UMOL/KG,,PMOL/KG,,PMOL/KG,,PMOL/KG,,PMOL/KG,,FMOL/KG,,UMOL/KG,,UMOL/KG,,DEGC
  74JC19960720,   GNS,    19,  1,     24,2,19960729, 753, 75.0000,  -4.9900, 3588,      0.1,   4.4790,  33.0200,2,  33.0390,2,    342.2,2,     0.00,2,     0.49,2,     0.08,2,    5.038,   2,    2.707,   2,    0.471,   2, -999.000,   9,     1.37,   2,   1987.4,2,   2188.0,2,   4.4790
  74JC19960720,   GNS,    19,  1,     23,2,19960729, 753, 75.0000,  -4.9900, 3588,      5.0,   4.2480,  33.0790,2,  33.4530,2,    363.5,2,     0.49,2,     1.37,2,     0.15,2,    5.402,   2,    2.564,   2,    0.490,   2,    6.960,   2,     1.35,   2,   2009.6,2,   2207.0,2,   4.2477
  74JC19960720,   GNS,    19,  1,     22,2,19960729, 753, 75.0000,  -4.9900, 3588,     15.2,   2.1590,  34.3600,2,  34.5030,2,    400.4,2,     1.27,2,     5.07,2,     0.37,2,    5.475,   2,    2.757,   2,    0.458,   2, -999.000,   9,     1.39,   2,   2068.5,2,   2268.0,2,   2.1582
  74JC19960720,   GNS,    19,  1,     21,2,19960729, 753, 75.0000,  -4.9900, 3588,     26.6,   0.7810,  34.7390,2,  34.7660,2,    360.9,2,     4.78,2,    10.83,2,     0.69,2, -999.000,   9, -999.000,   9, -999.000,   9, -999.000,   9,      1.3,   2,   2116.6,2,   2280.0,2,   0.7799
  74JC19960720,   GNS,    19,  1,     20,2,19960729, 753, 75.0000,  -4.9900, 3588,     45.6,   0.0150,  34.8020,2,  34.8290,2,    341.3,2,     5.56,2,    13.56,2,     0.81,2,    5.145,   2,    2.315,   2,    0.426,   2,    6.530,   2,      1.2,   2,   2134.6,2,   2276.0,2,   0.0134
  74JC19960720,   GNS,    19,  1,     19,2,19960729, 753, 75.0000,  -4.9900, 3588,     70.7,   0.3840,  34.8620,2,  34.8720,2,    330.0,2,     5.85,2,    14.83,2,     0.85,2, -999.000,   9, -999.000,   9, -999.000,   9, -999.000,   9,     1.05,   2,   2140.4,2,   2282.0,2,   0.3812
  74JC19960720,   GNS,    19,  1,     18,2,19960729, 753, 75.0000,  -4.9900, 3588,     95.4,   0.2490,  34.8800,2,  34.8870,2,    329.6,2,     6.24,2,    15.41,2,     0.88,2,    4.076,   2,    2.009,   2,    0.290,   2,    5.019,   2,     0.95,   2,   2139.5,2,   2282.0,2,   0.2453
  74JC19960720,   GNS,    19,  1,     17,2,19960729, 753, 75.0000,  -4.9900, 3588,    120.7,  -0.1930,  34.8620,2,  34.8720,2,    327.0,2,     6.34,2,    15.51,2,     0.88,2, -999.000,   9, -999.000,   9, -999.000,   9, -999.000,   9,     0.96,   2,   2145.2,2,   2281.0,2,  -0.1972
  74JC19960720,   GNS,    19,  1,     16,2,19960729, 753, 75.0000,  -4.9900, 3588,    146.6,  -0.1940,  34.8660,2,  34.8800,2,    326.1,2,     6.44,2,    16.20,2,     0.91,2,    4.089,   2,    1.982,   2,    0.337,   2,    5.068,   2,     0.91,   2,   2144.7,2,   2282.0,2,  -0.1992
  74JC19960720,   GNS,    19,  1,     15,2,19960729, 753, 75.0000,  -4.9900, 3588,    196.5,  -0.3630,  34.8770,2,  34.8850,2,    326.5,2,     6.63,2,    15.80,2,     0.90,2, -999.000,   9, -999.000,   9, -999.000,   9, -999.000,   9,     0.91,   2,   2138.9,2,   2276.0,2,  -0.3697
  74JC19960720,   GNS,    19,  1,     14,2,19960729, 753, 75.0000,  -4.9900, 3588,    246.9,  -0.2870,  34.8880,2,  34.8990,2,    321.3,2,     6.93,2,    15.80,2,     0.90,2, -999.000,   9, -999.000,   9, -999.000,   9, -999.000,   9,     0.75,   2,   2141.4,2,   2286.0,2,  -0.2958
  74JC19960720,   GNS,    19,  1,     13,2,19960729, 753, 75.0000,  -4.9900, 3588,    296.6,  -0.3680,  34.8870,2,  34.8990,2,    330.0,2,     6.83,2,    15.90,2,     0.90,2, -999.000,   9, -999.000,   9, -999.000,   9, -999.000,   9,     0.81,   2,   -999.0,9,   2282.0,2,  -0.3784
  74JC19960720,   GNS,    19,  1,     12,2,19960729, 753, 75.0000,  -4.9900, 3588,    397.1,  -0.6770,  34.8720,2,  34.8850,2,    330.4,2,     6.83,2,    15.71,2,     0.86,2, -999.000,   9, -999.000,   9, -999.000,   9, -999.000,   9,      0.9,   2,   2164.8,2,   2288.0,2,  -0.6903
  74JC19960720,   GNS,    19,  1,     11,2,19960729, 753, 75.0000,  -4.9900, 3588,    497.4,  -0.7270,  34.8770,2,  34.8860,2,    328.7,2,     7.02,2,    16.00,2,     0.91,2,    3.886,   2,    1.874,   2,    0.331,   2,    5.090,   2,     0.87,   2,   2163.9,2,   2281.0,2,  -0.7439
  74JC19960720,   GNS,    19,  1,     10,2,19960729, 753, 75.0000,  -4.9900, 3588,    748.2,  -0.8450,  34.8740,2,  34.8850,2,    328.7,2,     7.22,2,    16.10,2,     0.91,2,    3.829,   2,    1.802,   2, -999.000,   9,    4.619,   2,     0.83,   2,   2159.5,2,   2281.0,2,  -0.8714
  74JC19960720,   GNS,    19,  1,      9,2,19960729, 753, 75.0000,  -4.9900, 3588,   1001.7,  -0.8800,  34.8740,2,  34.8850,2,    326.5,2,     7.32,2,    16.20,2,     0.91,2,    3.663,   2,    1.758,   2, -999.000,   9,    4.577,   2,     0.78,   2,   2158.8,2,   2286.0,2,  -0.9175
  74JC19960720,   GNS,    19,  1,      8,2,19960729, 753, 75.0000,  -4.9900, 3588,   1253.5,  -0.8110,  34.8880,2,  34.8960,2,    320.9,2,     8.68,2,    16.98,2,     0.97,2,    2.360,   2,    1.054,   2,    0.177,   2,    3.445,   2,     0.44,   2,   2161.4,2,   2278.0,2,  -0.8615
  74JC19960720,   GNS,    19,  1,      7,2,19960729, 753, 75.0000,  -4.9900, 3588,   1507.0,  -0.8040,  34.8980,2,  34.9050,2,    303.5,2,     9.95,2,    17.46,2,     0.98,2,    1.324,   2,    0.556,   2,    0.062,   2,    2.312,   2,     0.15,   2,   2166.2,2,   2280.0,2,  -0.8682
  74JC19960720,   GNS,    19,  1,      6,2,19960729, 753, 75.0000,  -4.9900, 3588,   1759.6,  -0.8830,  34.8970,2,  34.9040,2,    305.2,2,    10.15,2,    17.56,2,     0.99,2,    1.045,   2,    0.433,   2,    0.059,   2,    2.105,   2,     0.12,   2,   2164.9,2,   2279.0,2,  -0.9608
  74JC19960720,   GNS,    19,  1,      5,2,19960729, 753, 75.0000,  -4.9900, 3588,   2013.0,  -0.9240,  34.8940,2,  34.9040,2,    306.5,2,    10.54,2,    17.56,2,     1.00,2,    1.069,   2,    0.464,   2,    0.042,   2,    2.083,   2,     0.09,   2,   2163.7,2,   2282.0,2,  -1.0168
  74JC19960720,   GNS,    19,  1,      4,2,19960729, 753, 75.0000,  -4.9900, 3588,   2521.4,  -0.9580,  34.8940,2,  34.9060,2,    307.4,2,    10.73,2,    17.56,2,     0.99,2,    0.793,   2,    0.311,   2,    0.033,   2,    1.859,   2,     0.08,   2,   2157.8,2,   2280.0,2,  -1.0847
  74JC19960720,   GNS,    19,  1,      3,2,19960729, 753, 75.0000,  -4.9900, 3588,   3029.3,  -0.9730,  34.8920,2,  34.9010,2,    309.1,2,    11.12,2,    17.66,2,     1.02,2,    0.884,   2,    0.381,   2,    0.029,   2,    2.120,   2,     0.08,   2,   2163.8,2,   2283.0,2,  -1.1379
  74JC19960720,   GNS,    19,  1,      1,2,19960729, 753, 75.0000,  -4.9900, 3588,   3577.5,  -0.9650,  34.8910,2,  34.8980,2,    310.9,2,    11.71,2,    17.66,2,     1.01,2,    0.769,   2,    0.350,   2,    0.026,   2,    2.060,   2,     0.08,   2,   2163.6,2,   2277.0,2,  -1.1761
  74JC19960720,   GNS,    20,  1,     17,2,19960729,1329, 74.5800,  -3.8000, 3633,    120.0,  -0.5830,  34.8480,2,  34.8610,2,    333.9,2,     6.15,2,    15.61,2,     0.91,2,    4.486,   2,    1.991,   2,    0.361,   2,    6.815,   2,     1.11,   2,   -999.0,9,   -999.0,9,  -0.5868
  74JC19960720,   GNS,    20,  1,     16,2,19960729,1329, 74.5800,  -3.8000, 3633,    145.1,  -0.5620,  34.8650,2,  34.8750,2,    336.5,2,     6.44,2,    15.80,2,     0.91,2,    4.376,   2,    2.051,   2,    0.366,   2,    5.611,   2,     1.14,   2,   -999.0,9,   -999.0,9,  -0.5667
  74JC19960720,   GNS,    20,  1,     15,2,19960729,1329, 74.5800,  -3.8000, 3633,    198.2,  -0.6320,  34.8730,2,  34.8800,2,    337.8,2,     6.54,2,    15.90,2,     0.92,2,    4.323,   2,    1.898,   2,    0.342,   2,    5.810,   2,     1.02,   2,   -999.0,9,   -999.0,9,  -0.6383
  74JC19960720,   GNS,    20,  1,     14,2,19960729,1329, 74.5800,  -3.8000, 3633,    247.6,  -0.6830,  34.8730,2,  34.8820,2,    330.9,2,     6.54,2,    15.90,2,     0.92,2,    4.297,   2,    2.022,   2,    0.360,   2,    5.508,   2,     1.11,   2,   -999.0,9,   -999.0,9,  -0.6909
  74JC19960720,   GNS,    20,  1,     13,2,19960729,1329, 74.5800,  -3.8000, 3633,    299.3,  -0.7300,  34.8770,2,  34.8820,2,    331.3,2,     6.63,2,    15.90,2,     0.91,2, -999.000,   9, -999.000,   9, -999.000,   9, -999.000,   9,     1.05,   2,   -999.0,9,   -999.0,9,  -0.7396
  74JC19960720,   GNS,    20,  1,     12,2,19960729,1329, 74.5800,  -3.8000, 3633,    399.1,  -0.8110,  34.8760,2,  34.8810,2,    320.9,2,     6.73,2,    15.90,2,     0.92,2,    4.234,   2,    1.900,   2,    0.355,   2,    5.516,   2,     0.96,   2,   -999.0,9,   -999.0,9,  -0.8239
  74JC19960720,   GNS,    20,  1,     11,2,19960729,1329, 74.5800,  -3.8000, 3633,    501.0,  -0.8680,  34.8780,2,  34.8810,2,    331.7,2,     6.63,2,    16.10,2,     0.93,2,    4.295,   2,    1.998,   2,    0.287,   2,    5.510,   2,     0.99,   2,   -999.0,9,   -999.0,9,  -0.8845
  74JC19960720,   GNS,    20,  1,     10,2,19960729,1329, 74.5800,  -3.8000, 3633,    772.7,  -0.9170,  34.8840,2,  34.8810,2,    337.0,2,     6.83,2,    16.10,2,     0.93,2,    4.155,   2,    1.881,   2,    0.329,   2,    5.219,   2,     0.97,   2,   -999.0,9,   -999.0,9,  -0.9440
  74JC19960720,   GNS,    20,  1,      9,2,19960729,1329, 74.5800,  -3.8000, 3633,   1025.1,  -0.9050,  34.8830,2,  34.8840,2,    330.9,2,     7.02,2,    16.10,2,     0.94,2,    3.951,   2,    1.872,   2,    0.324,   2,    5.165,   2,     0.91,   2,   -999.0,9,   -999.0,9,  -0.9433
  74JC19960720,   GNS,    20,  1,      8,2,19960729,1329, 74.5800,  -3.8000, 3633,   1279.2,  -0.8470,  34.8890,2,  34.8910,2,    320.0,2,     7.90,2,    16.68,2,     0.96,2,    3.119,   2,    1.352,   2,    0.225,   2,    4.132,   2,     0.64,   2,   -999.0,9,   -999.0,9,  -0.8984
  74JC19960720,   GNS,    20,  1,      7,2,19960729,1329, 74.5800,  -3.8000, 3633,   1533.0,  -0.8160,  34.9000,2,  34.9040,2,    294.8,3,     9.56,2,    17.46,2,     1.00,2,    1.455,   2,    0.602,   2,    0.073,   2,    2.628,   2,      0.2,   2,   -999.0,9,   -999.0,9,  -0.8815
  74JC19960720,   GNS,    20,  1,      6,2,19960729,1329, 74.5800,  -3.8000, 3633,   1760.8,  -0.8820,  34.9020,2,  34.9040,2,    304.8,2,     9.85,2,    17.66,2,     1.01,2,    1.118,   2,    0.402,   2,    0.040,   2,    2.190,   2,     0.13,   2,   -999.0,9,   -999.0,9,  -0.9599
  74JC19960720,   GNS,    20,  1,      5,2,19960729,1329, 74.5800,  -3.8000, 3633,   2013.2,  -0.9250,  34.8950,2,  34.9040,2,    306.5,2,    10.05,2,    17.46,2,     0.98,2,    1.149,   2,    0.461,   2,    0.051,   2,    2.333,   2,     0.11,   2,   -999.0,9,   -999.0,9,  -1.0178
  74JC19960720,   GNS,    20,  1,      4,2,19960729,1329, 74.5800,  -3.8000, 3633,   2521.3,  -0.9610,  34.8950,2,  34.9040,2,    313.0,2,    10.54,2,    17.46,2,     0.98,2,    0.872,   2,    0.324,   2,    0.049,   2,    2.016,   2,      0.1,   2,   -999.0,9,   -999.0,9,  -1.0876
  74JC19960720,   GNS,    20,  1,      3,2,19960729,1329, 74.5800,  -3.8000, 3633,   3029.5,  -0.9790,  34.8920,2,  34.9000,2,    310.0,2,    10.93,2,    17.46,2,     0.98,2,    0.911,   2,    0.387,   2, -999.000,   9,    2.272,   2,     0.08,   2,   -999.0,9,   -999.0,9,  -1.1438
  74JC19960720,   GNS,    20,  1,      1,2,19960729,1329, 74.5800,  -3.8000, 3633,   3623.4,  -0.9590,  34.8920,2,  34.8990,2,    310.0,2,    11.22,2,    17.56,2,     0.97,2,    0.810,   2,    0.315,   2,    0.030,   2,    2.208,   2,    0.105,   2,   -999.0,9,   -999.0,9,  -1.1744
  74JC19960720,   GNS,    21,  1,     24,2,19960729,2134, 74.1900,  -2.4000, 3548,      5.4,   4.4460,  33.9070,2,  33.9550,2,    341.3,2,     0.00,2,     3.32,2,     0.23,2,    5.185,   2,    2.634,   2,    0.459,   2, -999.000,   9,     1.41,   2,   1973.9,2,   2107.0,3,   4.4456
  74JC19960720,   GNS,    21,  1,     23,2,19960729,2134, 74.1900,  -2.4000, 3548,     13.7,   3.7650,  33.9790,2,  34.0400,2,    337.0,2,     0.00,2,     4.59,2,     0.35,2,    5.257,   2,    2.495,   2,    0.476,   2,    6.773,   2,     1.37,   2,   2061.8,2,   2230.0,2,   3.7641
  74JC19960720,   GNS,    21,  1,     22,2,19960729,2134, 74.1900,  -2.4000, 3548,     22.9,  -0.6050,  34.4660,2,  34.5500,2,    383.9,2,     1.85,2,     6.15,2,     0.43,2,    5.589,   2,    2.853,   2,    0.480,   2, -999.000,   9,     1.44,   2,   2073.8,2,   2251.0,2,  -0.6057
  74JC19960720,   GNS,    21,  1,     21,2,19960729,2134, 74.1900,  -2.4000, 3548,     32.5,  -1.3070,  34.6140,2,  34.6500,2,    379.6,2,     4.78,2,    10.15,2,     0.65,2, -999.000,   9, -999.000,   9, -999.000,   9, -999.000,   9,     1.46,   2,   2108.0,2,   2268.0,2,  -1.3078
  74JC19960720,   GNS,    21,  1,     20,2,19960729,2134, 74.1900,  -2.4000, 3548,     53.1,  -1.4850,  34.6720,2,  34.6930,2,    363.5,2,     5.07,2,    11.71,2,     0.71,2,    5.720,   2,    2.643,   2,    0.501,   2,    7.610,   2,     1.39,   2,   2123.8,2,   2267.0,2,  -1.4862
  74JC19960720,   GNS,    21,  1,     19,2,19960729,2134, 74.1900,  -2.4000, 3548,     78.8,  -0.6370,  34.7930,2,  34.7900,2,    347.8,2,     5.76,2,    14.15,2,     0.83,2, -999.000,   9, -999.000,   9, -999.000,   9, -999.000,   9,     1.34,   2,   2138.4,2,   2277.0,2,  -0.6394
  74JC19960720,   GNS,    21,  1,     18,2,19960729,2134, 74.1900,  -2.4000, 3548,    103.4,  -0.1160,  34.8430,2,  34.8460,2,    330.4,2,     6.54,2,    15.12,2,     0.90,2,    4.149,   2,    1.970,   2,    0.338,   2,    7.382,   2,     1.07,   2,   2143.1,2,   2279.0,2,  -0.1197
  74JC19960720,   GNS,    21,  1,     17,2,19960729,2134, 74.1900,  -2.4000, 3548,    125.9,  -0.1560,  34.8490,2,  34.8680,2,    323.0,2,     6.24,2,    15.12,2,     0.86,2, -999.000,   9, -999.000,   9, -999.000,   9, -999.000,   9,     0.93,   2,   2146.8,2,   2280.0,2,  -0.1605
  74JC19960720,   GNS,    21,  1,     16,2,19960729,2134, 74.1900,  -2.4000, 3548,    147.4,  -0.1870,  34.8610,2,  34.8710,2,    321.7,2,     6.34,2,    15.32,2,     0.87,2,    3.846,   2,    1.828,   2,    0.300,   2,    5.061,   2,     0.88,   2,   2144.3,2,   2288.0,2,  -0.1922
  74JC19960720,   GNS,    21,  1,     15,2,19960729,2134, 74.1900,  -2.4000, 3548,    202.6,  -0.4390,  34.8600,2,  34.8740,2,    325.6,2,     6.44,2,    15.32,2,     0.85,2, -999.000,   9, -999.000,   9, -999.000,   9, -999.000,   9,     0.92,   2,   2146.7,2,   2280.0,2,  -0.4458
  74JC19960720,   GNS,    21,  1,     14,2,19960729,2134, 74.1900,  -2.4000, 3548,    253.5,  -0.5610,  34.8680,2,  34.8770,2,    331.7,2,     6.73,2,    15.51,2,     0.84,2, -999.000,   9, -999.000,   9, -999.000,   9, -999.000,   9,     0.85,   2,   2150.3,2,   2282.0,2,  -0.5694
  74JC19960720,   GNS,    21,  1,     13,2,19960729,2134, 74.1900,  -2.4000, 3548,    302.5,  -0.6380,  34.8670,2,  34.8770,2,    329.6,2,     6.63,2,    15.71,2,     0.87,2, -999.000,   9, -999.000,   9, -999.000,   9, -999.000,   9,     0.91,   2,   2148.7,2,   2282.0,2,  -0.6480
  74JC19960720,   GNS,    21,  1,     12,2,19960729,2134, 74.1900,  -2.4000, 3548,    398.8,  -0.7470,  34.8680,2,  34.8790,2,    329.1,2,     6.83,2,    15.51,2,     0.85,2, -999.000,   9, -999.000,   9, -999.000,   9, -999.000,   9,     0.91,   2,   2151.9,2,   2281.0,2,  -0.7601
  74JC19960720,   GNS,    21,  1,     11,2,19960729,2134, 74.1900,  -2.4000, 3548,    503.5,  -0.8290,  34.8670,2,  34.8800,2,    326.1,2,     6.83,2,    15.80,2,     0.86,2, -999.000,   9, -999.000,   9, -999.000,   9, -999.000,   9,     0.92,   2,   2151.3,2,   2281.0,2,  -0.8457
  74JC19960720,   GNS,    21,  1,     10,2,19960729,2134, 74.1900,  -2.4000, 3548,    753.1,  -0.8940,  34.8690,2,  34.8810,2,    330.9,2,     6.83,2,    15.90,2,     0.87,2,    4.150,   2,    1.876,   2,    0.312,   2,    5.660,   2,     0.96,   2,   2154.2,2,   2281.0,2,  -0.9203
  74JC19960720,   GNS,    21,  1,      9,2,19960729,2134, 74.1900,  -2.4000, 3548,   1003.8,  -0.9000,  34.8690,2,  34.8830,2,    329.6,2,     7.12,2,    15.90,2,     0.87,2,    4.032,   2,    1.986,   2,    0.329,   2,    5.150,   2,     0.88,   2,   2153.7,2,   2281.0,2,  -0.9374
  74JC19960720,   GNS,    21,  1,      8,2,19960729,2134, 74.1900,  -2.4000, 3548,   1256.3,  -0.7960,  34.8850,2,  34.8980,2,    318.7,2,     8.59,2,    16.68,2,     0.93,2,    2.236,   2,    0.908,   2,    0.163,   2,    3.571,   2,     0.39,   2,   2153.0,2,   2282.0,2,  -0.8468
  74JC19960720,   GNS,    21,  1,      7,2,19960729,2134, 74.1900,  -2.4000, 3548,   1509.0,  -0.8120,  34.8930,2,  34.9060,2,    306.1,2,     9.85,2,    17.17,2,     0.94,2,    1.384,   2,    0.564,   2,    0.077,   2,    2.616,   2,     0.19,   2,   2151.1,2,   2283.0,2,  -0.8762
  74JC19960720,   GNS,    21,  1,      6,2,19960729,2134, 74.1900,  -2.4000, 3548,   1762.0,  -0.8910,  34.8930,2,  34.9050,2,    306.1,2,    10.15,2,    17.27,2,     0.94,2,    1.097,   2,    0.467,   2,    0.055,   2,    2.359,   2,     0.14,   2,   2154.9,2,   2284.0,2,  -0.9688
  74JC19960720,   GNS,    21,  1,      5,2,19960729,2134, 74.1900,  -2.4000, 3548,   2015.4,  -0.9360,  34.8930,2,  34.9130,0,    307.0,2,    10.44,2,    17.27,2,     0.94,2,    1.090,   2,    0.429,   2,    0.039,   2,    2.314,   2,     0.13,   2,   2153.2,2,   2286.0,2,  -1.0287
  74JC19960720,   GNS,    21,  1,      4,2,19960729,2134, 74.1900,  -2.4000, 3548,   2268.5,  -0.9540,  34.8940,2,  34.9050,2,    313.5,2,    10.54,2,    17.27,2,     0.94,2,    0.882,   2,    0.366,   2, -999.000,   9,    2.137,   2,     0.15,   2,   2152.6,2,   2284.0,2,  -1.0631
  74JC19960720,   GNS,    21,  1,      3,2,19960729,2134, 74.1900,  -2.4000, 3548,   2522.2,  -0.9680,  34.8930,2,  34.9050,2,    306.5,2,    10.83,2,    17.27,2,     0.94,2,    0.948,   2,    0.361,   2,    0.032,   2,    2.232,   2,     0.12,   2,   2153.2,2,   2285.0,2,  -1.0946
  74JC19960720,   GNS,    21,  1,      1,2,19960729,2134, 74.1900,  -2.4000, 3548,   2826.9,  -0.9930,  34.8890,2,  34.9020,2,    310.0,2,    11.12,2,    17.27,2,     0.96,2,    0.848,   2,    0.309,   2,    0.045,   2,    2.304,   2,     0.12,   2,   2150.4,2,   2283.0,2,  -1.1416