BOTTLE,20090109PRINUNIVRMKPRINUNIVRMK
EXPOCODE,SECT_ID,STNNBR,CASTNO,BTLNBR,BTLNBR_FLAG_W,DATE,TIME,LATITUDE,LONGITUDE,DEPTH,CTDPRS,CTDTMP,CTDSAL,CTDSAL_FLAG_W,SALNTY,SALNTY_FLAG_W,OXYGEN,OXYGEN_FLAG_W,SILCAT,SILCAT_FLAG_W,NITRAT,NITRAT_FLAG_W,PHSPHT,PHSPHT_FLAG_W,CFC-11,CFC-11_FLAG_W,CFC-12,CFC-12_FLAG_W,CFC113,CFC113_FLAG_W,CCL4,CCL4_FLAG_W,SF6,SF6_FLAG_W,TCARBN,TCARBN_FLAG_W,ALKALI,ALKALI_FLAG_W,THETA
,,,,,,,,,,METERS,DBARS,ITS-90,PSS-78,,PSS-78,,UMOL/KG,,UMOL/KG,,UMOL/KG,,UMOL/KG,,PMOL/KG,,PMOL/KG,,PMOL/KG,,PMOL/KG,,FMOL/KG,,UMOL/KG,,UMOL/KG,,DEGC
  74JC19960720,   GNS,    37,  1,     24,2,19960802, 712, 75.3800,  -3.2500, 3671,      2.0,   5.6520,  33.4350,2,  33.4740,2,   -999.0,9,     0.29,2,     0.49,2,     0.10,2, -999.000,   9, -999.000,   9, -999.000,   9, -999.000,   9,     1.27,   2,   2016.6,2,   2209.0,2,   5.6518
  74JC19960720,   GNS,    37,  1,     23,2,19960802, 712, 75.3800,  -3.2500, 3671,      5.0,   5.6170,  33.4670,2,  33.5190,2,    342.2,2,     0.29,2,     2.73,2,     0.25,2, -999.000,   9, -999.000,   9, -999.000,   9, -999.000,   9,     1.32,   2,   2023.8,2,   2209.0,2,   5.6166
  74JC19960720,   GNS,    37,  1,     22,2,19960802, 712, 75.3800,  -3.2500, 3671,     15.3,   4.4880,  34.0100,2,  34.1990,2,    363.5,2,     0.29,2,     0.88,2,     0.12,2,    4.698,   2,    3.870,   3,    0.413,   2,    5.655,   2,     1.37,   2,   2061.0,2,   2257.0,2,   4.4869
  74JC19960720,   GNS,    37,  1,     21,2,19960802, 712, 75.3800,  -3.2500, 3671,     27.7,   0.8080,  34.6600,2,  34.6880,2,    413.0,2,     0.59,2,     6.24,2,     0.49,2,    5.105,   2,    2.462,   2,    0.468,   2,    6.212,   2,     1.47,   2,   2089.2,2,   2277.0,2,   0.8068
  74JC19960720,   GNS,    37,  1,     20,2,19960802, 712, 75.3800,  -3.2500, 3671,     45.7,  -0.6950,  34.7510,2,  34.7810,2,    356.5,2,     4.78,2,    12.49,2,     0.80,2,    5.155,   2,    2.790,   2,    0.422,   2,    6.231,   2,     1.37,   2,   2100.8,2,   2277.0,2,  -0.6964
  74JC19960720,   GNS,    37,  1,     19,2,19960802, 712, 75.3800,  -3.2500, 3671,     70.8,  -0.8110,  34.7970,2,  34.8240,2,    342.2,2,     6.05,2,    14.54,2,     0.87,2,    4.471,   2,    2.093,   2,    0.391,   2,    5.537,   2,     1.19,   2,   2156.7,2,   2279.0,2,  -0.8131
  74JC19960720,   GNS,    37,  1,     18,2,19960802, 712, 75.3800,  -3.2500, 3671,     95.7,  -0.4800,  34.8420,2,  34.8640,2,    332.6,2,     6.44,2,    15.71,2,     0.90,2,    4.101,   2,    2.043,   2,    0.319,   2,    5.117,   2,     1.05,   2,   2160.2,2,   2281.0,2,  -0.4831
  74JC19960720,   GNS,    37,  1,     17,2,19960802, 712, 75.3800,  -3.2500, 3671,    121.1,  -0.2310,  34.8710,2,  34.8900,2,    324.4,2,     6.54,2,    15.71,2,     0.91,2,    3.573,   2,    1.752,   2,    0.296,   2,    4.463,   2,     0.91,   2,   2160.0,2,   2285.0,2,  -0.2352
  74JC19960720,   GNS,    37,  1,     16,2,19960802, 712, 75.3800,  -3.2500, 3671,    145.6,  -0.3900,  34.8690,2,  34.8850,2,    335.6,2,     6.54,2,    15.80,2,     0.91,2, -999.000,   9, -999.000,   9, -999.000,   9, -999.000,   9,     0.98,   2,   2160.2,2,   2283.0,2,  -0.3949
  74JC19960720,   GNS,    37,  1,     15,2,19960802, 712, 75.3800,  -3.2500, 3671,    196.1,  -0.5810,  34.8650,2,  34.8840,2,    332.2,2,     6.63,2,    15.90,2,     0.90,2, -999.000,   9, -999.000,   9, -999.000,   9, -999.000,   9,     1.05,   2,   2162.0,2,   2284.0,2,  -0.5874
  74JC19960720,   GNS,    37,  1,     14,2,19960802, 712, 75.3800,  -3.2500, 3671,    244.0,  -0.5970,  34.8710,2,  34.8890,2,    330.0,2,     6.73,2,    16.00,2,     0.93,2,    3.895,   2,    1.991,   2,    0.311,   2,    4.878,   2,        1,   2,   2161.6,2,   2285.0,2,  -0.6050
  74JC19960720,   GNS,    37,  1,     13,2,19960802, 712, 75.3800,  -3.2500, 3671,    297.2,  -0.6150,  34.8730,2,  34.8910,2,    327.8,2,     6.73,2,    16.20,2,     0.93,2,    3.658,   2,    1.762,   2,    0.305,   2,    4.557,   2,     0.95,   2,   -999.0,9,   2283.0,2,  -0.6248
  74JC19960720,   GNS,    37,  1,     12,2,19960802, 712, 75.3800,  -3.2500, 3671,    397.1,  -0.7460,  34.8680,2,  34.8870,2,    327.4,2,     7.02,2,    16.00,2,     0.92,2,    3.723,   2,    1.794,   2,    0.298,   2,    4.727,   2,     0.91,   2,   2160.8,2,   2284.0,2,  -0.7591
  74JC19960720,   GNS,    37,  1,     11,2,19960802, 712, 75.3800,  -3.2500, 3671,    497.9,  -0.8040,  34.8680,2,  34.8880,2,    328.7,2,     6.93,2,    16.10,2,     0.92,2,    3.727,   2,    1.795,   2,    0.313,   2,    4.585,   2,     0.92,   2,   2163.6,2,   2283.0,2,  -0.8206
  74JC19960720,   GNS,    37,  1,     10,2,19960802, 712, 75.3800,  -3.2500, 3671,    750.1,  -0.8850,  34.8660,2,  34.8850,2,    329.1,2,     7.12,2,    16.20,2,     0.93,2,    3.733,   2,    1.896,   2,    0.305,   2,    4.732,   2,     0.89,   2,   2165.7,2,   2283.0,2,  -0.9113
  74JC19960720,   GNS,    37,  1,      9,2,19960802, 712, 75.3800,  -3.2500, 3671,   1001.2,  -0.9000,  34.8680,2,  34.8860,2,    328.3,2,     7.22,2,    16.20,2,     0.93,2,    3.565,   2,    1.752,   2,    0.289,   2,    4.471,   2,     0.85,   2,   2161.0,2,   2283.0,2,  -0.9373
  74JC19960720,   GNS,    37,  1,      8,2,19960802, 712, 75.3800,  -3.2500, 3671,   1253.3,  -0.8830,  34.8710,2,  34.8900,2,    328.7,2,     7.61,2,    16.39,2,     0.94,2,    3.202,   2,    1.595,   2,    0.242,   2,    4.444,   2,     0.74,   2,   2163.5,2,   2285.0,2,  -0.9327
  74JC19960720,   GNS,    37,  1,      7,2,19960802, 712, 75.3800,  -3.2500, 3671,   1506.5,  -0.7950,  34.8910,2,  34.9070,2,    303.5,2,     9.56,2,    17.56,2,     0.99,2,    1.188,   2,    0.652,   2,    0.072,   2,    2.035,   2,     0.16,   2,   2162.8,2,   2284.0,2,  -0.8593
  74JC19960720,   GNS,    37,  1,      6,2,19960802, 712, 75.3800,  -3.2500, 3671,   1759.4,  -0.8690,  34.8890,2,  34.9090,2,    303.9,2,    10.05,2,    17.85,2,     1.01,2,    0.922,   2,    0.429,   2,    0.049,   2,    1.775,   2,     0.13,   2,   2163.3,2,   2286.0,2,  -0.9470
  74JC19960720,   GNS,    37,  1,      5,2,19960802, 712, 75.3800,  -3.2500, 3671,   2011.7,  -0.9150,  34.8910,2,  34.9080,2,    304.4,2,    10.34,2,    17.85,2,     1.01,2,    0.836,   2,    0.478,   2,    0.043,   2,    1.736,   2,      0.1,   2,   2163.4,2,   2285.0,2,  -1.0079
  74JC19960720,   GNS,    37,  1,      4,2,19960802, 712, 75.3800,  -3.2500, 3671,   2519.9,  -0.9560,  34.8910,2,  34.9060,2,    305.6,2,    10.83,2,    18.15,2,     1.08,3,    0.666,   2,    0.332,   2,    0.024,   2,    1.541,   2,     0.08,   2,   2166.5,2,   2284.0,2,  -1.0826
  74JC19960720,   GNS,    37,  1,      3,2,19960802, 712, 75.3800,  -3.2500, 3671,   3029.1,  -0.9710,  34.8890,2,  34.9040,2,    307.4,2,    11.12,2,    17.85,2,     0.99,2,    0.675,   2,    0.414,   2,    0.031,   2,    1.798,   2,     0.07,   2,   2160.3,2,   2285.0,2,  -1.1359
  74JC19960720,   GNS,    37,  1,      1,2,19960802, 712, 75.3800,  -3.2500, 3671,   3660.8,  -0.9580,  34.8860,2,  34.9010,2,    307.4,2,    11.51,2,    17.85,2,     0.99,2,    0.618,   2,    0.359,   2,    0.026,   2,    1.784,   2,     0.08,   2,   2159.6,2,   2287.0,2,  -1.1767
  74JC19960720,   GNS,    38,  1,     24,2,19960802,1705, 76.2500,  -2.5000, 3756,      0.5,   4.0030,  32.0430,2,  32.1280,2,    350.0,2,     0.39,2,     0.49,2,     0.03,2,    5.137,   2,    2.609,   2,    0.455,   2,    7.079,   2,     1.36,   2,   1910.8,2,   2136.0,2,   4.0030
  74JC19960720,   GNS,    38,  1,     23,2,19960802,1705, 76.2500,  -2.5000, 3756,      6.2,   4.3960,  33.8070,2,  33.9210,2,    367.4,2,     0.29,2,     1.66,2,     0.11,2,    5.202,   2,    2.468,   2,    0.471,   2,    6.701,   2,     1.34,   2,   2024.6,2,   2244.0,2,   4.3956
  74JC19960720,   GNS,    38,  1,     22,2,19960802,1705, 76.2500,  -2.5000, 3756,     15.9,   1.3310,  34.6650,2,  34.7850,2,    373.5,2,     2.15,2,    11.32,2,     0.54,3,    5.171,   2,    2.579,   2,    0.430,   2,    6.714,   2,     1.31,   2,   2085.8,2,   2282.0,2,   1.3303
  74JC19960720,   GNS,    38,  1,     21,2,19960802,1705, 76.2500,  -2.5000, 3756,     25.8,   1.1830,  34.8560,2,  34.8950,2,    335.6,2,     4.68,2,    14.15,2,     0.73,2,    4.689,   2,    2.204,   2,    0.402,   2,    5.953,   2,     1.17,   2,   2113.2,2,   2288.0,2,   1.1818
  74JC19960720,   GNS,    38,  1,     20,2,19960802,1705, 76.2500,  -2.5000, 3756,     45.7,   1.1120,  34.9000,2,  34.9270,2,    318.7,2,     5.95,2,    15.02,2,     0.81,2, -999.000,   9, -999.000,   9, -999.000,   9, -999.000,   9,     1.03,   2,   2127.0,2,   2285.0,2,   1.1099
  74JC19960720,   GNS,    38,  1,     19,2,19960802,1705, 76.2500,  -2.5000, 3756,     71.6,   0.9150,  34.9030,2,  34.9290,2,    317.4,2,     6.05,2,    15.22,2,     0.82,2, -999.000,   9, -999.000,   9, -999.000,   9, -999.000,   9,     0.91,   2,   2133.8,2,   2286.0,2,   0.9118
  74JC19960720,   GNS,    38,  1,     18,2,19960802,1705, 76.2500,  -2.5000, 3756,     96.9,   0.6440,  34.8950,2,  34.9220,2,    315.2,2,     6.34,2,    15.41,2,     0.83,2, -999.000,   9, -999.000,   9, -999.000,   9, -999.000,   9,     0.83,   2,   2139.5,2,   2285.0,2,   0.6399
  74JC19960720,   GNS,    38,  1,     17,2,19960802,1705, 76.2500,  -2.5000, 3756,    120.0,   0.4870,  34.8960,2,  34.9180,2,    316.5,2,     6.44,2,    15.51,2,     0.84,2, -999.000,   9, -999.000,   9, -999.000,   9, -999.000,   9,     0.83,   2,   2139.9,2,   2282.0,2,   0.4821
  74JC19960720,   GNS,    38,  1,     16,2,19960802,1705, 76.2500,  -2.5000, 3756,    146.6,  -0.0780,  34.8650,2,  34.8950,2,    328.3,2,     6.44,2,    15.61,2,     0.87,2,    3.899,   2,    1.767,   2,    0.312,   2,    5.110,   2,     0.89,   2,   2144.3,2,   2286.0,2,  -0.0833
  74JC19960720,   GNS,    38,  1,     15,2,19960802,1705, 76.2500,  -2.5000, 3756,    197.0,  -0.0390,  34.8840,2,  34.9110,2,    329.1,2,     6.54,2,    15.61,2,     0.84,2,    4.018,   2,    1.883,   2,    0.338,   2,    5.342,   2,     0.93,   2,   -999.0,9,   2281.0,2,  -0.0463
  74JC19960720,   GNS,    38,  1,     14,2,19960802,1705, 76.2500,  -2.5000, 3756,    247.5,  -0.2700,  34.8760,2,  34.9050,2,    324.8,2,     6.63,2,    15.61,2,     0.84,2,    4.041,   2,    1.861,   2,    0.339,   2,    5.235,   2,     0.93,   2,   2152.8,2,   2283.0,2,  -0.2788
  74JC19960720,   GNS,    38,  1,     13,2,19960802,1705, 76.2500,  -2.5000, 3756,    297.0,  -0.4850,  34.8680,2,  34.8950,2,    327.8,2,     6.83,2,    15.61,2,     0.85,2,    4.205,   2,    1.940,   2,    0.361,   2,    5.605,   2,     1.01,   2,   2157.5,2,   2285.0,2,  -0.4952
  74JC19960720,   GNS,    38,  1,     12,2,19960802,1705, 76.2500,  -2.5000, 3756,    398.6,  -0.7880,  34.8530,2,  34.8830,2,    327.4,2,     6.93,2,    15.51,2,     0.84,2,    4.141,   2,    1.784,   2,    0.327,   2,    5.368,   2,     0.97,   2,   2161.7,2,   2282.0,2,  -0.8010
  74JC19960720,   GNS,    38,  1,     11,2,19960802,1705, 76.2500,  -2.5000, 3756,    497.3,  -0.8030,  34.8570,2,  34.8860,2,    329.1,2,     6.93,2,    15.80,2,     0.86,2,    4.183,   2,    1.955,   2,    0.334,   2,    5.540,   2,     0.97,   2,   -999.0,9,   2285.0,2,  -0.8196
  74JC19960720,   GNS,    38,  1,     10,2,19960802,1705, 76.2500,  -2.5000, 3756,    748.7,  -0.8930,  34.8560,2,  34.8840,2,    329.6,2,     6.93,2,    15.90,2,     0.89,2,    4.189,   2,    1.895,   2,    0.349,   2,    5.400,   2,     0.97,   2,   2162.2,2,   2282.0,2,  -0.9192
  74JC19960720,   GNS,    38,  1,      9,2,19960802,1705, 76.2500,  -2.5000, 3756,   1001.3,  -0.9090,  34.8570,2,  34.8860,2,    334.4,2,     7.12,2,    15.90,2,     0.87,2,    3.914,   2,    1.821,   2,    0.325,   2,    5.281,   2,      0.9,   2,   2162.2,2,   2285.0,2,  -0.9462
  74JC19960720,   GNS,    38,  1,      8,2,19960802,1705, 76.2500,  -2.5000, 3756,   1254.3,  -0.9020,  34.8580,2,  34.8880,2,    327.4,2,     7.41,2,    16.10,2,     0.87,2,    3.772,   2,    1.682,   2,    0.297,   2,    5.013,   2,     0.83,   2,   2159.6,2,   2283.0,2,  -0.9516
  74JC19960720,   GNS,    38,  1,      7,2,19960802,1705, 76.2500,  -2.5000, 3756,   1506.1,  -0.7830,  34.8760,2,  34.9060,2,    303.9,2,     9.56,2,    17.07,2,     0.94,2,    1.356,   2,    0.625,   2,    0.090,   2,    2.434,   2,     0.19,   2,   2163.9,2,   2282.0,2,  -0.8474
  74JC19960720,   GNS,    38,  1,      6,2,19960802,1705, 76.2500,  -2.5000, 3756,   1759.4,  -0.8640,  34.8780,2,  34.9080,2,    303.0,2,    10.15,2,    17.46,2,     0.96,2,    0.977,   2,    0.431,   2,    0.060,   2,    1.922,   2,     0.13,   2,   2161.7,2,   2290.0,2,  -0.9421
  74JC19960720,   GNS,    38,  1,      5,2,19960802,1705, 76.2500,  -2.5000, 3756,   2012.2,  -0.9130,  34.8780,2,  34.9080,2,    303.9,2,    10.34,2,    17.56,2,     0.96,2,    0.920,   2,    0.454,   2,    0.057,   2,    1.998,   2,      0.1,   2,   2160.5,2,   2287.0,2,  -1.0060
  74JC19960720,   GNS,    38,  1,      4,2,19960802,1705, 76.2500,  -2.5000, 3756,   2519.9,  -0.9530,  34.8780,2,  34.9060,2,    305.6,2,    10.73,2,    17.56,2,     0.96,2,    0.758,   2,    0.421,   2,    0.035,   2,    1.797,   2,     0.08,   2,   2159.9,2,   2288.0,2,  -1.0797
  74JC19960720,   GNS,    38,  1,      3,2,19960802,1705, 76.2500,  -2.5000, 3756,   3028.6,  -0.9720,  34.8760,2,  34.9040,2,    312.6,2,    11.22,2,    17.56,2,     0.96,2,    0.697,   2,    0.312,   2,    0.043,   2,    1.950,   2,     0.08,   2,   2161.0,2,   2282.0,2,  -1.1369
  74JC19960720,   GNS,    38,  1,      1,2,19960802,1705, 76.2500,  -2.5000, 3756,   3746.5,  -0.9500,  34.8740,2,  34.9015,2,    309.1,2,  -999.00,9,  -999.00,9,  -999.00,9,    0.638,   2,    0.310,   2,    0.030,   2,    1.876,   2,     0.07,   2,   2163.8,2,   2284.0,2,  -1.1767