BOTTLE,20020809WHPSIObren
EXPOCODE,SECT_ID,STNNBR,CASTNO,SAMPNO,BTLNBR,BTLNBR_FLAG_W,DATE,TIME,LATITUDE,LONGITUDE,DEPTH,CTDPRS,CTDTMP,CTDSAL,CTDSAL_FLAG_W,SALNTY,SALNTY_FLAG_W,CTDOXY,CTDOXY_FLAG_W,OXYGEN,OXYGEN_FLAG_W,SILCAT,SILCAT_FLAG_W,NO2+NO3,NO2+NO3_FLAG_W,PHSPHT,PHSPHT_FLAG_W,CTDRAW,REVTMP,REVPRS,THETA
,,,,,,,,,,,,DBAR,ITS-90,PSS-78,,PSS-78,,UMOL/KG,,UMOL/KG,,UMOL/KG,,UMOL/KG,,UMOL/KG,,,DEG C,DBAR,ITS-90
     33KA014_1,  PRS2,     2,  6,     16,     16,2,19900215,1917, 22.8217,-157.9267, 4700,     40.5,  23.5597,  34.9920,2,  34.9897,2,    217.7,2,   -999.0,5,  -999.00,9,  -999.00,9,  -999.00,9,     39,-999.000,  -999.0, 23.5513
     33KA014_1,  PRS2,     2,  6,     15,     15,2,19900215,1917, 22.8217,-157.9267, 4700,    102.2,  23.0164,  35.0926,2,-999.0000,5,    212.0,2,    214.5,2,  -999.00,9,  -999.00,9,  -999.00,9,    103,-999.000,  -999.0, 22.9956
     33KA014_1,  PRS2,     2,  6,     14,     14,2,19900215,1917, 22.8217,-157.9267, 4700,    112.3,  22.9829,  35.1029,2,-999.0000,5,    212.1,2,    213.4,2,  -999.00,9,  -999.00,9,  -999.00,9,    111,-999.000,  -999.0, 22.9599
     33KA014_1,  PRS2,     2,  6,     13,     13,2,19900215,1917, 22.8217,-157.9267, 4700,    122.5,  22.5117,  35.1761,2,  35.1762,2,    208.7,2,    209.0,2,  -999.00,9,  -999.00,9,  -999.00,9,    122,-999.000,  -999.0, 22.4870
     33KA014_1,  PRS2,     2,  6,     12,     12,2,19900215,1917, 22.8217,-157.9267, 4700,    143.2,  21.4292,  35.2330,2,-999.0000,5,    199.2,2,    199.3,2,  -999.00,9,  -999.00,9,  -999.00,9,    141,-999.000,  -999.0, 21.4013
     33KA014_1,  PRS2,     2,  6,     11,     11,2,19900215,1917, 22.8217,-157.9267, 4700,    153.2,  20.7806,  35.2033,2,-999.0000,5,    193.7,2,    194.3,2,  -999.00,9,  -999.00,9,  -999.00,9,    151,-999.000,  -999.0, 20.7515
     33KA014_1,  PRS2,     2,  6,     10,     10,2,19900215,1917, 22.8217,-157.9267, 4700,    204.8,  17.9612,  34.9122,2,-999.0000,5,    193.4,2,    191.5,2,  -999.00,9,  -999.00,9,  -999.00,9,    201,-999.000,  -999.0, 17.9261
     33KA014_1,  PRS2,     2,  6,      9,      9,2,19900215,1917, 22.8217,-157.9267, 4700,    255.9,  14.9710,  34.5854,2,-999.0000,5,    203.1,2,    203.4,2,  -999.00,9,  -999.00,9,  -999.00,9,    251,-999.000,  -999.0, 14.9323
     33KA014_1,  PRS2,     2,  6,      8,      8,2,19900215,1917, 22.8217,-157.9267, 4700,    304.5,  11.9081,  34.2560,2,-999.0000,5,    205.8,2,    204.5,2,  -999.00,9,  -999.00,9,  -999.00,9,    299,-999.000,  -999.0, 11.8687
     33KA014_1,  PRS2,     2,  6,      7,      7,2,19900215,1917, 22.8217,-157.9267, 4700,    356.2,  10.2188,  34.1662,2,-999.0000,5,    201.4,2,    204.5,2,  -999.00,9,  -999.00,9,  -999.00,9,    351,-999.000,  -999.0, 10.1770
     33KA014_1,  PRS2,     2,  6,      6,      6,2,19900215,1917, 22.8217,-157.9267, 4700,    402.1,   8.9784,  34.0872,2,-999.0000,5,    180.3,2,    180.4,2,  -999.00,9,  -999.00,9,  -999.00,9,    397,-999.000,  -999.0,  8.9348
     33KA014_1,  PRS2,     2,  6,      5,      5,2,19900215,1917, 22.8217,-157.9267, 4700,    402.1,   8.9784,  34.0872,2,-999.0000,5,    180.3,2,    180.5,2,  -999.00,9,  -999.00,9,  -999.00,9,    397,-999.000,  -999.0,  8.9348
     33KA014_1,  PRS2,     2,  6,      3,      3,2,19900215,1917, 22.8217,-157.9267, 4700,    502.7,   7.0231,  34.0429,2,  34.0406,2,    125.0,2,    121.7,2,  -999.00,9,  -999.00,9,  -999.00,9,    496,-999.000,  -999.0,  6.9756
     33KA014_1,  PRS2,     2,  6,      2,      2,2,19900215,1917, 22.8217,-157.9267, 4700,    502.7,   7.0231,  34.0429,2,-999.0000,5,    125.0,2,    122.5,2,  -999.00,9,  -999.00,9,  -999.00,9,    496,-999.000,  -999.0,  6.9756
     33KA014_1,  PRS2,     2,  6,      1,      1,2,19900215,1917, 22.8217,-157.9267, 4700,   1018.2,   3.9737,  34.5016,2,  34.1144,4,     45.1,3,   -999.0,5,  -999.00,9,  -999.00,9,  -999.00,9,   1010,   7.076,   518.4,  3.8968
     33KA014_1,  PRS2,     2,  7,     13,     13,2,19900215,2339, 22.8400,-157.9633, 4700,      5.3,  23.9987,  34.7149,2,  34.7140,2,    219.4,1,   -999.0,9,  -999.00,9,  -999.00,9,  -999.00,9,      6,-999.000,  -999.0, 23.9976
     33KA014_1,  PRS2,     2,  7,     12,     12,2,19900215,2339, 22.8400,-157.9633, 4700,     44.8,  23.4276,  35.0356,2,  35.0318,2,    218.1,1,   -999.0,9,  -999.00,9,  -999.00,9,  -999.00,9,     44,-999.000,  -999.0, 23.4184
     33KA014_1,  PRS2,     2,  7,     11,     11,2,19900215,2339, 22.8400,-157.9633, 4700,     75.1,  23.0398,  35.0821,2,  35.0844,2,    214.7,1,   -999.0,9,  -999.00,9,  -999.00,9,  -999.00,9,     74,-999.000,  -999.0, 23.0245
     33KA014_1,  PRS2,     2,  7,     10,     10,2,19900215,2339, 22.8400,-157.9633, 4700,    125.4,  21.3812,  35.2295,2,  35.2350,2,    203.2,1,   -999.0,9,  -999.00,9,  -999.00,9,  -999.00,9,    124,-999.000,  -999.0, 21.3569
     33KA014_1,  PRS2,     2,  7,      9,      9,2,19900215,2339, 22.8400,-157.9633, 4700,    154.7,  19.0368,  35.0399,2,  35.0524,2,    192.3,1,   -999.0,9,  -999.00,9,  -999.00,9,  -999.00,9,    152,-999.000,  -999.0, 19.0092
     33KA014_1,  PRS2,     2,  7,      8,      8,2,19900215,2339, 22.8400,-157.9633, 4700,    154.8,  18.8805,  35.0209,2,  35.0298,2,    191.7,1,   -999.0,9,  -999.00,9,  -999.00,9,  -999.00,9,    151,-999.000,  -999.0, 18.8530
     33KA014_1,  PRS2,     2,  7,      7,      7,2,19900215,2339, 22.8400,-157.9633, 4700,    179.1,  18.0392,  34.9286,2,  34.9171,2,    194.2,1,   -999.0,9,  -999.00,9,  -999.00,9,  -999.00,9,    177,-999.000,  -999.0, 18.0084
     33KA014_1,  PRS2,     2,  7,      6,      6,2,19900215,2339, 22.8400,-157.9633, 4700,    249.0,  14.5991,  34.5363,2,  34.7269,4,    201.1,1,   -999.0,9,  -999.00,9,  -999.00,9,  -999.00,9,    245,-999.000,  -999.0, 14.5621
     33KA014_1,  PRS2,     2,  7,      5,      5,2,19900215,2339, 22.8400,-157.9633, 4700,    501.1,   6.9492,  34.0427,2,  34.0409,2,    122.4,1,   -999.0,9,  -999.00,9,  -999.00,9,  -999.00,9,    495,-999.000,  -999.0,  6.9021
     33KA014_1,  PRS2,     2,  7,      3,      3,2,19900215,2339, 22.8400,-157.9633, 4700,    758.6,   4.8347,  34.3523,2,  34.3516,2,     29.4,1,   -999.0,9,  -999.00,9,  -999.00,9,  -999.00,9,    750,-999.000,  -999.0,  4.7740
     33KA014_1,  PRS2,     2,  7,      1,      1,2,19900215,2339, 22.8400,-157.9633, 4700,   1012.7,   4.0339,  34.4954,2,  34.4938,2,     42.8,1,   -999.0,9,  -999.00,9,  -999.00,9,  -999.00,9,   1004,-999.000,  -999.0,  3.9570
     33KA014_1,  PRS2,     2,  7,      2,      2,2,19900215,2339, 22.8400,-157.9633, 4700,   1013.1,   4.0350,  34.4955,2,  34.4955,2,     42.9,1,   -999.0,9,  -999.00,9,  -999.00,9,  -999.00,9,   1004,-999.000,  -999.0,  3.9579
     33KA014_1,  PRS2,     2,  8,      3,      3,2,19900216,0202, 22.8350,-157.9667, 4750,     99.9,  22.6710,  35.1586,2,  35.1640,2,    205.7,1,   -999.0,9,  -999.00,9,  -999.00,9,  -999.00,9,     95,-999.000,  -999.0, 22.6508
     33KA014_1,  PRS2,     2,  8,      2,      2,2,19900216,0202, 22.8350,-157.9667, 4750,    491.5,   7.0821,  34.0440,2,  34.0413,2,    126.1,1,   -999.0,9,  -999.00,9,  -999.00,9,  -999.00,9,    485,-999.000,  -999.0,  7.0355
     33KA014_1,  PRS2,     2,  8,      1,      1,2,19900216,0202, 22.8350,-157.9667, 4750,    491.5,   7.0821,  34.0440,2,  34.0435,2,    126.1,1,   -999.0,9,  -999.00,9,  -999.00,9,  -999.00,9,    485,   7.536,   479.5,  7.0355
     33KA014_1,  PRS2,     2,  9,     22,     22,2,19900216,0720, 22.8367,-157.9700, 4750,    999.5,   4.1562,  34.4864,2,  34.4852,2,     41.0,2,     40.5,2,   106.78,2,    41.98,2,     3.02,2,    999,-999.000,  -999.0,  4.0794
     33KA014_1,  PRS2,     2,  9,     21,     21,2,19900216,0720, 22.8367,-157.9700, 4750,   1103.5,   3.8685,  34.5102,2,  34.5095,2,     46.7,2,     45.5,2,   113.10,2,    41.98,2,     3.03,2,   1103,-999.000,  -999.0,  3.7853
     33KA014_1,  PRS2,     2,  9,     20,     20,2,19900216,0720, 22.8367,-157.9700, 4750,   1250.4,   3.4558,  34.5352,2,  34.5351,2,     55.6,2,     55.5,2,   121.52,2,    41.61,2,     2.99,2,   1251,-999.000,  -999.0,  3.3640
     33KA014_1,  PRS2,     2,  9,     19,     19,2,19900216,0720, 22.8367,-157.9700, 4750,   1399.1,   3.1096,  34.5582,2,  34.5564,2,     61.7,2,     61.1,2,   128.55,2,    41.35,2,     2.96,2,   1399,-999.000,  -999.0,  3.0089
     33KA014_1,  PRS2,     2,  9,     18,     18,2,19900216,0720, 22.8367,-157.9700, 4750,   1551.5,   2.8313,  34.5740,2,  34.5745,2,     66.4,2,     67.5,2,   135.16,2,    41.10,2,     2.92,2,   1551,-999.000,  -999.0,  2.7212
     33KA014_1,  PRS2,     2,  9,     17,     17,2,19900216,0720, 22.8367,-157.9700, 4750,   1701.7,   2.5761,  34.5898,2,  34.5908,2,     73.5,2,     74.4,2,   140.18,2,    40.85,2,     2.88,2,   1701,-999.000,  -999.0,  2.4566
     33KA014_1,  PRS2,     2,  9,     16,     16,2,19900216,0720, 22.8367,-157.9700, 4750,   1850.5,   2.3532,  34.6048,2,  34.6057,2,     81.1,2,     81.1,2,   142.18,2,    40.47,2,     2.85,2,   1850,-999.000,  -999.0,  2.2242
     33KA014_1,  PRS2,     2,  9,     15,     15,2,19900216,0720, 22.8367,-157.9700, 4750,   1999.9,   2.1569,  34.6164,2,  34.6170,2,     87.0,2,     86.1,2,   150.20,2,    40.09,2,     2.83,2,   2001,-999.000,  -999.0,  2.0181
     33KA014_1,  PRS2,     2,  9,     14,     14,2,19900216,0720, 22.8367,-157.9700, 4750,   2199.4,   1.9717,  34.6303,2,  34.6303,2,     91.6,2,     94.3,2,   153.61,2,    39.58,2,     2.76,2,   2199,-999.000,  -999.0,  1.8187
     33KA014_1,  PRS2,     2,  9,     13,     13,2,19900216,0720, 22.8367,-157.9700, 4750,   2397.1,   1.8268,  34.6425,2,  34.6424,2,    100.9,2,    101.8,2,   155.22,2,    39.21,2,     2.73,2,   2397,-999.000,  -999.0,  1.6590
     33KA014_1,  PRS2,     2,  9,     12,     12,2,19900216,0720, 22.8367,-157.9700, 4750,   2799.6,   1.6334,  34.6606,2,  34.6618,2,    116.7,2,    115.6,2,   157.62,2,    38.32,2,     2.68,2,   2801,-999.000,  -999.0,  1.4327
     33KA014_1,  PRS2,     2,  9,     11,     11,2,19900216,0720, 22.8367,-157.9700, 4750,   2799.6,   1.6334,  34.6606,2,  34.6625,2,    116.7,2,    115.7,2,   159.62,2,    38.45,2,     2.69,2,   2801,-999.000,  -999.0,  1.4327
     33KA014_1,  PRS2,     2,  9,     10,     10,2,19900216,0720, 22.8367,-157.9700, 4750,   3400.2,   1.4961,  34.6776,2,  34.6755,2,   -999.0,5,    129.5,2,   157.62,2,    37.32,2,     2.60,2,   3401,-999.000,  -999.0,  1.2402
     33KA014_1,  PRS2,     2,  9,      9,      9,2,19900216,0720, 22.8367,-157.9700, 4750,   3600.8,   1.4741,  34.6811,2,  34.6806,2,   -999.0,5,    135.3,2,   155.61,2,    37.19,2,     2.57,2,   3602,-999.000,  -999.0,  1.1983
     33KA014_1,  PRS2,     2,  9,      8,      8,2,19900216,0720, 22.8367,-157.9700, 4750,   3800.5,   1.4633,  34.6839,2,  34.6845,2,   -999.0,5,    140.7,2,   151.60,2,    36.82,2,     2.53,2,   3800,-999.000,  -999.0,  1.1669
     33KA014_1,  PRS2,     2,  9,      7,      7,2,19900216,0720, 22.8367,-157.9700, 4750,   4002.2,   1.4606,  34.6863,2,  34.6870,2,   -999.0,5,    144.9,2,   152.60,2,    36.50,2,     2.53,2,   4003,-999.000,  -999.0,  1.1426
     33KA014_1,  PRS2,     2,  9,      6,      6,2,19900216,0720, 22.8367,-157.9700, 4750,   4203.4,   1.4667,  34.6877,2,  34.6917,3,   -999.0,5,    148.6,2,   150.59,2,    36.44,2,     2.51,2,   4204,-999.000,  -999.0,  1.1264
     33KA014_1,  PRS2,     2,  9,      5,      5,2,19900216,0720, 22.8367,-157.9700, 4750,   4203.4,   1.4667,  34.6877,2,  34.6878,2,   -999.0,5,    148.5,2,   150.19,2,    36.31,2,     2.49,2,   4204,-999.000,  -999.0,  1.1264
     33KA014_1,  PRS2,     2,  9,      3,      3,2,19900216,0720, 22.8367,-157.9700, 4750,   4415.1,   1.4800,  34.6890,2,  34.6890,2,   -999.0,5,    152.8,2,   148.59,2,    35.93,2,     2.47,2,   4414,-999.000,  -999.0,  1.1153
     33KA014_1,  PRS2,     2,  9,      1,      1,2,19900216,0720, 22.8367,-157.9700, 4750,   4514.9,   1.4888,  34.6892,2,  34.6888,2,   -999.0,5,   -999.0,5,  -999.00,5,  -999.00,5,  -999.00,5,   4515,   1.469,  3859.9,  1.1124
     33KA014_1,  PRS2,     2,  9,      2,      2,2,19900216,0720, 22.8367,-157.9700, 4750,   4515.0,   1.4888,  34.6893,2,  34.6885,2,   -999.0,5,    153.2,2,   146.19,2,    35.93,2,     2.48,2,   4514,-999.000,  -999.0,  1.1124
     33KA014_1,  PRS2,     2, 11,     23,     23,2,19900216,1347, 22.8417,-157.9817, 4700,     23.8,  24.1887,  34.6993,2,-999.0000,5,   -999.0,5,   -999.0,5,  -999.00,5,  -999.00,5,  -999.00,5,     23,-999.000,  -999.0, 24.1837
     33KA014_1,  PRS2,     2, 11,     21,     21,2,19900216,1347, 22.8417,-157.9817, 4700,     49.7,  23.5048,  34.9950,2,  34.9839,2,   -999.0,5,    211.1,2,     0.35,2,     0.00,2,     0.10,2,     49,-999.000,  -999.0, 23.4945
     33KA014_1,  PRS2,     2, 11,     20,     20,2,19900216,1347, 22.8417,-157.9817, 4700,     77.6,  22.9329,  35.1133,2,  35.1155,2,   -999.0,5,    206.7,2,     0.35,2,     0.21,2,     0.13,2,     76,-999.000,  -999.0, 22.9171
     33KA014_1,  PRS2,     2, 11,     19,     19,2,19900216,1347, 22.8417,-157.9817, 4700,    102.0,  21.8782,  35.2398,2,  35.2407,2,   -999.0,5,    204.5,2,     0.55,2,     0.27,2,     0.11,2,    100,-999.000,  -999.0, 21.8581
     33KA014_1,  PRS2,     2, 11,     18,     18,2,19900216,1347, 22.8417,-157.9817, 4700,    133.5,  20.6174,  35.2053,2,  35.2065,2,   -999.0,5,    194.8,2,     0.95,2,     1.51,2,     0.20,2,    132,-999.000,  -999.0, 20.5922
     33KA014_1,  PRS2,     2, 11,     17,     17,2,19900216,1347, 22.8417,-157.9817, 4700,    172.9,  18.6757,  35.0134,2,  35.0140,2,   -999.0,5,    193.8,2,     1.95,2,     2.79,2,     0.29,2,    171,-999.000,  -999.0, 18.6453
     33KA014_1,  PRS2,     2, 11,     16,     16,2,19900216,1347, 22.8417,-157.9817, 4700,    233.3,  15.2005,  34.6057,2,  34.6105,2,   -999.0,5,    203.1,2,     4.96,2,     5.70,2,     0.49,2,    229,-999.000,  -999.0, 15.1649
     33KA014_1,  PRS2,     2, 11,     15,     15,2,19900216,1347, 22.8417,-157.9817, 4700,    273.3,  13.7662,  34.4282,2,  34.4241,2,   -999.0,5,    201.9,2,     6.97,2,     7.91,2,     0.64,2,    269,-999.000,  -999.0, 13.7272
     33KA014_1,  PRS2,     2, 11,     14,     14,2,19900216,1347, 22.8417,-157.9817, 4700,    304.5,  12.0214,  34.2637,2,  34.2629,2,   -999.0,5,    205.8,2,     9.99,2,    10.84,2,     0.84,2,    300,-999.000,  -999.0, 11.9818
     33KA014_1,  PRS2,     2, 11,     13,     13,2,19900216,1347, 22.8417,-157.9817, 4700,    355.9,  10.4227,  34.1839,2,  34.1847,2,   -999.0,5,    205.8,2,    16.20,2,    14.22,2,     1.07,2,    352,-999.000,  -999.0, 10.3804
     33KA014_1,  PRS2,     2, 11,     12,     12,2,19900216,1347, 22.8417,-157.9817, 4700,    407.0,   9.0829,  34.0959,2,  34.0980,2,   -999.0,5,    184.3,2,    24.83,2,    19.03,2,     1.41,2,    400,-999.000,  -999.0,  9.0384
     33KA014_1,  PRS2,     2, 11,     11,     11,2,19900216,1347, 22.8417,-157.9817, 4700,    446.9,   8.2159,  34.0651,2,  34.0646,2,   -999.0,5,    165.5,2,    32.26,2,    22.87,2,     1.65,2,    441,-999.000,  -999.0,  8.1698
     33KA014_1,  PRS2,     2, 11,     10,     10,2,19900216,1347, 22.8417,-157.9817, 4700,    507.5,   7.1110,  34.0437,2,  34.0429,2,   -999.0,5,    125.6,2,    46.31,2,    28.44,2,     2.09,2,    501,-999.000,  -999.0,  7.0627
     33KA014_1,  PRS2,     2, 11,      9,      9,2,19900216,1347, 22.8417,-157.9817, 4700,    556.1,   6.1958,  34.0551,2,  34.0525,2,   -999.0,5,     87.7,2,    60.16,2,    33.44,2,     2.46,2,    549,-999.000,  -999.0,  6.1466
     33KA014_1,  PRS2,     2, 11,      8,      8,2,19900216,1347, 22.8417,-157.9817, 4700,    556.1,   6.1958,  34.0551,2,  34.0523,2,   -999.0,5,     88.7,2,    60.36,2,    33.63,2,     2.48,2,    549,-999.000,  -999.0,  6.1466
     33KA014_1,  PRS2,     2, 11,      7,      7,2,19900216,1347, 22.8417,-157.9817, 4700,    652.7,   5.1735,  34.1515,2,  34.1509,2,   -999.0,5,     38.2,2,    84.43,2,    39.55,2,     2.92,2,    647,-999.000,  -999.0,  5.1203
     33KA014_1,  PRS2,     2, 11,      6,      6,2,19900216,1347, 22.8417,-157.9817, 4700,    703.7,   5.1252,  34.2476,2,  34.2462,2,   -999.0,5,     26.9,2,    87.44,2,    40.53,2,     3.02,2,    697,-999.000,  -999.0,  5.0677
     33KA014_1,  PRS2,     2, 11,      5,      5,2,19900216,1347, 22.8417,-157.9817, 4700,    759.1,   4.8977,  34.3397,2,  34.3396,2,   -999.0,5,     26.1,2,    93.45,2,    41.26,2,     3.06,2,    752,-999.000,  -999.0,  4.8366
     33KA014_1,  PRS2,     2, 11,      3,      3,2,19900216,1347, 22.8417,-157.9817, 4700,    808.5,   4.6234,  34.3957,2,  34.3959,2,   -999.0,5,     29.7,2,   100.07,2,    41.72,2,     3.04,2,    801,-999.000,  -999.0,  4.5596
     33KA014_1,  PRS2,     2, 11,      2,      2,2,19900216,1347, 22.8417,-157.9817, 4700,    808.5,   4.6234,  34.3957,2,  34.3972,2,   -999.0,5,     31.6,2,    99.46,2,    41.63,2,     3.06,2,    801,-999.000,  -999.0,  4.5596
     33KA014_1,  PRS2,     2, 11,      4,      4,2,19900216,1347, 22.8417,-157.9817, 4700,    809.6,   4.6197,  34.3966,2,-999.0000,5,   -999.0,5,   -999.0,5,  -999.00,5,  -999.00,5,  -999.00,5,    802,-999.000,  -999.0,  4.5558
     33KA014_1,  PRS2,     2, 11,      1,      1,2,19900216,1347, 22.8417,-157.9817, 4700,   1014.6,   4.0670,  34.4931,2,  34.4926,2,   -999.0,5,     42.9,2,   109.49,2,    42.01,2,     3.06,2,   1006,-999.000,  -999.0,  3.9896