BOTTLE,20020809WHPSIObren
EXPOCODE,SECT_ID,STNNBR,CASTNO,SAMPNO,BTLNBR,BTLNBR_FLAG_W,DATE,TIME,LATITUDE,LONGITUDE,DEPTH,CTDPRS,CTDTMP,CTDSAL,CTDSAL_FLAG_W,SALNTY,SALNTY_FLAG_W,CTDOXY,CTDOXY_FLAG_W,OXYGEN,OXYGEN_FLAG_W,SILCAT,SILCAT_FLAG_W,NO2+NO3,NO2+NO3_FLAG_W,PHSPHT,PHSPHT_FLAG_W,CTDRAW,REVTMP,REVPRS,THETA
,,,,,,,,,,,,DBAR,ITS-90,PSS-78,,PSS-78,,UMOL/KG,,UMOL/KG,,UMOL/KG,,UMOL/KG,,UMOL/KG,,,DEG C,DBAR,ITS-90
     33KA014_1,  PRS2,     2, 12,     23,     23,2,19900216,1630, 22.8233,-157.9833, 4700,      4.2,  24.1684,  34.7576,2,  34.7567,2,   -999.0,5,    211.6,2,     0.75,2,     0.00,2,     0.11,2,      5,-999.000,  -999.0, 24.1675
     33KA014_1,  PRS2,     2, 12,     22,     22,3,19900216,1630, 22.8233,-157.9833, 4700,     14.0,  24.1731,  34.7581,2,  34.7591,2,   -999.0,5,   -999.0,5,     0.75,2,     0.00,2,     0.11,2,     14,-999.000,  -999.0, 24.1702
     33KA014_1,  PRS2,     2, 12,     21,     21,3,19900216,1630, 22.8233,-157.9833, 4700,     24.9,  24.1756,  34.7581,2,  34.7595,2,   -999.0,5,   -999.0,5,     0.75,2,     0.00,2,     0.11,2,     26,-999.000,  -999.0, 24.1703
     33KA014_1,  PRS2,     2, 12,     20,     20,2,19900216,1630, 22.8233,-157.9833, 4700,     34.9,  24.1888,  34.7667,2,  34.7642,2,   -999.0,5,    211.8,2,     1.15,2,     0.00,2,     0.11,2,     34,-999.000,  -999.0, 24.1814
     33KA014_1,  PRS2,     2, 12,     19,     19,2,19900216,1630, 22.8233,-157.9833, 4700,     45.9,  24.1913,  34.7771,2,  34.7810,2,   -999.0,5,    211.3,2,     0.95,2,     0.02,2,     0.11,2,     46,-999.000,  -999.0, 24.1816
     33KA014_1,  PRS2,     2, 12,     18,     18,2,19900216,1630, 22.8233,-157.9833, 4700,     60.8,  23.9815,  34.9319,2,  34.9485,2,   -999.0,5,    209.1,2,     0.95,2,     0.02,2,     0.10,2,     59,-999.000,  -999.0, 23.9687
     33KA014_1,  PRS2,     2, 12,     17,     17,2,19900216,1630, 22.8233,-157.9833, 4700,     75.6,  23.4339,  35.0333,2,  35.0332,2,   -999.0,5,    208.6,2,     0.95,2,     0.02,2,     0.09,2,     75,-999.000,  -999.0, 23.4183
     33KA014_1,  PRS2,     2, 12,     16,     16,2,19900216,1630, 22.8233,-157.9833, 4700,     85.3,  23.1291,  35.0935,2,  35.0924,2,   -999.0,5,    206.1,2,     0.95,2,     0.08,2,     0.11,2,     84,-999.000,  -999.0, 23.1116
     33KA014_1,  PRS2,     2, 12,     15,     15,2,19900216,1630, 22.8233,-157.9833, 4700,     96.4,  22.4924,  35.1443,2,  35.1499,2,   -999.0,5,    203.7,2,     0.95,2,     0.45,2,     0.13,2,     95,-999.000,  -999.0, 22.4730
     33KA014_1,  PRS2,     2, 12,     14,     14,2,19900216,1630, 22.8233,-157.9833, 4700,    105.9,  22.1418,  35.2059,2,  35.2067,2,   -999.0,5,    205.4,2,     0.95,2,     0.32,2,     0.10,2,    105,-999.000,  -999.0, 22.1207
     33KA014_1,  PRS2,     2, 12,     13,     13,2,19900216,1630, 22.8233,-157.9833, 4700,    115.6,  21.7974,  35.2531,2,  35.2532,2,   -999.0,5,    203.7,2,     0.75,2,     0.40,2,     0.10,2,    114,-999.000,  -999.0, 21.7746
     33KA014_1,  PRS2,     2, 12,     12,     12,2,19900216,1630, 22.8233,-157.9833, 4700,    125.4,  21.2279,  35.2281,2,  35.2311,2,   -999.0,5,    198.0,2,     1.15,2,     0.96,2,     0.15,2,    125,-999.000,  -999.0, 21.2037
     33KA014_1,  PRS2,     2, 12,     11,     11,2,19900216,1630, 22.8233,-157.9833, 4700,    135.7,  20.9721,  35.2241,2,  35.2247,2,   -999.0,5,    196.7,2,     1.15,2,     1.21,2,     0.17,2,    135,-999.000,  -999.0, 20.9462
     33KA014_1,  PRS2,     2, 12,     10,     10,2,19900216,1630, 22.8233,-157.9833, 4700,    151.0,  20.4115,  35.2003,2,  35.2036,2,   -999.0,5,    194.2,2,     1.76,2,     1.62,2,     0.19,2,    149,-999.000,  -999.0, 20.3831
     33KA014_1,  PRS2,     2, 12,      9,      9,2,19900216,1630, 22.8233,-157.9833, 4700,    161.8,  19.6891,  35.1204,2,  35.1230,2,   -999.0,5,    192.1,2,  -999.00,5,  -999.00,5,  -999.00,5,    160,-999.000,  -999.0, 19.6595
     33KA014_1,  PRS2,     2, 12,      8,      8,2,19900216,1630, 22.8233,-157.9833, 4700,    177.6,  18.8909,  35.0345,2,  35.0391,2,   -999.0,5,    192.9,2,     2.56,2,     2.74,2,     0.27,2,    176,-999.000,  -999.0, 18.8593
     33KA014_1,  PRS2,     2, 12,      7,      7,2,19900216,1630, 22.8233,-157.9833, 4700,    187.6,  18.5986,  35.0036,2,  35.0083,2,   -999.0,5,    193.3,2,  -999.00,5,  -999.00,5,  -999.00,5,    184,-999.000,  -999.0, 18.5657
     33KA014_1,  PRS2,     2, 12,      6,      6,2,19900216,1630, 22.8233,-157.9833, 4700,    202.2,  17.4276,  34.8367,2,  34.8515,2,   -999.0,5,    190.8,2,  -999.00,5,  -999.00,5,  -999.00,5,    200,-999.000,  -999.0, 17.3937
     33KA014_1,  PRS2,     2, 12,      5,      5,2,19900216,1630, 22.8233,-157.9833, 4700,    229.7,  15.9564,  34.6608,2,  34.6674,2,   -999.0,5,   -999.0,5,  -999.00,5,  -999.00,5,  -999.00,5,    226,-999.000,  -999.0, 15.9201
     33KA014_1,  PRS2,     2, 12,      4,      4,2,19900216,1630, 22.8233,-157.9833, 4700,    254.8,  14.6349,  34.5204,2,  34.5181,2,   -999.0,5,    202.2,2,  -999.00,5,  -999.00,5,  -999.00,5,    251,-999.000,  -999.0, 14.5970
     33KA014_1,  PRS2,     2, 12,      3,      3,2,19900216,1630, 22.8233,-157.9833, 4700,    331.4,  11.2572,  34.2087,2,  34.2101,2,   -999.0,5,    202.7,2,  -999.00,5,  -999.00,5,  -999.00,5,    325,-999.000,  -999.0, 11.2158
     33KA014_1,  PRS2,     2, 12,      2,      2,2,19900216,1630, 22.8233,-157.9833, 4700,   1014.1,   4.0285,  34.4960,2,-999.0000,5,   -999.0,5,    121.7,4,  -999.00,5,  -999.00,5,  -999.00,5,   1004,-999.000,  -999.0,  3.9515
     33KA014_1,  PRS2,     2, 12,      1,      1,2,19900216,1630, 22.8233,-157.9833, 4700,   1014.1,   4.0283,  34.4961,2,-999.0000,5,   -999.0,5,   -999.0,5,  -999.00,5,  -999.00,5,  -999.00,5,   1005,   4.813,   756.2,  3.9512
     33KA014_1,  PRS2,     2, 13,     24,     24,2,19900216,1940, 22.8450,-157.9833, 4700,      0.7,  24.1236,  34.7379,2,-999.0000,5,   -999.0,5,   -999.0,9,  -999.00,9,  -999.00,9,  -999.00,9,      2,-999.000,  -999.0, 24.1235
     33KA014_1,  PRS2,     2, 13,     23,     23,2,19900216,1940, 22.8450,-157.9833, 4700,      5.1,  24.1247,  34.7372,2,  34.7364,2,   -999.0,5,   -999.0,9,  -999.00,9,  -999.00,9,  -999.00,9,      6,-999.000,  -999.0, 24.1236
     33KA014_1,  PRS2,     2, 13,     22,     22,2,19900216,1940, 22.8450,-157.9833, 4700,     10.1,  24.1269,  34.7364,2,-999.0000,5,   -999.0,5,   -999.0,9,  -999.00,9,  -999.00,9,  -999.00,9,     11,-999.000,  -999.0, 24.1247
     33KA014_1,  PRS2,     2, 13,     21,     21,2,19900216,1940, 22.8450,-157.9833, 4700,     24.8,  24.1360,  34.7393,2,  34.7393,2,   -999.0,5,   -999.0,9,  -999.00,9,  -999.00,9,  -999.00,9,     25,-999.000,  -999.0, 24.1308
     33KA014_1,  PRS2,     2, 13,     20,     20,2,19900216,1940, 22.8450,-157.9833, 4700,     51.4,  24.2059,  34.8090,2,-999.0000,5,   -999.0,5,   -999.0,9,  -999.00,9,  -999.00,9,  -999.00,9,     50,-999.000,  -999.0, 24.1951
     33KA014_1,  PRS2,     2, 13,      3,      3,2,19900216,1940, 22.8450,-157.9833, 4700,    104.8,  22.8039,  35.1385,2,-999.0000,5,   -999.0,5,   -999.0,9,  -999.00,9,  -999.00,9,  -999.00,9,    103,-999.000,  -999.0, 22.7826
     33KA014_1,  PRS2,     2, 13,     19,     19,2,19900216,1940, 22.8450,-157.9833, 4700,    105.0,  22.7904,  35.1458,2,  35.1471,2,   -999.0,5,   -999.0,9,  -999.00,9,  -999.00,9,  -999.00,9,    104,-999.000,  -999.0, 22.7691
     33KA014_1,  PRS2,     2, 13,      2,      2,2,19900216,1940, 22.8450,-157.9833, 4700,    508.2,   6.4751,  34.0467,2,  34.0448,2,   -999.0,5,   -999.0,9,  -999.00,9,  -999.00,9,  -999.00,9,    501,-999.000,  -999.0,  6.4291
     33KA014_1,  PRS2,     2, 13,      1,      1,2,19900216,1940, 22.8450,-157.9833, 4700,    508.2,   6.4751,  34.0467,2,  34.0479,2,   -999.0,5,   -999.0,9,  -999.00,9,  -999.00,9,  -999.00,9,    501,   9.904,   398.6,  6.4291
     33KA014_1,  PRS2,     2, 14,     24,     24,2,19900216,2327, 22.8450,-157.9817, 4750,   2190.2,-999.0000,-999.0000,5,-999.0000,5,   -999.0,5,   -999.0,9,  -999.00,9,  -999.00,9,  -999.00,9,   2192,-999.000,  -999.0,-999.0000
     33KA014_1,  PRS2,     2, 14,     23,     23,2,19900216,2327, 22.8450,-157.9817, 4750,   2293.3,-999.0000,-999.0000,5,  34.6391,2,   -999.0,5,   -999.0,9,  -999.00,9,  -999.00,9,  -999.00,9,   2297,-999.000,  -999.0,-999.0000
     33KA014_1,  PRS2,     2, 14,     22,     22,2,19900216,2327, 22.8450,-157.9817, 4750,   2390.9,-999.0000,-999.0000,5,  34.6393,2,   -999.0,5,   -999.0,9,  -999.00,9,  -999.00,9,  -999.00,9,   2393,-999.000,  -999.0,-999.0000
     33KA014_1,  PRS2,     2, 14,     21,     21,2,19900216,2327, 22.8450,-157.9817, 4750,   2490.1,-999.0000,-999.0000,5,  34.6433,2,   -999.0,5,   -999.0,9,  -999.00,9,  -999.00,9,  -999.00,9,   2495,-999.000,  -999.0,-999.0000
     33KA014_1,  PRS2,     2, 14,     20,     20,2,19900216,2327, 22.8450,-157.9817, 4750,   2593.7,-999.0000,-999.0000,5,  34.6552,2,   -999.0,5,   -999.0,9,  -999.00,9,  -999.00,9,  -999.00,9,   2599,-999.000,  -999.0,-999.0000
     33KA014_1,  PRS2,     2, 14,     19,     19,2,19900216,2327, 22.8450,-157.9817, 4750,   2695.1,-999.0000,-999.0000,5,  34.6567,2,   -999.0,5,   -999.0,9,  -999.00,9,  -999.00,9,  -999.00,9,   2699,-999.000,  -999.0,-999.0000
     33KA014_1,  PRS2,     2, 14,     18,     18,2,19900216,2327, 22.8450,-157.9817, 4750,   2795.8,-999.0000,-999.0000,5,  34.6642,2,   -999.0,5,   -999.0,9,  -999.00,9,  -999.00,9,  -999.00,9,   2800,-999.000,  -999.0,-999.0000
     33KA014_1,  PRS2,     2, 14,     17,     17,2,19900216,2327, 22.8450,-157.9817, 4750,   2896.6,-999.0000,-999.0000,5,  34.6636,2,   -999.0,5,   -999.0,9,  -999.00,9,  -999.00,9,  -999.00,9,   2901,-999.000,  -999.0,-999.0000
     33KA014_1,  PRS2,     2, 14,     16,     16,2,19900216,2327, 22.8450,-157.9817, 4750,   3000.9,-999.0000,-999.0000,5,  34.6665,2,   -999.0,5,   -999.0,9,  -999.00,9,  -999.00,9,  -999.00,9,   3005,-999.000,  -999.0,-999.0000
     33KA014_1,  PRS2,     2, 14,     15,     15,2,19900216,2327, 22.8450,-157.9817, 4750,   3099.6,-999.0000,-999.0000,5,  34.6706,2,   -999.0,5,   -999.0,9,  -999.00,9,  -999.00,9,  -999.00,9,   3103,-999.000,  -999.0,-999.0000
     33KA014_1,  PRS2,     2, 14,     14,     14,2,19900216,2327, 22.8450,-157.9817, 4750,   3196.6,-999.0000,-999.0000,5,  34.6700,2,   -999.0,5,   -999.0,9,  -999.00,9,  -999.00,9,  -999.00,9,   3200,-999.000,  -999.0,-999.0000
     33KA014_1,  PRS2,     2, 14,     13,     13,2,19900216,2327, 22.8450,-157.9817, 4750,   3295.8,-999.0000,-999.0000,5,  34.6761,2,   -999.0,5,   -999.0,9,  -999.00,9,  -999.00,9,  -999.00,9,   3299,-999.000,  -999.0,-999.0000
     33KA014_1,  PRS2,     2, 14,     12,     12,2,19900216,2327, 22.8450,-157.9817, 4750,   3394.6,-999.0000,-999.0000,5,  34.6757,2,   -999.0,5,   -999.0,9,  -999.00,9,  -999.00,9,  -999.00,9,   3399,-999.000,  -999.0,-999.0000
     33KA014_1,  PRS2,     2, 14,     11,     11,2,19900216,2327, 22.8450,-157.9817, 4750,   3495.1,-999.0000,-999.0000,5,  34.6789,2,   -999.0,5,   -999.0,9,  -999.00,9,  -999.00,9,  -999.00,9,   3499,-999.000,  -999.0,-999.0000
     33KA014_1,  PRS2,     2, 14,     10,     10,2,19900216,2327, 22.8450,-157.9817, 4750,   3598.1,-999.0000,-999.0000,5,  34.6812,2,   -999.0,5,   -999.0,9,  -999.00,9,  -999.00,9,  -999.00,9,   3601,-999.000,  -999.0,-999.0000
     33KA014_1,  PRS2,     2, 14,      9,      9,2,19900216,2327, 22.8450,-157.9817, 4750,   3692.4,-999.0000,-999.0000,5,  34.6854,2,   -999.0,5,   -999.0,9,  -999.00,9,  -999.00,9,  -999.00,9,   3695,-999.000,  -999.0,-999.0000
     33KA014_1,  PRS2,     2, 14,      8,      8,2,19900216,2327, 22.8450,-157.9817, 4750,   3789.0,-999.0000,-999.0000,5,  34.6842,2,   -999.0,5,   -999.0,9,  -999.00,9,  -999.00,9,  -999.00,9,   3793,-999.000,  -999.0,-999.0000
     33KA014_1,  PRS2,     2, 14,      7,      7,2,19900216,2327, 22.8450,-157.9817, 4750,   3893.9,-999.0000,-999.0000,5,  34.6847,2,   -999.0,5,   -999.0,9,  -999.00,9,  -999.00,9,  -999.00,9,   3898,-999.000,  -999.0,-999.0000
     33KA014_1,  PRS2,     2, 14,      6,      6,2,19900216,2327, 22.8450,-157.9817, 4750,   3990.4,-999.0000,-999.0000,5,  34.6842,2,   -999.0,5,   -999.0,9,  -999.00,9,  -999.00,9,  -999.00,9,   3994,-999.000,  -999.0,-999.0000
     33KA014_1,  PRS2,     2, 14,      5,      5,2,19900216,2327, 22.8450,-157.9817, 4750,   4092.1,-999.0000,-999.0000,5,  34.6848,2,   -999.0,5,   -999.0,9,  -999.00,9,  -999.00,9,  -999.00,9,   4078,-999.000,  -999.0,-999.0000
     33KA014_1,  PRS2,     2, 14,      4,      4,2,19900216,2327, 22.8450,-157.9817, 4750,   4195.7,-999.0000,-999.0000,5,  34.6868,2,   -999.0,5,   -999.0,9,  -999.00,9,  -999.00,9,  -999.00,9,   4199,-999.000,  -999.0,-999.0000
     33KA014_1,  PRS2,     2, 14,      3,      3,2,19900216,2327, 22.8450,-157.9817, 4750,   4298.2,-999.0000,-999.0000,5,  34.6862,2,   -999.0,5,   -999.0,9,  -999.00,9,  -999.00,9,  -999.00,9,   4301,-999.000,  -999.0,-999.0000
     33KA014_1,  PRS2,     2, 14,      2,      2,2,19900216,2327, 22.8450,-157.9817, 4750,   4399.3,-999.0000,-999.0000,5,  34.6862,2,   -999.0,5,   -999.0,9,  -999.00,9,  -999.00,9,  -999.00,9,   4403,-999.000,  -999.0,-999.0000
     33KA014_1,  PRS2,     2, 14,      1,      1,2,19900216,2327, 22.8450,-157.9817, 4750,   4523.3,-999.0000,-999.0000,5,  34.6901,2,   -999.0,5,   -999.0,9,  -999.00,9,  -999.00,9,  -999.00,9,   4525,-999.000,  -999.0,-999.0000
     33KA014_1,  PRS2,     2, 15,     22,     22,2,19900217,0349, 22.8400,-157.9917, 4750,     -3.7,-999.0000,-999.0000,5,  34.7546,2,   -999.0,5,   -999.0,9,  -999.00,9,  -999.00,9,  -999.00,9,      9,-999.000,  -999.0,-999.0000
     33KA014_1,  PRS2,     2, 15,     21,     21,2,19900217,0349, 22.8400,-157.9917, 4750,     90.5,-999.0000,-999.0000,5,  35.0952,2,   -999.0,5,   -999.0,9,  -999.00,9,  -999.00,9,  -999.00,9,    100,-999.000,  -999.0,-999.0000
     33KA014_1,  PRS2,     2, 15,     20,     20,2,19900217,0349, 22.8400,-157.9917, 4750,    189.6,-999.0000,-999.0000,5,  34.8124,2,   -999.0,5,   -999.0,9,  -999.00,9,  -999.00,9,  -999.00,9,    200,-999.000,  -999.0,-999.0000
     33KA014_1,  PRS2,     2, 15,     19,     19,2,19900217,0349, 22.8400,-157.9917, 4750,    294.1,-999.0000,-999.0000,5,  34.8145,4,   -999.0,5,   -999.0,9,  -999.00,9,  -999.00,9,  -999.00,9,    304,-999.000,  -999.0,-999.0000
     33KA014_1,  PRS2,     2, 15,     18,     18,2,19900217,0349, 22.8400,-157.9917, 4750,    393.6,-999.0000,-999.0000,5,  34.0942,2,   -999.0,5,   -999.0,9,  -999.00,9,  -999.00,9,  -999.00,9,    403,-999.000,  -999.0,-999.0000
     33KA014_1,  PRS2,     2, 15,     17,     17,2,19900217,0349, 22.8400,-157.9917, 4750,    492.8,-999.0000,-999.0000,5,  34.0932,2,   -999.0,5,   -999.0,9,  -999.00,9,  -999.00,9,  -999.00,9,    502,-999.000,  -999.0,-999.0000
     33KA014_1,  PRS2,     2, 15,     16,     16,2,19900217,0349, 22.8400,-157.9917, 4750,    591.6,-999.0000,-999.0000,5,  34.1085,2,   -999.0,5,   -999.0,9,  -999.00,9,  -999.00,9,  -999.00,9,    601,-999.000,  -999.0,-999.0000
     33KA014_1,  PRS2,     2, 15,     15,     15,2,19900217,0349, 22.8400,-157.9917, 4750,    690.0,-999.0000,-999.0000,5,  34.2922,2,   -999.0,5,   -999.0,9,  -999.00,9,  -999.00,9,  -999.00,9,    698,-999.000,  -999.0,-999.0000
     33KA014_1,  PRS2,     2, 15,     14,     14,2,19900217,0349, 22.8400,-157.9917, 4750,    789.9,-999.0000,-999.0000,5,  34.2917,2,   -999.0,5,   -999.0,9,  -999.00,9,  -999.00,9,  -999.00,9,    800,-999.000,  -999.0,-999.0000
     33KA014_1,  PRS2,     2, 15,     13,     13,2,19900217,0349, 22.8400,-157.9917, 4750,    893.2,-999.0000,-999.0000,5,  34.4331,2,   -999.0,5,   -999.0,9,  -999.00,9,  -999.00,9,  -999.00,9,    903,-999.000,  -999.0,-999.0000
     33KA014_1,  PRS2,     2, 15,     12,     12,2,19900217,0349, 22.8400,-157.9917, 4750,    993.5,-999.0000,-999.0000,5,  34.4867,2,   -999.0,5,   -999.0,9,  -999.00,9,  -999.00,9,  -999.00,9,   1003,-999.000,  -999.0,-999.0000
     33KA014_1,  PRS2,     2, 15,     11,     11,2,19900217,0349, 22.8400,-157.9917, 4750,   1092.9,-999.0000,-999.0000,5,  34.5109,2,   -999.0,5,   -999.0,9,  -999.00,9,  -999.00,9,  -999.00,9,   1102,-999.000,  -999.0,-999.0000
     33KA014_1,  PRS2,     2, 15,     10,     10,2,19900217,0349, 22.8400,-157.9917, 4750,   1192.4,-999.0000,-999.0000,5,  34.5102,2,   -999.0,5,   -999.0,9,  -999.00,9,  -999.00,9,  -999.00,9,   1200,-999.000,  -999.0,-999.0000
     33KA014_1,  PRS2,     2, 15,      9,      9,2,19900217,0349, 22.8400,-157.9917, 4750,   1293.6,-999.0000,-999.0000,5,  34.5432,2,   -999.0,5,   -999.0,9,  -999.00,9,  -999.00,9,  -999.00,9,   1303,-999.000,  -999.0,-999.0000
     33KA014_1,  PRS2,     2, 15,      8,      8,2,19900217,0349, 22.8400,-157.9917, 4750,   1392.2,-999.0000,-999.0000,5,  34.5567,2,   -999.0,5,   -999.0,9,  -999.00,9,  -999.00,9,  -999.00,9,   1400,-999.000,  -999.0,-999.0000
     33KA014_1,  PRS2,     2, 15,      7,      7,2,19900217,0349, 22.8400,-157.9917, 4750,   1490.5,-999.0000,-999.0000,5,  34.5708,2,   -999.0,5,   -999.0,9,  -999.00,9,  -999.00,9,  -999.00,9,   1498,-999.000,  -999.0,-999.0000
     33KA014_1,  PRS2,     2, 15,      6,      6,2,19900217,0349, 22.8400,-157.9917, 4750,   1592.3,-999.0000,-999.0000,5,  34.5889,2,   -999.0,5,   -999.0,9,  -999.00,9,  -999.00,9,  -999.00,9,   1601,-999.000,  -999.0,-999.0000
     33KA014_1,  PRS2,     2, 15,      5,      5,2,19900217,0349, 22.8400,-157.9917, 4750,   1694.7,-999.0000,-999.0000,5,  34.5817,2,   -999.0,5,   -999.0,9,  -999.00,9,  -999.00,9,  -999.00,9,   1702,-999.000,  -999.0,-999.0000
     33KA014_1,  PRS2,     2, 15,      4,      4,2,19900217,0349, 22.8400,-157.9917, 4750,   1794.3,-999.0000,-999.0000,5,  35.1828,4,   -999.0,5,   -999.0,9,  -999.00,9,  -999.00,9,  -999.00,9,   1801,-999.000,  -999.0,-999.0000
     33KA014_1,  PRS2,     2, 15,      3,      3,2,19900217,0349, 22.8400,-157.9917, 4750,   1894.0,-999.0000,-999.0000,5,  34.6124,2,   -999.0,5,   -999.0,9,  -999.00,9,  -999.00,9,  -999.00,9,   1901,-999.000,  -999.0,-999.0000
     33KA014_1,  PRS2,     2, 15,      2,      2,2,19900217,0349, 22.8400,-157.9917, 4750,   1994.1,-999.0000,-999.0000,5,  34.6112,2,   -999.0,5,   -999.0,9,  -999.00,9,  -999.00,9,  -999.00,9,   2000,-999.000,  -999.0,-999.0000
     33KA014_1,  PRS2,     2, 15,      1,      1,2,19900217,0349, 22.8400,-157.9917, 4750,   2099.7,-999.0000,-999.0000,5,  34.6204,2,   -999.0,5,   -999.0,9,  -999.00,9,  -999.00,9,  -999.00,9,   2103,   2.604,  1630.8,-999.0000