BOTTLE,20020809WHPSIObren
#code : jjward hyd_to_exchange.pl 
#original files copied from HTML directory: 20020809
#original HYD file: /whpo/11/HOTS/BOTTLE/hot14/hot14.sea   Fri Aug  9 09:51:29 2002
#original SUM file: /whpo/11/HOTS/BOTTLE/hot14/hot14.sum   Fri Aug  9 13:30:34 2002
EXPOCODE,SECT_ID,STNNBR,CASTNO,SAMPNO,BTLNBR,BTLNBR_FLAG_W,DATE,TIME,LATITUDE,LONGITUDE,DEPTH,CTDPRS,CTDTMP,CTDSAL,CTDSAL_FLAG_W,SALNTY,SALNTY_FLAG_W,CTDOXY,CTDOXY_FLAG_W,OXYGEN,OXYGEN_FLAG_W,SILCAT,SILCAT_FLAG_W,NO2+NO3,NO2+NO3_FLAG_W,PHSPHT,PHSPHT_FLAG_W,CTDRAW,REVTMP,REVPRS,THETA
,,,,,,,,,,,,DBAR,ITS-90,PSS-78,,PSS-78,,UMOL/KG,,UMOL/KG,,UMOL/KG,,UMOL/KG,,UMOL/KG,,,DEG C,DBAR,ITS-90
     33KA014_1,  PRS2,     1,  1,     21,     21,2,19900213,2348, 21.3950,-158.2983, 1500,      5.4,  23.7519,  35.0480,2,  35.0463,2,    214.8,2,    214.0,2,     0.95,2,     0.00,2,     0.09,2,      5,-999.000,  -999.0, 23.7508
     33KA014_1,  PRS2,     1,  1,     20,     20,2,19900213,2348, 21.3950,-158.2983, 1500,     25.3,  23.3993,  35.0408,2,  35.0388,2,    215.6,2,    214.0,2,     0.65,2,     0.00,2,     0.09,2,     25,-999.000,  -999.0, 23.3941
     33KA014_1,  PRS2,     1,  1,     19,     19,2,19900213,2348, 21.3950,-158.2983, 1500,     45.2,  23.2179,  35.0665,2,  35.0626,2,    215.0,2,    214.9,2,     0.55,2,     0.00,2,     0.07,2,     45,-999.000,  -999.0, 23.2086
     33KA014_1,  PRS2,     1,  1,     18,     18,2,19900213,2348, 21.3950,-158.2983, 1500,     60.8,  22.9496,  35.1073,2,  35.1026,2,    214.3,2,    216.4,2,     0.35,2,     0.00,2,     0.06,2,     61,-999.000,  -999.0, 22.9372
     33KA014_1,  PRS2,     1,  1,     17,     17,2,19900213,2348, 21.3950,-158.2983, 1500,     75.9,  22.4220,  35.2004,2,  35.1964,2,    213.4,2,    213.5,2,     0.35,2,     0.00,2,     0.06,2,     75,-999.000,  -999.0, 22.4068
     33KA014_1,  PRS2,     1,  1,     16,     16,2,19900213,2348, 21.3950,-158.2983, 1500,     95.8,  21.7457,  35.2700,2,  35.2654,2,    209.7,2,    212.6,2,     0.62,2,     0.01,2,     0.07,2,     94,-999.000,  -999.0, 21.7269
     33KA014_1,  PRS2,     1,  1,     15,     15,2,19900213,2348, 21.3950,-158.2983, 1500,    105.9,  21.5913,  35.2765,2,  35.2731,2,    209.2,2,    208.9,2,     0.55,2,     0.22,2,     0.07,2,    105,-999.000,  -999.0, 21.5706
     33KA014_1,  PRS2,     1,  1,     14,     14,2,19900213,2348, 21.3950,-158.2983, 1500,    116.8,  21.4594,  35.2758,2,  35.2719,2,    207.6,2,    207.8,2,     0.55,2,     0.38,2,     0.09,2,    116,-999.000,  -999.0, 21.4367
     33KA014_1,  PRS2,     1,  1,     13,     13,2,19900213,2348, 21.3950,-158.2983, 1500,    127.7,  20.9072,  35.2481,2,  35.2460,2,    204.8,2,    203.5,2,     0.75,2,     0.86,2,     0.13,2,    126,-999.000,  -999.0, 20.8829
     33KA014_1,  PRS2,     1,  1,     12,     12,2,19900213,2348, 21.3950,-158.2983, 1500,    152.8,  20.6140,  35.2328,2,  35.2336,2,    204.2,2,    205.9,2,     0.95,2,     0.88,2,     0.14,2,    150,-999.000,  -999.0, 20.5851
     33KA014_1,  PRS2,     1,  1,     11,     11,2,19900213,2348, 21.3950,-158.2983, 1500,    179.6,  18.7933,  35.0405,2,  35.0371,2,    196.8,2,    196.5,2,     1.76,2,     2.49,2,     0.25,2,    176,-999.000,  -999.0, 18.7615
     33KA014_1,  PRS2,     1,  1,     10,     10,2,19900213,2348, 21.3950,-158.2983, 1500,    204.5,  16.7413,  34.7394,2,  34.7629,2,    192.6,2,    186.2,2,     3.76,2,     5.41,2,     0.47,2,    200,-999.000,  -999.0, 16.7080
     33KA014_1,  PRS2,     1,  1,      9,      9,2,19900213,2348, 21.3950,-158.2983, 1500,    230.5,  13.6388,  34.3930,2,-999.0000,5,    188.9,2,   -999.0,5,  -999.00,5,  -999.00,5,  -999.00,5,    226,-999.000,  -999.0, 13.6063
     33KA014_1,  PRS2,     1,  1,      8,      8,2,19900213,2348, 21.3950,-158.2983, 1500,    256.2,  12.9428,  34.3309,2,  34.3322,2,    186.0,2,    190.3,2,     9.58,2,    10.56,2,     0.83,2,    251,-999.000,  -999.0, 12.9078
     33KA014_1,  PRS2,     1,  1,      7,      7,2,19900213,2348, 21.3950,-158.2983, 1500,    307.0,   9.9893,  34.1542,2,  34.1554,2,    175.4,2,    175.2,2,    22.22,2,    17.92,2,     1.33,2,    301,-999.000,  -999.0,  9.9539
     33KA014_1,  PRS2,     1,  1,      6,      6,2,19900213,2348, 21.3950,-158.2983, 1500,    408.7,   7.8585,  34.1222,2,  34.1230,2,    121.4,2,    120.0,2,    41.29,2,    27.32,2,     2.02,2,    402,-999.000,  -999.0,  7.8175
     33KA014_1,  PRS2,     1,  1,      5,      5,2,19900213,2348, 21.3950,-158.2983, 1500,    508.7,   6.4136,  34.1744,2,  34.1757,2,     58.3,2,     61.9,2,    62.36,2,    35.21,2,     2.60,2,    501,-999.000,  -999.0,  6.3677
     33KA014_1,  PRS2,     1,  1,      4,      4,3,19900213,2348, 21.3950,-158.2983, 1500,    608.3,   5.1308,  34.2294,2,  34.2298,2,     18.1,2,   -999.0,5,    85.44,2,    40.28,2,     2.98,2,    600,-999.000,  -999.0,  5.0815
     33KA014_1,  PRS2,     1,  1,      3,      3,2,19900213,2348, 21.3950,-158.2983, 1500,    760.4,   4.7621,  34.4099,2,  34.4095,2,     39.5,2,     37.2,2,    94.05,2,    41.26,2,     3.02,2,    750,-999.000,  -999.0,  4.7016
     33KA014_1,  PRS2,     1,  1,      2,      2,2,19900213,2348, 21.3950,-158.2983, 1500,    894.1,   4.3764,  34.4719,2,  34.4726,2,     10.3,2,     43.0,2,    99.06,2,    41.26,2,     3.02,2,    885,-999.000,  -999.0,  4.3069
     33KA014_1,  PRS2,     1,  1,      1,      1,2,19900213,2348, 21.3950,-158.2983, 1500,   1015.6,   4.0858,  34.4978,2,  34.4970,2,      7.8,2,   -999.0,5,   106.48,2,    41.39,2,     3.00,2,   1006,-999.000,  -999.0,  4.0082
     33KA014_1,  PRS2,     2,  1,      3,      3,2,19900214,2027, 22.6950,-157.8983, 4750,      5.1,  23.4384,  35.0422,2,-999.0000,9,    222.0,1,   -999.0,9,  -999.00,9,  -999.00,9,  -999.00,9,      5,-999.000,  -999.0, 23.4374
     33KA014_1,  PRS2,     2,  1,      2,      2,2,19900214,2027, 22.6950,-157.8983, 4750,     44.3,  23.4313,  35.0412,2,-999.0000,9,    222.0,1,   -999.0,9,  -999.00,9,  -999.00,9,  -999.00,9,     44,-999.000,  -999.0, 23.4221
     33KA014_1,  PRS2,     2,  1,      1,      1,2,19900214,2027, 22.6950,-157.8983, 4750,    103.9,  22.6852,  35.1563,2,-999.0000,9,    210.7,1,   -999.0,9,  -999.00,9,  -999.00,9,  -999.00,9,    105,-999.000,  -999.0, 22.6642
     33KA014_1,  PRS2,     2,  2,     18,     18,2,19900214,2343, 22.7617,-157.8983, 4700,      6.4,  23.5562,  35.0398,2,  35.0388,2,    229.4,1,   -999.0,9,  -999.00,9,  -999.00,9,  -999.00,9,      7,-999.000,  -999.0, 23.5549
     33KA014_1,  PRS2,     2,  2,     17,     17,2,19900214,2343, 22.7617,-157.8983, 4700,     25.6,  23.4632,  35.0377,2,  35.0355,2,    227.3,1,   -999.0,9,  -999.00,9,  -999.00,9,  -999.00,9,     25,-999.000,  -999.0, 23.4579
     33KA014_1,  PRS2,     2,  2,     16,     16,2,19900214,2343, 22.7617,-157.8983, 4700,     45.9,  23.4564,  35.0366,2,  35.0350,2,    226.9,1,   -999.0,9,  -999.00,9,  -999.00,9,  -999.00,9,     44,-999.000,  -999.0, 23.4469
     33KA014_1,  PRS2,     2,  2,     15,     15,2,19900214,2343, 22.7617,-157.8983, 4700,     76.1,  23.4242,  35.0348,2,  35.0342,2,    216.2,1,   -999.0,9,  -999.00,9,  -999.00,9,  -999.00,9,     74,-999.000,  -999.0, 23.4084
     33KA014_1,  PRS2,     2,  2,     14,     14,2,19900214,2343, 22.7617,-157.8983, 4700,     99.5,  23.0007,  35.0996,2,  34.3544,4,    209.9,1,   -999.0,9,  -999.00,9,  -999.00,9,  -999.00,9,     99,-999.000,  -999.0, 22.9804
     33KA014_1,  PRS2,     2,  2,     13,     13,2,19900214,2343, 22.7617,-157.8983, 4700,    125.9,  21.4404,  35.2289,2,  35.2332,2,    200.4,1,   -999.0,9,  -999.00,9,  -999.00,9,  -999.00,9,    123,-999.000,  -999.0, 21.4159
     33KA014_1,  PRS2,     2,  2,     12,     12,2,19900214,2343, 22.7617,-157.8983, 4700,    152.9,  19.7861,  35.1294,2,  35.1292,2,    191.2,1,   -999.0,9,  -999.00,9,  -999.00,9,  -999.00,9,    151,-999.000,  -999.0, 19.7580
     33KA014_1,  PRS2,     2,  2,     11,     11,2,19900214,2343, 22.7617,-157.8983, 4700,    153.3,  19.7706,  35.1289,2,  35.1254,2,    191.1,1,   -999.0,9,  -999.00,9,  -999.00,9,  -999.00,9,    149,-999.000,  -999.0, 19.7425
     33KA014_1,  PRS2,     2,  2,      9,      9,2,19900214,2343, 22.7617,-157.8983, 4700,    178.8,  17.7605,  34.8871,2,  34.8908,2,    191.8,1,   -999.0,9,  -999.00,9,  -999.00,9,  -999.00,9,    175,-999.000,  -999.0, 17.7301
     33KA014_1,  PRS2,     2,  2,     10,     10,2,19900214,2343, 22.7617,-157.8983, 4700,    179.1,  17.7481,  34.8848,2,  34.8838,2,    191.8,1,   -999.0,9,  -999.00,9,  -999.00,9,  -999.00,9,    175,-999.000,  -999.0, 17.7177
     33KA014_1,  PRS2,     2,  2,      7,      7,2,19900214,2343, 22.7617,-157.8983, 4700,    257.4,  13.3438,  34.3862,2,  34.3838,2,    200.2,1,   -999.0,9,  -999.00,9,  -999.00,9,  -999.00,9,    252,-999.000,  -999.0, 13.3079
     33KA014_1,  PRS2,     2,  2,      8,      8,2,19900214,2343, 22.7617,-157.8983, 4700,    257.9,  13.2921,  34.3748,2,  34.3751,2,    200.5,1,   -999.0,9,  -999.00,9,  -999.00,9,  -999.00,9,    251,-999.000,  -999.0, 13.2563
     33KA014_1,  PRS2,     2,  2,      5,      5,2,19900214,2343, 22.7617,-157.8983, 4700,    507.9,   6.2598,  34.0513,2,  34.0448,2,     86.3,1,   -999.0,9,  -999.00,9,  -999.00,9,  -999.00,9,    499,-999.000,  -999.0,  6.2147
     33KA014_1,  PRS2,     2,  2,      6,      6,2,19900214,2343, 22.7617,-157.8983, 4700,    508.1,   6.2581,  34.0505,2,  34.3858,4,     86.7,1,   -999.0,9,  -999.00,9,  -999.00,9,  -999.00,9,    499,-999.000,  -999.0,  6.2130
     33KA014_1,  PRS2,     2,  2,      4,      4,2,19900214,2343, 22.7617,-157.8983, 4700,    769.1,   4.7008,  34.3561,2,  34.3504,2,     27.9,1,   -999.0,9,  -999.00,9,  -999.00,9,  -999.00,9,    760,-999.000,  -999.0,  4.6400
     33KA014_1,  PRS2,     2,  2,      3,      3,2,19900214,2343, 22.7617,-157.8983, 4700,    769.5,   4.6856,  34.3587,2,  34.3491,2,     27.7,1,   -999.0,9,  -999.00,9,  -999.00,9,  -999.00,9,    759,-999.000,  -999.0,  4.6248
     33KA014_1,  PRS2,     2,  2,      1,      1,2,19900214,2343, 22.7617,-157.8983, 4700,   1024.4,   3.9976,  34.4987,2,  34.3501,4,     40.6,1,   -999.0,9,  -999.00,9,  -999.00,9,  -999.00,9,   1015,-999.000,  -999.0,  3.9199
     33KA014_1,  PRS2,     2,  2,      2,      2,2,19900214,2343, 22.7617,-157.8983, 4700,   1025.3,   3.9974,  34.4984,2,  34.6298,4,     42.5,1,   -999.0,9,  -999.00,9,  -999.00,9,  -999.00,9,   1020,-999.000,  -999.0,  3.9197
     33KA014_1,  PRS2,     2,  3,      4,      4,2,19900215,0232, 22.7683,-157.9133, 4750,     50.2,  23.4529,  35.0306,2,  35.0356,2,    216.5,1,   -999.0,9,  -999.00,9,  -999.00,9,  -999.00,9,     49,-999.000,  -999.0, 23.4426
     33KA014_1,  PRS2,     2,  3,      3,      3,2,19900215,0232, 22.7683,-157.9133, 4750,    119.6,  21.7569,  35.2329,2,  35.2332,2,    197.8,1,   -999.0,9,  -999.00,9,  -999.00,9,  -999.00,9,    116,-999.000,  -999.0, 21.7334
     33KA014_1,  PRS2,     2,  3,      2,      2,2,19900215,0232, 22.7683,-157.9133, 4750,    495.5,   6.7226,  34.0439,2,  34.0415,2,    107.3,1,   -999.0,9,  -999.00,9,  -999.00,9,  -999.00,9,    489,-999.000,  -999.0,  6.6770
     33KA014_1,  PRS2,     2,  3,      1,      1,2,19900215,0232, 22.7683,-157.9133, 4750,    495.5,   6.7226,  34.0439,2,  34.0412,2,    107.3,1,   -999.0,9,  -999.00,9,  -999.00,9,  -999.00,9,    489,  10.197,   374.2,  6.6770
     33KA014_1,  PRS2,     2,  4,     14,     14,2,19900215,0722, 22.7733,-157.9200, 4750,      6.5,  23.7743,  34.8595,2,  34.8604,2,    223.2,1,   -999.0,9,  -999.00,9,  -999.00,9,  -999.00,9,      7,-999.000,  -999.0, 23.7729
     33KA014_1,  PRS2,     2,  4,     13,     13,2,19900215,0722, 22.7733,-157.9200, 4750,     26.5,  23.4859,  35.0347,2,  35.0334,2,    217.3,1,   -999.0,9,  -999.00,9,  -999.00,9,  -999.00,9,     27,-999.000,  -999.0, 23.4804
     33KA014_1,  PRS2,     2,  4,     12,     12,2,19900215,0722, 22.7733,-157.9200, 4750,     46.4,  23.4719,  35.0349,2,  35.0352,2,    214.4,1,   -999.0,9,  -999.00,9,  -999.00,9,  -999.00,9,     46,-999.000,  -999.0, 23.4623
     33KA014_1,  PRS2,     2,  4,     11,     11,2,19900215,0722, 22.7733,-157.9200, 4750,     75.7,  23.4209,  35.0341,2,  35.0353,2,    211.3,1,   -999.0,9,  -999.00,9,  -999.00,9,  -999.00,9,     75,-999.000,  -999.0, 23.4052
     33KA014_1,  PRS2,     2,  4,     10,     10,2,19900215,0722, 22.7733,-157.9200, 4750,    101.8,  22.8868,  35.1191,2,  35.1171,2,    210.8,1,   -999.0,9,  -999.00,9,  -999.00,9,  -999.00,9,    101,-999.000,  -999.0, 22.8661
     33KA014_1,  PRS2,     2,  4,      9,      9,2,19900215,0722, 22.7733,-157.9200, 4750,    128.8,  21.4215,  35.2340,2,  35.2348,2,    200.3,1,   -999.0,9,  -999.00,9,  -999.00,9,  -999.00,9,    127,-999.000,  -999.0, 21.3965
     33KA014_1,  PRS2,     2,  4,      8,      8,2,19900215,0722, 22.7733,-157.9200, 4750,    155.8,  20.2686,  35.1729,2,  35.1786,2,    194.5,1,   -999.0,9,  -999.00,9,  -999.00,9,  -999.00,9,    153,-999.000,  -999.0, 20.2395
     33KA014_1,  PRS2,     2,  4,      7,      7,2,19900215,0722, 22.7733,-157.9200, 4750,    179.0,  17.8194,  34.8912,2,  34.8879,2,    192.1,1,   -999.0,9,  -999.00,9,  -999.00,9,  -999.00,9,    176,-999.000,  -999.0, 17.7890
     33KA014_1,  PRS2,     2,  4,      6,      6,2,19900215,0722, 22.7733,-157.9200, 4750,    257.7,  13.5676,  34.4070,2,  34.4080,2,    201.7,1,   -999.0,9,  -999.00,9,  -999.00,9,  -999.00,9,    253,-999.000,  -999.0, 13.5312
     33KA014_1,  PRS2,     2,  4,      5,      5,2,19900215,0722, 22.7733,-157.9200, 4750,    507.1,   6.3834,  34.0480,2,  34.0470,2,     95.0,1,   -999.0,9,  -999.00,9,  -999.00,9,  -999.00,9,    500,-999.000,  -999.0,  6.3379
     33KA014_1,  PRS2,     2,  4,      3,      3,2,19900215,0722, 22.7733,-157.9200, 4750,    753.3,   4.8424,  34.3532,2,  34.3514,2,     28.2,1,   -999.0,9,  -999.00,9,  -999.00,9,  -999.00,9,    745,-999.000,  -999.0,  4.7821
     33KA014_1,  PRS2,     2,  4,      2,      2,2,19900215,0722, 22.7733,-157.9200, 4750,    753.3,   4.8424,  34.3532,2,  34.3518,2,     28.2,1,   -999.0,9,  -999.00,9,  -999.00,9,  -999.00,9,    745,-999.000,  -999.0,  4.7821
     33KA014_1,  PRS2,     2,  4,      1,      1,2,19900215,0722, 22.7733,-157.9200, 4750,   1010.5,   4.0686,  34.4939,2,-999.0000,5,     42.8,1,   -999.0,9,  -999.00,9,  -999.00,9,  -999.00,9,   1002,   4.474,   851.3,  3.9916
     33KA014_1,  PRS2,     2,  5,     17,     17,2,19900215,1009, 22.7800,-157.9167, 4750,      2.5,  23.8415,  34.8072,2,-999.0000,5,    212.5,2,    211.9,2,  -999.00,9,  -999.00,9,  -999.00,9,      4,-999.000,  -999.0, 23.8409
     33KA014_1,  PRS2,     2,  5,     16,     16,2,19900215,1009, 22.7800,-157.9167, 4750,     10.4,  23.6047,  34.9557,2,-999.0000,5,    213.1,2,    212.8,2,  -999.00,9,  -999.00,9,  -999.00,9,     12,-999.000,  -999.0, 23.6025
     33KA014_1,  PRS2,     2,  5,     15,     15,2,19900215,1009, 22.7800,-157.9167, 4750,     20.3,  23.4814,  35.0366,2,-999.0000,5,    214.8,2,    213.1,2,  -999.00,9,  -999.00,9,  -999.00,9,     21,-999.000,  -999.0, 23.4772
     33KA014_1,  PRS2,     2,  5,     14,     14,2,19900215,1009, 22.7800,-157.9167, 4750,     30.2,  23.4631,  35.0383,2,-999.0000,5,    213.7,2,    212.9,2,  -999.00,9,  -999.00,9,  -999.00,9,     30,-999.000,  -999.0, 23.4569
     33KA014_1,  PRS2,     2,  5,     13,     13,2,19900215,1009, 22.7800,-157.9167, 4750,     39.9,  23.4598,  35.0380,2,-999.0000,5,    213.1,2,    213.1,2,  -999.00,9,  -999.00,9,  -999.00,9,     41,-999.000,  -999.0, 23.4516
     33KA014_1,  PRS2,     2,  5,     12,     12,2,19900215,1009, 22.7800,-157.9167, 4750,     50.1,  23.4539,  35.0374,2,  35.0348,2,    214.5,2,    213.1,2,  -999.00,9,  -999.00,9,  -999.00,9,     50,-999.000,  -999.0, 23.4436
     33KA014_1,  PRS2,     2,  5,     11,     11,2,19900215,1009, 22.7800,-157.9167, 4750,     60.0,  23.4316,  35.0336,2,-999.0000,5,    213.2,2,    213.0,2,  -999.00,9,  -999.00,9,  -999.00,9,     61,-999.000,  -999.0, 23.4192
     33KA014_1,  PRS2,     2,  5,     10,     10,2,19900215,1009, 22.7800,-157.9167, 4750,     71.0,  23.4154,  35.0357,2,-999.0000,5,    213.2,2,    212.9,2,  -999.00,9,  -999.00,9,  -999.00,9,     71,-999.000,  -999.0, 23.4008
     33KA014_1,  PRS2,     2,  5,      9,      9,2,19900215,1009, 22.7800,-157.9167, 4750,     78.6,  23.3776,  35.0404,2,-999.0000,5,    212.0,2,    193.9,4,  -999.00,9,  -999.00,9,  -999.00,9,     79,-999.000,  -999.0, 23.3613
     33KA014_1,  PRS2,     2,  5,      8,      8,2,19900215,1009, 22.7800,-157.9167, 4750,     89.2,  23.3234,  35.0489,2,-999.0000,5,    211.6,2,    212.5,2,  -999.00,9,  -999.00,9,  -999.00,9,     90,-999.000,  -999.0, 23.3050
     33KA014_1,  PRS2,     2,  5,      7,      7,2,19900215,1009, 22.7800,-157.9167, 4750,    101.0,  22.9942,  35.1055,2,-999.0000,5,    209.8,2,    210.4,2,  -999.00,9,  -999.00,9,  -999.00,9,    101,-999.000,  -999.0, 22.9736
     33KA014_1,  PRS2,     2,  5,      6,      6,2,19900215,1009, 22.7800,-157.9167, 4750,    112.3,  22.4953,  35.1656,2,-999.0000,5,    208.8,2,    209.2,2,  -999.00,9,  -999.00,9,  -999.00,9,    111,-999.000,  -999.0, 22.4727
     33KA014_1,  PRS2,     2,  5,      5,      5,2,19900215,1009, 22.7800,-157.9167, 4750,    123.1,  21.7989,  35.2275,2,  35.2264,2,    206.0,2,    204.6,2,  -999.00,9,  -999.00,9,  -999.00,9,    121,-999.000,  -999.0, 21.7747
     33KA014_1,  PRS2,     2,  5,      4,      4,2,19900215,1009, 22.7800,-157.9167, 4750,    123.1,  21.7989,  35.2275,2,-999.0000,5,    205.8,2,   -999.0,5,  -999.00,9,  -999.00,9,  -999.00,9,    121,-999.000,  -999.0, 21.7747
     33KA014_1,  PRS2,     2,  5,      3,      3,2,19900215,1009, 22.7800,-157.9167, 4750,    132.5,  21.2970,  35.2295,2,-999.0000,5,    198.1,2,    198.5,2,  -999.00,9,  -999.00,9,  -999.00,9,    129,-999.000,  -999.0, 21.2713
     33KA014_1,  PRS2,     2,  5,      2,      2,2,19900215,1009, 22.7800,-157.9167, 4750,    496.2,   6.8625,  34.0428,2,-999.0000,5,    121.0,2,   -999.0,5,  -999.00,9,  -999.00,9,  -999.00,9,    489,-999.000,  -999.0,  6.8163
     33KA014_1,  PRS2,     2,  5,      1,      1,2,19900215,1009, 22.7800,-157.9167, 4750,   1010.0,   4.0302,  34.4967,2,-999.0000,5,     42.5,2,   -999.0,5,  -999.00,9,  -999.00,9,  -999.00,9,   1003,   4.349,   887.9,  3.9535