BOTTLE,20210310PRINUNIVRMK
EXPOCODE,SECT_ID,STNNBR,CASTNO,SAMPNO,BTLNBR,BTLNBR_FLAG_W,DATE,TIME,LATITUDE,LONGITUDE,DEPTH,CTDPRS,CTDTMP,SBE35,SBE35_FLAG_W,CTDSAL,CTDSAL_FLAG_W,SALNTY,SALNTY_FLAG_W,CTDOXY,CTDOXY_FLAG_W,OXYGEN,OXYGEN_FLAG_W,SILCAT,SILCAT_FLAG_W,NITRAT,NITRAT_FLAG_W,NITRIT,NITRIT_FLAG_W,PHSPHT,PHSPHT_FLAG_W,NH4,NH4_FLAG_W,CFC-11,CFC-11_FLAG_W,CFC-12,CFC-12_FLAG_W,CFC113,CFC113_FLAG_W,SF6,SF6_FLAG_W,TCARBN,TCARBN_FLAG_W,ALKALI,ALKALI_FLAG_W,DOC,DOC_FLAG_W,CHLORA,CHLORA_FLAG_W,CDOM300,CDOM300_FLAG_W,CDOM325,CDOM325_FLAG_W,CDOM443,CDOM443_FLAG_W,SBE35,SBE35_FLAG_W
,,,,,,,,,,,METERS,DBAR,ITS-90,,,PSS-78,,PSS-78,,UMOL/KG,,UMOL/KG,,UMOL/KG,,UMOL/KG,,UMOL/KG,,UMOL/KG,,UMOL/KG,,PMOL/KG,,PMOL/KG,,PMOL/KG,,FMOL/KG,,UMOL/KG,,UMOL/KG,,UMOL/KG,,UG/L,,1/M,,1/M,,1/M,,,
  49NZ20191229,  I07S,   124,  1,     36,   1236,2,  200115,1851,-52.9048,  56.8333, 4281,     11.2,   3.1883,   3.1886,2,  33.8970,2,  33.8963,2,    326.0,2,    326.8,2,    16.99,2,    25.29,2,     0.21,2,     1.63,2,     0.23,2,    5.070,2,    2.729,2,    0.469,2,    3.997,2,   2148.9,2,   2286.0,2,   -999.0,9,     0.46,2,-999.0000,9,-999.0000,9,-999.0000,9,   3.1886,2
  49NZ20191229,  I07S,   124,  1,     35,   1235,2,  200115,1851,-52.9048,  56.8333, 4281,     51.1,   3.1614,   3.1613,2,  33.9010,2,  33.9004,2,    325.9,2,    326.7,2,    17.05,2,    25.39,2,     0.21,2,     1.66,2,     0.27,2,    5.089,2,    2.726,2,    0.459,2,    3.955,2,   2147.1,2,   2286.5,2,   -999.0,9,     0.56,2,-999.0000,9,-999.0000,9,-999.0000,9,   3.1613,2
  49NZ20191229,  I07S,   124,  1,     34,   1234,2,  200115,1851,-52.9048,  56.8333, 4281,    101.0,   2.0464,   2.0479,2,  33.9508,2,  33.9428,2,    321.7,2,    323.0,2,    28.08,2,    26.91,2,     0.20,2,     1.87,2,     0.68,2,    5.202,2,    2.791,2,    0.485,2,     3.96,2,   2165.0,2,   2290.1,2,   -999.0,9,     0.34,2,-999.0000,9,-999.0000,9,-999.0000,9,   2.0479,2
  49NZ20191229,  I07S,   124,  1,     33,   1233,2,  200115,1851,-52.9048,  56.8333, 4281,    151.0,   1.4124,   1.4128,2,  34.0061,2,  34.0051,2,    314.6,2,    314.9,2,    38.61,2,    29.31,2,     0.20,2,     2.00,2,     0.18,2,    5.167,2,    2.761,2,    0.469,2,      3.8,2,   2182.9,2,   2291.5,2,   -999.0,9,     0.04,2,-999.0000,9,-999.0000,9,-999.0000,9,   1.4128,2
  49NZ20191229,  I07S,   124,  1,     32,   1232,2,  200115,1851,-52.9048,  56.8333, 4281,    200.2,   1.2939,   1.2939,2,  34.0550,2,  34.0551,2,    300.4,2,    300.2,2,    42.33,2,    30.50,2,     0.02,2,     2.07,2,     0.03,2,    4.883,2,    2.589,2,    0.431,2,    3.485,2,   2193.7,2,   2295.6,2,   -999.0,9,     0.03,2,-999.0000,9,-999.0000,9,-999.0000,9,   1.2939,2
  49NZ20191229,  I07S,   124,  1,     31,   1231,2,  200115,1851,-52.9048,  56.8333, 4281,    250.9,   1.4349,   1.4348,2,  34.1274,2,  34.1270,2,    275.4,2,    275.0,2,    46.52,2,    31.58,2,     0.01,2,     2.14,2,     0.03,2,    4.329,2,    2.282,2,    0.378,2,    2.894,2,   2201.4,2,   2299.4,2,   -999.0,9,     0.02,2,-999.0000,9,-999.0000,9,-999.0000,9,   1.4348,2
  49NZ20191229,  I07S,   124,  1,     30,   1230,2,  200115,1851,-52.9048,  56.8333, 4281,    329.6,   2.1834,   2.1844,2,  34.3173,2,  34.3129,2,    208.0,2,    208.5,2,    56.66,2,    34.44,2,     0.01,2,     2.33,2,     0.02,2,    2.602,2,    1.345,2,    0.201,2,    1.324,2,   2232.9,2,   2309.6,2,   -999.0,9,  -999.00,9,-999.0000,9,-999.0000,9,-999.0000,9,   2.1844,2
  49NZ20191229,  I07S,   124,  1,     29,   1229,2,  200115,1851,-52.9048,  56.8333, 4281,    430.6,   2.2447,   2.2448,2,  34.4119,2,  34.4112,2,    188.9,2,    188.8,2,    64.71,2,    35.11,2,     0.01,2,     2.37,2,     0.03,2,    1.828,2,    0.951,2,    0.140,2,    1.021,2,   2242.6,2,   2320.3,2,   -999.0,9,  -999.00,9,-999.0000,9,-999.0000,9,-999.0000,9,   2.2448,2
  49NZ20191229,  I07S,   124,  1,     28,   1228,2,  200115,1851,-52.9048,  56.8333, 4281,    531.4,   2.1760,   2.1760,2,  34.4829,2,  34.4826,2,    179.9,2,    179.7,2,    71.19,2,    35.09,2,     0.01,2,     2.38,2,     0.03,2,    1.406,2,    0.736,2,    0.117,2,    0.759,2,   2249.3,2,   2327.3,2,   -999.0,9,  -999.00,9,-999.0000,9,-999.0000,9,-999.0000,9,   2.1760,2
  49NZ20191229,  I07S,   124,  1,     27,   1227,2,  200115,1851,-52.9048,  56.8333, 4281,    630.0,   2.2704,   2.2706,2,  34.5643,2,  34.5638,2,    171.0,2,    171.0,2,    75.21,2,    34.67,2,     0.01,2,     2.35,2,     0.04,2,    0.862,2,    0.463,2,    0.071,2,    0.355,2,   2256.8,2,   2332.3,2,   -999.0,9,  -999.00,9,-999.0000,9,-999.0000,9,-999.0000,9,   2.2706,2
  49NZ20191229,  I07S,   124,  1,     26,   1226,2,  200115,1851,-52.9048,  56.8333, 4281,    730.4,   2.3314,   2.3314,2,  34.6204,2,  34.6196,2,    170.8,2,    170.8,2,    76.63,2,    33.77,2,     0.01,2,     2.29,2,     0.04,2,    0.566,2,    0.313,2,    0.041,2,    0.131,2,   2255.8,6,   2337.1,2,   -999.0,9,  -999.00,9,-999.0000,9,-999.0000,9,-999.0000,9,   2.3314,2
  49NZ20191229,  I07S,   124,  1,     25,   1225,2,  200115,1851,-52.9048,  56.8333, 4281,    830.1,   2.3443,   2.3443,2,  34.6557,2,  34.6553,2,    173.3,2,    173.5,2,    76.96,2,    33.09,2,     0.01,2,     2.24,2,     0.03,2,    0.432,2,    0.239,2,    0.031,2,    0.153,2,   2253.0,2,   -999.0,9,   -999.0,9,  -999.00,9,-999.0000,9,-999.0000,9,-999.0000,9,   2.3443,2
  49NZ20191229,  I07S,   124,  1,     24,   1224,2,  200115,1851,-52.9048,  56.8333, 4281,    930.9,   2.3268,   2.3268,2,  34.6926,2,  34.6922,2,    178.5,2,    178.5,2,    77.14,2,    32.18,2,     0.01,2,     2.18,2,     0.03,2,    0.324,2,    0.183,2,    0.025,2,    0.153,2,   2251.3,2,   2343.4,2,   -999.0,9,  -999.00,9,-999.0000,9,-999.0000,9,-999.0000,9,   2.3268,2
  49NZ20191229,  I07S,   124,  1,     23,   1223,2,  200115,1851,-52.9048,  56.8333, 4281,   1070.5,   2.2091,   2.2094,2,  34.7163,2,  34.7159,2,    182.9,2,    183.1,2,    79.51,2,    31.49,2,     0.01,2,     2.14,2,     0.04,2,    0.291,2,    0.166,2,    0.023,2,     0.11,2,   2250.2,2,   2343.7,2,   -999.0,9,  -999.00,9,-999.0000,9,-999.0000,9,-999.0000,9,   2.2094,2
  49NZ20191229,  I07S,   124,  1,     22,   1222,2,  200115,1851,-52.9048,  56.8333, 4281,   1270.7,   2.0576,   2.0577,2,  34.7398,2,  34.7394,2,    190.1,2,    190.3,2,    81.89,2,    30.57,2,     0.00,2,     2.08,2,     0.03,2,    0.243,2,    0.142,2,    0.016,2,    0.095,2,   2248.0,2,   2346.2,6,   -999.0,9,  -999.00,9,-999.0000,9,-999.0000,9,-999.0000,9,   2.0577,2
  49NZ20191229,  I07S,   124,  1,     21,   1221,2,  200115,1851,-52.9048,  56.8333, 4281,   1470.8,   1.9076,   1.9074,2,  34.7564,2,  34.7565,2,    197.9,2,    198.2,2,    83.27,2,    29.97,2,     0.00,2,     2.03,2,     0.02,2,    0.204,2,    0.119,2,    0.018,2,    0.078,2,   2244.0,2,   2348.4,2,   -999.0,9,  -999.00,9,-999.0000,9,-999.0000,9,-999.0000,9,   1.9074,2
  49NZ20191229,  I07S,   124,  1,     20,   1220,2,  200115,1851,-52.9048,  56.8333, 4281,   1670.3,   1.7505,   1.7504,2,  34.7566,2,  34.7570,2,    201.4,2,    201.8,2,    86.60,2,    29.92,2,     0.00,2,     2.03,2,     0.02,2,    0.199,2,    0.116,2,    0.015,2,    0.076,2,   2245.4,2,   2349.7,2,   -999.0,9,  -999.00,9,-999.0000,9,-999.0000,9,-999.0000,9,   1.7504,2
  49NZ20191229,  I07S,   124,  1,     19,   1219,2,  200115,1851,-52.9048,  56.8333, 4281,   1870.5,   1.5566,   1.5579,2,  34.7496,2,  34.7501,2,    203.5,2,    203.9,2,    91.91,2,    30.05,2,     0.00,2,     2.05,2,     0.01,2,    0.219,2,    0.127,2,    0.019,2,    0.079,2,   2242.9,2,   2353.7,2,   -999.0,9,  -999.00,9,-999.0000,9,-999.0000,9,-999.0000,9,   1.5579,2
  49NZ20191229,  I07S,   124,  1,     18,   1218,2,  200115,1851,-52.9048,  56.8333, 4281,   2070.2,   1.3618,   1.3623,2,  34.7391,2,  34.7392,2,    204.7,2,    205.0,2,    97.64,2,    30.53,2,     0.00,2,     2.09,2,     0.02,2,    0.243,2,    0.140,2,    0.018,2,    0.113,2,   2248.0,2,   2353.4,2,   -999.0,9,  -999.00,9,-999.0000,9,-999.0000,9,-999.0000,9,   1.3623,2
  49NZ20191229,  I07S,   124,  1,     17,   1217,2,  200115,1851,-52.9048,  56.8333, 4281,   2270.0,   1.1634,   1.1636,2,  34.7263,2,  34.7264,2,    205.4,2,    205.8,2,   103.69,2,    31.03,2,     0.00,2,     2.12,2,     0.03,2,    0.283,2,    0.162,2,    0.021,2,    0.113,2,   2254.9,2,   2354.6,2,   -999.0,9,  -999.00,9,-999.0000,9,-999.0000,9,-999.0000,9,   1.1636,2
  49NZ20191229,  I07S,   124,  1,     16,   1216,2,  200115,1851,-52.9048,  56.8333, 4281,   2470.0,   1.0003,   1.0006,2,  34.7158,2,  34.7160,2,    206.3,2,    206.7,2,   108.93,2,    31.62,2,     0.00,2,     2.15,2,     0.03,2,    0.322,2,    0.182,2,    0.025,2,     0.12,2,   2254.5,6,   2357.4,2,   -999.0,9,  -999.00,9,-999.0000,9,-999.0000,9,-999.0000,9,   1.0006,2
  49NZ20191229,  I07S,   124,  1,     15,  12102,2,  200115,1851,-52.9048,  56.8333, 4281,   2670.2,   0.8364,   0.8378,2,  34.7057,2,  34.7056,2,    207.2,2,    207.5,2,   114.22,2,    32.06,2,     0.00,2,     2.19,2,     0.02,2,    0.360,2,    0.200,2,    0.026,2,    0.135,2,   2260.2,2,   2356.5,2,   -999.0,9,  -999.00,9,-999.0000,9,-999.0000,9,-999.0000,9,   0.8378,2
  49NZ20191229,  I07S,   124,  1,     14,   1214,2,  200115,1851,-52.9048,  56.8333, 4281,   2871.2,   0.6935,   0.6937,2,  34.6972,2,  34.6973,2,    208.7,2,    209.1,2,   118.96,2,    32.34,2,     0.00,2,     2.22,2,     0.03,2,    0.383,2,    0.209,2,    0.027,2,    0.124,2,   2259.5,2,   2358.3,2,   -999.0,9,  -999.00,9,-999.0000,9,-999.0000,9,-999.0000,9,   0.6937,2
  49NZ20191229,  I07S,   124,  1,     13,  12105,2,  200115,1851,-52.9048,  56.8333, 4281,   3079.7,   0.5510,   0.5517,2,  34.6894,2,  34.6890,2,    210.8,2,    211.2,2,   123.45,2,    32.70,2,     0.00,2,     2.24,2,     0.03,2,    0.391,2,    0.214,2,    0.027,2,    0.121,2,   2258.3,2,   2358.6,2,   -999.0,9,  -999.00,9,-999.0000,9,-999.0000,9,-999.0000,9,   0.5517,2
  49NZ20191229,  I07S,   124,  1,     12,   1211,2,  200115,1851,-52.9048,  56.8333, 4281,   3330.4,   0.4085,   0.4086,2,  34.6827,2,  34.6827,2,    214.9,2,    215.1,2,   127.66,2,    32.80,2,     0.00,2,     2.24,2,     0.03,2,    0.385,2,    0.208,2,    0.021,2,     0.07,2,   2259.0,2,   2356.0,6,   -999.0,9,  -999.00,9,-999.0000,9,-999.0000,9,-999.0000,9,   0.4086,2
  49NZ20191229,  I07S,   124,  1,     11,  12106,2,  200115,1851,-52.9048,  56.8333, 4281,   3578.8,   0.3202,   0.3202,2,  34.6782,2,  34.6783,2,    217.7,2,    218.0,2,   130.61,2,    32.73,2,     0.00,2,     2.25,2,     0.03,2,    0.389,2,    0.210,2,    0.024,2,    0.094,2,   2256.6,2,   2356.4,2,   -999.0,9,  -999.00,9,-999.0000,9,-999.0000,9,-999.0000,9,   0.3202,2
  49NZ20191229,  I07S,   124,  1,     10,   1210,3,  200115,1851,-52.9048,  56.8333, 4281,   3830.5,   0.1945,   0.1947,2,  34.6726,2,  34.6720,2,    222.1,2,    222.4,2,   135.56,2,    32.80,2,     0.00,2,     2.25,2,     0.03,2,    0.370,2,    0.202,2,    0.022,2,    0.084,2,   2260.2,2,   2357.0,2,   -999.0,9,  -999.00,9,-999.0000,9,-999.0000,9,-999.0000,9,   0.1947,2
  49NZ20191229,  I07S,   124,  1,      9,  12101,2,  200115,1851,-52.9048,  56.8333, 4281,   4080.7,   0.0955,   0.0958,2,  34.6676,2,  34.6680,2,    225.6,2,    225.8,2,   139.99,2,    32.88,2,     0.00,2,     2.26,2,     0.04,2,    0.387,2,    0.209,2,    0.024,2,    0.108,2,   2255.5,2,   2356.0,2,   -999.0,9,  -999.00,9,-999.0000,9,-999.0000,9,-999.0000,9,   0.0958,2
  49NZ20191229,  I07S,   124,  1,      2,  12046,2,  200115,1851,-52.9048,  56.8333, 4281,     69.5,   3.1296,   3.1298,2,  33.9033,2,  33.9036,2,    325.0,2,    325.8,2,    17.49,2,    25.35,2,     0.21,2,     1.67,2,     0.34,2, -999.000,9, -999.000,9, -999.000,9,     -999,9,   2154.0,2,   2287.4,2,   -999.0,9,     0.71,2,-999.0000,9,-999.0000,9,-999.0000,9,   3.1298,2
  49NZ20191229,  I07S,   124,  1,      1,   1201,2,  200115,1851,-52.9048,  56.8333, 4281,   4345.7,   0.0003,   0.0001,2,  34.6628,2,  34.6618,2,    229.3,2,    229.3,2,   147.46,2,    32.88,2,     0.00,2,     2.26,2,     0.03,2,    0.406,2,    0.221,2,    0.028,2,    0.089,2,   2254.5,2,   2359.7,2,   -999.0,9,  -999.00,9,-999.0000,9,-999.0000,9,-999.0000,9,   0.0001,2