BOTTLE,20210310PRINUNIVRMK
EXPOCODE,SECT_ID,STNNBR,CASTNO,SAMPNO,BTLNBR,BTLNBR_FLAG_W,DATE,TIME,LATITUDE,LONGITUDE,DEPTH,CTDPRS,CTDTMP,SBE35,SBE35_FLAG_W,CTDSAL,CTDSAL_FLAG_W,SALNTY,SALNTY_FLAG_W,CTDOXY,CTDOXY_FLAG_W,OXYGEN,OXYGEN_FLAG_W,SILCAT,SILCAT_FLAG_W,NITRAT,NITRAT_FLAG_W,NITRIT,NITRIT_FLAG_W,PHSPHT,PHSPHT_FLAG_W,NH4,NH4_FLAG_W,CFC-11,CFC-11_FLAG_W,CFC-12,CFC-12_FLAG_W,CFC113,CFC113_FLAG_W,SF6,SF6_FLAG_W,TCARBN,TCARBN_FLAG_W,ALKALI,ALKALI_FLAG_W,DOC,DOC_FLAG_W,CHLORA,CHLORA_FLAG_W,CDOM300,CDOM300_FLAG_W,CDOM325,CDOM325_FLAG_W,CDOM443,CDOM443_FLAG_W,SBE35,SBE35_FLAG_W
,,,,,,,,,,,METERS,DBAR,ITS-90,,,PSS-78,,PSS-78,,UMOL/KG,,UMOL/KG,,UMOL/KG,,UMOL/KG,,UMOL/KG,,UMOL/KG,,UMOL/KG,,PMOL/KG,,PMOL/KG,,PMOL/KG,,FMOL/KG,,UMOL/KG,,UMOL/KG,,UMOL/KG,,UG/L,,1/M,,1/M,,1/M,,,
  49NZ20191229,  I07S,    93,  1,     36,   1236,2,  200106,1642,-38.2560,  57.6553, 5347,     10.2,  17.2730,  17.2771,2,  35.5103,2,  35.5070,2,    262.2,2,    262.0,2,     0.62,2,     0.00,2,     0.00,2,     0.12,2,     0.03,2,    2.440,2,    1.440,2,    0.200,2,    2.281,2,   2060.7,2,   2335.7,2,     64.9,2,     0.54,2,   0.2970,2,   0.1930,2,   0.0250,2,  17.2771,2
  49NZ20191229,  I07S,    93,  1,     35,   1235,2,  200106,1642,-38.2560,  57.6553, 5347,     50.5,  15.2462,  15.2468,2,  35.4246,2,  35.4235,2,    251.3,2,    250.1,2,     0.97,2,     1.28,2,     0.20,2,     0.23,2,     0.34,2,    2.524,2,    1.494,2,    0.205,2,     2.38,2,   2077.6,2,   2326.6,2,     59.6,2,     1.30,2,   0.2550,2,   0.1450,2,   0.0220,2,  15.2468,2
  49NZ20191229,  I07S,    93,  1,     34,   1234,2,  200106,1642,-38.2560,  57.6553, 5347,    100.1,  15.0258,  15.0260,2,  35.4444,2,  35.4418,2,    240.1,2,    240.0,2,     2.33,2,     3.52,2,     0.38,2,     0.36,2,     0.04,2,    2.560,2,    1.499,2,    0.196,2,    2.366,2,   2090.3,2,   2324.5,2,     54.9,2,     0.18,2,   0.2190,2,   0.1180,2,   0.0150,2,  15.0260,2
  49NZ20191229,  I07S,    93,  1,     33,   1233,2,  200106,1642,-38.2560,  57.6553, 5347,    150.6,  14.7068,  14.7068,2,  35.4509,2,  35.4509,2,    240.8,2,    239.9,2,     2.73,2,     4.27,2,     0.03,2,     0.38,2,     0.04,2,    2.569,2,    1.510,2,    0.196,2,    2.332,2,   2093.7,2,   2325.3,2,     55.4,2,     0.03,2,   0.2050,2,   0.1170,2,   0.0150,2,  14.7068,2
  49NZ20191229,  I07S,    93,  1,     32,   1232,2,  200106,1642,-38.2560,  57.6553, 5347,    198.5,  14.2073,  14.2073,2,  35.3461,2,  35.3460,2,    226.9,2,    226.2,2,     3.45,2,     7.07,2,     0.06,2,     0.54,2,     0.04,2,    2.672,2,    1.565,2,    0.119,2,     2.16,2,   2110.5,2,   2320.6,2,     53.3,2,     0.02,2,   0.2170,2,   0.1230,2,   0.0180,2,  14.2073,2
  49NZ20191229,  I07S,    93,  1,     31,   1231,2,  200106,1642,-38.2560,  57.6553, 5347,    249.0,  14.1426,  14.1435,2,  35.3649,2,  35.3643,2,    242.3,2,    241.4,2,     2.88,2,     5.41,2,     0.03,2,     0.46,2,     0.04,2,    2.688,2,    1.579,2,    0.199,2,    2.522,2,   2098.2,2,   2320.7,2,     49.6,2,     0.02,2,-999.0000,9,-999.0000,9,-999.0000,9,  14.1435,2
  49NZ20191229,  I07S,    93,  1,     30,   1230,2,  200106,1642,-38.2560,  57.6553, 5347,    300.7,  13.9540,  13.9538,2,  35.3488,2,  35.3486,2,    237.9,2,    237.2,2,     3.30,2,     6.72,2,     0.03,2,     0.52,2,     0.05,2,    2.701,2,    1.576,2,    0.168,2,    2.387,2,   2109.2,2,   2321.1,2,     48.9,2,  -999.00,9,   0.2020,2,   0.1100,2,   0.0180,2,  13.9538,2
  49NZ20191229,  I07S,    93,  1,     29,   1229,2,  200106,1642,-38.2560,  57.6553, 5347,    400.7,  13.4268,  13.4267,2,  35.2861,2,  35.2856,2,    240.2,2,    239.5,2,     3.44,2,     7.61,2,     0.02,2,     0.58,2,     0.03,2,    2.783,2,    1.605,2,    0.163,2,    2.336,2,   2112.2,2,   2319.1,2,     43.9,2,  -999.00,9,   0.1970,2,   0.1080,2,   0.0180,2,  13.4267,2
  49NZ20191229,  I07S,    93,  1,     28,   1228,2,  200106,1642,-38.2560,  57.6553, 5347,    499.8,  12.8583,  12.8590,2,  35.1929,2,  35.1925,2,    234.1,2,    233.4,2,     3.82,2,     9.09,2,     0.01,2,     0.68,2,     0.02,2,    2.891,2,    1.677,2,    0.127,2,     2.13,2,   2112.0,2,   2313.3,2,     44.2,2,  -999.00,9,   0.1980,2,   0.1100,2,   0.0180,2,  12.8590,2
  49NZ20191229,  I07S,    93,  1,     27,   1227,2,  200106,1642,-38.2560,  57.6553, 5347,    599.8,  12.1680,  12.1679,2,  35.0841,2,  35.0838,2,    237.3,2,    236.9,2,     4.10,2,    10.39,2,     0.01,2,     0.76,2,     0.04,2,    3.009,2,    1.714,2,    0.150,2,    2.172,2,   2117.7,2,   2311.1,2,     46.5,2,  -999.00,9,   0.1910,2,   0.1040,2,   0.0140,2,  12.1679,2
  49NZ20191229,  I07S,    93,  1,     26,   1226,2,  200106,1642,-38.2560,  57.6553, 5347,    700.4,  11.1645,  11.1657,2,  34.9383,2,  34.9370,2,    219.6,2,    219.6,2,     5.49,2,    14.06,2,     0.01,2,     0.99,2,     0.04,2,    3.191,2,    1.787,2,    0.095,2,     1.74,2,   2129.6,6,   2302.6,2,     45.3,2,  -999.00,9,-999.0000,9,-999.0000,9,-999.0000,9,  11.1657,2
  49NZ20191229,  I07S,    93,  1,     25,   1225,2,  200106,1642,-38.2560,  57.6553, 5347,    800.0,   9.6393,   9.6400,2,  34.7389,2,  34.7389,2,    214.1,2,    214.0,2,     8.39,2,    18.31,2,     0.01,2,     1.25,2,     0.06,2,    3.266,2,    1.765,2,    0.108,2,    1.526,2,   2135.0,2,   2295.7,2,     44.2,2,  -999.00,9,   0.1980,2,   0.1100,2,   0.0180,2,   9.6400,2
  49NZ20191229,  I07S,    93,  1,     24,   1224,2,  200106,1642,-38.2560,  57.6553, 5347,    900.4,   8.0623,   8.0625,2,  34.5759,2,  34.5754,2,    207.4,2,    207.0,2,    13.63,2,    22.65,2,     0.00,2,     1.54,2,     0.04,2,    3.136,2,    1.660,2,    0.128,2,    1.298,2,   2165.5,2,   2289.9,2,     40.6,2,  -999.00,9,-999.0000,9,-999.0000,9,-999.0000,9,   8.0625,2
  49NZ20191229,  I07S,    93,  1,     23,   1223,2,  200106,1642,-38.2560,  57.6553, 5347,    999.5,   6.9253,   6.9231,2,  34.4910,2,  34.4914,2,    205.1,2,    204.8,2,    18.86,2,    25.54,2,     0.01,2,     1.73,2,     0.05,2,    2.979,2,    1.540,2,    0.131,2,    1.169,2,   2175.8,2,   2292.2,2,     46.3,2,  -999.00,9,   0.2110,2,   0.1150,2,   0.0140,2,   6.9231,2
  49NZ20191229,  I07S,    93,  1,     22,   1222,2,  200106,1642,-38.2560,  57.6553, 5347,   1200.1,   4.9680,   4.9681,2,  34.3864,2,  34.3864,2,    201.7,2,    201.1,2,    31.97,2,    29.87,2,     0.01,2,     2.04,2,     0.05,2,    2.490,2,    1.284,2,    0.139,2,      0.9,2,   2192.3,2,   2299.6,6,     41.2,2,  -999.00,9,-999.0000,9,-999.0000,9,-999.0000,9,   4.9681,2
  49NZ20191229,  I07S,    93,  1,     21,   1221,2,  200106,1642,-38.2560,  57.6553, 5347,   1401.1,   4.0721,   4.0722,2,  34.4291,2,  34.4291,2,    184.9,2,    184.5,2,    46.66,2,    32.62,2,     0.00,2,     2.22,2,     0.04,2,    1.626,2,    0.859,2,    0.102,2,    0.514,2,   2217.5,2,   2312.6,2,     39.0,2,  -999.00,9,   0.2510,2,   0.1350,2,   0.0200,2,   4.0722,2
  49NZ20191229,  I07S,    93,  1,     20,   1220,2,  200106,1642,-38.2560,  57.6553, 5347,   1599.5,   3.3228,   3.3230,2,  34.4972,2,  34.5005,3,    176.3,2,    175.8,2,    59.43,2,    33.88,2,     0.00,2,     2.30,2,     0.04,2,    0.937,2,    0.524,2,    0.061,2,    0.268,2,   2235.3,2,   2322.4,2,     37.6,2,  -999.00,9,-999.0000,9,-999.0000,9,-999.0000,9,   3.3230,2
  49NZ20191229,  I07S,    93,  1,     19,   1219,2,  200106,1642,-38.2560,  57.6553, 5347,   1798.9,   2.9768,   2.9782,2,  34.5904,2,  34.5907,2,    174.3,2,    173.9,2,    66.83,2,    33.44,2,     0.00,2,     2.27,2,     0.02,2,    0.478,2,    0.296,2,    0.033,2,     0.16,2,   2242.5,2,   2331.7,2,     36.4,2,  -999.00,9,   0.2640,2,   0.1470,2,   0.0230,2,   2.9782,2
  49NZ20191229,  I07S,    93,  1,     18,   1218,2,  200106,1642,-38.2560,  57.6553, 5347,   1999.5,   2.7401,   2.7400,2,  34.6541,2,  34.6547,2,    178.9,2,    178.8,2,    70.18,2,    32.62,2,     0.00,2,     2.20,2,     0.03,2,    0.295,2,    0.193,2,    0.018,2,    0.056,2,   2241.7,2,   2336.9,2,     39.7,2,  -999.00,9,-999.0000,9,-999.0000,9,-999.0000,9,   2.7400,2
  49NZ20191229,  I07S,    93,  1,     17,   1217,2,  200106,1642,-38.2560,  57.6553, 5347,   2200.1,   2.5695,   2.5697,2,  34.7034,2,  34.7036,2,    184.8,2,    184.7,2,    72.50,2,    31.66,2,     0.00,2,     2.13,2,     0.04,2,    0.200,2,    0.134,2,    0.014,2,    0.067,2,   2239.1,2,   2340.8,2,     35.0,2,  -999.00,9,   0.2760,2,   0.1540,2,   0.0220,2,   2.5697,2
  49NZ20191229,  I07S,    93,  1,     16,   1216,2,  200106,1642,-38.2560,  57.6553, 5347,   2400.4,   2.4110,   2.4110,2,  34.7327,2,  34.7333,2,    189.7,2,    189.4,2,    76.58,2,    30.98,2,     0.00,2,     2.08,2,     0.04,2,    0.130,2,    0.090,2,    0.009,2,    0.038,2,   2240.0,6,   2347.7,2,     39.0,2,  -999.00,9,-999.0000,9,-999.0000,9,-999.0000,9,   2.4110,2
  49NZ20191229,  I07S,    93,  1,     15,   1215,2,  200106,1642,-38.2560,  57.6553, 5347,   2600.2,   2.2319,   2.2319,2,  34.7422,2,  34.7418,2,    190.1,2,    189.6,2,    85.61,2,    31.02,2,     0.01,2,     2.11,2,     0.04,2,    0.083,2,    0.058,2,    0.010,2,    0.002,2,   2243.9,2,   2351.1,2,     40.3,2,  -999.00,9,   0.2920,2,   0.1760,2,   0.0290,2,   2.2319,2
  49NZ20191229,  I07S,    93,  1,     14,   1214,2,  200106,1642,-38.2560,  57.6553, 5347,   2800.1,   2.0556,   2.0553,2,  34.7434,2,  34.7430,2,    188.6,2,    188.2,2,    94.52,2,    31.36,2,     0.00,2,     2.14,2,     0.03,2,    0.061,2,    0.043,2,    0.007,2,    0.016,2,   2257.7,2,   2362.2,2,     37.7,2,  -999.00,9,-999.0000,9,-999.0000,9,-999.0000,9,   2.0553,2
  49NZ20191229,  I07S,    93,  1,     13,   1213,2,  200106,1642,-38.2560,  57.6553, 5347,   3000.5,   1.9300,   1.9298,2,  34.7458,2,  34.7459,2,    191.6,2,    191.4,2,    96.63,2,    31.27,2,     0.00,2,     2.13,2,     0.05,2,    0.067,2,    0.046,2,    0.008,2,    0.012,2,   2255.0,2,   2363.3,2,     40.2,2,  -999.00,9,   0.2790,2,   0.1620,2,   0.0260,2,   1.9298,2
  49NZ20191229,  I07S,    93,  1,     12,   1212,2,  200106,1642,-38.2560,  57.6553, 5347,   3248.3,   1.7405,   1.7415,2,  34.7440,2,  34.7442,2,    196.1,2,    196.2,2,   100.25,2,    31.35,2,     0.00,2,     2.13,2,     0.04,2,    0.080,2,    0.056,2,    0.005,2,    0.017,2,   2254.7,2,   2364.6,6,     44.8,2,  -999.00,9,-999.0000,9,-999.0000,9,-999.0000,9,   1.7415,2
  49NZ20191229,  I07S,    93,  1,     11,   1211,2,  200106,1642,-38.2560,  57.6553, 5347,   3500.3,   1.5192,   1.5192,2,  34.7360,2,  34.7361,2,    200.8,2,    200.8,2,   104.66,2,    31.38,2,     0.00,2,     2.13,2,     0.04,2,    0.103,2,    0.073,2,    0.004,2,    0.026,2,   2253.4,2,   2362.0,2,     41.6,2,  -999.00,9,   0.2740,2,   0.1530,2,   0.0220,2,   1.5192,2
  49NZ20191229,  I07S,    93,  1,     10,   1210,2,  200106,1642,-38.2560,  57.6553, 5347,   3750.0,   1.2879,   1.2878,2,  34.7267,2,  34.7269,2,    206.0,2,    205.9,2,   108.69,2,    31.65,2,     0.00,2,     2.14,2,     0.02,2,    0.144,2,    0.099,2,    0.009,2,     0.01,2,   2251.1,2,   2360.8,2,     41.0,2,  -999.00,9,-999.0000,9,-999.0000,9,-999.0000,9,   1.2878,2
  49NZ20191229,  I07S,    93,  1,      9,   1209,2,  200106,1642,-38.2560,  57.6553, 5347,   4001.5,   0.9645,   0.9645,2,  34.7095,2,  34.7091,2,    210.4,2,    210.2,2,   117.77,2,    32.18,2,     0.00,2,     2.18,2,     0.02,2,    0.175,2,    0.119,2,    0.012,2,    0.044,2,   2253.6,2,   2359.9,2,     42.0,2,  -999.00,9,   0.2740,2,   0.1500,2,   0.0230,2,   0.9645,2
  49NZ20191229,  I07S,    93,  1,      8,  12103,2,  200106,1642,-38.2560,  57.6553, 5347,   4251.9,   0.7131,   0.7130,2,  34.6959,2,  34.6961,2,    214.4,2,    214.2,2,   125.43,2,    32.61,2,     0.00,2,     2.21,2,     0.01,2,    0.199,2,    0.133,2,    0.016,2,    0.036,2,   -999.0,9,   2360.1,2,     39.3,2,  -999.00,9,-999.0000,9,-999.0000,9,-999.0000,9,   0.7130,2
  49NZ20191229,  I07S,    93,  1,      7,   1207,2,  200106,1642,-38.2560,  57.6553, 5347,   4501.7,   0.5530,   0.5527,2,  34.6868,2,  34.6864,2,    217.4,2,    217.2,2,   130.96,2,    32.94,2,     0.00,2,     2.24,2,     0.02,2,    0.236,2,    0.155,2,    0.018,2,    0.031,2,   -999.0,9,   2360.3,2,     39.9,2,  -999.00,9,   0.2860,2,   0.1580,2,   0.0250,2,   0.5527,2
  49NZ20191229,  I07S,    93,  1,      6,   1206,2,  200106,1642,-38.2560,  57.6553, 5347,   4749.0,   0.5114,   0.5114,2,  34.6834,2,  34.6836,2,    218.5,2,    218.3,2,   132.79,2,    32.95,2,     0.00,2,     2.24,2,     0.02,2,    0.245,2,    0.160,2,    0.018,2,    0.053,2,   -999.0,9,   2358.9,6,     40.1,2,  -999.00,9,-999.0000,9,-999.0000,9,-999.0000,9,   0.5114,2
  49NZ20191229,  I07S,    93,  1,      5,   1205,2,  200106,1642,-38.2560,  57.6553, 5347,   4999.5,   0.5001,   0.5000,2,  34.6813,2,  34.6816,2,    219.1,2,    218.9,2,   134.60,2,    33.09,2,     0.00,2,     2.25,2,     0.02,2,    0.252,2,    0.165,2,    0.020,2,    0.019,2,   -999.0,9,   2358.7,2,     40.6,2,  -999.00,9,   0.2800,2,   0.1500,2,   0.0250,2,   0.5000,2
  49NZ20191229,  I07S,    93,  1,      4,   1204,2,  200106,1642,-38.2560,  57.6553, 5347,   5249.4,   0.5013,   0.5013,2,  34.6800,2,  34.6805,2,    219.4,2,    219.3,2,   135.95,2,    33.18,2,     0.00,2,     2.26,2,     0.02,2,    0.253,2,    0.164,2,    0.014,2,    0.025,2,   -999.0,9,   2362.5,2,     42.6,2,  -999.00,9,   0.2500,2,   0.1270,2,   0.0180,2,   0.5013,2
  49NZ20191229,  I07S,    93,  1,      2,  12046,2,  200106,1642,-38.2560,  57.6553, 5347,     24.8,  15.7514,  15.7516,2,  35.4678,2,  35.4679,2,    268.5,2,    266.0,2,     1.22,2,     0.51,2,     0.03,2,     0.16,2,     0.08,2, -999.000,9, -999.000,9, -999.000,9,     -999,9,   2064.4,2,   2330.1,2,     59.3,2,     1.59,2,   0.2420,2,   0.1380,2,   0.0220,2,  15.7516,2
  49NZ20191229,  I07S,    93,  1,      1,   1201,2,  200106,1642,-38.2560,  57.6553, 5347,   5428.8,   0.5230,   0.5231,2,  34.6800,2,  34.6802,2,    219.5,2,    219.3,2,   135.64,2,    32.97,2,     0.01,2,     2.25,2,     0.03,2,    0.249,2,    0.162,2,    0.022,2,    0.043,2,   2258.0,2,   2360.9,2,     44.1,2,  -999.00,9,   0.2520,2,   0.1280,2,   0.0190,2,   0.5231,2