BOTTLE,20210310PRINUNIVRMK
EXPOCODE,SECT_ID,STNNBR,CASTNO,SAMPNO,BTLNBR,BTLNBR_FLAG_W,DATE,TIME,LATITUDE,LONGITUDE,DEPTH,CTDPRS,CTDTMP,SBE35,SBE35_FLAG_W,CTDSAL,CTDSAL_FLAG_W,SALNTY,SALNTY_FLAG_W,CTDOXY,CTDOXY_FLAG_W,OXYGEN,OXYGEN_FLAG_W,SILCAT,SILCAT_FLAG_W,NITRAT,NITRAT_FLAG_W,NITRIT,NITRIT_FLAG_W,PHSPHT,PHSPHT_FLAG_W,NH4,NH4_FLAG_W,CFC-11,CFC-11_FLAG_W,CFC-12,CFC-12_FLAG_W,CFC113,CFC113_FLAG_W,SF6,SF6_FLAG_W,TCARBN,TCARBN_FLAG_W,ALKALI,ALKALI_FLAG_W,DOC,DOC_FLAG_W,CHLORA,CHLORA_FLAG_W,CDOM300,CDOM300_FLAG_W,CDOM325,CDOM325_FLAG_W,CDOM443,CDOM443_FLAG_W,SBE35,SBE35_FLAG_W
,,,,,,,,,,,METERS,DBAR,ITS-90,,,PSS-78,,PSS-78,,UMOL/KG,,UMOL/KG,,UMOL/KG,,UMOL/KG,,UMOL/KG,,UMOL/KG,,UMOL/KG,,PMOL/KG,,PMOL/KG,,PMOL/KG,,FMOL/KG,,UMOL/KG,,UMOL/KG,,UMOL/KG,,UG/L,,1/M,,1/M,,1/M,,,
  49NZ20191229,  I07S,    78,  1,     36,   1236,2,  200102,1542,-32.1499,  57.2501, 2918,     10.0,  20.5853,  20.5822,2,  35.6494,2,  35.6484,2,    226.0,2,    227.8,2,     1.23,2,     0.00,2,     0.00,2,     0.09,2,     0.06,2,    2.027,2,    1.252,2,    0.172,2,    2.098,2,   2075.4,2,   2340.7,2,     66.1,2,     0.06,2,   0.1700,2,   0.0790,2,   0.0090,2,  20.5822,2
  49NZ20191229,  I07S,    78,  1,     35,   1235,2,  200102,1542,-32.1499,  57.2501, 2918,     50.1,  19.1523,  19.1516,2,  35.6477,2,  35.6474,2,    235.8,2,    237.3,2,     1.26,2,     0.01,2,     0.01,2,     0.09,2,     0.04,2,    2.131,2,    1.319,2,    0.188,2,    2.105,2,   2072.0,2,   2338.7,2,     66.9,2,     0.07,2,   0.1980,2,   0.0940,2,   0.0100,2,  19.1516,2
  49NZ20191229,  I07S,    78,  1,     34,   1234,2,  200102,1542,-32.1499,  57.2501, 2918,    101.7,  16.2747,  16.2747,2,  35.5060,2,  35.5060,2,    250.0,2,    250.6,2,     1.64,2,     0.09,2,     0.02,2,     0.16,2,     0.02,2,    2.451,2,    1.485,2,    0.183,2,    2.306,2,   2083.2,2,   2330.7,2,     63.4,2,     0.44,2,   0.2880,2,   0.1600,2,   0.0200,2,  16.2747,2
  49NZ20191229,  I07S,    78,  1,     33,   1233,2,  200102,1542,-32.1499,  57.2501, 2918,    151.1,  14.5597,  14.5602,2,  35.4091,2,  35.4095,2,    228.2,2,    228.8,2,     2.66,2,     5.22,2,     0.02,2,     0.46,2,     0.03,2,    2.597,2,    1.559,2,    0.134,2,    2.242,2,   2111.7,2,   2323.9,2,     59.0,2,     0.12,2,   0.2120,2,   0.1120,2,   0.0140,2,  14.5602,2
  49NZ20191229,  I07S,    78,  1,     32,   1232,2,  200102,1542,-32.1499,  57.2501, 2918,    199.4,  14.0938,  14.0936,2,  35.3638,2,  35.3633,2,    227.5,2,    228.1,2,     3.03,2,     6.56,2,     0.02,2,     0.53,2,     0.08,2,    2.647,2,    1.595,2,    0.107,2,    2.293,2,   2117.4,2,   2318.1,2,     54.9,2,     0.02,2,   0.2280,2,   0.1240,2,   0.0180,2,  14.0936,2
  49NZ20191229,  I07S,    78,  1,     31,   1231,2,  200102,1542,-32.1499,  57.2501, 2918,    249.6,  13.7340,  13.7344,2,  35.3212,2,  35.3228,2,    226.9,2,    227.3,2,     3.26,2,     7.39,2,     0.01,2,     0.58,2,     0.05,2,    2.715,2,    1.612,2,    0.097,2,    2.283,2,   2119.4,2,   2318.4,2,     49.1,2,     0.01,2,-999.0000,9,-999.0000,9,-999.0000,9,  13.7344,2
  49NZ20191229,  I07S,    78,  1,     30,   1230,2,  200102,1542,-32.1499,  57.2501, 2918,    331.0,  13.1564,  13.1579,2,  35.2473,2,  35.2472,2,    229.3,2,    229.9,2,     3.48,2,     8.54,2,     0.01,2,     0.65,2,     0.06,2,    2.794,2,    1.659,2,    0.088,2,    2.183,2,   2119.3,2,   2319.3,2,     49.5,2,  -999.00,9,   0.2020,2,   0.1090,2,   0.0180,2,  13.1579,2
  49NZ20191229,  I07S,    78,  1,     29,   1229,2,  200102,1542,-32.1499,  57.2501, 2918,    430.7,  12.4307,  12.4307,2,  35.1378,2,  35.1375,2,    229.7,2,    230.4,2,     3.85,2,    10.24,2,     0.01,2,     0.76,2,     0.04,2,    2.963,2,    1.726,2,    0.098,2,    2.141,2,   2125.1,2,   2316.3,2,     52.2,2,  -999.00,9,   0.1820,2,   0.0930,2,   0.0100,2,  12.4307,2
  49NZ20191229,  I07S,    78,  1,     28,   1228,2,  200102,1542,-32.1499,  57.2501, 2918,    530.9,  11.5025,  11.5040,2,  34.9902,2,  34.9921,2,    225.2,2,    225.6,2,     4.61,2,    12.80,2,     0.01,2,     0.92,2,     0.04,2,    3.141,2,    1.790,2,    0.098,2,    1.974,2,   2134.5,2,   2308.7,2,     45.1,2,  -999.00,9,   0.1880,2,   0.0970,2,   0.0090,2,  11.5040,2
  49NZ20191229,  I07S,    78,  1,     27,   1227,2,  200102,1542,-32.1499,  57.2501, 2918,    630.6,  10.3738,  10.3750,2,  34.8282,2,  34.8278,2,    220.1,2,    220.7,2,     6.03,2,    15.80,2,     0.01,2,     1.11,2,     0.05,2,    3.264,2,    1.819,2,    0.106,2,    1.689,2,   2136.9,2,   2301.0,2,     44.2,2,  -999.00,9,   0.1900,2,   0.0940,2,   0.0090,2,  10.3750,2
  49NZ20191229,  I07S,    78,  1,     26,   1226,2,  200102,1542,-32.1499,  57.2501, 2918,    728.9,   9.1402,   9.1399,2,  34.6799,2,  34.6795,2,    213.0,2,    213.5,2,     9.03,2,    19.42,2,     0.01,2,     1.34,2,     0.04,2,    3.242,2,    1.761,2,    0.110,2,    1.425,2,   2151.2,6,   2294.6,2,     42.4,2,  -999.00,9,-999.0000,9,-999.0000,9,-999.0000,9,   9.1399,2
  49NZ20191229,  I07S,    78,  1,     25,   1225,2,  200102,1542,-32.1499,  57.2501, 2918,    828.4,   8.0556,   8.0578,2,  34.5751,2,  34.5754,2,    207.1,2,    207.9,2,    12.97,2,    22.48,2,     0.00,2,     1.54,2,     0.01,2,    3.108,2,    1.648,2,    0.110,2,    1.202,2,   2167.5,2,   2289.2,2,     41.9,2,  -999.00,9,   0.2280,2,   0.1180,2,   0.0160,2,   8.0578,2
  49NZ20191229,  I07S,    78,  1,     24,   1224,2,  200102,1542,-32.1499,  57.2501, 2918,    930.2,   6.3548,   6.3676,2,  34.4390,2,  34.4374,2,    204.1,2,    204.6,2,    20.63,2,    26.80,2,     0.01,2,     1.82,2,     0.04,2,    2.820,2,    1.472,2,    0.130,2,    0.867,2,   2179.3,2,   2293.4,2,     41.5,2,  -999.00,9,-999.0000,9,-999.0000,9,-999.0000,9,   6.3676,2
  49NZ20191229,  I07S,    78,  1,     23,   1223,2,  200102,1542,-32.1499,  57.2501, 2918,   1071.3,   4.8593,   4.8591,2,  34.3769,2,  34.3765,2,    199.9,2,    199.9,2,    31.94,2,    30.19,2,     0.01,2,     2.06,2,     0.01,2,    2.331,2,    1.189,2,    0.128,2,    0.699,2,   2199.7,2,   2299.2,2,     37.6,2,  -999.00,9,   0.2360,2,   0.1180,2,   0.0160,2,   4.8591,2
  49NZ20191229,  I07S,    78,  1,     22,   1222,2,  200102,1542,-32.1499,  57.2501, 2918,   1269.2,   3.7580,   3.7585,2,  34.4268,2,  34.4263,2,    183.4,2,    183.4,2,    31.89,2,    30.14,2,     0.01,2,     2.06,2,     0.01,2,    1.022,2,    0.538,2,    0.063,2,    0.298,2,   2226.7,2,   2314.8,6,     40.0,2,  -999.00,9,-999.0000,9,-999.0000,9,-999.0000,9,   3.7585,2
  49NZ20191229,  I07S,    78,  1,     21,   1221,2,  200102,1542,-32.1499,  57.2501, 2918,   1470.3,   3.3395,   3.3395,2,  34.4862,2,  34.4863,2,    174.9,2,    175.2,2,    59.48,2,    33.70,2,     0.01,2,     2.32,2,     0.03,2,    0.836,2,    0.443,2,    0.052,2,    0.202,2,   2241.8,2,   2324.7,2,     39.8,2,  -999.00,9,   0.2640,2,   0.1390,2,   0.0180,2,   3.3395,2
  49NZ20191229,  I07S,    78,  1,     20,   1220,2,  200102,1542,-32.1499,  57.2501, 2918,   1669.9,   2.8081,   2.8084,2,  34.6017,2,  34.6012,2,    171.9,2,    172.1,2,    72.46,2,    33.25,2,     0.00,2,     2.29,2,     0.04,2,    0.304,2,    0.172,2,    0.016,2,    0.037,2,   2252.4,2,   2337.0,2,     42.3,2,  -999.00,9,-999.0000,9,-999.0000,9,-999.0000,9,   2.8084,2
  49NZ20191229,  I07S,    78,  1,     19,   1219,2,  200102,1542,-32.1499,  57.2501, 2918,   1869.0,   2.5538,   2.5538,2,  34.6634,2,  34.6628,2,    176.1,2,    176.3,2,    79.46,2,    32.53,2,     0.01,2,     2.24,2,     0.04,2,    0.163,2,    0.094,2,    0.007,2,     0.04,2,   2255.1,2,   2346.5,2,     39.4,2,  -999.00,9,   0.2790,2,   0.1510,2,   0.0180,2,   2.5538,2
  49NZ20191229,  I07S,    78,  1,     18,   1218,2,  200102,1542,-32.1499,  57.2501, 2918,   2069.9,   2.3872,   2.3873,2,  34.6995,2,  34.7000,2,    179.0,2,    179.2,2,    86.16,2,    32.06,2,     0.01,2,     2.21,2,     0.05,2,    0.097,2,    0.056,2,    0.006,2,    0.036,2,   2258.6,2,   2357.2,2,     38.3,2,  -999.00,9,-999.0000,9,-999.0000,9,-999.0000,9,   2.3873,2
  49NZ20191229,  I07S,    78,  1,     17,   1217,2,  200102,1542,-32.1499,  57.2501, 2918,   2270.8,   2.2757,   2.2759,2,  34.7208,2,  34.7205,2,    181.5,2,    181.6,2,    90.01,2,    31.74,2,     0.00,2,     2.19,2,     0.05,2,    0.072,2,    0.041,2,    0.003,2,    0.007,2,   2260.4,2,   2360.3,2,     41.6,2,  -999.00,9,   0.2720,2,   0.1470,2,   0.0200,2,   2.2759,2
  49NZ20191229,  I07S,    78,  1,     16,   1216,2,  200102,1542,-32.1499,  57.2501, 2918,   2469.2,   2.1304,   2.1308,2,  34.7326,2,  34.7320,2,    184.8,2,    184.9,2,    93.26,2,    31.45,2,     0.01,2,     2.18,2,     0.05,2,    0.066,2,    0.035,2,    0.006,2,    0.008,2,   2262.4,6,   2363.2,2,     40.0,2,  -999.00,9,-999.0000,9,-999.0000,9,-999.0000,9,   2.1308,2
  49NZ20191229,  I07S,    78,  1,     15,   1215,2,  200102,1542,-32.1499,  57.2501, 2918,   2671.2,   1.9557,   1.9559,2,  34.7364,2,  34.7363,2,    188.2,2,    188.3,2,    97.44,2,    31.49,2,     0.01,2,     2.17,2,     0.03,2,    0.074,2,    0.040,2,    0.002,2,    0.022,2,   2262.2,2,   2365.1,2,     39.4,2,  -999.00,9,   0.2700,2,   0.1450,2,   0.0190,2,   1.9559,2
  49NZ20191229,  I07S,    78,  1,     14,   1214,2,  200102,1542,-32.1499,  57.2501, 2918,   2869.5,   1.8268,   1.8272,2,  34.7374,2,  34.7370,2,    189.7,2,    189.6,2,   101.97,2,    31.73,2,     0.00,2,     2.18,2,     0.02,2,    0.074,2,    0.040,2,    0.002,2,    0.006,2,   2268.1,2,   2366.9,2,     41.4,2,  -999.00,9,-999.0000,9,-999.0000,9,-999.0000,9,   1.8272,2
  49NZ20191229,  I07S,    78,  1,      2,  12046,2,  200102,1542,-32.1499,  57.2501, 2918,     88.3,  17.2033,  17.2080,2,  35.5466,2,  35.5488,2,    250.5,2,    250.7,2,     1.46,2,     0.01,2,     0.01,2,     0.13,2,     0.03,2, -999.000,9, -999.000,9, -999.000,9,     -999,9,   2076.3,2,   2332.9,2,    575.0,4,     0.18,2,   0.3010,2,   0.1680,2,   0.0210,2,  17.2080,2
  49NZ20191229,  I07S,    78,  1,      1,   1201,2,  200102,1542,-32.1499,  57.2501, 2918,   2944.0,   1.7757,   1.7758,2,  34.7363,2,  34.7360,2,    191.0,2,    191.1,2,   102.61,2,    31.60,2,     0.00,2,     2.18,2,     0.01,2,    0.081,2,    0.042,2,    0.003,2,    0.022,2,   2267.8,2,   2365.7,2,     43.5,2,  -999.00,9,   0.2730,2,   0.1510,2,   0.0210,2,   1.7758,2