BOTTLE,20210310PRINUNIVRMK
EXPOCODE,SECT_ID,STNNBR,CASTNO,SAMPNO,BTLNBR,BTLNBR_FLAG_W,DATE,TIME,LATITUDE,LONGITUDE,DEPTH,CTDPRS,CTDTMP,SBE35,SBE35_FLAG_W,CTDSAL,CTDSAL_FLAG_W,SALNTY,SALNTY_FLAG_W,CTDOXY,CTDOXY_FLAG_W,OXYGEN,OXYGEN_FLAG_W,SILCAT,SILCAT_FLAG_W,NITRAT,NITRAT_FLAG_W,NITRIT,NITRIT_FLAG_W,PHSPHT,PHSPHT_FLAG_W,NH4,NH4_FLAG_W,CFC-11,CFC-11_FLAG_W,CFC-12,CFC-12_FLAG_W,CFC113,CFC113_FLAG_W,SF6,SF6_FLAG_W,TCARBN,TCARBN_FLAG_W,ALKALI,ALKALI_FLAG_W,DOC,DOC_FLAG_W,CHLORA,CHLORA_FLAG_W,CDOM300,CDOM300_FLAG_W,CDOM325,CDOM325_FLAG_W,CDOM443,CDOM443_FLAG_W,SBE35,SBE35_FLAG_W
,,,,,,,,,,,METERS,DBAR,ITS-90,,,PSS-78,,PSS-78,,UMOL/KG,,UMOL/KG,,UMOL/KG,,UMOL/KG,,UMOL/KG,,UMOL/KG,,UMOL/KG,,PMOL/KG,,PMOL/KG,,PMOL/KG,,FMOL/KG,,UMOL/KG,,UMOL/KG,,UMOL/KG,,UG/L,,1/M,,1/M,,1/M,,,
  49NZ20191229,  I07S,    89,  1,     36,   1236,2,  200105,1740,-36.3336,  57.5421, 4421,     10.0,  16.9751,  16.9753,2,  35.4306,2,  35.4307,2,    253.3,2,    253.2,2,     0.30,2,     0.21,2,     0.01,2,     0.13,2,     0.05,2,    2.487,2,    1.451,2,    0.212,2,    2.354,2,   2067.1,2,   2331.5,2,   -999.0,9,     0.21,2,   0.2670,2,   0.1490,2,   0.0140,2,  16.9753,2
  49NZ20191229,  I07S,    89,  1,     35,   1235,2,  200105,1740,-36.3336,  57.5421, 4421,     49.9,  15.8500,  15.8539,2,  35.4275,2,  35.4282,2,    258.0,2,    257.0,2,     0.27,2,     0.04,2,     0.01,2,     0.14,2,     0.04,2,    2.567,2,    1.493,2,    0.220,2,    2.411,2,   2076.7,2,   2329.0,2,   -999.0,9,     0.52,2,   0.2560,2,   0.1430,2,   0.0170,2,  15.8539,2
  49NZ20191229,  I07S,    89,  1,     34,   1234,2,  200105,1740,-36.3336,  57.5421, 4421,    100.4,  14.2826,  14.2832,2,  35.3959,2,  35.3954,2,    242.3,2,    241.6,2,     3.22,2,     4.83,2,     0.02,2,     0.43,2,     0.03,2,    2.707,2,    1.568,2,    0.215,2,     2.43,2,   2104.3,2,   2323.2,2,   -999.0,9,     0.08,2,   0.1910,2,   0.0960,2,   0.0120,2,  14.2832,2
  49NZ20191229,  I07S,    89,  1,     33,   1233,2,  200105,1740,-36.3336,  57.5421, 4421,    151.0,  14.1834,  14.1838,2,  35.3945,2,  35.3945,2,    243.0,2,    242.1,2,     3.26,2,     5.21,2,     0.03,2,     0.45,2,     0.03,2,    2.721,2,    1.572,2,    0.208,2,    2.389,2,   2106.3,2,   2324.0,2,   -999.0,9,     0.03,2,   0.1820,2,   0.0910,2,   0.0090,2,  14.1838,2
  49NZ20191229,  I07S,    89,  1,     32,   1232,2,  200105,1740,-36.3336,  57.5421, 4421,    199.7,  14.0615,  14.0616,2,  35.3959,2,  35.3954,2,    242.9,2,    242.1,2,     3.35,2,     5.75,2,     0.03,2,     0.47,2,     0.03,2,    2.702,2,    1.568,2,    0.204,2,    2.411,2,   2108.7,2,   2321.7,2,   -999.0,9,     0.02,2,   0.1960,2,   0.1000,2,   0.0120,2,  14.0616,2
  49NZ20191229,  I07S,    89,  1,     31,   1231,2,  200105,1740,-36.3336,  57.5421, 4421,    248.9,  13.9546,  13.9551,2,  35.3806,2,  35.3800,2,    242.7,2,    242.0,2,     3.40,2,     5.87,2,     0.03,2,     0.48,2,     0.03,2,    2.715,2,    1.578,2,    0.185,2,    2.365,2,   2106.8,2,   2323.3,2,   -999.0,9,     0.01,2,-999.0000,9,-999.0000,9,-999.0000,9,  13.9551,2
  49NZ20191229,  I07S,    89,  1,     30,   1230,2,  200105,1740,-36.3336,  57.5421, 4421,    328.8,  13.7264,  13.7267,2,  35.3480,2,  35.3473,2,    243.2,2,    242.6,2,     3.32,2,     6.34,2,     0.02,2,     0.51,2,     0.03,2,    2.758,2,    1.591,2,    0.178,2,    2.399,2,   2107.0,2,   2320.6,2,   -999.0,9,  -999.00,9,   0.1810,2,   0.0910,2,   0.0090,2,  13.7267,2
  49NZ20191229,  I07S,    89,  1,     29,   1229,2,  200105,1740,-36.3336,  57.5421, 4421,    429.2,  13.4177,  13.4178,2,  35.2939,2,  35.2931,2,    239.8,2,    239.3,2,     3.45,2,     7.40,2,     0.03,2,     0.58,2,     0.05,2,    2.845,2,    1.645,2,    0.153,2,    2.329,2,   2111.9,2,   2319.7,2,   -999.0,9,  -999.00,9,   0.1840,2,   0.0930,2,   0.0090,2,  13.4178,2
  49NZ20191229,  I07S,    89,  1,     28,   1228,2,  200105,1740,-36.3336,  57.5421, 4421,    530.1,  12.9812,  12.9813,2,  35.2296,2,  35.2299,2,    241.6,2,    241.1,2,     3.57,2,     8.04,2,     0.01,2,     0.63,2,     0.04,2,    2.901,2,    1.684,2,    0.159,2,    2.352,2,   2112.8,2,   2317.2,2,   -999.0,9,  -999.00,9,   0.1830,2,   0.0940,2,   0.0070,2,  12.9813,2
  49NZ20191229,  I07S,    89,  1,     27,   1227,2,  200105,1740,-36.3336,  57.5421, 4421,    628.3,  12.1734,  12.1732,2,  35.0868,2,  35.0855,2,    228.3,2,    228.0,2,     4.25,2,    11.23,2,     0.01,2,     0.81,2,     0.06,2,    3.103,2,    1.765,2,    0.103,2,    2.037,2,   2125.8,2,   2311.9,2,   -999.0,9,  -999.00,9,   0.1690,2,   0.0860,2,   0.0070,2,  12.1732,2
  49NZ20191229,  I07S,    89,  1,     26,   1226,2,  200105,1740,-36.3336,  57.5421, 4421,    728.0,  11.0451,  11.0451,2,  34.9140,2,  34.9121,2,    221.5,2,    221.5,2,     5.33,2,    14.19,2,     0.01,2,     1.00,2,     0.05,2,    3.274,2,    1.822,2,    0.097,2,    1.796,2,   2133.8,6,   2301.6,2,   -999.0,9,  -999.00,9,-999.0000,9,-999.0000,9,-999.0000,9,  11.0451,2
  49NZ20191229,  I07S,    89,  1,     25,   1225,2,  200105,1740,-36.3336,  57.5421, 4421,    828.4,   9.8118,   9.8129,2,  34.7523,2,  34.7475,2,    216.8,2,    216.6,2,     7.53,2,    17.63,2,     0.01,2,     1.22,2,     0.05,2,    3.343,2,    1.789,2,    0.110,2,    1.566,2,   2147.5,2,   2297.1,2,   -999.0,9,  -999.00,9,   0.1940,2,   0.1040,2,   0.0200,2,   9.8129,2
  49NZ20191229,  I07S,    89,  1,     24,   1224,2,  200105,1740,-36.3336,  57.5421, 4421,    928.4,   8.6784,   8.6785,2,  34.6308,2,  34.6278,2,    210.2,2,    210.2,2,    10.82,2,    20.86,2,     0.01,2,     1.42,2,     0.04,2,    3.236,2,    1.675,2,    0.112,2,    1.302,2,   2156.2,2,   2295.9,2,   -999.0,9,  -999.00,9,-999.0000,9,-999.0000,9,-999.0000,9,   8.6785,2
  49NZ20191229,  I07S,    89,  1,     23,   1223,2,  200105,1740,-36.3336,  57.5421, 4421,   1069.7,   6.4767,   6.4778,2,  34.4381,2,  34.4380,2,    207.0,2,    206.7,2,    19.51,2,    26.53,2,     0.01,2,     1.79,2,     0.03,2,    3.010,2,    1.534,2,    0.146,2,    1.144,2,   2178.0,2,   2292.3,2,   -999.0,9,  -999.00,9,   0.2010,2,   0.0990,2,   0.0170,2,   6.4778,2
  49NZ20191229,  I07S,    89,  1,     22,   1222,2,  200105,1740,-36.3336,  57.5421, 4421,   1271.6,   4.6360,   4.6361,2,  34.3663,2,  34.3670,2,    202.3,2,    201.9,2,    33.64,2,    30.57,2,     0.01,2,     2.09,2,     0.03,2,    2.440,2,    1.254,2,    0.150,2,    0.904,2,   2202.1,2,   2299.2,6,   -999.0,9,  -999.00,9,-999.0000,9,-999.0000,9,-999.0000,9,   4.6361,2
  49NZ20191229,  I07S,    89,  1,     21,   1221,2,  200105,1740,-36.3336,  57.5421, 4421,   1469.8,   3.5791,   3.5798,2,  34.4487,2,  34.4481,2,    178.9,2,    178.8,2,    54.07,2,    33.53,2,     0.01,2,     2.29,2,     0.02,2,    1.031,2,    0.561,2,    0.062,2,    0.277,2,   2231.7,2,   2317.7,2,   -999.0,9,  -999.00,9,   0.2380,2,   0.1230,2,   0.0220,2,   3.5798,2
  49NZ20191229,  I07S,    89,  1,     20,   1220,2,  200105,1740,-36.3336,  57.5421, 4421,   1670.0,   3.0668,   3.0671,2,  34.5395,2,  34.5396,2,    170.9,2,    170.9,2,    66.35,2,    33.87,2,     0.01,2,     2.33,2,     0.04,2,    0.476,2,    0.290,2,    0.031,2,    0.126,2,   2250.3,2,   2331.7,2,   -999.0,9,  -999.00,9,-999.0000,9,-999.0000,9,-999.0000,9,   3.0671,2
  49NZ20191229,  I07S,    89,  1,     19,   1219,2,  200105,1740,-36.3336,  57.5421, 4421,   1870.3,   2.8138,   2.8138,2,  34.6054,2,  34.6062,2,    171.8,2,    171.7,2,    73.90,2,    33.44,2,     0.00,2,     2.29,2,     0.04,2,    0.241,2,    0.162,2,    0.015,2,    0.072,2,   2254.8,2,   2339.2,2,   -999.0,9,  -999.00,9,   0.2520,2,   0.1360,2,   0.0240,2,   2.8138,2
  49NZ20191229,  I07S,    89,  1,     18,   1218,2,  200105,1740,-36.3336,  57.5421, 4421,   2070.2,   2.5524,   2.5525,2,  34.6677,2,  34.6703,3,    176.6,2,    176.8,2,    79.99,2,    32.56,2,     0.01,2,     2.23,2,     0.03,2,    0.128,2,    0.090,2,    0.014,2,    0.002,2,   2255.8,2,   2347.7,2,   -999.0,9,  -999.00,9,-999.0000,9,-999.0000,9,-999.0000,9,   2.5525,2
  49NZ20191229,  I07S,    89,  1,     17,   1217,2,  200105,1740,-36.3336,  57.5421, 4421,   2269.7,   2.3867,   2.3868,2,  34.7015,2,  34.7019,2,    180.2,2,    180.4,2,    84.84,2,    31.88,2,     0.01,2,     2.18,2,     0.05,2,    0.088,2,    0.064,2,    0.007,2,    0.003,2,   2259.1,2,   2352.0,2,   -999.0,9,  -999.00,9,   0.2740,2,   0.1460,2,   0.0260,2,   2.3868,2
  49NZ20191229,  I07S,    89,  1,     16,   1216,2,  200105,1740,-36.3336,  57.5421, 4421,   2470.0,   2.2594,   2.2591,2,  34.7234,2,  34.7240,2,    183.9,2,    183.8,2,    88.32,2,    31.51,2,     0.00,2,     2.17,2,     0.05,2,    0.071,2,    0.052,2,    0.010,2,    0.012,2,   2259.2,6,   2358.4,2,   -999.0,9,  -999.00,9,-999.0000,9,-999.0000,9,-999.0000,9,   2.2591,2
  49NZ20191229,  I07S,    89,  1,     15,   1215,2,  200105,1740,-36.3336,  57.5421, 4421,   2671.4,   2.1401,   2.1401,2,  34.7362,2,  34.7361,2,    186.7,2,    186.7,2,    91.61,2,    31.36,2,     0.00,2,     2.15,2,     0.04,2,    0.065,2,    0.048,2,    0.006,2,    0.002,2,   2262.3,2,   2360.6,2,   -999.0,9,  -999.00,9,   0.2590,2,   0.1350,2,   0.0220,2,   2.1401,2
  49NZ20191229,  I07S,    89,  1,     14,   1214,2,  200105,1740,-36.3336,  57.5421, 4421,   2869.9,   2.0092,   2.0092,2,  34.7417,2,  34.7414,2,    189.2,2,    189.4,2,    95.18,2,    31.37,2,     0.01,2,     2.15,2,     0.05,2,    0.063,2,    0.046,2,    0.006,2,        0,2,   2266.0,2,   2361.8,2,   -999.0,9,  -999.00,9,-999.0000,9,-999.0000,9,-999.0000,9,   2.0092,2
  49NZ20191229,  I07S,    89,  1,     13,   1213,2,  200105,1740,-36.3336,  57.5421, 4421,   3080.2,   1.8541,   1.8538,2,  34.7415,2,  34.7416,2,    191.6,2,    191.7,2,    99.67,2,    31.46,2,     0.01,2,     2.16,2,     0.04,2,    0.066,2,    0.050,2,    0.003,2,    0.008,2,   2266.3,2,   2365.7,2,   -999.0,9,  -999.00,9,   0.2670,2,   0.1400,2,   0.0240,2,   1.8538,2
  49NZ20191229,  I07S,    89,  1,     12,   1212,2,  200105,1740,-36.3336,  57.5421, 4421,   3330.9,   1.6405,   1.6403,2,  34.7363,2,  34.7363,2,    195.1,2,    195.2,2,   104.76,2,    31.59,2,     0.00,2,     2.17,2,     0.03,2,    0.081,2,    0.058,2,    0.007,2,    0.003,2,   2269.5,2,   2367.6,6,   -999.0,9,  -999.00,9,-999.0000,9,-999.0000,9,-999.0000,9,   1.6403,2
  49NZ20191229,  I07S,    89,  1,     11,   1211,2,  200105,1740,-36.3336,  57.5421, 4421,   3579.5,   1.3773,   1.3778,2,  34.7328,2,  34.7340,2,    206.2,2,    206.2,2,   103.28,2,    30.94,2,     0.01,2,     2.11,2,     0.05,2,    0.151,2,    0.106,2,    0.016,2,    0.066,2,   2256.7,2,   2358.5,2,   -999.0,9,  -999.00,9,   0.2600,2,   0.1360,2,   0.0230,2,   1.3778,2
  49NZ20191229,  I07S,    89,  1,     10,   1210,2,  200105,1740,-36.3336,  57.5421, 4421,   3829.5,   1.0517,   1.0516,2,  34.7152,2,  34.7153,2,    209.8,2,    209.9,2,   113.55,2,    31.46,2,     0.01,2,     2.16,2,     0.04,2,    0.189,2,    0.131,2,    0.012,2,    0.051,2,   2262.8,2,   2359.3,2,   -999.0,9,  -999.00,9,-999.0000,9,-999.0000,9,-999.0000,9,   1.0516,2
  49NZ20191229,  I07S,    89,  1,      9,   1209,2,  200105,1740,-36.3336,  57.5421, 4421,   4081.0,   0.7239,   0.7237,2,  34.6974,2,  34.6969,2,    214.2,2,    214.2,2,   124.02,2,    32.23,2,     0.01,2,     2.21,2,     0.05,2,    0.223,2,    0.149,2,    0.016,2,     0.08,2,   2262.9,2,   2358.7,2,   -999.0,9,  -999.00,9,   0.2670,2,   0.1380,2,   0.0250,2,   0.7237,2
  49NZ20191229,  I07S,    89,  1,      8,  12103,2,  200105,1740,-36.3336,  57.5421, 4421,   4329.7,   0.6109,   0.6110,2,  34.6904,2,  34.6906,2,    216.2,2,    216.0,2,   128.09,2,    32.47,2,     0.01,2,     2.22,2,     0.05,2,    0.233,2,    0.156,2,    0.011,2,    0.053,2,   2264.3,6,   2359.3,2,   -999.0,9,  -999.00,9,-999.0000,9,-999.0000,9,-999.0000,9,   0.6110,2
  49NZ20191229,  I07S,    89,  1,      2,  12046,2,  200105,1740,-36.3336,  57.5421, 4421,     73.4,  15.2376,  15.2379,2,  35.4186,2,  35.4180,2,    251.0,2,    249.3,2,     0.72,2,     0.67,2,     0.15,2,     0.23,2,     0.46,2, -999.000,9, -999.000,9, -999.000,9,     -999,9,   2085.7,2,   2327.4,2,   -999.0,9,     0.78,2,   0.2530,2,   0.1420,2,   0.0280,2,  15.2379,2
  49NZ20191229,  I07S,    89,  1,      1,   1201,2,  200105,1740,-36.3336,  57.5421, 4421,   4489.1,   0.5907,   0.5908,2,  34.6885,2,  34.6887,2,    216.9,2,    216.4,2,   129.01,2,    32.48,2,     0.01,2,     2.22,2,     0.04,2,    0.237,2,    0.159,2,    0.016,2,    0.062,2,   2265.1,2,   2359.4,2,   -999.0,9,  -999.00,9,   0.2600,2,   0.1370,2,   0.0250,2,   0.5908,2