BOTTLE,20210310PRINUNIVRMK
EXPOCODE,SECT_ID,STNNBR,CASTNO,SAMPNO,BTLNBR,BTLNBR_FLAG_W,DATE,TIME,LATITUDE,LONGITUDE,DEPTH,CTDPRS,CTDTMP,SBE35,SBE35_FLAG_W,CTDSAL,CTDSAL_FLAG_W,SALNTY,SALNTY_FLAG_W,CTDOXY,CTDOXY_FLAG_W,OXYGEN,OXYGEN_FLAG_W,SILCAT,SILCAT_FLAG_W,NITRAT,NITRAT_FLAG_W,NITRIT,NITRIT_FLAG_W,PHSPHT,PHSPHT_FLAG_W,NH4,NH4_FLAG_W,CFC-11,CFC-11_FLAG_W,CFC-12,CFC-12_FLAG_W,CFC113,CFC113_FLAG_W,SF6,SF6_FLAG_W,TCARBN,TCARBN_FLAG_W,ALKALI,ALKALI_FLAG_W,DOC,DOC_FLAG_W,CHLORA,CHLORA_FLAG_W,CDOM300,CDOM300_FLAG_W,CDOM325,CDOM325_FLAG_W,CDOM443,CDOM443_FLAG_W,SBE35,SBE35_FLAG_W
,,,,,,,,,,,METERS,DBAR,ITS-90,,,PSS-78,,PSS-78,,UMOL/KG,,UMOL/KG,,UMOL/KG,,UMOL/KG,,UMOL/KG,,UMOL/KG,,UMOL/KG,,PMOL/KG,,PMOL/KG,,PMOL/KG,,FMOL/KG,,UMOL/KG,,UMOL/KG,,UMOL/KG,,UG/L,,1/M,,1/M,,1/M,,,
  49NZ20191229,  I07S,    74,  1,     36,   1236,2,  200101,1642,-30.8219,  55.8738, 4432,     10.9,  19.2661,  19.2626,2,  35.6455,2,  35.6453,2,    235.3,2,    235.9,2,     1.38,2,     0.02,2,     0.01,2,     0.09,2,     0.04,2,    2.200,2,    1.331,2,    0.188,2,    2.064,2,   2070.6,2,   2340.0,2,   -999.0,9,     0.07,2,   0.1270,2,   0.0640,2,   0.0090,2,  19.2626,2
  49NZ20191229,  I07S,    74,  1,     35,   1235,2,  200101,1642,-30.8219,  55.8738, 4432,     51.9,  18.1705,  18.1722,2,  35.6421,2,  35.6440,2,    241.1,2,    241.6,2,     1.37,2,     0.02,2,     0.00,2,     0.09,2,     0.02,2,    2.289,2,    1.389,2,    0.188,2,    2.191,2,   2073.8,2,   2342.7,2,   -999.0,9,     0.12,2,   0.2240,2,   0.1310,2,   0.0260,2,  18.1722,2
  49NZ20191229,  I07S,    74,  1,     34,   1234,2,  200101,1642,-30.8219,  55.8738, 4432,    100.9,  16.1111,  16.1108,2,  35.5361,2,  35.5366,2,    236.1,2,    236.5,2,     1.59,2,     0.53,2,     0.08,2,     0.20,2,     0.03,2,    2.488,2,    1.484,2,    0.176,2,    2.216,2,   2090.3,2,   2333.2,2,   -999.0,9,     0.49,2,   0.1930,2,   0.1140,2,   0.0190,2,  16.1108,2
  49NZ20191229,  I07S,    74,  1,     33,   1233,2,  200101,1642,-30.8219,  55.8738, 4432,    150.1,  15.2545,  15.2533,2,  35.4673,2,  35.4679,2,    227.2,2,    227.6,2,     2.81,2,     4.55,2,     0.02,2,     0.40,2,     0.03,2,    2.566,2,    1.531,2,    0.145,2,    2.188,2,   2102.5,2,   2327.0,2,   -999.0,9,     0.06,2,   0.1640,2,   0.0980,2,   0.0140,2,  15.2533,2
  49NZ20191229,  I07S,    74,  1,     32,   1232,2,  200101,1642,-30.8219,  55.8738, 4432,    199.2,  14.6623,  14.6627,2,  35.4148,2,  35.4157,2,    223.2,2,    223.4,2,     2.82,2,     5.73,2,     0.02,2,     0.48,2,     0.03,2,    2.661,2,    1.588,2,    0.090,2,    2.272,2,   2112.4,2,   2324.4,2,   -999.0,9,     0.01,2,   0.1540,2,   0.0910,2,   0.0160,2,  14.6627,2
  49NZ20191229,  I07S,    74,  1,     31,   1231,2,  200101,1642,-30.8219,  55.8738, 4432,    251.6,  14.0885,  14.0900,2,  35.3578,2,  35.3603,2,    224.6,2,    224.6,2,     2.94,2,     6.68,2,     0.02,2,     0.54,2,     0.03,2,    2.751,2,    1.631,2,    0.075,2,    2.116,2,   2113.8,2,   2321.3,2,   -999.0,9,     0.01,2,-999.0000,9,-999.0000,9,-999.0000,9,  14.0900,2
  49NZ20191229,  I07S,    74,  1,     30,   1230,2,  200101,1642,-30.8219,  55.8738, 4432,    279.7,  13.7133,  13.7143,2,  35.3203,2,  35.3224,2,    227.2,2,    227.4,2,     3.29,2,     7.52,2,     0.01,2,     0.58,2,     0.02,2,    2.782,2,    1.641,2,    0.084,2,    2.195,2,   2116.2,2,   2322.1,2,   -999.0,9,  -999.00,9,   0.1320,2,   0.0750,2,   0.0100,2,  13.7143,2
  49NZ20191229,  I07S,    74,  1,     29,   1229,2,  200101,1642,-30.8219,  55.8738, 4432,    369.5,  13.1147,  13.1147,2,  35.2406,2,  35.2423,2,    229.1,2,    229.2,2,     3.67,2,     8.81,2,     0.01,2,     0.66,2,     0.02,2,    2.864,2,    1.685,2,    0.091,2,      2.2,2,   2122.5,2,   2317.2,2,   -999.0,9,  -999.00,9,   0.1270,2,   0.0720,2,   0.0090,2,  13.1147,2
  49NZ20191229,  I07S,    74,  1,     28,   1228,2,  200101,1642,-30.8219,  55.8738, 4432,    469.6,  12.2884,  12.2880,2,  35.1127,2,  35.1136,2,    226.6,2,    226.9,2,     4.09,2,    10.93,2,     0.01,2,     0.79,2,     0.02,2,    3.027,2,    1.757,2,    0.088,2,    1.973,2,   2127.9,2,   2312.2,2,   -999.0,9,  -999.00,9,   0.1420,2,   0.0840,2,   0.0120,2,  12.2880,2
  49NZ20191229,  I07S,    74,  1,     27,   1227,2,  200101,1642,-30.8219,  55.8738, 4432,    570.9,  11.3378,  11.3490,2,  34.9684,2,  34.9727,2,    223.9,2,    224.4,2,     4.72,2,    13.11,2,     0.00,2,     0.94,2,     0.01,2,    3.184,2,    1.814,2,    0.094,2,    1.792,2,   2132.4,2,   2305.6,2,   -999.0,9,  -999.00,9,   0.1200,2,   0.0680,2,   0.0080,2,  11.3490,2
  49NZ20191229,  I07S,    74,  1,     26,   1226,2,  200101,1642,-30.8219,  55.8738, 4432,    670.3,  10.1446,  10.1445,2,  34.8031,2,  34.8037,2,    220.3,2,    220.4,2,     6.37,2,    16.36,2,     0.01,2,     1.13,2,     0.04,2,    3.294,2,    1.837,2,    0.105,2,    1.616,2,   2140.6,6,   2298.7,2,   -999.0,9,  -999.00,9,-999.0000,9,-999.0000,9,-999.0000,9,  10.1445,2
  49NZ20191229,  I07S,    74,  1,     25,   1225,2,  200101,1642,-30.8219,  55.8738, 4432,    768.8,   8.9408,   8.9437,2,  34.6668,2,  34.6677,2,    213.0,2,    213.3,2,     9.74,2,    19.80,2,     0.01,2,     1.36,2,     0.03,2,    3.208,2,    1.722,2,    0.106,2,    1.327,2,   2152.0,2,   2293.2,2,   -999.0,9,  -999.00,9,   0.1400,2,   0.0750,2,   0.0090,2,   8.9437,2
  49NZ20191229,  I07S,    74,  1,     24,   1224,2,  200101,1642,-30.8219,  55.8738, 4432,    869.6,   7.6434,   7.6457,2,  34.5480,2,  34.5484,2,    206.0,2,    206.2,2,    15.16,2,    23.53,2,     0.01,2,     1.61,2,     0.03,2,    2.949,2,    1.558,2,    0.107,2,    1.079,2,   2169.7,2,   2290.9,2,   -999.0,9,  -999.00,9,-999.0000,9,-999.0000,9,-999.0000,9,   7.6457,2
  49NZ20191229,  I07S,    74,  1,     23,   1223,2,  200101,1642,-30.8219,  55.8738, 4432,    969.1,   6.3499,   6.3511,2,  34.4516,2,  34.4526,2,    202.9,2,    202.9,2,    21.78,2,    26.87,2,     0.01,2,     1.82,2,     0.02,2,    2.699,2,    1.400,2,    0.120,2,    0.901,2,   2184.4,2,   2291.1,2,   -999.0,9,  -999.00,9,   0.2000,2,   0.0730,2,   0.0000,2,   6.3511,2
  49NZ20191229,  I07S,    74,  1,     22,   1222,2,  200101,1642,-30.8219,  55.8738, 4432,   1129.3,   4.4692,   4.4704,2,  34.3867,2,  34.3877,2,    195.3,2,    195.1,2,    37.64,2,    31.29,2,     0.01,2,     2.13,2,     0.03,2,    2.011,2,    1.028,2,    0.114,2,    0.569,2,   2211.8,2,   2304.1,6,   -999.0,9,  -999.00,9,-999.0000,9,-999.0000,9,-999.0000,9,   4.4704,2
  49NZ20191229,  I07S,    74,  1,     21,   1221,2,  200101,1642,-30.8219,  55.8738, 4432,   1328.9,   3.7109,   3.7110,2,  34.4672,2,  34.4679,2,    175.1,2,    175.0,2,    56.20,2,    33.53,2,     0.00,2,     2.30,2,     0.02,2,    0.894,2,    0.469,2,    0.044,2,    0.253,2,   2238.3,2,   2323.2,2,   -999.0,9,  -999.00,9,   0.2360,2,   0.0970,2,   0.0050,2,   3.7110,2
  49NZ20191229,  I07S,    74,  1,     20,   1220,2,  200101,1642,-30.8219,  55.8738, 4432,   1529.9,   3.1096,   3.1096,2,  34.5570,2,  34.5570,2,    169.7,2,    169.8,2,    69.23,2,    33.83,2,     0.01,2,     2.32,2,     0.02,2,    0.428,2,    0.238,2,    0.017,2,    0.074,2,   2249.0,2,   2335.5,2,   -999.0,9,  -999.00,9,-999.0000,9,-999.0000,9,-999.0000,9,   3.1096,2
  49NZ20191229,  I07S,    74,  1,     19,   1219,2,  200101,1642,-30.8219,  55.8738, 4432,   1729.9,   2.7744,   2.7743,2,  34.6254,2,  34.6262,2,    171.2,2,    171.1,2,    77.83,2,    33.33,2,     0.01,2,     2.29,2,     0.02,2,    0.211,2,    0.122,2,    0.008,2,    0.041,2,   2257.0,2,   2344.1,2,   -999.0,9,  -999.00,9,   0.2590,2,   0.1150,2,   0.0040,2,   2.7743,2
  49NZ20191229,  I07S,    74,  1,     18,   1218,2,  200101,1642,-30.8219,  55.8738, 4432,   1927.7,   2.5233,   2.5244,2,  34.6794,2,  34.6789,2,    174.7,2,    174.2,2,    85.21,2,    32.62,2,     0.00,2,     2.25,2,     0.02,2,    0.100,2,    0.057,2,    0.004,2,    0.026,2,   2263.4,2,   2351.9,2,   -999.0,9,  -999.00,9,-999.0000,9,-999.0000,9,-999.0000,9,   2.5244,2
  49NZ20191229,  I07S,    74,  1,     17,   1217,2,  200101,1642,-30.8219,  55.8738, 4432,   2128.9,   2.3469,   2.3474,2,  34.7132,2,  34.7132,2,    177.2,2,    177.3,2,    91.03,2,    32.20,2,     0.00,2,     2.22,2,     0.02,2,    0.060,2,    0.034,2,    0.001,2,    0.006,2,   2265.0,2,   2359.7,2,   -999.0,9,  -999.00,9,   0.2640,2,   0.1190,2,   0.0100,2,   2.3474,2
  49NZ20191229,  I07S,    74,  1,     16,   1216,2,  200101,1642,-30.8219,  55.8738, 4432,   2329.9,   2.2497,   2.2497,2,  34.7338,2,  34.7345,2,    180.4,2,    180.5,2,    93.28,2,    31.88,2,     0.00,2,     2.19,2,     0.02,2,    0.044,2,    0.026,2,    0.005,2,        0,2,   2267.2,6,   2363.9,2,   -999.0,9,  -999.00,9,-999.0000,9,-999.0000,9,-999.0000,9,   2.2497,2
  49NZ20191229,  I07S,    74,  1,     15,   1215,2,  200101,1642,-30.8219,  55.8738, 4432,   2531.5,   2.1442,   2.1424,2,  34.7435,2,  34.7437,2,    182.1,2,    182.2,2,    96.66,2,    31.68,2,     0.00,2,     2.17,2,     0.03,2,    0.042,2,    0.022,2,    0.005,2,    0.039,2,   2271.3,2,   2367.6,2,   -999.0,9,  -999.00,9,   0.2680,2,   0.1220,2,   0.0120,2,   2.1424,2
  49NZ20191229,  I07S,    74,  1,     14,   1214,2,  200101,1642,-30.8219,  55.8738, 4432,   2730.9,   2.0268,   2.0268,2,  34.7457,2,  34.7455,2,    181.9,2,    182.0,2,   101.78,2,    31.97,2,     0.01,2,     2.20,2,     0.03,2,    0.036,2,    0.021,2,    0.004,2,    0.017,2,   2271.7,2,   2371.5,2,   -999.0,9,  -999.00,9,-999.0000,9,-999.0000,9,-999.0000,9,   2.0268,2
  49NZ20191229,  I07S,    74,  1,     13,   1213,2,  200101,1642,-30.8219,  55.8738, 4432,   2930.9,   1.8654,   1.8654,2,  34.7410,2,  34.7412,2,    182.7,2,    182.9,2,   107.40,2,    32.30,2,     0.01,2,     2.22,2,     0.03,2,    0.043,2,    0.022,2,    0.002,2,    0.005,2,   2278.3,2,   2373.9,2,   -999.0,9,  -999.00,9,   0.2810,2,   0.1340,2,   0.0130,2,   1.8654,2
  49NZ20191229,  I07S,    74,  1,     12,   1212,2,  200101,1642,-30.8219,  55.8738, 4432,   3170.1,   1.6967,   1.6967,2,  34.7359,2,  34.7360,2,    188.3,2,    188.5,2,   109.28,2,    32.34,2,     0.01,2,     2.21,2,     0.03,2,    0.060,2,    0.034,2,    0.002,2,    0.025,2,   2280.0,2,   2373.5,6,   -999.0,9,  -999.00,9,-999.0000,9,-999.0000,9,-999.0000,9,   1.6967,2
  49NZ20191229,  I07S,    74,  1,     11,   1211,2,  200101,1642,-30.8219,  55.8738, 4432,   3421.1,   1.4582,   1.4579,2,  34.7272,2,  34.7273,2,    195.7,2,    196.0,2,   111.91,2,    32.12,2,     0.01,2,     2.20,2,     0.03,2,    0.094,2,    0.053,2,    0.008,2,     0.01,2,   2268.3,2,   2370.9,2,   -999.0,9,  -999.00,9,   0.2570,2,   0.1130,2,   0.0080,2,   1.4579,2
  49NZ20191229,  I07S,    74,  1,     10,   1210,2,  200101,1642,-30.8219,  55.8738, 4432,   3669.7,   1.2330,   1.2330,2,  34.7191,2,  34.7192,2,    203.3,2,    203.7,2,   113.67,2,    31.90,2,     0.01,2,     2.18,2,     0.03,2,    0.149,2,    0.084,2,    0.008,2,     0.04,2,   2261.7,2,   2365.1,2,   -999.0,9,  -999.00,9,-999.0000,9,-999.0000,9,-999.0000,9,   1.2330,2
  49NZ20191229,  I07S,    74,  1,      9,   1209,2,  200101,1642,-30.8219,  55.8738, 4432,   3919.3,   1.1508,   1.1507,2,  34.7155,2,  34.7155,2,    205.7,2,    206.1,2,   115.30,2,    31.95,2,     0.00,2,     2.19,2,     0.02,2,    0.155,2,    0.091,2,    0.010,2,    0.006,2,   2261.7,2,   2363.3,2,   -999.0,9,  -999.00,9,   0.2520,2,   0.1070,2,   0.0090,2,   1.1507,2
  49NZ20191229,  I07S,    74,  1,      8,  12103,2,  200101,1642,-30.8219,  55.8738, 4432,   4172.4,   1.0886,   1.0886,2,  34.7121,2,  34.7124,2,    207.3,2,    207.7,2,   117.26,2,    32.05,2,     0.00,2,     2.19,2,     0.02,2,    0.176,2,    0.098,2,    0.008,2,    0.091,2,   2262.9,6,   2362.2,2,   -999.0,9,  -999.00,9,-999.0000,9,-999.0000,9,-999.0000,9,   1.0886,2
  49NZ20191229,  I07S,    74,  1,      7,   1207,2,  200101,1642,-30.8219,  55.8738, 4432,   4419.7,   1.0210,   1.0212,2,  34.7080,2,  34.7081,2,    208.9,2,    209.2,2,   119.37,2,    32.11,2,     0.00,2,     2.20,2,     0.01,2,    0.193,2,    0.109,2,    0.017,2,    0.028,2,   2264.1,2,   2361.9,2,   -999.0,9,  -999.00,9,   0.2660,2,   0.1130,2,   0.0070,2,   1.0212,2
  49NZ20191229,  I07S,    74,  1,      2,  12046,2,  200101,1642,-30.8219,  55.8738, 4432,    114.6,  15.9303,  15.9279,2,  35.5214,2,  35.5213,2,    233.2,2,    233.4,2,     1.75,2,     1.37,2,     0.11,2,     0.25,2,     0.03,2, -999.000,9, -999.000,9, -999.000,9,     -999,9,   2093.1,2,   2332.2,2,   -999.0,9,     0.38,2,   0.2450,2,   0.1070,2,   0.0090,2,  15.9279,2
  49NZ20191229,  I07S,    74,  1,      1,   1201,2,  200101,1642,-30.8219,  55.8738, 4432,   4488.5,   1.0084,   1.0085,2,  34.7071,2,  34.7072,2,    209.3,2,    209.6,2,   120.11,2,    32.20,2,     0.00,2,     2.20,2,     0.02,2,    0.194,2,    0.110,2,    0.010,2,    0.037,2,   2264.6,2,   2362.5,2,   -999.0,9,  -999.00,9,   0.2560,2,   0.1160,2,   0.0080,2,   1.0085,2