BOTTLE,20210310PRINUNIVRMK
EXPOCODE,SECT_ID,STNNBR,CASTNO,SAMPNO,BTLNBR,BTLNBR_FLAG_W,DATE,TIME,LATITUDE,LONGITUDE,DEPTH,CTDPRS,CTDTMP,SBE35,SBE35_FLAG_W,CTDSAL,CTDSAL_FLAG_W,SALNTY,SALNTY_FLAG_W,CTDOXY,CTDOXY_FLAG_W,OXYGEN,OXYGEN_FLAG_W,SILCAT,SILCAT_FLAG_W,NITRAT,NITRAT_FLAG_W,NITRIT,NITRIT_FLAG_W,PHSPHT,PHSPHT_FLAG_W,NH4,NH4_FLAG_W,CFC-11,CFC-11_FLAG_W,CFC-12,CFC-12_FLAG_W,CFC113,CFC113_FLAG_W,SF6,SF6_FLAG_W,TCARBN,TCARBN_FLAG_W,ALKALI,ALKALI_FLAG_W,DOC,DOC_FLAG_W,CHLORA,CHLORA_FLAG_W,CDOM300,CDOM300_FLAG_W,CDOM325,CDOM325_FLAG_W,CDOM443,CDOM443_FLAG_W,SBE35,SBE35_FLAG_W
,,,,,,,,,,,METERS,DBAR,ITS-90,,,PSS-78,,PSS-78,,UMOL/KG,,UMOL/KG,,UMOL/KG,,UMOL/KG,,UMOL/KG,,UMOL/KG,,UMOL/KG,,PMOL/KG,,PMOL/KG,,PMOL/KG,,FMOL/KG,,UMOL/KG,,UMOL/KG,,UMOL/KG,,UG/L,,1/M,,1/M,,1/M,,,
  49NZ20191229,  I07S,   149,  1,     36,   1236,2,  200121,0739,-64.4354,  53.0781, 4149,     10.7,   0.3420,   0.3431,2,  33.7385,2,  33.7399,2,    343.4,2,    344.6,2,    43.16,2,    25.02,2,     0.25,2,     1.75,2,     0.72,2,    5.964,2,    3.154,2,    0.574,2,    4.355,2,   2166.4,2,   2286.8,2,     43.5,2,     0.06,2,   0.1940,2,   0.0930,2,   0.0130,2,   0.3431,2
  49NZ20191229,  I07S,   149,  1,     35,   1235,3,  200121,0739,-64.4354,  53.0781, 4149,     51.2,  -0.9160,  -0.9169,2,  34.1692,2,  34.1882,2,    301.8,2,    297.0,2,    61.48,2,    29.36,2,     0.14,2,     2.05,2,     0.37,2,    4.369,2,    2.295,2,    0.413,2,    3.068,2,   2215.4,2,   2316.5,2,     39.1,2,     0.12,2,   0.2560,2,   0.1330,2,   0.0230,2,  -0.9169,2
  49NZ20191229,  I07S,   149,  1,     34,   1234,2,  200121,0739,-64.4354,  53.0781, 4149,    100.4,   1.3227,   1.3224,2,  34.5733,2,  34.5745,2,    187.7,2,    186.9,2,    85.49,2,    34.21,2,     0.07,2,     2.35,2,     0.07,2,    1.293,2,    0.714,2,    0.117,2,    0.769,2,   2263.7,2,   2338.4,2,     39.7,2,     0.14,2,   0.2800,2,   0.1520,2,   0.0210,2,   1.3224,2
  49NZ20191229,  I07S,   149,  1,     33,   1233,2,  200121,0739,-64.4354,  53.0781, 4149,    150.3,   1.5826,   1.5818,2,  34.6346,2,  34.6341,2,    179.1,2,    179.2,2,    88.90,2,    34.01,2,     0.02,2,     2.32,2,     0.02,2,    0.832,2,    0.482,2,    0.076,2,    0.497,2,   2264.3,2,   2342.5,2,     33.7,2,     0.04,2,   0.2800,2,   0.1510,2,   0.0230,2,   1.5818,2
  49NZ20191229,  I07S,   149,  1,     32,   1232,2,  200121,0739,-64.4354,  53.0781, 4149,    200.7,   1.6152,   1.6147,2,  34.6658,2,  34.6650,2,    179.9,2,    180.1,2,    90.59,2,    33.46,2,     0.01,2,     2.28,2,     0.01,2,    0.652,2,    0.384,2,    0.061,2,    0.331,2,   2262.4,2,   2345.6,2,     38.2,2,     0.01,2,   0.2700,2,   0.1440,2,   0.0220,2,   1.6147,2
  49NZ20191229,  I07S,   149,  1,     31,   1231,2,  200121,0739,-64.4354,  53.0781, 4149,    249.8,   1.6373,   1.6377,2,  34.6897,2,  34.6894,2,    181.7,2,    181.8,2,    91.52,2,    32.85,2,     0.00,2,     2.24,2,     0.02,2,    0.512,2,    0.309,2,    0.042,2,    0.241,2,   2260.2,2,   2348.1,2,   -999.0,9,     0.01,2,-999.0000,9,-999.0000,9,-999.0000,9,   1.6377,2
  49NZ20191229,  I07S,   149,  1,     30,   1230,2,  200121,0739,-64.4354,  53.0781, 4149,    298.5,   1.5758,   1.5757,2,  34.6976,2,  34.6966,2,    184.9,2,    184.9,2,    92.38,2,    32.56,2,     0.00,2,     2.22,2,     0.01,2,    0.496,2,    0.298,2,    0.043,2,    0.185,2,   2255.9,2,   2348.9,2,     38.1,2,  -999.00,9,   0.2810,2,   0.1530,2,   0.0250,2,   1.5757,2
  49NZ20191229,  I07S,   149,  1,     29,   1229,2,  200121,0739,-64.4354,  53.0781, 4149,    401.0,   1.5277,   1.5272,2,  34.7109,2,  34.7104,2,    188.4,2,    188.6,2,    93.56,2,    32.16,2,     0.00,2,     2.19,2,     0.01,2,    0.427,2,    0.262,2,    0.038,2,    0.204,2,   2255.0,2,   2351.3,2,     36.1,2,  -999.00,9,   0.2760,2,   0.1470,2,   0.0230,2,   1.5272,2
  49NZ20191229,  I07S,   149,  1,     28,   1228,2,  200121,0739,-64.4354,  53.0781, 4149,    500.1,   1.4395,   1.4396,2,  34.7209,2,  34.7204,2,    192.6,2,    192.8,2,    95.62,2,    31.72,2,     0.00,2,     2.17,2,     0.01,2,    0.361,2,    0.226,2,    0.029,2,    0.164,2,   2255.3,2,   2351.4,2,     38.9,2,  -999.00,9,   0.2720,2,   0.1460,2,   0.0200,2,   1.4396,2
  49NZ20191229,  I07S,   149,  1,     27,   1227,2,  200121,0739,-64.4354,  53.0781, 4149,    598.9,   1.3158,   1.3150,2,  34.7204,2,  34.7206,2,    196.4,2,    196.6,2,    97.64,2,    31.51,2,     0.00,2,     2.16,2,     0.03,2,    0.377,2,    0.231,2,    0.032,2,    0.176,2,   2253.8,2,   2352.0,2,     37.4,2,  -999.00,9,   0.2670,2,   0.1450,2,   0.0240,2,   1.3150,2
  49NZ20191229,  I07S,   149,  1,     26,   1226,2,  200121,0739,-64.4354,  53.0781, 4149,    699.0,   1.2236,   1.2240,2,  34.7207,2,  34.7207,2,    198.2,2,    197.9,2,   100.31,2,    31.61,2,     0.00,2,     2.16,2,     0.01,2,    0.359,2,    0.222,2,    0.028,2,    0.128,2,   2257.8,6,   2353.6,2,   -999.0,9,  -999.00,9,-999.0000,9,-999.0000,9,-999.0000,9,   1.2240,2
  49NZ20191229,  I07S,   149,  1,     25,   1225,2,  200121,0739,-64.4354,  53.0781, 4149,    799.1,   1.0887,   1.0896,2,  34.7155,2,  34.7154,2,    199.6,2,    199.6,2,   103.87,2,    31.85,2,     0.00,2,     2.17,2,     0.01,2,    0.366,2,    0.222,2,    0.030,2,    0.181,2,   2254.8,2,   2354.4,2,     36.5,2,  -999.00,9,   0.2580,2,   0.1330,2,   0.0140,2,   1.0896,2
  49NZ20191229,  I07S,   149,  1,     24,   1224,2,  200121,0739,-64.4354,  53.0781, 4149,    900.1,   1.0034,   1.0032,2,  34.7119,2,  34.7120,2,    200.7,2,    201.0,2,   106.29,2,    31.98,2,     0.00,2,     2.19,2,     0.02,2,    0.376,2,    0.229,2,    0.032,2,    0.152,2,   2258.9,2,   2356.6,2,   -999.0,9,  -999.00,9,-999.0000,9,-999.0000,9,-999.0000,9,   1.0032,2
  49NZ20191229,  I07S,   149,  1,     23,   1223,2,  200121,0739,-64.4354,  53.0781, 4149,   1000.8,   0.9301,   0.9302,2,  34.7091,2,  34.7092,2,    201.8,2,    202.0,2,   108.44,2,    32.09,2,     0.00,2,     2.19,2,     0.02,2,    0.376,2,    0.228,2,    0.034,2,    0.129,2,   2259.0,2,   2357.6,2,     35.9,2,  -999.00,9,   0.2610,2,   0.1330,2,   0.0150,2,   0.9302,2
  49NZ20191229,  I07S,   149,  1,     22,   1222,2,  200121,0739,-64.4354,  53.0781, 4149,   1201.7,   0.7756,   0.7754,2,  34.7024,2,  34.7023,2,    203.7,2,    203.8,2,   112.84,2,    32.33,2,     0.00,2,     2.22,2,     0.02,2,    0.390,2,    0.235,2,    0.026,2,    0.158,2,   2259.5,2,   2357.0,2,     38.9,2,  -999.00,9,-999.0000,9,-999.0000,9,-999.0000,9,   0.7754,2
  49NZ20191229,  I07S,   149,  1,     21,   1221,2,  200121,0739,-64.4354,  53.0781, 4149,   1400.1,   0.6268,   0.6270,2,  34.6949,2,  34.6949,2,    204.5,2,    204.6,2,   117.21,2,    32.70,2,     0.00,2,     2.24,2,     0.01,2,    0.409,2,    0.243,2,    0.029,2,    0.113,2,   2261.3,2,   2358.7,2,     35.8,2,  -999.00,9,   0.2590,2,   0.1330,2,   0.0140,2,   0.6270,2
  49NZ20191229,  I07S,   149,  1,     20,   1220,2,  200121,0739,-64.4354,  53.0781, 4149,   1600.6,   0.5421,   0.5425,2,  34.6906,2,  34.6906,2,    205.5,2,    205.6,2,   120.00,2,    32.89,2,     0.00,2,     2.25,2,     0.01,2,    0.408,2,    0.240,2,    0.029,2,    0.116,2,   2264.7,2,   2358.5,2,   -999.0,9,  -999.00,9,-999.0000,9,-999.0000,9,-999.0000,9,   0.5425,2
  49NZ20191229,  I07S,   149,  1,     19,   1219,2,  200121,0739,-64.4354,  53.0781, 4149,   1798.6,   0.4422,   0.4421,2,  34.6859,2,  34.6860,2,    207.5,2,    207.6,2,   122.99,2,    33.04,2,     0.00,2,     2.26,2,     0.02,2,    0.398,2,    0.237,2,    0.028,2,    0.132,2,   2264.3,2,   2359.3,2,     36.6,2,  -999.00,9,   0.2600,2,   0.1300,2,   0.0140,2,   0.4421,2
  49NZ20191229,  I07S,   149,  1,     18,   1218,2,  200121,0739,-64.4354,  53.0781, 4149,   2000.2,   0.3617,   0.3617,2,  34.6826,2,  34.6825,2,    210.4,2,    210.5,2,   125.01,2,    32.96,2,     0.00,2,     2.27,2,     0.01,2,    0.390,2,    0.230,2,    0.027,2,    0.109,2,   2263.2,2,   2358.6,2,   -999.0,9,  -999.00,9,-999.0000,9,-999.0000,9,-999.0000,9,   0.3617,2
  49NZ20191229,  I07S,   149,  1,     17,   1217,2,  200121,0739,-64.4354,  53.0781, 4149,   2200.0,   0.2872,   0.2876,2,  34.6791,2,  34.6792,2,    212.9,2,    213.0,2,   126.38,2,    32.93,2,     0.00,2,     2.27,2,     0.03,2,    0.392,2,    0.231,2,    0.027,2,    0.098,2,   2261.4,2,   2359.0,2,     37.3,2,  -999.00,9,   0.2510,2,   0.1290,2,   0.0110,2,   0.2876,2
  49NZ20191229,  I07S,   149,  1,     16,   1216,2,  200121,0739,-64.4354,  53.0781, 4149,   2402.5,   0.2180,   0.2173,2,  34.6755,2,  34.6750,2,    215.3,2,    215.6,2,   127.27,2,    33.00,2,     0.00,2,     2.27,2,     0.02,2,    0.433,2,    0.248,2,    0.027,2,    0.128,2,   -999.0,9,   2357.8,2,   -999.0,9,  -999.00,9,-999.0000,9,-999.0000,9,-999.0000,9,   0.2173,2
  49NZ20191229,  I07S,   149,  1,     15,  12102,2,  200121,0739,-64.4354,  53.0781, 4149,   2600.1,   0.1410,   0.1412,2,  34.6718,2,  34.6711,2,    219.5,2,    219.6,2,   128.16,2,    32.95,2,     0.00,2,     2.27,2,     0.01,2,    0.466,2,    0.267,2,    0.028,2,    0.139,2,   2255.6,2,   2357.7,2,     38.7,2,  -999.00,9,   0.2560,2,   0.1330,2,   0.0160,2,   0.1412,2
  49NZ20191229,  I07S,   149,  1,     14,   1214,2,  200121,0739,-64.4354,  53.0781, 4149,   2800.1,   0.0847,   0.0849,2,  34.6695,2,  34.6689,2,    221.2,2,    221.5,2,   129.08,2,    32.99,2,     0.00,2,     2.27,2,     0.01,2,    0.457,2,    0.261,2,    0.027,2,     0.08,2,   2259.3,2,   2356.3,2,   -999.0,9,  -999.00,9,-999.0000,9,-999.0000,9,-999.0000,9,   0.0849,2
  49NZ20191229,  I07S,   149,  1,     13,  12105,2,  200121,0739,-64.4354,  53.0781, 4149,   3000.8,   0.0141,   0.0140,2,  34.6658,2,  34.6655,2,    225.3,2,    225.5,2,   129.16,2,    32.87,2,     0.00,2,     2.26,2,     0.02,2,    0.524,2,    0.298,2,    0.039,2,    0.142,2,   2256.5,2,   2356.3,2,     42.7,2,  -999.00,9,   0.2510,2,   0.1240,2,   0.0120,2,   0.0140,2
  49NZ20191229,  I07S,   149,  1,     12,   1211,2,  200121,0739,-64.4354,  53.0781, 4149,   3251.4,  -0.1131,  -0.1132,2,  34.6552,2,  34.6554,2,    234.0,2,    233.8,2,   124.27,2,    32.57,2,     0.00,2,     2.24,2,     0.01,2,    0.996,2,    0.549,2,    0.079,2,    0.485,2,   2257.1,2,   2356.1,2,   -999.0,9,  -999.00,9,-999.0000,9,-999.0000,9,-999.0000,9,  -0.1132,2
  49NZ20191229,  I07S,   149,  1,     11,  12106,2,  200121,0739,-64.4354,  53.0781, 4149,   3500.4,  -0.2062,  -0.2062,2,  34.6463,2,  34.6451,2,    241.6,2,    242.0,2,   115.86,2,    32.30,2,     0.00,2,     2.22,2,     0.02,2,    1.623,2,    0.869,2,    0.135,2,    0.924,2,   2253.7,2,   2352.7,2,     37.3,2,  -999.00,9,   0.2480,2,   0.1280,2,   0.0150,2,  -0.2062,2
  49NZ20191229,  I07S,   149,  1,     10,   1210,2,  200121,0739,-64.4354,  53.0781, 4149,   3750.3,  -0.2493,  -0.2494,2,  34.6454,2,  34.6455,2,    244.1,2,    244.2,2,   118.29,2,    32.32,2,     0.00,2,     2.22,2,     0.01,2,    1.547,2,    0.836,2,    0.130,2,    0.898,2,   2255.3,2,   2352.0,2,   -999.0,9,  -999.00,9,-999.0000,9,-999.0000,9,-999.0000,9,  -0.2494,2
  49NZ20191229,  I07S,   149,  1,      9,  12101,2,  200121,0739,-64.4354,  53.0781, 4149,   4000.3,  -0.3441,  -0.3441,2,  34.6380,2,  34.6380,2,    252.3,2,    252.6,2,   108.34,2,    32.07,2,     0.00,2,     2.20,2,     0.01,2,    2.180,2,    1.150,2,    0.186,2,    1.365,2,   2252.1,2,   2349.2,2,     40.9,2,  -999.00,9,   0.2560,2,   0.1320,2,   0.0200,2,  -0.3441,2
  49NZ20191229,  I07S,   149,  1,      2,  12046,2,  200121,0739,-64.4354,  53.0781, 4149,     84.9,   0.8723,   0.8658,2,  34.5060,2,  34.5251,2,    206.6,2,    199.3,2,    82.27,2,    33.67,2,     0.13,2,     2.33,2,     0.11,2, -999.000,9, -999.000,9, -999.000,9,     -999,9,   2259.1,2,   2334.9,2,     43.1,2,     0.22,2,   0.2700,2,   0.1370,2,   0.0130,2,   0.8658,2
  49NZ20191229,  I07S,   149,  1,      1,   1201,2,  200121,0739,-64.4354,  53.0781, 4149,   4213.1,  -0.4175,  -0.4175,2,  34.6312,2,  34.6303,2,    258.9,2,    258.6,2,   100.78,2,    31.80,2,     0.01,2,     2.19,2,     0.02,2,    2.616,2,    1.373,2,    0.232,2,    1.646,2,   2251.9,2,   2348.7,2,     42.9,2,  -999.00,9,   0.2580,2,   0.1310,2,   0.0170,2,  -0.4175,2