BOTTLE,20210310PRINUNIVRMK
EXPOCODE,SECT_ID,STNNBR,CASTNO,SAMPNO,BTLNBR,BTLNBR_FLAG_W,DATE,TIME,LATITUDE,LONGITUDE,DEPTH,CTDPRS,CTDTMP,SBE35,SBE35_FLAG_W,CTDSAL,CTDSAL_FLAG_W,SALNTY,SALNTY_FLAG_W,CTDOXY,CTDOXY_FLAG_W,OXYGEN,OXYGEN_FLAG_W,SILCAT,SILCAT_FLAG_W,NITRAT,NITRAT_FLAG_W,NITRIT,NITRIT_FLAG_W,PHSPHT,PHSPHT_FLAG_W,NH4,NH4_FLAG_W,CFC-11,CFC-11_FLAG_W,CFC-12,CFC-12_FLAG_W,CFC113,CFC113_FLAG_W,SF6,SF6_FLAG_W,TCARBN,TCARBN_FLAG_W,ALKALI,ALKALI_FLAG_W,DOC,DOC_FLAG_W,CHLORA,CHLORA_FLAG_W,CDOM300,CDOM300_FLAG_W,CDOM325,CDOM325_FLAG_W,CDOM443,CDOM443_FLAG_W,SBE35,SBE35_FLAG_W
,,,,,,,,,,,METERS,DBAR,ITS-90,,,PSS-78,,PSS-78,,UMOL/KG,,UMOL/KG,,UMOL/KG,,UMOL/KG,,UMOL/KG,,UMOL/KG,,UMOL/KG,,PMOL/KG,,PMOL/KG,,PMOL/KG,,FMOL/KG,,UMOL/KG,,UMOL/KG,,UMOL/KG,,UG/L,,1/M,,1/M,,1/M,,,
  49NZ20191229,  I07S,    86,  1,     36,   1236,2,  200105,0126,-35.0003,  57.4178, 4820,      9.7,  18.3489,  18.3494,2,  35.5261,2,  35.5279,2,    240.6,2,    240.7,2,     0.93,2,     0.02,2,     0.00,2,     0.12,2,     0.04,2,    2.331,2,    1.387,2,    0.204,2,    2.227,2,   2071.4,2,   2334.8,2,   -999.0,9,     0.12,2,-999.0000,9,-999.0000,9,-999.0000,9,  18.3494,2
  49NZ20191229,  I07S,    86,  1,     35,   1235,2,  200105,0126,-35.0003,  57.4178, 4820,     50.5,  17.0854,  17.0885,2,  35.5670,2,  35.5654,2,    242.4,2,    242.5,2,     1.28,2,     0.02,2,     0.01,2,     0.12,2,     0.04,2,    2.362,2,    1.417,2,    0.206,2,    2.248,2,   2078.0,2,   2336.0,2,   -999.0,9,     0.23,2,-999.0000,9,-999.0000,9,-999.0000,9,  17.0885,2
  49NZ20191229,  I07S,    86,  1,     34,   1234,2,  200105,0126,-35.0003,  57.4178, 4820,    100.7,  15.1545,  15.1562,2,  35.4496,2,  35.4500,2,    232.3,2,    231.9,2,     2.48,2,     3.84,2,     0.08,2,     0.37,2,     0.04,2,    2.575,2,    1.531,2,    0.167,2,      2.3,2,   2100.6,2,   2331.5,2,   -999.0,9,     0.30,2,-999.0000,9,-999.0000,9,-999.0000,9,  15.1562,2
  49NZ20191229,  I07S,    86,  1,     33,   1233,2,  200105,0126,-35.0003,  57.4178, 4820,    150.3,  14.3503,  14.3508,2,  35.3913,2,  35.3913,2,    243.0,2,    242.1,2,     2.86,2,     4.80,2,     0.02,2,     0.42,2,     0.04,2,    2.670,2,    1.578,2,    0.198,2,    2.403,2,   2099.6,2,   2327.8,2,   -999.0,9,     0.04,2,-999.0000,9,-999.0000,9,-999.0000,9,  14.3508,2
  49NZ20191229,  I07S,    86,  1,     32,   1232,2,  200105,0126,-35.0003,  57.4178, 4820,    199.4,  14.0523,  14.0534,2,  35.3746,2,  35.3748,2,    244.3,2,    243.8,2,     3.27,2,     5.63,2,     0.02,2,     0.46,2,     0.03,2,    2.693,2,    1.585,2,    0.201,2,    2.392,2,   2103.6,2,   2326.0,2,   -999.0,9,     0.01,2,-999.0000,9,-999.0000,9,-999.0000,9,  14.0534,2
  49NZ20191229,  I07S,    86,  1,     31,   1231,2,  200105,0126,-35.0003,  57.4178, 4820,    249.6,  13.9827,  13.9795,2,  35.3777,2,  35.3778,2,    243.2,2,    242.3,2,     3.33,2,     5.76,2,     0.02,2,     0.48,2,     0.03,2,    2.700,2,    1.591,2,    0.193,2,     2.37,2,   2103.9,2,   2325.2,2,   -999.0,9,     0.01,2,-999.0000,9,-999.0000,9,-999.0000,9,  13.9795,2
  49NZ20191229,  I07S,    86,  1,     30,   1230,2,  200105,0126,-35.0003,  57.4178, 4820,    299.8,  13.8545,  13.8558,2,  35.3569,2,  35.3588,2,    243.0,2,    242.4,2,     3.33,2,     6.07,2,     0.01,2,     0.50,2,     0.03,2,    2.713,2,    1.594,2,    0.187,2,    2.402,2,   2106.1,2,   2323.7,2,   -999.0,9,  -999.00,9,-999.0000,9,-999.0000,9,-999.0000,9,  13.8558,2
  49NZ20191229,  I07S,    86,  1,     29,   1229,2,  200105,0126,-35.0003,  57.4178, 4820,    398.9,  13.4742,  13.4752,2,  35.2942,2,  35.2939,2,    240.4,2,    239.9,2,     3.48,2,     7.27,2,     0.01,2,     0.56,2,     0.03,2,    2.767,2,    1.618,2,    0.165,2,    2.403,2,   2112.0,2,   2322.2,2,   -999.0,9,  -999.00,9,-999.0000,9,-999.0000,9,-999.0000,9,  13.4752,2
  49NZ20191229,  I07S,    86,  1,     28,   1228,2,  200105,0126,-35.0003,  57.4178, 4820,    498.9,  12.9954,  12.9957,2,  35.2279,2,  35.2270,2,    236.6,2,    236.4,2,     3.67,2,     8.62,2,     0.01,2,     0.65,2,     0.02,2,    2.878,2,    1.671,2,    0.132,2,    2.265,2,   2114.6,2,   2314.2,2,   -999.0,9,  -999.00,9,-999.0000,9,-999.0000,9,-999.0000,9,  12.9957,2
  49NZ20191229,  I07S,    86,  1,     27,   1227,2,  200105,0126,-35.0003,  57.4178, 4820,    600.9,  12.0962,  12.0967,2,  35.0762,2,  35.0778,2,    228.9,2,    228.8,2,     4.29,2,    11.39,2,     0.01,2,     0.82,2,     0.03,2,    3.026,2,    1.750,2,    0.103,2,    2.068,2,   2123.7,2,   2311.6,2,   -999.0,9,  -999.00,9,-999.0000,9,-999.0000,9,-999.0000,9,  12.0967,2
  49NZ20191229,  I07S,    86,  1,     26,   1226,2,  200105,0126,-35.0003,  57.4178, 4820,    701.8,  10.9613,  10.9620,2,  34.9027,2,  34.9032,2,    221.9,2,    221.7,2,     5.47,2,    14.55,2,     0.01,2,     1.01,2,     0.05,2,    3.227,2,    1.815,2,    0.100,2,    1.807,2,   2136.9,6,   2303.2,2,   -999.0,9,  -999.00,9,-999.0000,9,-999.0000,9,-999.0000,9,  10.9620,2
  49NZ20191229,  I07S,    86,  1,     25,   1225,2,  200105,0126,-35.0003,  57.4178, 4820,    800.7,   9.8922,   9.8930,2,  34.7617,2,  34.7624,2,    217.3,2,    217.5,2,     7.27,2,    17.44,2,     0.01,2,     1.20,2,     0.04,2,    3.264,2,    1.797,2,    0.110,2,    1.613,2,   2142.9,2,   2298.7,2,   -999.0,9,  -999.00,9,-999.0000,9,-999.0000,9,-999.0000,9,   9.8930,2
  49NZ20191229,  I07S,    86,  1,     24,   1224,2,  200105,0126,-35.0003,  57.4178, 4820,    900.5,   8.6912,   8.6962,2,  34.6308,2,  34.6306,2,    211.2,2,    211.2,2,    10.37,2,    21.06,2,     0.01,2,     1.42,2,     0.06,2,    3.220,2,    1.719,2,    0.105,2,    1.386,2,   2156.0,2,   2295.7,2,   -999.0,9,  -999.00,9,-999.0000,9,-999.0000,9,-999.0000,9,   8.6962,2
  49NZ20191229,  I07S,    86,  1,     23,   1223,2,  200105,0126,-35.0003,  57.4178, 4820,    999.1,   7.6297,   7.6293,2,  34.5344,2,  34.5336,2,    205.4,2,    205.7,2,    14.80,2,    24.12,2,     0.01,2,     1.62,2,     0.06,2,    3.017,2,    1.582,2,    0.115,2,    1.134,2,   2167.9,2,   2293.2,2,   -999.0,9,  -999.00,9,-999.0000,9,-999.0000,9,-999.0000,9,   7.6293,2
  49NZ20191229,  I07S,    86,  1,     22,   1222,2,  200105,0126,-35.0003,  57.4178, 4820,   1200.9,   4.9864,   4.9860,2,  34.3690,2,  34.3692,2,    201.5,2,    201.1,2,    30.17,2,    30.25,2,     0.00,2,     2.04,2,     0.05,2,    2.399,2,    1.220,2,    0.129,2,    0.748,2,   2195.6,2,   2297.0,6,   -999.0,9,  -999.00,9,-999.0000,9,-999.0000,9,-999.0000,9,   4.9860,2
  49NZ20191229,  I07S,    86,  1,     21,   1221,2,  200105,0126,-35.0003,  57.4178, 4820,   1399.6,   3.9111,   3.9147,2,  34.4276,2,  34.4282,2,    184.8,2,    184.7,2,    48.51,2,    32.95,2,     0.00,2,     2.24,2,     0.04,2,    1.435,2,    0.736,2,    0.082,2,    0.388,2,   2223.1,2,   2318.4,2,   -999.0,9,  -999.00,9,-999.0000,9,-999.0000,9,-999.0000,9,   3.9147,2
  49NZ20191229,  I07S,    86,  1,     20,   1220,2,  200105,0126,-35.0003,  57.4178, 4820,   1599.6,   3.2717,   3.2717,2,  34.5203,2,  34.5201,2,    174.0,2,    173.9,2,    63.31,2,    33.98,2,     0.00,2,     2.32,2,     0.05,2,    0.693,2,    0.375,2,    0.043,2,    0.189,2,   2244.9,2,   2331.1,2,   -999.0,9,  -999.00,9,-999.0000,9,-999.0000,9,-999.0000,9,   3.2717,2
  49NZ20191229,  I07S,    86,  1,     19,   1219,2,  200105,0126,-35.0003,  57.4178, 4820,   1799.4,   2.8177,   2.8179,2,  34.6012,2,  34.6013,2,    172.9,2,    172.4,2,    71.77,2,    33.59,2,     0.00,2,     2.29,2,     0.04,2,    0.335,2,    0.190,2,    0.019,2,    0.084,2,   2252.5,2,   2341.3,2,   -999.0,9,  -999.00,9,-999.0000,9,-999.0000,9,-999.0000,9,   2.8179,2
  49NZ20191229,  I07S,    86,  1,     18,   1218,2,  200105,0126,-35.0003,  57.4178, 4820,   1999.7,   2.6050,   2.6048,2,  34.6573,2,  34.6581,2,    176.6,2,    176.1,2,    77.74,2,    32.85,2,     0.00,2,     2.23,2,     0.04,2,    0.190,2,    0.111,2,    0.010,2,    0.067,2,   2252.0,2,   2347.4,2,   -999.0,9,  -999.00,9,-999.0000,9,-999.0000,9,-999.0000,9,   2.6048,2
  49NZ20191229,  I07S,    86,  1,     17,   1217,2,  200105,0126,-35.0003,  57.4178, 4820,   2200.0,   2.4392,   2.4392,2,  34.6950,2,  34.6963,2,    180.4,2,    180.1,2,    82.39,2,    32.32,2,     0.00,2,     2.20,2,     0.04,2,    0.117,2,    0.068,2,    0.008,2,    0.009,2,   2253.8,2,   2351.1,2,   -999.0,9,  -999.00,9,-999.0000,9,-999.0000,9,-999.0000,9,   2.4392,2
  49NZ20191229,  I07S,    86,  1,     16,   1216,2,  200105,0126,-35.0003,  57.4178, 4820,   2400.2,   2.3113,   2.3124,2,  34.7245,2,  34.7247,2,    185.8,2,    185.3,2,    84.71,2,    31.54,2,     0.00,2,     2.14,2,     0.05,2,    0.102,2,    0.058,2,    0.005,2,    0.011,2,   2254.5,6,   2355.4,2,   -999.0,9,  -999.00,9,-999.0000,9,-999.0000,9,-999.0000,9,   2.3124,2
  49NZ20191229,  I07S,    86,  1,     15,   1215,2,  200105,0126,-35.0003,  57.4178, 4820,   2601.1,   2.1183,   2.1179,2,  34.7323,2,  34.7331,2,    183.6,2,    183.3,2,    95.22,2,    32.05,2,     0.00,2,     2.19,2,     0.05,2,    0.061,2,    0.034,2,    0.003,2,    0.026,2,   2263.9,2,   2365.0,2,   -999.0,9,  -999.00,9,-999.0000,9,-999.0000,9,-999.0000,9,   2.1179,2
  49NZ20191229,  I07S,    86,  1,     14,   1214,2,  200105,0126,-35.0003,  57.4178, 4820,   2801.4,   1.9772,   1.9772,2,  34.7365,2,  34.7369,2,    184.6,2,    184.2,2,   100.86,2,    32.26,2,     0.00,2,     2.20,2,     0.04,2,    0.067,2,    0.043,2,    0.004,2,    0.058,2,   2267.8,2,   2369.6,2,   -999.0,9,  -999.00,9,-999.0000,9,-999.0000,9,-999.0000,9,   1.9772,2
  49NZ20191229,  I07S,    86,  1,     13,   1213,2,  200105,0126,-35.0003,  57.4178, 4820,   3001.7,   1.8831,   1.8830,2,  34.7394,2,  34.7398,2,    189.6,2,    189.2,2,   100.64,2,    32.14,2,     0.00,2,     2.18,2,     0.05,2,    0.075,2,    0.043,2,    0.006,2,    0.034,2,   2263.5,2,   2368.6,2,   -999.0,9,  -999.00,9,-999.0000,9,-999.0000,9,-999.0000,9,   1.8830,2
  49NZ20191229,  I07S,    86,  1,     12,   1212,2,  200105,0126,-35.0003,  57.4178, 4820,   3250.5,   1.6713,   1.6712,2,  34.7380,2,  34.7382,2,    197.4,2,    197.1,2,   102.01,2,    31.65,2,     0.00,2,     2.15,2,     0.04,2,    0.112,2,    0.063,2,    0.008,2,     0.01,2,   2260.5,2,   2364.1,6,   -999.0,9,  -999.00,9,-999.0000,9,-999.0000,9,-999.0000,9,   1.6712,2
  49NZ20191229,  I07S,    86,  1,     11,   1211,2,  200105,0126,-35.0003,  57.4178, 4820,   3500.6,   1.3811,   1.3815,2,  34.7297,2,  34.7298,2,    204.0,2,    204.0,2,   107.31,2,    31.61,2,     0.00,2,     2.15,2,     0.04,2,    0.153,2,    0.088,2,    0.009,2,    0.037,2,   2253.8,2,   2363.0,2,   -999.0,9,  -999.00,9,-999.0000,9,-999.0000,9,-999.0000,9,   1.3815,2
  49NZ20191229,  I07S,    86,  1,     10,   1210,2,  200105,0126,-35.0003,  57.4178, 4820,   3750.2,   1.1466,   1.1465,2,  34.7192,2,  34.7200,2,    208.4,2,    208.2,2,   112.18,2,    31.99,2,     0.00,2,     2.17,2,     0.03,2,    0.196,2,    0.114,2,    0.008,2,    0.062,2,   2255.7,2,   2359.0,2,   -999.0,9,  -999.00,9,-999.0000,9,-999.0000,9,-999.0000,9,   1.1465,2
  49NZ20191229,  I07S,    86,  1,      9,   1209,2,  200105,0126,-35.0003,  57.4178, 4820,   4000.7,   0.7909,   0.7910,2,  34.7011,2,  34.7008,2,    213.5,2,    213.0,2,   122.22,2,    32.48,2,     0.00,2,     2.20,2,     0.03,2,    0.251,2,    0.141,2,    0.016,2,    0.057,2,   2258.9,2,   2359.9,2,   -999.0,9,  -999.00,9,-999.0000,9,-999.0000,9,-999.0000,9,   0.7910,2
  49NZ20191229,  I07S,    86,  1,      8,  12103,2,  200105,0126,-35.0003,  57.4178, 4820,   4250.5,   0.6778,   0.6775,2,  34.6941,2,  34.6946,2,    215.3,2,    214.7,2,   126.56,2,    32.64,2,     0.00,2,     2.22,2,     0.03,2,    0.262,2,    0.148,2,    0.017,2,    0.071,2,   2260.4,6,   2360.7,2,   -999.0,9,  -999.00,9,-999.0000,9,-999.0000,9,-999.0000,9,   0.6775,2
  49NZ20191229,  I07S,    86,  1,      7,   1207,2,  200105,0126,-35.0003,  57.4178, 4820,   4502.0,   0.6202,   0.6202,2,  34.6899,2,  34.6895,2,    216.3,2,    216.0,2,   129.38,2,    32.79,2,     0.00,2,     2.23,2,     0.03,2,    0.269,2,    0.152,2,    0.013,2,    0.057,2,   2260.6,2,   2361.9,2,   -999.0,9,  -999.00,9,-999.0000,9,-999.0000,9,-999.0000,9,   0.6202,2
  49NZ20191229,  I07S,    86,  1,      6,   1206,2,  200105,0126,-35.0003,  57.4178, 4820,   4749.5,   0.5903,   0.5904,2,  34.6871,2,  34.6874,2,    217.1,2,    216.7,2,   131.20,2,    32.84,2,     0.00,2,     2.24,2,     0.04,2,    0.275,2,    0.156,2,    0.016,2,    0.067,2,   2261.4,2,   2363.2,6,   -999.0,9,  -999.00,9,-999.0000,9,-999.0000,9,-999.0000,9,   0.5904,2
  49NZ20191229,  I07S,    86,  1,      5,   1205,2,  200105,0126,-35.0003,  57.4178, 4820,     39.9,  17.2399,  17.2400,2,  35.5765,2,-999.0000,9,    242.4,2,   -999.0,9,  -999.00,9,  -999.00,9,  -999.00,9,  -999.00,9,     -999,9, -999.000,9, -999.000,9, -999.000,9,     -999,9,   -999.0,9,   -999.0,9,   -999.0,9,  -999.00,9,-999.0000,9,-999.0000,9,-999.0000,9,  17.2400,2
  49NZ20191229,  I07S,    86,  1,      4,   1204,2,  200105,0126,-35.0003,  57.4178, 4820,      5.4,  18.3081,  18.3046,3,  35.5266,2,-999.0000,9,    240.9,2,   -999.0,9,  -999.00,9,  -999.00,9,  -999.00,9,  -999.00,9,     -999,9, -999.000,9, -999.000,9, -999.000,9,     -999,9,   -999.0,9,   -999.0,9,   -999.0,9,  -999.00,9,-999.0000,9,-999.0000,9,-999.0000,9,  18.3046,3
  49NZ20191229,  I07S,    86,  1,      3,   1203,2,  200105,0126,-35.0003,  57.4178, 4820,     85.7,  15.9175,  15.9198,8,  35.4900,2,-999.0000,9,    239.3,2,   -999.0,9,  -999.00,9,  -999.00,9,  -999.00,9,  -999.00,9,     -999,9, -999.000,9, -999.000,9, -999.000,9,     -999,9,   -999.0,9,   -999.0,9,   -999.0,9,  -999.00,9,-999.0000,9,-999.0000,9,-999.0000,9,  15.9198,8
  49NZ20191229,  I07S,    86,  1,      2,  12046,2,  200105,0126,-35.0003,  57.4178, 4820,     85.5,  15.8979,  15.9001,2,  35.4891,2,  35.4881,2,    239.0,2,    238.4,2,     1.90,2,     1.39,2,     0.17,2,     0.24,2,     0.05,2, -999.000,9, -999.000,9, -999.000,9,     -999,9,   2085.9,2,   2334.7,2,   -999.0,9,     0.62,2,-999.0000,9,-999.0000,9,-999.0000,9,  15.9001,2
  49NZ20191229,  I07S,    86,  1,      1,   1201,2,  200105,0126,-35.0003,  57.4178, 4820,   4882.0,   0.5834,   0.5834,2,  34.6859,2,  34.6862,2,    217.5,2,    217.1,2,   131.36,2,    32.80,2,     0.01,2,     2.23,2,     0.04,2,    0.279,2,    0.158,2,    0.015,2,    0.074,2,   2244.9,2,   2363.5,2,   -999.0,9,  -999.00,9,-999.0000,9,-999.0000,9,-999.0000,9,   0.5834,2