BOTTLE,20210310PRINUNIVRMK
EXPOCODE,SECT_ID,STNNBR,CASTNO,SAMPNO,BTLNBR,BTLNBR_FLAG_W,DATE,TIME,LATITUDE,LONGITUDE,DEPTH,CTDPRS,CTDTMP,SBE35,SBE35_FLAG_W,CTDSAL,CTDSAL_FLAG_W,SALNTY,SALNTY_FLAG_W,CTDOXY,CTDOXY_FLAG_W,OXYGEN,OXYGEN_FLAG_W,SILCAT,SILCAT_FLAG_W,NITRAT,NITRAT_FLAG_W,NITRIT,NITRIT_FLAG_W,PHSPHT,PHSPHT_FLAG_W,NH4,NH4_FLAG_W,CFC-11,CFC-11_FLAG_W,CFC-12,CFC-12_FLAG_W,CFC113,CFC113_FLAG_W,SF6,SF6_FLAG_W,TCARBN,TCARBN_FLAG_W,ALKALI,ALKALI_FLAG_W,DOC,DOC_FLAG_W,CHLORA,CHLORA_FLAG_W,CDOM300,CDOM300_FLAG_W,CDOM325,CDOM325_FLAG_W,CDOM443,CDOM443_FLAG_W,SBE35,SBE35_FLAG_W
,,,,,,,,,,,METERS,DBAR,ITS-90,,,PSS-78,,PSS-78,,UMOL/KG,,UMOL/KG,,UMOL/KG,,UMOL/KG,,UMOL/KG,,UMOL/KG,,UMOL/KG,,PMOL/KG,,PMOL/KG,,PMOL/KG,,FMOL/KG,,UMOL/KG,,UMOL/KG,,UMOL/KG,,UG/L,,1/M,,1/M,,1/M,,,
  49NZ20191229,  I07S,    80,  1,     36,   1236,2,  200103,0051,-32.8501,  57.1166, 5341,     10.8,  20.9795,  20.9809,2,  35.6863,2,  35.6847,2,    224.2,2,    225.9,2,     1.32,2,     0.54,3,     0.01,2,     0.08,2,     0.05,2,    1.975,2,    1.216,2,    0.171,2,    2.029,2,   2062.6,2,   2340.3,2,   -999.0,9,     0.08,2,-999.0000,9,-999.0000,9,-999.0000,9,  20.9809,2
  49NZ20191229,  I07S,    80,  1,     35,   1235,2,  200103,0051,-32.8501,  57.1166, 5341,     49.9,  19.4879,  19.4907,2,  35.6597,2,  35.6587,2,    234.2,2,    235.3,2,     1.30,2,     1.00,3,     0.01,2,     0.10,2,     0.05,2,    2.134,2,    1.299,2,    0.185,2,    2.117,2,   2065.9,2,   2339.1,2,   -999.0,9,     0.13,2,-999.0000,9,-999.0000,9,-999.0000,9,  19.4907,2
  49NZ20191229,  I07S,    80,  1,     34,   1234,2,  200103,0051,-32.8501,  57.1166, 5341,    100.2,  16.5458,  16.5437,2,  35.5640,2,  35.5682,2,    238.1,2,    238.8,2,     1.57,2,     0.75,3,     0.05,2,     0.19,2,     0.11,2,    2.391,2,    1.432,2,    0.175,2,    2.263,2,   2085.0,2,   2334.9,2,   -999.0,9,     0.19,2,-999.0000,9,-999.0000,9,-999.0000,9,  16.5437,2
  49NZ20191229,  I07S,    80,  1,     33,   1233,2,  200103,0051,-32.8501,  57.1166, 5341,    150.0,  15.1844,  15.1841,2,  35.4612,2,  35.4613,2,    223.1,2,    223.4,2,     2.33,2,     5.13,2,     0.03,2,     0.42,2,     0.02,2,    2.554,2,    1.527,2,    0.111,2,    2.214,2,   2107.7,2,   2329.6,2,   -999.0,9,     0.09,2,-999.0000,9,-999.0000,9,-999.0000,9,  15.1841,2
  49NZ20191229,  I07S,    80,  1,     32,   1232,2,  200103,0051,-32.8501,  57.1166, 5341,    200.0,  14.3443,  14.3506,2,  35.3888,2,  35.3899,2,    226.3,2,    226.6,2,     2.76,2,     6.08,2,     0.02,2,     0.50,2,     0.02,2,    2.659,2,    1.573,2,    0.104,2,    2.282,2,   2112.4,2,   2322.8,2,   -999.0,9,     0.01,2,-999.0000,9,-999.0000,9,-999.0000,9,  14.3506,2
  49NZ20191229,  I07S,    80,  1,     31,   1231,2,  200103,0051,-32.8501,  57.1166, 5341,    250.3,  13.8709,  13.8717,2,  35.3324,2,  35.3327,2,    227.5,2,    227.6,2,     3.00,2,     7.76,2,     0.02,2,     0.57,2,     0.03,2,    2.717,2,    1.610,2,    0.092,2,    2.226,2,   2116.4,2,   2322.3,2,   -999.0,9,     0.01,2,-999.0000,9,-999.0000,9,-999.0000,9,  13.8717,2
  49NZ20191229,  I07S,    80,  1,     30,   1230,2,  200103,0051,-32.8501,  57.1166, 5341,    279.1,  13.6257,  13.6242,2,  35.2946,2,  35.2959,2,    227.6,2,    227.8,2,     2.90,2,     7.60,2,     0.02,2,     0.60,2,     0.02,2,    2.759,2,    1.627,2,    0.087,2,    2.234,2,   2114.4,2,   2319.4,2,   -999.0,9,  -999.00,9,-999.0000,9,-999.0000,9,-999.0000,9,  13.6242,2
  49NZ20191229,  I07S,    80,  1,     29,   1229,2,  200103,0051,-32.8501,  57.1166, 5341,    369.0,  13.0494,  13.0494,2,  35.2279,2,  35.2280,2,    230.6,2,    230.5,2,     3.38,2,     9.18,2,     0.01,2,     0.67,2,     0.02,2,    2.861,2,    1.679,2,    0.093,2,    2.263,2,   2118.5,2,   2317.6,2,   -999.0,9,  -999.00,9,-999.0000,9,-999.0000,9,-999.0000,9,  13.0494,2
  49NZ20191229,  I07S,    80,  1,     28,   1228,2,  200103,0051,-32.8501,  57.1166, 5341,    470.2,  12.3166,  12.3173,2,  35.1175,2,  35.1176,2,    231.0,2,    231.0,2,     3.62,2,    10.51,2,     0.01,2,     0.77,2,     0.01,2,    2.995,2,    1.749,2,    0.101,2,    2.133,2,   2120.9,2,   2312.3,2,   -999.0,9,  -999.00,9,-999.0000,9,-999.0000,9,-999.0000,9,  12.3173,2
  49NZ20191229,  I07S,    80,  1,     27,   1227,2,  200103,0051,-32.8501,  57.1166, 5341,    570.5,  11.6677,  11.6681,2,  35.0160,2,  35.0161,2,    229.0,2,    229.0,2,     3.98,2,    12.11,2,     0.01,2,     0.88,2,     0.02,2,    3.113,2,    1.801,2,    0.099,2,     1.99,2,   2126.8,2,   2305.7,2,   -999.0,9,  -999.00,9,-999.0000,9,-999.0000,9,-999.0000,9,  11.6681,2
  49NZ20191229,  I07S,    80,  1,     26,   1226,2,  200103,0051,-32.8501,  57.1166, 5341,    671.0,  10.8498,  10.8508,2,  34.8931,2,  34.8938,2,    227.6,2,    228.0,2,     4.70,2,    14.05,2,     0.01,2,     1.00,2,     0.04,2,    3.269,2,    1.856,2,    0.107,2,    1.861,2,   2131.5,6,   2301.0,2,   -999.0,9,  -999.00,9,-999.0000,9,-999.0000,9,-999.0000,9,  10.8508,2
  49NZ20191229,  I07S,    80,  1,     25,   1225,2,  200103,0051,-32.8501,  57.1166, 5341,    768.4,   9.9512,   9.9511,2,  34.7690,2,  34.7682,2,    224.3,2,    224.5,2,     5.87,2,    16.61,2,     0.01,2,     1.15,2,     0.05,2,    3.354,2,    1.863,2,    0.108,2,    1.642,2,   2139.7,2,   2297.4,2,   -999.0,9,  -999.00,9,-999.0000,9,-999.0000,9,-999.0000,9,   9.9511,2
  49NZ20191229,  I07S,    80,  1,     24,   1224,2,  200103,0051,-32.8501,  57.1166, 5341,    870.4,   8.6848,   8.6877,2,  34.6332,2,  34.6359,2,    210.7,2,    211.4,2,    10.53,2,    20.77,2,     0.00,2,     1.42,2,     0.05,2,    3.183,2,    1.715,2,    0.107,2,     1.32,2,   2156.2,2,   2294.2,2,   -999.0,9,  -999.00,9,-999.0000,9,-999.0000,9,-999.0000,9,   8.6877,2
  49NZ20191229,  I07S,    80,  1,     23,   1223,2,  200103,0051,-32.8501,  57.1166, 5341,    970.7,   7.2104,   7.2086,2,  34.4994,2,  34.5001,2,    204.3,2,    204.7,2,    16.26,2,    25.01,2,     0.00,2,     1.69,2,     0.04,2,    2.899,2,    1.522,2,    0.108,2,    1.056,2,   2169.0,2,   2292.8,2,   -999.0,9,  -999.00,9,-999.0000,9,-999.0000,9,-999.0000,9,   7.2086,2
  49NZ20191229,  I07S,    80,  1,     22,   1222,2,  200103,0051,-32.8501,  57.1166, 5341,   1128.2,   5.2542,   5.2555,2,  34.3812,2,  34.3817,2,    200.8,2,    200.8,2,    28.11,2,    29.58,2,     0.00,2,     2.02,2,     0.03,2,    2.385,2,    1.229,2,    0.120,2,    0.738,2,   2193.5,2,   2295.7,6,   -999.0,9,  -999.00,9,-999.0000,9,-999.0000,9,-999.0000,9,   5.2555,2
  49NZ20191229,  I07S,    80,  1,     21,   1221,2,  200103,0051,-32.8501,  57.1166, 5341,   1330.8,   3.9949,   3.9948,2,  34.4079,2,  34.4073,2,    186.5,2,    186.7,2,    45.75,2,    32.74,2,     0.00,2,     2.23,2,     0.03,2,    1.487,2,    0.769,2,    0.088,2,    0.453,2,   2216.1,2,   2310.4,2,   -999.0,9,  -999.00,9,-999.0000,9,-999.0000,9,-999.0000,9,   3.9948,2
  49NZ20191229,  I07S,    80,  1,     20,   1220,2,  200103,0051,-32.8501,  57.1166, 5341,   1530.3,   3.2673,   3.2671,2,  34.5059,2,  34.5064,2,    174.0,2,    174.1,2,    62.00,2,    33.85,2,     0.00,2,     2.32,2,     0.01,2,    0.714,2,    0.386,2,    0.040,2,    0.196,2,   2243.2,2,   2330.6,2,   -999.0,9,  -999.00,9,-999.0000,9,-999.0000,9,-999.0000,9,   3.2671,2
  49NZ20191229,  I07S,    80,  1,     19,   1219,2,  200103,0051,-32.8501,  57.1166, 5341,   1728.7,   2.8893,   2.8890,2,  34.5950,2,  34.5956,2,    174.0,2,    173.9,2,    71.78,2,    33.27,2,     0.01,2,     2.28,2,     0.02,2,    0.379,2,    0.214,2,    0.022,2,    0.098,2,   2246.4,2,   2339.4,2,   -999.0,9,  -999.00,9,-999.0000,9,-999.0000,9,-999.0000,9,   2.8890,2
  49NZ20191229,  I07S,    80,  1,     18,   1218,2,  200103,0051,-32.8501,  57.1166, 5341,   1930.0,   2.6252,   2.6250,2,  34.6524,2,  34.6527,2,    178.4,2,    178.2,2,    76.82,2,    32.58,2,     0.01,2,     2.24,2,     0.01,2,    0.249,2,    0.143,2,    0.014,2,    0.061,2,   2251.4,2,   2346.2,2,   -999.0,9,  -999.00,9,-999.0000,9,-999.0000,9,-999.0000,9,   2.6250,2
  49NZ20191229,  I07S,    80,  1,     17,   1217,2,  200103,0051,-32.8501,  57.1166, 5341,   2130.1,   2.4339,   2.4341,2,  34.6939,2,  34.6943,2,    183.6,2,    183.7,2,    85.49,2,    31.49,2,     0.00,2,     2.15,2,     0.01,2,    0.173,2,    0.100,2,    0.009,2,    0.018,2,   2249.1,2,   2346.7,2,   -999.0,9,  -999.00,9,-999.0000,9,-999.0000,9,-999.0000,9,   2.4341,2
  49NZ20191229,  I07S,    80,  1,     16,   1216,2,  200103,0051,-32.8501,  57.1166, 5341,   2328.5,   2.2625,   2.2626,2,  34.7181,2,  34.7181,2,    186.6,2,    186.8,2,    85.54,2,    31.54,2,     0.00,2,     2.15,2,     0.02,2,    0.121,2,    0.069,2,    0.010,2,    0.025,2,   2253.2,6,   2354.0,2,   -999.0,9,  -999.00,9,-999.0000,9,-999.0000,9,-999.0000,9,   2.2626,2
  49NZ20191229,  I07S,    80,  1,     15,   1215,2,  200103,0051,-32.8501,  57.1166, 5341,   2529.9,   2.1132,   2.1130,2,  34.7303,2,  34.7306,2,    189.8,2,    189.7,2,    89.29,2,    31.20,2,     0.00,2,     2.14,2,     0.03,2,    0.105,2,    0.063,2,    0.008,2,    0.043,2,   2258.5,2,   2358.9,2,   -999.0,9,  -999.00,9,-999.0000,9,-999.0000,9,-999.0000,9,   2.1130,2
  49NZ20191229,  I07S,    80,  1,     14,   1214,2,  200103,0051,-32.8501,  57.1166, 5341,   2730.7,   1.9862,   1.9863,2,  34.7359,2,  34.7367,2,    192.1,2,    192.2,2,    92.59,2,    31.31,2,     0.01,2,     2.13,2,     0.05,2,    0.101,2,    0.059,2,    0.006,2,    0.037,2,   2253.5,2,   2360.2,2,   -999.0,9,  -999.00,9,-999.0000,9,-999.0000,9,-999.0000,9,   1.9863,2
  49NZ20191229,  I07S,    80,  1,     13,   1213,2,  200103,0051,-32.8501,  57.1166, 5341,   2930.1,   1.8397,   1.8396,2,  34.7393,2,  34.7386,2,    195.3,2,    195.0,2,    96.91,2,    31.24,2,     0.00,2,     2.13,2,     0.04,2,    0.102,2,    0.059,2,    0.006,2,    0.016,2,   2255.4,2,   2362.4,2,   -999.0,9,  -999.00,9,-999.0000,9,-999.0000,9,-999.0000,9,   1.8396,2
  49NZ20191229,  I07S,    80,  1,     12,   1212,2,  200103,0051,-32.8501,  57.1166, 5341,   3170.9,   1.6300,   1.6295,2,  34.7360,2,  34.7363,2,    199.4,2,    199.0,2,   100.78,2,    31.26,2,     0.00,2,     2.14,2,     0.03,2,    0.116,2,    0.068,2,    0.010,2,    0.041,2,   2257.3,2,   2362.3,6,   -999.0,9,  -999.00,9,-999.0000,9,-999.0000,9,-999.0000,9,   1.6295,2
  49NZ20191229,  I07S,    80,  1,     11,   1211,2,  200103,0051,-32.8501,  57.1166, 5341,   3419.6,   1.4224,   1.4223,2,  34.7307,2,  34.7308,2,    204.2,2,    204.2,2,   104.98,2,    31.29,2,     0.00,2,     2.14,2,     0.03,2,    0.151,2,    0.090,2,    0.010,2,    0.024,2,   2258.8,2,   2361.5,2,   -999.0,9,  -999.00,9,-999.0000,9,-999.0000,9,-999.0000,9,   1.4223,2
  49NZ20191229,  I07S,    80,  1,     10,   1210,2,  200103,0051,-32.8501,  57.1166, 5341,   3670.4,   1.2092,   1.2090,2,  34.7217,2,  34.7220,2,    207.8,2,    207.5,2,   110.36,2,    31.59,2,     0.00,2,     2.16,2,     0.02,2,    0.182,2,    0.105,2,    0.011,2,    0.047,2,   2255.6,2,   2362.1,2,   -999.0,9,  -999.00,9,-999.0000,9,-999.0000,9,-999.0000,9,   1.2090,2
  49NZ20191229,  I07S,    80,  1,      9,   1209,2,  200103,0051,-32.8501,  57.1166, 5341,   3919.8,   0.9909,   0.9910,2,  34.7106,2,  34.7102,2,    210.6,2,    210.5,2,   117.31,2,    32.09,2,     0.01,2,     2.18,2,     0.03,2,    0.210,2,    0.122,2,    0.010,2,    0.049,2,   2258.2,2,   2362.8,2,   -999.0,9,  -999.00,9,-999.0000,9,-999.0000,9,-999.0000,9,   0.9910,2
  49NZ20191229,  I07S,    80,  1,      8,  12103,2,  200103,0051,-32.8501,  57.1166, 5341,   4169.6,   0.7629,   0.7635,2,  34.6984,2,  34.6988,2,    214.0,2,    213.6,2,   124.03,2,    32.40,2,     0.00,2,     2.22,2,     0.02,2,    0.239,2,    0.137,2,    0.018,2,    0.026,2,   2257.0,6,   2360.5,2,   -999.0,9,  -999.00,9,-999.0000,9,-999.0000,9,-999.0000,9,   0.7635,2
  49NZ20191229,  I07S,    80,  1,      7,   1207,2,  200103,0051,-32.8501,  57.1166, 5341,   4421.8,   0.6898,   0.6897,2,  34.6937,2,  34.6936,2,    215.4,2,    215.1,2,   126.94,2,    32.52,2,     0.00,2,     2.22,2,     0.02,2,    0.249,2,    0.141,2,    0.016,2,    0.049,2,   2258.3,2,   2360.1,2,   -999.0,9,  -999.00,9,-999.0000,9,-999.0000,9,-999.0000,9,   0.6897,2
  49NZ20191229,  I07S,    80,  1,      6,   1206,2,  200103,0051,-32.8501,  57.1166, 5341,   4669.7,   0.6917,   0.6917,2,  34.6925,2,  34.6923,2,    215.6,2,    215.5,2,   127.64,2,    32.52,2,     0.00,2,     2.22,2,     0.02,2,    0.242,2,    0.142,2,    0.013,2,     0.02,2,   2261.4,2,   2360.3,6,   -999.0,9,  -999.00,9,-999.0000,9,-999.0000,9,-999.0000,9,   0.6917,2
  49NZ20191229,  I07S,    80,  1,      5,   1205,2,  200103,0051,-32.8501,  57.1166, 5341,   4922.1,   0.7042,   0.7042,2,  34.6915,2,  34.6917,2,    215.7,2,    215.7,2,   128.13,2,    32.43,2,     0.00,2,     2.23,2,     0.03,2,    0.253,2,    0.144,2,    0.014,2,     0.07,2,   2259.8,2,   2359.1,2,   -999.0,9,  -999.00,9,-999.0000,9,-999.0000,9,-999.0000,9,   0.7042,2
  49NZ20191229,  I07S,    80,  1,      4,   1204,2,  200103,0051,-32.8501,  57.1166, 5341,   5170.2,   0.7256,   0.7255,2,  34.6911,2,  34.6914,2,    215.6,2,    215.8,2,   128.52,2,    32.54,2,     0.00,2,     2.23,2,     0.03,2,    0.251,2,    0.143,2,    0.013,2,    0.088,2,   2261.1,2,   2360.2,2,   -999.0,9,  -999.00,9,-999.0000,9,-999.0000,9,-999.0000,9,   0.7255,2
  49NZ20191229,  I07S,    80,  1,      2,  12046,2,  200103,0051,-32.8501,  57.1166, 5341,     70.7,  18.2282,  18.2557,2,  35.6254,2,  35.6262,2,    239.8,2,    239.6,2,     1.38,2,     0.00,2,     0.01,2,     0.10,2,     0.03,2, -999.000,9, -999.000,9, -999.000,9,     -999,9,   2069.0,2,   2337.3,2,   -999.0,9,     0.17,2,-999.0000,9,-999.0000,9,-999.0000,9,  18.2557,2
  49NZ20191229,  I07S,    80,  1,      1,   1201,2,  200103,0051,-32.8501,  57.1166, 5341,   5439.2,   0.7544,   0.7544,2,  34.6910,2,  34.6907,2,    215.6,2,    215.8,2,   128.20,2,    32.57,2,     0.01,2,     2.22,2,     0.03,2,    0.252,2,    0.144,2,    0.014,2,    0.042,2,   2261.7,2,   2362.1,2,   -999.0,9,  -999.00,9,-999.0000,9,-999.0000,9,-999.0000,9,   0.7544,2