BOTTLE,20210310PRINUNIVRMK
EXPOCODE,SECT_ID,STNNBR,CASTNO,SAMPNO,BTLNBR,BTLNBR_FLAG_W,DATE,TIME,LATITUDE,LONGITUDE,DEPTH,CTDPRS,CTDTMP,SBE35,SBE35_FLAG_W,CTDSAL,CTDSAL_FLAG_W,SALNTY,SALNTY_FLAG_W,CTDOXY,CTDOXY_FLAG_W,OXYGEN,OXYGEN_FLAG_W,SILCAT,SILCAT_FLAG_W,NITRAT,NITRAT_FLAG_W,NITRIT,NITRIT_FLAG_W,PHSPHT,PHSPHT_FLAG_W,NH4,NH4_FLAG_W,CFC-11,CFC-11_FLAG_W,CFC-12,CFC-12_FLAG_W,CFC113,CFC113_FLAG_W,SF6,SF6_FLAG_W,TCARBN,TCARBN_FLAG_W,ALKALI,ALKALI_FLAG_W,DOC,DOC_FLAG_W,CHLORA,CHLORA_FLAG_W,CDOM300,CDOM300_FLAG_W,CDOM325,CDOM325_FLAG_W,CDOM443,CDOM443_FLAG_W,SBE35,SBE35_FLAG_W
,,,,,,,,,,,METERS,DBAR,ITS-90,,,PSS-78,,PSS-78,,UMOL/KG,,UMOL/KG,,UMOL/KG,,UMOL/KG,,UMOL/KG,,UMOL/KG,,UMOL/KG,,PMOL/KG,,PMOL/KG,,PMOL/KG,,FMOL/KG,,UMOL/KG,,UMOL/KG,,UMOL/KG,,UG/L,,1/M,,1/M,,1/M,,,
  49NZ20191229,  I07S,   120,  1,     36,   1236,2,  200114,1831,-50.6749,  57.4978, 4515,      9.3,   4.2593,   4.2593,2,  33.8270,2,  33.8277,2,    322.4,2,    322.6,2,     8.66,2,    23.75,2,     0.23,2,     1.56,2,     0.28,2,    4.965,2,    2.648,2,    0.450,2,     3.85,2,   2138.2,2,   2279.9,2,   -999.0,9,     0.45,2,-999.0000,9,-999.0000,9,-999.0000,9,   4.2593,2
  49NZ20191229,  I07S,   120,  1,     35,   1235,2,  200114,1831,-50.6749,  57.4978, 4515,     50.2,   4.2537,   4.2535,2,  33.8269,2,  33.8271,2,    322.2,2,    322.6,2,     8.64,2,    23.78,2,     0.23,2,     1.57,2,     0.28,2,    4.982,2,    2.660,2,    0.445,2,    3.836,2,   2136.7,2,   2281.0,2,   -999.0,9,     0.51,2,-999.0000,9,-999.0000,9,-999.0000,9,   4.2535,2
  49NZ20191229,  I07S,   120,  1,     34,   1234,2,  200114,1831,-50.6749,  57.4978, 4515,    100.2,   2.6430,   2.6451,2,  33.8582,2,  33.8584,2,    323.1,2,    323.4,2,    20.05,2,    25.69,2,     0.24,2,     1.82,2,     0.94,2,    5.249,2,    2.801,2,    0.465,2,     4.03,2,   2157.7,2,   2281.1,2,   -999.0,9,     0.11,2,-999.0000,9,-999.0000,9,-999.0000,9,   2.6451,2
  49NZ20191229,  I07S,   120,  1,     33,   1233,2,  200114,1831,-50.6749,  57.4978, 4515,    150.2,   2.1795,   2.1798,2,  33.8934,2,  33.8937,2,    319.7,2,    319.7,2,    24.49,2,    27.28,2,     0.26,2,     1.87,2,     0.27,2,    5.273,2,    2.798,2,    0.474,2,    3.939,2,   2166.8,2,   2281.8,2,   -999.0,9,     0.06,2,-999.0000,9,-999.0000,9,-999.0000,9,   2.1798,2
  49NZ20191229,  I07S,   120,  1,     32,   1232,2,  200114,1831,-50.6749,  57.4978, 4515,    198.7,   2.0787,   2.0786,2,  33.9763,2,  33.9762,2,    300.4,2,    300.5,2,    30.24,2,    29.15,2,     0.06,2,     1.97,2,     0.02,2,    4.989,2,    2.639,2,    0.431,2,    3.487,2,   2181.6,2,   2285.2,2,   -999.0,9,     0.02,2,-999.0000,9,-999.0000,9,-999.0000,9,   2.0786,2
  49NZ20191229,  I07S,   120,  1,     31,   1231,2,  200114,1831,-50.6749,  57.4978, 4515,    249.2,   2.2368,   2.2358,2,  34.0734,2,  34.0724,2,    268.2,2,    268.2,2,    34.71,2,    31.00,2,     0.01,2,     2.09,2,     0.03,2,    4.430,2,    2.321,2,    0.367,2,    2.709,2,   2196.3,2,   2289.4,2,   -999.0,9,     0.01,2,-999.0000,9,-999.0000,9,-999.0000,9,   2.2358,2
  49NZ20191229,  I07S,   120,  1,     30,   1230,2,  200114,1831,-50.6749,  57.4978, 4515,    280.1,   2.2853,   2.2817,2,  34.1227,2,  34.1223,2,    253.5,2,    253.0,2,    37.70,2,    31.90,2,     0.01,2,     2.15,2,     0.03,2,    4.083,2,    2.118,2,    0.325,2,    2.404,2,   2202.8,2,   2290.7,2,   -999.0,9,  -999.00,9,-999.0000,9,-999.0000,9,-999.0000,9,   2.2817,2
  49NZ20191229,  I07S,   120,  1,     29,   1229,2,  200114,1831,-50.6749,  57.4978, 4515,    369.3,   2.4132,   2.4130,2,  34.2569,2,  34.2556,2,    215.8,2,    215.6,2,    48.09,2,    33.85,2,     0.02,2,     2.29,2,     0.04,2,    2.975,2,    1.534,2,    0.228,2,    1.844,2,   2225.3,2,   2301.3,2,   -999.0,9,  -999.00,9,-999.0000,9,-999.0000,9,-999.0000,9,   2.4130,2
  49NZ20191229,  I07S,   120,  1,     28,   1228,2,  200114,1831,-50.6749,  57.4978, 4515,    469.3,   2.4506,   2.4506,2,  34.3598,2,  34.3593,2,    192.8,2,    192.4,2,    57.51,2,    34.95,2,     0.01,2,     2.36,2,     0.03,2,    2.096,2,    1.082,2,    0.163,2,    0.929,2,   2239.4,2,   2310.8,2,   -999.0,9,  -999.00,9,-999.0000,9,-999.0000,9,-999.0000,9,   2.4506,2
  49NZ20191229,  I07S,   120,  1,     27,   1227,2,  200114,1831,-50.6749,  57.4978, 4515,    570.0,   2.4654,   2.4653,2,  34.4390,2,  34.4385,2,    180.1,2,    179.8,2,    64.21,2,    35.11,2,     0.01,2,     2.39,2,     0.03,2,    1.481,2,    0.773,2,    0.113,2,    0.641,2,   2246.0,2,   2319.9,2,   -999.0,9,  -999.00,9,-999.0000,9,-999.0000,9,-999.0000,9,   2.4653,2
  49NZ20191229,  I07S,   120,  1,     26,   1226,2,  200114,1831,-50.6749,  57.4978, 4515,    668.4,   2.4546,   2.4546,2,  34.5087,2,  34.5082,2,    172.8,2,    172.8,2,    69.28,2,    34.93,2,     0.01,2,     2.37,2,     0.03,2,    1.037,2,    0.554,2,    0.079,2,    0.424,2,   2251.8,6,   2325.1,2,   -999.0,9,  -999.00,9,-999.0000,9,-999.0000,9,-999.0000,9,   2.4546,2
  49NZ20191229,  I07S,   120,  1,     25,   1225,2,  200114,1831,-50.6749,  57.4978, 4515,    770.6,   2.4554,   2.4555,2,  34.5722,2,  34.5719,2,    170.0,2,    169.9,2,    72.79,2,    34.35,2,     0.01,2,     2.34,2,     0.04,2,    0.694,2,    0.379,2,    0.051,2,    0.265,2,   2253.8,2,   2332.0,2,   -999.0,9,  -999.00,9,-999.0000,9,-999.0000,9,-999.0000,9,   2.4555,2
  49NZ20191229,  I07S,   120,  1,     24,   1224,2,  200114,1831,-50.6749,  57.4978, 4515,    869.5,   2.4334,   2.4335,2,  34.6138,2,  34.6132,2,    170.6,2,    170.6,2,    74.72,2,    33.84,2,     0.00,2,     2.30,2,     0.03,2,    0.527,2,    0.295,2,    0.035,2,     0.22,2,   2257.6,2,   2334.8,2,   -999.0,9,  -999.00,9,-999.0000,9,-999.0000,9,-999.0000,9,   2.4335,2
  49NZ20191229,  I07S,   120,  1,     23,   1223,2,  200114,1831,-50.6749,  57.4978, 4515,    970.1,   2.4109,   2.4109,2,  34.6482,2,  34.6484,2,    173.4,2,    173.3,2,    75.64,2,    33.11,2,     0.00,2,     2.25,2,     0.03,2,    0.419,2,    0.239,2,    0.030,2,    0.165,2,   2257.1,2,   2336.5,2,   -999.0,9,  -999.00,9,-999.0000,9,-999.0000,9,-999.0000,9,   2.4109,2
  49NZ20191229,  I07S,   120,  1,     22,   1222,2,  200114,1831,-50.6749,  57.4978, 4515,   1130.3,   2.3611,   2.3612,2,  34.6916,2,  34.6928,2,    178.7,2,    179.0,2,    76.57,2,    32.11,2,     0.00,2,     2.18,2,     0.02,2,    0.307,2,    0.180,2,    0.030,2,    0.084,2,   2253.3,2,   2341.5,6,   -999.0,9,  -999.00,9,-999.0000,9,-999.0000,9,-999.0000,9,   2.3612,2
  49NZ20191229,  I07S,   120,  1,     21,   1221,2,  200114,1831,-50.6749,  57.4978, 4515,   1330.5,   2.2353,   2.2353,2,  34.7253,2,  34.7243,2,    185.5,2,    185.7,2,    78.61,2,    31.22,2,     0.01,2,     2.12,2,     0.03,2,    0.250,2,    0.149,2,    0.017,2,    0.179,2,   2253.3,2,   2343.9,2,   -999.0,9,  -999.00,9,-999.0000,9,-999.0000,9,-999.0000,9,   2.2353,2
  49NZ20191229,  I07S,   120,  1,     20,   1220,2,  200114,1831,-50.6749,  57.4978, 4515,   1529.3,   2.1093,   2.1094,2,  34.7486,2,  34.7490,2,    192.7,2,    192.9,2,    79.97,2,    30.30,2,     0.00,2,     2.06,2,     0.03,2,    0.206,2,    0.124,2,    0.015,2,    0.093,2,   2248.7,2,   2345.1,2,   -999.0,9,  -999.00,9,-999.0000,9,-999.0000,9,-999.0000,9,   2.1094,2
  49NZ20191229,  I07S,   120,  1,     19,   1219,2,  200114,1831,-50.6749,  57.4978, 4515,   1731.2,   1.9729,   1.9730,2,  34.7573,2,  34.7572,2,    197.7,2,    198.0,2,    82.13,2,    29.94,2,     0.00,2,     2.03,2,     0.03,2,    0.191,2,    0.114,2,    0.012,2,    0.137,2,   2245.9,2,   2347.9,2,   -999.0,9,  -999.00,9,-999.0000,9,-999.0000,9,-999.0000,9,   1.9730,2
  49NZ20191229,  I07S,   120,  1,     18,   1218,2,  200114,1831,-50.6749,  57.4978, 4515,   1929.8,   1.8238,   1.8239,2,  34.7587,2,  34.7592,2,    201.2,2,    201.6,2,    85.22,2,    29.87,2,     0.00,2,     2.03,2,     0.03,2,    0.186,2,    0.113,2,    0.014,2,    0.065,2,   2245.3,2,   2348.2,2,   -999.0,9,  -999.00,9,-999.0000,9,-999.0000,9,-999.0000,9,   1.8239,2
  49NZ20191229,  I07S,   120,  1,     17,   1217,3,  200114,1831,-50.6749,  57.4978, 4515,   2130.5,   1.6134,   1.6140,2,  34.7529,2,  34.7530,2,    204.1,2,    204.4,2,    90.75,2,    29.98,2,     0.01,2,     2.05,2,     0.03,2,    0.200,2,    0.119,2,    0.022,2,    0.065,2,   2245.8,2,   2351.3,2,   -999.0,9,  -999.00,9,-999.0000,9,-999.0000,9,-999.0000,9,   1.6140,2
  49NZ20191229,  I07S,   120,  1,     16,   1216,2,  200114,1831,-50.6749,  57.4978, 4515,   2333.0,   1.4268,   1.4267,2,  34.7434,2,  34.7435,2,    205.5,2,    205.8,2,    95.83,2,    30.39,2,     0.01,2,     2.07,2,     0.05,2,    0.215,2,    0.128,2,    0.017,2,    0.093,2,   2251.8,6,   2351.1,2,   -999.0,9,  -999.00,9,-999.0000,9,-999.0000,9,-999.0000,9,   1.4267,2
  49NZ20191229,  I07S,   120,  1,     14,   1214,2,  200114,1831,-50.6749,  57.4978, 4515,   2730.5,   1.0581,   1.0589,2,  34.7201,2,  34.7198,2,    207.3,2,    207.7,2,   107.82,2,    31.46,2,     0.00,2,     2.15,2,     0.02,2,    0.277,2,    0.160,2,    0.021,2,    0.062,2,   2255.6,2,   2357.2,2,   -999.0,9,  -999.00,9,-999.0000,9,-999.0000,9,-999.0000,9,   1.0589,2
  49NZ20191229,  I07S,   120,  1,     13,  12105,2,  200114,1831,-50.6749,  57.4978, 4515,   2929.5,   0.8937,   0.8937,2,  34.7095,2,  34.7095,2,    208.6,2,    208.9,2,   113.06,2,    31.83,2,     0.00,2,     2.18,2,     0.03,2,    0.304,2,    0.172,2,    0.023,2,    0.077,2,   2261.7,2,   2356.8,2,   -999.0,9,  -999.00,9,-999.0000,9,-999.0000,9,-999.0000,9,   0.8937,2
  49NZ20191229,  I07S,   120,  1,     12,   1211,2,  200114,1831,-50.6749,  57.4978, 4515,   3170.4,   0.6718,   0.6722,2,  34.6984,2,  34.6987,2,    212.2,2,    212.5,2,   121.79,2,    32.31,2,     0.00,2,     2.21,2,     0.04,2,    0.272,2,    0.156,2,    0.017,2,    0.094,2,   2265.6,2,   2357.7,6,   -999.0,9,  -999.00,9,-999.0000,9,-999.0000,9,-999.0000,9,   0.6722,2
  49NZ20191229,  I07S,   120,  1,     11,  12106,2,  200114,1831,-50.6749,  57.4978, 4515,   3419.8,   0.5205,   0.5209,2,  34.6899,2,  34.6900,2,    214.9,2,    215.0,2,   127.13,2,    32.62,2,     0.00,2,     2.23,2,     0.03,2,    0.286,2,    0.160,2,    0.022,2,    0.077,2,   2262.2,2,   2359.4,2,   -999.0,9,  -999.00,9,-999.0000,9,-999.0000,9,-999.0000,9,   0.5209,2
  49NZ20191229,  I07S,   120,  1,     10,   1210,2,  200114,1831,-50.6749,  57.4978, 4515,   3670.0,   0.3622,   0.3624,2,  34.6807,2,  34.6801,2,    218.0,2,    218.2,2,   131.20,2,    32.85,2,     0.00,2,     2.24,2,     0.04,2,    0.342,2,    0.190,2,    0.021,2,    0.095,2,   2260.7,2,   2358.3,2,   -999.0,9,  -999.00,9,-999.0000,9,-999.0000,9,-999.0000,9,   0.3624,2
  49NZ20191229,  I07S,   120,  1,      9,   1209,2,  200114,1831,-50.6749,  57.4978, 4515,   3919.8,   0.2251,   0.2253,2,  34.6737,2,  34.6735,2,    221.8,2,    222.0,2,   136.16,2,    32.86,2,     0.00,2,     2.25,2,     0.05,2,    0.350,2,    0.193,2,    0.022,2,    0.083,2,   -999.0,9,   2355.8,2,   -999.0,9,  -999.00,9,-999.0000,9,-999.0000,9,-999.0000,9,   0.2253,2
  49NZ20191229,  I07S,   120,  1,      8,  12103,2,  200114,1831,-50.6749,  57.4978, 4515,   4170.7,   0.1084,   0.1087,2,  34.6677,2,  34.6677,2,    225.6,2,    225.8,2,   141.44,2,    33.01,2,     0.00,2,     2.26,2,     0.05,2,    0.357,2,    0.199,2,    0.014,2,    0.079,2,   2261.8,6,   -999.0,9,   -999.0,9,  -999.00,9,-999.0000,9,-999.0000,9,-999.0000,9,   0.1087,2
  49NZ20191229,  I07S,   120,  1,      7,   1207,2,  200114,1831,-50.6749,  57.4978, 4515,   4419.2,   0.0401,   0.0404,2,  34.6638,2,  34.6637,2,    228.3,2,    228.4,2,   146.18,2,    33.01,2,     0.01,2,     2.26,2,     0.03,2,    0.373,2,    0.206,2,    0.023,2,    0.109,2,   2263.8,2,   -999.0,9,   -999.0,9,  -999.00,9,-999.0000,9,-999.0000,9,-999.0000,9,   0.0404,2
  49NZ20191229,  I07S,   120,  1,      6,   1206,2,  200114,1831,-50.6749,  57.4978, 4515,   2531.4,   1.2449,   1.2450,8,  34.7324,2,  34.7323,2,    206.5,2,    206.9,2,   101.58,2,    30.86,2,     0.00,2,     2.10,2,     0.05,2, -999.000,9, -999.000,9, -999.000,9,     -999,9,   2252.0,2,   2354.3,2,   -999.0,9,  -999.00,9,-999.0000,9,-999.0000,9,-999.0000,9,   1.2450,8
  49NZ20191229,  I07S,   120,  1,      2,  12046,2,  200114,1831,-50.6749,  57.4978, 4515,     71.8,   4.1958,   4.1976,2,  33.8265,2,  33.8274,2,    321.6,2,    322.2,2,     8.86,2,    23.91,2,     0.23,2,     1.57,2,     0.39,2, -999.000,9, -999.000,9, -999.000,9,     -999,9,   2140.5,2,   2277.3,2,   -999.0,9,     0.62,2,-999.0000,9,-999.0000,9,-999.0000,9,   4.1976,2
  49NZ20191229,  I07S,   120,  1,      1,   1201,2,  200114,1831,-50.6749,  57.4978, 4515,   4584.8,   0.0087,   0.0090,2,  34.6618,2,  34.6622,2,    229.4,2,    229.2,2,   153.08,2,    33.01,2,     0.01,2,     2.27,2,     0.04,2,    0.391,2,    0.219,2,    0.022,2,    0.062,2,   2264.3,2,   2357.9,2,   -999.0,9,  -999.00,9,-999.0000,9,-999.0000,9,-999.0000,9,   0.0090,2