BOTTLE,20210310PRINUNIVRMK
EXPOCODE,SECT_ID,STNNBR,CASTNO,SAMPNO,BTLNBR,BTLNBR_FLAG_W,DATE,TIME,LATITUDE,LONGITUDE,DEPTH,CTDPRS,CTDTMP,SBE35,SBE35_FLAG_W,CTDSAL,CTDSAL_FLAG_W,SALNTY,SALNTY_FLAG_W,CTDOXY,CTDOXY_FLAG_W,OXYGEN,OXYGEN_FLAG_W,SILCAT,SILCAT_FLAG_W,NITRAT,NITRAT_FLAG_W,NITRIT,NITRIT_FLAG_W,PHSPHT,PHSPHT_FLAG_W,NH4,NH4_FLAG_W,CFC-11,CFC-11_FLAG_W,CFC-12,CFC-12_FLAG_W,CFC113,CFC113_FLAG_W,SF6,SF6_FLAG_W,TCARBN,TCARBN_FLAG_W,ALKALI,ALKALI_FLAG_W,DOC,DOC_FLAG_W,CHLORA,CHLORA_FLAG_W,CDOM300,CDOM300_FLAG_W,CDOM325,CDOM325_FLAG_W,CDOM443,CDOM443_FLAG_W,SBE35,SBE35_FLAG_W
,,,,,,,,,,,METERS,DBAR,ITS-90,,,PSS-78,,PSS-78,,UMOL/KG,,UMOL/KG,,UMOL/KG,,UMOL/KG,,UMOL/KG,,UMOL/KG,,UMOL/KG,,PMOL/KG,,PMOL/KG,,PMOL/KG,,FMOL/KG,,UMOL/KG,,UMOL/KG,,UMOL/KG,,UG/L,,1/M,,1/M,,1/M,,,
  49NZ20191229,  I07S,    81,  1,     36,   1236,2,  200103,0747,-33.2002,  57.0403, 6010,     10.7,  20.5371,  20.5365,2,  35.7011,2,  35.7008,2,    227.5,2,    228.1,2,     1.35,2,     0.04,2,     0.00,2,     0.08,2,     0.04,2,    2.058,2,    1.249,2,    0.175,2,    1.954,2,   2066.2,2,   2343.3,2,   -999.0,9,     0.07,2,-999.0000,9,-999.0000,9,-999.0000,9,  20.5365,2
  49NZ20191229,  I07S,    81,  1,     35,   1235,2,  200103,0747,-33.2002,  57.0403, 6010,     50.0,  18.7536,  18.7535,2,  35.6664,2,  35.6662,2,    237.8,2,    238.2,2,     1.36,2,     0.02,2,     0.00,2,     0.09,2,     0.03,2,    2.218,2,    1.330,2,    0.187,2,    2.062,2,   2069.0,2,   2341.5,2,   -999.0,9,     0.10,2,-999.0000,9,-999.0000,9,-999.0000,9,  18.7535,2
  49NZ20191229,  I07S,    81,  1,     34,   1234,2,  200103,0747,-33.2002,  57.0403, 6010,    101.7,  17.3702,  17.3840,2,  35.6044,2,  35.6081,2,    243.0,2,    242.9,2,     1.39,2,     0.02,2,     0.01,2,     0.11,2,     0.01,2,    2.401,2,    1.409,2,    0.191,2,    2.235,2,   2074.5,2,   2337.4,2,   -999.0,9,     0.21,2,-999.0000,9,-999.0000,9,-999.0000,9,  17.3840,2
  49NZ20191229,  I07S,    81,  1,     33,   1233,2,  200103,0747,-33.2002,  57.0403, 6010,    150.5,  15.9088,  15.9085,2,  35.5198,2,  35.5205,2,    234.3,2,    234.4,2,     1.71,2,     1.19,2,     0.19,2,     0.24,2,     0.02,2,    2.507,2,    1.491,2,    0.169,2,    2.127,2,   2091.0,2,   2333.5,2,   -999.0,9,     0.28,2,-999.0000,9,-999.0000,9,-999.0000,9,  15.9085,2
  49NZ20191229,  I07S,    81,  1,     32,   1232,2,  200103,0747,-33.2002,  57.0403, 6010,    200.5,  14.7822,  14.7820,2,  35.4330,2,  35.4321,2,    229.9,2,    229.8,2,     2.38,2,     4.56,2,     0.02,2,     0.42,2,     0.02,2,    2.676,2,    1.560,2,    0.132,2,    2.258,2,   2102.6,2,   2325.5,2,   -999.0,9,     0.01,2,-999.0000,9,-999.0000,9,-999.0000,9,  14.7820,2
  49NZ20191229,  I07S,    81,  1,     31,   1231,2,  200103,0747,-33.2002,  57.0403, 6010,    250.5,  13.9708,  13.9720,2,  35.3454,2,  35.3456,2,    228.1,2,    227.9,2,     2.91,2,     6.68,2,     0.01,2,     0.54,2,     0.02,2,    2.826,2,    1.624,2,    0.096,2,    2.265,2,   2114.6,2,   2322.2,2,   -999.0,9,     0.01,2,-999.0000,9,-999.0000,9,-999.0000,9,  13.9720,2
  49NZ20191229,  I07S,    81,  1,     30,   1230,2,  200103,0747,-33.2002,  57.0403, 6010,    300.9,  13.6570,  13.6583,2,  35.3187,2,  35.3197,2,    233.1,2,    232.6,2,     3.21,2,     7.15,2,     0.01,2,     0.56,2,     0.04,2,    2.832,2,    1.634,2,    0.114,2,    2.214,2,   2111.4,2,   2321.8,2,   -999.0,9,  -999.00,9,-999.0000,9,-999.0000,9,-999.0000,9,  13.6583,2
  49NZ20191229,  I07S,    81,  1,     29,   1229,2,  200103,0747,-33.2002,  57.0403, 6010,    401.4,  12.8002,  12.8013,2,  35.1917,2,  35.1919,2,    232.3,2,    231.9,2,     3.37,2,     8.98,2,     0.01,2,     0.68,2,     0.05,2,    2.962,2,    1.705,2,    0.092,2,    2.111,2,   2116.8,2,   2313.8,2,   -999.0,9,  -999.00,9,-999.0000,9,-999.0000,9,-999.0000,9,  12.8013,2
  49NZ20191229,  I07S,    81,  1,     28,   1228,2,  200103,0747,-33.2002,  57.0403, 6010,    500.5,  12.0577,  12.0580,2,  35.0771,2,  35.0857,2,    230.7,2,    230.5,2,     3.62,2,    10.73,2,     0.01,2,     0.79,2,     0.05,2,    3.154,2,    1.771,2,    0.092,2,    2.015,2,   2123.9,2,   2309.0,2,   -999.0,9,  -999.00,9,-999.0000,9,-999.0000,9,-999.0000,9,  12.0580,2
  49NZ20191229,  I07S,    81,  1,     27,   1227,2,  200103,0747,-33.2002,  57.0403, 6010,    601.3,  11.3206,  11.3213,2,  34.9636,2,  34.9640,2,    230.0,2,    229.8,2,     4.02,2,    12.59,2,     0.01,2,     0.90,2,     0.03,2,    3.316,2,    1.839,2,    0.105,2,    1.935,2,   2127.2,2,   2305.4,2,   -999.0,9,  -999.00,9,-999.0000,9,-999.0000,9,-999.0000,9,  11.3213,2
  49NZ20191229,  I07S,    81,  1,     26,   1226,2,  200103,0747,-33.2002,  57.0403, 6010,    701.2,  10.5149,  10.5154,2,  34.8472,2,  34.8464,2,    224.2,2,    224.4,2,     5.33,2,    15.05,2,     0.01,2,     1.06,2,        0,2,    3.420,2,    1.849,2,    0.110,2,    1.713,2,   2133.2,6,   2304.0,2,   -999.0,9,  -999.00,9,-999.0000,9,-999.0000,9,-999.0000,9,  10.5154,2
  49NZ20191229,  I07S,    81,  1,     25,   1225,2,  200103,0747,-33.2002,  57.0403, 6010,    799.8,   9.7389,   9.7390,2,  34.7456,2,  34.7461,2,    220.3,2,    220.4,2,     6.78,2,    17.14,2,     0.00,2,     1.19,2,     0.04,2,    3.458,2,    1.841,2,    0.105,2,     1.55,2,   2139.9,2,   2301.0,2,   -999.0,9,  -999.00,9,-999.0000,9,-999.0000,9,-999.0000,9,   9.7390,2
  49NZ20191229,  I07S,    81,  1,     24,   1224,2,  200103,0747,-33.2002,  57.0403, 6010,    899.9,   8.5079,   8.5107,2,  34.6200,2,  34.6204,2,    209.8,2,    210.0,2,    11.45,2,    21.18,2,     0.00,2,     1.45,2,        0,2,    3.320,2,    1.705,2,    0.116,2,    1.217,2,   2153.2,2,   2296.4,2,   -999.0,9,  -999.00,9,-999.0000,9,-999.0000,9,-999.0000,9,   8.5107,2
  49NZ20191229,  I07S,    81,  1,     23,   1223,2,  200103,0747,-33.2002,  57.0403, 6010,   1000.7,   6.6595,   6.6607,2,  34.4694,2,  34.4692,2,    204.0,2,    203.9,2,    19.84,2,    26.07,2,     0.00,2,     1.77,2,        0,2,    2.905,2,    1.471,2,    0.120,2,    0.896,2,   2173.4,2,   2292.7,2,   -999.0,9,  -999.00,9,-999.0000,9,-999.0000,9,-999.0000,9,   6.6607,2
  49NZ20191229,  I07S,    81,  1,     22,   1222,2,  200103,0747,-33.2002,  57.0403, 6010,   1202.0,   4.7577,   4.7483,2,  34.3942,2,  34.3932,2,    196.0,2,    196.2,2,    35.05,2,    30.58,2,     0.00,2,     2.08,2,     0.01,2,    2.106,2,    1.089,2,    0.109,2,    0.589,2,   2200.6,2,   2300.9,6,   -999.0,9,  -999.00,9,-999.0000,9,-999.0000,9,-999.0000,9,   4.7483,2
  49NZ20191229,  I07S,    81,  1,     21,   1221,2,  200103,0747,-33.2002,  57.0403, 6010,   1399.3,   3.6879,   3.6860,2,  34.4511,2,  34.4510,2,    181.5,2,    181.2,2,    52.62,2,    33.00,2,     0.00,2,     2.26,2,     0.03,2,    1.150,2,    0.628,2,    0.071,2,     0.34,2,   2226.0,2,   2318.9,2,   -999.0,9,  -999.00,9,-999.0000,9,-999.0000,9,-999.0000,9,   3.6860,2
  49NZ20191229,  I07S,    81,  1,     20,   1220,2,  200103,0747,-33.2002,  57.0403, 6010,   1599.7,   3.1633,   3.1640,2,  34.5339,2,  34.5340,2,    174.1,2,    173.9,2,    64.57,2,    33.48,2,     0.00,2,     2.30,2,     0.01,2,    0.578,2,    0.354,2,    0.036,2,    0.157,2,   2240.9,2,   2329.8,2,   -999.0,9,  -999.00,9,-999.0000,9,-999.0000,9,-999.0000,9,   3.1640,2
  49NZ20191229,  I07S,    81,  1,     19,   1219,2,  200103,0747,-33.2002,  57.0403, 6010,   1799.0,   2.8392,   2.8388,2,  34.6051,2,  34.6054,2,    175.8,2,    175.9,2,    71.85,2,    32.94,2,     0.01,2,     2.26,2,     0.03,2,    0.340,2,    0.223,2,    0.025,2,    0.113,2,   2247.2,2,   2340.5,2,   -999.0,9,  -999.00,9,-999.0000,9,-999.0000,9,-999.0000,9,   2.8388,2
  49NZ20191229,  I07S,    81,  1,     18,   1218,2,  200103,0747,-33.2002,  57.0403, 6010,   2000.2,   2.6165,   2.6163,2,  34.6540,2,  34.6541,2,    179.1,2,    179.0,2,    77.08,2,    32.26,2,     0.00,2,     2.21,2,     0.04,2,    0.216,2,    0.150,2,    0.014,2,    0.056,2,   2248.7,2,   2347.7,2,   -999.0,9,  -999.00,9,-999.0000,9,-999.0000,9,-999.0000,9,   2.6163,2
  49NZ20191229,  I07S,    81,  1,     17,   1217,2,  200103,0747,-33.2002,  57.0403, 6010,   2198.6,   2.4347,   2.4351,2,  34.6925,2,  34.6925,2,    182.8,2,    182.8,2,    81.32,2,    31.77,2,     0.00,2,     2.17,2,     0.04,2,    0.137,2,    0.099,2,    0.013,2,     0.03,2,   2249.3,2,   2351.2,2,   -999.0,9,  -999.00,9,-999.0000,9,-999.0000,9,-999.0000,9,   2.4351,2
  49NZ20191229,  I07S,    81,  1,     16,   1216,2,  200103,0747,-33.2002,  57.0403, 6010,   2401.4,   2.2483,   2.2491,2,  34.7196,2,  34.7203,2,    186.5,2,    186.5,2,    86.67,2,    31.44,2,     0.00,2,     2.14,2,     0.05,2,    0.092,2,    0.069,2,    0.009,2,    0.016,2,   2250.4,6,   2354.6,2,   -999.0,9,  -999.00,9,-999.0000,9,-999.0000,9,-999.0000,9,   2.2491,2
  49NZ20191229,  I07S,    81,  1,     15,   1215,2,  200103,0747,-33.2002,  57.0403, 6010,   2599.6,   2.0458,   2.0457,2,  34.7346,2,  34.7348,2,    191.9,2,    191.8,2,    90.47,2,    31.02,2,     0.00,2,     2.12,2,        0,2,    0.090,2,    0.062,2,    0.009,2,    0.022,2,   2249.9,2,   2357.6,2,   -999.0,9,  -999.00,9,-999.0000,9,-999.0000,9,-999.0000,9,   2.0457,2
  49NZ20191229,  I07S,    81,  1,     14,   1214,2,  200103,0747,-33.2002,  57.0403, 6010,   2800.8,   1.9055,   1.9060,2,  34.7427,2,  34.7427,2,    196.3,2,    196.1,2,    92.79,2,    30.83,2,     0.00,2,     2.10,2,     0.01,2,    0.094,2,    0.065,2,    0.010,2,    0.042,2,   2249.8,2,   2357.0,2,   -999.0,9,  -999.00,9,-999.0000,9,-999.0000,9,-999.0000,9,   1.9060,2
  49NZ20191229,  I07S,    81,  1,     13,   1213,2,  200103,0747,-33.2002,  57.0403, 6010,   3000.0,   1.7627,   1.7626,2,  34.7444,2,  34.7453,2,    199.8,2,    199.9,2,    94.87,2,    30.66,2,     0.01,2,     2.08,2,     0.04,2,    0.111,2,    0.072,2,    0.008,2,    0.009,2,   2250.3,2,   2359.0,2,   -999.0,9,  -999.00,9,-999.0000,9,-999.0000,9,-999.0000,9,   1.7626,2
  49NZ20191229,  I07S,    81,  1,     12,   1212,2,  200103,0747,-33.2002,  57.0403, 6010,   3251.3,   1.5120,   1.5119,2,  34.7360,2,  34.7358,2,    203.4,2,    203.2,2,   101.83,2,    30.99,2,     0.00,2,     2.11,2,     0.02,2,    0.124,2,    0.089,2,    0.012,2,    0.033,2,   2253.2,2,   2361.0,6,   -999.0,9,  -999.00,9,-999.0000,9,-999.0000,9,-999.0000,9,   1.5119,2
  49NZ20191229,  I07S,    81,  1,     11,   1211,2,  200103,0747,-33.2002,  57.0403, 6010,   3500.4,   1.2999,   1.2998,2,  34.7237,2,  34.7234,2,    203.6,2,    203.4,2,   110.73,2,    31.71,2,     0.00,2,     2.16,2,     0.02,2,    0.133,2,    0.091,2,    0.011,2,    0.025,2,   2256.2,2,   2364.3,2,   -999.0,9,  -999.00,9,-999.0000,9,-999.0000,9,-999.0000,9,   1.2998,2
  49NZ20191229,  I07S,    81,  1,     10,   1210,2,  200103,0747,-33.2002,  57.0403, 6010,   3751.1,   1.0354,   1.0349,2,  34.7124,2,  34.7128,2,    209.4,2,    209.1,2,   116.07,2,    31.84,2,     0.01,2,     2.17,2,     0.01,2,    0.163,2,    0.119,2,    0.014,2,    0.044,2,   2257.0,2,   2363.3,2,   -999.0,9,  -999.00,9,-999.0000,9,-999.0000,9,-999.0000,9,   1.0349,2
  49NZ20191229,  I07S,    81,  1,      9,   1209,2,  200103,0747,-33.2002,  57.0403, 6010,   4001.2,   0.8443,   0.8444,2,  34.7024,2,  34.7022,2,    212.2,2,    212.0,2,   122.20,2,    32.30,2,     0.01,2,     2.20,2,     0.01,2,    0.192,2,    0.133,2,    0.011,2,     0.05,2,   2258.7,2,   2359.6,2,   -999.0,9,  -999.00,9,-999.0000,9,-999.0000,9,-999.0000,9,   0.8444,2
  49NZ20191229,  I07S,    81,  1,      8,  12103,2,  200103,0747,-33.2002,  57.0403, 6010,   4250.3,   0.7541,   0.7539,2,  34.6974,2,  34.6974,2,    214.5,2,    214.1,2,   124.76,2,    32.35,2,     0.01,2,     2.21,2,     0.03,2,    0.210,2,    0.144,2,    0.013,2,    0.057,2,   2259.2,6,   2360.7,2,   -999.0,9,  -999.00,9,-999.0000,9,-999.0000,9,-999.0000,9,   0.7539,2
  49NZ20191229,  I07S,    81,  1,      7,   1207,2,  200103,0747,-33.2002,  57.0403, 6010,   4499.0,   0.7594,   0.7592,2,  34.6963,2,  34.6969,2,    214.7,2,    214.4,2,   125.32,2,    32.32,2,     0.01,2,     2.20,2,     0.03,2,    0.217,2,    0.146,2,    0.016,2,     0.05,2,   2259.3,2,   2361.1,2,   -999.0,9,  -999.00,9,-999.0000,9,-999.0000,9,-999.0000,9,   0.7592,2
  49NZ20191229,  I07S,    81,  1,      6,   1206,2,  200103,0747,-33.2002,  57.0403, 6010,   4751.3,   0.7563,   0.7563,2,  34.6948,2,  34.6948,2,    215.0,2,    214.8,2,   126.35,2,    32.36,2,     0.01,2,     2.21,2,     0.04,2,    0.215,2,    0.146,2,    0.018,2,    0.068,2,   2260.5,2,   2363.9,6,   -999.0,9,  -999.00,9,-999.0000,9,-999.0000,9,-999.0000,9,   0.7563,2
  49NZ20191229,  I07S,    81,  1,      5,   1205,2,  200103,0747,-33.2002,  57.0403, 6010,   4999.5,   0.7654,   0.7652,2,  34.6939,2,  34.6943,2,    215.2,2,    215.2,2,   126.92,2,    32.48,2,     0.00,2,     2.21,2,     0.04,2,    0.214,2,    0.162,2,    0.017,2,    0.283,3,   2258.5,2,   2363.2,2,   -999.0,9,  -999.00,9,-999.0000,9,-999.0000,9,-999.0000,9,   0.7652,2
  49NZ20191229,  I07S,    81,  1,      4,   1204,2,  200103,0747,-33.2002,  57.0403, 6010,   5250.7,   0.7659,   0.7658,2,  34.6924,2,  34.6926,2,    215.5,2,    215.6,2,   127.65,2,    32.51,2,     0.00,2,     2.22,2,     0.04,2,    0.190,2,    0.146,2,    0.015,2,    0.015,2,   2257.8,2,   2362.0,2,   -999.0,9,  -999.00,9,-999.0000,9,-999.0000,9,-999.0000,9,   0.7658,2
  49NZ20191229,  I07S,    81,  1,      3,   1203,2,  200103,0747,-33.2002,  57.0403, 6010,   5497.8,   0.7882,   0.7882,2,  34.6922,2,  34.6923,3,    215.5,2,    215.7,2,   127.83,2,    32.51,2,     0.00,2,     2.22,2,     0.02,2,    0.186,2,    0.144,2,    0.015,2,    0.042,2,   2258.0,2,   2361.9,2,   -999.0,9,  -999.00,9,-999.0000,9,-999.0000,9,-999.0000,9,   0.7882,2
  49NZ20191229,  I07S,    81,  1,      2,  12046,2,  200103,0747,-33.2002,  57.0403, 6010,     95.2,  17.4872,  17.4861,2,  35.6094,2,  35.6099,2,    242.9,2,    242.9,2,     1.36,2,     0.02,2,     0.01,2,     0.11,2,     0.03,2, -999.000,9, -999.000,9, -999.000,9,     -999,9,   2071.6,2,   2337.9,2,   -999.0,9,     0.20,2,-999.0000,9,-999.0000,9,-999.0000,9,  17.4861,2
  49NZ20191229,  I07S,    81,  1,      1,   1201,2,  200103,0747,-33.2002,  57.0403, 6010,   6081.1,   0.8423,   0.8423,2,  34.6910,2,  34.6915,2,    215.4,2,    215.9,2,   128.34,2,    32.54,2,     0.00,2,     2.22,2,        0,2,    0.194,2,    0.144,2,    0.014,2,    0.057,2,   2258.0,2,   2359.3,2,   -999.0,9,  -999.00,9,-999.0000,9,-999.0000,9,-999.0000,9,   0.8423,2