BOTTLE,20210310PRINUNIVRMK
EXPOCODE,SECT_ID,STNNBR,CASTNO,SAMPNO,BTLNBR,BTLNBR_FLAG_W,DATE,TIME,LATITUDE,LONGITUDE,DEPTH,CTDPRS,CTDTMP,SBE35,SBE35_FLAG_W,CTDSAL,CTDSAL_FLAG_W,SALNTY,SALNTY_FLAG_W,CTDOXY,CTDOXY_FLAG_W,OXYGEN,OXYGEN_FLAG_W,SILCAT,SILCAT_FLAG_W,NITRAT,NITRAT_FLAG_W,NITRIT,NITRIT_FLAG_W,PHSPHT,PHSPHT_FLAG_W,NH4,NH4_FLAG_W,CFC-11,CFC-11_FLAG_W,CFC-12,CFC-12_FLAG_W,CFC113,CFC113_FLAG_W,SF6,SF6_FLAG_W,TCARBN,TCARBN_FLAG_W,ALKALI,ALKALI_FLAG_W,DOC,DOC_FLAG_W,CHLORA,CHLORA_FLAG_W,CDOM300,CDOM300_FLAG_W,CDOM325,CDOM325_FLAG_W,CDOM443,CDOM443_FLAG_W,SBE35,SBE35_FLAG_W
,,,,,,,,,,,METERS,DBAR,ITS-90,,,PSS-78,,PSS-78,,UMOL/KG,,UMOL/KG,,UMOL/KG,,UMOL/KG,,UMOL/KG,,UMOL/KG,,UMOL/KG,,PMOL/KG,,PMOL/KG,,PMOL/KG,,FMOL/KG,,UMOL/KG,,UMOL/KG,,UMOL/KG,,UG/L,,1/M,,1/M,,1/M,,,
  49NZ20191229,  I07S,   108,  1,     36,   1236,2,  200110,1253,-45.5006,  57.7993, 4458,     11.0,   7.5175,   7.5176,2,  33.7457,2,  33.7459,2,    303.1,2,    303.0,2,     1.26,2,    16.95,2,     0.12,2,     1.26,2,     0.55,2,    4.126,2,    2.280,2,    0.381,2,    3.386,2,   2101.8,2,   2271.5,2,   -999.0,9,     0.37,2,-999.0000,9,-999.0000,9,-999.0000,9,   7.5176,2
  49NZ20191229,  I07S,   108,  1,     35,   1235,2,  200110,1253,-45.5006,  57.7993, 4458,     50.6,   7.1776,   7.1831,2,  33.7656,2,  33.7653,2,    302.7,2,    303.0,2,     1.21,2,    17.02,2,     0.13,2,     1.29,2,     0.72,2,    4.166,2,    2.286,2,    0.385,2,    3.426,2,   2108.6,2,   2270.7,2,   -999.0,9,     0.35,2,-999.0000,9,-999.0000,9,-999.0000,9,   7.1831,2
  49NZ20191229,  I07S,   108,  1,     34,   1234,2,  200110,1253,-45.5006,  57.7993, 4458,    100.8,   5.4058,   5.4068,2,  33.7758,2,  33.7760,2,    302.9,2,    302.9,2,     1.93,2,    19.05,2,     0.17,2,     1.50,2,     1.71,2,    4.516,2,    2.451,2,    0.419,2,    3.665,2,   2122.1,2,   2274.2,2,   -999.0,9,     0.17,2,-999.0000,9,-999.0000,9,-999.0000,9,   5.4068,2
  49NZ20191229,  I07S,   108,  1,     33,   1233,2,  200110,1253,-45.5006,  57.7993, 4458,    149.9,   4.4361,   4.4380,2,  33.8713,2,  33.8703,2,    292.8,2,    292.4,2,     7.37,2,    23.99,2,     0.35,2,     1.71,2,     0.37,2,    4.609,2,    2.505,2,    0.418,2,     3.54,2,   2150.5,2,   2271.6,2,   -999.0,9,     0.02,2,-999.0000,9,-999.0000,9,-999.0000,9,   4.4380,2
  49NZ20191229,  I07S,   108,  1,     32,   1232,2,  200110,1253,-45.5006,  57.7993, 4458,    200.6,   4.2820,   4.2821,2,  33.9770,2,  33.9771,2,    281.1,2,    280.4,2,    12.31,2,    26.00,2,     0.02,2,     1.77,2,     0.03,2,    4.509,2,    2.454,2,    0.390,2,    3.264,2,   2161.7,2,   2273.0,2,   -999.0,9,     0.01,2,-999.0000,9,-999.0000,9,-999.0000,9,   4.2821,2
  49NZ20191229,  I07S,   108,  1,     31,   1231,2,  200110,1253,-45.5006,  57.7993, 4458,    250.0,   4.1366,   4.1366,2,  34.0383,2,  34.0386,2,    272.9,2,    272.0,2,    14.81,2,    27.00,2,     0.02,2,     1.83,2,     0.03,2,    4.425,2,    2.395,2,    0.378,2,    3.036,2,   2162.4,2,   2275.0,2,   -999.0,9,     0.01,2,-999.0000,9,-999.0000,9,-999.0000,9,   4.1366,2
  49NZ20191229,  I07S,   108,  1,     30,   1230,2,  200110,1253,-45.5006,  57.7993, 4458,    280.5,   3.8876,   3.8874,2,  34.0525,2,  34.0522,2,    271.0,2,    270.4,2,    16.42,2,    27.43,2,     0.02,2,     1.86,2,     0.03,2,    4.388,2,    2.376,2,    0.373,2,    2.933,2,   2169.3,2,   2279.1,2,   -999.0,9,  -999.00,9,-999.0000,9,-999.0000,9,-999.0000,9,   3.8874,2
  49NZ20191229,  I07S,   108,  1,     29,   1229,2,  200110,1253,-45.5006,  57.7993, 4458,    371.0,   3.7704,   3.7701,2,  34.1437,2,  34.1437,2,    250.0,2,    249.5,2,    21.55,2,    29.56,2,     0.02,2,     1.99,2,     0.02,2,    3.965,2,    2.140,2,    0.320,2,    2.217,2,   2182.0,2,   2279.4,2,   -999.0,9,  -999.00,9,-999.0000,9,-999.0000,9,-999.0000,9,   3.7701,2
  49NZ20191229,  I07S,   108,  1,     28,   1228,2,  200110,1253,-45.5006,  57.7993, 4458,    470.0,   3.3197,   3.3199,2,  34.1663,2,  34.1665,2,    240.7,2,    240.1,2,    28.03,2,    30.94,2,     0.02,2,     2.09,2,     0.02,2,    3.717,2,    1.970,2,    0.294,2,    1.924,2,   2191.4,2,   2285.5,2,   -999.0,9,  -999.00,9,-999.0000,9,-999.0000,9,-999.0000,9,   3.3199,2
  49NZ20191229,  I07S,   108,  1,     27,   1227,2,  200110,1253,-45.5006,  57.7993, 4458,    571.2,   2.9790,   2.9791,2,  34.2108,2,  34.2110,2,    227.4,2,    226.9,2,    35.99,2,    32.05,2,     0.01,2,     2.18,2,     0.01,2,    3.264,2,    1.708,2,    0.256,2,    1.589,2,   2204.4,2,   2293.3,2,   -999.0,9,  -999.00,9,-999.0000,9,-999.0000,9,-999.0000,9,   2.9791,2
  49NZ20191229,  I07S,   108,  1,     26,   1226,2,  200110,1253,-45.5006,  57.7993, 4458,    670.8,   2.8353,   2.8360,2,  34.2862,2,  34.2860,2,    209.6,2,    209.2,2,    44.99,2,    33.42,2,     0.01,2,     2.27,2,     0.05,2,    2.611,2,    1.352,2,    0.197,2,     1.15,2,   2219.3,6,   2301.6,2,   -999.0,9,  -999.00,9,-999.0000,9,-999.0000,9,-999.0000,9,   2.8360,2
  49NZ20191229,  I07S,   108,  1,     25,   1225,2,  200110,1253,-45.5006,  57.7993, 4458,    769.3,   2.8838,   2.8826,2,  34.3790,2,  34.3750,2,    191.8,2,    192.0,2,    52.94,2,    33.99,2,     0.01,2,     2.32,2,     0.04,2,    1.869,2,    0.980,2,    0.139,2,    0.782,2,   2233.0,2,   2314.3,2,   -999.0,9,  -999.00,9,-999.0000,9,-999.0000,9,-999.0000,9,   2.8826,2
  49NZ20191229,  I07S,   108,  1,     24,   1224,2,  200110,1253,-45.5006,  57.7993, 4458,    869.4,   2.9119,   2.9123,2,  34.4546,2,  34.4595,2,    180.5,2,    180.0,2,    59.72,2,    34.16,2,     0.01,2,     2.34,2,     0.03,2,    1.228,2,    0.663,2,    0.086,2,     0.41,2,   2242.5,2,   2323.8,2,   -999.0,9,  -999.00,9,-999.0000,9,-999.0000,9,-999.0000,9,   2.9123,2
  49NZ20191229,  I07S,   108,  1,     23,   1223,2,  200110,1253,-45.5006,  57.7993, 4458,    969.5,   2.6808,   2.6804,2,  34.4942,2,  34.4936,2,    176.2,2,    176.4,2,    64.91,2,    34.42,2,     0.01,2,     2.36,2,     0.03,2,    1.021,2,    0.563,2,    0.075,2,    0.335,2,   2248.3,2,   2328.4,2,   -999.0,9,  -999.00,9,-999.0000,9,-999.0000,9,-999.0000,9,   2.6804,2
  49NZ20191229,  I07S,   108,  1,     22,   1222,2,  200110,1253,-45.5006,  57.7993, 4458,   1129.7,   2.7239,   2.7239,2,  34.5992,2,  34.5989,2,    174.1,2,    174.6,2,    68.76,2,    33.21,2,     0.01,2,     2.28,2,     0.02,2,    0.490,2,    0.294,2,    0.033,2,    0.173,2,   2251.2,2,   2333.2,6,   -999.0,9,  -999.00,9,-999.0000,9,-999.0000,9,-999.0000,9,   2.7239,2
  49NZ20191229,  I07S,   108,  1,     21,   1221,2,  200110,1253,-45.5006,  57.7993, 4458,   1330.6,   2.5943,   2.5944,2,  34.6571,2,  34.6576,2,    177.7,2,    178.3,2,    71.29,2,    32.47,2,     0.01,2,     2.21,2,     0.02,2,    0.321,2,    0.202,2,    0.020,2,    0.079,2,   2251.0,2,   2339.2,2,   -999.0,9,  -999.00,9,-999.0000,9,-999.0000,9,-999.0000,9,   2.5944,2
  49NZ20191229,  I07S,   108,  1,     20,   1220,2,  200110,1253,-45.5006,  57.7993, 4458,   1530.4,   2.4589,   2.4590,2,  34.7075,2,  34.7079,2,    183.8,2,    183.7,2,    73.48,2,    31.29,2,     0.00,2,     2.13,2,     0.04,2,    0.223,2,    0.145,2,    0.015,2,    0.049,2,   2246.8,2,   2341.6,2,   -999.0,9,  -999.00,9,-999.0000,9,-999.0000,9,-999.0000,9,   2.4590,2
  49NZ20191229,  I07S,   108,  1,     19,   1219,2,  200110,1253,-45.5006,  57.7993, 4458,   1729.0,   2.3420,   2.3421,2,  34.7361,2,  34.7365,2,    189.1,2,    189.2,2,    75.27,2,    30.52,2,     0.00,2,     2.08,2,     0.05,2,    0.185,2,    0.123,2,    0.010,2,    0.063,2,   2244.5,2,   2342.4,2,   -999.0,9,  -999.00,9,-999.0000,9,-999.0000,9,-999.0000,9,   2.3421,2
  49NZ20191229,  I07S,   108,  1,     18,   1218,2,  200110,1253,-45.5006,  57.7993, 4458,   1929.0,   2.2120,   2.2124,2,  34.7557,2,  34.7562,2,    195.2,2,    195.2,2,    77.07,2,    29.82,2,     0.00,2,     2.03,2,     0.03,2,    0.156,2,    0.106,2,    0.013,2,    0.046,2,   2245.4,2,   2343.5,2,   -999.0,9,  -999.00,9,-999.0000,9,-999.0000,9,-999.0000,9,   2.2124,2
  49NZ20191229,  I07S,   108,  1,     17,   1217,2,  200110,1253,-45.5006,  57.7993, 4458,   2128.8,   2.0445,   2.0448,2,  34.7624,2,  34.7626,2,    200.7,2,    201.3,2,    80.84,2,    29.50,2,     0.00,2,     2.02,2,     0.02,2,    0.111,2,    0.076,2,    0.010,2,    0.025,2,   2246.0,2,   2350.1,2,   -999.0,9,  -999.00,9,-999.0000,9,-999.0000,9,-999.0000,9,   2.0448,2
  49NZ20191229,  I07S,   108,  1,     16,   1216,2,  200110,1253,-45.5006,  57.7993, 4458,   2331.9,   1.8574,   1.8574,2,  34.7602,2,  34.7602,2,    202.7,2,    202.8,2,    85.93,2,    29.60,2,     0.00,2,     2.03,2,     0.03,2,    0.119,2,    0.082,2,    0.013,2,    0.024,2,   2247.2,6,   2352.0,2,   -999.0,9,  -999.00,9,-999.0000,9,-999.0000,9,-999.0000,9,   1.8574,2
  49NZ20191229,  I07S,   108,  1,     15,   1215,2,  200110,1253,-45.5006,  57.7993, 4458,   2530.9,   1.7184,   1.7184,2,  34.7565,2,  34.7566,2,    204.4,2,    204.5,2,    89.01,2,    29.73,2,     0.00,2,     2.03,2,     0.05,2,    0.142,2,    0.097,2,    0.012,2,    0.029,2,   2249.3,2,   2351.3,2,   -999.0,9,  -999.00,9,-999.0000,9,-999.0000,9,-999.0000,9,   1.7184,2
  49NZ20191229,  I07S,   108,  1,     14,   1214,2,  200110,1253,-45.5006,  57.7993, 4458,   2730.2,   1.5057,   1.5063,2,  34.7454,2,  34.7450,2,    205.3,2,    205.5,2,    96.16,2,    30.34,2,     0.00,2,     2.08,2,     0.05,2,    0.164,2,    0.111,2,    0.014,2,    0.061,2,   2251.4,2,   2353.3,2,   -999.0,9,  -999.00,9,-999.0000,9,-999.0000,9,-999.0000,9,   1.5063,2
  49NZ20191229,  I07S,   108,  1,     13,   1213,2,  200110,1253,-45.5006,  57.7993, 4458,   2931.4,   1.2825,   1.2822,2,  34.7324,2,  34.7327,2,    206.8,2,    206.9,2,   103.32,2,    30.88,2,     0.00,2,     2.12,2,     0.03,2,    0.187,2,    0.122,2,    0.016,2,    0.054,2,   2255.8,2,   2357.3,2,   -999.0,9,  -999.00,9,-999.0000,9,-999.0000,9,-999.0000,9,   1.2822,2
  49NZ20191229,  I07S,   108,  1,     12,   1212,2,  200110,1253,-45.5006,  57.7993, 4458,   3170.8,   1.0361,   1.0367,2,  34.7180,2,  34.7180,2,    208.8,2,    208.9,2,   111.15,2,    31.42,2,     0.00,2,     2.16,2,     0.05,2,    0.217,2,    0.142,2,    0.017,2,    0.013,2,   2259.4,2,   2359.0,6,   -999.0,9,  -999.00,9,-999.0000,9,-999.0000,9,-999.0000,9,   1.0367,2
  49NZ20191229,  I07S,   108,  1,     11,   1211,2,  200110,1253,-45.5006,  57.7993, 4458,   3421.2,   0.7930,   0.7931,2,  34.7037,2,  34.7029,2,    211.5,2,    211.8,2,   119.57,2,    31.99,2,     0.00,2,     2.20,2,     0.04,2,    0.223,2,    0.144,2,    0.017,2,    0.054,2,   2262.2,2,   2363.5,2,   -999.0,9,  -999.00,9,-999.0000,9,-999.0000,9,-999.0000,9,   0.7931,2
  49NZ20191229,  I07S,   108,  1,     10,   1210,2,  200110,1253,-45.5006,  57.7993, 4458,   3670.9,   0.6330,   0.6332,2,  34.6946,2,  34.6945,2,    214.1,2,    214.3,2,   125.58,2,    32.35,2,     0.00,2,     2.22,2,     0.03,2,    0.232,2,    0.147,2,    0.017,2,    0.036,2,   2259.1,2,   2361.6,2,   -999.0,9,  -999.00,9,-999.0000,9,-999.0000,9,-999.0000,9,   0.6332,2
  49NZ20191229,  I07S,   108,  1,      9,   1209,2,  200110,1253,-45.5006,  57.7993, 4458,   3920.9,   0.5311,   0.5313,2,  34.6886,2,  34.6885,2,    216.1,2,    216.4,2,   129.85,2,    32.49,2,     0.00,2,     2.24,2,     0.02,2,    0.243,2,    0.152,2,    0.019,2,    0.059,2,   2261.9,2,   2362.6,2,   -999.0,9,  -999.00,9,-999.0000,9,-999.0000,9,-999.0000,9,   0.5313,2
  49NZ20191229,  I07S,   108,  1,      8,  12103,2,  200110,1253,-45.5006,  57.7993, 4458,   4171.9,   0.4148,   0.4148,2,  34.6809,2,  34.6808,2,    218.6,2,    218.9,2,   131.35,2,    32.59,2,     0.00,2,     2.25,2,     0.02,2,    0.333,2,    0.205,2,    0.023,2,    0.064,2,   2262.4,6,   2358.6,2,   -999.0,9,  -999.00,9,-999.0000,9,-999.0000,9,-999.0000,9,   0.4148,2
  49NZ20191229,  I07S,   108,  1,      7,   1207,2,  200110,1253,-45.5006,  57.7993, 4458,   4420.2,   0.2516,   0.2518,2,  34.6723,2,  34.6720,2,    222.8,2,    222.9,2,   139.77,2,    32.81,2,     0.00,2,     2.26,2,     0.02,2,    0.362,2,    0.218,2,    0.024,2,    0.055,2,   2260.4,2,   2359.2,2,   -999.0,9,  -999.00,9,-999.0000,9,-999.0000,9,-999.0000,9,   0.2518,2
  49NZ20191229,  I07S,   108,  1,      2,  12046,2,  200110,1253,-45.5006,  57.7993, 4458,     45.0,   7.4047,   7.4070,2,  33.7572,2,  33.7586,2,    302.8,2,    302.7,2,     1.25,2,    16.96,2,     0.12,2,     1.28,2,     0.63,2, -999.000,9, -999.000,9, -999.000,9,     -999,9,   2104.5,2,   2267.2,2,   -999.0,9,     0.36,2,-999.0000,9,-999.0000,9,-999.0000,9,   7.4070,2
  49NZ20191229,  I07S,   108,  1,      1,   1201,2,  200110,1253,-45.5006,  57.7993, 4458,   4523.4,   0.1935,   0.1937,2,  34.6694,2,  34.6693,2,    223.9,2,    223.6,2,   145.53,2,    32.78,2,     0.01,2,     2.27,2,     0.03,2,    0.377,2,    0.224,2,    0.027,2,     0.08,2,   2262.2,2,   2360.9,2,   -999.0,9,  -999.00,9,-999.0000,9,-999.0000,9,-999.0000,9,   0.1937,2