BOTTLE,20210310PRINUNIVRMK
EXPOCODE,SECT_ID,STNNBR,CASTNO,SAMPNO,BTLNBR,BTLNBR_FLAG_W,DATE,TIME,LATITUDE,LONGITUDE,DEPTH,CTDPRS,CTDTMP,SBE35,SBE35_FLAG_W,CTDSAL,CTDSAL_FLAG_W,SALNTY,SALNTY_FLAG_W,CTDOXY,CTDOXY_FLAG_W,OXYGEN,OXYGEN_FLAG_W,SILCAT,SILCAT_FLAG_W,NITRAT,NITRAT_FLAG_W,NITRIT,NITRIT_FLAG_W,PHSPHT,PHSPHT_FLAG_W,NH4,NH4_FLAG_W,CFC-11,CFC-11_FLAG_W,CFC-12,CFC-12_FLAG_W,CFC113,CFC113_FLAG_W,SF6,SF6_FLAG_W,TCARBN,TCARBN_FLAG_W,ALKALI,ALKALI_FLAG_W,DOC,DOC_FLAG_W,CHLORA,CHLORA_FLAG_W,CDOM300,CDOM300_FLAG_W,CDOM325,CDOM325_FLAG_W,CDOM443,CDOM443_FLAG_W,SBE35,SBE35_FLAG_W
,,,,,,,,,,,METERS,DBAR,ITS-90,,,PSS-78,,PSS-78,,UMOL/KG,,UMOL/KG,,UMOL/KG,,UMOL/KG,,UMOL/KG,,UMOL/KG,,UMOL/KG,,PMOL/KG,,PMOL/KG,,PMOL/KG,,FMOL/KG,,UMOL/KG,,UMOL/KG,,UMOL/KG,,UG/L,,1/M,,1/M,,1/M,,,
  49NZ20191229,  I07S,   111,  1,     36,   1236,2,  200111,1112,-46.8045,  57.6832, 4444,     11.2,   7.1132,   7.1126,2,  33.7693,2,  33.7692,2,    307.2,2,    307.1,2,     1.49,2,    18.41,2,     0.13,2,     1.34,2,     0.38,2,    4.079,2,    2.322,2,    0.383,2,    3.309,2,   2106.4,2,   2271.4,2,   -999.0,9,     0.57,2,-999.0000,9,-999.0000,9,-999.0000,9,   7.1126,2
  49NZ20191229,  I07S,   111,  1,     35,   1235,2,  200111,1112,-46.8045,  57.6832, 4444,     50.8,   7.0360,   7.0359,2,  33.7686,2,  33.7689,2,    307.0,2,    306.9,2,     1.47,2,    18.46,2,     0.13,2,     1.34,2,     0.42,2,    4.213,2,    2.308,2,    0.392,2,    3.403,2,   2103.8,2,   2269.9,2,   -999.0,9,     0.51,2,-999.0000,9,-999.0000,9,-999.0000,9,   7.0359,2
  49NZ20191229,  I07S,   111,  1,     34,   1234,2,  200111,1112,-46.8045,  57.6832, 4444,    100.2,   5.2835,   5.2854,2,  33.8114,2,  33.8122,2,    304.6,2,    304.6,2,     2.45,2,    19.82,2,     0.25,2,     1.54,2,     1.57,2,    4.552,2,    2.479,2,    0.415,2,    3.445,2,   2125.7,2,   2272.4,2,   -999.0,9,     0.15,2,-999.0000,9,-999.0000,9,-999.0000,9,   5.2854,2
  49NZ20191229,  I07S,   111,  1,     33,   1233,2,  200111,1112,-46.8045,  57.6832, 4444,    150.3,   4.2073,   4.2076,2,  33.8799,2,  33.8800,2,    294.7,2,    294.2,2,     9.37,2,    24.59,2,     0.19,2,     1.72,2,     0.49,2,    4.650,2,    2.541,2,    0.427,2,    3.568,2,   2150.9,2,   2271.7,2,   -999.0,9,     0.04,2,-999.0000,9,-999.0000,9,-999.0000,9,   4.2076,2
  49NZ20191229,  I07S,   111,  1,     32,   1232,2,  200111,1112,-46.8045,  57.6832, 4444,    199.6,   4.1293,   4.1296,2,  33.9906,2,  33.9915,2,    283.5,2,    282.8,2,    12.83,2,    25.95,2,     0.02,2,     1.76,2,     0.04,2,    4.545,2,    2.472,2,    0.393,2,    3.208,2,   2158.5,2,   2273.1,2,   -999.0,9,     0.02,2,-999.0000,9,-999.0000,9,-999.0000,9,   4.1296,2
  49NZ20191229,  I07S,   111,  1,     31,   1231,2,  200111,1112,-46.8045,  57.6832, 4444,    250.8,   3.8004,   3.7990,2,  34.0248,2,  34.0245,2,    275.8,2,    275.2,2,    16.66,2,    27.29,2,     0.01,2,     1.85,2,     0.03,2,    4.477,2,    2.426,2,    0.387,2,    3.006,2,   2162.2,2,   2272.9,2,   -999.0,9,     0.02,2,-999.0000,9,-999.0000,9,-999.0000,9,   3.7990,2
  49NZ20191229,  I07S,   111,  1,     30,   1230,2,  200111,1112,-46.8045,  57.6832, 4444,    301.9,   3.7194,   3.7194,2,  34.0887,2,  34.0885,2,    262.6,2,    262.2,2,    19.43,2,    28.42,2,     0.01,2,     1.92,2,     0.03,2,    4.289,2,    2.293,2,    0.355,2,    2.596,2,   2174.7,2,   2277.4,2,   -999.0,9,  -999.00,9,-999.0000,9,-999.0000,9,-999.0000,9,   3.7194,2
  49NZ20191229,  I07S,   111,  1,     29,   1229,2,  200111,1112,-46.8045,  57.6832, 4444,    402.2,   3.2706,   3.2708,2,  34.1434,2,  34.1415,2,    245.0,2,    244.5,2,    27.73,2,    30.60,2,     0.01,2,     2.06,2,     0.02,2,    3.853,2,    2.044,2,    0.308,2,    2.038,2,   2187.6,2,   2284.7,2,   -999.0,9,  -999.00,9,-999.0000,9,-999.0000,9,-999.0000,9,   3.2708,2
  49NZ20191229,  I07S,   111,  1,     28,   1228,2,  200111,1112,-46.8045,  57.6832, 4444,    500.9,   2.9305,   2.9298,2,  34.2014,2,  34.2003,2,    228.8,2,    228.3,2,    36.42,2,    32.27,2,     0.01,2,     2.18,2,     0.02,2,    3.292,2,    1.749,2,    0.253,2,    1.638,2,   2204.2,2,   2292.8,2,   -999.0,9,  -999.00,9,-999.0000,9,-999.0000,9,-999.0000,9,   2.9298,2
  49NZ20191229,  I07S,   111,  1,     27,   1227,2,  200111,1112,-46.8045,  57.6832, 4444,    598.2,   2.6908,   2.6908,2,  34.2689,2,  34.2685,2,    213.4,2,    213.0,2,    45.64,2,    33.53,2,     0.01,2,     2.27,2,     0.01,2,    2.762,2,    1.438,2,    0.212,2,    1.282,2,   2217.6,2,   2299.8,2,   -999.0,9,  -999.00,9,-999.0000,9,-999.0000,9,-999.0000,9,   2.6908,2
  49NZ20191229,  I07S,   111,  1,     26,   1226,2,  200111,1112,-46.8045,  57.6832, 4444,    701.2,   2.5986,   2.5946,2,  34.3490,2,  34.3495,2,    194.8,2,    194.3,2,    54.58,2,    34.45,2,     0.00,2,     2.34,2,     0.03,2,    2.086,2,    1.085,2,    0.155,2,    0.853,2,   2229.6,6,   2308.1,2,   -999.0,9,  -999.00,9,-999.0000,9,-999.0000,9,-999.0000,9,   2.5946,2
  49NZ20191229,  I07S,   111,  1,     25,   1225,2,  200111,1112,-46.8045,  57.6832, 4444,    800.9,   2.6187,   2.6189,2,  34.4281,2,  34.4280,2,    182.5,2,    182.4,2,    61.14,2,    34.72,2,     0.00,2,     2.36,2,     0.03,2,    1.458,2,    0.780,2,    0.104,2,    0.594,2,   2241.6,2,   2316.8,2,   -999.0,9,  -999.00,9,-999.0000,9,-999.0000,9,-999.0000,9,   2.6189,2
  49NZ20191229,  I07S,   111,  1,     24,   1224,2,  200111,1112,-46.8045,  57.6832, 4444,    900.9,   2.7038,   2.7038,2,  34.4892,2,  34.4897,2,    176.8,2,    176.8,2,    64.22,2,    34.40,2,     0.01,2,     2.35,2,     0.03,2,    1.036,2,    0.570,2,    0.072,2,    0.391,2,   2242.3,2,   2326.4,2,   -999.0,9,  -999.00,9,-999.0000,9,-999.0000,9,-999.0000,9,   2.7038,2
  49NZ20191229,  I07S,   111,  1,     23,   1223,2,  200111,1112,-46.8045,  57.6832, 4444,   1003.1,   2.8541,   2.8537,2,  34.5732,2,  34.5729,2,    173.3,2,    173.7,2,    66.99,2,    33.52,2,     0.00,2,     2.29,2,     0.03,2,    0.569,2,    0.336,2,    0.034,2,    0.232,2,   2251.0,2,   2331.3,2,   -999.0,9,  -999.00,9,-999.0000,9,-999.0000,9,-999.0000,9,   2.8537,2
  49NZ20191229,  I07S,   111,  1,     22,   1222,2,  200111,1112,-46.8045,  57.6832, 4444,   1200.0,   2.5999,   2.6000,2,  34.6364,2,  34.6356,2,    175.3,2,    175.6,2,    71.53,2,    32.86,2,     0.00,2,     2.24,2,     0.03,2,    0.381,2,    0.237,2,    0.028,2,    0.131,2,   2245.3,2,   2336.7,6,   -999.0,9,  -999.00,9,-999.0000,9,-999.0000,9,-999.0000,9,   2.6000,2
  49NZ20191229,  I07S,   111,  1,     21,   1221,2,  200111,1112,-46.8045,  57.6832, 4444,   1400.9,   2.4740,   2.4740,2,  34.6879,2,  34.6882,2,    180.0,2,    180.4,2,    73.94,2,    31.85,2,     0.00,2,     2.17,2,     0.02,2,    0.272,2,    0.176,2,    0.018,2,    0.079,2,   2246.9,2,   2338.1,2,   -999.0,9,  -999.00,9,-999.0000,9,-999.0000,9,-999.0000,9,   2.4740,2
  49NZ20191229,  I07S,   111,  1,     20,   1220,2,  200111,1112,-46.8045,  57.6832, 4444,   1599.9,   2.3837,   2.3842,2,  34.7331,2,  34.7329,2,    188.7,2,    188.8,2,    74.38,2,    30.58,2,     0.00,2,     2.08,2,     0.03,2,    0.181,2,    0.123,2,    0.012,2,    0.058,2,   2242.8,2,   2340.6,2,   -999.0,9,  -999.00,9,-999.0000,9,-999.0000,9,-999.0000,9,   2.3842,2
  49NZ20191229,  I07S,   111,  1,     19,   1219,2,  200111,1112,-46.8045,  57.6832, 4444,   1801.5,   2.2601,   2.2607,2,  34.7505,2,  34.7504,2,    192.6,2,    192.8,2,    76.52,2,    30.16,2,     0.00,2,     2.05,2,     0.01,2,    0.174,2,    0.117,2,    0.014,2,    0.065,2,   2238.7,2,   2346.5,2,   -999.0,9,  -999.00,9,-999.0000,9,-999.0000,9,-999.0000,9,   2.2607,2
  49NZ20191229,  I07S,   111,  1,     18,   1218,2,  200111,1112,-46.8045,  57.6832, 4444,   2000.9,   2.0920,   2.0920,2,  34.7590,2,  34.7592,2,    196.7,2,    197.1,2,    79.85,2,    29.84,2,     0.00,2,     2.03,2,     0.02,2,    0.165,2,    0.113,2,    0.016,2,     0.09,2,   2238.4,2,   2347.8,2,   -999.0,9,  -999.00,9,-999.0000,9,-999.0000,9,-999.0000,9,   2.0920,2
  49NZ20191229,  I07S,   111,  1,     17,   1217,2,  200111,1112,-46.8045,  57.6832, 4444,   2200.1,   1.9381,   1.9392,2,  34.7657,2,  34.7653,2,    202.0,2,    202.1,2,    82.22,2,    29.51,2,     0.00,2,     2.00,2,     0.02,2,    0.151,2,    0.103,2,    0.011,2,    0.069,2,   2235.2,2,   2347.7,2,   -999.0,9,  -999.00,9,-999.0000,9,-999.0000,9,-999.0000,9,   1.9392,2
  49NZ20191229,  I07S,   111,  1,     16,   1216,2,  200111,1112,-46.8045,  57.6832, 4444,   2399.9,   1.7796,   1.7792,2,  34.7630,2,  34.7632,2,    204.7,2,    204.9,2,    85.92,2,    29.56,2,     0.00,2,     2.01,2,     0.04,2,    0.152,2,    0.104,2,    0.013,2,    0.043,2,   2241.0,6,   2349.9,2,   -999.0,9,  -999.00,9,-999.0000,9,-999.0000,9,-999.0000,9,   1.7792,2
  49NZ20191229,  I07S,   111,  1,     15,   1215,3,  200111,1112,-46.8045,  57.6832, 4444,   2600.0,   1.5918,   1.5905,2,  34.7527,2,  34.7522,2,    205.6,2,    205.9,2,    92.08,2,    30.03,2,     0.00,2,     2.04,2,     0.04,2,    0.166,2,    0.112,2,    0.013,2,    0.087,2,   2241.4,2,   2352.1,2,   -999.0,9,  -999.00,9,-999.0000,9,-999.0000,9,-999.0000,9,   1.5905,2
  49NZ20191229,  I07S,   111,  1,     14,   1214,2,  200111,1112,-46.8045,  57.6832, 4444,   2801.3,   1.4309,   1.4310,2,  34.7427,2,  34.7427,2,    206.2,2,    206.6,2,    97.78,2,    30.53,2,     0.00,2,     2.08,2,     0.03,2,    0.181,2,    0.120,2,    0.014,2,    0.069,2,   2247.1,2,   2355.3,2,   -999.0,9,  -999.00,9,-999.0000,9,-999.0000,9,-999.0000,9,   1.4310,2
  49NZ20191229,  I07S,   111,  1,     13,   1213,2,  200111,1112,-46.8045,  57.6832, 4444,   3001.4,   1.2155,   1.2169,2,  34.7280,2,  34.7275,2,    207.3,2,    207.6,2,   106.66,2,    31.20,2,     0.00,2,     2.13,2,     0.03,2,    0.187,2,    0.120,2,    0.014,2,    0.018,2,   2248.6,2,   2357.9,2,   -999.0,9,  -999.00,9,-999.0000,9,-999.0000,9,-999.0000,9,   1.2169,2
  49NZ20191229,  I07S,   111,  1,     12,   1212,2,  200111,1112,-46.8045,  57.6832, 4444,   3251.2,   0.9944,   0.9945,2,  34.7156,2,  34.7139,2,    209.2,2,    209.4,2,   111.75,2,    31.63,2,     0.00,2,     2.16,2,     0.03,2,    0.258,2,    0.164,2,    0.018,2,    0.081,2,   2249.1,2,   2357.6,6,   -999.0,9,  -999.00,9,-999.0000,9,-999.0000,9,-999.0000,9,   0.9945,2
  49NZ20191229,  I07S,   111,  1,     11,   1211,2,  200111,1112,-46.8045,  57.6832, 4444,   3500.4,   0.7266,   0.7283,2,  34.6986,2,  34.6979,2,    211.4,2,    211.7,2,   119.86,2,    32.33,2,     0.00,2,     2.21,2,     0.03,2,    0.318,2,    0.195,2,    0.024,2,    0.089,2,   2253.2,2,   2360.3,2,   -999.0,9,  -999.00,9,-999.0000,9,-999.0000,9,-999.0000,9,   0.7283,2
  49NZ20191229,  I07S,   111,  1,     10,   1210,2,  200111,1112,-46.8045,  57.6832, 4444,   3750.5,   0.5244,   0.5249,2,  34.6889,2,  34.6887,2,    215.7,2,    215.8,2,   128.57,2,    32.57,2,     0.00,2,     2.23,2,     0.02,2,    0.266,2,    0.164,2,    0.017,2,    0.055,2,   2258.5,2,   2359.8,2,   -999.0,9,  -999.00,9,-999.0000,9,-999.0000,9,-999.0000,9,   0.5249,2
  49NZ20191229,  I07S,   111,  1,      9,   1209,2,  200111,1112,-46.8045,  57.6832, 4444,   4000.8,   0.4009,   0.4012,2,  34.6817,2,  34.6814,2,    218.5,2,    218.6,2,   132.93,2,    32.69,2,     0.00,2,     2.25,2,     0.02,2,    0.302,2,    0.184,2,    0.021,2,    0.088,2,   2258.8,2,   2361.6,2,   -999.0,9,  -999.00,9,-999.0000,9,-999.0000,9,-999.0000,9,   0.4012,2
  49NZ20191229,  I07S,   111,  1,      8,  12103,2,  200111,1112,-46.8045,  57.6832, 4444,   4252.0,   0.2932,   0.2934,2,  34.6757,2,  34.6752,2,    221.3,2,    221.4,2,   138.39,2,    32.86,2,     0.00,2,     2.26,2,     0.02,2,    0.314,2,    0.191,2,    0.020,2,    0.063,2,   2260.0,6,   2359.2,2,   -999.0,9,  -999.00,9,-999.0000,9,-999.0000,9,-999.0000,9,   0.2934,2
  49NZ20191229,  I07S,   111,  1,      2,  12046,2,  200111,1112,-46.8045,  57.6832, 4444,     58.2,   7.0018,   7.0026,2,  33.7686,2,  33.7688,2,    306.3,2,    306.6,2,     1.45,2,    18.44,2,     0.13,2,     1.34,2,     0.44,2, -999.000,9, -999.000,9, -999.000,9,     -999,9,   2107.0,2,   2271.5,2,   -999.0,9,     0.56,2,-999.0000,9,-999.0000,9,-999.0000,9,   7.0026,2
  49NZ20191229,  I07S,   111,  1,      1,   1201,2,  200111,1112,-46.8045,  57.6832, 4444,   4510.5,   0.2056,   0.2059,2,  34.6703,2,  34.6698,2,    223.6,2,    223.6,2,   144.19,2,    32.93,2,     0.01,2,     2.27,2,     0.04,2,    0.350,2,    0.211,2,    0.022,2,    0.074,2,   2264.5,2,   2360.1,2,   -999.0,9,  -999.00,9,-999.0000,9,-999.0000,9,-999.0000,9,   0.2059,2