BOTTLE,20210310PRINUNIVRMK
EXPOCODE,SECT_ID,STNNBR,CASTNO,SAMPNO,BTLNBR,BTLNBR_FLAG_W,DATE,TIME,LATITUDE,LONGITUDE,DEPTH,CTDPRS,CTDTMP,SBE35,SBE35_FLAG_W,CTDSAL,CTDSAL_FLAG_W,SALNTY,SALNTY_FLAG_W,CTDOXY,CTDOXY_FLAG_W,OXYGEN,OXYGEN_FLAG_W,SILCAT,SILCAT_FLAG_W,NITRAT,NITRAT_FLAG_W,NITRIT,NITRIT_FLAG_W,PHSPHT,PHSPHT_FLAG_W,NH4,NH4_FLAG_W,CFC-11,CFC-11_FLAG_W,CFC-12,CFC-12_FLAG_W,CFC113,CFC113_FLAG_W,SF6,SF6_FLAG_W,TCARBN,TCARBN_FLAG_W,ALKALI,ALKALI_FLAG_W,DOC,DOC_FLAG_W,CHLORA,CHLORA_FLAG_W,CDOM300,CDOM300_FLAG_W,CDOM325,CDOM325_FLAG_W,CDOM443,CDOM443_FLAG_W,SBE35,SBE35_FLAG_W
,,,,,,,,,,,METERS,DBAR,ITS-90,,,PSS-78,,PSS-78,,UMOL/KG,,UMOL/KG,,UMOL/KG,,UMOL/KG,,UMOL/KG,,UMOL/KG,,UMOL/KG,,PMOL/KG,,PMOL/KG,,PMOL/KG,,FMOL/KG,,UMOL/KG,,UMOL/KG,,UMOL/KG,,UG/L,,1/M,,1/M,,1/M,,,
  49NZ20191229,  I07S,   148,  1,     36,   1236,2,  200121,0113,-63.9671,  53.4182, 4347,     10.3,   0.5367,   0.5362,2,  33.6173,2,  33.6180,2,    346.4,2,    348.0,2,    37.16,2,    24.37,2,     0.28,2,     1.67,2,     0.55,2,    6.003,2,    3.156,2,    0.558,2,    4.388,2,   2155.6,2,   2280.8,2,   -999.0,9,     0.10,2,-999.0000,9,-999.0000,9,-999.0000,9,   0.5362,2
  49NZ20191229,  I07S,   148,  1,     35,   1235,2,  200121,0113,-63.9671,  53.4182, 4347,     50.4,  -1.5848,  -1.5851,2,  33.9226,2,  33.9381,2,    352.8,2,    351.5,2,    45.74,2,    26.54,2,     0.19,2,     1.88,2,     0.46,2,    5.785,2,    3.049,2,    0.553,2,     4.23,2,   2179.0,2,   2300.9,2,   -999.0,9,     0.15,2,-999.0000,9,-999.0000,9,-999.0000,9,  -1.5851,2
  49NZ20191229,  I07S,   148,  1,     33,   1233,2,  200121,0113,-63.9671,  53.4182, 4347,    150.3,   1.5370,   1.5354,2,  34.5500,2,  34.5497,2,    184.6,2,    184.1,2,    83.18,2,    34.91,2,     0.03,2,     2.40,2,     0.03,2,    1.405,2,    0.758,2,    0.120,2,    0.866,2,   2262.0,2,   2337.5,2,   -999.0,9,     0.05,2,-999.0000,9,-999.0000,9,-999.0000,9,   1.5354,2
  49NZ20191229,  I07S,   148,  1,     32,   1232,2,  200121,0113,-63.9671,  53.4182, 4347,    199.5,   1.6532,   1.6519,2,  34.6126,2,  34.6120,2,    178.6,2,    178.5,2,    86.81,2,    34.44,2,     0.01,2,     2.36,2,     0.03,2,    0.961,2,    0.531,2,    0.084,2,    0.567,2,   2261.4,2,   2343.5,2,   -999.0,9,     0.01,2,-999.0000,9,-999.0000,9,-999.0000,9,   1.6519,2
  49NZ20191229,  I07S,   148,  1,     31,   1231,2,  200121,0113,-63.9671,  53.4182, 4347,    251.6,   1.6761,   1.6759,2,  34.6488,2,  34.6483,2,    178.0,2,    177.9,2,    89.09,2,    33.93,2,     0.00,2,     2.32,2,     0.03,2,    0.740,2,    0.415,2,    0.062,2,    0.389,2,   2264.7,2,   2347.3,2,   -999.0,9,     0.01,2,-999.0000,9,-999.0000,9,-999.0000,9,   1.6759,2
  49NZ20191229,  I07S,   148,  1,     30,   1230,2,  200121,0113,-63.9671,  53.4182, 4347,    281.4,   1.6858,   1.6855,2,  34.6614,2,  34.6607,2,    178.6,2,    178.6,2,    89.55,2,    33.69,2,     0.00,2,     2.29,2,     0.02,2,    0.664,2,    0.373,2,    0.058,2,    0.348,2,   2261.2,2,   2347.5,2,   -999.0,9,  -999.00,9,-999.0000,9,-999.0000,9,-999.0000,9,   1.6855,2
  49NZ20191229,  I07S,   148,  1,     29,   1229,2,  200121,0113,-63.9671,  53.4182, 4347,    371.9,   1.6904,   1.6901,2,  34.6901,2,  34.6894,2,    181.4,2,    181.3,2,    90.63,2,    32.96,2,     0.00,2,     2.25,2,     0.01,2,    0.508,2,    0.288,2,    0.046,2,    0.244,2,   2260.2,2,   2350.3,2,   -999.0,9,  -999.00,9,-999.0000,9,-999.0000,9,-999.0000,9,   1.6901,2
  49NZ20191229,  I07S,   148,  1,     28,   1228,2,  200121,0113,-63.9671,  53.4182, 4347,    471.2,   1.5771,   1.5768,2,  34.7051,2,  34.7050,2,    185.7,2,    185.6,2,    93.31,2,    32.51,2,     0.00,2,     2.21,2,        0,2,    0.455,2,    0.264,2,    0.039,2,    0.248,2,   2255.6,2,   2350.8,2,   -999.0,9,  -999.00,9,-999.0000,9,-999.0000,9,-999.0000,9,   1.5768,2
  49NZ20191229,  I07S,   148,  1,     27,   1227,2,  200121,0113,-63.9671,  53.4182, 4347,    572.7,   1.4922,   1.4918,2,  34.7153,2,  34.7155,2,    189.9,2,    190.0,2,    95.03,2,    32.07,2,     0.00,2,     2.19,2,     0.01,2,    0.408,2,    0.239,2,    0.037,2,    0.185,2,   2255.8,2,   2351.6,2,   -999.0,9,  -999.00,9,-999.0000,9,-999.0000,9,-999.0000,9,   1.4918,2
  49NZ20191229,  I07S,   148,  1,     26,   1226,2,  200121,0113,-63.9671,  53.4182, 4347,    671.6,   1.3949,   1.3945,2,  34.7207,2,  34.7204,2,    194.0,2,    193.9,2,    96.89,2,    31.69,2,     0.00,2,     2.17,2,     0.02,2,    0.371,2,    0.217,2,    0.034,2,    0.209,2,   2256.2,6,   2354.3,2,   -999.0,9,  -999.00,9,-999.0000,9,-999.0000,9,-999.0000,9,   1.3945,2
  49NZ20191229,  I07S,   148,  1,     25,   1225,2,  200121,0113,-63.9671,  53.4182, 4347,    769.7,   1.2830,   1.2828,2,  34.7210,2,  34.7211,2,    196.7,2,    196.7,2,    99.45,2,    31.66,2,     0.00,2,     2.16,2,     0.01,2,    0.362,2,    0.211,2,    0.032,2,    0.161,2,   2255.7,2,   2356.6,2,   -999.0,9,  -999.00,9,-999.0000,9,-999.0000,9,-999.0000,9,   1.2828,2
  49NZ20191229,  I07S,   148,  1,     24,   1224,2,  200121,0113,-63.9671,  53.4182, 4347,    869.4,   1.1872,   1.1869,2,  34.7196,2,  34.7197,2,    198.8,2,    199.0,2,   101.96,2,    31.77,2,     0.00,2,     2.17,2,     0.03,2,    0.358,2,    0.209,2,    0.028,2,    0.164,2,   2256.8,2,   2357.0,2,   -999.0,9,  -999.00,9,-999.0000,9,-999.0000,9,-999.0000,9,   1.1869,2
  49NZ20191229,  I07S,   148,  1,     23,   1223,2,  200121,0113,-63.9671,  53.4182, 4347,    971.5,   1.0869,   1.0863,2,  34.7162,2,  34.7159,2,    200.3,2,    200.4,2,   104.74,2,    31.86,2,     0.00,2,     2.18,2,     0.02,2,    0.368,2,    0.215,2,    0.032,2,    0.168,2,   2252.9,2,   2356.7,2,   -999.0,9,  -999.00,9,-999.0000,9,-999.0000,9,-999.0000,9,   1.0863,2
  49NZ20191229,  I07S,   148,  1,     22,   1222,2,  200121,0113,-63.9671,  53.4182, 4347,   1131.4,   0.9438,   0.9436,2,  34.7100,2,  34.7105,2,    202.0,2,    202.1,2,   108.37,2,    32.08,2,     0.00,2,     2.20,2,     0.03,2,    0.386,2,    0.220,2,    0.031,2,    0.155,2,   2253.7,2,   2356.5,2,   -999.0,9,  -999.00,9,-999.0000,9,-999.0000,9,-999.0000,9,   0.9436,2
  49NZ20191229,  I07S,   148,  1,     21,   1221,2,  200121,0113,-63.9671,  53.4182, 4347,   1329.9,   0.7859,   0.7856,2,  34.7022,2,  34.7027,2,    203.5,2,    203.6,2,   112.96,2,    32.40,2,     0.00,2,     2.22,2,     0.02,2,    0.406,2,    0.228,2,    0.034,2,    0.133,2,   -999.0,9,   2356.7,2,   -999.0,9,  -999.00,9,-999.0000,9,-999.0000,9,-999.0000,9,   0.7856,2
  49NZ20191229,  I07S,   148,  1,     20,   1220,2,  200121,0113,-63.9671,  53.4182, 4347,   1530.5,   0.6701,   0.6700,2,  34.6974,2,  34.6980,2,    205.1,2,    205.2,2,   116.58,2,    32.61,2,     0.00,2,     2.24,2,     0.04,2,    0.402,2,    0.225,2,    0.027,2,    0.115,2,   2259.9,2,   2358.2,2,   -999.0,9,  -999.00,9,-999.0000,9,-999.0000,9,-999.0000,9,   0.6700,2
  49NZ20191229,  I07S,   148,  1,     19,   1219,2,  200121,0113,-63.9671,  53.4182, 4347,   1730.1,   0.5619,   0.5617,2,  34.6911,2,  34.6914,2,    205.4,2,    205.5,2,   120.02,2,    32.89,2,     0.00,2,     2.26,2,     0.02,2,    0.423,2,    0.233,2,    0.028,2,    0.102,2,   2264.9,2,   2360.1,2,   -999.0,9,  -999.00,9,-999.0000,9,-999.0000,9,-999.0000,9,   0.5617,2
  49NZ20191229,  I07S,   148,  1,     18,   1218,2,  200121,0113,-63.9671,  53.4182, 4347,   1931.5,   0.4586,   0.4584,2,  34.6865,2,  34.6871,2,    207.7,2,    207.8,2,   123.08,2,    33.05,2,     0.00,2,     2.26,2,     0.01,2,    0.414,2,    0.227,2,    0.030,2,    0.144,2,   2263.2,2,   2360.5,2,   -999.0,9,  -999.00,9,-999.0000,9,-999.0000,9,-999.0000,9,   0.4584,2
  49NZ20191229,  I07S,   148,  1,     17,   1217,2,  200121,0113,-63.9671,  53.4182, 4347,   2130.8,   0.3694,   0.3695,2,  34.6819,2,  34.6823,2,    211.0,2,    211.2,2,   124.44,2,    32.99,2,     0.00,2,     2.27,2,     0.01,2,    0.434,2,    0.236,2,    0.025,2,    0.127,2,   2268.0,2,   2359.8,2,   -999.0,9,  -999.00,9,-999.0000,9,-999.0000,9,-999.0000,9,   0.3695,2
  49NZ20191229,  I07S,   148,  1,     16,   1216,2,  200121,0113,-63.9671,  53.4182, 4347,   2330.4,   0.2902,   0.2900,2,  34.6777,2,  34.6780,2,    214.6,2,    214.6,2,   124.94,2,    32.86,2,     0.00,2,     2.26,2,     0.03,2,    0.479,2,    0.263,2,    0.032,2,    0.202,2,   2260.6,6,   2358.0,2,   -999.0,9,  -999.00,9,-999.0000,9,-999.0000,9,-999.0000,9,   0.2900,2
  49NZ20191229,  I07S,   148,  1,     15,  12102,2,  200121,0113,-63.9671,  53.4182, 4347,   2530.4,   0.2073,   0.2072,2,  34.6735,2,  34.6733,2,    218.4,2,    218.6,2,   125.66,2,    32.82,2,     0.00,2,     2.26,2,     0.02,2,    0.552,2,    0.304,2,    0.038,2,    0.203,2,   2262.1,2,   2358.4,2,   -999.0,9,  -999.00,9,-999.0000,9,-999.0000,9,-999.0000,9,   0.2072,2
  49NZ20191229,  I07S,   148,  1,     13,  12105,2,  200121,0113,-63.9671,  53.4182, 4347,   2930.7,   0.0756,   0.0755,2,  34.6672,2,  34.6665,2,    223.6,2,    223.9,2,   127.68,2,    32.91,2,     0.00,2,     2.26,2,     0.02,2,    0.601,2,    0.330,2,    0.041,2,    0.312,2,   2260.7,2,   2357.9,2,   -999.0,9,  -999.00,9,-999.0000,9,-999.0000,9,-999.0000,9,   0.0755,2
  49NZ20191229,  I07S,   148,  1,     12,   1211,2,  200121,0113,-63.9671,  53.4182, 4347,   3169.9,  -0.0222,  -0.0224,2,  34.6607,2,  34.6612,2,    229.2,2,    229.2,2,   126.04,2,    32.80,2,     0.00,2,     2.26,2,     0.03,2,    0.810,2,    0.436,2,    0.060,2,     0.36,2,   2260.6,2,   2358.2,2,   -999.0,9,  -999.00,9,-999.0000,9,-999.0000,9,-999.0000,9,  -0.0224,2
  49NZ20191229,  I07S,   148,  1,     11,  12106,2,  200121,0113,-63.9671,  53.4182, 4347,   3420.4,  -0.0596,  -0.0597,2,  34.6622,2,  34.6623,2,    229.1,2,    229.4,2,   130.47,2,    32.91,2,     0.00,2,     2.27,2,     0.01,2,    0.540,2,    0.291,2,    0.037,2,    0.149,2,   2256.9,2,   2357.4,2,   -999.0,9,  -999.00,9,-999.0000,9,-999.0000,9,-999.0000,9,  -0.0597,2
  49NZ20191229,  I07S,   148,  1,     10,   1210,2,  200121,0113,-63.9671,  53.4182, 4347,   3670.5,  -0.1276,  -0.1278,2,  34.6571,2,  34.6571,2,    233.9,2,    234.2,2,   130.03,2,    32.74,2,     0.00,2,     2.26,2,     0.02,2,    0.708,2,    0.386,2,    0.053,2,    0.422,2,   2255.6,2,   2356.7,2,   -999.0,9,  -999.00,9,-999.0000,9,-999.0000,9,-999.0000,9,  -0.1278,2
  49NZ20191229,  I07S,   148,  1,      9,  12101,2,  200121,0113,-63.9671,  53.4182, 4347,   3920.8,  -0.2163,  -0.2165,2,  34.6488,2,  34.6496,2,    240.6,2,    240.7,2,   126.88,2,    32.55,2,     0.00,2,     2.24,2,     0.02,2,    1.109,2,    0.596,2,    0.083,2,    0.564,2,   2257.6,2,   2356.5,2,   -999.0,9,  -999.00,9,-999.0000,9,-999.0000,9,-999.0000,9,  -0.2165,2
  49NZ20191229,  I07S,   148,  1,      8,  12103,2,  200121,0113,-63.9671,  53.4182, 4347,   4169.5,  -0.3047,  -0.3046,2,  34.6413,2,  34.6411,2,    247.2,2,    248.0,2,   120.27,2,    32.40,2,     0.00,2,     2.22,2,     0.03,2,    1.624,2,    0.859,2,    0.134,2,    0.903,2,   2252.8,6,   2353.7,2,   -999.0,9,  -999.00,9,-999.0000,9,-999.0000,9,-999.0000,9,  -0.3046,2
  49NZ20191229,  I07S,   148,  1,      2,  12046,2,  200121,0113,-63.9671,  53.4182, 4347,     56.6,  -1.6001,  -1.5893,2,  34.0020,2,  34.0244,2,    337.8,2,    335.4,2,    50.86,2,    27.71,2,     0.22,2,     1.97,2,     0.48,2, -999.000,9, -999.000,9, -999.000,9,     -999,9,   2192.0,2,   2306.0,2,   -999.0,9,     0.11,2,-999.0000,9,-999.0000,9,-999.0000,9,  -1.5893,2
  49NZ20191229,  I07S,   148,  1,      1,   1201,2,  200121,0113,-63.9671,  53.4182, 4347,   4418.2,  -0.4284,  -0.4287,2,  34.6268,2,  34.6277,2,    258.0,2,    257.9,2,   107.97,2,    31.91,2,     0.02,2,     2.20,2,     0.04,2,    2.401,2,    1.258,2,    0.200,2,    1.398,2,   2251.3,2,   2349.3,2,   -999.0,9,  -999.00,9,-999.0000,9,-999.0000,9,-999.0000,9,  -0.4287,2