BOTTLE,20210310PRINUNIVRMK
EXPOCODE,SECT_ID,STNNBR,CASTNO,SAMPNO,BTLNBR,BTLNBR_FLAG_W,DATE,TIME,LATITUDE,LONGITUDE,DEPTH,CTDPRS,CTDTMP,SBE35,SBE35_FLAG_W,CTDSAL,CTDSAL_FLAG_W,SALNTY,SALNTY_FLAG_W,CTDOXY,CTDOXY_FLAG_W,OXYGEN,OXYGEN_FLAG_W,SILCAT,SILCAT_FLAG_W,NITRAT,NITRAT_FLAG_W,NITRIT,NITRIT_FLAG_W,PHSPHT,PHSPHT_FLAG_W,NH4,NH4_FLAG_W,CFC-11,CFC-11_FLAG_W,CFC-12,CFC-12_FLAG_W,CFC113,CFC113_FLAG_W,SF6,SF6_FLAG_W,TCARBN,TCARBN_FLAG_W,ALKALI,ALKALI_FLAG_W,DOC,DOC_FLAG_W,CHLORA,CHLORA_FLAG_W,CDOM300,CDOM300_FLAG_W,CDOM325,CDOM325_FLAG_W,CDOM443,CDOM443_FLAG_W,SBE35,SBE35_FLAG_W
,,,,,,,,,,,METERS,DBAR,ITS-90,,,PSS-78,,PSS-78,,UMOL/KG,,UMOL/KG,,UMOL/KG,,UMOL/KG,,UMOL/KG,,UMOL/KG,,UMOL/KG,,PMOL/KG,,PMOL/KG,,PMOL/KG,,FMOL/KG,,UMOL/KG,,UMOL/KG,,UMOL/KG,,UG/L,,1/M,,1/M,,1/M,,,
  49NZ20191229,  I07S,    91,  1,     36,   1236,2,  200106,0432,-37.2218,  57.6255, 5331,     10.6,  17.0767,  17.0693,2,  35.4324,2,  35.4291,2,    254.5,2,    253.3,2,     0.26,2,     0.03,2,     0.00,2,     0.12,2,     0.05,2,    2.492,2,    1.464,2,    0.216,2,    2.315,2,   2071.9,2,   2330.2,2,   -999.0,9,     0.17,2,-999.0000,9,-999.0000,9,-999.0000,9,  17.0693,2
  49NZ20191229,  I07S,    91,  1,     35,   1235,2,  200106,0432,-37.2218,  57.6255, 5331,     50.3,  15.5157,  15.5157,2,  35.4303,2,  35.4300,2,    257.0,2,    255.7,2,     0.28,2,     0.06,2,     0.01,2,     0.15,2,     0.06,2,    2.576,2,    1.511,2,    0.216,2,    2.316,2,   2077.3,2,   2331.3,2,   -999.0,9,     0.73,2,-999.0000,9,-999.0000,9,-999.0000,9,  15.5157,2
  49NZ20191229,  I07S,    91,  1,     34,   1234,2,  200106,0432,-37.2218,  57.6255, 5331,    100.7,  14.2406,  14.2406,2,  35.3884,2,  35.3880,2,    243.5,2,    242.5,2,     3.10,2,     4.83,2,     0.02,2,     0.43,2,     0.02,2,    2.706,2,    1.590,2,    0.218,2,    2.452,2,   2105.6,2,   2324.6,2,   -999.0,9,     0.05,2,-999.0000,9,-999.0000,9,-999.0000,9,  14.2406,2
  49NZ20191229,  I07S,    91,  1,     33,   1233,2,  200106,0432,-37.2218,  57.6255, 5331,    150.6,  14.1375,  14.1375,2,  35.3878,2,  35.3876,2,    243.2,2,    242.1,2,     3.14,2,     5.34,2,     0.02,2,     0.46,2,     0.03,2,    2.722,2,    1.591,2,    0.209,2,    2.433,2,   2106.8,2,   2328.4,2,   -999.0,9,     0.02,2,-999.0000,9,-999.0000,9,-999.0000,9,  14.1375,2
  49NZ20191229,  I07S,    91,  1,     32,   1232,2,  200106,0432,-37.2218,  57.6255, 5331,    199.8,  14.0489,  14.0489,2,  35.3868,2,  35.3868,2,    243.0,2,    242.2,2,     3.25,2,     5.56,2,     0.02,2,     0.47,2,     0.03,2,    2.738,2,    1.597,2,    0.204,2,    2.413,2,   2107.2,2,   2326.3,2,   -999.0,9,     0.01,2,-999.0000,9,-999.0000,9,-999.0000,9,  14.0489,2
  49NZ20191229,  I07S,    91,  1,     31,   1231,2,  200106,0432,-37.2218,  57.6255, 5331,    248.6,  13.9550,  13.9550,2,  35.3786,2,  35.3781,2,    243.6,2,    242.6,2,     3.21,2,     5.71,2,     0.01,2,     0.48,2,     0.03,2,    2.741,2,    1.593,2,    0.197,2,    2.416,2,   2110.1,2,   2325.5,2,   -999.0,9,     0.01,2,-999.0000,9,-999.0000,9,-999.0000,9,  13.9550,2
  49NZ20191229,  I07S,    91,  1,     30,   1230,3,  200106,0432,-37.2218,  57.6255, 5331,    280.4,  13.8498,  13.8498,2,  35.3619,2,  35.3614,2,    243.1,2,    242.2,2,     3.20,2,     6.14,2,     0.01,2,     0.50,2,     0.02,2,    2.746,2,    1.602,2,    0.189,2,      2.4,2,   2108.2,2,   2324.4,2,   -999.0,9,  -999.00,9,-999.0000,9,-999.0000,9,-999.0000,9,  13.8498,2
  49NZ20191229,  I07S,    91,  1,     29,   1229,2,  200106,0432,-37.2218,  57.6255, 5331,    370.7,  13.6521,  13.6522,2,  35.3310,2,  35.3312,2,    242.9,2,    242.2,2,     3.28,2,     6.51,2,     0.01,2,     0.53,2,     0.03,2,    2.749,2,    1.609,2,    0.177,2,    2.345,2,   2109.2,2,   2323.7,2,   -999.0,9,  -999.00,9,-999.0000,9,-999.0000,9,-999.0000,9,  13.6522,2
  49NZ20191229,  I07S,    91,  1,     28,   1228,2,  200106,0432,-37.2218,  57.6255, 5331,    470.4,  13.2802,  13.2835,2,  35.2695,2,  35.2691,2,    239.6,2,    239.2,2,     3.46,2,     7.58,2,     0.01,2,     0.60,2,     0.03,2,    2.841,2,    1.652,2,    0.155,2,    2.332,2,   2113.6,2,   2319.0,2,   -999.0,9,  -999.00,9,-999.0000,9,-999.0000,9,-999.0000,9,  13.2835,2
  49NZ20191229,  I07S,    91,  1,     27,   1227,2,  200106,0432,-37.2218,  57.6255, 5331,    570.9,  12.7487,  12.7472,2,  35.1855,2,  35.1848,2,    235.8,2,    235.8,2,     3.71,2,     9.12,2,     0.01,2,     0.69,2,     0.03,2,    2.932,2,    1.706,2,    0.133,2,    2.279,2,   2122.2,2,   2313.8,2,   -999.0,9,  -999.00,9,-999.0000,9,-999.0000,9,-999.0000,9,  12.7472,2
  49NZ20191229,  I07S,    91,  1,     26,   1226,2,  200106,0432,-37.2218,  57.6255, 5331,    672.4,  11.7939,  11.7930,2,  35.0286,2,  35.0289,2,    226.3,2,    226.3,2,     4.42,2,    12.08,2,     0.01,2,     0.88,2,     0.03,2,    3.107,2,    1.769,2,    0.095,2,    1.936,2,   2131.2,6,   2309.5,2,   -999.0,9,  -999.00,9,-999.0000,9,-999.0000,9,-999.0000,9,  11.7930,2
  49NZ20191229,  I07S,    91,  1,     25,   1225,2,  200106,0432,-37.2218,  57.6255, 5331,    770.9,  10.7121,  10.7113,2,  34.8689,2,  34.8684,2,    221.4,2,    221.4,2,     5.66,2,    15.04,2,     0.01,2,     1.06,2,     0.05,2,    3.272,2,    1.830,2,    0.100,2,    1.742,2,   2138.1,2,   2303.0,2,   -999.0,9,  -999.00,9,-999.0000,9,-999.0000,9,-999.0000,9,  10.7113,2
  49NZ20191229,  I07S,    91,  1,     24,   1224,2,  200106,0432,-37.2218,  57.6255, 5331,    869.8,   9.5933,   9.5939,2,  34.7260,2,  34.7250,2,    215.8,2,    215.8,2,     7.97,2,    18.10,2,     0.00,2,     1.25,2,     0.02,2,    3.302,2,    1.794,2,    0.112,2,     1.49,2,   2148.1,2,   2297.9,2,   -999.0,9,  -999.00,9,-999.0000,9,-999.0000,9,-999.0000,9,   9.5939,2
  49NZ20191229,  I07S,    91,  1,     23,   1223,2,  200106,0432,-37.2218,  57.6255, 5331,    970.0,   8.3499,   8.3498,2,  34.6010,2,  34.6002,2,    207.9,2,    208.2,2,    12.38,2,    21.78,2,     0.00,2,     1.50,2,     0.02,2,    3.164,2,    1.675,2,    0.122,2,    1.348,2,   2165.4,2,   2292.1,2,   -999.0,9,  -999.00,9,-999.0000,9,-999.0000,9,-999.0000,9,   8.3498,2
  49NZ20191229,  I07S,    91,  1,     22,   1222,2,  200106,0432,-37.2218,  57.6255, 5331,   1128.9,   6.2036,   6.2041,2,  34.4162,2,  34.4170,2,    208.6,2,    208.3,2,    20.51,2,    27.08,2,     0.00,2,     1.83,2,     0.05,2,    3.011,2,    1.570,2,    0.157,2,    1.194,2,   2183.4,2,   2290.8,6,   -999.0,9,  -999.00,9,-999.0000,9,-999.0000,9,-999.0000,9,   6.2041,2
  49NZ20191229,  I07S,    91,  1,     21,   1221,2,  200106,0432,-37.2218,  57.6255, 5331,   1328.9,   4.4164,   4.4188,2,  34.3763,2,  34.3763,2,    195.8,2,    195.6,2,    37.13,2,    31.30,2,     0.00,2,     2.14,2,     0.05,2,    2.001,2,    1.028,2,    0.104,2,    0.618,2,   2212.0,2,   2304.3,2,   -999.0,9,  -999.00,9,-999.0000,9,-999.0000,9,-999.0000,9,   4.4188,2
  49NZ20191229,  I07S,    91,  1,     20,   1220,2,  200106,0432,-37.2218,  57.6255, 5331,   1530.9,   3.5830,   3.5828,2,  34.4460,2,  34.4461,2,    179.0,2,    178.9,2,    53.91,2,    33.45,2,     0.00,2,     2.30,2,     0.05,2,    1.087,2,    0.568,2,    0.062,2,    0.281,2,   2235.1,2,   2319.1,2,   -999.0,9,  -999.00,9,-999.0000,9,-999.0000,9,-999.0000,9,   3.5828,2
  49NZ20191229,  I07S,    91,  1,     19,   1219,2,  200106,0432,-37.2218,  57.6255, 5331,   1731.7,   3.0554,   3.0553,2,  34.5403,2,  34.5399,2,    172.6,2,    172.1,2,    65.47,2,    33.79,2,     0.00,2,     2.32,2,     0.04,2,    0.576,2,    0.314,2,    0.029,2,     0.13,2,   2248.0,2,   2330.5,2,   -999.0,9,  -999.00,9,-999.0000,9,-999.0000,9,-999.0000,9,   3.0553,2
  49NZ20191229,  I07S,    91,  1,     18,   1218,2,  200106,0432,-37.2218,  57.6255, 5331,   1930.5,   2.7968,   2.7967,2,  34.6103,2,  34.6106,2,    174.0,2,    173.8,2,    71.55,2,    33.19,2,     0.00,2,     2.27,2,     0.04,2,    0.324,2,    0.182,2,    0.015,2,    0.106,2,   2252.4,2,   2339.7,2,   -999.0,9,  -999.00,9,-999.0000,9,-999.0000,9,-999.0000,9,   2.7967,2
  49NZ20191229,  I07S,    91,  1,     17,   1217,2,  200106,0432,-37.2218,  57.6255, 5331,   2130.5,   2.5967,   2.5966,2,  34.6655,2,  34.6650,2,    178.3,2,    178.0,2,    76.79,2,    32.27,2,     0.00,2,     2.21,2,     0.03,2,    0.200,2,    0.115,2,    0.010,2,    0.061,2,   2255.3,2,   2346.5,2,   -999.0,9,  -999.00,9,-999.0000,9,-999.0000,9,-999.0000,9,   2.5966,2
  49NZ20191229,  I07S,    91,  1,     16,   1216,2,  200106,0432,-37.2218,  57.6255, 5331,   2331.9,   2.4050,   2.4049,2,  34.7045,2,  34.7036,2,    182.0,2,    181.7,2,    83.01,2,    31.82,2,     0.00,2,     2.18,2,     0.01,2,    0.118,2,    0.066,2,    0.006,2,    0.051,2,   2256.3,6,   2353.6,2,   -999.0,9,  -999.00,9,-999.0000,9,-999.0000,9,-999.0000,9,   2.4049,2
  49NZ20191229,  I07S,    91,  1,     15,   1215,2,  200106,0432,-37.2218,  57.6255, 5331,   2530.3,   2.2640,   2.2639,2,  34.7254,2,  34.7248,2,    184.9,2,    184.8,2,    87.66,2,    31.50,2,     0.00,2,     2.16,2,     0.02,2,    0.089,2,    0.050,2,    0.004,2,    0.021,2,   2263.1,2,   2357.3,2,   -999.0,9,  -999.00,9,-999.0000,9,-999.0000,9,-999.0000,9,   2.2639,2
  49NZ20191229,  I07S,    91,  1,     14,   1214,2,  200106,0432,-37.2218,  57.6255, 5331,   2729.0,   2.1308,   2.1307,2,  34.7410,2,  34.7408,2,    190.0,2,    189.7,2,    89.18,2,    30.92,2,     0.00,2,     2.13,2,     0.03,2,    0.088,2,    0.051,2,    0.007,2,    0.005,2,   2258.0,2,   2357.4,2,   -999.0,9,  -999.00,9,-999.0000,9,-999.0000,9,-999.0000,9,   2.1307,2
  49NZ20191229,  I07S,    91,  1,     13,   1213,2,  200106,0432,-37.2218,  57.6255, 5331,   2929.6,   1.9738,   1.9735,2,  34.7429,2,  34.7425,2,    190.2,2,    189.9,2,    95.60,2,    31.31,2,     0.00,2,     2.14,2,     0.05,2,    0.077,2,    0.043,2,    0.007,2,    0.069,2,   2261.1,2,   2362.5,2,   -999.0,9,  -999.00,9,-999.0000,9,-999.0000,9,-999.0000,9,   1.9735,2
  49NZ20191229,  I07S,    91,  1,     12,   1212,2,  200106,0432,-37.2218,  57.6255, 5331,   3170.4,   1.7928,   1.7926,2,  34.7451,2,  34.7446,2,    196.2,2,    196.0,2,    97.65,2,    30.88,2,     0.00,2,     2.12,2,     0.05,2,    0.094,2,    0.052,2,    0.004,2,    0.021,2,   2260.4,2,   2365.0,6,   -999.0,9,  -999.00,9,-999.0000,9,-999.0000,9,-999.0000,9,   1.7926,2
  49NZ20191229,  I07S,    91,  1,     11,   1211,2,  200106,0432,-37.2218,  57.6255, 5331,   3421.4,   1.5486,   1.5476,2,  34.7397,2,  34.7392,2,    203.0,2,    202.6,2,   100.82,2,    30.82,2,     0.00,2,     2.11,2,     0.04,2,    0.139,2,    0.079,2,    0.006,2,    0.061,2,   2255.6,2,   2358.8,2,   -999.0,9,  -999.00,9,-999.0000,9,-999.0000,9,-999.0000,9,   1.5476,2
  49NZ20191229,  I07S,    91,  1,     10,   1210,2,  200106,0432,-37.2218,  57.6255, 5331,   3672.4,   1.2546,   1.2544,2,  34.7264,2,  34.7257,2,    207.6,2,    207.5,2,   107.23,2,    31.13,2,     0.00,2,     2.13,2,     0.04,2,    0.194,2,    0.113,2,    0.013,2,    0.062,2,   2256.9,2,   2358.7,2,   -999.0,9,  -999.00,9,-999.0000,9,-999.0000,9,-999.0000,9,   1.2544,2
  49NZ20191229,  I07S,    91,  1,      9,   1209,2,  200106,0432,-37.2218,  57.6255, 5331,   3920.3,   0.9570,   0.9568,2,  34.7099,2,  34.7092,2,    211.0,2,    210.7,2,   116.22,2,    31.76,2,     0.00,2,     2.18,2,     0.04,2,    0.233,2,    0.130,2,    0.019,2,    0.104,2,   2261.5,2,   2362.2,2,   -999.0,9,  -999.00,9,-999.0000,9,-999.0000,9,-999.0000,9,   0.9568,2
  49NZ20191229,  I07S,    91,  1,      8,  12103,2,  200106,0432,-37.2218,  57.6255, 5331,   4170.8,   0.6436,   0.6436,2,  34.6929,2,  34.6928,2,    215.6,2,    215.2,2,   126.69,2,    32.33,2,     0.00,2,     2.22,2,     0.11,2,    0.260,2,    0.147,2,    0.016,2,    0.117,2,   2261.6,6,   2358.5,2,   -999.0,9,  -999.00,9,-999.0000,9,-999.0000,9,-999.0000,9,   0.6436,2
  49NZ20191229,  I07S,    91,  1,      7,   1207,2,  200106,0432,-37.2218,  57.6255, 5331,   4420.4,   0.5385,   0.5384,2,  34.6864,2,  34.6866,2,    217.6,2,    217.2,2,   130.72,2,    32.54,2,     0.00,2,     2.23,2,     0.03,2,    0.275,2,    0.154,2,    0.016,2,    0.067,2,   2263.5,2,   2363.1,2,   -999.0,9,  -999.00,9,-999.0000,9,-999.0000,9,-999.0000,9,   0.5384,2
  49NZ20191229,  I07S,    91,  1,      6,   1206,2,  200106,0432,-37.2218,  57.6255, 5331,   4671.5,   0.5155,   0.5156,2,  34.6840,2,  34.6846,2,    218.3,2,    218.1,2,   132.63,2,    32.70,2,     0.00,2,     2.24,2,     0.01,2,    0.284,2,    0.156,2,    0.018,2,    0.071,2,   2263.4,2,   2361.8,6,   -999.0,9,  -999.00,9,-999.0000,9,-999.0000,9,-999.0000,9,   0.5156,2
  49NZ20191229,  I07S,    91,  1,      5,   1205,2,  200106,0432,-37.2218,  57.6255, 5331,   4922.4,   0.5054,   0.5054,2,  34.6821,2,  34.6821,2,    218.8,2,    218.7,2,   133.91,2,    32.80,2,     0.00,2,     2.25,2,     0.04,2,    0.278,2,    0.155,2,    0.016,2,    0.083,2,   2262.6,2,   2360.9,2,   -999.0,9,  -999.00,9,-999.0000,9,-999.0000,9,-999.0000,9,   0.5054,2
  49NZ20191229,  I07S,    91,  1,      4,   1204,2,  200106,0432,-37.2218,  57.6255, 5331,   5169.6,   0.5233,   0.5234,2,  34.6815,2,  34.6816,2,    218.9,2,    218.9,2,   134.32,2,    32.74,2,     0.00,2,     2.25,2,     0.02,2,    0.280,2,    0.154,2,    0.014,2,    0.048,2,   2265.1,2,   2359.4,2,   -999.0,9,  -999.00,9,-999.0000,9,-999.0000,9,-999.0000,9,   0.5234,2
  49NZ20191229,  I07S,    91,  1,      2,  12046,2,  200106,0432,-37.2218,  57.6255, 5331,     65.4,  15.3144,  15.3169,2,  35.4279,2,  35.4247,2,    249.0,2,    246.2,2,     0.88,2,     0.68,2,     0.14,2,     0.23,2,     0.59,2, -999.000,9, -999.000,9, -999.000,9,     -999,9,   2088.2,2,   2329.4,2,   -999.0,9,     0.64,2,-999.0000,9,-999.0000,9,-999.0000,9,  15.3169,2
  49NZ20191229,  I07S,    91,  1,      1,   1201,2,  200106,0432,-37.2218,  57.6255, 5331,   5352.7,   0.5355,   0.5353,2,  34.6809,2,  34.6807,2,    219.1,2,    218.8,2,   134.43,2,    32.83,2,     0.00,2,     2.25,2,     0.05,2,    0.278,2,    0.156,2,    0.013,2,    0.075,2,   2264.0,2,   2362.1,2,   -999.0,9,  -999.00,9,-999.0000,9,-999.0000,9,-999.0000,9,   0.5353,2