BOTTLE,20210310PRINUNIVRMK
EXPOCODE,SECT_ID,STNNBR,CASTNO,SAMPNO,BTLNBR,BTLNBR_FLAG_W,DATE,TIME,LATITUDE,LONGITUDE,DEPTH,CTDPRS,CTDTMP,SBE35,SBE35_FLAG_W,CTDSAL,CTDSAL_FLAG_W,SALNTY,SALNTY_FLAG_W,CTDOXY,CTDOXY_FLAG_W,OXYGEN,OXYGEN_FLAG_W,SILCAT,SILCAT_FLAG_W,NITRAT,NITRAT_FLAG_W,NITRIT,NITRIT_FLAG_W,PHSPHT,PHSPHT_FLAG_W,NH4,NH4_FLAG_W,CFC-11,CFC-11_FLAG_W,CFC-12,CFC-12_FLAG_W,CFC113,CFC113_FLAG_W,SF6,SF6_FLAG_W,TCARBN,TCARBN_FLAG_W,ALKALI,ALKALI_FLAG_W,DOC,DOC_FLAG_W,CHLORA,CHLORA_FLAG_W,CDOM300,CDOM300_FLAG_W,CDOM325,CDOM325_FLAG_W,CDOM443,CDOM443_FLAG_W,SBE35,SBE35_FLAG_W
,,,,,,,,,,,METERS,DBAR,ITS-90,,,PSS-78,,PSS-78,,UMOL/KG,,UMOL/KG,,UMOL/KG,,UMOL/KG,,UMOL/KG,,UMOL/KG,,UMOL/KG,,PMOL/KG,,PMOL/KG,,PMOL/KG,,FMOL/KG,,UMOL/KG,,UMOL/KG,,UMOL/KG,,UG/L,,1/M,,1/M,,1/M,,,
  49NZ20191229,  I07S,   122,  1,     36,   1236,2,  200115,0646,-51.7928,  57.1738, 4428,     10.2,   3.7425,   3.7428,2,  33.8912,2,  33.8921,2,    324.5,2,    325.1,2,    14.87,2,    24.92,2,     0.21,2,     1.60,2,     0.29,2,    4.978,2,    2.690,2,    0.480,2,    3.957,2,   2143.6,2,   2288.5,2,     42.8,2,     0.51,2,   0.2250,2,   0.1150,2,   0.0210,2,   3.7428,2
  49NZ20191229,  I07S,   122,  1,     35,   1235,2,  200115,0646,-51.7928,  57.1738, 4428,     50.8,   3.7395,   3.7396,2,  33.8924,2,  33.8928,2,    324.1,2,    325.0,2,    14.83,2,    24.99,2,     0.21,2,     1.60,2,     0.29,2,    4.986,2,    2.735,2,    0.478,2,    3.931,2,   2145.8,2,   2287.5,2,     44.5,2,     0.57,2,   0.2200,2,   0.1030,2,   0.0160,2,   3.7396,2
  49NZ20191229,  I07S,   122,  1,     34,   1234,2,  200115,0646,-51.7928,  57.1738, 4428,    100.5,   2.1002,   2.0984,2,  33.9587,2,  33.9592,2,    327.3,2,    327.9,2,    32.50,2,    27.12,2,     0.22,2,     1.93,2,     1.02,2,    5.347,2,    2.876,2,    0.515,2,    4.103,2,   2167.4,2,   2295.6,2,     45.3,2,     0.29,2,   0.2310,2,   0.1140,2,   0.0230,2,   2.0984,2
  49NZ20191229,  I07S,   122,  1,     33,   1233,2,  200115,0646,-51.7928,  57.1738, 4428,    150.8,   1.4869,   1.4872,2,  33.9826,2,  33.9836,2,    326.9,2,    327.1,2,    38.14,2,    28.24,2,     0.25,2,     1.96,2,     0.53,2,    5.378,2,    2.908,2,    0.514,2,    4.044,2,   2178.7,2,   2294.9,2,     38.6,2,     0.07,2,   0.2340,2,   0.1130,2,   0.0240,2,   1.4872,2
  49NZ20191229,  I07S,   122,  1,     32,   1232,2,  200115,0646,-51.7928,  57.1738, 4428,    199.9,   1.3587,   1.3585,2,  34.0251,2,  34.0252,2,    311.8,2,    312.0,2,    40.44,2,    29.69,2,     0.13,2,     2.02,2,     0.12,2,    5.028,2,    2.725,2,    0.480,2,    3.796,2,   2183.9,2,   2296.5,2,     40.9,2,     0.04,2,   0.2270,2,   0.1080,2,   0.0240,2,   1.3585,2
  49NZ20191229,  I07S,   122,  1,     31,   1231,2,  200115,0646,-51.7928,  57.1738, 4428,    250.3,   2.0209,   2.0210,2,  34.1838,2,  34.1838,2,    243.2,2,    243.0,2,    46.40,2,    32.85,2,     0.02,2,     2.22,2,     0.04,2,    3.596,2,    1.894,2,    0.308,2,    2.239,2,   2210.1,2,   2301.1,2,   -999.0,9,     0.01,2,-999.0000,9,-999.0000,9,-999.0000,9,   2.0210,2
  49NZ20191229,  I07S,   122,  1,     30,   1230,2,  200115,0646,-51.7928,  57.1738, 4428,    300.5,   2.1540,   2.1540,2,  34.2831,2,  34.2828,2,    214.8,2,    214.6,2,    54.53,2,    34.39,2,     0.01,2,     2.32,2,     0.03,2,    2.768,2,    1.468,2,    0.228,2,     1.49,2,   2226.9,2,   2309.1,2,     39.2,2,  -999.00,9,   0.2600,2,   0.1350,2,   0.0230,2,   2.1540,2
  49NZ20191229,  I07S,   122,  1,     29,   1229,2,  200115,0646,-51.7928,  57.1738, 4428,    400.0,   2.1924,   2.1919,2,  34.4244,2,  34.4237,2,    188.0,2,    188.2,2,    66.39,2,    35.07,2,     0.01,2,     2.38,2,     0.03,2,    1.749,2,    0.927,2,    0.139,2,    0.864,2,   2249.1,2,   2321.7,2,     40.1,2,  -999.00,9,   0.2700,2,   0.1520,2,   0.0320,2,   2.1919,2
  49NZ20191229,  I07S,   122,  1,     28,   1228,2,  200115,0646,-51.7928,  57.1738, 4428,    500.4,   2.2634,   2.2631,2,  34.4985,2,  34.4967,2,    176.7,2,    176.8,2,    71.29,2,    35.16,2,     0.01,2,     2.38,2,     0.03,2,    1.206,2,    0.657,2,    0.096,2,     0.59,2,   2248.8,2,   2329.3,2,     41.5,2,  -999.00,9,   0.3170,2,   0.1790,2,   0.0360,2,   2.2631,2
  49NZ20191229,  I07S,   122,  1,     27,   1227,2,  200115,0646,-51.7928,  57.1738, 4428,    600.1,   2.3074,   2.3074,2,  34.5573,2,  34.5571,2,    171.6,2,    171.8,2,    74.54,2,    34.62,2,     0.01,2,     2.36,2,     0.03,2,    0.818,2,    0.471,2,    0.066,2,    0.372,2,   2252.8,2,   2332.4,2,     39.9,2,  -999.00,9,   0.2810,2,   0.1530,2,   0.0290,2,   2.3074,2
  49NZ20191229,  I07S,   122,  1,     26,   1226,2,  200115,0646,-51.7928,  57.1738, 4428,    699.7,   2.3265,   2.3264,2,  34.6129,2,  34.6123,2,    170.9,2,    171.0,2,    76.39,2,    33.88,2,     0.01,2,     2.31,2,     0.03,2,    0.559,2,    0.330,2,    0.044,2,    0.235,2,   2257.2,6,   2338.0,2,   -999.0,9,  -999.00,9,-999.0000,9,-999.0000,9,-999.0000,9,   2.3264,2
  49NZ20191229,  I07S,   122,  1,     25,   1225,2,  200115,0646,-51.7928,  57.1738, 4428,    800.2,   2.3430,   2.3431,2,  34.6521,2,  34.6508,2,    173.6,2,    173.9,2,    76.73,2,    33.15,2,     0.01,2,     2.25,2,     0.03,2,    0.414,2,    0.253,2,    0.033,2,    0.184,2,   2252.2,2,   2338.9,2,     40.1,2,  -999.00,9,   0.3170,2,   0.1490,2,   0.0260,2,   2.3431,2
  49NZ20191229,  I07S,   122,  1,     24,   1224,3,  200115,0646,-51.7928,  57.1738, 4428,    902.2,   2.3086,   2.3086,2,  34.6855,2,  34.6850,2,    177.5,2,    177.5,2,    77.62,2,    32.51,2,     0.01,2,     2.20,2,     0.04,2,    0.323,2,    0.203,2,    0.029,2,    0.054,2,   2250.5,2,   2342.5,2,   -999.0,9,  -999.00,9,-999.0000,9,-999.0000,9,-999.0000,9,   2.3086,2
  49NZ20191229,  I07S,   122,  1,     23,   1223,2,  200115,0646,-51.7928,  57.1738, 4428,   1000.3,   2.2310,   2.2316,2,  34.7072,2,  34.7064,2,    181.1,2,    181.2,2,    79.07,2,    31.84,2,     0.00,2,     2.16,2,     0.03,2,    0.284,2,    0.180,2,    0.023,2,    0.098,2,   2248.9,2,   2343.8,2,     40.4,2,  -999.00,9,   0.3290,2,   0.1570,2,   0.0300,2,   2.2316,2
  49NZ20191229,  I07S,   122,  1,     22,   1222,2,  200115,0646,-51.7928,  57.1738, 4428,   1200.7,   2.1232,   2.1232,2,  34.7374,2,  34.7366,2,    188.8,2,    189.0,2,    80.26,2,    30.90,2,     0.00,2,     2.09,2,     0.02,2,    0.222,2,    0.146,2,    0.017,2,    0.087,2,   2244.8,2,   2346.6,6,     41.9,2,  -999.00,9,-999.0000,9,-999.0000,9,-999.0000,9,   2.1232,2
  49NZ20191229,  I07S,   122,  1,     21,   1221,2,  200115,0646,-51.7928,  57.1738, 4428,   1401.3,   1.9962,   1.9962,2,  34.7520,2,  34.7523,2,    195.0,2,    195.2,2,    81.99,2,    30.34,2,     0.00,2,     2.05,2,     0.02,2,    0.190,2,    0.128,2,    0.014,2,    0.063,2,   2239.9,2,   2349.0,2,     37.7,3,  -999.00,9,   0.3320,2,   0.1580,2,   0.0270,2,   1.9962,2
  49NZ20191229,  I07S,   122,  1,     20,   1220,2,  200115,0646,-51.7928,  57.1738, 4428,   1600.9,   1.8091,   1.8092,2,  34.7562,2,  34.7559,2,    199.9,2,    200.1,2,    85.62,2,    30.25,2,     0.00,2,     2.03,2,     0.03,2,    0.180,2,    0.121,2,    0.012,2,    0.066,2,   2243.0,2,   2349.2,2,   -999.0,9,  -999.00,9,-999.0000,9,-999.0000,9,-999.0000,9,   1.8092,2
  49NZ20191229,  I07S,   122,  1,     19,   1219,2,  200115,0646,-51.7928,  57.1738, 4428,   1800.9,   1.6366,   1.6368,2,  34.7510,2,  34.7514,2,    202.0,2,    202.3,2,    89.92,2,    30.26,2,     0.00,2,     2.05,2,     0.03,2,    0.196,2,    0.130,2,    0.018,2,    0.088,2,   2242.8,2,   2352.8,2,     42.3,2,  -999.00,9,   0.3260,2,   0.1510,2,   0.0290,2,   1.6368,2
  49NZ20191229,  I07S,   122,  1,     18,   1218,2,  200115,0646,-51.7928,  57.1738, 4428,   2001.7,   1.4668,   1.4665,2,  34.7438,2,  34.7437,2,    203.6,2,    204.0,2,    95.01,2,    30.59,2,     0.01,2,     2.07,2,     0.02,2,    0.209,2,    0.138,2,    0.015,2,    0.053,2,   2246.3,2,   2352.8,2,   -999.0,9,  -999.00,9,-999.0000,9,-999.0000,9,-999.0000,9,   1.4665,2
  49NZ20191229,  I07S,   122,  1,     17,   1217,2,  200115,0646,-51.7928,  57.1738, 4428,   2200.9,   1.2749,   1.2751,2,  34.7345,2,  34.7344,2,    205.6,2,    205.9,2,   100.27,2,    30.91,2,     0.01,2,     2.10,2,     0.03,2,    0.225,2,    0.146,2,    0.015,2,    0.117,2,   2251.7,2,   2357.2,2,     43.2,2,  -999.00,9,   0.3270,2,   0.1530,2,   0.0240,2,   1.2751,2
  49NZ20191229,  I07S,   122,  1,     16,   1216,2,  200115,0646,-51.7928,  57.1738, 4428,   2400.4,   1.1015,   1.1015,2,  34.7239,2,  34.7239,2,    206.7,2,    207.0,2,   105.32,2,    31.16,2,     0.01,2,     2.13,2,     0.03,2,    0.252,2,    0.163,2,    0.024,2,    0.069,2,   2250.4,6,   2356.7,2,   -999.0,9,  -999.00,9,-999.0000,9,-999.0000,9,-999.0000,9,   1.1015,2
  49NZ20191229,  I07S,   122,  1,     15,  12102,2,  200115,0646,-51.7928,  57.1738, 4428,   2600.4,   0.9254,   0.9256,2,  34.7125,2,  34.7108,3,    207.5,2,    207.9,2,   111.12,2,    31.85,2,     0.00,2,     2.17,2,     0.02,2,    0.287,2,    0.180,2,    0.018,2,    0.086,2,   2252.5,2,   2358.3,2,     41.3,2,  -999.00,9,   0.3260,2,   0.1460,2,   0.0260,2,   0.9256,2
  49NZ20191229,  I07S,   122,  1,     14,   1214,2,  200115,0646,-51.7928,  57.1738, 4428,   2800.2,   0.7522,   0.7529,2,  34.7021,2,  34.7017,2,    209.1,2,    209.5,2,   116.96,2,    32.25,2,     0.00,2,     2.20,2,     0.02,2,    0.319,2,    0.196,2,    0.021,2,    0.049,2,   2257.8,2,   2357.2,2,   -999.0,9,  -999.00,9,-999.0000,9,-999.0000,9,-999.0000,9,   0.7529,2
  49NZ20191229,  I07S,   122,  1,     13,  12105,2,  200115,0646,-51.7928,  57.1738, 4428,   3001.1,   0.6046,   0.6049,2,  34.6934,2,  34.6934,2,    211.1,2,    211.4,2,   121.81,2,    32.63,2,     0.00,2,     2.22,2,     0.02,2,    0.347,2,    0.210,2,    0.022,2,    0.096,2,   2260.5,2,   2359.9,2,     42.1,2,  -999.00,9,   0.3320,2,   0.1560,2,   0.0340,2,   0.6049,2
  49NZ20191229,  I07S,   122,  1,     12,   1211,2,  200115,0646,-51.7928,  57.1738, 4428,   3250.2,   0.4093,   0.4094,2,  34.6838,2,  34.6834,2,    215.4,2,    215.7,2,   128.00,2,    32.77,2,     0.00,2,     2.24,2,     0.02,2,    0.358,2,    0.216,2,    0.027,2,    0.131,2,   2261.1,2,   2358.2,6,   -999.0,9,  -999.00,9,-999.0000,9,-999.0000,9,-999.0000,9,   0.4094,2
  49NZ20191229,  I07S,   122,  1,     11,  12106,2,  200115,0646,-51.7928,  57.1738, 4428,   3499.1,   0.2697,   0.2698,2,  34.6769,2,  34.6769,2,    219.4,2,    219.6,2,   132.74,2,    32.95,2,     0.00,2,     2.25,2,     0.02,2,    0.355,2,    0.214,2,    0.023,2,    0.073,2,   2259.6,2,   2359.2,2,     43.4,2,  -999.00,9,   0.3050,2,   0.1450,2,   0.0230,2,   0.2698,2
  49NZ20191229,  I07S,   122,  1,     10,   1210,2,  200115,0646,-51.7928,  57.1738, 4428,   3751.0,   0.1660,   0.1664,2,  34.6720,2,  34.6714,2,    222.8,2,    223.0,2,   137.69,2,    32.98,2,     0.01,2,     2.25,2,     0.01,2,    0.360,2,    0.214,2,    0.022,2,    0.076,2,   2262.7,2,   2359.4,2,   -999.0,9,  -999.00,9,-999.0000,9,-999.0000,9,-999.0000,9,   0.1664,2
  49NZ20191229,  I07S,   122,  1,      9,  12101,2,  200115,0646,-51.7928,  57.1738, 4428,   4000.1,   0.0776,   0.0778,2,  34.6674,2,  34.6661,2,    225.8,2,    225.9,2,   142.51,2,    33.07,2,     0.00,2,     2.26,2,     0.02,2,    0.363,2,    0.218,2,    0.018,2,    0.065,2,   2260.0,2,   2358.1,2,     48.9,4,  -999.00,9,   0.3090,2,   0.1380,2,   0.0270,2,   0.0778,2
  49NZ20191229,  I07S,   122,  1,      8,  12103,2,  200115,0646,-51.7928,  57.1738, 4428,   4250.1,   0.0357,   0.0359,2,  34.6646,2,  34.6642,2,    227.7,2,    227.9,2,   146.05,2,    33.13,2,     0.01,2,     2.26,2,     0.02,2,    0.372,2,    0.223,2,    0.024,2,    0.068,2,   2259.0,6,   2358.5,2,   -999.0,9,  -999.00,9,-999.0000,9,-999.0000,9,-999.0000,9,   0.0359,2
  49NZ20191229,  I07S,   122,  1,      2,  12046,2,  200115,0646,-51.7928,  57.1738, 4428,     62.3,   3.7096,   3.7130,2,  33.8946,2,  33.8942,2,    323.7,2,    324.8,2,    14.92,2,    24.88,2,     0.22,2,     1.63,2,     0.34,2, -999.000,9, -999.000,9, -999.000,9,     -999,9,   2146.2,2,   2288.3,2,     45.5,2,     0.68,2,   0.2710,2,   0.1080,2,   0.0260,2,   3.7130,2
  49NZ20191229,  I07S,   122,  1,      1,   1201,2,  200115,0646,-51.7928,  57.1738, 4428,   4487.6,  -0.0363,  -0.0364,2,  34.6605,2,  34.6601,2,    231.1,2,    231.0,2,   148.34,2,    33.06,2,     0.00,2,     2.26,2,     0.02,2,    0.418,2,    0.247,2,    0.021,2,    0.075,2,   2256.1,2,   2357.1,2,     39.2,2,  -999.00,9,   0.3030,2,   0.1390,2,   0.0310,2,  -0.0364,2