BOTTLE,20210310PRINUNIVRMK
EXPOCODE,SECT_ID,STNNBR,CASTNO,SAMPNO,BTLNBR,BTLNBR_FLAG_W,DATE,TIME,LATITUDE,LONGITUDE,DEPTH,CTDPRS,CTDTMP,SBE35,SBE35_FLAG_W,CTDSAL,CTDSAL_FLAG_W,SALNTY,SALNTY_FLAG_W,CTDOXY,CTDOXY_FLAG_W,OXYGEN,OXYGEN_FLAG_W,SILCAT,SILCAT_FLAG_W,NITRAT,NITRAT_FLAG_W,NITRIT,NITRIT_FLAG_W,PHSPHT,PHSPHT_FLAG_W,NH4,NH4_FLAG_W,CFC-11,CFC-11_FLAG_W,CFC-12,CFC-12_FLAG_W,CFC113,CFC113_FLAG_W,SF6,SF6_FLAG_W,TCARBN,TCARBN_FLAG_W,ALKALI,ALKALI_FLAG_W,DOC,DOC_FLAG_W,CHLORA,CHLORA_FLAG_W,CDOM300,CDOM300_FLAG_W,CDOM325,CDOM325_FLAG_W,CDOM443,CDOM443_FLAG_W,SBE35,SBE35_FLAG_W
,,,,,,,,,,,METERS,DBAR,ITS-90,,,PSS-78,,PSS-78,,UMOL/KG,,UMOL/KG,,UMOL/KG,,UMOL/KG,,UMOL/KG,,UMOL/KG,,UMOL/KG,,PMOL/KG,,PMOL/KG,,PMOL/KG,,FMOL/KG,,UMOL/KG,,UMOL/KG,,UMOL/KG,,UG/L,,1/M,,1/M,,1/M,,,
  49NZ20191229,  I07S,   138,  1,     36,   1236,2,  200118,1507,-59.1514,  54.9740, 5145,      9.4,   0.9341,   0.9341,2,  33.6642,2,  33.6638,2,    343.0,2,    343.8,2,    35.74,2,    25.32,2,     0.30,2,     1.71,2,     0.29,2,    5.891,2,    3.131,2,    0.574,2,    4.398,2,   2160.8,2,   2282.7,2,     48.6,2,     0.22,2,   0.2050,2,   0.1010,2,   0.0200,2,   0.9341,2
  49NZ20191229,  I07S,   138,  1,     35,   1235,2,  200118,1507,-59.1514,  54.9740, 5145,     51.0,   0.9157,   0.9156,2,  33.6647,2,  33.6657,2,    343.1,2,    344.2,2,    35.82,2,    25.50,2,     0.30,2,     1.72,2,      0.3,2,    5.874,2,    3.130,2,    0.559,2,    4.442,2,   2157.5,2,   2282.9,2,     50.2,2,     0.22,2,   0.2100,2,   0.0970,2,   0.0180,2,   0.9156,2
  49NZ20191229,  I07S,   138,  1,     34,   1234,2,  200118,1507,-59.1514,  54.9740, 5145,     98.9,  -1.3071,  -1.3062,2,  33.9469,2,  33.9485,2,    343.0,2,    342.9,2,    44.77,2,    27.84,2,     0.32,2,     1.94,2,     0.31,2,    5.905,2,    3.117,2,    0.569,2,    4.358,2,   2184.9,2,   2299.8,2,     49.6,2,     0.15,2,   0.2240,2,   0.1070,2,   0.0250,2,  -1.3062,2
  49NZ20191229,  I07S,   138,  1,     33,   1233,2,  200118,1507,-59.1514,  54.9740, 5145,    151.8,  -0.4123,  -0.4114,2,  34.1505,2,  34.1478,2,    289.4,2,    289.7,2,    56.83,2,    31.23,2,     0.03,2,     2.12,2,     0.03,2,    4.660,2,    2.457,2,    0.436,2,    3.341,2,   2215.9,2,   2309.3,2,     47.4,2,     0.12,2,   0.2400,2,   0.1190,2,   0.0210,2,  -0.4114,2
  49NZ20191229,  I07S,   138,  1,     32,   1232,2,  200118,1507,-59.1514,  54.9740, 5145,    199.1,   1.6666,   1.6657,2,  34.4692,2,  34.4683,2,    190.4,2,    190.0,2,    74.84,2,    35.32,2,     0.01,2,     2.40,2,     0.01,2,    1.790,2,    0.953,2,    0.152,2,    1.011,2,   2257.0,2,   2328.0,2,     45.3,2,     0.01,2,   0.2760,2,   0.1440,2,   0.0250,2,   1.6657,2
  49NZ20191229,  I07S,   138,  1,     31,   1231,2,  200118,1507,-59.1514,  54.9740, 5145,    252.0,   1.8705,   1.8700,2,  34.5521,2,  34.5514,2,    175.2,2,    175.2,2,    79.89,2,    35.25,2,     0.01,2,     2.40,2,     0.01,2,    1.155,2,    0.634,2,    0.102,2,    0.655,2,   2262.0,2,   2334.6,2,   -999.0,9,     0.01,2,-999.0000,9,-999.0000,9,-999.0000,9,   1.8700,2
  49NZ20191229,  I07S,   138,  1,     30,   1230,2,  200118,1507,-59.1514,  54.9740, 5145,    302.4,   1.9432,   1.9428,2,  34.5993,2,  34.5983,2,    171.4,2,    171.5,2,    82.34,2,    34.77,2,     0.01,2,     2.37,2,     0.01,2,    0.836,2,    0.477,2,    0.075,2,    0.452,2,   2269.5,2,   2340.0,2,     42.0,2,  -999.00,9,   0.2780,2,   0.1510,2,   0.0300,2,   1.9428,2
  49NZ20191229,  I07S,   138,  1,     29,   1229,2,  200118,1507,-59.1514,  54.9740, 5145,    400.4,   1.9662,   1.9659,2,  34.6495,2,  34.6488,2,    172.8,2,    173.2,2,    84.33,2,    33.91,2,     0.01,2,     2.30,2,     0.01,2,    0.582,2,    0.344,2,    0.050,2,    0.295,2,   2261.1,2,   2343.9,2,     41.0,2,  -999.00,9,   0.2730,2,   0.1510,2,   0.0240,2,   1.9659,2
  49NZ20191229,  I07S,   138,  1,     28,   1228,2,  200118,1507,-59.1514,  54.9740, 5145,    499.2,   1.9383,   1.9379,2,  34.6790,2,  34.6785,2,    175.5,2,    175.7,2,    85.86,2,    33.35,2,     0.00,2,     2.26,2,     0.01,2,    0.460,2,    0.279,2,    0.038,2,    0.228,2,   2262.9,2,   2346.7,2,     39.5,2,  -999.00,9,   0.2680,2,   0.1450,2,   0.0260,2,   1.9379,2
  49NZ20191229,  I07S,   138,  1,     27,   1227,2,  200118,1507,-59.1514,  54.9740, 5145,    602.2,   1.8961,   1.8958,2,  34.7051,2,  34.7046,2,    180.8,2,    181.0,2,    86.99,2,    32.54,2,     0.00,2,     2.20,2,        0,2,    0.370,2,    0.229,2,    0.036,2,    0.114,2,   2259.5,2,   2348.2,2,     39.2,2,  -999.00,9,   0.2710,2,   0.1480,2,   0.0270,2,   1.8958,2
  49NZ20191229,  I07S,   138,  1,     26,   1226,2,  200118,1507,-59.1514,  54.9740, 5145,    700.0,   1.8021,   1.8019,2,  34.7156,2,  34.7145,2,    184.9,2,    185.1,2,    88.67,2,    32.08,2,     0.01,2,     2.18,2,        0,2,    0.347,2,    0.217,2,    0.025,2,    0.163,2,   2258.3,6,   2348.7,2,   -999.0,9,  -999.00,9,-999.0000,9,-999.0000,9,-999.0000,9,   1.8019,2
  49NZ20191229,  I07S,   138,  1,     25,   1225,2,  200118,1507,-59.1514,  54.9740, 5145,    801.1,   1.7232,   1.7230,2,  34.7261,2,  34.7255,2,    189.3,2,    189.5,2,    89.63,2,    31.47,2,     0.01,2,     2.14,2,     0.03,2,    0.316,2,    0.197,2,    0.029,2,    0.167,2,   2254.6,2,   2350.9,2,     44.5,2,  -999.00,9,   0.2630,2,   0.1440,2,   0.0220,2,   1.7230,2
  49NZ20191229,  I07S,   138,  1,     24,   1224,2,  200118,1507,-59.1514,  54.9740, 5145,    901.8,   1.6530,   1.6531,2,  34.7312,2,  34.7312,2,    192.6,2,    192.8,2,    90.90,2,    31.31,2,     0.00,2,     2.13,2,     0.01,2,    0.298,2,    0.187,2,    0.023,2,    0.202,2,   2250.0,2,   2351.3,2,   -999.0,9,  -999.00,9,-999.0000,9,-999.0000,9,-999.0000,9,   1.6531,2
  49NZ20191229,  I07S,   138,  1,     23,   1223,2,  200118,1507,-59.1514,  54.9740, 5145,   1001.0,   1.5674,   1.5672,2,  34.7350,2,  34.7352,2,    195.9,2,    196.1,2,    92.42,2,    31.12,2,     0.00,2,     2.11,2,     0.01,2,    0.279,2,    0.177,2,    0.023,2,    0.124,2,   2249.9,2,   2354.2,2,     42.4,2,  -999.00,9,   0.2790,2,   0.1480,2,   0.0300,2,   1.5672,2
  49NZ20191229,  I07S,   138,  1,     22,   1222,2,  200118,1507,-59.1514,  54.9740, 5145,   1200.7,   1.4070,   1.4074,2,  34.7353,2,  34.7354,2,    200.5,2,    200.5,2,    95.87,2,    31.00,2,     0.00,2,     2.10,2,     0.01,2,    0.262,2,    0.166,2,    0.026,2,    0.119,2,   2251.0,2,   2353.8,6,     39.0,2,  -999.00,9,-999.0000,9,-999.0000,9,-999.0000,9,   1.4074,2
  49NZ20191229,  I07S,   138,  1,     21,   1221,2,  200118,1507,-59.1514,  54.9740, 5145,   1400.0,   1.2144,   1.2143,2,  34.7285,2,  34.7279,2,    203.1,2,    203.4,2,   101.00,2,    31.22,2,     0.00,2,     2.13,2,     0.01,2,    0.273,2,    0.173,2,    0.021,2,    0.126,2,   2253.9,2,   2356.1,2,     38.5,2,  -999.00,9,   0.2720,2,   0.1430,2,   0.0260,2,   1.2143,2
  49NZ20191229,  I07S,   138,  1,     20,   1220,2,  200118,1507,-59.1514,  54.9740, 5145,   1601.4,   1.0482,   1.0479,2,  34.7189,2,  34.7187,2,    204.4,2,    204.6,2,   106.04,2,    31.66,2,     0.00,2,     2.15,2,     0.01,2,    0.305,2,    0.189,2,    0.027,2,    0.125,2,   2255.0,2,   2355.7,2,   -999.0,9,  -999.00,9,-999.0000,9,-999.0000,9,-999.0000,9,   1.0479,2
  49NZ20191229,  I07S,   138,  1,     19,   1219,2,  200118,1507,-59.1514,  54.9740, 5145,   1800.2,   0.8838,   0.8837,2,  34.7098,2,  34.7094,2,    205.7,2,    205.7,2,   110.72,2,    32.00,2,     0.00,2,     2.18,2,     0.02,2,    0.333,2,    0.202,2,    0.023,2,    0.106,2,   2258.0,2,   2359.0,2,     37.5,2,  -999.00,9,   0.2850,2,   0.1550,2,   0.0260,2,   0.8837,2
  49NZ20191229,  I07S,   138,  1,     18,   1218,2,  200118,1507,-59.1514,  54.9740, 5145,   2002.2,   0.7323,   0.7321,2,  34.7009,2,  34.7004,2,    206.8,2,    206.8,2,   115.34,2,    32.33,2,     0.00,2,     2.21,2,     0.02,2,    0.367,2,    0.217,2,    0.025,2,    0.102,2,   2257.9,2,   2359.4,2,   -999.0,9,  -999.00,9,-999.0000,9,-999.0000,9,-999.0000,9,   0.7321,2
  49NZ20191229,  I07S,   138,  1,     17,   1217,2,  200118,1507,-59.1514,  54.9740, 5145,   2200.0,   0.6156,   0.6154,2,  34.6943,2,  34.6945,2,    208.1,2,    208.0,2,   119.27,2,    32.55,2,     0.00,2,     2.23,2,     0.02,2,    0.373,2,    0.222,2,    0.027,2,    0.111,2,   2263.1,2,   2361.0,2,     40.0,2,  -999.00,9,   0.2640,2,   0.1440,2,   0.0200,2,   0.6154,2
  49NZ20191229,  I07S,   138,  1,     16,   1216,2,  200118,1507,-59.1514,  54.9740, 5145,   2400.6,   0.5110,   0.5110,2,  34.6888,2,  34.6899,2,    209.7,2,    209.5,2,   122.53,2,    32.88,2,     0.00,2,     2.24,2,     0.02,2,    0.396,2,    0.229,2,    0.022,2,    0.053,2,   2262.4,6,   2360.2,2,   -999.0,9,  -999.00,9,-999.0000,9,-999.0000,9,-999.0000,9,   0.5110,2
  49NZ20191229,  I07S,   138,  1,     15,  12102,2,  200118,1507,-59.1514,  54.9740, 5145,   2600.7,   0.4149,   0.4148,2,  34.6838,2,  34.6836,2,    212.0,2,    211.8,2,   125.03,2,    33.07,2,     0.00,2,     2.26,2,     0.01,2,    0.398,2,    0.230,2,    0.027,2,    0.087,2,   2263.5,2,   2360.2,2,     39.3,2,  -999.00,9,   0.2680,2,   0.1400,2,   0.0210,2,   0.4148,2
  49NZ20191229,  I07S,   138,  1,     14,   1214,2,  200118,1507,-59.1514,  54.9740, 5145,   2800.7,   0.3265,   0.3263,2,  34.6792,2,  34.6791,2,    214.2,2,    214.1,2,   126.66,2,    32.95,2,     0.00,2,     2.25,2,     0.03,2,    0.414,2,    0.237,2,    0.027,2,    0.093,2,   2267.8,2,   2359.4,2,   -999.0,9,  -999.00,9,-999.0000,9,-999.0000,9,-999.0000,9,   0.3263,2
  49NZ20191229,  I07S,   138,  1,     13,  12105,2,  200118,1507,-59.1514,  54.9740, 5145,   2999.7,   0.2482,   0.2481,2,  34.6754,2,  34.6752,2,    217.0,2,    216.8,2,   128.28,2,    32.99,2,     0.00,2,     2.26,2,     0.03,2,    0.428,2,    0.245,2,    0.032,2,    0.137,2,   2264.9,2,   2360.2,2,     37.1,2,  -999.00,9,   0.2670,2,   0.1410,2,   0.0270,2,   0.2481,2
  49NZ20191229,  I07S,   138,  1,     12,   1211,2,  200118,1507,-59.1514,  54.9740, 5145,   3250.2,   0.1646,   0.1645,2,  34.6714,2,  34.6712,2,    220.5,2,    220.5,2,   129.53,2,    33.03,2,     0.00,2,     2.26,2,     0.03,2,    0.444,2,    0.251,2,    0.026,2,    0.108,2,   2263.2,2,   2358.6,6,   -999.0,9,  -999.00,9,-999.0000,9,-999.0000,9,-999.0000,9,   0.1645,2
  49NZ20191229,  I07S,   138,  1,     11,  12106,2,  200118,1507,-59.1514,  54.9740, 5145,   3501.1,   0.0871,   0.0870,2,  34.6673,2,  34.6667,2,    223.9,2,    223.7,2,   129.62,2,    33.05,2,     0.00,2,     2.26,2,     0.01,2,    0.476,2,    0.269,2,    0.032,2,    0.143,2,   2266.0,2,   2357.4,2,     35.9,2,  -999.00,9,   0.2670,2,   0.1360,2,   0.0230,2,   0.0870,2
  49NZ20191229,  I07S,   138,  1,     10,   1210,2,  200118,1507,-59.1514,  54.9740, 5145,   3751.9,   0.0198,   0.0197,2,  34.6641,2,  34.6637,2,    227.4,2,    227.3,2,   130.07,2,    33.05,2,     0.00,2,     2.26,2,     0.01,2,    0.498,2,    0.281,2,    0.032,2,    0.118,2,   2256.5,2,   2356.6,2,   -999.0,9,  -999.00,9,-999.0000,9,-999.0000,9,-999.0000,9,   0.0197,2
  49NZ20191229,  I07S,   138,  1,      9,  12101,2,  200118,1507,-59.1514,  54.9740, 5145,   4001.3,  -0.0357,  -0.0359,2,  34.6613,2,  34.6612,2,    230.7,2,    230.4,2,   130.31,2,    32.93,2,     0.00,2,     2.26,2,     0.01,2,    0.536,2,    0.298,2,    0.033,2,    0.138,2,   2260.2,2,   2356.5,2,     41.2,2,  -999.00,9,   0.2560,2,   0.1290,2,   0.0210,2,  -0.0359,2
  49NZ20191229,  I07S,   138,  1,      8,  12103,2,  200118,1507,-59.1514,  54.9740, 5145,   4250.3,  -0.0842,  -0.0843,2,  34.6589,2,  34.6588,2,    233.6,2,    233.5,2,   131.25,2,    32.66,2,     0.00,2,     2.25,2,     0.01,2,    0.541,2,    0.299,2,    0.030,2,    0.113,2,   2258.9,6,   2356.2,2,   -999.0,9,  -999.00,9,-999.0000,9,-999.0000,9,-999.0000,9,  -0.0843,2
  49NZ20191229,  I07S,   138,  1,      7,   1207,2,  200118,1507,-59.1514,  54.9740, 5145,   4500.7,  -0.1264,  -0.1266,2,  34.6569,2,  34.6567,2,    236.0,2,    236.0,2,   134.36,2,    32.81,2,     0.00,2,     2.25,2,     0.01,2,    0.521,2,    0.291,2,    0.033,2,     0.11,2,   2251.9,2,   2355.4,2,     37.7,2,  -999.00,9,   0.2640,2,   0.1340,2,   0.0250,2,  -0.1266,2
  49NZ20191229,  I07S,   138,  1,      6,   1206,2,  200118,1507,-59.1514,  54.9740, 5145,   4751.7,  -0.1608,  -0.1609,2,  34.6546,2,  34.6544,2,    238.4,2,    238.3,2,   135.07,2,    32.76,2,     0.00,2,     2.24,2,     0.01,2,    0.559,2,    0.309,2,    0.035,2,    0.129,2,   2254.4,2,   2356.0,6,   -999.0,9,  -999.00,9,-999.0000,9,-999.0000,9,-999.0000,9,  -0.1609,2
  49NZ20191229,  I07S,   138,  1,      5,   1205,2,  200118,1507,-59.1514,  54.9740, 5145,   5001.8,  -0.1725,  -0.1726,2,  34.6533,2,  34.6536,2,    239.1,2,    239.2,2,   140.32,2,    32.73,2,     0.00,2,     2.25,2,     0.02,2,    0.568,2,    0.311,2,    0.037,2,    0.115,2,   2254.8,2,   2356.9,2,     37.1,2,  -999.00,9,   0.2680,2,   0.1380,2,   0.0270,2,  -0.1726,2
  49NZ20191229,  I07S,   138,  1,      2,  12046,2,  200118,1507,-59.1514,  54.9740, 5145,     41.1,   0.9302,   0.9308,2,  33.6645,2,  33.6648,2,    343.1,2,    344.2,2,    35.82,2,    25.49,2,     0.30,2,     1.72,2,     0.28,2, -999.000,9, -999.000,9, -999.000,9,     -999,9,   2159.2,2,   2280.6,2,     47.1,2,     0.22,2,   0.2090,2,   0.1010,2,   0.0220,2,   0.9308,2
  49NZ20191229,  I07S,   138,  1,      1,   1201,2,  200118,1507,-59.1514,  54.9740, 5145,   5240.8,  -0.1966,  -0.1967,2,  34.6511,2,  34.6511,2,    240.4,2,    240.3,2,   146.04,2,    32.73,2,     0.00,2,     2.25,2,     0.02,2,    0.643,2,    0.351,2,    0.036,2,    0.127,2,   2256.3,2,   2355.2,2,     38.4,2,  -999.00,9,   0.2690,2,   0.1430,2,   0.0300,2,  -0.1967,2