BOTTLE,20210310PRINUNIVRMK
EXPOCODE,SECT_ID,STNNBR,CASTNO,SAMPNO,BTLNBR,BTLNBR_FLAG_W,DATE,TIME,LATITUDE,LONGITUDE,DEPTH,CTDPRS,CTDTMP,SBE35,SBE35_FLAG_W,CTDSAL,CTDSAL_FLAG_W,SALNTY,SALNTY_FLAG_W,CTDOXY,CTDOXY_FLAG_W,OXYGEN,OXYGEN_FLAG_W,SILCAT,SILCAT_FLAG_W,NITRAT,NITRAT_FLAG_W,NITRIT,NITRIT_FLAG_W,PHSPHT,PHSPHT_FLAG_W,NH4,NH4_FLAG_W,CFC-11,CFC-11_FLAG_W,CFC-12,CFC-12_FLAG_W,CFC113,CFC113_FLAG_W,SF6,SF6_FLAG_W,TCARBN,TCARBN_FLAG_W,ALKALI,ALKALI_FLAG_W,DOC,DOC_FLAG_W,CHLORA,CHLORA_FLAG_W,CDOM300,CDOM300_FLAG_W,CDOM325,CDOM325_FLAG_W,CDOM443,CDOM443_FLAG_W,SBE35,SBE35_FLAG_W
,,,,,,,,,,,METERS,DBAR,ITS-90,,,PSS-78,,PSS-78,,UMOL/KG,,UMOL/KG,,UMOL/KG,,UMOL/KG,,UMOL/KG,,UMOL/KG,,UMOL/KG,,PMOL/KG,,PMOL/KG,,PMOL/KG,,FMOL/KG,,UMOL/KG,,UMOL/KG,,UMOL/KG,,UG/L,,1/M,,1/M,,1/M,,,
  49NZ20191229,  I07S,   105,  1,     36,   1236,2,  200109,1807,-43.9979,  57.7586, 4639,     10.3,  10.8375,  10.8384,2,  33.8540,2,  33.8545,2,    287.5,2,    288.0,2,     0.46,2,    11.42,2,     0.13,2,     0.88,2,     0.11,2,    3.434,2,    1.954,2,    0.319,2,    2.966,2,   2074.4,2,   2267.2,2,   -999.0,9,     0.52,2,   0.2730,2,   0.1590,2,   0.0200,2,  10.8384,2
  49NZ20191229,  I07S,   105,  1,     35,   1235,2,  200109,1807,-43.9979,  57.7586, 4639,     50.2,   9.0827,   9.0914,2,  33.8397,2,  33.8415,2,    289.6,2,    290.4,2,     0.58,2,    12.69,2,     0.12,2,     1.03,2,     0.83,2,    3.667,2,    2.074,2,    0.335,2,    3.164,2,   2088.0,2,   2265.8,2,   -999.0,9,     0.44,2,   0.2590,2,   0.1330,2,   0.0220,2,   9.0914,2
  49NZ20191229,  I07S,   105,  1,     34,   1234,2,  200109,1807,-43.9979,  57.7586, 4639,     99.8,   7.0067,   7.0082,2,  33.8902,2,  33.8907,2,    284.0,2,    284.2,2,     1.79,2,    16.93,2,     0.29,2,     1.39,2,     2.28,2,    4.075,2,    2.290,2,    0.374,2,    3.334,2,   2126.6,2,   2268.4,2,   -999.0,9,     0.08,2,   0.2460,2,   0.1300,2,   0.0210,2,   7.0082,2
  49NZ20191229,  I07S,   105,  1,     33,   1233,2,  200109,1807,-43.9979,  57.7586, 4639,    149.5,   6.1481,   6.1545,2,  33.9275,2,  33.9271,2,    280.9,2,    280.9,2,     4.40,2,    21.71,2,     0.18,2,     1.51,2,     0.09,2,    4.187,2,    2.354,2,    0.377,2,    3.385,2,   2139.8,2,   2265.9,2,   -999.0,9,     0.02,2,   0.2310,2,   0.1130,2,   0.0160,2,   6.1545,2
  49NZ20191229,  I07S,   105,  1,     32,   1232,2,  200109,1807,-43.9979,  57.7586, 4639,    200.3,   5.3672,   5.3678,2,  33.9378,2,  33.9378,2,    284.0,2,    283.9,2,     6.67,2,    23.29,2,     0.01,2,     1.60,2,     0.07,2,    4.319,2,    2.408,2,    0.387,2,    3.355,2,   2146.2,2,   2269.5,2,   -999.0,9,     0.02,2,   0.2290,2,   0.1100,2,   0.0210,2,   5.3678,2
  49NZ20191229,  I07S,   105,  1,     31,   1231,2,  200109,1807,-43.9979,  57.7586, 4639,    248.9,   5.1542,   5.1540,2,  33.9887,2,  33.9904,2,    279.0,2,    278.6,2,     8.75,2,    24.13,2,     0.01,2,     1.65,2,     0.02,2,    4.338,2,    2.395,2,    0.377,2,    3.189,2,   2151.6,2,   2270.6,2,   -999.0,9,     0.01,2,-999.0000,9,-999.0000,9,-999.0000,9,   5.1540,2
  49NZ20191229,  I07S,   105,  1,     30,   1230,2,  200109,1807,-43.9979,  57.7586, 4639,    301.0,   5.0669,   5.0666,2,  34.0719,2,  34.0720,2,    266.3,2,    266.4,2,    11.44,2,    25.14,2,     0.02,2,     1.71,2,     0.02,2,    4.255,2,    2.329,2,    0.353,2,    2.945,2,   2167.6,2,   2274.9,2,   -999.0,9,  -999.00,9,   0.2230,2,   0.1090,2,   0.0180,2,   5.0666,2
  49NZ20191229,  I07S,   105,  1,     29,   1229,2,  200109,1807,-43.9979,  57.7586, 4639,    399.6,   5.0370,   5.0365,2,  34.2133,2,  34.2133,2,    242.0,2,    242.1,2,    16.08,2,    27.11,2,     0.01,2,     1.84,2,     0.01,2,    3.855,2,    2.100,2,    0.303,2,    2.319,2,   2175.6,2,   2280.1,2,   -999.0,9,  -999.00,9,   0.2280,2,   0.1120,2,   0.0170,2,   5.0365,2
  49NZ20191229,  I07S,   105,  1,     28,   1228,2,  200109,1807,-43.9979,  57.7586, 4639,    500.7,   4.1730,   4.1729,2,  34.1845,2,  34.1847,2,    243.2,2,    242.9,2,    20.82,2,    28.90,2,     0.01,2,     1.96,2,     0.01,2,    3.825,2,    2.055,2,    0.303,2,    2.032,2,   2186.0,2,   2282.7,2,   -999.0,9,  -999.00,9,   0.2290,2,   0.1210,2,   0.0180,2,   4.1729,2
  49NZ20191229,  I07S,   105,  1,     27,   1227,2,  200109,1807,-43.9979,  57.7586, 4639,    600.0,   3.6662,   3.6660,2,  34.1999,2,  34.2005,2,    236.0,2,    235.5,2,    27.03,2,    30.23,2,     0.00,2,     2.06,2,        0,2,    3.472,2,    1.856,2,    0.273,2,    1.729,2,   2199.2,2,   2287.2,2,   -999.0,9,  -999.00,9,   0.2300,2,   0.1170,2,   0.0170,2,   3.6660,2
  49NZ20191229,  I07S,   105,  1,     26,   1226,2,  200109,1807,-43.9979,  57.7586, 4639,    699.2,   3.9527,   3.9530,2,  34.3221,2,  34.3217,2,    208.2,2,    208.3,2,    35.77,2,    31.31,2,     0.01,2,     2.14,2,     0.04,2,    2.536,2,    1.334,2,    0.177,2,    1.061,2,   2209.8,6,   2299.1,2,   -999.0,9,  -999.00,9,-999.0000,9,-999.0000,9,-999.0000,9,   3.9530,2
  49NZ20191229,  I07S,   105,  1,     25,   1225,2,  200109,1807,-43.9979,  57.7586, 4639,    798.5,   3.4657,   3.4656,2,  34.3262,2,  34.3260,2,    205.0,2,    205.0,2,    41.36,2,    32.37,2,     0.01,2,     2.21,2,     0.03,2,    2.371,2,    1.224,2,    0.171,2,    0.979,2,   2217.8,2,   2302.3,2,   -999.0,9,  -999.00,9,   0.2500,2,   0.1240,2,   0.0170,2,   3.4656,2
  49NZ20191229,  I07S,   105,  1,     24,   1224,2,  200109,1807,-43.9979,  57.7586, 4639,    901.4,   3.4008,   3.4005,2,  34.3955,2,  34.3942,2,    190.4,2,    190.9,2,    48.96,2,    33.20,2,     0.00,2,     2.27,2,     0.02,2,    1.763,2,    0.925,2,    0.122,2,    0.623,2,   2231.5,2,   2310.3,2,   -999.0,9,  -999.00,9,-999.0000,9,-999.0000,9,-999.0000,9,   3.4005,2
  49NZ20191229,  I07S,   105,  1,     23,   1223,2,  200109,1807,-43.9979,  57.7586, 4639,    999.5,   3.2359,   3.2358,2,  34.4428,2,  34.4432,2,    182.5,2,    182.8,2,    55.05,2,    33.69,2,     0.00,2,     2.30,2,     0.02,2,    1.365,2,    0.727,2,    0.093,2,      0.5,2,   2237.2,2,   2318.4,2,   -999.0,9,  -999.00,9,   0.2610,2,   0.1350,2,   0.0180,2,   3.2358,2
  49NZ20191229,  I07S,   105,  1,     22,   1222,2,  200109,1807,-43.9979,  57.7586, 4639,   1201.6,   2.9945,   2.9955,2,  34.5552,2,  34.5552,2,    173.5,2,    174.1,2,    64.80,2,    33.40,2,     0.00,2,     2.30,2,     0.02,2,    0.636,2,    0.370,2,    0.044,2,    0.175,2,   2247.4,2,   2330.2,6,   -999.0,9,  -999.00,9,-999.0000,9,-999.0000,9,-999.0000,9,   2.9955,2
  49NZ20191229,  I07S,   105,  1,     21,   1221,2,  200109,1807,-43.9979,  57.7586, 4639,   1398.6,   2.6886,   2.6881,2,  34.6087,2,  34.6086,2,    174.6,2,    175.2,2,    69.51,2,    33.11,2,     0.00,2,     2.26,2,     0.02,2,    0.465,2,    0.278,2,    0.035,2,    0.156,2,   2249.0,2,   2335.5,2,   -999.0,9,  -999.00,9,   0.2870,2,   0.1500,2,   0.0220,2,   2.6881,2
  49NZ20191229,  I07S,   105,  1,     20,   1220,2,  200109,1807,-43.9979,  57.7586, 4639,   1600.2,   2.5988,   2.5986,2,  34.6788,2,  34.6793,2,    180.6,2,    180.7,2,    71.22,2,    31.76,2,     0.00,2,     2.17,2,     0.02,2,    0.264,2,    0.167,2,    0.019,2,    0.084,2,   -999.0,9,   2341.8,2,   -999.0,9,  -999.00,9,-999.0000,9,-999.0000,9,-999.0000,9,   2.5986,2
  49NZ20191229,  I07S,   105,  1,     19,   1219,2,  200109,1807,-43.9979,  57.7586, 4639,   1800.8,   2.4634,   2.4632,2,  34.7228,2,  34.7231,2,    187.9,2,    188.0,2,    72.79,2,    30.61,2,     0.00,2,     2.09,2,     0.02,2,    0.177,2,    0.116,2,    0.013,2,    0.077,2,   2245.8,2,   2341.6,2,   -999.0,9,  -999.00,9,   0.2800,2,   0.1460,2,   0.0180,2,   2.4632,2
  49NZ20191229,  I07S,   105,  1,     18,   1218,2,  200109,1807,-43.9979,  57.7586, 4639,   2000.5,   2.3587,   2.3586,2,  34.7435,2,  34.7438,2,    192.7,2,    193.1,2,    74.41,2,    30.07,2,     0.00,2,     2.05,2,     0.01,2,    0.146,2,    0.097,2,    0.012,2,    0.003,2,   2242.7,2,   2343.8,2,   -999.0,9,  -999.00,9,-999.0000,9,-999.0000,9,-999.0000,9,   2.3586,2
  49NZ20191229,  I07S,   105,  1,     17,   1217,2,  200109,1807,-43.9979,  57.7586, 4639,   2202.3,   2.2244,   2.2244,2,  34.7567,2,  34.7578,2,    196.9,2,    197.3,2,    77.15,2,    29.66,2,     0.00,2,     2.02,2,     0.01,2,    0.125,2,    0.083,2,    0.007,2,    0.065,2,   2240.3,2,   2344.8,2,   -999.0,9,  -999.00,9,   0.2770,2,   0.1440,2,   0.0170,2,   2.2244,2
  49NZ20191229,  I07S,   105,  1,     16,   1216,2,  200109,1807,-43.9979,  57.7586, 4639,   2398.3,   2.0719,   2.0719,2,  34.7627,2,  34.7631,2,    200.3,2,    200.7,2,    80.56,2,    29.41,2,     0.00,2,     2.01,2,     0.02,2,    0.119,2,    0.081,2,    0.008,2,    0.021,2,   2245.4,6,   2347.8,2,   -999.0,9,  -999.00,9,-999.0000,9,-999.0000,9,-999.0000,9,   2.0719,2
  49NZ20191229,  I07S,   105,  1,     15,   1215,2,  200109,1807,-43.9979,  57.7586, 4639,   2600.5,   1.9026,   1.9029,2,  34.7609,2,  34.7617,2,    202.6,2,    203.0,2,    85.14,2,    29.60,2,     0.00,2,     2.02,2,     0.04,2,    0.119,2,    0.080,2,    0.011,2,    0.041,2,   2244.3,2,   2349.5,2,   -999.0,9,  -999.00,9,   0.2800,2,   0.1440,2,   0.0180,2,   1.9029,2
  49NZ20191229,  I07S,   105,  1,     14,   1214,2,  200109,1807,-43.9979,  57.7586, 4639,   2800.5,   1.7332,   1.7332,2,  34.7548,2,  34.7556,2,    204.0,2,    204.4,2,    90.32,2,    29.92,2,     0.00,2,     2.04,2,     0.03,2,    0.130,2,    0.087,2,    0.017,2,    0.016,2,   2249.5,2,   2350.7,2,   -999.0,9,  -999.00,9,-999.0000,9,-999.0000,9,-999.0000,9,   1.7332,2
  49NZ20191229,  I07S,   105,  1,     13,   1213,2,  200109,1807,-43.9979,  57.7586, 4639,   3000.4,   1.5461,   1.5461,2,  34.7450,2,  34.7457,2,    205.1,2,    205.6,2,    96.47,2,    30.39,2,     0.00,2,     2.08,2,     0.02,2,    0.151,2,    0.100,2,    0.014,2,    0.034,2,   2251.8,2,   2355.8,2,   -999.0,9,  -999.00,9,   0.2700,2,   0.1410,2,   0.0210,2,   1.5461,2
  49NZ20191229,  I07S,   105,  1,     12,   1212,2,  200109,1807,-43.9979,  57.7586, 4639,   3251.9,   1.2835,   1.2834,2,  34.7301,2,  34.7304,2,    207.0,2,    207.3,2,   104.77,2,    30.96,2,     0.00,2,     2.12,2,     0.02,2,    0.185,2,    0.121,2,    0.015,2,    0.051,2,   2259.0,2,   2359.3,6,   -999.0,9,  -999.00,9,-999.0000,9,-999.0000,9,-999.0000,9,   1.2834,2
  49NZ20191229,  I07S,   105,  1,     11,   1211,2,  200109,1807,-43.9979,  57.7586, 4639,   3500.3,   0.9927,   0.9925,2,  34.7136,2,  34.7135,2,    209.7,2,    210.1,2,   113.71,2,    31.62,2,     0.00,2,     2.17,2,     0.02,2,    0.228,2,    0.145,2,    0.017,2,    0.074,2,   2260.3,2,   2360.6,2,   -999.0,9,  -999.00,9,   0.2820,2,   0.1430,2,   0.0200,2,   0.9925,2
  49NZ20191229,  I07S,   105,  1,     10,   1210,2,  200109,1807,-43.9979,  57.7586, 4639,   3751.4,   0.7334,   0.7331,2,  34.6990,2,  34.6991,2,    212.9,2,    213.2,2,   122.16,2,    32.14,2,     0.00,2,     2.21,2,     0.02,2,    0.250,2,    0.157,2,    0.014,2,    0.076,2,   2262.4,2,   2358.5,2,   -999.0,9,  -999.00,9,-999.0000,9,-999.0000,9,-999.0000,9,   0.7331,2
  49NZ20191229,  I07S,   105,  1,      9,   1209,2,  200109,1807,-43.9979,  57.7586, 4639,   4000.5,   0.5661,   0.5661,2,  34.6898,2,  34.6900,2,    215.7,2,    216.0,2,   128.32,2,    32.44,2,     0.00,2,     2.23,2,     0.03,2,    0.257,2,    0.159,2,    0.015,2,    0.061,2,   2264.1,2,   2362.3,2,   -999.0,9,  -999.00,9,   0.2800,2,   0.1420,2,   0.0210,2,   0.5661,2
  49NZ20191229,  I07S,   105,  1,      8,  12103,2,  200109,1807,-43.9979,  57.7586, 4639,   4250.0,   0.4541,   0.4548,2,  34.6830,2,  34.6831,2,    218.0,2,    218.3,2,   132.92,2,    32.63,2,     0.00,2,     2.24,2,     0.02,2,    0.274,2,    0.170,2,    0.022,2,    0.013,2,   2261.7,6,   2362.1,2,   -999.0,9,  -999.00,9,-999.0000,9,-999.0000,9,-999.0000,9,   0.4548,2
  49NZ20191229,  I07S,   105,  1,      7,   1207,2,  200109,1807,-43.9979,  57.7586, 4639,   4502.0,   0.4007,   0.4007,2,  34.6791,2,  34.6796,2,    219.5,2,    219.8,2,   135.89,2,    32.72,2,     0.00,2,     2.25,2,     0.02,2,    0.286,2,    0.175,2,    0.018,2,    0.071,2,   2261.5,2,   2362.5,2,   -999.0,9,  -999.00,9,   0.2830,2,   0.1440,2,   0.0200,2,   0.4007,2
  49NZ20191229,  I07S,   105,  1,      2,  12046,2,  200109,1807,-43.9979,  57.7586, 4639,     30.8,  10.5462,  10.5448,2,  33.8497,2,  33.8494,2,    287.3,2,    288.5,2,     0.45,2,    11.62,2,     0.13,2,     0.90,2,     0.17,2, -999.000,9, -999.000,9, -999.000,9,     -999,9,   2071.7,2,   2264.3,2,   -999.0,9,     0.65,2,   0.2680,2,   0.1460,2,   0.0160,2,  10.5448,2
  49NZ20191229,  I07S,   105,  1,      1,   1201,2,  200109,1807,-43.9979,  57.7586, 4639,   4712.0,   0.3564,   0.3564,2,  34.6759,2,  34.6760,2,    220.8,2,    220.8,2,   138.70,2,    32.78,2,     0.00,2,     2.26,2,     0.02,2,    0.303,2,    0.186,2,    0.020,2,    0.072,2,   2263.7,2,   2362.6,2,   -999.0,9,  -999.00,9,   0.2710,2,   0.1420,2,   0.0210,2,   0.3564,2