BOTTLE,20210310PRINUNIVRMK
EXPOCODE,SECT_ID,STNNBR,CASTNO,SAMPNO,BTLNBR,BTLNBR_FLAG_W,DATE,TIME,LATITUDE,LONGITUDE,DEPTH,CTDPRS,CTDTMP,SBE35,SBE35_FLAG_W,CTDSAL,CTDSAL_FLAG_W,SALNTY,SALNTY_FLAG_W,CTDOXY,CTDOXY_FLAG_W,OXYGEN,OXYGEN_FLAG_W,SILCAT,SILCAT_FLAG_W,NITRAT,NITRAT_FLAG_W,NITRIT,NITRIT_FLAG_W,PHSPHT,PHSPHT_FLAG_W,NH4,NH4_FLAG_W,CFC-11,CFC-11_FLAG_W,CFC-12,CFC-12_FLAG_W,CFC113,CFC113_FLAG_W,SF6,SF6_FLAG_W,TCARBN,TCARBN_FLAG_W,ALKALI,ALKALI_FLAG_W,DOC,DOC_FLAG_W,CHLORA,CHLORA_FLAG_W,CDOM300,CDOM300_FLAG_W,CDOM325,CDOM325_FLAG_W,CDOM443,CDOM443_FLAG_W,SBE35,SBE35_FLAG_W
,,,,,,,,,,,METERS,DBAR,ITS-90,,,PSS-78,,PSS-78,,UMOL/KG,,UMOL/KG,,UMOL/KG,,UMOL/KG,,UMOL/KG,,UMOL/KG,,UMOL/KG,,PMOL/KG,,PMOL/KG,,PMOL/KG,,FMOL/KG,,UMOL/KG,,UMOL/KG,,UMOL/KG,,UG/L,,1/M,,1/M,,1/M,,,
  49NZ20191229,  I07S,   114,  1,     36,   1236,2,  200112,0333,-47.9187,  57.6843, 4332,     11.6,   6.4740,   6.4742,2,  33.7437,2,  33.7436,2,    307.2,2,    307.3,2,     3.20,2,    19.18,2,     0.13,2,     1.40,2,     0.54,2,    4.269,2,    2.345,2,    0.399,2,    3.452,2,   2112.3,2,   2270.0,2,     50.8,2,     0.39,2,   0.2530,2,   0.1270,2,   0.0230,2,   6.4742,2
  49NZ20191229,  I07S,   114,  1,     35,   1235,2,  200112,0333,-47.9187,  57.6843, 4332,     49.2,   6.4683,   6.4686,2,  33.7438,2,  33.7439,2,    306.7,2,    307.2,2,     3.16,2,    19.61,2,     0.14,2,     1.40,2,     0.54,2,    4.306,2,    2.368,2,    0.399,2,    3.528,2,   2113.0,2,   2271.3,2,     50.4,2,     0.40,2,   0.2300,2,   0.1150,2,   0.0000,2,   6.4686,2
  49NZ20191229,  I07S,   114,  1,     34,   1234,2,  200112,0333,-47.9187,  57.6843, 4332,    101.0,   4.6624,   4.6616,2,  33.7913,2,  33.7839,2,    308.1,2,    308.2,2,     6.76,2,    22.06,2,     0.25,2,     1.61,2,     1.19,2,    4.642,2,    2.530,2,    0.431,2,    3.683,2,   2131.3,2,   2275.3,2,     46.8,2,     0.25,2,   0.2300,2,   0.1040,2,   0.0230,2,   4.6616,2
  49NZ20191229,  I07S,   114,  1,     33,   1233,2,  200112,0333,-47.9187,  57.6843, 4332,    151.8,   3.4482,   3.4489,2,  33.8360,2,  33.8358,2,    309.2,2,    309.4,2,    12.56,2,    25.42,2,     0.33,2,     1.80,2,     0.63,2,    4.913,2,    2.671,2,    0.454,2,     3.74,2,   2148.9,2,   2272.6,2,     43.6,2,     0.04,2,   0.2190,2,   0.0920,2,   0.0230,2,   3.4489,2
  49NZ20191229,  I07S,   114,  1,     32,   1232,2,  200112,0333,-47.9187,  57.6843, 4332,    201.4,   3.3022,   3.3022,2,  33.8893,2,  33.8897,2,    299.0,2,    298.9,2,    15.99,2,    26.95,2,     0.02,2,     1.85,2,     0.06,2,    4.771,2,    2.573,2,    0.436,2,    3.611,2,   2153.1,2,   2274.4,2,     42.1,2,     0.02,2,   0.2300,2,   0.1150,2,   0.0230,2,   3.3022,2
  49NZ20191229,  I07S,   114,  1,     31,   1231,2,  200112,0333,-47.9187,  57.6843, 4332,    249.8,   3.2032,   3.2032,2,  33.9973,2,  33.9974,2,    277.5,2,    277.2,2,    21.41,2,    28.62,3,     0.02,2,     1.94,2,     0.03,2,    4.484,2,    2.398,2,    0.390,2,    3.013,2,   2170.2,2,   2277.2,2,   -999.0,9,     0.02,2,-999.0000,9,-999.0000,9,-999.0000,9,   3.2032,2
  49NZ20191229,  I07S,   114,  1,     30,   1230,2,  200112,0333,-47.9187,  57.6843, 4332,    280.2,   3.2157,   3.2185,2,  34.0759,2,  34.0762,2,    260.5,2,    260.2,2,    24.81,2,    29.51,2,     0.01,2,     2.01,2,     0.03,2,    4.146,2,    2.213,2,    0.349,2,    2.549,2,   2181.4,2,   2281.7,2,     43.0,2,  -999.00,9,   0.2420,2,   0.1150,2,   0.0230,2,   3.2185,2
  49NZ20191229,  I07S,   114,  1,     29,   1229,2,  200112,0333,-47.9187,  57.6843, 4332,    369.8,   2.9182,   2.9202,2,  34.1622,2,  34.1622,2,    239.2,2,    238.9,2,    33.08,2,    31.77,2,     0.01,2,     2.15,2,     0.04,2,    3.608,2,    1.907,2,    0.288,2,    1.863,2,   2195.9,2,   2286.2,2,     42.7,2,  -999.00,9,   0.2420,2,   0.1270,2,   0.0120,2,   2.9202,2
  49NZ20191229,  I07S,   114,  1,     28,   1228,2,  200112,0333,-47.9187,  57.6843, 4332,    469.9,   2.7727,   2.7725,2,  34.2588,2,  34.2591,2,    215.3,2,    215.0,2,    43.38,2,    33.15,2,     0.01,2,     2.27,2,     0.04,2,    2.799,2,    1.466,2,    0.216,2,    1.326,2,   2211.2,2,   2300.1,2,     36.0,2,  -999.00,9,   0.2650,2,   0.1380,2,   0.0230,2,   2.7725,2
  49NZ20191229,  I07S,   114,  1,     27,   1227,2,  200112,0333,-47.9187,  57.6843, 4332,    571.6,   2.7576,   2.7576,2,  34.3471,2,  34.3464,2,    197.2,2,    197.2,2,    51.73,2,    33.95,2,     0.00,2,     2.32,2,     0.02,2,    2.075,2,    1.083,2,    0.153,2,    0.816,2,   2229.1,2,   2308.5,2,     39.4,2,  -999.00,9,   0.2420,2,   0.1150,2,   0.0230,2,   2.7576,2
  49NZ20191229,  I07S,   114,  1,     26,   1226,2,  200112,0333,-47.9187,  57.6843, 4332,    670.9,   2.6492,   2.6492,2,  34.4135,2,  34.4130,2,    185.3,2,    185.3,2,    58.94,2,    34.82,2,     0.01,2,     2.36,2,     0.05,2,    1.552,2,    0.827,2,    0.118,2,    0.633,2,   2237.5,6,   2314.2,2,   -999.0,9,  -999.00,9,-999.0000,9,-999.0000,9,-999.0000,9,   2.6492,2
  49NZ20191229,  I07S,   114,  1,     25,   1225,2,  200112,0333,-47.9187,  57.6843, 4332,    770.7,   2.5780,   2.5780,2,  34.4705,2,  34.4716,2,    177.7,2,    177.7,2,    64.59,2,    34.70,2,     0.01,2,     2.38,2,     0.04,2,    1.178,2,    0.639,2,    0.088,2,    0.439,2,   2244.0,2,   2322.6,2,     34.8,2,  -999.00,9,   0.2760,2,   0.1380,2,   0.0230,2,   2.5780,2
  49NZ20191229,  I07S,   114,  1,     24,   1224,2,  200112,0333,-47.9187,  57.6843, 4332,    871.1,   2.5415,   2.5415,2,  34.5311,2,  34.5306,2,    171.3,2,    171.4,2,    69.22,2,    34.73,2,     0.01,2,     2.37,2,     0.04,2,    0.833,2,    0.471,2,    0.060,2,    0.321,2,   2246.9,2,   2332.1,2,   -999.0,9,  -999.00,9,-999.0000,9,-999.0000,9,-999.0000,9,   2.5415,2
  49NZ20191229,  I07S,   114,  1,     23,   1223,2,  200112,0333,-47.9187,  57.6843, 4332,    970.3,   2.6029,   2.6029,2,  34.5897,2,  34.5896,2,    172.7,2,    173.0,2,    70.25,2,    33.68,2,     0.01,2,     2.31,2,     0.02,2,    0.541,2,    0.323,2,    0.032,2,    0.154,2,   2248.8,2,   2333.1,2,     36.9,2,  -999.00,9,   0.2760,2,   0.1610,2,   0.0230,2,   2.6029,2
  49NZ20191229,  I07S,   114,  1,     22,   1222,2,  200112,0333,-47.9187,  57.6843, 4332,   1131.4,   2.5314,   2.5314,2,  34.6467,2,  34.6466,2,    175.2,2,    175.5,2,    72.62,2,    32.93,2,     0.01,2,     2.25,2,     0.03,2,    0.362,2,    0.226,2,    0.024,2,    0.124,2,   -999.0,9,   2337.1,6,     34.7,2,  -999.00,9,-999.0000,9,-999.0000,9,-999.0000,9,   2.5314,2
  49NZ20191229,  I07S,   114,  1,     21,   1221,2,  200112,0333,-47.9187,  57.6843, 4332,   1329.9,   2.4394,   2.4395,2,  34.6963,2,  34.6963,2,    180.7,2,    181.0,2,    74.25,2,    31.77,2,     0.01,2,     2.18,2,     0.03,2,    0.265,2,    0.170,2,    0.019,2,     0.06,2,   2244.6,2,   2341.3,2,     36.5,2,  -999.00,9,   0.2880,2,   0.1610,2,   0.0460,2,   2.4395,2
  49NZ20191229,  I07S,   114,  1,     20,   1220,3,  200112,0333,-47.9187,  57.6843, 4332,   1528.8,   2.3708,   2.3711,2,  34.7346,2,  34.7340,2,    188.9,2,    190.3,3,    74.14,2,    30.45,2,     0.01,2,     2.08,2,     0.03,2,    0.212,2,    0.142,2,    0.016,2,    0.031,2,   2239.7,2,   2344.6,2,   -999.0,9,  -999.00,9,-999.0000,9,-999.0000,9,-999.0000,9,   2.3711,2
  49NZ20191229,  I07S,   114,  1,     19,   1219,2,  200112,0333,-47.9187,  57.6843, 4332,   1730.8,   2.2205,   2.2207,2,  34.7556,2,  34.7549,2,    194.4,2,    194.6,2,    76.60,2,    29.74,2,     0.00,2,     2.04,2,     0.03,2,    0.162,2,    0.109,2,    0.010,2,    0.086,2,   -999.0,9,   2344.4,2,     35.6,2,  -999.00,9,   0.2760,2,   0.1610,2,   0.0350,2,   2.2207,2
  49NZ20191229,  I07S,   114,  1,     18,   1218,2,  200112,0333,-47.9187,  57.6843, 4332,   1933.2,   2.0749,   2.0750,2,  34.7654,2,  34.7653,2,    199.6,2,    199.9,2,    78.79,2,    29.31,2,     0.00,2,     2.02,2,     0.04,2,    0.138,2,    0.095,2,    0.008,2,    0.035,2,   2232.2,2,   2345.6,2,   -999.0,9,  -999.00,9,-999.0000,9,-999.0000,9,-999.0000,9,   2.0750,2
  49NZ20191229,  I07S,   114,  1,     17,   1217,2,  200112,0333,-47.9187,  57.6843, 4332,   2134.4,   1.9230,   1.9232,2,  34.7683,2,  34.7681,2,    203.2,2,    203.7,2,    81.74,2,    29.25,2,     0.00,2,     2.01,2,     0.05,2,    0.140,2,    0.096,2,    0.007,2,    0.061,2,   2236.6,2,   2348.1,2,     33.4,2,  -999.00,9,   0.2880,2,   0.1610,2,   0.0230,2,   1.9232,2
  49NZ20191229,  I07S,   114,  1,     16,   1216,2,  200112,0333,-47.9187,  57.6843, 4332,   2332.1,   1.7475,   1.7480,2,  34.7617,2,  34.7613,2,    204.7,2,    205.2,2,    86.68,2,    30.55,2,     0.01,2,     2.03,2,     0.06,2,    0.150,2,    0.102,2,    0.012,2,    0.046,2,   2241.0,6,   2353.4,2,   -999.0,9,  -999.00,9,-999.0000,9,-999.0000,9,-999.0000,9,   1.7480,2
  49NZ20191229,  I07S,   114,  1,     15,   1215,2,  200112,0333,-47.9187,  57.6843, 4332,   2531.0,   1.5662,   1.5665,2,  34.7508,2,  34.7503,2,    205.3,2,    205.9,2,    93.04,2,    30.18,2,     0.01,2,     2.06,2,     0.04,2,    0.161,2,    0.108,2,    0.012,2,    0.057,2,   2242.3,2,   2354.1,2,     35.8,2,  -999.00,9,   0.2760,2,   0.1610,2,   0.0350,2,   1.5665,2
  49NZ20191229,  I07S,   114,  1,     14,   1214,2,  200112,0333,-47.9187,  57.6843, 4332,   2731.1,   1.3936,   1.3940,2,  34.7401,2,  34.7393,2,    206.0,2,    206.5,2,    98.94,2,    30.63,2,     0.01,2,     2.10,2,     0.04,2,    0.180,2,    0.119,2,    0.012,2,    0.064,2,   2248.5,2,   2357.9,2,   -999.0,9,  -999.00,9,-999.0000,9,-999.0000,9,-999.0000,9,   1.3940,2
  49NZ20191229,  I07S,   114,  1,     13,   1213,2,  200112,0333,-47.9187,  57.6843, 4332,   2931.0,   1.2247,   1.2246,2,  34.7300,2,  34.7299,2,    207.1,2,    207.5,2,   103.63,2,    31.05,2,     0.01,2,     2.13,2,     0.04,2,    0.212,2,    0.139,2,    0.022,2,    0.061,2,   2251.3,2,   2358.1,2,     33.7,2,  -999.00,9,   0.2760,2,   0.1610,2,   0.0230,2,   1.2246,2
  49NZ20191229,  I07S,   114,  1,     12,   1212,2,  200112,0333,-47.9187,  57.6843, 4332,   3169.9,   1.0012,   1.0005,2,  34.7160,2,  34.7159,2,    208.6,2,    209.0,2,   111.60,2,    31.80,2,     0.01,2,     2.17,2,     0.03,2,    0.231,2,    0.150,2,    0.018,2,    0.088,2,   2255.4,2,   2359.6,6,   -999.0,9,  -999.00,9,-999.0000,9,-999.0000,9,-999.0000,9,   1.0005,2
  49NZ20191229,  I07S,   114,  1,     11,   1211,2,  200112,0333,-47.9187,  57.6843, 4332,   3423.2,   0.7645,   0.7658,2,  34.7013,2,  34.7015,2,    210.9,2,    211.2,2,   118.29,2,    32.38,2,     0.01,2,     2.21,2,     0.03,2,    0.300,2,    0.186,2,    0.026,2,    0.075,2,   2253.6,2,   2360.2,2,     34.1,2,  -999.00,9,   0.2760,2,   0.1500,2,   0.0230,2,   0.7658,2
  49NZ20191229,  I07S,   114,  1,     10,   1210,2,  200112,0333,-47.9187,  57.6843, 4332,   3672.5,   0.5811,   0.5807,2,  34.6906,2,  34.6900,2,    213.9,2,    214.3,2,   124.38,2,    32.62,2,     0.01,2,     2.23,2,     0.02,2,    0.331,2,    0.200,2,    0.024,2,    0.085,2,   2258.6,2,   2359.4,2,   -999.0,9,  -999.00,9,-999.0000,9,-999.0000,9,-999.0000,9,   0.5807,2
  49NZ20191229,  I07S,   114,  1,      9,   1209,2,  200112,0333,-47.9187,  57.6843, 4332,   3921.9,   0.4670,   0.4672,2,  34.6854,2,  34.6853,2,    216.8,2,    217.2,2,   131.16,2,    32.63,2,     0.00,2,     2.25,2,     0.03,2,    0.265,2,    0.166,2,    0.018,2,    0.042,2,   2261.0,2,   2362.4,2,     39.0,2,  -999.00,9,   0.2760,2,   0.1610,2,   0.0350,2,   0.4672,2
  49NZ20191229,  I07S,   114,  1,      8,  12103,2,  200112,0333,-47.9187,  57.6843, 4332,   4170.3,   0.3300,   0.3304,2,  34.6779,2,  34.6781,2,    220.2,2,    220.5,2,   137.25,2,    33.15,2,     0.01,2,     2.27,2,     0.06,2,    0.287,2,    0.176,2,    0.019,2,    0.077,2,   2259.0,6,   2358.8,2,   -999.0,9,  -999.00,9,-999.0000,9,-999.0000,9,-999.0000,9,   0.3304,2
  49NZ20191229,  I07S,   114,  1,      5,   1205,2,  200112,0333,-47.9187,  57.6843, 4332,     54.9,   6.4608,   6.4631,2,  33.7440,2,-999.0000,9,    306.5,2,   -999.0,9,  -999.00,9,  -999.00,9,  -999.00,9,  -999.00,9,     -999,9, -999.000,9, -999.000,9, -999.000,9,     -999,9,   -999.0,9,   -999.0,9,   -999.0,9,  -999.00,9,-999.0000,9,-999.0000,9,-999.0000,9,   6.4631,2
  49NZ20191229,  I07S,   114,  1,      4,   1204,2,  200112,0333,-47.9187,  57.6843, 4332,      6.1,   6.4757,   6.4761,2,  33.7437,2,-999.0000,9,    307.2,2,   -999.0,9,  -999.00,9,  -999.00,9,  -999.00,9,  -999.00,9,     -999,9, -999.000,9, -999.000,9, -999.000,9,     -999,9,   -999.0,9,   -999.0,9,   -999.0,9,  -999.00,9,-999.0000,9,-999.0000,9,-999.0000,9,   6.4761,2
  49NZ20191229,  I07S,   114,  1,      3,   1203,2,  200112,0333,-47.9187,  57.6843, 4332,     34.7,   6.4695,   6.4696,8,  33.7436,2,-999.0000,9,    307.1,2,   -999.0,9,  -999.00,9,  -999.00,9,  -999.00,9,  -999.00,9,     -999,9, -999.000,9, -999.000,9, -999.000,9,     -999,9,   -999.0,9,   -999.0,9,   -999.0,9,  -999.00,9,-999.0000,9,-999.0000,9,-999.0000,9,   6.4696,8
  49NZ20191229,  I07S,   114,  1,      2,  12046,2,  200112,0333,-47.9187,  57.6843, 4332,     34.7,   6.4698,   6.4699,2,  33.7436,2,  33.7441,2,    307.0,2,    307.1,2,     3.15,2,    19.77,2,     0.14,2,     1.41,2,     0.54,2, -999.000,9, -999.000,9, -999.000,9,     -999,9,   2112.4,2,   2271.7,2,     46.8,2,     0.41,2,   0.2530,2,   0.1380,2,   0.0350,2,   6.4699,2
  49NZ20191229,  I07S,   114,  1,      1,   1201,2,  200112,0333,-47.9187,  57.6843, 4332,   4395.8,   0.2703,   0.2705,2,  34.6740,2,  34.6736,2,    222.1,2,    222.1,2,   140.39,2,    32.90,2,     0.00,2,     2.27,2,     0.04,2,    0.302,2,    0.185,2,    0.019,2,    0.047,2,   2257.4,2,   2360.1,2,     38.1,2,  -999.00,9,   0.2760,2,   0.1610,2,   0.0350,2,   0.2705,2