BOTTLE,20210310PRINUNIVRMK
EXPOCODE,SECT_ID,STNNBR,CASTNO,SAMPNO,BTLNBR,BTLNBR_FLAG_W,DATE,TIME,LATITUDE,LONGITUDE,DEPTH,CTDPRS,CTDTMP,SBE35,SBE35_FLAG_W,CTDSAL,CTDSAL_FLAG_W,SALNTY,SALNTY_FLAG_W,CTDOXY,CTDOXY_FLAG_W,OXYGEN,OXYGEN_FLAG_W,SILCAT,SILCAT_FLAG_W,NITRAT,NITRAT_FLAG_W,NITRIT,NITRIT_FLAG_W,PHSPHT,PHSPHT_FLAG_W,NH4,NH4_FLAG_W,CFC-11,CFC-11_FLAG_W,CFC-12,CFC-12_FLAG_W,CFC113,CFC113_FLAG_W,SF6,SF6_FLAG_W,TCARBN,TCARBN_FLAG_W,ALKALI,ALKALI_FLAG_W,DOC,DOC_FLAG_W,CHLORA,CHLORA_FLAG_W,CDOM300,CDOM300_FLAG_W,CDOM325,CDOM325_FLAG_W,CDOM443,CDOM443_FLAG_W,SBE35,SBE35_FLAG_W
,,,,,,,,,,,METERS,DBAR,ITS-90,,,PSS-78,,PSS-78,,UMOL/KG,,UMOL/KG,,UMOL/KG,,UMOL/KG,,UMOL/KG,,UMOL/KG,,UMOL/KG,,PMOL/KG,,PMOL/KG,,PMOL/KG,,FMOL/KG,,UMOL/KG,,UMOL/KG,,UMOL/KG,,UG/L,,1/M,,1/M,,1/M,,,
  49NZ20191229,  I07S,    85,  2,     36,   1236,2,  200104,1809,-34.6555,  57.2896, 3808,     10.8,  18.1433,  18.1520,2,  35.5147,2,  35.5147,2,    243.0,2,    243.9,2,     0.92,2,     0.03,2,     0.01,2,     0.12,2,     0.05,2, -999.000,9, -999.000,9, -999.000,9,     -999,9,   2068.0,2,   2335.9,2,     69.2,2,     0.16,2,   0.2670,2,   0.1460,2,   0.0190,2,  18.1520,2
  49NZ20191229,  I07S,    85,  2,     35,   1235,2,  200104,1809,-34.6555,  57.2896, 3808,     50.4,  16.2099,  16.2110,2,  35.4670,2,  35.4668,2,    254.3,2,    254.0,2,     0.84,2,     0.03,2,     0.02,2,     0.15,2,     0.06,2, -999.000,9, -999.000,9, -999.000,9,     -999,9,   2072.7,2,   2337.0,2,     64.6,2,     0.79,2,   0.2790,2,   0.1570,2,   0.0240,2,  16.2110,2
  49NZ20191229,  I07S,    85,  2,     34,   1234,2,  200104,1809,-34.6555,  57.2896, 3808,    100.9,  14.9313,  14.9317,2,  35.4330,2,  35.4333,2,    233.0,2,    232.7,2,     2.57,2,     4.47,2,     0.06,2,     0.40,2,     0.06,2, -999.000,9, -999.000,9, -999.000,9,     -999,9,   2100.3,2,   2328.7,2,     63.4,2,     0.26,2,   0.2250,2,   0.1250,2,   0.0180,2,  14.9317,2
  49NZ20191229,  I07S,    85,  2,     33,   1233,2,  200104,1809,-34.6555,  57.2896, 3808,    149.7,  14.2103,  14.2101,2,  35.3808,2,  35.3805,2,    238.9,2,    238.1,2,     2.97,2,     5.87,2,     0.02,2,     0.47,2,     0.05,2, -999.000,9, -999.000,9, -999.000,9,     -999,9,   2103.7,2,   2325.2,2,     50.8,2,     0.03,2,   0.2200,2,   0.1210,2,   0.0200,2,  14.2101,2
  49NZ20191229,  I07S,    85,  2,     32,   1232,2,  200104,1809,-34.6555,  57.2896, 3808,    200.4,  13.9554,  13.9553,2,  35.3706,2,  35.3701,2,    239.7,2,    239.4,2,     3.18,2,     6.09,2,     0.01,2,     0.50,2,     0.04,2, -999.000,9, -999.000,9, -999.000,9,     -999,9,   2110.5,2,   2322.5,2,     60.2,2,     0.01,2,   0.2000,2,   0.1070,2,   0.0150,2,  13.9553,2
  49NZ20191229,  I07S,    85,  2,     31,   1231,2,  200104,1809,-34.6555,  57.2896, 3808,    250.0,  13.8131,  13.8131,2,  35.3533,2,  35.3532,2,    242.6,2,    242.0,2,     3.23,2,     6.20,2,     0.01,2,     0.50,2,     0.03,2, -999.000,9, -999.000,9, -999.000,9,     -999,9,   2104.5,2,   2323.2,2,     53.5,2,     0.01,2,-999.0000,9,-999.0000,9,-999.0000,9,  13.8131,2
  49NZ20191229,  I07S,    85,  2,     30,   1230,2,  200104,1809,-34.6555,  57.2896, 3808,    280.9,  13.7389,  13.7389,2,  35.3427,2,  35.3438,2,    242.3,2,    242.1,2,     3.25,2,     6.53,2,     0.01,2,     0.52,2,     0.03,2, -999.000,9, -999.000,9, -999.000,9,     -999,9,   2107.0,2,   2324.1,2,     54.8,2,  -999.00,9,   0.2020,2,   0.1080,2,   0.0180,2,  13.7389,2
  49NZ20191229,  I07S,    85,  2,     29,   1229,2,  200104,1809,-34.6555,  57.2896, 3808,    370.8,  13.3964,  13.3978,2,  35.2889,2,  35.2893,2,    238.1,2,    238.2,2,     3.41,2,     7.44,2,     0.01,2,     0.58,2,     0.03,2, -999.000,9, -999.000,9, -999.000,9,     -999,9,   2109.4,2,   2322.8,2,     54.9,2,  -999.00,9,   0.2250,2,   0.1330,2,   0.0260,2,  13.3978,2
  49NZ20191229,  I07S,    85,  2,     28,   1228,2,  200104,1809,-34.6555,  57.2896, 3808,    469.7,  12.8927,  12.8930,2,  35.2127,2,  35.2124,2,    239.1,2,    238.9,2,     3.59,2,     8.68,2,     0.01,2,     0.66,2,     0.04,2, -999.000,9, -999.000,9, -999.000,9,     -999,9,   2115.8,2,   2320.9,2,     52.2,2,  -999.00,9,   0.2250,2,   0.1230,2,   0.0220,2,  12.8930,2
  49NZ20191229,  I07S,    85,  2,     27,   1227,2,  200104,1809,-34.6555,  57.2896, 3808,    570.0,  12.3279,  12.3283,2,  35.1140,2,  35.1143,2,    233.0,2,    233.2,2,     4.01,2,    10.37,2,     0.01,2,     0.76,2,     0.05,2, -999.000,9, -999.000,9, -999.000,9,     -999,9,   2119.4,2,   2313.2,2,     41.2,2,  -999.00,9,   0.1980,2,   0.1070,2,   0.0180,2,  12.3283,2
  49NZ20191229,  I07S,    85,  2,     26,   1226,2,  200104,1809,-34.6555,  57.2896, 3808,    670.3,  11.1005,  11.1013,2,  34.9194,2,  34.9195,2,    221.1,2,    221.2,2,     5.34,2,    14.17,2,     0.01,2,     1.00,2,     0.04,2, -999.000,9, -999.000,9, -999.000,9,     -999,9,   2133.8,6,   2303.6,2,     46.9,2,  -999.00,9,-999.0000,9,-999.0000,9,-999.0000,9,  11.1013,2
  49NZ20191229,  I07S,    85,  2,     25,   1225,2,  200104,1809,-34.6555,  57.2896, 3808,    771.0,  10.0682,  10.0697,2,  34.7846,2,  34.7843,2,    217.0,2,    217.4,2,     6.99,2,    16.95,2,     0.01,2,     1.18,2,     0.04,2, -999.000,9, -999.000,9, -999.000,9,     -999,9,   2141.1,2,   2301.0,2,     44.2,2,  -999.00,9,   0.2220,2,   0.1210,2,   0.0210,2,  10.0697,2
  49NZ20191229,  I07S,    85,  2,     24,   1224,2,  200104,1809,-34.6555,  57.2896, 3808,    870.1,   8.4302,   8.4316,2,  34.6070,2,  34.6074,2,    209.2,2,    209.2,2,    11.31,2,    21.43,2,     0.01,2,     1.47,2,     0.04,2, -999.000,9, -999.000,9, -999.000,9,     -999,9,   2155.6,2,   2296.7,2,     41.4,2,  -999.00,9,-999.0000,9,-999.0000,9,-999.0000,9,   8.4316,2
  49NZ20191229,  I07S,    85,  2,     23,   1223,2,  200104,1809,-34.6555,  57.2896, 3808,    970.4,   7.1620,   7.1623,2,  34.4991,2,  34.4988,2,    204.3,2,    204.3,2,    16.80,2,    24.98,2,     0.01,2,     1.70,2,     0.04,2, -999.000,9, -999.000,9, -999.000,9,     -999,9,   2170.5,2,   2295.2,2,     39.5,2,  -999.00,9,   0.2220,2,   0.1150,2,   0.0210,2,   7.1623,2
  49NZ20191229,  I07S,    85,  2,     22,   1222,2,  200104,1809,-34.6555,  57.2896, 3808,   1130.0,   5.2452,   5.2455,2,  34.3783,2,  34.3788,2,    202.2,2,    201.9,2,    27.77,2,    29.30,2,     0.01,2,     2.00,2,     0.04,2, -999.000,9, -999.000,9, -999.000,9,     -999,9,   2193.3,2,   2296.3,6,     40.1,2,  -999.00,9,-999.0000,9,-999.0000,9,-999.0000,9,   5.2455,2
  49NZ20191229,  I07S,    85,  2,     21,   1221,2,  200104,1809,-34.6555,  57.2896, 3808,   1329.6,   3.9995,   3.9995,2,  34.3947,2,  34.3946,2,    188.7,2,    188.4,2,    44.08,2,    32.45,2,     0.01,2,     2.23,2,     0.03,2, -999.000,9, -999.000,9, -999.000,9,     -999,9,   2216.3,2,   2312.6,2,     39.7,2,  -999.00,9,   0.2780,2,   0.1580,2,   0.0330,2,   3.9995,2
  49NZ20191229,  I07S,    85,  2,     20,   1220,2,  200104,1809,-34.6555,  57.2896, 3808,   1529.6,   3.2911,   3.2911,2,  34.5009,2,  34.5015,2,    174.2,2,    174.2,2,    61.02,2,    34.27,2,     0.02,2,     2.33,2,     0.05,2, -999.000,9, -999.000,9, -999.000,9,     -999,9,   2240.9,2,   2331.1,2,     36.8,2,  -999.00,9,-999.0000,9,-999.0000,9,-999.0000,9,   3.2911,2
  49NZ20191229,  I07S,    85,  2,     19,   1219,2,  200104,1809,-34.6555,  57.2896, 3808,   1728.8,   2.9418,   2.9428,2,  34.5802,2,  34.5806,2,    174.2,2,    174.3,2,    68.85,2,    33.42,2,     0.00,2,     2.28,2,     0.05,2, -999.000,9, -999.000,9, -999.000,9,     -999,9,   2246.9,2,   2338.4,2,     37.2,2,  -999.00,9,   0.3410,2,   0.1980,2,   0.0410,2,   2.9428,2
  49NZ20191229,  I07S,    85,  2,     18,   1218,2,  200104,1809,-34.6555,  57.2896, 3808,   1929.5,   2.6318,   2.6333,2,  34.6519,2,  34.6508,2,    176.4,2,    176.2,2,    76.21,2,    32.54,2,     0.00,2,     2.24,2,     0.04,2, -999.000,9, -999.000,9, -999.000,9,     -999,9,   2251.1,2,   2345.8,2,     40.4,2,  -999.00,9,-999.0000,9,-999.0000,9,-999.0000,9,   2.6333,2
  49NZ20191229,  I07S,    85,  2,     17,   1217,2,  200104,1809,-34.6555,  57.2896, 3808,   2130.0,   2.4645,   2.4655,2,  34.6937,2,  34.6939,2,    180.9,2,    180.9,2,    81.13,2,    31.93,2,     0.01,2,     2.18,2,     0.07,2, -999.000,9, -999.000,9, -999.000,9,     -999,9,   2255.1,2,   2355.1,2,     41.8,2,  -999.00,9,   0.2990,2,   0.1670,2,   0.0310,2,   2.4655,2
  49NZ20191229,  I07S,    85,  2,     16,   1216,2,  200104,1809,-34.6555,  57.2896, 3808,   2330.0,   2.3092,   2.3103,2,  34.7143,2,  34.7145,2,    181.6,2,    181.6,2,    87.34,2,    31.93,2,     0.01,2,     2.18,2,     0.07,2, -999.000,9, -999.000,9, -999.000,9,     -999,9,   2257.0,6,   2357.9,2,     42.0,2,  -999.00,9,-999.0000,9,-999.0000,9,-999.0000,9,   2.3103,2
  49NZ20191229,  I07S,    85,  2,     15,   1215,2,  200104,1809,-34.6555,  57.2896, 3808,   2532.1,   2.1922,   2.1920,2,  34.7299,2,  34.7301,2,    184.6,2,    184.7,2,    90.97,2,    31.86,2,     0.01,2,     2.17,2,     0.08,2, -999.000,9, -999.000,9, -999.000,9,     -999,9,   2260.5,2,   2360.3,2,     43.6,2,  -999.00,9,   0.2930,2,   0.1590,2,   0.0280,2,   2.1920,2
  49NZ20191229,  I07S,    85,  2,     14,   1214,2,  200104,1809,-34.6555,  57.2896, 3808,   2731.6,   2.0566,   2.0566,2,  34.7361,2,  34.7366,2,    184.9,2,    185.0,2,    96.73,2,    31.66,2,     0.00,2,     2.18,2,     0.04,2, -999.000,9, -999.000,9, -999.000,9,     -999,9,   2263.2,2,   2367.1,2,     41.0,2,  -999.00,9,-999.0000,9,-999.0000,9,-999.0000,9,   2.0566,2
  49NZ20191229,  I07S,    85,  2,     13,   1213,2,  200104,1809,-34.6555,  57.2896, 3808,   2929.8,   1.9216,   1.9216,2,  34.7389,2,  34.7394,2,    187.1,2,    187.2,2,   100.49,2,    31.79,2,     0.00,2,     2.18,2,     0.03,2, -999.000,9, -999.000,9, -999.000,9,     -999,9,   2266.2,2,   2372.2,2,     40.3,2,  -999.00,9,   0.2980,2,   0.1670,2,   0.0340,2,   1.9216,2
  49NZ20191229,  I07S,    85,  2,     12,   1212,2,  200104,1809,-34.6555,  57.2896, 3808,   3170.9,   1.7460,   1.7459,2,  34.7372,2,  34.7376,2,    190.9,2,    191.0,2,   104.56,2,    31.91,2,     0.00,2,     2.19,2,     0.04,2, -999.000,9, -999.000,9, -999.000,9,     -999,9,   2265.2,2,   2371.4,6,     36.7,2,  -999.00,9,-999.0000,9,-999.0000,9,-999.0000,9,   1.7459,2
  49NZ20191229,  I07S,    85,  2,     11,   1211,2,  200104,1809,-34.6555,  57.2896, 3808,   3420.5,   1.4782,   1.4784,2,  34.7302,2,  34.7307,2,    198.1,2,    198.3,2,   108.29,2,    31.83,2,     0.00,2,     2.18,2,     0.05,2, -999.000,9, -999.000,9, -999.000,9,     -999,9,   -999.0,9,   2369.1,2,     42.3,2,  -999.00,9,   0.2960,2,   0.1620,2,   0.0290,2,   1.4784,2
  49NZ20191229,  I07S,    85,  2,     10,   1210,2,  200104,1809,-34.6555,  57.2896, 3808,   3671.9,   1.1454,   1.1454,2,  34.7176,2,  34.7180,2,    206.4,2,    206.2,2,   113.89,2,    31.91,2,     0.00,2,     2.18,2,     0.05,2, -999.000,9, -999.000,9, -999.000,9,     -999,9,   2255.1,2,   2363.4,2,     45.1,3,  -999.00,9,-999.0000,9,-999.0000,9,-999.0000,9,   1.1454,2
  49NZ20191229,  I07S,    85,  2,      2,  12046,2,  200104,1809,-34.6555,  57.2896, 3808,     77.5,  15.3362,  15.3349,2,  35.4395,2,  35.4387,2,    239.6,2,    238.7,2,     2.07,2,     2.68,2,     0.30,2,     0.32,2,     0.05,2, -999.000,9, -999.000,9, -999.000,9,     -999,9,   2094.7,2,   2333.2,2,     62.3,2,     0.56,2,   0.2440,2,   0.1410,2,   0.0250,2,  15.3349,2
  49NZ20191229,  I07S,    85,  2,      1,   1201,2,  200104,1809,-34.6555,  57.2896, 3808,   3829.6,   0.8727,   0.8729,2,  34.7055,2,  34.7059,2,    212.2,2,    211.6,2,   119.50,2,    32.06,2,     0.00,2,     2.20,2,     0.05,2, -999.000,9, -999.000,9, -999.000,9,     -999,9,   2258.0,2,   2363.1,2,     39.1,2,  -999.00,9,   0.2900,2,   0.1580,2,   0.0300,2,   0.8729,2