BOTTLE,20210310PRINUNIVRMK
EXPOCODE,SECT_ID,STNNBR,CASTNO,SAMPNO,BTLNBR,BTLNBR_FLAG_W,DATE,TIME,LATITUDE,LONGITUDE,DEPTH,CTDPRS,CTDTMP,SBE35,SBE35_FLAG_W,CTDSAL,CTDSAL_FLAG_W,SALNTY,SALNTY_FLAG_W,CTDOXY,CTDOXY_FLAG_W,OXYGEN,OXYGEN_FLAG_W,SILCAT,SILCAT_FLAG_W,NITRAT,NITRAT_FLAG_W,NITRIT,NITRIT_FLAG_W,PHSPHT,PHSPHT_FLAG_W,NH4,NH4_FLAG_W,CFC-11,CFC-11_FLAG_W,CFC-12,CFC-12_FLAG_W,CFC113,CFC113_FLAG_W,SF6,SF6_FLAG_W,TCARBN,TCARBN_FLAG_W,ALKALI,ALKALI_FLAG_W,DOC,DOC_FLAG_W,CHLORA,CHLORA_FLAG_W,CDOM300,CDOM300_FLAG_W,CDOM325,CDOM325_FLAG_W,CDOM443,CDOM443_FLAG_W,SBE35,SBE35_FLAG_W
,,,,,,,,,,,METERS,DBAR,ITS-90,,,PSS-78,,PSS-78,,UMOL/KG,,UMOL/KG,,UMOL/KG,,UMOL/KG,,UMOL/KG,,UMOL/KG,,UMOL/KG,,PMOL/KG,,PMOL/KG,,PMOL/KG,,FMOL/KG,,UMOL/KG,,UMOL/KG,,UMOL/KG,,UG/L,,1/M,,1/M,,1/M,,,
  49NZ20191229,  I07S,   107,  1,     36,   1236,2,  200110,0606,-45.0011,  57.7873, 4538,     10.4,   8.2507,   8.2500,2,  33.7704,2,  33.7716,2,    300.4,2,    299.7,2,     1.68,2,    17.12,2,     0.15,2,     1.25,2,     0.47,2,    1.971,4,    1.288,4,    0.177,4,    2.219,4,   2102.9,2,   2268.3,2,     49.6,2,     0.41,2,   0.2460,2,   0.1600,2,   0.0220,2,   8.2500,2
  49NZ20191229,  I07S,   107,  1,     35,   1235,2,  200110,0606,-45.0011,  57.7873, 4538,     50.4,   7.7726,   7.7674,2,  33.7788,2,  33.7766,2,    299.2,2,    299.0,2,     1.49,2,    17.14,2,     0.14,2,     1.27,2,     0.78,2,    2.007,4,    1.323,4,    0.184,4,    2.258,4,   2103.1,2,   2264.0,2,     47.8,2,     0.39,2,   0.2430,2,   0.1340,2,   0.0250,2,   7.7674,2
  49NZ20191229,  I07S,   107,  1,     34,   1234,2,  200110,0606,-45.0011,  57.7873, 4538,    100.9,   6.3713,   6.3684,2,  33.8712,2,  33.8773,2,    290.1,2,    289.2,2,     2.84,2,    19.45,2,     0.32,2,     1.46,2,      1.4,2,    1.373,4,    1.126,4,    0.125,4,    1.776,4,   2127.0,2,   2269.9,2,     40.8,2,     0.04,2,   0.2240,2,   0.1220,2,   0.0260,2,   6.3684,2
  49NZ20191229,  I07S,   107,  1,     33,   1233,2,  200110,0606,-45.0011,  57.7873, 4538,    150.9,   5.6140,   5.6144,2,  33.9023,2,  33.9006,2,    287.9,2,    287.4,2,     5.72,2,    22.55,2,     0.13,2,     1.55,2,     0.03,2,    1.718,4,    1.292,4,    0.157,4,    2.195,4,   2140.3,2,   2265.5,2,     43.2,2,     0.03,2,   0.2220,2,   0.1190,2,   0.0260,2,   5.6144,2
  49NZ20191229,  I07S,   107,  1,     32,   1232,2,  200110,0606,-45.0011,  57.7873, 4538,    199.7,   5.3702,   5.3688,2,  33.9684,2,  33.9679,2,    283.3,2,    282.4,2,     7.64,2,    23.41,2,     0.04,2,     1.60,2,     0.03,2,    1.590,4,    1.278,4,    0.138,4,    2.235,4,   2150.1,2,   2269.5,2,     45.3,2,     0.02,2,   0.2220,2,   0.1170,2,   0.0240,2,   5.3688,2
  49NZ20191229,  I07S,   107,  1,     31,   1231,2,  200110,0606,-45.0011,  57.7873, 4538,    250.7,   4.8153,   4.8155,2,  34.0055,2,  34.0059,2,    278.4,2,    277.4,2,    10.74,2,    25.01,2,     0.03,2,     1.70,2,     0.02,2,    4.200,2,    2.260,2,    0.343,2,    2.937,2,   2153.8,2,   2274.1,2,   -999.0,9,     0.02,2,-999.0000,9,-999.0000,9,-999.0000,9,   4.8155,2
  49NZ20191229,  I07S,   107,  1,     30,   1230,2,  200110,0606,-45.0011,  57.7873, 4538,    330.3,   4.9812,   4.9812,2,  34.1644,2,  34.1651,2,    252.0,2,    251.2,2,    14.82,2,    26.64,2,     0.02,2,     1.81,2,     0.02,2,    4.063,2,    2.197,2,    0.317,2,    2.472,2,   2168.7,2,   2278.0,2,     41.9,2,  -999.00,9,   0.2210,2,   0.1180,2,   0.0210,2,   4.9812,2
  49NZ20191229,  I07S,   107,  1,     29,   1229,2,  200110,0606,-45.0011,  57.7873, 4538,    430.8,   4.9050,   4.9070,2,  34.2624,2,  34.2581,2,    231.0,2,    231.1,2,    20.10,2,    28.28,2,     0.01,2,     1.92,2,     0.02,2,    3.609,2,    1.912,2,    0.256,2,    1.872,2,   2184.6,2,   2281.6,2,     40.2,2,  -999.00,9,   0.2330,2,   0.1210,2,   0.0250,2,   4.9070,2
  49NZ20191229,  I07S,   107,  1,     28,   1228,2,  200110,0606,-45.0011,  57.7873, 4538,    531.0,   3.4688,   3.4688,2,  34.1548,2,  34.1554,2,    245.7,2,    244.9,2,    25.56,2,    30.14,2,     0.01,2,     2.05,2,     0.02,2,    3.806,2,    2.004,2,    0.288,2,    2.038,2,   2190.4,2,   2285.1,2,     36.9,2,  -999.00,9,   0.2370,2,   0.1250,2,   0.0250,2,   3.4688,2
  49NZ20191229,  I07S,   107,  1,     27,   1227,2,  200110,0606,-45.0011,  57.7873, 4538,    630.1,   3.1359,   3.1355,2,  34.1876,2,  34.1877,2,    234.8,2,    234.0,2,    32.17,2,    31.47,2,     0.01,2,     2.13,2,     0.04,2,    3.464,2,    1.795,2,    0.261,2,     1.75,2,   2201.5,2,   2290.8,2,     41.3,2,  -999.00,9,   0.2470,2,   0.1380,2,   0.0300,2,   3.1355,2
  49NZ20191229,  I07S,   107,  1,     26,   1226,2,  200110,0606,-45.0011,  57.7873, 4538,    729.5,   3.2510,   3.2510,2,  34.3010,2,  34.3009,2,    209.8,2,    209.2,2,    41.38,2,    32.70,2,     0.01,2,     2.22,2,     0.03,2,    2.540,2,    1.309,2,    0.174,2,    1.043,2,   2217.0,6,   2303.0,2,   -999.0,9,  -999.00,9,-999.0000,9,-999.0000,9,-999.0000,9,   3.2510,2
  49NZ20191229,  I07S,   107,  1,     25,   1225,2,  200110,0606,-45.0011,  57.7873, 4538,    830.5,   3.3194,   3.3191,2,  34.3992,2,  34.3986,2,    189.7,2,    189.6,2,    50.43,2,    33.46,2,     0.01,2,     2.29,2,     0.02,2,    1.733,2,    0.895,2,    0.115,2,    0.682,2,   2229.4,2,   2313.6,2,     38.1,2,  -999.00,9,   0.2610,2,   0.1320,2,   0.0210,2,   3.3191,2
  49NZ20191229,  I07S,   107,  1,     24,   1224,2,  200110,0606,-45.0011,  57.7873, 4538,    929.8,   3.2348,   3.2349,2,  34.4663,2,  34.4664,2,    179.1,2,    179.0,2,    57.43,2,    33.76,2,     0.01,2,     2.31,2,     0.01,2,    1.218,2,    0.640,2,    0.079,2,    0.395,2,   2239.8,2,   2319.9,2,   -999.0,9,  -999.00,9,-999.0000,9,-999.0000,9,-999.0000,9,   3.2349,2
  49NZ20191229,  I07S,   107,  1,     23,   1223,2,  200110,0606,-45.0011,  57.7873, 4538,   1071.2,   2.9272,   2.9270,2,  34.5074,2,  34.5076,2,    175.9,2,    176.0,2,    63.03,2,    34.05,2,     0.01,2,     2.33,2,     0.02,2,    0.951,2,    0.505,2,    0.062,2,     0.32,2,   2243.7,2,   2325.7,2,     38.2,2,  -999.00,9,   0.2760,2,   0.1380,2,   0.0200,2,   2.9270,2
  49NZ20191229,  I07S,   107,  1,     22,   1222,2,  200110,0606,-45.0011,  57.7873, 4538,   1271.3,   2.7315,   2.7314,2,  34.6042,2,  34.6042,2,    174.2,2,    174.5,2,    69.28,2,    33.27,2,     0.00,2,     2.27,2,     0.01,2,    0.503,2,    0.279,2,    0.032,2,     0.17,2,   2250.7,2,   2334.2,6,     41.9,2,  -999.00,9,-999.0000,9,-999.0000,9,-999.0000,9,   2.7314,2
  49NZ20191229,  I07S,   107,  1,     21,   1221,2,  200110,0606,-45.0011,  57.7873, 4538,   1471.3,   2.6209,   2.6209,2,  34.6737,2,  34.6735,2,    180.6,2,    180.8,2,    71.13,2,    31.87,2,     0.01,2,     2.18,2,     0.01,2,    0.290,2,    0.166,2,    0.016,2,    0.067,2,   2247.4,2,   2339.9,2,     39.0,2,  -999.00,9,   0.2840,2,   0.1500,2,   0.0240,2,   2.6209,2
  49NZ20191229,  I07S,   107,  1,     20,   1220,2,  200110,0606,-45.0011,  57.7873, 4538,   1670.0,   2.4738,   2.4736,2,  34.7121,2,  34.7125,2,    185.3,2,    185.6,2,    73.50,2,    31.08,2,     0.00,2,     2.12,2,     0.01,2,    0.222,2,    0.129,2,    0.017,2,     0.07,2,   2248.8,2,   2342.5,2,   -999.0,9,  -999.00,9,-999.0000,9,-999.0000,9,-999.0000,9,   2.4736,2
  49NZ20191229,  I07S,   107,  1,     19,   1219,2,  200110,0606,-45.0011,  57.7873, 4538,   1872.4,   2.3676,   2.3674,2,  34.7423,2,  34.7428,2,    192.5,2,    192.9,2,    74.23,2,    30.14,2,     0.00,2,     2.06,2,     0.01,2,    0.164,2,    0.096,2,    0.011,2,     0.04,2,   2243.9,2,   2343.8,2,     37.5,2,  -999.00,9,   0.2790,2,   0.1420,2,   0.0200,2,   2.3674,2
  49NZ20191229,  I07S,   107,  1,     18,   1218,2,  200110,0606,-45.0011,  57.7873, 4538,   2070.8,   2.2235,   2.2234,2,  34.7560,2,  34.7561,2,    194.8,2,    195.2,2,    77.26,2,    29.95,2,     0.00,2,     2.04,2,     0.02,2,    0.180,2,    0.104,2,    0.011,2,    0.075,2,   2241.2,2,   2343.7,2,   -999.0,9,  -999.00,9,-999.0000,9,-999.0000,9,-999.0000,9,   2.2234,2
  49NZ20191229,  I07S,   107,  1,     17,   1217,2,  200110,0606,-45.0011,  57.7873, 4538,   2270.6,   2.0511,   2.0511,2,  34.7628,2,  34.7630,2,    200.3,2,    200.7,2,    81.00,2,    29.64,2,     0.00,2,     2.01,2,     0.02,2,    0.138,2,    0.079,2,    0.010,2,    0.027,2,   -999.0,9,   2348.2,2,     36.6,2,  -999.00,9,   0.2860,2,   0.1490,2,   0.0230,2,   2.0511,2
  49NZ20191229,  I07S,   107,  1,     16,   1216,2,  200110,0606,-45.0011,  57.7873, 4538,   2470.4,   1.8987,   1.8986,2,  34.7615,2,  34.7613,2,    202.8,2,    203.3,2,    85.20,2,    29.65,2,     0.00,2,     2.03,2,     0.02,2,    0.131,2,    0.074,2,    0.009,2,    0.058,2,   2244.6,6,   2351.1,2,   -999.0,9,  -999.00,9,-999.0000,9,-999.0000,9,-999.0000,9,   1.8986,2
  49NZ20191229,  I07S,   107,  1,     15,   1215,2,  200110,0606,-45.0011,  57.7873, 4538,   2670.0,   1.6865,   1.6865,2,  34.7526,2,  34.7523,2,    204.2,2,    204.6,2,    92.40,2,    30.19,2,     0.00,2,     2.06,2,     0.01,2,    0.142,2,    0.082,2,    0.011,2,    0.037,2,   2251.3,2,   2353.2,2,     38.0,2,  -999.00,9,   0.2780,2,   0.1400,2,   0.0200,2,   1.6865,2
  49NZ20191229,  I07S,   107,  1,     14,   1214,2,  200110,0606,-45.0011,  57.7873, 4538,   2870.0,   1.5245,   1.5245,2,  34.7449,2,  34.7450,2,    205.4,2,    205.8,2,    97.11,2,    30.50,2,     0.00,2,     2.09,2,     0.01,2,    0.166,2,    0.094,2,    0.018,2,    0.063,2,   2253.8,2,   2355.1,2,   -999.0,9,  -999.00,9,-999.0000,9,-999.0000,9,-999.0000,9,   1.5245,2
  49NZ20191229,  I07S,   107,  1,     13,   1213,2,  200110,0606,-45.0011,  57.7873, 4538,   3080.8,   1.3160,   1.3160,2,  34.7334,2,  34.7331,2,    206.7,2,    207.0,2,   103.20,2,    31.03,2,     0.00,2,     2.12,2,     0.02,2,    0.198,2,    0.113,2,    0.018,2,    0.023,2,   2256.8,2,   2358.2,2,     41.1,2,  -999.00,9,   0.2820,2,   0.1470,2,   0.0210,2,   1.3160,2
  49NZ20191229,  I07S,   107,  1,     12,   1212,2,  200110,0606,-45.0011,  57.7873, 4538,   3330.8,   1.0667,   1.0666,2,  34.7187,2,  34.7186,2,    208.6,2,    209.2,2,   111.03,2,    31.59,2,     0.00,2,     2.16,2,     0.02,2,    0.231,2,    0.129,2,    0.017,2,    0.081,2,   2260.4,2,   2360.1,6,   -999.0,9,  -999.00,9,-999.0000,9,-999.0000,9,-999.0000,9,   1.0666,2
  49NZ20191229,  I07S,   107,  1,     11,   1211,2,  200110,0606,-45.0011,  57.7873, 4538,   3581.0,   0.7910,   0.7910,2,  34.7029,2,  34.7028,2,    212.0,2,    212.4,2,   119.98,2,    32.20,2,     0.00,2,     2.21,2,     0.02,2,    0.259,2,    0.144,2,    0.016,2,      0.1,2,   -999.0,9,   2358.7,2,     41.6,2,  -999.00,9,   0.2740,2,   0.1390,2,   0.0230,2,   0.7910,2
  49NZ20191229,  I07S,   107,  1,     10,   1210,2,  200110,0606,-45.0011,  57.7873, 4538,   3829.8,   0.5777,   0.5774,2,  34.6912,2,  34.6909,2,    215.4,2,    215.7,2,   127.80,2,    32.50,2,     0.00,2,     2.23,2,     0.02,2,    0.255,2,    0.144,2,    0.016,2,     0.04,2,   2262.4,2,   2361.9,2,   -999.0,9,  -999.00,9,-999.0000,9,-999.0000,9,-999.0000,9,   0.5774,2
  49NZ20191229,  I07S,   107,  1,      9,   1209,2,  200110,0606,-45.0011,  57.7873, 4538,   4080.7,   0.4837,   0.4837,2,  34.6855,2,  34.6851,2,    217.4,2,    217.8,2,   131.69,2,    32.69,2,     0.00,2,     2.24,2,     0.02,2,    0.271,2,    0.151,2,    0.015,2,    0.085,2,   2266.0,2,   2359.4,2,     41.6,2,  -999.00,9,   0.2710,2,   0.1440,2,   0.0200,2,   0.4837,2
  49NZ20191229,  I07S,   107,  1,      8,  12103,2,  200110,0606,-45.0011,  57.7873, 4538,   4331.6,   0.4408,   0.4406,2,  34.6822,2,  34.6822,2,    218.6,2,    219.0,2,   134.31,2,    32.78,2,     0.00,2,     2.25,2,     0.01,2,    0.288,2,    0.159,2,    0.019,2,    0.076,2,   2263.8,6,   2362.4,2,   -999.0,9,  -999.00,9,-999.0000,9,-999.0000,9,-999.0000,9,   0.4406,2
  49NZ20191229,  I07S,   107,  1,      5,   1205,2,  200110,0606,-45.0011,  57.7873, 4538,     55.1,   7.6642,   7.6641,2,  33.7968,2,-999.0000,9,    296.3,2,   -999.0,9,  -999.00,9,  -999.00,9,  -999.00,9,  -999.00,9,     -999,9, -999.000,9, -999.000,9, -999.000,9,     -999,9,   -999.0,9,   -999.0,9,   -999.0,9,  -999.00,9,-999.0000,9,-999.0000,9,-999.0000,9,   7.6641,2
  49NZ20191229,  I07S,   107,  1,      4,   1204,2,  200110,0606,-45.0011,  57.7873, 4538,      5.5,   8.2440,   8.2441,2,  33.7701,2,-999.0000,9,    300.4,2,   -999.0,9,  -999.00,9,  -999.00,9,  -999.00,9,  -999.00,9,     -999,9, -999.000,9, -999.000,9, -999.000,9,     -999,9,   -999.0,9,   -999.0,9,   -999.0,9,  -999.00,9,-999.0000,9,-999.0000,9,-999.0000,9,   8.2441,2
  49NZ20191229,  I07S,   107,  1,      3,   1203,2,  200110,0606,-45.0011,  57.7873, 4538,     43.0,   8.0095,   8.0093,8,  33.7701,2,-999.0000,9,    301.0,2,   -999.0,9,  -999.00,9,  -999.00,9,  -999.00,9,  -999.00,9,     -999,9, -999.000,9, -999.000,9, -999.000,9,     -999,9,   -999.0,9,   -999.0,9,   -999.0,9,  -999.00,9,-999.0000,9,-999.0000,9,-999.0000,9,   8.0093,8
  49NZ20191229,  I07S,   107,  1,      2,  12046,2,  200110,0606,-45.0011,  57.7873, 4538,     42.8,   8.0126,   8.0129,2,  33.7703,2,  33.7701,2,    301.0,2,    301.2,2,     1.58,2,    17.13,2,     0.14,2,     1.25,2,     0.47,2, -999.000,9, -999.000,9, -999.000,9,     -999,9,   2100.4,2,   2264.2,2,     50.5,2,     0.47,2,   0.2370,2,   0.1200,2,   0.0160,2,   8.0129,2
  49NZ20191229,  I07S,   107,  1,      1,   1201,2,  200110,0606,-45.0011,  57.7873, 4538,   4606.7,   0.3097,   0.3098,2,  34.6743,2,  34.6740,2,    221.9,2,    222.1,2,   139.96,2,    32.88,2,     0.01,2,     2.27,2,     0.02,2,    0.348,2,    0.191,2,    0.017,2,    0.067,2,   2263.3,2,   2361.2,2,     41.0,2,  -999.00,9,   0.2730,2,   0.1430,2,   0.0270,2,   0.3098,2