BOTTLE,20210310PRINUNIVRMK
EXPOCODE,SECT_ID,STNNBR,CASTNO,SAMPNO,BTLNBR,BTLNBR_FLAG_W,DATE,TIME,LATITUDE,LONGITUDE,DEPTH,CTDPRS,CTDTMP,SBE35,SBE35_FLAG_W,CTDSAL,CTDSAL_FLAG_W,SALNTY,SALNTY_FLAG_W,CTDOXY,CTDOXY_FLAG_W,OXYGEN,OXYGEN_FLAG_W,SILCAT,SILCAT_FLAG_W,NITRAT,NITRAT_FLAG_W,NITRIT,NITRIT_FLAG_W,PHSPHT,PHSPHT_FLAG_W,NH4,NH4_FLAG_W,CFC-11,CFC-11_FLAG_W,CFC-12,CFC-12_FLAG_W,CFC113,CFC113_FLAG_W,SF6,SF6_FLAG_W,TCARBN,TCARBN_FLAG_W,ALKALI,ALKALI_FLAG_W,DOC,DOC_FLAG_W,CHLORA,CHLORA_FLAG_W,CDOM300,CDOM300_FLAG_W,CDOM325,CDOM325_FLAG_W,CDOM443,CDOM443_FLAG_W,SBE35,SBE35_FLAG_W
,,,,,,,,,,,METERS,DBAR,ITS-90,,,PSS-78,,PSS-78,,UMOL/KG,,UMOL/KG,,UMOL/KG,,UMOL/KG,,UMOL/KG,,UMOL/KG,,UMOL/KG,,PMOL/KG,,PMOL/KG,,PMOL/KG,,FMOL/KG,,UMOL/KG,,UMOL/KG,,UMOL/KG,,UG/L,,1/M,,1/M,,1/M,,,
  49NZ20191229,  I07S,   116,  1,     36,   1236,2,  200112,1441,-48.5606,  57.9317, 4481,     11.3,   5.9761,   5.9765,2,  33.7368,2,  33.7371,2,    310.3,2,    310.5,2,     3.62,2,    20.55,2,     0.15,2,     1.46,2,     0.45,2,    4.515,2,    2.452,2,    0.400,2,    3.591,2,   2113.0,2,   2272.1,2,   -999.0,9,     0.35,2,-999.0000,9,-999.0000,9,-999.0000,9,   5.9765,2
  49NZ20191229,  I07S,   116,  1,     35,   1235,2,  200112,1441,-48.5606,  57.9317, 4481,     51.1,   5.8337,   5.8338,2,  33.7370,2,  33.7371,2,    310.1,2,    310.4,2,     3.79,2,    20.97,2,     0.15,2,     1.48,2,     0.45,2,    4.525,2,    2.452,2,    0.414,2,    3.695,2,   2114.1,2,   2272.5,2,   -999.0,9,     0.39,2,-999.0000,9,-999.0000,9,-999.0000,9,   5.8338,2
  49NZ20191229,  I07S,   116,  1,     34,   1234,2,  200112,1441,-48.5606,  57.9317, 4481,    100.6,   4.9031,   4.9058,2,  33.7408,2,  33.7412,2,    307.8,2,    308.1,2,     2.96,2,    21.26,2,     0.20,2,     1.56,2,     0.96,2,    4.683,2,    2.533,2,    0.420,2,    3.653,2,   2123.1,2,   2272.9,2,   -999.0,9,     0.28,2,-999.0000,9,-999.0000,9,-999.0000,9,   4.9058,2
  49NZ20191229,  I07S,   116,  1,     33,   1233,2,  200112,1441,-48.5606,  57.9317, 4481,    152.4,   3.8424,   3.8422,2,  33.7860,2,  33.7848,2,    306.4,2,    306.5,2,     9.64,2,    24.67,2,     0.28,2,     1.73,2,      0.4,2,    4.895,2,    2.637,2,    0.436,2,    3.855,2,   2144.8,2,   2271.6,2,   -999.0,9,     0.05,2,-999.0000,9,-999.0000,9,-999.0000,9,   3.8422,2
  49NZ20191229,  I07S,   116,  1,     32,   1232,2,  200112,1441,-48.5606,  57.9317, 4481,    200.3,   3.4543,   3.4500,2,  33.8552,2,  33.8568,2,    299.3,2,    298.9,2,    14.95,2,    26.47,2,     0.01,2,     1.82,2,     0.05,2,    4.849,2,    2.622,2,    0.425,2,    3.607,2,   2155.5,2,   2273.4,2,   -999.0,9,     0.02,2,-999.0000,9,-999.0000,9,-999.0000,9,   3.4500,2
  49NZ20191229,  I07S,   116,  1,     31,   1231,2,  200112,1441,-48.5606,  57.9317, 4481,    250.0,   3.3536,   3.3539,2,  33.9550,2,  33.9544,2,    281.8,2,    281.6,2,    19.22,2,    27.95,2,     0.01,2,     1.90,2,     0.03,2,    4.736,2,    2.538,2,    0.398,2,    3.235,2,   2165.7,2,   2277.8,2,   -999.0,9,     0.01,2,-999.0000,9,-999.0000,9,-999.0000,9,   3.3539,2
  49NZ20191229,  I07S,   116,  1,     30,   1230,2,  200112,1441,-48.5606,  57.9317, 4481,    301.8,   3.0353,   3.0358,2,  34.0313,2,  34.0268,2,    271.7,2,    271.8,2,    23.97,2,    29.12,2,     0.01,2,     1.97,2,     0.02,2,    4.567,2,    2.415,2,    0.373,2,    2.889,2,   2177.4,2,   2280.2,2,   -999.0,9,  -999.00,9,-999.0000,9,-999.0000,9,-999.0000,9,   3.0358,2
  49NZ20191229,  I07S,   116,  1,     29,   1229,2,  200112,1441,-48.5606,  57.9317, 4481,    400.5,   2.7043,   2.7045,2,  34.1308,2,  34.1287,2,    246.7,2,    246.6,2,    33.40,2,    31.40,2,     0.01,2,     2.13,2,     0.03,2,    3.980,2,    2.082,2,    0.304,2,     2.23,2,   2192.6,2,   2288.5,2,   -999.0,9,  -999.00,9,-999.0000,9,-999.0000,9,-999.0000,9,   2.7045,2
  49NZ20191229,  I07S,   116,  1,     28,   1228,2,  200112,1441,-48.5606,  57.9317, 4481,    500.8,   2.6221,   2.6222,2,  34.2511,2,  34.2497,2,    215.5,2,    215.6,2,    44.81,2,    33.29,2,     0.01,2,     2.27,2,     0.03,2,    2.985,2,    1.531,2,    0.226,2,    1.397,2,   2214.8,2,   2299.2,2,   -999.0,9,  -999.00,9,-999.0000,9,-999.0000,9,-999.0000,9,   2.6222,2
  49NZ20191229,  I07S,   116,  1,     27,   1227,2,  200112,1441,-48.5606,  57.9317, 4481,    602.8,   2.6880,   2.6882,2,  34.3670,2,  34.3649,2,    192.0,2,    192.2,2,    54.64,2,    34.29,2,     0.00,2,     2.34,2,     0.03,2,    2.002,2,    1.022,2,    0.145,2,    0.819,2,   2228.4,2,   2312.6,2,   -999.0,9,  -999.00,9,-999.0000,9,-999.0000,9,-999.0000,9,   2.6882,2
  49NZ20191229,  I07S,   116,  1,     26,   1226,2,  200112,1441,-48.5606,  57.9317, 4481,    700.1,   2.6939,   2.6940,2,  34.4368,2,  34.4359,2,    181.2,2,    181.3,2,    60.35,2,    34.53,2,     0.00,2,     2.36,2,     0.06,2,    1.453,2,    0.749,2,    0.098,2,    0.557,2,   2239.0,6,   2318.7,2,   -999.0,9,  -999.00,9,-999.0000,9,-999.0000,9,-999.0000,9,   2.6940,2
  49NZ20191229,  I07S,   116,  1,     25,   1225,2,  200112,1441,-48.5606,  57.9317, 4481,    799.9,   2.6578,   2.6576,2,  34.4901,2,  34.4894,2,    175.4,2,    175.6,2,    64.76,2,    34.43,2,     0.00,2,     2.35,2,     0.05,2,    1.092,2,    0.570,2,    0.077,2,    0.409,2,   2242.0,2,   2323.7,2,   -999.0,9,  -999.00,9,-999.0000,9,-999.0000,9,-999.0000,9,   2.6576,2
  49NZ20191229,  I07S,   116,  1,     24,   1224,2,  200112,1441,-48.5606,  57.9317, 4481,    899.2,   2.6167,   2.6168,2,  34.5447,2,  34.5443,2,    172.2,2,    172.3,2,    68.53,2,    34.19,2,     0.00,2,     2.33,2,     0.04,2,    0.787,2,    0.420,2,    0.055,2,    0.302,2,   2246.6,2,   2328.1,2,   -999.0,9,  -999.00,9,-999.0000,9,-999.0000,9,-999.0000,9,   2.6168,2
  49NZ20191229,  I07S,   116,  1,     23,   1223,2,  200112,1441,-48.5606,  57.9317, 4481,   1001.8,   2.5547,   2.5550,2,  34.6007,2,  34.5989,2,    171.7,2,    172.0,2,    71.52,2,    33.63,2,     0.00,2,     2.29,2,     0.04,2,    0.550,2,    0.300,2,    0.033,2,    0.168,2,   2252.5,2,   2332.9,2,   -999.0,9,  -999.00,9,-999.0000,9,-999.0000,9,-999.0000,9,   2.5550,2
  49NZ20191229,  I07S,   116,  1,     22,   1222,2,  200112,1441,-48.5606,  57.9317, 4481,   1200.3,   2.4787,   2.4786,2,  34.6688,2,  34.6683,2,    176.5,2,    176.9,2,    73.90,2,    32.26,2,     0.00,2,     2.21,2,     0.04,2,    0.340,2,    0.192,2,    0.024,2,    0.075,2,   2253.6,2,   2338.9,6,   -999.0,9,  -999.00,9,-999.0000,9,-999.0000,9,-999.0000,9,   2.4786,2
  49NZ20191229,  I07S,   116,  1,     21,   1221,2,  200112,1441,-48.5606,  57.9317, 4481,   1400.2,   2.3880,   2.3882,2,  34.7157,2,  34.7153,2,    183.6,2,    184.4,2,    74.84,2,    31.10,2,     0.00,2,     2.12,2,     0.04,2,    0.252,2,    0.144,2,    0.018,2,    0.106,2,   2244.1,2,   2342.0,2,   -999.0,9,  -999.00,9,-999.0000,9,-999.0000,9,-999.0000,9,   2.3882,2
  49NZ20191229,  I07S,   116,  1,     20,   1220,2,  200112,1441,-48.5606,  57.9317, 4481,   1601.3,   2.2702,   2.2699,2,  34.7462,2,  34.7457,2,    191.6,2,    192.0,2,    76.02,2,    30.11,2,     0.00,2,     2.05,2,     0.03,2,    0.188,2,    0.108,2,    0.013,2,    0.048,2,   2240.2,2,   2344.2,2,   -999.0,9,  -999.00,9,-999.0000,9,-999.0000,9,-999.0000,9,   2.2699,2
  49NZ20191229,  I07S,   116,  1,     19,   1219,2,  200112,1441,-48.5606,  57.9317, 4481,   1802.0,   2.1311,   2.1312,2,  34.7610,2,  34.7604,2,    196.6,2,    197.1,2,    78.05,2,    29.61,2,     0.00,2,     2.02,2,     0.03,2,    0.178,2,    0.103,2,    0.013,2,    0.061,2,   2235.4,2,   2345.5,2,   -999.0,9,  -999.00,9,-999.0000,9,-999.0000,9,-999.0000,9,   2.1312,2
  49NZ20191229,  I07S,   116,  1,     18,   1218,2,  200112,1441,-48.5606,  57.9317, 4481,   2000.0,   1.9851,   1.9854,2,  34.7644,2,  34.7643,2,    200.4,2,    200.9,2,    81.11,2,    29.50,2,     0.00,2,     2.01,2,     0.02,2,    0.164,2,    0.096,2,    0.011,2,    0.058,2,   2239.7,2,   2347.2,2,   -999.0,9,  -999.00,9,-999.0000,9,-999.0000,9,-999.0000,9,   1.9854,2
  49NZ20191229,  I07S,   116,  1,     17,   1217,2,  200112,1441,-48.5606,  57.9317, 4481,   2200.3,   1.8195,   1.8198,2,  34.7627,2,  34.7627,2,    203.3,2,    204.0,2,    85.19,2,    29.50,2,     0.00,2,     2.01,2,     0.03,2,    0.160,2,    0.093,2,    0.015,2,    0.067,2,   2243.1,2,   2351.3,2,   -999.0,9,  -999.00,9,-999.0000,9,-999.0000,9,-999.0000,9,   1.8198,2
  49NZ20191229,  I07S,   116,  1,     16,   1216,2,  200112,1441,-48.5606,  57.9317, 4481,   2403.1,   1.6088,   1.6094,2,  34.7530,2,  34.7527,2,    204.6,2,    205.2,2,    91.79,2,    29.86,2,     0.00,2,     2.04,2,     0.05,2,    0.172,2,    0.100,2,    0.012,2,    0.073,2,   2247.4,6,   2354.9,2,   -999.0,9,  -999.00,9,-999.0000,9,-999.0000,9,-999.0000,9,   1.6094,2
  49NZ20191229,  I07S,   116,  1,     15,   1215,2,  200112,1441,-48.5606,  57.9317, 4481,   2602.6,   1.4321,   1.4321,2,  34.7426,2,  34.7426,2,    205.6,2,    206.1,2,    97.38,2,    30.36,2,     0.00,2,     2.08,2,     0.04,2,    0.187,2,    0.108,2,    0.012,2,    0.076,2,   -999.0,9,   2356.4,2,   -999.0,9,  -999.00,9,-999.0000,9,-999.0000,9,-999.0000,9,   1.4321,2
  49NZ20191229,  I07S,   116,  1,     14,   1214,2,  200112,1441,-48.5606,  57.9317, 4481,   2800.7,   1.2349,   1.2341,2,  34.7312,2,  34.7313,2,    206.7,2,    207.2,2,   103.01,2,    30.85,2,     0.00,2,     2.11,2,     0.03,2,    0.223,2,    0.128,2,    0.015,2,    0.067,2,   2249.4,2,   2357.0,2,   -999.0,9,  -999.00,9,-999.0000,9,-999.0000,9,-999.0000,9,   1.2341,2
  49NZ20191229,  I07S,   116,  1,     13,   1213,2,  200112,1441,-48.5606,  57.9317, 4481,   3001.5,   1.0597,   1.0605,2,  34.7202,2,  34.7202,2,    208.0,2,    208.5,2,   109.12,2,    31.33,2,     0.00,2,     2.15,2,     0.02,2, -999.000,9, -999.000,9, -999.000,9,     -999,9,   2254.2,2,   2357.3,2,   -999.0,9,  -999.00,9,-999.0000,9,-999.0000,9,-999.0000,9,   1.0605,2
  49NZ20191229,  I07S,   116,  1,     11,   1211,2,  200112,1441,-48.5606,  57.9317, 4481,   3499.6,   0.6508,   0.6511,2,  34.6962,2,  34.6951,2,    212.9,2,    213.5,2,   123.42,2,    32.24,2,     0.01,2,     2.21,2,     0.03,2,    0.273,2,    0.150,2,    0.014,2,    0.035,2,   2260.4,2,   2360.4,2,   -999.0,9,  -999.00,9,-999.0000,9,-999.0000,9,-999.0000,9,   0.6511,2
  49NZ20191229,  I07S,   116,  1,     10,   1210,2,  200112,1441,-48.5606,  57.9317, 4481,   3752.2,   0.5018,   0.5020,2,  34.6879,2,  34.6877,2,    215.8,2,    216.3,2,   128.92,2,    32.47,2,     0.01,2,     2.24,2,     0.03,2,    0.275,2,    0.153,2,    0.014,2,    0.023,2,   2260.2,2,   2362.7,2,   -999.0,9,  -999.00,9,-999.0000,9,-999.0000,9,-999.0000,9,   0.5020,2
  49NZ20191229,  I07S,   116,  1,      9,   1209,2,  200112,1441,-48.5606,  57.9317, 4481,   4003.6,   0.3880,   0.3880,2,  34.6811,2,  34.6806,2,    218.5,2,    219.0,2,   132.91,2,    32.56,2,     0.00,2,     2.24,2,     0.02,2,    0.319,2,    0.175,2,    0.023,2,     0.07,2,   2259.1,2,   2359.4,2,   -999.0,9,  -999.00,9,-999.0000,9,-999.0000,9,-999.0000,9,   0.3880,2
  49NZ20191229,  I07S,   116,  1,      8,  12103,2,  200112,1441,-48.5606,  57.9317, 4481,   4252.7,   0.2269,   0.2271,2,  34.6728,2,  34.6715,2,    222.6,2,    223.2,2,   139.68,2,    32.79,2,     0.00,2,     2.26,2,     0.03,2,    0.335,2,    0.185,2,    0.017,2,    0.076,2,   2260.7,6,   2360.6,2,   -999.0,9,  -999.00,9,-999.0000,9,-999.0000,9,-999.0000,9,   0.2271,2
  49NZ20191229,  I07S,   116,  1,      2,  12046,2,  200112,1441,-48.5606,  57.9317, 4481,     25.6,   5.9293,   5.9337,2,  33.7367,2,  33.7370,2,    310.4,2,    310.5,2,     3.67,2,    20.53,2,     0.15,2,     1.46,2,     0.44,2, -999.000,9, -999.000,9, -999.000,9,     -999,9,   2118.5,2,   2271.0,2,   -999.0,9,     0.36,2,-999.0000,9,-999.0000,9,-999.0000,9,   5.9337,2
  49NZ20191229,  I07S,   116,  1,      1,   1201,2,  200112,1441,-48.5606,  57.9317, 4481,   4544.9,   0.0984,   0.0987,2,  34.6658,2,  34.6653,2,    226.4,2,    226.8,2,   147.89,2,    32.87,2,     0.00,2,     2.27,2,     0.03,2,    0.364,2,    0.196,2,    0.023,2,    0.039,2,   2260.6,2,   2361.7,2,   -999.0,9,  -999.00,9,-999.0000,9,-999.0000,9,-999.0000,9,   0.0987,2