BOTTLE,20210310PRINUNIVRMK
EXPOCODE,SECT_ID,STNNBR,CASTNO,SAMPNO,BTLNBR,BTLNBR_FLAG_W,DATE,TIME,LATITUDE,LONGITUDE,DEPTH,CTDPRS,CTDTMP,SBE35,SBE35_FLAG_W,CTDSAL,CTDSAL_FLAG_W,SALNTY,SALNTY_FLAG_W,CTDOXY,CTDOXY_FLAG_W,OXYGEN,OXYGEN_FLAG_W,SILCAT,SILCAT_FLAG_W,NITRAT,NITRAT_FLAG_W,NITRIT,NITRIT_FLAG_W,PHSPHT,PHSPHT_FLAG_W,NH4,NH4_FLAG_W,CFC-11,CFC-11_FLAG_W,CFC-12,CFC-12_FLAG_W,CFC113,CFC113_FLAG_W,SF6,SF6_FLAG_W,TCARBN,TCARBN_FLAG_W,ALKALI,ALKALI_FLAG_W,DOC,DOC_FLAG_W,CHLORA,CHLORA_FLAG_W,CDOM300,CDOM300_FLAG_W,CDOM325,CDOM325_FLAG_W,CDOM443,CDOM443_FLAG_W,SBE35,SBE35_FLAG_W
,,,,,,,,,,,METERS,DBAR,ITS-90,,,PSS-78,,PSS-78,,UMOL/KG,,UMOL/KG,,UMOL/KG,,UMOL/KG,,UMOL/KG,,UMOL/KG,,UMOL/KG,,PMOL/KG,,PMOL/KG,,PMOL/KG,,FMOL/KG,,UMOL/KG,,UMOL/KG,,UMOL/KG,,UG/L,,1/M,,1/M,,1/M,,,
  49NZ20191229,  I07S,   140,  1,     36,   1236,2,  200119,0254,-60.1206,  54.6865, 5147,      9.9,   0.7226,   0.7226,2,  33.6696,2,  33.6698,2,    342.9,2,    343.8,2,    31.12,2,    25.16,2,     0.28,2,     1.71,2,     0.41,2,    5.972,2,    3.135,2,    0.556,2,    4.417,2,   2158.8,2,   2282.6,2,   -999.0,9,     0.19,2,-999.0000,9,-999.0000,9,-999.0000,9,   0.7226,2
  49NZ20191229,  I07S,   140,  1,     35,   1235,2,  200119,0254,-60.1206,  54.6865, 5147,     49.2,   0.6999,   0.6984,2,  33.6790,2,  33.6783,2,    343.1,2,    343.6,2,    31.10,2,    25.29,2,     0.28,2,     1.72,2,      0.4,2,    6.046,2,    3.180,2,    0.548,2,    4.352,2,   2161.2,2,   2283.2,2,   -999.0,9,     0.21,2,-999.0000,9,-999.0000,9,-999.0000,9,   0.6984,2
  49NZ20191229,  I07S,   140,  1,     34,   1234,2,  200119,0254,-60.1206,  54.6865, 5147,     99.9,  -1.1867,  -1.1857,2,  33.9558,2,  33.9596,2,    338.2,2,    337.9,2,    42.52,2,    28.14,2,     0.36,2,     1.96,2,     0.31,2,    5.894,2,    3.127,2,    0.543,2,    4.275,2,   2188.9,2,   2299.6,2,   -999.0,9,     0.14,2,-999.0000,9,-999.0000,9,-999.0000,9,  -1.1857,2
  49NZ20191229,  I07S,   140,  1,     33,   1233,2,  200119,0254,-60.1206,  54.6865, 5147,    150.0,   0.8639,   0.8578,2,  34.2904,2,  34.2871,2,    237.4,2,    238.3,2,    64.05,2,    33.67,2,     0.02,2,     2.29,2,     0.05,2,    3.330,2,    1.748,2,    0.280,2,    2.168,2,   2235.6,2,   2316.6,2,   -999.0,9,     0.07,2,-999.0000,9,-999.0000,9,-999.0000,9,   0.8578,2
  49NZ20191229,  I07S,   140,  1,     32,   1232,2,  200119,0254,-60.1206,  54.6865, 5147,    201.2,   1.7775,   1.7773,2,  34.4775,2,  34.4792,2,    184.0,2,    183.4,2,    75.52,2,    35.50,2,     0.01,2,     2.42,2,     0.04,2,    1.648,2,    0.874,2,    0.134,2,    0.923,2,   2257.6,2,   2330.0,2,   -999.0,9,     0.01,2,-999.0000,9,-999.0000,9,-999.0000,9,   1.7773,2
  49NZ20191229,  I07S,   140,  1,     31,   1231,2,  200119,0254,-60.1206,  54.6865, 5147,    250.8,   1.9513,   1.9511,2,  34.5467,2,  34.5457,2,    173.0,2,    172.9,2,    79.23,2,    35.30,2,     0.01,2,     2.40,2,     0.03,2,    1.144,2,    0.625,2,    0.098,2,    0.594,2,   2260.5,2,   2334.2,2,   -999.0,9,     0.01,2,-999.0000,9,-999.0000,9,-999.0000,9,   1.9511,2
  49NZ20191229,  I07S,   140,  1,     30,   1230,2,  200119,0254,-60.1206,  54.6865, 5147,    331.0,   2.0270,   2.0267,2,  34.6067,2,  34.6061,2,    169.5,2,    169.4,2,    82.03,2,    34.67,2,     0.01,2,     2.36,2,     0.03,2,    0.771,2,    0.424,2,    0.062,2,    0.369,2,   2261.1,2,   2340.3,2,   -999.0,9,  -999.00,9,-999.0000,9,-999.0000,9,-999.0000,9,   2.0267,2
  49NZ20191229,  I07S,   140,  1,     29,   1229,2,  200119,0254,-60.1206,  54.6865, 5147,    432.2,   2.0251,   2.0248,2,  34.6604,2,  34.6597,2,    171.9,2,    171.8,2,    84.48,2,    33.71,2,     0.01,2,     2.29,2,     0.03,2,    0.525,2,    0.299,2,    0.043,2,    0.248,2,   2260.5,2,   2345.2,2,   -999.0,9,  -999.00,9,-999.0000,9,-999.0000,9,-999.0000,9,   2.0248,2
  49NZ20191229,  I07S,   140,  1,     28,   1228,2,  200119,0254,-60.1206,  54.6865, 5147,    529.7,   1.9775,   1.9772,2,  34.6916,2,  34.6913,2,    176.9,2,    176.9,2,    85.98,2,    32.83,2,     0.00,2,     2.23,2,     0.04,2,    0.415,2,    0.240,2,    0.037,2,    0.199,2,   2256.1,2,   2347.5,2,   -999.0,9,  -999.00,9,-999.0000,9,-999.0000,9,-999.0000,9,   1.9772,2
  49NZ20191229,  I07S,   140,  1,     27,   1227,2,  200119,0254,-60.1206,  54.6865, 5147,    628.9,   1.9147,   1.9146,2,  34.7127,2,  34.7121,2,    182.6,2,    182.4,2,    86.82,2,    32.06,2,     0.01,2,     2.18,2,     0.03,2,    0.349,2,    0.205,2,    0.030,2,    0.184,2,   2255.6,2,   2348.1,2,   -999.0,9,  -999.00,9,-999.0000,9,-999.0000,9,-999.0000,9,   1.9146,2
  49NZ20191229,  I07S,   140,  1,     26,   1226,2,  200119,0254,-60.1206,  54.6865, 5147,    729.3,   1.8697,   1.8695,2,  34.7278,2,  34.7274,2,    187.5,2,    187.5,2,    86.69,2,    31.44,2,     0.00,2,     2.14,2,     0.04,2,    0.302,2,    0.178,2,    0.027,2,    0.121,2,   2253.1,6,   2349.4,2,   -999.0,9,  -999.00,9,-999.0000,9,-999.0000,9,-999.0000,9,   1.8695,2
  49NZ20191229,  I07S,   140,  1,     25,   1225,2,  200119,0254,-60.1206,  54.6865, 5147,    830.0,   1.7876,   1.7874,2,  34.7354,2,  34.7353,2,    191.4,2,    191.3,2,    87.87,2,    31.03,2,     0.01,2,     2.11,2,     0.04,2,    0.280,2,    0.164,2,    0.026,2,    0.134,2,   2251.6,2,   2350.9,2,   -999.0,9,  -999.00,9,-999.0000,9,-999.0000,9,-999.0000,9,   1.7874,2
  49NZ20191229,  I07S,   140,  1,     24,   1224,2,  200119,0254,-60.1206,  54.6865, 5147,    931.0,   1.7300,   1.7297,2,  34.7414,2,  34.7417,2,    194.9,2,    194.8,2,    88.60,2,    30.68,2,     0.01,2,     2.09,2,     0.04,2,    0.258,2,    0.152,2,    0.020,2,    0.104,2,   2250.8,2,   2351.6,2,   -999.0,9,  -999.00,9,-999.0000,9,-999.0000,9,-999.0000,9,   1.7297,2
  49NZ20191229,  I07S,   140,  1,     23,   1223,2,  200119,0254,-60.1206,  54.6865, 5147,   1071.1,   1.5667,   1.5665,2,  34.7411,2,  34.7413,2,    198.4,2,    198.3,2,    92.30,2,    30.64,2,     0.00,2,     2.09,2,     0.05,2,    0.265,2,    0.155,2,    0.021,2,    0.118,2,   2251.1,2,   2355.3,2,   -999.0,9,  -999.00,9,-999.0000,9,-999.0000,9,-999.0000,9,   1.5665,2
  49NZ20191229,  I07S,   140,  1,     22,   1222,2,  200119,0254,-60.1206,  54.6865, 5147,   1271.3,   1.3328,   1.3327,2,  34.7313,2,  34.7316,2,    200.7,2,    200.6,2,    98.37,2,    31.04,2,     0.00,2,     2.12,2,     0.04,2,    0.294,2,    0.172,2,    0.026,2,    0.115,2,   2254.1,2,   2355.8,6,   -999.0,9,  -999.00,9,-999.0000,9,-999.0000,9,-999.0000,9,   1.3327,2
  49NZ20191229,  I07S,   140,  1,     21,   1221,2,  200119,0254,-60.1206,  54.6865, 5147,   1469.9,   1.1412,   1.1416,2,  34.7235,2,  34.7240,2,    203.0,2,    202.9,2,   103.64,2,    31.37,2,     0.00,2,     2.14,2,     0.04,2,    0.314,2,    0.180,2,    0.024,2,    0.149,2,   2254.9,2,   2357.2,2,   -999.0,9,  -999.00,9,-999.0000,9,-999.0000,9,-999.0000,9,   1.1416,2
  49NZ20191229,  I07S,   140,  1,     20,   1220,2,  200119,0254,-60.1206,  54.6865, 5147,   1671.4,   0.9747,   0.9744,2,  34.7157,2,  34.7157,2,    205.3,2,    205.2,2,   108.33,2,    31.69,2,     0.00,2,     2.17,2,     0.04,2,    0.326,2,    0.188,2,    0.021,2,    0.115,2,   2255.8,2,   2357.8,2,   -999.0,9,  -999.00,9,-999.0000,9,-999.0000,9,-999.0000,9,   0.9744,2
  49NZ20191229,  I07S,   140,  1,     19,   1219,2,  200119,0254,-60.1206,  54.6865, 5147,   1871.0,   0.8009,   0.8008,2,  34.7040,2,  34.7045,2,    205.4,2,    205.3,2,   113.40,2,    32.25,2,     0.00,2,     2.20,2,     0.05,2,    0.379,2,    0.213,2,    0.029,2,    0.125,2,   2266.3,2,   2359.0,2,   -999.0,9,  -999.00,9,-999.0000,9,-999.0000,9,-999.0000,9,   0.8008,2
  49NZ20191229,  I07S,   140,  1,     18,   1218,2,  200119,0254,-60.1206,  54.6865, 5147,   2071.6,   0.6804,   0.6778,2,  34.6980,2,  34.6975,2,    206.9,2,    206.8,2,   117.60,2,    32.57,2,     0.00,2,     2.22,2,     0.04,2,    0.390,2,    0.217,2,    0.032,2,    0.123,2,   2260.4,2,   2359.7,2,   -999.0,9,  -999.00,9,-999.0000,9,-999.0000,9,-999.0000,9,   0.6778,2
  49NZ20191229,  I07S,   140,  1,     17,   1217,2,  200119,0254,-60.1206,  54.6865, 5147,   2270.8,   0.5760,   0.5762,2,  34.6921,2,  34.6920,2,    207.8,2,    207.6,2,   120.86,2,    32.78,2,     0.00,2,     2.24,2,     0.03,2,    0.401,2,    0.222,2,    0.028,2,     0.14,2,   2265.4,2,   2360.4,2,   -999.0,9,  -999.00,9,-999.0000,9,-999.0000,9,-999.0000,9,   0.5762,2
  49NZ20191229,  I07S,   140,  1,     16,   1216,2,  200119,0254,-60.1206,  54.6865, 5147,   2470.2,   0.4701,   0.4700,2,  34.6864,2,  34.6862,2,    209.5,2,    209.3,2,   124.25,2,    32.97,2,     0.00,2,     2.26,2,     0.03,2,    0.411,2,    0.222,2,    0.027,2,    0.116,2,   2264.4,6,   2360.7,2,   -999.0,9,  -999.00,9,-999.0000,9,-999.0000,9,-999.0000,9,   0.4700,2
  49NZ20191229,  I07S,   140,  1,     15,  12102,3,  200119,0254,-60.1206,  54.6865, 5147,   2669.4,   0.3887,   0.3887,2,  34.6825,2,  34.6823,2,    211.9,2,    211.9,2,   126.27,2,    33.03,2,     0.00,2,     2.26,2,     0.03,2,    0.409,2,    0.223,2,    0.025,2,    0.136,2,   2262.9,2,   2360.3,2,   -999.0,9,  -999.00,9,-999.0000,9,-999.0000,9,-999.0000,9,   0.3887,2
  49NZ20191229,  I07S,   140,  1,     14,   1214,2,  200119,0254,-60.1206,  54.6865, 5147,   2870.6,   0.3047,   0.3048,2,  34.6788,2,  34.6785,2,    215.0,2,    214.7,2,   127.64,2,    32.87,2,     0.00,2,     2.26,2,     0.04,2,    0.415,2,    0.226,2,    0.030,2,    0.111,2,   2261.6,2,   2360.3,2,   -999.0,9,  -999.00,9,-999.0000,9,-999.0000,9,-999.0000,9,   0.3048,2
  49NZ20191229,  I07S,   140,  1,     13,  12105,2,  200119,0254,-60.1206,  54.6865, 5147,   3080.9,   0.2243,   0.2244,2,  34.6743,2,  34.6739,2,    217.5,2,    217.2,2,   128.67,2,    32.89,2,     0.00,2,     2.27,2,     0.04,2,    0.448,2,    0.241,2,    0.029,2,    0.132,2,   2265.9,2,   2359.0,2,   -999.0,9,  -999.00,9,-999.0000,9,-999.0000,9,-999.0000,9,   0.2244,2
  49NZ20191229,  I07S,   140,  1,     12,   1211,2,  200119,0254,-60.1206,  54.6865, 5147,   3330.7,   0.1324,   0.1325,2,  34.6700,2,  34.6699,2,    221.7,2,    221.3,2,   129.76,2,    32.88,2,     0.00,2,     2.26,2,     0.05,2,    0.463,2,    0.249,2,    0.032,2,    0.104,2,   2258.8,2,   2357.8,6,   -999.0,9,  -999.00,9,-999.0000,9,-999.0000,9,-999.0000,9,   0.1325,2
  49NZ20191229,  I07S,   140,  1,     11,  12106,2,  200119,0254,-60.1206,  54.6865, 5147,   3581.2,   0.0627,   0.0626,2,  34.6671,2,  34.6669,2,    225.3,2,    225.1,2,   131.82,2,    32.91,2,     0.00,2,     2.26,2,     0.04,2,    0.452,2,    0.242,2,    0.026,2,    0.089,2,   2259.7,2,   2357.7,2,   -999.0,9,  -999.00,9,-999.0000,9,-999.0000,9,-999.0000,9,   0.0626,2
  49NZ20191229,  I07S,   140,  1,     10,   1210,2,  200119,0254,-60.1206,  54.6865, 5147,   3830.2,  -0.0036,  -0.0036,2,  34.6636,2,  34.6633,2,    228.6,2,    228.4,2,   131.71,2,    32.89,2,     0.00,2,     2.26,2,     0.04,2,    0.493,2,    0.260,2,    0.030,2,    0.079,2,   2261.1,2,   2357.0,2,   -999.0,9,  -999.00,9,-999.0000,9,-999.0000,9,-999.0000,9,  -0.0036,2
  49NZ20191229,  I07S,   140,  1,      9,  12101,2,  200119,0254,-60.1206,  54.6865, 5147,   4082.4,  -0.0537,  -0.0538,2,  34.6609,2,  34.6610,2,    231.6,2,    231.3,2,   131.86,2,    32.83,2,     0.00,2,     2.25,2,     0.04,2,    0.523,2,    0.278,2,    0.035,2,      0.1,2,   2266.3,2,   2356.7,2,   -999.0,9,  -999.00,9,-999.0000,9,-999.0000,9,-999.0000,9,  -0.0538,2
  49NZ20191229,  I07S,   140,  1,      8,  12103,2,  200119,0254,-60.1206,  54.6865, 5147,   4331.1,  -0.1004,  -0.1005,2,  34.6585,2,  34.6591,2,    234.3,2,    234.1,2,   133.58,2,    32.78,2,     0.00,2,     2.25,2,     0.04,2,    0.525,2,    0.280,2,    0.032,2,    0.112,2,   2256.6,6,   2356.4,2,   -999.0,9,  -999.00,9,-999.0000,9,-999.0000,9,-999.0000,9,  -0.1005,2
  49NZ20191229,  I07S,   140,  1,      7,   1207,2,  200119,0254,-60.1206,  54.6865, 5147,   4582.3,  -0.1403,  -0.1403,2,  34.6563,2,  34.6560,2,    236.8,2,    236.7,2,   134.61,2,    32.76,2,     0.00,2,     2.25,2,     0.03,2,    0.557,2,    0.295,2,    0.039,2,    0.143,2,   2250.9,2,   2356.4,2,   -999.0,9,  -999.00,9,-999.0000,9,-999.0000,9,-999.0000,9,  -0.1403,2
  49NZ20191229,  I07S,   140,  1,      6,   1206,2,  200119,0254,-60.1206,  54.6865, 5147,   4829.6,  -0.1656,  -0.1655,2,  34.6546,2,  34.6545,2,    238.6,2,    238.6,2,   135.48,2,    32.76,2,     0.00,2,     2.25,2,     0.04,2,    0.586,2,    0.310,2,    0.038,2,    0.153,2,   2260.2,2,   2356.5,6,   -999.0,9,  -999.00,9,-999.0000,9,-999.0000,9,-999.0000,9,  -0.1655,2
  49NZ20191229,  I07S,   140,  1,      5,   1205,2,  200119,0254,-60.1206,  54.6865, 5147,   5080.6,  -0.1793,  -0.1794,2,  34.6528,2,  34.6535,2,    239.8,2,    239.8,2,   139.64,2,    32.78,2,     0.00,2,     2.24,2,     0.03,2,    0.603,2,    0.319,2,    0.035,2,     0.13,2,   2254.7,2,   2355.6,2,   -999.0,9,  -999.00,9,-999.0000,9,-999.0000,9,-999.0000,9,  -0.1794,2
  49NZ20191229,  I07S,   140,  1,      2,  12046,2,  200119,0254,-60.1206,  54.6865, 5147,     55.5,   0.1983,   0.1223,2,  33.7216,2,  33.7176,2,    346.1,2,    346.1,2,    33.08,2,    25.67,2,     0.28,2,     1.77,2,     0.51,2, -999.000,9, -999.000,9, -999.000,9,     -999,9,   2165.7,2,   2285.5,2,   -999.0,9,     0.20,2,-999.0000,9,-999.0000,9,-999.0000,9,   0.1223,2
  49NZ20191229,  I07S,   140,  1,      1,   1201,2,  200119,0254,-60.1206,  54.6865, 5147,   5239.3,  -0.1907,  -0.1907,2,  34.6515,2,  34.6519,2,    240.0,2,    240.0,2,   147.03,2,    32.85,2,     0.00,2,     2.25,2,     0.05,2,    0.652,2,    0.342,2,    0.038,2,     0.17,2,   2254.6,2,   2355.7,2,   -999.0,9,  -999.00,9,-999.0000,9,-999.0000,9,-999.0000,9,  -0.1907,2