BOTTLE,20210310PRINUNIVRMK
EXPOCODE,SECT_ID,STNNBR,CASTNO,SAMPNO,BTLNBR,BTLNBR_FLAG_W,DATE,TIME,LATITUDE,LONGITUDE,DEPTH,CTDPRS,CTDTMP,SBE35,SBE35_FLAG_W,CTDSAL,CTDSAL_FLAG_W,SALNTY,SALNTY_FLAG_W,CTDOXY,CTDOXY_FLAG_W,OXYGEN,OXYGEN_FLAG_W,SILCAT,SILCAT_FLAG_W,NITRAT,NITRAT_FLAG_W,NITRIT,NITRIT_FLAG_W,PHSPHT,PHSPHT_FLAG_W,NH4,NH4_FLAG_W,CFC-11,CFC-11_FLAG_W,CFC-12,CFC-12_FLAG_W,CFC113,CFC113_FLAG_W,SF6,SF6_FLAG_W,TCARBN,TCARBN_FLAG_W,ALKALI,ALKALI_FLAG_W,DOC,DOC_FLAG_W,CHLORA,CHLORA_FLAG_W,CDOM300,CDOM300_FLAG_W,CDOM325,CDOM325_FLAG_W,CDOM443,CDOM443_FLAG_W,SBE35,SBE35_FLAG_W
,,,,,,,,,,,METERS,DBAR,ITS-90,,,PSS-78,,PSS-78,,UMOL/KG,,UMOL/KG,,UMOL/KG,,UMOL/KG,,UMOL/KG,,UMOL/KG,,UMOL/KG,,PMOL/KG,,PMOL/KG,,PMOL/KG,,FMOL/KG,,UMOL/KG,,UMOL/KG,,UMOL/KG,,UG/L,,1/M,,1/M,,1/M,,,
  49NZ20191229,  I07S,   134,  1,     36,   1236,2,  200117,1407,-57.2165,  55.5509, 5092,      9.1,   2.0492,   2.0497,2,  33.8682,2,  33.8675,2,    334.5,2,    334.9,2,    35.01,2,    26.05,2,     0.28,2,     1.74,2,     0.24,2,    5.387,2,    2.904,2,    0.513,2,     4.16,2,   2160.8,2,   2291.9,2,     27.8,4,     0.35,2,   0.2130,2,   0.1190,2,   0.0180,2,   2.0497,2
  49NZ20191229,  I07S,   134,  1,     35,   1235,2,  200117,1407,-57.2165,  55.5509, 5092,     50.3,   2.0281,   2.0282,2,  33.8864,2,  33.8850,2,    334.8,2,    335.0,2,    35.57,2,    26.26,2,     0.28,2,     1.75,2,     0.23,2,    5.347,2,    2.883,2,    0.522,2,    4.171,2,   2163.4,2,   2294.6,2,     36.3,2,     0.36,2,   0.2240,2,   0.1120,2,   0.0180,2,   2.0282,2
  49NZ20191229,  I07S,   134,  1,     34,   1234,2,  200117,1407,-57.2165,  55.5509, 5092,    100.6,   0.5397,   0.5396,2,  34.0017,2,  33.9880,2,    338.6,2,    338.2,2,    42.95,2,    28.03,2,     0.26,2,     1.95,2,     0.51,2,    5.422,2,    2.969,2,    0.538,2,    4.282,2,   2177.5,2,   2294.5,2,     45.5,2,     0.25,2,   0.2420,2,   0.1300,2,   0.0240,2,   0.5396,2
  49NZ20191229,  I07S,   134,  1,     33,   1233,2,  200117,1407,-57.2165,  55.5509, 5092,    151.7,   0.1918,   0.1962,2,  34.0246,2,  34.0236,2,    336.1,2,    335.7,2,    46.92,2,    28.78,2,     0.30,2,     2.00,2,     0.51,2,    5.512,2,    3.001,2,    0.539,2,    4.279,2,   2189.1,2,   2299.1,2,     41.6,2,     0.08,2,   0.2210,2,   0.1160,2,   0.0170,2,   0.1962,2
  49NZ20191229,  I07S,   134,  1,     32,   1232,2,  200117,1407,-57.2165,  55.5509, 5092,    200.8,   1.2965,   1.2948,2,  34.2929,2,  34.2891,2,    237.3,2,    238.3,2,    62.26,2,    33.62,2,     0.01,2,     2.29,2,     0.04,2,    3.237,2,    1.720,2,    0.285,2,    2.096,2,   2236.5,2,   2310.8,2,     41.7,2,     0.01,2,   0.2770,2,   0.1410,2,   0.0230,2,   1.2948,2
  49NZ20191229,  I07S,   134,  1,     31,   1231,2,  200117,1407,-57.2165,  55.5509, 5092,    252.8,   1.7992,   1.7995,2,  34.4447,2,  34.4443,2,    195.2,2,    194.7,2,    72.22,2,    35.06,2,     0.01,2,     2.39,2,     0.04,2,    1.942,2,    1.041,2,    0.167,2,    1.099,2,   2245.8,2,   2325.1,2,   -999.0,9,     0.01,2,-999.0000,9,-999.0000,9,-999.0000,9,   1.7995,2
  49NZ20191229,  I07S,   134,  1,     30,   1230,2,  200117,1407,-57.2165,  55.5509, 5092,    331.3,   2.0435,   2.0435,2,  34.5559,2,  34.5547,2,    175.5,2,    175.2,2,    78.17,2,    34.94,2,     0.01,2,     2.38,2,     0.04,2,    0.000,4,    0.059,4,    0.000,4,    0.001,4,   2257.5,2,   2331.9,2,     46.5,2,  -999.00,9,   0.2970,2,   0.1680,2,   0.0350,2,   2.0435,2
  49NZ20191229,  I07S,   134,  1,     29,   1229,2,  200117,1407,-57.2165,  55.5509, 5092,    432.8,   2.1183,   2.1182,2,  34.6258,2,  34.6241,2,    171.7,2,    171.7,2,    81.12,2,    34.20,2,     0.01,2,     2.33,2,     0.03,2,    0.625,2,    0.373,2,    0.057,2,     0.28,2,   2257.9,2,   2334.7,2,     44.8,2,  -999.00,9,   0.2970,2,   0.1630,2,   0.0300,2,   2.1182,2
  49NZ20191229,  I07S,   134,  1,     28,   1228,2,  200117,1407,-57.2165,  55.5509, 5092,    532.7,   2.1129,   2.1132,2,  34.6609,2,  34.6606,2,    174.0,2,    173.9,2,    82.46,2,    33.42,2,     0.01,2,     2.28,2,     0.03,2,    0.475,2,    0.289,2,    0.038,2,    0.167,2,   2261.0,2,   2341.3,2,     41.2,2,  -999.00,9,   0.2890,2,   0.1730,2,   0.0310,2,   2.1132,2
  49NZ20191229,  I07S,   134,  1,     27,   1227,2,  200117,1407,-57.2165,  55.5509, 5092,    632.0,   2.0237,   2.0237,2,  34.6879,2,  34.6871,2,    177.5,2,    177.5,2,    84.48,2,    32.89,2,     0.01,2,     2.24,2,     0.04,2,    0.392,2,    0.246,2,    0.036,2,    0.173,2,   2255.3,2,   2340.6,2,     43.7,2,  -999.00,9,   0.2870,2,   0.1680,2,   0.0340,2,   2.0237,2
  49NZ20191229,  I07S,   134,  1,     26,   1226,2,  200117,1407,-57.2165,  55.5509, 5092,    732.7,   1.9907,   1.9907,2,  34.7105,2,  34.7102,2,    182.3,2,    182.2,2,    84.78,2,    31.99,2,     0.01,2,     2.18,2,     0.03,2,    0.308,2,    0.203,2,    0.027,2,    0.148,2,   2252.6,6,   2342.9,2,   -999.0,9,  -999.00,9,-999.0000,9,-999.0000,9,-999.0000,9,   1.9907,2
  49NZ20191229,  I07S,   134,  1,     25,   1225,2,  200117,1407,-57.2165,  55.5509, 5092,    830.5,   1.9235,   1.9246,2,  34.7217,2,  34.7208,2,    185.7,2,    185.7,2,    86.02,2,    31.73,2,     0.01,2,     2.16,2,     0.04,2,    0.299,2,    0.187,2,    0.026,2,     0.12,2,   2254.8,2,   2344.3,2,     43.2,2,  -999.00,9,   0.2750,2,   0.1590,2,   0.0260,2,   1.9246,2
  49NZ20191229,  I07S,   134,  1,     24,   1224,2,  200117,1407,-57.2165,  55.5509, 5092,    931.1,   1.8534,   1.8536,2,  34.7313,2,  34.7312,2,    189.7,2,    189.7,2,    87.27,2,    31.33,2,     0.01,2,     2.13,2,     0.04,2,    0.273,2,    0.174,2,    0.022,2,    0.129,2,   2253.1,2,   2346.1,2,   -999.0,9,  -999.00,9,-999.0000,9,-999.0000,9,-999.0000,9,   1.8536,2
  49NZ20191229,  I07S,   134,  1,     23,   1223,2,  200117,1407,-57.2165,  55.5509, 5092,   1072.1,   1.7590,   1.7592,2,  34.7399,2,  34.7404,2,    194.4,2,    194.5,2,    88.63,2,    30.82,2,     0.00,2,     2.10,2,     0.04,2,    0.246,2,    0.157,2,    0.018,2,    0.081,2,   2250.9,2,   2347.3,2,     42.6,2,  -999.00,9,   0.2750,2,   0.1410,2,   0.0250,2,   1.7592,2
  49NZ20191229,  I07S,   134,  1,     22,   1222,2,  200117,1407,-57.2165,  55.5509, 5092,   1274.9,   1.5840,   1.5840,2,  34.7414,2,  34.7414,2,    198.8,2,    199.1,2,    92.33,2,    30.76,2,     0.01,2,     2.10,2,     0.04,2,    0.242,2,    0.155,2,    0.019,2,    0.108,2,   2252.2,2,   2349.2,6,     42.1,2,  -999.00,9,-999.0000,9,-999.0000,9,-999.0000,9,   1.5840,2
  49NZ20191229,  I07S,   134,  1,     21,   1221,2,  200117,1407,-57.2165,  55.5509, 5092,   1473.8,   1.4243,   1.4243,2,  34.7405,2,  34.7407,2,    202.8,2,    202.8,2,    95.92,2,    30.74,2,     0.01,2,     2.10,2,     0.04,2,    0.233,2,    0.149,2,    0.019,2,    0.097,2,   -999.0,9,   2352.5,2,     43.1,2,  -999.00,9,   0.2550,2,   0.1320,2,   0.0190,2,   1.4243,2
  49NZ20191229,  I07S,   134,  1,     20,   1220,2,  200117,1407,-57.2165,  55.5509, 5092,   1672.6,   1.2103,   1.2102,2,  34.7287,2,  34.7282,2,    204.3,2,    204.3,2,   102.16,2,    31.20,2,     0.00,2,     2.13,2,     0.03,2,    0.261,2,    0.166,2,    0.022,2,    0.108,2,   2252.2,2,   2352.3,2,   -999.0,9,  -999.00,9,-999.0000,9,-999.0000,9,-999.0000,9,   1.2102,2
  49NZ20191229,  I07S,   134,  1,     19,   1219,2,  200117,1407,-57.2165,  55.5509, 5092,   1873.7,   1.0176,   1.0178,2,  34.7171,2,  34.7179,2,    205.3,2,    205.3,2,   107.41,2,    31.70,2,     0.00,2,     2.16,2,     0.03,2,    0.307,2,    0.187,2,    0.025,2,    0.093,2,   2258.3,2,   2355.1,2,     40.6,2,  -999.00,9,   0.2570,2,   0.1400,2,   0.0200,2,   1.0178,2
  49NZ20191229,  I07S,   134,  1,     18,   1218,2,  200117,1407,-57.2165,  55.5509, 5092,   2069.1,   0.8703,   0.8708,2,  34.7080,2,  34.7076,2,    206.2,2,    206.0,2,   112.30,2,    32.14,2,     0.01,2,     2.20,2,     0.05,2,    0.345,2,    0.207,2,    0.028,2,    0.171,2,   2256.4,2,   2358.8,2,   -999.0,9,  -999.00,9,-999.0000,9,-999.0000,9,-999.0000,9,   0.8708,2
  49NZ20191229,  I07S,   134,  1,     17,   1217,2,  200117,1407,-57.2165,  55.5509, 5092,   2273.6,   0.7217,   0.7222,2,  34.6991,2,  34.6990,2,    207.2,2,    207.0,2,   117.32,2,    32.51,2,     0.00,2,     2.22,2,     0.04,2,    0.370,2,    0.221,2,    0.031,2,    0.146,2,   2261.3,2,   2358.9,2,     41.8,2,  -999.00,9,   0.2620,2,   0.1340,2,   0.0210,2,   0.7222,2
  49NZ20191229,  I07S,   134,  1,     16,   1216,2,  200117,1407,-57.2165,  55.5509, 5092,   2467.7,   0.6177,   0.6178,2,  34.6931,2,  34.6929,2,    208.2,2,    207.9,2,   120.54,2,    32.66,2,     0.01,2,     2.24,2,     0.05,2,    0.377,2,    0.225,2,    0.023,2,    0.033,2,   2261.8,6,   2354.9,2,   -999.0,9,  -999.00,9,-999.0000,9,-999.0000,9,-999.0000,9,   0.6178,2
  49NZ20191229,  I07S,   134,  1,     15,  12102,2,  200117,1407,-57.2165,  55.5509, 5092,   2672.2,   0.5117,   0.5119,2,  34.6876,2,  34.6877,2,    210.1,2,    209.9,2,   123.72,2,    32.83,2,     0.01,2,     2.25,2,     0.04,2,    0.385,2,    0.227,2,    0.026,2,    0.155,2,   2259.2,2,   2354.9,2,     41.0,2,  -999.00,9,   0.2600,2,   0.1340,2,   0.0190,2,   0.5119,2
  49NZ20191229,  I07S,   134,  1,     14,   1214,2,  200117,1407,-57.2165,  55.5509, 5092,   2873.3,   0.4186,   0.4189,2,  34.6830,2,  34.6828,2,    212.6,2,    212.2,2,   126.12,2,    32.89,2,     0.00,2,     2.26,2,     0.04,2,    0.405,2,    0.234,2,    0.026,2,    0.017,2,   2262.7,2,   -999.0,9,   -999.0,9,  -999.00,9,-999.0000,9,-999.0000,9,-999.0000,9,   0.4189,2
  49NZ20191229,  I07S,   134,  1,     13,  12105,2,  200117,1407,-57.2165,  55.5509, 5092,   3084.6,   0.3370,   0.3370,2,  34.6787,2,  34.6786,2,    215.1,2,    214.6,2,   128.31,2,    33.07,2,     0.00,2,     2.27,2,     0.04,2,    0.404,2,    0.235,2,    0.026,2,    0.075,2,   2263.4,2,   2356.1,2,     37.8,2,  -999.00,9,   0.2630,2,   0.1390,2,   0.0250,2,   0.3370,2
  49NZ20191229,  I07S,   134,  1,     12,   1211,2,  200117,1407,-57.2165,  55.5509, 5092,   3332.9,   0.2517,   0.2518,2,  34.6749,2,  34.6748,2,    218.6,2,    218.3,2,   130.33,2,    33.12,2,     0.00,2,     2.27,2,     0.04,2,    0.410,2,    0.240,2,    0.034,2,    0.111,2,   2261.1,2,   2354.6,6,   -999.0,9,  -999.00,9,-999.0000,9,-999.0000,9,-999.0000,9,   0.2518,2
  49NZ20191229,  I07S,   134,  1,     11,  12106,2,  200117,1407,-57.2165,  55.5509, 5092,   3581.0,   0.1697,   0.1698,2,  34.6706,2,  34.6708,2,    222.1,2,    221.7,2,   131.45,2,    33.11,2,     0.00,2,     2.27,2,     0.04,2,    0.426,2,    0.242,2,    0.024,2,     0.08,2,   2255.4,2,   2353.3,2,     41.5,2,  -999.00,9,   0.2520,2,   0.1240,2,   0.0170,2,   0.1698,2
  49NZ20191229,  I07S,   134,  1,     10,   1210,2,  200117,1407,-57.2165,  55.5509, 5092,   3831.6,   0.0955,   0.0958,2,  34.6671,2,  34.6672,2,    225.4,2,    225.1,2,   133.03,2,    33.11,2,     0.00,2,     2.27,2,     0.03,2,    0.435,2,    0.248,2,    0.024,2,    0.097,2,   2257.4,2,   2356.5,2,   -999.0,9,  -999.00,9,-999.0000,9,-999.0000,9,-999.0000,9,   0.0958,2
  49NZ20191229,  I07S,   134,  1,      9,  12101,2,  200117,1407,-57.2165,  55.5509, 5092,   4082.7,   0.0268,   0.0269,2,  34.6638,2,  34.6637,2,    228.7,2,    228.4,2,   134.11,2,    33.09,2,     0.00,2,     2.27,2,     0.04,2,    0.456,2,    0.259,2,    0.026,2,    0.045,2,   2258.2,2,   2354.8,2,     39.4,2,  -999.00,9,   0.2530,2,   0.1270,2,   0.0210,2,   0.0269,2
  49NZ20191229,  I07S,   134,  1,      8,  12103,2,  200117,1407,-57.2165,  55.5509, 5092,   4332.2,  -0.0340,  -0.0335,2,  34.6606,2,  34.6603,2,    232.0,2,    231.7,2,   133.90,2,    32.99,2,     0.00,2,     2.26,2,     0.03,2,    0.488,2,    0.276,2,    0.029,2,    0.109,2,   2253.8,6,   2350.4,2,   -999.0,9,  -999.00,9,-999.0000,9,-999.0000,9,-999.0000,9,  -0.0335,2
  49NZ20191229,  I07S,   134,  1,      7,   1207,2,  200117,1407,-57.2165,  55.5509, 5092,   4581.4,  -0.0811,  -0.0810,2,  34.6577,2,  34.6579,2,    234.7,2,    234.5,2,   135.09,2,    32.92,2,     0.00,2,     2.26,2,     0.03,2,    0.513,2,    0.287,2,    0.032,2,    0.102,2,   2257.1,2,   2350.9,2,     41.1,2,  -999.00,9,   0.2420,2,   0.1280,2,   0.0190,2,  -0.0810,2
  49NZ20191229,  I07S,   134,  1,      6,   1206,2,  200117,1407,-57.2165,  55.5509, 5092,   4832.3,  -0.1236,  -0.1235,2,  34.6556,2,  34.6552,2,    237.0,2,    236.8,2,   139.02,2,    32.86,2,     0.00,2,     2.26,2,     0.03,2,    0.523,2,    0.292,2,    0.033,2,    0.112,2,   -999.0,9,   2353.9,6,   -999.0,9,  -999.00,9,-999.0000,9,-999.0000,9,-999.0000,9,  -0.1235,2
  49NZ20191229,  I07S,   134,  1,      5,   1205,2,  200117,1407,-57.2165,  55.5509, 5092,   5082.2,  -0.1402,  -0.1400,2,  34.6539,2,  34.6541,2,    238.2,2,    238.0,2,   143.06,2,    32.84,2,     0.01,2,     2.25,2,     0.04,2,    0.535,2,    0.304,2,    0.034,2,     0.13,2,   2254.0,2,   2356.3,2,     40.4,2,  -999.00,9,   0.2510,2,   0.1330,2,   0.0210,2,  -0.1400,2
  49NZ20191229,  I07S,   134,  1,      2,  12046,2,  200117,1407,-57.2165,  55.5509, 5092,     27.8,   2.0573,   2.0566,2,  33.8780,2,  33.8775,2,    334.4,2,    335.1,2,    35.30,2,    26.23,2,     0.28,2,     1.75,2,     0.23,2, -999.000,9, -999.000,9, -999.000,9,     -999,9,   2160.8,2,   2291.9,2,     44.9,2,     0.37,2,   0.2100,2,   0.1010,2,   0.0150,2,   2.0566,2
  49NZ20191229,  I07S,   134,  1,      1,   1201,2,  200117,1407,-57.2165,  55.5509, 5092,   5170.6,  -0.1466,  -0.1465,2,  34.6532,2,  34.6519,2,    238.9,2,    238.7,2,   143.52,2,    32.84,2,     0.01,2,     2.25,2,     0.04,2,    0.560,2,    0.309,2,    0.032,2,    0.103,2,   2251.1,2,   2356.4,2,     38.5,2,  -999.00,9,   0.2550,2,   0.1330,2,   0.0250,2,  -0.1465,2