BOTTLE,20210310PRINUNIVRMK
EXPOCODE,SECT_ID,STNNBR,CASTNO,SAMPNO,BTLNBR,BTLNBR_FLAG_W,DATE,TIME,LATITUDE,LONGITUDE,DEPTH,CTDPRS,CTDTMP,SBE35,SBE35_FLAG_W,CTDSAL,CTDSAL_FLAG_W,SALNTY,SALNTY_FLAG_W,CTDOXY,CTDOXY_FLAG_W,OXYGEN,OXYGEN_FLAG_W,SILCAT,SILCAT_FLAG_W,NITRAT,NITRAT_FLAG_W,NITRIT,NITRIT_FLAG_W,PHSPHT,PHSPHT_FLAG_W,NH4,NH4_FLAG_W,CFC-11,CFC-11_FLAG_W,CFC-12,CFC-12_FLAG_W,CFC113,CFC113_FLAG_W,SF6,SF6_FLAG_W,TCARBN,TCARBN_FLAG_W,ALKALI,ALKALI_FLAG_W,DOC,DOC_FLAG_W,CHLORA,CHLORA_FLAG_W,CDOM300,CDOM300_FLAG_W,CDOM325,CDOM325_FLAG_W,CDOM443,CDOM443_FLAG_W,SBE35,SBE35_FLAG_W
,,,,,,,,,,,METERS,DBAR,ITS-90,,,PSS-78,,PSS-78,,UMOL/KG,,UMOL/KG,,UMOL/KG,,UMOL/KG,,UMOL/KG,,UMOL/KG,,UMOL/KG,,PMOL/KG,,PMOL/KG,,PMOL/KG,,FMOL/KG,,UMOL/KG,,UMOL/KG,,UMOL/KG,,UG/L,,1/M,,1/M,,1/M,,,
  49NZ20191229,  I07S,   153,  1,     36,   1236,2,  200122,0429,-65.3367,  53.2526, 1205,      9.7,  -0.8532,  -0.8529,2,  33.5868,2,  33.5899,2,    345.8,2,    347.6,2,    50.63,2,    27.40,2,     0.25,2,     1.90,2,     0.45,2,    5.829,2,    3.105,2,    0.562,2,    4.333,2,   2173.7,2,   2277.1,2,     39.3,2,     0.18,2,   0.2080,2,   0.0970,2,   0.0140,2,  -0.8529,2
  49NZ20191229,  I07S,   153,  1,     35,   1235,2,  200122,0429,-65.3367,  53.2526, 1205,     50.4,  -0.8581,  -0.8570,2,  33.7907,2,  33.8461,2,    336.6,2,    333.1,2,    49.89,2,    27.24,2,     0.21,2,     1.90,2,     0.51,2,    5.461,2,    2.898,2,    0.528,2,    4.066,2,   2183.4,2,   2296.0,2,     38.3,2,     0.21,2,   0.2150,2,   0.1050,2,   0.0110,2,  -0.8570,2
  49NZ20191229,  I07S,   153,  1,     34,   1234,2,  200122,0429,-65.3367,  53.2526, 1205,    100.4,  -1.0897,  -1.0900,2,  34.2714,2,  34.2772,2,    279.6,2,    279.2,2,    66.97,2,    31.09,2,     0.12,2,     2.13,2,     0.11,2,    3.921,2,    2.092,2,    0.370,2,    2.862,2,   2224.1,2,   2321.0,2,     26.7,2,     0.27,2,   0.2500,2,   0.1250,2,   0.0160,2,  -1.0900,2
  49NZ20191229,  I07S,   153,  1,     33,   1233,2,  200122,0429,-65.3367,  53.2526, 1205,    150.1,  -1.1052,  -1.1037,2,  34.3920,2,  34.3909,2,    276.8,2,    276.6,2,    71.01,2,    31.45,2,     0.02,2,     2.14,2,     0.06,2,    3.804,2,    2.014,2,    0.357,2,    2.788,2,   2232.4,2,   2327.4,2,     32.9,2,     0.04,2,   0.2480,2,   0.1300,2,   0.0190,2,  -1.1037,2
  49NZ20191229,  I07S,   153,  1,     32,   1232,2,  200122,0429,-65.3367,  53.2526, 1205,    200.2,  -0.8583,  -0.8618,2,  34.4433,2,  34.4428,2,    268.4,2,    268.4,2,    73.72,2,    31.59,2,     0.02,2,     2.15,2,     0.04,2,    3.507,2,    1.880,2,    0.327,2,    2.509,2,   2238.5,2,   2331.2,2,     35.2,2,     0.02,2,   0.2560,2,   0.1310,2,   0.0160,2,  -0.8618,2
  49NZ20191229,  I07S,   153,  1,     31,   1231,2,  200122,0429,-65.3367,  53.2526, 1205,    249.2,  -0.8602,  -0.8515,2,  34.4724,2,  34.4688,2,    268.8,2,    267.6,2,    74.82,2,    31.55,2,     0.01,2,     2.15,2,     0.04,2,    3.456,2,    1.837,2,    0.321,2,    2.475,2,   2237.3,2,   2332.7,2,   -999.0,9,     0.01,2,-999.0000,9,-999.0000,9,-999.0000,9,  -0.8515,2
  49NZ20191229,  I07S,   153,  1,     30,   1230,2,  200122,0429,-65.3367,  53.2526, 1205,    330.5,   0.3235,   0.3244,2,  34.5934,2,  34.5977,2,    227.9,2,    227.3,2,    84.20,2,    31.88,2,     0.01,2,     2.18,2,     0.04,2,    1.972,2,    1.054,2,    0.176,2,    1.349,2,   2249.7,2,   2343.0,2,     34.5,2,  -999.00,9,   0.2650,2,   0.1380,2,   0.0190,2,   0.3244,2
  49NZ20191229,  I07S,   153,  1,     29,   1229,2,  200122,0429,-65.3367,  53.2526, 1205,    428.8,  -0.1945,  -0.1953,2,  34.5734,2,  34.5753,2,    246.2,2,    246.2,2,    82.94,2,    31.39,2,     0.01,2,     2.15,2,     0.06,2,    2.525,2,    1.341,2,    0.230,2,    1.642,2,   2245.7,2,   2341.5,2,     32.5,2,  -999.00,9,   0.2550,2,   0.1320,2,   0.0150,2,  -0.1953,2
  49NZ20191229,  I07S,   153,  1,     28,   1228,2,  200122,0429,-65.3367,  53.2526, 1205,    528.7,  -0.0406,  -0.0403,2,  34.6027,2,  34.6033,2,    240.4,2,    240.3,2,    87.74,2,    31.49,2,     0.01,2,     2.15,2,     0.04,2,    2.169,2,    1.164,2,    0.190,2,    1.459,2,   2248.8,2,   2345.0,2,     32.5,2,  -999.00,9,   0.2660,2,   0.1360,2,   0.0150,2,  -0.0403,2
  49NZ20191229,  I07S,   153,  1,     27,   1227,2,  200122,0429,-65.3367,  53.2526, 1205,    630.0,   0.2976,   0.2974,2,  34.6446,2,  34.6450,2,    226.7,2,    226.9,2,    95.59,2,    31.66,2,     0.01,2,     2.17,2,     0.04,2,    1.526,2,    0.832,2,    0.138,2,    0.985,2,   2252.5,2,   2351.8,2,     36.7,2,  -999.00,9,   0.2610,2,   0.1350,2,   0.0140,2,   0.2974,2
  49NZ20191229,  I07S,   153,  1,     26,   1226,2,  200122,0429,-65.3367,  53.2526, 1205,    729.3,   0.0233,   0.0233,2,  34.6289,2,  34.6306,2,    234.0,2,    233.8,2,    97.53,2,    31.87,2,     0.01,2,     2.18,2,     0.04,2,    1.768,2,    0.949,2,    0.155,2,    1.119,2,   2251.4,6,   2350.0,2,   -999.0,9,  -999.00,9,-999.0000,9,-999.0000,9,-999.0000,9,   0.0233,2
  49NZ20191229,  I07S,   153,  1,     25,   1225,2,  200122,0429,-65.3367,  53.2526, 1205,    830.4,   0.1841,   0.1839,2,  34.6531,2,  34.6538,2,    225.3,2,    225.4,2,   105.15,2,    32.09,2,     0.01,2,     2.20,2,     0.03,2,    1.288,2,    0.708,2,    0.110,2,      0.8,2,   2256.2,2,   2352.5,2,     36.1,2,  -999.00,9,   0.2700,2,   0.1450,2,   0.0210,2,   0.1839,2
  49NZ20191229,  I07S,   153,  1,     24,   1224,2,  200122,0429,-65.3367,  53.2526, 1205,    930.8,   0.2021,   0.2022,2,  34.6551,2,  34.6561,2,    224.5,2,    224.6,2,   105.99,2,    32.14,2,     0.01,2,     2.20,2,     0.03,2,    1.258,2,    0.690,2,    0.108,2,    0.774,2,   2256.5,2,   2353.4,2,   -999.0,9,  -999.00,9,-999.0000,9,-999.0000,9,-999.0000,9,   0.2022,2
  49NZ20191229,  I07S,   153,  1,     23,   1223,2,  200122,0429,-65.3367,  53.2526, 1205,   1070.3,   0.0640,   0.0640,2,  34.6524,2,  34.6533,2,    227.7,2,    227.7,2,   109.54,2,    32.24,2,     0.01,2,     2.21,2,     0.02,2,    1.276,2,    0.704,2,    0.114,2,     0.71,2,   2255.7,2,   2354.2,2,     36.6,2,  -999.00,9,   0.2660,2,   0.1400,2,   0.0190,2,   0.0640,2
  49NZ20191229,  I07S,   153,  1,     18,   1218,2,  200122,0429,-65.3367,  53.2526, 1205,      9.8,  -0.8621,  -0.8629,8,  33.5875,2,-999.0000,9,    345.9,2,   -999.0,9,  -999.00,9,  -999.00,9,  -999.00,9,  -999.00,9,     -999,9, -999.000,9, -999.000,9, -999.000,9,     -999,9,   -999.0,9,   -999.0,9,   -999.0,9,  -999.00,9,-999.0000,9,-999.0000,9,-999.0000,9,  -0.8629,8
  49NZ20191229,  I07S,   153,  1,     17,   1217,2,  200122,0429,-65.3367,  53.2526, 1205,     50.3,  -0.8567,  -0.8567,8,  33.7909,2,-999.0000,9,    337.0,2,   -999.0,9,  -999.00,9,  -999.00,9,  -999.00,9,  -999.00,9,     -999,9, -999.000,9, -999.000,9, -999.000,9,     -999,9,   -999.0,9,   -999.0,9,   -999.0,9,  -999.00,9,-999.0000,9,-999.0000,9,-999.0000,9,  -0.8567,8
  49NZ20191229,  I07S,   153,  1,     16,   1216,2,  200122,0429,-65.3367,  53.2526, 1205,    100.4,  -1.0895,  -1.0896,8,  34.2713,2,-999.0000,9,    279.7,2,   -999.0,9,  -999.00,9,  -999.00,9,  -999.00,9,  -999.00,9,     -999,9, -999.000,9, -999.000,9, -999.000,9,     -999,9,   -999.0,9,   -999.0,9,   -999.0,9,  -999.00,9,-999.0000,9,-999.0000,9,-999.0000,9,  -1.0896,8
  49NZ20191229,  I07S,   153,  1,     15,  12102,2,  200122,0429,-65.3367,  53.2526, 1205,    149.9,  -1.0991,  -1.1022,8,  34.3908,2,-999.0000,9,    276.9,2,   -999.0,9,  -999.00,9,  -999.00,9,  -999.00,9,  -999.00,9,     -999,9, -999.000,9, -999.000,9, -999.000,9,     -999,9,   -999.0,9,   -999.0,9,   -999.0,9,  -999.00,9,-999.0000,9,-999.0000,9,-999.0000,9,  -1.1022,8
  49NZ20191229,  I07S,   153,  1,     14,   1214,2,  200122,0429,-65.3367,  53.2526, 1205,    199.9,  -0.8632,  -0.8604,8,  34.4430,2,-999.0000,9,    268.9,2,   -999.0,9,  -999.00,9,  -999.00,9,  -999.00,9,  -999.00,9,     -999,9, -999.000,9, -999.000,9, -999.000,9,     -999,9,   -999.0,9,   -999.0,9,   -999.0,9,  -999.00,9,-999.0000,9,-999.0000,9,-999.0000,9,  -0.8604,8
  49NZ20191229,  I07S,   153,  1,     12,   1211,2,  200122,0429,-65.3367,  53.2526, 1205,    332.3,   0.3341,   0.3344,8,  34.5944,2,-999.0000,9,    228.2,2,   -999.0,9,  -999.00,9,  -999.00,9,  -999.00,9,  -999.00,9,     -999,9, -999.000,9, -999.000,9, -999.000,9,     -999,9,   -999.0,9,   -999.0,9,   -999.0,9,  -999.00,9,-999.0000,9,-999.0000,9,-999.0000,9,   0.3344,8
  49NZ20191229,  I07S,   153,  1,     11,  12106,2,  200122,0429,-65.3367,  53.2526, 1205,    428.7,  -0.1804,  -0.1773,8,  34.5738,2,-999.0000,9,    246.3,2,   -999.0,9,  -999.00,9,  -999.00,9,  -999.00,9,  -999.00,9,     -999,9, -999.000,9, -999.000,9, -999.000,9,     -999,9,   -999.0,9,   -999.0,9,   -999.0,9,  -999.00,9,-999.0000,9,-999.0000,9,-999.0000,9,  -0.1773,8
  49NZ20191229,  I07S,   153,  1,     10,   1210,2,  200122,0429,-65.3367,  53.2526, 1205,    528.7,  -0.0371,  -0.0370,8,  34.6030,2,-999.0000,9,    240.3,2,   -999.0,9,  -999.00,9,  -999.00,9,  -999.00,9,  -999.00,9,     -999,9, -999.000,9, -999.000,9, -999.000,9,     -999,9,   -999.0,9,   -999.0,9,   -999.0,9,  -999.00,9,-999.0000,9,-999.0000,9,-999.0000,9,  -0.0370,8
  49NZ20191229,  I07S,   153,  1,      9,  12101,2,  200122,0429,-65.3367,  53.2526, 1205,    629.7,   0.2994,   0.2997,8,  34.6447,2,-999.0000,9,    226.6,2,   -999.0,9,  -999.00,9,  -999.00,9,  -999.00,9,  -999.00,9,     -999,9, -999.000,9, -999.000,9, -999.000,9,     -999,9,   -999.0,9,   -999.0,9,   -999.0,9,  -999.00,9,-999.0000,9,-999.0000,9,-999.0000,9,   0.2997,8
  49NZ20191229,  I07S,   153,  1,      7,   1207,2,  200122,0429,-65.3367,  53.2526, 1205,    830.6,   0.1851,   0.1850,8,  34.6532,2,-999.0000,9,    225.3,2,   -999.0,9,  -999.00,9,  -999.00,9,  -999.00,9,  -999.00,9,     -999,9, -999.000,9, -999.000,9, -999.000,9,     -999,9,   -999.0,9,   -999.0,9,   -999.0,9,  -999.00,9,-999.0000,9,-999.0000,9,-999.0000,9,   0.1850,8
  49NZ20191229,  I07S,   153,  1,      5,   1205,2,  200122,0429,-65.3367,  53.2526, 1205,   1070.6,   0.0642,   0.0642,8,  34.6524,2,-999.0000,9,    227.7,2,   -999.0,9,  -999.00,9,  -999.00,9,  -999.00,9,  -999.00,9,     -999,9, -999.000,9, -999.000,9, -999.000,9,     -999,9,   -999.0,9,   -999.0,9,   -999.0,9,  -999.00,9,-999.0000,9,-999.0000,9,-999.0000,9,   0.0642,8
  49NZ20191229,  I07S,   153,  1,      4,   1204,2,  200122,0429,-65.3367,  53.2526, 1205,     87.2,  -1.2488,  -1.2489,8,  34.1917,2,-999.0000,9,    292.6,2,   -999.0,9,  -999.00,9,  -999.00,9,  -999.00,9,  -999.00,9,     -999,9, -999.000,9, -999.000,9, -999.000,9,     -999,9,   -999.0,9,   -999.0,9,   -999.0,9,  -999.00,9,-999.0000,9,-999.0000,9,-999.0000,9,  -1.2489,8
  49NZ20191229,  I07S,   153,  1,      3,   1203,2,  200122,0429,-65.3367,  53.2526, 1205,   1209.2,   0.0581,   0.0580,8,  34.6536,2,-999.0000,9,    227.9,2,   -999.0,9,  -999.00,9,  -999.00,9,  -999.00,9,  -999.00,9,     -999,9, -999.000,9, -999.000,9, -999.000,9,     -999,9,   -999.0,9,   -999.0,9,   -999.0,9,  -999.00,9,-999.0000,9,-999.0000,9,-999.0000,9,   0.0580,8
  49NZ20191229,  I07S,   153,  1,      2,  12046,2,  200122,0429,-65.3367,  53.2526, 1205,     87.4,  -1.2470,  -1.2465,2,  34.1924,2,  34.2114,2,    292.7,2,    289.3,2,    63.78,2,    30.39,2,     0.15,2,     2.09,2,     0.15,2, -999.000,9, -999.000,9, -999.000,9,     -999,9,   2220.1,2,   2315.2,2,     41.8,2,     0.40,2,   0.2520,2,   0.1270,2,   0.0180,2,  -1.2465,2
  49NZ20191229,  I07S,   153,  1,      1,   1201,2,  200122,0429,-65.3367,  53.2526, 1205,   1209.0,   0.0579,   0.0578,2,  34.6536,2,  34.6545,2,    227.9,2,    227.5,2,   110.68,2,    32.27,2,     0.01,2,     2.22,2,     0.03,2,    1.236,2,    0.689,2,    0.106,2,    0.731,2,   2254.8,2,   2355.4,2,     37.1,2,  -999.00,9,   0.2670,2,   0.1440,2,   0.0200,2,   0.0578,2