BOTTLE,20210310PRINUNIVRMK
EXPOCODE,SECT_ID,STNNBR,CASTNO,SAMPNO,BTLNBR,BTLNBR_FLAG_W,DATE,TIME,LATITUDE,LONGITUDE,DEPTH,CTDPRS,CTDTMP,SBE35,SBE35_FLAG_W,CTDSAL,CTDSAL_FLAG_W,SALNTY,SALNTY_FLAG_W,CTDOXY,CTDOXY_FLAG_W,OXYGEN,OXYGEN_FLAG_W,SILCAT,SILCAT_FLAG_W,NITRAT,NITRAT_FLAG_W,NITRIT,NITRIT_FLAG_W,PHSPHT,PHSPHT_FLAG_W,NH4,NH4_FLAG_W,CFC-11,CFC-11_FLAG_W,CFC-12,CFC-12_FLAG_W,CFC113,CFC113_FLAG_W,SF6,SF6_FLAG_W,TCARBN,TCARBN_FLAG_W,ALKALI,ALKALI_FLAG_W,DOC,DOC_FLAG_W,CHLORA,CHLORA_FLAG_W,CDOM300,CDOM300_FLAG_W,CDOM325,CDOM325_FLAG_W,CDOM443,CDOM443_FLAG_W,SBE35,SBE35_FLAG_W
,,,,,,,,,,,METERS,DBAR,ITS-90,,,PSS-78,,PSS-78,,UMOL/KG,,UMOL/KG,,UMOL/KG,,UMOL/KG,,UMOL/KG,,UMOL/KG,,UMOL/KG,,PMOL/KG,,PMOL/KG,,PMOL/KG,,FMOL/KG,,UMOL/KG,,UMOL/KG,,UMOL/KG,,UG/L,,1/M,,1/M,,1/M,,,
  49NZ20191229,  I07S,   132,  1,     36,   1236,2,  200117,0147,-56.2513,  55.8360, 4746,      9.9,   1.8887,   1.8889,2,  33.9370,2,  33.9374,2,    337.4,4,    337.0,2,    28.92,2,    26.04,2,     0.28,2,     1.69,2,     0.24,2,    5.526,2,    2.947,2,    0.503,2,    4.198,2,   2168.6,2,   2296.3,2,   -999.0,9,     0.37,2,-999.0000,9,-999.0000,9,-999.0000,9,   1.8889,2
  49NZ20191229,  I07S,   132,  1,     35,   1235,2,  200117,0147,-56.2513,  55.8360, 4746,     50.4,   1.8847,   1.8848,2,  33.9383,2,  33.9382,2,    335.1,4,    336.7,2,    28.95,2,    26.01,2,     0.28,2,     1.70,2,     0.24,2,    5.485,2,    2.915,2,    0.506,2,    4.303,2,   2172.6,2,   2296.9,2,   -999.0,9,     0.45,2,-999.0000,9,-999.0000,9,-999.0000,9,   1.8848,2
  49NZ20191229,  I07S,   132,  1,     34,   1234,2,  200117,0147,-56.2513,  55.8360, 4746,     99.9,   0.7770,   0.7789,2,  34.0404,2,  34.0394,2,    312.9,4,    326.6,2,    46.17,2,    29.13,2,     0.26,2,     2.02,2,     0.41,2,    5.392,2,    2.860,2,    0.491,2,    4.081,2,   2186.2,2,   2302.3,2,   -999.0,9,     0.20,2,-999.0000,9,-999.0000,9,-999.0000,9,   0.7789,2
  49NZ20191229,  I07S,   132,  1,     33,   1233,2,  200117,0147,-56.2513,  55.8360, 4746,    148.5,   0.6224,   0.6225,2,  34.1033,2,  34.1019,2,    256.1,4,    305.3,2,    50.89,2,    30.89,2,     0.03,2,     2.08,2,     0.02,2,    4.912,2,    2.599,2,    0.449,2,    3.587,2,   2202.8,2,   2305.0,2,   -999.0,9,     0.04,2,-999.0000,9,-999.0000,9,-999.0000,9,   0.6225,2
  49NZ20191229,  I07S,   132,  1,     32,   1232,2,  200117,0147,-56.2513,  55.8360, 4746,    200.6,   1.6192,   1.6195,2,  34.3418,2,  34.3412,2,    212.4,4,    218.6,2,    64.47,2,    34.29,2,     0.01,2,     2.33,2,     0.03,2,    2.732,2,    1.416,2,    0.225,2,    1.659,2,   2239.8,2,   2317.6,2,   -999.0,9,     0.01,2,-999.0000,9,-999.0000,9,-999.0000,9,   1.6195,2
  49NZ20191229,  I07S,   132,  1,     31,   1231,2,  200117,0147,-56.2513,  55.8360, 4746,    249.8,   1.9831,   1.9832,2,  34.4523,2,  34.4516,2,    190.2,4,    188.4,2,    70.53,2,    35.01,2,     0.01,2,     2.38,2,     0.03,2,    1.744,2,    0.912,2,    0.148,2,    0.875,2,   2247.0,2,   2326.1,2,   -999.0,9,     0.01,2,-999.0000,9,-999.0000,9,-999.0000,9,   1.9832,2
  49NZ20191229,  I07S,   132,  1,     30,   1230,2,  200117,0147,-56.2513,  55.8360, 4746,    301.4,   2.0021,   2.0022,2,  34.4900,2,  34.4877,2,    181.8,4,    182.9,2,    73.44,2,    35.22,2,     0.01,2,     2.38,2,     0.03,2,    1.496,2,    0.784,2,    0.117,2,    0.827,2,   2254.8,2,   2328.9,2,   -999.0,9,  -999.00,9,-999.0000,9,-999.0000,9,-999.0000,9,   2.0022,2
  49NZ20191229,  I07S,   132,  1,     29,   1229,2,  200117,0147,-56.2513,  55.8360, 4746,    401.1,   2.0902,   2.0888,2,  34.5668,2,  34.5651,2,    176.3,4,    173.5,2,    77.70,2,    34.78,2,     0.01,2,     2.36,2,     0.03,2,    0.979,2,    0.523,2,    0.078,2,    0.453,2,   2257.2,2,   2338.1,2,   -999.0,9,  -999.00,9,-999.0000,9,-999.0000,9,-999.0000,9,   2.0888,2
  49NZ20191229,  I07S,   132,  1,     28,   1228,2,  200117,0147,-56.2513,  55.8360, 4746,    499.9,   2.1524,   2.1523,2,  34.6341,2,  34.6333,2,    176.5,4,    171.1,2,    80.33,2,    34.03,2,     0.01,2,     2.31,2,     0.03,2,    0.597,2,    0.328,2,    0.049,2,    0.221,2,   2257.6,2,   2344.5,2,   -999.0,9,  -999.00,9,-999.0000,9,-999.0000,9,-999.0000,9,   2.1523,2
  49NZ20191229,  I07S,   132,  1,     27,   1227,2,  200117,0147,-56.2513,  55.8360, 4746,    601.9,   2.0501,   2.0499,2,  34.6615,2,  34.6605,2,    178.0,4,    174.1,2,    83.14,2,    33.48,2,     0.00,2,     2.27,2,     0.04,2,    0.530,2,    0.296,2,    0.045,2,    0.221,2,   2256.0,2,   2346.0,2,   -999.0,9,  -999.00,9,-999.0000,9,-999.0000,9,-999.0000,9,   2.0499,2
  49NZ20191229,  I07S,   132,  1,     26,   1226,2,  200117,0147,-56.2513,  55.8360, 4746,    701.0,   2.0051,   2.0051,2,  34.6923,2,  34.6915,2,    183.6,4,    178.4,2,    84.22,2,    32.44,2,     0.01,2,     2.21,2,     0.03,2,    0.418,2,    0.236,2,    0.038,2,    0.091,2,   2256.8,6,   2345.2,2,   -999.0,9,  -999.00,9,-999.0000,9,-999.0000,9,-999.0000,9,   2.0051,2
  49NZ20191229,  I07S,   132,  1,     25,   1225,2,  200117,0147,-56.2513,  55.8360, 4746,    802.3,   1.9568,   1.9570,2,  34.7145,2,  34.7138,2,    188.6,4,    183.5,2,    85.16,2,    31.97,2,     0.01,2,     2.16,2,     0.03,2,    0.344,2,    0.197,2,    0.029,2,    0.104,2,   2253.1,2,   2347.6,2,   -999.0,9,  -999.00,9,-999.0000,9,-999.0000,9,-999.0000,9,   1.9570,2
  49NZ20191229,  I07S,   132,  1,     24,   1224,2,  200117,0147,-56.2513,  55.8360, 4746,    898.7,   1.8713,   1.8714,2,  34.7270,2,  34.7267,2,    193.6,4,    187.5,2,    86.68,2,    31.60,2,     0.00,2,     2.13,2,     0.04,2,    0.311,2,    0.180,2,    0.022,2,    0.161,2,   2250.9,2,   2351.2,2,   -999.0,9,  -999.00,9,-999.0000,9,-999.0000,9,-999.0000,9,   1.8714,2
  49NZ20191229,  I07S,   132,  1,     23,   1223,2,  200117,0147,-56.2513,  55.8360, 4746,   1002.0,   1.8405,   1.8406,2,  34.7400,2,  34.7397,2,    198.0,4,    192.6,2,    86.27,2,    30.93,2,     0.00,2,     2.09,2,     0.03,2,    0.268,2,    0.153,2,    0.023,2,    0.128,2,   2245.8,2,   -999.0,9,   -999.0,9,  -999.00,9,-999.0000,9,-999.0000,9,-999.0000,9,   1.8406,2
  49NZ20191229,  I07S,   132,  1,     22,   1222,2,  200117,0147,-56.2513,  55.8360, 4746,   1201.4,   1.6341,   1.6341,2,  34.7399,2,  34.7400,2,    200.3,4,    196.8,2,    90.87,2,    30.87,2,     0.00,2,     2.09,2,     0.02,2,    0.272,2,    0.155,2,    0.023,2,    0.111,2,   2248.4,2,   2352.4,6,   -999.0,9,  -999.00,9,-999.0000,9,-999.0000,9,-999.0000,9,   1.6341,2
  49NZ20191229,  I07S,   132,  1,     21,   1221,2,  200117,0147,-56.2513,  55.8360, 4746,   1401.6,   1.5151,   1.5152,2,  34.7469,2,  34.7467,2,    206.4,4,    202.7,2,    92.32,2,    30.48,2,     0.00,2,     2.06,2,     0.01,2,    0.234,2,    0.133,2,    0.022,2,    0.093,2,   2245.3,2,   2353.2,2,   -999.0,9,  -999.00,9,-999.0000,9,-999.0000,9,-999.0000,9,   1.5152,2
  49NZ20191229,  I07S,   132,  1,     20,   1220,2,  200117,0147,-56.2513,  55.8360, 4746,   1599.6,   1.2983,   1.2985,2,  34.7340,2,  34.7338,2,    207.1,4,    203.6,2,    98.85,2,    31.03,2,     0.00,2,     2.10,2,     0.01,2,    0.275,2,    0.156,2,    0.021,2,    0.176,2,   2248.2,2,   2357.0,2,   -999.0,9,  -999.00,9,-999.0000,9,-999.0000,9,-999.0000,9,   1.2985,2
  49NZ20191229,  I07S,   132,  1,     19,   1219,2,  200117,0147,-56.2513,  55.8360, 4746,   1801.2,   1.1529,   1.1534,2,  34.7264,2,  34.7267,2,    208.3,4,    205.1,2,   103.20,2,    31.24,2,     0.00,2,     2.12,2,     0.02,2,    0.297,2,    0.170,2,    0.024,2,     0.17,2,   2254.4,2,   2357.2,2,   -999.0,9,  -999.00,9,-999.0000,9,-999.0000,9,-999.0000,9,   1.1534,2
  49NZ20191229,  I07S,   132,  1,     18,   1218,2,  200117,0147,-56.2513,  55.8360, 4746,   2000.5,   0.9988,   0.9990,2,  34.7181,2,  34.7185,2,    210.0,4,    206.6,2,   107.90,2,    31.62,2,     0.00,2,     2.15,2,     0.03,2,    0.320,2,    0.179,2,    0.023,2,    0.134,2,   -999.0,9,   2356.5,2,   -999.0,9,  -999.00,9,-999.0000,9,-999.0000,9,-999.0000,9,   0.9990,2
  49NZ20191229,  I07S,   132,  1,     17,   1217,2,  200117,0147,-56.2513,  55.8360, 4746,   2202.9,   0.8230,   0.8231,2,  34.7061,2,  34.7063,2,    211.5,4,    207.2,2,   113.22,2,    32.20,2,     0.00,2,     2.19,2,     0.03,2,    0.369,2,    0.201,2,    0.026,2,    0.103,2,   2255.1,2,   2356.3,2,   -999.0,9,  -999.00,9,-999.0000,9,-999.0000,9,-999.0000,9,   0.8231,2
  49NZ20191229,  I07S,   132,  1,     16,   1216,2,  200117,0147,-56.2513,  55.8360, 4746,   2399.7,   0.6969,   0.6972,2,  34.6998,2,  34.7002,2,    214.6,4,    209.3,2,   117.46,2,    32.24,2,     0.00,2,     2.21,2,     0.04,2,    0.372,2,    0.202,2,    0.030,2,    0.122,2,   2259.9,6,   2359.1,2,   -999.0,9,  -999.00,9,-999.0000,9,-999.0000,9,-999.0000,9,   0.6972,2
  49NZ20191229,  I07S,   132,  1,     15,  12102,2,  200117,0147,-56.2513,  55.8360, 4746,   2598.9,   0.5632,   0.5632,2,  34.6914,2,  34.6914,2,    219.6,4,    210.2,2,   121.26,2,    32.74,2,     0.00,2,     2.22,2,     0.04,2,    0.408,2,    0.219,2,    0.025,2,    0.128,2,   2258.1,2,   2356.8,2,   -999.0,9,  -999.00,9,-999.0000,9,-999.0000,9,-999.0000,9,   0.5632,2
  49NZ20191229,  I07S,   132,  1,     14,   1214,2,  200117,0147,-56.2513,  55.8360, 4746,   2802.2,   0.4615,   0.4618,2,  34.6870,2,  34.6868,2,    221.3,4,    213.2,2,   124.88,2,    32.73,2,     0.00,2,     2.23,2,     0.03,2,    0.402,2,    0.214,2,    0.024,2,    0.074,2,   2265.3,2,   2356.6,2,   -999.0,9,  -999.00,9,-999.0000,9,-999.0000,9,-999.0000,9,   0.4618,2
  49NZ20191229,  I07S,   132,  1,     13,  12105,2,  200117,0147,-56.2513,  55.8360, 4746,   3001.3,   0.3732,   0.3734,2,  34.6824,2,  34.6824,2,    221.4,4,    215.4,2,   127.57,2,    32.87,2,     0.00,2,     2.24,2,     0.04,2,    0.414,2,    0.220,2,    0.027,2,    0.087,2,   2260.5,2,   2358.5,2,   -999.0,9,  -999.00,9,-999.0000,9,-999.0000,9,-999.0000,9,   0.3734,2
  49NZ20191229,  I07S,   132,  1,     12,   1211,2,  200117,0147,-56.2513,  55.8360, 4746,   3252.8,   0.2486,   0.2486,2,  34.6764,2,  34.6769,2,    226.3,4,    219.2,2,   131.43,2,    32.99,2,     0.00,2,     2.25,2,     0.03,2,    0.421,2,    0.222,2,    0.023,2,    0.125,2,   2258.3,2,   2356.5,6,   -999.0,9,  -999.00,9,-999.0000,9,-999.0000,9,-999.0000,9,   0.2486,2
  49NZ20191229,  I07S,   132,  1,     11,  12106,2,  200117,0147,-56.2513,  55.8360, 4746,   3501.2,   0.1664,   0.1663,2,  34.6719,2,  34.6717,2,    231.5,4,    222.2,2,   133.01,2,    32.91,2,     0.00,2,     2.25,2,     0.04,2,    0.442,2,    0.232,2,    0.023,2,    0.092,2,   2258.6,2,   2357.5,2,   -999.0,9,  -999.00,9,-999.0000,9,-999.0000,9,-999.0000,9,   0.1663,2
  49NZ20191229,  I07S,   132,  1,     10,   1210,2,  200117,0147,-56.2513,  55.8360, 4746,   3752.6,   0.0806,   0.0806,2,  34.6678,2,  34.6677,2,    234.6,4,    225.6,2,   135.42,2,    32.96,2,     0.00,2,     2.25,2,     0.03,2,    0.454,2,    0.238,2,    0.024,2,     0.09,2,   2255.3,2,   2361.4,2,   -999.0,9,  -999.00,9,-999.0000,9,-999.0000,9,-999.0000,9,   0.0806,2
  49NZ20191229,  I07S,   132,  1,      9,  12101,2,  200117,0147,-56.2513,  55.8360, 4746,   4001.4,   0.0004,   0.0005,2,  34.6638,2,  34.6636,2,    239.0,4,    229.0,2,   137.58,2,    32.99,2,     0.00,2,     2.25,2,     0.05,2,    0.471,2,    0.246,2,    0.031,2,    0.103,2,   2257.0,2,   2362.4,2,   -999.0,9,  -999.00,9,-999.0000,9,-999.0000,9,-999.0000,9,   0.0005,2
  49NZ20191229,  I07S,   132,  1,      8,  12103,2,  200117,0147,-56.2513,  55.8360, 4746,   4251.3,  -0.0498,  -0.0504,2,  34.6611,2,  34.6611,2,    242.0,4,    231.6,2,   139.56,2,    33.02,2,     0.00,2,     2.25,2,     0.04,2,    0.468,2,    0.244,2,    0.029,2,    0.123,2,   2255.2,6,   2352.3,2,   -999.0,9,  -999.00,9,-999.0000,9,-999.0000,9,-999.0000,9,  -0.0504,2
  49NZ20191229,  I07S,   132,  1,      7,   1207,2,  200117,0147,-56.2513,  55.8360, 4746,   4502.9,  -0.1108,  -0.1106,2,  34.6577,2,  34.6577,2,    244.9,4,    235.0,2,   138.94,2,    32.88,2,     0.00,2,     2.25,2,     0.03,2,    0.527,2,    0.273,2,    0.035,2,    0.104,2,   2253.5,2,   2357.7,2,   -999.0,9,  -999.00,9,-999.0000,9,-999.0000,9,-999.0000,9,  -0.1106,2
  49NZ20191229,  I07S,   132,  1,      6,   1206,2,  200117,0147,-56.2513,  55.8360, 4746,   4751.0,  -0.1494,  -0.1492,2,  34.6553,2,  34.6557,2,    259.5,4,    237.1,2,   141.80,2,    32.91,2,     0.01,2,     2.24,2,     0.03,2,    0.561,2,    0.290,2,    0.032,2,    0.127,2,   2254.0,2,   2354.7,6,   -999.0,9,  -999.00,9,-999.0000,9,-999.0000,9,-999.0000,9,  -0.1492,2
  49NZ20191229,  I07S,   132,  1,      2,  12046,2,  200117,0147,-56.2513,  55.8360, 4746,     73.1,   1.7481,   1.7543,2,  33.9516,2,  33.9549,2,    324.1,4,    336.1,2,    31.68,2,    26.32,2,     0.28,2,     1.77,2,     0.38,2, -999.000,9, -999.000,9, -999.000,9,     -999,9,   2168.0,2,   2299.0,2,   -999.0,9,     0.56,2,-999.0000,9,-999.0000,9,-999.0000,9,   1.7543,2
  49NZ20191229,  I07S,   132,  1,      1,   1201,2,  200117,0147,-56.2513,  55.8360, 4746,   4805.2,  -0.1516,  -0.1513,2,  34.6551,2,  34.6551,2,    252.7,4,    237.4,2,   143.20,2,    32.89,2,     0.01,2,     2.25,2,     0.03,2,    0.566,2,    0.293,2,    0.034,2,     0.14,2,   2256.6,2,   2354.1,2,   -999.0,9,  -999.00,9,-999.0000,9,-999.0000,9,-999.0000,9,  -0.1513,2