BOTTLE,20210310PRINUNIVRMK
EXPOCODE,SECT_ID,STNNBR,CASTNO,SAMPNO,BTLNBR,BTLNBR_FLAG_W,DATE,TIME,LATITUDE,LONGITUDE,DEPTH,CTDPRS,CTDTMP,SBE35,SBE35_FLAG_W,CTDSAL,CTDSAL_FLAG_W,SALNTY,SALNTY_FLAG_W,CTDOXY,CTDOXY_FLAG_W,OXYGEN,OXYGEN_FLAG_W,SILCAT,SILCAT_FLAG_W,NITRAT,NITRAT_FLAG_W,NITRIT,NITRIT_FLAG_W,PHSPHT,PHSPHT_FLAG_W,NH4,NH4_FLAG_W,CFC-11,CFC-11_FLAG_W,CFC-12,CFC-12_FLAG_W,CFC113,CFC113_FLAG_W,SF6,SF6_FLAG_W,TCARBN,TCARBN_FLAG_W,ALKALI,ALKALI_FLAG_W,DOC,DOC_FLAG_W,CHLORA,CHLORA_FLAG_W,CDOM300,CDOM300_FLAG_W,CDOM325,CDOM325_FLAG_W,CDOM443,CDOM443_FLAG_W,SBE35,SBE35_FLAG_W
,,,,,,,,,,,METERS,DBAR,ITS-90,,,PSS-78,,PSS-78,,UMOL/KG,,UMOL/KG,,UMOL/KG,,UMOL/KG,,UMOL/KG,,UMOL/KG,,UMOL/KG,,PMOL/KG,,PMOL/KG,,PMOL/KG,,FMOL/KG,,UMOL/KG,,UMOL/KG,,UMOL/KG,,UG/L,,1/M,,1/M,,1/M,,,
  49NZ20191229,  I07S,    99,  1,     36,   1236,2,  200108,0541,-41.1607,  57.7441, 4889,     10.7,  17.1415,  17.1414,2,  35.4949,2,  35.4945,2,    249.8,2,    249.5,2,     0.98,2,     0.26,2,     0.01,2,     0.13,2,     0.03,2,    2.399,2,    1.423,2,    0.202,2,     2.27,2,   2062.2,2,   2331.2,2,   -999.0,9,     0.44,2,-999.0000,9,-999.0000,9,-999.0000,9,  17.1414,2
  49NZ20191229,  I07S,    99,  1,     35,   1235,2,  200108,0541,-41.1607,  57.7441, 4889,     50.0,  15.9795,  15.9812,2,  35.4911,2,  35.4931,2,    238.4,2,    239.5,2,     1.94,2,     1.96,2,     0.18,2,     0.26,2,     0.12,2,    2.476,2,    1.471,2,    0.184,2,    2.324,2,   2079.8,2,   2330.1,2,   -999.0,9,     0.69,2,-999.0000,9,-999.0000,9,-999.0000,9,  15.9812,2
  49NZ20191229,  I07S,    99,  1,     34,   1234,2,  200108,0541,-41.1607,  57.7441, 4889,     98.1,  15.3000,  15.3005,2,  35.4557,2,  35.4561,2,    232.6,2,    232.6,2,     2.54,2,     3.95,2,     0.08,2,     0.37,2,     0.03,2,    2.535,2,    1.499,2,    0.174,2,     2.39,2,   2092.9,2,   2328.7,2,   -999.0,9,     0.05,2,-999.0000,9,-999.0000,9,-999.0000,9,  15.3005,2
  49NZ20191229,  I07S,    99,  1,     33,   1233,2,  200108,0541,-41.1607,  57.7441, 4889,    150.7,  14.6537,  14.6642,2,  35.3773,2,  35.3801,2,    230.9,2,    230.7,2,     2.96,2,     5.38,2,     0.05,2,     0.46,2,     0.02,2,    2.607,2,    1.543,2,    0.160,2,    2.189,2,   2098.3,2,   2322.0,2,   -999.0,9,     0.03,2,-999.0000,9,-999.0000,9,-999.0000,9,  14.6642,2
  49NZ20191229,  I07S,    99,  1,     32,   1232,2,  200108,0541,-41.1607,  57.7441, 4889,    202.6,  14.4037,  14.4054,2,  35.4092,2,  35.4064,2,    236.3,2,    235.3,2,     3.06,2,     5.64,2,     0.02,2,     0.46,2,     0.04,2,    2.641,2,    1.560,2,    0.170,2,     2.33,2,   2107.4,2,   2324.7,2,   -999.0,9,     0.02,2,-999.0000,9,-999.0000,9,-999.0000,9,  14.4054,2
  49NZ20191229,  I07S,    99,  1,     31,   1231,2,  200108,0541,-41.1607,  57.7441, 4889,    250.0,  14.1601,  14.1603,2,  35.3757,2,  35.3753,2,    239.1,2,    238.5,2,     3.05,2,     5.81,2,     0.02,2,     0.47,2,     0.01,2,    2.683,2,    1.581,2,    0.181,2,    2.451,2,   2102.5,2,   2323.3,2,   -999.0,9,     0.02,2,-999.0000,9,-999.0000,9,-999.0000,9,  14.1603,2
  49NZ20191229,  I07S,    99,  1,     30,   1230,2,  200108,0541,-41.1607,  57.7441, 4889,    298.6,  14.0788,  14.0788,2,  35.3762,2,  35.3762,2,    240.8,2,    240.4,2,     3.18,2,     5.83,2,     0.02,2,     0.48,2,     0.02,2,    2.687,2,    1.573,2,    0.188,2,    2.459,2,   2102.7,2,   2321.2,2,   -999.0,9,  -999.00,9,-999.0000,9,-999.0000,9,-999.0000,9,  14.0788,2
  49NZ20191229,  I07S,    99,  1,     29,   1229,2,  200108,0541,-41.1607,  57.7441, 4889,    399.1,  13.7926,  13.7919,2,  35.3379,2,  35.3383,2,    238.0,2,    237.6,2,     3.39,2,     6.65,2,     0.02,2,     0.53,2,     0.01,2,    2.731,2,    1.612,2,    0.151,2,    2.307,2,   2111.3,2,   2320.1,2,   -999.0,9,  -999.00,9,-999.0000,9,-999.0000,9,-999.0000,9,  13.7919,2
  49NZ20191229,  I07S,    99,  1,     28,   1228,2,  200108,0541,-41.1607,  57.7441, 4889,    499.2,  13.3616,  13.3620,2,  35.2846,2,  35.2848,2,    239.8,2,    239.5,2,     3.50,2,     7.40,2,     0.01,2,     0.58,2,     0.01,2,    2.804,2,    1.637,2,    0.165,2,    2.362,2,   2109.3,2,   2318.3,2,   -999.0,9,  -999.00,9,-999.0000,9,-999.0000,9,-999.0000,9,  13.3620,2
  49NZ20191229,  I07S,    99,  1,     27,   1227,2,  200108,0541,-41.1607,  57.7441, 4889,    600.7,  12.6428,  12.6432,2,  35.1567,2,  35.1561,2,    230.6,2,    230.7,2,     3.94,2,     9.92,2,     0.01,2,     0.74,2,     0.02,2,    2.948,2,    1.706,2,    0.114,2,    2.167,2,   2124.6,2,   2313.8,2,   -999.0,9,  -999.00,9,-999.0000,9,-999.0000,9,-999.0000,9,  12.6432,2
  49NZ20191229,  I07S,    99,  1,     26,   1226,2,  200108,0541,-41.1607,  57.7441, 4889,    701.3,  11.6693,  11.6698,2,  35.0065,2,  35.0067,2,    224.7,2,    224.8,2,     4.70,2,    12.51,2,     0.01,2,     0.90,2,     0.03,2,    3.131,2,    1.775,2,    0.100,2,    1.928,2,   2128.0,6,   2306.6,2,   -999.0,9,  -999.00,9,-999.0000,9,-999.0000,9,-999.0000,9,  11.6698,2
  49NZ20191229,  I07S,    99,  1,     25,   1225,2,  200108,0541,-41.1607,  57.7441, 4889,    800.0,  10.6222,  10.6231,2,  34.8552,2,  34.8547,2,    218.4,2,    218.9,2,     6.14,2,    15.61,2,     0.01,2,     1.09,2,     0.02,2,    3.250,2,    1.811,2,    0.106,2,    1.696,2,   2137.7,2,   2299.7,2,   -999.0,9,  -999.00,9,-999.0000,9,-999.0000,9,-999.0000,9,  10.6231,2
  49NZ20191229,  I07S,    99,  1,     24,   1224,2,  200108,0541,-41.1607,  57.7441, 4889,    900.6,   9.2705,   9.2742,2,  34.6909,2,  34.6918,2,    212.9,2,    213.2,2,     9.10,2,    19.27,2,     0.01,2,     1.32,2,     0.02,2,    3.251,2,    1.769,2,    0.110,2,    1.451,2,   2149.9,2,   2294.8,2,   -999.0,9,  -999.00,9,-999.0000,9,-999.0000,9,-999.0000,9,   9.2742,2
  49NZ20191229,  I07S,    99,  1,     23,   1223,2,  200108,0541,-41.1607,  57.7441, 4889,   1001.7,   8.0518,   8.0516,2,  34.5707,2,  34.5709,2,    206.9,2,    207.4,2,    13.41,2,    23.61,3,     0.01,2,     1.56,2,     0.03,2,    3.130,2,    1.674,2,    0.122,2,    1.406,2,   2162.3,2,   2290.0,2,   -999.0,9,  -999.00,9,-999.0000,9,-999.0000,9,-999.0000,9,   8.0516,2
  49NZ20191229,  I07S,    99,  1,     22,   1222,2,  200108,0541,-41.1607,  57.7441, 4889,   1200.8,   5.4657,   5.4660,2,  34.3681,2,  34.3683,2,    209.7,2,    209.5,2,    24.26,2,    29.55,3,     0.01,2,     1.94,2,     0.03,2,    2.927,2,    1.528,2,    0.160,2,    1.149,2,   2184.9,2,   2292.8,6,   -999.0,9,  -999.00,9,-999.0000,9,-999.0000,9,-999.0000,9,   5.4660,2
  49NZ20191229,  I07S,    99,  1,     21,   1221,2,  200108,0541,-41.1607,  57.7441, 4889,   1399.3,   4.1065,   4.1071,2,  34.3863,2,  34.3864,2,    194.4,2,    194.4,2,    41.36,2,    32.12,2,     0.01,2,     2.19,2,     0.04,2,    2.046,2,    1.058,2,    0.125,2,    0.672,2,   2213.9,2,   2303.9,2,   -999.0,9,  -999.00,9,-999.0000,9,-999.0000,9,-999.0000,9,   4.1071,2
  49NZ20191229,  I07S,    99,  1,     20,   1220,2,  200108,0541,-41.1607,  57.7441, 4889,   1604.7,   3.5027,   3.5033,2,  34.4695,2,  34.4697,2,    178.5,2,    179.0,2,    55.35,2,    33.80,2,     0.01,2,     2.30,2,     0.04,2,    1.207,2,    0.639,2,    0.073,2,    0.359,2,   2235.9,2,   2321.5,2,   -999.0,9,  -999.00,9,-999.0000,9,-999.0000,9,-999.0000,9,   3.5033,2
  49NZ20191229,  I07S,    99,  1,     19,   1219,2,  200108,0541,-41.1607,  57.7441, 4889,   1800.0,   3.1860,   3.1869,2,  34.5727,2,  34.5719,2,    172.4,2,    172.4,2,    64.73,2,    33.27,2,     0.01,2,     2.28,2,     0.03,2,    0.604,2,    0.332,2,    0.037,2,    0.231,2,   2246.2,2,   2330.2,2,   -999.0,9,  -999.00,9,-999.0000,9,-999.0000,9,-999.0000,9,   3.1869,2
  49NZ20191229,  I07S,    99,  1,     18,   1218,2,  200108,0541,-41.1607,  57.7441, 4889,   2001.1,   2.8863,   2.8841,2,  34.6385,2,  34.6391,2,    176.0,2,    176.1,2,    68.54,2,    32.65,2,     0.01,2,     2.22,2,     0.03,2,    0.367,2,    0.204,2,    0.021,2,     0.11,2,   2249.9,2,   2336.9,2,   -999.0,9,  -999.00,9,-999.0000,9,-999.0000,9,-999.0000,9,   2.8841,2
  49NZ20191229,  I07S,    99,  1,     17,   1217,2,  200108,0541,-41.1607,  57.7441, 4889,   2202.3,   2.6078,   2.6079,2,  34.6898,2,  34.6906,2,    181.9,2,    181.8,2,    71.61,2,    31.68,2,     0.00,2,     2.15,2,     0.03,2,    0.276,2,    0.158,2,    0.017,2,    0.099,2,   2248.3,2,   2338.0,2,   -999.0,9,  -999.00,9,-999.0000,9,-999.0000,9,-999.0000,9,   2.6079,2
  49NZ20191229,  I07S,    99,  1,     16,   1216,2,  200108,0541,-41.1607,  57.7441, 4889,   2402.2,   2.5459,   2.5459,2,  34.7348,2,  34.7346,2,    190.9,2,    190.8,2,    70.77,2,    30.13,2,     0.00,2,     2.06,2,     0.02,2,    0.176,2,    0.102,2,    0.015,2,    0.043,2,   2241.6,6,   2341.2,2,   -999.0,9,  -999.00,9,-999.0000,9,-999.0000,9,-999.0000,9,   2.5459,2
  49NZ20191229,  I07S,    99,  1,     15,   1215,2,  200108,0541,-41.1607,  57.7441, 4889,   2600.6,   2.4229,   2.4227,2,  34.7542,2,  34.7552,2,    196.7,2,    196.6,2,    72.33,2,    29.72,2,     0.01,2,     2.01,2,     0.06,2,    0.134,2,    0.077,2,    0.005,2,     0.05,2,   2237.6,2,   2341.8,2,   -999.0,9,  -999.00,9,-999.0000,9,-999.0000,9,-999.0000,9,   2.4227,2
  49NZ20191229,  I07S,    99,  1,     14,   1214,2,  200108,0541,-41.1607,  57.7441, 4889,   2799.3,   2.2650,   2.2651,2,  34.7651,2,  34.7653,2,    200.7,2,    200.5,2,    75.95,2,    29.27,2,     0.01,2,     1.99,2,     0.04,2,    0.117,2,    0.067,2,    0.006,2,    0.035,2,   2242.7,2,   2345.7,2,   -999.0,9,  -999.00,9,-999.0000,9,-999.0000,9,-999.0000,9,   2.2651,2
  49NZ20191229,  I07S,    99,  1,     13,   1213,2,  200108,0541,-41.1607,  57.7441, 4889,   3000.7,   2.0656,   2.0655,2,  34.7604,2,  34.7607,2,    200.5,2,    200.5,2,    83.32,2,    30.43,2,     0.01,2,     2.03,2,     0.03,2,    0.111,2,    0.063,2,    0.005,2,    0.042,2,   2242.8,2,   2352.8,2,   -999.0,9,  -999.00,9,-999.0000,9,-999.0000,9,-999.0000,9,   2.0655,2
  49NZ20191229,  I07S,    99,  1,     12,   1212,2,  200108,0541,-41.1607,  57.7441, 4889,   3252.0,   1.8304,   1.8304,2,  34.7554,2,  34.7551,2,    203.0,2,    202.9,2,    90.17,2,    30.22,2,     0.01,2,     2.05,2,     0.02,2,    0.125,2,    0.072,2,    0.008,2,    0.049,2,   -999.0,9,   2354.6,6,   -999.0,9,  -999.00,9,-999.0000,9,-999.0000,9,-999.0000,9,   1.8304,2
  49NZ20191229,  I07S,    99,  1,     11,   1211,2,  200108,0541,-41.1607,  57.7441, 4889,   3499.2,   1.5907,   1.5908,2,  34.7468,2,  34.7463,2,    206.0,2,    206.0,2,    96.18,2,    30.61,2,     0.01,2,     2.07,2,     0.01,2,    0.175,2,    0.102,2,    0.011,2,    0.082,2,   2250.1,2,   2356.1,2,   -999.0,9,  -999.00,9,-999.0000,9,-999.0000,9,-999.0000,9,   1.5908,2
  49NZ20191229,  I07S,    99,  1,     10,   1210,2,  200108,0541,-41.1607,  57.7441, 4889,   3749.0,   1.3155,   1.3159,2,  34.7294,2,  34.7295,2,    207.5,2,    207.5,2,   105.39,2,    31.64,2,     0.01,2,     2.13,2,     0.02,2,    0.203,2,    0.115,2,    0.015,2,    0.023,2,   2257.2,2,   2358.1,2,   -999.0,9,  -999.00,9,-999.0000,9,-999.0000,9,-999.0000,9,   1.3159,2
  49NZ20191229,  I07S,    99,  1,      9,   1209,2,  200108,0541,-41.1607,  57.7441, 4889,   4001.2,   0.9875,   0.9874,2,  34.7109,2,  34.7108,2,    210.4,2,    210.3,2,   115.15,2,    32.36,2,     0.01,2,     2.18,2,     0.03,2,    0.255,2,    0.146,2,    0.014,2,    0.067,2,   2262.7,2,   2358.1,2,   -999.0,9,  -999.00,9,-999.0000,9,-999.0000,9,-999.0000,9,   0.9874,2
  49NZ20191229,  I07S,    99,  1,      8,  12103,2,  200108,0541,-41.1607,  57.7441, 4889,   4249.5,   0.7408,   0.7409,2,  34.6971,2,  34.6968,2,    213.8,2,    213.7,2,   123.86,2,    32.30,2,     0.01,2,     2.21,2,     0.02,2,    0.281,2,    0.157,2,    0.015,2,    0.055,2,   2262.7,6,   2359.4,2,   -999.0,9,  -999.00,9,-999.0000,9,-999.0000,9,-999.0000,9,   0.7409,2
  49NZ20191229,  I07S,    99,  1,      7,   1207,2,  200108,0541,-41.1607,  57.7441, 4889,   4501.8,   0.5581,   0.5581,2,  34.6866,2,  34.6871,2,    216.9,2,    216.7,2,   130.39,2,    32.57,2,     0.00,2,     2.23,2,     0.03,2,    0.285,2,    0.160,2,    0.014,2,    0.066,2,   2263.4,2,   2359.2,2,   -999.0,9,  -999.00,9,-999.0000,9,-999.0000,9,-999.0000,9,   0.5581,2
  49NZ20191229,  I07S,    99,  1,      6,   1206,2,  200108,0541,-41.1607,  57.7441, 4889,   4751.5,   0.4451,   0.4450,2,  34.6800,2,  34.6806,2,    219.5,2,    219.3,2,   135.14,2,    32.78,2,     0.01,2,     2.25,2,     0.03,2,    0.301,2,    0.168,2,    0.014,2,    0.108,2,   2265.3,2,   2360.4,6,   -999.0,9,  -999.00,9,-999.0000,9,-999.0000,9,-999.0000,9,   0.4450,2
  49NZ20191229,  I07S,    99,  1,      2,  12046,2,  200108,0541,-41.1607,  57.7441, 4889,     37.5,  16.1297,  16.1306,2,  35.5120,2,  35.5142,2,    248.5,2,    248.2,2,     1.60,2,     1.24,2,     0.12,2,     0.20,2,     0.11,2, -999.000,9, -999.000,9, -999.000,9,     -999,9,   2078.7,2,   2329.6,2,   -999.0,9,     0.83,2,-999.0000,9,-999.0000,9,-999.0000,9,  16.1306,2
  49NZ20191229,  I07S,    99,  1,      1,   1201,2,  200108,0541,-41.1607,  57.7441, 4889,   4968.0,   0.3436,   0.3437,2,  34.6741,2,  34.6743,2,    221.8,2,    221.1,2,   140.31,2,    32.75,2,     0.01,2,     2.26,2,     0.04,2,    0.333,2,    0.185,2,    0.020,2,    0.081,2,   2267.0,2,   2358.6,2,   -999.0,9,  -999.00,9,-999.0000,9,-999.0000,9,-999.0000,9,   0.3437,2