BOTTLE,20210310PRINUNIVRMK
EXPOCODE,SECT_ID,STNNBR,CASTNO,SAMPNO,BTLNBR,BTLNBR_FLAG_W,DATE,TIME,LATITUDE,LONGITUDE,DEPTH,CTDPRS,CTDTMP,SBE35,SBE35_FLAG_W,CTDSAL,CTDSAL_FLAG_W,SALNTY,SALNTY_FLAG_W,CTDOXY,CTDOXY_FLAG_W,OXYGEN,OXYGEN_FLAG_W,SILCAT,SILCAT_FLAG_W,NITRAT,NITRAT_FLAG_W,NITRIT,NITRIT_FLAG_W,PHSPHT,PHSPHT_FLAG_W,NH4,NH4_FLAG_W,CFC-11,CFC-11_FLAG_W,CFC-12,CFC-12_FLAG_W,CFC113,CFC113_FLAG_W,SF6,SF6_FLAG_W,TCARBN,TCARBN_FLAG_W,ALKALI,ALKALI_FLAG_W,DOC,DOC_FLAG_W,CHLORA,CHLORA_FLAG_W,CDOM300,CDOM300_FLAG_W,CDOM325,CDOM325_FLAG_W,CDOM443,CDOM443_FLAG_W,SBE35,SBE35_FLAG_W
,,,,,,,,,,,METERS,DBAR,ITS-90,,,PSS-78,,PSS-78,,UMOL/KG,,UMOL/KG,,UMOL/KG,,UMOL/KG,,UMOL/KG,,UMOL/KG,,UMOL/KG,,PMOL/KG,,PMOL/KG,,PMOL/KG,,FMOL/KG,,UMOL/KG,,UMOL/KG,,UMOL/KG,,UG/L,,1/M,,1/M,,1/M,,,
  49NZ20191229,  I07S,   151,  1,     36,   1236,2,  200121,1917,-65.1032,  53.0165, 2504,     10.0,  -0.5335,  -0.5370,2,  33.7809,2,  33.7816,2,    340.6,2,    342.1,2,    46.96,2,    26.65,2,     0.23,2,     1.86,2,     0.57,2,    5.821,2,    3.073,2,    0.554,2,    4.288,2,   2185.8,2,   2293.5,2,     25.5,4,     0.12,2,   0.2120,2,   0.0980,2,   0.0110,2,  -0.5370,2
  49NZ20191229,  I07S,   151,  1,     35,   1235,2,  200121,1917,-65.1032,  53.0165, 2504,     50.0,  -1.0823,  -1.0943,2,  33.9596,2,  34.0241,2,    322.9,2,    317.2,2,    55.24,2,    28.56,2,     0.18,2,     1.98,2,     0.38,2,    5.072,2,    2.691,2,    0.482,2,    3.645,2,   2198.0,2,   2308.1,2,     40.2,2,     0.22,2,   0.2390,2,   0.1180,2,   0.0140,2,  -1.0943,2
  49NZ20191229,  I07S,   151,  1,     34,   1234,2,  200121,1917,-65.1032,  53.0165, 2504,     99.6,  -1.6001,  -1.6002,2,  34.2953,2,  34.2957,2,    292.6,2,    292.6,2,    66.77,2,    31.19,2,     0.04,2,     2.12,2,     0.04,2,    4.319,2,    2.301,2,    0.402,2,    3.084,2,   2228.0,2,   2323.7,2,     44.3,2,     0.16,2,   0.2540,2,   0.1290,2,   0.0170,2,  -1.6002,2
  49NZ20191229,  I07S,   151,  1,     33,   1233,2,  200121,1917,-65.1032,  53.0165, 2504,    149.9,  -1.5781,  -1.5785,2,  34.3514,2,  34.3534,2,    296.6,2,    295.8,2,    68.06,2,    31.24,2,     0.01,2,     2.11,2,     0.03,2,    4.410,2,    2.344,2,    0.412,2,    3.154,2,   2228.2,2,   2325.9,2,     42.9,2,     0.03,2,   0.2490,2,   0.1250,2,   0.0120,2,  -1.5785,2
  49NZ20191229,  I07S,   151,  1,     32,   1232,2,  200121,1917,-65.1032,  53.0165, 2504,    199.4,  -0.7720,  -0.7709,2,  34.4490,2,  34.4491,2,    267.8,2,    267.5,2,    73.75,2,    31.68,2,     0.01,2,     2.15,2,     0.02,2,    3.523,2,    1.873,2,    0.324,2,    2.515,2,   2244.8,2,   2333.9,2,     42.2,2,     0.02,2,   0.2560,2,   0.1320,2,   0.0150,2,  -0.7709,2
  49NZ20191229,  I07S,   151,  1,     31,   1231,2,  200121,1917,-65.1032,  53.0165, 2504,    249.9,   0.6942,   0.6956,2,  34.6045,2,  34.6079,2,    214.9,2,    213.5,2,    85.33,2,    32.42,2,     0.01,2,     2.20,2,     0.03,2,    1.621,2,    0.881,2,    0.149,2,    1.069,2,   2254.4,2,   2345.5,2,   -999.0,9,     0.01,2,-999.0000,9,-999.0000,9,-999.0000,9,   0.6956,2
  49NZ20191229,  I07S,   151,  1,     30,   1230,2,  200121,1917,-65.1032,  53.0165, 2504,    279.6,   0.9414,   0.9410,2,  34.6390,2,  34.6402,2,    207.6,2,    207.5,2,    87.56,2,    32.35,2,     0.01,2,     2.20,2,     0.02,2,    1.289,2,    0.719,2,    0.116,2,    0.844,2,   2254.6,2,   2347.6,2,     40.3,2,  -999.00,9,   0.2800,2,   0.1490,2,   0.0200,2,   0.9410,2
  49NZ20191229,  I07S,   151,  1,     29,   1229,2,  200121,1917,-65.1032,  53.0165, 2504,    369.5,   1.3097,   1.3095,2,  34.6996,2,  34.6987,2,    196.2,2,    196.2,2,    93.07,2,    31.96,2,     0.01,2,     2.17,2,     0.02,2,    0.635,2,    0.375,2,    0.056,2,    0.368,2,   2256.4,2,   2352.3,2,     38.3,2,  -999.00,9,   0.2780,2,   0.1500,2,   0.0230,2,   1.3095,2
  49NZ20191229,  I07S,   151,  1,     28,   1228,2,  200121,1917,-65.1032,  53.0165, 2504,    471.1,   1.1456,   1.1451,2,  34.6945,2,  34.6962,2,    201.7,2,    201.3,2,    93.91,2,    31.83,2,     0.01,2,     2.16,2,     0.02,2,    0.724,2,    0.427,2,    0.064,2,    0.433,2,   2259.5,2,   2352.7,2,     41.5,2,  -999.00,9,   0.2670,2,   0.1450,2,   0.0160,2,   1.1451,2
  49NZ20191229,  I07S,   151,  1,     27,   1227,2,  200121,1917,-65.1032,  53.0165, 2504,    568.3,   0.8825,   0.8820,2,  34.6834,2,  34.6838,2,    209.8,2,    209.8,2,    95.43,2,    31.81,2,     0.00,2,     2.15,2,     0.02,2,    0.924,2,    0.531,2,    0.081,2,    0.549,2,   2255.6,2,   2353.1,2,     41.4,2,  -999.00,9,   0.2680,2,   0.1450,2,   0.0190,2,   0.8820,2
  49NZ20191229,  I07S,   151,  1,     26,   1226,2,  200121,1917,-65.1032,  53.0165, 2504,    669.4,   0.9137,   0.9134,2,  34.6987,2,  34.6989,2,    206.5,2,    206.7,2,   100.69,2,    31.78,2,     0.01,2,     2.17,2,     0.02,2,    0.656,2,    0.388,2,    0.058,2,    0.348,2,   2257.6,6,   2355.3,2,   -999.0,9,  -999.00,9,-999.0000,9,-999.0000,9,-999.0000,9,   0.9134,2
  49NZ20191229,  I07S,   151,  1,     25,   1225,2,  200121,1917,-65.1032,  53.0165, 2504,    767.7,   0.8229,   0.8226,2,  34.6966,2,  34.6968,2,    207.6,2,    207.7,2,   103.44,2,    31.86,2,     0.01,2,     2.17,2,     0.02,2,    0.649,2,    0.381,2,    0.056,2,    0.285,2,   2262.4,2,   2355.6,2,     38.0,2,  -999.00,9,   0.2640,2,   0.1390,2,   0.0140,2,   0.8226,2
  49NZ20191229,  I07S,   151,  1,     24,   1224,2,  200121,1917,-65.1032,  53.0165, 2504,    869.4,   0.6849,   0.6847,2,  34.6890,2,  34.6892,2,    210.5,2,    210.6,2,   105.30,2,    31.99,2,     0.01,2,     2.18,2,     0.02,2,    0.725,2,    0.417,2,    0.062,2,    0.452,2,   2258.9,2,   2357.4,2,   -999.0,9,  -999.00,9,-999.0000,9,-999.0000,9,-999.0000,9,   0.6847,2
  49NZ20191229,  I07S,   151,  1,     23,   1223,2,  200121,1917,-65.1032,  53.0165, 2504,    970.5,   0.2460,   0.2459,2,  34.6521,2,  34.6527,2,    225.3,2,    225.0,2,   101.97,2,    32.05,2,     0.01,2,     2.19,2,     0.03,2,    1.345,2,    0.740,2,    0.119,2,     0.71,2,   2256.9,2,   2353.8,2,     37.7,2,  -999.00,9,   0.2560,2,   0.1290,2,   0.0070,2,   0.2459,2
  49NZ20191229,  I07S,   151,  1,     22,   1222,2,  200121,1917,-65.1032,  53.0165, 2504,   1129.8,   0.2551,   0.2550,2,  34.6605,2,  34.6604,2,    222.3,2,    222.3,2,   107.52,2,    32.33,2,     0.01,2,     2.20,2,     0.02,2,    1.132,2,    0.626,2,    0.097,2,    0.606,2,   2260.9,2,   2355.0,6,     40.2,2,  -999.00,9,-999.0000,9,-999.0000,9,-999.0000,9,   0.2550,2
  49NZ20191229,  I07S,   151,  1,     21,   1221,2,  200121,1917,-65.1032,  53.0165, 2504,   1330.2,   0.2906,   0.2910,2,  34.6735,2,  34.6738,2,    216.4,2,    216.6,2,   116.85,2,    32.69,2,     0.01,2,     2.23,2,     0.01,2,    0.739,2,    0.421,2,    0.054,2,    0.146,2,   2266.5,2,   2357.6,2,     40.9,2,  -999.00,9,   0.2690,2,   0.1410,2,   0.0190,2,   0.2910,2
  49NZ20191229,  I07S,   151,  1,     20,   1220,2,  200121,1917,-65.1032,  53.0165, 2504,   1529.4,   0.1364,   0.1363,2,  34.6677,2,  34.6683,2,    221.0,2,    221.1,2,   119.82,2,    32.73,2,     0.01,2,     2.24,2,     0.01,2,    0.782,2,    0.444,2,    0.061,2,    0.348,2,   2266.6,2,   2357.1,2,   -999.0,9,  -999.00,9,-999.0000,9,-999.0000,9,-999.0000,9,   0.1363,2
  49NZ20191229,  I07S,   151,  1,     19,   1219,2,  200121,1917,-65.1032,  53.0165, 2504,   1729.7,   0.0924,   0.0922,2,  34.6690,2,  34.6696,2,    221.1,2,    221.2,2,   124.09,2,    32.78,2,     0.01,2,     2.24,2,     0.02,2,    0.656,2,    0.379,2,    0.050,2,    0.282,2,   2269.4,2,   2358.6,2,     39.0,2,  -999.00,9,   0.2680,2,   0.1410,2,   0.0220,2,   0.0922,2
  49NZ20191229,  I07S,   151,  1,     18,   1218,2,  200121,1917,-65.1032,  53.0165, 2504,   1929.8,   0.0016,   0.0013,2,  34.6630,2,  34.6632,2,    226.0,2,    225.9,2,   122.16,2,    32.66,2,     0.01,2,     2.23,2,     0.01,2,    0.876,2,    0.497,2,    0.067,2,    0.438,2,   2267.7,2,   2357.8,2,   -999.0,9,  -999.00,9,-999.0000,9,-999.0000,9,-999.0000,9,   0.0013,2
  49NZ20191229,  I07S,   151,  1,     17,   1217,2,  200121,1917,-65.1032,  53.0165, 2504,   2132.6,  -0.0978,  -0.0980,2,  34.6573,2,  34.6577,2,    230.9,2,    230.9,2,   120.92,2,    32.61,2,     0.01,2,     2.23,2,     0.02,2,    1.093,2,    0.600,2,    0.083,2,     0.57,2,   2263.5,2,   2357.8,2,     39.6,2,  -999.00,9,   0.2660,2,   0.1390,2,   0.0200,2,  -0.0980,2
  49NZ20191229,  I07S,   151,  1,     16,   1216,2,  200121,1917,-65.1032,  53.0165, 2504,   2332.3,  -0.1601,  -0.1602,2,  34.6536,2,  34.6541,2,    234.7,2,    234.4,2,   119.23,2,    32.57,2,     0.00,2,     2.22,2,     0.02,2,    1.271,2,    0.688,2,    0.098,2,    0.715,2,   2263.2,6,   2355.8,2,   -999.0,9,  -999.00,9,-999.0000,9,-999.0000,9,-999.0000,9,  -0.1602,2
  49NZ20191229,  I07S,   151,  1,     14,   1214,2,  200121,1917,-65.1032,  53.0165, 2504,     10.0,  -0.5633,  -0.5595,8,  33.7822,2,-999.0000,9,    340.8,2,   -999.0,9,  -999.00,9,  -999.00,9,  -999.00,9,  -999.00,9,     -999,9, -999.000,9, -999.000,9, -999.000,9,     -999,9,   -999.0,9,   -999.0,9,   -999.0,9,  -999.00,9,-999.0000,9,-999.0000,9,-999.0000,9,  -0.5595,8
  49NZ20191229,  I07S,   151,  1,     12,   1211,2,  200121,1917,-65.1032,  53.0165, 2504,    369.4,   1.3106,   1.3108,8,  34.6995,2,-999.0000,9,    196.3,2,   -999.0,9,  -999.00,9,  -999.00,9,  -999.00,9,  -999.00,9,     -999,9, -999.000,9, -999.000,9, -999.000,9,     -999,9,   -999.0,9,   -999.0,9,   -999.0,9,  -999.00,9,-999.0000,9,-999.0000,9,-999.0000,9,   1.3108,8
  49NZ20191229,  I07S,   151,  1,      2,  12046,2,  200121,1917,-65.1032,  53.0165, 2504,     69.9,  -1.4977,  -1.4973,2,  34.1951,2,  34.2118,2,    295.5,2,    292.8,2,    64.09,2,    30.57,2,     0.13,2,     2.09,2,      0.1,2, -999.000,9, -999.000,9, -999.000,9,     -999,9,   2224.1,2,   2316.0,2,     41.7,2,     0.33,2,   0.2570,2,   0.1280,2,   0.0200,2,  -1.4973,2
  49NZ20191229,  I07S,   151,  1,      1,   1201,2,  200121,1917,-65.1032,  53.0165, 2504,   2523.4,  -0.1528,  -0.1530,2,  34.6537,2,  34.6541,2,    235.1,2,    234.9,2,   119.83,2,    32.45,2,     0.01,2,     2.22,2,     0.01,2,    1.245,2,    0.678,2,    0.099,2,    0.712,2,   2260.6,2,   2354.5,2,     40.7,2,  -999.00,9,   0.2700,2,   0.1410,2,   0.0210,2,  -0.1530,2
  49NZ20191229,  I07S,   152,  1,     36,   1236,2,  200122,0021,-65.2242,  53.1309, 1880,     10.3,  -0.2653,  -0.2665,2,  33.7463,2,  33.7458,2,    342.6,2,    344.5,2,    46.21,2,    26.29,2,     0.25,2,     1.82,2,     0.53,2,    5.925,2,    3.108,2,    0.560,2,    4.426,2,   2172.2,2,   2289.2,2,     36.6,2,     0.12,2,   0.2210,2,   0.1100,2,   0.0190,2,  -0.2665,2
  49NZ20191229,  I07S,   152,  1,     35,   1235,2,  200122,0021,-65.2242,  53.1309, 1880,     50.1,  -0.8949,  -0.9118,2,  33.8252,2,  33.8468,2,    333.0,2,    330.6,2,    50.41,2,    27.27,2,     0.22,2,     1.89,2,     0.43,2,    5.478,2,    2.874,2,    0.512,2,    3.939,2,   2185.2,2,   2294.9,2,     39.9,2,     0.22,2,   0.2460,2,   0.1270,2,   0.0250,2,  -0.9118,2
  49NZ20191229,  I07S,   152,  1,     34,   1234,2,  200122,0021,-65.2242,  53.1309, 1880,    100.4,  -1.0167,  -1.0163,2,  34.2889,2,  34.2914,2,    277.4,2,    277.8,2,    67.52,2,    31.18,2,     0.12,2,     2.14,2,     0.08,2,    3.966,2,    2.075,2,    0.364,2,    2.805,2,   2225.9,2,   2321.2,2,     34.5,2,     0.25,2,   0.2860,2,   0.1560,2,   0.0310,2,  -1.0163,2
  49NZ20191229,  I07S,   152,  1,     33,   1233,2,  200122,0021,-65.2242,  53.1309, 1880,    150.3,  -1.3698,  -1.3689,2,  34.3604,2,  34.3635,2,    285.7,2,    285.1,2,    69.61,2,    31.35,2,     0.02,2,     2.13,2,     0.03,2,    4.093,2,    2.157,2,    0.374,2,    2.939,2,   2227.8,2,   2325.9,2,     31.2,2,     0.05,2,   0.2690,2,   0.1410,2,   0.0230,2,  -1.3689,2
  49NZ20191229,  I07S,   152,  1,     32,   1232,2,  200122,0021,-65.2242,  53.1309, 1880,    200.0,  -0.8215,  -0.8193,2,  34.4309,2,  34.4319,2,    268.0,2,    267.5,2,    73.38,2,    31.70,2,     0.02,2,     2.16,2,     0.03,2,    3.542,2,    1.869,2,    0.325,2,    2.493,2,   2235.3,2,   2330.9,2,     38.6,2,     0.03,2,   0.2580,2,   0.1310,2,   0.0190,2,  -0.8193,2
  49NZ20191229,  I07S,   152,  1,     31,   1231,2,  200122,0021,-65.2242,  53.1309, 1880,    249.6,  -0.4296,  -0.4292,2,  34.5029,2,  34.5036,2,    253.8,2,    254.0,2,    77.48,2,    31.79,2,     0.01,2,     2.17,2,     0.04,2,    3.029,2,    1.603,2,    0.267,2,    2.119,2,   2239.0,2,   2337.5,2,   -999.0,9,     0.01,2,-999.0000,9,-999.0000,9,-999.0000,9,  -0.4292,2
  49NZ20191229,  I07S,   152,  1,     30,   1230,2,  200122,0021,-65.2242,  53.1309, 1880,    300.0,  -0.3624,  -0.3625,2,  34.5371,2,  34.5366,2,    252.0,2,    251.7,2,    79.49,2,    31.65,2,     0.01,2,     2.16,2,     0.05,2,    2.872,2,    1.525,2,    0.250,2,    1.939,2,   2241.9,2,   2339.3,2,     42.6,2,  -999.00,9,   0.2650,2,   0.1420,2,   0.0220,2,  -0.3625,2
  49NZ20191229,  I07S,   152,  1,     29,   1229,2,  200122,0021,-65.2242,  53.1309, 1880,    400.1,  -0.2147,  -0.2145,2,  34.5748,2,  34.5754,2,    247.4,2,    246.2,2,    84.06,2,    31.57,2,     0.01,2,     2.15,2,     0.04,2,    2.507,2,    1.331,2,    0.221,2,    1.678,2,   2244.3,2,   2342.1,2,     44.7,2,  -999.00,9,   0.2600,2,   0.1400,2,   0.0220,2,  -0.2145,2
  49NZ20191229,  I07S,   152,  1,     28,   1228,2,  200122,0021,-65.2242,  53.1309, 1880,    501.4,   0.4646,   0.4644,2,  34.6497,2,  34.6504,2,    223.0,2,    222.7,2,    92.94,2,    31.56,2,     0.01,2,     2.16,2,     0.04,2,    1.476,2,    0.801,2,    0.133,2,    1.307,2,   2250.8,2,   2350.2,2,     44.2,2,  -999.00,9,   0.2720,2,   0.1500,2,   0.0200,2,   0.4644,2
  49NZ20191229,  I07S,   152,  1,     27,   1227,2,  200122,0021,-65.2242,  53.1309, 1880,    600.1,   0.4349,   0.4335,2,  34.6584,2,  34.6590,2,    221.7,2,    221.7,2,    97.31,2,    31.64,2,     0.01,2,     2.16,2,     0.06,2,    1.315,2,    0.713,2,    0.115,2,     0.85,2,   2245.9,2,   2351.6,2,     45.5,2,  -999.00,9,   0.2880,2,   0.1560,2,   0.0240,2,   0.4335,2
  49NZ20191229,  I07S,   152,  1,     26,   1226,2,  200122,0021,-65.2242,  53.1309, 1880,    699.7,   0.4156,   0.4161,2,  34.6647,2,  34.6652,2,    220.0,2,    220.2,2,   101.82,2,    31.82,2,     0.01,2,     2.18,2,     0.06,2,    1.164,2,    0.637,2,    0.103,2,    0.698,2,   2252.1,6,   -999.0,9,   -999.0,9,  -999.00,9,-999.0000,9,-999.0000,9,-999.0000,9,   0.4161,2
  49NZ20191229,  I07S,   152,  1,     25,   1225,2,  200122,0021,-65.2242,  53.1309, 1880,    800.2,   0.2733,   0.2733,2,  34.6548,2,  34.6552,2,    224.1,2,    224.2,2,   102.14,2,    31.90,2,     0.01,2,     2.18,2,     0.04,2,    1.328,2,    0.714,2,    0.117,2,    0.871,2,   2252.7,2,   2352.2,2,     43.0,2,  -999.00,9,   0.2740,2,   0.1450,2,   0.0190,2,   0.2733,2
  49NZ20191229,  I07S,   152,  1,     24,   1224,2,  200122,0021,-65.2242,  53.1309, 1880,    901.0,   0.2704,   0.2703,2,  34.6602,2,  34.6611,2,    222.2,2,    222.2,2,   106.13,2,    32.07,2,     0.01,2,     2.20,2,     0.04,2,    1.183,2,    0.644,2,    0.103,2,    0.702,2,   2253.1,2,   2355.0,2,   -999.0,9,  -999.00,9,-999.0000,9,-999.0000,9,-999.0000,9,   0.2703,2
  49NZ20191229,  I07S,   152,  1,     23,   1223,2,  200122,0021,-65.2242,  53.1309, 1880,   1000.0,   0.2550,   0.2538,2,  34.6656,2,  34.6664,2,    220.0,2,    220.2,2,   111.38,2,    32.31,2,     0.01,2,     2.21,2,     0.03,2,    1.005,2,    0.548,2,    0.082,2,    0.593,2,   2254.5,2,   2356.9,2,     39.6,2,  -999.00,9,   0.2650,2,   0.1430,2,   0.0220,2,   0.2538,2
  49NZ20191229,  I07S,   152,  1,     22,   1222,2,  200122,0021,-65.2242,  53.1309, 1880,   1200.0,   0.1892,   0.1888,2,  34.6676,2,  34.6688,2,    219.8,2,    220.2,2,   116.52,2,    32.54,2,     0.01,2,     2.23,2,     0.02,2,    0.875,2,    0.479,2,    0.071,2,    0.441,2,   2258.6,2,   2357.5,6,     38.8,2,  -999.00,9,-999.0000,9,-999.0000,9,-999.0000,9,   0.1888,2
  49NZ20191229,  I07S,   152,  1,     21,   1221,2,  200122,0021,-65.2242,  53.1309, 1880,   1400.8,   0.1171,   0.1168,2,  34.6702,2,  34.6708,2,    219.9,2,    220.0,2,   123.26,2,    32.72,2,     0.01,2,     2.24,2,     0.01,2,    0.675,2,    0.369,2,    0.050,2,    0.276,2,   2261.7,2,   2359.1,2,     41.5,2,  -999.00,9,   0.2690,2,   0.1420,2,   0.0200,2,   0.1168,2
  49NZ20191229,  I07S,   152,  1,     20,   1220,2,  200122,0021,-65.2242,  53.1309, 1880,   1600.1,   0.0297,   0.0299,2,  34.6664,2,  34.6674,2,    223.3,2,    223.6,2,   124.00,2,    32.69,2,     0.01,2,     2.24,2,     0.03,2,    0.765,2,    0.416,2,    0.057,2,    0.341,2,   2256.2,2,   2357.6,2,   -999.0,9,  -999.00,9,-999.0000,9,-999.0000,9,-999.0000,9,   0.0299,2
  49NZ20191229,  I07S,   152,  1,     19,   1219,2,  200122,0021,-65.2242,  53.1309, 1880,   1801.9,  -0.1159,  -0.1161,2,  34.6544,2,  34.6549,2,    232.2,2,    232.1,2,   117.81,2,    32.41,2,     0.01,2,     2.22,2,     0.03,2,    1.258,2,    0.678,2,    0.101,2,    0.656,2,   2255.7,2,   2355.6,2,     37.6,2,  -999.00,9,   0.2580,2,   0.1390,2,   0.0220,2,  -0.1161,2
  49NZ20191229,  I07S,   152,  1,      2,  12046,2,  200122,0021,-65.2242,  53.1309, 1880,     80.1,  -1.2476,  -1.2456,2,  34.1715,2,  34.1820,2,    295.8,2,    294.0,2,    62.46,2,    30.16,2,     0.16,2,     2.08,2,     0.17,2, -999.000,9, -999.000,9, -999.000,9,     -999,9,   2215.0,2,   2316.4,2,     45.2,2,     0.37,2,   0.2540,2,   0.1260,2,   0.0180,2,  -1.2456,2
  49NZ20191229,  I07S,   152,  1,      1,   1201,2,  200122,0021,-65.2242,  53.1309, 1880,   1892.8,  -0.1147,  -0.1148,2,  34.6541,2,  34.6546,2,    232.6,2,    232.3,2,   117.56,2,    32.32,2,     0.00,2,     2.22,2,     0.04,2,    1.275,2,    0.681,2,    0.102,2,    0.651,2,   2254.8,2,   2355.0,2,     39.6,2,  -999.00,9,   0.2660,2,   0.1430,2,   0.0180,2,  -0.1148,2