BOTTLE,20210310PRINUNIVRMK
EXPOCODE,SECT_ID,STNNBR,CASTNO,SAMPNO,BTLNBR,BTLNBR_FLAG_W,DATE,TIME,LATITUDE,LONGITUDE,DEPTH,CTDPRS,CTDTMP,SBE35,SBE35_FLAG_W,CTDSAL,CTDSAL_FLAG_W,SALNTY,SALNTY_FLAG_W,CTDOXY,CTDOXY_FLAG_W,OXYGEN,OXYGEN_FLAG_W,SILCAT,SILCAT_FLAG_W,NITRAT,NITRAT_FLAG_W,NITRIT,NITRIT_FLAG_W,PHSPHT,PHSPHT_FLAG_W,NH4,NH4_FLAG_W,CFC-11,CFC-11_FLAG_W,CFC-12,CFC-12_FLAG_W,CFC113,CFC113_FLAG_W,SF6,SF6_FLAG_W,TCARBN,TCARBN_FLAG_W,ALKALI,ALKALI_FLAG_W,DOC,DOC_FLAG_W,CHLORA,CHLORA_FLAG_W,CDOM300,CDOM300_FLAG_W,CDOM325,CDOM325_FLAG_W,CDOM443,CDOM443_FLAG_W,SBE35,SBE35_FLAG_W
,,,,,,,,,,,METERS,DBAR,ITS-90,,,PSS-78,,PSS-78,,UMOL/KG,,UMOL/KG,,UMOL/KG,,UMOL/KG,,UMOL/KG,,UMOL/KG,,UMOL/KG,,PMOL/KG,,PMOL/KG,,PMOL/KG,,FMOL/KG,,UMOL/KG,,UMOL/KG,,UMOL/KG,,UG/L,,1/M,,1/M,,1/M,,,
  49NZ20191229,  I07S,   147,  1,     36,   1236,2,  200120,1856,-63.5018,  53.6774, 4758,     10.1,   0.5470,   0.5528,2,  33.6095,2,  33.6095,2,    345.9,2,    346.6,2,    37.45,2,    24.24,2,     0.27,2,     1.68,2,     0.68,2,    5.942,2,    3.168,2,    0.582,2,    4.446,2,   2156.0,2,   2277.0,2,     46.4,2,     0.07,2,   0.1880,2,   0.0920,2,   0.0110,2,   0.5528,2
  49NZ20191229,  I07S,   147,  1,     35,   1235,2,  200120,1856,-63.5018,  53.6774, 4758,     50.1,  -1.1933,  -1.1860,2,  33.7739,2,  33.7797,2,    364.2,2,    364.7,2,    40.72,2,    24.99,2,     0.15,2,     1.78,2,     0.74,2,    6.090,2,    3.228,2,    0.595,2,    4.446,2,   2164.6,2,   2289.8,2,     45.8,2,     0.09,2,   0.2300,2,   0.1150,2,   0.0170,2,  -1.1860,2
  49NZ20191229,  I07S,   147,  1,     34,   1234,2,  200120,1856,-63.5018,  53.6774, 4758,    100.6,  -0.9534,  -0.9454,2,  34.1934,2,  34.1908,2,    302.0,2,    301.9,2,    60.21,2,    30.20,2,     0.25,2,     2.10,2,     0.19,2,    4.782,2,    2.578,2,    0.462,2,    3.459,2,   2217.7,2,   2313.7,2,     44.0,2,     0.15,2,   0.2360,2,   0.1190,2,   0.0190,2,  -0.9454,2
  49NZ20191229,  I07S,   147,  1,     33,   1233,2,  200120,1856,-63.5018,  53.6774, 4758,    150.8,   1.5218,   1.5203,2,  34.5255,2,  34.5256,2,    186.7,2,    185.6,2,    81.36,2,    34.97,2,     0.03,2,     2.40,2,     0.03,2,    1.519,2,    0.833,2,    0.135,2,    0.873,2,   2261.5,2,   2330.1,2,     37.6,2,     0.05,2,   0.2760,2,   0.1510,2,   0.0230,2,   1.5203,2
  49NZ20191229,  I07S,   147,  1,     32,   1232,2,  200120,1856,-63.5018,  53.6774, 4758,    199.9,   1.7252,   1.7249,2,  34.5949,2,  34.5945,2,    176.0,2,    175.5,2,    85.03,2,    34.71,2,     0.01,2,     2.37,2,     0.03,2,    0.990,2,    0.562,2,    0.087,2,    0.515,2,   2265.7,2,   2336.2,2,     36.8,2,     0.01,2,   0.2700,2,   0.1440,2,   0.0230,2,   1.7249,2
  49NZ20191229,  I07S,   147,  1,     31,   1231,2,  200120,1856,-63.5018,  53.6774, 4758,    249.9,   1.7825,   1.7823,2,  34.6297,2,  34.6285,2,    174.5,2,    174.2,2,    86.45,2,    34.29,2,     0.01,2,     2.34,2,     0.04,2,    0.769,2,    0.446,2,    0.072,2,     0.43,2,   2264.6,2,   2340.1,2,   -999.0,9,     0.01,2,-999.0000,9,-999.0000,9,-999.0000,9,   1.7823,2
  49NZ20191229,  I07S,   147,  1,     30,   1230,2,  200120,1856,-63.5018,  53.6774, 4758,    328.1,   1.7590,   1.7588,2,  34.6629,2,  34.6629,2,    177.0,2,    176.6,2,    88.51,2,    33.61,2,     0.01,2,     2.29,2,     0.02,2,    0.601,2,    0.359,2,    0.055,2,     0.31,2,   -999.0,9,   2342.7,2,     40.2,2,  -999.00,9,   0.2580,2,   0.1380,2,   0.0180,2,   1.7588,2
  49NZ20191229,  I07S,   147,  1,     29,   1229,2,  200120,1856,-63.5018,  53.6774, 4758,    430.5,   1.7286,   1.7281,2,  34.6952,2,  34.6942,2,    181.3,2,    181.2,2,    90.13,2,    32.76,2,     0.01,2,     2.23,2,     0.01,2,    0.468,2,    0.283,2,    0.045,2,    0.197,2,   -999.0,9,   2347.3,2,     39.8,2,  -999.00,9,   0.2650,2,   0.1450,2,   0.0270,2,   1.7281,2
  49NZ20191229,  I07S,   147,  1,     28,   1228,2,  200120,1856,-63.5018,  53.6774, 4758,    530.5,   1.6322,   1.6326,2,  34.7084,2,  34.7083,2,    185.7,2,    185.8,2,    92.12,2,    32.28,2,     0.01,2,     2.20,2,     0.02,2,    0.417,2,    0.256,2,    0.038,2,    0.197,2,   2261.5,2,   2347.3,2,     41.8,2,  -999.00,9,   0.2750,2,   0.1480,2,   0.0240,2,   1.6326,2
  49NZ20191229,  I07S,   147,  1,     27,   1227,2,  200120,1856,-63.5018,  53.6774, 4758,    630.2,   1.5500,   1.5493,2,  34.7181,2,  34.7176,2,    189.9,2,    189.7,2,    93.74,2,    31.83,2,     0.00,2,     2.17,2,     0.03,2,    0.368,2,    0.229,2,    0.029,2,    0.138,2,   2259.4,2,   2348.5,2,     40.6,2,  -999.00,9,   0.2590,2,   0.1410,2,   0.0180,2,   1.5493,2
  49NZ20191229,  I07S,   147,  1,     26,   1226,2,  200120,1856,-63.5018,  53.6774, 4758,    730.3,   1.4543,   1.4541,2,  34.7216,2,  34.7213,2,    193.0,2,    193.0,2,    95.66,2,    31.65,2,     0.01,2,     2.15,2,     0.04,2,    0.352,2,    0.218,2,    0.033,2,    0.167,2,   2257.4,6,   2351.3,2,   -999.0,9,  -999.00,9,-999.0000,9,-999.0000,9,-999.0000,9,   1.4541,2
  49NZ20191229,  I07S,   147,  1,     25,   1225,2,  200120,1856,-63.5018,  53.6774, 4758,    830.1,   1.3849,   1.3848,2,  34.7255,2,  34.7252,2,    196.2,2,    196.1,2,    97.20,2,    31.44,2,     0.01,2,     2.15,2,     0.03,2,    0.327,2,    0.206,2,    0.027,2,    0.134,2,   2260.5,2,   2351.2,2,     39.1,2,  -999.00,9,   0.2660,2,   0.1500,2,   0.0200,2,   1.3848,2
  49NZ20191229,  I07S,   147,  1,     24,   1224,2,  200120,1856,-63.5018,  53.6774, 4758,    931.1,   1.2685,   1.2687,2,  34.7231,2,  34.7233,2,    198.3,2,    198.3,2,    99.81,2,    31.43,2,     0.01,2,     2.15,2,     0.04,2,    0.325,2,    0.204,2,    0.028,2,    0.129,2,   2256.8,2,   2352.7,2,   -999.0,9,  -999.00,9,-999.0000,9,-999.0000,9,-999.0000,9,   1.2687,2
  49NZ20191229,  I07S,   147,  1,     23,   1223,2,  200120,1856,-63.5018,  53.6774, 4758,   1069.9,   1.1505,   1.1503,2,  34.7203,2,  34.7202,2,    200.6,2,    200.6,2,   102.94,2,    31.53,2,     0.01,2,     2.15,2,     0.03,2,    0.332,2,    0.204,2,    0.030,2,    0.131,2,   2254.7,2,   2352.3,2,     41.1,2,  -999.00,9,   0.2730,2,   0.1520,2,   0.0230,2,   1.1503,2
  49NZ20191229,  I07S,   147,  1,     22,   1222,2,  200120,1856,-63.5018,  53.6774, 4758,   1272.7,   0.9437,   0.9433,2,  34.7112,2,  34.7110,2,    203.0,2,    203.1,2,   108.63,2,    31.94,2,     0.01,2,     2.18,2,     0.02,2,    0.361,2,    0.218,2,    0.027,2,    0.137,2,   2259.4,2,   2355.4,6,     41.8,2,  -999.00,9,-999.0000,9,-999.0000,9,-999.0000,9,   0.9433,2
  49NZ20191229,  I07S,   147,  1,     21,   1221,2,  200120,1856,-63.5018,  53.6774, 4758,   1470.4,   0.8028,   0.8023,2,  34.7042,2,  34.7041,2,    204.4,2,    204.4,2,   112.52,2,    32.19,2,     0.01,2,     2.20,2,     0.02,2,    0.374,2,    0.222,2,    0.032,2,    0.176,2,   2259.2,2,   2355.1,2,     40.5,2,  -999.00,9,   0.2660,2,   0.1450,2,   0.0190,2,   0.8023,2
  49NZ20191229,  I07S,   147,  1,     20,   1220,2,  200120,1856,-63.5018,  53.6774, 4758,   1669.2,   0.6644,   0.6641,2,  34.6969,2,  34.6968,2,    205.4,2,    205.4,2,   116.85,2,    32.47,2,     0.01,2,     2.23,2,     0.03,2,    0.390,2,    0.232,2,    0.027,2,    0.106,2,   2259.0,2,   2356.5,2,   -999.0,9,  -999.00,9,-999.0000,9,-999.0000,9,-999.0000,9,   0.6641,2
  49NZ20191229,  I07S,   147,  1,     19,   1219,2,  200120,1856,-63.5018,  53.6774, 4758,   1869.3,   0.5575,   0.5587,2,  34.6914,2,  34.6913,2,    206.5,2,    206.4,2,   120.22,2,    32.68,2,     0.01,2,     2.24,2,     0.04,2,    0.397,2,    0.231,2,    0.027,2,    0.156,2,   2262.1,2,   2355.5,2,     40.8,2,  -999.00,9,   0.2550,2,   0.1400,2,   0.0170,2,   0.5587,2
  49NZ20191229,  I07S,   147,  1,     18,   1218,2,  200120,1856,-63.5018,  53.6774, 4758,   2068.4,   0.4689,   0.4690,2,  34.6870,2,  34.6868,2,    208.2,2,    208.1,2,   123.05,2,    32.91,2,     0.00,2,     2.26,2,     0.03,2,    0.376,2,    0.227,2,    0.030,2,    0.096,2,   2262.1,2,   2355.4,2,   -999.0,9,  -999.00,9,-999.0000,9,-999.0000,9,-999.0000,9,   0.4690,2
  49NZ20191229,  I07S,   147,  1,     17,   1217,2,  200120,1856,-63.5018,  53.6774, 4758,   2269.9,   0.3882,   0.3886,2,  34.6829,2,  34.6830,2,    210.2,2,    210.2,2,   125.30,2,    32.98,2,     0.00,2,     2.26,2,     0.03,2,    0.397,2,    0.232,2,    0.026,2,     0.09,2,   2262.2,2,   2355.7,2,     42.0,2,  -999.00,9,   0.2570,2,   0.1390,2,   0.0160,2,   0.3886,2
  49NZ20191229,  I07S,   147,  1,     16,   1216,2,  200120,1856,-63.5018,  53.6774, 4758,   2469.9,   0.3045,   0.3048,2,  34.6790,2,  34.6792,2,    212.8,2,    212.7,2,   126.72,2,    32.96,2,     0.00,2,     2.27,2,     0.02,2,    0.412,2,    0.235,2,    0.026,2,    0.104,2,   2261.8,6,   2355.9,2,   -999.0,9,  -999.00,9,-999.0000,9,-999.0000,9,-999.0000,9,   0.3048,2
  49NZ20191229,  I07S,   147,  1,     15,  12102,2,  200120,1856,-63.5018,  53.6774, 4758,   2670.9,   0.2429,   0.2427,2,  34.6761,2,  34.6759,2,    215.5,2,    215.5,2,   127.65,2,    32.92,2,     0.00,2,     2.26,2,     0.06,2,    0.413,2,    0.238,2,    0.028,2,    0.099,2,   2262.0,2,   2356.1,2,     40.0,2,  -999.00,9,   0.2650,2,   0.1450,2,   0.0260,2,   0.2427,2
  49NZ20191229,  I07S,   147,  1,     14,   1214,2,  200120,1856,-63.5018,  53.6774, 4758,   2868.7,   0.1741,   0.1743,2,  34.6730,2,  34.6730,2,    218.5,2,    218.4,2,   128.88,2,    32.96,2,     0.00,2,     2.26,2,     0.04,2,    0.428,2,    0.243,2,    0.027,2,    0.115,2,   2263.0,2,   2354.8,2,   -999.0,9,  -999.00,9,-999.0000,9,-999.0000,9,-999.0000,9,   0.1743,2
  49NZ20191229,  I07S,   147,  1,     13,  12105,2,  200120,1856,-63.5018,  53.6774, 4758,   3080.9,   0.1148,   0.1144,2,  34.6705,2,  34.6705,2,    221.6,2,    221.4,2,   130.35,2,    32.91,2,     0.00,2,     2.26,2,     0.04,2,    0.403,2,    0.230,2,    0.026,2,    0.096,2,   2261.3,2,   2353.9,2,     37.3,2,  -999.00,9,   0.2510,2,   0.1380,2,   0.0200,2,   0.1144,2
  49NZ20191229,  I07S,   147,  1,     12,   1211,2,  200120,1856,-63.5018,  53.6774, 4758,   3333.1,   0.0348,   0.0345,2,  34.6663,2,  34.6664,2,    225.1,2,    225.2,2,   130.67,2,    32.82,2,     0.00,2,     2.26,2,     0.04,2,    0.449,2,    0.254,2,    0.028,2,    0.123,2,   2259.7,2,   2353.4,6,   -999.0,9,  -999.00,9,-999.0000,9,-999.0000,9,-999.0000,9,   0.0345,2
  49NZ20191229,  I07S,   147,  1,     11,  12106,2,  200120,1856,-63.5018,  53.6774, 4758,   3580.3,  -0.0272,  -0.0273,2,  34.6635,2,  34.6636,2,    228.4,2,    228.4,2,   131.62,2,    32.83,2,     0.00,2,     2.26,2,     0.03,2,    0.449,2,    0.256,2,    0.031,2,    0.115,2,   2257.1,2,   2353.3,2,     40.6,2,  -999.00,9,   0.2580,2,   0.1360,2,   0.0230,2,  -0.0273,2
  49NZ20191229,  I07S,   147,  1,     10,   1210,2,  200120,1856,-63.5018,  53.6774, 4758,   3829.9,  -0.0816,  -0.0818,2,  34.6606,2,  34.6599,2,    231.6,2,    231.6,2,   131.27,2,    32.82,2,     0.01,2,     2.26,2,     0.02,2,    0.497,2,    0.282,2,    0.038,2,    0.121,2,   2258.3,2,   2350.9,2,   -999.0,9,  -999.00,9,-999.0000,9,-999.0000,9,-999.0000,9,  -0.0818,2
  49NZ20191229,  I07S,   147,  1,      9,  12101,2,  200120,1856,-63.5018,  53.6774, 4758,   4079.2,  -0.1301,  -0.1302,2,  34.6580,2,  34.6577,2,    234.5,2,    234.5,2,   132.91,2,    32.74,2,     0.00,2,     2.25,2,     0.02,2,    0.528,2,    0.297,2,    0.036,2,    0.131,2,   2257.8,2,   2351.4,2,     38.2,2,  -999.00,9,   0.2470,2,   0.1300,2,   0.0160,2,  -0.1302,2
  49NZ20191229,  I07S,   147,  1,      8,  12103,2,  200120,1856,-63.5018,  53.6774, 4758,   4329.8,  -0.1714,  -0.1715,2,  34.6559,2,  34.6560,2,    237.0,2,    237.0,2,   134.91,2,    32.64,2,     0.00,2,     2.25,2,     0.03,2,    0.546,2,    0.306,2,    0.034,2,    0.157,2,   2256.8,6,   2351.6,2,   -999.0,9,  -999.00,9,-999.0000,9,-999.0000,9,-999.0000,9,  -0.1715,2
  49NZ20191229,  I07S,   147,  1,      7,   1207,2,  200120,1856,-63.5018,  53.6774, 4758,   4580.8,  -0.2071,  -0.2073,2,  34.6535,2,  34.6532,2,    239.3,2,    239.5,2,   137.30,2,    32.62,2,     0.00,2,     2.24,2,     0.04,2,    0.630,2,    0.352,2,    0.044,2,    0.206,2,   2252.2,2,   2350.7,2,     38.4,2,  -999.00,9,   0.2530,2,   0.1380,2,   0.0230,2,  -0.2073,2
  49NZ20191229,  I07S,   147,  1,      5,   1205,2,  200120,1856,-63.5018,  53.6774, 4758,     34.8,   0.3096,   0.3102,2,  33.6080,2,-999.0000,9,    346.4,2,   -999.0,9,  -999.00,9,  -999.00,9,  -999.00,9,  -999.00,9,     -999,9, -999.000,9, -999.000,9, -999.000,9,     -999,9,   -999.0,9,   -999.0,9,   -999.0,9,  -999.00,9,-999.0000,9,-999.0000,9,-999.0000,9,   0.3102,2
  49NZ20191229,  I07S,   147,  1,      4,   1204,2,  200120,1856,-63.5018,  53.6774, 4758,      4.7,   0.6233,   0.6221,3,  33.6100,2,-999.0000,9,    345.5,2,   -999.0,9,  -999.00,9,  -999.00,9,  -999.00,9,  -999.00,9,     -999,9, -999.000,9, -999.000,9, -999.000,9,     -999,9,   -999.0,9,   -999.0,9,   -999.0,9,  -999.00,9,-999.0000,9,-999.0000,9,-999.0000,9,   0.6221,3
  49NZ20191229,  I07S,   147,  1,      3,   1203,2,  200120,1856,-63.5018,  53.6774, 4758,     57.8,  -1.4964,  -1.4966,8,  33.8390,2,-999.0000,9,    361.9,2,   -999.0,9,  -999.00,9,  -999.00,9,  -999.00,9,  -999.00,9,     -999,9, -999.000,9, -999.000,9, -999.000,9,     -999,9,   -999.0,9,   -999.0,9,   -999.0,9,  -999.00,9,-999.0000,9,-999.0000,9,-999.0000,9,  -1.4966,8
  49NZ20191229,  I07S,   147,  1,      2,  12046,2,  200120,1856,-63.5018,  53.6774, 4758,     58.1,  -1.4954,  -1.4954,2,  33.8376,2,  33.8531,2,    362.0,2,    360.7,2,    42.79,2,    25.74,2,     0.16,2,     1.83,2,     0.62,2, -999.000,9, -999.000,9, -999.000,9,     -999,9,   2175.3,2,   2291.4,2,     39.9,2,     0.11,2,   0.2420,2,   0.1310,2,   0.0210,2,  -1.4954,2
  49NZ20191229,  I07S,   147,  1,      1,   1201,2,  200120,1856,-63.5018,  53.6774, 4758,   4840.8,  -0.3496,  -0.3497,2,  34.6319,2,  34.6320,2,    254.9,2,    254.5,2,   115.56,2,    32.00,2,     0.02,2,     2.20,2,     0.06,2,    2.065,2,    1.092,2,    0.173,2,    1.252,2,   2255.0,2,   2347.7,2,     37.5,2,  -999.00,9,   0.2630,2,   0.1410,2,   0.0230,2,  -0.3497,2