BOTTLE,20210310PRINUNIVRMK
EXPOCODE,SECT_ID,STNNBR,CASTNO,SAMPNO,BTLNBR,BTLNBR_FLAG_W,DATE,TIME,LATITUDE,LONGITUDE,DEPTH,CTDPRS,CTDTMP,SBE35,SBE35_FLAG_W,CTDSAL,CTDSAL_FLAG_W,SALNTY,SALNTY_FLAG_W,CTDOXY,CTDOXY_FLAG_W,OXYGEN,OXYGEN_FLAG_W,SILCAT,SILCAT_FLAG_W,NITRAT,NITRAT_FLAG_W,NITRIT,NITRIT_FLAG_W,PHSPHT,PHSPHT_FLAG_W,NH4,NH4_FLAG_W,CFC-11,CFC-11_FLAG_W,CFC-12,CFC-12_FLAG_W,CFC113,CFC113_FLAG_W,SF6,SF6_FLAG_W,TCARBN,TCARBN_FLAG_W,ALKALI,ALKALI_FLAG_W,DOC,DOC_FLAG_W,CHLORA,CHLORA_FLAG_W,CDOM300,CDOM300_FLAG_W,CDOM325,CDOM325_FLAG_W,CDOM443,CDOM443_FLAG_W,SBE35,SBE35_FLAG_W
,,,,,,,,,,,METERS,DBAR,ITS-90,,,PSS-78,,PSS-78,,UMOL/KG,,UMOL/KG,,UMOL/KG,,UMOL/KG,,UMOL/KG,,UMOL/KG,,UMOL/KG,,PMOL/KG,,PMOL/KG,,PMOL/KG,,FMOL/KG,,UMOL/KG,,UMOL/KG,,UMOL/KG,,UG/L,,1/M,,1/M,,1/M,,,
  49NZ20191229,  I07S,   118,  2,     36,   1236,2,  200114,0555,-49.5596,  57.8303, 4439,     11.1,   5.0428,   5.0417,2,  33.7851,2,  33.7858,2,    317.6,2,    317.6,2,     8.72,2,    23.43,2,     0.21,2,     1.55,2,     0.37,2,    4.707,2,    2.554,2,    0.434,2,    3.655,2,   2135.3,2,   2274.8,2,     48.2,2,     0.29,2,   0.2050,2,   0.1000,2,   0.0190,2,   5.0417,2
  49NZ20191229,  I07S,   118,  2,     35,   1235,3,  200114,0555,-49.5596,  57.8303, 4439,     50.2,   4.9048,   4.9047,2,  33.7910,2,  33.7912,2,    318.5,2,    318.5,2,     7.99,2,    23.33,2,     0.22,2,     1.54,2,     0.34,2,    4.770,2,    2.566,2,    0.443,2,    3.709,2,   2134.4,2,   2277.0,2,     45.6,2,     0.34,2,   0.2110,2,   0.1030,2,   0.0210,2,   4.9047,2
  49NZ20191229,  I07S,   118,  2,     34,   1234,2,  200114,0555,-49.5596,  57.8303, 4439,     99.9,   3.0916,   3.0879,2,  33.8307,2,  33.8309,2,    321.5,2,    321.2,2,    15.94,2,    25.15,2,     0.22,2,     1.80,2,     1.01,2,    5.128,2,    2.734,2,    0.477,2,    3.878,2,   2149.7,2,   2279.3,2,     44.0,2,     0.57,2,   0.2090,2,   0.1040,2,   0.0230,2,   3.0879,2
  49NZ20191229,  I07S,   118,  2,     33,   1233,2,  200114,0555,-49.5596,  57.8303, 4439,    150.5,   2.4693,   2.4672,2,  33.9192,2,  33.9139,2,    306.3,2,    305.5,2,    23.06,2,    28.20,2,     0.02,2,     1.89,2,     0.04,2,    4.967,2,    2.654,2,    0.447,2,    3.628,2,   2169.8,2,   2282.3,2,     40.3,2,     0.03,2,   0.2160,2,   0.1050,2,   0.0180,2,   2.4672,2
  49NZ20191229,  I07S,   118,  2,     32,   1232,2,  200114,0555,-49.5596,  57.8303, 4439,    202.1,   2.3894,   2.3897,2,  33.9963,2,  33.9964,2,    288.8,2,    288.2,2,    27.93,2,    29.51,2,     0.02,2,     1.99,2,     0.03,2,    4.733,2,    2.505,2,    0.412,2,    3.161,2,   2178.8,2,   2283.7,2,     40.4,2,     0.02,2,   0.2370,2,   0.1200,2,   0.0200,2,   2.3897,2
  49NZ20191229,  I07S,   118,  2,     31,   1231,2,  200114,0555,-49.5596,  57.8303, 4439,    251.9,   2.1166,   2.1184,2,  34.0285,2,  34.0285,2,    284.5,2,    283.6,2,    32.67,2,    30.29,2,     0.01,2,     2.04,2,     0.04,2,    4.620,2,    2.446,2,    0.397,2,    3.054,2,   2181.8,2,   2288.1,2,   -999.0,9,     0.02,2,-999.0000,9,-999.0000,9,-999.0000,9,   2.1184,2
  49NZ20191229,  I07S,   118,  2,     30,   1230,2,  200114,0555,-49.5596,  57.8303, 4439,    330.9,   2.4418,   2.4424,2,  34.1743,2,  34.1739,2,    236.6,2,    235.8,2,    39.81,2,    32.76,2,     0.01,2,     2.20,2,     0.03,2,    3.574,2,    1.873,2,    0.287,2,    1.856,2,   2208.2,2,   2294.7,2,     40.1,2,  -999.00,9,   0.2330,2,   0.1170,2,   0.0210,2,   2.4424,2
  49NZ20191229,  I07S,   118,  2,     29,   1229,2,  200114,0555,-49.5596,  57.8303, 4439,    428.9,   2.4324,   2.4325,2,  34.2869,2,  34.2852,2,    208.5,2,    208.1,2,    50.43,2,    34.37,2,     0.01,2,     2.31,2,     0.04,2,    2.681,2,    1.388,2,    0.205,2,    1.248,2,   2228.4,2,   2303.9,2,     25.8,4,  -999.00,9,   0.2430,2,   0.1270,2,   0.0200,2,   2.4325,2
  49NZ20191229,  I07S,   118,  2,     28,   1228,2,  200114,0555,-49.5596,  57.8303, 4439,    531.7,   2.4741,   2.4742,2,  34.3655,2,  34.3639,2,    191.5,2,    191.2,2,    57.45,2,    34.91,2,     0.01,2,     2.36,2,     0.03,2,    1.999,2,    1.052,2,    0.153,2,    0.858,2,   2238.4,2,   2312.7,2,     30.7,4,  -999.00,9,   0.2520,2,   0.1340,2,   0.0230,2,   2.4742,2
  49NZ20191229,  I07S,   118,  2,     27,   1227,2,  200114,0555,-49.5596,  57.8303, 4439,    631.3,   2.4851,   2.4848,2,  34.4524,2,  34.4516,2,    178.4,2,    178.3,2,    64.73,2,    35.02,2,     0.01,2,     2.38,2,     0.04,2,    1.344,2,    0.726,2,    0.101,2,    0.519,2,   2249.2,2,   2320.1,2,     31.2,4,  -999.00,9,   0.2590,2,   0.1370,2,   0.0290,2,   2.4848,2
  49NZ20191229,  I07S,   118,  2,     26,   1226,2,  200114,0555,-49.5596,  57.8303, 4439,    731.1,   2.4996,   2.4996,2,  34.5318,2,  34.5308,2,    170.6,2,    170.4,2,    69.90,2,    34.78,2,     0.00,2,     2.36,2,     0.05,2,    0.825,2,    0.474,2,    0.062,2,    0.293,2,   2257.6,6,   2328.0,2,   -999.0,9,  -999.00,9,-999.0000,9,-999.0000,9,-999.0000,9,   2.4996,2
  49NZ20191229,  I07S,   118,  2,     25,   1225,2,  200114,0555,-49.5596,  57.8303, 4439,    831.2,   2.4842,   2.4843,2,  34.5800,2,  34.5792,2,    169.8,2,    169.6,2,    72.56,2,    34.29,2,     0.00,2,     2.33,2,     0.05,2,    0.590,2,    0.356,2,    0.044,2,    0.235,2,   2258.4,2,   2332.8,2,     43.0,2,  -999.00,9,   0.2720,2,   0.1420,2,   0.0300,2,   2.4843,2
  49NZ20191229,  I07S,   118,  2,     24,   1224,2,  200114,0555,-49.5596,  57.8303, 4439,    928.9,   2.4660,   2.4661,2,  34.6194,2,  34.6183,2,    171.3,2,    171.1,2,    74.06,2,    33.69,2,     0.00,2,     2.29,2,     0.04,2,    0.457,2,    0.285,2,    0.038,2,     0.16,2,   2257.9,2,   2335.9,2,   -999.0,9,  -999.00,9,-999.0000,9,-999.0000,9,-999.0000,9,   2.4661,2
  49NZ20191229,  I07S,   118,  2,     23,   1223,2,  200114,0555,-49.5596,  57.8303, 4439,   1069.6,   2.4060,   2.4061,2,  34.6712,2,  34.6701,2,    175.6,2,    175.5,2,    75.87,2,    32.57,2,     0.00,2,     2.22,2,     0.05,2,    0.326,2,    0.209,2,    0.023,2,    0.129,2,   2250.9,2,   2338.3,2,     41.9,2,  -999.00,9,   0.2650,2,   0.1350,2,   0.0260,2,   2.4061,2
  49NZ20191229,  I07S,   118,  2,     22,   1222,2,  200114,0555,-49.5596,  57.8303, 4439,   1270.0,   2.3205,   2.3207,2,  34.7168,2,  34.7170,2,    183.4,2,    183.5,2,    76.90,2,    31.45,2,     0.00,2,     2.13,2,     0.03,2,    0.235,2,    0.155,2,    0.018,2,    0.083,2,   2247.1,2,   2342.8,6,     40.1,2,  -999.00,9,-999.0000,9,-999.0000,9,-999.0000,9,   2.3207,2
  49NZ20191229,  I07S,   118,  2,     21,   1221,2,  200114,0555,-49.5596,  57.8303, 4439,   1471.9,   2.2096,   2.2097,2,  34.7434,2,  34.7436,2,    190.4,2,    190.4,2,    77.95,2,    30.50,2,     0.00,2,     2.07,2,     0.03,2,    0.187,2,    0.127,2,    0.014,2,    0.073,2,   2248.1,2,   2343.9,2,     43.6,2,  -999.00,9,   0.2730,2,   0.1470,2,   0.0330,2,   2.2097,2
  49NZ20191229,  I07S,   118,  2,     20,   1220,2,  200114,0555,-49.5596,  57.8303, 4439,   1673.3,   2.0982,   2.0982,2,  34.7621,2,  34.7621,2,    197.7,2,    197.5,2,    78.51,2,    29.74,2,     0.00,2,     2.01,2,     0.03,2,    0.161,2,    0.110,2,    0.012,2,    0.053,2,   2244.6,2,   2345.8,2,   -999.0,9,  -999.00,9,-999.0000,9,-999.0000,9,-999.0000,9,   2.0982,2
  49NZ20191229,  I07S,   118,  2,     19,   1219,2,  200114,0555,-49.5596,  57.8303, 4439,   1871.3,   1.9283,   1.9280,2,  34.7663,2,  34.7669,2,    202.2,2,    202.5,2,    81.54,2,    29.50,2,     0.00,2,     1.99,2,     0.04,2,    0.144,2,    0.099,2,    0.010,2,    0.058,2,   2240.3,2,   2347.9,2,     41.1,2,  -999.00,9,   0.2710,2,   0.1430,2,   0.0290,2,   1.9280,2
  49NZ20191229,  I07S,   118,  2,     18,   1218,2,  200114,0555,-49.5596,  57.8303, 4439,   2072.2,   1.7357,   1.7359,2,  34.7597,2,  34.7599,2,    203.8,2,    203.8,2,    86.85,2,    29.83,2,     0.00,2,     2.02,2,     0.03,2,    0.163,2,    0.112,2,    0.011,2,    0.125,2,   2242.9,2,   2351.1,2,   -999.0,9,  -999.00,9,-999.0000,9,-999.0000,9,-999.0000,9,   1.7359,2
  49NZ20191229,  I07S,   118,  2,     17,   1217,2,  200114,0555,-49.5596,  57.8303, 4439,   2272.7,   1.5561,   1.5560,2,  34.7514,2,  34.7517,2,    205.5,2,    205.4,2,    92.02,2,    30.10,2,     0.00,2,     2.04,2,     0.03,2,    0.172,2,    0.117,2,    0.015,2,    0.043,2,   2245.5,2,   2352.6,2,     38.6,2,  -999.00,9,   0.2740,2,   0.1470,2,   0.0320,2,   1.5560,2
  49NZ20191229,  I07S,   118,  2,     16,   1216,2,  200114,0555,-49.5596,  57.8303, 4439,   2471.0,   1.3504,   1.3506,2,  34.7403,2,  34.7401,2,    206.9,2,    207.0,2,    97.94,2,    30.57,2,     0.00,2,     2.08,2,     0.06,2,    0.196,2,    0.129,2,    0.021,2,    0.078,2,   2252.4,6,   2353.3,2,   -999.0,9,  -999.00,9,-999.0000,9,-999.0000,9,-999.0000,9,   1.3506,2
  49NZ20191229,  I07S,   118,  2,     15,   1215,3,  200114,0555,-49.5596,  57.8303, 4439,   2670.1,   1.1774,   1.1780,2,  34.7281,2,  34.7270,2,    207.3,2,    207.5,2,   103.74,2,    31.12,2,     0.00,2,     2.12,2,     0.05,2,    0.230,2,    0.154,2,    0.015,2,    0.062,2,   2256.5,2,   2358.8,2,     42.9,2,  -999.00,9,   0.2820,2,   0.1510,2,   0.0330,2,   1.1780,2
  49NZ20191229,  I07S,   118,  2,     14,   1214,2,  200114,0555,-49.5596,  57.8303, 4439,   2870.2,   0.9932,   0.9932,2,  34.7168,2,  34.7164,2,    208.7,2,    208.8,2,   109.49,2,    31.48,2,     0.00,2,     2.15,2,     0.04,2,    0.262,2,    0.169,2,    0.014,2,    0.061,2,   2260.4,2,   2358.5,2,   -999.0,9,  -999.00,9,-999.0000,9,-999.0000,9,-999.0000,9,   0.9932,2
  49NZ20191229,  I07S,   118,  2,     13,   1213,4,  200114,0555,-49.5596,  57.8303, 4439,   3080.7,   0.8030,   0.8037,2,  34.7047,2,  34.1607,4,    210.3,2,    275.5,4,    41.90,4,    28.82,4,     0.09,4,     1.95,4,     0.19,4,    3.543,4,    1.903,4,    0.322,4,    2.616,4,   -999.0,9,   -999.0,9,   -999.0,9,  -999.00,9,-999.0000,9,-999.0000,9,-999.0000,9,   0.8037,2
  49NZ20191229,  I07S,   118,  2,     12,  12106,2,  200114,0555,-49.5596,  57.8303, 4439,   3330.2,   0.5756,   0.5755,2,  34.6915,2,  34.6906,2,    213.4,2,    213.2,2,   123.51,2,    32.59,2,     0.00,2,     2.22,2,     0.04,2,    0.317,2,    0.200,2,    0.025,2,    0.087,2,   2264.2,2,   2361.2,6,   -999.0,9,  -999.00,9,-999.0000,9,-999.0000,9,-999.0000,9,   0.5755,2
  49NZ20191229,  I07S,   118,  2,     11,   1211,2,  200114,0555,-49.5596,  57.8303, 4439,   3578.8,   0.4188,   0.4190,2,  34.6835,2,  34.6829,2,    217.0,2,    217.0,2,   128.59,2,    32.69,2,     0.00,2,     2.23,2,     0.04,2,    0.332,2,    0.206,2,    0.021,2,     0.08,2,   2260.1,2,   2358.6,2,     41.7,2,  -999.00,9,   0.2710,2,   0.1470,2,   0.0320,2,   0.4190,2
  49NZ20191229,  I07S,   118,  2,     10,   1210,2,  200114,0555,-49.5596,  57.8303, 4439,   3832.5,   0.2885,   0.2887,2,  34.6768,2,  34.6762,2,    220.5,2,    220.4,2,   133.83,2,    32.78,2,     0.00,2,     2.24,2,     0.04,2,    0.338,2,    0.209,2,    0.019,2,    0.099,2,   2263.9,2,   2360.9,2,   -999.0,9,  -999.00,9,-999.0000,9,-999.0000,9,-999.0000,9,   0.2887,2
  49NZ20191229,  I07S,   118,  2,      9,   1209,3,  200114,0555,-49.5596,  57.8303, 4439,   4080.9,   0.1605,   0.1606,2,  34.6703,2,  34.6691,2,    224.3,2,    224.1,2,   140.16,2,    32.89,2,     0.00,2,     2.25,2,     0.03,2,    0.338,2,    0.210,2,    0.015,2,    0.067,2,   2263.6,2,   2359.8,2,     42.2,2,  -999.00,9,   0.2670,2,   0.1390,2,   0.0280,2,   0.1606,2
  49NZ20191229,  I07S,   118,  2,      8,  12103,2,  200114,0555,-49.5596,  57.8303, 4439,   4331.1,   0.0680,   0.0682,2,  34.6653,2,  34.6650,2,    227.2,2,    226.9,2,   147.29,2,    33.13,2,     0.01,2,     2.26,2,     0.03,2,    0.350,2,    0.215,2,    0.023,2,    0.068,2,   2263.7,6,   2359.4,2,   -999.0,9,  -999.00,9,-999.0000,9,-999.0000,9,-999.0000,9,   0.0682,2
  49NZ20191229,  I07S,   118,  2,      2,  12046,2,  200114,0555,-49.5596,  57.8303, 4439,     84.8,   4.6123,   4.6200,2,  33.8029,2,  33.8043,2,    320.4,2,    320.9,2,     8.02,2,    23.52,2,     0.23,2,     1.55,2,     0.36,2, -999.000,9, -999.000,9, -999.000,9,     -999,9,   2135.4,2,   2277.5,2,     45.5,2,     0.61,2,   0.2150,2,   0.1060,2,   0.0240,2,   4.6200,2
  49NZ20191229,  I07S,   118,  2,      1,   1201,2,  200114,0555,-49.5596,  57.8303, 4439,   4491.7,   0.0494,   0.0495,2,  34.6639,2,  34.6644,2,    228.3,2,    227.8,2,   150.58,2,    33.06,2,     0.00,2,     2.26,2,     0.02,2,    0.348,2,    0.214,2,    0.025,2,    0.064,2,   2262.7,2,   2360.0,2,     40.3,2,  -999.00,9,   0.2700,2,   0.1390,2,   0.0310,2,   0.0495,2