BOTTLE,20210310PRINUNIVRMK
EXPOCODE,SECT_ID,STNNBR,CASTNO,SAMPNO,BTLNBR,BTLNBR_FLAG_W,DATE,TIME,LATITUDE,LONGITUDE,DEPTH,CTDPRS,CTDTMP,SBE35,SBE35_FLAG_W,CTDSAL,CTDSAL_FLAG_W,SALNTY,SALNTY_FLAG_W,CTDOXY,CTDOXY_FLAG_W,OXYGEN,OXYGEN_FLAG_W,SILCAT,SILCAT_FLAG_W,NITRAT,NITRAT_FLAG_W,NITRIT,NITRIT_FLAG_W,PHSPHT,PHSPHT_FLAG_W,NH4,NH4_FLAG_W,CFC-11,CFC-11_FLAG_W,CFC-12,CFC-12_FLAG_W,CFC113,CFC113_FLAG_W,SF6,SF6_FLAG_W,TCARBN,TCARBN_FLAG_W,ALKALI,ALKALI_FLAG_W,DOC,DOC_FLAG_W,CHLORA,CHLORA_FLAG_W,CDOM300,CDOM300_FLAG_W,CDOM325,CDOM325_FLAG_W,CDOM443,CDOM443_FLAG_W,SBE35,SBE35_FLAG_W
,,,,,,,,,,,METERS,DBAR,ITS-90,,,PSS-78,,PSS-78,,UMOL/KG,,UMOL/KG,,UMOL/KG,,UMOL/KG,,UMOL/KG,,UMOL/KG,,UMOL/KG,,PMOL/KG,,PMOL/KG,,PMOL/KG,,FMOL/KG,,UMOL/KG,,UMOL/KG,,UMOL/KG,,UG/L,,1/M,,1/M,,1/M,,,
  49NZ20191229,  I07S,    76,  1,     36,   1236,2,  200102,0523,-31.4845,  56.5592, 4787,      9.5,  20.9911,  20.9935,2,  35.6603,2,  35.6615,2,    224.2,2,    225.7,2,     1.34,2,     0.04,2,     0.00,2,     0.08,2,     0.03,2,    2.002,2,    1.225,2,    0.174,2,    1.967,2,   2069.8,2,   2341.2,2,   -999.0,9,     0.07,2,-999.0000,9,-999.0000,9,-999.0000,9,  20.9935,2
  49NZ20191229,  I07S,    76,  1,     35,   1235,2,  200102,0523,-31.4845,  56.5592, 4787,     49.4,  18.7463,  18.7490,2,  35.6546,2,  35.6548,2,    239.2,2,    240.0,2,     1.34,2,     0.04,2,     0.00,2,     0.09,2,     0.02,2,    2.230,2,    1.348,2,    0.180,2,    2.147,2,   2074.5,2,   2338.5,2,   -999.0,9,     0.09,2,-999.0000,9,-999.0000,9,-999.0000,9,  18.7490,2
  49NZ20191229,  I07S,    76,  1,     34,   1234,2,  200102,0523,-31.4845,  56.5592, 4787,    100.3,  16.4152,  16.4141,2,  35.5398,2,  35.5401,2,    241.8,2,    242.2,2,     1.62,2,     0.16,2,     0.03,2,     0.17,2,     0.04,2,    2.458,2,    1.474,2,    0.176,2,    2.275,2,   2081.9,2,   2332.7,2,   -999.0,9,     0.46,2,-999.0000,9,-999.0000,9,-999.0000,9,  16.4141,2
  49NZ20191229,  I07S,    76,  1,     33,   1233,2,  200102,0523,-31.4845,  56.5592, 4787,    150.5,  15.0005,  14.9996,2,  35.4468,2,  35.4480,2,    228.8,2,    229.1,2,     2.36,2,     4.22,2,     0.04,2,     0.40,2,     0.03,2,    2.603,2,    1.553,2,    0.145,2,    2.278,2,   2101.9,2,   2327.9,2,   -999.0,9,     0.15,2,-999.0000,9,-999.0000,9,-999.0000,9,  14.9996,2
  49NZ20191229,  I07S,    76,  1,     32,   1232,2,  200102,0523,-31.4845,  56.5592, 4787,    200.6,  14.3768,  14.3764,2,  35.3933,2,  35.3937,2,    228.4,2,    228.6,2,     2.82,2,     5.87,2,     0.01,2,     0.48,2,     0.02,2,    2.673,2,    1.590,2,    0.120,2,    2.315,2,   2107.9,2,   2323.6,2,   -999.0,9,     0.04,2,-999.0000,9,-999.0000,9,-999.0000,9,  14.3764,2
  49NZ20191229,  I07S,    76,  1,     31,   1231,2,  200102,0523,-31.4845,  56.5592, 4787,    251.0,  13.9905,  13.9928,2,  35.3530,2,  35.3555,2,    228.6,2,    228.7,2,     3.07,2,     6.72,2,     0.01,2,     0.54,2,     0.03,2,    2.721,2,    1.607,2,    0.104,2,    2.267,2,   2116.8,2,   2321.6,2,   -999.0,9,     0.01,2,-999.0000,9,-999.0000,9,-999.0000,9,  13.9928,2
  49NZ20191229,  I07S,    76,  1,     30,   1230,2,  200102,0523,-31.4845,  56.5592, 4787,    299.9,  13.4064,  13.4080,2,  35.2796,2,  35.2851,2,    228.4,2,    228.5,2,     3.36,2,     8.06,2,     0.01,2,     0.62,2,        0,2,    2.795,2,    1.655,2,    0.083,2,    2.266,2,   2118.3,2,   2319.5,2,   -999.0,9,  -999.00,9,-999.0000,9,-999.0000,9,-999.0000,9,  13.4080,2
  49NZ20191229,  I07S,    76,  1,     29,   1229,2,  200102,0523,-31.4845,  56.5592, 4787,    399.7,  12.8020,  12.8019,2,  35.1966,2,  35.1984,2,    231.3,2,    231.4,2,     3.65,2,     9.38,2,     0.00,2,     0.70,2,     0.02,2,    2.912,2,    1.698,2,    0.098,2,    2.155,2,   2119.0,2,   2316.5,2,   -999.0,9,  -999.00,9,-999.0000,9,-999.0000,9,-999.0000,9,  12.8019,2
  49NZ20191229,  I07S,    76,  1,     28,   1228,2,  200102,0523,-31.4845,  56.5592, 4787,    500.2,  11.9443,  11.9475,2,  35.0593,2,  35.0585,2,    228.6,2,    228.7,2,     4.16,2,    11.66,2,     0.00,2,     0.84,2,     0.01,2,    3.064,2,    1.770,2,    0.097,2,     2.12,2,   2124.7,2,   2309.3,2,   -999.0,9,  -999.00,9,-999.0000,9,-999.0000,9,-999.0000,9,  11.9475,2
  49NZ20191229,  I07S,    76,  1,     27,   1227,2,  200102,0523,-31.4845,  56.5592, 4787,    598.3,  11.0338,  11.0454,2,  34.9210,2,  34.9255,2,    223.8,2,    224.3,2,     4.95,2,    13.97,2,     0.00,2,     0.99,2,     0.03,2,    3.215,2,    1.821,2,    0.096,2,    1.875,2,   2132.8,2,   2304.5,2,   -999.0,9,  -999.00,9,-999.0000,9,-999.0000,9,-999.0000,9,  11.0454,2
  49NZ20191229,  I07S,    76,  1,     26,   1226,2,  200102,0523,-31.4845,  56.5592, 4787,    702.1,   9.9733,   9.9736,2,  34.7766,2,  34.7765,2,    218.9,2,    219.3,2,     6.77,2,    16.97,2,     0.00,2,     1.18,2,     0.01,2,    3.276,2,    1.824,2,    0.107,2,    1.606,2,   2141.1,6,   2297.8,2,   -999.0,9,  -999.00,9,-999.0000,9,-999.0000,9,-999.0000,9,   9.9736,2
  49NZ20191229,  I07S,    76,  1,     25,   1225,2,  200102,0523,-31.4845,  56.5592, 4787,    798.1,   8.7922,   8.7972,2,  34.6433,2,  34.6457,2,    211.9,2,    212.2,2,     9.97,2,    20.47,2,     0.00,2,     1.40,2,     0.02,2,    3.188,2,    1.728,2,    0.104,2,    1.331,2,   2149.8,2,   2292.8,2,   -999.0,9,  -999.00,9,-999.0000,9,-999.0000,9,-999.0000,9,   8.7972,2
  49NZ20191229,  I07S,    76,  1,     24,   1224,2,  200102,0523,-31.4845,  56.5592, 4787,    900.1,   7.3151,   7.3166,2,  34.5067,2,  34.5068,2,    204.7,2,    204.8,2,    15.72,2,    24.73,2,     0.00,2,     1.67,2,     0.04,2,    2.957,2,    1.556,2,    0.104,2,    1.023,2,   2168.5,2,   2291.1,2,   -999.0,9,  -999.00,9,-999.0000,9,-999.0000,9,-999.0000,9,   7.3166,2
  49NZ20191229,  I07S,    76,  1,     23,   1223,2,  200102,0523,-31.4845,  56.5592, 4787,    999.6,   5.8657,   5.8660,2,  34.4129,2,  34.4130,2,    202.3,2,    202.4,2,    23.96,2,    28.17,2,     0.00,2,     1.90,2,     0.04,2,    2.616,2,    1.347,2,    0.119,2,    0.812,2,   2182.8,2,   2297.2,2,   -999.0,9,  -999.00,9,-999.0000,9,-999.0000,9,-999.0000,9,   5.8660,2
  49NZ20191229,  I07S,    76,  1,     22,   1222,2,  200102,0523,-31.4845,  56.5592, 4787,   1199.0,   4.2556,   4.2555,2,  34.4053,2,  34.4051,2,    190.4,2,    190.6,2,    42.01,2,    31.89,2,     0.00,2,     2.18,2,     0.03,2,    1.722,2,    0.893,2,    0.092,2,    0.509,2,   2210.5,2,   2311.2,6,   -999.0,9,  -999.00,9,-999.0000,9,-999.0000,9,-999.0000,9,   4.2555,2
  49NZ20191229,  I07S,    76,  1,     21,   1221,2,  200102,0523,-31.4845,  56.5592, 4787,   1399.4,   3.4895,   3.4906,2,  34.4890,2,  34.4886,2,    174.2,2,    174.4,2,    59.29,2,    33.71,2,     0.00,2,     2.30,2,     0.02,2,    0.804,2,    0.428,2,    0.045,2,     0.18,2,   2235.6,2,   2325.2,2,   -999.0,9,  -999.00,9,-999.0000,9,-999.0000,9,-999.0000,9,   3.4906,2
  49NZ20191229,  I07S,    76,  1,     20,   1220,2,  200102,0523,-31.4845,  56.5592, 4787,   1600.7,   3.0276,   3.0273,2,  34.5709,2,  34.5729,2,    169.8,2,    170.0,2,    71.21,2,    33.81,2,     0.00,2,     2.32,2,     0.03,2,    0.368,2,    0.206,2,    0.019,2,    0.122,2,   2251.8,2,   2340.0,2,   -999.0,9,  -999.00,9,-999.0000,9,-999.0000,9,-999.0000,9,   3.0273,2
  49NZ20191229,  I07S,    76,  1,     19,   1219,2,  200102,0523,-31.4845,  56.5592, 4787,   1799.5,   2.7092,   2.7096,2,  34.6390,2,  34.6396,2,    173.0,2,    173.1,2,    78.64,2,    33.07,2,     0.00,2,     2.27,2,     0.03,2,    0.194,2,    0.111,2,    0.012,2,    0.062,2,   2253.2,2,   2347.5,2,   -999.0,9,  -999.00,9,-999.0000,9,-999.0000,9,-999.0000,9,   2.7096,2
  49NZ20191229,  I07S,    76,  1,     18,   1218,2,  200102,0523,-31.4845,  56.5592, 4787,   2001.4,   2.5049,   2.5047,2,  34.6817,2,  34.6825,2,    178.1,2,    178.0,2,    82.53,2,    32.46,2,     0.00,2,     2.22,2,        0,2,    0.137,2,    0.081,2,    0.005,2,    0.064,2,   2254.6,2,   2353.7,2,   -999.0,9,  -999.00,9,-999.0000,9,-999.0000,9,-999.0000,9,   2.5047,2
  49NZ20191229,  I07S,    76,  1,     17,   1217,2,  200102,0523,-31.4845,  56.5592, 4787,   2202.1,   2.3345,   2.3343,2,  34.7131,2,  34.7143,2,    182.9,2,    182.9,2,    86.16,2,    31.90,2,     0.00,2,     2.18,2,        0,2,    0.098,2,    0.057,2,    0.004,2,    0.027,2,   2253.4,2,   2356.7,2,   -999.0,9,  -999.00,9,-999.0000,9,-999.0000,9,-999.0000,9,   2.3343,2
  49NZ20191229,  I07S,    76,  1,     16,   1216,2,  200102,0523,-31.4845,  56.5592, 4787,   2400.3,   2.2215,   2.2215,2,  34.7383,2,  34.7384,2,    184.7,2,    184.7,2,    90.55,2,    31.46,2,     0.00,2,     2.16,2,     0.03,2,    0.057,2,    0.031,2,    0.003,2,    0.017,2,   2258.2,6,   2362.2,2,   -999.0,9,  -999.00,9,-999.0000,9,-999.0000,9,-999.0000,9,   2.2215,2
  49NZ20191229,  I07S,    76,  1,     15,   1215,2,  200102,0523,-31.4845,  56.5592, 4787,   2602.4,   2.1184,   2.1184,2,  34.7451,2,  34.7451,2,    186.2,2,    186.2,2,    93.89,2,    31.29,2,     0.00,2,     2.15,2,     0.01,2,    0.050,2,    0.026,2,    0.002,2,    0.008,2,   2258.6,2,   2365.9,2,   -999.0,9,  -999.00,9,-999.0000,9,-999.0000,9,-999.0000,9,   2.1184,2
  49NZ20191229,  I07S,    76,  1,     14,   1214,2,  200102,0523,-31.4845,  56.5592, 4787,   2801.8,   1.9760,   1.9760,2,  34.7462,2,  34.7466,2,    188.5,2,    188.5,2,    97.49,2,    31.44,2,     0.00,2,     2.16,2,     0.01,2,    0.052,2,    0.027,2,    0.002,2,    0.003,2,   2260.9,2,   2366.3,2,   -999.0,9,  -999.00,9,-999.0000,9,-999.0000,9,-999.0000,9,   1.9760,2
  49NZ20191229,  I07S,    76,  1,     13,   1213,2,  200102,0523,-31.4845,  56.5592, 4787,   2999.8,   1.7767,   1.7768,2,  34.7392,2,  34.7396,2,    190.6,2,    190.8,2,   103.29,2,    31.87,2,     0.00,2,     2.18,2,     0.03,2,    0.068,2,    0.035,2,    0.004,2,    0.037,2,   2265.0,2,   2368.3,2,   -999.0,9,  -999.00,9,-999.0000,9,-999.0000,9,-999.0000,9,   1.7768,2
  49NZ20191229,  I07S,    76,  1,     12,   1212,2,  200102,0523,-31.4845,  56.5592, 4787,   3250.7,   1.5413,   1.5411,2,  34.7316,2,  34.7319,2,    196.8,2,    196.9,2,   106.89,2,    31.83,2,     0.00,2,     2.17,2,     0.05,2,    0.106,2,    0.059,2,    0.007,2,    0.003,2,   2260.8,2,   2366.4,6,   -999.0,9,  -999.00,9,-999.0000,9,-999.0000,9,-999.0000,9,   1.5411,2
  49NZ20191229,  I07S,    76,  1,     11,   1211,2,  200102,0523,-31.4845,  56.5592, 4787,   3500.8,   1.3226,   1.3233,2,  34.7230,2,  34.7234,2,    199.1,2,    199.4,2,   113.63,2,    32.17,2,     0.00,2,     2.20,2,     0.04,2,    0.127,2,    0.071,2,    0.010,2,    0.033,2,   2264.6,2,   2365.5,2,   -999.0,9,  -999.00,9,-999.0000,9,-999.0000,9,-999.0000,9,   1.3233,2
  49NZ20191229,  I07S,    76,  1,     10,   1210,2,  200102,0523,-31.4845,  56.5592, 4787,   3750.8,   1.0876,   1.0876,2,  34.7129,2,  34.7131,2,    204.8,2,    204.9,2,   118.09,2,    32.35,2,     0.00,2,     2.20,2,     0.03,2,    0.161,2,    0.091,2,    0.007,2,    0.053,2,   2261.8,2,   2365.5,2,   -999.0,9,  -999.00,9,-999.0000,9,-999.0000,9,-999.0000,9,   1.0876,2
  49NZ20191229,  I07S,    76,  1,      9,   1209,2,  200102,0523,-31.4845,  56.5592, 4787,   4001.3,   0.9467,   0.9467,2,  34.7066,2,  34.7064,2,    209.2,2,    209.3,2,   120.06,2,    32.25,2,     0.00,2,     2.20,2,     0.04,2,    0.205,2,    0.114,2,    0.013,2,    0.052,2,   2262.6,2,   2362.8,2,   -999.0,9,  -999.00,9,-999.0000,9,-999.0000,9,-999.0000,9,   0.9467,2
  49NZ20191229,  I07S,    76,  1,      8,  12103,2,  200102,0523,-31.4845,  56.5592, 4787,   4251.0,   0.9220,   0.9220,2,  34.7047,2,  34.7045,2,    210.5,2,    210.7,2,   120.79,2,    32.25,2,     0.00,2,     2.20,2,     0.02,2,    0.218,2,    0.124,2,    0.015,2,    0.009,2,   2262.1,6,   2361.2,2,   -999.0,9,  -999.00,9,-999.0000,9,-999.0000,9,-999.0000,9,   0.9220,2
  49NZ20191229,  I07S,    76,  1,      7,   1207,2,  200102,0523,-31.4845,  56.5592, 4787,   4499.7,   0.9131,   0.9132,2,  34.7032,2,  34.7028,2,    211.0,2,    211.4,2,   121.70,2,    32.37,2,     0.00,2,     2.20,2,     0.02,2,    0.221,2,    0.123,2,    0.015,2,    0.047,2,   2260.0,2,   2365.0,2,   -999.0,9,  -999.00,9,-999.0000,9,-999.0000,9,-999.0000,9,   0.9132,2
  49NZ20191229,  I07S,    76,  1,      6,   1206,2,  200102,0523,-31.4845,  56.5592, 4787,   4750.0,   0.9215,   0.9215,2,  34.7021,2,  34.7021,2,    211.4,2,    211.8,2,   122.21,2,    32.36,2,     0.00,2,     2.20,2,     0.02,2,    0.224,2,    0.126,2,    0.015,2,    0.084,2,   2259.1,2,   2362.4,6,   -999.0,9,  -999.00,9,-999.0000,9,-999.0000,9,-999.0000,9,   0.9215,2
  49NZ20191229,  I07S,    76,  1,      2,  12046,2,  200102,0523,-31.4845,  56.5592, 4787,     86.3,  16.8977,  16.9055,2,  35.5671,2,  35.5684,2,    244.7,2,    245.0,2,     1.49,2,     0.03,2,     0.01,2,     0.13,2,     0.03,2, -999.000,9, -999.000,9, -999.000,9,     -999,9,   2074.7,2,   2335.7,2,   -999.0,9,     0.27,2,-999.0000,9,-999.0000,9,-999.0000,9,  16.9055,2
  49NZ20191229,  I07S,    76,  1,      1,   1201,2,  200102,0523,-31.4845,  56.5592, 4787,   4810.0,   0.9269,   0.9270,2,  34.7020,2,  34.7023,2,    211.5,2,    211.7,2,   122.29,2,    32.20,2,     0.00,2,     2.20,2,     0.03,2,    0.226,2,    0.127,2,    0.011,2,    0.102,2,   2260.2,2,   2364.3,2,   -999.0,9,  -999.00,9,-999.0000,9,-999.0000,9,-999.0000,9,   0.9270,2