BOTTLE,20210310PRINUNIVRMK
EXPOCODE,SECT_ID,STNNBR,CASTNO,SAMPNO,BTLNBR,BTLNBR_FLAG_W,DATE,TIME,LATITUDE,LONGITUDE,DEPTH,CTDPRS,CTDTMP,SBE35,SBE35_FLAG_W,CTDSAL,CTDSAL_FLAG_W,SALNTY,SALNTY_FLAG_W,CTDOXY,CTDOXY_FLAG_W,OXYGEN,OXYGEN_FLAG_W,SILCAT,SILCAT_FLAG_W,NITRAT,NITRAT_FLAG_W,NITRIT,NITRIT_FLAG_W,PHSPHT,PHSPHT_FLAG_W,NH4,NH4_FLAG_W,CFC-11,CFC-11_FLAG_W,CFC-12,CFC-12_FLAG_W,CFC113,CFC113_FLAG_W,SF6,SF6_FLAG_W,TCARBN,TCARBN_FLAG_W,ALKALI,ALKALI_FLAG_W,DOC,DOC_FLAG_W,CHLORA,CHLORA_FLAG_W,CDOM300,CDOM300_FLAG_W,CDOM325,CDOM325_FLAG_W,CDOM443,CDOM443_FLAG_W,SBE35,SBE35_FLAG_W
,,,,,,,,,,,METERS,DBAR,ITS-90,,,PSS-78,,PSS-78,,UMOL/KG,,UMOL/KG,,UMOL/KG,,UMOL/KG,,UMOL/KG,,UMOL/KG,,UMOL/KG,,PMOL/KG,,PMOL/KG,,PMOL/KG,,FMOL/KG,,UMOL/KG,,UMOL/KG,,UMOL/KG,,UG/L,,1/M,,1/M,,1/M,,,
  49NZ20191229,  I07S,    83,  1,     36,   1236,2,  200103,2001,-33.9669,  57.0350, 5030,      9.3,  19.7749,  19.7692,2,  35.5675,2,  35.5669,2,    232.0,2,    232.7,2,     0.99,2,     0.00,2,     0.00,2,     0.11,2,     0.07,2,    2.145,2,    1.307,2,    0.181,2,    2.087,2,   2057.6,2,   2333.2,2,   -999.0,9,     0.13,2,   0.2480,2,   0.1390,2,   0.0160,2,  19.7692,2
  49NZ20191229,  I07S,    83,  1,     35,   1235,2,  200103,2001,-33.9669,  57.0350, 5030,     50.0,  17.4458,  17.4305,2,  35.5348,2,  35.5338,2,    248.1,2,    247.9,2,     0.95,2,     0.03,2,     0.01,2,     0.14,2,      0.1,2,    2.372,2,    1.423,2,    0.198,2,    2.347,2,   2070.6,2,   2332.1,2,   -999.0,9,     0.19,2,   0.2830,2,   0.1630,2,   0.0240,2,  17.4305,2
  49NZ20191229,  I07S,    83,  1,     34,   1234,2,  200103,2001,-33.9669,  57.0350, 5030,    101.2,  15.8898,  15.8900,2,  35.4825,2,  35.4813,2,    234.2,2,    234.1,2,     2.08,2,     2.48,2,     0.27,2,     0.31,2,     0.05,2,    2.516,2,    1.493,2,    0.185,2,    2.307,2,   2087.4,2,   2330.0,2,   -999.0,9,     0.27,2,   0.2340,2,   0.1260,2,   0.0180,2,  15.8900,2
  49NZ20191229,  I07S,    83,  1,     33,   1233,2,  200103,2001,-33.9669,  57.0350, 5030,    150.7,  15.0325,  15.0325,2,  35.4378,2,  35.4379,2,    228.6,2,    228.4,2,     3.32,2,     5.22,2,     0.03,2,     0.45,2,     0.07,2,    2.581,2,    1.536,2,    0.154,2,    2.335,2,   2102.4,2,   2327.9,2,   -999.0,9,     0.05,2,   0.2000,2,   0.1060,2,   0.0140,2,  15.0325,2
  49NZ20191229,  I07S,    83,  1,     32,   1232,2,  200103,2001,-33.9669,  57.0350, 5030,    200.0,  14.4294,  14.4323,2,  35.3803,2,  35.3805,2,    229.8,2,    229.8,2,     3.41,2,     6.14,2,     0.01,2,     0.51,2,     0.05,2,    2.661,2,    1.570,2,    0.138,2,    2.279,2,   2105.0,2,   2325.2,2,   -999.0,9,     0.02,2,   0.1930,2,   0.1030,2,   0.0160,2,  14.4323,2
  49NZ20191229,  I07S,    83,  1,     31,   1231,2,  200103,2001,-33.9669,  57.0350, 5030,    250.8,  14.1230,  14.1232,2,  35.3592,2,  35.3587,2,    231.6,2,    231.5,2,     3.46,2,     6.45,2,     0.01,2,     0.53,2,     0.07,2,    2.709,2,    1.594,2,    0.146,2,    2.297,2,   2108.5,2,   2323.8,2,   -999.0,9,     0.01,2,-999.0000,9,-999.0000,9,-999.0000,9,  14.1232,2
  49NZ20191229,  I07S,    83,  1,     30,   1230,2,  200103,2001,-33.9669,  57.0350, 5030,    329.8,  13.5060,  13.5061,2,  35.2771,2,  35.2762,2,    226.2,2,    225.9,2,     3.79,2,     8.24,2,     0.01,2,     0.64,2,     0.05,2,    2.804,2,    1.634,2,    0.102,2,     2.23,2,   2120.6,2,   2318.2,2,   -999.0,9,  -999.00,9,   0.1810,2,   0.0960,2,   0.0150,2,  13.5061,2
  49NZ20191229,  I07S,    83,  1,     29,   1229,2,  200103,2001,-33.9669,  57.0350, 5030,    431.2,  12.8195,  12.8287,2,  35.1900,2,  35.1881,2,    226.2,2,    226.1,2,     3.96,2,     9.80,2,     0.01,2,     0.73,2,     0.06,2,    2.910,2,    1.688,2,    0.089,2,    2.106,2,   2120.0,2,   2314.0,2,   -999.0,9,  -999.00,9,   0.1850,2,   0.0950,2,   0.0130,2,  12.8287,2
  49NZ20191229,  I07S,    83,  1,     28,   1228,2,  200103,2001,-33.9669,  57.0350, 5030,    530.4,  11.7655,  11.7654,2,  35.0296,2,  35.0291,2,    223.2,2,    223.3,2,     4.63,2,    12.40,2,     0.01,2,     0.90,2,     0.05,2,    3.099,2,    1.778,2,    0.092,2,     1.91,2,   2131.3,2,   2309.4,2,   -999.0,9,  -999.00,9,   0.1860,2,   0.0950,2,   0.0170,2,  11.7654,2
  49NZ20191229,  I07S,    83,  1,     27,   1227,2,  200103,2001,-33.9669,  57.0350, 5030,    630.4,  11.0015,  11.0016,2,  34.9157,2,  34.9164,2,    220.8,2,    221.0,2,     5.47,2,    14.35,2,     0.01,2,     1.02,2,     0.05,2,    3.191,2,    1.800,2,    0.101,2,    1.789,2,   2131.9,2,   2301.4,2,   -999.0,9,  -999.00,9,   0.1850,2,   0.0950,2,   0.0130,2,  11.0016,2
  49NZ20191229,  I07S,    83,  1,     26,   1226,2,  200103,2001,-33.9669,  57.0350, 5030,    731.9,   9.9711,   9.9726,2,  34.7807,2,  34.7818,2,    217.8,2,    218.1,2,     6.92,2,    16.84,2,     0.01,2,     1.18,2,     0.07,2,    3.289,2,    1.808,2,    0.107,2,    1.576,2,   2140.6,6,   2296.6,2,   -999.0,9,  -999.00,9,-999.0000,9,-999.0000,9,-999.0000,9,   9.9726,2
  49NZ20191229,  I07S,    83,  1,     25,   1225,2,  200103,2001,-33.9669,  57.0350, 5030,    831.5,   8.9167,   8.9168,2,  34.6593,2,  34.6592,2,    213.3,2,    213.7,2,     9.43,2,    19.88,2,     0.00,2,     1.36,2,     0.06,2,    3.227,2,    1.736,2,    0.104,2,    1.273,2,   2151.6,2,   2293.3,2,   -999.0,9,  -999.00,9,   0.1860,2,   0.0900,2,   0.0130,2,   8.9168,2
  49NZ20191229,  I07S,    83,  1,     24,   1224,2,  200103,2001,-33.9669,  57.0350, 5030,    931.1,   7.7939,   7.7916,2,  34.5567,2,  34.5580,2,    206.6,2,    206.9,2,    14.13,2,    23.25,2,     0.00,2,     1.58,2,     0.04,2,    3.025,2,    1.592,2,    0.106,2,    1.097,2,   2166.1,2,   2291.7,2,   -999.0,9,  -999.00,9,-999.0000,9,-999.0000,9,-999.0000,9,   7.7916,2
  49NZ20191229,  I07S,    83,  1,     23,   1223,2,  200103,2001,-33.9669,  57.0350, 5030,   1070.1,   6.0536,   6.0536,2,  34.4334,2,  34.4335,2,    201.3,2,    201.5,2,    23.57,2,    27.55,2,     0.00,2,     1.88,2,     0.02,2,    2.579,2,    1.326,2,    0.112,2,    0.841,2,   2183.2,2,   2297.6,2,   -999.0,9,  -999.00,9,   0.2050,2,   0.1020,2,   0.0150,2,   6.0536,2
  49NZ20191229,  I07S,    83,  1,     22,   1222,2,  200103,2001,-33.9669,  57.0350, 5030,   1272.7,   4.2900,   4.2902,2,  34.4175,2,  34.4179,2,    185.5,2,    185.5,2,    43.68,2,    31.96,2,     0.00,2,     2.20,2,     0.03,2,    1.472,2,    0.755,2,    0.073,2,    0.388,2,   2217.0,2,   2314.7,6,   -999.0,9,  -999.00,9,-999.0000,9,-999.0000,9,-999.0000,9,   4.2902,2
  49NZ20191229,  I07S,    83,  1,     21,   1221,2,  200103,2001,-33.9669,  57.0350, 5030,   1471.5,   3.5121,   3.5122,2,  34.4758,2,  34.4749,2,    178.5,2,    178.7,2,    55.85,2,    33.34,2,     0.00,2,     2.29,2,     0.05,2,    1.036,2,    0.547,2,    0.066,2,    0.298,2,   2234.4,2,   2323.8,2,   -999.0,9,  -999.00,9,   0.2490,2,   0.1270,2,   0.0180,2,   3.5122,2
  49NZ20191229,  I07S,    83,  1,     20,   1220,2,  200103,2001,-33.9669,  57.0350, 5030,   1669.9,   3.0336,   3.0336,2,  34.5634,2,  34.5630,2,    173.8,2,    173.6,2,    67.19,2,    33.29,2,     0.00,2,     2.29,2,     0.06,2,    0.512,2,    0.284,2,    0.033,2,    0.134,2,   2247.1,2,   2333.7,2,   -999.0,9,  -999.00,9,-999.0000,9,-999.0000,9,-999.0000,9,   3.0336,2
  49NZ20191229,  I07S,    83,  1,     19,   1219,2,  200103,2001,-33.9669,  57.0350, 5030,   1871.7,   2.7184,   2.7181,2,  34.6326,2,  34.6337,2,    176.4,2,    176.2,2,    74.29,2,    32.60,2,     0.00,2,     2.24,2,     0.06,2,    0.287,2,    0.166,2,    0.018,2,    0.099,2,   2251.2,2,   2342.6,2,   -999.0,9,  -999.00,9,   0.2490,2,   0.1280,2,   0.0160,2,   2.7181,2
  49NZ20191229,  I07S,    83,  1,     18,   1218,2,  200103,2001,-33.9669,  57.0350, 5030,   2071.1,   2.4741,   2.4743,2,  34.6852,2,  34.6849,2,    182.4,2,    182.2,2,    78.79,2,    31.85,2,     0.00,2,     2.19,2,     0.05,2,    0.192,2,    0.111,2,    0.015,2,    0.007,2,   2252.8,2,   2347.5,2,   -999.0,9,  -999.00,9,-999.0000,9,-999.0000,9,-999.0000,9,   2.4743,2
  49NZ20191229,  I07S,    83,  1,     17,   1217,2,  200103,2001,-33.9669,  57.0350, 5030,   2270.1,   2.3084,   2.3082,2,  34.7119,2,  34.7119,2,    185.9,2,    185.8,2,    83.28,2,    31.50,2,     0.00,2,     2.15,2,     0.05,2,    0.134,2,    0.076,2,    0.009,2,    0.049,2,   2253.6,2,   2350.3,2,   -999.0,9,  -999.00,9,   0.2680,2,   0.1420,2,   0.0180,2,   2.3082,2
  49NZ20191229,  I07S,    83,  1,     16,   1216,2,  200103,2001,-33.9669,  57.0350, 5030,   2470.9,   2.1991,   2.1990,2,  34.7247,2,  34.7250,2,    188.1,2,    187.6,2,    86.80,2,    31.19,2,     0.00,2,     2.15,2,        0,2,    0.110,2,    0.062,2,    0.007,2,     0.03,2,   2252.5,6,   2355.2,2,   -999.0,9,  -999.00,9,-999.0000,9,-999.0000,9,-999.0000,9,   2.1990,2
  49NZ20191229,  I07S,    83,  1,     15,   1215,2,  200103,2001,-33.9669,  57.0350, 5030,   2669.1,   2.0508,   2.0509,2,  34.7347,2,  34.7345,2,    189.2,2,    188.7,2,    92.27,2,    31.22,2,     0.01,2,     2.15,2,     0.07,2,    0.086,2,    0.049,2,    0.009,2,    0.041,2,   2254.9,2,   2363.4,2,   -999.0,9,  -999.00,9,   0.2670,2,   0.1370,2,   0.0140,2,   2.0509,2
  49NZ20191229,  I07S,    83,  1,     14,   1214,2,  200103,2001,-33.9669,  57.0350, 5030,   2869.0,   1.8927,   1.8924,2,  34.7391,2,  34.7390,2,    192.7,2,    192.4,2,    95.96,2,    31.20,2,     0.01,2,     2.14,2,     0.01,2,    0.092,2,    0.052,2,    0.004,2,    0.018,2,   2256.1,2,   2364.3,2,   -999.0,9,  -999.00,9,-999.0000,9,-999.0000,9,-999.0000,9,   1.8924,2
  49NZ20191229,  I07S,    83,  1,     13,   1213,2,  200103,2001,-33.9669,  57.0350, 5030,   3082.6,   1.7274,   1.7272,2,  34.7353,2,  34.7346,2,    190.4,2,    190.0,2,   105.35,2,    31.93,2,     0.01,2,     2.20,2,     0.05,2,    0.074,2,    0.041,2,    0.003,2,    0.017,2,   2266.1,2,   -999.0,9,   -999.0,9,  -999.00,9,   0.2740,2,   0.1480,2,   0.0200,2,   1.7272,2
  49NZ20191229,  I07S,    83,  1,     12,   1212,2,  200103,2001,-33.9669,  57.0350, 5030,   3329.8,   1.4983,   1.4976,2,  34.7290,2,  34.7286,2,    196.1,2,    195.8,2,   109.42,2,    31.91,2,     0.01,2,     2.20,2,     0.03,2,    0.103,2,    0.058,2,    0.011,2,    0.042,2,   2264.0,2,   2367.6,6,   -999.0,9,  -999.00,9,-999.0000,9,-999.0000,9,-999.0000,9,   1.4976,2
  49NZ20191229,  I07S,    83,  1,     11,   1211,2,  200103,2001,-33.9669,  57.0350, 5030,   3580.5,   1.2371,   1.2368,2,  34.7196,2,  34.7191,2,    202.6,2,    202.2,2,   113.81,2,    31.75,2,     0.01,2,     2.19,2,     0.03,2,    0.143,2,    0.082,2,    0.011,2,    0.038,2,   2263.7,2,   -999.0,9,   -999.0,9,  -999.00,9,   0.2610,2,   0.1350,2,   0.0160,2,   1.2368,2
  49NZ20191229,  I07S,    83,  1,     10,   1210,2,  200103,2001,-33.9669,  57.0350, 5030,   3830.5,   0.9258,   0.9259,2,  34.7070,2,  34.7065,2,    209.9,2,    209.5,2,   119.63,2,    32.07,2,     0.00,2,     2.20,2,     0.07,2,    0.201,2,    0.114,2,    0.012,2,    0.066,2,   2262.3,2,   2366.2,2,   -999.0,9,  -999.00,9,-999.0000,9,-999.0000,9,-999.0000,9,   0.9259,2
  49NZ20191229,  I07S,    83,  1,      9,   1209,2,  200103,2001,-33.9669,  57.0350, 5030,   4081.8,   0.7096,   0.7087,2,  34.6964,2,  34.6961,2,    214.2,2,    213.8,2,   125.00,2,    32.38,2,     0.01,2,     2.22,2,     0.07,2,    0.241,2,    0.136,2,    0.012,2,    0.048,2,   2262.9,2,   2364.7,2,   -999.0,9,  -999.00,9,   0.2890,2,   0.1590,2,   0.0290,2,   0.7087,2
  49NZ20191229,  I07S,    83,  1,      8,  12103,2,  200103,2001,-33.9669,  57.0350, 5030,   4329.7,   0.6657,   0.6658,2,  34.6931,2,  34.6932,2,    215.4,2,    215.0,2,   126.92,2,    32.38,2,     0.00,2,     2.22,2,     0.06,2,    0.258,2,    0.145,2,    0.018,2,    0.078,2,   2260.6,6,   2365.6,2,   -999.0,9,  -999.00,9,-999.0000,9,-999.0000,9,-999.0000,9,   0.6658,2
  49NZ20191229,  I07S,    83,  1,      7,   1207,2,  200103,2001,-33.9669,  57.0350, 5030,   4579.2,   0.6552,   0.6552,2,  34.6912,2,  34.6911,2,    215.8,2,    215.6,2,   128.11,2,    32.47,2,     0.01,2,     2.23,2,     0.06,2,    0.261,2,    0.145,2,    0.020,2,    0.077,2,   2261.3,2,   2365.1,2,   -999.0,9,  -999.00,9,   0.2560,2,   0.1330,2,   0.0210,2,   0.6552,2
  49NZ20191229,  I07S,    83,  1,      6,   1206,2,  200103,2001,-33.9669,  57.0350, 5030,   4831.7,   0.6570,   0.6570,2,  34.6899,2,  34.6903,2,    216.1,2,    216.3,2,   128.85,2,    32.55,2,     0.00,2,     2.23,2,        0,2,    0.269,2,    0.152,2,    0.015,2,    0.058,2,   2262.1,2,   2364.0,6,   -999.0,9,  -999.00,9,-999.0000,9,-999.0000,9,-999.0000,9,   0.6570,2
  49NZ20191229,  I07S,    83,  1,      2,  12046,2,  200103,2001,-33.9669,  57.0350, 5030,     76.7,  16.6561,  16.6559,2,  35.5288,2,  35.5283,2,    243.7,2,    243.3,2,     1.36,2,     0.49,2,     0.10,2,     0.19,2,     0.19,2, -999.000,9, -999.000,9, -999.000,9,     -999,9,   2074.7,2,   2333.3,2,   -999.0,9,     0.32,2,   0.2540,2,   0.1460,2,   0.0160,2,  16.6559,2
  49NZ20191229,  I07S,    83,  1,      1,   1201,2,  200103,2001,-33.9669,  57.0350, 5030,   5119.4,   0.6862,   0.6862,2,  34.6896,2,  34.6893,2,    216.3,2,    216.2,2,   128.93,2,    32.61,2,     0.00,2,     2.24,2,        0,2,    0.273,2,    0.151,2,    0.012,2,    0.088,2,   2261.7,2,   2360.0,2,   -999.0,9,  -999.00,9,   0.3120,2,   0.1750,2,   0.0290,2,   0.6862,2