BOTTLE,20210310PRINUNIVRMK
# 09/09/2019 Initialized README file  
# Data source: K. Katsumata 3/5/20; final data from JAMSTEC 3/1/21 
# SHIP: R/V Mirai 
# Cruise: I07S; MR19-04 Leg 3 
# Region: Southwest Indian 
# 	Mauritius to Singapore 
# EXPOCODE: 49NZ20191229 
# DATES: 20191229 - 20200210 
# Chief Scientist: Katsuro Katsumata 
# 51 stations with 36 place Rosette 
# Bottle numbers: Leading "X" and midpoint "S" were eliminated to create numeric values 
# SOCCOM Biogeochemical floats deployed by Melissa Miller 
# #    Sta   WMO_ID      Lat       Lon       Date      WMOID        Name               Adopted by 
# 1     72   18299    -30.1383   55.1983  20200101     5906204    Toggweiler            GFDL, Princeton, NU 
# 2     86   18082    -35.0217   57.4167  20200105     5906205    Saguaro of the Sea    Twin Peaks K-8 School, Tucson, AZ 
# 3     97   17898    -40.1883   57.6450  20200107     5906208    Kekaihālana           Voyager Public Charter School, Honolulu, HI 
# 4    107   18739    -44.9533   57.8367  20200110     5906209    The Grouse            Portsmouth Christina Academy, Dover, NH 
# 5    114   18821    -47.9133   57.6600  20200112     5906206    Lautan                Oakham Primary School, West Midlands, United Kingdom 
# 6    126   18013    -53.9833   56.5117  20200116     5906207    Lobo de Mar           Monterey Penninsula College, Monterey, CA 
# 7    136   18864    -58.1983   55.2533  20200118     5906211    Saber Science         New Community School, Richmond,  VA 
# 8    147   18994    -63.5117   53.7250  20200120     5906210    Winstons Journey      Winston Campus Elementary School, Palatine, IL 
# Supported by NSF Award PLR-1425989 to J.L. Sarmiento et al.  
# See Talley et al., 2020 
# CTD: Who - H.Uchida; Status - final 
# 	Includes: CTDSAL, CTDOXY 
# 	Both parameters calibrated 
# Optical profile: Who - H.Uchida; Status - final 
# 	Includes: FLBB, Backscatter, FLUOR, BB700TS, XMISS 
# SALNTY: Who - H.Uchida; Status -  final 
# 	Notes: 	 
# Nutrients: Who - M. Aoyama; Status - final 
# 	Includes: nitrate, nitrite, silicate, phosphate, ammonium 
# 	KANSO CRM Lot: CE,CJ,CG,CB,BZ,CF 
# 	Analytical precisions during the cruise were: nitrate=0.16%, nitrite=0.22%, 
# 		silicate=0.12%, phosphate=0.16%, ammonia=0.31%;  
# 		each in terms of a median of precision 
# OXYGEN: Who - Y. Kumamoto; Status - final 
# 	Notes: 	CRM 3006-a No. 073 
# TCARBN: Who - A.Murata; Status - final 
# 	Notes:  
# ALKALI: Who - A.Murata; Status - final 
# 	Notes: Duplicate amples at float stations (only) returned to shore for analysis by A.Dickson 
# pH: Who - A.Dickson; Status -collected 
# 	Notes: Only sampled at float stations. Returned to shore for analysis by A.Dickson 
# CFC: Who - M.Shigemitsu; Status - final 
# 	Notes: includes CFC-11, CFC-12, CFC113 and SF-6 
# C14/C13: Who - Y.Kumamoto; Status - Collected 
# 	Notes:  
# CHLOROA: Who - K.Sasaoka; Status - final 
# 	Notes: Turner fluorometer 
# 	ug/L units 
# DOC: Who - M.Shigemitsu; Status - final 
# 	Notes: umol/Kg units 
# CDOM: Who - IK.Sasaoka; Status - final 
# 	Notes: reported at 300, 325, and 443 nm in /meter units 
# HPLC/POC: Who - Talley; Status - collected 
# 	Notes:  
# These data should be cited as: 
# References: JAMSTEC (2020) MIRAI MR19-04 Leg3 Cruise Data. JAMSTEC. doi:10.17596/0002118 (accessed 2021-03-01)) 
EXPOCODE,SECT_ID,STNNBR,CASTNO,SAMPNO,BTLNBR,BTLNBR_FLAG_W,DATE,TIME,LATITUDE,LONGITUDE,DEPTH,CTDPRS,CTDTMP,SBE35,SBE35_FLAG_W,CTDSAL,CTDSAL_FLAG_W,SALNTY,SALNTY_FLAG_W,CTDOXY,CTDOXY_FLAG_W,OXYGEN,OXYGEN_FLAG_W,SILCAT,SILCAT_FLAG_W,NITRAT,NITRAT_FLAG_W,NITRIT,NITRIT_FLAG_W,PHSPHT,PHSPHT_FLAG_W,NH4,NH4_FLAG_W,CFC-11,CFC-11_FLAG_W,CFC-12,CFC-12_FLAG_W,CFC113,CFC113_FLAG_W,SF6,SF6_FLAG_W,TCARBN,TCARBN_FLAG_W,ALKALI,ALKALI_FLAG_W,DOC,DOC_FLAG_W,CHLORA,CHLORA_FLAG_W,CDOM300,CDOM300_FLAG_W,CDOM325,CDOM325_FLAG_W,CDOM443,CDOM443_FLAG_W,SBE35,SBE35_FLAG_W
,,,,,,,,,,,METERS,DBAR,ITS-90,,,PSS-78,,PSS-78,,UMOL/KG,,UMOL/KG,,UMOL/KG,,UMOL/KG,,UMOL/KG,,UMOL/KG,,UMOL/KG,,PMOL/KG,,PMOL/KG,,PMOL/KG,,FMOL/KG,,UMOL/KG,,UMOL/KG,,UMOL/KG,,UG/L,,1/M,,1/M,,1/M,,,
  49NZ20191229,  I07S,    70,  1,     36,   1236,2,  191231,1652,-29.4940,  54.4974, 4904,     10.6,  23.9949,  23.9969,2,  35.5121,2,  35.5125,2,    216.2,2,    217.8,2,     0.52,2,     0.02,2,     0.01,2,     0.01,2,     0.05,2,    0.000,4,    0.000,4,    0.003,4,    0.021,4,   2008.0,2,   2329.8,2,     88.4,2,     0.43,2,   0.5000,2,   0.3330,2,   0.0490,2,  23.9969,2
  49NZ20191229,  I07S,    70,  1,     35,   1235,2,  191231,1652,-29.4940,  54.4974, 4904,     50.1,  22.2132,  22.2131,2,  35.4962,2,  35.4971,2,    209.8,2,    211.8,2,     1.12,2,     0.01,2,     0.01,2,     0.02,2,     0.17,2,    0.000,4,    0.003,4,    0.019,4,    0.016,4,   2021.5,2,   2328.4,2,     79.3,2,     0.74,2,   0.4800,2,   0.3200,2,   0.0530,2,  22.2131,2
  49NZ20191229,  I07S,    70,  1,     34,   1234,2,  191231,1652,-29.4940,  54.4974, 4904,    100.4,  19.6042,  19.6043,2,  35.6387,2,  35.6374,2,    214.4,2,    215.5,2,     1.89,2,     0.48,2,     0.15,2,     0.12,2,     0.03,2,    0.055,4,    0.044,4,    0.009,4,    1.467,4,   2062.2,2,   2335.8,2,     66.5,2,     0.07,2,   0.2790,2,   0.1650,2,   0.0330,2,  19.6043,2
  49NZ20191229,  I07S,    70,  1,     33,   1233,2,  191231,1652,-29.4940,  54.4974, 4904,    149.6,  18.2043,  18.2062,2,  35.6337,2,  35.6335,2,    207.4,2,    208.6,2,     2.17,2,     1.86,2,     0.03,2,     0.24,2,     0.03,2,    2.666,3,    1.603,3,    0.143,3,    2.155,3,   2085.8,2,   2338.7,2,     58.9,2,     0.05,2,   0.2570,2,   0.1530,2,   0.0270,2,  18.2062,2
  49NZ20191229,  I07S,    70,  1,     32,   1232,2,  191231,1652,-29.4940,  54.4974, 4904,    200.3,  16.7495,  16.7495,2,  35.5590,2,  35.5577,2,    202.4,2,    203.5,2,     2.88,2,     4.14,2,     0.01,2,     0.38,2,     0.03,2,    1.131,2,    0.915,2,    0.043,2,    1.328,2,   2104.4,2,   2334.7,2,     58.0,2,     0.01,2,   0.2430,2,   0.1380,2,   0.0210,2,  16.7495,2
  49NZ20191229,  I07S,    70,  1,     31,   1231,2,  191231,1652,-29.4940,  54.4974, 4904,    249.7,  15.4373,  15.4383,2,  35.4796,2,  35.4788,2,    210.7,2,    211.2,2,     2.79,2,     5.29,2,     0.01,2,     0.46,2,     0.04,2,    2.465,2,    1.532,2,    0.050,2,    1.961,2,   2108.1,2,   2331.2,2,     54.2,2,     0.01,2,-999.0000,9,-999.0000,9,-999.0000,9,  15.4383,2
  49NZ20191229,  I07S,    70,  1,     30,   1230,2,  191231,1652,-29.4940,  54.4974, 4904,    299.9,  14.5699,  14.5743,2,  35.4055,2,  35.4067,2,    217.2,2,    217.2,2,     2.90,2,     6.35,2,     0.01,2,     0.52,2,     0.03,2,    2.651,2,    1.587,2,    0.052,2,     2.03,2,   2115.1,2,   2328.3,2,     52.4,2,  -999.00,9,   0.1980,2,   0.1070,2,   0.0150,2,  14.5743,2
  49NZ20191229,  I07S,    70,  1,     29,   1229,2,  191231,1652,-29.4940,  54.4974, 4904,    400.1,  13.1241,  13.1266,2,  35.2344,2,  35.2344,2,    225.6,2,    225.3,2,     3.19,2,     8.73,2,     0.01,2,     0.67,2,     0.02,2,    2.862,2,    1.704,2,    0.064,2,    2.048,2,   2123.5,2,   2318.8,2,     48.7,2,  -999.00,9,   0.1840,2,   0.1010,2,   0.0130,2,  13.1266,2
  49NZ20191229,  I07S,    70,  1,     28,   1228,2,  191231,1652,-29.4940,  54.4974, 4904,    500.2,  12.1217,  12.1219,2,  35.0895,2,  35.0890,2,    227.3,2,    227.3,2,     3.51,2,    10.89,2,     0.00,2,     0.80,2,     0.01,2,    3.076,2,    1.787,2,    0.084,2,    1.923,2,   2125.9,2,   2311.0,2,     45.2,2,  -999.00,9,   0.1760,2,   0.0910,2,   0.0120,2,  12.1219,2
  49NZ20191229,  I07S,    70,  1,     27,   1227,2,  191231,1652,-29.4940,  54.4974, 4904,    599.0,  11.0454,  11.0455,2,  34.9265,2,  34.9255,2,    230.7,2,    230.3,2,     3.97,2,    12.99,2,     0.00,2,     0.94,2,     0.03,2,    3.241,2,    1.876,2,    0.111,2,    1.743,2,   2130.7,2,   2305.2,2,     47.0,2,  -999.00,9,   0.1690,2,   0.0910,2,   0.0140,2,  11.0455,2
  49NZ20191229,  I07S,    70,  1,     26,   1226,2,  191231,1652,-29.4940,  54.4974, 4904,    699.1,  10.2069,  10.2084,2,  34.8049,2,  34.8014,2,    229.8,2,    229.2,2,     4.77,2,    15.34,2,     0.01,2,     1.06,2,     0.04,2,    3.390,2,    1.914,2,    0.112,2,    1.714,2,   2133.1,6,   2302.8,2,     43.8,2,  -999.00,9,-999.0000,9,-999.0000,9,-999.0000,9,  10.2084,2
  49NZ20191229,  I07S,    70,  1,     25,   1225,2,  191231,1652,-29.4940,  54.4974, 4904,    799.4,   9.3955,   9.3975,2,  34.7048,2,  34.7038,2,    221.4,2,    221.1,2,     6.93,2,    18.10,2,     0.01,2,     1.24,2,     0.03,2,    3.332,2,    1.841,2,    0.109,2,     1.41,2,   2144.4,2,   2299.1,2,     41.2,2,  -999.00,9,   0.2020,2,   0.1040,2,   0.0200,2,   9.3975,2
  49NZ20191229,  I07S,    70,  1,     24,   1224,2,  191231,1652,-29.4940,  54.4974, 4904,    899.2,   8.2058,   8.2064,2,  34.5854,2,  34.5845,2,    210.4,2,    210.2,2,    11.63,2,    21.94,2,     0.01,2,     1.49,2,     0.03,2,    3.073,2,    1.639,2,    0.098,2,    1.069,2,   2157.9,2,   2295.8,2,     43.3,2,  -999.00,9,-999.0000,9,-999.0000,9,-999.0000,9,   8.2064,2
  49NZ20191229,  I07S,    70,  1,     23,   1223,3,  191231,1652,-29.4940,  54.4974, 4904,    997.6,   6.8004,   6.8033,2,  34.4825,2,  34.4827,2,    200.2,2,    200.1,2,    19.78,2,    26.05,2,     0.00,2,     1.77,2,     0.03,2,    2.533,2,    1.305,2,    0.092,2,    0.721,2,   2176.9,2,   2295.8,2,     42.7,2,  -999.00,9,   0.2310,2,   0.1150,2,   0.0090,2,   6.8033,2
  49NZ20191229,  I07S,    70,  1,     22,   1222,2,  191231,1652,-29.4940,  54.4974, 4904,   1198.5,   4.6805,   4.6805,2,  34.4096,2,  34.4091,2,    188.3,2,    188.3,2,    38.80,2,    31.28,2,     0.00,2,     2.14,2,     0.03,2,    1.652,2,    0.825,2,    0.083,2,    0.302,2,   2208.3,2,   2310.8,6,     40.7,2,  -999.00,9,-999.0000,9,-999.0000,9,-999.0000,9,   4.6805,2
  49NZ20191229,  I07S,    70,  1,     21,   1221,2,  191231,1652,-29.4940,  54.4974, 4904,   1398.4,   3.7281,   3.7304,2,  34.4922,2,  34.4924,2,    166.9,2,    166.4,2,    60.81,2,    33.89,2,     0.01,2,     2.34,2,     0.04,2,    0.630,2,    0.329,2,    0.031,2,    0.111,2,   2241.3,2,   2330.1,2,     39.4,2,  -999.00,9,   0.2930,2,   0.1520,2,   0.0190,2,   3.7304,2
  49NZ20191229,  I07S,    70,  1,     20,   1220,2,  191231,1652,-29.4940,  54.4974, 4904,   1600.0,   3.1055,   3.1054,2,  34.5765,2,  34.5763,2,    165.6,2,    165.5,2,    72.85,2,    33.91,2,     0.00,2,     2.35,2,     0.03,2,    0.292,2,    0.157,2,    0.011,2,    0.012,2,   2252.8,2,   2342.7,2,     42.0,2,  -999.00,9,-999.0000,9,-999.0000,9,-999.0000,9,   3.1054,2
  49NZ20191229,  I07S,    70,  1,     19,   1219,2,  191231,1652,-29.4940,  54.4974, 4904,   1800.1,   2.7438,   2.7443,2,  34.6403,2,  34.6398,2,    169.4,2,    169.3,2,    80.97,2,    33.43,2,     0.00,2,     2.30,2,     0.02,2,    0.145,2,    0.078,2,    0.010,2,     0.01,2,   2262.4,2,   2351.8,2,     39.2,2,  -999.00,9,   0.2940,2,   0.1560,2,   0.0130,2,   2.7443,2
  49NZ20191229,  I07S,    70,  1,     18,   1218,2,  191231,1652,-29.4940,  54.4974, 4904,   1999.3,   2.5157,   2.5157,2,  34.6835,2,  34.6831,2,    173.6,2,    173.5,2,    86.79,2,    32.72,2,     0.00,2,     2.25,2,     0.02,2,    0.083,2,    0.044,2,    0.007,2,    0.001,2,   2269.1,2,   2359.0,2,     41.8,2,  -999.00,9,-999.0000,9,-999.0000,9,-999.0000,9,   2.5157,2
  49NZ20191229,  I07S,    70,  1,     17,   1217,2,  191231,1652,-29.4940,  54.4974, 4904,   2200.2,   2.3479,   2.3480,2,  34.7124,2,  34.7126,2,    175.9,2,    175.9,2,    92.54,2,    32.43,2,     0.00,2,     2.24,2,     0.03,2,    0.055,2,    0.029,2,    0.007,2,    0.003,2,   2266.8,2,   2366.6,2,     41.2,2,  -999.00,9,   0.3070,2,   0.1670,2,   0.0210,2,   2.3480,2
  49NZ20191229,  I07S,    70,  1,     16,   1216,2,  191231,1652,-29.4940,  54.4974, 4904,   2400.4,   2.2084,   2.2086,2,  34.7308,2,  34.7302,2,    176.5,2,    176.4,2,    98.47,2,    32.29,2,     0.00,2,     2.24,2,     0.03,2,    0.039,2,    0.018,2,    0.001,2,     0.01,2,   2273.5,6,   2373.8,2,     38.2,2,  -999.00,9,-999.0000,9,-999.0000,9,-999.0000,9,   2.2086,2
  49NZ20191229,  I07S,    70,  1,     15,   1215,2,  191231,1652,-29.4940,  54.4974, 4904,   2599.2,   2.1016,   2.1018,2,  34.7392,2,  34.7384,2,    175.5,2,    175.4,2,   104.18,2,    32.43,2,     0.00,2,     2.25,2,     0.04,2,    0.036,2,    0.016,2,    0.005,2,    0.003,2,   2275.8,2,   2378.6,2,     39.7,2,  -999.00,9,   0.3110,2,   0.1740,2,   0.0200,2,   2.1018,2
  49NZ20191229,  I07S,    70,  1,     14,   1214,2,  191231,1652,-29.4940,  54.4974, 4904,   2801.0,   1.9848,   1.9847,2,  34.7400,2,  34.7393,2,    173.2,2,    173.2,2,   111.23,2,    32.87,2,     0.00,2,     2.29,2,     0.03,2,    0.025,2,    0.011,2,    0.006,2,    0.005,2,   2288.0,2,   2384.1,2,     40.9,2,  -999.00,9,-999.0000,9,-999.0000,9,-999.0000,9,   1.9847,2
  49NZ20191229,  I07S,    70,  1,     13,   1213,3,  191231,1652,-29.4940,  54.4974, 4904,   2999.5,   1.8449,   1.8449,2,  34.7382,2,  34.7380,2,    173.8,2,    174.0,2,   116.65,2,    33.21,2,     0.00,2,     2.31,2,     0.03,2,    0.025,2,    0.012,2,    0.008,2,    0.005,2,   2286.2,2,   2389.9,2,     39.7,2,  -999.00,9,   0.3150,2,   0.1690,2,   0.0220,2,   1.8449,2
  49NZ20191229,  I07S,    70,  1,     12,   1212,2,  191231,1652,-29.4940,  54.4974, 4904,   3249.8,   1.6831,   1.6830,2,  34.7336,2,  34.7327,2,    178.9,2,    179.1,2,   118.82,2,    33.11,2,     0.00,2,     2.30,2,     0.03,2,    0.022,2,    0.010,2,    0.001,2,    0.006,2,   2286.7,2,   2386.8,6,     38.9,2,  -999.00,9,-999.0000,9,-999.0000,9,-999.0000,9,   1.6830,2
  49NZ20191229,  I07S,    70,  1,     11,   1211,2,  191231,1652,-29.4940,  54.4974, 4904,   3499.9,   1.5165,   1.5168,2,  34.7274,2,  34.7267,2,    185.7,2,    185.9,2,   119.24,2,    32.86,2,     0.00,2,     2.28,2,     0.04,2,    0.040,2,    0.018,2,    0.002,2,    0.015,2,   2281.5,2,   2385.7,2,     40.3,2,  -999.00,9,   0.3170,2,   0.1670,2,   0.0230,2,   1.5168,2
  49NZ20191229,  I07S,    70,  1,     10,   1210,2,  191231,1652,-29.4940,  54.4974, 4904,   3750.3,   1.3183,   1.3185,2,  34.7211,2,  34.7204,2,    196.5,2,    196.3,2,   117.41,2,    32.49,2,     0.00,2,     2.23,2,     0.04,2,    0.090,2,    0.046,2,    0.007,2,    0.006,2,   2273.9,2,   2376.7,2,     42.7,2,  -999.00,9,-999.0000,9,-999.0000,9,-999.0000,9,   1.3185,2
  49NZ20191229,  I07S,    70,  1,      9,   1209,2,  191231,1652,-29.4940,  54.4974, 4904,   3999.3,   1.1777,   1.1777,2,  34.7164,2,  34.7157,2,    204.6,2,    204.8,2,   116.10,2,    32.00,2,     0.01,2,     2.19,2,     0.04,2,    0.144,2,    0.076,2,    0.010,2,    0.036,2,   2262.7,2,   2368.2,2,     35.9,2,  -999.00,9,   0.2960,2,   0.1550,2,   0.0170,2,   1.1777,2
  49NZ20191229,  I07S,    70,  1,      8,  12103,2,  191231,1652,-29.4940,  54.4974, 4904,   4251.9,   1.1094,   1.1093,2,  34.7130,2,  34.7121,2,    206.9,2,    206.9,2,   117.26,2,    32.06,2,     0.00,2,     2.20,2,     0.03,2,    0.163,2,    0.084,2,    0.010,2,    0.017,2,   2263.9,6,   2369.4,2,     34.8,2,  -999.00,9,-999.0000,9,-999.0000,9,-999.0000,9,   1.1093,2
  49NZ20191229,  I07S,    70,  1,      7,   1207,2,  191231,1652,-29.4940,  54.4974, 4904,   4503.9,   1.0560,   1.0561,2,  34.7097,2,  34.7089,2,    208.0,2,    208.2,2,   119.01,2,    32.08,2,     0.00,2,     2.20,2,     0.02,2,    0.174,2,    0.089,2,    0.008,2,    0.037,2,   2263.8,2,   2370.0,2,     40.6,2,  -999.00,9,   0.3080,2,   0.1600,2,   0.0210,2,   1.0561,2
  49NZ20191229,  I07S,    70,  1,      6,   1206,2,  191231,1652,-29.4940,  54.4974, 4904,   4752.2,   1.0001,   1.0002,2,  34.7057,2,  34.7047,2,    209.1,2,    209.3,2,   121.36,2,    32.23,2,     0.00,2,     2.21,2,     0.02,2,    0.182,2,    0.094,2,    0.012,2,    0.008,2,   2263.1,2,   2366.8,6,     37.3,2,  -999.00,9,-999.0000,9,-999.0000,9,-999.0000,9,   1.0002,2
  49NZ20191229,  I07S,    70,  1,      2,  12046,2,  191231,1652,-29.4940,  54.4974, 4904,     40.8,  22.3819,  22.3810,2,  35.4652,2,  35.4649,2,    213.7,2,    215.2,2,     0.71,2,     0.00,2,     0.01,2,     0.01,2,     0.04,2, -999.000,9, -999.000,9, -999.000,9,     -999,9,   2015.8,2,   2325.1,2,     77.7,2,     0.72,2,   0.5380,2,   0.3610,2,   0.0570,2,  22.3810,2
  49NZ20191229,  I07S,    70,  1,      1,   1201,2,  191231,1652,-29.4940,  54.4974, 4904,   4969.9,   0.9683,   0.9683,2,  34.7030,2,  34.7025,2,    210.0,2,    210.1,2,   122.47,2,    32.21,2,     0.00,2,     2.22,2,     0.03,2,    0.189,2,    0.098,2,    0.012,2,    0.014,2,   2266.0,2,   2365.8,2,     40.0,2,  -999.00,9,   0.2910,2,   0.1570,2,   0.0160,2,   0.9683,2