BOTTLE,20210310PRINUNIVRMK
EXPOCODE,SECT_ID,STNNBR,CASTNO,SAMPNO,BTLNBR,BTLNBR_FLAG_W,DATE,TIME,LATITUDE,LONGITUDE,DEPTH,CTDPRS,CTDTMP,SBE35,SBE35_FLAG_W,CTDSAL,CTDSAL_FLAG_W,SALNTY,SALNTY_FLAG_W,CTDOXY,CTDOXY_FLAG_W,OXYGEN,OXYGEN_FLAG_W,SILCAT,SILCAT_FLAG_W,NITRAT,NITRAT_FLAG_W,NITRIT,NITRIT_FLAG_W,PHSPHT,PHSPHT_FLAG_W,NH4,NH4_FLAG_W,CFC-11,CFC-11_FLAG_W,CFC-12,CFC-12_FLAG_W,CFC113,CFC113_FLAG_W,SF6,SF6_FLAG_W,TCARBN,TCARBN_FLAG_W,ALKALI,ALKALI_FLAG_W,DOC,DOC_FLAG_W,CHLORA,CHLORA_FLAG_W,CDOM300,CDOM300_FLAG_W,CDOM325,CDOM325_FLAG_W,CDOM443,CDOM443_FLAG_W,SBE35,SBE35_FLAG_W
,,,,,,,,,,,METERS,DBAR,ITS-90,,,PSS-78,,PSS-78,,UMOL/KG,,UMOL/KG,,UMOL/KG,,UMOL/KG,,UMOL/KG,,UMOL/KG,,UMOL/KG,,PMOL/KG,,PMOL/KG,,PMOL/KG,,FMOL/KG,,UMOL/KG,,UMOL/KG,,UMOL/KG,,UG/L,,1/M,,1/M,,1/M,,,
  49NZ20191229,  I07S,   113,  1,     36,   1236,2,  200111,2154,-47.6798,  57.5892, 4539,      9.8,   6.4072,   6.4073,2,  33.7409,2,  33.7408,2,    308.0,2,    308.1,2,     3.63,2,    19.68,2,     0.13,2,     1.40,2,     0.49,2,    4.411,2,    2.399,2,    0.401,2,      3.6,2,   2118.7,2,   2269.8,2,   -999.0,9,     0.44,2,-999.0000,9,-999.0000,9,-999.0000,9,   6.4073,2
  49NZ20191229,  I07S,   113,  1,     35,   1235,2,  200111,2154,-47.6798,  57.5892, 4539,     49.6,   6.3352,   6.3350,2,  33.7421,2,  33.7417,2,    307.9,2,    307.9,2,     3.70,2,    19.75,2,     0.13,2,     1.41,2,     0.51,2,    4.439,2,    2.437,2,    0.399,2,    3.551,2,   2111.2,2,   2271.5,2,   -999.0,9,     0.38,2,-999.0000,9,-999.0000,9,-999.0000,9,   6.3350,2
  49NZ20191229,  I07S,   113,  1,     34,   1234,2,  200111,2154,-47.6798,  57.5892, 4539,    100.5,   4.4803,   4.4907,2,  33.7914,2,  33.7911,2,    306.9,2,    307.1,2,     6.65,2,    21.99,2,     0.28,2,     1.65,2,     1.69,2,    4.830,2,    2.609,2,    0.445,2,    3.724,2,   2136.6,2,   2277.0,2,   -999.0,9,     0.21,2,-999.0000,9,-999.0000,9,-999.0000,9,   4.4907,2
  49NZ20191229,  I07S,   113,  1,     33,   1233,2,  200111,2154,-47.6798,  57.5892, 4539,    150.6,   3.5649,   3.5658,2,  33.8499,2,  33.8501,2,    303.8,2,    303.4,2,    11.79,2,    26.04,2,     0.06,2,     1.78,2,     0.05,2,    4.930,2,    2.661,2,    0.432,2,    3.693,2,   2151.5,2,   2271.1,2,   -999.0,9,     0.04,2,-999.0000,9,-999.0000,9,-999.0000,9,   3.5658,2
  49NZ20191229,  I07S,   113,  1,     32,   1232,2,  200111,2154,-47.6798,  57.5892, 4539,    201.1,   3.2802,   3.2801,2,  33.9550,2,  33.9526,2,    289.7,2,    289.7,2,    18.15,2,    27.46,2,     0.02,2,     1.86,2,     0.07,2,    4.745,2,    2.548,2,    0.410,2,    3.348,2,   2163.2,2,   2276.4,2,   -999.0,9,     0.02,2,-999.0000,9,-999.0000,9,-999.0000,9,   3.2801,2
  49NZ20191229,  I07S,   113,  1,     31,   1231,2,  200111,2154,-47.6798,  57.5892, 4539,    248.7,   3.0578,   3.0686,2,  34.0101,2,  34.0107,2,    283.9,2,    283.0,2,    21.27,2,    28.36,2,     0.01,2,     1.90,2,     0.05,2,    4.632,2,    2.477,2,    0.389,2,    2.998,2,   2169.8,2,   2281.1,2,   -999.0,9,     0.02,2,-999.0000,9,-999.0000,9,-999.0000,9,   3.0686,2
  49NZ20191229,  I07S,   113,  1,     30,   1230,2,  200111,2154,-47.6798,  57.5892, 4539,    329.5,   3.0098,   3.0111,2,  34.1396,2,  34.1404,2,    246.3,2,    245.2,2,    29.99,2,    30.90,2,     0.01,2,     2.08,2,     0.01,2,    3.872,2,    2.049,2,    0.308,2,    2.049,2,   2189.6,2,   2287.8,2,   -999.0,9,  -999.00,9,-999.0000,9,-999.0000,9,-999.0000,9,   3.0111,2
  49NZ20191229,  I07S,   113,  1,     29,   1229,2,  200111,2154,-47.6798,  57.5892, 4539,    430.7,   2.9314,   2.9315,2,  34.2272,2,  34.2272,2,    223.1,2,    222.6,2,    38.13,2,    32.70,2,     0.01,2,     2.20,2,     0.04,2,    3.149,2,    1.640,2,    0.234,2,    1.538,2,   2204.6,2,   2294.4,2,   -999.0,9,  -999.00,9,-999.0000,9,-999.0000,9,-999.0000,9,   2.9315,2
  49NZ20191229,  I07S,   113,  1,     28,   1228,2,  200111,2154,-47.6798,  57.5892, 4539,    530.7,   2.8125,   2.8130,2,  34.3110,2,  34.3107,2,    203.9,2,    203.5,2,    47.68,2,    33.75,2,     0.01,2,     2.28,2,     0.02,2,    2.418,2,    1.250,2,    0.175,2,    0.988,2,   2221.5,2,   2305.7,2,   -999.0,9,  -999.00,9,-999.0000,9,-999.0000,9,-999.0000,9,   2.8130,2
  49NZ20191229,  I07S,   113,  1,     27,   1227,2,  200111,2154,-47.6798,  57.5892, 4539,    629.7,   2.7469,   2.7464,2,  34.3883,2,  34.3875,2,    189.5,2,    189.3,2,    55.51,2,    34.52,2,     0.01,2,     2.33,2,     0.05,2,    1.786,2,    0.934,2,    0.131,2,     0.76,2,   2233.5,2,   2313.1,2,   -999.0,9,  -999.00,9,-999.0000,9,-999.0000,9,-999.0000,9,   2.7464,2
  49NZ20191229,  I07S,   113,  1,     26,   1226,2,  200111,2154,-47.6798,  57.5892, 4539,    730.3,   2.7973,   2.7975,2,  34.4719,2,  34.4716,2,    178.1,2,    177.9,2,    61.31,2,    34.29,2,     0.01,2,     2.33,2,     0.07,2,    1.158,2,    0.620,2,    0.085,2,     0.26,2,   2238.4,6,   2322.1,2,   -999.0,9,  -999.00,9,-999.0000,9,-999.0000,9,-999.0000,9,   2.7975,2
  49NZ20191229,  I07S,   113,  1,     25,   1225,2,  200111,2154,-47.6798,  57.5892, 4539,    829.4,   2.6891,   2.6888,2,  34.5174,2,  34.5168,2,    174.5,2,    174.3,2,    65.82,2,    34.33,2,     0.00,2,     2.33,2,     0.03,2,    0.906,2,    0.489,2,    0.060,2,    0.325,2,   2249.9,2,   2325.7,2,   -999.0,9,  -999.00,9,-999.0000,9,-999.0000,9,-999.0000,9,   2.6888,2
  49NZ20191229,  I07S,   113,  1,     24,   1224,2,  200111,2154,-47.6798,  57.5892, 4539,    930.0,   2.5422,   2.5426,2,  34.5523,2,  34.5506,2,    171.2,2,    171.1,2,    70.24,2,    34.42,2,     0.00,2,     2.34,2,     0.03,2,    0.747,2,    0.410,2,    0.055,2,    0.285,2,   2253.2,2,   2330.6,2,   -999.0,9,  -999.00,9,-999.0000,9,-999.0000,9,-999.0000,9,   2.5426,2
  49NZ20191229,  I07S,   113,  1,     23,   1223,2,  200111,2154,-47.6798,  57.5892, 4539,   1070.7,   2.5463,   2.5464,2,  34.6239,2,  34.6232,2,    173.6,2,    173.6,2,    72.31,2,    33.21,2,     0.00,2,     2.26,2,     0.03,2,    0.460,2,    0.263,2,    0.032,2,    0.197,2,   2249.8,2,   2332.8,2,   -999.0,9,  -999.00,9,-999.0000,9,-999.0000,9,-999.0000,9,   2.5464,2
  49NZ20191229,  I07S,   113,  1,     22,   1222,2,  200111,2154,-47.6798,  57.5892, 4539,   1270.5,   2.4418,   2.4418,2,  34.6874,2,  34.6873,2,    179.3,2,    179.4,2,    74.46,2,    32.12,2,     0.00,2,     2.17,2,     0.02,2,    0.304,2,    0.177,2,    0.017,2,    0.109,2,   2249.9,2,   2340.2,6,   -999.0,9,  -999.00,9,-999.0000,9,-999.0000,9,-999.0000,9,   2.4418,2
  49NZ20191229,  I07S,   113,  1,     21,   1221,2,  200111,2154,-47.6798,  57.5892, 4539,   1469.6,   2.3493,   2.3494,2,  34.7288,2,  34.7283,2,    186.7,2,    186.8,2,    75.32,2,    30.94,2,     0.00,2,     2.09,2,     0.05,2,    0.233,2,    0.137,2,    0.016,2,    0.084,2,   2239.7,2,   2342.1,2,   -999.0,9,  -999.00,9,-999.0000,9,-999.0000,9,-999.0000,9,   2.3494,2
  49NZ20191229,  I07S,   113,  1,     20,   1220,2,  200111,2154,-47.6798,  57.5892, 4539,   1670.8,   2.2312,   2.2312,2,  34.7529,2,  34.7528,2,    193.8,2,    193.8,2,    76.69,2,    30.02,2,     0.00,2,     2.03,2,     0.02,2,    0.173,2,    0.103,2,    0.011,2,     0.04,2,   2238.4,2,   2348.0,2,   -999.0,9,  -999.00,9,-999.0000,9,-999.0000,9,-999.0000,9,   2.2312,2
  49NZ20191229,  I07S,   113,  1,     19,   1219,2,  200111,2154,-47.6798,  57.5892, 4539,   1870.8,   2.0975,   2.0975,2,  34.7623,2,  34.7622,2,    198.4,2,    198.8,2,    78.97,2,    29.71,2,     0.00,2,     2.01,2,     0.02,2,    0.158,2,    0.092,2,    0.011,2,     0.04,2,   2240.7,2,   2344.3,2,   -999.0,9,  -999.00,9,-999.0000,9,-999.0000,9,-999.0000,9,   2.0975,2
  49NZ20191229,  I07S,   113,  1,     18,   1218,2,  200111,2154,-47.6798,  57.5892, 4539,   2070.6,   1.9527,   1.9530,2,  34.7663,2,  34.7666,2,    202.2,2,    202.4,2,    81.64,2,    29.63,2,     0.00,2,     2.00,2,     0.02,2,    0.149,2,    0.090,2,    0.014,2,    0.064,2,   2239.1,2,   2347.0,2,   -999.0,9,  -999.00,9,-999.0000,9,-999.0000,9,-999.0000,9,   1.9530,2
  49NZ20191229,  I07S,   113,  1,     17,   1217,2,  200111,2154,-47.6798,  57.5892, 4539,   2270.8,   1.7977,   1.7978,2,  34.7628,2,  34.7629,2,    204.3,2,    204.4,2,    85.80,2,    29.60,2,     0.00,2,     2.01,2,     0.02,2,    0.152,2,    0.092,2,    0.011,2,    0.066,2,   2242.2,2,   2348.6,2,   -999.0,9,  -999.00,9,-999.0000,9,-999.0000,9,-999.0000,9,   1.7978,2
  49NZ20191229,  I07S,   113,  1,     16,   1216,2,  200111,2154,-47.6798,  57.5892, 4539,   2472.4,   1.6166,   1.6166,2,  34.7513,2,  34.7512,2,    204.5,2,    204.8,2,    93.00,2,    30.42,2,     0.01,2,     2.06,2,     0.04,2,    0.146,2,    0.089,2,    0.012,2,    0.053,2,   2247.1,6,   2356.2,2,   -999.0,9,  -999.00,9,-999.0000,9,-999.0000,9,-999.0000,9,   1.6166,2
  49NZ20191229,  I07S,   113,  1,     14,   1214,2,  200111,2154,-47.6798,  57.5892, 4539,   2869.3,   1.2562,   1.2565,2,  34.7315,2,  34.7313,2,    207.1,2,    207.3,2,   103.71,2,    30.93,2,     0.00,2,     2.11,2,     0.04,2,    0.204,2,    0.119,2,    0.018,2,     0.04,2,   2247.7,2,   2355.0,2,   -999.0,9,  -999.00,9,-999.0000,9,-999.0000,9,-999.0000,9,   1.2565,2
  49NZ20191229,  I07S,   113,  1,     13,   1213,2,  200111,2154,-47.6798,  57.5892, 4539,   3080.5,   1.0732,   1.0735,2,  34.7206,2,  34.7205,2,    208.5,2,    208.6,2,   109.15,2,    31.49,2,     0.00,2,     2.14,2,     0.03,2,    0.238,2,    0.138,2,    0.021,2,    0.091,2,   2252.0,2,   2355.5,2,   -999.0,9,  -999.00,9,-999.0000,9,-999.0000,9,-999.0000,9,   1.0735,2
  49NZ20191229,  I07S,   113,  1,     12,   1212,2,  200111,2154,-47.6798,  57.5892, 4539,   3330.6,   0.8031,   0.8037,2,  34.7043,2,  34.7043,2,    210.8,2,    211.0,2,   117.37,2,    32.05,2,     0.00,2,     2.19,2,     0.04,2,    0.290,2,    0.165,2,    0.020,2,    0.105,2,   2258.7,2,   2358.0,6,   -999.0,9,  -999.00,9,-999.0000,9,-999.0000,9,-999.0000,9,   0.8037,2
  49NZ20191229,  I07S,   113,  1,     11,   1211,2,  200111,2154,-47.6798,  57.5892, 4539,   3580.0,   0.6047,   0.6050,2,  34.6936,2,  34.6933,2,    214.2,2,    214.3,2,   125.27,2,    32.43,2,     0.00,2,     2.22,2,     0.04,2,    0.272,2,    0.154,2,    0.017,2,    0.083,2,   2256.3,2,   2358.3,2,   -999.0,9,  -999.00,9,-999.0000,9,-999.0000,9,-999.0000,9,   0.6050,2
  49NZ20191229,  I07S,   113,  1,     10,   1210,2,  200111,2154,-47.6798,  57.5892, 4539,   3830.5,   0.4692,   0.4692,2,  34.6859,2,  34.6856,2,    216.9,2,    217.1,2,   130.06,2,    32.65,2,     0.00,2,     2.24,2,     0.04,2,    0.298,2,    0.170,2,    0.019,2,    0.078,2,   2262.4,2,   2362.0,2,   -999.0,9,  -999.00,9,-999.0000,9,-999.0000,9,-999.0000,9,   0.4692,2
  49NZ20191229,  I07S,   113,  1,      9,   1209,2,  200111,2154,-47.6798,  57.5892, 4539,   4080.2,   0.3713,   0.3715,2,  34.6803,2,  34.6803,2,    219.3,2,    219.4,2,   134.63,2,    32.81,2,     0.00,2,     2.24,2,     0.01,2,    0.312,2,    0.176,2,    0.016,2,    0.049,2,   2262.3,2,   2358.6,2,   -999.0,9,  -999.00,9,-999.0000,9,-999.0000,9,-999.0000,9,   0.3715,2
  49NZ20191229,  I07S,   113,  1,      8,  12103,2,  200111,2154,-47.6798,  57.5892, 4539,   4330.1,   0.2765,   0.2768,2,  34.6747,2,  34.6741,2,    221.8,2,    221.9,2,   139.39,2,    32.85,2,     0.00,2,     2.25,2,     0.02,2,    0.338,2,    0.187,2,    0.021,2,      0.1,2,   -999.0,9,   2360.5,2,   -999.0,9,  -999.00,9,-999.0000,9,-999.0000,9,-999.0000,9,   0.2768,2
  49NZ20191229,  I07S,   113,  1,      7,   1207,2,  200111,2154,-47.6798,  57.5892, 4539,   4580.4,   0.2580,   0.2582,2,  34.6724,2,  34.6720,2,    222.9,2,    222.8,2,   141.55,2,    32.96,2,     0.01,2,     2.26,2,     0.02,2,    0.353,2,    0.191,2,    0.026,2,    0.069,2,   2262.1,2,   2359.3,2,   -999.0,9,  -999.00,9,-999.0000,9,-999.0000,9,-999.0000,9,   0.2582,2
  49NZ20191229,  I07S,   113,  1,      6,   1206,2,  200111,2154,-47.6798,  57.5892, 4539,   2668.9,   1.4515,   1.4519,8,  34.7418,2,  34.7412,2,    205.5,2,    205.7,2,    98.33,2,    30.50,2,     0.00,2,     2.07,2,     0.06,2,    0.165,2,    0.097,2,    0.010,2,    0.042,2,   2246.2,2,   2351.5,2,   -999.0,9,  -999.00,9,-999.0000,9,-999.0000,9,-999.0000,9,   1.4519,8
  49NZ20191229,  I07S,   113,  1,      2,  12046,2,  200111,2154,-47.6798,  57.5892, 4539,     30.1,   6.4016,   6.4018,2,  33.7409,2,  33.7416,2,    308.0,2,    308.0,2,     3.65,2,    19.69,2,     0.13,2,     1.40,2,     0.49,2, -999.000,9, -999.000,9, -999.000,9,     -999,9,   2112.9,2,   2270.4,2,   -999.0,9,     0.43,2,-999.0000,9,-999.0000,9,-999.0000,9,   6.4018,2
  49NZ20191229,  I07S,   113,  1,      1,   1201,2,  200111,2154,-47.6798,  57.5892, 4539,   4610.9,   0.2518,   0.2523,2,  34.6721,2,  34.6719,2,    223.3,2,    223.0,2,   141.77,2,    33.06,2,     0.01,2,     2.26,2,     0.03,2,    0.350,2,    0.194,2,    0.019,2,    0.094,2,   2262.7,2,   2358.9,2,   -999.0,9,  -999.00,9,-999.0000,9,-999.0000,9,-999.0000,9,   0.2523,2