BOTTLE,20210310PRINUNIVRMK
EXPOCODE,SECT_ID,STNNBR,CASTNO,SAMPNO,BTLNBR,BTLNBR_FLAG_W,DATE,TIME,LATITUDE,LONGITUDE,DEPTH,CTDPRS,CTDTMP,SBE35,SBE35_FLAG_W,CTDSAL,CTDSAL_FLAG_W,SALNTY,SALNTY_FLAG_W,CTDOXY,CTDOXY_FLAG_W,OXYGEN,OXYGEN_FLAG_W,SILCAT,SILCAT_FLAG_W,NITRAT,NITRAT_FLAG_W,NITRIT,NITRIT_FLAG_W,PHSPHT,PHSPHT_FLAG_W,NH4,NH4_FLAG_W,CFC-11,CFC-11_FLAG_W,CFC-12,CFC-12_FLAG_W,CFC113,CFC113_FLAG_W,SF6,SF6_FLAG_W,TCARBN,TCARBN_FLAG_W,ALKALI,ALKALI_FLAG_W,DOC,DOC_FLAG_W,CHLORA,CHLORA_FLAG_W,CDOM300,CDOM300_FLAG_W,CDOM325,CDOM325_FLAG_W,CDOM443,CDOM443_FLAG_W,SBE35,SBE35_FLAG_W
,,,,,,,,,,,METERS,DBAR,ITS-90,,,PSS-78,,PSS-78,,UMOL/KG,,UMOL/KG,,UMOL/KG,,UMOL/KG,,UMOL/KG,,UMOL/KG,,UMOL/KG,,PMOL/KG,,PMOL/KG,,PMOL/KG,,FMOL/KG,,UMOL/KG,,UMOL/KG,,UMOL/KG,,UG/L,,1/M,,1/M,,1/M,,,
  49NZ20191229,  I07S,   142,  1,     36,   1236,2,  200119,1447,-61.0850,  54.3977, 5126,     10.8,   0.7084,   0.7083,2,  33.6221,2,  33.6222,2,    344.2,2,    344.7,2,    34.70,2,    25.33,2,     0.31,2,     1.73,2,     0.44,2,    5.954,2,    3.188,2,    0.581,2,    4.444,2,   2165.7,2,   2277.4,2,     36.9,2,     0.14,2,   0.2030,2,   0.1100,2,   0.0160,2,   0.7083,2
  49NZ20191229,  I07S,   142,  1,     35,   1235,2,  200119,1447,-61.0850,  54.3977, 5126,     50.6,   0.1713,   0.1785,2,  33.6710,2,  33.6813,2,    348.9,2,    349.7,2,    34.60,2,    25.56,2,     0.27,2,     1.76,2,     0.46,2,    6.073,2,    3.235,2,    0.586,2,     4.53,2,   2160.4,2,   2283.5,2,     39.5,2,     0.17,2,-999.0000,9,-999.0000,9,-999.0000,9,   0.1785,2
  49NZ20191229,  I07S,   142,  1,     34,   1234,2,  200119,1447,-61.0850,  54.3977, 5126,    100.7,  -1.4308,  -1.4314,2,  33.9826,2,  33.9877,2,    333.9,2,    332.3,2,    44.71,2,    28.33,2,     0.30,2,     1.98,2,     0.31,2,    5.641,2,    3.014,2,    0.540,2,    4.112,2,   2193.7,2,   2302.1,2,     35.5,2,     0.13,2,   0.2350,2,   0.1220,2,   0.0220,2,  -1.4314,2
  49NZ20191229,  I07S,   142,  1,     33,   1233,2,  200119,1447,-61.0850,  54.3977, 5126,    150.3,   1.3178,   1.3172,2,  34.3927,2,  34.3878,2,    209.6,2,    210.1,2,    70.48,2,    34.86,2,     0.02,2,     2.37,2,     0.04,2,    2.482,2,    1.312,2,    0.219,2,    1.525,2,   2244.5,2,   2322.4,2,     38.4,2,     0.05,2,   0.2670,2,   0.1400,2,   0.0200,2,   1.3172,2
  49NZ20191229,  I07S,   142,  1,     32,   1232,2,  200119,1447,-61.0850,  54.3977, 5126,    200.0,   1.8651,   1.8653,2,  34.5151,2,  34.5144,2,    178.1,2,    177.8,2,    77.27,2,    35.50,2,     0.01,2,     2.42,2,     0.04,2,    1.368,2,    0.742,2,    0.117,2,    0.784,2,   2259.6,2,   2331.2,2,     38.2,2,     0.01,2,   0.2720,2,   0.1450,2,   0.0230,2,   1.8653,2
  49NZ20191229,  I07S,   142,  1,     31,   1231,2,  200119,1447,-61.0850,  54.3977, 5126,    248.1,   1.9151,   1.9165,2,  34.5646,2,  34.5631,2,    172.4,2,    172.2,2,    80.57,2,    35.26,2,     0.01,2,     2.40,2,     0.03,2,    1.043,2,    0.582,2,    0.086,2,    0.526,2,   2260.8,2,   2335.6,2,   -999.0,9,     0.01,2,-999.0000,9,-999.0000,9,-999.0000,9,   1.9165,2
  49NZ20191229,  I07S,   142,  1,     30,   1230,2,  200119,1447,-61.0850,  54.3977, 5126,    279.8,   1.9948,   1.9946,2,  34.5966,2,  34.5959,2,    170.0,2,    169.9,2,    81.55,2,    34.90,2,     0.01,2,     2.37,2,     0.02,2,    0.815,2,    0.462,2,    0.069,2,    0.333,2,   2259.6,2,   2338.9,2,     39.7,2,  -999.00,9,   0.2850,2,   0.1560,2,   0.0240,2,   1.9946,2
  49NZ20191229,  I07S,   142,  1,     29,   1229,2,  200119,1447,-61.0850,  54.3977, 5126,    369.4,   2.0289,   2.0287,2,  34.6487,2,  34.6484,2,    171.2,2,    171.2,2,    83.44,2,    34.02,2,     0.01,2,     2.31,2,     0.01,2,    0.547,2,    0.327,2,    0.044,2,    0.262,2,   2261.8,2,   2341.2,2,     35.4,2,  -999.00,9,   0.2790,2,   0.1520,2,   0.0230,2,   2.0287,2
  49NZ20191229,  I07S,   142,  1,     28,   1228,2,  200119,1447,-61.0850,  54.3977, 5126,    470.7,   2.0056,   2.0053,2,  34.6850,2,  34.6843,2,    175.7,2,    175.5,2,    84.72,2,    33.11,2,     0.01,2,     2.25,2,        0,2,    0.413,2,    0.255,2,    0.037,2,    0.195,2,   2257.7,2,   2346.7,2,     41.4,2,  -999.00,9,   0.2810,2,   0.1500,2,   0.0260,2,   2.0053,2
  49NZ20191229,  I07S,   142,  1,     27,   1227,2,  200119,1447,-61.0850,  54.3977, 5126,    569.3,   1.9459,   1.9456,2,  34.7053,2,  34.7048,2,    180.2,2,    180.0,2,    85.92,2,    32.48,2,     0.01,2,     2.20,2,     0.01,2,    0.358,2,    0.222,2,    0.030,2,    0.177,2,   2260.4,2,   2347.6,2,     39.0,2,  -999.00,9,   0.2790,2,   0.1490,2,   0.0210,2,   1.9456,2
  49NZ20191229,  I07S,   142,  1,     26,   1226,2,  200119,1447,-61.0850,  54.3977, 5126,    669.4,   1.8736,   1.8738,2,  34.7232,2,  34.7229,2,    185.8,2,    185.5,2,    86.67,2,    31.73,2,     0.01,2,     2.16,2,     0.02,2,    0.299,2,    0.192,2,    0.027,2,    0.137,2,   2254.3,6,   2348.2,2,   -999.0,9,  -999.00,9,-999.0000,9,-999.0000,9,-999.0000,9,   1.8738,2
  49NZ20191229,  I07S,   142,  1,     25,   1225,2,  200119,1447,-61.0850,  54.3977, 5126,    768.9,   1.8035,   1.8032,2,  34.7333,2,  34.7328,2,    190.2,2,    190.1,2,    87.34,2,    31.24,2,     0.01,2,     2.12,2,     0.03,2,    0.279,2,    0.177,2,    0.026,2,    0.082,2,   2249.3,2,   2350.8,2,     40.1,2,  -999.00,9,   0.2700,2,   0.1470,2,   0.0210,2,   1.8032,2
  49NZ20191229,  I07S,   142,  1,     24,   1224,2,  200119,1447,-61.0850,  54.3977, 5126,    870.8,   1.7144,   1.7141,2,  34.7386,2,  34.7383,2,    193.9,2,    193.7,2,    88.85,2,    31.02,2,     0.00,2,     2.10,2,     0.03,2,    0.265,2,    0.167,2,    0.025,2,     0.11,2,   2247.2,2,   2351.1,2,   -999.0,9,  -999.00,9,-999.0000,9,-999.0000,9,-999.0000,9,   1.7141,2
  49NZ20191229,  I07S,   142,  1,     23,   1223,2,  200119,1447,-61.0850,  54.3977, 5126,    970.0,   1.6261,   1.6259,2,  34.7404,2,  34.7405,2,    196.6,2,    196.6,2,    90.52,2,    30.86,2,     0.00,2,     2.10,2,     0.03,2,    0.259,2,    0.164,2,    0.024,2,    0.098,2,   2249.9,2,   2353.1,2,     38.5,2,  -999.00,9,   0.2590,2,   0.1340,2,   0.0130,2,   1.6259,2
  49NZ20191229,  I07S,   142,  1,     22,   1222,2,  200119,1447,-61.0850,  54.3977, 5126,   1129.2,   1.4766,   1.4768,2,  34.7394,2,  34.7393,2,    200.0,2,    200.4,2,    93.93,2,    30.83,2,     0.00,2,     2.09,2,     0.04,2,    0.257,2,    0.164,2,    0.024,2,    0.095,2,   2246.4,2,   2354.4,6,     35.1,2,  -999.00,9,-999.0000,9,-999.0000,9,-999.0000,9,   1.4768,2
  49NZ20191229,  I07S,   142,  1,     21,   1221,2,  200119,1447,-61.0850,  54.3977, 5126,   1330.7,   1.2591,   1.2595,2,  34.7287,2,  34.7290,2,    201.7,2,    201.5,2,    99.98,2,    31.36,2,     0.00,2,     2.13,2,     0.02,2,    0.288,2,    0.183,2,    0.019,2,    0.087,2,   2251.1,2,   2356.2,2,     40.8,2,  -999.00,9,   0.2800,2,   0.1480,2,   0.0240,2,   1.2595,2
  49NZ20191229,  I07S,   142,  1,     20,   1220,2,  200119,1447,-61.0850,  54.3977, 5126,   1532.1,   1.0310,   1.0310,2,  34.7165,2,  34.7165,2,    203.5,2,    203.6,2,   106.35,2,    31.83,2,     0.00,2,     2.16,2,     0.02,2,    0.329,2,    0.201,2,    0.028,2,     0.11,2,   2257.1,2,   2357.2,2,   -999.0,9,  -999.00,9,-999.0000,9,-999.0000,9,-999.0000,9,   1.0310,2
  49NZ20191229,  I07S,   142,  1,     19,   1219,2,  200119,1447,-61.0850,  54.3977, 5126,   1730.6,   0.8685,   0.8688,2,  34.7086,2,  34.7087,2,    205.3,2,    205.2,2,   111.14,2,    32.12,2,     0.00,2,     2.19,2,     0.01,2,    0.349,2,    0.209,2,    0.028,2,    0.114,2,   2255.1,2,   2357.8,2,     37.1,2,  -999.00,9,   0.2650,2,   0.1390,2,   0.0200,2,   0.8688,2
  49NZ20191229,  I07S,   142,  1,     18,   1218,2,  200119,1447,-61.0850,  54.3977, 5126,   1930.3,   0.7322,   0.7320,2,  34.7008,2,  34.7007,2,    206.4,2,    206.1,2,   115.52,2,    32.46,2,     0.00,2,     2.21,2,     0.01,2,    0.365,2,    0.217,2,    0.025,2,    0.112,2,   2259.6,2,   2359.7,2,   -999.0,9,  -999.00,9,-999.0000,9,-999.0000,9,-999.0000,9,   0.7320,2
  49NZ20191229,  I07S,   142,  1,     17,   1217,2,  200119,1447,-61.0850,  54.3977, 5126,   2130.1,   0.6074,   0.6073,2,  34.6936,2,  34.6937,2,    207.2,2,    207.1,2,   119.27,2,    32.76,2,     0.00,2,     2.23,2,     0.01,2,    0.379,2,    0.223,2,    0.027,2,    0.131,2,   2260.0,2,   2359.4,2,     34.4,2,  -999.00,9,   0.2590,2,   0.1360,2,   0.0200,2,   0.6073,2
  49NZ20191229,  I07S,   142,  1,     16,   1216,2,  200119,1447,-61.0850,  54.3977, 5126,   2330.2,   0.4990,   0.4989,2,  34.6880,2,  34.6880,2,    208.8,2,    208.7,2,   122.85,2,    32.99,2,     0.00,2,     2.26,2,     0.02,2,    0.385,2,    0.224,2,    0.023,2,    0.126,2,   2260.2,6,   2359.2,2,   -999.0,9,  -999.00,9,-999.0000,9,-999.0000,9,-999.0000,9,   0.4989,2
  49NZ20191229,  I07S,   142,  1,     15,  12102,2,  200119,1447,-61.0850,  54.3977, 5126,   2530.3,   0.4097,   0.4097,2,  34.6837,2,  34.6831,2,    211.0,2,    210.7,2,   125.17,2,    33.01,2,     0.00,2,     2.26,2,     0.02,2,    0.390,2,    0.226,2,    0.027,2,    0.076,2,   2262.0,2,   2359.1,2,     35.4,2,  -999.00,9,   0.2570,2,   0.1300,2,   0.0180,2,   0.4097,2
  49NZ20191229,  I07S,   142,  1,     14,   1214,2,  200119,1447,-61.0850,  54.3977, 5126,   2731.2,   0.3332,   0.3331,2,  34.6802,2,  34.6796,2,    214.0,2,    213.6,2,   126.65,2,    32.99,2,     0.00,2,     2.26,2,     0.04,2,    0.395,2,    0.228,2,    0.026,2,    0.104,2,   2262.7,2,   2359.2,2,   -999.0,9,  -999.00,9,-999.0000,9,-999.0000,9,-999.0000,9,   0.3331,2
  49NZ20191229,  I07S,   142,  1,     13,  12105,2,  200119,1447,-61.0850,  54.3977, 5126,   2931.6,   0.2570,   0.2568,2,  34.6761,2,  34.6755,2,    216.4,2,    216.2,2,   128.27,2,    33.07,2,     0.00,2,     2.26,2,     0.03,2,    0.421,2,    0.240,2,    0.027,2,    0.092,2,   2261.8,2,   2359.1,2,     39.5,2,  -999.00,9,   0.2570,2,   0.1330,2,   0.0200,2,   0.2568,2
  49NZ20191229,  I07S,   142,  1,     12,   1211,2,  200119,1447,-61.0850,  54.3977, 5126,   3171.3,   0.1802,   0.1800,2,  34.6726,2,  34.6722,2,    219.8,2,    219.4,2,   129.77,2,    33.11,2,     0.00,2,     2.26,2,     0.04,2,    0.420,2,    0.240,2,    0.029,2,    0.095,2,   2260.9,2,   2358.2,6,   -999.0,9,  -999.00,9,-999.0000,9,-999.0000,9,-999.0000,9,   0.1800,2
  49NZ20191229,  I07S,   142,  1,     11,  12106,2,  200119,1447,-61.0850,  54.3977, 5126,   3420.9,   0.1032,   0.1030,2,  34.6690,2,  34.6688,2,    223.3,2,    223.0,2,   131.22,2,    33.06,2,     0.00,2,     2.26,2,     0.02,2,    0.410,2,    0.234,2,    0.024,2,    0.063,2,   2262.0,2,   2355.9,2,     37.6,2,  -999.00,9,   0.2610,2,   0.1360,2,   0.0240,2,   0.1030,2
  49NZ20191229,  I07S,   142,  1,     10,   1210,2,  200119,1447,-61.0850,  54.3977, 5126,   3671.4,   0.0245,   0.0245,2,  34.6652,2,  34.6652,2,    227.0,2,    226.8,2,   131.60,2,    33.00,2,     0.00,2,     2.26,2,     0.02,2,    0.437,2,    0.248,2,    0.025,2,    0.099,2,   2257.9,2,   2357.6,2,   -999.0,9,  -999.00,9,-999.0000,9,-999.0000,9,-999.0000,9,   0.0245,2
  49NZ20191229,  I07S,   142,  1,      9,  12101,2,  200119,1447,-61.0850,  54.3977, 5126,   3921.3,  -0.0367,  -0.0366,2,  34.6621,2,  34.6623,2,    230.4,2,    230.0,2,   131.61,2,    32.96,2,     0.00,2,     2.26,2,     0.01,2,    0.470,2,    0.270,2,    0.027,2,    0.112,2,   2258.4,2,   2356.3,2,     44.3,2,  -999.00,9,   0.2680,2,   0.1320,2,   0.0150,2,  -0.0366,2
  49NZ20191229,  I07S,   142,  1,      8,  12103,2,  200119,1447,-61.0850,  54.3977, 5126,   4170.8,  -0.0845,  -0.0844,2,  34.6595,2,  34.6596,2,    233.3,2,    232.9,2,   131.45,2,    32.93,2,     0.00,2,     2.25,2,     0.01,2,    0.510,2,    0.288,2,    0.030,2,    0.113,2,   2254.2,6,   2356.0,2,   -999.0,9,  -999.00,9,-999.0000,9,-999.0000,9,-999.0000,9,  -0.0844,2
  49NZ20191229,  I07S,   142,  1,      7,   1207,2,  200119,1447,-61.0850,  54.3977, 5126,   4420.0,  -0.1263,  -0.1265,2,  34.6571,2,  34.6567,2,    235.8,2,    235.6,2,   133.18,2,    32.84,2,     0.00,2,     2.25,2,     0.01,2,    0.523,2,    0.293,2,    0.032,2,    0.129,2,   2253.5,2,   2356.5,2,     43.2,2,  -999.00,9,   0.2560,2,   0.1280,2,   0.0200,2,  -0.1265,2
  49NZ20191229,  I07S,   142,  1,      6,   1206,2,  200119,1447,-61.0850,  54.3977, 5126,   4670.0,  -0.1520,  -0.1520,2,  34.6555,2,  34.6552,2,    237.5,2,    237.2,2,   136.40,2,    32.81,2,     0.00,2,     2.25,2,     0.01,2,    0.519,2,    0.292,2,    0.035,2,    0.124,2,   -999.0,9,   2355.2,6,   -999.0,9,  -999.00,9,-999.0000,9,-999.0000,9,-999.0000,9,  -0.1520,2
  49NZ20191229,  I07S,   142,  1,      5,   1205,2,  200119,1447,-61.0850,  54.3977, 5126,   4922.0,  -0.1723,  -0.1723,2,  34.6538,2,  34.6538,2,    239.0,2,    238.8,2,   139.37,2,    32.82,2,     0.00,2,     2.25,2,     0.01,2,    0.541,2,    0.305,2,    0.030,2,    0.125,2,   2252.3,2,   2355.7,2,     45.7,2,  -999.00,9,   0.2490,2,   0.1270,2,   0.0190,2,  -0.1723,2
  49NZ20191229,  I07S,   142,  1,      2,  12046,2,  200119,1447,-61.0850,  54.3977, 5126,     40.0,   0.5955,   0.5931,2,  33.6197,2,  33.6223,2,    344.7,2,    345.4,2,    34.46,2,    25.31,2,     0.30,2,     1.73,2,     0.43,2, -999.000,9, -999.000,9, -999.000,9,     -999,9,   2156.6,2,   2279.0,2,     49.3,2,     0.15,2,   0.1970,2,   0.0970,2,   0.0170,2,   0.5931,2
  49NZ20191229,  I07S,   142,  1,      1,   1201,2,  200119,1447,-61.0850,  54.3977, 5126,   5221.5,  -0.2034,  -0.2036,2,  34.6509,2,  34.6505,2,    240.6,2,    240.1,2,   146.31,2,    32.85,2,     0.00,2,     2.25,2,     0.02,2,    0.648,2,    0.356,2,    0.039,2,    0.138,2,   2256.8,2,   2356.7,2,     45.6,2,  -999.00,9,   0.2530,2,   0.1290,2,   0.0190,2,  -0.2036,2