BOTTLE,20210310PRINUNIVRMK
EXPOCODE,SECT_ID,STNNBR,CASTNO,SAMPNO,BTLNBR,BTLNBR_FLAG_W,DATE,TIME,LATITUDE,LONGITUDE,DEPTH,CTDPRS,CTDTMP,SBE35,SBE35_FLAG_W,CTDSAL,CTDSAL_FLAG_W,SALNTY,SALNTY_FLAG_W,CTDOXY,CTDOXY_FLAG_W,OXYGEN,OXYGEN_FLAG_W,SILCAT,SILCAT_FLAG_W,NITRAT,NITRAT_FLAG_W,NITRIT,NITRIT_FLAG_W,PHSPHT,PHSPHT_FLAG_W,NH4,NH4_FLAG_W,CFC-11,CFC-11_FLAG_W,CFC-12,CFC-12_FLAG_W,CFC113,CFC113_FLAG_W,SF6,SF6_FLAG_W,TCARBN,TCARBN_FLAG_W,ALKALI,ALKALI_FLAG_W,DOC,DOC_FLAG_W,CHLORA,CHLORA_FLAG_W,CDOM300,CDOM300_FLAG_W,CDOM325,CDOM325_FLAG_W,CDOM443,CDOM443_FLAG_W,SBE35,SBE35_FLAG_W
,,,,,,,,,,,METERS,DBAR,ITS-90,,,PSS-78,,PSS-78,,UMOL/KG,,UMOL/KG,,UMOL/KG,,UMOL/KG,,UMOL/KG,,UMOL/KG,,UMOL/KG,,PMOL/KG,,PMOL/KG,,PMOL/KG,,FMOL/KG,,UMOL/KG,,UMOL/KG,,UMOL/KG,,UG/L,,1/M,,1/M,,1/M,,,
  49NZ20191229,  I07S,    72,  1,     36,   1236,2,  200101,0501,-30.1551,  55.1868, 4704,     10.2,  21.4182,  21.3963,2,  35.6293,2,  35.6294,2,    225.7,2,    226.3,2,     1.41,2,     0.06,2,     0.00,2,     0.09,2,     0.02,2,    2.015,2,    1.230,2,    0.177,2,    1.928,2,   2065.5,2,   2338.3,2,   -999.0,9,     0.08,2,-999.0000,9,-999.0000,9,-999.0000,9,  21.3963,2
  49NZ20191229,  I07S,    72,  1,     35,   1235,2,  200101,0501,-30.1551,  55.1868, 4704,     49.5,  18.5386,  18.5395,2,  35.6103,2,  35.6066,2,    239.1,2,    240.1,2,     1.39,2,     0.02,2,     0.00,2,     0.10,2,     0.03,2,    2.260,2,    1.353,2,    0.195,2,    2.145,2,   2064.8,2,   2337.0,2,   -999.0,9,     0.12,2,-999.0000,9,-999.0000,9,-999.0000,9,  18.5395,2
  49NZ20191229,  I07S,    72,  1,     34,   1234,2,  200101,0501,-30.1551,  55.1868, 4704,    101.2,  16.2299,  16.2286,2,  35.5222,2,  35.5222,2,    234.2,2,    234.6,2,     1.78,2,     0.95,2,     0.18,2,     0.23,2,     0.03,2,    2.464,2,    1.463,2,    0.185,2,    2.229,2,   2088.6,2,   2333.3,2,   -999.0,9,     0.38,2,-999.0000,9,-999.0000,9,-999.0000,9,  16.2286,2
  49NZ20191229,  I07S,    72,  1,     33,   1233,2,  200101,0501,-30.1551,  55.1868, 4704,    149.9,  15.2591,  15.2593,2,  35.4630,2,  35.4633,2,    228.0,2,    228.3,2,     2.60,2,     3.96,2,     0.02,2,     0.39,2,     0.03,2,    2.561,2,    1.515,2,    0.148,2,    2.316,2,   2099.6,2,   2330.8,2,   -999.0,9,     0.06,2,-999.0000,9,-999.0000,9,-999.0000,9,  15.2593,2
  49NZ20191229,  I07S,    72,  1,     32,   1232,2,  200101,0501,-30.1551,  55.1868, 4704,    200.2,  14.6091,  14.6090,2,  35.4092,2,  35.4097,2,    222.2,2,    222.6,2,     2.80,2,     5.35,2,     0.01,2,     0.49,2,     0.03,2,    2.648,2,    1.562,2,    0.081,2,    2.064,2,   2109.3,2,   2327.8,2,   -999.0,9,     0.01,2,-999.0000,9,-999.0000,9,-999.0000,9,  14.6090,2
  49NZ20191229,  I07S,    72,  1,     31,   1231,2,  200101,0501,-30.1551,  55.1868, 4704,    250.3,  14.1839,  14.1847,2,  35.3776,2,  35.3777,2,    229.4,2,    229.6,2,     3.10,2,     5.89,2,     0.01,2,     0.52,2,     0.03,2,    2.695,2,    1.592,2,    0.110,2,     2.22,2,   2110.3,2,   2324.8,2,   -999.0,9,     0.01,2,-999.0000,9,-999.0000,9,-999.0000,9,  14.1847,2
  49NZ20191229,  I07S,    72,  1,     30,   1230,2,  200101,0501,-30.1551,  55.1868, 4704,    331.2,  13.4912,  13.4916,2,  35.2917,2,  35.2896,2,    227.2,2,    227.3,2,     3.51,2,     7.67,2,     0.01,2,     0.63,2,        0,2,    2.805,2,    1.656,2,    0.080,2,      2.2,2,   2117.0,2,   2320.8,2,   -999.0,9,  -999.00,9,-999.0000,9,-999.0000,9,-999.0000,9,  13.4916,2
  49NZ20191229,  I07S,    72,  1,     29,   1229,2,  200101,0501,-30.1551,  55.1868, 4704,    429.3,  12.8274,  12.8276,2,  35.1976,2,  35.1993,2,    230.4,2,    230.6,2,     3.60,2,     8.82,2,     0.00,2,     0.70,2,        0,2,    2.939,2,    1.715,2,    0.088,2,    2.134,2,   2119.9,2,   2317.0,2,   -999.0,9,  -999.00,9,-999.0000,9,-999.0000,9,-999.0000,9,  12.8276,2
  49NZ20191229,  I07S,    72,  1,     28,   1228,3,  200101,0501,-30.1551,  55.1868, 4704,    530.5,  12.0073,  12.0075,2,  35.0700,2,  35.0700,2,    228.4,2,    228.6,2,     4.01,2,    11.04,2,     0.01,2,     0.83,2,     0.02,2,    3.073,2,    1.776,2,    0.091,2,    2.019,2,   2124.9,2,   2310.3,2,   -999.0,9,  -999.00,9,-999.0000,9,-999.0000,9,-999.0000,9,  12.0075,2
  49NZ20191229,  I07S,    72,  1,     27,   1227,2,  200101,0501,-30.1551,  55.1868, 4704,    630.5,  11.0480,  11.0478,2,  34.9265,2,  34.9260,2,    225.7,2,    225.8,2,     4.77,2,    13.34,2,     0.01,2,     0.98,2,     0.06,2,    3.216,2,    1.847,2,    0.096,2,    1.737,2,   2133.6,2,   2305.4,2,   -999.0,9,  -999.00,9,-999.0000,9,-999.0000,9,-999.0000,9,  11.0478,2
  49NZ20191229,  I07S,    72,  1,     26,   1226,2,  200101,0501,-30.1551,  55.1868, 4704,    730.4,   9.9790,   9.9812,2,  34.7812,2,  34.7821,2,    220.4,2,    220.7,2,     6.57,2,    16.68,2,     0.00,2,     1.16,2,     0.03,2,    3.313,2,    1.822,2,    0.100,2,     1.52,2,   2139.6,6,   2300.5,2,   -999.0,9,  -999.00,9,-999.0000,9,-999.0000,9,-999.0000,9,   9.9812,2
  49NZ20191229,  I07S,    72,  1,     25,   1225,2,  200101,0501,-30.1551,  55.1868, 4704,    830.5,   8.4786,   8.4799,2,  34.6173,2,  34.6169,2,    210.4,2,    210.6,2,    11.47,2,    21.24,2,     0.00,2,     1.45,2,     0.03,2,    3.169,2,    1.678,2,    0.111,2,    1.226,2,   2159.8,2,   2293.3,2,   -999.0,9,  -999.00,9,-999.0000,9,-999.0000,9,-999.0000,9,   8.4799,2
  49NZ20191229,  I07S,    72,  1,     24,   1224,2,  200101,0501,-30.1551,  55.1868, 4704,    929.5,   7.4269,   7.4283,2,  34.5248,2,  34.5247,2,    205.4,2,    205.6,2,    15.91,2,    24.25,2,     0.00,2,     1.64,2,     0.03,2,    2.947,2,    1.544,2,    0.108,2,    1.001,2,   2174.5,2,   2292.6,2,   -999.0,9,  -999.00,9,-999.0000,9,-999.0000,9,-999.0000,9,   7.4283,2
  49NZ20191229,  I07S,    72,  1,     23,   1223,2,  200101,0501,-30.1551,  55.1868, 4704,   1068.7,   5.5527,   5.5542,2,  34.4120,2,  34.4119,2,    199.2,2,    199.1,2,    27.75,2,    28.95,2,     0.00,2,     1.96,2,     0.09,2,    2.358,2,    1.201,2,    0.108,2,    0.725,2,   2193.7,2,   2295.9,2,   -999.0,9,  -999.00,9,-999.0000,9,-999.0000,9,-999.0000,9,   5.5542,2
  49NZ20191229,  I07S,    72,  1,     22,   1222,2,  200101,0501,-30.1551,  55.1868, 4704,   1269.8,   4.0405,   4.0405,2,  34.4352,2,  34.4348,2,    181.2,2,    181.1,2,    48.99,2,    32.82,2,     0.00,2,     2.24,2,     0.05,2,    1.218,2,    0.630,2,    0.060,2,    0.289,2,   2222.9,2,   2317.0,6,   -999.0,9,  -999.00,9,-999.0000,9,-999.0000,9,-999.0000,9,   4.0405,2
  49NZ20191229,  I07S,    72,  1,     21,   1221,2,  200101,0501,-30.1551,  55.1868, 4704,   1468.9,   3.2720,   3.2726,2,  34.5267,2,  34.5257,2,    170.6,2,    170.5,2,    65.35,2,    34.05,2,     0.00,2,     2.32,2,     0.05,2,    0.542,2,    0.295,2,    0.026,2,    0.099,2,   2243.8,2,   2333.6,2,   -999.0,9,  -999.00,9,-999.0000,9,-999.0000,9,-999.0000,9,   3.2726,2
  49NZ20191229,  I07S,    72,  1,     20,   1220,2,  200101,0501,-30.1551,  55.1868, 4704,   1669.4,   2.8734,   2.8731,2,  34.6069,2,  34.6070,2,    169.6,2,    169.6,2,    76.07,2,    33.66,2,     0.00,2,     2.31,2,     0.03,2,    0.244,2,    0.138,2,    0.013,2,    0.018,2,   2255.4,2,   2344.2,2,   -999.0,9,  -999.00,9,-999.0000,9,-999.0000,9,-999.0000,9,   2.8731,2
  49NZ20191229,  I07S,    72,  1,     19,   1219,2,  200101,0501,-30.1551,  55.1868, 4704,   1869.3,   2.6185,   2.6192,2,  34.6630,2,  34.6635,2,    173.5,2,    173.4,2,    82.37,2,    33.12,2,     0.00,2,     2.26,2,     0.02,2,    0.131,2,    0.076,2,    0.013,2,    0.107,2,   2259.2,2,   2355.5,2,   -999.0,9,  -999.00,9,-999.0000,9,-999.0000,9,-999.0000,9,   2.6192,2
  49NZ20191229,  I07S,    72,  1,     18,   1218,2,  200101,0501,-30.1551,  55.1868, 4704,   2069.7,   2.4107,   2.4107,2,  34.7001,2,  34.7001,2,    175.1,2,    174.9,2,    90.20,2,    33.07,2,     0.00,2,     2.25,2,     0.04,2,    0.067,2,    0.038,2,    0.002,2,     0.02,2,   2267.1,2,   2362.9,2,   -999.0,9,  -999.00,9,-999.0000,9,-999.0000,9,-999.0000,9,   2.4107,2
  49NZ20191229,  I07S,    72,  1,     17,   1217,2,  200101,0501,-30.1551,  55.1868, 4704,   2269.0,   2.2806,   2.2804,2,  34.7249,2,  34.7251,2,    177.5,2,    177.4,2,    94.40,2,    32.60,2,     0.01,2,     2.22,2,     0.06,2,    0.047,2,    0.026,2,    0.002,2,        0,2,   2266.9,2,   2368.1,2,   -999.0,9,  -999.00,9,-999.0000,9,-999.0000,9,-999.0000,9,   2.2804,2
  49NZ20191229,  I07S,    72,  1,     16,   1216,2,  200101,0501,-30.1551,  55.1868, 4704,   2472.3,   2.2016,   2.2015,2,  34.7406,2,  34.7405,2,    180.3,2,    180.2,2,    96.20,2,    32.14,2,     0.00,2,     2.20,2,     0.04,2,    0.037,2,    0.021,2,    0.000,2,    0.007,2,   2266.6,6,   2369.4,2,   -999.0,9,  -999.00,9,-999.0000,9,-999.0000,9,-999.0000,9,   2.2015,2
  49NZ20191229,  I07S,    72,  1,     15,   1215,2,  200101,0501,-30.1551,  55.1868, 4704,   2670.5,   2.0856,   2.0859,2,  34.7482,2,  34.7480,2,    182.7,2,    182.7,2,    98.96,2,    32.00,2,     0.00,2,     2.18,2,     0.03,2,    0.036,2,    0.020,2,    0.001,2,    0.007,2,   2267.5,2,   2372.3,2,   -999.0,9,  -999.00,9,-999.0000,9,-999.0000,9,-999.0000,9,   2.0859,2
  49NZ20191229,  I07S,    72,  1,     14,   1214,2,  200101,0501,-30.1551,  55.1868, 4704,   2871.6,   1.9278,   1.9277,2,  34.7438,2,  34.7433,2,    179.5,2,    179.6,2,   108.18,2,    32.62,2,     0.00,2,     2.23,2,     0.05,2,    0.029,2,    0.014,2,    0.000,2,    0.004,2,   2279.9,2,   2379.4,2,   -999.0,9,  -999.00,9,-999.0000,9,-999.0000,9,-999.0000,9,   1.9277,2
  49NZ20191229,  I07S,    72,  1,     13,   1213,2,  200101,0501,-30.1551,  55.1868, 4704,   3082.5,   1.7504,   1.7501,2,  34.7391,2,  34.7382,2,    185.7,2,    185.7,2,   109.30,2,    32.53,2,     0.00,2,     2.22,2,     0.03,2,    0.043,2,    0.022,2,    0.001,2,    0.036,2,   2278.7,2,   2376.1,2,   -999.0,9,  -999.00,9,-999.0000,9,-999.0000,9,-999.0000,9,   1.7501,2
  49NZ20191229,  I07S,    72,  1,     12,   1212,2,  200101,0501,-30.1551,  55.1868, 4704,   3331.3,   1.5362,   1.5361,2,  34.7298,2,  34.7290,2,    190.9,2,    190.9,2,   113.28,2,    32.67,2,     0.00,2,     2.22,2,     0.01,2,    0.067,2,    0.036,2,    0.002,2,    0.003,2,   2273.7,2,   2376.6,6,   -999.0,9,  -999.00,9,-999.0000,9,-999.0000,9,-999.0000,9,   1.5361,2
  49NZ20191229,  I07S,    72,  1,     11,   1211,2,  200101,0501,-30.1551,  55.1868, 4704,   3580.8,   1.3555,   1.3557,2,  34.7235,2,  34.7226,2,    198.9,2,    198.8,2,   113.36,2,    32.31,2,     0.00,2,     2.20,2,     0.05,2,    0.107,2,    0.061,2,    0.005,2,    0.032,2,   2268.1,2,   2369.2,2,   -999.0,9,  -999.00,9,-999.0000,9,-999.0000,9,-999.0000,9,   1.3557,2
  49NZ20191229,  I07S,    72,  1,     10,   1210,2,  200101,0501,-30.1551,  55.1868, 4704,   3831.9,   1.2077,   1.2078,2,  34.7179,2,  34.7172,2,    203.8,2,    203.8,2,   115.01,2,    32.17,2,     0.00,2,     2.19,2,     0.02,2,    0.146,2,    0.083,2,    0.007,2,    0.013,2,   2266.1,2,   2366.1,2,   -999.0,9,  -999.00,9,-999.0000,9,-999.0000,9,-999.0000,9,   1.2078,2
  49NZ20191229,  I07S,    72,  1,      9,   1209,2,  200101,0501,-30.1551,  55.1868, 4704,   4081.2,   1.1064,   1.1065,2,  34.7131,2,  34.7123,2,    206.6,2,    206.9,2,   117.05,2,    32.37,2,     0.00,2,     2.19,2,     0.02,2,    0.162,2,    0.094,2,    0.011,2,    0.065,2,   2262.4,2,   2363.1,2,   -999.0,9,  -999.00,9,-999.0000,9,-999.0000,9,-999.0000,9,   1.1065,2
  49NZ20191229,  I07S,    72,  1,      8,  12103,2,  200101,0501,-30.1551,  55.1868, 4704,   4332.9,   1.0720,   1.0721,2,  34.7108,2,  34.7102,2,    208.0,2,    208.2,2,   117.92,2,    32.33,2,     0.00,2,     2.19,2,     0.04,2,    0.171,2,    0.098,2,    0.014,2,     0.07,2,   2264.6,6,   2362.6,2,   -999.0,9,  -999.00,9,-999.0000,9,-999.0000,9,-999.0000,9,   1.0721,2
  49NZ20191229,  I07S,    72,  1,      7,   1207,2,  200101,0501,-30.1551,  55.1868, 4704,   4502.1,   1.0529,   1.0530,2,  34.7092,2,  34.7086,2,    208.6,2,    208.7,2,   118.84,2,    32.53,2,     0.00,2,     2.19,2,     0.06,2,    0.179,2,    0.102,2,    0.011,2,    0.035,2,   2265.2,2,   2362.4,2,   -999.0,9,  -999.00,9,-999.0000,9,-999.0000,9,-999.0000,9,   1.0530,2
  49NZ20191229,  I07S,    72,  1,      5,   1205,5,  200101,0501,-30.1551,  55.1868, 4704,     44.7,  18.7311,  18.7310,2,  35.6237,2,-999.0000,9,    237.3,2,   -999.0,9,  -999.00,9,  -999.00,9,  -999.00,9,  -999.00,9,     -999,9, -999.000,9, -999.000,9, -999.000,9,     -999,9,   -999.0,9,   -999.0,9,   -999.0,9,  -999.00,9,-999.0000,9,-999.0000,9,-999.0000,9,  18.7310,2
  49NZ20191229,  I07S,    72,  1,      4,   1204,5,  200101,0501,-30.1551,  55.1868, 4704,      5.0,  22.0459,  22.0514,2,  35.6308,2,-999.0000,9,    221.7,2,   -999.0,9,  -999.00,9,  -999.00,9,  -999.00,9,  -999.00,9,     -999,9, -999.000,9, -999.000,9, -999.000,9,     -999,9,   -999.0,9,   -999.0,9,   -999.0,9,  -999.00,9,-999.0000,9,-999.0000,9,-999.0000,9,  22.0514,2
  49NZ20191229,  I07S,    72,  1,      3,   1203,2,  200101,0501,-30.1551,  55.1868, 4704,     92.4,  16.4558,  16.4550,8,  35.5260,2,-999.0000,9,    232.3,2,    232.4,2,  -999.00,9,  -999.00,9,  -999.00,9,  -999.00,9,     -999,9, -999.000,9, -999.000,9, -999.000,9,     -999,9,   -999.0,9,   -999.0,9,   -999.0,9,  -999.00,9,-999.0000,9,-999.0000,9,-999.0000,9,  16.4550,8
  49NZ20191229,  I07S,    72,  1,      2,  12046,2,  200101,0501,-30.1551,  55.1868, 4704,     92.9,  16.4404,  16.4416,2,  35.5253,2,  35.5240,2,    232.5,2,    232.9,2,     1.84,2,     1.18,2,     0.22,2,     0.24,2,     0.02,2, -999.000,9, -999.000,9, -999.000,9,     -999,9,   2086.8,2,   2330.2,2,   -999.0,9,     0.50,2,-999.0000,9,-999.0000,9,-999.0000,9,  16.4416,2
  49NZ20191229,  I07S,    72,  1,      1,   1201,2,  200101,0501,-30.1551,  55.1868, 4704,   4764.0,   1.0199,   1.0199,8,  34.7065,2,  34.7061,2,    209.8,2,    209.9,2,   120.08,2,    32.41,2,     0.00,2,     2.20,2,     0.03,2,    0.192,2,    0.117,2,    0.012,2,    0.266,2,   2263.3,2,   2362.6,2,   -999.0,9,  -999.00,9,-999.0000,9,-999.0000,9,-999.0000,9,   1.0199,8