BOTTLE,20210310PRINUNIVRMK
EXPOCODE,SECT_ID,STNNBR,CASTNO,SAMPNO,BTLNBR,BTLNBR_FLAG_W,DATE,TIME,LATITUDE,LONGITUDE,DEPTH,CTDPRS,CTDTMP,SBE35,SBE35_FLAG_W,CTDSAL,CTDSAL_FLAG_W,SALNTY,SALNTY_FLAG_W,CTDOXY,CTDOXY_FLAG_W,OXYGEN,OXYGEN_FLAG_W,SILCAT,SILCAT_FLAG_W,NITRAT,NITRAT_FLAG_W,NITRIT,NITRIT_FLAG_W,PHSPHT,PHSPHT_FLAG_W,NH4,NH4_FLAG_W,CFC-11,CFC-11_FLAG_W,CFC-12,CFC-12_FLAG_W,CFC113,CFC113_FLAG_W,SF6,SF6_FLAG_W,TCARBN,TCARBN_FLAG_W,ALKALI,ALKALI_FLAG_W,DOC,DOC_FLAG_W,CHLORA,CHLORA_FLAG_W,CDOM300,CDOM300_FLAG_W,CDOM325,CDOM325_FLAG_W,CDOM443,CDOM443_FLAG_W,SBE35,SBE35_FLAG_W
,,,,,,,,,,,METERS,DBAR,ITS-90,,,PSS-78,,PSS-78,,UMOL/KG,,UMOL/KG,,UMOL/KG,,UMOL/KG,,UMOL/KG,,UMOL/KG,,UMOL/KG,,PMOL/KG,,PMOL/KG,,PMOL/KG,,FMOL/KG,,UMOL/KG,,UMOL/KG,,UMOL/KG,,UG/L,,1/M,,1/M,,1/M,,,
  49NZ20191229,  I07S,   150,  1,     36,   1236,2,  200121,1331,-64.7832,  52.9879, 3437,     10.4,  -0.1645,  -0.1649,2,  33.7311,2,  33.7305,2,    344.6,2,    346.0,2,    46.75,2,    26.23,2,     0.25,2,     1.83,2,     0.64,2,    5.947,2,    3.136,2,    0.569,2,    4.388,2,   2170.0,2,   2285.7,2,   -999.0,9,     0.08,2,-999.0000,9,-999.0000,9,-999.0000,9,  -0.1649,2
  49NZ20191229,  I07S,   150,  1,     35,   1235,2,  200121,1331,-64.7832,  52.9879, 3437,     50.3,  -0.9480,  -0.9475,2,  33.8918,2,  33.9746,2,    329.4,2,    322.1,2,    54.69,2,    28.10,2,     0.17,2,     1.95,2,     0.41,2,    5.140,2,    2.690,2,    0.480,2,    3.752,2,   2194.9,2,   2300.2,2,   -999.0,9,     0.23,2,-999.0000,9,-999.0000,9,-999.0000,9,  -0.9475,2
  49NZ20191229,  I07S,   150,  1,     34,   1234,2,  200121,1331,-64.7832,  52.9879, 3437,    100.3,  -1.1045,  -1.0960,2,  34.3637,2,  34.3760,2,    280.9,2,    275.4,2,    70.31,2,    31.60,2,     0.04,2,     2.15,2,     0.05,2,    3.806,2,    1.996,2,    0.350,2,    2.696,2,   2233.3,2,   2324.8,2,   -999.0,9,     0.14,2,-999.0000,9,-999.0000,9,-999.0000,9,  -1.0960,2
  49NZ20191229,  I07S,   150,  1,     33,   1233,2,  200121,1331,-64.7832,  52.9879, 3437,    150.9,   1.4756,   1.4673,2,  34.6232,2,  34.6252,2,    184.3,2,    183.0,2,    88.26,2,    33.85,2,     0.02,2,     2.31,2,     0.03,2,    0.984,2,    0.540,2,    0.092,2,    0.569,2,   2262.5,2,   2339.9,2,   -999.0,9,     0.04,2,-999.0000,9,-999.0000,9,-999.0000,9,   1.4673,2
  49NZ20191229,  I07S,   150,  1,     32,   1232,2,  200121,1331,-64.7832,  52.9879, 3437,    201.0,   1.5297,   1.5296,2,  34.6596,2,  34.6598,2,    182.9,2,    182.7,2,    90.37,2,    33.29,2,     0.01,2,     2.27,2,     0.02,2,    0.752,2,    0.420,2,    0.069,2,    0.414,2,   2263.0,2,   2345.2,2,   -999.0,9,     0.03,2,-999.0000,9,-999.0000,9,-999.0000,9,   1.5296,2
  49NZ20191229,  I07S,   150,  1,     31,   1231,2,  200121,1331,-64.7832,  52.9879, 3437,    250.3,   1.5537,   1.5542,2,  34.6832,2,  34.6856,2,    184.0,2,    183.9,2,    91.86,2,    32.84,2,     0.01,2,     2.24,2,     0.02,2,    0.595,2,    0.338,2,    0.056,2,    0.298,2,   2261.8,2,   2347.9,2,   -999.0,9,     0.01,2,-999.0000,9,-999.0000,9,-999.0000,9,   1.5542,2
  49NZ20191229,  I07S,   150,  1,     30,   1230,2,  200121,1331,-64.7832,  52.9879, 3437,    330.3,   1.5418,   1.5418,2,  34.7047,2,  34.7042,2,    186.6,2,    186.9,2,    93.48,2,    32.44,2,     0.00,2,     2.21,2,     0.01,2,    0.481,2,    0.279,2,    0.040,2,    0.232,2,   2259.9,2,   2350.2,2,   -999.0,9,  -999.00,9,-999.0000,9,-999.0000,9,-999.0000,9,   1.5418,2
  49NZ20191229,  I07S,   150,  1,     29,   1229,2,  200121,1331,-64.7832,  52.9879, 3437,    431.3,   1.4111,   1.4113,2,  34.7117,2,  34.7107,2,    193.0,2,    193.1,2,    94.37,2,    31.80,2,     0.00,2,     2.17,2,     0.01,2,    0.500,2,    0.289,2,    0.046,2,    0.259,2,   2257.5,2,   2351.2,2,   -999.0,9,  -999.00,9,-999.0000,9,-999.0000,9,-999.0000,9,   1.4113,2
  49NZ20191229,  I07S,   150,  1,     28,   1228,2,  200121,1331,-64.7832,  52.9879, 3437,    530.7,   1.1541,   1.1536,2,  34.7021,2,  34.7019,2,    201.8,2,    201.6,2,    95.18,2,    31.61,2,     0.00,2,     2.15,2,     0.04,2,    0.680,2,    0.385,2,    0.059,2,    0.345,2,   2258.5,2,   2352.6,2,   -999.0,9,  -999.00,9,-999.0000,9,-999.0000,9,-999.0000,9,   1.1536,2
  49NZ20191229,  I07S,   150,  1,     27,   1227,2,  200121,1331,-64.7832,  52.9879, 3437,    630.1,   0.6547,   0.6546,2,  34.6636,2,  34.6646,2,    217.6,2,    217.2,2,    93.46,2,    31.61,2,     0.00,2,     2.15,2,     0.02,2,    1.266,2,    0.687,2,    0.113,2,    0.794,2,   2254.8,2,   2347.9,2,   -999.0,9,  -999.00,9,-999.0000,9,-999.0000,9,-999.0000,9,   0.6546,2
  49NZ20191229,  I07S,   150,  1,     26,   1226,2,  200121,1331,-64.7832,  52.9879, 3437,    730.7,   0.8458,   0.8455,2,  34.6911,2,  34.6909,2,    209.4,2,    209.4,2,    99.42,2,    31.70,2,     0.00,2,     2.16,2,     0.01,2,    0.815,2,    0.458,2,    0.072,2,    0.511,2,   2256.8,6,   2351.4,2,   -999.0,9,  -999.00,9,-999.0000,9,-999.0000,9,-999.0000,9,   0.8455,2
  49NZ20191229,  I07S,   150,  1,     25,   1225,2,  200121,1331,-64.7832,  52.9879, 3437,    831.2,   0.9131,   0.9150,2,  34.7056,2,  34.7059,2,    204.5,2,    204.7,2,   104.51,2,    31.87,2,     0.00,2,     2.17,2,     0.02,2,    0.524,2,    0.297,2,    0.043,2,    0.235,2,   2261.1,2,   2355.7,2,   -999.0,9,  -999.00,9,-999.0000,9,-999.0000,9,-999.0000,9,   0.9150,2
  49NZ20191229,  I07S,   150,  1,     24,   1224,2,  200121,1331,-64.7832,  52.9879, 3437,    930.4,   0.8756,   0.8762,2,  34.7074,2,-999.0000,9,    203.8,2,    203.7,2,   108.40,2,    31.98,2,     0.00,2,     2.18,2,     0.03,2,    0.428,2,    0.243,2,    0.033,2,    0.137,2,   2259.7,2,   2356.9,2,   -999.0,9,  -999.00,9,-999.0000,9,-999.0000,9,-999.0000,9,   0.8762,2
  49NZ20191229,  I07S,   150,  1,     23,   1223,2,  200121,1331,-64.7832,  52.9879, 3437,   1070.6,   0.6955,   0.6950,2,  34.6956,2,  34.6960,2,    207.3,2,    207.4,2,   110.52,2,    32.16,2,     0.00,2,     2.20,2,     0.03,2,    0.555,2,    0.311,2,    0.045,2,    0.239,2,   2258.3,2,   2355.1,2,   -999.0,9,  -999.00,9,-999.0000,9,-999.0000,9,-999.0000,9,   0.6950,2
  49NZ20191229,  I07S,   150,  1,     22,   1222,2,  200121,1331,-64.7832,  52.9879, 3437,   1270.0,   0.5778,   0.5783,2,  34.6920,2,  34.6925,2,    207.4,2,    207.7,2,   116.09,2,    32.51,2,     0.00,2,     2.22,2,     0.03,2,    0.487,2,    0.272,2,    0.038,2,    0.191,2,   2262.3,2,   2355.6,2,   -999.0,9,  -999.00,9,-999.0000,9,-999.0000,9,-999.0000,9,   0.5783,2
  49NZ20191229,  I07S,   150,  1,     21,   1221,2,  200121,1331,-64.7832,  52.9879, 3437,   1469.8,   0.4435,   0.4436,2,  34.6849,2,  34.6853,2,    210.2,2,    210.4,2,   119.14,2,    32.76,2,     0.00,2,     2.24,2,     0.03,2,    0.530,2,    0.293,2,    0.040,2,    0.234,2,   2261.1,2,   2356.9,2,   -999.0,9,  -999.00,9,-999.0000,9,-999.0000,9,-999.0000,9,   0.4436,2
  49NZ20191229,  I07S,   150,  1,     20,   1220,2,  200121,1331,-64.7832,  52.9879, 3437,   1670.0,   0.2155,   0.2156,2,  34.6650,2,  34.6655,2,    221.2,2,    221.2,2,   114.14,2,    32.43,2,     0.00,2,     2.22,2,     0.02,2,    0.953,2,    0.523,2,    0.076,2,    0.497,2,   2255.9,2,   2353.5,2,   -999.0,9,  -999.00,9,-999.0000,9,-999.0000,9,-999.0000,9,   0.2156,2
  49NZ20191229,  I07S,   150,  1,     19,   1219,2,  200121,1331,-64.7832,  52.9879, 3437,   1869.7,   0.1458,   0.1460,2,  34.6662,2,  34.6673,2,    221.8,2,    222.1,2,   118.73,2,    32.57,2,     0.00,2,     2.23,2,     0.04,2,    0.858,2,    0.471,2,    0.069,2,    0.444,2,   2262.0,2,   2354.9,2,   -999.0,9,  -999.00,9,-999.0000,9,-999.0000,9,-999.0000,9,   0.1460,2
  49NZ20191229,  I07S,   150,  1,     18,   1218,2,  200121,1331,-64.7832,  52.9879, 3437,   2070.3,   0.0692,   0.0692,2,  34.6651,2,  34.6650,2,    224.0,2,    224.3,2,   121.55,2,    32.58,2,     0.00,2,     2.23,2,     0.04,2,    0.845,2,    0.462,2,    0.063,2,    0.448,2,   2260.1,2,   2355.6,2,   -999.0,9,  -999.00,9,-999.0000,9,-999.0000,9,-999.0000,9,   0.0692,2
  49NZ20191229,  I07S,   150,  1,     17,   1217,2,  200121,1331,-64.7832,  52.9879, 3437,   2270.9,   0.0217,   0.0216,2,  34.6637,2,  34.6637,2,    225.8,2,    226.2,2,   122.93,2,    32.62,2,     0.00,2,     2.24,2,     0.03,2,    0.865,2,    0.471,2,    0.068,2,    0.392,2,   2259.5,2,   2355.4,2,   -999.0,9,  -999.00,9,-999.0000,9,-999.0000,9,-999.0000,9,   0.0216,2
  49NZ20191229,  I07S,   150,  1,     16,   1216,2,  200121,1331,-64.7832,  52.9879, 3437,   2470.7,  -0.0260,  -0.0259,2,  34.6649,2,  34.6653,2,    225.8,2,    226.2,2,   128.15,2,    32.81,2,     0.00,2,     2.25,2,     0.01,2,    0.627,2,    0.342,2,    0.044,2,     0.25,2,   2259.2,6,   2356.4,2,   -999.0,9,  -999.00,9,-999.0000,9,-999.0000,9,-999.0000,9,  -0.0259,2
  49NZ20191229,  I07S,   150,  1,     15,  12102,2,  200121,1331,-64.7832,  52.9879, 3437,   2671.6,  -0.1048,  -0.1047,2,  34.6597,2,  34.6595,2,    230.2,2,    230.7,2,   126.53,2,    32.66,2,     0.00,2,     2.24,2,     0.02,2,    0.817,2,    0.440,2,    0.061,2,    0.381,2,   2258.0,2,   2356.3,2,   -999.0,9,  -999.00,9,-999.0000,9,-999.0000,9,-999.0000,9,  -0.1047,2
  49NZ20191229,  I07S,   150,  1,     14,   1214,2,  200121,1331,-64.7832,  52.9879, 3437,   2869.7,  -0.2137,  -0.2138,2,  34.6506,2,  34.6506,2,    238.4,2,    238.9,2,   119.54,2,    32.41,2,     0.00,2,     2.22,2,     0.02,2,    1.377,2,    0.734,2,    0.116,2,    0.757,2,   2258.0,2,   2353.2,2,   -999.0,9,  -999.00,9,-999.0000,9,-999.0000,9,-999.0000,9,  -0.2138,2
  49NZ20191229,  I07S,   150,  1,     13,  12105,2,  200121,1331,-64.7832,  52.9879, 3437,   3080.3,  -0.2666,  -0.2666,2,  34.6472,2,  34.6478,2,    241.8,2,    242.0,2,   118.77,2,    32.39,2,     0.00,2,     2.21,2,     0.03,2,    1.506,2,    0.794,2,    0.123,2,    0.977,2,   2255.0,2,   2351.7,2,   -999.0,9,  -999.00,9,-999.0000,9,-999.0000,9,-999.0000,9,  -0.2666,2
  49NZ20191229,  I07S,   150,  1,     12,   1211,2,  200121,1331,-64.7832,  52.9879, 3437,   3330.0,  -0.3350,  -0.3350,2,  34.6426,2,  34.6428,2,    247.6,2,    247.8,2,   113.85,2,    32.30,2,     0.00,2,     2.21,2,     0.02,2,    1.867,2,    0.985,2,    0.156,2,    1.024,2,   2257.8,2,   2351.1,2,   -999.0,9,  -999.00,9,-999.0000,9,-999.0000,9,-999.0000,9,  -0.3350,2
  49NZ20191229,  I07S,   150,  1,      2,  12046,2,  200121,1331,-64.7832,  52.9879, 3437,     80.2,  -1.2234,  -1.2210,2,  34.2822,2,  34.3018,2,    286.8,2,    284.2,2,    66.96,2,    31.03,2,     0.07,2,     2.12,2,      0.1,2, -999.000,9, -999.000,9, -999.000,9,     -999,9,   2226.0,2,   2321.1,2,   -999.0,9,     0.29,2,-999.0000,9,-999.0000,9,-999.0000,9,  -1.2210,2
  49NZ20191229,  I07S,   150,  1,      1,   1201,2,  200121,1331,-64.7832,  52.9879, 3437,   3479.7,  -0.3438,  -0.3440,2,  34.6412,2,  34.6413,2,    249.3,2,    249.9,2,   112.64,2,    32.18,2,     0.00,2,     2.20,2,     0.02,2,    1.933,2,    1.017,2,    0.161,2,    1.135,2,   2263.1,2,   2349.0,2,   -999.0,9,  -999.00,9,-999.0000,9,-999.0000,9,-999.0000,9,  -0.3440,2