BOTTLE,20210310PRINUNIVRMK
EXPOCODE,SECT_ID,STNNBR,CASTNO,SAMPNO,BTLNBR,BTLNBR_FLAG_W,DATE,TIME,LATITUDE,LONGITUDE,DEPTH,CTDPRS,CTDTMP,SBE35,SBE35_FLAG_W,CTDSAL,CTDSAL_FLAG_W,SALNTY,SALNTY_FLAG_W,CTDOXY,CTDOXY_FLAG_W,OXYGEN,OXYGEN_FLAG_W,SILCAT,SILCAT_FLAG_W,NITRAT,NITRAT_FLAG_W,NITRIT,NITRIT_FLAG_W,PHSPHT,PHSPHT_FLAG_W,NH4,NH4_FLAG_W,CFC-11,CFC-11_FLAG_W,CFC-12,CFC-12_FLAG_W,CFC113,CFC113_FLAG_W,SF6,SF6_FLAG_W,TCARBN,TCARBN_FLAG_W,ALKALI,ALKALI_FLAG_W,DOC,DOC_FLAG_W,CHLORA,CHLORA_FLAG_W,CDOM300,CDOM300_FLAG_W,CDOM325,CDOM325_FLAG_W,CDOM443,CDOM443_FLAG_W,SBE35,SBE35_FLAG_W
,,,,,,,,,,,METERS,DBAR,ITS-90,,,PSS-78,,PSS-78,,UMOL/KG,,UMOL/KG,,UMOL/KG,,UMOL/KG,,UMOL/KG,,UMOL/KG,,UMOL/KG,,PMOL/KG,,PMOL/KG,,PMOL/KG,,FMOL/KG,,UMOL/KG,,UMOL/KG,,UMOL/KG,,UG/L,,1/M,,1/M,,1/M,,,
  49NZ20191229,  I07S,   103,  1,     36,   1236,2,  200109,0538,-42.9965,  57.7576, 4744,     10.1,  10.9094,  10.9091,2,  33.8623,2,  33.8635,2,    286.7,2,    286.4,2,     0.42,2,    10.64,2,     0.12,2,     0.84,2,     0.06,2,    3.484,2,    1.956,2,    0.314,2,    2.922,2,   2065.1,2,   2266.2,2,   -999.0,9,     0.54,2,-999.0000,9,-999.0000,9,-999.0000,9,  10.9091,2
  49NZ20191229,  I07S,   103,  1,     35,   1235,2,  200109,0538,-42.9965,  57.7576, 4744,     50.1,   9.8710,   9.8730,2,  33.8662,2,  33.8670,2,    291.1,2,    291.2,2,     0.79,2,    12.21,2,     0.12,2,     0.96,2,     0.31,2,    3.684,2,    2.056,2,    0.333,2,    3.103,2,   2075.9,2,   2268.1,2,   -999.0,9,     0.74,2,-999.0000,9,-999.0000,9,-999.0000,9,   9.8730,2
  49NZ20191229,  I07S,   103,  1,     34,   1234,2,  200109,0538,-42.9965,  57.7576, 4744,    100.3,   8.7419,   8.7429,2,  33.9056,2,  33.9070,2,    289.3,2,    289.4,2,     1.19,2,    13.92,2,     0.14,2,     1.08,2,     0.67,2,    3.831,2,    2.127,2,    0.341,2,    3.204,2,   2090.2,2,   2273.0,2,   -999.0,9,     0.42,2,-999.0000,9,-999.0000,9,-999.0000,9,   8.7429,2
  49NZ20191229,  I07S,   103,  1,     33,   1233,2,  200109,0538,-42.9965,  57.7576, 4744,    151.3,   7.3876,   7.3867,2,  33.9093,2,  33.9103,2,    289.0,2,    288.7,2,     1.40,2,    15.05,2,     0.19,2,     1.23,2,     1.61,2,    4.042,2,    2.230,2,    0.362,2,    3.263,2,   2105.6,2,   2273.9,2,   -999.0,9,     0.19,2,-999.0000,9,-999.0000,9,-999.0000,9,   7.3867,2
  49NZ20191229,  I07S,   103,  1,     32,   1232,2,  200109,0538,-42.9965,  57.7576, 4744,    200.8,   6.5074,   6.5068,2,  33.9164,2,  33.9166,2,    286.9,2,    286.5,2,     2.40,2,    18.31,2,     0.30,2,     1.42,2,     1.55,2,    4.257,2,    2.337,2,    0.374,2,    3.373,2,   2122.7,2,   2271.1,2,   -999.0,9,     0.05,2,-999.0000,9,-999.0000,9,-999.0000,9,   6.5068,2
  49NZ20191229,  I07S,   103,  1,     31,   1231,2,  200109,0538,-42.9965,  57.7576, 4744,    251.0,   6.0995,   6.0993,2,  33.9831,2,  33.9843,2,    280.5,2,    279.9,2,     5.05,2,    22.00,2,     0.10,2,     1.51,2,     0.04,2,    4.279,2,    2.356,2,    0.358,2,    3.262,2,   2136.3,2,   2271.3,2,   -999.0,9,     0.02,2,-999.0000,9,-999.0000,9,-999.0000,9,   6.0993,2
  49NZ20191229,  I07S,   103,  1,     30,   1230,2,  200109,0538,-42.9965,  57.7576, 4744,    280.1,   5.7103,   5.7090,2,  33.9728,2,  33.9728,2,    281.6,2,    281.2,2,     6.11,2,    22.86,2,     0.03,2,     1.56,2,     0.03,2,    4.330,2,    2.378,2,    0.354,2,    3.288,2,   2139.7,2,   2271.3,2,   -999.0,9,  -999.00,9,-999.0000,9,-999.0000,9,-999.0000,9,   5.7090,2
  49NZ20191229,  I07S,   103,  1,     29,   1229,2,  200109,0538,-42.9965,  57.7576, 4744,    370.4,   5.4621,   5.4616,2,  34.0765,2,  34.0738,2,    267.6,2,    267.4,2,    10.05,2,    24.19,2,     0.02,2,     1.65,2,     0.05,2,    4.240,2,    2.317,2,    0.337,2,     2.91,2,   2148.7,2,   2274.4,2,   -999.0,9,  -999.00,9,-999.0000,9,-999.0000,9,-999.0000,9,   5.4616,2
  49NZ20191229,  I07S,   103,  1,     28,   1228,2,  200109,0538,-42.9965,  57.7576, 4744,    470.7,   6.0860,   6.0862,2,  34.3451,2,  34.3447,2,    223.0,2,    223.1,2,    16.77,2,    26.08,2,     0.02,2,     1.77,2,     0.03,2,    3.505,2,    1.884,2,    0.226,2,    1.792,2,   2169.8,2,   2285.0,2,   -999.0,9,  -999.00,9,-999.0000,9,-999.0000,9,-999.0000,9,   6.0862,2
  49NZ20191229,  I07S,   103,  1,     27,   1227,2,  200109,0538,-42.9965,  57.7576, 4744,    570.2,   5.0210,   5.0211,2,  34.2702,2,  34.2708,2,    229.7,2,    229.4,2,    20.11,2,    27.91,2,     0.02,2,     1.90,2,     0.02,2,    3.583,2,    1.900,2,    0.252,2,    1.747,2,   2180.5,2,   2284.5,2,   -999.0,9,  -999.00,9,-999.0000,9,-999.0000,9,-999.0000,9,   5.0211,2
  49NZ20191229,  I07S,   103,  1,     26,   1226,2,  200109,0538,-42.9965,  57.7576, 4744,    669.4,   4.1055,   4.1053,2,  34.2140,2,  34.2147,2,    235.3,2,    234.8,2,    24.45,2,    29.54,2,     0.01,2,     2.00,2,     0.02,2,    3.615,2,    1.905,2,    0.262,2,    1.852,2,   2186.8,6,   2288.1,2,   -999.0,9,  -999.00,9,-999.0000,9,-999.0000,9,-999.0000,9,   4.1053,2
  49NZ20191229,  I07S,   103,  1,     25,   1225,2,  200109,0538,-42.9965,  57.7576, 4744,    769.3,   3.8193,   3.8216,2,  34.2689,2,  34.2694,2,    220.0,2,    219.5,2,    32.69,2,    31.14,2,     0.01,2,     2.12,2,     0.02,2,    3.045,2,    1.587,2,    0.213,2,    1.398,2,   2204.4,2,   2294.0,2,   -999.0,9,  -999.00,9,-999.0000,9,-999.0000,9,-999.0000,9,   3.8216,2
  49NZ20191229,  I07S,   103,  1,     24,   1224,2,  200109,0538,-42.9965,  57.7576, 4744,    871.6,   3.5284,   3.5281,2,  34.3144,2,  34.3147,2,    207.4,2,    207.2,2,    40.23,2,    32.40,2,     0.01,2,     2.20,2,     0.02,2,    2.531,2,    1.304,2,    0.179,2,    1.076,2,   2209.0,2,   2303.7,2,   -999.0,9,  -999.00,9,-999.0000,9,-999.0000,9,-999.0000,9,   3.5281,2
  49NZ20191229,  I07S,   103,  1,     23,   1223,2,  200109,0538,-42.9965,  57.7576, 4744,    970.7,   3.1881,   3.1892,2,  34.3456,2,  34.3455,2,    199.0,2,    199.2,2,    46.99,2,    33.17,2,     0.01,2,     2.27,2,     0.01,2,    2.171,2,    1.127,2,    0.152,2,    0.887,2,   2225.1,2,   2307.9,2,   -999.0,9,  -999.00,9,-999.0000,9,-999.0000,9,-999.0000,9,   3.1892,2
  49NZ20191229,  I07S,   103,  1,     22,   1222,2,  200109,0538,-42.9965,  57.7576, 4744,   1131.6,   2.7895,   2.7894,2,  34.4220,2,  34.4221,2,    184.9,2,    185.2,2,    58.51,2,    34.31,2,     0.01,2,     2.34,2,     0.02,2,    1.502,2,    0.784,2,    0.103,2,    0.581,2,   2240.9,2,   2318.8,6,   -999.0,9,  -999.00,9,-999.0000,9,-999.0000,9,-999.0000,9,   2.7894,2
  49NZ20191229,  I07S,   103,  1,     21,   1221,2,  200109,0538,-42.9965,  57.7576, 4744,   1330.5,   2.9110,   2.9109,2,  34.5569,2,  34.5569,2,    173.5,2,    173.6,2,    66.13,2,    33.61,2,     0.01,2,     2.31,2,     0.02,2,    0.682,2,    0.374,2,    0.047,2,    0.197,2,   2247.4,2,   2329.9,2,   -999.0,9,  -999.00,9,-999.0000,9,-999.0000,9,-999.0000,9,   2.9109,2
  49NZ20191229,  I07S,   103,  1,     20,   1220,2,  200109,0538,-42.9965,  57.7576, 4744,   1530.7,   2.7375,   2.7370,2,  34.6375,2,  34.6385,2,    176.6,2,    177.4,2,    69.79,2,    32.84,2,     0.01,2,     2.23,2,     0.01,2,    0.375,2,    0.214,2,    0.027,2,    0.103,2,   2247.0,2,   2337.7,2,   -999.0,9,  -999.00,9,-999.0000,9,-999.0000,9,-999.0000,9,   2.7370,2
  49NZ20191229,  I07S,   103,  1,     19,   1219,2,  200109,0538,-42.9965,  57.7576, 4744,   1728.9,   2.6030,   2.6031,2,  34.6791,2,  34.6806,2,    180.6,2,    181.4,2,    71.74,2,    31.79,2,     0.01,2,     2.17,2,     0.01,2,    0.277,2,    0.160,2,    0.016,2,    0.096,2,   -999.0,9,   2339.9,2,   -999.0,9,  -999.00,9,-999.0000,9,-999.0000,9,-999.0000,9,   2.6031,2
  49NZ20191229,  I07S,   103,  1,     18,   1218,2,  200109,0538,-42.9965,  57.7576, 4744,   1931.4,   2.4731,   2.4729,2,  34.7231,2,  34.7235,2,    188.0,2,    188.6,2,    73.38,2,    30.69,2,     0.01,2,     2.09,2,     0.01,2,    0.190,2,    0.109,2,    0.012,2,    0.073,2,   2245.7,2,   2344.8,2,   -999.0,9,  -999.00,9,-999.0000,9,-999.0000,9,-999.0000,9,   2.4729,2
  49NZ20191229,  I07S,   103,  1,     17,   1217,2,  200109,0538,-42.9965,  57.7576, 4744,   2131.6,   2.3369,   2.3366,2,  34.7476,2,  34.7483,2,    193.4,2,    194.2,2,    75.49,2,    30.02,2,     0.00,2,     2.04,2,     0.01,2,    0.156,2,    0.090,2,    0.011,2,    0.058,2,   2245.4,2,   2344.4,2,   -999.0,9,  -999.00,9,-999.0000,9,-999.0000,9,-999.0000,9,   2.3366,2
  49NZ20191229,  I07S,   103,  1,     16,   1216,2,  200109,0538,-42.9965,  57.7576, 4744,   2328.3,   2.1741,   2.1744,2,  34.7609,2,  34.7606,2,    198.3,2,    198.8,2,    78.21,2,    29.53,2,     0.00,2,     2.02,2,     0.01,2,    0.140,2,    0.081,2,    0.007,2,    0.034,2,   2241.6,6,   2349.2,2,   -999.0,9,  -999.00,9,-999.0000,9,-999.0000,9,-999.0000,9,   2.1744,2
  49NZ20191229,  I07S,   103,  1,     15,   1215,2,  200109,0538,-42.9965,  57.7576, 4744,   2530.4,   2.0284,   2.0284,2,  34.7630,2,  34.7630,2,    201.3,2,    201.8,2,    82.21,2,    29.33,2,     0.01,2,     2.00,2,     0.02,2,    0.123,2,    0.072,2,    0.008,2,     0.02,2,   2246.4,2,   2352.2,2,   -999.0,9,  -999.00,9,-999.0000,9,-999.0000,9,-999.0000,9,   2.0284,2
  49NZ20191229,  I07S,   103,  1,     14,   1214,4,  200109,0538,-42.9965,  57.7576, 4744,   2732.3,   1.8710,   1.8708,2,  34.7583,2,  34.1111,4,    202.8,2,    265.9,4,    19.98,4,    20.59,4,     0.09,4,     1.48,4,     0.31,4,    3.276,4,    1.808,4,    0.274,4,    2.523,4,   -999.0,9,   -999.0,9,   -999.0,9,  -999.00,9,-999.0000,9,-999.0000,9,-999.0000,9,   1.8708,2
  49NZ20191229,  I07S,   103,  1,     13,   1213,2,  200109,0538,-42.9965,  57.7576, 4744,   2930.4,   1.6847,   1.6845,2,  34.7512,2,  34.7515,2,    204.4,2,    205.2,2,    92.94,2,    29.56,2,     0.01,2,     2.06,2,     0.02,2,    0.144,2,    0.082,2,    0.007,2,    0.055,2,   2248.6,2,   2353.5,2,   -999.0,9,  -999.00,9,-999.0000,9,-999.0000,9,-999.0000,9,   1.6845,2
  49NZ20191229,  I07S,   103,  1,     12,   1212,2,  200109,0538,-42.9965,  57.7576, 4744,   3171.4,   1.4893,   1.4894,2,  34.7414,2,  34.7412,2,    205.7,2,    206.4,2,    99.15,2,    30.64,2,     0.01,2,     2.09,2,     0.01,2,    0.171,2,    0.100,2,    0.013,2,    0.066,2,   2255.2,2,   2357.2,6,   -999.0,9,  -999.00,9,-999.0000,9,-999.0000,9,-999.0000,9,   1.4894,2
  49NZ20191229,  I07S,   103,  1,     11,   1211,2,  200109,0538,-42.9965,  57.7576, 4744,   3419.3,   1.2314,   1.2315,2,  34.7271,2,  34.7272,2,    207.6,2,    208.2,2,   106.67,2,    31.14,2,     0.01,2,     2.14,2,     0.01,2,    0.221,2,    0.126,2,    0.015,2,    0.095,2,   2257.1,2,   2356.9,2,   -999.0,9,  -999.00,9,-999.0000,9,-999.0000,9,-999.0000,9,   1.2315,2
  49NZ20191229,  I07S,   103,  1,     10,   1210,2,  200109,0538,-42.9965,  57.7576, 4744,   3670.4,   0.9826,   0.9826,2,  34.7123,2,  34.7120,2,    209.7,2,    210.5,2,   114.60,2,    31.72,2,     0.01,2,     2.18,2,     0.02,2,    0.256,2,    0.144,2,    0.020,2,     0.09,2,   2259.6,2,   2360.6,2,   -999.0,9,  -999.00,9,-999.0000,9,-999.0000,9,-999.0000,9,   0.9826,2
  49NZ20191229,  I07S,   103,  1,      9,   1209,2,  200109,0538,-42.9965,  57.7576, 4744,   3922.6,   0.7032,   0.7031,2,  34.6964,2,  34.6966,2,    213.2,2,    213.9,2,   123.71,2,    32.31,2,     0.01,2,     2.22,2,     0.02,2,    0.280,2,    0.158,2,    0.019,2,    0.065,2,   2264.0,2,   2360.5,2,   -999.0,9,  -999.00,9,-999.0000,9,-999.0000,9,-999.0000,9,   0.7031,2
  49NZ20191229,  I07S,   103,  1,      8,  12103,2,  200109,0538,-42.9965,  57.7576, 4744,   4174.1,   0.5278,   0.5279,2,  34.6869,2,  34.6863,2,    216.6,2,    217.3,2,   130.35,2,    32.52,2,     0.01,2,     2.25,2,     0.02,2,    0.288,2,    0.159,2,    0.017,2,    0.072,2,   2268.8,6,   2360.6,2,   -999.0,9,  -999.00,9,-999.0000,9,-999.0000,9,-999.0000,9,   0.5279,2
  49NZ20191229,  I07S,   103,  1,      7,   1207,2,  200109,0538,-42.9965,  57.7576, 4744,   4421.5,   0.4268,   0.4266,2,  34.6807,2,  34.6808,2,    218.8,2,    219.4,2,   134.71,2,    32.60,2,     0.01,2,     2.25,2,     0.01,2,    0.309,2,    0.169,2,    0.017,2,    0.049,2,   2266.9,2,   2359.1,2,   -999.0,9,  -999.00,9,-999.0000,9,-999.0000,9,-999.0000,9,   0.4266,2
  49NZ20191229,  I07S,   103,  1,      6,   1206,2,  200109,0538,-42.9965,  57.7576, 4744,   4670.9,   0.2954,   0.2954,2,  34.6733,2,  34.6720,2,    222.0,2,    222.6,2,   141.82,2,    32.94,2,     0.01,2,     2.27,2,     0.02,2,    0.342,2,    0.189,2,    0.017,2,    0.074,2,   2263.9,2,   2360.2,6,   -999.0,9,  -999.00,9,-999.0000,9,-999.0000,9,-999.0000,9,   0.2954,2
  49NZ20191229,  I07S,   103,  1,      1,   1201,2,  200109,0538,-42.9965,  57.7576, 4744,   4808.8,   0.2833,   0.2833,2,  34.6719,2,  34.6723,2,    222.4,2,    222.8,2,   143.05,2,    32.81,2,     0.01,2,     2.27,2,     0.03,2,    0.344,2,    0.189,2,    0.019,2,    0.057,2,   2269.9,2,   2360.8,2,   -999.0,9,  -999.00,9,-999.0000,9,-999.0000,9,-999.0000,9,   0.2833,2