BOTTLE,20210310PRINUNIVRMK
EXPOCODE,SECT_ID,STNNBR,CASTNO,SAMPNO,BTLNBR,BTLNBR_FLAG_W,DATE,TIME,LATITUDE,LONGITUDE,DEPTH,CTDPRS,CTDTMP,SBE35,SBE35_FLAG_W,CTDSAL,CTDSAL_FLAG_W,SALNTY,SALNTY_FLAG_W,CTDOXY,CTDOXY_FLAG_W,OXYGEN,OXYGEN_FLAG_W,SILCAT,SILCAT_FLAG_W,NITRAT,NITRAT_FLAG_W,NITRIT,NITRIT_FLAG_W,PHSPHT,PHSPHT_FLAG_W,NH4,NH4_FLAG_W,CFC-11,CFC-11_FLAG_W,CFC-12,CFC-12_FLAG_W,CFC113,CFC113_FLAG_W,SF6,SF6_FLAG_W,TCARBN,TCARBN_FLAG_W,ALKALI,ALKALI_FLAG_W,DOC,DOC_FLAG_W,CHLORA,CHLORA_FLAG_W,CDOM300,CDOM300_FLAG_W,CDOM325,CDOM325_FLAG_W,CDOM443,CDOM443_FLAG_W,SBE35,SBE35_FLAG_W
,,,,,,,,,,,METERS,DBAR,ITS-90,,,PSS-78,,PSS-78,,UMOL/KG,,UMOL/KG,,UMOL/KG,,UMOL/KG,,UMOL/KG,,UMOL/KG,,UMOL/KG,,PMOL/KG,,PMOL/KG,,PMOL/KG,,FMOL/KG,,UMOL/KG,,UMOL/KG,,UMOL/KG,,UG/L,,1/M,,1/M,,1/M,,,
  49NZ20191229,  I07S,   101,  1,     36,   1236,2,  200108,1728,-42.0791,  57.7524, 4797,     10.5,  16.3914,  16.3927,2,  35.3136,2,  35.3127,2,    254.6,2,    254.4,2,     0.88,2,     0.02,2,     0.01,2,     0.15,2,     0.02,2,    2.485,2,    1.467,2,    0.209,2,    2.333,2,   2052.1,2,   2325.8,2,     55.2,2,     0.83,2,   0.3330,2,   0.2010,2,   0.0300,2,  16.3927,2
  49NZ20191229,  I07S,   101,  1,     35,   1235,2,  200108,1728,-42.0791,  57.7524, 4797,     50.8,  16.2345,  16.2363,2,  35.4154,2,  35.4151,2,    235.8,2,    236.4,2,     1.66,2,     0.93,2,     0.32,2,     0.27,2,     0.76,2,    2.433,2,    1.458,2,    0.189,2,    2.277,2,   2075.3,2,   2327.8,2,     55.1,2,     0.36,2,   0.2620,2,   0.1430,2,   0.0230,2,  16.2363,2
  49NZ20191229,  I07S,   101,  1,     34,   1234,2,  200108,1728,-42.0791,  57.7524, 4797,    100.6,  15.5676,  15.5656,2,  35.4135,2,  35.4165,2,    225.9,2,    226.6,2,     2.70,2,     4.02,2,     0.11,2,     0.39,2,     0.03,2,    2.487,2,    1.482,2,    0.170,2,    2.265,2,   2087.9,2,   2323.6,2,     41.3,2,     0.09,2,   0.2300,2,   0.1220,2,   0.0160,2,  15.5656,2
  49NZ20191229,  I07S,   101,  1,     33,   1233,2,  200108,1728,-42.0791,  57.7524, 4797,    150.5,  14.6972,  14.6976,2,  35.3307,2,  35.3300,2,    220.7,2,    221.4,2,     3.70,2,     6.54,2,     0.04,2,     0.53,2,     0.01,2,    2.604,2,    1.554,2,    0.135,2,    2.168,2,   2103.1,2,   2320.9,2,     51.7,2,     0.05,2,   0.2090,2,   0.1120,2,   0.0190,2,  14.6976,2
  49NZ20191229,  I07S,   101,  1,     32,   1232,2,  200108,1728,-42.0791,  57.7524, 4797,    201.0,  13.7108,  13.7106,2,  35.1557,2,  35.1536,2,    235.7,2,    236.5,2,     2.79,2,     6.66,2,     0.11,2,     0.56,2,     0.02,2,    2.765,2,    1.626,2,    0.186,2,    2.393,2,   2098.5,2,   2315.4,2,     49.4,2,     0.04,2,   0.2210,2,   0.1160,2,   0.0170,2,  13.7106,2
  49NZ20191229,  I07S,   101,  1,     31,   1231,2,  200108,1728,-42.0791,  57.7524, 4797,    250.1,  13.1877,  13.1882,2,  35.0841,2,  35.0846,2,    237.4,2,    237.8,2,     3.13,2,     7.78,2,     0.03,2,     0.62,2,     0.02,2,    2.851,2,    1.662,2,    0.187,2,    2.339,2,   2104.7,2,   2308.9,2,     51.0,2,     0.03,2,-999.0000,9,-999.0000,9,-999.0000,9,  13.1882,2
  49NZ20191229,  I07S,   101,  1,     30,   1230,2,  200108,1728,-42.0791,  57.7524, 4797,    327.6,  13.1376,  13.1386,2,  35.1886,2,  35.1875,2,    215.6,2,    216.6,2,     4.44,2,     9.94,2,     0.02,2,     0.74,2,     0.01,2,    2.873,2,    1.665,2,    0.082,2,    1.999,2,   2119.5,2,   2312.2,2,     49.0,2,  -999.00,9,   0.2000,2,   0.1000,2,   0.0140,2,  13.1386,2
  49NZ20191229,  I07S,   101,  1,     29,   1229,2,  200108,1728,-42.0791,  57.7524, 4797,    428.6,  12.6332,  12.6335,2,  35.1546,2,  35.1556,2,    236.9,2,    237.1,2,     3.77,2,     9.23,2,     0.01,2,     0.70,2,     0.01,2,    2.936,2,    1.697,2,    0.157,2,    2.268,2,   2114.3,2,   2313.0,2,     46.6,2,  -999.00,9,   0.2010,2,   0.1030,2,   0.0140,2,  12.6335,2
  49NZ20191229,  I07S,   101,  1,     28,   1228,2,  200108,1728,-42.0791,  57.7524, 4797,    528.1,  12.2354,  12.2334,2,  35.0980,2,  35.1009,2,    236.5,2,    237.8,2,     3.95,2,    10.14,2,     0.01,2,     0.75,2,     0.01,2,    3.002,2,    1.729,2,    0.153,2,    2.266,2,   2115.5,2,   2311.0,2,     46.2,2,  -999.00,9,   0.1930,2,   0.0960,2,   0.0160,2,  12.2334,2
  49NZ20191229,  I07S,   101,  1,     27,   1227,2,  200108,1728,-42.0791,  57.7524, 4797,    628.4,  11.0815,  11.0831,2,  34.9170,2,  34.9201,2,    219.8,2,    220.9,2,     5.43,2,    14.09,2,     0.00,2,     1.00,2,     0.02,2,    3.196,2,    1.802,2,    0.098,2,    1.775,2,   2129.8,2,   2300.2,2,     42.8,2,  -999.00,9,   0.1990,2,   0.1010,2,   0.0180,2,  11.0831,2
  49NZ20191229,  I07S,   101,  1,     26,   1226,2,  200108,1728,-42.0791,  57.7524, 4797,    730.9,   9.8687,   9.8697,2,  34.7586,2,  34.7586,2,    215.0,2,    215.9,2,     7.58,2,    17.48,2,     0.01,2,     1.22,2,     0.04,2,    3.258,2,    1.797,2,    0.115,2,    1.635,2,   2142.8,6,   2296.1,2,     44.8,2,  -999.00,9,-999.0000,9,-999.0000,9,-999.0000,9,   9.8697,2
  49NZ20191229,  I07S,   101,  1,     25,   1225,2,  200108,1728,-42.0791,  57.7524, 4797,    830.0,   8.7385,   8.7403,2,  34.6415,2,  34.6431,2,    208.6,2,    209.7,2,    11.10,2,    20.67,2,     0.01,2,     1.42,2,     0.03,2,    3.179,2,    1.710,2,    0.122,2,    1.399,2,   2153.6,2,   2292.4,2,     44.3,2,  -999.00,9,   0.2260,2,   0.1170,2,   0.0220,2,   8.7403,2
  49NZ20191229,  I07S,   101,  1,     24,   1224,2,  200108,1728,-42.0791,  57.7524, 4797,    929.7,   7.4034,   7.4034,2,  34.5206,2,  34.5194,2,    204.1,2,    205.3,2,    16.35,2,    24.39,2,     0.01,2,     1.66,2,     0.02,2,    3.065,2,    1.616,2,    0.140,2,    1.324,2,   2168.4,2,   2289.0,2,     43.2,2,  -999.00,9,-999.0000,9,-999.0000,9,-999.0000,9,   7.4034,2
  49NZ20191229,  I07S,   101,  1,     23,   1223,2,  200108,1728,-42.0791,  57.7524, 4797,   1071.7,   5.6651,   5.6649,2,  34.3867,2,  34.3865,2,    208.6,2,    209.1,2,    23.77,2,    28.06,2,     0.01,2,     1.91,2,     0.02,2,    2.929,2,    1.525,2,    0.169,2,    1.243,2,   2182.1,2,   2291.9,2,     39.6,2,  -999.00,9,   0.2360,2,   0.1220,2,   0.0210,2,   5.6649,2
  49NZ20191229,  I07S,   101,  1,     22,   1222,2,  200108,1728,-42.0791,  57.7524, 4797,   1268.3,   4.3419,   4.3424,2,  34.3576,2,  34.3574,2,    201.4,2,    201.8,2,    35.79,2,    31.14,2,     0.01,2,     2.13,2,     0.02,2,    2.348,2,    1.209,2,    0.142,2,    0.857,2,   2201.0,2,   2298.8,6,     40.3,2,  -999.00,9,-999.0000,9,-999.0000,9,-999.0000,9,   4.3424,2
  49NZ20191229,  I07S,   101,  1,     21,   1221,2,  200108,1728,-42.0791,  57.7524, 4797,   1470.8,   3.5305,   3.5309,2,  34.4295,2,  34.4293,2,    184.3,2,    184.8,2,    51.40,2,    33.22,2,     0.01,2,     2.28,2,     0.02,2,    1.471,2,    0.779,2,    0.092,2,    0.493,2,   2230.8,2,   2313.5,2,     35.7,2,  -999.00,9,   0.2590,2,   0.1350,2,   0.0210,2,   3.5309,2
  49NZ20191229,  I07S,   101,  1,     20,   1220,2,  200108,1728,-42.0791,  57.7524, 4797,   1669.5,   3.1160,   3.1160,2,  34.5313,2,  34.5312,2,    174.1,2,    174.3,2,    62.91,2,    33.61,2,     0.01,2,     2.30,2,     0.01,2,    0.762,2,    0.432,2,    0.049,2,    0.215,2,   2240.8,2,   2326.9,2,     31.8,2,  -999.00,9,-999.0000,9,-999.0000,9,-999.0000,9,   3.1160,2
  49NZ20191229,  I07S,   101,  1,     19,   1219,2,  200108,1728,-42.0791,  57.7524, 4797,   1872.3,   2.9117,   2.9116,2,  34.6243,2,  34.6249,2,    175.3,2,    175.5,2,    67.97,2,    32.63,2,     0.00,2,     2.23,2,     0.01,2,    0.381,2,    0.235,2,    0.025,2,    0.125,2,   2241.9,2,   2334.8,2,     33.9,2,  -999.00,9,   0.2800,2,   0.1500,2,   0.0260,2,   2.9116,2
  49NZ20191229,  I07S,   101,  1,     18,   1218,2,  200108,1728,-42.0791,  57.7524, 4797,   2070.7,   2.6543,   2.6544,2,  34.6759,2,  34.6764,2,    180.5,2,    180.7,2,    71.07,2,    31.87,2,     0.00,2,     2.17,2,     0.02,2,    0.261,2,    0.168,2,    0.018,2,    0.074,2,   2246.0,2,   2338.2,2,     33.0,2,  -999.00,9,-999.0000,9,-999.0000,9,-999.0000,9,   2.6544,2
  49NZ20191229,  I07S,   101,  1,     17,   1217,2,  200108,1728,-42.0791,  57.7524, 4797,   2269.4,   2.5558,   2.5558,2,  34.7251,2,  34.7255,2,    189.5,2,    189.8,2,    71.29,2,    30.50,2,     0.00,2,     2.07,2,     0.01,2,    0.167,2,    0.110,2,    0.012,2,     0.02,2,   2237.8,2,   2340.4,2,     41.2,2,  -999.00,9,   0.2710,2,   0.1460,2,   0.0180,2,   2.5558,2
  49NZ20191229,  I07S,   101,  1,     16,   1216,2,  200108,1728,-42.0791,  57.7524, 4797,   2469.4,   2.4244,   2.4248,2,  34.7496,2,  34.7499,2,    195.6,2,    195.8,2,    72.70,2,    29.64,2,     0.00,2,     2.02,2,        0,2,    0.124,2,    0.083,2,    0.004,2,    0.016,2,   2241.7,6,   2341.5,2,     41.4,2,  -999.00,9,-999.0000,9,-999.0000,9,-999.0000,9,   2.4248,2
  49NZ20191229,  I07S,   101,  1,     15,   1215,2,  200108,1728,-42.0791,  57.7524, 4797,   2670.2,   2.2703,   2.2705,2,  34.7571,2,  34.7578,2,    199.1,2,    199.4,2,    76.24,2,    29.45,2,     0.01,2,     2.01,2,     0.03,2,    0.109,2,    0.074,2,    0.005,2,    0.047,2,   2235.5,2,   2343.7,2,     38.2,2,  -999.00,9,   0.2810,2,   0.1530,2,   0.0300,2,   2.2705,2
  49NZ20191229,  I07S,   101,  1,     14,   1214,2,  200108,1728,-42.0791,  57.7524, 4797,   2873.3,   2.1351,   2.1349,2,  34.7635,2,  34.7636,2,    201.8,2,    202.2,2,    79.57,2,    29.34,2,     0.01,2,     2.00,2,     0.02,2,    0.103,2,    0.070,2,    0.007,2,    0.008,2,   2237.4,2,   2345.8,2,     37.9,2,  -999.00,9,-999.0000,9,-999.0000,9,-999.0000,9,   2.1349,2
  49NZ20191229,  I07S,   101,  1,     13,   1213,2,  200108,1728,-42.0791,  57.7524, 4797,   3080.8,   1.9230,   1.9240,2,  34.7494,2,  34.7490,2,    200.8,2,    201.1,2,    88.62,2,    30.24,2,     0.00,2,     2.06,2,     0.01,2,    0.107,2,    0.071,2,    0.008,2,    0.025,2,   2244.4,2,   2351.9,2,     39.6,2,  -999.00,9,   0.2820,2,   0.1480,2,   0.0240,2,   1.9240,2
  49NZ20191229,  I07S,   101,  1,     12,   1212,2,  200108,1728,-42.0791,  57.7524, 4797,   3330.9,   1.6865,   1.6862,2,  34.7416,2,  34.7418,2,    202.6,2,    203.3,2,    96.27,2,    30.66,2,     0.00,2,     2.09,2,        0,2,    0.118,2,    0.081,2,    0.008,2,    0.033,2,   2246.8,2,   2354.8,6,     37.9,2,  -999.00,9,-999.0000,9,-999.0000,9,-999.0000,9,   1.6862,2
  49NZ20191229,  I07S,   101,  1,     11,   1211,2,  200108,1728,-42.0791,  57.7524, 4797,   3581.7,   1.4372,   1.4369,2,  34.7352,2,  34.7353,2,    205.9,2,    206.4,2,   102.16,2,    30.85,2,     0.00,2,     2.11,2,     0.01,2,    0.157,2,    0.104,2,    0.007,2,    0.073,2,   2248.3,2,   2355.0,2,     37.8,2,  -999.00,9,   0.2930,2,   0.1580,2,   0.0240,2,   1.4369,2
  49NZ20191229,  I07S,   101,  1,     10,   1210,2,  200108,1728,-42.0791,  57.7524, 4797,   3832.7,   1.1237,   1.1237,2,  34.7188,2,  34.7187,2,    209.0,2,    209.5,2,   111.46,2,    31.45,2,     0.00,2,     2.15,2,        0,2,    0.206,2,    0.134,2,    0.016,2,    0.038,2,   2259.0,2,   2357.5,2,     36.0,2,  -999.00,9,-999.0000,9,-999.0000,9,-999.0000,9,   1.1237,2
  49NZ20191229,  I07S,   101,  1,      9,   1209,2,  200108,1728,-42.0791,  57.7524, 4797,   4080.1,   0.8265,   0.8262,2,  34.7023,2,  34.7021,2,    212.4,2,    212.9,2,   120.94,2,    32.06,2,     0.00,2,     2.19,2,        0,2,    0.258,2,    0.162,2,    0.017,2,    0.062,2,   2259.4,2,   2358.7,2,     32.6,2,  -999.00,9,   0.2900,2,   0.1490,2,   0.0270,2,   0.8262,2
  49NZ20191229,  I07S,   101,  1,      8,  12103,2,  200108,1728,-42.0791,  57.7524, 4797,   4329.3,   0.5925,   0.5925,2,  34.6894,2,  34.6894,2,    215.9,2,    216.3,2,   128.48,2,    32.43,2,     0.00,2,     2.23,2,     0.01,2,    0.261,2,    0.164,2,    0.016,2,    0.045,2,   2257.4,6,   2358.7,2,     33.6,2,  -999.00,9,-999.0000,9,-999.0000,9,-999.0000,9,   0.5925,2
  49NZ20191229,  I07S,   101,  1,      7,   1207,2,  200108,1728,-42.0791,  57.7524, 4797,   4579.7,   0.4690,   0.4691,2,  34.6821,2,  34.6829,2,    218.5,2,    218.8,2,   133.45,2,    32.72,2,     0.00,2,     2.25,2,     0.01,2,    0.275,2,    0.170,2,    0.018,2,     0.05,2,   2260.2,2,   2358.9,2,     39.8,2,  -999.00,9,   0.2790,2,   0.1410,2,   0.0240,2,   0.4691,2
  49NZ20191229,  I07S,   101,  1,      2,  12046,2,  200108,1728,-42.0791,  57.7524, 4797,     25.2,  16.4417,  16.4445,2,  35.3241,2,  35.3205,2,    254.0,2,    254.1,2,     0.86,2,     0.01,2,     0.01,2,     0.15,2,     0.04,2, -999.000,9, -999.000,9, -999.000,9,     -999,9,   2050.2,2,   2323.4,2,     60.9,2,     0.82,2,   0.3430,2,   0.2060,2,   0.0350,2,  16.4445,2
  49NZ20191229,  I07S,   101,  1,      1,   1201,2,  200108,1728,-42.0791,  57.7524, 4797,   4872.4,   0.3568,   0.3569,2,  34.6752,2,  34.6755,2,    221.2,2,    221.2,2,   139.45,2,    32.79,2,     0.00,2,     2.26,2,     0.02,2,    0.302,2,    0.187,2,    0.017,2,    0.048,2,   2262.4,2,   2358.5,2,     35.6,2,  -999.00,9,   0.2820,2,   0.1470,2,   0.0240,2,   0.3569,2