BOTTLE,20210310PRINUNIVRMK
EXPOCODE,SECT_ID,STNNBR,CASTNO,SAMPNO,BTLNBR,BTLNBR_FLAG_W,DATE,TIME,LATITUDE,LONGITUDE,DEPTH,CTDPRS,CTDTMP,SBE35,SBE35_FLAG_W,CTDSAL,CTDSAL_FLAG_W,SALNTY,SALNTY_FLAG_W,CTDOXY,CTDOXY_FLAG_W,OXYGEN,OXYGEN_FLAG_W,SILCAT,SILCAT_FLAG_W,NITRAT,NITRAT_FLAG_W,NITRIT,NITRIT_FLAG_W,PHSPHT,PHSPHT_FLAG_W,NH4,NH4_FLAG_W,CFC-11,CFC-11_FLAG_W,CFC-12,CFC-12_FLAG_W,CFC113,CFC113_FLAG_W,SF6,SF6_FLAG_W,TCARBN,TCARBN_FLAG_W,ALKALI,ALKALI_FLAG_W,DOC,DOC_FLAG_W,CHLORA,CHLORA_FLAG_W,CDOM300,CDOM300_FLAG_W,CDOM325,CDOM325_FLAG_W,CDOM443,CDOM443_FLAG_W,SBE35,SBE35_FLAG_W
,,,,,,,,,,,METERS,DBAR,ITS-90,,,PSS-78,,PSS-78,,UMOL/KG,,UMOL/KG,,UMOL/KG,,UMOL/KG,,UMOL/KG,,UMOL/KG,,UMOL/KG,,PMOL/KG,,PMOL/KG,,PMOL/KG,,FMOL/KG,,UMOL/KG,,UMOL/KG,,UMOL/KG,,UG/L,,1/M,,1/M,,1/M,,,
  49NZ20191229,  I07S,    95,  1,     36,   1236,2,  200107,0438,-39.2456,  57.6915, 5151,     10.3,  16.4628,  16.4667,2,  34.5991,2,  34.6048,2,    280.8,2,    284.2,2,     0.05,2,     2.69,2,     0.08,2,     0.34,2,     0.07,2,    2.880,2,    1.641,2,    0.260,2,    2.576,2,   2039.9,2,   2299.7,2,   -999.0,9,     1.21,2,-999.0000,9,-999.0000,9,-999.0000,9,  16.4667,2
  49NZ20191229,  I07S,    95,  1,     35,   1235,2,  200107,0438,-39.2456,  57.6915, 5151,     50.6,  11.0338,  11.0336,2,  34.5685,2,  34.5688,2,    269.0,2,    267.8,2,     2.29,2,     8.83,2,     0.19,2,     0.78,2,      1.1,2,    3.268,2,    1.830,2,    0.294,2,    2.871,2,   2097.9,2,   2293.5,2,   -999.0,9,     0.44,2,-999.0000,9,-999.0000,9,-999.0000,9,  11.0336,2
  49NZ20191229,  I07S,    95,  1,     34,   1234,2,  200107,0438,-39.2456,  57.6915, 5151,    100.4,  11.0249,  11.0249,2,  34.6267,2,  34.6268,2,    266.7,2,    265.5,2,     2.54,2,     9.45,2,     0.26,2,     0.80,2,     1.04,2,    3.218,2,    1.827,2,    0.281,2,    2.839,2,   2098.2,2,   2294.5,2,   -999.0,9,     0.05,2,-999.0000,9,-999.0000,9,-999.0000,9,  11.0249,2
  49NZ20191229,  I07S,    95,  1,     33,   1233,2,  200107,0438,-39.2456,  57.6915, 5151,    152.3,  10.3336,  10.3367,2,  34.5560,2,  34.5610,2,    265.6,2,    264.3,2,     2.91,2,    12.50,2,     0.06,2,     0.89,2,     0.07,2,    3.342,2,    1.886,2,    0.292,2,    2.856,2,   2106.1,2,   2289.6,2,   -999.0,9,     0.02,2,-999.0000,9,-999.0000,9,-999.0000,9,  10.3367,2
  49NZ20191229,  I07S,    95,  1,     32,   1232,2,  200107,0438,-39.2456,  57.6915, 5151,    202.0,  10.2400,  10.2403,2,  34.5804,2,  34.5818,2,    264.9,2,    263.9,2,     3.15,2,    13.62,2,     0.04,2,     0.93,2,     0.06,2,    3.368,2,    1.912,2,    0.277,2,    2.871,2,   2108.9,2,   2289.6,2,   -999.0,9,     0.02,2,-999.0000,9,-999.0000,9,-999.0000,9,  10.2403,2
  49NZ20191229,  I07S,    95,  1,     31,   1231,2,  200107,0438,-39.2456,  57.6915, 5151,    248.4,   9.7948,   9.7944,2,  34.5315,2,  34.5310,2,    261.9,2,    261.2,2,     3.51,2,    14.66,2,     0.03,2,     1.01,2,     0.02,2,    3.469,2,    1.959,2,    0.270,2,    2.677,2,   2118.3,2,   2286.5,2,   -999.0,9,     0.01,2,-999.0000,9,-999.0000,9,-999.0000,9,   9.7944,2
  49NZ20191229,  I07S,    95,  1,     30,   1230,2,  200107,0438,-39.2456,  57.6915, 5151,    329.8,   8.5934,   8.5934,2,  34.4407,2,  34.4409,2,    242.5,2,    241.8,2,     6.39,2,    19.65,2,     0.02,2,     1.31,2,     0.03,2,    3.687,2,    2.036,2,    0.227,2,    2.495,2,   2141.5,2,   2285.7,2,   -999.0,9,  -999.00,9,-999.0000,9,-999.0000,9,-999.0000,9,   8.5934,2
  49NZ20191229,  I07S,    95,  1,     29,   1229,2,  200107,0438,-39.2456,  57.6915, 5151,    430.3,   6.0478,   6.0476,2,  34.1859,2,  34.1823,2,    250.5,2,    249.5,2,    11.51,2,    24.89,2,     0.01,2,     1.64,2,     0.01,2,    4.092,2,    2.234,2,    0.292,2,    2.361,2,   2155.0,2,   2279.0,2,   -999.0,9,  -999.00,9,-999.0000,9,-999.0000,9,-999.0000,9,   6.0476,2
  49NZ20191229,  I07S,    95,  1,     28,   1228,2,  200107,0438,-39.2456,  57.6915, 5151,    530.2,   6.1305,   6.1324,2,  34.3449,2,  34.3458,2,    224.4,2,    223.3,2,    16.52,2,    26.35,2,     0.01,2,     1.76,2,     0.03,2,    3.552,2,    1.897,2,    0.219,2,    1.814,2,   2171.4,2,   2284.0,2,   -999.0,9,  -999.00,9,-999.0000,9,-999.0000,9,-999.0000,9,   6.1324,2
  49NZ20191229,  I07S,    95,  1,     27,   1227,2,  200107,0438,-39.2456,  57.6915, 5151,    630.5,   5.1941,   5.1943,2,  34.3027,2,  34.3027,2,    224.9,2,    224.0,2,    21.20,2,    28.69,2,     0.01,2,     1.90,2,     0.03,2,    3.463,2,    1.829,2,    0.230,2,    1.649,2,   2181.6,2,   2286.7,2,   -999.0,9,  -999.00,9,-999.0000,9,-999.0000,9,-999.0000,9,   5.1943,2
  49NZ20191229,  I07S,    95,  1,     26,   1226,2,  200107,0438,-39.2456,  57.6915, 5151,    731.0,   4.5385,   4.5397,2,  34.3059,2,  34.3057,2,    217.8,2,    216.8,2,    28.03,2,    30.39,2,     0.01,2,     2.03,2,     0.04,2,    3.052,2,    1.598,2,    0.203,2,    1.297,2,   2193.5,6,   2296.5,2,   -999.0,9,  -999.00,9,-999.0000,9,-999.0000,9,-999.0000,9,   4.5397,2
  49NZ20191229,  I07S,    95,  1,     25,   1225,2,  200107,0438,-39.2456,  57.6915, 5151,    829.5,   4.1816,   4.1801,2,  34.3291,2,  34.3273,2,    209.0,2,    208.8,2,    33.69,2,    31.15,2,     0.01,2,     2.11,2,     0.05,2,    2.713,2,    1.408,2,    0.177,2,    1.148,2,   2199.6,2,   2297.3,2,   -999.0,9,  -999.00,9,-999.0000,9,-999.0000,9,-999.0000,9,   4.1801,2
  49NZ20191229,  I07S,    95,  1,     24,   1224,2,  200107,0438,-39.2456,  57.6915, 5151,    929.4,   3.9671,   3.9673,2,  34.3788,2,  34.3794,2,    196.0,2,    195.3,2,    41.88,2,    32.59,2,     0.00,2,     2.19,2,     0.04,2,    2.114,2,    1.088,2,    0.137,2,    0.736,2,   2212.5,2,   2305.4,2,   -999.0,9,  -999.00,9,-999.0000,9,-999.0000,9,-999.0000,9,   3.9673,2
  49NZ20191229,  I07S,    95,  1,     23,   1223,2,  200107,0438,-39.2456,  57.6915, 5151,   1069.6,   3.6248,   3.6246,2,  34.4108,2,  34.4109,2,    188.4,2,    187.8,2,    48.63,2,    33.66,2,     0.00,2,     2.26,2,     0.06,2,    1.715,2,    0.885,2,    0.110,2,    0.592,2,   2219.5,2,   2314.0,2,   -999.0,9,  -999.00,9,-999.0000,9,-999.0000,9,-999.0000,9,   3.6246,2
  49NZ20191229,  I07S,    95,  1,     22,   1222,2,  200107,0438,-39.2456,  57.6915, 5151,   1270.0,   3.1939,   3.1938,2,  34.4861,2,  34.4865,2,    177.7,2,    177.3,2,    59.21,2,    34.38,2,     0.00,2,     2.32,2,     0.03,2,    1.079,2,    0.562,2,    0.069,2,    0.261,2,   2235.9,2,   2322.6,6,   -999.0,9,  -999.00,9,-999.0000,9,-999.0000,9,-999.0000,9,   3.1938,2
  49NZ20191229,  I07S,    95,  1,     21,   1221,2,  200107,0438,-39.2456,  57.6915, 5151,   1469.4,   2.8891,   2.8889,2,  34.5750,2,  34.5751,2,    174.2,2,    173.8,2,    66.67,2,    33.93,2,     0.00,2,     2.29,2,     0.04,2,    0.589,2,    0.321,2,    0.037,2,    0.197,2,   2243.4,2,   2331.0,2,   -999.0,9,  -999.00,9,-999.0000,9,-999.0000,9,-999.0000,9,   2.8889,2
  49NZ20191229,  I07S,    95,  1,     20,   1220,2,  200107,0438,-39.2456,  57.6915, 5151,   1669.4,   2.7370,   2.7368,2,  34.6438,2,  34.6438,2,    178.0,2,    177.7,2,    69.77,2,    32.79,2,     0.00,2,     2.21,2,        0,2,    0.357,2,    0.202,2,    0.025,2,    0.084,2,   2245.2,2,   2338.2,2,   -999.0,9,  -999.00,9,-999.0000,9,-999.0000,9,-999.0000,9,   2.7368,2
  49NZ20191229,  I07S,    95,  1,     19,   1219,2,  200107,0438,-39.2456,  57.6915, 5151,   1869.5,   2.5737,   2.5737,2,  34.6991,2,  34.6990,2,    184.7,2,    184.2,2,    71.85,2,    31.82,2,     0.00,2,     2.13,2,     0.03,2,    0.223,2,    0.128,2,    0.012,2,    0.074,2,   2241.8,2,   2341.2,2,   -999.0,9,  -999.00,9,-999.0000,9,-999.0000,9,-999.0000,9,   2.5737,2
  49NZ20191229,  I07S,    95,  1,     18,   1218,2,  200107,0438,-39.2456,  57.6915, 5151,   2071.0,   2.4283,   2.4289,2,  34.7290,2,  34.7296,2,    189.5,2,    189.0,2,    74.89,2,    31.08,2,     0.00,2,     2.09,2,     0.02,2,    0.160,2,    0.094,2,    0.011,2,    0.076,2,   2241.5,2,   2344.0,2,   -999.0,9,  -999.00,9,-999.0000,9,-999.0000,9,-999.0000,9,   2.4289,2
  49NZ20191229,  I07S,    95,  1,     17,   1217,2,  200107,0438,-39.2456,  57.6915, 5151,   2271.3,   2.2622,   2.2622,2,  34.7375,2,  34.7376,2,    189.2,2,    188.7,2,    83.08,2,    31.21,2,     0.00,2,     2.11,2,     0.02,2,    0.102,2,    0.058,2,    0.004,2,     0.02,2,   2250.2,2,   2352.2,2,   -999.0,9,  -999.00,9,-999.0000,9,-999.0000,9,-999.0000,9,   2.2622,2
  49NZ20191229,  I07S,    95,  1,     16,   1216,2,  200107,0438,-39.2456,  57.6915, 5151,   2473.0,   2.1263,   2.1261,2,  34.7543,2,  34.7542,2,    195.3,2,    194.9,2,    84.00,2,    30.67,2,     0.00,2,     2.06,2,     0.04,2,    0.102,2,    0.060,2,    0.008,2,    0.018,2,   2244.7,6,   2352.1,2,   -999.0,9,  -999.00,9,-999.0000,9,-999.0000,9,-999.0000,9,   2.1261,2
  49NZ20191229,  I07S,    95,  1,     15,   1215,2,  200107,0438,-39.2456,  57.6915, 5151,   2671.0,   1.9837,   1.9837,2,  34.7532,2,  34.7534,2,    195.2,2,    194.9,2,    90.27,2,    30.98,2,     0.00,2,     2.09,2,     0.04,2,    0.090,2,    0.051,2,    0.006,2,     0.01,2,   2249.9,2,   2358.4,2,   -999.0,9,  -999.00,9,-999.0000,9,-999.0000,9,-999.0000,9,   1.9837,2
  49NZ20191229,  I07S,    95,  1,     14,   1214,2,  200107,0438,-39.2456,  57.6915, 5151,   2870.0,   1.7788,   1.7785,2,  34.7483,2,  34.7492,2,    196.9,2,    196.5,2,    96.58,2,    31.23,2,     0.00,2,     2.11,2,     0.05,2,    0.092,2,    0.054,2,    0.005,2,    0.012,2,   2254.4,2,   2361.6,2,   -999.0,9,  -999.00,9,-999.0000,9,-999.0000,9,-999.0000,9,   1.7785,2
  49NZ20191229,  I07S,    95,  1,     13,   1213,2,  200107,0438,-39.2456,  57.6915, 5151,   3081.7,   1.6304,   1.6301,2,  34.7454,2,  34.7457,2,    201.6,2,    201.4,2,    97.93,2,    31.04,2,     0.00,2,     2.10,2,     0.03,2,    0.122,2,    0.071,2,    0.006,2,    0.045,2,   2254.1,2,   2359.9,2,   -999.0,9,  -999.00,9,-999.0000,9,-999.0000,9,-999.0000,9,   1.6301,2
  49NZ20191229,  I07S,    95,  1,     12,   1212,2,  200107,0438,-39.2456,  57.6915, 5151,   3331.2,   1.4071,   1.4068,2,  34.7337,2,  34.7335,2,    203.5,2,    203.3,2,   104.79,2,    31.87,2,     0.00,2,     2.14,2,     0.05,2,    0.138,2,    0.078,2,    0.006,2,    0.035,2,   2254.4,2,   2360.8,6,   -999.0,9,  -999.00,9,-999.0000,9,-999.0000,9,-999.0000,9,   1.4068,2
  49NZ20191229,  I07S,    95,  1,     11,   1211,2,  200107,0438,-39.2456,  57.6915, 5151,   3581.3,   1.1537,   1.1514,2,  34.7209,2,  34.7209,2,    207.6,2,    207.5,2,   111.03,2,    32.27,2,     0.00,2,     2.16,2,     0.05,2,    0.181,2,    0.103,2,    0.014,2,    0.059,2,   2255.2,2,   2359.5,2,   -999.0,9,  -999.00,9,-999.0000,9,-999.0000,9,-999.0000,9,   1.1514,2
  49NZ20191229,  I07S,    95,  1,     10,   1210,2,  200107,0438,-39.2456,  57.6915, 5151,   3830.9,   0.7947,   0.7944,2,  34.7021,2,  34.7024,2,    212.6,2,    212.1,2,   120.97,2,    32.59,2,     0.00,2,     2.20,2,     0.03,2,    0.225,2,    0.126,2,    0.012,2,    0.061,2,   2254.3,2,   2362.4,2,   -999.0,9,  -999.00,9,-999.0000,9,-999.0000,9,-999.0000,9,   0.7944,2
  49NZ20191229,  I07S,    95,  1,      9,   1209,2,  200107,0438,-39.2456,  57.6915, 5151,   4081.1,   0.5803,   0.5802,2,  34.6903,2,  34.6900,2,    216.2,2,    215.8,2,   128.44,2,    32.92,2,     0.00,2,     2.23,2,     0.02,2,    0.240,2,    0.135,2,    0.013,2,    0.094,2,   2257.8,2,   2360.5,2,   -999.0,9,  -999.00,9,-999.0000,9,-999.0000,9,-999.0000,9,   0.5802,2
  49NZ20191229,  I07S,    95,  1,      8,  12103,2,  200107,0438,-39.2456,  57.6915, 5151,   4330.8,   0.4917,   0.4918,2,  34.6849,2,  34.6847,2,    218.2,2,    217.7,2,   132.29,2,    33.12,2,     0.00,2,     2.24,2,     0.01,2,    0.260,2,    0.144,2,    0.015,2,    0.096,2,   2258.2,6,   2360.1,2,   -999.0,9,  -999.00,9,-999.0000,9,-999.0000,9,-999.0000,9,   0.4918,2
  49NZ20191229,  I07S,    95,  1,      7,   1207,2,  200107,0438,-39.2456,  57.6915, 5151,   4580.5,   0.4739,   0.4740,2,  34.6826,2,  34.6830,2,    218.7,2,    218.4,2,   133.70,2,    33.31,2,     0.00,2,     2.24,2,     0.01,2,    0.262,2,    0.146,2,    0.010,2,    0.127,2,   2258.6,2,   2362.1,2,   -999.0,9,  -999.00,9,-999.0000,9,-999.0000,9,-999.0000,9,   0.4740,2
  49NZ20191229,  I07S,    95,  1,      6,   1206,2,  200107,0438,-39.2456,  57.6915, 5151,   4830.9,   0.4617,   0.4617,2,  34.6806,2,  34.6810,2,    219.3,2,    219.6,2,   135.07,2,    33.83,2,     0.00,2,     2.25,2,     0.02,2,    0.279,2,    0.155,2,    0.017,2,    0.069,2,   -999.0,9,   2361.6,6,   -999.0,9,  -999.00,9,-999.0000,9,-999.0000,9,-999.0000,9,   0.4617,2
  49NZ20191229,  I07S,    95,  1,      5,   1205,2,  200107,0438,-39.2456,  57.6915, 5151,   5080.1,   0.4628,   0.4629,2,  34.6791,2,  34.6792,2,    219.7,2,    219.5,2,   136.39,2,    33.50,2,     0.00,2,     2.26,2,     0.02,2,    0.294,2,    0.162,2,    0.018,2,    0.076,2,   2257.8,2,   2361.1,2,   -999.0,9,  -999.00,9,-999.0000,9,-999.0000,9,-999.0000,9,   0.4629,2
  49NZ20191229,  I07S,    95,  1,      2,  12046,2,  200107,0438,-39.2456,  57.6915, 5151,     23.6,  12.9774,  12.9779,2,  34.6523,2,  34.6488,2,    287.0,2,    284.3,2,     0.17,2,     4.93,2,     0.11,2,     0.48,2,      0.5,2, -999.000,9, -999.000,9, -999.000,9,     -999,9,   2064.8,2,   2299.8,2,   -999.0,9,     1.12,2,-999.0000,9,-999.0000,9,-999.0000,9,  12.9779,2
  49NZ20191229,  I07S,    95,  1,      1,   1201,2,  200107,0438,-39.2456,  57.6915, 5151,   5229.2,   0.4811,   0.4810,2,  34.6790,2,  34.6794,2,    219.7,2,    219.5,2,   136.45,2,    33.48,2,     0.00,2,     2.26,2,     0.06,2,    0.288,2,    0.161,2,    0.014,2,    0.075,2,   2261.7,2,   2361.2,2,   -999.0,9,  -999.00,9,-999.0000,9,-999.0000,9,-999.0000,9,   0.4810,2