BOTTLE,20210310PRINUNIVRMK
EXPOCODE,SECT_ID,STNNBR,CASTNO,SAMPNO,BTLNBR,BTLNBR_FLAG_W,DATE,TIME,LATITUDE,LONGITUDE,DEPTH,CTDPRS,CTDTMP,SBE35,SBE35_FLAG_W,CTDSAL,CTDSAL_FLAG_W,SALNTY,SALNTY_FLAG_W,CTDOXY,CTDOXY_FLAG_W,OXYGEN,OXYGEN_FLAG_W,SILCAT,SILCAT_FLAG_W,NITRAT,NITRAT_FLAG_W,NITRIT,NITRIT_FLAG_W,PHSPHT,PHSPHT_FLAG_W,NH4,NH4_FLAG_W,CFC-11,CFC-11_FLAG_W,CFC-12,CFC-12_FLAG_W,CFC113,CFC113_FLAG_W,SF6,SF6_FLAG_W,TCARBN,TCARBN_FLAG_W,ALKALI,ALKALI_FLAG_W,DOC,DOC_FLAG_W,CHLORA,CHLORA_FLAG_W,CDOM300,CDOM300_FLAG_W,CDOM325,CDOM325_FLAG_W,CDOM443,CDOM443_FLAG_W,SBE35,SBE35_FLAG_W
,,,,,,,,,,,METERS,DBAR,ITS-90,,,PSS-78,,PSS-78,,UMOL/KG,,UMOL/KG,,UMOL/KG,,UMOL/KG,,UMOL/KG,,UMOL/KG,,UMOL/KG,,PMOL/KG,,PMOL/KG,,PMOL/KG,,FMOL/KG,,UMOL/KG,,UMOL/KG,,UMOL/KG,,UG/L,,1/M,,1/M,,1/M,,,
  49NZ20191229,  I07S,   126,  1,     36,   1236,5,  200116,0634,-54.0207,  56.4988, 3496,      4.6,   3.2578,   3.2604,4,  33.9002,2,-999.0000,9,    325.4,2,   -999.0,9,  -999.00,9,  -999.00,9,  -999.00,9,  -999.00,9,     -999,9, -999.000,9, -999.000,9, -999.000,9,     -999,9,   -999.0,9,   -999.0,9,   -999.0,9,  -999.00,9,-999.0000,9,-999.0000,9,-999.0000,9,   3.2604,4
  49NZ20191229,  I07S,   126,  1,     35,   1235,2,  200116,0634,-54.0207,  56.4988, 3496,     10.3,   3.2500,   3.2550,2,  33.9002,2,  33.9004,2,    325.2,2,    326.1,2,    16.88,2,    25.21,2,     0.22,2,     1.64,2,     0.21,2,    4.916,2,    2.727,2,    0.474,2,    4.017,2,   2149.8,2,   2286.0,2,     40.9,2,     0.49,4,   0.2150,2,   0.1050,2,   0.0100,2,   3.2550,2
  49NZ20191229,  I07S,   126,  1,     34,   1234,5,  200116,0634,-54.0207,  56.4988, 3496,     39.2,   3.2156,   3.2183,4,  33.9016,2,-999.0000,9,    325.0,2,   -999.0,9,  -999.00,9,  -999.00,9,  -999.00,9,  -999.00,9,     -999,9, -999.000,9, -999.000,9, -999.000,9,     -999,9,   -999.0,9,   -999.0,9,   -999.0,9,  -999.00,9,-999.0000,9,-999.0000,9,-999.0000,9,   3.2183,4
  49NZ20191229,  I07S,   126,  1,     33,   1233,2,  200116,0634,-54.0207,  56.4988, 3496,     50.2,   3.2114,   3.2078,4,  33.9018,2,  33.9039,2,    325.0,2,    326.4,2,    17.23,2,    25.43,2,     0.21,2,     1.63,2,     0.23,2,    4.894,2,    2.737,2,    0.469,2,    3.977,2,   2148.4,2,   2286.6,2,     48.2,2,     0.54,4,   0.2190,2,   0.1070,2,   0.0220,2,   3.2078,4
  49NZ20191229,  I07S,   126,  1,     32,   1232,2,  200116,0634,-54.0207,  56.4988, 3496,     74.5,   3.1206,   3.1230,4,  33.9094,2,  33.9129,2,    324.8,2,    326.0,2,    18.16,2,    25.53,2,     0.21,2,     1.65,2,     0.32,2, -999.000,9, -999.000,9, -999.000,9,     -999,9,   2157.9,2,   2288.0,2,     45.4,2,     0.48,4,   0.2300,2,   0.1150,2,   0.0270,2,   3.1230,4
  49NZ20191229,  I07S,   126,  1,     31,   1231,2,  200116,0634,-54.0207,  56.4988, 3496,     99.0,   2.2402,   2.4959,4,  33.9570,2,  33.9521,2,    324.4,2,    324.2,2,    29.40,2,    27.07,2,     0.21,2,     1.88,2,     0.72,2,    5.137,2,    2.808,2,    0.492,2,    4.007,2,   2166.9,2,   2289.5,2,     42.6,2,     0.40,4,   0.2290,2,   0.1190,2,   0.0170,2,   2.4959,4
  49NZ20191229,  I07S,   126,  1,     30,   1230,2,  200116,0634,-54.0207,  56.4988, 3496,    147.5,   1.4637,   1.4638,4,  34.0128,2,  34.0131,2,    311.8,2,    312.1,2,    39.22,2,    29.64,2,     0.15,2,     2.02,2,     0.05,2,    5.032,2,    2.727,2,    0.477,2,    3.852,2,   2182.4,2,   2292.0,2,     48.4,2,     0.04,2,   0.2220,2,   0.1070,2,   0.0140,2,   1.4638,4
  49NZ20191229,  I07S,   126,  1,     29,   1229,2,  200116,0634,-54.0207,  56.4988, 3496,    198.1,   1.7658,   1.7647,4,  34.1169,2,  34.1146,2,    271.2,2,    271.6,2,    43.23,2,    31.57,2,     0.02,2,     2.14,2,     0.03,2,    4.153,2,    2.216,2,    0.375,2,    2.794,2,   2198.7,2,   2299.6,2,     28.9,4,     0.02,2,   0.2440,2,   0.1160,2,   0.0210,2,   1.7647,4
  49NZ20191229,  I07S,   126,  1,     28,   1228,2,  200116,0634,-54.0207,  56.4988, 3496,    250.6,   2.1460,   2.1429,4,  34.2308,2,  34.2300,2,    228.2,2,    228.3,2,    49.52,2,    33.56,2,     0.01,2,     2.27,2,     0.03,2,    3.180,2,    1.677,2,    0.267,2,     1.84,2,   2220.8,2,   2299.5,2,   -999.0,9,     0.01,2,-999.0000,9,-999.0000,9,-999.0000,9,   2.1429,4
  49NZ20191229,  I07S,   126,  1,     27,   1227,2,  200116,0634,-54.0207,  56.4988, 3496,    279.2,   2.0651,   2.0890,2,  34.2588,2,  34.2569,2,    224.1,2,    224.3,2,    52.82,2,    33.83,2,     0.01,2,     2.29,2,     0.03,2,    3.006,2,    1.583,2,    0.252,2,     1.75,2,   2226.4,2,   2303.8,2,     44.8,2,  -999.00,9,   0.2540,2,   0.1310,2,   0.0230,2,   2.0890,2
  49NZ20191229,  I07S,   126,  1,     26,   1226,2,  200116,0634,-54.0207,  56.4988, 3496,    370.0,   2.2235,   2.1970,2,  34.3676,2,  34.3687,2,    196.9,2,    197.6,2,    61.32,2,    34.88,2,     0.01,2,     2.36,2,     0.03,2,    2.105,2,    1.100,2,    0.170,2,    1.093,2,   2235.0,2,   2312.6,2,     44.4,2,  -999.00,9,   0.3010,2,   0.1690,2,   0.0370,2,   2.1970,2
  49NZ20191229,  I07S,   126,  1,     25,   1225,2,  200116,0634,-54.0207,  56.4988, 3496,    469.0,   2.2714,   2.2565,2,  34.4571,2,  34.4579,2,    181.4,2,    182.0,2,    68.06,2,    35.07,2,     0.00,2,     2.38,2,     0.03,2,    1.454,2,    0.777,2,    0.118,2,    0.685,2,   2245.5,2,   2326.3,2,     42.4,2,  -999.00,9,   0.3030,2,   0.1500,2,   0.0230,2,   2.2565,2
  49NZ20191229,  I07S,   126,  1,     24,   1224,2,  200116,0634,-54.0207,  56.4988, 3496,    569.1,   2.3600,   2.3570,2,  34.5389,2,  34.5387,2,    171.7,2,    172.3,2,    72.46,2,    34.85,2,     0.00,2,     2.36,2,     0.03,2,    0.911,2,    0.499,2,    0.071,2,     0.37,2,   2251.5,2,   2327.6,2,     41.3,2,  -999.00,9,   0.2840,2,   0.1430,2,   0.0210,2,   2.3570,2
  49NZ20191229,  I07S,   126,  1,     23,   1223,2,  200116,0634,-54.0207,  56.4988, 3496,    669.4,   2.3467,   2.3535,2,  34.6020,2,  34.6017,2,    170.0,2,    170.6,2,    75.81,2,    34.19,2,     0.01,2,     2.32,2,     0.03,2,    0.620,2,    0.347,2,    0.049,2,    0.238,2,   2252.6,6,   2336.3,2,   -999.0,9,  -999.00,9,-999.0000,9,-999.0000,9,-999.0000,9,   2.3535,2
  49NZ20191229,  I07S,   126,  1,     22,   1222,2,  200116,0634,-54.0207,  56.4988, 3496,    767.8,   2.3437,   2.3425,2,  34.6489,2,  34.6488,2,    172.5,2,    173.4,2,    77.05,2,    33.33,2,     0.00,2,     2.26,2,     0.03,2,    0.434,2,    0.252,2,    0.031,2,    0.164,2,   2252.5,2,   2336.8,2,     42.6,2,  -999.00,9,   0.2990,2,   0.1560,2,   0.0280,2,   2.3425,2
  49NZ20191229,  I07S,   126,  1,     21,   1221,2,  200116,0634,-54.0207,  56.4988, 3496,    869.1,   2.3051,   2.3067,2,  34.6826,2,  34.6830,2,    176.6,2,    177.2,2,    77.95,2,    32.50,2,     0.00,2,     2.21,2,     0.04,2,    0.343,2,    0.205,2,    0.025,2,     0.11,2,   2250.6,2,   2338.4,2,   -999.0,9,  -999.00,9,-999.0000,9,-999.0000,9,-999.0000,9,   2.3067,2
  49NZ20191229,  I07S,   126,  1,     20,   1220,2,  200116,0634,-54.0207,  56.4988, 3496,    968.4,   2.2485,   2.2487,2,  34.7064,2,  34.7068,2,    180.8,2,    181.3,2,    78.75,2,    31.97,2,     0.00,2,     2.16,2,     0.03,2,    0.291,2,    0.177,2,    0.023,2,    0.122,2,   2246.2,2,   2341.9,2,     40.8,2,  -999.00,9,   0.2910,2,   0.1560,2,   0.0180,2,   2.2487,2
  49NZ20191229,  I07S,   126,  1,     19,   1219,2,  200116,0634,-54.0207,  56.4988, 3496,   1129.0,   2.1745,   2.1790,2,  34.7309,2,  34.7307,2,    186.6,2,    187.3,2,    79.52,2,    31.15,2,     0.00,2,     2.11,2,     0.03,2,    0.239,2,    0.147,2,    0.017,2,    0.067,2,   2242.4,2,   2346.2,6,     45.4,2,  -999.00,9,-999.0000,9,-999.0000,9,-999.0000,9,   2.1790,2
  49NZ20191229,  I07S,   126,  1,     18,   1218,2,  200116,0634,-54.0207,  56.4988, 3496,   1927.9,   1.5028,   1.5074,2,  34.7478,2,  34.7477,2,    203.9,2,    204.7,2,    93.10,2,    30.25,2,     0.00,2,     2.06,2,     0.04,2,    0.203,2,    0.128,2,    0.015,2,    0.135,2,   2244.5,2,   2350.8,2,   -999.0,9,  -999.00,9,-999.0000,9,-999.0000,9,-999.0000,9,   1.5074,2
  49NZ20191229,  I07S,   126,  1,     17,   1217,2,  200116,0634,-54.0207,  56.4988, 3496,   2127.8,   1.3375,   1.3379,2,  34.7383,2,  34.7383,2,    204.8,2,    205.7,2,    98.01,2,    30.75,2,     0.00,2,     2.09,2,     0.03,2,    0.226,2,    0.142,2,    0.018,2,    0.037,2,   2245.3,2,   2352.5,2,     38.8,2,  -999.00,9,   0.2870,2,   0.1500,2,   0.0270,2,   1.3379,2
  49NZ20191229,  I07S,   126,  1,     16,   1216,2,  200116,0634,-54.0207,  56.4988, 3496,   2328.3,   1.1452,   1.1494,2,  34.7252,2,  34.7251,2,    205.4,2,    206.3,2,   104.43,2,    31.34,2,     0.00,2,     2.13,2,     0.03,2,    0.270,2,    0.166,2,    0.024,2,    0.068,2,   2252.0,6,   2353.5,2,   -999.0,9,  -999.00,9,-999.0000,9,-999.0000,9,-999.0000,9,   1.1494,2
  49NZ20191229,  I07S,   126,  1,     15,  12102,2,  200116,0634,-54.0207,  56.4988, 3496,   2528.1,   0.9846,   0.9861,2,  34.7156,2,  34.7152,2,    206.8,2,    207.5,2,   109.48,2,    31.68,2,     0.00,2,     2.16,2,     0.02,2,    0.295,2,    0.179,2,    0.021,2,    0.095,2,   2250.4,2,   2357.4,2,     42.8,2,  -999.00,9,   0.2940,2,   0.1520,2,   0.0300,2,   0.9861,2
  49NZ20191229,  I07S,   126,  1,     14,   1214,2,  200116,0634,-54.0207,  56.4988, 3496,   2728.2,   0.7843,   0.7853,2,  34.7016,2,  34.7015,2,    207.0,2,    207.6,2,   115.68,2,    32.41,2,     0.00,2,     2.21,2,     0.02,2,    0.354,2,    0.210,2,    0.022,2,    0.278,2,   2255.2,2,   2358.4,2,   -999.0,9,  -999.00,9,-999.0000,9,-999.0000,9,-999.0000,9,   0.7853,2
  49NZ20191229,  I07S,   126,  1,     13,  12105,2,  200116,0634,-54.0207,  56.4988, 3496,   2933.2,   0.6704,   0.6704,2,  34.6946,2,  34.6951,2,    207.8,2,    208.5,2,   119.53,2,    32.70,2,     0.00,2,     2.23,2,     0.03,2,    0.379,2,    0.222,2,    0.026,2,    0.107,2,   2255.1,2,   2354.7,2,     40.1,2,  -999.00,9,   0.2920,2,   0.1530,2,   0.0340,2,   0.6704,2
  49NZ20191229,  I07S,   126,  1,     12,   1211,2,  200116,0634,-54.0207,  56.4988, 3496,   3172.2,   0.5248,   0.5248,2,  34.6870,2,  34.6867,2,    210.5,2,    211.1,2,   124.08,2,    32.81,2,     0.00,2,     2.25,2,     0.03,2,    0.391,2,    0.226,2,    0.022,2,    0.109,2,   2258.3,2,   2355.8,6,   -999.0,9,  -999.00,9,-999.0000,9,-999.0000,9,-999.0000,9,   0.5248,2
  49NZ20191229,  I07S,   126,  1,     11,  12106,2,  200116,0634,-54.0207,  56.4988, 3496,   3422.1,   0.4422,   0.4424,2,  34.6832,2,  34.6823,2,    213.5,2,    214.3,2,   126.90,2,    32.82,2,     0.01,2,     2.25,2,     0.04,2,    0.380,2,    0.219,2,    0.025,2,    0.107,2,   2257.5,2,   2357.1,2,     37.9,2,  -999.00,9,   0.2900,2,   0.1510,2,   0.0290,2,   0.4424,2
  49NZ20191229,  I07S,   126,  1,     10,   1210,2,  200116,0634,-54.0207,  56.4988, 3496,   1328.4,   2.0422,   2.0467,2,  34.7489,2,  34.7484,2,    192.9,2,    193.6,2,    81.22,2,    30.23,2,     0.00,2,     2.06,2,     0.01,2,    0.205,2,    0.128,2,    0.014,2,    0.066,2,   2240.3,2,   2347.6,2,     42.4,2,  -999.00,9,   0.2830,2,   0.1510,2,   0.0230,2,   2.0467,2
  49NZ20191229,  I07S,   126,  1,      9,  12101,2,  200116,0634,-54.0207,  56.4988, 3496,   1528.5,   1.8747,   1.8783,2,  34.7547,2,  34.7543,2,    197.7,2,    198.5,2,    84.50,2,    30.15,2,     0.00,2,     2.05,2,     0.02,2,    0.197,2,    0.125,2,    0.015,2,    0.073,2,   2240.5,2,   2345.8,2,   -999.0,9,  -999.00,9,-999.0000,9,-999.0000,9,-999.0000,9,   1.8783,2
  49NZ20191229,  I07S,   126,  1,      1,   1201,2,  200116,0634,-54.0207,  56.4988, 3496,   3579.8,   0.3717,   0.3717,2,  34.6798,2,  34.6794,2,    216.3,2,    216.3,2,   129.10,2,    32.97,2,     0.00,2,     2.25,2,     0.03,2,    0.379,2,    0.217,2,    0.023,2,    0.125,2,   2257.7,2,   2354.3,2,     38.0,2,  -999.00,9,   0.2820,2,   0.1480,2,   0.0240,2,   0.3717,2