BOTTLE,20210310PRINUNIVRMK
EXPOCODE,SECT_ID,STNNBR,CASTNO,SAMPNO,BTLNBR,BTLNBR_FLAG_W,DATE,TIME,LATITUDE,LONGITUDE,DEPTH,CTDPRS,CTDTMP,SBE35,SBE35_FLAG_W,CTDSAL,CTDSAL_FLAG_W,SALNTY,SALNTY_FLAG_W,CTDOXY,CTDOXY_FLAG_W,OXYGEN,OXYGEN_FLAG_W,SILCAT,SILCAT_FLAG_W,NITRAT,NITRAT_FLAG_W,NITRIT,NITRIT_FLAG_W,PHSPHT,PHSPHT_FLAG_W,NH4,NH4_FLAG_W,CFC-11,CFC-11_FLAG_W,CFC-12,CFC-12_FLAG_W,CFC113,CFC113_FLAG_W,SF6,SF6_FLAG_W,TCARBN,TCARBN_FLAG_W,ALKALI,ALKALI_FLAG_W,DOC,DOC_FLAG_W,CHLORA,CHLORA_FLAG_W,CDOM300,CDOM300_FLAG_W,CDOM325,CDOM325_FLAG_W,CDOM443,CDOM443_FLAG_W,SBE35,SBE35_FLAG_W
,,,,,,,,,,,METERS,DBAR,ITS-90,,,PSS-78,,PSS-78,,UMOL/KG,,UMOL/KG,,UMOL/KG,,UMOL/KG,,UMOL/KG,,UMOL/KG,,UMOL/KG,,PMOL/KG,,PMOL/KG,,PMOL/KG,,FMOL/KG,,UMOL/KG,,UMOL/KG,,UMOL/KG,,UG/L,,1/M,,1/M,,1/M,,,
  49NZ20191229,  I07S,   144,  1,     36,   1236,2,  200120,0232,-62.0552,  54.1041, 5058,     10.7,   0.7876,   0.7865,2,  33.6280,2,  33.6288,2,    343.2,2,    344.3,2,    33.31,2,    24.60,2,     0.31,2,     1.70,2,     0.55,2,    5.974,2,    3.149,2,    0.550,2,    4.377,2,   2155.0,2,   2278.4,2,   -999.0,9,     0.11,2,-999.0000,9,-999.0000,9,-999.0000,9,   0.7865,2
  49NZ20191229,  I07S,   144,  1,     35,   1235,2,  200120,0232,-62.0552,  54.1041, 5058,     50.2,  -0.8663,  -0.8645,2,  33.7934,2,  33.7976,2,    366.1,2,    366.6,2,    33.04,2,    24.38,2,     0.19,2,     1.70,2,     0.52,2,    6.196,2,    3.245,2,    0.560,2,    4.411,2,   2163.4,2,   2292.9,2,   -999.0,9,     0.19,2,-999.0000,9,-999.0000,9,-999.0000,9,  -0.8645,2
  49NZ20191229,  I07S,   144,  1,     34,   1234,2,  200120,0232,-62.0552,  54.1041, 5058,    100.6,  -1.0484,  -1.0505,2,  34.1152,2,  34.1187,2,    308.1,2,    306.3,2,    53.95,2,    29.80,2,     0.25,2,     2.07,2,     0.14,2,    5.055,2,    2.644,2,    0.453,2,    3.469,2,   2212.2,2,   2308.2,2,   -999.0,9,     0.13,2,-999.0000,9,-999.0000,9,-999.0000,9,  -1.0505,2
  49NZ20191229,  I07S,   144,  1,     33,   1233,2,  200120,0232,-62.0552,  54.1041, 5058,    150.4,   1.5581,   1.5581,2,  34.5065,2,  34.5062,2,    183.6,2,    183.2,2,    79.51,2,    35.40,2,     0.03,2,     2.43,2,     0.06,2,    1.621,2,    0.858,2,    0.133,2,    0.903,2,   2262.9,2,   2330.1,2,   -999.0,9,     0.05,2,-999.0000,9,-999.0000,9,-999.0000,9,   1.5581,2
  49NZ20191229,  I07S,   144,  1,     32,   1232,2,  200120,0232,-62.0552,  54.1041, 5058,    199.9,   1.7635,   1.7631,2,  34.5781,2,  34.5773,2,    173.0,2,    172.6,2,    83.99,2,    35.17,2,     0.01,2,     2.42,2,     0.05,2,    1.082,2,    0.589,2,    0.087,2,    0.448,2,   2264.9,2,   2335.9,2,   -999.0,9,     0.02,2,-999.0000,9,-999.0000,9,-999.0000,9,   1.7631,2
  49NZ20191229,  I07S,   144,  1,     31,   1231,2,  200120,0232,-62.0552,  54.1041, 5058,    250.5,   1.8286,   1.8283,2,  34.6196,2,  34.6194,2,    171.3,2,    170.9,2,    85.65,2,    34.60,2,     0.02,2,     2.37,2,     0.04,2,    0.818,2,    0.450,2,    0.068,2,     0.41,2,   2265.0,2,   2341.2,2,   -999.0,9,     0.01,2,-999.0000,9,-999.0000,9,-999.0000,9,   1.8283,2
  49NZ20191229,  I07S,   144,  1,     30,   1230,2,  200120,0232,-62.0552,  54.1041, 5058,    300.1,   1.8514,   1.8513,2,  34.6461,2,  34.6450,2,    172.2,2,    172.0,2,    86.61,2,    34.13,2,     0.01,2,     2.33,2,     0.04,2,    0.676,2,    0.377,2,    0.057,2,    0.341,2,   2265.8,2,   2342.0,2,   -999.0,9,  -999.00,9,-999.0000,9,-999.0000,9,-999.0000,9,   1.8513,2
  49NZ20191229,  I07S,   144,  1,     29,   1229,2,  200120,0232,-62.0552,  54.1041, 5058,    400.2,   1.7872,   1.7869,2,  34.6794,2,  34.6792,2,    177.4,2,    177.2,2,    88.51,2,    33.25,2,     0.01,2,     2.27,2,     0.03,2,    0.536,2,    0.306,2,    0.045,2,    0.262,2,   2261.8,2,   2347.7,2,   -999.0,9,  -999.00,9,-999.0000,9,-999.0000,9,-999.0000,9,   1.7869,2
  49NZ20191229,  I07S,   144,  1,     28,   1228,2,  200120,0232,-62.0552,  54.1041, 5058,    498.3,   1.7622,   1.7633,2,  34.7043,2,  34.7040,2,    182.0,2,    181.8,2,    89.39,2,    32.50,2,     0.01,2,     2.22,2,     0.03,2,    0.426,2,    0.247,2,    0.036,2,    0.207,2,   2254.9,2,   2348.0,2,   -999.0,9,  -999.00,9,-999.0000,9,-999.0000,9,-999.0000,9,   1.7633,2
  49NZ20191229,  I07S,   144,  1,     27,   1227,2,  200120,0232,-62.0552,  54.1041, 5058,    600.4,   1.6865,   1.6864,2,  34.7170,2,  34.7171,2,    186.6,2,    186.4,2,    90.69,2,    31.97,2,     0.00,2,     2.18,2,     0.03,2,    0.383,2,    0.217,2,    0.033,2,    0.139,2,   2261.2,2,   2351.3,2,   -999.0,9,  -999.00,9,-999.0000,9,-999.0000,9,-999.0000,9,   1.6864,2
  49NZ20191229,  I07S,   144,  1,     26,   1226,2,  200120,0232,-62.0552,  54.1041, 5058,    699.5,   1.6101,   1.6099,2,  34.7251,2,  34.7249,2,    190.7,2,    190.6,2,    91.82,2,    31.58,2,     0.00,2,     2.16,2,     0.03,2,    0.352,2,    0.203,2,    0.029,2,    0.146,2,   2257.4,6,   2349.8,2,   -999.0,9,  -999.00,9,-999.0000,9,-999.0000,9,-999.0000,9,   1.6099,2
  49NZ20191229,  I07S,   144,  1,     25,   1225,2,  200120,0232,-62.0552,  54.1041, 5058,    800.3,   1.5049,   1.5045,2,  34.7258,2,  34.7258,2,    193.2,2,    193.2,2,    93.84,2,    31.43,2,     0.01,2,     2.14,2,     0.05,2,    0.349,2,    0.203,2,    0.031,2,    0.132,2,   2254.5,2,   2351.6,2,   -999.0,9,  -999.00,9,-999.0000,9,-999.0000,9,-999.0000,9,   1.5045,2
  49NZ20191229,  I07S,   144,  1,     24,   1224,2,  200120,0232,-62.0552,  54.1041, 5058,    900.2,   1.4308,   1.4306,2,  34.7284,2,  34.7286,2,    196.2,2,    195.9,2,    95.67,2,    31.31,2,     0.01,2,     2.13,2,     0.04,2,    0.328,2,    0.191,2,    0.028,2,    0.166,2,   2256.7,2,   2351.3,2,   -999.0,9,  -999.00,9,-999.0000,9,-999.0000,9,-999.0000,9,   1.4306,2
  49NZ20191229,  I07S,   144,  1,     23,   1223,2,  200120,0232,-62.0552,  54.1041, 5058,   1001.6,   1.3683,   1.3681,2,  34.7308,2,  34.7314,2,    198.9,2,    198.8,2,    96.99,2,    31.19,2,     0.01,2,     2.13,2,     0.05,2,    0.309,2,    0.181,2,    0.028,2,    0.142,2,   2253.1,2,   2353.7,2,   -999.0,9,  -999.00,9,-999.0000,9,-999.0000,9,-999.0000,9,   1.3681,2
  49NZ20191229,  I07S,   144,  1,     22,   1222,2,  200120,0232,-62.0552,  54.1041, 5058,   1200.6,   1.1676,   1.1675,2,  34.7237,2,  34.7240,2,    201.7,2,    201.7,2,   102.11,2,    31.40,2,     0.01,2,     2.15,2,     0.04,2,    0.325,2,    0.187,2,    0.026,2,    0.114,2,   2254.2,2,   2355.1,6,   -999.0,9,  -999.00,9,-999.0000,9,-999.0000,9,-999.0000,9,   1.1675,2
  49NZ20191229,  I07S,   144,  1,     21,   1221,2,  200120,0232,-62.0552,  54.1041, 5058,   1401.7,   0.9593,   0.9594,2,  34.7116,2,  34.7122,2,    202.9,2,    202.7,2,   108.06,2,    31.94,2,     0.01,2,     2.19,2,     0.04,2,    0.369,2,    0.211,2,    0.028,2,    0.145,2,   2258.8,2,   2357.2,2,   -999.0,9,  -999.00,9,-999.0000,9,-999.0000,9,-999.0000,9,   0.9594,2
  49NZ20191229,  I07S,   144,  1,     20,   1220,2,  200120,0232,-62.0552,  54.1041, 5058,   1600.0,   0.8043,   0.8044,2,  34.7045,2,  34.7047,2,    204.8,2,    204.7,2,   112.82,2,    32.22,2,     0.01,2,     2.21,2,     0.04,2,    0.385,2,    0.217,2,    0.028,2,    0.114,2,   2262.9,2,   2357.7,2,   -999.0,9,  -999.00,9,-999.0000,9,-999.0000,9,-999.0000,9,   0.8044,2
  49NZ20191229,  I07S,   144,  1,     19,   1219,2,  200120,0232,-62.0552,  54.1041, 5058,   1801.8,   0.6743,   0.6744,2,  34.6972,2,  34.6976,2,    205.7,2,    205.8,2,   116.87,2,    32.57,2,     0.00,2,     2.23,2,     0.04,2,    0.403,2,    0.226,2,    0.028,2,    0.147,2,   2265.0,2,   2359.7,2,   -999.0,9,  -999.00,9,-999.0000,9,-999.0000,9,-999.0000,9,   0.6744,2
  49NZ20191229,  I07S,   144,  1,     18,   1218,2,  200120,0232,-62.0552,  54.1041, 5058,   2000.4,   0.5649,   0.5647,2,  34.6912,2,  34.6917,2,    206.5,2,    206.6,2,   120.28,2,    32.81,2,     0.00,2,     2.25,2,     0.03,2,    0.418,2,    0.229,2,    0.027,2,    0.112,2,   -999.0,9,   2358.4,2,   -999.0,9,  -999.00,9,-999.0000,9,-999.0000,9,-999.0000,9,   0.5647,2
  49NZ20191229,  I07S,   144,  1,     17,   1217,2,  200120,0232,-62.0552,  54.1041, 5058,   2200.4,   0.4739,   0.4742,2,  34.6868,2,  34.6868,2,    208.3,2,    208.4,2,   122.91,2,    32.98,2,     0.00,2,     2.26,2,     0.02,2,    0.417,2,    0.226,2,    0.028,2,    0.094,2,   2263.0,2,   2359.3,2,   -999.0,9,  -999.00,9,-999.0000,9,-999.0000,9,-999.0000,9,   0.4742,2
  49NZ20191229,  I07S,   144,  1,     16,   1216,2,  200120,0232,-62.0552,  54.1041, 5058,   2401.1,   0.3907,   0.3903,2,  34.6826,2,  34.6823,2,    210.5,2,    210.5,2,   125.23,2,    33.07,2,     0.00,2,     2.27,2,     0.03,2,    0.418,2,    0.228,2,    0.030,2,    0.095,2,   2265.6,6,   2358.1,2,   -999.0,9,  -999.00,9,-999.0000,9,-999.0000,9,-999.0000,9,   0.3903,2
  49NZ20191229,  I07S,   144,  1,     15,  12102,2,  200120,0232,-62.0552,  54.1041, 5058,   2600.5,   0.3161,   0.3164,2,  34.6792,2,  34.6792,2,    213.1,2,    213.2,2,   126.86,2,    33.10,2,     0.00,2,     2.27,2,     0.03,2,    0.425,2,    0.229,2,    0.022,2,    0.103,2,   2265.7,2,   2355.8,2,   -999.0,9,  -999.00,9,-999.0000,9,-999.0000,9,-999.0000,9,   0.3164,2
  49NZ20191229,  I07S,   144,  1,     14,   1214,2,  200120,0232,-62.0552,  54.1041, 5058,   2800.9,   0.2471,   0.2468,2,  34.6759,2,  34.6759,2,    215.9,2,    215.8,2,   127.34,2,    32.94,2,     0.00,2,     2.26,2,     0.05,2,    0.435,2,    0.235,2,    0.027,2,    0.074,2,   2264.0,2,   2356.6,2,   -999.0,9,  -999.00,9,-999.0000,9,-999.0000,9,-999.0000,9,   0.2468,2
  49NZ20191229,  I07S,   144,  1,     13,  12105,2,  200120,0232,-62.0552,  54.1041, 5058,   3001.3,   0.1874,   0.1871,2,  34.6732,2,  34.6730,2,    218.7,2,    218.6,2,   128.71,2,    32.91,2,     0.00,2,     2.26,2,     0.04,2,    0.438,2,    0.237,2,    0.026,2,    0.128,2,   2260.8,2,   2357.5,2,   -999.0,9,  -999.00,9,-999.0000,9,-999.0000,9,-999.0000,9,   0.1871,2
  49NZ20191229,  I07S,   144,  1,     12,   1211,2,  200120,0232,-62.0552,  54.1041, 5058,   3251.4,   0.1066,   0.1063,2,  34.6693,2,  34.6691,2,    222.3,2,    222.1,2,   130.21,2,    33.01,2,     0.00,2,     2.26,2,     0.04,2,    0.452,2,    0.245,2,    0.032,2,    0.066,2,   2260.3,2,   2357.5,6,   -999.0,9,  -999.00,9,-999.0000,9,-999.0000,9,-999.0000,9,   0.1063,2
  49NZ20191229,  I07S,   144,  1,     11,  12106,2,  200120,0232,-62.0552,  54.1041, 5058,   3500.4,   0.0369,   0.0368,2,  34.6661,2,  34.6650,2,    225.8,2,    225.6,2,   131.16,2,    32.92,2,     0.00,2,     2.26,2,     0.04,2,    0.462,2,    0.249,2,    0.031,2,    0.094,2,   2261.6,2,   2356.8,2,   -999.0,9,  -999.00,9,-999.0000,9,-999.0000,9,-999.0000,9,   0.0368,2
  49NZ20191229,  I07S,   144,  1,     10,   1210,2,  200120,0232,-62.0552,  54.1041, 5058,   3750.8,  -0.0261,  -0.0262,2,  34.6627,2,  34.6627,2,    229.1,2,    228.9,2,   131.01,2,    32.91,2,     0.00,2,     2.26,2,     0.03,2,    0.503,2,    0.270,2,    0.030,2,    0.123,2,   2256.4,2,   2356.6,2,   -999.0,9,  -999.00,9,-999.0000,9,-999.0000,9,-999.0000,9,  -0.0262,2
  49NZ20191229,  I07S,   144,  1,      9,  12101,2,  200120,0232,-62.0552,  54.1041, 5058,   4000.4,  -0.0727,  -0.0728,2,  34.6607,2,  34.6600,2,    232.0,2,    231.8,2,   132.46,2,    32.79,2,     0.00,2,     2.26,2,     0.02,2,    0.495,2,    0.265,2,    0.031,2,    0.093,2,   2259.0,2,   2355.7,2,   -999.0,9,  -999.00,9,-999.0000,9,-999.0000,9,-999.0000,9,  -0.0728,2
  49NZ20191229,  I07S,   144,  1,      8,  12103,2,  200120,0232,-62.0552,  54.1041, 5058,   4251.7,  -0.1148,  -0.1149,2,  34.6581,2,  34.6583,2,    234.6,2,    234.5,2,   132.44,2,    32.74,2,     0.00,2,     2.25,2,     0.03,2,    0.531,2,    0.286,2,    0.033,2,    0.129,2,   2257.5,6,   2356.4,2,   -999.0,9,  -999.00,9,-999.0000,9,-999.0000,9,-999.0000,9,  -0.1149,2
  49NZ20191229,  I07S,   144,  1,      7,   1207,2,  200120,0232,-62.0552,  54.1041, 5058,   4500.8,  -0.1511,  -0.1514,2,  34.6560,2,  34.6562,2,    236.8,2,    236.7,2,   135.73,2,    32.76,2,     0.00,2,     2.25,2,     0.03,2,    0.533,2,    0.287,2,    0.034,2,    0.126,2,   2257.4,2,   2354.4,2,   -999.0,9,  -999.00,9,-999.0000,9,-999.0000,9,-999.0000,9,  -0.1514,2
  49NZ20191229,  I07S,   144,  1,      6,   1206,2,  200120,0232,-62.0552,  54.1041, 5058,   4749.9,  -0.1762,  -0.1764,2,  34.6542,2,  34.6538,2,    238.5,2,    238.4,2,   138.64,2,    32.74,2,     0.00,2,     2.25,2,     0.04,2,    0.563,2,    0.302,2,    0.036,2,    0.166,2,   2255.7,2,   2354.9,6,   -999.0,9,  -999.00,9,-999.0000,9,-999.0000,9,-999.0000,9,  -0.1764,2
  49NZ20191229,  I07S,   144,  1,      5,   1205,2,  200120,0232,-62.0552,  54.1041, 5058,   5000.2,  -0.1981,  -0.1982,2,  34.6523,2,  34.6524,2,    239.0,2,    239.1,2,   149.20,2,    32.92,2,     0.00,2,     2.26,2,     0.04,2,    0.603,2,    0.321,2,    0.037,2,    0.135,2,   2255.7,2,   2355.1,2,   -999.0,9,  -999.00,9,-999.0000,9,-999.0000,9,-999.0000,9,  -0.1982,2
  49NZ20191229,  I07S,   144,  1,      2,  12046,2,  200120,0232,-62.0552,  54.1041, 5058,     60.8,  -1.5688,  -1.5650,2,  33.8932,2,  33.8974,2,    353.1,2,    352.5,2,    40.62,2,    26.32,2,     0.22,2,     1.88,2,     0.65,2, -999.000,9, -999.000,9, -999.000,9,     -999,9,   2179.9,2,   2294.6,2,   -999.0,9,     0.15,2,-999.0000,9,-999.0000,9,-999.0000,9,  -1.5650,2
  49NZ20191229,  I07S,   144,  1,      1,   1201,2,  200120,0232,-62.0552,  54.1041, 5058,   5149.8,  -0.2082,  -0.2083,2,  34.6508,2,  34.6513,2,    240.4,2,    239.9,2,   147.93,2,    32.85,2,     0.00,2,     2.26,2,     0.03,2,    0.698,2,    0.371,2,    0.046,2,    0.177,2,   2262.4,2,   2356.0,2,   -999.0,9,  -999.00,9,-999.0000,9,-999.0000,9,-999.0000,9,  -0.2083,2