BOTTLE,20210310PRINUNIVRMK
EXPOCODE,SECT_ID,STNNBR,CASTNO,SAMPNO,BTLNBR,BTLNBR_FLAG_W,DATE,TIME,LATITUDE,LONGITUDE,DEPTH,CTDPRS,CTDTMP,SBE35,SBE35_FLAG_W,CTDSAL,CTDSAL_FLAG_W,SALNTY,SALNTY_FLAG_W,CTDOXY,CTDOXY_FLAG_W,OXYGEN,OXYGEN_FLAG_W,SILCAT,SILCAT_FLAG_W,NITRAT,NITRAT_FLAG_W,NITRIT,NITRIT_FLAG_W,PHSPHT,PHSPHT_FLAG_W,NH4,NH4_FLAG_W,CFC-11,CFC-11_FLAG_W,CFC-12,CFC-12_FLAG_W,CFC113,CFC113_FLAG_W,SF6,SF6_FLAG_W,TCARBN,TCARBN_FLAG_W,ALKALI,ALKALI_FLAG_W,DOC,DOC_FLAG_W,CHLORA,CHLORA_FLAG_W,CDOM300,CDOM300_FLAG_W,CDOM325,CDOM325_FLAG_W,CDOM443,CDOM443_FLAG_W,SBE35,SBE35_FLAG_W
,,,,,,,,,,,METERS,DBAR,ITS-90,,,PSS-78,,PSS-78,,UMOL/KG,,UMOL/KG,,UMOL/KG,,UMOL/KG,,UMOL/KG,,UMOL/KG,,UMOL/KG,,PMOL/KG,,PMOL/KG,,PMOL/KG,,FMOL/KG,,UMOL/KG,,UMOL/KG,,UMOL/KG,,UG/L,,1/M,,1/M,,1/M,,,
  49NZ20191229,  I07S,   136,  1,     36,   1236,2,  200118,0253,-58.1856,  55.2636, 5192,      9.4,   1.3475,   1.3476,2,  33.7226,2,  33.7226,2,    341.1,2,    342.3,2,    32.94,2,    25.46,2,     0.30,2,     1.71,2,     0.18,2,    5.804,2,    3.068,2,    0.543,2,    4.305,2,   2158.8,2,   2286.5,2,   -999.0,9,     0.32,2,-999.0000,9,-999.0000,9,-999.0000,9,   1.3476,2
  49NZ20191229,  I07S,   136,  1,     35,   1235,2,  200118,0253,-58.1856,  55.2636, 5192,     51.2,   1.1136,   1.1335,2,  33.7416,2,  33.7425,2,    343.6,2,    344.6,2,    33.60,2,    25.45,2,     0.29,2,     1.75,2,     0.27,2,    5.882,2,    3.113,2,    0.546,2,    4.364,2,   2157.0,2,   2286.3,2,   -999.0,9,     0.40,2,-999.0000,9,-999.0000,9,-999.0000,9,   1.1335,2
  49NZ20191229,  I07S,   136,  1,     34,   1234,2,  200118,0253,-58.1856,  55.2636, 5192,    101.4,  -0.6080,  -0.6130,2,  33.9677,2,  33.9684,2,    343.2,2,    343.6,2,    44.45,2,    28.10,2,     0.29,2,     1.95,2,     0.41,2,    5.887,2,    3.120,2,    0.543,2,    4.362,2,   2185.3,2,   2299.8,2,   -999.0,9,     0.15,2,-999.0000,9,-999.0000,9,-999.0000,9,  -0.6130,2
  49NZ20191229,  I07S,   136,  1,     33,   1233,2,  200118,0253,-58.1856,  55.2636, 5192,    151.8,   0.0345,   0.0394,2,  34.1386,2,  34.1348,2,    290.6,2,    292.0,2,    54.56,2,    31.30,2,     0.02,2,     2.13,2,     0.02,2,    4.653,2,    2.458,2,    0.412,2,    3.255,2,   2209.4,2,   2305.1,2,   -999.0,9,     0.08,2,-999.0000,9,-999.0000,9,-999.0000,9,   0.0394,2
  49NZ20191229,  I07S,   136,  1,     32,   1232,2,  200118,0253,-58.1856,  55.2636, 5192,    199.7,   1.6605,   1.6591,2,  34.4345,2,  34.4323,2,    199.4,2,    199.4,2,    72.17,2,    34.90,2,     0.01,2,     2.39,2,     0.03,2,    2.099,2,    1.110,2,    0.175,2,    1.151,2,   2248.0,2,   2323.8,2,   -999.0,9,     0.01,2,-999.0000,9,-999.0000,9,-999.0000,9,   1.6591,2
  49NZ20191229,  I07S,   136,  1,     31,   1231,2,  200118,0253,-58.1856,  55.2636, 5192,    252.4,   1.8441,   1.8439,2,  34.5022,2,  34.5013,2,    183.9,2,    183.5,2,    75.97,2,    35.16,2,     0.01,2,     2.40,2,     0.05,2,    1.506,2,    0.800,2,    0.129,2,    0.875,2,   2255.3,2,   2329.4,2,   -999.0,9,     0.01,2,-999.0000,9,-999.0000,9,-999.0000,9,   1.8439,2
  49NZ20191229,  I07S,   136,  1,     30,   1230,2,  200118,0253,-58.1856,  55.2636, 5192,    282.4,   1.8972,   1.8968,2,  34.5291,2,  34.5243,2,    179.1,2,    179.4,2,    77.39,2,    35.15,2,     0.01,2,     2.40,2,     0.05,2,    1.320,2,    0.705,2,    0.109,2,    0.721,2,   2257.2,2,   2332.4,2,   -999.0,9,  -999.00,9,-999.0000,9,-999.0000,9,-999.0000,9,   1.8968,2
  49NZ20191229,  I07S,   136,  1,     29,   1229,2,  200118,0253,-58.1856,  55.2636, 5192,    370.1,   1.9973,   1.9972,2,  34.5952,2,  34.5942,2,    171.8,2,    171.6,2,    81.13,2,    34.77,2,     0.01,2,     2.37,2,     0.07,2,    0.850,2,    0.467,2,    0.069,2,     0.43,2,   2258.9,2,   2338.3,2,   -999.0,9,  -999.00,9,-999.0000,9,-999.0000,9,-999.0000,9,   1.9972,2
  49NZ20191229,  I07S,   136,  1,     28,   1228,2,  200118,0253,-58.1856,  55.2636, 5192,    468.4,   2.0070,   2.0068,2,  34.6532,2,  34.6521,2,    172.2,2,    172.0,2,    83.89,2,    33.71,2,     0.01,2,     2.30,2,     0.04,2,    0.564,2,    0.317,2,    0.049,2,    0.276,2,   2259.8,2,   2344.1,2,   -999.0,9,  -999.00,9,-999.0000,9,-999.0000,9,-999.0000,9,   2.0068,2
  49NZ20191229,  I07S,   136,  1,     27,   1227,2,  200118,0253,-58.1856,  55.2636, 5192,    570.7,   1.9793,   1.9792,2,  34.6851,2,  34.6843,2,    176.5,2,    176.4,2,    85.20,2,    33.02,2,     0.01,2,     2.24,2,     0.03,2,    0.444,2,    0.253,2,    0.040,2,    0.234,2,   2259.7,2,   2344.5,2,   -999.0,9,  -999.00,9,-999.0000,9,-999.0000,9,-999.0000,9,   1.9792,2
  49NZ20191229,  I07S,   136,  1,     26,   1226,2,  200118,0253,-58.1856,  55.2636, 5192,    670.7,   1.9398,   1.9397,2,  34.7053,2,  34.7049,2,    180.7,2,    180.6,2,    85.86,2,    32.35,2,     0.01,2,     2.20,2,     0.04,2,    0.376,2,    0.215,2,    0.035,2,    0.191,2,   2255.8,6,   2346.5,2,   -999.0,9,  -999.00,9,-999.0000,9,-999.0000,9,-999.0000,9,   1.9397,2
  49NZ20191229,  I07S,   136,  1,     25,   1225,2,  200118,0253,-58.1856,  55.2636, 5192,    770.7,   1.8765,   1.8763,2,  34.7194,2,  34.7192,2,    184.9,2,    185.0,2,    86.88,2,    31.84,2,     0.01,2,     2.17,2,     0.03,2,    0.336,2,    0.195,2,    0.029,2,    0.131,2,   2257.8,2,   2349.0,2,   -999.0,9,  -999.00,9,-999.0000,9,-999.0000,9,-999.0000,9,   1.8763,2
  49NZ20191229,  I07S,   136,  1,     24,   1224,2,  200118,0253,-58.1856,  55.2636, 5192,    869.9,   1.8148,   1.8149,2,  34.7306,2,  34.7306,2,    189.3,2,    189.3,2,    87.52,2,    31.31,2,     0.01,2,     2.13,2,     0.02,2,    0.300,2,    0.175,2,    0.024,2,    0.052,2,   2251.7,2,   2348.9,2,   -999.0,9,  -999.00,9,-999.0000,9,-999.0000,9,-999.0000,9,   1.8149,2
  49NZ20191229,  I07S,   136,  1,     23,   1223,2,  200118,0253,-58.1856,  55.2636, 5192,    972.3,   1.7239,   1.7238,2,  34.7341,2,  34.7341,2,    192.1,2,    192.0,2,    89.42,2,    31.14,2,     0.01,2,     2.12,2,     0.03,2,    0.294,2,    0.171,2,    0.026,2,    0.146,2,   2251.6,2,   2350.5,2,   -999.0,9,  -999.00,9,-999.0000,9,-999.0000,9,-999.0000,9,   1.7238,2
  49NZ20191229,  I07S,   136,  1,     22,   1222,2,  200118,0253,-58.1856,  55.2636, 5192,   1132.3,   1.5676,   1.5674,2,  34.7378,2,  34.7379,2,    197.2,2,    197.2,2,    92.47,2,    30.88,2,     0.00,2,     2.10,2,     0.03,2,    0.282,2,    0.167,2,    0.023,2,    0.138,2,   2252.6,2,   2353.8,6,   -999.0,9,  -999.00,9,-999.0000,9,-999.0000,9,-999.0000,9,   1.5674,2
  49NZ20191229,  I07S,   136,  1,     21,   1221,2,  200118,0253,-58.1856,  55.2636, 5192,   1330.5,   1.3979,   1.3978,2,  34.7355,2,  34.7353,2,    200.9,2,    200.9,2,    96.37,2,    30.93,2,     0.00,2,     2.10,2,     0.01,2,    0.280,2,    0.164,2,    0.024,2,     0.13,2,   2258.0,2,   2356.0,2,   -999.0,9,  -999.00,9,-999.0000,9,-999.0000,9,-999.0000,9,   1.3978,2
  49NZ20191229,  I07S,   136,  1,     20,   1220,2,  200118,0253,-58.1856,  55.2636, 5192,   1532.7,   1.2185,   1.2183,2,  34.7284,2,  34.7280,2,    203.3,2,    203.6,2,   101.23,2,    31.15,2,     0.00,2,     2.12,2,     0.01,2,    0.294,2,    0.170,2,    0.022,2,    0.114,2,   2253.5,2,   2356.8,2,   -999.0,9,  -999.00,9,-999.0000,9,-999.0000,9,-999.0000,9,   1.2183,2
  49NZ20191229,  I07S,   136,  1,     19,   1219,2,  200118,0253,-58.1856,  55.2636, 5192,   1734.3,   1.0410,   1.0405,2,  34.7180,2,  34.7183,2,    204.6,2,    204.6,2,   106.41,2,    31.55,2,     0.01,2,     2.15,2,     0.02,2,    0.328,2,    0.189,2,    0.029,2,    0.208,2,   2257.8,2,   2358.2,2,   -999.0,9,  -999.00,9,-999.0000,9,-999.0000,9,-999.0000,9,   1.0405,2
  49NZ20191229,  I07S,   136,  1,     18,   1218,2,  200118,0253,-58.1856,  55.2636, 5192,   1932.7,   0.8836,   0.8838,2,  34.7091,2,  34.7093,2,    205.8,2,    205.7,2,   110.88,2,    31.93,2,     0.00,2,     2.18,2,     0.03,2,    0.357,2,    0.204,2,    0.025,2,    0.138,2,   2257.2,2,   2359.2,2,   -999.0,9,  -999.00,9,-999.0000,9,-999.0000,9,-999.0000,9,   0.8838,2
  49NZ20191229,  I07S,   136,  1,     17,   1217,2,  200118,0253,-58.1856,  55.2636, 5192,   2128.9,   0.7610,   0.7612,2,  34.7016,2,  34.7013,2,    206.4,2,    206.4,2,   114.83,2,    32.28,2,     0.00,2,     2.20,2,     0.01,2,    0.384,2,    0.215,2,    0.030,2,    0.187,2,   2260.1,2,   2359.3,2,   -999.0,9,  -999.00,9,-999.0000,9,-999.0000,9,-999.0000,9,   0.7612,2
  49NZ20191229,  I07S,   136,  1,     16,   1216,2,  200118,0253,-58.1856,  55.2636, 5192,   2330.8,   0.6533,   0.6529,2,  34.6969,2,  34.6965,2,    208.6,2,    208.6,2,   118.60,2,    32.42,2,     0.00,2,     2.22,2,     0.02,2,    0.373,2,    0.208,2,    0.028,2,    0.129,2,   2261.0,6,   2359.2,2,   -999.0,9,  -999.00,9,-999.0000,9,-999.0000,9,-999.0000,9,   0.6529,2
  49NZ20191229,  I07S,   136,  1,     15,  12102,2,  200118,0253,-58.1856,  55.2636, 5192,   2533.0,   0.5483,   0.5490,2,  34.6916,2,  34.6915,2,    210.7,2,    210.8,2,   122.00,2,    32.52,2,     0.01,2,     2.23,2,     0.02,2,    0.381,2,    0.211,2,    0.027,2,    0.098,2,   2262.6,2,   2360.9,2,   -999.0,9,  -999.00,9,-999.0000,9,-999.0000,9,-999.0000,9,   0.5490,2
  49NZ20191229,  I07S,   136,  1,     14,   1214,2,  200118,0253,-58.1856,  55.2636, 5192,   2732.2,   0.4604,   0.4604,2,  34.6868,2,  34.6868,2,    212.5,2,    212.4,2,   124.47,2,    32.64,2,     0.01,2,     2.24,2,     0.04,2,    0.381,2,    0.211,2,    0.020,2,    0.139,2,   2259.8,2,   2360.9,2,   -999.0,9,  -999.00,9,-999.0000,9,-999.0000,9,-999.0000,9,   0.4604,2
  49NZ20191229,  I07S,   136,  1,     13,  12105,2,  200118,0253,-58.1856,  55.2636, 5192,   2931.4,   0.3584,   0.3582,2,  34.6811,2,  34.6811,2,    214.8,2,    214.8,2,   127.26,2,    32.79,2,     0.00,2,     2.25,2,     0.03,2,    0.410,2,    0.223,2,    0.025,2,    0.094,2,   2262.8,2,   2360.0,2,   -999.0,9,  -999.00,9,-999.0000,9,-999.0000,9,-999.0000,9,   0.3582,2
  49NZ20191229,  I07S,   136,  1,     12,   1211,2,  200118,0253,-58.1856,  55.2636, 5192,   3172.5,   0.2753,   0.2751,2,  34.6771,2,  34.6771,2,    217.8,2,    217.7,2,   129.54,2,    32.86,2,     0.00,2,     2.26,2,     0.02,2,    0.410,2,    0.226,2,    0.028,2,     0.13,2,   2263.9,2,   2359.0,6,   -999.0,9,  -999.00,9,-999.0000,9,-999.0000,9,-999.0000,9,   0.2751,2
  49NZ20191229,  I07S,   136,  1,     11,  12106,2,  200118,0253,-58.1856,  55.2636, 5192,   3421.3,   0.1952,   0.1950,2,  34.6730,2,  34.6732,2,    220.8,2,    220.7,2,   131.55,2,    32.87,2,     0.01,2,     2.26,2,     0.03,2,    0.417,2,    0.228,2,    0.027,2,    0.118,2,   2263.2,2,   2359.3,2,   -999.0,9,  -999.00,9,-999.0000,9,-999.0000,9,-999.0000,9,   0.1950,2
  49NZ20191229,  I07S,   136,  1,     10,   1210,2,  200118,0253,-58.1856,  55.2636, 5192,   3668.8,   0.1112,   0.1111,2,  34.6690,2,  34.6689,2,    224.3,2,    224.2,2,   133.25,2,    32.76,2,     0.00,2,     2.26,2,     0.02,2,    0.424,2,    0.228,2,    0.030,2,      0.1,2,   2261.8,2,   2357.6,2,   -999.0,9,  -999.00,9,-999.0000,9,-999.0000,9,-999.0000,9,   0.1111,2
  49NZ20191229,  I07S,   136,  1,      9,  12101,2,  200118,0253,-58.1856,  55.2636, 5192,   3921.2,   0.0458,   0.0457,2,  34.6655,2,  34.6653,2,    227.3,2,    227.2,2,   134.60,2,    32.80,2,     0.00,2,     2.26,2,     0.03,2,    0.441,2,    0.237,2,    0.028,2,    0.101,2,   2259.8,2,   2356.7,2,   -999.0,9,  -999.00,9,-999.0000,9,-999.0000,9,-999.0000,9,   0.0457,2
  49NZ20191229,  I07S,   136,  1,      8,  12103,2,  200118,0253,-58.1856,  55.2636, 5192,   4169.8,  -0.0076,  -0.0075,2,  34.6627,2,  34.6625,2,    230.0,2,    230.0,2,   136.20,2,    32.94,2,     0.00,2,     2.26,2,     0.02,2,    0.455,2,    0.241,2,    0.023,2,    0.103,2,   2258.8,6,   2357.7,2,   -999.0,9,  -999.00,9,-999.0000,9,-999.0000,9,-999.0000,9,  -0.0075,2
  49NZ20191229,  I07S,   136,  1,      7,   1207,2,  200118,0253,-58.1856,  55.2636, 5192,   4420.3,  -0.0600,  -0.0599,2,  34.6598,2,  34.6594,2,    233.0,2,    232.9,2,   135.42,2,    32.84,2,     0.00,2,     2.25,2,     0.01,2,    0.493,2,    0.258,2,    0.028,2,    0.092,2,   2259.1,2,   2357.0,2,   -999.0,9,  -999.00,9,-999.0000,9,-999.0000,9,-999.0000,9,  -0.0599,2
  49NZ20191229,  I07S,   136,  1,      6,   1206,2,  200118,0253,-58.1856,  55.2636, 5192,   4669.4,  -0.1134,  -0.1133,2,  34.6568,2,  34.6569,2,    235.9,2,    235.8,2,   136.91,2,    32.74,2,     0.00,2,     2.25,2,     0.02,2,    0.519,2,    0.274,2,    0.036,2,     0.15,2,   2257.8,2,   2357.4,6,   -999.0,9,  -999.00,9,-999.0000,9,-999.0000,9,-999.0000,9,  -0.1133,2
  49NZ20191229,  I07S,   136,  1,      5,   1205,2,  200118,0253,-58.1856,  55.2636, 5192,   4919.0,  -0.1389,  -0.1389,2,  34.6549,2,  34.6552,2,    237.8,2,    237.9,2,   138.67,2,    32.86,2,     0.01,2,     2.25,2,     0.03,2,    0.542,2,    0.285,2,    0.035,2,    0.137,2,   2253.7,2,   2357.7,2,   -999.0,9,  -999.00,9,-999.0000,9,-999.0000,9,-999.0000,9,  -0.1389,2
  49NZ20191229,  I07S,   136,  1,      4,   1204,2,  200118,0253,-58.1856,  55.2636, 5192,   5171.4,  -0.1543,  -0.1543,2,  34.6532,2,  34.6535,2,    238.8,2,    238.9,2,   144.04,2,    32.87,2,     0.01,2,     2.25,2,     0.02,2,    0.575,2,    0.297,2,    0.034,2,    0.123,2,   2256.3,2,   2355.6,2,   -999.0,9,  -999.00,9,-999.0000,9,-999.0000,9,-999.0000,9,  -0.1543,2
  49NZ20191229,  I07S,   136,  1,      3,   1203,2,  200118,0253,-58.1856,  55.2636, 5192,     60.8,   0.9643,   0.9693,8,  33.7581,2,-999.0000,9,    344.6,2,   -999.0,9,  -999.00,9,  -999.00,9,  -999.00,9,  -999.00,9,     -999,9, -999.000,9, -999.000,9, -999.000,9,     -999,9,   -999.0,9,   -999.0,9,   -999.0,9,  -999.00,9,-999.0000,9,-999.0000,9,-999.0000,9,   0.9693,8
  49NZ20191229,  I07S,   136,  1,      2,  12046,2,  200118,0253,-58.1856,  55.2636, 5192,     61.4,   0.9237,   0.8958,2,  33.7630,2,  33.7589,2,    344.7,2,    345.8,2,    34.05,2,    25.68,2,     0.29,2,     1.78,2,     0.33,2, -999.000,9, -999.000,9, -999.000,9,     -999,9,   2161.4,2,   2287.8,2,   -999.0,9,     0.45,2,-999.0000,9,-999.0000,9,-999.0000,9,   0.8958,2
  49NZ20191229,  I07S,   136,  1,      1,   1201,2,  200118,0253,-58.1856,  55.2636, 5192,   5279.6,  -0.1631,  -0.1631,2,  34.6522,2,  34.6526,2,    239.6,2,    239.3,2,   146.92,2,    32.81,2,     0.01,2,     2.26,2,     0.02,2,    0.612,2,    0.322,2,    0.039,2,    0.153,2,   2255.7,2,   2356.0,2,   -999.0,9,  -999.00,9,-999.0000,9,-999.0000,9,-999.0000,9,  -0.1631,2