BOTTLE,20210310PRINUNIVRMK
EXPOCODE,SECT_ID,STNNBR,CASTNO,SAMPNO,BTLNBR,BTLNBR_FLAG_W,DATE,TIME,LATITUDE,LONGITUDE,DEPTH,CTDPRS,CTDTMP,SBE35,SBE35_FLAG_W,CTDSAL,CTDSAL_FLAG_W,SALNTY,SALNTY_FLAG_W,CTDOXY,CTDOXY_FLAG_W,OXYGEN,OXYGEN_FLAG_W,SILCAT,SILCAT_FLAG_W,NITRAT,NITRAT_FLAG_W,NITRIT,NITRIT_FLAG_W,PHSPHT,PHSPHT_FLAG_W,NH4,NH4_FLAG_W,CFC-11,CFC-11_FLAG_W,CFC-12,CFC-12_FLAG_W,CFC113,CFC113_FLAG_W,SF6,SF6_FLAG_W,TCARBN,TCARBN_FLAG_W,ALKALI,ALKALI_FLAG_W,DOC,DOC_FLAG_W,CHLORA,CHLORA_FLAG_W,CDOM300,CDOM300_FLAG_W,CDOM325,CDOM325_FLAG_W,CDOM443,CDOM443_FLAG_W,SBE35,SBE35_FLAG_W
,,,,,,,,,,,METERS,DBAR,ITS-90,,,PSS-78,,PSS-78,,UMOL/KG,,UMOL/KG,,UMOL/KG,,UMOL/KG,,UMOL/KG,,UMOL/KG,,UMOL/KG,,PMOL/KG,,PMOL/KG,,PMOL/KG,,FMOL/KG,,UMOL/KG,,UMOL/KG,,UMOL/KG,,UG/L,,1/M,,1/M,,1/M,,,
  49NZ20191229,  I07S,    97,  1,     36,   1236,2,  200107,1707,-40.2497,  57.7496, 4997,      9.5,  15.7986,  15.8039,2,  35.1216,2,  35.0928,2,    280.0,2,    280.4,2,     0.10,2,     0.53,2,     0.05,2,     0.18,2,     0.05,2,    2.700,2,    1.577,2,    0.228,2,     2.44,2,   2046.1,2,   2317.2,2,   -999.0,9,     1.26,2,   0.3110,2,   0.2020,2,   0.0240,2,  15.8039,2
  49NZ20191229,  I07S,    97,  1,     35,   1235,2,  200107,1707,-40.2497,  57.7496, 4997,     49.8,  13.3968,  13.3818,2,  34.8606,2,  34.8572,2,    255.9,2,    255.0,2,     1.25,2,     4.35,2,     0.22,2,     0.52,2,     0.97,2,    2.866,2,    1.669,2,    0.235,2,    2.566,2,   2084.3,2,   2306.6,2,   -999.0,9,     0.48,2,   0.2570,2,   0.1490,2,   0.0240,2,  13.3818,2
  49NZ20191229,  I07S,    97,  1,     34,   1234,2,  200107,1707,-40.2497,  57.7496, 4997,    100.9,  12.8524,  12.8576,2,  34.9487,2,  34.9493,2,    249.1,2,    248.3,2,     2.53,2,     7.06,2,     0.43,2,     0.62,2,     0.17,2,    2.916,2,    1.682,2,    0.228,2,    2.539,2,   2097.3,2,   2305.1,2,   -999.0,9,     0.11,2,   0.2300,2,   0.1250,2,   0.0190,2,  12.8576,2
  49NZ20191229,  I07S,    97,  1,     33,   1233,2,  200107,1707,-40.2497,  57.7496, 4997,    151.2,  12.4662,  12.4664,2,  34.9222,2,  34.9254,2,    251.0,2,    249.8,2,     2.77,2,     8.22,2,     0.23,2,     0.65,2,     0.02,2,    2.955,2,    1.709,2,    0.230,2,    2.578,2,   2100.2,2,   2302.5,2,   -999.0,9,     0.04,2,   0.2130,2,   0.1190,2,   0.0160,2,  12.4664,2
  49NZ20191229,  I07S,    97,  1,     32,   1232,2,  200107,1707,-40.2497,  57.7496, 4997,    199.6,  12.6703,  12.6716,2,  35.0018,2,  35.0020,2,    248.0,2,    247.2,2,     3.07,2,     7.93,2,     0.02,2,     0.63,2,        0,2,    2.936,2,    1.700,2,    0.222,2,    2.537,2,   2104.1,2,   2308.8,2,   -999.0,9,     0.03,2,   0.2130,2,   0.1140,2,   0.0120,2,  12.6716,2
  49NZ20191229,  I07S,    97,  1,     31,   1231,2,  200107,1707,-40.2497,  57.7496, 4997,    250.0,  12.5342,  12.5348,2,  34.9951,2,  34.9922,2,    243.0,2,    242.3,2,     3.39,2,     9.08,2,     0.02,2,     0.70,2,        0,2,    2.954,2,    1.688,2,    0.200,2,    2.435,2,   2108.2,2,   2304.9,2,   -999.0,9,     0.02,2,-999.0000,9,-999.0000,9,-999.0000,9,  12.5348,2
  49NZ20191229,  I07S,    97,  1,     30,   1230,2,  200107,1707,-40.2497,  57.7496, 4997,    278.3,  12.2897,  12.2896,2,  34.9603,2,  34.9599,2,    241.6,2,    241.0,2,     3.54,2,    10.03,2,     0.02,2,     0.75,2,     0.01,2,    3.001,2,    1.723,2,    0.195,2,     2.49,2,   2108.3,2,   2305.7,2,   -999.0,9,  -999.00,9,   0.2180,2,   0.1190,2,   0.0170,2,  12.2896,2
  49NZ20191229,  I07S,    97,  1,     29,   1229,2,  200107,1707,-40.2497,  57.7496, 4997,    370.5,  11.5523,  11.5525,2,  34.8655,2,  34.8655,2,    237.4,2,    236.5,2,     4.07,2,    12.80,2,     0.02,2,     0.89,2,     0.02,2,    3.149,2,    1.799,2,    0.182,2,    2.397,2,   2117.8,2,   2301.7,2,   -999.0,9,  -999.00,9,   0.2060,2,   0.1100,2,   0.0120,2,  11.5525,2
  49NZ20191229,  I07S,    97,  1,     28,   1228,2,  200107,1707,-40.2497,  57.7496, 4997,    468.8,  10.9658,  10.9662,2,  34.8215,2,  34.8207,2,    228.3,2,    227.6,2,     4.99,2,    14.44,2,     0.01,2,     1.00,2,        0,2,    3.232,2,    1.836,2,    0.154,2,    2.225,2,   2127.9,2,   2297.8,2,   -999.0,9,  -999.00,9,   0.2130,2,   0.1130,2,   0.0160,2,  10.9662,2
  49NZ20191229,  I07S,    97,  1,     27,   1227,2,  200107,1707,-40.2497,  57.7496, 4997,    567.9,  10.3788,  10.3792,2,  34.7881,2,  34.7879,2,    218.6,2,    218.1,2,     6.29,2,    17.14,2,     0.01,2,     1.14,2,     0.01,2,    3.306,2,    1.849,2,    0.136,2,    1.932,2,   2141.2,2,   2296.9,2,   -999.0,9,  -999.00,9,   0.2090,2,   0.1150,2,   0.0130,2,  10.3792,2
  49NZ20191229,  I07S,    97,  1,     26,   1226,2,  200107,1707,-40.2497,  57.7496, 4997,    670.8,   9.6040,   9.6047,2,  34.7215,2,  34.7211,2,    213.0,2,    212.7,2,     8.34,2,    18.56,2,     0.01,2,     1.28,2,     0.01,2,    3.311,2,    1.817,2,    0.128,2,     1.75,2,   2146.0,6,   2294.0,2,   -999.0,9,  -999.00,9,-999.0000,9,-999.0000,9,-999.0000,9,   9.6047,2
  49NZ20191229,  I07S,    97,  1,     25,   1225,2,  200107,1707,-40.2497,  57.7496, 4997,    769.7,   8.6297,   8.6301,2,  34.6235,2,  34.6226,2,    207.9,2,    207.8,2,    11.43,2,    21.56,2,     0.01,2,     1.46,2,     0.03,2,    3.258,2,    1.769,2,    0.137,2,    1.578,2,   2155.3,2,   2292.6,2,   -999.0,9,  -999.00,9,   0.2130,2,   0.1160,2,   0.0110,2,   8.6301,2
  49NZ20191229,  I07S,    97,  1,     24,   1224,2,  200107,1707,-40.2497,  57.7496, 4997,    868.6,   7.4275,   7.4249,2,  34.5260,2,  34.5252,2,    204.5,2,    204.3,2,    21.56,2,    27.89,2,     0.01,2,     1.84,2,     0.03,2,    3.074,2,    1.639,2,    0.138,2,    1.243,2,   2166.3,2,   2291.5,2,   -999.0,9,  -999.00,9,-999.0000,9,-999.0000,9,-999.0000,9,   7.4249,2
  49NZ20191229,  I07S,    97,  1,     23,   1223,2,  200107,1707,-40.2497,  57.7496, 4997,    970.6,   6.3551,   6.3560,2,  34.4472,2,  34.4468,2,    205.3,2,    204.9,2,    21.60,2,    27.17,2,     0.01,2,     1.84,2,     0.01,2,    2.881,2,    1.504,2,    0.142,2,    1.109,2,   2174.5,2,   2294.6,2,   -999.0,9,  -999.00,9,   0.2080,2,   0.0980,2,   0.0050,2,   6.3560,2
  49NZ20191229,  I07S,    97,  1,     22,   1222,2,  200107,1707,-40.2497,  57.7496, 4997,   1130.3,   4.8159,   4.8159,2,  34.3560,2,  34.3557,2,    207.0,2,    206.3,2,    30.62,2,    30.88,2,     0.01,2,     2.07,2,     0.01,2,    2.694,2,    1.400,2,    0.168,2,    1.127,2,   2191.5,2,   2297.2,6,   -999.0,9,  -999.00,9,-999.0000,9,-999.0000,9,-999.0000,9,   4.8159,2
  49NZ20191229,  I07S,    97,  1,     21,   1221,2,  200107,1707,-40.2497,  57.7496, 4997,   1328.2,   4.0917,   4.0914,2,  34.4226,2,  34.4225,2,    186.4,2,    186.1,2,    45.73,2,    32.70,2,     0.00,2,     2.23,2,        0,2,    1.702,2,    0.895,2,    0.104,2,    0.607,2,   2216.4,2,   2313.0,2,   -999.0,9,  -999.00,9,   0.2490,2,   0.1260,2,   0.0120,2,   4.0914,2
  49NZ20191229,  I07S,    97,  1,     20,   1220,2,  200107,1707,-40.2497,  57.7496, 4997,   1528.8,   3.2651,   3.2644,2,  34.4871,2,  34.4853,2,    177.5,2,    177.4,2,    58.99,2,    34.47,2,     0.01,2,     2.34,2,     0.01,2,    1.037,2,    0.569,2,    0.061,2,    0.332,2,   2236.4,2,   2321.7,2,   -999.0,9,  -999.00,9,-999.0000,9,-999.0000,9,-999.0000,9,   3.2644,2
  49NZ20191229,  I07S,    97,  1,     19,   1219,2,  200107,1707,-40.2497,  57.7496, 4997,   1733.0,   2.8784,   2.8782,2,  34.5753,2,  34.5759,2,    174.1,2,    173.8,2,    67.28,2,    34.39,2,     0.01,2,     2.32,2,     0.01,2,    0.574,2,    0.342,2,    0.041,2,    0.196,2,   2243.2,2,   2331.3,2,   -999.0,9,  -999.00,9,   0.2470,2,   0.1240,2,   0.0090,2,   2.8782,2
  49NZ20191229,  I07S,    97,  1,     18,   1218,2,  200107,1707,-40.2497,  57.7496, 4997,   1930.0,   2.6987,   2.6988,2,  34.6443,2,  34.6442,2,    177.4,2,    177.2,2,    70.88,2,    32.95,2,     0.00,2,     2.23,2,        0,2,    0.347,2,    0.222,2,    0.024,2,    0.083,2,   2243.7,2,   2334.4,2,   -999.0,9,  -999.00,9,-999.0000,9,-999.0000,9,-999.0000,9,   2.6988,2
  49NZ20191229,  I07S,    97,  1,     17,   1217,2,  200107,1707,-40.2497,  57.7496, 4997,   2129.7,   2.5690,   2.5689,2,  34.7015,2,  34.7017,2,    184.1,2,    183.8,2,    72.53,2,    31.62,2,     0.00,2,     2.14,2,        0,2,    0.225,2,    0.150,2,    0.013,2,    0.061,2,   2244.7,2,   2339.1,2,   -999.0,9,  -999.00,9,   0.2470,2,   0.1270,2,   0.0070,2,   2.5689,2
  49NZ20191229,  I07S,    97,  1,     16,   1216,2,  200107,1707,-40.2497,  57.7496, 4997,   2330.7,   2.4510,   2.4508,2,  34.7367,2,  34.7370,2,    191.2,2,    191.3,2,    73.73,2,    30.68,2,     0.00,2,     2.06,2,        0,2,    0.162,2,    0.110,2,    0.012,2,    0.025,2,   2237.4,6,   2340.4,2,   -999.0,9,  -999.00,9,-999.0000,9,-999.0000,9,-999.0000,9,   2.4508,2
  49NZ20191229,  I07S,    97,  1,     15,   1215,2,  200107,1707,-40.2497,  57.7496, 4997,   2529.5,   2.3017,   2.3018,2,  34.7567,2,  34.7571,2,    196.7,2,    196.6,2,    76.19,2,    30.09,2,     0.00,2,     2.03,2,        0,2,    0.135,2,    0.093,2,    0.009,2,    0.037,2,   2239.2,2,   2344.5,2,   -999.0,9,  -999.00,9,   0.2500,2,   0.1270,2,   0.0090,2,   2.3018,2
  49NZ20191229,  I07S,    97,  1,     14,   1214,2,  200107,1707,-40.2497,  57.7496, 4997,   2729.5,   2.1378,   2.1376,2,  34.7622,2,  34.7624,2,    200.3,2,    200.4,2,    80.43,2,    29.79,2,     0.00,2,     2.02,2,     0.02,2,    0.109,2,    0.075,2,    0.009,2,    0.006,2,   2238.1,2,   2348.3,2,   -999.0,9,  -999.00,9,-999.0000,9,-999.0000,9,-999.0000,9,   2.1376,2
  49NZ20191229,  I07S,    97,  1,     13,   1213,2,  200107,1707,-40.2497,  57.7496, 4997,   2930.6,   1.9781,   1.9776,2,  34.7620,2,  34.7620,2,    202.7,2,    202.6,2,    84.60,2,    29.94,2,     0.00,2,     2.03,2,        0,2,    0.115,2,    0.078,2,    0.006,2,     0.01,2,   2245.4,2,   2350.2,2,   -999.0,9,  -999.00,9,   0.2610,2,   0.1390,2,   0.0140,2,   1.9776,2
  49NZ20191229,  I07S,    97,  1,     12,   1212,2,  200107,1707,-40.2497,  57.7496, 4997,   3170.5,   1.7602,   1.7603,2,  34.7544,2,  34.7542,2,    204.5,2,    204.4,2,    91.71,2,    30.45,2,     0.00,2,     2.06,2,     0.02,2,    0.125,2,    0.085,2,    0.007,2,    0.033,2,   2247.0,2,   2354.6,6,   -999.0,9,  -999.00,9,-999.0000,9,-999.0000,9,-999.0000,9,   1.7603,2
  49NZ20191229,  I07S,    97,  1,     11,   1211,2,  200107,1707,-40.2497,  57.7496, 4997,   3420.8,   1.5120,   1.5119,2,  34.7413,2,  34.7410,2,    206.0,2,    205.9,2,    99.55,2,    31.01,2,     0.01,2,     2.10,2,        0,2,    0.155,2,    0.106,2,    0.012,2,    0.044,2,   2248.9,2,   2354.0,2,   -999.0,9,  -999.00,9,   0.2620,2,   0.1350,2,   0.0140,2,   1.5119,2
  49NZ20191229,  I07S,    97,  1,     10,   1210,2,  200107,1707,-40.2497,  57.7496, 4997,   3670.6,   1.2533,   1.2532,2,  34.7266,2,  34.7258,2,    208.1,2,    208.0,2,   107.64,2,    31.60,2,     0.00,2,     2.15,2,     0.01,2,    0.192,2,    0.128,2,    0.015,2,    0.074,2,   2247.7,2,   2359.1,2,   -999.0,9,  -999.00,9,-999.0000,9,-999.0000,9,-999.0000,9,   1.2532,2
  49NZ20191229,  I07S,    97,  1,      9,   1209,2,  200107,1707,-40.2497,  57.7496, 4997,   3918.6,   0.9425,   0.9424,2,  34.7092,2,  34.7091,2,    211.2,2,    211.0,2,   117.36,2,    32.27,2,     0.00,2,     2.19,2,     0.01,2,    0.231,2,    0.152,2,    0.015,2,    0.066,2,   2255.2,2,   2359.6,2,   -999.0,9,  -999.00,9,   0.2850,2,   0.1430,2,   0.0170,2,   0.9424,2
  49NZ20191229,  I07S,    97,  1,      8,  12103,2,  200107,1707,-40.2497,  57.7496, 4997,   4171.3,   0.6775,   0.6776,2,  34.6944,2,  34.6947,2,    214.9,2,    214.7,2,   126.43,2,    32.72,2,     0.00,2,     2.23,2,        0,2,    0.254,2,    0.163,2,    0.015,2,    0.047,2,   2259.0,6,   2361.1,2,   -999.0,9,  -999.00,9,-999.0000,9,-999.0000,9,-999.0000,9,   0.6776,2
  49NZ20191229,  I07S,    97,  1,      7,   1207,2,  200107,1707,-40.2497,  57.7496, 4997,   4421.0,   0.5324,   0.5321,2,  34.6861,2,  34.6861,2,    217.5,2,    217.2,2,   131.73,2,    32.96,2,     0.00,2,     2.24,2,        0,2,    0.266,2,    0.168,2,    0.024,2,     0.06,2,   2258.8,2,   2360.7,2,   -999.0,9,  -999.00,9,   0.2540,2,   0.1230,2,   0.0100,2,   0.5321,2
  49NZ20191229,  I07S,    97,  1,      6,   1206,2,  200107,1707,-40.2497,  57.7496, 4997,   4669.2,   0.4425,   0.4426,2,  34.6805,2,  34.6802,2,    219.5,2,    219.2,2,   135.99,2,    33.23,2,     0.01,2,     2.26,2,        0,2,    0.281,2,    0.177,2,    0.018,2,    0.069,2,   2261.5,2,   2360.2,6,   -999.0,9,  -999.00,9,-999.0000,9,-999.0000,9,-999.0000,9,   0.4426,2
  49NZ20191229,  I07S,    97,  1,      5,   1205,2,  200107,1707,-40.2497,  57.7496, 4997,   4919.2,   0.3873,   0.3873,2,  34.6765,2,  34.6760,2,    221.0,2,    220.7,2,   139.69,2,    33.86,2,     0.01,2,     2.27,2,        0,2,    0.293,2,    0.184,2,    0.016,2,    0.055,2,   2258.5,2,   2359.7,2,   -999.0,9,  -999.00,9,   0.2680,2,   0.1310,2,   0.0150,2,   0.3873,2
  49NZ20191229,  I07S,    97,  1,      4,   1204,2,  200107,1707,-40.2497,  57.7496, 4997,      4.8,  16.0840,  16.0724,2,  35.1772,2,-999.0000,9,    275.7,2,   -999.0,9,  -999.00,9,  -999.00,9,  -999.00,9,  -999.00,9,     -999,9, -999.000,9, -999.000,9, -999.000,9,     -999,9,   -999.0,9,   -999.0,9,   -999.0,9,  -999.00,9,-999.0000,9,-999.0000,9,-999.0000,9,  16.0724,2
  49NZ20191229,  I07S,    97,  1,      3,   1203,2,  200107,1707,-40.2497,  57.7496, 4997,     35.8,  13.2823,  13.2820,8,  34.7851,2,-999.0000,9,    262.9,2,   -999.0,9,  -999.00,9,  -999.00,9,  -999.00,9,  -999.00,9,     -999,9, -999.000,9, -999.000,9, -999.000,9,     -999,9,   -999.0,9,   -999.0,9,   -999.0,9,  -999.00,9,-999.0000,9,-999.0000,9,-999.0000,9,  13.2820,8
  49NZ20191229,  I07S,    97,  1,      2,  12046,2,  200107,1707,-40.2497,  57.7496, 4997,     35.9,  13.2812,  13.2786,2,  34.7847,2,  34.7911,2,    262.8,2,    259.9,2,     0.83,2,     4.41,2,     0.19,2,     0.50,2,      0.8,2, -999.000,9, -999.000,9, -999.000,9,     -999,9,   2077.0,2,   2301.2,2,   -999.0,9,     1.12,2,   0.2460,2,   0.1350,2,   0.0140,2,  13.2786,2
  49NZ20191229,  I07S,    97,  1,      1,   1201,2,  200107,1707,-40.2497,  57.7496, 4997,   5075.7,   0.3564,   0.3575,2,  34.6741,2,  34.6746,2,    221.9,2,    221.1,2,   141.04,2,    33.50,2,     0.01,2,     2.27,2,     0.01,2,    0.304,2,    0.188,2,    0.016,2,    0.072,2,   2260.2,2,   2360.7,2,   -999.0,9,  -999.00,9,   0.2640,2,   0.1410,2,   0.0160,2,   0.3575,2