BOTTLE,20210308SIOCCHSCD
EXPOCODE,SECT_ID,STNNBR,CASTNO,SAMPNO,BTLNBR,BTLNBR_FLAG_W,DATE,TIME,LATITUDE,LONGITUDE,DEPTH,CTDPRS,CTDTMP,CTDSAL,CTDSAL_FLAG_W,SALNTY,SALNTY_FLAG_W,CTDOXY,CTDOXY_FLAG_W,OXYGEN,OXYGEN_FLAG_W,SILCAT,SILCAT_FLAG_W,PHSPHT,PHSPHT_FLAG_W,REVPRS,CTDRAW,THETA,NO2+NO3,NO2+NO3_FLAG_W,REVTMP
,,,,,,,,,,,METERS,DBAR,ITS-90,PSS-78,,PSS-78,,UMOL/KG,,UMOL/KG,,UMOL/KG,,UMOL/KG,,DBAR,DBAR,ITS-90,UMOL/KG,,DEG C
  33KB317_1,       PRS2,       2,          3,         24,       8084,2,20191219,       2129,  22.750167,-157.9993333,       4740,     4.6,  25.8683,  34.7135,2,  34.7133,2,    204.7,2,   205.0,2,    1.62,2,    0.07,2,  -999.0,       5,    25.8673,    0.08,2,     -999.0
  33KB317_1,       PRS2,       2,          3,         23,       8083,2,20191219,       2129,  22.750167,-157.9993333,       4740,    56.1,  25.8291,  34.7123,2,  34.7148,2,    204.8,2,   204.7,2,    1.49,2,    0.06,2,  -999.0,      57,    25.8167,    0.05,2,     -999.0
  33KB317_1,       PRS2,       2,          3,         22,       8082,2,20191219,       2129,  22.750167,-157.9993333,       4740,   110.6,  24.0304,  34.7791,2,  34.7775,2,    206.4,2,   207.7,2,    1.53,2,    0.12,2,  -999.0,     112,    24.0071,    0.18,2,     -999.0
  33KB317_1,       PRS2,       2,          3,         21,       8081,2,20191219,       2129,  22.750167,-157.9993333,       4740,   116.0,  23.5184,  34.8095,2,  34.8074,2,    203.9,2,   203.9,2,    2.13,3,    0.14,2,  -999.0,     116,    23.4943,    0.40,2,     -999.0
  33KB317_1,       PRS2,       2,          3,         20,       8026,2,20191219,       2129,  22.750167,-157.9993333,       4740,   131.4,  22.4284,  34.9248,2,  34.9187,2,    197.8,2,   198.0,2,    1.75,2,    0.17,2,  -999.0,     132,    22.4021,    0.69,2,     -999.0
  33KB317_1,       PRS2,       2,          3,         19,       8079,2,20191219,       2129,  22.750167,-157.9993333,       4740,   153.1,  20.9407,  35.0408,2,  35.0402,2,    194.1,2,   193.3,2,    2.25,2,    0.19,2,  -999.0,     156,    20.9115,    1.38,2,     -999.0
  33KB317_1,       PRS2,       2,          3,         18,       8078,2,20191219,       2129,  22.750167,-157.9993333,       4740,   163.6,  20.4786,  35.0450,2,  35.0455,2,    194.8,2,   194.6,2,    2.43,2,    0.20,2,  -999.0,     164,    20.4478,    1.61,2,     -999.0
  33KB317_1,       PRS2,       2,          3,         17,       8077,2,20191219,       2129,  22.750167,-157.9993333,       4740,   194.5,  19.2842,  34.9816,2,  34.9825,2,    195.7,2,   195.7,2,    3.16,2,    0.23,2,  -999.0,     196,    19.2492,    2.34,2,     -999.0
  33KB317_1,       PRS2,       2,          3,         16,       8076,2,20191219,       2129,  22.750167,-157.9993333,       4740,   248.4,  15.7214,  34.5827,2,  34.5796,2,    203.9,2,   204.1,2,    5.48,2,    0.41,2,  -999.0,     249,    15.6827,    5.23,2,     -999.0
  33KB317_1,       PRS2,       2,          3,         15,       8075,2,20191219,       2129,  22.750167,-157.9993333,       4740,   269.6,  14.0211,  34.3857,2,  34.3745,2,    197.8,2,   197.1,2,    8.32,2,    0.65,2,  -999.0,     270,    13.9822,    8.56,2,     -999.0
  33KB317_1,       PRS2,       2,          3,         14,       8074,2,20191219,       2129,  22.750167,-157.9993333,       4740,   297.0,  11.8057,  34.1504,2,  34.1519,2,    172.7,2,   172.3,2,   14.48,2,    1.12,2,  -999.0,     296,    11.7675,   14.43,2,     -999.0
  33KB317_1,       PRS2,       2,          3,         13,       8073,2,20191219,       2129,  22.750167,-157.9993333,       4740,   313.3,  11.1544,  34.1339,2,  34.1330,2,    174.1,2,   174.9,2,   16.63,2,    1.20,2,  -999.0,     313,    11.1156,   15.82,2,     -999.0
  33KB317_1,       PRS2,       2,          3,         12,       8072,2,20191219,       2129,  22.750167,-157.9993333,       4740,   352.4,   9.9778,  34.1345,2,  34.1328,2,    151.5,2,   145.9,2,   24.27,2,    1.59,2,  -999.0,     353,     9.9371,   20.78,2,     -999.0
  33KB317_1,       PRS2,       2,          3,         11,       8071,2,20191219,       2129,  22.750167,-157.9993333,       4740,   412.6,   8.9137,  34.1172,2,  34.1181,2,    126.2,2,   127.2,2,   32.32,2,    1.85,2,  -999.0,     413,     8.8691,   24.55,2,     -999.0
  33KB317_1,       PRS2,       2,          3,         10,       8070,2,20191219,       2129,  22.750167,-157.9993333,       4740,   467.2,   7.4233,  34.0939,2,  34.0907,2,     97.4,2,    97.5,2,   32.39,3,    2.22,2,  -999.0,     467,     7.3778,   30.42,2,     -999.0
  33KB317_1,       PRS2,       2,          3,          9,       8069,2,20191219,       2129,  22.750167,-157.9993333,       4740,   476.3,   7.1436,  34.0846,2,  34.0833,2,     95.8,2,    94.1,2,   48.17,2,    2.27,2,  -999.0,     479,     7.0983,   31.30,2,     -999.0
  33KB317_1,       PRS2,       2,          3,          8,       8068,2,20191219,       2129,  22.750167,-157.9993333,       4740,   498.3,   6.8148,  34.1078,2,  34.1070,2,     81.9,2,    78.3,2,   50.98,2,    2.42,2,  -999.0,     499,     6.7685,   33.36,2,     -999.0
  33KB317_1,       PRS2,       2,          3,          7,       8067,2,20191219,       2129,  22.750167,-157.9993333,       4740,   554.6,   6.4055,  34.1649,2,  34.1662,2,     58.1,2,    56.4,2,   60.10,2,    2.63,2,  -999.0,     556,     6.3554,   35.86,2,     -999.0
  33KB317_1,       PRS2,       2,          3,          6,       8066,2,20191219,       2129,  22.750167,-157.9993333,       4740,   618.8,   6.0093,  34.2298,2,  34.2264,2,     35.5,2,    35.1,2,   71.68,2,    2.84,2,  -999.0,     618,     5.9549,   38.30,2,     -999.0
  33KB317_1,       PRS2,       2,          3,          5,       8065,2,20191219,       2129,  22.750167,-157.9993333,       4740,   664.2,   5.8563,  34.2825,2,  34.2764,2,     37.3,2,    35.7,2,   74.81,2,    2.88,2,  -999.0,     664,     5.7985,   38.91,2,     -999.0
  33KB317_1,       PRS2,       2,          3,          4,       8004,2,20191219,       2129,  22.750167,-157.9993333,       4740,   694.5,   5.6461,  34.3115,2,  34.3107,2,     40.0,2,    39.6,2,   78.96,2,    2.87,2,  -999.0,     697,     5.5866,   39.11,2,     -999.0
  33KB317_1,       PRS2,       2,          3,          3,       8063,2,20191219,       2129,  22.750167,-157.9993333,       4740,   784.3,   5.2281,  34.3826,2,  34.3810,2,     38.4,2,    38.8,2,   86.12,2,    2.93,2,  -999.0,     786,     5.1628,   40.30,2,     -999.0
  33KB317_1,       PRS2,       2,          3,          2,       8062,2,20191219,       2129,  22.750167,-157.9993333,       4740,   904.3,   4.8341,  34.4466,2,  34.4432,2,     43.3,2,    43.5,2,   93.18,2,    2.95,2,  -999.0,     903,     4.7606,   40.73,2,     -999.0
  33KB317_1,       PRS2,       2,          3,          1,       8061,2,20191219,       2129,  22.750167,-157.9993333,       4740,  1020.0,   4.4322,  34.4852,2,  34.4858,2,     46.3,2,    48.2,2,  101.02,2,    2.97,2,  -999.0,    1022,     4.3515,   41.19,2,     -999.0
  33KB317_1,       PRS2,       2,          4,         21,       8081,2,20191220,       0042,  22.746333,-157.9976667,       4739,     5.5,  25.8861,  34.7148,2,-999.0000,5,    204.8,1,  -999.0,9, -999.00,9, -999.00,9,  -999.0,       6,    25.8849, -999.00,9,     -999.0
  33KB317_1,       PRS2,       2,          4,         20,       8026,2,20191220,       0042,  22.746333,-157.9976667,       4739,     5.5,  25.8860,  34.7147,2,  34.7158,2,    204.9,1,  -999.0,9, -999.00,9, -999.00,9,  -999.0,       5,    25.8848, -999.00,9,     -999.0
  33KB317_1,       PRS2,       2,          4,         19,       8079,2,20191220,       0042,  22.746333,-157.9976667,       4739,     5.7,  25.8865,  34.7148,2,  34.7142,2,    204.6,1,  -999.0,9, -999.00,9, -999.00,9,  -999.0,       5,    25.8852, -999.00,9,     -999.0
  33KB317_1,       PRS2,       2,          4,         18,       8078,2,20191220,       0042,  22.746333,-157.9976667,       4739,    18.3,  25.8733,  34.7120,2,  34.7129,2,    204.8,1,  -999.0,9, -999.00,9, -999.00,9,  -999.0,      19,    25.8693, -999.00,9,     -999.0
  33KB317_1,       PRS2,       2,          4,         17,       8077,2,20191220,       0042,  22.746333,-157.9976667,       4739,    24.3,  25.8734,  34.7123,2,  34.7138,2,    204.5,1,  -999.0,9, -999.00,9, -999.00,9,  -999.0,      23,    25.8680, -999.00,9,     -999.0
  33KB317_1,       PRS2,       2,          4,         16,       8076,2,20191220,       0042,  22.746333,-157.9976667,       4739,    23.7,  25.8898,  34.7142,2,-999.0000,5,    204.5,1,  -999.0,9, -999.00,9, -999.00,9,  -999.0,      25,    25.8845, -999.00,9,     -999.0
  33KB317_1,       PRS2,       2,          4,         15,       8075,2,20191220,       0042,  22.746333,-157.9976667,       4739,    43.5,  25.8454,  34.7097,2,  34.7099,2,    204.9,1,  -999.0,9, -999.00,9, -999.00,9,  -999.0,      46,    25.8357, -999.00,9,     -999.0
  33KB317_1,       PRS2,       2,          4,         14,       8074,2,20191220,       0042,  22.746333,-157.9976667,       4739,    44.1,  25.8456,  34.7097,2,-999.0000,5,    204.6,1,  -999.0,9, -999.00,9, -999.00,9,  -999.0,      44,    25.8358, -999.00,9,     -999.0
  33KB317_1,       PRS2,       2,          4,         13,       8073,2,20191220,       0042,  22.746333,-157.9976667,       4739,    74.5,  25.8471,  34.7116,2,-999.0000,5,    205.0,1,  -999.0,9, -999.00,9, -999.00,9,  -999.0,      76,    25.8306, -999.00,9,     -999.0
  33KB317_1,       PRS2,       2,          4,         12,       8072,2,20191220,       0042,  22.746333,-157.9976667,       4739,    74.5,  25.8468,  34.7117,2,  34.7125,2,    204.8,1,  -999.0,9, -999.00,9, -999.00,9,  -999.0,      76,    25.8303, -999.00,9,     -999.0
  33KB317_1,       PRS2,       2,          4,         11,       8071,2,20191220,       0042,  22.746333,-157.9976667,       4739,    98.9,  23.8684,  34.7609,2,  34.7559,2,    206.2,1,  -999.0,9, -999.00,9, -999.00,9,  -999.0,      98,    23.8477, -999.00,9,     -999.0
  33KB317_1,       PRS2,       2,          4,         10,       8070,2,20191220,       0042,  22.746333,-157.9976667,       4739,   124.4,  22.3784,  34.9265,2,  34.9278,2,    199.8,1,  -999.0,9, -999.00,9, -999.00,9,  -999.0,     126,    22.3535, -999.00,9,     -999.0
  33KB317_1,       PRS2,       2,          4,          9,       8069,2,20191220,       0042,  22.746333,-157.9976667,       4739,   149.5,  21.2327,  35.0358,2,  35.0291,2,    193.5,1,  -999.0,9, -999.00,9, -999.00,9,  -999.0,     147,    21.2039, -999.00,9,     -999.0
  33KB317_1,       PRS2,       2,          4,          8,       8068,2,20191220,       0042,  22.746333,-157.9976667,       4739,   176.0,  20.0398,  35.0337,2,  35.0329,2,    195.4,1,  -999.0,9, -999.00,9, -999.00,9,  -999.0,     178,    20.0072, -999.00,9,     -999.0
  33KB317_1,       PRS2,       2,          4,          7,       8067,2,20191220,       0042,  22.746333,-157.9976667,       4739,   200.1,  18.9650,  34.9501,2,  34.9498,2,    195.7,1,  -999.0,9, -999.00,9, -999.00,9,  -999.0,     201,    18.9294, -999.00,9,     -999.0
  33KB317_1,       PRS2,       2,          4,          6,       8066,2,20191220,       0042,  22.746333,-157.9976667,       4739,   244.6,  16.1051,  34.6242,2,  34.6191,2,    200.0,1,  -999.0,9, -999.00,9, -999.00,9,  -999.0,     245,    16.0662, -999.00,9,     -999.0
  33KB317_1,       PRS2,       2,          4,          5,       8065,2,20191220,       0042,  22.746333,-157.9976667,       4739,   244.7,  16.0867,  34.6219,2,  34.6392,2,    202.1,1,  -999.0,9, -999.00,9, -999.00,9,  -999.0,     249,    16.0479, -999.00,9,     -999.0
  33KB317_1,       PRS2,       2,          4,          4,       8004,2,20191220,       0042,  22.746333,-157.9976667,       4739,   350.6,  10.1531,  34.1241,2,  34.1230,2,    154.8,1,  -999.0,9, -999.00,9, -999.00,9,  -999.0,     353,    10.1121, -999.00,9,     -999.0
  33KB317_1,       PRS2,       2,          4,          3,       8063,2,20191220,       0042,  22.746333,-157.9976667,       4739,   351.0,  10.1499,  34.1242,2,  34.1234,2,    150.4,1,  -999.0,9, -999.00,9, -999.00,9,  -999.0,     352,    10.1089, -999.00,9,     -999.0
  33KB317_1,       PRS2,       2,          4,          2,       8062,2,20191220,       0042,  22.746333,-157.9976667,       4739,   449.5,   7.4392,  34.0963,2,  34.0938,2,    103.0,1,  -999.0,9, -999.00,9, -999.00,9,  -999.0,     449,     7.3955, -999.00,9,     -999.0
  33KB317_1,       PRS2,       2,          4,          1,       8061,2,20191220,       0042,  22.746333,-157.9976667,       4739,  1018.3,   4.3298,  34.4926,2,  34.4917,2,     47.7,1,  -999.0,9, -999.00,9, -999.00,9,  -999.0,    1020,     4.2500, -999.00,9,     -999.0
  33KB317_1,       PRS2,       2,          5,         16,       8076,2,20191220,       0320,  22.813000,-158.0520000,       4733,     6.2,  25.8124,  34.7027,2,-999.0000,5,    205.2,1,  -999.0,9, -999.00,9, -999.00,9,  -999.0,       6,    25.8110, -999.00,9,     -999.0
  33KB317_1,       PRS2,       2,          5,         15,       8075,2,20191220,       0320,  22.813000,-158.0520000,       4733,     6.3,  25.8123,  34.7024,2,  34.7019,2,    204.8,1,  -999.0,9, -999.00,9, -999.00,9,  -999.0,       7,    25.8109, -999.00,9,     -999.0
  33KB317_1,       PRS2,       2,          5,         14,       8074,2,20191220,       0320,  22.813000,-158.0520000,       4733,    25.2,  25.8160,  34.7026,2,-999.0000,5,    204.5,1,  -999.0,9, -999.00,9, -999.00,9,  -999.0,      25,    25.8104, -999.00,9,     -999.0
  33KB317_1,       PRS2,       2,          5,         13,       8073,2,20191220,       0320,  22.813000,-158.0520000,       4733,    24.8,  25.8158,  34.7026,2,  34.7020,2,    205.0,1,  -999.0,9, -999.00,9, -999.00,9,  -999.0,      23,    25.8103, -999.00,9,     -999.0
  33KB317_1,       PRS2,       2,          5,         12,       8072,2,20191220,       0320,  22.813000,-158.0520000,       4733,    46.4,  25.8248,  34.7020,2,  34.7034,2,    205.0,1,  -999.0,9, -999.00,9, -999.00,9,  -999.0,      47,    25.8145, -999.00,9,     -999.0
  33KB317_1,       PRS2,       2,          5,         11,       8071,2,20191220,       0320,  22.813000,-158.0520000,       4733,    75.4,  25.8239,  34.7079,2,  34.7121,2,    204.9,1,  -999.0,9, -999.00,9, -999.00,9,  -999.0,      76,    25.8072, -999.00,9,     -999.0
  33KB317_1,       PRS2,       2,          5,         10,       8070,2,20191220,       0320,  22.813000,-158.0520000,       4733,   100.2,  23.8362,  34.7888,2,  34.7909,2,    208.2,1,  -999.0,9, -999.00,9, -999.00,9,  -999.0,     100,    23.8152, -999.00,9,     -999.0
  33KB317_1,       PRS2,       2,          5,          9,       8069,2,20191220,       0320,  22.813000,-158.0520000,       4733,   123.6,  22.7240,  34.8936,2,  34.8928,2,    199.8,1,  -999.0,9, -999.00,9, -999.00,9,  -999.0,     124,    22.6990, -999.00,9,     -999.0
  33KB317_1,       PRS2,       2,          5,          8,       8068,2,20191220,       0320,  22.813000,-158.0520000,       4733,   149.3,  21.7862,  34.9344,2,  34.9347,2,    192.6,1,  -999.0,9, -999.00,9, -999.00,9,  -999.0,     150,    21.7569, -999.00,9,     -999.0
  33KB317_1,       PRS2,       2,          5,          7,       8067,2,20191220,       0320,  22.813000,-158.0520000,       4733,   175.6,  20.2385,  35.0369,2,  35.0354,2,    194.8,1,  -999.0,9, -999.00,9, -999.00,9,  -999.0,     174,    20.2057, -999.00,9,     -999.0
  33KB317_1,       PRS2,       2,          5,          6,       8066,2,20191220,       0320,  22.813000,-158.0520000,       4733,   200.1,  18.9986,  34.9624,2,  34.9620,2,    197.3,1,  -999.0,9, -999.00,9, -999.00,9,  -999.0,     200,    18.9629, -999.00,9,     -999.0
  33KB317_1,       PRS2,       2,          5,          5,       8065,2,20191220,       0320,  22.813000,-158.0520000,       4733,   249.7,  15.6196,  34.5625,2,  34.5502,2,    200.2,1,  -999.0,9, -999.00,9, -999.00,9,  -999.0,     250,    15.5808, -999.00,9,     -999.0
  33KB317_1,       PRS2,       2,          5,          4,       8004,2,20191220,       0320,  22.813000,-158.0520000,       4733,   349.3,  10.4825,  34.1190,2,  34.1187,2,    168.4,1,  -999.0,9, -999.00,9, -999.00,9,  -999.0,     350,    10.4409, -999.00,9,     -999.0
  33KB317_1,       PRS2,       2,          5,          3,       8063,2,20191220,       0320,  22.813000,-158.0520000,       4733,   349.8,  10.4642,  34.1188,2,  34.1189,2,    162.8,1,  -999.0,9, -999.00,9, -999.00,9,  -999.0,     352,    10.4226, -999.00,9,     -999.0
  33KB317_1,       PRS2,       2,          5,          2,       8062,2,20191220,       0320,  22.813000,-158.0520000,       4733,   424.4,   8.0228,  34.0858,2,  34.0842,2,    121.1,1,  -999.0,9, -999.00,9, -999.00,9,  -999.0,     425,     7.9797, -999.00,9,     -999.0
  33KB317_1,       PRS2,       2,          5,          1,       8061,2,20191220,       0320,  22.813000,-158.0520000,       4733,  1019.7,   4.2481,  34.4947,2,  34.4940,2,     47.8,1,  -999.0,9, -999.00,9, -999.00,9,  -999.0,    1021,     4.1689, -999.00,9,     -999.0