BOTTLE,20210308SIOCCHSCD
EXPOCODE,SECT_ID,STNNBR,CASTNO,SAMPNO,BTLNBR,BTLNBR_FLAG_W,DATE,TIME,LATITUDE,LONGITUDE,DEPTH,CTDPRS,CTDTMP,CTDSAL,CTDSAL_FLAG_W,SALNTY,SALNTY_FLAG_W,CTDOXY,CTDOXY_FLAG_W,OXYGEN,OXYGEN_FLAG_W,SILCAT,SILCAT_FLAG_W,PHSPHT,PHSPHT_FLAG_W,REVPRS,CTDRAW,THETA,NO2+NO3,NO2+NO3_FLAG_W,REVTMP
,,,,,,,,,,,METERS,DBAR,ITS-90,PSS-78,,PSS-78,,UMOL/KG,,UMOL/KG,,UMOL/KG,,UMOL/KG,,DBAR,DBAR,ITS-90,UMOL/KG,,DEG C
  33KB317_1,       PRS2,       1,          1,         18,       8078,2,20191219,       0000,  21.343167,-158.2725000,       1557,     6.7,  26.7691,  34.6664,2,-999.0000,5,    202.3,2,   202.6,2, -999.00,9, -999.00,9,  -999.0,       7,    26.7676, -999.00,9,     -999.0
  33KB317_1,       PRS2,       1,          1,         17,       8077,2,20191219,       0000,  21.343167,-158.2725000,       1557,     6.7,  26.7699,  34.6663,2,  34.6657,2,    202.6,2,   202.5,2, -999.00,9, -999.00,9,  -999.0,       6,    26.7684, -999.00,9,     -999.0
  33KB317_1,       PRS2,       1,          1,         16,       8076,2,20191219,       0000,  21.343167,-158.2725000,       1557,    10.1,  26.7582,  34.6664,2,  34.6681,2,    202.6,2,  -999.0,5, -999.00,9, -999.00,9,  -999.0,      10,    26.7559, -999.00,9,     -999.0
  33KB317_1,       PRS2,       1,          1,         15,       8075,2,20191219,       0000,  21.343167,-158.2725000,       1557,    24.4,  26.5876,  34.6652,2,  34.6657,2,    203.4,2,   202.6,2, -999.00,9, -999.00,9,  -999.0,      25,    26.5820, -999.00,9,     -999.0
  33KB317_1,       PRS2,       1,          1,         14,       8074,2,20191219,       0000,  21.343167,-158.2725000,       1557,    29.5,  26.5143,  34.6557,2,-999.0000,5,    203.4,2,  -999.0,5, -999.00,9, -999.00,9,  -999.0,      29,    26.5076, -999.00,9,     -999.0
  33KB317_1,       PRS2,       1,          1,         13,       8073,2,20191219,       0000,  21.343167,-158.2725000,       1557,    44.1,  26.2750,  34.6855,2,  34.6816,2,    204.9,2,   203.7,2, -999.00,9, -999.00,9,  -999.0,      44,    26.2651, -999.00,9,     -999.0
  33KB317_1,       PRS2,       1,          1,         12,       8072,2,20191219,       0000,  21.343167,-158.2725000,       1557,    49.6,  26.1616,  34.7005,2,-999.0000,5,    205.3,2,  -999.0,5, -999.00,9, -999.00,9,  -999.0,      50,    26.1505, -999.00,9,     -999.0
  33KB317_1,       PRS2,       1,          1,         11,       8071,2,20191219,       0000,  21.343167,-158.2725000,       1557,    75.3,  26.0385,  34.7203,2,  34.7248,2,    206.0,2,  -999.0,5, -999.00,9, -999.00,9,  -999.0,      76,    26.0217, -999.00,9,     -999.0
  33KB317_1,       PRS2,       1,          1,         10,       8070,2,20191219,       0000,  21.343167,-158.2725000,       1557,   100.0,  23.7588,  34.9909,2,  34.9980,2,    211.2,2,   212.2,2, -999.00,9, -999.00,9,  -999.0,     100,    23.7379, -999.00,9,     -999.0
  33KB317_1,       PRS2,       1,          1,          9,       8069,2,20191219,       0000,  21.343167,-158.2725000,       1557,   124.0,  21.8456,  35.0371,2,  35.0400,2,    198.7,2,  -999.0,5, -999.00,9, -999.00,9,  -999.0,     125,    21.8212, -999.00,9,     -999.0
  33KB317_1,       PRS2,       1,          1,          8,       8068,2,20191219,       0000,  21.343167,-158.2725000,       1557,   150.5,  20.5243,  34.9944,2,  34.9896,2,    187.1,2,   187.7,2, -999.00,9, -999.00,9,  -999.0,     151,    20.4960, -999.00,9,     -999.0
  33KB317_1,       PRS2,       1,          1,          7,       8067,2,20191219,       0000,  21.343167,-158.2725000,       1557,   175.3,  19.4716,  34.9020,2,  34.9058,2,    185.3,2,  -999.0,5, -999.00,9, -999.00,9,  -999.0,     175,    19.4398, -999.00,9,     -999.0
  33KB317_1,       PRS2,       1,          1,          6,       8066,2,20191219,       0000,  21.343167,-158.2725000,       1557,   200.5,  17.9934,  34.7938,2,  34.8003,2,    189.9,2,  -999.0,5, -999.00,9, -999.00,9,  -999.0,     200,    17.9590, -999.00,9,     -999.0
  33KB317_1,       PRS2,       1,          1,          5,       8065,2,20191219,       0000,  21.343167,-158.2725000,       1557,   249.8,  14.0731,  34.3644,2,  34.3678,2,    179.2,2,   181.2,2, -999.00,9, -999.00,9,  -999.0,     250,    14.0370, -999.00,9,     -999.0
  33KB317_1,       PRS2,       1,          1,          4,       8004,2,20191219,       0000,  21.343167,-158.2725000,       1557,   350.0,   9.4260,  34.1157,2,  34.1162,2,    154.7,2,   152.2,2, -999.00,9, -999.00,9,  -999.0,     350,     9.3870, -999.00,9,     -999.0
  33KB317_1,       PRS2,       1,          1,          3,       8063,2,20191219,       0000,  21.343167,-158.2725000,       1557,   500.2,   7.1754,  34.1394,2,  34.1393,2,     84.8,2,    85.4,2, -999.00,9, -999.00,9,  -999.0,     500,     7.1275, -999.00,9,     -999.0
  33KB317_1,       PRS2,       1,          1,          2,       8062,2,20191219,       0000,  21.343167,-158.2725000,       1557,   750.0,   5.2050,  34.3927,2,  34.3937,2,     36.1,2,    36.4,2, -999.00,9, -999.00,9,  -999.0,     750,     5.1428, -999.00,9,     -999.0
  33KB317_1,       PRS2,       1,          1,          1,       8061,2,20191219,       0000,  21.343167,-158.2725000,       1557,  1019.9,   4.3529,  34.4918,2,  34.4934,2,     48.1,2,    47.9,2, -999.00,9, -999.00,9,  -999.0,    1021,     4.2729, -999.00,9,     -999.0
  33KB317_1,       PRS2,       2,          1,         22,       8082,2,20191219,       1153,  22.726500,-158.0250000,       4749,     4.8,  25.8166,  34.7224,2,  34.7229,2,    205.6,1,  -999.0,9, -999.00,9, -999.00,9,  -999.0,       6,    25.8155, -999.00,9,     -999.0
  33KB317_1,       PRS2,       2,          1,         21,       8081,2,20191219,       1153,  22.726500,-158.0250000,       4749,     4.7,  25.8170,  34.7223,2,  34.7227,2,    205.2,1,  -999.0,9, -999.00,9, -999.00,9,  -999.0,       5,    25.8160, -999.00,9,     -999.0
  33KB317_1,       PRS2,       2,          1,         20,       8026,2,20191219,       1153,  22.726500,-158.0250000,       4749,     5.1,  25.8173,  34.7222,2,  34.7225,2,    205.1,1,  -999.0,9, -999.00,9, -999.00,9,  -999.0,       6,    25.8162, -999.00,9,     -999.0
  33KB317_1,       PRS2,       2,          1,         19,       8079,2,20191219,       1153,  22.726500,-158.0250000,       4749,    24.5,  25.8299,  34.7231,2,  34.7248,2,    205.7,1,  -999.0,9, -999.00,9, -999.00,9,  -999.0,      24,    25.8245, -999.00,9,     -999.0
  33KB317_1,       PRS2,       2,          1,         18,       8078,2,20191219,       1153,  22.726500,-158.0250000,       4749,    25.0,  25.8300,  34.7232,2,  34.7235,2,    205.8,1,  -999.0,9, -999.00,9, -999.00,9,  -999.0,      26,    25.8245, -999.00,9,     -999.0
  33KB317_1,       PRS2,       2,          1,         17,       8077,2,20191219,       1153,  22.726500,-158.0250000,       4749,    24.5,  25.8298,  34.7230,2,  34.7237,2,    205.5,1,  -999.0,9, -999.00,9, -999.00,9,  -999.0,      25,    25.8244, -999.00,9,     -999.0
  33KB317_1,       PRS2,       2,          1,         16,       8076,2,20191219,       1153,  22.726500,-158.0250000,       4749,    44.5,  25.8320,  34.7231,2,  34.7237,2,    205.7,1,  -999.0,9, -999.00,9, -999.00,9,  -999.0,      46,    25.8222, -999.00,9,     -999.0
  33KB317_1,       PRS2,       2,          1,         15,       8075,2,20191219,       1153,  22.726500,-158.0250000,       4749,    44.6,  25.8319,  34.7232,2,  34.7231,2,    205.7,1,  -999.0,9, -999.00,9, -999.00,9,  -999.0,      45,    25.8220, -999.00,9,     -999.0
  33KB317_1,       PRS2,       2,          1,         14,       8074,2,20191219,       1153,  22.726500,-158.0250000,       4749,    44.5,  25.8322,  34.7231,2,  34.7235,2,    206.0,1,  -999.0,9, -999.00,9, -999.00,9,  -999.0,      45,    25.8223, -999.00,9,     -999.0
  33KB317_1,       PRS2,       2,          1,         13,       8073,2,20191219,       1153,  22.726500,-158.0250000,       4749,    76.2,  25.8321,  34.7290,2,  34.7298,2,    207.2,1,  -999.0,9, -999.00,9, -999.00,9,  -999.0,      76,    25.8152, -999.00,9,     -999.0
  33KB317_1,       PRS2,       2,          1,         12,       8072,2,20191219,       1153,  22.726500,-158.0250000,       4749,    76.1,  25.8325,  34.7287,2,  34.7302,2,    207.0,1,  -999.0,9, -999.00,9, -999.00,9,  -999.0,      75,    25.8156, -999.00,9,     -999.0
  33KB317_1,       PRS2,       2,          1,         11,       8071,2,20191219,       1153,  22.726500,-158.0250000,       4749,    76.3,  25.8322,  34.7284,2,  34.7300,2,    206.4,1,  -999.0,9, -999.00,9, -999.00,9,  -999.0,      78,    25.8153, -999.00,9,     -999.0
  33KB317_1,       PRS2,       2,          1,         10,       8070,2,20191219,       1153,  22.726500,-158.0250000,       4749,   100.9,  24.0277,  34.7883,2,  34.7885,2,    204.4,1,  -999.0,9, -999.00,9, -999.00,9,  -999.0,     101,    24.0065, -999.00,9,     -999.0
  33KB317_1,       PRS2,       2,          1,          9,       8069,2,20191219,       1153,  22.726500,-158.0250000,       4749,   100.9,  24.0141,  34.7876,2,  34.7909,2,    200.7,1,  -999.0,9, -999.00,9, -999.00,9,  -999.0,     101,    23.9929, -999.00,9,     -999.0
  33KB317_1,       PRS2,       2,          1,          8,       8068,2,20191219,       1153,  22.726500,-158.0250000,       4749,   100.9,  23.9712,  34.7859,2,  34.7891,2,    200.0,1,  -999.0,9, -999.00,9, -999.00,9,  -999.0,     101,    23.9500, -999.00,9,     -999.0
  33KB317_1,       PRS2,       2,          1,          7,       8067,2,20191219,       1153,  22.726500,-158.0250000,       4749,   124.0,  23.2888,  34.8317,2,  34.8336,2,    197.8,1,  -999.0,9, -999.00,9, -999.00,9,  -999.0,     124,    23.2633, -999.00,9,     -999.0
  33KB317_1,       PRS2,       2,          1,          6,       8066,2,20191219,       1153,  22.726500,-158.0250000,       4749,   124.2,  23.2857,  34.8321,2,  34.8336,2,    195.8,1,  -999.0,9, -999.00,9, -999.00,9,  -999.0,     126,    23.2601, -999.00,9,     -999.0
  33KB317_1,       PRS2,       2,          1,          5,       8065,2,20191219,       1153,  22.726500,-158.0250000,       4749,   124.6,  23.2821,  34.8318,2,  34.8342,2,    194.1,1,  -999.0,9, -999.00,9, -999.00,9,  -999.0,     125,    23.2565, -999.00,9,     -999.0
  33KB317_1,       PRS2,       2,          1,          4,       8004,2,20191219,       1153,  22.726500,-158.0250000,       4749,   150.4,  21.6641,  34.9592,2,  34.9565,2,    191.7,1,  -999.0,9, -999.00,9, -999.00,9,  -999.0,     152,    21.6347, -999.00,9,     -999.0
  33KB317_1,       PRS2,       2,          1,          3,       8063,2,20191219,       1153,  22.726500,-158.0250000,       4749,   176.0,  20.2184,  35.0332,2,  35.0366,2,    195.1,1,  -999.0,9, -999.00,9, -999.00,9,  -999.0,     176,    20.1856, -999.00,9,     -999.0
  33KB317_1,       PRS2,       2,          1,          2,       8062,2,20191219,       1153,  22.726500,-158.0250000,       4749,   448.8,   7.9016,  34.0923,2,  34.0938,2,    108.5,1,  -999.0,9, -999.00,9, -999.00,9,  -999.0,     451,     7.8564, -999.00,9,     -999.0
  33KB317_1,       PRS2,       2,          1,          1,       8061,2,20191219,       1153,  22.726500,-158.0250000,       4749,  1018.3,   4.4561,  34.4825,2,  34.4838,2,     46.5,1,  -999.0,9, -999.00,9, -999.00,9,  -999.0,    1020,     4.3754, -999.00,9,     -999.0
  33KB317_1,       PRS2,       2,          2,         24,       8084,2,20191219,       1547,  22.749833,-157.9996667,       4811,     4.0,  25.8221,  34.7101,2,  34.7107,2,    205.3,2,   204.9,2,    1.42,2,    0.06,2,  -999.0,       5,    25.8212,    0.03,2,     -999.0
  33KB317_1,       PRS2,       2,          2,         23,       8083,2,20191219,       1547,  22.749833,-157.9996667,       4811,   499.5,   6.8531,  34.1116,2,  34.1127,2,     78.5,2,    79.0,2,   55.76,2,    2.46,2,  -999.0,     500,     6.8066,   33.36,2,     -999.0
  33KB317_1,       PRS2,       2,          2,         22,       8082,2,20191219,       1547,  22.749833,-157.9996667,       4811,   749.1,   5.3916,  34.3646,2,  34.3649,2,     37.0,2,    36.6,2,   83.37,2,    2.94,2,  -999.0,     751,     5.3285,   39.56,2,     -999.0
  33KB317_1,       PRS2,       2,          2,         21,       8081,2,20191219,       1547,  22.749833,-157.9996667,       4811,  1001.1,   4.4340,  34.4853,2,  34.4848,2,     46.5,2,    48.9,2,  100.42,2,    3.01,2,  -999.0,    1000,     4.3549,   41.27,2,     -999.0
  33KB317_1,       PRS2,       2,          2,         20,       8026,2,20191219,       1547,  22.749833,-157.9996667,       4811,  1198.6,   3.7989,  34.5239,2,  34.5237,2,     52.5,2,    52.5,2,  113.46,2,    3.02,2,  -999.0,    1198,     3.7082,   41.43,2,     -999.0
  33KB317_1,       PRS2,       2,          2,         19,       8079,2,20191219,       1547,  22.749833,-157.9996667,       4811,  1397.7,   3.3261,  34.5486,2,  34.5494,2,     59.0,2,    60.0,2,  124.03,2,    2.99,2,  -999.0,    1399,     3.2233,   41.43,2,     -999.0
  33KB317_1,       PRS2,       2,          2,         18,       8078,2,20191219,       1547,  22.749833,-157.9996667,       4811,  1599.0,   2.8446,  34.5659,2,  34.5653,2,     68.1,2,    69.3,2,  136.70,2,    2.94,2,  -999.0,    1599,     2.7303,   40.92,2,     -999.0
  33KB317_1,       PRS2,       2,          2,         17,       8077,2,20191219,       1547,  22.749833,-157.9996667,       4811,  1801.5,   2.5691,  34.5850,2,  34.5853,2,     75.9,2,    76.1,2,  141.66,2,    2.90,2,  -999.0,    1801,     2.4413,   40.42,2,     -999.0
  33KB317_1,       PRS2,       2,          2,         16,       8076,2,20191219,       1547,  22.749833,-157.9996667,       4811,  2000.2,   2.3331,  34.6039,2,  34.6036,2,     84.0,2,    84.3,2,  148.33,2,    2.85,2,  -999.0,    1998,     2.1917,   39.99,2,     -999.0
  33KB317_1,       PRS2,       2,          2,         15,       8075,2,20191219,       1547,  22.749833,-157.9996667,       4811,  2200.7,   2.0730,  34.6197,2,  34.6193,2,     91.5,2,    92.4,2,  154.98,2,    2.81,2,  -999.0,    2201,     1.9183,   39.54,2,     -999.0
  33KB317_1,       PRS2,       2,          2,         14,       8074,2,20191219,       1547,  22.749833,-157.9996667,       4811,  2400.4,   1.9056,  34.6314,2,  34.6313,2,     96.8,2,    97.4,2,  158.85,2,    2.76,2,  -999.0,    2402,     1.7361,   38.78,2,     -999.0
  33KB317_1,       PRS2,       2,          2,         13,       8073,2,20191219,       1547,  22.749833,-157.9996667,       4811,  2600.1,   1.7569,  34.6442,2,  34.6445,2,    104.7,2,   106.7,2,  159.58,2,    2.74,2,  -999.0,    2598,     1.5722,   38.80,2,     -999.0
  33KB317_1,       PRS2,       2,          2,         12,       8072,2,20191219,       1547,  22.749833,-157.9996667,       4811,  2802.0,   1.6700,  34.6530,2,  34.6529,2,    112.2,2,   112.9,2,  160.27,2,    2.70,2,  -999.0,    2801,     1.4684,   38.40,2,     -999.0
  33KB317_1,       PRS2,       2,          2,         11,       8071,2,20191219,       1547,  22.749833,-157.9996667,       4811,  2999.1,   1.5919,  34.6613,2,  34.6624,2,    120.2,2,   121.1,2,  159.41,2,    2.66,2,  -999.0,    2999,     1.3732,   37.81,2,     -999.0
  33KB317_1,       PRS2,       2,          2,         10,       8070,2,20191219,       1547,  22.749833,-157.9996667,       4811,  3200.6,   1.5399,  34.6679,2,  34.6684,2,    127.2,2,   128.2,2,  158.04,2,    2.63,2,  -999.0,    3202,     1.3029,   37.40,2,     -999.0
  33KB317_1,       PRS2,       2,          2,          9,       8069,2,20191219,       1547,  22.749833,-157.9996667,       4811,  3399.0,   1.5035,  34.6732,2,  34.6732,2,    133.9,2,   134.2,2,  159.31,2,    2.59,2,  -999.0,    3400,     1.2475,   37.00,2,     -999.0
  33KB317_1,       PRS2,       2,          2,          8,       8068,2,20191219,       1547,  22.749833,-157.9996667,       4811,  3600.2,   1.4755,  34.6782,2,  34.6783,2,    139.5,2,   139.7,2,  155.24,2,    2.57,2,  -999.0,    3602,     1.1997,   36.66,2,     -999.0
  33KB317_1,       PRS2,       2,          2,          7,       8067,2,20191219,       1547,  22.749833,-157.9996667,       4811,  3800.0,   1.4700,  34.6802,2,  34.6800,2,    143.1,2,   142.8,2,  153.65,2,    2.52,2,  -999.0,    3801,     1.1735,   36.26,2,     -999.0
  33KB317_1,       PRS2,       2,          2,          6,       8066,2,20191219,       1547,  22.749833,-157.9996667,       4811,  3998.0,   1.4637,  34.6825,2,  34.6830,2,    147.4,2,   147.1,2,  151.92,2,    2.52,2,  -999.0,    3998,     1.1460,   36.07,2,     -999.0
  33KB317_1,       PRS2,       2,          2,          5,       8065,2,20191219,       1547,  22.749833,-157.9996667,       4811,  4199.9,   1.4705,  34.6837,2,  34.6832,2,    150.0,2,   149.6,2,  152.92,2,    2.51,2,  -999.0,    4201,     1.1304,   35.90,2,     -999.0
  33KB317_1,       PRS2,       2,          2,          4,       8004,2,20191219,       1547,  22.749833,-157.9996667,       4811,  4400.9,   1.4841,  34.6846,2,  34.6846,2,    151.6,2,   151.1,2,  150.07,2,    2.51,2,  -999.0,    4400,     1.1210,   35.89,2,     -999.0
  33KB317_1,       PRS2,       2,          2,          3,       8063,2,20191219,       1547,  22.749833,-157.9996667,       4811,  4500.7,   1.4928,  34.6848,2,  34.6851,2,    152.3,2,   151.9,2,  150.36,2,    2.51,2,  -999.0,    4501,     1.1180,   35.85,2,     -999.0
  33KB317_1,       PRS2,       2,          2,          2,       8062,2,20191219,       1547,  22.749833,-157.9996667,       4811,  4601.0,   1.5022,  34.6852,2,  34.6850,2,    152.9,2,   151.6,3,  149.93,2,    2.49,2,  -999.0,    4602,     1.1154,   35.80,2,     -999.0
  33KB317_1,       PRS2,       2,          2,          1,       8061,2,20191219,       1547,  22.749833,-157.9996667,       4811,  4804.7,   1.5203,  34.6858,2,  34.6859,2,    153.8,2,   153.2,2,  149.24,2,    2.47,2,  -999.0,    4811,     1.1089,   35.61,2,     -999.0