BOTTLE,20210308SIOCCHSCD
EXPOCODE,SECT_ID,STNNBR,CASTNO,SAMPNO,BTLNBR,BTLNBR_FLAG_W,DATE,TIME,LATITUDE,LONGITUDE,DEPTH,CTDPRS,CTDTMP,CTDSAL,CTDSAL_FLAG_W,SALNTY,SALNTY_FLAG_W,CTDOXY,CTDOXY_FLAG_W,OXYGEN,OXYGEN_FLAG_W,SILCAT,SILCAT_FLAG_W,PHSPHT,PHSPHT_FLAG_W,REVPRS,CTDRAW,THETA,NO2+NO3,NO2+NO3_FLAG_W,REVTMP
,,,,,,,,,,,METERS,DBAR,ITS-90,PSS-78,,PSS-78,,UMOL/KG,,UMOL/KG,,UMOL/KG,,UMOL/KG,,DBAR,DBAR,ITS-90,UMOL/KG,,DEG C
  33KB317_1,       PRS2,       2,          6,         24,       8084,2,20191220,       0600,  22.818500,-157.9988333,       4707,     5.5,  25.7992,  34.7137,2,-999.0000,5,    205.2,2,  -999.0,5, -999.00,5, -999.00,5,  -999.0,       7,    25.7979, -999.00,5,     -999.0
  33KB317_1,       PRS2,       2,          6,         23,       8083,2,20191220,       0600,  22.818500,-157.9988333,       4707,     5.4,  25.7993,  34.7138,2,  34.7127,2,    205.1,2,  -999.0,5, -999.00,5, -999.00,5,  -999.0,       5,    25.7981, -999.00,5,     -999.0
  33KB317_1,       PRS2,       2,          6,         22,       8082,2,20191220,       0600,  22.818500,-157.9988333,       4707,     5.4,  25.8008,  34.7137,2,  34.7136,2,    205.1,2,   204.7,2,    1.15,2,    0.06,2,  -999.0,       5,    25.7996,    0.00,2,     -999.0
  33KB317_1,       PRS2,       2,          6,         21,       8081,2,20191220,       0600,  22.818500,-157.9988333,       4707,    15.2,  25.7959,  34.7138,2,  34.7121,2,    204.7,2,  -999.0,5,    1.25,2,    0.07,2,  -999.0,      15,    25.7925,    0.00,2,     -999.0
  33KB317_1,       PRS2,       2,          6,         20,       8026,2,20191220,       0600,  22.818500,-157.9988333,       4707,    25.1,  25.8051,  34.7137,2,  34.7123,2,    204.9,2,  -999.0,5, -999.00,5, -999.00,5,  -999.0,      25,    25.7995, -999.00,5,     -999.0
  33KB317_1,       PRS2,       2,          6,         19,       8079,2,20191220,       0600,  22.818500,-157.9988333,       4707,    24.8,  25.8059,  34.7139,2,  34.7119,2,    205.2,2,   205.3,2,    1.15,2,    0.07,2,  -999.0,      24,    25.8004,    0.00,2,     -999.0
  33KB317_1,       PRS2,       2,          6,         18,       8078,2,20191220,       0600,  22.818500,-157.9988333,       4707,    33.5,  25.8127,  34.7134,2,  34.7119,2,    206.1,2,  -999.0,5,    1.15,2,    0.07,2,  -999.0,      34,    25.8053,    0.00,2,     -999.0
  33KB317_1,       PRS2,       2,          6,         17,       8077,2,20191220,       0600,  22.818500,-157.9988333,       4707,    44.5,  25.8121,  34.7134,2,  34.7125,2,    207.0,2,   204.7,2,    1.30,2,    0.07,2,  -999.0,      46,    25.8022,    0.00,2,     -999.0
  33KB317_1,       PRS2,       2,          6,         16,       8076,2,20191220,       0600,  22.818500,-157.9988333,       4707,    59.0,  25.8128,  34.7137,2,  34.7131,2,    204.0,2,  -999.0,5,    1.68,2,    0.08,2,  -999.0,      59,    25.7997,    0.00,2,     -999.0
  33KB317_1,       PRS2,       2,          6,         15,       8075,2,20191220,       0600,  22.818500,-157.9988333,       4707,    75.4,  25.8209,  34.7135,2,  34.7133,2,    203.7,2,   205.7,2,    1.17,2,    0.07,2,  -999.0,      76,    25.8042,    0.01,2,     -999.0
  33KB317_1,       PRS2,       2,          6,         14,       8074,2,20191220,       0600,  22.818500,-157.9988333,       4707,    84.2,  25.8172,  34.7144,2,  34.7144,2,    201.1,2,   204.6,2, -999.00,5, -999.00,5,  -999.0,      84,    25.7986, -999.00,5,     -999.0
  33KB317_1,       PRS2,       2,          6,         13,       8073,2,20191220,       0600,  22.818500,-157.9988333,       4707,    89.6,  25.8157,  34.7143,2,  34.7127,2,    199.7,3,  -999.0,5, -999.00,5, -999.00,5,  -999.0,      89,    25.7958, -999.00,5,     -999.0
  33KB317_1,       PRS2,       2,          6,         12,       8072,2,20191220,       0600,  22.818500,-157.9988333,       4707,    98.4,  25.8137,  34.7148,2,  34.7142,2,    198.5,3,   204.7,2,    1.98,3,    0.07,2,  -999.0,      99,    25.7918,    0.00,2,     -999.0
  33KB317_1,       PRS2,       2,          6,         11,       8071,2,20191220,       0600,  22.818500,-157.9988333,       4707,   109.4,  25.8117,  34.7253,2,  34.7231,2,    196.2,3,  -999.0,5, -999.00,5, -999.00,5,  -999.0,     109,    25.7874, -999.00,5,     -999.0
  33KB317_1,       PRS2,       2,          6,         10,       8070,2,20191220,       0600,  22.818500,-157.9988333,       4707,   114.0,  25.5108,  34.7438,2,  34.7408,2,    192.8,3,   204.4,2, -999.00,5, -999.00,5,  -999.0,     114,    25.4857, -999.00,5,     -999.0
  33KB317_1,       PRS2,       2,          6,          9,       8069,2,20191220,       0600,  22.818500,-157.9988333,       4707,   124.5,  23.3756,  34.8344,2,  34.8269,2,    192.1,3,   204.4,2,    1.29,2,    0.15,2,  -999.0,     124,    23.3499,    0.40,2,     -999.0
  33KB317_1,       PRS2,       2,          6,          8,       8068,2,20191220,       0600,  22.818500,-157.9988333,       4707,   128.8,  23.1613,  34.8648,2,  34.8605,2,    192.4,3,  -999.0,5, -999.00,5, -999.00,5,  -999.0,     128,    23.1349, -999.00,5,     -999.0
  33KB317_1,       PRS2,       2,          6,          7,       8067,2,20191220,       0600,  22.818500,-157.9988333,       4707,   149.1,  22.0398,  34.9453,2,  34.9439,2,    194.0,3,   193.6,2,    1.69,2,    0.19,2,  -999.0,     151,    22.0103,    0.85,2,     -999.0
  33KB317_1,       PRS2,       2,          6,          6,       8066,2,20191220,       0600,  22.818500,-157.9988333,       4707,   163.7,  21.5622,  34.9817,2,  34.9793,2,    194.0,2,   191.7,2, -999.00,5, -999.00,5,  -999.0,     166,    21.5303, -999.00,5,     -999.0
  33KB317_1,       PRS2,       2,          6,          5,       8065,2,20191220,       0600,  22.818500,-157.9988333,       4707,   175.7,  20.7747,  35.0309,2,  35.0339,2,    194.4,2,   193.2,2,    2.08,2,    0.20,2,  -999.0,     175,    20.7413,    1.52,2,     -999.0
  33KB317_1,       PRS2,       2,          6,          4,       8004,2,20191220,       0600,  22.818500,-157.9988333,       4707,   200.6,  19.4624,  35.0047,2,  35.0065,2,    197.1,2,   197.2,2,    2.58,2,    0.21,2,  -999.0,     199,    19.4260,    2.13,2,     -999.0
  33KB317_1,       PRS2,       2,          6,          3,       8063,2,20191220,       0600,  22.818500,-157.9988333,       4707,   399.5,   9.1936,  34.1134,2,  34.1132,2,    138.2,2,   136.9,2, -999.00,5, -999.00,5,  -999.0,     401,     9.1496, -999.00,5,     -999.0
  33KB317_1,       PRS2,       2,          6,          2,       8062,2,20191220,       0600,  22.818500,-157.9988333,       4707,   700.7,   5.5355,  34.3483,2,  34.3476,2,     36.6,2,    36.0,2, -999.00,5, -999.00,5,  -999.0,     701,     5.4759, -999.00,5,     -999.0
  33KB317_1,       PRS2,       2,          6,          1,       8061,2,20191220,       0600,  22.818500,-157.9988333,       4707,  1018.9,   4.3732,  34.4880,2,  34.4873,2,     46.8,2,    47.0,2, -999.00,5, -999.00,5,  -999.0,    1023,     4.2931, -999.00,5,     -999.0
  33KB317_1,       PRS2,       2,          7,         20,       8026,2,20191220,       0851,  22.822000,-157.9888333,       4701,     5.3,  25.7929,  34.7086,2,-999.0000,5,    205.2,1,  -999.0,9, -999.00,9, -999.00,9,  -999.0,       6,    25.7917, -999.00,9,     -999.0
  33KB317_1,       PRS2,       2,          7,         19,       8079,2,20191220,       0851,  22.822000,-157.9888333,       4701,     5.6,  25.7928,  34.7083,2,-999.0000,5,    205.1,1,  -999.0,9, -999.00,9, -999.00,9,  -999.0,       6,    25.7915, -999.00,9,     -999.0
  33KB317_1,       PRS2,       2,          7,         18,       8078,2,20191220,       0851,  22.822000,-157.9888333,       4701,    24.7,  25.8039,  34.7079,2,-999.0000,5,    205.3,1,  -999.0,9, -999.00,9, -999.00,9,  -999.0,      24,    25.7984, -999.00,9,     -999.0
  33KB317_1,       PRS2,       2,          7,         17,       8077,2,20191220,       0851,  22.822000,-157.9888333,       4701,    24.5,  25.8037,  34.7078,2,  34.7076,2,    205.0,1,  -999.0,9, -999.00,9, -999.00,9,  -999.0,      25,    25.7983, -999.00,9,     -999.0
  33KB317_1,       PRS2,       2,          7,         16,       8076,2,20191220,       0851,  22.822000,-157.9888333,       4701,    42.0,  25.8117,  34.7079,2,  34.7072,2,    205.0,1,  -999.0,9, -999.00,9, -999.00,9,  -999.0,      42,    25.8024, -999.00,9,     -999.0
  33KB317_1,       PRS2,       2,          7,         15,       8075,2,20191220,       0851,  22.822000,-157.9888333,       4701,    58.8,  25.8154,  34.7084,2,  34.7097,2,    205.2,1,  -999.0,9, -999.00,9, -999.00,9,  -999.0,      60,    25.8023, -999.00,9,     -999.0
  33KB317_1,       PRS2,       2,          7,         14,       8074,2,20191220,       0851,  22.822000,-157.9888333,       4701,    74.9,  25.8186,  34.7088,2,  34.7140,2,    205.0,1,  -999.0,9, -999.00,9, -999.00,9,  -999.0,      77,    25.8020, -999.00,9,     -999.0
  33KB317_1,       PRS2,       2,          7,         13,       8073,2,20191220,       0851,  22.822000,-157.9888333,       4701,    82.9,  25.8201,  34.7086,2,  34.7074,2,    204.8,1,  -999.0,9, -999.00,9, -999.00,9,  -999.0,      83,    25.8017, -999.00,9,     -999.0
  33KB317_1,       PRS2,       2,          7,         12,       8072,2,20191220,       0851,  22.822000,-157.9888333,       4701,   100.1,  25.8188,  34.7098,2,-999.0000,5,    205.5,1,  -999.0,9, -999.00,9, -999.00,9,  -999.0,     101,    25.7966, -999.00,9,     -999.0
  33KB317_1,       PRS2,       2,          7,         11,       8071,2,20191220,       0851,  22.822000,-157.9888333,       4701,   100.3,  25.8139,  34.7109,2,  34.7103,2,    205.2,1,  -999.0,9, -999.00,9, -999.00,9,  -999.0,     102,    25.7917, -999.00,9,     -999.0
  33KB317_1,       PRS2,       2,          7,         10,       8070,2,20191220,       0851,  22.822000,-157.9888333,       4701,   114.0,  25.7902,  34.7246,2,  34.7245,2,    205.1,1,  -999.0,9, -999.00,9, -999.00,9,  -999.0,     115,    25.7650, -999.00,9,     -999.0
  33KB317_1,       PRS2,       2,          7,          9,       8069,2,20191220,       0851,  22.822000,-157.9888333,       4701,   123.5,  23.6993,  34.7879,2,-999.0000,5,    206.4,1,  -999.0,9, -999.00,9, -999.00,9,  -999.0,     124,    23.6735, -999.00,9,     -999.0
  33KB317_1,       PRS2,       2,          7,          8,       8068,2,20191220,       0851,  22.822000,-157.9888333,       4701,   123.6,  23.6899,  34.7890,2,  34.7905,2,    204.2,1,  -999.0,9, -999.00,9, -999.00,9,  -999.0,     123,    23.6642, -999.00,9,     -999.0
  33KB317_1,       PRS2,       2,          7,          7,       8067,2,20191220,       0851,  22.822000,-157.9888333,       4701,   134.5,  22.7840,  34.8881,2,  34.8833,2,    201.2,1,  -999.0,9, -999.00,9, -999.00,9,  -999.0,     134,    22.7567, -999.00,9,     -999.0
  33KB317_1,       PRS2,       2,          7,          6,       8066,2,20191220,       0851,  22.822000,-157.9888333,       4701,   147.8,  21.9505,  34.9545,2,  34.9652,2,    193.7,1,  -999.0,9, -999.00,9, -999.00,9,  -999.0,     147,    21.9213, -999.00,9,     -999.0
  33KB317_1,       PRS2,       2,          7,          5,       8065,2,20191220,       0851,  22.822000,-157.9888333,       4701,   147.7,  21.9577,  34.9530,2,-999.0000,5,    192.3,1,  -999.0,9, -999.00,9, -999.00,9,  -999.0,     147,    21.9286, -999.00,9,     -999.0
  33KB317_1,       PRS2,       2,          7,          4,       8004,2,20191220,       0851,  22.822000,-157.9888333,       4701,   173.4,  20.3973,  35.0368,2,-999.0000,5,    194.3,1,  -999.0,9, -999.00,9, -999.00,9,  -999.0,     176,    20.3647, -999.00,9,     -999.0
  33KB317_1,       PRS2,       2,          7,          3,       8063,2,20191220,       0851,  22.822000,-157.9888333,       4701,   173.4,  20.3970,  35.0368,2,  35.0423,2,    194.5,1,  -999.0,9, -999.00,9, -999.00,9,  -999.0,     176,    20.3645, -999.00,9,     -999.0
  33KB317_1,       PRS2,       2,          7,          2,       8062,2,20191220,       0851,  22.822000,-157.9888333,       4701,   399.8,   9.3960,  34.1193,2,  34.1277,2,    142.7,1,  -999.0,9, -999.00,9, -999.00,9,  -999.0,     399,     9.3514, -999.00,9,     -999.0
  33KB317_1,       PRS2,       2,          7,          1,       8061,2,20191220,       0851,  22.822000,-157.9888333,       4701,  1020.2,   4.3920,  34.4860,2,  34.4854,2,     46.7,1,  -999.0,9, -999.00,9, -999.00,9,  -999.0,    1022,     4.3116, -999.00,9,     -999.0