BOTTLE,20180214PRINUNIVRMK
EXPOCODE,STNNBR,CASTNO,BTLNBR,BTLNBR_FLAG_W,DATE,TIME,LATITUDE,LONGITUDE,DEPTH,CTDPRS,CTDTMP,CTDSAL,CTDSAL_FLAG_W,CTDOXY,CTDOXY_FLAG_W,OXYGEN,OXYGEN_FLAG_W,SILCAT,SILCAT_FLAG_W,NITRAT,NITRAT_FLAG_W,NITRIT,NITRIT_FLAG_W,PHSPHT,PHSPHT_FLAG_W,NH4,NH4_FLAG_W,THETA
,,,,,,,,,METERS,DBAR,ITS-90,PSS-78,,UMOL/KG,,UMOL/KG,,UMOL/KG,,UMOL/KG,,UMOL/KG,,UMOL/KG,,UMOL/KG,,DEG C
  06M320140530,     9,  1,     19,2,20140610,0435, 18.0830, -17.0000, 1761,     10.4,  20.9174,  35.6928,2,    214.6,2,    215.6,2,     1.86,2,  -999.00,9,     0.16,2,     0.76,2,     -999,9,  20.9154
  06M320140530,     9,  1,     18,2,20140610,0435, 18.0830, -17.0000, 1761,     15.6,  20.8897,  35.6918,2,    212.6,2,   -999.0,9,     1.93,2,  -999.00,9,     0.19,2,     0.79,2,     -999,9,  20.8867
  06M320140530,     9,  1,     17,2,20140610,0435, 18.0830, -17.0000, 1761,     20.3,  20.0706,  35.6822,2,    184.3,2,   -999.0,9,     4.22,2,  -999.00,9,     0.36,2,     1.22,2,     -999,9,  20.0668
  06M320140530,     9,  1,     16,2,20140610,0435, 18.0830, -17.0000, 1761,     25.1,  17.5260,  35.6447,2,     81.6,2,   -999.0,9,     3.89,2,  -999.00,9,     0.50,2,     1.63,2,     -999,9,  17.5218
  06M320140530,     9,  1,     15,2,20140610,0435, 18.0830, -17.0000, 1761,     30.1,  16.9155,  35.6218,2,     55.5,2,   -999.0,9,     5.90,2,  -999.00,9,     0.45,2,     1.76,2,     -999,9,  16.9106
  06M320140530,     9,  1,     14,2,20140610,0435, 18.0830, -17.0000, 1761,     36.7,  15.9359,  35.5669,2,     34.5,2,   -999.0,9,     8.13,2,  -999.00,9,     0.08,2,     1.83,2,     -999,9,  15.9301
  06M320140530,     9,  1,     13,2,20140610,0435, 18.0830, -17.0000, 1761,     41.2,  15.7943,  35.5623,2,     34.4,2,   -999.0,9,     8.24,2,  -999.00,9,     0.07,2,     1.84,2,     -999,9,  15.7878
  06M320140530,     9,  1,     12,2,20140610,0435, 18.0830, -17.0000, 1761,     51.3,  15.6189,  35.5546,2,     36.4,2,     35.0,2,     8.32,2,  -999.00,9,     0.04,2,     1.86,2,     -999,9,  15.6109
  06M320140530,     9,  1,     11,2,20140610,0435, 18.0830, -17.0000, 1761,     76.9,  15.3169,  35.5363,2,     42.2,2,   -999.0,9,     8.01,2,  -999.00,9,     0.04,2,     1.76,2,     -999,9,  15.3051
  06M320140530,     9,  1,     10,2,20140610,0435, 18.0830, -17.0000, 1761,    101.0,  15.0974,  35.5202,2,     48.2,2,   -999.0,9,     7.89,2,  -999.00,9,     0.03,2,     1.79,2,     -999,9,  15.0820
  06M320140530,     9,  1,      9,2,20140610,0435, 18.0830, -17.0000, 1761,    151.8,  14.7547,  35.4918,2,     53.8,2,   -999.0,9,     7.84,2,  -999.00,9,     0.02,2,     1.74,2,     -999,9,  14.7319
  06M320140530,     9,  1,      8,2,20140610,0435, 18.0830, -17.0000, 1761,    203.2,  13.8323,  35.4172,2,     62.7,2,   -999.0,9,     8.23,2,  -999.00,9,     0.02,2,     1.76,2,     -999,9,  13.8031
  06M320140530,     9,  1,      7,2,20140610,0435, 18.0830, -17.0000, 1761,    450.9,  10.9690,  35.3020,2,     43.5,2,     43.8,2,    12.62,2,  -999.00,9,     0.03,2,     2.04,2,     -999,9,  10.9127
  06M320140530,     9,  1,      6,2,20140610,0435, 18.0830, -17.0000, 1761,    704.6,   8.3721,  35.0588,2,     75.9,2,   -999.0,9,    18.08,2,  -999.00,9,     0.03,2,     2.20,2,     -999,9,   8.2965
  06M320140530,     9,  1,      5,2,20140610,0435, 18.0830, -17.0000, 1761,   1006.6,   6.2116,  34.9479,2,    120.6,2,    120.4,2,    22.23,2,  -999.00,9,     0.02,2,     2.19,2,     -999,9,   6.1178
  06M320140530,     9,  1,      3,2,20140610,0435, 18.0830, -17.0000, 1761,   1410.4,   4.6433,  34.9948,2,    183.8,2,    186.1,2,    22.23,2,  -999.00,9,     0.02,2,     2.19,2,     -999,9,   4.5243
  06M320140530,     9,  1,      2,2,20140610,0435, 18.0830, -17.0000, 1761,   1614.8,   4.1178,  34.9827,2,    202.7,2,    204.6,2,    23.51,2,  -999.00,9,     0.02,2,     1.86,2,     -999,9,   3.9856
  06M320140530,     9,  1,      1,2,20140610,0435, 18.0830, -17.0000, 1761,   1774.9,   3.7802,  34.9753,2,    212.9,2,    215.1,2,    24.15,2,  -999.00,9,     0.03,2,     1.82,2,     -999,9,   3.6373
  06M320140530,    10,  1,     24,2,20140610,2034, 18.1880, -16.6540,  781,      7.6,  19.5615,  35.6539,2,    226.0,2,     38.5,3,     0.23,2,  -999.00,9,     0.40,2,     0.78,2,    0.816,2,  19.5601
  06M320140530,    10,  1,     20,2,20140610,2034, 18.1880, -16.6540,  781,     29.6,  17.8324,  35.6818,2,     82.7,2,   -999.0,9,     7.10,2,  -999.00,9,     0.16,2,     1.76,2,        0,2,  17.8274
  06M320140530,    10,  1,     16,2,20140610,2034, 18.1880, -16.6540,  781,     75.4,  15.5300,  35.5592,2,     35.4,2,   -999.0,9,     7.83,2,  -999.00,9,     0.05,2,     1.73,2,        0,2,  15.5183
  06M320140530,    10,  1,     15,2,20140610,2034, 18.1880, -16.6540,  781,    148.3,  14.3609,  35.4601,2,     57.1,2,     63.5,2,     8.64,2,  -999.00,9,     0.05,2,     1.75,2,        0,2,  14.3390
  06M320140530,    10,  1,     14,2,20140610,2034, 18.1880, -16.6540,  781,    249.5,  13.2396,  35.4105,2,     62.3,2,   -999.0,9,    11.21,2,  -999.00,9,     0.04,2,     1.93,2,        0,2,  13.2047
  06M320140530,    10,  1,     13,2,20140610,2034, 18.1880, -16.6540,  781,    400.9,  11.7836,  35.3715,2,     45.8,2,     43.5,2,    12.43,2,  -999.00,9,     0.04,2,     2.03,2,        0,2,  11.7313
  06M320140530,    10,  1,     10,2,20140610,2034, 18.1880, -16.6540,  781,    453.1,  11.1172,  35.3132,2,     44.2,2,   -999.0,9,    14.42,2,  -999.00,9,     0.04,2,     2.11,2,        0,2,  11.0601
  06M320140530,    10,  1,      9,2,20140610,2034, 18.1880, -16.6540,  781,    551.6,  10.1822,  35.2312,2,     49.4,2,   -999.0,9,    16.49,2,  -999.00,9,     0.04,2,     2.03,2,        0,2,  10.1161
  06M320140530,    10,  1,      8,2,20140610,2034, 18.1880, -16.6540,  781,    654.3,   9.2416,  35.1344,2,     58.8,2,     60.1,2,    17.10,2,  -999.00,9,     0.04,2,     2.13,2,        0,2,   9.1674
  06M320140530,    10,  1,      4,2,20140610,2034, 18.1880, -16.6540,  781,    703.9,   8.9985,  35.1063,2,     61.0,2,   -999.0,9,    19.42,2,  -999.00,9,     0.05,2,     2.29,2,        0,2,   8.9197
  06M320140530,    10,  1,      3,2,20140610,2034, 18.1880, -16.6540,  781,    754.6,   8.2036,  35.0250,2,     69.1,2,     72.9,2,    19.99,2,  -999.00,9,     0.05,2,     2.10,2,        0,2,   8.1233
  06M320140530,    10,  1,      1,2,20140610,2034, 18.1880, -16.6540,  781,    784.9,   7.9237,  34.9981,2,     73.2,2,     76.6,2,    20.14,2,  -999.00,9,     0.05,2,     2.24,2,    0.044,2,   7.8417
  06M320140530,    11,  1,     19,2,20140611,0150, 18.1660, -16.7490, 1095,      8.8,  19.7408,  35.6728,2,    204.2,2,   -999.0,9,     1.51,2,  -999.00,9,     0.38,2,     1.03,2,    0.836,2,  19.7392
  06M320140530,    11,  1,     18,2,20140611,0150, 18.1660, -16.7490, 1095,     19.3,  19.1185,  35.6729,2,    147.1,2,   -999.0,9,     4.99,2,  -999.00,9,     0.36,2,     1.49,2,    0.359,2,  19.1150
  06M320140530,    11,  1,     17,2,20140611,0150, 18.1660, -16.7490, 1095,     29.1,  16.6167,  35.6231,2,     55.0,2,   -999.0,9,     7.04,2,  -999.00,9,     0.15,2,     1.77,2,        0,2,  16.6120
  06M320140530,    11,  1,     16,2,20140611,0150, 18.1660, -16.7490, 1095,     39.5,  15.5298,  35.5637,2,     38.8,2,   -999.0,9,     7.68,2,  -999.00,9,     0.10,2,     1.85,2,        0,2,  15.5237
  06M320140530,    11,  1,     15,2,20140611,0150, 18.1660, -16.7490, 1095,     49.5,  15.4011,  35.5501,2,     37.1,2,     40.3,2,     7.69,2,  -999.00,9,     0.11,2,     1.76,2,        0,2,  15.3935
  06M320140530,    11,  1,     14,2,20140611,0150, 18.1660, -16.7490, 1095,     60.5,  15.2748,  35.5444,2,     42.6,2,   -999.0,9,     7.31,2,  -999.00,9,     0.07,2,     1.76,2,        0,2,  15.2655
  06M320140530,    11,  1,     13,2,20140611,0150, 18.1660, -16.7490, 1095,     71.2,  15.2371,  35.5410,2,     49.6,2,   -999.0,9,     7.00,2,  -999.00,9,     0.06,2,     1.74,2,        0,2,  15.2262
  06M320140530,    11,  1,     12,2,20140611,0150, 18.1660, -16.7490, 1095,     80.9,  15.0770,  35.5269,2,     52.9,2,   -999.0,9,     6.91,2,  -999.00,9,     0.07,2,     1.72,2,        0,2,  15.0647
  06M320140530,    11,  1,     11,2,20140611,0150, 18.1660, -16.7490, 1095,     89.4,  14.9853,  35.5225,2,     50.9,2,   -999.0,9,     7.08,2,  -999.00,9,     0.04,2,     1.81,2,        0,2,  14.9718
  06M320140530,    11,  1,     10,2,20140611,0150, 18.1660, -16.7490, 1095,    102.4,  14.9756,  35.5352,2,     45.8,2,     46.5,2,     7.25,2,  -999.00,9,     0.05,2,     1.77,2,        0,2,  14.9601
  06M320140530,    11,  1,      9,2,20140611,0150, 18.1660, -16.7490, 1095,    151.7,  13.9410,  35.4173,2,     63.7,2,   -999.0,9,     7.68,2,  -999.00,9,     0.02,2,     1.76,2,        0,2,  13.9191
  06M320140530,    11,  1,      8,2,20140611,0150, 18.1660, -16.7490, 1095,    200.0,  13.4256,  35.3750,2,     65.6,2,     64.6,2,     8.69,2,  -999.00,9,     0.02,2,     1.75,2,        0,2,  13.3974
  06M320140530,    11,  1,      7,2,20140611,0150, 18.1660, -16.7490, 1095,    451.3,  11.1967,  35.3272,2,     43.6,2,     42.9,2,    12.58,2,  -999.00,9,     0.00,2,     2.17,2,        0,2,  11.1396
  06M320140530,    11,  1,      6,2,20140611,0150, 18.1660, -16.7490, 1095,    601.5,   9.5332,  35.1728,2,     58.1,2,     59.6,2,    16.31,2,  -999.00,9,     0.03,2,     2.23,2,        0,2,   9.4638
  06M320140530,    11,  1,      5,2,20140611,0150, 18.1660, -16.7490, 1095,    805.1,   7.3466,  34.9471,2,     82.3,2,     82.0,2,    20.92,2,  -999.00,9,     0.03,2,     2.36,2,        0,2,   7.2659
  06M320140530,    11,  1,      2,2,20140611,0150, 18.1660, -16.7490, 1095,    955.7,   6.3360,  34.9177,2,    110.8,2,    113.1,2,    22.92,2,  -999.00,9,     0.03,2,     2.23,2,        0,2,   6.2464
  06M320140530,    11,  1,      1,2,20140611,0150, 18.1660, -16.7490, 1095,   1102.8,   5.7665,  34.9578,2,    134.2,2,    132.5,2,    23.44,2,  -999.00,9,     0.03,2,     2.20,2,    0.086,2,   5.6666
  06M320140530,    12,  1,     24,2,20140611,0603, 18.1290, -16.8560, 1452,      8.5,  21.0643,  35.7206,2,    202.4,2,    175.5,3,     0.86,2,  -999.00,9,     0.48,2,     0.85,2,    0.559,2,  21.0627
  06M320140530,    12,  1,     23,2,20140611,0603, 18.1290, -16.8560, 1452,     19.1,  20.8190,  35.7417,2,    199.6,2,   -999.0,9,     3.71,2,  -999.00,9,     0.59,2,     1.38,2,    0.375,2,  20.8154
  06M320140530,    12,  1,     22,2,20140611,0603, 18.1290, -16.8560, 1452,     29.4,  17.2965,  35.6847,2,     51.4,2,   -999.0,9,     5.32,2,  -999.00,9,     0.37,2,     1.75,2,        0,2,  17.2916
  06M320140530,    12,  1,     21,2,20140611,0603, 18.1290, -16.8560, 1452,     39.0,  16.1965,  35.6158,2,     40.9,2,   -999.0,9,     6.90,2,  -999.00,9,     0.04,2,     1.83,2,        0,2,  16.1903
  06M320140530,    12,  1,     20,2,20140611,0603, 18.1290, -16.8560, 1452,     53.3,  15.4800,  35.5610,2,     41.7,2,     45.4,2,     6.35,2,  -999.00,9,     0.06,2,     1.82,2,    0.044,2,  15.4717
  06M320140530,    12,  1,     19,2,20140611,0603, 18.1290, -16.8560, 1452,     74.6,  15.0400,  35.5254,2,     49.1,2,   -999.0,9,     7.16,2,  -999.00,9,     0.04,2,     1.74,2,    0.019,2,  15.0287
  06M320140530,    12,  1,     18,2,20140611,0603, 18.1290, -16.8560, 1452,    100.3,  14.4594,  35.4673,2,     60.4,2,   -999.0,9,     7.24,2,  -999.00,9,     0.02,2,     1.70,2,    0.033,2,  14.4446
  06M320140530,    12,  1,     17,2,20140611,0603, 18.1290, -16.8560, 1452,    150.0,  14.0244,  35.4576,2,     61.0,2,   -999.0,9,     7.55,2,  -999.00,9,     0.02,2,     1.85,2,        0,2,  14.0026
  06M320140530,    12,  1,     16,2,20140611,0603, 18.1290, -16.8560, 1452,    200.0,  13.4942,  35.4069,2,     63.6,2,   -999.0,9,     8.46,2,  -999.00,9,     0.00,2,     1.70,2,        0,2,  13.4659
  06M320140530,    12,  1,     15,2,20140611,0603, 18.1290, -16.8560, 1452,    250.9,  13.1343,  35.4332,2,     58.5,2,     58.1,2,     9.09,2,  -999.00,9,     0.01,2,     1.85,2,        0,2,  13.0993
  06M320140530,    12,  1,     14,2,20140611,0603, 18.1290, -16.8560, 1452,    349.9,  12.2829,  35.4254,3,     49.6,2,   -999.0,9,    10.26,2,  -999.00,9,     0.00,2,     2.03,2,    0.013,2,  12.2361
  06M320140530,    12,  1,     13,2,20140611,0603, 18.1290, -16.8560, 1452,    451.5,  10.9974,  35.3101,2,     44.1,2,     44.3,2,    12.47,2,  -999.00,9,     0.00,2,     2.07,2,        0,2,  10.9409
  06M320140530,    12,  1,     12,2,20140611,0603, 18.1290, -16.8560, 1452,    501.9,  10.5707,  35.2800,2,     49.6,2,   -999.0,9,    13.82,2,  -999.00,9,     0.00,2,     2.31,3,        0,2,  10.5093
  06M320140530,    12,  1,     11,2,20140611,0603, 18.1290, -16.8560, 1452,    602.7,   9.4332,  35.1730,2,     64.4,2,     66.7,2,    15.96,2,  -999.00,9,     0.00,2,     2.24,2,        0,2,   9.3641
  06M320140530,    12,  1,     10,2,20140611,0603, 18.1290, -16.8560, 1452,    703.0,   8.5939,  35.0962,2,     74.0,2,   -999.0,9,    18.51,2,  -999.00,9,     0.00,2,     2.33,2,        0,2,   8.5173
  06M320140530,    12,  1,      9,2,20140611,0603, 18.1290, -16.8560, 1452,    804.0,   7.7616,  35.0247,2,     87.4,2,   -999.0,9,    20.20,2,  -999.00,9,     0.00,2,     2.52,3,        0,2,   7.6784
  06M320140530,    12,  1,      8,2,20140611,0603, 18.1290, -16.8560, 1452,    905.2,   6.7829,  34.9439,2,    101.7,2,   -999.0,9,    22.24,2,  -999.00,9,     0.01,2,     2.36,2,        0,2,   6.6953
  06M320140530,    12,  1,      7,2,20140611,0603, 18.1290, -16.8560, 1452,   1005.8,   6.3143,  34.9423,2,    116.6,2,    115.4,2,    22.77,2,  -999.00,9,     0.01,2,     2.34,2,        0,2,   6.2198
  06M320140530,    12,  1,      6,2,20140611,0603, 18.1290, -16.8560, 1452,   1208.8,   5.4654,  34.9946,2,    153.5,2,   -999.0,9,    22.73,2,  -999.00,9,     0.01,2,     2.11,2,        0,2,   5.3577
  06M320140530,    12,  1,      5,2,20140611,0603, 18.1290, -16.8560, 1452,   1310.1,   5.0160,  34.9939,2,    169.3,2,    167.8,2,    23.10,2,  -999.00,9,     0.01,2,     2.00,2,        0,2,   4.9027
  06M320140530,    12,  1,      4,2,20140611,0603, 18.1290, -16.8560, 1452,   1413.5,   4.5594,  34.9903,2,    184.6,2,   -999.0,9,    23.65,2,  -999.00,9,     0.01,2,     1.90,2,        0,2,   4.4410
  06M320140530,    12,  1,      3,2,20140611,0603, 18.1290, -16.8560, 1452,   1453.2,   4.3110,  34.9861,2,    193.9,2,   -999.0,9,    23.82,2,  -999.00,9,     0.01,2,     1.88,2,        0,2,   4.1916
  06M320140530,    12,  1,      2,2,20140611,0603, 18.1290, -16.8560, 1452,   1457.5,   4.3023,  34.9857,2,    194.2,2,    194.0,2,    23.79,2,  -999.00,9,     0.01,2,     1.98,2,        0,2,   4.1826
  06M320140530,    12,  1,      1,2,20140611,0603, 18.1290, -16.8560, 1452,   1465.0,   4.3020,  34.9859,2,    193.8,2,   -999.0,9,    23.95,2,  -999.00,9,     0.02,2,     1.76,2,    0.102,2,   4.1816
  06M320140530,    13,  1,     24,2,20140611,1305, 18.1830, -16.7500, 1104,      7.2,  20.0039,  35.6724,2,    212.3,2,   -999.0,9,     0.80,2,  -999.00,9,     0.54,2,     0.86,2,     -999,9,  20.0026
  06M320140530,    13,  1,     21,2,20140611,1305, 18.1830, -16.7500, 1104,     17.3,  18.8586,  35.6668,2,    127.4,2,   -999.0,9,     1.99,2,  -999.00,9,     0.65,2,     1.18,2,     -999,9,  18.8555
  06M320140530,    13,  1,     20,2,20140611,1305, 18.1830, -16.7500, 1104,     21.1,  18.5948,  35.6681,2,    113.7,2,   -999.0,9,     5.18,2,  -999.00,9,     0.39,2,     1.59,2,     -999,9,  18.5911
  06M320140530,    13,  1,     19,2,20140611,1305, 18.1830, -16.7500, 1104,     79.1,  14.7592,  35.4963,2,     52.6,2,   -999.0,9,     7.95,2,  -999.00,9,     0.01,2,     1.79,2,     -999,9,  14.7473
  06M320140530,    13,  1,     16,2,20140611,1305, 18.1830, -16.7500, 1104,     92.4,  14.7118,  35.4911,2,     51.7,2,   -999.0,9,     8.03,2,  -999.00,9,     0.00,2,     1.83,2,     -999,9,  14.6980
  06M320140530,    13,  1,     15,2,20140611,1305, 18.1830, -16.7500, 1104,    148.9,  14.3335,  35.4590,2,     58.0,2,    216.3,3,     7.88,2,  -999.00,9,     0.00,2,     1.74,2,     -999,9,  14.3116
  06M320140530,    13,  1,     14,2,20140611,1305, 18.1830, -16.7500, 1104,    300.5,  12.6712,  35.4063,2,     56.0,2,   -999.0,9,     9.49,2,  -999.00,9,     0.00,2,     1.85,2,     -999,9,  12.6302
  06M320140530,    13,  1,     11,2,20140611,1305, 18.1830, -16.7500, 1104,    453.2,  11.3006,  35.3377,2,     43.4,2,     42.2,2,    12.50,2,  -999.00,9,     0.00,2,     2.09,2,     -999,9,  11.2429
  06M320140530,    13,  1,     10,2,20140611,1305, 18.1830, -16.7500, 1104,    601.9,   9.5893,  35.1791,2,     57.7,2,     56.6,2,    16.19,2,  -999.00,9,     0.00,2,     2.15,2,     -999,9,   9.5196
  06M320140530,    13,  1,      8,2,20140611,1305, 18.1830, -16.7500, 1104,    854.9,   7.0570,  34.9407,2,     91.2,2,   -999.0,9,    21.73,2,  -999.00,9,     0.00,2,     2.33,2,     -999,9,   6.9728
  06M320140530,    13,  1,      6,2,20140611,1305, 18.1830, -16.7500, 1104,    996.2,   6.2643,  34.9357,2,    116.8,2,   -999.0,9,    22.81,2,  -999.00,9,     0.00,2,     2.22,2,     -999,9,   6.1712
  06M320140530,    13,  1,      2,2,20140611,1305, 18.1830, -16.7500, 1104,   1111.3,   5.7424,  34.9614,2,    136.7,2,    135.9,2,    23.38,2,  -999.00,9,     0.00,2,     2.17,2,     -999,9,   5.6419
  06M320140530,    14,  1,     23,2,20140611,1956, 18.1160, -16.8760, 1598,      7.5,  20.7678,  35.7081,2,    218.9,2,    232.5,2,     0.00,2,     5.57,2,     0.40,2,     0.47,2,    0.455,2,  20.7664
  06M320140530,    14,  1,     19,2,20140611,1956, 18.1160, -16.8760, 1598,     12.5,  20.7191,  35.7077,2,    218.3,2,   -999.0,9,     0.00,2,     7.27,2,     0.42,2,     0.52,2,    0.473,2,  20.7167
  06M320140530,    14,  1,     13,2,20140611,1956, 18.1160, -16.8760, 1598,     68.8,  15.9780,  35.6374,2,     41.5,2,     42.5,2,     5.89,2,    27.63,2,     0.29,2,     1.60,2,        0,2,  15.9671
  06M320140530,    14,  1,     12,2,20140611,1956, 18.1160, -16.8760, 1598,     98.8,  15.1498,  35.5493,2,     44.8,2,   -999.0,9,     6.53,2,    26.11,2,     0.17,2,     1.67,2,    0.168,2,  15.1347
  06M320140530,    14,  1,     11,2,20140611,1956, 18.1160, -16.8760, 1598,    148.5,  14.4455,  35.5081,2,     58.2,2,   -999.0,9,     7.07,2,    25.93,2,     0.03,2,     1.58,2,        0,2,  14.4235
  06M320140530,    14,  1,     10,2,20140611,1956, 18.1160, -16.8760, 1598,    200.0,  13.5531,  35.4230,2,     63.5,2,    102.2,3,     7.99,2,    26.90,2,     0.02,2,     1.66,2,        0,2,  13.5247
  06M320140530,    14,  1,      9,2,20140611,1956, 18.1160, -16.8760, 1598,    299.5,  12.5272,  35.3937,2,     53.8,2,   -999.0,9,    10.14,2,    28.86,2,     0.00,2,     1.79,2,    0.001,2,  12.4867
  06M320140530,    14,  1,      8,2,20140611,1956, 18.1160, -16.8760, 1598,    401.2,  11.6687,  35.3691,2,     45.1,2,   -999.0,9,    11.56,2,    31.24,2,     0.00,2,     1.91,2,    0.026,2,  11.6166
  06M320140530,    14,  1,      5,2,20140611,1956, 18.1160, -16.8760, 1598,    453.3,  11.1817,  35.3287,2,     42.8,2,     44.3,2,    12.67,2,    32.30,2,     0.00,2,     2.00,2,        0,2,  11.1243
  06M320140530,    14,  1,      4,2,20140611,1956, 18.1160, -16.8760, 1598,    501.7,  10.5309,  35.2667,2,     47.2,2,   -999.0,9,    13.84,2,    32.92,2,     0.00,2,     2.03,2,        0,2,  10.4697
  06M320140530,    14,  1,      3,2,20140611,1956, 18.1160, -16.8760, 1598,    602.3,   9.5734,  35.1826,2,     60.8,2,   -999.0,9,    15.69,2,    32.86,2,     0.00,2,     2.07,2,        0,2,   9.5038
  06M320140530,    14,  1,      2,2,20140611,1956, 18.1160, -16.8760, 1598,   1410.6,   4.5513,  34.9916,2,    186.7,2,   -999.0,9,    23.35,2,    24.57,2,     0.00,2,     1.69,2,        0,2,   4.4333
  06M320140530,    14,  1,      1,2,20140611,1956, 18.1160, -16.8760, 1598,   1620.3,   3.9608,  34.9788,2,    206.5,2,    208.4,2,    24.90,2,    22.33,2,     0.02,2,     1.59,2,        0,2,   3.8300