BOTTLE,20180214PRINUNIVRMK
EXPOCODE,STNNBR,CASTNO,BTLNBR,BTLNBR_FLAG_W,DATE,TIME,LATITUDE,LONGITUDE,DEPTH,CTDPRS,CTDTMP,CTDSAL,CTDSAL_FLAG_W,CTDOXY,CTDOXY_FLAG_W,OXYGEN,OXYGEN_FLAG_W,SILCAT,SILCAT_FLAG_W,NITRAT,NITRAT_FLAG_W,NITRIT,NITRIT_FLAG_W,PHSPHT,PHSPHT_FLAG_W,NH4,NH4_FLAG_W,THETA
,,,,,,,,,METERS,DBAR,ITS-90,PSS-78,,UMOL/KG,,UMOL/KG,,UMOL/KG,,UMOL/KG,,UMOL/KG,,UMOL/KG,,UMOL/KG,,DEG C
  06M320140530,    33,  1,     24,2,20140620,0424, 18.2080, -16.5930,  412,      4.0,  21.7716,  35.7942,2,    216.9,2,   -999.0,9,     0.00,2,     1.42,2,     0.27,2,     0.22,2,    0.245,2,  21.7708
  06M320140530,    33,  1,     23,2,20140620,0424, 18.2080, -16.5930,  412,      8.8,  21.7720,  35.7940,2,    217.1,2,    148.4,3,     0.82,2,     5.69,2,     0.37,2,     0.49,2,    0.351,2,  21.7703
  06M320140530,    33,  1,     22,2,20140620,0424, 18.2080, -16.5930,  412,     13.7,  21.7068,  35.7973,2,    211.8,2,   -999.0,9,     1.69,2,     8.31,2,     0.40,2,     0.67,2,    0.386,2,  21.7041
  06M320140530,    33,  1,     21,2,20140620,0424, 18.2080, -16.5930,  412,     19.2,  21.3993,  35.8236,2,    188.4,2,   -999.0,9,     1.70,2,     8.31,2,     0.40,2,     0.66,2,    0.536,2,  21.3956
  06M320140530,    33,  1,     20,2,20140620,0424, 18.2080, -16.5930,  412,     24.1,  20.7643,  35.8919,2,    154.9,2,   -999.0,9,     2.10,2,     9.16,2,     0.55,2,     0.76,2,    0.658,2,  20.7597
  06M320140530,    33,  1,     19,2,20140620,0424, 18.2080, -16.5930,  412,     29.0,  19.4804,  35.8842,2,    112.0,2,   -999.0,9,     2.69,2,    11.18,2,     0.74,2,     0.89,2,     0.44,2,  19.4751
  06M320140530,    33,  1,     18,2,20140620,0424, 18.2080, -16.5930,  412,     34.7,  18.2923,  35.7414,2,     67.1,2,   -999.0,9,     3.20,2,    13.11,2,     0.72,2,     0.99,2,    0.036,2,  18.2863
  06M320140530,    33,  1,     17,2,20140620,0424, 18.2080, -16.5930,  412,     39.2,  17.7206,  35.6822,2,     58.2,2,   -999.0,9,     5.36,2,    20.78,2,     0.16,2,     1.43,2,    0.082,2,  17.7139
  06M320140530,    33,  1,     16,2,20140620,0424, 18.2080, -16.5930,  412,     44.4,  16.8711,  35.6435,2,     55.5,2,   -999.0,9,     6.40,2,    22.41,2,     0.07,2,     1.51,2,        0,2,  16.8638
  06M320140530,    33,  1,     15,2,20140620,0424, 18.2080, -16.5930,  412,     49.4,  16.6593,  35.6329,2,     52.6,2,   -999.0,9,     6.49,2,    22.80,2,     0.07,2,     1.53,2,        0,2,  16.6512
  06M320140530,    33,  1,     14,2,20140620,0424, 18.2080, -16.5930,  412,     59.3,  16.5540,  35.6295,2,     49.0,2,   -999.0,9,     6.76,2,    23.78,2,     0.03,2,     1.56,2,        0,2,  16.5444
  06M320140530,    33,  1,     13,2,20140620,0424, 18.2080, -16.5930,  412,     79.3,  16.3899,  35.6202,2,     49.3,2,   -999.0,9,     6.60,2,    23.28,2,     0.04,2,     1.54,2,        0,2,  16.3771
  06M320140530,    33,  1,     12,2,20140620,0424, 18.2080, -16.5930,  412,     99.8,  16.1896,  35.6065,2,     48.6,2,     48.0,2,     7.09,2,    24.59,2,     0.03,2,     1.60,2,        0,2,  16.1736
  06M320140530,    33,  1,     11,2,20140620,0424, 18.2080, -16.5930,  412,    149.8,  15.7922,  35.5770,2,     47.2,2,   -999.0,9,     8.46,2,    27.39,2,     0.03,2,     1.69,2,        0,2,  15.7686
  06M320140530,    33,  1,     10,2,20140620,0424, 18.2080, -16.5930,  412,    200.2,  14.9190,  35.5101,2,     41.7,2,   -999.0,9,     9.39,2,    27.73,2,     0.03,2,     1.70,2,        0,2,  14.8887
  06M320140530,    33,  1,      9,2,20140620,0424, 18.2080, -16.5930,  412,    250.3,  13.2251,  35.4039,2,     55.2,2,   -999.0,9,     9.87,2,    27.79,2,     0.07,2,     1.73,2,        0,2,  13.1901
  06M320140530,    33,  1,      8,2,20140620,0424, 18.2080, -16.5930,  412,    275.6,  12.9691,  35.3948,2,     54.0,2,     54.1,2,    11.35,2,    29.43,2,     0.05,2,     1.82,2,        0,2,  12.9310
  06M320140530,    33,  1,      7,2,20140620,0424, 18.2080, -16.5930,  412,    301.2,  12.2384,  35.3673,2,     50.1,2,   -999.0,9,    12.61,2,    30.81,2,     0.02,2,     1.89,2,        0,2,  12.1983
  06M320140530,    33,  1,      6,2,20140620,0424, 18.2080, -16.5930,  412,    352.0,  11.6205,  35.3459,2,     47.8,2,   -999.0,9,    12.68,2,    31.51,2,     0.02,2,     1.92,2,        0,2,  11.5751
  06M320140530,    33,  1,      5,2,20140620,0424, 18.2080, -16.5930,  412,    371.7,  11.4010,  35.3287,2,     47.7,2,   -999.0,9,    12.78,2,    31.29,2,     0.02,2,     1.92,2,        0,2,  11.3536
  06M320140530,    33,  1,      4,2,20140620,0424, 18.2080, -16.5930,  412,    381.5,  11.3233,  35.3225,2,     47.6,2,   -999.0,9,    12.95,2,    31.33,2,     0.01,2,     1.92,2,        0,2,  11.2748
  06M320140530,    33,  1,      3,2,20140620,0424, 18.2080, -16.5930,  412,    390.6,  11.2777,  35.3198,2,     47.7,2,     47.6,2,    12.94,2,    31.89,2,     0.01,2,     1.92,2,        0,2,  11.2282
  06M320140530,    33,  1,      2,2,20140620,0424, 18.2080, -16.5930,  412,    402.2,  11.2333,  35.3150,2,     47.7,2,   -999.0,9,    13.08,2,    31.29,2,     0.02,2,     1.83,2,        0,2,  11.1824
  06M320140530,    33,  1,      1,2,20140620,0424, 18.2080, -16.5930,  412,    411.3,  11.2043,  35.3115,2,     47.8,2,   -999.0,9,    13.13,2,    30.52,2,     0.03,2,     1.93,2,        0,2,  11.1523
  06M320140530,    34,  1,     24,2,20140620,0651, 18.2160, -16.5540,  241,      3.4,  21.5468,  35.8140,2,    209.8,2,   -999.0,9,     0.00,2,     0.73,2,     0.28,2,     0.18,2,    0.231,2,  21.5461
  06M320140530,    34,  1,     21,2,20140620,0651, 18.2160, -16.5540,  241,      8.6,  21.5447,  35.8125,2,    209.8,2,    201.2,2,     0.00,2,     1.51,2,     0.36,2,     0.25,2,    0.378,2,  21.5430
  06M320140530,    34,  1,     20,2,20140620,0651, 18.2160, -16.5540,  241,     19.1,  21.5376,  35.8101,2,    209.6,2,   -999.0,9,     0.44,2,     3.56,2,     0.56,2,     0.41,2,    0.664,2,  21.5339
  06M320140530,    34,  1,     19,2,20140620,0651, 18.2160, -16.5540,  241,     29.4,  20.8938,  35.9456,2,    159.9,2,   -999.0,9,     1.37,2,     6.77,2,     0.83,2,     0.63,2,    0.834,2,  20.8882
  06M320140530,    34,  1,     18,2,20140620,0651, 18.2160, -16.5540,  241,     34.6,  20.4645,  35.9414,2,    145.0,2,   -999.0,9,     2.42,2,    11.27,2,     0.73,2,     0.85,2,    0.536,2,  20.4580
  06M320140530,    34,  1,     17,2,20140620,0651, 18.2160, -16.5540,  241,     39.5,  20.0263,  35.9524,2,    134.0,2,   -999.0,9,     3.87,2,    15.88,2,     0.47,2,     1.10,2,    0.135,2,  20.0190
  06M320140530,    34,  1,     16,2,20140620,0651, 18.2160, -16.5540,  241,     44.6,  18.0558,  35.7413,2,     66.3,2,   -999.0,9,     5.45,2,    20.38,2,     0.17,2,     1.39,2,        0,2,  18.0481
  06M320140530,    34,  1,     15,2,20140620,0651, 18.2160, -16.5540,  241,     49.3,  17.6578,  35.6942,2,     61.3,2,   -999.0,9,     5.04,2,    20.31,2,     0.17,2,     1.35,2,        0,2,  17.6494
  06M320140530,    34,  1,     14,2,20140620,0651, 18.2160, -16.5540,  241,     59.3,  16.5051,  35.6249,2,     44.8,2,   -999.0,9,     6.89,2,    23.33,2,     0.06,2,     1.56,2,        0,2,  16.4955
  06M320140530,    34,  1,     11,2,20140620,0651, 18.2160, -16.5540,  241,     79.4,  16.3083,  35.6130,2,     45.2,2,   -999.0,9,     7.03,2,    24.11,2,     0.05,2,     1.57,2,        0,2,  16.2955
  06M320140530,    34,  1,     10,2,20140620,0651, 18.2160, -16.5540,  241,     99.9,  16.2081,  35.6058,2,     46.0,2,     45.6,2,     7.03,2,    24.32,2,     0.05,2,     1.58,2,    0.011,2,  16.1921
  06M320140530,    34,  1,      9,2,20140620,0651, 18.2160, -16.5540,  241,    149.7,  15.8753,  35.5840,2,     45.1,2,   -999.0,9,     7.38,2,    25.31,2,     0.03,2,     1.61,2,        0,2,  15.8516
  06M320140530,    34,  1,      7,2,20140620,0651, 18.2160, -16.5540,  241,    176.2,  15.5839,  35.5629,2,     43.4,2,     42.8,2,     7.67,2,    26.02,2,     0.04,2,     1.65,2,        0,2,  15.5564
  06M320140530,    34,  1,      6,2,20140620,0651, 18.2160, -16.5540,  241,    200.0,  15.1845,  35.5339,2,     40.2,2,   -999.0,9,     8.33,2,    26.10,2,     0.03,2,     1.69,2,        0,2,  15.1538
  06M320140530,    34,  1,      5,2,20140620,0651, 18.2160, -16.5540,  241,    210.7,  14.2911,  35.4723,2,     49.1,2,   -999.0,9,     8.73,2,    26.40,2,     0.05,2,     1.68,2,        0,2,  14.2601
  06M320140530,    34,  1,      4,2,20140620,0651, 18.2160, -16.5540,  241,    220.9,  14.1109,  35.4603,2,     51.2,2,     52.3,2,     8.73,2,    26.60,2,     0.06,2,     1.68,2,        0,2,  14.0786
  06M320140530,    34,  1,      1,2,20140620,0651, 18.2160, -16.5540,  241,    239.0,  13.7798,  35.4385,2,     53.8,2,   -999.0,9,     8.98,2,    26.15,2,     0.08,2,     1.67,2,        0,2,  13.7454
  06M320140530,    35,  1,     24,2,20140620,1415, 18.2070, -16.5930,  414,      3.7,  21.8747,  35.8288,2,    241.3,2,   -999.0,9,     0.30,2,     3.48,2,     0.31,2,     0.36,2,    0.455,2,  21.8740
  06M320140530,    35,  1,     23,2,20140620,1415, 18.2070, -16.5930,  414,      8.7,  21.5050,  35.8444,2,    206.2,2,   -999.0,9,     1.93,2,     8.71,2,     0.23,2,     0.71,2,    0.428,2,  21.5033
  06M320140530,    35,  1,     22,2,20140620,1415, 18.2070, -16.5930,  414,     14.1,  19.9244,  35.8321,2,    124.8,2,   -999.0,9,     1.56,2,     7.30,2,     0.48,2,     0.68,2,    0.436,2,  19.9218
  06M320140530,    35,  1,     21,2,20140620,1415, 18.2070, -16.5930,  414,     19.3,  18.3324,  35.6853,2,     59.7,2,   -999.0,9,     4.88,2,    18.29,2,     0.20,2,     1.35,2,    0.194,2,  18.3290
  06M320140530,    35,  1,     20,2,20140620,1415, 18.2070, -16.5930,  414,     23.9,  18.1182,  35.6823,2,     58.0,2,     58.7,2,     4.99,2,    19.05,2,     0.18,2,     1.38,2,    0.162,2,  18.1141
  06M320140530,    35,  1,     19,2,20140620,1415, 18.2070, -16.5930,  414,     29.3,  17.8771,  35.6751,2,     58.5,2,   -999.0,9,     5.64,2,    20.88,2,     0.12,2,     1.44,2,    0.075,2,  17.8721
  06M320140530,    35,  1,     18,2,20140620,1415, 18.2070, -16.5930,  414,     34.1,  17.6434,  35.6706,2,     60.7,2,   -999.0,9,     5.80,2,    21.84,2,     0.10,2,     1.48,2,    0.051,2,  17.6376
  06M320140530,    35,  1,     17,2,20140620,1415, 18.2070, -16.5930,  414,     39.8,  17.1542,  35.6594,2,     56.2,2,   -999.0,9,     6.30,2,    22.70,2,     0.09,2,     1.54,2,    0.003,2,  17.1476
  06M320140530,    35,  1,     16,2,20140620,1415, 18.2070, -16.5930,  414,     44.6,  16.8381,  35.6465,2,     52.1,2,   -999.0,9,     6.56,2,    23.12,2,     0.07,2,     1.57,2,    0.005,2,  16.8308
  06M320140530,    35,  1,     15,2,20140620,1415, 18.2070, -16.5930,  414,     49.0,  16.6813,  35.6371,2,     48.1,2,   -999.0,9,     6.53,2,    23.47,2,     0.06,2,     1.57,2,        0,2,  16.6733
  06M320140530,    35,  1,     14,2,20140620,1415, 18.2070, -16.5930,  414,     74.2,  16.4889,  35.6246,2,     48.1,2,   -999.0,9,     6.70,2,    23.69,2,     0.04,2,     1.58,2,        0,2,  16.4769
  06M320140530,    35,  1,     13,2,20140620,1415, 18.2070, -16.5930,  414,     99.5,  16.2655,  35.6116,2,     48.4,2,     48.0,2,     6.85,2,    23.76,2,     0.03,2,     1.60,2,        0,2,  16.2495
  06M320140530,    35,  1,     12,2,20140620,1415, 18.2070, -16.5930,  414,    149.9,  15.8287,  35.5814,2,     47.4,2,   -999.0,9,     7.31,2,    25.06,2,     0.02,2,     1.66,2,        0,2,  15.8051
  06M320140530,    35,  1,     11,2,20140620,1415, 18.2070, -16.5930,  414,    173.9,  15.4586,  35.5552,2,     40.4,2,     40.2,2,     8.09,2,    25.96,2,     0.03,2,     1.71,2,        0,2,  15.4316
  06M320140530,    35,  1,     10,2,20140620,1415, 18.2070, -16.5930,  414,    200.6,  14.6909,  35.4978,2,     44.4,2,   -999.0,9,     8.69,2,    26.74,2,     0.03,2,     1.72,2,        0,2,  14.6608
  06M320140530,    35,  1,      9,2,20140620,1415, 18.2070, -16.5930,  414,    225.7,  13.6956,  35.4302,2,     55.9,2,   -999.0,9,     8.86,2,    27.18,2,     0.03,2,     1.72,2,        0,2,  13.6633
  06M320140530,    35,  1,      8,2,20140620,1415, 18.2070, -16.5930,  414,    250.8,  13.1118,  35.3995,2,     55.4,2,   -999.0,9,     9.64,2,    27.07,2,     0.05,2,     1.73,2,        0,2,  13.0769
  06M320140530,    35,  1,      7,2,20140620,1415, 18.2070, -16.5930,  414,    301.2,  12.2235,  35.3649,2,     49.7,2,   -999.0,9,    11.44,2,    29.50,2,     0.05,2,     1.87,2,        0,2,  12.1834
  06M320140530,    35,  1,      6,2,20140620,1415, 18.2070, -16.5930,  414,    350.4,  11.4420,  35.3343,2,     46.5,2,     47.6,2,    12.73,2,    31.32,2,     0.03,2,     1.95,2,        0,2,  11.3972
  06M320140530,    35,  1,      5,2,20140620,1415, 18.2070, -16.5930,  414,    371.4,  11.2039,  35.3147,2,     47.4,2,   -999.0,9,    13.26,2,    31.63,2,     0.02,2,     1.98,2,        0,2,  11.1570
  06M320140530,    35,  1,      4,2,20140620,1415, 18.2070, -16.5930,  414,    381.9,  11.1212,  35.3075,2,     47.5,2,   -999.0,9,    13.39,2,    31.42,2,     0.02,2,     1.98,2,        0,2,  11.0732
  06M320140530,    35,  1,      3,2,20140620,1415, 18.2070, -16.5930,  414,    392.1,  11.1001,  35.3048,2,     48.0,2,   -999.0,9,    13.48,2,    31.90,2,     0.02,2,     1.99,2,        0,2,  11.0509
  06M320140530,    35,  1,      2,2,20140620,1415, 18.2070, -16.5930,  414,    402.2,  11.0558,  35.3006,2,     48.0,2,     49.6,2,    13.47,2,    31.51,2,     0.02,2,     1.99,2,        0,2,  11.0054
  06M320140530,    35,  1,      1,2,20140620,1415, 18.2070, -16.5930,  414,    411.7,  11.0524,  35.3007,2,     48.2,2,   -999.0,9,    13.61,2,    31.29,2,     0.02,2,     1.98,2,        0,2,  11.0008
  06M320140530,    36,  1,     22,2,20140620,1709, 18.2360, -16.5160,  167,      3.5,  21.1893,  35.7358,2,    263.0,2,   -999.0,9,     0.00,2,     2.04,2,     0.31,2,     0.30,2,    0.283,2,  21.1886
  06M320140530,    36,  1,     21,2,20140620,1709, 18.2360, -16.5160,  167,      8.9,  21.1303,  35.7388,2,    249.5,2,    184.3,3,     0.68,2,     4.53,2,     0.54,2,     0.47,2,    0.496,2,  21.1286
  06M320140530,    36,  1,     20,2,20140620,1709, 18.2360, -16.5160,  167,     14.1,  21.0736,  35.7461,2,    235.0,2,   -999.0,9,     0.00,2,     2.56,2,     0.36,2,     0.35,2,    0.471,2,  21.0709
  06M320140530,    36,  1,     19,2,20140620,1709, 18.2360, -16.5160,  167,     19.0,  20.9195,  35.8799,2,    160.0,2,   -999.0,9,     1.02,2,     5.34,2,     0.62,2,     0.55,2,    0.797,2,  20.9159
  06M320140530,    36,  1,     18,2,20140620,1709, 18.2360, -16.5160,  167,     24.1,  19.9183,  35.9839,2,    131.1,2,   -999.0,9,     1.69,2,    11.63,2,     0.84,2,     0.70,2,    0.565,2,  19.9139
  06M320140530,    36,  1,     17,2,20140620,1709, 18.2360, -16.5160,  167,     29.1,  19.4843,  35.9733,2,    117.7,2,   -999.0,9,     2.37,2,    11.35,2,     0.72,2,     0.85,2,    0.272,2,  19.4790
  06M320140530,    36,  1,     16,2,20140620,1709, 18.2360, -16.5160,  167,     34.3,  18.9131,  35.8865,2,    100.5,2,   -999.0,9,     4.23,2,    17.78,2,     0.36,2,     1.21,2,    0.061,2,  18.9070
  06M320140530,    36,  1,     15,2,20140620,1709, 18.2360, -16.5160,  167,     39.2,  17.7568,  35.7447,2,     67.7,2,   -999.0,9,     5.52,2,    21.26,2,     0.16,2,     1.43,2,        0,2,  17.7501
  06M320140530,    36,  1,     14,2,20140620,1709, 18.2360, -16.5160,  167,     44.5,  17.1700,  35.6753,2,     58.9,2,   -999.0,9,     6.04,2,    22.32,2,     0.13,2,     1.47,2,        0,2,  17.1626
  06M320140530,    36,  1,     13,2,20140620,1709, 18.2360, -16.5160,  167,     49.6,  16.9724,  35.6570,2,     56.2,2,   -999.0,9,     5.97,2,    22.44,2,     0.11,2,     1.49,2,        0,2,  16.9642
  06M320140530,    36,  1,     12,2,20140620,1709, 18.2360, -16.5160,  167,     59.3,  16.7078,  35.6368,2,     53.4,2,   -999.0,9,     6.43,2,    22.95,2,     0.08,2,     1.52,2,        0,2,  16.6981
  06M320140530,    36,  1,     11,2,20140620,1709, 18.2360, -16.5160,  167,     79.5,  16.4496,  35.6212,2,     48.2,2,     48.8,2,     6.76,2,    23.55,2,     0.07,2,     1.54,2,        0,2,  16.4368
  06M320140530,    36,  1,     10,2,20140620,1709, 18.2360, -16.5160,  167,     95.4,  16.3824,  35.6189,2,     49.3,2,   -999.0,9,     6.69,2,    23.88,2,     0.06,2,     1.55,2,        0,2,  16.3670
  06M320140530,    36,  1,      9,2,20140620,1709, 18.2360, -16.5160,  167,    101.7,  16.3576,  35.6184,2,     49.2,2,     49.3,2,     6.72,2,    24.12,2,     0.05,2,     1.56,2,        0,2,  16.3412
  06M320140530,    36,  1,      5,2,20140620,1709, 18.2360, -16.5160,  167,    119.5,  16.0574,  35.5990,2,     48.9,2,   -999.0,9,     6.81,2,    24.41,2,     0.05,2,     1.57,2,        0,2,  16.0384
  06M320140530,    36,  1,      4,2,20140620,1709, 18.2360, -16.5160,  167,    139.7,  15.8393,  35.5838,2,     47.9,2,   -999.0,9,     7.01,2,    24.63,2,     0.06,2,     1.59,2,        0,2,  15.8173
  06M320140530,    36,  1,      3,2,20140620,1709, 18.2360, -16.5160,  167,    150.4,  15.6657,  35.5724,2,     45.8,2,   -999.0,9,     7.50,2,    25.47,2,     0.06,2,     1.64,2,        0,2,  15.6422
  06M320140530,    36,  1,      2,2,20140620,1709, 18.2360, -16.5160,  167,    155.4,  15.4720,  35.5597,2,     42.4,2,   -999.0,9,     7.86,2,    25.64,2,     0.05,2,     1.67,2,        0,2,  15.4479
  06M320140530,    36,  1,      1,2,20140620,1709, 18.2360, -16.5160,  167,    163.7,  15.5543,  35.5623,2,     43.8,2,   -999.0,9,     7.80,2,    25.56,2,     0.05,2,     1.63,2,        0,2,  15.5288