BOTTLE,20180214PRINUNIVRMK
EXPOCODE,STNNBR,CASTNO,BTLNBR,BTLNBR_FLAG_W,DATE,TIME,LATITUDE,LONGITUDE,DEPTH,CTDPRS,CTDTMP,CTDSAL,CTDSAL_FLAG_W,CTDOXY,CTDOXY_FLAG_W,OXYGEN,OXYGEN_FLAG_W,SILCAT,SILCAT_FLAG_W,NITRAT,NITRAT_FLAG_W,NITRIT,NITRIT_FLAG_W,PHSPHT,PHSPHT_FLAG_W,NH4,NH4_FLAG_W,THETA
,,,,,,,,,METERS,DBAR,ITS-90,PSS-78,,UMOL/KG,,UMOL/KG,,UMOL/KG,,UMOL/KG,,UMOL/KG,,UMOL/KG,,UMOL/KG,,DEG C
  06M320140530,    21,  1,     23,2,20140613,2351, 18.1720, -16.7170, 1016,      6.0,  23.1366,  35.8204,2,    214.9,2,   -999.0,9,     0.98,2,     0.87,2,     0.15,2,     0.15,2,    0.331,2,  23.1354
  06M320140530,    21,  1,     18,2,20140613,2351, 18.1720, -16.7170, 1016,     11.0,  23.1161,  35.8188,2,    212.1,2,   -999.0,9,     0.75,2,     2.53,2,     0.25,2,     0.25,2,     0.24,2,  23.1138
  06M320140530,    21,  1,     17,2,20140613,2351, 18.1720, -16.7170, 1016,     14.3,  23.0733,  35.8165,2,    212.7,2,   -999.0,9,     1.51,2,     7.13,2,     0.44,2,     0.44,2,     0.77,2,  23.0704
  06M320140530,    21,  1,     16,2,20140613,2351, 18.1720, -16.7170, 1016,     19.4,  22.8714,  35.8086,2,    208.0,2,     64.2,3,     1.96,2,     9.16,2,     0.47,2,     0.47,2,    1.115,2,  22.8674
  06M320140530,    21,  1,     15,2,20140613,2351, 18.1720, -16.7170, 1016,     24.8,  21.9409,  35.7736,2,    184.8,2,   -999.0,9,     1.60,2,     9.59,2,     0.73,2,     0.73,2,     1.35,2,  21.9360
  06M320140530,    21,  1,     14,2,20140613,2351, 18.1720, -16.7170, 1016,     30.2,  21.8359,  35.7812,2,    180.7,2,   -999.0,9,     1.88,2,    11.51,2,     0.89,2,     0.92,2,    1.489,2,  21.8299
  06M320140530,    21,  1,     13,2,20140613,2351, 18.1720, -16.7170, 1016,     34.4,  20.0096,  35.8296,2,    122.7,2,   -999.0,9,     2.68,2,    15.95,2,     1.04,2,     1.13,2,    1.097,2,  20.0032
  06M320140530,    21,  1,     12,2,20140613,2351, 18.1720, -16.7170, 1016,     40.1,  18.5416,  35.8085,2,     84.8,2,   -999.0,9,     3.16,2,    19.94,2,     0.91,2,     1.25,2,     0.71,2,  18.5346
  06M320140530,    21,  1,     11,2,20140613,2351, 18.1720, -16.7170, 1016,     44.7,  17.7366,  35.7738,2,     66.2,2,   -999.0,9,     4.83,2,    22.59,2,     0.43,2,     1.42,2,    0.075,2,  17.7290
  06M320140530,    21,  1,     10,2,20140613,2351, 18.1720, -16.7170, 1016,     49.3,  16.0852,  35.6025,2,     45.8,2,   -999.0,9,     6.88,2,    25.10,2,     0.07,2,     1.58,2,        0,2,  16.0774
  06M320140530,    21,  1,      9,2,20140613,2351, 18.1720, -16.7170, 1016,     58.9,  15.5962,  35.5678,2,     41.4,2,     36.3,2,     7.98,2,    25.66,2,     0.03,2,     1.64,2,        0,2,  15.5870
  06M320140530,    21,  1,      8,2,20140613,2351, 18.1720, -16.7170, 1016,     79.6,  15.3738,  35.5483,2,     43.3,2,   -999.0,9,     7.95,2,    25.88,2,     0.03,2,     1.66,2,        0,2,  15.3615
  06M320140530,    21,  1,      3,2,20140613,2351, 18.1720, -16.7170, 1016,    100.2,  15.0811,  35.5226,2,     45.9,2,     32.4,2,     8.20,2,    25.79,2,     0.04,2,     1.64,2,        0,2,  15.0658
  06M320140530,    21,  1,      2,2,20140613,2351, 18.1720, -16.7170, 1016,    150.1,  14.7775,  35.4971,2,     50.7,2,   -999.0,9,     8.13,2,    26.02,2,     0.04,2,     1.63,2,    0.135,2,  14.7549
  06M320140530,    21,  1,      1,2,20140613,2351, 18.1720, -16.7170, 1016,    201.1,  14.3484,  35.4631,2,     60.2,2,     34.8,3,     7.78,2,    24.88,2,     0.03,2,     1.58,2,     0.08,2,  14.3187
  06M320140530,    22,  1,     23,2,20140614,0455, 18.2260, -16.5290,  183,      5.7,  20.5487,  35.6864,2,    237.2,2,   -999.0,9,     0.00,2,     2.35,2,     0.34,2,     0.29,2,    0.321,2,  20.5476
  06M320140530,    22,  1,     18,2,20140614,0455, 18.2260, -16.5290,  183,     10.7,  20.5424,  35.6845,2,    232.8,2,   -999.0,9,     0.01,2,     3.80,2,     0.44,2,     0.37,2,    0.253,2,  20.5404
  06M320140530,    22,  1,     17,2,20140614,0455, 18.2260, -16.5290,  183,     14.0,  20.5404,  35.6873,2,    233.2,2,   -999.0,9,     4.33,2,    15.08,2,     0.91,2,     1.22,2,    0.979,2,  20.5378
  06M320140530,    22,  1,     16,2,20140614,0455, 18.2260, -16.5290,  183,     19.0,  20.0598,  35.7159,2,    161.4,2,   -999.0,9,     6.11,2,    19.14,2,     0.97,2,     1.52,2,    1.238,2,  20.0563
  06M320140530,    22,  1,     15,2,20140614,0455, 18.2260, -16.5290,  183,     24.3,  18.6494,  35.7073,2,     71.6,2,   -999.0,9,     7.16,2,    21.97,2,     0.73,2,     1.65,2,    0.694,2,  18.6451
  06M320140530,    22,  1,     14,2,20140614,0455, 18.2260, -16.5290,  183,     29.3,  17.8911,  35.6675,2,     44.5,2,   -999.0,9,     7.19,2,    22.72,2,     0.50,2,     1.62,2,    0.467,2,  17.8861
  06M320140530,    22,  1,     13,2,20140614,0455, 18.2260, -16.5290,  183,     34.3,  17.6382,  35.6509,2,     37.1,2,   -999.0,9,     7.01,2,    23.24,2,     0.44,2,     1.62,2,    0.344,2,  17.6324
  06M320140530,    22,  1,     12,2,20140614,0455, 18.2260, -16.5290,  183,     39.6,  17.3823,  35.6589,2,     38.8,2,   -999.0,9,     6.82,2,    24.19,2,     0.17,2,     1.56,2,        0,2,  17.3757
  06M320140530,    22,  1,     11,2,20140614,0455, 18.2260, -16.5290,  183,     44.2,  17.2807,  35.6525,2,     36.1,2,   -999.0,9,     7.24,2,    24.19,2,     0.15,2,     1.64,2,        0,2,  17.2733
  06M320140530,    22,  1,     10,2,20140614,0455, 18.2260, -16.5290,  183,     49.6,  17.2722,  35.6582,2,     36.3,2,   -999.0,9,     7.06,2,    24.33,2,     0.26,2,     1.62,2,        0,2,  17.2639
  06M320140530,    22,  1,      9,2,20140614,0455, 18.2260, -16.5290,  183,     59.5,  17.1446,  35.6568,2,     36.5,2,   -999.0,9,     7.58,2,    23.84,2,     0.52,2,     1.65,2,        0,2,  17.1347
  06M320140530,    22,  1,      8,2,20140614,0455, 18.2260, -16.5290,  183,     79.8,  16.9282,  35.6363,2,     30.2,2,   -999.0,9,     8.75,2,    23.90,2,     0.64,2,     1.74,2,    0.423,2,  16.9151
  06M320140530,    22,  1,      3,2,20140614,0455, 18.2260, -16.5290,  183,    100.4,  16.6306,  35.6126,2,     33.2,2,   -999.0,9,     8.83,2,    24.33,2,     0.52,2,     1.75,2,    0.363,2,  16.6142
  06M320140530,    22,  1,      2,2,20140614,0455, 18.2260, -16.5290,  183,    149.9,  16.2384,  35.5937,2,     31.2,2,   -999.0,9,     8.86,2,    25.82,2,     0.15,2,     1.72,2,    0.135,2,  16.2144
  06M320140530,    22,  1,      1,2,20140614,0455, 18.2260, -16.5290,  183,    182.2,  15.3643,  35.5426,2,     36.0,2,   -999.0,9,     8.93,2,    26.06,2,     0.19,2,     1.69,2,    0.352,2,  15.3361
  06M320140530,    23,  1,     24,2,20140614,0724, 18.2050, -16.6010,  454,      3.9,  20.8756,  35.7069,2,    214.0,2,   -999.0,9,     0.12,2,     5.82,2,     0.50,2,     0.46,2,    0.323,2,  20.8749
  06M320140530,    23,  1,     23,2,20140614,0724, 18.2050, -16.6010,  454,      9.3,  20.8742,  35.7066,2,    212.1,2,   -999.0,9,     0.04,2,     5.74,2,     0.52,2,     0.45,2,    0.433,2,  20.8724
  06M320140530,    23,  1,     22,2,20140614,0724, 18.2050, -16.6010,  454,     13.9,  20.8340,  35.7074,2,    206.3,2,   -999.0,9,     0.28,2,     6.82,2,     0.58,2,     0.52,2,    0.504,2,  20.8313
  06M320140530,    23,  1,     21,2,20140614,0724, 18.2050, -16.6010,  454,     19.0,  20.7815,  35.7095,2,    200.1,2,   -999.0,9,     1.80,2,    11.42,2,     0.76,2,     0.81,2,    0.553,2,  20.7779
  06M320140530,    23,  1,     20,2,20140614,0724, 18.2050, -16.6010,  454,     23.8,  20.7015,  35.7389,2,    180.8,2,   -999.0,9,     2.93,2,    15.80,2,     0.82,2,     1.09,2,    0.464,2,  20.6970
  06M320140530,    23,  1,     19,2,20140614,0724, 18.2050, -16.6010,  454,     29.0,  19.0007,  35.7725,2,     98.4,2,   -999.0,9,     5.37,2,    20.94,2,     0.69,2,     1.39,2,    0.141,2,  18.9955
  06M320140530,    23,  1,     18,2,20140614,0724, 18.2050, -16.6010,  454,     34.7,  18.4403,  35.7556,2,     82.8,2,   -999.0,9,     4.66,2,    20.12,2,     0.78,2,     1.31,2,    0.154,2,  18.4342
  06M320140530,    23,  1,     17,2,20140614,0724, 18.2050, -16.6010,  454,     39.5,  17.8523,  35.7397,2,     66.2,2,   -999.0,9,     5.68,2,    21.49,2,     0.70,2,     1.41,2,    0.036,2,  17.8456
  06M320140530,    23,  1,     16,2,20140614,0724, 18.2050, -16.6010,  454,     44.6,  16.9967,  35.6478,2,     35.9,2,   -999.0,9,     7.55,2,    23.44,2,     0.57,2,     1.66,2,     0.12,2,  16.9893
  06M320140530,    23,  1,     15,2,20140614,0724, 18.2050, -16.6010,  454,     49.4,  16.7304,  35.6155,2,     31.8,2,   -999.0,9,     8.79,2,    24.50,2,     0.31,2,     1.70,2,        0,2,  16.7223
  06M320140530,    23,  1,     14,2,20140614,0724, 18.2050, -16.6010,  454,     59.6,  16.5602,  35.6086,2,     31.4,2,     31.3,2,     8.20,2,    24.92,2,     0.15,2,     1.70,2,        0,2,  16.5505
  06M320140530,    23,  1,     13,2,20140614,0724, 18.2050, -16.6010,  454,     80.3,  15.9927,  35.5812,2,     33.4,2,   -999.0,9,     8.48,2,    25.52,2,     0.04,2,     1.69,2,        0,2,  15.9800
  06M320140530,    23,  1,     12,2,20140614,0724, 18.2050, -16.6010,  454,     99.5,  15.7853,  35.5955,2,     41.3,2,     43.3,2,     7.61,2,    25.41,2,     0.03,2,     1.62,2,        0,2,  15.7697
  06M320140530,    23,  1,     11,2,20140614,0724, 18.2050, -16.6010,  454,    123.0,  15.3656,  35.5556,2,     42.4,2,   -999.0,9,     8.17,2,    26.63,2,     0.04,2,     1.66,2,        0,2,  15.3466
  06M320140530,    23,  1,     10,2,20140614,0724, 18.2050, -16.6010,  454,    148.7,  15.1053,  35.5254,2,     42.8,2,   -999.0,9,     8.24,2,    27.10,2,     0.04,2,     1.64,2,        0,2,  15.0826
  06M320140530,    23,  1,      9,2,20140614,0724, 18.2050, -16.6010,  454,    198.9,  14.5520,  35.4832,2,     52.6,2,   -999.0,9,     8.42,2,    26.67,2,     0.03,2,     1.60,2,        0,2,  14.5224
  06M320140530,    23,  1,      8,2,20140614,0724, 18.2050, -16.6010,  454,    223.9,  13.9168,  35.4276,2,     59.3,2,   -999.0,9,     8.25,2,    26.73,2,     0.02,2,     1.63,2,        0,2,  13.8844
  06M320140530,    23,  1,      7,2,20140614,0724, 18.2050, -16.6010,  454,    249.0,  13.6290,  35.4087,2,     59.7,2,   -999.0,9,     8.77,2,    26.94,2,     0.03,2,     1.67,2,        0,2,  13.5935
  06M320140530,    23,  1,      6,2,20140614,0724, 18.2050, -16.6010,  454,    299.7,  13.0113,  35.4104,2,     55.3,2,     54.7,2,     9.69,2,    27.93,2,     0.02,2,     1.70,2,        0,2,  12.9697
  06M320140530,    23,  1,      5,2,20140614,0724, 18.2050, -16.6010,  454,    350.2,  12.6443,  35.4269,2,     53.0,2,   -999.0,9,     9.96,2,    28.97,2,     0.02,2,     1.74,2,        0,2,  12.5965
  06M320140530,    23,  1,      4,2,20140614,0724, 18.2050, -16.6010,  454,    400.7,  11.6439,  35.3578,2,     46.9,2,     46.8,2,    12.85,2,    31.65,2,     0.02,2,     1.91,2,        0,2,  11.5920
  06M320140530,    23,  1,      3,2,20140614,0724, 18.2050, -16.6010,  454,    421.7,  10.8965,  35.2924,2,     47.5,2,   -999.0,9,    14.10,2,    32.56,2,     0.03,2,     1.98,2,     0.02,2,  10.8441
  06M320140530,    23,  1,      2,2,20140614,0724, 18.2050, -16.6010,  454,    442.5,  10.5722,  35.2651,2,     48.6,2,   -999.0,9,    14.95,2,    33.27,2,     0.03,2,     2.00,2,     0.06,2,  10.5182
  06M320140530,    23,  1,      1,2,20140614,0724, 18.2050, -16.6010,  454,    452.8,  10.3294,  35.2428,2,     49.7,2,   -999.0,9,    15.12,2,    32.80,2,     0.03,2,     1.98,2,     0.12,2,  10.2749
  06M320140530,    25,  1,     24,2,20140614,1922, 18.1810, -16.6930,  948,      3.9,  22.4369,  35.7893,2,    211.0,2,   -999.0,9,     0.00,2,     2.40,2,     0.25,2,     0.27,2,    0.206,2,  22.4361
  06M320140530,    25,  1,     23,2,20140614,1922, 18.1810, -16.6930,  948,      8.7,  22.3711,  35.7852,2,    211.0,2,   -999.0,9,     0.00,2,     2.42,2,     0.25,2,     0.26,2,    0.249,2,  22.3694
  06M320140530,    25,  1,     22,2,20140614,1922, 18.1810, -16.6930,  948,     13.4,  21.8478,  35.7701,2,    212.2,2,   -999.0,9,     0.00,2,     2.55,2,     0.24,2,     0.31,2,    0.442,2,  21.8452
  06M320140530,    25,  1,     21,2,20140614,1922, 18.1810, -16.6930,  948,     18.5,  21.1526,  35.7324,2,    219.7,2,   -999.0,9,     3.63,2,     3.35,2,     0.25,2,     1.19,2,    0.448,2,  21.1490
  06M320140530,    25,  1,     20,2,20140614,1922, 18.1810, -16.6930,  948,     24.1,  21.0501,  35.7316,2,    215.0,2,   -999.0,9,     4.20,2,    17.67,2,     0.36,2,     1.40,2,    0.118,2,  21.0455
  06M320140530,    25,  1,     19,2,20140614,1922, 18.1810, -16.6930,  948,     29.1,  20.8473,  35.7538,2,    199.1,2,   -999.0,9,     5.66,2,    21.12,2,     0.42,2,     1.51,2,        0,2,  20.8417
  06M320140530,    25,  1,     18,2,20140614,1922, 18.1810, -16.6930,  948,     34.3,  17.7500,  35.7166,2,     68.8,2,   -999.0,9,     6.31,2,    23.15,2,     0.21,2,     1.58,2,        0,2,  17.7442
  06M320140530,    25,  1,     17,2,20140614,1922, 18.1810, -16.6930,  948,     39.1,  17.0955,  35.6797,2,     56.7,2,   -999.0,9,     6.64,2,    23.90,2,     0.12,2,     1.60,2,        0,2,  17.0890
  06M320140530,    25,  1,     16,2,20140614,1922, 18.1810, -16.6930,  948,     44.0,  16.8378,  35.6637,2,     50.7,2,   -999.0,9,     6.99,2,    24.51,2,     0.08,2,     1.59,2,        0,2,  16.8306
  06M320140530,    25,  1,     15,2,20140614,1922, 18.1810, -16.6930,  948,     47.8,  16.5492,  35.6312,2,     40.1,2,   -999.0,9,     8.09,2,    24.62,2,     0.05,2,     1.66,2,        0,2,  16.5415
  06M320140530,    25,  1,     14,2,20140614,1922, 18.1810, -16.6930,  948,     79.4,  15.3875,  35.5446,2,     42.4,2,   -999.0,9,     8.50,2,    25.61,2,     0.02,2,     1.66,2,        0,2,  15.3752
  06M320140530,    25,  1,     13,2,20140614,1922, 18.1810, -16.6930,  948,     99.3,  15.3276,  35.5391,2,     43.1,2,     43.2,2,     8.61,2,    25.31,2,     0.02,2,     1.64,2,        0,2,  15.3123
  06M320140530,    25,  1,     12,2,20140614,1922, 18.1810, -16.6930,  948,    146.3,  14.9359,  35.5104,2,     47.6,2,     65.2,2,     8.81,2,    25.72,2,     0.02,2,     1.61,2,        0,2,  14.9137
  06M320140530,    25,  1,     11,2,20140614,1922, 18.1810, -16.6930,  948,    179.6,  14.6983,  35.4888,2,     51.5,2,   -999.0,9,     8.40,2,    25.71,2,     0.02,2,     1.61,2,        0,2,  14.6714
  06M320140530,    25,  1,     10,2,20140614,1922, 18.1810, -16.6930,  948,    199.8,  14.3083,  35.4693,2,     57.6,2,   -999.0,9,     8.78,2,    25.39,2,     0.01,2,     1.66,2,        0,2,  14.2789
  06M320140530,    25,  1,      9,2,20140614,1922, 18.1810, -16.6930,  948,    299.6,  13.1183,  35.4221,2,     60.5,2,   -999.0,9,    10.73,2,    26.92,2,     0.01,2,     1.81,2,        0,2,  13.0765
  06M320140530,    25,  1,      8,2,20140614,1922, 18.1810, -16.6930,  948,    399.2,  11.9277,  35.3819,2,     45.1,2,     45.4,2,    13.88,2,    29.58,2,     0.01,2,     2.05,2,        0,2,  11.8752
  06M320140530,    25,  1,      7,2,20140614,1922, 18.1810, -16.6930,  948,    501.1,  10.2441,  35.2403,2,     49.5,2,   -999.0,9,    17.71,2,    33.27,2,     0.00,2,     2.13,2,        0,2,  10.1840
  06M320140530,    25,  1,      6,2,20140614,1922, 18.1810, -16.6930,  948,    601.8,   8.9439,  35.1056,2,     62.0,2,   -999.0,9,    21.91,2,    33.80,2,     0.00,2,     2.22,2,        0,2,   8.8771
  06M320140530,    25,  1,      5,2,20140614,1922, 18.1810, -16.6930,  948,    703.1,   7.9189,  34.9981,2,     72.5,2,   -999.0,9,    24.67,2,    33.81,2,     0.00,2,     2.22,2,        0,2,   7.8458
  06M320140530,    25,  1,      4,2,20140614,1922, 18.1810, -16.6930,  948,    803.9,   7.1427,  34.9393,2,     86.5,2,     88.3,2,    26.70,2,    33.58,2,     0.00,2,     2.14,2,        0,2,   7.0633
  06M320140530,    25,  1,      3,2,20140614,1922, 18.1810, -16.6930,  948,    905.9,   6.5539,  34.9328,2,    104.8,2,   -999.0,9,    27.72,2,    32.16,2,     0.00,2,     2.11,2,        0,2,   6.4678
  06M320140530,    25,  1,      2,2,20140614,1922, 18.1810, -16.6930,  948,    945.2,   6.3635,  34.9351,2,    111.4,2,   -999.0,9,    27.65,2,    31.54,2,     0.00,2,     2.11,2,        0,2,   6.2748
  06M320140530,    25,  1,      1,2,20140614,1922, 18.1810, -16.6930,  948,    954.0,   6.3379,  34.9360,2,    111.7,2,   -999.0,9,    27.04,2,    31.13,2,     0.01,2,     2.07,2,        0,2,   6.2485
  06M320140530,    26,  1,     17,2,20140614,2029, 18.1810, -16.6930,  952,     11.3,  22.3164,  35.7850,2,    208.8,2,    221.2,2,     0.00,2,     2.22,2,     0.25,2,     0.25,2,    0.357,2,  22.3141
  06M320140530,    26,  1,     11,2,20140614,2029, 18.1810, -16.6930,  952,     26.4,  21.3549,  35.7374,2,    227.5,2,    234.0,2,     0.00,2,     1.59,2,     0.20,2,     0.20,2,    0.422,2,  21.3498
  06M320140530,    26,  1,     10,2,20140614,2029, 18.1810, -16.6930,  952,     40.9,  16.6705,  35.6243,2,     51.9,2,   -999.0,9,     5.83,2,    24.65,2,     0.13,2,     1.57,2,        0,2,  16.6638
  06M320140530,    26,  1,      9,2,20140614,2029, 18.1810, -16.6930,  952,     61.1,  15.7438,  35.5683,2,     37.2,2,   -999.0,9,     8.22,2,    26.04,2,     0.03,2,     1.68,2,        0,2,  15.7342
  06M320140530,    26,  1,      5,2,20140614,2029, 18.1810, -16.6930,  952,     71.2,  15.5731,  35.5563,2,     39.5,2,     39.2,2,     8.01,2,    25.79,2,     0.02,2,     1.66,2,        0,2,  15.5620
  06M320140530,    26,  1,      1,2,20140614,2029, 18.1810, -16.6930,  952,    100.4,  15.3261,  35.5399,2,     43.0,2,     42.9,2,     8.01,2,    25.33,2,     0.03,2,     1.62,2,        0,2,  15.3106