BOTTLE,20180214PRINUNIVRMK
# processed by CCHDO on 2021-02-19, no changes
# 02/05/2018 Initialized README file  
# Data source: PANGAEA;"M107_hydrochem.tab.tsv" from https://doi.pangaea.de/10.1594/PANGAEA.885109 
# SHIP: Meteor 
# Cruise: M107 
# Region: Mauritanian oxygen minimum zone; Fortaleza, Brazil to Las Palmas, Spain 
# EXPOCODE: 06M320140530 
# DATES: 20140530 - 20140703 
# Chief Scientist: S.Sommer, M. Dengler, T. Treude 
# 65 stations with 24 place Rosette 
# Bottom depths approximated from greater of (a)max sample pressure + 10 or (b) global topography 
# CTD: Who - M.Dengler; Status - final 
# 	Includes: CTDSAL, CTDOXY 
# 	Estimated salt uncertainty of 0.0017PSU 
# 	Estimated oxygen uncertainty of 1.7umol/kg 
# Salinty: Who - ; Status -  
# 	Notes: 	98 samples used for calibration 
# O2: Who - ; Status - final 
# 	Notes: 348 samples used for calibration 
# 	Converted to umol/kg with assumed temperatuer of 25C 
# Nutrients: Who - M.Dengler; Status - final 
# 	Includes: nitrate, nitrite, silicate, phopshpate, ammonium 
# 	Converted to umol/kg using assumed lab temperature of 22C and measured salinity/ctdsal 
# DOM&POM: R.Flerus & H.Wagner; measured but no data in file 
# Trace metals: C.Schlosser; measured but no data in file 
# Radiotracer: P.Reichert, B.Gasser, J.Scholten; U/Th series measured but no data in file 
# These data should be cited as: 
# Dengler, Marcus; Sommer, Stefan (2018): Hydrochemistry of water samples during METEOR cruise M107 (primary quality controlled). PANGAEA, https://doi.pangaea.de/10.1594/PANGAEA.885109 (DOI registration in progress) 
# References that have used data from this cruise: 
EXPOCODE,STNNBR,CASTNO,BTLNBR,BTLNBR_FLAG_W,DATE,TIME,LATITUDE,LONGITUDE,DEPTH,CTDPRS,CTDTMP,CTDSAL,CTDSAL_FLAG_W,CTDOXY,CTDOXY_FLAG_W,OXYGEN,OXYGEN_FLAG_W,SILCAT,SILCAT_FLAG_W,NITRAT,NITRAT_FLAG_W,NITRIT,NITRIT_FLAG_W,PHSPHT,PHSPHT_FLAG_W,NH4,NH4_FLAG_W,THETA
,,,,,,,,,METERS,DBAR,ITS-90,PSS-78,,UMOL/KG,,UMOL/KG,,UMOL/KG,,UMOL/KG,,UMOL/KG,,UMOL/KG,,UMOL/KG,,DEG C
  06M320140530,     2,  1,     22,2,20140605,2115, 11.4540, -22.9980, 5086,      6.7,  25.6188,  35.9227,2,    208.3,2,    207.0,2,     0.00,2,     0.00,2,     0.02,2,     0.07,2,     -999,9,  25.6173
  06M320140530,     2,  1,     19,2,20140605,2115, 11.4540, -22.9980, 5086,     60.2,  16.3679,  35.6643,2,     72.4,2,     71.1,2,     3.42,2,    21.57,2,     0.30,2,     1.33,2,     -999,9,  16.3582
  06M320140530,     2,  1,     16,2,20140605,2115, 11.4540, -22.9980, 5086,     81.6,  14.4543,  35.4759,2,     77.1,2,     75.0,2,     5.11,2,    24.01,2,     0.05,2,     1.47,2,     -999,9,  14.4422
  06M320140530,     2,  1,     15,2,20140605,2115, 11.4540, -22.9980, 5086,     99.9,  13.5595,  35.3749,2,     82.2,2,     81.2,2,     5.97,2,    24.45,2,     0.02,2,     1.52,2,     -999,9,  13.5454
  06M320140530,     2,  1,     14,2,20140605,2115, 11.4540, -22.9980, 5086,    151.8,  12.9129,  35.3347,2,     75.8,2,     75.7,2,     7.00,2,    26.30,2,     0.02,2,     1.62,2,     -999,9,  12.8921
  06M320140530,     2,  1,     13,2,20140605,2115, 11.4540, -22.9980, 5086,    199.1,  12.3912,  35.3021,2,     72.6,2,     71.7,2,     7.66,2,    27.55,2,     0.02,2,     1.69,2,     -999,9,  12.3646
  06M320140530,     2,  1,     12,2,20140605,2115, 11.4540, -22.9980, 5086,    252.8,  11.6238,  35.2127,2,     61.0,2,     60.1,2,     8.78,2,    29.67,2,     0.01,2,     1.79,2,     -999,9,  11.5913
  06M320140530,     2,  1,      9,2,20140605,2115, 11.4540, -22.9980, 5086,    349.3,  10.6594,  35.1407,2,     45.7,2,     50.7,2,    11.16,2,    33.30,2,     0.02,2,     2.00,2,     -999,9,  10.6168
  06M320140530,     2,  1,      6,2,20140605,2115, 11.4540, -22.9980, 5086,    424.8,  10.1617,  35.1455,2,     39.0,2,     47.6,2,    12.55,2,    34.95,2,     0.02,2,     2.09,2,     -999,9,  10.1112
  06M320140530,     2,  1,      4,2,20140605,2115, 11.4540, -22.9980, 5086,    501.2,   9.2021,  35.0504,2,     46.6,2,     59.9,2,    14.83,2,    36.14,2,     0.02,2,     2.21,2,     -999,9,   9.1459
  06M320140530,     2,  1,      3,2,20140605,2115, 11.4540, -22.9980, 5086,    656.5,   7.2472,  34.8245,2,     71.8,2,     81.1,2,    19.47,2,    37.48,2,     0.01,2,     2.34,2,     -999,9,   7.1826
  06M320140530,     2,  1,      2,2,20140605,2115, 11.4540, -22.9980, 5086,    856.8,   5.7437,  34.7131,2,    108.2,2,    127.0,2,    23.56,2,    35.98,2,     0.01,2,     2.33,2,     -999,9,   5.6681
  06M320140530,     2,  1,      1,2,20140605,2115, 11.4540, -22.9980, 5086,   1008.7,   5.3269,  34.7756,2,    129.4,2,    153.8,3,    23.67,2,    33.27,2,     0.01,2,     2.19,2,     -999,9,   5.2399
  06M320140530,     3,  1,     10,2,20140608,1840, 18.2530, -16.4490,   91,      5.6,  20.2876,  35.6819,2,    201.7,2,   -999.0,9,     0.00,2,    10.52,2,     0.26,2,     0.78,2,     -999,9,  20.2865
  06M320140530,     3,  1,      9,2,20140608,1840, 18.2530, -16.4490,   91,     10.8,  19.1744,  35.6639,2,    175.5,2,   -999.0,9,     0.09,2,    12.08,2,     0.32,2,     0.90,2,     -999,9,  19.1725
  06M320140530,     3,  1,      8,2,20140608,1840, 18.2530, -16.4490,   91,     15.5,  18.5480,  35.6466,2,    154.4,2,   -999.0,9,     0.45,2,    14.06,2,     0.37,2,     1.05,2,     -999,9,  18.5453
  06M320140530,     3,  1,      7,2,20140608,1840, 18.2530, -16.4490,   91,     20.6,  18.8702,  35.6532,2,    162.3,2,   -999.0,9,     0.76,2,    13.63,2,     0.39,2,     1.06,2,     -999,9,  18.8665
  06M320140530,     3,  1,      6,2,20140608,1840, 18.2530, -16.4490,   91,     25.7,  17.3516,  35.6057,2,    118.8,2,   -999.0,9,     1.73,2,    16.95,2,     0.36,2,     1.23,2,     -999,9,  17.3473
  06M320140530,     3,  1,      5,2,20140608,1840, 18.2530, -16.4490,   91,     30.8,  17.0946,  35.6018,2,     97.6,2,   -999.0,9,     3.10,2,    19.24,2,     0.31,2,     1.34,2,     -999,9,  17.0895
  06M320140530,     3,  1,      4,2,20140608,1840, 18.2530, -16.4490,   91,     35.9,  17.7531,  35.6216,2,    125.5,2,   -999.0,9,     2.00,2,    17.12,2,     0.39,2,     1.23,2,     -999,9,  17.7470
  06M320140530,     3,  1,      3,2,20140608,1840, 18.2530, -16.4490,   91,     40.9,  16.4053,  35.5834,2,     62.4,2,   -999.0,9,     4.95,2,    22.50,2,     0.33,2,     1.57,2,     -999,9,  16.3987
  06M320140530,     3,  1,      2,2,20140608,1840, 18.2530, -16.4490,   91,     45.6,  16.6564,  35.5888,2,     73.3,2,   -999.0,9,     4.69,2,    21.60,2,     0.31,2,     1.51,2,     -999,9,  16.6490
  06M320140530,     3,  1,      1,2,20140608,1840, 18.2530, -16.4490,   91,     50.7,  15.9698,  35.5699,2,     48.4,2,   -999.0,9,     6.25,2,    24.17,2,     0.33,2,     1.71,2,     -999,9,  15.9618
  06M320140530,     4,  1,     12,2,20140608,2155, 18.2520, -16.4500,   91,      5.6,  20.3536,  35.6741,2,    205.0,2,    194.2,2,     0.25,2,  -999.00,9,     0.55,2,     0.88,2,     -999,9,  20.3525
  06M320140530,     4,  1,     11,2,20140608,2155, 18.2520, -16.4500,   91,     10.7,  19.1873,  35.6585,2,    178.9,2,    175.0,2,     0.46,2,  -999.00,9,     0.42,2,     0.94,2,     -999,9,  19.1854
  06M320140530,     4,  1,     10,2,20140608,2155, 18.2520, -16.4500,   91,     15.6,  18.7777,  35.6534,2,    166.6,2,    162.3,2,     1.08,2,  -999.00,9,  -999.00,9,     1.04,2,     -999,9,  18.7749
  06M320140530,     4,  1,      9,2,20140608,2155, 18.2520, -16.4500,   91,     20.7,  18.1939,  35.6285,2,    155.5,2,    152.5,2,     0.56,2,  -999.00,9,  -999.00,9,     0.99,2,     -999,9,  18.1903
  06M320140530,     4,  1,      8,2,20140608,2155, 18.2520, -16.4500,   91,     30.2,  17.2773,  35.6024,2,    113.5,2,    100.2,3,     3.16,2,  -999.00,9,  -999.00,9,     1.43,2,     -999,9,  17.2723
  06M320140530,     4,  1,      7,2,20140608,2155, 18.2520, -16.4500,   91,     40.3,  16.3991,  35.5822,2,     60.0,2,     54.4,2,     6.49,2,  -999.00,9,     0.26,2,     1.73,2,     -999,9,  16.3926
  06M320140530,     4,  1,      6,2,20140608,2155, 18.2520, -16.4500,   91,     50.5,  15.7219,  35.5576,2,     39.4,2,     37.0,2,     8.47,2,  -999.00,9,     0.16,2,     1.89,2,     -999,9,  15.7140
  06M320140530,     4,  1,      4,2,20140608,2155, 18.2520, -16.4500,   91,     76.3,  15.4859,  35.5459,2,     32.4,2,     32.2,2,    10.24,2,  -999.00,9,     0.35,2,     1.89,2,     -999,9,  15.4741
  06M320140530,     4,  1,      3,2,20140608,2155, 18.2520, -16.4500,   91,     84.0,  15.4907,  35.5459,2,     31.9,2,     30.6,2,    10.44,2,  -999.00,9,     0.30,2,     1.93,2,     -999,9,  15.4777
  06M320140530,     4,  1,      2,2,20140608,2155, 18.2520, -16.4500,   91,     89.4,  15.4901,  35.5457,2,     30.8,2,     29.1,2,    10.55,2,  -999.00,9,     0.34,2,     1.85,2,     -999,9,  15.4762
  06M320140530,     4,  1,      1,2,20140608,2155, 18.2520, -16.4500,   91,     92.1,  15.4902,  35.5452,2,     29.5,2,     29.0,2,     8.47,2,  -999.00,9,     0.33,2,     1.94,2,     -999,9,  15.4759
  06M320140530,     4,  1,      5,2,20140608,2155, 18.2520, -16.4500,   91,     65.4,  15.4921,  35.5454,2,     30.4,2,     35.6,2,     9.82,2,  -999.00,9,     0.33,2,     1.90,2,     -999,9,  15.4820
  06M320140530,     5,  1,     15,2,20140609,0018, 18.2390, -16.5170,  170,      6.5,  20.4402,  35.6986,2,    200.6,2,    181.7,3,  -999.00,9,  -999.00,9,  -999.00,9,  -999.00,9,     -999,9,  20.4390
  06M320140530,     5,  1,     14,2,20140609,0018, 18.2390, -16.5170,  170,     10.4,  20.2358,  35.7001,2,    195.4,2,    158.0,3,     1.91,2,  -999.00,9,     0.38,2,     0.94,2,     -999,9,  20.2339
  06M320140530,     5,  1,     13,2,20140609,0018, 18.2390, -16.5170,  170,     21.2,  19.4727,  35.6736,2,    162.4,2,    139.7,2,     2.54,2,  -999.00,9,     0.43,2,     1.12,2,     -999,9,  19.4689
  06M320140530,     5,  1,     12,2,20140609,0018, 18.2390, -16.5170,  170,     22.9,  19.0523,  35.6676,2,    149.2,2,     81.3,3,     2.64,2,  -999.00,9,     0.43,2,     1.27,2,     -999,9,  19.0482
  06M320140530,     5,  1,     11,2,20140609,0018, 18.2390, -16.5170,  170,     41.3,  17.3420,  35.6538,2,     88.4,2,     53.7,3,  -999.00,9,  -999.00,9,     0.26,2,     1.56,2,     -999,9,  17.3351
  06M320140530,     5,  1,     10,2,20140609,0018, 18.2390, -16.5170,  170,     51.5,  16.2700,  35.6083,2,     55.7,2,     45.5,2,  -999.00,9,  -999.00,9,  -999.00,9,     1.71,2,     -999,9,  16.2618
  06M320140530,     5,  1,      9,2,20140609,0018, 18.2390, -16.5170,  170,     61.0,  15.7347,  35.5746,2,     43.3,2,     48.5,2,  -999.00,9,  -999.00,9,     0.11,2,     1.76,2,     -999,9,  15.7252
  06M320140530,     5,  1,      8,2,20140609,0018, 18.2390, -16.5170,  170,     81.4,  15.1587,  35.5332,2,     48.1,2,     45.2,2,  -999.00,9,  -999.00,9,     0.06,2,     1.74,2,     -999,9,  15.1463
  06M320140530,     5,  1,      7,2,20140609,0018, 18.2390, -16.5170,  170,    110.3,  15.0872,  35.5281,2,     46.4,2,     45.3,2,     8.05,2,  -999.00,9,     0.06,2,     1.81,2,     -999,9,  15.0704
  06M320140530,     5,  1,      5,2,20140609,0018, 18.2390, -16.5170,  170,    145.9,  14.9764,  35.5176,2,     45.7,2,     60.8,2,     8.57,2,  -999.00,9,     0.05,2,     1.79,2,     -999,9,  14.9543
  06M320140530,     5,  1,      4,2,20140609,0018, 18.2390, -16.5170,  170,    154.5,  14.9555,  35.5156,2,     45.8,2,   -999.0,9,     8.68,2,  -999.00,9,     0.04,2,     1.76,2,     -999,9,  14.9321
  06M320140530,     5,  1,      3,2,20140609,0018, 18.2390, -16.5170,  170,    159.8,  14.9150,  35.5110,2,     46.2,2,     46.8,2,     8.78,2,  -999.00,9,     0.04,2,     1.79,2,     -999,9,  14.8908
  06M320140530,     5,  1,      2,2,20140609,0018, 18.2390, -16.5170,  170,    164.3,  14.9155,  35.5110,2,     46.2,2,     53.8,2,     9.30,2,  -999.00,9,     0.05,2,     1.79,2,     -999,9,  14.8906
  06M320140530,     5,  1,      1,2,20140609,0018, 18.2390, -16.5170,  170,    169.3,  14.9104,  35.5101,2,     46.0,2,     45.9,2,     8.67,2,  -999.00,9,     0.04,2,     1.76,2,     -999,9,  14.8848
  06M320140530,     5,  1,      6,2,20140609,0018, 18.2390, -16.5170,  170,    130.5,  14.9066,  35.5097,2,     46.2,2,     45.7,2,     8.57,2,  -999.00,9,     0.06,2,  -999.00,9,     -999,9,  14.8869
  06M320140530,     6,  1,     16,2,20140609,0346, 18.2190, -16.5550,  238,     11.4,  20.8042,  35.7120,2,    209.6,2,    194.5,2,     1.50,2,  -999.00,9,     0.32,2,     0.88,2,     -999,9,  20.8020
  06M320140530,     6,  1,     15,2,20140609,0346, 18.2190, -16.5550,  238,     23.2,  18.7629,  35.6603,2,    164.5,2,   -999.0,9,     2.64,2,  -999.00,9,     0.47,2,     1.32,2,     -999,9,  18.7588
  06M320140530,     6,  1,     14,2,20140609,0346, 18.2190, -16.5550,  238,     28.8,  18.0706,  35.6667,2,    128.4,2,   -999.0,9,     4.31,2,  -999.00,9,     0.40,2,     1.57,2,     -999,9,  18.0656
  06M320140530,     6,  1,     13,2,20140609,0346, 18.2190, -16.5550,  238,     39.1,  17.3190,  35.7041,2,     64.9,2,   -999.0,9,     4.93,2,  -999.00,9,     0.49,2,     1.74,2,     -999,9,  17.3124
  06M320140530,     6,  1,     12,2,20140609,0346, 18.2190, -16.5550,  238,     51.2,  16.0732,  35.6147,2,     41.9,2,     39.9,2,     6.07,2,  -999.00,9,     0.19,2,     1.80,2,     -999,9,  16.0651
  06M320140530,     6,  1,     11,2,20140609,0346, 18.2190, -16.5550,  238,     59.3,  15.3916,  35.5522,2,     48.4,2,   -999.0,9,     7.32,2,  -999.00,9,     0.18,2,     1.81,2,     -999,9,  15.3825
  06M320140530,     6,  1,     10,2,20140609,0346, 18.2190, -16.5550,  238,     78.7,  15.0435,  35.5239,2,     50.4,2,   -999.0,9,     7.64,2,  -999.00,9,     0.14,2,     1.79,2,     -999,9,  15.0315
  06M320140530,     6,  1,      9,2,20140609,0346, 18.2190, -16.5550,  238,    101.3,  14.8091,  35.5048,2,     52.2,2,     51.5,2,     7.84,2,  -999.00,9,     0.12,2,     1.80,2,     -999,9,  14.7939
  06M320140530,     6,  1,      8,2,20140609,0346, 18.2190, -16.5550,  238,    128.6,  14.6855,  35.4971,2,     47.5,2,   -999.0,9,     8.78,2,  -999.00,9,     0.13,2,     1.87,2,     -999,9,  14.6663
  06M320140530,     6,  1,      7,2,20140609,0346, 18.2190, -16.5550,  238,    149.3,  14.3236,  35.4639,2,     54.7,2,   -999.0,9,     8.78,2,  -999.00,9,     0.12,2,     1.85,2,     -999,9,  14.3016
  06M320140530,     6,  1,      6,2,20140609,0346, 18.2190, -16.5550,  238,    171.2,  14.0605,  35.4436,2,     61.3,2,     60.8,2,     8.16,2,  -999.00,9,     0.11,2,     1.82,2,     -999,9,  14.0356
  06M320140530,     6,  1,      5,2,20140609,0346, 18.2190, -16.5550,  238,    199.5,  13.7349,  35.4211,2,     59.0,2,   -999.0,9,     8.99,2,  -999.00,9,  -999.00,9,     1.85,2,     -999,9,  13.7063
  06M320140530,     6,  1,      4,2,20140609,0346, 18.2190, -16.5550,  238,    221.0,  13.5438,  35.4101,2,     59.2,2,     57.9,2,     9.20,2,  -999.00,9,     0.13,2,     1.86,2,     -999,9,  13.5124
  06M320140530,     6,  1,      3,2,20140609,0346, 18.2190, -16.5550,  238,    228.8,  13.4505,  35.4040,2,     59.5,2,   -999.0,9,     9.30,2,  -999.00,9,     0.09,2,     1.86,2,     -999,9,  13.4181
  06M320140530,     6,  1,      2,2,20140609,0346, 18.2190, -16.5550,  238,    233.5,  13.4249,  35.4021,2,     59.8,2,   -999.0,9,     9.30,2,  -999.00,9,  -999.00,9,     1.89,2,     -999,9,  13.3919
  06M320140530,     6,  1,      1,2,20140609,0346, 18.2190, -16.5550,  238,    237.8,  13.4212,  35.4023,2,     59.8,2,   -999.0,9,     8.99,2,  -999.00,9,     0.09,2,     1.87,2,     -999,9,  13.3876
  06M320140530,     8,  1,     24,2,20140610,0045, 18.0330, -17.1670, 2023,      9.7,  20.8842,  35.6992,2,    218.8,2,    186.1,3,     2.20,2,  -999.00,9,     0.30,2,     1.05,2,    0.967,2,  20.8823
  06M320140530,     8,  1,     23,2,20140610,0045, 18.0330, -17.1670, 2023,     13.8,  20.3773,  35.7057,2,    203.3,2,    102.9,3,     3.71,2,  -999.00,9,     0.47,2,     1.49,2,    1.818,2,  20.3747
  06M320140530,     8,  1,     22,2,20140610,0045, 18.0330, -17.1670, 2023,     19.4,  18.3025,  35.6556,2,    114.2,2,     60.8,3,     7.39,2,  -999.00,9,     0.51,2,  -999.00,9,    2.164,2,  18.2991
  06M320140530,     8,  1,     21,2,20140610,0045, 18.0330, -17.1670, 2023,     24.1,  17.1104,  35.6267,2,     60.1,2,     36.3,3,     7.65,2,  -999.00,9,     0.37,2,     1.88,2,    1.035,2,  17.1064
  06M320140530,     8,  1,     20,2,20140610,0045, 18.0330, -17.1670, 2023,     30.3,  16.3688,  35.5900,2,     38.1,2,     33.4,2,     6.54,2,  -999.00,9,     0.21,2,     1.92,2,        0,2,  16.3639
  06M320140530,     8,  1,     19,2,20140610,0045, 18.0330, -17.1670, 2023,     34.1,  16.0027,  35.5700,2,     31.9,2,     34.5,2,     8.15,2,  -999.00,9,     0.11,2,     1.92,2,    0.036,2,  15.9973
  06M320140530,     8,  1,     17,2,20140610,0045, 18.0330, -17.1670, 2023,     38.8,  15.8638,  35.5660,2,     32.2,2,     36.8,2,     8.07,2,  -999.00,9,     0.10,2,     1.91,2,        0,2,  15.8577
  06M320140530,     8,  1,     16,2,20140610,0045, 18.0330, -17.1670, 2023,     48.4,  15.4249,  35.5448,2,     40.4,2,     41.9,2,     7.76,2,  -999.00,9,     0.07,2,     1.92,2,     -999,9,  15.4174
  06M320140530,     8,  1,     15,2,20140610,0045, 18.0330, -17.1670, 2023,    103.2,  14.6523,  35.4838,2,     55.1,2,     55.2,2,     7.70,2,  -999.00,9,     0.05,2,     1.82,2,        0,2,  14.6369
  06M320140530,     8,  1,     14,2,20140610,0045, 18.0330, -17.1670, 2023,    139.0,  14.1453,  35.4434,2,     60.9,2,     62.2,2,     7.96,2,  -999.00,9,     0.05,2,     1.84,2,    0.014,2,  14.1250
  06M320140530,     8,  1,     13,2,20140610,0045, 18.0330, -17.1670, 2023,    203.2,  13.1850,  35.3962,2,     64.1,2,     64.9,2,     8.33,2,  -999.00,9,     0.06,2,  -999.00,9,    0.057,2,  13.1567
  06M320140530,     8,  1,     12,2,20140610,0045, 18.0330, -17.1670, 2023,    299.9,  12.2962,  35.4049,2,     54.0,2,     55.5,2,     9.48,2,  -999.00,9,     0.04,2,     1.96,2,    0.009,2,  12.2561
  06M320140530,     8,  1,     11,2,20140610,0045, 18.0330, -17.1670, 2023,    354.1,  11.6424,  35.3424,2,     45.1,2,     48.4,2,    10.70,2,  -999.00,9,     0.04,2,     2.06,2,        0,2,  11.5966
  06M320140530,     8,  1,      8,2,20140610,0045, 18.0330, -17.1670, 2023,    424.4,  11.2602,  35.3372,2,     46.8,2,     43.2,2,    11.93,2,  -999.00,9,  -999.00,9,     2.10,2,        0,2,  11.2063
  06M320140530,     8,  1,      7,2,20140610,0045, 18.0330, -17.1670, 2023,    500.6,  10.3823,  35.2488,2,     47.7,2,     47.1,2,    13.90,2,  -999.00,9,     0.03,2,     2.18,2,    0.014,2,  10.3217
  06M320140530,     8,  1,      6,2,20140610,0045, 18.0330, -17.1670, 2023,    706.1,   8.3172,  35.0488,2,     74.0,2,     72.6,2,    17.94,2,  -999.00,9,     0.02,2,     2.30,2,    0.016,2,   8.2417
  06M320140530,     8,  1,      5,2,20140610,0045, 18.0330, -17.1670, 2023,   1008.2,   6.2677,  34.9541,2,    120.6,2,    119.4,2,    21.91,2,  -999.00,9,     0.02,2,     2.26,2,        0,2,   6.1733
  06M320140530,     8,  1,      3,2,20140610,0045, 18.0330, -17.1670, 2023,   1411.9,   4.7371,  34.9993,2,    180.6,2,   -999.0,9,    22.21,2,  -999.00,9,     0.03,2,     2.21,2,        0,2,   4.6170
  06M320140530,     8,  1,      4,2,20140610,0045, 18.0330, -17.1670, 2023,   1411.9,   4.7369,  34.9994,2,    180.6,2,    180.5,2,    21.93,2,  -999.00,9,     0.01,2,     2.04,3,        0,2,   4.6168
  06M320140530,     8,  1,      2,2,20140610,0045, 18.0330, -17.1670, 2023,   1815.5,   3.8084,  34.9763,2,    215.0,2,    216.6,2,    22.59,2,  -999.00,9,     0.02,2,     1.90,2,        0,2,   3.6613
  06M320140530,     8,  1,      1,2,20140610,0045, 18.0330, -17.1670, 2023,   2029.1,   3.4996,  34.9665,2,    221.5,2,    222.0,2,    25.42,2,  -999.00,9,     0.03,2,     1.87,2,    0.007,2,   3.3367