BOTTLE,20180214PRINUNIVRMK
EXPOCODE,STNNBR,CASTNO,BTLNBR,BTLNBR_FLAG_W,DATE,TIME,LATITUDE,LONGITUDE,DEPTH,CTDPRS,CTDTMP,CTDSAL,CTDSAL_FLAG_W,CTDOXY,CTDOXY_FLAG_W,OXYGEN,OXYGEN_FLAG_W,SILCAT,SILCAT_FLAG_W,NITRAT,NITRAT_FLAG_W,NITRIT,NITRIT_FLAG_W,PHSPHT,PHSPHT_FLAG_W,NH4,NH4_FLAG_W,THETA
,,,,,,,,,METERS,DBAR,ITS-90,PSS-78,,UMOL/KG,,UMOL/KG,,UMOL/KG,,UMOL/KG,,UMOL/KG,,UMOL/KG,,UMOL/KG,,DEG C
  06M320140530,    58,  1,     18,2,20140625,0618, 18.2380, -16.5170,  168,      3.5,  21.1139,  35.7063,2,    248.0,2,   -999.0,9,     1.92,2,     4.17,2,     0.74,2,     0.54,2,    1.035,2,  21.1132
  06M320140530,    58,  1,     17,2,20140625,0618, 18.2380, -16.5170,  168,      8.9,  21.1122,  35.7071,2,    246.3,2,    191.7,3,     2.25,2,     6.36,2,     0.91,2,     0.75,2,    1.024,2,  21.1105
  06M320140530,    58,  1,     16,2,20140625,0618, 18.2380, -16.5170,  168,     13.9,  20.9968,  35.7098,2,    237.3,2,   -999.0,9,     3.23,2,     8.68,2,     1.06,2,     0.90,2,    0.921,2,  20.9941
  06M320140530,    58,  1,     15,2,20140625,0618, 18.2380, -16.5170,  168,     19.0,  20.4624,  35.7050,2,    172.1,2,   -999.0,9,     3.64,2,    11.46,2,     0.93,2,     1.01,2,    0.688,2,  20.4588
  06M320140530,    58,  1,     14,2,20140625,0618, 18.2380, -16.5170,  168,     24.2,  20.4223,  35.7063,2,    165.6,2,   -999.0,9,     4.20,2,    12.36,2,     0.83,2,     1.06,2,    0.666,2,  20.4178
  06M320140530,    58,  1,     13,2,20140625,0618, 18.2380, -16.5170,  168,     28.7,  20.1433,  35.7096,2,    132.9,2,   -999.0,9,     4.14,2,    15.09,2,     0.73,2,     1.16,2,    0.214,2,  20.1380
  06M320140530,    58,  1,     12,2,20140625,0618, 18.2380, -16.5170,  168,     34.1,  19.2835,  35.6921,2,     87.1,2,   -999.0,9,     4.07,2,    15.57,2,     0.72,2,     1.17,2,    0.066,2,  19.2774
  06M320140530,    58,  1,     11,2,20140625,0618, 18.2380, -16.5170,  168,     39.3,  19.0415,  35.6880,2,     79.8,2,   -999.0,9,     4.37,2,    16.30,2,     0.59,2,     1.21,2,    0.153,2,  19.0345
  06M320140530,    58,  1,     10,2,20140625,0618, 18.2380, -16.5170,  168,     43.9,  18.8046,  35.6850,2,     70.5,2,   -999.0,9,     5.31,2,    18.38,2,     0.32,2,     1.33,2,     0.02,2,  18.7968
  06M320140530,    58,  1,      9,2,20140625,0618, 18.2380, -16.5170,  168,     48.6,  18.3474,  35.6740,2,     49.1,2,   -999.0,9,     6.45,2,    20.68,2,     0.07,2,     1.40,2,    0.027,2,  18.3389
  06M320140530,    58,  1,      8,2,20140625,0618, 18.2380, -16.5170,  168,     59.0,  18.0303,  35.6830,2,     49.6,2,   -999.0,9,     6.60,2,    20.31,2,     0.10,2,     1.41,2,        0,2,  18.0201
  06M320140530,    58,  1,      7,2,20140625,0618, 18.2380, -16.5170,  168,     80.1,  17.1772,  35.6600,2,     40.0,2,   -999.0,9,     7.86,2,    22.91,2,     0.05,2,     1.56,2,    0.027,2,  17.1639
  06M320140530,    58,  1,      6,2,20140625,0618, 18.2380, -16.5170,  168,    100.1,  16.7535,  35.6420,2,     41.3,2,     40.9,2,     7.93,2,    23.05,2,     0.05,2,     1.57,2,    0.027,2,  16.7371
  06M320140530,    58,  1,      5,2,20140625,0618, 18.2380, -16.5170,  168,    120.2,  16.6496,  35.6319,2,     36.2,2,   -999.0,9,     7.46,2,    23.81,2,     0.09,2,     1.55,2,    0.098,2,  16.6300
  06M320140530,    58,  1,      4,2,20140625,0618, 18.2380, -16.5170,  168,    140.1,  16.3628,  35.6157,2,     42.3,2,   -999.0,9,     7.23,2,    24.32,2,     0.09,2,     1.50,2,    0.027,2,  16.3402
  06M320140530,    58,  1,      3,2,20140625,0618, 18.2380, -16.5170,  168,    150.0,  15.8306,  35.5813,2,     41.6,2,     40.7,2,     7.59,2,    24.46,2,     0.13,2,     1.58,2,    0.052,2,  15.8070
  06M320140530,    58,  1,      2,2,20140625,0618, 18.2380, -16.5170,  168,    160.2,  15.3035,  35.5455,2,     43.8,2,   -999.0,9,     8.34,2,    25.53,2,     0.15,2,     1.65,2,    0.002,2,  15.2788
  06M320140530,    58,  1,      1,2,20140625,0618, 18.2380, -16.5170,  168,    164.7,  15.2685,  35.5429,2,     44.0,2,   -999.0,9,     8.58,2,    25.15,2,     0.14,2,     1.64,2,    0.955,2,  15.2432
  06M320140530,    59,  1,     24,2,20140625,2038, 18.2080, -16.5920,  411,      4.0,  22.6163,  35.7350,2,    205.9,2,    223.6,2,     0.60,2,     0.44,2,     0.25,2,     0.30,2,    0.513,2,  22.6155
  06M320140530,    59,  1,     23,2,20140625,2038, 18.2080, -16.5920,  411,      9.3,  22.6185,  35.7344,2,    207.3,2,    223.6,2,     0.80,2,     1.32,2,     0.38,2,     0.34,2,     0.77,2,  22.6166
  06M320140530,    59,  1,     22,2,20140625,2038, 18.2080, -16.5920,  411,     14.0,  22.5866,  35.7348,2,    204.6,2,   -999.0,9,     1.18,2,     2.95,2,     0.69,2,     0.48,2,     0.98,2,  22.5838
  06M320140530,    59,  1,     21,2,20140625,2038, 18.2080, -16.5920,  411,     20.6,  21.8338,  35.7247,2,    163.0,2,   -999.0,9,     1.73,2,     5.45,2,     1.07,2,     0.63,2,    0.777,2,  21.8298
  06M320140530,    59,  1,     20,2,20140625,2038, 18.2080, -16.5920,  411,     25.0,  21.6234,  35.7183,2,    149.5,2,   -999.0,9,     1.87,2,     6.36,2,     1.10,2,     0.71,2,    0.796,2,  21.6185
  06M320140530,    59,  1,     19,2,20140625,2038, 18.2080, -16.5920,  411,     30.0,  21.3298,  35.7136,2,    140.1,2,   -999.0,9,     2.26,2,     6.48,2,     1.04,2,     0.70,2,    0.761,2,  21.3240
  06M320140530,    59,  1,     18,2,20140625,2038, 18.2080, -16.5920,  411,     34.5,  20.7748,  35.7074,2,    115.5,2,   -999.0,9,     3.12,2,     8.86,2,     1.07,2,     0.88,2,    0.518,2,  20.7682
  06M320140530,    59,  1,     17,2,20140625,2038, 18.2080, -16.5920,  411,     39.7,  20.2016,  35.6915,2,     93.1,2,   -999.0,9,     4.15,2,    12.69,2,     0.89,2,     1.06,2,    0.138,2,  20.1942
  06M320140530,    59,  1,     16,2,20140625,2038, 18.2080, -16.5920,  411,     49.6,  18.9681,  35.6814,2,     81.0,2,   -999.0,9,     4.24,2,    15.44,2,     0.37,2,     1.12,2,        0,2,  18.9593
  06M320140530,    59,  1,     15,2,20140625,2038, 18.2080, -16.5920,  411,     59.9,  18.0829,  35.6763,2,     69.6,2,   -999.0,9,     4.71,2,    17.73,2,     0.17,2,     1.23,2,        0,2,  18.0726
  06M320140530,    59,  1,     14,2,20140625,2038, 18.2080, -16.5920,  411,     79.3,  17.3250,  35.6702,2,     60.2,2,   -999.0,9,     5.45,2,    20.87,2,     0.07,2,     1.38,2,        0,2,  17.3117
  06M320140530,    59,  1,     11,2,20140625,2038, 18.2080, -16.5920,  411,    100.5,  16.5522,  35.6280,2,     54.0,2,     60.3,2,     5.73,2,    25.46,2,     0.04,2,     1.49,2,        0,2,  16.5359
  06M320140530,    59,  1,      9,2,20140625,2038, 18.2080, -16.5920,  411,    148.8,  14.8351,  35.5005,2,     60.2,2,   -999.0,9,     7.36,2,    25.74,2,     0.04,2,     1.56,2,    0.034,2,  14.8127
  06M320140530,    59,  1,      8,2,20140625,2038, 18.2080, -16.5920,  411,    199.0,  13.8386,  35.4342,2,     63.4,2,   -999.0,9,     7.73,2,    26.72,2,     0.03,2,     1.60,2,        0,2,  13.8099
  06M320140530,    59,  1,      7,2,20140625,2038, 18.2080, -16.5920,  411,    249.2,  13.0924,  35.4379,2,     54.5,2,   -999.0,9,     9.23,2,    29.23,2,     0.01,2,     1.69,2,        0,2,  13.0577
  06M320140530,    59,  1,      6,2,20140625,2038, 18.2080, -16.5920,  411,    300.1,  12.4975,  35.4366,2,     49.3,2,   -999.0,9,    10.08,2,    30.75,2,     0.01,2,     1.77,2,        0,2,  12.4569
  06M320140530,    59,  1,      5,2,20140625,2038, 18.2080, -16.5920,  411,    350.6,  11.4904,  35.3497,2,     44.8,2,     46.5,2,    12.27,2,    32.98,2,     0.02,2,     1.93,2,        0,2,  11.4455
  06M320140530,    59,  1,      4,2,20140625,2038, 18.2080, -16.5920,  411,    382.2,  11.2117,  35.3297,2,     45.7,2,   -999.0,9,    12.77,2,    32.91,2,     0.02,2,     1.93,2,        0,2,  11.1634
  06M320140530,    59,  1,      3,2,20140625,2038, 18.2080, -16.5920,  411,    392.1,  11.1505,  35.3227,2,     46.8,2,   -999.0,9,    13.17,2,    32.81,2,     0.03,2,     1.97,2,    0.041,2,  11.1011
  06M320140530,    59,  1,      2,2,20140625,2038, 18.2080, -16.5920,  411,    403.0,  11.1425,  35.3218,2,     46.7,2,   -999.0,9,    13.31,2,    32.71,2,     0.04,2,     1.97,2,        0,2,  11.0917
  06M320140530,    59,  1,      1,2,20140625,2038, 18.2080, -16.5920,  411,    408.6,  11.0161,  35.3106,2,     47.6,2,     50.6,2,    13.35,2,    31.88,2,     0.03,2,     1.95,2,        0,2,  10.9650
  06M320140530,    60,  1,     23,2,20140626,0256, 18.2460, -16.4760,  107,      4.4,  21.7112,  35.7401,2,    188.5,2,   -999.0,9,     2.07,2,     5.76,2,     1.03,2,     0.71,2,    0.907,2,  21.7103
  06M320140530,    60,  1,     22,2,20140626,0256, 18.2460, -16.4760,  107,      9.5,  21.6488,  35.7403,2,    179.4,2,    149.3,3,     2.86,2,     8.11,2,     1.23,2,     0.88,2,    1.129,2,  21.6469
  06M320140530,    60,  1,     21,2,20140626,0256, 18.2460, -16.4760,  107,     14.3,  21.4126,  35.7363,2,    156.2,2,   -999.0,9,     3.13,2,     9.30,2,     1.30,2,     0.94,2,    0.891,2,  21.4098
  06M320140530,    60,  1,     20,2,20140626,0256, 18.2460, -16.4760,  107,     19.4,  20.7375,  35.7084,2,    117.4,2,   -999.0,9,     2.91,2,     9.45,2,     1.25,2,     0.94,2,    0.829,2,  20.7338
  06M320140530,    60,  1,     19,2,20140626,0256, 18.2460, -16.4760,  107,     24.5,  20.4834,  35.7008,2,    110.0,2,   -999.0,9,     2.79,2,     9.51,2,     1.21,2,     0.92,2,    0.685,2,  20.4788
  06M320140530,    60,  1,     18,2,20140626,0256, 18.2460, -16.4760,  107,     29.5,  20.2691,  35.6997,2,    106.8,2,   -999.0,9,     2.71,2,     9.94,2,     1.19,2,     0.96,2,    0.619,2,  20.2636
  06M320140530,    60,  1,     17,2,20140626,0256, 18.2460, -16.4760,  107,     34.0,  20.2295,  35.6990,2,    105.7,2,   -999.0,9,     2.69,2,     9.84,2,     1.19,2,     0.93,2,    0.674,2,  20.2232
  06M320140530,    60,  1,     16,2,20140626,0256, 18.2460, -16.4760,  107,     39.7,  19.6212,  35.6917,2,     93.5,2,   -999.0,9,     3.08,2,    11.31,2,     0.99,2,     0.97,2,    0.218,2,  19.6140
  06M320140530,    60,  1,     15,2,20140626,0256, 18.2460, -16.4760,  107,     46.1,  18.8146,  35.6817,2,     80.0,2,   -999.0,9,     4.15,2,    15.32,2,     0.43,2,     1.12,2,        0,2,  18.8064
  06M320140530,    60,  1,     14,2,20140626,0256, 18.2460, -16.4760,  107,     49.4,  18.6946,  35.6827,2,     78.7,2,   -999.0,9,     3.85,2,    16.06,2,     0.34,2,     1.16,2,        0,2,  18.6859
  06M320140530,    60,  1,     13,2,20140626,0256, 18.2460, -16.4760,  107,     59.9,  17.8055,  35.6833,2,     58.4,2,   -999.0,9,     5.31,2,    19.76,2,     0.15,2,     1.35,2,        0,2,  17.7953
  06M320140530,    60,  1,     12,2,20140626,0256, 18.2460, -16.4760,  107,     78.8,  17.0221,  35.6516,2,     44.7,2,   -999.0,9,     7.81,2,    23.18,2,     0.17,2,     1.56,2,        0,2,  17.0091
  06M320140530,    60,  1,     11,2,20140626,0256, 18.2460, -16.4760,  107,     84.1,  17.0117,  35.6508,2,     41.3,2,     41.4,2,     8.10,2,    23.03,2,     0.18,2,     1.59,2,    0.048,2,  16.9978
  06M320140530,    60,  1,      3,2,20140626,0256, 18.2460, -16.4760,  107,     91.2,  17.0057,  35.6505,2,     43.4,2,     44.3,2,     7.97,2,    22.70,2,     0.17,2,     1.57,2,    0.027,2,  16.9906
  06M320140530,    60,  1,      2,2,20140626,0256, 18.2460, -16.4760,  107,     95.7,  16.9936,  35.6499,2,     42.8,2,   -999.0,9,     7.91,2,    23.01,2,     0.17,2,     1.58,2,        0,2,  16.9778
  06M320140530,    60,  1,      1,2,20140626,0256, 18.2460, -16.4760,  107,    103.1,  16.9911,  35.6499,2,     42.3,2,   -999.0,9,     7.98,2,    22.44,2,     0.17,2,     1.62,2,        0,2,  16.9740
  06M320140530,    61,  1,     24,2,20140626,0348, 18.2660, -16.4010,   70,      9.2,  20.7637,  35.7297,2,    177.4,2,    106.6,3,     4.67,2,    11.91,2,     0.48,2,     1.05,2,    1.283,2,  20.7619
  06M320140530,    61,  1,     23,2,20140626,0348, 18.2660, -16.4010,   70,     22.2,  18.5630,  35.6797,2,     53.1,2,     53.7,2,     8.63,2,    18.68,2,     0.60,2,     1.46,2,    0.206,2,  18.5591
  06M320140530,    61,  1,      5,2,20140626,0348, 18.2660, -16.4010,   70,     50.0,  18.0938,  35.6690,2,     33.2,2,     33.1,2,    11.78,2,    21.56,2,     0.32,2,     1.68,2,        0,2,  18.0852
  06M320140530,    61,  1,      4,2,20140626,0348, 18.2660, -16.4010,   70,     69.2,  17.7425,  35.6645,2,     29.5,2,     30.3,2,    11.39,2,    21.76,2,     0.22,2,     1.68,2,        0,2,  17.7307
  06M320140530,    62,  1,     17,2,20140626,0625, 18.2530, -16.4490,   91,      4.8,  21.0536,  35.7237,2,    180.2,2,   -999.0,9,     0.93,2,     4.84,2,     0.62,2,     0.61,2,    0.976,2,  21.0527
  06M320140530,    62,  1,     16,2,20140626,0625, 18.2530, -16.4490,   91,      9.1,  20.8213,  35.7178,2,    161.5,2,    135.7,3,     1.65,2,     7.30,2,     0.77,2,     0.77,2,    0.962,2,  20.8196
  06M320140530,    62,  1,     15,2,20140626,0625, 18.2530, -16.4490,   91,     14.3,  20.2036,  35.7023,2,    108.4,2,   -999.0,9,     2.27,2,    10.65,2,     0.84,2,     0.95,2,    0.867,2,  20.2009
  06M320140530,    62,  1,     14,2,20140626,0625, 18.2530, -16.4490,   91,     19.3,  19.8058,  35.6953,2,     97.8,2,   -999.0,9,     2.55,2,    11.62,2,     0.82,2,     0.98,2,    0.591,2,  19.8023
  06M320140530,    62,  1,     13,2,20140626,0625, 18.2530, -16.4490,   91,     25.2,  19.4896,  35.6885,2,     91.2,2,   -999.0,9,     3.05,2,    12.46,2,     0.82,2,     1.03,2,    0.402,2,  19.4850
  06M320140530,    62,  1,     12,2,20140626,0625, 18.2530, -16.4490,   91,     29.6,  19.2976,  35.6836,2,     87.3,2,   -999.0,9,     3.49,2,    12.99,2,     0.85,2,     1.06,2,    0.147,2,  19.2922
  06M320140530,    62,  1,     11,2,20140626,0625, 18.2530, -16.4490,   91,     34.6,  19.0437,  35.6870,2,     83.6,2,   -999.0,9,     3.83,2,    14.28,2,     0.64,2,     1.09,2,    0.048,2,  19.0375
  06M320140530,    62,  1,     10,2,20140626,0625, 18.2530, -16.4490,   91,     40.3,  18.7609,  35.6830,2,     77.9,2,   -999.0,9,     4.15,2,    15.54,2,     0.39,2,     1.17,2,    0.024,2,  18.7538
  06M320140530,    62,  1,      9,2,20140626,0625, 18.2530, -16.4490,   91,     45.6,  18.6694,  35.6876,2,     76.9,2,   -999.0,9,     4.37,2,    16.94,2,     0.35,2,     1.19,2,     0.02,2,  18.6614
  06M320140530,    62,  1,      8,2,20140626,0625, 18.2530, -16.4490,   91,     50.4,  18.4168,  35.6860,2,     66.8,2,   -999.0,9,     4.92,2,    18.32,2,     0.31,2,     1.28,2,        0,2,  18.4080
  06M320140530,    62,  1,      7,2,20140626,0625, 18.2530, -16.4490,   91,     54.4,  18.0503,  35.6847,2,     58.4,2,     56.6,2,     5.52,2,    19.63,2,     0.19,2,     1.37,2,    0.022,2,  18.0409
  06M320140530,    62,  1,      6,2,20140626,0625, 18.2530, -16.4490,   91,     60.3,  17.5175,  35.6623,2,     50.4,2,   -999.0,9,     6.12,2,    21.73,2,     0.05,2,     1.45,2,        0,2,  17.5073
  06M320140530,    62,  1,      5,2,20140626,0625, 18.2530, -16.4490,   91,     65.5,  17.4767,  35.6615,2,     49.2,2,   -999.0,9,     6.82,2,    22.49,2,     0.07,2,     1.50,2,        0,2,  17.4657
  06M320140530,    62,  1,      4,2,20140626,0625, 18.2530, -16.4490,   91,     70.6,  17.2431,  35.6584,2,     44.3,2,   -999.0,9,     8.23,2,    22.94,2,     0.08,2,     1.60,2,        0,2,  17.2313
  06M320140530,    62,  1,      3,2,20140626,0625, 18.2530, -16.4490,   91,     75.3,  17.2165,  35.6566,2,     38.7,2,   -999.0,9,     8.69,2,    23.08,2,     0.11,2,     1.63,2,        0,2,  17.2039
  06M320140530,    62,  1,      2,2,20140626,0625, 18.2530, -16.4490,   91,     80.4,  17.2062,  35.6561,2,     38.6,2,   -999.0,9,     9.10,2,    23.37,2,     0.13,2,     1.65,2,        0,2,  17.1928
  06M320140530,    62,  1,      1,2,20140626,0625, 18.2530, -16.4490,   91,     87.9,  17.2041,  35.6554,2,     34.8,2,     35.0,2,     9.35,2,    22.56,2,     0.15,2,     1.65,2,        0,2,  17.1894
  06M320140530,    63,  1,     24,2,20140626,2141, 18.2270, -16.5330,  188,      4.8,  21.0035,  35.7104,2,    149.0,2,   -999.0,9,     2.16,2,     7.75,2,     0.74,2,     0.78,2,    0.223,2,  21.0026
  06M320140530,    63,  1,     22,2,20140626,2141, 18.2270, -16.5330,  188,     10.0,  20.6905,  35.6968,2,    132.7,2,   -999.0,9,     2.75,2,     9.72,2,     0.61,2,     0.88,2,    0.057,2,  20.6886
  06M320140530,    63,  1,     21,2,20140626,2141, 18.2270, -16.5330,  188,     13.8,  20.1044,  35.6995,2,    102.7,2,   -999.0,9,     4.68,2,    15.68,2,     0.17,2,     1.04,2,        0,2,  20.1018
  06M320140530,    63,  1,     20,2,20140626,2141, 18.2270, -16.5330,  188,     20.1,  19.1186,  35.6593,2,     60.0,2,   -999.0,9,     5.22,2,    17.30,2,     0.07,2,     1.30,2,        0,2,  19.1150
  06M320140530,    63,  1,     18,2,20140626,2141, 18.2270, -16.5330,  188,     24.8,  18.8864,  35.6578,2,     55.9,2,   -999.0,9,     5.39,2,    17.76,2,     0.05,2,     1.33,2,        0,2,  18.8820
  06M320140530,    63,  1,     17,2,20140626,2141, 18.2270, -16.5330,  188,     29.3,  18.8317,  35.6564,2,     54.9,2,   -999.0,9,     5.61,2,    18.17,2,     0.03,2,     1.37,2,        0,2,  18.8265
  06M320140530,    63,  1,     16,2,20140626,2141, 18.2270, -16.5330,  188,     34.1,  18.6629,  35.6572,2,     52.5,2,   -999.0,9,     5.76,2,    18.60,2,     0.02,2,     1.39,2,        0,2,  18.6569
  06M320140530,    63,  1,     14,2,20140626,2141, 18.2270, -16.5330,  188,     40.4,  18.3309,  35.6599,2,     49.7,2,   -999.0,9,     6.19,2,    19.96,2,     0.03,2,     1.45,2,        0,2,  18.3239
  06M320140530,    63,  1,     13,2,20140626,2141, 18.2270, -16.5330,  188,     44.5,  18.0464,  35.6585,2,     45.8,2,   -999.0,9,     6.25,2,    20.48,2,     0.00,2,     1.43,2,        0,2,  18.0387
  06M320140530,    63,  1,     12,2,20140626,2141, 18.2270, -16.5330,  188,     50.0,  17.8164,  35.6577,2,     47.0,2,   -999.0,9,     6.26,2,    20.81,2,     0.00,2,     1.46,2,        0,2,  17.8079
  06M320140530,    63,  1,     11,2,20140626,2141, 18.2270, -16.5330,  188,     60.3,  17.3081,  35.6555,2,     48.8,2,   -999.0,9,     6.38,2,    21.57,2,     0.01,2,     1.42,2,        0,2,  17.2980
  06M320140530,    63,  1,     10,2,20140626,2141, 18.2270, -16.5330,  188,     80.1,  16.9985,  35.6440,2,     49.4,2,     50.2,2,     6.57,2,    21.99,2,     0.01,2,     1.48,2,        0,2,  16.9853
  06M320140530,    63,  1,      8,2,20140626,2141, 18.2270, -16.5330,  188,     99.7,  16.5995,  35.6228,2,     48.7,2,   -999.0,9,     5.82,2,    23.15,2,     0.01,2,     1.52,2,        0,2,  16.5833
  06M320140530,    63,  1,      7,2,20140626,2141, 18.2270, -16.5330,  188,    125.4,  15.5619,  35.5641,2,     52.6,2,   -999.0,9,     6.88,2,    24.84,2,     0.02,2,     1.55,2,        0,2,  15.5424
  06M320140530,    63,  1,      6,2,20140626,2141, 18.2270, -16.5330,  188,    149.7,  15.1097,  35.5271,2,     50.8,2,   -999.0,9,     7.68,2,    25.60,2,     0.02,2,     1.60,2,        0,2,  15.0868
  06M320140530,    63,  1,      5,2,20140626,2141, 18.2270, -16.5330,  188,    160.6,  14.4678,  35.4796,2,     56.3,2,   -999.0,9,     7.90,2,    25.94,2,     0.06,2,     1.64,2,        0,2,  14.4440
  06M320140530,    63,  1,      4,2,20140626,2141, 18.2270, -16.5330,  188,    170.7,  14.1693,  35.4654,2,     57.8,2,   -999.0,9,     7.85,2,    26.14,2,     0.07,2,     1.62,2,        0,2,  14.1443
  06M320140530,    63,  1,      3,2,20140626,2141, 18.2270, -16.5330,  188,    180.2,  14.0410,  35.4582,2,     58.8,2,   -999.0,9,     8.00,2,    26.21,2,     0.07,2,     1.63,2,        0,2,  14.0148
  06M320140530,    63,  1,      1,2,20140626,2141, 18.2270, -16.5330,  188,    185.5,  13.9191,  35.4508,2,     58.3,2,     59.3,2,     7.89,2,    25.80,2,     0.08,2,     1.63,2,        0,2,  13.8923