BOTTLE,20180214PRINUNIVRMK
EXPOCODE,STNNBR,CASTNO,BTLNBR,BTLNBR_FLAG_W,DATE,TIME,LATITUDE,LONGITUDE,DEPTH,CTDPRS,CTDTMP,CTDSAL,CTDSAL_FLAG_W,CTDOXY,CTDOXY_FLAG_W,OXYGEN,OXYGEN_FLAG_W,SILCAT,SILCAT_FLAG_W,NITRAT,NITRAT_FLAG_W,NITRIT,NITRIT_FLAG_W,PHSPHT,PHSPHT_FLAG_W,NH4,NH4_FLAG_W,THETA
,,,,,,,,,METERS,DBAR,ITS-90,PSS-78,,UMOL/KG,,UMOL/KG,,UMOL/KG,,UMOL/KG,,UMOL/KG,,UMOL/KG,,UMOL/KG,,DEG C
  06M320140530,    52,  1,     16,2,20140623,1410, 18.2180, -16.5550,  237,      4.1,  21.7951,  35.8120,2,    250.2,2,   -999.0,9,     1.42,2,     6.23,2,     0.18,2,     0.50,2,    0.088,2,  21.7943
  06M320140530,    52,  1,     15,2,20140623,1410, 18.2180, -16.5550,  237,     13.9,  21.4092,  35.8044,2,    214.6,2,   -999.0,9,     3.83,2,    13.87,2,     0.45,2,     1.07,2,    0.342,2,  21.4065
  06M320140530,    52,  1,     14,2,20140623,1410, 18.2180, -16.5550,  237,     19.5,  20.4451,  35.7200,2,    199.0,2,   -999.0,9,     4.42,2,    15.28,2,     0.57,2,     1.17,2,    0.482,2,  20.4414
  06M320140530,    52,  1,     13,2,20140623,1410, 18.2180, -16.5550,  237,     28.9,  17.7805,  35.6789,2,     55.2,2,   -999.0,9,     5.59,2,    20.36,2,     0.12,2,     1.40,2,    0.043,2,  17.7756
  06M320140530,    52,  1,     12,2,20140623,1410, 18.2180, -16.5550,  237,     49.6,  17.1644,  35.6551,2,     51.0,2,   -999.0,9,     6.16,2,    21.88,2,     0.07,2,     1.47,2,    0.004,2,  17.1562
  06M320140530,    52,  1,     11,2,20140623,1410, 18.2180, -16.5550,  237,     79.3,  16.8641,  35.6424,2,     51.6,2,   -999.0,9,     6.36,2,    22.98,2,     0.05,2,     1.51,2,        0,2,  16.8511
  06M320140530,    52,  1,     10,2,20140623,1410, 18.2180, -16.5550,  237,    100.8,  16.6472,  35.6326,2,     48.2,2,   -999.0,9,     6.71,2,    23.22,2,     0.04,2,     1.53,2,        0,2,  16.6308
  06M320140530,    52,  1,      9,2,20140623,1410, 18.2180, -16.5550,  237,    119.2,  16.6075,  35.6304,2,     46.7,2,   -999.0,9,     6.08,2,    24.33,2,     0.05,2,     1.53,2,        0,2,  16.5881
  06M320140530,    52,  1,      8,2,20140623,1410, 18.2180, -16.5550,  237,    151.2,  15.8878,  35.5848,2,     44.9,2,   -999.0,9,     7.54,2,    25.48,2,     0.11,2,     1.65,2,        0,2,  15.8639
  06M320140530,    52,  1,      3,2,20140623,1410, 18.2180, -16.5550,  237,    179.2,  14.6409,  35.4945,2,     53.2,2,   -999.0,9,     7.42,2,    26.32,2,     0.03,2,     1.63,2,        0,2,  14.6141
  06M320140530,    52,  1,      2,2,20140623,1410, 18.2180, -16.5550,  237,    200.3,  14.0764,  35.4837,2,     61.1,2,   -999.0,9,     7.87,2,    26.56,2,     0.04,2,     1.65,2,        0,2,  14.0472
  06M320140530,    52,  1,      1,2,20140623,1410, 18.2180, -16.5550,  237,    235.1,  13.4712,  35.4212,2,     58.0,2,   -999.0,9,     8.37,2,    26.20,2,     0.06,2,     1.64,2,        0,2,  13.4379
  06M320140530,    53,  1,     24,2,20140624,0154, 18.0000, -17.2830, 2168,      4.2,  24.6189,  35.8777,2,    201.9,2,   -999.0,9,     0.15,2,     0.00,2,     0.01,2,     0.14,2,    0.027,2,  24.6180
  06M320140530,    53,  1,     23,2,20140624,0154, 18.0000, -17.2830, 2168,     13.0,  24.5691,  35.8770,2,    200.6,2,   -999.0,9,     0.20,2,     0.00,2,     0.01,2,     0.15,2,    0.063,2,  24.5663
  06M320140530,    53,  1,     22,2,20140624,0154, 18.0000, -17.2830, 2168,     13.8,  24.4753,  35.8710,2,    200.8,2,   -999.0,9,     0.25,2,     0.07,2,     0.02,2,     0.16,2,    0.111,2,  24.4723
  06M320140530,    53,  1,     21,2,20140624,0154, 18.0000, -17.2830, 2168,     19.1,  23.3841,  35.8429,2,    192.4,2,   -999.0,9,     1.14,2,     5.60,2,     0.34,2,     0.48,2,    0.197,2,  23.3801
  06M320140530,    53,  1,     20,2,20140624,0154, 18.0000, -17.2830, 2168,     23.9,  20.6909,  35.9043,2,    167.7,2,   -999.0,9,     3.16,2,    18.77,2,     1.04,2,     1.28,2,    0.142,2,  20.6864
  06M320140530,    53,  1,     19,2,20140624,0154, 18.0000, -17.2830, 2168,     29.5,  18.8530,  35.9416,2,    109.9,2,   -999.0,9,     3.28,2,    20.11,2,     1.17,2,     1.34,2,    0.054,2,  18.8477
  06M320140530,    53,  1,     18,2,20140624,0154, 18.0000, -17.2830, 2168,     34.3,  17.6008,  35.8708,2,     65.1,2,   -999.0,9,     4.16,2,    23.42,2,     0.90,2,     1.51,2,        0,2,  17.5950
  06M320140530,    53,  1,     17,2,20140624,0154, 18.0000, -17.2830, 2168,     39.2,  16.2992,  35.7540,2,     42.6,2,   -999.0,9,     4.91,2,    24.94,2,     0.56,2,     1.58,2,        0,2,  16.2929
  06M320140530,    53,  1,     15,2,20140624,0154, 18.0000, -17.2830, 2168,     48.9,  15.7453,  35.7199,2,     42.7,2,   -999.0,9,     5.88,2,    25.63,2,     0.26,2,     1.61,2,        0,2,  15.7376
  06M320140530,    53,  1,     16,2,20140624,0154, 18.0000, -17.2830, 2168,     44.1,  15.8447,  35.7114,2,     42.3,2,   -999.0,9,     5.61,2,    24.88,2,     0.40,2,     1.58,2,        0,2,  15.8378
  06M320140530,    53,  1,     14,2,20140624,0154, 18.0000, -17.2830, 2168,     59.4,  15.5072,  35.7518,2,     46.7,2,   -999.0,9,     6.47,2,    25.98,2,     0.04,2,     1.60,2,        0,2,  15.4980
  06M320140530,    53,  1,     13,2,20140624,0154, 18.0000, -17.2830, 2168,     79.2,  14.3512,  35.5354,2,     52.3,2,   -999.0,9,     7.39,2,    26.26,2,     0.02,2,     1.65,2,        0,2,  14.3395
  06M320140530,    53,  1,     12,2,20140624,0154, 18.0000, -17.2830, 2168,     99.0,  13.7889,  35.4519,2,     58.3,2,   -999.0,9,     8.92,2,    26.75,2,     0.01,2,     1.71,2,        0,2,  13.7747
  06M320140530,    53,  1,     11,2,20140624,0154, 18.0000, -17.2830, 2168,    148.6,  12.9930,  35.3367,2,     65.2,2,   -999.0,9,     8.08,2,    26.37,2,     0.01,2,     1.66,2,        0,2,  12.9725
  06M320140530,    53,  1,     10,2,20140624,0154, 18.0000, -17.2830, 2168,    198.9,  12.6099,  35.3430,2,     58.8,2,   -999.0,9,     9.34,2,    28.35,2,     0.02,2,     1.73,2,        0,2,  12.5830
  06M320140530,    53,  1,      9,2,20140624,0154, 18.0000, -17.2830, 2168,    430.1,  10.7429,  35.2785,2,     43.9,2,     44.9,2,    13.32,2,    31.82,2,     0.01,2,     1.99,2,        0,2,  10.6899
  06M320140530,    53,  1,      8,2,20140624,0154, 18.0000, -17.2830, 2168,    602.5,   8.9605,  35.1059,2,     62.4,2,   -999.0,9,    15.71,2,    33.45,2,     0.00,2,     2.14,2,        0,2,   8.8936
  06M320140530,    53,  1,      7,2,20140624,0154, 18.0000, -17.2830, 2168,   1005.3,   6.3605,  34.9546,2,    117.3,2,   -999.0,9,    22.39,2,    31.07,2,     0.00,2,     2.12,2,        0,2,   6.2657
  06M320140530,    53,  1,      6,2,20140624,0154, 18.0000, -17.2830, 2168,   1410.6,   4.8069,  34.9994,2,    176.0,2,    177.8,2,    22.08,2,    25.52,2,     0.00,2,     1.72,2,        0,2,   4.6861
  06M320140530,    53,  1,      5,2,20140624,0154, 18.0000, -17.2830, 2168,   1816.4,   3.8529,  34.9769,2,    211.2,2,   -999.0,9,    23.65,2,    22.48,2,     0.00,2,     1.55,2,        0,2,   3.7051
  06M320140530,    53,  1,      4,2,20140624,0154, 18.0000, -17.2830, 2168,   2121.4,   3.4182,  34.9622,2,    221.1,2,    226.8,2,    26.82,2,    21.64,2,     0.00,2,     1.51,2,        0,2,   3.2478
  06M320140530,    53,  1,      3,2,20140624,0154, 18.0000, -17.2830, 2168,   2158.7,   3.3680,  34.9602,2,    221.2,2,   -999.0,9,    24.45,3,    21.74,2,     0.00,2,     1.51,2,        0,2,   3.1948
  06M320140530,    53,  1,      2,2,20140624,0154, 18.0000, -17.2830, 2168,   2169.4,   3.3480,  34.9595,2,    221.3,2,   -999.0,9,    27.80,2,    21.68,2,     0.01,2,     1.51,2,        0,2,   3.1741
  06M320140530,    53,  1,      1,2,20140624,0154, 18.0000, -17.2830, 2168,   2177.6,   3.3415,  34.9592,2,    221.1,2,    224.8,2,    27.89,2,    20.82,2,     0.01,2,     1.50,2,        0,2,   3.1669
  06M320140530,    54,  1,     22,2,20140624,0407, 18.0000, -17.2830, 2170,      9.6,  24.6106,  35.8772,2,    199.8,2,   -999.0,9,     0.13,2,     0.07,2,     0.00,2,     0.17,2,    0.073,2,  24.6085
  06M320140530,    54,  1,     19,2,20140624,0407, 18.0000, -17.2830, 2170,     46.9,  16.3302,  35.7768,2,     43.0,2,     42.0,2,     4.98,2,    25.44,2,     0.39,2,     1.57,2,        0,2,  16.3227
  06M320140530,    54,  1,     16,2,20140624,0407, 18.0000, -17.2830, 2170,    300.0,  11.9809,  35.3766,2,     48.2,2,   -999.0,9,    10.28,2,    30.67,2,     0.00,2,     1.83,2,    0.063,2,  11.9415
  06M320140530,    54,  1,     12,2,20140624,0407, 18.0000, -17.2830, 2170,    403.5,  10.9225,  35.2972,2,     43.8,2,     43.5,2,    10.06,2,    32.80,2,     0.00,2,     1.95,2,    0.037,2,  10.8723
  06M320140530,    54,  1,     11,2,20140624,0407, 18.0000, -17.2830, 2170,    501.5,   9.9004,  35.1968,2,     50.2,2,   -999.0,9,    14.65,2,    33.84,2,     0.00,2,     2.08,2,    0.054,2,   9.8415
  06M320140530,    54,  1,     10,2,20140624,0407, 18.0000, -17.2830, 2170,    703.5,   8.0596,  35.0249,2,     75.7,2,   -999.0,9,    19.57,2,    33.52,2,     0.00,2,     2.20,2,        0,2,   7.9857
  06M320140530,    54,  1,      9,2,20140624,0407, 18.0000, -17.2830, 2170,    808.4,   7.4415,  34.9707,2,     83.0,2,   -999.0,9,    19.72,2,    33.80,2,     0.00,2,     2.20,2,        0,2,   7.3598
  06M320140530,    54,  1,      8,2,20140624,0407, 18.0000, -17.2830, 2170,    905.2,   6.8409,  34.9489,2,    100.8,2,   -999.0,9,    21.66,2,    33.01,2,     0.00,2,     2.20,2,        0,2,   6.7529
  06M320140530,    54,  1,      4,2,20140624,0407, 18.0000, -17.2830, 2170,   1007.1,   6.2506,  34.9498,2,    118.3,2,    117.9,2,    22.41,2,    30.91,2,     0.00,2,     2.09,2,        0,2,   6.1564
  06M320140530,    54,  1,      3,2,20140624,0407, 18.0000, -17.2830, 2170,   1208.7,   5.4594,  35.0030,2,    153.6,2,   -999.0,9,    21.96,2,    27.34,2,     0.00,2,     1.83,2,        0,2,   5.3518
  06M320140530,    54,  1,      2,2,20140624,0407, 18.0000, -17.2830, 2170,   1614.0,   4.1238,  34.9815,2,    201.4,2,   -999.0,9,    22.62,2,    23.51,2,     0.00,2,     1.57,2,        0,2,   3.9916
  06M320140530,    54,  1,      1,2,20140624,0407, 18.0000, -17.2830, 2170,   2019.2,   3.5632,  34.9672,2,    218.9,2,   -999.0,9,    25.28,2,    21.63,2,     0.00,2,     1.52,2,        0,2,   3.4003
  06M320140530,    55,  1,     24,2,20140624,2146, 18.2180, -16.5550,  237,      4.9,  20.8186,  35.6976,2,    240.0,2,   -999.0,9,     3.75,2,     3.93,2,     0.81,2,     0.77,2,    2.592,2,  20.8177
  06M320140530,    55,  1,     20,2,20140624,2146, 18.2180, -16.5550,  237,     10.3,  20.8144,  35.6974,2,    238.2,2,   -999.0,9,     3.14,2,     5.38,2,     0.95,2,     0.81,2,    0.901,2,  20.8124
  06M320140530,    55,  1,     19,2,20140624,2146, 18.2180, -16.5550,  237,     14.7,  20.7787,  35.7022,2,    222.8,2,   -999.0,9,     3.37,2,     6.83,2,     1.13,2,     1.01,2,    1.001,2,  20.7759
  06M320140530,    55,  1,     18,2,20140624,2146, 18.2180, -16.5550,  237,     19.8,  20.7506,  35.7054,2,    211.6,2,   -999.0,9,     3.35,2,     8.80,2,     1.13,2,     0.96,2,    1.124,2,  20.7468
  06M320140530,    55,  1,     17,2,20140624,2146, 18.2180, -16.5550,  237,     24.6,  20.6512,  35.7147,2,    178.8,2,   -999.0,9,     3.84,2,    11.35,2,     0.97,2,     1.05,2,    1.058,2,  20.6465
  06M320140530,    55,  1,     16,2,20140624,2146, 18.2180, -16.5550,  237,     30.2,  20.3541,  35.7153,2,    154.2,2,   -999.0,9,     4.11,2,    13.03,2,     0.85,2,     1.14,2,    0.613,2,  20.3484
  06M320140530,    55,  1,     15,2,20140624,2146, 18.2180, -16.5550,  237,     35.0,  19.9361,  35.7103,2,    126.9,2,   -999.0,9,     4.64,2,    15.46,2,     0.59,2,     1.22,2,    0.157,2,  19.9296
  06M320140530,    55,  1,     14,2,20140624,2146, 18.2180, -16.5550,  237,     40.0,  19.3968,  35.7060,2,    101.6,2,   -999.0,9,     5.41,2,    18.73,2,     0.36,2,     1.33,2,        0,2,  19.3895
  06M320140530,    55,  1,     13,2,20140624,2146, 18.2180, -16.5550,  237,     49.5,  18.2220,  35.6781,2,     52.9,2,   -999.0,9,     5.46,2,    20.97,2,     0.13,2,     1.40,2,        0,2,  18.2134
  06M320140530,    55,  1,     12,2,20140624,2146, 18.2180, -16.5550,  237,     59.7,  17.7692,  35.6718,2,     54.9,2,   -999.0,9,     5.90,2,    20.66,2,     0.12,2,     1.20,2,        0,2,  17.7590
  06M320140530,    55,  1,     11,2,20140624,2146, 18.2180, -16.5550,  237,     80.5,  17.1369,  35.6545,2,     49.9,2,   -999.0,9,     6.28,2,    22.05,2,     0.06,2,     1.44,2,        0,2,  17.1235
  06M320140530,    55,  1,     10,2,20140624,2146, 18.2180, -16.5550,  237,     99.6,  16.6130,  35.6285,2,     39.6,2,   -999.0,9,     7.54,2,    24.90,2,     0.04,2,     1.63,2,        0,2,  16.5968
  06M320140530,    55,  1,      6,2,20140624,2146, 18.2180, -16.5550,  237,    115.1,  16.4773,  35.6147,2,     28.2,2,     33.2,2,     8.87,2,    26.54,2,     0.05,2,     1.81,2,        0,2,  16.4587
  06M320140530,    55,  1,      4,2,20140624,2146, 18.2180, -16.5550,  237,    201.6,-999.0000,-999.0000,5,   -999.0,5,   -999.0,9,     8.03,2,    27.29,2,     0.04,2,     1.66,2,        0,2,-999.0000
  06M320140530,    55,  1,      5,2,20140624,2146, 18.2180, -16.5550,  237,    150.6,  13.7253,  35.4311,2,     64.5,2,   -999.0,9,     6.74,2,    26.99,2,     0.05,2,     1.28,3,        0,2,  13.7038
  06M320140530,    55,  1,      3,2,20140624,2146, 18.2180, -16.5550,  237,    216.4,  13.4918,  35.4107,2,     62.8,2,   -999.0,9,     8.63,2,    27.46,2,     0.04,2,     1.69,2,        0,2,  13.4612
  06M320140530,    55,  1,      2,2,20140624,2146, 18.2180, -16.5550,  237,    226.6,  13.4364,  35.4156,2,     59.7,2,   -999.0,9,     8.81,2,    27.81,2,     0.04,2,     1.68,2,        0,2,  13.4044
  06M320140530,    55,  1,      1,2,20140624,2146, 18.2180, -16.5550,  237,    233.1,  13.4255,  35.4171,2,     59.4,2,     62.1,2,     8.89,2,    27.26,2,     0.04,2,     1.66,2,    0.187,2,  13.3926
  06M320140530,    56,  1,     16,2,20140625,0100, 18.2080, -16.5930,  414,      7.1,  21.1133,  35.7138,2,    232.0,2,   -999.0,9,     1.65,2,     4.33,2,     0.67,2,     0.59,2,    0.406,2,  21.1119
  06M320140530,    56,  1,     12,2,20140625,0100, 18.2080, -16.5930,  414,     28.1,  19.3433,  35.6937,2,     93.9,2,   -999.0,9,     2.97,2,    13.86,2,     0.50,2,     0.98,2,        0,2,  19.3382
  06M320140530,    56,  1,     10,2,20140625,0100, 18.2080, -16.5930,  414,     81.8,  16.8515,  35.6413,2,     48.6,2,   -999.0,9,     6.52,2,    23.35,2,     0.06,2,     1.52,2,        0,2,  16.8381
  06M320140530,    56,  1,      6,2,20140625,0100, 18.2080, -16.5930,  414,    117.7,  15.7960,  35.5729,2,     31.7,2,   -999.0,9,     8.65,2,    26.49,2,     0.02,2,     1.69,2,        0,2,  15.7775
  06M320140530,    56,  1,      5,2,20140625,0100, 18.2080, -16.5930,  414,    314.8,  12.8733,  35.4405,2,     53.0,2,   -999.0,9,     9.78,2,    19.71,4,     0.02,2,     1.75,2,        0,2,  12.8299
  06M320140530,    56,  1,      1,2,20140625,0100, 18.2080, -16.5930,  414,    412.9,  11.3967,  35.3395,2,     47.1,2,   -999.0,9,    12.84,2,    30.96,2,     0.03,2,     1.90,2,        0,2,  11.3439
  06M320140530,    57,  1,     23,2,20140625,0336, 18.2080, -16.5930,  458,      3.3,  21.3400,  35.6683,2,    191.8,2,   -999.0,9,     0.95,2,     7.00,2,     0.44,2,     0.63,2,    0.326,2,  21.3394
  06M320140530,    57,  1,     22,2,20140625,0336, 18.2080, -16.5930,  458,      8.7,  21.2608,  35.6673,2,    179.7,2,    111.1,3,     2.14,2,    11.07,2,     0.43,2,     0.73,2,    0.308,2,  21.2591
  06M320140530,    57,  1,     21,2,20140625,0336, 18.2080, -16.5930,  458,     13.8,  20.7757,  35.6463,2,    141.1,2,   -999.0,9,     2.44,2,    12.42,2,     0.49,2,     0.98,2,    0.289,2,  20.7731
  06M320140530,    57,  1,     20,2,20140625,0336, 18.2080, -16.5930,  458,     18.7,  20.3636,  35.6370,2,    118.0,2,   -999.0,9,     2.94,2,    13.68,2,     0.41,2,     1.01,2,     0.23,2,  20.3601
  06M320140530,    57,  1,     19,2,20140625,0336, 18.2080, -16.5930,  458,     24.2,  19.8770,  35.6223,2,     92.2,2,   -999.0,9,     2.57,2,    12.82,2,     0.50,2,     0.95,2,    0.248,2,  19.8725
  06M320140530,    57,  1,     18,2,20140625,0336, 18.2080, -16.5930,  458,     28.8,  19.3810,  35.6254,2,     96.8,2,   -999.0,9,     4.11,2,    16.54,2,     0.26,2,     1.15,2,    0.105,2,  19.3758
  06M320140530,    57,  1,     17,2,20140625,0336, 18.2080, -16.5930,  458,     34.3,  18.8305,  35.6215,2,     91.2,2,   -999.0,9,     4.84,2,    17.82,2,     0.18,2,     1.11,2,    0.048,2,  18.8244
  06M320140530,    57,  1,     16,2,20140625,0336, 18.2080, -16.5930,  458,     39.6,  18.5184,  35.6187,2,     79.4,2,   -999.0,9,     5.02,2,    18.71,2,     0.15,2,     1.27,2,        0,2,  18.5115
  06M320140530,    57,  1,     15,2,20140625,0336, 18.2080, -16.5930,  458,     44.1,  18.4323,  35.6165,2,     76.8,2,   -999.0,9,     4.25,2,    16.46,2,     0.19,2,     1.15,2,    0.032,2,  18.4246
  06M320140530,    57,  1,     14,2,20140625,0336, 18.2080, -16.5930,  458,     49.4,  18.2983,  35.6138,2,     76.2,2,   -999.0,9,     4.69,2,    18.29,2,     0.16,2,     1.27,2,        0,2,  18.2897
  06M320140530,    57,  1,     13,2,20140625,0336, 18.2080, -16.5930,  458,     59.0,  17.6872,  35.5899,2,     54.9,2,   -999.0,9,     5.85,2,    20.62,2,     0.08,2,     1.43,2,        0,2,  17.6772
  06M320140530,    57,  1,     12,2,20140625,0336, 18.2080, -16.5930,  458,     78.9,  17.2696,  35.5826,2,     48.7,2,   -999.0,9,     7.95,2,    23.44,2,     0.03,2,     1.59,2,        0,2,  17.2564
  06M320140530,    57,  1,     11,2,20140625,0336, 18.2080, -16.5930,  458,     97.9,  16.4340,  35.5458,2,     39.7,2,     35.1,2,     8.95,2,    25.73,2,     0.01,2,     1.72,2,        0,2,  16.4182
  06M320140530,    57,  1,     10,2,20140625,0336, 18.2080, -16.5930,  458,    149.2,  14.7912,  35.4195,2,     54.2,2,   -999.0,9,     7.76,2,    25.99,2,     0.01,2,     1.61,2,        0,2,  14.7688
  06M320140530,    57,  1,      9,2,20140625,0336, 18.2080, -16.5930,  458,    200.0,  13.8180,  35.3527,2,     64.0,2,   -999.0,9,     7.71,2,    26.61,2,     0.00,2,     1.38,3,        0,2,  13.7893
  06M320140530,    57,  1,      8,2,20140625,0336, 18.2080, -16.5930,  458,    249.1,  13.3189,  35.3410,2,     59.2,2,   -999.0,9,     8.85,2,    27.24,2,     0.01,2,     1.64,2,        0,2,  13.2839
  06M320140530,    57,  1,      7,2,20140625,0336, 18.2080, -16.5930,  458,    299.7,  12.9658,  35.3472,2,     53.5,2,   -999.0,9,     9.51,2,    29.25,2,     0.00,2,     1.74,2,        0,2,  12.9244
  06M320140530,    57,  1,      6,2,20140625,0336, 18.2080, -16.5930,  458,    331.0,  12.5058,  35.3461,2,     48.7,2,   -999.0,9,     9.29,2,    29.98,2,     0.00,2,     1.64,2,        0,2,  12.4610
  06M320140530,    57,  1,      5,2,20140625,0336, 18.2080, -16.5930,  458,    362.0,  12.2470,  35.3242,2,     47.4,2,   -999.0,9,    11.20,2,    30.37,2,     0.00,2,     1.83,2,        0,2,  12.1987
  06M320140530,    57,  1,      4,2,20140625,0336, 18.2080, -16.5930,  458,    381.9,  11.9922,  35.2907,2,     47.3,2,     47.3,2,    12.16,2,    31.02,2,     0.02,2,     1.91,2,    0.244,2,  11.9419
  06M320140530,    57,  1,      3,2,20140625,0336, 18.2080, -16.5930,  458,    392.3,  11.7534,  35.2637,2,     47.3,2,   -999.0,9,    12.45,2,    31.49,2,     0.03,2,     1.92,2,        0,2,  11.7023
  06M320140530,    57,  1,      2,2,20140625,0336, 18.2080, -16.5930,  458,    402.2,  11.7114,  35.3638,2,     47.2,2,   -999.0,9,    12.53,2,    31.34,2,     0.03,2,     1.91,2,    0.084,2,  11.6591
  06M320140530,    57,  1,      1,2,20140625,0336, 18.2080, -16.5930,  458,    409.9,  11.5655,  35.3498,2,     47.4,2,     47.3,2,    12.52,2,    30.69,2,     0.03,2,     1.89,2,        0,2,  11.5126