BOTTLE,20180214PRINUNIVRMK
EXPOCODE,STNNBR,CASTNO,BTLNBR,BTLNBR_FLAG_W,DATE,TIME,LATITUDE,LONGITUDE,DEPTH,CTDPRS,CTDTMP,CTDSAL,CTDSAL_FLAG_W,CTDOXY,CTDOXY_FLAG_W,OXYGEN,OXYGEN_FLAG_W,SILCAT,SILCAT_FLAG_W,NITRAT,NITRAT_FLAG_W,NITRIT,NITRIT_FLAG_W,PHSPHT,PHSPHT_FLAG_W,NH4,NH4_FLAG_W,THETA
,,,,,,,,,METERS,DBAR,ITS-90,PSS-78,,UMOL/KG,,UMOL/KG,,UMOL/KG,,UMOL/KG,,UMOL/KG,,UMOL/KG,,UMOL/KG,,DEG C
  06M320140530,    43,  1,     16,2,20140622,0246, 18.1650, -16.7510, 1100,     11.6,  23.1196,  35.8296,2,    205.9,2,    200.8,2,     0.66,3,     2.00,3,     0.22,2,     0.32,3,    0.357,2,  23.1172
  06M320140530,    43,  1,     12,2,20140622,0246, 18.1650, -16.7510, 1100,     21.7,  22.9213,  35.8302,2,    199.8,2,   -999.0,9,     1.19,3,     4.78,3,     0.63,2,     0.53,3,     -999,9,  22.9169
  06M320140530,    43,  1,      7,2,20140622,0246, 18.1650, -16.7510, 1100,     91.4,  16.1660,  35.6026,2,     46.8,2,     46.6,2,     6.16,3,    25.26,3,     0.04,2,     1.59,3,        0,2,  16.1514
  06M320140530,    43,  1,      2,2,20140622,0246, 18.1650, -16.7510, 1100,    201.4,  14.4129,  35.4763,2,     49.5,2,     50.1,2,     8.41,3,    26.33,3,     0.03,2,     1.68,3,        0,2,  14.3831
  06M320140530,    44,  1,     19,2,20140622,0657, 18.2340, -16.5200,  174,      4.0,  21.2087,  35.8012,2,    204.4,2,   -999.0,9,     0.00,3,     1.68,3,     0.23,2,     0.23,3,    0.065,2,  21.2079
  06M320140530,    44,  1,     18,2,20140622,0657, 18.2340, -16.5200,  174,      8.7,  21.2097,  35.8027,2,    203.2,2,    216.7,2,     0.00,3,     1.23,3,     0.22,2,     0.20,3,    0.082,2,  21.2080
  06M320140530,    44,  1,     17,2,20140622,0657, 18.2340, -16.5200,  174,     14.0,  20.8995,  35.8242,2,    187.5,2,   -999.0,9,     0.00,3,     2.44,3,     0.26,2,     0.28,3,    0.218,2,  20.8968
  06M320140530,    44,  1,     16,2,20140622,0657, 18.2340, -16.5200,  174,     18.9,  20.1487,  35.8446,2,    147.6,2,   -999.0,9,     1.63,3,     8.89,3,     0.42,2,     0.68,3,    0.344,2,  20.1452
  06M320140530,    44,  1,     15,2,20140622,0657, 18.2340, -16.5200,  174,     24.2,  17.9564,  35.7143,2,     65.5,2,   -999.0,9,     4.86,3,    19.24,3,     0.25,2,     1.27,3,    0.018,2,  17.9522
  06M320140530,    44,  1,     14,2,20140622,0657, 18.2340, -16.5200,  174,     29.3,  17.5057,  35.6753,2,     57.4,2,   -999.0,9,     5.86,3,    21.78,3,     0.11,2,     1.46,3,        0,2,  17.5008
  06M320140530,    44,  1,     13,2,20140622,0657, 18.2340, -16.5200,  174,     34.2,  17.0805,  35.6540,2,     52.7,2,   -999.0,9,     5.94,2,    21.88,2,     0.09,2,     1.47,2,        0,2,  17.0748
  06M320140530,    44,  1,     12,2,20140622,0657, 18.2340, -16.5200,  174,     38.8,  16.9889,  35.6548,2,     54.0,2,     54.2,2,     5.93,2,    22.18,2,     0.08,2,     1.48,2,        0,2,  16.9825
  06M320140530,    44,  1,     11,2,20140622,0657, 18.2340, -16.5200,  174,     44.1,  16.8109,  35.6438,2,     52.5,2,   -999.0,9,     6.29,2,    23.16,2,     0.05,2,     1.56,2,        0,2,  16.8037
  06M320140530,    44,  1,     10,2,20140622,0657, 18.2340, -16.5200,  174,     49.5,  16.6519,  35.6339,2,     48.5,2,   -999.0,9,     6.50,2,    23.36,2,     0.04,2,     1.54,2,        0,2,  16.6438
  06M320140530,    44,  1,      9,2,20140622,0657, 18.2340, -16.5200,  174,     58.8,  16.6269,  35.6328,2,     47.1,2,   -999.0,9,     6.57,2,    23.67,2,     0.04,2,     1.53,2,        0,2,  16.6173
  06M320140530,    44,  1,      8,2,20140622,0657, 18.2340, -16.5200,  174,     79.7,  16.5214,  35.6266,2,     46.4,2,     48.4,2,     6.75,2,    23.63,2,     0.05,2,     1.55,2,        0,2,  16.5085
  06M320140530,    44,  1,      7,2,20140622,0657, 18.2340, -16.5200,  174,     99.6,  16.4047,  35.6194,2,     47.3,2,   -999.0,9,     6.72,2,    24.49,2,     0.05,2,     1.58,2,        0,2,  16.3886
  06M320140530,    44,  1,      6,2,20140622,0657, 18.2340, -16.5200,  174,    120.8,  16.3552,  35.6163,2,     47.3,2,   -999.0,9,     6.72,2,    24.40,2,     0.05,2,     1.53,2,        0,2,  16.3357
  06M320140530,    44,  1,      5,2,20140622,0657, 18.2340, -16.5200,  174,    140.3,  16.1425,  35.5982,2,     45.7,2,   -999.0,9,     7.20,2,    25.23,2,     0.07,2,     1.66,2,        0,2,  16.1201
  06M320140530,    44,  1,      4,2,20140622,0657, 18.2340, -16.5200,  174,    149.6,  15.7682,  35.5758,2,     42.3,2,     45.4,2,     7.48,2,    25.74,2,     0.08,2,     1.64,2,        0,2,  15.7447
  06M320140530,    44,  1,      3,2,20140622,0657, 18.2340, -16.5200,  174,    160.2,  15.5249,  35.5620,2,     46.6,2,   -999.0,9,     7.57,2,    25.26,2,     0.10,2,     1.64,2,        0,2,  15.5000
  06M320140530,    44,  1,      2,2,20140622,0657, 18.2340, -16.5200,  174,    166.7,  15.4692,  35.5581,2,     46.3,2,   -999.0,9,     7.65,2,    24.84,2,     0.10,2,     1.64,2,        0,2,  15.4433
  06M320140530,    44,  1,      1,2,20140622,0657, 18.2340, -16.5200,  174,    166.9,-999.0000,-999.0000,5,   -999.0,5,   -999.0,9,  -999.00,9,  -999.00,9,  -999.00,9,  -999.00,9,     -999,9,-999.0000
  06M320140530,    45,  1,     16,2,20140622,1307, 18.2360, -16.5170,  168,      7.1,  21.5049,  35.8305,2,    221.9,2,    223.1,2,     0.00,2,     0.10,2,     0.13,2,     0.17,2,    0.138,2,  21.5035
  06M320140530,    45,  1,     15,2,20140622,1307, 18.2360, -16.5170,  168,     10.2,  21.4446,  35.8305,2,    214.5,2,   -999.0,9,     0.00,2,     1.44,2,     0.18,2,     0.28,2,    0.186,2,  21.4426
  06M320140530,    45,  1,     14,2,20140622,1307, 18.2360, -16.5170,  168,     14.9,  21.3734,  35.8352,2,    202.8,2,   -999.0,9,     0.56,2,     4.65,2,     0.29,2,     0.48,2,    0.331,2,  21.3705
  06M320140530,    45,  1,     13,2,20140622,1307, 18.2360, -16.5170,  168,     19.9,  20.7480,  35.8432,2,    162.7,2,   -999.0,9,     2.77,2,    11.01,2,     0.41,2,     0.97,2,    0.176,2,  20.7442
  06M320140530,    45,  1,     12,2,20140622,1307, 18.2360, -16.5170,  168,     24.6,  19.7201,  35.8089,2,    114.9,2,   -999.0,9,     3.83,2,    14.37,2,     0.39,2,     1.17,2,    0.184,2,  19.7156
  06M320140530,    45,  1,     11,2,20140622,1307, 18.2360, -16.5170,  168,     29.8,  19.1158,  35.7631,2,     92.7,2,   -999.0,9,     3.90,2,    14.68,2,     0.38,2,     1.18,2,    0.031,2,  19.1105
  06M320140530,    45,  1,     10,2,20140622,1307, 18.2360, -16.5170,  168,     40.2,  18.4186,  35.7222,2,     73.6,2,   -999.0,9,     5.24,2,    18.35,2,     0.25,2,     1.39,2,        0,2,  18.4116
  06M320140530,    45,  1,      9,2,20140622,1307, 18.2360, -16.5170,  168,     50.2,  17.5837,  35.6776,2,     57.6,2,   -999.0,9,     5.83,2,    20.31,2,     0.13,2,     1.46,2,        0,2,  17.5752
  06M320140530,    45,  1,      8,2,20140622,1307, 18.2360, -16.5170,  168,     70.5,  16.9111,  35.6461,2,     52.3,2,   -999.0,9,     6.31,2,    21.46,2,     0.08,2,     1.46,2,        0,2,  16.8995
  06M320140530,    45,  1,      7,2,20140622,1307, 18.2360, -16.5170,  168,     90.1,  16.5787,  35.6301,2,     46.8,2,   -999.0,9,     6.74,2,    22.72,2,     0.04,2,     1.57,2,        0,2,  16.5641
  06M320140530,    45,  1,      6,2,20140622,1307, 18.2360, -16.5170,  168,     99.6,  16.4464,  35.6231,2,     46.9,2,   -999.0,9,     6.70,2,    22.55,2,     0.05,2,     1.55,2,        0,2,  16.4303
  06M320140530,    45,  1,      5,2,20140622,1307, 18.2360, -16.5170,  168,    120.0,  16.3881,  35.6179,2,     46.9,2,     48.4,2,     6.55,2,    23.59,2,     0.04,2,     1.55,2,        0,2,  16.3687
  06M320140530,    45,  1,      4,2,20140622,1307, 18.2360, -16.5170,  168,    134.0,  16.2527,  35.6108,2,     46.9,2,   -999.0,9,     6.70,2,    23.78,2,     0.05,2,     1.57,2,        0,2,  16.2312
  06M320140530,    45,  1,      3,2,20140622,1307, 18.2360, -16.5170,  168,    145.1,  15.9769,  35.5917,2,     45.5,2,   -999.0,9,     7.28,2,    24.55,2,     0.09,2,     1.61,2,    0.084,2,  15.9539
  06M320140530,    45,  1,      2,2,20140622,1307, 18.2360, -16.5170,  168,    155.4,  15.6109,  35.5685,2,     45.7,2,   -999.0,9,     7.83,2,    24.53,2,     0.11,2,     1.64,2,    0.131,2,  15.5866
  06M320140530,    45,  1,      1,2,20140622,1307, 18.2360, -16.5170,  168,    162.7,  15.4282,  35.5590,2,     45.8,2,     44.7,2,     7.72,2,    23.84,2,     0.11,2,     1.61,2,    0.278,2,  15.4030
  06M320140530,    48,  1,     10,2,20140622,2134, 18.2870, -16.3160,   46,      4.9,  19.1698,  35.6709,2,    180.4,2,   -999.0,9,     0.90,2,     9.79,2,     0.54,2,     0.80,2,    0.136,2,  19.1689
  06M320140530,    48,  1,      9,2,20140622,2134, 18.2870, -16.3160,   46,     10.1,  19.1629,  35.6705,2,    180.0,2,    175.8,2,     1.38,2,    10.42,2,     0.57,2,     0.84,2,     0.18,2,  19.1611
  06M320140530,    48,  1,      8,2,20140622,2134, 18.2870, -16.3160,   46,     15.1,  19.1394,  35.6719,2,    174.5,2,   -999.0,9,     1.72,2,    10.84,2,     0.59,2,     0.88,2,    0.219,2,  19.1367
  06M320140530,    48,  1,      7,2,20140622,2134, 18.2870, -16.3160,   46,     20.0,  19.0498,  35.6743,2,    157.8,2,    145.8,2,     2.73,2,    12.25,2,     0.66,2,     0.99,2,    0.138,2,  19.0462
  06M320140530,    48,  1,      6,2,20140622,2134, 18.2870, -16.3160,   46,     25.0,  18.9391,  35.6761,2,    135.0,2,   -999.0,9,     3.44,2,    13.20,2,     0.70,2,     1.07,2,    0.219,2,  18.9346
  06M320140530,    48,  1,      5,2,20140622,2134, 18.2870, -16.3160,   46,     30.2,  18.8089,  35.6827,2,    120.2,2,   -999.0,9,     3.81,2,    14.05,2,     0.69,2,     1.12,2,    0.244,2,  18.8036
  06M320140530,    48,  1,      4,2,20140622,2134, 18.2870, -16.3160,   46,     35.0,  18.5604,  35.7029,2,     89.3,2,   -999.0,9,     5.34,2,    17.27,2,     0.51,2,     1.30,2,    0.211,2,  18.5542
  06M320140530,    48,  1,      3,2,20140622,2134, 18.2870, -16.3160,   46,     42.0,  17.9041,  35.6921,2,     46.0,2,     73.5,3,     5.76,2,    17.94,2,     0.38,2,     1.32,2,    0.024,2,  17.8969
  06M320140530,    49,  1,     17,2,20140622,2249, 18.2530, -16.4500,   90,      5.1,  21.0607,  35.7592,2,    206.4,2,   -999.0,9,     0.00,2,     2.74,2,     0.59,2,     0.41,2,    0.418,2,  21.0597
  06M320140530,    49,  1,     16,2,20140622,2249, 18.2530, -16.4500,   90,      9.2,  21.0473,  35.7595,2,    206.9,2,    212.6,2,     0.00,2,     2.59,2,     0.57,2,     0.40,2,    0.348,2,  21.0455
  06M320140530,    49,  1,     15,2,20140622,2249, 18.2530, -16.4500,   90,     14.9,  20.9485,  35.7537,2,    203.0,2,   -999.0,9,     0.80,2,     4.66,2,     0.82,2,     0.60,2,    0.761,2,  20.9456
  06M320140530,    49,  1,     14,2,20140622,2249, 18.2530, -16.4500,   90,     20.2,  20.7938,  35.7411,2,    197.0,2,   -999.0,9,     0.80,2,     5.51,2,     0.92,2,     0.66,2,    0.856,2,  20.7899
  06M320140530,    49,  1,     13,2,20140622,2249, 18.2530, -16.4500,   90,     25.1,  20.3139,  35.7234,2,    173.2,2,   -999.0,9,     1.10,2,     7.47,2,     1.10,2,     0.83,2,    1.188,2,  20.3092
  06M320140530,    49,  1,     12,2,20140622,2249, 18.2530, -16.4500,   90,     30.4,  20.1051,  35.7495,2,    153.4,2,   -999.0,9,     2.05,2,     8.61,2,     0.92,2,     0.86,2,    1.146,2,  20.0994
  06M320140530,    49,  1,     11,2,20140622,2249, 18.2530, -16.4500,   90,     34.5,  19.7977,  35.7622,2,    122.4,2,   -999.0,9,     2.32,2,     9.65,2,     0.73,2,     0.88,2,    1.124,2,  19.7913
  06M320140530,    49,  1,     10,2,20140622,2249, 18.2530, -16.4500,   90,     39.9,  19.6871,  35.7639,2,    112.5,2,   -999.0,9,     2.70,2,    10.63,2,     0.57,2,     0.92,2,    0.987,2,  19.6798
  06M320140530,    49,  1,      9,2,20140622,2249, 18.2530, -16.4500,   90,     44.8,  19.4080,  35.7642,2,    100.4,2,   -999.0,9,     2.99,2,    12.10,2,     0.49,2,     0.97,2,    0.797,2,  19.3999
  06M320140530,    49,  1,      8,2,20140622,2249, 18.2530, -16.4500,   90,     50.3,  18.4891,  35.7337,2,     75.4,2,   -999.0,9,     4.37,2,    16.63,2,     0.38,2,     1.22,2,    0.222,2,  18.4803
  06M320140530,    49,  1,      7,2,20140622,2249, 18.2530, -16.4500,   90,     55.3,  17.9778,  35.7109,2,     63.3,2,   -999.0,9,     5.20,2,    19.19,2,     0.27,2,     1.36,2,    0.091,2,  17.9683
  06M320140530,    49,  1,      6,2,20140622,2249, 18.2530, -16.4500,   90,     60.6,  17.2900,  35.6636,2,     38.8,2,     44.6,2,     7.62,2,    21.77,2,     0.10,2,     1.59,2,    0.007,2,  17.2799
  06M320140530,    49,  1,      5,2,20140622,2249, 18.2530, -16.4500,   90,     64.4,  17.1970,  35.6630,2,     40.4,2,   -999.0,9,     8.01,2,    22.57,2,     0.08,2,     1.63,2,    0.021,2,  17.1863
  06M320140530,    49,  1,      4,2,20140622,2249, 18.2530, -16.4500,   90,     69.6,  17.0170,  35.6458,2,     31.7,2,   -999.0,9,     9.24,2,    23.14,2,     0.04,2,     1.71,2,    0.108,2,  17.0055
  06M320140530,    49,  1,      3,2,20140622,2249, 18.2530, -16.4500,   90,     75.2,  16.9331,  35.6408,2,     29.6,2,   -999.0,9,     9.29,2,    23.54,2,     0.05,2,     1.71,2,    0.027,2,  16.9207
  06M320140530,    49,  1,      2,2,20140622,2249, 18.2530, -16.4500,   90,     80.1,  16.8279,  35.6335,2,     30.1,2,   -999.0,9,     8.90,2,    23.81,2,     0.03,2,     1.71,2,        0,2,  16.8147
  06M320140530,    49,  1,      1,2,20140622,2249, 18.2530, -16.4500,   90,     86.7,  16.7678,  35.6304,2,     28.9,2,     30.4,2,     8.95,2,    22.85,2,     0.04,2,     1.69,2,        0,2,  16.7536
  06M320140530,    50,  1,     14,2,20140623,0444, 18.2660, -16.4010,   71,      4.1,  20.9900,  35.7640,2,    199.3,2,   -999.0,9,     0.00,2,     2.96,2,     0.52,2,     0.38,2,    0.401,2,  20.9892
  06M320140530,    50,  1,     13,2,20140623,0444, 18.2660, -16.4010,   71,      9.8,  20.9640,  35.7613,2,    197.2,2,    204.1,2,     0.04,2,     3.22,2,     0.57,2,     0.41,2,     0.54,2,  20.9621
  06M320140530,    50,  1,     12,2,20140623,0444, 18.2660, -16.4010,   71,     14.9,  20.8627,  35.7533,2,    194.4,2,   -999.0,9,     0.54,2,     4.37,2,     0.75,2,     0.51,2,     0.63,2,  20.8599
  06M320140530,    50,  1,     11,2,20140623,0444, 18.2660, -16.4010,   71,     19.7,  20.5714,  35.7293,2,    187.8,2,   -999.0,9,     1.24,2,     5.89,2,     0.97,2,     0.67,2,    0.884,2,  20.5677
  06M320140530,    50,  1,     10,2,20140623,0444, 18.2660, -16.4010,   71,     24.5,  20.1403,  35.7172,2,    167.2,2,   -999.0,9,     2.47,2,     8.32,2,     1.15,2,     0.87,2,    1.219,2,  20.1357
  06M320140530,    50,  1,      9,2,20140623,0444, 18.2660, -16.4010,   71,     30.0,  20.0590,  35.7228,2,    158.0,2,   -999.0,9,     2.52,2,     9.50,2,     1.09,2,     0.88,2,    1.361,2,  20.0534
  06M320140530,    50,  1,      8,2,20140623,0444, 18.2660, -16.4010,   71,     34.6,  19.9457,  35.7475,2,    140.9,2,   -999.0,9,     2.62,2,     9.47,2,     0.90,2,     0.91,2,    1.383,2,  19.9393
  06M320140530,    50,  1,      7,2,20140623,0444, 18.2660, -16.4010,   71,     39.5,  19.7957,  35.7426,2,    127.3,2,   -999.0,9,     2.91,2,    10.69,2,     0.78,2,     0.97,2,    1.392,2,  19.7884
  06M320140530,    50,  1,      6,2,20140623,0444, 18.2660, -16.4010,   71,     44.8,  19.3069,  35.7505,2,    101.6,2,   -999.0,9,     3.36,2,    12.08,2,     0.65,2,     1.03,2,    1.185,2,  19.2988
  06M320140530,    50,  1,      5,2,20140623,0444, 18.2660, -16.4010,   71,     49.8,  18.6991,  35.7270,2,     81.5,2,   -999.0,9,     4.28,2,    15.79,2,     0.46,2,     1.17,2,    0.426,2,  18.6903
  06M320140530,    50,  1,      4,2,20140623,0444, 18.2660, -16.4010,   71,     54.5,  18.1796,  35.7024,2,     67.2,2,   -999.0,9,     5.09,2,    18.02,2,     0.39,2,     1.29,2,        0,2,  18.1702
  06M320140530,    50,  1,      3,2,20140623,0444, 18.2660, -16.4010,   71,     59.9,  17.8279,  35.6942,2,     57.9,2,     49.9,2,     7.58,2,    19.76,2,     0.38,2,     1.46,2,    0.035,2,  17.8177
  06M320140530,    50,  1,      2,2,20140623,0444, 18.2660, -16.4010,   71,     64.5,  17.5642,  35.6810,2,     43.9,2,   -999.0,9,     9.97,2,    20.51,2,     0.36,2,     1.58,2,     0.11,2,  17.5533
  06M320140530,    50,  1,      1,2,20140623,0444, 18.2660, -16.4010,   71,     68.5,  17.4506,  35.6633,2,     29.3,2,     41.9,2,    10.00,2,    20.09,2,     0.37,2,     1.56,2,    0.094,2,  17.4391
  06M320140530,    51,  1,     12,2,20140623,0636, 18.2780, -16.3580,   60,      4.2,  20.4506,  35.7375,2,    174.5,2,   -999.0,9,     0.99,2,     5.97,2,     0.80,2,     0.66,2,    1.099,2,  20.4498
  06M320140530,    51,  1,     11,2,20140623,0636, 18.2780, -16.3580,   60,      9.2,  20.4480,  35.7380,2,    174.8,2,    178.0,2,     1.10,2,     6.19,2,     0.81,2,     0.67,2,    1.129,2,  20.4463
  06M320140530,    51,  1,     10,2,20140623,0636, 18.2780, -16.3580,   60,     14.7,  20.3947,  35.7362,2,    171.9,2,   -999.0,9,     1.50,2,     6.92,2,     0.86,2,     0.76,2,    1.456,2,  20.3919
  06M320140530,    51,  1,      9,2,20140623,0636, 18.2780, -16.3580,   60,     19.4,  20.0410,  35.7338,2,    142.9,2,   -999.0,9,     2.51,2,     8.90,2,     0.91,2,     0.90,2,    1.758,2,  20.0374
  06M320140530,    51,  1,      8,2,20140623,0636, 18.2780, -16.3580,   60,     24.6,  19.6311,  35.7245,2,    114.9,2,   -999.0,9,     3.11,2,    11.09,2,     0.73,2,     0.99,2,    1.347,2,  19.6266
  06M320140530,    51,  1,      7,2,20140623,0636, 18.2780, -16.3580,   60,     29.9,  19.3341,  35.7183,2,    112.5,2,   -999.0,9,     3.47,2,    12.56,2,     0.73,2,     1.07,2,    1.101,2,  19.3287
  06M320140530,    51,  1,      6,2,20140623,0636, 18.2780, -16.3580,   60,     34.7,  19.2628,  35.7031,2,    129.3,2,   -999.0,9,     3.53,2,    12.38,2,     0.78,2,     1.06,2,     0.92,2,  19.2565
  06M320140530,    51,  1,      5,2,20140623,0636, 18.2780, -16.3580,   60,     39.9,  19.1453,  35.7128,2,    115.7,2,     92.1,3,     3.89,2,    13.78,2,     0.77,2,     1.12,2,     0.68,2,  19.1381
  06M320140530,    51,  1,      4,2,20140623,0636, 18.2780, -16.3580,   60,     44.9,  18.6431,  35.7283,2,     72.2,2,   -999.0,9,     4.82,2,    16.91,2,     0.59,2,     1.25,2,      0.2,2,  18.6352
  06M320140530,    51,  1,      3,2,20140623,0636, 18.2780, -16.3580,   60,     50.2,  18.2714,  35.6974,2,     58.4,2,   -999.0,9,     8.78,2,    19.79,2,     0.47,2,     1.51,2,        0,2,  18.2627
  06M320140530,    51,  1,      2,2,20140623,0636, 18.2780, -16.3580,   60,     54.5,  17.8628,  35.6726,2,     29.6,2,   -999.0,9,    11.56,2,    20.23,2,     0.49,2,     1.63,2,    0.046,2,  17.8535
  06M320140530,    51,  1,      1,2,20140623,0636, 18.2780, -16.3580,   60,     57.2,  17.8370,  35.6717,2,     28.8,2,     37.8,2,     8.75,2,    18.95,2,     0.48,2,     1.48,2,    0.052,2,  17.8272