BOTTLE,20180214PRINUNIVRMK
EXPOCODE,STNNBR,CASTNO,BTLNBR,BTLNBR_FLAG_W,DATE,TIME,LATITUDE,LONGITUDE,DEPTH,CTDPRS,CTDTMP,CTDSAL,CTDSAL_FLAG_W,CTDOXY,CTDOXY_FLAG_W,OXYGEN,OXYGEN_FLAG_W,SILCAT,SILCAT_FLAG_W,NITRAT,NITRAT_FLAG_W,NITRIT,NITRIT_FLAG_W,PHSPHT,PHSPHT_FLAG_W,NH4,NH4_FLAG_W,THETA
,,,,,,,,,METERS,DBAR,ITS-90,PSS-78,,UMOL/KG,,UMOL/KG,,UMOL/KG,,UMOL/KG,,UMOL/KG,,UMOL/KG,,UMOL/KG,,DEG C
  06M320140530,    37,  1,     20,2,20140620,2137, 18.2470, -16.4790,  112,      5.3,  20.9029,  35.7467,2,    208.4,2,    218.5,2,     0.00,2,     2.54,2,     0.48,2,     0.68,2,    0.404,2,  20.9019
  06M320140530,    37,  1,     19,2,20140620,2137, 18.2470, -16.4790,  112,     10.7,  20.8996,  35.7441,2,    208.8,2,   -999.0,9,     0.00,2,     2.75,2,     0.48,2,     0.39,2,    0.404,2,  20.8976
  06M320140530,    37,  1,     15,2,20140620,2137, 18.2470, -16.4790,  112,     14.5,  20.7448,  35.7968,2,    171.9,2,   -999.0,9,     1.73,2,     9.07,2,     0.54,2,     0.74,2,    0.301,2,  20.7420
  06M320140530,    37,  1,     14,2,20140620,2137, 18.2470, -16.4790,  112,     20.1,  19.7563,  35.9075,2,    121.9,2,   -999.0,9,     3.08,2,    13.58,2,     0.56,2,     0.99,2,    0.099,2,  19.7526
  06M320140530,    37,  1,     13,2,20140620,2137, 18.2470, -16.4790,  112,     24.6,  18.7898,  35.8665,2,     98.0,2,   -999.0,9,     3.84,2,    16.74,2,     0.42,2,     1.15,2,        0,2,  18.7854
  06M320140530,    37,  1,     12,2,20140620,2137, 18.2470, -16.4790,  112,     29.7,  17.9239,  35.7647,2,     72.5,2,   -999.0,9,     4.73,2,    19.70,2,     0.24,2,     1.32,2,        0,2,  17.9188
  06M320140530,    37,  1,     11,2,20140620,2137, 18.2470, -16.4790,  112,     35.1,  17.5571,  35.7204,2,     65.9,2,   -999.0,9,     4.94,2,    20.45,2,     0.21,2,     1.35,2,    0.058,2,  17.5512
  06M320140530,    37,  1,     10,2,20140620,2137, 18.2470, -16.4790,  112,     39.6,  17.4025,  35.7101,2,     63.9,2,   -999.0,9,     4.07,2,    16.92,2,     0.37,2,     1.18,2,    0.058,2,  17.3958
  06M320140530,    37,  1,      9,2,20140620,2137, 18.2470, -16.4790,  112,     48.1,  17.3862,  35.7096,2,     63.5,2,   -999.0,9,     3.93,2,    17.30,2,     0.38,2,     1.18,2,        0,2,  17.3781
  06M320140530,    37,  1,      8,2,20140620,2137, 18.2470, -16.4790,  112,     60.1,  16.8888,  35.6642,2,     53.9,2,   -999.0,9,     5.12,2,    20.86,2,     0.18,2,     1.38,2,        0,2,  16.8789
  06M320140530,    37,  1,      7,2,20140620,2137, 18.2470, -16.4790,  112,     75.3,  16.6430,  35.6404,2,     52.8,2,   -999.0,9,     5.97,2,    23.30,2,     0.08,2,     1.49,2,        0,2,  16.6307
  06M320140530,    37,  1,      6,2,20140620,2137, 18.2470, -16.4790,  112,     90.0,  16.3935,  35.6284,2,     52.0,2,   -999.0,9,     6.50,2,    24.25,2,     0.08,2,     1.55,2,        0,2,  16.3790
  06M320140530,    37,  1,      5,2,20140620,2137, 18.2470, -16.4790,  112,    100.0,  16.1144,  35.6034,2,     49.4,2,     50.7,2,     6.78,2,    24.15,2,     0.10,2,     1.57,2,        0,2,  16.0985
  06M320140530,    37,  1,      1,2,20140620,2137, 18.2470, -16.4790,  112,    108.0,  16.0868,  35.6016,2,     49.0,2,     55.2,2,     6.77,2,    23.42,2,     0.10,2,     1.55,2,        0,2,  16.0696
  06M320140530,    38,  1,     17,2,20140621,0144, 18.2530, -16.4490,   91,      6.3,  20.7941,  35.7561,2,    184.0,2,   -999.0,9,     0.34,2,     4.59,2,     0.59,2,     0.51,2,    0.567,2,  20.7929
  06M320140530,    38,  1,     16,2,20140621,0144, 18.2530, -16.4490,   91,      9.8,  20.8040,  35.7551,2,    184.1,2,   -999.0,9,     0.46,2,     4.77,2,     0.58,2,     0.51,2,    0.539,2,  20.8021
  06M320140530,    38,  1,     15,2,20140621,0144, 18.2530, -16.4490,   91,     14.3,  20.7920,  35.7569,2,    181.8,2,   -999.0,9,     0.86,2,     5.74,2,     0.59,2,     0.66,2,    0.585,2,  20.7893
  06M320140530,    38,  1,     14,2,20140621,0144, 18.2530, -16.4490,   91,     19.3,  20.7446,  35.7638,2,    177.4,2,   -999.0,9,     0.32,2,     4.60,2,     0.58,2,     0.50,2,    0.548,2,  20.7409
  06M320140530,    38,  1,     13,2,20140621,0144, 18.2530, -16.4490,   91,     24.4,  20.4764,  35.7927,2,    150.2,2,   -999.0,9,     2.37,2,     9.15,2,     0.65,2,     0.81,2,      0.6,2,  20.4718
  06M320140530,    38,  1,     12,2,20140621,0144, 18.2530, -16.4490,   91,     29.6,  19.9903,  35.8229,2,    120.5,2,   -999.0,9,     2.71,2,    10.68,2,     0.69,2,     0.87,2,    0.417,2,  19.9848
  06M320140530,    38,  1,     11,2,20140621,0144, 18.2530, -16.4490,   91,     34.6,  19.5608,  35.8351,2,    108.1,2,   -999.0,9,     2.99,2,    11.98,2,     0.72,2,     0.93,2,    0.314,2,  19.5545
  06M320140530,    38,  1,     10,2,20140621,0144, 18.2530, -16.4490,   91,     40.2,  19.3051,  35.8713,2,    107.3,2,   -999.0,9,     3.07,2,    12.54,2,     0.68,2,     0.95,2,    0.286,2,  19.2978
  06M320140530,    38,  1,      9,2,20140621,0144, 18.2530, -16.4490,   91,     50.3,  18.5968,  35.8332,2,     88.7,2,   -999.0,9,     3.88,2,    16.38,2,     0.46,2,     1.13,2,    0.168,2,  18.5879
  06M320140530,    38,  1,      8,2,20140621,0144, 18.2530, -16.4490,   91,     59.6,  17.2976,  35.6963,2,     52.8,2,   -999.0,9,     5.88,2,    20.98,2,     0.12,2,     1.43,2,    0.071,2,  17.2876
  06M320140530,    38,  1,      7,2,20140621,0144, 18.2530, -16.4490,   91,     69.7,  16.8332,  35.6361,2,     33.3,2,   -999.0,9,     8.21,2,    23.50,2,     0.03,2,     1.67,2,    0.099,2,  16.8218
  06M320140530,    38,  1,      6,2,20140621,0144, 18.2530, -16.4490,   91,     80.5,  16.6752,  35.6268,2,     30.7,2,   -999.0,9,     8.77,2,    23.87,2,     0.08,2,     1.69,2,    0.073,2,  16.6621
  06M320140530,    38,  1,      5,2,20140621,0144, 18.2530, -16.4490,   91,     86.4,  16.6061,  35.6263,2,     34.7,2,   -999.0,9,     8.81,2,    23.85,2,     0.08,2,     1.69,2,    0.108,2,  16.5920
  06M320140530,    38,  1,      4,2,20140621,0144, 18.2530, -16.4490,   91,     92.2,  16.3859,  35.6114,2,     27.0,2,   -999.0,9,     9.48,2,    23.57,2,     0.20,2,     1.71,2,    0.069,2,  16.3710
  06M320140530,    39,  1,     15,2,20140621,0508, 18.2660, -16.4010,   71,      6.0,  20.1355,  35.7295,2,    168.2,2,   -999.0,9,     1.88,2,     8.29,2,     1.10,2,     0.89,2,    1.076,2,  20.1344
  06M320140530,    39,  1,     14,2,20140621,0508, 18.2660, -16.4010,   71,      9.5,  20.1433,  35.7292,2,    168.0,2,    172.3,2,     1.88,2,     8.38,2,     1.13,2,     0.88,2,    0.997,2,  20.1415
  06M320140530,    39,  1,     13,2,20140621,0508, 18.2660, -16.4010,   71,     14.4,  20.1352,  35.7342,2,    164.3,2,   -999.0,9,     1.89,2,     8.47,2,     1.12,2,     0.91,2,    1.003,2,  20.1325
  06M320140530,    39,  1,     12,2,20140621,0508, 18.2660, -16.4010,   71,     19.7,  19.9922,  35.7633,2,    143.1,2,    136.9,2,     1.85,2,     8.31,2,     1.15,2,     0.90,2,    0.733,2,  19.9886
  06M320140530,    39,  1,     11,2,20140621,0508, 18.2660, -16.4010,   71,     25.0,  19.6639,  35.7780,2,    119.9,2,   -999.0,9,     2.25,2,    10.10,2,     0.96,2,     0.92,2,    0.499,2,  19.6593
  06M320140530,    39,  1,     10,2,20140621,0508, 18.2660, -16.4010,   71,     30.0,  19.1828,  35.8049,2,    105.4,2,   -999.0,9,     2.83,2,    12.05,2,     0.87,2,     1.00,2,    0.148,2,  19.1774
  06M320140530,    39,  1,      9,2,20140621,0508, 18.2660, -16.4010,   71,     34.8,  17.9466,  35.7456,2,     65.9,2,   -999.0,9,     3.88,2,    15.10,2,     0.63,2,     1.14,2,        0,2,  17.9406
  06M320140530,    39,  1,      8,2,20140621,0508, 18.2660, -16.4010,   71,     40.2,  17.2736,  35.6527,2,     34.3,2,   -999.0,9,     5.58,2,    18.96,2,     0.34,2,     1.36,2,        0,2,  17.2669
  06M320140530,    39,  1,      7,2,20140621,0508, 18.2660, -16.4010,   71,     45.1,  17.2542,  35.6524,2,     33.8,2,   -999.0,9,     8.19,2,    22.71,2,     0.06,2,     1.70,2,        0,2,  17.2467
  06M320140530,    39,  1,      6,2,20140621,0508, 18.2660, -16.4010,   71,     50.3,  17.2286,  35.6500,2,     32.7,2,     32.0,2,     8.31,2,    23.52,2,     0.05,2,     1.80,2,        0,2,  17.2202
  06M320140530,    39,  1,      5,2,20140621,0508, 18.2660, -16.4010,   71,     54.3,  17.2060,  35.6486,2,     32.5,2,   -999.0,9,     8.32,2,    23.58,2,     0.05,2,     1.69,2,        0,2,  17.1969
  06M320140530,    39,  1,      4,2,20140621,0508, 18.2660, -16.4010,   71,     60.1,  17.1968,  35.6524,2,     34.3,2,     34.9,2,     8.31,2,    23.38,2,     0.03,2,     1.68,2,        0,2,  17.1868
  06M320140530,    39,  1,      3,2,20140621,0508, 18.2660, -16.4010,   71,     64.8,  17.1953,  35.6585,2,     36.0,2,   -999.0,9,     7.98,2,    23.21,2,     0.06,2,     1.66,2,        0,2,  17.1845
  06M320140530,    39,  1,      2,2,20140621,0508, 18.2660, -16.4010,   71,     67.9,  17.1877,  35.6599,2,     36.6,2,   -999.0,9,     8.05,2,    23.11,2,     0.07,2,     1.66,2,        0,2,  17.1764
  06M320140530,    39,  1,      1,2,20140621,0508, 18.2660, -16.4010,   71,     68.0,  17.1881,  35.6600,2,     36.5,2,   -999.0,9,     8.18,2,    22.58,2,     0.05,2,     1.65,2,        0,2,  17.1768
  06M320140530,    40,  1,     20,2,20140621,1405, 18.2460, -16.4500,   91,     11.2,  20.4505,  35.8177,2,    147.4,2,    120.2,3,     2.74,2,    11.15,2,     0.52,2,     0.90,2,     0.52,2,  20.4484
  06M320140530,    40,  1,     10,2,20140621,1405, 18.2460, -16.4500,   91,     49.2,  17.3229,  35.6529,2,     34.2,2,     33.5,2,     8.18,2,    21.42,2,     0.05,2,     1.64,2,     0.03,2,  17.3147
  06M320140530,    40,  1,      1,2,20140621,1405, 18.2460, -16.4500,   91,     81.8,  16.5875,  35.6236,2,     31.3,2,     28.5,2,     9.02,2,    23.54,2,     0.08,2,     1.70,2,    0.058,2,  16.5742
  06M320140530,    41,  1,     24,2,20140621,1709, 18.1880, -16.6540,  794,      7.5,  22.2672,  35.7933,2,    247.8,2,    230.0,3,     0.00,2,     0.91,2,     0.14,2,     0.16,2,    0.258,2,  22.2657
  06M320140530,    41,  1,     23,2,20140621,1709, 18.1880, -16.6540,  794,     19.0,  21.8369,  35.8802,2,    211.1,2,   -999.0,9,     2.00,2,     9.00,2,     0.36,2,     0.70,2,    0.284,2,  21.8332
  06M320140530,    41,  1,     22,2,20140621,1709, 18.1880, -16.6540,  794,     27.7,  20.0445,  36.0241,2,    137.7,2,   -999.0,9,     3.48,2,    15.88,2,     0.41,2,     1.08,2,    0.071,2,  20.0393
  06M320140530,    41,  1,     21,2,20140621,1709, 18.1880, -16.6540,  794,     38.8,  17.8921,  35.7300,2,     72.2,2,   -999.0,9,     5.26,2,    20.88,2,     0.09,2,     1.41,2,        0,2,  17.8854
  06M320140530,    41,  1,     20,2,20140621,1709, 18.1880, -16.6540,  794,     49.5,  17.1478,  35.6527,2,     54.6,2,   -999.0,9,     6.01,2,    22.12,2,     0.04,2,     1.48,2,    0.067,2,  17.1396
  06M320140530,    41,  1,     19,2,20140621,1709, 18.1880, -16.6540,  794,     59.5,  16.8798,  35.6401,2,     51.5,2,   -999.0,9,     6.37,2,    22.77,2,     0.05,2,     1.51,2,    0.022,2,  16.8700
  06M320140530,    41,  1,     18,2,20140621,1709, 18.1880, -16.6540,  794,     69.6,  16.7246,  35.6314,2,     49.5,2,   -999.0,9,     6.48,2,    22.93,2,     0.04,2,     1.53,2,    0.022,2,  16.7132
  06M320140530,    41,  1,     17,2,20140621,1709, 18.1880, -16.6540,  794,     78.9,  16.5111,  35.6215,2,     49.8,2,   -999.0,9,     6.63,2,    23.74,2,     0.04,2,     1.56,2,    0.026,2,  16.4983
  06M320140530,    41,  1,     16,2,20140621,1709, 18.1880, -16.6540,  794,     98.6,  16.2415,  35.6082,2,     49.3,2,   -999.0,9,     6.96,2,    23.37,2,     0.04,2,     1.57,2,     0.05,2,  16.2257
  06M320140530,    41,  1,     15,2,20140621,1709, 18.1880, -16.6540,  794,    159.0,  15.6176,  35.5620,2,     41.6,2,     42.1,2,     7.92,2,    25.43,2,     0.03,2,     1.69,2,    0.041,2,  15.5928
  06M320140530,    41,  1,     14,2,20140621,1709, 18.1880, -16.6540,  794,    198.7,  14.7303,  35.4946,2,     55.4,2,   -999.0,9,     7.07,2,    25.61,2,     0.02,2,     1.62,2,        0,2,  14.7004
  06M320140530,    41,  1,     13,2,20140621,1709, 18.1880, -16.6540,  794,    248.3,  14.0368,  35.4589,2,     50.2,2,   -999.0,9,     9.39,2,    27.39,2,     0.02,2,     1.75,2,        0,2,  14.0006
  06M320140530,    41,  1,     12,2,20140621,1709, 18.1880, -16.6540,  794,    299.6,  12.3309,  35.3826,2,     49.8,2,   -999.0,9,    11.21,2,    29.44,2,     0.02,2,     1.85,2,        0,2,  12.2908
  06M320140530,    41,  1,     11,2,20140621,1709, 18.1880, -16.6540,  794,    350.3,  11.4211,  35.3307,2,     48.8,2,   -999.0,9,    12.87,2,    30.98,2,     0.02,2,     1.94,2,        0,2,  11.3764
  06M320140530,    41,  1,     10,2,20140621,1709, 18.1880, -16.6540,  794,    400.4,  10.7240,  35.2750,2,     49.0,2,   -999.0,9,    14.05,2,    31.82,2,     0.01,2,     2.01,2,        0,2,  10.6748
  06M320140530,    41,  1,      9,2,20140621,1709, 18.1880, -16.6540,  794,    501.5,   9.5306,  35.1781,2,     58.6,2,   -999.0,9,    15.22,2,    33.09,2,     0.01,2,     2.11,2,        0,2,   9.4731
  06M320140530,    41,  1,      8,2,20140621,1709, 18.1880, -16.6540,  794,    551.3,   9.0349,  35.1177,2,     60.6,2,   -999.0,9,    17.41,2,    33.51,2,     0.02,2,     2.16,2,        0,2,   8.9735
  06M320140530,    41,  1,      7,2,20140621,1709, 18.1880, -16.6540,  794,    602.6,   8.6035,  35.0707,2,     64.5,2,   -999.0,9,    18.19,2,    34.51,2,     0.02,2,     2.18,2,        0,2,   8.5382
  06M320140530,    41,  1,      6,2,20140621,1709, 18.1880, -16.6540,  794,    652.3,   8.1393,  35.0222,2,     69.2,2,   -999.0,9,    19.57,2,    34.45,2,     0.01,2,     2.24,2,        0,2,   8.0706
  06M320140530,    41,  1,      5,2,20140621,1709, 18.1880, -16.6540,  794,    702.3,   7.5907,  34.9687,2,     76.5,2,     82.8,2,    21.10,2,    34.46,2,     0.00,2,     2.27,2,        0,2,   7.5195
  06M320140530,    41,  1,      4,2,20140621,1709, 18.1880, -16.6540,  794,    745.0,   7.1468,  34.9404,2,     84.8,2,   -999.0,9,    21.91,2,    34.51,2,     0.01,2,     2.26,2,        0,2,   7.0735
  06M320140530,    41,  1,      3,2,20140621,1709, 18.1880, -16.6540,  794,    764.6,   6.9697,  34.9327,2,     90.0,2,   -999.0,9,    22.08,2,    33.75,2,     0.01,2,     2.25,2,        0,2,   6.8954
  06M320140530,    41,  1,      2,2,20140621,1709, 18.1880, -16.6540,  794,    779.1,   6.9401,  34.9321,2,     90.6,2,   -999.0,9,    22.08,2,    33.78,2,     0.01,2,     2.25,2,        0,2,   6.8645
  06M320140530,    41,  1,      1,2,20140621,1709, 18.1880, -16.6540,  794,    788.5,   6.8937,  34.9310,2,     92.2,2,     95.3,2,    22.25,2,    33.44,2,     0.02,2,     2.22,2,        0,2,   6.8174
  06M320140530,    42,  1,     24,2,20140622,0114, 18.1650, -16.7510, 1099,      7.9,  23.1701,  35.8280,2,    205.1,2,   -999.0,9,     0.73,3,     0.16,3,     0.09,2,     0.21,3,     -999,9,  23.1685
  06M320140530,    42,  1,     23,2,20140622,0114, 18.1650, -16.7510, 1099,      9.2,  23.1666,  35.8280,2,    205.4,2,    214.2,2,     0.78,3,     0.14,3,     0.10,2,     0.22,3,     0.58,2,  23.1647
  06M320140530,    42,  1,     22,2,20140622,0114, 18.1650, -16.7510, 1099,     19.3,  22.7757,  35.8390,2,    196.9,2,   -999.0,9,     2.98,3,     9.31,3,     2.20,2,     0.96,3,    0.244,2,  22.7718
  06M320140530,    42,  1,     21,2,20140622,0114, 18.1650, -16.7510, 1099,     29.3,  19.8373,  35.8509,2,    120.4,2,   -999.0,9,     3.92,3,    11.98,3,     2.75,2,     1.18,3,        0,2,  19.8319
  06M320140530,    42,  1,     20,2,20140622,0114, 18.1650, -16.7510, 1099,     39.8,  18.5883,  35.7810,2,     85.9,2,   -999.0,9,     8.11,3,    25.23,3,     0.96,2,     1.81,3,        0,2,  18.5813
  06M320140530,    42,  1,     19,2,20140622,0114, 18.1650, -16.7510, 1099,     49.6,  18.2336,  35.8415,2,     84.1,2,   -999.0,9,    10.99,3,    30.53,3,     0.38,2,     2.13,3,        0,2,  18.2250
  06M320140530,    42,  1,     18,2,20140622,0114, 18.1650, -16.7510, 1099,     59.8,  17.5638,  35.8082,2,     74.2,2,   -999.0,9,    14.76,3,    35.29,3,     0.29,2,     2.46,3,        0,2,  17.5537
  06M320140530,    42,  1,     17,2,20140622,0114, 18.1650, -16.7510, 1099,     69.5,  16.5686,  35.6378,2,     47.2,2,   -999.0,9,    21.06,3,    40.67,3,     0.16,2,     2.89,3,        0,2,  16.5573
  06M320140530,    42,  1,     16,2,20140622,0114, 18.1650, -16.7510, 1099,     79.9,  16.3098,  35.6323,2,     51.2,2,   -999.0,9,    26.88,3,    43.16,3,     0.23,2,     3.12,3,        0,2,  16.2970
  06M320140530,    42,  1,     15,2,20140622,0114, 18.1650, -16.7510, 1099,     98.3,  15.8001,  35.6044,2,     55.9,2,   -999.0,9,    25.81,3,    42.91,3,     0.17,2,     3.04,3,        0,2,  15.7846
  06M320140530,    42,  1,     14,2,20140622,0114, 18.1650, -16.7510, 1099,    148.4,  14.9555,  35.5106,2,     58.4,2,   -999.0,9,    23.04,3,    41.53,3,     0.13,2,     2.91,3,        0,2,  14.9330
  06M320140530,    42,  1,     13,2,20140622,0114, 18.1650, -16.7510, 1099,    199.4,  14.4428,  35.4778,2,     49.1,2,   -999.0,9,    22.44,3,    41.82,3,     0.09,2,     2.86,3,        0,2,  14.4132
  06M320140530,    42,  1,     12,2,20140622,0114, 18.1650, -16.7510, 1099,    350.2,  11.1396,  35.3130,2,     49.6,2,     51.4,2,    31.14,3,    46.50,3,     0.08,2,     3.11,3,        0,2,  11.0956
  06M320140530,    42,  1,     11,2,20140622,0114, 18.1650, -16.7510, 1099,    401.3,  10.7851,  35.2922,2,     51.1,2,   -999.0,9,    24.72,3,    42.82,3,     0.03,2,     2.83,3,        0,2,  10.7356
  06M320140530,    42,  1,     10,2,20140622,0114, 18.1650, -16.7510, 1099,    501.8,   9.8416,  35.2134,2,     57.1,2,   -999.0,9,    25.42,3,    42.02,3,     0.01,2,     2.78,3,        0,2,   9.7829
  06M320140530,    42,  1,      9,2,20140622,0114, 18.1650, -16.7510, 1099,    602.8,   8.7011,  35.0825,2,     64.3,2,   -999.0,9,    26.40,3,    41.54,3,     0.00,2,     2.77,3,        0,2,   8.6353
  06M320140530,    42,  1,      8,2,20140622,0114, 18.1650, -16.7510, 1099,    704.1,   7.6785,  34.9846,2,     78.4,2,   -999.0,9,    27.18,3,    40.39,3,     0.00,2,     2.68,3,        0,2,   7.6066
  06M320140530,    42,  1,      7,2,20140622,0114, 18.1650, -16.7510, 1099,    804.6,   7.0850,  34.9478,2,     91.6,2,   -999.0,9,    26.54,3,    37.60,3,     0.00,2,     2.53,3,        0,2,   7.0059
  06M320140530,    42,  1,      6,2,20140622,0114, 18.1650, -16.7510, 1099,    904.5,   6.4111,  34.9323,2,    109.7,2,   -999.0,9,    22.91,3,    32.39,3,     0.01,2,     2.18,3,        0,2,   6.3261
  06M320140530,    42,  1,      5,2,20140622,0114, 18.1650, -16.7510, 1099,   1007.4,   6.1174,  34.9399,2,    120.1,2,   -999.0,9,    23.53,3,    31.60,3,     0.00,2,     2.12,3,        0,2,   6.0242
  06M320140530,    42,  1,      4,2,20140622,0114, 18.1650, -16.7510, 1099,   1078.2,   5.7864,  34.9642,2,    135.1,2,   -999.0,9,    23.44,3,    29.93,3,     0.01,2,     2.03,3,    0.074,2,   5.6888
  06M320140530,    42,  1,      3,2,20140622,0114, 18.1650, -16.7510, 1099,   1088.4,   5.7604,  34.9656,2,    135.6,2,   -999.0,9,    23.52,3,    29.86,3,     0.01,2,     2.01,3,        0,2,   5.6620
  06M320140530,    42,  1,      2,2,20140622,0114, 18.1650, -16.7510, 1099,   1098.5,   5.7601,  34.9652,2,    135.6,2,   -999.0,9,    23.48,3,    29.46,3,     0.01,2,     2.01,3,        0,2,   5.6607
  06M320140530,    42,  1,      1,2,20140622,0114, 18.1650, -16.7510, 1099,   1104.4,   5.7606,  34.9651,2,    134.9,2,    138.4,2,    23.67,3,    29.38,3,     0.02,2,     2.00,3,        0,2,   5.6606