BOTTLE,20180214PRINUNIVRMK
EXPOCODE,STNNBR,CASTNO,BTLNBR,BTLNBR_FLAG_W,DATE,TIME,LATITUDE,LONGITUDE,DEPTH,CTDPRS,CTDTMP,CTDSAL,CTDSAL_FLAG_W,CTDOXY,CTDOXY_FLAG_W,OXYGEN,OXYGEN_FLAG_W,SILCAT,SILCAT_FLAG_W,NITRAT,NITRAT_FLAG_W,NITRIT,NITRIT_FLAG_W,PHSPHT,PHSPHT_FLAG_W,NH4,NH4_FLAG_W,THETA
,,,,,,,,,METERS,DBAR,ITS-90,PSS-78,,UMOL/KG,,UMOL/KG,,UMOL/KG,,UMOL/KG,,UMOL/KG,,UMOL/KG,,UMOL/KG,,DEG C
  06M320140530,    27,  1,     20,2,20140615,0128, 18.2160, -16.6320,  619,      4.7,  22.4025,  35.7757,2,    210.3,2,    212.2,2,     0.00,2,     3.28,2,     0.29,2,     0.40,2,    0.692,2,  22.4016
  06M320140530,    27,  1,     19,2,20140615,0128, 18.2160, -16.6320,  619,     10.0,  22.3909,  35.7752,2,    209.4,2,   -999.0,9,     0.00,2,     4.22,2,     0.34,2,     0.43,2,    0.761,2,  22.3889
  06M320140530,    27,  1,     18,2,20140615,0128, 18.2160, -16.6320,  619,     15.1,  22.2289,  35.7700,2,    209.9,2,   -999.0,9,     0.40,2,     6.50,2,     0.44,2,     0.57,2,     0.77,2,  22.2259
  06M320140530,    27,  1,     17,2,20140615,0128, 18.2160, -16.6320,  619,     20.3,  21.8786,  35.7575,2,    206.9,2,   -999.0,9,     0.98,2,     8.84,2,     0.52,2,     0.71,2,    0.788,2,  21.8746
  06M320140530,    27,  1,     16,2,20140615,0128, 18.2160, -16.6320,  619,     25.1,  21.1430,  35.7536,2,    176.7,2,   -999.0,9,     1.66,2,    11.19,2,     0.65,2,     0.86,2,    0.761,2,  21.1382
  06M320140530,    27,  1,     15,2,20140615,0128, 18.2160, -16.6320,  619,     30.1,  20.5167,  35.7610,2,    149.0,2,   -999.0,9,     3.36,2,    16.22,2,     0.69,2,     1.16,2,    0.364,2,  20.5110
  06M320140530,    27,  1,     14,2,20140615,0128, 18.2160, -16.6320,  619,     34.9,  19.6829,  35.7611,2,    118.9,2,   -999.0,9,     3.62,2,    17.29,2,     0.73,2,     1.22,2,    0.224,2,  19.6765
  06M320140530,    27,  1,     13,2,20140615,0128, 18.2160, -16.6320,  619,     39.3,  18.1849,  35.7417,2,     76.0,2,   -999.0,9,     4.16,2,    19.24,2,     0.69,2,     1.33,2,     0.12,2,  18.1781
  06M320140530,    27,  1,     12,2,20140615,0128, 18.2160, -16.6320,  619,     44.4,  17.5684,  35.7031,2,     58.2,2,   -999.0,9,     5.64,2,    21.52,2,     0.48,2,     1.47,2,        0,2,  17.5609
  06M320140530,    27,  1,     11,2,20140615,0128, 18.2160, -16.6320,  619,     49.2,  17.3413,  35.6857,2,     49.8,2,   -999.0,9,     6.29,2,    22.45,2,     0.38,2,     1.54,2,        0,2,  17.3331
  06M320140530,    27,  1,     10,2,20140615,0128, 18.2160, -16.6320,  619,     59.9,  16.7698,  35.6418,2,     34.2,2,   -999.0,9,     7.77,2,    24.11,2,     0.17,2,     1.67,2,        0,2,  16.7600
  06M320140530,    27,  1,      9,2,20140615,0128, 18.2160, -16.6320,  619,     68.8,  16.3323,  35.6001,2,     27.2,2,     30.2,2,     8.85,2,    25.02,2,     0.16,2,     1.74,2,        0,2,  16.3212
  06M320140530,    27,  1,      8,2,20140615,0128, 18.2160, -16.6320,  619,    100.0,  15.8448,  35.5752,2,     34.8,2,   -999.0,9,     7.98,2,    25.15,2,     0.03,2,     1.63,2,        0,2,  15.8291
  06M320140530,    27,  1,      7,2,20140615,0128, 18.2160, -16.6320,  619,    150.5,  15.1525,  35.5287,2,     41.6,2,     42.3,2,     8.16,2,    26.59,2,     0.03,2,     1.67,2,        0,2,  15.1295
  06M320140530,    27,  1,      6,2,20140615,0128, 18.2160, -16.6320,  619,    202.1,  14.7748,  35.4950,2,     49.8,2,   -999.0,9,     6.01,3,    26.40,2,     0.03,2,     1.64,2,        0,2,  14.7444
  06M320140530,    27,  1,      5,2,20140615,0128, 18.2160, -16.6320,  619,    274.5,  13.3714,  35.3859,2,     63.9,2,     64.8,2,     7.68,3,    26.50,2,     0.03,2,     1.62,2,        0,2,  13.3327
  06M320140530,    27,  1,      4,2,20140615,0128, 18.2160, -16.6320,  619,    426.0,  11.5900,  35.3543,2,     45.5,2,     44.5,2,    11.72,2,    31.50,2,     0.01,2,     1.88,2,        0,2,  11.5349
  06M320140530,    27,  1,      3,2,20140615,0128, 18.2160, -16.6320,  619,    553.8,   9.8643,  35.1970,2,     52.8,2,     52.5,2,    15.64,2,    33.77,2,     0.02,2,     2.08,2,        0,2,   9.7992
  06M320140530,    27,  1,      2,2,20140615,0128, 18.2160, -16.6320,  619,    603.4,   9.2659,  35.1419,2,     56.9,2,   -999.0,9,    16.96,2,    34.40,2,     0.01,2,     2.13,2,        0,2,   9.1975
  06M320140530,    27,  1,      1,2,20140615,0128, 18.2160, -16.6320,  619,    621.2,   9.0027,  35.1095,2,     60.1,2,     59.4,2,    17.44,2,    33.59,2,     0.02,2,     2.09,2,        0,2,   8.9334
  06M320140530,    28,  1,     23,2,20140615,0454, 18.2090, -16.5930,  410,      3.9,  22.8644,  35.7864,2,    206.3,2,   -999.0,9,     0.00,2,     1.79,2,     0.18,2,     0.28,2,    0.874,2,  22.8636
  06M320140530,    28,  1,     22,2,20140615,0454, 18.2090, -16.5930,  410,      9.1,  22.8644,  35.7912,2,    207.1,2,   -999.0,9,     0.38,2,     3.37,2,     0.26,2,     0.39,2,    0.952,2,  22.8625
  06M320140530,    28,  1,     21,2,20140615,0454, 18.2090, -16.5930,  410,     13.9,  22.8111,  35.7802,2,    204.5,2,    183.2,3,     0.83,2,     5.62,2,     0.42,2,     0.54,2,    0.981,2,  22.8083
  06M320140530,    28,  1,     20,2,20140615,0454, 18.2090, -16.5930,  410,     19.1,  22.7617,  35.7813,2,    204.2,2,   -999.0,9,     2.34,2,    10.05,2,     0.54,2,     0.86,2,    1.074,2,  22.7578
  06M320140530,    28,  1,     19,2,20140615,0454, 18.2090, -16.5930,  410,     23.3,  22.5222,  35.7828,2,    201.1,2,   -999.0,9,     1.81,2,    10.36,2,     0.76,2,     0.87,2,     1.23,2,  22.5175
  06M320140530,    28,  1,     18,2,20140615,0454, 18.2090, -16.5930,  410,     29.1,  20.7104,  35.7345,2,    143.0,2,   -999.0,9,     2.92,2,    15.05,2,     0.79,2,     1.12,2,    0.652,2,  20.7049
  06M320140530,    28,  1,     17,2,20140615,0454, 18.2090, -16.5930,  410,     33.7,  19.9266,  35.7087,2,    121.6,2,   -999.0,9,     3.02,2,    15.86,2,     0.81,2,     1.16,2,    0.781,2,  19.9204
  06M320140530,    28,  1,     16,2,20140615,0454, 18.2090, -16.5930,  410,     38.9,  18.4274,  35.6916,2,     84.0,2,   -999.0,9,     3.67,2,    18.66,2,     0.70,2,     1.28,2,    0.286,2,  18.4206
  06M320140530,    28,  1,     15,2,20140615,0454, 18.2090, -16.5930,  410,     44.0,  17.9437,  35.6797,2,     74.8,2,   -999.0,9,     4.40,2,    20.67,2,     0.59,2,     1.38,2,     0.16,2,  17.9362
  06M320140530,    28,  1,     14,2,20140615,0454, 18.2090, -16.5930,  410,     49.5,  17.1239,  35.6664,2,     48.3,2,   -999.0,9,     6.52,2,    22.81,2,     0.29,2,     1.56,2,        0,2,  17.1157
  06M320140530,    28,  1,     13,2,20140615,0454, 18.2090, -16.5930,  410,     59.5,  16.7046,  35.6255,2,     33.0,2,   -999.0,9,     7.83,2,    24.35,2,     0.17,2,     1.69,2,        0,2,  16.6949
  06M320140530,    28,  1,     12,2,20140615,0454, 18.2090, -16.5930,  410,     68.7,  16.4143,  35.5989,2,     27.7,2,     27.1,2,     8.94,2,    24.82,2,     0.13,2,     1.75,2,        0,2,  16.4032
  06M320140530,    28,  1,     11,2,20140615,0454, 18.2090, -16.5930,  410,     98.1,  15.7368,  35.5635,2,     34.2,2,   -999.0,9,     8.25,2,    25.61,2,     0.08,2,     1.70,2,    0.027,2,  15.7214
  06M320140530,    28,  1,     10,2,20140615,0454, 18.2090, -16.5930,  410,    147.5,  15.4102,  35.5428,2,     35.6,2,   -999.0,9,     8.41,2,    25.96,2,     0.11,2,     1.69,2,        0,2,  15.3874
  06M320140530,    28,  1,      9,2,20140615,0454, 18.2090, -16.5930,  410,    198.0,  14.8388,  35.4989,2,     49.8,2,   -999.0,9,     7.61,2,    25.74,2,     0.03,2,     1.62,2,        0,2,  14.8089
  06M320140530,    28,  1,      7,2,20140615,0454, 18.2090, -16.5930,  410,    229.1,  13.2483,  35.3934,2,     57.6,2,     57.8,2,     9.25,2,    27.77,2,     0.03,2,     1.69,2,        0,2,  13.2162
  06M320140530,    28,  1,      8,2,20140615,0454, 18.2090, -16.5930,  410,    248.6,  13.8747,  35.4234,2,     58.1,2,   -999.0,9,     8.38,2,    26.27,2,     0.03,2,     1.61,2,        0,2,  13.8388
  06M320140530,    28,  1,      6,2,20140615,0454, 18.2090, -16.5930,  410,    330.3,  13.1059,  35.3951,2,     55.5,2,   -999.0,9,     9.81,2,    27.72,2,     0.03,2,     1.71,2,        0,2,  13.0598
  06M320140530,    28,  1,      5,2,20140615,0454, 18.2090, -16.5930,  410,    361.2,  12.7667,  35.4051,2,     53.5,2,   -999.0,9,    10.28,2,    28.62,2,     0.04,2,     1.75,2,        0,2,  12.7171
  06M320140530,    28,  1,      4,2,20140615,0454, 18.2090, -16.5930,  410,    382.0,  12.0300,  35.3792,2,     48.4,2,   -999.0,9,    11.56,2,    30.24,2,     0.03,2,     1.84,2,        0,2,  11.9795
  06M320140530,    28,  1,      3,2,20140615,0454, 18.2090, -16.5930,  410,    392.2,  11.6655,  35.3526,2,     47.3,2,   -999.0,9,    12.16,2,    30.80,2,     0.03,2,     1.87,2,        0,2,  11.6147
  06M320140530,    28,  1,      2,2,20140615,0454, 18.2090, -16.5930,  410,    401.9,  11.4828,  35.3368,2,     47.1,2,     47.2,2,    12.39,2,    31.31,2,     0.03,2,     1.89,2,        0,2,  11.4312
  06M320140530,    28,  1,      1,2,20140615,0454, 18.2090, -16.5930,  410,    408.0,  11.4443,  35.3335,2,     47.2,2,     47.4,2,    12.41,2,    30.41,2,     0.04,2,     1.84,2,        0,2,  11.3920
  06M320140530,    29,  1,     20,2,20140615,0708, 18.2260, -16.5290,  183,      6.6,  22.9614,  35.7984,2,    202.6,2,   -999.0,9,     0.67,2,     3.21,2,     0.31,2,     0.40,2,    0.925,2,  22.9600
  06M320140530,    29,  1,     16,2,20140615,0708, 18.2260, -16.5290,  183,     10.2,  22.7861,  35.8022,2,    197.5,2,    148.0,3,     1.86,2,     8.58,2,     0.70,2,     0.82,2,      1.6,2,  22.7840
  06M320140530,    29,  1,     15,2,20140615,0708, 18.2260, -16.5290,  183,     14.0,  21.2543,  35.7358,2,    155.8,2,   -999.0,9,     1.85,2,     8.46,2,     0.71,2,     0.82,2,    1.478,2,  21.2516
  06M320140530,    29,  1,     14,2,20140615,0708, 18.2260, -16.5290,  183,     19.5,  20.0989,  35.6918,2,    135.5,2,   -999.0,9,     1.96,2,     9.00,2,     0.73,2,     0.87,2,    1.491,2,  20.0953
  06M320140530,    29,  1,     13,2,20140615,0708, 18.2260, -16.5290,  183,     24.6,  19.5924,  35.6764,2,    123.5,2,   -999.0,9,     2.22,2,    10.31,2,     0.80,2,     0.95,2,    1.667,2,  19.5879
  06M320140530,    29,  1,     12,2,20140615,0708, 18.2260, -16.5290,  183,     29.9,  19.1564,  35.6766,2,    111.8,2,   -999.0,9,     3.01,2,    13.49,2,     0.87,2,     1.10,2,      1.7,2,  19.1510
  06M320140530,    29,  1,     11,2,20140615,0708, 18.2260, -16.5290,  183,     34.5,  18.2194,  35.6644,2,     73.6,2,   -999.0,9,     4.03,2,    17.77,2,     0.81,2,     1.29,2,    1.705,2,  18.2134
  06M320140530,    29,  1,     10,2,20140615,0708, 18.2260, -16.5290,  183,     39.8,  17.7198,  35.6531,2,     61.8,2,   -999.0,9,     4.85,2,    19.99,2,     0.70,2,     1.36,2,    1.931,2,  17.7130
  06M320140530,    29,  1,      9,2,20140615,0708, 18.2260, -16.5290,  183,     44.1,  17.4793,  35.6468,2,     58.5,2,   -999.0,9,     5.09,2,    20.89,2,     0.68,2,     1.43,2,    1.352,2,  17.4719
  06M320140530,    29,  1,      8,2,20140615,0708, 18.2260, -16.5290,  183,     49.7,  17.3840,  35.6439,2,     56.5,2,   -999.0,9,     5.19,2,    22.14,2,     0.61,2,     1.42,2,    0.135,2,  17.3757
  06M320140530,    29,  1,      7,2,20140615,0708, 18.2260, -16.5290,  183,     60.6,  16.9534,  35.6345,2,     49.8,2,   -999.0,9,     5.73,2,    23.41,2,     0.36,2,     1.52,2,     0.49,2,  16.9434
  06M320140530,    29,  1,      6,2,20140615,0708, 18.2260, -16.5290,  183,     70.1,  16.7908,  35.6305,2,     48.5,2,     47.1,2,     6.04,2,    23.88,2,     0.25,2,     1.54,2,    0.069,2,  16.7793
  06M320140530,    29,  1,      5,2,20140615,0708, 18.2260, -16.5290,  183,    100.0,  16.2275,  35.6041,2,     36.6,2,   -999.0,9,     7.80,2,    25.67,2,     0.05,2,     1.66,2,        0,2,  16.2115
  06M320140530,    29,  1,      4,2,20140615,0708, 18.2260, -16.5290,  183,    124.7,  16.1304,  35.5947,2,     32.4,2,   -999.0,9,     8.47,2,    25.80,2,     0.05,2,     1.70,2,        0,2,  16.1105
  06M320140530,    29,  1,      3,2,20140615,0708, 18.2260, -16.5290,  183,    150.0,  15.5030,  35.5476,2,     32.7,2,   -999.0,9,     9.51,2,    26.75,2,     0.22,2,     1.74,2,        0,2,  15.4797
  06M320140530,    29,  1,      2,2,20140615,0708, 18.2260, -16.5290,  183,    170.3,  15.3458,  35.5370,2,     34.4,2,   -999.0,9,     9.61,2,    26.60,2,     0.23,2,     1.74,2,        0,2,  15.3195
  06M320140530,    29,  1,      1,2,20140615,0708, 18.2260, -16.5290,  183,    179.7,  15.2894,  35.5346,2,     35.6,2,     34.4,2,     9.47,2,    26.54,2,     0.24,2,     1.69,2,        0,2,  15.2617
  06M320140530,    31,  1,     24,2,20140616,1147, 19.8980, -17.5520,  656,      6.7,  18.3364,  35.6649,2,    190.7,2,   -999.0,9,     0.25,2,    12.84,2,     0.49,2,     0.93,2,    0.301,2,  18.3352
  06M320140530,    31,  1,     20,2,20140616,1147, 19.8980, -17.5520,  656,     11.8,  18.2746,  35.6651,2,    181.7,2,    189.1,2,     0.44,2,    13.46,2,     0.99,2,     0.99,2,    0.389,2,  18.2725
  06M320140530,    31,  1,     19,2,20140616,1147, 19.8980, -17.5520,  656,     15.2,  18.2228,  35.6653,2,    174.0,2,   -999.0,9,     1.61,2,    16.23,2,     1.34,2,     1.15,2,    0.531,2,  18.2202
  06M320140530,    31,  1,     18,2,20140616,1147, 19.8980, -17.5520,  656,     19.6,  18.0980,  35.6679,2,    160.0,2,   -999.0,9,     3.05,2,    19.40,2,     1.34,2,     1.34,2,    0.547,2,  18.0946
  06M320140530,    31,  1,     17,2,20140616,1147, 19.8980, -17.5520,  656,     25.2,  17.8862,  35.6685,2,    137.9,2,   -999.0,9,     4.34,2,    23.12,2,     0.41,2,     1.50,2,     0.46,2,  17.8819
  06M320140530,    31,  1,     16,2,20140616,1147, 19.8980, -17.5520,  656,     30.2,  17.1720,  35.6560,2,     82.7,2,   -999.0,9,     5.34,2,    25.32,2,     0.33,2,     1.60,2,    0.268,2,  17.1670
  06M320140530,    31,  1,     15,2,20140616,1147, 19.8980, -17.5520,  656,     34.6,  16.4510,  35.6407,2,     44.2,2,     39.3,2,     5.83,2,    26.81,2,     0.27,2,     1.66,2,     0.07,2,  16.4454
  06M320140530,    31,  1,     14,2,20140616,1147, 19.8980, -17.5520,  656,     39.8,  16.3307,  35.6550,2,     37.6,2,   -999.0,9,     6.17,2,    27.30,2,     0.19,2,     1.68,2,        0,2,  16.3243
  06M320140530,    31,  1,     13,2,20140616,1147, 19.8980, -17.5520,  656,     50.5,  15.3519,  35.5767,2,     35.2,2,   -999.0,9,     6.91,2,    27.74,2,     0.03,2,     1.69,2,        0,2,  15.3441
  06M320140530,    31,  1,     12,2,20140616,1147, 19.8980, -17.5520,  656,     59.5,  14.9014,  35.5222,2,     41.7,2,   -999.0,9,     7.07,2,    27.79,2,     0.04,2,     1.68,2,        0,2,  14.8924
  06M320140530,    31,  1,     11,2,20140616,1147, 19.8980, -17.5520,  656,     79.9,  14.3491,  35.4636,2,     41.5,2,   -999.0,9,     8.68,2,    28.23,2,     0.06,2,     1.75,2,        0,2,  14.3374
  06M320140530,    31,  1,      7,2,20140616,1147, 19.8980, -17.5520,  656,    102.2,  14.1140,  35.4409,2,     43.7,2,     43.3,2,     8.78,2,    28.69,2,     0.03,2,     1.76,2,        0,2,  14.0991
  06M320140530,    31,  1,      6,2,20140616,1147, 19.8980, -17.5520,  656,    148.2,  13.9534,  35.4304,2,     47.5,2,   -999.0,9,     8.88,2,    27.45,2,     0.01,2,     1.74,2,        0,2,  13.9320
  06M320140530,    31,  1,      5,2,20140616,1147, 19.8980, -17.5520,  656,    198.3,  13.6544,  35.4084,2,     53.6,2,   -999.0,9,     8.95,2,    27.86,2,     0.00,2,     1.71,2,        0,2,  13.6261
  06M320140530,    31,  1,      4,2,20140616,1147, 19.8980, -17.5520,  656,    288.8,  13.4738,  35.5592,3,     59.6,2,     58.9,2,     8.33,2,    27.25,2,     0.01,2,     1.63,2,        0,2,  13.4328
  06M320140530,    31,  1,      3,2,20140616,1147, 19.8980, -17.5520,  656,    420.6,  11.9148,  35.4526,3,     52.2,2,   -999.0,9,    10.46,2,    30.56,2,     0.00,2,     1.80,2,        0,2,  11.8594
  06M320140530,    31,  1,      2,2,20140616,1147, 19.8980, -17.5520,  656,    599.3,   9.5914,  35.1968,2,     65.8,2,     66.6,2,    16.32,2,    32.80,2,     0.02,2,     2.05,2,        0,2,   9.5220
  06M320140530,    31,  1,      1,2,20140616,1147, 19.8980, -17.5520,  656,    658.0,   8.6548,  35.1074,2,     74.7,2,   -999.0,9,    18.00,2,    33.16,2,     0.02,2,     2.10,2,        0,2,   8.5830
  06M320140530,    32,  1,     18,2,20140619,2249, 18.1870, -16.6550,  798,      6.4,  23.0723,-999.0000,5,   -999.0,5,   -999.0,9,     0.77,2,     0.13,2,     0.06,2,     0.19,2,     0.38,2,-999.0000
  06M320140530,    32,  1,     17,2,20140619,2249, 18.1870, -16.6550,  798,      9.9,  22.6851,-999.0000,5,   -999.0,5,    216.6,2,     0.78,2,     0.41,2,     0.12,2,     0.21,2,    0.409,2,-999.0000
  06M320140530,    32,  1,     16,2,20140619,2249, 18.1870, -16.6550,  798,     15.0,  21.3033,-999.0000,5,   -999.0,5,   -999.0,9,     1.23,2,     4.97,2,     0.99,2,     0.58,2,    1.101,2,-999.0000
  06M320140530,    32,  1,     15,2,20140619,2249, 18.1870, -16.6550,  798,     19.9,  20.3222,-999.0000,5,   -999.0,5,   -999.0,9,     1.52,2,     6.95,2,     1.15,2,     0.70,2,    1.048,2,-999.0000
  06M320140530,    32,  1,     14,2,20140619,2249, 18.1870, -16.6550,  798,     24.3,  19.6634,-999.0000,5,   -999.0,5,   -999.0,9,     2.23,2,     9.93,2,     0.90,2,     0.80,2,    0.424,2,-999.0000
  06M320140530,    32,  1,     13,2,20140619,2249, 18.1870, -16.6550,  798,     29.7,  17.5309,-999.0000,5,   -999.0,5,   -999.0,9,     4.73,2,    19.57,2,     0.11,2,     1.34,2,        0,2,-999.0000
  06M320140530,    32,  1,     12,2,20140619,2249, 18.1870, -16.6550,  798,     34.4,  16.9448,-999.0000,5,   -999.0,5,   -999.0,9,     5.30,2,    21.64,2,     0.07,2,     1.42,2,        0,2,-999.0000
  06M320140530,    32,  1,     11,2,20140619,2249, 18.1870, -16.6550,  798,     39.7,  16.9044,-999.0000,5,   -999.0,5,   -999.0,9,     5.66,2,    21.81,2,     0.08,2,     1.44,2,        0,2,-999.0000
  06M320140530,    32,  1,     10,2,20140619,2249, 18.1870, -16.6550,  798,     50.0,  16.5840,-999.0000,5,   -999.0,5,   -999.0,9,     6.42,2,    23.22,2,     0.07,2,     1.54,2,        0,2,-999.0000
  06M320140530,    32,  1,      9,2,20140619,2249, 18.1870, -16.6550,  798,     59.3,  16.4302,-999.0000,5,   -999.0,5,   -999.0,9,     6.68,2,    23.38,2,     0.05,2,     1.56,2,        0,2,-999.0000
  06M320140530,    32,  1,      8,2,20140619,2249, 18.1870, -16.6550,  798,     80.1,  16.2369,-999.0000,5,   -999.0,5,   -999.0,9,     6.77,2,    23.62,2,     0.05,2,     1.58,2,        0,2,-999.0000
  06M320140530,    32,  1,      7,2,20140619,2249, 18.1870, -16.6550,  798,     99.8,  16.1444,-999.0000,5,   -999.0,5,   -999.0,9,     6.82,2,    23.95,2,     0.03,2,     1.58,2,        0,2,-999.0000
  06M320140530,    32,  1,      6,2,20140619,2249, 18.1870, -16.6550,  798,    125.4,  15.7141,-999.0000,5,   -999.0,5,   -999.0,9,     7.15,2,    24.76,2,     0.03,2,     1.61,2,        0,2,-999.0000
  06M320140530,    32,  1,      4,2,20140619,2249, 18.1870, -16.6550,  798,    151.4,  15.6124,-999.0000,5,   -999.0,5,   -999.0,9,     7.20,2,    24.77,2,     0.03,2,     1.62,2,        0,2,-999.0000
  06M320140530,    32,  1,      3,2,20140619,2249, 18.1870, -16.6550,  798,    174.8,  14.9516,-999.0000,5,   -999.0,5,   -999.0,9,     7.65,2,    25.43,2,     0.04,2,     1.65,2,        0,2,-999.0000
  06M320140530,    32,  1,      2,2,20140619,2249, 18.1870, -16.6550,  798,    200.1,  14.7329,-999.0000,5,   -999.0,5,   -999.0,9,     8.44,2,    26.79,2,     0.06,2,     1.69,2,        0,2,-999.0000
  06M320140530,    32,  1,      1,2,20140619,2249, 18.1870, -16.6550,  798,    805.9,   7.2942,-999.0000,5,   -999.0,5,     83.1,2,    21.94,2,    33.18,2,     0.03,2,     2.25,2,        0,2,-999.0000