BOTTLE,20180214PRINUNIVRMK
EXPOCODE,STNNBR,CASTNO,BTLNBR,BTLNBR_FLAG_W,DATE,TIME,LATITUDE,LONGITUDE,DEPTH,CTDPRS,CTDTMP,CTDSAL,CTDSAL_FLAG_W,CTDOXY,CTDOXY_FLAG_W,OXYGEN,OXYGEN_FLAG_W,SILCAT,SILCAT_FLAG_W,NITRAT,NITRAT_FLAG_W,NITRIT,NITRIT_FLAG_W,PHSPHT,PHSPHT_FLAG_W,NH4,NH4_FLAG_W,THETA
,,,,,,,,,METERS,DBAR,ITS-90,PSS-78,,UMOL/KG,,UMOL/KG,,UMOL/KG,,UMOL/KG,,UMOL/KG,,UMOL/KG,,UMOL/KG,,DEG C
  06M320140530,    15,  1,     22,2,20140612,0410, 18.1500, -16.7960, 1241,      9.0,  19.8953,  35.6900,2,    210.7,2,   -999.0,9,     0.00,2,     6.23,2,     0.51,2,     0.54,2,    0.558,2,  19.8936
  06M320140530,    15,  1,     21,2,20140612,0410, 18.1500, -16.7960, 1241,     18.9,  19.8950,  35.6890,2,    210.2,2,    210.9,2,     0.00,2,     6.26,2,     0.59,2,     0.51,2,    0.771,2,  19.8915
  06M320140530,    15,  1,     20,2,20140612,0410, 18.1500, -16.7960, 1241,     28.8,  19.8909,  35.6877,2,    209.4,2,   -999.0,9,     0.38,2,    10.21,2,     0.82,2,     0.77,2,    0.611,2,  19.8856
  06M320140530,    15,  1,     19,2,20140612,0410, 18.1500, -16.7960, 1241,     39.0,  19.4561,  35.6966,2,    150.5,2,   -999.0,9,     4.15,2,    21.29,2,     0.92,2,     1.40,2,    0.244,2,  19.4490
  06M320140530,    15,  1,     18,2,20140612,0410, 18.1500, -16.7960, 1241,     49.0,  16.7566,  35.6480,2,     48.1,2,   -999.0,9,     5.87,2,    25.50,2,     0.35,2,     1.61,2,        0,2,  16.7486
  06M320140530,    15,  1,     17,2,20140612,0410, 18.1500, -16.7960, 1241,     59.3,  15.9359,  35.6017,2,     38.2,2,   -999.0,9,     6.84,2,    26.64,2,     0.06,2,     1.69,2,        0,2,  15.9265
  06M320140530,    15,  1,     16,2,20140612,0410, 18.1500, -16.7960, 1241,     69.4,  15.0510,  35.5145,2,     39.4,2,     43.8,2,     7.93,2,    26.24,2,     0.06,2,     1.70,2,        0,2,  15.0405
  06M320140530,    15,  1,     15,2,20140612,0410, 18.1500, -16.7960, 1241,     79.2,  14.8472,  35.5026,2,     50.9,2,   -999.0,9,     7.60,2,    26.65,2,     0.04,2,     1.66,2,        0,2,  14.8353
  06M320140530,    15,  1,     14,2,20140612,0410, 18.1500, -16.7960, 1241,    100.3,  14.5365,  35.4730,2,     60.9,2,   -999.0,9,     7.94,2,    26.07,2,     0.03,2,     1.67,2,        0,2,  14.5216
  06M320140530,    15,  1,     13,2,20140612,0410, 18.1500, -16.7960, 1241,    148.5,  14.1023,  35.4376,2,     61.3,2,   -999.0,9,     7.85,2,    25.99,2,     0.04,2,     1.65,2,        0,2,  14.0807
  06M320140530,    15,  1,     12,2,20140612,0410, 18.1500, -16.7960, 1241,    198.1,  13.8519,  35.4256,2,     61.8,2,     59.9,2,     8.21,2,    26.08,2,     0.04,2,     1.67,2,        0,2,  13.8234
  06M320140530,    15,  1,     11,2,20140612,0410, 18.1500, -16.7960, 1241,    300.4,  12.6376,  35.4088,2,     54.4,2,   -999.0,9,     9.76,2,    29.40,2,     0.02,2,     1.76,2,        0,2,  12.5967
  06M320140530,    15,  1,      8,2,20140612,0410, 18.1500, -16.7960, 1241,    452.7,  11.2330,  35.3340,2,     43.3,2,     44.1,2,    12.52,2,    32.53,2,     0.01,2,     1.97,2,        0,2,  11.1756
  06M320140530,    15,  1,      7,2,20140612,0410, 18.1500, -16.7960, 1241,    501.5,  10.8319,  35.3157,2,     52.4,2,   -999.0,9,    13.72,2,    32.56,2,     0.01,2,     1.98,2,        0,2,  10.7696
  06M320140530,    15,  1,      6,2,20140612,0410, 18.1500, -16.7960, 1241,    602.6,   9.7334,  35.2043,2,     60.1,2,     60.0,2,    15.24,2,    33.63,2,     0.00,2,     2.06,2,        0,2,   9.6630
  06M320140530,    15,  1,      5,2,20140612,0410, 18.1500, -16.7960, 1241,    703.2,   8.4695,  35.0778,2,     75.1,2,   -999.0,9,    18.33,2,    33.60,2,     0.00,2,     2.15,2,        0,2,   8.3935
  06M320140530,    15,  1,      4,2,20140612,0410, 18.1500, -16.7960, 1241,    805.5,   7.3622,  34.9756,2,     89.9,2,   -999.0,9,    20.92,2,    34.02,2,     0.00,2,     2.20,2,        0,2,   7.2813
  06M320140530,    15,  1,      3,2,20140612,0410, 18.1500, -16.7960, 1241,   1007.4,   6.1710,  34.9427,2,    121.2,2,   -999.0,9,    22.77,2,    31.15,2,     0.01,2,     2.10,2,        0,2,   6.0774
  06M320140530,    15,  1,      2,2,20140612,0410, 18.1500, -16.7960, 1241,   1209.6,   5.4064,  34.9931,2,    154.7,2,   -999.0,9,    23.10,2,    27.59,2,     0.01,2,     1.88,2,        0,2,   5.2992
  06M320140530,    15,  1,      1,2,20140612,0410, 18.1500, -16.7960, 1241,   1249.6,   5.0975,  34.9939,2,    164.9,2,   -999.0,9,    23.52,2,    26.16,2,     0.01,2,     1.85,2,        0,2,   4.9892
  06M320140530,    16,  1,      7,2,20140612,1519, 18.2330, -16.5160,  166,      6.3,  20.1667,  35.6938,2,    276.5,2,   -999.0,9,     0.00,2,     1.87,2,     0.22,2,     0.42,2,     -999,9,  20.1655
  06M320140530,    16,  1,      6,2,20140612,1519, 18.2330, -16.5160,  166,     11.4,  19.8480,  35.6892,2,    276.0,2,   -999.0,9,     0.00,2,     1.26,2,     0.23,2,     0.41,2,     -999,9,  19.8459
  06M320140530,    16,  1,      5,2,20140612,1519, 18.2330, -16.5160,  166,     31.4,  18.3085,  35.6515,2,     99.5,2,   -999.0,9,     2.95,2,    17.49,2,     0.58,2,     1.22,2,     -999,9,  18.3030
  06M320140530,    16,  1,      4,2,20140612,1519, 18.2330, -16.5160,  166,     51.4,  16.9764,  35.6316,2,     56.0,2,   -999.0,9,     6.07,2,    24.78,2,     0.33,2,     1.55,2,     -999,9,  16.9679
  06M320140530,    16,  1,      3,2,20140612,1519, 18.2330, -16.5160,  166,     91.3,  16.1826,  35.5950,2,     36.1,2,   -999.0,9,     8.22,2,    27.13,2,     0.17,2,     1.71,2,     -999,9,  16.1680
  06M320140530,    16,  1,      2,2,20140612,1519, 18.2330, -16.5160,  166,    131.4,  15.9863,  35.5821,2,     29.7,2,   -999.0,9,     9.49,2,    27.03,2,     0.31,2,     1.80,2,     -999,9,  15.9655
  06M320140530,    16,  1,      1,2,20140612,1519, 18.2330, -16.5160,  166,    160.0,  15.4779,  35.5506,2,     31.5,2,   -999.0,9,     9.67,2,    26.53,2,     0.53,2,     1.81,2,     -999,9,  15.4531
  06M320140530,    17,  1,     24,2,20140612,1812, 18.2330, -16.5160,  166,      6.3,  19.9306,  35.6860,2,    258.8,2,    259.7,2,     0.00,2,     2.50,2,     0.24,2,     0.45,2,    0.175,2,  19.9294
  06M320140530,    17,  1,     19,2,20140612,1812, 18.2330, -16.5160,  166,     16.3,  19.2779,  35.6688,2,    182.0,2,    150.2,3,     1.79,2,    11.40,2,     0.51,2,     0.87,2,    0.316,2,  19.2750
  06M320140530,    17,  1,     18,2,20140612,1812, 18.2330, -16.5160,  166,     19.6,  18.9942,  35.6668,2,    147.4,2,   -999.0,9,     3.25,2,    15.31,2,     0.58,2,     1.12,2,    0.411,2,  18.9907
  06M320140530,    17,  1,     15,2,20140612,1812, 18.2330, -16.5160,  166,     31.2,  18.6240,  35.6559,2,    114.5,2,   -999.0,9,     4.95,2,    18.96,2,     0.51,2,     1.33,2,    0.227,2,  18.6185
  06M320140530,    17,  1,     14,2,20140612,1812, 18.2330, -16.5160,  166,     39.8,  17.9542,  35.6715,2,     86.7,2,   -999.0,9,     6.64,2,    22.44,2,     0.39,2,     1.54,2,        0,2,  17.9474
  06M320140530,    17,  1,     13,2,20140612,1812, 18.2330, -16.5160,  166,     49.5,  16.6925,  35.6272,2,     52.3,2,   -999.0,9,     7.48,2,    24.59,2,     0.27,2,     1.70,2,        0,2,  16.6844
  06M320140530,    17,  1,     12,2,20140612,1812, 18.2330, -16.5160,  166,     61.1,  16.0786,  35.5872,2,     29.4,2,   -999.0,9,     9.22,2,    25.28,2,     0.22,2,     1.77,2,        0,2,  16.0689
  06M320140530,    17,  1,     11,2,20140612,1812, 18.2330, -16.5160,  166,     81.0,  16.0438,  35.5854,2,     28.7,2,     29.3,2,     9.34,2,    25.77,2,     0.29,2,     1.79,2,        0,2,  16.0309
  06M320140530,    17,  1,      8,2,20140612,1812, 18.2330, -16.5160,  166,    100.9,  15.9718,  35.5811,2,     29.6,2,     29.4,2,     9.29,2,    25.41,2,     0.26,2,     1.78,2,        0,2,  15.9558
  06M320140530,    17,  1,      7,2,20140612,1812, 18.2330, -16.5160,  166,    131.1,  15.9007,  35.5773,2,     29.1,2,   -999.0,9,     9.42,2,    25.59,2,     0.38,2,     1.79,2,        0,2,  15.8800
  06M320140530,    17,  1,      4,2,20140612,1812, 18.2330, -16.5160,  166,    159.1,  15.5551,  35.5555,2,     30.5,2,   -999.0,9,     9.77,2,    25.66,2,     0.55,2,     1.82,2,        0,2,  15.5303
  06M320140530,    17,  1,      3,2,20140612,1812, 18.2330, -16.5160,  166,    163.0,  15.5037,  35.5526,2,     30.8,2,     29.2,2,     9.82,2,    25.52,2,     0.55,2,     1.81,2,        0,2,  15.4784
  06M320140530,    18,  1,     17,2,20140613,0157, 18.2450, -16.5420,  296,      6.4,  19.5525,  35.6706,2,    171.8,2,   -999.0,9,     0.05,2,     8.37,2,     0.38,2,     0.57,2,    0.488,2,  19.5513
  06M320140530,    18,  1,     16,2,20140613,0157, 18.2450, -16.5420,  296,      9.9,  19.5833,  35.6734,2,    173.3,2,   -999.0,9,     1.41,2,    10.73,2,     0.47,2,     0.80,2,    0.927,2,  19.5815
  06M320140530,    18,  1,     15,2,20140613,0157, 18.2450, -16.5420,  296,     14.6,  19.0313,  35.6982,2,    142.0,2,   -999.0,9,     3.91,2,    17.05,2,     0.55,2,     1.20,2,     0.38,2,  19.0287
  06M320140530,    18,  1,     14,2,20140613,0157, 18.2450, -16.5420,  296,     19.7,  18.1030,  35.6649,2,     78.3,2,   -999.0,9,     5.11,2,    19.95,2,     0.56,2,     1.36,2,        0,2,  18.0996
  06M320140530,    18,  1,     13,2,20140613,0157, 18.2450, -16.5420,  296,     29.4,  17.5353,  35.6489,2,     62.1,2,   -999.0,9,     6.16,2,    21.75,2,     0.43,2,     1.49,2,        0,2,  17.5303
  06M320140530,    18,  1,     12,2,20140613,0157, 18.2450, -16.5420,  296,     38.6,  16.8189,  35.6269,2,     44.6,2,   -999.0,9,     6.97,2,    23.73,2,     0.19,2,     1.57,2,        0,2,  16.8126
  06M320140530,    18,  1,     11,2,20140613,0157, 18.2450, -16.5420,  296,     49.7,  16.6532,  35.6208,2,     44.6,2,   -999.0,9,     6.83,2,    24.16,2,     0.21,2,     1.57,2,        0,2,  16.6451
  06M320140530,    18,  1,     10,2,20140613,0157, 18.2450, -16.5420,  296,     59.8,  16.5382,  35.6182,2,     46.1,2,   -999.0,9,     6.64,2,    23.99,2,     0.22,2,     1.54,2,        0,2,  16.5285
  06M320140530,    18,  1,      9,2,20140613,0157, 18.2450, -16.5420,  296,     80.0,  16.2059,  35.5999,2,     40.3,2,   -999.0,9,     7.02,2,    25.69,2,     0.12,2,     1.57,2,        0,2,  16.1931
  06M320140530,    18,  1,      8,2,20140613,0157, 18.2450, -16.5420,  296,     99.2,  16.0716,  35.5915,2,     40.1,2,     41.2,2,     7.37,2,    25.10,2,     0.13,2,     1.63,2,        0,2,  16.0558
  06M320140530,    18,  1,      7,2,20140613,0157, 18.2450, -16.5420,  296,    149.9,  15.6067,  35.5604,2,     37.1,2,   -999.0,9,     8.60,2,    26.13,2,     0.20,2,     1.72,2,        0,2,  15.5833
  06M320140530,    18,  1,      6,2,20140613,0157, 18.2450, -16.5420,  296,    200.7,  14.9902,  35.5165,2,     40.0,2,   -999.0,9,     9.10,2,    26.24,2,     0.25,2,     1.71,2,        0,2,  14.9597
  06M320140530,    18,  1,      5,2,20140613,0157, 18.2450, -16.5420,  296,    241.0,  14.4714,  35.4815,2,     49.1,2,     52.6,2,     8.96,2,    26.44,2,     0.12,2,     1.67,2,    0.032,2,  14.4356
  06M320140530,    18,  1,      4,2,20140613,0157, 18.2450, -16.5420,  296,    271.8,  13.9511,  35.4433,2,     55.9,2,   -999.0,9,     9.23,2,    27.10,2,     0.08,2,     1.68,2,        0,2,  13.9117
  06M320140530,    18,  1,      3,2,20140613,0157, 18.2450, -16.5420,  296,    284.8,  13.5798,  35.4228,2,     54.5,2,   -999.0,9,    10.03,2,    27.45,2,     0.08,2,     1.70,2,    0.012,2,  13.5392
  06M320140530,    18,  1,      2,2,20140613,0157, 18.2450, -16.5420,  296,    289.8,  13.3136,  35.4088,2,     54.9,2,     54.3,2,    10.24,2,    27.67,2,     0.09,2,     1.71,2,    0.045,2,  13.2728
  06M320140530,    18,  1,      1,2,20140613,0157, 18.2450, -16.5420,  296,    293.9,  13.3054,  35.4107,2,     54.7,2,     55.2,2,    10.24,2,    26.21,2,     0.10,2,     1.67,2,    0.053,2,  13.2640
  06M320140530,    19,  1,     21,2,20140613,0540, 18.2170, -16.5540,  239,      4.5,  20.1859,  35.6737,2,    224.4,2,   -999.0,9,     0.00,2,     4.65,2,     0.38,2,     0.50,2,     0.66,2,  20.1851
  06M320140530,    19,  1,     20,2,20140613,0540, 18.2170, -16.5540,  239,      9.1,  20.1855,  35.6739,2,    225.4,2,   -999.0,9,     0.04,2,     5.27,2,     0.43,2,     0.57,2,    0.848,2,  20.1838
  06M320140530,    19,  1,     19,2,20140613,0540, 18.2170, -16.5540,  239,     19.3,  19.9651,  35.6779,2,    188.3,2,   -999.0,9,     0.92,2,     9.16,2,     0.52,2,     0.74,2,    0.877,2,  19.9615
  06M320140530,    19,  1,     18,2,20140613,0540, 18.2170, -16.5540,  239,     29.6,  19.2120,  35.6801,2,    145.5,2,    165.6,2,     5.46,2,    19.59,2,     0.58,2,     1.41,2,    0.382,2,  19.2067
  06M320140530,    19,  1,     17,2,20140613,0540, 18.2170, -16.5540,  239,     39.7,  17.5021,  35.6500,2,     50.1,2,   -999.0,9,     6.95,2,    22.84,2,     0.54,2,     1.60,2,    0.355,2,  17.4954
  06M320140530,    19,  1,     16,2,20140613,0540, 18.2170, -16.5540,  239,     49.3,  17.0517,  35.6317,2,     35.1,2,   -999.0,9,     7.85,2,    24.43,2,     0.13,2,     1.70,2,        0,2,  17.0435
  06M320140530,    19,  1,     15,2,20140613,0540, 18.2170, -16.5540,  239,     59.9,  16.7468,  35.6131,2,     32.4,2,   -999.0,9,     8.79,2,    24.75,2,     0.08,2,     1.71,2,    0.008,2,  16.7370
  06M320140530,    19,  1,     14,2,20140613,0540, 18.2170, -16.5540,  239,     70.0,  16.5411,  35.6062,2,     30.6,2,   -999.0,9,     8.42,2,    25.00,2,     0.05,2,     1.72,2,        0,2,  16.5297
  06M320140530,    19,  1,     13,2,20140613,0540, 18.2170, -16.5540,  239,     79.5,  16.3657,  35.5981,2,     31.5,2,     30.7,2,     8.47,2,    25.32,2,     0.05,2,     1.70,2,        0,2,  16.3529
  06M320140530,    19,  1,     12,2,20140613,0540, 18.2170, -16.5540,  239,     89.8,  16.2655,  35.5931,2,     32.4,2,   -999.0,9,     8.53,2,    24.91,2,     0.04,2,     1.71,2,    0.003,2,  16.2511
  06M320140530,    19,  1,     11,2,20140613,0540, 18.2170, -16.5540,  239,     99.4,  16.1821,  35.5931,2,     33.9,2,   -999.0,9,     8.41,2,    24.97,2,     0.05,2,     1.68,2,        0,2,  16.1662
  06M320140530,    19,  1,     10,2,20140613,0540, 18.2170, -16.5540,  239,    130.0,  15.8241,  35.5765,2,     37.0,2,   -999.0,9,     8.20,2,    25.80,2,     0.37,2,     1.72,2,        0,2,  15.8036
  06M320140530,    19,  1,      9,2,20140613,0540, 18.2170, -16.5540,  239,    149.7,  15.5650,  35.5634,2,     32.2,2,     32.0,2,     8.91,2,    26.50,2,     0.37,2,     1.69,2,        0,2,  15.5417
  06M320140530,    19,  1,      8,2,20140613,0540, 18.2170, -16.5540,  239,    179.9,  14.7457,  35.4991,2,     48.5,2,   -999.0,9,     8.36,2,    26.28,2,     0.11,2,     1.67,2,    0.005,2,  14.7187
  06M320140530,    19,  1,      7,2,20140613,0540, 18.2170, -16.5540,  239,    200.5,  14.5742,  35.4876,2,     50.3,2,   -999.0,9,     8.50,2,    26.39,2,     0.12,2,     1.68,2,    0.001,2,  14.5443
  06M320140530,    19,  1,      6,2,20140613,0540, 18.2170, -16.5540,  239,    210.8,  14.5429,  35.4856,2,     48.2,2,   -999.0,9,     8.76,2,    26.53,2,     0.12,2,     1.69,2,    0.001,2,  14.5115
  06M320140530,    19,  1,      5,2,20140613,0540, 18.2170, -16.5540,  239,    215.9,  14.5223,  35.4839,2,     48.6,2,   -999.0,9,     8.85,2,    26.53,2,     0.13,2,     1.69,2,    0.001,2,  14.4902
  06M320140530,    19,  1,      4,2,20140613,0540, 18.2170, -16.5540,  239,    221.0,  14.4949,  35.4823,2,     49.1,2,   -999.0,9,     8.80,2,    26.60,2,     0.13,2,     1.69,2,    0.016,2,  14.4620
  06M320140530,    19,  1,      3,2,20140613,0540, 18.2170, -16.5540,  239,    224.5,  14.4738,  35.4807,2,     49.4,2,   -999.0,9,     8.88,2,    26.42,2,     0.13,2,     1.74,2,    0.001,2,  14.4405
  06M320140530,    19,  1,      2,2,20140613,0540, 18.2170, -16.5540,  239,    228.1,  14.4558,  35.4796,2,     49.1,2,   -999.0,9,     8.90,2,    25.96,2,     0.13,2,     1.67,2,    0.018,2,  14.4219
  06M320140530,    19,  1,      1,2,20140613,0540, 18.2170, -16.5540,  239,    234.9,  14.4375,  35.4787,2,     49.1,2,     49.3,2,     9.14,2,    25.52,2,     0.14,2,     1.63,2,    0.041,2,  14.4026
  06M320140530,    20,  1,     13,2,20140613,2017, 18.2880, -16.3150,   46,      6.0,  20.6109,  35.7056,2,    250.9,2,   -999.0,9,     0.00,2,     1.68,2,     0.30,2,     0.38,2,    6.439,2,  20.6098
  06M320140530,    20,  1,     12,2,20140613,2017, 18.2880, -16.3150,   46,     11.2,  20.4560,  35.7021,2,    240.0,2,   -999.0,9,     0.17,2,     3.28,2,     0.42,2,     0.54,2,    7.004,2,  20.4539
  06M320140530,    20,  1,     11,2,20140613,2017, 18.2880, -16.3150,   46,     16.4,  19.8791,  35.6919,2,    171.1,2,   -999.0,9,     2.35,2,     8.23,3,     0.82,2,     1.05,2,     7.32,2,  19.8761
  06M320140530,    20,  1,     10,2,20140613,2017, 18.2880, -16.3150,   46,     20.8,  19.0418,  35.7124,2,    116.7,2,   -999.0,9,     5.18,2,     8.20,3,     0.73,2,     1.41,2,    7.853,2,  19.0381
  06M320140530,    20,  1,      9,2,20140613,2017, 18.2880, -16.3150,   46,     26.4,  18.9733,  35.7140,2,    118.0,2,    124.3,2,     5.90,2,     7.95,3,     0.67,2,     1.41,2,    6.468,2,  18.9686
  06M320140530,    20,  1,      6,2,20140613,2017, 18.2880, -16.3150,   46,     30.3,  18.9569,  35.7172,2,    119.5,2,    119.3,2,     6.35,2,     7.69,3,     0.62,2,     1.42,2,    6.384,2,  18.9515
  06M320140530,    20,  1,      5,2,20140613,2017, 18.2880, -16.3150,   46,     35.9,  18.9548,  35.7178,2,    118.8,2,   -999.0,9,     6.96,2,     7.55,3,     0.58,2,     1.41,2,    4.041,2,  18.9484
  06M320140530,    20,  1,      4,2,20140613,2017, 18.2880, -16.3150,   46,     40.6,  18.8135,  35.7276,2,    113.1,2,    120.3,2,     7.19,2,     7.61,3,     0.57,2,     1.41,2,    1.677,2,  18.8063
  06M320140530,    20,  1,      3,2,20140613,2017, 18.2880, -16.3150,   46,     44.8,  18.7451,  35.7279,2,    110.6,2,    119.6,2,     8.04,2,     7.44,3,     0.56,2,     1.44,2,    0.637,2,  18.7372