BOTTLE,20191021PRINUNIVRMK
EXPOCODE,SECT_ID,STNNBR,CASTNO,SAMPNO,BTLNBR,BTLNBR_FLAG_W,DATE,TIME,LATITUDE,LONGITUDE,DEPTH,CTDPRS,CTDTMP,CTDSAL,CTDSAL_FLAG_W,SALNTY,SALNTY_FLAG_W,OXYGEN,OXYGEN_FLAG_W,SILCAT,SILCAT_FLAG_W,NITRAT,NITRAT_FLAG_W,NITRIT,NITRIT_FLAG_W,PHSPHT,PHSPHT_FLAG_W,TCARBN,TCARBN_FLAG_W,ALKALI,ALKALI_FLAG_W,PH_TOT,PH_TOT_FLAG_W,PH_TMP,BTL_TIME
,,,,,,,,,,,METERS,DBAR,ITS-90,PSS-78,,PSS-78,,UMOL/KG,,UMOL/KG,,UMOL/KG,,UMOL/KG,,UMOL/KG,,UMOL/KG,,UMOL/KG,,,,DEG C,
  49UF20130627,KS1306,  3967,  1,     99,     99,2,20130731,0320,  3.9942, 164.9873, 4490,      0.0,  29.8010,  34.4967,2,-999.0000,9,    193.3,2,     1.11,2,     0.03,2,     0.00,2,     0.13,2,   -999.0,9,   -999.0,9,-999.0000,9,  -999.00,      449
  49UF20130627,KS1306,  3967,  1,     36,  21995,2,20130731,0320,  3.9942, 164.9873, 4490,     11.2,  29.8026,  34.4984,2,-999.0000,9,    194.0,2,     1.11,2,     0.01,2,     0.00,2,     0.13,2,   -999.0,9,   -999.0,9,-999.0000,9,  -999.00,      513
  49UF20130627,KS1306,  3967,  1,     35,  22087,2,20130731,0320,  3.9942, 164.9873, 4490,     26.5,  29.6780,  34.4977,2,-999.0000,9,    194.3,2,     1.11,2,     0.00,2,     0.00,2,     0.13,2,   -999.0,9,   -999.0,9,-999.0000,9,  -999.00,      512
  49UF20130627,KS1306,  3967,  1,     34,  21971,2,20130731,0320,  3.9942, 164.9873, 4490,     51.2,  29.6743,  34.5019,2,-999.0000,9,    194.5,2,     1.10,2,     0.00,2,     0.00,2,     0.13,2,   -999.0,9,   -999.0,9,-999.0000,9,  -999.00,      510
  49UF20130627,KS1306,  3967,  1,     33,  21992,2,20130731,0320,  3.9942, 164.9873, 4490,     78.0,  29.6775,  34.5204,2,-999.0000,9,    194.3,2,     1.18,2,     0.00,2,     0.00,2,     0.13,2,   -999.0,9,   -999.0,9,-999.0000,9,  -999.00,      509
  49UF20130627,KS1306,  3967,  1,     32,  21991,2,20130731,0320,  3.9942, 164.9873, 4490,    102.9,  29.5928,  34.5409,2,-999.0000,9,    194.0,2,     1.18,2,     0.00,2,     0.00,2,     0.14,2,   -999.0,9,   -999.0,9,-999.0000,9,  -999.00,      507
  49UF20130627,KS1306,  3967,  1,     31,  21990,2,20130731,0320,  3.9942, 164.9873, 4490,    127.4,  25.9971,  34.7439,2,-999.0000,9,    165.6,2,     2.53,2,     2.06,2,     0.28,2,     0.31,2,   -999.0,9,   -999.0,9,-999.0000,9,  -999.00,      506
  49UF20130627,KS1306,  3967,  1,     30,  21989,2,20130731,0320,  3.9942, 164.9873, 4490,    154.0,  20.6556,  34.8482,2,-999.0000,9,    140.7,2,     6.51,2,     8.43,2,     0.03,2,     0.71,2,   -999.0,9,   -999.0,9,-999.0000,9,  -999.00,      502
  49UF20130627,KS1306,  3967,  1,     29,  21988,2,20130731,0320,  3.9942, 164.9873, 4490,    204.8,  11.3667,  34.5426,2,-999.0000,9,     77.9,6,    28.11,6,    26.63,6,     0.00,6,     1.97,6,   -999.0,9,   -999.0,9,-999.0000,9,  -999.00,      501
  49UF20130627,KS1306,  3967,  1,     28,  21987,2,20130731,0320,  3.9942, 164.9873, 4490,    255.3,   9.2172,  34.5214,2,-999.0000,9,     87.8,2,    37.52,2,    29.59,2,     0.00,2,     2.15,2,   -999.0,9,   -999.0,9,-999.0000,9,  -999.00,      459
  49UF20130627,KS1306,  3967,  1,     27,  21986,2,20130731,0320,  3.9942, 164.9873, 4490,    305.7,   8.6419,  34.5674,2,-999.0000,9,    101.6,2,    37.09,2,    29.82,2,     0.00,2,     2.15,2,   -999.0,9,   -999.0,9,-999.0000,9,  -999.00,      457
  49UF20130627,KS1306,  3967,  1,     26,  21985,2,20130731,0320,  3.9942, 164.9873, 4490,    405.6,   8.3176,  34.5965,2,-999.0000,9,    112.1,2,    33.99,2,    29.90,2,     0.00,2,     2.14,2,   -999.0,9,   -999.0,9,-999.0000,9,  -999.00,      454
  49UF20130627,KS1306,  3967,  1,     25,  21984,2,20130731,0320,  3.9942, 164.9873, 4490,    405.6,   8.3176,  34.5965,2,-999.0000,9,    112.0,2,    34.04,2,    29.94,2,     0.00,2,     2.14,2,   -999.0,9,   -999.0,9,-999.0000,9,  -999.00,      454
  49UF20130627,KS1306,  3967,  1,     24,  21983,2,20130731,0320,  3.9942, 164.9873, 4490,    505.5,   7.8101,  34.5817,2,-999.0000,9,     87.0,6,    39.88,6,    33.34,6,     0.00,6,     2.38,6,   -999.0,9,   -999.0,9,-999.0000,9,  -999.00,      451
  49UF20130627,KS1306,  3967,  1,     23,  22095,2,20130731,0320,  3.9942, 164.9873, 4490,    606.8,   7.0317,  34.5626,2,-999.0000,9,     66.9,2,    49.34,2,    36.89,2,     0.00,2,     2.65,2,   -999.0,9,   -999.0,9,-999.0000,9,  -999.00,      448
  49UF20130627,KS1306,  3967,  1,     22,  21981,2,20130731,0320,  3.9942, 164.9873, 4490,    708.0,   6.0695,  34.5432,2,-999.0000,9,     78.6,2,    59.02,2,    37.57,2,     0.00,2,     2.70,2,   -999.0,9,   -999.0,9,-999.0000,9,  -999.00,      445
  49UF20130627,KS1306,  3967,  1,     21,  21980,2,20130731,0320,  3.9942, 164.9873, 4490,    808.5,   5.4875,  34.5392,2,-999.0000,9,     84.0,2,    68.68,2,    37.78,2,     0.00,2,     2.72,2,   -999.0,9,   -999.0,9,-999.0000,9,  -999.00,      442
  49UF20130627,KS1306,  3967,  1,     20,  21979,2,20130731,0320,  3.9942, 164.9873, 4490,    909.7,   4.9905,  34.5452,2,-999.0000,9,     88.7,2,    76.75,2,    37.88,2,     0.00,2,     2.73,2,   -999.0,9,   -999.0,9,-999.0000,9,  -999.00,      439
  49UF20130627,KS1306,  3967,  1,     19,  21978,2,20130731,0320,  3.9942, 164.9873, 4490,   1010.6,   4.5137,  34.5553,2,-999.0000,9,     87.3,2,    87.13,2,    38.46,2,     0.00,2,     2.79,2,   -999.0,9,   -999.0,9,-999.0000,9,  -999.00,      436
  49UF20130627,KS1306,  3967,  1,     18,  21977,2,20130731,0320,  3.9942, 164.9873, 4490,   1213.4,   3.8430,  34.5731,2,-999.0000,9,     89.8,2,   101.65,2,    39.11,2,     0.00,2,     2.82,2,   -999.0,9,   -999.0,9,-999.0000,9,  -999.00,      432
  49UF20130627,KS1306,  3967,  1,     17,  23679,2,20130731,0320,  3.9942, 164.9873, 4490,   1413.6,   3.3492,  34.5894,2,-999.0000,9,     84.8,2,   115.64,2,    39.84,2,     0.00,2,     2.88,2,   -999.0,9,   -999.0,9,-999.0000,9,  -999.00,      427
  49UF20130627,KS1306,  3967,  1,     16,  21975,2,20130731,0320,  3.9942, 164.9873, 4490,   1617.2,   2.8216,  34.6102,2,-999.0000,9,     92.6,2,   127.23,2,    39.51,2,     0.00,2,     2.84,2,   -999.0,9,   -999.0,9,-999.0000,9,  -999.00,      423
  49UF20130627,KS1306,  3967,  1,     15,  21974,2,20130731,0320,  3.9942, 164.9873, 4490,   1819.5,   2.4736,  34.6260,2,-999.0000,9,    102.2,2,   133.84,2,    38.97,2,     0.00,2,     2.79,2,   -999.0,9,   -999.0,9,-999.0000,9,  -999.00,      418
  49UF20130627,KS1306,  3967,  1,     14,  21973,2,20130731,0320,  3.9942, 164.9873, 4490,   2022.2,   2.1924,  34.6405,2,-999.0000,9,    108.0,6,   140.63,6,    38.65,6,     0.00,6,     2.77,6,   -999.0,9,   -999.0,9,-999.0000,9,  -999.00,      414
  49UF20130627,KS1306,  3967,  1,     13,  21972,2,20130731,0320,  3.9942, 164.9873, 4490,   2276.0,   1.9685,  34.6533,2,-999.0000,9,    115.9,2,   144.83,2,    38.24,2,     0.00,2,     2.73,2,   -999.0,9,   -999.0,9,-999.0000,9,  -999.00,      408
  49UF20130627,KS1306,  3967,  1,     12,  21994,2,20130731,0320,  3.9942, 164.9873, 4490,   2530.1,   1.8107,  34.6620,2,-999.0000,9,    123.0,2,   146.59,2,    37.68,2,     0.00,2,     2.67,2,   -999.0,9,   -999.0,9,-999.0000,9,  -999.00,      403
  49UF20130627,KS1306,  3967,  1,      9,  21968,2,20130731,0320,  3.9942, 164.9873, 4490,   2784.9,   1.7034,  34.6672,2,-999.0000,9,    131.2,2,   146.78,2,    37.19,2,     0.00,2,     2.63,2,   -999.0,9,   -999.0,9,-999.0000,9,  -999.00,      357
  49UF20130627,KS1306,  3967,  1,      8,  21982,2,20130731,0320,  3.9942, 164.9873, 4490,   3041.5,   1.6182,  34.6725,2,-999.0000,9,    138.4,2,   146.15,2,    36.74,2,     0.00,2,     2.59,2,   -999.0,9,   -999.0,9,-999.0000,9,  -999.00,      352
  49UF20130627,KS1306,  3967,  1,      7,  21966,2,20130731,0320,  3.9942, 164.9873, 4490,   3296.5,   1.5470,  34.6777,2,-999.0000,9,    144.9,2,   144.31,2,    36.33,2,     0.00,2,     2.56,2,   -999.0,9,   -999.0,9,-999.0000,9,  -999.00,      346
  49UF20130627,KS1306,  3967,  1,      6,  21965,2,20130731,0320,  3.9942, 164.9873, 4490,   3550.0,   1.5036,  34.6819,2,-999.0000,9,    151.3,2,   142.58,2,    35.83,2,     0.00,2,     2.52,2,   -999.0,9,   -999.0,9,-999.0000,9,  -999.00,      341
  49UF20130627,KS1306,  3967,  1,      5,  21964,2,20130731,0320,  3.9942, 164.9873, 4490,   3806.7,   1.4732,  34.6858,2,-999.0000,9,    155.8,2,   141.08,2,    35.49,2,     0.00,2,     2.50,2,   -999.0,9,   -999.0,9,-999.0000,9,  -999.00,      335
  49UF20130627,KS1306,  3967,  1,      4,  21963,2,20130731,0320,  3.9942, 164.9873, 4490,   3806.7,   1.4732,  34.6858,2,-999.0000,9,    156.3,2,   140.86,2,    35.41,2,     0.00,2,     2.50,2,   -999.0,9,   -999.0,9,-999.0000,9,  -999.00,      335
  49UF20130627,KS1306,  3967,  1,      3,  22079,2,20130731,0320,  3.9942, 164.9873, 4490,   4062.2,   1.4472,  34.6894,2,-999.0000,9,    161.1,6,   137.90,6,    35.08,6,     0.00,6,     2.47,6,   -999.0,9,   -999.0,9,-999.0000,9,  -999.00,      330
  49UF20130627,KS1306,  3967,  1,      2,  21961,2,20130731,0320,  3.9942, 164.9873, 4490,   4318.1,   1.4479,  34.6913,2,-999.0000,9,    165.9,2,   137.03,2,    34.83,2,     0.00,2,     2.45,2,   -999.0,9,   -999.0,9,-999.0000,9,  -999.00,      325
  49UF20130627,KS1306,  3967,  1,      1,  21960,2,20130731,0320,  3.9942, 164.9873, 4490,   4546.7,   1.4226,  34.6946,2,-999.0000,9,    172.7,2,   133.35,2,    34.36,2,     0.00,2,     2.42,2,   -999.0,9,   -999.0,9,-999.0000,9,  -999.00,      320
  49UF20130627,KS1306,  3968,  1,     99,     99,2,20130731,1145,  4.9628, 164.9935, 4762,      0.0,  29.5509,  34.2475,2,  34.2515,4,    194.1,2,     1.00,2,     0.09,2,     0.00,2,     0.11,2,   1910.8,2,   2244.3,2,   8.1138,2,    25.00,     1310
  49UF20130627,KS1306,  3968,  1,     36,  21995,2,20130731,1145,  4.9628, 164.9935, 4762,     11.6,  29.5625,  34.2470,2,  34.2441,2,    194.4,2,     1.02,2,     0.10,2,     0.00,2,     0.10,2,   1910.3,2,   2244.1,2,   8.1135,2,    25.00,     1342
  49UF20130627,KS1306,  3968,  1,     35,  22087,2,20130731,1145,  4.9628, 164.9935, 4762,     26.5,  29.5604,  34.2470,2,-999.0000,9,    194.6,2,     0.98,2,     0.08,2,     0.00,2,     0.10,2,   1911.7,2,   2245.0,2,   8.1147,2,    25.00,     1340
  49UF20130627,KS1306,  3968,  1,     34,  21971,2,20130731,1145,  4.9628, 164.9935, 4762,     52.6,  29.5720,  34.2463,2,-999.0000,9,    194.7,2,     0.93,2,     0.00,2,     0.00,2,     0.10,2,   1912.6,2,   2248.1,2,   8.1151,2,    25.00,     1339
  49UF20130627,KS1306,  3968,  1,     33,  21992,2,20130731,1145,  4.9628, 164.9935, 4762,     76.5,  29.3407,  34.5135,2,-999.0000,9,    199.2,2,     1.00,2,     0.00,2,     0.00,2,     0.13,2,   1930.1,2,   2260.6,2,   8.1060,2,    25.00,     1338
  49UF20130627,KS1306,  3968,  1,     32,  21991,2,20130731,1145,  4.9628, 164.9935, 4762,    102.4,  28.4915,  34.9525,2,  34.9416,4,    184.1,2,     1.27,2,     0.33,2,     0.19,2,     0.26,2,   1984.5,2,   2290.7,2,   8.0565,2,    25.00,     1336
  49UF20130627,KS1306,  3968,  1,     31,  21990,2,20130731,1145,  4.9628, 164.9935, 4762,    127.5,  26.0670,  34.9522,2,-999.0000,9,    184.1,2,     1.72,2,     0.89,2,     0.20,2,     0.25,2,   2013.4,2,   2295.7,2,   8.0187,2,    25.00,     1334
  49UF20130627,KS1306,  3968,  1,     30,  21989,2,20130731,1145,  4.9628, 164.9935, 4762,    152.7,  16.7122,  34.6856,2,-999.0000,9,    128.9,2,    11.74,2,    13.68,2,     0.01,2,     1.07,2,   2121.6,2,   2279.5,2,   7.7770,2,    25.00,     1333
  49UF20130627,KS1306,  3968,  1,     29,  21988,2,20130731,1145,  4.9628, 164.9935, 4762,    201.4,  11.2816,  34.5449,2,  34.5421,2,     76.8,2,    28.49,2,    26.97,2,     0.00,2,     1.99,2,   2204.9,2,   2286.5,2,   7.5763,2,    25.00,     1329
  49UF20130627,KS1306,  3968,  1,     28,  21987,2,20130731,1145,  4.9628, 164.9935, 4762,    252.2,   9.9531,  34.6461,2,-999.0000,9,     48.8,6,    32.67,6,    32.57,6,     0.00,6,     2.34,6,   2243.1,2,   2297.8,2,   7.4954,2,    25.00,     1327
  49UF20130627,KS1306,  3968,  1,     27,  21986,2,20130731,1145,  4.9628, 164.9935, 4762,    301.9,   9.2575,  34.6402,2,-999.0000,9,     51.1,2,    34.91,2,    33.69,2,     0.00,2,     2.41,2,   2247.2,2,   2298.0,2,   7.4876,2,    25.00,     1326
  49UF20130627,KS1306,  3968,  1,     26,  21985,2,20130731,1145,  4.9628, 164.9935, 4762,    404.3,   8.4073,  34.6101,2,  34.6082,2,     59.1,6,    38.87,6,    34.82,6,     0.00,6,     2.48,6,   2250.3,2,   2302.5,2,   7.4860,2,    25.00,     1323
  49UF20130627,KS1306,  3968,  1,     25,  21984,2,20130731,1145,  4.9628, 164.9935, 4762,    503.5,   7.7985,  34.5878,2,-999.0000,9,     56.4,2,    43.85,2,    36.36,2,     0.00,2,     2.60,2,   2261.6,2,   2306.2,2,   7.4686,2,    25.00,     1321
  49UF20130627,KS1306,  3968,  1,     24,  21983,2,20130731,1145,  4.9628, 164.9935, 4762,    605.9,   6.9999,  34.5610,2,  34.5597,6,     52.4,2,    52.35,2,    38.15,2,     0.00,2,     2.75,2,   2275.2,2,   2313.2,2,   7.4480,2,    25.00,     1318
  49UF20130627,KS1306,  3968,  1,     23,  22095,2,20130731,1145,  4.9628, 164.9935, 4762,    706.4,   6.0645,  34.5454,2,-999.0000,9,     55.3,2,    64.03,2,    39.67,2,     0.00,2,     2.86,2,   2288.9,2,   2324.6,2,   7.4392,2,    25.00,     1315
  49UF20130627,KS1306,  3968,  1,     22,  21981,2,20130731,1145,  4.9628, 164.9935, 4762,    806.1,   5.6246,  34.5437,2,  34.5437,2,     57.0,2,    71.30,2,    40.19,2,     0.00,2,     2.89,2,   -999.0,9,   -999.0,9,-999.0000,9,  -999.00,     1313
  49UF20130627,KS1306,  3968,  1,     21,  21980,2,20130731,1145,  4.9628, 164.9935, 4762,    806.1,   5.6246,  34.5437,2,  34.5434,2,     57.1,2,    71.14,2,    40.04,2,     0.00,2,     2.89,2,   2297.8,2,   2331.8,2,   7.4384,2,    25.00,     1313
  49UF20130627,KS1306,  3968,  1,     20,  21979,2,20130731,1145,  4.9628, 164.9935, 4762,    907.3,   5.0560,  34.5448,2,-999.0000,9,     82.8,2,    77.37,2,    38.46,2,     0.00,2,     2.76,2,   2290.3,2,   2340.3,2,   7.4684,2,    25.00,     1310
  49UF20130627,KS1306,  3968,  1,     19,  21978,2,20130731,1145,  4.9628, 164.9935, 4762,   1008.2,   4.5845,  34.5547,2,  34.5535,2,     71.4,2,    89.45,2,    40.04,2,     0.00,2,     2.88,2,   2313.0,2,   2350.7,2,   7.4543,2,    25.00,     1308
  49UF20130627,KS1306,  3968,  1,     18,  21977,2,20130731,1145,  4.9628, 164.9935, 4762,   1211.6,   3.8409,  34.5746,2,  34.5737,2,     79.8,2,   104.04,2,    40.03,2,     0.00,2,     2.89,2,   2323.8,2,   2367.0,2,   7.4645,6,    25.00,     1303
  49UF20130627,KS1306,  3968,  1,     17,  23679,2,20130731,1145,  4.9628, 164.9935, 4762,   1413.4,   3.2956,  34.5916,2,  34.5903,2,     89.4,2,   115.30,2,    39.57,2,     0.00,2,     2.85,2,   2331.7,6,   2381.1,6,   7.4798,2,    25.00,     1259
  49UF20130627,KS1306,  3968,  1,     16,  21975,2,20130731,1145,  4.9628, 164.9935, 4762,   1616.7,   2.8331,  34.6096,2,  34.6099,2,     96.5,2,   125.35,2,    39.32,2,     0.00,2,     2.82,2,   2340.0,2,   2392.6,2,   7.4881,2,    25.00,     1254
  49UF20130627,KS1306,  3968,  1,     15,  21974,2,20130731,1145,  4.9628, 164.9935, 4762,   1818.8,   2.4819,  34.6255,2,  34.6248,2,    103.0,2,   134.20,2,    39.04,2,     0.00,2,     2.78,2,   2342.5,2,   2400.0,2,   7.4995,2,    25.00,     1250
  49UF20130627,KS1306,  3968,  1,     14,  21973,2,20130731,1145,  4.9628, 164.9935, 4762,   2020.7,   2.1889,  34.6409,2,  34.6390,2,    108.6,2,   140.36,2,    38.68,2,     0.00,2,     2.75,2,   2348.5,2,   2407.9,2,   7.5089,2,    25.00,     1245
  49UF20130627,KS1306,  3968,  1,     13,  21972,2,20130731,1145,  4.9628, 164.9935, 4762,   2276.2,   1.9749,  34.6530,2,  34.6522,2,    115.1,6,   144.96,6,    38.33,6,     0.00,6,     2.72,6,   2345.2,2,   2414.0,2,   7.5213,2,    25.00,     1240
  49UF20130627,KS1306,  3968,  1,     12,  21994,2,20130731,1145,  4.9628, 164.9935, 4762,   2530.7,   1.8226,  34.6618,2,  34.6607,2,    122.5,2,   147.15,2,    37.83,2,     0.00,2,     2.68,2,   -999.0,9,   -999.0,9,-999.0000,9,  -999.00,     1234
  49UF20130627,KS1306,  3968,  1,     11,  21970,2,20130731,1145,  4.9628, 164.9935, 4762,   2785.4,   1.7282,  34.6667,2,  34.6673,2,    129.0,2,   147.53,2,    37.34,2,     0.00,2,     2.64,2,   2340.2,2,   2416.6,2,   7.5421,2,    25.00,     1229
  49UF20130627,KS1306,  3968,  1,     10,  21969,2,20130731,1145,  4.9628, 164.9935, 4762,   3039.8,   1.6424,  34.6720,2,  34.6712,2,    136.0,2,   147.23,2,    36.86,2,     0.00,2,     2.61,2,   -999.0,9,   -999.0,9,-999.0000,9,  -999.00,     1223
  49UF20130627,KS1306,  3968,  1,      9,  21968,2,20130731,1145,  4.9628, 164.9935, 4762,   3039.8,   1.6424,  34.6720,2,  34.6720,2,    135.7,2,   147.05,2,    36.88,2,     0.00,2,     2.60,2,   -999.0,9,   -999.0,9,-999.0000,9,  -999.00,     1223
  49UF20130627,KS1306,  3968,  1,      8,  21982,2,20130731,1145,  4.9628, 164.9935, 4762,   3294.4,   1.5771,  34.6766,2,  34.6759,2,    142.3,2,   146.07,2,    36.47,2,     0.00,2,     2.57,2,   2331.8,2,   2413.5,2,   7.5593,2,    25.00,     1218
  49UF20130627,KS1306,  3968,  1,      7,  21966,2,20130731,1145,  4.9628, 164.9935, 4762,   3551.1,   1.5238,  34.6810,2,  34.6795,2,    147.9,2,   144.34,2,    36.14,2,     0.00,2,     2.54,2,   -999.0,9,   -999.0,9,-999.0000,9,  -999.00,     1212
  49UF20130627,KS1306,  3968,  1,      6,  21965,2,20130731,1145,  4.9628, 164.9935, 4762,   3806.3,   1.4785,  34.6856,2,  34.6848,2,    155.7,2,   142.23,2,    35.59,2,     0.00,2,     2.50,2,   2320.4,6,   2409.4,6,   7.5777,2,    25.00,     1207
  49UF20130627,KS1306,  3968,  1,      5,  21964,2,20130731,1145,  4.9628, 164.9935, 4762,   4062.6,   1.4483,  34.6893,2,  34.6879,2,    160.6,2,   138.65,2,    35.16,2,     0.00,2,     2.46,2,   -999.0,9,   -999.0,9,-999.0000,9,  -999.00,     1201
  49UF20130627,KS1306,  3968,  1,      4,  21963,2,20130731,1145,  4.9628, 164.9935, 4762,   4319.1,   1.4170,  34.6934,2,  34.6929,6,    169.2,2,   134.72,2,    34.63,2,     0.00,2,     2.42,2,   2309.5,2,   2405.5,2,   7.5930,6,    25.00,     1156
  49UF20130627,KS1306,  3968,  1,      3,  22079,2,20130731,1145,  4.9628, 164.9935, 4762,   4574.3,   1.3919,  34.6967,2,  34.6962,2,    175.6,2,   131.60,2,    34.19,2,     0.00,2,     2.39,2,   2299.2,2,   2393.7,2,   7.5967,2,    25.00,     1150
  49UF20130627,KS1306,  3968,  1,      2,  21961,2,20130731,1145,  4.9628, 164.9935, 4762,   4833.7,   1.3727,  34.6995,2,  34.7001,6,    181.8,6,   128.69,6,    33.78,6,     0.00,6,     2.36,6,   2292.9,2,   2389.6,2,   7.6026,2,    25.00,     1145