BOTTLE,20191021PRINUNIVRMK
EXPOCODE,SECT_ID,STNNBR,CASTNO,SAMPNO,BTLNBR,BTLNBR_FLAG_W,DATE,TIME,LATITUDE,LONGITUDE,DEPTH,CTDPRS,CTDTMP,CTDSAL,CTDSAL_FLAG_W,SALNTY,SALNTY_FLAG_W,OXYGEN,OXYGEN_FLAG_W,SILCAT,SILCAT_FLAG_W,NITRAT,NITRAT_FLAG_W,NITRIT,NITRIT_FLAG_W,PHSPHT,PHSPHT_FLAG_W,TCARBN,TCARBN_FLAG_W,ALKALI,ALKALI_FLAG_W,PH_TOT,PH_TOT_FLAG_W,PH_TMP,BTL_TIME
,,,,,,,,,,,METERS,DBAR,ITS-90,PSS-78,,PSS-78,,UMOL/KG,,UMOL/KG,,UMOL/KG,,UMOL/KG,,UMOL/KG,,UMOL/KG,,UMOL/KG,,,,DEG C,
  49UF20130627,KS1306,  3973,  1,     99,     99,2,20130811,0042,  8.9987, 163.9817, 5202,      0.0,  29.0993,  34.5040,2,-999.0000,9,    196.9,2,     1.04,2,     0.00,2,     0.00,2,     0.15,2,   -999.0,9,   -999.0,9,-999.0000,9,  -999.00,      220
  49UF20130627,KS1306,  3973,  1,     36,  21995,3,20130811,0042,  8.9987, 163.9817, 5202,     11.8,  29.0209,  34.5694,2,-999.0000,9,    196.3,2,     1.04,2,     0.00,2,     0.00,2,     0.15,2,   -999.0,9,   -999.0,9,-999.0000,9,  -999.00,      252
  49UF20130627,KS1306,  3973,  1,     35,  22087,2,20130811,0042,  8.9987, 163.9817, 5202,     27.3,  28.8517,  34.6142,2,-999.0000,9,    197.0,2,     1.04,2,     0.00,2,     0.00,2,     0.15,2,   -999.0,9,   -999.0,9,-999.0000,9,  -999.00,      251
  49UF20130627,KS1306,  3973,  1,     34,  21971,2,20130811,0042,  8.9987, 163.9817, 5202,     52.8,  28.8051,  34.6201,2,-999.0000,9,    197.1,2,     1.03,2,     0.01,2,     0.00,2,     0.15,2,   -999.0,9,   -999.0,9,-999.0000,9,  -999.00,      249
  49UF20130627,KS1306,  3973,  1,     33,  21992,2,20130811,0042,  8.9987, 163.9817, 5202,     77.1,  28.5220,  34.8029,2,-999.0000,9,    198.8,2,     1.00,2,     0.00,2,     0.00,2,     0.16,2,   -999.0,9,   -999.0,9,-999.0000,9,  -999.00,      248
  49UF20130627,KS1306,  3973,  1,     32,  21991,2,20130811,0042,  8.9987, 163.9817, 5202,    102.5,  26.9148,  34.9449,2,-999.0000,9,    191.1,2,     1.25,2,     0.38,2,     0.42,2,     0.24,2,   -999.0,9,   -999.0,9,-999.0000,9,  -999.00,      245
  49UF20130627,KS1306,  3973,  1,     31,  21990,2,20130811,0042,  8.9987, 163.9817, 5202,    126.4,  23.3042,  35.0143,2,-999.0000,9,    182.5,2,     2.08,2,     1.71,2,     0.42,2,     0.33,2,   -999.0,9,   -999.0,9,-999.0000,9,  -999.00,      243
  49UF20130627,KS1306,  3973,  1,     30,  21989,2,20130811,0042,  8.9987, 163.9817, 5202,    153.4,  19.4515,  34.8463,2,-999.0000,9,    165.7,2,     4.32,2,     5.69,2,     0.03,2,     0.56,2,   -999.0,9,   -999.0,9,-999.0000,9,  -999.00,      241
  49UF20130627,KS1306,  3973,  1,     29,  21988,2,20130811,0042,  8.9987, 163.9817, 5202,    204.9,  12.4683,  34.3452,2,-999.0000,9,    158.8,6,    15.92,6,    15.45,6,     0.00,6,     1.17,6,   -999.0,9,   -999.0,9,-999.0000,9,  -999.00,      239
  49UF20130627,KS1306,  3973,  1,     28,  21987,2,20130811,0042,  8.9987, 163.9817, 5202,    255.7,  10.0873,  34.3729,2,-999.0000,9,     81.4,2,    31.06,2,    27.25,2,     0.00,2,     2.07,2,   -999.0,9,   -999.0,9,-999.0000,9,  -999.00,      237
  49UF20130627,KS1306,  3973,  1,     27,  21986,2,20130811,0042,  8.9987, 163.9817, 5202,    306.0,   9.6639,  34.5232,2,-999.0000,9,     48.9,2,    35.34,2,    32.10,2,     0.00,2,     2.36,2,   -999.0,9,   -999.0,9,-999.0000,9,  -999.00,      235
  49UF20130627,KS1306,  3973,  1,     26,  21985,2,20130811,0042,  8.9987, 163.9817, 5202,    406.3,   8.4435,  34.5602,2,-999.0000,9,     54.8,2,    42.16,2,    34.35,2,     0.00,2,     2.48,2,   -999.0,9,   -999.0,9,-999.0000,9,  -999.00,      232
  49UF20130627,KS1306,  3973,  1,     25,  21984,2,20130811,0042,  8.9987, 163.9817, 5202,    508.6,   7.4669,  34.5383,2,-999.0000,9,     65.9,2,    49.45,2,    35.36,2,     0.00,2,     2.55,2,   -999.0,9,   -999.0,9,-999.0000,9,  -999.00,      228
  49UF20130627,KS1306,  3973,  1,     24,  21983,2,20130811,0042,  8.9987, 163.9817, 5202,    609.1,   6.8115,  34.5322,2,-999.0000,9,     55.1,6,    57.32,6,    37.56,6,     0.00,6,     2.72,6,   -999.0,9,   -999.0,9,-999.0000,9,  -999.00,      225
  49UF20130627,KS1306,  3973,  1,     23,  22095,2,20130811,0042,  8.9987, 163.9817, 5202,    710.0,   6.1202,  34.5295,2,-999.0000,9,     58.1,2,    65.60,2,    38.44,2,     0.00,2,     2.79,2,   -999.0,9,   -999.0,9,-999.0000,9,  -999.00,      221
  49UF20130627,KS1306,  3973,  1,     22,  21981,2,20130811,0042,  8.9987, 163.9817, 5202,    811.4,   5.5682,  34.5330,2,-999.0000,9,     60.3,2,    74.38,2,    39.48,2,     0.00,2,     2.85,2,   -999.0,9,   -999.0,9,-999.0000,9,  -999.00,      217
  49UF20130627,KS1306,  3973,  1,     21,  21980,2,20130811,0042,  8.9987, 163.9817, 5202,    911.6,   5.1380,  34.5380,2,-999.0000,9,     67.9,2,    80.91,2,    39.25,2,     0.00,2,     2.83,2,   -999.0,9,   -999.0,9,-999.0000,9,  -999.00,      214
  49UF20130627,KS1306,  3973,  1,     20,  21979,2,20130811,0042,  8.9987, 163.9817, 5202,   1012.2,   4.6451,  34.5471,2,-999.0000,9,     71.0,2,    90.90,2,    39.60,2,     0.00,2,     2.86,2,   -999.0,9,   -999.0,9,-999.0000,9,  -999.00,      210
  49UF20130627,KS1306,  3973,  1,     19,  21978,2,20130811,0042,  8.9987, 163.9817, 5202,   1213.3,   3.7956,  34.5688,2,-999.0000,9,     80.8,2,   107.60,2,    39.63,2,     0.00,2,     2.86,2,   -999.0,9,   -999.0,9,-999.0000,9,  -999.00,      205
  49UF20130627,KS1306,  3973,  1,     18,  21977,2,20130811,0042,  8.9987, 163.9817, 5202,   1415.2,   3.1796,  34.5903,2,-999.0000,9,     88.2,2,   120.11,2,    39.46,2,     0.00,2,     2.84,2,   -999.0,9,   -999.0,9,-999.0000,9,  -999.00,      200
  49UF20130627,KS1306,  3973,  1,     17,  23679,2,20130811,0042,  8.9987, 163.9817, 5202,   1617.0,   2.8226,  34.6044,2,-999.0000,9,     92.5,2,   128.04,2,    39.48,2,     0.00,2,     2.84,2,   -999.0,9,   -999.0,9,-999.0000,9,  -999.00,      156
  49UF20130627,KS1306,  3973,  1,     16,  21975,2,20130811,0042,  8.9987, 163.9817, 5202,   1821.6,   2.4780,  34.6216,2,-999.0000,9,     98.0,2,   136.22,2,    39.38,2,     0.00,2,     2.81,2,   -999.0,9,   -999.0,9,-999.0000,9,  -999.00,      151
  49UF20130627,KS1306,  3973,  1,     15,  21974,2,20130811,0042,  8.9987, 163.9817, 5202,   1821.6,   2.4780,  34.6216,2,-999.0000,9,     97.9,2,   136.14,2,    39.40,2,     0.00,2,     2.81,2,   -999.0,9,   -999.0,9,-999.0000,9,  -999.00,      151
  49UF20130627,KS1306,  3973,  1,     14,  21973,2,20130811,0042,  8.9987, 163.9817, 5202,   2023.5,   2.2259,  34.6346,2,-999.0000,9,    103.9,2,   141.48,2,    39.15,2,     0.00,2,     2.78,2,   -999.0,9,   -999.0,9,-999.0000,9,  -999.00,      146
  49UF20130627,KS1306,  3973,  1,     13,  21972,2,20130811,0042,  8.9987, 163.9817, 5202,   2277.9,   2.0105,  34.6477,2,-999.0000,9,    111.9,2,   145.91,2,    38.46,2,     0.00,2,     2.73,2,   -999.0,9,   -999.0,9,-999.0000,9,  -999.00,      141
  49UF20130627,KS1306,  3973,  1,     12,  21994,2,20130811,0042,  8.9987, 163.9817, 5202,   2531.6,   1.8805,  34.6561,2,-999.0000,9,    118.2,2,   147.98,2,    38.28,2,     0.00,2,     2.70,2,   -999.0,9,   -999.0,9,-999.0000,9,  -999.00,      135
  49UF20130627,KS1306,  3973,  1,     11,  21970,2,20130811,0042,  8.9987, 163.9817, 5202,   2784.6,   1.7813,  34.6627,2,-999.0000,9,    124.0,6,   147.73,6,    37.71,6,     0.00,6,     2.66,6,   -999.0,9,   -999.0,9,-999.0000,9,  -999.00,      130
  49UF20130627,KS1306,  3973,  1,     10,  21969,2,20130811,0042,  8.9987, 163.9817, 5202,   3039.7,   1.6881,  34.6685,2,-999.0000,9,    131.3,2,   148.10,2,    37.32,2,     0.00,2,     2.63,2,   -999.0,9,   -999.0,9,-999.0000,9,  -999.00,      125
  49UF20130627,KS1306,  3973,  1,      9,  21968,2,20130811,0042,  8.9987, 163.9817, 5202,   3296.2,   1.5890,  34.6749,2,-999.0000,9,    138.8,2,   148.29,2,    36.78,2,     0.00,2,     2.58,2,   -999.0,9,   -999.0,9,-999.0000,9,  -999.00,      119
  49UF20130627,KS1306,  3973,  1,      8,  21982,2,20130811,0042,  8.9987, 163.9817, 5202,   3549.4,   1.5090,  34.6809,2,-999.0000,9,    147.8,2,   146.24,2,    36.14,2,     0.00,2,     2.54,2,   -999.0,9,   -999.0,9,-999.0000,9,  -999.00,      114
  49UF20130627,KS1306,  3973,  1,      7,  21966,2,20130811,0042,  8.9987, 163.9817, 5202,   3806.0,   1.4524,  34.6864,2,-999.0000,9,    156.0,2,   141.58,2,    35.54,2,     0.00,2,     2.49,2,   -999.0,9,   -999.0,9,-999.0000,9,  -999.00,      109
  49UF20130627,KS1306,  3973,  1,      6,  21965,2,20130811,0042,  8.9987, 163.9817, 5202,   4061.9,   1.4140,  34.6908,2,-999.0000,9,    165.2,2,   137.20,2,    34.89,2,     0.00,2,     2.44,2,   -999.0,9,   -999.0,9,-999.0000,9,  -999.00,      105
  49UF20130627,KS1306,  3973,  1,      5,  21964,2,20130811,0042,  8.9987, 163.9817, 5202,   4318.0,   1.3894,  34.6947,2,-999.0000,9,    171.1,2,   133.48,2,    34.50,2,     0.00,2,     2.41,2,   -999.0,9,   -999.0,9,-999.0000,9,  -999.00,      100
  49UF20130627,KS1306,  3973,  1,      4,  21963,2,20130811,0042,  8.9987, 163.9817, 5202,   4573.0,   1.3827,  34.6970,2,-999.0000,9,    177.2,6,   130.99,6,    34.07,6,     0.00,6,     2.39,6,   -999.0,9,   -999.0,9,-999.0000,9,  -999.00,       55
  49UF20130627,KS1306,  3973,  1,      3,  22079,4,20130811,0042,  8.9987, 163.9817, 5202,   4830.3,   1.3924,  34.6982,2,-999.0000,9,    171.8,4,   128.78,4,    34.10,4,     0.00,4,     2.40,4,   -999.0,9,   -999.0,9,-999.0000,9,  -999.00,       50
  49UF20130627,KS1306,  3973,  1,      2,  21961,2,20130811,0042,  8.9987, 163.9817, 5202,   5086.1,   1.4005,  34.6997,2,-999.0000,9,    182.5,2,   128.65,2,    33.67,2,     0.00,2,     2.36,2,   -999.0,9,   -999.0,9,-999.0000,9,  -999.00,       46
  49UF20130627,KS1306,  3973,  1,      1,  21960,2,20130811,0042,  8.9987, 163.9817, 5202,   5286.9,   1.4089,  34.7007,2,-999.0000,9,    184.5,2,   127.73,2,    33.62,2,     0.00,2,     2.35,2,   -999.0,9,   -999.0,9,-999.0000,9,  -999.00,       42
  49UF20130627,KS1306,  3974,  1,     99,     99,2,20130811,0916,  9.9962, 163.9832, 4977,      0.0,  28.8856,  34.5794,2,  34.5825,2,    196.4,2,     0.93,2,     0.09,2,     0.00,2,     0.14,2,   1938.7,2,   2265.5,2,   8.0948,2,    25.00,     1055
  49UF20130627,KS1306,  3974,  1,     36,  21995,2,20130811,0916,  9.9962, 163.9832, 4977,     11.6,  28.8866,  34.5773,2,  34.5779,6,    196.9,2,     0.94,2,     0.07,2,     0.00,2,     0.14,2,   1941.2,2,   2263.5,2,   8.0941,2,    25.00,     1120
  49UF20130627,KS1306,  3974,  1,     35,  22087,2,20130811,0916,  9.9962, 163.9832, 4977,     26.9,  28.8483,  34.5798,2,-999.0000,9,    196.6,2,     0.90,2,     0.08,2,     0.00,2,     0.14,2,   1940.4,2,   2265.7,2,   8.0921,2,    25.00,     1119
  49UF20130627,KS1306,  3974,  1,     34,  21971,2,20130811,0916,  9.9962, 163.9832, 4977,     52.2,  28.8066,  34.6922,2,-999.0000,9,    196.9,2,     0.92,2,     0.11,2,     0.00,2,     0.15,2,   1945.9,2,   2270.2,2,   8.0922,2,    25.00,     1118
  49UF20130627,KS1306,  3974,  1,     33,  21992,2,20130811,0916,  9.9962, 163.9832, 4977,     77.3,  28.7167,  34.7951,2,-999.0000,9,    197.5,2,     0.93,2,     0.10,2,     0.00,2,     0.16,2,   1957.1,2,   2279.8,2,   8.0877,2,    25.00,     1117
  49UF20130627,KS1306,  3974,  1,     32,  21991,2,20130811,0916,  9.9962, 163.9832, 4977,    102.4,  27.6306,  34.9078,2,  34.9012,4,    194.6,2,     1.09,2,     0.21,2,     0.13,2,     0.20,2,   1982.3,2,   2287.9,2,   8.0618,2,    25.00,     1114
  49UF20130627,KS1306,  3974,  1,     31,  21990,2,20130811,0916,  9.9962, 163.9832, 4977,    126.3,  25.5634,  34.9918,2,-999.0000,9,    186.0,2,     1.49,2,     1.02,2,     0.59,2,     0.28,2,   2009.8,2,   2296.9,2,   8.0209,2,    25.00,     1113
  49UF20130627,KS1306,  3974,  1,     30,  21989,2,20130811,0916,  9.9962, 163.9832, 4977,    153.3,  21.8315,  34.9650,2,-999.0000,9,    172.6,2,     2.92,2,     3.66,2,     0.12,2,     0.43,2,   2057.7,2,   2299.2,2,   7.9375,2,    25.00,     1111
  49UF20130627,KS1306,  3974,  1,     29,  21988,2,20130811,0916,  9.9962, 163.9832, 4977,    203.6,  16.2537,  34.6212,2,  34.5943,4,    148.1,2,     9.82,2,    11.74,2,     0.02,2,     0.94,2,   2110.2,2,   2275.7,2,   7.7862,2,    25.00,     1110
  49UF20130627,KS1306,  3974,  1,     28,  21987,2,20130811,0916,  9.9962, 163.9832, 4977,    253.1,  11.8094,  34.3868,2,-999.0000,9,    106.2,6,    22.51,6,    22.30,6,     0.00,6,     1.70,6,   2172.3,2,   2270.7,2,   7.6183,2,    25.00,     1108
  49UF20130627,KS1306,  3974,  1,     27,  21986,2,20130811,0916,  9.9962, 163.9832, 4977,    303.2,   9.9133,  34.3566,2,-999.0000,9,     83.0,2,    32.35,2,    27.72,2,     0.00,2,     2.08,2,   2209.7,2,   2276.7,2,   7.5324,6,    25.00,     1107
  49UF20130627,KS1306,  3974,  1,     26,  21985,2,20130811,0916,  9.9962, 163.9832, 4977,    404.6,   8.6364,  34.5342,2,  34.5360,6,     41.0,2,    42.51,2,    34.98,2,     0.00,2,     2.55,2,   2261.0,2,   2299.7,2,   7.4481,2,    25.00,     1104
  49UF20130627,KS1306,  3974,  1,     25,  21984,2,20130811,0916,  9.9962, 163.9832, 4977,    504.8,   7.3775,  34.5237,2,-999.0000,9,     62.3,2,    51.62,2,    36.00,2,     0.00,2,     2.58,2,   2263.6,2,   2306.6,2,   7.4708,2,    25.00,     1101
  49UF20130627,KS1306,  3974,  1,     24,  21983,2,20130811,0916,  9.9962, 163.9832, 4977,    607.4,   6.6785,  34.5230,2,  34.5241,2,     61.3,2,    59.28,2,    37.44,2,     0.00,2,     2.69,2,   2274.1,2,   2317.7,2,   7.4582,2,    25.00,     1059
  49UF20130627,KS1306,  3974,  1,     23,  22095,2,20130811,0916,  9.9962, 163.9832, 4977,    707.3,   6.0206,  34.5209,2,-999.0000,9,     61.9,6,    68.00,6,    38.58,6,     0.00,6,     2.77,6,   2287.7,2,   2326.8,2,   7.4506,2,    25.00,     1056
  49UF20130627,KS1306,  3974,  1,     22,  21981,2,20130811,0916,  9.9962, 163.9832, 4977,    808.1,   5.4019,  34.5297,2,  34.5316,6,     62.4,2,    77.84,2,    39.62,2,     0.00,2,     2.83,2,   2299.4,2,   2338.4,2,   7.4459,2,    25.00,     1053
  49UF20130627,KS1306,  3974,  1,     21,  21980,2,20130811,0916,  9.9962, 163.9832, 4977,    909.1,   5.0820,  34.5371,2,-999.0000,9,     64.6,2,    83.41,2,    39.82,2,     0.00,2,     2.86,2,   2304.9,2,   2343.5,2,   7.4463,2,    25.00,     1051
  49UF20130627,KS1306,  3974,  1,     20,  21979,2,20130811,0916,  9.9962, 163.9832, 4977,   1010.8,   4.5624,  34.5473,2,  34.5492,2,     68.1,2,    92.85,2,    40.17,2,     0.00,2,     2.88,2,   2314.2,2,   2352.7,2,   7.4481,2,    25.00,     1048
  49UF20130627,KS1306,  3974,  1,     19,  21978,2,20130811,0916,  9.9962, 163.9832, 4977,   1212.7,   3.7320,  34.5691,2,  34.5705,6,     74.3,2,   110.40,2,    40.46,2,     0.00,2,     2.90,2,   2331.3,2,   2370.4,2,   7.4537,2,    25.00,     1043
  49UF20130627,KS1306,  3974,  1,     18,  21977,2,20130811,0916,  9.9962, 163.9832, 4977,   1416.8,   3.0447,  34.5900,2,  34.5905,2,     81.6,2,   125.59,2,    40.47,2,     0.00,2,     2.89,2,   2343.7,2,   2387.3,2,   7.4609,2,    25.00,     1039
  49UF20130627,KS1306,  3974,  1,     17,  23679,2,20130811,0916,  9.9962, 163.9832, 4977,   1617.8,   2.7509,  34.6025,2,  34.6034,2,     88.6,2,   132.13,2,    40.07,2,     0.00,2,     2.85,2,   2346.7,6,   2392.8,6,   7.4684,2,    25.00,     1034
  49UF20130627,KS1306,  3974,  1,     16,  21975,2,20130811,0916,  9.9962, 163.9832, 4977,   1820.3,   2.4778,  34.6163,2,  34.6178,2,     95.4,2,   137.45,2,    39.65,2,     0.00,2,     2.82,2,   2346.5,2,   2400.1,2,   7.4815,2,    25.00,     1029
  49UF20130627,KS1306,  3974,  1,     15,  21974,2,20130811,0916,  9.9962, 163.9832, 4977,   2023.4,   2.2181,  34.6345,2,  34.6353,2,    104.6,2,   141.90,2,    39.13,2,     0.00,2,     2.77,2,   -999.0,9,   -999.0,9,-999.0000,9,  -999.00,     1025
  49UF20130627,KS1306,  3974,  1,     14,  21973,2,20130811,0916,  9.9962, 163.9832, 4977,   2023.4,   2.2181,  34.6345,2,  34.6347,2,    104.7,2,   141.44,2,    39.23,2,     0.00,2,     2.77,2,   2346.2,2,   2406.7,2,   7.5006,2,    25.00,     1025
  49UF20130627,KS1306,  3974,  1,     13,  21972,2,20130811,0916,  9.9962, 163.9832, 4977,   2277.1,   2.0347,  34.6462,2,  34.6475,2,    111.1,2,   145.48,2,    38.71,2,     0.00,2,     2.74,2,   -999.0,9,   -999.0,9,-999.0000,9,  -999.00,     1019
  49UF20130627,KS1306,  3974,  1,     12,  21994,2,20130811,0916,  9.9962, 163.9832, 4977,   2530.1,   1.8971,  34.6552,2,  34.6558,2,    118.4,2,   147.36,2,    38.41,2,     0.00,2,     2.70,2,   2347.1,6,   2414.1,6,   7.5212,2,    25.00,     1013
  49UF20130627,KS1306,  3974,  1,     11,  21970,2,20130811,0916,  9.9962, 163.9832, 4977,   2785.0,   1.7534,  34.6636,2,  34.6643,2,    126.0,2,   148.25,2,    37.85,2,     0.00,2,     2.65,2,   -999.0,9,   -999.0,9,-999.0000,9,  -999.00,     1007
  49UF20130627,KS1306,  3974,  1,     10,  21969,2,20130811,0916,  9.9962, 163.9832, 4977,   3039.7,   1.6538,  34.6700,2,  34.6720,2,    132.9,6,   149.08,6,    37.37,6,     0.00,6,     2.61,6,   2338.2,2,   2415.5,2,   7.5448,2,    25.00,     1001
  49UF20130627,KS1306,  3974,  1,      9,  21968,2,20130811,0916,  9.9962, 163.9832, 4977,   3297.0,   1.5697,  34.6759,2,  34.6754,2,    140.3,2,   148.25,2,    36.96,2,     0.00,2,     2.57,2,   -999.0,9,   -999.0,9,-999.0000,9,  -999.00,      955
  49UF20130627,KS1306,  3974,  1,      8,  21982,2,20130811,0916,  9.9962, 163.9832, 4977,   3550.6,   1.5104,  34.6806,2,  34.6803,2,    148.1,2,   146.24,2,    36.37,2,     0.00,2,     2.54,2,   2329.8,2,   2408.6,2,   7.5631,6,    25.00,      950
  49UF20130627,KS1306,  3974,  1,      7,  21966,2,20130811,0916,  9.9962, 163.9832, 4977,   3806.9,   1.4813,  34.6843,2,  34.6841,2,    153.0,2,   143.76,2,    35.94,2,     0.00,2,     2.50,2,   -999.0,9,   -999.0,9,-999.0000,9,  -999.00,      943
  49UF20130627,KS1306,  3974,  1,      6,  21965,2,20130811,0916,  9.9962, 163.9832, 4977,   4063.9,   1.4459,  34.6885,2,  34.6890,2,    160.5,2,   140.79,2,    35.43,2,     0.00,2,     2.46,2,   2318.4,2,   2402.8,2,   7.5793,2,    25.00,      938
  49UF20130627,KS1306,  3974,  1,      5,  21964,4,20130811,0916,  9.9962, 163.9832, 4977,   4319.4,   1.4266,  34.6922,2,  34.8127,4,    198.0,4,     1.03,4,     0.05,4,     0.00,4,     0.17,4,   -999.0,9,   -999.0,9,-999.0000,9,  -999.00,      932
  49UF20130627,KS1306,  3974,  1,      4,  21963,2,20130811,0916,  9.9962, 163.9832, 4977,   4575.4,   1.3864,  34.6969,2,  34.6978,2,    176.4,2,   131.97,2,    34.28,2,     0.00,2,     2.38,2,   2301.4,2,   2391.6,2,   7.5941,2,    25.00,      927
  49UF20130627,KS1306,  3974,  1,      3,  22079,2,20130811,0916,  9.9962, 163.9832, 4977,   4832.0,   1.3706,  34.6997,2,  34.7009,6,    181.8,2,   128.74,2,    33.80,2,     0.00,2,     2.35,2,   -999.0,9,   -999.0,9,-999.0000,9,  -999.00,      921
  49UF20130627,KS1306,  3974,  1,      2,  21961,2,20130811,0916,  9.9962, 163.9832, 4977,   5059.2,   1.3815,  34.7006,2,  34.7015,6,    184.2,6,   127.76,6,    33.78,6,     0.00,6,     2.34,6,   2291.3,2,   2383.1,2,   7.5989,2,    25.00,      916