BOTTLE,20191021PRINUNIVRMK
EXPOCODE,SECT_ID,STNNBR,CASTNO,SAMPNO,BTLNBR,BTLNBR_FLAG_W,DATE,TIME,LATITUDE,LONGITUDE,DEPTH,CTDPRS,CTDTMP,CTDSAL,CTDSAL_FLAG_W,SALNTY,SALNTY_FLAG_W,OXYGEN,OXYGEN_FLAG_W,SILCAT,SILCAT_FLAG_W,NITRAT,NITRAT_FLAG_W,NITRIT,NITRIT_FLAG_W,PHSPHT,PHSPHT_FLAG_W,TCARBN,TCARBN_FLAG_W,ALKALI,ALKALI_FLAG_W,PH_TOT,PH_TOT_FLAG_W,PH_TMP,BTL_TIME
,,,,,,,,,,,METERS,DBAR,ITS-90,PSS-78,,PSS-78,,UMOL/KG,,UMOL/KG,,UMOL/KG,,UMOL/KG,,UMOL/KG,,UMOL/KG,,UMOL/KG,,,,DEG C,
  49UF20130627,KS1306,  3936,  1,     99,     99,2,20130706,1709,  7.9957, 136.9852, 2973,      0.0,  29.7910,  33.8865,2,-999.0000,9,    193.4,2,     1.01,2,     0.00,2,     0.00,2,     0.07,2,   -999.0,9,   -999.0,9,-999.0000,9,  -999.00,     1753
  49UF20130627,KS1306,  3936,  1,     36,  21995,4,20130706,1709,  7.9957, 136.9852, 2973,     11.1,  29.8082,  33.8951,2,-999.0000,9,   -999.0,9,  -999.00,9,  -999.00,9,  -999.00,9,  -999.00,9,   -999.0,9,   -999.0,9,-999.0000,9,  -999.00,     1807
  49UF20130627,KS1306,  3936,  1,     35,  22087,2,20130706,1709,  7.9957, 136.9852, 2973,     26.4,  29.7348,  33.9262,2,-999.0000,9,    194.4,2,     1.01,2,     0.00,2,     0.00,2,     0.07,2,   -999.0,9,   -999.0,9,-999.0000,9,  -999.00,     1805
  49UF20130627,KS1306,  3936,  1,     34,  21971,2,20130706,1709,  7.9957, 136.9852, 2973,     51.3,  29.5363,  34.0838,2,-999.0000,9,    196.4,2,     1.04,2,     0.00,2,     0.00,2,     0.08,2,   -999.0,9,   -999.0,9,-999.0000,9,  -999.00,     1802
  49UF20130627,KS1306,  3936,  1,     33,  21992,2,20130706,1709,  7.9957, 136.9852, 2973,     76.1,  28.8552,  34.3991,2,-999.0000,9,    197.0,2,     1.08,2,     0.00,2,     0.00,2,     0.09,2,   -999.0,9,   -999.0,9,-999.0000,9,  -999.00,     1801
  49UF20130627,KS1306,  3936,  1,     32,  21991,2,20130706,1709,  7.9957, 136.9852, 2973,    101.7,  28.2238,  34.7799,2,-999.0000,9,    197.8,2,     1.04,2,     0.00,2,     0.00,2,     0.13,2,   -999.0,9,   -999.0,9,-999.0000,9,  -999.00,     1759
  49UF20130627,KS1306,  3936,  1,     31,  21990,2,20130706,1709,  7.9957, 136.9852, 2973,    126.4,  26.6843,  34.9337,2,-999.0000,9,    187.1,2,     1.59,2,     0.49,2,     0.08,2,     0.19,2,   -999.0,9,   -999.0,9,-999.0000,9,  -999.00,     1758
  49UF20130627,KS1306,  3936,  1,     27,  21986,2,20130706,1709,  7.9957, 136.9852, 2973,    152.1,  23.6232,  34.9788,2,-999.0000,9,    167.0,6,     3.38,6,     3.35,6,     0.13,6,     0.39,6,   -999.0,9,   -999.0,9,-999.0000,9,  -999.00,     1756
  49UF20130627,KS1306,  3936,  1,     26,  21985,2,20130706,1709,  7.9957, 136.9852, 2973,    205.2,  15.5183,  34.6430,2,-999.0000,9,    118.2,2,    15.39,2,    16.60,2,     0.01,2,     1.27,2,   -999.0,9,   -999.0,9,-999.0000,9,  -999.00,     1754
  49UF20130627,KS1306,  3936,  1,     25,  21984,2,20130706,1709,  7.9957, 136.9852, 2973,    205.2,  15.5183,  34.6430,2,-999.0000,9,    117.6,2,    15.44,2,    16.57,2,     0.01,2,     1.26,2,   -999.0,9,   -999.0,9,-999.0000,9,  -999.00,     1754
  49UF20130627,KS1306,  3936,  1,     21,  21980,2,20130706,1709,  7.9957, 136.9852, 2973,    252.8,  11.7255,  34.5258,2,-999.0000,9,     88.4,2,    26.69,2,    25.23,2,     0.00,2,     1.85,2,   -999.0,9,   -999.0,9,-999.0000,9,  -999.00,     1752
  49UF20130627,KS1306,  3936,  1,     20,  21979,2,20130706,1709,  7.9957, 136.9852, 2973,    303.0,  10.0425,  34.5368,2,-999.0000,9,     70.8,2,    33.79,2,    29.99,2,     0.00,2,     2.17,2,   -999.0,9,   -999.0,9,-999.0000,9,  -999.00,     1751
  49UF20130627,KS1306,  3936,  1,     19,  21978,2,20130706,1709,  7.9957, 136.9852, 2973,    404.0,   8.6471,  34.5395,2,-999.0000,9,     71.4,2,    40.68,2,    32.76,2,     0.00,2,     2.34,2,   -999.0,9,   -999.0,9,-999.0000,9,  -999.00,     1748
  49UF20130627,KS1306,  3936,  1,     15,  21974,2,20130706,1709,  7.9957, 136.9852, 2973,    504.5,   7.9380,  34.5373,2,-999.0000,9,     77.4,2,    44.69,2,    33.32,2,     0.00,2,     2.39,2,   -999.0,9,   -999.0,9,-999.0000,9,  -999.00,     1745
  49UF20130627,KS1306,  3936,  1,     14,  21973,3,20130706,1709,  7.9957, 136.9852, 2973,    605.2,   6.8803,  34.5261,2,-999.0000,9,     83.8,6,    53.95,6,    34.92,6,     0.00,6,     2.50,6,   -999.0,9,   -999.0,9,-999.0000,9,  -999.00,     1743
  49UF20130627,KS1306,  3936,  1,     13,  21972,2,20130706,1709,  7.9957, 136.9852, 2973,    706.2,   6.3979,  34.5231,2,-999.0000,9,     88.4,2,    59.00,2,    35.39,2,     0.00,2,     2.52,2,   -999.0,9,   -999.0,9,-999.0000,9,  -999.00,     1740
  49UF20130627,KS1306,  3936,  1,     12,  21994,2,20130706,1709,  7.9957, 136.9852, 2973,    807.2,   5.8719,  34.5260,2,-999.0000,9,     85.8,2,    67.27,2,    36.34,2,     0.00,2,     2.61,2,   -999.0,9,   -999.0,9,-999.0000,9,  -999.00,     1737
  49UF20130627,KS1306,  3936,  1,     11,  21970,2,20130706,1709,  7.9957, 136.9852, 2973,    908.2,   5.2361,  34.5352,2,-999.0000,9,     85.1,2,    78.15,2,    37.40,2,     0.00,2,     2.68,2,   -999.0,9,   -999.0,9,-999.0000,9,  -999.00,     1735
  49UF20130627,KS1306,  3936,  1,     10,  21969,2,20130706,1709,  7.9957, 136.9852, 2973,   1009.2,   4.6551,  34.5479,2,-999.0000,9,     86.5,2,    89.12,2,    38.01,2,     0.00,2,     2.73,2,   -999.0,9,   -999.0,9,-999.0000,9,  -999.00,     1732
  49UF20130627,KS1306,  3936,  1,      6,  21965,4,20130706,1709,  7.9957, 136.9852, 2973,   1211.4,   3.7596,  34.5717,2,-999.0000,9,    131.6,4,    10.46,4,    12.22,4,     0.01,4,     0.95,4,   -999.0,9,   -999.0,9,-999.0000,9,  -999.00,     1728
  49UF20130627,KS1306,  3936,  1,      5,  21964,2,20130706,1709,  7.9957, 136.9852, 2973,   1413.9,   3.1487,  34.5916,2,-999.0000,9,     97.2,6,   118.90,6,    38.66,6,     0.00,6,     2.76,6,   -999.0,9,   -999.0,9,-999.0000,9,  -999.00,     1723
  49UF20130627,KS1306,  3936,  1,      4,  21963,2,20130706,1709,  7.9957, 136.9852, 2973,   1618.5,   2.8150,  34.6048,2,-999.0000,9,    101.7,2,   125.78,2,    38.60,2,     0.00,2,     2.75,2,   -999.0,9,   -999.0,9,-999.0000,9,  -999.00,     1718
  49UF20130627,KS1306,  3936,  1,      3,  22079,2,20130706,1709,  7.9957, 136.9852, 2973,   1618.5,   2.8150,  34.6048,2,-999.0000,9,    101.9,2,   125.46,2,    38.57,2,     0.00,2,     2.75,2,   -999.0,9,   -999.0,9,-999.0000,9,  -999.00,     1718
  49UF20130627,KS1306,  3936,  1,      2,  21961,2,20130706,1709,  7.9957, 136.9852, 2973,   1819.6,   2.5745,  34.6158,2,-999.0000,9,    106.6,2,   130.62,2,    38.44,2,     0.00,2,     2.73,2,   -999.0,9,   -999.0,9,-999.0000,9,  -999.00,     1713
  49UF20130627,KS1306,  3936,  1,      1,  21960,2,20130706,1709,  7.9957, 136.9852, 2973,   2021.2,   2.2546,  34.6322,2,-999.0000,9,    114.4,2,   135.94,2,    37.98,2,     0.00,2,     2.70,2,   -999.0,9,   -999.0,9,-999.0000,9,  -999.00,     1709
  49UF20130627,KS1306,  3937,  1,     99,     99,2,20130707,0639,  6.9965, 136.9960, 4323,      0.0,  30.1672,  33.8151,2,-999.0000,9,    194.0,2,     1.04,2,     0.00,2,     0.00,2,     0.06,2,   -999.0,9,   -999.0,9,-999.0000,9,  -999.00,      719
  49UF20130627,KS1306,  3937,  1,     36,  21995,2,20130707,0639,  6.9965, 136.9960, 4323,     11.8,  29.7970,  33.7892,2,-999.0000,9,    195.0,2,     1.05,2,     0.00,2,     0.00,2,     0.06,2,   -999.0,9,   -999.0,9,-999.0000,9,  -999.00,      733
  49UF20130627,KS1306,  3937,  1,     35,  22087,2,20130707,0639,  6.9965, 136.9960, 4323,     26.7,  29.7382,  33.8227,2,-999.0000,9,    195.2,2,     1.01,2,     0.00,2,     0.00,2,     0.06,2,   -999.0,9,   -999.0,9,-999.0000,9,  -999.00,      732
  49UF20130627,KS1306,  3937,  1,     34,  21971,2,20130707,0639,  6.9965, 136.9960, 4323,     51.8,  29.5616,  34.0006,2,-999.0000,9,    196.1,2,     0.92,2,     0.00,2,     0.00,2,     0.07,2,   -999.0,9,   -999.0,9,-999.0000,9,  -999.00,      729
  49UF20130627,KS1306,  3937,  1,     33,  21992,2,20130707,0639,  6.9965, 136.9960, 4323,     76.6,  29.2538,  34.2952,2,-999.0000,9,    194.9,2,     1.01,2,     0.00,2,     0.00,2,     0.09,2,   -999.0,9,   -999.0,9,-999.0000,9,  -999.00,      728
  49UF20130627,KS1306,  3937,  1,     32,  21991,2,20130707,0639,  6.9965, 136.9960, 4323,    102.3,  27.4110,  34.5442,2,-999.0000,9,    181.4,2,     1.63,2,     0.11,2,     0.05,2,     0.17,2,   -999.0,9,   -999.0,9,-999.0000,9,  -999.00,      727
  49UF20130627,KS1306,  3937,  1,     31,  21990,2,20130707,0639,  6.9965, 136.9960, 4323,    127.0,  25.2431,  34.8069,2,-999.0000,9,    164.4,2,     2.78,2,     2.84,2,     0.26,2,     0.37,2,   -999.0,9,   -999.0,9,-999.0000,9,  -999.00,      726
  49UF20130627,KS1306,  3937,  1,     27,  21986,2,20130707,0639,  6.9965, 136.9960, 4323,    152.7,  19.4552,  34.8371,2,-999.0000,9,    149.5,2,     6.78,2,     8.18,2,     0.02,2,     0.70,2,   -999.0,9,   -999.0,9,-999.0000,9,  -999.00,      725
  49UF20130627,KS1306,  3937,  1,     26,  21985,2,20130707,0639,  6.9965, 136.9960, 4323,    152.7,  19.4552,  34.8371,2,-999.0000,9,    149.8,2,     6.75,2,     8.13,2,     0.02,2,     0.70,2,   -999.0,9,   -999.0,9,-999.0000,9,  -999.00,      725
  49UF20130627,KS1306,  3937,  1,     25,  21984,2,20130707,0639,  6.9965, 136.9960, 4323,    203.0,  13.9168,  34.5771,2,-999.0000,9,    105.2,6,    19.94,6,    20.34,6,     0.00,6,     1.52,6,   -999.0,9,   -999.0,9,-999.0000,9,  -999.00,      724
  49UF20130627,KS1306,  3937,  1,     21,  21980,2,20130707,0639,  6.9965, 136.9960, 4323,    253.2,  11.3486,  34.5194,2,-999.0000,9,     85.1,2,    27.98,2,    26.09,2,     0.00,2,     1.91,2,   -999.0,9,   -999.0,9,-999.0000,9,  -999.00,      722
  49UF20130627,KS1306,  3937,  1,     20,  21979,2,20130707,0639,  6.9965, 136.9960, 4323,    304.4,   9.6788,  34.5211,2,-999.0000,9,     92.5,2,    35.09,2,    28.71,2,     0.00,2,     2.07,2,   -999.0,9,   -999.0,9,-999.0000,9,  -999.00,      721
  49UF20130627,KS1306,  3937,  1,     19,  21978,2,20130707,0639,  6.9965, 136.9960, 4323,    404.8,   8.5297,  34.5463,2,-999.0000,9,    103.3,6,    38.52,6,    30.12,6,     0.00,6,     2.15,6,   -999.0,9,   -999.0,9,-999.0000,9,  -999.00,      718
  49UF20130627,KS1306,  3937,  1,     15,  21974,2,20130707,0639,  6.9965, 136.9960, 4323,    505.1,   7.6697,  34.5428,2,-999.0000,9,    108.8,2,    41.17,2,    31.54,2,     0.00,2,     2.23,2,   -999.0,9,   -999.0,9,-999.0000,9,  -999.00,      716
  49UF20130627,KS1306,  3937,  1,     14,  21973,2,20130707,0639,  6.9965, 136.9960, 4323,    605.6,   7.0284,  34.5317,2,-999.0000,9,    102.4,2,    47.68,2,    33.33,2,     0.00,2,     2.37,2,   -999.0,9,   -999.0,9,-999.0000,9,  -999.00,      713
  49UF20130627,KS1306,  3937,  1,     13,  21972,2,20130707,0639,  6.9965, 136.9960, 4323,    707.2,   6.3351,  34.5251,2,-999.0000,9,     90.9,2,    58.75,2,    35.48,2,     0.00,2,     2.53,2,   -999.0,9,   -999.0,9,-999.0000,9,  -999.00,      711
  49UF20130627,KS1306,  3937,  1,     12,  21994,2,20130707,0639,  6.9965, 136.9960, 4323,    809.0,   5.5089,  34.5337,2,-999.0000,9,     81.3,2,    73.80,2,    37.53,2,     0.00,2,     2.68,2,   -999.0,9,   -999.0,9,-999.0000,9,  -999.00,      708
  49UF20130627,KS1306,  3937,  1,     11,  21970,2,20130707,0639,  6.9965, 136.9960, 4323,    909.1,   4.9617,  34.5427,2,-999.0000,9,     83.3,2,    83.18,2,    38.09,2,     0.00,2,     2.73,2,   -999.0,9,   -999.0,9,-999.0000,9,  -999.00,      706
  49UF20130627,KS1306,  3937,  1,     10,  21969,2,20130707,0639,  6.9965, 136.9960, 4323,   1010.0,   4.4501,  34.5550,2,-999.0000,9,     87.0,2,    92.21,2,    38.59,2,     0.00,2,     2.75,2,   -999.0,9,   -999.0,9,-999.0000,9,  -999.00,      703
  49UF20130627,KS1306,  3937,  1,      6,  21965,2,20130707,0639,  6.9965, 136.9960, 4323,   1212.8,   3.6924,  34.5761,2,-999.0000,9,     92.8,6,   106.36,6,    38.85,6,     0.00,6,     2.78,6,   -999.0,9,   -999.0,9,-999.0000,9,  -999.00,      658
  49UF20130627,KS1306,  3937,  1,      5,  21964,2,20130707,0639,  6.9965, 136.9960, 4323,   1414.8,   3.2380,  34.5905,2,-999.0000,9,     96.9,2,   116.05,2,    38.82,2,     0.00,2,     2.78,2,   -999.0,9,   -999.0,9,-999.0000,9,  -999.00,      653
  49UF20130627,KS1306,  3937,  1,      4,  21963,2,20130707,0639,  6.9965, 136.9960, 4323,   1414.8,   3.2380,  34.5905,2,-999.0000,9,     96.9,2,   116.24,2,    39.01,2,     0.00,2,     2.77,2,   -999.0,9,   -999.0,9,-999.0000,9,  -999.00,      653
  49UF20130627,KS1306,  3937,  1,      3,  22079,3,20130707,0639,  6.9965, 136.9960, 4323,   1618.0,   2.8285,  34.6057,2,-999.0000,9,    101.0,2,   124.93,2,    38.85,2,     0.00,2,     2.76,2,   -999.0,9,   -999.0,9,-999.0000,9,  -999.00,      648
  49UF20130627,KS1306,  3937,  1,      2,  21961,2,20130707,0639,  6.9965, 136.9960, 4323,   1819.8,   2.3883,  34.6253,2,-999.0000,9,    110.1,2,   133.45,2,    38.64,2,     0.00,2,     2.73,2,   -999.0,9,   -999.0,9,-999.0000,9,  -999.00,      644
  49UF20130627,KS1306,  3937,  1,      1,  21960,2,20130707,0639,  6.9965, 136.9960, 4323,   2022.8,   2.1847,  34.6361,2,-999.0000,9,    115.7,2,   137.17,2,    38.44,2,     0.00,2,     2.70,2,   -999.0,9,   -999.0,9,-999.0000,9,  -999.00,      639
  49UF20130627,KS1306,  3938,  1,     99,     99,2,20130707,1309,  5.9957, 136.9900, 4278,      0.0,  29.9997,  33.8161,2,-999.0000,9,    194.3,2,     1.00,2,     0.01,2,     0.00,2,     0.09,2,   -999.0,9,   -999.0,9,-999.0000,9,  -999.00,     1342
  49UF20130627,KS1306,  3938,  1,     36,  21995,2,20130707,1309,  5.9957, 136.9900, 4278,     10.6,  29.8874,  33.8221,2,  33.8262,4,    194.6,2,     0.96,2,     0.01,2,     0.00,2,     0.04,2,   -999.0,9,   -999.0,9,-999.0000,9,  -999.00,     1406
  49UF20130627,KS1306,  3938,  1,     35,  22087,2,20130707,1309,  5.9957, 136.9900, 4278,     25.6,  29.7081,  33.8373,2,-999.0000,9,    194.9,2,     0.92,2,     0.00,2,     0.00,2,     0.05,2,   -999.0,9,   -999.0,9,-999.0000,9,  -999.00,     1405
  49UF20130627,KS1306,  3938,  1,     34,  21971,2,20130707,1309,  5.9957, 136.9900, 4278,     50.7,  29.7486,  33.9468,2,-999.0000,9,    196.0,2,     0.96,2,     0.02,2,     0.00,2,     0.05,2,   -999.0,9,   -999.0,9,-999.0000,9,  -999.00,     1402
  49UF20130627,KS1306,  3938,  1,     33,  21992,2,20130707,1309,  5.9957, 136.9900, 4278,     76.1,  28.7358,  34.3816,2,-999.0000,9,    194.3,2,     1.01,2,     0.01,2,     0.00,2,     0.09,2,   -999.0,9,   -999.0,9,-999.0000,9,  -999.00,     1400
  49UF20130627,KS1306,  3938,  1,     32,  21991,2,20130707,1309,  5.9957, 136.9900, 4278,    100.9,  27.1156,  34.6426,2,  34.6644,4,    183.7,2,     1.52,2,     0.25,2,     0.05,2,     0.17,2,   -999.0,9,   -999.0,9,-999.0000,9,  -999.00,     1359
  49UF20130627,KS1306,  3938,  1,     31,  21990,2,20130707,1309,  5.9957, 136.9900, 4278,    125.3,  21.5371,  34.8943,2,-999.0000,9,    155.3,2,     4.97,2,     6.44,2,     0.03,2,     0.57,2,   -999.0,9,   -999.0,9,-999.0000,9,  -999.00,     1358
  49UF20130627,KS1306,  3938,  1,     27,  21986,2,20130707,1309,  5.9957, 136.9900, 4278,    150.5,  18.5818,  34.7872,2,-999.0000,9,    135.0,6,     9.79,6,    11.64,6,     0.01,6,     0.91,6,   -999.0,9,   -999.0,9,-999.0000,9,  -999.00,     1357
  49UF20130627,KS1306,  3938,  1,     26,  21985,2,20130707,1309,  5.9957, 136.9900, 4278,    200.7,  13.1134,  34.5535,2,  34.5498,2,    103.1,2,    22.25,2,    21.84,2,     0.00,2,     1.60,2,   -999.0,9,   -999.0,9,-999.0000,9,  -999.00,     1355
  49UF20130627,KS1306,  3938,  1,     25,  21984,2,20130707,1309,  5.9957, 136.9900, 4278,    200.7,  13.1134,  34.5535,2,  34.5520,2,    103.2,2,    22.24,2,    21.83,2,     0.00,2,     1.60,2,   -999.0,9,   -999.0,9,-999.0000,9,  -999.00,     1355
  49UF20130627,KS1306,  3938,  1,     21,  21980,2,20130707,1309,  5.9957, 136.9900, 4278,    252.1,  10.3519,  34.5480,2,-999.0000,9,     68.8,2,    32.48,2,    29.79,2,     0.00,2,     2.15,2,   -999.0,9,   -999.0,9,-999.0000,9,  -999.00,     1353
  49UF20130627,KS1306,  3938,  1,     20,  21979,2,20130707,1309,  5.9957, 136.9900, 4278,    303.3,   9.0464,  34.5559,2,-999.0000,9,     70.4,2,    37.95,2,    32.14,2,     0.00,2,     2.29,2,   -999.0,9,   -999.0,9,-999.0000,9,  -999.00,     1352
  49UF20130627,KS1306,  3938,  1,     19,  21978,2,20130707,1309,  5.9957, 136.9900, 4278,    403.5,   8.0014,  34.5497,2,  34.5484,2,     94.1,2,    41.31,2,    32.11,2,     0.00,2,     2.28,2,   -999.0,9,   -999.0,9,-999.0000,9,  -999.00,     1349
  49UF20130627,KS1306,  3938,  1,     15,  21974,2,20130707,1309,  5.9957, 136.9900, 4278,    503.5,   7.4905,  34.5459,2,-999.0000,9,     99.8,2,    43.35,2,    32.67,2,     0.00,2,     2.32,2,   -999.0,9,   -999.0,9,-999.0000,9,  -999.00,     1346
  49UF20130627,KS1306,  3938,  1,     14,  21973,2,20130707,1309,  5.9957, 136.9900, 4278,    605.6,   6.9763,  34.5367,2,  34.5371,6,    101.9,6,    47.39,6,    33.51,6,     0.00,6,     2.38,6,   -999.0,9,   -999.0,9,-999.0000,9,  -999.00,     1344
  49UF20130627,KS1306,  3938,  1,     13,  21972,2,20130707,1309,  5.9957, 136.9900, 4278,    705.6,   6.3279,  34.5258,2,-999.0000,9,     90.6,2,    59.14,2,    35.52,2,     0.00,2,     2.53,2,   -999.0,9,   -999.0,9,-999.0000,9,  -999.00,     1341
  49UF20130627,KS1306,  3938,  1,     12,  21994,2,20130707,1309,  5.9957, 136.9900, 4278,    806.2,   5.7256,  34.5312,2,  34.5310,2,     94.1,2,    66.09,2,    36.37,2,     0.00,2,     2.60,2,   -999.0,9,   -999.0,9,-999.0000,9,  -999.00,     1338
  49UF20130627,KS1306,  3938,  1,     11,  21970,2,20130707,1309,  5.9957, 136.9900, 4278,    907.7,   4.9603,  34.5433,2,-999.0000,9,     88.5,2,    82.00,2,    37.79,2,     0.00,2,     2.69,2,   -999.0,9,   -999.0,9,-999.0000,9,  -999.00,     1335
  49UF20130627,KS1306,  3938,  1,     10,  21969,2,20130707,1309,  5.9957, 136.9900, 4278,   1009.5,   4.5130,  34.5539,2,  34.5538,2,     87.4,2,    91.05,2,    38.48,2,     0.00,2,     2.75,2,   -999.0,9,   -999.0,9,-999.0000,9,  -999.00,     1333
  49UF20130627,KS1306,  3938,  1,      6,  21965,2,20130707,1309,  5.9957, 136.9900, 4278,   1211.2,   3.7323,  34.5750,2,  34.5738,2,     92.7,2,   106.27,2,    38.86,2,     0.00,2,     2.77,2,   -999.0,9,   -999.0,9,-999.0000,9,  -999.00,     1328
  49UF20130627,KS1306,  3938,  1,      5,  21964,2,20130707,1309,  5.9957, 136.9900, 4278,   1414.4,   3.1375,  34.5940,2,  34.5949,2,     97.0,6,   118.97,6,    39.06,6,     0.00,6,     2.77,6,   -999.0,9,   -999.0,9,-999.0000,9,  -999.00,     1323
  49UF20130627,KS1306,  3938,  1,      4,  21963,2,20130707,1309,  5.9957, 136.9900, 4278,   1615.6,   2.7218,  34.6109,2,  34.6135,4,    104.1,2,   127.21,2,    38.65,2,     0.00,2,     2.76,2,   -999.0,9,   -999.0,9,-999.0000,9,  -999.00,     1319
  49UF20130627,KS1306,  3938,  1,      3,  22079,2,20130707,1309,  5.9957, 136.9900, 4278,   1615.6,   2.7218,  34.6109,2,  34.6118,6,    104.2,2,   127.10,2,    38.78,2,     0.00,2,     2.75,2,   -999.0,9,   -999.0,9,-999.0000,9,  -999.00,     1319
  49UF20130627,KS1306,  3938,  1,      2,  21961,2,20130707,1309,  5.9957, 136.9900, 4278,   1818.2,   2.4112,  34.6254,2,  34.6260,2,    109.4,2,   134.04,2,    38.69,2,     0.00,2,     2.74,2,   -999.0,9,   -999.0,9,-999.0000,9,  -999.00,     1314
  49UF20130627,KS1306,  3938,  1,      1,  21960,2,20130707,1309,  5.9957, 136.9900, 4278,   2021.8,   2.2099,  34.6359,2,  34.6360,2,    114.4,2,   137.53,2,    38.35,2,     0.00,2,     2.71,2,   -999.0,9,   -999.0,9,-999.0000,9,  -999.00,     1309