BOTTLE,20191021PRINUNIVRMK
EXPOCODE,SECT_ID,STNNBR,CASTNO,SAMPNO,BTLNBR,BTLNBR_FLAG_W,DATE,TIME,LATITUDE,LONGITUDE,DEPTH,CTDPRS,CTDTMP,CTDSAL,CTDSAL_FLAG_W,SALNTY,SALNTY_FLAG_W,OXYGEN,OXYGEN_FLAG_W,SILCAT,SILCAT_FLAG_W,NITRAT,NITRAT_FLAG_W,NITRIT,NITRIT_FLAG_W,PHSPHT,PHSPHT_FLAG_W,TCARBN,TCARBN_FLAG_W,ALKALI,ALKALI_FLAG_W,PH_TOT,PH_TOT_FLAG_W,PH_TMP,BTL_TIME
,,,,,,,,,,,METERS,DBAR,ITS-90,PSS-78,,PSS-78,,UMOL/KG,,UMOL/KG,,UMOL/KG,,UMOL/KG,,UMOL/KG,,UMOL/KG,,UMOL/KG,,,,DEG C,
  49UF20130627,KS1306,  3945,  1,     99,     99,2,20130720,1121,  2.4100, 140.0313, 4135,      0.0,  29.7830,  33.6042,2,-999.0000,9,    195.8,2,     1.33,2,     0.04,2,     0.00,2,     0.04,2,   -999.0,9,   -999.0,9,-999.0000,9,  -999.00,     1200
  49UF20130627,KS1306,  3945,  1,     36,  21995,2,20130720,1121,  2.4100, 140.0313, 4135,     11.5,  29.7860,  33.7622,2,-999.0000,9,    195.2,2,     1.24,2,     0.02,2,     0.00,2,     0.04,2,   -999.0,9,   -999.0,9,-999.0000,9,  -999.00,     1222
  49UF20130627,KS1306,  3945,  1,     35,  22087,2,20130720,1121,  2.4100, 140.0313, 4135,     26.4,  30.0422,  34.0198,2,-999.0000,9,    195.2,2,     1.22,2,     0.00,2,     0.00,2,     0.05,2,   -999.0,9,   -999.0,9,-999.0000,9,  -999.00,     1221
  49UF20130627,KS1306,  3945,  1,     34,  21971,2,20130720,1121,  2.4100, 140.0313, 4135,     50.3,  29.8106,  34.0900,2,-999.0000,9,    196.3,2,     1.33,2,     0.03,2,     0.00,2,     0.09,2,   -999.0,9,   -999.0,9,-999.0000,9,  -999.00,     1216
  49UF20130627,KS1306,  3945,  1,     33,  21992,2,20130720,1121,  2.4100, 140.0313, 4135,     76.5,  29.6276,  35.0132,2,-999.0000,9,    183.8,2,     1.52,2,     0.78,2,     0.41,2,     0.29,2,   -999.0,9,   -999.0,9,-999.0000,9,  -999.00,     1215
  49UF20130627,KS1306,  3945,  1,     32,  21991,2,20130720,1121,  2.4100, 140.0313, 4135,    102.0,  28.5676,  35.2796,2,-999.0000,9,    163.2,2,     1.98,2,     4.33,2,     0.13,2,     0.49,2,   -999.0,9,   -999.0,9,-999.0000,9,  -999.00,     1214
  49UF20130627,KS1306,  3945,  1,     31,  21990,2,20130720,1121,  2.4100, 140.0313, 4135,    126.5,  26.6991,  35.1453,2,-999.0000,9,    142.1,6,     3.19,6,     6.94,6,     0.05,6,     0.61,6,   -999.0,9,   -999.0,9,-999.0000,9,  -999.00,     1213
  49UF20130627,KS1306,  3945,  1,     27,  21986,2,20130720,1121,  2.4100, 140.0313, 4135,    151.0,  22.7212,  35.0108,2,-999.0000,9,    144.6,2,     5.76,2,     7.71,2,     0.02,2,     0.64,2,   -999.0,9,   -999.0,9,-999.0000,9,  -999.00,     1212
  49UF20130627,KS1306,  3945,  1,     26,  21985,2,20130720,1121,  2.4100, 140.0313, 4135,    151.0,  22.7212,  35.0108,2,-999.0000,9,    144.7,2,     5.81,2,     7.72,2,     0.02,2,     0.64,2,   -999.0,9,   -999.0,9,-999.0000,9,  -999.00,     1212
  49UF20130627,KS1306,  3945,  1,     25,  21984,2,20130720,1121,  2.4100, 140.0313, 4135,    202.5,  15.5144,  34.6427,2,-999.0000,9,    126.8,2,    15.08,2,    15.65,2,     0.01,2,     1.18,2,   -999.0,9,   -999.0,9,-999.0000,9,  -999.00,     1210
  49UF20130627,KS1306,  3945,  1,     21,  21980,2,20130720,1121,  2.4100, 140.0313, 4135,    254.8,  10.4753,  34.5242,2,-999.0000,9,    103.2,2,    31.58,2,    26.13,2,     0.00,2,     1.89,2,   -999.0,9,   -999.0,9,-999.0000,9,  -999.00,     1208
  49UF20130627,KS1306,  3945,  1,     20,  21979,2,20130720,1121,  2.4100, 140.0313, 4135,    304.7,   9.5303,  34.5517,2,-999.0000,9,    101.7,2,    35.05,2,    28.24,2,     0.00,2,     2.02,2,   -999.0,9,   -999.0,9,-999.0000,9,  -999.00,     1206
  49UF20130627,KS1306,  3945,  1,     19,  21978,2,20130720,1121,  2.4100, 140.0313, 4135,    405.5,   7.8012,  34.5605,2,-999.0000,9,    112.9,6,    39.56,6,    30.87,6,     0.00,6,     2.19,6,   -999.0,9,   -999.0,9,-999.0000,9,  -999.00,     1203
  49UF20130627,KS1306,  3945,  1,     15,  21974,2,20130720,1121,  2.4100, 140.0313, 4135,    506.4,   7.3930,  34.5541,2,-999.0000,9,    120.9,2,    39.88,2,    31.19,2,     0.00,2,     2.20,2,   -999.0,9,   -999.0,9,-999.0000,9,  -999.00,     1200
  49UF20130627,KS1306,  3945,  1,     14,  21973,2,20130720,1121,  2.4100, 140.0313, 4135,    607.0,   6.7472,  34.5408,2,-999.0000,9,    118.5,2,    43.12,2,    32.85,2,     0.00,2,     2.31,2,   -999.0,9,   -999.0,9,-999.0000,9,  -999.00,     1157
  49UF20130627,KS1306,  3945,  1,     13,  21972,2,20130720,1121,  2.4100, 140.0313, 4135,    707.8,   6.0608,  34.5309,2,-999.0000,9,    114.6,2,    52.63,2,    34.53,2,     0.00,2,     2.43,2,   -999.0,9,   -999.0,9,-999.0000,9,  -999.00,     1154
  49UF20130627,KS1306,  3945,  1,     12,  21994,2,20130720,1121,  2.4100, 140.0313, 4135,    808.7,   5.2518,  34.5391,2,-999.0000,9,     96.7,2,    71.09,2,    37.16,2,     0.00,2,     2.64,2,   -999.0,9,   -999.0,9,-999.0000,9,  -999.00,     1150
  49UF20130627,KS1306,  3945,  1,     11,  21970,2,20130720,1121,  2.4100, 140.0313, 4135,    910.2,   4.6345,  34.5524,2,-999.0000,9,     91.6,2,    85.09,2,    38.21,2,     0.00,2,     2.72,2,   -999.0,9,   -999.0,9,-999.0000,9,  -999.00,     1147
  49UF20130627,KS1306,  3945,  1,     10,  21969,3,20130720,1121,  2.4100, 140.0313, 4135,   1012.8,   4.2561,  34.5617,2,-999.0000,9,     95.3,2,    92.46,2,    38.20,2,     0.00,2,     2.73,2,   -999.0,9,   -999.0,9,-999.0000,9,  -999.00,     1144
  49UF20130627,KS1306,  3945,  1,      6,  21965,2,20130720,1121,  2.4100, 140.0313, 4135,   1213.6,   3.6606,  34.5786,2,-999.0000,9,     95.5,2,   105.56,2,    38.80,2,     0.00,2,     2.76,2,   -999.0,9,   -999.0,9,-999.0000,9,  -999.00,     1139
  49UF20130627,KS1306,  3945,  1,      5,  21964,2,20130720,1121,  2.4100, 140.0313, 4135,   1413.6,   3.1282,  34.5962,2,-999.0000,9,     98.2,2,   117.77,2,    39.08,2,     0.00,2,     2.78,2,   -999.0,9,   -999.0,9,-999.0000,9,  -999.00,     1134
  49UF20130627,KS1306,  3945,  1,      4,  21963,2,20130720,1121,  2.4100, 140.0313, 4135,   1413.6,   3.1282,  34.5962,2,-999.0000,9,     98.4,2,   117.85,2,    39.24,2,     0.00,2,     2.78,2,   -999.0,9,   -999.0,9,-999.0000,9,  -999.00,     1134
  49UF20130627,KS1306,  3945,  1,      3,  22079,3,20130720,1121,  2.4100, 140.0313, 4135,   1617.4,   2.6927,  34.6131,2,-999.0000,9,    105.2,2,   127.01,2,    38.94,2,     0.00,2,     2.74,2,   -999.0,9,   -999.0,9,-999.0000,9,  -999.00,     1130
  49UF20130627,KS1306,  3945,  1,      2,  21961,2,20130720,1121,  2.4100, 140.0313, 4135,   1819.8,   2.3629,  34.6287,2,-999.0000,9,    111.6,6,   133.99,6,    38.65,6,     0.00,6,     2.72,6,   -999.0,9,   -999.0,9,-999.0000,9,  -999.00,     1126
  49UF20130627,KS1306,  3945,  1,      1,  21960,2,20130720,1121,  2.4100, 140.0313, 4135,   2022.2,   2.1249,  34.6410,2,-999.0000,9,    117.2,2,   138.54,2,    38.33,2,     0.00,2,     2.69,2,   -999.0,9,   -999.0,9,-999.0000,9,  -999.00,     1121
  49UF20130627,KS1306,  3947,  1,     99,     99,2,20130721,0158,  1.9987, 142.0092, 2583,      0.0,  30.0396,  34.0159,2,-999.0000,9,    193.3,2,     1.10,2,     0.00,2,     0.00,2,     0.09,2,   -999.0,9,   -999.0,9,-999.0000,9,  -999.00,      240
  49UF20130627,KS1306,  3947,  1,     36,  21995,2,20130721,0158,  1.9987, 142.0092, 2583,     11.3,  30.0349,  34.1050,2,  34.1142,4,    195.0,2,     1.08,2,     0.00,2,     0.00,2,     0.08,2,   -999.0,9,   -999.0,9,-999.0000,9,  -999.00,      255
  49UF20130627,KS1306,  3947,  1,     35,  22087,2,20130721,0158,  1.9987, 142.0092, 2583,     26.5,  30.0173,  34.1780,2,-999.0000,9,    195.9,2,     1.06,2,     0.00,2,     0.00,2,     0.08,2,   -999.0,9,   -999.0,9,-999.0000,9,  -999.00,      254
  49UF20130627,KS1306,  3947,  1,     34,  21971,2,20130721,0158,  1.9987, 142.0092, 2583,     52.0,  30.1110,  34.6049,2,-999.0000,9,    197.7,2,     1.06,2,     0.00,2,     0.00,2,     0.14,2,   -999.0,9,   -999.0,9,-999.0000,9,  -999.00,      251
  49UF20130627,KS1306,  3947,  1,     33,  21992,2,20130721,0158,  1.9987, 142.0092, 2583,     76.9,  29.5412,  35.1445,2,-999.0000,9,    185.2,2,     1.36,2,     1.45,2,     0.11,2,     0.33,2,   -999.0,9,   -999.0,9,-999.0000,9,  -999.00,      249
  49UF20130627,KS1306,  3947,  1,     32,  21991,2,20130721,0158,  1.9987, 142.0092, 2583,    102.4,  28.2675,  35.4043,2,  35.4172,4,    160.6,6,     1.87,6,     5.23,6,     0.15,6,     0.55,6,   -999.0,9,   -999.0,9,-999.0000,9,  -999.00,      248
  49UF20130627,KS1306,  3947,  1,     31,  21990,2,20130721,0158,  1.9987, 142.0092, 2583,    126.6,  26.1107,  35.4282,2,-999.0000,9,    141.6,2,     2.84,2,     7.66,2,     0.03,2,     0.66,2,   -999.0,9,   -999.0,9,-999.0000,9,  -999.00,      247
  49UF20130627,KS1306,  3947,  1,     27,  21986,2,20130721,0158,  1.9987, 142.0092, 2583,    153.8,  24.1612,  35.1333,2,-999.0000,9,    137.6,2,     4.64,2,     8.15,2,     0.03,2,     0.67,2,   -999.0,9,   -999.0,9,-999.0000,9,  -999.00,      245
  49UF20130627,KS1306,  3947,  1,     26,  21985,2,20130721,0158,  1.9987, 142.0092, 2583,    203.2,  19.2515,  34.9718,2,  34.9676,4,    140.6,2,     9.33,2,    10.93,2,     0.01,2,     0.84,2,   -999.0,9,   -999.0,9,-999.0000,9,  -999.00,      244
  49UF20130627,KS1306,  3947,  1,     25,  21984,2,20130721,0158,  1.9987, 142.0092, 2583,    203.2,  19.2515,  34.9718,2,  34.9662,4,    140.6,2,     9.41,2,    11.01,2,     0.01,2,     0.85,2,   -999.0,9,   -999.0,9,-999.0000,9,  -999.00,      244
  49UF20130627,KS1306,  3947,  1,     21,  21980,2,20130721,0158,  1.9987, 142.0092, 2583,    252.8,  13.1610,  34.5476,2,-999.0000,9,    126.8,2,    22.67,2,    19.48,2,     0.01,2,     1.43,2,   -999.0,9,   -999.0,9,-999.0000,9,  -999.00,      242
  49UF20130627,KS1306,  3947,  1,     20,  21979,2,20130721,0158,  1.9987, 142.0092, 2583,    302.9,  10.3432,  34.6572,2,-999.0000,9,    123.7,6,    29.19,6,    25.23,6,     0.00,6,     1.81,6,   -999.0,9,   -999.0,9,-999.0000,9,  -999.00,      240
  49UF20130627,KS1306,  3947,  1,     19,  21978,2,20130721,0158,  1.9987, 142.0092, 2583,    403.4,   8.5214,  34.6155,2,  34.6167,2,    121.9,2,    30.70,2,    28.97,2,     0.00,2,     2.03,2,   -999.0,9,   -999.0,9,-999.0000,9,  -999.00,      237
  49UF20130627,KS1306,  3947,  1,     15,  21974,2,20130721,0158,  1.9987, 142.0092, 2583,    504.0,   7.7926,  34.5779,2,-999.0000,9,    129.6,2,    32.74,2,    29.82,2,     0.00,2,     2.09,2,   -999.0,9,   -999.0,9,-999.0000,9,  -999.00,      234
  49UF20130627,KS1306,  3947,  1,     14,  21973,2,20130721,0158,  1.9987, 142.0092, 2583,    605.0,   6.8833,  34.5402,2,  34.5395,2,    126.9,2,    41.32,2,    31.79,2,     0.00,2,     2.23,2,   -999.0,9,   -999.0,9,-999.0000,9,  -999.00,      232
  49UF20130627,KS1306,  3947,  1,     13,  21972,2,20130721,0158,  1.9987, 142.0092, 2583,    706.3,   5.9144,  34.5320,2,-999.0000,9,    102.1,2,    59.22,2,    35.61,2,     0.00,2,     2.53,2,   -999.0,9,   -999.0,9,-999.0000,9,  -999.00,      229
  49UF20130627,KS1306,  3947,  1,     12,  21994,2,20130721,0158,  1.9987, 142.0092, 2583,    808.7,   5.2802,  34.5353,2,  34.5342,2,    103.9,2,    69.92,2,    36.23,2,     0.00,2,     2.57,2,   -999.0,9,   -999.0,9,-999.0000,9,  -999.00,      226
  49UF20130627,KS1306,  3947,  1,     11,  21970,2,20130721,0158,  1.9987, 142.0092, 2583,    908.8,   4.8276,  34.5477,2,-999.0000,9,     92.5,2,    81.62,2,    37.88,2,     0.00,2,     2.69,2,   -999.0,9,   -999.0,9,-999.0000,9,  -999.00,      223
  49UF20130627,KS1306,  3947,  1,     10,  21969,2,20130721,0158,  1.9987, 142.0092, 2583,   1010.1,   4.4589,  34.5567,2,  34.5567,2,     93.3,2,    89.25,2,    38.20,2,     0.00,2,     2.71,2,   -999.0,9,   -999.0,9,-999.0000,9,  -999.00,      220
  49UF20130627,KS1306,  3947,  1,      6,  21965,2,20130721,0158,  1.9987, 142.0092, 2583,   1211.5,   3.7576,  34.5758,2,  34.5756,2,     94.6,2,   103.93,2,    38.75,2,     0.00,2,     2.77,2,   -999.0,9,   -999.0,9,-999.0000,9,  -999.00,      216
  49UF20130627,KS1306,  3947,  1,      5,  21964,2,20130721,0158,  1.9987, 142.0092, 2583,   1211.5,   3.7576,  34.5758,2,  34.5752,2,     94.5,2,   103.64,2,    38.64,2,     0.00,2,     2.76,2,   -999.0,9,   -999.0,9,-999.0000,9,  -999.00,      216
  49UF20130627,KS1306,  3947,  1,      4,  21963,2,20130721,0158,  1.9987, 142.0092, 2583,   1414.1,   3.0653,  34.5983,2,  34.5985,2,    100.8,2,   118.72,2,    38.84,2,     0.00,2,     2.76,2,   -999.0,9,   -999.0,9,-999.0000,9,  -999.00,      211
  49UF20130627,KS1306,  3947,  1,      3,  22079,2,20130721,0158,  1.9987, 142.0092, 2583,   1617.7,   2.6190,  34.6172,2,  34.6170,2,    110.6,2,   125.65,2,    38.33,2,     0.00,2,     2.71,2,   -999.0,9,   -999.0,9,-999.0000,9,  -999.00,      207
  49UF20130627,KS1306,  3947,  1,      2,  21961,2,20130721,0158,  1.9987, 142.0092, 2583,   1819.3,   2.3845,  34.6275,2,  34.6267,2,    113.9,2,   131.69,2,    38.31,2,     0.00,2,     2.70,2,   -999.0,9,   -999.0,9,-999.0000,9,  -999.00,      202
  49UF20130627,KS1306,  3947,  1,      1,  21960,2,20130721,0158,  1.9987, 142.0092, 2583,   2023.0,   2.1554,  34.6400,2,  34.6396,2,    119.4,6,   136.08,6,    38.07,6,     0.00,6,     2.68,6,   -999.0,9,   -999.0,9,-999.0000,9,  -999.00,      158
  49UF20130627,KS1306,  3949,  1,     99,     99,2,20130721,1357, -0.0028, 141.9952, 3383,      0.0,  29.9184,  33.9899,2,  33.9818,4,    194.7,2,     1.17,2,     0.00,2,     0.00,2,     0.10,2,   1894.5,2,   2231.8,2,   8.1242,2,    25.00,     1423
  49UF20130627,KS1306,  3949,  1,     36,  21995,3,20130721,1357, -0.0028, 141.9952, 3383,     11.2,  29.9592,  34.0140,2,-999.0000,9,    195.6,2,     1.13,2,     0.00,2,     0.00,2,     0.08,2,   1902.4,2,   2244.6,2,   8.1243,2,    25.00,     1454
  49UF20130627,KS1306,  3949,  1,     35,  22087,2,20130721,1357, -0.0028, 141.9952, 3383,     25.9,  30.3009,  34.6608,2,-999.0000,9,    200.3,2,     1.00,2,     0.00,2,     0.00,2,     0.13,2,   1930.5,2,   2287.2,2,   8.1202,2,    25.00,     1453
  49UF20130627,KS1306,  3949,  1,     34,  21971,2,20130721,1357, -0.0028, 141.9952, 3383,     50.3,  30.2966,  34.8026,2,-999.0000,9,    199.7,2,     1.02,2,     0.00,2,     0.00,2,     0.15,2,   1941.3,2,   2286.2,2,   8.1181,2,    25.00,     1450
  49UF20130627,KS1306,  3949,  1,     33,  21992,2,20130721,1357, -0.0028, 141.9952, 3383,     76.8,  29.4817,  35.2174,2,-999.0000,9,    182.5,2,     1.45,2,     1.43,2,     0.26,2,     0.34,2,   1997.4,2,   2314.2,2,   8.0649,2,    25.00,     1449
  49UF20130627,KS1306,  3949,  1,     32,  21991,2,20130721,1357, -0.0028, 141.9952, 3383,    101.8,  27.5658,  35.4090,2,-999.0000,9,    152.1,2,     2.40,2,     6.32,2,     0.11,2,     0.60,2,   2041.3,2,   2321.1,2,   7.9945,2,    25.00,     1447
  49UF20130627,KS1306,  3949,  1,     31,  21990,2,20130721,1357, -0.0028, 141.9952, 3383,    127.6,  24.1020,  35.5510,2,-999.0000,9,    135.5,6,     2.86,6,     8.31,6,     0.02,6,     0.71,6,   2080.6,2,   2328.3,2,   7.9414,2,    25.00,     1446
  49UF20130627,KS1306,  3949,  1,     27,  21986,2,20130721,1357, -0.0028, 141.9952, 3383,    153.4,  22.3099,  35.5217,2,-999.0000,9,    134.3,2,     3.61,2,     9.18,2,     0.01,2,     0.76,2,   2094.5,6,   2333.3,6,   7.9140,2,    25.00,     1445
  49UF20130627,KS1306,  3949,  1,     26,  21985,2,20130721,1357, -0.0028, 141.9952, 3383,    204.2,  17.5977,  35.3327,2,-999.0000,9,    142.0,2,     6.18,2,    12.34,2,     0.01,2,     0.97,2,   2123.2,2,   2329.3,2,   7.8442,6,    25.00,     1443
  49UF20130627,KS1306,  3949,  1,     25,  21984,2,20130721,1357, -0.0028, 141.9952, 3383,    253.8,  13.6191,  34.7819,2,-999.0000,9,    132.4,2,    20.32,2,    18.94,2,     0.00,2,     1.39,2,   2153.1,2,   2301.1,2,   7.7404,2,    25.00,     1441
  49UF20130627,KS1306,  3949,  1,     21,  21980,2,20130721,1357, -0.0028, 141.9952, 3383,    303.6,  12.8215,  34.9624,2,-999.0000,9,    152.2,2,    11.79,2,    17.92,2,     0.00,2,     1.32,2,   2148.9,2,   2305.7,2,   7.7577,2,    25.00,     1439
  49UF20130627,KS1306,  3949,  1,     20,  21979,2,20130721,1357, -0.0028, 141.9952, 3383,    303.6,  12.8215,  34.9624,2,-999.0000,9,    152.2,2,    11.78,2,    17.92,2,     0.00,2,     1.32,2,   2152.2,2,   2303.8,2,   7.7572,2,    25.00,     1439
  49UF20130627,KS1306,  3949,  1,     19,  21978,2,20130721,1357, -0.0028, 141.9952, 3383,    405.4,   9.2972,  34.6792,2,-999.0000,9,    150.5,6,    19.98,6,    24.55,6,     0.00,6,     1.75,6,   2179.4,2,   2310.0,2,   7.6684,2,    25.00,     1436
  49UF20130627,KS1306,  3949,  1,     15,  21974,2,20130721,1357, -0.0028, 141.9952, 3383,    506.7,   8.0938,  34.5898,2,-999.0000,9,    165.4,2,    21.88,2,    25.60,2,     0.01,2,     1.81,2,   2184.3,2,   2295.2,2,   7.6624,2,    25.00,     1433
  49UF20130627,KS1306,  3949,  1,     14,  21973,2,20130721,1357, -0.0028, 141.9952, 3383,    606.9,   6.3369,  34.5356,2,-999.0000,9,    115.5,2,    46.83,2,    33.90,2,     0.00,2,     2.40,2,   2242.9,2,   2317.1,2,   7.5520,2,    25.00,     1430
  49UF20130627,KS1306,  3949,  1,     13,  21972,2,20130721,1357, -0.0028, 141.9952, 3383,    706.6,   5.9650,  34.5327,2,-999.0000,9,    109.0,2,    53.47,2,    35.16,2,     0.00,2,     2.49,2,   2251.2,2,   2320.3,2,   7.5375,2,    25.00,     1428
  49UF20130627,KS1306,  3949,  1,     12,  21994,2,20130721,1357, -0.0028, 141.9952, 3383,    806.2,   5.3223,  34.5343,2,-999.0000,9,    107.1,6,    65.11,6,    36.03,6,     0.00,6,     2.57,6,   2266.0,2,   2336.4,2,   7.5281,2,    25.00,     1425
  49UF20130627,KS1306,  3949,  1,     11,  21970,2,20130721,1357, -0.0028, 141.9952, 3383,    907.9,   4.7869,  34.5430,2,-999.0000,9,    102.6,2,    76.01,2,    37.15,2,     0.00,2,     2.65,2,   2280.3,2,   2341.8,2,   7.5172,2,    25.00,     1423
  49UF20130627,KS1306,  3949,  1,     10,  21969,2,20130721,1357, -0.0028, 141.9952, 3383,    907.9,   4.7869,  34.5430,2,-999.0000,9,    102.8,2,    76.32,2,    37.10,2,     0.00,2,     2.65,2,   2282.9,2,   2347.8,2,   7.5172,2,    25.00,     1423
  49UF20130627,KS1306,  3949,  1,      6,  21965,2,20130721,1357, -0.0028, 141.9952, 3383,   1007.8,   4.5435,  34.5481,2,-999.0000,9,    103.5,2,    81.63,2,    37.26,2,     0.00,2,     2.67,2,   2286.7,2,   2349.8,2,   7.5167,2,    25.00,     1420
  49UF20130627,KS1306,  3949,  1,      5,  21964,2,20130721,1357, -0.0028, 141.9952, 3383,   1211.1,   3.7801,  34.5732,2,-999.0000,9,    100.3,2,    99.62,2,    38.17,2,     0.00,2,     2.73,2,   2306.9,2,   2369.7,2,   7.5093,2,    25.00,     1416
  49UF20130627,KS1306,  3949,  1,      4,  21963,2,20130721,1357, -0.0028, 141.9952, 3383,   1413.5,   3.0771,  34.5981,2,-999.0000,9,    104.7,2,   115.48,2,    38.40,2,     0.00,2,     2.74,2,   2322.8,6,   2390.6,6,   7.5139,2,    25.00,     1411
  49UF20130627,KS1306,  3949,  1,      3,  22079,2,20130721,1357, -0.0028, 141.9952, 3383,   1616.1,   2.7208,  34.6131,2,-999.0000,9,    109.1,2,   123.03,2,    38.42,2,     0.00,2,     2.73,2,   2330.8,2,   2395.2,2,   7.5201,6,    25.00,     1407
  49UF20130627,KS1306,  3949,  1,      2,  21961,2,20130721,1357, -0.0028, 141.9952, 3383,   1819.3,   2.3957,  34.6281,2,-999.0000,9,    115.2,2,   130.41,2,    38.16,2,     0.00,2,     2.70,2,   2332.7,2,   2401.7,2,   7.5291,2,    25.00,     1402
  49UF20130627,KS1306,  3949,  1,      1,  21960,2,20130721,1357, -0.0028, 141.9952, 3383,   2024.3,   2.1210,  34.6426,2,-999.0000,9,    120.7,2,   136.52,2,    37.90,2,     0.00,2,     2.68,2,   2339.9,2,   2406.3,2,   7.5385,2,    25.00,     1357