BOTTLE,20191021PRINUNIVRMK
EXPOCODE,SECT_ID,STNNBR,CASTNO,SAMPNO,BTLNBR,BTLNBR_FLAG_W,DATE,TIME,LATITUDE,LONGITUDE,DEPTH,CTDPRS,CTDTMP,CTDSAL,CTDSAL_FLAG_W,SALNTY,SALNTY_FLAG_W,OXYGEN,OXYGEN_FLAG_W,SILCAT,SILCAT_FLAG_W,NITRAT,NITRAT_FLAG_W,NITRIT,NITRIT_FLAG_W,PHSPHT,PHSPHT_FLAG_W,TCARBN,TCARBN_FLAG_W,ALKALI,ALKALI_FLAG_W,PH_TOT,PH_TOT_FLAG_W,PH_TMP,BTL_TIME
,,,,,,,,,,,METERS,DBAR,ITS-90,PSS-78,,PSS-78,,UMOL/KG,,UMOL/KG,,UMOL/KG,,UMOL/KG,,UMOL/KG,,UMOL/KG,,UMOL/KG,,,,DEG C,
  49UF20130627,KS1306,  3993,  1,     99,     99,2,20130818,0508, 28.9967, 164.9818, 5818,      0.0,  28.5076,  34.5407,2,-999.0000,9,    199.1,2,     1.31,2,     0.00,2,     0.00,2,     0.01,2,   -999.0,9,   -999.0,9,-999.0000,9,  -999.00,      540
  49UF20130627,KS1306,  3993,  1,     33,  21992,2,20130818,0508, 28.9967, 164.9818, 5818,     10.5,  28.4629,  34.5502,2,-999.0000,9,    199.1,2,     1.32,2,     0.00,2,     0.00,2,     0.01,2,   -999.0,9,   -999.0,9,-999.0000,9,  -999.00,      604
  49UF20130627,KS1306,  3993,  1,     32,  21991,2,20130818,0508, 28.9967, 164.9818, 5818,     27.0,  27.1432,  34.8391,2,-999.0000,9,    213.9,2,     1.28,2,     0.00,2,     0.00,2,     0.01,2,   -999.0,9,   -999.0,9,-999.0000,9,  -999.00,      603
  49UF20130627,KS1306,  3993,  1,     31,  21990,2,20130818,0508, 28.9967, 164.9818, 5818,     50.6,  20.3703,  34.7527,2,-999.0000,9,    243.1,2,     2.09,2,     0.00,2,     0.00,2,     0.02,2,   -999.0,9,   -999.0,9,-999.0000,9,  -999.00,      600
  49UF20130627,KS1306,  3993,  1,     30,  21989,2,20130818,0508, 28.9967, 164.9818, 5818,     74.8,  19.6724,  34.8979,2,-999.0000,9,    226.1,2,     2.08,2,     0.00,2,     0.00,2,     0.03,2,   -999.0,9,   -999.0,9,-999.0000,9,  -999.00,      559
  49UF20130627,KS1306,  3993,  1,     29,  21988,2,20130818,0508, 28.9967, 164.9818, 5818,    101.1,  18.3419,  34.7753,2,-999.0000,9,    220.3,2,     2.56,2,     0.26,2,     0.06,2,     0.09,2,   -999.0,9,   -999.0,9,-999.0000,9,  -999.00,      557
  49UF20130627,KS1306,  3993,  1,     28,  21987,2,20130818,0508, 28.9967, 164.9818, 5818,    125.5,  17.6418,  34.7238,2,-999.0000,9,    215.2,2,     3.04,2,     2.32,2,     0.10,2,     0.20,2,   -999.0,9,   -999.0,9,-999.0000,9,  -999.00,      556
  49UF20130627,KS1306,  3993,  1,     24,  21983,2,20130818,0508, 28.9967, 164.9818, 5818,    152.3,  17.1910,  34.6977,2,-999.0000,9,    211.5,6,     3.67,6,     3.96,6,     0.02,6,     0.28,6,   -999.0,9,   -999.0,9,-999.0000,9,  -999.00,      555
  49UF20130627,KS1306,  3993,  1,     23,  22095,2,20130818,0508, 28.9967, 164.9818, 5818,    200.8,  16.6066,  34.6724,2,-999.0000,9,    219.5,2,     4.30,2,     4.42,2,     0.01,2,     0.31,2,   -999.0,9,   -999.0,9,-999.0000,9,  -999.00,      553
  49UF20130627,KS1306,  3993,  1,     22,  21981,2,20130818,0508, 28.9967, 164.9818, 5818,    251.9,  16.2712,  34.6511,2,-999.0000,9,    219.2,2,     5.01,2,     4.95,2,     0.01,2,     0.35,2,   -999.0,9,   -999.0,9,-999.0000,9,  -999.00,      552
  49UF20130627,KS1306,  3993,  1,     21,  21980,2,20130818,0508, 28.9967, 164.9818, 5818,    302.7,  15.6973,  34.6098,2,-999.0000,9,    218.3,2,     6.25,2,     5.89,2,     0.01,2,     0.42,2,   -999.0,9,   -999.0,9,-999.0000,9,  -999.00,      550
  49UF20130627,KS1306,  3993,  1,     20,  21979,2,20130818,0508, 28.9967, 164.9818, 5818,    404.2,  13.6287,  34.4530,2,-999.0000,9,    205.6,2,    12.25,2,    10.27,2,     0.00,2,     0.73,2,   -999.0,9,   -999.0,9,-999.0000,9,  -999.00,      547
  49UF20130627,KS1306,  3993,  1,     19,  21978,2,20130818,0508, 28.9967, 164.9818, 5818,    404.2,  13.6287,  34.4530,2,-999.0000,9,    205.7,2,    12.28,2,    10.31,2,     0.01,2,     0.73,2,   -999.0,9,   -999.0,9,-999.0000,9,  -999.00,      547
  49UF20130627,KS1306,  3993,  1,     18,  21977,2,20130818,0508, 28.9967, 164.9818, 5818,    504.1,  10.9973,  34.2642,2,-999.0000,9,    195.7,2,    21.41,2,    15.59,2,     0.00,2,     1.12,2,   -999.0,9,   -999.0,9,-999.0000,9,  -999.00,      545
  49UF20130627,KS1306,  3993,  1,     17,  23679,2,20130818,0508, 28.9967, 164.9818, 5818,    605.0,   7.7566,  34.0620,2,-999.0000,9,    163.3,2,    41.93,2,    24.41,2,     0.00,2,     1.77,2,   -999.0,9,   -999.0,9,-999.0000,9,  -999.00,      542
  49UF20130627,KS1306,  3993,  1,     16,  21975,2,20130818,0508, 28.9967, 164.9818, 5818,    705.5,   5.8696,  34.0213,2,-999.0000,9,    123.9,6,    64.48,6,    31.39,6,     0.00,6,     2.30,6,   -999.0,9,   -999.0,9,-999.0000,9,  -999.00,      539
  49UF20130627,KS1306,  3993,  1,     12,  21994,2,20130818,0508, 28.9967, 164.9818, 5818,    808.2,   4.7646,  34.0963,2,-999.0000,9,     80.3,2,    87.61,2,    37.11,2,     0.00,2,     2.70,2,   -999.0,9,   -999.0,9,-999.0000,9,  -999.00,      536
  49UF20130627,KS1306,  3993,  1,     11,  21970,2,20130818,0508, 28.9967, 164.9818, 5818,    909.8,   4.1617,  34.1924,2,-999.0000,9,     53.7,2,   105.71,2,    40.16,2,     0.00,2,     2.90,2,   -999.0,9,   -999.0,9,-999.0000,9,  -999.00,      533
  49UF20130627,KS1306,  3993,  1,     10,  21969,2,20130818,0508, 28.9967, 164.9818, 5818,   1011.7,   3.6496,  34.2849,2,-999.0000,9,     37.6,6,   121.26,6,    42.06,6,     0.00,6,     3.03,6,   -999.0,9,   -999.0,9,-999.0000,9,  -999.00,      531
  49UF20130627,KS1306,  3993,  1,      9,  21968,2,20130818,0508, 28.9967, 164.9818, 5818,   1212.1,   3.0262,  34.4006,2,-999.0000,9,     30.4,2,   140.35,2,    43.45,2,     0.00,2,     3.11,2,   -999.0,9,   -999.0,9,-999.0000,9,  -999.00,      526
  49UF20130627,KS1306,  3993,  1,      8,  21982,2,20130818,0508, 28.9967, 164.9818, 5818,   1415.3,   2.5931,  34.4866,2,-999.0000,9,     37.5,2,   152.21,2,    43.21,2,     0.00,2,     3.09,2,   -999.0,9,   -999.0,9,-999.0000,9,  -999.00,      521
  49UF20130627,KS1306,  3993,  1,      7,  21966,2,20130818,0508, 28.9967, 164.9818, 5818,   1415.3,   2.5931,  34.4866,2,-999.0000,9,     37.3,2,   152.46,2,    43.23,2,     0.00,2,     3.09,2,   -999.0,9,   -999.0,9,-999.0000,9,  -999.00,      521
  49UF20130627,KS1306,  3993,  1,      3,  22079,3,20130818,0508, 28.9967, 164.9818, 5818,   1616.8,   2.3170,  34.5380,2,-999.0000,9,     50.2,2,   156.45,2,    42.41,2,     0.00,2,     3.03,2,   -999.0,9,   -999.0,9,-999.0000,9,  -999.00,      517
  49UF20130627,KS1306,  3993,  1,      2,  21961,2,20130818,0508, 28.9967, 164.9818, 5818,   1819.7,   2.0912,  34.5734,2,-999.0000,9,     62.9,2,   161.88,2,    41.96,2,     0.00,2,     2.97,2,   -999.0,9,   -999.0,9,-999.0000,9,  -999.00,      512
  49UF20130627,KS1306,  3993,  1,      1,  21960,2,20130818,0508, 28.9967, 164.9818, 5818,   2023.2,   1.9167,  34.6014,2,-999.0000,9,     78.1,2,   162.91,2,    41.02,2,     0.00,2,     2.90,2,   -999.0,9,   -999.0,9,-999.0000,9,  -999.00,      508
  49UF20130627,KS1306,  3994,  1,     99,     99,2,20130818,1253, 30.0345, 165.0080, 5734,      0.0,  28.0312,  34.4300,2,  34.3813,2,    200.5,2,     2.12,2,     0.00,2,     0.00,2,     0.03,2,   1960.7,2,   2254.5,2,   8.0472,2,    25.00,     1510
  49UF20130627,KS1306,  3994,  1,     36,  21995,2,20130818,1253, 30.0345, 165.0080, 5734,     10.8,  28.1010,  34.5158,2,  34.4746,4,    200.1,2,     2.11,2,     0.00,2,     0.00,2,     0.04,2,   1965.8,2,   2258.8,2,   8.0466,2,    25.00,     1531
  49UF20130627,KS1306,  3994,  1,     35,  22087,2,20130818,1253, 30.0345, 165.0080, 5734,     49.4,  19.7258,  34.7102,2,-999.0000,9,    247.9,2,     2.32,2,     0.00,2,     0.00,2,     0.03,2,   1992.5,2,   2274.9,2,   8.0242,2,    25.00,     1527
  49UF20130627,KS1306,  3994,  1,     34,  21971,2,20130818,1253, 30.0345, 165.0080, 5734,    100.5,  17.3155,  34.7077,2,  34.7076,2,    216.2,2,     3.85,2,     3.59,2,     0.03,2,     0.27,2,   2028.0,2,   2276.7,2,   7.9605,2,    25.00,     1525
  49UF20130627,KS1306,  3994,  1,     33,  21992,2,20130818,1253, 30.0345, 165.0080, 5734,    126.0,  16.9086,  34.6928,2,-999.0000,9,    218.7,6,     4.13,6,     4.09,6,     0.02,6,     0.30,6,   2030.8,2,   2277.1,2,   7.9553,2,    25.00,     1524
  49UF20130627,KS1306,  3994,  1,     32,  21991,2,20130818,1253, 30.0345, 165.0080, 5734,    149.6,  16.7609,  34.6927,2,-999.0000,9,    221.7,2,     4.18,2,     4.01,2,     0.01,2,     0.29,2,   2028.1,2,   2275.1,2,   7.9553,2,    25.00,     1523
  49UF20130627,KS1306,  3994,  1,     31,  21990,2,20130818,1253, 30.0345, 165.0080, 5734,    201.0,  16.4367,  34.6742,2,  34.6734,2,    221.9,2,     4.78,2,     4.47,2,     0.01,2,     0.33,2,   2032.4,2,   2273.7,2,   7.9478,2,    25.00,     1521
  49UF20130627,KS1306,  3994,  1,     30,  21989,2,20130818,1253, 30.0345, 165.0080, 5734,    251.9,  15.6903,  34.6082,2,-999.0000,9,    213.9,2,     6.77,2,     6.23,2,     0.01,2,     0.46,2,   2048.5,2,   2273.3,2,   7.9178,2,    25.00,     1520
  49UF20130627,KS1306,  3994,  1,     29,  21988,2,20130818,1253, 30.0345, 165.0080, 5734,    302.2,  14.9738,  34.5559,2,-999.0000,9,    202.5,2,     9.79,2,     8.68,2,     0.00,2,     0.62,2,   2064.5,2,   2272.5,2,   7.8860,2,    25.00,     1518
  49UF20130627,KS1306,  3994,  1,     28,  21987,2,20130818,1253, 30.0345, 165.0080, 5734,    403.4,  12.6613,  34.3860,2,  34.3874,6,    206.1,6,    14.97,6,    11.82,6,     0.00,6,     0.85,6,   2090.7,2,   2270.2,2,   7.8285,2,    25.00,     1515
  49UF20130627,KS1306,  3994,  1,     27,  21986,2,20130818,1253, 30.0345, 165.0080, 5734,    503.7,   9.7772,  34.1764,2,-999.0000,9,    191.4,2,    27.65,2,    17.93,2,     0.00,2,     1.31,2,   2133.0,2,   2271.6,2,   7.7288,2,    25.00,     1513
  49UF20130627,KS1306,  3994,  1,     26,  21985,2,20130818,1253, 30.0345, 165.0080, 5734,    605.3,   7.1874,  34.0413,2,  34.0418,2,    151.7,2,    47.94,2,    26.40,2,     0.00,2,     1.94,2,   2194.3,2,   2278.9,2,   7.5900,2,    25.00,     1510
  49UF20130627,KS1306,  3994,  1,     25,  21984,2,20130818,1253, 30.0345, 165.0080, 5734,    707.1,   5.4582,  34.0266,2,-999.0000,9,    113.0,2,    70.82,2,    33.02,2,     0.00,2,     2.42,2,   2251.6,2,   2299.5,2,   7.4769,2,    25.00,     1507
  49UF20130627,KS1306,  3994,  1,     24,  21983,2,20130818,1253, 30.0345, 165.0080, 5734,    807.9,   4.5965,  34.1202,2,  34.1182,2,     73.6,2,    91.88,2,    37.81,2,     0.00,2,     2.75,2,   2296.8,2,   2316.8,2,   7.3989,2,    25.00,     1504
  49UF20130627,KS1306,  3994,  1,     23,  22095,2,20130818,1253, 30.0345, 165.0080, 5734,    912.4,   4.0289,  34.2218,2,-999.0000,9,     49.2,2,   109.01,2,    40.55,2,     0.00,2,     2.93,2,   2328.6,2,   2339.0,2,   7.3588,2,    25.00,     1501
  49UF20130627,KS1306,  3994,  1,     22,  21981,2,20130818,1253, 30.0345, 165.0080, 5734,   1014.1,   3.5808,  34.3046,2,  34.3019,2,     38.0,2,   123.42,2,    42.09,2,     0.00,2,     3.03,2,   2351.8,2,   2355.2,2,   7.3457,2,    25.00,     1457
  49UF20130627,KS1306,  3994,  1,     21,  21980,4,20130818,1253, 30.0345, 165.0080, 5734,   1214.6,   2.9864,  34.4120,2,  34.3422,4,     34.7,4,   129.64,4,    42.65,4,     0.00,4,     3.06,4,   2359.6,4,   2363.9,4,   7.3403,4,    25.00,     1450
  49UF20130627,KS1306,  3994,  1,     20,  21979,2,20130818,1253, 30.0345, 165.0080, 5734,   1416.1,   2.5986,  34.4858,2,  34.4850,2,     37.6,2,   151.95,2,    43.07,2,     0.00,2,     3.09,2,   2383.8,6,   2392.0,6,   7.3569,2,    25.00,     1445
  49UF20130627,KS1306,  3994,  1,     19,  21978,2,20130818,1253, 30.0345, 165.0080, 5734,   1616.4,   2.3107,  34.5455,2,  34.5463,6,     54.0,2,   156.61,2,    42.30,2,     0.00,2,     3.01,2,   2380.7,2,   2403.1,2,   7.3933,2,    25.00,     1441
  49UF20130627,KS1306,  3994,  1,     18,  21977,2,20130818,1253, 30.0345, 165.0080, 5734,   1819.2,   2.0706,  34.5840,2,  34.5840,2,     72.2,2,   158.84,2,    41.08,2,     0.00,2,     2.92,2,   2373.4,2,   2408.2,2,   7.4297,6,    25.00,     1435
  49UF20130627,KS1306,  3994,  1,     17,  23679,2,20130818,1253, 30.0345, 165.0080, 5734,   2021.7,   1.9097,  34.6098,2,  34.6100,6,     87.6,2,   158.77,2,    40.29,2,     0.00,2,     2.85,2,   2366.5,2,   2411.7,2,   7.4613,2,    25.00,     1431
  49UF20130627,KS1306,  3994,  1,     16,  21975,2,20130818,1253, 30.0345, 165.0080, 5734,   2280.3,   1.7605,  34.6311,2,  34.6307,2,    102.1,2,   158.08,2,    39.38,2,     0.00,2,     2.78,2,   2360.0,2,   2413.6,2,   7.4856,2,    25.00,     1425
  49UF20130627,KS1306,  3994,  1,     15,  21974,2,20130818,1253, 30.0345, 165.0080, 5734,   2535.6,   1.6620,  34.6488,2,  34.6482,2,    117.9,2,   154.42,2,    38.37,2,     0.00,2,     2.70,2,   -999.0,9,   -999.0,9,-999.0000,9,  -999.00,     1417
  49UF20130627,KS1306,  3994,  1,     14,  21973,2,20130818,1253, 30.0345, 165.0080, 5734,   2788.9,   1.6024,  34.6580,2,  34.6573,2,    125.8,2,   153.75,2,    37.81,2,     0.00,2,     2.66,2,   2345.4,2,   2415.8,2,   7.5284,2,    25.00,     1411
  49UF20130627,KS1306,  3994,  1,     13,  21972,2,20130818,1253, 30.0345, 165.0080, 5734,   3046.2,   1.5634,  34.6650,2,  34.6632,2,    132.2,2,   152.55,2,    37.33,2,     0.00,2,     2.62,2,   -999.0,9,   -999.0,9,-999.0000,9,  -999.00,     1403
  49UF20130627,KS1306,  3994,  1,     12,  21994,2,20130818,1253, 30.0345, 165.0080, 5734,   3299.2,   1.5313,  34.6705,2,  34.6702,2,    137.8,6,   151.54,6,    36.98,6,     0.00,6,     2.60,6,   2336.6,2,   2416.4,2,   7.5511,2,    25.00,     1357
  49UF20130627,KS1306,  3994,  1,     11,  21970,2,20130818,1253, 30.0345, 165.0080, 5734,   3557.1,   1.5061,  34.6754,2,  34.6746,2,    142.6,2,   150.30,2,    36.64,2,     0.00,2,     2.57,2,   -999.0,9,   -999.0,9,-999.0000,9,  -999.00,     1350
  49UF20130627,KS1306,  3994,  1,     10,  21969,2,20130818,1253, 30.0345, 165.0080, 5734,   3813.4,   1.4848,  34.6798,2,  34.6777,2,    147.1,2,   149.10,2,    36.22,2,     0.00,2,     2.55,2,   2332.5,2,   2413.2,2,   7.5654,2,    25.00,     1342
  49UF20130627,KS1306,  3994,  1,      9,  21968,2,20130818,1253, 30.0345, 165.0080, 5734,   4069.8,   1.4765,  34.6831,2,  34.6814,2,    151.6,2,   148.14,2,    36.09,2,     0.00,2,     2.53,2,   -999.0,9,   -999.0,9,-999.0000,9,  -999.00,     1336
  49UF20130627,KS1306,  3994,  1,      8,  21982,2,20130818,1253, 30.0345, 165.0080, 5734,   4325.3,   1.4731,  34.6858,2,  34.6855,2,    155.6,2,   146.79,2,    35.68,2,     0.00,2,     2.51,2,   2321.9,2,   2411.0,2,   7.5796,6,    25.00,     1328
  49UF20130627,KS1306,  3994,  1,      7,  21966,2,20130818,1253, 30.0345, 165.0080, 5734,   4583.3,   1.4762,  34.6883,2,  34.6871,2,    159.4,2,   144.19,2,    35.51,2,     0.00,2,     2.48,2,   -999.0,9,   -999.0,9,-999.0000,9,  -999.00,     1322
  49UF20130627,KS1306,  3994,  1,      6,  21965,2,20130818,1253, 30.0345, 165.0080, 5734,   4837.3,   1.4831,  34.6906,2,  34.6879,4,    162.5,2,   142.13,2,    35.22,2,     0.00,2,     2.46,2,   2317.0,6,   2406.9,6,   7.5887,2,    25.00,     1315
  49UF20130627,KS1306,  3994,  1,      5,  21964,2,20130818,1253, 30.0345, 165.0080, 5734,   5095.5,   1.4918,  34.6925,2,  34.6897,4,    165.7,2,   139.67,2,    34.95,2,     0.00,2,     2.45,2,   -999.0,9,   -999.0,9,-999.0000,9,  -999.00,     1310
  49UF20130627,KS1306,  3994,  1,      4,  21963,2,20130818,1253, 30.0345, 165.0080, 5734,   5351.8,   1.5104,  34.6938,2,  34.6949,2,    169.2,6,   137.80,6,    34.73,6,     0.00,6,     2.43,6,   2310.7,2,   2403.3,2,   7.5939,2,    25.00,     1303
  49UF20130627,KS1306,  3994,  1,      3,  22079,2,20130818,1253, 30.0345, 165.0080, 5734,   5610.3,   1.5318,  34.6946,2,  34.6925,4,    169.4,2,   137.79,2,    34.68,2,     0.00,2,     2.43,2,   -999.0,9,   -999.0,9,-999.0000,9,  -999.00,     1258
  49UF20130627,KS1306,  3994,  1,      2,  21961,2,20130818,1253, 30.0345, 165.0080, 5734,   5833.1,   1.5387,  34.6961,2,  34.6964,6,    173.8,2,   135.18,2,    34.50,2,     0.00,2,     2.40,2,   2306.8,2,   2400.5,2,   7.5979,2,    25.00,     1253
  49UF20130627,KS1306,  3994,  1,      1,  21960,2,20130818,1253, 30.0345, 165.0080, 5734,   5835.0,   1.5389,  34.6960,2,  34.6961,2,    173.8,2,   134.65,2,    34.34,2,     0.00,2,     2.41,2,   2304.7,2,   2399.6,2,   7.5998,2,    25.00,     1253