BOTTLE,20191021PRINUNIVRMK
# processed by CCHDO on 2021-02-04, no changes
# 08/29/2019 Initialized README file  
# Data source:  Masao Ishii 2018/11/30 
# SHIP: R/V Keifu Maru II 
# Cruise: KS13-06, P09, P13 
# Region: NW Pacific Ocean 
# 	Sta 3903:3942 on 135E 35N to 3N 
# 	Sta 3958:3999 on 165E from 0N to 35N 
# EXPOCODE: 49UF20130627 
# DATES: 20130627 - 20130829	 
# Chief Scientist: Takahiro Segawa 
# 78 stations with 24 place Rosette 
# CTD: Who - Kazuhiro Nemoto; Status - final 
# 	Includes: CTDSAL 
# SALNTY: Who - Kazuhiro Nemoto; Status - final 
# 	Notes: 	 
# Nutrients: Who - Kazuhiro Nemoto; Status - final 
# 	Includes: nitrate, nitrite, silicate, phosphate 
# 	Nitrite and NO3+NO2 reported. Separated by subtraction 
# OXYGEN: Who - Kazuhiro Nemoto; Status - final 
# 	Notes: 
# TCARBN: Who - Kazuhiro Nemoto; Status - final 
# 	Notes:  
# ALKALI: Who - Kazuhiro Nemoto; Status - final 
# 	Notes:  
# PH_TOT: Who - Kazuhiro Nemoto; Status - final 
# 	Notes:  
# Segawa, Takahiro; Nemoto, Kazuhiro; Ishii, Masao (2019). Dissolved inorganic carbon (DIC), total alkalinity, pH on total scale, temperature, salinity, oxygen, nutrients and other measurements collected from profile and discrete sample observations during the R/V Keifu Maru II cruise KS13-06, Repeat Sections P09/P13 (EXPOCODE 49UF20130627) in the Pacific Ocean from 2013-06-26 to 2013-08-29 (NCEI Accession 0186281). [indicate subset used]. NOAA National Centers for Environmental Information. Dataset. https://doi.org/10.25921/d1p7-ek72.   
# References that have used data from this cruise: 
EXPOCODE,SECT_ID,STNNBR,CASTNO,SAMPNO,BTLNBR,BTLNBR_FLAG_W,DATE,TIME,LATITUDE,LONGITUDE,DEPTH,CTDPRS,CTDTMP,CTDSAL,CTDSAL_FLAG_W,SALNTY,SALNTY_FLAG_W,OXYGEN,OXYGEN_FLAG_W,SILCAT,SILCAT_FLAG_W,NITRAT,NITRAT_FLAG_W,NITRIT,NITRIT_FLAG_W,PHSPHT,PHSPHT_FLAG_W,TCARBN,TCARBN_FLAG_W,ALKALI,ALKALI_FLAG_W,PH_TOT,PH_TOT_FLAG_W,PH_TMP,BTL_TIME
,,,,,,,,,,,METERS,DBAR,ITS-90,PSS-78,,PSS-78,,UMOL/KG,,UMOL/KG,,UMOL/KG,,UMOL/KG,,UMOL/KG,,UMOL/KG,,UMOL/KG,,,,DEG C,
  49UF20130627,KS1306,  3903,  1,     99,     99,2,20130627,0921, 34.0243, 136.9810, 1054,      0.0,  22.7784,  33.8886,2,  33.8901,4,    219.6,2,     2.56,2,     0.00,2,     0.00,2,     0.03,2,   1935.9,2,   2223.2,2,   8.0512,2,    25.00,      926
  49UF20130627,KS1306,  3903,  1,     32,  21991,2,20130627,0921, 34.0243, 136.9810, 1054,     11.4,  22.7391,  33.8935,2,  33.9464,4,    220.1,2,     2.49,2,     0.00,2,     0.00,2,     0.03,2,   1939.6,2,   2236.6,2,   8.0471,2,    25.00,      959
  49UF20130627,KS1306,  3903,  1,     31,  21990,2,20130627,0921, 34.0243, 136.9810, 1054,     28.2,  21.7631,  34.5866,2,-999.0000,9,    225.1,2,     2.41,2,     0.00,2,     0.00,2,     0.03,2,   1977.5,2,   2268.3,2,   8.0386,2,    25.00,      958
  49UF20130627,KS1306,  3903,  1,     27,  21986,2,20130627,0921, 34.0243, 136.9810, 1054,     51.5,  19.9370,  34.6328,2,-999.0000,9,    222.8,2,     3.04,2,     0.06,2,     0.14,2,     0.09,2,   1993.8,2,   2273.1,2,   8.0184,2,    25.00,      955
  49UF20130627,KS1306,  3903,  1,     26,  21985,2,20130627,0921, 34.0243, 136.9810, 1054,     78.5,  18.2731,  34.6535,2,-999.0000,9,    200.7,2,     5.57,2,     4.48,2,     0.04,2,     0.33,2,   2029.5,2,   2274.7,2,   7.9608,2,    25.00,      953
  49UF20130627,KS1306,  3903,  1,     25,  21984,2,20130627,0921, 34.0243, 136.9810, 1054,    104.1,  17.2976,  34.6444,2,  34.6474,6,    193.9,6,     7.38,6,     6.25,6,     0.02,6,     0.45,6,   2042.4,2,   2282.5,2,   7.9291,2,    25.00,      952
  49UF20130627,KS1306,  3903,  1,     21,  21980,2,20130627,0921, 34.0243, 136.9810, 1054,    129.9,  16.7492,  34.6295,2,-999.0000,9,    190.2,2,     8.76,2,     7.29,2,     0.02,2,     0.52,2,   2053.6,2,   2272.8,2,   7.9149,2,    25.00,      951
  49UF20130627,KS1306,  3903,  1,     20,  21979,2,20130627,0921, 34.0243, 136.9810, 1054,    155.1,  15.4876,  34.5796,2,-999.0000,9,    183.0,2,    12.24,2,     9.68,2,     0.02,2,     0.68,2,   2069.6,2,   2272.0,2,   7.8742,2,    25.00,      950
  49UF20130627,KS1306,  3903,  1,     19,  21978,2,20130627,0921, 34.0243, 136.9810, 1054,    208.4,  13.7272,  34.4881,2,  34.4909,2,    171.3,2,    19.52,2,    13.69,2,     0.01,2,     0.97,2,   2100.3,2,   2275.7,2,   7.8168,2,    25.00,      948
  49UF20130627,KS1306,  3903,  1,     15,  21974,2,20130627,0921, 34.0243, 136.9810, 1054,    259.8,  12.1353,  34.4075,2,-999.0000,9,    161.6,2,    26.45,2,    16.90,2,     0.01,2,     1.21,2,   2124.4,2,   2277.7,2,   7.7600,2,    25.00,      945
  49UF20130627,KS1306,  3903,  1,     14,  21973,2,20130627,0921, 34.0243, 136.9810, 1054,    314.4,  10.3519,  34.3208,2,-999.0000,9,    149.1,2,    36.40,2,    21.09,2,     0.01,2,     1.52,2,   2158.3,2,   2280.3,2,   7.6924,2,    25.00,      943
  49UF20130627,KS1306,  3903,  1,     13,  21972,2,20130627,0921, 34.0243, 136.9810, 1054,    411.2,   7.7802,  34.2562,2,  34.2535,2,    120.2,6,    58.37,6,    28.01,6,     0.01,6,     2.03,6,   2214.2,2,   2298.1,2,   7.5825,2,    25.00,      939
  49UF20130627,KS1306,  3903,  1,     12,  21994,2,20130627,0921, 34.0243, 136.9810, 1054,    514.8,   6.2573,  34.2624,2,-999.0000,9,     95.8,2,    78.33,2,    32.91,2,     0.00,2,     2.38,2,   2259.3,2,   2318.2,2,   7.5055,2,    25.00,      935
  49UF20130627,KS1306,  3903,  1,     11,  21970,2,20130627,0921, 34.0243, 136.9810, 1054,    611.4,   5.0740,  34.3029,2,  34.3009,2,     78.1,2,    95.81,2,    36.26,2,     0.00,2,     2.62,2,   2291.7,2,   2334.6,2,   7.4575,2,    25.00,      932
  49UF20130627,KS1306,  3903,  1,     10,  21969,2,20130627,0921, 34.0243, 136.9810, 1054,    611.4,   5.0740,  34.3029,2,  34.3024,2,     78.3,2,    95.58,2,    36.23,2,     0.00,2,     2.62,2,   2291.4,2,   2332.7,2,   7.4571,2,    25.00,      932
  49UF20130627,KS1306,  3903,  1,      6,  21965,2,20130627,0921, 34.0243, 136.9810, 1054,    711.8,   4.3323,  34.3413,2,-999.0000,9,     67.6,2,   108.47,2,    38.43,2,     0.00,2,     2.77,2,   2314.9,2,   2345.5,2,   7.4287,2,    25.00,      929
  49UF20130627,KS1306,  3903,  1,      5,  21964,2,20130627,0921, 34.0243, 136.9810, 1054,    809.6,   3.9357,  34.3727,2,  34.3728,2,     65.0,2,   116.24,2,    39.16,2,     0.00,2,     2.82,2,   2327.0,2,   2358.8,2,   7.4217,6,    25.00,      926
  49UF20130627,KS1306,  3903,  1,      4,  21963,2,20130627,0921, 34.0243, 136.9810, 1054,    910.2,   3.6026,  34.4014,2,-999.0000,9,     63.2,2,   123.10,2,    39.85,2,     0.00,2,     2.86,2,   2335.4,6,   2363.8,6,   7.4179,2,    25.00,      924
  49UF20130627,KS1306,  3903,  1,      3,  22079,2,20130627,0921, 34.0243, 136.9810, 1054,   1003.7,   3.3494,  34.4245,2,  34.4245,6,     63.2,2,   127.82,2,    40.12,2,     0.00,2,     2.88,2,   2341.4,2,   2373.1,2,   7.4166,2,    25.00,      922
  49UF20130627,KS1306,  3903,  1,      2,  21961,2,20130627,0921, 34.0243, 136.9810, 1054,   1034.6,   3.2816,  34.4304,2,  34.4305,2,     62.2,2,   129.62,2,    40.26,2,     0.00,2,     2.90,2,   -999.0,9,   -999.0,9,-999.0000,9,  -999.00,      921
  49UF20130627,KS1306,  3903,  1,      1,  21960,2,20130627,0921, 34.0243, 136.9810, 1054,   1034.6,   3.2816,  34.4304,2,  34.4323,2,     62.2,2,   129.58,2,    40.33,2,     0.00,2,     2.89,2,   2346.7,2,   2373.5,2,   7.4127,2,    25.00,      921
  49UF20130627,KS1306,  3906,  1,     99,     99,2,20130627,2018, 33.0058, 137.0178, 4234,      0.0,  25.3881,  34.2240,2,-999.0000,9,    208.1,2,     1.83,2,     0.00,2,     0.00,2,     0.03,2,   -999.0,9,   -999.0,9,-999.0000,9,  -999.00,     2057
  49UF20130627,KS1306,  3906,  1,     36,  21995,2,20130627,2018, 33.0058, 137.0178, 4234,     12.7,  25.3937,  34.2236,2,-999.0000,9,    207.7,2,     1.80,2,     0.00,2,     0.00,2,     0.03,2,   -999.0,9,   -999.0,9,-999.0000,9,  -999.00,     2114
  49UF20130627,KS1306,  3906,  1,     35,  22087,2,20130627,2018, 33.0058, 137.0178, 4234,     27.5,  25.3457,  34.2287,2,-999.0000,9,    207.8,2,     1.82,2,     0.00,2,     0.00,2,     0.03,2,   -999.0,9,   -999.0,9,-999.0000,9,  -999.00,     2113
  49UF20130627,KS1306,  3906,  1,     34,  21971,2,20130627,2018, 33.0058, 137.0178, 4234,     53.3,  22.7407,  34.4710,2,-999.0000,9,    198.5,2,     3.07,2,     1.42,2,     0.35,2,     0.16,2,   -999.0,9,   -999.0,9,-999.0000,9,  -999.00,     2112
  49UF20130627,KS1306,  3906,  1,     33,  21992,2,20130627,2018, 33.0058, 137.0178, 4234,     79.7,  21.0902,  34.5833,2,-999.0000,9,    189.1,2,     4.61,2,     3.57,2,     0.06,2,     0.27,2,   -999.0,9,   -999.0,9,-999.0000,9,  -999.00,     2110
  49UF20130627,KS1306,  3906,  1,     32,  21991,2,20130627,2018, 33.0058, 137.0178, 4234,    102.6,  19.6310,  34.6811,2,-999.0000,9,    183.6,2,     6.31,2,     5.29,2,     0.02,2,     0.38,2,   -999.0,9,   -999.0,9,-999.0000,9,  -999.00,     2107
  49UF20130627,KS1306,  3906,  1,     31,  21990,2,20130627,2018, 33.0058, 137.0178, 4234,    127.7,  18.9166,  34.7583,2,-999.0000,9,    188.3,6,     4.60,6,     4.71,6,     0.01,6,     0.34,6,   -999.0,9,   -999.0,9,-999.0000,9,  -999.00,     2105
  49UF20130627,KS1306,  3906,  1,     27,  21986,2,20130627,2018, 33.0058, 137.0178, 4234,    152.5,  18.3375,  34.7487,2,-999.0000,9,    189.5,2,     4.69,2,     5.10,2,     0.01,2,     0.36,2,   -999.0,9,   -999.0,9,-999.0000,9,  -999.00,     2104
  49UF20130627,KS1306,  3906,  1,     26,  21985,2,20130627,2018, 33.0058, 137.0178, 4234,    203.8,  17.0596,  34.6855,2,-999.0000,9,    188.1,2,     6.76,2,     6.87,2,     0.01,2,     0.48,2,   -999.0,9,   -999.0,9,-999.0000,9,  -999.00,     2103
  49UF20130627,KS1306,  3906,  1,     25,  21984,2,20130627,2018, 33.0058, 137.0178, 4234,    253.8,  15.5322,  34.5956,2,-999.0000,9,    180.6,2,    11.03,2,     9.84,2,     0.00,2,     0.69,2,   -999.0,9,   -999.0,9,-999.0000,9,  -999.00,     2101
  49UF20130627,KS1306,  3906,  1,     21,  21980,2,20130627,2018, 33.0058, 137.0178, 4234,    300.2,  14.1704,  34.5069,2,-999.0000,9,    169.8,2,    18.39,2,    13.20,2,     0.00,2,     0.94,2,   -999.0,9,   -999.0,9,-999.0000,9,  -999.00,     2100
  49UF20130627,KS1306,  3906,  1,     20,  21979,2,20130627,2018, 33.0058, 137.0178, 4234,    404.1,  10.5222,  34.3487,2,-999.0000,9,    143.7,2,    38.39,2,    21.43,2,     0.00,2,     1.55,2,   -999.0,9,   -999.0,9,-999.0000,9,  -999.00,     2057
  49UF20130627,KS1306,  3906,  1,     19,  21978,2,20130627,2018, 33.0058, 137.0178, 4234,    506.2,   7.8647,  34.2607,2,-999.0000,9,    119.9,6,    58.70,6,    28.08,6,     0.00,6,     2.03,6,   -999.0,9,   -999.0,9,-999.0000,9,  -999.00,     2055
  49UF20130627,KS1306,  3906,  1,     15,  21974,2,20130627,2018, 33.0058, 137.0178, 4234,    607.2,   6.0925,  34.2155,2,-999.0000,9,     98.1,2,    76.82,2,    33.07,2,     0.00,2,     2.39,2,   -999.0,9,   -999.0,9,-999.0000,9,  -999.00,     2052
  49UF20130627,KS1306,  3906,  1,     14,  21973,2,20130627,2018, 33.0058, 137.0178, 4234,    708.3,   5.0091,  34.2650,2,-999.0000,9,     76.7,2,    94.58,2,    36.61,2,     0.00,2,     2.65,2,   -999.0,9,   -999.0,9,-999.0000,9,  -999.00,     2050
  49UF20130627,KS1306,  3906,  1,     13,  21972,2,20130627,2018, 33.0058, 137.0178, 4234,    811.6,   4.2077,  34.3464,2,-999.0000,9,     66.3,2,   110.52,2,    38.82,2,     0.00,2,     2.79,2,   -999.0,9,   -999.0,9,-999.0000,9,  -999.00,     2047
  49UF20130627,KS1306,  3906,  1,     12,  21994,2,20130627,2018, 33.0058, 137.0178, 4234,    921.9,   3.6891,  34.3973,2,-999.0000,9,     63.5,2,   120.53,2,    39.75,2,     0.00,2,     2.85,2,   -999.0,9,   -999.0,9,-999.0000,9,  -999.00,     2043
  49UF20130627,KS1306,  3906,  1,     11,  21970,2,20130627,2018, 33.0058, 137.0178, 4234,    921.9,   3.6891,  34.3973,2,-999.0000,9,     63.5,2,   120.55,2,    39.72,2,     0.00,2,     2.85,2,   -999.0,9,   -999.0,9,-999.0000,9,  -999.00,     2043
  49UF20130627,KS1306,  3906,  1,     10,  21969,2,20130627,2018, 33.0058, 137.0178, 4234,   1015.8,   3.3481,  34.4290,2,-999.0000,9,     62.8,2,   127.37,2,    40.30,2,     0.00,2,     2.89,2,   -999.0,9,   -999.0,9,-999.0000,9,  -999.00,     2039
  49UF20130627,KS1306,  3906,  1,      6,  21965,3,20130627,2018, 33.0058, 137.0178, 4234,   1215.7,   2.8621,  34.4814,2,-999.0000,9,     67.6,2,   136.96,2,    40.54,2,     0.00,2,     2.89,2,   -999.0,9,   -999.0,9,-999.0000,9,  -999.00,     2035
  49UF20130627,KS1306,  3906,  1,      5,  21964,2,20130627,2018, 33.0058, 137.0178, 4234,   1413.9,   2.5155,  34.5228,2,-999.0000,9,     73.8,2,   143.68,2,    40.49,2,     0.00,2,     2.88,2,   -999.0,9,   -999.0,9,-999.0000,9,  -999.00,     2031
  49UF20130627,KS1306,  3906,  1,      4,  21963,2,20130627,2018, 33.0058, 137.0178, 4234,   1617.4,   2.2818,  34.5588,2,-999.0000,9,     87.0,2,   145.39,2,    39.80,2,     0.00,2,     2.82,2,   -999.0,9,   -999.0,9,-999.0000,9,  -999.00,     2027
  49UF20130627,KS1306,  3906,  1,      3,  22079,2,20130627,2018, 33.0058, 137.0178, 4234,   1819.1,   2.1128,  34.5850,2,-999.0000,9,     98.4,2,   145.72,2,    39.21,2,     0.00,2,     2.77,2,   -999.0,9,   -999.0,9,-999.0000,9,  -999.00,     2022
  49UF20130627,KS1306,  3906,  1,      2,  21961,2,20130627,2018, 33.0058, 137.0178, 4234,   1819.1,   2.1128,  34.5850,2,-999.0000,9,     97.9,2,   145.81,2,    39.19,2,     0.00,2,     2.78,2,   -999.0,9,   -999.0,9,-999.0000,9,  -999.00,     2022
  49UF20130627,KS1306,  3906,  1,      1,  21960,2,20130627,2018, 33.0058, 137.0178, 4234,   2025.0,   1.9376,  34.6101,2,-999.0000,9,    111.2,6,   145.64,6,    38.45,6,     0.00,6,     2.71,6,   -999.0,9,   -999.0,9,-999.0000,9,  -999.00,     2018
  49UF20130627,KS1306,  3909,  1,     99,     99,2,20130628,0659, 32.0037, 136.9968, 4242,      0.0,  25.4137,  34.2903,2,  34.2974,4,    208.4,2,     1.46,2,     0.00,2,     0.00,2,     0.02,2,   1943.2,2,   2248.2,2,   8.0740,2,    25.00,      729
  49UF20130627,KS1306,  3909,  1,     36,  21995,3,20130628,0659, 32.0037, 136.9968, 4242,     13.2,  25.4105,  34.2902,2,  34.2898,2,    207.9,2,     1.45,2,     0.00,2,     0.00,2,     0.01,2,   1941.7,2,   2248.4,2,   8.0733,2,    25.00,      754
  49UF20130627,KS1306,  3909,  1,     35,  22087,2,20130628,0659, 32.0037, 136.9968, 4242,     28.0,  25.3090,  34.3157,2,-999.0000,9,    208.4,2,     1.45,2,     0.04,2,     0.00,2,     0.01,2,   1942.0,2,   2248.9,2,   8.0705,2,    25.00,      752
  49UF20130627,KS1306,  3909,  1,     34,  21971,2,20130628,0659, 32.0037, 136.9968, 4242,     50.7,  22.7105,  34.6918,2,-999.0000,9,    221.8,2,     1.55,2,     0.01,2,     0.00,2,     0.02,2,   1971.8,2,   2268.8,2,   8.0601,2,    25.00,      749
  49UF20130627,KS1306,  3909,  1,     33,  21992,2,20130628,0659, 32.0037, 136.9968, 4242,     75.7,  21.6094,  34.7795,2,-999.0000,9,    217.6,2,     1.79,2,     0.41,2,     0.03,2,     0.05,2,   1987.8,2,   2278.9,2,   8.0330,2,    25.00,      748
  49UF20130627,KS1306,  3909,  1,     32,  21991,2,20130628,0659, 32.0037, 136.9968, 4242,    100.6,  20.7334,  34.7807,2,  34.7856,4,    217.8,2,     1.76,2,     0.30,2,     0.05,2,     0.04,2,   1993.6,2,   2278.7,2,   8.0319,2,    25.00,      747
  49UF20130627,KS1306,  3909,  1,     31,  21990,2,20130628,0659, 32.0037, 136.9968, 4242,    127.9,  20.0549,  34.7711,2,-999.0000,9,    203.0,2,     2.50,2,     2.14,2,     0.03,2,     0.16,2,   2007.5,2,   2282.3,2,   7.9983,2,    25.00,      746
  49UF20130627,KS1306,  3909,  1,     27,  21986,2,20130628,0659, 32.0037, 136.9968, 4242,    153.2,  19.5164,  34.7745,2,-999.0000,9,    202.9,6,     2.70,6,     2.50,6,     0.02,6,     0.18,6,   2013.6,2,   2277.5,2,   7.9927,2,    25.00,      745
  49UF20130627,KS1306,  3909,  1,     26,  21985,2,20130628,0659, 32.0037, 136.9968, 4242,    202.0,  18.8854,  34.7812,2,  34.7813,6,    213.0,2,     2.41,2,     1.93,2,     0.02,2,     0.14,2,   2012.6,2,   2281.7,2,   7.9952,2,    25.00,      743
  49UF20130627,KS1306,  3909,  1,     25,  21984,2,20130628,0659, 32.0037, 136.9968, 4242,    252.8,  18.5321,  34.7710,2,-999.0000,9,    211.3,2,     2.76,2,     2.53,2,     0.01,2,     0.18,2,   2016.6,2,   2277.0,2,   7.9813,2,    25.00,      741
  49UF20130627,KS1306,  3909,  1,     21,  21980,2,20130628,0659, 32.0037, 136.9968, 4242,    305.8,  17.8920,  34.7451,2,-999.0000,9,    205.6,6,     3.63,6,     3.87,6,     0.01,6,     0.27,6,   2026.4,2,   2275.2,2,   7.9643,2,    25.00,      739
  49UF20130627,KS1306,  3909,  1,     20,  21979,2,20130628,0659, 32.0037, 136.9968, 4242,    404.0,  15.9351,  34.5815,2,  34.5818,2,    176.4,2,    12.83,2,    10.00,2,     0.01,2,     0.71,2,   2072.2,2,   2286.9,3,   7.8688,6,    25.00,      737
  49UF20130627,KS1306,  3909,  1,     19,  21978,2,20130628,0659, 32.0037, 136.9968, 4242,    506.5,  12.9400,  34.4383,2,-999.0000,9,    168.1,2,    20.60,2,    15.09,2,     0.00,2,     1.07,2,   2111.7,6,   2271.0,6,   7.7824,2,    25.00,      734
  49UF20130627,KS1306,  3909,  1,     15,  21974,2,20130628,0659, 32.0037, 136.9968, 4242,    607.0,   9.8561,  34.2684,2,  34.2705,2,    151.3,2,    36.43,2,    21.76,2,     0.00,2,     1.56,2,   2163.2,2,   2284.8,2,   7.6732,2,    25.00,      732
  49UF20130627,KS1306,  3909,  1,     14,  21973,2,20130628,0659, 32.0037, 136.9968, 4242,    708.1,   7.5709,  34.2057,2,-999.0000,9,    121.6,2,    57.57,2,    28.39,2,     0.00,2,     2.06,2,   2215.4,2,   2297.1,2,   7.5692,2,    25.00,      729
  49UF20130627,KS1306,  3909,  1,     13,  21972,2,20130628,0659, 32.0037, 136.9968, 4242,    809.9,   5.8553,  34.2254,2,  34.2269,2,     92.9,2,    80.45,2,    33.92,2,     0.00,2,     2.45,2,   2267.8,2,   2314.7,2,   7.4840,2,    25.00,      727
  49UF20130627,KS1306,  3909,  1,     12,  21994,2,20130628,0659, 32.0037, 136.9968, 4242,    809.9,   5.8553,  34.2254,2,  34.2257,6,     92.4,2,    80.59,2,    33.94,2,     0.00,2,     2.46,2,   2267.4,2,   2319.6,2,   7.4815,2,    25.00,      727
  49UF20130627,KS1306,  3909,  1,     11,  21970,2,20130628,0659, 32.0037, 136.9968, 4242,    911.6,   4.7871,  34.2685,2,-999.0000,9,     72.3,2,    98.26,2,    37.33,2,     0.00,2,     2.70,2,   2301.6,2,   2332.2,2,   7.4279,2,    25.00,      724
  49UF20130627,KS1306,  3909,  1,     10,  21969,2,20130628,0659, 32.0037, 136.9968, 4242,   1014.1,   4.1588,  34.3341,2,  34.3330,2,     63.5,2,   111.32,2,    39.08,2,     0.00,2,     2.82,2,   2320.1,2,   2349.2,2,   7.4123,2,    25.00,      722
  49UF20130627,KS1306,  3909,  1,      6,  21965,3,20130628,0659, 32.0037, 136.9968, 4242,   1214.5,   3.4187,  34.4259,2,  34.4260,2,     63.2,2,   126.47,2,    40.12,2,     0.00,2,     2.88,2,   2341.5,2,   2367.5,2,   7.4262,2,    25.00,      717
  49UF20130627,KS1306,  3909,  1,      5,  21964,2,20130628,0659, 32.0037, 136.9968, 4242,   1415.2,   2.9078,  34.4806,2,  34.4796,2,     68.7,2,   136.01,2,    40.29,2,     0.00,2,     2.88,2,   2348.9,6,   2381.8,6,   7.4289,2,    25.00,      713
  49UF20130627,KS1306,  3909,  1,      4,  21963,2,20130628,0659, 32.0037, 136.9968, 4242,   1618.5,   2.5719,  34.5226,2,  34.5224,2,     77.1,2,   141.55,2,    40.11,2,     0.00,2,     2.86,2,   2354.7,2,   2389.7,2,   7.4434,2,    25.00,      708
  49UF20130627,KS1306,  3909,  1,      3,  22079,3,20130628,0659, 32.0037, 136.9968, 4242,   1618.5,   2.5719,  34.5226,2,  34.5212,6,     78.3,4,   140.47,4,    39.83,4,     0.00,4,     2.85,4,   2351.6,2,   2390.1,2,   7.4499,2,    25.00,      708
  49UF20130627,KS1306,  3909,  1,      2,  21961,2,20130628,0659, 32.0037, 136.9968, 4242,   1823.1,   2.3031,  34.5589,2,  34.5594,2,     87.6,6,   144.97,6,    39.56,6,     0.00,6,     2.82,6,   2352.9,2,   2399.4,2,   7.4640,2,    25.00,      704
  49UF20130627,KS1306,  3909,  1,      1,  21960,2,20130628,0659, 32.0037, 136.9968, 4242,   2026.4,   2.0864,  34.5900,2,  34.5902,2,     99.9,2,   146.26,2,    39.01,2,     0.00,2,     2.76,2,   2347.4,2,   2404.1,2,   7.4849,2,    25.00,      659