BOTTLE,20191021PRINUNIVRMK
EXPOCODE,SECT_ID,STNNBR,CASTNO,SAMPNO,BTLNBR,BTLNBR_FLAG_W,DATE,TIME,LATITUDE,LONGITUDE,DEPTH,CTDPRS,CTDTMP,CTDSAL,CTDSAL_FLAG_W,SALNTY,SALNTY_FLAG_W,OXYGEN,OXYGEN_FLAG_W,SILCAT,SILCAT_FLAG_W,NITRAT,NITRAT_FLAG_W,NITRIT,NITRIT_FLAG_W,PHSPHT,PHSPHT_FLAG_W,TCARBN,TCARBN_FLAG_W,ALKALI,ALKALI_FLAG_W,PH_TOT,PH_TOT_FLAG_W,PH_TMP,BTL_TIME
,,,,,,,,,,,METERS,DBAR,ITS-90,PSS-78,,PSS-78,,UMOL/KG,,UMOL/KG,,UMOL/KG,,UMOL/KG,,UMOL/KG,,UMOL/KG,,UMOL/KG,,,,DEG C,
  49UF20130627,KS1306,  3971,  1,     99,     99,2,20130810,0732,  6.9918, 164.4735, 5095,      0.0,  29.0582,  34.2986,2,-999.0000,9,    196.8,2,     1.02,2,     0.05,2,     0.02,2,     0.14,2,   -999.0,9,   -999.0,9,-999.0000,9,  -999.00,      918
  49UF20130627,KS1306,  3971,  1,     36,  21995,2,20130810,0732,  6.9918, 164.4735, 5095,     11.4,  29.0601,  34.2993,2,  34.2975,2,    196.6,2,     0.99,2,     0.07,2,     0.00,2,     0.16,2,   -999.0,9,   -999.0,9,-999.0000,9,  -999.00,      943
  49UF20130627,KS1306,  3971,  1,     35,  22087,2,20130810,0732,  6.9918, 164.4735, 5095,     25.3,  29.0755,  34.3133,2,-999.0000,9,    196.7,2,     1.01,2,     0.05,2,     0.00,2,     0.16,2,   -999.0,9,   -999.0,9,-999.0000,9,  -999.00,      942
  49UF20130627,KS1306,  3971,  1,     34,  21971,2,20130810,0732,  6.9918, 164.4735, 5095,     50.6,  28.9980,  34.5109,2,-999.0000,9,    198.0,2,     1.02,2,     0.02,2,     0.00,2,     0.18,2,   -999.0,9,   -999.0,9,-999.0000,9,  -999.00,      937
  49UF20130627,KS1306,  3971,  1,     33,  21992,2,20130810,0732,  6.9918, 164.4735, 5095,     78.3,  28.2144,  34.6953,2,-999.0000,9,    197.2,2,     1.06,2,     0.06,2,     0.00,2,     0.20,2,   -999.0,9,   -999.0,9,-999.0000,9,  -999.00,      936
  49UF20130627,KS1306,  3971,  1,     32,  21991,2,20130810,0732,  6.9918, 164.4735, 5095,    104.4,  24.0073,  34.9315,2,  34.9376,4,    182.8,2,     2.09,2,     1.34,2,     0.52,2,     0.33,2,   -999.0,9,   -999.0,9,-999.0000,9,  -999.00,      934
  49UF20130627,KS1306,  3971,  1,     31,  21990,2,20130810,0732,  6.9918, 164.4735, 5095,    127.1,  18.3547,  34.7657,2,-999.0000,9,    157.5,6,     5.85,6,     7.72,6,     0.04,6,     0.69,6,   -999.0,9,   -999.0,9,-999.0000,9,  -999.00,      933
  49UF20130627,KS1306,  3971,  1,     30,  21989,2,20130810,0732,  6.9918, 164.4735, 5095,    154.3,  14.5450,  34.4993,2,-999.0000,9,    136.2,2,    11.56,2,    13.91,2,     0.01,2,     1.11,2,   -999.0,9,   -999.0,9,-999.0000,9,  -999.00,      932
  49UF20130627,KS1306,  3971,  1,     29,  21988,2,20130810,0732,  6.9918, 164.4735, 5095,    205.3,  11.0594,  34.5289,2,  34.5268,2,     60.5,2,    27.34,2,    28.33,2,     0.00,2,     2.11,2,   -999.0,9,   -999.0,9,-999.0000,9,  -999.00,      929
  49UF20130627,KS1306,  3971,  1,     28,  21987,2,20130810,0732,  6.9918, 164.4735, 5095,    255.3,   9.9302,  34.6354,2,-999.0000,9,     39.2,2,    33.33,2,    33.51,2,     0.00,2,     2.41,2,   -999.0,9,   -999.0,9,-999.0000,9,  -999.00,      927
  49UF20130627,KS1306,  3971,  1,     27,  21986,2,20130810,0732,  6.9918, 164.4735, 5095,    305.7,   9.3509,  34.6322,2,-999.0000,9,     44.5,2,    35.48,2,    34.13,2,     0.00,2,     2.44,2,   -999.0,9,   -999.0,9,-999.0000,9,  -999.00,      925
  49UF20130627,KS1306,  3971,  1,     26,  21985,2,20130810,0732,  6.9918, 164.4735, 5095,    406.7,   8.2658,  34.5954,2,  34.5911,4,     57.1,6,    41.38,6,    35.16,6,     0.00,6,     2.52,6,   -999.0,9,   -999.0,9,-999.0000,9,  -999.00,      921
  49UF20130627,KS1306,  3971,  1,     25,  21984,2,20130810,0732,  6.9918, 164.4735, 5095,    505.8,   7.4580,  34.5660,2,-999.0000,9,     56.7,2,    47.93,2,    36.97,2,     0.00,2,     2.64,2,   -999.0,9,   -999.0,9,-999.0000,9,  -999.00,      918
  49UF20130627,KS1306,  3971,  1,     24,  21983,2,20130810,0732,  6.9918, 164.4735, 5095,    607.0,   6.9959,  34.5561,2,  34.5561,2,     57.7,2,    52.48,2,    37.77,2,     0.00,2,     2.72,2,   -999.0,9,   -999.0,9,-999.0000,9,  -999.00,      914
  49UF20130627,KS1306,  3971,  1,     23,  22095,2,20130810,0732,  6.9918, 164.4735, 5095,    708.7,   6.3117,  34.5419,2,-999.0000,9,     60.8,2,    61.21,2,    38.64,2,     0.00,2,     2.78,2,   -999.0,9,   -999.0,9,-999.0000,9,  -999.00,      911
  49UF20130627,KS1306,  3971,  1,     22,  21981,2,20130810,0732,  6.9918, 164.4735, 5095,    810.6,   5.5873,  34.5365,2,  34.5371,2,     60.6,2,    73.34,2,    39.83,2,     0.00,2,     2.86,2,   -999.0,9,   -999.0,9,-999.0000,9,  -999.00,      907
  49UF20130627,KS1306,  3971,  1,     21,  21980,2,20130810,0732,  6.9918, 164.4735, 5095,    908.6,   4.9549,  34.5435,2,-999.0000,9,     65.6,2,    84.39,2,    40.06,2,     0.00,2,     2.89,2,   -999.0,9,   -999.0,9,-999.0000,9,  -999.00,      904
  49UF20130627,KS1306,  3971,  1,     20,  21979,2,20130810,0732,  6.9918, 164.4735, 5095,   1010.5,   4.5747,  34.5510,2,  34.5520,2,     72.6,2,    91.08,2,    39.82,2,     0.00,2,     2.87,2,   -999.0,9,   -999.0,9,-999.0000,9,  -999.00,      901
  49UF20130627,KS1306,  3971,  1,     19,  21978,2,20130810,0732,  6.9918, 164.4735, 5095,   1209.7,   3.9122,  34.5677,2,  34.5697,6,     81.6,2,   103.80,2,    39.54,2,     0.00,2,     2.85,2,   -999.0,9,   -999.0,9,-999.0000,9,  -999.00,      857
  49UF20130627,KS1306,  3971,  1,     18,  21977,2,20130810,0732,  6.9918, 164.4735, 5095,   1412.2,   3.3801,  34.5847,2,  34.5856,2,     86.5,2,   115.39,2,    39.77,2,     0.00,2,     2.86,2,   -999.0,9,   -999.0,9,-999.0000,9,  -999.00,      853
  49UF20130627,KS1306,  3971,  1,     17,  23679,2,20130810,0732,  6.9918, 164.4735, 5095,   1614.1,   2.8542,  34.6049,2,  34.6068,2,     92.5,2,   127.13,2,    39.78,2,     0.00,2,     2.85,2,   -999.0,9,   -999.0,9,-999.0000,9,  -999.00,      849
  49UF20130627,KS1306,  3971,  1,     16,  21975,2,20130810,0732,  6.9918, 164.4735, 5095,   1817.6,   2.4980,  34.6203,2,  34.6214,2,     99.7,2,   135.19,2,    39.26,2,     0.00,2,     2.81,2,   -999.0,9,   -999.0,9,-999.0000,9,  -999.00,      844
  49UF20130627,KS1306,  3971,  1,     15,  21974,2,20130810,0732,  6.9918, 164.4735, 5095,   1817.6,   2.4980,  34.6203,2,  34.6213,2,     99.5,2,   134.80,2,    39.40,2,     0.00,2,     2.81,2,   -999.0,9,   -999.0,9,-999.0000,9,  -999.00,      844
  49UF20130627,KS1306,  3971,  1,     14,  21973,2,20130810,0732,  6.9918, 164.4735, 5095,   2019.0,   2.1965,  34.6370,2,  34.6380,2,    105.6,2,   142.04,2,    39.14,2,     0.00,2,     2.78,2,   -999.0,9,   -999.0,9,-999.0000,9,  -999.00,      840
  49UF20130627,KS1306,  3971,  1,     13,  21972,2,20130810,0732,  6.9918, 164.4735, 5095,   2273.0,   1.9859,  34.6493,2,  34.6506,2,    113.4,2,   145.79,2,    38.68,2,     0.00,2,     2.74,2,   -999.0,9,   -999.0,9,-999.0000,9,  -999.00,      835
  49UF20130627,KS1306,  3971,  1,     12,  21994,2,20130810,0732,  6.9918, 164.4735, 5095,   2530.5,   1.8470,  34.6584,2,  34.6594,6,    120.9,2,   147.20,2,    38.10,2,     0.00,2,     2.70,2,   -999.0,9,   -999.0,9,-999.0000,9,  -999.00,      830
  49UF20130627,KS1306,  3971,  1,     11,  21970,2,20130810,0732,  6.9918, 164.4735, 5095,   2786.7,   1.7495,  34.6645,2,  34.6662,2,    127.0,6,   147.72,6,    37.75,6,     0.00,6,     2.66,6,   -999.0,9,   -999.0,9,-999.0000,9,  -999.00,      824
  49UF20130627,KS1306,  3971,  1,     10,  21969,2,20130810,0732,  6.9918, 164.4735, 5095,   3039.4,   1.6547,  34.6706,2,  34.6722,2,    132.8,2,   147.11,2,    37.33,2,     0.00,2,     2.62,2,   -999.0,9,   -999.0,9,-999.0000,9,  -999.00,      819
  49UF20130627,KS1306,  3971,  1,      9,  21968,2,20130810,0732,  6.9918, 164.4735, 5095,   3293.4,   1.5836,  34.6753,2,  34.6763,2,    140.9,2,   147.07,2,    36.82,2,     0.00,2,     2.59,2,   -999.0,9,   -999.0,9,-999.0000,9,  -999.00,      813
  49UF20130627,KS1306,  3971,  1,      8,  21982,2,20130810,0732,  6.9918, 164.4735, 5095,   3549.9,   1.5080,  34.6812,2,  34.6817,2,    149.5,2,   144.29,2,    36.22,2,     0.00,2,     2.54,2,   -999.0,9,   -999.0,9,-999.0000,9,  -999.00,      808
  49UF20130627,KS1306,  3971,  1,      7,  21966,2,20130810,0732,  6.9918, 164.4735, 5095,   3806.0,   1.4603,  34.6861,2,  34.6858,2,    156.1,2,   141.22,2,    35.72,2,     0.00,2,     2.50,2,   -999.0,9,   -999.0,9,-999.0000,9,  -999.00,      803
  49UF20130627,KS1306,  3971,  1,      6,  21965,2,20130810,0732,  6.9918, 164.4735, 5095,   4061.5,   1.4314,  34.6900,2,  34.6912,2,    163.9,2,   137.88,2,    35.22,2,     0.00,2,     2.47,2,   -999.0,9,   -999.0,9,-999.0000,9,  -999.00,      757
  49UF20130627,KS1306,  3971,  1,      5,  21964,2,20130810,0732,  6.9918, 164.4735, 5095,   4318.8,   1.4068,  34.6937,2,  34.6938,2,    170.6,2,   134.29,2,    34.66,2,     0.00,2,     2.42,2,   -999.0,9,   -999.0,9,-999.0000,9,  -999.00,      752
  49UF20130627,KS1306,  3971,  1,      4,  21963,2,20130810,0732,  6.9918, 164.4735, 5095,   4577.6,   1.3995,  34.6962,2,  34.6966,6,    175.3,6,   131.81,6,    34.39,6,     0.00,6,     2.40,6,   -999.0,9,   -999.0,9,-999.0000,9,  -999.00,      746
  49UF20130627,KS1306,  3971,  1,      3,  22079,2,20130810,0732,  6.9918, 164.4735, 5095,   4833.4,   1.3826,  34.6988,2,  34.6998,2,    180.4,2,   128.55,2,    33.86,2,     0.00,2,     2.37,2,   -999.0,9,   -999.0,9,-999.0000,9,  -999.00,      740
  49UF20130627,KS1306,  3971,  1,      2,  21961,2,20130810,0732,  6.9918, 164.4735, 5095,   5085.4,   1.3846,  34.7004,2,  34.7014,2,    184.3,2,   127.35,2,    33.69,2,     0.00,2,     2.35,2,   -999.0,9,   -999.0,9,-999.0000,9,  -999.00,      735
  49UF20130627,KS1306,  3971,  1,      1,  21960,2,20130810,0732,  6.9918, 164.4735, 5095,   5166.7,   1.3877,  34.7008,2,  34.7018,2,    185.3,2,   126.93,2,    33.78,2,     0.00,2,     2.36,2,   -999.0,9,   -999.0,9,-999.0000,9,  -999.00,      732
  49UF20130627,KS1306,  3972,  1,     99,     99,2,20130810,1618,  7.9953, 163.9733, 5149,      0.0,  28.8011,  34.4670,2,-999.0000,9,    196.4,2,     1.03,2,     0.00,2,     0.00,2,     0.13,4,   -999.0,9,   -999.0,9,-999.0000,9,  -999.00,     1800
  49UF20130627,KS1306,  3972,  1,     36,  21995,2,20130810,1618,  7.9953, 163.9733, 5149,     10.3,  28.8047,  34.4671,2,-999.0000,9,    196.3,2,     1.02,2,     0.00,2,     0.00,2,     0.13,4,   -999.0,9,   -999.0,9,-999.0000,9,  -999.00,     1827
  49UF20130627,KS1306,  3972,  1,     35,  22087,2,20130810,1618,  7.9953, 163.9733, 5149,     25.7,  28.8092,  34.4669,2,-999.0000,9,    196.4,2,     1.03,2,     0.00,2,     0.00,2,     0.12,4,   -999.0,9,   -999.0,9,-999.0000,9,  -999.00,     1826
  49UF20130627,KS1306,  3972,  1,     34,  21971,2,20130810,1618,  7.9953, 163.9733, 5149,     51.8,  28.2820,  34.8312,2,-999.0000,9,    198.7,2,     1.15,2,     0.00,2,     0.01,2,     0.16,4,   -999.0,9,   -999.0,9,-999.0000,9,  -999.00,     1824
  49UF20130627,KS1306,  3972,  1,     33,  21992,2,20130810,1618,  7.9953, 163.9733, 5149,     75.4,  26.2229,  34.9715,2,-999.0000,9,    186.5,2,     1.55,2,     0.79,2,     0.56,2,     0.20,4,   -999.0,9,   -999.0,9,-999.0000,9,  -999.00,     1823
  49UF20130627,KS1306,  3972,  1,     32,  21991,3,20130810,1618,  7.9953, 163.9733, 5149,     99.6,  25.0636,  35.0029,2,-999.0000,9,    188.0,2,     1.59,2,     0.67,2,     0.65,2,     0.20,4,   -999.0,9,   -999.0,9,-999.0000,9,  -999.00,     1820
  49UF20130627,KS1306,  3972,  1,     31,  21990,2,20130810,1618,  7.9953, 163.9733, 5149,    126.1,  21.8546,  34.9831,2,-999.0000,9,    176.5,2,     2.75,2,     3.20,2,     0.09,2,     0.33,4,   -999.0,9,   -999.0,9,-999.0000,9,  -999.00,     1818
  49UF20130627,KS1306,  3972,  1,     30,  21989,2,20130810,1618,  7.9953, 163.9733, 5149,    152.3,  15.6295,  34.5699,2,-999.0000,9,    145.6,6,     8.95,6,    11.23,6,     0.01,6,     0.84,4,   -999.0,9,   -999.0,9,-999.0000,9,  -999.00,     1817
  49UF20130627,KS1306,  3972,  1,     29,  21988,2,20130810,1618,  7.9953, 163.9733, 5149,    202.7,  10.8797,  34.4367,2,-999.0000,9,     79.4,2,    27.32,2,    26.60,2,     0.00,2,     1.93,4,   -999.0,9,   -999.0,9,-999.0000,9,  -999.00,     1815
  49UF20130627,KS1306,  3972,  1,     28,  21987,2,20130810,1618,  7.9953, 163.9733, 5149,    253.8,   9.9270,  34.5779,2,-999.0000,9,     40.3,2,    34.18,2,    32.99,2,     0.00,2,     2.32,4,   -999.0,9,   -999.0,9,-999.0000,9,  -999.00,     1813
  49UF20130627,KS1306,  3972,  1,     27,  21986,2,20130810,1618,  7.9953, 163.9733, 5149,    302.9,   9.5158,  34.6211,2,-999.0000,9,     38.7,2,    35.56,2,    34.25,2,     0.00,2,     2.39,4,   -999.0,9,   -999.0,9,-999.0000,9,  -999.00,     1810
  49UF20130627,KS1306,  3972,  1,     26,  21985,2,20130810,1618,  7.9953, 163.9733, 5149,    406.6,   8.7554,  34.6149,2,-999.0000,9,     55.3,2,    37.87,2,    34.57,2,     0.00,2,     2.39,4,   -999.0,9,   -999.0,9,-999.0000,9,  -999.00,     1807
  49UF20130627,KS1306,  3972,  1,     25,  21984,2,20130810,1618,  7.9953, 163.9733, 5149,    508.7,   7.8282,  34.5798,2,-999.0000,9,     51.8,6,    45.00,6,    36.53,6,     0.00,6,     2.55,4,   -999.0,9,   -999.0,9,-999.0000,9,  -999.00,     1804
  49UF20130627,KS1306,  3972,  1,     24,  21983,2,20130810,1618,  7.9953, 163.9733, 5149,    607.8,   7.1825,  34.5561,2,-999.0000,9,     59.4,2,    50.83,2,    37.08,2,     0.00,2,     2.59,4,   -999.0,9,   -999.0,9,-999.0000,9,  -999.00,     1800
  49UF20130627,KS1306,  3972,  1,     23,  22095,2,20130810,1618,  7.9953, 163.9733, 5149,    708.4,   6.3805,  34.5327,2,-999.0000,9,     57.4,2,    62.50,2,    38.49,2,     0.00,2,     2.71,4,   -999.0,9,   -999.0,9,-999.0000,9,  -999.00,     1756
  49UF20130627,KS1306,  3972,  1,     22,  21981,2,20130810,1618,  7.9953, 163.9733, 5149,    808.6,   5.5506,  34.5336,2,-999.0000,9,     59.6,2,    74.86,2,    39.80,2,     0.00,2,     2.80,4,   -999.0,9,   -999.0,9,-999.0000,9,  -999.00,     1753
  49UF20130627,KS1306,  3972,  1,     21,  21980,2,20130810,1618,  7.9953, 163.9733, 5149,    908.2,   5.0381,  34.5421,2,-999.0000,9,     62.4,2,    83.04,2,    40.43,2,     0.00,2,     2.84,4,   -999.0,9,   -999.0,9,-999.0000,9,  -999.00,     1751
  49UF20130627,KS1306,  3972,  1,     20,  21979,2,20130810,1618,  7.9953, 163.9733, 5149,   1011.0,   4.5301,  34.5532,2,-999.0000,9,     69.4,2,    91.95,2,    40.42,2,     0.00,2,     2.84,4,   -999.0,9,   -999.0,9,-999.0000,9,  -999.00,     1748
  49UF20130627,KS1306,  3972,  1,     19,  21978,2,20130810,1618,  7.9953, 163.9733, 5149,   1212.7,   3.7759,  34.5726,2,-999.0000,9,     82.5,2,   106.63,2,    39.80,2,     0.00,2,     2.80,4,   -999.0,9,   -999.0,9,-999.0000,9,  -999.00,     1743
  49UF20130627,KS1306,  3972,  1,     18,  21977,2,20130810,1618,  7.9953, 163.9733, 5149,   1413.0,   3.3788,  34.5855,2,-999.0000,9,     86.3,2,   115.05,2,    39.84,2,     0.00,2,     2.80,4,   -999.0,9,   -999.0,9,-999.0000,9,  -999.00,     1737
  49UF20130627,KS1306,  3972,  1,     17,  23679,2,20130810,1618,  7.9953, 163.9733, 5149,   1615.2,   2.9372,  34.6002,2,-999.0000,9,     92.4,2,   125.46,2,    39.65,2,     0.00,2,     2.78,4,   -999.0,9,   -999.0,9,-999.0000,9,  -999.00,     1732
  49UF20130627,KS1306,  3972,  1,     16,  21975,2,20130810,1618,  7.9953, 163.9733, 5149,   1615.2,   2.9372,  34.6002,2,-999.0000,9,     92.3,2,   125.68,2,    39.78,2,     0.00,2,     2.78,4,   -999.0,9,   -999.0,9,-999.0000,9,  -999.00,     1732
  49UF20130627,KS1306,  3972,  1,     15,  21974,2,20130810,1618,  7.9953, 163.9733, 5149,   1819.6,   2.5225,  34.6184,2,-999.0000,9,     97.2,2,   135.56,2,    39.65,2,     0.00,2,     2.77,4,   -999.0,9,   -999.0,9,-999.0000,9,  -999.00,     1727
  49UF20130627,KS1306,  3972,  1,     14,  21973,2,20130810,1618,  7.9953, 163.9733, 5149,   2022.6,   2.2385,  34.6338,2,-999.0000,9,    104.5,2,   141.78,2,    39.42,2,     0.00,2,     2.73,4,   -999.0,9,   -999.0,9,-999.0000,9,  -999.00,     1723
  49UF20130627,KS1306,  3972,  1,     13,  21972,2,20130810,1618,  7.9953, 163.9733, 5149,   2276.2,   2.0024,  34.6486,2,-999.0000,9,    112.9,2,   146.13,2,    38.72,2,     0.00,2,     2.69,4,   -999.0,9,   -999.0,9,-999.0000,9,  -999.00,     1717
  49UF20130627,KS1306,  3972,  1,     12,  21994,2,20130810,1618,  7.9953, 163.9733, 5149,   2529.0,   1.8769,  34.6567,2,-999.0000,9,    119.5,6,   147.24,6,    38.30,6,     0.00,6,     2.65,4,   -999.0,9,   -999.0,9,-999.0000,9,  -999.00,     1711
  49UF20130627,KS1306,  3972,  1,     11,  21970,2,20130810,1618,  7.9953, 163.9733, 5149,   2783.0,   1.7383,  34.6644,2,-999.0000,9,    127.2,2,   148.97,2,    37.88,2,     0.00,2,     2.61,4,   -999.0,9,   -999.0,9,-999.0000,9,  -999.00,     1706
  49UF20130627,KS1306,  3972,  1,     10,  21969,2,20130810,1618,  7.9953, 163.9733, 5149,   3036.0,   1.6692,  34.6692,2,-999.0000,9,    133.8,2,   147.62,2,    37.32,2,     0.00,2,     2.57,4,   -999.0,9,   -999.0,9,-999.0000,9,  -999.00,     1702
  49UF20130627,KS1306,  3972,  1,      9,  21968,2,20130810,1618,  7.9953, 163.9733, 5149,   3292.2,   1.6009,  34.6743,2,-999.0000,9,    138.4,2,   147.51,2,    36.95,2,     0.00,2,     2.54,4,   -999.0,9,   -999.0,9,-999.0000,9,  -999.00,     1657
  49UF20130627,KS1306,  3972,  1,      8,  21982,2,20130810,1618,  7.9953, 163.9733, 5149,   3545.2,   1.5209,  34.6803,2,-999.0000,9,    147.5,2,   146.07,2,    36.51,2,     0.00,2,     2.50,4,   -999.0,9,   -999.0,9,-999.0000,9,  -999.00,     1652
  49UF20130627,KS1306,  3972,  1,      7,  21966,2,20130810,1618,  7.9953, 163.9733, 5149,   3802.6,   1.4620,  34.6856,2,-999.0000,9,    156.0,2,   142.43,2,    35.76,2,     0.00,2,     2.46,4,   -999.0,9,   -999.0,9,-999.0000,9,  -999.00,     1647
  49UF20130627,KS1306,  3972,  1,      6,  21965,2,20130810,1618,  7.9953, 163.9733, 5149,   4056.8,   1.4326,  34.6894,2,-999.0000,9,    163.4,2,   138.58,2,    35.30,2,     0.00,2,     2.42,4,   -999.0,9,   -999.0,9,-999.0000,9,  -999.00,     1643
  49UF20130627,KS1306,  3972,  1,      5,  21964,2,20130810,1618,  7.9953, 163.9733, 5149,   4313.4,   1.4119,  34.6930,2,-999.0000,9,    168.8,2,   135.46,2,    34.92,2,     0.00,2,     2.39,4,   -999.0,9,   -999.0,9,-999.0000,9,  -999.00,     1638
  49UF20130627,KS1306,  3972,  1,      4,  21963,2,20130810,1618,  7.9953, 163.9733, 5149,   4572.4,   1.3999,  34.6958,2,-999.0000,9,    175.3,6,   132.24,6,    34.42,6,     0.00,6,     2.36,4,   -999.0,9,   -999.0,9,-999.0000,9,  -999.00,     1633
  49UF20130627,KS1306,  3972,  1,      3,  22079,4,20130810,1618,  7.9953, 163.9733, 5149,   4831.6,   1.3929,  34.6980,2,-999.0000,9,    176.8,4,   131.04,4,    34.31,4,     0.00,4,     2.35,4,   -999.0,9,   -999.0,9,-999.0000,9,  -999.00,     1627
  49UF20130627,KS1306,  3972,  1,      2,  21961,2,20130810,1618,  7.9953, 163.9733, 5149,   5087.8,   1.3906,  34.7001,2,-999.0000,9,    183.7,2,   128.13,2,    33.80,2,     0.00,2,     2.33,4,   -999.0,9,   -999.0,9,-999.0000,9,  -999.00,     1621
  49UF20130627,KS1306,  3972,  1,      1,  21960,2,20130810,1618,  7.9953, 163.9733, 5149,   5229.4,   1.3969,  34.7008,2,-999.0000,9,    185.0,2,   127.49,2,    33.75,2,     0.00,2,     2.32,4,   -999.0,9,   -999.0,9,-999.0000,9,  -999.00,     1618