BOTTLE,20191021PRINUNIVRMK
EXPOCODE,SECT_ID,STNNBR,CASTNO,SAMPNO,BTLNBR,BTLNBR_FLAG_W,DATE,TIME,LATITUDE,LONGITUDE,DEPTH,CTDPRS,CTDTMP,CTDSAL,CTDSAL_FLAG_W,SALNTY,SALNTY_FLAG_W,OXYGEN,OXYGEN_FLAG_W,SILCAT,SILCAT_FLAG_W,NITRAT,NITRAT_FLAG_W,NITRIT,NITRIT_FLAG_W,PHSPHT,PHSPHT_FLAG_W,TCARBN,TCARBN_FLAG_W,ALKALI,ALKALI_FLAG_W,PH_TOT,PH_TOT_FLAG_W,PH_TMP,BTL_TIME
,,,,,,,,,,,METERS,DBAR,ITS-90,PSS-78,,PSS-78,,UMOL/KG,,UMOL/KG,,UMOL/KG,,UMOL/KG,,UMOL/KG,,UMOL/KG,,UMOL/KG,,,,DEG C,
  49UF20130627,KS1306,  3941,  1,     99,     99,2,20130719,0804,  4.0057, 137.0083, 4662,      0.0,  29.9771,  33.6678,2,-999.0000,9,    195.6,2,     1.23,2,     0.00,2,     0.00,2,     0.04,2,   -999.0,9,   -999.0,9,-999.0000,9,  -999.00,      840
  49UF20130627,KS1306,  3941,  1,     36,  21995,2,20130719,0804,  4.0057, 137.0083, 4662,     11.0,  29.9799,  33.6754,2,-999.0000,9,    195.4,2,     1.23,2,     0.01,2,     0.00,2,     0.03,2,   -999.0,9,   -999.0,9,-999.0000,9,  -999.00,      901
  49UF20130627,KS1306,  3941,  1,     35,  22087,2,20130719,0804,  4.0057, 137.0083, 4662,     25.9,  30.0787,  33.7817,2,-999.0000,9,    196.1,2,     1.27,2,     0.01,2,     0.00,2,     0.03,2,   -999.0,9,   -999.0,9,-999.0000,9,  -999.00,      900
  49UF20130627,KS1306,  3941,  1,     34,  21971,2,20130719,0804,  4.0057, 137.0083, 4662,     50.6,  29.8911,  34.1898,2,-999.0000,9,    200.5,2,     1.30,2,     0.00,2,     0.00,2,     0.06,2,   -999.0,9,   -999.0,9,-999.0000,9,  -999.00,      857
  49UF20130627,KS1306,  3941,  1,     33,  21992,2,20130719,0804,  4.0057, 137.0083, 4662,     76.1,  28.0819,  34.5922,2,-999.0000,9,    182.5,2,     1.62,2,     0.19,2,     0.03,2,     0.18,2,   -999.0,9,   -999.0,9,-999.0000,9,  -999.00,      856
  49UF20130627,KS1306,  3941,  1,     32,  21991,2,20130719,0804,  4.0057, 137.0083, 4662,    100.6,  26.0500,  34.8396,2,-999.0000,9,    154.0,2,     3.37,2,     4.42,2,     0.10,2,     0.43,2,   -999.0,9,   -999.0,9,-999.0000,9,  -999.00,      855
  49UF20130627,KS1306,  3941,  1,     31,  21990,2,20130719,0804,  4.0057, 137.0083, 4662,    126.0,  22.5860,  34.9221,2,-999.0000,9,    147.4,2,     4.93,2,     6.41,2,     0.03,2,     0.56,2,   -999.0,9,   -999.0,9,-999.0000,9,  -999.00,      854
  49UF20130627,KS1306,  3941,  1,     27,  21986,2,20130719,0804,  4.0057, 137.0083, 4662,    150.8,  18.6749,  34.7902,2,-999.0000,9,    138.2,2,     9.12,2,    10.80,2,     0.01,2,     0.84,2,   -999.0,9,   -999.0,9,-999.0000,9,  -999.00,      853
  49UF20130627,KS1306,  3941,  1,     26,  21985,2,20130719,0804,  4.0057, 137.0083, 4662,    202.9,  12.0668,  34.5440,2,-999.0000,9,     87.3,6,    25.66,6,    24.87,6,     0.00,6,     1.81,6,   -999.0,9,   -999.0,9,-999.0000,9,  -999.00,      851
  49UF20130627,KS1306,  3941,  1,     25,  21984,2,20130719,0804,  4.0057, 137.0083, 4662,    252.6,   9.5968,  34.5779,2,-999.0000,9,     62.7,2,    35.36,2,    31.79,2,     0.00,2,     2.27,2,   -999.0,9,   -999.0,9,-999.0000,9,  -999.00,      849
  49UF20130627,KS1306,  3941,  1,     21,  21980,2,20130719,0804,  4.0057, 137.0083, 4662,    303.3,   8.7448,  34.5827,2,-999.0000,9,    115.2,2,    34.28,2,    28.68,2,     0.00,2,     2.04,2,   -999.0,9,   -999.0,9,-999.0000,9,  -999.00,      847
  49UF20130627,KS1306,  3941,  1,     20,  21979,2,20130719,0804,  4.0057, 137.0083, 4662,    303.3,   8.7448,  34.5827,2,-999.0000,9,    115.1,2,    34.31,2,    28.65,2,     0.00,2,     2.04,2,   -999.0,9,   -999.0,9,-999.0000,9,  -999.00,      847
  49UF20130627,KS1306,  3941,  1,     19,  21978,2,20130719,0804,  4.0057, 137.0083, 4662,    403.3,   8.0508,  34.5915,2,-999.0000,9,    130.6,6,    31.05,6,    28.94,6,     0.00,6,     2.04,6,   -999.0,9,   -999.0,9,-999.0000,9,  -999.00,      845
  49UF20130627,KS1306,  3941,  1,     15,  21974,2,20130719,0804,  4.0057, 137.0083, 4662,    502.3,   7.4815,  34.5639,2,-999.0000,9,    125.7,2,    35.86,2,    30.57,2,     0.00,2,     2.15,2,   -999.0,9,   -999.0,9,-999.0000,9,  -999.00,      842
  49UF20130627,KS1306,  3941,  1,     14,  21973,2,20130719,0804,  4.0057, 137.0083, 4662,    603.4,   6.7342,  34.5380,2,-999.0000,9,     99.1,2,    49.65,2,    34.14,2,     0.00,2,     2.43,2,   -999.0,9,   -999.0,9,-999.0000,9,  -999.00,      839
  49UF20130627,KS1306,  3941,  1,     13,  21972,2,20130719,0804,  4.0057, 137.0083, 4662,    704.7,   6.1097,  34.5337,2,-999.0000,9,     94.4,2,    58.53,2,    35.88,2,     0.00,2,     2.55,2,   -999.0,9,   -999.0,9,-999.0000,9,  -999.00,      836
  49UF20130627,KS1306,  3941,  1,     12,  21994,2,20130719,0804,  4.0057, 137.0083, 4662,    805.5,   5.2958,  34.5379,2,-999.0000,9,     98.1,2,    69.88,2,    36.75,2,     0.00,2,     2.61,2,   -999.0,9,   -999.0,9,-999.0000,9,  -999.00,      834
  49UF20130627,KS1306,  3941,  1,     11,  21970,2,20130719,0804,  4.0057, 137.0083, 4662,    907.5,   4.8713,  34.5471,2,-999.0000,9,     91.7,2,    80.33,2,    37.76,2,     0.00,2,     2.69,2,   -999.0,9,   -999.0,9,-999.0000,9,  -999.00,      831
  49UF20130627,KS1306,  3941,  1,     10,  21969,2,20130719,0804,  4.0057, 137.0083, 4662,   1009.8,   4.3951,  34.5584,2,-999.0000,9,     91.4,2,    90.29,2,    38.25,2,     0.00,2,     2.73,2,   -999.0,9,   -999.0,9,-999.0000,9,  -999.00,      829
  49UF20130627,KS1306,  3941,  1,      6,  21965,2,20130719,0804,  4.0057, 137.0083, 4662,   1211.5,   3.7645,  34.5756,2,-999.0000,9,     95.2,6,   103.88,6,    38.69,6,     0.00,6,     2.76,6,   -999.0,9,   -999.0,9,-999.0000,9,  -999.00,      824
  49UF20130627,KS1306,  3941,  1,      5,  21964,2,20130719,0804,  4.0057, 137.0083, 4662,   1413.3,   3.2329,  34.5926,2,-999.0000,9,    100.5,2,   114.73,2,    38.69,2,     0.00,2,     2.75,2,   -999.0,9,   -999.0,9,-999.0000,9,  -999.00,      819
  49UF20130627,KS1306,  3941,  1,      4,  21963,2,20130719,0804,  4.0057, 137.0083, 4662,   1614.6,   2.7619,  34.6106,2,-999.0000,9,    104.8,2,   125.21,2,    38.75,2,     0.00,2,     2.74,2,   -999.0,9,   -999.0,9,-999.0000,9,  -999.00,      815
  49UF20130627,KS1306,  3941,  1,      3,  22079,2,20130719,0804,  4.0057, 137.0083, 4662,   1818.7,   2.3840,  34.6279,2,-999.0000,9,    111.3,2,   133.17,2,    38.39,2,     0.00,2,     2.71,2,   -999.0,9,   -999.0,9,-999.0000,9,  -999.00,      810
  49UF20130627,KS1306,  3941,  1,      2,  21961,2,20130719,0804,  4.0057, 137.0083, 4662,   1818.7,   2.3840,  34.6279,2,-999.0000,9,    111.5,2,   133.51,2,    38.44,2,     0.00,2,     2.72,2,   -999.0,9,   -999.0,9,-999.0000,9,  -999.00,      810
  49UF20130627,KS1306,  3941,  1,      1,  21960,2,20130719,0804,  4.0057, 137.0083, 4662,   2022.5,   2.1595,  34.6393,2,-999.0000,9,    116.2,2,   137.88,2,    38.17,2,     0.00,2,     2.70,2,   -999.0,9,   -999.0,9,-999.0000,9,  -999.00,      804
  49UF20130627,KS1306,  3942,  1,     99,     99,2,20130719,1515,  3.0008, 137.0218, 4530,      0.0,  29.7104,  33.6679,2,-999.0000,9,    196.2,2,     1.44,2,     0.00,2,     0.00,2,     0.01,2,   -999.0,9,   -999.0,9,-999.0000,9,  -999.00,     1651
  49UF20130627,KS1306,  3942,  1,     36,  21995,2,20130719,1515,  3.0008, 137.0218, 4530,     12.5,  29.7478,  33.6768,2,  33.6673,4,    195.9,2,     1.44,2,     0.00,2,     0.00,2,     0.01,2,   -999.0,9,   -999.0,9,-999.0000,9,  -999.00,     1708
  49UF20130627,KS1306,  3942,  1,     35,  22087,2,20130719,1515,  3.0008, 137.0218, 4530,     27.4,  29.7260,  33.6656,2,-999.0000,9,    195.8,2,     1.42,2,     0.00,2,     0.00,2,     0.01,2,   -999.0,9,   -999.0,9,-999.0000,9,  -999.00,     1707
  49UF20130627,KS1306,  3942,  1,     33,  21992,2,20130719,1515,  3.0008, 137.0218, 4530,     51.6,  29.4856,  34.2002,2,-999.0000,9,    197.2,2,     1.23,2,     0.00,2,     0.00,2,     0.07,2,   -999.0,9,   -999.0,9,-999.0000,9,  -999.00,     1704
  49UF20130627,KS1306,  3942,  1,     32,  21991,2,20130719,1515,  3.0008, 137.0218, 4530,     76.5,  28.1651,  34.4707,2,-999.0000,9,    181.2,2,     1.73,2,     0.47,2,     0.14,2,     0.18,2,   -999.0,9,   -999.0,9,-999.0000,9,  -999.00,     1703
  49UF20130627,KS1306,  3942,  1,     31,  21990,2,20130719,1515,  3.0008, 137.0218, 4530,    102.2,  27.0285,  34.8428,2,  34.8573,4,    161.7,2,     2.67,2,     3.45,2,     0.07,2,     0.39,2,   -999.0,9,   -999.0,9,-999.0000,9,  -999.00,     1702
  49UF20130627,KS1306,  3942,  1,     30,  21989,2,20130719,1515,  3.0008, 137.0218, 4530,    126.8,  24.6429,  34.9163,2,-999.0000,9,    150.8,2,     4.05,2,     5.33,2,     0.04,2,     0.51,2,   -999.0,9,   -999.0,9,-999.0000,9,  -999.00,     1701
  49UF20130627,KS1306,  3942,  1,     29,  21988,2,20130719,1515,  3.0008, 137.0218, 4530,    151.0,  22.3632,  34.9236,2,-999.0000,9,    145.2,6,     5.67,6,     7.23,6,     0.02,6,     0.63,6,   -999.0,9,   -999.0,9,-999.0000,9,  -999.00,     1700
  49UF20130627,KS1306,  3942,  1,     28,  21987,2,20130719,1515,  3.0008, 137.0218, 4530,    201.9,  14.9058,  34.6096,2,  34.6054,4,    124.4,2,    16.74,2,    16.78,2,     0.01,2,     1.27,2,   -999.0,9,   -999.0,9,-999.0000,9,  -999.00,     1658
  49UF20130627,KS1306,  3942,  1,     27,  21986,2,20130719,1515,  3.0008, 137.0218, 4530,    252.4,  11.7295,  34.5436,2,-999.0000,9,     78.8,2,    27.03,2,    26.27,2,     0.00,2,     1.93,2,   -999.0,9,   -999.0,9,-999.0000,9,  -999.00,     1657
  49UF20130627,KS1306,  3942,  1,     26,  21985,2,20130719,1515,  3.0008, 137.0218, 4530,    304.9,   9.3812,  34.5595,2,-999.0000,9,     76.6,2,    37.20,2,    30.66,2,     0.00,2,     2.21,2,   -999.0,9,   -999.0,9,-999.0000,9,  -999.00,     1655
  49UF20130627,KS1306,  3942,  1,     25,  21984,2,20130719,1515,  3.0008, 137.0218, 4530,    404.4,   8.1018,  34.5852,2,  34.5885,2,     93.2,2,    37.83,2,    32.14,2,     0.00,2,     2.28,2,   -999.0,9,   -999.0,9,-999.0000,9,  -999.00,     1653
  49UF20130627,KS1306,  3942,  1,     24,  21983,2,20130719,1515,  3.0008, 137.0218, 4530,    506.7,   7.0075,  34.5441,2,-999.0000,9,    111.8,6,    43.90,6,    32.46,6,     0.00,6,     2.31,6,   -999.0,9,   -999.0,9,-999.0000,9,  -999.00,     1650
  49UF20130627,KS1306,  3942,  1,     23,  22095,2,20130719,1515,  3.0008, 137.0218, 4530,    610.1,   6.3329,  34.5335,2,  34.5323,2,    114.4,2,    48.86,2,    33.64,2,     0.00,2,     2.39,2,   -999.0,9,   -999.0,9,-999.0000,9,  -999.00,     1648
  49UF20130627,KS1306,  3942,  1,     22,  21981,2,20130719,1515,  3.0008, 137.0218, 4530,    706.3,   5.8231,  34.5320,2,  34.5307,2,    110.4,2,    59.10,2,    34.64,2,     0.00,2,     2.48,2,   -999.0,9,   -999.0,9,-999.0000,9,  -999.00,     1644
  49UF20130627,KS1306,  3942,  1,     21,  21980,2,20130719,1515,  3.0008, 137.0218, 4530,    706.3,   5.8231,  34.5320,2,  34.5308,2,    110.2,2,    59.27,2,    34.79,2,     0.00,2,     2.48,2,   -999.0,9,   -999.0,9,-999.0000,9,  -999.00,     1644
  49UF20130627,KS1306,  3942,  1,     20,  21979,2,20130719,1515,  3.0008, 137.0218, 4530,    810.2,   5.3591,  34.5349,2,-999.0000,9,    101.6,2,    67.57,2,    36.31,2,     0.00,2,     2.59,2,   -999.0,9,   -999.0,9,-999.0000,9,  -999.00,     1641
  49UF20130627,KS1306,  3942,  1,     19,  21978,2,20130719,1515,  3.0008, 137.0218, 4530,    916.2,   4.7585,  34.5496,2,-999.0000,9,     92.0,2,    82.59,2,    37.69,2,     0.00,2,     2.71,2,   -999.0,9,   -999.0,9,-999.0000,9,  -999.00,     1638
  49UF20130627,KS1306,  3942,  1,     18,  21977,2,20130719,1515,  3.0008, 137.0218, 4530,   1018.6,   4.3148,  34.5605,2,  34.5594,2,     92.1,2,    92.11,2,    38.07,2,     0.00,2,     2.74,2,   -999.0,9,   -999.0,9,-999.0000,9,  -999.00,     1631
  49UF20130627,KS1306,  3942,  1,     17,  23679,2,20130719,1515,  3.0008, 137.0218, 4530,   1206.8,   3.6567,  34.5785,2,  34.5783,2,     94.9,2,   106.84,2,    38.54,2,     0.00,2,     2.77,2,   -999.0,9,   -999.0,9,-999.0000,9,  -999.00,     1625
  49UF20130627,KS1306,  3942,  1,     16,  21975,2,20130719,1515,  3.0008, 137.0218, 4530,   1416.3,   3.0907,  34.5978,2,  34.5971,2,     99.5,2,   118.73,2,    38.87,2,     0.00,2,     2.78,2,   -999.0,9,   -999.0,9,-999.0000,9,  -999.00,     1616
  49UF20130627,KS1306,  3942,  1,     15,  21974,2,20130719,1515,  3.0008, 137.0218, 4530,   1621.1,   2.6610,  34.6149,2,  34.6143,2,    108.9,2,   126.76,2,    38.20,2,     0.00,2,     2.73,2,   -999.0,9,   -999.0,9,-999.0000,9,  -999.00,     1610
  49UF20130627,KS1306,  3942,  1,     14,  21973,3,20130719,1515,  3.0008, 137.0218, 4530,   1825.8,   2.4343,  34.6261,2,  34.6256,2,    109.6,2,   132.81,2,    38.42,2,     0.00,2,     2.73,2,   -999.0,9,   -999.0,9,-999.0000,9,  -999.00,     1605
  49UF20130627,KS1306,  3942,  1,     13,  21972,3,20130719,1515,  3.0008, 137.0218, 4530,   2028.2,   2.1804,  34.6383,2,  34.6377,2,    116.2,2,   137.36,2,    38.00,2,     0.00,2,     2.70,2,   -999.0,9,   -999.0,9,-999.0000,9,  -999.00,     1601
  49UF20130627,KS1306,  3942,  1,     12,  21994,2,20130719,1515,  3.0008, 137.0218, 4530,   2278.0,   1.9247,  34.6523,2,  34.6516,6,    124.5,6,   141.64,6,    37.66,6,     0.00,6,     2.66,6,   -999.0,9,   -999.0,9,-999.0000,9,  -999.00,     1556
  49UF20130627,KS1306,  3942,  1,     11,  21970,2,20130719,1515,  3.0008, 137.0218, 4530,   2531.8,   1.7657,  34.6608,2,  34.6616,2,    132.9,2,   142.81,2,    37.15,2,     0.00,2,     2.61,2,   -999.0,9,   -999.0,9,-999.0000,9,  -999.00,     1551
  49UF20130627,KS1306,  3942,  1,      9,  21968,2,20130719,1515,  3.0008, 137.0218, 4530,   2785.0,   1.6440,  34.6683,2,  34.6683,2,    139.5,2,   143.12,2,    36.73,2,     0.00,2,     2.57,2,   -999.0,9,   -999.0,9,-999.0000,9,  -999.00,     1547
  49UF20130627,KS1306,  3942,  1,      8,  21982,2,20130719,1515,  3.0008, 137.0218, 4530,   3040.5,   1.5882,  34.6729,2,  34.6724,2,    143.6,2,   143.10,2,    36.35,2,     0.00,2,     2.55,2,   -999.0,9,   -999.0,9,-999.0000,9,  -999.00,     1542
  49UF20130627,KS1306,  3942,  1,      7,  21966,2,20130719,1515,  3.0008, 137.0218, 4530,   3295.9,   1.5616,  34.6761,2,  34.6765,6,    145.7,2,   143.05,2,    36.26,2,     0.00,2,     2.54,2,   -999.0,9,   -999.0,9,-999.0000,9,  -999.00,     1538
  49UF20130627,KS1306,  3942,  1,      6,  21965,2,20130719,1515,  3.0008, 137.0218, 4530,   3547.4,   1.5578,  34.6781,2,  34.6793,2,    148.0,2,   143.15,2,    36.16,2,     0.00,2,     2.53,2,   -999.0,9,   -999.0,9,-999.0000,9,  -999.00,     1534
  49UF20130627,KS1306,  3942,  1,      5,  21964,4,20130719,1515,  3.0008, 137.0218, 4530,   3801.3,   1.5290,  34.6823,2,  34.6765,4,    147.0,4,   142.96,4,    36.18,4,     0.00,4,     2.53,4,   -999.0,9,   -999.0,9,-999.0000,9,  -999.00,     1530
  49UF20130627,KS1306,  3942,  1,      4,  21963,2,20130719,1515,  3.0008, 137.0218, 4530,   4057.6,   1.5131,  34.6857,2,  34.6854,2,    154.1,2,   142.53,2,    35.80,2,     0.00,2,     2.49,2,   -999.0,9,   -999.0,9,-999.0000,9,  -999.00,     1526
  49UF20130627,KS1306,  3942,  1,      3,  22079,2,20130719,1515,  3.0008, 137.0218, 4530,   4057.6,   1.5131,  34.6857,2,  34.6861,2,    154.1,2,   142.07,2,    35.70,2,     0.00,2,     2.49,2,   -999.0,9,   -999.0,9,-999.0000,9,  -999.00,     1525
  49UF20130627,KS1306,  3942,  1,      2,  21961,2,20130719,1515,  3.0008, 137.0218, 4530,   4316.8,   1.5041,  34.6879,2,  34.6886,2,    158.4,2,   140.67,2,    35.47,2,     0.00,2,     2.47,2,   -999.0,9,   -999.0,9,-999.0000,9,  -999.00,     1520
  49UF20130627,KS1306,  3942,  1,      1,  21960,2,20130719,1515,  3.0008, 137.0218, 4530,   4595.6,   1.5262,  34.6881,2,  34.6878,2,    159.6,2,   139.95,2,    35.37,2,     0.00,2,     2.46,2,   -999.0,9,   -999.0,9,-999.0000,9,  -999.00,     1515