BOTTLE,20191021PRINUNIVRMK
EXPOCODE,SECT_ID,STNNBR,CASTNO,SAMPNO,BTLNBR,BTLNBR_FLAG_W,DATE,TIME,LATITUDE,LONGITUDE,DEPTH,CTDPRS,CTDTMP,CTDSAL,CTDSAL_FLAG_W,SALNTY,SALNTY_FLAG_W,OXYGEN,OXYGEN_FLAG_W,SILCAT,SILCAT_FLAG_W,NITRAT,NITRAT_FLAG_W,NITRIT,NITRIT_FLAG_W,PHSPHT,PHSPHT_FLAG_W,TCARBN,TCARBN_FLAG_W,ALKALI,ALKALI_FLAG_W,PH_TOT,PH_TOT_FLAG_W,PH_TMP,BTL_TIME
,,,,,,,,,,,METERS,DBAR,ITS-90,PSS-78,,PSS-78,,UMOL/KG,,UMOL/KG,,UMOL/KG,,UMOL/KG,,UMOL/KG,,UMOL/KG,,UMOL/KG,,,,DEG C,
  49UF20130627,KS1306,  3912,  1,     99,     99,2,20130628,1709, 30.9750, 137.0093, 4206,      0.0,  24.4087,  34.2973,2,-999.0000,9,    211.7,2,     1.63,2,     0.06,2,     0.00,2,     0.05,2,   -999.0,9,   -999.0,9,-999.0000,9,  -999.00,     1758
  49UF20130627,KS1306,  3912,  1,     36,  21995,3,20130628,1709, 30.9750, 137.0093, 4206,     11.4,  24.4112,  34.2959,2,-999.0000,9,    211.4,2,     1.58,2,     0.03,2,     0.00,2,     0.02,2,   -999.0,9,   -999.0,9,-999.0000,9,  -999.00,     1820
  49UF20130627,KS1306,  3912,  1,     35,  22087,3,20130628,1709, 30.9750, 137.0093, 4206,     26.5,  24.3173,  34.3350,2,-999.0000,9,    212.4,2,     1.58,2,     0.05,2,     0.00,2,     0.02,2,   -999.0,9,   -999.0,9,-999.0000,9,  -999.00,     1819
  49UF20130627,KS1306,  3912,  1,     34,  21971,3,20130628,1709, 30.9750, 137.0093, 4206,     50.8,  22.0530,  34.5835,2,-999.0000,9,    223.4,2,     1.82,2,     0.02,2,     0.00,2,     0.02,2,   -999.0,9,   -999.0,9,-999.0000,9,  -999.00,     1817
  49UF20130627,KS1306,  3912,  1,     33,  21992,3,20130628,1709, 30.9750, 137.0093, 4206,     77.7,  20.8880,  34.6838,2,-999.0000,9,    227.2,2,     1.90,2,     0.05,2,     0.00,2,     0.03,2,   -999.0,9,   -999.0,9,-999.0000,9,  -999.00,     1815
  49UF20130627,KS1306,  3912,  1,     32,  21991,3,20130628,1709, 30.9750, 137.0093, 4206,    101.7,  20.3727,  34.7562,2,-999.0000,9,    208.2,2,     2.30,2,     1.61,2,     0.10,2,     0.12,2,   -999.0,9,   -999.0,9,-999.0000,9,  -999.00,     1813
  49UF20130627,KS1306,  3912,  1,     31,  21990,2,20130628,1709, 30.9750, 137.0093, 4206,    126.0,  19.7476,  34.7738,2,-999.0000,9,    214.0,2,     2.15,2,     1.01,2,     0.19,2,     0.09,2,   -999.0,9,   -999.0,9,-999.0000,9,  -999.00,     1811
  49UF20130627,KS1306,  3912,  1,     27,  21986,2,20130628,1709, 30.9750, 137.0093, 4206,    154.0,  19.1869,  34.7769,2,-999.0000,9,    213.1,2,     2.32,2,     1.69,2,     0.03,2,     0.12,2,   -999.0,9,   -999.0,9,-999.0000,9,  -999.00,     1809
  49UF20130627,KS1306,  3912,  1,     26,  21985,2,20130628,1709, 30.9750, 137.0093, 4206,    204.3,  18.6036,  34.7671,2,-999.0000,9,    208.6,6,     3.00,6,     2.88,6,     0.01,6,     0.20,6,   -999.0,9,   -999.0,9,-999.0000,9,  -999.00,     1800
  49UF20130627,KS1306,  3912,  1,     25,  21984,2,20130628,1709, 30.9750, 137.0093, 4206,    253.5,  18.1177,  34.7485,2,-999.0000,9,    201.3,2,     3.70,2,     4.05,2,     0.01,2,     0.27,2,   -999.0,9,   -999.0,9,-999.0000,9,  -999.00,     1758
  49UF20130627,KS1306,  3912,  1,     21,  21980,2,20130628,1709, 30.9750, 137.0093, 4206,    302.9,  17.6104,  34.7203,2,-999.0000,9,    196.0,2,     4.86,2,     5.35,2,     0.01,2,     0.36,2,   -999.0,9,   -999.0,9,-999.0000,9,  -999.00,     1755
  49UF20130627,KS1306,  3912,  1,     20,  21979,2,20130628,1709, 30.9750, 137.0093, 4206,    402.8,  16.2169,  34.6336,2,-999.0000,9,    190.4,6,     8.18,6,     8.01,6,     0.01,6,     0.55,6,   -999.0,9,   -999.0,9,-999.0000,9,  -999.00,     1752
  49UF20130627,KS1306,  3912,  1,     19,  21978,2,20130628,1709, 30.9750, 137.0093, 4206,    505.0,  13.9629,  34.4950,2,-999.0000,9,    175.2,2,    15.88,2,    12.89,2,     0.00,2,     0.90,2,   -999.0,9,   -999.0,9,-999.0000,9,  -999.00,     1749
  49UF20130627,KS1306,  3912,  1,     15,  21974,2,20130628,1709, 30.9750, 137.0093, 4206,    607.0,  10.5833,  34.3022,2,-999.0000,9,    158.9,2,    31.28,2,    19.73,2,     0.00,2,     1.41,2,   -999.0,9,   -999.0,9,-999.0000,9,  -999.00,     1745
  49UF20130627,KS1306,  3912,  1,     14,  21973,2,20130628,1709, 30.9750, 137.0093, 4206,    708.3,   8.3902,  34.2133,2,-999.0000,9,    136.6,2,    48.56,2,    25.75,2,     0.00,2,     1.85,2,   -999.0,9,   -999.0,9,-999.0000,9,  -999.00,     1742
  49UF20130627,KS1306,  3912,  1,     13,  21972,2,20130628,1709, 30.9750, 137.0093, 4206,    708.3,   8.3902,  34.2133,2,-999.0000,9,    136.8,2,    48.63,2,    25.74,2,     0.00,2,     1.85,2,   -999.0,9,   -999.0,9,-999.0000,9,  -999.00,     1742
  49UF20130627,KS1306,  3912,  1,     12,  21994,2,20130628,1709, 30.9750, 137.0093, 4206,    808.5,   6.6075,  34.2026,2,-999.0000,9,    107.9,2,    69.76,2,    31.42,2,     0.00,2,     2.27,2,   -999.0,9,   -999.0,9,-999.0000,9,  -999.00,     1739
  49UF20130627,KS1306,  3912,  1,     11,  21970,4,20130628,1709, 30.9750, 137.0093, 4206,    907.6,   5.2696,  34.2631,2,-999.0000,9,   -999.0,9,  -999.00,9,  -999.00,9,  -999.00,9,  -999.00,9,   -999.0,9,   -999.0,9,-999.0000,9,  -999.00,     1737
  49UF20130627,KS1306,  3912,  1,     10,  21969,3,20130628,1709, 30.9750, 137.0093, 4206,   1010.5,   4.5471,  34.3263,2,-999.0000,9,     69.8,2,   104.51,2,    38.09,2,     0.00,2,     2.74,2,   -999.0,9,   -999.0,9,-999.0000,9,  -999.00,     1734
  49UF20130627,KS1306,  3912,  1,      6,  21965,2,20130628,1709, 30.9750, 137.0093, 4206,   1212.4,   3.5959,  34.4083,2,-999.0000,9,     62.9,2,   123.28,2,    39.96,2,     0.00,2,     2.86,2,   -999.0,9,   -999.0,9,-999.0000,9,  -999.00,     1729
  49UF20130627,KS1306,  3912,  1,      5,  21964,2,20130628,1709, 30.9750, 137.0093, 4206,   1412.8,   2.9494,  34.4732,2,-999.0000,9,     66.8,2,   135.51,2,    40.57,2,     0.00,2,     2.89,2,   -999.0,9,   -999.0,9,-999.0000,9,  -999.00,     1724
  49UF20130627,KS1306,  3912,  1,      4,  21963,2,20130628,1709, 30.9750, 137.0093, 4206,   1412.8,   2.9494,  34.4732,2,-999.0000,9,     66.9,2,   135.98,2,    40.59,2,     0.00,2,     2.90,2,   -999.0,9,   -999.0,9,-999.0000,9,  -999.00,     1724
  49UF20130627,KS1306,  3912,  1,      3,  22079,2,20130628,1709, 30.9750, 137.0093, 4206,   1615.5,   2.5289,  34.5263,2,-999.0000,9,     77.5,6,   142.27,6,    40.22,6,     0.00,6,     2.86,6,   -999.0,9,   -999.0,9,-999.0000,9,  -999.00,     1718
  49UF20130627,KS1306,  3912,  1,      2,  21961,2,20130628,1709, 30.9750, 137.0093, 4206,   1822.0,   2.2772,  34.5619,2,-999.0000,9,     88.4,2,   145.41,2,    39.76,2,     0.00,2,     2.82,2,   -999.0,9,   -999.0,9,-999.0000,9,  -999.00,     1713
  49UF20130627,KS1306,  3912,  1,      1,  21960,2,20130628,1709, 30.9750, 137.0093, 4206,   2026.0,   2.0640,  34.5911,2,-999.0000,9,     98.6,2,   147.62,2,    39.35,2,     0.00,2,     2.77,2,   -999.0,9,   -999.0,9,-999.0000,9,  -999.00,     1709
  49UF20130627,KS1306,  3914,  1,     99,     99,2,20130629,0219, 29.9997, 136.9988, 4516,      0.0,  24.5589,  34.1375,2,  34.1352,4,    211.8,2,     1.46,2,     0.01,2,     0.00,2,     0.01,2,   1939.7,2,   2239.9,2,   8.0632,2,    25.00,      355
  49UF20130627,KS1306,  3914,  1,     36,  21995,2,20130629,0219, 29.9997, 136.9988, 4516,     11.7,  24.5606,  34.1437,2,  34.1433,6,    211.9,2,     1.46,2,     0.00,2,     0.00,2,     0.01,2,   1941.4,2,   2240.1,2,   8.0643,2,    25.00,      415
  49UF20130627,KS1306,  3914,  1,     35,  22087,2,20130629,0219, 29.9997, 136.9988, 4516,     27.3,  23.6471,  34.3943,2,-999.0000,9,    216.4,2,     1.58,2,     0.03,2,     0.00,2,     0.01,2,   1959.3,2,   2249.5,2,   8.0574,2,    25.00,      413
  49UF20130627,KS1306,  3914,  1,     33,  21992,2,20130629,0219, 29.9997, 136.9988, 4516,     51.4,  20.9808,  34.7311,2,-999.0000,9,    222.5,2,     1.79,2,    -0.01,2,     0.01,2,     0.04,2,   1985.5,2,   2279.6,2,   8.0355,2,    25.00,      409
  49UF20130627,KS1306,  3914,  1,     32,  21991,2,20130629,0219, 29.9997, 136.9988, 4516,     76.2,  20.0514,  34.7744,2,-999.0000,9,    221.8,2,     1.82,2,     0.23,2,     0.07,2,     0.05,2,   1997.6,2,   2281.1,2,   8.0222,2,    25.00,      408
  49UF20130627,KS1306,  3914,  1,     31,  21990,2,20130629,0219, 29.9997, 136.9988, 4516,    101.2,  19.2624,  34.7773,2,  34.7750,2,    207.8,6,     2.56,6,     2.18,6,     0.02,6,     0.16,6,   2010.8,2,   2280.2,2,   7.9981,2,    25.00,      407
  49UF20130627,KS1306,  3914,  1,     30,  21989,2,20130629,0219, 29.9997, 136.9988, 4516,    125.8,  18.8962,  34.7780,2,-999.0000,9,    213.5,2,     2.34,2,     1.88,2,     0.02,2,     0.14,2,   2007.7,2,   2279.6,2,   7.9997,2,    25.00,      405
  49UF20130627,KS1306,  3914,  1,     29,  21988,2,20130629,0219, 29.9997, 136.9988, 4516,    150.6,  18.6221,  34.7734,2,-999.0000,9,    212.4,2,     2.57,2,     2.34,2,     0.01,2,     0.17,2,   2012.7,2,   2280.1,2,   7.9950,2,    25.00,      404
  49UF20130627,KS1306,  3914,  1,     28,  21987,2,20130629,0219, 29.9997, 136.9988, 4516,    203.3,  18.0627,  34.7487,2,  34.7486,2,    205.1,2,     3.75,2,     3.85,2,     0.01,2,     0.26,2,   2028.1,2,   2279.5,2,   7.9702,2,    25.00,      402
  49UF20130627,KS1306,  3914,  1,     27,  21986,2,20130629,0219, 29.9997, 136.9988, 4516,    253.4,  17.4567,  34.7371,2,-999.0000,9,    221.6,2,     3.44,2,     3.18,2,     0.01,2,     0.23,2,   2021.8,2,   2276.6,2,   7.9795,2,    25.00,      400
  49UF20130627,KS1306,  3914,  1,     26,  21985,2,20130629,0219, 29.9997, 136.9988, 4516,    301.9,  17.1384,  34.7245,2,-999.0000,9,    226.7,2,     3.45,2,     3.03,2,     0.00,2,     0.22,2,   2020.9,2,   2276.3,2,   7.9802,2,    25.00,      358
  49UF20130627,KS1306,  3914,  1,     25,  21984,4,20130629,0219, 29.9997, 136.9988, 4516,    401.9,  15.4085,  34.5869,2,  34.4943,4,    182.8,4,    14.85,4,    12.20,4,     0.00,4,     0.85,4,   2088.5,4,   2268.6,4,   7.8396,4,    25.00,      356
  49UF20130627,KS1306,  3914,  1,     24,  21983,2,20130629,0219, 29.9997, 136.9988, 4516,    503.3,  13.0363,  34.4320,2,-999.0000,9,    181.1,6,    16.18,6,    12.92,6,     0.00,6,     0.91,6,   2095.9,2,   2271.5,2,   7.8222,2,    25.00,      353
  49UF20130627,KS1306,  3914,  1,     23,  22095,2,20130629,0219, 29.9997, 136.9988, 4516,    605.7,  10.0726,  34.2423,2,  34.2403,2,    166.2,2,    32.43,2,    20.23,2,     0.00,2,     1.45,2,   2148.0,6,   2283.6,6,   7.7017,2,    25.00,      351
  49UF20130627,KS1306,  3914,  1,     22,  21981,2,20130629,0219, 29.9997, 136.9988, 4516,    705.2,   7.8832,  34.2042,2,-999.0000,9,    129.1,2,    54.10,2,    27.20,2,     0.00,2,     1.98,2,   2208.2,2,   2295.1,2,   7.5885,6,    25.00,      348
  49UF20130627,KS1306,  3914,  1,     21,  21980,2,20130629,0219, 29.9997, 136.9988, 4516,    805.8,   6.2408,  34.2143,2,  34.2149,2,     98.0,2,    75.55,2,    33.04,2,     0.00,2,     2.39,2,   2257.4,2,   2310.4,2,   7.5007,2,    25.00,      345
  49UF20130627,KS1306,  3914,  1,     20,  21979,2,20130629,0219, 29.9997, 136.9988, 4516,    906.9,   5.0547,  34.2824,2,-999.0000,9,     77.6,2,    95.06,2,    36.58,2,     0.00,2,     2.64,2,   2293.7,2,   2333.0,2,   7.4502,2,    25.00,      343
  49UF20130627,KS1306,  3914,  1,     19,  21978,2,20130629,0219, 29.9997, 136.9988, 4516,   1009.0,   4.2890,  34.3310,2,  34.3320,2,     65.5,2,   109.34,2,    38.75,2,     0.00,2,     2.79,2,   2317.4,2,   2351.0,2,   7.4204,2,    25.00,      340
  49UF20130627,KS1306,  3914,  1,     18,  21977,2,20130629,0219, 29.9997, 136.9988, 4516,   1213.2,   3.4483,  34.4113,2,  34.4117,2,     60.5,2,   126.48,2,    40.29,2,     0.00,2,     2.89,2,   2342.3,2,   2371.3,2,   7.4097,2,    25.00,      336
  49UF20130627,KS1306,  3914,  1,     17,  23679,2,20130629,0219, 29.9997, 136.9988, 4516,   1415.7,   2.9208,  34.4722,2,  34.4723,2,     64.9,2,   137.06,2,    40.61,2,     0.00,2,     2.91,2,   2352.7,2,   2389.2,2,   7.4201,2,    25.00,      331
  49UF20130627,KS1306,  3914,  1,     16,  21975,2,20130629,0219, 29.9997, 136.9988, 4516,   1618.0,   2.5290,  34.5202,2,  34.5204,2,     70.8,2,   144.86,2,    40.83,2,     0.00,2,     2.90,2,   2359.5,2,   2392.6,2,   7.4279,2,    25.00,      326
  49UF20130627,KS1306,  3914,  1,     15,  21974,2,20130629,0219, 29.9997, 136.9988, 4516,   1822.7,   2.2434,  34.5619,2,  34.5611,2,     84.1,2,   147.83,2,    40.19,2,     0.00,2,     2.84,2,   2355.5,2,   2403.0,2,   7.4558,2,    25.00,      321
  49UF20130627,KS1306,  3914,  1,     14,  21973,2,20130629,0219, 29.9997, 136.9988, 4516,   1822.7,   2.2434,  34.5619,2,  34.5628,2,     84.4,2,   147.96,2,    40.18,2,     0.00,2,     2.84,2,   2355.7,2,   2401.7,2,   7.4535,2,    25.00,      321
  49UF20130627,KS1306,  3914,  1,     13,  21972,2,20130629,0219, 29.9997, 136.9988, 4516,   2025.8,   2.0315,  34.5960,2,  34.5967,2,    100.5,2,   147.68,6,    39.22,6,     0.00,6,     2.77,6,   2345.2,2,   2408.6,2,   7.4839,2,    25.00,      316
  49UF20130627,KS1306,  3914,  1,     12,  21994,2,20130629,0219, 29.9997, 136.9988, 4516,   2278.3,   1.9100,  34.6168,2,  34.6180,2,    112.2,2,   146.46,2,    38.55,2,     0.00,2,     2.71,2,   -999.0,9,   -999.0,9,-999.0000,9,  -999.00,      311
  49UF20130627,KS1306,  3914,  1,     11,  21970,2,20130629,0219, 29.9997, 136.9988, 4516,   2533.5,   1.7867,  34.6364,2,  34.6379,2,    124.0,2,   145.12,2,    37.86,2,     0.00,2,     2.66,2,   2335.7,2,   2411.4,2,   7.5256,2,    25.00,      305
  49UF20130627,KS1306,  3914,  1,     10,  21969,2,20130629,0219, 29.9997, 136.9988, 4516,   2788.2,   1.6896,  34.6512,2,  34.6515,2,    133.6,2,   144.27,2,    37.16,2,     0.00,2,     2.61,2,   -999.0,9,   -999.0,9,-999.0000,9,  -999.00,      300
  49UF20130627,KS1306,  3914,  1,      9,  21968,2,20130629,0219, 29.9997, 136.9988, 4516,   3043.1,   1.6165,  34.6624,2,  34.6662,4,    140.6,2,   143.53,2,    36.86,2,     0.00,2,     2.57,2,   2325.4,2,   2410.8,2,   7.5563,6,    25.00,      254
  49UF20130627,KS1306,  3914,  1,      8,  21982,2,20130629,0219, 29.9997, 136.9988, 4516,   3297.9,   1.5816,  34.6690,2,  34.6701,2,    144.9,2,   142.89,2,    36.58,2,     0.00,2,     2.55,2,   -999.0,9,   -999.0,9,-999.0000,9,  -999.00,      249
  49UF20130627,KS1306,  3914,  1,      7,  21966,2,20130629,0219, 29.9997, 136.9988, 4516,   3555.1,   1.5555,  34.6747,2,  34.6746,2,    148.3,2,   142.35,2,    36.39,2,     0.00,2,     2.53,2,   2324.2,6,   2411.5,6,   7.5706,2,    25.00,      243
  49UF20130627,KS1306,  3914,  1,      6,  21965,2,20130629,0219, 29.9997, 136.9988, 4516,   3809.3,   1.5656,  34.6765,2,  34.6781,2,    150.2,2,   142.23,2,    36.15,2,     0.00,2,     2.52,2,   -999.0,9,   -999.0,9,-999.0000,9,  -999.00,      238
  49UF20130627,KS1306,  3914,  1,      5,  21964,2,20130629,0219, 29.9997, 136.9988, 4516,   3809.3,   1.5656,  34.6765,2,  34.6737,4,    149.2,3,   142.03,2,    36.14,2,     0.00,2,     2.53,2,   -999.0,9,   -999.0,9,-999.0000,9,  -999.00,      238
  49UF20130627,KS1306,  3914,  1,      4,  21963,2,20130629,0219, 29.9997, 136.9988, 4516,   4067.6,   1.5655,  34.6795,2,  34.6809,2,    152.4,6,   142.08,6,    35.97,6,     0.00,6,     2.52,6,   2324.4,2,   2414.1,2,   7.5758,2,    25.00,      232
  49UF20130627,KS1306,  3914,  1,      3,  22079,2,20130629,0219, 29.9997, 136.9988, 4516,   4323.4,   1.5703,  34.6819,2,  34.6819,2,    153.6,2,   141.60,2,    36.07,2,     0.00,2,     2.51,2,   -999.0,9,   -999.0,9,-999.0000,9,  -999.00,      226
  49UF20130627,KS1306,  3914,  1,      2,  21961,2,20130629,0219, 29.9997, 136.9988, 4516,   4586.6,   1.5963,  34.6824,2,  34.6845,2,    154.9,2,   141.68,2,    36.01,2,     0.00,2,     2.50,2,   2320.7,2,   2408.4,2,   7.5786,2,    25.00,      220
  49UF20130627,KS1306,  3914,  1,      1,  21960,2,20130629,0219, 29.9997, 136.9988, 4516,   4587.1,   1.5962,  34.6824,2,  34.6838,2,    155.0,2,   141.59,2,    36.07,2,     0.00,2,     2.50,2,   2322.0,2,   2412.9,2,   7.5797,2,    25.00,      219