BOTTLE,20191021PRINUNIVRMK
EXPOCODE,SECT_ID,STNNBR,CASTNO,SAMPNO,BTLNBR,BTLNBR_FLAG_W,DATE,TIME,LATITUDE,LONGITUDE,DEPTH,CTDPRS,CTDTMP,CTDSAL,CTDSAL_FLAG_W,SALNTY,SALNTY_FLAG_W,OXYGEN,OXYGEN_FLAG_W,SILCAT,SILCAT_FLAG_W,NITRAT,NITRAT_FLAG_W,NITRIT,NITRIT_FLAG_W,PHSPHT,PHSPHT_FLAG_W,TCARBN,TCARBN_FLAG_W,ALKALI,ALKALI_FLAG_W,PH_TOT,PH_TOT_FLAG_W,PH_TMP,BTL_TIME
,,,,,,,,,,,METERS,DBAR,ITS-90,PSS-78,,PSS-78,,UMOL/KG,,UMOL/KG,,UMOL/KG,,UMOL/KG,,UMOL/KG,,UMOL/KG,,UMOL/KG,,,,DEG C,
  49UF20130627,KS1306,  3924,  1,     99,     99,2,20130702,1018, 19.9970, 136.9920, 4862,      0.0,  30.1993,  34.4171,2,  34.4116,4,    195.2,2,     0.76,2,     0.00,2,     0.00,2,     0.01,2,   1921.0,2,   2255.4,2,   8.1154,2,    25.00,     1153
  49UF20130627,KS1306,  3924,  1,     36,  21995,2,20130702,1018, 19.9970, 136.9920, 4862,     10.4,  30.1709,  34.4178,2,  34.4114,4,    195.6,2,     0.77,2,     0.00,2,     0.00,2,     0.01,2,   1923.6,2,   2254.4,2,   8.1168,2,    25.00,     1217
  49UF20130627,KS1306,  3924,  1,     35,  22087,2,20130702,1018, 19.9970, 136.9920, 4862,     26.0,  29.0960,  34.3679,2,-999.0000,9,    200.2,2,     0.76,2,     0.00,2,     0.00,2,     0.00,2,   1921.7,2,   2256.1,2,   8.1178,2,    25.00,     1216
  49UF20130627,KS1306,  3924,  1,     33,  21992,2,20130702,1018, 19.9970, 136.9920, 4862,     50.7,  27.5247,  34.5958,2,-999.0000,9,    210.2,2,     0.85,2,     0.00,2,     0.00,2,     0.00,2,   1936.9,2,   2267.8,2,   8.1110,2,    25.00,     1213
  49UF20130627,KS1306,  3924,  1,     32,  21991,2,20130702,1018, 19.9970, 136.9920, 4862,     75.4,  25.4212,  34.7265,2,-999.0000,9,    211.0,2,     0.96,2,     0.00,2,     0.00,2,     0.01,2,   1957.2,2,   2278.4,2,   8.0862,2,    25.00,     1212
  49UF20130627,KS1306,  3924,  1,     31,  21990,2,20130702,1018, 19.9970, 136.9920, 4862,    100.6,  23.8956,  34.8181,2,  34.8204,2,    203.7,2,     1.15,2,     0.00,2,     0.00,2,     0.03,2,   1979.9,2,   2285.2,2,   8.0566,2,    25.00,     1210
  49UF20130627,KS1306,  3924,  1,     30,  21989,2,20130702,1018, 19.9970, 136.9920, 4862,    124.8,  22.7419,  34.7969,2,-999.0000,9,    209.4,2,     1.25,2,    -0.04,2,     0.04,2,     0.03,2,   1984.4,2,   2278.7,2,   8.0486,2,    25.00,     1209
  49UF20130627,KS1306,  3924,  1,     29,  21988,3,20130702,1018, 19.9970, 136.9920, 4862,    151.2,  21.8352,  34.9532,2,-999.0000,9,    187.3,2,     1.71,2,     1.52,2,     0.03,2,     0.15,2,   2020.2,2,   2293.9,2,   7.9963,2,    25.00,     1208
  49UF20130627,KS1306,  3924,  1,     28,  21987,2,20130702,1018, 19.9970, 136.9920, 4862,    202.1,  19.2865,  34.8173,2,  34.8167,2,    198.2,6,     2.52,6,     2.87,6,     0.01,6,     0.20,6,   2025.9,2,   2281.4,2,   7.9740,2,    25.00,     1206
  49UF20130627,KS1306,  3924,  1,     27,  21986,2,20130702,1018, 19.9970, 136.9920, 4862,    251.7,  17.5770,  34.7279,2,-999.0000,9,    199.2,2,     4.17,2,     5.06,2,     0.01,2,     0.35,2,   2037.2,2,   2276.1,2,   7.9469,2,    25.00,     1204
  49UF20130627,KS1306,  3924,  1,     26,  21985,2,20130702,1018, 19.9970, 136.9920, 4862,    301.3,  16.2031,  34.6374,2,-999.0000,9,    192.4,2,     7.09,2,     7.71,2,     0.00,2,     0.53,2,   2056.4,2,   2272.5,2,   7.9031,2,    25.00,     1203
  49UF20130627,KS1306,  3924,  1,     25,  21984,2,20130702,1018, 19.9970, 136.9920, 4862,    403.0,  13.2425,  34.4331,2,  34.4323,2,    178.8,2,    14.88,6,    13.38,6,     0.00,6,     0.95,6,   2099.3,2,   2270.5,2,   7.8083,2,    25.00,     1200
  49UF20130627,KS1306,  3924,  1,     24,  21983,2,20130702,1018, 19.9970, 136.9920, 4862,    503.0,   9.5472,  34.2072,2,-999.0000,9,    150.6,2,    32.38,2,    22.43,2,     0.00,2,     1.63,2,   2163.5,2,   2273.0,2,   7.6627,2,    25.00,     1157
  49UF20130627,KS1306,  3924,  1,     23,  22095,2,20130702,1018, 19.9970, 136.9920, 4862,    603.7,   7.0988,  34.1425,2,  34.1488,4,    105.3,2,    55.37,2,    31.03,2,     0.00,2,     2.25,2,   2229.8,2,   2291.6,2,   7.5262,2,    25.00,     1154
  49UF20130627,KS1306,  3924,  1,     22,  21981,2,20130702,1018, 19.9970, 136.9920, 4862,    706.0,   5.8406,  34.2192,2,-999.0000,9,     72.0,2,    75.05,2,    36.34,2,     0.00,2,     2.64,2,   2274.9,2,   2311.1,2,   7.4437,2,    25.00,     1152
  49UF20130627,KS1306,  3924,  1,     21,  21980,4,20130702,1018, 19.9970, 136.9920, 4862,    806.7,   5.0578,  34.3348,2,  34.1972,4,     77.5,4,    70.92,4,    35.40,4,     0.00,4,     2.57,4,   2268.3,4,   2305.4,4,   7.4556,4,    25.00,     1149
  49UF20130627,KS1306,  3924,  1,     20,  21979,2,20130702,1018, 19.9970, 136.9920, 4862,    907.5,   4.3891,  34.4124,2,-999.0000,9,     63.0,2,   102.45,2,    39.62,2,     0.00,2,     2.86,2,   2317.0,2,   2352.3,2,   7.4333,2,    25.00,     1146
  49UF20130627,KS1306,  3924,  1,     19,  21978,2,20130702,1018, 19.9970, 136.9920, 4862,   1008.7,   3.9824,  34.4686,2,  34.4665,2,     69.7,2,   110.38,2,    39.52,2,     0.00,2,     2.85,2,   2324.0,2,   2361.1,2,   7.4511,2,    25.00,     1144
  49UF20130627,KS1306,  3924,  1,     18,  21977,2,20130702,1018, 19.9970, 136.9920, 4862,   1008.7,   3.9824,  34.4686,2,  34.4684,6,     69.2,2,   110.58,2,    39.71,2,     0.00,2,     2.85,2,   2326.1,2,   2358.8,2,   7.4485,2,    25.00,     1144
  49UF20130627,KS1306,  3924,  1,     17,  23679,2,20130702,1018, 19.9970, 136.9920, 4862,   1211.2,   3.3523,  34.5293,2,  34.5282,2,     81.8,2,   121.94,2,    39.34,2,     0.00,2,     2.81,2,   2332.2,2,   2379.5,2,   7.4723,2,    25.00,     1139
  49UF20130627,KS1306,  3924,  1,     16,  21975,2,20130702,1018, 19.9970, 136.9920, 4862,   1412.6,   2.9396,  34.5627,2,  34.5623,2,     92.4,2,   129.27,2,    38.86,2,     0.00,2,     2.78,2,   2335.8,2,   2391.4,2,   7.4901,2,    25.00,     1134
  49UF20130627,KS1306,  3924,  1,     15,  21974,2,20130702,1018, 19.9970, 136.9920, 4862,   1616.9,   2.5847,  34.5872,2,  34.5863,2,     99.6,2,   134.90,2,    38.76,2,     0.00,2,     2.76,2,   2337.0,2,   2403.4,2,   7.4986,2,    25.00,     1130
  49UF20130627,KS1306,  3924,  1,     14,  21973,2,20130702,1018, 19.9970, 136.9920, 4862,   1820.0,   2.3336,  34.6044,2,  34.6055,2,    105.6,2,   138.78,2,    38.69,2,     0.00,2,     2.74,2,   2340.6,2,   2401.4,2,   7.5108,2,    25.00,     1125
  49UF20130627,KS1306,  3924,  1,     13,  21972,2,20130702,1018, 19.9970, 136.9920, 4862,   2022.5,   2.1289,  34.6192,2,  34.6199,2,    112.0,2,   141.42,2,    38.36,2,     0.00,2,     2.72,2,   2340.0,2,   2405.2,2,   7.5186,2,    25.00,     1120
  49UF20130627,KS1306,  3924,  1,     12,  21994,2,20130702,1018, 19.9970, 136.9920, 4862,   2276.4,   1.9143,  34.6369,2,  34.6367,2,    121.4,2,   143.42,2,    37.88,2,     0.00,2,     2.67,2,   -999.0,9,   -999.0,9,-999.0000,9,  -999.00,     1114
  49UF20130627,KS1306,  3924,  1,     11,  21970,2,20130702,1018, 19.9970, 136.9920, 4862,   2531.3,   1.8070,  34.6469,2,  34.6464,6,    127.5,6,   144.32,6,    37.62,6,     0.00,6,     2.64,6,   2336.0,2,   2417.5,2,   7.5413,2,    25.00,     1108
  49UF20130627,KS1306,  3924,  1,     10,  21969,2,20130702,1018, 19.9970, 136.9920, 4862,   2785.7,   1.7000,  34.6579,2,  34.6576,2,    135.1,2,   144.16,2,    37.25,2,     0.00,2,     2.61,2,   -999.0,9,   -999.0,9,-999.0000,9,  -999.00,     1103
  49UF20130627,KS1306,  3924,  1,      9,  21968,2,20130702,1018, 19.9970, 136.9920, 4862,   3042.8,   1.6534,  34.6638,2,  34.6638,2,    139.8,2,   143.89,2,    36.97,2,     0.00,2,     2.59,2,   2330.2,6,   2411.7,6,   7.5587,2,    25.00,     1057
  49UF20130627,KS1306,  3924,  1,      8,  21982,2,20130702,1018, 19.9970, 136.9920, 4862,   3298.6,   1.6129,  34.6695,2,  34.6685,2,    144.0,2,   143.43,2,    36.65,2,     0.00,2,     2.57,2,   -999.0,9,   -999.0,9,-999.0000,9,  -999.00,     1051
  49UF20130627,KS1306,  3924,  1,      7,  21966,2,20130702,1018, 19.9970, 136.9920, 4862,   3556.3,   1.5731,  34.6749,2,  34.6745,6,    148.6,2,   142.66,2,    36.33,2,     0.00,2,     2.54,2,   2325.3,2,   2413.7,2,   7.5725,6,    25.00,     1046
  49UF20130627,KS1306,  3924,  1,      6,  21965,2,20130702,1018, 19.9970, 136.9920, 4862,   3808.5,   1.5488,  34.6788,2,  34.6780,2,    152.4,2,   141.24,2,    35.86,2,     0.00,2,     2.52,2,   -999.0,9,   -999.0,9,-999.0000,9,  -999.00,     1040
  49UF20130627,KS1306,  3924,  1,      5,  21964,2,20130702,1018, 19.9970, 136.9920, 4862,   4065.0,   1.5117,  34.6839,2,  34.6835,2,    157.6,6,   140.58,6,    35.74,6,     0.00,6,     2.49,6,   2316.3,2,   2410.5,2,   7.5838,2,    25.00,     1035
  49UF20130627,KS1306,  3924,  1,      4,  21963,2,20130702,1018, 19.9970, 136.9920, 4862,   4317.7,   1.5178,  34.6855,2,  34.6851,2,    159.5,2,   139.76,2,    35.51,2,     0.00,2,     2.48,2,   -999.0,9,   -999.0,9,-999.0000,9,  -999.00,     1030
  49UF20130627,KS1306,  3924,  1,      3,  22079,2,20130702,1018, 19.9970, 136.9920, 4862,   4317.7,   1.5178,  34.6855,2,  34.6850,2,    159.7,2,   139.90,2,    35.65,2,     0.00,2,     2.48,2,   -999.0,9,   -999.0,9,-999.0000,9,  -999.00,     1030
  49UF20130627,KS1306,  3924,  1,      2,  21961,2,20130702,1018, 19.9970, 136.9920, 4862,   4578.0,   1.5421,  34.6860,2,  34.6854,2,    160.3,2,   139.96,2,    35.44,2,     0.00,2,     2.48,2,   2314.7,6,   2407.3,6,   7.5890,2,    25.00,     1024
  49UF20130627,KS1306,  3924,  1,      1,  21960,2,20130702,1018, 19.9970, 136.9920, 4862,   4890.2,   1.5788,  34.6859,2,  34.6856,2,    160.3,2,   139.87,2,    35.61,2,     0.00,2,     2.48,2,   2315.7,2,   2407.5,2,   7.5878,6,    25.00,     1018
  49UF20130627,KS1306,  3925,  1,     99,     99,2,20130702,1833, 18.9897, 137.0032, 4804,      0.0,  30.1889,  34.5464,2,-999.0000,9,    194.4,2,     0.88,2,     0.06,2,     0.00,2,     0.05,2,   -999.0,9,   -999.0,9,-999.0000,9,  -999.00,     2015
  49UF20130627,KS1306,  3925,  1,     36,  21995,2,20130702,1833, 18.9897, 137.0032, 4804,     11.9,  30.2975,  34.6213,2,-999.0000,9,    194.1,2,     0.89,2,     0.08,2,     0.00,2,     0.04,2,   -999.0,9,   -999.0,9,-999.0000,9,  -999.00,     2029
  49UF20130627,KS1306,  3925,  1,     35,  22087,2,20130702,1833, 18.9897, 137.0032, 4804,     27.3,  30.1954,  34.6185,2,-999.0000,9,    194.2,2,     0.89,2,     0.05,2,     0.00,2,     0.05,2,   -999.0,9,   -999.0,9,-999.0000,9,  -999.00,     2028
  49UF20130627,KS1306,  3925,  1,     33,  21992,2,20130702,1833, 18.9897, 137.0032, 4804,     52.2,  29.5895,  34.5821,2,-999.0000,9,    203.8,2,     0.84,2,     0.07,2,     0.00,2,     0.04,2,   -999.0,9,   -999.0,9,-999.0000,9,  -999.00,     2024
  49UF20130627,KS1306,  3925,  1,     32,  21991,2,20130702,1833, 18.9897, 137.0032, 4804,     77.1,  28.2392,  34.8344,2,-999.0000,9,    206.3,2,     0.86,2,     0.06,2,     0.00,2,     0.07,2,   -999.0,9,   -999.0,9,-999.0000,9,  -999.00,     2023
  49UF20130627,KS1306,  3925,  1,     31,  21990,2,20130702,1833, 18.9897, 137.0032, 4804,    102.2,  27.0339,  34.8515,2,-999.0000,9,    202.4,6,     0.90,6,     0.09,6,     0.00,6,     0.05,6,   -999.0,9,   -999.0,9,-999.0000,9,  -999.00,     2022
  49UF20130627,KS1306,  3925,  1,     30,  21989,2,20130702,1833, 18.9897, 137.0032, 4804,    128.3,  25.6908,  34.9665,2,-999.0000,9,    191.0,2,     1.02,2,     0.08,2,     0.06,2,     0.08,2,   -999.0,9,   -999.0,9,-999.0000,9,  -999.00,     2021
  49UF20130627,KS1306,  3925,  1,     29,  21988,2,20130702,1833, 18.9897, 137.0032, 4804,    153.4,  24.4095,  34.8855,2,-999.0000,9,    196.8,2,     1.14,2,     0.10,2,     0.13,2,     0.05,2,   -999.0,9,   -999.0,9,-999.0000,9,  -999.00,     2020
  49UF20130627,KS1306,  3925,  1,     28,  21987,2,20130702,1833, 18.9897, 137.0032, 4804,    203.8,  21.5769,  34.9840,2,-999.0000,9,    187.2,2,     1.85,2,     1.69,2,     0.01,2,     0.14,2,   -999.0,9,   -999.0,9,-999.0000,9,  -999.00,     2018
  49UF20130627,KS1306,  3925,  1,     27,  21986,2,20130702,1833, 18.9897, 137.0032, 4804,    253.0,  18.8283,  34.8081,2,-999.0000,9,    195.5,2,     2.94,2,     3.58,2,     0.01,2,     0.25,2,   -999.0,9,   -999.0,9,-999.0000,9,  -999.00,     2016
  49UF20130627,KS1306,  3925,  1,     26,  21985,2,20130702,1833, 18.9897, 137.0032, 4804,    303.7,  17.2628,  34.7069,2,-999.0000,9,    198.8,2,     4.58,2,     5.54,2,     0.00,2,     0.38,2,   -999.0,9,   -999.0,9,-999.0000,9,  -999.00,     2015
  49UF20130627,KS1306,  3925,  1,     25,  21984,2,20130702,1833, 18.9897, 137.0032, 4804,    405.2,  13.8234,  34.4610,2,-999.0000,9,    182.8,2,    12.31,2,    11.94,2,     0.00,2,     0.86,2,   -999.0,9,   -999.0,9,-999.0000,9,  -999.00,     2012
  49UF20130627,KS1306,  3925,  1,     24,  21983,2,20130702,1833, 18.9897, 137.0032, 4804,    506.5,   9.8564,  34.2417,2,-999.0000,9,    141.6,6,    31.11,6,    22.76,6,     0.00,6,     1.66,6,   -999.0,9,   -999.0,9,-999.0000,9,  -999.00,     2010
  49UF20130627,KS1306,  3925,  1,     23,  22095,2,20130702,1833, 18.9897, 137.0032, 4804,    604.6,   7.5244,  34.2036,2,-999.0000,9,     98.1,2,    53.44,2,    31.19,2,     0.00,2,     2.28,2,   -999.0,9,   -999.0,9,-999.0000,9,  -999.00,     2007
  49UF20130627,KS1306,  3925,  1,     22,  21981,2,20130702,1833, 18.9897, 137.0032, 4804,    707.4,   6.0458,  34.2515,2,-999.0000,9,     73.1,2,    72.72,2,    35.95,2,     0.00,2,     2.62,2,   -999.0,9,   -999.0,9,-999.0000,9,  -999.00,     2005
  49UF20130627,KS1306,  3925,  1,     21,  21980,2,20130702,1833, 18.9897, 137.0032, 4804,    807.3,   5.2159,  34.3340,2,-999.0000,9,     65.0,2,    87.62,2,    38.16,2,     0.00,2,     2.77,2,   -999.0,9,   -999.0,9,-999.0000,9,  -999.00,     2002
  49UF20130627,KS1306,  3925,  1,     20,  21979,2,20130702,1833, 18.9897, 137.0032, 4804,    909.0,   4.4564,  34.4310,2,-999.0000,9,     68.5,2,   102.27,2,    38.98,2,     0.00,2,     2.82,2,   -999.0,9,   -999.0,9,-999.0000,9,  -999.00,     2000
  49UF20130627,KS1306,  3925,  1,     19,  21978,2,20130702,1833, 18.9897, 137.0032, 4804,    909.0,   4.4564,  34.4310,2,-999.0000,9,     68.5,2,   102.19,2,    39.01,2,     0.00,2,     2.83,2,   -999.0,9,   -999.0,9,-999.0000,9,  -999.00,     2000
  49UF20130627,KS1306,  3925,  1,     18,  21977,2,20130702,1833, 18.9897, 137.0032, 4804,   1010.0,   4.0111,  34.4785,2,-999.0000,9,     74.8,2,   110.75,2,    39.08,2,     0.00,2,     2.81,2,   -999.0,9,   -999.0,9,-999.0000,9,  -999.00,     1957
  49UF20130627,KS1306,  3925,  1,     17,  23679,2,20130702,1833, 18.9897, 137.0032, 4804,   1211.4,   3.3337,  34.5353,2,-999.0000,9,     86.1,2,   122.70,2,    39.01,2,     0.00,2,     2.79,2,   -999.0,9,   -999.0,9,-999.0000,9,  -999.00,     1953
  49UF20130627,KS1306,  3925,  1,     16,  21975,2,20130702,1833, 18.9897, 137.0032, 4804,   1416.9,   2.8342,  34.5700,2,-999.0000,9,     94.4,2,   130.87,2,    38.96,2,     0.00,2,     2.78,2,   -999.0,9,   -999.0,9,-999.0000,9,  -999.00,     1948
  49UF20130627,KS1306,  3925,  1,     15,  21974,2,20130702,1833, 18.9897, 137.0032, 4804,   1618.5,   2.5388,  34.5917,2,-999.0000,9,    101.0,2,   135.51,2,    38.85,2,     0.00,2,     2.77,2,   -999.0,9,   -999.0,9,-999.0000,9,  -999.00,     1944
  49UF20130627,KS1306,  3925,  1,     14,  21973,2,20130702,1833, 18.9897, 137.0032, 4804,   1820.0,   2.2968,  34.6090,2,-999.0000,9,    107.3,2,   139.26,2,    38.53,2,     0.00,2,     2.74,2,   -999.0,9,   -999.0,9,-999.0000,9,  -999.00,     1940
  49UF20130627,KS1306,  3925,  1,     13,  21972,2,20130702,1833, 18.9897, 137.0032, 4804,   2023.5,   2.0862,  34.6237,2,-999.0000,9,    114.0,2,   142.17,2,    38.34,2,     0.00,2,     2.72,2,   -999.0,9,   -999.0,9,-999.0000,9,  -999.00,     1935
  49UF20130627,KS1306,  3925,  1,     12,  21994,2,20130702,1833, 18.9897, 137.0032, 4804,   2276.0,   1.9180,  34.6371,2,-999.0000,9,    120.7,2,   144.11,2,    37.97,2,     0.00,2,     2.69,2,   -999.0,9,   -999.0,9,-999.0000,9,  -999.00,     1930
  49UF20130627,KS1306,  3925,  1,     11,  21970,2,20130702,1833, 18.9897, 137.0032, 4804,   2532.8,   1.8170,  34.6471,2,-999.0000,9,    126.6,2,   144.54,2,    37.68,2,     0.00,2,     2.66,2,   -999.0,9,   -999.0,9,-999.0000,9,  -999.00,     1925
  49UF20130627,KS1306,  3925,  1,     10,  21969,2,20130702,1833, 18.9897, 137.0032, 4804,   2787.2,   1.7239,  34.6568,2,-999.0000,9,    133.3,6,   144.79,6,    37.29,6,     0.00,6,     2.63,6,   -999.0,9,   -999.0,9,-999.0000,9,  -999.00,     1919
  49UF20130627,KS1306,  3925,  1,      9,  21968,2,20130702,1833, 18.9897, 137.0032, 4804,   3042.0,   1.6699,  34.6628,2,-999.0000,9,    138.1,2,   143.85,2,    36.89,2,     0.00,2,     2.60,2,   -999.0,9,   -999.0,9,-999.0000,9,  -999.00,     1913
  49UF20130627,KS1306,  3925,  1,      8,  21982,2,20130702,1833, 18.9897, 137.0032, 4804,   3295.5,   1.6123,  34.6696,2,-999.0000,9,    143.5,2,   143.65,2,    36.55,2,     0.00,2,     2.57,2,   -999.0,9,   -999.0,9,-999.0000,9,  -999.00,     1908
  49UF20130627,KS1306,  3925,  1,      7,  21966,2,20130702,1833, 18.9897, 137.0032, 4804,   3552.3,   1.5574,  34.6762,2,-999.0000,9,    148.5,2,   142.23,2,    36.16,2,     0.00,2,     2.54,2,   -999.0,9,   -999.0,9,-999.0000,9,  -999.00,     1903
  49UF20130627,KS1306,  3925,  1,      6,  21965,2,20130702,1833, 18.9897, 137.0032, 4804,   3807.8,   1.5288,  34.6806,2,-999.0000,9,    153.9,2,   141.67,2,    35.92,2,     0.00,2,     2.52,2,   -999.0,9,   -999.0,9,-999.0000,9,  -999.00,     1857
  49UF20130627,KS1306,  3925,  1,      5,  21964,2,20130702,1833, 18.9897, 137.0032, 4804,   4063.2,   1.5083,  34.6842,2,-999.0000,9,    157.7,2,   140.26,2,    35.68,2,     0.00,2,     2.50,2,   -999.0,9,   -999.0,9,-999.0000,9,  -999.00,     1852
  49UF20130627,KS1306,  3925,  1,      4,  21963,2,20130702,1833, 18.9897, 137.0032, 4804,   4063.2,   1.5083,  34.6842,2,-999.0000,9,    157.8,2,   140.42,2,    35.60,2,     0.00,2,     2.50,2,   -999.0,9,   -999.0,9,-999.0000,9,  -999.00,     1852
  49UF20130627,KS1306,  3925,  1,      3,  22079,2,20130702,1833, 18.9897, 137.0032, 4804,   4319.4,   1.5209,  34.6855,2,-999.0000,9,    159.1,2,   140.17,2,    35.46,2,     0.00,2,     2.49,2,   -999.0,9,   -999.0,9,-999.0000,9,  -999.00,     1846
  49UF20130627,KS1306,  3925,  1,      2,  21961,2,20130702,1833, 18.9897, 137.0032, 4804,   4576.3,   1.5436,  34.6859,2,-999.0000,9,    159.8,2,   139.86,2,    35.48,2,     0.00,2,     2.49,2,   -999.0,9,   -999.0,9,-999.0000,9,  -999.00,     1840
  49UF20130627,KS1306,  3925,  1,      1,  21960,4,20130702,1833, 18.9897, 137.0032, 4804,   4930.8,   1.5835,  34.6860,2,-999.0000,9,     66.1,4,    82.43,4,    37.56,4,     0.00,4,     2.74,4,   -999.0,9,   -999.0,9,-999.0000,9,  -999.00,     1833