BOTTLE,20191021PRINUNIVRMK
EXPOCODE,SECT_ID,STNNBR,CASTNO,SAMPNO,BTLNBR,BTLNBR_FLAG_W,DATE,TIME,LATITUDE,LONGITUDE,DEPTH,CTDPRS,CTDTMP,CTDSAL,CTDSAL_FLAG_W,SALNTY,SALNTY_FLAG_W,OXYGEN,OXYGEN_FLAG_W,SILCAT,SILCAT_FLAG_W,NITRAT,NITRAT_FLAG_W,NITRIT,NITRIT_FLAG_W,PHSPHT,PHSPHT_FLAG_W,TCARBN,TCARBN_FLAG_W,ALKALI,ALKALI_FLAG_W,PH_TOT,PH_TOT_FLAG_W,PH_TMP,BTL_TIME
,,,,,,,,,,,METERS,DBAR,ITS-90,PSS-78,,PSS-78,,UMOL/KG,,UMOL/KG,,UMOL/KG,,UMOL/KG,,UMOL/KG,,UMOL/KG,,UMOL/KG,,,,DEG C,
  49UF20130627,KS1306,  3939,  1,     99,     99,2,20130718,1450,  5.9885, 137.0045, 4432,      0.0,  30.1522,  33.5961,2,-999.0000,9,    194.5,2,     1.52,2,     0.00,2,     0.00,2,     0.02,2,   -999.0,9,   -999.0,9,-999.0000,9,  -999.00,     1527
  49UF20130627,KS1306,  3939,  1,     36,  21995,2,20130718,1450,  5.9885, 137.0045, 4432,     12.1,  30.1450,  33.5916,2,  33.5992,4,    194.4,2,     1.49,2,     0.00,2,     0.00,2,     0.04,2,   -999.0,9,   -999.0,9,-999.0000,9,  -999.00,     1545
  49UF20130627,KS1306,  3939,  1,     35,  22087,2,20130718,1450,  5.9885, 137.0045, 4432,     27.7,  30.0233,  33.7801,2,-999.0000,9,    195.6,2,     1.45,2,     0.00,2,     0.00,2,     0.06,2,   -999.0,9,   -999.0,9,-999.0000,9,  -999.00,     1544
  49UF20130627,KS1306,  3939,  1,     34,  21971,2,20130718,1450,  5.9885, 137.0045, 4432,     51.5,  29.8651,  34.0668,2,-999.0000,9,    197.2,2,     1.23,2,     0.00,2,     0.00,2,     0.09,2,   -999.0,9,   -999.0,9,-999.0000,9,  -999.00,     1541
  49UF20130627,KS1306,  3939,  1,     33,  21992,2,20130718,1450,  5.9885, 137.0045, 4432,     77.1,  29.3081,  34.2677,2,-999.0000,9,    196.7,2,     1.32,2,     0.00,2,     0.00,2,     0.10,2,   -999.0,9,   -999.0,9,-999.0000,9,  -999.00,     1540
  49UF20130627,KS1306,  3939,  1,     32,  21991,2,20130718,1450,  5.9885, 137.0045, 4432,    102.4,  27.2008,  34.6547,2,  34.6561,2,    181.8,2,     1.89,2,     0.05,2,     0.04,2,     0.18,2,   -999.0,9,   -999.0,9,-999.0000,9,  -999.00,     1539
  49UF20130627,KS1306,  3939,  1,     31,  21990,2,20130718,1450,  5.9885, 137.0045, 4432,    125.9,  23.5619,  34.8565,2,-999.0000,9,    154.5,2,     4.20,2,     4.87,2,     0.08,2,     0.49,2,   -999.0,9,   -999.0,9,-999.0000,9,  -999.00,     1537
  49UF20130627,KS1306,  3939,  1,     27,  21986,2,20130718,1450,  5.9885, 137.0045, 4432,    151.9,  18.4631,  34.7698,2,-999.0000,9,    133.6,6,    10.20,6,    11.76,6,     0.01,6,     0.93,6,   -999.0,9,   -999.0,9,-999.0000,9,  -999.00,     1536
  49UF20130627,KS1306,  3939,  1,     26,  21985,2,20130718,1450,  5.9885, 137.0045, 4432,    203.2,  12.5972,  34.5576,2,  34.5564,2,     90.6,2,    23.86,2,    23.53,2,     0.00,2,     1.73,2,   -999.0,9,   -999.0,9,-999.0000,9,  -999.00,     1534
  49UF20130627,KS1306,  3939,  1,     25,  21984,2,20130718,1450,  5.9885, 137.0045, 4432,    203.2,  12.5972,  34.5576,2,  34.5566,2,     90.0,2,    23.98,2,    23.61,2,     0.00,2,     1.74,2,   -999.0,9,   -999.0,9,-999.0000,9,  -999.00,     1534
  49UF20130627,KS1306,  3939,  1,     21,  21980,2,20130718,1450,  5.9885, 137.0045, 4432,    256.7,  10.8035,  34.5460,2,-999.0000,9,     71.4,2,    30.59,2,    28.55,2,     0.00,2,     2.07,2,   -999.0,9,   -999.0,9,-999.0000,9,  -999.00,     1532
  49UF20130627,KS1306,  3939,  1,     20,  21979,2,20130718,1450,  5.9885, 137.0045, 4432,    304.1,   9.5510,  34.5708,2,-999.0000,9,     66.7,2,    35.72,2,    31.51,2,     0.00,2,     2.25,2,   -999.0,9,   -999.0,9,-999.0000,9,  -999.00,     1530
  49UF20130627,KS1306,  3939,  1,     19,  21978,3,20130718,1450,  5.9885, 137.0045, 4432,    403.6,   8.2119,  34.5484,2,  34.5466,2,     87.3,2,    41.37,2,    32.15,2,     0.00,2,     2.28,2,   -999.0,9,   -999.0,9,-999.0000,9,  -999.00,     1528
  49UF20130627,KS1306,  3939,  1,     15,  21974,2,20130718,1450,  5.9885, 137.0045, 4432,    504.2,   7.7738,  34.5631,2,-999.0000,9,    105.8,2,    39.48,2,    31.54,2,     0.00,2,     2.23,2,   -999.0,9,   -999.0,9,-999.0000,9,  -999.00,     1525
  49UF20130627,KS1306,  3939,  1,     14,  21973,2,20130718,1450,  5.9885, 137.0045, 4432,    606.5,   7.1404,  34.5382,2,  34.5369,6,    107.9,6,    45.36,6,    32.63,6,     0.00,6,     2.31,6,   -999.0,9,   -999.0,9,-999.0000,9,  -999.00,     1523
  49UF20130627,KS1306,  3939,  1,     13,  21972,2,20130718,1450,  5.9885, 137.0045, 4432,    706.3,   6.3070,  34.5255,2,-999.0000,9,     92.8,2,    59.08,2,    35.36,2,     0.00,2,     2.52,2,   -999.0,9,   -999.0,9,-999.0000,9,  -999.00,     1520
  49UF20130627,KS1306,  3939,  1,     12,  21994,2,20130718,1450,  5.9885, 137.0045, 4432,    808.0,   5.5606,  34.5336,2,  34.5336,2,     86.9,2,    71.58,2,    36.98,2,     0.00,2,     2.64,2,   -999.0,9,   -999.0,9,-999.0000,9,  -999.00,     1517
  49UF20130627,KS1306,  3939,  1,     11,  21970,2,20130718,1450,  5.9885, 137.0045, 4432,    908.2,   4.9508,  34.5443,2,-999.0000,9,     86.9,2,    82.41,2,    37.87,2,     0.00,2,     2.70,2,   -999.0,9,   -999.0,9,-999.0000,9,  -999.00,     1515
  49UF20130627,KS1306,  3939,  1,     10,  21969,3,20130718,1450,  5.9885, 137.0045, 4432,   1010.5,   4.4809,  34.5551,2,  34.5546,2,     86.8,2,    92.07,2,    38.53,2,     0.00,2,     2.74,2,   -999.0,9,   -999.0,9,-999.0000,9,  -999.00,     1512
  49UF20130627,KS1306,  3939,  1,      6,  21965,2,20130718,1450,  5.9885, 137.0045, 4432,   1213.2,   3.5301,  34.5797,2,  34.5792,2,     92.9,2,   111.16,2,    38.87,2,     0.00,2,     2.76,2,   -999.0,9,   -999.0,9,-999.0000,9,  -999.00,     1508
  49UF20130627,KS1306,  3939,  1,      5,  21964,2,20130718,1450,  5.9885, 137.0045, 4432,   1412.8,   3.0631,  34.5972,2,  34.5969,6,     98.5,6,   120.25,6,    38.90,6,     0.00,6,     2.77,6,   -999.0,9,   -999.0,9,-999.0000,9,  -999.00,     1504
  49UF20130627,KS1306,  3939,  1,      4,  21963,2,20130718,1450,  5.9885, 137.0045, 4432,   1616.8,   2.6907,  34.6129,2,  34.6126,2,    103.1,2,   128.47,2,    38.88,2,     0.00,2,     2.75,2,   -999.0,9,   -999.0,9,-999.0000,9,  -999.00,     1459
  49UF20130627,KS1306,  3939,  1,      3,  22079,2,20130718,1450,  5.9885, 137.0045, 4432,   1616.8,   2.6907,  34.6129,2,  34.6162,2,    103.1,2,   128.59,2,    38.88,2,     0.00,2,     2.75,2,   -999.0,9,   -999.0,9,-999.0000,9,  -999.00,     1459
  49UF20130627,KS1306,  3939,  1,      2,  21961,2,20130718,1450,  5.9885, 137.0045, 4432,   1819.7,   2.3987,  34.6263,2,  34.6256,2,    108.9,2,   134.61,2,    38.61,2,     0.00,2,     2.73,2,   -999.0,9,   -999.0,9,-999.0000,9,  -999.00,     1455
  49UF20130627,KS1306,  3939,  1,      1,  21960,2,20130718,1450,  5.9885, 137.0045, 4432,   2021.5,   2.1354,  34.6398,2,  34.6386,2,    116.5,2,   139.04,2,    38.21,2,     0.00,2,     2.69,2,   -999.0,9,   -999.0,9,-999.0000,9,  -999.00,     1450
  49UF20130627,KS1306,  3940,  1,     99,     99,2,20130718,2206,  5.0115, 137.0097, 5136,      0.0,  30.0944,  33.5578,2,  33.5718,4,    196.0,2,     1.47,2,     0.00,2,     0.00,2,     0.02,2,   1878.0,2,   2202.3,2,   8.1299,2,    25.00,     2343
  49UF20130627,KS1306,  3940,  1,     36,  21995,2,20130718,2206,  5.0115, 137.0097, 5136,     12.0,  30.0949,  33.5595,2,  33.5614,2,    196.0,2,     1.41,2,     0.00,2,     0.00,2,     0.02,2,   1877.8,2,   2201.7,2,   8.1316,2,    25.00,       15
  49UF20130627,KS1306,  3940,  1,     35,  22087,2,20130718,2206,  5.0115, 137.0097, 5136,     26.8,  30.1261,  33.6407,2,-999.0000,9,    196.0,2,     1.43,2,     0.00,2,     0.00,2,     0.02,2,   1881.0,2,   2208.6,2,   8.1308,2,    25.00,       13
  49UF20130627,KS1306,  3940,  1,     34,  21971,2,20130718,2206,  5.0115, 137.0097, 5136,     51.4,  29.6036,  34.1879,2,-999.0000,9,    200.4,2,     1.47,2,     0.00,2,     0.00,2,     0.05,2,   1919.9,6,   2243.1,6,   8.1141,2,    25.00,       10
  49UF20130627,KS1306,  3940,  1,     33,  21992,2,20130718,2206,  5.0115, 137.0097, 5136,     76.6,  27.7599,  34.5862,2,-999.0000,9,    183.0,2,     1.84,2,     0.08,2,     0.05,2,     0.16,2,   1968.4,2,   2277.0,2,   8.0644,6,    25.00,        9
  49UF20130627,KS1306,  3940,  1,     32,  21991,3,20130718,2206,  5.0115, 137.0097, 5136,    102.7,  25.8976,  34.8453,2,  34.8315,4,    154.2,2,     3.38,2,     4.44,2,     0.12,2,     0.44,2,   2018.5,2,   2284.9,2,   7.9977,2,    25.00,        7
  49UF20130627,KS1306,  3940,  1,     31,  21990,2,20130718,2206,  5.0115, 137.0097, 5136,    126.1,  22.9443,  34.9282,2,-999.0000,9,    148.8,2,     4.64,2,     5.80,2,     0.03,2,     0.53,2,   2054.7,2,   2288.4,2,   7.9424,2,    25.00,        6
  49UF20130627,KS1306,  3940,  1,     30,  21989,2,20130718,2206,  5.0115, 137.0097, 5136,    151.8,  17.8780,  34.7527,2,-999.0000,9,    134.4,6,    10.33,6,    11.80,6,     0.01,6,     0.93,6,   2105.9,2,   2290.2,2,   7.8295,2,    25.00,        4
  49UF20130627,KS1306,  3940,  1,     29,  21988,2,20130718,2206,  5.0115, 137.0097, 5136,    200.8,  12.0322,  34.5426,2,  34.5440,2,    112.8,2,    25.82,2,    22.46,2,     0.00,2,     1.63,2,   2173.5,2,   2287.9,2,   7.6673,2,    25.00,        2
  49UF20130627,KS1306,  3940,  1,     28,  21987,2,20130718,2206,  5.0115, 137.0097, 5136,    252.0,  10.3496,  34.5271,2,-999.0000,9,    100.3,2,    32.59,2,    26.65,2,     0.00,2,     1.93,2,   2200.8,2,   2294.2,2,   7.6062,2,    25.00,        1
  49UF20130627,KS1306,  3940,  1,     27,  21986,2,20130718,2206,  5.0115, 137.0097, 5136,    302.7,   9.1867,  34.5676,2,-999.0000,9,     92.5,6,    35.92,6,    29.73,6,     0.00,6,     2.12,6,   2222.9,2,   2300.2,2,   7.5705,2,    25.00,     2359
  49UF20130627,KS1306,  3940,  1,     26,  21985,2,20130718,2206,  5.0115, 137.0097, 5136,    403.7,   8.0199,  34.5725,2,  34.5724,2,    109.9,2,    36.93,2,    30.76,2,     0.00,2,     2.17,2,   2223.3,2,   2307.1,2,   7.5754,2,    25.00,     2356
  49UF20130627,KS1306,  3940,  1,     25,  21984,2,20130718,2206,  5.0115, 137.0097, 5136,    505.0,   7.6226,  34.5696,2,-999.0000,9,    120.3,2,    36.14,2,    30.84,2,     0.00,2,     2.17,2,   2220.2,2,   2310.0,2,   7.5843,2,    25.00,     2353
  49UF20130627,KS1306,  3940,  1,     24,  21983,2,20130718,2206,  5.0115, 137.0097, 5136,    605.3,   6.9249,  34.5420,2,  34.5423,2,    128.7,2,    40.44,2,    31.38,2,     0.00,2,     2.21,2,   2223.9,2,   2309.7,2,   7.5848,2,    25.00,     2350
  49UF20130627,KS1306,  3940,  1,     23,  22095,2,20130718,2206,  5.0115, 137.0097, 5136,    706.4,   6.3710,  34.5343,2,-999.0000,9,     98.2,2,    53.91,2,    35.06,2,     0.00,2,     2.49,2,   2254.7,2,   2321.8,2,   7.5269,2,    25.00,     2348
  49UF20130627,KS1306,  3940,  1,     22,  21981,2,20130718,2206,  5.0115, 137.0097, 5136,    807.1,   5.8243,  34.5325,2,  34.5325,2,     94.0,2,    64.08,2,    36.26,2,     0.00,2,     2.58,2,   2267.2,2,   2328.6,2,   7.5143,2,    25.00,     2345
  49UF20130627,KS1306,  3940,  1,     21,  21980,2,20130718,2206,  5.0115, 137.0097, 5136,    907.6,   5.1082,  34.5406,2,-999.0000,9,     88.5,2,    79.25,2,    37.46,2,     0.00,2,     2.68,2,   2290.9,2,   2342.1,2,   7.4990,2,    25.00,     2342
  49UF20130627,KS1306,  3940,  1,     20,  21979,2,20130718,2206,  5.0115, 137.0097, 5136,   1009.4,   4.5469,  34.5532,2,  34.5531,2,     90.2,2,    90.08,2,    38.03,2,     0.00,2,     2.72,2,   2301.7,2,   2359.1,2,   7.4940,2,    25.00,     2339
  49UF20130627,KS1306,  3940,  1,     19,  21978,2,20130718,2206,  5.0115, 137.0097, 5136,   1211.8,   3.5947,  34.5796,2,  34.5795,2,     94.1,2,   108.68,2,    38.78,2,     0.00,2,     2.76,2,   2322.0,2,   2382.3,2,   7.4976,2,    25.00,     2335
  49UF20130627,KS1306,  3940,  1,     18,  21977,2,20130718,2206,  5.0115, 137.0097, 5136,   1412.0,   3.1125,  34.5968,2,  34.5969,2,     99.3,2,   118.01,2,    38.75,2,     0.00,2,     2.76,2,   2329.2,2,   2394.6,2,   7.5026,2,    25.00,     2330
  49UF20130627,KS1306,  3940,  1,     17,  23679,2,20130718,2206,  5.0115, 137.0097, 5136,   1615.1,   2.7475,  34.6108,2,  34.6111,2,    102.7,2,   126.83,2,    38.77,2,     0.00,2,     2.75,2,   2334.3,2,   2395.6,2,   7.5067,2,    25.00,     2325
  49UF20130627,KS1306,  3940,  1,     16,  21975,2,20130718,2206,  5.0115, 137.0097, 5136,   1819.4,   2.3941,  34.6275,2,  34.6274,6,    110.4,6,   133.46,6,    38.51,6,     0.00,6,     2.72,6,   2338.7,2,   2404.6,2,   7.5177,2,    25.00,     2320
  49UF20130627,KS1306,  3940,  1,     15,  21974,2,20130718,2206,  5.0115, 137.0097, 5136,   2023.0,   2.1998,  34.6375,2,  34.6401,2,    115.0,2,   137.43,2,    38.26,2,     0.00,2,     2.70,2,   2341.4,2,   2408.0,2,   7.5248,2,    25.00,     2316
  49UF20130627,KS1306,  3940,  1,     14,  21973,2,20130718,2206,  5.0115, 137.0097, 5136,   2276.2,   1.9658,  34.6503,2,  34.6504,2,    122.4,2,   141.28,2,    37.89,2,     0.00,2,     2.66,2,   2342.8,2,   2411.6,2,   7.5356,2,    25.00,     2310
  49UF20130627,KS1306,  3940,  1,     13,  21972,2,20130718,2206,  5.0115, 137.0097, 5136,   2530.7,   1.7949,  34.6597,2,  34.6605,2,    131.0,2,   142.52,2,    37.22,2,     0.00,2,     2.62,2,   -999.0,9,   -999.0,9,-999.0000,9,  -999.00,     2304
  49UF20130627,KS1306,  3940,  1,     12,  21994,2,20130718,2206,  5.0115, 137.0097, 5136,   2786.5,   1.6462,  34.6687,2,  34.6687,6,    139.3,2,   143.10,2,    36.71,2,     0.00,2,     2.57,2,   2333.6,2,   2415.5,2,   7.5594,2,    25.00,     2259
  49UF20130627,KS1306,  3940,  1,     11,  21970,2,20130718,2206,  5.0115, 137.0097, 5136,   3039.7,   1.5921,  34.6727,2,  34.6734,2,    143.2,2,   143.24,2,    36.53,2,     0.00,2,     2.55,2,   -999.0,9,   -999.0,9,-999.0000,9,  -999.00,     2253
  49UF20130627,KS1306,  3940,  1,     10,  21969,2,20130718,2206,  5.0115, 137.0097, 5136,   3294.8,   1.5555,  34.6764,2,  34.6774,2,    147.6,2,   142.73,2,    36.26,2,     0.00,2,     2.53,2,   2330.9,2,   2413.2,2,   7.5719,2,    25.00,     2247
  49UF20130627,KS1306,  3940,  1,      9,  21968,2,20130718,2206,  5.0115, 137.0097, 5136,   3550.1,   1.5377,  34.6795,2,  34.6793,2,    149.7,2,   142.43,2,    36.03,2,     0.00,2,     2.51,2,   -999.0,9,   -999.0,9,-999.0000,9,  -999.00,     2242
  49UF20130627,KS1306,  3940,  1,      8,  21982,2,20130718,2206,  5.0115, 137.0097, 5136,   3805.8,   1.5195,  34.6829,2,  34.6818,2,    152.9,2,   142.03,2,    35.81,2,     0.00,2,     2.50,2,   2325.0,2,   2413.8,2,   7.5815,2,    25.00,     2236
  49UF20130627,KS1306,  3940,  1,      7,  21966,2,20130718,2206,  5.0115, 137.0097, 5136,   4060.2,   1.5074,  34.6858,2,  34.6860,2,    155.1,2,   141.12,2,    35.67,2,     0.00,2,     2.48,2,   -999.0,9,   -999.0,9,-999.0000,9,  -999.00,     2230
  49UF20130627,KS1306,  3940,  1,      6,  21965,2,20130718,2206,  5.0115, 137.0097, 5136,   4317.5,   1.5138,  34.6871,2,  34.6868,2,    158.2,2,   140.86,2,    35.55,2,     0.00,2,     2.47,2,   2323.2,6,   2412.6,6,   7.5880,2,    25.00,     2225
  49UF20130627,KS1306,  3940,  1,      5,  21964,2,20130718,2206,  5.0115, 137.0097, 5136,   4574.7,   1.5331,  34.6875,2,  34.6876,2,    158.9,2,   140.40,2,    35.53,2,     0.00,2,     2.46,2,   -999.0,9,   -999.0,9,-999.0000,9,  -999.00,     2219
  49UF20130627,KS1306,  3940,  1,      4,  21963,2,20130718,2206,  5.0115, 137.0097, 5136,   4830.0,   1.5560,  34.6879,2,  34.6889,2,    160.3,2,   139.71,2,    35.29,2,     0.00,2,     2.46,2,   2321.2,2,   2410.5,2,   7.5900,6,    25.00,     2214
  49UF20130627,KS1306,  3940,  1,      3,  22079,2,20130718,2206,  5.0115, 137.0097, 5136,   5088.5,   1.5737,  34.6886,2,  34.6895,6,    161.5,2,   139.22,2,    35.27,2,     0.00,2,     2.45,2,   -999.0,9,   -999.0,9,-999.0000,9,  -999.00,     2208
  49UF20130627,KS1306,  3940,  1,      2,  21961,2,20130718,2206,  5.0115, 137.0097, 5136,   5119.6,   1.5764,  34.6886,2,  34.6892,6,    162.0,6,   139.31,6,    35.35,6,     0.00,6,     2.45,6,   2318.4,2,   2409.9,2,   7.5894,2,    25.00,     2206