BOTTLE,20191021PRINUNIVRMK
EXPOCODE,SECT_ID,STNNBR,CASTNO,SAMPNO,BTLNBR,BTLNBR_FLAG_W,DATE,TIME,LATITUDE,LONGITUDE,DEPTH,CTDPRS,CTDTMP,CTDSAL,CTDSAL_FLAG_W,SALNTY,SALNTY_FLAG_W,OXYGEN,OXYGEN_FLAG_W,SILCAT,SILCAT_FLAG_W,NITRAT,NITRAT_FLAG_W,NITRIT,NITRIT_FLAG_W,PHSPHT,PHSPHT_FLAG_W,TCARBN,TCARBN_FLAG_W,ALKALI,ALKALI_FLAG_W,PH_TOT,PH_TOT_FLAG_W,PH_TMP,BTL_TIME
,,,,,,,,,,,METERS,DBAR,ITS-90,PSS-78,,PSS-78,,UMOL/KG,,UMOL/KG,,UMOL/KG,,UMOL/KG,,UMOL/KG,,UMOL/KG,,UMOL/KG,,,,DEG C,
  49UF20130627,KS1306,  3988,  1,     99,     99,2,20130816,1251, 24.0088, 164.9947,   -9,      0.0,  29.1668,  35.2005,2,  35.2026,2,    195.9,2,     0.92,2,     0.00,2,     0.00,2,     0.01,2,   1969.8,2,   2309.4,2,   8.0987,2,    25.00,     1518
  49UF20130627,KS1306,  3988,  1,     36,  21995,2,20130816,1251, 24.0088, 164.9947,   -9,     11.0,  29.2037,  35.1990,2,  35.1993,2,    195.9,2,     0.96,2,     0.00,2,     0.00,2,     0.02,2,   1971.1,2,   2305.6,2,   8.0981,2,    25.00,     1540
  49UF20130627,KS1306,  3988,  1,     35,  22087,2,20130816,1251, 24.0088, 164.9947,   -9,     49.7,  25.7091,  35.2299,2,-999.0000,9,    221.6,2,     1.06,2,     0.00,2,     0.00,2,     0.01,2,   1981.9,2,   2312.3,2,   8.0864,2,    25.00,     1536
  49UF20130627,KS1306,  3988,  1,     34,  21971,2,20130816,1251, 24.0088, 164.9947,   -9,     99.8,  22.4057,  35.1640,2,  35.1571,4,    219.3,2,     1.49,2,     0.00,2,     0.00,2,     0.02,2,   2003.7,2,   2306.2,2,   8.0451,2,    25.00,     1534
  49UF20130627,KS1306,  3988,  1,     33,  21992,2,20130816,1251, 24.0088, 164.9947,   -9,    125.4,  20.2990,  34.9593,2,-999.0000,9,    214.6,2,     1.86,2,     0.00,2,     0.00,2,     0.04,2,   2014.6,2,   2294.0,2,   8.0075,2,    25.00,     1533
  49UF20130627,KS1306,  3988,  1,     32,  21991,2,20130816,1251, 24.0088, 164.9947,   -9,    151.0,  19.2373,  34.8611,2,-999.0000,9,    214.0,2,     2.15,2,     0.65,2,     0.03,2,     0.09,2,   2018.7,2,   2286.9,2,   7.9905,2,    25.00,     1532
  49UF20130627,KS1306,  3988,  1,     31,  21990,2,20130816,1251, 24.0088, 164.9947,   -9,    201.5,  17.7805,  34.7401,2,  34.7418,2,    210.7,2,     3.18,2,     3.01,2,     0.01,2,     0.23,2,   2031.3,2,   2280.1,2,   7.9585,6,    25.00,     1530
  49UF20130627,KS1306,  3988,  1,     30,  21989,2,20130816,1251, 24.0088, 164.9947,   -9,    251.7,  16.7795,  34.6847,2,-999.0000,9,    207.6,2,     4.60,2,     5.14,2,     0.01,2,     0.36,2,   2040.0,6,   2275.6,6,   7.9367,2,    25.00,     1528
  49UF20130627,KS1306,  3988,  1,     29,  21988,2,20130816,1251, 24.0088, 164.9947,   -9,    303.0,  15.7351,  34.6004,2,-999.0000,9,    203.8,6,     6.90,6,     7.09,6,     0.00,6,     0.50,6,   2054.8,2,   2273.1,2,   7.9026,2,    25.00,     1527
  49UF20130627,KS1306,  3988,  1,     28,  21987,2,20130816,1251, 24.0088, 164.9947,   -9,    403.8,  12.8703,  34.3895,2,  34.3896,2,    198.7,2,    13.86,2,    12.01,2,     0.00,2,     0.85,2,   2091.4,2,   2269.0,2,   7.8227,2,    25.00,     1524
  49UF20130627,KS1306,  3988,  1,     27,  21986,2,20130816,1251, 24.0088, 164.9947,   -9,    504.3,   9.9106,  34.1847,2,-999.0000,9,    179.6,2,    25.96,2,    18.82,2,     0.00,2,     1.35,2,   2139.2,2,   2268.2,2,   7.7103,2,    25.00,     1521
  49UF20130627,KS1306,  3988,  1,     26,  21985,2,20130816,1251, 24.0088, 164.9947,   -9,    604.6,   7.3136,  34.0878,2,  34.0885,2,    128.2,6,    48.72,6,    28.31,6,     0.00,6,     2.05,6,   2207.7,2,   2282.7,2,   7.5563,2,    25.00,     1519
  49UF20130627,KS1306,  3988,  1,     25,  21984,2,20130816,1251, 24.0088, 164.9947,   -9,    706.1,   6.0276,  34.1217,2,-999.0000,9,     84.5,2,    68.32,2,    34.52,2,     0.00,2,     2.51,2,   2264.1,2,   2299.9,2,   7.4543,2,    25.00,     1516
  49UF20130627,KS1306,  3988,  1,     24,  21983,2,20130816,1251, 24.0088, 164.9947,   -9,    807.7,   4.7637,  34.2213,2,  34.2208,6,     51.0,2,    93.28,2,    39.57,2,     0.00,2,     2.87,2,   2314.6,2,   2328.2,2,   7.3856,2,    25.00,     1513
  49UF20130627,KS1306,  3988,  1,     23,  22095,2,20130816,1251, 24.0088, 164.9947,   -9,    908.9,   4.2908,  34.3171,2,-999.0000,9,     43.6,2,   105.24,2,    40.92,2,     0.00,2,     2.97,2,   2332.4,2,   2346.9,2,   7.3753,2,    25.00,     1511
  49UF20130627,KS1306,  3988,  1,     22,  21981,2,20130816,1251, 24.0088, 164.9947,   -9,   1009.1,   3.8390,  34.3763,2,  34.3759,2,     42.4,2,   116.05,2,    41.67,2,     0.00,2,     3.01,2,   2347.9,2,   2361.5,2,   7.3752,2,    25.00,     1508
  49UF20130627,KS1306,  3988,  1,     21,  21980,2,20130816,1251, 24.0088, 164.9947,   -9,   1210.8,   3.2855,  34.4816,2,  34.4808,2,     57.6,2,   127.53,2,    41.08,2,     0.00,2,     2.96,2,   2354.0,2,   2378.0,2,   7.4106,2,    25.00,     1504
  49UF20130627,KS1306,  3988,  1,     20,  21979,2,20130816,1251, 24.0088, 164.9947,   -9,   1415.5,   2.7619,  34.5328,2,  34.5325,6,     68.8,2,   138.35,2,    40.85,2,     0.00,2,     2.92,2,   2358.8,2,   2390.0,2,   7.4290,2,    25.00,     1456
  49UF20130627,KS1306,  3988,  1,     19,  21978,2,20130816,1251, 24.0088, 164.9947,   -9,   1619.6,   2.4545,  34.5656,2,  34.5647,2,     78.9,2,   144.21,2,    40.35,2,     0.00,2,     2.88,2,   2357.6,2,   2398.0,2,   7.4508,2,    25.00,     1452
  49UF20130627,KS1306,  3988,  1,     18,  21977,2,20130816,1251, 24.0088, 164.9947,   -9,   1821.4,   2.1721,  34.5921,2,  34.5922,2,     88.2,6,   149.29,6,    39.88,6,     0.00,6,     2.84,6,   2359.7,2,   2405.8,2,   7.4678,2,    25.00,     1447
  49UF20130627,KS1306,  3988,  1,     17,  23679,2,20130816,1251, 24.0088, 164.9947,   -9,   2025.2,   1.9927,  34.6140,2,  34.6139,2,     98.7,2,   151.25,2,    39.16,2,     0.00,2,     2.79,2,   2360.2,2,   2408.1,2,   7.4823,2,    25.00,     1440
  49UF20130627,KS1306,  3988,  1,     16,  21975,2,20130816,1251, 24.0088, 164.9947,   -9,   2277.4,   1.8494,  34.6350,2,  34.6352,2,    111.1,2,   151.52,2,    38.51,2,     0.00,2,     2.73,2,   -999.0,9,   -999.0,9,-999.0000,9,  -999.00,     1435
  49UF20130627,KS1306,  3988,  1,     15,  21974,2,20130816,1251, 24.0088, 164.9947,   -9,   2533.7,   1.7265,  34.6488,2,  34.6489,6,    119.2,2,   152.33,2,    38.06,2,     0.00,2,     2.68,2,   2350.2,2,   2415.2,2,   7.5202,6,    25.00,     1427
  49UF20130627,KS1306,  3988,  1,     14,  21973,2,20130816,1251, 24.0088, 164.9947,   -9,   2787.7,   1.6572,  34.6574,2,  34.6564,2,    125.4,2,   152.09,2,    37.72,2,     0.00,2,     2.66,2,   -999.0,9,   -999.0,9,-999.0000,9,  -999.00,     1422
  49UF20130627,KS1306,  3988,  1,     13,  21972,2,20130816,1251, 24.0088, 164.9947,   -9,   3042.5,   1.6037,  34.6640,2,  34.6638,2,    131.3,2,   152.68,2,    37.44,2,     0.00,2,     2.63,2,   2341.8,6,   2416.2,6,   7.5411,2,    25.00,     1414
  49UF20130627,KS1306,  3988,  1,     12,  21994,2,20130816,1251, 24.0088, 164.9947,   -9,   3298.7,   1.5605,  34.6697,2,  34.6690,2,    136.4,2,   151.66,2,    36.95,2,     0.00,2,     2.60,2,   -999.0,9,   -999.0,9,-999.0000,9,  -999.00,     1406
  49UF20130627,KS1306,  3988,  1,     11,  21970,2,20130816,1251, 24.0088, 164.9947,   -9,   3553.3,   1.5333,  34.6749,2,  34.6740,2,    141.6,2,   150.24,2,    36.57,2,     0.00,2,     2.57,2,   2335.6,2,   2415.9,2,   7.5577,2,    25.00,     1359
  49UF20130627,KS1306,  3988,  1,     10,  21969,2,20130816,1251, 24.0088, 164.9947,   -9,   3809.0,   1.5128,  34.6789,2,  34.6784,2,    146.7,2,   148.96,2,    36.17,2,     0.00,2,     2.54,2,   -999.0,9,   -999.0,9,-999.0000,9,  -999.00,     1352
  49UF20130627,KS1306,  3988,  1,      9,  21968,2,20130816,1251, 24.0088, 164.9947,   -9,   4066.8,   1.4938,  34.6825,2,  34.6822,6,    151.4,2,   147.35,2,    35.90,2,     0.00,2,     2.52,2,   2327.7,2,   2411.8,2,   7.5726,3,    25.00,     1343
  49UF20130627,KS1306,  3988,  1,      8,  21982,2,20130816,1251, 24.0088, 164.9947,   -9,   4321.2,   1.4775,  34.6861,2,  34.6861,2,    156.1,2,   145.38,2,    35.62,2,     0.00,2,     2.49,2,   -999.0,9,   -999.0,9,-999.0000,9,  -999.00,     1337
  49UF20130627,KS1306,  3988,  1,      7,  21966,2,20130816,1251, 24.0088, 164.9947,   -9,   4578.5,   1.4663,  34.6893,2,  34.6894,2,    160.7,2,   142.92,2,    35.36,2,     0.00,2,     2.46,2,   2317.8,2,   2408.4,2,   7.5839,2,    25.00,     1331
  49UF20130627,KS1306,  3988,  1,      6,  21965,2,20130816,1251, 24.0088, 164.9947,   -9,   4835.8,   1.4622,  34.6920,2,  34.6924,2,    166.1,2,   139.57,2,    34.83,2,     0.00,2,     2.43,2,   -999.0,9,   -999.0,9,-999.0000,9,  -999.00,     1325
  49UF20130627,KS1306,  3988,  1,      5,  21964,2,20130816,1251, 24.0088, 164.9947,   -9,   5093.1,   1.4637,  34.6943,2,  34.6943,2,    170.6,2,   136.80,2,    34.62,2,     0.00,2,     2.41,2,   2308.7,2,   2400.8,2,   7.5961,2,    25.00,     1319
  49UF20130627,KS1306,  3988,  1,      4,  21963,2,20130816,1251, 24.0088, 164.9947,   -9,   5351.6,   1.4700,  34.6962,2,  34.6981,2,    174.2,2,   134.55,2,    34.35,2,     0.00,2,     2.39,2,   -999.0,9,   -999.0,9,-999.0000,9,  -999.00,     1313
  49UF20130627,KS1306,  3988,  1,      3,  22079,2,20130816,1251, 24.0088, 164.9947,   -9,   5607.7,   1.4901,  34.6972,2,  34.6973,6,    175.6,2,   133.74,2,    34.33,2,     0.00,2,     2.39,2,   2303.8,2,   2396.1,2,   7.6001,2,    25.00,     1306
  49UF20130627,KS1306,  3988,  1,      2,  21961,2,20130816,1251, 24.0088, 164.9947,   -9,   5866.4,   1.5152,  34.6978,2,  34.6978,2,    177.7,6,   132.72,6,    34.23,6,     0.00,6,     2.38,6,   2301.5,2,   2396.6,2,   7.6016,2,    25.00,     1300
  49UF20130627,KS1306,  3988,  1,      1,  21960,2,20130816,1251, 24.0088, 164.9947,   -9,   6125.5,   1.5455,  34.6981,2,  34.6984,2,    178.4,2,   132.22,2,    34.20,2,     0.00,2,     2.37,2,   2299.5,2,   2394.0,2,   7.6007,2,    25.00,     1251
  49UF20130627,KS1306,  3989,  1,     99,     99,2,20130816,2334, 25.0157, 165.0058,   -9,      0.0,  28.8889,  34.9314,2,  34.9651,2,    196.9,2,     1.11,2,     0.00,2,     0.00,2,     0.02,2,   1963.2,2,   2289.4,2,   8.0858,2,    25.00,       10
  49UF20130627,KS1306,  3989,  1,     33,  21992,2,20130816,2334, 25.0157, 165.0058,   -9,     11.3,  28.9503,  34.9696,2,-999.0000,9,    197.0,2,     1.08,2,     0.00,2,     0.00,2,     0.01,2,   1964.8,6,   2293.6,6,   8.0868,2,    25.00,       30
  49UF20130627,KS1306,  3989,  1,     32,  21991,2,20130816,2334, 25.0157, 165.0058,   -9,     26.4,  29.0414,  35.0641,2,-999.0000,9,    199.3,2,     1.08,2,     0.00,2,     0.00,2,     0.01,2,   1971.9,2,   2300.4,2,   8.0849,2,    25.00,       29
  49UF20130627,KS1306,  3989,  1,     31,  21990,2,20130816,2334, 25.0157, 165.0058,   -9,     51.9,  24.2922,  35.0742,2,-999.0000,9,    232.7,2,     1.44,2,     0.00,2,     0.00,2,     0.01,2,   1987.9,2,   2302.0,2,   8.0623,2,    25.00,       28
  49UF20130627,KS1306,  3989,  1,     30,  21989,2,20130816,2334, 25.0157, 165.0058,   -9,     76.5,  22.0463,  35.0320,2,-999.0000,9,    233.4,2,     1.71,2,     0.00,2,     0.00,2,     0.02,2,   1997.5,2,   2296.4,2,   8.0422,2,    25.00,       25
  49UF20130627,KS1306,  3989,  1,     29,  21988,2,20130816,2334, 25.0157, 165.0058,   -9,    102.8,  19.8237,  34.8548,2,-999.0000,9,    229.0,6,     2.10,6,     0.00,6,     0.00,6,     0.04,6,   2009.7,2,   2286.2,2,   8.0059,2,    25.00,       23
  49UF20130627,KS1306,  3989,  1,     28,  21987,2,20130816,2334, 25.0157, 165.0058,   -9,    126.9,  18.5246,  34.7828,2,-999.0000,9,    218.7,2,     2.48,2,     0.64,2,     0.05,2,     0.10,2,   2021.0,2,   2289.5,2,   7.9819,6,    25.00,       22
  49UF20130627,KS1306,  3989,  1,     24,  21983,2,20130816,2334, 25.0157, 165.0058,   -9,    153.2,  17.9637,  34.7547,2,-999.0000,9,    209.6,2,     3.01,2,     2.54,2,     0.04,2,     0.21,2,   2030.6,6,   2275.9,6,   7.9594,2,    25.00,       21
  49UF20130627,KS1306,  3989,  1,     23,  22095,2,20130816,2334, 25.0157, 165.0058,   -9,    203.1,  16.7266,  34.6782,2,-999.0000,9,    208.8,2,     4.59,2,     5.15,2,     0.01,2,     0.36,2,   2038.4,2,   2273.1,2,   7.9349,2,    25.00,       19
  49UF20130627,KS1306,  3989,  1,     22,  21981,2,20130816,2334, 25.0157, 165.0058,   -9,    203.1,  16.7266,  34.6782,2,-999.0000,9,    208.9,2,     4.54,2,     5.13,2,     0.01,2,     0.36,2,   2039.6,2,   2272.6,2,   7.9346,2,    25.00,       19
  49UF20130627,KS1306,  3989,  1,     21,  21980,2,20130816,2334, 25.0157, 165.0058,   -9,    254.7,  16.1746,  34.6379,2,-999.0000,9,    216.8,6,     5.25,6,     5.23,6,     0.01,6,     0.37,6,   2039.7,2,   2270.9,2,   7.9335,2,    25.00,       18
  49UF20130627,KS1306,  3989,  1,     20,  21979,2,20130816,2334, 25.0157, 165.0058,   -9,    304.5,  15.1679,  34.5511,2,-999.0000,9,    210.8,2,     7.52,2,     7.20,2,     0.01,2,     0.50,2,   2054.0,2,   2269.7,2,   7.8983,2,    25.00,       16
  49UF20130627,KS1306,  3989,  1,     19,  21978,2,20130816,2334, 25.0157, 165.0058,   -9,    404.8,  12.5945,  34.3659,2,-999.0000,9,    198.4,2,    14.29,2,    12.44,2,     0.00,2,     0.88,2,   2094.1,2,   2266.4,2,   7.8105,2,    25.00,       13
  49UF20130627,KS1306,  3989,  1,     18,  21977,2,20130816,2334, 25.0157, 165.0058,   -9,    506.5,   9.7646,  34.1748,2,-999.0000,9,    177.7,2,    26.73,2,    19.27,2,     0.00,2,     1.39,2,   2139.1,2,   2263.5,2,   7.7004,6,    25.00,       11
  49UF20130627,KS1306,  3989,  1,     17,  23679,2,20130816,2334, 25.0157, 165.0058,   -9,    608.0,   7.1645,  34.0696,2,-999.0000,9,    131.1,6,    49.79,6,    28.42,6,     0.00,6,     2.06,6,   2208.7,2,   2281.3,2,   7.5546,2,    25.00,        8
  49UF20130627,KS1306,  3989,  1,     16,  21975,2,20130816,2334, 25.0157, 165.0058,   -9,    708.1,   5.4383,  34.0999,2,-999.0000,9,     83.0,2,    76.33,2,    35.72,2,     0.00,2,     2.59,2,   2271.7,2,   2304.9,2,   7.4358,2,    25.00,        5
  49UF20130627,KS1306,  3989,  1,     12,  21994,2,20130816,2334, 25.0157, 165.0058,   -9,    808.7,   4.6505,  34.1766,2,-999.0000,9,     57.0,2,    93.90,2,    39.21,2,     0.00,2,     2.84,2,   2310.2,2,   2322.6,2,   7.3838,2,    25.00,        3
  49UF20130627,KS1306,  3989,  1,     11,  21970,2,20130816,2334, 25.0157, 165.0058,   -9,    909.0,   4.1434,  34.2714,2,-999.0000,9,     40.6,2,   108.43,2,    41.41,2,     0.00,2,     2.98,2,   2336.8,2,   2341.6,2,   7.3589,2,    25.00,        0
  49UF20130627,KS1306,  3989,  1,     10,  21969,2,20130816,2334, 25.0157, 165.0058,   -9,   1010.6,   3.6879,  34.3652,2,-999.0000,9,     37.8,2,   119.83,2,    42.02,2,     0.00,2,     3.04,2,   2352.5,2,   2359.6,2,   7.3616,2,    25.00,     2358
  49UF20130627,KS1306,  3989,  1,      9,  21968,2,20130816,2334, 25.0157, 165.0058,   -9,   1214.2,   3.1256,  34.4653,2,-999.0000,9,     47.0,2,   133.42,2,    42.23,2,     0.00,2,     3.02,2,   2362.5,2,   2379.3,2,   7.3836,2,    25.00,     2353
  49UF20130627,KS1306,  3989,  1,      8,  21982,2,20130816,2334, 25.0157, 165.0058,   -9,   1416.4,   2.7497,  34.5377,2,-999.0000,9,     71.2,2,   138.11,2,    40.81,2,     0.00,2,     2.92,2,   2357.7,2,   2388.3,2,   7.4357,2,    25.00,     2348
  49UF20130627,KS1306,  3989,  1,      7,  21966,2,20130816,2334, 25.0157, 165.0058,   -9,   1416.4,   2.7497,  34.5377,2,-999.0000,9,     71.6,2,   137.60,2,    40.71,2,     0.00,2,     2.91,2,   2356.9,2,   2389.7,2,   7.4353,2,    25.00,     2348
  49UF20130627,KS1306,  3989,  1,      3,  22079,2,20130816,2334, 25.0157, 165.0058,   -9,   1618.2,   2.4144,  34.5697,2,-999.0000,9,     80.4,2,   143.60,2,    40.30,2,     0.00,2,     2.86,2,   2348.6,4,   2397.0,2,   7.4531,2,    25.00,     2344
  49UF20130627,KS1306,  3989,  1,      2,  21961,2,20130816,2334, 25.0157, 165.0058,   -9,   1821.6,   2.1628,  34.5954,2,-999.0000,9,     90.0,2,   148.41,2,    39.65,2,     0.00,2,     2.83,2,   2349.8,4,   2406.1,2,   7.4666,2,    25.00,     2339
  49UF20130627,KS1306,  3989,  1,      1,  21960,2,20130816,2334, 25.0157, 165.0058,   -9,   2024.8,   1.9677,  34.6174,2,-999.0000,9,    100.8,2,   150.93,2,    39.26,2,     0.00,2,     2.78,2,   2350.5,4,   2409.5,2,   7.4889,2,    25.00,     2334