BOTTLE,20191021PRINUNIVRMK
EXPOCODE,SECT_ID,STNNBR,CASTNO,SAMPNO,BTLNBR,BTLNBR_FLAG_W,DATE,TIME,LATITUDE,LONGITUDE,DEPTH,CTDPRS,CTDTMP,CTDSAL,CTDSAL_FLAG_W,SALNTY,SALNTY_FLAG_W,OXYGEN,OXYGEN_FLAG_W,SILCAT,SILCAT_FLAG_W,NITRAT,NITRAT_FLAG_W,NITRIT,NITRIT_FLAG_W,PHSPHT,PHSPHT_FLAG_W,TCARBN,TCARBN_FLAG_W,ALKALI,ALKALI_FLAG_W,PH_TOT,PH_TOT_FLAG_W,PH_TMP,BTL_TIME
,,,,,,,,,,,METERS,DBAR,ITS-90,PSS-78,,PSS-78,,UMOL/KG,,UMOL/KG,,UMOL/KG,,UMOL/KG,,UMOL/KG,,UMOL/KG,,UMOL/KG,,,,DEG C,
  49UF20130627,KS1306,  3934,  1,     99,     99,2,20130706,0008,  9.9907, 136.9830, 5036,      0.0,  29.8968,  34.0249,2,  34.0232,4,    193.5,2,     1.03,2,     0.01,2,     0.00,2,     0.06,2,   1901.9,2,   2229.8,2,   8.1245,2,    25.00,      148
  49UF20130627,KS1306,  3934,  1,     36,  21995,2,20130706,0008,  9.9907, 136.9830, 5036,     10.4,  29.7879,  34.0193,2,  34.0181,2,    194.1,2,     1.01,2,     0.00,2,     0.00,2,     0.05,2,   1898.7,2,   2229.4,2,   8.1238,2,    25.00,      215
  49UF20130627,KS1306,  3934,  1,     35,  22087,2,20130706,0008,  9.9907, 136.9830, 5036,     25.0,  29.7430,  34.0277,2,-999.0000,9,    194.6,2,     0.99,2,     0.01,2,     0.00,2,     0.05,2,   1901.6,2,   2229.2,2,   8.1308,2,    25.00,      214
  49UF20130627,KS1306,  3934,  1,     34,  21971,2,20130706,0008,  9.9907, 136.9830, 5036,     50.8,  29.5018,  34.1820,2,-999.0000,9,    196.3,2,     0.94,2,     0.01,2,     0.00,2,     0.06,2,   1906.6,2,   2238.7,2,   8.1254,2,    25.00,      211
  49UF20130627,KS1306,  3934,  1,     33,  21992,2,20130706,0008,  9.9907, 136.9830, 5036,     75.6,  28.7944,  34.7468,2,-999.0000,9,    201.8,2,     0.89,2,     0.05,2,     0.00,2,     0.10,2,   1945.1,2,   2277.8,2,   8.1228,2,    25.00,      209
  49UF20130627,KS1306,  3934,  1,     32,  21991,2,20130706,0008,  9.9907, 136.9830, 5036,    100.6,  27.8654,  35.0661,2,  33.1062,4,    199.8,2,     0.85,6,     0.02,6,     0.00,6,     0.11,6,   1964.4,2,   2298.0,2,   8.1082,2,    25.00,      208
  49UF20130627,KS1306,  3934,  1,     31,  21990,2,20130706,0008,  9.9907, 136.9830, 5036,    125.5,  27.1740,  35.0961,2,-999.0000,9,    193.4,2,     0.89,2,     0.05,2,     0.00,2,     0.11,2,   1978.5,2,   2307.2,2,   8.0948,2,    25.00,      207
  49UF20130627,KS1306,  3934,  1,     30,  21989,2,20130706,0008,  9.9907, 136.9830, 5036,    152.9,  24.9399,  35.0973,2,-999.0000,9,    183.3,2,     1.36,2,     0.30,2,     0.26,2,     0.20,2,   2017.9,2,   2300.2,2,   8.0272,2,    25.00,      205
  49UF20130627,KS1306,  3934,  1,     29,  21988,2,20130706,0008,  9.9907, 136.9830, 5036,    202.2,  17.0651,  34.7125,2,  34.7154,6,    137.8,2,    10.78,2,    12.30,2,     0.01,2,     0.96,2,   2109.3,2,   2283.3,2,   7.8138,2,    25.00,      203
  49UF20130627,KS1306,  3934,  1,     28,  21987,2,20130706,0008,  9.9907, 136.9830, 5036,    253.6,  12.0625,  34.3796,2,-999.0000,9,    136.2,2,    19.42,2,    18.52,2,     0.00,2,     1.39,2,   2144.9,2,   2266.8,2,   7.7026,2,    25.00,      201
  49UF20130627,KS1306,  3934,  1,     27,  21986,2,20130706,0008,  9.9907, 136.9830, 5036,    302.8,  10.6251,  34.4282,2,-999.0000,9,     96.0,2,    29.66,2,    25.86,2,     0.00,2,     1.90,2,   2194.7,2,   2280.8,2,   7.5997,2,    25.00,      200
  49UF20130627,KS1306,  3934,  1,     26,  21985,2,20130706,0008,  9.9907, 136.9830, 5036,    403.8,   8.6593,  34.4575,2,  34.4564,2,     76.6,2,    42.22,2,    31.73,2,     0.00,2,     2.28,2,   2236.2,2,   2296.2,2,   7.5262,2,    25.00,      157
  49UF20130627,KS1306,  3934,  1,     25,  21984,2,20130706,0008,  9.9907, 136.9830, 5036,    503.9,   7.6231,  34.4710,2,-999.0000,9,     80.5,6,    49.51,6,    33.52,6,     0.00,6,     2.39,6,   2246.6,2,   2303.2,2,   7.5165,2,    25.00,      154
  49UF20130627,KS1306,  3934,  1,     24,  21983,2,20130706,0008,  9.9907, 136.9830, 5036,    605.2,   6.8604,  34.4891,2,  34.4900,2,     88.3,2,    54.55,2,    34.46,2,     0.00,2,     2.45,2,   2253.1,2,   2310.6,2,   7.5205,2,    25.00,      152
  49UF20130627,KS1306,  3934,  1,     22,  21981,2,20130706,0008,  9.9907, 136.9830, 5036,    705.5,   6.1396,  34.5065,2,-999.0000,9,     84.9,2,    63.80,2,    36.04,2,     0.00,2,     2.58,2,   -999.0,9,   -999.0,9,-999.0000,9,  -999.00,      149
  49UF20130627,KS1306,  3934,  1,     23,  22095,2,20130706,0008,  9.9907, 136.9830, 5036,    705.8,   6.1391,  34.5067,2,-999.0000,9,     85.1,2,    63.66,2,    36.10,2,     0.00,2,     2.57,2,   2268.9,6,   2324.8,6,   7.5055,2,    25.00,      149
  49UF20130627,KS1306,  3934,  1,     21,  21980,2,20130706,0008,  9.9907, 136.9830, 5036,    807.2,   5.5246,  34.5186,2,  34.5192,2,     84.9,2,    73.39,2,    37.06,2,     0.00,2,     2.65,2,   2281.5,2,   2331.3,2,   7.4937,2,    25.00,      146
  49UF20130627,KS1306,  3934,  1,     20,  21979,2,20130706,0008,  9.9907, 136.9830, 5036,    908.5,   5.0818,  34.5361,2,-999.0000,9,     86.6,2,    80.78,2,    37.69,2,     0.00,2,     2.69,2,   2290.2,2,   2344.4,2,   7.4988,6,    25.00,      143
  49UF20130627,KS1306,  3934,  1,     19,  21978,2,20130706,0008,  9.9907, 136.9830, 5036,   1009.3,   4.5731,  34.5475,2,  34.5485,6,     87.3,2,    90.72,2,    38.27,2,     0.00,2,     2.73,2,   2301.0,2,   2352.8,2,   7.4931,2,    25.00,      140
  49UF20130627,KS1306,  3934,  1,     18,  21977,2,20130706,0008,  9.9907, 136.9830, 5036,   1209.4,   3.8119,  34.5669,2,  34.5673,2,     90.2,2,   106.18,2,    38.86,2,     0.00,2,     2.76,2,   2315.2,2,   2368.7,2,   7.4960,2,    25.00,      136
  49UF20130627,KS1306,  3934,  1,     17,  23679,2,20130706,0008,  9.9907, 136.9830, 5036,   1412.8,   3.2026,  34.5863,2,  34.5838,2,     96.2,2,   118.59,2,    38.90,2,     0.00,2,     2.76,2,   2327.6,2,   2388.1,2,   7.5022,2,    25.00,      131
  49UF20130627,KS1306,  3934,  1,     16,  21975,2,20130706,0008,  9.9907, 136.9830, 5036,   1615.9,   2.8577,  34.5992,2,  34.5994,2,     99.7,2,   125.98,2,    39.00,2,     0.00,2,     2.76,2,   2334.1,2,   2388.5,2,   7.5010,2,    25.00,      126
  49UF20130627,KS1306,  3934,  1,     15,  21974,2,20130706,0008,  9.9907, 136.9830, 5036,   1818.0,   2.4348,  34.6182,2,  34.6177,6,    106.3,2,   134.45,2,    38.74,2,     0.00,2,     2.73,2,   2335.9,2,   2399.5,2,   7.5143,2,    25.00,      122
  49UF20130627,KS1306,  3934,  1,     14,  21973,2,20130706,0008,  9.9907, 136.9830, 5036,   2022.6,   2.2008,  34.6299,2,  34.6294,2,    112.1,2,   139.10,2,    38.51,2,     0.00,2,     2.71,2,   2340.2,2,   2404.8,2,   7.5179,2,    25.00,      117
  49UF20130627,KS1306,  3934,  1,     13,  21972,2,20130706,0008,  9.9907, 136.9830, 5036,   2275.4,   1.9968,  34.6430,2,  34.6430,2,    118.9,2,   142.34,2,    38.20,2,     0.00,2,     2.68,2,   -999.0,9,   -999.0,9,-999.0000,9,  -999.00,      111
  49UF20130627,KS1306,  3934,  1,     12,  21994,2,20130706,0008,  9.9907, 136.9830, 5036,   2529.9,   1.8297,  34.6535,2,  34.6527,2,    125.5,2,   144.90,2,    37.73,2,     0.00,2,     2.65,2,   2339.4,2,   2408.9,2,   7.5407,2,    25.00,      106
  49UF20130627,KS1306,  3934,  1,     11,  21970,2,20130706,0008,  9.9907, 136.9830, 5036,   2784.4,   1.7313,  34.6607,2,  34.6609,2,    130.9,2,   145.19,2,    37.47,2,     0.00,2,     2.61,2,   -999.0,9,   -999.0,9,-999.0000,9,  -999.00,      100
  49UF20130627,KS1306,  3934,  1,     10,  21969,2,20130706,0008,  9.9907, 136.9830, 5036,   3038.4,   1.6254,  34.6688,2,  34.6696,2,    138.1,2,   144.77,2,    36.84,2,     0.00,2,     2.57,2,   2330.5,2,   2419.4,2,   7.5585,2,    25.00,       54
  49UF20130627,KS1306,  3934,  1,      9,  21968,2,20130706,0008,  9.9907, 136.9830, 5036,   3292.8,   1.5875,  34.6729,2,  34.6724,2,    143.7,2,   142.70,2,    36.44,2,     0.00,2,     2.54,2,   -999.0,9,   -999.0,9,-999.0000,9,  -999.00,       49
  49UF20130627,KS1306,  3934,  1,      8,  21982,2,20130706,0008,  9.9907, 136.9830, 5036,   3292.8,   1.5875,  34.6729,2,  34.6723,2,    144.1,2,   143.27,2,    36.60,2,     0.00,2,     2.54,2,   2328.1,2,   2412.2,2,   7.5675,2,    25.00,       49
  49UF20130627,KS1306,  3934,  1,      7,  21966,2,20130706,0008,  9.9907, 136.9830, 5036,   3549.5,   1.5498,  34.6774,2,  34.6777,2,    149.0,6,   142.08,6,    36.20,6,     0.00,6,     2.52,6,   2325.0,2,   2409.6,2,   7.5746,2,    25.00,       42
  49UF20130627,KS1306,  3934,  1,      6,  21965,2,20130706,0008,  9.9907, 136.9830, 5036,   3806.0,   1.5389,  34.6802,2,  34.6795,2,    152.5,2,   140.98,2,    36.06,2,     0.00,2,     2.51,2,   -999.0,9,   -999.0,9,-999.0000,9,  -999.00,       37
  49UF20130627,KS1306,  3934,  1,      5,  21964,2,20130706,0008,  9.9907, 136.9830, 5036,   4060.2,   1.5280,  34.6831,2,  34.6819,6,    154.4,2,   140.52,2,    35.88,2,     0.00,2,     2.49,2,   2320.2,2,   2407.0,2,   7.5820,6,    25.00,       31
  49UF20130627,KS1306,  3934,  1,      4,  21963,2,20130706,0008,  9.9907, 136.9830, 5036,   4318.9,   1.5290,  34.6851,2,  34.6848,2,    158.3,2,   138.93,2,    35.51,2,     0.00,2,     2.47,2,   -999.0,9,   -999.0,9,-999.0000,9,  -999.00,       25
  49UF20130627,KS1306,  3934,  1,      3,  22079,2,20130706,0008,  9.9907, 136.9830, 5036,   4574.5,   1.5350,  34.6868,2,  34.6862,2,    160.3,2,   138.69,2,    35.38,2,     0.00,2,     2.46,2,   2313.0,6,   2404.5,6,   7.5863,2,    25.00,       20
  49UF20130627,KS1306,  3934,  1,      2,  21961,2,20130706,0008,  9.9907, 136.9830, 5036,   4829.4,   1.5519,  34.6876,2,  34.6872,6,    161.7,6,   138.16,6,    35.15,6,     0.00,6,     2.46,6,   -999.0,9,   -999.0,9,-999.0000,9,  -999.00,       14
  49UF20130627,KS1306,  3934,  1,      1,  21960,2,20130706,0008,  9.9907, 136.9830, 5036,   5116.4,   1.5800,  34.6882,2,  34.6877,2,    162.3,2,   137.84,2,    35.30,2,     0.00,2,     2.45,2,   2312.7,2,   2403.4,2,   7.5918,2,    25.00,        8
  49UF20130627,KS1306,  3935,  1,     99,     99,2,20130706,0816,  9.0007, 136.9793, 3228,      0.0,  29.8059,  33.9789,2,-999.0000,9,    193.8,2,     0.96,2,     0.00,2,     0.00,2,     0.07,2,   -999.0,9,   -999.0,9,-999.0000,9,  -999.00,      912
  49UF20130627,KS1306,  3935,  1,     36,  21995,2,20130706,0816,  9.0007, 136.9793, 3228,     12.3,  29.6804,  34.0004,2,-999.0000,9,    194.4,2,     0.92,2,     0.00,2,     0.00,2,     0.06,2,   -999.0,9,   -999.0,9,-999.0000,9,  -999.00,      941
  49UF20130627,KS1306,  3935,  1,     35,  22087,2,20130706,0816,  9.0007, 136.9793, 3228,     27.0,  29.5336,  34.0673,2,-999.0000,9,    195.6,2,     0.89,2,     0.00,2,     0.00,2,     0.06,2,   -999.0,9,   -999.0,9,-999.0000,9,  -999.00,      940
  49UF20130627,KS1306,  3935,  1,     34,  21971,2,20130706,0816,  9.0007, 136.9793, 3228,     52.0,  29.0272,  34.3703,2,-999.0000,9,    199.8,2,     0.92,2,     0.00,2,     0.00,2,     0.08,2,   -999.0,9,   -999.0,9,-999.0000,9,  -999.00,      936
  49UF20130627,KS1306,  3935,  1,     33,  21992,2,20130706,0816,  9.0007, 136.9793, 3228,     76.1,  28.4509,  34.7402,2,-999.0000,9,    199.9,2,     0.88,2,     0.00,2,     0.00,2,     0.11,2,   -999.0,9,   -999.0,9,-999.0000,9,  -999.00,      935
  49UF20130627,KS1306,  3935,  1,     32,  21991,2,20130706,0816,  9.0007, 136.9793, 3228,    102.2,  28.1282,  34.9293,2,-999.0000,9,    200.2,2,     0.82,2,     0.00,2,     0.00,2,     0.12,2,   -999.0,9,   -999.0,9,-999.0000,9,  -999.00,      934
  49UF20130627,KS1306,  3935,  1,     31,  21990,2,20130706,0816,  9.0007, 136.9793, 3228,    128.3,  27.7213,  35.1288,2,-999.0000,9,    199.0,6,     0.80,6,     0.00,6,     0.00,6,     0.12,6,   -999.0,9,   -999.0,9,-999.0000,9,  -999.00,      933
  49UF20130627,KS1306,  3935,  1,     30,  21989,2,20130706,0816,  9.0007, 136.9793, 3228,    152.8,  25.8504,  35.0013,2,-999.0000,9,    182.5,2,     1.70,2,     0.89,2,     0.10,2,     0.23,2,   -999.0,9,   -999.0,9,-999.0000,9,  -999.00,      931
  49UF20130627,KS1306,  3935,  1,     29,  21988,2,20130706,0816,  9.0007, 136.9793, 3228,    203.0,  17.0366,  34.7073,2,-999.0000,9,    132.9,2,    11.75,2,    13.15,2,     0.01,2,     1.02,2,   -999.0,9,   -999.0,9,-999.0000,9,  -999.00,      930
  49UF20130627,KS1306,  3935,  1,     28,  21987,2,20130706,0816,  9.0007, 136.9793, 3228,    203.0,  17.0366,  34.7073,2,-999.0000,9,    133.0,2,    11.65,2,    13.02,2,     0.01,2,     1.02,2,   -999.0,9,   -999.0,9,-999.0000,9,  -999.00,      930
  49UF20130627,KS1306,  3935,  1,     24,  21983,2,20130706,0816,  9.0007, 136.9793, 3228,    254.2,  12.2162,  34.5098,2,-999.0000,9,    100.0,2,    24.10,2,    22.89,2,     0.00,2,     1.69,2,   -999.0,9,   -999.0,9,-999.0000,9,  -999.00,      928
  49UF20130627,KS1306,  3935,  1,     23,  22095,2,20130706,0816,  9.0007, 136.9793, 3228,    303.3,  10.2075,  34.4864,2,-999.0000,9,     81.6,2,    33.10,2,    28.37,2,     0.00,2,     2.07,2,   -999.0,9,   -999.0,9,-999.0000,9,  -999.00,      927
  49UF20130627,KS1306,  3935,  1,     22,  21981,2,20130706,0816,  9.0007, 136.9793, 3228,    406.7,   8.4137,  34.5262,2,-999.0000,9,     78.2,2,    42.03,2,    32.41,2,     0.00,2,     2.33,2,   -999.0,9,   -999.0,9,-999.0000,9,  -999.00,      924
  49UF20130627,KS1306,  3935,  1,     21,  21980,2,20130706,0816,  9.0007, 136.9793, 3228,    504.6,   7.6544,  34.5337,2,-999.0000,9,    108.6,6,    42.57,6,    31.25,6,     0.00,6,     2.23,6,   -999.0,9,   -999.0,9,-999.0000,9,  -999.00,      922
  49UF20130627,KS1306,  3935,  1,     20,  21979,2,20130706,0816,  9.0007, 136.9793, 3228,    606.2,   6.9761,  34.5246,2,-999.0000,9,     99.4,2,    49.49,2,    33.37,2,     0.00,2,     2.39,2,   -999.0,9,   -999.0,9,-999.0000,9,  -999.00,      919
  49UF20130627,KS1306,  3935,  1,     19,  21978,2,20130706,0816,  9.0007, 136.9793, 3228,    706.8,   6.2765,  34.5059,2,-999.0000,9,     92.5,2,    60.19,2,    35.03,2,     0.00,2,     2.51,2,   -999.0,9,   -999.0,9,-999.0000,9,  -999.00,      917
  49UF20130627,KS1306,  3935,  1,     18,  21977,2,20130706,0816,  9.0007, 136.9793, 3228,    806.9,   5.7196,  34.5274,2,-999.0000,9,     88.6,2,    69.21,2,    36.51,2,     0.00,2,     2.61,2,   -999.0,9,   -999.0,9,-999.0000,9,  -999.00,      914
  49UF20130627,KS1306,  3935,  1,     17,  23679,2,20130706,0816,  9.0007, 136.9793, 3228,    908.8,   5.2161,  34.5351,2,-999.0000,9,     86.9,2,    78.49,2,    37.30,2,     0.00,2,     2.67,2,   -999.0,9,   -999.0,9,-999.0000,9,  -999.00,      912
  49UF20130627,KS1306,  3935,  1,     16,  21975,2,20130706,0816,  9.0007, 136.9793, 3228,   1009.2,   4.6899,  34.5448,2,-999.0000,9,     86.6,2,    88.89,2,    37.94,2,     0.00,2,     2.72,2,   -999.0,9,   -999.0,9,-999.0000,9,  -999.00,      909
  49UF20130627,KS1306,  3935,  1,     15,  21974,2,20130706,0816,  9.0007, 136.9793, 3228,   1211.7,   3.7897,  34.5693,2,-999.0000,9,     91.3,2,   106.66,2,    38.40,2,     0.00,2,     2.76,2,   -999.0,9,   -999.0,9,-999.0000,9,  -999.00,      905
  49UF20130627,KS1306,  3935,  1,     14,  21973,2,20130706,0816,  9.0007, 136.9793, 3228,   1413.9,   3.2085,  34.5882,2,-999.0000,9,     96.8,2,   117.96,2,    38.53,2,     0.00,2,     2.77,2,   -999.0,9,   -999.0,9,-999.0000,9,  -999.00,      901
  49UF20130627,KS1306,  3935,  1,     13,  21972,2,20130706,0816,  9.0007, 136.9793, 3228,   1616.4,   2.7892,  34.6052,2,-999.0000,9,    102.4,6,   126.55,6,    38.65,6,     0.00,6,     2.76,6,   -999.0,9,   -999.0,9,-999.0000,9,  -999.00,      856
  49UF20130627,KS1306,  3935,  1,     10,  21969,2,20130706,0816,  9.0007, 136.9793, 3228,   1819.2,   2.4866,  34.6196,2,-999.0000,9,    108.2,2,   132.16,2,    38.29,2,     0.00,2,     2.73,2,   -999.0,9,   -999.0,9,-999.0000,9,  -999.00,      852
  49UF20130627,KS1306,  3935,  1,      9,  21968,2,20130706,0816,  9.0007, 136.9793, 3228,   2023.9,   2.2958,  34.6294,2,-999.0000,9,    112.8,2,   135.48,2,    38.24,2,     0.00,2,     2.71,2,   -999.0,9,   -999.0,9,-999.0000,9,  -999.00,      847
  49UF20130627,KS1306,  3935,  1,      8,  21982,2,20130706,0816,  9.0007, 136.9793, 3228,   2276.7,   2.0566,  34.6423,2,-999.0000,9,    119.8,2,   139.68,2,    37.73,2,     0.00,2,     2.67,2,   -999.0,9,   -999.0,9,-999.0000,9,  -999.00,      842
  49UF20130627,KS1306,  3935,  1,      7,  21966,2,20130706,0816,  9.0007, 136.9793, 3228,   2532.7,   1.8104,  34.6561,2,-999.0000,9,    129.5,2,   141.81,2,    37.16,2,     0.00,2,     2.62,2,   -999.0,9,   -999.0,9,-999.0000,9,  -999.00,      837
  49UF20130627,KS1306,  3935,  1,      6,  21965,2,20130706,0816,  9.0007, 136.9793, 3228,   2786.1,   1.7041,  34.6635,2,-999.0000,9,    136.4,6,   143.01,2,    36.78,6,     0.00,6,     2.59,6,   -999.0,9,   -999.0,9,-999.0000,9,  -999.00,      831
  49UF20130627,KS1306,  3935,  1,      5,  21964,2,20130706,0816,  9.0007, 136.9793, 3228,   3041.1,   1.6059,  34.6706,2,-999.0000,9,    142.3,2,   142.72,2,    36.38,2,     0.00,2,     2.56,2,   -999.0,9,   -999.0,9,-999.0000,9,  -999.00,      826
  49UF20130627,KS1306,  3935,  1,      4,  21963,2,20130706,0816,  9.0007, 136.9793, 3228,   3041.1,   1.6059,  34.6706,2,-999.0000,9,    142.5,2,   142.12,2,    36.31,2,     0.00,2,     2.55,2,   -999.0,9,   -999.0,9,-999.0000,9,  -999.00,      826
  49UF20130627,KS1306,  3935,  1,      3,  22079,4,20130706,0816,  9.0007, 136.9793, 3228,   3294.9,   1.5437,  34.6762,2,-999.0000,9,    100.4,4,   123.07,4,    38.58,4,     0.00,4,     2.75,4,   -999.0,9,   -999.0,9,-999.0000,9,  -999.00,      821
  49UF20130627,KS1306,  3935,  1,      2,  21961,2,20130706,0816,  9.0007, 136.9793, 3228,   3510.6,   1.5441,  34.6776,2,-999.0000,9,    149.7,2,   141.40,2,    36.01,2,     0.00,2,     2.51,2,   -999.0,9,   -999.0,9,-999.0000,9,  -999.00,      816
  49UF20130627,KS1306,  3935,  1,      1,  21960,2,20130706,0816,  9.0007, 136.9793, 3228,   3511.0,   1.5434,  34.6777,2,-999.0000,9,    149.9,2,   141.67,2,    35.92,2,     0.00,2,     2.52,2,   -999.0,9,   -999.0,9,-999.0000,9,  -999.00,      816