BOTTLE,20191021PRINUNIVRMK
EXPOCODE,SECT_ID,STNNBR,CASTNO,SAMPNO,BTLNBR,BTLNBR_FLAG_W,DATE,TIME,LATITUDE,LONGITUDE,DEPTH,CTDPRS,CTDTMP,CTDSAL,CTDSAL_FLAG_W,SALNTY,SALNTY_FLAG_W,OXYGEN,OXYGEN_FLAG_W,SILCAT,SILCAT_FLAG_W,NITRAT,NITRAT_FLAG_W,NITRIT,NITRIT_FLAG_W,PHSPHT,PHSPHT_FLAG_W,TCARBN,TCARBN_FLAG_W,ALKALI,ALKALI_FLAG_W,PH_TOT,PH_TOT_FLAG_W,PH_TMP,BTL_TIME
,,,,,,,,,,,METERS,DBAR,ITS-90,PSS-78,,PSS-78,,UMOL/KG,,UMOL/KG,,UMOL/KG,,UMOL/KG,,UMOL/KG,,UMOL/KG,,UMOL/KG,,,,DEG C,
  49UF20130627,KS1306,  3928,  1,     99,     99,2,20130703,2011, 15.9767, 136.9665, 5170,      0.0,  30.0363,  34.4356,2,  34.4362,4,    194.5,2,     0.78,2,     0.00,2,     0.00,2,     0.03,2,   1921.6,2,   2256.7,2,   8.1311,2,    25.00,     2159
  49UF20130627,KS1306,  3928,  1,     36,  21995,2,20130703,2011, 15.9767, 136.9665, 5170,     11.5,  30.0361,  34.4370,2,-999.0000,9,    194.5,2,     0.82,2,     0.00,2,     0.00,2,     0.03,2,   1921.4,2,   2260.9,2,   8.1272,2,    25.00,     2223
  49UF20130627,KS1306,  3928,  1,     35,  22087,2,20130703,2011, 15.9767, 136.9665, 5170,     27.6,  30.0604,  34.4510,2,-999.0000,9,    194.3,2,     0.78,2,     0.00,2,     0.00,2,     0.03,2,   1920.8,2,   2259.5,2,   8.1220,2,    25.00,     2221
  49UF20130627,KS1306,  3928,  1,     34,  21971,2,20130703,2011, 15.9767, 136.9665, 5170,     52.2,  28.9858,  34.4639,2,-999.0000,9,    205.4,2,     0.78,2,     0.00,2,     0.00,2,     0.01,2,   1928.3,2,   2274.7,2,   8.1209,2,    25.00,     2218
  49UF20130627,KS1306,  3928,  1,     33,  21992,2,20130703,2011, 15.9767, 136.9665, 5170,     77.5,  26.7812,  34.7268,2,-999.0000,9,    206.8,2,     0.81,2,     0.00,2,     0.00,2,     0.03,2,   1949.6,2,   2277.9,2,   8.1049,2,    25.00,     2217
  49UF20130627,KS1306,  3928,  1,     32,  21991,2,20130703,2011, 15.9767, 136.9665, 5170,    102.9,  25.7832,  34.7874,2,-999.0000,9,    204.5,2,     0.87,2,     0.00,2,     0.00,2,     0.03,2,   1960.7,2,   2280.6,2,   8.0930,2,    25.00,     2216
  49UF20130627,KS1306,  3928,  1,     31,  21990,2,20130703,2011, 15.9767, 136.9665, 5170,    128.4,  24.5799,  34.8340,2,-999.0000,9,    199.3,2,     0.96,2,    -0.01,2,     0.01,2,     0.03,2,   1976.5,2,   2286.0,2,   8.0732,2,    25.00,     2215
  49UF20130627,KS1306,  3928,  1,     30,  21989,2,20130703,2011, 15.9767, 136.9665, 5170,    152.2,  23.6240,  34.9742,2,-999.0000,9,    191.2,6,     1.17,6,     0.42,6,     0.05,6,     0.07,6,   2000.7,2,   2297.1,2,   8.0423,2,    25.00,     2214
  49UF20130627,KS1306,  3928,  1,     29,  21988,2,20130703,2011, 15.9767, 136.9665, 5170,    205.0,  20.0544,  34.9012,2,-999.0000,9,    189.3,2,     2.21,2,     2.44,2,     0.01,2,     0.19,2,   2033.1,2,   2300.3,2,   7.9783,2,    25.00,     2212
  49UF20130627,KS1306,  3928,  1,     28,  21987,2,20130703,2011, 15.9767, 136.9665, 5170,    255.1,  17.7853,  34.7418,2,-999.0000,9,    199.9,2,     3.50,2,     4.30,2,     0.01,2,     0.29,2,   2032.7,2,   2277.4,2,   7.9536,2,    25.00,     2210
  49UF20130627,KS1306,  3928,  1,     27,  21986,2,20130703,2011, 15.9767, 136.9665, 5170,    307.6,  16.1678,  34.6284,2,-999.0000,9,    193.0,2,     6.27,2,     7.30,2,     0.00,2,     0.51,2,   2056.6,2,   2273.7,2,   7.9054,2,    25.00,     2209
  49UF20130627,KS1306,  3928,  1,     26,  21985,2,20130703,2011, 15.9767, 136.9665, 5170,    407.2,  11.1956,  34.2897,2,-999.0000,9,    163.4,2,    21.30,2,    17.78,2,     0.00,2,     1.29,2,   2133.8,2,   2268.3,2,   7.7284,2,    25.00,     2206
  49UF20130627,KS1306,  3928,  1,     25,  21984,2,20130703,2011, 15.9767, 136.9665, 5170,    508.8,   8.4672,  34.2968,2,-999.0000,9,     93.9,6,    43.49,6,    29.61,6,     0.00,6,     2.17,6,   2220.4,2,   2291.2,2,   7.5438,2,    25.00,     2203
  49UF20130627,KS1306,  3928,  1,     24,  21983,2,20130703,2011, 15.9767, 136.9665, 5170,    605.7,   6.5901,  34.3000,2,-999.0000,9,     72.1,2,    64.96,2,    35.04,2,     0.00,2,     2.56,2,   2264.8,2,   2309.8,2,   7.4716,2,    25.00,     2200
  49UF20130627,KS1306,  3928,  1,     23,  22095,2,20130703,2011, 15.9767, 136.9665, 5170,    708.8,   5.7535,  34.4164,2,-999.0000,9,     68.0,2,    76.85,2,    37.28,2,     0.00,2,     2.71,2,   2284.5,2,   2336.5,2,   7.4648,2,    25.00,     2157
  49UF20130627,KS1306,  3928,  1,     22,  21981,2,20130703,2011, 15.9767, 136.9665, 5170,    808.1,   5.1714,  34.4736,2,-999.0000,9,     73.1,2,    85.13,2,    38.02,2,     0.00,2,     2.75,2,   -999.0,9,   -999.0,9,-999.0000,9,  -999.00,     2154
  49UF20130627,KS1306,  3928,  1,     21,  21980,2,20130703,2011, 15.9767, 136.9665, 5170,    808.1,   5.1714,  34.4736,2,-999.0000,9,     73.2,2,    85.10,2,    38.01,2,     0.00,2,     2.75,2,   2297.0,2,   2346.1,2,   7.4727,2,    25.00,     2154
  49UF20130627,KS1306,  3928,  1,     20,  21979,2,20130703,2011, 15.9767, 136.9665, 5170,    910.8,   4.5966,  34.5052,2,-999.0000,9,     76.9,2,    94.94,2,    38.36,2,     0.00,2,     2.77,2,   2306.5,2,   2362.2,2,   7.4770,2,    25.00,     2152
  49UF20130627,KS1306,  3928,  1,     19,  21978,2,20130703,2011, 15.9767, 136.9665, 5170,   1011.5,   4.2284,  34.5221,2,-999.0000,9,     80.8,2,   102.12,2,    38.67,2,     0.00,2,     2.78,2,   2312.9,6,   2362.9,6,   7.4790,2,    25.00,     2149
  49UF20130627,KS1306,  3928,  1,     18,  21977,2,20130703,2011, 15.9767, 136.9665, 5170,   1212.7,   3.4737,  34.5469,2,-999.0000,9,     89.8,2,   118.37,2,    38.59,2,     0.00,2,     2.76,2,   2324.0,2,   2378.9,2,   7.4919,6,    25.00,     2144
  49UF20130627,KS1306,  3928,  1,     17,  23679,2,20130703,2011, 15.9767, 136.9665, 5170,   1415.3,   2.9245,  34.5740,2,-999.0000,9,     96.9,2,   128.38,2,    38.54,2,     0.00,2,     2.76,2,   2333.0,2,   2395.3,2,   7.5017,2,    25.00,     2139
  49UF20130627,KS1306,  3928,  1,     16,  21975,2,20130703,2011, 15.9767, 136.9665, 5170,   1619.6,   2.5935,  34.5928,2,-999.0000,9,    100.5,2,   133.91,2,    38.83,2,     0.00,2,     2.76,2,   2337.7,2,   2402.8,2,   7.5016,2,    25.00,     2134
  49UF20130627,KS1306,  3928,  1,     15,  21974,2,20130703,2011, 15.9767, 136.9665, 5170,   1819.9,   2.2721,  34.6110,2,-999.0000,9,    106.9,2,   139.37,2,    38.66,2,     0.00,2,     2.74,2,   2339.1,2,   2401.1,2,   7.5095,2,    25.00,     2129
  49UF20130627,KS1306,  3928,  1,     14,  21973,2,20130703,2011, 15.9767, 136.9665, 5170,   2025.4,   2.0736,  34.6246,2,-999.0000,9,    113.1,2,   142.41,2,    38.30,2,     0.00,2,     2.71,2,   2341.5,2,   2404.8,2,   7.5200,2,    25.00,     2125
  49UF20130627,KS1306,  3928,  1,     13,  21972,2,20130703,2011, 15.9767, 136.9665, 5170,   2280.0,   1.8873,  34.6402,2,-999.0000,9,    121.4,6,   144.37,6,    37.86,6,     0.00,6,     2.67,6,   -999.0,9,   -999.0,9,-999.0000,9,  -999.00,     2119
  49UF20130627,KS1306,  3928,  1,     12,  21994,2,20130703,2011, 15.9767, 136.9665, 5170,   2533.5,   1.7652,  34.6528,2,-999.0000,9,    128.4,2,   145.03,2,    37.48,2,     0.00,2,     2.64,2,   2338.0,2,   2414.0,2,   7.5425,2,    25.00,     2113
  49UF20130627,KS1306,  3928,  1,     11,  21970,2,20130703,2011, 15.9767, 136.9665, 5170,   2785.7,   1.6892,  34.6611,2,-999.0000,9,    133.6,2,   145.22,2,    37.23,2,     0.00,2,     2.61,2,   -999.0,9,   -999.0,9,-999.0000,9,  -999.00,     2107
  49UF20130627,KS1306,  3928,  1,     10,  21969,2,20130703,2011, 15.9767, 136.9665, 5170,   3042.9,   1.6363,  34.6671,2,-999.0000,9,    138.9,2,   144.59,2,    36.89,2,     0.00,2,     2.59,2,   2330.9,6,   2412.1,6,   7.5586,2,    25.00,     2101
  49UF20130627,KS1306,  3928,  1,      9,  21968,2,20130703,2011, 15.9767, 136.9665, 5170,   3295.0,   1.5987,  34.6719,2,-999.0000,9,    142.9,2,   144.27,2,    36.47,2,     0.00,2,     2.57,2,   -999.0,9,   -999.0,9,-999.0000,9,  -999.00,     2056
  49UF20130627,KS1306,  3928,  1,      8,  21982,2,20130703,2011, 15.9767, 136.9665, 5170,   3552.1,   1.5676,  34.6759,2,-999.0000,9,    147.5,2,   143.28,2,    36.26,2,     0.00,2,     2.54,2,   2326.2,2,   2410.1,2,   7.5717,6,    25.00,     2050
  49UF20130627,KS1306,  3928,  1,      7,  21966,2,20130703,2011, 15.9767, 136.9665, 5170,   3807.5,   1.5385,  34.6800,2,-999.0000,9,    150.9,2,   142.07,2,    36.02,2,     0.00,2,     2.52,2,   -999.0,9,   -999.0,9,-999.0000,9,  -999.00,     2044
  49UF20130627,KS1306,  3928,  1,      6,  21965,2,20130703,2011, 15.9767, 136.9665, 5170,   4063.7,   1.5177,  34.6836,2,-999.0000,9,    156.2,2,   140.93,2,    35.68,2,     0.00,2,     2.50,2,   2318.6,2,   2415.2,2,   7.5815,2,    25.00,     2039
  49UF20130627,KS1306,  3928,  1,      5,  21964,2,20130703,2011, 15.9767, 136.9665, 5170,   4320.2,   1.5090,  34.6863,2,-999.0000,9,    158.9,2,   139.22,2,    35.45,2,     0.00,2,     2.48,2,   -999.0,9,   -999.0,9,-999.0000,9,  -999.00,     2033
  49UF20130627,KS1306,  3928,  1,      4,  21963,2,20130703,2011, 15.9767, 136.9665, 5170,   4577.5,   1.5237,  34.6874,2,-999.0000,9,    160.8,2,   139.31,2,    35.24,2,     0.00,2,     2.47,2,   2314.6,2,   2407.5,2,   7.5854,2,    25.00,     2027
  49UF20130627,KS1306,  3928,  1,      3,  22079,2,20130703,2011, 15.9767, 136.9665, 5170,   4833.9,   1.5473,  34.6880,2,-999.0000,9,    161.1,6,   138.96,6,    35.34,6,     0.00,6,     2.47,6,   -999.0,9,   -999.0,9,-999.0000,9,  -999.00,     2021
  49UF20130627,KS1306,  3928,  1,      2,  21961,2,20130703,2011, 15.9767, 136.9665, 5170,   5092.0,   1.5772,  34.6879,2,-999.0000,9,    161.7,2,   138.92,2,    35.36,2,     0.00,2,     2.46,2,   2314.4,2,   2405.7,2,   7.5893,2,    25.00,     2015
  49UF20130627,KS1306,  3928,  1,      1,  21960,2,20130703,2011, 15.9767, 136.9665, 5170,   5297.7,   1.6034,  34.6878,2,-999.0000,9,    162.0,2,   139.19,2,    35.42,2,     0.00,2,     2.47,2,   2312.7,2,   2407.7,2,   7.5855,2,    25.00,     2011
  49UF20130627,KS1306,  3929,  1,     99,     99,2,20130704,0453, 15.0005, 136.9843, 5480,      0.0,  30.1493,  34.5260,2,  34.5320,4,    194.6,2,     0.90,2,     0.12,2,     0.00,2,     0.05,2,   1925.3,2,   2265.2,2,   8.1243,2,    25.00,      640
  49UF20130627,KS1306,  3929,  1,     36,  21995,2,20130704,0453, 15.0005, 136.9843, 5480,     11.3,  30.0677,  34.5348,2,  34.5333,6,    194.9,2,     0.92,2,     0.00,2,     0.00,2,     0.03,2,   1922.6,2,   2263.3,2,   8.1258,2,    25.00,      707
  49UF20130627,KS1306,  3929,  1,     35,  22087,2,20130704,0453, 15.0005, 136.9843, 5480,     52.2,  28.5014,  34.5951,2,-999.0000,9,    211.1,2,     0.86,2,     0.02,2,     0.00,2,     0.01,2,   1929.6,2,   2270.0,2,   8.1217,2,    25.00,      705
  49UF20130627,KS1306,  3929,  1,     34,  21971,2,20130704,0453, 15.0005, 136.9843, 5480,     78.2,  27.3163,  34.6561,2,-999.0000,9,    211.4,2,     0.88,2,     0.01,2,     0.00,2,     0.01,2,   1938.6,2,   2273.3,2,   8.1152,6,    25.00,      703
  49UF20130627,KS1306,  3929,  1,     33,  21992,2,20130704,0453, 15.0005, 136.9843, 5480,    102.4,  26.3226,  34.8097,2,  34.8108,2,    202.6,2,     0.93,2,     0.01,2,     0.00,2,     0.03,2,   1959.1,6,   2284.7,6,   8.0953,2,    25.00,      700
  49UF20130627,KS1306,  3929,  1,     32,  21991,2,20130704,0453, 15.0005, 136.9843, 5480,    125.4,  25.4803,  34.8096,2,-999.0000,9,    204.0,2,     1.03,2,     0.01,2,     0.00,2,     0.02,2,   1962.5,2,   2280.9,2,   8.0844,2,    25.00,      659
  49UF20130627,KS1306,  3929,  1,     31,  21990,2,20130704,0453, 15.0005, 136.9843, 5480,    151.4,  24.5236,  34.8652,2,-999.0000,9,    200.8,2,     1.07,2,    -0.01,2,     0.01,2,     0.02,2,   1977.1,2,   2286.5,2,   8.0717,2,    25.00,      657
  49UF20130627,KS1306,  3929,  1,     30,  21989,2,20130704,0453, 15.0005, 136.9843, 5480,    202.5,  21.5443,  34.9780,2,  34.9667,4,    187.1,6,     1.89,6,     1.71,6,     0.02,6,     0.15,6,   2025.8,2,   2292.6,2,   7.9946,2,    25.00,      655
  49UF20130627,KS1306,  3929,  1,     29,  21988,2,20130704,0453, 15.0005, 136.9843, 5480,    251.6,  18.0084,  34.7882,2,-999.0000,9,    183.7,2,     4.51,2,     5.49,2,     0.00,2,     0.42,2,   2058.9,2,   2285.3,2,   7.9163,2,    25.00,      654
  49UF20130627,KS1306,  3929,  1,     28,  21987,2,20130704,0453, 15.0005, 136.9843, 5480,    303.0,  14.8662,  34.5456,2,-999.0000,9,    161.4,2,    10.88,2,    11.67,2,     0.00,2,     0.90,2,   2104.3,2,   2276.9,2,   7.8071,2,    25.00,      652
  49UF20130627,KS1306,  3929,  1,     27,  21986,2,20130704,0453, 15.0005, 136.9843, 5480,    403.6,   9.9192,  34.2403,2,  34.2441,4,    144.2,6,    28.53,6,    21.65,6,     0.00,6,     1.59,6,   2161.5,2,   2270.4,2,   7.6641,2,    25.00,      649
  49UF20130627,KS1306,  3929,  1,     26,  21985,2,20130704,0453, 15.0005, 136.9843, 5480,    504.3,   8.0116,  34.3302,2,-999.0000,9,     82.5,2,    48.29,2,    31.73,2,     0.00,2,     2.31,2,   2237.5,2,   2299.6,2,   7.5196,2,    25.00,      646
  49UF20130627,KS1306,  3929,  1,     25,  21984,2,20130704,0453, 15.0005, 136.9843, 5480,    606.5,   6.8660,  34.4180,2,  34.4167,2,     73.7,2,    60.19,2,    35.12,2,     0.00,2,     2.53,2,   2262.8,2,   2315.5,2,   7.4914,2,    25.00,      643
  49UF20130627,KS1306,  3929,  1,     24,  21983,2,20130704,0453, 15.0005, 136.9843, 5480,    707.3,   5.7336,  34.4355,2,-999.0000,9,     69.7,2,    76.09,2,    37.41,2,     0.00,2,     2.70,2,   2284.2,2,   2331.2,2,   7.4696,2,    25.00,      640
  49UF20130627,KS1306,  3929,  1,     23,  22095,2,20130704,0453, 15.0005, 136.9843, 5480,    807.7,   5.0611,  34.4886,2,  34.4876,2,     74.1,2,    85.90,2,    38.21,2,     0.00,2,     2.74,2,   2298.5,2,   2345.5,2,   7.4747,2,    25.00,      637
  49UF20130627,KS1306,  3929,  1,     22,  21981,2,20130704,0453, 15.0005, 136.9843, 5480,    909.2,   4.6489,  34.5207,2,-999.0000,9,     82.5,2,    91.96,2,    38.16,2,     0.00,2,     2.75,2,   2303.0,2,   2355.9,2,   7.4867,2,    25.00,      634
  49UF20130627,KS1306,  3929,  1,     21,  21980,2,20130704,0453, 15.0005, 136.9843, 5480,   1011.3,   4.2341,  34.5400,2,  34.5399,2,     86.2,2,    99.63,2,    38.46,2,     0.00,2,     2.76,2,   2307.0,2,   2362.3,2,   7.4911,2,    25.00,      632
  49UF20130627,KS1306,  3929,  1,     20,  21979,2,20130704,0453, 15.0005, 136.9843, 5480,   1211.4,   3.5891,  34.5612,2,  34.5602,2,     91.1,2,   112.89,2,    38.71,2,     0.00,2,     2.77,2,   2322.0,2,   2378.3,2,   7.4948,2,    25.00,      627
  49UF20130627,KS1306,  3929,  1,     19,  21978,2,20130704,0453, 15.0005, 136.9843, 5480,   1413.6,   3.0807,  34.5761,2,  34.5751,2,     95.4,2,   123.96,2,    38.72,2,     0.00,2,     2.76,2,   2331.6,2,   2390.9,2,   7.4989,2,    25.00,      622
  49UF20130627,KS1306,  3929,  1,     18,  21977,2,20130704,0453, 15.0005, 136.9843, 5480,   1616.7,   2.6945,  34.5919,2,  34.5913,6,    100.6,2,   131.42,2,    38.75,2,     0.00,2,     2.75,2,   2337.3,2,   2396.5,2,   7.5039,2,    25.00,      618
  49UF20130627,KS1306,  3929,  1,     17,  23679,2,20130704,0453, 15.0005, 136.9843, 5480,   1818.7,   2.3912,  34.6085,2,  34.6079,2,    106.3,2,   136.57,2,    38.67,2,     0.00,2,     2.74,2,   2339.7,2,   2410.6,2,   7.5099,2,    25.00,      613
  49UF20130627,KS1306,  3929,  1,     16,  21975,2,20130704,0453, 15.0005, 136.9843, 5480,   2022.8,   2.1396,  34.6251,2,  34.6247,2,    113.0,6,   140.90,6,    38.39,6,     0.00,6,     2.71,6,   2341.4,2,   2406.4,2,   7.5204,2,    25.00,      608
  49UF20130627,KS1306,  3929,  1,     15,  21974,2,20130704,0453, 15.0005, 136.9843, 5480,   2278.6,   1.9422,  34.6396,2,  34.6400,2,    120.3,2,   143.46,2,    38.02,2,     0.00,2,     2.67,2,   2343.7,2,   2414.7,2,   7.5300,2,    25.00,      602
  49UF20130627,KS1306,  3929,  1,     14,  21973,2,20130704,0453, 15.0005, 136.9843, 5480,   2529.8,   1.8094,  34.6507,2,  34.6508,2,    126.8,2,   145.08,2,    37.58,2,     0.00,2,     2.65,2,   -999.0,9,   -999.0,9,-999.0000,9,  -999.00,      557
  49UF20130627,KS1306,  3929,  1,     13,  21972,2,20130704,0453, 15.0005, 136.9843, 5480,   2785.2,   1.7244,  34.6590,2,  34.6595,2,    132.0,2,   145.27,2,    37.34,2,     0.00,2,     2.63,2,   2339.8,2,   2410.8,2,   7.5483,2,    25.00,      551
  49UF20130627,KS1306,  3929,  1,     12,  21994,2,20130704,0453, 15.0005, 136.9843, 5480,   3041.1,   1.6659,  34.6653,2,  34.6662,6,    136.8,2,   145.53,2,    37.07,2,     0.00,2,     2.59,2,   -999.0,9,   -999.0,9,-999.0000,9,  -999.00,      545
  49UF20130627,KS1306,  3929,  1,     11,  21970,2,20130704,0453, 15.0005, 136.9843, 5480,   3296.0,   1.6155,  34.6708,2,  34.6717,2,    142.1,2,   144.65,2,    36.71,2,     0.00,2,     2.57,2,   2332.6,2,   2416.4,2,   7.5604,2,    25.00,      539
  49UF20130627,KS1306,  3929,  1,     10,  21969,2,20130704,0453, 15.0005, 136.9843, 5480,   3552.9,   1.5842,  34.6747,2,  34.6744,2,    146.2,2,   143.45,2,    36.33,2,     0.00,2,     2.55,2,   -999.0,9,   -999.0,9,-999.0000,9,  -999.00,      534
  49UF20130627,KS1306,  3929,  1,      9,  21968,2,20130704,0453, 15.0005, 136.9843, 5480,   3806.1,   1.5388,  34.6799,2,  34.6788,2,    152.1,2,   142.41,2,    36.10,2,     0.00,2,     2.52,2,   2323.9,2,   2412.1,2,   7.5769,2,    25.00,      528
  49UF20130627,KS1306,  3929,  1,      8,  21982,2,20130704,0453, 15.0005, 136.9843, 5480,   4063.4,   1.5172,  34.6834,2,  34.6833,2,    156.4,2,   141.15,2,    35.71,2,     0.00,2,     2.50,2,   -999.0,9,   -999.0,9,-999.0000,9,  -999.00,      523
  49UF20130627,KS1306,  3929,  1,      7,  21966,2,20130704,0453, 15.0005, 136.9843, 5480,   4318.1,   1.5129,  34.6859,2,  34.6851,2,    159.3,2,   139.96,2,    35.56,2,     0.00,2,     2.48,2,   2318.1,2,   2409.5,2,   7.5866,2,    25.00,      517
  49UF20130627,KS1306,  3929,  1,      6,  21965,2,20130704,0453, 15.0005, 136.9843, 5480,   4575.8,   1.5219,  34.6875,2,  34.6881,2,    161.5,2,   138.81,2,    35.26,2,     0.00,2,     2.47,2,   -999.0,9,   -999.0,9,-999.0000,9,  -999.00,      512
  49UF20130627,KS1306,  3929,  1,      5,  21964,2,20130704,0453, 15.0005, 136.9843, 5480,   4832.0,   1.5450,  34.6881,2,  34.6881,2,    162.4,2,   138.77,2,    35.27,2,     0.00,2,     2.46,2,   2315.0,2,   2409.6,2,   7.5893,6,    25.00,      506
  49UF20130627,KS1306,  3929,  1,      4,  21963,2,20130704,0453, 15.0005, 136.9843, 5480,   5089.3,   1.5761,  34.6878,2,  34.6878,6,    162.4,2,   138.59,2,    35.33,2,     0.00,2,     2.46,2,   -999.0,9,   -999.0,9,-999.0000,9,  -999.00,      501
  49UF20130627,KS1306,  3929,  1,      3,  22079,2,20130704,0453, 15.0005, 136.9843, 5480,   5346.3,   1.6085,  34.6879,2,  34.6928,4,    162.3,2,   138.49,2,    35.38,2,     0.00,2,     2.46,2,   2315.0,6,   2406.9,6,   7.5905,2,    25.00,      455
  49UF20130627,KS1306,  3929,  1,      2,  21961,2,20130704,0453, 15.0005, 136.9843, 5480,   5438.5,   1.6208,  34.6880,2,  34.6887,6,    162.7,6,   138.58,2,    35.31,6,     0.00,6,     2.46,6,   2316.8,2,   2408.0,2,   7.5877,2,    25.00,      453