BOTTLE,20191021PRINUNIVRMK
EXPOCODE,SECT_ID,STNNBR,CASTNO,SAMPNO,BTLNBR,BTLNBR_FLAG_W,DATE,TIME,LATITUDE,LONGITUDE,DEPTH,CTDPRS,CTDTMP,CTDSAL,CTDSAL_FLAG_W,SALNTY,SALNTY_FLAG_W,OXYGEN,OXYGEN_FLAG_W,SILCAT,SILCAT_FLAG_W,NITRAT,NITRAT_FLAG_W,NITRIT,NITRIT_FLAG_W,PHSPHT,PHSPHT_FLAG_W,TCARBN,TCARBN_FLAG_W,ALKALI,ALKALI_FLAG_W,PH_TOT,PH_TOT_FLAG_W,PH_TMP,BTL_TIME
,,,,,,,,,,,METERS,DBAR,ITS-90,PSS-78,,PSS-78,,UMOL/KG,,UMOL/KG,,UMOL/KG,,UMOL/KG,,UMOL/KG,,UMOL/KG,,UMOL/KG,,,,DEG C,
  49UF20130627,KS1306,  3984,  1,     99,     99,2,20130815,0322, 19.9980, 164.9945, 5333,      0.0,  29.8665,  35.1628,2,  35.1582,2,    195.2,2,     0.79,2,     0.02,2,     0.00,2,     0.01,2,   1958.1,2,   2305.5,2,   8.1151,2,    25.00,      510
  49UF20130627,KS1306,  3984,  1,     36,  21995,2,20130815,0322, 19.9980, 164.9945, 5333,     10.5,  29.4611,  35.1507,2,  35.1496,6,    196.1,2,     0.77,2,     0.04,2,     0.00,2,     0.01,2,   1957.4,2,   2302.6,2,   8.1141,2,    25.00,      540
  49UF20130627,KS1306,  3984,  1,     35,  22087,2,20130815,0322, 19.9980, 164.9945, 5333,     26.4,  29.4077,  35.1499,2,-999.0000,9,    196.4,2,     0.78,2,     0.02,2,     0.00,2,     0.01,2,   1955.4,2,   2303.0,2,   8.1137,2,    25.00,      539
  49UF20130627,KS1306,  3984,  1,     34,  21971,2,20130815,0322, 19.9980, 164.9945, 5333,     49.9,  29.2960,  35.1946,2,-999.0000,9,    198.2,2,     0.78,2,     0.00,2,     0.00,2,     0.03,2,   1960.9,2,   2309.0,2,   8.1107,2,    25.00,      536
  49UF20130627,KS1306,  3984,  1,     33,  21992,2,20130815,0322, 19.9980, 164.9945, 5333,     75.2,  26.5117,  34.9574,2,-999.0000,9,    209.6,2,     0.86,2,     0.00,2,     0.00,2,     0.01,2,   1954.5,2,   2292.6,2,   8.1006,2,    25.00,      535
  49UF20130627,KS1306,  3984,  1,     32,  21991,2,20130815,0322, 19.9980, 164.9945, 5333,    100.3,  25.4756,  34.9858,2,  34.9864,6,    205.1,2,     1.01,2,     0.00,2,     0.00,2,     0.01,2,   1970.6,2,   2292.6,2,   8.0806,2,    25.00,      533
  49UF20130627,KS1306,  3984,  1,     31,  21990,2,20130815,0322, 19.9980, 164.9945, 5333,    125.7,  24.6246,  35.1849,2,-999.0000,9,    206.8,2,     1.07,2,     0.02,2,     0.00,2,     0.02,2,   1993.0,2,   2306.9,2,   8.0650,2,    25.00,      532
  49UF20130627,KS1306,  3984,  1,     30,  21989,2,20130815,0322, 19.9980, 164.9945, 5333,    149.1,  23.0427,  35.1619,2,-999.0000,9,    196.7,2,     1.36,2,     0.12,2,     0.17,2,     0.06,2,   2014.4,2,   2307.4,2,   8.0262,2,    25.00,      531
  49UF20130627,KS1306,  3984,  1,     29,  21988,2,20130815,0322, 19.9980, 164.9945, 5333,    201.1,  19.6773,  34.9479,2,  34.9424,4,    184.2,6,     2.76,6,     3.14,6,     0.01,6,     0.26,6,   2051.3,2,   2293.9,2,   7.9424,2,    25.00,      528
  49UF20130627,KS1306,  3984,  1,     28,  21987,2,20130815,0322, 19.9980, 164.9945, 5333,    252.1,  17.2052,  34.7192,2,-999.0000,9,    199.4,2,     4.34,2,     5.22,2,     0.01,2,     0.37,2,   2047.7,2,   2277.0,2,   7.9249,2,    25.00,      525
  49UF20130627,KS1306,  3984,  1,     27,  21986,2,20130815,0322, 19.9980, 164.9945, 5333,    301.3,  15.6068,  34.5802,2,-999.0000,9,    200.4,2,     6.70,2,     7.32,2,     0.01,2,     0.52,2,   2060.9,2,   2272.4,2,   7.8903,2,    25.00,      523
  49UF20130627,KS1306,  3984,  1,     26,  21985,2,20130815,0322, 19.9980, 164.9945, 5333,    403.0,  12.1783,  34.3140,2,  34.3125,2,    196.0,2,    14.49,2,    13.26,2,     0.00,2,     0.94,2,   2096.7,2,   2264.7,2,   7.7927,2,    25.00,      520
  49UF20130627,KS1306,  3984,  1,     25,  21984,2,20130815,0322, 19.9980, 164.9945, 5333,    504.3,   9.3310,  34.1704,2,-999.0000,9,    148.2,6,    31.13,6,    22.77,6,     0.00,6,     1.65,6,   2167.2,2,   2270.6,2,   7.6400,2,    25.00,      517
  49UF20130627,KS1306,  3984,  1,     24,  21983,2,20130815,0322, 19.9980, 164.9945, 5333,    603.9,   6.6570,  34.1483,2,  34.1485,6,     87.6,2,    60.08,2,    33.26,2,     0.00,2,     2.42,2,   2252.9,2,   2293.7,2,   7.4753,2,    25.00,      515
  49UF20130627,KS1306,  3984,  1,     23,  22095,2,20130815,0322, 19.9980, 164.9945, 5333,    703.0,   5.5847,  34.2404,2,-999.0000,9,     56.9,2,    79.37,2,    38.00,2,     0.00,2,     2.77,2,   2294.3,2,   2320.2,2,   7.4142,2,    25.00,      512
  49UF20130627,KS1306,  3984,  1,     22,  21981,2,20130815,0322, 19.9980, 164.9945, 5333,    807.9,   4.8975,  34.3667,2,  34.3659,2,     53.6,2,    92.38,2,    39.59,2,     0.00,2,     2.87,2,   2314.1,2,   2340.4,2,   7.4118,2,    25.00,      509
  49UF20130627,KS1306,  3984,  1,     21,  21980,2,20130815,0322, 19.9980, 164.9945, 5333,    908.0,   4.3752,  34.4425,2,-999.0000,9,     59.5,2,   102.36,2,    40.17,2,     0.00,2,     2.89,2,   2322.8,2,   2357.1,2,   7.4250,2,    25.00,      505
  49UF20130627,KS1306,  3984,  1,     20,  21979,2,20130815,0322, 19.9980, 164.9945, 5333,   1008.7,   4.0159,  34.4811,2,  34.4823,2,     64.5,2,   109.42,2,    40.17,2,     0.00,2,     2.88,2,   -999.0,5,   -999.0,5,   7.4368,2,    25.00,      502
  49UF20130627,KS1306,  3984,  1,     19,  21978,2,20130815,0322, 19.9980, 164.9945, 5333,   1211.2,   3.2955,  34.5386,2,  34.5390,2,     76.2,2,   123.24,2,    39.89,2,     0.00,2,     2.86,2,   2339.8,2,   2380.6,2,   7.4532,2,    25.00,      458
  49UF20130627,KS1306,  3984,  1,     18,  21977,2,20130815,0322, 19.9980, 164.9945, 5333,   1414.1,   2.8357,  34.5616,2,  34.5621,2,     81.2,2,   132.83,2,    40.16,2,     0.00,2,     2.85,2,   2347.9,2,   2393.2,2,   7.4609,2,    25.00,      453
  49UF20130627,KS1306,  3984,  1,     17,  23679,2,20130815,0322, 19.9980, 164.9945, 5333,   1615.3,   2.5003,  34.5845,2,  34.5859,6,     89.0,2,   139.15,2,    39.81,2,     0.00,2,     2.83,2,   2350.7,2,   2399.5,2,   7.4722,2,    25.00,      449
  49UF20130627,KS1306,  3984,  1,     16,  21975,2,20130815,0322, 19.9980, 164.9945, 5333,   1818.5,   2.2047,  34.6071,2,  34.6077,2,     97.7,2,   144.44,2,    39.44,2,     0.00,2,     2.79,2,   2350.4,2,   2406.2,2,   7.4868,2,    25.00,      444
  49UF20130627,KS1306,  3984,  1,     15,  21974,2,20130815,0322, 19.9980, 164.9945, 5333,   2021.6,   2.0273,  34.6227,2,  34.6230,2,    105.2,2,   147.32,2,    39.02,2,     0.00,2,     2.75,2,   2350.0,2,   2411.9,2,   7.4992,2,    25.00,      439
  49UF20130627,KS1306,  3984,  1,     14,  21973,2,20130815,0322, 19.9980, 164.9945, 5333,   2275.6,   1.8705,  34.6380,2,  34.6398,2,    113.0,2,   149.43,2,    38.47,2,     0.00,2,     2.72,2,   2348.0,2,   2415.1,2,   7.5124,6,    25.00,      434
  49UF20130627,KS1306,  3984,  1,     13,  21972,2,20130815,0322, 19.9980, 164.9945, 5333,   2529.2,   1.7566,  34.6496,2,  34.6506,2,    120.6,2,   151.31,2,    38.28,2,     0.00,2,     2.68,2,   -999.0,9,   -999.0,9,-999.0000,9,  -999.00,      424
  49UF20130627,KS1306,  3984,  1,     12,  21994,2,20130815,0322, 19.9980, 164.9945, 5333,   2785.4,   1.6754,  34.6580,2,  34.6580,2,    126.1,2,   151.71,2,    37.93,2,     0.00,2,     2.65,2,   2344.5,2,   2418.7,2,   7.5330,2,    25.00,      419
  49UF20130627,KS1306,  3984,  1,     11,  21970,2,20130815,0322, 19.9980, 164.9945, 5333,   3040.9,   1.6056,  34.6656,2,  34.6662,6,    132.1,2,   151.80,2,    37.48,2,     0.00,2,     2.62,2,   -999.0,9,   -999.0,9,-999.0000,9,  -999.00,      413
  49UF20130627,KS1306,  3984,  1,     10,  21969,2,20130815,0322, 19.9980, 164.9945, 5333,   3296.3,   1.5552,  34.6718,2,  34.6715,2,    138.6,2,   150.83,2,    36.99,2,     0.00,2,     2.58,2,   2335.1,6,   2418.0,6,   7.5527,2,    25.00,      408
  49UF20130627,KS1306,  3984,  1,      9,  21968,2,20130815,0322, 19.9980, 164.9945, 5333,   3553.1,   1.5108,  34.6773,2,  34.6770,2,    144.5,2,   149.34,2,    36.65,2,     0.00,2,     2.55,2,   -999.0,9,   -999.0,9,-999.0000,9,  -999.00,      402
  49UF20130627,KS1306,  3984,  1,      8,  21982,2,20130815,0322, 19.9980, 164.9945, 5333,   3805.6,   1.4850,  34.6815,2,  34.6806,2,    149.9,6,   147.07,6,    36.34,6,     0.00,6,     2.53,6,   2327.5,2,   2413.2,2,   7.5709,2,    25.00,      357
  49UF20130627,KS1306,  3984,  1,      7,  21966,2,20130815,0322, 19.9980, 164.9945, 5333,   4062.0,   1.4542,  34.6859,2,  34.6849,2,    155.6,2,   144.12,2,    35.91,2,     0.00,2,     2.49,2,   -999.0,9,   -999.0,9,-999.0000,9,  -999.00,      352
  49UF20130627,KS1306,  3984,  1,      6,  21965,2,20130815,0322, 19.9980, 164.9945, 5333,   4318.5,   1.4426,  34.6890,2,  34.6886,2,    161.4,2,   142.09,2,    35.40,2,     0.00,2,     2.46,2,   2316.2,2,   2410.1,2,   7.5844,2,    25.00,      346
  49UF20130627,KS1306,  3984,  1,      5,  21964,2,20130815,0322, 19.9980, 164.9945, 5333,   4575.5,   1.4303,  34.6922,2,  34.6921,6,    166.5,2,   139.03,2,    35.10,2,     0.00,2,     2.43,2,   -999.0,9,   -999.0,9,-999.0000,9,  -999.00,      341
  49UF20130627,KS1306,  3984,  1,      4,  21963,2,20130815,0322, 19.9980, 164.9945, 5333,   4833.4,   1.4252,  34.6948,2,  34.6944,2,    171.6,2,   136.03,2,    34.77,2,     0.00,2,     2.40,2,   2306.5,2,   2400.9,2,   7.5940,2,    25.00,      335
  49UF20130627,KS1306,  3984,  1,      3,  22079,2,20130815,0322, 19.9980, 164.9945, 5333,   5089.5,   1.4279,  34.6967,2,  34.6957,2,    174.8,6,   133.96,6,    34.52,6,     0.00,6,     2.39,6,   -999.0,9,   -999.0,9,-999.0000,9,  -999.00,      330
  49UF20130627,KS1306,  3984,  1,      2,  21961,2,20130815,0322, 19.9980, 164.9945, 5333,   5348.9,   1.4434,  34.6978,2,  34.6980,2,    178.2,2,   132.22,2,    34.31,2,     0.00,2,     2.37,2,   2299.6,2,   2403.1,3,   7.6006,2,    25.00,      324
  49UF20130627,KS1306,  3984,  1,      1,  21960,2,20130815,0322, 19.9980, 164.9945, 5333,   5436.8,   1.4495,  34.6981,2,  34.6985,2,    178.7,2,   132.01,2,    34.28,2,     0.00,2,     2.38,2,   2300.7,2,   2397.2,2,   7.6009,2,    25.00,      322
  49UF20130627,KS1306,  3985,  1,     99,     99,2,20130815,1316, 20.9988, 164.9990, 5013,      0.0,  29.3841,  35.1653,2,-999.0000,9,    195.4,2,     0.83,2,     0.05,2,     0.00,2,     0.01,2,   -999.0,9,   -999.0,9,-999.0000,9,  -999.00,     1402
  49UF20130627,KS1306,  3985,  1,     33,  21992,2,20130815,1316, 20.9988, 164.9990, 5013,     11.3,  29.3840,  35.1597,2,-999.0000,9,    195.0,2,     0.85,2,     0.00,2,     0.00,2,     0.01,2,   -999.0,9,   -999.0,9,-999.0000,9,  -999.00,     1422
  49UF20130627,KS1306,  3985,  1,     32,  21991,2,20130815,1316, 20.9988, 164.9990, 5013,     26.6,  29.3482,  35.1622,2,-999.0000,9,    195.8,2,     0.86,2,     0.04,2,     0.00,2,     0.01,2,   -999.0,9,   -999.0,9,-999.0000,9,  -999.00,     1421
  49UF20130627,KS1306,  3985,  1,     31,  21990,2,20130815,1316, 20.9988, 164.9990, 5013,     52.4,  27.2613,  35.4141,2,-999.0000,9,    217.5,2,     0.94,2,     0.01,2,     0.00,2,     0.01,2,   -999.0,9,   -999.0,9,-999.0000,9,  -999.00,     1420
  49UF20130627,KS1306,  3985,  1,     30,  21989,2,20130815,1316, 20.9988, 164.9990, 5013,     77.1,  24.7930,  35.2313,2,-999.0000,9,    222.2,2,     1.09,2,     0.00,2,     0.00,2,     0.01,2,   -999.0,9,   -999.0,9,-999.0000,9,  -999.00,     1419
  49UF20130627,KS1306,  3985,  1,     29,  21988,2,20130815,1316, 20.9988, 164.9990, 5013,    103.6,  23.5608,  35.2345,2,-999.0000,9,    212.9,2,     1.27,2,     0.00,2,     0.00,2,     0.01,2,   -999.0,9,   -999.0,9,-999.0000,9,  -999.00,     1418
  49UF20130627,KS1306,  3985,  1,     28,  21987,2,20130815,1316, 20.9988, 164.9990, 5013,    127.8,  21.8591,  35.1407,2,-999.0000,9,    206.1,2,     1.59,2,     0.04,2,     0.01,2,     0.03,2,   -999.0,9,   -999.0,9,-999.0000,9,  -999.00,     1417
  49UF20130627,KS1306,  3985,  1,     24,  21983,2,20130815,1316, 20.9988, 164.9990, 5013,    152.8,  20.1234,  34.9629,2,-999.0000,9,    200.7,2,     2.20,2,     0.98,2,     0.06,2,     0.11,2,   -999.0,9,   -999.0,9,-999.0000,9,  -999.00,     1413
  49UF20130627,KS1306,  3985,  1,     23,  22095,2,20130815,1316, 20.9988, 164.9990, 5013,    204.2,  17.6194,  34.7384,2,-999.0000,9,    204.0,6,     3.62,6,     3.98,6,     0.01,6,     0.29,6,   -999.0,9,   -999.0,9,-999.0000,9,  -999.00,     1409
  49UF20130627,KS1306,  3985,  1,     22,  21981,2,20130815,1316, 20.9988, 164.9990, 5013,    253.3,  16.4113,  34.6467,2,-999.0000,9,    202.0,2,     5.34,2,     6.03,2,     0.00,2,     0.42,2,   -999.0,9,   -999.0,9,-999.0000,9,  -999.00,     1407
  49UF20130627,KS1306,  3985,  1,     21,  21980,2,20130815,1316, 20.9988, 164.9990, 5013,    305.5,  14.9634,  34.5271,2,-999.0000,9,    197.5,2,     7.98,2,     8.31,2,     0.00,2,     0.60,2,   -999.0,9,   -999.0,9,-999.0000,9,  -999.00,     1406
  49UF20130627,KS1306,  3985,  1,     20,  21979,2,20130815,1316, 20.9988, 164.9990, 5013,    405.2,  11.6263,  34.2969,2,-999.0000,9,    190.9,2,    17.87,2,    14.70,2,     0.00,2,     1.05,2,   -999.0,9,   -999.0,9,-999.0000,9,  -999.00,     1403
  49UF20130627,KS1306,  3985,  1,     19,  21978,2,20130815,1316, 20.9988, 164.9990, 5013,    405.2,  11.6263,  34.2969,2,-999.0000,9,    191.3,2,    17.84,2,    14.64,2,     0.00,2,     1.05,2,   -999.0,9,   -999.0,9,-999.0000,9,  -999.00,     1403
  49UF20130627,KS1306,  3985,  1,     18,  21977,2,20130815,1316, 20.9988, 164.9990, 5013,    505.3,   8.3814,  34.1111,2,-999.0000,9,    149.7,6,    37.59,6,    24.42,6,     0.00,6,     1.76,6,   -999.0,9,   -999.0,9,-999.0000,9,  -999.00,     1400
  49UF20130627,KS1306,  3985,  1,     17,  23679,2,20130815,1316, 20.9988, 164.9990, 5013,    605.7,   6.3981,  34.1032,2,-999.0000,9,     94.3,2,    61.84,2,    32.98,2,     0.00,2,     2.39,2,   -999.0,9,   -999.0,9,-999.0000,9,  -999.00,     1358
  49UF20130627,KS1306,  3985,  1,     16,  21975,2,20130815,1316, 20.9988, 164.9990, 5013,    707.0,   5.3355,  34.2170,2,-999.0000,9,     53.7,2,    82.56,2,    38.35,2,     0.00,2,     2.80,2,   -999.0,9,   -999.0,9,-999.0000,9,  -999.00,     1356
  49UF20130627,KS1306,  3985,  1,     12,  21994,2,20130815,1316, 20.9988, 164.9990, 5013,    808.3,   4.7173,  34.3393,2,-999.0000,9,     46.3,6,    95.61,6,    40.40,6,     0.00,6,     2.94,6,   -999.0,9,   -999.0,9,-999.0000,9,  -999.00,     1350
  49UF20130627,KS1306,  3985,  1,     11,  21970,2,20130815,1316, 20.9988, 164.9990, 5013,    910.5,   4.2344,  34.4285,2,-999.0000,9,     50.7,2,   105.15,2,    40.81,2,     0.00,2,     2.95,2,   -999.0,9,   -999.0,9,-999.0000,9,  -999.00,     1347
  49UF20130627,KS1306,  3985,  1,     10,  21969,2,20130815,1316, 20.9988, 164.9990, 5013,    910.5,   4.2344,  34.4285,2,-999.0000,9,     50.7,2,   105.41,2,    40.79,2,     0.00,2,     2.95,2,   -999.0,9,   -999.0,9,-999.0000,9,  -999.00,     1347
  49UF20130627,KS1306,  3985,  1,      9,  21968,2,20130815,1316, 20.9988, 164.9990, 5013,   1011.1,   3.8889,  34.4780,2,-999.0000,9,     59.0,2,   112.03,2,    40.64,2,     0.00,2,     2.93,2,   -999.0,9,   -999.0,9,-999.0000,9,  -999.00,     1345
  49UF20130627,KS1306,  3985,  1,      8,  21982,2,20130815,1316, 20.9988, 164.9990, 5013,   1212.1,   3.3325,  34.5329,2,-999.0000,9,     72.9,2,   122.36,2,    40.24,2,     0.00,2,     2.88,2,   -999.0,9,   -999.0,9,-999.0000,9,  -999.00,     1340
  49UF20130627,KS1306,  3985,  1,      7,  21966,2,20130815,1316, 20.9988, 164.9990, 5013,   1416.3,   2.9338,  34.5556,2,-999.0000,9,     78.4,2,   130.99,2,    40.20,2,     0.00,2,     2.87,2,   -999.0,9,   -999.0,9,-999.0000,9,  -999.00,     1333
  49UF20130627,KS1306,  3985,  1,      3,  22079,2,20130815,1316, 20.9988, 164.9990, 5013,   1617.8,   2.5578,  34.5799,2,-999.0000,9,     86.4,2,   138.25,2,    39.88,2,     0.00,2,     2.84,2,   -999.0,9,   -999.0,9,-999.0000,9,  -999.00,     1328
  49UF20130627,KS1306,  3985,  1,      2,  21961,2,20130815,1316, 20.9988, 164.9990, 5013,   1819.5,   2.2692,  34.6036,2,-999.0000,9,     95.9,2,   143.77,2,    39.39,2,     0.00,2,     2.80,2,   -999.0,9,   -999.0,9,-999.0000,9,  -999.00,     1324
  49UF20130627,KS1306,  3985,  1,      1,  21960,2,20130815,1316, 20.9988, 164.9990, 5013,   2023.8,   2.0704,  34.6219,2,-999.0000,9,    103.8,2,   146.89,2,    39.02,2,     0.00,2,     2.76,2,   -999.0,9,   -999.0,9,-999.0000,9,  -999.00,     1316