BOTTLE,20191021PRINUNIVRMK
EXPOCODE,SECT_ID,STNNBR,CASTNO,SAMPNO,BTLNBR,BTLNBR_FLAG_W,DATE,TIME,LATITUDE,LONGITUDE,DEPTH,CTDPRS,CTDTMP,CTDSAL,CTDSAL_FLAG_W,SALNTY,SALNTY_FLAG_W,OXYGEN,OXYGEN_FLAG_W,SILCAT,SILCAT_FLAG_W,NITRAT,NITRAT_FLAG_W,NITRIT,NITRIT_FLAG_W,PHSPHT,PHSPHT_FLAG_W,TCARBN,TCARBN_FLAG_W,ALKALI,ALKALI_FLAG_W,PH_TOT,PH_TOT_FLAG_W,PH_TMP,BTL_TIME
,,,,,,,,,,,METERS,DBAR,ITS-90,PSS-78,,PSS-78,,UMOL/KG,,UMOL/KG,,UMOL/KG,,UMOL/KG,,UMOL/KG,,UMOL/KG,,UMOL/KG,,,,DEG C,
  49UF20130627,KS1306,  3961,  1,     99,     99,2,20130729,0658, -2.0058, 164.9867, 4545,      0.0,  29.9955,  35.2608,2,-999.0000,9,    196.7,2,     1.20,2,     0.10,2,     0.02,2,     0.22,2,   -999.0,9,   -999.0,9,-999.0000,9,  -999.00,      736
  49UF20130627,KS1306,  3961,  1,     36,  21995,2,20130729,0658, -2.0058, 164.9867, 4545,     11.1,  29.9887,  35.2602,2,-999.0000,9,    196.8,2,     1.16,2,     0.10,2,     0.02,2,     0.21,2,   -999.0,9,   -999.0,9,-999.0000,9,  -999.00,      758
  49UF20130627,KS1306,  3961,  1,     35,  22087,2,20130729,0658, -2.0058, 164.9867, 4545,     26.2,  29.8314,  35.2568,2,-999.0000,9,    197.2,2,     1.17,2,     0.09,2,     0.02,2,     0.21,2,   -999.0,9,   -999.0,9,-999.0000,9,  -999.00,      757
  49UF20130627,KS1306,  3961,  1,     34,  21971,2,20130729,0658, -2.0058, 164.9867, 4545,     49.5,  29.8063,  35.2587,2,-999.0000,9,    197.2,2,     1.18,2,     0.10,2,     0.02,2,     0.22,2,   -999.0,9,   -999.0,9,-999.0000,9,  -999.00,      753
  49UF20130627,KS1306,  3961,  1,     33,  21992,2,20130729,0658, -2.0058, 164.9867, 4545,     78.2,  29.6060,  35.3813,2,-999.0000,9,    187.6,2,     1.34,2,     0.97,2,     0.58,2,     0.33,2,   -999.0,9,   -999.0,9,-999.0000,9,  -999.00,      752
  49UF20130627,KS1306,  3961,  1,     32,  21991,2,20130729,0658, -2.0058, 164.9867, 4545,    102.0,  28.9709,  35.5065,2,-999.0000,9,    172.2,6,     1.57,6,     4.07,6,     0.34,6,     0.50,6,   -999.0,9,   -999.0,9,-999.0000,9,  -999.00,      751
  49UF20130627,KS1306,  3961,  1,     31,  21990,2,20130729,0658, -2.0058, 164.9867, 4545,    127.1,  28.2717,  35.5771,2,-999.0000,9,    157.3,2,     1.72,2,     5.95,2,     0.04,2,     0.59,2,   -999.0,9,   -999.0,9,-999.0000,9,  -999.00,      749
  49UF20130627,KS1306,  3961,  1,     28,  21987,2,20130729,0658, -2.0058, 164.9867, 4545,    151.2,  25.7845,  35.8710,2,-999.0000,9,    134.6,2,     1.79,2,     7.94,2,     0.02,2,     0.73,2,   -999.0,9,   -999.0,9,-999.0000,9,  -999.00,      748
  49UF20130627,KS1306,  3961,  1,     27,  21986,2,20130729,0658, -2.0058, 164.9867, 4545,    202.2,  14.6541,  35.1460,2,-999.0000,9,    111.1,2,    10.29,2,    18.90,2,     0.01,2,     1.47,2,   -999.0,9,   -999.0,9,-999.0000,9,  -999.00,      746
  49UF20130627,KS1306,  3961,  1,     26,  21985,2,20130729,0658, -2.0058, 164.9867, 4545,    202.2,  14.6541,  35.1460,2,-999.0000,9,    111.0,2,    10.27,2,    18.94,2,     0.01,2,     1.47,2,   -999.0,9,   -999.0,9,-999.0000,9,  -999.00,      746
  49UF20130627,KS1306,  3961,  1,     25,  21984,2,20130729,0658, -2.0058, 164.9867, 4545,    253.1,  11.4880,  34.8131,2,-999.0000,9,    125.1,2,    19.59,2,    22.82,2,     0.00,2,     1.65,2,   -999.0,9,   -999.0,9,-999.0000,9,  -999.00,      744
  49UF20130627,KS1306,  3961,  1,     24,  21983,2,20130729,0658, -2.0058, 164.9867, 4545,    302.7,  10.9467,  34.7869,2,-999.0000,9,    105.8,2,    21.88,2,    25.62,2,     0.00,2,     1.84,2,   -999.0,9,   -999.0,9,-999.0000,9,  -999.00,      742
  49UF20130627,KS1306,  3961,  1,     18,  21977,2,20130729,0658, -2.0058, 164.9867, 4545,    403.6,   9.7082,  34.7031,2,-999.0000,9,    102.8,6,    25.83,6,    28.43,6,     0.00,6,     2.01,6,   -999.0,9,   -999.0,9,-999.0000,9,  -999.00,      739
  49UF20130627,KS1306,  3961,  1,     17,  23679,2,20130729,0658, -2.0058, 164.9867, 4545,    505.0,   8.1403,  34.6107,2,-999.0000,9,    108.6,2,    30.01,2,    31.11,2,     0.00,2,     2.19,2,   -999.0,9,   -999.0,9,-999.0000,9,  -999.00,      737
  49UF20130627,KS1306,  3961,  1,     16,  21975,2,20130729,0658, -2.0058, 164.9867, 4545,    605.2,   6.5239,  34.5462,2,-999.0000,9,     96.0,2,    45.40,2,    35.65,2,     0.00,2,     2.53,2,   -999.0,9,   -999.0,9,-999.0000,9,  -999.00,      734
  49UF20130627,KS1306,  3961,  1,     15,  21974,2,20130729,0658, -2.0058, 164.9867, 4545,    704.7,   5.9953,  34.5352,2,-999.0000,9,    103.1,2,    52.93,2,    35.73,2,     0.00,2,     2.54,2,   -999.0,9,   -999.0,9,-999.0000,9,  -999.00,      731
  49UF20130627,KS1306,  3961,  1,      9,  21968,2,20130729,0658, -2.0058, 164.9867, 4545,    807.0,   5.1428,  34.5304,2,-999.0000,9,    109.5,2,    65.06,2,    36.28,2,     0.00,2,     2.59,2,   -999.0,9,   -999.0,9,-999.0000,9,  -999.00,      728
  49UF20130627,KS1306,  3961,  1,      8,  21982,2,20130729,0658, -2.0058, 164.9867, 4545,    907.9,   4.6527,  34.5406,2,-999.0000,9,    103.4,2,    75.60,2,    37.52,2,     0.00,2,     2.68,2,   -999.0,9,   -999.0,9,-999.0000,9,  -999.00,      725
  49UF20130627,KS1306,  3961,  1,      7,  21966,2,20130729,0658, -2.0058, 164.9867, 4545,    907.9,   4.6527,  34.5406,2,-999.0000,9,    103.6,2,    75.56,2,    37.50,2,     0.00,2,     2.67,2,   -999.0,9,   -999.0,9,-999.0000,9,  -999.00,      725
  49UF20130627,KS1306,  3961,  1,      6,  21965,2,20130729,0658, -2.0058, 164.9867, 4545,   1008.5,   4.1222,  34.5524,2,-999.0000,9,    107.8,6,    85.60,6,    37.44,6,     0.00,6,     2.68,6,   -999.0,9,   -999.0,9,-999.0000,9,  -999.00,      722
  49UF20130627,KS1306,  3961,  1,      5,  21964,2,20130729,0658, -2.0058, 164.9867, 4545,   1211.5,   3.5620,  34.5782,2,-999.0000,9,    100.4,2,   103.60,2,    38.48,2,     0.00,2,     2.76,2,   -999.0,9,   -999.0,9,-999.0000,9,  -999.00,      717
  49UF20130627,KS1306,  3961,  1,      4,  21963,3,20130729,0658, -2.0058, 164.9867, 4545,   1413.0,   3.1881,  34.5927,2,-999.0000,9,    102.8,2,   112.40,2,    38.51,2,     0.00,2,     2.76,2,   -999.0,9,   -999.0,9,-999.0000,9,  -999.00,      712
  49UF20130627,KS1306,  3961,  1,      3,  22079,2,20130729,0658, -2.0058, 164.9867, 4545,   1617.8,   2.8245,  34.6090,2,-999.0000,9,    104.0,2,   121.71,2,    38.61,2,     0.00,2,     2.77,2,   -999.0,9,   -999.0,9,-999.0000,9,  -999.00,      707
  49UF20130627,KS1306,  3961,  1,      2,  21961,2,20130729,0658, -2.0058, 164.9867, 4545,   1819.1,   2.4851,  34.6226,2,-999.0000,9,    118.6,2,   125.13,2,    37.80,2,     0.00,2,     2.70,2,   -999.0,9,   -999.0,9,-999.0000,9,  -999.00,      702
  49UF20130627,KS1306,  3961,  1,      1,  21960,2,20130729,0658, -2.0058, 164.9867, 4545,   2023.5,   2.1491,  34.6415,2,-999.0000,9,    121.8,2,   133.53,2,    37.65,2,     0.00,2,     2.68,2,   -999.0,9,   -999.0,9,-999.0000,9,  -999.00,      658
  49UF20130627,KS1306,  3963,  1,     99,     99,2,20130729,2018, -0.0915, 164.9713, 4178,      0.0,  29.3871,  35.3945,2,  35.3979,4,    195.8,2,     0.98,2,     0.89,2,     0.36,2,     0.30,2,   1996.8,2,   2324.3,2,   8.0713,2,    25.00,     2153
  49UF20130627,KS1306,  3963,  1,     36,  21995,2,20130729,2018, -0.0915, 164.9713, 4178,     11.6,  29.3730,  35.3923,2,  35.3934,2,    196.2,2,     0.98,2,     0.88,2,     0.35,2,     0.30,2,   2001.6,2,   2321.2,2,   8.0737,2,    25.00,     2220
  49UF20130627,KS1306,  3963,  1,     35,  22087,2,20130729,2018, -0.0915, 164.9713, 4178,     24.6,  29.3719,  35.3925,2,-999.0000,9,    196.0,2,     0.99,2,     0.89,2,     0.36,2,     0.30,2,   1995.3,2,   2320.9,2,   8.0715,2,    25.00,     2219
  49UF20130627,KS1306,  3963,  1,     33,  21992,2,20130729,2018, -0.0915, 164.9713, 4178,     51.2,  29.3401,  35.3912,2,-999.0000,9,    193.0,2,     1.12,2,     1.10,2,     0.44,2,     0.32,2,   1999.7,2,   2319.8,2,   8.0661,2,    25.00,     2216
  49UF20130627,KS1306,  3963,  1,     32,  21991,2,20130729,2018, -0.0915, 164.9713, 4178,     76.8,  28.6650,  35.4328,2,-999.0000,9,    173.0,2,     1.79,2,     4.09,2,     0.51,2,     0.50,2,   2026.5,2,   2320.6,2,   8.0259,2,    25.00,     2214
  49UF20130627,KS1306,  3963,  1,     31,  21990,2,20130729,2018, -0.0915, 164.9713, 4178,    100.7,  27.0169,  35.3858,2,  35.3599,4,    145.2,2,     2.65,2,     7.31,2,     0.06,2,     0.65,2,   2049.2,2,   2313.7,2,   7.9759,2,    25.00,     2213
  49UF20130627,KS1306,  3963,  1,     30,  21989,2,20130729,2018, -0.0915, 164.9713, 4178,    131.0,  24.8731,  35.7086,2,-999.0000,9,    139.3,6,     2.38,6,     8.08,6,     0.05,6,     0.73,6,   2080.6,2,   2339.1,2,   7.9589,2,    25.00,     2210
  49UF20130627,KS1306,  3963,  1,     29,  21988,2,20130729,2018, -0.0915, 164.9713, 4178,    154.0,  21.5134,  35.5601,2,-999.0000,9,    135.5,2,     3.81,2,     9.44,2,     0.02,2,     0.78,2,   2102.7,2,   2327.6,2,   7.9040,2,    25.00,     2209
  49UF20130627,KS1306,  3963,  1,     28,  21987,2,20130729,2018, -0.0915, 164.9713, 4178,    201.2,  16.6524,  35.2678,2,  35.2683,2,    144.1,2,     6.83,2,    13.15,2,     0.01,2,     1.02,2,   2132.3,6,   2319.1,6,   7.8257,2,    25.00,     2207
  49UF20130627,KS1306,  3963,  1,     27,  21986,2,20130729,2018, -0.0915, 164.9713, 4178,    250.1,  13.5706,  34.9763,2,-999.0000,9,    142.7,2,    13.70,2,    17.58,2,     0.01,2,     1.31,2,   2152.3,2,   2305.5,2,   7.7574,6,    25.00,     2205
  49UF20130627,KS1306,  3963,  1,     26,  21985,2,20130729,2018, -0.0915, 164.9713, 4178,    300.3,  12.0543,  34.8441,2,-999.0000,9,    128.6,6,    18.48,6,    21.56,6,     0.00,6,     1.56,6,   2174.5,2,   2299.5,2,   7.6986,2,    25.00,     2203
  49UF20130627,KS1306,  3963,  1,     25,  21984,2,20130729,2018, -0.0915, 164.9713, 4178,    404.1,   9.8234,  34.7051,2,  34.7051,6,     95.7,2,    26.92,2,    28.96,2,     0.00,2,     2.04,2,   2215.4,2,   2301.0,2,   7.5870,2,    25.00,     2200
  49UF20130627,KS1306,  3963,  1,     24,  21983,2,20130729,2018, -0.0915, 164.9713, 4178,    504.5,   8.1316,  34.6109,2,-999.0000,9,     96.6,2,    33.67,2,    32.23,2,     0.00,2,     2.26,2,   2231.2,2,   2301.5,2,   7.5497,2,    25.00,     2157
  49UF20130627,KS1306,  3963,  1,     23,  22095,2,20130729,2018, -0.0915, 164.9713, 4178,    605.3,   7.0433,  34.5641,2,  34.5663,2,     94.6,2,    41.96,2,    34.74,2,     0.00,2,     2.45,2,   2246.2,2,   2306.7,2,   7.5225,2,    25.00,     2153
  49UF20130627,KS1306,  3963,  1,     22,  21981,4,20130729,2018, -0.0915, 164.9713, 4178,    706.0,   6.0752,  34.5426,2,-999.0000,9,     93.9,4,    47.73,4,    33.81,4,     0.01,4,     2.40,4,   2247.0,4,   2317.8,4,   7.5516,4,    25.00,     2150
  49UF20130627,KS1306,  3963,  1,     21,  21980,2,20130729,2018, -0.0915, 164.9713, 4178,    807.2,   5.3886,  34.5333,2,  34.5355,2,    104.3,2,    63.43,2,    36.39,2,     0.00,2,     2.59,2,   2268.8,2,   2328.7,2,   7.5195,2,    25.00,     2147
  49UF20130627,KS1306,  3963,  1,     20,  21979,2,20130729,2018, -0.0915, 164.9713, 4178,    907.4,   4.9743,  34.5377,2,  34.5379,2,    103.2,2,    70.75,2,    37.01,2,     0.00,2,     2.64,2,   2278.0,2,   2337.7,2,   7.5124,2,    25.00,     2144
  49UF20130627,KS1306,  3963,  1,     19,  21978,2,20130729,2018, -0.0915, 164.9713, 4178,    907.4,   4.9743,  34.5377,2,  34.5382,2,    103.1,2,    70.89,2,    37.02,2,     0.00,2,     2.65,2,   2277.4,2,   2334.0,2,   7.5124,2,    25.00,     2144
  49UF20130627,KS1306,  3963,  1,     18,  21977,2,20130729,2018, -0.0915, 164.9713, 4178,   1008.1,   4.4784,  34.5509,2,  34.5529,2,     98.3,2,    82.95,2,    37.87,2,     0.00,2,     2.71,2,   2293.6,2,   2349.2,2,   7.5040,2,    25.00,     2140
  49UF20130627,KS1306,  3963,  1,     17,  23679,2,20130729,2018, -0.0915, 164.9713, 4178,   1212.5,   3.6772,  34.5772,2,  34.5781,2,     94.3,4,   103.40,2,    38.85,2,     0.00,2,     2.80,2,   2317.7,2,   2368.2,2,   7.4903,2,    25.00,     2135
  49UF20130627,KS1306,  3963,  1,     16,  21975,2,20130729,2018, -0.0915, 164.9713, 4178,   1415.7,   3.3215,  34.5897,2,  34.5902,2,     97.0,4,   111.19,2,    38.98,2,     0.00,2,     2.80,2,   2325.2,2,   2376.9,2,   7.4929,2,    25.00,     2130
  49UF20130627,KS1306,  3963,  1,     15,  21974,2,20130729,2018, -0.0915, 164.9713, 4178,   1415.7,   3.3215,  34.5897,2,  34.5893,2,     96.9,2,   110.95,2,    38.99,2,     0.00,2,     2.81,2,   2326.2,2,   2377.5,2,   7.4936,2,    25.00,     2130
  49UF20130627,KS1306,  3963,  1,     14,  21973,2,20130729,2018, -0.0915, 164.9713, 4178,   1618.2,   2.8081,  34.6102,2,  34.6102,2,    104.7,2,   122.18,2,    38.52,2,     0.00,2,     2.76,2,   2333.6,2,   2390.8,2,   7.5041,2,    25.00,     2124
  49UF20130627,KS1306,  3963,  1,     13,  21972,2,20130729,2018, -0.0915, 164.9713, 4178,   1821.2,   2.5332,  34.6230,2,  34.6226,2,    110.2,2,   128.17,2,    38.34,2,     0.00,2,     2.74,2,   2335.5,2,   2396.2,2,   7.5152,2,    25.00,     2119
  49UF20130627,KS1306,  3963,  1,     12,  21994,2,20130729,2018, -0.0915, 164.9713, 4178,   2023.3,   2.2624,  34.6362,2,  34.6365,2,    116.2,6,   134.25,6,    38.09,6,     0.00,6,     2.71,6,   2339.4,2,   2403.5,2,   7.5237,2,    25.00,     2114
  49UF20130627,KS1306,  3963,  1,     11,  21970,2,20130729,2018, -0.0915, 164.9713, 4178,   2276.9,   2.0024,  34.6514,2,  34.6513,2,    122.0,4,   140.35,2,    37.78,2,     0.00,2,     2.68,2,   -999.0,9,   -999.0,9,-999.0000,9,  -999.00,     2107
  49UF20130627,KS1306,  3963,  1,      9,  21968,2,20130729,2018, -0.0915, 164.9713, 4178,   2531.9,   1.8408,  34.6601,2,  34.6597,2,    126.6,2,   143.74,2,    37.61,2,     0.00,2,     2.65,2,   2343.4,2,   2412.4,2,   7.5399,2,    25.00,     2101
  49UF20130627,KS1306,  3963,  1,      8,  21982,2,20130729,2018, -0.0915, 164.9713, 4178,   2784.3,   1.7406,  34.6648,2,  34.6659,2,    131.8,2,   145.12,2,    37.21,2,     0.00,2,     2.62,2,   -999.0,9,   -999.0,9,-999.0000,9,  -999.00,     2054
  49UF20130627,KS1306,  3963,  1,      7,  21966,2,20130729,2018, -0.0915, 164.9713, 4178,   3041.2,   1.6616,  34.6699,2,  34.6719,2,    136.8,2,   145.09,2,    36.91,2,     0.00,2,     2.59,2,   2335.8,6,   2414.7,6,   7.5548,2,    25.00,     2048
  49UF20130627,KS1306,  3963,  1,      6,  21965,2,20130729,2018, -0.0915, 164.9713, 4178,   3294.9,   1.5903,  34.6750,2,  34.6753,2,    142.7,2,   144.61,2,    36.39,2,     0.00,2,     2.56,2,   -999.0,9,   -999.0,9,-999.0000,9,  -999.00,     2043
  49UF20130627,KS1306,  3963,  1,      5,  21964,2,20130729,2018, -0.0915, 164.9713, 4178,   3548.7,   1.5392,  34.6796,2,  34.6801,6,    148.8,2,   143.54,2,    36.13,2,     0.00,2,     2.52,2,   2327.8,2,   2413.0,2,   7.5702,6,    25.00,     2037
  49UF20130627,KS1306,  3963,  1,      4,  21963,2,20130729,2018, -0.0915, 164.9713, 4178,   3803.9,   1.4756,  34.6858,2,  34.6889,4,    156.9,2,   140.51,2,    35.54,2,     0.00,2,     2.48,2,   -999.0,9,   -999.0,9,-999.0000,9,  -999.00,     2032
  49UF20130627,KS1306,  3963,  1,      3,  22079,2,20130729,2018, -0.0915, 164.9713, 4178,   4061.1,   1.4317,  34.6904,2,  34.6906,2,    164.6,6,   137.15,6,    34.96,6,     0.00,6,     2.44,6,   2311.4,2,   2404.4,2,   7.5882,2,    25.00,     2026
  49UF20130627,KS1306,  3963,  1,      2,  21961,2,20130729,2018, -0.0915, 164.9713, 4178,   4315.7,   1.3554,  34.6971,2,  34.6984,2,    177.4,2,   131.02,2,    34.10,2,     0.00,2,     2.37,2,   -999.0,9,   -999.0,9,-999.0000,9,  -999.00,     2021
  49UF20130627,KS1306,  3963,  1,      1,  21960,2,20130729,2018, -0.0915, 164.9713, 4178,   4429.8,   1.3364,  34.6989,2,  34.7000,6,    181.1,2,   128.90,2,    33.77,2,     0.00,2,     2.35,2,   2290.9,2,   2387.6,2,   7.6004,2,    25.00,     2018