BOTTLE,20191021PRINUNIVRMK
EXPOCODE,SECT_ID,STNNBR,CASTNO,SAMPNO,BTLNBR,BTLNBR_FLAG_W,DATE,TIME,LATITUDE,LONGITUDE,DEPTH,CTDPRS,CTDTMP,CTDSAL,CTDSAL_FLAG_W,SALNTY,SALNTY_FLAG_W,OXYGEN,OXYGEN_FLAG_W,SILCAT,SILCAT_FLAG_W,NITRAT,NITRAT_FLAG_W,NITRIT,NITRIT_FLAG_W,PHSPHT,PHSPHT_FLAG_W,TCARBN,TCARBN_FLAG_W,ALKALI,ALKALI_FLAG_W,PH_TOT,PH_TOT_FLAG_W,PH_TMP,BTL_TIME
,,,,,,,,,,,METERS,DBAR,ITS-90,PSS-78,,PSS-78,,UMOL/KG,,UMOL/KG,,UMOL/KG,,UMOL/KG,,UMOL/KG,,UMOL/KG,,UMOL/KG,,,,DEG C,
  49UF20130627,KS1306,  3999,  1,     99,     99,2,20130820,0325, 35.0248, 164.9750, 5923,      0.0,  26.7259,  34.1259,2,  34.1214,2,    206.8,2,     3.45,2,     0.05,2,     0.00,2,     0.03,2,   1965.0,2,   2244.0,2,   8.0180,2,    25.00,      533
  49UF20130627,KS1306,  3999,  1,     36,  21995,2,20130820,0325, 35.0248, 164.9750, 5923,     10.4,  26.5150,  34.1152,2,  34.1156,2,    207.6,2,     3.45,2,     0.01,2,     0.00,2,     0.03,2,   1966.5,2,   2242.6,2,   8.0186,2,    25.00,      600
  49UF20130627,KS1306,  3999,  1,     35,  22087,2,20130820,0325, 35.0248, 164.9750, 5923,     49.0,  16.1837,  34.5067,2,-999.0000,9,    279.4,2,     2.72,2,     0.11,2,     0.00,2,     0.08,2,   2005.5,2,   2276.1,2,   7.9924,2,    25.00,      556
  49UF20130627,KS1306,  3999,  1,     34,  21971,2,20130820,0325, 35.0248, 164.9750, 5923,    100.4,  13.7012,  34.4641,2,  34.4588,4,    220.5,2,    11.45,2,     9.46,2,     0.02,2,     0.66,2,   2067.8,2,   2269.4,2,   7.8654,2,    25.00,      554
  49UF20130627,KS1306,  3999,  1,     33,  21992,2,20130820,0325, 35.0248, 164.9750, 5923,    124.6,  13.1062,  34.4209,2,-999.0000,9,    222.8,2,    12.52,2,    10.02,2,     0.02,2,     0.71,2,   2073.6,2,   2272.3,2,   7.8519,2,    25.00,      553
  49UF20130627,KS1306,  3999,  1,     32,  21991,2,20130820,0325, 35.0248, 164.9750, 5923,    152.5,  12.5599,  34.3827,2,-999.0000,9,    221.5,2,    14.02,2,    10.91,2,     0.01,2,     0.78,2,   2081.4,2,   2273.4,2,   7.8402,2,    25.00,      552
  49UF20130627,KS1306,  3999,  1,     31,  21990,2,20130820,0325, 35.0248, 164.9750, 5923,    201.7,  11.5777,  34.3171,2,  34.3151,6,    232.3,6,    15.18,6,    11.40,6,     0.01,6,     0.82,6,   2086.7,2,   2269.9,2,   7.8262,2,    25.00,      549
  49UF20130627,KS1306,  3999,  1,     30,  21989,2,20130820,0325, 35.0248, 164.9750, 5923,    252.6,  10.7054,  34.2438,2,-999.0000,9,    228.8,2,    18.45,2,    13.27,2,     0.01,2,     0.96,2,   2101.2,2,   2272.4,2,   7.7962,2,    25.00,      548
  49UF20130627,KS1306,  3999,  1,     29,  21988,2,20130820,0325, 35.0248, 164.9750, 5923,    302.2,   9.6474,  34.1603,2,-999.0000,9,    214.1,2,    25.10,2,    16.45,2,     0.00,2,     1.19,2,   2124.1,6,   2274.0,6,   7.7466,2,    25.00,      546
  49UF20130627,KS1306,  3999,  1,     28,  21987,2,20130820,0325, 35.0248, 164.9750, 5923,    403.6,   7.6126,  34.0112,2,  34.0095,2,    188.6,2,    38.60,2,    22.49,2,     0.00,2,     1.64,2,   2165.5,2,   2278.0,2,   7.6509,2,    25.00,      544
  49UF20130627,KS1306,  3999,  1,     27,  21986,2,20130820,0325, 35.0248, 164.9750, 5923,    505.4,   5.8545,  33.9733,2,-999.0000,9,    142.8,6,    60.60,6,    30.06,6,     0.00,6,     2.19,6,   2224.7,2,   2291.4,2,   7.5261,2,    25.00,      541
  49UF20130627,KS1306,  3999,  1,     26,  21985,2,20130820,0325, 35.0248, 164.9750, 5923,    604.0,   4.9851,  34.0220,2,  34.0202,6,    105.6,2,    77.98,2,    34.90,2,     0.00,2,     2.53,2,   2267.1,2,   2304.7,2,   7.4466,2,    25.00,      538
  49UF20130627,KS1306,  3999,  1,     25,  21984,2,20130820,0325, 35.0248, 164.9750, 5923,    706.2,   4.3855,  34.1387,2,-999.0000,9,     68.1,2,    97.78,2,    38.79,2,     0.00,2,     2.80,2,   2308.0,2,   2325.7,2,   7.3848,2,    25.00,      535
  49UF20130627,KS1306,  3999,  1,     24,  21983,2,20130820,0325, 35.0248, 164.9750, 5923,    807.9,   4.0089,  34.2191,2,  34.2165,2,     51.3,2,   110.17,2,    40.71,2,     0.00,2,     2.92,2,   2330.5,2,   2342.2,2,   7.3607,2,    25.00,      533
  49UF20130627,KS1306,  3999,  1,     23,  22095,2,20130820,0325, 35.0248, 164.9750, 5923,    909.3,   3.6495,  34.2780,2,-999.0000,9,     40.6,2,   120.86,2,    41.68,2,     0.00,2,     3.00,2,   2345.1,2,   2354.2,2,   7.3471,2,    25.00,      530
  49UF20130627,KS1306,  3999,  1,     22,  21981,2,20130820,0325, 35.0248, 164.9750, 5923,   1010.8,   3.3311,  34.3351,2,  34.3324,6,   -999.0,5,   130.65,2,    42.66,2,     0.00,2,     3.05,2,   2361.1,2,   2365.2,2,   7.3402,2,    25.00,      527
  49UF20130627,KS1306,  3999,  1,     21,  21980,2,20130820,0325, 35.0248, 164.9750, 5923,   1215.7,   2.8380,  34.4234,2,  34.4195,4,     33.4,2,   145.63,2,    43.36,2,     0.00,2,     3.09,2,   2378.2,2,   2381.7,2,   7.3419,2,    25.00,      522
  49UF20130627,KS1306,  3999,  1,     20,  21979,2,20130820,0325, 35.0248, 164.9750, 5923,   1416.7,   2.5086,  34.4855,2,  34.4843,2,     36.9,2,   155.42,2,    43.55,2,     0.00,2,     3.09,2,   2388.0,2,   2395.7,2,   7.3525,6,    25.00,      516
  49UF20130627,KS1306,  3999,  1,     19,  21978,2,20130820,0325, 35.0248, 164.9750, 5923,   1620.1,   2.2740,  34.5283,2,  34.5255,2,     46.2,2,   160.77,2,    42.85,2,     0.00,2,     3.05,2,   2385.9,2,   2401.7,2,   7.3741,2,    25.00,      511
  49UF20130627,KS1306,  3999,  1,     18,  21977,2,20130820,0325, 35.0248, 164.9750, 5923,   1823.6,   2.0701,  34.5676,2,  34.5662,6,     59.8,2,   164.02,2,    42.11,2,     0.00,2,     2.98,2,   2383.3,2,   2409.6,2,   7.3999,2,    25.00,      506
  49UF20130627,KS1306,  3999,  1,     17,  23679,2,20130820,0325, 35.0248, 164.9750, 5923,   2027.3,   1.9240,  34.5939,2,  34.5923,2,     71.0,2,   165.93,2,    41.33,2,     0.00,2,     2.93,2,   2376.1,2,   2412.0,2,   7.4228,2,    25.00,      501
  49UF20130627,KS1306,  3999,  1,     16,  21975,2,20130820,0325, 35.0248, 164.9750, 5923,   2279.2,   1.7807,  34.6217,2,  34.6206,2,     89.0,2,   164.51,2,    40.28,2,     0.00,2,     2.85,2,   -999.0,9,   -999.0,9,-999.0000,9,  -999.00,      455
  49UF20130627,KS1306,  3999,  1,     15,  21974,2,20130820,0325, 35.0248, 164.9750, 5923,   2534.0,   1.6748,  34.6418,2,  34.6380,4,    106.0,2,   161.56,2,    39.17,2,     0.00,2,     2.76,2,   2359.2,2,   2418.1,2,   7.4895,2,    25.00,      448
  49UF20130627,KS1306,  3999,  1,     14,  21973,2,20130820,0325, 35.0248, 164.9750, 5923,   2790.1,   1.5996,  34.6548,2,  34.6532,2,    118.8,2,   158.52,2,    38.26,2,     0.00,2,     2.70,2,   -999.0,9,   -999.0,9,-999.0000,9,  -999.00,      442
  49UF20130627,KS1306,  3999,  1,     13,  21972,2,20130820,0325, 35.0248, 164.9750, 5923,   3044.4,   1.5452,  34.6640,2,  34.6623,2,    126.9,2,   157.73,2,    37.91,2,     0.00,2,     2.66,2,   2345.3,2,   2419.2,2,   7.5279,6,    25.00,      436
  49UF20130627,KS1306,  3999,  1,     12,  21994,2,20130820,0325, 35.0248, 164.9750, 5923,   3301.1,   1.5137,  34.6704,2,  34.6693,2,    134.2,2,   155.59,2,    37.34,2,     0.00,2,     2.62,2,   -999.0,9,   -999.0,9,-999.0000,9,  -999.00,      430
  49UF20130627,KS1306,  3999,  1,     11,  21970,2,20130820,0325, 35.0248, 164.9750, 5923,   3556.2,   1.4884,  34.6762,2,  34.6750,6,    140.2,2,   154.30,2,    37.09,2,     0.00,2,     2.58,2,   2334.4,2,   2419.7,2,   7.5514,2,    25.00,      424
  49UF20130627,KS1306,  3999,  1,     10,  21969,3,20130820,0325, 35.0248, 164.9750, 5923,   3811.2,   1.4732,  34.6809,2,  34.6782,2,    144.8,2,   152.26,2,    36.70,2,     0.00,2,     2.56,2,   -999.0,9,   -999.0,9,-999.0000,9,  -999.00,      418
  49UF20130627,KS1306,  3999,  1,      9,  21968,2,20130820,0325, 35.0248, 164.9750, 5923,   4068.3,   1.4671,  34.6844,2,  34.6831,2,    150.4,6,   150.57,6,    36.28,6,     0.00,6,     2.53,6,   2329.1,2,   2418.0,2,   7.5669,2,    25.00,      413
  49UF20130627,KS1306,  3999,  1,      8,  21982,2,20130820,0325, 35.0248, 164.9750, 5923,   4325.0,   1.4717,  34.6867,2,  34.6849,2,    153.7,2,   149.72,2,    36.17,2,     0.00,2,     2.51,2,   -999.0,9,   -999.0,9,-999.0000,9,  -999.00,      407
  49UF20130627,KS1306,  3999,  1,      7,  21966,2,20130820,0325, 35.0248, 164.9750, 5923,   4583.5,   1.4795,  34.6889,2,  34.6860,4,    155.6,2,   148.92,2,    35.97,2,     0.00,2,     2.50,2,   2325.2,6,   2415.4,6,   7.5746,2,    25.00,      401
  49UF20130627,KS1306,  3999,  1,      6,  21965,2,20130820,0325, 35.0248, 164.9750, 5923,   4838.2,   1.4904,  34.6908,2,  34.6897,2,    160.2,2,   145.44,2,    35.59,2,     0.00,2,     2.48,2,   -999.0,9,   -999.0,9,-999.0000,9,  -999.00,      356
  49UF20130627,KS1306,  3999,  1,      5,  21964,2,20130820,0325, 35.0248, 164.9750, 5923,   5096.6,   1.5011,  34.6923,2,  34.6908,4,    163.5,2,   142.89,2,    35.35,2,     0.00,2,     2.46,2,   2317.7,2,   2410.2,2,   7.5867,2,    25.00,      350
  49UF20130627,KS1306,  3999,  1,      4,  21963,2,20130820,0325, 35.0248, 164.9750, 5923,   5353.8,   1.5128,  34.6942,2,  34.6916,4,    167.4,6,   140.02,6,    35.09,6,     0.00,6,     2.44,6,   -999.0,9,   -999.0,9,-999.0000,9,  -999.00,      345
  49UF20130627,KS1306,  3999,  1,      3,  22079,2,20130820,0325, 35.0248, 164.9750, 5923,   5613.0,   1.5295,  34.6956,2,  34.6931,4,    169.5,2,   138.25,2,    35.00,2,     0.00,2,     2.43,2,   2310.8,2,   2405.8,2,   7.5910,2,    25.00,      338
  49UF20130627,KS1306,  3999,  1,      2,  21961,2,20130820,0325, 35.0248, 164.9750, 5923,   5868.9,   1.5510,  34.6965,2,  34.6959,2,    172.0,2,   136.81,2,    34.69,2,     0.00,2,     2.41,2,   -999.0,9,   -999.0,9,-999.0000,9,  -999.00,      331
  49UF20130627,KS1306,  3999,  1,      1,  21960,2,20130820,0325, 35.0248, 164.9750, 5923,   6033.9,   1.5675,  34.6970,2,  34.6969,6,    172.5,2,   136.38,2,    34.69,2,     0.00,2,     2.41,2,   2306.8,2,   2404.8,2,   7.5960,2,    25.00,      325