BOTTLE,20191021PRINUNIVRMK
EXPOCODE,SECT_ID,STNNBR,CASTNO,SAMPNO,BTLNBR,BTLNBR_FLAG_W,DATE,TIME,LATITUDE,LONGITUDE,DEPTH,CTDPRS,CTDTMP,CTDSAL,CTDSAL_FLAG_W,SALNTY,SALNTY_FLAG_W,OXYGEN,OXYGEN_FLAG_W,SILCAT,SILCAT_FLAG_W,NITRAT,NITRAT_FLAG_W,NITRIT,NITRIT_FLAG_W,PHSPHT,PHSPHT_FLAG_W,TCARBN,TCARBN_FLAG_W,ALKALI,ALKALI_FLAG_W,PH_TOT,PH_TOT_FLAG_W,PH_TMP,BTL_TIME
,,,,,,,,,,,METERS,DBAR,ITS-90,PSS-78,,PSS-78,,UMOL/KG,,UMOL/KG,,UMOL/KG,,UMOL/KG,,UMOL/KG,,UMOL/KG,,UMOL/KG,,,,DEG C,
  49UF20130627,KS1306,  3951,  1,     99,     99,2,20130722,0211, -1.9973, 141.9892, 3709,      0.0,  29.6465,  34.2655,2,-999.0000,9,    194.2,2,     1.10,2,     0.00,2,     0.00,2,     0.14,2,   -999.0,9,   -999.0,9,-999.0000,9,  -999.00,      251
  49UF20130627,KS1306,  3951,  1,     36,  21995,2,20130722,0211, -1.9973, 141.9892, 3709,     11.3,  29.5183,  34.2584,2,  34.2617,2,    194.7,2,     1.08,2,     0.00,2,     0.00,2,     0.12,2,   -999.0,9,   -999.0,9,-999.0000,9,  -999.00,      308
  49UF20130627,KS1306,  3951,  1,     35,  22087,2,20130722,0211, -1.9973, 141.9892, 3709,     26.4,  29.7052,  34.4140,2,-999.0000,9,    194.8,2,     1.09,2,     0.00,2,     0.00,2,     0.13,2,   -999.0,9,   -999.0,9,-999.0000,9,  -999.00,      306
  49UF20130627,KS1306,  3951,  1,     34,  21971,2,20130722,0211, -1.9973, 141.9892, 3709,     51.9,  29.6666,  34.6772,2,-999.0000,9,    195.1,2,     1.13,2,     0.01,2,     0.00,2,     0.14,2,   -999.0,9,   -999.0,9,-999.0000,9,  -999.00,      303
  49UF20130627,KS1306,  3951,  1,     33,  21992,2,20130722,0211, -1.9973, 141.9892, 3709,     76.6,  29.1978,  34.6741,2,-999.0000,9,    184.3,2,     1.35,2,     0.89,2,     0.26,2,     0.22,2,   -999.0,9,   -999.0,9,-999.0000,9,  -999.00,      302
  49UF20130627,KS1306,  3951,  1,     32,  21991,2,20130722,0211, -1.9973, 141.9892, 3709,    102.1,  28.1520,  35.1881,2,  35.2071,4,    161.8,2,     1.91,2,     4.50,2,     0.05,2,     0.46,2,   -999.0,9,   -999.0,9,-999.0000,9,  -999.00,      301
  49UF20130627,KS1306,  3951,  1,     31,  21990,2,20130722,0211, -1.9973, 141.9892, 3709,    127.9,  26.3991,  35.4628,2,-999.0000,9,    150.4,2,     2.07,2,     6.19,2,     0.03,2,     0.57,2,   -999.0,9,   -999.0,9,-999.0000,9,  -999.00,      300
  49UF20130627,KS1306,  3951,  1,     27,  21986,2,20130722,0211, -1.9973, 141.9892, 3709,    154.5,  22.0912,  35.5629,2,-999.0000,9,    143.8,6,     2.83,6,     8.39,6,     0.01,6,     0.70,6,   -999.0,9,   -999.0,9,-999.0000,9,  -999.00,      259
  49UF20130627,KS1306,  3951,  1,     26,  21985,2,20130722,0211, -1.9973, 141.9892, 3709,    203.0,  18.5362,  35.4428,2,  35.4270,4,    145.0,2,     4.54,2,    11.14,2,     0.01,2,     0.88,2,   -999.0,9,   -999.0,9,-999.0000,9,  -999.00,      257
  49UF20130627,KS1306,  3951,  1,     25,  21984,2,20130722,0211, -1.9973, 141.9892, 3709,    255.4,  15.3884,  35.1972,2,-999.0000,9,    152.7,2,     7.06,2,    14.27,2,     0.01,2,     1.08,2,   -999.0,9,   -999.0,9,-999.0000,9,  -999.00,      255
  49UF20130627,KS1306,  3951,  1,     21,  21980,2,20130722,0211, -1.9973, 141.9892, 3709,    303.9,  12.1535,  34.9117,2,-999.0000,9,    140.0,2,    14.53,2,    20.41,2,     0.00,2,     1.49,2,   -999.0,9,   -999.0,9,-999.0000,9,  -999.00,      254
  49UF20130627,KS1306,  3951,  1,     20,  21979,2,20130722,0211, -1.9973, 141.9892, 3709,    404.1,   9.7969,  34.7175,2,  34.7167,2,    139.1,2,    20.03,2,    24.91,2,     0.00,2,     1.75,2,   -999.0,9,   -999.0,9,-999.0000,9,  -999.00,      251
  49UF20130627,KS1306,  3951,  1,     19,  21978,2,20130722,0211, -1.9973, 141.9892, 3709,    404.1,   9.7969,  34.7175,2,  34.7164,2,    138.9,2,    20.06,2,    24.93,2,     0.00,2,     1.76,2,   -999.0,9,   -999.0,9,-999.0000,9,  -999.00,      251
  49UF20130627,KS1306,  3951,  1,     15,  21974,2,20130722,0211, -1.9973, 141.9892, 3709,    505.2,   7.9355,  34.5913,2,-999.0000,9,    144.6,6,    27.38,6,    28.12,6,     0.00,6,     1.98,6,   -999.0,9,   -999.0,9,-999.0000,9,  -999.00,      248
  49UF20130627,KS1306,  3951,  1,     14,  21973,2,20130722,0211, -1.9973, 141.9892, 3709,    605.7,   6.7916,  34.5440,2,  34.5426,2,    127.9,2,    38.87,2,    32.09,2,     0.00,2,     2.26,2,   -999.0,9,   -999.0,9,-999.0000,9,  -999.00,      245
  49UF20130627,KS1306,  3951,  1,     13,  21972,2,20130722,0211, -1.9973, 141.9892, 3709,    707.7,   5.9935,  34.5302,2,-999.0000,9,    118.5,2,    50.38,2,    34.45,2,     0.00,2,     2.43,2,   -999.0,9,   -999.0,9,-999.0000,9,  -999.00,      242
  49UF20130627,KS1306,  3951,  1,     12,  21994,2,20130722,0211, -1.9973, 141.9892, 3709,    808.0,   5.2172,  34.5080,2,  34.5076,2,    137.9,2,    55.73,2,    33.73,2,     0.00,2,     2.37,2,   -999.0,9,   -999.0,9,-999.0000,9,  -999.00,      240
  49UF20130627,KS1306,  3951,  1,     11,  21970,2,20130722,0211, -1.9973, 141.9892, 3709,    808.0,   5.2172,  34.5080,2,  34.5092,2,    138.2,2,    55.63,2,    33.69,2,     0.00,2,     2.37,2,   -999.0,9,   -999.0,9,-999.0000,9,  -999.00,      240
  49UF20130627,KS1306,  3951,  1,     10,  21969,2,20130722,0211, -1.9973, 141.9892, 3709,    908.9,   4.7861,  34.5353,2,-999.0000,9,    113.3,2,    71.87,2,    36.42,2,     0.00,2,     2.58,2,   -999.0,9,   -999.0,9,-999.0000,9,  -999.00,      237
  49UF20130627,KS1306,  3951,  1,      6,  21965,2,20130722,0211, -1.9973, 141.9892, 3709,   1011.3,   4.4627,  34.5488,2,  34.5495,6,    105.2,6,    81.52,6,    37.35,6,     0.00,6,     2.66,6,   -999.0,9,   -999.0,9,-999.0000,9,  -999.00,      234
  49UF20130627,KS1306,  3951,  1,      5,  21964,2,20130722,0211, -1.9973, 141.9892, 3709,   1212.4,   3.6972,  34.5736,2,  34.5742,2,    104.8,2,    99.21,2,    37.88,2,     0.00,2,     2.71,2,   -999.0,9,   -999.0,9,-999.0000,9,  -999.00,      229
  49UF20130627,KS1306,  3951,  1,      4,  21963,2,20130722,0211, -1.9973, 141.9892, 3709,   1414.7,   3.0824,  34.5980,2,  34.5989,2,    106.8,2,   113.93,2,    38.39,2,     0.00,2,     2.73,2,   -999.0,9,   -999.0,9,-999.0000,9,  -999.00,      224
  49UF20130627,KS1306,  3951,  1,      3,  22079,2,20130722,0211, -1.9973, 141.9892, 3709,   1617.2,   2.7260,  34.6136,2,  34.6146,2,    110.3,2,   122.11,2,    38.30,2,     0.00,2,     2.72,2,   -999.0,9,   -999.0,9,-999.0000,9,  -999.00,      220
  49UF20130627,KS1306,  3951,  1,      2,  21961,2,20130722,0211, -1.9973, 141.9892, 3709,   1819.0,   2.4392,  34.6267,2,  34.6264,6,    115.3,2,   128.63,2,    38.15,2,     0.00,2,     2.70,2,   -999.0,9,   -999.0,9,-999.0000,9,  -999.00,      215
  49UF20130627,KS1306,  3951,  1,      1,  21960,2,20130722,0211, -1.9973, 141.9892, 3709,   2023.0,   2.1847,  34.6391,2,  34.6389,2,    120.2,2,   134.51,2,    37.94,2,     0.00,2,     2.68,2,   -999.0,9,   -999.0,9,-999.0000,9,  -999.00,      211
  49UF20130627,KS1306,  3952,  1,     99,     99,2,20130726,2033, -8.0032, 160.9963, 3129,      0.0,  29.2189,  34.5834,2,-999.0000,9,    194.4,2,     0.97,2,     0.01,2,     0.00,2,     0.13,2,   -999.0,9,   -999.0,9,-999.0000,9,  -999.00,     2112
  49UF20130627,KS1306,  3952,  1,     36,  21995,2,20130726,2033, -8.0032, 160.9963, 3129,     11.7,  29.2180,  34.5872,2,  34.5854,2,    194.3,2,     0.96,2,     0.00,2,     0.00,2,     0.14,2,   -999.0,9,   -999.0,9,-999.0000,9,  -999.00,     2131
  49UF20130627,KS1306,  3952,  1,     35,  22087,2,20130726,2033, -8.0032, 160.9963, 3129,     25.2,  29.2227,  34.5865,2,-999.0000,9,    194.2,2,     0.97,2,     0.03,2,     0.00,2,     0.15,2,   -999.0,9,   -999.0,9,-999.0000,9,  -999.00,     2130
  49UF20130627,KS1306,  3952,  1,     34,  21971,2,20130726,2033, -8.0032, 160.9963, 3129,     53.4,  29.3112,  34.6894,2,-999.0000,9,    194.0,2,     0.95,2,     0.00,2,     0.00,2,     0.14,2,   -999.0,9,   -999.0,9,-999.0000,9,  -999.00,     2128
  49UF20130627,KS1306,  3952,  1,     33,  21992,2,20130726,2033, -8.0032, 160.9963, 3129,     78.8,  28.2058,  35.4603,2,-999.0000,9,    165.4,2,     1.51,2,     3.35,2,     0.36,2,     0.45,2,   -999.0,9,   -999.0,9,-999.0000,9,  -999.00,     2127
  49UF20130627,KS1306,  3952,  1,     32,  21991,2,20130726,2033, -8.0032, 160.9963, 3129,    102.0,  27.8270,  35.7116,2,  35.7153,2,    161.7,2,     1.79,2,     4.86,2,     0.97,2,     0.61,2,   -999.0,9,   -999.0,9,-999.0000,9,  -999.00,     2124
  49UF20130627,KS1306,  3952,  1,     31,  21990,2,20130726,2033, -8.0032, 160.9963, 3129,    127.8,  26.6642,  35.9096,2,-999.0000,9,    142.4,2,     1.64,2,     6.61,2,     0.05,2,     0.67,2,   -999.0,9,   -999.0,9,-999.0000,9,  -999.00,     2123
  49UF20130627,KS1306,  3952,  1,     27,  21986,2,20130726,2033, -8.0032, 160.9963, 3129,    149.7,  24.9870,  36.0642,2,-999.0000,9,    136.5,2,     1.58,2,     7.25,2,     0.02,2,     0.73,2,   -999.0,9,   -999.0,9,-999.0000,9,  -999.00,     2121
  49UF20130627,KS1306,  3952,  1,     26,  21985,2,20130726,2033, -8.0032, 160.9963, 3129,    200.4,  21.0922,  35.8579,2,  35.8617,2,    139.5,6,     2.21,6,     8.78,6,     0.01,6,     0.86,6,   -999.0,9,   -999.0,9,-999.0000,9,  -999.00,     2120
  49UF20130627,KS1306,  3952,  1,     25,  21984,2,20130726,2033, -8.0032, 160.9963, 3129,    256.1,  15.5994,  35.1985,2,-999.0000,9,    113.3,2,     7.17,2,    15.83,2,     0.01,2,     1.36,2,   -999.0,9,   -999.0,9,-999.0000,9,  -999.00,     2118
  49UF20130627,KS1306,  3952,  1,     21,  21980,2,20130726,2033, -8.0032, 160.9963, 3129,    302.8,  12.2798,  34.9009,2,-999.0000,9,     98.6,6,    14.57,6,    23.13,6,     0.00,6,     1.80,6,   -999.0,9,   -999.0,9,-999.0000,9,  -999.00,     2115
  49UF20130627,KS1306,  3952,  1,     20,  21979,2,20130726,2033, -8.0032, 160.9963, 3129,    394.5,   8.7958,  34.6559,2,  34.6557,2,    118.0,2,    24.63,2,    28.95,2,     0.00,2,     2.06,2,   -999.0,9,   -999.0,9,-999.0000,9,  -999.00,     2113
  49UF20130627,KS1306,  3952,  1,     19,  21978,2,20130726,2033, -8.0032, 160.9963, 3129,    504.1,   7.8074,  34.5946,2,-999.0000,9,    117.4,2,    29.89,2,    31.19,2,     0.00,2,     2.19,2,   -999.0,9,   -999.0,9,-999.0000,9,  -999.00,     2110
  49UF20130627,KS1306,  3952,  1,     15,  21974,2,20130726,2033, -8.0032, 160.9963, 3129,    606.3,   6.7694,  34.5378,2,  34.5377,2,    128.2,2,    36.49,2,    32.32,2,     0.00,2,     2.27,2,   -999.0,9,   -999.0,9,-999.0000,9,  -999.00,     2107
  49UF20130627,KS1306,  3952,  1,     14,  21973,2,20130726,2033, -8.0032, 160.9963, 3129,    606.3,   6.7694,  34.5378,2,  34.5381,2,    127.9,2,    36.51,2,    32.31,2,     0.00,2,     2.27,2,   -999.0,9,   -999.0,9,-999.0000,9,  -999.00,     2107
  49UF20130627,KS1306,  3952,  1,     13,  21972,2,20130726,2033, -8.0032, 160.9963, 3129,    708.0,   6.1399,  34.5257,2,-999.0000,9,    117.5,2,    44.99,2,    34.63,2,     0.00,2,     2.44,2,   -999.0,9,   -999.0,9,-999.0000,9,  -999.00,     2104
  49UF20130627,KS1306,  3952,  1,     12,  21994,2,20130726,2033, -8.0032, 160.9963, 3129,    810.2,   5.6717,  34.5108,2,  34.5124,2,    129.9,2,    49.07,2,    34.07,2,     0.00,2,     2.40,2,   -999.0,9,   -999.0,9,-999.0000,9,  -999.00,     2101
  49UF20130627,KS1306,  3952,  1,     11,  21970,2,20130726,2033, -8.0032, 160.9963, 3129,    910.8,   5.0735,  34.5123,2,-999.0000,9,    130.4,2,    58.59,2,    34.96,2,     0.00,2,     2.47,2,   -999.0,9,   -999.0,9,-999.0000,9,  -999.00,     2058
  49UF20130627,KS1306,  3952,  1,     10,  21969,2,20130726,2033, -8.0032, 160.9963, 3129,   1008.9,   4.5411,  34.5215,2,  34.5220,2,    130.1,2,    68.23,2,    35.52,2,     0.00,2,     2.51,2,   -999.0,9,   -999.0,9,-999.0000,9,  -999.00,     2055
  49UF20130627,KS1306,  3952,  1,      6,  21965,2,20130726,2033, -8.0032, 160.9963, 3129,   1208.1,   3.6895,  34.5462,2,  34.5471,2,    137.5,2,    83.75,2,    35.72,2,     0.00,2,     2.52,2,   -999.0,9,   -999.0,9,-999.0000,9,  -999.00,     2051
  49UF20130627,KS1306,  3952,  1,      5,  21964,2,20130726,2033, -8.0032, 160.9963, 3129,   1412.2,   3.0556,  34.5873,2,  34.5879,6,    122.0,6,   104.81,6,    37.60,6,     0.00,6,     2.66,6,   -999.0,9,   -999.0,9,-999.0000,9,  -999.00,     2046
  49UF20130627,KS1306,  3952,  1,      4,  21963,2,20130726,2033, -8.0032, 160.9963, 3129,   1613.1,   2.7586,  34.6034,2,  34.6044,2,    124.3,2,   112.73,2,    37.53,2,     0.00,2,     2.65,2,   -999.0,9,   -999.0,9,-999.0000,9,  -999.00,     2042
  49UF20130627,KS1306,  3952,  1,      3,  22079,2,20130726,2033, -8.0032, 160.9963, 3129,   1818.5,   2.4560,  34.6219,2,  34.6217,2,    124.0,2,   122.20,2,    37.79,2,     0.00,2,     2.66,2,   -999.0,9,   -999.0,9,-999.0000,9,  -999.00,     2038
  49UF20130627,KS1306,  3952,  1,      2,  21961,2,20130726,2033, -8.0032, 160.9963, 3129,   2018.9,   2.2758,  34.6321,2,  34.6334,2,    129.6,2,   125.57,2,    37.32,2,     0.00,2,     2.64,2,   -999.0,9,   -999.0,9,-999.0000,9,  -999.00,     2033
  49UF20130627,KS1306,  3952,  1,      1,  21960,2,20130726,2033, -8.0032, 160.9963, 3129,   2018.9,   2.2758,  34.6321,2,  34.6324,2,    129.7,2,   125.60,2,    37.41,2,     0.00,2,     2.64,2,   -999.0,9,   -999.0,9,-999.0000,9,  -999.00,     2033
  49UF20130627,KS1306,  3954,  1,     99,     99,2,20130727,0515, -7.4368, 161.7257, 1454,      0.0,  29.4786,  34.7127,2,-999.0000,9,    194.5,2,     0.92,2,     0.01,2,     0.00,2,     0.12,2,   -999.0,9,   -999.0,9,-999.0000,9,  -999.00,      534
  49UF20130627,KS1306,  3954,  1,     36,  21995,2,20130727,0515, -7.4368, 161.7257, 1454,     12.3,  29.4766,  34.7126,2,-999.0000,9,    194.1,2,     0.93,2,     0.00,2,     0.00,2,     0.12,2,   -999.0,9,   -999.0,9,-999.0000,9,  -999.00,      600
  49UF20130627,KS1306,  3954,  1,     35,  22087,2,20130727,0515, -7.4368, 161.7257, 1454,     27.6,  29.4662,  34.7133,2,-999.0000,9,    194.1,2,     0.95,2,     0.01,2,     0.00,2,     0.13,2,   -999.0,9,   -999.0,9,-999.0000,9,  -999.00,      559
  49UF20130627,KS1306,  3954,  1,     33,  21992,2,20130727,0515, -7.4368, 161.7257, 1454,     53.1,  29.4444,  34.7226,2,-999.0000,9,    194.4,2,     0.91,2,     0.00,2,     0.00,2,     0.12,2,   -999.0,9,   -999.0,9,-999.0000,9,  -999.00,      557
  49UF20130627,KS1306,  3954,  1,     32,  21991,3,20130727,0515, -7.4368, 161.7257, 1454,     79.6,  29.1294,  35.3539,2,-999.0000,9,    186.2,2,     1.09,2,     0.05,2,     0.01,2,     0.24,2,   -999.0,9,   -999.0,9,-999.0000,9,  -999.00,      555
  49UF20130627,KS1306,  3954,  1,     31,  21990,2,20130727,0515, -7.4368, 161.7257, 1454,     79.6,  29.1294,  35.3539,2,-999.0000,9,    185.9,2,     1.11,2,     0.07,2,     0.01,2,     0.24,2,   -999.0,9,   -999.0,9,-999.0000,9,  -999.00,      555
  49UF20130627,KS1306,  3954,  1,     27,  21986,2,20130727,0515, -7.4368, 161.7257, 1454,    105.0,  28.1246,  35.6499,2,-999.0000,9,    165.9,2,     1.72,2,     4.22,2,     1.31,2,     0.59,2,   -999.0,9,   -999.0,9,-999.0000,9,  -999.00,      551
  49UF20130627,KS1306,  3954,  1,     26,  21985,2,20130727,0515, -7.4368, 161.7257, 1454,    129.8,  26.9582,  35.7347,2,-999.0000,9,    143.6,2,     1.83,2,     7.18,2,     0.05,2,     0.68,2,   -999.0,9,   -999.0,9,-999.0000,9,  -999.00,      550
  49UF20130627,KS1306,  3954,  1,     25,  21984,2,20130727,0515, -7.4368, 161.7257, 1454,    156.6,  25.4637,  36.0020,2,-999.0000,9,    138.1,6,     1.79,6,     7.62,6,     0.02,6,     0.74,6,   -999.0,9,   -999.0,9,-999.0000,9,  -999.00,      549
  49UF20130627,KS1306,  3954,  1,     21,  21980,2,20130727,0515, -7.4368, 161.7257, 1454,    208.0,  19.8650,  35.6998,2,-999.0000,9,    136.9,2,     2.85,2,     9.75,2,     0.01,2,     0.93,2,   -999.0,9,   -999.0,9,-999.0000,9,  -999.00,      547
  49UF20130627,KS1306,  3954,  1,     20,  21979,2,20130727,0515, -7.4368, 161.7257, 1454,    258.1,  15.2551,  35.1611,2,-999.0000,9,    104.3,2,     8.45,2,    17.36,2,     0.00,2,     1.46,2,   -999.0,9,   -999.0,9,-999.0000,9,  -999.00,      545
  49UF20130627,KS1306,  3954,  1,     19,  21978,2,20130727,0515, -7.4368, 161.7257, 1454,    306.6,  13.4063,  34.9973,2,-999.0000,9,    100.0,2,    12.07,2,    20.92,2,     0.00,2,     1.66,2,   -999.0,9,   -999.0,9,-999.0000,9,  -999.00,      543
  49UF20130627,KS1306,  3954,  1,     15,  21974,2,20130727,0515, -7.4368, 161.7257, 1454,    408.8,   9.2922,  34.6807,2,-999.0000,9,    128.4,6,    21.14,6,    26.62,6,     0.00,6,     1.91,6,   -999.0,9,   -999.0,9,-999.0000,9,  -999.00,      540
  49UF20130627,KS1306,  3954,  1,     14,  21973,2,20130727,0515, -7.4368, 161.7257, 1454,    510.3,   7.8828,  34.5880,2,-999.0000,9,    137.7,2,    26.96,2,    28.95,2,     0.00,2,     2.03,2,   -999.0,9,   -999.0,9,-999.0000,9,  -999.00,      537
  49UF20130627,KS1306,  3954,  1,     13,  21972,2,20130727,0515, -7.4368, 161.7257, 1454,    609.4,   6.6546,  34.5270,2,-999.0000,9,    138.8,2,    36.14,2,    31.33,2,     0.00,2,     2.20,2,   -999.0,9,   -999.0,9,-999.0000,9,  -999.00,      534
  49UF20130627,KS1306,  3954,  1,     12,  21994,2,20130727,0515, -7.4368, 161.7257, 1454,    609.4,   6.6546,  34.5270,2,-999.0000,9,    139.3,2,    36.16,2,    31.29,2,     0.00,2,     2.20,2,   -999.0,9,   -999.0,9,-999.0000,9,  -999.00,      534
  49UF20130627,KS1306,  3954,  1,     11,  21970,2,20130727,0515, -7.4368, 161.7257, 1454,    710.5,   5.9472,  34.5231,2,-999.0000,9,    116.3,2,    47.82,2,    34.83,2,     0.00,2,     2.46,2,   -999.0,9,   -999.0,9,-999.0000,9,  -999.00,      531
  49UF20130627,KS1306,  3954,  1,      6,  21965,2,20130727,0515, -7.4368, 161.7257, 1454,    810.2,   5.3220,  34.5128,2,-999.0000,9,    125.6,2,    55.39,2,    34.93,2,     0.00,2,     2.46,2,   -999.0,9,   -999.0,9,-999.0000,9,  -999.00,      528
  49UF20130627,KS1306,  3954,  1,      5,  21964,2,20130727,0515, -7.4368, 161.7257, 1454,    909.2,   4.7071,  34.5189,2,-999.0000,9,    127.7,6,    65.60,6,    35.33,6,     0.00,6,     2.51,6,   -999.0,9,   -999.0,9,-999.0000,9,  -999.00,      525
  49UF20130627,KS1306,  3954,  1,      4,  21963,2,20130727,0515, -7.4368, 161.7257, 1454,   1009.8,   4.2580,  34.5225,2,-999.0000,9,    136.3,2,    71.66,2,    35.00,2,     0.00,2,     2.48,2,   -999.0,9,   -999.0,9,-999.0000,9,  -999.00,      523
  49UF20130627,KS1306,  3954,  1,      3,  22079,2,20130727,0515, -7.4368, 161.7257, 1454,   1210.2,   3.7077,  34.5521,2,-999.0000,9,    127.3,2,    86.97,2,    36.34,2,     0.00,2,     2.58,2,   -999.0,9,   -999.0,9,-999.0000,9,  -999.00,      519
  49UF20130627,KS1306,  3954,  1,      2,  21961,2,20130727,0515, -7.4368, 161.7257, 1454,   1414.1,   3.0899,  34.5833,2,-999.0000,9,    125.9,2,   102.73,2,    36.96,2,     0.00,2,     2.63,2,   -999.0,9,   -999.0,9,-999.0000,9,  -999.00,      515
  49UF20130627,KS1306,  3954,  1,      1,  21960,2,20130727,0515, -7.4368, 161.7257, 1454,   1419.6,   3.0820,  34.5837,2,-999.0000,9,    126.2,2,   102.91,2,    36.96,2,     0.00,2,     2.62,2,   -999.0,9,   -999.0,9,-999.0000,9,  -999.00,      515