BOTTLE,20191021PRINUNIVRMK
EXPOCODE,SECT_ID,STNNBR,CASTNO,SAMPNO,BTLNBR,BTLNBR_FLAG_W,DATE,TIME,LATITUDE,LONGITUDE,DEPTH,CTDPRS,CTDTMP,CTDSAL,CTDSAL_FLAG_W,SALNTY,SALNTY_FLAG_W,OXYGEN,OXYGEN_FLAG_W,SILCAT,SILCAT_FLAG_W,NITRAT,NITRAT_FLAG_W,NITRIT,NITRIT_FLAG_W,PHSPHT,PHSPHT_FLAG_W,TCARBN,TCARBN_FLAG_W,ALKALI,ALKALI_FLAG_W,PH_TOT,PH_TOT_FLAG_W,PH_TMP,BTL_TIME
,,,,,,,,,,,METERS,DBAR,ITS-90,PSS-78,,PSS-78,,UMOL/KG,,UMOL/KG,,UMOL/KG,,UMOL/KG,,UMOL/KG,,UMOL/KG,,UMOL/KG,,,,DEG C,
  49UF20130627,KS1306,  3956,  1,     99,     99,2,20130727,1710, -6.5022, 162.9990, 3516,      0.0,  29.2767,  34.8223,2,-999.0000,9,    194.7,2,     1.01,2,     0.09,2,     0.00,2,     0.14,2,   -999.0,9,   -999.0,9,-999.0000,9,  -999.00,     1750
  49UF20130627,KS1306,  3956,  1,     36,  21995,2,20130727,1710, -6.5022, 162.9990, 3516,     11.9,  29.2838,  34.8214,2,  34.8200,2,    194.3,2,     0.99,2,     0.04,2,     0.00,2,     0.14,2,   -999.0,9,   -999.0,9,-999.0000,9,  -999.00,     1806
  49UF20130627,KS1306,  3956,  1,     35,  22087,2,20130727,1710, -6.5022, 162.9990, 3516,     26.6,  29.2949,  34.8242,2,-999.0000,9,    194.4,2,     0.97,2,     0.05,2,     0.00,2,     0.14,2,   -999.0,9,   -999.0,9,-999.0000,9,  -999.00,     1804
  49UF20130627,KS1306,  3956,  1,     34,  21971,2,20130727,1710, -6.5022, 162.9990, 3516,     52.8,  29.3922,  34.9507,2,-999.0000,9,    194.0,2,     1.05,2,     0.06,2,     0.00,2,     0.16,2,   -999.0,9,   -999.0,9,-999.0000,9,  -999.00,     1801
  49UF20130627,KS1306,  3956,  1,     33,  21992,2,20130727,1710, -6.5022, 162.9990, 3516,     78.4,  28.4007,  35.5273,2,-999.0000,9,    161.4,2,     1.75,2,     4.07,2,     0.69,2,     0.52,2,   -999.0,9,   -999.0,9,-999.0000,9,  -999.00,     1800
  49UF20130627,KS1306,  3956,  1,     32,  21991,3,20130727,1710, -6.5022, 162.9990, 3516,    105.7,  27.4097,  35.7253,2,  35.7100,4,    146.9,2,     1.85,2,     6.76,2,     0.06,2,     0.65,2,   -999.0,9,   -999.0,9,-999.0000,9,  -999.00,     1758
  49UF20130627,KS1306,  3956,  1,     31,  21990,2,20130727,1710, -6.5022, 162.9990, 3516,    105.7,  27.4097,  35.7253,2,  35.7051,4,    147.6,2,     1.83,2,     6.76,2,     0.06,2,     0.65,2,   -999.0,9,   -999.0,9,-999.0000,9,  -999.00,     1758
  49UF20130627,KS1306,  3956,  1,     28,  21987,2,20130727,1710, -6.5022, 162.9990, 3516,    128.2,  26.2169,  36.0220,2,-999.0000,9,    139.2,6,     1.63,6,     6.93,6,     0.02,6,     0.68,6,   -999.0,9,   -999.0,9,-999.0000,9,  -999.00,     1757
  49UF20130627,KS1306,  3956,  1,     27,  21986,2,20130727,1710, -6.5022, 162.9990, 3516,    154.6,  24.8872,  36.1672,2,-999.0000,9,    141.6,2,     1.58,2,     6.91,2,     0.02,2,     0.69,2,   -999.0,9,   -999.0,9,-999.0000,9,  -999.00,     1756
  49UF20130627,KS1306,  3956,  1,     26,  21985,2,20130727,1710, -6.5022, 162.9990, 3516,    204.9,  19.9795,  35.7155,2,  35.7357,4,    138.3,2,     2.79,2,     9.64,2,     0.01,2,     0.90,2,   -999.0,9,   -999.0,9,-999.0000,9,  -999.00,     1754
  49UF20130627,KS1306,  3956,  1,     25,  21984,2,20130727,1710, -6.5022, 162.9990, 3516,    257.6,  14.8148,  35.1321,2,-999.0000,9,     99.9,2,     9.51,2,    18.64,2,     0.00,2,     1.53,2,   -999.0,9,   -999.0,9,-999.0000,9,  -999.00,     1752
  49UF20130627,KS1306,  3956,  1,     24,  21983,2,20130727,1710, -6.5022, 162.9990, 3516,    308.6,  11.6151,  34.8567,2,-999.0000,9,     92.7,6,    15.93,6,    24.48,6,     0.00,6,     1.87,6,   -999.0,9,   -999.0,9,-999.0000,9,  -999.00,     1750
  49UF20130627,KS1306,  3956,  1,     18,  21977,2,20130727,1710, -6.5022, 162.9990, 3516,    407.7,   8.5049,  34.6391,2,  34.6401,2,    112.0,2,    26.41,2,    30.03,2,     0.00,2,     2.12,2,   -999.0,9,   -999.0,9,-999.0000,9,  -999.00,     1747
  49UF20130627,KS1306,  3956,  1,     17,  23679,2,20130727,1710, -6.5022, 162.9990, 3516,    508.2,   7.3974,  34.5728,2,-999.0000,9,    117.6,2,    32.79,2,    32.05,2,     0.00,2,     2.24,2,   -999.0,9,   -999.0,9,-999.0000,9,  -999.00,     1744
  49UF20130627,KS1306,  3956,  1,     16,  21975,2,20130727,1710, -6.5022, 162.9990, 3516,    610.2,   6.6646,  34.5378,2,  34.5374,2,    124.2,2,    38.19,2,    32.86,2,     0.00,2,     2.30,2,   -999.0,9,   -999.0,9,-999.0000,9,  -999.00,     1741
  49UF20130627,KS1306,  3956,  1,     15,  21974,2,20130727,1710, -6.5022, 162.9990, 3516,    709.0,   5.9016,  34.5223,2,-999.0000,9,    116.1,2,    48.34,2,    34.97,2,     0.00,2,     2.47,2,   -999.0,9,   -999.0,9,-999.0000,9,  -999.00,     1739
  49UF20130627,KS1306,  3956,  1,      9,  21968,2,20130727,1710, -6.5022, 162.9990, 3516,    808.0,   5.3593,  34.5186,2,  34.5187,2,    118.0,6,    56.41,6,    35.68,6,     0.00,6,     2.53,6,   -999.0,9,   -999.0,9,-999.0000,9,  -999.00,     1736
  49UF20130627,KS1306,  3956,  1,      8,  21982,2,20130727,1710, -6.5022, 162.9990, 3516,    908.7,   4.8470,  34.5252,2,-999.0000,9,    116.3,2,    66.22,2,    36.28,2,     0.00,2,     2.58,2,   -999.0,9,   -999.0,9,-999.0000,9,  -999.00,     1734
  49UF20130627,KS1306,  3956,  1,      7,  21966,2,20130727,1710, -6.5022, 162.9990, 3516,   1008.6,   4.4289,  34.5273,2,  34.5277,2,    125.5,2,    71.58,2,    36.05,2,     0.00,2,     2.55,2,   -999.0,9,   -999.0,9,-999.0000,9,  -999.00,     1732
  49UF20130627,KS1306,  3956,  1,      6,  21965,2,20130727,1710, -6.5022, 162.9990, 3516,   1209.1,   3.6309,  34.5524,2,  34.5540,2,    131.4,2,    86.82,2,    36.21,2,     0.00,2,     2.57,2,   -999.0,9,   -999.0,9,-999.0000,9,  -999.00,     1728
  49UF20130627,KS1306,  3956,  1,      5,  21964,2,20130727,1710, -6.5022, 162.9990, 3516,   1413.7,   3.0199,  34.5871,2,  34.5877,2,    126.0,2,   104.53,2,    37.06,2,     0.00,2,     2.64,2,   -999.0,9,   -999.0,9,-999.0000,9,  -999.00,     1724
  49UF20130627,KS1306,  3956,  1,      4,  21963,2,20130727,1710, -6.5022, 162.9990, 3516,   1413.7,   3.0199,  34.5871,2,  34.5873,2,    125.8,2,   104.67,2,    37.18,2,     0.00,2,     2.63,2,   -999.0,9,   -999.0,9,-999.0000,9,  -999.00,     1724
  49UF20130627,KS1306,  3956,  1,      3,  22079,2,20130727,1710, -6.5022, 162.9990, 3516,   1617.2,   2.6231,  34.6098,2,  34.6108,6,    127.7,2,   114.58,2,    37.18,2,     0.00,2,     2.63,2,   -999.0,9,   -999.0,9,-999.0000,9,  -999.00,     1720
  49UF20130627,KS1306,  3956,  1,      2,  21961,2,20130727,1710, -6.5022, 162.9990, 3516,   1821.7,   2.4122,  34.6238,2,  34.6237,2,    127.6,2,   121.60,2,    37.29,2,     0.00,2,     2.64,2,   -999.0,9,   -999.0,9,-999.0000,9,  -999.00,     1715
  49UF20130627,KS1306,  3956,  1,      1,  21960,2,20130727,1710, -6.5022, 162.9990, 3516,   2026.3,   2.1618,  34.6397,2,  34.6407,2,    128.1,2,   130.05,2,    37.50,2,     0.00,2,     2.64,2,   -999.0,9,   -999.0,9,-999.0000,9,  -999.00,     1710
  49UF20130627,KS1306,  3958,  1,     99,     99,2,20130728,0935, -5.0253, 164.9922, 2299,      0.0,  29.8751,  35.0719,2,  35.0816,4,    194.3,2,     1.30,2,     0.09,2,     0.00,2,     0.19,2,   1959.8,2,   2300.5,2,   8.1070,2,    25.00,     1018
  49UF20130627,KS1306,  3958,  1,     36,  21995,2,20130728,0935, -5.0253, 164.9922, 2299,     10.2,  29.8763,  35.0709,2,  35.0693,2,    194.2,2,     1.30,2,     0.08,2,     0.00,2,     0.18,2,   1960.0,2,   2298.1,2,   8.1065,2,    25.00,     1044
  49UF20130627,KS1306,  3958,  1,     35,  22087,2,20130728,0935, -5.0253, 164.9922, 2299,     26.0,  29.7960,  35.0759,2,-999.0000,9,    194.9,2,     1.29,2,     0.09,2,     0.00,2,     0.18,2,   1960.4,2,   2297.8,2,   8.1047,2,    25.00,     1043
  49UF20130627,KS1306,  3958,  1,     34,  21971,2,20130728,0935, -5.0253, 164.9922, 2299,     51.8,  29.7338,  35.0746,2,-999.0000,9,    195.0,2,     1.31,2,     0.09,2,     0.00,2,     0.19,2,   1960.0,2,   2299.8,2,   8.1057,2,    25.00,     1040
  49UF20130627,KS1306,  3958,  1,     33,  21992,2,20130728,0935, -5.0253, 164.9922, 2299,     75.7,  29.7019,  35.1847,2,-999.0000,9,    196.9,2,     1.22,2,     0.14,2,     0.01,2,     0.21,2,   1966.0,2,   2305.0,2,   8.1011,2,    25.00,     1039
  49UF20130627,KS1306,  3958,  1,     32,  21991,2,20130728,0935, -5.0253, 164.9922, 2299,    100.0,  29.0695,  35.5147,2,  35.5025,4,    189.8,6,     1.86,6,     2.32,6,     0.26,6,     0.42,6,   2018.3,2,   2329.2,2,   8.0526,2,    25.00,     1038
  49UF20130627,KS1306,  3958,  1,     31,  21990,2,20130728,0935, -5.0253, 164.9922, 2299,    128.3,  27.4343,  35.6979,2,  35.6883,4,    162.4,2,     2.16,2,     6.32,2,     0.27,2,     0.65,2,   2055.0,2,   2337.4,2,   7.9989,2,    25.00,     1036
  49UF20130627,KS1306,  3958,  1,     30,  21989,2,20130728,0935, -5.0253, 164.9922, 2299,    128.3,  27.4343,  35.6979,2,  35.6859,4,    162.7,4,     2.16,2,     6.30,2,     0.28,2,     0.65,2,   2056.1,2,   2339.2,2,   7.9988,2,    25.00,     1036
  49UF20130627,KS1306,  3958,  1,     29,  21988,2,20130728,0935, -5.0253, 164.9922, 2299,    152.0,  25.6716,  35.8339,2,-999.0000,9,    146.7,2,     2.33,2,     7.92,2,     0.03,2,     0.74,2,   2082.5,2,   2349.8,2,   7.9673,2,    25.00,     1035
  49UF20130627,KS1306,  3958,  1,     28,  21987,2,20130728,0935, -5.0253, 164.9922, 2299,    204.5,  17.0501,  35.3675,2,  35.4073,4,    114.8,2,     6.27,2,    14.52,2,     0.01,2,     1.25,2,   2158.4,6,   2328.0,6,   7.7843,2,    25.00,     1033
  49UF20130627,KS1306,  3958,  1,     27,  21986,2,20130728,0935, -5.0253, 164.9922, 2299,    255.3,  11.8393,  34.8933,2,-999.0000,9,    113.6,2,    15.10,2,    22.81,2,     0.00,2,     1.71,2,   2182.0,2,   2302.0,2,   7.6708,6,    25.00,     1031
  49UF20130627,KS1306,  3958,  1,     26,  21985,2,20130728,0935, -5.0253, 164.9922, 2299,    305.1,   9.7281,  34.7160,2,-999.0000,9,    123.7,2,    21.16,2,    26.12,2,     0.00,2,     1.87,2,   2191.3,2,   2297.5,2,   7.6329,2,    25.00,     1028
  49UF20130627,KS1306,  3958,  1,     25,  21984,2,20130728,0935, -5.0253, 164.9922, 2299,    403.6,   8.6161,  34.6428,2,  34.6441,2,    101.6,6,    28.00,6,    30.82,6,     0.00,6,     2.17,6,   2218.0,2,   2296.1,2,   7.5668,2,    25.00,     1025
  49UF20130627,KS1306,  3958,  1,     24,  21983,2,20130728,0935, -5.0253, 164.9922, 2299,    501.5,   7.7020,  34.5892,2,-999.0000,9,    102.5,2,    33.29,2,    32.83,2,     0.00,2,     2.31,2,   2226.7,2,   2302.0,2,   7.5462,2,    25.00,     1023
  49UF20130627,KS1306,  3958,  1,     18,  21977,2,20130728,0935, -5.0253, 164.9922, 2299,    605.6,   6.7409,  34.5444,2,  34.5473,2,    106.8,2,    40.44,2,    34.25,2,     0.00,2,     2.41,2,   2237.8,2,   2304.6,2,   7.5354,2,    25.00,     1020
  49UF20130627,KS1306,  3958,  1,     17,  23679,2,20130728,0935, -5.0253, 164.9922, 2299,    708.0,   5.9207,  34.5343,2,-999.0000,9,     97.0,2,    52.53,2,    36.59,2,     0.00,2,     2.60,2,   2257.3,2,   2319.4,2,   7.5100,2,    25.00,     1017
  49UF20130627,KS1306,  3958,  1,     16,  21975,2,20130728,0935, -5.0253, 164.9922, 2299,    808.4,   5.2655,  34.5291,2,  34.5282,6,    105.1,2,    61.88,2,    36.61,2,     0.00,2,     2.62,2,   2265.3,2,   2327.4,2,   7.5145,2,    25.00,     1013
  49UF20130627,KS1306,  3958,  1,     15,  21974,2,20130728,0935, -5.0253, 164.9922, 2299,    908.8,   4.8614,  34.5368,2,-999.0000,9,    100.6,2,    71.20,2,    37.64,2,     0.00,2,     2.68,2,   2279.0,2,   2334.7,2,   7.5068,2,    25.00,     1010
  49UF20130627,KS1306,  3958,  1,      9,  21968,2,20130728,0935, -5.0253, 164.9922, 2299,   1012.3,   4.4508,  34.5467,2,  34.5464,2,     99.8,2,    80.44,2,    38.13,2,     0.00,2,     2.73,2,   2288.7,2,   2344.5,2,   7.5011,2,    25.00,     1007
  49UF20130627,KS1306,  3958,  1,      8,  21982,2,20130728,0935, -5.0253, 164.9922, 2299,   1213.6,   3.7641,  34.5578,2,  34.5593,2,    119.0,2,    89.76,2,    37.02,2,     0.00,2,     2.63,2,   2288.9,2,   2355.2,2,   7.5265,6,    25.00,     1001
  49UF20130627,KS1306,  3958,  1,      7,  21966,2,20130728,0935, -5.0253, 164.9922, 2299,   1414.9,   3.2026,  34.5862,2,  34.5876,2,    112.5,2,   105.20,2,    37.77,2,     0.00,2,     2.70,2,   2312.5,6,   2372.0,6,   7.5197,2,    25.00,      956
  49UF20130627,KS1306,  3958,  1,      6,  21965,2,20130728,0935, -5.0253, 164.9922, 2299,   1616.1,   2.7850,  34.6049,2,  34.6068,2,    118.0,2,   114.75,2,    37.77,2,     0.00,2,     2.69,2,   2318.0,2,   2383.2,2,   7.5256,2,    25.00,      951
  49UF20130627,KS1306,  3958,  1,      5,  21964,2,20130728,0935, -5.0253, 164.9922, 2299,   1616.1,   2.7850,  34.6049,2,  34.6060,2,    117.5,2,   114.86,2,    37.78,2,     0.00,2,     2.69,2,   2316.6,2,   2382.5,2,   7.5263,2,    25.00,      951
  49UF20130627,KS1306,  3958,  1,      4,  21963,2,20130728,0935, -5.0253, 164.9922, 2299,   1818.4,   2.3691,  34.6281,2,  34.6303,2,    123.2,2,   125.24,2,    37.50,2,     0.00,2,     2.66,2,   2326.0,2,   2395.4,2,   7.5410,2,    25.00,      946
  49UF20130627,KS1306,  3958,  1,      3,  22079,2,20130728,0935, -5.0253, 164.9922, 2299,   2018.8,   2.2404,  34.6358,2,  34.6377,2,    126.0,2,   128.48,2,    37.32,2,     0.00,2,     2.65,2,   2327.4,2,   2398.6,2,   7.5369,2,    25.00,      942
  49UF20130627,KS1306,  3958,  1,      2,  21961,2,20130728,0935, -5.0253, 164.9922, 2299,   2275.9,   2.0515,  34.6473,2,  34.6472,2,    128.3,2,   134.23,6,    37.37,6,     0.00,6,     2.64,6,   2333.1,2,   2404.6,2,   7.5433,2,    25.00,      937
  49UF20130627,KS1306,  3958,  1,      1,  21960,2,20130728,0935, -5.0253, 164.9922, 2299,   2334.1,   2.0136,  34.6495,2,  34.6508,6,    129.4,4,   135.29,2,    37.33,2,     0.00,2,     2.64,2,   2330.5,2,   2400.9,2,   7.5437,2,    25.00,      935
  49UF20130627,KS1306,  3960,  1,     99,     99,2,20130728,2313, -3.0142, 164.9920, 4126,      0.0,  29.9203,  35.0718,2,-999.0000,9,    194.5,2,     1.09,2,     0.07,2,     0.00,2,     0.18,2,   -999.0,9,   -999.0,9,-999.0000,9,  -999.00,     2350
  49UF20130627,KS1306,  3960,  1,     36,  21995,2,20130728,2313, -3.0142, 164.9920, 4126,     11.8,  29.8070,  35.0684,2,-999.0000,9,    194.9,2,     1.10,2,     0.08,2,     0.00,2,     0.18,2,   -999.0,9,   -999.0,9,-999.0000,9,  -999.00,       14
  49UF20130627,KS1306,  3960,  1,     35,  22087,3,20130728,2313, -3.0142, 164.9920, 4126,     25.7,  29.7867,  35.0677,2,-999.0000,9,    195.1,2,     1.10,2,     0.05,2,     0.00,2,     0.18,2,   -999.0,9,   -999.0,9,-999.0000,9,  -999.00,       13
  49UF20130627,KS1306,  3960,  1,     34,  21971,2,20130728,2313, -3.0142, 164.9920, 4126,     52.4,  29.7866,  35.0700,2,-999.0000,9,    195.2,2,     1.06,2,     0.04,2,     0.00,2,     0.18,2,   -999.0,9,   -999.0,9,-999.0000,9,  -999.00,       11
  49UF20130627,KS1306,  3960,  1,     33,  21992,2,20130728,2313, -3.0142, 164.9920, 4126,     77.4,  29.6885,  35.2816,2,-999.0000,9,    192.6,2,     1.15,2,     0.17,2,     0.03,2,     0.23,2,   -999.0,9,   -999.0,9,-999.0000,9,  -999.00,        9
  49UF20130627,KS1306,  3960,  1,     32,  21991,2,20130728,2313, -3.0142, 164.9920, 4126,    102.0,  28.8629,  35.5488,2,-999.0000,9,    172.5,2,     1.60,2,     3.15,2,     0.97,2,     0.49,2,   -999.0,9,   -999.0,9,-999.0000,9,  -999.00,        8
  49UF20130627,KS1306,  3960,  1,     31,  21990,2,20130728,2313, -3.0142, 164.9920, 4126,    126.0,  27.6296,  35.7029,2,-999.0000,9,    157.6,6,     1.95,6,     6.81,6,     0.14,6,     0.67,6,   -999.0,9,   -999.0,9,-999.0000,9,  -999.00,        6
  49UF20130627,KS1306,  3960,  1,     28,  21987,2,20130728,2313, -3.0142, 164.9920, 4126,    152.6,  23.8915,  35.9129,2,-999.0000,9,    136.4,2,     2.41,2,     9.45,2,     0.02,2,     0.86,2,   -999.0,9,   -999.0,9,-999.0000,9,  -999.00,        2
  49UF20130627,KS1306,  3960,  1,     27,  21986,2,20130728,2313, -3.0142, 164.9920, 4126,    152.6,  23.8915,  35.9129,2,-999.0000,9,    136.5,2,     2.42,2,     9.41,2,     0.02,2,     0.86,2,   -999.0,9,   -999.0,9,-999.0000,9,  -999.00,        2
  49UF20130627,KS1306,  3960,  1,     26,  21985,2,20130728,2313, -3.0142, 164.9920, 4126,    204.5,  16.3780,  35.3174,2,-999.0000,9,    110.6,2,     8.09,2,    17.08,2,     0.01,2,     1.36,2,   -999.0,9,   -999.0,9,-999.0000,9,  -999.00,        0
  49UF20130627,KS1306,  3960,  1,     25,  21984,2,20130728,2313, -3.0142, 164.9920, 4126,    253.3,  11.6804,  34.8788,2,-999.0000,9,    135.1,2,    14.70,2,    21.65,2,     0.01,2,     1.58,2,   -999.0,9,   -999.0,9,-999.0000,9,  -999.00,     2358
  49UF20130627,KS1306,  3960,  1,     24,  21983,2,20130728,2313, -3.0142, 164.9920, 4126,    303.5,  10.2716,  34.7578,2,-999.0000,9,    132.6,2,    18.64,2,    24.39,2,     0.00,2,     1.74,2,   -999.0,9,   -999.0,9,-999.0000,9,  -999.00,     2357
  49UF20130627,KS1306,  3960,  1,     18,  21977,2,20130728,2313, -3.0142, 164.9920, 4126,    404.1,   9.1621,  34.6712,2,-999.0000,9,    122.4,2,    23.94,2,    27.80,2,     0.00,2,     1.95,2,   -999.0,9,   -999.0,9,-999.0000,9,  -999.00,     2353
  49UF20130627,KS1306,  3960,  1,     17,  23679,2,20130728,2313, -3.0142, 164.9920, 4126,    504.1,   7.6105,  34.5840,2,-999.0000,9,    102.9,6,    33.47,6,    32.97,6,     0.00,6,     2.31,6,   -999.0,9,   -999.0,9,-999.0000,9,  -999.00,     2351
  49UF20130627,KS1306,  3960,  1,     16,  21975,2,20130728,2313, -3.0142, 164.9920, 4126,    606.9,   6.6696,  34.5603,2,-999.0000,9,     74.1,2,    47.23,2,    37.81,2,     0.00,2,     2.66,2,   -999.0,9,   -999.0,9,-999.0000,9,  -999.00,     2348
  49UF20130627,KS1306,  3960,  1,     15,  21974,2,20130728,2313, -3.0142, 164.9920, 4126,    707.6,   5.7275,  34.5404,2,-999.0000,9,     84.3,2,    58.57,2,    38.25,2,     0.00,2,     2.72,2,   -999.0,9,   -999.0,9,-999.0000,9,  -999.00,     2345
  49UF20130627,KS1306,  3960,  1,      9,  21968,2,20130728,2313, -3.0142, 164.9920, 4126,    807.2,   5.2240,  34.5362,2,-999.0000,9,     92.5,6,    65.42,6,    38.12,6,     0.00,6,     2.71,6,   -999.0,9,   -999.0,9,-999.0000,9,  -999.00,     2342
  49UF20130627,KS1306,  3960,  1,      8,  21982,2,20130728,2313, -3.0142, 164.9920, 4126,    907.6,   4.8225,  34.5380,2,-999.0000,9,     98.4,2,    72.09,2,    37.96,2,     0.00,2,     2.70,2,   -999.0,9,   -999.0,9,-999.0000,9,  -999.00,     2340
  49UF20130627,KS1306,  3960,  1,      7,  21966,2,20130728,2313, -3.0142, 164.9920, 4126,   1008.6,   4.4073,  34.5476,2,-999.0000,9,     98.0,2,    81.24,2,    38.40,2,     0.00,2,     2.74,2,   -999.0,9,   -999.0,9,-999.0000,9,  -999.00,     2337
  49UF20130627,KS1306,  3960,  1,      6,  21965,2,20130728,2313, -3.0142, 164.9920, 4126,   1008.6,   4.4073,  34.5476,2,-999.0000,9,     98.3,2,    81.31,2,    38.36,2,     0.00,2,     2.74,2,   -999.0,9,   -999.0,9,-999.0000,9,  -999.00,     2337
  49UF20130627,KS1306,  3960,  1,      5,  21964,2,20130728,2313, -3.0142, 164.9920, 4126,   1211.1,   3.7490,  34.5682,2,-999.0000,9,    101.3,2,    96.52,2,    38.53,2,     0.00,2,     2.76,2,   -999.0,9,   -999.0,9,-999.0000,9,  -999.00,     2332
  49UF20130627,KS1306,  3960,  1,      4,  21963,2,20130728,2313, -3.0142, 164.9920, 4126,   1415.0,   3.3093,  34.5865,2,-999.0000,9,    101.9,2,   108.15,2,    38.69,2,     0.00,2,     2.77,2,   -999.0,9,   -999.0,9,-999.0000,9,  -999.00,     2327
  49UF20130627,KS1306,  3960,  1,      3,  22079,2,20130728,2313, -3.0142, 164.9920, 4126,   1616.6,   2.8148,  34.6062,2,-999.0000,9,    113.5,2,   116.87,2,    38.08,2,     0.00,2,     2.71,2,   -999.0,9,   -999.0,9,-999.0000,9,  -999.00,     2323
  49UF20130627,KS1306,  3960,  1,      2,  21961,2,20130728,2313, -3.0142, 164.9920, 4126,   1818.7,   2.4660,  34.6247,2,-999.0000,9,    115.9,2,   126.42,2,    38.18,2,     0.00,2,     2.70,2,   -999.0,9,   -999.0,9,-999.0000,9,  -999.00,     2318
  49UF20130627,KS1306,  3960,  1,      1,  21960,2,20130728,2313, -3.0142, 164.9920, 4126,   2022.9,   2.1978,  34.6392,2,-999.0000,9,    120.1,2,   133.62,2,    38.03,2,     0.00,2,     2.68,2,   -999.0,9,   -999.0,9,-999.0000,9,  -999.00,     2313