BOTTLE,20191021PRINUNIVRMK
EXPOCODE,SECT_ID,STNNBR,CASTNO,SAMPNO,BTLNBR,BTLNBR_FLAG_W,DATE,TIME,LATITUDE,LONGITUDE,DEPTH,CTDPRS,CTDTMP,CTDSAL,CTDSAL_FLAG_W,SALNTY,SALNTY_FLAG_W,OXYGEN,OXYGEN_FLAG_W,SILCAT,SILCAT_FLAG_W,NITRAT,NITRAT_FLAG_W,NITRIT,NITRIT_FLAG_W,PHSPHT,PHSPHT_FLAG_W,TCARBN,TCARBN_FLAG_W,ALKALI,ALKALI_FLAG_W,PH_TOT,PH_TOT_FLAG_W,PH_TMP,BTL_TIME
,,,,,,,,,,,METERS,DBAR,ITS-90,PSS-78,,PSS-78,,UMOL/KG,,UMOL/KG,,UMOL/KG,,UMOL/KG,,UMOL/KG,,UMOL/KG,,UMOL/KG,,,,DEG C,
  49UF20130627,KS1306,  3969,  1,     99,     99,2,20130801,0312,  5.9987, 164.9963, 4987,      0.0,  29.2600,  34.2673,2,-999.0000,9,    196.5,2,     0.90,2,     0.03,2,     0.00,2,     0.11,2,   -999.0,9,   -999.0,9,-999.0000,9,  -999.00,      453
  49UF20130627,KS1306,  3969,  1,     36,  21995,2,20130801,0312,  5.9987, 164.9963, 4987,     11.4,  29.2663,  34.2723,2,-999.0000,9,    196.4,2,     0.92,2,     0.06,2,     0.00,2,     0.12,2,   -999.0,9,   -999.0,9,-999.0000,9,  -999.00,      515
  49UF20130627,KS1306,  3969,  1,     35,  22087,2,20130801,0312,  5.9987, 164.9963, 4987,     26.1,  29.2475,  34.2996,2,-999.0000,9,    196.3,2,     0.92,2,     0.01,2,     0.00,2,     0.12,2,   -999.0,9,   -999.0,9,-999.0000,9,  -999.00,      514
  49UF20130627,KS1306,  3969,  1,     34,  21971,2,20130801,0312,  5.9987, 164.9963, 4987,     52.0,  29.0368,  34.4938,2,-999.0000,9,    196.3,2,     0.97,2,     0.04,2,     0.00,2,     0.13,2,   -999.0,9,   -999.0,9,-999.0000,9,  -999.00,      512
  49UF20130627,KS1306,  3969,  1,     33,  21992,2,20130801,0312,  5.9987, 164.9963, 4987,     76.2,  28.8272,  34.6515,2,-999.0000,9,    198.5,2,     0.97,2,     0.00,2,     0.00,2,     0.15,2,   -999.0,9,   -999.0,9,-999.0000,9,  -999.00,      511
  49UF20130627,KS1306,  3969,  1,     32,  21991,2,20130801,0312,  5.9987, 164.9963, 4987,    102.8,  27.9123,  34.8943,2,-999.0000,9,    189.9,2,     1.25,2,     0.47,2,     0.27,2,     0.24,2,   -999.0,9,   -999.0,9,-999.0000,9,  -999.00,      509
  49UF20130627,KS1306,  3969,  1,     31,  21990,2,20130801,0312,  5.9987, 164.9963, 4987,    126.7,  22.9220,  34.9897,2,-999.0000,9,    179.4,2,     2.57,2,     2.32,2,     0.35,2,     0.36,2,   -999.0,9,   -999.0,9,-999.0000,9,  -999.00,      508
  49UF20130627,KS1306,  3969,  1,     30,  21989,2,20130801,0312,  5.9987, 164.9963, 4987,    153.3,  16.4151,  34.6607,2,-999.0000,9,    125.4,6,    12.93,6,    14.64,6,     0.01,6,     1.13,6,   -999.0,9,   -999.0,9,-999.0000,9,  -999.00,      506
  49UF20130627,KS1306,  3969,  1,     29,  21988,2,20130801,0312,  5.9987, 164.9963, 4987,    203.2,  11.6204,  34.5349,2,-999.0000,9,     61.6,2,    26.85,2,    27.56,2,     0.00,2,     2.07,2,   -999.0,9,   -999.0,9,-999.0000,9,  -999.00,      503
  49UF20130627,KS1306,  3969,  1,     28,  21987,2,20130801,0312,  5.9987, 164.9963, 4987,    253.2,  10.1493,  34.6572,2,-999.0000,9,     41.4,2,    32.13,2,    32.67,2,     0.00,2,     2.36,2,   -999.0,9,   -999.0,9,-999.0000,9,  -999.00,      501
  49UF20130627,KS1306,  3969,  1,     27,  21986,2,20130801,0312,  5.9987, 164.9963, 4987,    303.0,   9.4502,  34.6458,2,-999.0000,9,     47.8,6,    34.47,6,    33.53,6,     0.00,6,     2.40,6,   -999.0,9,   -999.0,9,-999.0000,9,  -999.00,      459
  49UF20130627,KS1306,  3969,  1,     26,  21985,2,20130801,0312,  5.9987, 164.9963, 4987,    404.2,   8.5715,  34.6180,2,-999.0000,9,     63.9,2,    37.24,2,    33.95,2,     0.00,2,     2.42,2,   -999.0,9,   -999.0,9,-999.0000,9,  -999.00,      457
  49UF20130627,KS1306,  3969,  1,     25,  21984,2,20130801,0312,  5.9987, 164.9963, 4987,    504.1,   7.7809,  34.5901,2,-999.0000,9,     57.7,2,    43.55,2,    36.16,2,     0.00,2,     2.59,2,   -999.0,9,   -999.0,9,-999.0000,9,  -999.00,      454
  49UF20130627,KS1306,  3969,  1,     24,  21983,2,20130801,0312,  5.9987, 164.9963, 4987,    607.4,   6.9219,  34.5561,2,-999.0000,9,     52.9,2,    54.09,2,    37.86,2,     0.00,2,     2.75,2,   -999.0,9,   -999.0,9,-999.0000,9,  -999.00,      451
  49UF20130627,KS1306,  3969,  1,     23,  22095,2,20130801,0312,  5.9987, 164.9963, 4987,    708.0,   6.0918,  34.5419,2,-999.0000,9,     64.7,2,    63.29,2,    38.44,2,     0.00,2,     2.77,2,   -999.0,9,   -999.0,9,-999.0000,9,  -999.00,      449
  49UF20130627,KS1306,  3969,  1,     22,  21981,2,20130801,0312,  5.9987, 164.9963, 4987,    808.3,   5.5200,  34.5410,2,-999.0000,9,     63.6,2,    73.20,2,    39.43,2,     0.00,2,     2.84,2,   -999.0,9,   -999.0,9,-999.0000,9,  -999.00,      446
  49UF20130627,KS1306,  3969,  1,     21,  21980,2,20130801,0312,  5.9987, 164.9963, 4987,    909.2,   5.0278,  34.5462,2,-999.0000,9,     65.7,2,    81.83,2,    39.72,2,     0.00,2,     2.88,2,   -999.0,9,   -999.0,9,-999.0000,9,  -999.00,      444
  49UF20130627,KS1306,  3969,  1,     20,  21979,2,20130801,0312,  5.9987, 164.9963, 4987,   1010.0,   4.5217,  34.5561,2,-999.0000,9,     71.3,2,    90.95,2,    39.98,2,     0.00,2,     2.89,2,   -999.0,9,   -999.0,9,-999.0000,9,  -999.00,      441
  49UF20130627,KS1306,  3969,  1,     19,  21978,2,20130801,0312,  5.9987, 164.9963, 4987,   1211.2,   3.8373,  34.5739,2,-999.0000,9,     79.1,2,   105.05,2,    39.88,2,     0.00,2,     2.88,2,   -999.0,9,   -999.0,9,-999.0000,9,  -999.00,      437
  49UF20130627,KS1306,  3969,  1,     18,  21977,2,20130801,0312,  5.9987, 164.9963, 4987,   1415.8,   3.3649,  34.5883,2,-999.0000,9,     85.0,2,   115.56,2,    39.81,2,     0.00,2,     2.87,2,   -999.0,9,   -999.0,9,-999.0000,9,  -999.00,      432
  49UF20130627,KS1306,  3969,  1,     17,  23679,2,20130801,0312,  5.9987, 164.9963, 4987,   1617.9,   2.8699,  34.6056,2,-999.0000,9,     91.5,2,   127.24,2,    39.53,2,     0.00,2,     2.84,2,   -999.0,9,   -999.0,9,-999.0000,9,  -999.00,      427
  49UF20130627,KS1306,  3969,  1,     16,  21975,2,20130801,0312,  5.9987, 164.9963, 4987,   1821.3,   2.4697,  34.6231,2,-999.0000,9,     98.8,2,   136.36,2,    39.20,2,     0.00,2,     2.80,2,   -999.0,9,   -999.0,9,-999.0000,9,  -999.00,      423
  49UF20130627,KS1306,  3969,  1,     15,  21974,2,20130801,0312,  5.9987, 164.9963, 4987,   2022.8,   2.1910,  34.6393,2,-999.0000,9,    107.0,2,   141.65,2,    38.72,2,     0.00,2,     2.76,2,   -999.0,9,   -999.0,9,-999.0000,9,  -999.00,      418
  49UF20130627,KS1306,  3969,  1,     14,  21973,2,20130801,0312,  5.9987, 164.9963, 4987,   2279.5,   1.9750,  34.6515,2,-999.0000,9,    115.3,2,   145.54,2,    38.35,2,     0.00,2,     2.72,2,   -999.0,9,   -999.0,9,-999.0000,9,  -999.00,      412
  49UF20130627,KS1306,  3969,  1,     13,  21972,2,20130801,0312,  5.9987, 164.9963, 4987,   2279.5,   1.9750,  34.6515,2,-999.0000,9,    115.4,2,   145.68,2,    38.40,2,     0.00,2,     2.72,2,   -999.0,9,   -999.0,9,-999.0000,9,  -999.00,      412
  49UF20130627,KS1306,  3969,  1,     12,  21994,2,20130801,0312,  5.9987, 164.9963, 4987,   2534.5,   1.8311,  34.6607,2,-999.0000,9,    121.8,6,   147.79,6,    37.84,6,     0.00,6,     2.68,6,   -999.0,9,   -999.0,9,-999.0000,9,  -999.00,      407
  49UF20130627,KS1306,  3969,  1,     11,  21970,2,20130801,0312,  5.9987, 164.9963, 4987,   2785.5,   1.7395,  34.6658,2,-999.0000,9,    128.2,2,   148.28,2,    37.51,2,     0.00,2,     2.65,2,   -999.0,9,   -999.0,9,-999.0000,9,  -999.00,      401
  49UF20130627,KS1306,  3969,  1,     10,  21969,2,20130801,0312,  5.9987, 164.9963, 4987,   3040.3,   1.6474,  34.6714,2,-999.0000,9,    135.2,2,   147.83,2,    36.89,2,     0.00,2,     2.61,2,   -999.0,9,   -999.0,9,-999.0000,9,  -999.00,      356
  49UF20130627,KS1306,  3969,  1,      9,  21968,2,20130801,0312,  5.9987, 164.9963, 4987,   3295.7,   1.5694,  34.6770,2,-999.0000,9,    142.7,2,   146.53,2,    36.56,2,     0.00,2,     2.56,2,   -999.0,9,   -999.0,9,-999.0000,9,  -999.00,      351
  49UF20130627,KS1306,  3969,  1,      8,  21982,2,20130801,0312,  5.9987, 164.9963, 4987,   3551.8,   1.5087,  34.6819,2,-999.0000,9,    149.7,2,   144.98,2,    36.02,2,     0.00,2,     2.53,2,   -999.0,9,   -999.0,9,-999.0000,9,  -999.00,      345
  49UF20130627,KS1306,  3969,  1,      7,  21966,2,20130801,0312,  5.9987, 164.9963, 4987,   3806.4,   1.4558,  34.6870,2,-999.0000,9,    158.1,2,   141.52,2,    35.48,2,     0.00,2,     2.49,2,   -999.0,9,   -999.0,9,-999.0000,9,  -999.00,      339
  49UF20130627,KS1306,  3969,  1,      6,  21965,2,20130801,0312,  5.9987, 164.9963, 4987,   4062.4,   1.4330,  34.6902,2,-999.0000,9,    163.7,2,   138.57,2,    34.99,2,     0.00,2,     2.45,2,   -999.0,9,   -999.0,9,-999.0000,9,  -999.00,      334
  49UF20130627,KS1306,  3969,  1,      5,  21964,2,20130801,0312,  5.9987, 164.9963, 4987,   4320.5,   1.4188,  34.6932,2,-999.0000,9,    168.3,2,   135.60,2,    34.64,2,     0.00,2,     2.42,2,   -999.0,9,   -999.0,9,-999.0000,9,  -999.00,      329
  49UF20130627,KS1306,  3969,  1,      4,  21963,2,20130801,0312,  5.9987, 164.9963, 4987,   4576.2,   1.4072,  34.6958,2,-999.0000,9,    174.4,2,   133.04,2,    34.21,2,     0.00,2,     2.39,2,   -999.0,9,   -999.0,9,-999.0000,9,  -999.00,      323
  49UF20130627,KS1306,  3969,  1,      3,  22079,2,20130801,0312,  5.9987, 164.9963, 4987,   4832.4,   1.3884,  34.6984,2,-999.0000,9,    179.6,6,   129.90,6,    33.85,6,     0.00,6,     2.36,6,   -999.0,9,   -999.0,9,-999.0000,9,  -999.00,      318
  49UF20130627,KS1306,  3969,  1,      1,  21960,2,20130801,0312,  5.9987, 164.9963, 4987,   5072.4,   1.3780,  34.7008,2,-999.0000,9,    184.6,2,   127.68,2,    33.60,2,     0.00,2,     2.34,2,   -999.0,9,   -999.0,9,-999.0000,9,  -999.00,      312
  49UF20130627,KS1306,  3969,  1,      2,  21961,2,20130801,0312,  5.9987, 164.9963, 4987,   5072.7,   1.3780,  34.7007,2,-999.0000,9,    184.9,2,   127.31,2,    33.42,2,     0.00,2,     2.34,2,   -999.0,9,   -999.0,9,-999.0000,9,  -999.00,      312
  49UF20130627,KS1306,  3970,  1,     99,     99,2,20130801,1236,  6.9668, 164.4775, 5095,      0.0,  29.0583,  34.4460,2,-999.0000,9,    196.5,2,     0.99,2,     0.00,2,     0.00,2,     0.16,2,   -999.0,9,   -999.0,9,-999.0000,9,  -999.00,     1407
  49UF20130627,KS1306,  3970,  1,     36,  21995,2,20130801,1236,  6.9668, 164.4775, 5095,     12.1,  29.0680,  34.4463,2,  34.4440,6,    196.2,2,     0.99,2,     0.00,2,     0.00,2,     0.13,2,   -999.0,9,   -999.0,9,-999.0000,9,  -999.00,     1446
  49UF20130627,KS1306,  3970,  1,     35,  22087,2,20130801,1236,  6.9668, 164.4775, 5095,     26.5,  29.0745,  34.4455,2,-999.0000,9,    196.2,2,     0.93,2,     0.00,2,     0.00,2,     0.13,2,   -999.0,9,   -999.0,9,-999.0000,9,  -999.00,     1445
  49UF20130627,KS1306,  3970,  1,     34,  21971,2,20130801,1236,  6.9668, 164.4775, 5095,     52.1,  29.0733,  34.4508,2,-999.0000,9,    196.4,2,     0.94,2,     0.00,2,     0.00,2,     0.14,2,   -999.0,9,   -999.0,9,-999.0000,9,  -999.00,     1442
  49UF20130627,KS1306,  3970,  1,     33,  21992,2,20130801,1236,  6.9668, 164.4775, 5095,     76.5,  28.8924,  34.5995,2,-999.0000,9,    197.9,2,     0.97,2,     0.00,2,     0.00,2,     0.15,2,   -999.0,9,   -999.0,9,-999.0000,9,  -999.00,     1441
  49UF20130627,KS1306,  3970,  1,     32,  21991,2,20130801,1236,  6.9668, 164.4775, 5095,    102.0,  27.9307,  34.7792,2,  34.7843,4,    196.6,2,     1.07,2,     0.00,2,     0.00,2,     0.18,2,   -999.0,9,   -999.0,9,-999.0000,9,  -999.00,     1439
  49UF20130627,KS1306,  3970,  1,     31,  21990,2,20130801,1236,  6.9668, 164.4775, 5095,    126.5,  22.5283,  34.9398,2,-999.0000,9,    178.3,6,     2.69,6,     2.11,6,     0.55,6,     0.38,6,   -999.0,9,   -999.0,9,-999.0000,9,  -999.00,     1438
  49UF20130627,KS1306,  3970,  1,     30,  21989,2,20130801,1236,  6.9668, 164.4775, 5095,    151.2,  18.1455,  34.7495,2,-999.0000,9,    155.9,2,     6.18,2,     8.00,2,     0.03,2,     0.70,2,   -999.0,9,   -999.0,9,-999.0000,9,  -999.00,     1436
  49UF20130627,KS1306,  3970,  1,     29,  21988,2,20130801,1236,  6.9668, 164.4775, 5095,    203.1,  11.6136,  34.5216,2,  34.5143,4,     73.8,2,    25.57,2,    25.96,2,     0.00,2,     1.96,2,   -999.0,9,   -999.0,9,-999.0000,9,  -999.00,     1431
  49UF20130627,KS1306,  3970,  1,     28,  21987,2,20130801,1236,  6.9668, 164.4775, 5095,    255.4,  10.1583,  34.6236,2,-999.0000,9,     36.4,2,    32.79,2,    32.80,2,     0.00,2,     2.40,2,   -999.0,9,   -999.0,9,-999.0000,9,  -999.00,     1429
  49UF20130627,KS1306,  3970,  1,     27,  21986,2,20130801,1236,  6.9668, 164.4775, 5095,    304.8,   9.4249,  34.6233,2,-999.0000,9,     39.8,2,    35.93,2,    34.02,2,     0.00,2,     2.46,2,   -999.0,9,   -999.0,9,-999.0000,9,  -999.00,     1427
  49UF20130627,KS1306,  3970,  1,     26,  21985,2,20130801,1236,  6.9668, 164.4775, 5095,    404.1,   8.4497,  34.5944,2,  34.5942,2,     48.4,6,    41.36,6,    35.14,6,     0.00,6,     2.55,6,   -999.0,9,   -999.0,9,-999.0000,9,  -999.00,     1423
  49UF20130627,KS1306,  3970,  1,     25,  21984,2,20130801,1236,  6.9668, 164.4775, 5095,    507.1,   7.6750,  34.5730,2,-999.0000,9,     63.1,2,    36.02,2,    34.08,2,     0.00,2,     2.46,2,   -999.0,9,   -999.0,9,-999.0000,9,  -999.00,     1419
  49UF20130627,KS1306,  3970,  1,     24,  21983,2,20130801,1236,  6.9668, 164.4775, 5095,    607.8,   6.9490,  34.5519,2,  34.5513,2,     60.6,2,    53.55,2,    37.02,2,     0.00,2,     2.69,2,   -999.0,9,   -999.0,9,-999.0000,9,  -999.00,     1415
  49UF20130627,KS1306,  3970,  1,     23,  22095,2,20130801,1236,  6.9668, 164.4775, 5095,    707.5,   6.1429,  34.5411,2,-999.0000,9,     61.2,2,    64.05,2,    38.39,2,     0.00,2,     2.79,2,   -999.0,9,   -999.0,9,-999.0000,9,  -999.00,     1412
  49UF20130627,KS1306,  3970,  1,     22,  21981,2,20130801,1236,  6.9668, 164.4775, 5095,    808.1,   5.3839,  34.5408,2,  34.5396,2,     62.8,2,    75.92,2,    39.57,2,     0.00,2,     2.87,2,   -999.0,9,   -999.0,9,-999.0000,9,  -999.00,     1408
  49UF20130627,KS1306,  3970,  1,     21,  21980,2,20130801,1236,  6.9668, 164.4775, 5095,    907.8,   4.8852,  34.5478,2,-999.0000,9,     68.1,2,    84.62,2,    39.74,2,     0.00,2,     2.88,2,   -999.0,9,   -999.0,9,-999.0000,9,  -999.00,     1405
  49UF20130627,KS1306,  3970,  1,     20,  21979,2,20130801,1236,  6.9668, 164.4775, 5095,   1010.0,   4.4794,  34.5550,2,  34.5538,6,     72.7,2,    93.22,2,    39.66,2,     0.00,2,     2.88,2,   -999.0,9,   -999.0,9,-999.0000,9,  -999.00,     1401
  49UF20130627,KS1306,  3970,  1,     19,  21978,2,20130801,1236,  6.9668, 164.4775, 5095,   1211.9,   3.8121,  34.5732,2,  34.5729,2,     80.9,2,   106.76,2,    39.65,2,     0.00,2,     2.87,2,   -999.0,9,   -999.0,9,-999.0000,9,  -999.00,     1355
  49UF20130627,KS1306,  3970,  1,     18,  21977,2,20130801,1236,  6.9668, 164.4775, 5095,   1413.3,   3.3234,  34.5896,2,  34.5887,2,     85.5,2,   116.60,2,    39.75,2,     0.00,2,     2.88,2,   -999.0,9,   -999.0,9,-999.0000,9,  -999.00,     1350
  49UF20130627,KS1306,  3970,  1,     17,  23679,2,20130801,1236,  6.9668, 164.4775, 5095,   1618.6,   2.8572,  34.6063,2,  34.6052,2,     92.3,2,   128.06,2,    39.50,2,     0.00,2,     2.85,2,   -999.0,9,   -999.0,9,-999.0000,9,  -999.00,     1345
  49UF20130627,KS1306,  3970,  1,     16,  21975,2,20130801,1236,  6.9668, 164.4775, 5095,   1821.0,   2.5032,  34.6215,2,  34.6204,2,     99.7,2,   135.69,2,    39.18,2,     0.00,2,     2.81,2,   -999.0,9,   -999.0,9,-999.0000,9,  -999.00,     1340
  49UF20130627,KS1306,  3970,  1,     15,  21974,2,20130801,1236,  6.9668, 164.4775, 5095,   1821.0,   2.5032,  34.6215,2,  34.6207,2,     99.4,2,   135.32,2,    39.08,2,     0.00,2,     2.81,2,   -999.0,9,   -999.0,9,-999.0000,9,  -999.00,     1340
  49UF20130627,KS1306,  3970,  1,     14,  21973,2,20130801,1236,  6.9668, 164.4775, 5095,   2023.3,   2.2029,  34.6377,2,  34.6361,2,    107.2,2,   141.48,2,    38.52,2,     0.00,2,     2.77,2,   -999.0,9,   -999.0,9,-999.0000,9,  -999.00,     1336
  49UF20130627,KS1306,  3970,  1,     13,  21972,2,20130801,1236,  6.9668, 164.4775, 5095,   2275.0,   1.9862,  34.6508,2,  34.6490,2,    114.2,2,   145.99,2,    38.31,2,     0.00,2,     2.73,2,   -999.0,9,   -999.0,9,-999.0000,9,  -999.00,     1330
  49UF20130627,KS1306,  3970,  1,     12,  21994,2,20130801,1236,  6.9668, 164.4775, 5095,   2529.1,   1.8525,  34.6593,2,  34.6579,2,    120.5,2,   148.08,2,    37.84,2,     0.00,2,     2.69,2,   -999.0,9,   -999.0,9,-999.0000,9,  -999.00,     1326
  49UF20130627,KS1306,  3970,  1,     11,  21970,2,20130801,1236,  6.9668, 164.4775, 5095,   2780.8,   1.7437,  34.6655,2,  34.6647,2,    127.8,6,   147.97,6,    37.25,6,     0.00,6,     2.65,6,   -999.0,9,   -999.0,9,-999.0000,9,  -999.00,     1321
  49UF20130627,KS1306,  3970,  1,     10,  21969,2,20130801,1236,  6.9668, 164.4775, 5095,   3039.1,   1.6480,  34.6713,2,  34.6695,2,    135.3,2,   148.03,2,    36.72,2,     0.00,2,     2.61,2,   -999.0,9,   -999.0,9,-999.0000,9,  -999.00,     1317
  49UF20130627,KS1306,  3970,  1,      9,  21968,2,20130801,1236,  6.9668, 164.4775, 5095,   3293.2,   1.5606,  34.6775,2,  34.6755,2,    142.5,2,   146.56,2,    36.18,2,     0.00,2,     2.57,2,   -999.0,9,   -999.0,9,-999.0000,9,  -999.00,     1312
  49UF20130627,KS1306,  3970,  1,      8,  21982,2,20130801,1236,  6.9668, 164.4775, 5095,   3549.2,   1.5094,  34.6818,2,  34.6806,2,    149.5,2,   144.98,2,    35.76,2,     0.00,2,     2.53,2,   -999.0,9,   -999.0,9,-999.0000,9,  -999.00,     1308
  49UF20130627,KS1306,  3970,  1,      7,  21966,2,20130801,1236,  6.9668, 164.4775, 5095,   3803.2,   1.4598,  34.6865,2,  34.6849,6,    156.3,2,   142.17,2,    35.28,2,     0.00,2,     2.50,2,   -999.0,9,   -999.0,9,-999.0000,9,  -999.00,     1303
  49UF20130627,KS1306,  3970,  1,      6,  21965,2,20130801,1236,  6.9668, 164.4775, 5095,   4059.2,   1.4278,  34.6905,2,  34.6900,2,    163.9,2,   138.40,2,    34.73,2,     0.00,2,     2.45,2,   -999.0,9,   -999.0,9,-999.0000,9,  -999.00,     1259
  49UF20130627,KS1306,  3970,  1,      5,  21964,2,20130801,1236,  6.9668, 164.4775, 5095,   4315.3,   1.4034,  34.6941,2,  34.6925,2,    170.6,2,   134.46,2,    34.24,2,     0.00,2,     2.42,2,   -999.0,9,   -999.0,9,-999.0000,9,  -999.00,     1254
  49UF20130627,KS1306,  3970,  1,      4,  21963,2,20130801,1236,  6.9668, 164.4775, 5095,   4570.8,   1.3988,  34.6963,2,  34.6953,2,    175.5,6,   132.22,6,    33.90,6,     0.00,6,     2.39,6,   -999.0,9,   -999.0,9,-999.0000,9,  -999.00,     1249
  49UF20130627,KS1306,  3970,  1,      3,  22079,2,20130801,1236,  6.9668, 164.4775, 5095,   4831.3,   1.3876,  34.6984,2,  34.6977,2,    179.1,2,   129.67,2,    33.56,2,     0.00,2,     2.37,2,   -999.0,9,   -999.0,9,-999.0000,9,  -999.00,     1244
  49UF20130627,KS1306,  3970,  1,      2,  21961,2,20130801,1236,  6.9668, 164.4775, 5095,   5088.2,   1.3936,  34.7000,2,  34.7004,6,    183.3,2,   128.08,2,    33.44,2,     0.00,2,     2.35,2,   -999.0,9,   -999.0,9,-999.0000,9,  -999.00,     1238
  49UF20130627,KS1306,  3970,  1,      1,  21960,2,20130801,1236,  6.9668, 164.4775, 5095,   5168.6,   1.3905,  34.7007,2,  34.7003,6,    183.2,2,   128.14,2,    33.38,2,     0.00,2,     2.35,2,   -999.0,9,   -999.0,9,-999.0000,9,  -999.00,     1236