BOTTLE,20191021PRINUNIVRMK
EXPOCODE,SECT_ID,STNNBR,CASTNO,SAMPNO,BTLNBR,BTLNBR_FLAG_W,DATE,TIME,LATITUDE,LONGITUDE,DEPTH,CTDPRS,CTDTMP,CTDSAL,CTDSAL_FLAG_W,SALNTY,SALNTY_FLAG_W,OXYGEN,OXYGEN_FLAG_W,SILCAT,SILCAT_FLAG_W,NITRAT,NITRAT_FLAG_W,NITRIT,NITRIT_FLAG_W,PHSPHT,PHSPHT_FLAG_W,TCARBN,TCARBN_FLAG_W,ALKALI,ALKALI_FLAG_W,PH_TOT,PH_TOT_FLAG_W,PH_TMP,BTL_TIME
,,,,,,,,,,,METERS,DBAR,ITS-90,PSS-78,,PSS-78,,UMOL/KG,,UMOL/KG,,UMOL/KG,,UMOL/KG,,UMOL/KG,,UMOL/KG,,UMOL/KG,,,,DEG C,
  49UF20130627,KS1306,  3920,  1,     99,     99,2,20130701,0119, 23.9815, 136.9853, 4131,      0.0,  29.0091,  34.5536,2,  34.5573,4,    197.7,2,     1.11,2,     0.03,2,     0.00,2,     0.02,2,   1947.2,2,   2271.2,2,   8.0908,2,    25.00,      237
  49UF20130627,KS1306,  3920,  1,     36,  21995,2,20130701,0119, 23.9815, 136.9853, 4131,     10.4,  28.8587,  34.5463,2,  34.5439,2,    198.6,2,     1.05,2,     0.00,2,     0.00,2,     0.01,2,   1944.1,2,   2259.8,2,   8.0878,2,    25.00,      306
  49UF20130627,KS1306,  3920,  1,     35,  22087,2,20130701,0119, 23.9815, 136.9853, 4131,     26.4,  26.8799,  34.5622,2,-999.0000,9,    209.9,2,     1.08,2,     0.02,2,     0.00,2,     0.01,2,   1948.5,2,   2261.6,2,   8.0891,2,    25.00,      304
  49UF20130627,KS1306,  3920,  1,     34,  21971,2,20130701,0119, 23.9815, 136.9853, 4131,     50.8,  24.5980,  34.5947,2,-999.0000,9,    218.5,2,     1.35,2,     0.00,2,     0.00,2,     0.01,2,   1965.7,2,   2267.3,2,   8.0634,2,    25.00,      300
  49UF20130627,KS1306,  3920,  1,     33,  21992,2,20130701,0119, 23.9815, 136.9853, 4131,     75.2,  22.6297,  34.8722,2,-999.0000,9,    214.1,2,     1.39,2,     0.02,2,     0.00,2,     0.01,2,   1986.9,2,   2285.0,2,   8.0498,2,    25.00,      259
  49UF20130627,KS1306,  3920,  1,     32,  21991,3,20130701,0119, 23.9815, 136.9853, 4131,    102.4,  21.5443,  34.9053,2,  34.9031,2,    208.8,2,     1.63,2,     0.07,2,     0.00,2,     0.03,2,   2002.2,2,   2289.2,2,   8.0270,2,    25.00,      258
  49UF20130627,KS1306,  3920,  1,     31,  21990,2,20130701,0119, 23.9815, 136.9853, 4131,    128.7,  20.6133,  34.8783,2,-999.0000,9,    204.3,2,     1.90,2,     0.76,2,     0.05,2,     0.08,2,   2012.6,2,   2284.0,2,   8.0071,2,    25.00,      257
  49UF20130627,KS1306,  3920,  1,     30,  21989,2,20130701,0119, 23.9815, 136.9853, 4131,    128.7,  20.6133,  34.8783,2,-999.0000,9,    204.4,2,     1.85,2,     0.74,2,     0.05,2,     0.08,2,   2008.8,2,   2287.0,2,   8.0060,2,    25.00,      257
  49UF20130627,KS1306,  3920,  1,     29,  21988,2,20130701,0119, 23.9815, 136.9853, 4131,    150.8,  19.6731,  34.8144,2,-999.0000,9,    215.1,2,     1.97,2,     0.82,2,     0.11,2,     0.08,2,   2008.2,2,   2282.1,2,   8.0089,2,    25.00,      255
  49UF20130627,KS1306,  3920,  1,     28,  21987,2,20130701,0119, 23.9815, 136.9853, 4131,    202.6,  18.6041,  34.7718,2,  34.7722,2,    216.2,6,     2.37,6,     2.01,6,     0.02,6,     0.15,6,   2009.1,2,   2277.3,2,   7.9949,2,    25.00,      253
  49UF20130627,KS1306,  3920,  1,     27,  21986,2,20130701,0119, 23.9815, 136.9853, 4131,    251.2,  17.9844,  34.7555,2,-999.0000,9,    209.2,2,     3.27,2,     3.42,2,     0.01,2,     0.23,2,   2020.9,2,   2277.8,2,   7.9705,2,    25.00,      252
  49UF20130627,KS1306,  3920,  1,     26,  21985,2,20130701,0119, 23.9815, 136.9853, 4131,    302.0,  17.3556,  34.7197,2,-999.0000,9,    207.0,6,     4.03,6,     4.59,6,     0.01,6,     0.31,6,   2030.6,2,   2272.6,2,   7.9542,2,    25.00,      250
  49UF20130627,KS1306,  3920,  1,     24,  21983,2,20130701,0119, 23.9815, 136.9853, 4131,    403.5,  15.1859,  34.5687,2,  34.5702,2,    189.3,2,     9.90,2,     9.52,2,     0.00,2,     0.66,2,   2067.4,2,   2281.0,2,   7.8728,2,    25.00,      247
  49UF20130627,KS1306,  3920,  1,     23,  22095,2,20130701,0119, 23.9815, 136.9853, 4131,    504.4,  11.7584,  34.3335,2,-999.0000,9,    179.5,6,    20.67,6,    15.86,6,     0.00,6,     1.13,6,   2112.4,2,   2269.0,2,   7.7694,2,    25.00,      244
  49UF20130627,KS1306,  3920,  1,     22,  21981,2,20130701,0119, 23.9815, 136.9853, 4131,    605.4,   9.0142,  34.1643,2,  34.1654,2,    160.3,2,    35.20,2,    22.44,2,     0.00,2,     1.62,2,   2161.3,2,   2274.1,2,   7.6649,2,    25.00,      242
  49UF20130627,KS1306,  3920,  1,     21,  21980,2,20130701,0119, 23.9815, 136.9853, 4131,    706.7,   6.5767,  34.1137,2,-999.0000,9,    119.9,2,    60.47,2,    30.19,2,     0.00,2,     2.20,2,   2228.0,2,   2294.3,2,   7.5366,2,    25.00,      239
  49UF20130627,KS1306,  3920,  1,     20,  21979,2,20130701,0119, 23.9815, 136.9853, 4131,    807.3,   5.3069,  34.1687,2,  34.1678,2,     81.3,2,    83.13,2,    36.07,2,     0.00,2,     2.62,2,   2278.6,6,   2314.5,6,   7.4498,2,    25.00,      236
  49UF20130627,KS1306,  3920,  1,     19,  21978,2,20130701,0119, 23.9815, 136.9853, 4131,    908.7,   4.3342,  34.2534,2,-999.0000,9,     61.9,2,   104.63,2,    39.25,2,     0.00,2,     2.83,2,   2317.1,2,   2336.5,2,   7.4044,6,    25.00,      233
  49UF20130627,KS1306,  3920,  1,     18,  21977,2,20130701,0119, 23.9815, 136.9853, 4131,   1008.3,   3.8865,  34.3277,2,  34.3285,2,     54.3,2,   115.26,2,    40.44,2,     0.00,2,     2.91,2,   2332.8,2,   2353.3,2,   7.3942,2,    25.00,      230
  49UF20130627,KS1306,  3920,  1,     17,  23679,2,20130701,0119, 23.9815, 136.9853, 4131,   1210.0,   3.1919,  34.4376,2,  34.4366,2,     58.0,2,   130.40,2,    40.88,2,     0.00,2,     2.94,2,   2352.8,2,   2378.8,2,   7.4076,2,    25.00,      225
  49UF20130627,KS1306,  3920,  1,     16,  21975,2,20130701,0119, 23.9815, 136.9853, 4131,   1413.4,   2.8149,  34.5063,2,  34.5069,2,     73.1,2,   136.12,2,    40.36,2,     0.00,2,     2.88,2,   2349.7,2,   2386.9,2,   7.4394,2,    25.00,      220
  49UF20130627,KS1306,  3920,  1,     15,  21974,2,20130701,0119, 23.9815, 136.9853, 4131,   1413.4,   2.8149,  34.5063,2,  34.5072,6,     72.7,2,   136.13,2,    40.31,2,     0.00,2,     2.88,2,   2350.1,2,   2385.6,2,   7.4379,2,    25.00,      220
  49UF20130627,KS1306,  3920,  1,     14,  21973,2,20130701,0119, 23.9815, 136.9853, 4131,   1617.9,   2.4887,  34.5565,2,  34.5557,2,     89.3,2,   139.56,2,    39.49,2,     0.00,2,     2.81,2,   2348.0,2,   2397.2,2,   7.4735,2,    25.00,      215
  49UF20130627,KS1306,  3920,  1,     13,  21972,2,20130701,0119, 23.9815, 136.9853, 4131,   1821.1,   2.2190,  34.5948,2,  34.5942,2,    104.8,2,   141.06,2,    38.67,2,     0.00,2,     2.75,2,   2342.5,2,   2401.5,2,   7.5003,2,    25.00,      210
  49UF20130627,KS1306,  3920,  1,      9,  21968,2,20130701,0119, 23.9815, 136.9853, 4131,   2023.3,   2.0755,  34.6099,2,  34.6104,2,    111.5,2,   141.92,2,    38.41,2,     0.00,2,     2.71,2,   2340.8,2,   2401.5,2,   7.5098,3,    25.00,      205
  49UF20130627,KS1306,  3920,  1,      8,  21982,2,20130701,0119, 23.9815, 136.9853, 4131,   2276.7,   1.8895,  34.6320,2,  34.6325,2,    121.8,6,   142.86,6,    37.73,6,     0.00,6,     2.67,6,   2336.6,2,   2405.9,2,   7.5304,2,    25.00,      159
  49UF20130627,KS1306,  3920,  1,      7,  21966,2,20130701,0119, 23.9815, 136.9853, 4131,   2531.0,   1.7705,  34.6461,2,  34.6453,2,    129.2,2,   143.20,2,    37.37,2,     0.00,2,     2.63,2,   -999.0,9,   -999.0,9,-999.0000,9,  -999.00,      154
  49UF20130627,KS1306,  3920,  1,      6,  21965,2,20130701,0119, 23.9815, 136.9853, 4131,   2788.2,   1.7094,  34.6540,2,  34.6539,2,    134.0,2,   143.21,2,    36.95,2,     0.00,2,     2.61,2,   2330.2,2,   2410.5,2,   7.5497,2,    25.00,      148
  49UF20130627,KS1306,  3920,  1,      5,  21964,2,20130701,0119, 23.9815, 136.9853, 4131,   3042.4,   1.6371,  34.6629,2,  34.6630,2,    140.0,2,   143.08,2,    36.64,2,     0.00,2,     2.58,2,   -999.0,9,   -999.0,9,-999.0000,9,  -999.00,      142
  49UF20130627,KS1306,  3920,  1,      4,  21963,2,20130701,0119, 23.9815, 136.9853, 4131,   3297.1,   1.5994,  34.6689,2,  34.6692,2,    144.3,2,   142.59,2,    36.44,2,     0.00,2,     2.56,2,   2326.7,2,   2409.9,2,   7.5661,2,    25.00,      136
  49UF20130627,KS1306,  3920,  1,      3,  22079,2,20130701,0119, 23.9815, 136.9853, 4131,   3554.4,   1.5728,  34.6736,2,  34.6735,2,    148.2,2,   142.04,2,    36.07,2,     0.00,2,     2.54,2,   -999.0,9,   -999.0,9,-999.0000,9,  -999.00,      130
  49UF20130627,KS1306,  3920,  1,      2,  21961,2,20130701,0119, 23.9815, 136.9853, 4131,   3810.6,   1.5388,  34.6791,2,  34.6793,6,    153.1,2,   141.23,2,    35.92,2,     0.00,2,     2.51,2,   2321.3,6,   2408.4,6,   7.5800,2,    25.00,      124
  49UF20130627,KS1306,  3920,  1,      1,  21960,2,20130701,0119, 23.9815, 136.9853, 4131,   4002.4,   1.5216,  34.6826,2,  34.6833,2,    155.7,6,   140.80,6,    35.70,6,     0.00,6,     2.50,6,   2319.5,2,   2407.3,2,   7.5859,2,    25.00,      119
  49UF20130627,KS1306,  3921,  1,     99,     99,2,20130701,1026, 23.0007, 136.9947, 2895,      0.0,  30.8782,  34.9394,2,-999.0000,9,    194.3,2,     1.14,2,     0.01,2,     0.00,2,     0.01,2,   -999.0,9,   -999.0,9,-999.0000,9,  -999.00,     1100
  49UF20130627,KS1306,  3921,  1,     36,  21995,2,20130701,1026, 23.0007, 136.9947, 2895,     10.1,  29.6991,  34.8886,2,-999.0000,9,    197.0,2,     1.15,2,     0.00,2,     0.00,2,     0.01,2,   -999.0,9,   -999.0,9,-999.0000,9,  -999.00,     1123
  49UF20130627,KS1306,  3921,  1,     35,  22087,2,20130701,1026, 23.0007, 136.9947, 2895,     25.2,  24.9871,  34.8475,2,-999.0000,9,    220.2,2,     1.27,2,     0.00,2,     0.00,2,     0.00,2,   -999.0,9,   -999.0,9,-999.0000,9,  -999.00,     1122
  49UF20130627,KS1306,  3921,  1,     34,  21971,2,20130701,1026, 23.0007, 136.9947, 2895,     49.9,  22.7775,  34.9041,2,-999.0000,9,    228.4,2,     1.45,2,     0.00,2,     0.00,2,     0.01,2,   -999.0,9,   -999.0,9,-999.0000,9,  -999.00,     1119
  49UF20130627,KS1306,  3921,  1,     33,  21992,2,20130701,1026, 23.0007, 136.9947, 2895,     75.3,  20.7582,  34.8798,2,-999.0000,9,    226.0,2,     1.73,2,     0.00,2,     0.00,2,     0.01,2,   -999.0,9,   -999.0,9,-999.0000,9,  -999.00,     1117
  49UF20130627,KS1306,  3921,  1,     32,  21991,2,20130701,1026, 23.0007, 136.9947, 2895,     75.3,  20.7582,  34.8798,2,-999.0000,9,    226.1,2,     1.78,2,     0.02,2,     0.00,2,     0.01,2,   -999.0,9,   -999.0,9,-999.0000,9,  -999.00,     1117
  49UF20130627,KS1306,  3921,  1,     31,  21990,2,20130701,1026, 23.0007, 136.9947, 2895,    101.1,  19.4347,  34.8356,2,-999.0000,9,    220.2,6,     2.04,6,     0.09,6,     0.04,6,     0.05,6,   -999.0,9,   -999.0,9,-999.0000,9,  -999.00,     1116
  49UF20130627,KS1306,  3921,  1,     27,  21986,2,20130701,1026, 23.0007, 136.9947, 2895,    126.3,  18.7864,  34.8152,2,-999.0000,9,    207.8,2,     2.58,2,     2.14,2,     0.05,2,     0.16,2,   -999.0,9,   -999.0,9,-999.0000,9,  -999.00,     1114
  49UF20130627,KS1306,  3921,  1,     26,  21985,2,20130701,1026, 23.0007, 136.9947, 2895,    151.6,  18.2308,  34.7783,2,-999.0000,9,    204.5,2,     3.05,2,     3.29,2,     0.02,2,     0.23,2,   -999.0,9,   -999.0,9,-999.0000,9,  -999.00,     1113
  49UF20130627,KS1306,  3921,  1,     25,  21984,2,20130701,1026, 23.0007, 136.9947, 2895,    201.1,  17.2987,  34.7202,2,-999.0000,9,    216.6,2,     3.57,2,     3.75,2,     0.01,2,     0.25,2,   -999.0,9,   -999.0,9,-999.0000,9,  -999.00,     1111
  49UF20130627,KS1306,  3921,  1,     21,  21980,2,20130701,1026, 23.0007, 136.9947, 2895,    251.6,  16.7112,  34.6821,2,-999.0000,9,    207.2,2,     5.10,2,     5.58,2,     0.01,2,     0.38,2,   -999.0,9,   -999.0,9,-999.0000,9,  -999.00,     1110
  49UF20130627,KS1306,  3921,  1,     20,  21979,2,20130701,1026, 23.0007, 136.9947, 2895,    302.8,  15.8148,  34.6127,2,-999.0000,9,    195.5,2,     7.89,2,     8.03,2,     0.00,2,     0.54,2,   -999.0,9,   -999.0,9,-999.0000,9,  -999.00,     1108
  49UF20130627,KS1306,  3921,  1,     19,  21978,2,20130701,1026, 23.0007, 136.9947, 2895,    302.8,  15.8148,  34.6127,2,-999.0000,9,    195.6,2,     7.92,2,     8.00,2,     0.00,2,     0.54,2,   -999.0,9,   -999.0,9,-999.0000,9,  -999.00,     1108
  49UF20130627,KS1306,  3921,  1,     15,  21974,2,20130701,1026, 23.0007, 136.9947, 2895,    403.5,  13.0363,  34.4104,2,-999.0000,9,    188.5,6,    14.47,6,    12.85,6,     0.00,6,     0.90,6,   -999.0,9,   -999.0,9,-999.0000,9,  -999.00,     1105
  49UF20130627,KS1306,  3921,  1,     14,  21973,2,20130701,1026, 23.0007, 136.9947, 2895,    505.6,  10.0295,  34.2180,2,-999.0000,9,    172.4,2,    27.97,2,    19.55,2,     0.00,2,     1.38,2,   -999.0,9,   -999.0,9,-999.0000,9,  -999.00,     1102
  49UF20130627,KS1306,  3921,  1,     13,  21972,2,20130701,1026, 23.0007, 136.9947, 2895,    606.7,   7.5769,  34.1079,2,-999.0000,9,    138.7,2,    47.89,2,    27.01,2,     0.00,2,     1.95,2,   -999.0,9,   -999.0,9,-999.0000,9,  -999.00,     1059
  49UF20130627,KS1306,  3921,  1,     12,  21994,2,20130701,1026, 23.0007, 136.9947, 2895,    707.6,   6.0266,  34.1551,2,-999.0000,9,     97.3,2,    71.88,2,    33.39,2,     0.00,2,     2.42,2,   -999.0,9,   -999.0,9,-999.0000,9,  -999.00,     1056
  49UF20130627,KS1306,  3921,  1,     11,  21970,2,20130701,1026, 23.0007, 136.9947, 2895,    809.9,   4.7850,  34.2409,2,-999.0000,9,     68.5,2,    94.39,2,    38.00,2,     0.00,2,     2.74,2,   -999.0,9,   -999.0,9,-999.0000,9,  -999.00,     1053
  49UF20130627,KS1306,  3921,  1,     10,  21969,2,20130701,1026, 23.0007, 136.9947, 2895,    910.3,   4.1910,  34.2992,2,-999.0000,9,     57.7,2,   107.62,2,    39.64,2,     0.00,2,     2.86,2,   -999.0,9,   -999.0,9,-999.0000,9,  -999.00,     1051
  49UF20130627,KS1306,  3921,  1,      6,  21965,3,20130701,1026, 23.0007, 136.9947, 2895,   1013.1,   3.6715,  34.3851,2,-999.0000,9,     53.8,6,   119.27,6,    40.78,6,     0.00,6,     2.93,6,   -999.0,9,   -999.0,9,-999.0000,9,  -999.00,     1048
  49UF20130627,KS1306,  3921,  1,      5,  21964,2,20130701,1026, 23.0007, 136.9947, 2895,   1213.2,   3.0754,  34.4628,2,-999.0000,9,     61.1,2,   132.00,2,    40.91,2,     0.00,2,     2.93,2,   -999.0,9,   -999.0,9,-999.0000,9,  -999.00,     1043
  49UF20130627,KS1306,  3921,  1,      4,  21963,2,20130701,1026, 23.0007, 136.9947, 2895,   1414.4,   2.6256,  34.5294,2,-999.0000,9,     78.7,2,   138.67,2,    40.12,2,     0.00,2,     2.85,2,   -999.0,9,   -999.0,9,-999.0000,9,  -999.00,     1039
  49UF20130627,KS1306,  3921,  1,      3,  22079,2,20130701,1026, 23.0007, 136.9947, 2895,   1619.7,   2.3069,  34.5757,2,-999.0000,9,     96.8,2,   140.70,2,    38.99,2,     0.00,2,     2.78,2,   -999.0,9,   -999.0,9,-999.0000,9,  -999.00,     1035
  49UF20130627,KS1306,  3921,  1,      2,  21961,2,20130701,1026, 23.0007, 136.9947, 2895,   1820.7,   2.1450,  34.6046,2,-999.0000,9,    109.0,2,   140.84,2,    38.43,2,     0.00,2,     2.72,2,   -999.0,9,   -999.0,9,-999.0000,9,  -999.00,     1030
  49UF20130627,KS1306,  3921,  1,      1,  21960,2,20130701,1026, 23.0007, 136.9947, 2895,   2023.9,   1.9983,  34.6221,2,-999.0000,9,    116.9,2,   141.66,2,    38.03,2,     0.00,2,     2.69,2,   -999.0,9,   -999.0,9,-999.0000,9,  -999.00,     1026