BOTTLE,20191021PRINUNIVRMK
EXPOCODE,SECT_ID,STNNBR,CASTNO,SAMPNO,BTLNBR,BTLNBR_FLAG_W,DATE,TIME,LATITUDE,LONGITUDE,DEPTH,CTDPRS,CTDTMP,CTDSAL,CTDSAL_FLAG_W,SALNTY,SALNTY_FLAG_W,OXYGEN,OXYGEN_FLAG_W,SILCAT,SILCAT_FLAG_W,NITRAT,NITRAT_FLAG_W,NITRIT,NITRIT_FLAG_W,PHSPHT,PHSPHT_FLAG_W,TCARBN,TCARBN_FLAG_W,ALKALI,ALKALI_FLAG_W,PH_TOT,PH_TOT_FLAG_W,PH_TMP,BTL_TIME
,,,,,,,,,,,METERS,DBAR,ITS-90,PSS-78,,PSS-78,,UMOL/KG,,UMOL/KG,,UMOL/KG,,UMOL/KG,,UMOL/KG,,UMOL/KG,,UMOL/KG,,,,DEG C,
  49UF20130627,KS1306,  3979,  1,     99,     99,2,20130813,1018, 15.0217, 164.9128, 5215,      0.0,  29.1452,  34.8965,2,  34.8950,2,    195.9,2,     0.85,2,     0.00,2,     0.00,2,     0.10,2,   1959.0,2,   2289.2,2,   8.0896,2,    25.00,     1200
  49UF20130627,KS1306,  3979,  1,     36,  21995,2,20130813,1018, 15.0217, 164.9128, 5215,     10.7,  29.1459,  34.8964,2,  34.8954,2,    196.0,2,     0.86,2,     0.00,2,     0.00,2,     0.10,2,   1958.1,2,   2287.2,2,   8.0913,2,    25.00,     1233
  49UF20130627,KS1306,  3979,  1,     35,  22087,2,20130813,1018, 15.0217, 164.9128, 5215,     27.0,  29.1369,  34.8973,2,-999.0000,9,    196.0,2,     0.85,2,     0.00,2,     0.00,2,     0.10,2,   1956.2,2,   2285.5,2,   8.0921,2,    25.00,     1231
  49UF20130627,KS1306,  3979,  1,     34,  21971,2,20130813,1018, 15.0217, 164.9128, 5215,     52.5,  29.0844,  34.9025,2,-999.0000,9,    196.3,2,     0.83,2,     0.00,2,     0.00,2,     0.10,2,   1959.2,6,   2286.1,6,   8.0905,2,    25.00,     1230
  49UF20130627,KS1306,  3979,  1,     33,  21992,2,20130813,1018, 15.0217, 164.9128, 5215,     77.1,  27.9785,  35.2494,2,-999.0000,9,    209.0,2,     0.84,2,     0.00,2,     0.00,2,     0.06,2,   1974.3,2,   2309.3,2,   8.0953,6,    25.00,     1229
  49UF20130627,KS1306,  3979,  1,     32,  21991,2,20130813,1018, 15.0217, 164.9128, 5215,    101.4,  27.2103,  35.2502,2,  35.2495,2,    208.0,2,     0.85,2,     0.00,2,     0.00,2,     0.07,2,   1981.5,2,   2309.8,2,   8.0865,2,    25.00,     1227
  49UF20130627,KS1306,  3979,  1,     31,  21990,2,20130813,1018, 15.0217, 164.9128, 5215,    127.9,  26.1271,  35.3094,2,-999.0000,9,    201.2,2,     0.85,2,     0.00,2,     0.00,2,     0.05,2,   1991.1,2,   2312.2,2,   8.0742,2,    25.00,     1226
  49UF20130627,KS1306,  3979,  1,     30,  21989,2,20130813,1018, 15.0217, 164.9128, 5215,    153.8,  24.4722,  35.2803,2,-999.0000,9,    193.4,6,     1.03,6,     0.12,6,     0.17,6,     0.06,6,   2007.5,2,   2311.3,2,   8.0441,2,    25.00,     1223
  49UF20130627,KS1306,  3979,  1,     29,  21988,2,20130813,1018, 15.0217, 164.9128, 5215,    204.0,  20.6192,  35.0319,2,  35.0343,6,    176.1,2,     2.60,2,     3.15,2,     0.01,2,     0.33,2,   2062.7,2,   2299.5,2,   7.9329,2,    25.00,     1221
  49UF20130627,KS1306,  3979,  1,     28,  21987,2,20130813,1018, 15.0217, 164.9128, 5215,    253.7,  16.3836,  34.6412,2,-999.0000,9,    170.7,2,     6.85,2,     8.44,2,     0.01,2,     0.67,2,   2088.8,2,   2275.2,2,   7.8373,2,    25.00,     1219
  49UF20130627,KS1306,  3979,  1,     27,  21986,2,20130813,1018, 15.0217, 164.9128, 5215,    305.3,  13.1928,  34.3699,2,-999.0000,9,    158.0,2,    13.15,2,    14.02,2,     0.01,2,     1.08,2,   2119.0,2,   2262.6,2,   7.7463,2,    25.00,     1217
  49UF20130627,KS1306,  3979,  1,     26,  21985,2,20130813,1018, 15.0217, 164.9128, 5215,    410.1,   9.0864,  34.1955,2,  34.1971,2,    123.4,2,    33.57,2,    24.92,2,     0.00,2,     1.85,2,   2187.3,2,   2270.7,2,   7.5831,2,    25.00,     1214
  49UF20130627,KS1306,  3979,  1,     25,  21984,2,20130813,1018, 15.0217, 164.9128, 5215,    510.5,   6.7850,  34.2539,2,-999.0000,9,     65.7,6,    60.45,6,    34.85,6,     0.00,6,     2.57,6,   2265.6,2,   2297.5,2,   7.4396,2,    25.00,     1211
  49UF20130627,KS1306,  3979,  1,     24,  21983,2,20130813,1018, 15.0217, 164.9128, 5215,    608.5,   5.8589,  34.3629,2,  34.3602,2,     55.3,2,    75.17,2,    37.89,2,     0.00,2,     2.77,2,   2294.3,2,   2320.6,2,   7.4193,2,    25.00,     1208
  49UF20130627,KS1306,  3979,  1,     23,  22095,2,20130813,1018, 15.0217, 164.9128, 5215,    710.7,   5.3328,  34.4437,2,-999.0000,9,     59.4,2,    83.05,2,    38.51,2,     0.00,2,     2.81,2,   2301.5,2,   2333.7,2,   7.4325,2,    25.00,     1204
  49UF20130627,KS1306,  3979,  1,     22,  21981,2,20130813,1018, 15.0217, 164.9128, 5215,    809.4,   4.9658,  34.4833,2,  34.4830,2,     63.2,2,    89.37,2,    39.19,2,     0.00,2,     2.84,2,   2310.1,2,   2344.7,2,   7.4380,2,    25.00,     1201
  49UF20130627,KS1306,  3979,  1,     21,  21980,2,20130813,1018, 15.0217, 164.9128, 5215,    912.3,   4.5960,  34.5112,2,-999.0000,9,     66.6,2,    95.24,2,    39.47,2,     0.00,2,     2.86,2,   2317.3,2,   2352.3,2,   7.4408,2,    25.00,     1158
  49UF20130627,KS1306,  3979,  1,     20,  21979,2,20130813,1018, 15.0217, 164.9128, 5215,   1013.6,   4.2045,  34.5363,2,  34.5357,6,     68.9,2,   102.46,2,    39.98,2,     0.00,2,     2.88,2,   2328.0,2,   2359.5,2,   7.4443,2,    25.00,     1155
  49UF20130627,KS1306,  3979,  1,     19,  21978,2,20130813,1018, 15.0217, 164.9128, 5215,   1216.1,   3.5413,  34.5591,2,  34.5587,2,     74.2,2,   116.04,2,    39.95,2,     0.00,2,     2.89,2,   2339.8,2,   2374.3,2,   7.4489,2,    25.00,     1150
  49UF20130627,KS1306,  3979,  1,     18,  21977,2,20130813,1018, 15.0217, 164.9128, 5215,   1417.5,   2.9891,  34.5835,2,  34.5841,6,     82.5,2,   127.48,2,    40.01,2,     0.00,2,     2.87,2,   2343.8,2,   2386.9,2,   7.4581,2,    25.00,     1144
  49UF20130627,KS1306,  3979,  1,     17,  23679,2,20130813,1018, 15.0217, 164.9128, 5215,   1618.7,   2.6552,  34.5992,2,  34.6003,2,     89.2,2,   134.25,2,    39.61,2,     0.00,2,     2.84,2,   2347.7,2,   2394.6,2,   7.4701,2,    25.00,     1139
  49UF20130627,KS1306,  3979,  1,     16,  21975,2,20130813,1018, 15.0217, 164.9128, 5215,   1820.5,   2.3129,  34.6197,2,  34.6195,6,     99.0,2,   140.97,2,    39.24,2,     0.00,2,     2.79,2,   2350.3,2,   2404.3,2,   7.4854,2,    25.00,     1134
  49UF20130627,KS1306,  3979,  1,     15,  21974,2,20130813,1018, 15.0217, 164.9128, 5215,   2024.9,   2.0953,  34.6348,2,  34.6346,2,    106.5,6,   144.86,6,    38.86,6,     0.00,6,     2.75,6,   2349.1,2,   2407.0,2,   7.4962,2,    25.00,     1129
  49UF20130627,KS1306,  3979,  1,     14,  21973,2,20130813,1018, 15.0217, 164.9128, 5215,   2278.9,   1.9071,  34.6480,2,  34.6485,2,    114.5,2,   148.15,2,    38.38,2,     0.00,2,     2.71,2,   -999.0,9,   -999.0,9,-999.0000,9,  -999.00,     1123
  49UF20130627,KS1306,  3979,  1,     13,  21972,2,20130813,1018, 15.0217, 164.9128, 5215,   2532.4,   1.7868,  34.6566,2,  34.6580,2,    120.4,2,   149.75,2,    38.04,2,     0.00,2,     2.68,2,   2348.4,2,   2412.9,2,   7.5211,6,    25.00,     1117
  49UF20130627,KS1306,  3979,  1,     12,  21994,2,20130813,1018, 15.0217, 164.9128, 5215,   2786.3,   1.6910,  34.6635,2,  34.6638,2,    126.6,2,   150.62,2,    37.54,2,     0.00,2,     2.65,2,   -999.0,9,   -999.0,9,-999.0000,9,  -999.00,     1112
  49UF20130627,KS1306,  3979,  1,     11,  21970,2,20130813,1018, 15.0217, 164.9128, 5215,   3042.8,   1.6186,  34.6693,2,  34.6704,2,    131.8,2,   151.62,2,    37.34,2,     0.00,4,     2.62,2,   2341.5,2,   2415.4,2,   7.5380,2,    25.00,     1106
  49UF20130627,KS1306,  3979,  1,     10,  21969,3,20130813,1018, 15.0217, 164.9128, 5215,   3295.7,   1.5522,  34.6750,2,  34.6734,2,    138.1,2,   150.25,2,    36.87,2,     0.00,2,     2.59,2,   -999.0,9,   -999.0,9,-999.0000,9,  -999.00,     1100
  49UF20130627,KS1306,  3979,  1,      9,  21968,2,20130813,1018, 15.0217, 164.9128, 5215,   3552.0,   1.5079,  34.6793,2,  34.6796,2,    144.6,2,   149.47,2,    36.47,2,     0.00,2,     2.55,2,   2333.3,2,   2411.8,2,   7.5558,2,    25.00,     1055
  49UF20130627,KS1306,  3979,  1,      8,  21982,2,20130813,1018, 15.0217, 164.9128, 5215,   3806.6,   1.4657,  34.6839,2,  34.6837,2,    151.6,2,   146.44,2,    35.92,2,     0.00,2,     2.51,2,   -999.0,9,   -999.0,9,-999.0000,9,  -999.00,     1049
  49UF20130627,KS1306,  3979,  1,      7,  21966,2,20130813,1018, 15.0217, 164.9128, 5215,   4062.0,   1.4400,  34.6874,2,  34.6866,2,    157.8,6,   143.48,6,    35.50,6,     0.00,6,     2.48,6,   2320.7,6,   2406.2,6,   7.5714,2,    25.00,     1044
  49UF20130627,KS1306,  3979,  1,      6,  21965,2,20130813,1018, 15.0217, 164.9128, 5215,   4318.3,   1.4135,  34.6914,2,  34.6916,2,    164.4,2,   139.50,2,    35.05,2,     0.00,2,     2.44,2,   -999.0,9,   -999.0,9,-999.0000,9,  -999.00,     1038
  49UF20130627,KS1306,  3979,  1,      5,  21964,2,20130813,1018, 15.0217, 164.9128, 5215,   4576.3,   1.3836,  34.6957,2,  34.6919,4,    170.9,2,   134.46,2,    34.57,2,     0.00,2,     2.41,2,   2305.7,2,   2396.2,2,   7.5853,2,    25.00,     1033
  49UF20130627,KS1306,  3979,  1,      4,  21963,2,20130813,1018, 15.0217, 164.9128, 5215,   4831.6,   1.3637,  34.6986,2,  34.6981,2,    178.7,2,   131.23,2,    34.12,2,     0.00,2,     2.37,2,   -999.0,9,   -999.0,9,-999.0000,9,  -999.00,     1028
  49UF20130627,KS1306,  3979,  1,      3,  22079,2,20130813,1018, 15.0217, 164.9128, 5215,   5088.7,   1.3838,  34.6992,2,  34.6968,4,    178.5,2,   130.60,2,    33.96,2,     0.00,2,     2.36,2,   2296.7,2,   2391.1,2,   7.5926,2,    25.00,     1022
  49UF20130627,KS1306,  3979,  1,      2,  21961,2,20130813,1018, 15.0217, 164.9128, 5215,   5280.2,   1.3951,  34.6998,2,  34.6996,6,    182.3,2,   129.49,2,    33.75,2,     0.00,2,     2.35,2,   2295.3,2,   2388.2,2,   7.5956,2,    25.00,     1018
  49UF20130627,KS1306,  3980,  1,     99,     99,2,20130813,2044, 16.0010, 164.9827, 5364,      0.0,  28.9894,  34.9554,2,  34.9599,2,    195.8,2,     0.88,2,     0.00,2,     0.00,2,     0.11,2,   1963.0,2,   2294.0,2,   8.0948,2,    25.00,     2123
  49UF20130627,KS1306,  3980,  1,     33,  21992,2,20130813,2044, 16.0010, 164.9827, 5364,     11.6,  28.9764,  34.9549,2,-999.0000,9,    196.4,2,     0.88,2,     0.00,2,     0.00,2,     0.10,2,   1962.9,2,   2294.8,2,   8.0956,2,    25.00,     2146
  49UF20130627,KS1306,  3980,  1,     32,  21991,2,20130813,2044, 16.0010, 164.9827, 5364,     26.8,  28.9759,  34.9546,2,-999.0000,9,    196.4,2,     0.88,2,     0.00,2,     0.00,2,     0.10,2,   1963.1,6,   2294.3,6,   8.0960,2,    25.00,     2145
  49UF20130627,KS1306,  3980,  1,     31,  21990,2,20130813,2044, 16.0010, 164.9827, 5364,     51.6,  28.9162,  34.9473,2,-999.0000,9,    197.0,2,     0.84,2,     0.00,2,     0.00,2,     0.10,2,   1960.5,2,   2296.5,2,   8.0963,2,    25.00,     2143
  49UF20130627,KS1306,  3980,  1,     30,  21989,2,20130813,2044, 16.0010, 164.9827, 5364,     76.1,  27.5589,  35.0438,2,-999.0000,9,    207.7,2,     0.89,2,     0.00,2,     0.00,2,     0.10,2,   1968.4,2,   2301.4,2,   8.0912,2,    25.00,     2141
  49UF20130627,KS1306,  3980,  1,     29,  21988,2,20130813,2044, 16.0010, 164.9827, 5364,    102.8,  26.6985,  35.2074,2,-999.0000,9,    205.7,2,     0.89,2,     0.00,2,     0.00,2,     0.09,2,   1983.7,2,   2311.9,2,   8.0852,2,    25.00,     2139
  49UF20130627,KS1306,  3980,  1,     28,  21987,2,20130813,2044, 16.0010, 164.9827, 5364,    127.5,  26.3313,  35.2636,2,-999.0000,9,    201.4,6,     0.89,6,     0.01,6,     0.00,6,     0.08,6,   1990.7,2,   2315.6,2,   8.0833,2,    25.00,     2137
  49UF20130627,KS1306,  3980,  1,     24,  21983,2,20130813,2044, 16.0010, 164.9827, 5364,    152.5,  25.7493,  35.2780,2,-999.0000,9,    195.6,2,     0.96,2,    -0.02,2,     0.04,2,     0.09,2,   2001.0,6,   2318.1,6,   8.0639,2,    25.00,     2133
  49UF20130627,KS1306,  3980,  1,     23,  22095,2,20130813,2044, 16.0010, 164.9827, 5364,    203.4,  22.5850,  35.1470,2,-999.0000,9,    180.2,2,     1.73,2,     1.57,2,     0.02,2,     0.25,2,   2045.7,2,   2312.3,2,   7.9770,2,    25.00,     2131
  49UF20130627,KS1306,  3980,  1,     22,  21981,2,20130813,2044, 16.0010, 164.9827, 5364,    253.1,  17.7415,  34.7506,2,-999.0000,9,    166.5,2,     5.40,2,     7.10,2,     0.01,2,     0.59,2,   2085.3,2,   2286.4,2,   7.8644,2,    25.00,     2129
  49UF20130627,KS1306,  3980,  1,     21,  21980,2,20130813,2044, 16.0010, 164.9827, 5364,    253.1,  17.7415,  34.7506,2,-999.0000,9,    167.1,2,     5.39,2,     7.09,2,     0.01,2,     0.60,2,   2085.4,2,   2288.0,2,   7.8639,2,    25.00,     2129
  49UF20130627,KS1306,  3980,  1,     20,  21979,2,20130813,2044, 16.0010, 164.9827, 5364,    304.9,  13.7311,  34.4107,2,-999.0000,9,    167.3,2,    11.52,2,    12.60,2,     0.00,2,     0.95,2,   2105.0,2,   2269.3,2,   7.7805,6,    25.00,     2127
  49UF20130627,KS1306,  3980,  1,     19,  21978,2,20130813,2044, 16.0010, 164.9827, 5364,    407.4,   8.7465,  34.1917,2,-999.0000,9,    116.4,2,    36.38,2,    26.36,2,     0.00,2,     1.94,2,   2200.0,2,   2278.1,2,   7.5728,2,    25.00,     2124
  49UF20130627,KS1306,  3980,  1,     18,  21977,2,20130813,2044, 16.0010, 164.9827, 5364,    506.0,   6.8955,  34.2069,2,-999.0000,9,     75.3,2,    58.32,2,    33.85,2,     0.00,2,     2.48,2,   2257.6,2,   2296.9,2,   7.4605,6,    25.00,     2121
  49UF20130627,KS1306,  3980,  1,     17,  23679,2,20130813,2044, 16.0010, 164.9827, 5364,    607.0,   6.0265,  34.3891,2,-999.0000,9,     54.8,6,    72.34,6,    38.11,6,     0.00,6,     2.77,6,   2290.5,2,   2324.9,2,   7.4328,2,    25.00,     2118
  49UF20130627,KS1306,  3980,  1,     16,  21975,2,20130813,2044, 16.0010, 164.9827, 5364,    709.1,   5.4641,  34.4578,2,-999.0000,9,     58.8,2,    80.20,2,    38.97,2,     0.00,2,     2.81,2,   2301.6,2,   2335.9,2,   7.4393,2,    25.00,     2115
  49UF20130627,KS1306,  3980,  1,     12,  21994,2,20130813,2044, 16.0010, 164.9827, 5364,    807.8,   5.0273,  34.4902,2,-999.0000,9,     61.5,2,    87.54,2,    39.58,2,     0.00,2,     2.85,2,   2310.7,2,   2346.5,2,   7.4440,2,    25.00,     2112
  49UF20130627,KS1306,  3980,  1,     11,  21970,2,20130813,2044, 16.0010, 164.9827, 5364,    907.4,   4.6729,  34.5124,2,-999.0000,9,     63.6,6,    93.68,6,    39.95,6,     0.00,6,     2.88,6,   2316.7,2,   2355.3,2,   7.4467,2,    25.00,     2109
  49UF20130627,KS1306,  3980,  1,     10,  21969,2,20130813,2044, 16.0010, 164.9827, 5364,   1010.3,   4.2622,  34.5306,2,-999.0000,9,     67.3,2,   101.18,2,    40.09,2,     0.00,2,     2.88,2,   2324.4,2,   2363.4,2,   7.4495,2,    25.00,     2106
  49UF20130627,KS1306,  3980,  1,      9,  21968,2,20130813,2044, 16.0010, 164.9827, 5364,   1211.5,   3.5912,  34.5566,2,-999.0000,9,     72.9,2,   115.14,2,    40.53,2,     0.00,2,     2.90,2,   2339.1,6,   2377.5,6,   7.4535,2,    25.00,     2102
  49UF20130627,KS1306,  3980,  1,      8,  21982,2,20130813,2044, 16.0010, 164.9827, 5364,   1414.0,   3.0731,  34.5769,2,-999.0000,9,     80.1,2,   126.17,2,    40.36,2,     0.00,2,     2.88,2,   2346.1,2,   2390.2,2,   7.4624,2,    25.00,     2057
  49UF20130627,KS1306,  3980,  1,      7,  21966,2,20130813,2044, 16.0010, 164.9827, 5364,   1414.0,   3.0731,  34.5769,2,-999.0000,9,     80.3,2,   126.01,2,    40.24,2,     0.00,2,     2.88,2,   2343.4,2,   2388.9,2,   7.4636,2,    25.00,     2057
  49UF20130627,KS1306,  3980,  1,      3,  22079,2,20130813,2044, 16.0010, 164.9827, 5364,   1615.1,   2.6585,  34.5951,2,-999.0000,9,     86.9,2,   134.74,2,    40.06,2,     0.00,2,     2.84,2,   2347.8,2,   2398.8,2,   7.4749,6,    25.00,     2053
  49UF20130627,KS1306,  3980,  1,      2,  21961,2,20130813,2044, 16.0010, 164.9827, 5364,   1819.8,   2.3702,  34.6119,2,-999.0000,9,     94.9,2,   140.75,2,    39.79,2,     0.00,2,     2.81,2,   2353.6,2,   2406.0,2,   7.4855,2,    25.00,     2048
  49UF20130627,KS1306,  3980,  1,      1,  21960,2,20130813,2044, 16.0010, 164.9827, 5364,   2022.7,   2.1334,  34.6275,2,-999.0000,9,    102.8,2,   145.69,2,    39.26,2,     0.00,2,     2.77,2,   2350.5,2,   2410.0,2,   7.4989,2,    25.00,     2044