BOTTLE,20010426WHPSIOKJU
#code : jjward hyd_to_exchange.pl 
#original files copied from HTML directory: 20010427
#original HYD file: pr16_chy2.txt   Thu Apr 26 15:17:47 2001
#original SUM file: pr16_csu.txt.tmp   Fri Apr 20 15:32:58 2001
EXPOCODE,SECT_ID,STNNBR,CASTNO,SAMPNO,BTLNBR,BTLNBR_FLAG_W,DATE,TIME,LATITUDE,LONGITUDE,DEPTH,CTDPRS,CTDTMP,CTDSAL,CTDSAL_FLAG_W,SALNTY,SALNTY_FLAG_W
,,,,,,,,,,,,DBAR,ITS-90,PSS-78,,PSS-78,
   31DSEP391_1,  PR16,     1,  1,     12,     12,2,19911023,2359, 10.1585,-109.2910, 2961,      4.3,  28.4585,  33.2149,2,  33.2230,2
   31DSEP391_1,  PR16,     1,  1,     11,     11,2,19911023,2359, 10.1585,-109.2910, 2961,     95.2,  14.5997,  34.7651,2,  34.7620,2
   31DSEP391_1,  PR16,     1,  1,     10,     10,2,19911023,2359, 10.1585,-109.2910, 2961,    194.7,  11.3675,  34.7392,2,  34.7450,2
   31DSEP391_1,  PR16,     1,  1,      9,      9,2,19911023,2359, 10.1585,-109.2910, 2961,    294.4,  10.5394,  34.7121,2,  34.7160,2
   31DSEP391_1,  PR16,     1,  1,      8,      8,2,19911023,2359, 10.1585,-109.2910, 2961,    391.5,   9.4644,  34.6523,2,  34.6570,2
   31DSEP391_1,  PR16,     1,  1,      7,      7,2,19911023,2359, 10.1585,-109.2910, 2961,    493.3,   7.9843,  34.5762,2,  34.5720,2
   31DSEP391_1,  PR16,     1,  1,      6,      6,2,19911023,2359, 10.1585,-109.2910, 2961,    601.8,   6.6272,  34.5618,2,  34.5670,2
   31DSEP391_1,  PR16,     1,  1,      5,      5,2,19911023,2359, 10.1585,-109.2910, 2961,    694.9,   5.9281,  34.5542,2,  34.5540,2
   31DSEP391_1,  PR16,     1,  1,      4,      4,2,19911023,2359, 10.1585,-109.2910, 2961,    794.5,   5.3901,  34.5458,2,  34.5480,2
   31DSEP391_1,  PR16,     1,  1,      3,      3,2,19911023,2359, 10.1585,-109.2910, 2961,    893.2,   4.8931,  34.5573,2,  34.5570,2
   31DSEP391_1,  PR16,     1,  1,      2,      2,9,19911023,2359, 10.1585,-109.2910, 2961,    996.3,   4.3781,  34.5659,2,-999.0000,9
   31DSEP391_1,  PR16,     1,  1,      1,      1,2,19911023,2359, 10.1585,-109.2910, 2961,    997.1,   4.3791,  34.5656,2,  34.5630,2
   31DSEP391_1,  PR16,     4,  1,     12,     12,2,19911025,1528,  6.4963,-110.0492, 3636,      3.9,  27.2844,  33.1681,2,  33.1650,2
   31DSEP391_1,  PR16,     4,  1,     11,     11,2,19911025,1528,  6.4963,-110.0492, 3636,    195.3,  11.5875,  34.7709,2,  34.7680,2
   31DSEP391_1,  PR16,     4,  1,     10,     10,2,19911025,1528,  6.4963,-110.0492, 3636,    294.5,  10.5654,  34.7276,2,  34.7260,2
   31DSEP391_1,  PR16,     4,  1,      9,      9,2,19911025,1528,  6.4963,-110.0492, 3636,    393.2,   9.7884,  34.6942,2,  34.6900,2
   31DSEP391_1,  PR16,     4,  1,      8,      8,2,19911025,1528,  6.4963,-110.0492, 3636,    493.7,   8.6283,  34.6309,2,  34.6350,2
   31DSEP391_1,  PR16,     4,  1,      7,      7,2,19911025,1528,  6.4963,-110.0492, 3636,    590.0,   7.6412,  34.6108,2,  34.6030,2
   31DSEP391_1,  PR16,     4,  1,      6,      6,2,19911025,1528,  6.4963,-110.0492, 3636,    694.5,   6.7422,  34.5805,2,  34.5790,2
   31DSEP391_1,  PR16,     4,  1,      5,      5,2,19911025,1528,  6.4963,-110.0492, 3636,    794.3,   5.8761,  34.5630,2,  34.5610,2
   31DSEP391_1,  PR16,     4,  1,      4,      4,2,19911025,1528,  6.4963,-110.0492, 3636,    893.8,   5.4031,  34.5588,2,  34.5560,2
   31DSEP391_1,  PR16,     4,  1,      1,      1,2,19911025,1528,  6.4963,-110.0492, 3636,   1002.1,   4.7981,  34.5645,2,  34.5640,2
   31DSEP391_1,  PR16,     4,  1,      2,      2,2,19911025,1528,  6.4963,-110.0492, 3636,   1004.7,   4.7921,  34.5636,2,  34.5620,2
   31DSEP391_1,  PR16,     4,  1,      3,      3,2,19911025,1528,  6.4963,-110.0492, 3636,   1008.2,   4.7881,  34.5649,2,  34.5650,2
   31DSEP391_1,  PR16,     5,  1,     12,     12,2,19911025,2323,  5.0437,-109.9858, 3964,      3.1,  27.2744,  33.4024,2,  33.3960,2
   31DSEP391_1,  PR16,     5,  1,     11,     11,2,19911025,2323,  5.0437,-109.9858, 3964,     96.5,  15.1497,  34.7250,2,  34.7180,2
   31DSEP391_1,  PR16,     5,  1,     10,     10,2,19911025,2323,  5.0437,-109.9858, 3964,    196.0,  11.9085,  34.7661,2,  34.7670,2
   31DSEP391_1,  PR16,     5,  1,      9,      9,2,19911025,2323,  5.0437,-109.9858, 3964,    296.0,  10.6394,  34.7280,2,  34.7280,2
   31DSEP391_1,  PR16,     5,  1,      8,      8,2,19911025,2323,  5.0437,-109.9858, 3964,    395.7,   9.5004,  34.6785,2,  34.6770,2
   31DSEP391_1,  PR16,     5,  1,      7,      7,2,19911025,2323,  5.0437,-109.9858, 3964,    493.4,   8.5043,  34.6363,2,  34.6360,2
   31DSEP391_1,  PR16,     5,  1,      6,      6,2,19911025,2323,  5.0437,-109.9858, 3964,    595.3,   7.1882,  34.5926,2,  34.5920,2
   31DSEP391_1,  PR16,     5,  1,      5,      5,2,19911025,2323,  5.0437,-109.9858, 3964,    694.6,   6.3892,  34.5716,2,  34.5700,2
   31DSEP391_1,  PR16,     5,  1,      4,      4,2,19911025,2323,  5.0437,-109.9858, 3964,    796.0,   5.6461,  34.5593,2,  34.5580,2
   31DSEP391_1,  PR16,     5,  1,      3,      3,2,19911025,2323,  5.0437,-109.9858, 3964,    894.9,   5.1101,  34.5618,2,  34.5600,2
   31DSEP391_1,  PR16,     5,  1,      1,      1,2,19911025,2323,  5.0437,-109.9858, 3964,    992.5,   4.6351,  34.5653,2,  34.5640,2
   31DSEP391_1,  PR16,     5,  1,      2,      2,2,19911025,2323,  5.0437,-109.9858, 3964,    993.6,   4.6301,  34.5653,2,  34.5630,2
   31DSEP391_1,  PR16,     6,  1,     12,     12,2,19911026,0810,  3.4967,-110.2537, 3842,      3.5,  26.4664,  34.4973,2,  34.4930,2
   31DSEP391_1,  PR16,     6,  1,     11,     11,2,19911026,0810,  3.4967,-110.2537, 3842,     95.4,  20.6920,  34.7621,2,  34.7630,2
   31DSEP391_1,  PR16,     6,  1,     10,     10,2,19911026,0810,  3.4967,-110.2537, 3842,    197.8,  13.3966,  34.9285,2,  34.9260,2
   31DSEP391_1,  PR16,     6,  1,      9,      9,2,19911026,0810,  3.4967,-110.2537, 3842,    296.8,  12.2795,  34.8494,2,  34.8290,3
   31DSEP391_1,  PR16,     6,  1,      8,      8,2,19911026,0810,  3.4967,-110.2537, 3842,    396.0,  10.2214,  34.7163,2,  34.7150,2
   31DSEP391_1,  PR16,     6,  1,      7,      7,2,19911026,0810,  3.4967,-110.2537, 3842,    495.6,   8.5063,  34.6449,2,  34.6430,2
   31DSEP391_1,  PR16,     6,  1,      6,      6,2,19911026,0810,  3.4967,-110.2537, 3842,    596.1,   7.3472,  34.5937,2,  34.5920,2
   31DSEP391_1,  PR16,     6,  1,      5,      5,2,19911026,0810,  3.4967,-110.2537, 3842,    696.4,   6.4722,  34.5681,2,  34.5670,2
   31DSEP391_1,  PR16,     6,  1,      4,      4,2,19911026,0810,  3.4967,-110.2537, 3842,    793.4,   5.7931,  34.5634,2,  34.5580,2
   31DSEP391_1,  PR16,     6,  1,      3,      3,2,19911026,0810,  3.4967,-110.2537, 3842,    893.4,   5.2791,  34.5561,2,  34.5530,2
   31DSEP391_1,  PR16,     6,  1,      1,      1,2,19911026,0810,  3.4967,-110.2537, 3842,    998.2,   4.7651,  34.5578,2,  34.5550,2
   31DSEP391_1,  PR16,     6,  1,      2,      2,2,19911026,0810,  3.4967,-110.2537, 3842,    999.8,   4.7651,  34.5581,2,  34.5550,2
   31DSEP391_1,  PR16,     7,  1,      3,      3,2,19911027,0542,  2.0438,-110.0458, 3758,      3.1,  24.6033,  34.6806,2,  34.6790,2
   31DSEP391_1,  PR16,     7,  1,      2,      2,2,19911027,0542,  2.0438,-110.0458, 3758,    978.6,   4.7951,  34.5607,2,  34.5570,2
   31DSEP391_1,  PR16,     7,  1,      1,      1,2,19911027,0542,  2.0438,-110.0458, 3758,    980.3,   4.7851,  34.5587,2,  34.5570,2
   31DSEP391_1,  PR16,     8,  1,     12,     12,2,19911028,0758,  0.0198,-109.9973, 3824,      3.8,  24.1703,  34.8722,2,  34.8690,2
   31DSEP391_1,  PR16,     8,  1,     11,     11,2,19911028,0758,  0.0198,-109.9973, 3824,    495.9,   8.3633,  34.6431,2,  34.6420,2
   31DSEP391_1,  PR16,     8,  1,     10,     10,2,19911028,0758,  0.0198,-109.9973, 3824,    995.7,   4.6591,  34.5494,2,  34.5490,2
   31DSEP391_1,  PR16,     8,  1,      9,      9,2,19911028,0758,  0.0198,-109.9973, 3824,   1494.1,   3.0110,  34.6055,2,  34.5670,3
   31DSEP391_1,  PR16,     8,  1,      8,      8,2,19911028,0758,  0.0198,-109.9973, 3824,   1995.8,   2.3139,  34.6415,2,  34.6400,2
   31DSEP391_1,  PR16,     8,  1,      7,      7,2,19911028,0758,  0.0198,-109.9973, 3824,   2244.6,   2.0809,  34.6528,2,  34.6510,2
   31DSEP391_1,  PR16,     8,  1,      6,      6,2,19911028,0758,  0.0198,-109.9973, 3824,   2495.8,   1.9099,  34.6622,2,  34.6600,2
   31DSEP391_1,  PR16,     8,  1,      5,      5,2,19911028,0758,  0.0198,-109.9973, 3824,   2744.8,   1.8049,  34.6692,2,  34.6770,3
   31DSEP391_1,  PR16,     8,  1,      4,      4,2,19911028,0758,  0.0198,-109.9973, 3824,   2999.2,   1.6829,  34.6754,2,  34.6740,2
   31DSEP391_1,  PR16,     8,  1,      3,      3,2,19911028,0758,  0.0198,-109.9973, 3824,   3247.2,   1.6049,  34.6803,2,  34.6790,2
   31DSEP391_1,  PR16,     8,  1,      2,      2,2,19911028,0758,  0.0198,-109.9973, 3824,   3499.0,   1.4989,  34.6883,2,  34.6860,2
   31DSEP391_1,  PR16,     8,  1,      1,      1,2,19911028,0758,  0.0198,-109.9973, 3824,   3592.5,   1.4589,  34.6910,2,  34.6890,2
   31DSEP391_1,  PR16,     9,  1,     12,     12,2,19911029,0755, -0.9938,-109.9790, 3974,      2.3,  24.2683,  34.8841,2,  34.8880,2
   31DSEP391_1,  PR16,     9,  1,     11,     11,2,19911029,0755, -0.9938,-109.9790, 3974,     98.2,  20.3910,  35.1120,2,  35.1160,2
   31DSEP391_1,  PR16,     9,  1,     10,     10,2,19911029,0755, -0.9938,-109.9790, 3974,    197.5,  12.7436,  34.9081,2,  34.9100,2
   31DSEP391_1,  PR16,     9,  1,      9,      9,2,19911029,0755, -0.9938,-109.9790, 3974,    296.7,  12.3935,  34.8682,2,  34.8730,2
   31DSEP391_1,  PR16,     9,  1,      8,      8,2,19911029,0755, -0.9938,-109.9790, 3974,    395.5,   9.3034,  34.6922,2,  34.6990,2
   31DSEP391_1,  PR16,     9,  1,      7,      7,2,19911029,0755, -0.9938,-109.9790, 3974,    495.9,   8.1303,  34.6245,2,  34.6250,2
   31DSEP391_1,  PR16,     9,  1,      6,      6,2,19911029,0755, -0.9938,-109.9790, 3974,    592.1,   7.0552,  34.5817,2,  34.5860,2
   31DSEP391_1,  PR16,     9,  1,      5,      5,2,19911029,0755, -0.9938,-109.9790, 3974,    692.8,   6.3222,  34.5578,2,  34.5630,2
   31DSEP391_1,  PR16,     9,  1,      4,      4,2,19911029,0755, -0.9938,-109.9790, 3974,    793.8,   5.7461,  34.5467,2,  34.5510,2
   31DSEP391_1,  PR16,     9,  1,      3,      3,2,19911029,0755, -0.9938,-109.9790, 3974,    895.3,   5.1551,  34.5429,2,  34.5470,2
   31DSEP391_1,  PR16,     9,  1,      1,      1,2,19911029,0755, -0.9938,-109.9790, 3974,    994.0,   4.5261,  34.5544,2,  34.5590,2
   31DSEP391_1,  PR16,     9,  1,      2,      2,2,19911029,0755, -0.9938,-109.9790, 3974,    998.6,   4.5051,  34.5541,2,  34.5590,2
   31DSEP391_1,  PR16,    10,  1,     12,     12,2,19911030,0640, -2.0033,-110.0100, 3942,      3.6,  24.7853,  35.2683,2,  35.2680,2
   31DSEP391_1,  PR16,    10,  1,     11,     11,2,19911030,0640, -2.0033,-110.0100, 3942,     97.8,  16.5608,  35.1343,2,  35.1420,2
   31DSEP391_1,  PR16,    10,  1,     10,     10,2,19911030,0640, -2.0033,-110.0100, 3942,    196.0,  12.6036,  34.8906,2,  34.8920,2
   31DSEP391_1,  PR16,    10,  1,      9,      9,2,19911030,0640, -2.0033,-110.0100, 3942,    296.5,  12.1475,  34.8571,2,  34.8590,2
   31DSEP391_1,  PR16,    10,  1,      8,      8,2,19911030,0640, -2.0033,-110.0100, 3942,    394.3,  10.8834,  34.7875,2,  34.7920,2
   31DSEP391_1,  PR16,    10,  1,      7,      7,2,19911030,0640, -2.0033,-110.0100, 3942,    494.8,   8.1813,  34.6312,2,  34.6360,2
   31DSEP391_1,  PR16,    10,  1,      6,      6,2,19911030,0640, -2.0033,-110.0100, 3942,    596.3,   7.0722,  34.5802,2,  34.5840,2
   31DSEP391_1,  PR16,    10,  1,      5,      5,2,19911030,0640, -2.0033,-110.0100, 3942,    695.7,   6.1822,  34.5551,2,  34.5610,2
   31DSEP391_1,  PR16,    10,  1,      4,      4,2,19911030,0640, -2.0033,-110.0100, 3942,    796.4,   5.6871,  34.5468,2,  34.5490,2
   31DSEP391_1,  PR16,    10,  1,      3,      3,2,19911030,0640, -2.0033,-110.0100, 3942,    892.5,   5.0811,  34.5493,2,  34.5530,2
   31DSEP391_1,  PR16,    10,  1,      1,      1,2,19911030,0640, -2.0033,-110.0100, 3942,    995.8,   4.5071,  34.5558,2,  34.5590,2
   31DSEP391_1,  PR16,    10,  1,      2,      2,2,19911030,0640, -2.0033,-110.0100, 3942,    996.9,   4.5021,  34.5558,2,  34.5600,2
   31DSEP391_1,  PR16,    11,  1,     12,     12,2,19911030,1234, -2.9977,-110.0033, 3766,      3.8,  24.6363,  35.1685,2,  35.1690,2
   31DSEP391_1,  PR16,    11,  1,     11,     11,2,19911030,1234, -2.9977,-110.0033, 3766,     95.5,  14.8727,  35.0449,2,  35.0480,2
   31DSEP391_1,  PR16,    11,  1,     10,     10,2,19911030,1234, -2.9977,-110.0033, 3766,    195.3,  12.9586,  34.9168,2,  34.9180,2
   31DSEP391_1,  PR16,    11,  1,      9,      9,2,19911030,1234, -2.9977,-110.0033, 3766,    294.5,  11.9555,  34.8610,2,  34.8630,2
   31DSEP391_1,  PR16,    11,  1,      8,      8,2,19911030,1234, -2.9977,-110.0033, 3766,    394.2,   9.9024,  34.7397,2,  34.7380,2
   31DSEP391_1,  PR16,    11,  1,      7,      7,2,19911030,1234, -2.9977,-110.0033, 3766,    492.6,   8.3373,  34.6447,2,  34.6460,2
   31DSEP391_1,  PR16,    11,  1,      6,      6,2,19911030,1234, -2.9977,-110.0033, 3766,    593.1,   7.0882,  34.5865,2,  34.5880,2
   31DSEP391_1,  PR16,    11,  1,      5,      5,2,19911030,1234, -2.9977,-110.0033, 3766,    693.9,   6.1732,  34.5562,2,  34.5580,2
   31DSEP391_1,  PR16,    11,  1,      4,      4,2,19911030,1234, -2.9977,-110.0033, 3766,    794.1,   5.5321,  34.5475,2,  34.5470,2
   31DSEP391_1,  PR16,    11,  1,      3,      3,2,19911030,1234, -2.9977,-110.0033, 3766,    894.1,   5.1421,  34.5545,2,  34.5550,2
   31DSEP391_1,  PR16,    11,  1,      1,      1,2,19911030,1234, -2.9977,-110.0033, 3766,    999.0,   4.7131,  34.5591,2,  34.5590,2
   31DSEP391_1,  PR16,    11,  1,      2,      2,2,19911030,1234, -2.9977,-110.0033, 3766,   1000.0,   4.7121,  34.5596,2,  34.5580,2
   31DSEP391_1,  PR16,    12,  1,     12,     12,2,19911030,1836, -4.0017,-110.0000, 3820,      4.2,  24.5083,  34.9603,2,  34.9600,2
   31DSEP391_1,  PR16,    12,  1,     11,     11,2,19911030,1836, -4.0017,-110.0000, 3820,     96.6,  14.8967,  35.0475,2,  35.0490,2
   31DSEP391_1,  PR16,    12,  1,     10,     10,2,19911030,1836, -4.0017,-110.0000, 3820,    195.7,  13.2596,  34.9303,2,  34.9320,2
   31DSEP391_1,  PR16,    12,  1,      9,      9,2,19911030,1836, -4.0017,-110.0000, 3820,    297.4,  12.1855,  34.8766,2,  34.8800,2
   31DSEP391_1,  PR16,    12,  1,      8,      8,2,19911030,1836, -4.0017,-110.0000, 3820,    398.0,  10.4544,  34.7731,2,  34.7730,2
   31DSEP391_1,  PR16,    12,  1,      7,      7,2,19911030,1836, -4.0017,-110.0000, 3820,    496.6,   8.4953,  34.6594,2,  34.6560,2
   31DSEP391_1,  PR16,    12,  1,      6,      6,2,19911030,1836, -4.0017,-110.0000, 3820,    593.3,   7.1382,  34.5932,2,  34.5960,2
   31DSEP391_1,  PR16,    12,  1,      5,      5,2,19911030,1836, -4.0017,-110.0000, 3820,    695.6,   5.9401,  34.5518,2,  34.5500,2
   31DSEP391_1,  PR16,    12,  1,      4,      4,2,19911030,1836, -4.0017,-110.0000, 3820,    792.4,   5.4051,  34.5475,2,  34.5500,2
   31DSEP391_1,  PR16,    12,  1,      3,      3,2,19911030,1836, -4.0017,-110.0000, 3820,    892.4,   4.9761,  34.5494,2,  34.5090,3
   31DSEP391_1,  PR16,    12,  1,      1,      1,2,19911030,1836, -4.0017,-110.0000, 3820,   1016.8,   4.4871,  34.5521,2,  34.5510,2
   31DSEP391_1,  PR16,    12,  1,      2,      2,2,19911030,1836, -4.0017,-110.0000, 3820,   1019.7,   4.4841,  34.5526,2,  34.5520,2
   31DSEP391_1,  PR16,    13,  1,      5,      5,2,19911031,0317, -4.9797,-110.0317, 3650,      3.1,  24.3103,  35.0547,2,  35.0550,2
   31DSEP391_1,  PR16,    13,  1,      4,      4,2,19911031,0317, -4.9797,-110.0317, 3650,    244.2,  12.3305,  34.8854,2,  34.8840,2
   31DSEP391_1,  PR16,    13,  1,      3,      3,2,19911031,0317, -4.9797,-110.0317, 3650,    492.7,   8.7363,  34.6731,2,  34.6740,2
   31DSEP391_1,  PR16,    13,  1,      2,      2,2,19911031,0317, -4.9797,-110.0317, 3650,    733.8,   6.1782,  34.5608,2,  34.5560,2
   31DSEP391_1,  PR16,    13,  1,      1,      1,2,19911031,0317, -4.9797,-110.0317, 3650,    969.3,   4.7441,  34.5452,2,  34.5430,2