BOTTLE,20141031SIOCCHAMB
EXPOCODE,SECT_ID,STNNBR,CASTNO,SAMPNO,BTLNBR,BTLNBR_FLAG_W,DATE,TIME,LATITUDE,LONGITUDE,DEPTH,CTDPRS,CTDTMP,CTDSAL,CTDSAL_FLAG_W,SALNTY,SALNTY_FLAG_W,CTDOXY,CTDOXY_FLAG_W,OXYGEN,OXYGEN_FLAG_W,SILCAT,SILCAT_FLAG_W,PHSPHT,PHSPHT_FLAG_W,REVPRS,CTDRAW,THETA,NO2+NO3,NO2+NO3_FLAG_W,REVTMP
,,,,,,,,,,,METERS,DBAR,ITS-90,PSS-78,,PSS-78,,UMOL/KG,,UMOL/KG,,UMOL/KG,,UMOL/KG,,DBAR,DBAR,ITS-90,UMOL/KG,,DEG C
33KB20100902,       PRS2,       2,          3,         18,       8018,2,20100903,       1353,  22.749167,-158.0595000,       4760,    14.9,  25.6168,  35.2366,2,-999.0000,9,    208.4,1,  -999.0,9, -999.00,9, -999.00,9,  -999.0,      15,    25.6136, -999.00,9,     -999.0
33KB20100902,       PRS2,       2,          3,         17,       8017,2,20100903,       1353,  22.749167,-158.0595000,       4760,    25.1,  25.6174,  35.2365,2,-999.0000,9,    208.4,1,  -999.0,9, -999.00,9, -999.00,9,  -999.0,      25,    25.6118, -999.00,9,     -999.0
33KB20100902,       PRS2,       2,          3,         16,       8016,2,20100903,       1353,  22.749167,-158.0595000,       4760,    25.2,  25.6168,  35.2360,2,-999.0000,9,    208.4,1,  -999.0,9, -999.00,9, -999.00,9,  -999.0,      25,    25.6112, -999.00,9,     -999.0
33KB20100902,       PRS2,       2,          3,         15,       8015,2,20100903,       1353,  22.749167,-158.0595000,       4760,    25.1,  25.6170,  35.2361,2,-999.0000,9,    208.5,1,  -999.0,9, -999.00,9, -999.00,9,  -999.0,      25,    25.6114, -999.00,9,     -999.0
33KB20100902,       PRS2,       2,          3,         14,       8014,2,20100903,       1353,  22.749167,-158.0595000,       4760,    25.2,  25.6180,  35.2361,2,-999.0000,9,    208.5,1,  -999.0,9, -999.00,9, -999.00,9,  -999.0,      25,    25.6124, -999.00,9,     -999.0
33KB20100902,       PRS2,       2,          3,         13,       8025,2,20100903,       1353,  22.749167,-158.0595000,       4760,    25.1,  25.6192,  35.2360,2,-999.0000,9,    208.5,1,  -999.0,9, -999.00,9, -999.00,9,  -999.0,      25,    25.6137, -999.00,9,     -999.0
33KB20100902,       PRS2,       2,          3,         12,       8012,2,20100903,       1353,  22.749167,-158.0595000,       4760,    40.3,  25.6237,  35.2361,2,-999.0000,9,    208.4,1,  -999.0,9, -999.00,9, -999.00,9,  -999.0,      40,    25.6148, -999.00,9,     -999.0
33KB20100902,       PRS2,       2,          3,         11,       8011,2,20100903,       1353,  22.749167,-158.0595000,       4760,    45.4,  25.6087,  35.2351,2,-999.0000,9,    208.5,1,  -999.0,9, -999.00,9, -999.00,9,  -999.0,      45,    25.5986, -999.00,9,     -999.0
33KB20100902,       PRS2,       2,          3,         10,       8010,2,20100903,       1353,  22.749167,-158.0595000,       4760,    45.2,  25.6062,  35.2351,2,-999.0000,9,    208.5,1,  -999.0,9, -999.00,9, -999.00,9,  -999.0,      45,    25.5962, -999.00,9,     -999.0
33KB20100902,       PRS2,       2,          3,          9,       8009,2,20100903,       1353,  22.749167,-158.0595000,       4760,    45.2,  25.6010,  35.2348,2,-999.0000,9,    208.8,1,  -999.0,9, -999.00,9, -999.00,9,  -999.0,      45,    25.5910, -999.00,9,     -999.0
33KB20100902,       PRS2,       2,          3,          8,       8008,2,20100903,       1353,  22.749167,-158.0595000,       4760,    45.2,  25.6008,  35.2347,2,-999.0000,9,    208.8,1,  -999.0,9, -999.00,9, -999.00,9,  -999.0,      45,    25.5908, -999.00,9,     -999.0
33KB20100902,       PRS2,       2,          3,          7,       8026,2,20100903,       1353,  22.749167,-158.0595000,       4760,    45.4,  25.6001,  35.2348,2,-999.0000,9,    208.7,1,  -999.0,9, -999.00,9, -999.00,9,  -999.0,      46,    25.5901, -999.00,9,     -999.0
33KB20100902,       PRS2,       2,          3,          6,       8006,2,20100903,       1353,  22.749167,-158.0595000,       4760,    70.9,  24.9038,  35.2820,2,-999.0000,9,    219.0,1,  -999.0,9, -999.00,9, -999.00,9,  -999.0,      70,    24.8884, -999.00,9,     -999.0
33KB20100902,       PRS2,       2,          3,          5,       8005,2,20100903,       1353,  22.749167,-158.0595000,       4760,    75.3,  24.7456,  35.3008,2,-999.0000,9,    219.5,1,  -999.0,9, -999.00,9, -999.00,9,  -999.0,      75,    24.7294, -999.00,9,     -999.0
33KB20100902,       PRS2,       2,          3,          4,       8004,2,20100903,       1353,  22.749167,-158.0595000,       4760,    75.4,  24.7412,  35.3001,2,-999.0000,9,    219.5,1,  -999.0,9, -999.00,9, -999.00,9,  -999.0,      75,    24.7249, -999.00,9,     -999.0
33KB20100902,       PRS2,       2,          3,          3,       8003,2,20100903,       1353,  22.749167,-158.0595000,       4760,    75.3,  24.7396,  35.3000,2,-999.0000,9,    219.6,1,  -999.0,9, -999.00,9, -999.00,9,  -999.0,      76,    24.7234, -999.00,9,     -999.0
33KB20100902,       PRS2,       2,          3,          2,       8002,2,20100903,       1353,  22.749167,-158.0595000,       4760,    75.4,  24.7428,  35.3007,2,-999.0000,9,    219.6,1,  -999.0,9, -999.00,9, -999.00,9,  -999.0,      75,    24.7266, -999.00,9,     -999.0
33KB20100902,       PRS2,       2,          3,          1,       8001,2,20100903,       1353,  22.749167,-158.0595000,       4760,    75.4,  24.7428,  35.3009,2,-999.0000,9,    219.4,1,  -999.0,9, -999.00,9, -999.00,9,  -999.0,      75,    24.7266, -999.00,9,     -999.0
33KB20100902,       PRS2,       2,          4,         16,       8016,2,20100903,       1536,  22.749833,-157.9986667,       4747,  1400.9,   3.1067,  34.5516,2,  34.5518,2,     63.0,2,    62.8,2,  128.65,2,    2.93,2,  -999.0,    1401,     3.0059,   41.07,2,     -999.0
33KB20100902,       PRS2,       2,          4,         15,       8015,2,20100903,       1536,  22.749833,-157.9986667,       4747,  1599.6,   2.7173,  34.5770,2,  34.5755,2,     71.4,2,    71.2,2,  136.82,2,    2.90,2,  -999.0,    1599,     2.6046,   40.87,2,     -999.0
33KB20100902,       PRS2,       2,          4,         14,       8014,2,20100903,       1536,  22.749833,-157.9986667,       4747,  1800.5,   2.3846,  34.5992,2,  34.5979,2,     80.6,2,    80.9,2,  143.93,2,    2.86,2,  -999.0,    1800,     2.2594,   40.27,2,     -999.0
33KB20100902,       PRS2,       2,          4,         13,       8025,2,20100903,       1536,  22.749833,-157.9986667,       4747,  2000.4,   2.1678,  34.6159,2,  34.6152,2,     88.0,2,    88.7,2,  149.34,2,    2.81,2,  -999.0,    2000,     2.0288,   39.96,2,     -999.0
33KB20100902,       PRS2,       2,          4,         12,       8012,2,20100903,       1536,  22.749833,-157.9986667,       4747,  2200.3,   1.9462,  34.6321,2,  34.6325,2,     96.7,2,    97.1,2,  153.76,2,    2.77,2,  -999.0,    2200,     1.7936,   39.45,2,     -999.0
33KB20100902,       PRS2,       2,          4,         11,       8011,2,20100903,       1536,  22.749833,-157.9986667,       4747,  2400.7,   1.8165,  34.6439,2,  34.6443,2,    104.7,2,   104.9,2,  155.20,2,    2.74,2,  -999.0,    2400,     1.6485,   38.97,2,     -999.0
33KB20100902,       PRS2,       2,          4,         10,       8010,2,20100903,       1536,  22.749833,-157.9986667,       4747,  2599.9,   1.7098,  34.6532,2,  34.6541,2,    110.3,2,   110.4,2,  157.58,2,    2.71,2,  -999.0,    2600,     1.5260,   38.57,2,     -999.0
33KB20100902,       PRS2,       2,          4,          9,       8009,2,20100903,       1536,  22.749833,-157.9986667,       4747,  2799.7,   1.6111,  34.6621,2,  34.6624,2,    117.7,2,   117.9,2,  158.34,2,    2.66,2,  -999.0,    2799,     1.4109,   38.00,2,     -999.0
33KB20100902,       PRS2,       2,          4,          8,       8008,2,20100903,       1536,  22.749833,-157.9986667,       4747,  3000.3,   1.5561,  34.6681,2,  34.6665,2,    123.5,2,   123.4,2,  158.98,2,    2.62,2,  -999.0,    3000,     1.3381,   37.77,2,     -999.0
33KB20100902,       PRS2,       2,          4,          7,       8026,2,20100903,       1536,  22.749833,-157.9986667,       4747,  3199.4,   1.5180,  34.6735,2,  34.6794,4,    129.7,3,   129.6,2,  157.72,2,    2.60,2,  -999.0,    3199,     1.2816,   37.40,2,     -999.0
33KB20100902,       PRS2,       2,          4,          6,       8006,2,20100903,       1536,  22.749833,-157.9986667,       4747,  3400.4,   1.4916,  34.6782,2,  34.6787,2,    134.9,2,   135.0,2,  157.33,2,    2.58,2,  -999.0,    3400,     1.2358,   36.97,2,     -999.0
33KB20100902,       PRS2,       2,          4,          5,       8005,2,20100903,       1536,  22.749833,-157.9986667,       4747,  3600.7,   1.4681,  34.6822,2,  34.6818,2,    140.4,2,   140.5,2,  156.39,2,    2.55,2,  -999.0,    3600,     1.1925,   36.60,2,     -999.0
33KB20100902,       PRS2,       2,          4,          4,       8004,2,20100903,       1536,  22.749833,-157.9986667,       4747,  3799.5,   1.4564,  34.6847,2,  34.6850,2,    145.1,2,   144.7,2,  153.10,2,    2.51,2,  -999.0,    3799,     1.1602,   36.21,2,     -999.0
33KB20100902,       PRS2,       2,          4,          3,       8003,2,20100903,       1536,  22.749833,-157.9986667,       4747,  3999.7,   1.4583,  34.6864,2,  34.6863,2,    148.1,2,   147.8,2,  152.20,2,    2.51,2,  -999.0,    4000,     1.1406,   35.94,2,     -999.0
33KB20100902,       PRS2,       2,          4,          2,       8002,2,20100903,       1536,  22.749833,-157.9986667,       4747,  4199.4,   1.4663,  34.6877,2,  34.6877,2,    150.1,2,   149.7,2,  151.00,2,    2.51,2,  -999.0,    4199,     1.1265,   35.93,2,     -999.0
33KB20100902,       PRS2,       2,          4,          1,       8001,2,20100903,       1536,  22.749833,-157.9986667,       4747,  4399.7,   1.4785,  34.6886,2,  34.6885,2,    151.9,2,   151.2,2,  149.79,2,    2.49,2,  -999.0,    4399,     1.1157,   35.81,2,     -999.0
33KB20100902,       PRS2,       2,          5,         24,       8024,2,20100904,       0026,  22.748333,-157.9775000,       4734,    25.3,  25.6380,  35.2253,2,  35.2260,2,    208.9,2,   208.5,2,    1.14,2,    0.08,2,  -999.0,      25,    25.6324,    0.04,2,     -999.0
33KB20100902,       PRS2,       2,          5,         23,       8023,2,20100904,       0026,  22.748333,-157.9775000,       4734,    80.7,  24.6925,  35.2140,2,  35.2158,2,    219.8,2,   218.6,2,    1.26,2,    0.07,2,  -999.0,      80,    24.6751,    0.02,2,     -999.0
33KB20100902,       PRS2,       2,          5,         22,       8022,2,20100904,       0026,  22.748333,-157.9775000,       4734,    96.1,  23.8371,  35.2181,2,  35.2197,2,    217.8,2,   217.7,2,    1.21,2,    0.08,2,  -999.0,      96,    23.8170,    0.03,2,     -999.0
33KB20100902,       PRS2,       2,          5,         21,       8021,2,20100904,       0026,  22.748333,-157.9775000,       4734,   144.6,  22.0786,  35.2742,2,  35.2733,2,    202.8,2,   204.4,2,    1.44,2,    0.13,2,  -999.0,     144,    22.0499,    0.51,2,     -999.0
33KB20100902,       PRS2,       2,          5,         20,       8020,2,20100904,       0026,  22.748333,-157.9775000,       4734,   171.1,  20.9417,  35.2833,2,  35.2828,2,    203.2,2,   203.2,2,    1.74,2,    0.14,2,  -999.0,     170,    20.9090,    0.97,2,     -999.0
33KB20100902,       PRS2,       2,          5,         19,       8019,2,20100904,       0026,  22.748333,-157.9775000,       4734,   205.2,  20.0755,  35.2639,2,  35.2572,2,    203.5,2,   204.4,2,    1.92,2,    0.14,2,  -999.0,     206,    20.0374,    1.52,2,     -999.0
33KB20100902,       PRS2,       2,          5,         18,       8018,2,20100904,       0026,  22.748333,-157.9775000,       4734,   239.7,  18.7769,  35.0861,2,  35.0825,2,    209.4,2,   207.6,2,    2.52,2,    0.16,2,  -999.0,     240,    18.7344,    1.92,2,     -999.0
33KB20100902,       PRS2,       2,          5,         17,       8017,2,20100904,       0026,  22.748333,-157.9775000,       4734,   286.1,  15.7841,  34.5780,2,  34.5765,2,    193.0,2,   194.1,2,    5.18,2,    0.46,2,  -999.0,     286,    15.7393,    5.95,2,     -999.0
33KB20100902,       PRS2,       2,          5,         16,       8016,2,20100904,       0026,  22.748333,-157.9775000,       4734,   327.7,  13.3694,  34.2871,2,  34.2854,2,    189.8,2,   188.5,2,    8.82,2,    0.75,2,  -999.0,     327,    13.3236,    9.94,2,     -999.0
33KB20100902,       PRS2,       2,          5,         15,       8015,2,20100904,       0026,  22.748333,-157.9775000,       4734,   368.1,  11.6346,  34.1555,2,  34.1556,2,    188.1,2,   188.4,2,   13.13,2,    1.00,2,  -999.0,     368,    11.5876,   13.57,2,     -999.0
33KB20100902,       PRS2,       2,          5,         14,       8014,2,20100904,       0026,  22.748333,-157.9775000,       4734,   406.6,  10.2031,  34.1088,2,  34.1105,2,    173.5,2,   172.7,2,   19.91,2,    1.32,2,  -999.0,     406,    10.1553,   18.04,2,     -999.0
33KB20100902,       PRS2,       2,          5,         13,       8025,2,20100904,       0026,  22.748333,-157.9775000,       4734,   455.0,   9.1000,  34.1069,2,  34.1081,2,    141.6,2,   143.0,2,   29.23,2,    1.69,2,  -999.0,     455,     9.0501,   23.11,2,     -999.0
33KB20100902,       PRS2,       2,          5,         12,       8012,2,20100904,       0026,  22.748333,-157.9775000,       4734,   520.4,   7.6576,  34.1209,2,  34.1209,2,     98.4,2,    96.4,2,   45.06,2,    2.19,2,  -999.0,     521,     7.6059,   30.03,2,     -999.0
33KB20100902,       PRS2,       2,          5,         11,       8011,2,20100904,       0026,  22.748333,-157.9775000,       4734,   549.5,   6.9424,  34.1124,2,  34.1123,2,     81.7,2,    81.4,2,   53.67,2,    2.38,2,  -999.0,     549,     6.8906,   32.75,2,     -999.0
33KB20100902,       PRS2,       2,          5,         10,       8010,2,20100904,       0026,  22.748333,-157.9775000,       4734,   571.3,   6.4988,  34.1126,2,  34.1125,2,     73.4,2,    73.0,2,   59.41,2,    2.50,2,  -999.0,     571,     6.4468,   34.37,2,     -999.0
33KB20100902,       PRS2,       2,          5,          9,       8009,2,20100904,       0026,  22.748333,-157.9775000,       4734,   585.4,   6.2602,  34.1304,2,  34.1317,2,     63.2,2,    63.1,2,   63.66,2,    2.59,2,  -999.0,     585,     6.2079,   35.70,2,     -999.0
33KB20100902,       PRS2,       2,          5,          8,       8008,2,20100904,       0026,  22.748333,-157.9775000,       4734,   625.2,   5.7424,  34.1822,2,  34.1805,2,     46.4,2,    45.1,2,   73.49,2,    2.80,2,  -999.0,     625,     5.6888,   38.39,2,     -999.0
33KB20100902,       PRS2,       2,          5,          7,       8026,2,20100904,       0026,  22.748333,-157.9775000,       4734,   679.1,   5.5051,  34.2750,2,  34.2754,2,     32.0,2,    31.5,2,   80.92,2,    2.91,2,  -999.0,     680,     5.4477,   39.81,2,     -999.0
33KB20100902,       PRS2,       2,          5,          6,       8006,2,20100904,       0026,  22.748333,-157.9775000,       4734,   699.2,   5.4040,  34.2855,2,  34.2838,2,     32.9,2,    32.6,2,   82.26,2,    2.92,2,  -999.0,     699,     5.3454,   40.09,2,     -999.0
33KB20100902,       PRS2,       2,          5,          5,       8005,2,20100904,       0026,  22.748333,-157.9775000,       4734,   765.2,   5.0143,  34.3325,2,  34.3344,2,     32.6,2,    33.3,2,   90.36,2,    2.96,2,  -999.0,     765,     4.9520,   40.76,2,     -999.0
33KB20100902,       PRS2,       2,          5,          4,       8004,2,20100904,       0026,  22.748333,-157.9775000,       4734,   816.2,   4.6386,  34.3615,2,  34.3672,2,     35.9,2,    34.9,2,   97.68,2,    2.99,2,  -999.0,     815,     4.5742,   41.42,2,     -999.0
33KB20100902,       PRS2,       2,          5,          3,       8003,2,20100904,       0026,  22.748333,-157.9775000,       4734,   867.1,   4.4577,  34.3962,2,  34.3957,2,     38.5,2,    37.7,2,  100.98,2,    2.98,2,  -999.0,     868,     4.3901,   41.47,2,     -999.0
33KB20100902,       PRS2,       2,          5,          2,       8002,2,20100904,       0026,  22.748333,-157.9775000,       4734,   944.6,   4.2157,  34.4318,2,  34.4322,2,     40.0,2,    39.8,2,  106.25,2,    2.99,2,  -999.0,     944,     4.1431,   41.87,2,     -999.0
33KB20100902,       PRS2,       2,          5,          1,       8001,2,20100904,       0026,  22.748333,-157.9775000,       4734,  1023.2,   3.9822,  34.4682,2,  34.4675,2,     45.3,2,    46.2,2,  110.45,2,    2.98,2,  -999.0,    1023,     3.9048,   41.54,2,     -999.0