BOTTLE,20141031SIOCCHAMB
EXPOCODE,SECT_ID,STNNBR,CASTNO,SAMPNO,BTLNBR,BTLNBR_FLAG_W,DATE,TIME,LATITUDE,LONGITUDE,DEPTH,CTDPRS,CTDTMP,CTDSAL,CTDSAL_FLAG_W,SALNTY,SALNTY_FLAG_W,CTDOXY,CTDOXY_FLAG_W,OXYGEN,OXYGEN_FLAG_W,SILCAT,SILCAT_FLAG_W,PHSPHT,PHSPHT_FLAG_W,REVPRS,CTDRAW,THETA,NO2+NO3,NO2+NO3_FLAG_W,REVTMP
,,,,,,,,,,,METERS,DBAR,ITS-90,PSS-78,,PSS-78,,UMOL/KG,,UMOL/KG,,UMOL/KG,,UMOL/KG,,DBAR,DBAR,ITS-90,UMOL/KG,,DEG C
33KB20100902,       PRS2,       2,         13,         23,       8023,2,20100904,       2348,  22.752167,-157.9765000,       4732,     4.8,  25.7650,  35.2213,2,  35.2205,2,    208.0,1,  -999.0,9, -999.00,9, -999.00,9,  -999.0,       4,    25.7640, -999.00,9,     -999.0
33KB20100902,       PRS2,       2,         13,         22,       8022,2,20100904,       2348,  22.752167,-157.9765000,       4732,    25.4,  25.6249,  35.2187,2,  35.2192,2,    208.0,1,  -999.0,9, -999.00,9, -999.00,9,  -999.0,      25,    25.6193, -999.00,9,     -999.0
33KB20100902,       PRS2,       2,         13,         21,       8021,2,20100904,       2348,  22.752167,-157.9765000,       4732,    45.4,  25.6084,  35.2192,2,  35.2211,2,    208.6,1,  -999.0,9, -999.00,9, -999.00,9,  -999.0,      45,    25.5984, -999.00,9,     -999.0
33KB20100902,       PRS2,       2,         13,         20,       8020,2,20100904,       2348,  22.752167,-157.9765000,       4732,    74.4,  24.4840,  35.2001,2,  35.1993,2,    218.9,1,  -999.0,9, -999.00,9, -999.00,9,  -999.0,      75,    24.4681, -999.00,9,     -999.0
33KB20100902,       PRS2,       2,         13,         19,       8019,2,20100904,       2348,  22.752167,-157.9765000,       4732,   100.4,  23.5549,  35.2285,2,  35.2286,2,    215.2,1,  -999.0,9, -999.00,9, -999.00,9,  -999.0,     100,    23.5341, -999.00,9,     -999.0
33KB20100902,       PRS2,       2,         13,         18,       8018,2,20100904,       2348,  22.752167,-157.9765000,       4732,   125.5,  22.6208,  35.2739,2,  35.2716,2,    203.6,1,  -999.0,9, -999.00,9, -999.00,9,  -999.0,     125,    22.5954, -999.00,9,     -999.0
33KB20100902,       PRS2,       2,         13,         17,       8017,2,20100904,       2348,  22.752167,-157.9765000,       4732,   149.7,  21.9876,  35.2803,2,  35.2832,2,    203.3,1,  -999.0,9, -999.00,9, -999.00,9,  -999.0,     150,    21.9580, -999.00,9,     -999.0
33KB20100902,       PRS2,       2,         13,         16,       8016,2,20100904,       2348,  22.752167,-157.9765000,       4732,   199.9,  20.1813,  35.2032,2,-999.0000,5,    197.8,1,  -999.0,9, -999.00,9, -999.00,9,  -999.0,     200,    20.1441, -999.00,9,     -999.0
33KB20100902,       PRS2,       2,         13,         15,       8015,2,20100904,       2348,  22.752167,-157.9765000,       4732,   199.7,  20.1811,  35.2030,2,-999.0000,5,    197.8,1,  -999.0,9, -999.00,9, -999.00,9,  -999.0,     200,    20.1439, -999.00,9,     -999.0
33KB20100902,       PRS2,       2,         13,         14,       8014,2,20100904,       2348,  22.752167,-157.9765000,       4732,   250.0,  18.5620,  35.0460,2,  35.0488,2,    205.1,1,  -999.0,9, -999.00,9, -999.00,9,  -999.0,     249,    18.5180, -999.00,9,     -999.0
33KB20100902,       PRS2,       2,         13,         13,       8025,2,20100904,       2348,  22.752167,-157.9765000,       4732,   299.6,  15.6557,  34.5548,2,-999.0000,5,    185.0,1,  -999.0,9, -999.00,9, -999.00,9,  -999.0,     300,    15.6091, -999.00,9,     -999.0
33KB20100902,       PRS2,       2,         13,         12,       8012,2,20100904,       2348,  22.752167,-157.9765000,       4732,   299.5,  15.6511,  34.5518,2,-999.0000,5,    184.8,1,  -999.0,9, -999.00,9, -999.00,9,  -999.0,     299,    15.6044, -999.00,9,     -999.0
33KB20100902,       PRS2,       2,         13,         11,       8011,2,20100904,       2348,  22.752167,-157.9765000,       4732,   350.7,  12.6332,  34.2230,2,  34.2244,2,    183.4,1,  -999.0,9, -999.00,9, -999.00,9,  -999.0,     351,    12.5859, -999.00,9,     -999.0
33KB20100902,       PRS2,       2,         13,         10,       8010,2,20100904,       2348,  22.752167,-157.9765000,       4732,   400.4,  10.6920,  34.1228,2,-999.0000,5,    182.9,1,  -999.0,9, -999.00,9, -999.00,9,  -999.0,     400,    10.6435, -999.00,9,     -999.0
33KB20100902,       PRS2,       2,         13,          9,       8009,2,20100904,       2348,  22.752167,-157.9765000,       4732,   440.5,   9.6466,  34.0992,2,  34.1005,2,    161.1,1,  -999.0,9, -999.00,9, -999.00,9,  -999.0,     440,     9.5965, -999.00,9,     -999.0
33KB20100902,       PRS2,       2,         13,          8,       8008,2,20100904,       2348,  22.752167,-157.9765000,       4732,   499.4,   8.4936,  34.1185,2,-999.0000,5,    119.5,1,  -999.0,9, -999.00,9, -999.00,9,  -999.0,     499,     8.4409, -999.00,9,     -999.0
33KB20100902,       PRS2,       2,         13,          7,       8026,2,20100904,       2348,  22.752167,-157.9765000,       4732,   499.5,   8.4922,  34.1184,2,-999.0000,5,    119.4,1,  -999.0,9, -999.00,9, -999.00,9,  -999.0,     499,     8.4395, -999.00,9,     -999.0
33KB20100902,       PRS2,       2,         13,          6,       8006,2,20100904,       2348,  22.752167,-157.9765000,       4732,   599.8,   6.2091,  34.1273,2,-999.0000,5,     64.2,1,  -999.0,9, -999.00,9, -999.00,9,  -999.0,     600,     6.1557, -999.00,9,     -999.0
33KB20100902,       PRS2,       2,         13,          5,       8005,2,20100904,       2348,  22.752167,-157.9765000,       4732,   700.3,   5.4331,  34.2620,2,-999.0000,5,     34.7,1,  -999.0,9, -999.00,9, -999.00,9,  -999.0,     700,     5.3743, -999.00,9,     -999.0
33KB20100902,       PRS2,       2,         13,          4,       8004,2,20100904,       2348,  22.752167,-157.9765000,       4732,   770.2,   5.0032,  34.3194,2,-999.0000,5,     36.2,1,  -999.0,9, -999.00,9, -999.00,9,  -999.0,     770,     4.9405, -999.00,9,     -999.0
33KB20100902,       PRS2,       2,         13,          3,       8003,2,20100904,       2348,  22.752167,-157.9765000,       4732,   799.3,   4.9429,  34.3454,2,-999.0000,5,     33.6,1,  -999.0,9, -999.00,9, -999.00,9,  -999.0,     799,     4.8780, -999.00,9,     -999.0
33KB20100902,       PRS2,       2,         13,          2,       8002,2,20100904,       2348,  22.752167,-157.9765000,       4732,   899.7,   4.5196,  34.4261,2,-999.0000,5,     37.0,1,  -999.0,9, -999.00,9, -999.00,9,  -999.0,     900,     4.4488, -999.00,9,     -999.0
33KB20100902,       PRS2,       2,         13,          1,       8001,2,20100904,       2348,  22.752167,-157.9765000,       4732,  1021.0,   4.0412,  34.4567,2,  34.4557,2,     42.5,1,  -999.0,9, -999.00,9, -999.00,9,  -999.0,    1021,     3.9636, -999.00,9,     -999.0
33KB20100902,       PRS2,       2,         14,         22,       8022,2,20100905,       0253,  22.750167,-157.9913333,       4744,     6.5,  25.7222,  35.2253,2,-999.0000,5,    208.1,1,  -999.0,9, -999.00,9, -999.00,9,  -999.0,       6,    25.7208, -999.00,9,     -999.0
33KB20100902,       PRS2,       2,         14,         21,       8021,2,20100905,       0253,  22.750167,-157.9913333,       4744,     6.4,  25.7211,  35.2254,2,  35.2272,2,    208.2,1,  -999.0,9, -999.00,9, -999.00,9,  -999.0,       6,    25.7197, -999.00,9,     -999.0
33KB20100902,       PRS2,       2,         14,         20,       8020,2,20100905,       0253,  22.750167,-157.9913333,       4744,    14.8,  25.7171,  35.2253,2,  35.2253,2,    208.3,1,  -999.0,9, -999.00,9, -999.00,9,  -999.0,      14,    25.7138, -999.00,9,     -999.0
33KB20100902,       PRS2,       2,         14,         19,       8019,2,20100905,       0253,  22.750167,-157.9913333,       4744,    24.9,  25.6416,  35.2245,2,-999.0000,5,    208.3,1,  -999.0,9, -999.00,9, -999.00,9,  -999.0,      25,    25.6361, -999.00,9,     -999.0
33KB20100902,       PRS2,       2,         14,         18,       8018,2,20100905,       0253,  22.750167,-157.9913333,       4744,    25.0,  25.6394,  35.2246,2,  35.2237,2,    208.5,1,  -999.0,9, -999.00,9, -999.00,9,  -999.0,      25,    25.6339, -999.00,9,     -999.0
33KB20100902,       PRS2,       2,         14,         17,       8017,2,20100905,       0253,  22.750167,-157.9913333,       4744,    34.7,  25.6258,  35.2241,2,  35.2235,2,    208.0,1,  -999.0,9, -999.00,9, -999.00,9,  -999.0,      35,    25.6181, -999.00,9,     -999.0
33KB20100902,       PRS2,       2,         14,         16,       8016,2,20100905,       0253,  22.750167,-157.9913333,       4744,    34.8,  25.6257,  35.2241,2,  35.2257,2,    207.9,1,  -999.0,9, -999.00,9, -999.00,9,  -999.0,      34,    25.6181, -999.00,9,     -999.0
33KB20100902,       PRS2,       2,         14,         15,       8015,2,20100905,       0253,  22.750167,-157.9913333,       4744,    45.3,  25.6174,  35.2237,2,-999.0000,5,    208.5,1,  -999.0,9, -999.00,9, -999.00,9,  -999.0,      45,    25.6074, -999.00,9,     -999.0
33KB20100902,       PRS2,       2,         14,         14,       8014,2,20100905,       0253,  22.750167,-157.9913333,       4744,    45.4,  25.6176,  35.2236,2,-999.0000,5,    208.5,1,  -999.0,9, -999.00,9, -999.00,9,  -999.0,      45,    25.6075, -999.00,9,     -999.0
33KB20100902,       PRS2,       2,         14,         13,       8025,2,20100905,       0253,  22.750167,-157.9913333,       4744,    60.8,  25.5759,  35.2242,2,  35.2253,2,    208.8,1,  -999.0,9, -999.00,9, -999.00,9,  -999.0,      61,    25.5624, -999.00,9,     -999.0
33KB20100902,       PRS2,       2,         14,         12,       8012,2,20100905,       0253,  22.750167,-157.9913333,       4744,    75.0,  24.1527,  35.1983,2,-999.0000,5,    218.7,1,  -999.0,9, -999.00,9, -999.00,9,  -999.0,      75,    24.1368, -999.00,9,     -999.0
33KB20100902,       PRS2,       2,         14,         11,       8011,2,20100905,       0253,  22.750167,-157.9913333,       4744,    75.1,  24.1529,  35.1984,2,  35.1993,2,    218.7,1,  -999.0,9, -999.00,9, -999.00,9,  -999.0,      75,    24.1370, -999.00,9,     -999.0
33KB20100902,       PRS2,       2,         14,         10,       8010,2,20100905,       0253,  22.750167,-157.9913333,       4744,   100.4,  23.2833,  35.2437,2,-999.0000,5,    208.6,1,  -999.0,9, -999.00,9, -999.00,9,  -999.0,     100,    23.2626, -999.00,9,     -999.0
33KB20100902,       PRS2,       2,         14,          9,       8009,2,20100905,       0253,  22.750167,-157.9913333,       4744,   100.2,  23.2837,  35.2434,2,  35.2452,2,    208.7,1,  -999.0,9, -999.00,9, -999.00,9,  -999.0,     100,    23.2631, -999.00,9,     -999.0
33KB20100902,       PRS2,       2,         14,          8,       8008,2,20100905,       0253,  22.750167,-157.9913333,       4744,   125.4,  22.3933,  35.2777,2,-999.0000,5,    203.1,1,  -999.0,9, -999.00,9, -999.00,9,  -999.0,     126,    22.3681, -999.00,9,     -999.0
33KB20100902,       PRS2,       2,         14,          7,       8026,2,20100905,       0253,  22.750167,-157.9913333,       4744,   125.4,  22.3945,  35.2775,2,  35.2787,2,    203.0,1,  -999.0,9, -999.00,9, -999.00,9,  -999.0,     125,    22.3694, -999.00,9,     -999.0
33KB20100902,       PRS2,       2,         14,          6,       8006,2,20100905,       0253,  22.750167,-157.9913333,       4744,   149.6,  21.6424,  35.3270,2,-999.0000,5,    205.4,1,  -999.0,9, -999.00,9, -999.00,9,  -999.0,     149,    21.6131, -999.00,9,     -999.0
33KB20100902,       PRS2,       2,         14,          5,       8005,2,20100905,       0253,  22.750167,-157.9913333,       4744,   149.7,  21.6473,  35.3276,2,  35.3254,2,    205.5,1,  -999.0,9, -999.00,9, -999.00,9,  -999.0,     150,    21.6180, -999.00,9,     -999.0
33KB20100902,       PRS2,       2,         14,          4,       8004,2,20100905,       0253,  22.750167,-157.9913333,       4744,   176.0,  20.6237,  35.3175,2,-999.0000,5,    204.3,1,  -999.0,9, -999.00,9, -999.00,9,  -999.0,     176,    20.5904, -999.00,9,     -999.0
33KB20100902,       PRS2,       2,         14,          3,       8003,2,20100905,       0253,  22.750167,-157.9913333,       4744,   175.9,  20.6260,  35.3172,2,  35.3157,2,    204.3,1,  -999.0,9, -999.00,9, -999.00,9,  -999.0,     176,    20.5927, -999.00,9,     -999.0
33KB20100902,       PRS2,       2,         14,          2,       8002,2,20100905,       0253,  22.750167,-157.9913333,       4744,   560.5,   6.9309,  34.1127,2,  34.1129,2,     80.9,1,  -999.0,9, -999.00,9, -999.00,9,  -999.0,     561,     6.8781, -999.00,9,     -999.0
33KB20100902,       PRS2,       2,         14,          1,       8001,2,20100905,       0253,  22.750167,-157.9913333,       4744,  1021.1,   4.0438,  34.4587,2,  34.4573,2,     43.5,1,  -999.0,9, -999.00,9, -999.00,9,  -999.0,    1021,     3.9661, -999.00,9,     -999.0
33KB20100902,       PRS2,       2,         15,         24,       8024,2,20100905,       0551,  22.748667,-157.9945000,       4745,     5.2,  25.6535,  35.2242,2,-999.0000,5,    207.8,1,  -999.0,9, -999.00,9, -999.00,9,  -999.0,       5,    25.6524, -999.00,9,     -999.0
33KB20100902,       PRS2,       2,         15,         23,       8023,2,20100905,       0551,  22.748667,-157.9945000,       4745,     5.1,  25.6535,  35.2243,2,  35.2227,2,    207.9,1,  -999.0,9, -999.00,9, -999.00,9,  -999.0,       5,    25.6524, -999.00,9,     -999.0
33KB20100902,       PRS2,       2,         15,         22,       8022,2,20100905,       0551,  22.748667,-157.9945000,       4745,    25.0,  25.6602,  35.2238,2,-999.0000,5,    208.0,1,  -999.0,9, -999.00,9, -999.00,9,  -999.0,      25,    25.6547, -999.00,9,     -999.0
33KB20100902,       PRS2,       2,         15,         21,       8021,2,20100905,       0551,  22.748667,-157.9945000,       4745,    24.9,  25.6604,  35.2238,2,  35.2231,2,    208.0,1,  -999.0,9, -999.00,9, -999.00,9,  -999.0,      25,    25.6549, -999.00,9,     -999.0
33KB20100902,       PRS2,       2,         15,         20,       8020,2,20100905,       0551,  22.748667,-157.9945000,       4745,    45.6,  25.6175,  35.2237,2,-999.0000,5,    208.2,1,  -999.0,9, -999.00,9, -999.00,9,  -999.0,      46,    25.6075, -999.00,9,     -999.0
33KB20100902,       PRS2,       2,         15,         19,       8019,2,20100905,       0551,  22.748667,-157.9945000,       4745,    45.6,  25.6175,  35.2237,2,  35.2239,2,    208.2,1,  -999.0,9, -999.00,9, -999.00,9,  -999.0,      46,    25.6074, -999.00,9,     -999.0
33KB20100902,       PRS2,       2,         15,         18,       8018,2,20100905,       0551,  22.748667,-157.9945000,       4745,    60.3,  25.1184,  35.2572,2,  35.2513,2,    215.6,1,  -999.0,9, -999.00,9, -999.00,9,  -999.0,      60,    25.1053, -999.00,9,     -999.0
33KB20100902,       PRS2,       2,         15,         17,       8017,2,20100905,       0551,  22.748667,-157.9945000,       4745,    69.7,  24.3095,  35.1934,2,-999.0000,5,    220.2,1,  -999.0,9, -999.00,9, -999.00,9,  -999.0,      70,    24.2947, -999.00,9,     -999.0
33KB20100902,       PRS2,       2,         15,         16,       8016,2,20100905,       0551,  22.748667,-157.9945000,       4745,    75.0,  23.9701,  35.2030,2,-999.0000,5,    217.2,1,  -999.0,9, -999.00,9, -999.00,9,  -999.0,      75,    23.9543, -999.00,9,     -999.0
33KB20100902,       PRS2,       2,         15,         15,       8015,2,20100905,       0551,  22.748667,-157.9945000,       4745,    75.1,  23.9622,  35.2034,2,  35.2026,2,    217.4,1,  -999.0,9, -999.00,9, -999.00,9,  -999.0,      75,    23.9464, -999.00,9,     -999.0
33KB20100902,       PRS2,       2,         15,         14,       8014,2,20100905,       0551,  22.748667,-157.9945000,       4745,    84.9,  23.3918,  35.2312,2,  35.2327,2,    211.6,1,  -999.0,9, -999.00,9, -999.00,9,  -999.0,      85,    23.3743, -999.00,9,     -999.0
33KB20100902,       PRS2,       2,         15,         13,       8025,2,20100905,       0551,  22.748667,-157.9945000,       4745,   100.6,  22.9107,  35.2789,2,-999.0000,5,    205.0,1,  -999.0,9, -999.00,9, -999.00,9,  -999.0,     101,    22.8902, -999.00,9,     -999.0
33KB20100902,       PRS2,       2,         15,         12,       8012,2,20100905,       0551,  22.748667,-157.9945000,       4745,   100.5,  22.9076,  35.2790,2,  35.2787,2,    205.0,1,  -999.0,9, -999.00,9, -999.00,9,  -999.0,     101,    22.8871, -999.00,9,     -999.0
33KB20100902,       PRS2,       2,         15,         11,       8011,2,20100905,       0551,  22.748667,-157.9945000,       4745,   110.4,  22.3745,  35.2712,2,-999.0000,5,    202.1,1,  -999.0,9, -999.00,9, -999.00,9,  -999.0,     110,    22.3524, -999.00,9,     -999.0
33KB20100902,       PRS2,       2,         15,         10,       8010,2,20100905,       0551,  22.748667,-157.9945000,       4745,   115.0,  22.1760,  35.2761,2,  35.2767,2,    202.2,1,  -999.0,9, -999.00,9, -999.00,9,  -999.0,     114,    22.1531, -999.00,9,     -999.0
33KB20100902,       PRS2,       2,         15,          9,       8009,2,20100905,       0551,  22.748667,-157.9945000,       4745,   125.6,  21.9515,  35.2939,2,-999.0000,5,    204.9,1,  -999.0,9, -999.00,9, -999.00,9,  -999.0,     126,    21.9267, -999.00,9,     -999.0
33KB20100902,       PRS2,       2,         15,          8,       8008,2,20100905,       0551,  22.748667,-157.9945000,       4745,   125.6,  21.9517,  35.2942,2,  35.2928,2,    205.0,1,  -999.0,9, -999.00,9, -999.00,9,  -999.0,     125,    21.9269, -999.00,9,     -999.0
33KB20100902,       PRS2,       2,         15,          7,       8026,2,20100905,       0551,  22.748667,-157.9945000,       4745,   135.0,  21.5791,  35.3313,2,  35.3305,2,    204.9,1,  -999.0,9, -999.00,9, -999.00,9,  -999.0,     135,    21.5527, -999.00,9,     -999.0
33KB20100902,       PRS2,       2,         15,          6,       8006,2,20100905,       0551,  22.748667,-157.9945000,       4745,   150.0,  20.9899,  35.3035,2,-999.0000,5,    204.0,1,  -999.0,9, -999.00,9, -999.00,9,  -999.0,     150,    20.9612, -999.00,9,     -999.0
33KB20100902,       PRS2,       2,         15,          5,       8005,2,20100905,       0551,  22.748667,-157.9945000,       4745,   150.0,  20.9891,  35.3030,2,  35.3074,2,    203.8,1,  -999.0,9, -999.00,9, -999.00,9,  -999.0,     150,    20.9604, -999.00,9,     -999.0
33KB20100902,       PRS2,       2,         15,          4,       8004,2,20100905,       0551,  22.748667,-157.9945000,       4745,   175.1,  20.5102,  35.3106,2,-999.0000,5,    205.1,1,  -999.0,9, -999.00,9, -999.00,9,  -999.0,     174,    20.4772, -999.00,9,     -999.0
33KB20100902,       PRS2,       2,         15,          3,       8003,2,20100905,       0551,  22.748667,-157.9945000,       4745,   175.2,  20.5131,  35.3102,2,  35.3110,2,    205.1,1,  -999.0,9, -999.00,9, -999.00,9,  -999.0,     175,    20.4801, -999.00,9,     -999.0
33KB20100902,       PRS2,       2,         15,          2,       8002,2,20100905,       0551,  22.748667,-157.9945000,       4745,   559.7,   6.7773,  34.1126,2,  34.1113,2,     78.1,1,  -999.0,9, -999.00,9, -999.00,9,  -999.0,     560,     6.7252, -999.00,9,     -999.0
33KB20100902,       PRS2,       2,         15,          1,       8001,2,20100905,       0551,  22.748667,-157.9945000,       4745,  1020.2,   3.9563,  34.4731,2,  34.4726,2,     45.2,1,  -999.0,9, -999.00,9, -999.00,9,  -999.0,    1020,     3.8794, -999.00,9,     -999.0