BOTTLE,20141031SIOCCHAMB
EXPOCODE,SECT_ID,STNNBR,CASTNO,SAMPNO,BTLNBR,BTLNBR_FLAG_W,DATE,TIME,LATITUDE,LONGITUDE,DEPTH,CTDPRS,CTDTMP,CTDSAL,CTDSAL_FLAG_W,SALNTY,SALNTY_FLAG_W,CTDOXY,CTDOXY_FLAG_W,OXYGEN,OXYGEN_FLAG_W,SILCAT,SILCAT_FLAG_W,PHSPHT,PHSPHT_FLAG_W,REVPRS,CTDRAW,THETA,NO2+NO3,NO2+NO3_FLAG_W,REVTMP
,,,,,,,,,,,METERS,DBAR,ITS-90,PSS-78,,PSS-78,,UMOL/KG,,UMOL/KG,,UMOL/KG,,UMOL/KG,,DBAR,DBAR,ITS-90,UMOL/KG,,DEG C
33KB20100902,       PRS2,       2,          6,         17,       8017,2,20100904,       0331,  22.750000,-157.9965000,       4742,     6.6,  25.7512,  35.2295,2,  35.2274,2,    208.2,1,  -999.0,9, -999.00,9, -999.00,9,  -999.0,       7,    25.7497, -999.00,9,     -999.0
33KB20100902,       PRS2,       2,          6,         16,       8016,2,20100904,       0331,  22.750000,-157.9965000,       4742,    15.1,  25.7385,  35.2292,2,-999.0000,5,    208.8,1,  -999.0,9, -999.00,9, -999.00,9,  -999.0,      15,    25.7352, -999.00,9,     -999.0
33KB20100902,       PRS2,       2,          6,         15,       8015,2,20100904,       0331,  22.750000,-157.9965000,       4742,    25.3,  25.6347,  35.2263,2,  35.2260,2,    208.5,1,  -999.0,9, -999.00,9, -999.00,9,  -999.0,      25,    25.6292, -999.00,9,     -999.0
33KB20100902,       PRS2,       2,          6,         14,       8014,2,20100904,       0331,  22.750000,-157.9965000,       4742,    40.5,  25.6197,  35.2259,2,-999.0000,5,    208.7,1,  -999.0,9, -999.00,9, -999.00,9,  -999.0,      40,    25.6107, -999.00,9,     -999.0
33KB20100902,       PRS2,       2,          6,         13,       8025,2,20100904,       0331,  22.750000,-157.9965000,       4742,    45.0,  25.6168,  35.2258,2,  35.2258,2,    209.0,1,  -999.0,9, -999.00,9, -999.00,9,  -999.0,      45,    25.6068, -999.00,9,     -999.0
33KB20100902,       PRS2,       2,          6,         12,       8012,2,20100904,       0331,  22.750000,-157.9965000,       4742,    70.1,  24.4225,  35.2107,2,-999.0000,5,    219.7,1,  -999.0,9, -999.00,9, -999.00,9,  -999.0,      70,    24.4076, -999.00,9,     -999.0
33KB20100902,       PRS2,       2,          6,         11,       8011,2,20100904,       0331,  22.750000,-157.9965000,       4742,    74.6,  24.0871,  35.2153,2,  35.2125,2,    219.0,1,  -999.0,9, -999.00,9, -999.00,9,  -999.0,      75,    24.0713, -999.00,9,     -999.0
33KB20100902,       PRS2,       2,          6,         10,       8010,2,20100904,       0331,  22.750000,-157.9965000,       4742,    99.6,  23.0853,  35.2702,2,  35.2678,2,    209.8,1,  -999.0,9, -999.00,9, -999.00,9,  -999.0,      99,    23.0649, -999.00,9,     -999.0
33KB20100902,       PRS2,       2,          6,          9,       8009,2,20100904,       0331,  22.750000,-157.9965000,       4742,   125.3,  22.2280,  35.2647,2,  35.2658,2,    202.7,1,  -999.0,9, -999.00,9, -999.00,9,  -999.0,     125,    22.2030, -999.00,9,     -999.0
33KB20100902,       PRS2,       2,          6,          8,       8008,2,20100904,       0331,  22.750000,-157.9965000,       4742,   150.7,  21.0241,  35.2986,2,  35.2974,2,    204.3,1,  -999.0,9, -999.00,9, -999.00,9,  -999.0,     151,    20.9952, -999.00,9,     -999.0
33KB20100902,       PRS2,       2,          6,          7,       8026,2,20100904,       0331,  22.750000,-157.9965000,       4742,   175.3,  20.4144,  35.2942,2,  35.2932,2,    205.1,1,  -999.0,9, -999.00,9, -999.00,9,  -999.0,     174,    20.3815, -999.00,9,     -999.0
33KB20100902,       PRS2,       2,          6,          6,       8006,2,20100904,       0331,  22.750000,-157.9965000,       4742,   200.0,  19.7977,  35.2382,2,  35.2392,2,    205.0,1,  -999.0,9, -999.00,9, -999.00,9,  -999.0,     200,    19.7609, -999.00,9,     -999.0
33KB20100902,       PRS2,       2,          6,          5,       8005,2,20100904,       0331,  22.750000,-157.9965000,       4742,   251.0,  17.4198,  34.8236,2,  34.8180,2,    199.4,1,  -999.0,9, -999.00,9, -999.00,9,  -999.0,     251,    17.3776, -999.00,9,     -999.0
33KB20100902,       PRS2,       2,          6,          4,       8004,2,20100904,       0331,  22.750000,-157.9965000,       4742,   350.2,  12.1368,  34.1760,2,  34.1772,2,    185.9,1,  -999.0,9, -999.00,9, -999.00,9,  -999.0,     350,    12.0908, -999.00,9,     -999.0
33KB20100902,       PRS2,       2,          6,          3,       8003,2,20100904,       0331,  22.750000,-157.9965000,       4742,   350.2,  12.1367,  34.1756,2,  34.1772,2,    186.0,1,  -999.0,9, -999.00,9, -999.00,9,  -999.0,     350,    12.0908, -999.00,9,     -999.0
33KB20100902,       PRS2,       2,          6,          2,       8002,2,20100904,       0331,  22.750000,-157.9965000,       4742,   574.7,   6.4844,  34.1186,2,  34.1152,2,     74.6,1,  -999.0,9, -999.00,9, -999.00,9,  -999.0,     575,     6.4321, -999.00,9,     -999.0
33KB20100902,       PRS2,       2,          6,          1,       8001,2,20100904,       0331,  22.750000,-157.9965000,       4742,  1020.2,   4.0258,  34.4661,2,  34.4654,2,     45.1,1,  -999.0,9, -999.00,9, -999.00,9,  -999.0,    1020,     3.9484, -999.00,9,     -999.0
33KB20100902,       PRS2,       2,          7,         16,       8016,2,20100904,       0705,  22.769667,-158.0920000,       4764,     6.6,  25.6806,  35.2356,2,  35.2351,2,    207.9,2,   207.7,2, -999.00,9, -999.00,9,  -999.0,       6,    25.6792, -999.00,9,     -999.0
33KB20100902,       PRS2,       2,          7,         15,       8015,2,20100904,       0705,  22.769667,-158.0920000,       4764,    25.6,  25.6787,  35.2351,2,  35.2337,2,    208.1,2,  -999.0,5, -999.00,9, -999.00,9,  -999.0,      26,    25.6731, -999.00,9,     -999.0
33KB20100902,       PRS2,       2,          7,         14,       8014,2,20100904,       0705,  22.769667,-158.0920000,       4764,    45.3,  25.5878,  35.2305,2,  35.2304,2,    208.5,2,   208.4,2, -999.00,9, -999.00,9,  -999.0,      45,    25.5778, -999.00,9,     -999.0
33KB20100902,       PRS2,       2,          7,         13,       8025,2,20100904,       0705,  22.769667,-158.0920000,       4764,    75.3,  24.4203,  35.2462,2,  35.2440,2,    217.7,2,  -999.0,5, -999.00,9, -999.00,9,  -999.0,      75,    24.4043, -999.00,9,     -999.0
33KB20100902,       PRS2,       2,          7,         12,       8012,2,20100904,       0705,  22.769667,-158.0920000,       4764,   100.9,  23.2430,  35.2613,2,  35.2586,2,    211.8,2,   212.4,2, -999.00,9, -999.00,9,  -999.0,     100,    23.2222, -999.00,9,     -999.0
33KB20100902,       PRS2,       2,          7,         11,       8011,2,20100904,       0705,  22.769667,-158.0920000,       4764,   125.4,  22.3128,  35.2702,2,  35.2674,2,    204.9,2,  -999.0,5, -999.00,9, -999.00,9,  -999.0,     125,    22.2877, -999.00,9,     -999.0
33KB20100902,       PRS2,       2,          7,         10,       8010,2,20100904,       0705,  22.769667,-158.0920000,       4764,   151.4,  21.6404,  35.3058,2,  35.3070,2,    205.5,2,  -999.0,5, -999.00,9, -999.00,9,  -999.0,     150,    21.6107, -999.00,9,     -999.0
33KB20100902,       PRS2,       2,          7,          9,       8009,2,20100904,       0705,  22.769667,-158.0920000,       4764,   175.7,  20.6224,  35.2511,2,  35.2517,2,    199.6,2,  -999.0,5, -999.00,9, -999.00,9,  -999.0,     176,    20.5892, -999.00,9,     -999.0
33KB20100902,       PRS2,       2,          7,          8,       8008,2,20100904,       0705,  22.769667,-158.0920000,       4764,   200.5,  19.9209,  35.2254,2,-999.0000,5,    203.8,2,   203.1,2, -999.00,9, -999.00,9,  -999.0,     201,    19.8839, -999.00,9,     -999.0
33KB20100902,       PRS2,       2,          7,          7,       8026,2,20100904,       0705,  22.769667,-158.0920000,       4764,   200.6,  19.9218,  35.2260,2,  35.2268,2,    203.8,2,  -999.0,5, -999.00,9, -999.00,9,  -999.0,     201,    19.8847, -999.00,9,     -999.0
33KB20100902,       PRS2,       2,          7,          6,       8006,2,20100904,       0705,  22.769667,-158.0920000,       4764,   251.5,  17.6959,  34.8555,2,  34.8582,2,    192.0,2,  -999.0,5, -999.00,9, -999.00,9,  -999.0,     251,    17.6532, -999.00,9,     -999.0
33KB20100902,       PRS2,       2,          7,          5,       8005,2,20100904,       0705,  22.769667,-158.0920000,       4764,   348.9,  11.3894,  34.1491,2,-999.0000,5,    176.6,2,   181.3,2, -999.00,9, -999.00,9,  -999.0,     350,    11.3455, -999.00,9,     -999.0
33KB20100902,       PRS2,       2,          7,          4,       8004,2,20100904,       0705,  22.769667,-158.0920000,       4764,   349.1,  11.3829,  34.1483,2,  34.1489,2,    176.9,2,  -999.0,5, -999.00,9, -999.00,9,  -999.0,     349,    11.3391, -999.00,9,     -999.0
33KB20100902,       PRS2,       2,          7,          3,       8003,2,20100904,       0705,  22.769667,-158.0920000,       4764,   349.2,  11.3829,  34.1483,2,  34.1489,2,    177.2,2,  -999.0,5, -999.00,9, -999.00,9,  -999.0,     349,    11.3390, -999.00,9,     -999.0
33KB20100902,       PRS2,       2,          7,          2,       8002,2,20100904,       0705,  22.769667,-158.0920000,       4764,   460.6,   8.6195,  34.1115,2,-999.0000,5,    126.8,2,   128.0,2, -999.00,9, -999.00,9,  -999.0,     460,     8.5706, -999.00,9,     -999.0
33KB20100902,       PRS2,       2,          7,          1,       8001,2,20100904,       0705,  22.769667,-158.0920000,       4764,  1020.2,   3.9940,  34.4772,2,  34.4750,2,     47.3,2,    48.6,2, -999.00,9, -999.00,9,  -999.0,    1020,     3.9168, -999.00,9,     -999.0
33KB20100902,       PRS2,       2,          8,         23,       8023,2,20100904,       0909,  22.766000,-158.0580000,       4754,     5.4,  25.6749,  35.2323,2,  35.2314,2,    208.2,2,  -999.0,5, -999.00,5, -999.00,5,  -999.0,       4,    25.6737, -999.00,5,     -999.0
33KB20100902,       PRS2,       2,          8,         22,       8022,2,20100904,       0909,  22.766000,-158.0580000,       4754,     5.4,  25.6750,  35.2321,2,  35.2304,2,    208.2,2,   207.6,2,    1.10,2,    0.09,2,  -999.0,       5,    25.6738,    0.05,2,     -999.0
33KB20100902,       PRS2,       2,          8,         21,       8021,2,20100904,       0909,  22.766000,-158.0580000,       4754,    14.9,  25.6815,  35.2324,2,  35.2310,2,    208.2,2,  -999.0,5,    1.36,2,    0.09,2,  -999.0,      15,    25.6782,    0.05,2,     -999.0
33KB20100902,       PRS2,       2,          8,         20,       8020,2,20100904,       0909,  22.766000,-158.0580000,       4754,    25.6,  25.6801,  35.2316,2,  35.2302,2,    208.2,2,  -999.0,5, -999.00,5, -999.00,5,  -999.0,      25,    25.6745, -999.00,5,     -999.0
33KB20100902,       PRS2,       2,          8,         19,       8019,2,20100904,       0909,  22.766000,-158.0580000,       4754,    25.6,  25.6826,  35.2319,2,  35.2310,2,    208.3,2,   208.0,2,    1.08,2,    0.09,2,  -999.0,      25,    25.6770,    0.03,2,     -999.0
33KB20100902,       PRS2,       2,          8,         18,       8018,2,20100904,       0909,  22.766000,-158.0580000,       4754,    35.2,  25.6317,  35.2301,2,  35.2298,2,    208.2,2,  -999.0,5,    1.08,2,    0.11,2,  -999.0,      35,    25.6239,    0.03,2,     -999.0
33KB20100902,       PRS2,       2,          8,         17,       8017,2,20100904,       0909,  22.766000,-158.0580000,       4754,    45.5,  25.6030,  35.2297,2,  35.2288,2,    208.9,2,   208.1,2,    1.10,2,    0.10,2,  -999.0,      45,    25.5929,    0.04,2,     -999.0
33KB20100902,       PRS2,       2,          8,         16,       8016,2,20100904,       0909,  22.766000,-158.0580000,       4754,    60.2,  25.4472,  35.2389,2,  35.2404,2,    210.3,2,  -999.0,5,    1.11,2,    0.10,2,  -999.0,      60,    25.4340,    0.03,2,     -999.0
33KB20100902,       PRS2,       2,          8,         15,       8015,2,20100904,       0909,  22.766000,-158.0580000,       4754,    76.0,  24.5246,  35.2021,2,  35.2073,2,    220.1,2,   219.2,2,    1.16,2,    0.10,2,  -999.0,      76,    24.5084,    0.02,2,     -999.0
33KB20100902,       PRS2,       2,          8,         14,       8014,2,20100904,       0909,  22.766000,-158.0580000,       4754,    84.9,  24.0201,  35.2061,2,  35.2054,2,    218.0,2,   218.0,2, -999.00,5, -999.00,5,  -999.0,      85,    24.0023, -999.00,5,     -999.0
33KB20100902,       PRS2,       2,          8,         13,       8025,2,20100904,       0909,  22.766000,-158.0580000,       4754,    89.8,  23.7523,  35.2111,2,  35.2107,2,    217.1,2,  -999.0,5, -999.00,5, -999.00,5,  -999.0,      90,    23.7335, -999.00,5,     -999.0
33KB20100902,       PRS2,       2,          8,         12,       8012,2,20100904,       0909,  22.766000,-158.0580000,       4754,   100.5,  23.3362,  35.2470,2,  35.2461,2,    212.7,2,   214.1,2,    1.27,2,    0.15,2,  -999.0,     100,    23.3155,    0.03,2,     -999.0
33KB20100902,       PRS2,       2,          8,         11,       8011,2,20100904,       0909,  22.766000,-158.0580000,       4754,   111.0,  22.9644,  35.2591,2,  35.2593,2,    207.9,2,  -999.0,5, -999.00,5, -999.00,5,  -999.0,     111,    22.9418, -999.00,5,     -999.0
33KB20100902,       PRS2,       2,          8,         10,       8010,2,20100904,       0909,  22.766000,-158.0580000,       4754,   115.9,  22.7947,  35.2612,2,  35.2609,2,    208.9,2,   210.3,2, -999.00,5, -999.00,5,  -999.0,     115,    22.7712, -999.00,5,     -999.0
33KB20100902,       PRS2,       2,          8,          9,       8009,2,20100904,       0909,  22.766000,-158.0580000,       4754,   125.5,  22.3730,  35.2628,2,  35.2633,2,    203.7,2,   205.0,2,    1.51,2,    0.13,2,  -999.0,     126,    22.3478,    0.31,2,     -999.0
33KB20100902,       PRS2,       2,          8,          8,       8008,2,20100904,       0909,  22.766000,-158.0580000,       4754,   130.4,  22.2523,  35.2764,2,  35.2816,2,    204.1,2,  -999.0,5, -999.00,5, -999.00,5,  -999.0,     131,    22.2263, -999.00,5,     -999.0
33KB20100902,       PRS2,       2,          8,          7,       8026,2,20100904,       0909,  22.766000,-158.0580000,       4754,   150.2,  21.6666,  35.2706,2,  35.2708,2,    202.1,2,   202.2,2,    1.51,2,    0.14,2,  -999.0,     149,    21.6372,    0.75,2,     -999.0
33KB20100902,       PRS2,       2,          8,          6,       8006,2,20100904,       0909,  22.766000,-158.0580000,       4754,   165.6,  21.4145,  35.2710,2,  35.2725,2,    203.2,2,   202.4,2, -999.00,5, -999.00,5,  -999.0,     166,    21.3824, -999.00,5,     -999.0
33KB20100902,       PRS2,       2,          8,          5,       8005,2,20100904,       0909,  22.766000,-158.0580000,       4754,   175.4,  20.9850,  35.2482,2,  35.2507,2,    201.1,2,   201.7,2,    1.75,2,    0.15,2,  -999.0,     175,    20.9514,    1.03,2,     -999.0
33KB20100902,       PRS2,       2,          8,          4,       8004,2,20100904,       0909,  22.766000,-158.0580000,       4754,   200.7,  20.1433,  35.2075,2,  35.2103,2,    199.1,2,   200.2,2,    1.97,2,    0.17,2,  -999.0,     201,    20.1060,    1.48,2,     -999.0
33KB20100902,       PRS2,       2,          8,          3,       8003,2,20100904,       0909,  22.766000,-158.0580000,       4754,   500.6,   7.9986,  34.1247,2,  34.1256,2,    104.9,2,   103.5,2, -999.00,5, -999.00,5,  -999.0,     500,     7.9477, -999.00,5,     -999.0
33KB20100902,       PRS2,       2,          8,          2,       8002,2,20100904,       0909,  22.766000,-158.0580000,       4754,   830.8,   4.9023,  34.3844,2,  34.3863,2,     34.4,2,    35.7,2, -999.00,5, -999.00,5,  -999.0,     830,     4.8348, -999.00,5,     -999.0
33KB20100902,       PRS2,       2,          8,          1,       8001,2,20100904,       0909,  22.766000,-158.0580000,       4754,  1021.6,   4.0617,  34.4673,2,  34.4685,2,     46.0,2,    46.5,2, -999.00,5, -999.00,5,  -999.0,    1021,     3.9838, -999.00,5,     -999.0
33KB20100902,       PRS2,       2,          9,         14,       8014,2,20100904,       1251,  22.764333,-158.0031667,       4736,     6.5,  25.6395,  35.2274,2,  35.2262,2,    207.5,1,  -999.0,9, -999.00,9, -999.00,9,  -999.0,       6,    25.6381, -999.00,9,     -999.0
33KB20100902,       PRS2,       2,          9,         13,       8025,2,20100904,       1251,  22.764333,-158.0031667,       4736,     6.5,  25.6377,  35.2275,2,-999.0000,5,    207.3,1,  -999.0,9, -999.00,9, -999.00,9,  -999.0,       6,    25.6363, -999.00,9,     -999.0
33KB20100902,       PRS2,       2,          9,         12,       8012,2,20100904,       1251,  22.764333,-158.0031667,       4736,    25.3,  25.6453,  35.2268,2,-999.0000,5,    207.4,1,  -999.0,9, -999.00,9, -999.00,9,  -999.0,      26,    25.6397, -999.00,9,     -999.0
33KB20100902,       PRS2,       2,          9,         11,       8011,2,20100904,       1251,  22.764333,-158.0031667,       4736,    25.3,  25.6455,  35.2268,2,-999.0000,5,    207.5,1,  -999.0,9, -999.00,9, -999.00,9,  -999.0,      26,    25.6399, -999.00,9,     -999.0
33KB20100902,       PRS2,       2,          9,         10,       8010,2,20100904,       1251,  22.764333,-158.0031667,       4736,    45.4,  25.6434,  35.2261,2,-999.0000,5,    207.6,1,  -999.0,9, -999.00,9, -999.00,9,  -999.0,      45,    25.6334, -999.00,9,     -999.0
33KB20100902,       PRS2,       2,          9,          9,       8009,2,20100904,       1251,  22.764333,-158.0031667,       4736,    45.4,  25.6432,  35.2259,2,-999.0000,5,    207.6,1,  -999.0,9, -999.00,9, -999.00,9,  -999.0,      45,    25.6332, -999.00,9,     -999.0
33KB20100902,       PRS2,       2,          9,          8,       8008,2,20100904,       1251,  22.764333,-158.0031667,       4736,    75.0,  24.7491,  35.2232,2,-999.0000,5,    219.1,1,  -999.0,9, -999.00,9, -999.00,9,  -999.0,      75,    24.7329, -999.00,9,     -999.0
33KB20100902,       PRS2,       2,          9,          7,       8026,2,20100904,       1251,  22.764333,-158.0031667,       4736,    75.0,  24.7465,  35.2227,2,-999.0000,5,    219.1,1,  -999.0,9, -999.00,9, -999.00,9,  -999.0,      75,    24.7303, -999.00,9,     -999.0
33KB20100902,       PRS2,       2,          9,          6,       8006,2,20100904,       1251,  22.764333,-158.0031667,       4736,   100.2,  23.3474,  35.2459,2,-999.0000,5,    213.6,1,  -999.0,9, -999.00,9, -999.00,9,  -999.0,     100,    23.3267, -999.00,9,     -999.0
33KB20100902,       PRS2,       2,          9,          5,       8005,2,20100904,       1251,  22.764333,-158.0031667,       4736,   100.2,  23.3597,  35.2449,2,-999.0000,5,    213.2,1,  -999.0,9, -999.00,9, -999.00,9,  -999.0,     100,    23.3391, -999.00,9,     -999.0
33KB20100902,       PRS2,       2,          9,          4,       8004,2,20100904,       1251,  22.764333,-158.0031667,       4736,   125.7,  22.5463,  35.2789,2,-999.0000,5,    204.2,1,  -999.0,9, -999.00,9, -999.00,9,  -999.0,     125,    22.5210, -999.00,9,     -999.0
33KB20100902,       PRS2,       2,          9,          3,       8003,2,20100904,       1251,  22.764333,-158.0031667,       4736,   125.7,  22.5638,  35.2803,2,-999.0000,5,    204.2,1,  -999.0,9, -999.00,9, -999.00,9,  -999.0,     126,    22.5385, -999.00,9,     -999.0
33KB20100902,       PRS2,       2,          9,          2,       8002,2,20100904,       1251,  22.764333,-158.0031667,       4736,   550.3,   6.6012,  34.1123,2,  34.1117,2,     74.3,1,  -999.0,9, -999.00,9, -999.00,9,  -999.0,     551,     6.5508, -999.00,9,     -999.0
33KB20100902,       PRS2,       2,          9,          1,       8001,2,20100904,       1251,  22.764333,-158.0031667,       4736,  1021.8,   4.0528,  34.4584,2,  34.4573,2,     43.7,1,  -999.0,9, -999.00,9, -999.00,9,  -999.0,    1022,     3.9750, -999.00,9,     -999.0