BOTTLE,20141031SIOCCHAMB
EXPOCODE,SECT_ID,STNNBR,CASTNO,SAMPNO,BTLNBR,BTLNBR_FLAG_W,DATE,TIME,LATITUDE,LONGITUDE,DEPTH,CTDPRS,CTDTMP,CTDSAL,CTDSAL_FLAG_W,SALNTY,SALNTY_FLAG_W,CTDOXY,CTDOXY_FLAG_W,OXYGEN,OXYGEN_FLAG_W,SILCAT,SILCAT_FLAG_W,PHSPHT,PHSPHT_FLAG_W,REVPRS,CTDRAW,THETA,NO2+NO3,NO2+NO3_FLAG_W,REVTMP
,,,,,,,,,,,METERS,DBAR,ITS-90,PSS-78,,PSS-78,,UMOL/KG,,UMOL/KG,,UMOL/KG,,UMOL/KG,,DBAR,DBAR,ITS-90,UMOL/KG,,DEG C
33KB20100902,       PRS2,       2,         16,         24,       8024,2,20100905,       0848,  22.729333,-157.9261667,       4728,     6.6,  25.6094,  35.2181,2,  35.2174,2,    207.6,1,  -999.0,9, -999.00,9, -999.00,9,  -999.0,       7,    25.6079, -999.00,9,     -999.0
33KB20100902,       PRS2,       2,         16,         23,       8023,2,20100905,       0848,  22.729333,-157.9261667,       4728,    25.4,  25.6203,  35.2176,2,  35.2166,2,    207.5,1,  -999.0,9, -999.00,9, -999.00,9,  -999.0,      24,    25.6147, -999.00,9,     -999.0
33KB20100902,       PRS2,       2,         16,         22,       8022,2,20100905,       0848,  22.729333,-157.9261667,       4728,    45.5,  25.5979,  35.2194,2,  35.2193,2,    207.7,1,  -999.0,9, -999.00,9, -999.00,9,  -999.0,      45,    25.5878, -999.00,9,     -999.0
33KB20100902,       PRS2,       2,         16,         21,       8021,2,20100905,       0848,  22.729333,-157.9261667,       4728,    75.2,  23.9290,  35.2056,2,  35.2060,2,    217.4,1,  -999.0,9, -999.00,9, -999.00,9,  -999.0,      75,    23.9132, -999.00,9,     -999.0
33KB20100902,       PRS2,       2,         16,         20,       8020,2,20100905,       0848,  22.729333,-157.9261667,       4728,   100.7,  23.0337,  35.2620,2,  35.2619,2,    205.9,1,  -999.0,9, -999.00,9, -999.00,9,  -999.0,     100,    23.0131, -999.00,9,     -999.0
33KB20100902,       PRS2,       2,         16,         19,       8019,2,20100905,       0848,  22.729333,-157.9261667,       4728,   124.5,  22.4219,  35.2559,2,  35.2574,2,    203.5,1,  -999.0,9, -999.00,9, -999.00,9,  -999.0,     124,    22.3969, -999.00,9,     -999.0
33KB20100902,       PRS2,       2,         16,         18,       8018,2,20100905,       0848,  22.729333,-157.9261667,       4728,   150.5,  21.5699,  35.2855,2,  35.2867,2,    202.6,1,  -999.0,9, -999.00,9, -999.00,9,  -999.0,     150,    21.5405, -999.00,9,     -999.0
33KB20100902,       PRS2,       2,         16,         17,       8017,2,20100905,       0848,  22.729333,-157.9261667,       4728,   176.4,  20.5763,  35.2468,2,  35.2390,2,    200.4,1,  -999.0,9, -999.00,9, -999.00,9,  -999.0,     176,    20.5430, -999.00,9,     -999.0
33KB20100902,       PRS2,       2,         16,         16,       8016,2,20100905,       0848,  22.729333,-157.9261667,       4728,   500.0,   7.7164,  34.1221,2,-999.0000,5,     94.8,1,  -999.0,9, -999.00,9, -999.00,9,  -999.0,     500,     7.6666, -999.00,9,     -999.0
33KB20100902,       PRS2,       2,         16,         15,       8015,2,20100905,       0848,  22.729333,-157.9261667,       4728,   500.1,   7.7150,  34.1220,2,-999.0000,5,     94.6,1,  -999.0,9, -999.00,9, -999.00,9,  -999.0,     500,     7.6651, -999.00,9,     -999.0
33KB20100902,       PRS2,       2,         16,         14,       8014,2,20100905,       0848,  22.729333,-157.9261667,       4728,   500.1,   7.7141,  34.1221,2,-999.0000,5,     94.5,1,  -999.0,9, -999.00,9, -999.00,9,  -999.0,     500,     7.6642, -999.00,9,     -999.0
33KB20100902,       PRS2,       2,         16,         13,       8025,2,20100905,       0848,  22.729333,-157.9261667,       4728,   500.3,   7.7131,  34.1219,2,-999.0000,5,     94.4,1,  -999.0,9, -999.00,9, -999.00,9,  -999.0,     500,     7.6632, -999.00,9,     -999.0
33KB20100902,       PRS2,       2,         16,         12,       8012,2,20100905,       0848,  22.729333,-157.9261667,       4728,   500.3,   7.7116,  34.1220,2,-999.0000,5,     94.3,1,  -999.0,9, -999.00,9, -999.00,9,  -999.0,     500,     7.6617, -999.00,9,     -999.0
33KB20100902,       PRS2,       2,         16,         11,       8011,2,20100905,       0848,  22.729333,-157.9261667,       4728,   520.5,   7.2827,  34.1121,2,  34.1297,4,     90.3,1,  -999.0,9, -999.00,9, -999.00,9,  -999.0,     520,     7.2324, -999.00,9,     -999.0
33KB20100902,       PRS2,       2,         16,         10,       8010,2,20100905,       0848,  22.729333,-157.9261667,       4728,   770.5,   4.9797,  34.3295,2,-999.0000,5,     33.8,1,  -999.0,9, -999.00,9, -999.00,9,  -999.0,     771,     4.9171, -999.00,9,     -999.0
33KB20100902,       PRS2,       2,         16,          9,       8009,2,20100905,       0848,  22.729333,-157.9261667,       4728,   770.5,   4.9796,  34.3296,2,-999.0000,5,     33.8,1,  -999.0,9, -999.00,9, -999.00,9,  -999.0,     771,     4.9171, -999.00,9,     -999.0
33KB20100902,       PRS2,       2,         16,          8,       8008,2,20100905,       0848,  22.729333,-157.9261667,       4728,   770.6,   4.9791,  34.3297,2,-999.0000,5,     33.8,1,  -999.0,9, -999.00,9, -999.00,9,  -999.0,     770,     4.9166, -999.00,9,     -999.0
33KB20100902,       PRS2,       2,         16,          7,       8026,2,20100905,       0848,  22.729333,-157.9261667,       4728,   770.6,   4.9790,  34.3297,2,-999.0000,5,     33.8,1,  -999.0,9, -999.00,9, -999.00,9,  -999.0,     770,     4.9164, -999.00,9,     -999.0
33KB20100902,       PRS2,       2,         16,          6,       8006,2,20100905,       0848,  22.729333,-157.9261667,       4728,   770.4,   4.9787,  34.3297,2,-999.0000,5,     33.8,1,  -999.0,9, -999.00,9, -999.00,9,  -999.0,     771,     4.9162, -999.00,9,     -999.0
33KB20100902,       PRS2,       2,         16,          5,       8005,2,20100905,       0848,  22.729333,-157.9261667,       4728,  1020.7,   3.9712,  34.4681,2,-999.0000,5,     44.7,1,  -999.0,9, -999.00,9, -999.00,9,  -999.0,    1021,     3.8941, -999.00,9,     -999.0
33KB20100902,       PRS2,       2,         16,          4,       8004,2,20100905,       0848,  22.729333,-157.9261667,       4728,  1020.7,   3.9711,  34.4681,2,-999.0000,5,     44.7,1,  -999.0,9, -999.00,9, -999.00,9,  -999.0,    1021,     3.8940, -999.00,9,     -999.0
33KB20100902,       PRS2,       2,         16,          3,       8003,2,20100905,       0848,  22.729333,-157.9261667,       4728,  1020.7,   3.9711,  34.4681,2,-999.0000,5,     44.6,1,  -999.0,9, -999.00,9, -999.00,9,  -999.0,    1021,     3.8940, -999.00,9,     -999.0
33KB20100902,       PRS2,       2,         16,          2,       8002,2,20100905,       0848,  22.729333,-157.9261667,       4728,  1020.6,   3.9712,  34.4683,2,-999.0000,5,     44.6,1,  -999.0,9, -999.00,9, -999.00,9,  -999.0,    1020,     3.8941, -999.00,9,     -999.0
33KB20100902,       PRS2,       2,         16,          1,       8001,2,20100905,       0848,  22.729333,-157.9261667,       4728,  1020.4,   3.9713,  34.4681,2,  34.4683,2,     44.6,1,  -999.0,9, -999.00,9, -999.00,9,  -999.0,    1020,     3.8942, -999.00,9,     -999.0
33KB20100902,       PRS2,       2,         17,         24,       8024,2,20100905,       1125,  22.750500,-157.9976667,       4744,     5.8,  25.5995,  35.2241,2,  35.2235,2,    207.9,2,   208.1,2, -999.00,9, -999.00,9,  -999.0,       6,    25.5982, -999.00,9,     -999.0
33KB20100902,       PRS2,       2,         17,         23,       8023,2,20100905,       1125,  22.750500,-157.9976667,       4744,    79.4,  24.9441,  35.2805,2,  35.2804,2,    217.3,2,   217.0,2, -999.00,9, -999.00,9,  -999.0,      79,    24.9269, -999.00,9,     -999.0
33KB20100902,       PRS2,       2,         17,         22,       8022,2,20100905,       1125,  22.750500,-157.9976667,       4744,    99.9,  23.4023,  35.2482,2,-999.0000,5,    212.3,2,  -999.0,5, -999.00,9, -999.00,9,  -999.0,     100,    23.3816, -999.00,9,     -999.0
33KB20100902,       PRS2,       2,         17,         21,       8021,2,20100905,       1125,  22.750500,-157.9976667,       4744,   302.2,  15.6603,  34.5575,2,-999.0000,5,    186.7,2,  -999.0,5, -999.00,9, -999.00,9,  -999.0,     302,    15.6131, -999.00,9,     -999.0
33KB20100902,       PRS2,       2,         17,         20,       8020,2,20100905,       1125,  22.750500,-157.9976667,       4744,   301.9,  15.6746,  34.5583,2,-999.0000,5,    186.7,2,  -999.0,5, -999.00,9, -999.00,9,  -999.0,     302,    15.6275, -999.00,9,     -999.0
33KB20100902,       PRS2,       2,         17,         19,       8019,2,20100905,       1125,  22.750500,-157.9976667,       4744,   331.1,  13.8379,  34.3502,2,-999.0000,5,    193.0,2,  -999.0,5, -999.00,9, -999.00,9,  -999.0,     331,    13.7905, -999.00,9,     -999.0
33KB20100902,       PRS2,       2,         17,         18,       8018,2,20100905,       1125,  22.750500,-157.9976667,       4744,   399.8,  10.4972,  34.1168,2,-999.0000,5,    175.8,2,  -999.0,5, -999.00,9, -999.00,9,  -999.0,     399,    10.4494, -999.00,9,     -999.0
33KB20100902,       PRS2,       2,         17,         17,       8017,2,20100905,       1125,  22.750500,-157.9976667,       4744,   499.3,   7.8643,  34.1234,2,-999.0000,5,    100.7,2,  -999.0,5, -999.00,9, -999.00,9,  -999.0,     500,     7.8139, -999.00,9,     -999.0
33KB20100902,       PRS2,       2,         17,         16,       8016,2,20100905,       1125,  22.750500,-157.9976667,       4744,   559.7,   6.6752,  34.1216,2,  34.1205,2,     75.4,2,    73.4,2, -999.00,9, -999.00,9,  -999.0,     559,     6.6235, -999.00,9,     -999.0
33KB20100902,       PRS2,       2,         17,         15,       8015,2,20100905,       1125,  22.750500,-157.9976667,       4744,   700.5,   5.3619,  34.2673,2,-999.0000,5,     32.7,2,  -999.0,5, -999.00,9, -999.00,9,  -999.0,     701,     5.3033, -999.00,9,     -999.0
33KB20100902,       PRS2,       2,         17,         14,       8014,2,20100905,       1125,  22.750500,-157.9976667,       4744,   700.3,   5.3622,  34.2672,2,-999.0000,5,     32.7,2,  -999.0,5, -999.00,9, -999.00,9,  -999.0,     700,     5.3037, -999.00,9,     -999.0
33KB20100902,       PRS2,       2,         17,         13,       8025,2,20100905,       1125,  22.750500,-157.9976667,       4744,   751.3,   5.0278,  34.3197,2,  34.3189,2,     34.8,2,    35.2,2, -999.00,9, -999.00,9,  -999.0,     751,     4.9666, -999.00,9,     -999.0
33KB20100902,       PRS2,       2,         17,         12,       8012,2,20100905,       1125,  22.750500,-157.9976667,       4744,  1001.0,   4.0885,  34.4482,2,-999.0000,5,     42.7,2,  -999.0,5, -999.00,9, -999.00,9,  -999.0,    1001,     4.0121, -999.00,9,     -999.0
33KB20100902,       PRS2,       2,         17,         11,       8011,2,20100905,       1125,  22.750500,-157.9976667,       4744,  1000.8,   4.0895,  34.4481,2,-999.0000,5,     42.8,2,  -999.0,5, -999.00,9, -999.00,9,  -999.0,    1001,     4.0132, -999.00,9,     -999.0
33KB20100902,       PRS2,       2,         17,         10,       8010,2,20100905,       1125,  22.750500,-157.9976667,       4744,  2001.3,   2.1822,  34.6152,2,-999.0000,5,     87.2,2,  -999.0,5, -999.00,9, -999.00,9,  -999.0,    2002,     2.0429, -999.00,9,     -999.0
33KB20100902,       PRS2,       2,         17,          9,       8009,2,20100905,       1125,  22.750500,-157.9976667,       4744,  2001.1,   2.1823,  34.6150,2,-999.0000,5,     87.3,2,  -999.0,5, -999.00,9, -999.00,9,  -999.0,    2001,     2.0431, -999.00,9,     -999.0
33KB20100902,       PRS2,       2,         17,          8,       8008,2,20100905,       1125,  22.750500,-157.9976667,       4744,  2000.8,   2.1824,  34.6151,2,  34.6140,2,     87.3,2,    88.2,2, -999.00,9, -999.00,9,  -999.0,    2001,     2.0432, -999.00,9,     -999.0
33KB20100902,       PRS2,       2,         17,          7,       8026,2,20100905,       1125,  22.750500,-157.9976667,       4744,  3000.4,   1.5678,  34.6673,2,-999.0000,5,    121.8,2,  -999.0,5, -999.00,9, -999.00,9,  -999.0,    3001,     1.3495, -999.00,9,     -999.0
33KB20100902,       PRS2,       2,         17,          6,       8006,2,20100905,       1125,  22.750500,-157.9976667,       4744,  3000.2,   1.5677,  34.6673,2,  34.6832,4,    121.8,3,   122.6,2, -999.00,9, -999.00,9,  -999.0,    3000,     1.3495, -999.00,9,     -999.0
33KB20100902,       PRS2,       2,         17,          5,       8005,2,20100905,       1125,  22.750500,-157.9976667,       4744,  4001.1,   1.4567,  34.6867,2,-999.0000,5,    148.0,2,  -999.0,5, -999.00,9, -999.00,9,  -999.0,    4002,     1.1389, -999.00,9,     -999.0
33KB20100902,       PRS2,       2,         17,          4,       8004,2,20100905,       1125,  22.750500,-157.9976667,       4744,  4000.9,   1.4566,  34.6868,2,  34.6857,2,    148.1,2,   148.3,2, -999.00,9, -999.00,9,  -999.0,    4000,     1.1388, -999.00,9,     -999.0
33KB20100902,       PRS2,       2,         17,          3,       8003,2,20100905,       1125,  22.750500,-157.9976667,       4744,  4750.3,   1.5037,  34.6903,2,-999.0000,5,    154.0,2,  -999.0,5, -999.00,9, -999.00,9,  -999.0,    4750,     1.0993, -999.00,9,     -999.0
33KB20100902,       PRS2,       2,         17,          2,       8002,2,20100905,       1125,  22.750500,-157.9976667,       4744,  4806.9,   1.5106,  34.6903,2,-999.0000,5,    154.0,2,  -999.0,5, -999.00,9, -999.00,9,  -999.0,    4807,     1.0993, -999.00,9,     -999.0
33KB20100902,       PRS2,       2,         17,          1,       8001,2,20100905,       1125,  22.750500,-157.9976667,       4744,  4806.9,   1.5106,  34.6903,2,  34.6899,2,    154.0,2,   154.4,2, -999.00,9, -999.00,9,  -999.0,    4807,     1.0993, -999.00,9,     -999.0
33KB20100902,       PRS2,       6,          1,         13,       8025,2,20100906,       0600,  21.846333,-158.3631667,       2452,     5.8,  26.1240,  35.1111,2,  35.1102,2,    205.9,1,  -999.0,9, -999.00,9, -999.00,9,  -999.0,       5,    26.1227, -999.00,9,     -999.0
33KB20100902,       PRS2,       6,          1,         12,       8012,2,20100906,       0600,  21.846333,-158.3631667,       2452,    25.2,  26.1304,  35.1110,2,  35.1098,2,    205.9,1,  -999.0,9, -999.00,9, -999.00,9,  -999.0,      25,    26.1248, -999.00,9,     -999.0
33KB20100902,       PRS2,       6,          1,         11,       8011,2,20100906,       0600,  21.846333,-158.3631667,       2452,    45.6,  25.9272,  35.1082,2,  35.1075,2,    206.6,1,  -999.0,9, -999.00,9, -999.00,9,  -999.0,      45,    25.9170, -999.00,9,     -999.0
33KB20100902,       PRS2,       6,          1,         10,       8010,2,20100906,       0600,  21.846333,-158.3631667,       2452,    75.6,  24.9049,  35.1924,2,  35.1859,2,    210.7,1,  -999.0,9, -999.00,9, -999.00,9,  -999.0,      75,    24.8885, -999.00,9,     -999.0
33KB20100902,       PRS2,       6,          1,          9,       8009,2,20100906,       0600,  21.846333,-158.3631667,       2452,   100.6,  22.9714,  35.1924,2,  35.1937,2,    208.4,1,  -999.0,9, -999.00,9, -999.00,9,  -999.0,     101,    22.9509, -999.00,9,     -999.0
33KB20100902,       PRS2,       6,          1,          8,       8008,2,20100906,       0600,  21.846333,-158.3631667,       2452,   125.8,  21.5867,  35.2672,2,  35.2672,2,    197.1,1,  -999.0,9, -999.00,9, -999.00,9,  -999.0,     126,    21.5621, -999.00,9,     -999.0
33KB20100902,       PRS2,       6,          1,          7,       8026,2,20100906,       0600,  21.846333,-158.3631667,       2452,   150.3,  20.3403,  35.2377,2,  35.2377,2,    203.8,1,  -999.0,9, -999.00,9, -999.00,9,  -999.0,     150,    20.3122, -999.00,9,     -999.0
33KB20100902,       PRS2,       6,          1,          6,       8006,2,20100906,       0600,  21.846333,-158.3631667,       2452,   175.2,  19.0992,  35.0335,2,  35.0346,2,    195.6,1,  -999.0,9, -999.00,9, -999.00,9,  -999.0,     175,    19.0678, -999.00,9,     -999.0
33KB20100902,       PRS2,       6,          1,          5,       8005,2,20100906,       0600,  21.846333,-158.3631667,       2452,   501.0,   7.8612,  34.1230,2,  34.1232,2,    104.9,1,  -999.0,9, -999.00,9, -999.00,9,  -999.0,     500,     7.8107, -999.00,9,     -999.0
33KB20100902,       PRS2,       6,          1,          4,       8004,2,20100906,       0600,  21.846333,-158.3631667,       2452,  1000.7,   4.1910,  34.4812,2,  34.4795,2,     44.8,1,  -999.0,9, -999.00,9, -999.00,9,  -999.0,    1001,     4.1139, -999.00,9,     -999.0
33KB20100902,       PRS2,       6,          1,          3,       8003,2,20100906,       0600,  21.846333,-158.3631667,       2452,  1500.1,   3.0066,  34.5626,2,  34.5628,2,     65.7,1,  -999.0,9, -999.00,9, -999.00,9,  -999.0,    1500,     2.8987, -999.00,9,     -999.0
33KB20100902,       PRS2,       6,          1,          2,       8002,2,20100906,       0600,  21.846333,-158.3631667,       2452,  2000.4,   2.1476,  34.6205,2,  34.6199,2,     90.6,1,  -999.0,9, -999.00,9, -999.00,9,  -999.0,    2000,     2.0089, -999.00,9,     -999.0
33KB20100902,       PRS2,       6,          1,          1,       8001,2,20100906,       0600,  21.846333,-158.3631667,       2452,  2479.6,   1.7913,  34.6488,2,  34.6490,2,    108.7,1,  -999.0,9, -999.00,9, -999.00,9,  -999.0,    2480,     1.6167, -999.00,9,     -999.0