BOTTLE,20141031SIOCCHAMB
EXPOCODE,SECT_ID,STNNBR,CASTNO,SAMPNO,BTLNBR,BTLNBR_FLAG_W,DATE,TIME,LATITUDE,LONGITUDE,DEPTH,CTDPRS,CTDTMP,CTDSAL,CTDSAL_FLAG_W,SALNTY,SALNTY_FLAG_W,CTDOXY,CTDOXY_FLAG_W,OXYGEN,OXYGEN_FLAG_W,SILCAT,SILCAT_FLAG_W,PHSPHT,PHSPHT_FLAG_W,REVPRS,CTDRAW,THETA,NO2+NO3,NO2+NO3_FLAG_W,REVTMP
,,,,,,,,,,,METERS,DBAR,ITS-90,PSS-78,,PSS-78,,UMOL/KG,,UMOL/KG,,UMOL/KG,,UMOL/KG,,DBAR,DBAR,ITS-90,UMOL/KG,,DEG C
33KB20100902,       PRS2,       2,         10,         24,       8024,2,20100904,       1550,  22.790833,-158.0028333,       4728,     5.6,  25.6101,  35.2287,2,  35.2292,2,    208.0,1,  -999.0,9, -999.00,9, -999.00,9,  -999.0,       5,    25.6089, -999.00,9,     -999.0
33KB20100902,       PRS2,       2,         10,         23,       8023,2,20100904,       1550,  22.790833,-158.0028333,       4728,   124.9,  22.1469,  35.2697,2,-999.0000,5,    205.0,1,  -999.0,9, -999.00,9, -999.00,9,  -999.0,     125,    22.1221, -999.00,9,     -999.0
33KB20100902,       PRS2,       2,         10,         22,       8022,2,20100904,       1550,  22.790833,-158.0028333,       4728,   124.9,  22.1487,  35.2697,2,-999.0000,5,    204.8,1,  -999.0,9, -999.00,9, -999.00,9,  -999.0,     125,    22.1238, -999.00,9,     -999.0
33KB20100902,       PRS2,       2,         10,         21,       8021,2,20100904,       1550,  22.790833,-158.0028333,       4728,   124.8,  22.1511,  35.2692,2,-999.0000,5,    204.6,1,  -999.0,9, -999.00,9, -999.00,9,  -999.0,     124,    22.1263, -999.00,9,     -999.0
33KB20100902,       PRS2,       2,         10,         20,       8020,2,20100904,       1550,  22.790833,-158.0028333,       4728,   124.7,  22.1569,  35.2690,2,-999.0000,5,    204.3,1,  -999.0,9, -999.00,9, -999.00,9,  -999.0,     125,    22.1321, -999.00,9,     -999.0
33KB20100902,       PRS2,       2,         10,         19,       8019,2,20100904,       1550,  22.790833,-158.0028333,       4728,   124.5,  22.1609,  35.2683,2,-999.0000,5,    204.1,1,  -999.0,9, -999.00,9, -999.00,9,  -999.0,     124,    22.1361, -999.00,9,     -999.0
33KB20100902,       PRS2,       2,         10,         18,       8018,2,20100904,       1550,  22.790833,-158.0028333,       4728,   200.7,  19.6688,  35.2138,2,-999.0000,5,    205.4,1,  -999.0,9, -999.00,9, -999.00,9,  -999.0,     201,    19.6321, -999.00,9,     -999.0
33KB20100902,       PRS2,       2,         10,         17,       8017,2,20100904,       1550,  22.790833,-158.0028333,       4728,   200.6,  19.6720,  35.2136,2,-999.0000,5,    205.5,1,  -999.0,9, -999.00,9, -999.00,9,  -999.0,     201,    19.6353, -999.00,9,     -999.0
33KB20100902,       PRS2,       2,         10,         16,       8016,2,20100904,       1550,  22.790833,-158.0028333,       4728,   200.5,  19.6723,  35.2137,2,-999.0000,5,    205.4,1,  -999.0,9, -999.00,9, -999.00,9,  -999.0,     200,    19.6356, -999.00,9,     -999.0
33KB20100902,       PRS2,       2,         10,         15,       8015,2,20100904,       1550,  22.790833,-158.0028333,       4728,   200.3,  19.6751,  35.2135,2,-999.0000,5,    205.3,1,  -999.0,9, -999.00,9, -999.00,9,  -999.0,     200,    19.6385, -999.00,9,     -999.0
33KB20100902,       PRS2,       2,         10,         14,       8014,2,20100904,       1550,  22.790833,-158.0028333,       4728,   200.1,  19.6795,  35.2142,2,-999.0000,5,    205.2,1,  -999.0,9, -999.00,9, -999.00,9,  -999.0,     200,    19.6429, -999.00,9,     -999.0
33KB20100902,       PRS2,       2,         10,         13,       8025,2,20100904,       1550,  22.790833,-158.0028333,       4728,   489.3,   8.1892,  34.1285,2,  34.1281,2,    107.2,1,  -999.0,9, -999.00,9, -999.00,9,  -999.0,     489,     8.1387, -999.00,9,     -999.0
33KB20100902,       PRS2,       2,         10,         12,       8012,2,20100904,       1550,  22.790833,-158.0028333,       4728,  1021.0,   3.9966,  34.4624,2,-999.0000,5,     43.2,1,  -999.0,9, -999.00,9, -999.00,9,  -999.0,    1021,     3.9193, -999.00,9,     -999.0
33KB20100902,       PRS2,       2,         10,         11,       8011,2,20100904,       1550,  22.790833,-158.0028333,       4728,  1020.9,   3.9961,  34.4625,2,-999.0000,5,     43.2,1,  -999.0,9, -999.00,9, -999.00,9,  -999.0,    1021,     3.9188, -999.00,9,     -999.0
33KB20100902,       PRS2,       2,         10,         10,       8010,2,20100904,       1550,  22.790833,-158.0028333,       4728,  1020.8,   3.9957,  34.4627,2,-999.0000,5,     43.4,1,  -999.0,9, -999.00,9, -999.00,9,  -999.0,    1021,     3.9184, -999.00,9,     -999.0
33KB20100902,       PRS2,       2,         10,          9,       8009,2,20100904,       1550,  22.790833,-158.0028333,       4728,  1020.9,   3.9957,  34.4626,2,-999.0000,5,     43.4,1,  -999.0,9, -999.00,9, -999.00,9,  -999.0,    1021,     3.9184, -999.00,9,     -999.0
33KB20100902,       PRS2,       2,         10,          8,       8008,2,20100904,       1550,  22.790833,-158.0028333,       4728,  1020.9,   3.9958,  34.4627,2,-999.0000,5,     43.4,1,  -999.0,9, -999.00,9, -999.00,9,  -999.0,    1021,     3.9185, -999.00,9,     -999.0
33KB20100902,       PRS2,       2,         10,          7,       8026,2,20100904,       1550,  22.790833,-158.0028333,       4728,  1020.7,   3.9963,  34.4626,2,-999.0000,5,     43.5,1,  -999.0,9, -999.00,9, -999.00,9,  -999.0,    1021,     3.9190, -999.00,9,     -999.0
33KB20100902,       PRS2,       2,         10,          6,       8006,2,20100904,       1550,  22.790833,-158.0028333,       4728,  1020.6,   3.9967,  34.4625,2,-999.0000,5,     43.5,1,  -999.0,9, -999.00,9, -999.00,9,  -999.0,    1020,     3.9194, -999.00,9,     -999.0
33KB20100902,       PRS2,       2,         10,          5,       8005,2,20100904,       1550,  22.790833,-158.0028333,       4728,  1020.6,   3.9967,  34.4625,2,-999.0000,5,     43.5,1,  -999.0,9, -999.00,9, -999.00,9,  -999.0,    1021,     3.9194, -999.00,9,     -999.0
33KB20100902,       PRS2,       2,         10,          4,       8004,2,20100904,       1550,  22.790833,-158.0028333,       4728,  1020.6,   3.9966,  34.4626,2,-999.0000,5,     43.5,1,  -999.0,9, -999.00,9, -999.00,9,  -999.0,    1020,     3.9194, -999.00,9,     -999.0
33KB20100902,       PRS2,       2,         10,          3,       8003,2,20100904,       1550,  22.790833,-158.0028333,       4728,  1020.6,   3.9964,  34.4629,2,-999.0000,5,     43.5,1,  -999.0,9, -999.00,9, -999.00,9,  -999.0,    1021,     3.9191, -999.00,9,     -999.0
33KB20100902,       PRS2,       2,         10,          2,       8002,2,20100904,       1550,  22.790833,-158.0028333,       4728,  1020.6,   3.9963,  34.4628,2,-999.0000,5,     43.5,1,  -999.0,9, -999.00,9, -999.00,9,  -999.0,    1021,     3.9190, -999.00,9,     -999.0
33KB20100902,       PRS2,       2,         10,          1,       8001,2,20100904,       1550,  22.790833,-158.0028333,       4728,  1020.7,   3.9960,  34.4630,2,  34.4614,2,     43.5,1,  -999.0,9, -999.00,9, -999.00,9,  -999.0,    1021,     3.9187, -999.00,9,     -999.0
33KB20100902,       PRS2,       2,         11,         18,       8018,2,20100904,       1752,  22.816333,-157.9871667,       4707,     6.0,  25.5411,  35.2128,2,-999.0000,5,    208.7,1,  -999.0,9, -999.00,9, -999.00,9,  -999.0,       6,    25.5398, -999.00,9,     -999.0
33KB20100902,       PRS2,       2,         11,         17,       8017,2,20100904,       1752,  22.816333,-157.9871667,       4707,     6.0,  25.5412,  35.2127,2,  35.2128,2,    208.5,1,  -999.0,9, -999.00,9, -999.00,9,  -999.0,       6,    25.5399, -999.00,9,     -999.0
33KB20100902,       PRS2,       2,         11,         16,       8016,2,20100904,       1752,  22.816333,-157.9871667,       4707,    24.8,  25.5458,  35.2142,2,-999.0000,5,    208.3,1,  -999.0,9, -999.00,9, -999.00,9,  -999.0,      24,    25.5403, -999.00,9,     -999.0
33KB20100902,       PRS2,       2,         11,         15,       8015,2,20100904,       1752,  22.816333,-157.9871667,       4707,    24.6,  25.5464,  35.2145,2,  35.2142,2,    208.2,1,  -999.0,9, -999.00,9, -999.00,9,  -999.0,      25,    25.5409, -999.00,9,     -999.0
33KB20100902,       PRS2,       2,         11,         14,       8014,2,20100904,       1752,  22.816333,-157.9871667,       4707,    45.7,  25.5528,  35.2148,2,-999.0000,5,    208.1,1,  -999.0,9, -999.00,9, -999.00,9,  -999.0,      46,    25.5428, -999.00,9,     -999.0
33KB20100902,       PRS2,       2,         11,         13,       8025,2,20100904,       1752,  22.816333,-157.9871667,       4707,    45.7,  25.5545,  35.2152,2,  35.2164,2,    208.0,1,  -999.0,9, -999.00,9, -999.00,9,  -999.0,      46,    25.5444, -999.00,9,     -999.0
33KB20100902,       PRS2,       2,         11,         12,       8012,2,20100904,       1752,  22.816333,-157.9871667,       4707,    74.9,  24.1637,  35.2160,2,-999.0000,5,    217.1,1,  -999.0,9, -999.00,9, -999.00,9,  -999.0,      75,    24.1478, -999.00,9,     -999.0
33KB20100902,       PRS2,       2,         11,         11,       8011,2,20100904,       1752,  22.816333,-157.9871667,       4707,    74.9,  24.1619,  35.2161,2,  35.2188,2,    217.1,1,  -999.0,9, -999.00,9, -999.00,9,  -999.0,      75,    24.1460, -999.00,9,     -999.0
33KB20100902,       PRS2,       2,         11,         10,       8010,2,20100904,       1752,  22.816333,-157.9871667,       4707,   100.1,  23.0581,  35.2847,2,-999.0000,5,    209.4,1,  -999.0,9, -999.00,9, -999.00,9,  -999.0,     100,    23.0376, -999.00,9,     -999.0
33KB20100902,       PRS2,       2,         11,          9,       8009,2,20100904,       1752,  22.816333,-157.9871667,       4707,   100.0,  23.0577,  35.2849,2,  35.2854,2,    209.2,1,  -999.0,9, -999.00,9, -999.00,9,  -999.0,     100,    23.0372, -999.00,9,     -999.0
33KB20100902,       PRS2,       2,         11,          8,       8008,2,20100904,       1752,  22.816333,-157.9871667,       4707,   125.3,  22.1319,  35.2779,2,-999.0000,5,    203.8,1,  -999.0,9, -999.00,9, -999.00,9,  -999.0,     125,    22.1070, -999.00,9,     -999.0
33KB20100902,       PRS2,       2,         11,          7,       8026,2,20100904,       1752,  22.816333,-157.9871667,       4707,   125.2,  22.1300,  35.2779,2,  35.2814,2,    203.7,1,  -999.0,9, -999.00,9, -999.00,9,  -999.0,     125,    22.1051, -999.00,9,     -999.0
33KB20100902,       PRS2,       2,         11,          6,       8006,2,20100904,       1752,  22.816333,-157.9871667,       4707,   151.0,  21.4190,  35.2888,2,-999.0000,5,    203.4,1,  -999.0,9, -999.00,9, -999.00,9,  -999.0,     151,    21.3896, -999.00,9,     -999.0
33KB20100902,       PRS2,       2,         11,          5,       8005,2,20100904,       1752,  22.816333,-157.9871667,       4707,   151.0,  21.4150,  35.2890,2,  35.2919,2,    203.5,1,  -999.0,9, -999.00,9, -999.00,9,  -999.0,     150,    21.3857, -999.00,9,     -999.0
33KB20100902,       PRS2,       2,         11,          4,       8004,2,20100904,       1752,  22.816333,-157.9871667,       4707,   175.6,  20.2191,  35.2038,2,-999.0000,5,    198.9,1,  -999.0,9, -999.00,9, -999.00,9,  -999.0,     176,    20.1863, -999.00,9,     -999.0
33KB20100902,       PRS2,       2,         11,          3,       8003,2,20100904,       1752,  22.816333,-157.9871667,       4707,   175.6,  20.2191,  35.2038,2,  35.2075,2,    198.8,1,  -999.0,9, -999.00,9, -999.00,9,  -999.0,     175,    20.1863, -999.00,9,     -999.0
33KB20100902,       PRS2,       2,         11,          2,       8002,2,20100904,       1752,  22.816333,-157.9871667,       4707,   569.6,   6.7366,  34.1172,2,  34.1166,2,     74.5,1,  -999.0,9, -999.00,9, -999.00,9,  -999.0,     570,     6.6837, -999.00,9,     -999.0
33KB20100902,       PRS2,       2,         11,          1,       8001,2,20100904,       1752,  22.816333,-157.9871667,       4707,  1019.8,   4.0439,  34.4679,2,  34.4669,2,     45.9,1,  -999.0,9, -999.00,9, -999.00,9,  -999.0,    1020,     3.9663, -999.00,9,     -999.0
33KB20100902,       PRS2,       2,         12,         23,       8023,2,20100904,       2054,  22.750000,-157.9960000,       4748,     5.5,  25.6913,  35.2224,2,-999.0000,5,    207.9,1,  -999.0,9, -999.00,9, -999.00,9,  -999.0,       5,    25.6901, -999.00,9,     -999.0
33KB20100902,       PRS2,       2,         12,         22,       8022,2,20100904,       2054,  22.750000,-157.9960000,       4748,     5.5,  25.6915,  35.2223,2,  35.2207,2,    207.9,1,  -999.0,9, -999.00,9, -999.00,9,  -999.0,       6,    25.6902, -999.00,9,     -999.0
33KB20100902,       PRS2,       2,         12,         21,       8021,2,20100904,       2054,  22.750000,-157.9960000,       4748,    15.1,  25.6330,  35.2210,2,  35.2192,2,    208.3,1,  -999.0,9, -999.00,9, -999.00,9,  -999.0,      15,    25.6297, -999.00,9,     -999.0
33KB20100902,       PRS2,       2,         12,         20,       8020,2,20100904,       2054,  22.750000,-157.9960000,       4748,    25.7,  25.6191,  35.2208,2,-999.0000,5,    208.1,1,  -999.0,9, -999.00,9, -999.00,9,  -999.0,      26,    25.6135, -999.00,9,     -999.0
33KB20100902,       PRS2,       2,         12,         19,       8019,2,20100904,       2054,  22.750000,-157.9960000,       4748,    25.7,  25.6192,  35.2207,2,-999.0000,5,    208.1,1,  -999.0,9, -999.00,9, -999.00,9,  -999.0,      26,    25.6135, -999.00,9,     -999.0
33KB20100902,       PRS2,       2,         12,         18,       8018,2,20100904,       2054,  22.750000,-157.9960000,       4748,    40.0,  25.6165,  35.2207,2,  35.2199,2,    207.7,1,  -999.0,9, -999.00,9, -999.00,9,  -999.0,      40,    25.6077, -999.00,9,     -999.0
33KB20100902,       PRS2,       2,         12,         17,       8017,2,20100904,       2054,  22.750000,-157.9960000,       4748,    45.1,  25.6139,  35.2211,2,-999.0000,5,    207.9,1,  -999.0,9, -999.00,9, -999.00,9,  -999.0,      45,    25.6039, -999.00,9,     -999.0
33KB20100902,       PRS2,       2,         12,         16,       8016,2,20100904,       2054,  22.750000,-157.9960000,       4748,    45.1,  25.6137,  35.2209,2,  35.2199,2,    208.0,1,  -999.0,9, -999.00,9, -999.00,9,  -999.0,      45,    25.6038, -999.00,9,     -999.0
33KB20100902,       PRS2,       2,         12,         15,       8015,2,20100904,       2054,  22.750000,-157.9960000,       4748,    59.8,  25.5807,  35.2226,2,  35.2190,2,    208.2,1,  -999.0,9, -999.00,9, -999.00,9,  -999.0,      60,    25.5675, -999.00,9,     -999.0
33KB20100902,       PRS2,       2,         12,         14,       8014,2,20100904,       2054,  22.750000,-157.9960000,       4748,    69.7,  24.4858,  35.1950,2,  35.1975,2,    219.3,1,  -999.0,9, -999.00,9, -999.00,9,  -999.0,      70,    24.4709, -999.00,9,     -999.0
33KB20100902,       PRS2,       2,         12,         13,       8025,2,20100904,       2054,  22.750000,-157.9960000,       4748,    75.1,  24.2369,  35.2064,2,-999.0000,5,    218.6,1,  -999.0,9, -999.00,9, -999.00,9,  -999.0,      75,    24.2210, -999.00,9,     -999.0
33KB20100902,       PRS2,       2,         12,         12,       8012,2,20100904,       2054,  22.750000,-157.9960000,       4748,    75.1,  24.2337,  35.2068,2,-999.0000,5,    218.7,1,  -999.0,9, -999.00,9, -999.00,9,  -999.0,      75,    24.2178, -999.00,9,     -999.0
33KB20100902,       PRS2,       2,         12,         11,       8011,2,20100904,       2054,  22.750000,-157.9960000,       4748,    85.6,  23.7667,  35.2279,2,  35.2276,2,    216.4,1,  -999.0,9, -999.00,9, -999.00,9,  -999.0,      86,    23.7488, -999.00,9,     -999.0
33KB20100902,       PRS2,       2,         12,         10,       8010,2,20100904,       2054,  22.750000,-157.9960000,       4748,   100.0,  23.5849,  35.2227,2,-999.0000,5,    215.8,1,  -999.0,9, -999.00,9, -999.00,9,  -999.0,     101,    23.5641, -999.00,9,     -999.0
33KB20100902,       PRS2,       2,         12,          9,       8009,2,20100904,       2054,  22.750000,-157.9960000,       4748,   100.0,  23.5857,  35.2226,2,  35.2247,2,    215.7,1,  -999.0,9, -999.00,9, -999.00,9,  -999.0,     100,    23.5649, -999.00,9,     -999.0
33KB20100902,       PRS2,       2,         12,          8,       8008,2,20100904,       2054,  22.750000,-157.9960000,       4748,   125.2,  22.7270,  35.2847,2,-999.0000,5,    201.9,1,  -999.0,9, -999.00,9, -999.00,9,  -999.0,     125,    22.7016, -999.00,9,     -999.0
33KB20100902,       PRS2,       2,         12,          7,       8026,2,20100904,       2054,  22.750000,-157.9960000,       4748,   125.2,  22.7284,  35.2847,2,  35.2852,2,    201.8,1,  -999.0,9, -999.00,9, -999.00,9,  -999.0,     125,    22.7030, -999.00,9,     -999.0
33KB20100902,       PRS2,       2,         12,          6,       8006,2,20100904,       2054,  22.750000,-157.9960000,       4748,   149.9,  21.8763,  35.3187,2,-999.0000,5,    206.0,1,  -999.0,9, -999.00,9, -999.00,9,  -999.0,     150,    21.8467, -999.00,9,     -999.0
33KB20100902,       PRS2,       2,         12,          5,       8005,2,20100904,       2054,  22.750000,-157.9960000,       4748,   149.7,  21.8765,  35.3186,2,  35.3191,2,    206.1,1,  -999.0,9, -999.00,9, -999.00,9,  -999.0,     150,    21.8469, -999.00,9,     -999.0
33KB20100902,       PRS2,       2,         12,          4,       8004,2,20100904,       2054,  22.750000,-157.9960000,       4748,   175.7,  20.5832,  35.2596,2,-999.0000,5,    200.7,1,  -999.0,9, -999.00,9, -999.00,9,  -999.0,     176,    20.5500, -999.00,9,     -999.0
33KB20100902,       PRS2,       2,         12,          3,       8003,2,20100904,       2054,  22.750000,-157.9960000,       4748,   175.6,  20.5842,  35.2602,2,  35.2660,2,    200.7,1,  -999.0,9, -999.00,9, -999.00,9,  -999.0,     176,    20.5510, -999.00,9,     -999.0
33KB20100902,       PRS2,       2,         12,          2,       8002,2,20100904,       2054,  22.750000,-157.9960000,       4748,   581.5,   6.3415,  34.1158,2,  34.1154,2,     70.1,1,  -999.0,9, -999.00,9, -999.00,9,  -999.0,     581,     6.2892, -999.00,9,     -999.0
33KB20100902,       PRS2,       2,         12,          1,       8001,2,20100904,       2054,  22.750000,-157.9960000,       4748,  1020.1,   4.0356,  34.4608,2,  34.4610,2,     43.9,1,  -999.0,9, -999.00,9, -999.00,9,  -999.0,    1020,     3.9581, -999.00,9,     -999.0