BOTTLE,20141031SIOCCHAMB
EXPOCODE,SECT_ID,STNNBR,CASTNO,SAMPNO,BTLNBR,BTLNBR_FLAG_W,DATE,TIME,LATITUDE,LONGITUDE,DEPTH,CTDPRS,CTDTMP,CTDSAL,CTDSAL_FLAG_W,SALNTY,SALNTY_FLAG_W,CTDOXY,CTDOXY_FLAG_W,OXYGEN,OXYGEN_FLAG_W,SILCAT,SILCAT_FLAG_W,PHSPHT,PHSPHT_FLAG_W,REVPRS,CTDRAW,THETA,NO2+NO3,NO2+NO3_FLAG_W,REVTMP
,,,,,,,,,,,METERS,DBAR,ITS-90,PSS-78,,PSS-78,,UMOL/KG,,UMOL/KG,,UMOL/KG,,UMOL/KG,,DBAR,DBAR,ITS-90,UMOL/KG,,DEG C
33KB20100902,       PRS2,       1,          1,         24,       8024,2,20100902,       2338,  21.342667,-158.2735000,       1501,     5.7,  26.3448,  35.0077,2,  35.0089,2,    206.2,2,   206.3,2, -999.00,9, -999.00,9,  -999.0,       6,    26.3435, -999.00,9,     -999.0
33KB20100902,       PRS2,       1,          1,         23,       8023,2,20100902,       2338,  21.342667,-158.2735000,       1501,     5.7,  26.3296,  35.0081,2,  35.0087,2,    206.3,2,   205.9,2, -999.00,9, -999.00,9,  -999.0,       6,    26.3283, -999.00,9,     -999.0
33KB20100902,       PRS2,       1,          1,         22,       8022,2,20100902,       2338,  21.342667,-158.2735000,       1501,    25.4,  26.0618,  34.9998,2,  35.0008,2,    205.8,2,   206.3,2, -999.00,9, -999.00,9,  -999.0,      25,    26.0562, -999.00,9,     -999.0
33KB20100902,       PRS2,       1,          1,         21,       8021,2,20100902,       2338,  21.342667,-158.2735000,       1501,    45.0,  26.0317,  34.9958,2,  34.9951,2,    206.5,2,   206.6,2, -999.00,9, -999.00,9,  -999.0,      45,    26.0217, -999.00,9,     -999.0
33KB20100902,       PRS2,       1,          1,         20,       8020,2,20100902,       2338,  21.342667,-158.2735000,       1501,    60.5,  25.7064,  34.9515,2,  34.9553,2,    208.1,2,   208.7,2, -999.00,9, -999.00,9,  -999.0,      61,    25.6931, -999.00,9,     -999.0
33KB20100902,       PRS2,       1,          1,         19,       8019,2,20100902,       2338,  21.342667,-158.2735000,       1501,    75.2,  25.2061,  35.0633,2,  35.1169,4,    213.5,3,   213.7,2, -999.00,9, -999.00,9,  -999.0,      75,    25.1897, -999.00,9,     -999.0
33KB20100902,       PRS2,       1,          1,         18,       8018,2,20100902,       2338,  21.342667,-158.2735000,       1501,   100.2,  22.9267,  35.1499,2,  35.1553,2,    209.9,2,   211.4,2, -999.00,9, -999.00,9,  -999.0,     100,    22.9063, -999.00,9,     -999.0
33KB20100902,       PRS2,       1,          1,         17,       8017,2,20100902,       2338,  21.342667,-158.2735000,       1501,   115.7,  21.9820,  35.2655,2,  35.2647,2,    208.5,2,   206.8,2, -999.00,9, -999.00,9,  -999.0,     115,    21.9591, -999.00,9,     -999.0
33KB20100902,       PRS2,       1,          1,         16,       8016,2,20100902,       2338,  21.342667,-158.2735000,       1501,   125.1,  21.1553,  35.2644,2,  35.2651,2,    202.3,2,   206.1,2, -999.00,9, -999.00,9,  -999.0,     125,    21.1312, -999.00,9,     -999.0
33KB20100902,       PRS2,       1,          1,         15,       8015,2,20100902,       2338,  21.342667,-158.2735000,       1501,   150.2,  20.7376,  35.2550,2,  35.2548,2,    206.2,2,   205.9,2, -999.00,9, -999.00,9,  -999.0,     150,    20.7091, -999.00,9,     -999.0
33KB20100902,       PRS2,       1,          1,         14,       8014,2,20100902,       2338,  21.342667,-158.2735000,       1501,   175.0,  19.7560,  35.1348,2,  35.1315,2,    202.5,2,   201.3,2, -999.00,9, -999.00,9,  -999.0,     175,    19.7239, -999.00,9,     -999.0
33KB20100902,       PRS2,       1,          1,         13,       8025,2,20100902,       2338,  21.342667,-158.2735000,       1501,   200.2,  18.7812,  35.0438,2,  35.0433,2,    203.1,2,   202.9,2, -999.00,9, -999.00,9,  -999.0,     200,    18.7458, -999.00,9,     -999.0
33KB20100902,       PRS2,       1,          1,         12,       8012,2,20100902,       2338,  21.342667,-158.2735000,       1501,   225.1,  17.6414,  34.8675,2,  34.8517,2,    204.9,2,   203.9,2, -999.00,9, -999.00,9,  -999.0,     225,    17.6033, -999.00,9,     -999.0
33KB20100902,       PRS2,       1,          1,         11,       8011,2,20100902,       2338,  21.342667,-158.2735000,       1501,   249.5,  16.3047,  34.6680,2,  34.6598,2,    198.5,2,   198.6,2, -999.00,9, -999.00,9,  -999.0,     249,    16.2647, -999.00,9,     -999.0
33KB20100902,       PRS2,       1,          1,         10,       8010,2,20100902,       2338,  21.342667,-158.2735000,       1501,   300.0,  13.3077,  34.3322,2,  34.3174,2,    178.5,2,   180.5,2, -999.00,9, -999.00,9,  -999.0,     299,    13.2659, -999.00,9,     -999.0
33KB20100902,       PRS2,       1,          1,          9,       8009,2,20100902,       2338,  21.342667,-158.2735000,       1501,   350.1,  10.1945,  34.1492,2,  34.1393,2,    167.9,2,   178.9,4, -999.00,9, -999.00,9,  -999.0,     350,    10.1535, -999.00,9,     -999.0
33KB20100902,       PRS2,       1,          1,          8,       8008,2,20100902,       2338,  21.342667,-158.2735000,       1501,   399.8,   8.3629,  34.1143,2,  34.1142,2,    122.7,2,   123.1,2, -999.00,9, -999.00,9,  -999.0,     399,     8.3214, -999.00,9,     -999.0
33KB20100902,       PRS2,       1,          1,          7,       8026,2,20100902,       2338,  21.342667,-158.2735000,       1501,   500.0,   6.7871,  34.1340,2,  34.1346,2,     75.2,2,    74.2,2, -999.00,9, -999.00,9,  -999.0,     500,     6.7407, -999.00,9,     -999.0
33KB20100902,       PRS2,       1,          1,          6,       8006,2,20100902,       2338,  21.342667,-158.2735000,       1501,   600.2,   5.8592,  34.2041,2,  34.2056,2,     44.4,2,    43.9,2, -999.00,9, -999.00,9,  -999.0,     600,     5.8073, -999.00,9,     -999.0
33KB20100902,       PRS2,       1,          1,          5,       8005,2,20100902,       2338,  21.342667,-158.2735000,       1501,   700.3,   5.3268,  34.3235,2,  34.3270,2,     29.2,2,    29.0,2, -999.00,9, -999.00,9,  -999.0,     700,     5.2684, -999.00,9,     -999.0
33KB20100902,       PRS2,       1,          1,          4,       8004,2,20100902,       2338,  21.342667,-158.2735000,       1501,   750.7,   5.0742,  34.3721,2,  34.3713,2,     28.8,2,    29.1,2, -999.00,9, -999.00,9,  -999.0,     751,     5.0127, -999.00,9,     -999.0
33KB20100902,       PRS2,       1,          1,          3,       8003,2,20100902,       2338,  21.342667,-158.2735000,       1501,   900.3,   4.5878,  34.4451,2,  34.4449,2,     38.6,2,    38.8,2, -999.00,9, -999.00,9,  -999.0,     900,     4.5163, -999.00,9,     -999.0
33KB20100902,       PRS2,       1,          1,          2,       8002,2,20100902,       2338,  21.342667,-158.2735000,       1501,   900.5,   4.5876,  34.4451,2,  34.4481,2,     38.7,2,    39.0,2, -999.00,9, -999.00,9,  -999.0,     900,     4.5162, -999.00,9,     -999.0
33KB20100902,       PRS2,       1,          1,          1,       8001,2,20100902,       2338,  21.342667,-158.2735000,       1501,  1019.6,   4.2126,  34.4931,2,  34.4936,2,     44.2,2,    44.4,2, -999.00,9, -999.00,9,  -999.0,    1020,     4.1336, -999.00,9,     -999.0
33KB20100902,       PRS2,       2,          1,         24,       8024,2,20100903,       1014,  22.751167,-158.0600000,       4759,     7.8,  25.6119,  35.2368,2,-999.0000,9,    208.2,1,  -999.0,9, -999.00,9, -999.00,9,  -999.0,       8,    25.6102, -999.00,9,     -999.0
33KB20100902,       PRS2,       2,          1,         23,       8023,2,20100903,       1014,  22.751167,-158.0600000,       4759,     7.8,  25.6115,  35.2366,2,-999.0000,9,    208.2,1,  -999.0,9, -999.00,9, -999.00,9,  -999.0,       8,    25.6098, -999.00,9,     -999.0
33KB20100902,       PRS2,       2,          1,         22,       8022,2,20100903,       1014,  22.751167,-158.0600000,       4759,     7.8,  25.6106,  35.2367,2,-999.0000,9,    208.2,1,  -999.0,9, -999.00,9, -999.00,9,  -999.0,       8,    25.6088, -999.00,9,     -999.0
33KB20100902,       PRS2,       2,          1,         21,       8021,2,20100903,       1014,  22.751167,-158.0600000,       4759,     7.8,  25.6110,  35.2368,2,-999.0000,9,    208.5,1,  -999.0,9, -999.00,9, -999.00,9,  -999.0,       7,    25.6092, -999.00,9,     -999.0
33KB20100902,       PRS2,       2,          1,         20,       8020,2,20100903,       1014,  22.751167,-158.0600000,       4759,     7.7,  25.6140,  35.2366,2,-999.0000,9,    208.5,1,  -999.0,9, -999.00,9, -999.00,9,  -999.0,       7,    25.6123, -999.00,9,     -999.0
33KB20100902,       PRS2,       2,          1,         19,       8019,2,20100903,       1014,  22.751167,-158.0600000,       4759,     7.7,  25.6146,  35.2368,2,-999.0000,9,    208.4,1,  -999.0,9, -999.00,9, -999.00,9,  -999.0,       7,    25.6129, -999.00,9,     -999.0
33KB20100902,       PRS2,       2,          1,         18,       8018,2,20100903,       1014,  22.751167,-158.0600000,       4759,     7.8,  25.6146,  35.2367,2,-999.0000,9,    208.3,1,  -999.0,9, -999.00,9, -999.00,9,  -999.0,       8,    25.6128, -999.00,9,     -999.0
33KB20100902,       PRS2,       2,          1,         17,       8017,2,20100903,       1014,  22.751167,-158.0600000,       4759,     7.9,  25.6128,  35.2367,2,-999.0000,9,    208.1,1,  -999.0,9, -999.00,9, -999.00,9,  -999.0,       8,    25.6111, -999.00,9,     -999.0
33KB20100902,       PRS2,       2,          1,         16,       8016,2,20100903,       1014,  22.751167,-158.0600000,       4759,     7.8,  25.6122,  35.2367,2,-999.0000,9,    208.1,1,  -999.0,9, -999.00,9, -999.00,9,  -999.0,       8,    25.6104, -999.00,9,     -999.0
33KB20100902,       PRS2,       2,          1,         15,       8015,2,20100903,       1014,  22.751167,-158.0600000,       4759,     7.9,  25.6116,  35.2367,2,-999.0000,9,    208.0,1,  -999.0,9, -999.00,9, -999.00,9,  -999.0,       8,    25.6098, -999.00,9,     -999.0
33KB20100902,       PRS2,       2,          1,         14,       8014,2,20100903,       1014,  22.751167,-158.0600000,       4759,     8.0,  25.6116,  35.2367,2,-999.0000,9,    208.1,1,  -999.0,9, -999.00,9, -999.00,9,  -999.0,       7,    25.6098, -999.00,9,     -999.0
33KB20100902,       PRS2,       2,          1,         13,       8025,2,20100903,       1014,  22.751167,-158.0600000,       4759,     7.9,  25.6143,  35.2367,2,-999.0000,9,    208.1,1,  -999.0,9, -999.00,9, -999.00,9,  -999.0,       8,    25.6126, -999.00,9,     -999.0
33KB20100902,       PRS2,       2,          1,         12,       8012,2,20100903,       1014,  22.751167,-158.0600000,       4759,     7.8,  25.6157,  35.2367,2,-999.0000,9,    208.2,1,  -999.0,9, -999.00,9, -999.00,9,  -999.0,       8,    25.6140, -999.00,9,     -999.0
33KB20100902,       PRS2,       2,          1,         11,       8011,2,20100903,       1014,  22.751167,-158.0600000,       4759,     7.8,  25.6161,  35.2365,2,-999.0000,9,    208.3,1,  -999.0,9, -999.00,9, -999.00,9,  -999.0,       8,    25.6144, -999.00,9,     -999.0
33KB20100902,       PRS2,       2,          1,         10,       8010,2,20100903,       1014,  22.751167,-158.0600000,       4759,     7.8,  25.6148,  35.2363,2,-999.0000,9,    208.4,1,  -999.0,9, -999.00,9, -999.00,9,  -999.0,       8,    25.6130, -999.00,9,     -999.0
33KB20100902,       PRS2,       2,          1,          9,       8009,2,20100903,       1014,  22.751167,-158.0600000,       4759,     7.9,  25.6151,  35.2363,2,-999.0000,9,    208.5,1,  -999.0,9, -999.00,9, -999.00,9,  -999.0,       8,    25.6133, -999.00,9,     -999.0
33KB20100902,       PRS2,       2,          1,          8,       8008,2,20100903,       1014,  22.751167,-158.0600000,       4759,     7.9,  25.6137,  35.2365,2,-999.0000,9,    208.6,1,  -999.0,9, -999.00,9, -999.00,9,  -999.0,       8,    25.6120, -999.00,9,     -999.0
33KB20100902,       PRS2,       2,          1,          7,       8026,2,20100903,       1014,  22.751167,-158.0600000,       4759,     7.8,  25.6108,  35.2363,2,-999.0000,9,    208.7,1,  -999.0,9, -999.00,9, -999.00,9,  -999.0,       8,    25.6091, -999.00,9,     -999.0
33KB20100902,       PRS2,       2,          1,          6,       8006,2,20100903,       1014,  22.751167,-158.0600000,       4759,     7.8,  25.6105,  35.2362,2,-999.0000,9,    208.8,1,  -999.0,9, -999.00,9, -999.00,9,  -999.0,       7,    25.6088, -999.00,9,     -999.0
33KB20100902,       PRS2,       2,          1,          5,       8005,2,20100903,       1014,  22.751167,-158.0600000,       4759,     7.9,  25.6099,  35.2362,2,-999.0000,9,    208.9,1,  -999.0,9, -999.00,9, -999.00,9,  -999.0,       8,    25.6082, -999.00,9,     -999.0
33KB20100902,       PRS2,       2,          1,          4,       8004,2,20100903,       1014,  22.751167,-158.0600000,       4759,     7.9,  25.6098,  35.2363,2,-999.0000,9,    208.9,1,  -999.0,9, -999.00,9, -999.00,9,  -999.0,       8,    25.6081, -999.00,9,     -999.0
33KB20100902,       PRS2,       2,          1,          3,       8003,2,20100903,       1014,  22.751167,-158.0600000,       4759,     7.8,  25.6105,  35.2360,2,-999.0000,9,    208.9,1,  -999.0,9, -999.00,9, -999.00,9,  -999.0,       8,    25.6087, -999.00,9,     -999.0
33KB20100902,       PRS2,       2,          1,          2,       8002,2,20100903,       1014,  22.751167,-158.0600000,       4759,     7.7,  25.6077,  35.2364,2,-999.0000,9,    208.9,1,  -999.0,9, -999.00,9, -999.00,9,  -999.0,       7,    25.6060, -999.00,9,     -999.0
33KB20100902,       PRS2,       2,          1,          1,       8001,2,20100903,       1014,  22.751167,-158.0600000,       4759,     7.7,  25.6063,  35.2360,2,-999.0000,9,    208.9,1,  -999.0,9, -999.00,9, -999.00,9,  -999.0,       7,    25.6046, -999.00,9,     -999.0
33KB20100902,       PRS2,       2,          2,         22,       8022,2,20100903,       1131,  22.751167,-158.0598333,       4759,     6.6,  25.6010,  35.2368,2,  35.2367,2,    208.3,1,  -999.0,9, -999.00,9, -999.00,9,  -999.0,       6,    25.5995, -999.00,9,     -999.0
33KB20100902,       PRS2,       2,          2,         21,       8021,2,20100903,       1131,  22.751167,-158.0598333,       4759,     6.6,  25.6018,  35.2368,2,  35.2363,2,    208.2,1,  -999.0,9, -999.00,9, -999.00,9,  -999.0,       6,    25.6003, -999.00,9,     -999.0
33KB20100902,       PRS2,       2,          2,         20,       8020,2,20100903,       1131,  22.751167,-158.0598333,       4759,     6.6,  25.6006,  35.2370,2,  35.2389,2,    208.0,1,  -999.0,9, -999.00,9, -999.00,9,  -999.0,       7,    25.5991, -999.00,9,     -999.0
33KB20100902,       PRS2,       2,          2,         19,       8019,2,20100903,       1131,  22.751167,-158.0598333,       4759,    25.2,  25.6028,  35.2364,2,  35.2357,2,    208.0,1,  -999.0,9, -999.00,9, -999.00,9,  -999.0,      26,    25.5972, -999.00,9,     -999.0
33KB20100902,       PRS2,       2,          2,         18,       8018,2,20100903,       1131,  22.751167,-158.0598333,       4759,    25.0,  25.6040,  35.2364,2,  35.2365,2,    208.0,1,  -999.0,9, -999.00,9, -999.00,9,  -999.0,      25,    25.5985, -999.00,9,     -999.0
33KB20100902,       PRS2,       2,          2,         17,       8017,2,20100903,       1131,  22.751167,-158.0598333,       4759,    25.0,  25.6043,  35.2363,2,  35.2353,2,    208.0,1,  -999.0,9, -999.00,9, -999.00,9,  -999.0,      25,    25.5987, -999.00,9,     -999.0
33KB20100902,       PRS2,       2,          2,         16,       8016,2,20100903,       1131,  22.751167,-158.0598333,       4759,    45.1,  25.5503,  35.2333,2,  35.2333,2,    209.0,1,  -999.0,9, -999.00,9, -999.00,9,  -999.0,      45,    25.5404, -999.00,9,     -999.0
33KB20100902,       PRS2,       2,          2,         15,       8015,2,20100903,       1131,  22.751167,-158.0598333,       4759,    45.1,  25.5486,  35.2332,2,  35.2325,2,    209.0,1,  -999.0,9, -999.00,9, -999.00,9,  -999.0,      45,    25.5387, -999.00,9,     -999.0
33KB20100902,       PRS2,       2,          2,         14,       8014,2,20100903,       1131,  22.751167,-158.0598333,       4759,    45.0,  25.5483,  35.2333,2,  35.2325,2,    209.0,1,  -999.0,9, -999.00,9, -999.00,9,  -999.0,      45,    25.5384, -999.00,9,     -999.0
33KB20100902,       PRS2,       2,          2,         13,       8025,2,20100903,       1131,  22.751167,-158.0598333,       4759,    75.2,  24.7112,  35.2975,2,  35.2958,2,    217.5,1,  -999.0,9, -999.00,9, -999.00,9,  -999.0,      75,    24.6950, -999.00,9,     -999.0
33KB20100902,       PRS2,       2,          2,         12,       8012,2,20100903,       1131,  22.751167,-158.0598333,       4759,    75.2,  24.7236,  35.2974,2,  35.2972,2,    217.4,1,  -999.0,9, -999.00,9, -999.00,9,  -999.0,      75,    24.7074, -999.00,9,     -999.0
33KB20100902,       PRS2,       2,          2,         11,       8011,2,20100903,       1131,  22.751167,-158.0598333,       4759,    75.3,  24.7337,  35.3003,2,  35.2976,2,    217.6,1,  -999.0,9, -999.00,9, -999.00,9,  -999.0,      75,    24.7175, -999.00,9,     -999.0
33KB20100902,       PRS2,       2,          2,         10,       8010,2,20100903,       1131,  22.751167,-158.0598333,       4759,   100.5,  23.1161,  35.2719,2,  35.2670,2,    210.3,1,  -999.0,9, -999.00,9, -999.00,9,  -999.0,     100,    23.0955, -999.00,9,     -999.0
33KB20100902,       PRS2,       2,          2,          9,       8009,2,20100903,       1131,  22.751167,-158.0598333,       4759,   100.5,  23.1157,  35.2711,2,  35.2664,2,    209.8,1,  -999.0,9, -999.00,9, -999.00,9,  -999.0,     100,    23.0951, -999.00,9,     -999.0
33KB20100902,       PRS2,       2,          2,          8,       8008,2,20100903,       1131,  22.751167,-158.0598333,       4759,   100.3,  23.1158,  35.2684,2,  35.2670,2,    209.3,1,  -999.0,9, -999.00,9, -999.00,9,  -999.0,     100,    23.0953, -999.00,9,     -999.0
33KB20100902,       PRS2,       2,          2,          7,       8026,2,20100903,       1131,  22.751167,-158.0598333,       4759,   124.7,  22.2874,  35.2714,2,  35.2714,2,    206.7,1,  -999.0,9, -999.00,9, -999.00,9,  -999.0,     125,    22.2625, -999.00,9,     -999.0
33KB20100902,       PRS2,       2,          2,          6,       8006,2,20100903,       1131,  22.751167,-158.0598333,       4759,   124.5,  22.2884,  35.2707,2,  35.2720,2,    206.7,1,  -999.0,9, -999.00,9, -999.00,9,  -999.0,     124,    22.2635, -999.00,9,     -999.0
33KB20100902,       PRS2,       2,          2,          5,       8005,2,20100903,       1131,  22.751167,-158.0598333,       4759,   124.5,  22.2884,  35.2706,2,  35.2716,2,    206.7,1,  -999.0,9, -999.00,9, -999.00,9,  -999.0,     124,    22.2635, -999.00,9,     -999.0
33KB20100902,       PRS2,       2,          2,          4,       8004,2,20100903,       1131,  22.751167,-158.0598333,       4759,   149.9,  21.7657,  35.3093,2,  35.3135,2,    206.3,1,  -999.0,9, -999.00,9, -999.00,9,  -999.0,     150,    21.7363, -999.00,9,     -999.0
33KB20100902,       PRS2,       2,          2,          3,       8003,2,20100903,       1131,  22.751167,-158.0598333,       4759,   176.9,  20.2265,  35.2029,2,  35.2115,2,    199.2,1,  -999.0,9, -999.00,9, -999.00,9,  -999.0,     177,    20.1935, -999.00,9,     -999.0
33KB20100902,       PRS2,       2,          2,          2,       8002,2,20100903,       1131,  22.751167,-158.0598333,       4759,   540.2,   6.8124,  34.1013,2,  34.1029,2,     82.9,1,  -999.0,9, -999.00,9, -999.00,9,  -999.0,     540,     6.7621, -999.00,9,     -999.0
33KB20100902,       PRS2,       2,          2,          1,       8001,2,20100903,       1131,  22.751167,-158.0598333,       4759,  1020.5,   4.0733,  34.4670,2,  34.4671,2,     45.9,1,  -999.0,9, -999.00,9, -999.00,9,  -999.0,    1021,     3.9955, -999.00,9,     -999.0