BOTTLE,20201027SIOCCHSCD
EXPOCODE,SECT_ID,STNNBR,CASTNO,SAMPNO,BTLNBR,BTLNBR_FLAG_W,DATE,TIME,LATITUDE,LONGITUDE,DEPTH,CTDPRS,CTDTMP,CTDSAL,CTDSAL_FLAG_W,SALNTY,SALNTY_FLAG_W,CTDOXY,CTDOXY_FLAG_W,OXYGEN,OXYGEN_FLAG_W,SILCAT,SILCAT_FLAG_W,PHSPHT,PHSPHT_FLAG_W,REVPRS,CTDRAW,THETA,NO2+NO3,NO2+NO3_FLAG_W,REVTMP
,,,,,,,,,,,METERS,DBAR,ITS-90,PSS-78,,PSS-78,,UMOL/KG,,UMOL/KG,,UMOL/KG,,UMOL/KG,,DBAR,DBAR,ITS-90,UMOL/KG,,DEG C
  33KB280_1,       PRS2,       2,          6,         24,       8058,2,20160113,       0555,  22.751333,-158.0190000,       4740,     7.7,  25.0222,  34.9468,2,  34.9459,2,    205.0,2,  -999.0,5, -999.00,9, -999.00,9,  -999.0,       7,    25.0205, -999.00,9,     -999.0
  33KB280_1,       PRS2,       2,          6,         23,       8023,2,20160113,       0555,  22.751333,-158.0190000,       4740,     7.9,  25.0039,  34.9498,2,  34.9477,2,    205.6,2,  -999.0,5, -999.00,9, -999.00,9,  -999.0,       8,    25.0021, -999.00,9,     -999.0
  33KB280_1,       PRS2,       2,          6,         22,       8022,2,20160113,       0555,  22.751333,-158.0190000,       4740,     7.9,  25.0109,  34.9487,2,  34.9465,2,    205.7,2,   206.4,2, -999.00,9, -999.00,9,  -999.0,       8,    25.0092, -999.00,9,     -999.0
  33KB280_1,       PRS2,       2,          6,         21,       8021,2,20160113,       0555,  22.751333,-158.0190000,       4740,    16.6,  24.9346,  34.9559,2,  34.9498,2,    205.8,2,  -999.0,5, -999.00,9, -999.00,9,  -999.0,      15,    24.9310, -999.00,9,     -999.0
  33KB280_1,       PRS2,       2,          6,         20,       8020,2,20160113,       0555,  22.751333,-158.0190000,       4740,    24.9,  24.9407,  34.9623,2,  34.9604,2,    205.7,2,  -999.0,5, -999.00,9, -999.00,9,  -999.0,      25,    24.9353, -999.00,9,     -999.0
  33KB280_1,       PRS2,       2,          6,         19,       8019,2,20160113,       0555,  22.751333,-158.0190000,       4740,    25.0,  24.9411,  34.9620,2,  34.9683,2,    205.3,2,   206.2,2, -999.00,9, -999.00,9,  -999.0,      26,    24.9357, -999.00,9,     -999.0
  33KB280_1,       PRS2,       2,          6,         18,       8018,2,20160113,       0555,  22.751333,-158.0190000,       4740,    35.6,  24.9537,  34.9719,2,  34.9711,2,    205.3,2,  -999.0,5, -999.00,9, -999.00,9,  -999.0,      35,    24.9460, -999.00,9,     -999.0
  33KB280_1,       PRS2,       2,          6,         17,       8017,2,20160113,       0555,  22.751333,-158.0190000,       4740,    45.2,  24.9345,  34.9726,2,  34.9719,2,    205.2,2,   206.2,2, -999.00,9, -999.00,9,  -999.0,      45,    24.9247, -999.00,9,     -999.0
  33KB280_1,       PRS2,       2,          6,         16,       8016,2,20160113,       0555,  22.751333,-158.0190000,       4740,    60.8,  24.9208,  34.9786,2,  34.9791,2,    205.9,2,  -999.0,5, -999.00,9, -999.00,9,  -999.0,      61,    24.9077, -999.00,9,     -999.0
  33KB280_1,       PRS2,       2,          6,         15,       8015,2,20160113,       0555,  22.751333,-158.0190000,       4740,    75.6,  24.8827,  35.0175,2,  35.0102,2,    206.2,2,   205.9,2, -999.00,9, -999.00,9,  -999.0,      76,    24.8664, -999.00,9,     -999.0
  33KB280_1,       PRS2,       2,          6,         14,       8014,2,20160113,       0555,  22.751333,-158.0190000,       4740,    85.9,  24.5270,  35.1548,2,  35.1488,2,    205.7,2,   206.2,2, -999.00,9, -999.00,9,  -999.0,      85,    24.5086, -999.00,9,     -999.0
  33KB280_1,       PRS2,       2,          6,         13,       8025,2,20160113,       0555,  22.751333,-158.0190000,       4740,    90.2,  24.3102,  35.1738,2,  35.1750,2,    205.9,2,  -999.0,5, -999.00,9, -999.00,9,  -999.0,      92,    24.2911, -999.00,9,     -999.0
  33KB280_1,       PRS2,       2,          6,         12,       8012,2,20160113,       0555,  22.751333,-158.0190000,       4740,   100.6,  23.6006,  35.2168,2,  35.2123,2,    206.7,2,   205.7,2, -999.00,9, -999.00,9,  -999.0,     100,    23.5796, -999.00,9,     -999.0
  33KB280_1,       PRS2,       2,          6,         11,       8011,2,20160113,       0555,  22.751333,-158.0190000,       4740,   109.7,  23.1997,  35.2267,2,  35.2211,2,    205.1,2,  -999.0,5, -999.00,9, -999.00,9,  -999.0,     109,    23.1772, -999.00,9,     -999.0
  33KB280_1,       PRS2,       2,          6,         10,       8010,2,20160113,       0555,  22.751333,-158.0190000,       4740,   115.6,  22.8552,  35.2288,2,  35.2276,2,    204.2,2,   204.1,2, -999.00,9, -999.00,9,  -999.0,     114,    22.8317, -999.00,9,     -999.0
  33KB280_1,       PRS2,       2,          6,          9,       8009,2,20160113,       0555,  22.751333,-158.0190000,       4740,   125.5,  22.2061,  35.2193,2,  35.2176,2,    201.6,2,   200.3,2, -999.00,9, -999.00,9,  -999.0,     125,    22.1811, -999.00,9,     -999.0
  33KB280_1,       PRS2,       2,          6,          8,       8008,2,20160113,       0555,  22.751333,-158.0190000,       4740,   131.3,  21.6814,  35.2050,2,  35.2046,2,    198.8,2,  -999.0,5, -999.00,9, -999.00,9,  -999.0,     133,    21.6556, -999.00,9,     -999.0
  33KB280_1,       PRS2,       2,          6,          7,       8060,2,20160113,       0555,  22.751333,-158.0190000,       4740,   149.9,  20.7706,  35.1460,2,  35.1480,2,    194.9,2,   195.3,2, -999.00,9, -999.00,9,  -999.0,     150,    20.7422, -999.00,9,     -999.0
  33KB280_1,       PRS2,       2,          6,          6,       8006,2,20160113,       0555,  22.751333,-158.0190000,       4740,   165.7,  20.0597,  35.0874,2,  35.0848,2,    194.7,2,   193.9,2, -999.00,9, -999.00,9,  -999.0,     165,    20.0290, -999.00,9,     -999.0
  33KB280_1,       PRS2,       2,          6,          5,       8005,2,20160113,       0555,  22.751333,-158.0190000,       4740,   176.3,  19.6117,  35.0581,2,  35.0634,2,    195.4,2,   195.7,2, -999.00,9, -999.00,9,  -999.0,     177,    19.5796, -999.00,9,     -999.0
  33KB280_1,       PRS2,       2,          6,          4,       8059,2,20160113,       0555,  22.751333,-158.0190000,       4740,   199.3,  18.2701,  34.8657,2,  34.8652,2,    190.5,2,   190.9,2, -999.00,9, -999.00,9,  -999.0,     202,    18.2355, -999.00,9,     -999.0
  33KB280_1,       PRS2,       2,          6,          3,       8003,2,20160113,       0555,  22.751333,-158.0190000,       4740,   441.0,   8.7306,  34.1195,2,  34.1150,2,    133.6,2,   131.2,2, -999.00,9, -999.00,9,  -999.0,     441,     8.6835, -999.00,9,     -999.0
  33KB280_1,       PRS2,       2,          6,          2,       8002,2,20160113,       0555,  22.751333,-158.0190000,       4740,   730.2,   4.9094,  34.3090,2,  34.3095,2,     31.9,2,    32.3,2, -999.00,9, -999.00,9,  -999.0,     730,     4.8507, -999.00,9,     -999.0
  33KB280_1,       PRS2,       2,          6,          1,       8001,2,20160113,       0555,  22.751333,-158.0190000,       4740,  1020.5,   4.0750,  34.4741,2,  34.4758,2,     44.4,2,    45.6,2, -999.00,9, -999.00,9,  -999.0,    1021,     3.9971, -999.00,9,     -999.0
  33KB280_1,       PRS2,       2,          7,         16,       8016,2,20160113,       0923,  22.811333,-158.0278333,       4722,     5.0,  24.9259,  34.9477,2,-999.0000,5,    205.4,1,  -999.0,9, -999.00,9, -999.00,9,  -999.0,       6,    24.9248, -999.00,9,     -999.0
  33KB280_1,       PRS2,       2,          7,         15,       8015,2,20160113,       0923,  22.811333,-158.0278333,       4722,     5.0,  24.9238,  34.9475,2,  34.9467,2,    205.6,1,  -999.0,9, -999.00,9, -999.00,9,  -999.0,       4,    24.9227, -999.00,9,     -999.0
  33KB280_1,       PRS2,       2,          7,         14,       8014,2,20160113,       0923,  22.811333,-158.0278333,       4722,    25.3,  24.8682,  34.9650,2,-999.0000,5,    205.4,1,  -999.0,9, -999.00,9, -999.00,9,  -999.0,      25,    24.8628, -999.00,9,     -999.0
  33KB280_1,       PRS2,       2,          7,         13,       8025,2,20160113,       0923,  22.811333,-158.0278333,       4722,    25.3,  24.8698,  34.9652,2,  34.9632,2,    205.5,1,  -999.0,9, -999.00,9, -999.00,9,  -999.0,      25,    24.8643, -999.00,9,     -999.0
  33KB280_1,       PRS2,       2,          7,         12,       8012,2,20160113,       0923,  22.811333,-158.0278333,       4722,    45.0,  24.8648,  34.9742,2,  34.9738,2,    205.7,1,  -999.0,9, -999.00,9, -999.00,9,  -999.0,      44,    24.8550, -999.00,9,     -999.0
  33KB280_1,       PRS2,       2,          7,         11,       8011,2,20160113,       0923,  22.811333,-158.0278333,       4722,    75.0,  24.8346,  34.9805,2,  34.9815,2,    206.0,1,  -999.0,9, -999.00,9, -999.00,9,  -999.0,      75,    24.8184, -999.00,9,     -999.0
  33KB280_1,       PRS2,       2,          7,         10,       8010,2,20160113,       0923,  22.811333,-158.0278333,       4722,    98.4,  24.3023,  35.1496,2,-999.0000,5,    207.0,1,  -999.0,9, -999.00,9, -999.00,9,  -999.0,      99,    24.2814, -999.00,9,     -999.0
  33KB280_1,       PRS2,       2,          7,          9,       8009,2,20160113,       0923,  22.811333,-158.0278333,       4722,    98.4,  24.2876,  35.1495,2,  35.1573,2,    206.5,1,  -999.0,9, -999.00,9, -999.00,9,  -999.0,      99,    24.2667, -999.00,9,     -999.0
  33KB280_1,       PRS2,       2,          7,          8,       8008,2,20160113,       0923,  22.811333,-158.0278333,       4722,   124.2,  22.7145,  35.2334,2,-999.0000,5,    203.0,1,  -999.0,9, -999.00,9, -999.00,9,  -999.0,     125,    22.6893, -999.00,9,     -999.0
  33KB280_1,       PRS2,       2,          7,          7,       8060,2,20160113,       0923,  22.811333,-158.0278333,       4722,   124.3,  22.7030,  35.2346,2,  35.2333,2,    202.1,1,  -999.0,9, -999.00,9, -999.00,9,  -999.0,     125,    22.6779, -999.00,9,     -999.0
  33KB280_1,       PRS2,       2,          7,          6,       8006,2,20160113,       0923,  22.811333,-158.0278333,       4722,   149.3,  20.7010,  35.1389,2,-999.0000,5,    195.5,1,  -999.0,9, -999.00,9, -999.00,9,  -999.0,     149,    20.6727, -999.00,9,     -999.0
  33KB280_1,       PRS2,       2,          7,          5,       8005,2,20160113,       0923,  22.811333,-158.0278333,       4722,   149.3,  20.6232,  35.1319,2,  35.1421,2,    193.8,1,  -999.0,9, -999.00,9, -999.00,9,  -999.0,     150,    20.5949, -999.00,9,     -999.0
  33KB280_1,       PRS2,       2,          7,          4,       8059,2,20160113,       0923,  22.811333,-158.0278333,       4722,   174.8,  19.3134,  35.0234,2,-999.0000,5,    194.8,1,  -999.0,9, -999.00,9, -999.00,9,  -999.0,     176,    19.2819, -999.00,9,     -999.0
  33KB280_1,       PRS2,       2,          7,          3,       8003,2,20160113,       0923,  22.811333,-158.0278333,       4722,   175.2,  19.2767,  35.0148,2,  35.0262,2,    191.9,1,  -999.0,9, -999.00,9, -999.00,9,  -999.0,     175,    19.2451, -999.00,9,     -999.0
  33KB280_1,       PRS2,       2,          7,          2,       8002,2,20160113,       0923,  22.811333,-158.0278333,       4722,   400.0,   8.9430,  34.0893,2,  34.0891,2,    150.4,1,  -999.0,9, -999.00,9, -999.00,9,  -999.0,     399,     8.8998, -999.00,9,     -999.0
  33KB280_1,       PRS2,       2,          7,          1,       8001,2,20160113,       0923,  22.811333,-158.0278333,       4722,  1020.3,   4.0128,  34.4821,2,  34.4824,2,     44.7,1,  -999.0,9, -999.00,9, -999.00,9,  -999.0,    1021,     3.9353, -999.00,9,     -999.0
  33KB280_1,       PRS2,       2,          8,         22,       8022,2,20160113,       1159,  22.749833,-158.0183333,       4742,     9.0,  24.9944,  34.9312,2,-999.0000,5,    204.6,1,  -999.0,9, -999.00,9, -999.00,9,  -999.0,       9,    24.9925, -999.00,9,     -999.0
  33KB280_1,       PRS2,       2,          8,         21,       8021,2,20160113,       1159,  22.749833,-158.0183333,       4742,     8.8,  24.9932,  34.9310,2,  34.9296,2,    204.1,1,  -999.0,9, -999.00,9, -999.00,9,  -999.0,       9,    24.9914, -999.00,9,     -999.0
  33KB280_1,       PRS2,       2,          8,         20,       8020,2,20160113,       1159,  22.749833,-158.0183333,       4742,     8.7,  24.9934,  34.9310,2,  34.9307,2,    204.5,1,  -999.0,9, -999.00,9, -999.00,9,  -999.0,       8,    24.9915, -999.00,9,     -999.0
  33KB280_1,       PRS2,       2,          8,         19,       8019,2,20160113,       1159,  22.749833,-158.0183333,       4742,     8.9,  24.9931,  34.9310,2,  34.9299,2,    204.3,1,  -999.0,9, -999.00,9, -999.00,9,  -999.0,       9,    24.9911, -999.00,9,     -999.0
  33KB280_1,       PRS2,       2,          8,         18,       8018,2,20160113,       1159,  22.749833,-158.0183333,       4742,    26.9,  24.9983,  34.9322,2,-999.0000,5,    204.7,1,  -999.0,9, -999.00,9, -999.00,9,  -999.0,      27,    24.9924, -999.00,9,     -999.0
  33KB280_1,       PRS2,       2,          8,         17,       8017,2,20160113,       1159,  22.749833,-158.0183333,       4742,    26.9,  24.9997,  34.9313,2,  34.9292,2,    204.9,1,  -999.0,9, -999.00,9, -999.00,9,  -999.0,      27,    24.9938, -999.00,9,     -999.0
  33KB280_1,       PRS2,       2,          8,         16,       8016,2,20160113,       1159,  22.749833,-158.0183333,       4742,    26.6,  24.9998,  34.9317,2,  34.9299,2,    204.8,1,  -999.0,9, -999.00,9, -999.00,9,  -999.0,      27,    24.9940, -999.00,9,     -999.0
  33KB280_1,       PRS2,       2,          8,         15,       8015,2,20160113,       1159,  22.749833,-158.0183333,       4742,    26.5,  24.9998,  34.9317,2,  34.9296,2,    204.6,1,  -999.0,9, -999.00,9, -999.00,9,  -999.0,      26,    24.9941, -999.00,9,     -999.0
  33KB280_1,       PRS2,       2,          8,         14,       8014,2,20160113,       1159,  22.749833,-158.0183333,       4742,    44.4,  24.9696,  34.9411,2,  34.9396,2,    204.9,1,  -999.0,9, -999.00,9, -999.00,9,  -999.0,      44,    24.9600, -999.00,9,     -999.0
  33KB280_1,       PRS2,       2,          8,         13,       8025,2,20160113,       1159,  22.749833,-158.0183333,       4742,    44.2,  24.9696,  34.9409,2,  34.9398,2,    205.0,1,  -999.0,9, -999.00,9, -999.00,9,  -999.0,      45,    24.9600, -999.00,9,     -999.0
  33KB280_1,       PRS2,       2,          8,         12,       8012,2,20160113,       1159,  22.749833,-158.0183333,       4742,    44.1,  24.9701,  34.9405,2,  34.9396,2,    205.0,1,  -999.0,9, -999.00,9, -999.00,9,  -999.0,      46,    24.9605, -999.00,9,     -999.0
  33KB280_1,       PRS2,       2,          8,         11,       8011,2,20160113,       1159,  22.749833,-158.0183333,       4742,    75.7,  24.8019,  35.0254,2,  35.0244,2,    204.3,1,  -999.0,9, -999.00,9, -999.00,9,  -999.0,      75,    24.7856, -999.00,9,     -999.0
  33KB280_1,       PRS2,       2,          8,         10,       8010,2,20160113,       1159,  22.749833,-158.0183333,       4742,    75.6,  24.8020,  35.0254,2,  35.0244,2,    205.4,1,  -999.0,9, -999.00,9, -999.00,9,  -999.0,      76,    24.7857, -999.00,9,     -999.0
  33KB280_1,       PRS2,       2,          8,          9,       8009,2,20160113,       1159,  22.749833,-158.0183333,       4742,    75.5,  24.8010,  35.0255,2,  35.0244,2,    205.5,1,  -999.0,9, -999.00,9, -999.00,9,  -999.0,      75,    24.7847, -999.00,9,     -999.0
  33KB280_1,       PRS2,       2,          8,          8,       8008,2,20160113,       1159,  22.749833,-158.0183333,       4742,    99.4,  23.2482,  35.2221,2,  35.2207,2,    205.1,1,  -999.0,9, -999.00,9, -999.00,9,  -999.0,      99,    23.2277, -999.00,9,     -999.0
  33KB280_1,       PRS2,       2,          8,          7,       8060,2,20160113,       1159,  22.749833,-158.0183333,       4742,    99.2,  23.2522,  35.2214,2,  35.2211,2,    204.0,1,  -999.0,9, -999.00,9, -999.00,9,  -999.0,     100,    23.2318, -999.00,9,     -999.0
  33KB280_1,       PRS2,       2,          8,          6,       8006,2,20160113,       1159,  22.749833,-158.0183333,       4742,    99.2,  23.2468,  35.2223,2,  35.2205,2,    204.0,1,  -999.0,9, -999.00,9, -999.00,9,  -999.0,     100,    23.2264, -999.00,9,     -999.0
  33KB280_1,       PRS2,       2,          8,          5,       8005,2,20160113,       1159,  22.749833,-158.0183333,       4742,   125.0,  21.6579,  35.2052,2,  35.2069,2,    199.2,1,  -999.0,9, -999.00,9, -999.00,9,  -999.0,     125,    21.6334, -999.00,9,     -999.0
  33KB280_1,       PRS2,       2,          8,          4,       8059,2,20160113,       1159,  22.749833,-158.0183333,       4742,   124.8,  21.6431,  35.2035,2,  35.2061,2,    198.1,1,  -999.0,9, -999.00,9, -999.00,9,  -999.0,     125,    21.6187, -999.00,9,     -999.0
  33KB280_1,       PRS2,       2,          8,          3,       8003,2,20160113,       1159,  22.749833,-158.0183333,       4742,   124.8,  21.6280,  35.2044,2,  35.2032,2,    196.8,1,  -999.0,9, -999.00,9, -999.00,9,  -999.0,     125,    21.6036, -999.00,9,     -999.0
  33KB280_1,       PRS2,       2,          8,          2,       8002,2,20160113,       1159,  22.749833,-158.0183333,       4742,   380.1,   9.2410,  34.0958,2,  34.0960,2,    158.9,1,  -999.0,9, -999.00,9, -999.00,9,  -999.0,     380,     9.1991, -999.00,9,     -999.0
  33KB280_1,       PRS2,       2,          8,          1,       8001,2,20160113,       1159,  22.749833,-158.0183333,       4742,  1020.1,   4.0262,  34.4818,2,  34.4822,2,     45.1,1,  -999.0,9, -999.00,9, -999.00,9,  -999.0,    1018,     3.9487, -999.00,9,     -999.0