BOTTLE,20201027SIOCCHSCD
EXPOCODE,SECT_ID,STNNBR,CASTNO,SAMPNO,BTLNBR,BTLNBR_FLAG_W,DATE,TIME,LATITUDE,LONGITUDE,DEPTH,CTDPRS,CTDTMP,CTDSAL,CTDSAL_FLAG_W,SALNTY,SALNTY_FLAG_W,CTDOXY,CTDOXY_FLAG_W,OXYGEN,OXYGEN_FLAG_W,SILCAT,SILCAT_FLAG_W,PHSPHT,PHSPHT_FLAG_W,REVPRS,CTDRAW,THETA,NO2+NO3,NO2+NO3_FLAG_W,REVTMP
,,,,,,,,,,,METERS,DBAR,ITS-90,PSS-78,,PSS-78,,UMOL/KG,,UMOL/KG,,UMOL/KG,,UMOL/KG,,DBAR,DBAR,ITS-90,UMOL/KG,,DEG C
  33KB280_1,       PRS2,       6,          1,         13,       8025,2,20160115,       0545,  21.846000,-158.3631667,       2446,     6.2,  24.9834,  34.8501,2,  34.8493,2,    205.8,1,  -999.0,9, -999.00,9, -999.00,9,  -999.0,       6,    24.9820, -999.00,9,     -999.0
  33KB280_1,       PRS2,       6,          1,         12,       8012,2,20160115,       0545,  21.846000,-158.3631667,       2446,    25.5,  24.9786,  34.8461,2,  34.8448,2,    205.9,1,  -999.0,9, -999.00,9, -999.00,9,  -999.0,      24,    24.9731, -999.00,9,     -999.0
  33KB280_1,       PRS2,       6,          1,         11,       8011,2,20160115,       0545,  21.846000,-158.3631667,       2446,    45.2,  24.8839,  34.8852,2,  34.8886,2,    206.8,1,  -999.0,9, -999.00,9, -999.00,9,  -999.0,      45,    24.8742, -999.00,9,     -999.0
  33KB280_1,       PRS2,       6,          1,         10,       8010,2,20160115,       0545,  21.846000,-158.3631667,       2446,    75.7,  24.7963,  35.0132,2,  35.0089,2,    206.4,1,  -999.0,9, -999.00,9, -999.00,9,  -999.0,      74,    24.7800, -999.00,9,     -999.0
  33KB280_1,       PRS2,       6,          1,          9,       8009,2,20160115,       0545,  21.846000,-158.3631667,       2446,   100.4,  24.7560,  35.0322,2,  35.0415,2,    206.0,1,  -999.0,9, -999.00,9, -999.00,9,  -999.0,     101,    24.7344, -999.00,9,     -999.0
  33KB280_1,       PRS2,       6,          1,          8,       8008,2,20160115,       0545,  21.846000,-158.3631667,       2446,   125.4,  22.8876,  35.2353,2,  35.2353,2,    207.0,1,  -999.0,9, -999.00,9, -999.00,9,  -999.0,     124,    22.8620, -999.00,9,     -999.0
  33KB280_1,       PRS2,       6,          1,          7,       8060,2,20160115,       0545,  21.846000,-158.3631667,       2446,   150.9,  21.5605,  35.2261,2,  35.2266,2,    196.6,1,  -999.0,9, -999.00,9, -999.00,9,  -999.0,     152,    21.5311, -999.00,9,     -999.0
  33KB280_1,       PRS2,       6,          1,          6,       8006,2,20160115,       0545,  21.846000,-158.3631667,       2446,   175.7,  20.8364,  35.1401,2,  35.1417,2,    193.4,1,  -999.0,9, -999.00,9, -999.00,9,  -999.0,     174,    20.8029, -999.00,9,     -999.0
  33KB280_1,       PRS2,       6,          1,          5,       8005,2,20160115,       0545,  21.846000,-158.3631667,       2446,   500.4,   6.4072,  34.0921,2,  34.0915,2,     76.9,1,  -999.0,9, -999.00,9, -999.00,9,  -999.0,     500,     6.3622, -999.00,9,     -999.0
  33KB280_1,       PRS2,       6,          1,          4,       8059,2,20160115,       0545,  21.846000,-158.3631667,       2446,  1000.9,   3.9158,  34.4973,2,  34.4976,2,     48.3,1,  -999.0,9, -999.00,9, -999.00,9,  -999.0,    1003,     3.8407, -999.00,9,     -999.0
  33KB280_1,       PRS2,       6,          1,          3,       8003,2,20160115,       0545,  21.846000,-158.3631667,       2446,  1501.5,   2.7814,  34.5759,2,  34.5761,2,     70.3,1,  -999.0,9, -999.00,9, -999.00,9,  -999.0,    1499,     2.6760, -999.00,9,     -999.0
  33KB280_1,       PRS2,       6,          1,          2,       8002,2,20160115,       0545,  21.846000,-158.3631667,       2446,  2001.8,   2.1669,  34.6168,2,  34.6166,2,     89.2,1,  -999.0,9, -999.00,9, -999.00,9,  -999.0,    2000,     2.0278, -999.00,9,     -999.0
  33KB280_1,       PRS2,       6,          1,          1,       8001,2,20160115,       0545,  21.846000,-158.3631667,       2446,  2454.5,   1.7629,  34.6457,2,  34.6462,2,    107.9,1,  -999.0,9, -999.00,9, -999.00,9,  -999.0,    2454,     1.5912, -999.00,9,     -999.0
  33KB280_1,       PRS2,      52,          1,          6,       8006,2,20160114,       1845,  22.681333,-157.9658333,       4742,     3.1,  24.9248,  34.9123,2,-999.0000,9,    204.3,1,  -999.0,9, -999.00,9, -999.00,9,  -999.0,       3,    24.9241, -999.00,9,     -999.0
  33KB280_1,       PRS2,      52,          1,          5,       8005,2,20160114,       1845,  22.681333,-157.9658333,       4742,    25.6,  24.9163,  34.9124,2,-999.0000,9,    204.8,1,  -999.0,9, -999.00,9, -999.00,9,  -999.0,      26,    24.9108, -999.00,9,     -999.0
  33KB280_1,       PRS2,      52,          1,          4,       8059,2,20160114,       1845,  22.681333,-157.9658333,       4742,    25.7,  24.9157,  34.9123,2,-999.0000,9,    203.7,1,  -999.0,9, -999.00,9, -999.00,9,  -999.0,      26,    24.9101, -999.00,9,     -999.0
  33KB280_1,       PRS2,      52,          1,          3,       8003,2,20160114,       1845,  22.681333,-157.9658333,       4742,    25.7,  24.9154,  34.9122,2,-999.0000,9,    204.3,1,  -999.0,9, -999.00,9, -999.00,9,  -999.0,      27,    24.9098, -999.00,9,     -999.0
  33KB280_1,       PRS2,      52,          1,          2,       8002,2,20160114,       1845,  22.681333,-157.9658333,       4742,    25.6,  24.9153,  34.9120,2,-999.0000,9,    204.4,1,  -999.0,9, -999.00,9, -999.00,9,  -999.0,      26,    24.9098, -999.00,9,     -999.0
  33KB280_1,       PRS2,      52,          1,          1,       8001,2,20160114,       1845,  22.681333,-157.9658333,       4742,    25.6,  24.9156,  34.9120,2,-999.0000,9,    204.1,1,  -999.0,9, -999.00,9, -999.00,9,  -999.0,      26,    24.9100, -999.00,9,     -999.0