BOTTLE,20201027SIOCCHSCD
EXPOCODE,SECT_ID,STNNBR,CASTNO,SAMPNO,BTLNBR,BTLNBR_FLAG_W,DATE,TIME,LATITUDE,LONGITUDE,DEPTH,CTDPRS,CTDTMP,CTDSAL,CTDSAL_FLAG_W,SALNTY,SALNTY_FLAG_W,CTDOXY,CTDOXY_FLAG_W,OXYGEN,OXYGEN_FLAG_W,SILCAT,SILCAT_FLAG_W,PHSPHT,PHSPHT_FLAG_W,REVPRS,CTDRAW,THETA,NO2+NO3,NO2+NO3_FLAG_W,REVTMP
,,,,,,,,,,,METERS,DBAR,ITS-90,PSS-78,,PSS-78,,UMOL/KG,,UMOL/KG,,UMOL/KG,,UMOL/KG,,DBAR,DBAR,ITS-90,UMOL/KG,,DEG C
  33KB280_1,       PRS2,       2,          3,         24,       8058,2,20160112,       2035,  22.750833,-158.0000000,       4741,     7.4,  24.9824,  34.9440,2,  34.9435,2,    206.3,2,   206.6,2,    1.32,2,    0.07,2,  -999.0,       7,    24.9808,    0.05,2,     -999.0
  33KB280_1,       PRS2,       2,          3,         23,       8023,2,20160112,       2035,  22.750833,-158.0000000,       4741,    41.4,  24.9494,  34.9475,2,  34.9475,2,    206.2,2,   206.7,2,    1.37,2,    0.07,2,  -999.0,      40,    24.9405,    0.03,2,     -999.0
  33KB280_1,       PRS2,       2,          3,         22,       8022,2,20160112,       2035,  22.750833,-158.0000000,       4741,    75.1,  24.9276,  34.9699,2,  34.9711,2,    205.6,2,   206.3,2,    1.22,2,    0.04,2,  -999.0,      75,    24.9114,    0.04,2,     -999.0
  33KB280_1,       PRS2,       2,          3,         21,       8021,2,20160112,       2035,  22.750833,-158.0000000,       4741,    92.0,  24.4840,  35.1200,2,  35.1246,2,    206.3,2,   220.7,4,    1.34,2,    0.08,2,  -999.0,      90,    24.4644,    0.04,2,     -999.0
  33KB280_1,       PRS2,       2,          3,         20,       8020,2,20160112,       2035,  22.750833,-158.0000000,       4741,   136.9,  21.7152,  35.2044,2,  35.2075,2,    200.6,2,   199.0,2,    1.88,2,    0.13,2,  -999.0,     136,    21.6884,    0.86,2,     -999.0
  33KB280_1,       PRS2,       2,          3,         19,       8019,2,20160112,       2035,  22.750833,-158.0000000,       4741,   187.6,  19.1479,  34.9914,2,  34.9858,2,    194.3,2,   192.1,2,    2.91,2,    0.26,2,  -999.0,     188,    19.1142,    2.74,2,     -999.0
  33KB280_1,       PRS2,       2,          3,         18,       8018,2,20160112,       2035,  22.750833,-158.0000000,       4741,   234.6,  14.8522,  34.4222,2,  34.4214,2,    193.5,2,   192.0,2,    6.42,2,    0.56,2,  -999.0,     237,    14.8170,    7.22,2,     -999.0
  33KB280_1,       PRS2,       2,          3,         17,       8017,2,20160112,       2035,  22.750833,-158.0000000,       4741,   271.5,  12.9766,  34.2401,2,  34.2409,2,    197.0,2,   196.2,2,    9.43,2,    0.73,2,  -999.0,     272,    12.9395,   10.16,2,     -999.0
  33KB280_1,       PRS2,       2,          3,         16,       8016,2,20160112,       2035,  22.750833,-158.0000000,       4741,   304.1,  11.8047,  34.1917,2,  34.1915,2,    202.8,2,   203.8,2,   12.34,2,    0.86,2,  -999.0,     304,    11.7656,   12.39,2,     -999.0
  33KB280_1,       PRS2,       2,          3,         15,       8015,2,20160112,       2035,  22.750833,-158.0000000,       4741,   353.8,  10.3885,  34.1273,2,  34.1274,2,    177.2,2,   186.2,4,   19.82,2,    1.05,3,  -999.0,     353,    10.3465,   17.93,2,     -999.0
  33KB280_1,       PRS2,       2,          3,         14,       8014,2,20160112,       2035,  22.750833,-158.0000000,       4741,   403.6,   8.8883,  34.0989,2,  34.0983,2,    148.9,2,   152.0,2,   30.75,2,    1.68,2,  -999.0,     403,     8.8448,   23.51,2,     -999.0
  33KB280_1,       PRS2,       2,          3,         13,       8025,2,20160112,       2035,  22.750833,-158.0000000,       4741,   438.2,   8.1837,  34.1148,2,  34.1129,2,    114.6,2,   115.4,2,   39.07,2,    2.01,2,  -999.0,     437,     8.1387,   27.37,2,     -999.0
  33KB280_1,       PRS2,       2,          3,         12,       8012,2,20160112,       2035,  22.750833,-158.0000000,       4741,   472.7,   7.4339,  34.0970,2,  34.0978,2,     99.3,2,   100.4,2,   46.45,2,    2.20,2,  -999.0,     472,     7.3878,   30.32,2,     -999.0
  33KB280_1,       PRS2,       2,          3,         11,       8011,2,20160112,       2035,  22.750833,-158.0000000,       4741,   510.3,   6.7536,  34.1032,2,  34.1058,2,     81.2,2,    82.6,2,   55.67,2,    2.40,2,  -999.0,     509,     6.7064,   33.16,2,     -999.0
  33KB280_1,       PRS2,       2,          3,         10,       8010,2,20160112,       2035,  22.750833,-158.0000000,       4741,   563.5,   6.1141,  34.1240,2,  34.1242,2,     67.6,2,    67.3,2,   66.20,2,    2.60,2,  -999.0,     563,     6.0645,   35.95,2,     -999.0
  33KB280_1,       PRS2,       2,          3,          9,       8009,2,20160112,       2035,  22.750833,-158.0000000,       4741,   624.4,   5.6059,  34.1786,2,  34.1781,2,     45.6,2,    45.0,2,   76.12,2,    2.81,2,  -999.0,     624,     5.5530,   38.72,2,     -999.0
  33KB280_1,       PRS2,       2,          3,          8,       8008,2,20160112,       2035,  22.750833,-158.0000000,       4741,   685.7,   5.1864,  34.2411,2,  34.2399,2,     35.4,2,    35.1,2,   84.80,2,    2.94,2,  -999.0,     685,     5.1302,   40.28,2,     -999.0
  33KB280_1,       PRS2,       2,          3,          7,       8060,2,20160112,       2035,  22.750833,-158.0000000,       4741,   726.7,   4.9738,  34.2875,2,  34.2840,2,     32.4,2,    32.1,2,   90.03,2,    2.98,2,  -999.0,     725,     4.9151,   40.95,2,     -999.0
  33KB280_1,       PRS2,       2,          3,          6,       8006,2,20160112,       2035,  22.750833,-158.0000000,       4741,   766.6,   4.8603,  34.3289,2,  34.3274,2,     32.8,2,    32.7,2,   92.60,2,    3.01,2,  -999.0,     766,     4.7987,   41.41,2,     -999.0
  33KB280_1,       PRS2,       2,          3,          5,       8005,2,20160112,       2035,  22.750833,-158.0000000,       4741,   816.1,   4.6701,  34.3724,2,  34.3711,2,     33.1,2,    32.6,2,   96.66,2,    2.87,3,  -999.0,     816,     4.6055,   41.65,2,     -999.0
  33KB280_1,       PRS2,       2,          3,          4,       8059,2,20160112,       2035,  22.750833,-158.0000000,       4741,   866.1,   4.5213,  34.4018,2,  34.4027,2,     36.8,2,    36.4,2,   99.83,2,    3.02,2,  -999.0,     868,     4.4533,   41.73,2,     -999.0
  33KB280_1,       PRS2,       2,          3,          3,       8003,2,20160112,       2035,  22.750833,-158.0000000,       4741,   931.8,   4.3247,  34.4432,2,  34.4442,2,     39.7,2,    39.3,2,  103.48,2,    3.02,2,  -999.0,     931,     4.2525,   41.77,2,     -999.0
  33KB280_1,       PRS2,       2,          3,          2,       8002,2,20160112,       2035,  22.750833,-158.0000000,       4741,   995.7,   4.0660,  34.4777,2,  34.4773,2,     44.7,2,    44.4,2,  108.51,2,    3.01,2,  -999.0,     998,     3.9902,   41.79,2,     -999.0
  33KB280_1,       PRS2,       2,          3,          1,       8001,2,20160112,       2035,  22.750833,-158.0000000,       4741,  1020.6,   4.0429,  34.4797,2,  34.4809,2,     45.1,2,    45.3,2,  109.02,2,    3.02,2,  -999.0,    1020,     3.9652,   41.73,2,     -999.0
  33KB280_1,       PRS2,       2,          4,         20,       8020,2,20160113,       0011,  22.726833,-157.9961667,       4746,     5.3,  25.1011,  34.9336,2,-999.0000,5,    205.7,1,  -999.0,9, -999.00,9, -999.00,9,  -999.0,       5,    25.0999, -999.00,9,     -999.0
  33KB280_1,       PRS2,       2,          4,         19,       8019,2,20160113,       0011,  22.726833,-157.9961667,       4746,     5.2,  25.0849,  34.9336,2,  34.9335,2,    205.1,1,  -999.0,9, -999.00,9, -999.00,9,  -999.0,       7,    25.0838, -999.00,9,     -999.0
  33KB280_1,       PRS2,       2,          4,         18,       8018,2,20160113,       0011,  22.726833,-157.9961667,       4746,    24.5,  24.9777,  34.9344,2,-999.0000,5,    205.6,1,  -999.0,9, -999.00,9, -999.00,9,  -999.0,      24,    24.9724, -999.00,9,     -999.0
  33KB280_1,       PRS2,       2,          4,         17,       8017,2,20160113,       0011,  22.726833,-157.9961667,       4746,    24.3,  24.9772,  34.9345,2,-999.0000,5,    205.6,1,  -999.0,9, -999.00,9, -999.00,9,  -999.0,      23,    24.9720, -999.00,9,     -999.0
  33KB280_1,       PRS2,       2,          4,         16,       8016,2,20160113,       0011,  22.726833,-157.9961667,       4746,    24.3,  24.9774,  34.9343,2,-999.0000,5,    205.2,1,  -999.0,9, -999.00,9, -999.00,9,  -999.0,      24,    24.9722, -999.00,9,     -999.0
  33KB280_1,       PRS2,       2,          4,         15,       8015,2,20160113,       0011,  22.726833,-157.9961667,       4746,    24.3,  24.9777,  34.9341,2,  34.9341,2,    205.5,1,  -999.0,9, -999.00,9, -999.00,9,  -999.0,      25,    24.9724, -999.00,9,     -999.0
  33KB280_1,       PRS2,       2,          4,         14,       8014,2,20160113,       0011,  22.726833,-157.9961667,       4746,    44.9,  24.9670,  34.9362,2,-999.0000,5,    205.6,1,  -999.0,9, -999.00,9, -999.00,9,  -999.0,      43,    24.9573, -999.00,9,     -999.0
  33KB280_1,       PRS2,       2,          4,         13,       8025,2,20160113,       0011,  22.726833,-157.9961667,       4746,    44.9,  24.9668,  34.9361,2,  34.9370,2,    205.2,1,  -999.0,9, -999.00,9, -999.00,9,  -999.0,      44,    24.9570, -999.00,9,     -999.0
  33KB280_1,       PRS2,       2,          4,         12,       8012,2,20160113,       0011,  22.726833,-157.9961667,       4746,    76.0,  24.9320,  35.0119,2,-999.0000,5,    204.8,1,  -999.0,9, -999.00,9, -999.00,9,  -999.0,      73,    24.9156, -999.00,9,     -999.0
  33KB280_1,       PRS2,       2,          4,         11,       8011,2,20160113,       0011,  22.726833,-157.9961667,       4746,    76.2,  24.9382,  35.0082,2,  35.0197,2,    203.5,1,  -999.0,9, -999.00,9, -999.00,9,  -999.0,      75,    24.9217, -999.00,9,     -999.0
  33KB280_1,       PRS2,       2,          4,         10,       8010,2,20160113,       0011,  22.726833,-157.9961667,       4746,    99.4,  23.0867,  35.2266,2,  35.2253,2,    205.6,1,  -999.0,9, -999.00,9, -999.00,9,  -999.0,      99,    23.0664, -999.00,9,     -999.0
  33KB280_1,       PRS2,       2,          4,          9,       8009,2,20160113,       0011,  22.726833,-157.9961667,       4746,   126.3,  21.8445,  35.2106,2,  35.2115,2,    199.3,1,  -999.0,9, -999.00,9, -999.00,9,  -999.0,     126,    21.8197, -999.00,9,     -999.0
  33KB280_1,       PRS2,       2,          4,          8,       8008,2,20160113,       0011,  22.726833,-157.9961667,       4746,   150.2,  20.1853,  35.1127,2,  35.1104,2,    196.5,1,  -999.0,9, -999.00,9, -999.00,9,  -999.0,     151,    20.1573, -999.00,9,     -999.0
  33KB280_1,       PRS2,       2,          4,          7,       8060,2,20160113,       0011,  22.726833,-157.9961667,       4746,   175.2,  19.3980,  35.0184,2,  35.0382,2,    194.4,1,  -999.0,9, -999.00,9, -999.00,9,  -999.0,     175,    19.3663, -999.00,9,     -999.0
  33KB280_1,       PRS2,       2,          4,          6,       8006,2,20160113,       0011,  22.726833,-157.9961667,       4746,   199.6,  18.4916,  34.9060,2,  34.9042,2,    192.8,1,  -999.0,9, -999.00,9, -999.00,9,  -999.0,     199,    18.4567, -999.00,9,     -999.0
  33KB280_1,       PRS2,       2,          4,          5,       8005,2,20160113,       0011,  22.726833,-157.9961667,       4746,   249.7,  15.1937,  34.4574,2,  34.4636,2,    194.6,1,  -999.0,9, -999.00,9, -999.00,9,  -999.0,     250,    15.1557, -999.00,9,     -999.0
  33KB280_1,       PRS2,       2,          4,          4,       8059,2,20160113,       0011,  22.726833,-157.9961667,       4746,   350.0,  10.4789,  34.1230,2,  34.1225,2,    183.8,1,  -999.0,9, -999.00,9, -999.00,9,  -999.0,     351,    10.4371, -999.00,9,     -999.0
  33KB280_1,       PRS2,       2,          4,          3,       8003,2,20160113,       0011,  22.726833,-157.9961667,       4746,   350.3,  10.4321,  34.1178,2,  34.1217,2,    184.4,1,  -999.0,9, -999.00,9, -999.00,9,  -999.0,     350,    10.3905, -999.00,9,     -999.0
  33KB280_1,       PRS2,       2,          4,          2,       8002,2,20160113,       0011,  22.726833,-157.9961667,       4746,   465.9,   7.5225,  34.0898,2,  34.0893,2,    107.6,1,  -999.0,9, -999.00,9, -999.00,9,  -999.0,     466,     7.4769, -999.00,9,     -999.0
  33KB280_1,       PRS2,       2,          4,          1,       8001,2,20160113,       0011,  22.726833,-157.9961667,       4746,  1020.2,   3.9974,  34.4835,2,  34.4846,2,     45.7,1,  -999.0,9, -999.00,9, -999.00,9,  -999.0,    1019,     3.9201, -999.00,9,     -999.0
  33KB280_1,       PRS2,       2,          5,         16,       8016,2,20160113,       0259,  22.730500,-158.0273333,       4744,     8.4,  25.0776,  34.9336,2,-999.0000,5,    205.7,1,  -999.0,9, -999.00,9, -999.00,9,  -999.0,       8,    25.0758, -999.00,9,     -999.0
  33KB280_1,       PRS2,       2,          5,         15,       8015,2,20160113,       0259,  22.730500,-158.0273333,       4744,     8.5,  25.0769,  34.9336,2,  34.9370,2,    205.8,1,  -999.0,9, -999.00,9, -999.00,9,  -999.0,       8,    25.0751, -999.00,9,     -999.0
  33KB280_1,       PRS2,       2,          5,         14,       8014,2,20160113,       0259,  22.730500,-158.0273333,       4744,    24.9,  24.9701,  34.9489,2,-999.0000,5,    206.2,1,  -999.0,9, -999.00,9, -999.00,9,  -999.0,      25,    24.9647, -999.00,9,     -999.0
  33KB280_1,       PRS2,       2,          5,         13,       8025,2,20160113,       0259,  22.730500,-158.0273333,       4744,    25.1,  24.9700,  34.9494,2,  34.9498,2,    206.3,1,  -999.0,9, -999.00,9, -999.00,9,  -999.0,      26,    24.9646, -999.00,9,     -999.0
  33KB280_1,       PRS2,       2,          5,         12,       8012,2,20160113,       0259,  22.730500,-158.0273333,       4744,    44.5,  24.9425,  34.9575,2,  34.9585,2,    206.5,1,  -999.0,9, -999.00,9, -999.00,9,  -999.0,      43,    24.9329, -999.00,9,     -999.0
  33KB280_1,       PRS2,       2,          5,         11,       8011,2,20160113,       0259,  22.730500,-158.0273333,       4744,    76.5,  24.9377,  34.9715,2,  34.9721,2,    206.4,1,  -999.0,9, -999.00,9, -999.00,9,  -999.0,      76,    24.9211, -999.00,9,     -999.0
  33KB280_1,       PRS2,       2,          5,         10,       8010,2,20160113,       0259,  22.730500,-158.0273333,       4744,   100.1,  24.4076,  35.1580,2,  35.1608,2,    207.4,1,  -999.0,9, -999.00,9, -999.00,9,  -999.0,     102,    24.3862, -999.00,9,     -999.0
  33KB280_1,       PRS2,       2,          5,          9,       8009,2,20160113,       0259,  22.730500,-158.0273333,       4744,   125.9,  22.7628,  35.2314,2,  35.2306,2,    205.5,1,  -999.0,9, -999.00,9, -999.00,9,  -999.0,     127,    22.7372, -999.00,9,     -999.0
  33KB280_1,       PRS2,       2,          5,          8,       8008,2,20160113,       0259,  22.730500,-158.0273333,       4744,   150.9,  21.2559,  35.1805,2,  35.1888,2,    199.8,1,  -999.0,9, -999.00,9, -999.00,9,  -999.0,     150,    21.2268, -999.00,9,     -999.0
  33KB280_1,       PRS2,       2,          5,          7,       8060,2,20160113,       0259,  22.730500,-158.0273333,       4744,   176.5,  19.8541,  35.0859,2,  35.0872,2,    196.8,1,  -999.0,9, -999.00,9, -999.00,9,  -999.0,     176,    19.8217, -999.00,9,     -999.0
  33KB280_1,       PRS2,       2,          5,          6,       8006,2,20160113,       0259,  22.730500,-158.0273333,       4744,   199.2,  18.8573,  34.9496,2,  34.9502,2,    193.4,1,  -999.0,9, -999.00,9, -999.00,9,  -999.0,     198,    18.8220, -999.00,9,     -999.0
  33KB280_1,       PRS2,       2,          5,          5,       8005,2,20160113,       0259,  22.730500,-158.0273333,       4744,   249.3,  17.3911,  34.7509,2,  34.7594,2,    193.4,1,  -999.0,9, -999.00,9, -999.00,9,  -999.0,     251,    17.3493, -999.00,9,     -999.0
  33KB280_1,       PRS2,       2,          5,          4,       8059,2,20160113,       0259,  22.730500,-158.0273333,       4744,   349.4,  11.2756,  34.1550,2,  34.1585,2,    198.2,1,  -999.0,9, -999.00,9, -999.00,9,  -999.0,     350,    11.2320, -999.00,9,     -999.0
  33KB280_1,       PRS2,       2,          5,          3,       8003,2,20160113,       0259,  22.730500,-158.0273333,       4744,   348.9,  11.2726,  34.1555,2,  34.1587,2,    186.5,1,  -999.0,9, -999.00,9, -999.00,9,  -999.0,     351,    11.2290, -999.00,9,     -999.0
  33KB280_1,       PRS2,       2,          5,          2,       8002,2,20160113,       0259,  22.730500,-158.0273333,       4744,   502.2,   7.3483,  34.1119,2,  34.1129,2,     94.9,1,  -999.0,9, -999.00,9, -999.00,9,  -999.0,     502,     7.2996, -999.00,9,     -999.0
  33KB280_1,       PRS2,       2,          5,          1,       8001,2,20160113,       0259,  22.730500,-158.0273333,       4744,  1020.1,   4.0238,  34.4810,2,  34.4830,2,     45.1,1,  -999.0,9, -999.00,9, -999.00,9,  -999.0,    1019,     3.9463, -999.00,9,     -999.0