BOTTLE,20201027SIOCCHSCD
EXPOCODE,SECT_ID,STNNBR,CASTNO,SAMPNO,BTLNBR,BTLNBR_FLAG_W,DATE,TIME,LATITUDE,LONGITUDE,DEPTH,CTDPRS,CTDTMP,CTDSAL,CTDSAL_FLAG_W,SALNTY,SALNTY_FLAG_W,CTDOXY,CTDOXY_FLAG_W,OXYGEN,OXYGEN_FLAG_W,SILCAT,SILCAT_FLAG_W,PHSPHT,PHSPHT_FLAG_W,REVPRS,CTDRAW,THETA,NO2+NO3,NO2+NO3_FLAG_W,REVTMP
,,,,,,,,,,,METERS,DBAR,ITS-90,PSS-78,,PSS-78,,UMOL/KG,,UMOL/KG,,UMOL/KG,,UMOL/KG,,DBAR,DBAR,ITS-90,UMOL/KG,,DEG C
  33KB280_1,       PRS2,       2,          9,         14,       8014,2,20160113,       1450,  22.750333,-157.9990000,       4740,     5.0,  24.9819,  34.9389,2,  34.9392,2,    204.0,1,  -999.0,9, -999.00,9, -999.00,9,  -999.0,       6,    24.9809, -999.00,9,     -999.0
  33KB280_1,       PRS2,       2,          9,         13,       8025,2,20160113,       1450,  22.750333,-157.9990000,       4740,    25.1,  24.9388,  34.9411,2,-999.0000,5,    204.6,1,  -999.0,9, -999.00,9, -999.00,9,  -999.0,      25,    24.9333, -999.00,9,     -999.0
  33KB280_1,       PRS2,       2,          9,         12,       8012,2,20160113,       1450,  22.750333,-157.9990000,       4740,    25.0,  24.9375,  34.9413,2,-999.0000,5,    204.2,1,  -999.0,9, -999.00,9, -999.00,9,  -999.0,      25,    24.9321, -999.00,9,     -999.0
  33KB280_1,       PRS2,       2,          9,         11,       8011,2,20160113,       1450,  22.750333,-157.9990000,       4740,    24.9,  24.9365,  34.9415,2,-999.0000,5,    204.6,1,  -999.0,9, -999.00,9, -999.00,9,  -999.0,      26,    24.9312, -999.00,9,     -999.0
  33KB280_1,       PRS2,       2,          9,         10,       8010,2,20160113,       1450,  22.750333,-157.9990000,       4740,    25.1,  24.9364,  34.9417,2,-999.0000,5,    205.5,1,  -999.0,9, -999.00,9, -999.00,9,  -999.0,      26,    24.9310, -999.00,9,     -999.0
  33KB280_1,       PRS2,       2,          9,          9,       8009,2,20160113,       1450,  22.750333,-157.9990000,       4740,    25.1,  24.9360,  34.9420,2,-999.0000,5,    204.5,1,  -999.0,9, -999.00,9, -999.00,9,  -999.0,      25,    24.9306, -999.00,9,     -999.0
  33KB280_1,       PRS2,       2,          9,          8,       8008,2,20160113,       1450,  22.750333,-157.9990000,       4740,    24.9,  24.9357,  34.9422,2,-999.0000,5,    204.2,1,  -999.0,9, -999.00,9, -999.00,9,  -999.0,      24,    24.9304, -999.00,9,     -999.0
  33KB280_1,       PRS2,       2,          9,          7,       8060,2,20160113,       1450,  22.750333,-157.9990000,       4740,    24.7,  24.9362,  34.9418,2,-999.0000,5,    204.9,1,  -999.0,9, -999.00,9, -999.00,9,  -999.0,      24,    24.9308, -999.00,9,     -999.0
  33KB280_1,       PRS2,       2,          9,          6,       8006,2,20160113,       1450,  22.750333,-157.9990000,       4740,   200.4,  19.6835,  35.0624,2,-999.0000,5,    195.5,1,  -999.0,9, -999.00,9, -999.00,9,  -999.0,     200,    19.6468, -999.00,9,     -999.0
  33KB280_1,       PRS2,       2,          9,          5,       8005,2,20160113,       1450,  22.750333,-157.9990000,       4740,   225.0,  17.9281,  34.8205,2,-999.0000,5,    190.6,1,  -999.0,9, -999.00,9, -999.00,9,  -999.0,     227,    17.8896, -999.00,9,     -999.0
  33KB280_1,       PRS2,       2,          9,          4,       8059,2,20160113,       1450,  22.750333,-157.9990000,       4740,   249.1,  15.3721,  34.5210,2,-999.0000,5,    201.9,1,  -999.0,9, -999.00,9, -999.00,9,  -999.0,     248,    15.3339, -999.00,9,     -999.0
  33KB280_1,       PRS2,       2,          9,          3,       8003,2,20160113,       1450,  22.750333,-157.9990000,       4740,   275.2,  13.4134,  34.2725,2,-999.0000,5,    195.2,1,  -999.0,9, -999.00,9, -999.00,9,  -999.0,     275,    13.3749, -999.00,9,     -999.0
  33KB280_1,       PRS2,       2,          9,          2,       8002,2,20160113,       1450,  22.750333,-157.9990000,       4740,   405.3,   9.1755,  34.0887,2,  34.0882,2,    161.1,1,  -999.0,9, -999.00,9, -999.00,9,  -999.0,     405,     9.1309, -999.00,9,     -999.0
  33KB280_1,       PRS2,       2,          9,          1,       8001,2,20160113,       1450,  22.750333,-157.9990000,       4740,  1020.4,   4.0410,  34.4786,2,  34.4799,2,     44.9,1,  -999.0,9, -999.00,9, -999.00,9,  -999.0,    1020,     3.9634, -999.00,9,     -999.0
  33KB280_1,       PRS2,       2,         10,         19,       8019,2,20160113,       1752,  22.689833,-157.9715000,       4744,     8.2,  24.9234,  34.8860,2,-999.0000,5,    205.1,1,  -999.0,9, -999.00,9, -999.00,9,  -999.0,       8,    24.9216, -999.00,9,     -999.0
  33KB280_1,       PRS2,       2,         10,         18,       8018,2,20160113,       1752,  22.689833,-157.9715000,       4744,     8.2,  24.9236,  34.8861,2,-999.0000,5,    204.8,1,  -999.0,9, -999.00,9, -999.00,9,  -999.0,       7,    24.9219, -999.00,9,     -999.0
  33KB280_1,       PRS2,       2,         10,         17,       8017,2,20160113,       1752,  22.689833,-157.9715000,       4744,     8.2,  24.9249,  34.8862,2,  34.8857,2,    204.6,1,  -999.0,9, -999.00,9, -999.00,9,  -999.0,       8,    24.9232, -999.00,9,     -999.0
  33KB280_1,       PRS2,       2,         10,         16,       8016,2,20160113,       1752,  22.689833,-157.9715000,       4744,    24.0,  24.9222,  34.8849,2,-999.0000,5,    204.5,1,  -999.0,9, -999.00,9, -999.00,9,  -999.0,      26,    24.9170, -999.00,9,     -999.0
  33KB280_1,       PRS2,       2,         10,         15,       8015,2,20160113,       1752,  22.689833,-157.9715000,       4744,    24.4,  24.9232,  34.8853,2,-999.0000,5,    204.5,1,  -999.0,9, -999.00,9, -999.00,9,  -999.0,      24,    24.9179, -999.00,9,     -999.0
  33KB280_1,       PRS2,       2,         10,         14,       8014,2,20160113,       1752,  22.689833,-157.9715000,       4744,    24.8,  24.9238,  34.8856,2,-999.0000,5,    204.5,1,  -999.0,9, -999.00,9, -999.00,9,  -999.0,      24,    24.9185, -999.00,9,     -999.0
  33KB280_1,       PRS2,       2,         10,         13,       8025,2,20160113,       1752,  22.689833,-157.9715000,       4744,    24.7,  24.9240,  34.8856,2,-999.0000,5,    204.8,1,  -999.0,9, -999.00,9, -999.00,9,  -999.0,      25,    24.9187, -999.00,9,     -999.0
  33KB280_1,       PRS2,       2,         10,         12,       8012,2,20160113,       1752,  22.689833,-157.9715000,       4744,    24.7,  24.9240,  34.8856,2,-999.0000,5,    205.3,1,  -999.0,9, -999.00,9, -999.00,9,  -999.0,      25,    24.9186, -999.00,9,     -999.0
  33KB280_1,       PRS2,       2,         10,         11,       8011,2,20160113,       1752,  22.689833,-157.9715000,       4744,    24.7,  24.9235,  34.8854,2,-999.0000,5,    204.4,1,  -999.0,9, -999.00,9, -999.00,9,  -999.0,      25,    24.9182, -999.00,9,     -999.0
  33KB280_1,       PRS2,       2,         10,         10,       8010,2,20160113,       1752,  22.689833,-157.9715000,       4744,    24.7,  24.9227,  34.8857,2,  34.8855,2,    204.2,1,  -999.0,9, -999.00,9, -999.00,9,  -999.0,      25,    24.9173, -999.00,9,     -999.0
  33KB280_1,       PRS2,       2,         10,          9,       8009,2,20160113,       1752,  22.689833,-157.9715000,       4744,    44.9,  24.9392,  34.9051,2,-999.0000,5,    204.2,1,  -999.0,9, -999.00,9, -999.00,9,  -999.0,      46,    24.9295, -999.00,9,     -999.0
  33KB280_1,       PRS2,       2,         10,          8,       8008,2,20160113,       1752,  22.689833,-157.9715000,       4744,    45.1,  24.9391,  34.9049,2,  34.9052,2,    204.3,1,  -999.0,9, -999.00,9, -999.00,9,  -999.0,      45,    24.9293, -999.00,9,     -999.0
  33KB280_1,       PRS2,       2,         10,          7,       8060,2,20160113,       1752,  22.689833,-157.9715000,       4744,    74.7,  24.9442,  34.9225,2,  34.9278,2,    204.4,1,  -999.0,9, -999.00,9, -999.00,9,  -999.0,      73,    24.9281, -999.00,9,     -999.0
  33KB280_1,       PRS2,       2,         10,          6,       8006,2,20160113,       1752,  22.689833,-157.9715000,       4744,    98.4,  24.7431,  35.0457,2,  35.0350,2,    204.4,1,  -999.0,9, -999.00,9, -999.00,9,  -999.0,      99,    24.7219, -999.00,9,     -999.0
  33KB280_1,       PRS2,       2,         10,          5,       8005,2,20160113,       1752,  22.689833,-157.9715000,       4744,   125.4,  23.3488,  35.2037,2,  35.2030,2,    203.8,1,  -999.0,9, -999.00,9, -999.00,9,  -999.0,     124,    23.3229, -999.00,9,     -999.0
  33KB280_1,       PRS2,       2,         10,          4,       8059,2,20160113,       1752,  22.689833,-157.9715000,       4744,   152.6,  21.6837,  35.1992,2,  35.2010,2,    198.0,1,  -999.0,9, -999.00,9, -999.00,9,  -999.0,     151,    21.6538, -999.00,9,     -999.0
  33KB280_1,       PRS2,       2,         10,          3,       8003,2,20160113,       1752,  22.689833,-157.9715000,       4744,   175.3,  20.6218,  35.1587,2,  35.1614,2,    196.3,1,  -999.0,9, -999.00,9, -999.00,9,  -999.0,     174,    20.5887, -999.00,9,     -999.0
  33KB280_1,       PRS2,       2,         10,          2,       8002,2,20160113,       1752,  22.689833,-157.9715000,       4744,   389.3,   9.7086,  34.1073,2,  34.1056,2,    173.4,1,  -999.0,9, -999.00,9, -999.00,9,  -999.0,     390,     9.6643, -999.00,9,     -999.0
  33KB280_1,       PRS2,       2,         10,          1,       8001,2,20160113,       1752,  22.689833,-157.9715000,       4744,  1019.7,   3.9936,  34.4873,2,  34.4887,2,     45.4,1,  -999.0,9, -999.00,9, -999.00,9,  -999.0,    1020,     3.9164, -999.00,9,     -999.0
  33KB280_1,       PRS2,       2,         11,         14,       8014,2,20160113,       2125,  22.679833,-157.9808333,       4741,     7.6,  24.9472,  34.8877,2,  34.8867,2,    203.9,1,  -999.0,9, -999.00,9, -999.00,9,  -999.0,       8,    24.9456, -999.00,9,     -999.0
  33KB280_1,       PRS2,       2,         11,         13,       8025,2,20160113,       2125,  22.679833,-157.9808333,       4741,     7.3,  24.9306,  34.8872,2,-999.0000,5,    204.3,1,  -999.0,9, -999.00,9, -999.00,9,  -999.0,       9,    24.9290, -999.00,9,     -999.0
  33KB280_1,       PRS2,       2,         11,         12,       8012,2,20160113,       2125,  22.679833,-157.9808333,       4741,    23.9,  24.9182,  34.8872,2,-999.0000,5,    204.0,1,  -999.0,9, -999.00,9, -999.00,9,  -999.0,      22,    24.9130, -999.00,9,     -999.0
  33KB280_1,       PRS2,       2,         11,         11,       8011,2,20160113,       2125,  22.679833,-157.9808333,       4741,    23.6,  24.9185,  34.8873,2,-999.0000,5,    204.4,1,  -999.0,9, -999.00,9, -999.00,9,  -999.0,      24,    24.9134, -999.00,9,     -999.0
  33KB280_1,       PRS2,       2,         11,         10,       8010,2,20160113,       2125,  22.679833,-157.9808333,       4741,    23.4,  24.9192,  34.8869,2,-999.0000,5,    204.7,1,  -999.0,9, -999.00,9, -999.00,9,  -999.0,      25,    24.9142, -999.00,9,     -999.0
  33KB280_1,       PRS2,       2,         11,          9,       8009,2,20160113,       2125,  22.679833,-157.9808333,       4741,    23.5,  24.9193,  34.8870,2,-999.0000,5,    205.1,1,  -999.0,9, -999.00,9, -999.00,9,  -999.0,      26,    24.9142, -999.00,9,     -999.0
  33KB280_1,       PRS2,       2,         11,          8,       8008,2,20160113,       2125,  22.679833,-157.9808333,       4741,    44.7,  24.9277,  34.9094,2,-999.0000,5,    204.8,1,  -999.0,9, -999.00,9, -999.00,9,  -999.0,      44,    24.9181, -999.00,9,     -999.0
  33KB280_1,       PRS2,       2,         11,          7,       8060,2,20160113,       2125,  22.679833,-157.9808333,       4741,    74.8,  24.8045,  35.0113,2,-999.0000,5,    204.6,1,  -999.0,9, -999.00,9, -999.00,9,  -999.0,      74,    24.7884, -999.00,9,     -999.0
  33KB280_1,       PRS2,       2,         11,          6,       8006,2,20160113,       2125,  22.679833,-157.9808333,       4741,   100.5,  23.0046,  35.2149,2,-999.0000,5,    203.0,1,  -999.0,9, -999.00,9, -999.00,9,  -999.0,     100,    22.9841, -999.00,9,     -999.0
  33KB280_1,       PRS2,       2,         11,          5,       8005,2,20160113,       2125,  22.679833,-157.9808333,       4741,   125.1,  22.3716,  35.2208,2,-999.0000,5,    200.1,1,  -999.0,9, -999.00,9, -999.00,9,  -999.0,     126,    22.3465, -999.00,9,     -999.0
  33KB280_1,       PRS2,       2,         11,          4,       8059,2,20160113,       2125,  22.679833,-157.9808333,       4741,   148.5,  21.4662,  35.1954,2,-999.0000,5,    197.8,1,  -999.0,9, -999.00,9, -999.00,9,  -999.0,     150,    21.4373, -999.00,9,     -999.0
  33KB280_1,       PRS2,       2,         11,          3,       8003,2,20160113,       2125,  22.679833,-157.9808333,       4741,   174.7,  20.4672,  35.1481,2,-999.0000,5,    194.5,1,  -999.0,9, -999.00,9, -999.00,9,  -999.0,     175,    20.4343, -999.00,9,     -999.0
  33KB280_1,       PRS2,       2,         11,          2,       8002,2,20160113,       2125,  22.679833,-157.9808333,       4741,   360.9,   9.6243,  34.0994,2,  34.0983,2,    170.0,1,  -999.0,9, -999.00,9, -999.00,9,  -999.0,     359,     9.5835, -999.00,9,     -999.0
  33KB280_1,       PRS2,       2,         11,          1,       8001,2,20160113,       2125,  22.679833,-157.9808333,       4741,  1020.6,   4.0457,  34.4854,2,  34.4866,2,     44.3,1,  -999.0,9, -999.00,9, -999.00,9,  -999.0,    1019,     3.9680, -999.00,9,     -999.0
  33KB280_1,       PRS2,       2,         12,         21,       8021,2,20160113,       2345,  22.688667,-157.9718333,       4751,     5.1,  25.1022,  34.8997,2,-999.0000,5,    204.4,1,  -999.0,9, -999.00,9, -999.00,9,  -999.0,       5,    25.1011, -999.00,9,     -999.0
  33KB280_1,       PRS2,       2,         12,         20,       8020,2,20160113,       2345,  22.688667,-157.9718333,       4751,     5.1,  25.0921,  34.8995,2,  34.8979,2,    205.7,1,  -999.0,9, -999.00,9, -999.00,9,  -999.0,       5,    25.0910, -999.00,9,     -999.0
  33KB280_1,       PRS2,       2,         12,         19,       8019,2,20160113,       2345,  22.688667,-157.9718333,       4751,    24.8,  24.9506,  34.8963,2,-999.0000,5,    204.6,1,  -999.0,9, -999.00,9, -999.00,9,  -999.0,      23,    24.9452, -999.00,9,     -999.0
  33KB280_1,       PRS2,       2,         12,         18,       8018,2,20160113,       2345,  22.688667,-157.9718333,       4751,    24.8,  24.9506,  34.8966,2,  34.8963,2,    205.1,1,  -999.0,9, -999.00,9, -999.00,9,  -999.0,      23,    24.9452, -999.00,9,     -999.0
  33KB280_1,       PRS2,       2,         12,         17,       8017,2,20160113,       2345,  22.688667,-157.9718333,       4751,    45.9,  24.9242,  34.9067,2,  34.9071,2,    204.1,1,  -999.0,9, -999.00,9, -999.00,9,  -999.0,      46,    24.9143, -999.00,9,     -999.0
  33KB280_1,       PRS2,       2,         12,         16,       8016,2,20160113,       2345,  22.688667,-157.9718333,       4751,    74.6,  24.0673,  35.1626,2,  35.1612,2,    205.2,1,  -999.0,9, -999.00,9, -999.00,9,  -999.0,      76,    24.0516, -999.00,9,     -999.0
  33KB280_1,       PRS2,       2,         12,         15,       8015,2,20160113,       2345,  22.688667,-157.9718333,       4751,   100.9,  22.6904,  35.2213,2,  35.2205,2,    202.4,1,  -999.0,9, -999.00,9, -999.00,9,  -999.0,     100,    22.6700, -999.00,9,     -999.0
  33KB280_1,       PRS2,       2,         12,         14,       8014,2,20160113,       2345,  22.688667,-157.9718333,       4751,   125.1,  21.5286,  35.1996,2,  35.1969,2,    198.3,1,  -999.0,9, -999.00,9, -999.00,9,  -999.0,     125,    21.5042, -999.00,9,     -999.0
  33KB280_1,       PRS2,       2,         12,         13,       8025,2,20160113,       2345,  22.688667,-157.9718333,       4751,   149.9,  20.5798,  35.1522,2,  35.1498,2,    194.0,1,  -999.0,9, -999.00,9, -999.00,9,  -999.0,     150,    20.5516, -999.00,9,     -999.0
  33KB280_1,       PRS2,       2,         12,         12,       8012,2,20160113,       2345,  22.688667,-157.9718333,       4751,   250.5,  13.5748,  34.2702,2,  34.2746,2,    187.5,1,  -999.0,9, -999.00,9, -999.00,9,  -999.0,     250,    13.5395, -999.00,9,     -999.0
  33KB280_1,       PRS2,       2,         12,         11,       8011,2,20160113,       2345,  22.688667,-157.9718333,       4751,   300.2,  11.8807,  34.1617,2,-999.0000,5,    183.6,1,  -999.0,9, -999.00,9, -999.00,9,  -999.0,     300,    11.8419, -999.00,9,     -999.0
  33KB280_1,       PRS2,       2,         12,         10,       8010,2,20160113,       2345,  22.688667,-157.9718333,       4751,   300.1,  11.8702,  34.1597,2,-999.0000,5,    183.2,1,  -999.0,9, -999.00,9, -999.00,9,  -999.0,     301,    11.8315, -999.00,9,     -999.0
  33KB280_1,       PRS2,       2,         12,          9,       8009,2,20160113,       2345,  22.688667,-157.9718333,       4751,   350.7,  10.1562,  34.1041,2,  34.1052,2,    186.7,1,  -999.0,9, -999.00,9, -999.00,9,  -999.0,     352,    10.1152, -999.00,9,     -999.0
  33KB280_1,       PRS2,       2,         12,          8,       8008,2,20160113,       2345,  22.688667,-157.9718333,       4751,   380.8,   9.5512,  34.0952,2,  34.0946,2,    168.3,1,  -999.0,9, -999.00,9, -999.00,9,  -999.0,     380,     9.5084, -999.00,9,     -999.0
  33KB280_1,       PRS2,       2,         12,          7,       8060,2,20160113,       2345,  22.688667,-157.9718333,       4751,   399.9,   9.0527,  34.1109,2,-999.0000,5,    147.2,1,  -999.0,9, -999.00,9, -999.00,9,  -999.0,     398,     9.0091, -999.00,9,     -999.0
  33KB280_1,       PRS2,       2,         12,          6,       8006,2,20160113,       2345,  22.688667,-157.9718333,       4751,   399.9,   9.0518,  34.1108,2,-999.0000,5,    137.5,1,  -999.0,9, -999.00,9, -999.00,9,  -999.0,     399,     9.0082, -999.00,9,     -999.0
  33KB280_1,       PRS2,       2,         12,          5,       8005,2,20160113,       2345,  22.688667,-157.9718333,       4751,   499.4,   6.8350,  34.1668,2,-999.0000,5,     69.2,1,  -999.0,9, -999.00,9, -999.00,9,  -999.0,     498,     6.7885, -999.00,9,     -999.0
  33KB280_1,       PRS2,       2,         12,          4,       8059,2,20160113,       2345,  22.688667,-157.9718333,       4751,   499.2,   6.7897,  34.1631,2,-999.0000,5,     69.2,1,  -999.0,9, -999.00,9, -999.00,9,  -999.0,     498,     6.7433, -999.00,9,     -999.0
  33KB280_1,       PRS2,       2,         12,          3,       8003,2,20160113,       2345,  22.688667,-157.9718333,       4751,   770.5,   4.7103,  34.3167,2,-999.0000,5,     32.7,1,  -999.0,9, -999.00,9, -999.00,9,  -999.0,     770,     4.6493, -999.00,9,     -999.0
  33KB280_1,       PRS2,       2,         12,          2,       8002,2,20160113,       2345,  22.688667,-157.9718333,       4751,   770.6,   4.7033,  34.3189,2,-999.0000,5,     32.8,1,  -999.0,9, -999.00,9, -999.00,9,  -999.0,     769,     4.6424, -999.00,9,     -999.0
  33KB280_1,       PRS2,       2,         12,          1,       8001,2,20160113,       2345,  22.688667,-157.9718333,       4751,  1021.0,   4.0665,  34.4817,2,  34.4832,2,     44.0,1,  -999.0,9, -999.00,9, -999.00,9,  -999.0,    1021,     3.9886, -999.00,9,     -999.0