BOTTLE,20201027SIOCCHSCD
EXPOCODE,SECT_ID,STNNBR,CASTNO,SAMPNO,BTLNBR,BTLNBR_FLAG_W,DATE,TIME,LATITUDE,LONGITUDE,DEPTH,CTDPRS,CTDTMP,CTDSAL,CTDSAL_FLAG_W,SALNTY,SALNTY_FLAG_W,CTDOXY,CTDOXY_FLAG_W,OXYGEN,OXYGEN_FLAG_W,SILCAT,SILCAT_FLAG_W,PHSPHT,PHSPHT_FLAG_W,REVPRS,CTDRAW,THETA,NO2+NO3,NO2+NO3_FLAG_W,REVTMP
,,,,,,,,,,,METERS,DBAR,ITS-90,PSS-78,,PSS-78,,UMOL/KG,,UMOL/KG,,UMOL/KG,,UMOL/KG,,DBAR,DBAR,ITS-90,UMOL/KG,,DEG C
  33KB280_1,       PRS2,       1,          1,         24,       8058,2,20160112,       0010,  21.342667,-158.2731667,       1566,     6.9,  25.8151,  34.6020,2,-999.0000,5,    204.1,2,   204.3,2, -999.00,9, -999.00,9,  -999.0,       7,    25.8135, -999.00,9,     -999.0
  33KB280_1,       PRS2,       1,          1,         23,       8023,2,20160112,       0010,  21.342667,-158.2731667,       1566,     6.9,  25.8196,  34.6019,2,  34.6028,2,    204.2,2,   204.4,2, -999.00,9, -999.00,9,  -999.0,       7,    25.8180, -999.00,9,     -999.0
  33KB280_1,       PRS2,       1,          1,         22,       8022,2,20160112,       0010,  21.342667,-158.2731667,       1566,    26.4,  25.8071,  34.6018,2,  34.6036,2,    204.1,2,   204.2,2, -999.00,9, -999.00,9,  -999.0,      26,    25.8012, -999.00,9,     -999.0
  33KB280_1,       PRS2,       1,          1,         21,       8021,2,20160112,       0010,  21.342667,-158.2731667,       1566,    45.4,  25.8077,  34.6022,2,  34.6036,2,    203.7,2,   204.3,2, -999.00,9, -999.00,9,  -999.0,      45,    25.7976, -999.00,9,     -999.0
  33KB280_1,       PRS2,       1,          1,         20,       8020,2,20160112,       0010,  21.342667,-158.2731667,       1566,    61.3,  25.9806,  34.7714,2,  34.7569,3,    204.6,3,   204.5,2, -999.00,9, -999.00,9,  -999.0,      61,    25.9669, -999.00,9,     -999.0
  33KB280_1,       PRS2,       1,          1,         19,       8019,2,20160112,       0010,  21.342667,-158.2731667,       1566,    74.9,  25.7890,  35.0688,2,  35.0665,2,    208.3,2,   208.6,2, -999.00,9, -999.00,9,  -999.0,      74,    25.7724, -999.00,9,     -999.0
  33KB280_1,       PRS2,       1,          1,         18,       8018,2,20160112,       0010,  21.342667,-158.2731667,       1566,   100.0,  24.5627,  35.2041,2,  35.2052,2,    209.4,2,   209.6,2, -999.00,9, -999.00,9,  -999.0,      99,    24.5413, -999.00,9,     -999.0
  33KB280_1,       PRS2,       1,          1,         17,       8017,2,20160112,       0010,  21.342667,-158.2731667,       1566,   116.5,  23.8551,  35.2451,2,  35.2465,2,    210.2,2,   209.7,2, -999.00,9, -999.00,9,  -999.0,     117,    23.8307, -999.00,9,     -999.0
  33KB280_1,       PRS2,       1,          1,         16,       8016,2,20160112,       0010,  21.342667,-158.2731667,       1566,   125.2,  23.2999,  35.2568,2,  35.2576,2,    209.1,2,   208.9,2, -999.00,9, -999.00,9,  -999.0,     125,    23.2741, -999.00,9,     -999.0
  33KB280_1,       PRS2,       1,          1,         15,       8015,2,20160112,       0010,  21.342667,-158.2731667,       1566,   150.4,  21.7235,  35.2406,2,  35.2404,2,    203.1,2,   201.7,2, -999.00,9, -999.00,9,  -999.0,     151,    21.6940, -999.00,9,     -999.0
  33KB280_1,       PRS2,       1,          1,         14,       8014,2,20160112,       0010,  21.342667,-158.2731667,       1566,   174.4,  20.6400,  35.1488,2,  35.1435,2,    195.0,2,   209.3,4, -999.00,9, -999.00,9,  -999.0,     173,    20.6070, -999.00,9,     -999.0
  33KB280_1,       PRS2,       1,          1,         13,       8025,2,20160112,       0010,  21.342667,-158.2731667,       1566,   201.1,  19.3603,  35.0187,2,  35.0323,2,    193.5,2,   193.6,2, -999.00,9, -999.00,9,  -999.0,     201,    19.3239, -999.00,9,     -999.0
  33KB280_1,       PRS2,       1,          1,         12,       8012,2,20160112,       0010,  21.342667,-158.2731667,       1566,   224.8,  16.7766,  34.6862,2,  34.6824,2,    192.3,2,   192.2,2, -999.00,9, -999.00,9,  -999.0,     224,    16.7399, -999.00,9,     -999.0
  33KB280_1,       PRS2,       1,          1,         11,       8011,2,20160112,       0010,  21.342667,-158.2731667,       1566,   250.3,  14.4670,  34.4337,2,  34.4334,2,    187.8,2,   188.5,2, -999.00,9, -999.00,9,  -999.0,     250,    14.4301, -999.00,9,     -999.0
  33KB280_1,       PRS2,       1,          1,         10,       8010,2,20160112,       0010,  21.342667,-158.2731667,       1566,   301.2,  11.5681,  34.1910,2,  34.1942,2,    182.8,2,   183.0,2, -999.00,9, -999.00,9,  -999.0,     300,    11.5299, -999.00,9,     -999.0
  33KB280_1,       PRS2,       1,          1,          9,       8009,2,20160112,       0010,  21.342667,-158.2731667,       1566,   349.9,   9.2732,  34.1190,2,  34.1183,2,    151.2,2,   152.5,2, -999.00,9, -999.00,9,  -999.0,     350,     9.2346, -999.00,9,     -999.0
  33KB280_1,       PRS2,       1,          1,          8,       8008,2,20160112,       0010,  21.342667,-158.2731667,       1566,   401.2,   8.2422,  34.1287,2,  34.1264,2,    117.1,2,   115.2,2, -999.00,9, -999.00,9,  -999.0,     401,     8.2009, -999.00,9,     -999.0
  33KB280_1,       PRS2,       1,          1,          7,       8060,2,20160112,       0010,  21.342667,-158.2731667,       1566,   499.3,   6.7124,  34.1695,2,  34.1687,2,     73.7,2,    73.3,2, -999.00,9, -999.00,9,  -999.0,     500,     6.6663, -999.00,9,     -999.0
  33KB280_1,       PRS2,       1,          1,          6,       8006,2,20160112,       0010,  21.342667,-158.2731667,       1566,   600.5,   5.7480,  34.2300,2,  34.2289,2,     45.5,2,    45.0,2, -999.00,9, -999.00,9,  -999.0,     601,     5.6965, -999.00,9,     -999.0
  33KB280_1,       PRS2,       1,          1,          5,       8005,2,20160112,       0010,  21.342667,-158.2731667,       1566,   700.3,   5.1617,  34.3321,2,  34.3319,2,     37.0,2,    36.9,2, -999.00,9, -999.00,9,  -999.0,     699,     5.1042, -999.00,9,     -999.0
  33KB280_1,       PRS2,       1,          1,          4,       8059,2,20160112,       0010,  21.342667,-158.2731667,       1566,   750.6,   4.9176,  34.3934,2,  34.3933,2,     37.8,2,    37.7,2, -999.00,9, -999.00,9,  -999.0,     750,     4.8570, -999.00,9,     -999.0
  33KB280_1,       PRS2,       1,          1,          3,       8003,2,20160112,       0010,  21.342667,-158.2731667,       1566,   799.4,   4.7231,  34.4298,2,  34.4304,2,     40.0,2,    40.3,2, -999.00,9, -999.00,9,  -999.0,     798,     4.6595, -999.00,9,     -999.0
  33KB280_1,       PRS2,       1,          1,          2,       8002,2,20160112,       0010,  21.342667,-158.2731667,       1566,   900.6,   4.4226,  34.4692,2,  34.4695,2,     44.1,2,    44.4,2, -999.00,9, -999.00,9,  -999.0,     899,     4.3523, -999.00,9,     -999.0
  33KB280_1,       PRS2,       1,          1,          1,       8001,2,20160112,       0010,  21.342667,-158.2731667,       1566,  1020.3,   3.9743,  34.5036,2,  34.5031,2,     48.9,2,    49.6,2, -999.00,9, -999.00,9,  -999.0,    1020,     3.8971, -999.00,9,     -999.0
  33KB280_1,       PRS2,       2,          1,         22,       8022,2,20160112,       1151,  22.749333,-158.0170000,       4741,     7.4,  24.9950,  34.9281,2,  34.9290,2,    206.5,1,  -999.0,9, -999.00,9, -999.00,9,  -999.0,       7,    24.9934, -999.00,9,     -999.0
  33KB280_1,       PRS2,       2,          1,         21,       8021,2,20160112,       1151,  22.749333,-158.0170000,       4741,     7.4,  24.9923,  34.9279,2,  34.9290,2,    206.3,1,  -999.0,9, -999.00,9, -999.00,9,  -999.0,       8,    24.9907, -999.00,9,     -999.0
  33KB280_1,       PRS2,       2,          1,         20,       8020,2,20160112,       1151,  22.749333,-158.0170000,       4741,     7.4,  24.9922,  34.9280,2,  34.9286,2,    206.0,1,  -999.0,9, -999.00,9, -999.00,9,  -999.0,       7,    24.9906, -999.00,9,     -999.0
  33KB280_1,       PRS2,       2,          1,         19,       8019,2,20160112,       1151,  22.749333,-158.0170000,       4741,    24.8,  24.9948,  34.9268,2,  34.9274,2,    206.7,1,  -999.0,9, -999.00,9, -999.00,9,  -999.0,      26,    24.9894, -999.00,9,     -999.0
  33KB280_1,       PRS2,       2,          1,         18,       8018,2,20160112,       1151,  22.749333,-158.0170000,       4741,    24.9,  24.9955,  34.9269,2,  34.9266,2,    206.7,1,  -999.0,9, -999.00,9, -999.00,9,  -999.0,      25,    24.9901, -999.00,9,     -999.0
  33KB280_1,       PRS2,       2,          1,         17,       8017,2,20160112,       1151,  22.749333,-158.0170000,       4741,    25.2,  24.9961,  34.9270,2,  34.9262,2,    206.9,1,  -999.0,9, -999.00,9, -999.00,9,  -999.0,      25,    24.9907, -999.00,9,     -999.0
  33KB280_1,       PRS2,       2,          1,         16,       8016,2,20160112,       1151,  22.749333,-158.0170000,       4741,    44.8,  24.9867,  34.9251,2,  34.9256,2,    206.4,1,  -999.0,9, -999.00,9, -999.00,9,  -999.0,      46,    24.9770, -999.00,9,     -999.0
  33KB280_1,       PRS2,       2,          1,         15,       8015,2,20160112,       1151,  22.749333,-158.0170000,       4741,    44.8,  24.9862,  34.9248,2,  34.9254,2,    205.8,1,  -999.0,9, -999.00,9, -999.00,9,  -999.0,      47,    24.9765, -999.00,9,     -999.0
  33KB280_1,       PRS2,       2,          1,         14,       8014,2,20160112,       1151,  22.749333,-158.0170000,       4741,    45.1,  24.9864,  34.9247,2,  34.9254,2,    206.9,1,  -999.0,9, -999.00,9, -999.00,9,  -999.0,      46,    24.9766, -999.00,9,     -999.0
  33KB280_1,       PRS2,       2,          1,         13,       8025,2,20160112,       1151,  22.749333,-158.0170000,       4741,    73.4,  24.9940,  34.9338,2,  34.9359,2,    206.5,1,  -999.0,9, -999.00,9, -999.00,9,  -999.0,      72,    24.9781, -999.00,9,     -999.0
  33KB280_1,       PRS2,       2,          1,         12,       8012,2,20160112,       1151,  22.749333,-158.0170000,       4741,    73.3,  24.9937,  34.9340,2,  34.9353,2,    206.2,1,  -999.0,9, -999.00,9, -999.00,9,  -999.0,      73,    24.9778, -999.00,9,     -999.0
  33KB280_1,       PRS2,       2,          1,         11,       8011,2,20160112,       1151,  22.749333,-158.0170000,       4741,    73.2,  24.9939,  34.9343,2,  34.9360,2,    206.0,1,  -999.0,9, -999.00,9, -999.00,9,  -999.0,      73,    24.9780, -999.00,9,     -999.0
  33KB280_1,       PRS2,       2,          1,         10,       8010,2,20160112,       1151,  22.749333,-158.0170000,       4741,   100.9,  24.5945,  35.1299,2,  35.1264,2,    206.5,1,  -999.0,9, -999.00,9, -999.00,9,  -999.0,     101,    24.5728, -999.00,9,     -999.0
  33KB280_1,       PRS2,       2,          1,          9,       8009,2,20160112,       1151,  22.749333,-158.0170000,       4741,   101.2,  24.6120,  35.1258,2,  35.1282,2,    206.9,1,  -999.0,9, -999.00,9, -999.00,9,  -999.0,     101,    24.5903, -999.00,9,     -999.0
  33KB280_1,       PRS2,       2,          1,          8,       8008,2,20160112,       1151,  22.749333,-158.0170000,       4741,   101.3,  24.6410,  35.1245,2,  35.1291,2,    207.1,1,  -999.0,9, -999.00,9, -999.00,9,  -999.0,     101,    24.6193, -999.00,9,     -999.0
  33KB280_1,       PRS2,       2,          1,          7,       8060,2,20160112,       1151,  22.749333,-158.0170000,       4741,   126.2,  23.2034,  35.2219,2,  35.2213,2,    206.8,1,  -999.0,9, -999.00,9, -999.00,9,  -999.0,     126,    23.1774, -999.00,9,     -999.0
  33KB280_1,       PRS2,       2,          1,          6,       8006,2,20160112,       1151,  22.749333,-158.0170000,       4741,   126.3,  23.2008,  35.2216,2,  35.2207,2,    205.1,1,  -999.0,9, -999.00,9, -999.00,9,  -999.0,     126,    23.1748, -999.00,9,     -999.0
  33KB280_1,       PRS2,       2,          1,          5,       8005,2,20160112,       1151,  22.749333,-158.0170000,       4741,   126.4,  23.1926,  35.2217,2,  35.2207,2,    203.4,1,  -999.0,9, -999.00,9, -999.00,9,  -999.0,     125,    23.1666, -999.00,9,     -999.0
  33KB280_1,       PRS2,       2,          1,          4,       8059,2,20160112,       1151,  22.749333,-158.0170000,       4741,   149.2,  21.1279,  35.1808,2,  35.1796,2,    200.8,1,  -999.0,9, -999.00,9, -999.00,9,  -999.0,     148,    21.0992, -999.00,9,     -999.0
  33KB280_1,       PRS2,       2,          1,          3,       8003,2,20160112,       1151,  22.749333,-158.0170000,       4741,   175.9,  19.7749,  35.0789,2,  35.0709,2,    199.3,1,  -999.0,9, -999.00,9, -999.00,9,  -999.0,     175,    19.7426, -999.00,9,     -999.0
  33KB280_1,       PRS2,       2,          1,          2,       8002,2,20160112,       1151,  22.749333,-158.0170000,       4741,   421.0,   8.6921,  34.0979,2,  34.1001,2,    139.2,1,  -999.0,9, -999.00,9, -999.00,9,  -999.0,     422,     8.6472, -999.00,9,     -999.0
  33KB280_1,       PRS2,       2,          1,          1,       8001,2,20160112,       1151,  22.749333,-158.0170000,       4741,  1019.8,   3.9620,  34.4889,2,  34.4901,2,     45.2,1,  -999.0,9, -999.00,9, -999.00,9,  -999.0,    1021,     3.8850, -999.00,9,     -999.0
  33KB280_1,       PRS2,       2,          2,         24,       8058,2,20160112,       1458,  22.749667,-157.9981667,       4741,     6.2,  24.9661,  34.9359,2,  34.9366,2,    205.7,2,   206.0,2,    1.24,2,    0.06,2,  -999.0,       6,    24.9647,    0.01,2,     -999.0
  33KB280_1,       PRS2,       2,          2,         23,       8023,2,20160112,       1458,  22.749667,-157.9981667,       4741,   501.2,   7.1850,  34.1262,2,  34.1258,2,     87.9,2,  -999.0,5,   51.64,2,    2.31,2,  -999.0,     501,     7.1370,   31.76,2,     -999.0
  33KB280_1,       PRS2,       2,          2,         22,       8022,2,20160112,       1458,  22.749667,-157.9981667,       4741,   750.8,   4.8881,  34.3205,2,  34.3195,2,     32.1,2,    31.9,2,   92.34,2,    2.95,2,  -999.0,     750,     4.8277,   41.07,2,     -999.0
  33KB280_1,       PRS2,       2,          2,         21,       8021,2,20160112,       1458,  22.749667,-157.9981667,       4741,   999.6,   4.0315,  34.4814,2,  34.4815,2,     44.9,2,    44.7,2,  108.69,2,    2.98,2,  -999.0,     999,     3.9557,   41.80,2,     -999.0
  33KB280_1,       PRS2,       2,          2,         20,       8020,2,20160112,       1458,  22.749667,-157.9981667,       4741,  1200.9,   3.5284,  34.5267,2,  34.5258,2,     53.5,2,    53.0,2,  119.71,2,    2.97,2,  -999.0,    1200,     3.4401,   41.69,2,     -999.0
  33KB280_1,       PRS2,       2,          2,         19,       8019,2,20160112,       1458,  22.749667,-157.9981667,       4741,  1401.3,   3.0917,  34.5558,2,  34.5555,2,     61.2,2,    61.2,2,  129.54,2,    2.94,2,  -999.0,    1400,     2.9911,   41.47,2,     -999.0
  33KB280_1,       PRS2,       2,          2,         18,       8018,2,20160112,       1458,  22.749667,-157.9981667,       4741,  1601.5,   2.7784,  34.5785,2,  34.5785,2,     68.8,2,    67.9,2,  136.71,2,    2.93,2,  -999.0,    1600,     2.6648,   41.26,2,     -999.0
  33KB280_1,       PRS2,       2,          2,         17,       8017,2,20160112,       1458,  22.749667,-157.9981667,       4741,  1802.3,   2.4606,  34.5971,2,  34.5971,2,     77.6,2,    77.2,2,  143.23,2,    2.85,2,  -999.0,    1803,     2.3342,   40.40,2,     -999.0
  33KB280_1,       PRS2,       2,          2,         16,       8016,2,20160112,       1458,  22.749667,-157.9981667,       4741,  2000.9,   2.2420,  34.6130,2,  34.6132,2,     85.0,2,    85.2,2,  148.64,2,    2.84,2,  -999.0,    2001,     2.1019,   40.32,2,     -999.0
  33KB280_1,       PRS2,       2,          2,         15,       8015,2,20160112,       1458,  22.749667,-157.9981667,       4741,  2202.1,   2.0342,  34.6282,2,  34.6284,2,     94.4,2,    95.3,2,  152.54,2,    2.79,2,  -999.0,    2201,     1.8799,   39.75,2,     -999.0
  33KB280_1,       PRS2,       2,          2,         14,       8014,2,20160112,       1458,  22.749667,-157.9981667,       4741,  2400.9,   1.8818,  34.6385,2,  34.6384,2,    101.1,2,   101.9,2,  155.64,2,    2.75,2,  -999.0,    2399,     1.7127,   39.33,2,     -999.0
  33KB280_1,       PRS2,       2,          2,         13,       8025,2,20160112,       1458,  22.749667,-157.9981667,       4741,  2602.5,   1.7544,  34.6501,2,  34.6504,2,    108.9,2,   110.6,2,  156.70,2,    2.71,2,  -999.0,    2601,     1.5695,   38.88,2,     -999.0
  33KB280_1,       PRS2,       2,          2,         12,       8012,2,20160112,       1458,  22.749667,-157.9981667,       4741,  2801.2,   1.6712,  34.6584,2,  34.6588,2,    115.8,2,   123.2,4,  158.23,2,    2.67,2,  -999.0,    2800,     1.4696,   38.32,2,     -999.0
  33KB280_1,       PRS2,       2,          2,         11,       8011,2,20160112,       1458,  22.749667,-157.9981667,       4741,  3000.8,   1.5956,  34.6640,2,  34.6649,2,    121.4,2,   121.2,2,  159.37,2,    2.65,2,  -999.0,    3000,     1.3766,   38.00,2,     -999.0
  33KB280_1,       PRS2,       2,          2,         10,       8010,2,20160112,       1458,  22.749667,-157.9981667,       4741,  3202.2,   1.5496,  34.6696,2,  34.6696,2,    127.4,2,   127.4,2,  158.38,2,    2.46,4,  -999.0,    3202,     1.3122,   37.56,2,     -999.0
  33KB280_1,       PRS2,       2,          2,          9,       8009,2,20160112,       1458,  22.749667,-157.9981667,       4741,  3403.1,   1.5024,  34.6743,2,  34.6742,2,    134.0,2,   134.4,2,  156.57,2,    2.59,2,  -999.0,    3403,     1.2461,   37.18,2,     -999.0
  33KB280_1,       PRS2,       2,          2,          8,       8008,2,20160112,       1458,  22.749667,-157.9981667,       4741,  3601.4,   1.4787,  34.6786,2,  34.6785,2,    139.0,2,   138.9,2,  156.78,2,    2.56,2,  -999.0,    3601,     1.2027,   36.93,2,     -999.0
  33KB280_1,       PRS2,       2,          2,          7,       8060,2,20160112,       1458,  22.749667,-157.9981667,       4741,  3802.4,   1.4627,  34.6811,2,  34.6808,2,    143.8,2,   144.0,2,  153.66,2,    2.53,2,  -999.0,    3801,     1.1661,   36.55,2,     -999.0
  33KB280_1,       PRS2,       2,          2,          6,       8006,2,20160112,       1458,  22.749667,-157.9981667,       4741,  4000.9,   1.4604,  34.6834,2,  34.6834,2,    147.5,2,   146.8,2,  152.29,2,    2.52,2,  -999.0,    4001,     1.1425,   36.40,2,     -999.0
  33KB280_1,       PRS2,       2,          2,          5,       8005,2,20160112,       1458,  22.749667,-157.9981667,       4741,  4202.4,   1.4683,  34.6844,2,  34.6844,2,    149.3,2,   149.1,2,  150.56,2,    2.51,2,  -999.0,    4202,     1.1280,   36.29,2,     -999.0
  33KB280_1,       PRS2,       2,          2,          4,       8059,2,20160112,       1458,  22.749667,-157.9981667,       4741,  4402.1,   1.4825,  34.6853,2,  34.6853,2,    150.7,2,   150.3,2,  150.27,2,    2.50,2,  -999.0,    4402,     1.1193,   36.25,2,     -999.0
  33KB280_1,       PRS2,       2,          2,          3,       8003,2,20160112,       1458,  22.749667,-157.9981667,       4741,  4500.6,   1.4908,  34.6854,2,  34.6855,2,    151.1,2,   150.7,2,  150.44,2,    2.50,2,  -999.0,    4500,     1.1161,   36.14,2,     -999.0
  33KB280_1,       PRS2,       2,          2,          2,       8002,2,20160112,       1458,  22.749667,-157.9981667,       4741,  4602.8,   1.4973,  34.6857,2,  34.6857,2,    151.5,2,   151.9,2,  149.73,2,    2.49,2,  -999.0,    4602,     1.1105,   36.10,2,     -999.0
  33KB280_1,       PRS2,       2,          2,          1,       8001,2,20160112,       1458,  22.749667,-157.9981667,       4741,  4807.2,   1.5175,  34.6864,2,  34.6863,2,    157.0,2,   153.1,2,  148.39,2,    2.47,2,  -999.0,    4804,     1.1059,   36.07,2,     -999.0