BOTTLE,20201027SIOCCHSCD
EXPOCODE,SECT_ID,STNNBR,CASTNO,SAMPNO,BTLNBR,BTLNBR_FLAG_W,DATE,TIME,LATITUDE,LONGITUDE,DEPTH,CTDPRS,CTDTMP,CTDSAL,CTDSAL_FLAG_W,SALNTY,SALNTY_FLAG_W,CTDOXY,CTDOXY_FLAG_W,OXYGEN,OXYGEN_FLAG_W,SILCAT,SILCAT_FLAG_W,PHSPHT,PHSPHT_FLAG_W,REVPRS,CTDRAW,THETA,NO2+NO3,NO2+NO3_FLAG_W,REVTMP
,,,,,,,,,,,METERS,DBAR,ITS-90,PSS-78,,PSS-78,,UMOL/KG,,UMOL/KG,,UMOL/KG,,UMOL/KG,,DBAR,DBAR,ITS-90,UMOL/KG,,DEG C
  33KB280_1,       PRS2,       2,         13,         16,       8016,2,20160114,       0256,  22.680500,-157.9906667,       4747,     7.2,  25.1326,  34.9078,2,-999.0000,5,    205.2,1,  -999.0,9, -999.00,9, -999.00,9,  -999.0,       7,    25.1310, -999.00,9,     -999.0
  33KB280_1,       PRS2,       2,         13,         15,       8015,2,20160114,       0256,  22.680500,-157.9906667,       4747,     7.3,  25.1368,  34.9073,2,-999.0000,5,    204.6,1,  -999.0,9, -999.00,9, -999.00,9,  -999.0,       7,    25.1352, -999.00,9,     -999.0
  33KB280_1,       PRS2,       2,         13,         14,       8014,2,20160114,       0256,  22.680500,-157.9906667,       4747,    25.3,  24.9660,  34.9003,2,-999.0000,5,    205.1,1,  -999.0,9, -999.00,9, -999.00,9,  -999.0,      25,    24.9605, -999.00,9,     -999.0
  33KB280_1,       PRS2,       2,         13,         13,       8025,2,20160114,       0256,  22.680500,-157.9906667,       4747,    25.2,  24.9660,  34.9003,2,-999.0000,5,    205.0,1,  -999.0,9, -999.00,9, -999.00,9,  -999.0,      26,    24.9605, -999.00,9,     -999.0
  33KB280_1,       PRS2,       2,         13,         12,       8012,2,20160114,       0256,  22.680500,-157.9906667,       4747,    25.2,  24.9658,  34.9005,2,-999.0000,5,    204.8,1,  -999.0,9, -999.00,9, -999.00,9,  -999.0,      26,    24.9604, -999.00,9,     -999.0
  33KB280_1,       PRS2,       2,         13,         11,       8011,2,20160114,       0256,  22.680500,-157.9906667,       4747,    25.5,  24.9658,  34.9004,2,  34.8993,2,    205.0,1,  -999.0,9, -999.00,9, -999.00,9,  -999.0,      26,    24.9603, -999.00,9,     -999.0
  33KB280_1,       PRS2,       2,         13,         10,       8010,2,20160114,       0256,  22.680500,-157.9906667,       4747,    45.6,  24.9392,  34.9047,2,-999.0000,5,    204.4,1,  -999.0,9, -999.00,9, -999.00,9,  -999.0,      45,    24.9293, -999.00,9,     -999.0
  33KB280_1,       PRS2,       2,         13,          9,       8009,2,20160114,       0256,  22.680500,-157.9906667,       4747,    75.5,  24.9454,  34.9356,2,-999.0000,5,    204.5,1,  -999.0,9, -999.00,9, -999.00,9,  -999.0,      75,    24.9290, -999.00,9,     -999.0
  33KB280_1,       PRS2,       2,         13,          8,       8008,2,20160114,       0256,  22.680500,-157.9906667,       4747,   101.0,  24.2962,  35.1382,2,-999.0000,5,    204.7,1,  -999.0,9, -999.00,9, -999.00,9,  -999.0,     102,    24.2747, -999.00,9,     -999.0
  33KB280_1,       PRS2,       2,         13,          7,       8060,2,20160114,       0256,  22.680500,-157.9906667,       4747,   125.0,  23.2204,  35.2091,2,-999.0000,5,    203.2,1,  -999.0,9, -999.00,9, -999.00,9,  -999.0,     124,    23.1947, -999.00,9,     -999.0
  33KB280_1,       PRS2,       2,         13,          6,       8006,2,20160114,       0256,  22.680500,-157.9906667,       4747,   124.9,  23.1727,  35.2091,2,  35.2075,2,    201.8,1,  -999.0,9, -999.00,9, -999.00,9,  -999.0,     124,    23.1470, -999.00,9,     -999.0
  33KB280_1,       PRS2,       2,         13,          5,       8005,2,20160114,       0256,  22.680500,-157.9906667,       4747,   150.5,  21.6409,  35.2031,2,-999.0000,5,    198.5,1,  -999.0,9, -999.00,9, -999.00,9,  -999.0,     151,    21.6114, -999.00,9,     -999.0
  33KB280_1,       PRS2,       2,         13,          4,       8059,2,20160114,       0256,  22.680500,-157.9906667,       4747,   175.6,  20.4795,  35.1413,2,-999.0000,5,    195.1,1,  -999.0,9, -999.00,9, -999.00,9,  -999.0,     174,    20.4465, -999.00,9,     -999.0
  33KB280_1,       PRS2,       2,         13,          3,       8003,2,20160114,       0256,  22.680500,-157.9906667,       4747,   385.7,   9.8484,  34.0991,2,  34.0995,2,    176.9,1,  -999.0,9, -999.00,9, -999.00,9,  -999.0,     385,     9.8042, -999.00,9,     -999.0
  33KB280_1,       PRS2,       2,         13,          2,       8002,2,20160114,       0256,  22.680500,-157.9906667,       4747,   700.4,   4.9314,  34.2639,2,-999.0000,5,     32.5,1,  -999.0,9, -999.00,9, -999.00,9,  -999.0,     701,     4.8752, -999.00,9,     -999.0
  33KB280_1,       PRS2,       2,         13,          1,       8001,2,20160114,       0256,  22.680500,-157.9906667,       4747,  1019.4,   3.9297,  34.4928,2,  34.4936,2,     46.4,1,  -999.0,9, -999.00,9, -999.00,9,  -999.0,    1019,     3.8529, -999.00,9,     -999.0
  33KB280_1,       PRS2,       2,         14,         22,       8022,2,20160114,       0556,  22.749500,-157.9936667,       4745,     6.2,  25.0631,  34.9375,2,  34.9376,2,    204.4,1,  -999.0,9, -999.00,9, -999.00,9,  -999.0,       6,    25.0618, -999.00,9,     -999.0
  33KB280_1,       PRS2,       2,         14,         21,       8021,2,20160114,       0556,  22.749500,-157.9936667,       4745,     6.1,  25.0635,  34.9376,2,  34.9370,2,    204.8,1,  -999.0,9, -999.00,9, -999.00,9,  -999.0,       6,    25.0621, -999.00,9,     -999.0
  33KB280_1,       PRS2,       2,         14,         20,       8020,2,20160114,       0556,  22.749500,-157.9936667,       4745,    26.0,  24.9716,  34.9381,2,  34.9366,2,    204.8,1,  -999.0,9, -999.00,9, -999.00,9,  -999.0,      25,    24.9660, -999.00,9,     -999.0
  33KB280_1,       PRS2,       2,         14,         19,       8019,2,20160114,       0556,  22.749500,-157.9936667,       4745,    26.0,  24.9718,  34.9381,2,  34.9372,2,    204.2,1,  -999.0,9, -999.00,9, -999.00,9,  -999.0,      25,    24.9661, -999.00,9,     -999.0
  33KB280_1,       PRS2,       2,         14,         18,       8018,2,20160114,       0556,  22.749500,-157.9936667,       4745,    45.6,  24.9526,  34.9506,2,  34.9504,2,    204.9,1,  -999.0,9, -999.00,9, -999.00,9,  -999.0,      45,    24.9428, -999.00,9,     -999.0
  33KB280_1,       PRS2,       2,         14,         17,       8017,2,20160114,       0556,  22.749500,-157.9936667,       4745,    45.5,  24.9529,  34.9505,2,  34.9512,2,    204.7,1,  -999.0,9, -999.00,9, -999.00,9,  -999.0,      45,    24.9430, -999.00,9,     -999.0
  33KB280_1,       PRS2,       2,         14,         16,       8016,2,20160114,       0556,  22.749500,-157.9936667,       4745,    61.1,  24.9095,  34.9614,2,  34.9612,2,    204.7,1,  -999.0,9, -999.00,9, -999.00,9,  -999.0,      60,    24.8963, -999.00,9,     -999.0
  33KB280_1,       PRS2,       2,         14,         15,       8015,2,20160114,       0556,  22.749500,-157.9936667,       4745,    76.0,  24.7422,  35.0303,2,  35.0323,2,    204.8,1,  -999.0,9, -999.00,9, -999.00,9,  -999.0,      76,    24.7259, -999.00,9,     -999.0
  33KB280_1,       PRS2,       2,         14,         14,       8014,2,20160114,       0556,  22.749500,-157.9936667,       4745,    75.9,  24.7392,  35.0323,2,  35.0311,2,    205.5,1,  -999.0,9, -999.00,9, -999.00,9,  -999.0,      76,    24.7229, -999.00,9,     -999.0
  33KB280_1,       PRS2,       2,         14,         13,       8025,2,20160114,       0556,  22.749500,-157.9936667,       4745,    85.7,  24.4504,  35.1299,2,  35.1144,3,    206.0,1,  -999.0,9, -999.00,9, -999.00,9,  -999.0,      86,    24.4321, -999.00,9,     -999.0
  33KB280_1,       PRS2,       2,         14,         12,       8012,2,20160114,       0556,  22.749500,-157.9936667,       4745,   100.3,  23.9113,  35.1979,2,  35.1981,2,    205.8,1,  -999.0,9, -999.00,9, -999.00,9,  -999.0,     100,    23.8902, -999.00,9,     -999.0
  33KB280_1,       PRS2,       2,         14,         11,       8011,2,20160114,       0556,  22.749500,-157.9936667,       4745,   100.1,  23.9107,  35.1978,2,  35.1981,2,    203.6,1,  -999.0,9, -999.00,9, -999.00,9,  -999.0,     100,    23.8897, -999.00,9,     -999.0
  33KB280_1,       PRS2,       2,         14,         10,       8010,2,20160114,       0556,  22.749500,-157.9936667,       4745,   115.0,  22.9848,  35.2264,2,  35.2255,2,    203.8,1,  -999.0,9, -999.00,9, -999.00,9,  -999.0,     115,    22.9614, -999.00,9,     -999.0
  33KB280_1,       PRS2,       2,         14,          9,       8009,2,20160114,       0556,  22.749500,-157.9936667,       4745,   125.7,  22.4088,  35.2186,2,  35.2195,2,    200.1,1,  -999.0,9, -999.00,9, -999.00,9,  -999.0,     127,    22.3836, -999.00,9,     -999.0
  33KB280_1,       PRS2,       2,         14,          8,       8008,2,20160114,       0556,  22.749500,-157.9936667,       4745,   125.9,  22.3942,  35.2195,2,  35.2193,2,    199.3,1,  -999.0,9, -999.00,9, -999.00,9,  -999.0,     126,    22.3690, -999.00,9,     -999.0
  33KB280_1,       PRS2,       2,         14,          7,       8060,2,20160114,       0556,  22.749500,-157.9936667,       4745,   136.1,  21.8313,  35.2109,2,  35.2101,2,    198.8,1,  -999.0,9, -999.00,9, -999.00,9,  -999.0,     136,    21.8045, -999.00,9,     -999.0
  33KB280_1,       PRS2,       2,         14,          6,       8006,2,20160114,       0556,  22.749500,-157.9936667,       4745,   150.9,  21.0648,  35.1794,2,  35.1788,2,    196.5,1,  -999.0,9, -999.00,9, -999.00,9,  -999.0,     150,    21.0358, -999.00,9,     -999.0
  33KB280_1,       PRS2,       2,         14,          5,       8005,2,20160114,       0556,  22.749500,-157.9936667,       4745,   150.9,  21.0539,  35.1792,2,  35.1792,2,    196.3,1,  -999.0,9, -999.00,9, -999.00,9,  -999.0,     150,    21.0249, -999.00,9,     -999.0
  33KB280_1,       PRS2,       2,         14,          4,       8059,2,20160114,       0556,  22.749500,-157.9936667,       4745,   175.3,  19.8075,  35.0778,2,  35.0742,2,    194.9,1,  -999.0,9, -999.00,9, -999.00,9,  -999.0,     175,    19.7753, -999.00,9,     -999.0
  33KB280_1,       PRS2,       2,         14,          3,       8003,2,20160114,       0556,  22.749500,-157.9936667,       4745,   175.4,  19.8088,  35.0780,2,  35.0718,2,    190.2,1,  -999.0,9, -999.00,9, -999.00,9,  -999.0,     175,    19.7765, -999.00,9,     -999.0
  33KB280_1,       PRS2,       2,         14,          2,       8002,2,20160114,       0556,  22.749500,-157.9936667,       4745,   430.7,   9.0631,  34.0903,2,  34.0899,2,    157.4,1,  -999.0,9, -999.00,9, -999.00,9,  -999.0,     430,     9.0160, -999.00,9,     -999.0
  33KB280_1,       PRS2,       2,         14,          1,       8001,2,20160114,       0556,  22.749500,-157.9936667,       4745,  1019.4,   3.9715,  34.4890,2,  34.4905,2,     46.0,1,  -999.0,9, -999.00,9, -999.00,9,  -999.0,    1020,     3.8945, -999.00,9,     -999.0
  33KB280_1,       PRS2,       2,         15,         24,       8058,2,20160114,       0858,  22.752500,-158.0001667,       4742,     5.5,  24.9525,  34.9397,2,-999.0000,5,    203.8,2,  -999.0,5, -999.00,9, -999.00,9,  -999.0,       5,    24.9513, -999.00,9,     -999.0
  33KB280_1,       PRS2,       2,         15,         23,       8023,2,20160114,       0858,  22.752500,-158.0001667,       4742,     5.6,  24.9530,  34.9398,2,-999.0000,5,    204.3,2,  -999.0,5, -999.00,9, -999.00,9,  -999.0,       5,    24.9518, -999.00,9,     -999.0
  33KB280_1,       PRS2,       2,         15,         22,       8022,2,20160114,       0858,  22.752500,-158.0001667,       4742,     5.6,  24.9542,  34.9399,2,  34.9408,2,    203.4,2,   206.2,2, -999.00,9, -999.00,9,  -999.0,       5,    24.9530, -999.00,9,     -999.0
  33KB280_1,       PRS2,       2,         15,         21,       8021,2,20160114,       0858,  22.752500,-158.0001667,       4742,    25.0,  24.9368,  34.9491,2,-999.0000,5,    204.2,2,  -999.0,5, -999.00,9, -999.00,9,  -999.0,      24,    24.9314, -999.00,9,     -999.0
  33KB280_1,       PRS2,       2,         15,         20,       8020,2,20160114,       0858,  22.752500,-158.0001667,       4742,    45.0,  24.8572,  34.9676,2,-999.0000,5,    204.3,2,  -999.0,5, -999.00,9, -999.00,9,  -999.0,      45,    24.8475, -999.00,9,     -999.0
  33KB280_1,       PRS2,       2,         15,         19,       8019,2,20160114,       0858,  22.752500,-158.0001667,       4742,    85.2,  23.9114,  35.1944,2,  35.1977,2,    206.5,2,   207.4,2, -999.00,9, -999.00,9,  -999.0,      84,    23.8935, -999.00,9,     -999.0
  33KB280_1,       PRS2,       2,         15,         18,       8018,2,20160114,       0858,  22.752500,-158.0001667,       4742,    99.5,  23.2613,  35.2183,2,  34.1076,4,    203.7,3,  -999.0,5, -999.00,9, -999.00,9,  -999.0,     100,    23.2408, -999.00,9,     -999.0
  33KB280_1,       PRS2,       2,         15,         17,       8017,2,20160114,       0858,  22.752500,-158.0001667,       4742,   199.5,  17.7528,  34.7944,2,-999.0000,5,    189.5,2,  -999.0,5, -999.00,9, -999.00,9,  -999.0,     201,    17.7189, -999.00,9,     -999.0
  33KB280_1,       PRS2,       2,         15,         16,       8016,2,20160114,       0858,  22.752500,-158.0001667,       4742,   419.5,   8.7298,  34.1274,2,  34.1287,2,    127.5,2,   124.1,2, -999.00,9, -999.00,9,  -999.0,     419,     8.6850, -999.00,9,     -999.0
  33KB280_1,       PRS2,       2,         15,         15,       8015,2,20160114,       0858,  22.752500,-158.0001667,       4742,   459.6,   7.8829,  34.1048,2,-999.0000,5,     99.7,2,  -999.0,5, -999.00,9, -999.00,9,  -999.0,     460,     7.8366, -999.00,9,     -999.0
  33KB280_1,       PRS2,       2,         15,         14,       8014,2,20160114,       0858,  22.752500,-158.0001667,       4742,   760.6,   4.8024,  34.3345,2,  34.3341,2,     32.8,2,    32.1,2, -999.00,9, -999.00,9,  -999.0,     760,     4.7418, -999.00,9,     -999.0
  33KB280_1,       PRS2,       2,         15,         13,       8025,2,20160114,       0858,  22.752500,-158.0001667,       4742,  1000.3,   4.1496,  34.4693,2,-999.0000,5,     42.7,2,  -999.0,5, -999.00,9, -999.00,9,  -999.0,    1000,     4.0728, -999.00,9,     -999.0
  33KB280_1,       PRS2,       2,         15,         12,       8012,2,20160114,       0858,  22.752500,-158.0001667,       4742,  1000.3,   4.1493,  34.4694,2,-999.0000,5,     42.9,2,  -999.0,5, -999.00,9, -999.00,9,  -999.0,    1001,     4.0725, -999.00,9,     -999.0
  33KB280_1,       PRS2,       2,         15,         11,       8011,2,20160114,       0858,  22.752500,-158.0001667,       4742,  2000.3,   2.1338,  34.6191,2,-999.0000,5,     89.1,2,  -999.0,5, -999.00,9, -999.00,9,  -999.0,    2001,     1.9953, -999.00,9,     -999.0
  33KB280_1,       PRS2,       2,         15,         10,       8010,2,20160114,       0858,  22.752500,-158.0001667,       4742,  2000.3,   2.1326,  34.6193,2,-999.0000,5,     89.2,2,  -999.0,5, -999.00,9, -999.00,9,  -999.0,    2002,     1.9941, -999.00,9,     -999.0
  33KB280_1,       PRS2,       2,         15,          9,       8009,2,20160114,       0858,  22.752500,-158.0001667,       4742,  2000.6,   2.1316,  34.6190,2,  34.6189,2,     89.3,2,    89.5,2, -999.00,9, -999.00,9,  -999.0,    2001,     1.9932, -999.00,9,     -999.0
  33KB280_1,       PRS2,       2,         15,          8,       8008,2,20160114,       0858,  22.752500,-158.0001667,       4742,  3001.9,   1.5912,  34.6645,2,-999.0000,5,    121.8,2,  -999.0,5, -999.00,9, -999.00,9,  -999.0,    3002,     1.3723, -999.00,9,     -999.0
  33KB280_1,       PRS2,       2,         15,          7,       8060,2,20160114,       0858,  22.752500,-158.0001667,       4742,  3002.0,   1.5907,  34.6647,2,  34.6647,2,    121.9,2,   122.2,2, -999.00,9, -999.00,9,  -999.0,    3002,     1.3718, -999.00,9,     -999.0
  33KB280_1,       PRS2,       2,         15,          6,       8006,2,20160114,       0858,  22.752500,-158.0001667,       4742,  4000.9,   1.4623,  34.6821,2,-999.0000,5,    146.5,2,  -999.0,5, -999.00,9, -999.00,9,  -999.0,    3998,     1.1444, -999.00,9,     -999.0
  33KB280_1,       PRS2,       2,         15,          5,       8005,2,20160114,       0858,  22.752500,-158.0001667,       4742,  4001.0,   1.4621,  34.6822,2,-999.0000,5,    146.6,2,  -999.0,5, -999.00,9, -999.00,9,  -999.0,    3998,     1.1442, -999.00,9,     -999.0
  33KB280_1,       PRS2,       2,         15,          4,       8059,2,20160114,       0858,  22.752500,-158.0001667,       4742,  4001.0,   1.4622,  34.6820,2,-999.0000,5,    146.6,2,  -999.0,5, -999.00,9, -999.00,9,  -999.0,    3999,     1.1442, -999.00,9,     -999.0
  33KB280_1,       PRS2,       2,         15,          3,       8003,2,20160114,       0858,  22.752500,-158.0001667,       4742,  4001.1,   1.4622,  34.6820,2,-999.0000,5,    146.7,2,  -999.0,5, -999.00,9, -999.00,9,  -999.0,    4000,     1.1442, -999.00,9,     -999.0
  33KB280_1,       PRS2,       2,         15,          2,       8002,2,20160114,       0858,  22.752500,-158.0001667,       4742,  4001.1,   1.4621,  34.6820,2,  34.6824,2,    146.8,2,   146.2,2, -999.00,9, -999.00,9,  -999.0,    3999,     1.1442, -999.00,9,     -999.0
  33KB280_1,       PRS2,       2,         15,          1,       8001,2,20160114,       0858,  22.752500,-158.0001667,       4742,  4806.0,   1.5173,  34.6852,2,  34.6863,2,    151.6,2,   151.9,2, -999.00,9, -999.00,9,  -999.0,    4803,     1.1059, -999.00,9,     -999.0