BOTTLE,20160728PRINUNIVRMK
# processed by CCHDO on 2020-11-20, no changes
# 12/9/2015 Initialized README file  
# Data source: Veronica Tamsitt 1/18/2016 
# SHIP: N.B. Palmer 
# Cruise: 2015 OOISO; NBP15_11 
# Region: west of Pategonia; Punta Arenas to Punta Arenas 
# EXPOCODE: 320620151206 
# DATES: 20151206 - 20160102 
# Chief Scientist: Sebastien Bigorre (WHOI) 
# 16 stations with 24 place Rosette 
# ----------------- 
# SOCCOM Float Launches 
# UW#	Sta/Cast	UTC Date Time	Lat            Lon 
# 9668	   1/2	20151208 23:15   -53.3124	    -80.2885 
# 9666      16/1   20151228 13:18   -54.3341    -89.2160 
# 9646      16/1   20151228 13:18   -54.3341    -89.2160 
# Comments 
# Supported by NSF Award PLR-1425989 to J.L. Sarmiento et al.  
# ----------------- 
# Hydro: Who - WHOI; Status - final 
# 	Notes: Sampling by V. Tamsitt 
# 	Cruise supported by: 
# 		NSF Cooperative Support Agreement OCE-1026342,  
# 		Operations & Maintenance of the Ocean Observatories Initiative (OOI) 
# 		See: https://ooinet.oceanobservatories.org 
# Nutrients: Who - SIO-ODF& P.Henderson; Status - final/unknown 
# 	Notes: Sampling by V. Tamsitt analysis by M. Miller 
# 	Samples frozen for analysis ashore 
# 	Converted from umol/L to umol/kg using CTD temperature and salt 
# O2: Who - WHOI; Status - final 
# 	Notes: Sampling by L. Houghton 
# 	Converted from mL/L to umol/kg using CTD temperature and salt 
# 	CTDOXY were not calibrated.  
# 	Values in this file calibrated using simple linear fit to bottle values 
# 		from pressures >=300m: 
# 	CTDOXY.calibrated = 14.237 + 0.959*CTDOXY.measured 
# TCO2: Who - A.Wang; Status -  
# 	Notes: Samples returned to shore for analysis 
# TA: Who - A.Wang;A. Dickson; Status - final 
# 	Notes: Sampling by L. Houghton 
# 	Samples returned to shore for analysis 
# 	Results rcd from D. Cervantex 7/19/2016 
# pH: Who - A.Wang; A. Dickson; Status - in transit 
# 	Notes: Sampling by L. Houghton 
# 	Samples returned to shore for analysis 
# 	Results rcd from D. Cervantex 7/19/2016 
# Chlorophyll:  Who - Heidi Sosik//T.Crockford; Status - unknown 
# 	Notes: 
# HPLC Pigments: Who - E.Boss; Status - in transit 
# 	Notes: Sampling by V. Tamsitt 
# 	Samples returned to shore for analysis 
# Optical Profiling: Who - WHOI; Status -  
# 	Notes: CTD  
# Those using these data should reference the appropriate PIs and awards used to support the measurements 
# References that have used data from this cruise: 
EXPOCODE,SECT_ID,STNNBR,CASTNO,SAMPNO,BTLNBR,BTLNBR_FLAG_W,DATE,TIME,LATITUDE,LONGITUDE,DEPTH,CTDPRS,CTDTMP,CTDSAL,CTDSAL_FLAG_W,SALNTY,SALNTY_FLAG_W,CTDOXY,CTDOXY_FLAG_W,OXYGEN,OXYGEN_FLAG_W,SILCAT,SILCAT_FLAG_W,NITRAT,NITRAT_FLAG_W,NITRIT,NITRIT_FLAG_W,PHSPHT,PHSPHT_FLAG_W,NH4,NH4_FLAG_W,ALKALI,ALKALI_FLAG_W,PH_TOT,PH_TOT_FLAG_W,PH_TMP,THETA
,,,,,,,,,,,METERS,DBAR,ITS-90,PSS-78,,PSS-78,,UMOL/KG,,UMOL/KG,,UMOL/KG,,UMOL/KG,,UMOL/KG,,UMOL/KG,,UMOL/KG,,UMOL/KG,,,,DEG C,DEG C
  320620151206, OOISO,     2,  1,      1,      1,2,20151208,   0,-53.3122, -80.2885, 4283,   2029.7,   2.2388,  34.6481,2,  34.6456,2,    164.4,2,    161.6,2,    94.10,2,    34.97,2,     0.00,2,     2.41,2,     0.01,2,   2365.2,2,   7.5643,2,    24.91,   2.0961
  320620151206, OOISO,     2,  1,      2,      2,2,20151208,   0,-53.3122, -80.2885, 4283,   1825.2,   2.3863,  34.6151,2,  34.6108,2,    161.2,2,    158.0,2,    87.00,2,    35.50,2,     0.00,2,     2.44,2,        0,2,   2360.0,2,   7.5542,2,    24.92,   2.2589
  320620151206, OOISO,     2,  1,      3,      3,2,20151208,   0,-53.3122, -80.2885, 4283,   1620.5,   2.5630,  34.5707,2,  34.5706,2,    160.9,2,    156.7,2,    81.45,2,    36.04,2,     0.00,2,     2.48,2,        0,2,   2345.9,2,   7.5490,2,    24.92,   2.4504
  320620151206, OOISO,     2,  1,      4,      4,2,20151208,   0,-53.3122, -80.2885, 4283,   1416.9,   2.7806,  34.5078,2,  34.5062,2,    164.1,2,    160.2,2,    65.40,2,    36.13,2,     0.00,2,     2.49,2,     0.08,2,   2335.8,2,   7.5443,2,    24.91,   2.6822
  320620151206, OOISO,     2,  1,      5,      5,2,20151208,   0,-53.3122, -80.2885, 4283,   1211.4,   3.0357,  34.4187,2,  34.4186,2,    181.7,2,    178.0,2,    59.37,2,    35.25,2,     0.00,2,     2.41,2,        0,2,   2322.4,2,   7.5594,2,    24.90,   2.9513
  320620151206, OOISO,     2,  1,      6,      6,2,20151208,   0,-53.3122, -80.2885, 4283,   1013.5,   3.4959,  34.3378,2,  34.3384,2,    196.8,2,    193.9,2,    45.26,2,    34.05,2,     0.00,2,     2.32,2,        0,2,   2306.7,2,   7.5814,2,    24.91,   3.4233
  320620151206, OOISO,     2,  1,      7,      7,2,20151208,   0,-53.3122, -80.2885, 4283,    911.7,   3.7868,  34.2964,2,  34.2945,2,    208.3,2,    206.0,2,    37.67,2,    32.79,2,     0.00,2,     2.24,2,        0,2,   2298.2,2,   7.5779,2,    24.91,   3.7202
  320620151206, OOISO,     2,  1,      8,      8,2,20151208,   0,-53.3122, -80.2885, 4283,    810.5,   4.1414,  34.2580,2,  34.2557,2,    220.2,2,    217.9,2,    29.11,2,    30.88,2,     0.00,2,     2.13,2,        0,2,   2291.3,2,   7.6160,2,    24.91,   4.0807
  320620151206, OOISO,     2,  1,      9,      9,2,20151208,   0,-53.3122, -80.2885, 4283,    709.8,   4.4623,  34.2176,2,  34.2145,2,    238.1,2,    236.0,2,    20.54,2,    28.90,2,     0.00,2,     2.00,2,     0.02,2,   2288.4,2,   7.6473,2,    24.90,   4.4079
  320620151206, OOISO,     2,  1,     10,     10,2,20151208,   0,-53.3122, -80.2885, 4283,    605.5,   4.7412,  34.1985,2,  34.1988,2,    251.1,2,    249.6,2,    15.38,2,    25.95,2,     0.00,2,     1.82,2,     0.01,2,   2281.2,2,   7.6623,2,    24.91,   4.6940
  320620151206, OOISO,     2,  1,     11,     11,2,20151208,   0,-53.3122, -80.2885, 4283,    505.7,   4.9503,  34.1813,2,  34.1831,2,    269.1,2,    266.7,2,    11.59,2,    24.18,2,     0.00,2,     1.71,2,        0,2,   2278.7,2,   7.6884,2,    24.91,   4.9104
  320620151206, OOISO,     2,  1,     12,     12,2,20151208,   0,-53.3122, -80.2885, 4283,    452.7,   5.0597,  34.1826,2,  34.1810,2,    271.0,2,    269.7,2,    10.13,2,    23.24,2,     0.00,2,     1.68,2,     0.13,2,   2274.5,2,   7.6935,2,    24.92,   5.0238
  320620151206, OOISO,     2,  1,     13,     13,2,20151208,   0,-53.3122, -80.2885, 4283,    403.2,   5.1285,  34.1801,2,  34.1785,2,    275.9,2,    275.5,2,     9.64,2,    23.53,2,     0.00,2,     1.67,2,     0.05,2,   2275.6,2,   7.6998,2,    24.92,   5.0965
  320620151206, OOISO,     2,  1,     14,     14,2,20151208,   0,-53.3122, -80.2885, 4283,    355.4,   5.1868,  34.1781,2,  34.1753,2,    281.0,2,    280.4,2,     8.37,2,    21.50,3,     0.00,2,     1.59,3,        0,2,   2265.2,2,   7.6920,2,    24.90,   5.1585
  320620151206, OOISO,     2,  1,     15,     15,2,20151208,   0,-53.3122, -80.2885, 4283,    304.6,   5.2551,  34.1734,2,  34.1716,2,    282.0,2,    280.5,2,     8.47,2,    23.34,2,     0.00,2,     1.67,2,        0,2,   2272.7,2,   7.7087,2,    24.92,   5.2308
  320620151206, OOISO,     2,  1,     16,     16,2,20151208,   0,-53.3122, -80.2885, 4283,    252.8,   5.3551,  34.1727,2,  34.1743,2,    279.3,2,    277.6,2,     8.47,2,    23.46,2,     0.00,2,     1.68,2,     0.01,2,   2274.9,2,   7.7083,2,    24.91,   5.3349
  320620151206, OOISO,     2,  1,     17,     17,2,20151208,   0,-53.3122, -80.2885, 4283,    201.8,   5.4151,  34.1432,2,  34.1415,2,    278.4,2,    276.4,2,     7.69,2,    23.69,2,     0.00,2,     1.70,2,        0,2,   2262.1,2,   7.6668,2,    24.91,   5.3989
  320620151206, OOISO,     2,  1,     18,     18,2,20151208,   0,-53.3122, -80.2885, 4283,    151.0,   5.6084,  34.1233,2,  34.1245,2,    269.3,2,    264.8,2,     6.91,2,    22.17,3,     0.00,2,     1.66,3,     0.11,2,   2255.4,2,   7.6329,2,    24.91,   5.5961
  320620151206, OOISO,     2,  1,     19,     19,2,20151208,   0,-53.3122, -80.2885, 4283,    126.2,   5.7551,  34.0936,2,  34.0983,2,    274.6,2,    270.8,2,     6.72,2,    23.57,2,     0.03,2,     1.71,2,        0,2,   2269.0,2,   7.6958,2,    24.92,   5.7447
  320620151206, OOISO,     2,  1,     20,     20,2,20151208,   0,-53.3122, -80.2885, 4283,    101.2,   5.9349,  34.0635,2,  34.0634,2,    286.3,2,    284.4,2,     5.36,2,    21.59,2,     0.15,2,     1.62,2,     0.12,2,   2267.6,2,   7.7253,2,    24.91,   5.9265
  320620151206, OOISO,     2,  1,     21,     21,2,20151208,   0,-53.3122, -80.2885, 4283,     70.3,   6.2351,  34.0563,2,  34.0553,2,    298.0,2,    298.0,2,     3.80,2,    19.39,2,     0.19,2,     1.49,2,      0.5,2,   2269.2,2,   7.7579,2,    24.92,   6.2291
  320620151206, OOISO,     2,  1,     22,     22,2,20151208,   0,-53.3122, -80.2885, 4283,     41.1,   6.8956,  34.0109,2,  34.0110,2,    305.8,2,    303.5,2,     1.56,2,    17.87,2,     0.19,2,     1.35,2,     0.05,2,   2267.2,2,   7.7847,2,    24.92,   6.8919
  320620151206, OOISO,     2,  1,     23,     23,2,20151208,   0,-53.3122, -80.2885, 4283,     24.9,   6.8962,  34.0112,2,  34.0102,2,    305.7,2,    304.3,2,     1.66,2,    17.70,2,     0.20,2,     1.34,2,     0.05,2,   2266.6,2,   7.7848,2,    24.92,   6.8940
  320620151206, OOISO,     2,  1,     24,     24,2,20151208,   0,-53.3122, -80.2885, 4283,      3.6,   6.8946,  34.0111,2,  34.0116,2,    305.9,2,    303.4,2,     1.66,2,    17.78,2,     0.20,2,     1.34,2,     0.13,2,   2269.0,2,   7.7858,2,    24.91,   6.8943
  320620151206, OOISO,     6,  1,      1,      1,2,20151212,   0,-52.9373, -88.9565, 4828,   1009.2,   3.5583,  34.3286,2,  34.3341,2,    201.7,2,    201.4,2,  -999.00,9,  -999.00,9,  -999.00,9,  -999.00,9,     -999,9,   -999.0,9,-999.0000,9,  -999.00,   3.4856
  320620151206, OOISO,     6,  1,      2,      2,2,20151212,   0,-52.9373, -88.9565, 4828,   1010.1,   3.5556,  34.3290,2,  34.2610,3,    201.6,2,    225.2,3,  -999.00,9,  -999.00,9,  -999.00,9,  -999.00,9,     -999,9,   -999.0,9,-999.0000,9,  -999.00,   3.4829
  320620151206, OOISO,     6,  1,      3,      3,2,20151212,   0,-52.9373, -88.9565, 4828,    810.0,   4.1669,  34.2592,2,  34.2096,3,    222.3,2,    252.6,3,  -999.00,9,  -999.00,9,  -999.00,9,  -999.00,9,     -999,9,   -999.0,9,-999.0000,9,  -999.00,   4.1061
  320620151206, OOISO,     6,  1,      4,      4,2,20151212,   0,-52.9373, -88.9565, 4828,    808.4,   4.1702,  34.2593,2,  34.1740,3,    222.6,2,    293.3,3,  -999.00,9,  -999.00,9,  -999.00,9,  -999.00,9,     -999,9,   -999.0,9,-999.0000,9,  -999.00,   4.1095
  320620151206, OOISO,     6,  1,      5,      5,2,20151212,   0,-52.9373, -88.9565, 4828,    607.5,   4.7585,  34.2072,2,  34.1905,3,    249.1,2,    300.0,3,  -999.00,9,  -999.00,9,  -999.00,9,  -999.00,9,     -999,9,   -999.0,9,-999.0000,9,  -999.00,   4.7110
  320620151206, OOISO,     6,  1,      6,      6,2,20151212,   0,-52.9373, -88.9565, 4828,    608.0,   4.7637,  34.2072,2,  34.1660,3,    250.0,2,    307.8,3,  -999.00,9,  -999.00,9,  -999.00,9,  -999.00,9,     -999,9,   -999.0,9,-999.0000,9,  -999.00,   4.7162
  320620151206, OOISO,     6,  1,      7,      7,2,20151212,   0,-52.9373, -88.9565, 4828,    404.9,   5.0435,  34.1706,2,  34.1667,2,    287.8,2,    306.8,3,  -999.00,9,  -999.00,9,  -999.00,9,  -999.00,9,     -999,9,   -999.0,9,-999.0000,9,  -999.00,   5.0116
  320620151206, OOISO,     6,  1,      8,      8,2,20151212,   0,-52.9373, -88.9565, 4828,    405.1,   5.0526,  34.1715,2,  34.1665,2,    288.1,2,    309.2,3,  -999.00,9,  -999.00,9,  -999.00,9,  -999.00,9,     -999,9,   -999.0,9,-999.0000,9,  -999.00,   5.0207
  320620151206, OOISO,     6,  1,      9,      9,2,20151212,   0,-52.9373, -88.9565, 4828,    201.3,   5.3518,  34.1881,2,-999.0000,9,    295.7,2,   -999.0,9,  -999.00,9,  -999.00,9,  -999.00,9,  -999.00,9,     -999,9,   -999.0,9,-999.0000,9,  -999.00,   5.3358
  320620151206, OOISO,     6,  1,     10,     10,2,20151212,   0,-52.9373, -88.9565, 4828,    201.7,   5.3549,  34.1882,2,-999.0000,9,    296.1,2,   -999.0,9,  -999.00,9,  -999.00,9,  -999.00,9,  -999.00,9,     -999,9,   -999.0,9,-999.0000,9,  -999.00,   5.3388
  320620151206, OOISO,     6,  1,     11,     11,2,20151212,   0,-52.9373, -88.9565, 4828,    100.4,   6.4751,  34.1689,2,-999.0000,9,    301.8,2,   -999.0,9,  -999.00,9,  -999.00,9,  -999.00,9,  -999.00,9,     -999,9,   -999.0,9,-999.0000,9,  -999.00,   6.4663
  320620151206, OOISO,     6,  1,     12,     12,2,20151212,   0,-52.9373, -88.9565, 4828,    100.8,   6.6459,  34.1627,2,-999.0000,9,    302.5,2,   -999.0,9,  -999.00,9,  -999.00,9,  -999.00,9,  -999.00,9,     -999,9,   -999.0,9,-999.0000,9,  -999.00,   6.6369
  320620151206, OOISO,     6,  1,     13,     13,2,20151212,   0,-52.9373, -88.9565, 4828,     77.1,   6.7172,  34.1644,2,-999.0000,9,    302.3,2,   -999.0,9,  -999.00,9,  -999.00,9,  -999.00,9,  -999.00,9,     -999,9,   -999.0,9,-999.0000,9,  -999.00,   6.7103
  320620151206, OOISO,     6,  1,     14,     14,2,20151212,   0,-52.9373, -88.9565, 4828,     76.1,   6.7168,  34.1645,2,-999.0000,9,    302.6,2,   -999.0,9,  -999.00,9,  -999.00,9,  -999.00,9,  -999.00,9,     -999,9,   -999.0,9,-999.0000,9,  -999.00,   6.7100
  320620151206, OOISO,     6,  1,     15,     15,2,20151212,   0,-52.9373, -88.9565, 4828,      6.1,   6.7429,  34.1648,2,-999.0000,9,    303.2,2,   -999.0,9,  -999.00,9,  -999.00,9,  -999.00,9,  -999.00,9,     -999,9,   -999.0,9,-999.0000,9,  -999.00,   6.7424
  320620151206, OOISO,     6,  1,     16,     16,2,20151212,   0,-52.9373, -88.9565, 4828,      5.8,   6.7429,  34.1649,2,-999.0000,9,    302.9,2,   -999.0,9,  -999.00,9,  -999.00,9,  -999.00,9,  -999.00,9,     -999,9,   -999.0,9,-999.0000,9,  -999.00,   6.7424
  320620151206, OOISO,     8,  1,      1,      1,2,20151213,   0,-54.5178, -89.3702, 4922,   4486.5,   0.7197,  34.7070,2,  34.7062,2,    204.7,2,    208.7,2,  -999.00,9,  -999.00,9,  -999.00,9,  -999.00,9,     -999,9,   -999.0,9,-999.0000,9,  -999.00,   0.3704
  320620151206, OOISO,     8,  1,      2,      2,2,20151213,   0,-54.5178, -89.3702, 4922,   4076.3,   0.9121,  34.7109,2,  34.7075,2,    201.0,2,    204.4,2,  -999.00,9,  -999.00,9,  -999.00,9,  -999.00,9,     -999,9,   -999.0,9,-999.0000,9,  -999.00,   0.6015
  320620151206, OOISO,     8,  1,      3,      3,2,20151213,   0,-54.5178, -89.3702, 4922,   3561.0,   1.2837,  34.7183,2,  34.7182,2,    194.7,2,    197.0,2,  -999.00,9,  -999.00,9,  -999.00,9,  -999.00,9,     -999,9,   -999.0,9,-999.0000,9,  -999.00,   1.0166
  320620151206, OOISO,     8,  1,      4,      4,2,20151213,   0,-54.5178, -89.3702, 4922,   3049.3,   1.5757,  34.7201,2,  34.7202,2,    187.5,2,    189.6,2,  -999.00,9,  -999.00,9,  -999.00,9,  -999.00,9,     -999,9,   -999.0,9,-999.0000,9,  -999.00,   1.3522
  320620151206, OOISO,     8,  1,      5,      5,2,20151213,   0,-54.5178, -89.3702, 4922,   2641.4,   1.8036,  34.7097,2,  34.7082,2,    178.4,2,    179.2,2,  -999.00,9,  -999.00,9,  -999.00,9,  -999.00,9,     -999,9,   -999.0,9,-999.0000,9,  -999.00,   1.6138
  320620151206, OOISO,     8,  1,      6,      6,2,20151213,   0,-54.5178, -89.3702, 4922,   2027.9,   2.2681,  34.6582,2,  34.6570,2,    170.5,2,    169.6,2,  -999.00,9,  -999.00,9,  -999.00,9,  -999.00,9,     -999,9,   -999.0,9,-999.0000,9,  -999.00,   2.1251
  320620151206, OOISO,     8,  1,      7,      7,2,20151213,   0,-54.5178, -89.3702, 4922,   1519.2,   2.6586,  34.5290,2,  34.5274,2,    172.2,2,    171.1,2,  -999.00,9,  -999.00,9,  -999.00,9,  -999.00,9,     -999,9,   -999.0,9,-999.0000,9,  -999.00,   2.5532
  320620151206, OOISO,     8,  1,      8,      8,2,20151213,   0,-54.5178, -89.3702, 4922,   1010.8,   3.6071,  34.2873,2,  34.2864,2,    213.8,2,    214.2,2,  -999.00,9,  -999.00,9,  -999.00,9,  -999.00,9,     -999,9,   -999.0,9,-999.0000,9,  -999.00,   3.5340
  320620151206, OOISO,     8,  1,      9,      9,2,20151213,   0,-54.5178, -89.3702, 4922,    504.6,   5.1731,  34.1793,2,  34.1805,2,    277.7,2,    279.8,2,  -999.00,9,  -999.00,9,  -999.00,9,  -999.00,9,     -999,9,   -999.0,9,-999.0000,9,  -999.00,   5.1325
  320620151206, OOISO,     8,  1,     10,     10,2,20151213,   0,-54.5178, -89.3702, 4922,    302.7,   5.4145,  34.1835,2,  34.1863,2,    292.2,2,    294.2,2,  -999.00,9,  -999.00,9,  -999.00,9,  -999.00,9,     -999,9,   -999.0,9,-999.0000,9,  -999.00,   5.3900
  320620151206, OOISO,     8,  1,     11,     11,2,20151213,   0,-54.5178, -89.3702, 4922,    161.7,   5.7270,  34.2093,2,  34.2095,2,    293.5,2,    294.9,2,  -999.00,9,  -999.00,9,  -999.00,9,  -999.00,9,     -999,9,   -999.0,9,-999.0000,9,  -999.00,   5.7137