BOTTLE,20160728PRINUNIVRMK
EXPOCODE,SECT_ID,STNNBR,CASTNO,SAMPNO,BTLNBR,BTLNBR_FLAG_W,DATE,TIME,LATITUDE,LONGITUDE,DEPTH,CTDPRS,CTDTMP,CTDSAL,CTDSAL_FLAG_W,SALNTY,SALNTY_FLAG_W,CTDOXY,CTDOXY_FLAG_W,OXYGEN,OXYGEN_FLAG_W,SILCAT,SILCAT_FLAG_W,NITRAT,NITRAT_FLAG_W,NITRIT,NITRIT_FLAG_W,PHSPHT,PHSPHT_FLAG_W,NH4,NH4_FLAG_W,ALKALI,ALKALI_FLAG_W,PH_TOT,PH_TOT_FLAG_W,PH_TMP,THETA
,,,,,,,,,,,METERS,DBAR,ITS-90,PSS-78,,PSS-78,,UMOL/KG,,UMOL/KG,,UMOL/KG,,UMOL/KG,,UMOL/KG,,UMOL/KG,,UMOL/KG,,UMOL/KG,,,,DEG C,DEG C
  320620151206, OOISO,    14,  1,      1,      1,2,20151224,   0,-54.3348, -89.3453, 4913,   1519.5,   2.6918,  34.5133,2,  34.5171,2,    174.1,2,    176.9,2,  -999.00,9,  -999.00,9,  -999.00,9,  -999.00,9,     -999,9,   -999.0,9,-999.0000,9,  -999.00,   2.5861
  320620151206, OOISO,    14,  1,      2,      2,2,20151224,   0,-54.3348, -89.3453, 4913,   1013.5,   3.6918,  34.2989,2,  34.3019,2,    209.8,2,    208.8,2,  -999.00,9,  -999.00,9,  -999.00,9,  -999.00,9,     -999,9,   -999.0,9,-999.0000,9,  -999.00,   3.6178
  320620151206, OOISO,    14,  1,      3,      3,2,20151224,   0,-54.3348, -89.3453, 4913,    506.1,   5.2099,  34.1811,2,  34.1860,2,    288.0,2,    287.2,2,  -999.00,9,  -999.00,9,  -999.00,9,  -999.00,9,     -999,9,   -999.0,9,-999.0000,9,  -999.00,   5.1690
  320620151206, OOISO,    14,  1,      4,      4,2,20151224,   0,-54.3348, -89.3453, 4913,    252.2,   5.4378,  34.1843,2,  34.1891,2,    293.9,2,    292.3,2,  -999.00,9,  -999.00,9,  -999.00,9,  -999.00,9,     -999,9,   -999.0,9,-999.0000,9,  -999.00,   5.4174
  320620151206, OOISO,    14,  1,      5,      5,2,20151224,   0,-54.3348, -89.3453, 4913,    132.0,   5.7372,  34.1975,2,  34.2025,2,    296.5,2,    294.8,2,  -999.00,9,  -999.00,9,  -999.00,9,  -999.00,9,     -999,9,   -999.0,9,-999.0000,9,  -999.00,   5.7263
  320620151206, OOISO,    14,  1,      6,      6,2,20151224,   0,-54.3348, -89.3453, 4913,    102.2,   6.3971,  34.1769,2,  34.1845,2,    301.3,2,    300.5,2,  -999.00,9,  -999.00,9,  -999.00,9,  -999.00,9,     -999,9,   -999.0,9,-999.0000,9,  -999.00,   6.3882
  320620151206, OOISO,    14,  1,      7,      7,2,20151224,   0,-54.3348, -89.3453, 4913,     82.4,   6.4428,  34.1772,2,  34.1783,2,    303.0,2,    209.6,3,  -999.00,9,  -999.00,9,  -999.00,9,  -999.00,9,     -999,9,   -999.0,9,-999.0000,9,  -999.00,   6.4356
  320620151206, OOISO,    14,  1,      8,      8,2,20151224,   0,-54.3348, -89.3453, 4913,     61.8,   6.4461,  34.1766,2,  34.1777,2,    304.4,2,    218.1,3,  -999.00,9,  -999.00,9,  -999.00,9,  -999.00,9,     -999,9,   -999.0,9,-999.0000,9,  -999.00,   6.4407
  320620151206, OOISO,    14,  1,      9,      9,2,20151224,   0,-54.3348, -89.3453, 4913,     40.5,   6.4558,  34.1762,2,  34.1798,2,    304.6,2,    302.6,2,  -999.00,9,  -999.00,9,  -999.00,9,  -999.00,9,     -999,9,   -999.0,9,-999.0000,9,  -999.00,   6.4523
  320620151206, OOISO,    14,  1,     10,     10,2,20151224,   0,-54.3348, -89.3453, 4913,     20.4,   6.4540,  34.1762,2,  34.1804,2,    305.0,2,    302.7,2,  -999.00,9,  -999.00,9,  -999.00,9,  -999.00,9,     -999,9,   -999.0,9,-999.0000,9,  -999.00,   6.4522
  320620151206, OOISO,    14,  1,     11,     11,2,20151224,   0,-54.3348, -89.3453, 4913,     11.8,   6.4911,  34.1760,2,  34.1748,2,    304.8,2,    302.8,2,  -999.00,9,  -999.00,9,  -999.00,9,  -999.00,9,     -999,9,   -999.0,9,-999.0000,9,  -999.00,   6.4901
  320620151206, OOISO,    14,  1,     12,     12,2,20151224,   0,-54.3348, -89.3453, 4913,      3.0,   6.5109,  34.1751,2,  34.1752,2,    304.5,2,    302.1,2,  -999.00,9,  -999.00,9,  -999.00,9,  -999.00,9,     -999,9,   -999.0,9,-999.0000,9,  -999.00,   6.5106
  320620151206, OOISO,    15,  1,      1,      1,2,20151226,   0,-54.4360, -89.2398, 4913,   4664.1,   0.7155,  34.7022,2,  34.7097,2,    204.6,2,    208.1,2,  -999.00,9,  -999.00,9,  -999.00,9,  -999.00,9,     -999,9,   -999.0,9,-999.0000,9,  -999.00,   0.3464
  320620151206, OOISO,    15,  1,      2,      2,2,20151226,   0,-54.4360, -89.2398, 4913,   4590.5,   0.7081,  34.7021,2,  34.7053,2,    204.2,2,    207.6,2,  -999.00,9,  -999.00,9,  -999.00,9,  -999.00,9,     -999,9,   -999.0,9,-999.0000,9,  -999.00,   0.3476
  320620151206, OOISO,    15,  1,      3,      3,2,20151226,   0,-54.4360, -89.2398, 4913,   4075.3,   0.9440,  34.7068,2,  34.7104,2,    200.4,2,    203.1,2,  -999.00,9,  -999.00,9,  -999.00,9,  -999.00,9,     -999,9,   -999.0,9,-999.0000,9,  -999.00,   0.6326
  320620151206, OOISO,    15,  1,      4,      4,2,20151226,   0,-54.4360, -89.2398, 4913,   3561.3,   1.3007,  34.7161,2,  34.7199,2,    195.0,2,    197.8,2,  -999.00,9,  -999.00,9,  -999.00,9,  -999.00,9,     -999,9,   -999.0,9,-999.0000,9,  -999.00,   1.0331
  320620151206, OOISO,    15,  1,      5,      5,2,20151226,   0,-54.4360, -89.2398, 4913,   3048.5,   1.5973,  34.7150,2,  34.7196,2,    186.0,2,    187.4,2,  -999.00,9,  -999.00,9,  -999.00,9,  -999.00,9,     -999,9,   -999.0,9,-999.0000,9,  -999.00,   1.3734
  320620151206, OOISO,    15,  1,      6,      6,2,20151226,   0,-54.4360, -89.2398, 4913,   2640.0,   1.8457,  34.7053,2,  34.7113,2,    177.8,2,    178.4,2,  -999.00,9,  -999.00,9,  -999.00,9,  -999.00,9,     -999,9,   -999.0,9,-999.0000,9,  -999.00,   1.6552
  320620151206, OOISO,    15,  1,      7,      7,2,20151226,   0,-54.4360, -89.2398, 4913,   2028.6,   2.2818,  34.6561,2,  34.6604,2,    171.5,2,    170.4,2,  -999.00,9,  -999.00,9,  -999.00,9,  -999.00,9,     -999,9,   -999.0,9,-999.0000,9,  -999.00,   2.1385
  320620151206, OOISO,    15,  1,      8,      8,2,20151226,   0,-54.4360, -89.2398, 4913,   1519.6,   2.6910,  34.5160,2,  34.5200,2,    171.6,2,    170.0,2,  -999.00,9,  -999.00,9,  -999.00,9,  -999.00,9,     -999,9,   -999.0,9,-999.0000,9,  -999.00,   2.5853
  320620151206, OOISO,    15,  1,      9,      9,2,20151226,   0,-54.4360, -89.2398, 4913,   1013.2,   3.7087,  34.3020,2,  34.3080,2,    206.8,2,    205.8,2,  -999.00,9,  -999.00,9,  -999.00,9,  -999.00,9,     -999,9,   -999.0,9,-999.0000,9,  -999.00,   3.6345
  320620151206, OOISO,    15,  1,     10,     10,2,20151226,   0,-54.4360, -89.2398, 4913,    505.7,   5.2068,  34.1814,2,  34.1861,2,    288.3,2,    290.2,2,  -999.00,9,  -999.00,9,  -999.00,9,  -999.00,9,     -999,9,   -999.0,9,-999.0000,9,  -999.00,   5.1659
  320620151206, OOISO,    15,  1,     11,     11,2,20151226,   0,-54.4360, -89.2398, 4913,    304.3,   5.3321,  34.1825,2,  34.1877,2,    294.5,2,    294.8,2,  -999.00,9,  -999.00,9,  -999.00,9,  -999.00,9,     -999,9,   -999.0,9,-999.0000,9,  -999.00,   5.3077
  320620151206, OOISO,    15,  1,     12,     12,2,20151226,   0,-54.4360, -89.2398, 4913,    162.2,   5.5657,  34.1894,2,  34.1942,2,    295.9,2,    296.1,2,  -999.00,9,  -999.00,9,  -999.00,9,  -999.00,9,     -999,9,   -999.0,9,-999.0000,9,  -999.00,   5.5525
  320620151206, OOISO,    16,  1,      1,      1,2,20151228,   0,-54.3332, -89.2128, 4913,   2028.3,   2.2401,  34.6526,2,  34.6551,2,    167.9,2,    167.3,2,    76.68,2,    34.47,2,     0.00,2,     2.39,2,     0.03,2,   2359.0,2,   7.5691,2,    24.91,   2.0975
  320620151206, OOISO,    16,  1,      2,      2,2,20151228,   0,-54.3332, -89.2128, 4913,   1824.2,   2.4154,  34.6172,2,  34.6176,2,    170.7,2,    169.3,2,    77.27,2,    34.45,2,     0.00,2,     2.38,2,     0.01,2,   2346.4,2,   7.5617,2,    24.91,   2.2877
  320620151206, OOISO,    16,  1,      3,      3,2,20151228,   0,-54.3332, -89.2128, 4913,   1519.0,   2.6580,  34.5188,2,  34.5185,2,    175.2,2,    173.2,2,    61.41,2,    35.08,2,     0.00,2,     2.41,2,     0.01,2,   2333.6,2,   7.5557,2,    24.92,   2.5527
  320620151206, OOISO,    16,  1,      4,      4,2,20151228,   0,-54.3332, -89.2128, 4913,   1214.6,   3.1551,  34.3844,2,  34.3864,2,    189.5,2,    188.1,2,    53.14,2,    34.41,2,     0.00,2,     2.37,2,     0.01,2,   2315.9,2,   7.5692,2,    24.92,   3.0694
  320620151206, OOISO,    16,  1,      5,      5,2,20151228,   0,-54.3332, -89.2128, 4913,   1011.9,   3.6605,  34.3003,2,  34.3024,2,    208.6,2,    206.6,2,    39.33,2,    32.70,2,     0.00,2,     2.25,2,        0,2,   2302.1,2,   7.5944,2,    24.92,   3.5868
  320620151206, OOISO,    16,  1,      6,      6,2,20151228,   0,-54.3332, -89.2128, 4913,    809.3,   4.4067,  34.2397,2,  34.2414,2,    229.3,2,    229.1,2,    25.22,2,    29.83,2,     0.00,2,     2.04,2,        0,2,   2288.0,2,   7.6238,2,    24.90,   4.3444
  320620151206, OOISO,    16,  1,      7,      7,2,20151228,   0,-54.3332, -89.2128, 4913,    708.1,   4.6623,  34.1997,2,  34.2012,2,    247.4,2,    247.6,2,    18.40,2,    27.81,2,     0.00,2,     1.90,2,        0,2,   2305.1,4,   7.6826,2,    25.04,   4.6070
  320620151206, OOISO,    16,  1,      8,      8,2,20151228,   0,-54.3332, -89.2128, 4913,    606.6,   4.8908,  34.1645,2,  34.1673,2,    273.6,2,    275.5,2,    11.59,2,    24.98,2,     0.00,2,     1.70,2,        0,2,   2283.2,2,   7.6989,2,    25.04,   4.8428
  320620151206, OOISO,    16,  1,      9,      9,2,20151228,   0,-54.3332, -89.2128, 4913,    506.8,   5.0065,  34.1597,2,  34.1598,2,    294.8,2,    296.1,2,     7.98,2,    22.70,2,     0.00,2,     1.58,2,     0.01,2,   2282.3,2,   7.7268,2,    25.04,   4.9664
  320620151206, OOISO,    16,  1,     10,     10,2,20151228,   0,-54.3332, -89.2128, 4913,    454.8,   5.1039,  34.1700,2,  34.1713,2,    295.9,2,    298.0,2,     7.50,2,    22.49,2,     0.00,2,     1.56,2,        0,2,   2278.1,2,   7.7274,2,    25.04,   5.0677
  320620151206, OOISO,    16,  1,     11,     11,2,20151228,   0,-54.3332, -89.2128, 4913,    404.3,   5.1556,  34.1738,2,  34.1718,2,    296.3,2,    298.7,2,     7.40,2,    22.34,2,     0.00,2,     1.55,2,     0.01,2,   2279.8,2,   7.7287,2,    25.04,   5.1234
  320620151206, OOISO,    16,  1,     12,     12,2,20151228,   0,-54.3332, -89.2128, 4913,    353.8,   5.2192,  34.1760,2,  34.1767,2,    295.6,2,    296.8,2,     7.40,2,    22.34,2,     0.00,2,     1.54,2,        0,2,   2277.7,2,   7.7225,2,    25.04,   5.1910
  320620151206, OOISO,    16,  1,     13,     13,2,20151228,   0,-54.3332, -89.2128, 4913,    301.8,   5.2125,  34.1662,2,  34.1661,2,    290.7,2,    291.8,2,     8.18,2,    22.72,2,     0.00,2,     1.56,2,        0,2,   2279.6,2,   7.7232,2,    25.04,   5.1886
  320620151206, OOISO,    16,  1,     14,     14,2,20151228,   0,-54.3332, -89.2128, 4913,    253.7,   5.3997,  34.1841,2,  34.1787,2,    290.6,2,    291.4,2,     7.50,2,    22.19,2,     0.00,2,     1.55,2,        0,2,   2282.4,2,   7.7313,2,    25.04,   5.3793
  320620151206, OOISO,    16,  1,     15,     15,2,20151228,   0,-54.3332, -89.2128, 4913,    202.1,   5.5231,  34.1918,2,  34.1942,2,    294.2,2,    295.2,2,     6.82,2,    21.65,2,     0.00,2,     1.51,2,        0,2,   2279.5,2,   7.7327,2,    25.04,   5.5067
  320620151206, OOISO,    16,  1,     16,     16,2,20151228,   0,-54.3332, -89.2128, 4913,    151.5,   5.6753,  34.1985,2,  34.1940,2,    293.1,2,    294.0,2,     6.52,2,    21.51,2,     0.02,2,     1.51,2,     0.29,2,   2281.8,2,   7.7393,2,    25.04,   5.6629
  320620151206, OOISO,    16,  1,     17,     17,2,20151228,   0,-54.3332, -89.2128, 4913,    131.6,   5.7827,  34.2003,2,  34.1971,2,    294.5,2,    296.1,2,     6.13,2,    20.98,2,     0.09,2,     1.49,2,     0.03,2,   2277.0,2,   7.7356,2,    25.04,   5.7718
  320620151206, OOISO,    16,  1,     18,     18,2,20151228,   0,-54.3332, -89.2128, 4913,    100.9,   5.9372,  34.1868,2,  34.1820,2,    297.9,2,    298.4,2,     5.65,2,    19.99,2,     0.15,2,     1.45,2,     0.39,2,   2277.0,2,   7.7475,2,    25.05,   5.9288
  320620151206, OOISO,    16,  1,     19,     19,2,20151228,   0,-54.3332, -89.2128, 4913,     80.9,   6.1786,  34.1701,2,  34.1671,2,    302.1,2,    303.1,2,     3.31,2,    19.16,2,     0.16,2,     1.35,2,      0.3,2,   2276.9,2,   7.7659,2,    25.06,   6.1717
  320620151206, OOISO,    16,  1,     20,     20,2,20151228,   0,-54.3332, -89.2128, 4913,     60.0,   6.2110,  34.1671,2,  34.1698,2,    303.0,2,    304.4,2,     3.02,2,    19.03,2,     0.16,2,     1.34,2,     0.26,2,   2279.1,2,   7.7700,2,    25.05,   6.2059
  320620151206, OOISO,    16,  1,     21,     21,2,20151228,   0,-54.3332, -89.2128, 4913,     52.2,   6.2561,  34.1633,2,  34.1671,2,    304.7,2,    305.4,2,     2.53,2,    18.98,2,     0.17,2,     1.31,2,     0.21,2,   2278.5,2,   7.7732,2,    25.05,   6.2516
  320620151206, OOISO,    16,  1,     22,     22,2,20151228,   0,-54.3332, -89.2128, 4913,     30.4,   6.3390,  34.1605,2,  34.1612,2,    306.4,2,    307.0,2,     1.85,2,    18.81,2,     0.18,2,     1.27,2,     0.06,2,   2277.9,2,   7.7784,2,    25.05,   6.3364
  320620151206, OOISO,    16,  1,     23,     23,2,20151228,   0,-54.3332, -89.2128, 4913,     12.0,   6.3997,  34.1620,2,  34.1562,2,    306.4,2,    307.9,2,     1.75,2,    18.73,2,     0.18,2,     1.26,2,     0.04,2,   2277.2,2,   7.7812,2,    25.04,   6.3987
  320620151206, OOISO,    16,  1,     24,     24,2,20151228,   0,-54.3332, -89.2128, 4913,      5.8,   6.4087,  34.1622,2,  34.1623,2,    306.5,2,    307.8,2,     1.75,2,    18.65,2,     0.19,2,     1.25,2,     0.05,2,   2279.0,2,   7.7817,2,    25.04,   6.4082