BOTTLE,20160728PRINUNIVRMK
EXPOCODE,SECT_ID,STNNBR,CASTNO,SAMPNO,BTLNBR,BTLNBR_FLAG_W,DATE,TIME,LATITUDE,LONGITUDE,DEPTH,CTDPRS,CTDTMP,CTDSAL,CTDSAL_FLAG_W,SALNTY,SALNTY_FLAG_W,CTDOXY,CTDOXY_FLAG_W,OXYGEN,OXYGEN_FLAG_W,SILCAT,SILCAT_FLAG_W,NITRAT,NITRAT_FLAG_W,NITRIT,NITRIT_FLAG_W,PHSPHT,PHSPHT_FLAG_W,NH4,NH4_FLAG_W,ALKALI,ALKALI_FLAG_W,PH_TOT,PH_TOT_FLAG_W,PH_TMP,THETA
,,,,,,,,,,,METERS,DBAR,ITS-90,PSS-78,,PSS-78,,UMOL/KG,,UMOL/KG,,UMOL/KG,,UMOL/KG,,UMOL/KG,,UMOL/KG,,UMOL/KG,,UMOL/KG,,,,DEG C,DEG C
  320620151206, OOISO,     9,  1,      1,      1,2,20151215,   0,-54.0843, -88.8605, 5052,   5040.6,   0.6998,  34.7053,2,  34.7057,2,    205.5,2,    209.7,2,  -999.00,9,  -999.00,9,  -999.00,9,  -999.00,9,     -999,9,   -999.0,9,-999.0000,9,  -999.00,   0.2878
  320620151206, OOISO,     9,  1,      2,      2,2,20151215,   0,-54.0843, -88.8605, 5052,   4075.5,   0.8172,  34.7093,2,  34.7079,2,    201.4,2,    205.8,2,  -999.00,9,  -999.00,9,  -999.00,9,  -999.00,9,     -999,9,   -999.0,9,-999.0000,9,  -999.00,   0.5095
  320620151206, OOISO,     9,  1,      3,      3,2,20151215,   0,-54.0843, -88.8605, 5052,   3048.6,   1.5625,  34.7169,2,  34.7158,2,    185.4,2,    189.4,2,  -999.00,9,  -999.00,9,  -999.00,9,  -999.00,9,     -999,9,   -999.0,9,-999.0000,9,  -999.00,   1.3394
  320620151206, OOISO,     9,  1,      4,      4,2,20151215,   0,-54.0843, -88.8605, 5052,   2027.2,   2.2809,  34.6623,2,  34.6600,2,    172.2,2,    184.3,3,  -999.00,9,  -999.00,9,  -999.00,9,  -999.00,9,     -999,9,   -999.0,9,-999.0000,9,  -999.00,   2.1377
  320620151206, OOISO,     9,  1,      5,      5,2,20151215,   0,-54.0843, -88.8605, 5052,   1519.2,   2.6643,  34.5160,2,  34.5148,2,    175.1,2,    210.1,3,  -999.00,9,  -999.00,9,  -999.00,9,  -999.00,9,     -999,9,   -999.0,9,-999.0000,9,  -999.00,   2.5589
  320620151206, OOISO,     9,  1,      6,      6,2,20151215,   0,-54.0843, -88.8605, 5052,   1012.1,   3.6116,  34.2981,2,  34.2296,3,    210.1,2,    238.3,3,  -999.00,9,  -999.00,9,  -999.00,9,  -999.00,9,     -999,9,   -999.0,9,-999.0000,9,  -999.00,   3.5383
  320620151206, OOISO,     9,  1,      7,      7,2,20151215,   0,-54.0843, -88.8605, 5052,    758.9,   4.5390,  34.2183,2,  34.2212,2,    236.3,2,    297.3,3,  -999.00,9,  -999.00,9,  -999.00,9,  -999.00,9,     -999,9,   -999.0,9,-999.0000,9,  -999.00,   4.4801
  320620151206, OOISO,     9,  1,      8,      8,2,20151215,   0,-54.0843, -88.8605, 5052,    505.6,   5.0294,  34.1657,2,  34.1645,2,    294.4,2,    294.4,2,  -999.00,9,  -999.00,9,  -999.00,9,  -999.00,9,     -999,9,   -999.0,9,-999.0000,9,  -999.00,   4.9893
  320620151206, OOISO,     9,  1,      9,      9,2,20151215,   0,-54.0843, -88.8605, 5052,    352.8,   5.1713,  34.1766,2,  34.1761,2,    296.8,2,    295.3,2,  -999.00,9,  -999.00,9,  -999.00,9,  -999.00,9,     -999,9,   -999.0,9,-999.0000,9,  -999.00,   5.1433
  320620151206, OOISO,     9,  1,     10,     10,2,20151215,   0,-54.0843, -88.8605, 5052,    252.5,   5.3312,  34.1785,2,  34.1755,2,    292.9,2,    306.2,2,  -999.00,9,  -999.00,9,  -999.00,9,  -999.00,9,     -999,9,   -999.0,9,-999.0000,9,  -999.00,   5.3110
  320620151206, OOISO,     9,  1,     11,     11,2,20151215,   0,-54.0843, -88.8605, 5052,    181.0,   5.5919,  34.1954,2,  34.1951,2,    292.7,2,    307.6,2,  -999.00,9,  -999.00,9,  -999.00,9,  -999.00,9,     -999,9,   -999.0,9,-999.0000,9,  -999.00,   5.5772
  320620151206, OOISO,     9,  1,     12,     12,2,20151215,   0,-54.0843, -88.8605, 5052,    131.9,   5.7632,  34.1995,2,  34.1993,2,    294.1,2,    310.1,2,  -999.00,9,  -999.00,9,  -999.00,9,  -999.00,9,     -999,9,   -999.0,9,-999.0000,9,  -999.00,   5.7523
  320620151206, OOISO,     9,  1,     13,     13,2,20151215,   0,-54.0843, -88.8605, 5052,     91.2,   6.0130,  34.1692,2,  34.1686,2,    303.8,2,   -999.0,9,  -999.00,9,  -999.00,9,  -999.00,9,  -999.00,9,     -999,9,   -999.0,9,-999.0000,9,  -999.00,   6.0053
  320620151206, OOISO,     9,  1,     14,     14,2,20151215,   0,-54.0843, -88.8605, 5052,     60.1,   6.0427,  34.1699,2,  34.1702,2,    305.5,2,   -999.0,9,  -999.00,9,  -999.00,9,  -999.00,9,  -999.00,9,     -999,9,   -999.0,9,-999.0000,9,  -999.00,   6.0377
  320620151206, OOISO,     9,  1,     15,     15,2,20151215,   0,-54.0843, -88.8605, 5052,     41.0,   6.0909,  34.1690,2,  34.1699,2,    308.7,2,   -999.0,9,  -999.00,9,  -999.00,9,  -999.00,9,  -999.00,9,     -999,9,   -999.0,9,-999.0000,9,  -999.00,   6.0874
  320620151206, OOISO,     9,  1,     16,     16,2,20151215,   0,-54.0843, -88.8605, 5052,     30.6,   6.1127,  34.1650,2,  34.1660,2,    308.5,2,   -999.0,9,  -999.00,9,  -999.00,9,  -999.00,9,  -999.00,9,     -999,9,   -999.0,9,-999.0000,9,  -999.00,   6.1101
  320620151206, OOISO,    10,  1,      1,      1,2,20151217,   0,-54.1287, -89.5533, 4897,   4789.3,   0.6916,  34.7017,2,  34.7045,2,    204.6,2,    210.2,2,  -999.00,9,  -999.00,9,  -999.00,9,  -999.00,9,     -999,9,   -999.0,9,-999.0000,9,  -999.00,   0.3091
  320620151206, OOISO,    10,  1,      2,      2,2,20151217,   0,-54.1287, -89.5533, 4897,   4074.7,   0.8422,  34.7055,2,  34.7033,2,    200.9,2,    206.0,2,  -999.00,9,  -999.00,9,  -999.00,9,  -999.00,9,     -999,9,   -999.0,9,-999.0000,9,  -999.00,   0.5339
  320620151206, OOISO,    10,  1,      3,      3,2,20151217,   0,-54.1287, -89.5533, 4897,   3049.2,   1.6086,  34.7150,2,  34.7102,2,    185.0,2,    188.7,2,  -999.00,9,  -999.00,9,  -999.00,9,  -999.00,9,     -999,9,   -999.0,9,-999.0000,9,  -999.00,   1.3845
  320620151206, OOISO,    10,  1,      4,      4,2,20151217,   0,-54.1287, -89.5533, 4897,   2027.8,   2.3123,  34.6484,2,  34.6416,2,    169.7,2,    173.0,2,  -999.00,9,  -999.00,9,  -999.00,9,  -999.00,9,     -999,9,   -999.0,9,-999.0000,9,  -999.00,   2.1687
  320620151206, OOISO,    10,  1,      5,      5,2,20151217,   0,-54.1287, -89.5533, 4897,   1519.3,   2.7025,  34.5089,2,  34.5111,2,    173.8,2,    212.2,3,  -999.00,9,  -999.00,9,  -999.00,9,  -999.00,9,     -999,9,   -999.0,9,-999.0000,9,  -999.00,   2.5967
  320620151206, OOISO,    10,  1,      6,      6,2,20151217,   0,-54.1287, -89.5533, 4897,   1013.1,   3.8413,  34.2885,2,  34.2863,2,    211.7,2,    258.6,3,  -999.00,9,  -999.00,9,  -999.00,9,  -999.00,9,     -999,9,   -999.0,9,-999.0000,9,  -999.00,   3.7661
  320620151206, OOISO,    10,  1,      7,      7,2,20151217,   0,-54.1287, -89.5533, 4897,    758.0,   4.6689,  34.1787,2,  34.1726,2,    256.7,2,    299.2,3,  -999.00,9,  -999.00,9,  -999.00,9,  -999.00,9,     -999,9,   -999.0,9,-999.0000,9,  -999.00,   4.6094
  320620151206, OOISO,    10,  1,      8,      8,2,20151217,   0,-54.1287, -89.5533, 4897,    505.4,   5.1440,  34.1668,2,  34.1693,2,    297.6,2,    293.7,2,  -999.00,9,  -999.00,9,  -999.00,9,  -999.00,9,     -999,9,   -999.0,9,-999.0000,9,  -999.00,   5.1034
  320620151206, OOISO,    10,  1,      9,      9,2,20151217,   0,-54.1287, -89.5533, 4897,    353.9,   5.3405,  34.1854,2,  34.1794,2,    295.5,2,    295.3,2,  -999.00,9,  -999.00,9,  -999.00,9,  -999.00,9,     -999,9,   -999.0,9,-999.0000,9,  -999.00,   5.3119
  320620151206, OOISO,    10,  1,     10,     10,2,20151217,   0,-54.1287, -89.5533, 4897,    252.4,   5.4540,  34.1906,2,  34.1927,2,    294.0,2,    301.4,2,  -999.00,9,  -999.00,9,  -999.00,9,  -999.00,9,     -999,9,   -999.0,9,-999.0000,9,  -999.00,   5.4336
  320620151206, OOISO,    10,  1,     11,     11,2,20151217,   0,-54.1287, -89.5533, 4897,    182.2,   5.5768,  34.1957,2,  34.1918,2,    295.7,2,    304.8,2,  -999.00,9,  -999.00,9,  -999.00,9,  -999.00,9,     -999,9,   -999.0,9,-999.0000,9,  -999.00,   5.5620
  320620151206, OOISO,    10,  1,     12,     12,2,20151217,   0,-54.1287, -89.5533, 4897,    131.6,   5.8059,  34.2017,2,  34.1968,2,    298.0,2,    308.3,2,  -999.00,9,  -999.00,9,  -999.00,9,  -999.00,9,     -999,9,   -999.0,9,-999.0000,9,  -999.00,   5.7950
  320620151206, OOISO,    10,  1,     13,     13,2,20151217,   0,-54.1287, -89.5533, 4897,     91.5,   6.2539,  34.1880,2,  34.1900,2,    302.7,2,   -999.0,9,  -999.00,9,  -999.00,9,  -999.00,9,  -999.00,9,     -999,9,   -999.0,9,-999.0000,9,  -999.00,   6.2460
  320620151206, OOISO,    10,  1,     14,     14,2,20151217,   0,-54.1287, -89.5533, 4897,     60.4,   6.4004,  34.1844,2,  34.1784,2,    305.6,2,   -999.0,9,  -999.00,9,  -999.00,9,  -999.00,9,  -999.00,9,     -999,9,   -999.0,9,-999.0000,9,  -999.00,   6.3952
  320620151206, OOISO,    10,  1,     15,     15,2,20151217,   0,-54.1287, -89.5533, 4897,     51.0,   6.4063,  34.1841,2,  34.1710,2,    307.4,2,   -999.0,9,  -999.00,9,  -999.00,9,  -999.00,9,  -999.00,9,     -999,9,   -999.0,9,-999.0000,9,  -999.00,   6.4019
  320620151206, OOISO,    10,  1,     16,     16,2,20151217,   0,-54.1287, -89.5533, 4897,     30.4,   6.5509,  34.1813,2,  34.1759,2,    311.1,2,   -999.0,9,  -999.00,9,  -999.00,9,  -999.00,9,  -999.00,9,     -999,9,   -999.0,9,-999.0000,9,  -999.00,   6.5482
  320620151206, OOISO,    11,  1,      1,      1,2,20151217,   0,-54.1170, -89.5988, 4897,   2028.7,   2.2756,  34.6456,2,  34.6478,2,    167.6,2,    166.2,2,  -999.00,9,  -999.00,9,  -999.00,9,  -999.00,9,     -999,9,   -999.0,9,-999.0000,9,  -999.00,   2.1324
  320620151206, OOISO,    11,  1,      2,      2,2,20151217,   0,-54.1170, -89.5988, 4897,   1519.2,   2.7092,  34.5143,2,  34.5090,2,    171.1,2,    168.9,2,  -999.00,9,  -999.00,9,  -999.00,9,  -999.00,9,     -999,9,   -999.0,9,-999.0000,9,  -999.00,   2.6033
  320620151206, OOISO,    11,  1,      3,      3,2,20151217,   0,-54.1170, -89.5988, 4897,   1012.5,   3.7274,  34.2809,2,  34.2834,2,    215.7,2,    213.5,2,  -999.00,9,  -999.00,9,  -999.00,9,  -999.00,9,     -999,9,   -999.0,9,-999.0000,9,  -999.00,   3.6532
  320620151206, OOISO,    11,  1,      4,      4,2,20151217,   0,-54.1170, -89.5988, 4897,    759.3,   4.6752,  34.1765,2,  34.1766,2,    258.8,2,    257.1,2,  -999.00,9,  -999.00,9,  -999.00,9,  -999.00,9,     -999,9,   -999.0,9,-999.0000,9,  -999.00,   4.6156
  320620151206, OOISO,    11,  1,      5,      5,2,20151217,   0,-54.1170, -89.5988, 4897,    505.2,   5.2698,  34.1854,2,  34.1867,2,    297.9,2,    293.6,2,  -999.00,9,  -999.00,9,  -999.00,9,  -999.00,9,     -999,9,   -999.0,9,-999.0000,9,  -999.00,   5.2287
  320620151206, OOISO,    11,  1,      6,      6,2,20151217,   0,-54.1170, -89.5988, 4897,    352.8,   5.2498,  34.1694,2,  34.1724,2,    296.5,2,    293.8,2,  -999.00,9,  -999.00,9,  -999.00,9,  -999.00,9,     -999,9,   -999.0,9,-999.0000,9,  -999.00,   5.2216
  320620151206, OOISO,    11,  1,      7,      7,2,20151217,   0,-54.1170, -89.5988, 4897,    352.7,   5.2523,  34.1700,2,  34.1868,2,    296.5,2,    302.2,2,  -999.00,9,  -999.00,9,  -999.00,9,  -999.00,9,     -999,9,   -999.0,9,-999.0000,9,  -999.00,   5.2241
  320620151206, OOISO,    11,  1,      8,      8,2,20151217,   0,-54.1170, -89.5988, 4897,    253.8,   5.4504,  34.1844,2,  34.2019,2,    296.0,2,    304.0,2,  -999.00,9,  -999.00,9,  -999.00,9,  -999.00,9,     -999,9,   -999.0,9,-999.0000,9,  -999.00,   5.4299
  320620151206, OOISO,    11,  1,      9,      9,2,20151217,   0,-54.1170, -89.5988, 4897,    181.9,   5.6252,  34.2008,2,  34.2048,2,    297.0,2,    310.1,2,  -999.00,9,  -999.00,9,  -999.00,9,  -999.00,9,     -999,9,   -999.0,9,-999.0000,9,  -999.00,   5.6103
  320620151206, OOISO,    11,  1,     10,     10,2,20151217,   0,-54.1170, -89.5988, 4897,    131.3,   5.7546,  34.2005,2,  34.1888,2,    298.9,2,   -999.0,9,  -999.00,9,  -999.00,9,  -999.00,9,  -999.00,9,     -999,9,   -999.0,9,-999.0000,9,  -999.00,   5.7438
  320620151206, OOISO,    11,  1,     11,     11,2,20151217,   0,-54.1170, -89.5988, 4897,     91.2,   6.3632,  34.1861,2,  34.1834,2,    304.6,2,   -999.0,9,  -999.00,9,  -999.00,9,  -999.00,9,  -999.00,9,     -999,9,   -999.0,9,-999.0000,9,  -999.00,   6.3553
  320620151206, OOISO,    11,  1,     12,     12,2,20151217,   0,-54.1170, -89.5988, 4897,     60.2,   6.3820,  34.1861,2,  34.1876,2,    306.6,2,   -999.0,9,  -999.00,9,  -999.00,9,  -999.00,9,  -999.00,9,     -999,9,   -999.0,9,-999.0000,9,  -999.00,   6.3768
  320620151206, OOISO,    11,  1,     13,     13,2,20151217,   0,-54.1170, -89.5988, 4897,     39.2,   6.4435,  34.1841,2,  34.1853,2,    310.7,2,   -999.0,9,  -999.00,9,  -999.00,9,  -999.00,9,  -999.00,9,     -999,9,   -999.0,9,-999.0000,9,  -999.00,   6.4401
  320620151206, OOISO,    11,  1,     14,     14,2,20151217,   0,-54.1170, -89.5988, 4897,     30.0,   6.5473,  34.1820,2,-999.0000,9,    313.1,2,   -999.0,9,  -999.00,9,  -999.00,9,  -999.00,9,  -999.00,9,     -999,9,   -999.0,9,-999.0000,9,  -999.00,   6.5447
  320620151206, OOISO,    12,  1,      1,      1,2,20151218,   0,-54.0830, -88.8912, 4967,   2028.4,   2.2801,  34.6603,2,  34.6629,2,    173.8,2,    176.7,2,  -999.00,9,  -999.00,9,  -999.00,9,  -999.00,9,     -999,9,   -999.0,9,-999.0000,9,  -999.00,   2.1368
  320620151206, OOISO,    12,  1,      2,      2,2,20151218,   0,-54.0830, -88.8912, 4967,   1520.0,   2.6798,  34.5178,2,  34.5171,2,    173.2,2,    171.7,2,  -999.00,9,  -999.00,9,  -999.00,9,  -999.00,9,     -999,9,   -999.0,9,-999.0000,9,  -999.00,   2.5742
  320620151206, OOISO,    12,  1,      3,      3,2,20151218,   0,-54.0830, -88.8912, 4967,   1010.8,   3.6215,  34.2960,2,  34.2916,2,    211.1,2,    210.4,2,  -999.00,9,  -999.00,9,  -999.00,9,  -999.00,9,     -999,9,   -999.0,9,-999.0000,9,  -999.00,   3.5482
  320620151206, OOISO,    12,  1,      4,      4,2,20151218,   0,-54.0830, -88.8912, 4967,    757.8,   4.5674,  34.2254,2,  34.2188,2,    237.0,2,    236.6,2,  -999.00,9,  -999.00,9,  -999.00,9,  -999.00,9,     -999,9,   -999.0,9,-999.0000,9,  -999.00,   4.5085
  320620151206, OOISO,    12,  1,      5,      5,2,20151218,   0,-54.0830, -88.8912, 4967,    506.1,   5.0533,  34.1640,2,  34.1652,2,    297.3,2,    297.2,2,  -999.00,9,  -999.00,9,  -999.00,9,  -999.00,9,     -999,9,   -999.0,9,-999.0000,9,  -999.00,   5.0130
  320620151206, OOISO,    12,  1,      6,      6,2,20151218,   0,-54.0830, -88.8912, 4967,    352.5,   5.3556,  34.1878,2,  34.1904,2,    295.2,2,    295.3,2,  -999.00,9,  -999.00,9,  -999.00,9,  -999.00,9,     -999,9,   -999.0,9,-999.0000,9,  -999.00,   5.3271
  320620151206, OOISO,    12,  1,      7,      7,2,20151218,   0,-54.0830, -88.8912, 4967,    252.4,   5.5065,  34.1949,2,  34.1958,2,    296.6,2,    294.9,2,  -999.00,9,  -999.00,9,  -999.00,9,  -999.00,9,     -999,9,   -999.0,9,-999.0000,9,  -999.00,   5.4860
  320620151206, OOISO,    12,  1,      8,      8,2,20151218,   0,-54.0830, -88.8912, 4967,    181.9,   5.6815,  34.2019,2,  34.2026,2,    296.7,2,    305.4,2,  -999.00,9,  -999.00,9,  -999.00,9,  -999.00,9,     -999,9,   -999.0,9,-999.0000,9,  -999.00,   5.6666
  320620151206, OOISO,    12,  1,      9,      9,2,20151218,   0,-54.0830, -88.8912, 4967,    131.1,   5.7962,  34.1675,2,  34.1703,2,    303.3,2,    309.6,2,  -999.00,9,  -999.00,9,  -999.00,9,  -999.00,9,     -999,9,   -999.0,9,-999.0000,9,  -999.00,   5.7854
  320620151206, OOISO,    12,  1,     10,     10,2,20151218,   0,-54.0830, -88.8912, 4967,     90.9,   6.0204,  34.1671,2,  34.1768,2,    307.7,2,    311.9,2,  -999.00,9,  -999.00,9,  -999.00,9,  -999.00,9,     -999,9,   -999.0,9,-999.0000,9,  -999.00,   6.0128
  320620151206, OOISO,    12,  1,     11,     11,2,20151218,   0,-54.0830, -88.8912, 4967,     60.0,   6.1842,  34.1655,2,  34.1652,2,    311.6,2,   -999.0,9,  -999.00,9,  -999.00,9,  -999.00,9,  -999.00,9,     -999,9,   -999.0,9,-999.0000,9,  -999.00,   6.1791
  320620151206, OOISO,    12,  1,     12,     12,2,20151218,   0,-54.0830, -88.8912, 4967,     40.7,   6.3783,  34.1678,2,  34.1657,2,    312.5,2,   -999.0,9,  -999.00,9,  -999.00,9,  -999.00,9,  -999.00,9,     -999,9,   -999.0,9,-999.0000,9,  -999.00,   6.3748
  320620151206, OOISO,    12,  1,     13,     13,2,20151218,   0,-54.0830, -88.8912, 4967,     30.5,   6.4072,  34.1686,2,  34.1707,2,    313.2,2,   -999.0,9,  -999.00,9,  -999.00,9,  -999.00,9,  -999.00,9,     -999,9,   -999.0,9,-999.0000,9,  -999.00,   6.4046
  320620151206, OOISO,    13,  1,      1,      1,2,20151220,   0,-54.1260, -89.7500, 4897,   1011.8,   3.8822,  34.2856,2,  34.2900,2,    214.0,2,    213.1,2,  -999.00,9,  -999.00,9,  -999.00,9,  -999.00,9,     -999,9,   -999.0,9,-999.0000,9,  -999.00,   3.8068
  320620151206, OOISO,    13,  1,      2,      2,2,20151220,   0,-54.1260, -89.7500, 4897,    808.1,   4.5235,  34.1967,2,  34.2037,2,    247.6,2,    244.8,2,  -999.00,9,  -999.00,9,  -999.00,9,  -999.00,9,     -999,9,   -999.0,9,-999.0000,9,  -999.00,   4.4606
  320620151206, OOISO,    13,  1,      3,      3,2,20151220,   0,-54.1260, -89.7500, 4897,    606.3,   5.0049,  34.1565,2,  34.1607,2,    288.1,2,    287.9,2,  -999.00,9,  -999.00,9,  -999.00,9,  -999.00,9,     -999,9,   -999.0,9,-999.0000,9,  -999.00,   4.9564
  320620151206, OOISO,    13,  1,      4,      4,2,20151220,   0,-54.1260, -89.7500, 4897,    405.1,   5.3085,  34.1858,2,  34.1902,2,    298.2,2,    298.7,2,  -999.00,9,  -999.00,9,  -999.00,9,  -999.00,9,     -999,9,   -999.0,9,-999.0000,9,  -999.00,   5.2757
  320620151206, OOISO,    13,  1,      5,      5,2,20151220,   0,-54.1260, -89.7500, 4897,    201.3,   5.5288,  34.1931,2,  34.1984,2,    295.2,2,    293.9,2,  -999.00,9,  -999.00,9,  -999.00,9,  -999.00,9,     -999,9,   -999.0,9,-999.0000,9,  -999.00,   5.5125
  320620151206, OOISO,    13,  1,      6,      6,2,20151220,   0,-54.1260, -89.7500, 4897,    100.6,   6.1776,  34.1862,2,  34.1915,2,    301.1,2,    300.9,2,  -999.00,9,  -999.00,9,  -999.00,9,  -999.00,9,     -999,9,   -999.0,9,-999.0000,9,  -999.00,   6.1690
  320620151206, OOISO,    13,  1,      7,      7,2,20151220,   0,-54.1260, -89.7500, 4897,     30.6,   6.8870,  34.1773,2,  34.1813,2,    310.5,2,    309.8,2,  -999.00,9,  -999.00,9,  -999.00,9,  -999.00,9,     -999,9,   -999.0,9,-999.0000,9,  -999.00,   6.8842
  320620151206, OOISO,    13,  1,      8,      8,2,20151220,   0,-54.1260, -89.7500, 4897,     10.3,   6.9151,  34.1764,2,  34.1825,2,    310.7,2,    309.8,2,  -999.00,9,  -999.00,9,  -999.00,9,  -999.00,9,     -999,9,   -999.0,9,-999.0000,9,  -999.00,   6.9142